BOTTLE,20221220CCHSIOAMB
EXPOCODE,SECT_ID,STNNBR,CASTNO,SAMPNO,GEOTR_EVENT,GEOTR_SAMPNO,BTLNBR,BTLNBR_FLAG_W,DATE,TIME,LATITUDE,LONGITUDE,DEPTH,CTDPRS,CTDTMP,CTDSAL,CTDSAL_FLAG_W,SALNTY,SALNTY_FLAG_W,CTDOXY,CTDOXY_FLAG_W,OXYGEN,OXYGEN_FLAG_W,SILCAT,SILCAT_FLAG_W,NITRAT,NITRAT_FLAG_W,NITRIT,NITRIT_FLAG_W,PHSPHT,PHSPHT_FLAG_W,CFC-11,CFC-11_FLAG_W,CFC-12,CFC-12_FLAG_W,CFC113,CFC113_FLAG_W,SF6,SF6_FLAG_W,TCARBN,TCARBN_FLAG_W,ALKALI,ALKALI_FLAG_W,PH_SWS,PH_SWS_FLAG_W,PH_TMP,DOC,DOC_FLAG_W,TRITUM,TRITUM_FLAG_W,HELIUM,HELIUM_FLAG_W,DELHE3,DELHE3_FLAG_W,REFTMP,REFTMP_FLAG_W,DELC13,DELC13_FLAG_W,DELC14,DELC14_FLAG_W,C14ERR,TDN,TDN_FLAG_W,DELO18,DELO18_FLAG_W,DELO17,DELO17_FLAG_W,CH4,CH4,CH4_FLAG_W,BTL_DATE,BTL_TIME,CTDDEPTH,BTL_LAT,BTL_LON,LAB_DEN,LAB_DEN_FLAG_W,SALTREF,SALTREF_FLAG_W
,,,,,,,,,,,,,METERS,DBAR,ITS-90,PSS-78,,PSS-78,,UMOL/KG,,UMOL/KG,,UMOL/KG,,UMOL/KG,,UMOL/KG,,UMOL/KG,,PMOL/KG,,PMOL/KG,,PMOL/KG,,FMOL/KG,,UMOL/KG,,UMOL/KG,,,,DEG C,UMOL/KG,,TU,,NMOL/KG,,PERCNT,,ITS-90,,/MILLE,,/MILLE,,/MILLE,UMOL/KG,,/MILLE,,/MILLE,,NMOL/KG,NMOL/L,,,,METERS,,,KG/M^3,,G/KG,
33HQ20150809  ,ARC01      ,2       ,  4,10         ,    6020,   10560,NIS-10     ,3,20150814,1015,  62.2018,-171.5863,       49,      3.9,   9.2885,  31.3534,2,  31.3549,2,    292.9,2,    292.9,2,     3.53,2,     0.00,2,     0.00,2,     0.49,2,    3.923,6,    2.224,6,    0.358,6,    2.611,6,   1961.4,2,   2136.5,6,   7.8624,6,    25.00,     -999,9,     -999,1,     -999,1,     -999,1,   9.2873,2,     2.03,2,     -999,1,     -999,     -999,9,     -999,1,     -999,9,     3.22,   3.2212,2,20150814,1023,      3.9,  62.2022,-171.5848,     -999,9,  31.5028,2
33HQ20150809  ,ARC01      ,2       ,  4,11         ,    6020,   10559,NIS-11     ,2,20150814,1015,  62.2018,-171.5863,       49,      4.1,   9.2892,  31.3534,2,  31.3555,2,    292.9,2,    296.9,4,     3.62,2,     0.00,2,     0.00,2,     0.50,2,     -999,9,     -999,9,     -999,9,     -999,9,     -999,9,     -999,9,     -999,9,     -999,     -999,9,     -999,9,     -999,9,     -999,9,   9.2876,2,     -999,9,     -999,9,     -999,     -999,9,     -999,9,     -999,9,     -999,     -999,9,20150814,1023,      4.0,  62.2023,-171.5848,     -999,9,  31.5033,2
33HQ20150809  ,ARC01      ,2       ,  4,12         ,    6020,   10558,NIS-12     ,3,20150814,1015,  62.2018,-171.5863,       49,      4.2,   9.2891,  31.3535,2,  31.3545,2,    292.9,2,    293.1,2,     3.53,2,     0.00,2,     0.00,2,     0.50,2,     -999,9,     -999,9,     -999,9,     -999,9,     -999,9,     -999,9,     -999,9,     -999,     -999,9,     -999,9,     -999,9,     -999,9,   9.2881,2,     -999,9,     -999,9,     -999,     -999,9,     -999,9,     -999,9,     -999,     -999,9,20150814,1023,      4.2,  62.2023,-171.5847,     -999,9,  31.5023,2
33HQ20150809  ,ARC01      ,2       ,  4,9          ,    6020,   10561,NIS-9      ,3,20150814,1015,  62.2018,-171.5863,       49,     19.4,   8.5106,  31.3554,2,  31.3490,2,    305.8,2,    306.7,2,     4.11,2,     0.00,2,     0.00,2,     0.51,2,     -999,9,     -999,9,     -999,9,     -999,9,     -999,9,     -999,9,     -999,9,     -999,     -999,9,     -999,9,     -999,9,     -999,9,   8.4143,4,     -999,9,     -999,9,     -999,     -999,9,     -999,9,     -999,9,     -999,     -999,9,20150814,1020,     19.2,  62.2021,-171.5853,     -999,9,  31.4968,2
33HQ20150809  ,ARC01      ,2       ,  4,8          ,    6020,   10562,NIS-8      ,2,20150814,1015,  62.2018,-171.5863,       49,     19.6,   8.2270,  31.3436,2,  31.3438,2,    305.7,2,    305.9,2,     4.11,2,     0.00,2,     0.00,2,     0.51,2,     -999,9,     -999,9,     -999,9,     -999,9,     -999,9,     -999,9,     -999,9,     -999,     -999,9,     -999,9,     -999,9,     -999,9,   8.4647,4,     -999,9,     -999,9,     -999,     -999,9,     -999,9,     -999,9,     -999,     -999,9,20150814,1020,     19.5,  62.2021,-171.5853,     -999,9,  31.4916,2
33HQ20150809  ,ARC01      ,2       ,  4,7          ,    6020,   10563,NIS-7      ,2,20150814,1015,  62.2018,-171.5863,       49,     19.6,   8.3684,  31.3463,2,  31.3512,2,    305.8,2,    307.3,2,     3.92,2,     0.00,2,     0.00,2,     0.50,2,    4.422,6,    2.493,6,    0.410,6,    2.997,6,   1961.2,6,   2136.6,2,   7.8653,2,    25.00,     -999,9,     -999,1,     -999,1,     -999,1,   8.5628,4,     2.04,2,     -999,1,     -999,     -999,9,     -999,1,     -999,9,     3.91,   3.9140,2,20150814,1020,     19.5,  62.2021,-171.5853,     -999,9,  31.4990,2
33HQ20150809  ,ARC01      ,2       ,  4,5          ,    6020,   10565,NIS-5      ,2,20150814,1015,  62.2018,-171.5863,       49,     34.0,   0.0617,  31.6019,2,  31.5753,2,    270.0,2,    270.8,2,    29.96,2,     4.84,2,     0.22,2,     1.49,2,     -999,9,     -999,9,     -999,9,     -999,9,     -999,9,     -999,9,     -999,9,     -999,     -999,9,     -999,9,     -999,9,     -999,9,   0.0661,2,     -999,9,     -999,9,     -999,     -999,9,     -999,9,     -999,9,     -999,     -999,9,20150814,1017,     33.6,  62.2019,-171.5859,     -999,9,  31.7242,2
33HQ20150809  ,ARC01      ,2       ,  4,6          ,    6020,   10564,NIS-6      ,2,20150814,1015,  62.2018,-171.5863,       49,     34.3,   0.0574,  31.6009,2,  31.5789,2,    270.0,2,    270.9,2,    30.06,2,     4.84,2,     0.22,2,     1.48,2,     -999,9,     -999,9,     -999,9,     -999,9,     -999,9,     -999,9,     -999,9,     -999,     -999,9,     -999,9,     -999,9,     -999,9,   0.0552,2,     -999,9,     -999,9,     -999,     -999,9,     -999,9,     -999,9,     -999,     -999,9,20150814,1018,     33.9,  62.2019,-171.5858,     -999,9,  31.7278,2
33HQ20150809  ,ARC01      ,2       ,  4,4          ,    6020,   10566,NIS-4      ,3,20150814,1015,  62.2018,-171.5863,       49,     34.3,   0.0733,  31.6063,2,  31.5862,2,    270.0,2,    270.3,2,    29.96,2,     4.83,2,     0.22,2,     1.48,2,    5.725,6,    3.361,6,    0.558,6,    3.833,6,   1984.2,4,   2156.6,6,   7.4497,6,    25.00,     -999,9,     -999,1,     -999,1,     -999,1,   0.0600,2,     0.08,2,     -999,1,     -999,     -999,9,     -999,1,     -999,9,    10.37,  10.3701,2,20150814,1017,     34.0,  62.2019,-171.5859,     -999,9,  31.7351,2
33HQ20150809  ,ARC01      ,2       ,  4,1          ,    6020,   10569,NIS-1      ,2,20150814,1015,  62.2018,-171.5863,       49,     41.1,   0.1309,  31.6321,2,  31.6317,2,    268.7,2,    269.0,2,    29.96,2,     4.83,2,     0.21,2,     1.50,2,    5.675,6,    3.395,6,    0.550,6,    3.460,2,   2123.3,6,   2158.5,2,   7.4487,2,    25.00,     -999,9,     -999,1,     -999,1,     -999,1,   0.1310,2,     0.06,2,     -999,1,     -999,     -999,9,     -999,1,     -999,9,     9.71,   9.7126,2,20150814,1014,     40.7,  62.2018,-171.5864,     -999,9,  31.7808,2
33HQ20150809  ,ARC01      ,2       ,  4,3          ,    6020,   10567,NIS-3      ,2,20150814,1015,  62.2018,-171.5863,       49,     41.2,   0.1251,  31.6295,2,  31.6285,2,    268.7,2,    269.4,2,    29.86,2,     4.82,2,     0.22,2,     1.51,2,     -999,9,     -999,9,     -999,9,     -999,9,     -999,9,     -999,9,     -999,9,     -999,     -999,9,     -999,9,     -999,9,     -999,9,   0.1263,2,     -999,9,     -999,9,     -999,     -999,9,     -999,9,     -999,9,     -999,     -999,9,20150814,1014,     40.8,  62.2018,-171.5864,     -999,9,  31.7776,2
33HQ20150809  ,ARC01      ,2       ,  4,2          ,    6020,   10568,NIS-2      ,2,20150814,1015,  62.2018,-171.5863,       49,     41.2,   0.1296,  31.6315,2,  31.6275,2,    268.7,2,    268.0,2,    29.96,2,     4.83,2,     0.21,2,     1.52,2,     -999,9,     -999,9,     -999,9,     -999,9,     -999,9,     -999,9,     -999,9,     -999,     -999,9,     -999,9,     -999,9,     -999,9,   0.1305,2,     -999,9,     -999,9,     -999,     -999,9,     -999,9,     -999,9,     -999,     -999,9,20150814,1014,     40.8,  62.2018,-171.5864,     -999,9,  31.7767,2
33HQ20150809  ,ARC01      ,2       ,  7,12         ,    6024,   10578,NIS-12     ,2,20150814,1653,  62.2593,-171.6407,       49,      4.9,   9.2860,  31.3529,2,     -999,9,    292.8,2,     -999,9,     -999,9,     -999,9,     -999,9,     -999,9,     -999,9,     -999,9,     -999,9,     -999,9,     -999,9,     -999,9,     -999,9,     -999,     -999,9,     -999,9,     -999,9,     -999,9,     -999,9,     -999,9,     -999,9,     -999,     -999,9,     -999,9,     -999,9,     -999,     -999,9,20150814,1702,      4.8,  62.2612,-171.6418,     -999,9,     -999,9
33HQ20150809  ,ARC01      ,2       ,  7,11         ,    6024,   10578,NIS-11     ,2,20150814,1653,  62.2593,-171.6407,       49,      4.9,   9.2898,  31.3522,2,  31.3559,2,    292.8,2,    292.8,2,     3.62,2,     0.00,2,     0.00,2,     0.49,2,     -999,9,     -999,9,     -999,9,     -999,9,     -999,9,     -999,9,     -999,9,     -999,     -999,9,     -999,9,     -999,9,     -999,9,   9.2821,2,     -999,9,     -999,9,     -999,     -999,9,     -999,9,     -999,9,     -999,     -999,9,20150814,1702,      4.9,  62.2612,-171.6418,     -999,9,  31.5038,2
33HQ20150809  ,ARC01      ,2       ,  7,10         ,    6024,   10577,NIS-10     ,3,20150814,1653,  62.2593,-171.6407,       49,     11.8,   9.2515,  31.3886,2,     -999,9,    294.1,2,     -999,9,     -999,9,     -999,9,     -999,9,     -999,9,     -999,9,     -999,9,     -999,9,     -999,9,     -999,9,     -999,9,     -999,9,     -999,     -999,9,     -999,9,     -999,9,     -999,9,   9.2412,2,     -999,9,     -999,9,     -999,     -999,9,     -999,9,     -999,9,     -999,     -999,9,20150814,1700,     11.7,  62.2608,-171.6416,     -999,9,     -999,9
33HQ20150809  ,ARC01      ,2       ,  7,9          ,    6024,   10577,NIS-9      ,3,20150814,1653,  62.2593,-171.6407,       49,     11.9,   9.2499,  31.3883,2,  31.3925,2,    294.1,2,    295.6,2,     3.72,2,     0.00,2,     0.00,2,     0.48,2,     -999,9,     -999,9,     -999,9,     -999,9,     -999,9,     -999,9,     -999,9,     -999,     -999,9,     -999,9,     -999,9,     -999,9,   9.2455,2,     -999,9,     -999,9,     -999,     -999,9,     -999,9,     -999,9,     -999,     -999,9,20150814,1700,     11.8,  62.2608,-171.6416,     -999,9,  31.5405,2
33HQ20150809  ,ARC01      ,2       ,  7,8          ,    6024,   10576,NIS-8      ,2,20150814,1653,  62.2593,-171.6407,       49,     19.9,   5.2274,  31.5364,2,     -999,9,    332.2,2,     -999,9,     -999,9,     -999,9,     -999,9,     -999,9,     -999,9,     -999,9,     -999,9,     -999,9,     -999,9,     -999,9,     -999,9,     -999,     -999,9,     -999,9,     -999,9,     -999,9,   5.2295,2,     -999,9,     -999,9,     -999,     -999,9,     -999,9,     -999,9,     -999,     -999,9,20150814,1658,     19.7,  62.2604,-171.6414,     -999,9,     -999,9
33HQ20150809  ,ARC01      ,2       ,  7,7          ,    6024,   10576,NIS-7      ,2,20150814,1653,  62.2593,-171.6407,       49,     20.0,   5.2316,  31.5361,2,  31.5515,2,    332.2,2,    336.9,2,     6.27,2,     0.23,2,     0.03,2,     0.51,2,     -999,9,     -999,9,     -999,9,     -999,9,     -999,9,     -999,9,     -999,9,     -999,     -999,9,     -999,9,     -999,9,     -999,9,   5.2634,4,     -999,9,     -999,9,     -999,     -999,9,     -999,9,     -999,9,     -999,     -999,9,20150814,1658,     19.8,  62.2604,-171.6413,     -999,9,  31.7003,2
33HQ20150809  ,ARC01      ,2       ,  7,5          ,    6024,   10575,NIS-5      ,2,20150814,1653,  62.2593,-171.6407,       49,     33.3,   1.0765,  31.7644,2,  31.7653,2,    280.9,2,    282.1,2,    22.52,2,     3.55,2,     0.14,2,     1.18,2,     -999,9,     -999,9,     -999,9,     -999,9,     -999,9,     -999,9,     -999,9,     -999,     -999,9,     -999,9,     -999,9,     -999,9,   1.0763,2,     -999,9,     -999,9,     -999,     -999,9,     -999,9,     -999,9,     -999,     -999,9,20150814,1656,     33.0,  62.2600,-171.6412,     -999,9,  31.9151,2
33HQ20150809  ,ARC01      ,2       ,  7,6          ,    6024,   10575,NIS-6      ,2,20150814,1653,  62.2593,-171.6407,       49,     33.4,   1.0769,  31.7645,2,     -999,9,    281.0,2,     -999,9,     -999,9,     -999,9,     -999,9,     -999,9,     -999,9,     -999,9,     -999,9,     -999,9,     -999,9,     -999,9,     -999,9,     -999,     -999,9,     -999,9,     -999,9,     -999,9,   1.0766,2,     -999,9,     -999,9,     -999,     -999,9,     -999,9,     -999,9,     -999,     -999,9,20150814,1657,     33.1,  62.2601,-171.6412,     -999,9,     -999,9
33HQ20150809  ,ARC01      ,2       ,  7,4          ,    6024,   10574,NIS-4      ,2,20150814,1653,  62.2593,-171.6407,       49,     39.8,   1.0773,  31.7667,2,     -999,9,    281.5,2,     -999,9,     -999,9,     -999,9,     -999,9,     -999,9,     -999,9,     -999,9,     -999,9,     -999,9,     -999,9,     -999,9,     -999,9,     -999,     -999,9,     -999,9,     -999,9,     -999,9,   1.0767,2,     -999,9,     -999,9,     -999,     -999,9,     -999,9,     -999,9,     -999,     -999,9,20150814,1655,     39.4,  62.2597,-171.6410,     -999,9,     -999,9
33HQ20150809  ,ARC01      ,2       ,  7,3          ,    6024,   10574,NIS-3      ,2,20150814,1653,  62.2593,-171.6407,       49,     39.8,   1.0772,  31.7668,2,  31.7659,2,    281.5,2,    281.4,2,    22.62,2,     3.56,2,     0.14,2,     1.20,2,     -999,9,     -999,9,     -999,9,     -999,9,     -999,9,     -999,9,     -999,9,     -999,     -999,9,     -999,9,     -999,9,     -999,9,   1.0775,2,     -999,9,     -999,9,     -999,     -999,9,     -999,9,     -999,9,     -999,     -999,9,20150814,1655,     39.4,  62.2597,-171.6410,     -999,9,  31.9157,2
33HQ20150809  ,ARC01      ,2       ,  7,2          ,    6024,   10573,NIS-2      ,2,20150814,1653,  62.2593,-171.6407,       49,     45.5,   1.0762,  31.7681,2,     -999,9,    280.5,2,     -999,9,     -999,9,     -999,9,     -999,9,     -999,9,     -999,9,     -999,9,     -999,9,     -999,9,     -999,9,     -999,9,     -999,9,     -999,     -999,9,     -999,9,     -999,9,     -999,9,   1.0760,2,     -999,9,     -999,9,     -999,     -999,9,     -999,9,     -999,9,     -999,     -999,9,20150814,1652,     45.0,  62.2592,-171.6407,     -999,9,     -999,9
33HQ20150809  ,ARC01      ,2       ,  7,1          ,    6024,   10573,NIS-1      ,2,20150814,1653,  62.2593,-171.6407,       49,     45.5,   1.0756,  31.7683,2,  31.7669,2,    280.5,2,    281.3,2,    22.71,2,     3.58,2,     0.14,2,     1.20,2,     -999,9,     -999,9,     -999,9,     -999,9,     -999,9,     -999,9,     -999,9,     -999,     -999,9,     -999,9,     -999,9,     -999,9,   1.0757,2,     -999,9,     -999,9,     -999,     -999,9,     -999,9,     -999,9,     -999,     -999,9,20150814,1652,     45.0,  62.2591,-171.6406,     -999,9,  31.9167,2
33HQ20150809  ,ARC01      ,2       , 25,25         ,    6023,   10572,SMBT       ,2,20150814,1746,  62.2693,-171.6460,       49,      1.0,   9.2743,  31.3550,2,  31.4043,2,     -999,9,     -999,9,     3.23,2,     0.00,2,     0.00,2,     0.46,2,     -999,9,     -999,9,     -999,9,     -999,9,     -999,9,     -999,9,     -999,9,     -999,     -999,9,     -999,9,     -999,9,     -999,9,     -999,9,     -999,9,     -999,9,     -999,     -999,9,     -999,9,     -999,9,     -999,     -999,9,20150814,1747,      1.0,  62.2695,-171.6461,     -999,9,  31.5524,2