BOTTLE,20221220CCHSIOAMB
EXPOCODE,SECT_ID,STNNBR,CASTNO,SAMPNO,GEOTR_EVENT,GEOTR_SAMPNO,BTLNBR,BTLNBR_FLAG_W,DATE,TIME,LATITUDE,LONGITUDE,DEPTH,CTDPRS,CTDTMP,CTDSAL,CTDSAL_FLAG_W,SALNTY,SALNTY_FLAG_W,CTDOXY,CTDOXY_FLAG_W,OXYGEN,OXYGEN_FLAG_W,SILCAT,SILCAT_FLAG_W,NITRAT,NITRAT_FLAG_W,NITRIT,NITRIT_FLAG_W,PHSPHT,PHSPHT_FLAG_W,CFC-11,CFC-11_FLAG_W,CFC-12,CFC-12_FLAG_W,CFC113,CFC113_FLAG_W,SF6,SF6_FLAG_W,TCARBN,TCARBN_FLAG_W,ALKALI,ALKALI_FLAG_W,PH_SWS,PH_SWS_FLAG_W,PH_TMP,DOC,DOC_FLAG_W,TRITUM,TRITUM_FLAG_W,HELIUM,HELIUM_FLAG_W,DELHE3,DELHE3_FLAG_W,REFTMP,REFTMP_FLAG_W,DELC13,DELC13_FLAG_W,DELC14,DELC14_FLAG_W,C14ERR,TDN,TDN_FLAG_W,DELO18,DELO18_FLAG_W,DELO17,DELO17_FLAG_W,CH4,CH4,CH4_FLAG_W,BTL_DATE,BTL_TIME,CTDDEPTH,BTL_LAT,BTL_LON,LAB_DEN,LAB_DEN_FLAG_W,SALTREF,SALTREF_FLAG_W
,,,,,,,,,,,,,METERS,DBAR,ITS-90,PSS-78,,PSS-78,,UMOL/KG,,UMOL/KG,,UMOL/KG,,UMOL/KG,,UMOL/KG,,UMOL/KG,,PMOL/KG,,PMOL/KG,,PMOL/KG,,FMOL/KG,,UMOL/KG,,UMOL/KG,,,,DEG C,UMOL/KG,,TU,,NMOL/KG,,PERCNT,,ITS-90,,/MILLE,,/MILLE,,/MILLE,UMOL/KG,,/MILLE,,/MILLE,,NMOL/KG,NMOL/L,,,,METERS,,,KG/M^3,,G/KG,
33HQ20150809  ,ARC01      ,56      ,  5,36         ,    6428,   12079,GSNIS-36   ,2,20151001,0015,  75.0474,-150.3710,     3836,     10.1,  -1.0160,  25.3921,2,     -999,9,    382.2,2,     -999,9,     2.16,2,     0.00,2,     0.00,2,     0.53,2,     -999,9,     -999,9,     -999,9,     -999,9,     -999,9,     -999,9,     -999,9,     -999,     -999,9,     -999,9,     -999,9,     -999,9,  -1.0156,2,     -999,9,     -999,9,     -999,     -999,9,     -999,9,     -999,9,     -999,     -999,9,20151001,0033,     10.0,  74.9457,-150.1460,     -999,9,     -999,9
33HQ20150809  ,ARC01      ,56      ,  5,35         ,    6428,   12079,GSNIS-35   ,2,20151001,0015,  75.0474,-150.3710,     3836,     10.4,  -1.0197,  25.3920,2,     -999,9,    382.2,2,     -999,9,     2.16,2,     0.01,2,     0.00,2,     0.52,2,     -999,9,     -999,9,     -999,9,     -999,9,     -999,9,     -999,9,     -999,9,     -999,     -999,9,     -999,9,     -999,9,     -999,9,  -1.0187,2,     -999,9,     -999,9,     -999,     -999,9,     -999,9,     -999,9,     -999,     -999,9,20151001,0032,     10.3,  74.9458,-150.1461,     -999,9,     -999,9
33HQ20150809  ,ARC01      ,56      ,  5,32         ,    6428,   12079,GSNIS-32   ,2,20151001,0015,  75.0474,-150.3710,     3836,     10.4,  -1.0131,  25.3921,2,     -999,9,    382.2,2,     -999,9,     2.16,2,     0.00,2,     0.00,2,     0.52,2,     -999,9,     -999,9,     -999,9,     -999,9,     -999,9,     -999,9,     -999,9,     -999,     -999,9,     -999,9,     -999,9,     -999,9,  -1.0127,2,     -999,9,     -999,9,     -999,     -999,9,     -999,9,     -999,9,     -999,     -999,9,20151001,0032,     10.3,  74.9460,-150.1463,     -999,9,     -999,9
33HQ20150809  ,ARC01      ,56      ,  5,31         ,    6428,   12079,GSNIS-31   ,2,20151001,0015,  75.0474,-150.3710,     3836,     10.5,  -1.0123,  25.3923,2,  25.4372,2,    382.2,2,    382.2,2,     2.07,2,     0.00,2,     0.00,2,     0.50,2,     -999,9,     -999,9,     -999,9,     -999,9,     -999,9,     -999,9,     -999,9,     -999,     -999,9,     -999,9,     -999,9,     -999,9,  -1.0122,2,     -999,9,     -999,9,     -999,     -999,9,     -999,9,     -999,9,     -999,     -999,9,20151001,0032,     10.4,  74.9461,-150.1464,     -999,9,  25.5572,2
33HQ20150809  ,ARC01      ,56      ,  5,34         ,    6428,   12079,GSNIS-34   ,2,20151001,0015,  75.0474,-150.3710,     3836,     10.5,  -1.0212,  25.3922,2,     -999,9,    382.2,2,     -999,9,     2.07,2,     0.00,2,     0.00,2,     0.52,2,     -999,9,     -999,9,     -999,9,     -999,9,     -999,9,     -999,9,     -999,9,     -999,     -999,9,     -999,9,     -999,9,     -999,9,  -1.0171,2,     -999,9,     -999,9,     -999,     -999,9,     -999,9,     -999,9,     -999,     -999,9,20151001,0032,     10.4,  74.9459,-150.1462,     -999,9,     -999,9
33HQ20150809  ,ARC01      ,56      ,  5,33         ,    6428,   12079,GSNIS-33   ,2,20151001,0015,  75.0474,-150.3710,     3836,     10.5,  -1.0156,  25.3923,2,     -999,9,    382.2,2,     -999,9,     2.07,2,     0.00,2,     0.00,2,     0.51,2,     -999,9,     -999,9,     -999,9,     -999,9,     -999,9,     -999,9,     -999,9,     -999,     -999,9,     -999,9,     -999,9,     -999,9,  -1.0141,2,     -999,9,     -999,9,     -999,     -999,9,     -999,9,     -999,9,     -999,     -999,9,20151001,0032,     10.4,  74.9459,-150.1463,     -999,9,     -999,9
33HQ20150809  ,ARC01      ,56      ,  5,29         ,    6428,   12080,GSNIS-29   ,2,20151001,0015,  75.0474,-150.3710,     3836,     25.3,  -0.5458,  27.4871,2,     -999,9,    402.2,2,     -999,9,     2.36,2,     0.00,2,     0.00,2,     0.56,2,     -999,9,     -999,9,     -999,9,     -999,9,     -999,9,     -999,9,     -999,9,     -999,     -999,9,     -999,9,     -999,9,     -999,9,  -0.5445,2,     -999,9,     -999,9,     -999,     -999,9,     -999,9,     -999,9,     -999,     -999,9,20151001,0030,     25.0,  74.9468,-150.1470,     -999,9,     -999,9
33HQ20150809  ,ARC01      ,56      ,  5,26         ,    6428,   12080,GSNIS-26   ,2,20151001,0015,  75.0474,-150.3710,     3836,     25.4,  -0.5590,  27.4920,2,     -999,9,    402.2,2,     -999,9,     2.26,2,     0.00,2,     0.00,2,     0.55,2,     -999,9,     -999,9,     -999,9,     -999,9,     -999,9,     -999,9,     -999,9,     -999,     -999,9,     -999,9,     -999,9,     -999,9,  -0.5572,2,     -999,9,     -999,9,     -999,     -999,9,     -999,9,     -999,9,     -999,     -999,9,20151001,0029,     25.1,  74.9471,-150.1471,     -999,9,     -999,9
33HQ20150809  ,ARC01      ,56      ,  5,27         ,    6428,   12080,GSNIS-27   ,2,20151001,0015,  75.0474,-150.3710,     3836,     25.4,  -0.5591,  27.4915,2,     -999,9,    402.2,2,     -999,9,     2.26,2,     0.00,2,     0.00,2,     0.55,2,     -999,9,     -999,9,     -999,9,     -999,9,     -999,9,     -999,9,     -999,9,     -999,     -999,9,     -999,9,     -999,9,     -999,9,  -0.5531,2,     -999,9,     -999,9,     -999,     -999,9,     -999,9,     -999,9,     -999,     -999,9,20151001,0030,     25.1,  74.9470,-150.1470,     -999,9,     -999,9
33HQ20150809  ,ARC01      ,56      ,  5,25         ,    6428,   12080,GSNIS-25   ,2,20151001,0015,  75.0474,-150.3710,     3836,     25.4,  -0.5519,  27.4906,2,  27.4854,2,    402.2,2,    402.0,2,     2.26,2,     0.00,2,     0.00,2,     0.55,2,     -999,9,     -999,9,     -999,9,     -999,9,     -999,9,     -999,9,     -999,9,     -999,     -999,9,     -999,9,     -999,9,     -999,9,  -0.5455,2,     -999,9,     -999,9,     -999,     -999,9,     -999,9,     -999,9,     -999,     -999,9,20151001,0029,     25.1,  74.9471,-150.1471,     -999,9,  27.6150,2
33HQ20150809  ,ARC01      ,56      ,  5,28         ,    6428,   12080,GSNIS-28   ,2,20151001,0015,  75.0474,-150.3710,     3836,     25.4,  -0.5532,  27.4894,2,     -999,9,    402.2,2,     -999,9,     2.36,2,     0.00,2,     0.00,2,     0.56,2,     -999,9,     -999,9,     -999,9,     -999,9,     -999,9,     -999,9,     -999,9,     -999,     -999,9,     -999,9,     -999,9,     -999,9,  -0.5517,2,     -999,9,     -999,9,     -999,     -999,9,     -999,9,     -999,9,     -999,     -999,9,20151001,0030,     25.1,  74.9469,-150.1470,     -999,9,     -999,9
33HQ20150809  ,ARC01      ,56      ,  5,30         ,    6428,   12080,GSNIS-30   ,2,20151001,0015,  75.0474,-150.3710,     3836,     25.4,  -0.5502,  27.4883,2,     -999,9,    402.2,2,     -999,9,     2.36,2,     0.00,2,     0.00,2,     0.56,2,     -999,9,     -999,9,     -999,9,     -999,9,     -999,9,     -999,9,     -999,9,     -999,     -999,9,     -999,9,     -999,9,     -999,9,  -0.5432,2,     -999,9,     -999,9,     -999,     -999,9,     -999,9,     -999,9,     -999,     -999,9,20151001,0030,     25.1,  74.9467,-150.1469,     -999,9,     -999,9
33HQ20150809  ,ARC01      ,56      ,  5,20         ,    6428,   12081,GSNIS-20   ,2,20151001,0015,  75.0474,-150.3710,     3836,     40.8,  -0.9209,  27.7505,2,     -999,9,    401.7,2,     -999,9,     2.36,2,     0.00,2,     0.00,2,     0.57,2,     -999,9,     -999,9,     -999,9,     -999,9,     -999,9,     -999,9,     -999,9,     -999,     -999,9,     -999,9,     -999,9,     -999,9,  -0.9239,2,     -999,9,     -999,9,     -999,     -999,9,     -999,9,     -999,9,     -999,     -999,9,20151001,0027,     40.4,  74.9482,-150.1475,     -999,9,     -999,9
33HQ20150809  ,ARC01      ,56      ,  5,23         ,    6428,   12081,GSNIS-23   ,2,20151001,0015,  75.0474,-150.3710,     3836,     40.9,  -0.9336,  27.7498,2,     -999,9,    401.7,2,     -999,9,     2.36,2,     0.00,2,     0.00,2,     0.56,2,     -999,9,     -999,9,     -999,9,     -999,9,     -999,9,     -999,9,     -999,9,     -999,     -999,9,     -999,9,     -999,9,     -999,9,  -0.9318,2,     -999,9,     -999,9,     -999,     -999,9,     -999,9,     -999,9,     -999,     -999,9,20151001,0027,     40.5,  74.9479,-150.1474,     -999,9,     -999,9
33HQ20150809  ,ARC01      ,56      ,  5,21         ,    6428,   12081,GSNIS-21   ,2,20151001,0015,  75.0474,-150.3710,     3836,     40.9,  -0.9345,  27.7529,2,     -999,9,    401.7,2,     -999,9,     2.36,2,     0.00,2,     0.00,2,     0.57,2,     -999,9,     -999,9,     -999,9,     -999,9,     -999,9,     -999,9,     -999,9,     -999,     -999,9,     -999,9,     -999,9,     -999,9,  -0.9326,2,     -999,9,     -999,9,     -999,     -999,9,     -999,9,     -999,9,     -999,     -999,9,20151001,0027,     40.5,  74.9481,-150.1474,     -999,9,     -999,9
33HQ20150809  ,ARC01      ,56      ,  5,22         ,    6428,   12081,GSNIS-22   ,2,20151001,0015,  75.0474,-150.3710,     3836,     40.9,  -0.9282,  27.7543,2,     -999,9,    401.7,2,     -999,9,     2.36,2,     0.00,2,     0.00,2,     0.57,2,     -999,9,     -999,9,     -999,9,     -999,9,     -999,9,     -999,9,     -999,9,     -999,     -999,9,     -999,9,     -999,9,     -999,9,  -0.9286,2,     -999,9,     -999,9,     -999,     -999,9,     -999,9,     -999,9,     -999,     -999,9,20151001,0027,     40.5,  74.9480,-150.1474,     -999,9,     -999,9
33HQ20150809  ,ARC01      ,56      ,  5,19         ,    6428,   12081,GSNIS-19   ,2,20151001,0015,  75.0474,-150.3710,     3836,     41.0,  -0.9304,  27.7538,2,  27.7397,2,    401.7,2,    401.3,2,     2.36,2,     0.00,2,     0.00,2,     0.57,2,     -999,9,     -999,9,     -999,9,     -999,9,     -999,9,     -999,9,     -999,9,     -999,     -999,9,     -999,9,     -999,9,     -999,9,  -0.9279,2,     -999,9,     -999,9,     -999,     -999,9,     -999,9,     -999,9,     -999,     -999,9,20151001,0026,     40.6,  74.9483,-150.1475,     -999,9,  27.8705,2
33HQ20150809  ,ARC01      ,56      ,  5,24         ,    6428,   12081,GSNIS-24   ,2,20151001,0015,  75.0474,-150.3710,     3836,     41.1,  -0.9395,  27.7543,2,     -999,9,    401.7,2,     -999,9,     2.36,2,     0.00,2,     0.00,2,     0.57,2,     -999,9,     -999,9,     -999,9,     -999,9,     -999,9,     -999,9,     -999,9,     -999,     -999,9,     -999,9,     -999,9,     -999,9,  -0.9371,2,     -999,9,     -999,9,     -999,     -999,9,     -999,9,     -999,9,     -999,     -999,9,20151001,0028,     40.7,  74.9478,-150.1474,     -999,9,     -999,9
33HQ20150809  ,ARC01      ,56      ,  5,14         ,    6428,   12082,GSNIS-14   ,2,20151001,0015,  75.0474,-150.3710,     3836,     82.0,  -0.2776,  31.4589,2,     -999,9,    349.8,2,     -999,9,     8.13,2,     3.41,2,     0.03,2,     1.01,2,     -999,9,     -999,9,     -999,9,     -999,9,     -999,9,     -999,9,     -999,9,     -999,     -999,9,     -999,9,     -999,9,     -999,9,  -0.2780,2,     -999,9,     -999,9,     -999,     -999,9,     -999,9,     -999,9,     -999,     -999,9,20151001,0022,     81.1,  74.9498,-150.1482,     -999,9,     -999,9
33HQ20150809  ,ARC01      ,56      ,  5,13         ,    6428,   12082,GSNIS-13   ,2,20151001,0015,  75.0474,-150.3710,     3836,     82.0,  -0.2786,  31.4582,2,  31.4345,2,    349.8,2,    349.6,2,     8.13,2,     3.37,2,     0.03,2,     1.02,2,     -999,9,     -999,9,     -999,9,     -999,9,     -999,9,     -999,9,     -999,9,     -999,     -999,9,     -999,9,     -999,9,     -999,9,  -0.2786,2,     -999,9,     -999,9,     -999,     -999,9,     -999,9,     -999,9,     -999,     -999,9,20151001,0022,     81.1,  74.9499,-150.1483,     -999,9,  31.5827,2
33HQ20150809  ,ARC01      ,56      ,  5,16         ,    6428,   12082,GSNIS-16   ,2,20151001,0015,  75.0474,-150.3710,     3836,     82.2,  -0.2912,  31.4712,2,     -999,9,    348.2,2,     -999,9,     8.13,2,     3.49,2,     0.03,2,     1.01,2,     -999,9,     -999,9,     -999,9,     -999,9,     -999,9,     -999,9,     -999,9,     -999,     -999,9,     -999,9,     -999,9,     -999,9,  -0.2943,2,     -999,9,     -999,9,     -999,     -999,9,     -999,9,     -999,9,     -999,     -999,9,20151001,0023,     81.3,  74.9496,-150.1482,     -999,9,     -999,9
33HQ20150809  ,ARC01      ,56      ,  5,17         ,    6428,   12082,GSNIS-17   ,2,20151001,0015,  75.0474,-150.3710,     3836,     82.2,  -0.2846,  31.4652,2,     -999,9,    348.2,2,     -999,9,     8.32,2,     3.62,2,     0.03,2,     1.02,2,     -999,9,     -999,9,     -999,9,     -999,9,     -999,9,     -999,9,     -999,9,     -999,     -999,9,     -999,9,     -999,9,     -999,9,  -0.2864,2,     -999,9,     -999,9,     -999,     -999,9,     -999,9,     -999,9,     -999,     -999,9,20151001,0023,     81.3,  74.9496,-150.1481,     -999,9,     -999,9
33HQ20150809  ,ARC01      ,56      ,  5,15         ,    6428,   12082,GSNIS-15   ,2,20151001,0015,  75.0474,-150.3710,     3836,     82.3,  -0.2938,  31.4734,2,     -999,9,    348.2,2,     -999,9,     8.23,2,     3.66,2,     0.03,2,     1.02,2,     -999,9,     -999,9,     -999,9,     -999,9,     -999,9,     -999,9,     -999,9,     -999,     -999,9,     -999,9,     -999,9,     -999,9,  -0.2824,2,     -999,9,     -999,9,     -999,     -999,9,     -999,9,     -999,9,     -999,     -999,9,20151001,0023,     81.4,  74.9497,-150.1482,     -999,9,     -999,9
33HQ20150809  ,ARC01      ,56      ,  5,18         ,    6428,   12082,GSNIS-18   ,2,20151001,0015,  75.0474,-150.3710,     3836,     82.4,  -0.2891,  31.4693,2,     -999,9,    348.2,2,     -999,9,     8.13,2,     3.48,2,     0.03,2,     1.01,2,     -999,9,     -999,9,     -999,9,     -999,9,     -999,9,     -999,9,     -999,9,     -999,     -999,9,     -999,9,     -999,9,     -999,9,  -0.2905,2,     -999,9,     -999,9,     -999,     -999,9,     -999,9,     -999,9,     -999,     -999,9,20151001,0023,     81.5,  74.9495,-150.1481,     -999,9,     -999,9
33HQ20150809  ,ARC01      ,56      ,  5,7          ,    6428,   12083,GSNIS-7    ,2,20151001,0015,  75.0474,-150.3710,     3836,    101.9,  -0.8349,  31.9468,2,  31.9428,2,    321.4,2,    321.3,2,    14.59,2,     8.06,2,     0.00,2,     1.34,2,     -999,9,     -999,9,     -999,9,     -999,9,     -999,9,     -999,9,     -999,9,     -999,     -999,9,     -999,9,     -999,9,     -999,9,  -0.8347,2,     -999,9,     -999,9,     -999,     -999,9,     -999,9,     -999,9,     -999,     -999,9,20151001,0019,    100.9,  74.9513,-150.1489,     -999,9,  32.0934,2
33HQ20150809  ,ARC01      ,56      ,  5,8          ,    6428,   12083,GSNIS-8    ,2,20151001,0015,  75.0474,-150.3710,     3836,    102.2,  -0.8413,  31.9504,2,     -999,9,    321.4,2,     -999,9,    14.49,2,     8.02,2,     0.00,2,     1.33,2,     -999,9,     -999,9,     -999,9,     -999,9,     -999,9,     -999,9,     -999,9,     -999,     -999,9,     -999,9,     -999,9,     -999,9,  -0.8388,2,     -999,9,     -999,9,     -999,     -999,9,     -999,9,     -999,9,     -999,     -999,9,20151001,0019,    101.1,  74.9512,-150.1489,     -999,9,     -999,9
33HQ20150809  ,ARC01      ,56      ,  5,9          ,    6428,   12083,GSNIS-9    ,2,20151001,0015,  75.0474,-150.3710,     3836,    102.5,  -0.8490,  31.9542,2,     -999,9,    321.4,2,     -999,9,    14.59,2,     8.04,2,     0.00,2,     1.34,2,     -999,9,     -999,9,     -999,9,     -999,9,     -999,9,     -999,9,     -999,9,     -999,     -999,9,     -999,9,     -999,9,     -999,9,  -0.8478,2,     -999,9,     -999,9,     -999,     -999,9,     -999,9,     -999,9,     -999,     -999,9,20151001,0019,    101.4,  74.9511,-150.1488,     -999,9,     -999,9
33HQ20150809  ,ARC01      ,56      ,  5,10         ,    6428,   12083,GSNIS-10   ,2,20151001,0015,  75.0474,-150.3710,     3836,    102.9,  -0.8637,  31.9619,2,     -999,9,    320.5,2,     -999,9,    14.68,2,     8.09,2,     0.00,2,     1.34,2,     -999,9,     -999,9,     -999,9,     -999,9,     -999,9,     -999,9,     -999,9,     -999,     -999,9,     -999,9,     -999,9,     -999,9,  -0.8585,2,     -999,9,     -999,9,     -999,     -999,9,     -999,9,     -999,9,     -999,     -999,9,20151001,0020,    101.8,  74.9510,-150.1488,     -999,9,     -999,9
33HQ20150809  ,ARC01      ,56      ,  5,11         ,    6428,   12083,GSNIS-11   ,2,20151001,0015,  75.0474,-150.3710,     3836,    103.1,  -0.8640,  31.9644,2,     -999,9,    320.5,2,     -999,9,    14.78,2,     8.15,2,     0.00,2,     1.35,2,     -999,9,     -999,9,     -999,9,     -999,9,     -999,9,     -999,9,     -999,9,     -999,     -999,9,     -999,9,     -999,9,     -999,9,  -0.8636,2,     -999,9,     -999,9,     -999,     -999,9,     -999,9,     -999,9,     -999,     -999,9,20151001,0020,    102.0,  74.9509,-150.1487,     -999,9,     -999,9
33HQ20150809  ,ARC01      ,56      ,  5,12         ,    6428,   12083,GSNIS-12   ,2,20151001,0015,  75.0474,-150.3710,     3836,    103.1,  -0.8653,  31.9660,2,     -999,9,    320.5,2,     -999,9,    14.68,2,     8.12,2,     0.00,2,     1.34,2,     -999,9,     -999,9,     -999,9,     -999,9,     -999,9,     -999,9,     -999,9,     -999,     -999,9,     -999,9,     -999,9,     -999,9,  -0.8664,2,     -999,9,     -999,9,     -999,     -999,9,     -999,9,     -999,9,     -999,     -999,9,20151001,0020,    102.0,  74.9509,-150.1487,     -999,9,     -999,9
33HQ20150809  ,ARC01      ,56      ,  5,1          ,    6428,   12084,GSNIS-1    ,2,20151001,0015,  75.0474,-150.3710,     3836,    121.7,  -1.1763,  32.2400,2,  32.2255,2,    310.0,2,    309.8,2,    21.34,2,    10.75,2,     0.00,2,     1.55,2,     -999,9,     -999,9,     -999,9,     -999,9,     -999,9,     -999,9,     -999,9,     -999,     -999,9,     -999,9,     -999,9,     -999,9,  -1.1760,2,     -999,9,     -999,9,     -999,     -999,9,     -999,9,     -999,9,     -999,     -999,9,20151001,0016,    120.4,  74.9524,-150.1498,     -999,9,  32.3775,2
33HQ20150809  ,ARC01      ,56      ,  5,2          ,    6428,   12084,GSNIS-2    ,2,20151001,0015,  75.0474,-150.3710,     3836,    121.8,  -1.1789,  32.2422,2,     -999,9,    310.0,2,     -999,9,    21.43,2,    10.80,2,     0.00,2,     1.55,2,     -999,9,     -999,9,     -999,9,     -999,9,     -999,9,     -999,9,     -999,9,     -999,     -999,9,     -999,9,     -999,9,     -999,9,  -1.1786,2,     -999,9,     -999,9,     -999,     -999,9,     -999,9,     -999,9,     -999,     -999,9,20151001,0016,    120.5,  74.9523,-150.1497,     -999,9,     -999,9
33HQ20150809  ,ARC01      ,56      ,  5,4          ,    6428,   12084,GSNIS-4    ,2,20151001,0015,  75.0474,-150.3710,     3836,    121.9,  -1.1847,  32.2501,2,     -999,9,    310.0,2,     -999,9,    21.43,2,    10.84,2,     0.00,2,     1.55,2,     -999,9,     -999,9,     -999,9,     -999,9,     -999,9,     -999,9,     -999,9,     -999,     -999,9,     -999,9,     -999,9,     -999,9,  -1.1844,2,     -999,9,     -999,9,     -999,     -999,9,     -999,9,     -999,9,     -999,     -999,9,20151001,0017,    120.6,  74.9522,-150.1495,     -999,9,     -999,9