BOTTLE,20221220CCHSIOAMB
EXPOCODE,SECT_ID,STNNBR,CASTNO,SAMPNO,GEOTR_EVENT,GEOTR_SAMPNO,BTLNBR,BTLNBR_FLAG_W,DATE,TIME,LATITUDE,LONGITUDE,DEPTH,CTDPRS,CTDTMP,CTDSAL,CTDSAL_FLAG_W,SALNTY,SALNTY_FLAG_W,CTDOXY,CTDOXY_FLAG_W,OXYGEN,OXYGEN_FLAG_W,SILCAT,SILCAT_FLAG_W,NITRAT,NITRAT_FLAG_W,NITRIT,NITRIT_FLAG_W,PHSPHT,PHSPHT_FLAG_W,CFC-11,CFC-11_FLAG_W,CFC-12,CFC-12_FLAG_W,CFC113,CFC113_FLAG_W,SF6,SF6_FLAG_W,TCARBN,TCARBN_FLAG_W,ALKALI,ALKALI_FLAG_W,PH_SWS,PH_SWS_FLAG_W,PH_TMP,DOC,DOC_FLAG_W,TRITUM,TRITUM_FLAG_W,HELIUM,HELIUM_FLAG_W,DELHE3,DELHE3_FLAG_W,REFTMP,REFTMP_FLAG_W,DELC13,DELC13_FLAG_W,DELC14,DELC14_FLAG_W,C14ERR,TDN,TDN_FLAG_W,DELO18,DELO18_FLAG_W,DELO17,DELO17_FLAG_W,CH4,CH4,CH4_FLAG_W,BTL_DATE,BTL_TIME,CTDDEPTH,BTL_LAT,BTL_LON,LAB_DEN,LAB_DEN_FLAG_W,SALTREF,SALTREF_FLAG_W
,,,,,,,,,,,,,METERS,DBAR,ITS-90,PSS-78,,PSS-78,,UMOL/KG,,UMOL/KG,,UMOL/KG,,UMOL/KG,,UMOL/KG,,UMOL/KG,,PMOL/KG,,PMOL/KG,,PMOL/KG,,FMOL/KG,,UMOL/KG,,UMOL/KG,,,,DEG C,UMOL/KG,,TU,,NMOL/KG,,PERCNT,,ITS-90,,/MILLE,,/MILLE,,/MILLE,UMOL/KG,,/MILLE,,/MILLE,,NMOL/KG,NMOL/L,,,,METERS,,,KG/M^3,,G/KG,
33HQ20150809  ,ARC01      ,17      ,  1,26         ,    6116,    -999,GSNIS-26   ,2,20150822,2052,  78.1354,-176.7562,     1010,      2.6,  -1.1657,  26.1986,2,  26.2136,2,    376.7,2,    380.1,2,     2.56,2,     0.00,2,     0.01,2,     0.54,2,    6.811,2,    3.683,2,    0.636,2,    3.712,2,   1803.3,6,   1878.8,2,   7.6695,2,    25.00,     64.6,2,     -999,9,     -999,9,     -999,9,  -1.1646,2,     1.39,6,     -999,1,     -999,     2.94,2,     -999,1,     -999,9,     -999,     -999,9,20150822,2141,      2.6,  78.1419,-176.7614,     -999,9,  26.3372,2
33HQ20150809  ,ARC01      ,17      ,  1,25         ,    6116,    -999,GSNIS-25   ,2,20150822,2052,  78.1354,-176.7562,     1010,     17.2,  -0.6855,  28.8447,2,  28.8763,2,    371.2,2,    390.5,2,     2.85,2,     0.00,2,     0.01,2,     0.62,2,    6.946,2,    3.700,2,    0.638,2,    3.471,2,   1965.4,2,   2073.8,2,   7.6921,2,    25.00,     71.0,2,     -999,9,     -999,9,     -999,9,  -0.6866,2,     -999,9,     -999,9,     -999,     3.78,2,     -999,1,     -999,9,     -999,     -999,9,20150822,2139,     17.0,  78.1415,-176.7613,     -999,9,  29.0124,2
33HQ20150809  ,ARC01      ,17      ,  1,24         ,    6116,    -999,GSNIS-24   ,2,20150822,2052,  78.1354,-176.7562,     1010,     27.7,  -1.0353,  29.8729,2,  30.1369,2,    390.7,2,    395.7,2,     3.24,2,     0.00,2,     0.01,2,     0.66,2,     -999,9,     -999,9,     -999,9,     -999,9,     -999,9,   2145.1,2,   7.7132,2,    25.00,     71.0,2,     -999,9,     -999,9,     -999,9,  -1.0305,2,     -999,9,     -999,9,     -999,     4.35,2,     -999,1,     -999,9,     -999,     -999,9,20150822,2138,     27.4,  78.1413,-176.7612,     -999,9,  30.2790,2
33HQ20150809  ,ARC01      ,17      ,  1,23         ,    6116,    -999,GSNIS-23   ,2,20150822,2052,  78.1354,-176.7562,     1010,     43.1,  -0.4738,  31.1423,2,  31.2206,2,    390.8,2,    385.9,2,     3.92,2,     0.68,2,     0.03,2,     0.78,2,    6.436,2,    3.524,2,    0.551,2,    2.895,2,   2052.0,2,   2184.3,2,   7.7398,2,    25.00,     68.8,2,     -999,9,     -999,9,     -999,9,  -0.4735,2,     -999,9,     -999,9,     -999,     4.76,2,     -999,1,     -999,9,     -999,     -999,9,20150822,2136,     42.7,  78.1411,-176.7611,     -999,9,  31.3678,2
33HQ20150809  ,ARC01      ,17      ,  1,22         ,    6116,    -999,GSNIS-22   ,2,20150822,2052,  78.1354,-176.7562,     1010,     63.7,  -0.9364,  31.8656,2,  31.8965,2,    330.6,2,    324.4,2,    18.60,2,     8.35,2,     0.02,2,     1.33,2,     -999,9,     -999,9,     -999,9,     -999,9,     -999,9,     -999,9,     -999,9,     -999,     -999,9,     -999,9,     -999,9,     -999,9,  -0.9363,2,     -999,9,     -999,9,     -999,     -999,9,     -999,1,     -999,9,     -999,     -999,9,20150822,2135,     63.0,  78.1409,-176.7610,     -999,9,  32.0469,2
33HQ20150809  ,ARC01      ,17      ,  1,21         ,    6116,    -999,GSNIS-21   ,2,20150822,2052,  78.1354,-176.7562,     1010,     74.0,  -1.1178,  32.0629,2,  32.0962,2,    319.3,2,    315.0,2,    22.22,2,    10.07,2,     0.02,2,     1.47,2,    6.402,2,    3.488,2,    0.498,2,    2.615,2,   2148.1,2,   2220.5,2,   7.5472,2,    25.00,     61.9,2,     -999,9,     -999,9,     -999,9,  -1.1177,2,     -999,9,     -999,9,     -999,    13.14,2,     -999,1,     -999,9,     -999,     -999,9,20150822,2134,     73.2,  78.1408,-176.7609,     -999,9,  32.2475,2
33HQ20150809  ,ARC01      ,17      ,  1,20         ,    6116,    -999,GSNIS-20   ,2,20150822,2052,  78.1354,-176.7562,     1010,     84.2,  -1.2809,  32.2148,2,  32.2281,2,    310.5,2,    309.6,2,    25.64,2,    11.27,2,     0.02,2,     1.57,2,     -999,9,     -999,9,     -999,9,     -999,9,     -999,9,     -999,9,     -999,9,     -999,     -999,9,     -999,9,     -999,9,     -999,9,  -1.2814,2,     -999,9,     -999,9,     -999,     -999,9,     -999,1,     -999,9,     -999,     -999,9,20150822,2133,     83.3,  78.1406,-176.7608,     -999,9,  32.3800,2
33HQ20150809  ,ARC01      ,17      ,  1,19         ,    6116,    -999,GSNIS-19   ,2,20150822,2052,  78.1354,-176.7562,     1010,     94.6,  -1.3415,  32.3402,2,  32.3649,2,    305.1,2,    303.6,2,    27.11,2,    12.14,2,     0.01,2,     1.62,2,    6.347,2,    3.397,2,    0.476,2,    2.539,2,   2174.4,2,   2222.9,2,   7.5057,2,    25.00,     61.3,2,     -999,9,     -999,9,     -999,9,  -1.3422,2,     -999,9,     -999,9,     -999,    15.50,2,     -999,1,     -999,9,     -999,     -999,9,20150822,2131,     93.6,  78.1405,-176.7607,     -999,9,  32.5175,2
33HQ20150809  ,ARC01      ,17      ,  1,18         ,    6116,    -999,GSNIS-18   ,2,20150822,2052,  78.1354,-176.7562,     1010,    104.8,  -1.3858,  32.4593,2,  32.4787,2,    300.8,2,    302.2,2,    28.38,2,    12.63,2,     0.01,2,     1.63,2,     -999,9,     -999,9,     -999,9,     -999,9,     -999,9,     -999,9,     -999,9,     -999,     -999,9,     -999,9,     -999,9,     -999,9,  -1.3855,2,     -999,9,     -999,9,     -999,     -999,9,     -999,1,     -999,9,     -999,     -999,9,20150822,2130,    103.7,  78.1403,-176.7605,     -999,9,  32.6318,2
33HQ20150809  ,ARC01      ,17      ,  1,17         ,    6116,    -999,GSNIS-17   ,2,20150822,2052,  78.1354,-176.7562,     1010,    120.1,  -1.4418,  32.6020,2,  32.6026,2,    300.1,2,    297.5,2,    30.82,2,    13.56,2,     0.01,2,     1.72,2,    6.301,2,    3.428,2,    0.469,2,    2.588,2,     -999,9,   2245.8,2,   7.4760,2,    25.00,     63.3,2,     -999,9,     -999,9,     -999,9,  -1.4417,2,     -999,9,     -999,9,     -999,    16.46,2,     -999,1,     -999,9,     -999,     -999,9,20150822,2129,    118.8,  78.1401,-176.7603,     -999,9,  32.7563,2
33HQ20150809  ,ARC01      ,17      ,  1,16         ,    6116,    -999,GSNIS-16   ,2,20150822,2052,  78.1354,-176.7562,     1010,    135.5,  -1.4566,  32.7335,2,  32.7710,2,    293.7,2,    284.7,2,    31.80,2,    14.52,2,     0.01,2,     1.78,2,     -999,9,     -999,9,     -999,9,     -999,9,     -999,9,     -999,9,     -999,9,     -999,     -999,9,     -999,9,     -999,9,     -999,9,  -1.4565,2,     -999,9,     -999,9,     -999,     -999,9,     -999,1,     -999,9,     -999,     -999,9,20150822,2127,    134.1,  78.1399,-176.7602,     -999,9,  32.9256,2
33HQ20150809  ,ARC01      ,17      ,  1,15         ,    6116,    -999,GSNIS-15   ,2,20150822,2052,  78.1354,-176.7562,     1010,    156.4,  -1.4869,  32.9577,2,  32.9700,2,    279.8,2,    280.2,2,    33.75,2,    15.32,2,     0.01,2,     1.83,2,    6.141,2,    3.246,2,    0.428,2,    2.116,2,   2214.2,2,   2265.1,2,   7.4420,2,    25.00,     61.7,2,     -999,9,     -999,9,     -999,9,  -1.4867,2,     -999,9,     -999,9,     -999,    17.76,2,     -999,1,     -999,9,     -999,     -999,9,20150822,2126,    154.7,  78.1397,-176.7600,     -999,9,  33.1255,2
33HQ20150809  ,ARC01      ,17      ,  1,14         ,    6116,    -999,GSNIS-14   ,2,20150822,2052,  78.1354,-176.7562,     1010,    177.0,  -1.4887,  33.1749,2,  33.2103,2,    276.7,2,    279.3,2,    34.04,2,    15.28,2,     0.01,2,     1.78,2,     -999,9,     -999,9,     -999,9,     -999,9,     -999,9,     -999,9,     -999,9,     -999,     -999,9,     -999,9,     -999,9,     -999,9,  -1.4888,2,     -999,9,     -999,9,     -999,     -999,9,     -999,1,     -999,9,     -999,     -999,9,20150822,2124,    175.0,  78.1395,-176.7599,     -999,9,  33.3669,2
33HQ20150809  ,ARC01      ,17      ,  1,13         ,    6116,    -999,GSNIS-13   ,2,20150822,2052,  78.1354,-176.7562,     1010,    197.4,  -1.2893,  33.5727,2,  33.6523,2,    274.3,2,    271.8,2,    28.94,2,    14.54,2,     0.01,2,     1.57,2,    5.821,2,    2.939,2,    0.374,2,    1.798,2,     -999,9,   2284.5,2,   7.4896,2,    25.00,     59.9,2,     -999,9,     -999,9,     -999,9,  -1.2880,2,     -999,9,     -999,9,     -999,    17.83,2,     -999,1,     -999,9,     -999,     -999,9,20150822,2123,    195.2,  78.1393,-176.7597,     -999,9,  33.8110,2
33HQ20150809  ,ARC01      ,17      ,  1,12         ,    6116,    -999,GSNIS-12   ,2,20150822,2052,  78.1354,-176.7562,     1010,    217.9,  -0.8642,  34.0630,2,  34.0703,2,    268.9,2,    268.4,2,    22.09,2,    13.65,2,     0.01,2,     1.32,2,    5.687,2,    2.842,2,    0.362,2,    1.314,2,     -999,9,     -999,9,     -999,9,     -999,     -999,9,     -999,9,     -999,9,     -999,9,  -0.8640,2,     -999,9,     -999,9,     -999,     -999,9,     -999,1,     -999,9,     -999,     -999,9,20150822,2121,    215.5,  78.1390,-176.7595,     -999,9,  34.2309,2
33HQ20150809  ,ARC01      ,17      ,  1,11         ,    6116,    -999,GSNIS-11   ,2,20150822,2052,  78.1354,-176.7562,     1010,    238.6,  -0.3705,  34.3754,2,  34.3813,2,    265.5,2,    259.5,2,    18.76,2,    13.42,2,     0.01,2,     1.16,2,    5.551,2,    2.674,2,    0.338,2,    1.260,2,   2212.0,2,   2283.2,2,   7.5667,6,    25.00,     57.4,2,     -999,9,     -999,9,     -999,9,  -0.3706,2,     -999,9,     -999,9,     -999,    14.48,2,     -999,1,     -999,9,     -999,     -999,9,20150822,2119,    236.0,  78.1388,-176.7593,     -999,9,  34.5434,2
33HQ20150809  ,ARC01      ,17      ,  1,10         ,    6116,    -999,GSNIS-10   ,2,20150822,2052,  78.1354,-176.7562,     1010,    290.2,   0.3895,  34.6766,2,  34.6816,2,    260.7,2,    264.9,2,    13.58,2,    13.04,2,     0.01,2,     0.97,2,    5.612,2,    2.787,2,    0.365,2,    1.384,2,   2193.5,2,   2288.8,6,   7.6203,2,    25.00,     54.0,2,     -999,9,     -999,9,     -999,9,   0.3886,2,     -999,9,     -999,9,     -999,    16.07,2,     -999,1,     -999,9,     -999,     -999,9,20150822,2115,    287.0,  78.1382,-176.7590,     -999,9,  34.8451,2
33HQ20150809  ,ARC01      ,17      ,  1,9          ,    6116,    -999,GSNIS-9    ,2,20150822,2052,  78.1354,-176.7562,     1010,    341.4,   0.7933,  34.7992,2,  34.7993,2,    286.6,2,    289.6,2,     6.64,2,    12.25,2,     0.01,2,     0.84,2,    5.534,2,    2.751,2,    0.392,2,    1.424,2,   2168.4,6,   2293.1,2,   7.6897,2,    25.00,     53.5,2,     -999,9,     -999,9,     -999,9,   0.7930,2,     -999,9,     -999,9,     -999,    14.25,2,     -999,1,     -999,9,     -999,     -999,9,20150822,2113,    337.6,  78.1380,-176.7588,     -999,9,  34.9634,2
33HQ20150809  ,ARC01      ,17      ,  1,8          ,    6116,    -999,GSNIS-8    ,2,20150822,2052,  78.1354,-176.7562,     1010,    392.9,   0.8820,  34.8252,2,  34.8269,2,    294.2,2,    290.9,2,     6.64,2,    12.40,2,     0.01,2,     0.86,2,    5.488,2,    2.705,2,    0.381,2,    1.305,2,   2165.0,2,   2294.3,2,   7.6939,2,    25.00,     53.3,2,     -999,9,     -999,9,     -999,9,   0.8820,2,     -999,9,     -999,9,     -999,    14.22,2,     -999,1,     -999,9,     -999,     -999,9,20150822,2111,    388.4,  78.1377,-176.7586,     -999,9,  34.9911,2
33HQ20150809  ,ARC01      ,17      ,  1,7          ,    6116,    -999,GSNIS-7    ,2,20150822,2052,  78.1354,-176.7562,     1010,    439.3,   0.9515,  34.8436,2,  34.8453,2,    296.6,2,    295.6,2,     5.96,2,    12.09,2,     0.01,2,     0.83,2,    5.402,2,    2.733,2,    0.387,2,    1.475,2,     -999,9,     -999,9,     -999,9,     -999,     53.6,2,     -999,9,     -999,9,     -999,9,   0.9514,2,     -999,9,     -999,9,     -999,    14.12,2,     -999,1,     -999,9,     -999,     -999,9,20150822,2109,    434.2,  78.1374,-176.7584,     -999,9,  35.0097,2
33HQ20150809  ,ARC01      ,17      ,  1,6          ,    6116,    -999,GSNIS-6    ,2,20150822,2052,  78.1354,-176.7562,     1010,    490.7,   0.8902,  34.8549,2,  34.8564,2,    297.9,2,    297.0,2,     6.06,2,    12.16,2,     0.01,2,     0.84,2,    5.377,2,    2.695,2,    0.378,2,    1.402,2,     -999,9,   2294.8,2,   7.6951,2,    25.00,     52.6,2,     -999,9,     -999,9,     -999,9,   0.8901,2,     -999,9,     -999,9,     -999,    15.12,2,     -999,1,     -999,9,     -999,     -999,9,20150822,2107,    484.9,  78.1372,-176.7582,     -999,9,  35.0207,2
33HQ20150809  ,ARC01      ,17      ,  1,5          ,    6116,    -999,GSNIS-5    ,2,20150822,2052,  78.1354,-176.7562,     1010,    542.0,   0.7643,  34.8586,2,  34.8609,2,    300.3,2,    298.7,2,     5.86,2,    12.09,2,     0.01,2,     0.83,2,    5.314,2,    2.653,2,    0.382,2,    1.437,2,     -999,9,     -999,9,     -999,9,     -999,     54.3,2,     -999,9,     -999,9,     -999,9,   0.7641,2,     -999,9,     -999,9,     -999,    14.61,2,     -999,9,     -999,9,     -999,     -999,9,20150822,2105,    535.6,  78.1369,-176.7579,     -999,9,  35.0253,2
33HQ20150809  ,ARC01      ,17      ,  1,4          ,    6116,    -999,GSNIS-4    ,2,20150822,2052,  78.1354,-176.7562,     1010,    639.7,   0.5106,  34.8630,2,  34.8636,2,    300.6,2,    300.6,2,     5.96,2,    12.18,2,     0.01,2,     0.84,2,    5.283,2,    2.607,2,    0.367,2,    1.438,2,   2163.6,2,   2295.2,2,   7.6950,2,    25.00,     55.1,2,     -999,9,     -999,9,     -999,9,   0.5101,2,     -999,9,     -999,9,     -999,    14.74,2,     -999,9,     -999,9,     -999,     -999,9,20150822,2102,    632.0,  78.1366,-176.7576,     -999,9,  35.0280,2
33HQ20150809  ,ARC01      ,17      ,  1,3          ,    6116,    -999,GSNIS-3    ,2,20150822,2052,  78.1354,-176.7562,     1010,    763.7,   0.2850,  34.8687,2,  34.8697,2,    302.2,2,    302.5,2,     5.76,2,    11.99,2,     0.01,2,     0.83,2,    5.250,2,    2.621,2,    0.373,2,    1.402,2,     -999,9,     -999,9,     -999,9,     -999,     52.5,2,     -999,9,     -999,9,     -999,9,   0.2865,2,     -999,9,     -999,9,     -999,    14.39,2,     -999,9,     -999,9,     -999,     -999,9,20150822,2059,    754.3,  78.1362,-176.7571,     -999,9,  35.0342,2
33HQ20150809  ,ARC01      ,17      ,  1,2          ,    6116,    -999,GSNIS-2    ,2,20150822,2052,  78.1354,-176.7562,     1010,    893.7,   0.0474,  34.8740,2,  34.8741,2,    302.6,2,    303.9,2,     6.06,2,    12.02,2,     0.01,2,     0.85,2,    5.166,2,    2.601,2,    0.366,2,    1.503,2,   2168.0,2,   2296.9,2,   7.6816,6,    25.00,     55.4,2,     -999,9,     -999,9,     -999,9,   0.0473,2,     -999,9,     -999,9,     -999,    14.53,2,     -999,9,     -999,9,     -999,     -999,9,20150822,2055,    882.4,  78.1358,-176.7566,     -999,9,  35.0385,2
33HQ20150809  ,ARC01      ,17      ,  1,1          ,    6116,    -999,GSNIS-1    ,2,20150822,2052,  78.1354,-176.7562,     1010,   1011.8,  -0.1045,  34.8829,2,  34.8833,2,    303.6,2,    304.5,2,     6.45,2,    12.12,2,     0.01,2,     0.86,2,    4.995,2,    2.547,2,    0.352,2,    1.496,2,   2171.5,6,   2298.0,6,   7.6876,2,    25.00,     51.3,2,     -999,9,     -999,9,     -999,9,  -0.1047,2,     -999,9,     -999,9,     -999,    14.09,2,     -999,9,     -999,9,     -999,     -999,9,20150822,2052,    998.7,  78.1353,-176.7561,     -999,9,  35.0478,2
33HQ20150809  ,ARC01      ,17      , 25,25         ,    6118,   10863,SMBT       ,2,20150822,2148,  78.1396,-176.7511,      996,      1.0,  -1.1655,  26.1780,2,  26.0589,2,     -999,9,     -999,9,     2.56,2,     0.00,2,     0.00,2,     0.54,2,     -999,9,     -999,9,     -999,9,     -999,9,     -999,9,     -999,9,     -999,9,     -999,     -999,9,     -999,9,     -999,9,     -999,9,     -999,9,     -999,9,     -999,9,     -999,     -999,9,     -999,9,     -999,9,     -999,     -999,9,20150822,2050,      1.0,  78.1396,-176.7511,     -999,9,  26.1818,2