BOTTLE,20221220CCHSIOAMB
EXPOCODE,SECT_ID,STNNBR,CASTNO,SAMPNO,GEOTR_EVENT,GEOTR_SAMPNO,BTLNBR,BTLNBR_FLAG_W,DATE,TIME,LATITUDE,LONGITUDE,DEPTH,CTDPRS,CTDTMP,CTDSAL,CTDSAL_FLAG_W,SALNTY,SALNTY_FLAG_W,CTDOXY,CTDOXY_FLAG_W,OXYGEN,OXYGEN_FLAG_W,SILCAT,SILCAT_FLAG_W,NITRAT,NITRAT_FLAG_W,NITRIT,NITRIT_FLAG_W,PHSPHT,PHSPHT_FLAG_W,CFC-11,CFC-11_FLAG_W,CFC-12,CFC-12_FLAG_W,CFC113,CFC113_FLAG_W,SF6,SF6_FLAG_W,TCARBN,TCARBN_FLAG_W,ALKALI,ALKALI_FLAG_W,PH_SWS,PH_SWS_FLAG_W,PH_TMP,DOC,DOC_FLAG_W,TRITUM,TRITUM_FLAG_W,HELIUM,HELIUM_FLAG_W,DELHE3,DELHE3_FLAG_W,REFTMP,REFTMP_FLAG_W,DELC13,DELC13_FLAG_W,DELC14,DELC14_FLAG_W,C14ERR,TDN,TDN_FLAG_W,DELO18,DELO18_FLAG_W,DELO17,DELO17_FLAG_W,CH4,CH4,CH4_FLAG_W,BTL_DATE,BTL_TIME,CTDDEPTH,BTL_LAT,BTL_LON,LAB_DEN,LAB_DEN_FLAG_W,SALTREF,SALTREF_FLAG_W
,,,,,,,,,,,,,METERS,DBAR,ITS-90,PSS-78,,PSS-78,,UMOL/KG,,UMOL/KG,,UMOL/KG,,UMOL/KG,,UMOL/KG,,UMOL/KG,,PMOL/KG,,PMOL/KG,,PMOL/KG,,FMOL/KG,,UMOL/KG,,UMOL/KG,,,,DEG C,UMOL/KG,,TU,,NMOL/KG,,PERCNT,,ITS-90,,/MILLE,,/MILLE,,/MILLE,UMOL/KG,,/MILLE,,/MILLE,,NMOL/KG,NMOL/L,,,,METERS,,,KG/M^3,,G/KG,
33HQ20150809  ,ARC01      ,28      ,  1,3          ,    6166,    -999,GSNIS-3    ,2,20150830,1245,  85.8654, 167.0440,     3740,   2849.6,  -0.3566,  34.9563,3,  34.9547,2,    287.5,2,    286.8,2,    12.50,2,    14.47,2,     0.01,2,     1.02,2,    0.021,2,    0.004,2,    0.000,2,    0.000,2,     -999,9,   2301.2,2,   7.7340,2,    25.00,     46.5,2,     -999,9,     -999,9,     -999,9,  -0.3567,2,     -999,9,     -999,9,     -999,    15.01,2,     -999,9,     -999,9,     -999,     -999,9,20150830,1304,   2800.1,  85.8664, 167.0341,     -999,9,  35.1195,2
33HQ20150809  ,ARC01      ,28      ,  1,2          ,    6166,    -999,GSNIS-2    ,2,20150830,1245,  85.8654, 167.0440,     3740,   3055.2,  -0.3430,  34.9562,3,  34.9547,2,    286.8,2,    287.2,2,    12.40,2,    14.46,2,     0.00,2,     1.03,2,    0.020,2,    0.003,2,    0.000,2,    0.000,2,     -999,9,   2301.3,2,   7.7362,2,    25.00,     44.6,2,     -999,9,     -999,9,     -999,9,  -0.3429,2,     -999,9,     -999,9,     -999,    15.02,2,     -999,9,     -999,9,     -999,     -999,9,20150830,1258,   3000.7,  85.8660, 167.0379,     -999,9,  35.1195,2
33HQ20150809  ,ARC01      ,28      ,  1,1          ,    6166,    -999,GSNIS-1    ,2,20150830,1245,  85.8654, 167.0440,     3740,   3264.1,  -0.3286,  34.9564,3,  34.9543,2,    288.7,2,    289.0,2,    12.31,2,    14.44,2,     0.00,2,     1.03,2,    0.018,2,    0.000,2,    0.000,2,    0.000,2,   2149.5,2,   2299.9,6,   7.7368,2,    25.00,     43.2,2,     -999,9,     -999,9,     -999,9,  -0.3287,2,     -999,9,     -999,9,     -999,    16.30,2,     -999,9,     -999,9,     -999,     -999,9,20150830,1245,   3204.4,  85.8652, 167.0469,     -999,9,  35.1192,2