BOTTLE,20221220CCHSIOAMB
EXPOCODE,SECT_ID,STNNBR,CASTNO,SAMPNO,GEOTR_EVENT,GEOTR_SAMPNO,BTLNBR,BTLNBR_FLAG_W,DATE,TIME,LATITUDE,LONGITUDE,DEPTH,CTDPRS,CTDTMP,CTDSAL,CTDSAL_FLAG_W,SALNTY,SALNTY_FLAG_W,CTDOXY,CTDOXY_FLAG_W,OXYGEN,OXYGEN_FLAG_W,SILCAT,SILCAT_FLAG_W,NITRAT,NITRAT_FLAG_W,NITRIT,NITRIT_FLAG_W,PHSPHT,PHSPHT_FLAG_W,CFC-11,CFC-11_FLAG_W,CFC-12,CFC-12_FLAG_W,CFC113,CFC113_FLAG_W,SF6,SF6_FLAG_W,TCARBN,TCARBN_FLAG_W,ALKALI,ALKALI_FLAG_W,PH_SWS,PH_SWS_FLAG_W,PH_TMP,DOC,DOC_FLAG_W,TRITUM,TRITUM_FLAG_W,HELIUM,HELIUM_FLAG_W,DELHE3,DELHE3_FLAG_W,REFTMP,REFTMP_FLAG_W,DELC13,DELC13_FLAG_W,DELC14,DELC14_FLAG_W,C14ERR,TDN,TDN_FLAG_W,DELO18,DELO18_FLAG_W,DELO17,DELO17_FLAG_W,CH4,CH4,CH4_FLAG_W,BTL_DATE,BTL_TIME,CTDDEPTH,BTL_LAT,BTL_LON,LAB_DEN,LAB_DEN_FLAG_W,SALTREF,SALTREF_FLAG_W
,,,,,,,,,,,,,METERS,DBAR,ITS-90,PSS-78,,PSS-78,,UMOL/KG,,UMOL/KG,,UMOL/KG,,UMOL/KG,,UMOL/KG,,UMOL/KG,,PMOL/KG,,PMOL/KG,,PMOL/KG,,FMOL/KG,,UMOL/KG,,UMOL/KG,,,,DEG C,UMOL/KG,,TU,,NMOL/KG,,PERCNT,,ITS-90,,/MILLE,,/MILLE,,/MILLE,UMOL/KG,,/MILLE,,/MILLE,,NMOL/KG,NMOL/L,,,,METERS,,,KG/M^3,,G/KG,
33HQ20150809  ,ARC01      ,30      , 10,34         ,    6189,   11155,GSNIS-34   ,2,20150902,0725,  87.6291, 179.1997,     3949,    506.7,   0.5810,  34.8682,3,  34.8649,2,    301.5,2,    300.9,2,     6.06,2,    12.26,2,     0.00,2,     0.83,2,    4.697,2,    2.320,2,    0.314,2,    1.045,2,   2161.0,2,   2293.7,2,   7.7050,2,    25.00,     50.0,2,     -999,1,     -999,1,     -999,1,   0.5811,2,     0.83,2,     -999,1,     -999,    14.42,2,     -999,1,     -999,9,     1.06,   1.0568,2,20150902,0836,    500.7,  87.6338, 179.3519,     -999,9,  35.0293,2
33HQ20150809  ,ARC01      ,30      , 10,35         ,    6189,   11155,GSNIS-35   ,2,20150902,0725,  87.6291, 179.1997,     3949,    506.8,   0.5808,  34.8677,2,     -999,9,    301.5,2,     -999,9,     6.06,2,    12.26,2,     0.00,2,     0.83,2,     -999,9,     -999,9,     -999,9,     -999,9,     -999,9,     -999,9,     -999,9,     -999,     -999,9,     -999,9,     -999,9,     -999,9,     -999,9,     -999,9,     -999,9,     -999,     -999,9,     -999,9,     -999,9,     -999,     -999,9,20150902,0837,    500.7,  87.6338, 179.3520,     -999,9,     -999,9
33HQ20150809  ,ARC01      ,30      , 10,36         ,    6189,   11155,GSNIS-36   ,2,20150902,0725,  87.6291, 179.1997,     3949,    506.8,   0.5803,  34.8677,2,     -999,9,    301.5,2,     -999,9,     6.06,2,    12.25,2,     0.00,2,     0.84,2,     -999,9,     -999,9,     -999,9,     -999,9,     -999,9,     -999,9,     -999,9,     -999,     -999,9,     -999,9,     -999,9,     -999,9,   0.5804,2,     -999,9,     -999,9,     -999,     -999,9,     -999,9,     -999,9,     -999,     -999,9,20150902,0837,    500.8,  87.6338, 179.3523,     -999,9,     -999,9
33HQ20150809  ,ARC01      ,30      , 10,31         ,    6189,   11156,GSNIS-31   ,2,20150902,0725,  87.6291, 179.1997,     3949,    811.9,   0.0097,  34.8775,3,  34.8741,2,    303.4,2,    302.2,2,     6.35,2,    12.28,2,     0.00,2,     0.86,2,    4.133,2,    1.998,2,    0.251,2,    0.911,2,   2163.2,2,   2296.1,2,   7.7023,2,    25.00,     49.7,2,     -999,1,     -999,1,     -999,1,   0.0097,2,     0.84,2,     -999,1,     -999,    13.44,2,     -999,1,     -999,9,     0.55,   0.5540,2,20150902,0830,    801.7,  87.6334, 179.3377,     -999,9,  35.0386,2
33HQ20150809  ,ARC01      ,30      , 10,32         ,    6189,   11156,GSNIS-32   ,2,20150902,0725,  87.6291, 179.1997,     3949,    812.0,   0.0096,  34.8775,3,     -999,9,    303.4,2,     -999,9,     6.35,2,    12.28,2,     0.00,2,     0.84,2,     -999,9,     -999,9,     -999,9,     -999,9,     -999,9,     -999,9,     -999,9,     -999,     -999,9,     -999,9,     -999,9,     -999,9,     -999,9,     -999,9,     -999,9,     -999,     -999,9,     -999,9,     -999,9,     -999,     -999,9,20150902,0830,    801.7,  87.6334, 179.3379,     -999,9,     -999,9
33HQ20150809  ,ARC01      ,30      , 10,33         ,    6189,   11156,GSNIS-33   ,2,20150902,0725,  87.6291, 179.1997,     3949,    812.1,   0.0097,  34.8774,3,     -999,9,    303.4,2,     -999,9,     6.35,2,    12.30,2,     0.00,2,     0.85,2,     -999,9,     -999,9,     -999,9,     -999,9,     -999,9,     -999,9,     -999,9,     -999,     -999,9,     -999,9,     -999,9,     -999,9,   0.0096,2,     -999,9,     -999,9,     -999,     -999,9,     -999,9,     -999,9,     -999,     -999,9,20150902,0830,    801.8,  87.6334, 179.3381,     -999,9,     -999,9
33HQ20150809  ,ARC01      ,30      , 10,28         ,    6189,   11157,GSNIS-28   ,2,20150902,0725,  87.6291, 179.1997,     3949,   1013.7,  -0.1750,  34.8905,3,  34.8871,2,    300.9,2,    301.4,2,     6.93,2,    12.69,2,     0.00,2,     0.87,2,    2.844,2,    1.352,2,    0.153,2,    0.481,2,   2158.4,2,   2293.7,2,   7.6242,4,    25.00,     51.4,2,     -999,1,     -999,1,     -999,1,  -0.1749,2,     0.97,2,     -999,1,     -999,    13.99,2,     -999,1,     -999,9,     0.84,   0.8382,2,20150902,0825,   1000.4,  87.6331, 179.3272,     -999,9,  35.0516,2
33HQ20150809  ,ARC01      ,30      , 10,29         ,    6189,   11157,GSNIS-29   ,2,20150902,0725,  87.6291, 179.1997,     3949,   1013.8,  -0.1751,  34.8906,3,     -999,9,    300.9,2,     -999,9,     7.03,2,    12.70,2,     0.00,2,     0.88,2,     -999,9,     -999,9,     -999,9,     -999,9,     -999,9,     -999,9,     -999,9,     -999,     -999,9,     -999,9,     -999,9,     -999,9,     -999,9,     -999,9,     -999,9,     -999,     -999,9,     -999,9,     -999,9,     -999,     -999,9,20150902,0826,   1000.5,  87.6331, 179.3274,     -999,9,     -999,9
33HQ20150809  ,ARC01      ,30      , 10,30         ,    6189,   11157,GSNIS-30   ,2,20150902,0725,  87.6291, 179.1997,     3949,   1013.8,  -0.1751,  34.8905,3,     -999,9,    300.9,2,     -999,9,     6.93,2,    12.69,2,     0.00,2,     0.88,2,     -999,9,     -999,9,     -999,9,     -999,9,     -999,9,     -999,9,     -999,9,     -999,     -999,9,     -999,9,     -999,9,     -999,9,  -0.1752,2,     -999,9,     -999,9,     -999,     -999,9,     -999,9,     -999,9,     -999,     -999,9,20150902,0826,   1000.5,  87.6331, 179.3275,     -999,9,     -999,9
33HQ20150809  ,ARC01      ,30      , 10,25         ,    6189,   11158,GSNIS-25   ,2,20150902,0725,  87.6291, 179.1997,     3949,   1421.6,  -0.3460,  34.9218,3,  34.9192,2,    297.1,2,    297.4,2,     8.69,2,    13.45,2,     0.00,2,     0.93,2,    0.769,2,    0.360,2,    0.022,2,    0.036,2,   2152.1,2,   2294.9,2,   7.7305,2,    25.00,     50.5,2,     -999,1,     -999,1,     -999,1,  -0.3461,2,     1.16,2,     -999,1,     -999,    16.13,2,     -999,1,     -999,9,     0.72,   0.7170,2,20150902,0818,   1401.6,  87.6326, 179.3110,     -999,9,  35.0839,2
33HQ20150809  ,ARC01      ,30      , 10,26         ,    6189,   11158,GSNIS-26   ,2,20150902,0725,  87.6291, 179.1997,     3949,   1421.7,  -0.3461,  34.9219,3,     -999,9,    297.1,2,     -999,9,     8.69,2,    13.45,2,     0.00,2,     0.93,2,     -999,9,     -999,9,     -999,9,     -999,9,     -999,9,     -999,9,     -999,9,     -999,     -999,9,     -999,9,     -999,9,     -999,9,     -999,9,     -999,9,     -999,9,     -999,     -999,9,     -999,9,     -999,9,     -999,     -999,9,20150902,0818,   1401.7,  87.6326, 179.3112,     -999,9,     -999,9
33HQ20150809  ,ARC01      ,30      , 10,27         ,    6189,   11158,GSNIS-27   ,2,20150902,0725,  87.6291, 179.1997,     3949,   1421.8,  -0.3461,  34.9219,3,     -999,9,    297.1,2,     -999,9,     8.69,2,    13.45,2,     0.00,2,     0.94,2,     -999,9,     -999,9,     -999,9,     -999,9,     -999,9,     -999,9,     -999,9,     -999,     -999,9,     -999,9,     -999,9,     -999,9,  -0.3461,2,     -999,9,     -999,9,     -999,     -999,9,     -999,9,     -999,9,     -999,     -999,9,20150902,0818,   1401.7,  87.6326, 179.3114,     -999,9,     -999,9
33HQ20150809  ,ARC01      ,30      , 10,22         ,    6189,   11159,GSNIS-22   ,2,20150902,0725,  87.6291, 179.1997,     3949,   1675.8,  -0.3909,  34.9381,3,  34.9359,2,    292.6,2,    293.5,2,    10.35,2,    13.97,2,     0.00,2,     0.97,2,    0.231,2,    0.106,2,    0.002,2,    0.000,2,   2149.9,2,   2296.2,2,   7.7371,2,    25.00,     47.1,2,     -999,1,     -999,1,     -999,1,  -0.3909,2,     1.21,2,     -999,1,     -999,    16.27,2,     -999,1,     -999,9,     0.61,   0.6100,2,20150902,0813,   1651.2,  87.6323, 179.2999,     -999,9,  35.1007,2
33HQ20150809  ,ARC01      ,30      , 10,23         ,    6189,   11159,GSNIS-23   ,2,20150902,0725,  87.6291, 179.1997,     3949,   1675.9,  -0.3909,  34.9380,3,     -999,9,    292.6,2,     -999,9,    10.35,2,    13.97,2,     0.00,2,     0.97,2,     -999,9,     -999,9,     -999,9,     -999,9,     -999,9,     -999,9,     -999,9,     -999,     -999,9,     -999,9,     -999,9,     -999,9,     -999,9,     -999,9,     -999,9,     -999,     -999,9,     -999,9,     -999,9,     -999,     -999,9,20150902,0813,   1651.3,  87.6323, 179.3001,     -999,9,     -999,9
33HQ20150809  ,ARC01      ,30      , 10,24         ,    6189,   11159,GSNIS-24   ,2,20150902,0725,  87.6291, 179.1997,     3949,   1676.0,  -0.3908,  34.9379,3,     -999,9,    292.6,2,     -999,9,    10.35,2,    13.96,2,     0.00,2,     0.97,2,     -999,9,     -999,9,     -999,9,     -999,9,     -999,9,     -999,9,     -999,9,     -999,     -999,9,     -999,9,     -999,9,     -999,9,  -0.3908,2,     -999,9,     -999,9,     -999,     -999,9,     -999,9,     -999,9,     -999,     -999,9,20150902,0813,   1651.3,  87.6323, 179.3003,     -999,9,     -999,9
33HQ20150809  ,ARC01      ,30      , 10,19         ,    6189,   11160,GSNIS-19   ,2,20150902,0725,  87.6291, 179.1997,     3949,   1930.7,  -0.4051,  34.9490,3,  34.9470,2,    290.1,2,    290.5,2,    11.52,2,    14.26,2,     0.00,2,     1.00,2,    0.086,2,    0.033,2,    0.001,2,    0.000,2,   2151.3,2,   2297.5,2,   7.7365,2,    25.00,     46.3,2,     -999,1,     -999,1,     -999,1,  -0.4051,2,     1.25,2,     -999,1,     -999,    15.79,2,     -999,1,     -999,9,     0.64,   0.6401,2,20150902,0808,   1901.2,  87.6319, 179.2883,     -999,9,  35.1117,2
33HQ20150809  ,ARC01      ,30      , 10,20         ,    6189,   11160,GSNIS-20   ,2,20150902,0725,  87.6291, 179.1997,     3949,   1930.8,  -0.4051,  34.9490,3,     -999,9,    290.1,2,     -999,9,    11.52,2,    14.27,2,     0.00,2,     0.98,2,     -999,9,     -999,9,     -999,9,     -999,9,     -999,9,     -999,9,     -999,9,     -999,     -999,9,     -999,9,     -999,9,     -999,9,     -999,9,     -999,9,     -999,9,     -999,     -999,9,     -999,9,     -999,9,     -999,     -999,9,20150902,0808,   1901.3,  87.6319, 179.2885,     -999,9,     -999,9
33HQ20150809  ,ARC01      ,30      , 10,21         ,    6189,   11160,GSNIS-21   ,2,20150902,0725,  87.6291, 179.1997,     3949,   1930.9,  -0.4051,  34.9489,3,     -999,9,    290.1,2,     -999,9,    11.52,2,    14.24,2,     0.00,2,     1.00,2,     -999,9,     -999,9,     -999,9,     -999,9,     -999,9,     -999,9,     -999,9,     -999,     -999,9,     -999,9,     -999,9,     -999,9,  -0.4051,2,     -999,9,     -999,9,     -999,     -999,9,     -999,9,     -999,9,     -999,     -999,9,20150902,0808,   1901.4,  87.6319, 179.2887,     -999,9,     -999,9
33HQ20150809  ,ARC01      ,30      , 10,17         ,    6189,   11161,GSNIS-17   ,2,20150902,0725,  87.6291, 179.1997,     3949,   2441.0,  -0.3860,  34.9582,3,     -999,9,    287.6,2,     -999,9,    12.50,2,    14.45,2,     0.00,2,     1.00,2,     -999,9,     -999,9,     -999,9,     -999,9,     -999,9,     -999,9,     -999,9,     -999,     -999,9,     -999,9,     -999,9,     -999,9,     -999,9,     -999,9,     -999,9,     -999,     -999,9,     -999,9,     -999,9,     -999,     -999,9,20150902,0759,   2400.9,  87.6313, 179.2682,     -999,9,     -999,9
33HQ20150809  ,ARC01      ,30      , 10,16         ,    6189,   11161,GSNIS-16   ,2,20150902,0725,  87.6291, 179.1997,     3949,   2441.0,  -0.3860,  34.9582,3,  34.9499,4,    287.6,2,    287.8,2,    12.60,2,    14.47,2,     0.00,2,     1.01,2,    0.125,3,    0.066,3,    0.010,3,    0.020,3,   2150.5,2,   2299.9,2,   7.7341,2,    25.00,     43.6,2,     -999,1,     -999,1,     -999,1,  -0.3859,2,     1.24,2,     -999,1,     -999,    15.80,2,     -999,1,     -999,9,     1.56,   1.5638,2,20150902,0758,   2400.8,  87.6313, 179.2681,     -999,9,  35.1147,4
33HQ20150809  ,ARC01      ,30      , 10,18         ,    6189,   11161,GSNIS-18   ,2,20150902,0725,  87.6291, 179.1997,     3949,   2441.1,  -0.3859,  34.9581,3,     -999,9,    287.6,2,     -999,9,    12.40,2,    14.45,2,     0.00,2,     1.00,2,     -999,9,     -999,9,     -999,9,     -999,9,     -999,9,     -999,9,     -999,9,     -999,     -999,9,     -999,9,     -999,9,     -999,9,  -0.3859,2,     -999,9,     -999,9,     -999,     -999,9,     -999,9,     -999,9,     -999,     -999,9,20150902,0759,   2401.0,  87.6313, 179.2685,     -999,9,     -999,9
33HQ20150809  ,ARC01      ,30      , 10,13         ,    6189,   11162,GSNIS-13   ,2,20150902,0725,  87.6291, 179.1997,     3949,   2952.2,  -0.3550,  34.9601,3,  34.9537,2,    287.7,2,    288.3,2,    12.40,2,    14.45,2,     0.00,2,     1.00,2,    0.027,2,    0.011,2,    0.000,2,    0.000,2,   2149.9,2,   2301.2,2,   7.7395,2,    25.00,     43.5,2,     -999,1,     -999,1,     -999,1,  -0.3549,2,     1.23,2,     -999,1,     -999,    15.87,2,     -999,1,     -999,9,     0.57,   0.5702,2,20150902,0750,   2900.2,  87.6307, 179.2493,     -999,9,  35.1185,2
33HQ20150809  ,ARC01      ,30      , 10,14         ,    6189,   11162,GSNIS-14   ,2,20150902,0725,  87.6291, 179.1997,     3949,   2952.3,  -0.3550,  34.9601,3,     -999,9,    287.7,2,     -999,9,    12.40,2,    14.42,2,     0.00,2,     1.01,2,     -999,9,     -999,9,     -999,9,     -999,9,     -999,9,     -999,9,     -999,9,     -999,     -999,9,     -999,9,     -999,9,     -999,9,     -999,9,     -999,9,     -999,9,     -999,     -999,9,     -999,9,     -999,9,     -999,     -999,9,20150902,0750,   2900.3,  87.6307, 179.2494,     -999,9,     -999,9
33HQ20150809  ,ARC01      ,30      , 10,15         ,    6189,   11162,GSNIS-15   ,2,20150902,0725,  87.6291, 179.1997,     3949,   2952.3,  -0.3550,  34.9601,3,     -999,9,    287.7,2,     -999,9,    12.40,2,    14.44,2,     0.00,2,     1.00,2,     -999,9,     -999,9,     -999,9,     -999,9,     -999,9,     -999,9,     -999,9,     -999,     -999,9,     -999,9,     -999,9,     -999,9,  -0.3549,2,     -999,9,     -999,9,     -999,     -999,9,     -999,9,     -999,9,     -999,     -999,9,20150902,0750,   2900.3,  87.6307, 179.2495,     -999,9,     -999,9
33HQ20150809  ,ARC01      ,30      , 10,10         ,    6189,   11163,GSNIS-10   ,2,20150902,0725,  87.6291, 179.1997,     3949,   3465.3,  -0.3144,  34.9595,3,  34.9523,4,    288.9,2,    289.0,2,    12.11,2,    14.42,2,     0.00,2,     1.00,2,    0.023,2,    0.014,2,    0.000,2,    0.010,2,   2151.1,2,   2300.0,2,   7.7385,2,    25.00,     45.5,2,     -999,1,     -999,1,     -999,1,  -0.3145,2,     1.23,2,     -999,1,     -999,    16.34,2,     -999,1,     -999,9,     0.72,   0.7172,2,20150902,0740,   3400.3,  87.6301, 179.2289,     -999,9,  35.1171,4
33HQ20150809  ,ARC01      ,30      , 10,11         ,    6189,   11163,GSNIS-11   ,2,20150902,0725,  87.6291, 179.1997,     3949,   3465.4,  -0.3144,  34.9595,3,     -999,9,    288.9,2,     -999,9,    12.11,2,    14.45,2,     0.00,2,     0.98,2,     -999,9,     -999,9,     -999,9,     -999,9,     -999,9,     -999,9,     -999,9,     -999,     -999,9,     -999,9,     -999,9,     -999,9,     -999,9,     -999,9,     -999,9,     -999,     -999,9,     -999,9,     -999,9,     -999,     -999,9,20150902,0740,   3400.3,  87.6301, 179.2290,     -999,9,     -999,9
33HQ20150809  ,ARC01      ,30      , 10,12         ,    6189,   11163,GSNIS-12   ,2,20150902,0725,  87.6291, 179.1997,     3949,   3465.4,  -0.3144,  34.9596,3,     -999,9,    288.9,2,     -999,9,    12.21,2,    14.43,2,     0.00,2,     1.01,2,     -999,9,     -999,9,     -999,9,     -999,9,     -999,9,     -999,9,     -999,9,     -999,     -999,9,     -999,9,     -999,9,     -999,9,  -0.3143,2,     -999,9,     -999,9,     -999,     -999,9,     -999,9,     -999,9,     -999,     -999,9,20150902,0740,   3400.3,  87.6301, 179.2292,     -999,9,     -999,9
33HQ20150809  ,ARC01      ,30      , 10,9          ,    6189,   11164,GSNIS-9    ,2,20150902,0725,  87.6291, 179.1997,     3949,   3868.8,  -0.2753,  34.9603,3,     -999,9,    288.8,2,     -999,9,    12.21,2,    14.41,2,     0.00,2,     1.01,2,     -999,9,     -999,9,     -999,9,     -999,9,     -999,9,     -999,9,     -999,9,     -999,     -999,9,     -999,9,     -999,9,     -999,9,  -0.2754,2,     -999,9,     -999,9,     -999,     -999,9,     -999,9,     -999,9,     -999,     -999,9,20150902,0733,   3792.7,  87.6296, 179.2145,     -999,9,     -999,9
33HQ20150809  ,ARC01      ,30      , 10,8          ,    6189,   11164,GSNIS-8    ,2,20150902,0725,  87.6291, 179.1997,     3949,   3868.8,  -0.2753,  34.9603,3,     -999,9,    288.8,2,     -999,9,    12.21,2,    14.43,2,     0.00,2,     1.00,2,     -999,9,     -999,9,     -999,9,     -999,9,     -999,9,     -999,9,     -999,9,     -999,     -999,9,     -999,9,     -999,9,     -999,9,     -999,9,     -999,9,     -999,9,     -999,     -999,9,     -999,9,     -999,9,     -999,     -999,9,20150902,0733,   3792.7,  87.6296, 179.2144,     -999,9,     -999,9
33HQ20150809  ,ARC01      ,30      , 10,7          ,    6189,   11164,GSNIS-7    ,2,20150902,0725,  87.6291, 179.1997,     3949,   3868.8,  -0.2753,  34.9603,3,  34.9543,2,    288.8,2,    289.2,2,    12.21,2,    14.44,2,     0.00,2,     1.00,2,    0.021,2,    0.012,2,    0.000,2,    0.016,2,   2151.1,2,   2300.0,2,     -999,5,     -999,     43.0,2,     -999,1,     -999,1,     -999,1,  -0.2754,2,     1.23,2,     -999,1,     -999,    16.55,2,     -999,1,     -999,9,     0.61,   0.6133,2,20150902,0733,   3792.6,  87.6296, 179.2142,     -999,9,  35.1191,2
33HQ20150809  ,ARC01      ,30      , 10,4          ,    6189,   11165,GSNIS-4    ,2,20150902,0725,  87.6291, 179.1997,     3949,   3947.0,  -0.2672,  34.9601,3,  34.9563,2,    289.1,2,    289.2,2,    12.21,2,    14.43,2,     0.00,2,     1.01,2,    0.023,2,    0.013,2,    0.000,2,    0.016,2,   2150.1,2,   2301.5,2,   7.7362,2,    25.00,     45.4,2,     -999,1,     -999,1,     -999,1,  -0.2673,2,     1.24,2,     -999,1,     -999,    15.63,2,     -999,1,     -999,9,     0.78,   0.7782,2,20150902,0730,   3868.6,  87.6294, 179.2089,     -999,9,  35.1211,2
33HQ20150809  ,ARC01      ,30      , 10,6          ,    6189,   11165,GSNIS-6    ,2,20150902,0725,  87.6291, 179.1997,     3949,   3947.0,  -0.2671,  34.9601,3,     -999,9,    289.1,2,     -999,9,    12.21,2,    14.43,2,     0.00,2,     1.01,2,     -999,9,     -999,9,     -999,9,     -999,9,     -999,9,     -999,9,     -999,9,     -999,     -999,9,     -999,9,     -999,9,     -999,9,  -0.2673,2,     -999,9,     -999,9,     -999,     -999,9,     -999,9,     -999,9,     -999,     -999,9,20150902,0730,   3868.6,  87.6294, 179.2095,     -999,9,     -999,9
33HQ20150809  ,ARC01      ,30      , 10,5          ,    6189,   11165,GSNIS-5    ,2,20150902,0725,  87.6291, 179.1997,     3949,   3947.0,  -0.2671,  34.9601,3,     -999,9,    289.1,2,     -999,9,    12.21,2,    14.43,2,     0.00,2,     1.01,2,     -999,9,     -999,9,     -999,9,     -999,9,     -999,9,     -999,9,     -999,9,     -999,     -999,9,     -999,9,     -999,9,     -999,9,  -0.2673,2,     -999,9,     -999,9,     -999,     -999,9,     -999,9,     -999,9,     -999,     -999,9,20150902,0730,   3868.6,  87.6294, 179.2092,     -999,9,     -999,9