BOTTLE,20221220CCHSIOAMB
EXPOCODE,SECT_ID,STNNBR,CASTNO,SAMPNO,GEOTR_EVENT,GEOTR_SAMPNO,BTLNBR,BTLNBR_FLAG_W,DATE,TIME,LATITUDE,LONGITUDE,DEPTH,CTDPRS,CTDTMP,CTDSAL,CTDSAL_FLAG_W,SALNTY,SALNTY_FLAG_W,CTDOXY,CTDOXY_FLAG_W,OXYGEN,OXYGEN_FLAG_W,SILCAT,SILCAT_FLAG_W,NITRAT,NITRAT_FLAG_W,NITRIT,NITRIT_FLAG_W,PHSPHT,PHSPHT_FLAG_W,CFC-11,CFC-11_FLAG_W,CFC-12,CFC-12_FLAG_W,CFC113,CFC113_FLAG_W,SF6,SF6_FLAG_W,TCARBN,TCARBN_FLAG_W,ALKALI,ALKALI_FLAG_W,PH_SWS,PH_SWS_FLAG_W,PH_TMP,DOC,DOC_FLAG_W,TRITUM,TRITUM_FLAG_W,HELIUM,HELIUM_FLAG_W,DELHE3,DELHE3_FLAG_W,REFTMP,REFTMP_FLAG_W,DELC13,DELC13_FLAG_W,DELC14,DELC14_FLAG_W,C14ERR,TDN,TDN_FLAG_W,DELO18,DELO18_FLAG_W,DELO17,DELO17_FLAG_W,CH4,CH4,CH4_FLAG_W,BTL_DATE,BTL_TIME,CTDDEPTH,BTL_LAT,BTL_LON,LAB_DEN,LAB_DEN_FLAG_W,SALTREF,SALTREF_FLAG_W
,,,,,,,,,,,,,METERS,DBAR,ITS-90,PSS-78,,PSS-78,,UMOL/KG,,UMOL/KG,,UMOL/KG,,UMOL/KG,,UMOL/KG,,UMOL/KG,,PMOL/KG,,PMOL/KG,,PMOL/KG,,FMOL/KG,,UMOL/KG,,UMOL/KG,,,,DEG C,UMOL/KG,,TU,,NMOL/KG,,PERCNT,,ITS-90,,/MILLE,,/MILLE,,/MILLE,UMOL/KG,,/MILLE,,/MILLE,,NMOL/KG,NMOL/L,,,,METERS,,,KG/M^3,,G/KG,
33HQ20150809  ,ARC01      ,46      ,  1,35         ,    6329,   11660,GSNIS-35   ,2,20150919,0218,  82.4907,-149.8719,     3026,      5.3,  -1.5297,  28.2175,2,     -999,9,    390.9,2,     -999,9,     2.26,2,     0.00,2,     0.00,2,     0.57,2,     -999,9,     -999,9,     -999,9,     -999,9,     -999,9,     -999,9,     -999,9,     -999,     -999,9,     -999,9,     -999,9,     -999,9,  -1.5290,2,     -999,9,     -999,9,     -999,     -999,9,     -999,9,     -999,9,     -999,     -999,9,20150919,0256,      5.2,  82.4899,-149.8595,     -999,9,     -999,9
33HQ20150809  ,ARC01      ,46      ,  1,34         ,    6329,   11660,GSNIS-34   ,2,20150919,0218,  82.4907,-149.8719,     3026,      5.3,  -1.5294,  28.2175,2,  28.2143,2,    390.9,2,    390.4,2,     2.16,2,     0.00,2,     0.00,2,     0.56,2,    6.957,2,    3.716,2,    0.636,2,    3.660,2,   1926.4,2,   2028.4,2,   7.7683,4,    25.00,     76.3,2,     -999,1,     -999,1,     -999,1,  -1.5290,2,     1.46,2,     -999,1,     -999,     3.02,2,     -999,1,     -999,9,     -999,     -999,1,20150919,0256,      5.2,  82.4899,-149.8595,     -999,9,  28.3474,2
33HQ20150809  ,ARC01      ,46      ,  1,36         ,    6329,   11660,GSNIS-36   ,2,20150919,0218,  82.4907,-149.8719,     3026,      5.3,  -1.5296,  28.2174,2,     -999,9,    390.9,2,     -999,9,     2.26,2,     0.01,2,     0.00,2,     0.57,2,     -999,9,     -999,9,     -999,9,     -999,9,     -999,9,     -999,9,     -999,9,     -999,     -999,9,     -999,9,     -999,9,     -999,9,  -1.5293,2,     -999,9,     -999,9,     -999,     -999,9,     -999,9,     -999,9,     -999,     -999,9,20150919,0256,      5.2,  82.4899,-149.8594,     -999,9,     -999,9
33HQ20150809  ,ARC01      ,46      ,  1,33         ,    6329,   11661,GSNIS-33   ,2,20150919,0218,  82.4907,-149.8719,     3026,     20.3,  -1.5165,  28.2905,2,     -999,9,    392.5,2,     -999,9,     2.26,2,     0.00,2,     0.00,2,     0.56,2,     -999,9,     -999,9,     -999,9,     -999,9,     -999,9,     -999,9,     -999,9,     -999,     -999,9,     -999,9,     -999,9,     -999,9,  -1.5181,2,     -999,9,     -999,9,     -999,     -999,9,     -999,9,     -999,9,     -999,     -999,9,20150919,0253,     20.1,  82.4900,-149.8601,     -999,9,     -999,9
33HQ20150809  ,ARC01      ,46      ,  1,32         ,    6329,   11661,GSNIS-32   ,2,20150919,0218,  82.4907,-149.8719,     3026,     20.3,  -1.5271,  28.2473,2,     -999,9,    392.5,2,     -999,9,     2.26,2,     0.00,2,     0.00,2,     0.56,2,     -999,9,     -999,9,     -999,9,     -999,9,     -999,9,     -999,9,     -999,9,     -999,     -999,9,     -999,9,     -999,9,     -999,9,  -1.5210,2,     -999,9,     -999,9,     -999,     -999,9,     -999,9,     -999,9,     -999,     -999,9,20150919,0253,     20.1,  82.4900,-149.8601,     -999,9,     -999,9
33HQ20150809  ,ARC01      ,46      ,  1,31         ,    6329,   11661,GSNIS-31   ,2,20150919,0218,  82.4907,-149.8719,     3026,     20.3,  -1.5209,  28.2675,2,  28.2896,2,    392.5,2,    391.5,2,     2.26,2,     0.00,2,     0.00,2,     0.56,2,    7.012,2,    3.781,2,    0.643,2,    3.593,2,   1934.0,2,   2035.7,2,   7.7080,2,    25.00,     76.1,2,     -999,1,     -999,1,     -999,1,  -1.5173,2,     1.47,2,     -999,1,     -999,     3.67,2,     -999,1,     -999,9,     -999,     -999,1,20150919,0253,     20.1,  82.4900,-149.8602,     -999,9,  28.4230,2
33HQ20150809  ,ARC01      ,46      ,  1,30         ,    6329,   11662,GSNIS-30   ,2,20150919,0218,  82.4907,-149.8719,     3026,     34.5,  -1.4041,  29.2697,2,     -999,9,    397.8,2,     -999,9,     2.35,2,     0.00,2,     0.00,2,     0.58,2,     -999,9,     -999,9,     -999,9,     -999,9,     -999,9,     -999,9,     -999,9,     -999,     -999,9,     -999,9,     -999,9,     -999,9,  -1.4022,2,     -999,9,     -999,9,     -999,     -999,9,     -999,9,     -999,9,     -999,     -999,9,20150919,0251,     34.1,  82.4901,-149.8607,     -999,9,     -999,9
33HQ20150809  ,ARC01      ,46      ,  1,29         ,    6329,   11662,GSNIS-29   ,2,20150919,0218,  82.4907,-149.8719,     3026,     34.5,  -1.4037,  29.2701,2,     -999,9,    397.8,2,     -999,9,     2.25,2,     0.00,2,     0.00,2,     0.59,2,     -999,9,     -999,9,     -999,9,     -999,9,     -999,9,     -999,9,     -999,9,     -999,     -999,9,     -999,9,     -999,9,     -999,9,  -1.4013,2,     -999,9,     -999,9,     -999,     -999,9,     -999,9,     -999,9,     -999,     -999,9,20150919,0251,     34.1,  82.4901,-149.8607,     -999,9,     -999,9
33HQ20150809  ,ARC01      ,46      ,  1,28         ,    6329,   11662,GSNIS-28   ,2,20150919,0218,  82.4907,-149.8719,     3026,     34.5,  -1.4026,  29.2706,2,  29.2788,2,    397.8,2,    399.3,2,     2.25,2,     0.00,2,     0.00,2,     0.59,2,    7.048,2,    3.751,2,    0.637,2,    3.427,2,   1998.6,2,   2105.8,2,   7.7125,2,    25.00,     78.9,2,     -999,1,     -999,1,     -999,1,  -1.4014,2,     1.49,2,     -999,1,     -999,     4.42,2,     -999,1,     -999,9,     -999,     -999,1,20150919,0251,     34.1,  82.4901,-149.8608,     -999,9,  29.4169,2
33HQ20150809  ,ARC01      ,46      ,  1,27         ,    6329,   11663,GSNIS-27   ,2,20150919,0218,  82.4907,-149.8719,     3026,     52.6,  -1.4684,  29.4268,2,     -999,9,    392.1,2,     -999,9,     2.84,2,     0.20,2,     0.06,2,     0.65,2,     -999,9,     -999,9,     -999,9,     -999,9,     -999,9,     -999,9,     -999,9,     -999,     -999,9,     -999,9,     -999,9,     -999,9,  -1.4691,2,     -999,9,     -999,9,     -999,     -999,9,     -999,9,     -999,9,     -999,     -999,9,20150919,0248,     52.1,  82.4901,-149.8616,     -999,9,     -999,9
33HQ20150809  ,ARC01      ,46      ,  1,26         ,    6329,   11663,GSNIS-26   ,2,20150919,0218,  82.4907,-149.8719,     3026,     52.6,  -1.4686,  29.4254,2,     -999,9,    392.1,2,     -999,9,     2.74,2,     0.15,2,     0.06,2,     0.64,2,     -999,9,     -999,9,     -999,9,     -999,9,     -999,9,     -999,9,     -999,9,     -999,     -999,9,     -999,9,     -999,9,     -999,9,  -1.4698,2,     -999,9,     -999,9,     -999,     -999,9,     -999,9,     -999,9,     -999,     -999,9,20150919,0248,     52.1,  82.4901,-149.8616,     -999,9,     -999,9
33HQ20150809  ,ARC01      ,46      ,  1,25         ,    6329,   11663,GSNIS-25   ,2,20150919,0218,  82.4907,-149.8719,     3026,     52.6,  -1.4697,  29.4243,2,  29.4823,2,    392.1,2,    394.7,2,     2.55,2,     0.04,2,     0.05,2,     0.62,2,    7.042,2,    3.773,2,    0.622,2,    3.323,2,   2007.0,2,   2111.6,2,   7.7049,2,    25.00,     73.8,2,     -999,1,     -999,1,     -999,1,  -1.4708,2,     1.44,2,     -999,1,     -999,     4.59,2,     -999,1,     -999,9,     -999,     -999,1,20150919,0248,     52.1,  82.4901,-149.8617,     -999,9,  29.6213,2
33HQ20150809  ,ARC01      ,46      ,  1,24         ,    6329,   11664,GSNIS-24   ,2,20150919,0218,  82.4907,-149.8719,     3026,     65.8,  -0.9062,  31.4227,2,     -999,9,    337.0,2,     -999,9,    13.12,2,     5.30,2,     0.01,2,     1.10,2,     -999,9,     -999,9,     -999,9,     -999,9,     -999,9,     -999,9,     -999,9,     -999,     -999,9,     -999,9,     -999,9,     -999,9,  -0.9062,2,     -999,9,     -999,9,     -999,     -999,9,     -999,9,     -999,9,     -999,     -999,9,20150919,0246,     65.1,  82.4902,-149.8622,     -999,9,     -999,9
33HQ20150809  ,ARC01      ,46      ,  1,23         ,    6329,   11664,GSNIS-23   ,2,20150919,0218,  82.4907,-149.8719,     3026,     65.8,  -0.9064,  31.4192,2,     -999,9,    337.0,2,     -999,9,    13.31,2,     5.39,2,     0.01,2,     1.11,2,     -999,9,     -999,9,     -999,9,     -999,9,     -999,9,     -999,9,     -999,9,     -999,     -999,9,     -999,9,     -999,9,     -999,9,  -0.9063,2,     -999,9,     -999,9,     -999,     -999,9,     -999,9,     -999,9,     -999,     -999,9,20150919,0246,     65.1,  82.4902,-149.8622,     -999,9,     -999,9
33HQ20150809  ,ARC01      ,46      ,  1,22         ,    6329,   11664,GSNIS-22   ,2,20150919,0218,  82.4907,-149.8719,     3026,     65.8,  -0.9064,  31.4187,2,  31.4410,2,    337.0,2,    340.5,2,    11.94,2,     4.74,2,     0.01,2,     1.08,2,    6.526,2,    3.520,2,    0.473,2,    2.834,2,   2095.9,2,   2186.0,2,   7.6235,2,    25.00,     69.0,2,     -999,1,     -999,1,     -999,1,  -0.9062,2,     0.93,2,     -999,1,     -999,     8.27,2,     -999,1,     -999,9,     -999,     -999,1,20150919,0246,     65.1,  82.4902,-149.8623,     -999,9,  31.5893,2
33HQ20150809  ,ARC01      ,46      ,  1,19         ,    6329,   11665,GSNIS-19   ,2,20150919,0218,  82.4907,-149.8719,     3026,     90.9,  -1.2046,  32.2196,2,  32.2485,2,    296.0,2,    297.0,2,    24.36,2,    10.53,2,     0.00,2,     1.54,2,    6.274,2,    3.401,2,    0.448,2,    2.538,2,   2167.7,2,   2221.7,2,   7.5086,2,    25.00,     64.7,2,     -999,1,     -999,1,     -999,1,  -1.2044,2,     0.37,2,     -999,1,     -999,    13.64,2,     -999,1,     -999,9,     -999,     -999,1,20150919,0244,     89.9,  82.4902,-149.8629,     -999,9,  32.4006,2
33HQ20150809  ,ARC01      ,46      ,  1,21         ,    6329,   11665,GSNIS-21   ,2,20150919,0218,  82.4907,-149.8719,     3026,     90.9,  -1.2046,  32.2197,2,     -999,9,    296.0,2,     -999,9,    25.34,2,    10.92,2,     0.00,2,     1.57,2,     -999,9,     -999,9,     -999,9,     -999,9,     -999,9,     -999,9,     -999,9,     -999,     -999,9,     -999,9,     -999,9,     -999,9,  -1.2042,2,     -999,9,     -999,9,     -999,     -999,9,     -999,9,     -999,9,     -999,     -999,9,20150919,0244,     89.9,  82.4902,-149.8628,     -999,9,     -999,9
33HQ20150809  ,ARC01      ,46      ,  1,20         ,    6329,   11665,GSNIS-20   ,2,20150919,0218,  82.4907,-149.8719,     3026,     90.9,  -1.2045,  32.2194,2,     -999,9,    296.0,2,     -999,9,    25.04,2,    10.84,2,     0.00,2,     1.56,2,     -999,9,     -999,9,     -999,9,     -999,9,     -999,9,     -999,9,     -999,9,     -999,     -999,9,     -999,9,     -999,9,     -999,9,  -1.2045,2,     -999,9,     -999,9,     -999,     -999,9,     -999,9,     -999,9,     -999,     -999,9,20150919,0244,     89.9,  82.4902,-149.8628,     -999,9,     -999,9
33HQ20150809  ,ARC01      ,46      ,  1,17         ,    6329,   11666,GSNIS-17   ,2,20150919,0218,  82.4907,-149.8719,     3026,    121.2,  -1.3987,  32.8449,2,     -999,9,    254.7,2,     -999,9,    40.18,2,    15.65,2,     0.00,2,     1.92,2,     -999,9,     -999,9,     -999,9,     -999,9,     -999,9,     -999,9,     -999,9,     -999,     -999,9,     -999,9,     -999,9,     -999,9,  -1.3980,2,     -999,9,     -999,9,     -999,     -999,9,     -999,9,     -999,9,     -999,     -999,9,20150919,0239,    119.9,  82.4903,-149.8645,     -999,9,     -999,9
33HQ20150809  ,ARC01      ,46      ,  1,16         ,    6329,   11666,GSNIS-16   ,2,20150919,0218,  82.4907,-149.8719,     3026,    121.2,  -1.3984,  32.8443,2,  32.8628,2,    254.7,2,    256.0,2,    39.70,2,    15.57,2,     0.00,2,     1.91,2,    6.068,2,    3.363,2,    0.425,2,    2.433,2,   2234.4,2,   2253.4,2,   7.3729,2,    25.00,     64.0,2,     -999,1,     -999,1,     -999,1,  -1.3961,2,    -0.06,2,     -999,1,     -999,    18.40,2,     -999,1,     -999,9,     -999,     -999,1,20150919,0239,    119.9,  82.4903,-149.8646,     -999,9,  33.0178,2
33HQ20150809  ,ARC01      ,46      ,  1,18         ,    6329,   11666,GSNIS-18   ,2,20150919,0218,  82.4907,-149.8719,     3026,    121.2,  -1.3984,  32.8437,2,     -999,9,    254.7,2,     -999,9,    39.89,2,    15.64,2,     0.00,2,     1.93,2,     -999,9,     -999,9,     -999,9,     -999,9,     -999,9,     -999,9,     -999,9,     -999,     -999,9,     -999,9,     -999,9,     -999,9,  -1.3972,2,     -999,9,     -999,9,     -999,     -999,9,     -999,9,     -999,9,     -999,     -999,9,20150919,0239,    119.9,  82.4903,-149.8645,     -999,9,     -999,9
33HQ20150809  ,ARC01      ,46      ,  1,15         ,    6329,   11667,GSNIS-15   ,2,20150919,0218,  82.4907,-149.8719,     3026,    141.7,  -1.3015,  33.4048,2,     -999,9,    257.5,2,     -999,9,    33.33,2,    14.18,2,     0.00,2,     1.61,2,     -999,9,     -999,9,     -999,9,     -999,9,     -999,9,     -999,9,     -999,9,     -999,     -999,9,     -999,9,     -999,9,     -999,9,  -1.3016,2,     -999,9,     -999,9,     -999,     -999,9,     -999,9,     -999,9,     -999,     -999,9,20150919,0237,    140.2,  82.4904,-149.8651,     -999,9,     -999,9
33HQ20150809  ,ARC01      ,46      ,  1,14         ,    6329,   11667,GSNIS-14   ,2,20150919,0218,  82.4907,-149.8719,     3026,    141.7,  -1.3011,  33.4063,2,     -999,9,    257.5,2,     -999,9,    32.06,2,    14.02,2,     0.00,2,     1.58,2,     -999,9,     -999,9,     -999,9,     -999,9,     -999,9,     -999,9,     -999,9,     -999,     -999,9,     -999,9,     -999,9,     -999,9,  -1.3011,2,     -999,9,     -999,9,     -999,     -999,9,     -999,9,     -999,9,     -999,     -999,9,20150919,0237,    140.2,  82.4904,-149.8652,     -999,9,     -999,9
33HQ20150809  ,ARC01      ,46      ,  1,13         ,    6329,   11667,GSNIS-13   ,2,20150919,0218,  82.4907,-149.8719,     3026,    141.7,  -1.3007,  33.4077,2,  33.4623,2,    257.5,2,    256.5,2,    32.64,2,    14.11,2,     0.00,2,     1.60,2,    5.975,2,    3.221,2,    0.398,2,    2.123,2,   2233.7,2,   2270.4,2,   7.4287,2,    25.00,     66.0,2,     -999,1,     -999,1,     -999,1,  -1.3008,2,    -0.01,2,     -999,1,     -999,    18.02,2,     -999,1,     -999,9,     -999,     -999,1,20150919,0237,    140.2,  82.4904,-149.8652,     -999,9,  33.6201,2
33HQ20150809  ,ARC01      ,46      ,  1,12         ,    6329,   11668,GSNIS-12   ,2,20150919,0218,  82.4907,-149.8719,     3026,    202.4,  -0.3252,  34.4111,2,     -999,9,    286.1,2,     -999,9,     9.96,2,    10.71,2,     0.00,2,     0.85,2,     -999,9,     -999,9,     -999,9,     -999,9,     -999,9,     -999,9,     -999,9,     -999,     -999,9,     -999,9,     -999,9,     -999,9,  -0.3259,2,     -999,9,     -999,9,     -999,     -999,9,     -999,9,     -999,9,     -999,     -999,9,20150919,0235,    200.1,  82.4904,-149.8660,     -999,9,     -999,9
33HQ20150809  ,ARC01      ,46      ,  1,11         ,    6329,   11668,GSNIS-11   ,2,20150919,0218,  82.4907,-149.8719,     3026,    202.4,  -0.3247,  34.4113,2,     -999,9,    286.1,2,     -999,9,    10.06,2,    10.70,2,     0.00,2,     0.83,2,     -999,9,     -999,9,     -999,9,     -999,9,     -999,9,     -999,9,     -999,9,     -999,     -999,9,     -999,9,     -999,9,     -999,9,  -0.3257,2,     -999,9,     -999,9,     -999,     -999,9,     -999,9,     -999,9,     -999,     -999,9,20150919,0234,    200.1,  82.4904,-149.8660,     -999,9,     -999,9
33HQ20150809  ,ARC01      ,46      ,  1,10         ,    6329,   11668,GSNIS-10   ,2,20150919,0218,  82.4907,-149.8719,     3026,    202.4,  -0.3244,  34.4112,2,  34.4231,2,    286.1,2,    284.3,2,    10.06,2,    10.69,2,     0.00,2,     0.85,2,    6.106,2,    3.072,2,    0.412,2,    1.539,2,   2174.0,2,   2277.8,2,   7.6218,2,    25.00,     61.2,2,     -999,1,     -999,1,     -999,1,  -0.3230,2,     0.51,2,     -999,1,     -999,    13.36,2,     -999,1,     -999,9,     -999,     -999,1,20150919,0234,    200.1,  82.4904,-149.8661,     -999,9,  34.5854,2
33HQ20150809  ,ARC01      ,46      ,  1,8          ,    6329,   11669,GSNIS-8    ,2,20150919,0218,  82.4907,-149.8719,     3026,    303.7,   0.5947,  34.7721,2,     -999,9,    292.4,2,     -999,9,     6.64,2,    11.91,2,     0.00,2,     0.82,2,     -999,9,     -999,9,     -999,9,     -999,9,     -999,9,     -999,9,     -999,9,     -999,     -999,9,     -999,9,     -999,9,     -999,9,   0.5951,2,     -999,9,     -999,9,     -999,     -999,9,     -999,9,     -999,9,     -999,     -999,9,20150919,0231,    300.3,  82.4905,-149.8673,     -999,9,     -999,9
33HQ20150809  ,ARC01      ,46      ,  1,7          ,    6329,   11669,GSNIS-7    ,2,20150919,0218,  82.4907,-149.8719,     3026,    303.7,   0.5955,  34.7722,2,  34.7801,2,    292.4,2,    292.1,2,     6.64,2,    11.92,2,     0.00,2,     0.83,2,    5.243,2,    2.594,2,    0.360,2,    1.159,2,   2156.8,2,   2288.8,2,   7.6995,2,    25.00,     52.9,2,     -999,1,     -999,1,     -999,1,   0.5948,2,     0.75,2,     -999,1,     -999,    14.91,2,     -999,1,     -999,9,     -999,     -999,1,20150919,0231,    300.3,  82.4905,-149.8674,     -999,9,  34.9441,2
33HQ20150809  ,ARC01      ,46      ,  1,9          ,    6329,   11669,GSNIS-9    ,2,20150919,0218,  82.4907,-149.8719,     3026,    303.8,   0.5944,  34.7721,2,     -999,9,    292.4,2,     -999,9,     6.64,2,    11.90,2,     0.00,2,     0.82,2,     -999,9,     -999,9,     -999,9,     -999,9,     -999,9,     -999,9,     -999,9,     -999,     -999,9,     -999,9,     -999,9,     -999,9,   0.5945,2,     -999,9,     -999,9,     -999,     -999,9,     -999,9,     -999,9,     -999,     -999,9,20150919,0231,    300.3,  82.4905,-149.8672,     -999,9,     -999,9
33HQ20150809  ,ARC01      ,46      ,  1,6          ,    6329,   11670,GSNIS-6    ,2,20150919,0218,  82.4907,-149.8719,     3026,    405.0,   0.7663,  34.8353,2,     -999,9,    294.2,2,     -999,9,     6.74,2,    12.28,2,     0.00,2,     0.85,2,     -999,9,     -999,9,     -999,9,     -999,9,     -999,9,     -999,9,     -999,9,     -999,     -999,9,     -999,9,     -999,9,     -999,9,   0.7669,2,     -999,9,     -999,9,     -999,     -999,9,     -999,9,     -999,9,     -999,     -999,9,20150919,0227,    400.3,  82.4906,-149.8684,     -999,9,     -999,9
33HQ20150809  ,ARC01      ,46      ,  1,5          ,    6329,   11670,GSNIS-5    ,2,20150919,0218,  82.4907,-149.8719,     3026,    405.0,   0.7663,  34.8353,2,     -999,9,    294.2,2,     -999,9,     6.74,2,    12.27,2,     0.00,2,     0.84,2,     -999,9,     -999,9,     -999,9,     -999,9,     -999,9,     -999,9,     -999,9,     -999,     -999,9,     -999,9,     -999,9,     -999,9,   0.7669,2,     -999,9,     -999,9,     -999,     -999,9,     -999,9,     -999,9,     -999,     -999,9,20150919,0227,    400.3,  82.4906,-149.8685,     -999,9,     -999,9
33HQ20150809  ,ARC01      ,46      ,  1,4          ,    6329,   11670,GSNIS-4    ,2,20150919,0218,  82.4907,-149.8719,     3026,    405.0,   0.7663,  34.8353,2,  34.8357,2,    294.2,2,    294.3,2,     6.83,2,    12.29,2,     0.00,2,     0.85,2,    4.808,2,    2.292,2,    0.303,2,    0.892,2,   1998.4,4,   2290.8,2,   7.7073,2,    25.00,     52.7,2,     -999,1,     -999,1,     -999,1,   0.7663,2,     0.81,2,     -999,1,     -999,    14.70,2,     -999,1,     -999,9,     -999,     -999,1,20150919,0227,    400.3,  82.4906,-149.8686,     -999,9,  35.0000,2