BOTTLE,20221220CCHSIOAMB
EXPOCODE,SECT_ID,STNNBR,CASTNO,SAMPNO,GEOTR_EVENT,GEOTR_SAMPNO,BTLNBR,BTLNBR_FLAG_W,DATE,TIME,LATITUDE,LONGITUDE,DEPTH,CTDPRS,CTDTMP,CTDSAL,CTDSAL_FLAG_W,SALNTY,SALNTY_FLAG_W,CTDOXY,CTDOXY_FLAG_W,OXYGEN,OXYGEN_FLAG_W,SILCAT,SILCAT_FLAG_W,NITRAT,NITRAT_FLAG_W,NITRIT,NITRIT_FLAG_W,PHSPHT,PHSPHT_FLAG_W,CFC-11,CFC-11_FLAG_W,CFC-12,CFC-12_FLAG_W,CFC113,CFC113_FLAG_W,SF6,SF6_FLAG_W,TCARBN,TCARBN_FLAG_W,ALKALI,ALKALI_FLAG_W,PH_SWS,PH_SWS_FLAG_W,PH_TMP,DOC,DOC_FLAG_W,TRITUM,TRITUM_FLAG_W,HELIUM,HELIUM_FLAG_W,DELHE3,DELHE3_FLAG_W,REFTMP,REFTMP_FLAG_W,DELC13,DELC13_FLAG_W,DELC14,DELC14_FLAG_W,C14ERR,TDN,TDN_FLAG_W,DELO18,DELO18_FLAG_W,DELO17,DELO17_FLAG_W,CH4,CH4,CH4_FLAG_W,BTL_DATE,BTL_TIME,CTDDEPTH,BTL_LAT,BTL_LON,LAB_DEN,LAB_DEN_FLAG_W,SALTREF,SALTREF_FLAG_W
,,,,,,,,,,,,,METERS,DBAR,ITS-90,PSS-78,,PSS-78,,UMOL/KG,,UMOL/KG,,UMOL/KG,,UMOL/KG,,UMOL/KG,,UMOL/KG,,PMOL/KG,,PMOL/KG,,PMOL/KG,,FMOL/KG,,UMOL/KG,,UMOL/KG,,,,DEG C,UMOL/KG,,TU,,NMOL/KG,,PERCNT,,ITS-90,,/MILLE,,/MILLE,,/MILLE,UMOL/KG,,/MILLE,,/MILLE,,NMOL/KG,NMOL/L,,,,METERS,,,KG/M^3,,G/KG,
33HQ20150809  ,ARC01      ,57      ,  1,36         ,    6436,   12097,GSNIS-36   ,2,20151002,1400,  73.5056,-156.8083,     3465,      6.0,  -1.3764,  25.2601,2,     -999,9,    379.8,2,     -999,9,     2.26,2,     0.03,2,     0.00,2,     0.51,2,     -999,9,     -999,9,     -999,9,     -999,9,     -999,9,     -999,9,     -999,9,     -999,     -999,9,     -999,9,     -999,9,     -999,9,  -1.3766,2,     -999,9,     -999,9,     -999,     -999,9,     -999,9,     -999,9,     -999,     -999,9,20151002,1445,      5.9,  73.5064,-156.7574,     -999,9,     -999,9
33HQ20150809  ,ARC01      ,57      ,  1,35         ,    6436,   12097,GSNIS-35   ,2,20151002,1400,  73.5056,-156.8083,     3465,      6.0,  -1.3765,  25.2601,2,     -999,9,    379.8,2,     -999,9,     2.26,2,     0.03,2,     0.00,2,     0.50,2,     -999,9,     -999,9,     -999,9,     -999,9,     -999,9,     -999,9,     -999,9,     -999,     -999,9,     -999,9,     -999,9,     -999,9,     -999,9,     -999,9,     -999,9,     -999,     -999,9,     -999,9,     -999,9,     -999,     -999,9,20151002,1445,      5.9,  73.5064,-156.7574,     -999,9,     -999,9
33HQ20150809  ,ARC01      ,57      ,  1,34         ,    6436,   12097,GSNIS-34   ,2,20151002,1400,  73.5056,-156.8083,     3465,      6.0,  -1.3765,  25.2601,2,  25.2548,2,    379.8,2,    386.5,2,     2.26,2,     0.03,2,     0.00,2,     0.50,2,    7.164,2,    3.762,2,    0.676,2,    3.580,2,   1761.8,2,   1822.4,2,   7.5491,3,    25.00,     63.8,2,     -999,1,     -999,1,     -999,1,  -1.3767,2,     1.47,2,     11.3,2,      2.1,     3.35,2,     -999,1,     -999,9,     -999,     -999,1,20151002,1445,      5.9,  73.5064,-156.7575,     -999,9,  25.3739,2
33HQ20150809  ,ARC01      ,57      ,  1,31         ,    6436,   12098,GSNIS-31   ,2,20151002,1400,  73.5056,-156.8083,     3465,     19.9,  -1.3657,  25.2938,2,  25.3244,3,    382.3,2,    386.4,2,     2.26,2,     0.03,2,     0.00,2,     0.50,2,    7.029,2,    3.743,2,    0.665,2,    3.709,2,   1766.4,2,   1828.0,2,   7.4006,3,    25.00,     64.4,2,     -999,1,     -999,1,     -999,1,  -1.3626,2,     1.48,2,      8.5,2,      1.9,     2.92,2,     -999,1,     -999,9,     -999,     -999,1,20151002,1442,     19.7,  73.5063,-156.7606,     -999,9,  25.4439,3
33HQ20150809  ,ARC01      ,57      ,  1,33         ,    6436,   12098,GSNIS-33   ,2,20151002,1400,  73.5056,-156.8083,     3465,     20.5,  -1.3632,  25.2996,2,     -999,9,    382.6,2,     -999,9,     2.26,2,     0.03,2,     0.00,2,     0.50,2,     -999,9,     -999,9,     -999,9,     -999,9,     -999,9,     -999,9,     -999,9,     -999,     -999,9,     -999,9,     -999,9,     -999,9,  -1.3663,2,     -999,9,     -999,9,     -999,     -999,9,     -999,9,     -999,9,     -999,     -999,9,20151002,1442,     20.3,  73.5063,-156.7606,     -999,9,     -999,9
33HQ20150809  ,ARC01      ,57      ,  1,32         ,    6436,   12098,GSNIS-32   ,2,20151002,1400,  73.5056,-156.8083,     3465,     20.9,  -1.3627,  25.3014,2,     -999,9,    382.6,2,     -999,9,     2.16,2,     0.03,2,     0.00,2,     0.49,2,     -999,9,     -999,9,     -999,9,     -999,9,     -999,9,     -999,9,     -999,9,     -999,     -999,9,     -999,9,     -999,9,     -999,9,     -999,9,     -999,9,     -999,9,     -999,     -999,9,     -999,9,     -999,9,     -999,     -999,9,20151002,1442,     20.6,  73.5063,-156.7606,     -999,9,     -999,9
33HQ20150809  ,ARC01      ,57      ,  1,30         ,    6436,   12099,GSNIS-30   ,2,20151002,1400,  73.5056,-156.8083,     3465,     37.9,  -0.7156,  28.3957,2,     -999,9,    394.8,2,     -999,9,     2.65,2,     0.03,2,     0.00,2,     0.58,2,     -999,9,     -999,9,     -999,9,     -999,9,     -999,9,     -999,9,     -999,9,     -999,     -999,9,     -999,9,     -999,9,     -999,9,     -999,9,     -999,9,     -999,9,     -999,     -999,9,     -999,9,     -999,9,     -999,     -999,9,20151002,1440,     37.5,  73.5062,-156.7632,     -999,9,     -999,9
33HQ20150809  ,ARC01      ,57      ,  1,28         ,    6436,   12099,GSNIS-28   ,2,20151002,1400,  73.5056,-156.8083,     3465,     38.6,  -0.7570,  28.4371,2,  28.4301,2,    391.3,2,    397.7,2,     2.55,2,     0.03,2,     0.00,2,     0.58,2,    7.254,2,    3.858,2,    0.665,2,    3.538,2,   1953.6,2,   2044.9,2,   7.6702,2,    25.00,     71.8,2,     -999,1,     -999,1,     -999,1,  -0.7976,4,     1.53,2,      4.1,2,      1.9,     4.03,2,     -999,1,     -999,9,     -999,     -999,1,20151002,1440,     38.2,  73.5062,-156.7633,     -999,9,  28.5641,2
33HQ20150809  ,ARC01      ,57      ,  1,29         ,    6436,   12099,GSNIS-29   ,2,20151002,1400,  73.5056,-156.8083,     3465,     38.7,  -0.7391,  28.4146,2,     -999,9,    394.8,2,     -999,9,     2.65,2,     0.05,2,     0.00,2,     0.57,2,     -999,9,     -999,9,     -999,9,     -999,9,     -999,9,     -999,9,     -999,9,     -999,     -999,9,     -999,9,     -999,9,     -999,9,  -0.7324,2,     -999,9,     -999,9,     -999,     -999,9,     -999,9,     -999,9,     -999,     -999,9,20151002,1440,     38.3,  73.5062,-156.7632,     -999,9,     -999,9
33HQ20150809  ,ARC01      ,57      ,  1,26         ,    6436,   12100,GSNIS-26   ,2,20151002,1400,  73.5056,-156.8083,     3465,     57.3,   0.3011,  30.6292,2,     -999,9,    378.3,2,     -999,9,     3.92,2,     0.02,2,     0.00,2,     0.73,2,     -999,9,     -999,9,     -999,9,     -999,9,     -999,9,     -999,9,     -999,9,     -999,     -999,9,     -999,9,     -999,9,     -999,9,     -999,9,     -999,9,     -999,9,     -999,     -999,9,     -999,9,     -999,9,     -999,     -999,9,20151002,1438,     56.7,  73.5062,-156.7659,     -999,9,     -999,9
33HQ20150809  ,ARC01      ,57      ,  1,25         ,    6436,   12100,GSNIS-25   ,2,20151002,1400,  73.5056,-156.8083,     3465,     57.4,   0.2977,  30.6400,2,  30.6039,3,    378.3,2,    378.8,2,     3.92,2,     0.02,2,     0.00,2,     0.73,2,    6.781,2,    3.598,2,    0.519,2,    2.588,2,   2027.9,2,   2154.4,2,   7.6236,4,    25.00,     68.3,2,     -999,1,     -999,1,     -999,1,   0.2983,2,     1.51,2,      2.4,2,      1.9,     3.90,2,     -999,1,     -999,9,     -999,     -999,1,20151002,1438,     56.8,  73.5062,-156.7659,     -999,9,  30.7483,3
33HQ20150809  ,ARC01      ,57      ,  1,27         ,    6436,   12100,GSNIS-27   ,2,20151002,1400,  73.5056,-156.8083,     3465,     57.6,   0.2979,  30.6416,2,     -999,9,    378.3,2,     -999,9,     3.92,2,     0.03,2,     0.00,2,     0.73,2,     -999,9,     -999,9,     -999,9,     -999,9,     -999,9,     -999,9,     -999,9,     -999,     -999,9,     -999,9,     -999,9,     -999,9,     -999,9,     -999,9,     -999,9,     -999,     -999,9,     -999,9,     -999,9,     -999,     -999,9,20151002,1438,     57.0,  73.5062,-156.7658,     -999,9,     -999,9
33HQ20150809  ,ARC01      ,57      ,  1,23         ,    6436,   12101,GSNIS-23   ,2,20151002,1400,  73.5056,-156.8083,     3465,     66.3,   0.0559,  31.1433,2,     -999,9,    369.6,2,     -999,9,     5.29,2,     0.21,2,     0.05,2,     0.81,2,     -999,9,     -999,9,     -999,9,     -999,9,     -999,9,     -999,9,     -999,9,     -999,     -999,9,     -999,9,     -999,9,     -999,9,     -999,9,     -999,9,     -999,9,     -999,     -999,9,     -999,9,     -999,9,     -999,     -999,9,20151002,1436,     65.6,  73.5061,-156.7678,     -999,9,     -999,9
33HQ20150809  ,ARC01      ,57      ,  1,24         ,    6436,   12101,GSNIS-24   ,2,20151002,1400,  73.5056,-156.8083,     3465,     66.3,   0.0572,  31.1425,2,     -999,9,    369.6,2,     -999,9,     5.29,2,     0.21,2,     0.05,2,     0.81,2,     -999,9,     -999,9,     -999,9,     -999,9,     -999,9,     -999,9,     -999,9,     -999,     -999,9,     -999,9,     -999,9,     -999,9,     -999,9,     -999,9,     -999,9,     -999,     -999,9,     -999,9,     -999,9,     -999,     -999,9,20151002,1437,     65.6,  73.5061,-156.7677,     -999,9,     -999,9
33HQ20150809  ,ARC01      ,57      ,  1,22         ,    6436,   12101,GSNIS-22   ,2,20151002,1400,  73.5056,-156.8083,     3465,     66.6,   0.0509,  31.1480,2,  31.1388,2,    368.6,2,    371.6,2,     5.29,2,     0.20,2,     0.05,2,     0.81,2,    6.675,2,    3.438,2,    0.498,2,    2.408,2,   2051.3,2,   2179.2,2,   7.7339,2,    25.00,     67.2,2,     -999,1,     -999,1,     -999,1,   0.0505,2,     1.39,2,      4.6,2,      2.3,     4.83,2,     -999,1,     -999,9,     -999,     -999,1,20151002,1436,     65.9,  73.5061,-156.7678,     -999,9,  31.2857,2
33HQ20150809  ,ARC01      ,57      ,  1,19         ,    6436,   12102,GSNIS-19   ,2,20151002,1400,  73.5056,-156.8083,     3465,     85.8,  -0.7610,  31.8556,2,  31.8439,2,    323.7,2,    326.2,2,    12.82,2,     7.19,2,     0.01,2,     1.25,2,    6.531,2,    3.399,2,    0.469,2,    2.264,2,   2110.2,2,   2206.6,2,   7.6232,2,    25.00,     66.5,2,     -999,1,     -999,1,     -999,1,  -0.7824,2,     0.82,2,     -2.0,2,      2.8,    11.36,2,     -999,1,     -999,9,     -999,     -999,1,20151002,1434,     84.9,  73.5061,-156.7695,     -999,9,  31.9941,2
33HQ20150809  ,ARC01      ,57      ,  1,20         ,    6436,   12102,GSNIS-20   ,2,20151002,1400,  73.5056,-156.8083,     3465,     86.3,  -0.7786,  31.8628,2,     -999,9,    323.2,2,     -999,9,    12.92,2,     7.20,2,     0.00,2,     1.26,2,     -999,9,     -999,9,     -999,9,     -999,9,     -999,9,     -999,9,     -999,9,     -999,     -999,9,     -999,9,     -999,9,     -999,9,     -999,9,     -999,9,     -999,9,     -999,     -999,9,     -999,9,     -999,9,     -999,     -999,9,20151002,1435,     85.4,  73.5061,-156.7695,     -999,9,     -999,9
33HQ20150809  ,ARC01      ,57      ,  1,21         ,    6436,   12102,GSNIS-21   ,2,20151002,1400,  73.5056,-156.8083,     3465,     86.5,  -0.7797,  31.8637,2,     -999,9,    323.2,2,     -999,9,    13.02,2,     7.20,2,     0.01,2,     1.25,2,     -999,9,     -999,9,     -999,9,     -999,9,     -999,9,     -999,9,     -999,9,     -999,     -999,9,     -999,9,     -999,9,     -999,9,     -999,9,     -999,9,     -999,9,     -999,     -999,9,     -999,9,     -999,9,     -999,     -999,9,20151002,1435,     85.6,  73.5061,-156.7695,     -999,9,     -999,9
33HQ20150809  ,ARC01      ,57      ,  1,18         ,    6436,   12103,GSNIS-18   ,2,20151002,1400,  73.5056,-156.8083,     3465,    106.2,  -1.1447,  32.2290,2,     -999,9,    309.8,2,     -999,9,    21.04,2,    10.77,2,     0.00,2,     1.53,2,     -999,9,     -999,9,     -999,9,     -999,9,     -999,9,     -999,9,     -999,9,     -999,     -999,9,     -999,9,     -999,9,     -999,9,     -999,9,     -999,9,     -999,9,     -999,     -999,9,     -999,9,     -999,9,     -999,     -999,9,20151002,1433,    105.0,  73.5059,-156.7708,     -999,9,     -999,9
33HQ20150809  ,ARC01      ,57      ,  1,17         ,    6436,   12103,GSNIS-17   ,2,20151002,1400,  73.5056,-156.8083,     3465,    106.7,  -1.1470,  32.2317,2,     -999,9,    309.8,2,     -999,9,    21.14,2,    10.78,2,     0.00,2,     1.53,2,     -999,9,     -999,9,     -999,9,     -999,9,     -999,9,     -999,9,     -999,9,     -999,     -999,9,     -999,9,     -999,9,     -999,9,     -999,9,     -999,9,     -999,9,     -999,     -999,9,     -999,9,     -999,9,     -999,     -999,9,20151002,1433,    105.6,  73.5059,-156.7709,     -999,9,     -999,9
33HQ20150809  ,ARC01      ,57      ,  1,16         ,    6436,   12103,GSNIS-16   ,2,20151002,1400,  73.5056,-156.8083,     3465,    106.8,  -1.1486,  32.2334,2,  32.2225,2,    309.8,2,    309.8,2,    21.24,2,    10.78,2,     0.00,2,     1.55,2,    6.437,2,    3.368,2,    0.453,2,    2.266,2,   2150.9,2,   2220.4,2,   7.5529,2,    25.00,     61.3,2,     -999,1,     -999,1,     -999,1,  -1.1458,2,     0.53,2,     -8.1,2,      2.5,    13.95,2,     -999,1,     -999,9,     -999,     -999,1,20151002,1433,    105.6,  73.5059,-156.7709,     -999,9,  32.3744,2
33HQ20150809  ,ARC01      ,57      ,  1,15         ,    6436,   12104,GSNIS-15   ,2,20151002,1400,  73.5056,-156.8083,     3465,    125.4,  -1.2847,  32.4432,2,     -999,9,    300.1,2,     -999,9,    24.85,2,    12.45,2,     0.00,2,     1.63,2,     -999,9,     -999,9,     -999,9,     -999,9,     -999,9,     -999,9,     -999,9,     -999,     -999,9,     -999,9,     -999,9,     -999,9,  -1.2892,2,     -999,9,     -999,9,     -999,     -999,9,     -999,9,     -999,9,     -999,     -999,9,20151002,1431,    124.1,  73.5056,-156.7722,     -999,9,     -999,9
33HQ20150809  ,ARC01      ,57      ,  1,14         ,    6436,   12104,GSNIS-14   ,3,20151002,1400,  73.5056,-156.8083,     3465,    126.2,  -1.2859,  32.4461,2,     -999,9,    299.3,2,     -999,9,    24.95,2,    12.35,2,     0.00,2,     1.65,2,     -999,9,     -999,9,     -999,9,     -999,9,     -999,9,     -999,9,     -999,9,     -999,     -999,9,     -999,9,     -999,9,     -999,9,     -999,9,     -999,9,     -999,9,     -999,     -999,9,     -999,9,     -999,9,     -999,     -999,9,20151002,1431,    124.9,  73.5056,-156.7723,     -999,9,     -999,9
33HQ20150809  ,ARC01      ,57      ,  1,13         ,    6436,   12104,GSNIS-13   ,2,20151002,1400,  73.5056,-156.8083,     3465,    126.6,  -1.2896,  32.4516,2,  32.4540,2,    299.3,2,    301.4,2,    24.85,2,    12.35,2,     0.00,2,     1.65,2,    6.349,2,    3.303,2,    0.449,2,    2.193,2,   2175.0,2,   2235.6,2,     -999,5,     -999,     61.5,2,     -999,1,     -999,1,     -999,1,  -1.2932,2,     0.40,2,     -9.8,2,      2.0,    15.18,2,     -999,1,     -999,9,     -999,     -999,1,20151002,1431,    125.3,  73.5056,-156.7723,     -999,9,  32.6070,2
33HQ20150809  ,ARC01      ,57      ,  1,12         ,    6436,   12105,GSNIS-12   ,2,20151002,1400,  73.5056,-156.8083,     3465,    186.7,  -1.4681,  33.0740,2,     -999,9,    277.0,2,     -999,9,    33.84,2,    15.80,2,     0.00,2,     1.83,2,     -999,9,     -999,9,     -999,9,     -999,9,     -999,9,     -999,9,     -999,9,     -999,     -999,9,     -999,9,     -999,9,     -999,9,     -999,9,     -999,9,     -999,9,     -999,     -999,9,     -999,9,     -999,9,     -999,     -999,9,20151002,1426,    184.6,  73.5058,-156.7780,     -999,9,     -999,9
33HQ20150809  ,ARC01      ,57      ,  1,10         ,    6436,   12105,GSNIS-10   ,2,20151002,1400,  73.5056,-156.8083,     3465,    187.3,  -1.4653,  33.0810,2,  33.0882,2,    276.6,2,    276.7,2,    33.74,2,    15.74,2,     0.00,2,     1.84,2,    6.056,2,    3.129,2,    0.408,2,    1.978,2,   2225.4,2,   2265.2,2,   7.4455,2,    25.00,     60.8,2,     -999,1,     -999,1,     -999,1,  -1.4647,2,     0.19,2,     -0.4,2,      2.2,    17.72,2,     -999,1,     -999,9,     -999,     -999,1,20151002,1426,    185.3,  73.5058,-156.7781,     -999,9,  33.2442,2
33HQ20150809  ,ARC01      ,57      ,  1,11         ,    6436,   12105,GSNIS-11   ,2,20151002,1400,  73.5056,-156.8083,     3465,    187.3,  -1.4654,  33.0799,2,     -999,9,    276.6,2,     -999,9,    33.74,2,    15.74,2,     0.00,2,     1.83,2,     -999,9,     -999,9,     -999,9,     -999,9,     -999,9,     -999,9,     -999,9,     -999,     -999,9,     -999,9,     -999,9,     -999,9,     -999,9,     -999,9,     -999,9,     -999,     -999,9,     -999,9,     -999,9,     -999,     -999,9,20151002,1426,    185.3,  73.5058,-156.7781,     -999,9,     -999,9
33HQ20150809  ,ARC01      ,57      ,  1,7          ,    6436,   12106,GSNIS-7    ,2,20151002,1400,  73.5056,-156.8083,     3465,    238.0,  -0.9688,  33.9919,2,  33.9819,2,    269.3,2,    271.3,2,    21.21,2,    13.32,2,     0.00,2,     1.29,2,    5.736,2,    2.774,2,    0.356,2,    1.396,2,   2207.0,2,   2278.9,2,   7.5403,2,    25.00,     60.3,2,     -999,1,     -999,1,     -999,1,  -0.9640,2,     0.38,2,     30.7,2,      2.0,    14.72,2,     -999,1,     -999,9,     -999,     -999,1,20151002,1419,    235.4,  73.5067,-156.7877,     -999,9,  34.1421,2
33HQ20150809  ,ARC01      ,57      ,  1,8          ,    6436,   12106,GSNIS-8    ,2,20151002,1400,  73.5056,-156.8083,     3465,    238.2,  -0.9661,  33.9945,2,     -999,9,    269.3,2,     -999,9,    21.21,2,    13.29,2,     0.00,2,     1.29,2,     -999,9,     -999,9,     -999,9,     -999,9,     -999,9,     -999,9,     -999,9,     -999,     -999,9,     -999,9,     -999,9,     -999,9,     -999,9,     -999,9,     -999,9,     -999,     -999,9,     -999,9,     -999,9,     -999,     -999,9,20151002,1419,    235.6,  73.5067,-156.7877,     -999,9,     -999,9
33HQ20150809  ,ARC01      ,57      ,  1,9          ,    6436,   12106,GSNIS-9    ,2,20151002,1400,  73.5056,-156.8083,     3465,    238.5,  -0.9628,  33.9978,2,     -999,9,    269.3,2,     -999,9,    21.31,2,    13.29,2,     0.00,2,     1.29,2,     -999,9,     -999,9,     -999,9,     -999,9,     -999,9,     -999,9,     -999,9,     -999,     -999,9,     -999,9,     -999,9,     -999,9,     -999,9,     -999,9,     -999,9,     -999,     -999,9,     -999,9,     -999,9,     -999,     -999,9,20151002,1419,    235.9,  73.5067,-156.7876,     -999,9,     -999,9
33HQ20150809  ,ARC01      ,57      ,  1,5          ,    6436,   12107,GSNIS-5    ,2,20151002,1400,  73.5056,-156.8083,     3465,    309.4,   0.1597,  34.6097,2,     -999,9,    279.0,2,     -999,9,    10.65,2,    12.67,2,     0.00,2,     0.95,2,     -999,9,     -999,9,     -999,9,     -999,9,     -999,9,     -999,9,     -999,9,     -999,     -999,9,     -999,9,     -999,9,     -999,9,     -999,9,     -999,9,     -999,9,     -999,     -999,9,     -999,9,     -999,9,     -999,     -999,9,20151002,1417,    305.9,  73.5069,-156.7909,     -999,9,     -999,9
33HQ20150809  ,ARC01      ,57      ,  1,6          ,    6436,   12107,GSNIS-6    ,2,20151002,1400,  73.5056,-156.8083,     3465,    309.5,   0.1602,  34.6098,2,     -999,9,    279.0,2,     -999,9,    10.65,2,    12.62,2,     0.00,2,     0.96,2,     -999,9,     -999,9,     -999,9,     -999,9,     -999,9,     -999,9,     -999,9,     -999,     -999,9,     -999,9,     -999,9,     -999,9,     -999,9,     -999,9,     -999,9,     -999,     -999,9,     -999,9,     -999,9,     -999,     -999,9,20151002,1417,    306.0,  73.5069,-156.7908,     -999,9,     -999,9
33HQ20150809  ,ARC01      ,57      ,  1,4          ,    6436,   12107,GSNIS-4    ,2,20151002,1400,  73.5056,-156.8083,     3465,    309.5,   0.1583,  34.6088,2,  34.6037,2,    279.0,2,    279.4,2,    10.65,2,    12.65,2,     0.00,2,     0.95,2,    5.264,2,    2.476,2,    0.330,2,    0.974,2,   2170.0,2,   2282.6,2,   7.6498,2,    25.00,     55.3,2,     -999,1,     -999,1,     -999,1,   0.1552,2,     0.66,2,     43.7,2,      2.0,    13.17,2,     -999,1,     -999,9,     -999,     -999,1,20151002,1417,    306.1,  73.5069,-156.7909,     -999,9,  34.7669,2