BOTTLE,20221220CCHSIOAMB
EXPOCODE,SECT_ID,STNNBR,CASTNO,SAMPNO,GEOTR_EVENT,GEOTR_SAMPNO,BTLNBR,BTLNBR_FLAG_W,DATE,TIME,LATITUDE,LONGITUDE,DEPTH,CTDPRS,CTDTMP,CTDSAL,CTDSAL_FLAG_W,SALNTY,SALNTY_FLAG_W,CTDOXY,CTDOXY_FLAG_W,OXYGEN,OXYGEN_FLAG_W,SILCAT,SILCAT_FLAG_W,NITRAT,NITRAT_FLAG_W,NITRIT,NITRIT_FLAG_W,PHSPHT,PHSPHT_FLAG_W,CFC-11,CFC-11_FLAG_W,CFC-12,CFC-12_FLAG_W,CFC113,CFC113_FLAG_W,SF6,SF6_FLAG_W,TCARBN,TCARBN_FLAG_W,ALKALI,ALKALI_FLAG_W,PH_SWS,PH_SWS_FLAG_W,PH_TMP,DOC,DOC_FLAG_W,TRITUM,TRITUM_FLAG_W,HELIUM,HELIUM_FLAG_W,DELHE3,DELHE3_FLAG_W,REFTMP,REFTMP_FLAG_W,DELC13,DELC13_FLAG_W,DELC14,DELC14_FLAG_W,C14ERR,TDN,TDN_FLAG_W,DELO18,DELO18_FLAG_W,DELO17,DELO17_FLAG_W,CH4,CH4,CH4_FLAG_W,BTL_DATE,BTL_TIME,CTDDEPTH,BTL_LAT,BTL_LON,LAB_DEN,LAB_DEN_FLAG_W,SALTREF,SALTREF_FLAG_W
,,,,,,,,,,,,,METERS,DBAR,ITS-90,PSS-78,,PSS-78,,UMOL/KG,,UMOL/KG,,UMOL/KG,,UMOL/KG,,UMOL/KG,,UMOL/KG,,PMOL/KG,,PMOL/KG,,PMOL/KG,,FMOL/KG,,UMOL/KG,,UMOL/KG,,,,DEG C,UMOL/KG,,TU,,NMOL/KG,,PERCNT,,ITS-90,,/MILLE,,/MILLE,,/MILLE,UMOL/KG,,/MILLE,,/MILLE,,NMOL/KG,NMOL/L,,,,METERS,,,KG/M^3,,G/KG,
33HQ20150809  ,ARC01      ,15      ,  1,31         ,    6112,    -999,GSNIS-31   ,2,20150822,0914,  77.3379,-175.0616,     1846,      3.5,  -0.6849,  25.6869,2,  25.6877,2,    382.5,2,    382.4,2,     2.46,2,     0.00,2,     0.01,2,     0.55,2,    6.909,2,    3.783,2,    0.659,2,    3.620,2,   1768.3,6,   1839.5,6,   7.6388,6,    25.00,     65.2,2,     -999,9,     -999,9,     -999,9,  -0.6857,2,     1.45,6,     -999,1,     -999,     3.21,2,     -999,1,     -999,9,     -999,     -999,9,20150822,1046,      3.5,  77.3538,-175.0883,     -999,9,  25.8089,2
33HQ20150809  ,ARC01      ,15      ,  1,30         ,    6112,    -999,GSNIS-30   ,2,20150822,0914,  77.3379,-175.0616,     1846,     15.7,  -0.6524,  27.2453,2,  28.6255,2,    382.4,2,    389.7,2,     2.75,2,     0.00,2,     0.01,2,     0.61,2,     -999,9,     -999,9,     -999,9,     -999,9,   1948.4,2,   2047.4,2,   7.6874,2,    25.00,     70.2,2,     -999,9,     -999,9,     -999,9,  -0.6590,2,     -999,9,     -999,9,     -999,     4.07,2,     -999,1,     -999,9,     -999,     -999,9,20150822,1043,     15.5,  77.3535,-175.0876,     -999,9,  28.7605,2
33HQ20150809  ,ARC01      ,15      ,  1,29         ,    6112,    -999,GSNIS-29   ,2,20150822,0914,  77.3379,-175.0616,     1846,     25.9,  -0.7126,  29.0556,2,  29.4107,2,    394.8,2,    392.6,2,     3.14,2,     0.00,2,     0.01,2,     0.63,2,    7.013,2,    3.807,2,    0.646,2,    3.306,2,   1997.7,2,   2106.6,2,   7.6934,2,    25.00,     73.6,2,     -999,9,     -999,9,     -999,9,  -0.7138,2,     -999,9,     -999,9,     -999,     4.24,2,     -999,1,     -999,9,     -999,     -999,9,20150822,1041,     25.6,  77.3533,-175.0870,     -999,9,  29.5493,2
33HQ20150809  ,ARC01      ,15      ,  1,28         ,    6112,    -999,GSNIS-28   ,2,20150822,0914,  77.3379,-175.0616,     1846,     46.0,  -0.1386,  30.7697,2,  30.3582,2,    385.5,2,    387.5,2,     4.51,2,     0.00,2,     0.01,2,     0.67,2,     -999,9,     -999,9,     -999,9,     -999,9,     -999,9,     -999,9,     -999,9,     -999,     72.8,2,     -999,9,     -999,9,     -999,9,  -0.1393,2,     -999,9,     -999,9,     -999,     4.24,2,     -999,1,     -999,9,     -999,     -999,9,20150822,1039,     45.5,  77.3530,-175.0864,     -999,9,  30.5013,2
33HQ20150809  ,ARC01      ,15      ,  1,27         ,    6112,    -999,GSNIS-27   ,2,20150822,0914,  77.3379,-175.0616,     1846,     56.0,  -0.3290,  31.2366,2,  31.4148,2,    370.8,2,    351.5,2,    10.58,2,     3.76,2,     0.08,2,     1.00,2,    6.422,2,    3.497,2,    0.520,2,    2.774,2,   2074.1,2,   2188.0,2,   7.8429,4,    25.00,     67.0,2,     -999,9,     -999,9,     -999,9,  -0.3275,2,     -999,9,     -999,9,     -999,     8.08,2,     -999,1,     -999,9,     -999,     -999,9,20150822,1038,     55.4,  77.3528,-175.0858,     -999,9,  31.5629,2
33HQ20150809  ,ARC01      ,15      ,  1,26         ,    6112,    -999,GSNIS-26   ,2,20150822,0914,  77.3379,-175.0616,     1846,     66.1,  -0.5616,  31.5994,2,  31.6216,2,    337.1,2,    336.8,2,    14.00,2,     6.02,2,     0.06,2,     1.16,2,     -999,9,     -999,9,     -999,9,     -999,9,     -999,9,     -999,9,     -999,9,     -999,     67.2,2,     -999,9,     -999,9,     -999,9,  -0.5621,2,     -999,9,     -999,9,     -999,     9.12,2,     -999,1,     -999,9,     -999,     -999,9,20150822,1036,     65.4,  77.3526,-175.0852,     -999,9,  31.7707,2
33HQ20150809  ,ARC01      ,15      ,  1,25         ,    6112,    -999,GSNIS-25   ,2,20150822,0914,  77.3379,-175.0616,     1846,     76.5,  -0.8831,  31.8398,2,  31.8722,2,    326.2,2,    323.8,2,    17.92,2,     8.17,2,     0.04,2,     1.32,2,    6.432,2,    3.459,2,    0.499,2,    2.615,2,     -999,9,     -999,9,     -999,9,     -999,     64.8,2,     -999,9,     -999,9,     -999,9,  -0.8825,2,     -999,9,     -999,9,     -999,    13.19,2,     -999,1,     -999,9,     -999,     -999,9,20150822,1034,     75.7,  77.3525,-175.0845,     -999,9,  32.0225,2
33HQ20150809  ,ARC01      ,15      ,  1,24         ,    6112,    -999,GSNIS-24   ,2,20150822,0914,  77.3379,-175.0616,     1846,     86.4,  -1.1321,  32.0606,2,  32.0795,2,    316.1,2,    314.4,2,    22.02,2,     9.99,2,     0.02,2,     1.46,2,     -999,9,     -999,9,     -999,9,     -999,9,     -999,9,   2218.8,2,   7.5498,2,    25.00,     65.3,2,     -999,9,     -999,9,     -999,9,  -1.1313,2,     -999,9,     -999,9,     -999,    13.92,2,     -999,1,     -999,9,     -999,     -999,9,20150822,1032,     85.5,  77.3522,-175.0838,     -999,9,  32.2308,2
33HQ20150809  ,ARC01      ,15      ,  1,23         ,    6112,    -999,GSNIS-23   ,2,20150822,0914,  77.3379,-175.0616,     1846,     96.4,  -1.2666,  32.2348,2,  32.2514,2,    307.3,2,    308.3,2,    25.35,2,    11.40,2,     0.02,2,     1.55,2,    6.383,2,    3.433,2,    0.478,2,    2.487,2,     -999,9,     -999,9,     -999,9,     -999,     63.4,2,     -999,9,     -999,9,     -999,9,  -1.2667,2,     -999,9,     -999,9,     -999,    14.98,2,     -999,1,     -999,9,     -999,     -999,9,20150822,1031,     95.4,  77.3520,-175.0833,     -999,9,  32.4035,2
33HQ20150809  ,ARC01      ,15      ,  1,22         ,    6112,    -999,GSNIS-22   ,2,20150822,0914,  77.3379,-175.0616,     1846,    106.8,  -1.3487,  32.3429,2,  32.2841,2,    307.1,2,    305.2,2,    26.92,2,    12.10,2,     0.02,2,     1.61,2,     -999,9,     -999,9,     -999,9,     -999,9,   2167.2,2,   2233.6,2,   7.5067,2,    25.00,     66.0,2,     -999,9,     -999,9,     -999,9,  -1.3486,2,     -999,9,     -999,9,     -999,    15.09,2,     -999,1,     -999,9,     -999,     -999,9,20150822,1029,    105.6,  77.3516,-175.0829,     -999,9,  32.4363,2
33HQ20150809  ,ARC01      ,15      ,  1,21         ,    6112,    -999,GSNIS-21   ,2,20150822,0914,  77.3379,-175.0616,     1846,    121.7,  -1.4116,  32.5218,2,  32.5281,2,    300.6,2,    301.3,2,    29.36,2,    13.02,2,     0.02,2,     1.66,2,    6.332,2,    3.419,2,    0.462,2,    2.520,2,     -999,9,     -999,9,     -999,9,     -999,     65.6,2,     -999,9,     -999,9,     -999,9,  -1.4116,2,     -999,9,     -999,9,     -999,    16.08,2,     -999,1,     -999,9,     -999,     -999,9,20150822,1027,    120.4,  77.3512,-175.0827,     -999,9,  32.6815,2
33HQ20150809  ,ARC01      ,15      ,  1,20         ,    6112,    -999,GSNIS-20   ,2,20150822,0914,  77.3379,-175.0616,     1846,    137.0,  -1.4474,  32.6727,2,  32.6919,2,    293.7,2,    290.2,2,    31.21,2,    14.14,2,     0.02,2,     1.75,2,     -999,9,     -999,9,     -999,9,     -999,9,     -999,9,   2249.0,2,   7.4632,2,    25.00,     62.3,2,     -999,9,     -999,9,     -999,9,  -1.4474,2,     -999,9,     -999,9,     -999,    16.85,2,     -999,1,     -999,9,     -999,     -999,9,20150822,1025,    135.5,  77.3508,-175.0825,     -999,9,  32.8460,2
33HQ20150809  ,ARC01      ,15      ,  1,19         ,    6112,    -999,GSNIS-19   ,2,20150822,0914,  77.3379,-175.0616,     1846,    157.0,  -1.4694,  32.8657,2,  32.8775,2,    279.0,2,    281.2,2,    32.48,2,    15.08,2,     0.01,2,     1.80,2,    6.190,2,    3.334,2,    0.435,2,    2.134,2,     -999,9,     -999,9,     -999,9,     -999,     64.5,2,     -999,9,     -999,9,     -999,9,  -1.4693,2,     -999,9,     -999,9,     -999,    17.86,2,     -999,1,     -999,9,     -999,     -999,9,20150822,1023,    155.3,  77.3504,-175.0822,     -999,9,  33.0326,2
33HQ20150809  ,ARC01      ,15      ,  1,18         ,    6112,    -999,GSNIS-18   ,2,20150822,0914,  77.3379,-175.0616,     1846,    177.3,  -1.4949,  33.1005,2,  33.1328,2,    280.2,2,    279.5,2,    34.14,2,    15.42,2,     0.01,2,     1.79,2,    6.122,2,    3.250,2,    0.425,2,    2.103,2,   2225.5,2,     -999,5,   7.4462,2,    25.00,     62.6,2,     -999,9,     -999,9,     -999,9,  -1.4928,2,     -999,9,     -999,9,     -999,    17.90,2,     -999,1,     -999,9,     -999,     -999,9,20150822,1022,    175.4,  77.3500,-175.0819,     -999,9,  33.2890,2
33HQ20150809  ,ARC01      ,15      ,  1,17         ,    6112,    -999,GSNIS-17   ,2,20150822,0914,  77.3379,-175.0616,     1846,    197.5,  -1.3687,  33.4410,2,  33.4313,2,    275.1,2,    277.2,2,    32.08,2,    15.09,2,     0.01,2,     1.67,2,    5.966,2,    3.160,2,    0.406,2,    1.846,2,     -999,9,   2282.2,2,   7.4647,2,    25.00,     60.6,2,     -999,9,     -999,9,     -999,9,  -1.3689,2,     -999,9,     -999,9,     -999,    18.18,2,     -999,1,     -999,9,     -999,     -999,9,20150822,1020,    195.3,  77.3496,-175.0816,     -999,9,  33.5890,2
33HQ20150809  ,ARC01      ,15      ,  1,16         ,    6112,    -999,GSNIS-16   ,2,20150822,0914,  77.3379,-175.0616,     1846,    217.7,  -0.9981,  33.9472,2,  33.9703,2,    269.2,2,    269.4,2,    23.56,2,    13.91,2,     0.01,2,     1.35,2,    5.731,2,    2.883,2,    0.363,2,    1.353,2,   2208.5,2,   2284.1,2,   7.5244,6,    25.00,     62.7,2,     -999,9,     -999,9,     -999,9,  -0.9979,2,     -999,9,     -999,9,     -999,    17.34,2,     -999,1,     -999,9,     -999,     -999,9,20150822,1018,    215.3,  77.3491,-175.0813,     -999,9,  34.1305,2
33HQ20150809  ,ARC01      ,15      ,  1,15         ,    6112,    -999,GSNIS-15   ,2,20150822,0914,  77.3379,-175.0616,     1846,    238.3,  -0.5110,  34.2978,2,  34.3228,2,    265.0,2,    261.8,2,    18.86,2,    13.41,2,     0.01,2,     1.16,2,    5.560,2,    2.720,2,    0.344,2,    1.166,2,   2194.2,2,   2282.8,6,   7.5655,2,    25.00,     58.6,2,     -999,9,     -999,9,     -999,9,  -0.5120,2,     -999,9,     -999,9,     -999,    16.22,2,     -999,1,     -999,9,     -999,     -999,9,20150822,1015,    235.6,  77.3486,-175.0809,     -999,9,  34.4846,2
33HQ20150809  ,ARC01      ,15      ,  1,14         ,    6112,    -999,GSNIS-14   ,2,20150822,0914,  77.3379,-175.0616,     1846,    288.9,   0.3252,  34.6554,2,  34.6564,2,    263.9,2,    263.4,2,    14.07,2,    13.05,2,     0.01,2,     0.95,2,    5.666,2,    2.831,2,    0.367,2,    1.335,2,   2181.3,6,   2287.2,2,   7.6117,2,    25.00,     56.3,2,     -999,9,     -999,9,     -999,9,   0.3248,2,     -999,9,     -999,9,     -999,    15.61,2,     -999,1,     -999,9,     -999,     -999,9,20150822,1012,    285.6,  77.3481,-175.0804,     -999,9,  34.8198,2
33HQ20150809  ,ARC01      ,15      ,  1,13         ,    6112,    -999,GSNIS-13   ,2,20150822,0914,  77.3379,-175.0616,     1846,    339.6,   0.6900,  34.7715,2,  34.7264,3,    288.3,2,    286.8,2,     7.42,2,    12.43,2,     0.01,2,     0.84,2,    5.576,2,    2.830,2,    0.396,2,    1.412,2,     -999,9,     -999,9,     -999,9,     -999,     53.9,2,     -999,9,     -999,9,     -999,9,   0.6901,2,     -999,9,     -999,9,     -999,    15.73,2,     -999,1,     -999,9,     -999,     -999,9,20150822,1010,    335.7,  77.3475,-175.0800,     -999,9,  34.8901,3
33HQ20150809  ,ARC01      ,15      ,  1,12         ,    6112,    -999,GSNIS-12   ,2,20150822,0914,  77.3379,-175.0616,     1846,    389.7,   0.8361,  34.8110,2,  34.8143,2,    291.9,2,    290.7,2,     6.45,2,    12.26,2,     0.01,2,     0.81,2,    5.450,2,    2.740,2,    0.382,2,    1.405,2,     -999,9,     -999,9,     -999,9,     -999,     54.1,2,     -999,9,     -999,9,     -999,9,   0.8360,2,     -999,9,     -999,9,     -999,    14.94,2,     -999,1,     -999,9,     -999,     -999,9,20150822,1007,    385.3,  77.3470,-175.0795,     -999,9,  34.9784,2
33HQ20150809  ,ARC01      ,15      ,  1,11         ,    6112,    -999,GSNIS-11   ,2,20150822,0914,  77.3379,-175.0616,     1846,    440.6,   0.9458,  34.8423,2,  34.8438,2,    293.6,2,    294.4,2,     5.96,2,    12.21,2,     0.01,2,     0.82,2,    5.405,2,    2.743,2,    0.389,2,    1.479,2,     -999,9,   2295.2,2,   7.6945,2,    25.00,     53.4,2,     -999,9,     -999,9,     -999,9,   0.9464,2,     -999,9,     -999,9,     -999,    16.63,2,     -999,1,     -999,9,     -999,     -999,9,20150822,1004,    435.5,  77.3462,-175.0785,     -999,9,  35.0081,2
33HQ20150809  ,ARC01      ,15      ,  1,10         ,    6112,    -999,GSNIS-10   ,3,20150822,0914,  77.3379,-175.0616,     1846,    491.2,   0.8859,  34.8506,2,  34.8505,2,    296.2,2,    296.0,2,     6.15,2,    12.27,2,     0.01,2,     0.83,2,    5.402,2,    2.716,2,    0.382,2,    1.408,2,     -999,9,     -999,9,     -999,9,     -999,     52.7,2,     -999,9,     -999,9,     -999,9,   0.8862,2,     -999,9,     -999,9,     -999,    13.35,2,     -999,1,     -999,9,     -999,     -999,9,20150822,1001,    485.4,  77.3457,-175.0777,     -999,9,  35.0148,2
33HQ20150809  ,ARC01      ,15      ,  1,9          ,    6112,    -999,GSNIS-9    ,2,20150822,0914,  77.3379,-175.0616,     1846,    542.1,   0.7846,  34.8569,2,  34.8582,2,    298.8,2,    298.2,2,     5.96,2,    12.19,2,     0.01,2,     0.82,2,    5.340,2,    2.675,2,    0.380,2,    1.451,2,     -999,9,     -999,9,     -999,9,     -999,     52.5,2,     -999,9,     -999,9,     -999,9,   0.7847,2,     -999,9,     -999,9,     -999,    15.32,2,     -999,9,     -999,9,     -999,     -999,9,20150822,0958,    535.7,  77.3451,-175.0769,     -999,9,  35.0226,2
33HQ20150809  ,ARC01      ,15      ,  1,8          ,    6112,    -999,GSNIS-8    ,2,20150822,0914,  77.3379,-175.0616,     1846,    608.3,   0.6503,  34.8626,2,  34.8657,2,    299.5,2,    300.7,2,     5.76,2,    12.03,2,     0.01,2,     0.81,2,    5.309,2,    2.667,2,    0.376,2,    1.545,2,   2161.6,2,   2297.6,2,   7.6936,2,    25.00,     53.1,2,     -999,9,     -999,9,     -999,9,   0.6509,2,     -999,9,     -999,9,     -999,    15.02,2,     -999,9,     -999,9,     -999,     -999,9,20150822,0954,    601.0,  77.3445,-175.0759,     -999,9,  35.0301,2
33HQ20150809  ,ARC01      ,15      ,  1,7          ,    6112,    -999,GSNIS-7    ,2,20150822,0914,  77.3379,-175.0616,     1846,    709.8,   0.4447,  34.8676,2,  34.8586,3,    301.9,2,    302.1,2,     5.67,2,    12.03,2,     0.01,2,     0.82,2,    5.235,2,    2.655,2,    0.374,2,    1.526,2,     -999,9,     -999,9,     -999,9,     -999,     54.2,2,     -999,9,     -999,9,     -999,9,   0.4455,2,     -999,9,     -999,9,     -999,    15.53,2,     -999,9,     -999,9,     -999,     -999,9,20150822,0950,    701.1,  77.3438,-175.0753,     -999,9,  35.0230,3
33HQ20150809  ,ARC01      ,15      ,  1,6          ,    6112,    -999,GSNIS-6    ,2,20150822,0914,  77.3379,-175.0616,     1846,    861.7,   0.1506,  34.8701,2,  34.8712,2,    303.3,2,    303.7,2,     5.76,2,    12.01,2,     0.01,2,     0.82,2,    5.242,2,    2.670,2,    0.373,2,    1.604,2,     -999,9,     -999,9,     -999,9,     -999,     54.0,2,     -999,9,     -999,9,     -999,9,   0.1507,2,     -999,9,     -999,9,     -999,    13.94,2,     -999,9,     -999,9,     -999,     -999,9,20150822,0946,    850.9,  77.3428,-175.0739,     -999,9,  35.0357,2
33HQ20150809  ,ARC01      ,15      ,  1,5          ,    6112,    -999,GSNIS-5    ,2,20150822,0914,  77.3379,-175.0616,     1846,   1014.1,  -0.0026,  34.8812,2,  34.8801,2,    304.9,2,    305.3,2,     5.86,2,    12.00,2,     0.01,2,     0.81,2,    5.140,2,    2.642,2,    0.380,2,    1.691,2,     -999,9,     -999,9,     -999,9,     -999,     55.5,2,     -999,9,     -999,9,     -999,9,  -0.0020,2,     -999,9,     -999,9,     -999,    14.08,2,     -999,9,     -999,9,     -999,     -999,9,20150822,0940,   1001.1,  77.3419,-175.0722,     -999,9,  35.0446,2
33HQ20150809  ,ARC01      ,15      ,  1,4          ,    6112,    -999,GSNIS-4    ,2,20150822,0914,  77.3379,-175.0616,     1846,   1216.9,  -0.1972,  34.8899,2,  34.8895,2,    306.0,2,    306.0,2,     6.35,2,    12.17,2,     0.01,2,     0.83,2,    4.819,2,    2.462,2,    0.353,2,    1.589,2,   2168.3,2,   2297.5,2,   7.6786,2,    25.00,     53.6,2,     -999,9,     -999,9,     -999,9,  -0.1973,2,     -999,9,     -999,9,     -999,    14.99,2,     -999,9,     -999,9,     -999,     -999,9,20150822,0935,   1200.6,  77.3409,-175.0701,     -999,9,  35.0541,2
33HQ20150809  ,ARC01      ,15      ,  1,3          ,    6112,    -999,GSNIS-3    ,2,20150822,0914,  77.3379,-175.0616,     1846,   1420.3,  -0.3250,  34.9010,2,  34.9006,2,    305.6,2,    305.1,2,     7.03,2,    12.57,2,     0.01,2,     0.86,2,    4.039,2,    2.054,2,    0.286,2,    1.397,2,     -999,9,     -999,9,     -999,9,     -999,     56.3,2,     -999,9,     -999,9,     -999,9,  -0.3250,2,     -999,9,     -999,9,     -999,    14.45,2,     -999,9,     -999,9,     -999,     -999,9,20150822,0927,   1400.6,  77.3397,-175.0675,     -999,9,  35.0652,2
33HQ20150809  ,ARC01      ,15      ,  1,2          ,    6112,    -999,GSNIS-2    ,2,20150822,0914,  77.3379,-175.0616,     1846,   1623.6,  -0.4162,  34.9142,2,  34.9153,2,    300.6,2,    300.5,2,     8.69,2,    13.31,2,     0.01,2,     0.91,2,    2.691,2,    1.392,2,    0.189,2,    0.908,2,     -999,9,     -999,9,     -999,9,     -999,     53.4,2,     -999,9,     -999,9,     -999,9,  -0.4163,2,     -999,9,     -999,9,     -999,    14.95,2,     -999,9,     -999,9,     -999,     -999,9,20150822,0922,   1600.4,  77.3390,-175.0654,     -999,9,  35.0800,2
33HQ20150809  ,ARC01      ,15      ,  1,1          ,    6112,    -999,GSNIS-1    ,2,20150822,0914,  77.3379,-175.0616,     1846,   1863.2,  -0.4168,  34.9390,2,  34.9376,2,    289.6,2,    289.7,2,    11.62,2,    14.25,2,     0.01,2,     0.99,2,    0.783,2,    0.395,2,    0.054,2,   -9.000,4,   2151.7,2,   2302.3,2,   7.7465,2,    25.00,     47.0,2,     -999,9,     -999,9,     -999,9,  -0.4167,2,     -999,9,     -999,9,     -999,    15.36,2,     -999,9,     -999,9,     -999,     -999,9,20150822,0916,   1835.5,  77.3380,-175.0623,     -999,9,  35.1023,2