BOTTLE,20221220CCHSIOAMB
EXPOCODE,SECT_ID,STNNBR,CASTNO,SAMPNO,GEOTR_EVENT,GEOTR_SAMPNO,BTLNBR,BTLNBR_FLAG_W,DATE,TIME,LATITUDE,LONGITUDE,DEPTH,CTDPRS,CTDTMP,CTDSAL,CTDSAL_FLAG_W,SALNTY,SALNTY_FLAG_W,CTDOXY,CTDOXY_FLAG_W,OXYGEN,OXYGEN_FLAG_W,SILCAT,SILCAT_FLAG_W,NITRAT,NITRAT_FLAG_W,NITRIT,NITRIT_FLAG_W,PHSPHT,PHSPHT_FLAG_W,CFC-11,CFC-11_FLAG_W,CFC-12,CFC-12_FLAG_W,CFC113,CFC113_FLAG_W,SF6,SF6_FLAG_W,TCARBN,TCARBN_FLAG_W,ALKALI,ALKALI_FLAG_W,PH_SWS,PH_SWS_FLAG_W,PH_TMP,DOC,DOC_FLAG_W,TRITUM,TRITUM_FLAG_W,HELIUM,HELIUM_FLAG_W,DELHE3,DELHE3_FLAG_W,REFTMP,REFTMP_FLAG_W,DELC13,DELC13_FLAG_W,DELC14,DELC14_FLAG_W,C14ERR,TDN,TDN_FLAG_W,DELO18,DELO18_FLAG_W,DELO17,DELO17_FLAG_W,CH4,CH4,CH4_FLAG_W,BTL_DATE,BTL_TIME,CTDDEPTH,BTL_LAT,BTL_LON,LAB_DEN,LAB_DEN_FLAG_W,SALTREF,SALTREF_FLAG_W
,,,,,,,,,,,,,METERS,DBAR,ITS-90,PSS-78,,PSS-78,,UMOL/KG,,UMOL/KG,,UMOL/KG,,UMOL/KG,,UMOL/KG,,UMOL/KG,,PMOL/KG,,PMOL/KG,,PMOL/KG,,FMOL/KG,,UMOL/KG,,UMOL/KG,,,,DEG C,UMOL/KG,,TU,,NMOL/KG,,PERCNT,,ITS-90,,/MILLE,,/MILLE,,/MILLE,UMOL/KG,,/MILLE,,/MILLE,,NMOL/KG,NMOL/L,,,,METERS,,,KG/M^3,,G/KG,
33HQ20150809  ,ARC01      ,43      ,  2,35         ,    6294,   11529,GSNIS-35   ,2,20150915,1135,  85.1350,-150.0627,     2204,      2.1,  -1.4260,  27.4109,2,     -999,9,    400.9,2,     -999,9,     8.94,2,     0.01,2,     0.03,2,     0.64,2,     -999,9,     -999,9,     -999,9,     -999,9,     -999,9,     -999,9,     -999,9,     -999,     -999,9,     -999,9,     -999,9,     -999,9,  -1.4323,2,     -999,9,     -999,9,     -999,     -999,9,     -999,9,     -999,9,     -999,     -999,9,20150915,1202,      2.0,  85.1351,-150.0494,     -999,9,     -999,9
33HQ20150809  ,ARC01      ,43      ,  2,34         ,    6294,   11529,GSNIS-34   ,2,20150915,1135,  85.1350,-150.0627,     2204,      2.1,  -1.4304,  27.4089,2,  27.4057,2,    400.9,2,    396.3,2,     8.94,2,     0.01,2,     0.03,2,     0.64,2,    7.014,2,    3.766,2,    0.666,2,    3.772,2,   1928.6,2,   2000.5,2,   7.6364,2,    25.00,    139.9,2,     -999,1,     -999,1,     -999,1,  -1.4386,2,     0.59,2,     -999,1,     -999,     5.57,2,     -999,1,     -999,9,     -999,     -999,1,20150915,1202,      2.0,  85.1351,-150.0495,     -999,9,  27.5349,2
33HQ20150809  ,ARC01      ,43      ,  2,36         ,    6294,   11529,GSNIS-36   ,2,20150915,1135,  85.1350,-150.0627,     2204,      2.1,  -1.4271,  27.4080,2,     -999,9,    401.0,2,     -999,9,     8.94,2,     0.01,2,     0.03,2,     0.64,2,     -999,9,     -999,9,     -999,9,     -999,9,     -999,9,     -999,9,     -999,9,     -999,     -999,9,     -999,9,     -999,9,     -999,9,  -1.4317,2,     -999,9,     -999,9,     -999,     -999,9,     -999,9,     -999,9,     -999,     -999,9,20150915,1202,      2.0,  85.1351,-150.0494,     -999,9,     -999,9
33HQ20150809  ,ARC01      ,43      ,  2,31         ,    6294,   11530,GSNIS-31   ,2,20150915,1135,  85.1350,-150.0627,     2204,     19.9,  -1.4879,  27.4070,2,  27.4177,2,    403.2,2,    396.3,2,     8.84,2,     0.00,2,     0.03,2,     0.65,2,    7.012,2,    3.743,2,    0.663,2,    3.777,2,   1930.5,2,   2004.1,2,   7.6359,2,    25.00,    142.5,2,     -999,1,     -999,1,     -999,1,  -1.4877,2,     0.57,2,     -999,1,     -999,     5.36,2,     -999,1,     -999,9,     -999,     -999,1,20150915,1159,     19.7,  85.1351,-150.0510,     -999,9,  27.5470,2
33HQ20150809  ,ARC01      ,43      ,  2,33         ,    6294,   11530,GSNIS-33   ,2,20150915,1135,  85.1350,-150.0627,     2204,     19.9,  -1.4881,  27.4072,2,     -999,9,    403.2,2,     -999,9,     8.94,2,     0.01,2,     0.03,2,     0.64,2,     -999,9,     -999,9,     -999,9,     -999,9,     -999,9,     -999,9,     -999,9,     -999,     -999,9,     -999,9,     -999,9,     -999,9,  -1.4880,2,     -999,9,     -999,9,     -999,     -999,9,     -999,9,     -999,9,     -999,     -999,9,20150915,1159,     19.7,  85.1351,-150.0509,     -999,9,     -999,9
33HQ20150809  ,ARC01      ,43      ,  2,32         ,    6294,   11530,GSNIS-32   ,2,20150915,1135,  85.1350,-150.0627,     2204,     19.9,  -1.4880,  27.4072,2,     -999,9,    403.2,2,     -999,9,     8.74,2,     0.00,2,     0.03,2,     0.64,2,     -999,9,     -999,9,     -999,9,     -999,9,     -999,9,     -999,9,     -999,9,     -999,     -999,9,     -999,9,     -999,9,     -999,9,  -1.4879,2,     -999,9,     -999,9,     -999,     -999,9,     -999,9,     -999,9,     -999,     -999,9,20150915,1159,     19.7,  85.1351,-150.0509,     -999,9,     -999,9
33HQ20150809  ,ARC01      ,43      ,  2,28         ,    6294,   11531,GSNIS-28   ,2,20150915,1135,  85.1350,-150.0627,     2204,     36.3,  -1.4428,  28.2920,2,  28.3399,2,    405.6,2,    394.1,2,     8.24,2,     0.30,2,     0.03,2,     0.69,2,    7.054,2,    3.725,2,    0.655,2,    3.627,2,   1990.4,2,   2064.8,2,   7.6314,2,    25.00,    132.3,2,     -999,1,     -999,1,     -999,1,  -1.4564,2,     0.69,2,     -999,1,     -999,     5.88,2,     -999,1,     -999,9,     -999,     -999,1,20150915,1157,     35.9,  85.1351,-150.0522,     -999,9,  28.4735,2
33HQ20150809  ,ARC01      ,43      ,  2,30         ,    6294,   11531,GSNIS-30   ,2,20150915,1135,  85.1350,-150.0627,     2204,     36.3,  -1.4428,  28.2959,2,     -999,9,    405.6,2,     -999,9,     7.95,2,     0.39,2,     0.02,2,     0.70,2,     -999,9,     -999,9,     -999,9,     -999,9,     -999,9,     -999,9,     -999,9,     -999,     -999,9,     -999,9,     -999,9,     -999,9,  -1.4490,2,     -999,9,     -999,9,     -999,     -999,9,     -999,9,     -999,9,     -999,     -999,9,20150915,1157,     35.9,  85.1351,-150.0521,     -999,9,     -999,9
33HQ20150809  ,ARC01      ,43      ,  2,29         ,    6294,   11531,GSNIS-29   ,2,20150915,1135,  85.1350,-150.0627,     2204,     36.3,  -1.4427,  28.2884,2,     -999,9,    405.6,2,     -999,9,     8.15,2,     0.33,2,     0.03,2,     0.69,2,     -999,9,     -999,9,     -999,9,     -999,9,     -999,9,     -999,9,     -999,9,     -999,     -999,9,     -999,9,     -999,9,     -999,9,  -1.4538,2,     -999,9,     -999,9,     -999,     -999,9,     -999,9,     -999,9,     -999,     -999,9,20150915,1157,     35.9,  85.1351,-150.0522,     -999,9,     -999,9
33HQ20150809  ,ARC01      ,43      ,  2,26         ,    6294,   11532,GSNIS-26   ,2,20150915,1135,  85.1350,-150.0627,     2204,     55.1,  -1.5157,  30.7631,2,     -999,9,    369.3,2,     -999,9,     9.60,2,     2.52,2,     0.01,2,     0.79,2,     -999,9,     -999,9,     -999,9,     -999,9,     -999,9,     -999,9,     -999,9,     -999,     -999,9,     -999,9,     -999,9,     -999,9,  -1.5113,2,     -999,9,     -999,9,     -999,     -999,9,     -999,9,     -999,9,     -999,     -999,9,20150915,1154,     54.5,  85.1351,-150.0534,     -999,9,     -999,9
33HQ20150809  ,ARC01      ,43      ,  2,25         ,    6294,   11532,GSNIS-25   ,2,20150915,1135,  85.1350,-150.0627,     2204,     55.1,  -1.5118,  30.7726,2,  31.0071,2,    369.3,2,    358.6,2,     9.79,2,     2.72,2,     0.00,2,     0.81,2,    6.781,2,    3.665,2,    0.577,2,    3.379,2,   2094.6,2,   2168.6,2,   7.6016,2,    25.00,     88.6,2,     -999,1,     -999,1,     -999,1,  -1.5106,2,     0.65,2,     -999,1,     -999,     6.42,2,     -999,1,     -999,9,     -999,     -999,1,20150915,1154,     54.5,  85.1351,-150.0534,     -999,9,  31.1533,2
33HQ20150809  ,ARC01      ,43      ,  2,27         ,    6294,   11532,GSNIS-27   ,2,20150915,1135,  85.1350,-150.0627,     2204,     55.1,  -1.5029,  30.8405,2,     -999,9,    369.3,2,     -999,9,     9.60,2,     2.54,2,     0.00,2,     0.80,2,     -999,9,     -999,9,     -999,9,     -999,9,     -999,9,     -999,9,     -999,9,     -999,     -999,9,     -999,9,     -999,9,     -999,9,  -1.5114,2,     -999,9,     -999,9,     -999,     -999,9,     -999,9,     -999,9,     -999,     -999,9,20150915,1154,     54.5,  85.1351,-150.0534,     -999,9,     -999,9
33HQ20150809  ,ARC01      ,43      ,  2,24         ,    6294,   11533,GSNIS-24   ,2,20150915,1135,  85.1350,-150.0627,     2204,     75.5,  -1.5644,  32.0419,2,     -999,9,    348.1,2,     -999,9,    16.44,2,     6.63,2,     0.00,2,     1.03,2,     -999,9,     -999,9,     -999,9,     -999,9,     -999,9,     -999,9,     -999,9,     -999,     -999,9,     -999,9,     -999,9,     -999,9,     -999,9,     -999,9,     -999,9,     -999,     -999,9,     -999,9,     -999,9,     -999,     -999,9,20150915,1152,     74.7,  85.1351,-150.0545,     -999,9,     -999,9
33HQ20150809  ,ARC01      ,43      ,  2,23         ,    6294,   11533,GSNIS-23   ,2,20150915,1135,  85.1350,-150.0627,     2204,     75.5,  -1.5648,  32.0368,2,     -999,9,    348.1,2,     -999,9,    17.52,2,     6.89,2,     0.00,2,     1.06,2,     -999,9,     -999,9,     -999,9,     -999,9,     -999,9,     -999,9,     -999,9,     -999,     -999,9,     -999,9,     -999,9,     -999,9,  -1.5596,2,     -999,9,     -999,9,     -999,     -999,9,     -999,9,     -999,9,     -999,     -999,9,20150915,1152,     74.7,  85.1351,-150.0545,     -999,9,     -999,9
33HQ20150809  ,ARC01      ,43      ,  2,22         ,    6294,   11533,GSNIS-22   ,2,20150915,1135,  85.1350,-150.0627,     2204,     75.5,  -1.5626,  32.0542,2,  32.1441,2,    344.5,2,    324.5,2,    16.54,2,     6.64,2,     0.00,2,     1.04,2,    6.522,2,    3.521,2,    0.520,2,    3.085,2,   2157.2,2,   2214.9,2,   7.5457,2,    25.00,     82.8,2,     -999,1,     -999,1,     -999,1,  -1.5514,2,     0.36,2,     -999,1,     -999,    10.92,2,     -999,1,     -999,9,     -999,     -999,1,20150915,1152,     74.7,  85.1351,-150.0546,     -999,9,  32.2956,2
33HQ20150809  ,ARC01      ,43      ,  2,21         ,    6294,   11534,GSNIS-21   ,2,20150915,1135,  85.1350,-150.0627,     2204,    100.7,  -1.4038,  33.1592,2,     -999,9,    265.0,2,     -999,9,    32.95,2,    13.57,2,     0.00,2,     1.59,2,     -999,9,     -999,9,     -999,9,     -999,9,     -999,9,     -999,9,     -999,9,     -999,     -999,9,     -999,9,     -999,9,     -999,9,  -1.4138,2,     -999,9,     -999,9,     -999,     -999,9,     -999,9,     -999,9,     -999,     -999,9,20150915,1150,     99.6,  85.1351,-150.0558,     -999,9,     -999,9
33HQ20150809  ,ARC01      ,43      ,  2,20         ,    6294,   11534,GSNIS-20   ,2,20150915,1135,  85.1350,-150.0627,     2204,    100.7,  -1.4128,  33.1198,2,     -999,9,    265.1,2,     -999,9,    32.17,2,    13.40,2,     0.00,2,     1.57,2,     -999,9,     -999,9,     -999,9,     -999,9,     -999,9,     -999,9,     -999,9,     -999,     -999,9,     -999,9,     -999,9,     -999,9,  -1.4018,2,     -999,9,     -999,9,     -999,     -999,9,     -999,9,     -999,9,     -999,     -999,9,20150915,1150,     99.6,  85.1351,-150.0558,     -999,9,     -999,9
33HQ20150809  ,ARC01      ,43      ,  2,19         ,    6294,   11534,GSNIS-19   ,2,20150915,1135,  85.1350,-150.0627,     2204,    100.7,  -1.4052,  33.1618,2,  33.1053,2,    265.0,2,    262.8,2,    32.76,2,    13.54,2,     0.00,2,     1.59,2,    6.108,2,    3.270,2,    0.441,2,    2.605,2,   2233.1,2,   2250.4,2,   7.4138,2,    25.00,     72.0,2,     -999,1,     -999,1,     -999,1,  -1.4020,2,    -0.04,3,     -999,1,     -999,    17.10,2,     -999,1,     -999,9,     -999,     -999,1,20150915,1149,     99.6,  85.1351,-150.0559,     -999,9,  33.2614,2
33HQ20150809  ,ARC01      ,43      ,  2,17         ,    6294,   11535,GSNIS-17   ,2,20150915,1135,  85.1350,-150.0627,     2204,    141.6,  -1.1010,  34.1429,2,     -999,9,    292.4,2,     -999,9,     9.97,2,     9.34,2,     0.00,2,     0.80,2,     -999,9,     -999,9,     -999,9,     -999,9,     -999,9,     -999,9,     -999,9,     -999,     -999,9,     -999,9,     -999,9,     -999,9,  -1.0954,2,     -999,9,     -999,9,     -999,     -999,9,     -999,9,     -999,9,     -999,     -999,9,20150915,1147,    140.1,  85.1350,-150.0570,     -999,9,     -999,9
33HQ20150809  ,ARC01      ,43      ,  2,16         ,    6294,   11535,GSNIS-16   ,2,20150915,1135,  85.1350,-150.0627,     2204,    141.6,  -1.1015,  34.1428,2,  34.1609,2,    292.4,2,    292.1,2,     9.97,2,     9.33,2,     0.00,2,     0.79,2,    6.326,2,    3.239,2,    0.451,2,    2.042,2,   2189.4,2,   2272.2,2,   7.6027,2,    25.00,     62.6,2,     -999,1,     -999,1,     -999,1,  -1.0981,2,     0.45,2,     -999,1,     -999,    13.27,2,     -999,1,     -999,9,     -999,     -999,1,20150915,1147,    140.0,  85.1350,-150.0570,     -999,9,  34.3220,2
33HQ20150809  ,ARC01      ,43      ,  2,18         ,    6294,   11535,GSNIS-18   ,2,20150915,1135,  85.1350,-150.0627,     2204,    141.6,  -1.1012,  34.1430,2,     -999,9,    292.4,2,     -999,9,    10.06,2,     9.34,2,     0.00,2,     0.80,2,     -999,9,     -999,9,     -999,9,     -999,9,     -999,9,     -999,9,     -999,9,     -999,     -999,9,     -999,9,     -999,9,     -999,9,  -1.0939,2,     -999,9,     -999,9,     -999,     -999,9,     -999,9,     -999,9,     -999,     -999,9,20150915,1147,    140.1,  85.1350,-150.0569,     -999,9,     -999,9
33HQ20150809  ,ARC01      ,43      ,  2,15         ,    6294,   11536,GSNIS-15   ,2,20150915,1135,  85.1350,-150.0627,     2204,    176.9,  -0.4322,  34.4173,2,     -999,9,    301.8,2,     -999,9,     6.94,2,     9.82,2,     0.00,2,     0.75,2,     -999,9,     -999,9,     -999,9,     -999,9,     -999,9,     -999,9,     -999,9,     -999,     -999,9,     -999,9,     -999,9,     -999,9,  -0.4311,2,     -999,9,     -999,9,     -999,     -999,9,     -999,9,     -999,9,     -999,     -999,9,20150915,1145,    175.0,  85.1350,-150.0580,     -999,9,     -999,9
33HQ20150809  ,ARC01      ,43      ,  2,14         ,    6294,   11536,GSNIS-14   ,2,20150915,1135,  85.1350,-150.0627,     2204,    176.9,  -0.4301,  34.4184,2,     -999,9,    301.8,2,     -999,9,     6.94,2,     9.81,2,     0.00,2,     0.73,2,     -999,9,     -999,9,     -999,9,     -999,9,     -999,9,     -999,9,     -999,9,     -999,     -999,9,     -999,9,     -999,9,     -999,9,  -0.4337,2,     -999,9,     -999,9,     -999,     -999,9,     -999,9,     -999,9,     -999,     -999,9,20150915,1145,    175.0,  85.1350,-150.0580,     -999,9,     -999,9
33HQ20150809  ,ARC01      ,43      ,  2,13         ,    6294,   11536,GSNIS-13   ,2,20150915,1135,  85.1350,-150.0627,     2204,    176.9,  -0.4321,  34.4175,2,  34.4293,2,    301.8,2,    296.7,2,     6.84,2,     9.81,2,     0.00,2,     0.75,2,    6.115,2,    3.101,2,    0.430,2,    1.790,2,   2181.1,2,   2277.8,2,   7.6425,2,    25.00,     59.3,2,     -999,1,     -999,1,     -999,1,  -0.4325,2,     0.58,2,     -999,1,     -999,    12.23,2,     -999,1,     -999,9,     -999,     -999,1,20150915,1145,    175.0,  85.1350,-150.0581,     -999,9,  34.5916,2
33HQ20150809  ,ARC01      ,43      ,  2,10         ,    6294,   11537,GSNIS-10   ,2,20150915,1135,  85.1350,-150.0627,     2204,    217.7,   0.1211,  34.5999,2,  34.6047,2,    298.4,2,    295.1,2,     6.74,2,    10.78,2,     0.00,2,     0.77,2,    5.571,2,    2.814,2,    0.387,2,    1.505,2,   2175.6,2,   2284.1,2,   7.6668,2,    25.00,     59.5,2,     -999,1,     -999,1,     -999,1,   0.1238,2,     0.67,2,     -999,1,     -999,    13.81,2,     -999,1,     -999,9,     -999,     -999,1,20150915,1143,    215.3,  85.1350,-150.0590,     -999,9,  34.7679,2
33HQ20150809  ,ARC01      ,43      ,  2,12         ,    6294,   11537,GSNIS-12   ,2,20150915,1135,  85.1350,-150.0627,     2204,    217.7,   0.1199,  34.5995,2,     -999,9,    298.4,2,     -999,9,     6.74,2,    10.75,2,     0.00,2,     0.77,2,     -999,9,     -999,9,     -999,9,     -999,9,     -999,9,     -999,9,     -999,9,     -999,     -999,9,     -999,9,     -999,9,     -999,9,   0.1229,2,     -999,9,     -999,9,     -999,     -999,9,     -999,9,     -999,9,     -999,     -999,9,20150915,1143,    215.3,  85.1350,-150.0590,     -999,9,     -999,9
33HQ20150809  ,ARC01      ,43      ,  2,11         ,    6294,   11537,GSNIS-11   ,2,20150915,1135,  85.1350,-150.0627,     2204,    217.7,   0.1201,  34.5995,2,     -999,9,    298.4,2,     -999,9,     6.74,2,    10.75,2,     0.00,2,     0.77,2,     -999,9,     -999,9,     -999,9,     -999,9,     -999,9,     -999,9,     -999,9,     -999,     -999,9,     -999,9,     -999,9,     -999,9,   0.1235,2,     -999,9,     -999,9,     -999,     -999,9,     -999,9,     -999,9,     -999,     -999,9,20150915,1143,    215.3,  85.1350,-150.0590,     -999,9,     -999,9
33HQ20150809  ,ARC01      ,43      ,  2,7          ,    6294,   11538,GSNIS-7    ,2,20150915,1135,  85.1350,-150.0627,     2204,    278.6,   0.6775,  34.7896,2,  34.7813,2,    296.5,2,    293.7,2,     6.35,2,    11.77,2,     0.00,2,     0.81,2,    5.150,2,    2.597,2,    0.362,2,    1.369,2,   2170.8,2,   2290.0,2,   7.6961,2,    25.00,     53.8,2,     -999,1,     -999,1,     -999,1,   0.6778,2,     0.71,2,     -999,1,     -999,    14.53,2,     -999,1,     -999,9,     -999,     -999,1,20150915,1141,    275.4,  85.1350,-150.0604,     -999,9,  34.9453,2
33HQ20150809  ,ARC01      ,43      ,  2,8          ,    6294,   11538,GSNIS-8    ,2,20150915,1135,  85.1350,-150.0627,     2204,    278.6,   0.6776,  34.7897,2,     -999,9,    296.5,2,     -999,9,     6.35,2,    11.79,2,     0.00,2,     0.80,2,     -999,9,     -999,9,     -999,9,     -999,9,     -999,9,     -999,9,     -999,9,     -999,     -999,9,     -999,9,     -999,9,     -999,9,   0.6777,2,     -999,9,     -999,9,     -999,     -999,9,     -999,9,     -999,9,     -999,     -999,9,20150915,1141,    275.4,  85.1350,-150.0603,     -999,9,     -999,9
33HQ20150809  ,ARC01      ,43      ,  2,9          ,    6294,   11538,GSNIS-9    ,2,20150915,1135,  85.1350,-150.0627,     2204,    278.6,   0.6778,  34.7896,2,     -999,9,    296.5,2,     -999,9,     6.35,2,    11.78,2,     0.00,2,     0.81,2,     -999,9,     -999,9,     -999,9,     -999,9,     -999,9,     -999,9,     -999,9,     -999,     -999,9,     -999,9,     -999,9,     -999,9,   0.6775,2,     -999,9,     -999,9,     -999,     -999,9,     -999,9,     -999,9,     -999,     -999,9,20150915,1141,    275.4,  85.1350,-150.0603,     -999,9,     -999,9
33HQ20150809  ,ARC01      ,43      ,  2,6          ,    6294,   11539,GSNIS-6    ,2,20150915,1135,  85.1350,-150.0627,     2204,    334.4,   0.8886,  34.8481,2,     -999,9,    300.8,2,     -999,9,     5.96,2,    11.87,2,     0.00,2,     0.81,2,     -999,9,     -999,9,     -999,9,     -999,9,     -999,9,     -999,9,     -999,9,     -999,     -999,9,     -999,9,     -999,9,     -999,9,   0.8888,2,     -999,9,     -999,9,     -999,     -999,9,     -999,9,     -999,9,     -999,     -999,9,20150915,1138,    330.5,  85.1350,-150.0615,     -999,9,     -999,9
33HQ20150809  ,ARC01      ,43      ,  2,5          ,    6294,   11539,GSNIS-5    ,2,20150915,1135,  85.1350,-150.0627,     2204,    334.4,   0.8886,  34.8481,2,     -999,9,    300.8,2,     -999,9,     5.96,2,    11.89,2,     0.00,2,     0.81,2,     -999,9,     -999,9,     -999,9,     -999,9,     -999,9,     -999,9,     -999,9,     -999,     -999,9,     -999,9,     -999,9,     -999,9,   0.8885,2,     -999,9,     -999,9,     -999,     -999,9,     -999,9,     -999,9,     -999,     -999,9,20150915,1138,    330.5,  85.1350,-150.0616,     -999,9,     -999,9
33HQ20150809  ,ARC01      ,43      ,  2,4          ,    6294,   11539,GSNIS-4    ,2,20150915,1135,  85.1350,-150.0627,     2204,    334.4,   0.8885,  34.8481,2,  34.8396,2,    300.8,2,    297.3,2,     5.96,2,    11.88,2,     0.00,2,     0.81,2,    5.261,2,    2.649,2,    0.379,2,    1.392,2,   2169.0,2,   2292.7,2,   7.7023,2,    25.00,     53.5,2,     -999,1,     -999,1,     -999,1,   0.8885,2,     0.74,6,     -999,1,     -999,    15.51,2,     -999,1,     -999,9,     -999,     -999,1,20150915,1138,    330.5,  85.1350,-150.0616,     -999,9,  35.0039,2