BOTTLE,20221220CCHSIOAMB
EXPOCODE,SECT_ID,STNNBR,CASTNO,SAMPNO,GEOTR_EVENT,GEOTR_SAMPNO,BTLNBR,BTLNBR_FLAG_W,DATE,TIME,LATITUDE,LONGITUDE,DEPTH,CTDPRS,CTDTMP,CTDSAL,CTDSAL_FLAG_W,SALNTY,SALNTY_FLAG_W,CTDOXY,CTDOXY_FLAG_W,OXYGEN,OXYGEN_FLAG_W,SILCAT,SILCAT_FLAG_W,NITRAT,NITRAT_FLAG_W,NITRIT,NITRIT_FLAG_W,PHSPHT,PHSPHT_FLAG_W,CFC-11,CFC-11_FLAG_W,CFC-12,CFC-12_FLAG_W,CFC113,CFC113_FLAG_W,SF6,SF6_FLAG_W,TCARBN,TCARBN_FLAG_W,ALKALI,ALKALI_FLAG_W,PH_SWS,PH_SWS_FLAG_W,PH_TMP,DOC,DOC_FLAG_W,TRITUM,TRITUM_FLAG_W,HELIUM,HELIUM_FLAG_W,DELHE3,DELHE3_FLAG_W,REFTMP,REFTMP_FLAG_W,DELC13,DELC13_FLAG_W,DELC14,DELC14_FLAG_W,C14ERR,TDN,TDN_FLAG_W,DELO18,DELO18_FLAG_W,DELO17,DELO17_FLAG_W,CH4,CH4,CH4_FLAG_W,BTL_DATE,BTL_TIME,CTDDEPTH,BTL_LAT,BTL_LON,LAB_DEN,LAB_DEN_FLAG_W,SALTREF,SALTREF_FLAG_W
,,,,,,,,,,,,,METERS,DBAR,ITS-90,PSS-78,,PSS-78,,UMOL/KG,,UMOL/KG,,UMOL/KG,,UMOL/KG,,UMOL/KG,,UMOL/KG,,PMOL/KG,,PMOL/KG,,PMOL/KG,,FMOL/KG,,UMOL/KG,,UMOL/KG,,,,DEG C,UMOL/KG,,TU,,NMOL/KG,,PERCNT,,ITS-90,,/MILLE,,/MILLE,,/MILLE,UMOL/KG,,/MILLE,,/MILLE,,NMOL/KG,NMOL/L,,,,METERS,,,KG/M^3,,G/KG,
33HQ20150809  ,ARC01      ,30      ,  3,36         ,    6177,   11103,GSNIS-36   ,2,20150901,0433,  87.5198,-179.8086,     3943,      3.2,  -1.4615,  28.0084,2,     -999,9,    390.5,2,     -999,9,    10.21,2,     0.00,2,     0.00,2,     0.78,2,     -999,9,     -999,9,     -999,9,     -999,9,     -999,9,     -999,9,     -999,9,     -999,     -999,9,     -999,9,     -999,9,     -999,9,  -1.4597,2,     -999,9,     -999,9,     -999,     -999,9,     -999,9,     -999,9,     -999,     -999,9,20150901,0505,      3.2,  87.5210,-179.8100,     -999,9,     -999,9
33HQ20150809  ,ARC01      ,30      ,  3,35         ,    6177,   11103,GSNIS-35   ,2,20150901,0433,  87.5198,-179.8086,     3943,      3.2,  -1.4610,  28.0084,2,     -999,9,    390.5,2,     -999,9,    10.21,2,     0.00,2,     0.00,2,     0.77,2,     -999,9,     -999,9,     -999,9,     -999,9,     -999,9,     -999,9,     -999,9,     -999,     -999,9,     -999,9,     -999,9,     -999,9,  -1.4619,2,     -999,9,     -999,9,     -999,     -999,9,     -999,9,     -999,9,     -999,     -999,9,20150901,0504,      3.2,  87.5210,-179.8100,     -999,9,     -999,9
33HQ20150809  ,ARC01      ,30      ,  3,34         ,    6177,   11103,GSNIS-34   ,2,20150901,0433,  87.5198,-179.8086,     3943,      3.2,  -1.4589,  28.0135,2,  28.0189,2,    390.5,2,    391.0,2,    10.21,2,     0.00,2,     0.00,2,     0.78,2,    6.788,2,    3.699,2,    0.632,2,    3.870,2,   1915.3,2,   2004.0,2,   7.6656,2,    25.00,     99.1,2,     -999,1,     -999,1,     -999,1,  -1.4600,2,     1.07,2,     -999,1,     -999,     5.08,2,     -999,1,     -999,9,     9.41,   9.4149,2,20150901,0504,      3.2,  87.5210,-179.8100,     -999,9,  28.1510,2
33HQ20150809  ,ARC01      ,30      ,  3,33         ,    6177,   11104,GSNIS-33   ,2,20150901,0433,  87.5198,-179.8086,     3943,     19.7,  -1.4897,  28.0475,2,     -999,9,    390.5,2,     -999,9,    10.80,2,     0.07,2,     0.06,2,     0.80,2,     -999,9,     -999,9,     -999,9,     -999,9,     -999,9,     -999,9,     -999,9,     -999,     -999,9,     -999,9,     -999,9,     -999,9,  -1.4884,2,     -999,9,     -999,9,     -999,     -999,9,     -999,9,     -999,9,     -999,     -999,9,20150901,0502,     19.4,  87.5209,-179.8099,     -999,9,     -999,9
33HQ20150809  ,ARC01      ,30      ,  3,32         ,    6177,   11104,GSNIS-32   ,2,20150901,0433,  87.5198,-179.8086,     3943,     19.7,  -1.4932,  28.0368,2,     -999,9,    390.5,2,     -999,9,    10.90,2,     0.11,2,     0.07,2,     0.80,2,     -999,9,     -999,9,     -999,9,     -999,9,     -999,9,     -999,9,     -999,9,     -999,     -999,9,     -999,9,     -999,9,     -999,9,  -1.4928,2,     -999,9,     -999,9,     -999,     -999,9,     -999,9,     -999,9,     -999,     -999,9,20150901,0502,     19.4,  87.5209,-179.8099,     -999,9,     -999,9
33HQ20150809  ,ARC01      ,30      ,  3,31         ,    6177,   11104,GSNIS-31   ,2,20150901,0433,  87.5198,-179.8086,     3943,     19.7,  -1.4940,  28.0337,2,  28.1695,2,    390.5,2,    389.8,2,    10.40,2,     0.01,2,     0.02,2,     0.79,2,    6.795,2,    3.700,2,    0.632,2,    3.928,2,   1927.6,2,   2016.3,2,   7.6591,2,    25.00,     99.9,2,     -999,1,     -999,1,     -999,1,  -1.4941,2,     1.03,2,     -999,1,     -999,     4.57,2,     -999,1,     -999,9,     8.84,   8.8402,2,20150901,0502,     19.5,  87.5209,-179.8099,     -999,9,  28.3023,2
33HQ20150809  ,ARC01      ,30      ,  3,29         ,    6177,   11105,GSNIS-29   ,2,20150901,0433,  87.5198,-179.8086,     3943,     24.6,  -1.3956,  28.8130,2,     -999,9,    389.6,2,     -999,9,    10.79,2,     0.21,2,     0.11,2,     0.81,2,     -999,9,     -999,9,     -999,9,     -999,9,     -999,9,     -999,9,     -999,9,     -999,     -999,9,     -999,9,     -999,9,     -999,9,  -1.3936,2,     -999,9,     -999,9,     -999,     -999,9,     -999,9,     -999,9,     -999,     -999,9,20150901,0500,     24.3,  87.5208,-179.8099,     -999,9,     -999,9
33HQ20150809  ,ARC01      ,30      ,  3,28         ,    6177,   11105,GSNIS-28   ,2,20150901,0433,  87.5198,-179.8086,     3943,     24.6,  -1.3956,  28.8119,2,  28.8326,2,    389.6,2,    387.5,2,    10.99,2,     0.18,2,     0.11,2,     0.81,2,    6.868,2,    3.777,2,    0.648,2,    3.906,2,   1975.0,2,   2062.1,2,   7.6400,2,    25.00,    100.9,2,     -999,1,     -999,1,     -999,1,  -1.3953,2,     0.97,2,     -999,1,     -999,     5.01,2,     -999,1,     -999,9,     9.15,   9.1474,2,20150901,0500,     24.3,  87.5208,-179.8099,     -999,9,  28.9685,2
33HQ20150809  ,ARC01      ,30      ,  3,30         ,    6177,   11105,GSNIS-30   ,2,20150901,0433,  87.5198,-179.8086,     3943,     24.6,  -1.3941,  28.8177,2,     -999,9,    389.6,2,     -999,9,    10.79,2,     0.24,2,     0.11,2,     0.82,2,     -999,9,     -999,9,     -999,9,     -999,9,     -999,9,     -999,9,     -999,9,     -999,     -999,9,     -999,9,     -999,9,     -999,9,  -1.3945,2,     -999,9,     -999,9,     -999,     -999,9,     -999,9,     -999,9,     -999,     -999,9,20150901,0500,     24.3,  87.5209,-179.8099,     -999,9,     -999,9
33HQ20150809  ,ARC01      ,30      ,  3,27         ,    6177,   11106,GSNIS-27   ,2,20150901,0433,  87.5198,-179.8086,     3943,     40.7,  -0.9946,  29.9181,2,     -999,9,    341.5,2,     -999,9,    12.45,2,     2.34,2,     0.02,2,     0.73,2,     -999,9,     -999,9,     -999,9,     -999,9,     -999,9,     -999,9,     -999,9,     -999,     -999,9,     -999,9,     -999,9,     -999,9,  -0.9993,2,     -999,9,     -999,9,     -999,     -999,9,     -999,9,     -999,9,     -999,     -999,9,20150901,0458,     40.3,  87.5208,-179.8098,     -999,9,     -999,9
33HQ20150809  ,ARC01      ,30      ,  3,26         ,    6177,   11106,GSNIS-26   ,2,20150901,0433,  87.5198,-179.8086,     3943,     40.8,  -0.9981,  29.9161,2,     -999,9,    341.5,2,     -999,9,    12.35,2,     2.21,2,     0.02,2,     0.73,2,     -999,9,     -999,9,     -999,9,     -999,9,     -999,9,     -999,9,     -999,9,     -999,     -999,9,     -999,9,     -999,9,     -999,9,  -1.0014,2,     -999,9,     -999,9,     -999,     -999,9,     -999,9,     -999,9,     -999,     -999,9,20150901,0458,     40.3,  87.5208,-179.8098,     -999,9,     -999,9
33HQ20150809  ,ARC01      ,30      ,  3,25         ,    6177,   11106,GSNIS-25   ,2,20150901,0433,  87.5198,-179.8086,     3943,     40.8,  -0.9943,  29.9221,2,  29.9640,2,    341.5,2,    343.0,2,    12.55,2,     1.97,2,     0.02,2,     0.75,2,    6.346,2,    3.470,2,    0.565,2,    3.568,2,   2057.3,2,   2130.0,2,   7.5606,4,    25.00,    110.0,2,     -999,1,     -999,1,     -999,1,  -1.0046,2,     0.46,2,     -999,1,     -999,     6.23,2,     -999,1,     -999,9,     5.04,   5.0371,2,20150901,0458,     40.3,  87.5208,-179.8097,     -999,9,  30.1053,2
33HQ20150809  ,ARC01      ,30      ,  3,24         ,    6177,   11107,GSNIS-24   ,2,20150901,0433,  87.5198,-179.8086,     3943,     56.7,  -0.3851,  31.0805,2,     -999,9,    328.1,2,     -999,9,    10.58,2,     2.74,2,     0.00,2,     0.63,2,     -999,9,     -999,9,     -999,9,     -999,9,     -999,9,     -999,9,     -999,9,     -999,     -999,9,     -999,9,     -999,9,     -999,9,  -0.3847,2,     -999,9,     -999,9,     -999,     -999,9,     -999,9,     -999,9,     -999,     -999,9,20150901,0457,     56.1,  87.5207,-179.8097,     -999,9,     -999,9
33HQ20150809  ,ARC01      ,30      ,  3,23         ,    6177,   11107,GSNIS-23   ,2,20150901,0433,  87.5198,-179.8086,     3943,     57.0,  -0.3852,  31.0806,2,     -999,9,    328.1,2,     -999,9,    10.58,2,     2.89,2,     0.00,2,     0.62,2,     -999,9,     -999,9,     -999,9,     -999,9,     -999,9,     -999,9,     -999,9,     -999,     -999,9,     -999,9,     -999,9,     -999,9,  -0.3859,2,     -999,9,     -999,9,     -999,     -999,9,     -999,9,     -999,9,     -999,     -999,9,20150901,0456,     56.3,  87.5207,-179.8097,     -999,9,     -999,9
33HQ20150809  ,ARC01      ,30      ,  3,22         ,    6177,   11107,GSNIS-22   ,2,20150901,0433,  87.5198,-179.8086,     3943,     57.0,  -0.3848,  31.0816,2,  31.1575,2,    328.1,2,    329.2,2,    10.67,2,     2.64,2,     0.00,2,     0.63,2,    6.183,2,    3.370,2,    0.531,2,    3.405,2,   2197.8,4,   2186.4,2,   7.5925,2,    25.00,    114.0,2,     -999,1,     -999,1,     -999,1,  -0.3909,2,     0.34,2,     -999,1,     -999,     7.76,2,     -999,1,     -999,9,     3.51,   3.5062,2,20150901,0456,     56.3,  87.5207,-179.8097,     -999,9,  31.3044,2
33HQ20150809  ,ARC01      ,30      ,  3,21         ,    6177,   11108,GSNIS-21   ,2,20150901,0433,  87.5198,-179.8086,     3943,     73.2,  -1.5641,  32.5309,2,     -999,9,    306.9,2,     -999,9,    15.65,2,     7.73,2,     0.00,2,     0.90,2,     -999,9,     -999,9,     -999,9,     -999,9,     -999,9,     -999,9,     -999,9,     -999,     -999,9,     -999,9,     -999,9,     -999,9,  -1.5629,2,     -999,9,     -999,9,     -999,     -999,9,     -999,9,     -999,9,     -999,     -999,9,20150901,0455,     72.5,  87.5207,-179.8097,     -999,9,     -999,9
33HQ20150809  ,ARC01      ,30      ,  3,20         ,    6177,   11108,GSNIS-20   ,2,20150901,0433,  87.5198,-179.8086,     3943,     73.2,  -1.5641,  32.5313,2,     -999,9,    306.9,2,     -999,9,    15.65,2,     7.73,2,     0.00,2,     0.93,2,     -999,9,     -999,9,     -999,9,     -999,9,     -999,9,     -999,9,     -999,9,     -999,     -999,9,     -999,9,     -999,9,     -999,9,  -1.5623,2,     -999,9,     -999,9,     -999,     -999,9,     -999,9,     -999,9,     -999,     -999,9,20150901,0455,     72.5,  87.5207,-179.8097,     -999,9,     -999,9
33HQ20150809  ,ARC01      ,30      ,  3,19         ,    6177,   11108,GSNIS-19   ,2,20150901,0433,  87.5198,-179.8086,     3943,     73.2,  -1.5638,  32.5300,2,  32.6819,2,    306.9,2,    303.7,2,    15.06,2,     7.30,2,     0.00,2,     0.89,2,    6.390,2,    3.518,2,    0.496,2,    3.031,2,   2179.6,2,   2238.2,2,   7.5237,2,    25.00,     84.5,2,     -999,1,     -999,1,     -999,1,  -1.5634,2,     0.21,2,     -999,1,     -999,    10.52,2,     -999,1,     -999,9,     1.68,   1.6809,2,20150901,0454,     72.5,  87.5206,-179.8097,     -999,9,  32.8360,2
33HQ20150809  ,ARC01      ,30      ,  3,16         ,    6177,   11109,GSNIS-16   ,2,20150901,0433,  87.5198,-179.8086,     3943,    101.5,  -1.4332,  33.9668,2,  33.9846,2,    307.0,2,    308.9,2,     7.53,2,     7.73,2,     0.00,2,     0.69,2,    6.379,2,    3.425,2,    0.474,2,    2.613,2,   2175.4,2,   2268.5,2,   7.5593,4,    25.00,     67.0,2,     -999,1,     -999,1,     -999,1,  -1.4350,2,     0.47,2,     -999,1,     -999,    11.31,2,     -999,1,     -999,9,     1.02,   1.0229,2,20150901,0452,    100.4,  87.5206,-179.8094,     -999,9,  34.1448,2
33HQ20150809  ,ARC01      ,30      ,  3,18         ,    6177,   11109,GSNIS-18   ,2,20150901,0433,  87.5198,-179.8086,     3943,    101.5,  -1.4389,  33.9468,2,     -999,9,    306.6,2,     -999,9,     7.62,2,     7.74,2,     0.00,2,     0.69,2,     -999,9,     -999,9,     -999,9,     -999,9,     -999,9,     -999,9,     -999,9,     -999,     -999,9,     -999,9,     -999,9,     -999,9,  -1.4338,2,     -999,9,     -999,9,     -999,     -999,9,     -999,9,     -999,9,     -999,     -999,9,20150901,0453,    100.4,  87.5206,-179.8095,     -999,9,     -999,9
33HQ20150809  ,ARC01      ,30      ,  3,17         ,    6177,   11109,GSNIS-17   ,2,20150901,0433,  87.5198,-179.8086,     3943,    101.5,  -1.4334,  33.9623,2,     -999,9,    306.6,2,     -999,9,     7.62,2,     7.73,2,     0.00,2,     0.69,2,     -999,9,     -999,9,     -999,9,     -999,9,     -999,9,     -999,9,     -999,9,     -999,     -999,9,     -999,9,     -999,9,     -999,9,  -1.4340,2,     -999,9,     -999,9,     -999,     -999,9,     -999,9,     -999,9,     -999,     -999,9,20150901,0452,    100.4,  87.5206,-179.8095,     -999,9,     -999,9
33HQ20150809  ,ARC01      ,30      ,  3,15         ,    6177,   11110,GSNIS-15   ,2,20150901,0433,  87.5198,-179.8086,     3943,    126.8,  -1.1202,  34.2272,2,     -999,9,    310.4,2,     -999,9,     5.37,2,     8.18,2,     0.00,2,     0.65,2,     -999,9,     -999,9,     -999,9,     -999,9,     -999,9,     -999,9,     -999,9,     -999,     -999,9,     -999,9,     -999,9,     -999,9,  -1.1157,2,     -999,9,     -999,9,     -999,     -999,9,     -999,9,     -999,9,     -999,     -999,9,20150901,0450,    125.4,  87.5205,-179.8094,     -999,9,     -999,9
33HQ20150809  ,ARC01      ,30      ,  3,14         ,    6177,   11110,GSNIS-14   ,2,20150901,0433,  87.5198,-179.8086,     3943,    126.8,  -1.1179,  34.2298,2,     -999,9,    310.4,2,     -999,9,     5.37,2,     8.18,2,     0.00,2,     0.65,2,     -999,9,     -999,9,     -999,9,     -999,9,     -999,9,     -999,9,     -999,9,     -999,     -999,9,     -999,9,     -999,9,     -999,9,  -1.1045,2,     -999,9,     -999,9,     -999,     -999,9,     -999,9,     -999,9,     -999,     -999,9,20150901,0450,    125.4,  87.5205,-179.8094,     -999,9,     -999,9
33HQ20150809  ,ARC01      ,30      ,  3,13         ,    6177,   11110,GSNIS-13   ,2,20150901,0433,  87.5198,-179.8086,     3943,    126.8,  -1.1096,  34.2277,2,  34.2360,2,    310.4,2,    309.3,2,     5.47,2,     8.18,2,     0.00,2,     0.66,2,    6.353,2,    3.343,2,    0.470,2,    2.507,2,   2171.0,2,   2278.8,2,   7.5881,4,    25.00,     66.4,2,     -999,1,     -999,1,     -999,1,  -1.1010,2,     0.54,2,     -999,1,     -999,    11.17,2,     -999,1,     -999,9,     0.92,   0.9218,2,20150901,0450,    125.4,  87.5205,-179.8094,     -999,9,  34.3975,2
33HQ20150809  ,ARC01      ,30      ,  3,11         ,    6177,   11111,GSNIS-11   ,2,20150901,0433,  87.5198,-179.8086,     3943,    177.3,  -0.0366,  34.5356,2,     -999,9,    300.2,2,     -999,9,     5.57,2,    10.14,2,     0.00,2,     0.74,2,     -999,9,     -999,9,     -999,9,     -999,9,     -999,9,     -999,9,     -999,9,     -999,     -999,9,     -999,9,     -999,9,     -999,9,  -0.0331,2,     -999,9,     -999,9,     -999,     -999,9,     -999,9,     -999,9,     -999,     -999,9,20150901,0447,    175.3,  87.5203,-179.8093,     -999,9,     -999,9
33HQ20150809  ,ARC01      ,30      ,  3,12         ,    6177,   11111,GSNIS-12   ,2,20150901,0433,  87.5198,-179.8086,     3943,    177.3,  -0.0318,  34.5370,2,     -999,9,    300.2,2,     -999,9,     5.57,2,    10.14,2,     0.00,2,     0.73,2,     -999,9,     -999,9,     -999,9,     -999,9,     -999,9,     -999,9,     -999,9,     -999,     -999,9,     -999,9,     -999,9,     -999,9,  -0.0254,2,     -999,9,     -999,9,     -999,     -999,9,     -999,9,     -999,9,     -999,     -999,9,20150901,0447,    175.4,  87.5204,-179.8093,     -999,9,     -999,9
33HQ20150809  ,ARC01      ,30      ,  3,10         ,    6177,   11111,GSNIS-10   ,2,20150901,0433,  87.5198,-179.8086,     3943,    177.3,  -0.0307,  34.5366,2,  34.5400,2,    300.2,2,    299.9,2,     5.57,2,    10.15,2,     0.00,2,     0.73,2,    5.897,2,    3.021,2,    0.417,2,    1.948,2,   2174.4,2,   2286.8,2,   7.6607,2,    25.00,     59.0,2,     -999,1,     -999,1,     -999,1,  -0.0276,2,     0.62,2,     -999,1,     -999,    12.77,2,     -999,1,     -999,9,     0.91,   0.9055,2,20150901,0447,    175.4,  87.5203,-179.8093,     -999,9,  34.7029,2
33HQ20150809  ,ARC01      ,30      ,  3,8          ,    6177,   11112,GSNIS-8    ,2,20150901,0433,  87.5198,-179.8086,     3943,    227.9,   0.6304,  34.7580,2,     -999,9,    294.0,2,     -999,9,     5.86,2,    11.75,2,     0.00,2,     0.81,2,     -999,9,     -999,9,     -999,9,     -999,9,     -999,9,     -999,9,     -999,9,     -999,     -999,9,     -999,9,     -999,9,     -999,9,   0.6328,2,     -999,9,     -999,9,     -999,     -999,9,     -999,9,     -999,9,     -999,     -999,9,20150901,0444,    225.3,  87.5202,-179.8091,     -999,9,     -999,9
33HQ20150809  ,ARC01      ,30      ,  3,9          ,    6177,   11112,GSNIS-9    ,2,20150901,0433,  87.5198,-179.8086,     3943,    227.9,   0.6308,  34.7565,2,     -999,9,    294.0,2,     -999,9,     5.86,2,    11.75,2,     0.00,2,     0.80,2,     -999,9,     -999,9,     -999,9,     -999,9,     -999,9,     -999,9,     -999,9,     -999,     -999,9,     -999,9,     -999,9,     -999,9,   0.6331,2,     -999,9,     -999,9,     -999,     -999,9,     -999,9,     -999,9,     -999,     -999,9,20150901,0444,    225.3,  87.5203,-179.8091,     -999,9,     -999,9
33HQ20150809  ,ARC01      ,30      ,  3,7          ,    6177,   11112,GSNIS-7    ,2,20150901,0433,  87.5198,-179.8086,     3943,    227.9,   0.6275,  34.7559,2,  34.7863,4,    294.0,2,    294.0,2,     5.96,2,    11.72,2,     0.00,2,     0.79,2,    5.415,2,    2.750,2,    0.390,2,    1.570,2,   2167.5,2,   2294.2,2,   7.6920,2,    25.00,     56.6,2,     -999,1,     -999,1,     -999,1,   0.6273,2,     0.71,2,     -999,1,     -999,    14.44,2,     -999,1,     -999,9,     1.05,   1.0515,2,20150901,0444,    225.3,  87.5202,-179.8091,     -999,9,  34.9503,4
33HQ20150809  ,ARC01      ,30      ,  3,6          ,    6177,   11113,GSNIS-6    ,2,20150901,0433,  87.5198,-179.8086,     3943,    263.3,   0.7904,  34.8072,2,     -999,9,    295.5,2,     -999,9,     5.86,2,    11.87,2,     0.00,2,     0.82,2,     -999,9,     -999,9,     -999,9,     -999,9,     -999,9,     -999,9,     -999,9,     -999,     -999,9,     -999,9,     -999,9,     -999,9,   0.7902,2,     -999,9,     -999,9,     -999,     -999,9,     -999,9,     -999,9,     -999,     -999,9,20150901,0441,    260.3,  87.5201,-179.8090,     -999,9,     -999,9
33HQ20150809  ,ARC01      ,30      ,  3,5          ,    6177,   11113,GSNIS-5    ,2,20150901,0433,  87.5198,-179.8086,     3943,    263.3,   0.7904,  34.8071,2,     -999,9,    295.5,2,     -999,9,     5.86,2,    11.89,2,     0.00,2,     0.81,2,     -999,9,     -999,9,     -999,9,     -999,9,     -999,9,     -999,9,     -999,9,     -999,     -999,9,     -999,9,     -999,9,     -999,9,   0.7901,2,     -999,9,     -999,9,     -999,     -999,9,     -999,9,     -999,9,     -999,     -999,9,20150901,0440,    260.3,  87.5201,-179.8090,     -999,9,     -999,9
33HQ20150809  ,ARC01      ,30      ,  3,4          ,    6177,   11113,GSNIS-4    ,2,20150901,0433,  87.5198,-179.8086,     3943,    263.3,   0.7905,  34.8072,2,  34.8069,2,    295.5,2,    295.1,2,     5.86,2,    11.91,2,     0.00,2,     0.79,2,    5.344,2,    2.691,2,    0.380,2,    1.530,2,   2165.4,2,   2295.3,2,   7.6969,2,    25.00,     53.1,2,     -999,1,     -999,1,     -999,1,   0.7903,2,     0.69,2,     -999,1,     -999,    13.74,2,     -999,1,     -999,9,     1.16,   1.1643,2,20150901,0440,    260.3,  87.5201,-179.8090,     -999,9,  34.9710,2