BOTTLE,20221220CCHSIOAMB
EXPOCODE,SECT_ID,STNNBR,CASTNO,SAMPNO,GEOTR_EVENT,GEOTR_SAMPNO,BTLNBR,BTLNBR_FLAG_W,DATE,TIME,LATITUDE,LONGITUDE,DEPTH,CTDPRS,CTDTMP,CTDSAL,CTDSAL_FLAG_W,SALNTY,SALNTY_FLAG_W,CTDOXY,CTDOXY_FLAG_W,OXYGEN,OXYGEN_FLAG_W,SILCAT,SILCAT_FLAG_W,NITRAT,NITRAT_FLAG_W,NITRIT,NITRIT_FLAG_W,PHSPHT,PHSPHT_FLAG_W,CFC-11,CFC-11_FLAG_W,CFC-12,CFC-12_FLAG_W,CFC113,CFC113_FLAG_W,SF6,SF6_FLAG_W,TCARBN,TCARBN_FLAG_W,ALKALI,ALKALI_FLAG_W,PH_SWS,PH_SWS_FLAG_W,PH_TMP,DOC,DOC_FLAG_W,TRITUM,TRITUM_FLAG_W,HELIUM,HELIUM_FLAG_W,DELHE3,DELHE3_FLAG_W,REFTMP,REFTMP_FLAG_W,DELC13,DELC13_FLAG_W,DELC14,DELC14_FLAG_W,C14ERR,TDN,TDN_FLAG_W,DELO18,DELO18_FLAG_W,DELO17,DELO17_FLAG_W,CH4,CH4,CH4_FLAG_W,BTL_DATE,BTL_TIME,CTDDEPTH,BTL_LAT,BTL_LON,LAB_DEN,LAB_DEN_FLAG_W,SALTREF,SALTREF_FLAG_W
,,,,,,,,,,,,,METERS,DBAR,ITS-90,PSS-78,,PSS-78,,UMOL/KG,,UMOL/KG,,UMOL/KG,,UMOL/KG,,UMOL/KG,,UMOL/KG,,PMOL/KG,,PMOL/KG,,PMOL/KG,,FMOL/KG,,UMOL/KG,,UMOL/KG,,,,DEG C,UMOL/KG,,TU,,NMOL/KG,,PERCNT,,ITS-90,,/MILLE,,/MILLE,,/MILLE,UMOL/KG,,/MILLE,,/MILLE,,NMOL/KG,NMOL/L,,,,METERS,,,KG/M^3,,G/KG,
33HQ20150809  ,ARC01      ,32      ,  4,36         ,    6217,   11280,GSNIS-36   ,2,20150906,0344,  89.9909,  28.8435,     4239,      1.9,  -1.4143,  27.6825,2,     -999,9,    383.6,2,     -999,9,    13.26,2,     0.10,2,     0.03,2,     0.63,2,     -999,9,     -999,9,     -999,9,     -999,9,     -999,9,     -999,9,     -999,9,     -999,     -999,9,     -999,9,     -999,9,     -999,9,  -1.3405,2,     -999,9,     -999,9,     -999,     -999,9,     -999,9,     -999,9,     -999,     -999,9,20150906,0420,      1.9,  89.9913,  25.8925,     -999,9,     -999,9
33HQ20150809  ,ARC01      ,32      ,  4,35         ,    6217,   11280,GSNIS-35   ,2,20150906,0344,  89.9909,  28.8435,     4239,      1.9,  -1.3745,  27.6807,2,     -999,9,    383.6,2,     -999,9,    13.35,2,     0.10,2,     0.03,2,     0.63,2,     -999,9,     -999,9,     -999,9,     -999,9,     -999,9,     -999,9,     -999,9,     -999,     -999,9,     -999,9,     -999,9,     -999,9,  -1.3269,4,     -999,9,     -999,9,     -999,     -999,9,     -999,9,     -999,9,     -999,     -999,9,20150906,0420,      1.9,  89.9913,  25.8994,     -999,9,     -999,9
33HQ20150809  ,ARC01      ,32      ,  4,34         ,    6217,   11280,GSNIS-34   ,2,20150906,0344,  89.9909,  28.8435,     4239,      1.9,  -1.3204,  27.6830,2,  27.7041,2,    383.6,2,    384.6,2,    13.35,2,     0.10,2,     0.03,2,     0.61,2,     -999,9,     -999,9,     -999,9,     -999,9,     -999,9,     -999,9,     -999,9,     -999,     -999,9,     -999,9,     -999,9,     -999,9,  -1.3482,4,     -999,9,     -999,9,     -999,     -999,9,     -999,9,     -999,9,     -999,     -999,9,20150906,0419,      1.9,  89.9913,  25.9097,     -999,9,  27.8348,2
33HQ20150809  ,ARC01      ,32      ,  4,33         ,    6217,   11279,GSNIS-33   ,2,20150906,0344,  89.9909,  28.8435,     4239,     12.1,  -1.4815,  27.7701,2,     -999,9,    384.9,2,     -999,9,    13.35,2,     0.30,2,     0.04,2,     0.63,2,     -999,9,     -999,9,     -999,9,     -999,9,     -999,9,     -999,9,     -999,9,     -999,     -999,9,     -999,9,     -999,9,     -999,9,  -1.4838,2,     -999,9,     -999,9,     -999,     -999,9,     -999,9,     -999,9,     -999,     -999,9,20150906,0417,     12.0,  89.9912,  26.0964,     -999,9,     -999,9
33HQ20150809  ,ARC01      ,32      ,  4,32         ,    6217,   11279,GSNIS-32   ,2,20150906,0344,  89.9909,  28.8435,     4239,     12.1,  -1.4789,  27.7911,2,     -999,9,    384.9,2,     -999,9,    13.26,2,     0.30,2,     0.05,2,     0.62,2,     -999,9,     -999,9,     -999,9,     -999,9,     -999,9,     -999,9,     -999,9,     -999,     -999,9,     -999,9,     -999,9,     -999,9,  -1.4809,2,     -999,9,     -999,9,     -999,     -999,9,     -999,9,     -999,9,     -999,     -999,9,20150906,0417,     12.0,  89.9912,  26.1168,     -999,9,     -999,9
33HQ20150809  ,ARC01      ,32      ,  4,31         ,    6217,   11279,GSNIS-31   ,2,20150906,0344,  89.9909,  28.8435,     4239,     12.1,  -1.4822,  27.7325,2,  28.0334,2,    384.2,2,    381.7,2,    13.35,2,     0.27,2,     0.04,2,     0.62,2,     -999,9,     -999,9,     -999,9,     -999,9,     -999,9,     -999,9,     -999,9,     -999,     -999,9,     -999,9,     -999,9,     -999,9,  -1.4744,2,     -999,9,     -999,9,     -999,     -999,9,     -999,9,     -999,9,     -999,     -999,9,20150906,0417,     12.0,  89.9912,  26.1241,     -999,9,  28.1656,2
33HQ20150809  ,ARC01      ,32      ,  4,30         ,    6217,   11278,GSNIS-30   ,2,20150906,0344,  89.9909,  28.8435,     4239,     20.1,  -1.5418,  31.0984,2,     -999,9,    359.5,2,     -999,9,    10.19,2,     2.42,2,     0.02,2,     0.60,2,     -999,9,     -999,9,     -999,9,     -999,9,     -999,9,     -999,9,     -999,9,     -999,     -999,9,     -999,9,     -999,9,     -999,9,  -1.5599,2,     -999,9,     -999,9,     -999,     -999,9,     -999,9,     -999,9,     -999,     -999,9,20150906,0415,     19.9,  89.9912,  26.2365,     -999,9,     -999,9
33HQ20150809  ,ARC01      ,32      ,  4,29         ,    6217,   11278,GSNIS-29   ,2,20150906,0344,  89.9909,  28.8435,     4239,     20.2,  -1.5450,  31.1094,2,     -999,9,    359.5,2,     -999,9,    10.28,2,     2.43,2,     0.02,2,     0.61,2,     -999,9,     -999,9,     -999,9,     -999,9,     -999,9,     -999,9,     -999,9,     -999,     -999,9,     -999,9,     -999,9,     -999,9,  -1.5554,2,     -999,9,     -999,9,     -999,     -999,9,     -999,9,     -999,9,     -999,     -999,9,20150906,0415,     20.0,  89.9912,  26.2606,     -999,9,     -999,9
33HQ20150809  ,ARC01      ,32      ,  4,28         ,    6217,   11278,GSNIS-28   ,2,20150906,0344,  89.9909,  28.8435,     4239,     20.2,  -1.5435,  31.1003,2,  31.3062,2,    359.5,2,    359.1,2,    10.18,2,     2.44,2,     0.02,2,     0.61,2,     -999,9,     -999,9,     -999,9,     -999,9,     -999,9,     -999,9,     -999,9,     -999,     -999,9,     -999,9,     -999,9,     -999,9,  -1.5397,2,     -999,9,     -999,9,     -999,     -999,9,     -999,9,     -999,9,     -999,     -999,9,20150906,0415,     20.0,  89.9912,  26.2656,     -999,9,  31.4538,2
33HQ20150809  ,ARC01      ,32      ,  4,25         ,    6217,   11277,GSNIS-25   ,2,20150906,0344,  89.9909,  28.8435,     4239,     40.4,  -1.7404,  32.5998,2,  32.6813,2,    366.9,2,    367.5,2,     5.19,2,     2.48,2,     0.01,2,     0.41,2,     -999,9,     -999,9,     -999,9,     -999,9,     -999,9,     -999,9,     -999,9,     -999,     -999,9,     -999,9,     -999,9,     -999,9,  -1.7404,2,     -999,9,     -999,9,     -999,     -999,9,     -999,9,     -999,9,     -999,     -999,9,20150906,0413,     39.9,  89.9912,  26.4421,     -999,9,  32.8354,2
33HQ20150809  ,ARC01      ,32      ,  4,27         ,    6217,   11277,GSNIS-27   ,2,20150906,0344,  89.9909,  28.8435,     4239,     40.4,  -1.7409,  32.5908,2,     -999,9,    366.9,2,     -999,9,     5.09,2,     2.48,2,     0.01,2,     0.41,2,     -999,9,     -999,9,     -999,9,     -999,9,     -999,9,     -999,9,     -999,9,     -999,     -999,9,     -999,9,     -999,9,     -999,9,  -1.7412,2,     -999,9,     -999,9,     -999,     -999,9,     -999,9,     -999,9,     -999,     -999,9,20150906,0413,     39.9,  89.9912,  26.4096,     -999,9,     -999,9
33HQ20150809  ,ARC01      ,32      ,  4,26         ,    6217,   11277,GSNIS-26   ,2,20150906,0344,  89.9909,  28.8435,     4239,     40.4,  -1.7406,  32.5944,2,     -999,9,    366.9,2,     -999,9,     5.19,2,     2.49,2,     0.01,2,     0.42,2,     -999,9,     -999,9,     -999,9,     -999,9,     -999,9,     -999,9,     -999,9,     -999,     -999,9,     -999,9,     -999,9,     -999,9,  -1.7404,2,     -999,9,     -999,9,     -999,     -999,9,     -999,9,     -999,9,     -999,     -999,9,20150906,0413,     39.9,  89.9912,  26.4320,     -999,9,     -999,9
33HQ20150809  ,ARC01      ,32      ,  4,24         ,    6217,   11276,GSNIS-24   ,2,20150906,0344,  89.9909,  28.8435,     4239,     60.5,  -1.7899,  33.0499,2,     -999,9,    373.1,2,     -999,9,     3.13,2,     1.95,2,     0.00,2,     0.33,2,     -999,9,     -999,9,     -999,9,     -999,9,     -999,9,     -999,9,     -999,9,     -999,     -999,9,     -999,9,     -999,9,     -999,9,  -1.7906,2,     -999,9,     -999,9,     -999,     -999,9,     -999,9,     -999,9,     -999,     -999,9,20150906,0411,     59.8,  89.9912,  26.6169,     -999,9,     -999,9
33HQ20150809  ,ARC01      ,32      ,  4,23         ,    6217,   11276,GSNIS-23   ,2,20150906,0344,  89.9909,  28.8435,     4239,     60.7,  -1.7905,  33.0512,2,     -999,9,    373.1,2,     -999,9,     3.03,2,     1.94,2,     0.00,2,     0.32,2,     -999,9,     -999,9,     -999,9,     -999,9,     -999,9,     -999,9,     -999,9,     -999,     -999,9,     -999,9,     -999,9,     -999,9,  -1.7906,2,     -999,9,     -999,9,     -999,     -999,9,     -999,9,     -999,9,     -999,     -999,9,20150906,0411,     60.0,  89.9912,  26.6262,     -999,9,     -999,9
33HQ20150809  ,ARC01      ,32      ,  4,22         ,    6217,   11276,GSNIS-22   ,2,20150906,0344,  89.9909,  28.8435,     4239,     60.7,  -1.7905,  33.0509,2,  33.0953,2,    373.1,2,    374.1,2,     3.13,2,     1.95,2,     0.00,2,     0.32,2,     -999,9,     -999,9,     -999,9,     -999,9,     -999,9,     -999,9,     -999,9,     -999,     -999,9,     -999,9,     -999,9,     -999,9,  -1.7907,2,     -999,9,     -999,9,     -999,     -999,9,     -999,9,     -999,9,     -999,     -999,9,20150906,0410,     60.0,  89.9912,  26.6495,     -999,9,  33.2513,2
33HQ20150809  ,ARC01      ,32      ,  4,19         ,    6217,   11275,GSNIS-19   ,2,20150906,0344,  89.9909,  28.8435,     4239,     80.8,  -1.7923,  33.3324,2,  33.3469,2,    375.2,2,    373.9,2,     2.54,2,     1.96,2,     0.00,2,     0.32,2,     -999,9,     -999,9,     -999,9,     -999,9,     -999,9,     -999,9,     -999,9,     -999,     -999,9,     -999,9,     -999,9,     -999,9,  -1.7927,2,     -999,9,     -999,9,     -999,     -999,9,     -999,9,     -999,9,     -999,     -999,9,20150906,0408,     80.0,  89.9912,  26.8429,     -999,9,  33.5041,2
33HQ20150809  ,ARC01      ,32      ,  4,20         ,    6217,   11275,GSNIS-20   ,2,20150906,0344,  89.9909,  28.8435,     4239,     80.9,  -1.7923,  33.3325,2,     -999,9,    375.2,2,     -999,9,     2.64,2,     1.95,2,     0.00,2,     0.30,2,     -999,9,     -999,9,     -999,9,     -999,9,     -999,9,     -999,9,     -999,9,     -999,     -999,9,     -999,9,     -999,9,     -999,9,  -1.7925,2,     -999,9,     -999,9,     -999,     -999,9,     -999,9,     -999,9,     -999,     -999,9,20150906,0408,     80.0,  89.9912,  26.8292,     -999,9,     -999,9
33HQ20150809  ,ARC01      ,32      ,  4,21         ,    6217,   11275,GSNIS-21   ,2,20150906,0344,  89.9909,  28.8435,     4239,     80.9,  -1.7924,  33.3321,2,     -999,9,    375.2,2,     -999,9,     2.64,2,     1.97,2,     0.00,2,     0.30,2,     -999,9,     -999,9,     -999,9,     -999,9,     -999,9,     -999,9,     -999,9,     -999,     -999,9,     -999,9,     -999,9,     -999,9,  -1.7924,2,     -999,9,     -999,9,     -999,     -999,9,     -999,9,     -999,9,     -999,     -999,9,20150906,0409,     80.0,  89.9912,  26.8182,     -999,9,     -999,9
33HQ20150809  ,ARC01      ,32      ,  4,16         ,    6217,   11274,GSNIS-16   ,2,20150906,0344,  89.9909,  28.8435,     4239,    101.2,  -1.7292,  33.5702,2,  33.6228,2,    348.8,2,    349.3,2,     3.71,2,     4.12,2,     0.00,2,     0.45,2,     -999,9,     -999,9,     -999,9,     -999,9,     -999,9,     -999,9,     -999,9,     -999,     -999,9,     -999,9,     -999,9,     -999,9,  -1.7290,2,     -999,9,     -999,9,     -999,     -999,9,     -999,9,     -999,9,     -999,     -999,9,20150906,0406,    100.1,  89.9911,  27.0059,     -999,9,  33.7813,2
33HQ20150809  ,ARC01      ,32      ,  4,18         ,    6217,   11274,GSNIS-18   ,2,20150906,0344,  89.9909,  28.8435,     4239,    101.2,  -1.7312,  33.5726,2,     -999,9,    348.8,2,     -999,9,     3.52,2,     3.90,2,     0.00,2,     0.43,2,     -999,9,     -999,9,     -999,9,     -999,9,     -999,9,     -999,9,     -999,9,     -999,     -999,9,     -999,9,     -999,9,     -999,9,  -1.7292,2,     -999,9,     -999,9,     -999,     -999,9,     -999,9,     -999,9,     -999,     -999,9,20150906,0406,    100.1,  89.9911,  26.9713,     -999,9,     -999,9
33HQ20150809  ,ARC01      ,32      ,  4,17         ,    6217,   11274,GSNIS-17   ,2,20150906,0344,  89.9909,  28.8435,     4239,    101.2,  -1.7280,  33.5685,2,     -999,9,    355.3,2,     -999,9,     3.52,2,     3.80,2,     0.00,2,     0.42,2,     -999,9,     -999,9,     -999,9,     -999,9,     -999,9,     -999,9,     -999,9,     -999,     -999,9,     -999,9,     -999,9,     -999,9,  -1.7293,2,     -999,9,     -999,9,     -999,     -999,9,     -999,9,     -999,9,     -999,     -999,9,20150906,0406,    100.1,  89.9911,  26.9885,     -999,9,     -999,9
33HQ20150809  ,ARC01      ,32      ,  4,15         ,    6217,   11273,GSNIS-15   ,2,20150906,0344,  89.9909,  28.8435,     4239,    151.7,  -1.1536,  34.3142,2,     -999,9,    311.8,2,     -999,9,     4.10,2,     8.26,2,     0.00,2,     0.64,2,     -999,9,     -999,9,     -999,9,     -999,9,     -999,9,     -999,9,     -999,9,     -999,     -999,9,     -999,9,     -999,9,     -999,9,  -1.1455,2,     -999,9,     -999,9,     -999,     -999,9,     -999,9,     -999,9,     -999,     -999,9,20150906,0404,    150.0,  89.9911,  27.2138,     -999,9,     -999,9
33HQ20150809  ,ARC01      ,32      ,  4,14         ,    6217,   11273,GSNIS-14   ,2,20150906,0344,  89.9909,  28.8435,     4239,    151.7,  -1.1468,  34.3196,2,     -999,9,    311.8,2,     -999,9,     4.10,2,     8.28,2,     0.00,2,     0.64,2,     -999,9,     -999,9,     -999,9,     -999,9,     -999,9,     -999,9,     -999,9,     -999,     -999,9,     -999,9,     -999,9,     -999,9,  -1.1303,4,     -999,9,     -999,9,     -999,     -999,9,     -999,9,     -999,9,     -999,     -999,9,20150906,0404,    150.0,  89.9911,  27.2230,     -999,9,     -999,9
33HQ20150809  ,ARC01      ,32      ,  4,13         ,    6217,   11273,GSNIS-13   ,2,20150906,0344,  89.9909,  28.8435,     4239,    151.7,  -1.1468,  34.3216,2,  34.3595,2,    311.8,2,    311.2,2,     4.30,2,     8.37,2,     0.00,2,     0.64,2,     -999,9,     -999,9,     -999,9,     -999,9,     -999,9,     -999,9,     -999,9,     -999,     -999,9,     -999,9,     -999,9,     -999,9,  -1.1444,2,     -999,9,     -999,9,     -999,     -999,9,     -999,9,     -999,9,     -999,     -999,9,20150906,0403,    150.0,  89.9911,  27.2370,     -999,9,  34.5216,2
33HQ20150809  ,ARC01      ,32      ,  4,11         ,    6217,   11272,GSNIS-11   ,2,20150906,0344,  89.9909,  28.8435,     4239,    278.3,   1.0698,  34.8269,2,     -999,9,    296.9,2,     -999,9,     4.59,2,    11.63,2,     0.00,2,     0.79,2,     -999,9,     -999,9,     -999,9,     -999,9,     -999,9,     -999,9,     -999,9,     -999,     -999,9,     -999,9,     -999,9,     -999,9,   1.0704,2,     -999,9,     -999,9,     -999,     -999,9,     -999,9,     -999,9,     -999,     -999,9,20150906,0400,    275.1,  89.9911,  27.5355,     -999,9,     -999,9
33HQ20150809  ,ARC01      ,32      ,  4,10         ,    6217,   11272,GSNIS-10   ,2,20150906,0344,  89.9909,  28.8435,     4239,    278.3,   1.0709,  34.8268,2,  34.8251,2,    297.2,2,    297.2,2,     4.59,2,    11.64,2,     0.00,2,     0.79,2,     -999,9,     -999,9,     -999,9,     -999,9,     -999,9,     -999,9,     -999,9,     -999,     -999,9,     -999,9,     -999,9,     -999,9,   1.0690,2,     -999,9,     -999,9,     -999,     -999,9,     -999,9,     -999,9,     -999,     -999,9,20150906,0400,    275.1,  89.9911,  27.5480,     -999,9,  34.9893,2
33HQ20150809  ,ARC01      ,32      ,  4,12         ,    6217,   11272,GSNIS-12   ,2,20150906,0344,  89.9909,  28.8435,     4239,    278.3,   1.0698,  34.8270,2,     -999,9,    296.9,2,     -999,9,     4.69,2,    11.62,2,     0.00,2,     0.79,2,     -999,9,     -999,9,     -999,9,     -999,9,     -999,9,     -999,9,     -999,9,     -999,     -999,9,     -999,9,     -999,9,     -999,9,   1.0692,2,     -999,9,     -999,9,     -999,     -999,9,     -999,9,     -999,9,     -999,     -999,9,20150906,0400,    275.2,  89.9911,  27.5188,     -999,9,     -999,9
33HQ20150809  ,ARC01      ,32      ,  4,7          ,    6217,   11271,GSNIS-7    ,2,20150906,0344,  89.9909,  28.8435,     4239,    354.3,   1.2336,  34.8711,2,  34.8701,2,    298.8,2,    298.5,2,     4.79,2,    11.86,2,     0.00,2,     0.81,2,     -999,9,     -999,9,     -999,9,     -999,9,     -999,9,     -999,9,     -999,9,     -999,     -999,9,     -999,9,     -999,9,     -999,9,   1.2320,2,     -999,9,     -999,9,     -999,     -999,9,     -999,9,     -999,9,     -999,     -999,9,20150906,0356,    350.2,  89.9910,  27.8221,     -999,9,  35.0345,2
33HQ20150809  ,ARC01      ,32      ,  4,8          ,    6217,   11271,GSNIS-8    ,2,20150906,0344,  89.9909,  28.8435,     4239,    354.3,   1.2350,  34.8712,2,     -999,9,    298.8,2,     -999,9,     4.79,2,    11.85,2,     0.00,2,     0.81,2,     -999,9,     -999,9,     -999,9,     -999,9,     -999,9,     -999,9,     -999,9,     -999,     -999,9,     -999,9,     -999,9,     -999,9,   1.2342,2,     -999,9,     -999,9,     -999,     -999,9,     -999,9,     -999,9,     -999,     -999,9,20150906,0356,    350.2,  89.9910,  27.8093,     -999,9,     -999,9
33HQ20150809  ,ARC01      ,32      ,  4,9          ,    6217,   11271,GSNIS-9    ,2,20150906,0344,  89.9909,  28.8435,     4239,    354.3,   1.2335,  34.8711,2,     -999,9,    298.8,2,     -999,9,     4.79,2,    11.85,2,     0.00,2,     0.81,2,     -999,9,     -999,9,     -999,9,     -999,9,     -999,9,     -999,9,     -999,9,     -999,     -999,9,     -999,9,     -999,9,     -999,9,   1.2343,2,     -999,9,     -999,9,     -999,     -999,9,     -999,9,     -999,9,     -999,     -999,9,20150906,0357,    350.2,  89.9910,  27.7915,     -999,9,     -999,9
33HQ20150809  ,ARC01      ,32      ,  4,6          ,    6217,   11270,GSNIS-6    ,2,20150906,0344,  89.9909,  28.8435,     4239,    506.3,   0.8454,  34.8909,2,     -999,9,    304.5,2,     -999,9,     5.08,2,    11.95,2,     0.00,2,     0.82,2,     -999,9,     -999,9,     -999,9,     -999,9,     -999,9,     -999,9,     -999,9,     -999,     -999,9,     -999,9,     -999,9,     -999,9,   0.8437,2,     -999,9,     -999,9,     -999,     -999,9,     -999,9,     -999,9,     -999,     -999,9,20150906,0352,    500.3,  89.9910,  28.2045,     -999,9,     -999,9
33HQ20150809  ,ARC01      ,32      ,  4,5          ,    6217,   11270,GSNIS-5    ,2,20150906,0344,  89.9909,  28.8435,     4239,    506.3,   0.8452,  34.8909,2,     -999,9,    304.5,2,     -999,9,     5.08,2,    11.95,2,     0.00,2,     0.82,2,     -999,9,     -999,9,     -999,9,     -999,9,     -999,9,     -999,9,     -999,9,     -999,     -999,9,     -999,9,     -999,9,     -999,9,   0.8415,2,     -999,9,     -999,9,     -999,     -999,9,     -999,9,     -999,9,     -999,     -999,9,20150906,0352,    500.3,  89.9910,  28.2214,     -999,9,     -999,9
33HQ20150809  ,ARC01      ,32      ,  4,4          ,    6217,   11270,GSNIS-4    ,2,20150906,0344,  89.9909,  28.8435,     4239,    506.3,   0.8410,  34.8917,2,  34.8905,2,    304.5,2,    304.4,2,     5.08,2,    11.95,2,     0.00,2,     0.82,2,     -999,9,     -999,9,     -999,9,     -999,9,     -999,9,     -999,9,     -999,9,     -999,     -999,9,     -999,9,     -999,9,     -999,9,   0.8404,2,     -999,9,     -999,9,     -999,     -999,9,     -999,9,     -999,9,     -999,     -999,9,20150906,0351,    500.3,  89.9910,  28.2331,     -999,9,  35.0551,2