BOTTLE,20221220CCHSIOAMB
EXPOCODE,SECT_ID,STNNBR,CASTNO,SAMPNO,GEOTR_EVENT,GEOTR_SAMPNO,BTLNBR,BTLNBR_FLAG_W,DATE,TIME,LATITUDE,LONGITUDE,DEPTH,CTDPRS,CTDTMP,CTDSAL,CTDSAL_FLAG_W,SALNTY,SALNTY_FLAG_W,CTDOXY,CTDOXY_FLAG_W,OXYGEN,OXYGEN_FLAG_W,SILCAT,SILCAT_FLAG_W,NITRAT,NITRAT_FLAG_W,NITRIT,NITRIT_FLAG_W,PHSPHT,PHSPHT_FLAG_W,CFC-11,CFC-11_FLAG_W,CFC-12,CFC-12_FLAG_W,CFC113,CFC113_FLAG_W,SF6,SF6_FLAG_W,TCARBN,TCARBN_FLAG_W,ALKALI,ALKALI_FLAG_W,PH_SWS,PH_SWS_FLAG_W,PH_TMP,DOC,DOC_FLAG_W,TRITUM,TRITUM_FLAG_W,HELIUM,HELIUM_FLAG_W,DELHE3,DELHE3_FLAG_W,REFTMP,REFTMP_FLAG_W,DELC13,DELC13_FLAG_W,DELC14,DELC14_FLAG_W,C14ERR,TDN,TDN_FLAG_W,DELO18,DELO18_FLAG_W,DELO17,DELO17_FLAG_W,CH4,CH4,CH4_FLAG_W,BTL_DATE,BTL_TIME,CTDDEPTH,BTL_LAT,BTL_LON,LAB_DEN,LAB_DEN_FLAG_W,SALTREF,SALTREF_FLAG_W
,,,,,,,,,,,,,METERS,DBAR,ITS-90,PSS-78,,PSS-78,,UMOL/KG,,UMOL/KG,,UMOL/KG,,UMOL/KG,,UMOL/KG,,UMOL/KG,,PMOL/KG,,PMOL/KG,,PMOL/KG,,FMOL/KG,,UMOL/KG,,UMOL/KG,,,,DEG C,UMOL/KG,,TU,,NMOL/KG,,PERCNT,,ITS-90,,/MILLE,,/MILLE,,/MILLE,UMOL/KG,,/MILLE,,/MILLE,,NMOL/KG,NMOL/L,,,,METERS,,,KG/M^3,,G/KG,
33HQ20150809  ,ARC01      ,14      ,  9,34         ,    6109,   10850,GSNIS-34   ,2,20150822,0003,  76.5945,-173.2671,     2248,    485.6,   0.9277,  34.8438,2,  34.8448,2,    296.1,2,    295.5,2,     6.15,2,    12.23,2,     0.01,2,     0.81,2,    5.411,2,    2.712,2,    0.387,2,    1.399,2,     -999,9,   2452.3,4,   7.6967,2,    25.00,     54.5,2,     -999,1,     -999,1,     -999,1,     -999,9,     0.74,2,     -999,1,     -999,    14.46,2,     -999,1,     -999,9,     1.41,   1.4076,2,20150822,0056,    480.0,  76.5978,-173.2654,     -999,9,  35.0091,2
33HQ20150809  ,ARC01      ,14      ,  9,36         ,    6109,   10850,GSNIS-36   ,2,20150822,0003,  76.5945,-173.2671,     2248,    485.6,   0.9277,  34.8438,2,     -999,9,    296.1,2,     -999,9,     6.15,2,    12.20,2,     0.01,2,     0.82,2,     -999,9,     -999,9,     -999,9,     -999,9,     -999,9,     -999,9,     -999,9,     -999,     -999,9,     -999,9,     -999,9,     -999,9,     -999,9,     -999,9,     -999,9,     -999,     -999,9,     -999,9,     -999,9,     -999,     -999,9,20150822,0057,    480.0,  76.5978,-173.2654,     -999,9,     -999,9
33HQ20150809  ,ARC01      ,14      ,  9,35         ,    6109,   10850,GSNIS-35   ,2,20150822,0003,  76.5945,-173.2671,     2248,    485.6,   0.9277,  34.8438,2,     -999,9,    296.1,2,     -999,9,     6.15,2,    12.24,2,     0.01,2,     0.80,2,     -999,9,     -999,9,     -999,9,     -999,9,     -999,9,     -999,9,     -999,9,     -999,     -999,9,     -999,9,     -999,9,     -999,9,     -999,9,     -999,9,     -999,9,     -999,     -999,9,     -999,9,     -999,9,     -999,     -999,9,20150822,0056,    480.0,  76.5978,-173.2654,     -999,9,     -999,9
33HQ20150809  ,ARC01      ,14      ,  9,31         ,    6109,   10851,GSNIS-31   ,2,20150822,0003,  76.5945,-173.2671,     2248,    607.2,   0.6713,  34.8566,2,  34.8578,2,    298.8,2,    298.9,2,     6.06,2,    12.20,2,     0.01,2,     0.81,2,    5.319,2,    2.668,2,    0.375,2,    1.332,2,     -999,9,   2295.5,2,   7.6980,2,    25.00,     53.2,2,     -999,1,     -999,1,     -999,1,     -999,9,     0.78,2,     -999,1,     -999,    14.71,2,     -999,1,     -999,9,     1.24,   1.2364,2,20150822,0052,    600.0,  76.5976,-173.2657,     -999,9,  35.0221,2
33HQ20150809  ,ARC01      ,14      ,  9,32         ,    6109,   10851,GSNIS-32   ,2,20150822,0003,  76.5945,-173.2671,     2248,    607.3,   0.6713,  34.8566,2,     -999,9,    298.8,2,     -999,9,     5.96,2,    12.18,2,     0.01,2,     0.82,2,     -999,9,     -999,9,     -999,9,     -999,9,     -999,9,     -999,9,     -999,9,     -999,     -999,9,     -999,9,     -999,9,     -999,9,     -999,9,     -999,9,     -999,9,     -999,     -999,9,     -999,9,     -999,9,     -999,     -999,9,20150822,0052,    600.0,  76.5976,-173.2656,     -999,9,     -999,9
33HQ20150809  ,ARC01      ,14      ,  9,33         ,    6109,   10851,GSNIS-33   ,2,20150822,0003,  76.5945,-173.2671,     2248,    607.3,   0.6712,  34.8567,2,     -999,9,    298.8,2,     -999,9,     6.06,2,    12.17,2,     0.01,2,     0.82,2,     -999,9,     -999,9,     -999,9,     -999,9,     -999,9,     -999,9,     -999,9,     -999,     -999,9,     -999,9,     -999,9,     -999,9,     -999,9,     -999,9,     -999,9,     -999,     -999,9,     -999,9,     -999,9,     -999,     -999,9,20150822,0053,    600.0,  76.5976,-173.2656,     -999,9,     -999,9
33HQ20150809  ,ARC01      ,14      ,  9,30         ,    6109,   10852,GSNIS-30   ,2,20150822,0003,  76.5945,-173.2671,     2248,    708.3,   0.4508,  34.8623,2,     -999,9,    301.3,2,     -999,9,     5.86,2,    12.07,2,     0.01,2,     0.81,2,     -999,9,     -999,9,     -999,9,     -999,9,     -999,9,     -999,9,     -999,9,     -999,     -999,9,     -999,9,     -999,9,     -999,9,     -999,9,     -999,9,     -999,9,     -999,     -999,9,     -999,9,     -999,9,     -999,     -999,9,20150822,0049,    699.7,  76.5975,-173.2658,     -999,9,     -999,9
33HQ20150809  ,ARC01      ,14      ,  9,29         ,    6109,   10852,GSNIS-29   ,2,20150822,0003,  76.5945,-173.2671,     2248,    708.3,   0.4511,  34.8623,2,     -999,9,    301.3,2,     -999,9,     5.86,2,    12.05,2,     0.01,2,     0.82,2,     -999,9,     -999,9,     -999,9,     -999,9,     -999,9,     -999,9,     -999,9,     -999,     -999,9,     -999,9,     -999,9,     -999,9,     -999,9,     -999,9,     -999,9,     -999,     -999,9,     -999,9,     -999,9,     -999,     -999,9,20150822,0049,    699.7,  76.5974,-173.2659,     -999,9,     -999,9
33HQ20150809  ,ARC01      ,14      ,  9,28         ,    6109,   10852,GSNIS-28   ,2,20150822,0003,  76.5945,-173.2671,     2248,    708.3,   0.4510,  34.8623,2,  34.8629,2,    301.3,2,    301.5,2,     5.86,2,    12.08,2,     0.01,2,     0.81,2,    5.243,2,    2.630,2,    0.367,2,    1.429,2,     -999,9,   2296.4,2,   7.6927,2,    25.00,     52.7,2,     -999,1,     -999,1,     -999,1,     -999,9,     0.61,3,     -999,1,     -999,    13.95,2,     -999,1,     -999,9,     1.17,   1.1739,2,20150822,0049,    699.7,  76.5974,-173.2659,     -999,9,  35.0273,2
33HQ20150809  ,ARC01      ,14      ,  9,25         ,    6109,   10853,GSNIS-25   ,2,20150822,0003,  76.5945,-173.2671,     2248,    810.0,   0.2448,  34.8632,2,  34.8625,2,    302.8,2,    303.1,2,     5.86,2,    12.10,2,     0.01,2,     0.81,2,    5.211,2,    2.595,2,    0.363,2,    1.405,2,     -999,9,   2296.3,2,   7.6887,2,    25.00,     52.4,2,     -999,1,     -999,1,     -999,1,     -999,9,     0.73,2,     -999,1,     -999,    13.67,2,     -999,1,     -999,9,     1.40,   1.4003,2,20150822,0045,    800.0,  76.5973,-173.2660,     -999,9,  35.0268,2
33HQ20150809  ,ARC01      ,14      ,  9,26         ,    6109,   10853,GSNIS-26   ,2,20150822,0003,  76.5945,-173.2671,     2248,    810.1,   0.2447,  34.8632,2,     -999,9,    302.8,2,     -999,9,     5.86,2,    12.09,2,     0.01,2,     0.81,2,     -999,9,     -999,9,     -999,9,     -999,9,     -999,9,     -999,9,     -999,9,     -999,     -999,9,     -999,9,     -999,9,     -999,9,     -999,9,     -999,9,     -999,9,     -999,     -999,9,     -999,9,     -999,9,     -999,     -999,9,20150822,0046,    800.0,  76.5973,-173.2660,     -999,9,     -999,9
33HQ20150809  ,ARC01      ,14      ,  9,27         ,    6109,   10853,GSNIS-27   ,2,20150822,0003,  76.5945,-173.2671,     2248,    810.1,   0.2447,  34.8632,2,     -999,9,    302.8,2,     -999,9,     5.86,2,    12.08,2,     0.01,2,     0.81,2,     -999,9,     -999,9,     -999,9,     -999,9,     -999,9,     -999,9,     -999,9,     -999,     -999,9,     -999,9,     -999,9,     -999,9,     -999,9,     -999,9,     -999,9,     -999,     -999,9,     -999,9,     -999,9,     -999,     -999,9,20150822,0046,    800.1,  76.5973,-173.2660,     -999,9,     -999,9
33HQ20150809  ,ARC01      ,14      ,  9,22         ,    6109,   10854,GSNIS-22   ,2,20150822,0003,  76.5945,-173.2671,     2248,   1033.3,  -0.0574,  34.8739,2,  34.8742,2,    303.7,2,    304.2,2,     6.25,2,    12.15,2,     0.00,2,     0.84,2,    4.938,2,    2.461,2,    0.341,2,    1.283,2,     -999,9,   2335.7,4,   7.6864,2,    25.00,     53.4,2,     -999,1,     -999,1,     -999,1,     -999,9,     0.77,2,     -999,1,     -999,    14.96,2,     -999,1,     -999,9,     0.97,   0.9651,2,20150822,0040,   1019.9,  76.5971,-173.2663,     -999,9,  35.0387,2
33HQ20150809  ,ARC01      ,14      ,  9,23         ,    6109,   10854,GSNIS-23   ,2,20150822,0003,  76.5945,-173.2671,     2248,   1033.3,  -0.0569,  34.8740,2,     -999,9,    303.7,2,     -999,9,     6.25,2,    12.18,2,     0.01,2,     0.83,2,     -999,9,     -999,9,     -999,9,     -999,9,     -999,9,     -999,9,     -999,9,     -999,     -999,9,     -999,9,     -999,9,     -999,9,     -999,9,     -999,9,     -999,9,     -999,     -999,9,     -999,9,     -999,9,     -999,     -999,9,20150822,0040,   1020.0,  76.5971,-173.2663,     -999,9,     -999,9
33HQ20150809  ,ARC01      ,14      ,  9,24         ,    6109,   10854,GSNIS-24   ,2,20150822,0003,  76.5945,-173.2671,     2248,   1033.4,  -0.0565,  34.8742,2,     -999,9,    303.7,2,     -999,9,     6.25,2,    12.19,2,     0.01,2,     0.83,2,     -999,9,     -999,9,     -999,9,     -999,9,     -999,9,     -999,9,     -999,9,     -999,     -999,9,     -999,9,     -999,9,     -999,9,     -999,9,     -999,9,     -999,9,     -999,     -999,9,     -999,9,     -999,9,     -999,     -999,9,20150822,0040,   1020.0,  76.5971,-173.2663,     -999,9,     -999,9
33HQ20150809  ,ARC01      ,14      ,  9,19         ,    6109,   10855,GSNIS-19   ,2,20150822,0003,  76.5945,-173.2671,     2248,   1216.3,  -0.2048,  34.8855,2,  34.8844,2,    303.4,2,    303.8,2,     6.84,2,    12.33,2,     0.00,2,     0.85,2,    4.454,2,    2.223,2,    0.307,2,    1.184,2,     -999,9,   2297.9,2,   7.6872,2,    25.00,     51.7,2,     -999,1,     -999,1,     -999,1,     -999,9,     0.79,2,     -999,1,     -999,    15.95,2,     -999,1,     -999,9,     1.11,   1.1108,2,20150822,0035,   1200.1,  76.5969,-173.2665,     -999,9,  35.0489,2
33HQ20150809  ,ARC01      ,14      ,  9,20         ,    6109,   10855,GSNIS-20   ,2,20150822,0003,  76.5945,-173.2671,     2248,   1216.4,  -0.2049,  34.8855,2,     -999,9,    303.4,2,     -999,9,     6.84,2,    12.36,2,     0.00,2,     0.86,2,     -999,9,     -999,9,     -999,9,     -999,9,     -999,9,     -999,9,     -999,9,     -999,     -999,9,     -999,9,     -999,9,     -999,9,     -999,9,     -999,9,     -999,9,     -999,     -999,9,     -999,9,     -999,9,     -999,     -999,9,20150822,0035,   1200.1,  76.5969,-173.2665,     -999,9,     -999,9
33HQ20150809  ,ARC01      ,14      ,  9,21         ,    6109,   10855,GSNIS-21   ,2,20150822,0003,  76.5945,-173.2671,     2248,   1216.4,  -0.2053,  34.8855,2,     -999,9,    303.4,2,     -999,9,     6.84,2,    12.35,2,     0.00,2,     0.86,2,     -999,9,     -999,9,     -999,9,     -999,9,     -999,9,     -999,9,     -999,9,     -999,     -999,9,     -999,9,     -999,9,     -999,9,     -999,9,     -999,9,     -999,9,     -999,     -999,9,     -999,9,     -999,9,     -999,     -999,9,20150822,0035,   1200.2,  76.5969,-173.2665,     -999,9,     -999,9
33HQ20150809  ,ARC01      ,14      ,  9,16         ,    6109,   10856,GSNIS-16   ,2,20150822,0003,  76.5945,-173.2671,     2248,   1420.0,  -0.3315,  34.8993,2,  34.8978,2,    302.6,2,    302.1,2,     7.52,2,    12.78,2,     0.00,2,     0.87,2,    3.398,2,    1.674,2,    0.214,2,    0.864,2,     -999,9,   2298.0,2,   7.6948,2,    25.00,     51.2,2,     -999,1,     -999,1,     -999,1,     -999,9,     0.88,2,     -999,1,     -999,    16.63,2,     -999,1,     -999,9,     0.91,   0.9086,2,20150822,0029,   1400.3,  76.5966,-173.2668,     -999,9,  35.0623,2
33HQ20150809  ,ARC01      ,14      ,  9,17         ,    6109,   10856,GSNIS-17   ,2,20150822,0003,  76.5945,-173.2671,     2248,   1420.2,  -0.3316,  34.8993,2,     -999,9,    302.6,2,     -999,9,     7.52,2,    12.80,2,     0.00,2,     0.87,2,     -999,9,     -999,9,     -999,9,     -999,9,     -999,9,     -999,9,     -999,9,     -999,     -999,9,     -999,9,     -999,9,     -999,9,     -999,9,     -999,9,     -999,9,     -999,     -999,9,     -999,9,     -999,9,     -999,     -999,9,20150822,0029,   1400.5,  76.5966,-173.2668,     -999,9,     -999,9
33HQ20150809  ,ARC01      ,14      ,  9,18         ,    6109,   10856,GSNIS-18   ,2,20150822,0003,  76.5945,-173.2671,     2248,   1420.3,  -0.3317,  34.8993,2,     -999,9,    302.6,2,     -999,9,     7.52,2,    12.77,2,     0.00,2,     0.88,2,     -999,9,     -999,9,     -999,9,     -999,9,     -999,9,     -999,9,     -999,9,     -999,     -999,9,     -999,9,     -999,9,     -999,9,     -999,9,     -999,9,     -999,9,     -999,     -999,9,     -999,9,     -999,9,     -999,     -999,9,20150822,0030,   1400.7,  76.5966,-173.2668,     -999,9,     -999,9
33HQ20150809  ,ARC01      ,14      ,  9,13         ,    6109,   10857,GSNIS-13   ,2,20150822,0003,  76.5945,-173.2671,     2248,   1623.6,  -0.4167,  34.9148,2,  34.9143,2,    298.1,2,    298.3,2,     9.18,2,    13.53,2,     0.01,2,     0.93,2,    1.895,2,    0.926,2,    0.108,2,    0.430,2,     -999,9,   2283.4,2,   7.7107,2,    25.00,     49.9,2,     -999,1,     -999,1,     -999,1,     -999,9,     1.01,2,     -999,1,     -999,    15.00,2,     -999,1,     -999,9,     0.88,   0.8791,2,20150822,0024,   1600.4,  76.5963,-173.2669,     -999,9,  35.0789,2
33HQ20150809  ,ARC01      ,14      ,  9,14         ,    6109,   10857,GSNIS-14   ,2,20150822,0003,  76.5945,-173.2671,     2248,   1623.8,  -0.4167,  34.9149,2,     -999,9,    298.1,2,     -999,9,     9.08,2,    13.54,2,     0.00,2,     0.93,2,     -999,9,     -999,9,     -999,9,     -999,9,     -999,9,     -999,9,     -999,9,     -999,     -999,9,     -999,9,     -999,9,     -999,9,     -999,9,     -999,9,     -999,9,     -999,     -999,9,     -999,9,     -999,9,     -999,     -999,9,20150822,0024,   1600.6,  76.5963,-173.2669,     -999,9,     -999,9
33HQ20150809  ,ARC01      ,14      ,  9,15         ,    6109,   10857,GSNIS-15   ,2,20150822,0003,  76.5945,-173.2671,     2248,   1624.0,  -0.4168,  34.9150,2,     -999,9,    298.1,2,     -999,9,     9.08,2,    13.51,2,     0.00,2,     0.93,2,     -999,9,     -999,9,     -999,9,     -999,9,     -999,9,     -999,9,     -999,9,     -999,     -999,9,     -999,9,     -999,9,     -999,9,     -999,9,     -999,9,     -999,9,     -999,     -999,9,     -999,9,     -999,9,     -999,     -999,9,20150822,0024,   1600.8,  76.5963,-173.2669,     -999,9,     -999,9
33HQ20150809  ,ARC01      ,14      ,  9,10         ,    6109,   10858,GSNIS-10   ,2,20150822,0003,  76.5945,-173.2671,     2248,   1776.8,  -0.4320,  34.9296,2,  34.8629,2,    293.4,2,    293.3,2,    10.55,2,    13.99,2,     0.01,2,     0.97,2,    0.900,2,    0.424,2,    0.042,2,    0.172,2,     -999,9,   2286.7,2,   7.7218,2,    25.00,     48.1,2,     -999,1,     -999,1,     -999,1,     -999,9,     1.10,2,     -999,1,     -999,    15.56,2,     -999,1,     -999,9,     0.64,   0.6412,2,20150822,0019,   1750.8,  76.5960,-173.2668,     -999,9,  35.0273,2
33HQ20150809  ,ARC01      ,14      ,  9,11         ,    6109,   10858,GSNIS-11   ,2,20150822,0003,  76.5945,-173.2671,     2248,   1777.1,  -0.4320,  34.9296,2,     -999,9,    293.4,2,     -999,9,    10.45,2,    13.98,2,     0.01,2,     0.96,2,     -999,9,     -999,9,     -999,9,     -999,9,     -999,9,     -999,9,     -999,9,     -999,     -999,9,     -999,9,     -999,9,     -999,9,     -999,9,     -999,9,     -999,9,     -999,     -999,9,     -999,9,     -999,9,     -999,     -999,9,20150822,0019,   1751.1,  76.5960,-173.2668,     -999,9,     -999,9
33HQ20150809  ,ARC01      ,14      ,  9,12         ,    6109,   10858,GSNIS-12   ,2,20150822,0003,  76.5945,-173.2671,     2248,   1777.4,  -0.4320,  34.9296,2,     -999,9,    293.4,2,     -999,9,    10.45,2,    13.98,2,     0.01,2,     0.96,2,     -999,9,     -999,9,     -999,9,     -999,9,     -999,9,     -999,9,     -999,9,     -999,     -999,9,     -999,9,     -999,9,     -999,9,     -999,9,     -999,9,     -999,9,     -999,     -999,9,     -999,9,     -999,9,     -999,     -999,9,20150822,0019,   1751.3,  76.5960,-173.2668,     -999,9,     -999,9
33HQ20150809  ,ARC01      ,14      ,  9,7          ,    6109,   10859,GSNIS-7    ,2,20150822,0003,  76.5945,-173.2671,     2248,   2031.5,  -0.4111,  34.9461,2,  34.8844,2,    287.6,2,    287.7,2,    12.11,2,    14.42,2,     0.01,2,     1.01,2,    0.208,2,    0.089,2,    0.013,2,    0.069,2,     -999,9,   2293.1,2,   7.7290,2,    25.00,     48.6,2,     -999,1,     -999,1,     -999,1,     -999,9,     1.15,2,     -999,1,     -999,    16.17,2,     -999,1,     -999,9,     0.78,   0.7823,2,20150822,0013,   2000.5,  76.5955,-173.2669,     -999,9,  35.0489,2
33HQ20150809  ,ARC01      ,14      ,  9,8          ,    6109,   10859,GSNIS-8    ,2,20150822,0003,  76.5945,-173.2671,     2248,   2031.6,  -0.4111,  34.9461,2,     -999,9,    287.6,2,     -999,9,    12.11,2,    14.41,2,     0.01,2,     1.00,2,     -999,9,     -999,9,     -999,9,     -999,9,     -999,9,     -999,9,     -999,9,     -999,     -999,9,     -999,9,     -999,9,     -999,9,     -999,9,     -999,9,     -999,9,     -999,     -999,9,     -999,9,     -999,9,     -999,     -999,9,20150822,0013,   2000.7,  76.5956,-173.2669,     -999,9,     -999,9
33HQ20150809  ,ARC01      ,14      ,  9,9          ,    6109,   10859,GSNIS-9    ,2,20150822,0003,  76.5945,-173.2671,     2248,   2031.8,  -0.4111,  34.9462,2,     -999,9,    287.6,2,     -999,9,    12.11,2,    14.41,2,     0.00,2,     0.99,2,     -999,9,     -999,9,     -999,9,     -999,9,     -999,9,     -999,9,     -999,9,     -999,     -999,9,     -999,9,     -999,9,     -999,9,     -999,9,     -999,9,     -999,9,     -999,     -999,9,     -999,9,     -999,9,     -999,     -999,9,20150822,0013,   2000.8,  76.5956,-173.2669,     -999,9,     -999,9
33HQ20150809  ,ARC01      ,14      ,  9,4          ,    6109,   10860,GSNIS-4    ,2,20150822,0003,  76.5945,-173.2671,     2248,   2123.8,  -0.3928,  34.9504,2,  34.9278,2,    284.9,2,    284.7,2,    13.19,2,    14.54,2,     0.01,2,     1.01,2,    0.090,2,    0.039,2,    0.007,2,    0.000,2,     -999,9,   2300.1,2,   7.7306,2,    25.00,     48.0,2,     -999,1,     -999,1,     -999,1,     -999,9,     1.17,2,     -999,1,     -999,    16.70,2,     -999,1,     -999,9,     2.11,   2.1063,2,20150822,0010,   2091.0,  76.5952,-173.2670,     -999,9,  35.0925,2
33HQ20150809  ,ARC01      ,14      ,  9,5          ,    6109,   10860,GSNIS-5    ,2,20150822,0003,  76.5945,-173.2671,     2248,   2124.0,  -0.3927,  34.9504,2,     -999,9,    284.9,2,     -999,9,    12.99,2,    14.53,2,     0.01,2,     1.02,2,     -999,9,     -999,9,     -999,9,     -999,9,     -999,9,     -999,9,     -999,9,     -999,     -999,9,     -999,9,     -999,9,     -999,9,     -999,9,     -999,9,     -999,9,     -999,     -999,9,     -999,9,     -999,9,     -999,     -999,9,20150822,0010,   2091.2,  76.5952,-173.2670,     -999,9,     -999,9
33HQ20150809  ,ARC01      ,14      ,  9,6          ,    6109,   10860,GSNIS-6    ,2,20150822,0003,  76.5945,-173.2671,     2248,   2124.2,  -0.3928,  34.9504,2,     -999,9,    284.9,2,     -999,9,    13.19,2,    14.56,2,     0.01,2,     1.01,2,     -999,9,     -999,9,     -999,9,     -999,9,     -999,9,     -999,9,     -999,9,     -999,     -999,9,     -999,9,     -999,9,     -999,9,     -999,9,     -999,9,     -999,9,     -999,     -999,9,     -999,9,     -999,9,     -999,     -999,9,20150822,0010,   2091.3,  76.5953,-173.2669,     -999,9,     -999,9