BOTTLE,20221220CCHSIOAMB
EXPOCODE,SECT_ID,STNNBR,CASTNO,SAMPNO,GEOTR_EVENT,GEOTR_SAMPNO,BTLNBR,BTLNBR_FLAG_W,DATE,TIME,LATITUDE,LONGITUDE,DEPTH,CTDPRS,CTDTMP,CTDSAL,CTDSAL_FLAG_W,SALNTY,SALNTY_FLAG_W,CTDOXY,CTDOXY_FLAG_W,OXYGEN,OXYGEN_FLAG_W,SILCAT,SILCAT_FLAG_W,NITRAT,NITRAT_FLAG_W,NITRIT,NITRIT_FLAG_W,PHSPHT,PHSPHT_FLAG_W,CFC-11,CFC-11_FLAG_W,CFC-12,CFC-12_FLAG_W,CFC113,CFC113_FLAG_W,SF6,SF6_FLAG_W,TCARBN,TCARBN_FLAG_W,ALKALI,ALKALI_FLAG_W,PH_SWS,PH_SWS_FLAG_W,PH_TMP,DOC,DOC_FLAG_W,TRITUM,TRITUM_FLAG_W,HELIUM,HELIUM_FLAG_W,DELHE3,DELHE3_FLAG_W,REFTMP,REFTMP_FLAG_W,DELC13,DELC13_FLAG_W,DELC14,DELC14_FLAG_W,C14ERR,TDN,TDN_FLAG_W,DELO18,DELO18_FLAG_W,DELO17,DELO17_FLAG_W,CH4,CH4,CH4_FLAG_W,BTL_DATE,BTL_TIME,CTDDEPTH,BTL_LAT,BTL_LON,LAB_DEN,LAB_DEN_FLAG_W,SALTREF,SALTREF_FLAG_W
,,,,,,,,,,,,,METERS,DBAR,ITS-90,PSS-78,,PSS-78,,UMOL/KG,,UMOL/KG,,UMOL/KG,,UMOL/KG,,UMOL/KG,,UMOL/KG,,PMOL/KG,,PMOL/KG,,PMOL/KG,,FMOL/KG,,UMOL/KG,,UMOL/KG,,,,DEG C,UMOL/KG,,TU,,NMOL/KG,,PERCNT,,ITS-90,,/MILLE,,/MILLE,,/MILLE,UMOL/KG,,/MILLE,,/MILLE,,NMOL/KG,NMOL/L,,,,METERS,,,KG/M^3,,G/KG,
33HQ20150809  ,ARC01      ,37      ,  1,36         ,    6246,    -999,GSNIS-36   ,2,20150909,0307,  88.8741,-149.6064,     3857,      1.8,  -1.4852,  27.6579,2,  27.6558,2,    384.5,2,    386.1,2,    12.37,2,     0.03,2,     0.00,2,     0.65,2,    6.574,2,    3.526,2,    0.610,2,    3.775,2,   1925.2,6,   2009.9,2,   7.6707,6,    25.00,    134.5,2,     -999,9,     -999,9,     -999,9,  -1.4865,2,     0.59,6,     -999,1,     -999,     5.58,2,     -999,1,     -999,9,     -999,     -999,9,20150909,0454,      1.8,  88.8665,-149.3431,     -999,9,  27.7862,2
33HQ20150809  ,ARC01      ,37      ,  1,35         ,    6246,    -999,GSNIS-35   ,2,20150909,0307,  88.8741,-149.6064,     3857,     14.5,  -1.4919,  27.6584,2,  27.8505,2,    385.2,2,    384.6,2,    12.57,2,     0.11,2,     0.01,2,     0.66,2,    6.613,2,    3.612,2,    0.623,2,    3.649,2,   1942.7,2,   2025.7,6,   7.6505,2,    25.00,    130.7,2,     -999,9,     -999,9,     -999,9,  -1.4918,2,     -999,9,     -999,9,     -999,     5.53,2,     -999,1,     -999,9,     -999,     -999,9,20150909,0452,     14.3,  88.8666,-149.3478,     -999,9,  27.9818,2
33HQ20150809  ,ARC01      ,37      ,  1,34         ,    6246,    -999,GSNIS-34   ,2,20150909,0307,  88.8741,-149.6064,     3857,     24.0,  -1.3990,  29.4916,2,  29.7713,2,    360.2,2,    364.3,2,    13.72,2,     1.67,2,     0.01,2,     0.73,2,     -999,9,     -999,9,     -999,9,     -999,9,   2063.3,2,   2137.2,2,   7.5935,2,    25.00,    127.6,2,     -999,9,     -999,9,     -999,9,  -1.3978,2,     -999,9,     -999,9,     -999,     6.30,2,     -999,1,     -999,9,     -999,     -999,9,20150909,0451,     23.8,  88.8667,-149.3508,     -999,9,  29.9117,2
33HQ20150809  ,ARC01      ,37      ,  1,33         ,    6246,    -999,GSNIS-33   ,2,20150909,0307,  88.8741,-149.6064,     3857,     44.1,  -1.6491,  31.3631,2,  31.4731,2,    362.3,2,    357.7,2,    10.18,2,     2.75,2,     0.00,2,     0.66,2,    6.737,2,    3.626,2,    0.589,2,    3.355,2,   2127.9,6,   2206.6,2,   7.5908,2,    25.00,    112.2,2,     -999,9,     -999,9,     -999,9,  -1.6504,2,     -999,9,     -999,9,     -999,     6.66,2,     -999,1,     -999,9,     -999,     -999,9,20150909,0449,     43.6,  88.8668,-149.3550,     -999,9,  31.6215,2
33HQ20150809  ,ARC01      ,37      ,  1,32         ,    6246,    -999,GSNIS-32   ,2,20150909,0307,  88.8741,-149.6064,     3857,     64.6,  -1.6381,  32.3274,2,  34.9337,4,    320.1,2,    317.3,2,    15.26,2,     7.02,2,     0.00,2,     0.93,2,     -999,9,     -999,9,     -999,9,     -999,9,   2164.7,2,   2227.7,6,   7.5355,2,    25.00,     87.5,2,     -999,9,     -999,9,     -999,9,  -1.6383,2,     -999,9,     -999,9,     -999,    10.32,2,     -999,1,     -999,9,     -999,     -999,9,20150909,0447,     63.9,  88.8670,-149.3588,     -999,9,  35.0984,4
33HQ20150809  ,ARC01      ,37      ,  1,31         ,    6246,    -999,GSNIS-31   ,2,20150909,0307,  88.8741,-149.6064,     3857,     74.6,  -1.5775,  32.7571,2,  32.8700,2,    324.0,2,    302.0,2,    17.70,2,     8.57,2,     0.00,2,     1.01,2,    6.403,2,    3.462,2,    0.498,2,    2.918,2,   2178.8,2,   2239.0,2,   7.5164,2,    25.00,     79.1,2,     -999,9,     -999,9,     -999,9,  -1.5771,2,     -999,9,     -999,9,     -999,    11.23,2,     -999,1,     -999,9,     -999,     -999,9,20150909,0446,     73.8,  88.8671,-149.3617,     -999,9,  33.0250,2
33HQ20150809  ,ARC01      ,37      ,  1,30         ,    6246,    -999,GSNIS-30   ,2,20150909,0307,  88.8741,-149.6064,     3857,     84.7,  -1.5400,  33.2564,2,  33.3502,2,    300.5,2,    303.9,2,    12.22,2,     7.78,2,     0.00,2,     0.81,2,     -999,9,     -999,9,     -999,9,     -999,9,     -999,9,   2251.6,2,   7.5574,2,    25.00,     77.9,2,     -999,9,     -999,9,     -999,9,  -1.5391,2,     -999,9,     -999,9,     -999,    10.22,2,     -999,1,     -999,9,     -999,     -999,9,20150909,0445,     83.8,  88.8671,-149.3645,     -999,9,  33.5074,2
33HQ20150809  ,ARC01      ,37      ,  1,29         ,    6246,    -999,GSNIS-29   ,2,20150909,0307,  88.8741,-149.6064,     3857,     94.3,  -1.4923,  33.6736,2,  33.7333,2,    305.3,2,    305.6,2,     8.99,2,     7.64,2,     0.00,2,     0.72,2,    6.380,2,    3.344,2,    0.471,2,    2.598,2,   2176.2,2,   2262.2,2,   7.5875,2,    25.00,     72.0,2,     -999,9,     -999,9,     -999,9,  -1.4926,2,     -999,9,     -999,9,     -999,     9.76,2,     -999,1,     -999,9,     -999,     -999,9,20150909,0443,     93.3,  88.8672,-149.3672,     -999,9,  33.8924,2
33HQ20150809  ,ARC01      ,37      ,  1,28         ,    6246,    -999,GSNIS-28   ,2,20150909,0307,  88.8741,-149.6064,     3857,    105.0,  -1.4271,  33.9206,2,  33.3140,4,    303.5,2,    303.7,2,    12.61,2,     7.83,2,     0.00,2,     0.83,2,     -999,9,     -999,9,     -999,9,     -999,9,     -999,9,   2250.5,2,   7.5520,2,    25.00,     76.7,2,     -999,9,     -999,9,     -999,9,  -1.4269,2,     -999,9,     -999,9,     -999,    11.32,2,     -999,1,     -999,9,     -999,     -999,9,20150909,0442,    103.9,  88.8673,-149.3702,     -999,9,  33.4711,4
33HQ20150809  ,ARC01      ,37      ,  1,27         ,    6246,    -999,GSNIS-27   ,2,20150909,0307,  88.8741,-149.6064,     3857,    120.4,  -1.1832,  34.1815,2,  34.2195,2,    304.4,2,    304.1,2,     6.16,2,     8.43,2,     0.00,2,     0.70,2,    6.306,2,    3.230,2,    0.455,2,    2.223,2,   2171.5,2,   2272.3,2,   7.6284,2,    25.00,     64.2,2,     -999,9,     -999,9,     -999,9,  -1.1816,2,     -999,9,     -999,9,     -999,    10.53,2,     -999,1,     -999,9,     -999,     -999,9,20150909,0441,    119.1,  88.8674,-149.3735,     -999,9,  34.3808,2
33HQ20150809  ,ARC01      ,37      ,  1,26         ,    6246,    -999,GSNIS-26   ,2,20150909,0307,  88.8741,-149.6064,     3857,    136.0,  -0.8370,  34.3016,2,  34.3079,2,    304.5,2,    303.4,2,     5.86,2,     8.72,2,     0.00,2,     0.68,2,     -999,9,     -999,9,     -999,9,     -999,9,     -999,9,   2274.8,2,   7.6347,2,    25.00,     61.5,2,     -999,9,     -999,9,     -999,9,  -0.8358,2,     -999,9,     -999,9,     -999,    11.25,2,     -999,1,     -999,9,     -999,     -999,9,20150909,0439,    134.5,  88.8675,-149.3772,     -999,9,  34.4697,2
33HQ20150809  ,ARC01      ,37      ,  1,25         ,    6246,    -999,GSNIS-25   ,2,20150909,0307,  88.8741,-149.6064,     3857,    156.0,  -0.4843,  34.4110,2,  34.4206,2,    300.9,2,    301.9,2,     5.67,2,     9.27,2,     0.00,2,     0.71,2,    6.147,2,    3.199,2,    0.438,2,    2.072,2,   2170.9,2,   2278.0,2,   7.6423,2,    25.00,     59.8,2,     -999,9,     -999,9,     -999,9,  -0.4909,2,     -999,9,     -999,9,     -999,    12.25,2,     -999,1,     -999,9,     -999,     -999,9,20150909,0437,    154.3,  88.8677,-149.3808,     -999,9,  34.5829,2
33HQ20150809  ,ARC01      ,37      ,  1,24         ,    6246,    -999,GSNIS-24   ,2,20150909,0307,  88.8741,-149.6064,     3857,    176.3,  -0.1479,  34.5090,2,  34.5170,2,    299.8,2,    299.1,2,     5.67,2,     9.91,2,     0.00,2,     0.74,2,     -999,9,     -999,9,     -999,9,     -999,9,     -999,9,   2282.1,2,   7.6537,2,    25.00,     56.9,2,     -999,9,     -999,9,     -999,9,  -0.1511,2,     -999,9,     -999,9,     -999,    11.79,2,     -999,1,     -999,9,     -999,     -999,9,20150909,0436,    174.4,  88.8678,-149.3846,     -999,9,  34.6797,2
33HQ20150809  ,ARC01      ,37      ,  1,23         ,    6246,    -999,GSNIS-23   ,2,20150909,0307,  88.8741,-149.6064,     3857,    196.6,   0.1747,  34.6047,2,  34.6095,2,    296.8,2,    297.0,2,     5.86,2,    10.57,2,     0.00,2,     0.76,2,    5.733,2,    2.931,2,    0.403,2,    1.733,2,   2165.5,2,   2285.7,2,   7.6684,2,    25.00,     57.1,2,     -999,9,     -999,9,     -999,9,   0.1735,2,     -999,9,     -999,9,     -999,    12.31,2,     -999,9,     -999,9,     -999,     -999,9,20150909,0434,    194.4,  88.8679,-149.3879,     -999,9,  34.7727,2
33HQ20150809  ,ARC01      ,37      ,  1,22         ,    6246,    -999,GSNIS-22   ,2,20150909,0307,  88.8741,-149.6064,     3857,    216.8,   0.4460,  34.6967,2,  34.7101,2,    294.3,2,    294.8,2,     5.96,2,    11.24,2,     0.00,2,     0.78,2,     -999,9,     -999,9,     -999,9,     -999,9,     -999,9,   2288.3,2,   7.6797,2,    25.00,     55.4,2,     -999,9,     -999,9,     -999,9,   0.4482,2,     -999,9,     -999,9,     -999,    12.84,2,     -999,1,     -999,9,     -999,     -999,9,20150909,0433,    214.4,  88.8680,-149.3915,     -999,9,  34.8737,2
33HQ20150809  ,ARC01      ,37      ,  1,21         ,    6246,    -999,GSNIS-21   ,2,20150909,0307,  88.8741,-149.6064,     3857,    237.3,   0.6954,  34.7857,2,  34.7836,2,    293.8,2,    295.1,2,     5.76,2,    11.71,2,     0.00,2,     0.80,2,    5.351,2,    2.682,2,    0.382,2,    1.550,2,   2160.8,2,   2290.7,2,   7.6921,2,    25.00,     53.5,2,     -999,9,     -999,9,     -999,9,   0.6953,2,     -999,9,     -999,9,     -999,    13.42,2,     -999,9,     -999,9,     -999,     -999,9,20150909,0431,    234.6,  88.8681,-149.3947,     -999,9,  34.9476,2
33HQ20150809  ,ARC01      ,37      ,  1,20         ,    6246,    -999,GSNIS-20   ,2,20150909,0307,  88.8741,-149.6064,     3857,    287.8,   0.7901,  34.8088,2,  34.8093,2,    295.0,2,    295.6,2,     5.66,2,    11.78,2,     0.00,2,     0.81,2,     -999,9,     -999,9,     -999,9,     -999,9,     -999,9,   2292.8,2,   7.6970,2,    25.00,     54.0,2,     -999,9,     -999,9,     -999,9,   0.7903,2,     -999,9,     -999,9,     -999,    13.19,2,     -999,1,     -999,9,     -999,     -999,9,20150909,0429,    284.5,  88.8682,-149.3988,     -999,9,  34.9735,2
33HQ20150809  ,ARC01      ,37      ,  1,19         ,    6246,    -999,GSNIS-19   ,2,20150909,0307,  88.8741,-149.6064,     3857,    338.6,   0.9003,  34.8445,2,  34.8451,2,    297.0,2,    297.2,2,     5.76,2,    11.99,2,     0.00,2,     0.82,2,    5.245,2,    2.653,2,    0.375,2,    1.449,2,   2160.4,2,   2294.6,2,   7.8978,4,    25.00,     52.7,2,     -999,9,     -999,9,     -999,9,   0.9007,2,     -999,9,     -999,9,     -999,    13.99,2,     -999,9,     -999,9,     -999,     -999,9,20150909,0427,    334.7,  88.8684,-149.4035,     -999,9,  35.0094,2
33HQ20150809  ,ARC01      ,37      ,  1,18         ,    6246,    -999,GSNIS-18   ,2,20150909,0307,  88.8741,-149.6064,     3857,    388.8,   0.8937,  34.8601,2,  34.8612,2,    300.3,2,    299.1,2,     5.76,2,    12.03,2,     0.00,2,     0.81,2,     -999,9,     -999,9,     -999,9,     -999,9,     -999,9,   2294.4,2,   7.7022,2,    25.00,     54.1,2,     -999,9,     -999,9,     -999,9,   0.8944,2,     -999,9,     -999,9,     -999,    12.98,2,     -999,1,     -999,9,     -999,     -999,9,20150909,0426,    384.3,  88.8685,-149.4083,     -999,9,  35.0256,2
33HQ20150809  ,ARC01      ,37      ,  1,17         ,    6246,    -999,GSNIS-17   ,2,20150909,0307,  88.8741,-149.6064,     3857,    439.7,   0.7256,  34.8600,2,  34.8605,2,    298.8,2,    298.0,2,     6.15,2,    12.22,2,     0.00,2,     0.83,2,    4.742,2,    2.293,2,    0.305,2,    1.077,2,   2160.0,2,   2294.3,2,   7.7185,2,    25.00,     53.0,2,     -999,9,     -999,9,     -999,9,   0.7258,2,     -999,9,     -999,9,     -999,    13.68,2,     -999,9,     -999,9,     -999,     -999,9,20150909,0424,    434.5,  88.8686,-149.4121,     -999,9,  35.0248,2
33HQ20150809  ,ARC01      ,37      ,  1,16         ,    6246,    -999,GSNIS-16   ,2,20150909,0307,  88.8741,-149.6064,     3857,    490.4,   0.5835,  34.8600,2,  34.8608,2,    299.6,2,    298.0,2,     6.35,2,    12.31,2,     0.00,2,     0.84,2,     -999,9,     -999,9,     -999,9,     -999,9,     -999,9,   2294.0,2,   7.7078,2,    25.00,     51.8,2,     -999,9,     -999,9,     -999,9,   0.5841,2,     -999,9,     -999,9,     -999,    13.27,2,     -999,1,     -999,9,     -999,     -999,9,20150909,0422,    484.5,  88.8688,-149.4160,     -999,9,  35.0252,2
33HQ20150809  ,ARC01      ,37      ,  1,15         ,    6246,    -999,GSNIS-15   ,2,20150909,0307,  88.8741,-149.6064,     3857,    591.7,   0.4072,  34.8669,2,  34.8660,2,    297.1,2,    299.4,2,     6.35,2,    12.31,2,     0.00,2,     0.84,2,    4.052,2,    1.930,2,    0.249,2,    0.925,2,   2163.0,2,   2295.0,2,   7.7066,2,    25.00,     51.0,2,     -999,9,     -999,9,     -999,9,   0.4096,2,     -999,9,     -999,9,     -999,    13.62,2,     -999,9,     -999,9,     -999,     -999,9,20150909,0420,    584.5,  88.8689,-149.4218,     -999,9,  35.0304,2
33HQ20150809  ,ARC01      ,37      ,  1,14         ,    6246,    -999,GSNIS-14   ,3,20150909,0307,  88.8741,-149.6064,     3857,    744.7,   0.1419,  34.8716,2,  34.8711,2,    300.8,2,    301.1,2,     6.35,2,    12.33,2,     0.00,2,     0.85,2,    3.801,2,    1.806,2,    0.227,2,    0.839,2,     -999,9,   2295.2,2,   7.7081,2,    25.00,     54.3,2,     -999,9,     -999,9,     -999,9,   0.1423,2,     -999,9,     -999,9,     -999,    13.02,2,     -999,9,     -999,9,     -999,     -999,9,20150909,0416,    735.4,  88.8692,-149.4304,     -999,9,  35.0355,2
33HQ20150809  ,ARC01      ,37      ,  1,13         ,    6246,    -999,GSNIS-13   ,2,20150909,0307,  88.8741,-149.6064,     3857,    896.9,  -0.0296,  34.8808,2,  34.8807,2,    302.7,2,    301.2,2,     6.64,2,    12.45,2,     0.00,2,     0.87,2,    3.257,2,    1.542,2,    0.197,2,    0.583,2,   2165.8,2,   2297.3,2,   7.7085,2,    25.00,     53.4,2,     -999,9,     -999,9,     -999,9,  -0.0292,2,     -999,9,     -999,9,     -999,    13.75,2,     -999,9,     -999,9,     -999,     -999,9,20150909,0412,    885.3,  88.8695,-149.4393,     -999,9,  35.0452,2
33HQ20150809  ,ARC01      ,37      ,  1,12         ,    6246,    -999,GSNIS-12   ,2,20150909,0307,  88.8741,-149.6064,     3857,   1048.0,  -0.1685,  34.8895,2,  34.8897,2,    302.5,2,    303.5,2,     6.84,2,    12.52,2,     0.00,2,     0.87,2,    3.246,2,    1.581,2,    0.202,2,    0.676,2,     -999,9,   2297.5,2,     -999,5,     -999,     54.5,2,     -999,9,     -999,9,     -999,9,  -0.1685,2,     -999,9,     -999,9,     -999,    15.70,2,     -999,9,     -999,9,     -999,     -999,9,20150909,0409,   1034.2,  88.8697,-149.4485,     -999,9,  35.0543,2
33HQ20150809  ,ARC01      ,37      ,  1,11         ,    6246,    -999,GSNIS-11   ,2,20150909,0307,  88.8741,-149.6064,     3857,   1200.4,  -0.2635,  34.8991,2,  34.8992,2,    301.7,2,    301.0,2,     7.42,2,    12.80,2,     0.00,2,     0.89,2,    2.566,2,    1.257,2,    0.143,2,    0.491,2,   2165.8,2,   2297.4,2,   7.7100,2,    25.00,     50.5,2,     -999,9,     -999,9,     -999,9,  -0.2638,2,     -999,9,     -999,9,     -999,    15.73,2,     -999,9,     -999,9,     -999,     -999,9,20150909,0405,   1184.1,  88.8700,-149.4573,     -999,9,  35.0638,2
33HQ20150809  ,ARC01      ,37      ,  1,10         ,    6246,    -999,GSNIS-10   ,2,20150909,0307,  88.8741,-149.6064,     3857,   1403.8,  -0.3363,  34.9148,2,  34.9151,2,    298.4,2,    298.6,2,     8.40,2,    13.30,2,     0.00,2,     0.93,2,    1.156,2,    0.540,2,    0.047,2,    0.134,2,     -999,9,   2297.2,2,   7.7244,2,    25.00,     50.2,2,     -999,9,     -999,9,     -999,9,  -0.3363,2,     -999,9,     -999,9,     -999,    16.21,2,     -999,9,     -999,9,     -999,     -999,9,20150909,0400,   1384.0,  88.8704,-149.4695,     -999,9,  35.0798,2
33HQ20150809  ,ARC01      ,37      ,  1,9          ,    6246,    -999,GSNIS-9    ,2,20150909,0307,  88.8741,-149.6064,     3857,   1657.9,  -0.3862,  34.9328,2,  34.9328,2,    294.5,2,    294.3,2,    10.16,2,    13.83,2,     0.00,2,     0.98,2,    0.347,2,    0.154,2,    0.011,2,    0.000,2,     -999,9,   2299.8,2,   7.7356,2,    25.00,     46.1,2,     -999,9,     -999,9,     -999,9,  -0.3859,2,     -999,9,     -999,9,     -999,    14.73,2,     -999,9,     -999,9,     -999,     -999,9,20150909,0355,   1633.6,  88.8707,-149.4825,     -999,9,  35.0975,2
33HQ20150809  ,ARC01      ,37      ,  1,8          ,    6246,    -999,GSNIS-8    ,2,20150909,0307,  88.8741,-149.6064,     3857,   1963.3,  -0.4030,  34.9451,2,  34.9444,2,    290.2,2,    289.8,2,    11.82,2,    14.22,2,     0.00,2,     1.00,2,    0.134,2,    0.052,2,    0.003,2,    0.000,2,     -999,9,   2301.0,2,   7.7354,2,    25.00,     45.8,2,     -999,9,     -999,9,     -999,9,  -0.4030,2,     -999,9,     -999,9,     -999,    15.19,2,     -999,9,     -999,9,     -999,     -999,9,20150909,0348,   1933.1,  88.8712,-149.4981,     -999,9,  35.1092,2
33HQ20150809  ,ARC01      ,37      ,  1,7          ,    6246,    -999,GSNIS-7    ,2,20150909,0307,  88.8741,-149.6064,     3857,   2269.6,  -0.3915,  34.9510,2,  34.9509,2,    288.0,2,    287.9,2,    12.50,2,    14.36,2,     0.00,2,     1.02,2,    0.057,2,    0.021,2,    0.004,2,    0.000,2,   2155.4,2,   2300.2,2,   7.7343,2,    25.00,     47.0,2,     -999,9,     -999,9,     -999,9,  -0.3916,2,     -999,9,     -999,9,     -999,    16.89,2,     -999,9,     -999,9,     -999,     -999,9,20150909,0342,   2233.2,  88.8716,-149.5139,     -999,9,  35.1157,2
33HQ20150809  ,ARC01      ,37      ,  1,6          ,    6246,    -999,GSNIS-6    ,2,20150909,0307,  88.8741,-149.6064,     3857,   2576.7,  -0.3725,  34.9536,2,  34.9537,2,    287.3,2,    286.9,2,    12.69,2,    14.44,2,     0.00,2,     1.03,2,    0.034,2,    0.013,2,    0.001,2,    0.000,2,     -999,9,   2301.6,2,   7.8910,4,    25.00,     46.3,2,     -999,9,     -999,9,     -999,9,  -0.3724,2,     -999,9,     -999,9,     -999,    16.88,2,     -999,9,     -999,9,     -999,     -999,9,20150909,0336,   2533.5,  88.8721,-149.5295,     -999,9,  35.1185,2
33HQ20150809  ,ARC01      ,37      ,  1,5          ,    6246,    -999,GSNIS-5    ,2,20150909,0307,  88.8741,-149.6064,     3857,   2884.1,  -0.3527,  34.9546,2,  34.9543,2,    287.2,2,    287.0,2,    12.60,2,    14.47,2,     0.00,2,     1.02,2,    0.022,2,    0.008,2,    0.001,2,    0.000,2,   2153.8,6,   2301.4,2,   7.7358,2,    25.00,     46.3,2,     -999,9,     -999,9,     -999,9,  -0.3526,2,     -999,9,     -999,9,     -999,    15.55,2,     -999,9,     -999,9,     -999,     -999,9,20150909,0330,   2833.7,  88.8725,-149.5460,     -999,9,  35.1191,2
33HQ20150809  ,ARC01      ,37      ,  1,4          ,    6246,    -999,GSNIS-4    ,2,20150909,0307,  88.8741,-149.6064,     3857,   3192.1,  -0.3302,  34.9546,2,  34.9550,2,    287.1,2,    288.1,2,    12.50,2,    14.46,2,     0.00,2,     1.02,2,    0.031,2,    0.013,2,    0.005,2,    0.000,2,     -999,9,   2300.8,2,   7.9428,4,    25.00,     44.4,2,     -999,9,     -999,9,     -999,9,  -0.3300,2,     -999,9,     -999,9,     -999,    15.45,2,     -999,9,     -999,9,     -999,     -999,9,20150909,0323,   3134.1,  88.8730,-149.5626,     -999,9,  35.1199,2