BOTTLE,20221220CCHSIOAMB
EXPOCODE,SECT_ID,STNNBR,CASTNO,SAMPNO,GEOTR_EVENT,GEOTR_SAMPNO,BTLNBR,BTLNBR_FLAG_W,DATE,TIME,LATITUDE,LONGITUDE,DEPTH,CTDPRS,CTDTMP,CTDSAL,CTDSAL_FLAG_W,SALNTY,SALNTY_FLAG_W,CTDOXY,CTDOXY_FLAG_W,OXYGEN,OXYGEN_FLAG_W,SILCAT,SILCAT_FLAG_W,NITRAT,NITRAT_FLAG_W,NITRIT,NITRIT_FLAG_W,PHSPHT,PHSPHT_FLAG_W,CFC-11,CFC-11_FLAG_W,CFC-12,CFC-12_FLAG_W,CFC113,CFC113_FLAG_W,SF6,SF6_FLAG_W,TCARBN,TCARBN_FLAG_W,ALKALI,ALKALI_FLAG_W,PH_SWS,PH_SWS_FLAG_W,PH_TMP,DOC,DOC_FLAG_W,TRITUM,TRITUM_FLAG_W,HELIUM,HELIUM_FLAG_W,DELHE3,DELHE3_FLAG_W,REFTMP,REFTMP_FLAG_W,DELC13,DELC13_FLAG_W,DELC14,DELC14_FLAG_W,C14ERR,TDN,TDN_FLAG_W,DELO18,DELO18_FLAG_W,DELO17,DELO17_FLAG_W,CH4,CH4,CH4_FLAG_W,BTL_DATE,BTL_TIME,CTDDEPTH,BTL_LAT,BTL_LON,LAB_DEN,LAB_DEN_FLAG_W,SALTREF,SALTREF_FLAG_W
,,,,,,,,,,,,,METERS,DBAR,ITS-90,PSS-78,,PSS-78,,UMOL/KG,,UMOL/KG,,UMOL/KG,,UMOL/KG,,UMOL/KG,,UMOL/KG,,PMOL/KG,,PMOL/KG,,PMOL/KG,,FMOL/KG,,UMOL/KG,,UMOL/KG,,,,DEG C,UMOL/KG,,TU,,NMOL/KG,,PERCNT,,ITS-90,,/MILLE,,/MILLE,,/MILLE,UMOL/KG,,/MILLE,,/MILLE,,NMOL/KG,NMOL/L,,,,METERS,,,KG/M^3,,G/KG,
33HQ20150809  ,ARC01      ,58      ,  1,32         ,    6455,    -999,GSNIS-32   ,2,20151004,1630,  73.1859,-157.8317,     2569,      3.1,  -0.9996,  25.6044,2,  25.6046,2,    382.9,2,    382.2,2,     2.46,2,     0.00,2,     0.00,2,     0.50,2,    6.601,2,    3.608,2,    0.629,2,    3.625,2,   1789.6,2,   1853.1,2,   7.6302,2,    25.00,     67.0,2,     -999,1,     -999,1,     -999,1,  -0.9967,2,     1.38,6,     -999,1,     -999,     2.36,2,     -999,1,     -999,9,     -999,     -999,1,20151004,1803,      3.0,  73.1759,-157.8621,     -999,9,  25.7253,2
33HQ20150809  ,ARC01      ,58      ,  1,31         ,    6455,    -999,GSNIS-31   ,2,20151004,1630,  73.1859,-157.8317,     2569,     15.1,   0.1986,  27.2909,2,  28.0432,2,    383.2,2,    383.1,2,     2.55,2,     0.00,2,     0.00,2,     0.56,2,     -999,9,     -999,9,     -999,9,     -999,9,   1917.5,2,   2010.7,2,   7.6959,2,    25.00,     69.0,2,     -999,9,     -999,9,     -999,9,   0.1843,2,     -999,9,     -999,9,     -999,     2.58,2,     -999,1,     -999,9,     -999,     -999,9,20151004,1802,     14.9,  73.1761,-157.8614,     -999,9,  28.1755,2
33HQ20150809  ,ARC01      ,58      ,  1,30         ,    6455,    -999,GSNIS-30   ,2,20151004,1630,  73.1859,-157.8317,     2569,     30.3,   0.0356,  29.6599,2,  29.6730,2,    393.2,2,    393.9,2,     3.14,2,     0.00,2,     0.00,2,     0.64,2,    6.646,2,    3.644,2,    0.596,2,    3.191,2,   1990.7,2,   2103.4,2,   7.7246,2,    25.00,     68.3,2,     -999,1,     -999,1,     -999,1,   0.0400,2,     -999,9,     -999,9,     -999,     2.66,2,     -999,1,     -999,9,     -999,     -999,1,20151004,1800,     30.0,  73.1764,-157.8605,     -999,9,  29.8129,2
33HQ20150809  ,ARC01      ,58      ,  1,29         ,    6455,    -999,GSNIS-29   ,2,20151004,1630,  73.1859,-157.8317,     2569,     45.4,   0.1398,  30.4909,2,  30.6119,2,    380.5,2,    379.8,2,     4.02,2,     0.01,2,     0.00,2,     0.73,2,     -999,9,     -999,9,     -999,9,     -999,9,   2031.3,2,   2153.9,2,   7.9727,4,    25.00,     66.6,2,     -999,9,     -999,9,     -999,9,   0.1388,2,     -999,9,     -999,9,     -999,     2.51,2,     -999,1,     -999,9,     -999,     -999,1,20151004,1758,     44.9,  73.1766,-157.8598,     -999,9,  30.7562,2
33HQ20150809  ,ARC01      ,58      ,  1,28         ,    6455,    -999,GSNIS-28   ,2,20151004,1630,  73.1859,-157.8317,     2569,     60.6,   0.2290,  31.1975,2,  31.2315,2,    364.9,2,    364.9,2,     6.86,2,     1.03,2,     0.17,2,     0.84,2,    6.235,2,    3.365,2,    0.516,2,    2.697,2,   2058.3,2,   2183.4,2,   7.7259,2,    25.00,     67.3,2,     -999,1,     -999,1,     -999,1,   0.2387,2,     -999,9,     -999,9,     -999,     4.50,2,     -999,1,     -999,9,     -999,     -999,1,20151004,1756,     60.0,  73.1769,-157.8591,     -999,9,  31.3787,2
33HQ20150809  ,ARC01      ,58      ,  1,27         ,    6455,    -999,GSNIS-27   ,2,20151004,1630,  73.1859,-157.8317,     2569,     75.6,  -0.5856,  31.6773,2,  31.7653,2,    342.4,2,    342.0,2,    12.82,2,     5.69,2,     0.14,2,     1.16,2,     -999,9,     -999,9,     -999,9,     -999,9,   2106.6,2,   2200.9,2,   7.6421,2,    25.00,     63.1,2,     -999,9,     -999,9,     -999,9,  -0.5755,2,     -999,9,     -999,9,     -999,     7.31,2,     -999,1,     -999,9,     -999,     -999,1,20151004,1754,     74.8,  73.1771,-157.8584,     -999,9,  31.9150,2
33HQ20150809  ,ARC01      ,58      ,  1,26         ,    6455,    -999,GSNIS-26   ,2,20151004,1630,  73.1859,-157.8317,     2569,     91.0,  -1.1066,  32.0506,2,  32.0621,2,    320.0,2,    320.4,2,    17.52,2,     9.08,2,     0.03,2,     1.40,2,    6.324,2,    3.385,2,    0.469,2,    2.327,2,   2139.5,2,   2217.2,2,   7.8644,4,    25.00,     61.3,2,     -999,1,     -999,1,     -999,1,  -1.1041,2,     -999,9,     -999,9,     -999,    10.36,2,     -999,1,     -999,9,     -999,     -999,9,20151004,1752,     90.0,  73.1773,-157.8577,     -999,9,  32.2132,2
33HQ20150809  ,ARC01      ,58      ,  1,25         ,    6455,    -999,GSNIS-25   ,2,20151004,1630,  73.1859,-157.8317,     2569,    107.0,  -1.3119,  32.2866,2,  32.2911,2,    309.1,2,    309.1,2,    22.90,2,    11.01,2,     0.05,2,     1.55,2,     -999,9,     -999,9,     -999,9,     -999,9,   2165.8,2,   2225.3,2,   7.5265,2,    25.00,     60.7,2,     -999,9,     -999,9,     -999,9,  -1.3105,2,     -999,9,     -999,9,     -999,    12.65,2,     -999,1,     -999,9,     -999,     -999,1,20151004,1750,    105.9,  73.1775,-157.8570,     -999,9,  32.4433,2
33HQ20150809  ,ARC01      ,58      ,  1,24         ,    6455,    -999,GSNIS-24   ,2,20151004,1630,  73.1859,-157.8317,     2569,    122.1,  -1.3941,  32.4394,2,  32.4445,2,    302.6,2,    303.0,2,    25.05,2,    12.07,2,     0.03,2,     1.61,2,    6.214,2,    3.393,2,    0.456,2,    2.214,2,   2179.7,2,   2237.9,2,   7.5069,2,    25.00,     61.8,2,     -999,1,     -999,1,     -999,1,  -1.3929,2,     -999,9,     -999,9,     -999,    13.16,2,     -999,1,     -999,9,     -999,     -999,1,20151004,1749,    120.8,  73.1777,-157.8564,     -999,9,  32.5974,2
33HQ20150809  ,ARC01      ,58      ,  1,23         ,    6455,    -999,GSNIS-23   ,2,20151004,1630,  73.1859,-157.8317,     2569,    137.4,  -1.4626,  32.6081,2,  32.6223,2,    299.4,2,    298.9,2,    25.93,2,    12.56,2,     0.01,2,     1.64,2,     -999,9,     -999,9,     -999,9,     -999,9,   2196.0,2,   2250.4,2,   7.4915,2,    25.00,     62.5,2,     -999,9,     -999,9,     -999,9,  -1.4641,2,     -999,9,     -999,9,     -999,    11.97,2,     -999,1,     -999,9,     -999,     -999,1,20151004,1747,    135.9,  73.1779,-157.8559,     -999,9,  32.7761,2
33HQ20150809  ,ARC01      ,58      ,  1,22         ,    6455,    -999,GSNIS-22   ,2,20151004,1630,  73.1859,-157.8317,     2569,    157.4,  -1.4789,  32.8409,2,  32.8437,2,    291.5,2,    290.1,2,    28.27,2,    13.63,2,     0.00,2,     1.69,2,    6.087,2,    3.246,2,    0.433,2,    1.865,2,   2211.0,2,   2256.2,2,   7.4745,2,    25.00,     61.3,2,     -999,1,     -999,1,     -999,1,  -1.4786,2,     -999,9,     -999,9,     -999,    13.13,2,     -999,1,     -999,9,     -999,     -999,1,20151004,1746,    155.7,  73.1781,-157.8553,     -999,9,  32.9986,2
33HQ20150809  ,ARC01      ,58      ,  1,21         ,    6455,    -999,GSNIS-21   ,2,20151004,1630,  73.1859,-157.8317,     2569,    177.8,  -1.4755,  33.0890,2,  33.1112,2,    281.8,2,    282.0,2,    31.69,2,    14.90,2,     0.00,2,     1.75,2,     -999,9,     -999,9,     -999,9,     -999,9,   2222.7,2,   2265.6,2,   7.4596,2,    25.00,     60.3,2,     -999,9,     -999,9,     -999,9,  -1.4745,2,     -999,9,     -999,9,     -999,    13.10,2,     -999,1,     -999,9,     -999,     -999,9,20151004,1744,    175.9,  73.1783,-157.8548,     -999,9,  33.2673,2
33HQ20150809  ,ARC01      ,58      ,  1,20         ,    6455,    -999,GSNIS-20   ,2,20151004,1630,  73.1859,-157.8317,     2569,    198.1,  -1.2932,  33.5662,2,  33.5827,2,    279.6,2,    278.3,2,    28.25,2,    14.32,2,     0.00,2,     1.55,2,    5.686,2,    2.972,2,    0.383,2,    1.687,2,   2223.5,2,   2278.8,2,   7.4927,2,    25.00,     60.9,2,     -999,1,     -999,1,     -999,1,  -1.2918,2,     -999,9,     -999,9,     -999,    13.98,2,     -999,9,     -999,9,     -999,     -999,1,20151004,1742,    195.9,  73.1785,-157.8543,     -999,9,  33.7410,2
33HQ20150809  ,ARC01      ,58      ,  1,19         ,    6455,    -999,GSNIS-19   ,2,20151004,1630,  73.1859,-157.8317,     2569,    218.1,  -0.9265,  34.0324,2,  34.0516,2,    278.9,2,    277.7,2,    19.55,2,    12.90,2,     0.00,2,     1.21,2,     -999,9,     -999,9,     -999,9,     -999,9,   2203.1,2,   2280.3,2,   7.5567,2,    25.00,     59.6,2,     -999,9,     -999,9,     -999,9,  -0.9231,2,     -999,9,     -999,9,     -999,    12.45,2,     -999,1,     -999,9,     -999,     -999,9,20151004,1741,    215.8,  73.1787,-157.8538,     -999,9,  34.2122,2
33HQ20150809  ,ARC01      ,58      ,  1,18         ,    6455,    -999,GSNIS-18   ,2,20151004,1630,  73.1859,-157.8317,     2569,    238.3,  -0.6190,  34.2897,2,  34.3067,2,    282.2,2,    282.4,2,    14.76,2,    12.27,2,     0.00,2,     1.06,2,    5.585,6,    2.767,6,    0.361,6,    1.201,6,   2189.4,2,   2284.9,2,   7.6013,2,    25.00,     58.4,2,     -999,1,     -999,1,     -999,1,  -0.6188,2,     -999,9,     -999,9,     -999,    11.42,2,     -999,9,     -999,9,     -999,     -999,9,20151004,1739,    235.7,  73.1789,-157.8533,     -999,9,  34.4685,2
33HQ20150809  ,ARC01      ,58      ,  1,17         ,    6455,    -999,GSNIS-17   ,2,20151004,1630,  73.1859,-157.8317,     2569,    288.9,   0.2618,  34.6596,2,  34.6635,2,    280.5,2,    280.4,2,    10.94,2,    12.92,2,     0.00,2,     0.97,2,     -999,9,     -999,9,     -999,9,     -999,9,   2173.6,2,   2291.6,2,   7.6572,2,    25.00,     50.5,2,     -999,9,     -999,9,     -999,9,   0.2638,2,     -999,9,     -999,9,     -999,    12.02,2,     -999,1,     -999,9,     -999,     -999,1,20151004,1737,    285.7,  73.1792,-157.8527,     -999,9,  34.8269,2
33HQ20150809  ,ARC01      ,58      ,  1,16         ,    6455,    -999,GSNIS-16   ,2,20151004,1630,  73.1859,-157.8317,     2569,    339.6,   0.6486,  34.7826,2,  34.7843,2,    286.0,2,    286.8,2,     8.11,2,    12.73,2,     0.00,2,     0.89,2,    4.880,2,    2.329,2,    0.317,2,    0.792,2,   2162.4,2,   2295.1,2,   7.6902,2,    25.00,     49.7,2,     -999,1,     -999,1,     -999,1,   0.6486,2,     -999,9,     -999,9,     -999,    11.95,2,     -999,9,     -999,9,     -999,     -999,9,20151004,1735,    335.8,  73.1795,-157.8521,     -999,9,  34.9484,2
33HQ20150809  ,ARC01      ,58      ,  1,15         ,    6455,    -999,GSNIS-15   ,2,20151004,1630,  73.1859,-157.8317,     2569,    390.9,   0.7500,  34.8240,2,  34.8254,2,    290.4,2,    289.9,2,     7.52,2,    12.68,2,     0.00,2,     0.88,2,    4.757,2,    2.262,2,    0.299,2,    0.789,2,   2160.2,2,   2291.5,2,   7.6986,2,    25.00,     48.9,2,     -999,1,     -999,1,     -999,1,   0.7500,2,     -999,9,     -999,9,     -999,    12.92,2,     -999,1,     -999,9,     -999,     -999,1,20151004,1733,    386.5,  73.1798,-157.8514,     -999,9,  34.9896,2
33HQ20150809  ,ARC01      ,58      ,  1,14         ,    6455,    -999,GSNIS-14   ,2,20151004,1630,  73.1859,-157.8317,     2569,    441.5,   0.7240,  34.8384,2,  34.8357,2,    292.2,2,    292.7,2,     7.52,2,    12.62,2,     0.00,2,     0.87,2,    4.597,2,    2.204,2,    0.277,2,    0.747,2,   2159.1,2,   2292.1,2,   7.7022,2,    25.00,     49.5,2,     -999,1,     -999,1,     -999,1,   0.7244,2,     -999,9,     -999,9,     -999,    11.85,2,     -999,9,     -999,9,     -999,     -999,9,20151004,1730,    436.5,  73.1801,-157.8508,     -999,9,  34.9999,2
33HQ20150809  ,ARC01      ,58      ,  1,13         ,    6455,    -999,GSNIS-13   ,2,20151004,1630,  73.1859,-157.8317,     2569,    492.5,   0.6061,  34.8474,2,  34.8471,2,    292.9,2,    292.6,2,     7.72,2,    12.67,2,     0.00,2,     0.87,2,    4.432,2,    2.116,2,    0.261,2,    0.692,2,   2159.6,2,   2293.9,2,   7.7005,2,    25.00,     49.4,2,     -999,1,     -999,1,     -999,1,   0.6074,2,     -999,9,     -999,9,     -999,    13.82,2,     -999,1,     -999,9,     -999,     -999,9,20151004,1728,    486.8,  73.1804,-157.8500,     -999,9,  35.0114,2
33HQ20150809  ,ARC01      ,58      ,  1,12         ,    6455,    -999,GSNIS-12   ,2,20151004,1630,  73.1859,-157.8317,     2569,    594.1,   0.4585,  34.8563,2,  34.8840,4,    295.1,2,    295.3,2,     7.52,2,    12.61,2,     0.00,2,     0.86,2,    4.164,2,    1.992,2,    0.236,2,    0.645,2,   2157.8,2,   2292.9,2,   7.7024,2,    25.00,     49.6,2,     -999,1,     -999,1,     -999,1,   0.4594,2,     -999,9,     -999,9,     -999,    12.79,2,     -999,1,     -999,9,     -999,     -999,9,20151004,1724,    587.1,  73.1808,-157.8491,     -999,9,  35.0485,4
33HQ20150809  ,ARC01      ,58      ,  1,11         ,    6455,    -999,GSNIS-11   ,2,20151004,1630,  73.1859,-157.8317,     2569,    746.8,   0.2070,  34.8664,2,  34.8669,2,    299.3,2,    299.0,2,     6.93,2,    12.51,2,     0.00,2,     0.85,2,    3.579,2,    1.725,2,    0.190,2,    0.540,2,   2155.5,2,   2293.8,2,   7.7095,2,    25.00,     47.1,2,     -999,1,     -999,1,     -999,1,   0.2070,2,     -999,9,     -999,9,     -999,    13.13,2,     -999,1,     -999,9,     -999,     -999,1,20151004,1720,    737.8,  73.1813,-157.8478,     -999,9,  35.0313,2
33HQ20150809  ,ARC01      ,58      ,  1,10         ,    6455,    -999,GSNIS-10   ,2,20151004,1630,  73.1859,-157.8317,     2569,    899.5,   0.0235,  34.8746,2,  34.8714,2,    300.1,2,    300.5,2,     7.03,2,    12.54,2,     0.00,2,     0.86,2,    3.297,2,    1.599,2,    0.179,2,    0.516,2,     -999,9,     -999,9,     -999,9,     -999,     47.5,2,     -999,1,     -999,1,     -999,1,   0.0240,2,     -999,9,     -999,9,     -999,    13.56,2,     -999,1,     -999,9,     -999,     -999,9,20151004,1716,    888.3,  73.1817,-157.8464,     -999,9,  35.0359,2
33HQ20150809  ,ARC01      ,58      ,  1,9          ,    6455,    -999,GSNIS-9    ,2,20151004,1630,  73.1859,-157.8317,     2569,   1049.7,  -0.1058,  34.8840,2,  34.8834,2,    300.1,2,    301.1,2,     7.23,2,    12.62,2,     0.00,2,     0.87,2,    3.021,2,    1.415,2,    0.162,2,    0.498,2,   2157.0,2,   2298.8,2,   7.7071,2,    25.00,     47.8,2,     -999,1,     -999,1,     -999,1,  -0.1059,2,     -999,9,     -999,9,     -999,    13.55,2,     -999,1,     -999,9,     -999,     -999,9,20151004,1711,   1036.3,  73.1822,-157.8445,     -999,9,  35.0479,2
33HQ20150809  ,ARC01      ,58      ,  1,8          ,    6455,    -999,GSNIS-8    ,2,20151004,1630,  73.1859,-157.8317,     2569,   1217.7,  -0.2131,  34.8937,2,  34.8942,2,    301.4,2,    300.8,2,     7.72,2,    12.78,2,     0.00,2,     0.89,2,    2.762,2,    1.334,2,    0.159,2,    0.449,2,     -999,9,     -999,9,     -999,9,     -999,     47.1,2,     -999,1,     -999,1,     -999,1,  -0.2130,2,     -999,9,     -999,9,     -999,    14.41,2,     -999,1,     -999,9,     -999,     -999,1,20151004,1707,   1201.6,  73.1827,-157.8428,     -999,9,  35.0588,2
33HQ20150809  ,ARC01      ,58      ,  1,7          ,    6455,    -999,GSNIS-7    ,2,20151004,1630,  73.1859,-157.8317,     2569,   1416.9,  -0.3097,  34.9080,2,  34.9088,2,    300.4,2,    299.8,2,     8.40,2,    13.15,2,     0.00,2,     0.91,2,    1.745,2,    0.843,2,    0.090,2,    0.351,2,   2154.2,2,   2299.6,2,   7.7181,2,    25.00,     46.2,2,     -999,1,     -999,1,     -999,1,  -0.3093,2,     -999,9,     -999,9,     -999,    13.75,2,     -999,1,     -999,9,     -999,     -999,9,20151004,1702,   1397.6,  73.1832,-157.8409,     -999,9,  35.0734,2
33HQ20150809  ,ARC01      ,58      ,  1,6          ,    6455,    -999,GSNIS-6    ,2,20151004,1630,  73.1859,-157.8317,     2569,   1621.7,  -0.3748,  34.9226,2,  34.9226,2,    297.0,2,    297.2,2,     9.57,2,    13.59,2,     0.00,2,     0.93,2,    0.947,2,    0.448,2,    0.047,2,    0.153,2,     -999,9,     -999,9,     -999,9,     -999,     44.8,2,     -999,1,     -999,1,     -999,1,  -0.3748,2,     -999,9,     -999,9,     -999,    14.44,2,     -999,1,     -999,9,     -999,     -999,9,20151004,1656,   1598.8,  73.1837,-157.8391,     -999,9,  35.0872,2
33HQ20150809  ,ARC01      ,58      ,  1,5          ,    6455,    -999,GSNIS-5    ,2,20151004,1630,  73.1859,-157.8317,     2569,   1826.7,  -0.4036,  34.9342,2,  34.9336,2,    293.7,2,    293.7,2,    10.74,2,    13.95,2,     0.00,2,     0.96,2,    0.535,2,    0.245,2,    0.025,2,    0.046,2,   2150.6,2,   2301.6,2,   7.7303,2,    25.00,     43.9,2,     -999,1,     -999,1,     -999,1,  -0.4037,2,     -999,9,     -999,9,     -999,    14.21,2,     -999,1,     -999,9,     -999,     -999,1,20151004,1651,   1800.0,  73.1842,-157.8375,     -999,9,  35.0983,2
33HQ20150809  ,ARC01      ,58      ,  1,4          ,    6455,    -999,GSNIS-4    ,2,20151004,1630,  73.1859,-157.8317,     2569,   2031.9,  -0.4036,  34.9418,2,  34.9428,2,    290.6,2,    291.0,2,    11.52,2,    14.17,2,     0.00,2,     0.99,2,    0.299,2,    0.131,2,    0.014,2,    0.006,2,     -999,9,     -999,9,     -999,9,     -999,     43.9,2,     -999,1,     -999,1,     -999,1,  -0.4037,2,     -999,9,     -999,9,     -999,    14.58,2,     -999,1,     -999,9,     -999,     -999,9,20151004,1646,   2001.2,  73.1846,-157.8360,     -999,9,  35.1076,2
33HQ20150809  ,ARC01      ,58      ,  1,3          ,    6455,    -999,GSNIS-3    ,2,20151004,1630,  73.1859,-157.8317,     2569,   2237.2,  -0.3927,  34.9467,2,  34.9475,2,    288.5,2,    288.4,2,    12.21,2,    14.30,2,     0.00,2,     1.00,2,    0.165,2,    0.072,2,    0.007,2,    0.000,2,   2150.7,2,   2302.8,2,   7.7324,2,    25.00,     44.6,2,     -999,1,     -999,1,     -999,1,  -0.3926,2,     -999,9,     -999,9,     -999,    15.45,2,     -999,1,     -999,9,     -999,     -999,9,20151004,1642,   2202.4,  73.1849,-157.8346,     -999,9,  35.1123,2
33HQ20150809  ,ARC01      ,58      ,  1,2          ,    6455,    -999,GSNIS-2    ,2,20151004,1630,  73.1859,-157.8317,     2569,   2439.9,  -0.3785,  34.9501,2,  34.9511,2,    287.5,2,    287.5,2,    12.70,2,    14.40,2,     0.00,2,     1.01,2,    0.090,2,    0.037,2,    0.003,2,    0.000,2,     -999,9,     -999,9,     -999,9,     -999,     43.7,2,     -999,1,     -999,1,     -999,1,  -0.3780,2,     -999,9,     -999,9,     -999,    15.62,2,     -999,1,     -999,9,     -999,     -999,9,20151004,1636,   2400.8,  73.1853,-157.8331,     -999,9,  35.1159,2
33HQ20150809  ,ARC01      ,58      ,  1,1          ,    6455,    -999,GSNIS-1    ,2,20151004,1630,  73.1859,-157.8317,     2569,   2597.7,  -0.3645,  34.9531,2,  34.9501,2,    286.2,2,    285.9,2,    13.38,2,    14.50,2,     0.00,2,     1.01,2,    0.045,2,    0.019,2,    0.002,2,    0.000,2,   2151.4,2,   2302.4,2,   7.7319,2,    25.00,     40.9,2,     -999,1,     -999,1,     -999,1,  -0.3647,2,     -999,9,     -999,9,     -999,    16.89,2,     -999,1,     -999,9,     -999,     -999,1,20151004,1631,   2555.2,  73.1858,-157.8319,     -999,9,  35.1149,2