BOTTLE,20221220CCHSIOAMB
EXPOCODE,SECT_ID,STNNBR,CASTNO,SAMPNO,GEOTR_EVENT,GEOTR_SAMPNO,BTLNBR,BTLNBR_FLAG_W,DATE,TIME,LATITUDE,LONGITUDE,DEPTH,CTDPRS,CTDTMP,CTDSAL,CTDSAL_FLAG_W,SALNTY,SALNTY_FLAG_W,CTDOXY,CTDOXY_FLAG_W,OXYGEN,OXYGEN_FLAG_W,SILCAT,SILCAT_FLAG_W,NITRAT,NITRAT_FLAG_W,NITRIT,NITRIT_FLAG_W,PHSPHT,PHSPHT_FLAG_W,CFC-11,CFC-11_FLAG_W,CFC-12,CFC-12_FLAG_W,CFC113,CFC113_FLAG_W,SF6,SF6_FLAG_W,TCARBN,TCARBN_FLAG_W,ALKALI,ALKALI_FLAG_W,PH_SWS,PH_SWS_FLAG_W,PH_TMP,DOC,DOC_FLAG_W,TRITUM,TRITUM_FLAG_W,HELIUM,HELIUM_FLAG_W,DELHE3,DELHE3_FLAG_W,REFTMP,REFTMP_FLAG_W,DELC13,DELC13_FLAG_W,DELC14,DELC14_FLAG_W,C14ERR,TDN,TDN_FLAG_W,DELO18,DELO18_FLAG_W,DELO17,DELO17_FLAG_W,CH4,CH4,CH4_FLAG_W,BTL_DATE,BTL_TIME,CTDDEPTH,BTL_LAT,BTL_LON,LAB_DEN,LAB_DEN_FLAG_W,SALTREF,SALTREF_FLAG_W
,,,,,,,,,,,,,METERS,DBAR,ITS-90,PSS-78,,PSS-78,,UMOL/KG,,UMOL/KG,,UMOL/KG,,UMOL/KG,,UMOL/KG,,UMOL/KG,,PMOL/KG,,PMOL/KG,,PMOL/KG,,FMOL/KG,,UMOL/KG,,UMOL/KG,,,,DEG C,UMOL/KG,,TU,,NMOL/KG,,PERCNT,,ITS-90,,/MILLE,,/MILLE,,/MILLE,UMOL/KG,,/MILLE,,/MILLE,,NMOL/KG,NMOL/L,,,,METERS,,,KG/M^3,,G/KG,
33HQ20150809  ,ARC01      ,44      ,  1,31         ,    6322,    -999,GSNIS-31   ,2,20150917,2214,  84.1730,-150.0233,     2002,      1.8,  -1.4610,  28.1929,2,  28.2188,2,    396.4,2,    398.2,2,     6.08,2,     0.00,2,     0.00,2,     0.67,2,    7.022,2,    3.818,2,    0.639,2,    3.704,2,   1926.6,2,   2018.6,6,   7.6744,2,    25.00,     95.6,2,     -999,9,     -999,9,     -999,9,  -1.4759,2,     1.10,6,     -999,1,     -999,     3.69,2,     -999,1,     -999,9,     -999,     -999,9,20150917,2319,      1.8,  84.1717,-150.0271,     -999,9,  28.3518,2
33HQ20150809  ,ARC01      ,44      ,  1,30         ,    6322,    -999,GSNIS-30   ,2,20150917,2214,  84.1730,-150.0233,     2002,     16.5,  -1.5343,  28.2001,2,  28.2112,2,    397.9,2,    398.1,2,     5.99,2,     0.01,2,     0.00,2,     0.67,2,     -999,9,     -999,9,     -999,9,     -999,9,   1926.8,6,   2016.4,2,   7.6770,2,    25.00,     97.7,2,     -999,9,     -999,9,     -999,9,  -1.5340,2,     -999,9,     -999,9,     -999,     4.98,2,     -999,1,     -999,9,     -999,     -999,9,20150917,2317,     16.4,  84.1717,-150.0272,     -999,9,  28.3442,2
33HQ20150809  ,ARC01      ,44      ,  1,29         ,    6322,    -999,GSNIS-29   ,2,20150917,2214,  84.1730,-150.0233,     2002,     26.8,  -1.4990,  28.5338,2,  28.6290,2,    396.7,2,    398.3,2,     5.98,2,     0.07,2,     0.02,2,     0.69,2,    7.067,2,    3.730,2,    0.636,2,    3.673,2,   1960.2,2,   2051.5,2,   7.6714,2,    25.00,     97.8,2,     -999,9,     -999,9,     -999,9,  -1.4909,2,     -999,9,     -999,9,     -999,     4.08,2,     -999,1,     -999,9,     -999,     -999,9,20150917,2316,     26.5,  84.1718,-150.0272,     -999,9,  28.7640,2
33HQ20150809  ,ARC01      ,44      ,  1,28         ,    6322,    -999,GSNIS-28   ,2,20150917,2214,  84.1730,-150.0233,     2002,     47.4,  -1.4906,  29.3811,2,  29.6156,2,    396.5,2,    388.5,2,     5.10,2,     0.62,2,     0.00,2,     0.74,2,     -999,9,     -999,9,     -999,9,     -999,9,   2005.2,2,   2103.4,2,   7.6735,2,    25.00,     79.8,2,     -999,9,     -999,9,     -999,9,  -1.4785,2,     -999,9,     -999,9,     -999,     3.72,2,     -999,1,     -999,9,     -999,     -999,9,20150917,2314,     46.9,  84.1718,-150.0272,     -999,9,  29.7553,2
33HQ20150809  ,ARC01      ,44      ,  1,27         ,    6322,    -999,GSNIS-27   ,2,20150917,2214,  84.1730,-150.0233,     2002,     62.4,  -1.3440,  30.7737,2,  31.0223,2,    351.5,2,    351.6,2,    10.58,2,     3.34,2,     0.00,2,     0.94,2,    6.604,2,    3.549,2,    0.527,2,    3.110,2,   2080.5,2,   2166.4,2,   7.6211,6,    25.00,     76.1,2,     -999,9,     -999,9,     -999,9,  -1.3402,2,     -999,9,     -999,9,     -999,     7.55,2,     -999,1,     -999,9,     -999,     -999,9,20150917,2313,     61.7,  84.1718,-150.0271,     -999,9,  31.1686,2
33HQ20150809  ,ARC01      ,44      ,  1,26         ,    6322,    -999,GSNIS-26   ,2,20150917,2214,  84.1730,-150.0233,     2002,     73.0,  -1.1927,  31.6362,2,  31.8155,2,    315.2,2,    315.9,2,    18.50,2,     7.26,2,     0.00,2,     1.23,2,     -999,9,     -999,9,     -999,9,     -999,9,   2130.6,2,   2199.4,6,   7.5550,2,    25.00,     67.5,2,     -999,9,     -999,9,     -999,9,  -1.1934,2,     -999,9,     -999,9,     -999,    10.44,2,     -999,1,     -999,9,     -999,     -999,9,20150917,2312,     72.2,  84.1718,-150.0271,     -999,9,  31.9655,2
33HQ20150809  ,ARC01      ,44      ,  1,25         ,    6322,    -999,GSNIS-25   ,2,20150917,2214,  84.1730,-150.0233,     2002,     83.0,  -1.2569,  32.0686,2,  32.1651,2,    293.7,2,    292.0,2,    25.93,2,     9.72,2,     0.00,2,     1.44,2,    6.261,2,    3.483,2,    0.454,2,    2.944,2,   2166.2,6,   2215.5,2,   7.4807,2,    25.00,     65.9,2,     -999,9,     -999,9,     -999,9,  -1.2565,2,     -999,9,     -999,9,     -999,    11.64,2,     -999,1,     -999,9,     -999,     -999,9,20150917,2311,     82.1,  84.1719,-150.0271,     -999,9,  32.3168,2
33HQ20150809  ,ARC01      ,44      ,  1,24         ,    6322,    -999,GSNIS-24   ,2,20150917,2214,  84.1730,-150.0233,     2002,     93.6,  -1.2614,  32.4113,2,  32.5610,2,    262.5,2,    261.9,2,    35.02,2,    12.62,2,     0.00,2,     1.68,2,     -999,9,     -999,9,     -999,9,     -999,9,   2209.3,2,   2234.3,2,   7.3987,2,    25.00,     67.4,2,     -999,9,     -999,9,     -999,9,  -1.2675,2,     -999,9,     -999,9,     -999,    15.55,2,     -999,1,     -999,9,     -999,     -999,9,20150917,2310,     92.6,  84.1719,-150.0271,     -999,9,  32.7146,2
33HQ20150809  ,ARC01      ,44      ,  1,23         ,    6322,    -999,GSNIS-23   ,2,20150917,2214,  84.1730,-150.0233,     2002,    103.3,  -1.4064,  32.9479,2,  32.9452,2,    252.0,2,    254.9,2,    38.23,2,    14.53,2,     0.00,2,     1.78,2,    6.118,2,    3.384,2,    0.437,2,    2.675,2,   2230.6,2,   2250.2,2,   7.3773,2,    25.00,     65.6,2,     -999,9,     -999,9,     -999,9,  -1.4083,2,     -999,9,     -999,9,     -999,    16.92,2,     -999,1,     -999,9,     -999,     -999,9,20150917,2309,    102.1,  84.1719,-150.0271,     -999,9,  33.1006,2
33HQ20150809  ,ARC01      ,44      ,  1,22         ,    6322,    -999,GSNIS-22   ,2,20150917,2214,  84.1730,-150.0233,     2002,    118.9,  -1.3463,  33.3663,2,  33.5802,2,    251.0,2,    269.4,2,    24.24,2,    11.81,2,     0.00,2,     1.27,2,     -999,9,     -999,9,     -999,9,     -999,9,   2211.2,2,   2264.8,2,   7.4839,2,    25.00,     67.4,2,     -999,9,     -999,9,     -999,9,  -1.3432,2,     -999,9,     -999,9,     -999,    12.94,2,     -999,1,     -999,9,     -999,     -999,9,20150917,2307,    117.6,  84.1719,-150.0270,     -999,9,  33.7385,2
33HQ20150809  ,ARC01      ,44      ,  1,21         ,    6322,    -999,GSNIS-21   ,2,20150917,2214,  84.1730,-150.0233,     2002,    134.1,  -1.1731,  33.9495,2,  33.9640,2,    279.5,2,    276.4,2,    17.30,2,    10.82,2,     0.00,2,     1.05,2,    6.105,2,    3.176,2,    0.411,2,    1.999,2,   2198.1,2,   2272.9,2,   7.5444,2,    25.00,     62.6,2,     -999,9,     -999,9,     -999,9,  -1.1697,2,     -999,9,     -999,9,     -999,    13.50,2,     -999,1,     -999,9,     -999,     -999,9,20150917,2306,    132.6,  84.1720,-150.0270,     -999,9,  34.1242,2
33HQ20150809  ,ARC01      ,44      ,  1,20         ,    6322,    -999,GSNIS-20   ,2,20150917,2214,  84.1730,-150.0233,     2002,    154.4,  -0.8092,  34.2385,2,  34.2349,2,    284.4,2,    287.1,2,    10.75,2,     9.98,2,     0.00,2,     0.84,2,     -999,9,     -999,9,     -999,9,     -999,9,   2182.6,2,   2277.1,2,   7.6041,2,    25.00,     61.4,2,     -999,9,     -999,9,     -999,9,  -0.8040,2,     -999,9,     -999,9,     -999,    11.37,2,     -999,1,     -999,9,     -999,     -999,9,20150917,2305,    152.7,  84.1720,-150.0269,     -999,9,  34.3964,2
33HQ20150809  ,ARC01      ,44      ,  1,19         ,    6322,    -999,GSNIS-19   ,2,20150917,2214,  84.1730,-150.0233,     2002,    175.0,  -0.5603,  34.3562,2,  34.3763,2,    296.6,2,    295.0,2,     7.62,2,     9.84,2,     0.00,2,     0.77,2,    6.196,2,    3.127,2,    0.412,2,    1.727,2,   2259.8,4,   2277.4,2,   7.6362,2,    25.00,     59.1,2,     -999,9,     -999,9,     -999,9,  -0.5652,2,     -999,9,     -999,9,     -999,    11.25,2,     -999,1,     -999,9,     -999,     -999,9,20150917,2303,    173.0,  84.1720,-150.0269,     -999,9,  34.5384,2
33HQ20150809  ,ARC01      ,44      ,  1,18         ,    6322,    -999,GSNIS-18   ,2,20150917,2214,  84.1730,-150.0233,     2002,    195.3,  -0.2961,  34.4498,2,  34.4608,2,    294.4,2,    294.4,2,     7.23,2,    10.12,2,     0.00,2,     0.76,2,     -999,9,     -999,9,     -999,9,     -999,9,   2172.8,2,   2280.4,2,   7.6447,2,    25.00,     59.4,2,     -999,9,     -999,9,     -999,9,  -0.2956,2,     -999,9,     -999,9,     -999,    12.02,2,     -999,9,     -999,9,     -999,     -999,9,20150917,2302,    193.1,  84.1720,-150.0269,     -999,9,  34.6233,2
33HQ20150809  ,ARC01      ,44      ,  1,17         ,    6322,    -999,GSNIS-17   ,2,20150917,2214,  84.1730,-150.0233,     2002,    215.7,   0.0102,  34.5595,2,  34.5720,2,    289.6,2,    294.3,2,     6.93,2,    10.63,2,     0.00,2,     0.77,2,    5.711,2,    2.882,2,    0.392,2,    1.532,2,   2170.4,2,   2282.5,2,   7.6633,2,    25.00,     55.6,2,     -999,9,     -999,9,     -999,9,   0.0101,2,     -999,9,     -999,9,     -999,    11.96,2,     -999,1,     -999,9,     -999,     -999,9,20150917,2301,    213.3,  84.1721,-150.0269,     -999,9,  34.7350,2
33HQ20150809  ,ARC01      ,44      ,  1,16         ,    6322,    -999,GSNIS-16   ,2,20150917,2214,  84.1730,-150.0233,     2002,    236.3,   0.2822,  34.6405,2,  34.6487,2,    289.3,2,    292.0,2,     7.13,2,    11.22,2,     0.00,2,     0.79,2,     -999,9,     -999,9,     -999,9,     -999,9,   2170.9,2,   2288.9,2,   7.6752,2,    25.00,     56.2,2,     -999,9,     -999,9,     -999,9,   0.2820,2,     -999,9,     -999,9,     -999,    12.37,2,     -999,9,     -999,9,     -999,     -999,9,20150917,2300,    233.6,  84.1721,-150.0268,     -999,9,  34.8121,2
33HQ20150809  ,ARC01      ,44      ,  1,15         ,    6322,    -999,GSNIS-15   ,2,20150917,2214,  84.1730,-150.0233,     2002,    287.1,   0.6606,  34.7833,2,  34.7862,2,    292.7,2,    300.7,4,     6.54,2,    11.82,2,     0.00,2,     0.81,2,    5.078,2,    2.502,2,    0.340,2,    1.293,2,   2163.6,2,   2291.3,2,   7.6981,2,    25.00,     53.8,2,     -999,9,     -999,9,     -999,9,   0.6663,2,     -999,9,     -999,9,     -999,    13.14,2,     -999,1,     -999,9,     -999,     -999,9,20150917,2258,    283.9,  84.1721,-150.0267,     -999,9,  34.9502,2
33HQ20150809  ,ARC01      ,44      ,  1,14         ,    6322,    -999,GSNIS-14   ,2,20150917,2214,  84.1730,-150.0233,     2002,    338.2,   0.7433,  34.8087,2,  34.8256,2,    293.1,2,    295.3,2,     6.35,2,    11.95,2,     0.00,2,     0.81,2,     -999,9,     -999,9,     -999,9,     -999,9,   2159.9,2,   2292.4,2,   7.7028,2,    25.00,     54.5,2,     -999,9,     -999,9,     -999,9,   0.7445,2,     -999,9,     -999,9,     -999,    13.98,2,     -999,9,     -999,9,     -999,     -999,9,20150917,2255,    334.3,  84.1722,-150.0266,     -999,9,  34.9898,2
33HQ20150809  ,ARC01      ,44      ,  1,13         ,    6322,    -999,GSNIS-13   ,2,20150917,2214,  84.1730,-150.0233,     2002,    389.0,   0.7947,  34.8374,2,  34.8399,2,    296.6,2,    294.6,2,     6.64,2,    12.14,2,     0.00,2,     0.82,2,    4.793,2,    2.332,2,    0.319,2,    1.040,2,   2158.9,2,   2293.2,2,   7.7071,2,    25.00,     53.4,2,     -999,9,     -999,9,     -999,9,   0.7943,2,     -999,9,     -999,9,     -999,    14.17,2,     -999,1,     -999,9,     -999,     -999,9,20150917,2254,    384.4,  84.1722,-150.0265,     -999,9,  35.0042,2
33HQ20150809  ,ARC01      ,44      ,  1,12         ,    6322,    -999,GSNIS-12   ,2,20150917,2214,  84.1730,-150.0233,     2002,    440.0,   0.7553,  34.8535,2,  34.8589,2,    299.8,2,    298.9,2,     6.35,2,    12.08,2,     0.00,2,     0.81,2,    4.915,2,    2.417,2,    0.341,2,    1.112,2,   2161.1,2,   2286.2,2,   7.7066,2,    25.00,     54.4,2,     -999,9,     -999,9,     -999,9,   0.7554,2,     -999,9,     -999,9,     -999,    14.45,2,     -999,9,     -999,9,     -999,     -999,9,20150917,2252,    434.8,  84.1723,-150.0264,     -999,9,  35.0232,2
33HQ20150809  ,ARC01      ,44      ,  1,11         ,    6322,    -999,GSNIS-11   ,2,20150917,2214,  84.1730,-150.0233,     2002,    490.8,   0.6182,  34.8528,2,  34.8538,2,    293.8,2,    295.6,2,     6.64,2,    12.30,2,     0.00,2,     0.83,2,    4.194,2,    2.019,2,    0.241,2,    0.851,2,   2159.5,2,   2296.6,2,   7.7108,2,    25.00,     52.2,2,     -999,9,     -999,9,     -999,9,   0.6175,2,     -999,9,     -999,9,     -999,    14.05,2,     -999,1,     -999,9,     -999,     -999,9,20150917,2250,    484.9,  84.1723,-150.0264,     -999,9,  35.0182,2
33HQ20150809  ,ARC01      ,44      ,  1,10         ,    6322,    -999,GSNIS-10   ,2,20150917,2214,  84.1730,-150.0233,     2002,    541.8,   0.5389,  34.8595,2,  34.8604,2,    294.8,2,    297.6,2,     6.54,2,    12.24,2,     0.00,2,     0.83,2,    4.221,2,    2.045,2,    0.263,2,    0.943,2,   2158.5,2,   2292.2,2,   7.7078,2,    25.00,     51.6,2,     -999,9,     -999,9,     -999,9,   0.5388,2,     -999,9,     -999,9,     -999,    14.14,2,     -999,9,     -999,9,     -999,     -999,9,20150917,2248,    535.3,  84.1723,-150.0263,     -999,9,  35.0248,2
33HQ20150809  ,ARC01      ,44      ,  1,9          ,    6322,    -999,GSNIS-9    ,2,20150917,2214,  84.1730,-150.0233,     2002,    608.1,   0.4404,  34.8643,2,  34.8699,2,    296.5,2,    297.3,2,     6.74,2,    12.35,2,     0.00,2,     0.85,2,    3.668,2,    1.781,2,    0.214,2,    0.742,2,   2156.1,2,   2297.8,2,   7.7114,2,    25.00,     51.5,2,     -999,9,     -999,9,     -999,9,   0.4406,2,     -999,9,     -999,9,     -999,    13.85,2,     -999,9,     -999,9,     -999,     -999,9,20150917,2247,    600.7,  84.1724,-150.0262,     -999,9,  35.0343,2
33HQ20150809  ,ARC01      ,44      ,  1,8          ,    6322,    -999,GSNIS-8    ,2,20150917,2214,  84.1730,-150.0233,     2002,    710.0,   0.2782,  34.8712,2,  34.8721,2,    299.3,2,    296.4,2,     7.13,2,    12.54,2,     0.00,2,     0.86,2,    2.561,2,    1.259,2,    0.127,2,    0.559,2,   2152.0,2,   2297.3,2,   7.7190,2,    25.00,     52.0,2,     -999,9,     -999,9,     -999,9,   0.2780,2,     -999,9,     -999,9,     -999,    13.42,2,     -999,9,     -999,9,     -999,     -999,9,20150917,2244,    701.3,  84.1724,-150.0260,     -999,9,  35.0366,2
33HQ20150809  ,ARC01      ,44      ,  1,7          ,    6322,    -999,GSNIS-7    ,2,20150917,2214,  84.1730,-150.0233,     2002,    862.8,   0.0812,  34.8792,2,  34.8805,2,    297.7,2,    298.2,2,     7.32,2,    12.56,2,     0.00,2,     0.86,2,    2.103,2,    1.013,2,    0.102,2,    0.254,2,   2147.3,2,   2297.8,2,   7.7220,2,    25.00,     51.4,2,     -999,9,     -999,9,     -999,9,   0.0812,2,     -999,9,     -999,9,     -999,    14.34,2,     -999,9,     -999,9,     -999,     -999,9,20150917,2240,    851.8,  84.1725,-150.0258,     -999,9,  35.0450,2
33HQ20150809  ,ARC01      ,44      ,  1,6          ,    6322,    -999,GSNIS-6    ,2,20150917,2214,  84.1730,-150.0233,     2002,   1015.7,  -0.0667,  34.8898,2,  34.8923,2,    299.0,2,    299.5,2,     7.52,2,    12.62,2,     0.00,2,     0.87,2,    1.866,2,    0.909,2,    0.093,2,    0.405,2,   2149.6,2,   2297.5,2,   7.7229,2,    25.00,     49.9,2,     -999,9,     -999,9,     -999,9,  -0.0665,2,     -999,9,     -999,9,     -999,    14.53,2,     -999,9,     -999,9,     -999,     -999,9,20150917,2237,   1002.4,  84.1726,-150.0256,     -999,9,  35.0569,2
33HQ20150809  ,ARC01      ,44      ,  1,5          ,    6322,    -999,GSNIS-5    ,2,20150917,2214,  84.1730,-150.0233,     2002,   1219.8,  -0.2180,  34.9026,2,  34.9036,2,    299.5,2,    299.4,2,     8.01,2,    12.84,2,     0.00,2,     0.91,2,    1.384,6,    0.670,6,    0.062,6,    0.226,6,   2149.7,2,   2298.3,2,   7.7240,6,    25.00,     49.5,2,     -999,9,     -999,9,     -999,9,  -0.2178,2,     -999,9,     -999,9,     -999,    13.89,2,     -999,9,     -999,9,     -999,     -999,9,20150917,2233,   1203.2,  84.1727,-150.0252,     -999,9,  35.0682,2
33HQ20150809  ,ARC01      ,44      ,  1,4          ,    6322,    -999,GSNIS-4    ,2,20150917,2214,  84.1730,-150.0233,     2002,   1424.2,  -0.2958,  34.9186,2,  34.9192,2,    296.5,2,    297.0,2,     9.18,2,    13.28,2,     0.00,2,     0.93,2,    0.496,2,    0.233,2,    0.012,2,    0.041,2,   2145.9,2,   2297.9,2,   7.7335,2,    25.00,     49.3,2,     -999,9,     -999,9,     -999,9,  -0.2958,2,     -999,9,     -999,9,     -999,    14.63,2,     -999,9,     -999,9,     -999,     -999,9,20150917,2228,   1404.2,  84.1727,-150.0248,     -999,9,  35.0839,2
33HQ20150809  ,ARC01      ,44      ,  1,3          ,    6322,    -999,GSNIS-3    ,2,20150917,2214,  84.1730,-150.0233,     2002,   1628.7,  -0.3626,  34.9308,2,  34.9309,2,    292.1,2,    293.6,2,    10.55,2,    13.67,2,     0.00,2,     0.96,2,    0.313,2,    0.146,2,    0.005,2,    0.014,2,   2148.3,6,   2298.9,2,   7.7339,2,    25.00,     48.5,2,     -999,9,     -999,9,     -999,9,  -0.3627,2,     -999,9,     -999,9,     -999,    13.85,2,     -999,9,     -999,9,     -999,     -999,9,20150917,2224,   1605.0,  84.1728,-150.0244,     -999,9,  35.0956,2
33HQ20150809  ,ARC01      ,44      ,  1,2          ,    6322,    -999,GSNIS-2    ,2,20150917,2214,  84.1730,-150.0233,     2002,   1859.1,  -0.3890,  34.9414,2,  34.9416,2,    286.8,2,    289.6,2,    12.11,2,    14.06,2,     0.00,2,     0.99,2,    0.200,2,    0.090,2,    0.002,2,    0.000,2,   2151.3,2,   2300.8,6,   7.7339,2,    25.00,     48.8,2,     -999,9,     -999,9,     -999,9,  -0.3891,2,     -999,9,     -999,9,     -999,    15.05,2,     -999,9,     -999,9,     -999,     -999,9,20150917,2219,   1831.1,  84.1729,-150.0239,     -999,9,  35.1064,2
33HQ20150809  ,ARC01      ,44      ,  1,1          ,    6322,    -999,GSNIS-1    ,2,20150917,2214,  84.1730,-150.0233,     2002,   2002.3,  -0.3897,  34.9456,2,  34.9460,2,    286.8,2,    287.0,2,    12.69,2,    14.18,2,     0.00,2,     1.00,2,    0.154,2,    0.067,2,    0.001,2,    0.000,2,   2149.7,2,   2297.9,2,   7.7321,2,    25.00,     47.6,2,     -999,9,     -999,9,     -999,9,  -0.3900,2,     -999,9,     -999,9,     -999,    16.16,2,     -999,9,     -999,9,     -999,     -999,9,20150917,2215,   1971.5,  84.1730,-150.0235,     -999,9,  35.1108,2