BOTTLE,20221220CCHSIOAMB
EXPOCODE,SECT_ID,STNNBR,CASTNO,SAMPNO,GEOTR_EVENT,GEOTR_SAMPNO,BTLNBR,BTLNBR_FLAG_W,DATE,TIME,LATITUDE,LONGITUDE,DEPTH,CTDPRS,CTDTMP,CTDSAL,CTDSAL_FLAG_W,SALNTY,SALNTY_FLAG_W,CTDOXY,CTDOXY_FLAG_W,OXYGEN,OXYGEN_FLAG_W,SILCAT,SILCAT_FLAG_W,NITRAT,NITRAT_FLAG_W,NITRIT,NITRIT_FLAG_W,PHSPHT,PHSPHT_FLAG_W,CFC-11,CFC-11_FLAG_W,CFC-12,CFC-12_FLAG_W,CFC113,CFC113_FLAG_W,SF6,SF6_FLAG_W,TCARBN,TCARBN_FLAG_W,ALKALI,ALKALI_FLAG_W,PH_SWS,PH_SWS_FLAG_W,PH_TMP,DOC,DOC_FLAG_W,TRITUM,TRITUM_FLAG_W,HELIUM,HELIUM_FLAG_W,DELHE3,DELHE3_FLAG_W,REFTMP,REFTMP_FLAG_W,DELC13,DELC13_FLAG_W,DELC14,DELC14_FLAG_W,C14ERR,TDN,TDN_FLAG_W,DELO18,DELO18_FLAG_W,DELO17,DELO17_FLAG_W,CH4,CH4,CH4_FLAG_W,BTL_DATE,BTL_TIME,CTDDEPTH,BTL_LAT,BTL_LON,LAB_DEN,LAB_DEN_FLAG_W,SALTREF,SALTREF_FLAG_W
,,,,,,,,,,,,,METERS,DBAR,ITS-90,PSS-78,,PSS-78,,UMOL/KG,,UMOL/KG,,UMOL/KG,,UMOL/KG,,UMOL/KG,,UMOL/KG,,PMOL/KG,,PMOL/KG,,PMOL/KG,,FMOL/KG,,UMOL/KG,,UMOL/KG,,,,DEG C,UMOL/KG,,TU,,NMOL/KG,,PERCNT,,ITS-90,,/MILLE,,/MILLE,,/MILLE,UMOL/KG,,/MILLE,,/MILLE,,NMOL/KG,NMOL/L,,,,METERS,,,KG/M^3,,G/KG,
33HQ20150809  ,ARC01      ,48      ,  5,35         ,    6367,   11783,GSNIS-35   ,2,20150922,2316,  80.4237,-149.4518,     3819,      5.0,  -1.4830,  27.7878,2,     -999,9,    385.4,2,     -999,9,     2.85,2,     0.02,2,     0.00,2,     0.57,2,     -999,9,     -999,9,     -999,9,     -999,9,     -999,9,     -999,9,     -999,9,     -999,     -999,9,     -999,9,     -999,9,     -999,9,  -1.4865,2,     -999,9,     -999,9,     -999,     -999,9,     -999,9,     -999,9,     -999,     -999,9,20150922,2330,      5.0,  80.4242,-149.4459,     -999,9,     -999,9
33HQ20150809  ,ARC01      ,48      ,  5,34         ,    6367,   11783,GSNIS-34   ,2,20150922,2316,  80.4237,-149.4518,     3819,      5.0,  -1.4923,  27.7878,2,     -999,9,    385.4,2,     -999,9,     2.85,2,     0.00,2,     0.00,2,     0.58,2,     -999,9,     -999,9,     -999,9,     -999,9,     -999,9,     -999,9,     -999,9,     -999,     -999,9,     -999,9,     -999,9,     -999,9,  -1.4934,2,     -999,9,     -999,9,     -999,     -999,9,     -999,9,     -999,9,     -999,     -999,9,20150922,2330,      5.0,  80.4242,-149.4460,     -999,9,     -999,9
33HQ20150809  ,ARC01      ,48      ,  5,33         ,    6367,   11783,GSNIS-33   ,2,20150922,2316,  80.4237,-149.4518,     3819,      5.0,  -1.4911,  27.7871,2,     -999,9,    385.4,2,     -999,9,     2.85,2,     0.02,2,     0.00,2,     0.57,2,     -999,9,     -999,9,     -999,9,     -999,9,     -999,9,     -999,9,     -999,9,     -999,     -999,9,     -999,9,     -999,9,     -999,9,  -1.4948,2,     -999,9,     -999,9,     -999,     -999,9,     -999,9,     -999,9,     -999,     -999,9,20150922,2329,      5.0,  80.4242,-149.4461,     -999,9,     -999,9
33HQ20150809  ,ARC01      ,48      ,  5,32         ,    6367,   11783,GSNIS-32   ,2,20150922,2316,  80.4237,-149.4518,     3819,      5.0,  -1.4959,  27.7874,2,     -999,9,    385.4,2,     -999,9,     2.75,2,     0.01,2,     0.00,2,     0.56,2,     -999,9,     -999,9,     -999,9,     -999,9,     -999,9,     -999,9,     -999,9,     -999,     -999,9,     -999,9,     -999,9,     -999,9,  -1.4973,2,     -999,9,     -999,9,     -999,     -999,9,     -999,9,     -999,9,     -999,     -999,9,20150922,2329,      5.0,  80.4242,-149.4462,     -999,9,     -999,9
33HQ20150809  ,ARC01      ,48      ,  5,31         ,    6367,   11783,GSNIS-31   ,2,20150922,2316,  80.4237,-149.4518,     3819,      5.0,  -1.4917,  27.7879,2,  27.7850,2,    385.4,2,    385.4,2,     2.75,2,     0.01,2,     0.00,2,     0.57,2,     -999,9,     -999,9,     -999,9,     -999,9,     -999,9,     -999,9,     -999,9,     -999,     -999,9,     -999,9,     -999,9,     -999,9,  -1.5009,2,     -999,9,     -999,9,     -999,     -999,9,     -999,9,     -999,9,     -999,     -999,9,20150922,2329,      5.0,  80.4242,-149.4462,     -999,9,  27.9160,2
33HQ20150809  ,ARC01      ,48      ,  5,36         ,    6367,   11783,GSNIS-36   ,2,20150922,2316,  80.4237,-149.4518,     3819,      5.0,  -1.4835,  27.7874,2,     -999,9,    385.4,2,     -999,9,     2.85,2,     0.03,2,     0.00,2,     0.57,2,     -999,9,     -999,9,     -999,9,     -999,9,     -999,9,     -999,9,     -999,9,     -999,     -999,9,     -999,9,     -999,9,     -999,9,  -1.4826,2,     -999,9,     -999,9,     -999,     -999,9,     -999,9,     -999,9,     -999,     -999,9,20150922,2330,      5.0,  80.4242,-149.4459,     -999,9,     -999,9
33HQ20150809  ,ARC01      ,48      ,  5,30         ,    6367,   11784,GSNIS-30   ,2,20150922,2316,  80.4237,-149.4518,     3819,     20.3,  -1.5098,  27.7885,2,     -999,9,    393.7,2,     -999,9,     2.75,2,     0.00,2,     0.00,2,     0.57,2,     -999,9,     -999,9,     -999,9,     -999,9,     -999,9,     -999,9,     -999,9,     -999,     -999,9,     -999,9,     -999,9,     -999,9,  -1.5097,2,     -999,9,     -999,9,     -999,     -999,9,     -999,9,     -999,9,     -999,     -999,9,20150922,2327,     20.1,  80.4241,-149.4469,     -999,9,     -999,9
33HQ20150809  ,ARC01      ,48      ,  5,25         ,    6367,   11784,GSNIS-25   ,2,20150922,2316,  80.4237,-149.4518,     3819,     20.4,  -1.5100,  27.7876,2,  28.4508,4,    393.2,2,    393.6,2,     2.75,2,     0.01,2,     0.00,2,     0.58,2,     -999,9,     -999,9,     -999,9,     -999,9,     -999,9,     -999,9,     -999,9,     -999,     -999,9,     -999,9,     -999,9,     -999,9,  -1.5102,2,     -999,9,     -999,9,     -999,     -999,9,     -999,9,     -999,9,     -999,     -999,9,20150922,2327,     20.2,  80.4241,-149.4472,     -999,9,  28.5849,4
33HQ20150809  ,ARC01      ,48      ,  5,27         ,    6367,   11784,GSNIS-27   ,2,20150922,2316,  80.4237,-149.4518,     3819,     20.4,  -1.5098,  27.7880,2,     -999,9,    393.2,2,     -999,9,     2.75,2,     0.01,2,     0.00,2,     0.57,2,     -999,9,     -999,9,     -999,9,     -999,9,     -999,9,     -999,9,     -999,9,     -999,     -999,9,     -999,9,     -999,9,     -999,9,  -1.5096,2,     -999,9,     -999,9,     -999,     -999,9,     -999,9,     -999,9,     -999,     -999,9,20150922,2327,     20.2,  80.4241,-149.4471,     -999,9,     -999,9
33HQ20150809  ,ARC01      ,48      ,  5,26         ,    6367,   11784,GSNIS-26   ,2,20150922,2316,  80.4237,-149.4518,     3819,     20.4,  -1.5093,  27.7891,2,     -999,9,    393.7,2,     -999,9,     2.75,2,     0.02,2,     0.00,2,     0.58,2,     -999,9,     -999,9,     -999,9,     -999,9,     -999,9,     -999,9,     -999,9,     -999,     -999,9,     -999,9,     -999,9,     -999,9,  -1.5098,2,     -999,9,     -999,9,     -999,     -999,9,     -999,9,     -999,9,     -999,     -999,9,20150922,2327,     20.2,  80.4241,-149.4472,     -999,9,     -999,9
33HQ20150809  ,ARC01      ,48      ,  5,29         ,    6367,   11784,GSNIS-29   ,2,20150922,2316,  80.4237,-149.4518,     3819,     20.4,  -1.5097,  27.7880,2,     -999,9,    393.2,2,     -999,9,     2.75,2,     0.01,2,     0.00,2,     0.56,2,     -999,9,     -999,9,     -999,9,     -999,9,     -999,9,     -999,9,     -999,9,     -999,     -999,9,     -999,9,     -999,9,     -999,9,  -1.5100,2,     -999,9,     -999,9,     -999,     -999,9,     -999,9,     -999,9,     -999,     -999,9,20150922,2327,     20.2,  80.4241,-149.4469,     -999,9,     -999,9
33HQ20150809  ,ARC01      ,48      ,  5,28         ,    6367,   11784,GSNIS-28   ,2,20150922,2316,  80.4237,-149.4518,     3819,     20.4,  -1.5099,  27.7880,2,     -999,9,    393.2,2,     -999,9,     2.85,2,     0.02,2,     0.00,2,     0.58,2,     -999,9,     -999,9,     -999,9,     -999,9,     -999,9,     -999,9,     -999,9,     -999,     -999,9,     -999,9,     -999,9,     -999,9,  -1.5099,2,     -999,9,     -999,9,     -999,     -999,9,     -999,9,     -999,9,     -999,     -999,9,20150922,2327,     20.2,  80.4241,-149.4470,     -999,9,     -999,9
33HQ20150809  ,ARC01      ,48      ,  5,20         ,    6367,   11785,GSNIS-20   ,2,20150922,2316,  80.4237,-149.4518,     3819,     30.4,  -1.1455,  29.2311,2,     -999,9,    395.5,2,     -999,9,     2.75,2,     0.02,2,     0.00,2,     0.62,2,     -999,9,     -999,9,     -999,9,     -999,9,     -999,9,     -999,9,     -999,9,     -999,     -999,9,     -999,9,     -999,9,     -999,9,  -1.1396,2,     -999,9,     -999,9,     -999,     -999,9,     -999,9,     -999,9,     -999,     -999,9,20150922,2324,     30.1,  80.4240,-149.4482,     -999,9,     -999,9
33HQ20150809  ,ARC01      ,48      ,  5,19         ,    6367,   11785,GSNIS-19   ,2,20150922,2316,  80.4237,-149.4518,     3819,     30.4,  -1.1453,  29.2270,2,  29.3624,2,    395.5,2,    395.9,2,     2.75,2,     0.02,2,     0.00,2,     0.62,2,     -999,9,     -999,9,     -999,9,     -999,9,     -999,9,     -999,9,     -999,9,     -999,     -999,9,     -999,9,     -999,9,     -999,9,  -1.1366,2,     -999,9,     -999,9,     -999,     -999,9,     -999,9,     -999,9,     -999,     -999,9,20150922,2324,     30.1,  80.4240,-149.4483,     -999,9,  29.5009,2
33HQ20150809  ,ARC01      ,48      ,  5,24         ,    6367,   11785,GSNIS-24   ,2,20150922,2316,  80.4237,-149.4518,     3819,     30.4,  -1.1518,  29.1991,2,     -999,9,    395.5,2,     -999,9,     2.75,2,     0.02,2,     0.00,2,     0.63,2,     -999,9,     -999,9,     -999,9,     -999,9,     -999,9,     -999,9,     -999,9,     -999,     -999,9,     -999,9,     -999,9,     -999,9,  -1.1456,2,     -999,9,     -999,9,     -999,     -999,9,     -999,9,     -999,9,     -999,     -999,9,20150922,2325,     30.1,  80.4240,-149.4479,     -999,9,     -999,9
33HQ20150809  ,ARC01      ,48      ,  5,23         ,    6367,   11785,GSNIS-23   ,2,20150922,2316,  80.4237,-149.4518,     3819,     30.4,  -1.1535,  29.2000,2,     -999,9,    395.5,2,     -999,9,     2.75,2,     0.02,2,     0.00,2,     0.63,2,     -999,9,     -999,9,     -999,9,     -999,9,     -999,9,     -999,9,     -999,9,     -999,     -999,9,     -999,9,     -999,9,     -999,9,  -1.1464,2,     -999,9,     -999,9,     -999,     -999,9,     -999,9,     -999,9,     -999,     -999,9,20150922,2325,     30.1,  80.4240,-149.4479,     -999,9,     -999,9
33HQ20150809  ,ARC01      ,48      ,  5,22         ,    6367,   11785,GSNIS-22   ,2,20150922,2316,  80.4237,-149.4518,     3819,     30.4,  -1.1546,  29.2122,2,     -999,9,    395.5,2,     -999,9,     2.75,2,     0.02,2,     0.00,2,     0.63,2,     -999,9,     -999,9,     -999,9,     -999,9,     -999,9,     -999,9,     -999,9,     -999,     -999,9,     -999,9,     -999,9,     -999,9,  -1.1447,2,     -999,9,     -999,9,     -999,     -999,9,     -999,9,     -999,9,     -999,     -999,9,20150922,2325,     30.1,  80.4240,-149.4480,     -999,9,     -999,9
33HQ20150809  ,ARC01      ,48      ,  5,21         ,    6367,   11785,GSNIS-21   ,2,20150922,2316,  80.4237,-149.4518,     3819,     30.4,  -1.1446,  29.2388,2,     -999,9,    395.5,2,     -999,9,     2.75,2,     0.02,2,     0.00,2,     0.63,2,     -999,9,     -999,9,     -999,9,     -999,9,     -999,9,     -999,9,     -999,9,     -999,     -999,9,     -999,9,     -999,9,     -999,9,  -1.1374,2,     -999,9,     -999,9,     -999,     -999,9,     -999,9,     -999,9,     -999,     -999,9,20150922,2325,     30.1,  80.4240,-149.4481,     -999,9,     -999,9
33HQ20150809  ,ARC01      ,48      ,  5,15         ,    6367,   11786,GSNIS-15   ,2,20150922,2316,  80.4237,-149.4518,     3819,     48.5,  -0.9247,  31.0861,2,     -999,9,    370.4,2,     -999,9,     8.23,2,     1.87,2,     0.09,2,     0.89,2,     -999,9,     -999,9,     -999,9,     -999,9,     -999,9,     -999,9,     -999,9,     -999,     -999,9,     -999,9,     -999,9,     -999,9,  -0.8951,3,     -999,9,     -999,9,     -999,     -999,9,     -999,9,     -999,9,     -999,     -999,9,20150922,2322,     48.0,  80.4239,-149.4493,     -999,9,     -999,9
33HQ20150809  ,ARC01      ,48      ,  5,14         ,    6367,   11786,GSNIS-14   ,2,20150922,2316,  80.4237,-149.4518,     3819,     48.5,  -0.9057,  31.2199,2,     -999,9,    367.8,2,     -999,9,     8.72,2,     2.09,2,     0.10,2,     0.91,2,     -999,9,     -999,9,     -999,9,     -999,9,     -999,9,     -999,9,     -999,9,     -999,     -999,9,     -999,9,     -999,9,     -999,9,  -0.7752,4,     -999,9,     -999,9,     -999,     -999,9,     -999,9,     -999,9,     -999,     -999,9,20150922,2322,     48.0,  80.4239,-149.4493,     -999,9,     -999,9
33HQ20150809  ,ARC01      ,48      ,  5,16         ,    6367,   11786,GSNIS-16   ,2,20150922,2316,  80.4237,-149.4518,     3819,     48.5,  -0.9575,  30.9811,2,     -999,9,    375.2,2,     -999,9,     8.52,2,     2.04,2,     0.09,2,     0.90,2,     -999,9,     -999,9,     -999,9,     -999,9,     -999,9,     -999,9,     -999,9,     -999,     -999,9,     -999,9,     -999,9,     -999,9,  -0.9240,2,     -999,9,     -999,9,     -999,     -999,9,     -999,9,     -999,9,     -999,     -999,9,20150922,2322,     48.0,  80.4240,-149.4492,     -999,9,     -999,9
33HQ20150809  ,ARC01      ,48      ,  5,13         ,    6367,   11786,GSNIS-13   ,2,20150922,2316,  80.4237,-149.4518,     3819,     48.5,  -0.7807,  31.2742,2,  31.1653,2,    365.0,2,    365.7,2,     8.23,2,     1.89,2,     0.09,2,     0.88,2,     -999,9,     -999,9,     -999,9,     -999,9,     -999,9,     -999,9,     -999,9,     -999,     -999,9,     -999,9,     -999,9,     -999,9,  -0.7497,4,     -999,9,     -999,9,     -999,     -999,9,     -999,9,     -999,9,     -999,     -999,9,20150922,2322,     48.0,  80.4239,-149.4494,     -999,9,  31.3122,2
33HQ20150809  ,ARC01      ,48      ,  5,18         ,    6367,   11786,GSNIS-18   ,2,20150922,2316,  80.4237,-149.4518,     3819,     48.5,  -1.0198,  30.9492,2,     -999,9,    381.8,2,     -999,9,     8.72,2,     2.07,2,     0.10,2,     0.91,2,     -999,9,     -999,9,     -999,9,     -999,9,     -999,9,     -999,9,     -999,9,     -999,     -999,9,     -999,9,     -999,9,     -999,9,  -1.0172,2,     -999,9,     -999,9,     -999,     -999,9,     -999,9,     -999,9,     -999,     -999,9,20150922,2322,     48.0,  80.4240,-149.4490,     -999,9,     -999,9
33HQ20150809  ,ARC01      ,48      ,  5,17         ,    6367,   11786,GSNIS-17   ,2,20150922,2316,  80.4237,-149.4518,     3819,     48.5,  -1.0004,  30.9592,2,     -999,9,    381.8,2,     -999,9,     8.03,2,     1.79,2,     0.09,2,     0.88,2,     -999,9,     -999,9,     -999,9,     -999,9,     -999,9,     -999,9,     -999,9,     -999,     -999,9,     -999,9,     -999,9,     -999,9,  -0.9976,2,     -999,9,     -999,9,     -999,     -999,9,     -999,9,     -999,9,     -999,     -999,9,20150922,2322,     48.0,  80.4240,-149.4491,     -999,9,     -999,9
33HQ20150809  ,ARC01      ,48      ,  5,11         ,    6367,   11787,GSNIS-11   ,2,20150922,2316,  80.4237,-149.4518,     3819,     65.8,  -0.8835,  31.7799,2,     -999,9,    322.1,2,     -999,9,    16.54,2,     7.59,2,     0.00,2,     1.27,2,     -999,9,     -999,9,     -999,9,     -999,9,     -999,9,     -999,9,     -999,9,     -999,     -999,9,     -999,9,     -999,9,     -999,9,  -0.8816,2,     -999,9,     -999,9,     -999,     -999,9,     -999,9,     -999,9,     -999,     -999,9,20150922,2320,     65.1,  80.4239,-149.4503,     -999,9,     -999,9
33HQ20150809  ,ARC01      ,48      ,  5,10         ,    6367,   11787,GSNIS-10   ,2,20150922,2316,  80.4237,-149.4518,     3819,     65.8,  -0.8840,  31.7802,2,     -999,9,    322.1,2,     -999,9,    16.84,2,     7.60,2,     0.01,2,     1.27,2,     -999,9,     -999,9,     -999,9,     -999,9,     -999,9,     -999,9,     -999,9,     -999,     -999,9,     -999,9,     -999,9,     -999,9,  -0.8821,2,     -999,9,     -999,9,     -999,     -999,9,     -999,9,     -999,9,     -999,     -999,9,20150922,2320,     65.1,  80.4239,-149.4503,     -999,9,     -999,9
33HQ20150809  ,ARC01      ,48      ,  5,9          ,    6367,   11787,GSNIS-9    ,2,20150922,2316,  80.4237,-149.4518,     3819,     65.8,  -0.8848,  31.7807,2,     -999,9,    322.1,2,     -999,9,    16.64,2,     7.68,2,     0.00,2,     1.28,2,     -999,9,     -999,9,     -999,9,     -999,9,     -999,9,     -999,9,     -999,9,     -999,     -999,9,     -999,9,     -999,9,     -999,9,  -0.8832,2,     -999,9,     -999,9,     -999,     -999,9,     -999,9,     -999,9,     -999,     -999,9,20150922,2319,     65.1,  80.4239,-149.4504,     -999,9,     -999,9
33HQ20150809  ,ARC01      ,48      ,  5,7          ,    6367,   11787,GSNIS-7    ,2,20150922,2316,  80.4237,-149.4518,     3819,     65.8,  -0.8869,  31.7820,2,  31.8635,2,    322.1,2,    322.9,2,    16.74,2,     7.66,2,     0.00,2,     1.28,2,     -999,9,     -999,9,     -999,9,     -999,9,     -999,9,     -999,9,     -999,9,     -999,     -999,9,     -999,9,     -999,9,     -999,9,  -0.8853,2,     -999,9,     -999,9,     -999,     -999,9,     -999,9,     -999,9,     -999,     -999,9,20150922,2319,     65.1,  80.4238,-149.4505,     -999,9,  32.0138,2
33HQ20150809  ,ARC01      ,48      ,  5,12         ,    6367,   11787,GSNIS-12   ,2,20150922,2316,  80.4237,-149.4518,     3819,     65.8,  -0.8819,  31.7783,2,     -999,9,    322.1,2,     -999,9,    16.74,2,     7.68,2,     0.00,2,     1.28,2,     -999,9,     -999,9,     -999,9,     -999,9,     -999,9,     -999,9,     -999,9,     -999,     -999,9,     -999,9,     -999,9,     -999,9,  -0.8807,2,     -999,9,     -999,9,     -999,     -999,9,     -999,9,     -999,9,     -999,     -999,9,20150922,2320,     65.1,  80.4239,-149.4502,     -999,9,     -999,9
33HQ20150809  ,ARC01      ,48      ,  5,8          ,    6367,   11787,GSNIS-8    ,2,20150922,2316,  80.4237,-149.4518,     3819,     65.8,  -0.8865,  31.7819,2,     -999,9,    322.1,2,     -999,9,    16.64,2,     7.64,2,     0.00,2,     1.27,2,     -999,9,     -999,9,     -999,9,     -999,9,     -999,9,     -999,9,     -999,9,     -999,     -999,9,     -999,9,     -999,9,     -999,9,  -0.8841,2,     -999,9,     -999,9,     -999,     -999,9,     -999,9,     -999,9,     -999,     -999,9,20150922,2319,     65.1,  80.4238,-149.4505,     -999,9,     -999,9
33HQ20150809  ,ARC01      ,48      ,  5,1          ,    6367,   11788,GSNIS-1    ,2,20150922,2316,  80.4237,-149.4518,     3819,     91.2,  -1.2851,  32.2249,2,  32.1805,2,    305.7,2,    307.3,2,    21.92,2,     9.85,2,     0.00,2,     1.48,2,     -999,9,     -999,9,     -999,9,     -999,9,     -999,9,     -999,9,     -999,9,     -999,     -999,9,     -999,9,     -999,9,     -999,9,  -1.2839,2,     -999,9,     -999,9,     -999,     -999,9,     -999,9,     -999,9,     -999,     -999,9,20150922,2316,     90.2,  80.4237,-149.4520,     -999,9,  32.3322,2
33HQ20150809  ,ARC01      ,48      ,  5,6          ,    6367,   11788,GSNIS-6    ,2,20150922,2316,  80.4237,-149.4518,     3819,     91.2,  -1.2827,  32.2223,2,     -999,9,    305.7,2,     -999,9,    22.21,2,     9.94,2,     0.01,2,     1.47,2,     -999,9,     -999,9,     -999,9,     -999,9,     -999,9,     -999,9,     -999,9,     -999,     -999,9,     -999,9,     -999,9,     -999,9,  -1.2799,2,     -999,9,     -999,9,     -999,     -999,9,     -999,9,     -999,9,     -999,     -999,9,20150922,2317,     90.2,  80.4238,-149.4516,     -999,9,     -999,9
33HQ20150809  ,ARC01      ,48      ,  5,5          ,    6367,   11788,GSNIS-5    ,2,20150922,2316,  80.4237,-149.4518,     3819,     91.2,  -1.2828,  32.2227,2,     -999,9,    305.7,2,     -999,9,    22.12,2,     9.88,2,     0.01,2,     1.47,2,     -999,9,     -999,9,     -999,9,     -999,9,     -999,9,     -999,9,     -999,9,     -999,     -999,9,     -999,9,     -999,9,     -999,9,  -1.2826,2,     -999,9,     -999,9,     -999,     -999,9,     -999,9,     -999,9,     -999,     -999,9,20150922,2317,     90.2,  80.4238,-149.4516,     -999,9,     -999,9