BOTTLE,20221220CCHSIOAMB
EXPOCODE,SECT_ID,STNNBR,CASTNO,SAMPNO,GEOTR_EVENT,GEOTR_SAMPNO,BTLNBR,BTLNBR_FLAG_W,DATE,TIME,LATITUDE,LONGITUDE,DEPTH,CTDPRS,CTDTMP,CTDSAL,CTDSAL_FLAG_W,SALNTY,SALNTY_FLAG_W,CTDOXY,CTDOXY_FLAG_W,OXYGEN,OXYGEN_FLAG_W,SILCAT,SILCAT_FLAG_W,NITRAT,NITRAT_FLAG_W,NITRIT,NITRIT_FLAG_W,PHSPHT,PHSPHT_FLAG_W,CFC-11,CFC-11_FLAG_W,CFC-12,CFC-12_FLAG_W,CFC113,CFC113_FLAG_W,SF6,SF6_FLAG_W,TCARBN,TCARBN_FLAG_W,ALKALI,ALKALI_FLAG_W,PH_SWS,PH_SWS_FLAG_W,PH_TMP,DOC,DOC_FLAG_W,TRITUM,TRITUM_FLAG_W,HELIUM,HELIUM_FLAG_W,DELHE3,DELHE3_FLAG_W,REFTMP,REFTMP_FLAG_W,DELC13,DELC13_FLAG_W,DELC14,DELC14_FLAG_W,C14ERR,TDN,TDN_FLAG_W,DELO18,DELO18_FLAG_W,DELO17,DELO17_FLAG_W,CH4,CH4,CH4_FLAG_W,BTL_DATE,BTL_TIME,CTDDEPTH,BTL_LAT,BTL_LON,LAB_DEN,LAB_DEN_FLAG_W,SALTREF,SALTREF_FLAG_W
,,,,,,,,,,,,,METERS,DBAR,ITS-90,PSS-78,,PSS-78,,UMOL/KG,,UMOL/KG,,UMOL/KG,,UMOL/KG,,UMOL/KG,,UMOL/KG,,PMOL/KG,,PMOL/KG,,PMOL/KG,,FMOL/KG,,UMOL/KG,,UMOL/KG,,,,DEG C,UMOL/KG,,TU,,NMOL/KG,,PERCNT,,ITS-90,,/MILLE,,/MILLE,,/MILLE,UMOL/KG,,/MILLE,,/MILLE,,NMOL/KG,NMOL/L,,,,METERS,,,KG/M^3,,G/KG,
33HQ20150809  ,ARC01      ,46      ,  5,36         ,    6332,   11691,GSNIS-36   ,2,20150919,1342,  82.4916,-149.8299,     3020,      2.0,  -1.5318,  28.2181,2,     -999,9,    390.0,2,     -999,9,     1.96,2,     0.00,2,     0.00,2,     0.59,2,     -999,9,     -999,9,     -999,9,     -999,9,     -999,9,     -999,9,     -999,9,     -999,     -999,9,     -999,9,     -999,9,     -999,9,  -1.5325,2,     -999,9,     -999,9,     -999,     -999,9,     -999,9,     -999,9,     -999,     -999,9,20150919,1407,      1.9,  82.4916,-149.8206,     -999,9,     -999,9
33HQ20150809  ,ARC01      ,46      ,  5,35         ,    6332,   11691,GSNIS-35   ,2,20150919,1342,  82.4916,-149.8299,     3020,      2.0,  -1.5325,  28.2184,2,     -999,9,    390.0,2,     -999,9,     1.96,2,     0.00,2,     0.00,2,     0.57,2,     -999,9,     -999,9,     -999,9,     -999,9,     -999,9,     -999,9,     -999,9,     -999,     -999,9,     -999,9,     -999,9,     -999,9,  -1.5325,2,     -999,9,     -999,9,     -999,     -999,9,     -999,9,     -999,9,     -999,     -999,9,20150919,1407,      1.9,  82.4916,-149.8207,     -999,9,     -999,9
33HQ20150809  ,ARC01      ,46      ,  5,34         ,    6332,   11691,GSNIS-34   ,2,20150919,1342,  82.4916,-149.8299,     3020,      2.0,  -1.5328,  28.2180,2,  28.2197,2,    390.0,2,    389.9,2,     1.96,2,     0.00,2,     0.00,2,     0.57,2,     -999,9,     -999,9,     -999,9,     -999,9,     -999,9,     -999,9,     -999,9,     -999,     -999,9,     -999,9,     -999,9,     -999,9,  -1.5326,2,     -999,9,     -999,9,     -999,     -999,9,     -999,9,     -999,9,     -999,     -999,9,20150919,1407,      1.9,  82.4916,-149.8207,     -999,9,  28.3528,2
33HQ20150809  ,ARC01      ,46      ,  5,33         ,    6332,   11690,GSNIS-33   ,2,20150919,1342,  82.4916,-149.8299,     3020,     21.0,  -1.4388,  28.7520,2,     -999,9,    387.3,2,     -999,9,     1.96,2,     0.00,2,     0.00,2,     0.58,2,     -999,9,     -999,9,     -999,9,     -999,9,     -999,9,     -999,9,     -999,9,     -999,     -999,9,     -999,9,     -999,9,     -999,9,  -1.4661,2,     -999,9,     -999,9,     -999,     -999,9,     -999,9,     -999,9,     -999,     -999,9,20150919,1405,     20.8,  82.4916,-149.8215,     -999,9,     -999,9
33HQ20150809  ,ARC01      ,46      ,  5,31         ,    6332,   11690,GSNIS-31   ,2,20150919,1342,  82.4916,-149.8299,     3020,     21.0,  -1.4538,  28.7004,2,  28.5386,3,    387.4,2,    393.0,2,     1.86,2,     0.01,2,     0.00,2,     0.58,2,     -999,9,     -999,9,     -999,9,     -999,9,     -999,9,     -999,9,     -999,9,     -999,     -999,9,     -999,9,     -999,9,     -999,9,  -1.4420,2,     -999,9,     -999,9,     -999,     -999,9,     -999,9,     -999,9,     -999,     -999,9,20150919,1404,     20.8,  82.4916,-149.8216,     -999,9,  28.6732,3
33HQ20150809  ,ARC01      ,46      ,  5,32         ,    6332,   11690,GSNIS-32   ,2,20150919,1342,  82.4916,-149.8299,     3020,     21.0,  -1.4620,  28.6632,2,     -999,9,    387.4,2,     -999,9,     1.86,2,     0.01,2,     0.00,2,     0.58,2,     -999,9,     -999,9,     -999,9,     -999,9,     -999,9,     -999,9,     -999,9,     -999,     -999,9,     -999,9,     -999,9,     -999,9,  -1.4449,2,     -999,9,     -999,9,     -999,     -999,9,     -999,9,     -999,9,     -999,     -999,9,20150919,1405,     20.8,  82.4916,-149.8216,     -999,9,     -999,9
33HQ20150809  ,ARC01      ,46      ,  5,30         ,    6332,   11689,GSNIS-30   ,2,20150919,1342,  82.4916,-149.8299,     3020,     35.2,  -1.3968,  29.2952,2,     -999,9,    396.3,2,     -999,9,     1.86,2,     0.01,2,     0.00,2,     0.60,2,     -999,9,     -999,9,     -999,9,     -999,9,     -999,9,     -999,9,     -999,9,     -999,     -999,9,     -999,9,     -999,9,     -999,9,  -1.3940,2,     -999,9,     -999,9,     -999,     -999,9,     -999,9,     -999,9,     -999,     -999,9,20150919,1403,     34.9,  82.4916,-149.8222,     -999,9,     -999,9
33HQ20150809  ,ARC01      ,46      ,  5,29         ,    6332,   11689,GSNIS-29   ,2,20150919,1342,  82.4916,-149.8299,     3020,     35.2,  -1.3981,  29.2955,2,     -999,9,    396.3,2,     -999,9,     1.86,2,     0.00,2,     0.00,2,     0.60,2,     -999,9,     -999,9,     -999,9,     -999,9,     -999,9,     -999,9,     -999,9,     -999,     -999,9,     -999,9,     -999,9,     -999,9,  -1.3946,2,     -999,9,     -999,9,     -999,     -999,9,     -999,9,     -999,9,     -999,     -999,9,20150919,1403,     34.9,  82.4916,-149.8222,     -999,9,     -999,9
33HQ20150809  ,ARC01      ,46      ,  5,28         ,    6332,   11689,GSNIS-28   ,2,20150919,1342,  82.4916,-149.8299,     3020,     35.3,  -1.3963,  29.2949,2,  29.3201,3,    396.3,2,    398.6,2,     1.86,2,     0.00,2,     0.01,2,     0.59,2,     -999,9,     -999,9,     -999,9,     -999,9,     -999,9,     -999,9,     -999,9,     -999,     -999,9,     -999,9,     -999,9,     -999,9,  -1.3943,2,     -999,9,     -999,9,     -999,     -999,9,     -999,9,     -999,9,     -999,     -999,9,20150919,1403,     34.9,  82.4916,-149.8223,     -999,9,  29.4583,3
33HQ20150809  ,ARC01      ,46      ,  5,25         ,    6332,   11688,GSNIS-25   ,2,20150919,1342,  82.4916,-149.8299,     3020,     44.3,  -1.4504,  29.3553,2,  29.3774,3,    392.1,2,    398.2,2,     1.76,2,     0.00,2,     0.01,2,     0.59,2,     -999,9,     -999,9,     -999,9,     -999,9,     -999,9,     -999,9,     -999,9,     -999,     -999,9,     -999,9,     -999,9,     -999,9,  -1.4514,2,     -999,9,     -999,9,     -999,     -999,9,     -999,9,     -999,9,     -999,     -999,9,20150919,1401,     43.8,  82.4916,-149.8229,     -999,9,  29.5159,3
33HQ20150809  ,ARC01      ,46      ,  5,27         ,    6332,   11688,GSNIS-27   ,2,20150919,1342,  82.4916,-149.8299,     3020,     44.3,  -1.4494,  29.3543,2,     -999,9,    392.1,2,     -999,9,     1.76,2,     0.00,2,     0.01,2,     0.60,2,     -999,9,     -999,9,     -999,9,     -999,9,     -999,9,     -999,9,     -999,9,     -999,     -999,9,     -999,9,     -999,9,     -999,9,  -1.4484,2,     -999,9,     -999,9,     -999,     -999,9,     -999,9,     -999,9,     -999,     -999,9,20150919,1401,     43.8,  82.4916,-149.8228,     -999,9,     -999,9
33HQ20150809  ,ARC01      ,46      ,  5,26         ,    6332,   11688,GSNIS-26   ,2,20150919,1342,  82.4916,-149.8299,     3020,     44.3,  -1.4492,  29.3542,2,     -999,9,    392.1,2,     -999,9,     1.76,2,     0.00,2,     0.01,2,     0.59,2,     -999,9,     -999,9,     -999,9,     -999,9,     -999,9,     -999,9,     -999,9,     -999,     -999,9,     -999,9,     -999,9,     -999,9,  -1.4481,2,     -999,9,     -999,9,     -999,     -999,9,     -999,9,     -999,9,     -999,     -999,9,20150919,1401,     43.8,  82.4916,-149.8228,     -999,9,     -999,9
33HQ20150809  ,ARC01      ,46      ,  5,24         ,    6332,   11687,GSNIS-24   ,2,20150919,1342,  82.4916,-149.8299,     3020,     54.6,  -1.4316,  29.5102,2,     -999,9,    389.1,2,     -999,9,     3.43,2,     0.56,2,     0.06,2,     0.70,2,     -999,9,     -999,9,     -999,9,     -999,9,     -999,9,     -999,9,     -999,9,     -999,     -999,9,     -999,9,     -999,9,     -999,9,  -1.4150,2,     -999,9,     -999,9,     -999,     -999,9,     -999,9,     -999,9,     -999,     -999,9,20150919,1400,     54.0,  82.4916,-149.8234,     -999,9,     -999,9
33HQ20150809  ,ARC01      ,46      ,  5,23         ,    6332,   11687,GSNIS-23   ,2,20150919,1342,  82.4916,-149.8299,     3020,     54.6,  -1.4314,  29.5088,2,     -999,9,    389.1,2,     -999,9,     3.72,2,     0.70,2,     0.06,2,     0.76,2,     -999,9,     -999,9,     -999,9,     -999,9,     -999,9,     -999,9,     -999,9,     -999,     -999,9,     -999,9,     -999,9,     -999,9,  -1.3704,4,     -999,9,     -999,9,     -999,     -999,9,     -999,9,     -999,9,     -999,     -999,9,20150919,1400,     54.0,  82.4916,-149.8234,     -999,9,     -999,9
33HQ20150809  ,ARC01      ,46      ,  5,22         ,    6332,   11687,GSNIS-22   ,2,20150919,1342,  82.4916,-149.8299,     3020,     54.6,  -1.4189,  29.5369,2,  29.9892,3,    389.1,2,    385.0,2,     3.43,2,     0.56,2,     0.06,2,     0.71,2,     -999,9,     -999,9,     -999,9,     -999,9,     -999,9,     -999,9,     -999,9,     -999,     -999,9,     -999,9,     -999,9,     -999,9,  -1.3677,4,     -999,9,     -999,9,     -999,     -999,9,     -999,9,     -999,9,     -999,     -999,9,20150919,1400,     54.0,  82.4916,-149.8234,     -999,9,  30.1306,3
33HQ20150809  ,ARC01      ,46      ,  5,21         ,    6332,   11686,GSNIS-21   ,2,20150919,1342,  82.4916,-149.8299,     3020,     65.8,  -0.8925,  31.4017,2,     -999,9,    340.5,2,     -999,9,    12.24,2,     5.12,2,     0.01,2,     1.10,2,     -999,9,     -999,9,     -999,9,     -999,9,     -999,9,     -999,9,     -999,9,     -999,     -999,9,     -999,9,     -999,9,     -999,9,  -0.8947,2,     -999,9,     -999,9,     -999,     -999,9,     -999,9,     -999,9,     -999,     -999,9,20150919,1358,     65.1,  82.4916,-149.8241,     -999,9,     -999,9
33HQ20150809  ,ARC01      ,46      ,  5,20         ,    6332,   11686,GSNIS-20   ,2,20150919,1342,  82.4916,-149.8299,     3020,     65.8,  -0.8924,  31.4018,2,     -999,9,    340.5,2,     -999,9,    12.63,2,     5.30,2,     0.01,2,     1.11,2,     -999,9,     -999,9,     -999,9,     -999,9,     -999,9,     -999,9,     -999,9,     -999,     -999,9,     -999,9,     -999,9,     -999,9,  -0.8953,2,     -999,9,     -999,9,     -999,     -999,9,     -999,9,     -999,9,     -999,     -999,9,20150919,1358,     65.1,  82.4916,-149.8241,     -999,9,     -999,9
33HQ20150809  ,ARC01      ,46      ,  5,19         ,    6332,   11686,GSNIS-19   ,2,20150919,1342,  82.4916,-149.8299,     3020,     65.8,  -0.8935,  31.4032,2,  31.4957,3,    340.5,2,    340.4,2,    12.33,2,     5.15,2,     0.01,2,     1.10,2,     -999,9,     -999,9,     -999,9,     -999,9,     -999,9,     -999,9,     -999,9,     -999,     -999,9,     -999,9,     -999,9,     -999,9,  -0.8964,2,     -999,9,     -999,9,     -999,     -999,9,     -999,9,     -999,9,     -999,     -999,9,20150919,1358,     65.1,  82.4916,-149.8241,     -999,9,  31.6442,3
33HQ20150809  ,ARC01      ,46      ,  5,18         ,    6332,   11685,GSNIS-18   ,2,20150919,1342,  82.4916,-149.8299,     3020,     91.1,  -1.1937,  32.2130,2,     -999,9,    302.6,2,     -999,9,    23.77,2,    10.55,2,     0.00,2,     1.54,2,     -999,9,     -999,9,     -999,9,     -999,9,     -999,9,     -999,9,     -999,9,     -999,     -999,9,     -999,9,     -999,9,     -999,9,  -1.1932,2,     -999,9,     -999,9,     -999,     -999,9,     -999,9,     -999,9,     -999,     -999,9,20150919,1356,     90.1,  82.4916,-149.8248,     -999,9,     -999,9
33HQ20150809  ,ARC01      ,46      ,  5,17         ,    6332,   11685,GSNIS-17   ,2,20150919,1342,  82.4916,-149.8299,     3020,     91.1,  -1.1934,  32.2123,2,     -999,9,    302.6,2,     -999,9,    23.38,2,    10.34,2,     0.00,2,     1.52,2,     -999,9,     -999,9,     -999,9,     -999,9,     -999,9,     -999,9,     -999,9,     -999,     -999,9,     -999,9,     -999,9,     -999,9,  -1.1931,2,     -999,9,     -999,9,     -999,     -999,9,     -999,9,     -999,9,     -999,     -999,9,20150919,1356,     90.1,  82.4916,-149.8248,     -999,9,     -999,9
33HQ20150809  ,ARC01      ,46      ,  5,16         ,    6332,   11685,GSNIS-16   ,2,20150919,1342,  82.4916,-149.8299,     3020,     91.1,  -1.1966,  32.2187,2,  32.2572,3,    302.6,2,    302.0,2,    23.67,2,    10.51,2,     0.00,2,     1.54,2,     -999,9,     -999,9,     -999,9,     -999,9,     -999,9,     -999,9,     -999,9,     -999,     -999,9,     -999,9,     -999,9,     -999,9,  -1.1930,2,     -999,9,     -999,9,     -999,     -999,9,     -999,9,     -999,9,     -999,     -999,9,20150919,1356,     90.1,  82.4916,-149.8249,     -999,9,  32.4093,3
33HQ20150809  ,ARC01      ,46      ,  5,15         ,    6332,   11684,GSNIS-15   ,2,20150919,1342,  82.4916,-149.8299,     3020,    121.5,  -1.4013,  32.8549,2,     -999,9,    256.1,2,     -999,9,    40.09,2,    15.83,2,     0.00,2,     1.95,2,     -999,9,     -999,9,     -999,9,     -999,9,     -999,9,     -999,9,     -999,9,     -999,     -999,9,     -999,9,     -999,9,     -999,9,  -1.4013,2,     -999,9,     -999,9,     -999,     -999,9,     -999,9,     -999,9,     -999,     -999,9,20150919,1354,    120.2,  82.4916,-149.8256,     -999,9,     -999,9
33HQ20150809  ,ARC01      ,46      ,  5,14         ,    6332,   11684,GSNIS-14   ,2,20150919,1342,  82.4916,-149.8299,     3020,    121.5,  -1.4012,  32.8549,2,     -999,9,    256.1,2,     -999,9,    40.19,2,    15.83,2,     0.00,2,     1.95,2,     -999,9,     -999,9,     -999,9,     -999,9,     -999,9,     -999,9,     -999,9,     -999,     -999,9,     -999,9,     -999,9,     -999,9,     -999,9,     -999,9,     -999,9,     -999,     -999,9,     -999,9,     -999,9,     -999,     -999,9,20150919,1354,    120.2,  82.4916,-149.8256,     -999,9,     -999,9
33HQ20150809  ,ARC01      ,46      ,  5,13         ,    6332,   11684,GSNIS-13   ,2,20150919,1342,  82.4916,-149.8299,     3020,    121.5,  -1.4012,  32.8558,2,  32.8947,3,    256.1,2,    255.9,2,    40.19,2,    15.82,2,     0.00,2,     1.95,2,     -999,9,     -999,9,     -999,9,     -999,9,     -999,9,     -999,9,     -999,9,     -999,     -999,9,     -999,9,     -999,9,     -999,9,  -1.4013,2,     -999,9,     -999,9,     -999,     -999,9,     -999,9,     -999,9,     -999,     -999,9,20150919,1354,    120.2,  82.4916,-149.8256,     -999,9,  33.0498,3
33HQ20150809  ,ARC01      ,46      ,  5,12         ,    6332,   11683,GSNIS-12   ,2,20150919,1342,  82.4916,-149.8299,     3020,    141.8,  -1.2993,  33.4219,2,     -999,9,    248.7,2,     -999,9,    30.30,2,    13.83,2,     0.00,2,     1.53,2,     -999,9,     -999,9,     -999,9,     -999,9,     -999,9,     -999,9,     -999,9,     -999,     -999,9,     -999,9,     -999,9,     -999,9,  -1.2928,2,     -999,9,     -999,9,     -999,     -999,9,     -999,9,     -999,9,     -999,     -999,9,20150919,1353,    140.3,  82.4916,-149.8262,     -999,9,     -999,9
33HQ20150809  ,ARC01      ,46      ,  5,11         ,    6332,   11683,GSNIS-11   ,2,20150919,1342,  82.4916,-149.8299,     3020,    141.8,  -1.2998,  33.4226,2,     -999,9,    248.7,2,     -999,9,    30.69,2,    13.93,2,     0.00,2,     1.55,2,     -999,9,     -999,9,     -999,9,     -999,9,     -999,9,     -999,9,     -999,9,     -999,     -999,9,     -999,9,     -999,9,     -999,9,  -1.2912,2,     -999,9,     -999,9,     -999,     -999,9,     -999,9,     -999,9,     -999,     -999,9,20150919,1352,    140.3,  82.4916,-149.8263,     -999,9,     -999,9
33HQ20150809  ,ARC01      ,46      ,  5,10         ,    6332,   11683,GSNIS-10   ,2,20150919,1342,  82.4916,-149.8299,     3020,    141.8,  -1.2999,  33.4235,2,  33.5255,3,    248.7,2,    259.6,2,    30.59,2,    13.91,2,     0.00,2,     1.55,2,     -999,9,     -999,9,     -999,9,     -999,9,     -999,9,     -999,9,     -999,9,     -999,     -999,9,     -999,9,     -999,9,     -999,9,  -1.2928,2,     -999,9,     -999,9,     -999,     -999,9,     -999,9,     -999,9,     -999,     -999,9,20150919,1352,    140.3,  82.4916,-149.8263,     -999,9,  33.6836,3
33HQ20150809  ,ARC01      ,46      ,  5,7          ,    6332,   11682,GSNIS-7    ,3,20150919,1342,  82.4916,-149.8299,     3020,    202.7,  -0.3333,  34.4117,2,  34.4205,2,    283.6,2,    283.4,2,    10.16,2,    10.88,2,     0.00,2,     0.86,2,     -999,9,     -999,9,     -999,9,     -999,9,     -999,9,     -999,9,     -999,9,     -999,     -999,9,     -999,9,     -999,9,     -999,9,  -0.3330,2,     -999,9,     -999,9,     -999,     -999,9,     -999,9,     -999,9,     -999,     -999,9,20150919,1350,    200.5,  82.4915,-149.8272,     -999,9,  34.5828,2
33HQ20150809  ,ARC01      ,46      ,  5,9          ,    6332,   11682,GSNIS-9    ,2,20150919,1342,  82.4916,-149.8299,     3020,    202.8,  -0.3328,  34.4116,2,     -999,9,    283.6,2,     -999,9,    10.16,2,    10.85,2,     0.00,2,     0.86,2,     -999,9,     -999,9,     -999,9,     -999,9,     -999,9,     -999,9,     -999,9,     -999,     -999,9,     -999,9,     -999,9,     -999,9,  -0.3327,2,     -999,9,     -999,9,     -999,     -999,9,     -999,9,     -999,9,     -999,     -999,9,20150919,1350,    200.5,  82.4915,-149.8272,     -999,9,     -999,9
33HQ20150809  ,ARC01      ,46      ,  5,8          ,    6332,   11682,GSNIS-8    ,2,20150919,1342,  82.4916,-149.8299,     3020,    202.8,  -0.3328,  34.4116,2,     -999,9,    283.6,2,     -999,9,    10.26,2,    10.89,2,     0.00,2,     0.86,2,     -999,9,     -999,9,     -999,9,     -999,9,     -999,9,     -999,9,     -999,9,     -999,     -999,9,     -999,9,     -999,9,     -999,9,  -0.3329,2,     -999,9,     -999,9,     -999,     -999,9,     -999,9,     -999,9,     -999,     -999,9,20150919,1350,    200.5,  82.4915,-149.8272,     -999,9,     -999,9
33HQ20150809  ,ARC01      ,46      ,  5,5          ,    6332,   11681,GSNIS-5    ,2,20150919,1342,  82.4916,-149.8299,     3020,    304.3,   0.6195,  34.7793,2,     -999,9,    292.0,2,     -999,9,     6.44,2,    12.06,2,     0.00,2,     0.83,2,     -999,9,     -999,9,     -999,9,     -999,9,     -999,9,     -999,9,     -999,9,     -999,     -999,9,     -999,9,     -999,9,     -999,9,   0.6210,2,     -999,9,     -999,9,     -999,     -999,9,     -999,9,     -999,9,     -999,     -999,9,20150919,1347,    300.8,  82.4915,-149.8284,     -999,9,     -999,9
33HQ20150809  ,ARC01      ,46      ,  5,4          ,    6332,   11681,GSNIS-4    ,2,20150919,1342,  82.4916,-149.8299,     3020,    304.3,   0.6197,  34.7793,2,  34.7888,2,    292.0,2,    292.6,2,     6.35,2,    12.08,2,     0.00,2,     0.83,2,     -999,9,     -999,9,     -999,9,     -999,9,     -999,9,     -999,9,     -999,9,     -999,     -999,9,     -999,9,     -999,9,     -999,9,   0.6207,2,     -999,9,     -999,9,     -999,     -999,9,     -999,9,     -999,9,     -999,     -999,9,20150919,1347,    300.8,  82.4915,-149.8284,     -999,9,  34.9528,2
33HQ20150809  ,ARC01      ,46      ,  5,6          ,    6332,   11681,GSNIS-6    ,2,20150919,1342,  82.4916,-149.8299,     3020,    304.3,   0.6196,  34.7792,2,     -999,9,    292.0,2,     -999,9,     6.44,2,    12.06,2,     0.00,2,     0.83,2,     -999,9,     -999,9,     -999,9,     -999,9,     -999,9,     -999,9,     -999,9,     -999,     -999,9,     -999,9,     -999,9,     -999,9,   0.6205,2,     -999,9,     -999,9,     -999,     -999,9,     -999,9,     -999,9,     -999,     -999,9,20150919,1347,    300.8,  82.4915,-149.8283,     -999,9,     -999,9