BOTTLE,20221220CCHSIOAMB
EXPOCODE,SECT_ID,STNNBR,CASTNO,SAMPNO,GEOTR_EVENT,GEOTR_SAMPNO,BTLNBR,BTLNBR_FLAG_W,DATE,TIME,LATITUDE,LONGITUDE,DEPTH,CTDPRS,CTDTMP,CTDSAL,CTDSAL_FLAG_W,SALNTY,SALNTY_FLAG_W,CTDOXY,CTDOXY_FLAG_W,OXYGEN,OXYGEN_FLAG_W,SILCAT,SILCAT_FLAG_W,NITRAT,NITRAT_FLAG_W,NITRIT,NITRIT_FLAG_W,PHSPHT,PHSPHT_FLAG_W,CFC-11,CFC-11_FLAG_W,CFC-12,CFC-12_FLAG_W,CFC113,CFC113_FLAG_W,SF6,SF6_FLAG_W,TCARBN,TCARBN_FLAG_W,ALKALI,ALKALI_FLAG_W,PH_SWS,PH_SWS_FLAG_W,PH_TMP,DOC,DOC_FLAG_W,TRITUM,TRITUM_FLAG_W,HELIUM,HELIUM_FLAG_W,DELHE3,DELHE3_FLAG_W,REFTMP,REFTMP_FLAG_W,DELC13,DELC13_FLAG_W,DELC14,DELC14_FLAG_W,C14ERR,TDN,TDN_FLAG_W,DELO18,DELO18_FLAG_W,DELO17,DELO17_FLAG_W,CH4,CH4,CH4_FLAG_W,BTL_DATE,BTL_TIME,CTDDEPTH,BTL_LAT,BTL_LON,LAB_DEN,LAB_DEN_FLAG_W,SALTREF,SALTREF_FLAG_W
,,,,,,,,,,,,,METERS,DBAR,ITS-90,PSS-78,,PSS-78,,UMOL/KG,,UMOL/KG,,UMOL/KG,,UMOL/KG,,UMOL/KG,,UMOL/KG,,PMOL/KG,,PMOL/KG,,PMOL/KG,,FMOL/KG,,UMOL/KG,,UMOL/KG,,,,DEG C,UMOL/KG,,TU,,NMOL/KG,,PERCNT,,ITS-90,,/MILLE,,/MILLE,,/MILLE,UMOL/KG,,/MILLE,,/MILLE,,NMOL/KG,NMOL/L,,,,METERS,,,KG/M^3,,G/KG,
33HQ20150809  ,ARC01      ,12      ,  3,36         ,    6092,    -999,GSNIS-36   ,2,20150820,1003,  75.7749,-171.3739,     1717,      3.6,  -0.5555,  25.6617,2,  25.9064,2,    381.6,2,    380.6,2,     2.36,2,     0.01,2,     0.00,2,     0.56,2,    6.874,2,    3.764,2,    0.651,2,    3.693,2,   1786.1,6,   1861.0,2,   7.6478,2,    25.00,     62.9,2,     -999,9,     -999,9,     -999,9,  -0.5567,2,     1.46,6,     -999,1,     -999,     1.43,2,     -999,1,     -999,9,     -999,     -999,9,20150820,1129,      3.6,  75.7770,-171.4171,     -999,9,  26.0286,2
33HQ20150809  ,ARC01      ,12      ,  3,35         ,    6092,    -999,GSNIS-35   ,2,20150820,1003,  75.7749,-171.3739,     1717,     15.6,  -0.1858,  27.7775,2,  28.0845,2,    388.1,2,    393.3,2,     2.46,2,     0.01,2,     0.00,2,     0.60,2,    7.186,2,    3.898,2,    0.668,2,    3.399,2,   1927.3,2,   2024.2,6,   7.6754,2,    25.00,     67.9,2,     -999,9,     -999,9,     -999,9,  -0.1864,2,     -999,9,     -999,9,     -999,     2.01,2,     -999,1,     -999,9,     -999,     -999,9,20150820,1127,     15.4,  75.7769,-171.4160,     -999,9,  28.2170,2
33HQ20150809  ,ARC01      ,12      ,  3,34         ,    6092,   10759,GSNIS-34   ,2,20150820,1003,  75.7749,-171.3739,     1717,     20.7,  -0.4792,  28.5548,2,  28.6336,2,    396.1,2,     -999,9,     2.55,2,     0.00,2,     0.00,2,     0.63,2,     -999,9,     -999,9,     -999,9,     -999,9,     -999,9,     -999,9,     -999,9,     -999,     -999,9,     -999,9,     -999,9,     -999,9,     -999,9,     -999,9,     -999,9,     -999,     -999,9,     -999,9,     -999,9,     -999,     -999,9,20150820,1126,     20.5,  75.7768,-171.4151,     -999,9,  28.7686,2
33HQ20150809  ,ARC01      ,12      ,  3,33         ,    6092,   10759,GSNIS-33   ,2,20150820,1003,  75.7749,-171.3739,     1717,     20.7,  -0.4777,  28.5519,2,  28.6081,2,    396.1,2,     -999,9,     2.65,2,     0.00,2,     0.00,2,     0.61,2,     -999,9,     -999,9,     -999,9,     -999,9,     -999,9,     -999,9,     -999,9,     -999,     -999,9,     -999,9,     -999,9,     -999,9,  -0.4770,2,     -999,9,     -999,9,     -999,     -999,9,     -999,9,     -999,9,     -999,     -999,9,20150820,1126,     20.5,  75.7768,-171.4151,     -999,9,  28.7430,2
33HQ20150809  ,ARC01      ,12      ,  3,32         ,    6092,   10759,GSNIS-32   ,2,20150820,1003,  75.7749,-171.3739,     1717,     20.7,  -0.4788,  28.5550,2,  28.6510,2,    396.1,2,     -999,9,     2.45,2,     0.00,2,     0.00,2,     0.62,2,     -999,9,     -999,9,     -999,9,     -999,9,     -999,9,     -999,9,     -999,9,     -999,     -999,9,     -999,9,     -999,9,     -999,9,     -999,9,     -999,9,     -999,9,     -999,     -999,9,     -999,9,     -999,9,     -999,     -999,9,20150820,1126,     20.5,  75.7768,-171.4150,     -999,9,  28.7861,2
33HQ20150809  ,ARC01      ,12      ,  3,31         ,    6092,   10759,GSNIS-31   ,2,20150820,1003,  75.7749,-171.3739,     1717,     20.7,  -0.4795,  28.5564,2,  28.6742,2,    396.1,2,    395.7,2,     2.45,2,     0.02,2,     0.00,2,     0.62,2,    7.207,2,    3.943,2,    0.671,2,    3.426,2,   1953.2,2,   2049.5,2,   7.6743,2,    25.00,     71.4,2,     -999,9,     -999,9,     -999,9,  -0.4802,2,     -999,9,     -999,9,     -999,     1.95,2,     -999,1,     -999,9,     -999,     -999,9,20150820,1126,     20.5,  75.7768,-171.4150,     -999,9,  28.8094,2
33HQ20150809  ,ARC01      ,12      ,  3,27         ,    6092,   10760,GSNIS-27   ,2,20150820,1003,  75.7749,-171.3739,     1717,     40.9,  -0.5572,  30.0115,2,  30.1035,2,    392.5,2,    392.9,2,     3.24,2,     0.00,2,     0.00,2,     0.69,2,    7.034,2,    3.788,2,    0.623,2,    3.169,2,   2023.1,2,   2132.6,2,   7.7035,2,    25.00,     72.0,2,     -999,9,     -999,9,     -999,9,  -0.5557,2,     -999,9,     -999,9,     -999,     3.31,2,     -999,1,     -999,9,     -999,     -999,9,20150820,1123,     40.5,  75.7766,-171.4135,     -999,9,  30.2455,2
33HQ20150809  ,ARC01      ,12      ,  3,29         ,    6092,   10760,GSNIS-29   ,2,20150820,1003,  75.7749,-171.3739,     1717,     40.9,  -0.5581,  30.0113,2,  30.0943,2,    392.5,2,     -999,9,     3.24,2,     0.01,2,     0.00,2,     0.69,2,     -999,9,     -999,9,     -999,9,     -999,9,     -999,9,     -999,9,     -999,9,     -999,     -999,9,     -999,9,     -999,9,     -999,9,     -999,9,     -999,9,     -999,9,     -999,     -999,9,     -999,9,     -999,9,     -999,     -999,9,20150820,1123,     40.5,  75.7766,-171.4137,     -999,9,  30.2362,2
33HQ20150809  ,ARC01      ,12      ,  3,30         ,    6092,   10760,GSNIS-30   ,2,20150820,1003,  75.7749,-171.3739,     1717,     40.9,  -0.5551,  30.0089,2,  30.1135,2,    392.5,2,     -999,9,     3.24,2,     0.01,2,     0.00,2,     0.69,2,     -999,9,     -999,9,     -999,9,     -999,9,     -999,9,     -999,9,     -999,9,     -999,     -999,9,     -999,9,     -999,9,     -999,9,  -0.5545,2,     -999,9,     -999,9,     -999,     -999,9,     -999,9,     -999,9,     -999,     -999,9,20150820,1123,     40.5,  75.7766,-171.4137,     -999,9,  30.2555,2
33HQ20150809  ,ARC01      ,12      ,  3,28         ,    6092,   10760,GSNIS-28   ,2,20150820,1003,  75.7749,-171.3739,     1717,     40.9,  -0.5590,  30.0120,2,  30.1439,2,    392.5,2,     -999,9,     3.24,2,     0.00,2,     0.00,2,     0.69,2,     -999,9,     -999,9,     -999,9,     -999,9,     -999,9,     -999,9,     -999,9,     -999,     -999,9,     -999,9,     -999,9,     -999,9,  -0.5551,2,     -999,9,     -999,9,     -999,     -999,9,     -999,9,     -999,9,     -999,     -999,9,20150820,1123,     40.5,  75.7766,-171.4136,     -999,9,  30.2860,2
33HQ20150809  ,ARC01      ,12      ,  3,26         ,    6092,    -999,GSNIS-26   ,2,20150820,1003,  75.7749,-171.3739,     1717,     66.5,  -0.8756,  31.4343,2,  31.4611,2,    355.0,2,    355.5,2,     9.50,2,     3.41,2,     0.21,2,     1.01,2,    6.651,2,    3.597,2,    0.528,2,    2.596,2,   2093.4,2,   2209.9,2,   7.6613,2,    25.00,     69.0,2,     -999,9,     -999,9,     -999,9,  -0.8792,2,     -999,9,     -999,9,     -999,     1.72,2,     -999,1,     -999,9,     -999,     -999,9,20150820,1120,     65.8,  75.7764,-171.4122,     -999,9,  31.6094,2
33HQ20150809  ,ARC01      ,12      ,  3,25         ,    6092,    -999,GSNIS-25   ,2,20150820,1003,  75.7749,-171.3739,     1717,     76.1,  -0.8128,  31.7640,2,  31.8192,2,    332.9,2,    333.6,2,    13.61,2,     6.67,2,     0.05,2,     1.23,2,    6.573,2,    3.592,2,    0.506,2,    2.441,2,   2109.1,2,   2176.0,4,   7.6208,2,    25.00,     64.0,2,     -999,9,     -999,9,     -999,9,  -0.8138,2,     -999,9,     -999,9,     -999,     6.29,2,     -999,1,     -999,9,     -999,     -999,9,20150820,1119,     75.3,  75.7763,-171.4114,     -999,9,  31.9693,2
33HQ20150809  ,ARC01      ,12      ,  3,24         ,    6092,    -999,GSNIS-24   ,9,20150820,1003,  75.7749,-171.3739,     1717,     86.4,  -1.0787,  31.9512,2,     -999,9,    321.9,2,     -999,9,     -999,9,     -999,9,     -999,9,     -999,9,     -999,9,     -999,9,     -999,9,     -999,9,     -999,9,     -999,9,     -999,9,     -999,     -999,9,     -999,9,     -999,9,     -999,9,  -1.0787,2,     -999,9,     -999,9,     -999,     -999,9,     -999,9,     -999,9,     -999,     -999,9,20150820,1117,     85.5,  75.7762,-171.4105,     -999,9,     -999,9
33HQ20150809  ,ARC01      ,12      ,  3,23         ,    6092,    -999,GSNIS-23   ,2,20150820,1003,  75.7749,-171.3739,     1717,     96.5,  -1.2056,  32.1428,2,  32.1729,2,    312.7,2,    312.1,2,    20.76,2,    10.39,2,     0.00,2,     1.51,2,    6.465,2,    3.439,2,    0.478,2,    2.334,2,     -999,9,   2221.6,2,   7.5501,2,    25.00,     62.1,2,     -999,9,     -999,9,     -999,9,  -1.2060,2,     -999,9,     -999,9,     -999,     9.41,2,     -999,1,     -999,9,     -999,     -999,9,20150820,1115,     95.4,  75.7760,-171.4093,     -999,9,  32.3246,2
33HQ20150809  ,ARC01      ,12      ,  3,22         ,    6092,    -999,GSNIS-22   ,2,20150820,1003,  75.7749,-171.3739,     1717,    106.6,  -1.3310,  32.2766,2,  32.2980,2,    308.5,2,    308.3,2,    23.30,2,    11.35,2,     0.00,2,     1.57,2,    6.409,2,    3.416,2,    0.476,2,    2.397,2,     -999,9,     -999,9,     -999,9,     -999,     -999,9,     -999,9,     -999,9,     -999,9,  -1.3310,2,     -999,9,     -999,9,     -999,     -999,9,     -999,1,     -999,9,     -999,     -999,9,20150820,1113,    105.5,  75.7759,-171.4085,     -999,9,  32.4503,2
33HQ20150809  ,ARC01      ,12      ,  3,21         ,    6092,    -999,GSNIS-21   ,2,20150820,1003,  75.7749,-171.3739,     1717,    121.8,  -1.3632,  32.4536,2,  32.4864,2,    300.5,2,    301.1,2,    26.43,2,    12.76,2,     0.00,2,     1.66,2,    6.338,2,    3.360,2,    0.463,2,    2.363,2,     -999,9,   2236.6,2,   7.5036,2,    25.00,     61.0,2,     -999,9,     -999,9,     -999,9,  -1.3634,2,     -999,9,     -999,9,     -999,    13.04,2,     -999,1,     -999,9,     -999,     -999,9,20150820,1110,    120.5,  75.7758,-171.4073,     -999,9,  32.6395,2
33HQ20150809  ,ARC01      ,12      ,  3,20         ,    6092,    -999,GSNIS-20   ,2,20150820,1003,  75.7749,-171.3739,     1717,    136.7,  -1.4946,  32.6108,2,  32.6253,2,    297.0,2,    301.7,2,    29.36,2,    13.68,2,     0.00,2,     1.69,2,    6.292,2,    3.432,2,    0.481,2,    2.664,2,     -999,9,     -999,9,     -999,9,     -999,     -999,9,     -999,9,     -999,9,     -999,9,  -1.5000,2,     -999,9,     -999,9,     -999,     -999,9,     -999,1,     -999,9,     -999,     -999,9,20150820,1108,    135.3,  75.7757,-171.4063,     -999,9,  32.7791,2
33HQ20150809  ,ARC01      ,12      ,  3,19         ,    6092,    -999,GSNIS-19   ,2,20150820,1003,  75.7749,-171.3739,     1717,    156.9,  -1.5918,  32.8120,2,  32.8215,2,    287.2,2,    296.7,2,    33.08,2,    15.04,2,     0.00,2,     1.79,2,    6.232,2,    3.372,2,    0.474,2,    2.629,2,   2196.3,2,   2251.2,2,   7.4764,2,    25.00,     61.4,2,     -999,9,     -999,9,     -999,9,  -1.5883,2,     -999,9,     -999,9,     -999,    14.37,2,     -999,1,     -999,9,     -999,     -999,9,20150820,1106,    155.2,  75.7757,-171.4054,     -999,9,  32.9762,2
33HQ20150809  ,ARC01      ,12      ,  3,18         ,    6092,    -999,GSNIS-18   ,2,20150820,1003,  75.7749,-171.3739,     1717,    177.3,  -1.4980,  33.0857,2,  33.0975,2,    277.7,2,    278.2,2,    34.05,2,    15.71,2,     0.00,2,     1.84,2,    6.107,2,    3.200,2,    0.415,2,    2.222,2,     -999,9,     -999,9,     -999,9,     -999,     -999,9,     -999,9,     -999,9,     -999,9,  -1.4978,2,     -999,9,     -999,9,     -999,     -999,9,     -999,1,     -999,9,     -999,     -999,9,20150820,1104,    175.4,  75.7756,-171.4046,     -999,9,  33.2536,2
33HQ20150809  ,ARC01      ,12      ,  3,17         ,    6092,    -999,GSNIS-17   ,2,20150820,1003,  75.7749,-171.3739,     1717,    197.5,  -1.3584,  33.3899,2,  33.4227,2,    279.6,2,    277.7,2,    30.62,2,    14.86,2,     0.00,2,     1.66,2,    5.954,2,    3.100,2,    0.399,2,    1.791,2,     -999,9,   2276.6,2,   7.4821,2,    25.00,     60.7,2,     -999,9,     -999,9,     -999,9,  -1.3587,2,     -999,9,     -999,9,     -999,    15.73,2,     -999,1,     -999,9,     -999,     -999,9,20150820,1102,    195.4,  75.7755,-171.4038,     -999,9,  33.5803,2
33HQ20150809  ,ARC01      ,12      ,  3,16         ,    6092,    -999,GSNIS-16   ,2,20150820,1003,  75.7749,-171.3739,     1717,    217.3,  -1.0381,  33.8590,2,  33.8726,2,    272.9,2,    271.9,2,    23.96,2,    13.85,2,     0.00,2,     1.40,2,    5.756,2,    2.865,2,    0.374,2,    1.422,2,     -999,9,     -999,9,     -999,9,     -999,     -999,9,     -999,9,     -999,9,     -999,9,  -1.0396,2,     -999,9,     -999,9,     -999,     -999,9,     -999,1,     -999,9,     -999,     -999,9,20150820,1100,    215.0,  75.7755,-171.4030,     -999,9,  34.0323,2
33HQ20150809  ,ARC01      ,12      ,  3,15         ,    6092,    -999,GSNIS-15   ,2,20150820,1003,  75.7749,-171.3739,     1717,    238.0,  -0.6512,  34.2348,2,  34.2918,2,    277.8,2,    275.3,3,    15.45,2,    12.65,2,     0.00,2,     1.09,2,    5.712,2,    2.792,2,    0.366,2,    1.212,2,     -999,9,   2282.3,2,   7.5914,2,    25.00,     58.7,2,     -999,9,     -999,9,     -999,9,  -0.6502,2,     -999,9,     -999,9,     -999,    11.31,2,     -999,1,     -999,9,     -999,     -999,9,20150820,1058,    235.3,  75.7754,-171.4022,     -999,9,  34.4535,2
33HQ20150809  ,ARC01      ,12      ,  3,14         ,    6092,    -999,GSNIS-14   ,2,20150820,1003,  75.7749,-171.3739,     1717,    288.4,   0.1640,  34.6122,2,  34.6116,2,    267.9,2,    272.5,2,    12.71,2,    12.85,2,     0.00,2,     0.99,2,    5.538,2,    2.706,2,    0.361,2,    1.199,2,     -999,9,     -999,9,     -999,9,     -999,     54.7,2,     -999,9,     -999,9,     -999,9,   0.1633,2,     -999,9,     -999,9,     -999,    12.10,2,     -999,1,     -999,9,     -999,     -999,9,20150820,1055,    285.2,  75.7754,-171.4013,     -999,9,  34.7748,2
33HQ20150809  ,ARC01      ,12      ,  3,13         ,    6092,    -999,GSNIS-13   ,2,20150820,1003,  75.7749,-171.3739,     1717,    339.4,   0.6428,  34.7602,2,  34.7608,2,    288.7,2,    284.9,2,     7.72,2,    12.54,2,     0.00,2,     0.88,2,    5.633,2,    2.800,2,    0.394,2,    1.369,2,   2162.5,2,   2292.5,6,   7.6759,2,    25.00,     52.2,2,     -999,9,     -999,9,     -999,9,   0.6430,2,     -999,9,     -999,9,     -999,    10.86,2,     -999,1,     -999,9,     -999,     -999,9,20150820,1053,    335.6,  75.7754,-171.4004,     -999,9,  34.9247,2
33HQ20150809  ,ARC01      ,12      ,  3,12         ,    6092,    -999,GSNIS-12   ,2,20150820,1003,  75.7749,-171.3739,     1717,    389.8,   0.8061,  34.8065,2,  34.8104,2,    291.5,2,    290.7,2,     6.55,2,    12.41,2,     0.00,2,     0.86,2,    5.552,2,    2.794,2,    0.397,2,    1.319,2,   2160.2,6,   2294.5,2,   7.6903,2,    25.00,     53.8,2,     -999,9,     -999,9,     -999,9,   0.8060,2,     -999,9,     -999,9,     -999,    11.74,2,     -999,1,     -999,9,     -999,     -999,9,20150820,1051,    385.4,  75.7753,-171.3995,     -999,9,  34.9745,2
33HQ20150809  ,ARC01      ,12      ,  3,11         ,    6092,    -999,GSNIS-11   ,2,20150820,1003,  75.7749,-171.3739,     1717,    440.8,   0.9003,  34.8355,2,  34.8349,2,    293.9,2,    293.2,2,     6.16,2,    12.41,2,     0.00,2,     0.85,2,    5.513,2,    2.748,2,    0.403,2,    1.234,2,     -999,9,     -999,9,     -999,9,     -999,     54.2,2,     -999,9,     -999,9,     -999,9,   0.9007,2,     -999,9,     -999,9,     -999,    10.39,2,     -999,1,     -999,9,     -999,     -999,9,20150820,1048,    435.7,  75.7753,-171.3986,     -999,9,  34.9992,2
33HQ20150809  ,ARC01      ,12      ,  3,10         ,    6092,    -999,GSNIS-10   ,2,20150820,1003,  75.7749,-171.3739,     1717,    491.1,   0.9066,  34.8474,2,  34.8457,2,    295.5,2,    295.5,2,     6.16,2,    12.34,2,     0.00,2,     0.85,2,    5.483,2,    2.729,2,    0.391,2,    1.342,2,     -999,9,     -999,9,     -999,9,     -999,     52.7,2,     -999,9,     -999,9,     -999,9,   0.9065,2,     -999,9,     -999,9,     -999,    11.02,2,     -999,1,     -999,9,     -999,     -999,9,20150820,1045,    485.4,  75.7753,-171.3977,     -999,9,  35.0100,2
33HQ20150809  ,ARC01      ,12      ,  3,9          ,    6092,    -999,GSNIS-9    ,2,20150820,1003,  75.7749,-171.3739,     1717,    541.7,   0.7836,  34.8538,2,  34.8551,2,    296.5,2,    297.6,2,     6.16,2,    12.40,2,     0.00,2,     0.84,2,    5.399,2,    2.634,2,    0.372,2,    1.297,2,   2162.4,2,   2296.5,2,   7.6980,2,    25.00,     51.8,2,     -999,9,     -999,9,     -999,9,   0.7840,2,     -999,9,     -999,9,     -999,    11.25,2,     -999,9,     -999,9,     -999,     -999,9,20150820,1043,    535.3,  75.7753,-171.3966,     -999,9,  35.0195,2
33HQ20150809  ,ARC01      ,12      ,  3,8          ,    6092,    -999,GSNIS-8    ,2,20150820,1003,  75.7749,-171.3739,     1717,    608.3,   0.6180,  34.8569,2,  34.8571,2,    298.1,2,    298.6,2,     6.16,2,    12.36,2,     0.00,2,     0.85,2,    5.335,2,    2.645,2,    0.369,2,    1.211,2,     -999,9,     -999,9,     -999,9,     -999,     52.1,2,     -999,9,     -999,9,     -999,9,   0.6189,2,     -999,9,     -999,9,     -999,    10.15,2,     -999,9,     -999,9,     -999,     -999,9,20150820,1039,    601.1,  75.7753,-171.3954,     -999,9,  35.0215,2
33HQ20150809  ,ARC01      ,12      ,  3,7          ,    6092,    -999,GSNIS-7    ,2,20150820,1003,  75.7749,-171.3739,     1717,    709.7,   0.4233,  34.8630,2,  34.8665,4,    299.9,2,    300.2,2,     6.06,2,    12.22,2,     0.00,2,     0.86,2,    5.231,2,    2.593,2,    0.362,2,    1.302,2,     -999,9,     -999,9,     -999,9,     -999,     51.1,2,     -999,9,     -999,9,     -999,9,   0.4234,2,     -999,9,     -999,9,     -999,    10.66,2,     -999,9,     -999,9,     -999,     -999,9,20150820,1036,    701.1,  75.7752,-171.3936,     -999,9,  35.0309,4
33HQ20150809  ,ARC01      ,12      ,  3,6          ,    6092,    -999,GSNIS-6    ,2,20150820,1003,  75.7749,-171.3739,     1717,    861.7,   0.1309,  34.8659,2,  34.8665,2,    303.1,2,    302.8,2,     6.06,2,    12.22,2,     0.00,2,     0.85,2,    5.205,2,    2.608,2,    0.361,2,    1.244,2,     -999,9,   2295.9,2,   7.6898,2,    25.00,     50.5,2,     -999,9,     -999,9,     -999,9,   0.1312,2,     -999,9,     -999,9,     -999,    10.12,2,     -999,9,     -999,9,     -999,     -999,9,20150820,1031,    850.9,  75.7752,-171.3909,     -999,9,  35.0309,2
33HQ20150809  ,ARC01      ,12      ,  3,5          ,    6092,    -999,GSNIS-5    ,2,20150820,1003,  75.7749,-171.3739,     1717,   1013.8,  -0.0547,  34.8745,2,  34.8745,2,    304.4,2,    303.9,2,     6.25,2,    12.22,2,     0.00,2,     0.87,2,    5.034,2,    2.530,2,    0.349,2,    1.200,2,     -999,9,     -999,9,     -999,9,     -999,     53.0,2,     -999,9,     -999,9,     -999,9,  -0.0548,2,     -999,9,     -999,9,     -999,    11.38,2,     -999,9,     -999,9,     -999,     -999,9,20150820,1027,   1000.8,  75.7751,-171.3881,     -999,9,  35.0390,2
33HQ20150809  ,ARC01      ,12      ,  3,4          ,    6092,    -999,GSNIS-4    ,2,20150820,1003,  75.7749,-171.3739,     1717,   1216.7,  -0.2130,  34.8879,2,  34.8904,2,    304.9,2,    305.0,2,     6.84,2,    12.42,2,     0.00,2,     0.88,2,    4.601,2,    2.301,2,    0.321,2,    1.258,2,     -999,9,     -999,9,     -999,9,     -999,     55.5,2,     -999,9,     -999,9,     -999,9,  -0.2126,2,     -999,9,     -999,9,     -999,     9.15,2,     -999,9,     -999,9,     -999,     -999,9,20150820,1022,   1200.5,  75.7750,-171.3850,     -999,9,  35.0550,2