BOTTLE,20221220CCHSIOAMB
EXPOCODE,SECT_ID,STNNBR,CASTNO,SAMPNO,GEOTR_EVENT,GEOTR_SAMPNO,BTLNBR,BTLNBR_FLAG_W,DATE,TIME,LATITUDE,LONGITUDE,DEPTH,CTDPRS,CTDTMP,CTDSAL,CTDSAL_FLAG_W,SALNTY,SALNTY_FLAG_W,CTDOXY,CTDOXY_FLAG_W,OXYGEN,OXYGEN_FLAG_W,SILCAT,SILCAT_FLAG_W,NITRAT,NITRAT_FLAG_W,NITRIT,NITRIT_FLAG_W,PHSPHT,PHSPHT_FLAG_W,CFC-11,CFC-11_FLAG_W,CFC-12,CFC-12_FLAG_W,CFC113,CFC113_FLAG_W,SF6,SF6_FLAG_W,TCARBN,TCARBN_FLAG_W,ALKALI,ALKALI_FLAG_W,PH_SWS,PH_SWS_FLAG_W,PH_TMP,DOC,DOC_FLAG_W,TRITUM,TRITUM_FLAG_W,HELIUM,HELIUM_FLAG_W,DELHE3,DELHE3_FLAG_W,REFTMP,REFTMP_FLAG_W,DELC13,DELC13_FLAG_W,DELC14,DELC14_FLAG_W,C14ERR,TDN,TDN_FLAG_W,DELO18,DELO18_FLAG_W,DELO17,DELO17_FLAG_W,CH4,CH4,CH4_FLAG_W,BTL_DATE,BTL_TIME,CTDDEPTH,BTL_LAT,BTL_LON,LAB_DEN,LAB_DEN_FLAG_W,SALTREF,SALTREF_FLAG_W
,,,,,,,,,,,,,METERS,DBAR,ITS-90,PSS-78,,PSS-78,,UMOL/KG,,UMOL/KG,,UMOL/KG,,UMOL/KG,,UMOL/KG,,UMOL/KG,,PMOL/KG,,PMOL/KG,,PMOL/KG,,FMOL/KG,,UMOL/KG,,UMOL/KG,,,,DEG C,UMOL/KG,,TU,,NMOL/KG,,PERCNT,,ITS-90,,/MILLE,,/MILLE,,/MILLE,UMOL/KG,,/MILLE,,/MILLE,,NMOL/KG,NMOL/L,,,,METERS,,,KG/M^3,,G/KG,
33HQ20150809  ,ARC01      ,1       ,  5,14         ,    6013,   10527,UWAY       ,2,20150813,0402,  60.1782,-179.1145,      693,      0.5,     -999,     -999,9,  32.8207,2,     -999,9,     -999,9,     -999,9,     -999,9,     -999,9,     -999,9,     -999,9,     -999,9,     -999,9,     -999,9,     -999,9,     -999,9,     -999,9,     -999,     -999,9,     -999,9,     -999,9,     -999,9,     -999,9,     -999,9,     -999,9,     -999,     -999,9,     -999,9,     -999,9,     -999,     -999,9,20150813,0402,      0.5,  60.1782,-179.1145,     -999,9,  32.9755,2
33HQ20150809  ,ARC01      ,1       ,  5,12         ,    6013,   10526,NIS-12     ,2,20150813,0402,  60.1782,-179.1145,      693,      4.8,  10.0982,  32.8180,2,  32.8197,2,    291.2,2,    290.3,2,     4.89,2,     9.84,2,     0.16,2,     1.09,2,     -999,9,     -999,9,     -999,9,     -999,9,     -999,9,     -999,9,     -999,9,     -999,     -999,9,     -999,9,     -999,9,     -999,9,  10.0907,2,     -999,9,     -999,9,     -999,     -999,9,     -999,9,     -999,9,     -999,     -999,9,20150813,0430,      4.7,  60.1858,-179.1064,     -999,9,  32.9744,2
33HQ20150809  ,ARC01      ,1       ,  5,11         ,    6013,   10525,NIS-11     ,2,20150813,0402,  60.1782,-179.1145,      693,     21.6,  10.0158,  32.8351,2,  32.8381,2,    290.9,2,    290.7,2,     4.79,2,     9.74,2,     0.16,2,     1.09,2,     -999,9,     -999,9,     -999,9,     -999,9,     -999,9,     -999,9,     -999,9,     -999,     -999,9,     -999,9,     -999,9,     -999,9,  10.0145,2,     -999,9,     -999,9,     -999,     -999,9,     -999,9,     -999,9,     -999,     -999,9,20150813,0428,     21.4,  60.1852,-179.1075,     -999,9,  32.9929,2
33HQ20150809  ,ARC01      ,1       ,  5,10         ,    6013,   10524,NIS-10     ,3,20150813,0402,  60.1782,-179.1145,      693,     36.7,   6.5176,  32.9151,2,  32.9196,2,    313.1,2,    314.9,2,     6.94,2,    11.53,2,     0.19,2,     1.27,2,     -999,9,     -999,9,     -999,9,     -999,9,     -999,9,     -999,9,     -999,9,     -999,     -999,9,     -999,9,     -999,9,     -999,9,   6.6459,4,     -999,9,     -999,9,     -999,     -999,9,     -999,9,     -999,9,     -999,     -999,9,20150813,0426,     36.3,  60.1848,-179.1082,     -999,9,  33.0749,2
33HQ20150809  ,ARC01      ,1       ,  5,9          ,    6013,   10523,NIS-9      ,3,20150813,0402,  60.1782,-179.1145,      693,     46.4,   4.4524,  32.9658,2,  32.9683,2,    314.6,2,    316.1,2,    18.67,2,    15.34,2,     0.29,2,     1.69,2,     -999,9,     -999,9,     -999,9,     -999,9,     -999,9,     -999,9,     -999,9,     -999,     -999,9,     -999,9,     -999,9,     -999,9,   4.3262,4,     -999,9,     -999,9,     -999,     -999,9,     -999,9,     -999,9,     -999,     -999,9,20150813,0425,     45.9,  60.1844,-179.1088,     -999,9,  33.1237,2
33HQ20150809  ,ARC01      ,1       ,  5,8          ,    6013,   10522,NIS-8      ,2,20150813,0402,  60.1782,-179.1145,      693,     58.1,   3.1368,  33.0020,2,  33.0037,2,    319.3,2,    317.8,2,    32.74,2,    18.64,2,     0.36,2,     1.94,2,     -999,9,     -999,9,     -999,9,     -999,9,     -999,9,     -999,9,     -999,9,     -999,     -999,9,     -999,9,     -999,9,     -999,9,   3.1329,2,     -999,9,     -999,9,     -999,     -999,9,     -999,9,     -999,9,     -999,     -999,9,20150813,0424,     57.5,  60.1840,-179.1093,     -999,9,  33.1593,2
33HQ20150809  ,ARC01      ,1       ,  5,7          ,    6013,   10521,NIS-7      ,2,20150813,0402,  60.1782,-179.1145,      693,     91.3,   2.8093,  33.0501,2,  33.0517,2,    321.5,2,    307.8,3,    43.68,2,    24.93,2,     0.14,2,     2.07,2,     -999,9,     -999,9,     -999,9,     -999,9,     -999,9,     -999,9,     -999,9,     -999,     -999,9,     -999,9,     -999,9,     -999,9,   2.8080,2,     -999,9,     -999,9,     -999,     -999,9,     -999,9,     -999,9,     -999,     -999,9,20150813,0422,     90.4,  60.1835,-179.1100,     -999,9,  33.2075,2
33HQ20150809  ,ARC01      ,1       ,  5,6          ,    6013,   10520,NIS-6      ,2,20150813,0402,  60.1782,-179.1145,      693,    133.2,   2.7797,  33.1074,2,  33.1115,2,    291.9,2,    294.3,2,    48.57,2,    26.83,2,     0.02,2,     2.13,2,     -999,9,     -999,9,     -999,9,     -999,9,     -999,9,     -999,9,     -999,9,     -999,     -999,9,     -999,9,     -999,9,     -999,9,   2.7941,2,     -999,9,     -999,9,     -999,     -999,9,     -999,9,     -999,9,     -999,     -999,9,20150813,0420,    131.9,  60.1829,-179.1106,     -999,9,  33.2676,2
33HQ20150809  ,ARC01      ,1       ,  5,5          ,    6013,   10519,NIS-5      ,2,20150813,0402,  60.1782,-179.1145,      693,    286.8,   3.8624,  33.6230,2,  33.6238,2,    114.5,2,    112.6,2,    83.62,2,    38.00,2,     0.03,2,     2.80,2,     -999,9,     -999,9,     -999,9,     -999,9,     -999,9,     -999,9,     -999,9,     -999,     -999,9,     -999,9,     -999,9,     -999,9,   3.8609,2,     -999,9,     -999,9,     -999,     -999,9,     -999,9,     -999,9,     -999,     -999,9,20150813,0415,    283.9,  60.1817,-179.1127,     -999,9,  33.7823,2
33HQ20150809  ,ARC01      ,1       ,  5,4          ,    6013,   10518,NIS-4      ,3,20150813,0402,  60.1782,-179.1145,      693,    411.9,   3.8030,  33.8652,2,  33.8650,2,     57.4,2,     57.8,2,    98.94,2,    41.66,2,     0.01,2,     3.03,2,     -999,9,     -999,9,     -999,9,     -999,9,     -999,9,     -999,9,     -999,9,     -999,     -999,9,     -999,9,     -999,9,     -999,9,   3.8029,2,     -999,9,     -999,9,     -999,     -999,9,     -999,9,     -999,9,     -999,     -999,9,20150813,0412,    407.7,  60.1808,-179.1144,     -999,9,  34.0246,2
33HQ20150809  ,ARC01      ,1       ,  5,3          ,    6013,   10517,NIS-3      ,2,20150813,0402,  60.1782,-179.1145,      693,    514.5,   3.7002,  33.9887,2,  33.9873,2,     33.1,2,     35.6,2,   108.01,2,    42.95,2,     0.01,2,     3.12,2,     -999,9,     -999,9,     -999,9,     -999,9,     -999,9,     -999,9,     -999,9,     -999,     -999,9,     -999,9,     -999,9,     -999,9,   3.6984,2,     -999,9,     -999,9,     -999,     -999,9,     -999,9,     -999,9,     -999,     -999,9,20150813,0410,    509.0,  60.1801,-179.1151,     -999,9,  34.1476,2
33HQ20150809  ,ARC01      ,1       ,  5,2          ,    6013,   10516,NIS-2      ,3,20150813,0402,  60.1782,-179.1145,      693,    612.8,   3.5343,  34.1135,2,  34.1050,2,     20.9,2,     21.5,2,   119.13,2,    43.73,2,     0.01,2,     3.16,2,     -999,9,     -999,9,     -999,9,     -999,9,     -999,9,     -999,9,     -999,9,     -999,     -999,9,     -999,9,     -999,9,     -999,9,   3.5410,2,     -999,9,     -999,9,     -999,     -999,9,     -999,9,     -999,9,     -999,     -999,9,20150813,0405,    606.1,  60.1794,-179.1145,     -999,9,  34.2658,2
33HQ20150809  ,ARC01      ,1       ,  5,1          ,    6013,   10515,NIS-1      ,2,20150813,0402,  60.1782,-179.1145,      693,    686.0,   3.4418,  34.1497,2,  34.1494,2,     17.6,2,     19.0,2,   126.26,2,    43.66,2,     0.02,2,     3.17,2,     -999,9,     -999,9,     -999,9,     -999,9,     -999,9,     -999,9,     -999,9,     -999,     -999,9,     -999,9,     -999,9,     -999,9,   3.4398,2,     -999,9,     -999,9,     -999,     -999,9,     -999,9,     -999,9,     -999,     -999,9,20150813,0402,    678.4,  60.1782,-179.1145,     -999,9,  34.3104,2
33HQ20150809  ,ARC01      ,1       ,  7,12         ,    6016,   10528,NIS-12     ,3,20150813,0802,  60.1687,-179.0186,      583,      4.9,   9.9901,  32.9192,2,  32.9197,2,    287.1,2,    289.0,2,     4.01,2,     9.90,2,     0.15,2,     1.10,2,     -999,9,     -999,9,     -999,9,     -999,9,     -999,9,     -999,9,     -999,9,     -999,     -999,9,     -999,9,     -999,9,     -999,9,   9.9897,2,     -999,9,     -999,9,     -999,     -999,9,     -999,9,     -999,9,     -999,     -999,9,20150813,0833,      4.9,  60.1770,-179.0086,     -999,9,  33.0750,2
33HQ20150809  ,ARC01      ,1       ,  7,11         ,    6016,   10529,NIS-11     ,2,20150813,0802,  60.1687,-179.0186,      583,      5.1,   9.9900,  32.9192,2,  32.9193,2,    287.1,2,    288.8,2,     4.01,2,     9.90,2,     0.15,2,     1.10,2,     -999,9,     -999,9,     -999,9,     -999,9,     -999,9,     -999,9,     -999,9,     -999,     -999,9,     -999,9,     -999,9,     -999,9,   9.9898,2,     -999,9,     -999,9,     -999,     -999,9,     -999,9,     -999,9,     -999,     -999,9,20150813,0832,      5.1,  60.1770,-179.0087,     -999,9,  33.0746,2
33HQ20150809  ,ARC01      ,1       ,  7,10         ,    6016,   10530,NIS-10     ,2,20150813,0802,  60.1687,-179.0186,      583,     24.2,   9.8669,  32.9185,2,  32.9195,2,    287.4,2,    289.3,2,     4.01,2,     9.91,2,     0.15,2,     1.11,2,     -999,9,     -999,9,     -999,9,     -999,9,     -999,9,     -999,9,     -999,9,     -999,     -999,9,     -999,9,     -999,9,     -999,9,   9.8637,2,     -999,9,     -999,9,     -999,     -999,9,     -999,9,     -999,9,     -999,     -999,9,20150813,0830,     24.0,  60.1765,-179.0099,     -999,9,  33.0748,2
33HQ20150809  ,ARC01      ,1       ,  7,9          ,    6016,   10531,NIS-9      ,3,20150813,0802,  60.1687,-179.0186,      583,     24.2,   9.8510,  32.9182,2,  32.9199,2,    287.4,2,    289.7,2,     4.01,2,     9.94,2,     0.15,2,     1.10,2,     -999,9,     -999,9,     -999,9,     -999,9,     -999,9,     -999,9,     -999,9,     -999,     -999,9,     -999,9,     -999,9,     -999,9,   9.8597,2,     -999,9,     -999,9,     -999,     -999,9,     -999,9,     -999,9,     -999,     -999,9,20150813,0830,     24.0,  60.1764,-179.0100,     -999,9,  33.0751,2
33HQ20150809  ,ARC01      ,1       ,  7,7          ,    6016,   10533,NIS-7      ,2,20150813,0802,  60.1687,-179.0186,      583,     44.1,   4.6677,  32.9201,2,  32.9234,2,    317.4,2,    320.5,2,    17.49,2,    15.44,2,     0.30,2,     1.58,2,     -999,9,     -999,9,     -999,9,     -999,9,     -999,9,     -999,9,     -999,9,     -999,     -999,9,     -999,9,     -999,9,     -999,9,   4.6376,4,     -999,9,     -999,9,     -999,     -999,9,     -999,9,     -999,9,     -999,     -999,9,20150813,0827,     43.7,  60.1758,-179.0113,     -999,9,  33.0786,2
33HQ20150809  ,ARC01      ,1       ,  7,8          ,    6016,   10532,NIS-8      ,2,20150813,0802,  60.1687,-179.0186,      583,     44.3,   4.7556,  32.9200,2,  32.9203,2,    317.4,2,    321.5,2,    16.61,2,    15.42,2,     0.28,2,     1.58,2,     -999,9,     -999,9,     -999,9,     -999,9,     -999,9,     -999,9,     -999,9,     -999,     -999,9,     -999,9,     -999,9,     -999,9,   4.7412,4,     -999,9,     -999,9,     -999,     -999,9,     -999,9,     -999,9,     -999,     -999,9,20150813,0828,     43.8,  60.1758,-179.0112,     -999,9,  33.0755,2
33HQ20150809  ,ARC01      ,1       ,  7,6          ,    6016,   10534,NIS-6      ,2,20150813,0802,  60.1687,-179.0186,      583,     74.2,   3.1929,  33.0167,2,  33.0160,2,    305.8,2,     -999,5,    37.33,2,    22.09,2,     0.16,2,     1.96,2,     -999,9,     -999,9,     -999,9,     -999,9,     -999,9,     -999,9,     -999,9,     -999,     -999,9,     -999,9,     -999,9,     -999,9,   3.1887,2,     -999,9,     -999,9,     -999,     -999,9,     -999,9,     -999,9,     -999,     -999,9,20150813,0824,     73.5,  60.1750,-179.0125,     -999,9,  33.1717,2
33HQ20150809  ,ARC01      ,1       ,  7,5          ,    6016,   10535,NIS-5      ,2,20150813,0802,  60.1687,-179.0186,      583,     74.6,   3.1897,  33.0169,2,  33.0158,2,    307.0,2,    307.7,2,    37.43,2,    22.10,2,     0.16,2,     1.97,2,     -999,9,     -999,9,     -999,9,     -999,9,     -999,9,     -999,9,     -999,9,     -999,     -999,9,     -999,9,     -999,9,     -999,9,   3.1889,2,     -999,9,     -999,9,     -999,     -999,9,     -999,9,     -999,9,     -999,     -999,9,20150813,0824,     73.9,  60.1750,-179.0125,     -999,9,  33.1715,2
33HQ20150809  ,ARC01      ,1       ,  7,4          ,    6016,   10536,NIS-4      ,2,20150813,0802,  60.1687,-179.0186,      583,    152.4,   2.1004,  33.0794,2,  33.0799,2,    313.9,2,    305.7,2,    47.00,2,    26.33,2,     0.01,2,     2.05,2,     -999,9,     -999,9,     -999,9,     -999,9,     -999,9,     -999,9,     -999,9,     -999,     -999,9,     -999,9,     -999,9,     -999,9,   2.0992,2,     -999,9,     -999,9,     -999,     -999,9,     -999,9,     -999,9,     -999,     -999,9,20150813,0820,    150.9,  60.1737,-179.0141,     -999,9,  33.2359,2
33HQ20150809  ,ARC01      ,1       ,  7,3          ,    6016,   10537,NIS-3      ,2,20150813,0802,  60.1687,-179.0186,      583,    152.4,   2.0988,  33.0795,2,  33.0797,2,    313.9,2,    305.6,2,    47.00,2,    26.34,2,     0.02,2,     2.07,2,     -999,9,     -999,9,     -999,9,     -999,9,     -999,9,     -999,9,     -999,9,     -999,     -999,9,     -999,9,     -999,9,     -999,9,   2.0996,2,     -999,9,     -999,9,     -999,     -999,9,     -999,9,     -999,9,     -999,     -999,9,20150813,0820,    150.9,  60.1737,-179.0141,     -999,9,  33.2357,2
33HQ20150809  ,ARC01      ,1       ,  7,2          ,    6016,   10538,NIS-2      ,3,20150813,0802,  60.1687,-179.0186,      583,    451.0,   3.7659,  33.8734,2,  33.8690,2,     52.4,2,     58.4,2,   102.45,2,    42.03,2,     0.03,2,     3.01,2,     -999,9,     -999,9,     -999,9,     -999,9,     -999,9,     -999,9,     -999,9,     -999,     -999,9,     -999,9,     -999,9,     -999,9,   3.7655,2,     -999,9,     -999,9,     -999,     -999,9,     -999,9,     -999,9,     -999,     -999,9,20150813,0812,    446.3,  60.1717,-179.0161,     -999,9,  34.0287,2
33HQ20150809  ,ARC01      ,1       ,  7,1          ,    6016,   10539,NIS-1      ,2,20150813,0802,  60.1687,-179.0186,      583,    451.4,   3.7659,  33.8734,2,  34.9872,4,     52.2,2,     56.2,2,   102.35,2,    42.05,2,     0.03,2,     3.00,2,     -999,9,     -999,9,     -999,9,     -999,9,     -999,9,     -999,9,     -999,9,     -999,     -999,9,     -999,9,     -999,9,     -999,9,   3.7660,2,     -999,9,     -999,9,     -999,     -999,9,     -999,9,     -999,9,     -999,     -999,9,20150813,0812,    446.7,  60.1717,-179.0161,     -999,9,  35.1522,4
33HQ20150809  ,ARC01      ,1       ,  7,13         ,    6016,   10540,CORER      ,9,20150813,0802,  60.1687,-179.0186,      583,    583.4,     -999,     -999,9,     -999,9,     -999,9,     -999,9,     -999,9,     -999,9,     -999,9,     -999,9,     -999,9,     -999,9,     -999,9,     -999,9,     -999,9,     -999,9,     -999,9,     -999,     -999,9,     -999,9,     -999,9,     -999,9,     -999,9,     -999,9,     -999,9,     -999,     -999,9,     -999,9,     -999,9,     -999,     -999,9,20150813,0802,    577.1,  60.1687,-179.0186,     -999,9,     -999,9