BOTTLE,20221220CCHSIOAMB
EXPOCODE,SECT_ID,STNNBR,CASTNO,SAMPNO,GEOTR_EVENT,GEOTR_SAMPNO,BTLNBR,BTLNBR_FLAG_W,DATE,TIME,LATITUDE,LONGITUDE,DEPTH,CTDPRS,CTDTMP,CTDSAL,CTDSAL_FLAG_W,SALNTY,SALNTY_FLAG_W,CTDOXY,CTDOXY_FLAG_W,OXYGEN,OXYGEN_FLAG_W,SILCAT,SILCAT_FLAG_W,NITRAT,NITRAT_FLAG_W,NITRIT,NITRIT_FLAG_W,PHSPHT,PHSPHT_FLAG_W,CFC-11,CFC-11_FLAG_W,CFC-12,CFC-12_FLAG_W,CFC113,CFC113_FLAG_W,SF6,SF6_FLAG_W,TCARBN,TCARBN_FLAG_W,ALKALI,ALKALI_FLAG_W,PH_SWS,PH_SWS_FLAG_W,PH_TMP,DOC,DOC_FLAG_W,TRITUM,TRITUM_FLAG_W,HELIUM,HELIUM_FLAG_W,DELHE3,DELHE3_FLAG_W,REFTMP,REFTMP_FLAG_W,DELC13,DELC13_FLAG_W,DELC14,DELC14_FLAG_W,C14ERR,TDN,TDN_FLAG_W,DELO18,DELO18_FLAG_W,DELO17,DELO17_FLAG_W,CH4,CH4,CH4_FLAG_W,BTL_DATE,BTL_TIME,CTDDEPTH,BTL_LAT,BTL_LON,LAB_DEN,LAB_DEN_FLAG_W,SALTREF,SALTREF_FLAG_W
,,,,,,,,,,,,,METERS,DBAR,ITS-90,PSS-78,,PSS-78,,UMOL/KG,,UMOL/KG,,UMOL/KG,,UMOL/KG,,UMOL/KG,,UMOL/KG,,PMOL/KG,,PMOL/KG,,PMOL/KG,,FMOL/KG,,UMOL/KG,,UMOL/KG,,,,DEG C,UMOL/KG,,TU,,NMOL/KG,,PERCNT,,ITS-90,,/MILLE,,/MILLE,,/MILLE,UMOL/KG,,/MILLE,,/MILLE,,NMOL/KG,NMOL/L,,,,METERS,,,KG/M^3,,G/KG,
33HQ20150809  ,ARC01      ,56      ,  1,34         ,    6421,   12043,GSNIS-34   ,2,20150929,1353,  75.0053,-149.8595,     3829,    607.6,   0.5918,  34.8505,2,  34.8513,2,    292.8,2,    294.8,2,     6.94,2,    12.55,2,     0.00,2,     0.84,2,    4.264,2,    2.026,2,    0.246,2,    0.614,2,   2157.0,2,   2296.2,2,   7.7093,2,    25.00,     51.5,2,     -999,1,     -999,1,     -999,1,   0.5911,2,     0.89,2,     -999,1,     -999,    15.83,2,     -999,1,     -999,9,     -999,     -999,1,20150929,1521,    600.5,  75.0218,-149.8362,     -999,9,  35.0156,2
33HQ20150809  ,ARC01      ,56      ,  1,36         ,    6421,   12043,GSNIS-36   ,2,20150929,1353,  75.0053,-149.8595,     3829,    608.2,   0.5911,  34.8505,2,     -999,9,    292.8,2,     -999,9,     6.94,2,    12.56,2,     0.00,2,     0.87,2,     -999,9,     -999,9,     -999,9,     -999,9,     -999,9,     -999,9,     -999,9,     -999,     -999,9,     -999,9,     -999,9,     -999,9,   0.5907,2,     -999,9,     -999,9,     -999,     -999,9,     -999,9,     -999,9,     -999,     -999,9,20150929,1522,    601.0,  75.0219,-149.8361,     -999,9,     -999,9
33HQ20150809  ,ARC01      ,56      ,  1,35         ,    6421,   12043,GSNIS-35   ,2,20150929,1353,  75.0053,-149.8595,     3829,    608.3,   0.5905,  34.8505,2,     -999,9,    292.8,2,     -999,9,     6.94,2,    12.56,2,     0.00,2,     0.85,2,     -999,9,     -999,9,     -999,9,     -999,9,     -999,9,     -999,9,     -999,9,     -999,     -999,9,     -999,9,     -999,9,     -999,9,   0.5917,2,     -999,9,     -999,9,     -999,     -999,9,     -999,9,     -999,9,     -999,     -999,9,20150929,1522,    601.1,  75.0219,-149.8362,     -999,9,     -999,9
33HQ20150809  ,ARC01      ,56      ,  1,33         ,    6421,   12044,GSNIS-33   ,2,20150929,1353,  75.0053,-149.8595,     3829,    811.5,   0.2679,  34.8640,2,     -999,9,    297.9,2,     -999,9,     7.03,2,    12.47,2,     0.00,2,     0.85,2,     -999,9,     -999,9,     -999,9,     -999,9,     -999,9,     -999,9,     -999,9,     -999,     -999,9,     -999,9,     -999,9,     -999,9,   0.2676,2,     -999,9,     -999,9,     -999,     -999,9,     -999,9,     -999,9,     -999,     -999,9,20150929,1517,    801.5,  75.0209,-149.8380,     -999,9,     -999,9
33HQ20150809  ,ARC01      ,56      ,  1,31         ,    6421,   12044,GSNIS-31   ,2,20150929,1353,  75.0053,-149.8595,     3829,    811.6,   0.2684,  34.8639,2,  34.8643,2,    298.0,2,    297.8,2,     6.94,2,    12.45,2,     0.00,2,     0.85,2,    3.942,2,    1.838,2,    0.213,2,    0.544,2,   2157.1,2,   2297.5,2,   7.7082,2,    25.00,     51.8,2,     -999,1,     -999,1,     -999,1,   0.2682,2,     0.94,2,     -999,1,     -999,    14.50,2,     -999,1,     -999,9,     -999,     -999,1,20150929,1517,    801.6,  75.0208,-149.8381,     -999,9,  35.0287,2
33HQ20150809  ,ARC01      ,56      ,  1,32         ,    6421,   12044,GSNIS-32   ,2,20150929,1353,  75.0053,-149.8595,     3829,    811.9,   0.2678,  34.8639,2,     -999,9,    298.0,2,     -999,9,     6.94,2,    12.47,2,     0.00,2,     0.88,2,     -999,9,     -999,9,     -999,9,     -999,9,     -999,9,     -999,9,     -999,9,     -999,     -999,9,     -999,9,     -999,9,     -999,9,   0.2684,2,     -999,9,     -999,9,     -999,     -999,9,     -999,9,     -999,9,     -999,     -999,9,20150929,1517,    801.9,  75.0208,-149.8381,     -999,9,     -999,9
33HQ20150809  ,ARC01      ,56      ,  1,28         ,    6421,   12045,GSNIS-28   ,2,20150929,1353,  75.0053,-149.8595,     3829,   1014.9,   0.0144,  34.8758,2,  34.8753,2,    300.8,2,    299.7,2,     6.94,2,    12.53,2,     0.00,2,     0.86,2,    3.232,2,    1.496,2,    0.168,2,    0.455,2,   2157.6,2,   2296.8,2,   7.7103,2,    25.00,     52.0,2,     -999,1,     -999,1,     -999,1,   0.0147,2,     0.90,2,     -999,1,     -999,    14.82,2,     -999,1,     -999,9,     -999,     -999,1,20150929,1510,   1001.9,  75.0195,-149.8405,     -999,9,  35.0397,2
33HQ20150809  ,ARC01      ,56      ,  1,30         ,    6421,   12045,GSNIS-30   ,2,20150929,1353,  75.0053,-149.8595,     3829,   1016.4,   0.0123,  34.8760,2,     -999,9,    300.6,2,     -999,9,     6.94,2,    12.51,2,     0.00,2,     0.86,2,     -999,9,     -999,9,     -999,9,     -999,9,     -999,9,     -999,9,     -999,9,     -999,     -999,9,     -999,9,     -999,9,     -999,9,   0.0128,2,     -999,9,     -999,9,     -999,     -999,9,     -999,9,     -999,9,     -999,     -999,9,20150929,1511,   1003.4,  75.0197,-149.8401,     -999,9,     -999,9
33HQ20150809  ,ARC01      ,56      ,  1,29         ,    6421,   12045,GSNIS-29   ,2,20150929,1353,  75.0053,-149.8595,     3829,   1016.5,   0.0131,  34.8759,2,     -999,9,    300.6,2,     -999,9,     6.94,2,    12.52,2,     0.00,2,     0.87,2,     -999,9,     -999,9,     -999,9,     -999,9,     -999,9,     -999,9,     -999,9,     -999,     -999,9,     -999,9,     -999,9,     -999,9,   0.0134,2,     -999,9,     -999,9,     -999,     -999,9,     -999,9,     -999,9,     -999,     -999,9,20150929,1511,   1003.4,  75.0196,-149.8403,     -999,9,     -999,9
33HQ20150809  ,ARC01      ,56      ,  1,25         ,    6421,   12046,GSNIS-25   ,2,20150929,1353,  75.0053,-149.8595,     3829,   1230.6,  -0.1535,  34.8899,2,  34.8891,2,    300.4,2,    299.9,2,     7.33,2,    12.71,2,     0.00,2,     0.88,2,    2.474,2,    1.161,2,    0.127,2,    0.334,2,   2157.6,2,   2293.5,2,   7.7143,2,    25.00,     50.8,2,     -999,1,     -999,1,     -999,1,  -0.1536,2,     1.01,2,     -999,1,     -999,    15.37,2,     -999,1,     -999,9,     -999,     -999,1,20150929,1504,   1214.2,  75.0183,-149.8424,     -999,9,  35.0536,2
33HQ20150809  ,ARC01      ,56      ,  1,26         ,    6421,   12046,GSNIS-26   ,2,20150929,1353,  75.0053,-149.8595,     3829,   1231.0,  -0.1540,  34.8899,2,     -999,9,    300.4,2,     -999,9,     7.43,2,    12.72,2,     0.00,2,     0.88,2,     -999,9,     -999,9,     -999,9,     -999,9,     -999,9,     -999,9,     -999,9,     -999,     -999,9,     -999,9,     -999,9,     -999,9,  -0.1540,2,     -999,9,     -999,9,     -999,     -999,9,     -999,9,     -999,9,     -999,     -999,9,20150929,1505,   1214.7,  75.0184,-149.8423,     -999,9,     -999,9
33HQ20150809  ,ARC01      ,56      ,  1,27         ,    6421,   12046,GSNIS-27   ,2,20150929,1353,  75.0053,-149.8595,     3829,   1232.3,  -0.1545,  34.8899,2,     -999,9,    300.3,2,     -999,9,     7.43,2,    12.71,2,     0.00,2,     0.88,2,     -999,9,     -999,9,     -999,9,     -999,9,     -999,9,     -999,9,     -999,9,     -999,     -999,9,     -999,9,     -999,9,     -999,9,  -0.1543,2,     -999,9,     -999,9,     -999,     -999,9,     -999,9,     -999,9,     -999,     -999,9,20150929,1505,   1215.9,  75.0185,-149.8422,     -999,9,     -999,9
33HQ20150809  ,ARC01      ,56      ,  1,22         ,    6421,   12047,GSNIS-22   ,2,20150929,1353,  75.0053,-149.8595,     3829,   1419.9,  -0.2555,  34.9032,2,  34.9091,2,    299.6,2,    299.5,2,     7.91,2,    12.97,2,     0.00,2,     0.90,2,    1.687,2,    0.805,2,    0.074,2,    0.226,2,   2153.5,2,   2293.9,2,   7.7199,2,    25.00,     52.7,2,     -999,1,     -999,1,     -999,1,  -0.2554,2,     1.06,2,     -999,1,     -999,    15.07,2,     -999,1,     -999,9,     -999,     -999,1,20150929,1458,   1400.4,  75.0171,-149.8447,     -999,9,  35.0737,2
33HQ20150809  ,ARC01      ,56      ,  1,24         ,    6421,   12047,GSNIS-24   ,2,20150929,1353,  75.0053,-149.8595,     3829,   1420.5,  -0.2557,  34.9032,2,     -999,9,    299.3,2,     -999,9,     7.91,2,    12.97,2,     0.00,2,     0.90,2,     -999,9,     -999,9,     -999,9,     -999,9,     -999,9,     -999,9,     -999,9,     -999,     -999,9,     -999,9,     -999,9,     -999,9,  -0.2552,2,     -999,9,     -999,9,     -999,     -999,9,     -999,9,     -999,9,     -999,     -999,9,20150929,1458,   1401.0,  75.0171,-149.8446,     -999,9,     -999,9
33HQ20150809  ,ARC01      ,56      ,  1,23         ,    6421,   12047,GSNIS-23   ,2,20150929,1353,  75.0053,-149.8595,     3829,   1420.7,  -0.2554,  34.9031,2,     -999,9,    299.3,2,     -999,9,     8.01,2,    12.97,2,     0.00,2,     0.89,2,     -999,9,     -999,9,     -999,9,     -999,9,     -999,9,     -999,9,     -999,9,     -999,     -999,9,     -999,9,     -999,9,     -999,9,  -0.2555,2,     -999,9,     -999,9,     -999,     -999,9,     -999,9,     -999,9,     -999,     -999,9,20150929,1458,   1401.1,  75.0171,-149.8446,     -999,9,     -999,9
33HQ20150809  ,ARC01      ,56      ,  1,19         ,    6421,   12048,GSNIS-19   ,2,20150929,1353,  75.0053,-149.8595,     3829,   1624.2,  -0.3366,  34.9175,2,  34.9174,2,    297.5,2,    297.7,2,     8.79,2,    13.34,2,     0.00,2,     0.92,2,    0.995,2,    0.468,2,    0.044,2,    0.103,2,   2157.0,2,   2292.4,2,   7.7284,2,    25.00,     51.0,2,     -999,1,     -999,1,     -999,1,  -0.3363,2,     1.13,2,     -999,1,     -999,    15.62,2,     -999,1,     -999,9,     -999,     -999,1,20150929,1452,   1601.1,  75.0159,-149.8469,     -999,9,  35.0820,2
33HQ20150809  ,ARC01      ,56      ,  1,20         ,    6421,   12048,GSNIS-20   ,2,20150929,1353,  75.0053,-149.8595,     3829,   1625.1,  -0.3366,  34.9174,2,     -999,9,    297.6,2,     -999,9,     8.79,2,    13.34,2,     0.00,2,     0.93,2,     -999,9,     -999,9,     -999,9,     -999,9,     -999,9,     -999,9,     -999,9,     -999,     -999,9,     -999,9,     -999,9,     -999,9,  -0.3364,2,     -999,9,     -999,9,     -999,     -999,9,     -999,9,     -999,9,     -999,     -999,9,20150929,1452,   1602.0,  75.0159,-149.8469,     -999,9,     -999,9
33HQ20150809  ,ARC01      ,56      ,  1,21         ,    6421,   12048,GSNIS-21   ,2,20150929,1353,  75.0053,-149.8595,     3829,   1625.5,  -0.3370,  34.9176,2,     -999,9,    297.6,2,     -999,9,     8.79,2,    13.34,2,     0.00,2,     0.92,2,     -999,9,     -999,9,     -999,9,     -999,9,     -999,9,     -999,9,     -999,9,     -999,     -999,9,     -999,9,     -999,9,     -999,9,  -0.3366,2,     -999,9,     -999,9,     -999,     -999,9,     -999,9,     -999,9,     -999,     -999,9,20150929,1452,   1602.3,  75.0159,-149.8468,     -999,9,     -999,9
33HQ20150809  ,ARC01      ,56      ,  1,17         ,    6421,   12049,GSNIS-17   ,2,20150929,1353,  75.0053,-149.8595,     3829,   2032.2,  -0.4031,  34.9408,2,     -999,9,    291.7,2,     -999,9,    10.94,2,    13.98,2,     0.00,2,     0.97,2,     -999,9,     -999,9,     -999,9,     -999,9,     -999,9,     -999,9,     -999,9,     -999,     -999,9,     -999,9,     -999,9,     -999,9,  -0.4027,2,     -999,9,     -999,9,     -999,     -999,9,     -999,9,     -999,9,     -999,     -999,9,20150929,1442,   2001.4,  75.0140,-149.8508,     -999,9,     -999,9
33HQ20150809  ,ARC01      ,56      ,  1,18         ,    6421,   12049,GSNIS-18   ,2,20150929,1353,  75.0053,-149.8595,     3829,   2032.6,  -0.4029,  34.9406,2,     -999,9,    291.7,2,     -999,9,    10.94,2,    14.13,2,     0.00,2,     0.97,2,     -999,9,     -999,9,     -999,9,     -999,9,     -999,9,     -999,9,     -999,9,     -999,     -999,9,     -999,9,     -999,9,     -999,9,  -0.4029,2,     -999,9,     -999,9,     -999,     -999,9,     -999,9,     -999,9,     -999,     -999,9,20150929,1442,   2001.8,  75.0140,-149.8507,     -999,9,     -999,9
33HQ20150809  ,ARC01      ,56      ,  1,16         ,    6421,   12049,GSNIS-16   ,2,20150929,1353,  75.0053,-149.8595,     3829,   2032.8,  -0.4028,  34.9406,2,  34.9404,2,    291.7,2,    291.7,2,    10.94,2,    14.02,2,     0.00,2,     0.98,2,    0.251,2,    0.105,2,    0.004,2,    0.003,2,   2156.0,2,   2298.8,2,   7.7347,2,    25.00,     46.8,2,     -999,1,     -999,1,     -999,1,  -0.4029,2,     1.21,2,     -999,1,     -999,    15.51,2,     -999,1,     -999,9,     -999,     -999,1,20150929,1442,   2002.0,  75.0140,-149.8508,     -999,9,  35.1052,2
33HQ20150809  ,ARC01      ,56      ,  1,14         ,    6421,   12050,GSNIS-14   ,2,20150929,1353,  75.0053,-149.8595,     3829,   2541.2,  -0.3776,  34.9528,2,     -999,9,    287.7,2,     -999,9,    12.51,2,    14.32,2,     0.00,2,     1.01,2,     -999,9,     -999,9,     -999,9,     -999,9,     -999,9,     -999,9,     -999,9,     -999,     -999,9,     -999,9,     -999,9,     -999,9,  -0.3774,2,     -999,9,     -999,9,     -999,     -999,9,     -999,9,     -999,9,     -999,     -999,9,20150929,1431,   2499.7,  75.0118,-149.8547,     -999,9,     -999,9
33HQ20150809  ,ARC01      ,56      ,  1,15         ,    6421,   12050,GSNIS-15   ,2,20150929,1353,  75.0053,-149.8595,     3829,   2541.8,  -0.3775,  34.9525,2,     -999,9,    287.6,2,     -999,9,    12.41,2,    14.33,2,     0.00,2,     1.01,2,     -999,9,     -999,9,     -999,9,     -999,9,     -999,9,     -999,9,     -999,9,     -999,     -999,9,     -999,9,     -999,9,     -999,9,  -0.3774,2,     -999,9,     -999,9,     -999,     -999,9,     -999,9,     -999,9,     -999,     -999,9,20150929,1431,   2500.3,  75.0119,-149.8546,     -999,9,     -999,9
33HQ20150809  ,ARC01      ,56      ,  1,13         ,    6421,   12050,GSNIS-13   ,2,20150929,1353,  75.0053,-149.8595,     3829,   2542.2,  -0.3777,  34.9527,2,  34.9530,2,    287.6,2,    287.1,2,    12.41,2,    14.33,2,     0.00,2,     1.02,2,    0.041,2,    0.015,2,    0.000,2,    0.005,2,   2156.8,2,   2301.3,2,   7.7338,2,    25.00,     43.2,2,     -999,1,     -999,1,     -999,1,  -0.3773,2,     1.22,2,     -999,1,     -999,    15.72,2,     -999,1,     -999,9,     -999,     -999,1,20150929,1431,   2500.7,  75.0118,-149.8547,     -999,9,  35.1178,2
33HQ20150809  ,ARC01      ,56      ,  1,12         ,    6421,   12051,GSNIS-12   ,2,20150929,1353,  75.0053,-149.8595,     3829,   3052.6,  -0.3279,  34.9568,2,     -999,9,    284.3,2,     -999,9,    13.29,2,    14.40,2,     0.00,2,     1.01,2,     -999,9,     -999,9,     -999,9,     -999,9,     -999,9,     -999,9,     -999,9,     -999,     -999,9,     -999,9,     -999,9,     -999,9,  -0.3277,2,     -999,9,     -999,9,     -999,     -999,9,     -999,9,     -999,9,     -999,     -999,9,20150929,1421,   2999.2,  75.0096,-149.8585,     -999,9,     -999,9
33HQ20150809  ,ARC01      ,56      ,  1,10         ,    6421,   12051,GSNIS-10   ,2,20150929,1353,  75.0053,-149.8595,     3829,   3052.7,  -0.3277,  34.9565,2,  34.9547,2,    284.3,2,    284.7,2,    13.29,2,    14.41,2,     0.00,2,     1.00,2,    0.017,2,    0.006,2,    0.000,2,    0.000,2,   2160.2,2,   2303.3,2,   7.7344,2,    25.00,     43.7,2,     -999,1,     -999,1,     -999,1,  -0.3278,2,     1.19,2,     -999,1,     -999,    15.58,2,     -999,1,     -999,9,     -999,     -999,1,20150929,1421,   2999.3,  75.0096,-149.8586,     -999,9,  35.1196,2
33HQ20150809  ,ARC01      ,56      ,  1,11         ,    6421,   12051,GSNIS-11   ,2,20150929,1353,  75.0053,-149.8595,     3829,   3053.4,  -0.3279,  34.9566,2,     -999,9,    284.3,2,     -999,9,    13.29,2,    14.40,2,     0.00,2,     1.01,2,     -999,9,     -999,9,     -999,9,     -999,9,     -999,9,     -999,9,     -999,9,     -999,     -999,9,     -999,9,     -999,9,     -999,9,  -0.3275,2,     -999,9,     -999,9,     -999,     -999,9,     -999,9,     -999,9,     -999,     -999,9,20150929,1421,   3000.0,  75.0096,-149.8585,     -999,9,     -999,9
33HQ20150809  ,ARC01      ,56      ,  1,8          ,    6421,   12052,GSNIS-8    ,2,20150929,1353,  75.0053,-149.8595,     3829,   3564.9,  -0.2811,  34.9565,2,     -999,9,    284.0,2,     -999,9,    13.29,2,    14.40,2,     0.00,2,     1.01,2,     -999,9,     -999,9,     -999,9,     -999,9,     -999,9,     -999,9,     -999,9,     -999,     -999,9,     -999,9,     -999,9,     -999,9,  -0.2811,2,     -999,9,     -999,9,     -999,     -999,9,     -999,9,     -999,9,     -999,     -999,9,20150929,1410,   3498.4,  75.0075,-149.8613,     -999,9,     -999,9
33HQ20150809  ,ARC01      ,56      ,  1,9          ,    6421,   12052,GSNIS-9    ,2,20150929,1353,  75.0053,-149.8595,     3829,   3565.4,  -0.2810,  34.9562,2,     -999,9,    284.0,2,     -999,9,    13.29,2,    14.40,2,     0.00,2,     1.01,2,     -999,9,     -999,9,     -999,9,     -999,9,     -999,9,     -999,9,     -999,9,     -999,     -999,9,     -999,9,     -999,9,     -999,9,  -0.2810,2,     -999,9,     -999,9,     -999,     -999,9,     -999,9,     -999,9,     -999,     -999,9,20150929,1410,   3498.9,  75.0076,-149.8613,     -999,9,     -999,9
33HQ20150809  ,ARC01      ,56      ,  1,7          ,    6421,   12052,GSNIS-7    ,2,20150929,1353,  75.0053,-149.8595,     3829,   3565.8,  -0.2812,  34.9564,2,  34.9573,2,    284.1,2,    284.2,2,    13.29,2,    14.39,2,     0.00,2,     1.00,2,    0.012,2,    0.003,2,    0.000,2,    0.000,2,   2159.9,2,   2296.0,2,   7.7349,2,    25.00,     43.6,2,     -999,1,     -999,1,     -999,1,  -0.2809,2,     1.18,2,     -999,1,     -999,    16.31,2,     -999,1,     -999,9,     -999,     -999,1,20150929,1410,   3499.2,  75.0075,-149.8614,     -999,9,  35.1221,2
33HQ20150809  ,ARC01      ,56      ,  1,6          ,    6421,   12053,GSNIS-6    ,2,20150929,1353,  75.0053,-149.8595,     3829,   3821.2,  -0.2560,  34.9562,2,     -999,9,    284.3,2,     -999,9,    13.29,2,    14.39,2,     0.00,2,     1.00,2,     -999,9,     -999,9,     -999,9,     -999,9,     -999,9,     -999,9,     -999,9,     -999,     -999,9,     -999,9,     -999,9,     -999,9,  -0.2562,2,     -999,9,     -999,9,     -999,     -999,9,     -999,9,     -999,9,     -999,     -999,9,20150929,1403,   3747.8,  75.0064,-149.8615,     -999,9,     -999,9
33HQ20150809  ,ARC01      ,56      ,  1,5          ,    6421,   12053,GSNIS-5    ,2,20150929,1353,  75.0053,-149.8595,     3829,   3821.2,  -0.2562,  34.9562,2,     -999,9,    284.3,2,     -999,9,    13.29,2,    14.39,2,     0.00,2,     1.01,2,     -999,9,     -999,9,     -999,9,     -999,9,     -999,9,     -999,9,     -999,9,     -999,     -999,9,     -999,9,     -999,9,     -999,9,  -0.2558,2,     -999,9,     -999,9,     -999,     -999,9,     -999,9,     -999,9,     -999,     -999,9,20150929,1403,   3747.8,  75.0064,-149.8615,     -999,9,     -999,9
33HQ20150809  ,ARC01      ,56      ,  1,4          ,    6421,   12053,GSNIS-4    ,2,20150929,1353,  75.0053,-149.8595,     3829,   3821.3,  -0.2559,  34.9561,2,  34.9565,2,    284.3,2,    284.5,2,    13.29,2,    14.40,2,     0.00,2,     1.01,2,    0.017,2,    0.005,2,    0.000,2,    0.015,2,   2157.6,2,   2297.4,2,   7.6717,4,    25.00,     42.5,2,     -999,1,     -999,1,     -999,1,  -0.2561,2,     1.19,2,     -999,1,     -999,    15.84,2,     -999,1,     -999,9,     -999,     -999,1,20150929,1403,   3747.8,  75.0064,-149.8615,     -999,9,  35.1214,2