BOTTLE,20221220CCHSIOAMB
EXPOCODE,SECT_ID,STNNBR,CASTNO,SAMPNO,GEOTR_EVENT,GEOTR_SAMPNO,BTLNBR,BTLNBR_FLAG_W,DATE,TIME,LATITUDE,LONGITUDE,DEPTH,CTDPRS,CTDTMP,CTDSAL,CTDSAL_FLAG_W,SALNTY,SALNTY_FLAG_W,CTDOXY,CTDOXY_FLAG_W,OXYGEN,OXYGEN_FLAG_W,SILCAT,SILCAT_FLAG_W,NITRAT,NITRAT_FLAG_W,NITRIT,NITRIT_FLAG_W,PHSPHT,PHSPHT_FLAG_W,CFC-11,CFC-11_FLAG_W,CFC-12,CFC-12_FLAG_W,CFC113,CFC113_FLAG_W,SF6,SF6_FLAG_W,TCARBN,TCARBN_FLAG_W,ALKALI,ALKALI_FLAG_W,PH_SWS,PH_SWS_FLAG_W,PH_TMP,DOC,DOC_FLAG_W,TRITUM,TRITUM_FLAG_W,HELIUM,HELIUM_FLAG_W,DELHE3,DELHE3_FLAG_W,REFTMP,REFTMP_FLAG_W,DELC13,DELC13_FLAG_W,DELC14,DELC14_FLAG_W,C14ERR,TDN,TDN_FLAG_W,DELO18,DELO18_FLAG_W,DELO17,DELO17_FLAG_W,CH4,CH4,CH4_FLAG_W,BTL_DATE,BTL_TIME,CTDDEPTH,BTL_LAT,BTL_LON,LAB_DEN,LAB_DEN_FLAG_W,SALTREF,SALTREF_FLAG_W
,,,,,,,,,,,,,METERS,DBAR,ITS-90,PSS-78,,PSS-78,,UMOL/KG,,UMOL/KG,,UMOL/KG,,UMOL/KG,,UMOL/KG,,UMOL/KG,,PMOL/KG,,PMOL/KG,,PMOL/KG,,FMOL/KG,,UMOL/KG,,UMOL/KG,,,,DEG C,UMOL/KG,,TU,,NMOL/KG,,PERCNT,,ITS-90,,/MILLE,,/MILLE,,/MILLE,UMOL/KG,,/MILLE,,/MILLE,,NMOL/KG,NMOL/L,,,,METERS,,,KG/M^3,,G/KG,
33HQ20150809  ,ARC01      ,19      ,  9,2          ,    6133,   10967,GSNIS-2    ,2,20150824,2120,  79.9835,-175.1559,     2068,   1995.0,  -0.4099,  34.9455,2,  34.9467,2,    287.2,2,     -999,9,    12.21,2,    14.37,2,     0.00,2,     1.03,2,     -999,9,     -999,9,     -999,9,     -999,9,     -999,9,     -999,9,     -999,9,     -999,     -999,9,     -999,9,     -999,9,     -999,9,  -0.4100,2,     -999,9,     -999,9,     -999,     -999,9,     -999,9,     -999,9,     -999,     -999,9,20150824,2125,   1964.5,  79.9839,-175.1585,     -999,9,  35.1115,2
33HQ20150809  ,ARC01      ,19      ,  9,1          ,    6133,   10967,GSNIS-1    ,2,20150824,2120,  79.9835,-175.1559,     2068,   1995.0,  -0.4099,  34.9455,2,  34.9455,2,    287.2,2,    287.3,2,    12.30,2,    14.36,2,     0.00,2,     1.01,2,    0.344,2,    0.157,2,    0.024,2,    0.083,2,   2149.4,2,   2295.7,2,   7.7279,2,    25.00,     46.0,2,     -999,1,     -999,1,     -999,1,  -0.4100,2,     1.17,2,     -999,1,     -999,    15.41,2,     -999,1,     -999,9,     0.57,   0.5690,2,20150824,2125,   1964.5,  79.9839,-175.1584,     -999,9,  35.1103,2
33HQ20150809  ,ARC01      ,19      ,  9,3          ,    6133,   10967,GSNIS-3    ,2,20150824,2120,  79.9835,-175.1559,     2068,   1995.0,  -0.4099,  34.9455,2,  34.9461,2,    287.2,2,     -999,9,    12.21,2,    14.38,2,     0.00,2,     1.01,2,     -999,9,     -999,9,     -999,9,     -999,9,     -999,9,     -999,9,     -999,9,     -999,     -999,9,     -999,9,     -999,9,     -999,9,  -0.4101,2,     -999,9,     -999,9,     -999,     -999,9,     -999,9,     -999,9,     -999,     -999,9,20150824,2125,   1964.5,  79.9839,-175.1586,     -999,9,  35.1109,2