BOTTLE,20221220CCHSIOAMB
EXPOCODE,SECT_ID,STNNBR,CASTNO,SAMPNO,GEOTR_EVENT,GEOTR_SAMPNO,BTLNBR,BTLNBR_FLAG_W,DATE,TIME,LATITUDE,LONGITUDE,DEPTH,CTDPRS,CTDTMP,CTDSAL,CTDSAL_FLAG_W,SALNTY,SALNTY_FLAG_W,CTDOXY,CTDOXY_FLAG_W,OXYGEN,OXYGEN_FLAG_W,SILCAT,SILCAT_FLAG_W,NITRAT,NITRAT_FLAG_W,NITRIT,NITRIT_FLAG_W,PHSPHT,PHSPHT_FLAG_W,CFC-11,CFC-11_FLAG_W,CFC-12,CFC-12_FLAG_W,CFC113,CFC113_FLAG_W,SF6,SF6_FLAG_W,TCARBN,TCARBN_FLAG_W,ALKALI,ALKALI_FLAG_W,PH_SWS,PH_SWS_FLAG_W,PH_TMP,DOC,DOC_FLAG_W,TRITUM,TRITUM_FLAG_W,HELIUM,HELIUM_FLAG_W,DELHE3,DELHE3_FLAG_W,REFTMP,REFTMP_FLAG_W,DELC13,DELC13_FLAG_W,DELC14,DELC14_FLAG_W,C14ERR,TDN,TDN_FLAG_W,DELO18,DELO18_FLAG_W,DELO17,DELO17_FLAG_W,CH4,CH4,CH4_FLAG_W,BTL_DATE,BTL_TIME,CTDDEPTH,BTL_LAT,BTL_LON,LAB_DEN,LAB_DEN_FLAG_W,SALTREF,SALTREF_FLAG_W
,,,,,,,,,,,,,METERS,DBAR,ITS-90,PSS-78,,PSS-78,,UMOL/KG,,UMOL/KG,,UMOL/KG,,UMOL/KG,,UMOL/KG,,UMOL/KG,,PMOL/KG,,PMOL/KG,,PMOL/KG,,FMOL/KG,,UMOL/KG,,UMOL/KG,,,,DEG C,UMOL/KG,,TU,,NMOL/KG,,PERCNT,,ITS-90,,/MILLE,,/MILLE,,/MILLE,UMOL/KG,,/MILLE,,/MILLE,,NMOL/KG,NMOL/L,,,,METERS,,,KG/M^3,,G/KG,
33HQ20150809  ,ARC01      ,45      ,  1,3          ,    6327,    -999,GSNIS-3    ,2,20150918,1150,  83.3372,-150.0632,     3084,   2644.4,  -0.3584,  34.9557,2,  34.9561,2,    285.0,2,    284.7,2,    13.28,2,    14.38,2,     0.00,2,     1.00,2,    0.016,2,    0.010,2,    0.000,2,    0.000,2,     -999,9,   2302.3,6,   7.7352,2,    25.00,     45.6,2,     -999,9,     -999,9,     -999,9,  -0.3585,2,     -999,9,     -999,9,     -999,    14.41,2,     -999,9,     -999,9,     -999,     -999,9,20150918,1200,   2599.8,  83.3371,-150.0601,     -999,9,  35.1210,2
33HQ20150809  ,ARC01      ,45      ,  1,2          ,    6327,    -999,GSNIS-2    ,2,20150918,1150,  83.3372,-150.0632,     3084,   2848.6,  -0.3416,  34.9561,2,  34.9563,2,    284.4,2,    284.4,2,    13.37,2,    14.39,2,     0.00,2,     1.00,2,    0.017,2,    0.010,2,    0.000,2,    0.000,2,   2156.7,2,   2301.5,2,   7.7345,2,    25.00,     44.5,2,     -999,9,     -999,9,     -999,9,  -0.3418,2,     -999,9,     -999,9,     -999,    14.77,2,     -999,9,     -999,9,     -999,     -999,9,20150918,1156,   2799.3,  83.3372,-150.0614,     -999,9,  35.1212,2
33HQ20150809  ,ARC01      ,45      ,  1,1          ,    6327,    -999,GSNIS-1    ,2,20150918,1150,  83.3372,-150.0632,     3084,   3069.7,  -0.3232,  34.9560,2,  34.9575,2,    285.9,2,    285.1,2,    13.18,2,    14.38,2,     0.00,2,     1.00,2,     -999,9,     -999,9,     -999,9,     -999,9,   2154.6,2,   2300.3,2,   7.7637,4,    25.00,     44.2,2,     -999,9,     -999,9,     -999,9,  -0.3236,2,     -999,9,     -999,9,     -999,    15.84,2,     -999,9,     -999,9,     -999,     -999,9,20150918,1150,   3015.0,  83.3372,-150.0630,     -999,9,  35.1223,2