BOTTLE,20221220CCHSIOAMB
EXPOCODE,SECT_ID,STNNBR,CASTNO,SAMPNO,GEOTR_EVENT,GEOTR_SAMPNO,BTLNBR,BTLNBR_FLAG_W,DATE,TIME,LATITUDE,LONGITUDE,DEPTH,CTDPRS,CTDTMP,CTDSAL,CTDSAL_FLAG_W,SALNTY,SALNTY_FLAG_W,CTDOXY,CTDOXY_FLAG_W,OXYGEN,OXYGEN_FLAG_W,SILCAT,SILCAT_FLAG_W,NITRAT,NITRAT_FLAG_W,NITRIT,NITRIT_FLAG_W,PHSPHT,PHSPHT_FLAG_W,CFC-11,CFC-11_FLAG_W,CFC-12,CFC-12_FLAG_W,CFC113,CFC113_FLAG_W,SF6,SF6_FLAG_W,TCARBN,TCARBN_FLAG_W,ALKALI,ALKALI_FLAG_W,PH_SWS,PH_SWS_FLAG_W,PH_TMP,DOC,DOC_FLAG_W,TRITUM,TRITUM_FLAG_W,HELIUM,HELIUM_FLAG_W,DELHE3,DELHE3_FLAG_W,REFTMP,REFTMP_FLAG_W,DELC13,DELC13_FLAG_W,DELC14,DELC14_FLAG_W,C14ERR,TDN,TDN_FLAG_W,DELO18,DELO18_FLAG_W,DELO17,DELO17_FLAG_W,CH4,CH4,CH4_FLAG_W,BTL_DATE,BTL_TIME,CTDDEPTH,BTL_LAT,BTL_LON,LAB_DEN,LAB_DEN_FLAG_W,SALTREF,SALTREF_FLAG_W
,,,,,,,,,,,,,METERS,DBAR,ITS-90,PSS-78,,PSS-78,,UMOL/KG,,UMOL/KG,,UMOL/KG,,UMOL/KG,,UMOL/KG,,UMOL/KG,,PMOL/KG,,PMOL/KG,,PMOL/KG,,FMOL/KG,,UMOL/KG,,UMOL/KG,,,,DEG C,UMOL/KG,,TU,,NMOL/KG,,PERCNT,,ITS-90,,/MILLE,,/MILLE,,/MILLE,UMOL/KG,,/MILLE,,/MILLE,,NMOL/KG,NMOL/L,,,,METERS,,,KG/M^3,,G/KG,
33HQ20150809  ,ARC01      ,29      ,  1,36         ,    6171,    -999,GSNIS-36   ,2,20150831,0405,  86.5134, 173.4640,     3932,      3.1,  -1.4619,  27.8915,2,  27.8870,2,    394.2,2,    395.0,2,     8.05,2,     0.00,2,     0.00,2,     0.75,2,    6.956,2,    3.781,2,    0.658,2,    3.738,2,   1897.3,2,   1987.4,6,   7.6721,2,    25.00,     90.3,2,     -999,9,     -999,9,     -999,9,  -1.4606,2,     1.22,6,     -999,1,     -999,     5.08,2,     -999,1,     -999,9,     -999,     -999,9,20150831,0629,      3.0,  86.5208, 173.4882,     -999,9,  28.0185,2
33HQ20150809  ,ARC01      ,29      ,  1,35         ,    6171,    -999,GSNIS-35   ,2,20150831,0405,  86.5134, 173.4640,     3932,     20.3,  -1.4295,  28.1213,2,  27.8886,2,    398.8,2,    394.8,2,     8.05,2,     0.00,2,     0.00,2,     0.75,2,    6.899,2,    3.733,2,    0.642,2,    3.717,2,   1897.2,6,   1987.2,2,   7.6779,2,    25.00,     91.0,2,     -999,9,     -999,9,     -999,9,  -1.4276,2,     -999,9,     -999,9,     -999,     4.56,2,     -999,1,     -999,9,     -999,     -999,9,20150831,0627,     20.1,  86.5208, 173.4878,     -999,9,  28.0201,2
33HQ20150809  ,ARC01      ,29      ,  1,34         ,    6171,    -999,GSNIS-34   ,2,20150831,0405,  86.5134, 173.4640,     3932,     35.6,  -1.3986,  28.9731,2,  29.1822,2,    402.0,2,    390.0,2,     7.55,2,     0.23,2,     0.12,2,     0.78,2,     -999,9,     -999,9,     -999,9,     -999,9,   1979.3,2,   2068.3,2,   7.6643,2,    25.00,     89.0,2,     -999,9,     -999,9,     -999,9,  -1.3992,2,     -999,9,     -999,9,     -999,     5.63,2,     -999,1,     -999,9,     -999,     -999,9,20150831,0626,     35.2,  86.5207, 173.4875,     -999,9,  29.3198,2
33HQ20150809  ,ARC01      ,29      ,  1,33         ,    6171,    -999,GSNIS-33   ,2,20150831,0405,  86.5134, 173.4640,     3932,     54.9,  -1.1069,  31.2449,2,  31.5122,2,    297.3,2,    297.0,2,    19.10,2,     6.04,2,     0.02,2,     1.12,2,    6.321,2,    3.490,2,    0.482,2,    3.105,2,   2143.6,2,   2186.4,2,   7.4813,2,    25.00,     82.4,2,     -999,9,     -999,9,     -999,9,  -1.1072,2,     -999,9,     -999,9,     -999,    10.07,2,     -999,1,     -999,9,     -999,     -999,9,20150831,0624,     54.3,  86.5205, 173.4872,     -999,9,  31.6608,2
33HQ20150809  ,ARC01      ,29      ,  1,32         ,    6171,    -999,GSNIS-32   ,2,20150831,0405,  86.5134, 173.4640,     3932,     66.3,  -1.4758,  32.6490,2,  32.8594,2,    300.3,2,    301.4,2,    15.07,2,     7.48,2,     0.01,2,     0.90,2,     -999,9,     -999,9,     -999,9,     -999,9,   2181.8,6,   2245.5,2,   7.5187,2,    25.00,     83.1,2,     -999,9,     -999,9,     -999,9,  -1.4767,2,     -999,9,     -999,9,     -999,    10.97,2,     -999,1,     -999,9,     -999,     -999,9,20150831,0623,     65.6,  86.5204, 173.4869,     -999,9,  33.0143,2
33HQ20150809  ,ARC01      ,29      ,  1,31         ,    6171,    -999,GSNIS-31   ,2,20150831,0405,  86.5134, 173.4640,     3932,     76.6,  -1.4916,  33.2538,2,  33.3003,2,    299.5,2,    296.6,2,    14.18,2,     8.23,2,     0.00,2,     0.90,2,    6.376,2,    3.453,2,    0.469,2,    2.741,2,   2186.8,2,   2254.2,6,   7.5329,2,    25.00,     74.3,2,     -999,9,     -999,9,     -999,9,  -1.4919,2,     -999,9,     -999,9,     -999,    11.75,2,     -999,1,     -999,9,     -999,     -999,9,20150831,0621,     75.8,  86.5203, 173.4866,     -999,9,  33.4573,2
33HQ20150809  ,ARC01      ,29      ,  1,30         ,    6171,    -999,GSNIS-30   ,2,20150831,0405,  86.5134, 173.4640,     3932,     87.0,  -1.4645,  33.6872,2,  33.6992,2,    307.0,2,    307.5,2,     9.39,2,     7.34,2,     0.00,2,     0.73,2,     -999,9,     -999,9,     -999,9,     -999,9,     -999,9,   2266.7,2,   7.5799,2,    25.00,     73.4,2,     -999,9,     -999,9,     -999,9,  -1.4644,2,     -999,9,     -999,9,     -999,    11.03,2,     -999,1,     -999,9,     -999,     -999,9,20150831,0619,     86.0,  86.5203, 173.4862,     -999,9,  33.8581,2
33HQ20150809  ,ARC01      ,29      ,  1,29         ,    6171,    -999,GSNIS-29   ,2,20150831,0405,  86.5134, 173.4640,     3932,     97.0,  -1.4648,  33.8776,2,  33.8940,2,    311.9,2,    311.5,2,     7.04,2,     7.22,2,     0.00,2,     0.67,2,    6.365,2,    3.461,2,    0.472,2,    2.826,2,   2173.6,2,   2272.0,2,   7.6014,2,    25.00,     70.5,2,     -999,9,     -999,9,     -999,9,  -1.4651,2,     -999,9,     -999,9,     -999,    10.94,2,     -999,1,     -999,9,     -999,     -999,9,20150831,0617,     96.0,  86.5203, 173.4858,     -999,9,  34.0538,2
33HQ20150809  ,ARC01      ,29      ,  1,28         ,    6171,    -999,GSNIS-28   ,2,20150831,0405,  86.5134, 173.4640,     3932,    107.6,  -1.4132,  34.0799,2,  34.1044,2,    312.6,2,    311.7,2,     5.47,2,     7.58,2,     0.00,2,     0.65,2,     -999,9,     -999,9,     -999,9,     -999,9,     -999,9,   2276.6,2,   7.6768,4,    25.00,     65.0,2,     -999,9,     -999,9,     -999,9,  -1.4101,2,     -999,9,     -999,9,     -999,    10.54,2,     -999,1,     -999,9,     -999,     -999,9,20150831,0616,    106.4,  86.5201, 173.4854,     -999,9,  34.2652,2
33HQ20150809  ,ARC01      ,29      ,  1,27         ,    6171,    -999,GSNIS-27   ,2,20150831,0405,  86.5134, 173.4640,     3932,    118.0,  -1.3111,  34.1830,2,  34.2072,2,    310.2,2,    312.2,2,     4.79,2,     7.82,2,     0.00,2,     0.64,2,    6.392,2,    3.409,2,    0.466,2,    2.467,2,   2170.2,2,   2277.1,2,   7.6671,4,    25.00,     63.7,2,     -999,9,     -999,9,     -999,9,  -1.3108,2,     -999,9,     -999,9,     -999,     9.85,2,     -999,1,     -999,9,     -999,     -999,9,20150831,0614,    116.7,  86.5200, 173.4852,     -999,9,  34.3685,2
33HQ20150809  ,ARC01      ,29      ,  1,26         ,    6171,    -999,GSNIS-26   ,2,20150831,0405,  86.5134, 173.4640,     3932,    133.2,  -1.0066,  34.3041,2,  34.3218,2,    307.6,2,    310.1,2,     4.69,2,     8.36,2,     0.00,2,     0.66,2,     -999,9,     -999,9,     -999,9,     -999,9,     -999,9,   2280.4,2,   7.6379,2,    25.00,     64.3,2,     -999,9,     -999,9,     -999,9,  -1.0126,2,     -999,9,     -999,9,     -999,    11.41,2,     -999,1,     -999,9,     -999,     -999,9,20150831,0612,    131.8,  86.5200, 173.4848,     -999,9,  34.4836,2
33HQ20150809  ,ARC01      ,29      ,  1,25         ,    6171,    -999,GSNIS-25   ,2,20150831,0405,  86.5134, 173.4640,     3932,    153.8,  -0.4018,  34.4462,2,  34.4515,2,    303.9,2,    303.7,2,     5.08,2,     9.37,2,     0.00,2,     0.70,2,    6.109,2,    3.189,2,    0.436,2,    2.174,2,   2169.8,2,   2284.4,2,   7.6469,2,    25.00,     59.9,2,     -999,9,     -999,9,     -999,9,  -0.3984,2,     -999,9,     -999,9,     -999,    11.72,2,     -999,1,     -999,9,     -999,     -999,9,20150831,0611,    152.1,  86.5199, 173.4844,     -999,9,  34.6140,2
33HQ20150809  ,ARC01      ,29      ,  1,24         ,    6171,    -999,GSNIS-24   ,2,20150831,0405,  86.5134, 173.4640,     3932,    174.5,  -0.0638,  34.5357,2,  34.5386,2,    301.3,2,    302.0,2,     4.98,2,     9.88,2,     0.00,2,     0.73,2,     -999,9,     -999,9,     -999,9,     -999,9,     -999,9,   2288.4,2,   7.6541,2,    25.00,     60.1,2,     -999,9,     -999,9,     -999,9,  -0.0647,2,     -999,9,     -999,9,     -999,    11.27,2,     -999,1,     -999,9,     -999,     -999,9,20150831,0609,    172.5,  86.5198, 173.4839,     -999,9,  34.7014,2
33HQ20150809  ,ARC01      ,29      ,  1,23         ,    6171,    -999,GSNIS-23   ,2,20150831,0405,  86.5134, 173.4640,     3932,    195.1,   0.2133,  34.6203,2,  34.6346,2,    299.2,2,    298.4,2,     5.37,2,    10.66,2,     0.00,2,     0.76,2,    5.717,2,    2.982,2,    0.403,2,    1.783,2,   2167.2,2,   2290.8,2,   7.6705,2,    25.00,     56.8,2,     -999,9,     -999,9,     -999,9,   0.2136,2,     -999,9,     -999,9,     -999,    13.55,2,     -999,9,     -999,9,     -999,     -999,9,20150831,0607,    192.9,  86.5197, 173.4836,     -999,9,  34.7980,2
33HQ20150809  ,ARC01      ,29      ,  1,22         ,    6171,    -999,GSNIS-22   ,2,20150831,0405,  86.5134, 173.4640,     3932,    215.6,   0.5535,  34.7244,2,  34.7333,2,    296.8,2,    295.7,2,     5.57,2,    11.41,2,     0.00,2,     0.79,2,     -999,9,     -999,9,     -999,9,     -999,9,     -999,9,   2294.6,2,   7.6842,2,    25.00,     55.9,2,     -999,9,     -999,9,     -999,9,   0.5568,2,     -999,9,     -999,9,     -999,    13.47,2,     -999,1,     -999,9,     -999,     -999,9,20150831,0605,    213.2,  86.5196, 173.4833,     -999,9,  34.8971,2
33HQ20150809  ,ARC01      ,29      ,  1,21         ,    6171,    -999,GSNIS-21   ,2,20150831,0405,  86.5134, 173.4640,     3932,    237.1,   0.7637,  34.7913,2,  34.8018,2,    295.2,2,    295.5,2,     5.47,2,    11.84,2,     0.00,2,     0.81,2,    5.405,2,    2.755,2,    0.383,2,    1.581,2,   2160.1,2,   2293.6,2,   7.6947,2,    25.00,     56.3,2,     -999,9,     -999,9,     -999,9,   0.7670,2,     -999,9,     -999,9,     -999,    13.43,2,     -999,9,     -999,9,     -999,     -999,9,20150831,0603,    234.4,  86.5195, 173.4828,     -999,9,  34.9659,2
33HQ20150809  ,ARC01      ,29      ,  1,20         ,    6171,    -999,GSNIS-20   ,2,20150831,0405,  86.5134, 173.4640,     3932,    283.0,   0.8320,  34.8120,2,  34.8183,2,    295.2,2,    295.8,2,     5.47,2,    11.88,2,     0.00,2,     0.81,2,     -999,9,     -999,9,     -999,9,     -999,9,     -999,9,   2294.8,2,   7.7037,2,    25.00,     53.2,2,     -999,9,     -999,9,     -999,9,   0.8318,2,     -999,9,     -999,9,     -999,    14.38,2,     -999,1,     -999,9,     -999,     -999,9,20150831,0601,    279.8,  86.5194, 173.4824,     -999,9,  34.9825,2
33HQ20150809  ,ARC01      ,29      ,  1,19         ,    6171,    -999,GSNIS-19   ,2,20150831,0405,  86.5134, 173.4640,     3932,    332.3,   0.9212,  34.8467,2,  34.8459,2,    296.7,2,    296.5,2,     5.67,2,    12.10,2,     0.00,2,     0.82,2,    5.246,2,    2.625,2,    0.364,2,    1.401,2,   2158.6,2,   2298.3,2,   7.7032,2,    25.00,     52.3,2,     -999,9,     -999,9,     -999,9,   0.9211,2,     -999,9,     -999,9,     -999,    12.51,2,     -999,9,     -999,9,     -999,     -999,9,20150831,0558,    328.4,  86.5192, 173.4818,     -999,9,  35.0102,2
33HQ20150809  ,ARC01      ,29      ,  1,18         ,    6171,    -999,GSNIS-18   ,2,20150831,0405,  86.5134, 173.4640,     3932,    386.0,   0.9416,  34.8655,2,  34.8638,2,    298.8,2,    299.9,2,     5.67,2,    12.12,2,     0.00,2,     0.82,2,     -999,9,     -999,9,     -999,9,     -999,9,     -999,9,   2300.0,2,   7.7023,3,    25.00,     53.8,2,     -999,9,     -999,9,     -999,9,   0.9412,2,     -999,9,     -999,9,     -999,    14.26,2,     -999,1,     -999,9,     -999,     -999,9,20150831,0555,    381.5,  86.5191, 173.4812,     -999,9,  35.0282,2
33HQ20150809  ,ARC01      ,29      ,  1,17         ,    6171,    -999,GSNIS-17   ,2,20150831,0405,  86.5134, 173.4640,     3932,    437.6,   0.7950,  34.8642,2,  34.8637,2,    298.5,2,    299.2,2,     5.86,2,    12.20,2,     0.00,2,     0.83,2,    4.930,2,    2.428,2,    0.328,2,    1.171,2,   2157.7,2,   2299.7,2,   7.7053,2,    25.00,     52.6,2,     -999,9,     -999,9,     -999,9,   0.7912,2,     -999,9,     -999,9,     -999,    13.73,2,     -999,9,     -999,9,     -999,     -999,9,20150831,0552,    432.4,  86.5190, 173.4806,     -999,9,  35.0281,2
33HQ20150809  ,ARC01      ,29      ,  1,16         ,    6171,    -999,GSNIS-16   ,2,20150831,0405,  86.5134, 173.4640,     3932,    479.2,   0.6462,  34.8648,2,  34.8645,2,    299.5,2,    299.5,2,     5.96,2,    12.21,2,     0.00,2,     0.83,2,    4.820,2,    2.383,2,    0.316,2,    1.065,2,     -999,9,   2299.6,2,   7.7039,2,    25.00,     50.6,2,     -999,9,     -999,9,     -999,9,   0.6457,2,     -999,9,     -999,9,     -999,    14.48,2,     -999,1,     -999,9,     -999,     -999,9,20150831,0549,    473.5,  86.5188, 173.4801,     -999,9,  35.0289,2
33HQ20150809  ,ARC01      ,29      ,  1,15         ,    6171,    -999,GSNIS-15   ,2,20150831,0405,  86.5134, 173.4640,     3932,    582.6,   0.4162,  34.8683,2,  34.8671,2,    299.4,2,    299.6,2,     6.15,2,    12.34,2,     0.00,2,     0.85,2,    4.290,2,    2.099,2,    0.264,2,    0.926,2,   2156.8,2,   2298.7,2,   7.7050,2,    25.00,     52.8,2,     -999,9,     -999,9,     -999,9,   0.4162,2,     -999,9,     -999,9,     -999,    15.24,2,     -999,9,     -999,9,     -999,     -999,9,20150831,0546,    575.6,  86.5186, 173.4794,     -999,9,  35.0315,2
33HQ20150809  ,ARC01      ,29      ,  1,14         ,    6171,    -999,GSNIS-14   ,2,20150831,0405,  86.5134, 173.4640,     3932,    727.2,   0.1319,  34.8705,2,  34.8618,4,    301.4,2,    301.4,2,     6.25,2,    12.34,2,     0.00,2,     0.85,2,    4.101,2,    1.962,2,    0.244,2,    0.789,2,     -999,9,   2298.8,2,   7.7035,2,    25.00,     50.6,2,     -999,9,     -999,9,     -999,9,   0.1318,2,     -999,9,     -999,9,     -999,    14.60,2,     -999,9,     -999,9,     -999,     -999,9,20150831,0539,    718.2,  86.5183, 173.4779,     -999,9,  35.0262,4
33HQ20150809  ,ARC01      ,29      ,  1,13         ,    6171,    -999,GSNIS-13   ,2,20150831,0405,  86.5134, 173.4640,     3932,    882.4,  -0.0503,  34.8811,2,  34.8813,2,    303.7,2,    302.9,2,     6.35,2,    12.35,2,     0.00,2,     0.86,2,    4.053,2,    1.997,2,    0.261,2,    0.923,2,   2161.3,2,   2300.6,2,   7.6978,2,    25.00,     53.1,2,     -999,9,     -999,9,     -999,9,  -0.0504,2,     -999,9,     -999,9,     -999,    13.93,2,     -999,9,     -999,9,     -999,     -999,9,20150831,0535,    871.1,  86.5181, 173.4772,     -999,9,  35.0458,2
33HQ20150809  ,ARC01      ,29      ,  1,12         ,    6171,    -999,GSNIS-12   ,2,20150831,0405,  86.5134, 173.4640,     3932,   1038.5,  -0.1789,  34.8904,2,  34.8910,2,    301.6,2,    302.8,2,     6.74,2,    12.59,2,     0.00,2,     0.88,2,    3.420,2,    1.541,2,    0.209,2,    0.787,2,     -999,9,   2301.6,2,   7.7046,2,    25.00,     50.9,2,     -999,9,     -999,9,     -999,9,  -0.1789,2,     -999,9,     -999,9,     -999,    15.19,2,     -999,9,     -999,9,     -999,     -999,9,20150831,0531,   1024.8,  86.5179, 173.4764,     -999,9,  35.0555,2
33HQ20150809  ,ARC01      ,29      ,  1,11         ,    6171,    -999,GSNIS-11   ,2,20150831,0405,  86.5134, 173.4640,     3932,   1193.1,  -0.2671,  34.9028,2,  34.9028,2,    300.6,2,    300.4,2,     7.42,2,    12.99,2,     0.00,2,     0.90,2,    2.082,2,    0.998,2,    0.103,2,    0.415,2,   2152.7,2,   2301.8,2,   7.7150,2,    25.00,     50.8,2,     -999,9,     -999,9,     -999,9,  -0.2671,2,     -999,9,     -999,9,     -999,    15.52,2,     -999,9,     -999,9,     -999,     -999,9,20150831,0526,   1177.0,  86.5176, 173.4756,     -999,9,  35.0674,2
33HQ20150809  ,ARC01      ,29      ,  1,10         ,    6171,    -999,GSNIS-10   ,2,20150831,0405,  86.5134, 173.4640,     3932,   1400.7,  -0.3418,  34.9193,2,  34.9147,2,    298.0,2,    297.9,2,     8.50,2,    13.45,2,     0.00,2,     0.93,2,    0.841,2,    0.394,2,    0.026,2,    0.080,2,     -999,9,   2301.1,2,   7.7276,2,    25.00,     49.8,2,     -999,9,     -999,9,     -999,9,  -0.3419,2,     -999,9,     -999,9,     -999,    17.85,2,     -999,9,     -999,9,     -999,     -999,9,20150831,0521,   1381.0,  86.5174, 173.4745,     -999,9,  35.0793,2
33HQ20150809  ,ARC01      ,29      ,  1,9          ,    6171,    -999,GSNIS-9    ,2,20150831,0405,  86.5134, 173.4640,     3932,   1656.9,  -0.3877,  34.9365,2,  34.9353,2,    293.6,2,    293.3,2,    10.16,2,    13.96,2,     0.00,2,     0.97,2,    0.227,2,    0.098,2,    0.000,2,    0.009,2,   2145.3,2,   2301.9,2,   7.9206,4,    25.00,     47.8,2,     -999,9,     -999,9,     -999,9,  -0.3873,2,     -999,9,     -999,9,     -999,    16.30,2,     -999,9,     -999,9,     -999,     -999,9,20150831,0512,   1632.7,  86.5169, 173.4728,     -999,9,  35.1001,2
33HQ20150809  ,ARC01      ,29      ,  1,8          ,    6171,    -999,GSNIS-8    ,2,20150831,0405,  86.5134, 173.4640,     3932,   1971.5,  -0.4057,  34.9498,2,  34.9470,2,    289.0,2,    289.7,2,    11.62,2,    14.31,2,     0.00,2,     1.00,2,    0.070,2,    0.031,2,    0.000,2,    0.008,2,     -999,9,   2303.1,2,   7.7359,2,    25.00,     49.0,2,     -999,9,     -999,9,     -999,9,  -0.4052,2,     -999,9,     -999,9,     -999,    16.33,2,     -999,9,     -999,9,     -999,     -999,9,20150831,0505,   1941.2,  86.5165, 173.4716,     -999,9,  35.1118,2
33HQ20150809  ,ARC01      ,29      ,  1,7          ,    6171,    -999,GSNIS-7    ,2,20150831,0405,  86.5134, 173.4640,     3932,   2284.1,  -0.3941,  34.9550,2,  34.9521,2,    287.0,2,    287.5,2,    12.31,2,    14.48,2,     0.00,2,     1.01,2,    0.075,2,    0.043,2,    0.000,2,   -9.000,4,   2148.0,2,   2303.6,2,   7.7325,2,    25.00,     48.7,2,     -999,9,     -999,9,     -999,9,  -0.3937,2,     -999,9,     -999,9,     -999,    17.92,2,     -999,9,     -999,9,     -999,     -999,9,20150831,0457,   2247.4,  86.5160, 173.4704,     -999,9,  35.1169,2
33HQ20150809  ,ARC01      ,29      ,  1,6          ,    6171,    -999,GSNIS-6    ,2,20150831,0405,  86.5134, 173.4640,     3932,   2597.1,  -0.3753,  34.9565,2,  34.9547,2,    286.7,2,    287.1,2,    12.50,2,    14.51,2,     0.00,2,     1.02,2,    0.028,2,    0.009,2,    0.000,2,    0.022,2,     -999,9,   2302.9,2,   7.7327,2,    25.00,     47.4,2,     -999,9,     -999,9,     -999,9,  -0.3747,2,     -999,9,     -999,9,     -999,    17.06,2,     -999,9,     -999,9,     -999,     -999,9,20150831,0451,   2553.4,  86.5156, 173.4694,     -999,9,  35.1195,2
33HQ20150809  ,ARC01      ,29      ,  1,5          ,    6171,    -999,GSNIS-5    ,2,20150831,0405,  86.5134, 173.4640,     3932,   2910.3,  -0.3564,  34.9568,2,  34.9551,2,    287.2,2,    287.3,2,    12.31,2,    14.49,2,     0.00,2,     1.02,2,    0.020,2,    0.007,2,    0.000,2,    0.009,2,   2148.0,2,   2305.0,2,   7.7358,2,    25.00,     47.0,2,     -999,9,     -999,9,     -999,9,  -0.3563,2,     -999,9,     -999,9,     -999,    17.07,2,     -999,9,     -999,9,     -999,     -999,9,20150831,0443,   2859.3,  86.5152, 173.4682,     -999,9,  35.1199,2
33HQ20150809  ,ARC01      ,29      ,  1,4          ,    6171,    -999,GSNIS-4    ,2,20150831,0405,  86.5134, 173.4640,     3932,   3224.3,  -0.3351,  34.9569,2,  34.9557,2,    287.9,2,    288.5,2,    12.02,2,    14.47,2,     0.00,2,     1.01,2,    0.020,2,    0.007,2,    0.000,2,    0.000,2,     -999,9,   2305.2,2,   7.7371,2,    25.00,     48.8,2,     -999,9,     -999,9,     -999,9,  -0.3349,2,     -999,9,     -999,9,     -999,    16.40,2,     -999,9,     -999,9,     -999,     -999,9,20150831,0436,   3165.5,  86.5148, 173.4672,     -999,9,  35.1206,2