BOTTLE,20221220CCHSIOAMB
EXPOCODE,SECT_ID,STNNBR,CASTNO,SAMPNO,GEOTR_EVENT,GEOTR_SAMPNO,BTLNBR,BTLNBR_FLAG_W,DATE,TIME,LATITUDE,LONGITUDE,DEPTH,CTDPRS,CTDTMP,CTDSAL,CTDSAL_FLAG_W,SALNTY,SALNTY_FLAG_W,CTDOXY,CTDOXY_FLAG_W,OXYGEN,OXYGEN_FLAG_W,SILCAT,SILCAT_FLAG_W,NITRAT,NITRAT_FLAG_W,NITRIT,NITRIT_FLAG_W,PHSPHT,PHSPHT_FLAG_W,CFC-11,CFC-11_FLAG_W,CFC-12,CFC-12_FLAG_W,CFC113,CFC113_FLAG_W,SF6,SF6_FLAG_W,TCARBN,TCARBN_FLAG_W,ALKALI,ALKALI_FLAG_W,PH_SWS,PH_SWS_FLAG_W,PH_TMP,DOC,DOC_FLAG_W,TRITUM,TRITUM_FLAG_W,HELIUM,HELIUM_FLAG_W,DELHE3,DELHE3_FLAG_W,REFTMP,REFTMP_FLAG_W,DELC13,DELC13_FLAG_W,DELC14,DELC14_FLAG_W,C14ERR,TDN,TDN_FLAG_W,DELO18,DELO18_FLAG_W,DELO17,DELO17_FLAG_W,CH4,CH4,CH4_FLAG_W,BTL_DATE,BTL_TIME,CTDDEPTH,BTL_LAT,BTL_LON,LAB_DEN,LAB_DEN_FLAG_W,SALTREF,SALTREF_FLAG_W
,,,,,,,,,,,,,METERS,DBAR,ITS-90,PSS-78,,PSS-78,,UMOL/KG,,UMOL/KG,,UMOL/KG,,UMOL/KG,,UMOL/KG,,UMOL/KG,,PMOL/KG,,PMOL/KG,,PMOL/KG,,FMOL/KG,,UMOL/KG,,UMOL/KG,,,,DEG C,UMOL/KG,,TU,,NMOL/KG,,PERCNT,,ITS-90,,/MILLE,,/MILLE,,/MILLE,UMOL/KG,,/MILLE,,/MILLE,,NMOL/KG,NMOL/L,,,,METERS,,,KG/M^3,,G/KG,
33HQ20150809  ,ARC01      ,37      ,  1,3          ,    6246,    -999,GSNIS-3    ,2,20150909,0307,  88.8741,-149.6064,     3857,   3500.7,  -0.3078,  34.9545,2,  34.9541,2,    288.1,2,    288.4,2,    12.40,2,    14.44,2,     0.00,2,     1.02,2,    0.026,2,    0.012,2,    0.003,2,    0.000,2,   2153.2,2,   2300.4,2,   7.7377,6,    25.00,     45.1,2,     -999,9,     -999,9,     -999,9,  -0.3078,2,     -999,9,     -999,9,     -999,    15.90,2,     -999,9,     -999,9,     -999,     -999,9,20150909,0317,   3434.7,  88.8734,-149.5791,     -999,9,  35.1189,2
33HQ20150809  ,ARC01      ,37      ,  1,2          ,    6246,    -999,GSNIS-2    ,2,20150909,0307,  88.8741,-149.6064,     3857,   3722.0,  -0.2882,  34.9544,2,  34.9550,2,    288.5,2,    289.1,2,    12.30,2,    14.45,2,     0.00,2,     1.02,2,    0.027,2,    0.011,2,    0.005,2,    0.000,2,     -999,9,   2301.7,2,   7.7332,2,    25.00,     46.2,2,     -999,9,     -999,9,     -999,9,  -0.2879,2,     -999,9,     -999,9,     -999,    16.98,2,     -999,9,     -999,9,     -999,     -999,9,20150909,0312,   3649.9,  88.8738,-149.5930,     -999,9,  35.1199,2
33HQ20150809  ,ARC01      ,37      ,  1,1          ,    6246,    -999,GSNIS-1    ,2,20150909,0307,  88.8741,-149.6064,     3857,   3909.3,  -0.2700,  34.9542,2,  34.9594,4,    288.2,2,    288.5,2,    12.30,2,    14.42,2,     0.00,2,     1.01,2,    0.060,2,    0.029,2,    0.002,2,    0.000,2,   2153.8,2,   2300.3,2,   7.7301,2,    25.00,     43.3,2,     -999,9,     -999,9,     -999,9,  -0.2701,2,     -999,9,     -999,9,     -999,    16.46,2,     -999,9,     -999,9,     -999,     -999,9,20150909,0306,   3832.0,  88.8742,-149.6078,     -999,9,  35.1242,4