BOTTLE,20221220CCHSIOAMB
EXPOCODE,SECT_ID,STNNBR,CASTNO,SAMPNO,GEOTR_EVENT,GEOTR_SAMPNO,BTLNBR,BTLNBR_FLAG_W,DATE,TIME,LATITUDE,LONGITUDE,DEPTH,CTDPRS,CTDTMP,CTDSAL,CTDSAL_FLAG_W,SALNTY,SALNTY_FLAG_W,CTDOXY,CTDOXY_FLAG_W,OXYGEN,OXYGEN_FLAG_W,SILCAT,SILCAT_FLAG_W,NITRAT,NITRAT_FLAG_W,NITRIT,NITRIT_FLAG_W,PHSPHT,PHSPHT_FLAG_W,CFC-11,CFC-11_FLAG_W,CFC-12,CFC-12_FLAG_W,CFC113,CFC113_FLAG_W,SF6,SF6_FLAG_W,TCARBN,TCARBN_FLAG_W,ALKALI,ALKALI_FLAG_W,PH_SWS,PH_SWS_FLAG_W,PH_TMP,DOC,DOC_FLAG_W,TRITUM,TRITUM_FLAG_W,HELIUM,HELIUM_FLAG_W,DELHE3,DELHE3_FLAG_W,REFTMP,REFTMP_FLAG_W,DELC13,DELC13_FLAG_W,DELC14,DELC14_FLAG_W,C14ERR,TDN,TDN_FLAG_W,DELO18,DELO18_FLAG_W,DELO17,DELO17_FLAG_W,CH4,CH4,CH4_FLAG_W,BTL_DATE,BTL_TIME,CTDDEPTH,BTL_LAT,BTL_LON,LAB_DEN,LAB_DEN_FLAG_W,SALTREF,SALTREF_FLAG_W
,,,,,,,,,,,,,METERS,DBAR,ITS-90,PSS-78,,PSS-78,,UMOL/KG,,UMOL/KG,,UMOL/KG,,UMOL/KG,,UMOL/KG,,UMOL/KG,,PMOL/KG,,PMOL/KG,,PMOL/KG,,FMOL/KG,,UMOL/KG,,UMOL/KG,,,,DEG C,UMOL/KG,,TU,,NMOL/KG,,PERCNT,,ITS-90,,/MILLE,,/MILLE,,/MILLE,UMOL/KG,,/MILLE,,/MILLE,,NMOL/KG,NMOL/L,,,,METERS,,,KG/M^3,,G/KG,
33HQ20150809  ,ARC01      ,56      ,  7,36         ,    6431,   12091,GSNIS-36   ,2,20151001,0722,  74.9780,-150.0048,     3830,    606.3,   0.5869,  34.8493,2,     -999,9,    293.6,2,     -999,9,     7.03,2,    12.57,2,     0.00,2,     0.85,2,     -999,9,     -999,9,     -999,9,     -999,9,     -999,9,     -999,9,     -999,9,     -999,     -999,9,     -999,9,     -999,9,     -999,9,     -999,9,     -999,9,     -999,9,     -999,     -999,9,     -999,9,     -999,9,     -999,     -999,9,20151001,0757,    599.1,  74.9818,-149.9252,     -999,9,     -999,9
33HQ20150809  ,ARC01      ,56      ,  7,35         ,    6431,   12091,GSNIS-35   ,2,20151001,0722,  74.9780,-150.0048,     3830,    606.5,   0.5866,  34.8492,2,     -999,9,    293.7,2,     -999,9,     6.93,2,    12.54,2,     0.00,2,     0.86,2,     -999,9,     -999,9,     -999,9,     -999,9,     -999,9,     -999,9,     -999,9,     -999,     -999,9,     -999,9,     -999,9,     -999,9,   0.5869,2,     -999,9,     -999,9,     -999,     -999,9,     -999,9,     -999,9,     -999,     -999,9,20151001,0757,    599.3,  74.9818,-149.9253,     -999,9,     -999,9
33HQ20150809  ,ARC01      ,56      ,  7,34         ,    6431,   12091,GSNIS-34   ,2,20151001,0722,  74.9780,-150.0048,     3830,    607.0,   0.5865,  34.8492,2,     -999,9,    293.7,2,     -999,9,     6.93,2,    12.55,2,     0.00,2,     0.86,2,     -999,9,     -999,9,     -999,9,     -999,9,     -999,9,     -999,9,     -999,9,     -999,     -999,9,     -999,9,     -999,9,     -999,9,     -999,9,     -999,9,     -999,9,     -999,     -999,9,     -999,9,     -999,9,     -999,     -999,9,20151001,0757,    599.8,  74.9818,-149.9253,     -999,9,     -999,9
33HQ20150809  ,ARC01      ,56      ,  7,33         ,    6431,   12091,GSNIS-33   ,2,20151001,0722,  74.9780,-150.0048,     3830,    607.5,   0.5866,  34.8493,2,     -999,9,    293.9,2,     -999,9,     6.93,2,    12.56,2,     0.00,2,     0.85,2,     -999,9,     -999,9,     -999,9,     -999,9,     -999,9,     -999,9,     -999,9,     -999,     -999,9,     -999,9,     -999,9,     -999,9,     -999,9,     -999,9,     -999,9,     -999,     -999,9,     -999,9,     -999,9,     -999,     -999,9,20151001,0757,    600.3,  74.9818,-149.9254,     -999,9,     -999,9
33HQ20150809  ,ARC01      ,56      ,  7,31         ,    6431,   12091,GSNIS-31   ,2,20151001,0722,  74.9780,-150.0048,     3830,    607.6,   0.5867,  34.8495,2,  34.8502,2,    293.9,2,    294.0,2,     6.93,2,    12.55,2,     0.00,2,     0.84,2,     -999,9,     -999,9,     -999,9,     -999,9,     -999,9,     -999,9,     -999,9,     -999,     -999,9,     -999,9,     -999,9,     -999,9,   0.5856,2,     -999,9,     -999,9,     -999,     -999,9,     -999,9,     -999,9,     -999,     -999,9,20151001,0757,    600.4,  74.9818,-149.9255,     -999,9,  35.0145,2
33HQ20150809  ,ARC01      ,56      ,  7,32         ,    6431,   12091,GSNIS-32   ,2,20151001,0722,  74.9780,-150.0048,     3830,    607.8,   0.5869,  34.8495,2,     -999,9,    293.9,2,     -999,9,     6.93,2,    12.54,2,     0.00,2,     0.85,2,     -999,9,     -999,9,     -999,9,     -999,9,     -999,9,     -999,9,     -999,9,     -999,     -999,9,     -999,9,     -999,9,     -999,9,     -999,9,     -999,9,     -999,9,     -999,     -999,9,     -999,9,     -999,9,     -999,     -999,9,20151001,0757,    600.6,  74.9818,-149.9254,     -999,9,     -999,9
33HQ20150809  ,ARC01      ,56      ,  7,29         ,    6431,   12092,GSNIS-29   ,2,20151001,0722,  74.9780,-150.0048,     3830,    809.9,   0.2667,  34.8639,2,     -999,9,    298.1,2,     -999,9,     6.74,2,    12.45,2,     0.00,2,     0.85,2,     -999,9,     -999,9,     -999,9,     -999,9,     -999,9,     -999,9,     -999,9,     -999,     -999,9,     -999,9,     -999,9,     -999,9,   0.2657,2,     -999,9,     -999,9,     -999,     -999,9,     -999,9,     -999,9,     -999,     -999,9,20151001,0749,    800.0,  74.9811,-149.9427,     -999,9,     -999,9
33HQ20150809  ,ARC01      ,56      ,  7,30         ,    6431,   12092,GSNIS-30   ,2,20151001,0722,  74.9780,-150.0048,     3830,    810.0,   0.2672,  34.8638,2,     -999,9,    298.1,2,     -999,9,     6.74,2,    12.45,2,     0.00,2,     0.85,2,     -999,9,     -999,9,     -999,9,     -999,9,     -999,9,     -999,9,     -999,9,     -999,     -999,9,     -999,9,     -999,9,     -999,9,     -999,9,     -999,9,     -999,9,     -999,     -999,9,     -999,9,     -999,9,     -999,     -999,9,20151001,0749,    800.0,  74.9811,-149.9426,     -999,9,     -999,9
33HQ20150809  ,ARC01      ,56      ,  7,28         ,    6431,   12092,GSNIS-28   ,2,20151001,0722,  74.9780,-150.0048,     3830,    810.6,   0.2663,  34.8638,2,     -999,9,    298.3,2,     -999,9,     6.74,2,    12.43,2,     0.00,2,     0.86,2,     -999,9,     -999,9,     -999,9,     -999,9,     -999,9,     -999,9,     -999,9,     -999,     -999,9,     -999,9,     -999,9,     -999,9,     -999,9,     -999,9,     -999,9,     -999,     -999,9,     -999,9,     -999,9,     -999,     -999,9,20151001,0749,    800.6,  74.9811,-149.9427,     -999,9,     -999,9
33HQ20150809  ,ARC01      ,56      ,  7,25         ,    6431,   12092,GSNIS-25   ,2,20151001,0722,  74.9780,-150.0048,     3830,    810.7,   0.2655,  34.8639,2,  34.8648,2,    298.3,2,    298.2,2,     6.74,2,    12.43,2,     0.00,2,     0.84,2,     -999,9,     -999,9,     -999,9,     -999,9,     -999,9,     -999,9,     -999,9,     -999,     -999,9,     -999,9,     -999,9,     -999,9,   0.2646,2,     -999,9,     -999,9,     -999,     -999,9,     -999,9,     -999,9,     -999,     -999,9,20151001,0749,    800.7,  74.9811,-149.9429,     -999,9,  35.0292,2
33HQ20150809  ,ARC01      ,56      ,  7,27         ,    6431,   12092,GSNIS-27   ,2,20151001,0722,  74.9780,-150.0048,     3830,    810.9,   0.2661,  34.8638,2,     -999,9,    298.3,2,     -999,9,     6.74,2,    12.44,2,     0.00,2,     0.85,2,     -999,9,     -999,9,     -999,9,     -999,9,     -999,9,     -999,9,     -999,9,     -999,     -999,9,     -999,9,     -999,9,     -999,9,     -999,9,     -999,9,     -999,9,     -999,     -999,9,     -999,9,     -999,9,     -999,     -999,9,20151001,0749,    801.0,  74.9811,-149.9428,     -999,9,     -999,9
33HQ20150809  ,ARC01      ,56      ,  7,26         ,    6431,   12092,GSNIS-26   ,2,20151001,0722,  74.9780,-150.0048,     3830,    811.0,   0.2661,  34.8638,2,     -999,9,    298.3,2,     -999,9,     6.74,2,    12.43,2,     0.00,2,     0.84,2,     -999,9,     -999,9,     -999,9,     -999,9,     -999,9,     -999,9,     -999,9,     -999,     -999,9,     -999,9,     -999,9,     -999,9,     -999,9,     -999,9,     -999,9,     -999,     -999,9,     -999,9,     -999,9,     -999,     -999,9,20151001,0749,    801.0,  74.9811,-149.9428,     -999,9,     -999,9
33HQ20150809  ,ARC01      ,56      ,  7,24         ,    6431,   12093,GSNIS-24   ,2,20151001,0722,  74.9780,-150.0048,     3830,   1012.2,   0.0203,  34.8753,2,     -999,9,    299.4,2,     -999,9,     6.93,2,    12.51,2,     0.00,2,     0.85,2,     -999,9,     -999,9,     -999,9,     -999,9,     -999,9,     -999,9,     -999,9,     -999,     -999,9,     -999,9,     -999,9,     -999,9,     -999,9,     -999,9,     -999,9,     -999,     -999,9,     -999,9,     -999,9,     -999,     -999,9,20151001,0743,    999.3,  74.9804,-149.9579,     -999,9,     -999,9
33HQ20150809  ,ARC01      ,56      ,  7,23         ,    6431,   12093,GSNIS-23   ,2,20151001,0722,  74.9780,-150.0048,     3830,   1012.5,   0.0203,  34.8753,2,     -999,9,    299.4,2,     -999,9,     6.93,2,    12.51,2,     0.00,2,     0.87,2,     -999,9,     -999,9,     -999,9,     -999,9,     -999,9,     -999,9,     -999,9,     -999,     -999,9,     -999,9,     -999,9,     -999,9,   0.0198,2,     -999,9,     -999,9,     -999,     -999,9,     -999,9,     -999,9,     -999,     -999,9,20151001,0743,    999.5,  74.9804,-149.9579,     -999,9,     -999,9
33HQ20150809  ,ARC01      ,56      ,  7,21         ,    6431,   12093,GSNIS-21   ,2,20151001,0722,  74.9780,-150.0048,     3830,   1012.7,   0.0201,  34.8754,2,     -999,9,    299.4,2,     -999,9,     6.93,2,    12.51,2,     0.00,2,     0.86,2,     -999,9,     -999,9,     -999,9,     -999,9,     -999,9,     -999,9,     -999,9,     -999,     -999,9,     -999,9,     -999,9,     -999,9,     -999,9,     -999,9,     -999,9,     -999,     -999,9,     -999,9,     -999,9,     -999,     -999,9,20151001,0743,    999.7,  74.9804,-149.9580,     -999,9,     -999,9
33HQ20150809  ,ARC01      ,56      ,  7,22         ,    6431,   12093,GSNIS-22   ,2,20151001,0722,  74.9780,-150.0048,     3830,   1012.7,   0.0202,  34.8753,2,     -999,9,    299.4,2,     -999,9,     6.93,2,    12.50,2,     0.00,2,     0.86,2,     -999,9,     -999,9,     -999,9,     -999,9,     -999,9,     -999,9,     -999,9,     -999,     -999,9,     -999,9,     -999,9,     -999,9,     -999,9,     -999,9,     -999,9,     -999,     -999,9,     -999,9,     -999,9,     -999,     -999,9,20151001,0743,    999.8,  74.9804,-149.9580,     -999,9,     -999,9
33HQ20150809  ,ARC01      ,56      ,  7,20         ,    6431,   12093,GSNIS-20   ,2,20151001,0722,  74.9780,-150.0048,     3830,   1012.8,   0.0199,  34.8755,2,     -999,9,    299.4,2,     -999,9,     6.93,2,    12.49,2,     0.00,2,     0.85,2,     -999,9,     -999,9,     -999,9,     -999,9,     -999,9,     -999,9,     -999,9,     -999,     -999,9,     -999,9,     -999,9,     -999,9,     -999,9,     -999,9,     -999,9,     -999,     -999,9,     -999,9,     -999,9,     -999,     -999,9,20151001,0743,    999.8,  74.9804,-149.9581,     -999,9,     -999,9
33HQ20150809  ,ARC01      ,56      ,  7,19         ,    6431,   12093,GSNIS-19   ,2,20151001,0722,  74.9780,-150.0048,     3830,   1013.2,   0.0198,  34.8754,2,  34.8768,2,    299.4,2,    299.4,2,     6.93,2,    12.50,2,     0.00,2,     0.85,2,     -999,9,     -999,9,     -999,9,     -999,9,     -999,9,     -999,9,     -999,9,     -999,     -999,9,     -999,9,     -999,9,     -999,9,   0.0194,2,     -999,9,     -999,9,     -999,     -999,9,     -999,9,     -999,9,     -999,     -999,9,20151001,0743,   1000.3,  74.9804,-149.9581,     -999,9,  35.0412,2
33HQ20150809  ,ARC01      ,56      ,  7,16         ,    6431,   12094,GSNIS-16   ,2,20151001,0722,  74.9780,-150.0048,     3830,   1215.9,  -0.1456,  34.8890,2,     -999,9,    300.0,2,     -999,9,     7.32,2,    12.68,2,     0.00,2,     0.87,2,     -999,9,     -999,9,     -999,9,     -999,9,     -999,9,     -999,9,     -999,9,     -999,     -999,9,     -999,9,     -999,9,     -999,9,  -0.1461,2,     -999,9,     -999,9,     -999,     -999,9,     -999,9,     -999,9,     -999,     -999,9,20151001,0738,   1199.8,  74.9799,-149.9690,     -999,9,     -999,9
33HQ20150809  ,ARC01      ,56      ,  7,17         ,    6431,   12094,GSNIS-17   ,2,20151001,0722,  74.9780,-150.0048,     3830,   1216.2,  -0.1455,  34.8889,2,     -999,9,    300.0,2,     -999,9,     7.32,2,    12.68,2,     0.00,2,     0.87,2,     -999,9,     -999,9,     -999,9,     -999,9,     -999,9,     -999,9,     -999,9,     -999,     -999,9,     -999,9,     -999,9,     -999,9,     -999,9,     -999,9,     -999,9,     -999,     -999,9,     -999,9,     -999,9,     -999,     -999,9,20151001,0738,   1200.0,  74.9799,-149.9689,     -999,9,     -999,9
33HQ20150809  ,ARC01      ,56      ,  7,18         ,    6431,   12094,GSNIS-18   ,2,20151001,0722,  74.9780,-150.0048,     3830,   1216.3,  -0.1451,  34.8886,2,     -999,9,    300.0,2,     -999,9,     7.23,2,    12.68,2,     0.00,2,     0.87,2,     -999,9,     -999,9,     -999,9,     -999,9,     -999,9,     -999,9,     -999,9,     -999,     -999,9,     -999,9,     -999,9,     -999,9,     -999,9,     -999,9,     -999,9,     -999,     -999,9,     -999,9,     -999,9,     -999,     -999,9,20151001,0738,   1200.2,  74.9799,-149.9689,     -999,9,     -999,9
33HQ20150809  ,ARC01      ,56      ,  7,15         ,    6431,   12094,GSNIS-15   ,2,20151001,0722,  74.9780,-150.0048,     3830,   1216.3,  -0.1456,  34.8888,2,     -999,9,    300.0,2,     -999,9,     7.42,2,    12.69,2,     0.00,2,     0.87,2,     -999,9,     -999,9,     -999,9,     -999,9,     -999,9,     -999,9,     -999,9,     -999,     -999,9,     -999,9,     -999,9,     -999,9,     -999,9,     -999,9,     -999,9,     -999,     -999,9,     -999,9,     -999,9,     -999,     -999,9,20151001,0738,   1200.2,  74.9799,-149.9691,     -999,9,     -999,9
33HQ20150809  ,ARC01      ,56      ,  7,14         ,    6431,   12094,GSNIS-14   ,2,20151001,0722,  74.9780,-150.0048,     3830,   1216.8,  -0.1457,  34.8887,2,     -999,9,    299.9,2,     -999,9,     7.32,2,    12.68,2,     0.00,2,     0.87,2,     -999,9,     -999,9,     -999,9,     -999,9,     -999,9,     -999,9,     -999,9,     -999,     -999,9,     -999,9,     -999,9,     -999,9,     -999,9,     -999,9,     -999,9,     -999,     -999,9,     -999,9,     -999,9,     -999,     -999,9,20151001,0738,   1200.7,  74.9799,-149.9691,     -999,9,     -999,9
33HQ20150809  ,ARC01      ,56      ,  7,13         ,    6431,   12094,GSNIS-13   ,2,20151001,0722,  74.9780,-150.0048,     3830,   1217.2,  -0.1460,  34.8888,2,  34.8899,2,    299.9,2,    299.3,2,     7.32,2,    12.68,2,     0.00,2,     0.87,2,     -999,9,     -999,9,     -999,9,     -999,9,     -999,9,     -999,9,     -999,9,     -999,     -999,9,     -999,9,     -999,9,     -999,9,  -0.1461,2,     -999,9,     -999,9,     -999,     -999,9,     -999,9,     -999,9,     -999,     -999,9,20151001,0738,   1201.0,  74.9799,-149.9692,     -999,9,  35.0545,2
33HQ20150809  ,ARC01      ,56      ,  7,9          ,    6431,   12095,GSNIS-9    ,2,20151001,0722,  74.9780,-150.0048,     3830,   1418.2,  -0.2557,  34.9026,2,     -999,9,    299.7,2,     -999,9,     7.91,2,    12.96,2,     0.00,2,     0.89,2,     -999,9,     -999,9,     -999,9,     -999,9,     -999,9,     -999,9,     -999,9,     -999,     -999,9,     -999,9,     -999,9,     -999,9,  -0.2561,2,     -999,9,     -999,9,     -999,     -999,9,     -999,9,     -999,9,     -999,     -999,9,20151001,0728,   1398.7,  74.9788,-149.9923,     -999,9,     -999,9
33HQ20150809  ,ARC01      ,56      ,  7,8          ,    6431,   12095,GSNIS-8    ,2,20151001,0722,  74.9780,-150.0048,     3830,   1418.7,  -0.2563,  34.9028,2,     -999,9,    299.8,2,     -999,9,     7.91,2,    12.98,2,     0.00,2,     0.90,2,     -999,9,     -999,9,     -999,9,     -999,9,     -999,9,     -999,9,     -999,9,     -999,     -999,9,     -999,9,     -999,9,     -999,9,  -0.2564,2,     -999,9,     -999,9,     -999,     -999,9,     -999,9,     -999,9,     -999,     -999,9,20151001,0727,   1399.1,  74.9788,-149.9929,     -999,9,     -999,9
33HQ20150809  ,ARC01      ,56      ,  7,7          ,    6431,   12095,GSNIS-7    ,2,20151001,0722,  74.9780,-150.0048,     3830,   1418.7,  -0.2562,  34.9027,2,  34.9041,2,    299.8,2,    299.2,2,     7.91,2,    12.98,2,     0.00,2,     0.90,2,     -999,9,     -999,9,     -999,9,     -999,9,     -999,9,     -999,9,     -999,9,     -999,     -999,9,     -999,9,     -999,9,     -999,9,  -0.2568,2,     -999,9,     -999,9,     -999,     -999,9,     -999,9,     -999,9,     -999,     -999,9,20151001,0727,   1399.2,  74.9788,-149.9932,     -999,9,  35.0687,2
33HQ20150809  ,ARC01      ,56      ,  7,10         ,    6431,   12095,GSNIS-10   ,2,20151001,0722,  74.9780,-150.0048,     3830,   1419.4,  -0.2564,  34.9026,2,     -999,9,    299.8,2,     -999,9,     7.81,2,    12.95,2,     0.00,2,     0.89,2,     -999,9,     -999,9,     -999,9,     -999,9,     -999,9,     -999,9,     -999,9,     -999,     -999,9,     -999,9,     -999,9,     -999,9,  -0.2567,2,     -999,9,     -999,9,     -999,     -999,9,     -999,9,     -999,9,     -999,     -999,9,20151001,0728,   1399.9,  74.9789,-149.9917,     -999,9,     -999,9
33HQ20150809  ,ARC01      ,56      ,  7,11         ,    6431,   12095,GSNIS-11   ,2,20151001,0722,  74.9780,-150.0048,     3830,   1419.9,  -0.2565,  34.9028,2,     -999,9,    299.8,2,     -999,9,     7.81,2,    12.95,2,     0.00,2,     0.89,2,     -999,9,     -999,9,     -999,9,     -999,9,     -999,9,     -999,9,     -999,9,     -999,     -999,9,     -999,9,     -999,9,     -999,9,  -0.2568,2,     -999,9,     -999,9,     -999,     -999,9,     -999,9,     -999,9,     -999,     -999,9,20151001,0728,   1400.4,  74.9789,-149.9913,     -999,9,     -999,9
33HQ20150809  ,ARC01      ,56      ,  7,12         ,    6431,   12095,GSNIS-12   ,2,20151001,0722,  74.9780,-150.0048,     3830,   1420.6,  -0.2569,  34.9028,2,     -999,9,    299.8,2,     -999,9,     7.91,2,    13.04,2,     0.00,2,     0.91,2,     -999,9,     -999,9,     -999,9,     -999,9,     -999,9,     -999,9,     -999,9,     -999,     -999,9,     -999,9,     -999,9,     -999,9,  -0.2570,2,     -999,9,     -999,9,     -999,     -999,9,     -999,9,     -999,9,     -999,     -999,9,20151001,0728,   1401.0,  74.9789,-149.9909,     -999,9,     -999,9
33HQ20150809  ,ARC01      ,56      ,  7,6          ,    6431,   12096,GSNIS-6    ,2,20151001,0722,  74.9780,-150.0048,     3830,   1619.3,  -0.3355,  34.9170,2,     -999,9,    299.0,2,     -999,9,     8.69,2,    13.34,2,     0.00,2,     0.91,2,     -999,9,     -999,9,     -999,9,     -999,9,     -999,9,     -999,9,     -999,9,     -999,     -999,9,     -999,9,     -999,9,     -999,9,  -0.3357,2,     -999,9,     -999,9,     -999,     -999,9,     -999,9,     -999,9,     -999,     -999,9,20151001,0722,   1596.3,  74.9781,-150.0036,     -999,9,     -999,9
33HQ20150809  ,ARC01      ,56      ,  7,5          ,    6431,   12096,GSNIS-5    ,2,20151001,0722,  74.9780,-150.0048,     3830,   1621.0,  -0.3357,  34.9171,2,     -999,9,    299.3,2,     -999,9,     8.79,2,    13.34,2,     0.00,2,     0.92,2,     -999,9,     -999,9,     -999,9,     -999,9,     -999,9,     -999,9,     -999,9,     -999,     -999,9,     -999,9,     -999,9,     -999,9,  -0.3363,2,     -999,9,     -999,9,     -999,     -999,9,     -999,9,     -999,9,     -999,     -999,9,20151001,0722,   1597.9,  74.9781,-150.0039,     -999,9,     -999,9
33HQ20150809  ,ARC01      ,56      ,  7,4          ,    6431,   12096,GSNIS-4    ,2,20151001,0722,  74.9780,-150.0048,     3830,   1622.9,  -0.3368,  34.9174,2,     -999,9,    299.4,2,     -999,9,     8.69,2,    13.33,2,     0.00,2,     0.93,2,     -999,9,     -999,9,     -999,9,     -999,9,     -999,9,     -999,9,     -999,9,     -999,     -999,9,     -999,9,     -999,9,     -999,9,  -0.3370,2,     -999,9,     -999,9,     -999,     -999,9,     -999,9,     -999,9,     -999,     -999,9,20151001,0722,   1599.8,  74.9781,-150.0042,     -999,9,     -999,9