BOTTLE,20221220CCHSIOAMB
EXPOCODE,SECT_ID,STNNBR,CASTNO,SAMPNO,GEOTR_EVENT,GEOTR_SAMPNO,BTLNBR,BTLNBR_FLAG_W,DATE,TIME,LATITUDE,LONGITUDE,DEPTH,CTDPRS,CTDTMP,CTDSAL,CTDSAL_FLAG_W,SALNTY,SALNTY_FLAG_W,CTDOXY,CTDOXY_FLAG_W,OXYGEN,OXYGEN_FLAG_W,SILCAT,SILCAT_FLAG_W,NITRAT,NITRAT_FLAG_W,NITRIT,NITRIT_FLAG_W,PHSPHT,PHSPHT_FLAG_W,CFC-11,CFC-11_FLAG_W,CFC-12,CFC-12_FLAG_W,CFC113,CFC113_FLAG_W,SF6,SF6_FLAG_W,TCARBN,TCARBN_FLAG_W,ALKALI,ALKALI_FLAG_W,PH_SWS,PH_SWS_FLAG_W,PH_TMP,DOC,DOC_FLAG_W,TRITUM,TRITUM_FLAG_W,HELIUM,HELIUM_FLAG_W,DELHE3,DELHE3_FLAG_W,REFTMP,REFTMP_FLAG_W,DELC13,DELC13_FLAG_W,DELC14,DELC14_FLAG_W,C14ERR,TDN,TDN_FLAG_W,DELO18,DELO18_FLAG_W,DELO17,DELO17_FLAG_W,CH4,CH4,CH4_FLAG_W,BTL_DATE,BTL_TIME,CTDDEPTH,BTL_LAT,BTL_LON,LAB_DEN,LAB_DEN_FLAG_W,SALTREF,SALTREF_FLAG_W
,,,,,,,,,,,,,METERS,DBAR,ITS-90,PSS-78,,PSS-78,,UMOL/KG,,UMOL/KG,,UMOL/KG,,UMOL/KG,,UMOL/KG,,UMOL/KG,,PMOL/KG,,PMOL/KG,,PMOL/KG,,FMOL/KG,,UMOL/KG,,UMOL/KG,,,,DEG C,UMOL/KG,,TU,,NMOL/KG,,PERCNT,,ITS-90,,/MILLE,,/MILLE,,/MILLE,UMOL/KG,,/MILLE,,/MILLE,,NMOL/KG,NMOL/L,,,,METERS,,,KG/M^3,,G/KG,
33HQ20150809  ,ARC01      ,38      ,  8,34         ,    6256,   11439,GSNIS-34   ,2,20150911,0420,  87.8151,-149.7340,     2546,    505.6,   0.6331,  34.8653,2,  34.8633,2,    300.5,2,    300.4,2,     5.96,2,    12.06,2,     0.00,2,     0.82,2,    4.948,2,    2.422,2,    0.335,2,    1.239,2,   2154.4,2,   2293.5,2,   7.7010,2,    25.00,     51.3,2,     -999,1,     -999,1,     -999,1,     -999,9,     0.81,2,     36.5,2,      2.2,    13.07,2,     -999,1,     -999,9,     -999,     -999,1,20150911,0518,    499.5,  87.8121,-149.6218,     -999,9,  35.0277,2
33HQ20150809  ,ARC01      ,38      ,  8,35         ,    6256,   11439,GSNIS-35   ,2,20150911,0420,  87.8151,-149.7340,     2546,    505.6,   0.6330,  34.8653,2,     -999,9,    300.5,2,     -999,9,     5.96,2,    12.05,2,     0.00,2,     0.83,2,     -999,9,     -999,9,     -999,9,     -999,9,     -999,9,     -999,9,     -999,9,     -999,     -999,9,     -999,9,     -999,9,     -999,9,     -999,9,     -999,9,     -999,9,     -999,     -999,9,     -999,9,     -999,9,     -999,     -999,9,20150911,0518,    499.6,  87.8120,-149.6216,     -999,9,     -999,9
33HQ20150809  ,ARC01      ,38      ,  8,36         ,    6256,   11439,GSNIS-36   ,2,20150911,0420,  87.8151,-149.7340,     2546,    505.6,   0.6330,  34.8653,2,     -999,9,    300.5,2,     -999,9,     5.96,2,    12.06,2,     0.00,2,     0.83,2,     -999,9,     -999,9,     -999,9,     -999,9,     -999,9,     -999,9,     -999,9,     -999,     -999,9,     -999,9,     -999,9,     -999,9,     -999,9,     -999,9,     -999,9,     -999,     -999,9,     -999,9,     -999,9,     -999,     -999,9,20150911,0519,    499.6,  87.8120,-149.6213,     -999,9,     -999,9
33HQ20150809  ,ARC01      ,38      ,  8,31         ,    6256,   11440,GSNIS-31   ,2,20150911,0420,  87.8151,-149.7340,     2546,    658.0,   0.2973,  34.8695,2,  34.8688,2,    301.3,2,    302.2,2,     5.96,2,    12.03,2,     0.00,2,     0.83,2,    4.783,2,    2.359,2,    0.320,2,    1.207,2,   2154.5,2,   2292.5,2,   7.8633,4,    25.00,     52.8,2,     -999,1,     -999,1,     -999,1,     -999,9,     0.82,2,     24.5,2,      2.2,    13.18,2,     -999,1,     -999,9,     -999,     -999,1,20150911,0514,    649.9,  87.8123,-149.6292,     -999,9,  35.0332,2
33HQ20150809  ,ARC01      ,38      ,  8,32         ,    6256,   11440,GSNIS-32   ,2,20150911,0420,  87.8151,-149.7340,     2546,    658.0,   0.2974,  34.8696,2,     -999,9,    301.3,2,     -999,9,     5.96,2,    12.03,2,     0.00,2,     0.81,2,     -999,9,     -999,9,     -999,9,     -999,9,     -999,9,     -999,9,     -999,9,     -999,     -999,9,     -999,9,     -999,9,     -999,9,     -999,9,     -999,9,     -999,9,     -999,     -999,9,     -999,9,     -999,9,     -999,     -999,9,20150911,0514,    649.9,  87.8123,-149.6289,     -999,9,     -999,9
33HQ20150809  ,ARC01      ,38      ,  8,33         ,    6256,   11440,GSNIS-33   ,2,20150911,0420,  87.8151,-149.7340,     2546,    658.1,   0.2975,  34.8695,2,     -999,9,    301.3,2,     -999,9,     6.06,2,    12.04,2,     0.00,2,     0.83,2,     -999,9,     -999,9,     -999,9,     -999,9,     -999,9,     -999,9,     -999,9,     -999,     -999,9,     -999,9,     -999,9,     -999,9,     -999,9,     -999,9,     -999,9,     -999,     -999,9,     -999,9,     -999,9,     -999,     -999,9,20150911,0515,    650.0,  87.8123,-149.6286,     -999,9,     -999,9
33HQ20150809  ,ARC01      ,38      ,  8,28         ,    6256,   11441,GSNIS-28   ,2,20150911,0420,  87.8151,-149.7340,     2546,    809.8,   0.0609,  34.8737,2,  34.8731,2,    302.4,2,    302.3,2,     6.25,2,    12.21,2,     0.00,2,     0.84,2,    4.264,2,    2.052,2,    0.273,2,    0.995,2,   2152.2,2,   2289.2,2,   7.7008,2,    25.00,     50.4,2,     -999,1,     -999,1,     -999,1,     -999,9,     0.84,2,     25.3,2,      2.4,    12.15,2,     -999,1,     -999,9,     -999,     -999,1,20150911,0510,    799.6,  87.8125,-149.6377,     -999,9,  35.0375,2
33HQ20150809  ,ARC01      ,38      ,  8,30         ,    6256,   11441,GSNIS-30   ,2,20150911,0420,  87.8151,-149.7340,     2546,    809.9,   0.0606,  34.8736,2,     -999,9,    302.4,2,     -999,9,     6.35,2,    12.20,2,     0.00,2,     0.84,2,     -999,9,     -999,9,     -999,9,     -999,9,     -999,9,     -999,9,     -999,9,     -999,     -999,9,     -999,9,     -999,9,     -999,9,     -999,9,     -999,9,     -999,9,     -999,     -999,9,     -999,9,     -999,9,     -999,     -999,9,20150911,0510,    799.6,  87.8125,-149.6371,     -999,9,     -999,9
33HQ20150809  ,ARC01      ,38      ,  8,29         ,    6256,   11441,GSNIS-29   ,3,20150911,0420,  87.8151,-149.7340,     2546,    809.9,   0.0608,  34.8736,2,     -999,9,    302.4,2,     -999,9,     6.25,2,    12.22,2,     0.00,2,     0.84,2,     -999,9,     -999,9,     -999,9,     -999,9,     -999,9,     -999,9,     -999,9,     -999,     -999,9,     -999,9,     -999,9,     -999,9,     -999,9,     -999,9,     -999,9,     -999,     -999,9,     -999,9,     -999,9,     -999,     -999,9,20150911,0510,    799.6,  87.8125,-149.6374,     -999,9,     -999,9
33HQ20150809  ,ARC01      ,38      ,  8,25         ,    6256,   11442,GSNIS-25   ,2,20150911,0420,  87.8151,-149.7340,     2546,   1013.3,  -0.1429,  34.8867,2,  34.8876,2,    302.8,2,    301.8,2,     6.84,2,    12.53,2,     0.00,2,     0.85,2,    3.175,2,    1.522,2,    0.185,2,    0.647,2,   2147.4,2,   2291.3,2,   7.7074,2,    25.00,     50.3,2,     -999,1,     -999,1,     -999,1,     -999,9,     0.90,2,      7.2,2,      2.4,    13.58,2,     -999,1,     -999,9,     -999,     -999,1,20150911,0504,   1000.0,  87.8128,-149.6476,     -999,9,  35.0522,2
33HQ20150809  ,ARC01      ,38      ,  8,26         ,    6256,   11442,GSNIS-26   ,2,20150911,0420,  87.8151,-149.7340,     2546,   1013.3,  -0.1432,  34.8868,2,     -999,9,    302.8,2,     -999,9,     6.84,2,    12.54,2,     0.00,2,     0.87,2,     -999,9,     -999,9,     -999,9,     -999,9,     -999,9,     -999,9,     -999,9,     -999,     -999,9,     -999,9,     -999,9,     -999,9,     -999,9,     -999,9,     -999,9,     -999,     -999,9,     -999,9,     -999,9,     -999,     -999,9,20150911,0505,   1000.0,  87.8128,-149.6473,     -999,9,     -999,9
33HQ20150809  ,ARC01      ,38      ,  8,27         ,    6256,   11442,GSNIS-27   ,2,20150911,0420,  87.8151,-149.7340,     2546,   1013.4,  -0.1434,  34.8868,2,     -999,9,    302.8,2,     -999,9,     6.84,2,    12.54,2,     0.00,2,     0.85,2,     -999,9,     -999,9,     -999,9,     -999,9,     -999,9,     -999,9,     -999,9,     -999,     -999,9,     -999,9,     -999,9,     -999,9,     -999,9,     -999,9,     -999,9,     -999,     -999,9,     -999,9,     -999,9,     -999,     -999,9,20150911,0505,   1000.0,  87.8128,-149.6470,     -999,9,     -999,9
33HQ20150809  ,ARC01      ,38      ,  8,22         ,    6256,   11443,GSNIS-22   ,2,20150911,0420,  87.8151,-149.7340,     2546,   1242.2,  -0.2814,  34.9034,2,  34.9034,2,    300.2,2,    300.7,2,     7.72,2,    12.93,2,     0.00,2,     0.89,2,    2.070,2,    0.993,2,    0.106,2,    0.372,2,   2142.4,2,   2291.6,2,   7.7144,2,    25.00,     48.7,2,     -999,1,     -999,1,     -999,1,     -999,9,     1.03,2,    -16.7,2,      1.9,    14.13,2,     -999,1,     -999,9,     -999,     -999,1,20150911,0459,   1225.2,  87.8131,-149.6573,     -999,9,  35.0680,2
33HQ20150809  ,ARC01      ,38      ,  8,23         ,    6256,   11443,GSNIS-23   ,2,20150911,0420,  87.8151,-149.7340,     2546,   1242.2,  -0.2815,  34.9035,2,     -999,9,    300.2,2,     -999,9,     7.72,2,    12.92,2,     0.00,2,     0.90,2,     -999,9,     -999,9,     -999,9,     -999,9,     -999,9,     -999,9,     -999,9,     -999,     -999,9,     -999,9,     -999,9,     -999,9,     -999,9,     -999,9,     -999,9,     -999,     -999,9,     -999,9,     -999,9,     -999,     -999,9,20150911,0459,   1225.3,  87.8131,-149.6570,     -999,9,     -999,9
33HQ20150809  ,ARC01      ,38      ,  8,24         ,    6256,   11443,GSNIS-24   ,2,20150911,0420,  87.8151,-149.7340,     2546,   1242.3,  -0.2820,  34.9036,2,     -999,9,    300.2,2,     -999,9,     7.62,2,    12.92,2,     0.00,2,     0.90,2,     -999,9,     -999,9,     -999,9,     -999,9,     -999,9,     -999,9,     -999,9,     -999,     -999,9,     -999,9,     -999,9,     -999,9,     -999,9,     -999,9,     -999,9,     -999,     -999,9,     -999,9,     -999,9,     -999,     -999,9,20150911,0459,   1225.3,  87.8131,-149.6567,     -999,9,     -999,9
33HQ20150809  ,ARC01      ,38      ,  8,21         ,    6256,   11444,GSNIS-21   ,2,20150911,0420,  87.8151,-149.7340,     2546,   1470.7,  -0.3549,  34.9209,2,     -999,9,    297.3,2,     -999,9,     8.99,2,    13.44,2,     0.00,2,     0.94,2,     -999,9,     -999,9,     -999,9,     -999,9,     -999,9,     -999,9,     -999,9,     -999,     -999,9,     -999,9,     -999,9,     -999,9,     -999,9,     -999,9,     -999,9,     -999,     -999,9,     -999,9,     -999,9,     -999,     -999,9,20150911,0453,   1449.8,  87.8135,-149.6707,     -999,9,     -999,9
33HQ20150809  ,ARC01      ,38      ,  8,20         ,    6256,   11444,GSNIS-20   ,2,20150911,0420,  87.8151,-149.7340,     2546,   1470.8,  -0.3552,  34.9209,2,     -999,9,    297.3,2,     -999,9,     8.99,2,    13.44,2,     0.00,2,     0.93,2,     -999,9,     -999,9,     -999,9,     -999,9,     -999,9,     -999,9,     -999,9,     -999,     -999,9,     -999,9,     -999,9,     -999,9,     -999,9,     -999,9,     -999,9,     -999,     -999,9,     -999,9,     -999,9,     -999,     -999,9,20150911,0453,   1449.9,  87.8135,-149.6712,     -999,9,     -999,9
33HQ20150809  ,ARC01      ,38      ,  8,19         ,    6256,   11444,GSNIS-19   ,2,20150911,0420,  87.8151,-149.7340,     2546,   1470.8,  -0.3552,  34.9209,2,  34.9215,2,    297.3,2,    296.7,2,     8.99,2,    13.47,2,     0.00,2,     0.93,2,    0.752,2,    0.346,2,    0.023,2,    0.061,2,   2149.8,2,   2307.1,3,   7.7301,2,    25.00,     48.0,2,     -999,1,     -999,1,     -999,1,     -999,9,     1.15,2,    -49.7,2,      1.8,    14.59,2,     -999,1,     -999,9,     -999,     -999,1,20150911,0453,   1449.9,  87.8135,-149.6716,     -999,9,  35.0861,2
33HQ20150809  ,ARC01      ,38      ,  8,16         ,    6256,   11445,GSNIS-16   ,2,20150911,0420,  87.8151,-149.7340,     2546,   1700.9,  -0.3837,  34.9372,2,  34.9380,2,    293.3,2,    293.3,2,    10.26,2,    13.88,2,     0.00,2,     0.97,2,    0.160,2,    0.070,2,    0.002,2,    0.009,2,   2155.8,2,   2293.1,2,   7.7393,2,    25.00,     46.2,2,     -999,1,     -999,1,     -999,1,     -999,9,     1.30,2,    -81.6,2,      1.8,    14.73,2,     -999,1,     -999,9,     -999,     -999,1,20150911,0447,   1675.8,  87.8137,-149.6772,     -999,9,  35.1027,2
33HQ20150809  ,ARC01      ,38      ,  8,17         ,    6256,   11445,GSNIS-17   ,2,20150911,0420,  87.8151,-149.7340,     2546,   1701.1,  -0.3839,  34.9372,2,     -999,9,    293.3,2,     -999,9,    10.26,2,    13.88,2,     0.00,2,     0.97,2,     -999,9,     -999,9,     -999,9,     -999,9,     -999,9,     -999,9,     -999,9,     -999,     -999,9,     -999,9,     -999,9,     -999,9,     -999,9,     -999,9,     -999,9,     -999,     -999,9,     -999,9,     -999,9,     -999,     -999,9,20150911,0447,   1676.0,  87.8137,-149.6773,     -999,9,     -999,9
33HQ20150809  ,ARC01      ,38      ,  8,18         ,    6256,   11445,GSNIS-18   ,2,20150911,0420,  87.8151,-149.7340,     2546,   1701.3,  -0.3840,  34.9371,2,     -999,9,    293.3,2,     -999,9,    10.26,2,    13.91,2,     0.00,2,     0.97,2,     -999,9,     -999,9,     -999,9,     -999,9,     -999,9,     -999,9,     -999,9,     -999,     -999,9,     -999,9,     -999,9,     -999,9,     -999,9,     -999,9,     -999,9,     -999,     -999,9,     -999,9,     -999,9,     -999,     -999,9,20150911,0448,   1676.2,  87.8137,-149.6774,     -999,9,     -999,9
33HQ20150809  ,ARC01      ,38      ,  8,13         ,    6256,   11446,GSNIS-13   ,2,20150911,0420,  87.8151,-149.7340,     2546,   1929.8,  -0.4033,  34.9461,2,  34.9462,2,    290.0,2,    290.0,2,    11.53,2,    14.16,2,     0.00,2,     1.00,2,    0.073,2,    0.029,2,    0.001,2,    0.000,2,   2156.7,2,   2293.6,2,   7.7375,2,    25.00,     44.4,2,     -999,1,     -999,1,     -999,1,     -999,9,     1.20,2,    -98.0,2,      1.8,    14.68,2,     -999,1,     -999,9,     -999,     -999,1,20150911,0441,   1900.3,  87.8140,-149.6887,     -999,9,  35.1110,2
33HQ20150809  ,ARC01      ,38      ,  8,14         ,    6256,   11446,GSNIS-14   ,2,20150911,0420,  87.8151,-149.7340,     2546,   1929.8,  -0.4032,  34.9460,2,     -999,9,    290.0,2,     -999,9,    11.53,2,    14.18,2,     0.00,2,     0.99,2,     -999,9,     -999,9,     -999,9,     -999,9,     -999,9,     -999,9,     -999,9,     -999,     -999,9,     -999,9,     -999,9,     -999,9,     -999,9,     -999,9,     -999,9,     -999,     -999,9,     -999,9,     -999,9,     -999,     -999,9,20150911,0441,   1900.3,  87.8140,-149.6884,     -999,9,     -999,9
33HQ20150809  ,ARC01      ,38      ,  8,15         ,    6256,   11446,GSNIS-15   ,2,20150911,0420,  87.8151,-149.7340,     2546,   1929.9,  -0.4032,  34.9461,2,     -999,9,    290.0,2,     -999,9,    11.53,2,    14.16,2,     0.00,2,     1.00,2,     -999,9,     -999,9,     -999,9,     -999,9,     -999,9,     -999,9,     -999,9,     -999,     -999,9,     -999,9,     -999,9,     -999,9,     -999,9,     -999,9,     -999,9,     -999,     -999,9,     -999,9,     -999,9,     -999,     -999,9,20150911,0442,   1900.4,  87.8140,-149.6881,     -999,9,     -999,9
33HQ20150809  ,ARC01      ,38      ,  8,10         ,    6256,   11447,GSNIS-10   ,2,20150911,0420,  87.8151,-149.7340,     2546,   2185.0,  -0.4004,  34.9507,2,  34.9488,2,    287.8,2,    287.9,2,    12.31,2,    14.31,2,     0.00,2,     1.00,2,    0.045,2,    0.020,2,    0.001,2,    0.000,2,   2157.3,2,   2292.4,2,   7.7360,2,    25.00,     45.6,2,     -999,1,     -999,1,     -999,1,     -999,9,     1.20,2,    -97.4,2,      2.5,    15.31,2,     -999,1,     -999,9,     -999,     -999,1,20150911,0435,   2150.3,  87.8143,-149.7012,     -999,9,  35.1136,2
33HQ20150809  ,ARC01      ,38      ,  8,11         ,    6256,   11447,GSNIS-11   ,2,20150911,0420,  87.8151,-149.7340,     2546,   2185.0,  -0.4004,  34.9507,2,     -999,9,    287.8,2,     -999,9,    12.31,2,    14.31,2,     0.00,2,     1.01,2,     -999,9,     -999,9,     -999,9,     -999,9,     -999,9,     -999,9,     -999,9,     -999,     -999,9,     -999,9,     -999,9,     -999,9,     -999,9,     -999,9,     -999,9,     -999,     -999,9,     -999,9,     -999,9,     -999,     -999,9,20150911,0435,   2150.4,  87.8143,-149.7009,     -999,9,     -999,9
33HQ20150809  ,ARC01      ,38      ,  8,12         ,    6256,   11447,GSNIS-12   ,2,20150911,0420,  87.8151,-149.7340,     2546,   2185.1,  -0.4003,  34.9507,2,     -999,9,    287.8,2,     -999,9,    12.21,2,    14.30,2,     0.00,2,     1.01,2,     -999,9,     -999,9,     -999,9,     -999,9,     -999,9,     -999,9,     -999,9,     -999,     -999,9,     -999,9,     -999,9,     -999,9,     -999,9,     -999,9,     -999,9,     -999,     -999,9,     -999,9,     -999,9,     -999,     -999,9,20150911,0435,   2150.4,  87.8143,-149.7005,     -999,9,     -999,9
33HQ20150809  ,ARC01      ,38      ,  8,9          ,    6256,   11448,GSNIS-9    ,2,20150911,0420,  87.8151,-149.7340,     2546,   2428.8,  -0.3769,  34.9531,2,     -999,9,    286.8,2,     -999,9,    12.70,2,    14.41,2,     0.00,2,     1.00,2,     -999,9,     -999,9,     -999,9,     -999,9,     -999,9,     -999,9,     -999,9,     -999,     -999,9,     -999,9,     -999,9,     -999,9,     -999,9,     -999,9,     -999,9,     -999,     -999,9,     -999,9,     -999,9,     -999,     -999,9,20150911,0429,   2389.0,  87.8146,-149.7129,     -999,9,     -999,9
33HQ20150809  ,ARC01      ,38      ,  8,8          ,    6256,   11448,GSNIS-8    ,2,20150911,0420,  87.8151,-149.7340,     2546,   2428.8,  -0.3769,  34.9531,2,     -999,9,    286.8,2,     -999,9,    12.60,2,    14.40,2,     0.00,2,     1.01,2,     -999,9,     -999,9,     -999,9,     -999,9,     -999,9,     -999,9,     -999,9,     -999,     -999,9,     -999,9,     -999,9,     -999,9,     -999,9,     -999,9,     -999,9,     -999,     -999,9,     -999,9,     -999,9,     -999,     -999,9,20150911,0429,   2388.9,  87.8146,-149.7132,     -999,9,     -999,9
33HQ20150809  ,ARC01      ,38      ,  8,7          ,    6256,   11448,GSNIS-7    ,2,20150911,0420,  87.8151,-149.7340,     2546,   2428.8,  -0.3769,  34.9531,2,  34.9533,2,    286.8,2,    286.4,2,    12.60,2,    14.40,2,     0.00,2,     1.02,2,    0.037,2,    0.018,2,    0.002,2,    0.000,2,   2156.7,2,   2303.9,2,   7.7355,2,    25.00,     45.1,2,     -999,1,     -999,1,     -999,1,     -999,9,     1.20,2,   -103.9,2,      2.5,    14.61,2,     -999,1,     -999,9,     -999,     -999,1,20150911,0429,   2388.9,  87.8146,-149.7136,     -999,9,  35.1181,2
33HQ20150809  ,ARC01      ,38      ,  8,4          ,    6256,   11449,GSNIS-4    ,2,20150911,0420,  87.8151,-149.7340,     2546,   2505.3,  -0.3713,  34.9532,2,  34.9545,2,    286.5,2,    286.6,2,    12.70,2,    14.40,2,     0.00,2,     1.01,2,    0.032,2,    0.012,2,    0.000,2,    0.020,2,   2158.1,2,   2302.4,2,   7.7350,2,    25.00,     45.0,2,     -999,1,     -999,1,     -999,1,     -999,9,     1.25,2,   -108.2,2,      1.8,    15.43,2,     -999,1,     -999,9,     -999,     -999,1,20150911,0425,   2463.7,  87.8148,-149.7219,     -999,9,  35.1193,2
33HQ20150809  ,ARC01      ,38      ,  8,6          ,    6256,   11449,GSNIS-6    ,2,20150911,0420,  87.8151,-149.7340,     2546,   2505.3,  -0.3713,  34.9532,2,     -999,9,    286.5,2,     -999,9,    12.80,2,    14.36,2,     0.00,2,     1.02,2,     -999,9,     -999,9,     -999,9,     -999,9,     -999,9,     -999,9,     -999,9,     -999,     -999,9,     -999,9,     -999,9,     -999,9,     -999,9,     -999,9,     -999,9,     -999,     -999,9,     -999,9,     -999,9,     -999,     -999,9,20150911,0426,   2463.7,  87.8148,-149.7211,     -999,9,     -999,9
33HQ20150809  ,ARC01      ,38      ,  8,5          ,    6256,   11449,GSNIS-5    ,2,20150911,0420,  87.8151,-149.7340,     2546,   2505.3,  -0.3714,  34.9532,2,     -999,9,    286.5,2,     -999,9,    12.80,2,    14.38,2,     0.00,2,     1.02,2,     -999,9,     -999,9,     -999,9,     -999,9,     -999,9,     -999,9,     -999,9,     -999,     -999,9,     -999,9,     -999,9,     -999,9,     -999,9,     -999,9,     -999,9,     -999,     -999,9,     -999,9,     -999,9,     -999,     -999,9,20150911,0426,   2463.7,  87.8148,-149.7215,     -999,9,     -999,9