BOTTLE,20221220CCHSIOAMB
EXPOCODE,SECT_ID,STNNBR,CASTNO,SAMPNO,GEOTR_EVENT,GEOTR_SAMPNO,BTLNBR,BTLNBR_FLAG_W,DATE,TIME,LATITUDE,LONGITUDE,DEPTH,CTDPRS,CTDTMP,CTDSAL,CTDSAL_FLAG_W,SALNTY,SALNTY_FLAG_W,CTDOXY,CTDOXY_FLAG_W,OXYGEN,OXYGEN_FLAG_W,SILCAT,SILCAT_FLAG_W,NITRAT,NITRAT_FLAG_W,NITRIT,NITRIT_FLAG_W,PHSPHT,PHSPHT_FLAG_W,CFC-11,CFC-11_FLAG_W,CFC-12,CFC-12_FLAG_W,CFC113,CFC113_FLAG_W,SF6,SF6_FLAG_W,TCARBN,TCARBN_FLAG_W,ALKALI,ALKALI_FLAG_W,PH_SWS,PH_SWS_FLAG_W,PH_TMP,DOC,DOC_FLAG_W,TRITUM,TRITUM_FLAG_W,HELIUM,HELIUM_FLAG_W,DELHE3,DELHE3_FLAG_W,REFTMP,REFTMP_FLAG_W,DELC13,DELC13_FLAG_W,DELC14,DELC14_FLAG_W,C14ERR,TDN,TDN_FLAG_W,DELO18,DELO18_FLAG_W,DELO17,DELO17_FLAG_W,CH4,CH4,CH4_FLAG_W,BTL_DATE,BTL_TIME,CTDDEPTH,BTL_LAT,BTL_LON,LAB_DEN,LAB_DEN_FLAG_W,SALTREF,SALTREF_FLAG_W
,,,,,,,,,,,,,METERS,DBAR,ITS-90,PSS-78,,PSS-78,,UMOL/KG,,UMOL/KG,,UMOL/KG,,UMOL/KG,,UMOL/KG,,UMOL/KG,,PMOL/KG,,PMOL/KG,,PMOL/KG,,FMOL/KG,,UMOL/KG,,UMOL/KG,,,,DEG C,UMOL/KG,,TU,,NMOL/KG,,PERCNT,,ITS-90,,/MILLE,,/MILLE,,/MILLE,UMOL/KG,,/MILLE,,/MILLE,,NMOL/KG,NMOL/L,,,,METERS,,,KG/M^3,,G/KG,
33HQ20150809  ,ARC01      ,60      ,  3,36         ,    6463,   12259,GSNIS-36   ,2,20151005,0839,  73.0077,-158.7294,      994,      5.1,  -0.7902,  25.8684,2,  25.9202,2,    377.1,2,    377.2,2,     2.46,2,     0.00,2,     0.00,2,     0.53,2,     -999,9,     -999,9,     -999,9,     -999,9,     -999,9,     -999,9,     -999,9,     -999,     -999,9,     -999,9,     -999,9,     -999,9,  -0.7889,2,     -999,9,     -999,9,     -999,     -999,9,     -999,9,     -999,9,     -999,     -999,9,20151005,0909,      5.0,  73.0106,-158.7471,     -999,9,  26.0424,2
33HQ20150809  ,ARC01      ,60      ,  3,35         ,    6463,   12258,GSNIS-35   ,2,20151005,0839,  73.0077,-158.7294,      994,     22.3,  -0.1748,  28.8506,2,     -999,9,    403.3,2,     -999,9,     4.12,2,     0.00,2,     0.00,2,     0.56,2,     -999,9,     -999,9,     -999,9,     -999,9,     -999,9,     -999,9,     -999,9,     -999,     -999,9,     -999,9,     -999,9,     -999,9,   0.0344,3,     -999,9,     -999,9,     -999,     -999,9,     -999,9,     -999,9,     -999,     -999,9,20151005,0908,     22.0,  73.0105,-158.7468,     -999,9,     -999,9
33HQ20150809  ,ARC01      ,60      ,  3,34         ,    6463,   12258,GSNIS-34   ,2,20151005,0839,  73.0077,-158.7294,      994,     22.3,  -0.1486,  28.8530,2,     -999,9,    403.3,2,     -999,9,     4.02,2,     0.00,2,     0.00,2,     0.57,2,     -999,9,     -999,9,     -999,9,     -999,9,     -999,9,     -999,9,     -999,9,     -999,     -999,9,     -999,9,     -999,9,     -999,9,   0.0520,3,     -999,9,     -999,9,     -999,     -999,9,     -999,9,     -999,9,     -999,     -999,9,20151005,0908,     22.0,  73.0105,-158.7468,     -999,9,     -999,9
33HQ20150809  ,ARC01      ,60      ,  3,33         ,    6463,   12258,GSNIS-33   ,2,20151005,0839,  73.0077,-158.7294,      994,     22.3,  -0.2264,  28.8244,2,  29.1446,2,    403.4,2,    354.7,2,     4.12,2,     0.00,2,     0.00,2,     0.57,2,     -999,9,     -999,9,     -999,9,     -999,9,     -999,9,     -999,9,     -999,9,     -999,     -999,9,     -999,9,     -999,9,     -999,9,   0.4893,3,     -999,9,     -999,9,     -999,     -999,9,     -999,9,     -999,9,     -999,     -999,9,20151005,0907,     22.0,  73.0105,-158.7467,     -999,9,  29.2820,2
33HQ20150809  ,ARC01      ,60      ,  3,32         ,    6463,   12257,GSNIS-32   ,2,20151005,0839,  73.0077,-158.7294,      994,     30.4,   1.9216,  29.7317,2,  29.8297,2,    341.7,2,    364.8,2,     4.31,2,     0.00,2,     0.00,2,     0.62,2,     -999,9,     -999,9,     -999,9,     -999,9,     -999,9,     -999,9,     -999,9,     -999,     -999,9,     -999,9,     -999,9,     -999,9,   1.9684,3,     -999,9,     -999,9,     -999,     -999,9,     -999,9,     -999,9,     -999,     -999,9,20151005,0906,     30.0,  73.0105,-158.7464,     -999,9,  29.9703,2
33HQ20150809  ,ARC01      ,60      ,  3,27         ,    6463,   12256,GSNIS-27   ,2,20151005,0839,  73.0077,-158.7294,      994,     40.8,  -0.7570,  30.1773,2,  30.4568,2,    406.6,2,    394.9,2,     3.63,2,     0.09,2,     0.00,2,     0.73,2,     -999,9,     -999,9,     -999,9,     -999,9,     -999,9,     -999,9,     -999,9,     -999,     -999,9,     -999,9,     -999,9,     -999,9,  -0.7598,2,     -999,9,     -999,9,     -999,     -999,9,     -999,9,     -999,9,     -999,     -999,9,20151005,0904,     40.4,  73.0105,-158.7458,     -999,9,  30.6004,2
33HQ20150809  ,ARC01      ,60      ,  3,31         ,    6463,   12256,GSNIS-31   ,2,20151005,0839,  73.0077,-158.7294,      994,     40.8,  -0.7599,  30.1591,2,     -999,9,    406.7,2,     -999,9,     3.72,2,     0.05,2,     0.00,2,     0.72,2,     -999,9,     -999,9,     -999,9,     -999,9,     -999,9,     -999,9,     -999,9,     -999,     -999,9,     -999,9,     -999,9,     -999,9,  -0.7594,2,     -999,9,     -999,9,     -999,     -999,9,     -999,9,     -999,9,     -999,     -999,9,20151005,0905,     40.4,  73.0105,-158.7459,     -999,9,     -999,9
33HQ20150809  ,ARC01      ,60      ,  3,29         ,    6463,   12256,GSNIS-29   ,2,20151005,0839,  73.0077,-158.7294,      994,     40.8,  -0.7552,  30.1796,2,     -999,9,    406.6,2,     -999,9,     3.63,2,     0.03,2,     0.00,2,     0.72,2,     -999,9,     -999,9,     -999,9,     -999,9,     -999,9,     -999,9,     -999,9,     -999,     -999,9,     -999,9,     -999,9,     -999,9,  -0.7600,2,     -999,9,     -999,9,     -999,     -999,9,     -999,9,     -999,9,     -999,     -999,9,20151005,0905,     40.4,  73.0105,-158.7458,     -999,9,     -999,9
33HQ20150809  ,ARC01      ,60      ,  3,30         ,    6463,   12256,GSNIS-30   ,2,20151005,0839,  73.0077,-158.7294,      994,     40.8,  -0.7602,  30.1699,2,     -999,9,    406.6,2,     -999,9,     3.63,2,     0.03,2,     0.00,2,     0.72,2,     -999,9,     -999,9,     -999,9,     -999,9,     -999,9,     -999,9,     -999,9,     -999,     -999,9,     -999,9,     -999,9,     -999,9,  -0.7598,2,     -999,9,     -999,9,     -999,     -999,9,     -999,9,     -999,9,     -999,     -999,9,20151005,0905,     40.3,  73.0105,-158.7459,     -999,9,     -999,9
33HQ20150809  ,ARC01      ,60      ,  3,28         ,    6463,   12256,GSNIS-28   ,2,20151005,0839,  73.0077,-158.7294,      994,     40.8,  -0.7572,  30.1701,2,     -999,9,    406.6,2,     -999,9,     3.63,2,     0.03,2,     0.00,2,     0.72,2,     -999,9,     -999,9,     -999,9,     -999,9,     -999,9,     -999,9,     -999,9,     -999,     -999,9,     -999,9,     -999,9,     -999,9,  -0.7599,2,     -999,9,     -999,9,     -999,     -999,9,     -999,9,     -999,9,     -999,     -999,9,20151005,0904,     40.4,  73.0105,-158.7458,     -999,9,     -999,9
33HQ20150809  ,ARC01      ,60      ,  3,26         ,    6463,   12255,GSNIS-26   ,2,20151005,0839,  73.0077,-158.7294,      994,     62.6,  -0.3063,  31.3619,2,  31.2940,2,    355.0,2,    364.4,2,     7.05,2,     1.53,2,     0.19,2,     0.90,2,     -999,9,     -999,9,     -999,9,     -999,9,     -999,9,     -999,9,     -999,9,     -999,     -999,9,     -999,9,     -999,9,     -999,9,  -0.3054,2,     -999,9,     -999,9,     -999,     -999,9,     -999,9,     -999,9,     -999,     -999,9,20151005,0903,     62.0,  73.0104,-158.7450,     -999,9,  31.4416,2
33HQ20150809  ,ARC01      ,60      ,  3,23         ,    6463,   12254,GSNIS-23   ,2,20151005,0839,  73.0077,-158.7294,      994,     99.5,  -1.1281,  32.2326,2,     -999,9,    302.1,2,     -999,9,    20.26,2,     9.45,2,     0.08,2,     1.44,2,     -999,9,     -999,9,     -999,9,     -999,9,     -999,9,     -999,9,     -999,9,     -999,     -999,9,     -999,9,     -999,9,     -999,9,  -1.1308,2,     -999,9,     -999,9,     -999,     -999,9,     -999,9,     -999,9,     -999,     -999,9,20151005,0901,     98.4,  73.0103,-158.7439,     -999,9,     -999,9
33HQ20150809  ,ARC01      ,60      ,  3,24         ,    6463,   12254,GSNIS-24   ,2,20151005,0839,  73.0077,-158.7294,      994,     99.5,  -1.1311,  32.2309,2,     -999,9,    302.1,2,     -999,9,    20.35,2,     9.41,2,     0.08,2,     1.45,2,     -999,9,     -999,9,     -999,9,     -999,9,     -999,9,     -999,9,     -999,9,     -999,     -999,9,     -999,9,     -999,9,     -999,9,  -1.1276,2,     -999,9,     -999,9,     -999,     -999,9,     -999,9,     -999,9,     -999,     -999,9,20151005,0901,     98.4,  73.0103,-158.7439,     -999,9,     -999,9
33HQ20150809  ,ARC01      ,60      ,  3,22         ,    6463,   12254,GSNIS-22   ,2,20151005,0839,  73.0077,-158.7294,      994,     99.5,  -1.1290,  32.2317,2,     -999,9,    302.1,2,     -999,9,    20.55,2,     9.17,2,     0.09,2,     1.45,2,     -999,9,     -999,9,     -999,9,     -999,9,     -999,9,     -999,9,     -999,9,     -999,     -999,9,     -999,9,     -999,9,     -999,9,  -1.1329,2,     -999,9,     -999,9,     -999,     -999,9,     -999,9,     -999,9,     -999,     -999,9,20151005,0900,     98.4,  73.0103,-158.7438,     -999,9,     -999,9
33HQ20150809  ,ARC01      ,60      ,  3,21         ,    6463,   12254,GSNIS-21   ,2,20151005,0839,  73.0077,-158.7294,      994,     99.5,  -1.1310,  32.2307,2,  32.2123,2,    302.1,2,    316.6,2,    20.26,2,     9.38,2,     0.07,2,     1.46,2,     -999,9,     -999,9,     -999,9,     -999,9,     -999,9,     -999,9,     -999,9,     -999,     -999,9,     -999,9,     -999,9,     -999,9,  -1.1335,2,     -999,9,     -999,9,     -999,     -999,9,     -999,9,     -999,9,     -999,     -999,9,20151005,0900,     98.4,  73.0102,-158.7438,     -999,9,  32.3642,2
33HQ20150809  ,ARC01      ,60      ,  3,25         ,    6463,   12254,GSNIS-25   ,2,20151005,0839,  73.0077,-158.7294,      994,     99.5,  -1.1282,  32.2315,2,     -999,9,    302.1,2,     -999,9,    20.26,2,     9.61,2,     0.07,2,     1.46,2,     -999,9,     -999,9,     -999,9,     -999,9,     -999,9,     -999,9,     -999,9,     -999,     -999,9,     -999,9,     -999,9,     -999,9,  -1.1265,2,     -999,9,     -999,9,     -999,     -999,9,     -999,9,     -999,9,     -999,     -999,9,20151005,0901,     98.4,  73.0103,-158.7440,     -999,9,     -999,9
33HQ20150809  ,ARC01      ,60      ,  3,19         ,    6463,   12253,GSNIS-19   ,2,20151005,0839,  73.0077,-158.7294,      994,    125.2,  -1.4032,  32.6695,2,     -999,9,    287.5,2,     -999,9,    30.52,2,    13.06,2,     0.10,2,     1.73,2,     -999,9,     -999,9,     -999,9,     -999,9,     -999,9,     -999,9,     -999,9,     -999,     -999,9,     -999,9,     -999,9,     -999,9,  -1.4036,2,     -999,9,     -999,9,     -999,     -999,9,     -999,9,     -999,9,     -999,     -999,9,20151005,0858,    123.9,  73.0099,-158.7422,     -999,9,     -999,9
33HQ20150809  ,ARC01      ,60      ,  3,20         ,    6463,   12253,GSNIS-20   ,2,20151005,0839,  73.0077,-158.7294,      994,    125.2,  -1.4031,  32.6693,2,     -999,9,    287.5,2,     -999,9,    30.33,2,    13.21,2,     0.09,2,     1.75,2,     -999,9,     -999,9,     -999,9,     -999,9,     -999,9,     -999,9,     -999,9,     -999,     -999,9,     -999,9,     -999,9,     -999,9,  -1.4034,2,     -999,9,     -999,9,     -999,     -999,9,     -999,9,     -999,9,     -999,     -999,9,20151005,0858,    123.9,  73.0099,-158.7423,     -999,9,     -999,9
33HQ20150809  ,ARC01      ,60      ,  3,18         ,    6463,   12253,GSNIS-18   ,2,20151005,0839,  73.0077,-158.7294,      994,    125.2,  -1.4029,  32.6693,2,  32.6941,2,    287.5,2,    282.1,2,    30.33,2,    13.31,2,     0.08,2,     1.75,2,     -999,9,     -999,9,     -999,9,     -999,9,     -999,9,     -999,9,     -999,9,     -999,     -999,9,     -999,9,     -999,9,     -999,9,  -1.4042,2,     -999,9,     -999,9,     -999,     -999,9,     -999,9,     -999,9,     -999,     -999,9,20151005,0858,    123.9,  73.0099,-158.7422,     -999,9,  32.8482,2
33HQ20150809  ,ARC01      ,60      ,  3,17         ,    6463,   12252,GSNIS-17   ,2,20151005,0839,  73.0077,-158.7294,      994,    173.0,  -0.9931,  33.7415,2,  33.7145,2,    271.2,2,    272.8,2,    26.69,2,    14.22,2,     0.12,2,     1.52,2,     -999,9,     -999,9,     -999,9,     -999,9,     -999,9,     -999,9,     -999,9,     -999,     -999,9,     -999,9,     -999,9,     -999,9,  -0.9924,2,     -999,9,     -999,9,     -999,     -999,9,     -999,9,     -999,9,     -999,     -999,9,20151005,0856,    171.2,  73.0096,-158.7406,     -999,9,  33.8734,2
33HQ20150809  ,ARC01      ,60      ,  3,14         ,    6463,   12251,GSNIS-14   ,2,20151005,0839,  73.0077,-158.7294,      994,    218.5,  -0.0078,  34.5472,2,  34.5664,2,    278.1,2,    279.3,2,    11.63,2,    12.68,2,     0.00,2,     0.98,2,     -999,9,     -999,9,     -999,9,     -999,9,     -999,9,     -999,9,     -999,9,     -999,     -999,9,     -999,9,     -999,9,     -999,9,  -0.0169,2,     -999,9,     -999,9,     -999,     -999,9,     -999,9,     -999,9,     -999,     -999,9,20151005,0854,    216.1,  73.0093,-158.7390,     -999,9,  34.7294,2
33HQ20150809  ,ARC01      ,60      ,  3,15         ,    6463,   12251,GSNIS-15   ,2,20151005,0839,  73.0077,-158.7294,      994,    218.6,   0.0143,  34.5570,2,     -999,9,    277.6,2,     -999,9,    11.63,2,    12.71,2,     0.00,2,     0.97,2,     -999,9,     -999,9,     -999,9,     -999,9,     -999,9,     -999,9,     -999,9,     -999,     -999,9,     -999,9,     -999,9,     -999,9,  -0.0061,2,     -999,9,     -999,9,     -999,     -999,9,     -999,9,     -999,9,     -999,     -999,9,20151005,0854,    216.2,  73.0093,-158.7391,     -999,9,     -999,9
33HQ20150809  ,ARC01      ,60      ,  3,16         ,    6463,   12251,GSNIS-16   ,2,20151005,0839,  73.0077,-158.7294,      994,    218.7,  -0.0023,  34.5497,2,     -999,9,    278.1,2,     -999,9,    11.72,2,    12.73,2,     0.00,2,     0.98,2,     -999,9,     -999,9,     -999,9,     -999,9,     -999,9,     -999,9,     -999,9,     -999,     -999,9,     -999,9,     -999,9,     -999,9,   0.0128,2,     -999,9,     -999,9,     -999,     -999,9,     -999,9,     -999,9,     -999,     -999,9,20151005,0854,    216.3,  73.0094,-158.7391,     -999,9,     -999,9
33HQ20150809  ,ARC01      ,60      ,  3,9          ,    6463,   12250,GSNIS-9    ,2,20151005,0839,  73.0077,-158.7294,      994,    304.4,   0.6043,  34.7698,2,  34.7730,2,    284.9,2,    284.9,2,     8.50,2,    12.82,2,     0.00,2,     0.90,2,     -999,9,     -999,9,     -999,9,     -999,9,     -999,9,     -999,9,     -999,9,     -999,     -999,9,     -999,9,     -999,9,     -999,9,   0.6048,2,     -999,9,     -999,9,     -999,     -999,9,     -999,9,     -999,9,     -999,     -999,9,20151005,0850,    301.1,  73.0090,-158.7368,     -999,9,  34.9369,2
33HQ20150809  ,ARC01      ,60      ,  3,10         ,    6463,   12220,GSNIS-10   ,2,20151005,0839,  73.0077,-158.7294,      994,    304.5,   0.6035,  34.7696,2,     -999,9,    284.9,2,     -999,9,     8.60,2,    12.82,2,     0.00,2,     0.91,2,     -999,9,     -999,9,     -999,9,     -999,9,     -999,9,     -999,9,     -999,9,     -999,     -999,9,     -999,9,     -999,9,     -999,9,   0.6051,2,     -999,9,     -999,9,     -999,     -999,9,     -999,9,     -999,9,     -999,     -999,9,20151005,0850,    301.1,  73.0090,-158.7369,     -999,9,     -999,9
33HQ20150809  ,ARC01      ,60      ,  3,11         ,    6463,   12250,GSNIS-11   ,2,20151005,0839,  73.0077,-158.7294,      994,    304.6,   0.6036,  34.7694,2,     -999,9,    284.9,2,     -999,9,     8.60,2,    12.83,2,     0.00,2,     0.91,2,     -999,9,     -999,9,     -999,9,     -999,9,     -999,9,     -999,9,     -999,9,     -999,     -999,9,     -999,9,     -999,9,     -999,9,   0.6038,2,     -999,9,     -999,9,     -999,     -999,9,     -999,9,     -999,9,     -999,     -999,9,20151005,0850,    301.2,  73.0090,-158.7369,     -999,9,     -999,9
33HQ20150809  ,ARC01      ,60      ,  3,12         ,    6463,   12250,GSNIS-12   ,2,20151005,0839,  73.0077,-158.7294,      994,    304.7,   0.6039,  34.7694,2,     -999,9,    284.9,2,     -999,9,     8.60,2,    12.81,2,     0.00,2,     0.90,2,     -999,9,     -999,9,     -999,9,     -999,9,     -999,9,     -999,9,     -999,9,     -999,     -999,9,     -999,9,     -999,9,     -999,9,   0.6034,2,     -999,9,     -999,9,     -999,     -999,9,     -999,9,     -999,9,     -999,     -999,9,20151005,0851,    301.3,  73.0090,-158.7370,     -999,9,     -999,9
33HQ20150809  ,ARC01      ,60      ,  3,13         ,    6463,   12250,GSNIS-13   ,2,20151005,0839,  73.0077,-158.7294,      994,    304.8,   0.6025,  34.7690,2,     -999,9,    284.9,2,     -999,9,     8.60,2,    12.82,2,     0.00,2,     0.90,2,     -999,9,     -999,9,     -999,9,     -999,9,     -999,9,     -999,9,     -999,9,     -999,     -999,9,     -999,9,     -999,9,     -999,9,   0.6035,2,     -999,9,     -999,9,     -999,     -999,9,     -999,9,     -999,9,     -999,     -999,9,20151005,0851,    301.4,  73.0090,-158.7370,     -999,9,     -999,9
33HQ20150809  ,ARC01      ,60      ,  3,4          ,    6463,   12249,GSNIS-4    ,2,20151005,0839,  73.0077,-158.7294,      994,    377.5,   0.7505,  34.8266,2,  34.8253,2,    288.1,2,    289.6,2,     7.42,2,    12.70,2,     0.00,2,     0.88,2,     -999,9,     -999,9,     -999,9,     -999,9,     -999,9,     -999,9,     -999,9,     -999,     -999,9,     -999,9,     -999,9,     -999,9,   0.7507,2,     -999,9,     -999,9,     -999,     -999,9,     -999,9,     -999,9,     -999,     -999,9,20151005,0846,    373.3,  73.0084,-158.7338,     -999,9,  34.9895,2
33HQ20150809  ,ARC01      ,60      ,  3,5          ,    6463,   12249,GSNIS-5    ,2,20151005,0839,  73.0077,-158.7294,      994,    377.7,   0.7504,  34.8267,2,     -999,9,    288.1,2,     -999,9,     7.42,2,    12.66,2,     0.00,2,     0.89,2,     -999,9,     -999,9,     -999,9,     -999,9,     -999,9,     -999,9,     -999,9,     -999,     -999,9,     -999,9,     -999,9,     -999,9,   0.7505,2,     -999,9,     -999,9,     -999,     -999,9,     -999,9,     -999,9,     -999,     -999,9,20151005,0846,    373.5,  73.0084,-158.7338,     -999,9,     -999,9
33HQ20150809  ,ARC01      ,60      ,  3,6          ,    6463,   12249,GSNIS-6    ,2,20151005,0839,  73.0077,-158.7294,      994,    377.9,   0.7501,  34.8268,2,     -999,9,    288.1,2,     -999,9,     7.42,2,    12.65,2,     0.00,2,     0.88,2,     -999,9,     -999,9,     -999,9,     -999,9,     -999,9,     -999,9,     -999,9,     -999,     -999,9,     -999,9,     -999,9,     -999,9,   0.7503,2,     -999,9,     -999,9,     -999,     -999,9,     -999,9,     -999,9,     -999,     -999,9,20151005,0846,    373.7,  73.0084,-158.7339,     -999,9,     -999,9
33HQ20150809  ,ARC01      ,60      ,  3,7          ,    6463,   12249,GSNIS-7    ,2,20151005,0839,  73.0077,-158.7294,      994,    378.1,   0.7500,  34.8270,2,     -999,9,    288.1,2,     -999,9,     7.42,2,    12.65,2,     0.00,2,     0.88,2,     -999,9,     -999,9,     -999,9,     -999,9,     -999,9,     -999,9,     -999,9,     -999,     -999,9,     -999,9,     -999,9,     -999,9,   0.7502,2,     -999,9,     -999,9,     -999,     -999,9,     -999,9,     -999,9,     -999,     -999,9,20151005,0846,    373.9,  73.0084,-158.7339,     -999,9,     -999,9
33HQ20150809  ,ARC01      ,60      ,  3,8          ,    6463,   12249,GSNIS-8    ,2,20151005,0839,  73.0077,-158.7294,      994,    378.3,   0.7497,  34.8274,2,     -999,9,    288.1,2,     -999,9,     7.42,2,    12.65,2,     0.00,2,     0.87,2,     -999,9,     -999,9,     -999,9,     -999,9,     -999,9,     -999,9,     -999,9,     -999,     -999,9,     -999,9,     -999,9,     -999,9,   0.7499,2,     -999,9,     -999,9,     -999,     -999,9,     -999,9,     -999,9,     -999,     -999,9,20151005,0846,    374.1,  73.0084,-158.7340,     -999,9,     -999,9