BOTTLE,20221220CCHSIOAMB
EXPOCODE,SECT_ID,STNNBR,CASTNO,SAMPNO,GEOTR_EVENT,GEOTR_SAMPNO,BTLNBR,BTLNBR_FLAG_W,DATE,TIME,LATITUDE,LONGITUDE,DEPTH,CTDPRS,CTDTMP,CTDSAL,CTDSAL_FLAG_W,SALNTY,SALNTY_FLAG_W,CTDOXY,CTDOXY_FLAG_W,OXYGEN,OXYGEN_FLAG_W,SILCAT,SILCAT_FLAG_W,NITRAT,NITRAT_FLAG_W,NITRIT,NITRIT_FLAG_W,PHSPHT,PHSPHT_FLAG_W,CFC-11,CFC-11_FLAG_W,CFC-12,CFC-12_FLAG_W,CFC113,CFC113_FLAG_W,SF6,SF6_FLAG_W,TCARBN,TCARBN_FLAG_W,ALKALI,ALKALI_FLAG_W,PH_SWS,PH_SWS_FLAG_W,PH_TMP,DOC,DOC_FLAG_W,TRITUM,TRITUM_FLAG_W,HELIUM,HELIUM_FLAG_W,DELHE3,DELHE3_FLAG_W,REFTMP,REFTMP_FLAG_W,DELC13,DELC13_FLAG_W,DELC14,DELC14_FLAG_W,C14ERR,TDN,TDN_FLAG_W,DELO18,DELO18_FLAG_W,DELO17,DELO17_FLAG_W,CH4,CH4,CH4_FLAG_W,BTL_DATE,BTL_TIME,CTDDEPTH,BTL_LAT,BTL_LON,LAB_DEN,LAB_DEN_FLAG_W,SALTREF,SALTREF_FLAG_W
,,,,,,,,,,,,,METERS,DBAR,ITS-90,PSS-78,,PSS-78,,UMOL/KG,,UMOL/KG,,UMOL/KG,,UMOL/KG,,UMOL/KG,,UMOL/KG,,PMOL/KG,,PMOL/KG,,PMOL/KG,,FMOL/KG,,UMOL/KG,,UMOL/KG,,,,DEG C,UMOL/KG,,TU,,NMOL/KG,,PERCNT,,ITS-90,,/MILLE,,/MILLE,,/MILLE,UMOL/KG,,/MILLE,,/MILLE,,NMOL/KG,NMOL/L,,,,METERS,,,KG/M^3,,G/KG,
33HQ20150809  ,ARC01      ,55      ,  1,36         ,    6419,    -999,GSNIS-36   ,2,20150929,0329,  76.2504,-150.0779,     3833,      3.8,  -1.1050,  26.0867,2,  26.0796,2,    383.1,2,    383.9,2,     2.46,2,     0.00,2,     0.00,2,     0.52,2,    6.657,2,    3.654,2,    0.645,2,    3.688,2,   1824.9,6,   1886.0,2,   7.6161,2,    25.00,    146.5,2,     -999,9,     -999,9,     -999,9,  -1.1039,2,     1.47,2,     -999,1,     -999,     3.75,2,     -999,1,     -999,9,     -999,     -999,9,20150929,0516,      3.8,  76.2479,-150.1692,     -999,1,  26.2025,2
33HQ20150809  ,ARC01      ,55      ,  1,35         ,    6419,    -999,GSNIS-35   ,2,20150929,0329,  76.2504,-150.0779,     3833,     18.2,  -1.0877,  26.1107,2,  26.2815,2,    384.8,2,    383.5,2,     2.46,2,     0.00,2,     0.00,2,     0.52,2,    6.660,2,    3.598,2,    0.635,2,    3.567,2,   1838.0,2,   1897.4,6,   7.6277,2,    25.00,     67.7,2,     -999,9,     -999,9,     -999,9,  -1.0878,2,     -999,9,     -999,9,     -999,     3.63,2,     -999,1,     -999,9,     -999,     -999,9,20150929,0514,     18.0,  76.2479,-150.1671,     -999,1,  26.4055,2
33HQ20150809  ,ARC01      ,55      ,  1,34         ,    6419,    -999,GSNIS-34   ,2,20150929,0329,  76.2504,-150.0779,     3833,     28.5,  -0.5685,  28.2551,2,  28.5545,4,    414.1,2,    394.1,2,     2.75,2,     0.00,2,     0.00,2,     0.58,2,     -999,9,     -999,9,     -999,9,     -999,9,   1969.8,2,   2058.6,2,   7.6809,6,    25.00,     74.3,2,     -999,9,     -999,9,     -999,9,  -0.5698,2,     -999,9,     -999,9,     -999,     4.34,2,     -999,1,     -999,9,     -999,     -999,9,20150929,0513,     28.2,  76.2479,-150.1655,     -999,1,  28.6891,4
33HQ20150809  ,ARC01      ,55      ,  1,33         ,    6419,    -999,GSNIS-33   ,2,20150929,0329,  76.2504,-150.0779,     3833,     48.5,  -0.4261,  29.8153,2,  29.8535,2,    391.3,2,    390.2,2,     3.14,2,     0.00,2,     0.00,2,     0.66,2,    6.736,2,    3.651,2,    0.603,2,    2.923,2,   2011.3,2,   2121.4,2,   7.7065,2,    25.00,     70.6,2,     -999,9,     -999,9,     -999,9,  -0.4291,2,     -999,9,     -999,9,     -999,     4.30,2,     -999,1,     -999,9,     -999,     -999,9,20150929,0511,     48.0,  76.2479,-150.1636,     -999,1,  29.9943,2
33HQ20150809  ,ARC01      ,55      ,  1,32         ,    6419,    -999,GSNIS-32   ,2,20150929,0329,  76.2504,-150.0779,     3833,     68.8,  -0.1678,  30.9710,2,  31.0454,2,    369.9,2,    367.4,2,     6.56,2,     1.26,2,     0.04,2,     0.83,2,     -999,9,     -999,9,     -999,9,     -999,9,   2056.8,2,   2171.9,2,   7.7111,2,    25.00,     70.5,2,     -999,9,     -999,9,     -999,9,  -0.1690,2,     -999,9,     -999,9,     -999,     5.98,2,     -999,1,     -999,9,     -999,     -999,9,20150929,0509,     68.1,  76.2479,-150.1618,     -999,1,  31.1918,2
33HQ20150809  ,ARC01      ,55      ,  1,31         ,    6419,    -999,GSNIS-31   ,2,20150929,0329,  76.2504,-150.0779,     3833,     78.9,  -0.2840,  31.3496,2,  31.4447,2,    348.7,2,    348.8,2,     9.79,2,     3.86,2,     0.00,2,     1.03,2,    6.354,2,    3.455,2,    0.491,2,    2.438,2,   2087.9,2,   2186.3,2,   7.6727,2,    25.00,     68.1,2,     -999,9,     -999,9,     -999,9,  -0.2861,2,     -999,9,     -999,9,     -999,     7.46,2,     -999,1,     -999,9,     -999,     -999,9,20150929,0508,     78.1,  76.2479,-150.1606,     -999,1,  31.5930,2
33HQ20150809  ,ARC01      ,55      ,  1,30         ,    6419,    -999,GSNIS-30   ,2,20150929,0329,  76.2504,-150.0779,     3833,     88.8,  -0.5857,  31.6460,2,  31.6810,2,    331.5,2,    336.2,2,    12.73,2,     5.97,2,     0.00,2,     1.18,2,     -999,9,     -999,9,     -999,9,     -999,9,   2103.4,2,   2196.8,2,   7.6376,2,    25.00,     67.3,2,     -999,9,     -999,9,     -999,9,  -0.5869,2,     -999,9,     -999,9,     -999,     9.43,2,     -999,1,     -999,9,     -999,     -999,9,20150929,0507,     87.8,  76.2480,-150.1595,     -999,1,  31.8304,2
33HQ20150809  ,ARC01      ,55      ,  1,29         ,    6419,    -999,GSNIS-29   ,4,20150929,0329,  76.2504,-150.0779,     3833,     98.6,  -0.8795,  31.9039,2,  26.6000,4,    322.3,2,    384.6,4,     2.55,4,     0.00,4,     0.00,4,     0.54,4,    6.695,2,    3.670,2,    0.643,2,    3.500,2,   1849.4,4,   1922.5,4,   7.6156,2,    25.00,     69.2,2,     -999,9,     -999,9,     -999,9,  -0.8833,2,     -999,9,     -999,9,     -999,     3.73,2,     -999,1,     -999,9,     -999,     -999,9,20150929,0505,     97.6,  76.2480,-150.1583,     -999,1,  26.7254,4
33HQ20150809  ,ARC01      ,55      ,  1,28         ,    6419,    -999,GSNIS-28   ,2,20150929,0329,  76.2504,-150.0779,     3833,    109.2,  -1.0659,  32.0937,2,  32.1025,2,    317.6,2,    315.0,2,    20.36,2,     9.75,2,     0.00,2,     1.45,2,     -999,9,     -999,9,     -999,9,     -999,9,   2149.2,2,   2217.2,2,   7.5626,2,    25.00,     68.4,2,     -999,9,     -999,9,     -999,9,  -1.0671,2,     -999,9,     -999,9,     -999,    12.48,2,     -999,1,     -999,9,     -999,     -999,9,20150929,0504,    108.1,  76.2481,-150.1575,     -999,1,  32.2539,2
33HQ20150809  ,ARC01      ,55      ,  1,27         ,    6419,    -999,GSNIS-27   ,2,20150929,0329,  76.2504,-150.0779,     3833,    124.1,  -1.2773,  32.3047,2,  32.3094,2,    305.5,2,    307.8,2,    24.96,2,    11.48,2,     0.00,2,     1.58,2,    6.118,2,    3.364,2,    0.454,2,    2.327,2,   2165.4,2,   2227.0,2,   7.5276,2,    25.00,     64.2,2,     -999,9,     -999,9,     -999,9,  -1.2769,2,     -999,9,     -999,9,     -999,    15.36,2,     -999,1,     -999,9,     -999,     -999,9,20150929,0503,    122.8,  76.2481,-150.1565,     -999,1,  32.4618,2
33HQ20150809  ,ARC01      ,55      ,  1,26         ,    6419,    -999,GSNIS-26   ,2,20150929,0329,  76.2504,-150.0779,     3833,    139.9,  -1.2931,  32.4897,2,  32.4920,2,    301.1,2,    299.3,2,    25.15,2,    12.36,2,     0.00,2,     1.65,2,     -999,9,     -999,9,     -999,9,     -999,9,   2174.6,2,   2235.2,2,   7.5104,2,    25.00,     62.9,2,     -999,9,     -999,9,     -999,9,  -1.2928,2,     -999,9,     -999,9,     -999,    15.41,2,     -999,1,     -999,9,     -999,     -999,9,20150929,0501,    138.4,  76.2482,-150.1557,     -999,1,  32.6452,2
33HQ20150809  ,ARC01      ,55      ,  1,25         ,    6419,    -999,GSNIS-25   ,2,20150929,0329,  76.2504,-150.0779,     3833,    159.5,  -1.3615,  32.6495,2,  32.6611,2,    291.5,2,    290.4,2,    27.99,2,    13.52,2,     0.00,2,     1.74,2,    6.065,2,    3.275,2,    0.419,2,    1.919,2,   2200.7,2,   2251.0,2,   7.4802,2,    25.00,     60.4,2,     -999,9,     -999,9,     -999,9,  -1.3620,2,     -999,9,     -999,9,     -999,    16.02,2,     -999,1,     -999,9,     -999,     -999,9,20150929,0500,    157.8,  76.2483,-150.1549,     -999,1,  32.8151,2
33HQ20150809  ,ARC01      ,55      ,  1,24         ,    6419,    -999,GSNIS-24   ,2,20150929,0329,  76.2504,-150.0779,     3833,    180.3,  -1.4321,  32.8479,2,  32.8584,2,    277.5,2,    280.2,2,    32.19,2,    14.92,2,     0.00,2,     1.83,2,     -999,9,     -999,9,     -999,9,     -999,9,   2213.6,2,   2257.1,2,   7.4483,2,    25.00,     65.5,2,     -999,9,     -999,9,     -999,9,  -1.4318,2,     -999,9,     -999,9,     -999,    19.67,2,     -999,1,     -999,1,     -999,     -999,9,20150929,0458,    178.3,  76.2484,-150.1544,     -999,1,  33.0134,2
33HQ20150809  ,ARC01      ,55      ,  1,23         ,    6419,    -999,GSNIS-23   ,2,20150929,0329,  76.2504,-150.0779,     3833,    200.1,  -1.4665,  33.0332,2,  33.0218,2,    279.0,2,    278.1,2,    34.73,2,    15.73,2,     0.00,2,     1.88,2,    5.952,2,    3.236,2,    0.418,2,    1.945,2,   2223.4,2,   2264.5,2,   7.4372,2,    25.00,     63.6,2,     -999,9,     -999,9,     -999,9,  -1.4662,2,     -999,9,     -999,9,     -999,    17.71,2,     -999,9,     -999,9,     -999,     -999,9,20150929,0457,    197.9,  76.2488,-150.1540,     -999,1,  33.1775,2
33HQ20150809  ,ARC01      ,55      ,  1,22         ,    6419,    -999,GSNIS-22   ,2,20150929,0329,  76.2504,-150.0779,     3833,    225.5,  -1.4129,  33.3980,2,  33.3653,2,    276.5,2,    274.8,2,    33.74,2,    15.54,2,     0.00,2,     1.78,2,     -999,9,     -999,9,     -999,9,     -999,9,   2235.6,6,   2279.3,2,   7.4541,2,    25.00,     60.9,2,     -999,9,     -999,9,     -999,9,  -1.4125,2,     -999,9,     -999,9,     -999,    18.50,2,     -999,1,     -999,1,     -999,     -999,9,20150929,0455,    223.0,  76.2493,-150.1519,     -999,1,  33.5226,2
33HQ20150809  ,ARC01      ,55      ,  1,21         ,    6419,    -999,GSNIS-21   ,2,20150929,0329,  76.2504,-150.0779,     3833,    252.4,  -1.0436,  33.9519,2,  33.9372,2,    269.3,2,    268.1,2,    23.46,2,    13.79,2,     0.00,2,     1.38,2,    5.457,2,    2.772,2,    0.341,2,    1.193,2,   2213.0,2,   2280.5,6,   7.5240,2,    25.00,     64.1,2,     -999,9,     -999,9,     -999,9,  -1.0477,2,     -999,9,     -999,9,     -999,    15.80,2,     -999,9,     -999,9,     -999,     -999,9,20150929,0452,    249.7,  76.2492,-150.1492,     -999,1,  34.0972,2
33HQ20150809  ,ARC01      ,55      ,  1,20         ,    6419,    -999,GSNIS-20   ,2,20150929,0329,  76.2504,-150.0779,     3833,    302.3,  -0.1695,  34.4685,2,  34.4556,2,    281.8,2,    280.6,2,    10.46,2,    11.74,2,     0.00,2,     0.92,2,     -999,9,     -999,9,     -999,9,     -999,9,   2173.9,2,   2281.4,2,   7.6347,2,    25.00,     56.5,2,     -999,9,     -999,9,     -999,9,  -0.1687,2,     -999,9,     -999,9,     -999,    14.22,2,     -999,1,     -999,1,     -999,     -999,9,20150929,0450,    298.9,  76.2492,-150.1469,     -999,1,  34.6181,2
33HQ20150809  ,ARC01      ,55      ,  1,19         ,    6419,    -999,GSNIS-19   ,2,20150929,0329,  76.2504,-150.0779,     3833,    351.9,   0.3138,  34.6707,2,  34.6695,2,    277.9,2,    279.9,2,     9.58,2,    12.64,2,     0.00,2,     0.93,2,    4.963,2,    2.383,2,    0.310,2,    0.722,2,   2163.5,2,   2285.8,2,   7.6669,2,    25.00,     55.0,2,     -999,9,     -999,9,     -999,9,   0.3137,2,     -999,9,     -999,9,     -999,    13.92,2,     -999,9,     -999,9,     -999,     -999,9,20150929,0449,    347.9,  76.2491,-150.1449,     -999,1,  34.8330,2
33HQ20150809  ,ARC01      ,55      ,  1,18         ,    6419,    -999,GSNIS-18   ,2,20150929,0329,  76.2504,-150.0779,     3833,    402.6,   0.6266,  34.7814,2,  34.7812,2,    287.5,2,    286.9,2,     7.62,2,    12.57,2,     0.00,2,     0.87,2,     -999,9,     -999,9,     -999,9,     -999,9,   2157.8,2,   2289.3,2,   7.6959,2,    25.00,     53.5,2,     -999,9,     -999,9,     -999,9,   0.6270,2,     -999,9,     -999,9,     -999,    15.01,2,     -999,1,     -999,1,     -999,     -999,9,20150929,0447,    398.0,  76.2492,-150.1431,     -999,1,  34.9452,2
33HQ20150809  ,ARC01      ,55      ,  1,17         ,    6419,    -999,GSNIS-17   ,2,20150929,0329,  76.2504,-150.0779,     3833,    453.1,   0.7320,  34.8188,2,  34.8187,2,    289.5,2,    290.7,2,     7.03,2,    12.55,2,     0.00,2,     0.86,2,    4.763,2,    2.224,2,    0.296,2,    0.641,2,   2157.4,2,   2292.4,2,   7.7067,2,    25.00,     50.8,2,     -999,9,     -999,9,     -999,9,   0.7320,2,     -999,9,     -999,9,     -999,    16.00,2,     -999,9,     -999,9,     -999,     -999,9,20150929,0445,    447.9,  76.2492,-150.1414,     -999,1,  34.9829,2
33HQ20150809  ,ARC01      ,55      ,  1,16         ,    6419,    -999,GSNIS-16   ,2,20150929,0329,  76.2504,-150.0779,     3833,    502.9,   0.7522,  34.8310,2,  34.8321,2,    292.1,2,    291.6,2,     6.84,2,    12.55,2,     0.00,2,     0.85,2,     -999,9,     -999,9,     -999,9,     -999,9,   2152.7,2,   2294.8,2,   7.7103,2,    25.00,     53.8,2,     -999,9,     -999,9,     -999,9,   0.7522,2,     -999,9,     -999,9,     -999,    14.30,2,     -999,1,     -999,1,     -999,     -999,9,20150929,0443,    497.0,  76.2493,-150.1402,     -999,1,  34.9963,2
33HQ20150809  ,ARC01      ,55      ,  1,15         ,    6419,    -999,GSNIS-15   ,2,20150929,0329,  76.2504,-150.0779,     3833,    604.9,   0.5988,  34.8494,2,  34.8494,2,    294.2,2,    294.1,2,     6.94,2,    12.58,2,     0.00,2,     0.86,2,    4.285,2,    2.015,2,    0.239,2,    0.650,2,   2156.0,2,   2295.1,2,   7.7091,2,    25.00,     53.1,2,     -999,9,     -999,9,     -999,9,   0.5993,2,     -999,9,     -999,9,     -999,    15.06,2,     -999,9,     -999,9,     -999,     -999,9,20150929,0441,    597.7,  76.2494,-150.1391,     -999,1,  35.0137,2
33HQ20150809  ,ARC01      ,55      ,  1,14         ,    6419,    -999,GSNIS-14   ,2,20150929,0329,  76.2504,-150.0779,     3833,    752.4,   0.3678,  34.8613,2,  34.8598,2,    296.8,2,    296.2,2,     6.94,2,    12.55,2,     0.00,2,     0.85,2,    3.515,2,    1.652,2,    0.165,2,    0.427,2,   2152.7,2,   2296.0,2,   7.7146,2,    25.00,     51.4,2,     -999,9,     -999,9,     -999,9,   0.3692,2,     -999,9,     -999,9,     -999,    14.57,2,     -999,9,     -999,1,     -999,     -999,9,20150929,0437,    743.2,  76.2503,-150.1371,     -999,1,  35.0242,2
33HQ20150809  ,ARC01      ,55      ,  1,13         ,    6419,    -999,GSNIS-13   ,2,20150929,0329,  76.2504,-150.0779,     3833,    892.4,   0.1624,  34.8686,2,  34.8685,2,    299.3,2,    298.5,2,     6.94,2,    12.51,2,     0.00,2,     0.87,2,    3.364,2,    1.625,2,    0.178,2,    0.447,2,   2159.3,2,   2295.7,2,   7.7105,2,    25.00,     53.5,2,     -999,9,     -999,9,     -999,9,   0.1625,2,     -999,9,     -999,9,     -999,    14.34,2,     -999,9,     -999,9,     -999,     -999,9,20150929,0433,    881.2,  76.2505,-150.1333,     -999,1,  35.0329,2
33HQ20150809  ,ARC01      ,55      ,  1,12         ,    6419,    -999,GSNIS-12   ,2,20150929,0329,  76.2504,-150.0779,     3833,   1047.4,  -0.0115,  34.8770,2,  34.8768,2,    299.9,2,    300.2,2,     6.74,2,    12.51,2,     0.00,2,     0.86,2,    3.194,2,    1.557,2,    0.177,2,    0.514,2,   2157.0,2,   2294.6,2,   7.7077,2,    25.00,     51.0,2,     -999,9,     -999,9,     -999,9,  -0.0112,2,     -999,9,     -999,9,     -999,    13.78,2,     -999,9,     -999,1,     -999,     -999,9,20150929,0430,   1033.8,  76.2506,-150.1297,     -999,1,  35.0412,2
33HQ20150809  ,ARC01      ,55      ,  1,11         ,    6419,    -999,GSNIS-11   ,2,20150929,0329,  76.2504,-150.0779,     3833,   1221.3,  -0.1397,  34.8903,2,  34.8901,2,    299.2,2,    299.2,2,     7.33,2,    12.74,2,     0.00,2,     0.88,2,    2.252,2,    1.082,2,    0.107,2,    0.269,2,   2155.9,2,   2296.2,2,   7.7152,2,    25.00,     50.9,2,     -999,9,     -999,9,     -999,9,  -0.1394,2,     -999,9,     -999,9,     -999,    13.65,2,     -999,9,     -999,9,     -999,     -999,9,20150929,0426,   1205.0,  76.2508,-150.1264,     -999,1,  35.0547,2
33HQ20150809  ,ARC01      ,55      ,  1,10         ,    6419,    -999,GSNIS-10   ,2,20150929,0329,  76.2504,-150.0779,     3833,   1413.5,  -0.2430,  34.9029,2,  34.8998,2,    298.7,2,    298.9,2,     7.91,2,    12.97,2,     0.00,2,     0.89,2,    1.529,2,    0.743,2,    0.068,2,    0.139,2,   2156.4,2,   2296.0,2,   7.7227,2,    25.00,     51.1,2,     -999,9,     -999,9,     -999,9,  -0.2426,2,     -999,9,     -999,9,     -999,    14.37,2,     -999,9,     -999,1,     -999,     -999,9,20150929,0421,   1394.0,  76.2511,-150.1231,     -999,1,  35.0644,2
33HQ20150809  ,ARC01      ,55      ,  1,9          ,    6419,    -999,GSNIS-9    ,2,20150929,0329,  76.2504,-150.0779,     3833,   1637.3,  -0.3376,  34.9188,2,  34.9191,2,    297.4,2,    297.1,2,     8.89,2,    13.39,2,     0.00,2,     0.93,2,    0.837,2,    0.397,2,    0.031,2,    0.040,2,   2162.0,3,   2297.3,2,     -999,5,     -999,     48.5,2,     -999,9,     -999,9,     -999,9,  -0.3376,2,     -999,9,     -999,9,     -999,    15.43,2,     -999,9,     -999,9,     -999,     -999,9,20150929,0416,   1613.9,  76.2516,-150.1190,     -999,1,  35.0837,2
33HQ20150809  ,ARC01      ,55      ,  1,8          ,    6419,    -999,GSNIS-8    ,2,20150929,0329,  76.2504,-150.0779,     3833,   1937.9,  -0.4002,  34.9369,2,  34.9370,2,    293.1,2,     -999,5,    10.45,2,    13.93,2,     0.00,2,     0.97,2,    0.315,2,    0.134,2,    0.011,2,    0.000,2,   2150.1,2,   2297.6,2,   7.7346,2,    25.00,     47.5,2,     -999,9,     -999,9,     -999,9,  -0.4001,2,     -999,9,     -999,9,     -999,    16.86,2,     -999,9,     -999,1,     -999,     -999,9,20150929,0410,   1908.8,  76.2511,-150.1129,     -999,1,  35.1017,2
33HQ20150809  ,ARC01      ,55      ,  1,7          ,    6419,    -999,GSNIS-7    ,2,20150929,0329,  76.2504,-150.0779,     3833,   2243.6,  -0.3984,  34.9477,2,  34.9470,2,    288.9,2,    288.8,2,    11.82,2,    14.22,2,     0.00,2,     1.00,2,    0.100,2,    0.041,2,    0.003,2,    0.000,2,   2153.8,2,   2299.5,2,   7.7346,2,    25.00,     47.7,2,     -999,9,     -999,9,     -999,9,  -0.3983,2,     -999,9,     -999,9,     -999,    16.82,2,     -999,9,     -999,9,     -999,     -999,9,20150929,0404,   2208.4,  76.2510,-150.1074,     -999,1,  35.1118,2
33HQ20150809  ,ARC01      ,55      ,  1,6          ,    6419,    -999,GSNIS-6    ,2,20150929,0329,  76.2504,-150.0779,     3833,   2544.5,  -0.3777,  34.9528,2,  34.9527,2,    286.4,2,    287.1,2,    12.50,2,    14.36,2,     0.00,2,     1.01,2,    0.042,2,    0.019,2,    0.001,2,    0.004,2,   2149.2,2,   2300.3,2,   7.7343,2,    25.00,     47.7,2,     -999,9,     -999,9,     -999,9,  -0.3777,2,     -999,9,     -999,9,     -999,    15.81,2,     -999,9,     -999,1,     -999,     -999,9,20150929,0358,   2502.8,  76.2512,-150.1022,     -999,1,  35.1175,2
33HQ20150809  ,ARC01      ,55      ,  1,5          ,    6419,    -999,GSNIS-5    ,2,20150929,0329,  76.2504,-150.0779,     3833,   2839.2,  -0.3491,  34.9558,2,  34.9559,2,    284.6,2,    284.7,2,    12.99,2,    14.43,2,     0.00,2,     1.01,2,     -999,5,     -999,5,     -999,5,    0.000,2,   2157.7,2,   2301.3,2,   7.7327,2,    25.00,     47.2,2,     -999,9,     -999,9,     -999,9,  -0.3491,2,     -999,9,     -999,9,     -999,    16.52,2,     -999,9,     -999,9,     -999,     -999,9,20150929,0352,   2790.8,  76.2516,-150.0977,     -999,1,  35.1207,2
33HQ20150809  ,ARC01      ,55      ,  1,4          ,    6419,    -999,GSNIS-4    ,2,20150929,0329,  76.2504,-150.0779,     3833,   3140.6,  -0.3204,  34.9566,2,  34.9569,2,    283.6,2,    283.8,2,    13.29,2,    14.43,2,     0.00,2,     1.01,2,    0.016,2,    0.009,2,    0.001,2,    0.000,2,   2157.4,2,   2304.8,2,   7.7308,2,    25.00,     47.6,2,     -999,9,     -999,9,     -999,9,  -0.3202,2,     -999,9,     -999,9,     -999,    14.82,2,     -999,9,     -999,1,     -999,     -999,9,20150929,0345,   3084.8,  76.2515,-150.0921,     -999,1,  35.1217,2