BOTTLE,20221220CCHSIOAMB
EXPOCODE,SECT_ID,STNNBR,CASTNO,SAMPNO,GEOTR_EVENT,GEOTR_SAMPNO,BTLNBR,BTLNBR_FLAG_W,DATE,TIME,LATITUDE,LONGITUDE,DEPTH,CTDPRS,CTDTMP,CTDSAL,CTDSAL_FLAG_W,SALNTY,SALNTY_FLAG_W,CTDOXY,CTDOXY_FLAG_W,OXYGEN,OXYGEN_FLAG_W,SILCAT,SILCAT_FLAG_W,NITRAT,NITRAT_FLAG_W,NITRIT,NITRIT_FLAG_W,PHSPHT,PHSPHT_FLAG_W,CFC-11,CFC-11_FLAG_W,CFC-12,CFC-12_FLAG_W,CFC113,CFC113_FLAG_W,SF6,SF6_FLAG_W,TCARBN,TCARBN_FLAG_W,ALKALI,ALKALI_FLAG_W,PH_SWS,PH_SWS_FLAG_W,PH_TMP,DOC,DOC_FLAG_W,TRITUM,TRITUM_FLAG_W,HELIUM,HELIUM_FLAG_W,DELHE3,DELHE3_FLAG_W,REFTMP,REFTMP_FLAG_W,DELC13,DELC13_FLAG_W,DELC14,DELC14_FLAG_W,C14ERR,TDN,TDN_FLAG_W,DELO18,DELO18_FLAG_W,DELO17,DELO17_FLAG_W,CH4,CH4,CH4_FLAG_W,BTL_DATE,BTL_TIME,CTDDEPTH,BTL_LAT,BTL_LON,LAB_DEN,LAB_DEN_FLAG_W,SALTREF,SALTREF_FLAG_W
,,,,,,,,,,,,,METERS,DBAR,ITS-90,PSS-78,,PSS-78,,UMOL/KG,,UMOL/KG,,UMOL/KG,,UMOL/KG,,UMOL/KG,,UMOL/KG,,PMOL/KG,,PMOL/KG,,PMOL/KG,,FMOL/KG,,UMOL/KG,,UMOL/KG,,,,DEG C,UMOL/KG,,TU,,NMOL/KG,,PERCNT,,ITS-90,,/MILLE,,/MILLE,,/MILLE,UMOL/KG,,/MILLE,,/MILLE,,NMOL/KG,NMOL/L,,,,METERS,,,KG/M^3,,G/KG,
33HQ20150809  ,ARC01      ,55      ,  1,3          ,    6419,    -999,GSNIS-3    ,2,20150929,0329,  76.2504,-150.0779,     3833,   3459.3,  -0.2914,  34.9566,2,  34.9577,2,    283.4,2,    283.5,2,    13.38,2,    14.45,2,     0.00,2,     1.01,2,    0.015,2,    0.011,2,    0.001,2,    0.000,2,   2360.1,4,   2303.7,6,   7.7319,2,    25.00,     47.0,2,     -999,9,     -999,9,     -999,9,  -0.2912,2,     -999,9,     -999,9,     -999,    15.20,2,     -999,9,     -999,9,     -999,     -999,9,20150929,0339,   3395.4,  76.2508,-150.0866,     -999,1,  35.1225,2
33HQ20150809  ,ARC01      ,55      ,  1,2          ,    6419,    -999,GSNIS-2    ,2,20150929,0329,  76.2504,-150.0779,     3833,   3670.6,  -0.2711,  34.9564,2,  34.9559,2,    283.8,2,    283.7,2,    13.29,2,    14.43,2,     0.00,2,     1.01,2,    0.017,2,    0.007,2,    0.007,2,    0.000,2,   2153.4,2,   2303.9,2,   7.7322,6,    25.00,     46.1,2,     -999,9,     -999,9,     -999,9,  -0.2711,2,     -999,9,     -999,9,     -999,    15.69,2,     -999,9,     -999,1,     -999,     -999,9,20150929,0335,   3601.1,  76.2505,-150.0828,     -999,1,  35.1207,2
33HQ20150809  ,ARC01      ,55      ,  1,1          ,    6419,    -999,GSNIS-1    ,2,20150929,0329,  76.2504,-150.0779,     3833,   3892.8,  -0.2491,  34.9561,2,  34.9553,2,    283.3,2,    283.8,2,    13.38,2,    14.44,2,     0.00,2,     1.01,2,    0.054,2,    0.023,2,    0.004,2,    0.000,2,   2158.5,2,   2304.9,2,   7.7600,4,    25.00,     42.3,2,     -999,9,     -999,9,     -999,9,  -0.2490,2,     -999,9,     -999,9,     -999,    15.87,2,     -999,9,     -999,9,     -999,     -999,9,20150929,0330,   3817.1,  76.2504,-150.0787,     -999,1,  35.1201,2