BOTTLE,20221220CCHSIOAMB
EXPOCODE,SECT_ID,STNNBR,CASTNO,SAMPNO,GEOTR_EVENT,GEOTR_SAMPNO,BTLNBR,BTLNBR_FLAG_W,DATE,TIME,LATITUDE,LONGITUDE,DEPTH,CTDPRS,CTDTMP,CTDSAL,CTDSAL_FLAG_W,SALNTY,SALNTY_FLAG_W,CTDOXY,CTDOXY_FLAG_W,OXYGEN,OXYGEN_FLAG_W,SILCAT,SILCAT_FLAG_W,NITRAT,NITRAT_FLAG_W,NITRIT,NITRIT_FLAG_W,PHSPHT,PHSPHT_FLAG_W,CFC-11,CFC-11_FLAG_W,CFC-12,CFC-12_FLAG_W,CFC113,CFC113_FLAG_W,SF6,SF6_FLAG_W,TCARBN,TCARBN_FLAG_W,ALKALI,ALKALI_FLAG_W,PH_SWS,PH_SWS_FLAG_W,PH_TMP,DOC,DOC_FLAG_W,TRITUM,TRITUM_FLAG_W,HELIUM,HELIUM_FLAG_W,DELHE3,DELHE3_FLAG_W,REFTMP,REFTMP_FLAG_W,DELC13,DELC13_FLAG_W,DELC14,DELC14_FLAG_W,C14ERR,TDN,TDN_FLAG_W,DELO18,DELO18_FLAG_W,DELO17,DELO17_FLAG_W,CH4,CH4,CH4_FLAG_W,BTL_DATE,BTL_TIME,CTDDEPTH,BTL_LAT,BTL_LON,LAB_DEN,LAB_DEN_FLAG_W,SALTREF,SALTREF_FLAG_W
,,,,,,,,,,,,,METERS,DBAR,ITS-90,PSS-78,,PSS-78,,UMOL/KG,,UMOL/KG,,UMOL/KG,,UMOL/KG,,UMOL/KG,,UMOL/KG,,PMOL/KG,,PMOL/KG,,PMOL/KG,,FMOL/KG,,UMOL/KG,,UMOL/KG,,,,DEG C,UMOL/KG,,TU,,NMOL/KG,,PERCNT,,ITS-90,,/MILLE,,/MILLE,,/MILLE,UMOL/KG,,/MILLE,,/MILLE,,NMOL/KG,NMOL/L,,,,METERS,,,KG/M^3,,G/KG,
33HQ20150809  ,ARC01      ,16      ,  1,27         ,    6115,    -999,GSNIS-27   ,2,20150822,1523,  77.7524,-176.2462,     1135,      3.1,  -1.2305,  26.4907,2,  26.5438,2,    380.9,2,    381.0,2,     2.46,2,     0.00,2,     0.01,2,     0.56,2,    6.781,2,    3.651,2,    0.645,2,    3.488,2,   1811.5,2,   1895.4,2,   7.6851,2,    25.00,     63.1,2,     -999,9,     -999,9,     -999,9,  -1.2272,2,     1.49,6,     -999,9,     -999,     4.42,2,     -999,1,     -999,9,     -999,     -999,9,20150822,1635,      3.1,  77.7543,-176.2493,     -999,9,  26.6690,2
33HQ20150809  ,ARC01      ,16      ,  1,26         ,    6115,    -999,GSNIS-26   ,2,20150822,1523,  77.7524,-176.2462,     1135,     15.1,  -0.6486,  28.1815,2,  28.6469,2,    389.9,2,    392.4,2,     2.45,2,     0.00,2,     0.01,2,     0.60,2,     -999,9,     -999,9,     -999,9,     -999,9,   1940.4,2,   2046.7,6,   7.7184,2,    25.00,     73.9,2,     -999,9,     -999,9,     -999,9,  -0.6431,2,     -999,9,     -999,9,     -999,     3.80,2,     -999,1,     -999,9,     -999,     -999,9,20150822,1633,     14.9,  77.7543,-176.2493,     -999,9,  28.7820,2
33HQ20150809  ,ARC01      ,16      ,  1,25         ,    6115,    -999,GSNIS-25   ,2,20150822,1523,  77.7524,-176.2462,     1135,     25.6,  -0.8073,  29.6196,2,  29.9370,2,    397.7,2,    398.4,2,     2.55,2,     0.00,2,     0.01,2,     0.62,2,    6.839,2,    3.693,2,    0.622,2,    3.249,2,   2021.0,2,   2136.2,2,   7.7204,2,    25.00,     75.9,2,     -999,9,     -999,9,     -999,9,  -0.8073,2,     -999,9,     -999,9,     -999,     4.06,2,     -999,1,     -999,9,     -999,     -999,9,20150822,1632,     25.3,  77.7542,-176.2494,     -999,9,  30.0782,2
33HQ20150809  ,ARC01      ,16      ,  1,24         ,    6115,    -999,GSNIS-24   ,2,20150822,1523,  77.7524,-176.2462,     1135,     45.9,  -0.7726,  31.4940,2,  31.5583,2,    333.2,2,    341.7,2,    13.32,2,     5.45,2,     0.10,2,     1.12,2,     -999,9,     -999,9,     -999,9,     -999,9,     -999,9,   2188.7,2,   7.5858,4,    25.00,     68.2,2,     -999,9,     -999,9,     -999,9,  -0.7754,2,     -999,9,     -999,9,     -999,     9.95,2,     -999,1,     -999,9,     -999,     -999,9,20150822,1629,     45.4,  77.7541,-176.2495,     -999,9,  31.7071,2
33HQ20150809  ,ARC01      ,16      ,  1,23         ,    6115,    -999,GSNIS-23   ,2,20150822,1523,  77.7524,-176.2462,     1135,     66.2,  -1.1093,  31.9405,2,  31.9650,2,    321.5,2,    321.0,2,    20.17,2,     8.95,2,     0.02,2,     1.36,2,    6.413,2,    3.484,2,    0.511,2,    2.748,2,   2131.8,2,   2209.0,2,   7.5675,2,    25.00,     67.9,2,     -999,9,     -999,9,     -999,9,  -1.1094,2,     -999,9,     -999,9,     -999,    13.68,2,     -999,1,     -999,9,     -999,     -999,9,20150822,1627,     65.5,  77.7540,-176.2496,     -999,9,  32.1157,2
33HQ20150809  ,ARC01      ,16      ,  1,22         ,    6115,    -999,GSNIS-22   ,2,20150822,1523,  77.7524,-176.2462,     1135,     76.4,  -1.1785,  32.0963,2,  32.1111,2,    314.2,2,    313.2,2,    23.30,2,    10.36,2,     0.02,2,     1.48,2,     -999,9,     -999,9,     -999,9,     -999,9,     -999,9,     -999,9,     -999,9,     -999,     69.9,2,     -999,9,     -999,9,     -999,9,  -1.1787,2,     -999,9,     -999,9,     -999,    15.46,2,     -999,1,     -999,9,     -999,     -999,9,20150822,1626,     75.6,  77.7539,-176.2496,     -999,9,  32.2625,2
33HQ20150809  ,ARC01      ,16      ,  1,21         ,    6115,    -999,GSNIS-21   ,2,20150822,1523,  77.7524,-176.2462,     1135,     86.5,  -1.2853,  32.2343,2,  32.2496,2,    306.6,2,    308.3,2,    26.23,2,    11.53,2,     0.02,2,     1.57,2,    6.393,2,    3.483,2,    0.497,2,    2.602,2,     -999,9,   2224.7,2,   7.5061,4,    25.00,     67.6,2,     -999,9,     -999,9,     -999,9,  -1.2852,2,     -999,9,     -999,9,     -999,    17.89,2,     -999,1,     -999,9,     -999,     -999,9,20150822,1624,     85.6,  77.7538,-176.2497,     -999,9,  32.4017,2
33HQ20150809  ,ARC01      ,16      ,  1,20         ,    6115,    -999,GSNIS-20   ,2,20150822,1523,  77.7524,-176.2462,     1135,     96.5,  -1.3307,  32.3426,2,  32.3611,2,    303.1,2,    301.2,2,    27.50,2,    12.42,2,     0.01,2,     1.62,2,     -999,9,     -999,9,     -999,9,     -999,9,     -999,9,     -999,9,     -999,9,     -999,     64.4,2,     -999,9,     -999,9,     -999,9,  -1.3313,2,     -999,9,     -999,9,     -999,    17.45,2,     -999,1,     -999,9,     -999,     -999,9,20150822,1622,     95.4,  77.7537,-176.2497,     -999,9,  32.5137,2
33HQ20150809  ,ARC01      ,16      ,  1,19         ,    6115,    -999,GSNIS-19   ,2,20150822,1523,  77.7524,-176.2462,     1135,    106.6,  -1.4008,  32.4498,2,  32.4587,2,    302.0,2,    300.6,2,    29.46,2,    13.04,2,     0.02,2,     1.67,2,    6.282,2,    3.361,2,    0.494,2,    2.496,2,   2180.0,2,   2232.4,2,   7.4867,2,    25.00,     66.0,2,     -999,9,     -999,9,     -999,9,  -1.4008,2,     -999,9,     -999,9,     -999,    18.44,2,     -999,1,     -999,9,     -999,     -999,9,20150822,1621,    105.5,  77.7537,-176.2498,     -999,9,  32.6118,2
33HQ20150809  ,ARC01      ,16      ,  1,18         ,    6115,    -999,GSNIS-18   ,2,20150822,1523,  77.7524,-176.2462,     1135,    121.7,  -1.4673,  32.5901,2,  32.6046,2,    298.6,2,    297.2,2,    32.88,2,    14.14,2,     0.02,2,     1.71,2,     -999,9,     -999,9,     -999,9,     -999,9,     -999,9,     -999,9,     -999,9,     -999,     67.0,2,     -999,9,     -999,9,     -999,9,  -1.4674,2,     -999,9,     -999,9,     -999,    21.35,2,     -999,1,     -999,9,     -999,     -999,9,20150822,1618,    120.4,  77.7536,-176.2498,     -999,9,  32.7584,2
33HQ20150809  ,ARC01      ,16      ,  1,17         ,    6115,    -999,GSNIS-17   ,2,20150822,1523,  77.7524,-176.2462,     1135,    136.9,  -1.4844,  32.7364,2,  32.7504,2,    286.4,2,    286.5,2,    32.97,2,    14.65,2,     0.02,2,     1.78,2,    6.228,2,    3.319,2,    0.460,2,    2.286,2,   2206.2,2,   2251.1,2,   7.4500,2,    25.00,     66.7,2,     -999,9,     -999,9,     -999,9,  -1.4839,2,     -999,9,     -999,9,     -999,    19.27,2,     -999,1,     -999,9,     -999,     -999,9,20150822,1616,    135.4,  77.7534,-176.2499,     -999,9,  32.9049,2
33HQ20150809  ,ARC01      ,16      ,  1,16         ,    6115,    -999,GSNIS-16   ,2,20150822,1523,  77.7524,-176.2462,     1135,    157.2,  -1.4872,  32.9304,2,  32.9291,2,    277.6,2,    280.8,2,    33.36,2,    15.25,2,     0.01,2,     1.80,2,     -999,9,     -999,9,     -999,9,     -999,9,     -999,9,     -999,9,     -999,9,     -999,     65.1,2,     -999,9,     -999,9,     -999,9,  -1.4869,2,     -999,9,     -999,9,     -999,    21.47,2,     -999,1,     -999,9,     -999,     -999,9,20150822,1613,    155.5,  77.7533,-176.2500,     -999,9,  33.0843,2
33HQ20150809  ,ARC01      ,16      ,  1,15         ,    6115,    -999,GSNIS-15   ,2,20150822,1523,  77.7524,-176.2462,     1135,    177.4,  -1.4867,  33.1644,2,  33.1769,2,    279.3,2,    280.4,2,    34.04,2,    15.35,2,     0.01,2,     1.76,2,    6.086,2,    3.238,2,    0.425,2,    2.061,2,     -999,9,     -999,9,     -999,9,     -999,     65.9,2,     -999,9,     -999,9,     -999,9,  -1.4873,2,     -999,9,     -999,9,     -999,    20.75,2,     -999,1,     -999,9,     -999,     -999,9,20150822,1609,    175.4,  77.7532,-176.2499,     -999,9,  33.3334,2
33HQ20150809  ,ARC01      ,16      ,  1,14         ,    6115,    -999,GSNIS-14   ,2,20150822,1523,  77.7524,-176.2462,     1135,    197.6,  -1.3055,  33.5538,2,  33.5918,2,    274.7,2,    273.4,2,    29.63,2,    14.72,2,     0.01,2,     1.58,2,    5.848,2,    3.005,2,    0.388,2,    1.659,2,     -999,9,   2281.5,2,   7.4840,6,    25.00,     63.7,2,     -999,9,     -999,9,     -999,9,  -1.3057,2,     -999,9,     -999,9,     -999,    19.91,2,     -999,1,     -999,9,     -999,     -999,9,20150822,1607,    195.5,  77.7531,-176.2498,     -999,9,  33.7502,2
33HQ20150809  ,ARC01      ,16      ,  1,13         ,    6115,    -999,GSNIS-13   ,2,20150822,1523,  77.7524,-176.2462,     1135,    217.7,  -0.9224,  34.0234,2,  34.1282,2,    268.4,2,    268.6,2,    21.40,2,    13.52,2,     0.01,2,     1.26,2,    5.689,2,    2.824,2,    0.364,2,    1.239,2,   2203.9,2,   2281.6,6,   7.5455,2,    25.00,     62.1,2,     -999,9,     -999,9,     -999,9,  -0.9193,2,     -999,9,     -999,9,     -999,    19.42,2,     -999,1,     -999,9,     -999,     -999,9,20150822,1604,    215.3,  77.7529,-176.2495,     -999,9,  34.2892,2
33HQ20150809  ,ARC01      ,16      ,  1,12         ,    6115,    -999,GSNIS-12   ,2,20150822,1523,  77.7524,-176.2462,     1135,    238.1,  -0.4360,  34.3412,2,  34.3565,2,    263.7,2,    261.9,2,    18.96,2,    13.45,2,     0.01,2,     1.16,2,    5.565,2,    2.706,2,    0.341,2,    1.156,2,   2197.6,2,   2280.7,2,   7.5680,2,    25.00,     61.1,2,     -999,9,     -999,9,     -999,9,  -0.4363,2,     -999,9,     -999,9,     -999,    17.63,2,     -999,1,     -999,9,     -999,     -999,9,20150822,1601,    235.4,  77.7529,-176.2493,     -999,9,  34.5185,2
33HQ20150809  ,ARC01      ,16      ,  1,11         ,    6115,    -999,GSNIS-11   ,2,20150822,1523,  77.7524,-176.2462,     1135,    288.5,   0.3526,  34.6688,2,  34.6732,2,    262.3,2,    263.6,2,    14.07,2,    13.04,2,     0.01,2,     0.95,2,    5.645,2,    2.873,2,    0.377,2,    1.401,2,   2183.3,6,   2287.5,2,   7.6119,2,    25.00,     58.9,2,     -999,9,     -999,9,     -999,9,   0.3534,2,     -999,9,     -999,9,     -999,    17.08,2,     -999,1,     -999,9,     -999,     -999,9,20150822,1557,    285.2,  77.7528,-176.2487,     -999,9,  34.8367,2
33HQ20150809  ,ARC01      ,16      ,  1,10         ,    6115,    -999,GSNIS-10   ,2,20150822,1523,  77.7524,-176.2462,     1135,    338.9,   0.7291,  34.7816,2,  34.7829,2,    286.9,2,    286.8,2,     7.42,2,    12.40,2,     0.01,2,     0.85,2,    5.514,2,    2.809,2,    0.383,2,    1.458,2,     -999,9,     -999,9,     -999,9,     -999,     56.6,2,     -999,9,     -999,9,     -999,9,   0.7386,2,     -999,9,     -999,9,     -999,    16.35,2,     -999,1,     -999,9,     -999,     -999,9,20150822,1554,    335.1,  77.7527,-176.2482,     -999,9,  34.9469,2
33HQ20150809  ,ARC01      ,16      ,  1,9          ,    6115,    -999,GSNIS-9    ,2,20150822,1523,  77.7524,-176.2462,     1135,    389.0,   0.8867,  34.8258,2,  34.8257,2,    291.5,2,    291.1,2,     6.54,2,    12.36,2,     0.01,2,     0.82,2,    5.461,2,    2.762,2,    0.390,2,    1.364,2,     -999,9,   2295.0,2,   7.6908,2,    25.00,     55.0,2,     -999,9,     -999,9,     -999,9,   0.8869,2,     -999,9,     -999,9,     -999,    15.92,2,     -999,1,     -999,9,     -999,     -999,9,20150822,1552,    384.5,  77.7527,-176.2479,     -999,9,  34.9899,2
33HQ20150809  ,ARC01      ,16      ,  1,8          ,    6115,    -999,GSNIS-8    ,2,20150822,1523,  77.7524,-176.2462,     1135,    440.3,   0.9498,  34.8449,2,  34.8444,2,    297.9,2,    296.3,2,     5.86,2,    12.09,2,     0.01,2,     0.82,2,    5.381,2,    2.713,2,    0.383,2,    1.576,2,     -999,9,     -999,9,     -999,9,     -999,     53.3,2,     -999,9,     -999,9,     -999,9,   0.9493,2,     -999,9,     -999,9,     -999,    16.20,2,     -999,1,     -999,9,     -999,     -999,9,20150822,1549,    435.2,  77.7526,-176.2476,     -999,9,  35.0087,2
33HQ20150809  ,ARC01      ,16      ,  1,7          ,    6115,    -999,GSNIS-7    ,2,20150822,1523,  77.7524,-176.2462,     1135,    491.0,   0.8734,  34.8529,2,  34.8526,2,    297.3,2,    297.8,2,     6.06,2,    12.21,2,     0.01,2,     0.83,2,    5.357,2,    2.689,2,    0.376,2,    1.347,2,   2157.6,2,   2295.8,2,   7.6946,2,    25.00,     52.2,2,     -999,9,     -999,9,     -999,9,   0.8735,2,     -999,9,     -999,9,     -999,    16.85,2,     -999,1,     -999,9,     -999,     -999,9,20150822,1547,    485.2,  77.7526,-176.2474,     -999,9,  35.0170,2
33HQ20150809  ,ARC01      ,16      ,  1,6          ,    6115,    -999,GSNIS-6    ,2,20150822,1523,  77.7524,-176.2462,     1135,    541.9,   0.7563,  34.8587,2,  34.8583,2,    299.8,2,    300.0,2,     5.86,2,    12.09,2,     0.01,2,     0.81,2,    5.303,2,    2.682,2,    0.379,2,    1.442,2,     -999,9,     -999,9,     -999,9,     -999,     54.0,2,     -999,9,     -999,9,     -999,9,   0.7565,2,     -999,9,     -999,9,     -999,    16.23,2,     -999,9,     -999,9,     -999,     -999,9,20150822,1545,    535.5,  77.7526,-176.2473,     -999,9,  35.0227,2
33HQ20150809  ,ARC01      ,16      ,  1,5          ,    6115,    -999,GSNIS-5    ,2,20150822,1523,  77.7524,-176.2462,     1135,    607.7,   0.6091,  34.8640,2,  34.8642,2,    301.0,2,    301.2,2,     5.86,2,    12.04,2,     0.01,2,     0.82,2,    5.300,2,    2.687,2,    0.371,2,    1.506,2,     -999,9,     -999,9,     -999,9,     -999,     54.4,2,     -999,9,     -999,9,     -999,9,   0.6060,2,     -999,9,     -999,9,     -999,    16.38,2,     -999,9,     -999,9,     -999,     -999,9,20150822,1542,    600.5,  77.7525,-176.2472,     -999,9,  35.0286,2
33HQ20150809  ,ARC01      ,16      ,  1,4          ,    6115,    -999,GSNIS-4    ,2,20150822,1523,  77.7524,-176.2462,     1135,    709.0,   0.4122,  34.8681,2,  34.8677,2,    302.8,2,    303.5,2,     5.76,2,    12.01,2,     0.01,2,     0.81,2,    5.245,2,    2.679,2,    0.371,2,    1.534,2,     -999,9,   2293.2,2,   7.6871,2,    25.00,     55.2,2,     -999,9,     -999,9,     -999,9,   0.4122,2,     -999,9,     -999,9,     -999,    15.86,2,     -999,9,     -999,9,     -999,     -999,9,20150822,1538,    700.3,  77.7525,-176.2470,     -999,9,  35.0321,2
33HQ20150809  ,ARC01      ,16      ,  1,3          ,    6115,    -999,GSNIS-3    ,2,20150822,1523,  77.7524,-176.2462,     1135,    861.2,   0.1838,  34.8775,2,  34.8785,2,    304.9,2,    304.6,2,     5.76,2,    11.94,2,     0.01,2,     0.82,2,    5.202,2,    2.646,2,    0.373,2,    1.589,2,     -999,9,     -999,9,     -999,9,     -999,     54.6,2,     -999,9,     -999,9,     -999,9,   0.1802,2,     -999,9,     -999,9,     -999,    15.07,2,     -999,9,     -999,9,     -999,     -999,9,20150822,1534,    850.4,  77.7524,-176.2466,     -999,9,  35.0430,2
33HQ20150809  ,ARC01      ,16      ,  1,2          ,    6115,    -999,GSNIS-2    ,2,20150822,1523,  77.7524,-176.2462,     1135,   1013.4,  -0.0208,  34.8823,2,  34.8864,2,    306.0,2,    305.5,2,     6.15,2,    12.04,2,     0.01,2,     0.82,2,    5.061,2,    2.601,2,    0.372,2,    1.634,2,     -999,5,   2298.5,2,   7.6750,6,    25.00,     55.1,2,     -999,9,     -999,9,     -999,9,  -0.0283,4,     -999,9,     -999,9,     -999,    16.34,2,     -999,9,     -999,9,     -999,     -999,9,20150822,1530,   1000.3,  77.7524,-176.2464,     -999,9,  35.0509,2
33HQ20150809  ,ARC01      ,16      ,  1,1          ,    6115,    -999,GSNIS-1    ,2,20150822,1523,  77.7524,-176.2462,     1135,   1133.4,  -0.1437,  34.8925,2,  34.8911,2,    308.3,2,    309.0,2,     6.45,2,    12.17,2,     0.01,2,     0.84,2,    4.886,2,    2.530,2,    0.357,2,    1.660,2,   2168.1,6,   2300.4,6,   7.6796,2,    25.00,     55.8,2,     -999,9,     -999,9,     -999,9,  -0.1416,2,     -999,9,     -999,9,     -999,    15.37,2,     -999,9,     -999,9,     -999,     -999,9,20150822,1524,   1118.4,  77.7524,-176.2462,     -999,9,  35.0556,2