BOTTLE,20221220CCHSIOAMB
EXPOCODE,SECT_ID,STNNBR,CASTNO,SAMPNO,GEOTR_EVENT,GEOTR_SAMPNO,BTLNBR,BTLNBR_FLAG_W,DATE,TIME,LATITUDE,LONGITUDE,DEPTH,CTDPRS,CTDTMP,CTDSAL,CTDSAL_FLAG_W,SALNTY,SALNTY_FLAG_W,CTDOXY,CTDOXY_FLAG_W,OXYGEN,OXYGEN_FLAG_W,SILCAT,SILCAT_FLAG_W,NITRAT,NITRAT_FLAG_W,NITRIT,NITRIT_FLAG_W,PHSPHT,PHSPHT_FLAG_W,CFC-11,CFC-11_FLAG_W,CFC-12,CFC-12_FLAG_W,CFC113,CFC113_FLAG_W,SF6,SF6_FLAG_W,TCARBN,TCARBN_FLAG_W,ALKALI,ALKALI_FLAG_W,PH_SWS,PH_SWS_FLAG_W,PH_TMP,DOC,DOC_FLAG_W,TRITUM,TRITUM_FLAG_W,HELIUM,HELIUM_FLAG_W,DELHE3,DELHE3_FLAG_W,REFTMP,REFTMP_FLAG_W,DELC13,DELC13_FLAG_W,DELC14,DELC14_FLAG_W,C14ERR,TDN,TDN_FLAG_W,DELO18,DELO18_FLAG_W,DELO17,DELO17_FLAG_W,CH4,CH4,CH4_FLAG_W,BTL_DATE,BTL_TIME,CTDDEPTH,BTL_LAT,BTL_LON,LAB_DEN,LAB_DEN_FLAG_W,SALTREF,SALTREF_FLAG_W
,,,,,,,,,,,,,METERS,DBAR,ITS-90,PSS-78,,PSS-78,,UMOL/KG,,UMOL/KG,,UMOL/KG,,UMOL/KG,,UMOL/KG,,UMOL/KG,,PMOL/KG,,PMOL/KG,,PMOL/KG,,FMOL/KG,,UMOL/KG,,UMOL/KG,,,,DEG C,UMOL/KG,,TU,,NMOL/KG,,PERCNT,,ITS-90,,/MILLE,,/MILLE,,/MILLE,UMOL/KG,,/MILLE,,/MILLE,,NMOL/KG,NMOL/L,,,,METERS,,,KG/M^3,,G/KG,
33HQ20150809  ,ARC01      ,30      ,  5,33         ,    6179,   11123,GSNIS-33   ,2,20150901,1142,  87.5344, 179.8943,     3941,      3.8,  -1.4845,  28.0202,2,     -999,9,    391.2,2,     -999,9,    10.21,2,     0.00,2,     0.00,2,     0.79,2,     -999,9,     -999,9,     -999,9,     -999,9,     -999,9,     -999,9,     -999,9,     -999,     -999,9,     -999,9,     -999,9,     -999,9,  -1.4849,2,     -999,9,     -999,9,     -999,     -999,9,     -999,9,     -999,9,     -999,     -999,9,20150901,1156,      3.7,  87.5353, 179.8750,     -999,9,     -999,9
33HQ20150809  ,ARC01      ,30      ,  5,32         ,    6179,   11123,GSNIS-32   ,2,20150901,1142,  87.5344, 179.8943,     3941,      3.8,  -1.4847,  28.0205,2,     -999,9,    391.2,2,     -999,9,    10.21,2,     0.00,2,     0.00,2,     0.77,2,     -999,9,     -999,9,     -999,9,     -999,9,     -999,9,     -999,9,     -999,9,     -999,     -999,9,     -999,9,     -999,9,     -999,9,     -999,9,     -999,9,     -999,9,     -999,     -999,9,     -999,9,     -999,9,     -999,     -999,9,20150901,1156,      3.7,  87.5353, 179.8751,     -999,9,     -999,9
33HQ20150809  ,ARC01      ,30      ,  5,31         ,    6179,   11123,GSNIS-31   ,2,20150901,1142,  87.5344, 179.8943,     3941,      3.8,  -1.4842,  28.0197,2,  28.0203,2,    391.2,2,    390.6,2,    10.21,2,     0.00,2,     0.00,2,     0.78,2,     -999,9,     -999,9,     -999,9,     -999,9,     -999,9,     -999,9,     -999,9,     -999,     -999,9,     -999,9,     -999,9,     -999,9,  -1.4848,2,     -999,9,     -999,9,     -999,     -999,9,     -999,9,     -999,9,     -999,     -999,9,20150901,1156,      3.7,  87.5353, 179.8753,     -999,9,  28.1524,2
33HQ20150809  ,ARC01      ,30      ,  5,36         ,    6179,   11123,GSNIS-36   ,2,20150901,1142,  87.5344, 179.8943,     3941,      3.8,  -1.4849,  28.0204,2,     -999,9,    391.2,2,     -999,9,    10.21,2,     0.00,2,     0.00,2,     0.79,2,     -999,9,     -999,9,     -999,9,     -999,9,     -999,9,     -999,9,     -999,9,     -999,     -999,9,     -999,9,     -999,9,     -999,9,     -999,9,     -999,9,     -999,9,     -999,     -999,9,     -999,9,     -999,9,     -999,     -999,9,20150901,1156,      3.8,  87.5353, 179.8747,     -999,9,     -999,9
33HQ20150809  ,ARC01      ,30      ,  5,35         ,    6179,   11123,GSNIS-35   ,2,20150901,1142,  87.5344, 179.8943,     3941,      3.8,  -1.4849,  28.0205,2,     -999,9,    391.2,2,     -999,9,    10.21,2,     0.00,2,     0.00,2,     0.78,2,     -999,9,     -999,9,     -999,9,     -999,9,     -999,9,     -999,9,     -999,9,     -999,     -999,9,     -999,9,     -999,9,     -999,9,  -1.4852,2,     -999,9,     -999,9,     -999,     -999,9,     -999,9,     -999,9,     -999,     -999,9,20150901,1156,      3.8,  87.5353, 179.8748,     -999,9,     -999,9
33HQ20150809  ,ARC01      ,30      ,  5,34         ,    6179,   11123,GSNIS-34   ,2,20150901,1142,  87.5344, 179.8943,     3941,      3.8,  -1.4847,  28.0203,2,     -999,9,    391.2,2,     -999,9,    10.21,2,     0.00,2,     0.00,2,     0.77,2,     -999,9,     -999,9,     -999,9,     -999,9,     -999,9,     -999,9,     -999,9,     -999,     -999,9,     -999,9,     -999,9,     -999,9,     -999,9,     -999,9,     -999,9,     -999,     -999,9,     -999,9,     -999,9,     -999,     -999,9,20150901,1156,      3.8,  87.5353, 179.8749,     -999,9,     -999,9
33HQ20150809  ,ARC01      ,30      ,  5,30         ,    6179,   11124,GSNIS-30   ,2,20150901,1142,  87.5344, 179.8943,     3941,     19.9,  -1.4778,  28.0935,2,     -999,9,    389.9,2,     -999,9,    10.01,2,     0.00,2,     0.02,2,     0.77,2,     -999,9,     -999,9,     -999,9,     -999,9,     -999,9,     -999,9,     -999,9,     -999,     -999,9,     -999,9,     -999,9,     -999,9,     -999,9,     -999,9,     -999,9,     -999,     -999,9,     -999,9,     -999,9,     -999,     -999,9,20150901,1153,     19.7,  87.5351, 179.8792,     -999,9,     -999,9
33HQ20150809  ,ARC01      ,30      ,  5,25         ,    6179,   11124,GSNIS-25   ,2,20150901,1142,  87.5344, 179.8943,     3941,     20.0,  -1.4765,  28.0969,2,  28.4653,4,    389.9,2,    393.4,2,     9.81,2,     0.00,2,     0.03,2,     0.78,2,     -999,9,     -999,9,     -999,9,     -999,9,     -999,9,     -999,9,     -999,9,     -999,     -999,9,     -999,9,     -999,9,     -999,9,  -1.4784,2,     -999,9,     -999,9,     -999,     -999,9,     -999,9,     -999,9,     -999,     -999,9,20150901,1153,     19.7,  87.5351, 179.8798,     -999,9,  28.5995,4
33HQ20150809  ,ARC01      ,30      ,  5,27         ,    6179,   11124,GSNIS-27   ,2,20150901,1142,  87.5344, 179.8943,     3941,     20.0,  -1.4779,  28.0923,2,     -999,9,    389.9,2,     -999,9,     9.91,2,     0.00,2,     0.02,2,     0.78,2,     -999,9,     -999,9,     -999,9,     -999,9,     -999,9,     -999,9,     -999,9,     -999,     -999,9,     -999,9,     -999,9,     -999,9,  -1.4788,2,     -999,9,     -999,9,     -999,     -999,9,     -999,9,     -999,9,     -999,     -999,9,20150901,1153,     19.7,  87.5351, 179.8795,     -999,9,     -999,9
33HQ20150809  ,ARC01      ,30      ,  5,26         ,    6179,   11124,GSNIS-26   ,2,20150901,1142,  87.5344, 179.8943,     3941,     20.0,  -1.4770,  28.0952,2,     -999,9,    389.9,2,     -999,9,    10.01,2,     0.00,2,     0.02,2,     0.79,2,     -999,9,     -999,9,     -999,9,     -999,9,     -999,9,     -999,9,     -999,9,     -999,     -999,9,     -999,9,     -999,9,     -999,9,     -999,9,     -999,9,     -999,9,     -999,     -999,9,     -999,9,     -999,9,     -999,     -999,9,20150901,1153,     19.7,  87.5351, 179.8796,     -999,9,     -999,9
33HQ20150809  ,ARC01      ,30      ,  5,29         ,    6179,   11124,GSNIS-29   ,2,20150901,1142,  87.5344, 179.8943,     3941,     20.0,  -1.4783,  28.0909,2,     -999,9,    389.9,2,     -999,9,    10.01,2,     0.00,2,     0.02,2,     0.78,2,     -999,9,     -999,9,     -999,9,     -999,9,     -999,9,     -999,9,     -999,9,     -999,     -999,9,     -999,9,     -999,9,     -999,9,  -1.4802,2,     -999,9,     -999,9,     -999,     -999,9,     -999,9,     -999,9,     -999,     -999,9,20150901,1153,     19.7,  87.5351, 179.8793,     -999,9,     -999,9
33HQ20150809  ,ARC01      ,30      ,  5,28         ,    6179,   11124,GSNIS-28   ,2,20150901,1142,  87.5344, 179.8943,     3941,     20.0,  -1.4783,  28.0906,2,     -999,9,    389.9,2,     -999,9,    10.01,2,     0.00,2,     0.02,2,     0.79,2,     -999,9,     -999,9,     -999,9,     -999,9,     -999,9,     -999,9,     -999,9,     -999,     -999,9,     -999,9,     -999,9,     -999,9,     -999,9,     -999,9,     -999,9,     -999,     -999,9,     -999,9,     -999,9,     -999,     -999,9,20150901,1153,     19.7,  87.5351, 179.8794,     -999,9,     -999,9
33HQ20150809  ,ARC01      ,30      ,  5,19         ,    6179,   11125,GSNIS-19   ,2,20150901,1142,  87.5344, 179.8943,     3941,     25.1,  -1.3880,  28.6449,2,  28.7576,2,    395.0,2,    394.5,2,     9.61,2,     0.00,2,     0.07,2,     0.78,2,     -999,9,     -999,9,     -999,9,     -999,9,     -999,9,     -999,9,     -999,9,     -999,     -999,9,     -999,9,     -999,9,     -999,9,  -1.3882,2,     -999,9,     -999,9,     -999,     -999,9,     -999,9,     -999,9,     -999,     -999,9,20150901,1151,     24.9,  87.5349, 179.8827,     -999,9,  28.8932,2
33HQ20150809  ,ARC01      ,30      ,  5,24         ,    6179,   11125,GSNIS-24   ,2,20150901,1142,  87.5344, 179.8943,     3941,     25.1,  -1.3870,  28.6340,2,     -999,9,    395.0,2,     -999,9,     9.61,2,     0.00,2,     0.08,2,     0.79,2,     -999,9,     -999,9,     -999,9,     -999,9,     -999,9,     -999,9,     -999,9,     -999,     -999,9,     -999,9,     -999,9,     -999,9,     -999,9,     -999,9,     -999,9,     -999,     -999,9,     -999,9,     -999,9,     -999,     -999,9,20150901,1151,     24.9,  87.5350, 179.8821,     -999,9,     -999,9
33HQ20150809  ,ARC01      ,30      ,  5,23         ,    6179,   11125,GSNIS-23   ,2,20150901,1142,  87.5344, 179.8943,     3941,     25.1,  -1.3875,  28.6259,2,     -999,9,    395.0,2,     -999,9,     9.71,2,     0.07,2,     0.08,2,     0.78,2,     -999,9,     -999,9,     -999,9,     -999,9,     -999,9,     -999,9,     -999,9,     -999,     -999,9,     -999,9,     -999,9,     -999,9,  -1.3881,2,     -999,9,     -999,9,     -999,     -999,9,     -999,9,     -999,9,     -999,     -999,9,20150901,1151,     24.9,  87.5349, 179.8822,     -999,9,     -999,9
33HQ20150809  ,ARC01      ,30      ,  5,22         ,    6179,   11125,GSNIS-22   ,2,20150901,1142,  87.5344, 179.8943,     3941,     25.1,  -1.3876,  28.6287,2,     -999,9,    395.0,2,     -999,9,     9.61,2,     0.00,2,     0.07,2,     0.78,2,     -999,9,     -999,9,     -999,9,     -999,9,     -999,9,     -999,9,     -999,9,     -999,     -999,9,     -999,9,     -999,9,     -999,9,     -999,9,     -999,9,     -999,9,     -999,     -999,9,     -999,9,     -999,9,     -999,     -999,9,20150901,1151,     24.9,  87.5349, 179.8824,     -999,9,     -999,9
33HQ20150809  ,ARC01      ,30      ,  5,21         ,    6179,   11125,GSNIS-21   ,2,20150901,1142,  87.5344, 179.8943,     3941,     25.1,  -1.3881,  28.6614,2,     -999,9,    395.0,2,     -999,9,     9.61,2,     0.00,2,     0.08,2,     0.79,2,     -999,9,     -999,9,     -999,9,     -999,9,     -999,9,     -999,9,     -999,9,     -999,     -999,9,     -999,9,     -999,9,     -999,9,  -1.3869,2,     -999,9,     -999,9,     -999,     -999,9,     -999,9,     -999,9,     -999,     -999,9,20150901,1151,     24.9,  87.5349, 179.8825,     -999,9,     -999,9
33HQ20150809  ,ARC01      ,30      ,  5,20         ,    6179,   11125,GSNIS-20   ,2,20150901,1142,  87.5344, 179.8943,     3941,     25.1,  -1.3873,  28.6408,2,     -999,9,    395.0,2,     -999,9,     9.61,2,     0.01,2,     0.08,2,     0.78,2,     -999,9,     -999,9,     -999,9,     -999,9,     -999,9,     -999,9,     -999,9,     -999,     -999,9,     -999,9,     -999,9,     -999,9,     -999,9,     -999,9,     -999,9,     -999,     -999,9,     -999,9,     -999,9,     -999,     -999,9,20150901,1151,     24.9,  87.5349, 179.8826,     -999,9,     -999,9
33HQ20150809  ,ARC01      ,30      ,  5,14         ,    6179,   11126,GSNIS-14   ,2,20150901,1142,  87.5344, 179.8943,     3941,     41.5,  -1.1737,  29.7039,2,  30.2250,2,    352.8,2,     -999,9,    12.15,2,     2.28,2,     0.02,2,     0.76,2,     -999,9,     -999,9,     -999,9,     -999,9,     -999,9,     -999,9,     -999,9,     -999,     -999,9,     -999,9,     -999,9,     -999,9,     -999,9,     -999,9,     -999,9,     -999,     -999,9,     -999,9,     -999,9,     -999,     -999,9,20150901,1148,     41.1,  87.5348, 179.8869,     -999,9,  30.3675,2
33HQ20150809  ,ARC01      ,30      ,  5,13         ,    6179,   11126,GSNIS-13   ,2,20150901,1142,  87.5344, 179.8943,     3941,     41.5,  -1.1759,  29.7028,2,  30.1562,2,    352.8,2,    347.4,2,    12.15,2,     2.19,2,     0.02,2,     0.76,2,     -999,9,     -999,9,     -999,9,     -999,9,     -999,9,     -999,9,     -999,9,     -999,     -999,9,     -999,9,     -999,9,     -999,9,  -1.1758,2,     -999,9,     -999,9,     -999,     -999,9,     -999,9,     -999,9,     -999,     -999,9,20150901,1148,     41.1,  87.5347, 179.8870,     -999,9,  30.2984,2
33HQ20150809  ,ARC01      ,30      ,  5,15         ,    6179,   11126,GSNIS-15   ,2,20150901,1142,  87.5344, 179.8943,     3941,     41.5,  -1.1724,  29.7030,2,     -999,9,    352.8,2,     -999,9,    12.06,2,     1.95,2,     0.02,2,     0.77,2,     -999,9,     -999,9,     -999,9,     -999,9,     -999,9,     -999,9,     -999,9,     -999,     -999,9,     -999,9,     -999,9,     -999,9,  -1.1706,2,     -999,9,     -999,9,     -999,     -999,9,     -999,9,     -999,9,     -999,     -999,9,20150901,1148,     41.1,  87.5348, 179.8868,     -999,9,     -999,9
33HQ20150809  ,ARC01      ,30      ,  5,18         ,    6179,   11126,GSNIS-18   ,2,20150901,1142,  87.5344, 179.8943,     3941,     41.5,  -1.1749,  29.7020,2,     -999,9,    352.8,2,     -999,9,    12.15,2,     2.03,2,     0.02,2,     0.77,2,     -999,9,     -999,9,     -999,9,     -999,9,     -999,9,     -999,9,     -999,9,     -999,     -999,9,     -999,9,     -999,9,     -999,9,     -999,9,     -999,9,     -999,9,     -999,     -999,9,     -999,9,     -999,9,     -999,     -999,9,20150901,1148,     41.1,  87.5348, 179.8864,     -999,9,     -999,9
33HQ20150809  ,ARC01      ,30      ,  5,17         ,    6179,   11126,GSNIS-17   ,2,20150901,1142,  87.5344, 179.8943,     3941,     41.5,  -1.1747,  29.7020,2,     -999,9,    352.8,2,     -999,9,    12.06,2,     1.91,2,     0.02,2,     0.77,2,     -999,9,     -999,9,     -999,9,     -999,9,     -999,9,     -999,9,     -999,9,     -999,     -999,9,     -999,9,     -999,9,     -999,9,  -1.1721,2,     -999,9,     -999,9,     -999,     -999,9,     -999,9,     -999,9,     -999,     -999,9,20150901,1148,     41.1,  87.5348, 179.8865,     -999,9,     -999,9
33HQ20150809  ,ARC01      ,30      ,  5,16         ,    6179,   11126,GSNIS-16   ,2,20150901,1142,  87.5344, 179.8943,     3941,     41.5,  -1.1727,  29.7062,2,     -999,9,    352.8,2,     -999,9,    12.15,2,     2.07,2,     0.02,2,     0.77,2,     -999,9,     -999,9,     -999,9,     -999,9,     -999,9,     -999,9,     -999,9,     -999,     -999,9,     -999,9,     -999,9,     -999,9,     -999,9,     -999,9,     -999,9,     -999,     -999,9,     -999,9,     -999,9,     -999,     -999,9,20150901,1148,     41.1,  87.5348, 179.8867,     -999,9,     -999,9
33HQ20150809  ,ARC01      ,30      ,  5,12         ,    6179,   11127,GSNIS-12   ,2,20150901,1142,  87.5344, 179.8943,     3941,     57.7,  -0.9715,  31.3313,2,     -999,9,    326.2,2,     -999,9,    11.94,2,     4.15,2,     0.00,2,     0.73,2,     -999,9,     -999,9,     -999,9,     -999,9,     -999,9,     -999,9,     -999,9,     -999,     -999,9,     -999,9,     -999,9,     -999,9,  -0.9593,2,     -999,9,     -999,9,     -999,     -999,9,     -999,9,     -999,9,     -999,     -999,9,20150901,1145,     57.1,  87.5346, 179.8906,     -999,9,     -999,9
33HQ20150809  ,ARC01      ,30      ,  5,11         ,    6179,   11127,GSNIS-11   ,2,20150901,1142,  87.5344, 179.8943,     3941,     57.7,  -0.9774,  31.3356,2,     -999,9,    325.7,2,     -999,9,    12.04,2,     4.44,2,     0.00,2,     0.74,2,     -999,9,     -999,9,     -999,9,     -999,9,     -999,9,     -999,9,     -999,9,     -999,     -999,9,     -999,9,     -999,9,     -999,9,     -999,9,     -999,9,     -999,9,     -999,     -999,9,     -999,9,     -999,9,     -999,     -999,9,20150901,1145,     57.1,  87.5346, 179.8907,     -999,9,     -999,9
33HQ20150809  ,ARC01      ,30      ,  5,10         ,    6179,   11127,GSNIS-10   ,2,20150901,1142,  87.5344, 179.8943,     3941,     57.7,  -0.9826,  31.3361,2,     -999,9,    325.7,2,     -999,9,    11.65,2,     3.86,2,     0.00,2,     0.70,2,     -999,9,     -999,9,     -999,9,     -999,9,     -999,9,     -999,9,     -999,9,     -999,     -999,9,     -999,9,     -999,9,     -999,9,  -0.9803,2,     -999,9,     -999,9,     -999,     -999,9,     -999,9,     -999,9,     -999,     -999,9,20150901,1145,     57.1,  87.5346, 179.8908,     -999,9,     -999,9
33HQ20150809  ,ARC01      ,30      ,  5,9          ,    6179,   11127,GSNIS-9    ,2,20150901,1142,  87.5344, 179.8943,     3941,     57.7,  -0.9936,  31.3418,2,     -999,9,    325.7,2,     -999,9,    11.75,2,     4.11,2,     0.00,2,     0.70,2,     -999,9,     -999,9,     -999,9,     -999,9,     -999,9,     -999,9,     -999,9,     -999,     -999,9,     -999,9,     -999,9,     -999,9,     -999,9,     -999,9,     -999,9,     -999,     -999,9,     -999,9,     -999,9,     -999,     -999,9,20150901,1145,     57.1,  87.5346, 179.8909,     -999,9,     -999,9
33HQ20150809  ,ARC01      ,30      ,  5,8          ,    6179,   11127,GSNIS-8    ,2,20150901,1142,  87.5344, 179.8943,     3941,     57.7,  -1.0065,  31.3465,2,     -999,9,    325.7,2,     -999,9,    11.94,2,     4.23,2,     0.00,2,     0.73,2,     -999,9,     -999,9,     -999,9,     -999,9,     -999,9,     -999,9,     -999,9,     -999,     -999,9,     -999,9,     -999,9,     -999,9,  -0.9985,2,     -999,9,     -999,9,     -999,     -999,9,     -999,9,     -999,9,     -999,     -999,9,20150901,1145,     57.1,  87.5346, 179.8910,     -999,9,     -999,9
33HQ20150809  ,ARC01      ,30      ,  5,7          ,    6179,   11127,GSNIS-7    ,2,20150901,1142,  87.5344, 179.8943,     3941,     57.7,  -1.0091,  31.3449,2,  31.6389,4,    325.7,2,    325.4,2,    12.04,2,     4.29,2,     0.00,2,     0.72,2,     -999,9,     -999,9,     -999,9,     -999,9,     -999,9,     -999,9,     -999,9,     -999,     -999,9,     -999,9,     -999,9,     -999,9,  -1.0103,2,     -999,9,     -999,9,     -999,     -999,9,     -999,9,     -999,9,     -999,     -999,9,20150901,1145,     57.1,  87.5345, 179.8913,     -999,9,  31.7881,4
33HQ20150809  ,ARC01      ,30      ,  5,1          ,    6179,   11128,GSNIS-1    ,2,20150901,1142,  87.5344, 179.8943,     3941,     73.5,  -1.5520,  32.7640,2,  32.6056,2,    307.1,2,    307.0,2,    15.85,2,     7.37,2,     0.00,2,     0.93,2,     -999,9,     -999,9,     -999,9,     -999,9,     -999,9,     -999,9,     -999,9,     -999,     -999,9,     -999,9,     -999,9,     -999,9,  -1.5507,2,     -999,9,     -999,9,     -999,     -999,9,     -999,9,     -999,9,     -999,     -999,9,20150901,1142,     72.7,  87.5344, 179.8954,     -999,9,  32.7593,2
33HQ20150809  ,ARC01      ,30      ,  5,6          ,    6179,   11128,GSNIS-6    ,2,20150901,1142,  87.5344, 179.8943,     3941,     73.5,  -1.5521,  32.7651,2,     -999,9,    307.1,2,     -999,9,    16.53,2,     7.80,2,     0.00,2,     0.95,2,     -999,9,     -999,9,     -999,9,     -999,9,     -999,9,     -999,9,     -999,9,     -999,     -999,9,     -999,9,     -999,9,     -999,9,     -999,9,     -999,9,     -999,9,     -999,     -999,9,     -999,9,     -999,9,     -999,     -999,9,20150901,1142,     72.7,  87.5344, 179.8947,     -999,9,     -999,9
33HQ20150809  ,ARC01      ,30      ,  5,5          ,    6179,   11128,GSNIS-5    ,2,20150901,1142,  87.5344, 179.8943,     3941,     73.5,  -1.5523,  32.7635,2,     -999,9,    307.1,2,     -999,9,    16.63,2,     7.85,2,     0.00,2,     0.94,2,     -999,9,     -999,9,     -999,9,     -999,9,     -999,9,     -999,9,     -999,9,     -999,     -999,9,     -999,9,     -999,9,     -999,9,  -1.5521,2,     -999,9,     -999,9,     -999,     -999,9,     -999,9,     -999,9,     -999,     -999,9,20150901,1142,     72.7,  87.5344, 179.8948,     -999,9,     -999,9