BOTTLE,20221220CCHSIOAMB
EXPOCODE,SECT_ID,STNNBR,CASTNO,SAMPNO,GEOTR_EVENT,GEOTR_SAMPNO,BTLNBR,BTLNBR_FLAG_W,DATE,TIME,LATITUDE,LONGITUDE,DEPTH,CTDPRS,CTDTMP,CTDSAL,CTDSAL_FLAG_W,SALNTY,SALNTY_FLAG_W,CTDOXY,CTDOXY_FLAG_W,OXYGEN,OXYGEN_FLAG_W,SILCAT,SILCAT_FLAG_W,NITRAT,NITRAT_FLAG_W,NITRIT,NITRIT_FLAG_W,PHSPHT,PHSPHT_FLAG_W,CFC-11,CFC-11_FLAG_W,CFC-12,CFC-12_FLAG_W,CFC113,CFC113_FLAG_W,SF6,SF6_FLAG_W,TCARBN,TCARBN_FLAG_W,ALKALI,ALKALI_FLAG_W,PH_SWS,PH_SWS_FLAG_W,PH_TMP,DOC,DOC_FLAG_W,TRITUM,TRITUM_FLAG_W,HELIUM,HELIUM_FLAG_W,DELHE3,DELHE3_FLAG_W,REFTMP,REFTMP_FLAG_W,DELC13,DELC13_FLAG_W,DELC14,DELC14_FLAG_W,C14ERR,TDN,TDN_FLAG_W,DELO18,DELO18_FLAG_W,DELO17,DELO17_FLAG_W,CH4,CH4,CH4_FLAG_W,BTL_DATE,BTL_TIME,CTDDEPTH,BTL_LAT,BTL_LON,LAB_DEN,LAB_DEN_FLAG_W,SALTREF,SALTREF_FLAG_W
,,,,,,,,,,,,,METERS,DBAR,ITS-90,PSS-78,,PSS-78,,UMOL/KG,,UMOL/KG,,UMOL/KG,,UMOL/KG,,UMOL/KG,,UMOL/KG,,PMOL/KG,,PMOL/KG,,PMOL/KG,,FMOL/KG,,UMOL/KG,,UMOL/KG,,,,DEG C,UMOL/KG,,TU,,NMOL/KG,,PERCNT,,ITS-90,,/MILLE,,/MILLE,,/MILLE,UMOL/KG,,/MILLE,,/MILLE,,NMOL/KG,NMOL/L,,,,METERS,,,KG/M^3,,G/KG,
33HQ20150809  ,ARC01      ,4       ,  4,11         ,    6036,   10613,NIS-11     ,2,20150816,0723,  65.8093,-168.6179,       54,      4.2,   5.9930,  32.3319,2,  32.3297,2,    304.8,2,    307.6,2,    24.37,2,     8.28,2,     0.13,2,     1.16,2,     -999,9,     -999,9,     -999,9,     -999,9,     -999,9,     -999,9,     -999,9,     -999,     -999,9,     -999,9,     -999,9,     -999,9,   5.9942,2,     -999,9,     -999,9,     -999,     -999,9,     -999,9,     -999,9,     -999,     -999,9,20150816,0729,      4.2,  65.8102,-168.6205,     -999,9,  32.4822,2
33HQ20150809  ,ARC01      ,4       ,  4,12         ,    6036,   10612,NIS-12     ,2,20150816,0723,  65.8093,-168.6179,       54,      4.3,   5.9934,  32.3315,2,  32.3299,2,    304.8,2,    308.3,2,    24.37,2,     8.29,2,     0.14,2,     1.19,2,     -999,9,     -999,9,     -999,9,     -999,9,     -999,9,     -999,9,     -999,9,     -999,     -999,9,     -999,9,     -999,9,     -999,9,   5.9939,2,     -999,9,     -999,9,     -999,     -999,9,     -999,9,     -999,9,     -999,     -999,9,20150816,0729,      4.3,  65.8102,-168.6206,     -999,9,  32.4824,2
33HQ20150809  ,ARC01      ,4       ,  4,10         ,    6036,   10614,NIS-10     ,3,20150816,0723,  65.8093,-168.6179,       54,      4.7,   5.9956,  32.3314,2,  32.3295,2,    304.8,2,    307.4,2,    24.17,2,     8.28,2,     0.13,2,     1.17,2,    4.612,2,    2.625,2,    0.422,2,    3.003,2,   2044.4,6,   2201.4,2,   7.8052,6,    25.00,     -999,9,     -999,1,     -999,1,     -999,1,   5.9942,2,     1.21,2,     -999,1,     -999,     -999,9,     -999,1,     -999,9,     6.01,   6.0119,2,20150816,0729,      4.7,  65.8102,-168.6205,     -999,9,  32.4820,2
33HQ20150809  ,ARC01      ,4       ,  4,7          ,    6036,   10617,NIS-7      ,2,20150816,0723,  65.8093,-168.6179,       54,     17.7,   5.4744,  32.4477,2,  32.4439,2,    303.9,2,    302.8,2,    28.18,2,    10.43,2,     0.13,2,     1.34,2,    4.705,2,    2.694,2,    0.427,2,    3.019,2,   2067.4,2,   2208.0,6,   7.7666,6,    25.00,     -999,9,     -999,1,     -999,1,     -999,1,   5.4775,2,     0.92,2,     -999,1,     -999,     -999,9,     -999,1,     -999,9,     6.52,   6.5181,2,20150816,0727,     17.5,  65.8100,-168.6197,     -999,9,  32.5969,2
33HQ20150809  ,ARC01      ,4       ,  4,8          ,    6036,   10616,NIS-8      ,2,20150816,0723,  65.8093,-168.6179,       54,     17.8,   5.4773,  32.4473,2,  32.4433,2,    303.9,2,    303.6,2,    28.18,2,    10.43,2,     0.14,2,     1.34,2,     -999,9,     -999,9,     -999,9,     -999,9,     -999,9,     -999,9,     -999,9,     -999,     -999,9,     -999,9,     -999,9,     -999,9,   5.4766,2,     -999,9,     -999,9,     -999,     -999,9,     -999,9,     -999,9,     -999,     -999,9,20150816,0727,     17.6,  65.8100,-168.6198,     -999,9,  32.5963,2
33HQ20150809  ,ARC01      ,4       ,  4,9          ,    6036,   10615,NIS-9      ,2,20150816,0723,  65.8093,-168.6179,       54,     17.8,   5.4930,  32.4460,2,  32.4394,2,    303.9,2,    304.3,2,    28.08,2,    10.32,2,     0.14,2,     1.32,2,     -999,9,     -999,9,     -999,9,     -999,9,     -999,9,     -999,9,     -999,9,     -999,     -999,9,     -999,9,     -999,9,     -999,9,   5.4833,2,     -999,9,     -999,9,     -999,     -999,9,     -999,9,     -999,9,     -999,     -999,9,20150816,0727,     17.6,  65.8100,-168.6198,     -999,9,  32.5924,2
33HQ20150809  ,ARC01      ,4       ,  4,6          ,    6036,   10618,NIS-6      ,2,20150816,0723,  65.8093,-168.6179,       54,     34.7,   5.3699,  32.4637,2,  32.4565,2,    302.0,2,    302.4,2,    28.57,2,    10.62,2,     0.13,2,     1.36,2,     -999,9,     -999,9,     -999,9,     -999,9,     -999,9,     -999,9,     -999,9,     -999,     -999,9,     -999,9,     -999,9,     -999,9,   5.3799,2,     -999,9,     -999,9,     -999,     -999,9,     -999,9,     -999,9,     -999,     -999,9,20150816,0725,     34.3,  65.8097,-168.6189,     -999,9,  32.6096,2
33HQ20150809  ,ARC01      ,4       ,  4,4          ,    6036,   10620,NIS-4      ,3,20150816,0723,  65.8093,-168.6179,       54,     34.7,   5.3933,  32.4601,2,  32.4528,2,    302.1,2,    301.8,2,    28.57,2,    10.61,2,     0.13,2,     1.38,2,     -999,9,     -999,9,     -999,9,     -999,9,     -999,9,     -999,9,     -999,9,     -999,     -999,9,     -999,9,     -999,9,     -999,9,   5.3925,2,     -999,9,     -999,9,     -999,     -999,9,     -999,9,     -999,9,     -999,     -999,9,20150816,0725,     34.3,  65.8097,-168.6188,     -999,9,  32.6059,2
33HQ20150809  ,ARC01      ,4       ,  4,5          ,    6036,   10619,NIS-5      ,2,20150816,0723,  65.8093,-168.6179,       54,     34.7,   5.3818,  32.4615,2,  32.4530,2,    302.1,2,    302.2,2,    28.57,2,    10.61,2,     0.13,2,     1.37,2,    4.702,2,    2.687,2,    0.425,2,    3.098,2,   2066.3,6,   2207.4,2,   7.7582,2,    25.00,     -999,9,     -999,1,     -999,1,     -999,1,   5.3928,2,     0.92,2,     -999,1,     -999,     -999,9,     -999,1,     -999,9,     7.24,   7.2381,2,20150816,0725,     34.4,  65.8097,-168.6188,     -999,9,  32.6061,2
33HQ20150809  ,ARC01      ,4       ,  4,2          ,    6036,   10622,NIS-2      ,2,20150816,0723,  65.8093,-168.6179,       54,     49.9,   5.3399,  32.4689,2,  32.4671,2,    301.4,2,    300.2,2,    29.16,2,    10.98,2,     0.13,2,     1.40,2,     -999,9,     -999,9,     -999,9,     -999,9,     -999,9,     -999,9,     -999,9,     -999,     -999,9,     -999,9,     -999,9,     -999,9,   5.3406,2,     -999,9,     -999,9,     -999,     -999,9,     -999,9,     -999,9,     -999,     -999,9,20150816,0723,     49.4,  65.8093,-168.6179,     -999,9,  32.6201,2
33HQ20150809  ,ARC01      ,4       ,  4,1          ,    6036,   10623,NIS-1      ,2,20150816,0723,  65.8093,-168.6179,       54,     49.9,   5.3395,  32.4690,2,  32.4665,2,    301.4,2,    300.1,2,    29.16,2,    10.95,2,     0.14,2,     1.40,2,    4.696,6,    2.697,6,    0.429,6,    3.139,2,   2070.2,2,   2206.6,6,   7.7470,2,    25.00,     -999,9,     -999,1,     -999,1,     -999,1,   5.3376,2,     0.87,2,     -999,1,     -999,     -999,9,     -999,1,     -999,9,     6.73,   6.7343,2,20150816,0723,     49.4,  65.8093,-168.6178,     -999,9,  32.6196,2
33HQ20150809  ,ARC01      ,4       ,  4,3          ,    6036,   10621,NIS-3      ,2,20150816,0723,  65.8093,-168.6179,       54,     49.9,   5.3382,  32.4689,2,  32.4670,2,    301.4,2,    300.2,2,    29.26,2,    10.98,2,     0.14,2,     1.40,2,     -999,9,     -999,9,     -999,9,     -999,9,     -999,9,     -999,9,     -999,9,     -999,     -999,9,     -999,9,     -999,9,     -999,9,   5.3397,2,     -999,9,     -999,9,     -999,     -999,9,     -999,9,     -999,9,     -999,     -999,9,20150816,0723,     49.4,  65.8093,-168.6179,     -999,9,  32.6201,2
33HQ20150809  ,ARC01      ,5       ,  2,12         ,    6047,   10631,NIS-12     ,2,20150816,1134,  66.3318,-168.9001,       58,      5.2,   6.0068,  32.2365,2,  32.2276,2,    302.3,2,    304.9,2,    21.63,2,     5.22,2,     0.09,2,     0.99,2,     -999,9,     -999,9,     -999,9,     -999,9,     -999,9,     -999,9,     -999,9,     -999,     -999,9,     -999,9,     -999,9,     -999,9,     -999,9,     -999,9,     -999,9,     -999,     -999,9,     -999,9,     -999,9,     -999,     -999,9,20150816,1143,      5.1,  66.3327,-168.9000,     -999,9,  32.3796,2
33HQ20150809  ,ARC01      ,5       ,  2,11         ,    6047,   10632,NIS-11     ,2,20150816,1134,  66.3318,-168.9001,       58,      5.2,   6.0288,  32.2297,2,  32.2302,2,    302.3,2,    305.4,2,    21.63,2,     5.22,2,     0.09,2,     1.00,2,     -999,9,     -999,9,     -999,9,     -999,9,     -999,9,     -999,9,     -999,9,     -999,     -999,9,     -999,9,     -999,9,     -999,9,     -999,9,     -999,9,     -999,9,     -999,     -999,9,     -999,9,     -999,9,     -999,     -999,9,20150816,1143,      5.1,  66.3327,-168.9000,     -999,9,  32.3822,2
33HQ20150809  ,ARC01      ,5       ,  2,10         ,    6047,   10633,NIS-10     ,3,20150816,1134,  66.3318,-168.9001,       58,      5.2,   6.0296,  32.2295,2,  32.2273,2,    302.3,2,    304.9,2,    21.63,2,     5.22,2,     0.09,2,     0.99,2,    4.597,2,    2.619,2,    0.418,2,    2.958,2,   2024.3,2,   2197.8,6,   7.8246,6,    25.00,     -999,9,     -999,1,     -999,1,     -999,1,     -999,9,     1.10,2,     -999,1,     -999,     -999,9,     -999,1,     -999,9,     6.19,   6.1942,2,20150816,1143,      5.1,  66.3327,-168.9000,     -999,9,  32.3792,2
33HQ20150809  ,ARC01      ,5       ,  2,7          ,    6047,   10636,NIS-7      ,3,20150816,1134,  66.3318,-168.9001,       58,     17.6,   4.9312,  32.5681,2,  32.5857,2,    317.3,2,    318.4,2,    32.97,2,    11.34,2,     0.13,2,     1.37,2,    4.814,2,    2.724,2,    0.432,2,    3.048,2,   2071.3,6,   2230.5,2,   7.7495,2,    25.00,     -999,9,     -999,1,     -999,1,     -999,1,   4.0972,4,     0.90,2,     -999,1,     -999,     -999,9,     -999,1,     -999,9,     7.34,   7.3430,2,20150816,1141,     17.4,  66.3325,-168.9000,     -999,9,  32.7393,2
33HQ20150809  ,ARC01      ,5       ,  2,9          ,    6047,   10634,NIS-9      ,2,20150816,1134,  66.3318,-168.9001,       58,     17.6,   4.9324,  32.5679,2,  32.5687,2,    317.3,2,    325.3,4,    32.09,2,    10.75,2,     0.13,2,     1.35,2,     -999,9,     -999,9,     -999,9,     -999,9,     -999,9,     -999,9,     -999,9,     -999,     -999,9,     -999,9,     -999,9,     -999,9,   4.0976,4,     -999,9,     -999,9,     -999,     -999,9,     -999,9,     -999,9,     -999,     -999,9,20150816,1141,     17.4,  66.3325,-168.9000,     -999,9,  32.7223,2
33HQ20150809  ,ARC01      ,5       ,  2,8          ,    6047,   10635,NIS-8      ,2,20150816,1134,  66.3318,-168.9001,       58,     17.6,   4.9334,  32.5672,2,  32.5716,2,    317.3,2,    317.9,2,    32.29,2,    10.88,2,     0.13,2,     1.35,2,     -999,9,     -999,9,     -999,9,     -999,9,     -999,9,     -999,9,     -999,9,     -999,     -999,9,     -999,9,     -999,9,     -999,9,     -999,9,     -999,9,     -999,9,     -999,     -999,9,     -999,9,     -999,9,     -999,     -999,9,20150816,1141,     17.5,  66.3325,-168.9000,     -999,9,  32.7252,2
33HQ20150809  ,ARC01      ,5       ,  2,6          ,    6047,   10637,NIS-6      ,2,20150816,1134,  66.3318,-168.9001,       58,     35.1,   4.0977,  32.6996,2,  32.7013,2,    304.5,2,    303.2,2,    39.23,2,    16.10,2,     0.15,2,     1.73,2,     -999,9,     -999,9,     -999,9,     -999,9,     -999,9,     -999,9,     -999,9,     -999,     -999,9,     -999,9,     -999,9,     -999,9,     -999,9,     -999,9,     -999,9,     -999,     -999,9,     -999,9,     -999,9,     -999,     -999,9,20150816,1138,     34.7,  66.3322,-168.9001,     -999,9,  32.8555,2
33HQ20150809  ,ARC01      ,5       ,  2,5          ,    6047,   10638,NIS-5      ,2,20150816,1134,  66.3318,-168.9001,       58,     35.1,   4.0972,  32.6996,2,  32.7025,2,    304.5,2,    302.4,2,    39.42,2,    16.25,2,     0.15,2,     1.74,2,     -999,9,     -999,9,     -999,9,     -999,9,     -999,9,     -999,9,     -999,9,     -999,     -999,9,     -999,9,     -999,9,     -999,9,   3.8655,4,     -999,9,     -999,9,     -999,     -999,9,     -999,9,     -999,9,     -999,     -999,9,20150816,1138,     34.7,  66.3321,-168.9001,     -999,9,  32.8567,2
33HQ20150809  ,ARC01      ,5       ,  2,4          ,    6047,   10639,NIS-4      ,2,20150816,1134,  66.3318,-168.9001,       58,     35.1,   4.0969,  32.6996,2,  32.7030,2,    304.5,2,    302.2,2,    39.33,2,    16.20,2,     0.15,2,     1.76,2,    4.919,2,    2.773,2,    0.442,2,    3.137,2,   2106.7,2,   2218.7,6,   7.6618,6,    25.00,     -999,9,     -999,1,     -999,1,     -999,1,   4.0976,2,     0.50,2,     -999,1,     -999,     -999,9,     -999,1,     -999,9,     9.12,   9.1221,2,20150816,1138,     34.8,  66.3321,-168.9001,     -999,9,  32.8573,2
33HQ20150809  ,ARC01      ,5       ,  2,1          ,    6047,   10642,NIS-1      ,2,20150816,1134,  66.3318,-168.9001,       58,     50.5,   3.8642,  32.7131,2,  32.7093,2,    301.3,2,    299.8,2,    40.21,2,    17.18,2,     0.15,2,     1.78,2,    4.942,6,    2.803,6,    0.449,6,    3.184,6,   2112.3,6,   2217.4,2,   7.6670,2,    25.00,     -999,9,     -999,1,     -999,1,     -999,1,   3.8919,4,     0.49,2,     -999,1,     -999,     -999,9,     -999,1,     -999,9,     8.51,   8.5069,2,20150816,1135,     50.0,  66.3319,-168.9001,     -999,9,  32.8635,2
33HQ20150809  ,ARC01      ,5       ,  2,2          ,    6047,   10641,NIS-2      ,2,20150816,1134,  66.3318,-168.9001,       58,     50.5,   3.8584,  32.7133,2,  32.7097,2,    301.3,2,    301.3,2,    40.21,2,    17.21,2,     0.15,2,     1.80,2,     -999,9,     -999,9,     -999,9,     -999,9,     -999,9,     -999,9,     -999,9,     -999,     -999,9,     -999,9,     -999,9,     -999,9,   3.8655,2,     -999,9,     -999,9,     -999,     -999,9,     -999,9,     -999,9,     -999,     -999,9,20150816,1135,     50.0,  66.3319,-168.9001,     -999,9,  32.8639,2
33HQ20150809  ,ARC01      ,5       ,  2,3          ,    6047,   10640,NIS-3      ,2,20150816,1134,  66.3318,-168.9001,       58,     50.5,   3.8540,  32.7137,2,  32.7116,2,    301.3,2,    299.7,2,    40.30,2,    17.20,2,     0.15,2,     1.80,2,     -999,9,     -999,9,     -999,9,     -999,9,     -999,9,     -999,9,     -999,9,     -999,     -999,9,     -999,9,     -999,9,     -999,9,   4.0972,4,     -999,9,     -999,9,     -999,     -999,9,     -999,9,     -999,9,     -999,     -999,9,20150816,1135,     50.0,  66.3319,-168.9001,     -999,9,  32.8659,2