BOTTLE,20221220CCHSIOAMB
EXPOCODE,SECT_ID,STNNBR,CASTNO,SAMPNO,GEOTR_EVENT,GEOTR_SAMPNO,BTLNBR,BTLNBR_FLAG_W,DATE,TIME,LATITUDE,LONGITUDE,DEPTH,CTDPRS,CTDTMP,CTDSAL,CTDSAL_FLAG_W,SALNTY,SALNTY_FLAG_W,CTDOXY,CTDOXY_FLAG_W,OXYGEN,OXYGEN_FLAG_W,SILCAT,SILCAT_FLAG_W,NITRAT,NITRAT_FLAG_W,NITRIT,NITRIT_FLAG_W,PHSPHT,PHSPHT_FLAG_W,CFC-11,CFC-11_FLAG_W,CFC-12,CFC-12_FLAG_W,CFC113,CFC113_FLAG_W,SF6,SF6_FLAG_W,TCARBN,TCARBN_FLAG_W,ALKALI,ALKALI_FLAG_W,PH_SWS,PH_SWS_FLAG_W,PH_TMP,DOC,DOC_FLAG_W,TRITUM,TRITUM_FLAG_W,HELIUM,HELIUM_FLAG_W,DELHE3,DELHE3_FLAG_W,REFTMP,REFTMP_FLAG_W,DELC13,DELC13_FLAG_W,DELC14,DELC14_FLAG_W,C14ERR,TDN,TDN_FLAG_W,DELO18,DELO18_FLAG_W,DELO17,DELO17_FLAG_W,CH4,CH4,CH4_FLAG_W,BTL_DATE,BTL_TIME,CTDDEPTH,BTL_LAT,BTL_LON,LAB_DEN,LAB_DEN_FLAG_W,SALTREF,SALTREF_FLAG_W
,,,,,,,,,,,,,METERS,DBAR,ITS-90,PSS-78,,PSS-78,,UMOL/KG,,UMOL/KG,,UMOL/KG,,UMOL/KG,,UMOL/KG,,UMOL/KG,,PMOL/KG,,PMOL/KG,,PMOL/KG,,FMOL/KG,,UMOL/KG,,UMOL/KG,,,,DEG C,UMOL/KG,,TU,,NMOL/KG,,PERCNT,,ITS-90,,/MILLE,,/MILLE,,/MILLE,UMOL/KG,,/MILLE,,/MILLE,,NMOL/KG,NMOL/L,,,,METERS,,,KG/M^3,,G/KG,
33HQ20150809  ,ARC01      ,23      ,  1,34         ,    6140,    -999,GSNIS-34   ,2,20150826,0354,  81.5572, 176.8727,     2468,      2.4,  -1.4805,  28.3530,2,  28.3559,2,    386.9,2,    387.4,2,     2.16,2,     0.00,2,     0.00,2,     0.63,2,    6.907,2,    3.729,2,    0.650,2,    3.482,2,   1906.4,6,   2009.2,2,   7.7126,2,    25.00,     66.5,2,     -999,9,     -999,9,     -999,9,  -1.4865,2,     1.66,6,     -999,1,     -999,     3.43,2,     -999,1,     -999,9,     -999,     -999,9,20150826,0521,      2.3,  81.5594, 176.8749,     -999,9,  28.4896,2
33HQ20150809  ,ARC01      ,23      ,  1,33         ,    6140,    -999,GSNIS-33   ,2,20150826,0354,  81.5572, 176.8727,     2468,     18.5,  -1.2510,  29.4121,2,  29.3710,2,    397.8,2,    397.0,2,     1.86,2,     0.00,2,     0.00,2,     0.64,2,    6.701,2,    3.598,2,    0.624,2,    3.512,2,     -999,9,   2076.5,6,   7.6979,3,    25.00,     69.6,2,     -999,9,     -999,9,     -999,9,  -1.2528,2,     -999,9,     -999,9,     -999,     3.40,2,     -999,1,     -999,9,     -999,     -999,9,20150826,0520,     18.3,  81.5594, 176.8748,     -999,9,  29.5094,2
33HQ20150809  ,ARC01      ,23      ,  1,32         ,    6140,    -999,GSNIS-32   ,2,20150826,0354,  81.5572, 176.8727,     2468,     28.6,  -1.3219,  30.8955,2,  30.8554,2,    406.2,2,    403.3,2,     3.14,2,     0.05,2,     0.00,2,     0.69,2,     -999,9,     -999,9,     -999,9,     -999,9,     -999,9,   2165.1,2,   7.7492,2,    25.00,     70.6,2,     -999,9,     -999,9,     -999,9,  -1.3291,2,     -999,9,     -999,9,     -999,     3.84,2,     -999,1,     -999,9,     -999,     -999,9,20150826,0518,     28.3,  81.5594, 176.8748,     -999,9,  31.0008,2
33HQ20150809  ,ARC01      ,23      ,  1,31         ,    6140,    -999,GSNIS-31   ,2,20150826,0354,  81.5572, 176.8727,     2468,     44.0,  -1.4610,  31.4418,2,  31.5216,2,    365.2,2,    359.1,2,    11.85,2,     3.90,2,     0.08,2,     1.01,2,    6.519,2,    3.495,2,    0.595,2,    3.325,2,     -999,9,     -999,9,     -999,9,     -999,     67.6,2,     -999,9,     -999,9,     -999,9,  -1.4592,2,     -999,9,     -999,9,     -999,     7.54,2,     -999,1,     -999,9,     -999,     -999,9,20150826,0517,     43.6,  81.5594, 176.8747,     -999,9,  31.6702,2
33HQ20150809  ,ARC01      ,23      ,  1,30         ,    6140,    -999,GSNIS-30   ,2,20150826,0354,  81.5572, 176.8727,     2468,     64.5,  -1.4788,  31.9719,2,  31.9870,2,    330.8,2,    328.6,2,    21.44,2,     8.70,2,     0.02,2,     1.35,2,     -999,9,     -999,9,     -999,9,     -999,9,     -999,9,   2209.7,2,   7.5568,2,    25.00,     65.0,2,     -999,9,     -999,9,     -999,9,  -1.4808,2,     -999,9,     -999,9,     -999,    11.36,2,     -999,1,     -999,9,     -999,     -999,9,20150826,0515,     63.9,  81.5593, 176.8746,     -999,9,  32.1379,2
33HQ20150809  ,ARC01      ,23      ,  1,29         ,    6140,    -999,GSNIS-29   ,2,20150826,0354,  81.5572, 176.8727,     2468,     74.9,  -1.5438,  32.0802,2,  32.1286,2,    328.4,2,    320.2,2,    25.45,2,    10.04,2,     0.02,2,     1.46,2,    6.349,2,    3.436,2,    0.561,2,    3.332,2,     -999,9,     -999,9,     -999,9,     -999,     65.4,2,     -999,9,     -999,9,     -999,9,  -1.5459,2,     -999,9,     -999,9,     -999,    12.37,2,     -999,1,     -999,9,     -999,     -999,9,20150826,0513,     74.1,  81.5593, 176.8746,     -999,9,  32.2801,2
33HQ20150809  ,ARC01      ,23      ,  1,28         ,    6140,    -999,GSNIS-28   ,2,20150826,0354,  81.5572, 176.8727,     2468,     84.9,  -1.5335,  32.2290,2,  32.2578,2,    312.5,2,    309.4,2,    30.05,2,    11.73,2,     0.01,2,     1.61,2,     -999,9,     -999,9,     -999,9,     -999,9,     -999,9,   2221.6,2,   7.4877,2,    25.00,     65.9,2,     -999,9,     -999,9,     -999,9,  -1.5356,2,     -999,9,     -999,9,     -999,    13.44,2,     -999,1,     -999,9,     -999,     -999,9,20150826,0512,     84.0,  81.5593, 176.8745,     -999,9,  32.4099,2
33HQ20150809  ,ARC01      ,23      ,  1,27         ,    6140,    -999,GSNIS-27   ,2,20150826,0354,  81.5572, 176.8727,     2468,     95.5,  -1.4848,  32.3485,2,  32.3728,2,    304.7,2,    302.7,2,    32.39,2,    12.87,2,     0.02,2,     1.68,2,    6.317,2,    3.461,2,    0.534,2,    3.122,2,     -999,9,     -999,9,     -999,9,     -999,     64.1,2,     -999,9,     -999,9,     -999,9,  -1.4862,2,     -999,9,     -999,9,     -999,    14.20,2,     -999,1,     -999,9,     -999,     -999,9,20150826,0511,     94.5,  81.5593, 176.8745,     -999,9,  32.5255,2
33HQ20150809  ,ARC01      ,23      ,  1,26         ,    6140,    -999,GSNIS-26   ,2,20150826,0354,  81.5572, 176.8727,     2468,    105.8,  -1.5319,  32.4789,2,  32.5164,2,    293.4,2,    287.5,2,    35.42,2,    13.89,2,     0.01,2,     1.81,2,     -999,9,     -999,9,     -999,9,     -999,9,     -999,9,   2232.2,2,   7.4252,2,    25.00,     65.4,2,     -999,9,     -999,9,     -999,9,  -1.5327,2,     -999,9,     -999,9,     -999,    15.96,2,     -999,1,     -999,9,     -999,     -999,9,20150826,0510,    104.6,  81.5593, 176.8744,     -999,9,  32.6697,2
33HQ20150809  ,ARC01      ,23      ,  1,25         ,    6140,    -999,GSNIS-25   ,2,20150826,0354,  81.5572, 176.8727,     2468,    121.2,  -1.5375,  32.7370,2,  32.7772,2,    279.2,2,    270.2,2,    40.99,2,    15.15,2,     0.01,2,     1.95,2,    6.097,2,    3.403,2,    0.496,2,    3.052,2,     -999,9,     -999,9,     -999,9,     -999,     62.2,2,     -999,9,     -999,9,     -999,9,  -1.5365,2,     -999,9,     -999,9,     -999,    16.05,2,     -999,1,     -999,9,     -999,     -999,9,20150826,0508,    119.8,  81.5592, 176.8743,     -999,9,  32.9318,2
33HQ20150809  ,ARC01      ,23      ,  1,24         ,    6140,    -999,GSNIS-24   ,2,20150826,0354,  81.5572, 176.8727,     2468,    136.5,  -1.3083,  33.2759,2,  33.3987,2,    250.2,2,    254.5,2,    35.89,2,    14.85,2,     0.00,2,     1.73,2,     -999,9,     -999,9,     -999,9,     -999,9,     -999,9,   2274.6,2,   7.4212,2,    25.00,     64.0,2,     -999,9,     -999,9,     -999,9,  -1.3011,2,     -999,9,     -999,9,     -999,    17.47,2,     -999,1,     -999,9,     -999,     -999,9,20150826,0507,    135.0,  81.5592, 176.8743,     -999,9,  33.5562,2
33HQ20150809  ,ARC01      ,23      ,  1,23         ,    6140,    -999,GSNIS-23   ,2,20150826,0354,  81.5572, 176.8727,     2468,    157.0,  -1.0527,  34.0804,2,  34.0943,2,    257.2,2,    268.3,2,    19.16,2,    10.79,2,     0.00,2,     1.07,2,    5.945,2,    3.122,2,    0.415,2,    2.271,2,     -999,9,   2277.9,2,   7.5279,6,    25.00,     63.4,2,     -999,9,     -999,9,     -999,9,  -1.0479,2,     -999,9,     -999,9,     -999,    13.63,2,     -999,1,     -999,9,     -999,     -999,9,20150826,0506,    155.3,  81.5592, 176.8742,     -999,9,  34.2551,2
33HQ20150809  ,ARC01      ,23      ,  1,22         ,    6140,    -999,GSNIS-22   ,2,20150826,0354,  81.5572, 176.8727,     2468,    177.7,  -1.0600,  34.2987,2,  34.3159,2,    297.6,2,    293.5,2,     9.97,2,     9.25,2,     0.00,2,     0.80,2,     -999,9,     -999,9,     -999,9,     -999,9,     -999,9,   2281.9,6,   7.6002,2,    25.00,     62.0,2,     -999,9,     -999,9,     -999,9,  -1.0302,4,     -999,9,     -999,9,     -999,    11.84,2,     -999,1,     -999,9,     -999,     -999,9,20150826,0504,    175.8,  81.5592, 176.8741,     -999,9,  34.4778,2
33HQ20150809  ,ARC01      ,23      ,  1,21         ,    6140,    -999,GSNIS-21   ,2,20150826,0354,  81.5572, 176.8727,     2468,    198.4,  -0.7868,  34.4366,2,  34.4345,2,    301.6,2,    298.7,2,     7.72,2,     9.20,2,     0.00,2,     0.74,2,    6.022,2,    3.207,2,    0.427,2,    2.539,2,     -999,9,   2285.5,2,   7.6179,2,    25.00,     60.9,2,     -999,9,     -999,9,     -999,9,  -0.7797,2,     -999,9,     -999,9,     -999,    11.42,2,     -999,1,     -999,9,     -999,     -999,9,20150826,0503,    196.2,  81.5592, 176.8741,     -999,9,  34.5969,2
33HQ20150809  ,ARC01      ,23      ,  1,20         ,    6140,    -999,GSNIS-20   ,2,20150826,0354,  81.5572, 176.8727,     2468,    219.1,  -0.4777,  34.5245,2,  34.5419,2,    302.9,2,    301.8,2,     6.35,2,     9.41,2,     0.00,2,     0.72,2,     -999,9,     -999,9,     -999,9,     -999,9,     -999,9,     -999,9,     -999,9,     -999,     58.8,2,     -999,9,     -999,9,     -999,9,  -0.4774,2,     -999,9,     -999,9,     -999,    10.01,2,     -999,1,     -999,9,     -999,     -999,9,20150826,0502,    216.6,  81.5591, 176.8740,     -999,9,  34.7048,2
33HQ20150809  ,ARC01      ,23      ,  1,19         ,    6140,    -999,GSNIS-19   ,2,20150826,0354,  81.5572, 176.8727,     2468,    239.7,  -0.0175,  34.6204,2,  34.6313,2,    302.3,2,    299.6,2,     6.16,2,    10.09,2,     0.00,2,     0.74,2,    5.807,2,    3.058,2,    0.418,2,    2.400,2,     -999,9,   2292.0,2,   7.6467,2,    25.00,     58.4,2,     -999,9,     -999,9,     -999,9,  -0.0002,2,     -999,9,     -999,9,     -999,    12.03,2,     -999,1,     -999,9,     -999,     -999,9,20150826,0500,    237.0,  81.5591, 176.8740,     -999,9,  34.7946,2
33HQ20150809  ,ARC01      ,23      ,  1,18         ,    6140,    -999,GSNIS-18   ,2,20150826,0354,  81.5572, 176.8727,     2468,    285.6,   0.7273,  34.7988,2,  34.8054,2,    297.9,2,    296.1,2,     5.18,2,    11.47,2,     0.00,2,     0.80,2,     -999,9,     -999,9,     -999,9,     -999,9,     -999,9,     -999,9,     -999,9,     -999,     56.2,2,     -999,9,     -999,9,     -999,9,   0.7363,2,     -999,9,     -999,9,     -999,    13.83,2,     -999,1,     -999,9,     -999,     -999,9,20150826,0458,    282.4,  81.5591, 176.8739,     -999,9,  34.9695,2
33HQ20150809  ,ARC01      ,23      ,  1,17         ,    6140,    -999,GSNIS-17   ,2,20150826,0354,  81.5572, 176.8727,     2468,    337.8,   0.7612,  34.8062,2,  34.8212,4,    298.7,2,    296.9,2,     5.08,2,    11.53,2,     0.00,2,     0.80,2,    5.442,2,    2.869,2,    0.407,2,    1.941,2,     -999,9,   2296.1,2,   7.6880,2,    25.00,     54.3,2,     -999,9,     -999,9,     -999,9,   0.7784,2,     -999,9,     -999,9,     -999,    13.16,2,     -999,1,     -999,9,     -999,     -999,9,20150826,0457,    334.0,  81.5590, 176.8739,     -999,9,  34.9854,4
33HQ20150809  ,ARC01      ,23      ,  1,16         ,    6140,    -999,GSNIS-16   ,3,20150826,0354,  81.5572, 176.8727,     2468,    389.2,   0.8865,  34.8474,2,  34.8438,2,    301.6,2,    299.3,2,     4.98,2,    11.49,2,     0.00,2,     0.79,2,     -999,9,     -999,9,     -999,9,     -999,9,     -999,9,     -999,9,     -999,9,     -999,     51.8,2,     -999,9,     -999,9,     -999,9,   0.8866,2,     -999,9,     -999,9,     -999,    12.76,2,     -999,1,     -999,9,     -999,     -999,9,20150826,0454,    384.7,  81.5590, 176.8738,     -999,9,  35.0081,2
33HQ20150809  ,ARC01      ,23      ,  1,15         ,    6140,    -999,GSNIS-15   ,2,20150826,0354,  81.5572, 176.8727,     2468,    441.4,   0.9024,  34.8695,2,  34.8688,2,    303.4,2,    301.6,2,     5.08,2,    11.57,2,     0.00,2,     0.80,2,    5.343,2,    2.816,2,    0.405,2,    1.993,2,     -999,9,   2300.0,2,   7.6899,2,    25.00,     54.0,2,     -999,9,     -999,9,     -999,9,   0.9016,2,     -999,9,     -999,9,     -999,    14.79,2,     -999,1,     -999,9,     -999,     -999,9,20150826,0453,    436.2,  81.5589, 176.8737,     -999,9,  35.0332,2
33HQ20150809  ,ARC01      ,23      ,  1,14         ,    6140,    -999,GSNIS-14   ,2,20150826,0354,  81.5572, 176.8727,     2468,    492.6,   0.7469,  34.8703,2,  34.8672,2,    304.6,2,    302.6,2,     5.18,2,    11.57,2,     0.00,2,     0.80,2,     -999,9,     -999,9,     -999,9,     -999,9,     -999,9,     -999,9,     -999,9,     -999,     53.0,2,     -999,9,     -999,9,     -999,9,   0.7455,2,     -999,9,     -999,9,     -999,    13.72,2,     -999,1,     -999,9,     -999,     -999,9,20150826,0451,    486.8,  81.5589, 176.8736,     -999,9,  35.0316,2
33HQ20150809  ,ARC01      ,23      ,  1,13         ,    6140,    -999,GSNIS-13   ,2,20150826,0354,  81.5572, 176.8727,     2468,    539.2,   0.6531,  34.8764,2,  34.8763,2,    304.8,2,    303.1,2,     5.18,2,    11.61,2,     0.00,2,     0.80,2,    5.339,2,    2.797,2,    0.403,2,    1.946,2,     -999,9,   2299.3,2,   7.6837,2,    25.00,     54.2,2,     -999,9,     -999,9,     -999,9,   0.6524,2,     -999,9,     -999,9,     -999,    13.00,2,     -999,9,     -999,9,     -999,     -999,9,20150826,0449,    532.8,  81.5589, 176.8735,     -999,9,  35.0407,2
33HQ20150809  ,ARC01      ,23      ,  1,12         ,    6140,    -999,GSNIS-12   ,2,20150826,0354,  81.5572, 176.8727,     2468,    606.6,   0.5066,  34.8783,2,  34.8773,2,    305.1,2,    304.1,2,     5.28,2,    11.67,2,     0.00,2,     0.81,2,     -999,9,     -999,9,     -999,9,     -999,9,     -999,9,     -999,9,     -999,9,     -999,     52.0,2,     -999,9,     -999,9,     -999,9,   0.5057,2,     -999,9,     -999,9,     -999,    11.53,2,     -999,9,     -999,9,     -999,     -999,9,20150826,0447,    599.2,  81.5588, 176.8734,     -999,9,  35.0417,2
33HQ20150809  ,ARC01      ,23      ,  1,11         ,    6140,    -999,GSNIS-11   ,2,20150826,0354,  81.5572, 176.8727,     2468,    709.8,   0.3365,  34.8855,2,  34.8838,2,    305.3,2,    303.3,2,     5.47,2,    11.71,2,     0.00,2,     0.82,2,    5.322,2,    2.780,2,    0.401,2,    1.901,2,     -999,9,   2299.6,2,   7.6765,2,    25.00,     53.2,2,     -999,9,     -999,9,     -999,9,   0.3350,2,     -999,9,     -999,9,     -999,    11.26,2,     -999,9,     -999,9,     -999,     -999,9,20150826,0444,    701.1,  81.5588, 176.8733,     -999,9,  35.0483,2
33HQ20150809  ,ARC01      ,23      ,  1,10         ,    6140,    -999,GSNIS-10   ,2,20150826,0354,  81.5572, 176.8727,     2468,    860.0,   0.1164,  34.8895,2,  34.8862,2,    305.5,2,    304.8,2,     5.47,2,    11.77,2,     0.00,2,     0.82,2,    5.228,2,    2.719,2,    0.387,2,    1.755,2,     -999,9,     -999,9,     -999,9,     -999,     53.3,2,     -999,9,     -999,9,     -999,9,   0.1164,2,     -999,9,     -999,9,     -999,    12.04,2,     -999,9,     -999,9,     -999,     -999,9,20150826,0441,    849.1,  81.5587, 176.8731,     -999,9,  35.0507,2
33HQ20150809  ,ARC01      ,23      ,  1,9          ,    6140,    -999,GSNIS-9    ,2,20150826,0354,  81.5572, 176.8727,     2468,   1013.6,  -0.0954,  34.8901,2,  34.8899,2,    305.3,2,    305.4,2,     5.86,2,    11.99,2,     0.00,2,     0.84,2,    4.994,2,    2.568,2,    0.371,2,    1.612,2,     -999,9,   2278.9,3,   7.6759,2,    25.00,     52.7,2,     -999,9,     -999,9,     -999,9,  -0.0950,2,     -999,9,     -999,9,     -999,    13.25,2,     -999,9,     -999,9,     -999,     -999,9,20150826,0437,   1000.4,  81.5586, 176.8730,     -999,9,  35.0544,2
33HQ20150809  ,ARC01      ,23      ,  1,8          ,    6140,    -999,GSNIS-8    ,2,20150826,0354,  81.5572, 176.8727,     2468,   1216.6,  -0.2711,  34.8939,2,  34.8962,2,    305.1,2,    305.8,2,     6.35,2,    12.20,2,     0.00,2,     0.85,2,    4.508,2,    2.297,2,    0.320,2,    1.436,2,     -999,9,     -999,9,     -999,9,     -999,     52.0,2,     -999,9,     -999,9,     -999,9,  -0.2714,2,     -999,9,     -999,9,     -999,    13.56,2,     -999,9,     -999,9,     -999,     -999,9,20150826,0431,   1200.2,  81.5585, 176.8728,     -999,9,  35.0608,2
33HQ20150809  ,ARC01      ,23      ,  1,7          ,    6140,    -999,GSNIS-7    ,2,20150826,0354,  81.5572, 176.8727,     2468,   1418.3,  -0.3828,  34.9053,2,  34.9053,2,    302.0,2,    302.8,2,     7.42,2,    12.80,2,     0.00,2,     0.89,2,    3.248,2,    1.639,2,    0.213,2,    0.926,2,     -999,9,   2290.2,3,   7.6939,2,    25.00,     51.8,2,     -999,9,     -999,9,     -999,9,  -0.3828,2,     -999,9,     -999,9,     -999,    17.70,2,     -999,9,     -999,9,     -999,     -999,9,20150826,0426,   1398.4,  81.5583, 176.8727,     -999,9,  35.0699,2
33HQ20150809  ,ARC01      ,23      ,  1,6          ,    6140,    -999,GSNIS-6    ,2,20150826,0354,  81.5572, 176.8727,     2468,   1623.2,  -0.4283,  34.9233,2,  34.9236,2,    296.4,2,    296.7,2,     9.28,2,    13.64,2,     0.00,2,     0.95,2,    1.138,2,    0.558,2,    0.058,2,    0.217,2,     -999,9,     -999,9,     -999,9,     -999,     49.0,2,     -999,9,     -999,9,     -999,9,  -0.4283,2,     -999,9,     -999,9,     -999,    13.57,2,     -999,9,     -999,9,     -999,     -999,9,20150826,0421,   1599.7,  81.5582, 176.8726,     -999,9,  35.0882,2
33HQ20150809  ,ARC01      ,23      ,  1,5          ,    6140,    -999,GSNIS-5    ,2,20150826,0354,  81.5572, 176.8727,     2468,   1827.3,  -0.4158,  34.9403,2,  34.9401,2,    290.0,2,    290.1,2,    11.04,2,    14.16,2,     0.00,2,     1.00,2,    0.263,2,    0.109,2,    0.009,2,    0.000,2,     -999,9,   2299.4,2,   7.7348,2,    25.00,     46.2,2,     -999,9,     -999,9,     -999,9,  -0.4159,2,     -999,9,     -999,9,     -999,    16.09,2,     -999,9,     -999,9,     -999,     -999,9,20150826,0415,   1800.0,  81.5580, 176.8726,     -999,9,  35.1049,2
33HQ20150809  ,ARC01      ,23      ,  1,4          ,    6140,    -999,GSNIS-4    ,2,20150826,0354,  81.5572, 176.8727,     2468,   2031.4,  -0.4085,  34.9479,2,  34.9480,2,    287.3,2,    287.9,2,    11.92,2,    14.38,2,     0.00,2,     1.02,2,    0.098,2,    0.042,2,    0.002,2,    0.019,2,     -999,9,     -999,9,     -999,9,     -999,     45.4,2,     -999,9,     -999,9,     -999,9,  -0.4082,2,     -999,9,     -999,9,     -999,    14.53,2,     -999,9,     -999,9,     -999,     -999,9,20150826,0409,   2000.1,  81.5578, 176.8726,     -999,9,  35.1128,2
33HQ20150809  ,ARC01      ,23      ,  1,3          ,    6140,    -999,GSNIS-3    ,2,20150826,0354,  81.5572, 176.8727,     2468,   2235.9,  -0.3928,  34.9516,2,  34.9525,2,    285.2,2,    285.2,2,    12.60,2,    14.54,2,     0.00,2,     1.03,2,    0.044,2,    0.014,2,    0.000,2,    0.000,2,     -999,9,   2297.0,2,   7.7332,6,    25.00,     47.5,2,     -999,9,     -999,9,     -999,9,  -0.3928,2,     -999,9,     -999,9,     -999,    16.40,2,     -999,9,     -999,9,     -999,     -999,9,20150826,0404,   2200.4,  81.5576, 176.8726,     -999,9,  35.1173,2
33HQ20150809  ,ARC01      ,23      ,  1,2          ,    6140,    -999,GSNIS-2    ,2,20150826,0354,  81.5572, 176.8727,     2468,   2386.5,  -0.3768,  34.9531,2,  34.9529,2,    284.0,2,    284.2,2,    12.99,2,    14.57,2,     0.00,2,     1.03,2,    0.029,2,    0.011,2,    0.005,2,    0.000,2,     -999,9,   2301.9,2,   7.7324,2,    25.00,     45.6,2,     -999,9,     -999,9,     -999,9,  -0.3762,2,     -999,9,     -999,9,     -999,    15.42,2,     -999,9,     -999,9,     -999,     -999,9,20150826,0400,   2347.8,  81.5575, 176.8726,     -999,9,  35.1177,2