BOTTLE,20221220CCHSIOAMB
EXPOCODE,SECT_ID,STNNBR,CASTNO,SAMPNO,GEOTR_EVENT,GEOTR_SAMPNO,BTLNBR,BTLNBR_FLAG_W,DATE,TIME,LATITUDE,LONGITUDE,DEPTH,CTDPRS,CTDTMP,CTDSAL,CTDSAL_FLAG_W,SALNTY,SALNTY_FLAG_W,CTDOXY,CTDOXY_FLAG_W,OXYGEN,OXYGEN_FLAG_W,SILCAT,SILCAT_FLAG_W,NITRAT,NITRAT_FLAG_W,NITRIT,NITRIT_FLAG_W,PHSPHT,PHSPHT_FLAG_W,CFC-11,CFC-11_FLAG_W,CFC-12,CFC-12_FLAG_W,CFC113,CFC113_FLAG_W,SF6,SF6_FLAG_W,TCARBN,TCARBN_FLAG_W,ALKALI,ALKALI_FLAG_W,PH_SWS,PH_SWS_FLAG_W,PH_TMP,DOC,DOC_FLAG_W,TRITUM,TRITUM_FLAG_W,HELIUM,HELIUM_FLAG_W,DELHE3,DELHE3_FLAG_W,REFTMP,REFTMP_FLAG_W,DELC13,DELC13_FLAG_W,DELC14,DELC14_FLAG_W,C14ERR,TDN,TDN_FLAG_W,DELO18,DELO18_FLAG_W,DELO17,DELO17_FLAG_W,CH4,CH4,CH4_FLAG_W,BTL_DATE,BTL_TIME,CTDDEPTH,BTL_LAT,BTL_LON,LAB_DEN,LAB_DEN_FLAG_W,SALTREF,SALTREF_FLAG_W
,,,,,,,,,,,,,METERS,DBAR,ITS-90,PSS-78,,PSS-78,,UMOL/KG,,UMOL/KG,,UMOL/KG,,UMOL/KG,,UMOL/KG,,UMOL/KG,,PMOL/KG,,PMOL/KG,,PMOL/KG,,FMOL/KG,,UMOL/KG,,UMOL/KG,,,,DEG C,UMOL/KG,,TU,,NMOL/KG,,PERCNT,,ITS-90,,/MILLE,,/MILLE,,/MILLE,UMOL/KG,,/MILLE,,/MILLE,,NMOL/KG,NMOL/L,,,,METERS,,,KG/M^3,,G/KG,
33HQ20150809  ,ARC01      ,41      ,  1,35         ,    6285,    -999,GSNIS-35   ,2,20150913,2150,  85.8300,-150.1926,     2702,      1.8,  -1.4052,  27.1726,2,  27.1666,2,    394.1,2,    398.3,2,     9.43,2,     0.04,2,     0.03,2,     0.69,2,    7.073,6,    3.821,6,    0.653,6,    3.774,6,   1944.4,3,   1990.3,2,   7.6413,2,    25.00,    137.3,2,     -999,9,     -999,9,     -999,9,  -1.4042,2,     0.59,2,     -999,1,     -999,     6.39,2,     -999,1,     -999,9,     -999,     -999,9,20150913,2309,      1.8,  85.8321,-150.1869,     -999,9,  27.2947,2
33HQ20150809  ,ARC01      ,41      ,  1,34         ,    6285,    -999,GSNIS-34   ,2,20150913,2150,  85.8300,-150.1926,     2702,     15.4,  -1.4713,  27.1654,2,  27.1846,2,    402.7,2,    399.1,2,     9.53,2,     0.07,2,     0.03,2,     0.69,2,     -999,9,     -999,9,     -999,9,     -999,9,   1912.9,2,   1991.5,2,   7.6415,2,    25.00,    135.9,2,     -999,9,     -999,9,     -999,9,  -1.4710,2,     -999,9,     -999,9,     -999,     5.33,2,     -999,1,     -999,9,     -999,     -999,9,20150913,2307,     15.2,  85.8320,-150.1872,     -999,9,  27.3128,2
33HQ20150809  ,ARC01      ,41      ,  1,33         ,    6285,    -999,GSNIS-33   ,2,20150913,2150,  85.8300,-150.1926,     2702,     28.8,  -1.4473,  28.4438,2,  28.4673,2,    388.7,2,    387.4,2,    12.86,2,     0.58,2,     0.02,2,     0.83,2,    7.147,2,    3.919,2,    0.657,2,    3.692,2,   1980.7,2,   2092.9,3,   7.5504,3,    25.00,    122.6,2,     -999,9,     -999,9,     -999,9,  -1.4420,2,     -999,9,     -999,9,     -999,     5.95,2,     -999,1,     -999,9,     -999,     -999,9,20150913,2306,     28.5,  85.8320,-150.1875,     -999,9,  28.6015,2
33HQ20150809  ,ARC01      ,41      ,  1,32         ,    6285,    -999,GSNIS-32   ,2,20150913,2150,  85.8300,-150.1926,     2702,     49.5,  -1.4978,  30.2633,2,  30.4804,2,    369.5,2,    362.5,2,     9.60,2,     1.95,2,     0.00,2,     0.82,2,     -999,9,     -999,9,     -999,9,     -999,9,   2068.1,2,   2193.7,3,   7.5989,2,    25.00,     92.7,2,     -999,9,     -999,9,     -999,9,  -1.4983,2,     -999,9,     -999,9,     -999,     5.96,2,     -999,1,     -999,9,     -999,     -999,9,20150913,2304,     49.0,  85.8319,-150.1877,     -999,9,  30.6242,2
33HQ20150809  ,ARC01      ,41      ,  1,31         ,    6285,    -999,GSNIS-31   ,2,20150913,2150,  85.8300,-150.1926,     2702,     69.8,  -1.3016,  31.8087,2,  31.8954,2,    282.3,2,    303.1,2,    20.75,2,     7.58,2,     0.00,2,     1.24,2,    6.382,2,    3.536,2,    0.466,2,    3.071,2,   2154.6,6,   2174.3,3,   7.5007,2,    25.00,     74.2,2,     -999,9,     -999,9,     -999,9,  -1.3093,2,     -999,9,     -999,9,     -999,    10.51,2,     -999,1,     -999,9,     -999,     -999,9,20150913,2303,     69.0,  85.8319,-150.1879,     -999,9,  32.0458,2
33HQ20150809  ,ARC01      ,41      ,  1,30         ,    6285,    -999,GSNIS-30   ,2,20150913,2150,  85.8300,-150.1926,     2702,     80.0,  -1.3956,  32.4403,2,  32.6451,2,    269.1,2,    265.9,2,    32.48,2,    12.15,2,     0.00,2,     1.57,2,     -999,9,     -999,9,     -999,9,     -999,9,   2209.7,2,   2236.8,6,   7.4033,2,    25.00,     67.3,2,     -999,9,     -999,9,     -999,9,  -1.3971,2,     -999,9,     -999,9,     -999,    14.39,2,     -999,1,     -999,9,     -999,     -999,9,20150913,2301,     79.2,  85.8319,-150.1881,     -999,9,  32.7990,2
33HQ20150809  ,ARC01      ,41      ,  1,29         ,    6285,    -999,GSNIS-29   ,2,20150913,2150,  85.8300,-150.1926,     2702,     90.2,  -1.4199,  33.0075,2,  33.0288,2,    253.8,2,    259.4,2,    33.94,2,    13.63,2,     0.00,2,     1.64,2,    6.158,2,    3.382,2,    0.448,2,    2.700,2,   2224.5,2,   2239.2,2,   7.3980,2,    25.00,     68.5,2,     -999,9,     -999,9,     -999,9,  -1.4216,2,     -999,9,     -999,9,     -999,    16.09,2,     -999,1,     -999,9,     -999,     -999,9,20150913,2300,     89.2,  85.8318,-150.1882,     -999,9,  33.1845,2
33HQ20150809  ,ARC01      ,41      ,  1,28         ,    6285,    -999,GSNIS-28   ,2,20150913,2150,  85.8300,-150.1926,     2702,    100.1,  -1.3939,  33.3833,2,  33.4637,2,    284.7,2,    281.2,2,    20.73,2,    10.42,2,     0.00,2,     1.14,2,     -999,9,     -999,9,     -999,9,     -999,9,   2201.7,2,   2250.6,2,   7.5057,2,    25.00,     70.1,2,     -999,9,     -999,9,     -999,9,  -1.3909,2,     -999,9,     -999,9,     -999,    12.21,2,     -999,1,     -999,9,     -999,     -999,9,20150913,2259,     99.0,  85.8318,-150.1883,     -999,9,  33.6215,2
33HQ20150809  ,ARC01      ,41      ,  1,27         ,    6285,    -999,GSNIS-27   ,2,20150913,2150,  85.8300,-150.1926,     2702,    110.8,  -1.3892,  33.6867,2,  33.7177,2,    310.6,2,    289.0,2,    15.25,2,     9.30,2,     0.00,2,     0.95,2,    6.221,2,    3.280,2,    0.427,2,    2.345,2,   2190.6,2,   2263.5,2,   7.7288,4,    25.00,     67.9,2,     -999,9,     -999,9,     -999,9,  -1.3872,2,     -999,9,     -999,9,     -999,    13.41,2,     -999,1,     -999,9,     -999,     -999,9,20150913,2258,    109.5,  85.8318,-150.1885,     -999,9,  33.8767,2
33HQ20150809  ,ARC01      ,41      ,  1,26         ,    6285,    -999,GSNIS-26   ,2,20150913,2150,  85.8300,-150.1926,     2702,    126.2,  -1.2588,  34.0310,2,  34.0856,2,    298.9,2,    293.9,2,    10.26,2,     8.93,2,     0.00,2,     0.80,2,     -999,9,     -999,9,     -999,9,     -999,9,   2203.4,3,   2267.1,2,   7.5985,2,    25.00,     63.7,2,     -999,9,     -999,9,     -999,9,  -1.2593,2,     -999,9,     -999,9,     -999,    12.37,2,     -999,1,     -999,9,     -999,     -999,9,20150913,2257,    124.8,  85.8317,-150.1887,     -999,9,  34.2463,2
33HQ20150809  ,ARC01      ,41      ,  1,25         ,    6285,    -999,GSNIS-25   ,2,20150913,2150,  85.8300,-150.1926,     2702,    141.4,  -1.0822,  34.2027,2,  34.2215,2,    309.7,2,    297.7,2,     8.01,2,     8.89,2,     0.00,2,     0.75,2,    6.341,2,    3.302,2,    0.446,2,    2.107,2,   2192.8,2,   2279.4,2,   7.6165,2,    25.00,     61.8,2,     -999,9,     -999,9,     -999,9,  -1.0729,2,     0.62,2,     -999,9,     -999,    11.62,2,     -999,1,     -999,9,     -999,     -999,9,20150913,2256,    139.8,  85.8317,-150.1889,     -999,9,  34.3828,2
33HQ20150809  ,ARC01      ,41      ,  1,24         ,    6285,    -999,GSNIS-24   ,2,20150913,2150,  85.8300,-150.1926,     2702,    161.5,  -0.6673,  34.3408,2,  34.3715,2,    300.6,2,    297.4,2,     6.94,2,     9.52,2,     0.00,2,     0.73,2,     -999,9,     -999,9,     -999,9,     -999,9,   2192.5,3,   2278.4,2,   7.6380,2,    25.00,     59.7,2,     -999,9,     -999,9,     -999,9,  -0.6710,2,     -999,9,     -999,9,     -999,    11.83,2,     -999,9,     -999,9,     -999,     -999,9,20150913,2255,    159.7,  85.8317,-150.1890,     -999,9,  34.5336,2
33HQ20150809  ,ARC01      ,41      ,  1,23         ,    6285,    -999,GSNIS-23   ,2,20150913,2150,  85.8300,-150.1926,     2702,    182.2,  -0.2821,  34.4774,2,  34.4748,2,    297.0,2,    297.1,2,     6.64,2,     9.93,2,     0.00,2,     0.74,2,    6.043,2,    3.053,2,    0.418,2,    1.820,2,   2178.5,2,   2285.4,2,   7.6476,2,    25.00,     58.9,2,     -999,9,     -999,9,     -999,9,  -0.2584,3,     -999,9,     -999,9,     -999,    13.72,2,     -999,1,     -999,9,     -999,     -999,9,20150913,2254,    180.1,  85.8316,-150.1891,     -999,9,  34.6373,2
33HQ20150809  ,ARC01      ,41      ,  1,22         ,    6285,    -999,GSNIS-22   ,2,20150913,2150,  85.8300,-150.1926,     2702,    202.9,  -0.0500,  34.5519,2,  34.5641,2,    292.9,2,    295.4,2,     6.74,2,    10.39,2,     0.00,2,     0.77,2,     -999,9,     -999,9,     -999,9,     -999,9,   2177.1,2,   2290.9,2,   7.6574,2,    25.00,     56.8,2,     -999,9,     -999,9,     -999,9,  -0.0487,2,     -999,9,     -999,9,     -999,    12.03,2,     -999,9,     -999,9,     -999,     -999,9,20150913,2253,    200.6,  85.8316,-150.1892,     -999,9,  34.7271,2
33HQ20150809  ,ARC01      ,41      ,  1,21         ,    6285,    -999,GSNIS-21   ,2,20150913,2150,  85.8300,-150.1926,     2702,    222.9,   0.2153,  34.6261,2,  34.6347,2,    290.1,2,    293.9,2,     6.74,2,    10.83,2,     0.00,2,     0.78,2,    5.602,2,    2.855,2,    0.380,2,    1.689,2,   2171.1,2,   2287.4,2,   7.6669,2,    25.00,     55.6,2,     -999,9,     -999,9,     -999,9,   0.2345,4,     -999,9,     -999,9,     -999,    12.64,2,     -999,1,     -999,9,     -999,     -999,9,20150913,2251,    220.4,  85.8316,-150.1894,     -999,9,  34.7980,2
33HQ20150809  ,ARC01      ,41      ,  1,20         ,    6285,    -999,GSNIS-20   ,2,20150913,2150,  85.8300,-150.1926,     2702,    243.3,   0.5308,  34.7217,2,  34.7209,2,    287.9,2,    292.8,2,     6.54,2,    11.31,2,     0.00,2,     0.80,2,     -999,9,     -999,9,     -999,9,     -999,9,   2166.6,2,   2262.2,4,   7.6743,2,    25.00,     55.6,2,     -999,9,     -999,9,     -999,9,   0.5321,2,     -999,9,     -999,9,     -999,    13.09,2,     -999,9,     -999,9,     -999,     -999,9,20150913,2250,    240.5,  85.8315,-150.1895,     -999,9,  34.8846,2
33HQ20150809  ,ARC01      ,41      ,  1,19         ,    6285,    -999,GSNIS-19   ,2,20150913,2150,  85.8300,-150.1926,     2702,    294.1,   0.7673,  34.8043,2,  34.8047,2,    293.5,2,    294.3,2,     6.15,2,    11.71,2,     0.00,2,     0.81,2,    5.215,2,    2.610,2,    0.360,2,    1.437,2,   2162.2,2,   2283.8,2,   7.6976,2,    25.00,     53.4,2,     -999,9,     -999,9,     -999,9,   0.7674,2,     -999,9,     -999,9,     -999,    13.55,2,     -999,1,     -999,9,     -999,     -999,9,20150913,2249,    290.8,  85.8315,-150.1898,     -999,9,  34.9688,2
33HQ20150809  ,ARC01      ,41      ,  1,18         ,    6285,    -999,GSNIS-18   ,2,20150913,2150,  85.8300,-150.1926,     2702,    344.9,   0.9100,  34.8430,2,  34.8438,2,    299.0,2,    297.1,2,     5.96,2,    11.80,2,     0.00,2,     0.81,2,     -999,9,     -999,9,     -999,9,     -999,9,   2159.6,2,   2296.9,2,   7.7023,2,    25.00,     52.3,2,     -999,9,     -999,9,     -999,9,   0.9099,2,     -999,9,     -999,9,     -999,    15.08,2,     -999,9,     -999,9,     -999,     -999,9,20150913,2247,    340.9,  85.8315,-150.1899,     -999,9,  35.0081,2
33HQ20150809  ,ARC01      ,41      ,  1,17         ,    6285,    -999,GSNIS-17   ,2,20150913,2150,  85.8300,-150.1926,     2702,    395.7,   0.7952,  34.8379,2,  34.8371,2,    294.9,2,    294.2,2,     6.64,2,    12.15,2,     0.00,2,     0.84,2,    4.632,2,    2.253,2,    0.302,2,    0.999,2,   2157.5,2,   2294.4,2,   7.7077,2,    25.00,     49.9,2,     -999,9,     -999,9,     -999,9,   0.7918,2,     -999,9,     -999,9,     -999,    14.09,2,     -999,1,     -999,9,     -999,     -999,9,20150913,2245,    391.1,  85.8314,-150.1901,     -999,9,  35.0014,2
33HQ20150809  ,ARC01      ,41      ,  1,16         ,    6285,    -999,GSNIS-16   ,2,20150913,2150,  85.8300,-150.1926,     2702,    446.5,   0.8346,  34.8613,2,  34.8611,2,    302.7,2,    300.2,2,     5.96,2,    11.85,2,     0.00,2,     0.82,2,    5.303,2,    2.672,2,    0.382,2,    1.365,2,   2161.8,2,   2297.8,2,   7.7010,2,    25.00,     53.0,2,     -999,9,     -999,9,     -999,9,   0.8352,2,     -999,9,     -999,9,     -999,    14.26,2,     -999,9,     -999,9,     -999,     -999,9,20150913,2244,    441.3,  85.8314,-150.1903,     -999,9,  35.0255,2
33HQ20150809  ,ARC01      ,41      ,  1,15         ,    6285,    -999,GSNIS-15   ,2,20150913,2150,  85.8300,-150.1926,     2702,    497.4,   0.6511,  34.8581,2,  34.8556,2,    299.9,2,    296.5,2,     6.54,2,    12.19,2,     0.00,2,     0.84,2,    4.292,2,    2.116,2,    0.265,2,    0.877,2,   2158.4,2,   2296.1,2,   7.7090,2,    25.00,     51.4,2,     -999,9,     -999,9,     -999,9,   0.6302,4,     -999,9,     -999,9,     -999,    13.79,2,     -999,1,     -999,9,     -999,     -999,9,20150913,2242,    491.5,  85.8313,-150.1905,     -999,9,  35.0200,2
33HQ20150809  ,ARC01      ,41      ,  1,14         ,    6285,    -999,GSNIS-14   ,2,20150913,2150,  85.8300,-150.1926,     2702,    548.3,   0.5441,  34.8602,2,  34.8595,2,    299.0,2,    297.6,2,     6.64,2,    12.20,2,     0.00,2,     0.83,2,    4.258,2,    2.090,2,    0.274,2,    0.980,2,   2162.7,2,   2294.7,2,   7.7075,2,    25.00,     51.0,2,     -999,9,     -999,9,     -999,9,   0.5440,2,     -999,9,     -999,9,     -999,    13.70,2,     -999,9,     -999,9,     -999,     -999,9,20150913,2240,    541.7,  85.8312,-150.1907,     -999,9,  35.0239,2
33HQ20150809  ,ARC01      ,41      ,  1,13         ,    6285,    -999,GSNIS-13   ,2,20150913,2150,  85.8300,-150.1926,     2702,    614.4,   0.4389,  34.8648,2,  34.8668,2,    298.7,2,    298.3,2,     6.54,2,    12.24,2,     0.00,2,     0.85,2,    3.873,2,    1.911,2,    0.237,2,    0.832,2,   2163.2,2,   2297.7,2,   7.7048,2,    25.00,     51.5,2,     -999,9,     -999,9,     -999,9,   0.4381,2,     -999,9,     -999,9,     -999,    13.98,2,     -999,9,     -999,9,     -999,     -999,9,20150913,2238,    606.9,  85.8312,-150.1909,     -999,9,  35.0312,2
33HQ20150809  ,ARC01      ,41      ,  1,12         ,    6285,    -999,GSNIS-12   ,2,20150913,2150,  85.8300,-150.1926,     2702,    716.1,   0.2661,  34.8690,2,  34.8696,2,    299.9,2,    299.4,2,     6.64,2,    12.21,2,     0.00,2,     0.84,2,    3.727,2,    1.829,2,    0.227,2,    0.846,2,   2161.9,2,   2297.0,2,   7.7087,2,    25.00,     51.5,2,     -999,9,     -999,9,     -999,9,   0.2653,2,     -999,9,     -999,9,     -999,    14.51,2,     -999,9,     -999,9,     -999,     -999,9,20150913,2236,    707.2,  85.8311,-150.1911,     -999,9,  35.0340,2
33HQ20150809  ,ARC01      ,41      ,  1,11         ,    6285,    -999,GSNIS-11   ,2,20150913,2150,  85.8300,-150.1926,     2702,    869.0,   0.0336,  34.8752,2,  34.8758,2,    303.8,2,    304.7,2,     6.25,2,    11.93,2,     0.00,2,     0.84,2,    4.737,2,    2.387,2,    0.334,2,    1.232,2,   2169.2,4,   2298.4,2,   7.6923,4,    25.00,     52.2,2,     -999,9,     -999,9,     -999,9,   0.0336,2,     -999,9,     -999,9,     -999,    13.50,2,     -999,9,     -999,9,     -999,     -999,9,20150913,2232,    857.9,  85.8310,-150.1913,     -999,9,  35.0403,2
33HQ20150809  ,ARC01      ,41      ,  1,10         ,    6285,    -999,GSNIS-10   ,2,20150913,2150,  85.8300,-150.1926,     2702,   1021.9,  -0.1207,  34.8831,2,  34.8839,2,    301.8,2,    303.1,2,     6.74,2,    12.19,2,     0.00,2,     0.86,2,    3.965,2,    1.972,2,    0.263,2,    1.007,2,   2166.2,4,   2296.4,2,   7.6969,4,    25.00,     51.2,2,     -999,9,     -999,9,     -999,9,  -0.1210,2,     -999,9,     -999,9,     -999,    14.42,2,     -999,9,     -999,9,     -999,     -999,9,20150913,2229,   1008.4,  85.8309,-150.1915,     -999,9,  35.0484,2
33HQ20150809  ,ARC01      ,41      ,  1,9          ,    6285,    -999,GSNIS-9    ,2,20150913,2150,  85.8300,-150.1926,     2702,   1225.6,  -0.2505,  34.8975,2,  34.8979,2,    300.2,2,    301.4,2,     7.52,2,    12.62,2,     0.00,2,     0.89,2,    2.656,2,    1.296,2,    0.154,2,    0.548,2,   2161.4,4,   2296.3,2,   7.6218,4,    25.00,     49.4,2,     -999,9,     -999,9,     -999,9,  -0.2505,2,     -999,9,     -999,9,     -999,    14.50,2,     -999,9,     -999,9,     -999,     -999,9,20150913,2224,   1208.9,  85.8308,-150.1917,     -999,9,  35.0624,2
33HQ20150809  ,ARC01      ,41      ,  1,8          ,    6285,    -999,GSNIS-8    ,2,20150913,2150,  85.8300,-150.1926,     2702,   1429.7,  -0.3296,  34.9126,2,  34.9126,2,    298.2,2,    299.2,2,     8.59,2,    13.11,2,     0.00,2,     0.92,2,    1.301,2,    0.633,2,    0.056,2,    0.241,2,   2153.8,2,   2294.8,2,   7.7232,2,    25.00,     48.9,2,     -999,9,     -999,9,     -999,9,  -0.3296,2,     -999,9,     -999,9,     -999,    14.70,2,     -999,9,     -999,9,     -999,     -999,9,20150913,2220,   1409.5,  85.8307,-150.1918,     -999,9,  35.0773,2
33HQ20150809  ,ARC01      ,41      ,  1,7          ,    6285,    -999,GSNIS-7    ,2,20150913,2150,  85.8300,-150.1926,     2702,   1634.1,  -0.3854,  34.9281,2,  34.9305,2,    296.0,2,    295.0,2,    10.06,2,    13.59,2,     0.00,2,     0.96,2,    0.591,2,    0.289,2,    0.025,2,    0.087,2,   2152.1,2,   2296.8,2,   7.7319,2,    25.00,     47.4,2,     -999,9,     -999,9,     -999,9,  -0.3854,2,     -999,9,     -999,9,     -999,    15.43,2,     -999,9,     -999,9,     -999,     -999,9,20150913,2216,   1610.3,  85.8306,-150.1919,     -999,9,  35.0953,2
33HQ20150809  ,ARC01      ,41      ,  1,6          ,    6285,    -999,GSNIS-6    ,2,20150913,2150,  85.8300,-150.1926,     2702,   1838.7,  -0.4025,  34.9396,2,  34.9408,2,    291.7,2,    290.9,2,    11.43,2,    13.94,2,     0.00,2,     0.99,2,    0.243,2,    0.109,2,    0.010,2,    0.024,2,   2152.6,2,   2298.0,2,   7.7348,2,    25.00,     47.1,2,     -999,9,     -999,9,     -999,9,  -0.4025,2,     -999,9,     -999,9,     -999,    14.28,2,     -999,9,     -999,9,     -999,     -999,9,20150913,2211,   1811.0,  85.8304,-150.1918,     -999,9,  35.1055,2
33HQ20150809  ,ARC01      ,41      ,  1,5          ,    6285,    -999,GSNIS-5    ,2,20150913,2150,  85.8300,-150.1926,     2702,   2043.1,  -0.3989,  34.9461,2,  34.9469,2,    288.7,2,    288.2,2,    12.31,2,    14.15,2,     0.00,2,     1.02,2,    0.136,2,    0.059,2,    0.003,2,    0.000,2,   2152.7,2,   2301.4,2,   7.7333,2,    25.00,     43.9,2,     -999,9,     -999,9,     -999,9,  -0.3989,2,     -999,9,     -999,9,     -999,    15.39,2,     -999,9,     -999,9,     -999,     -999,9,20150913,2207,   2011.4,  85.8303,-150.1918,     -999,9,  35.1117,2
33HQ20150809  ,ARC01      ,41      ,  1,4          ,    6285,    -999,GSNIS-4    ,2,20150913,2150,  85.8300,-150.1926,     2702,   2248.0,  -0.3876,  34.9496,2,  34.9504,2,    286.8,2,    287.0,2,    12.89,2,    14.24,2,     0.00,2,     1.02,2,    0.076,2,    0.036,2,    0.000,2,    0.000,2,   2152.8,2,   2300.2,6,   7.7321,2,    25.00,     44.5,2,     -999,9,     -999,9,     -999,9,  -0.3877,2,     -999,9,     -999,9,     -999,    16.10,2,     -999,9,     -999,9,     -999,     -999,9,20150913,2202,   2212.1,  85.8302,-150.1920,     -999,9,  35.1152,2
33HQ20150809  ,ARC01      ,41      ,  1,3          ,    6285,    -999,GSNIS-3    ,2,20150913,2150,  85.8300,-150.1926,     2702,   2453.4,  -0.3732,  34.9518,2,  34.9528,2,    285.7,2,    285.6,2,    13.18,2,    14.31,2,     0.00,2,     1.02,2,    0.048,2,    0.023,2,    0.000,2,    0.000,2,   2154.0,2,   2299.7,2,   7.7312,2,    25.00,     45.0,2,     -999,9,     -999,9,     -999,9,  -0.3734,2,     -999,9,     -999,9,     -999,    15.36,2,     -999,9,     -999,9,     -999,     -999,9,20150913,2158,   2413.1,  85.8302,-150.1923,     -999,9,  35.1176,2