BOTTLE,20221220CCHSIOAMB
EXPOCODE,SECT_ID,STNNBR,CASTNO,SAMPNO,GEOTR_EVENT,GEOTR_SAMPNO,BTLNBR,BTLNBR_FLAG_W,DATE,TIME,LATITUDE,LONGITUDE,DEPTH,CTDPRS,CTDTMP,CTDSAL,CTDSAL_FLAG_W,SALNTY,SALNTY_FLAG_W,CTDOXY,CTDOXY_FLAG_W,OXYGEN,OXYGEN_FLAG_W,SILCAT,SILCAT_FLAG_W,NITRAT,NITRAT_FLAG_W,NITRIT,NITRIT_FLAG_W,PHSPHT,PHSPHT_FLAG_W,CFC-11,CFC-11_FLAG_W,CFC-12,CFC-12_FLAG_W,CFC113,CFC113_FLAG_W,SF6,SF6_FLAG_W,TCARBN,TCARBN_FLAG_W,ALKALI,ALKALI_FLAG_W,PH_SWS,PH_SWS_FLAG_W,PH_TMP,DOC,DOC_FLAG_W,TRITUM,TRITUM_FLAG_W,HELIUM,HELIUM_FLAG_W,DELHE3,DELHE3_FLAG_W,REFTMP,REFTMP_FLAG_W,DELC13,DELC13_FLAG_W,DELC14,DELC14_FLAG_W,C14ERR,TDN,TDN_FLAG_W,DELO18,DELO18_FLAG_W,DELO17,DELO17_FLAG_W,CH4,CH4,CH4_FLAG_W,BTL_DATE,BTL_TIME,CTDDEPTH,BTL_LAT,BTL_LON,LAB_DEN,LAB_DEN_FLAG_W,SALTREF,SALTREF_FLAG_W
,,,,,,,,,,,,,METERS,DBAR,ITS-90,PSS-78,,PSS-78,,UMOL/KG,,UMOL/KG,,UMOL/KG,,UMOL/KG,,UMOL/KG,,UMOL/KG,,PMOL/KG,,PMOL/KG,,PMOL/KG,,FMOL/KG,,UMOL/KG,,UMOL/KG,,,,DEG C,UMOL/KG,,TU,,NMOL/KG,,PERCNT,,ITS-90,,/MILLE,,/MILLE,,/MILLE,UMOL/KG,,/MILLE,,/MILLE,,NMOL/KG,NMOL/L,,,,METERS,,,KG/M^3,,G/KG,
33HQ20150809  ,ARC01      ,57      ,  8,36         ,    6446,   12194,GSNIS-36   ,2,20151004,0015,  73.3543,-156.7943,     3424,      5.5,  -1.3453,  25.3732,2,     -999,9,    387.1,2,     -999,9,     2.16,2,     0.00,2,     0.00,2,     0.51,2,     -999,9,     -999,9,     -999,9,     -999,9,     -999,9,     -999,9,     -999,9,     -999,     -999,9,     -999,9,     -999,9,     -999,9,  -1.3463,2,     -999,9,     -999,9,     -999,     -999,9,     -999,9,     -999,9,     -999,     -999,9,20151004,0047,      5.4,  73.3495,-156.7937,     -999,9,     -999,9
33HQ20150809  ,ARC01      ,57      ,  8,34         ,    6446,   12194,GSNIS-34   ,2,20151004,0015,  73.3543,-156.7943,     3424,      5.6,  -1.3363,  25.3698,2,  25.3674,2,    387.1,2,    385.7,2,     2.26,2,     0.01,2,     0.00,2,     0.51,2,     -999,9,     -999,9,     -999,9,     -999,9,     -999,9,     -999,9,     -999,9,     -999,     -999,9,     -999,9,     -999,9,     -999,9,  -1.3335,2,     -999,9,     -999,9,     -999,     -999,9,     -999,9,     -999,9,     -999,     -999,9,20151004,0046,      5.5,  73.3496,-156.7937,     -999,9,  25.4870,2
33HQ20150809  ,ARC01      ,57      ,  8,35         ,    6446,   12194,GSNIS-35   ,2,20151004,0015,  73.3543,-156.7943,     3424,      5.6,  -1.3448,  25.3723,2,     -999,9,    387.1,2,     -999,9,     2.16,2,     0.00,2,     0.00,2,     0.51,2,     -999,9,     -999,9,     -999,9,     -999,9,     -999,9,     -999,9,     -999,9,     -999,     -999,9,     -999,9,     -999,9,     -999,9,  -1.3412,2,     -999,9,     -999,9,     -999,     -999,9,     -999,9,     -999,9,     -999,     -999,9,20151004,0046,      5.6,  73.3495,-156.7937,     -999,9,     -999,9
33HQ20150809  ,ARC01      ,57      ,  8,31         ,    6446,   12193,GSNIS-31   ,2,20151004,0015,  73.3543,-156.7943,     3424,     18.8,  -0.5202,  27.3936,2,  27.3909,2,    397.5,2,    400.2,2,     2.26,2,     0.00,2,     0.00,2,     0.55,2,     -999,9,     -999,9,     -999,9,     -999,9,     -999,9,     -999,9,     -999,9,     -999,     -999,9,     -999,9,     -999,9,     -999,9,  -0.5239,2,     -999,9,     -999,9,     -999,     -999,9,     -999,9,     -999,9,     -999,     -999,9,20151004,0044,     18.6,  73.3499,-156.7938,     -999,9,  27.5200,2
33HQ20150809  ,ARC01      ,57      ,  8,33         ,    6446,   12193,GSNIS-33   ,2,20151004,0015,  73.3543,-156.7943,     3424,     18.8,  -0.6204,  27.1815,2,     -999,9,    386.2,2,     -999,9,     2.36,2,     0.00,2,     0.00,2,     0.56,2,     -999,9,     -999,9,     -999,9,     -999,9,     -999,9,     -999,9,     -999,9,     -999,     -999,9,     -999,9,     -999,9,     -999,9,  -0.5402,3,     -999,9,     -999,9,     -999,     -999,9,     -999,9,     -999,9,     -999,     -999,9,20151004,0044,     18.6,  73.3499,-156.7938,     -999,9,     -999,9
33HQ20150809  ,ARC01      ,57      ,  8,32         ,    6446,   12193,GSNIS-32   ,2,20151004,0015,  73.3543,-156.7943,     3424,     18.9,  -0.5209,  27.3889,2,     -999,9,    386.1,2,     -999,9,     2.26,2,     0.00,2,     0.00,2,     0.55,2,     -999,9,     -999,9,     -999,9,     -999,9,     -999,9,     -999,9,     -999,9,     -999,     -999,9,     -999,9,     -999,9,     -999,9,  -0.5258,2,     -999,9,     -999,9,     -999,     -999,9,     -999,9,     -999,9,     -999,     -999,9,20151004,0044,     18.8,  73.3499,-156.7938,     -999,9,     -999,9
33HQ20150809  ,ARC01      ,57      ,  8,30         ,    6446,   12192,GSNIS-30   ,2,20151004,0015,  73.3543,-156.7943,     3424,     42.0,  -0.2220,  28.9361,2,     -999,9,    394.2,2,     -999,9,     3.24,2,     0.00,2,     0.00,2,     0.61,2,     -999,9,     -999,9,     -999,9,     -999,9,     -999,9,     -999,9,     -999,9,     -999,     -999,9,     -999,9,     -999,9,     -999,9,  -0.2041,2,     -999,9,     -999,9,     -999,     -999,9,     -999,9,     -999,9,     -999,     -999,9,20151004,0042,     41.6,  73.3504,-156.7938,     -999,9,     -999,9
33HQ20150809  ,ARC01      ,57      ,  8,29         ,    6446,   12192,GSNIS-29   ,2,20151004,0015,  73.3543,-156.7943,     3424,     42.0,  -0.1975,  28.9338,2,     -999,9,    394.2,2,     -999,9,     3.24,2,     0.00,2,     0.00,2,     0.62,2,     -999,9,     -999,9,     -999,9,     -999,9,     -999,9,     -999,9,     -999,9,     -999,     -999,9,     -999,9,     -999,9,     -999,9,  -0.1673,2,     -999,9,     -999,9,     -999,     -999,9,     -999,9,     -999,9,     -999,     -999,9,20151004,0041,     41.6,  73.3504,-156.7938,     -999,9,     -999,9
33HQ20150809  ,ARC01      ,57      ,  8,28         ,    6446,   12192,GSNIS-28   ,2,20151004,0015,  73.3543,-156.7943,     3424,     42.0,  -0.1675,  28.9355,2,  29.0800,2,    394.2,2,    390.0,2,     3.24,2,     0.00,2,     0.00,2,     0.63,2,     -999,9,     -999,9,     -999,9,     -999,9,     -999,9,     -999,9,     -999,9,     -999,     -999,9,     -999,9,     -999,9,     -999,9,  -0.2681,2,     -999,9,     -999,9,     -999,     -999,9,     -999,9,     -999,9,     -999,     -999,9,20151004,0041,     41.6,  73.3504,-156.7938,     -999,9,  29.2171,2
33HQ20150809  ,ARC01      ,57      ,  8,27         ,    6446,   12191,GSNIS-27   ,2,20151004,0015,  73.3543,-156.7943,     3424,     62.1,   0.1204,  30.9350,2,     -999,9,    377.4,2,     -999,9,     4.80,2,     0.09,2,     0.02,2,     0.78,2,     -999,9,     -999,9,     -999,9,     -999,9,     -999,9,     -999,9,     -999,9,     -999,     -999,9,     -999,9,     -999,9,     -999,9,   0.1173,2,     -999,9,     -999,9,     -999,     -999,9,     -999,9,     -999,9,     -999,     -999,9,20151004,0039,     61.5,  73.3508,-156.7938,     -999,9,     -999,9
33HQ20150809  ,ARC01      ,57      ,  8,26         ,    6446,   12191,GSNIS-26   ,2,20151004,0015,  73.3543,-156.7943,     3424,     62.2,   0.1169,  30.9428,2,     -999,9,    377.4,2,     -999,9,     4.90,2,     0.13,2,     0.02,2,     0.79,2,     -999,9,     -999,9,     -999,9,     -999,9,     -999,9,     -999,9,     -999,9,     -999,     -999,9,     -999,9,     -999,9,     -999,9,   0.1156,2,     -999,9,     -999,9,     -999,     -999,9,     -999,9,     -999,9,     -999,     -999,9,20151004,0039,     61.5,  73.3508,-156.7938,     -999,9,     -999,9
33HQ20150809  ,ARC01      ,57      ,  8,25         ,    6446,   12191,GSNIS-25   ,2,20151004,0015,  73.3543,-156.7943,     3424,     62.2,   0.1165,  30.9481,2,  31.0225,2,    377.4,2,    374.1,2,     5.09,2,     0.27,2,     0.03,2,     0.80,2,     -999,9,     -999,9,     -999,9,     -999,9,     -999,9,     -999,9,     -999,9,     -999,     -999,9,     -999,9,     -999,9,     -999,9,   0.1159,2,     -999,9,     -999,9,     -999,     -999,9,     -999,9,     -999,9,     -999,     -999,9,20151004,0038,     61.6,  73.3508,-156.7938,     -999,9,  31.1688,2
33HQ20150809  ,ARC01      ,57      ,  8,23         ,    6446,   12190,GSNIS-23   ,2,20151004,0015,  73.3543,-156.7943,     3424,     81.3,  -0.6555,  31.6659,2,     -999,9,    342.8,2,     -999,9,    12.24,2,     5.81,2,     0.06,2,     1.18,2,     -999,9,     -999,9,     -999,9,     -999,9,     -999,9,     -999,9,     -999,9,     -999,     -999,9,     -999,9,     -999,9,     -999,9,  -0.6553,2,     -999,9,     -999,9,     -999,     -999,9,     -999,9,     -999,9,     -999,     -999,9,20151004,0036,     80.5,  73.3512,-156.7937,     -999,9,     -999,9
33HQ20150809  ,ARC01      ,57      ,  8,22         ,    6446,   12190,GSNIS-22   ,2,20151004,0015,  73.3543,-156.7943,     3424,     81.3,  -0.6583,  31.6697,2,  31.7156,2,    342.8,2,    338.8,2,    12.34,2,     5.85,2,     0.06,2,     1.18,2,     -999,9,     -999,9,     -999,9,     -999,9,     -999,9,     -999,9,     -999,9,     -999,     -999,9,     -999,9,     -999,9,     -999,9,  -0.6559,2,     -999,9,     -999,9,     -999,     -999,9,     -999,9,     -999,9,     -999,     -999,9,20151004,0036,     80.5,  73.3512,-156.7937,     -999,9,  31.8652,2
33HQ20150809  ,ARC01      ,57      ,  8,24         ,    6446,   12190,GSNIS-24   ,2,20151004,0015,  73.3543,-156.7943,     3424,     81.4,  -0.6538,  31.6645,2,     -999,9,    342.8,2,     -999,9,    12.04,2,     5.81,2,     0.06,2,     1.17,2,     -999,9,     -999,9,     -999,9,     -999,9,     -999,9,     -999,9,     -999,9,     -999,     -999,9,     -999,9,     -999,9,     -999,9,  -0.6551,2,     -999,9,     -999,9,     -999,     -999,9,     -999,9,     -999,9,     -999,     -999,9,20151004,0037,     80.5,  73.3511,-156.7937,     -999,9,     -999,9
33HQ20150809  ,ARC01      ,57      ,  8,20         ,    6446,   12189,GSNIS-20   ,2,20151004,0015,  73.3543,-156.7943,     3424,     97.8,  -1.0122,  32.0621,2,     -999,9,    318.9,2,     -999,9,    17.52,2,     9.33,2,     0.00,2,     1.45,2,     -999,9,     -999,9,     -999,9,     -999,9,     -999,9,     -999,9,     -999,9,     -999,     -999,9,     -999,9,     -999,9,     -999,9,  -1.0184,2,     -999,9,     -999,9,     -999,     -999,9,     -999,9,     -999,9,     -999,     -999,9,20151004,0035,     96.8,  73.3515,-156.7938,     -999,9,     -999,9
33HQ20150809  ,ARC01      ,57      ,  8,19         ,    6446,   12189,GSNIS-19   ,2,20151004,0015,  73.3543,-156.7943,     3424,     98.0,  -1.0155,  32.0668,2,  32.0692,2,    318.9,2,    316.1,2,    17.52,2,     9.30,2,     0.00,2,     1.45,2,     -999,9,     -999,9,     -999,9,     -999,9,     -999,9,     -999,9,     -999,9,     -999,     -999,9,     -999,9,     -999,9,     -999,9,  -1.0153,2,     -999,9,     -999,9,     -999,     -999,9,     -999,9,     -999,9,     -999,     -999,9,20151004,0034,     96.9,  73.3515,-156.7938,     -999,9,  32.2205,2
33HQ20150809  ,ARC01      ,57      ,  8,21         ,    6446,   12189,GSNIS-21   ,2,20151004,0015,  73.3543,-156.7943,     3424,     98.0,  -1.0159,  32.0675,2,     -999,9,    318.9,2,     -999,9,    17.43,2,     9.29,2,     0.00,2,     1.43,2,     -999,9,     -999,9,     -999,9,     -999,9,     -999,9,     -999,9,     -999,9,     -999,     -999,9,     -999,9,     -999,9,     -999,9,  -1.0144,2,     -999,9,     -999,9,     -999,     -999,9,     -999,9,     -999,9,     -999,     -999,9,20151004,0035,     96.9,  73.3514,-156.7938,     -999,9,     -999,9
33HQ20150809  ,ARC01      ,57      ,  8,17         ,    6446,   12188,GSNIS-17   ,2,20151004,0015,  73.3543,-156.7943,     3424,    126.4,  -1.3306,  32.4529,2,     -999,9,    303.6,2,     -999,9,    25.35,2,    12.22,2,     0.00,2,     1.65,2,     -999,9,     -999,9,     -999,9,     -999,9,     -999,9,     -999,9,     -999,9,     -999,     -999,9,     -999,9,     -999,9,     -999,9,  -1.3297,2,     -999,9,     -999,9,     -999,     -999,9,     -999,9,     -999,9,     -999,     -999,9,20151004,0032,    125.0,  73.3520,-156.7938,     -999,9,     -999,9
33HQ20150809  ,ARC01      ,57      ,  8,16         ,    6446,   12188,GSNIS-16   ,2,20151004,0015,  73.3543,-156.7943,     3424,    126.5,  -1.3301,  32.4533,2,  32.4647,2,    303.6,2,    302.5,2,    25.45,2,    12.23,2,     0.00,2,     1.66,2,     -999,9,     -999,9,     -999,9,     -999,9,     -999,9,     -999,9,     -999,9,     -999,     -999,9,     -999,9,     -999,9,     -999,9,  -1.3305,2,     -999,9,     -999,9,     -999,     -999,9,     -999,9,     -999,9,     -999,     -999,9,20151004,0031,    125.1,  73.3520,-156.7938,     -999,9,  32.6178,2
33HQ20150809  ,ARC01      ,57      ,  8,18         ,    6446,   12188,GSNIS-18   ,2,20151004,0015,  73.3543,-156.7943,     3424,    126.6,  -1.3297,  32.4533,2,     -999,9,    303.6,2,     -999,9,    25.15,2,    12.24,2,     0.00,2,     1.65,2,     -999,9,     -999,9,     -999,9,     -999,9,     -999,9,     -999,9,     -999,9,     -999,     -999,9,     -999,9,     -999,9,     -999,9,  -1.3303,2,     -999,9,     -999,9,     -999,     -999,9,     -999,9,     -999,9,     -999,     -999,9,20151004,0032,    125.2,  73.3519,-156.7938,     -999,9,     -999,9
33HQ20150809  ,ARC01      ,57      ,  8,13         ,    6446,   12187,GSNIS-13   ,2,20151004,0015,  73.3543,-156.7943,     3424,    173.1,  -1.4602,  32.9359,2,  32.9519,2,    282.3,2,    278.6,2,    33.16,2,    15.47,2,     0.00,2,     1.86,2,     -999,9,     -999,9,     -999,9,     -999,9,     -999,9,     -999,9,     -999,9,     -999,     -999,9,     -999,9,     -999,9,     -999,9,  -1.4601,2,     -999,9,     -999,9,     -999,     -999,9,     -999,9,     -999,9,     -999,     -999,9,20151004,0029,    171.2,  73.3524,-156.7938,     -999,9,  33.1073,2
33HQ20150809  ,ARC01      ,57      ,  8,15         ,    6446,   12187,GSNIS-15   ,2,20151004,0015,  73.3543,-156.7943,     3424,    173.1,  -1.4604,  32.9364,2,     -999,9,    282.3,2,     -999,9,    32.87,2,    15.43,2,     0.00,2,     1.86,2,     -999,9,     -999,9,     -999,9,     -999,9,     -999,9,     -999,9,     -999,9,     -999,     -999,9,     -999,9,     -999,9,     -999,9,  -1.4598,2,     -999,9,     -999,9,     -999,     -999,9,     -999,9,     -999,9,     -999,     -999,9,20151004,0029,    171.2,  73.3523,-156.7938,     -999,9,     -999,9
33HQ20150809  ,ARC01      ,57      ,  8,14         ,    6446,   12187,GSNIS-14   ,2,20151004,0015,  73.3543,-156.7943,     3424,    173.2,  -1.4607,  32.9372,2,     -999,9,    282.3,2,     -999,9,    32.97,2,    15.45,2,     0.00,2,     1.86,2,     -999,9,     -999,9,     -999,9,     -999,9,     -999,9,     -999,9,     -999,9,     -999,     -999,9,     -999,9,     -999,9,     -999,9,  -1.4595,2,     -999,9,     -999,9,     -999,     -999,9,     -999,9,     -999,9,     -999,     -999,9,20151004,0029,    171.3,  73.3523,-156.7938,     -999,9,     -999,9
33HQ20150809  ,ARC01      ,57      ,  8,10         ,    6446,   12186,GSNIS-10   ,2,20151004,0015,  73.3543,-156.7943,     3424,    218.7,  -1.2108,  33.7161,2,  33.6752,2,    277.9,2,    273.7,2,    27.77,2,    14.44,2,     0.00,2,     1.56,2,     -999,9,     -999,9,     -999,9,     -999,9,     -999,9,     -999,9,     -999,9,     -999,     -999,9,     -999,9,     -999,9,     -999,9,  -1.2104,2,     -999,9,     -999,9,     -999,     -999,9,     -999,9,     -999,9,     -999,     -999,9,20151004,0027,    216.4,  73.3527,-156.7938,     -999,9,  33.8340,2
33HQ20150809  ,ARC01      ,57      ,  8,12         ,    6446,   12186,GSNIS-12   ,2,20151004,0015,  73.3543,-156.7943,     3424,    218.8,  -1.2114,  33.7177,2,     -999,9,    277.9,2,     -999,9,    27.38,2,    14.34,2,     0.00,2,     1.54,2,     -999,9,     -999,9,     -999,9,     -999,9,     -999,9,     -999,9,     -999,9,     -999,     -999,9,     -999,9,     -999,9,     -999,9,  -1.2123,2,     -999,9,     -999,9,     -999,     -999,9,     -999,9,     -999,9,     -999,     -999,9,20151004,0027,    216.5,  73.3526,-156.7938,     -999,9,     -999,9
33HQ20150809  ,ARC01      ,57      ,  8,11         ,    6446,   12186,GSNIS-11   ,2,20151004,0015,  73.3543,-156.7943,     3424,    218.9,  -1.2112,  33.7182,2,     -999,9,    277.9,2,     -999,9,    27.47,2,    14.39,2,     0.00,2,     1.55,2,     -999,9,     -999,9,     -999,9,     -999,9,     -999,9,     -999,9,     -999,9,     -999,     -999,9,     -999,9,     -999,9,     -999,9,  -1.2114,2,     -999,9,     -999,9,     -999,     -999,9,     -999,9,     -999,9,     -999,     -999,9,20151004,0027,    216.5,  73.3527,-156.7938,     -999,9,     -999,9
33HQ20150809  ,ARC01      ,57      ,  8,7          ,    6446,   12185,GSNIS-7    ,2,20151004,0015,  73.3543,-156.7943,     3424,    284.6,  -0.0203,  34.5474,2,  34.5464,2,    276.1,2,    278.4,2,    12.02,2,    12.79,2,     0.00,2,     1.01,2,     -999,9,     -999,9,     -999,9,     -999,9,     -999,9,     -999,9,     -999,9,     -999,     -999,9,     -999,9,     -999,9,     -999,9,  -0.0198,2,     -999,9,     -999,9,     -999,     -999,9,     -999,9,     -999,9,     -999,     -999,9,20151004,0024,    281.5,  73.3531,-156.7939,     -999,9,  34.7093,2
33HQ20150809  ,ARC01      ,57      ,  8,8          ,    6446,   12185,GSNIS-8    ,2,20151004,0015,  73.3543,-156.7943,     3424,    284.8,  -0.0183,  34.5480,2,     -999,9,    276.1,2,     -999,9,    12.02,2,    12.79,2,     0.00,2,     1.01,2,     -999,9,     -999,9,     -999,9,     -999,9,     -999,9,     -999,9,     -999,9,     -999,     -999,9,     -999,9,     -999,9,     -999,9,  -0.0204,2,     -999,9,     -999,9,     -999,     -999,9,     -999,9,     -999,9,     -999,     -999,9,20151004,0024,    281.7,  73.3531,-156.7938,     -999,9,     -999,9
33HQ20150809  ,ARC01      ,57      ,  8,9          ,    6446,   12185,GSNIS-9    ,2,20151004,0015,  73.3543,-156.7943,     3424,    284.9,  -0.0177,  34.5484,2,     -999,9,    276.1,2,     -999,9,    12.02,2,    12.77,2,     0.00,2,     1.01,2,     -999,9,     -999,9,     -999,9,     -999,9,     -999,9,     -999,9,     -999,9,     -999,     -999,9,     -999,9,     -999,9,     -999,9,  -0.0190,2,     -999,9,     -999,9,     -999,     -999,9,     -999,9,     -999,9,     -999,     -999,9,20151004,0024,    281.7,  73.3531,-156.7938,     -999,9,     -999,9
33HQ20150809  ,ARC01      ,57      ,  8,4          ,    6446,   12184,GSNIS-4    ,2,20151004,0015,  73.3543,-156.7943,     3424,    412.4,   0.7468,  34.8181,2,  34.8200,2,    288.4,2,    288.5,2,     7.62,2,    12.79,2,     0.00,2,     0.90,2,     -999,9,     -999,9,     -999,9,     -999,9,     -999,9,     -999,9,     -999,9,     -999,     -999,9,     -999,9,     -999,9,     -999,9,   0.7469,2,     -999,9,     -999,9,     -999,     -999,9,     -999,9,     -999,9,     -999,     -999,9,20151004,0020,    407.7,  73.3536,-156.7940,     -999,9,  34.9842,2
33HQ20150809  ,ARC01      ,57      ,  8,5          ,    6446,   12184,GSNIS-5    ,2,20151004,0015,  73.3543,-156.7943,     3424,    412.6,   0.7472,  34.8183,2,     -999,9,    288.4,2,     -999,9,     7.62,2,    12.79,2,     0.00,2,     0.89,2,     -999,9,     -999,9,     -999,9,     -999,9,     -999,9,     -999,9,     -999,9,     -999,     -999,9,     -999,9,     -999,9,     -999,9,   0.7468,2,     -999,9,     -999,9,     -999,     -999,9,     -999,9,     -999,9,     -999,     -999,9,20151004,0020,    407.9,  73.3536,-156.7939,     -999,9,     -999,9
33HQ20150809  ,ARC01      ,57      ,  8,6          ,    6446,   12184,GSNIS-6    ,2,20151004,0015,  73.3543,-156.7943,     3424,    412.8,   0.7474,  34.8180,2,     -999,9,    288.6,2,     -999,9,     7.62,2,    12.80,2,     0.00,2,     0.91,2,     -999,9,     -999,9,     -999,9,     -999,9,     -999,9,     -999,9,     -999,9,     -999,     -999,9,     -999,9,     -999,9,     -999,9,   0.7470,2,     -999,9,     -999,9,     -999,     -999,9,     -999,9,     -999,9,     -999,     -999,9,20151004,0020,    408.1,  73.3536,-156.7939,     -999,9,     -999,9