BOTTLE,20221220CCHSIOAMB
EXPOCODE,SECT_ID,STNNBR,CASTNO,SAMPNO,GEOTR_EVENT,GEOTR_SAMPNO,BTLNBR,BTLNBR_FLAG_W,DATE,TIME,LATITUDE,LONGITUDE,DEPTH,CTDPRS,CTDTMP,CTDSAL,CTDSAL_FLAG_W,SALNTY,SALNTY_FLAG_W,CTDOXY,CTDOXY_FLAG_W,OXYGEN,OXYGEN_FLAG_W,SILCAT,SILCAT_FLAG_W,NITRAT,NITRAT_FLAG_W,NITRIT,NITRIT_FLAG_W,PHSPHT,PHSPHT_FLAG_W,CFC-11,CFC-11_FLAG_W,CFC-12,CFC-12_FLAG_W,CFC113,CFC113_FLAG_W,SF6,SF6_FLAG_W,TCARBN,TCARBN_FLAG_W,ALKALI,ALKALI_FLAG_W,PH_SWS,PH_SWS_FLAG_W,PH_TMP,DOC,DOC_FLAG_W,TRITUM,TRITUM_FLAG_W,HELIUM,HELIUM_FLAG_W,DELHE3,DELHE3_FLAG_W,REFTMP,REFTMP_FLAG_W,DELC13,DELC13_FLAG_W,DELC14,DELC14_FLAG_W,C14ERR,TDN,TDN_FLAG_W,DELO18,DELO18_FLAG_W,DELO17,DELO17_FLAG_W,CH4,CH4,CH4_FLAG_W,BTL_DATE,BTL_TIME,CTDDEPTH,BTL_LAT,BTL_LON,LAB_DEN,LAB_DEN_FLAG_W,SALTREF,SALTREF_FLAG_W
,,,,,,,,,,,,,METERS,DBAR,ITS-90,PSS-78,,PSS-78,,UMOL/KG,,UMOL/KG,,UMOL/KG,,UMOL/KG,,UMOL/KG,,UMOL/KG,,PMOL/KG,,PMOL/KG,,PMOL/KG,,FMOL/KG,,UMOL/KG,,UMOL/KG,,,,DEG C,UMOL/KG,,TU,,NMOL/KG,,PERCNT,,ITS-90,,/MILLE,,/MILLE,,/MILLE,UMOL/KG,,/MILLE,,/MILLE,,NMOL/KG,NMOL/L,,,,METERS,,,KG/M^3,,G/KG,
33HQ20150809  ,ARC01      ,48      ,  4,36         ,    6366,   11782,GSNIS-36   ,2,20150922,1922,  80.4051,-149.5516,     3799,      5.1,  -1.5034,  27.7458,2,     -999,9,    386.7,2,     -999,9,     2.75,2,     0.03,2,     0.00,2,     0.54,2,     -999,9,     -999,9,     -999,9,     -999,9,     -999,9,     -999,9,     -999,9,     -999,     -999,9,     -999,9,     -999,9,     -999,9,  -1.5026,2,     -999,9,     -999,9,     -999,     -999,9,     -999,9,     -999,9,     -999,     -999,9,20150922,1947,      5.1,  80.4073,-149.5423,     -999,9,     -999,9
33HQ20150809  ,ARC01      ,48      ,  4,34         ,    6366,   11782,GSNIS-34   ,2,20150922,1922,  80.4051,-149.5516,     3799,      5.1,  -1.5025,  27.7455,2,  27.7419,2,    386.7,2,    386.7,2,     2.75,2,     0.02,2,     0.00,2,     0.55,2,     -999,9,     -999,9,     -999,9,     -999,9,     -999,9,     -999,9,     -999,9,     -999,     -999,9,     -999,9,     -999,9,     -999,9,  -1.5021,2,     -999,9,     -999,9,     -999,     -999,9,     -999,9,     -999,9,     -999,     -999,9,20150922,1946,      5.1,  80.4073,-149.5424,     -999,9,  27.8727,2
33HQ20150809  ,ARC01      ,48      ,  4,35         ,    6366,   11782,GSNIS-35   ,2,20150922,1922,  80.4051,-149.5516,     3799,      5.1,  -1.5032,  27.7457,2,     -999,9,    386.7,2,     -999,9,     2.75,2,     0.04,2,     0.00,2,     0.55,2,     -999,9,     -999,9,     -999,9,     -999,9,     -999,9,     -999,9,     -999,9,     -999,     -999,9,     -999,9,     -999,9,     -999,9,  -1.5024,2,     -999,9,     -999,9,     -999,     -999,9,     -999,9,     -999,9,     -999,     -999,9,20150922,1946,      5.1,  80.4073,-149.5424,     -999,9,     -999,9
33HQ20150809  ,ARC01      ,48      ,  4,33         ,    6366,   11781,GSNIS-33   ,2,20150922,1922,  80.4051,-149.5516,     3799,     20.5,  -1.5054,  27.7473,2,     -999,9,    386.0,2,     -999,9,     2.75,2,     0.02,2,     0.00,2,     0.55,2,     -999,9,     -999,9,     -999,9,     -999,9,     -999,9,     -999,9,     -999,9,     -999,     -999,9,     -999,9,     -999,9,     -999,9,  -1.5052,2,     -999,9,     -999,9,     -999,     -999,9,     -999,9,     -999,9,     -999,     -999,9,20150922,1945,     20.3,  80.4071,-149.5430,     -999,9,     -999,9
33HQ20150809  ,ARC01      ,48      ,  4,32         ,    6366,   11781,GSNIS-32   ,2,20150922,1922,  80.4051,-149.5516,     3799,     20.5,  -1.5064,  27.7495,2,     -999,9,    386.2,2,     -999,9,     2.75,2,     0.00,2,     0.00,2,     0.56,2,     -999,9,     -999,9,     -999,9,     -999,9,     -999,9,     -999,9,     -999,9,     -999,     -999,9,     -999,9,     -999,9,     -999,9,  -1.5062,2,     -999,9,     -999,9,     -999,     -999,9,     -999,9,     -999,9,     -999,     -999,9,20150922,1945,     20.3,  80.4071,-149.5431,     -999,9,     -999,9
33HQ20150809  ,ARC01      ,48      ,  4,31         ,    6366,   11781,GSNIS-31   ,2,20150922,1922,  80.4051,-149.5516,     3799,     20.5,  -1.5065,  27.7505,2,  28.1721,3,    386.2,2,    389.5,2,     2.75,2,     0.02,2,     0.00,2,     0.57,2,     -999,9,     -999,9,     -999,9,     -999,9,     -999,9,     -999,9,     -999,9,     -999,     -999,9,     -999,9,     -999,9,     -999,9,  -1.5059,2,     -999,9,     -999,9,     -999,     -999,9,     -999,9,     -999,9,     -999,     -999,9,20150922,1944,     20.3,  80.4071,-149.5431,     -999,9,  28.3050,3
33HQ20150809  ,ARC01      ,48      ,  4,29         ,    6366,   11780,GSNIS-29   ,2,20150922,1922,  80.4051,-149.5516,     3799,     30.4,  -1.1154,  29.2720,2,     -999,9,    399.3,2,     -999,9,     2.84,2,     0.03,2,     0.01,2,     0.64,2,     -999,9,     -999,9,     -999,9,     -999,9,     -999,9,     -999,9,     -999,9,     -999,     -999,9,     -999,9,     -999,9,     -999,9,  -1.1072,2,     -999,9,     -999,9,     -999,     -999,9,     -999,9,     -999,9,     -999,     -999,9,20150922,1943,     30.1,  80.4069,-149.5438,     -999,9,     -999,9
33HQ20150809  ,ARC01      ,48      ,  4,28         ,    6366,   11780,GSNIS-28   ,2,20150922,1922,  80.4051,-149.5516,     3799,     30.4,  -1.0994,  29.2817,2,  29.4694,2,    399.3,2,    395.8,2,     2.75,2,     0.03,2,     0.01,2,     0.63,2,     -999,9,     -999,9,     -999,9,     -999,9,     -999,9,     -999,9,     -999,9,     -999,     -999,9,     -999,9,     -999,9,     -999,9,  -1.0976,2,     -999,9,     -999,9,     -999,     -999,9,     -999,9,     -999,9,     -999,     -999,9,20150922,1942,     30.1,  80.4069,-149.5439,     -999,9,  29.6084,2
33HQ20150809  ,ARC01      ,48      ,  4,30         ,    6366,   11780,GSNIS-30   ,2,20150922,1922,  80.4051,-149.5516,     3799,     30.4,  -1.1150,  29.2724,2,     -999,9,    399.3,2,     -999,9,     2.75,2,     0.04,2,     0.00,2,     0.62,2,     -999,9,     -999,9,     -999,9,     -999,9,     -999,9,     -999,9,     -999,9,     -999,     -999,9,     -999,9,     -999,9,     -999,9,  -1.1127,2,     -999,9,     -999,9,     -999,     -999,9,     -999,9,     -999,9,     -999,     -999,9,20150922,1943,     30.1,  80.4069,-149.5437,     -999,9,     -999,9
33HQ20150809  ,ARC01      ,48      ,  4,27         ,    6366,   11779,GSNIS-27   ,2,20150922,1922,  80.4051,-149.5516,     3799,     48.6,  -0.8805,  30.9760,2,     -999,9,    393.5,2,     -999,9,     8.33,2,     2.10,2,     0.09,2,     0.89,2,     -999,9,     -999,9,     -999,9,     -999,9,     -999,9,     -999,9,     -999,9,     -999,     -999,9,     -999,9,     -999,9,     -999,9,  -0.8675,2,     -999,9,     -999,9,     -999,     -999,9,     -999,9,     -999,9,     -999,     -999,9,20150922,1940,     48.1,  80.4067,-149.5446,     -999,9,     -999,9
33HQ20150809  ,ARC01      ,48      ,  4,26         ,    6366,   11779,GSNIS-26   ,2,20150922,1922,  80.4051,-149.5516,     3799,     48.6,  -0.8807,  30.9865,2,     -999,9,    393.5,2,     -999,9,     8.13,2,     1.94,2,     0.10,2,     0.88,2,     -999,9,     -999,9,     -999,9,     -999,9,     -999,9,     -999,9,     -999,9,     -999,     -999,9,     -999,9,     -999,9,     -999,9,  -0.8619,2,     -999,9,     -999,9,     -999,     -999,9,     -999,9,     -999,9,     -999,     -999,9,20150922,1940,     48.1,  80.4067,-149.5447,     -999,9,     -999,9
33HQ20150809  ,ARC01      ,48      ,  4,25         ,    6366,   11779,GSNIS-25   ,2,20150922,1922,  80.4051,-149.5516,     3799,     48.6,  -0.8580,  30.9961,2,  31.2089,2,    393.5,2,    362.0,2,     8.62,2,     2.22,2,     0.09,2,     0.90,2,     -999,9,     -999,9,     -999,9,     -999,9,     -999,9,     -999,9,     -999,9,     -999,     -999,9,     -999,9,     -999,9,     -999,9,  -0.8388,2,     -999,9,     -999,9,     -999,     -999,9,     -999,9,     -999,9,     -999,     -999,9,20150922,1940,     48.1,  80.4067,-149.5448,     -999,9,  31.3560,2
33HQ20150809  ,ARC01      ,48      ,  4,23         ,    6366,   11778,GSNIS-23   ,2,20150922,1922,  80.4051,-149.5516,     3799,     65.8,  -0.9390,  31.7479,2,     -999,9,    327.2,2,     -999,9,    16.16,2,     7.28,2,     0.00,2,     1.25,2,     -999,9,     -999,9,     -999,9,     -999,9,     -999,9,     -999,9,     -999,9,     -999,     -999,9,     -999,9,     -999,9,     -999,9,  -0.9385,2,     -999,9,     -999,9,     -999,     -999,9,     -999,9,     -999,9,     -999,     -999,9,20150922,1938,     65.1,  80.4065,-149.5456,     -999,9,     -999,9
33HQ20150809  ,ARC01      ,48      ,  4,22         ,    6366,   11778,GSNIS-22   ,2,20150922,1922,  80.4051,-149.5516,     3799,     65.8,  -0.9427,  31.7514,2,  31.8118,2,    327.2,2,    324.8,2,    16.06,2,     7.33,2,     0.00,2,     1.27,2,     -999,9,     -999,9,     -999,9,     -999,9,     -999,9,     -999,9,     -999,9,     -999,     -999,9,     -999,9,     -999,9,     -999,9,  -0.9418,2,     -999,9,     -999,9,     -999,     -999,9,     -999,9,     -999,9,     -999,     -999,9,20150922,1938,     65.1,  80.4065,-149.5456,     -999,9,  31.9618,2
33HQ20150809  ,ARC01      ,48      ,  4,24         ,    6366,   11778,GSNIS-24   ,2,20150922,1922,  80.4051,-149.5516,     3799,     65.8,  -0.9349,  31.7445,2,     -999,9,    327.2,2,     -999,9,    16.06,2,     7.31,2,     0.01,2,     1.24,2,     -999,9,     -999,9,     -999,9,     -999,9,     -999,9,     -999,9,     -999,9,     -999,     -999,9,     -999,9,     -999,9,     -999,9,  -0.9376,2,     -999,9,     -999,9,     -999,     -999,9,     -999,9,     -999,9,     -999,     -999,9,20150922,1938,     65.1,  80.4065,-149.5455,     -999,9,     -999,9
33HQ20150809  ,ARC01      ,48      ,  4,21         ,    6366,   11777,GSNIS-21   ,2,20150922,1922,  80.4051,-149.5516,     3799,     91.2,  -1.2986,  32.2269,2,     -999,9,    303.8,2,     -999,9,    23.29,2,    10.41,2,     0.00,2,     1.52,2,     -999,9,     -999,9,     -999,9,     -999,9,     -999,9,     -999,9,     -999,9,     -999,     -999,9,     -999,9,     -999,9,     -999,9,  -1.2941,2,     -999,9,     -999,9,     -999,     -999,9,     -999,9,     -999,9,     -999,     -999,9,20150922,1935,     90.2,  80.4063,-149.5465,     -999,9,     -999,9
33HQ20150809  ,ARC01      ,48      ,  4,19         ,    6366,   11777,GSNIS-19   ,2,20150922,1922,  80.4051,-149.5516,     3799,     91.2,  -1.2962,  32.2207,2,  32.2429,2,    303.8,2,    305.4,2,    23.69,2,    10.59,2,     0.00,2,     1.52,2,     -999,9,     -999,9,     -999,9,     -999,9,     -999,9,     -999,9,     -999,9,     -999,     -999,9,     -999,9,     -999,9,     -999,9,  -1.2904,2,     -999,9,     -999,9,     -999,     -999,9,     -999,9,     -999,9,     -999,     -999,9,20150922,1935,     90.2,  80.4062,-149.5466,     -999,9,  32.3950,2
33HQ20150809  ,ARC01      ,48      ,  4,20         ,    6366,   11777,GSNIS-20   ,2,20150922,1922,  80.4051,-149.5516,     3799,     91.2,  -1.2977,  32.2243,2,     -999,9,    303.8,2,     -999,9,    23.88,2,    10.66,2,     0.00,2,     1.54,2,     -999,9,     -999,9,     -999,9,     -999,9,     -999,9,     -999,9,     -999,9,     -999,     -999,9,     -999,9,     -999,9,     -999,9,  -1.2946,2,     -999,9,     -999,9,     -999,     -999,9,     -999,9,     -999,9,     -999,     -999,9,20150922,1935,     90.2,  80.4063,-149.5466,     -999,9,     -999,9
33HQ20150809  ,ARC01      ,48      ,  4,18         ,    6366,   11776,GSNIS-18   ,2,20150922,1922,  80.4051,-149.5516,     3799,    106.1,  -1.3259,  32.3994,2,     -999,9,    300.5,2,     -999,9,    26.91,2,    12.19,2,     0.00,2,     1.64,2,     -999,9,     -999,9,     -999,9,     -999,9,     -999,9,     -999,9,     -999,9,     -999,     -999,9,     -999,9,     -999,9,     -999,9,  -1.3270,2,     -999,9,     -999,9,     -999,     -999,9,     -999,9,     -999,9,     -999,     -999,9,20150922,1933,    105.0,  80.4061,-149.5472,     -999,9,     -999,9
33HQ20150809  ,ARC01      ,48      ,  4,17         ,    6366,   11776,GSNIS-17   ,2,20150922,1922,  80.4051,-149.5516,     3799,    106.2,  -1.3258,  32.4002,2,     -999,9,    300.5,2,     -999,9,    26.72,2,    12.20,2,     0.00,2,     1.65,2,     -999,9,     -999,9,     -999,9,     -999,9,     -999,9,     -999,9,     -999,9,     -999,     -999,9,     -999,9,     -999,9,     -999,9,  -1.3270,2,     -999,9,     -999,9,     -999,     -999,9,     -999,9,     -999,9,     -999,     -999,9,20150922,1933,    105.0,  80.4061,-149.5473,     -999,9,     -999,9
33HQ20150809  ,ARC01      ,48      ,  4,16         ,    6366,   11776,GSNIS-16   ,2,20150922,1922,  80.4051,-149.5516,     3799,    106.2,  -1.3258,  32.4014,2,  32.4488,2,    300.5,2,    294.5,2,    26.81,2,    12.15,2,     0.00,2,     1.65,2,     -999,9,     -999,9,     -999,9,     -999,9,     -999,9,     -999,9,     -999,9,     -999,     -999,9,     -999,9,     -999,9,     -999,9,  -1.3262,2,     -999,9,     -999,9,     -999,     -999,9,     -999,9,     -999,9,     -999,     -999,9,20150922,1933,    105.0,  80.4061,-149.5474,     -999,9,  32.6018,2
33HQ20150809  ,ARC01      ,48      ,  4,14         ,    6366,   11775,GSNIS-14   ,2,20150922,1922,  80.4051,-149.5516,     3799,    121.6,  -1.3520,  32.6130,2,     -999,9,    289.8,2,     -999,9,    28.87,2,    13.47,2,     0.00,2,     1.74,2,     -999,9,     -999,9,     -999,9,     -999,9,     -999,9,     -999,9,     -999,9,     -999,     -999,9,     -999,9,     -999,9,     -999,9,  -1.3518,2,     -999,9,     -999,9,     -999,     -999,9,     -999,9,     -999,9,     -999,     -999,9,20150922,1931,    120.3,  80.4059,-149.5480,     -999,9,     -999,9
33HQ20150809  ,ARC01      ,48      ,  4,13         ,    6366,   11775,GSNIS-13   ,2,20150922,1922,  80.4051,-149.5516,     3799,    121.6,  -1.3523,  32.6136,2,  32.6691,2,    289.8,2,    285.1,2,    29.26,2,    13.66,2,     0.00,2,     1.76,2,     -999,9,     -999,9,     -999,9,     -999,9,     -999,9,     -999,9,     -999,9,     -999,     -999,9,     -999,9,     -999,9,     -999,9,  -1.3520,2,     -999,9,     -999,9,     -999,     -999,9,     -999,9,     -999,9,     -999,     -999,9,20150922,1931,    120.3,  80.4059,-149.5481,     -999,9,  32.8231,2
33HQ20150809  ,ARC01      ,48      ,  4,15         ,    6366,   11775,GSNIS-15   ,2,20150922,1922,  80.4051,-149.5516,     3799,    121.7,  -1.3513,  32.6120,2,     -999,9,    289.8,2,     -999,9,    28.96,2,    13.52,2,     0.00,2,     1.75,2,     -999,9,     -999,9,     -999,9,     -999,9,     -999,9,     -999,9,     -999,9,     -999,     -999,9,     -999,9,     -999,9,     -999,9,  -1.3513,2,     -999,9,     -999,9,     -999,     -999,9,     -999,9,     -999,9,     -999,     -999,9,20150922,1932,    120.3,  80.4059,-149.5480,     -999,9,     -999,9
33HQ20150809  ,ARC01      ,48      ,  4,12         ,    6366,   11774,GSNIS-12   ,2,20150922,1922,  80.4051,-149.5516,     3799,    151.6,  -1.4626,  32.9402,2,     -999,9,    273.0,2,     -999,9,    35.31,2,    15.35,2,     0.00,2,     1.88,2,     -999,9,     -999,9,     -999,9,     -999,9,     -999,9,     -999,9,     -999,9,     -999,     -999,9,     -999,9,     -999,9,     -999,9,  -1.4625,2,     -999,9,     -999,9,     -999,     -999,9,     -999,9,     -999,9,     -999,     -999,9,20150922,1929,    149.9,  80.4057,-149.5488,     -999,9,     -999,9
33HQ20150809  ,ARC01      ,48      ,  4,11         ,    6366,   11774,GSNIS-11   ,2,20150922,1922,  80.4051,-149.5516,     3799,    151.6,  -1.4626,  32.9403,2,     -999,9,    273.0,2,     -999,9,    35.22,2,    15.36,2,     0.00,2,     1.89,2,     -999,9,     -999,9,     -999,9,     -999,9,     -999,9,     -999,9,     -999,9,     -999,     -999,9,     -999,9,     -999,9,     -999,9,  -1.4625,2,     -999,9,     -999,9,     -999,     -999,9,     -999,9,     -999,9,     -999,     -999,9,20150922,1929,    149.9,  80.4057,-149.5488,     -999,9,     -999,9
33HQ20150809  ,ARC01      ,48      ,  4,10         ,    6366,   11774,GSNIS-10   ,2,20150922,1922,  80.4051,-149.5516,     3799,    151.6,  -1.4627,  32.9414,2,  32.9654,2,    272.7,2,    275.7,2,    35.31,2,    15.35,2,     0.00,2,     1.89,2,     -999,9,     -999,9,     -999,9,     -999,9,     -999,9,     -999,9,     -999,9,     -999,     -999,9,     -999,9,     -999,9,     -999,9,  -1.4626,2,     -999,9,     -999,9,     -999,     -999,9,     -999,9,     -999,9,     -999,     -999,9,20150922,1929,    149.9,  80.4057,-149.5489,     -999,9,  33.1209,2
33HQ20150809  ,ARC01      ,48      ,  4,7          ,    6366,   11773,GSNIS-7    ,2,20150922,1922,  80.4051,-149.5516,     3799,    172.5,  -1.4531,  33.2075,2,  33.2692,2,    270.4,2,    268.4,2,    36.87,2,    15.49,2,     0.00,2,     1.85,2,     -999,9,     -999,9,     -999,9,     -999,9,     -999,9,     -999,9,     -999,9,     -999,     -999,9,     -999,9,     -999,9,     -999,9,  -1.4531,2,     -999,9,     -999,9,     -999,     -999,9,     -999,9,     -999,9,     -999,     -999,9,20150922,1927,    170.6,  80.4055,-149.5499,     -999,9,  33.4261,2
33HQ20150809  ,ARC01      ,48      ,  4,9          ,    6366,   11773,GSNIS-9    ,2,20150922,1922,  80.4051,-149.5516,     3799,    172.5,  -1.4525,  33.2099,2,     -999,9,    270.4,2,     -999,9,    36.78,2,    15.49,2,     0.00,2,     1.85,2,     -999,9,     -999,9,     -999,9,     -999,9,     -999,9,     -999,9,     -999,9,     -999,     -999,9,     -999,9,     -999,9,     -999,9,  -1.4526,2,     -999,9,     -999,9,     -999,     -999,9,     -999,9,     -999,9,     -999,     -999,9,20150922,1927,    170.6,  80.4055,-149.5498,     -999,9,     -999,9
33HQ20150809  ,ARC01      ,48      ,  4,8          ,    6366,   11773,GSNIS-8    ,2,20150922,1922,  80.4051,-149.5516,     3799,    172.5,  -1.4528,  33.2095,2,     -999,9,    270.4,2,     -999,9,    36.87,2,    15.50,2,     0.00,2,     1.86,2,     -999,9,     -999,9,     -999,9,     -999,9,     -999,9,     -999,9,     -999,9,     -999,     -999,9,     -999,9,     -999,9,     -999,9,  -1.4530,2,     -999,9,     -999,9,     -999,     -999,9,     -999,9,     -999,9,     -999,     -999,9,20150922,1927,    170.6,  80.4055,-149.5498,     -999,9,     -999,9
33HQ20150809  ,ARC01      ,48      ,  4,5          ,    6366,   11772,GSNIS-5    ,2,20150922,1922,  80.4051,-149.5516,     3799,    192.2,  -1.1884,  33.7306,2,     -999,9,    265.8,2,     -999,9,    27.67,2,    14.44,2,     0.00,2,     1.53,2,     -999,9,     -999,9,     -999,9,     -999,9,     -999,9,     -999,9,     -999,9,     -999,     -999,9,     -999,9,     -999,9,     -999,9,  -1.1898,2,     -999,9,     -999,9,     -999,     -999,9,     -999,9,     -999,9,     -999,     -999,9,20150922,1925,    190.1,  80.4053,-149.5506,     -999,9,     -999,9
33HQ20150809  ,ARC01      ,48      ,  4,4          ,    6366,   11772,GSNIS-4    ,2,20150922,1922,  80.4051,-149.5516,     3799,    192.2,  -1.1885,  33.7295,2,  33.7686,2,    265.8,2,    267.6,2,    27.67,2,    14.43,2,     0.00,2,     1.53,2,     -999,9,     -999,9,     -999,9,     -999,9,     -999,9,     -999,9,     -999,9,     -999,     -999,9,     -999,9,     -999,9,     -999,9,  -1.1894,2,     -999,9,     -999,9,     -999,     -999,9,     -999,9,     -999,9,     -999,     -999,9,20150922,1925,    190.1,  80.4053,-149.5506,     -999,9,  33.9279,2
33HQ20150809  ,ARC01      ,48      ,  4,6          ,    6366,   11772,GSNIS-6    ,2,20150922,1922,  80.4051,-149.5516,     3799,    192.2,  -1.1871,  33.7316,2,     -999,9,    265.8,2,     -999,9,    27.18,2,    14.35,2,     0.00,2,     1.52,2,     -999,9,     -999,9,     -999,9,     -999,9,     -999,9,     -999,9,     -999,9,     -999,     -999,9,     -999,9,     -999,9,     -999,9,  -1.1898,2,     -999,9,     -999,9,     -999,     -999,9,     -999,9,     -999,9,     -999,     -999,9,20150922,1925,    190.1,  80.4054,-149.5505,     -999,9,     -999,9