BOTTLE,20221220CCHSIOAMB
EXPOCODE,SECT_ID,STNNBR,CASTNO,SAMPNO,GEOTR_EVENT,GEOTR_SAMPNO,BTLNBR,BTLNBR_FLAG_W,DATE,TIME,LATITUDE,LONGITUDE,DEPTH,CTDPRS,CTDTMP,CTDSAL,CTDSAL_FLAG_W,SALNTY,SALNTY_FLAG_W,CTDOXY,CTDOXY_FLAG_W,OXYGEN,OXYGEN_FLAG_W,SILCAT,SILCAT_FLAG_W,NITRAT,NITRAT_FLAG_W,NITRIT,NITRIT_FLAG_W,PHSPHT,PHSPHT_FLAG_W,CFC-11,CFC-11_FLAG_W,CFC-12,CFC-12_FLAG_W,CFC113,CFC113_FLAG_W,SF6,SF6_FLAG_W,TCARBN,TCARBN_FLAG_W,ALKALI,ALKALI_FLAG_W,PH_SWS,PH_SWS_FLAG_W,PH_TMP,DOC,DOC_FLAG_W,TRITUM,TRITUM_FLAG_W,HELIUM,HELIUM_FLAG_W,DELHE3,DELHE3_FLAG_W,REFTMP,REFTMP_FLAG_W,DELC13,DELC13_FLAG_W,DELC14,DELC14_FLAG_W,C14ERR,TDN,TDN_FLAG_W,DELO18,DELO18_FLAG_W,DELO17,DELO17_FLAG_W,CH4,CH4,CH4_FLAG_W,BTL_DATE,BTL_TIME,CTDDEPTH,BTL_LAT,BTL_LON,LAB_DEN,LAB_DEN_FLAG_W,SALTREF,SALTREF_FLAG_W
,,,,,,,,,,,,,METERS,DBAR,ITS-90,PSS-78,,PSS-78,,UMOL/KG,,UMOL/KG,,UMOL/KG,,UMOL/KG,,UMOL/KG,,UMOL/KG,,PMOL/KG,,PMOL/KG,,PMOL/KG,,FMOL/KG,,UMOL/KG,,UMOL/KG,,,,DEG C,UMOL/KG,,TU,,NMOL/KG,,PERCNT,,ITS-90,,/MILLE,,/MILLE,,/MILLE,UMOL/KG,,/MILLE,,/MILLE,,NMOL/KG,NMOL/L,,,,METERS,,,KG/M^3,,G/KG,
33HQ20150809  ,ARC01      ,54      ,  2,18         ,    6413,   12014,GSNIS-18   ,2,20150928,2227,  76.5054,-149.5145,     3825,      5.3,  -1.2105,  26.3431,2,     -999,9,    384.4,2,     -999,9,     2.56,2,     0.00,2,     0.00,2,     0.51,2,     -999,9,     -999,9,     -999,9,     -999,9,     -999,9,     -999,9,     -999,9,     -999,     -999,9,     -999,9,     -999,9,     -999,9,     -999,9,     -999,9,     -999,9,     -999,     -999,9,     -999,9,     -999,9,     -999,     -999,9,20150928,2236,      5.2,  76.5081,-149.5174,     -999,9,     -999,9
33HQ20150809  ,ARC01      ,54      ,  2,16         ,    6413,   12014,GSNIS-16   ,2,20150928,2227,  76.5054,-149.5145,     3825,      5.3,  -1.2067,  26.3436,2,  26.3387,2,    384.3,2,    384.3,2,     2.46,2,     0.00,2,     0.00,2,     0.52,2,    6.781,2,    3.706,2,    0.658,2,    3.357,2,   1846.2,2,   1909.3,2,   7.6255,2,    25.00,     68.3,2,     -999,1,     -999,1,     -999,1,     -999,9,     1.40,2,     -999,1,     -999,     3.06,2,     -999,1,     -999,9,     -999,     -999,1,20150928,2235,      5.3,  76.5080,-149.5172,     -999,9,  26.4629,2
33HQ20150809  ,ARC01      ,54      ,  2,20         ,    6413,   12014,GSNIS-20   ,2,20150928,2227,  76.5054,-149.5145,     3825,      5.3,  -1.2107,  26.3431,2,     -999,9,    384.4,2,     -999,9,     2.56,2,     0.00,2,     0.00,2,     0.52,2,     -999,9,     -999,9,     -999,9,     -999,9,     -999,9,     -999,9,     -999,9,     -999,     -999,9,     -999,9,     -999,9,     -999,9,     -999,9,     -999,9,     -999,9,     -999,     -999,9,     -999,9,     -999,9,     -999,     -999,9,20150928,2236,      5.3,  76.5082,-149.5175,     -999,9,     -999,9
33HQ20150809  ,ARC01      ,54      ,  2,19         ,    6413,   12014,GSNIS-19   ,2,20150928,2227,  76.5054,-149.5145,     3825,      5.4,  -1.2113,  26.3431,2,     -999,9,    384.4,2,     -999,9,     2.56,2,     0.00,2,     0.00,2,     0.51,2,     -999,9,     -999,9,     -999,9,     -999,9,     -999,9,     -999,9,     -999,9,     -999,     -999,9,     -999,9,     -999,9,     -999,9,     -999,9,     -999,9,     -999,9,     -999,     -999,9,     -999,9,     -999,9,     -999,     -999,9,20150928,2236,      5.3,  76.5082,-149.5174,     -999,9,     -999,9
33HQ20150809  ,ARC01      ,54      ,  2,17         ,    6413,   12014,GSNIS-17   ,2,20150928,2227,  76.5054,-149.5145,     3825,      5.4,  -1.2063,  26.3434,2,     -999,9,    384.3,2,     -999,9,     2.56,2,     0.00,2,     0.00,2,     0.51,2,     -999,9,     -999,9,     -999,9,     -999,9,     -999,9,     -999,9,     -999,9,     -999,     -999,9,     -999,9,     -999,9,     -999,9,     -999,9,     -999,9,     -999,9,     -999,     -999,9,     -999,9,     -999,9,     -999,     -999,9,20150928,2236,      5.3,  76.5080,-149.5173,     -999,9,     -999,9
33HQ20150809  ,ARC01      ,54      ,  2,11         ,    6413,   12015,GSNIS-11   ,2,20150928,2227,  76.5054,-149.5145,     3825,     20.4,  -1.2096,  26.3466,2,  26.5241,2,    385.8,2,    385.7,2,     2.56,2,     0.00,2,     0.00,2,     0.51,2,    6.907,2,    3.779,2,    0.649,2,    3.288,2,   1856.9,2,   1921.2,2,   7.6334,2,    25.00,     68.5,2,     -999,1,     -999,1,     -999,1,     -999,9,     1.44,2,     -999,1,     -999,     3.29,2,     -999,1,     -999,9,     -999,     -999,1,20150928,2233,     20.2,  76.5071,-149.5164,     -999,9,  26.6492,2
33HQ20150809  ,ARC01      ,54      ,  2,14         ,    6413,   12015,GSNIS-14   ,2,20150928,2227,  76.5054,-149.5145,     3825,     20.4,  -1.2083,  26.3469,2,     -999,9,    385.8,2,     -999,9,     2.56,2,     0.00,2,     0.00,2,     0.52,2,     -999,9,     -999,9,     -999,9,     -999,9,     -999,9,     -999,9,     -999,9,     -999,     -999,9,     -999,9,     -999,9,     -999,9,     -999,9,     -999,9,     -999,9,     -999,     -999,9,     -999,9,     -999,9,     -999,     -999,9,20150928,2233,     20.2,  76.5073,-149.5166,     -999,9,     -999,9
33HQ20150809  ,ARC01      ,54      ,  2,13         ,    6413,   12015,GSNIS-13   ,2,20150928,2227,  76.5054,-149.5145,     3825,     20.4,  -1.2069,  26.3468,2,     -999,9,    385.8,2,     -999,9,     2.56,2,     0.00,2,     0.00,2,     0.51,2,     -999,9,     -999,9,     -999,9,     -999,9,     -999,9,     -999,9,     -999,9,     -999,     -999,9,     -999,9,     -999,9,     -999,9,     -999,9,     -999,9,     -999,9,     -999,     -999,9,     -999,9,     -999,9,     -999,     -999,9,20150928,2233,     20.2,  76.5072,-149.5165,     -999,9,     -999,9
33HQ20150809  ,ARC01      ,54      ,  2,15         ,    6413,   12015,GSNIS-15   ,2,20150928,2227,  76.5054,-149.5145,     3825,     20.4,  -1.2091,  26.3461,2,     -999,9,    385.8,2,     -999,9,     2.46,2,     0.00,2,     0.00,2,     0.52,2,     -999,9,     -999,9,     -999,9,     -999,9,     -999,9,     -999,9,     -999,9,     -999,     -999,9,     -999,9,     -999,9,     -999,9,     -999,9,     -999,9,     -999,9,     -999,     -999,9,     -999,9,     -999,9,     -999,     -999,9,20150928,2233,     20.2,  76.5074,-149.5166,     -999,9,     -999,9
33HQ20150809  ,ARC01      ,54      ,  2,12         ,    6413,   12015,GSNIS-12   ,2,20150928,2227,  76.5054,-149.5145,     3825,     20.4,  -1.2079,  26.3467,2,     -999,9,    385.8,2,     -999,9,     2.56,2,     0.00,2,     0.00,2,     0.51,2,     -999,9,     -999,9,     -999,9,     -999,9,     -999,9,     -999,9,     -999,9,     -999,     -999,9,     -999,9,     -999,9,     -999,9,     -999,9,     -999,9,     -999,9,     -999,     -999,9,     -999,9,     -999,9,     -999,     -999,9,20150928,2233,     20.2,  76.5072,-149.5164,     -999,9,     -999,9
33HQ20150809  ,ARC01      ,54      ,  2,6          ,    6413,   12016,GSNIS-6    ,2,20150928,2227,  76.5054,-149.5145,     3825,     40.8,  -0.9165,  29.2149,2,  29.2580,2,    390.6,2,    390.5,2,     3.04,2,     0.00,2,     0.00,2,     0.61,2,    6.864,2,    3.734,2,    0.625,2,    3.017,2,   2011.8,2,   2107.0,2,   7.6899,2,    25.00,     75.0,2,     -999,1,     -999,1,     -999,1,     -999,9,     1.44,2,     -999,1,     -999,     4.17,2,     -999,1,     -999,9,     -999,     -999,1,20150928,2230,     40.4,  76.5062,-149.5156,     -999,9,  29.3960,2
33HQ20150809  ,ARC01      ,54      ,  2,8          ,    6413,   12016,GSNIS-8    ,2,20150928,2227,  76.5054,-149.5145,     3825,     40.8,  -0.9067,  29.2238,2,     -999,9,    390.5,2,     -999,9,     3.04,2,     0.00,2,     0.00,2,     0.60,2,     -999,9,     -999,9,     -999,9,     -999,9,     -999,9,     -999,9,     -999,9,     -999,     -999,9,     -999,9,     -999,9,     -999,9,     -999,9,     -999,9,     -999,9,     -999,     -999,9,     -999,9,     -999,9,     -999,     -999,9,20150928,2230,     40.4,  76.5064,-149.5157,     -999,9,     -999,9
33HQ20150809  ,ARC01      ,54      ,  2,9          ,    6413,   12016,GSNIS-9    ,2,20150928,2227,  76.5054,-149.5145,     3825,     40.8,  -0.9093,  29.2211,2,     -999,9,    390.5,2,     -999,9,     3.04,2,     0.00,2,     0.00,2,     0.60,2,     -999,9,     -999,9,     -999,9,     -999,9,     -999,9,     -999,9,     -999,9,     -999,     -999,9,     -999,9,     -999,9,     -999,9,     -999,9,     -999,9,     -999,9,     -999,     -999,9,     -999,9,     -999,9,     -999,     -999,9,20150928,2230,     40.4,  76.5065,-149.5158,     -999,9,     -999,9
33HQ20150809  ,ARC01      ,54      ,  2,7          ,    6413,   12016,GSNIS-7    ,2,20150928,2227,  76.5054,-149.5145,     3825,     40.8,  -0.9113,  29.2194,2,     -999,9,    390.5,2,     -999,9,     3.04,2,     0.00,2,     0.00,2,     0.60,2,     -999,9,     -999,9,     -999,9,     -999,9,     -999,9,     -999,9,     -999,9,     -999,     -999,9,     -999,9,     -999,9,     -999,9,     -999,9,     -999,9,     -999,9,     -999,     -999,9,     -999,9,     -999,9,     -999,     -999,9,20150928,2230,     40.4,  76.5063,-149.5156,     -999,9,     -999,9
33HQ20150809  ,ARC01      ,54      ,  2,10         ,    6413,   12016,GSNIS-10   ,2,20150928,2227,  76.5054,-149.5145,     3825,     40.9,  -0.9098,  29.2264,2,     -999,9,    390.5,2,     -999,9,     3.04,2,     0.00,2,     0.00,2,     0.59,2,     -999,9,     -999,9,     -999,9,     -999,9,     -999,9,     -999,9,     -999,9,     -999,     -999,9,     -999,9,     -999,9,     -999,9,     -999,9,     -999,9,     -999,9,     -999,     -999,9,     -999,9,     -999,9,     -999,     -999,9,20150928,2231,     40.4,  76.5065,-149.5158,     -999,9,     -999,9
33HQ20150809  ,ARC01      ,54      ,  2,3          ,    6413,   12017,GSNIS-3    ,2,20150928,2227,  76.5054,-149.5145,     3825,     60.9,  -0.1779,  30.6830,2,     -999,9,    378.6,2,     -999,9,     5.19,2,     0.43,2,     0.14,2,     0.76,2,     -999,9,     -999,9,     -999,9,     -999,9,     -999,9,     -999,9,     -999,9,     -999,     -999,9,     -999,9,     -999,9,     -999,9,     -999,9,     -999,9,     -999,9,     -999,     -999,9,     -999,9,     -999,9,     -999,     -999,9,20150928,2227,     60.3,  76.5055,-149.5147,     -999,9,     -999,9
33HQ20150809  ,ARC01      ,54      ,  2,1          ,    6413,   12017,GSNIS-1    ,2,20150928,2227,  76.5054,-149.5145,     3825,     60.9,  -0.1845,  30.6835,2,  30.5333,2,    378.6,2,    378.6,2,     4.70,2,     0.32,2,     0.11,2,     0.74,2,    6.609,2,    3.513,2,    0.563,2,   -9.000,3,   2042.9,2,   2157.5,2,   7.7132,2,    25.00,     67.9,2,     -999,1,     -999,1,     -999,1,     -999,9,     1.27,2,     -999,1,     -999,     3.93,2,     -999,1,     -999,9,     -999,     -999,1,20150928,2227,     60.3,  76.5054,-149.5146,     -999,9,  30.6773,2
33HQ20150809  ,ARC01      ,54      ,  2,2          ,    6413,   12017,GSNIS-2    ,2,20150928,2227,  76.5054,-149.5145,     3825,     60.9,  -0.1803,  30.6826,2,     -999,9,    378.6,2,     -999,9,     4.90,2,     0.39,2,     0.12,2,     0.74,2,     -999,9,     -999,9,     -999,9,     -999,9,     -999,9,     -999,9,     -999,9,     -999,     -999,9,     -999,9,     -999,9,     -999,9,     -999,9,     -999,9,     -999,9,     -999,     -999,9,     -999,9,     -999,9,     -999,     -999,9,20150928,2227,     60.3,  76.5054,-149.5146,     -999,9,     -999,9
33HQ20150809  ,ARC01      ,54      ,  2,4          ,    6413,   12017,GSNIS-4    ,2,20150928,2227,  76.5054,-149.5145,     3825,     60.9,  -0.1771,  30.6801,2,     -999,9,    378.6,2,     -999,9,     5.19,2,     0.44,2,     0.15,2,     0.77,2,     -999,9,     -999,9,     -999,9,     -999,9,     -999,9,     -999,9,     -999,9,     -999,     -999,9,     -999,9,     -999,9,     -999,9,     -999,9,     -999,9,     -999,9,     -999,     -999,9,     -999,9,     -999,9,     -999,     -999,9,20150928,2228,     60.3,  76.5055,-149.5147,     -999,9,     -999,9
33HQ20150809  ,ARC01      ,54      ,  2,5          ,    6413,   12017,GSNIS-5    ,2,20150928,2227,  76.5054,-149.5145,     3825,     61.0,  -0.1782,  30.6740,2,     -999,9,    378.6,2,     -999,9,     5.10,2,     0.43,2,     0.14,2,     0.76,2,     -999,9,     -999,9,     -999,9,     -999,9,     -999,9,     -999,9,     -999,9,     -999,     -999,9,     -999,9,     -999,9,     -999,9,     -999,9,     -999,9,     -999,9,     -999,     -999,9,     -999,9,     -999,9,     -999,     -999,9,20150928,2228,     60.3,  76.5056,-149.5148,     -999,9,     -999,9