BOTTLE,20221220CCHSIOAMB
EXPOCODE,SECT_ID,STNNBR,CASTNO,SAMPNO,GEOTR_EVENT,GEOTR_SAMPNO,BTLNBR,BTLNBR_FLAG_W,DATE,TIME,LATITUDE,LONGITUDE,DEPTH,CTDPRS,CTDTMP,CTDSAL,CTDSAL_FLAG_W,SALNTY,SALNTY_FLAG_W,CTDOXY,CTDOXY_FLAG_W,OXYGEN,OXYGEN_FLAG_W,SILCAT,SILCAT_FLAG_W,NITRAT,NITRAT_FLAG_W,NITRIT,NITRIT_FLAG_W,PHSPHT,PHSPHT_FLAG_W,CFC-11,CFC-11_FLAG_W,CFC-12,CFC-12_FLAG_W,CFC113,CFC113_FLAG_W,SF6,SF6_FLAG_W,TCARBN,TCARBN_FLAG_W,ALKALI,ALKALI_FLAG_W,PH_SWS,PH_SWS_FLAG_W,PH_TMP,DOC,DOC_FLAG_W,TRITUM,TRITUM_FLAG_W,HELIUM,HELIUM_FLAG_W,DELHE3,DELHE3_FLAG_W,REFTMP,REFTMP_FLAG_W,DELC13,DELC13_FLAG_W,DELC14,DELC14_FLAG_W,C14ERR,TDN,TDN_FLAG_W,DELO18,DELO18_FLAG_W,DELO17,DELO17_FLAG_W,CH4,CH4,CH4_FLAG_W,BTL_DATE,BTL_TIME,CTDDEPTH,BTL_LAT,BTL_LON,LAB_DEN,LAB_DEN_FLAG_W,SALTREF,SALTREF_FLAG_W
,,,,,,,,,,,,,METERS,DBAR,ITS-90,PSS-78,,PSS-78,,UMOL/KG,,UMOL/KG,,UMOL/KG,,UMOL/KG,,UMOL/KG,,UMOL/KG,,PMOL/KG,,PMOL/KG,,PMOL/KG,,FMOL/KG,,UMOL/KG,,UMOL/KG,,,,DEG C,UMOL/KG,,TU,,NMOL/KG,,PERCNT,,ITS-90,,/MILLE,,/MILLE,,/MILLE,UMOL/KG,,/MILLE,,/MILLE,,NMOL/KG,NMOL/L,,,,METERS,,,KG/M^3,,G/KG,
33HQ20150809  ,ARC01      ,25      ,  1,3          ,    6147,    -999,GSNIS-3    ,2,20150827,0957,  83.1489, 173.9356,     3021,   2644.6,  -0.3632,  34.9522,2,  34.9537,2,    285.3,2,    286.2,2,    12.60,2,    14.48,2,     0.00,2,     1.03,2,    0.031,2,    0.012,2,    0.002,2,    0.000,2,     -999,9,   2303.6,2,   7.7322,2,    25.00,     45.7,2,     -999,9,     -999,9,     -999,9,     -999,9,     -999,9,     -999,9,     -999,    14.26,2,     -999,9,     -999,9,     -999,     -999,9,20150827,1008,   2600.1,  83.1488, 173.9294,     -999,9,  35.1185,2
33HQ20150809  ,ARC01      ,25      ,  1,2          ,    6147,    -999,GSNIS-2    ,2,20150827,0957,  83.1489, 173.9356,     3021,   2850.2,  -0.3516,  34.9536,2,  34.9533,2,    286.4,2,    286.2,2,    12.60,2,    14.44,2,     0.00,2,     1.04,2,    0.030,2,    0.009,2,    0.000,2,    0.000,2,     -999,9,   2299.8,2,   7.7352,2,    25.00,     44.6,2,     -999,9,     -999,9,     -999,9,     -999,9,     -999,9,     -999,9,     -999,    14.50,2,     -999,9,     -999,9,     -999,     -999,9,20150827,1004,   2800.8,  83.1488, 173.9319,     -999,9,  35.1181,2
33HQ20150809  ,ARC01      ,25      ,  1,1          ,    6147,    -999,GSNIS-1    ,2,20150827,0957,  83.1489, 173.9356,     3021,   3153.0,  -0.3302,  34.9545,2,  34.9543,2,    286.7,2,    287.0,2,    12.40,2,    14.43,2,     0.00,2,     1.04,2,    0.106,2,    0.050,2,    0.008,2,   -9.000,4,     -999,9,   2298.6,2,   7.7339,2,    25.00,     44.1,2,     -999,9,     -999,9,     -999,9,     -999,9,     -999,9,     -999,9,     -999,    16.69,2,     -999,9,     -999,9,     -999,     -999,9,20150827,0956,   3096.3,  83.1489, 173.9359,     -999,9,  35.1191,2
33HQ20150809  ,ARC01      ,26      ,  3,12         ,    6153,   10998,NIS-12     ,3,20150827,2301,  83.7546, 174.9150,     2938,      1.7,  -1.4625,  27.8655,2,  27.8711,2,    396.9,2,    394.0,2,     2.85,2,     0.00,2,     0.00,2,     0.59,2,    6.952,2,    3.810,2,    0.673,2,    3.721,2,   1889.8,2,   1984.2,2,   7.7191,2,    25.00,     72.4,2,     -999,1,     -999,1,     -999,1,  -1.4596,2,     1.45,2,     -999,1,     -999,     3.57,2,     -999,1,     -999,9,     6.46,   6.4574,2,20150827,2326,      1.7,  83.7545, 174.8921,     -999,9,  28.0025,2
33HQ20150809  ,ARC01      ,26      ,  3,11         ,    6153,   10999,NIS-11     ,3,20150827,2301,  83.7546, 174.9150,     2938,     18.5,  -1.3644,  28.1361,2,  28.3030,4,    394.7,2,    394.4,2,     2.75,2,     0.00,2,     0.00,2,     0.60,2,    7.045,2,    3.843,2,    0.673,2,    3.572,2,     -999,9,   2014.4,2,   7.7192,2,    25.00,     71.5,2,     -999,1,     -999,1,     -999,1,  -1.3666,2,     1.45,2,     -2.0,2,      2.2,     3.97,2,     -999,1,     -999,9,     6.55,   6.5500,2,20150827,2324,     18.3,  83.7545, 174.8937,     -999,9,  28.4364,4
33HQ20150809  ,ARC01      ,26      ,  3,10         ,    6153,   11000,NIS-10     ,3,20150827,2301,  83.7546, 174.9150,     2938,     23.8,  -1.2323,  28.9800,2,  29.0094,4,    401.3,2,    399.6,2,     3.14,2,     0.00,2,     0.00,2,     0.62,2,    7.085,2,    3.855,2,    0.673,2,    3.558,2,     -999,9,   2060.9,2,   7.7164,2,    25.00,     76.5,2,     -999,1,     -999,1,     -999,1,  -1.2321,2,     1.41,2,     -0.5,2,      3.3,     4.02,2,     -999,1,     -999,9,     7.12,   7.1172,2,20150827,2323,     23.5,  83.7545, 174.8945,     -999,9,  29.1462,4
33HQ20150809  ,ARC01      ,26      ,  3,9          ,    6153,   11001,NIS-9      ,2,20150827,2301,  83.7546, 174.9150,     2938,     44.2,  -1.3979,  29.4429,2,  29.5394,4,    394.0,2,    396.8,2,     3.33,2,     0.02,2,     0.02,2,     0.68,2,    7.016,2,    3.831,2,    0.657,2,    3.451,2,     -999,9,   2090.5,2,   7.7048,2,    25.00,     73.8,2,     -999,1,     -999,1,     -999,1,  -1.3962,2,     1.40,2,     -1.5,2,      2.4,     4.34,2,     -999,1,     -999,9,     9.99,   9.9947,2,20150827,2322,     43.7,  83.7545, 174.8959,     -999,9,  29.6787,4
33HQ20150809  ,ARC01      ,26      ,  3,8          ,    6153,   11002,NIS-8      ,3,20150827,2301,  83.7546, 174.9150,     2938,     52.0,  -1.3459,  30.1439,2,  30.8333,4,    377.4,2,    327.2,4,    11.57,2,     3.35,2,     0.08,2,     0.96,2,    6.412,2,    3.579,2,    0.529,2,    3.089,2,     -999,9,   2156.1,2,   7.5910,2,    25.00,     74.1,2,     -999,1,     -999,1,     -999,1,  -1.3455,2,     0.86,2,     -8.1,2,      2.1,     8.55,2,     -999,1,     -999,9,     8.47,   8.4727,2,20150827,2320,     51.4,  83.7545, 174.8975,     -999,9,  30.9787,4
33HQ20150809  ,ARC01      ,26      ,  3,7          ,    6153,   11003,NIS-7      ,2,20150827,2301,  83.7546, 174.9150,     2938,     71.0,  -1.2875,  32.1844,2,  32.3225,4,    276.1,2,    273.0,2,    28.39,2,     9.97,2,     0.02,2,     1.37,2,    6.184,2,    3.481,2,    0.463,2,    2.754,2,     -999,9,   2221.7,2,   7.4290,2,    25.00,     76.5,2,     -999,1,     -999,1,     -999,1,  -1.2870,2,    -0.03,2,     -4.4,2,      2.1,    13.67,2,     -999,1,     -999,9,     1.38,   1.3818,2,20150827,2318,     70.2,  83.7546, 174.8993,     -999,9,  32.4750,4
33HQ20150809  ,ARC01      ,26      ,  3,6          ,    6153,   11004,NIS-6      ,3,20150827,2301,  83.7546, 174.9150,     2938,     96.0,  -1.3921,  33.5396,2,  33.6817,4,    304.0,2,    296.1,2,    12.81,2,     8.51,2,     0.01,2,     0.85,2,    6.275,2,    3.428,2,    0.453,2,    2.314,2,     -999,9,   2267.2,2,   7.5553,2,    25.00,     71.7,2,     -999,1,     -999,1,     -999,1,  -1.3921,2,     0.26,2,     38.0,2,      2.6,    11.53,2,     -999,1,     -999,9,     0.92,   0.9245,2,20150827,2316,     94.9,  83.7546, 174.9012,     -999,9,  33.8405,4
33HQ20150809  ,ARC01      ,26      ,  3,5          ,    6153,   11005,NIS-5      ,3,20150827,2301,  83.7546, 174.9150,     2938,    131.3,  -1.3358,  34.1884,2,  34.2034,2,    309.2,2,    310.3,2,     6.25,2,     7.91,2,     0.01,2,     0.67,2,    6.324,2,    3.434,2,    0.471,2,    2.294,2,     -999,9,   2278.9,2,   7.6232,2,    25.00,     65.4,2,     -999,1,     -999,1,     -999,1,  -1.3355,2,     0.47,2,     53.7,2,      2.2,    11.16,2,     -999,1,     -999,9,     0.87,   0.8688,2,20150827,2314,    129.8,  83.7546, 174.9030,     -999,9,  34.3647,2
33HQ20150809  ,ARC01      ,26      ,  3,4          ,    6153,   11006,NIS-4      ,3,20150827,2301,  83.7546, 174.9150,     2938,    202.3,   0.0303,  34.5849,2,  34.5972,2,    299.1,2,    298.5,2,     5.67,2,    10.18,2,     0.01,2,     0.74,2,    5.876,2,    3.095,2,    0.425,2,    1.950,2,     -999,9,   2288.3,2,   7.6574,2,    25.00,     59.5,2,     -999,1,     -999,1,     -999,1,   0.0292,2,     0.54,2,     50.0,2,      2.1,    13.19,2,     -999,1,     -999,9,     0.93,   0.9284,2,20150827,2310,    200.1,  83.7546, 174.9069,     -999,9,  34.7603,2
33HQ20150809  ,ARC01      ,26      ,  3,3          ,    6153,   11007,NIS-3      ,3,20150827,2301,  83.7546, 174.9150,     2938,    278.1,   0.8405,  34.8128,2,  34.8130,2,    296.5,2,    296.1,2,     5.37,2,    11.63,2,     0.01,2,     0.79,2,    5.466,2,    2.859,2,    0.410,2,    1.593,2,     -999,9,   2296.1,2,   7.6945,2,    25.00,     55.1,2,     -999,1,     -999,1,     -999,1,   0.8404,2,     0.62,2,     47.0,2,      2.0,    13.30,2,     -999,1,     -999,9,     1.04,   1.0374,2,20150827,2307,    274.9,  83.7546, 174.9093,     -999,9,  34.9771,2
33HQ20150809  ,ARC01      ,26      ,  3,2          ,    6153,   11008,NIS-22     ,3,20150827,2301,  83.7546, 174.9150,     2938,    354.2,   0.9763,  34.8484,2,  34.8476,2,    298.5,2,    297.8,2,     5.47,2,    11.82,2,     0.01,2,     0.80,2,    5.375,2,    2.789,2,    0.394,2,    1.518,2,     -999,9,   2297.1,2,   7.6989,2,    25.00,     54.7,2,     -999,1,     -999,1,     -999,1,   0.9763,2,     0.65,2,     -999,1,     -999,    13.60,2,     -999,1,     -999,9,     0.96,   0.9553,2,20150827,2305,    350.1,  83.7546, 174.9119,     -999,9,  35.0119,2
33HQ20150809  ,ARC01      ,26      ,  3,1          ,    6153,   11009,NIS-1      ,2,20150827,2301,  83.7546, 174.9150,     2938,    430.5,   0.8958,  34.8660,2,  34.8691,2,    300.2,2,    299.7,2,     5.47,2,    11.86,2,     0.01,2,     0.82,2,    5.307,2,    2.729,2,    0.390,2,    1.618,2,     -999,9,   2298.6,2,   7.7000,2,    25.00,     54.0,2,     -999,1,     -999,1,     -999,1,   0.8960,2,     0.71,2,     39.5,2,      2.0,    15.70,2,     -999,1,     -999,9,     0.91,   0.9144,2,20150827,2301,    425.4,  83.7547, 174.9154,     -999,9,  35.0335,2
33HQ20150809  ,ARC01      ,26      ,  5,12         ,    6155,   11029,NIS-12     ,3,20150828,0623,  83.7433, 174.6301,     2863,      5.2,  -1.4667,  27.8759,2,  27.8760,4,    393.0,2,    392.3,2,     2.85,2,     0.01,2,     0.00,2,     0.58,2,     -999,9,     -999,9,     -999,9,     -999,9,     -999,9,     -999,9,     -999,9,     -999,     -999,9,     -999,9,     -999,9,     -999,9,  -1.4673,2,     -999,9,     -999,9,     -999,     -999,9,     -999,9,     -999,9,     -999,     -999,9,20150828,0649,      5.2,  83.7418, 174.6121,     -999,9,  28.0074,4
33HQ20150809  ,ARC01      ,26      ,  5,11         ,    6155,   11028,NIS-11     ,3,20150828,0623,  83.7433, 174.6301,     2863,     16.3,  -1.4668,  27.8845,2,  28.0221,4,    390.8,2,    392.9,2,     2.94,2,     0.01,2,     0.00,2,     0.58,2,     -999,9,     -999,9,     -999,9,     -999,9,     -999,9,     -999,9,     -999,9,     -999,     -999,9,     -999,9,     -999,9,     -999,9,  -1.4689,2,     -999,9,     -999,9,     -999,     -999,9,     -999,9,     -999,9,     -999,     -999,9,20150828,0647,     16.1,  83.7419, 174.6132,     -999,9,  28.1543,4
33HQ20150809  ,ARC01      ,26      ,  5,10         ,    6155,   11027,NIS-10     ,2,20150828,0623,  83.7433, 174.6301,     2863,     24.2,  -1.2537,  28.7366,2,  29.0462,4,    397.8,2,    397.6,2,     3.53,2,     0.07,2,     0.01,2,     0.63,2,     -999,9,     -999,9,     -999,9,     -999,9,     -999,9,     -999,9,     -999,9,     -999,     -999,9,     -999,9,     -999,9,     -999,9,  -1.2537,2,     -999,9,     -999,9,     -999,     -999,9,     -999,9,     -999,9,     -999,     -999,9,20150828,0646,     23.9,  83.7420, 174.6141,     -999,9,  29.1832,4
33HQ20150809  ,ARC01      ,26      ,  5,9          ,    6155,   11026,NIS-9      ,4,20150828,0623,  83.7433, 174.6301,     2863,     47.2,  -1.4028,  29.6950,2,  30.9230,4,    384.3,2,    341.5,4,    12.94,4,     3.94,4,     0.07,4,     1.01,4,     -999,9,     -999,9,     -999,9,     -999,9,     -999,9,     -999,9,     -999,9,     -999,     -999,9,     -999,9,     -999,9,     -999,9,  -1.4026,2,     -999,9,     -999,9,     -999,     -999,9,     -999,9,     -999,9,     -999,     -999,9,20150828,0644,     46.7,  83.7421, 174.6157,     -999,9,  31.0688,4
33HQ20150809  ,ARC01      ,26      ,  5,8          ,    6155,   11025,NIS-8      ,3,20150828,0623,  83.7433, 174.6301,     2863,     52.4,  -1.3277,  30.2396,2,  30.9263,4,    363.6,2,    340.4,2,    12.54,2,     3.86,2,     0.06,2,     0.99,2,     -999,9,     -999,9,     -999,9,     -999,9,     -999,9,     -999,9,     -999,9,     -999,     -999,9,     -999,9,     -999,9,     -999,9,  -1.3277,2,     -999,9,     -999,9,     -999,     -999,9,     -999,9,     -999,9,     -999,     -999,9,20150828,0642,     51.8,  83.7422, 174.6166,     -999,9,  31.0721,4
33HQ20150809  ,ARC01      ,26      ,  5,7          ,    6155,   11024,NIS-7      ,2,20150828,0623,  83.7433, 174.6301,     2863,     70.5,  -1.2880,  32.2252,2,  32.4738,4,    269.3,2,    265.3,2,    30.92,2,    10.84,2,     0.01,2,     1.46,2,     -999,9,     -999,9,     -999,9,     -999,9,     -999,9,     -999,9,     -999,9,     -999,     -999,9,     -999,9,     -999,9,     -999,9,  -1.2877,2,     -999,9,     -999,9,     -999,     -999,9,     -999,9,     -999,9,     -999,     -999,9,20150828,0640,     69.7,  83.7423, 174.6180,     -999,9,  32.6269,4
33HQ20150809  ,ARC01      ,26      ,  5,6          ,    6155,   11023,NIS-6      ,2,20150828,0623,  83.7433, 174.6301,     2863,     95.5,  -1.4219,  33.5088,2,  33.5418,4,    286.6,2,    289.9,2,    15.64,2,     9.01,2,     0.01,2,     0.93,2,     -999,9,     -999,9,     -999,9,     -999,9,     -999,9,     -999,9,     -999,9,     -999,     -999,9,     -999,9,     -999,9,     -999,9,  -1.4213,2,     -999,9,     -999,9,     -999,     -999,9,     -999,9,     -999,9,     -999,     -999,9,20150828,0638,     94.5,  83.7424, 174.6195,     -999,9,  33.7000,4
33HQ20150809  ,ARC01      ,26      ,  5,5          ,    6155,   11022,NIS-5      ,2,20150828,0623,  83.7433, 174.6301,     2863,    114.1,  -1.4031,  33.9709,2,  33.9862,2,    314.4,2,    305.2,2,     8.50,2,     7.85,2,     0.00,2,     0.72,2,     -999,9,     -999,9,     -999,9,     -999,9,     -999,9,     -999,9,     -999,9,     -999,     -999,9,     -999,9,     -999,9,     -999,9,  -1.4025,2,     -999,9,     -999,9,     -999,     -999,9,     -999,9,     -999,9,     -999,     -999,9,20150828,0637,    112.9,  83.7425, 174.6207,     -999,9,  34.1465,2
33HQ20150809  ,ARC01      ,26      ,  5,4          ,    6155,   11021,NIS-4      ,3,20150828,0623,  83.7433, 174.6301,     2863,    131.6,  -1.3295,  34.1875,2,  34.1848,2,    310.5,2,    309.5,2,     6.45,2,     7.81,2,     0.00,2,     0.67,2,     -999,9,     -999,9,     -999,9,     -999,9,     -999,9,     -999,9,     -999,9,     -999,     -999,9,     -999,9,     -999,9,     -999,9,  -1.3298,2,     -999,9,     -999,9,     -999,     -999,9,     -999,9,     -999,9,     -999,     -999,9,20150828,0635,    130.1,  83.7426, 174.6219,     -999,9,  34.3460,2
33HQ20150809  ,ARC01      ,26      ,  5,3          ,    6155,   11020,NIS-3      ,2,20150828,0623,  83.7433, 174.6301,     2863,    202.5,   0.0773,  34.6001,2,  34.6048,2,    297.7,2,    304.1,2,     5.76,2,    10.24,2,     0.00,2,     0.74,2,     -999,9,     -999,9,     -999,9,     -999,9,     -999,9,     -999,9,     -999,9,     -999,     -999,9,     -999,9,     -999,9,     -999,9,   0.0792,2,     -999,9,     -999,9,     -999,     -999,9,     -999,9,     -999,9,     -999,     -999,9,20150828,0632,    200.2,  83.7428, 174.6240,     -999,9,  34.7680,2
33HQ20150809  ,ARC01      ,26      ,  5,2          ,    6155,   11019,NIS-22     ,2,20150828,0623,  83.7433, 174.6301,     2863,    354.3,   0.9832,  34.8490,2,  34.8495,2,    301.2,2,    297.3,2,     5.66,2,    11.83,2,     0.00,2,     0.81,2,     -999,9,     -999,9,     -999,9,     -999,9,     -999,9,     -999,9,     -999,9,     -999,     -999,9,     -999,9,     -999,9,     -999,9,   0.9814,2,     -999,9,     -999,9,     -999,     -999,9,     -999,9,     -999,9,     -999,     -999,9,20150828,0628,    350.2,  83.7431, 174.6270,     -999,9,  35.0139,2
33HQ20150809  ,ARC01      ,26      ,  5,1          ,    6155,   11018,NIS-1      ,2,20150828,0623,  83.7433, 174.6301,     2863,    506.5,   0.6522,  34.8650,2,  34.8639,2,    301.5,2,    301.0,2,     5.86,2,    11.95,2,     0.00,2,     0.82,2,     -999,9,     -999,9,     -999,9,     -999,9,     -999,9,     -999,9,     -999,9,     -999,     -999,9,     -999,9,     -999,9,     -999,9,   0.6519,2,     -999,9,     -999,9,     -999,     -999,9,     -999,9,     -999,9,     -999,     -999,9,20150828,0623,    500.5,  83.7434, 174.6302,     -999,9,  35.0283,2