BOTTLE,20221220CCHSIOAMB
EXPOCODE,SECT_ID,STNNBR,CASTNO,SAMPNO,GEOTR_EVENT,GEOTR_SAMPNO,BTLNBR,BTLNBR_FLAG_W,DATE,TIME,LATITUDE,LONGITUDE,DEPTH,CTDPRS,CTDTMP,CTDSAL,CTDSAL_FLAG_W,SALNTY,SALNTY_FLAG_W,CTDOXY,CTDOXY_FLAG_W,OXYGEN,OXYGEN_FLAG_W,SILCAT,SILCAT_FLAG_W,NITRAT,NITRAT_FLAG_W,NITRIT,NITRIT_FLAG_W,PHSPHT,PHSPHT_FLAG_W,CFC-11,CFC-11_FLAG_W,CFC-12,CFC-12_FLAG_W,CFC113,CFC113_FLAG_W,SF6,SF6_FLAG_W,TCARBN,TCARBN_FLAG_W,ALKALI,ALKALI_FLAG_W,PH_SWS,PH_SWS_FLAG_W,PH_TMP,DOC,DOC_FLAG_W,TRITUM,TRITUM_FLAG_W,HELIUM,HELIUM_FLAG_W,DELHE3,DELHE3_FLAG_W,REFTMP,REFTMP_FLAG_W,DELC13,DELC13_FLAG_W,DELC14,DELC14_FLAG_W,C14ERR,TDN,TDN_FLAG_W,DELO18,DELO18_FLAG_W,DELO17,DELO17_FLAG_W,CH4,CH4,CH4_FLAG_W,BTL_DATE,BTL_TIME,CTDDEPTH,BTL_LAT,BTL_LON,LAB_DEN,LAB_DEN_FLAG_W,SALTREF,SALTREF_FLAG_W
,,,,,,,,,,,,,METERS,DBAR,ITS-90,PSS-78,,PSS-78,,UMOL/KG,,UMOL/KG,,UMOL/KG,,UMOL/KG,,UMOL/KG,,UMOL/KG,,PMOL/KG,,PMOL/KG,,PMOL/KG,,FMOL/KG,,UMOL/KG,,UMOL/KG,,,,DEG C,UMOL/KG,,TU,,NMOL/KG,,PERCNT,,ITS-90,,/MILLE,,/MILLE,,/MILLE,UMOL/KG,,/MILLE,,/MILLE,,NMOL/KG,NMOL/L,,,,METERS,,,KG/M^3,,G/KG,
33HQ20150809  ,ARC01      ,52      ,  8,34         ,    6406,   11972,GSNIS-34   ,2,20150928,0437,  77.4263,-147.7801,     3821,    609.3,   0.5835,  34.8526,2,  34.8534,2,    295.6,2,    295.7,2,     6.55,2,    12.57,2,     0.00,2,     0.85,2,    4.137,2,    1.997,2,    0.233,2,    0.644,2,   2158.4,2,   2295.0,2,   7.7091,2,    25.00,     52.2,2,     -999,1,     -999,1,     -999,1,     -999,9,     0.88,2,     -999,1,     -999,    14.18,2,     -999,1,     -999,9,     -999,     -999,1,20150928,0554,    602.0,  77.4201,-147.7635,     -999,9,  35.0178,2
33HQ20150809  ,ARC01      ,52      ,  8,35         ,    6406,   11972,GSNIS-35   ,2,20150928,0437,  77.4263,-147.7801,     3821,    609.4,   0.5841,  34.8527,2,     -999,9,    295.6,2,     -999,9,     6.55,2,    12.57,2,     0.00,2,     0.84,2,     -999,9,     -999,9,     -999,9,     -999,9,     -999,9,     -999,9,     -999,9,     -999,     -999,9,     -999,9,     -999,9,     -999,9,     -999,9,     -999,9,     -999,9,     -999,     -999,9,     -999,9,     -999,9,     -999,     -999,9,20150928,0554,    602.2,  77.4201,-147.7635,     -999,9,     -999,9
33HQ20150809  ,ARC01      ,52      ,  8,36         ,    6406,   11972,GSNIS-36   ,2,20150928,0437,  77.4263,-147.7801,     3821,    609.6,   0.5843,  34.8527,2,     -999,9,    295.6,2,     -999,9,     6.55,2,    12.57,2,     0.00,2,     0.85,2,     -999,9,     -999,9,     -999,9,     -999,9,     -999,9,     -999,9,     -999,9,     -999,     -999,9,     -999,9,     -999,9,     -999,9,     -999,9,     -999,9,     -999,9,     -999,     -999,9,     -999,9,     -999,9,     -999,     -999,9,20150928,0554,    602.4,  77.4201,-147.7635,     -999,9,     -999,9
33HQ20150809  ,ARC01      ,52      ,  8,31         ,    6406,   11973,GSNIS-31   ,2,20150928,0437,  77.4263,-147.7801,     3821,    912.9,   0.1030,  34.8699,2,  34.8693,2,    299.2,2,    299.7,2,     6.45,2,    12.54,2,     0.00,2,     0.87,2,    3.497,2,    1.709,2,    0.191,2,    0.535,2,   2157.5,2,   2298.9,2,   7.7083,2,    25.00,     50.4,2,     -999,1,     -999,1,     -999,1,     -999,9,     0.93,2,     -999,1,     -999,    13.71,2,     -999,1,     -999,9,     -999,     -999,1,20150928,0547,    901.4,  77.4206,-147.7651,     -999,9,  35.0338,2
33HQ20150809  ,ARC01      ,52      ,  8,32         ,    6406,   11973,GSNIS-32   ,2,20150928,0437,  77.4263,-147.7801,     3821,    913.1,   0.1024,  34.8698,2,     -999,9,    299.2,2,     -999,9,     6.54,2,    12.55,2,     0.00,2,     0.87,2,     -999,9,     -999,9,     -999,9,     -999,9,     -999,9,     -999,9,     -999,9,     -999,     -999,9,     -999,9,     -999,9,     -999,9,     -999,9,     -999,9,     -999,9,     -999,     -999,9,     -999,9,     -999,9,     -999,     -999,9,20150928,0547,    901.6,  77.4206,-147.7651,     -999,9,     -999,9
33HQ20150809  ,ARC01      ,52      ,  8,33         ,    6406,   11973,GSNIS-33   ,2,20150928,0437,  77.4263,-147.7801,     3821,    913.4,   0.1016,  34.8700,2,     -999,9,    299.2,2,     -999,9,     6.54,2,    12.53,2,     0.00,2,     0.86,2,     -999,9,     -999,9,     -999,9,     -999,9,     -999,9,     -999,9,     -999,9,     -999,     -999,9,     -999,9,     -999,9,     -999,9,     -999,9,     -999,9,     -999,9,     -999,     -999,9,     -999,9,     -999,9,     -999,     -999,9,20150928,0547,    901.8,  77.4206,-147.7651,     -999,9,     -999,9
33HQ20150809  ,ARC01      ,52      ,  8,28         ,    6406,   11974,GSNIS-28   ,2,20150928,0437,  77.4263,-147.7801,     3821,   1216.6,  -0.1328,  34.8895,2,  34.8894,2,    299.2,2,    299.3,2,     7.13,2,    12.81,2,     0.00,2,     0.89,2,    2.232,2,    1.095,2,    0.106,2,    0.306,2,   2155.9,2,   2297.2,2,   7.7140,2,    25.00,     49.4,2,     -999,1,     -999,1,     -999,1,     -999,9,     0.94,2,     -999,1,     -999,    14.25,2,     -999,1,     -999,9,     -999,     -999,1,20150928,0540,   1200.3,  77.4211,-147.7667,     -999,9,  35.0539,2
33HQ20150809  ,ARC01      ,52      ,  8,29         ,    6406,   11974,GSNIS-29   ,2,20150928,0437,  77.4263,-147.7801,     3821,   1216.7,  -0.1331,  34.8896,2,     -999,9,    299.2,2,     -999,9,     7.13,2,    12.82,2,     0.00,2,     0.89,2,     -999,9,     -999,9,     -999,9,     -999,9,     -999,9,     -999,9,     -999,9,     -999,     -999,9,     -999,9,     -999,9,     -999,9,     -999,9,     -999,9,     -999,9,     -999,     -999,9,     -999,9,     -999,9,     -999,     -999,9,20150928,0541,   1200.4,  77.4211,-147.7667,     -999,9,     -999,9
33HQ20150809  ,ARC01      ,52      ,  8,30         ,    6406,   11974,GSNIS-30   ,2,20150928,0437,  77.4263,-147.7801,     3821,   1217.0,  -0.1333,  34.8896,2,     -999,9,    299.2,2,     -999,9,     7.13,2,    12.83,2,     0.00,2,     0.90,2,     -999,9,     -999,9,     -999,9,     -999,9,     -999,9,     -999,9,     -999,9,     -999,     -999,9,     -999,9,     -999,9,     -999,9,     -999,9,     -999,9,     -999,9,     -999,     -999,9,     -999,9,     -999,9,     -999,     -999,9,20150928,0541,   1200.7,  77.4211,-147.7666,     -999,9,     -999,9
33HQ20150809  ,ARC01      ,52      ,  8,26         ,    6406,   11975,GSNIS-26   ,2,20150928,0437,  77.4263,-147.7801,     3821,   1521.5,  -0.2466,  34.9064,2,     -999,9,    298.4,2,     -999,9,     7.81,2,    13.15,2,     0.00,2,     0.92,2,     -999,9,     -999,9,     -999,9,     -999,9,     -999,9,     -999,9,     -999,9,     -999,     -999,9,     -999,9,     -999,9,     -999,9,     -999,9,     -999,9,     -999,9,     -999,     -999,9,     -999,9,     -999,9,     -999,     -999,9,20150928,0534,   1500.1,  77.4216,-147.7680,     -999,9,     -999,9
33HQ20150809  ,ARC01      ,52      ,  8,25         ,    6406,   11975,GSNIS-25   ,2,20150928,0437,  77.4263,-147.7801,     3821,   1521.5,  -0.2465,  34.9063,2,  34.9059,2,    298.4,2,    298.8,2,     7.81,2,    13.15,2,     0.00,2,     0.91,2,    1.198,2,    0.593,2,    0.047,2,    0.136,2,   2152.1,2,   2298.7,2,   7.7250,2,    25.00,     47.3,2,     -999,1,     -999,1,     -999,1,     -999,9,     1.09,2,     -999,1,     -999,    13.12,2,     -999,1,     -999,9,     -999,     -999,1,20150928,0534,   1500.0,  77.4216,-147.7680,     -999,9,  35.0705,2
33HQ20150809  ,ARC01      ,52      ,  8,27         ,    6406,   11975,GSNIS-27   ,2,20150928,0437,  77.4263,-147.7801,     3821,   1521.7,  -0.2469,  34.9064,2,     -999,9,    298.4,2,     -999,9,     7.81,2,    13.16,2,     0.00,2,     0.91,2,     -999,9,     -999,9,     -999,9,     -999,9,     -999,9,     -999,9,     -999,9,     -999,     -999,9,     -999,9,     -999,9,     -999,9,     -999,9,     -999,9,     -999,9,     -999,     -999,9,     -999,9,     -999,9,     -999,     -999,9,20150928,0535,   1500.2,  77.4215,-147.7679,     -999,9,     -999,9
33HQ20150809  ,ARC01      ,52      ,  8,22         ,    6406,   11976,GSNIS-22   ,2,20150928,0437,  77.4263,-147.7801,     3821,   1827.1,  -0.3431,  34.9240,2,  34.9238,2,    296.3,2,    296.6,2,     8.99,2,    13.62,2,     0.00,2,     0.96,2,    0.547,2,    0.252,2,    0.009,2,    0.038,2,   2151.1,2,   2300.8,2,   7.7326,2,    25.00,     48.8,2,     -999,1,     -999,1,     -999,1,     -999,9,     1.16,2,     -999,1,     -999,    14.42,2,     -999,1,     -999,9,     -999,     -999,1,20150928,0528,   1800.1,  77.4222,-147.7697,     -999,9,  35.0884,2
33HQ20150809  ,ARC01      ,52      ,  8,23         ,    6406,   11976,GSNIS-23   ,2,20150928,0437,  77.4263,-147.7801,     3821,   1827.1,  -0.3430,  34.9239,2,     -999,9,    296.3,2,     -999,9,     8.99,2,    13.62,2,     0.00,2,     0.95,2,     -999,9,     -999,9,     -999,9,     -999,9,     -999,9,     -999,9,     -999,9,     -999,     -999,9,     -999,9,     -999,9,     -999,9,     -999,9,     -999,9,     -999,9,     -999,     -999,9,     -999,9,     -999,9,     -999,     -999,9,20150928,0528,   1800.1,  77.4222,-147.7696,     -999,9,     -999,9
33HQ20150809  ,ARC01      ,52      ,  8,24         ,    6406,   11976,GSNIS-24   ,2,20150928,0437,  77.4263,-147.7801,     3821,   1827.1,  -0.3429,  34.9239,2,     -999,9,    296.3,2,     -999,9,     8.99,2,    13.61,2,     0.00,2,     0.95,2,     -999,9,     -999,9,     -999,9,     -999,9,     -999,9,     -999,9,     -999,9,     -999,     -999,9,     -999,9,     -999,9,     -999,9,     -999,9,     -999,9,     -999,9,     -999,     -999,9,     -999,9,     -999,9,     -999,     -999,9,20150928,0528,   1800.1,  77.4222,-147.7696,     -999,9,     -999,9
33HQ20150809  ,ARC01      ,52      ,  8,19         ,    6406,   11977,GSNIS-19   ,2,20150928,0437,  77.4263,-147.7801,     3821,   2081.6,  -0.3867,  34.9369,2,  34.9371,2,    293.2,2,    292.9,2,    10.16,2,    14.01,2,     0.00,2,     0.99,2,    0.255,2,    0.111,2,    0.004,2,    0.000,2,   2152.7,2,   2302.5,2,   7.7383,2,    25.00,     43.4,2,     -999,1,     -999,1,     -999,1,     -999,9,     1.19,2,     -999,1,     -999,    13.25,2,     -999,1,     -999,9,     -999,     -999,1,20150928,0522,   2049.6,  77.4227,-147.7710,     -999,9,  35.1019,2
33HQ20150809  ,ARC01      ,52      ,  8,20         ,    6406,   11977,GSNIS-20   ,2,20150928,0437,  77.4263,-147.7801,     3821,   2081.7,  -0.3867,  34.9369,2,     -999,9,    293.2,2,     -999,9,    10.16,2,    14.06,2,     0.00,2,     0.99,2,     -999,9,     -999,9,     -999,9,     -999,9,     -999,9,     -999,9,     -999,9,     -999,     -999,9,     -999,9,     -999,9,     -999,9,     -999,9,     -999,9,     -999,9,     -999,     -999,9,     -999,9,     -999,9,     -999,     -999,9,20150928,0522,   2049.6,  77.4227,-147.7709,     -999,9,     -999,9
33HQ20150809  ,ARC01      ,52      ,  8,21         ,    6406,   11977,GSNIS-21   ,2,20150928,0437,  77.4263,-147.7801,     3821,   2081.7,  -0.3868,  34.9369,2,     -999,9,    293.2,2,     -999,9,    10.16,2,    14.02,2,     0.00,2,     0.98,2,     -999,9,     -999,9,     -999,9,     -999,9,     -999,9,     -999,9,     -999,9,     -999,     -999,9,     -999,9,     -999,9,     -999,9,     -999,9,     -999,9,     -999,9,     -999,     -999,9,     -999,9,     -999,9,     -999,     -999,9,20150928,0523,   2049.6,  77.4227,-147.7709,     -999,9,     -999,9
33HQ20150809  ,ARC01      ,52      ,  8,18         ,    6406,   11978,GSNIS-18   ,2,20150928,0437,  77.4263,-147.7801,     3821,   2490.3,  -0.3845,  34.9506,2,     -999,9,    288.3,2,     -999,9,    11.92,2,    14.42,2,     0.00,2,     1.01,2,     -999,9,     -999,9,     -999,9,     -999,9,     -999,9,     -999,9,     -999,9,     -999,     -999,9,     -999,9,     -999,9,     -999,9,     -999,9,     -999,9,     -999,9,     -999,     -999,9,     -999,9,     -999,9,     -999,     -999,9,20150928,0515,   2449.7,  77.4234,-147.7727,     -999,9,     -999,9
33HQ20150809  ,ARC01      ,52      ,  8,17         ,    6406,   11978,GSNIS-17   ,2,20150928,0437,  77.4263,-147.7801,     3821,   2490.3,  -0.3845,  34.9506,2,     -999,9,    288.3,2,     -999,9,    11.92,2,    14.44,2,     0.00,2,     1.03,2,     -999,9,     -999,9,     -999,9,     -999,9,     -999,9,     -999,9,     -999,9,     -999,     -999,9,     -999,9,     -999,9,     -999,9,     -999,9,     -999,9,     -999,9,     -999,     -999,9,     -999,9,     -999,9,     -999,     -999,9,20150928,0515,   2449.7,  77.4234,-147.7727,     -999,9,     -999,9
33HQ20150809  ,ARC01      ,52      ,  8,16         ,    6406,   11978,GSNIS-16   ,2,20150928,0437,  77.4263,-147.7801,     3821,   2490.3,  -0.3845,  34.9507,2,  34.9511,2,    288.3,2,    288.3,2,    12.01,2,    14.44,2,     0.00,2,     1.01,2,    0.050,2,    0.019,2,    0.000,2,    0.005,2,   2155.4,2,   2301.7,2,   7.7358,2,    25.00,     45.3,2,     -999,1,     -999,1,     -999,1,     -999,9,     1.22,2,     -999,1,     -999,    15.17,2,     -999,1,     -999,9,     -999,     -999,1,20150928,0514,   2449.7,  77.4234,-147.7728,     -999,9,  35.1159,2
33HQ20150809  ,ARC01      ,52      ,  8,15         ,    6406,   11979,GSNIS-15   ,2,20150928,0437,  77.4263,-147.7801,     3821,   2899.8,  -0.3437,  34.9561,2,     -999,9,    285.0,2,     -999,9,    12.99,2,    14.52,2,     0.00,2,     1.03,2,     -999,9,     -999,9,     -999,9,     -999,9,     -999,9,     -999,9,     -999,9,     -999,     -999,9,     -999,9,     -999,9,     -999,9,     -999,9,     -999,9,     -999,9,     -999,     -999,9,     -999,9,     -999,9,     -999,     -999,9,20150928,0506,   2849.8,  77.4242,-147.7747,     -999,9,     -999,9
33HQ20150809  ,ARC01      ,52      ,  8,14         ,    6406,   11979,GSNIS-14   ,2,20150928,0437,  77.4263,-147.7801,     3821,   2899.9,  -0.3436,  34.9561,2,     -999,9,    285.0,2,     -999,9,    12.99,2,    14.56,2,     0.00,2,     1.02,2,     -999,9,     -999,9,     -999,9,     -999,9,     -999,9,     -999,9,     -999,9,     -999,     -999,9,     -999,9,     -999,9,     -999,9,     -999,9,     -999,9,     -999,9,     -999,     -999,9,     -999,9,     -999,9,     -999,     -999,9,20150928,0506,   2849.8,  77.4242,-147.7748,     -999,9,     -999,9
33HQ20150809  ,ARC01      ,52      ,  8,13         ,    6406,   11979,GSNIS-13   ,2,20150928,0437,  77.4263,-147.7801,     3821,   2899.9,  -0.3435,  34.9561,2,  34.9558,2,    285.0,2,    284.6,2,    12.99,2,    14.55,2,     0.00,2,     1.02,2,    0.021,2,    0.008,2,    0.000,2,    0.002,2,   2162.9,2,   2302.6,2,   7.7315,2,    25.00,     41.7,2,     -999,1,     -999,1,     -999,1,     -999,9,     1.22,2,     -999,1,     -999,    14.12,2,     -999,1,     -999,9,     -999,     -999,1,20150928,0506,   2849.8,  77.4242,-147.7748,     -999,9,  35.1206,2
33HQ20150809  ,ARC01      ,52      ,  8,10         ,    6406,   11980,GSNIS-10   ,2,20150928,0437,  77.4263,-147.7801,     3821,   3361.8,  -0.3005,  34.9565,2,  34.9558,2,    284.2,2,    284.2,2,    13.19,2,    14.54,2,     0.00,2,     1.03,2,    0.021,2,    0.012,2,    0.000,2,    0.013,2,   2162.2,2,   2303.3,2,   7.7334,2,    25.00,     42.3,2,     -999,1,     -999,1,     -999,1,     -999,9,     1.21,2,     -999,1,     -999,    14.86,2,     -999,1,     -999,9,     -999,     -999,1,20150928,0456,   3300.2,  77.4251,-147.7769,     -999,9,  35.1206,2
33HQ20150809  ,ARC01      ,52      ,  8,11         ,    6406,   11980,GSNIS-11   ,2,20150928,0437,  77.4263,-147.7801,     3821,   3361.8,  -0.3004,  34.9565,2,     -999,9,    284.2,2,     -999,9,    13.09,2,    14.53,2,     0.00,2,     1.04,2,     -999,9,     -999,9,     -999,9,     -999,9,     -999,9,     -999,9,     -999,9,     -999,     -999,9,     -999,9,     -999,9,     -999,9,     -999,9,     -999,9,     -999,9,     -999,     -999,9,     -999,9,     -999,9,     -999,     -999,9,20150928,0456,   3300.2,  77.4251,-147.7769,     -999,9,     -999,9
33HQ20150809  ,ARC01      ,52      ,  8,12         ,    6406,   11980,GSNIS-12   ,2,20150928,0437,  77.4263,-147.7801,     3821,   3361.8,  -0.3004,  34.9565,2,     -999,9,    284.2,2,     -999,9,    13.09,2,    14.54,2,     0.00,2,     1.04,2,     -999,9,     -999,9,     -999,9,     -999,9,     -999,9,     -999,9,     -999,9,     -999,     -999,9,     -999,9,     -999,9,     -999,9,     -999,9,     -999,9,     -999,9,     -999,     -999,9,     -999,9,     -999,9,     -999,     -999,9,20150928,0456,   3300.3,  77.4250,-147.7769,     -999,9,     -999,9
33HQ20150809  ,ARC01      ,52      ,  8,7          ,    6406,   11981,GSNIS-7    ,2,20150928,0437,  77.4263,-147.7801,     3821,   3738.7,  -0.2645,  34.9563,2,  34.9569,2,    283.6,2,    283.9,2,    13.19,2,    14.55,2,     0.00,2,     1.02,2,    0.019,2,    0.009,2,    0.000,2,    0.012,2,   2160.0,2,   2303.0,2,   7.7331,2,    25.00,     41.4,2,     -999,1,     -999,1,     -999,1,     -999,9,     1.21,2,     -999,1,     -999,    14.56,2,     -999,1,     -999,9,     -999,     -999,1,20150928,0448,   3667.1,  77.4256,-147.7783,     -999,9,  35.1218,2
33HQ20150809  ,ARC01      ,52      ,  8,8          ,    6406,   11981,GSNIS-8    ,2,20150928,0437,  77.4263,-147.7801,     3821,   3738.7,  -0.2645,  34.9563,2,     -999,9,    283.6,2,     -999,9,    13.19,2,    14.55,2,     0.00,2,     1.02,2,     -999,9,     -999,9,     -999,9,     -999,9,     -999,9,     -999,9,     -999,9,     -999,     -999,9,     -999,9,     -999,9,     -999,9,     -999,9,     -999,9,     -999,9,     -999,     -999,9,     -999,9,     -999,9,     -999,     -999,9,20150928,0448,   3667.1,  77.4256,-147.7783,     -999,9,     -999,9
33HQ20150809  ,ARC01      ,52      ,  8,9          ,    6406,   11981,GSNIS-9    ,2,20150928,0437,  77.4263,-147.7801,     3821,   3738.7,  -0.2645,  34.9563,2,     -999,9,    283.6,2,     -999,9,    13.19,2,    14.55,2,     0.00,2,     1.02,2,     -999,9,     -999,9,     -999,9,     -999,9,     -999,9,     -999,9,     -999,9,     -999,     -999,9,     -999,9,     -999,9,     -999,9,     -999,9,     -999,9,     -999,9,     -999,     -999,9,     -999,9,     -999,9,     -999,     -999,9,20150928,0448,   3667.2,  77.4256,-147.7783,     -999,9,     -999,9
33HQ20150809  ,ARC01      ,52      ,  8,6          ,    6406,   11982,GSNIS-6    ,2,20150928,0437,  77.4263,-147.7801,     3821,   3815.7,  -0.2569,  34.9562,2,     -999,9,    283.2,2,     -999,9,    13.09,2,    14.52,2,     0.00,2,     1.02,2,     -999,9,     -999,9,     -999,9,     -999,9,     -999,9,     -999,9,     -999,9,     -999,     -999,9,     -999,9,     -999,9,     -999,9,     -999,9,     -999,9,     -999,9,     -999,     -999,9,     -999,9,     -999,9,     -999,     -999,9,20150928,0445,   3742.0,  77.4258,-147.7787,     -999,9,     -999,9
33HQ20150809  ,ARC01      ,52      ,  8,5          ,    6406,   11982,GSNIS-5    ,2,20150928,0437,  77.4263,-147.7801,     3821,   3815.7,  -0.2569,  34.9561,2,     -999,9,    283.2,2,     -999,9,    13.19,2,    14.54,2,     0.00,2,     1.02,2,     -999,9,     -999,9,     -999,9,     -999,9,     -999,9,     -999,9,     -999,9,     -999,     -999,9,     -999,9,     -999,9,     -999,9,     -999,9,     -999,9,     -999,9,     -999,     -999,9,     -999,9,     -999,9,     -999,     -999,9,20150928,0445,   3742.0,  77.4258,-147.7788,     -999,9,     -999,9
33HQ20150809  ,ARC01      ,52      ,  8,4          ,    6406,   11982,GSNIS-4    ,2,20150928,0437,  77.4263,-147.7801,     3821,   3815.7,  -0.2569,  34.9562,2,  34.9575,2,    283.2,2,    284.1,2,    13.09,2,    14.55,2,     0.00,2,     1.01,2,    0.018,2,    0.011,2,    0.002,2,    0.004,2,   2158.2,2,   2304.4,2,   7.7334,2,    25.00,     42.1,2,     -999,1,     -999,1,     -999,1,     -999,9,     1.22,2,     -999,1,     -999,    14.39,2,     -999,1,     -999,9,     -999,     -999,1,20150928,0445,   3742.0,  77.4258,-147.7788,     -999,9,  35.1223,2