BOTTLE,20221220CCHSIOAMB
EXPOCODE,SECT_ID,STNNBR,CASTNO,SAMPNO,GEOTR_EVENT,GEOTR_SAMPNO,BTLNBR,BTLNBR_FLAG_W,DATE,TIME,LATITUDE,LONGITUDE,DEPTH,CTDPRS,CTDTMP,CTDSAL,CTDSAL_FLAG_W,SALNTY,SALNTY_FLAG_W,CTDOXY,CTDOXY_FLAG_W,OXYGEN,OXYGEN_FLAG_W,SILCAT,SILCAT_FLAG_W,NITRAT,NITRAT_FLAG_W,NITRIT,NITRIT_FLAG_W,PHSPHT,PHSPHT_FLAG_W,CFC-11,CFC-11_FLAG_W,CFC-12,CFC-12_FLAG_W,CFC113,CFC113_FLAG_W,SF6,SF6_FLAG_W,TCARBN,TCARBN_FLAG_W,ALKALI,ALKALI_FLAG_W,PH_SWS,PH_SWS_FLAG_W,PH_TMP,DOC,DOC_FLAG_W,TRITUM,TRITUM_FLAG_W,HELIUM,HELIUM_FLAG_W,DELHE3,DELHE3_FLAG_W,REFTMP,REFTMP_FLAG_W,DELC13,DELC13_FLAG_W,DELC14,DELC14_FLAG_W,C14ERR,TDN,TDN_FLAG_W,DELO18,DELO18_FLAG_W,DELO17,DELO17_FLAG_W,CH4,CH4,CH4_FLAG_W,BTL_DATE,BTL_TIME,CTDDEPTH,BTL_LAT,BTL_LON,LAB_DEN,LAB_DEN_FLAG_W,SALTREF,SALTREF_FLAG_W
,,,,,,,,,,,,,METERS,DBAR,ITS-90,PSS-78,,PSS-78,,UMOL/KG,,UMOL/KG,,UMOL/KG,,UMOL/KG,,UMOL/KG,,UMOL/KG,,PMOL/KG,,PMOL/KG,,PMOL/KG,,FMOL/KG,,UMOL/KG,,UMOL/KG,,,,DEG C,UMOL/KG,,TU,,NMOL/KG,,PERCNT,,ITS-90,,/MILLE,,/MILLE,,/MILLE,UMOL/KG,,/MILLE,,/MILLE,,NMOL/KG,NMOL/L,,,,METERS,,,KG/M^3,,G/KG,
33HQ20150809  ,ARC01      ,48      , 12,31         ,    6375,   11840,GSNIS-31   ,2,20150923,2123,  80.4601,-149.0618,     3804,    506.6,   0.8586,  34.8534,2,  34.8557,2,    296.8,2,    298.2,2,     6.05,2,    12.05,2,     0.00,2,     0.81,2,     -999,9,     -999,9,     -999,9,     -999,9,     -999,9,     -999,9,     -999,9,     -999,     -999,9,     -999,9,     -999,9,     -999,9,   0.8589,2,     -999,9,     -999,9,     -999,     -999,9,     -999,9,     -999,9,     -999,     -999,9,20150923,2203,    500.6,  80.4627,-149.0382,     -999,9,  35.0200,2
33HQ20150809  ,ARC01      ,48      , 12,32         ,    6375,   11840,GSNIS-32   ,2,20150923,2123,  80.4601,-149.0618,     3804,    506.7,   0.8582,  34.8534,2,     -999,9,    296.8,2,     -999,9,     6.05,2,    12.06,2,     0.00,2,     0.81,2,     -999,9,     -999,9,     -999,9,     -999,9,     -999,9,     -999,9,     -999,9,     -999,     -999,9,     -999,9,     -999,9,     -999,9,   0.8584,2,     -999,9,     -999,9,     -999,     -999,9,     -999,9,     -999,9,     -999,     -999,9,20150923,2203,    500.7,  80.4627,-149.0380,     -999,9,     -999,9
33HQ20150809  ,ARC01      ,48      , 12,33         ,    6375,   11840,GSNIS-33   ,2,20150923,2123,  80.4601,-149.0618,     3804,    506.8,   0.8581,  34.8537,2,     -999,9,    296.8,2,     -999,9,     5.96,2,    12.07,2,     0.00,2,     0.81,2,     -999,9,     -999,9,     -999,9,     -999,9,     -999,9,     -999,9,     -999,9,     -999,     -999,9,     -999,9,     -999,9,     -999,9,   0.8582,2,     -999,9,     -999,9,     -999,     -999,9,     -999,9,     -999,9,     -999,     -999,9,20150923,2203,    500.8,  80.4627,-149.0379,     -999,9,     -999,9
33HQ20150809  ,ARC01      ,48      , 12,34         ,    6375,   11840,GSNIS-34   ,2,20150923,2123,  80.4601,-149.0618,     3804,    506.8,   0.8578,  34.8538,2,     -999,9,    296.8,2,     -999,9,     6.05,2,    12.08,2,     0.00,2,     0.80,2,     -999,9,     -999,9,     -999,9,     -999,9,     -999,9,     -999,9,     -999,9,     -999,     -999,9,     -999,9,     -999,9,     -999,9,   0.8581,2,     -999,9,     -999,9,     -999,     -999,9,     -999,9,     -999,9,     -999,     -999,9,20150923,2204,    500.8,  80.4627,-149.0378,     -999,9,     -999,9
33HQ20150809  ,ARC01      ,48      , 12,35         ,    6375,   11840,GSNIS-35   ,2,20150923,2123,  80.4601,-149.0618,     3804,    506.9,   0.8578,  34.8538,2,     -999,9,    296.8,2,     -999,9,     6.05,2,    12.07,2,     0.00,2,     0.81,2,     -999,9,     -999,9,     -999,9,     -999,9,     -999,9,     -999,9,     -999,9,     -999,     -999,9,     -999,9,     -999,9,     -999,9,   0.8578,2,     -999,9,     -999,9,     -999,     -999,9,     -999,9,     -999,9,     -999,     -999,9,20150923,2204,    500.9,  80.4628,-149.0378,     -999,9,     -999,9
33HQ20150809  ,ARC01      ,48      , 12,36         ,    6375,   11840,GSNIS-36   ,2,20150923,2123,  80.4601,-149.0618,     3804,    506.9,   0.8579,  34.8538,2,     -999,9,    296.8,2,     -999,9,     6.05,2,    12.07,2,     0.00,2,     0.82,2,     -999,9,     -999,9,     -999,9,     -999,9,     -999,9,     -999,9,     -999,9,     -999,     -999,9,     -999,9,     -999,9,     -999,9,   0.8580,2,     -999,9,     -999,9,     -999,     -999,9,     -999,9,     -999,9,     -999,     -999,9,20150923,2204,    500.9,  80.4628,-149.0377,     -999,9,     -999,9
33HQ20150809  ,ARC01      ,48      , 12,25         ,    6375,   11841,GSNIS-25   ,2,20150923,2123,  80.4601,-149.0618,     3804,    719.2,   0.3972,  34.8622,2,  34.8622,2,    299.2,2,    298.9,2,     6.35,2,    12.24,2,     0.00,2,     0.85,2,     -999,9,     -999,9,     -999,9,     -999,9,     -999,9,     -999,9,     -999,9,     -999,     -999,9,     -999,9,     -999,9,     -999,9,   0.3974,2,     -999,9,     -999,9,     -999,     -999,9,     -999,9,     -999,9,     -999,     -999,9,20150923,2157,    710.4,  80.4623,-149.0419,     -999,9,  35.0266,2
33HQ20150809  ,ARC01      ,48      , 12,26         ,    6375,   11841,GSNIS-26   ,2,20150923,2123,  80.4601,-149.0618,     3804,    719.4,   0.3971,  34.8622,2,     -999,9,    299.2,2,     -999,9,     6.44,2,    12.26,2,    -0.01,2,     0.84,2,     -999,9,     -999,9,     -999,9,     -999,9,     -999,9,     -999,9,     -999,9,     -999,     -999,9,     -999,9,     -999,9,     -999,9,   0.3972,2,     -999,9,     -999,9,     -999,     -999,9,     -999,9,     -999,9,     -999,     -999,9,20150923,2157,    710.5,  80.4623,-149.0418,     -999,9,     -999,9
33HQ20150809  ,ARC01      ,48      , 12,28         ,    6375,   11841,GSNIS-28   ,2,20150923,2123,  80.4601,-149.0618,     3804,    719.5,   0.3973,  34.8621,2,     -999,9,    299.2,2,     -999,9,     6.44,2,    12.26,2,    -0.01,2,     0.83,2,     -999,9,     -999,9,     -999,9,     -999,9,     -999,9,     -999,9,     -999,9,     -999,     -999,9,     -999,9,     -999,9,     -999,9,   0.3973,2,     -999,9,     -999,9,     -999,     -999,9,     -999,9,     -999,9,     -999,     -999,9,20150923,2158,    710.7,  80.4623,-149.0416,     -999,9,     -999,9
33HQ20150809  ,ARC01      ,48      , 12,27         ,    6375,   11841,GSNIS-27   ,2,20150923,2123,  80.4601,-149.0618,     3804,    719.5,   0.3971,  34.8622,2,     -999,9,    299.2,2,     -999,9,     6.44,2,    12.26,2,    -0.01,2,     0.83,2,     -999,9,     -999,9,     -999,9,     -999,9,     -999,9,     -999,9,     -999,9,     -999,     -999,9,     -999,9,     -999,9,     -999,9,   0.3972,2,     -999,9,     -999,9,     -999,     -999,9,     -999,9,     -999,9,     -999,     -999,9,20150923,2157,    710.6,  80.4623,-149.0417,     -999,9,     -999,9
33HQ20150809  ,ARC01      ,48      , 12,29         ,    6375,   11841,GSNIS-29   ,2,20150923,2123,  80.4601,-149.0618,     3804,    719.6,   0.3974,  34.8622,2,     -999,9,    299.0,2,     -999,9,     6.44,2,    12.26,2,     0.00,2,     0.83,2,     -999,9,     -999,9,     -999,9,     -999,9,     -999,9,     -999,9,     -999,9,     -999,     -999,9,     -999,9,     -999,9,     -999,9,   0.3974,2,     -999,9,     -999,9,     -999,     -999,9,     -999,9,     -999,9,     -999,     -999,9,20150923,2158,    710.8,  80.4623,-149.0414,     -999,9,     -999,9
33HQ20150809  ,ARC01      ,48      , 12,30         ,    6375,   11841,GSNIS-30   ,2,20150923,2123,  80.4601,-149.0618,     3804,    719.7,   0.3977,  34.8622,2,     -999,9,    299.0,2,     -999,9,     6.44,2,    12.25,2,     0.00,2,     0.83,2,     -999,9,     -999,9,     -999,9,     -999,9,     -999,9,     -999,9,     -999,9,     -999,     -999,9,     -999,9,     -999,9,     -999,9,   0.3977,2,     -999,9,     -999,9,     -999,     -999,9,     -999,9,     -999,9,     -999,     -999,9,20150923,2158,    710.9,  80.4624,-149.0413,     -999,9,     -999,9
33HQ20150809  ,ARC01      ,48      , 12,19         ,    6375,   11842,GSNIS-19   ,2,20150923,2123,  80.4601,-149.0618,     3804,   1063.8,  -0.0591,  34.8801,2,  34.8807,2,    301.8,2,    300.5,2,     7.03,2,    12.46,2,    -0.01,2,     0.85,2,     -999,9,     -999,9,     -999,9,     -999,9,     -999,9,     -999,9,     -999,9,     -999,     -999,9,     -999,9,     -999,9,     -999,9,  -0.0589,2,     -999,9,     -999,9,     -999,     -999,9,     -999,9,     -999,9,     -999,     -999,9,20150923,2149,   1049.9,  80.4617,-149.0469,     -999,9,  35.0452,2
33HQ20150809  ,ARC01      ,48      , 12,20         ,    6375,   11842,GSNIS-20   ,2,20150923,2123,  80.4601,-149.0618,     3804,   1063.9,  -0.0596,  34.8801,2,     -999,9,    301.8,2,     -999,9,     7.03,2,    12.47,2,    -0.01,2,     0.86,2,     -999,9,     -999,9,     -999,9,     -999,9,     -999,9,     -999,9,     -999,9,     -999,     -999,9,     -999,9,     -999,9,     -999,9,  -0.0594,2,     -999,9,     -999,9,     -999,     -999,9,     -999,9,     -999,9,     -999,     -999,9,20150923,2149,   1049.9,  80.4617,-149.0468,     -999,9,     -999,9
33HQ20150809  ,ARC01      ,48      , 12,21         ,    6375,   11842,GSNIS-21   ,2,20150923,2123,  80.4601,-149.0618,     3804,   1064.0,  -0.0599,  34.8801,2,     -999,9,    301.8,2,     -999,9,     7.03,2,    12.48,2,     0.00,2,     0.87,2,     -999,9,     -999,9,     -999,9,     -999,9,     -999,9,     -999,9,     -999,9,     -999,     -999,9,     -999,9,     -999,9,     -999,9,  -0.0598,2,     -999,9,     -999,9,     -999,     -999,9,     -999,9,     -999,9,     -999,     -999,9,20150923,2149,   1050.1,  80.4617,-149.0467,     -999,9,     -999,9
33HQ20150809  ,ARC01      ,48      , 12,22         ,    6375,   11842,GSNIS-22   ,2,20150923,2123,  80.4601,-149.0618,     3804,   1064.1,  -0.0601,  34.8801,2,     -999,9,    301.8,2,     -999,9,     7.03,2,    12.49,2,    -0.01,2,     0.89,2,     -999,9,     -999,9,     -999,9,     -999,9,     -999,9,     -999,9,     -999,9,     -999,     -999,9,     -999,9,     -999,9,     -999,9,  -0.0602,2,     -999,9,     -999,9,     -999,     -999,9,     -999,9,     -999,9,     -999,     -999,9,20150923,2149,   1050.1,  80.4618,-149.0466,     -999,9,     -999,9
33HQ20150809  ,ARC01      ,48      , 12,23         ,    6375,   11842,GSNIS-23   ,2,20150923,2123,  80.4601,-149.0618,     3804,   1064.2,  -0.0600,  34.8801,2,     -999,9,    301.8,2,     -999,9,     7.03,2,    12.46,2,     0.00,2,     0.88,2,     -999,9,     -999,9,     -999,9,     -999,9,     -999,9,     -999,9,     -999,9,     -999,     -999,9,     -999,9,     -999,9,     -999,9,  -0.0601,2,     -999,9,     -999,9,     -999,     -999,9,     -999,9,     -999,9,     -999,     -999,9,20150923,2150,   1050.2,  80.4618,-149.0464,     -999,9,     -999,9
33HQ20150809  ,ARC01      ,48      , 12,24         ,    6375,   11842,GSNIS-24   ,2,20150923,2123,  80.4601,-149.0618,     3804,   1064.2,  -0.0599,  34.8801,2,     -999,9,    301.8,2,     -999,9,     7.03,2,    12.45,2,     0.00,2,     0.89,2,     -999,9,     -999,9,     -999,9,     -999,9,     -999,9,     -999,9,     -999,9,     -999,     -999,9,     -999,9,     -999,9,     -999,9,  -0.0600,2,     -999,9,     -999,9,     -999,     -999,9,     -999,9,     -999,9,     -999,     -999,9,20150923,2150,   1050.3,  80.4618,-149.0464,     -999,9,     -999,9
33HQ20150809  ,ARC01      ,48      , 12,13         ,    6375,   11843,GSNIS-13   ,2,20150923,2123,  80.4601,-149.0618,     3804,   1420.4,  -0.2675,  34.9059,2,  34.9069,2,    300.3,2,    298.8,2,     8.10,2,    13.00,2,    -0.01,2,     0.90,2,     -999,9,     -999,9,     -999,9,     -999,9,     -999,9,     -999,9,     -999,9,     -999,     -999,9,     -999,9,     -999,9,     -999,9,  -0.2677,2,     -999,9,     -999,9,     -999,     -999,9,     -999,9,     -999,9,     -999,     -999,9,20150923,2141,   1400.6,  80.4612,-149.0518,     -999,9,  35.0715,2
33HQ20150809  ,ARC01      ,48      , 12,14         ,    6375,   11843,GSNIS-14   ,2,20150923,2123,  80.4601,-149.0618,     3804,   1420.5,  -0.2675,  34.9059,2,     -999,9,    300.3,2,     -999,9,     8.10,2,    12.97,2,    -0.01,2,     0.90,2,     -999,9,     -999,9,     -999,9,     -999,9,     -999,9,     -999,9,     -999,9,     -999,     -999,9,     -999,9,     -999,9,     -999,9,  -0.2677,2,     -999,9,     -999,9,     -999,     -999,9,     -999,9,     -999,9,     -999,     -999,9,20150923,2141,   1400.7,  80.4612,-149.0517,     -999,9,     -999,9
33HQ20150809  ,ARC01      ,48      , 12,15         ,    6375,   11843,GSNIS-15   ,2,20150923,2123,  80.4601,-149.0618,     3804,   1420.6,  -0.2673,  34.9058,2,     -999,9,    300.3,2,     -999,9,     8.10,2,    13.00,2,    -0.01,2,     0.90,2,     -999,9,     -999,9,     -999,9,     -999,9,     -999,9,     -999,9,     -999,9,     -999,     -999,9,     -999,9,     -999,9,     -999,9,  -0.2676,2,     -999,9,     -999,9,     -999,     -999,9,     -999,9,     -999,9,     -999,     -999,9,20150923,2141,   1400.7,  80.4612,-149.0516,     -999,9,     -999,9
33HQ20150809  ,ARC01      ,48      , 12,16         ,    6375,   11843,GSNIS-16   ,2,20150923,2123,  80.4601,-149.0618,     3804,   1420.7,  -0.2671,  34.9059,2,     -999,9,    300.0,2,     -999,9,     8.01,2,    12.98,2,    -0.01,2,     0.90,2,     -999,9,     -999,9,     -999,9,     -999,9,     -999,9,     -999,9,     -999,9,     -999,     -999,9,     -999,9,     -999,9,     -999,9,  -0.2671,2,     -999,9,     -999,9,     -999,     -999,9,     -999,9,     -999,9,     -999,     -999,9,20150923,2141,   1400.8,  80.4612,-149.0515,     -999,9,     -999,9
33HQ20150809  ,ARC01      ,48      , 12,17         ,    6375,   11843,GSNIS-17   ,2,20150923,2123,  80.4601,-149.0618,     3804,   1420.8,  -0.2669,  34.9061,2,     -999,9,    300.0,2,     -999,9,     8.01,2,    12.99,2,    -0.01,2,     0.90,2,     -999,9,     -999,9,     -999,9,     -999,9,     -999,9,     -999,9,     -999,9,     -999,     -999,9,     -999,9,     -999,9,     -999,9,  -0.2671,2,     -999,9,     -999,9,     -999,     -999,9,     -999,9,     -999,9,     -999,     -999,9,20150923,2141,   1400.9,  80.4612,-149.0514,     -999,9,     -999,9
33HQ20150809  ,ARC01      ,48      , 12,18         ,    6375,   11843,GSNIS-18   ,2,20150923,2123,  80.4601,-149.0618,     3804,   1420.8,  -0.2668,  34.9062,2,     -999,9,    300.0,2,     -999,9,     8.01,2,    13.00,2,    -0.01,2,     0.89,2,     -999,9,     -999,9,     -999,9,     -999,9,     -999,9,     -999,9,     -999,9,     -999,     -999,9,     -999,9,     -999,9,     -999,9,  -0.2668,2,     -999,9,     -999,9,     -999,     -999,9,     -999,9,     -999,9,     -999,     -999,9,20150923,2142,   1401.0,  80.4612,-149.0513,     -999,9,     -999,9
33HQ20150809  ,ARC01      ,48      , 12,7          ,    6375,   11844,GSNIS-7    ,2,20150923,2123,  80.4601,-149.0618,     3804,   1776.1,  -0.3835,  34.9298,2,  34.9301,2,    295.8,2,    294.8,2,     9.86,2,    13.70,2,    -0.01,2,     0.95,2,     -999,9,     -999,9,     -999,9,     -999,9,     -999,9,     -999,9,     -999,9,     -999,     -999,9,     -999,9,     -999,9,     -999,9,  -0.3835,2,     -999,9,     -999,9,     -999,     -999,9,     -999,9,     -999,9,     -999,     -999,9,20150923,2132,   1749.9,  80.4606,-149.0569,     -999,9,  35.0948,2
33HQ20150809  ,ARC01      ,48      , 12,8          ,    6375,   11844,GSNIS-8    ,2,20150923,2123,  80.4601,-149.0618,     3804,   1776.2,  -0.3837,  34.9298,2,     -999,9,    295.8,2,     -999,9,     9.86,2,    13.67,2,    -0.01,2,     0.95,2,     -999,9,     -999,9,     -999,9,     -999,9,     -999,9,     -999,9,     -999,9,     -999,     -999,9,     -999,9,     -999,9,     -999,9,  -0.3841,2,     -999,9,     -999,9,     -999,     -999,9,     -999,9,     -999,9,     -999,     -999,9,20150923,2133,   1750.0,  80.4606,-149.0568,     -999,9,     -999,9
33HQ20150809  ,ARC01      ,48      , 12,9          ,    6375,   11844,GSNIS-9    ,2,20150923,2123,  80.4601,-149.0618,     3804,   1776.3,  -0.3835,  34.9298,2,     -999,9,    295.8,2,     -999,9,     9.76,2,    13.66,2,    -0.01,2,     0.95,2,     -999,9,     -999,9,     -999,9,     -999,9,     -999,9,     -999,9,     -999,9,     -999,     -999,9,     -999,9,     -999,9,     -999,9,  -0.3839,2,     -999,9,     -999,9,     -999,     -999,9,     -999,9,     -999,9,     -999,     -999,9,20150923,2133,   1750.0,  80.4606,-149.0567,     -999,9,     -999,9
33HQ20150809  ,ARC01      ,48      , 12,11         ,    6375,   11844,GSNIS-11   ,2,20150923,2123,  80.4601,-149.0618,     3804,   1776.4,  -0.3837,  34.9299,2,     -999,9,    295.8,2,     -999,9,     9.86,2,    13.67,2,    -0.01,2,     0.94,2,     -999,9,     -999,9,     -999,9,     -999,9,     -999,9,     -999,9,     -999,9,     -999,     -999,9,     -999,9,     -999,9,     -999,9,  -0.3838,2,     -999,9,     -999,9,     -999,     -999,9,     -999,9,     -999,9,     -999,     -999,9,20150923,2133,   1750.2,  80.4607,-149.0565,     -999,9,     -999,9
33HQ20150809  ,ARC01      ,48      , 12,10         ,    6375,   11844,GSNIS-10   ,2,20150923,2123,  80.4601,-149.0618,     3804,   1776.4,  -0.3836,  34.9299,2,     -999,9,    295.8,2,     -999,9,     9.86,2,    13.68,2,    -0.01,2,     0.95,2,     -999,9,     -999,9,     -999,9,     -999,9,     -999,9,     -999,9,     -999,9,     -999,     -999,9,     -999,9,     -999,9,     -999,9,  -0.3835,2,     -999,9,     -999,9,     -999,     -999,9,     -999,9,     -999,9,     -999,     -999,9,20150923,2133,   1750.1,  80.4607,-149.0566,     -999,9,     -999,9
33HQ20150809  ,ARC01      ,48      , 12,12         ,    6375,   11844,GSNIS-12   ,2,20150923,2123,  80.4601,-149.0618,     3804,   1776.5,  -0.3838,  34.9299,2,     -999,9,    295.8,2,     -999,9,     9.86,2,    13.67,2,    -0.01,2,     0.94,2,     -999,9,     -999,9,     -999,9,     -999,9,     -999,9,     -999,9,     -999,9,     -999,     -999,9,     -999,9,     -999,9,     -999,9,  -0.3834,2,     -999,9,     -999,9,     -999,     -999,9,     -999,9,     -999,9,     -999,     -999,9,20150923,2133,   1750.2,  80.4607,-149.0563,     -999,9,     -999,9
33HQ20150809  ,ARC01      ,48      , 12,1          ,    6375,   11845,GSNIS-1    ,2,20150923,2123,  80.4601,-149.0618,     3804,   2134.0,  -0.4047,  34.9454,2,  34.9458,2,    290.3,2,    290.3,2,    11.52,2,    14.13,2,    -0.01,2,     0.98,2,     -999,9,     -999,9,     -999,9,     -999,9,     -999,9,     -999,9,     -999,9,     -999,     -999,9,     -999,9,     -999,9,     -999,9,  -0.4051,2,     -999,9,     -999,9,     -999,     -999,9,     -999,9,     -999,9,     -999,     -999,9,20150923,2124,   2100.7,  80.4601,-149.0618,     -999,9,  35.1106,2
33HQ20150809  ,ARC01      ,48      , 12,2          ,    6375,   11845,GSNIS-2    ,2,20150923,2123,  80.4601,-149.0618,     3804,   2134.0,  -0.4046,  34.9454,2,     -999,9,    290.3,2,     -999,9,    11.52,2,    14.13,2,    -0.01,2,     0.98,2,     -999,9,     -999,9,     -999,9,     -999,9,     -999,9,     -999,9,     -999,9,     -999,     -999,9,     -999,9,     -999,9,     -999,9,  -0.4050,2,     -999,9,     -999,9,     -999,     -999,9,     -999,9,     -999,9,     -999,     -999,9,20150923,2124,   2100.7,  80.4601,-149.0617,     -999,9,     -999,9
33HQ20150809  ,ARC01      ,48      , 12,3          ,    6375,   11845,GSNIS-3    ,2,20150923,2123,  80.4601,-149.0618,     3804,   2134.1,  -0.4047,  34.9454,2,     -999,9,    290.3,2,     -999,9,    11.52,2,    14.12,2,     0.00,2,     0.99,2,     -999,9,     -999,9,     -999,9,     -999,9,     -999,9,     -999,9,     -999,9,     -999,     -999,9,     -999,9,     -999,9,     -999,9,  -0.4047,2,     -999,9,     -999,9,     -999,     -999,9,     -999,9,     -999,9,     -999,     -999,9,20150923,2124,   2100.7,  80.4601,-149.0616,     -999,9,     -999,9