BOTTLE,20221220CCHSIOAMB
EXPOCODE,SECT_ID,STNNBR,CASTNO,SAMPNO,GEOTR_EVENT,GEOTR_SAMPNO,BTLNBR,BTLNBR_FLAG_W,DATE,TIME,LATITUDE,LONGITUDE,DEPTH,CTDPRS,CTDTMP,CTDSAL,CTDSAL_FLAG_W,SALNTY,SALNTY_FLAG_W,CTDOXY,CTDOXY_FLAG_W,OXYGEN,OXYGEN_FLAG_W,SILCAT,SILCAT_FLAG_W,NITRAT,NITRAT_FLAG_W,NITRIT,NITRIT_FLAG_W,PHSPHT,PHSPHT_FLAG_W,CFC-11,CFC-11_FLAG_W,CFC-12,CFC-12_FLAG_W,CFC113,CFC113_FLAG_W,SF6,SF6_FLAG_W,TCARBN,TCARBN_FLAG_W,ALKALI,ALKALI_FLAG_W,PH_SWS,PH_SWS_FLAG_W,PH_TMP,DOC,DOC_FLAG_W,TRITUM,TRITUM_FLAG_W,HELIUM,HELIUM_FLAG_W,DELHE3,DELHE3_FLAG_W,REFTMP,REFTMP_FLAG_W,DELC13,DELC13_FLAG_W,DELC14,DELC14_FLAG_W,C14ERR,TDN,TDN_FLAG_W,DELO18,DELO18_FLAG_W,DELO17,DELO17_FLAG_W,CH4,CH4,CH4_FLAG_W,BTL_DATE,BTL_TIME,CTDDEPTH,BTL_LAT,BTL_LON,LAB_DEN,LAB_DEN_FLAG_W,SALTREF,SALTREF_FLAG_W
,,,,,,,,,,,,,METERS,DBAR,ITS-90,PSS-78,,PSS-78,,UMOL/KG,,UMOL/KG,,UMOL/KG,,UMOL/KG,,UMOL/KG,,UMOL/KG,,PMOL/KG,,PMOL/KG,,PMOL/KG,,FMOL/KG,,UMOL/KG,,UMOL/KG,,,,DEG C,UMOL/KG,,TU,,NMOL/KG,,PERCNT,,ITS-90,,/MILLE,,/MILLE,,/MILLE,UMOL/KG,,/MILLE,,/MILLE,,NMOL/KG,NMOL/L,,,,METERS,,,KG/M^3,,G/KG,
33HQ20150809  ,ARC01      ,45      ,  1,36         ,    6327,    -999,GSNIS-36   ,2,20150918,1150,  83.3372,-150.0632,     3084,      3.6,  -1.5273,  28.3338,2,  28.3314,2,    395.7,2,    396.2,2,     2.75,2,     0.01,2,     0.00,2,     0.61,2,    7.056,2,    3.753,2,    0.642,2,    3.648,2,   1917.8,2,   2023.0,2,   7.7033,6,    25.00,     75.9,2,     -999,9,     -999,9,     -999,9,  -1.5268,2,     1.45,6,     -999,1,     -999,     4.17,2,     -999,1,     -999,9,     -999,     -999,9,20150918,1324,      3.5,  83.3363,-150.0290,     -999,9,  28.4650,2
33HQ20150809  ,ARC01      ,45      ,  1,35         ,    6327,    -999,GSNIS-35   ,2,20150918,1150,  83.3372,-150.0632,     3084,     14.7,  -1.5393,  28.3349,2,  28.3329,2,    395.5,2,    394.2,2,     2.65,2,     0.01,2,     0.00,2,     0.62,2,    7.054,2,    3.777,2,    0.636,2,    3.708,2,   1919.6,2,   2021.4,6,   7.7045,2,    25.00,     74.3,2,     -999,9,     -999,9,     -999,9,  -1.5391,2,     -999,9,     -999,9,     -999,     3.03,2,     -999,1,     -999,9,     -999,     -999,9,20150918,1323,     14.6,  83.3363,-150.0296,     -999,9,  28.4665,2
33HQ20150809  ,ARC01      ,45      ,  1,34         ,    6327,    -999,GSNIS-34   ,2,20150918,1150,  83.3372,-150.0632,     3084,     25.3,  -1.5214,  28.4199,2,  28.4529,2,    396.1,2,    396.2,2,     2.84,2,     0.01,2,     0.00,2,     0.62,2,     -999,9,     -999,9,     -999,9,     -999,9,   1933.7,2,   2033.8,2,   7.7016,2,    25.00,     76.5,2,     -999,9,     -999,9,     -999,9,  -1.5290,2,     -999,9,     -999,9,     -999,     3.74,2,     -999,1,     -999,9,     -999,     -999,9,20150918,1321,     25.0,  83.3363,-150.0301,     -999,9,  28.5871,2
33HQ20150809  ,ARC01      ,45      ,  1,33         ,    6327,    -999,GSNIS-33   ,2,20150918,1150,  83.3372,-150.0632,     3084,     45.7,  -1.4592,  29.3226,2,  29.4002,2,    396.4,2,    398.4,2,     2.94,2,     0.06,2,     0.04,2,     0.65,2,    7.142,2,    3.787,2,    0.638,2,    3.536,2,   1987.6,2,   2093.8,2,   7.6990,2,    25.00,     75.3,2,     -999,9,     -999,9,     -999,9,  -1.4591,2,     -999,9,     -999,9,     -999,     4.13,2,     -999,1,     -999,9,     -999,     -999,9,20150918,1320,     45.2,  83.3363,-150.0307,     -999,9,  29.5388,2
33HQ20150809  ,ARC01      ,45      ,  1,32         ,    6327,    -999,GSNIS-32   ,2,20150918,1150,  83.3372,-150.0632,     3084,     65.2,  -1.1309,  31.6353,2,  31.7125,2,    324.3,2,    322.8,2,    15.66,2,     6.49,2,     0.00,2,     1.17,2,     -999,9,     -999,9,     -999,9,     -999,9,   2111.4,2,   2194.0,2,   7.5920,2,    25.00,     65.6,2,     -999,9,     -999,9,     -999,9,  -1.1312,2,     -999,9,     -999,9,     -999,     9.17,2,     -999,1,     -999,9,     -999,     -999,9,20150918,1318,     64.5,  83.3364,-150.0314,     -999,9,  31.8620,2
33HQ20150809  ,ARC01      ,45      ,  1,31         ,    6327,    -999,GSNIS-31   ,2,20150918,1150,  83.3372,-150.0632,     3084,     75.4,  -1.2626,  31.9602,2,  32.0201,2,    306.4,2,    309.5,2,    20.64,2,     8.45,2,     0.00,2,     1.35,2,    6.287,2,    3.415,2,    0.456,2,    3.022,2,   2148.4,2,   2205.7,2,   7.5480,2,    25.00,     65.2,2,     -999,9,     -999,9,     -999,9,  -1.2615,2,     -999,9,     -999,9,     -999,    10.39,2,     -999,1,     -999,9,     -999,     -999,9,20150918,1317,     74.6,  83.3364,-150.0318,     -999,9,  32.1710,2
33HQ20150809  ,ARC01      ,45      ,  1,30         ,    6327,    -999,GSNIS-30   ,2,20150918,1150,  83.3372,-150.0632,     3084,     85.6,  -1.1784,  32.2020,2,  32.2488,2,    299.9,2,    296.7,2,    24.94,2,    10.36,2,     0.00,2,     1.53,2,     -999,9,     -999,9,     -999,9,     -999,9,   2163.2,2,   2221.6,2,   7.5060,2,    25.00,     67.5,2,     -999,9,     -999,9,     -999,9,  -1.1777,2,     -999,9,     -999,9,     -999,    11.89,2,     -999,1,     -999,9,     -999,     -999,9,20150918,1316,     84.7,  83.3364,-150.0323,     -999,9,  32.4009,2
33HQ20150809  ,ARC01      ,45      ,  1,29         ,    6327,    -999,GSNIS-29   ,2,20150918,1150,  83.3372,-150.0632,     3084,     96.0,  -1.2003,  32.4178,2,  32.4584,2,    281.5,2,    282.4,2,    28.75,2,    12.00,2,     0.00,2,     1.66,2,    6.177,2,    3.340,2,    0.441,2,    2.850,2,   2283.6,3,   2232.8,2,   7.4565,2,    25.00,     64.6,2,     -999,9,     -999,9,     -999,9,  -1.2014,2,     -999,9,     -999,9,     -999,    13.37,2,     -999,1,     -999,9,     -999,     -999,9,20150918,1315,     95.0,  83.3364,-150.0328,     -999,9,  32.6114,2
33HQ20150809  ,ARC01      ,45      ,  1,28         ,    6327,    -999,GSNIS-28   ,2,20150918,1150,  83.3372,-150.0632,     3084,    106.0,  -1.3441,  32.6089,2,  32.6789,2,    274.4,2,    271.6,2,    33.15,2,    13.87,2,     0.00,2,     1.79,2,     -999,9,     -999,9,     -999,9,     -999,9,   2223.8,2,   2245.0,2,   7.4153,2,    25.00,     64.9,2,     -999,9,     -999,9,     -999,9,  -1.3445,2,     -999,9,     -999,9,     -999,    14.86,2,     -999,1,     -999,9,     -999,     -999,9,20150918,1314,    104.9,  83.3364,-150.0332,     -999,9,  32.8330,2
33HQ20150809  ,ARC01      ,45      ,  1,27         ,    6327,    -999,GSNIS-27   ,2,20150918,1150,  83.3372,-150.0632,     3084,    119.4,  -1.4660,  32.8576,2,  32.9138,2,    261.2,2,    261.7,2,    39.30,2,    15.31,2,     0.00,2,     1.90,2,    6.106,2,    3.318,2,    0.411,2,    2.751,2,   2241.5,2,   2255.9,2,   7.3834,2,    25.00,     64.5,2,     -999,9,     -999,9,     -999,9,  -1.4656,2,     -999,9,     -999,9,     -999,    15.01,2,     -999,1,     -999,9,     -999,     -999,9,20150918,1312,    118.1,  83.3364,-150.0339,     -999,9,  33.0690,2
33HQ20150809  ,ARC01      ,45      ,  1,26         ,    6327,    -999,GSNIS-26   ,2,20150918,1150,  83.3372,-150.0632,     3084,    135.8,  -1.3580,  33.2527,2,  33.3389,2,    255.4,2,    256.8,2,    34.99,2,    14.86,2,     0.00,2,     1.73,2,     -999,9,     -999,9,     -999,9,     -999,9,   2236.7,2,   2264.5,6,   7.4117,2,    25.00,     64.8,2,     -999,9,     -999,9,     -999,9,  -1.3574,2,     -999,9,     -999,9,     -999,    17.16,2,     -999,1,     -999,9,     -999,     -999,9,20150918,1311,    134.3,  83.3365,-150.0344,     -999,9,  33.4961,2
33HQ20150809  ,ARC01      ,45      ,  1,25         ,    6327,    -999,GSNIS-25   ,2,20150918,1150,  83.3372,-150.0632,     3084,    156.2,  -1.1421,  33.8886,2,  33.9805,2,    270.2,2,    271.0,2,    19.73,2,    11.75,2,     0.00,2,     1.14,2,    5.966,2,    3.034,2,    0.377,2,    1.898,2,   2259.7,3,   2271.2,2,   7.5329,2,    25.00,     62.5,2,     -999,9,     -999,9,     -999,9,  -1.1397,2,     -999,9,     -999,9,     -999,    13.91,2,     -999,1,     -999,9,     -999,     -999,9,20150918,1309,    154.5,  83.3365,-150.0350,     -999,9,  34.1407,2
33HQ20150809  ,ARC01      ,45      ,  1,24         ,    6327,    -999,GSNIS-24   ,2,20150918,1150,  83.3372,-150.0632,     3084,    176.8,  -0.8621,  34.2164,2,  34.2619,2,    281.8,2,    280.7,2,    13.18,2,    10.60,2,     0.00,2,     0.91,2,     -999,9,     -999,9,     -999,9,     -999,9,   2193.5,2,   2278.5,2,   7.5861,2,    25.00,     61.3,2,     -999,9,     -999,9,     -999,9,  -0.8582,2,     -999,9,     -999,9,     -999,    10.89,2,     -999,1,     -999,9,     -999,     -999,9,20150918,1308,    174.8,  83.3365,-150.0356,     -999,9,  34.4235,2
33HQ20150809  ,ARC01      ,45      ,  1,23         ,    6327,    -999,GSNIS-23   ,2,20150918,1150,  83.3372,-150.0632,     3084,    197.2,  -0.4719,  34.3745,2,  34.4024,2,    282.9,2,    283.7,2,    10.64,2,    10.64,2,     0.00,2,     0.86,2,    6.106,2,    3.069,2,    0.406,2,    1.720,2,   2184.9,2,   2280.6,2,   7.6125,2,    25.00,     59.0,2,     -999,9,     -999,9,     -999,9,  -0.4655,2,     -999,9,     -999,9,     -999,    11.65,2,     -999,9,     -999,9,     -999,     -999,9,20150918,1306,    195.0,  83.3365,-150.0362,     -999,9,  34.5646,2
33HQ20150809  ,ARC01      ,45      ,  1,22         ,    6327,    -999,GSNIS-22   ,2,20150918,1150,  83.3372,-150.0632,     3084,    217.6,  -0.0929,  34.5048,2,  34.5206,2,    286.3,2,    286.5,2,     8.89,2,    10.88,2,     0.00,2,     0.82,2,     -999,9,     -999,9,     -999,9,     -999,9,   2179.2,2,   2284.2,2,   7.6371,2,    25.00,     57.9,2,     -999,9,     -999,9,     -999,9,  -0.1026,2,     -999,9,     -999,9,     -999,    13.00,2,     -999,1,     -999,9,     -999,     -999,9,20150918,1305,    215.2,  83.3365,-150.0368,     -999,9,  34.6834,2
33HQ20150809  ,ARC01      ,45      ,  1,21         ,    6327,    -999,GSNIS-21   ,2,20150918,1150,  83.3372,-150.0632,     3084,    238.1,   0.1302,  34.5846,2,  34.6084,2,    289.1,2,    288.8,2,     7.81,2,    11.16,2,     0.00,2,     0.80,2,    5.806,2,    2.905,2,    0.397,2,    1.535,2,     -999,9,   2282.8,2,   7.6609,2,    25.00,     55.0,2,     -999,9,     -999,9,     -999,9,   0.1340,2,     -999,9,     -999,9,     -999,    12.04,2,     -999,9,     -999,9,     -999,     -999,9,20150918,1303,    235.4,  83.3366,-150.0373,     -999,9,  34.7716,2
33HQ20150809  ,ARC01      ,45      ,  1,20         ,    6327,    -999,GSNIS-20   ,2,20150918,1150,  83.3372,-150.0632,     3084,    288.8,   0.5680,  34.7691,2,  34.7691,2,    291.9,2,    292.3,2,     6.64,2,    11.87,2,     0.00,2,     0.82,2,     -999,9,     -999,9,     -999,9,     -999,9,   2162.9,2,   2288.7,2,   7.6946,2,    25.00,     52.5,2,     -999,9,     -999,9,     -999,9,   0.5686,2,     -999,9,     -999,9,     -999,    13.26,2,     -999,1,     -999,9,     -999,     -999,9,20150918,1301,    285.5,  83.3366,-150.0381,     -999,9,  34.9331,2
33HQ20150809  ,ARC01      ,45      ,  1,19         ,    6327,    -999,GSNIS-19   ,2,20150918,1150,  83.3372,-150.0632,     3084,    338.8,   0.6674,  34.7974,2,  34.7974,2,    292.8,2,    293.0,2,     6.64,2,    12.01,2,     0.00,2,     0.82,2,    5.224,2,    2.542,2,    0.359,2,    1.284,2,   2161.2,2,   2290.0,2,   7.7015,2,    25.00,     53.2,2,     -999,9,     -999,9,     -999,9,   0.6681,2,     -999,9,     -999,9,     -999,    12.54,2,     -999,9,     -999,9,     -999,     -999,9,20150918,1300,    335.0,  83.3366,-150.0388,     -999,9,  34.9615,2
33HQ20150809  ,ARC01      ,45      ,  1,18         ,    6327,    -999,GSNIS-18   ,2,20150918,1150,  83.3372,-150.0632,     3084,    389.8,   0.7650,  34.8357,2,  34.8350,2,    293.7,2,    293.8,2,     6.64,2,    12.26,2,     0.00,2,     0.83,2,     -999,9,     -999,9,     -999,9,     -999,9,     -999,9,   2292.5,2,   7.7094,2,    25.00,     51.6,2,     -999,9,     -999,9,     -999,9,   0.7652,2,     -999,9,     -999,9,     -999,    12.28,2,     -999,1,     -999,9,     -999,     -999,9,20150918,1258,    385.2,  83.3366,-150.0396,     -999,9,  34.9993,2
33HQ20150809  ,ARC01      ,45      ,  1,17         ,    6327,    -999,GSNIS-17   ,2,20150918,1150,  83.3372,-150.0632,     3084,    441.1,   0.7753,  34.8492,2,  34.8499,2,    297.1,2,    297.4,2,     6.25,2,    12.11,2,     0.00,2,     0.82,2,    5.180,2,    2.494,2,    0.351,2,    1.215,2,   2160.7,2,   2294.8,2,   7.7049,2,    25.00,     52.0,2,     -999,9,     -999,9,     -999,9,   0.7760,2,     -999,9,     -999,9,     -999,    13.96,2,     -999,9,     -999,9,     -999,     -999,9,20150918,1256,    435.9,  83.3367,-150.0404,     -999,9,  35.0143,2
33HQ20150809  ,ARC01      ,45      ,  1,16         ,    6327,    -999,GSNIS-16   ,2,20150918,1150,  83.3372,-150.0632,     3084,    491.6,   0.6891,  34.8530,2,  34.8525,2,    297.4,2,    296.6,2,     6.64,2,    12.28,2,     0.00,2,     0.83,2,     -999,9,     -999,9,     -999,9,     -999,9,   2159.3,2,   2292.4,2,   7.7064,2,    25.00,     51.6,2,     -999,9,     -999,9,     -999,9,   0.6895,2,     -999,9,     -999,9,     -999,    13.13,2,     -999,1,     -999,9,     -999,     -999,9,20150918,1253,    485.8,  83.3367,-150.0413,     -999,9,  35.0168,2
33HQ20150809  ,ARC01      ,45      ,  1,15         ,    6327,    -999,GSNIS-15   ,2,20150918,1150,  83.3372,-150.0632,     3084,    541.6,   0.5634,  34.8517,2,  34.8515,2,    294.2,2,    294.7,2,     7.03,2,    12.49,2,     0.00,2,     0.84,2,    3.769,2,    1.753,2,    0.194,2,    0.681,2,     -999,9,   2298.4,2,   7.7147,2,    25.00,     51.3,2,     -999,9,     -999,9,     -999,9,   0.5634,2,     -999,9,     -999,9,     -999,    13.81,2,     -999,9,     -999,9,     -999,     -999,9,20150918,1251,    535.1,  83.3367,-150.0422,     -999,9,  35.0158,2
33HQ20150809  ,ARC01      ,45      ,  1,14         ,    6327,    -999,GSNIS-14   ,2,20150918,1150,  83.3372,-150.0632,     3084,    607.7,   0.4637,  34.8606,2,  34.8586,2,    294.8,2,    295.3,2,     7.03,2,    12.52,2,     0.00,2,     0.84,2,    3.568,2,    1.664,2,    0.185,2,    0.654,2,   2159.2,2,   2294.1,2,   7.7144,2,    25.00,     51.4,2,     -999,9,     -999,9,     -999,9,   0.4637,2,     -999,9,     -999,9,     -999,    13.80,2,     -999,9,     -999,9,     -999,     -999,9,20150918,1249,    600.3,  83.3368,-150.0433,     -999,9,  35.0230,2
33HQ20150809  ,ARC01      ,45      ,  1,13         ,    6327,    -999,GSNIS-13   ,2,20150918,1150,  83.3372,-150.0632,     3084,    709.7,   0.3086,  34.8664,2,  34.8653,2,    297.0,2,    297.1,2,     6.93,2,    12.44,2,     0.00,2,     0.85,2,    3.370,2,    1.577,2,    0.180,2,    0.606,2,   2156.0,2,     -999,5,   7.7090,2,    25.00,     52.1,2,     -999,9,     -999,9,     -999,9,   0.3086,2,     -999,9,     -999,9,     -999,    13.51,2,     -999,9,     -999,9,     -999,     -999,9,20150918,1246,    700.9,  83.3368,-150.0444,     -999,9,  35.0297,2
33HQ20150809  ,ARC01      ,45      ,  1,12         ,    6327,    -999,GSNIS-12   ,2,20150918,1150,  83.3372,-150.0632,     3084,    860.1,   0.1084,  34.8761,2,  34.8755,2,    298.4,2,    298.8,2,     7.03,2,    12.52,2,     0.00,2,     0.86,2,    2.570,2,    1.199,2,    0.115,2,    0.315,2,     -999,9,   2295.2,2,   7.7185,2,    25.00,     51.5,2,     -999,9,     -999,9,     -999,9,   0.1084,2,     -999,9,     -999,9,     -999,    14.18,2,     -999,9,     -999,9,     -999,     -999,9,20150918,1242,    849.2,  83.3368,-150.0460,     -999,9,  35.0400,2
33HQ20150809  ,ARC01      ,45      ,  1,11         ,    6327,    -999,GSNIS-11   ,2,20150918,1150,  83.3372,-150.0632,     3084,   1013.1,  -0.0193,  34.8892,2,  34.8889,2,    298.2,2,    298.0,2,     7.42,2,    12.72,2,     0.00,2,     0.88,2,    1.433,2,    0.673,2,    0.055,2,    0.185,2,   2152.4,2,   2295.6,2,   7.7283,2,    25.00,     49.7,2,     -999,9,     -999,9,     -999,9,  -0.0192,2,     -999,9,     -999,9,     -999,    13.51,2,     -999,9,     -999,9,     -999,     -999,9,20150918,1237,    999.9,  83.3369,-150.0475,     -999,9,  35.0534,2
33HQ20150809  ,ARC01      ,45      ,  1,10         ,    6327,    -999,GSNIS-10   ,2,20150918,1150,  83.3372,-150.0632,     3084,   1217.8,  -0.1609,  34.9032,2,  34.9028,2,    298.5,2,    298.3,2,     7.91,2,    12.89,2,     0.00,2,     0.89,2,    0.806,2,    0.380,2,    0.019,2,    0.062,2,   2186.5,4,   2295.3,2,   7.7329,2,    25.00,     48.3,2,     -999,9,     -999,9,     -999,9,  -0.1605,2,     -999,9,     -999,9,     -999,    14.53,2,     -999,9,     -999,9,     -999,     -999,9,20150918,1233,   1201.3,  83.3369,-150.0492,     -999,9,  35.0674,2
33HQ20150809  ,ARC01      ,45      ,  1,9          ,    6327,    -999,GSNIS-9    ,2,20150918,1150,  83.3372,-150.0632,     3084,   1420.1,  -0.2638,  34.9157,2,  34.9154,2,    298.0,2,    297.6,2,     8.69,2,    13.17,2,     0.00,2,     0.92,2,    0.443,2,    0.207,2,    0.008,2,    0.025,2,     -999,9,   2295.0,2,   7.7351,2,    25.00,     48.9,2,     -999,9,     -999,9,     -999,9,  -0.2638,2,     -999,9,     -999,9,     -999,    14.95,2,     -999,9,     -999,9,     -999,     -999,9,20150918,1228,   1400.1,  83.3370,-150.0510,     -999,9,  35.0801,2
33HQ20150809  ,ARC01      ,45      ,  1,8          ,    6327,    -999,GSNIS-8    ,2,20150918,1150,  83.3372,-150.0632,     3084,   1623.4,  -0.3426,  34.9262,2,  34.9256,2,    296.5,2,    296.0,2,     9.66,2,    13.49,2,     0.00,2,     0.93,2,    0.292,2,    0.137,2,    0.004,2,    0.027,2,   2150.6,2,   2297.4,2,   7.7369,2,    25.00,     48.9,2,     -999,9,     -999,9,     -999,9,  -0.3426,2,     -999,9,     -999,9,     -999,    14.44,2,     -999,9,     -999,9,     -999,     -999,9,20150918,1223,   1599.8,  83.3370,-150.0525,     -999,9,  35.0903,2
33HQ20150809  ,ARC01      ,45      ,  1,7          ,    6327,    -999,GSNIS-7    ,2,20150918,1150,  83.3372,-150.0632,     3084,   1828.0,  -0.3916,  34.9364,2,  34.9361,2,    293.1,2,    293.0,2,    10.84,2,    13.81,2,     0.00,2,     0.98,2,    0.198,2,    0.093,2,    0.002,2,   -9.000,3,   2152.6,2,   2295.6,2,   7.7359,2,    25.00,     46.4,2,     -999,9,     -999,9,     -999,9,  -0.3915,2,     -999,9,     -999,9,     -999,    13.79,2,     -999,9,     -999,9,     -999,     -999,9,20150918,1219,   1800.6,  83.3370,-150.0542,     -999,9,  35.1008,2
33HQ20150809  ,ARC01      ,45      ,  1,6          ,    6327,    -999,GSNIS-6    ,2,20150918,1150,  83.3372,-150.0632,     3084,   2031.5,  -0.4059,  34.9441,2,  34.9445,2,    289.9,2,    290.4,2,    12.01,2,    14.02,2,     0.00,2,     0.99,2,    0.127,2,    0.055,2,    0.001,2,    0.000,2,     -999,9,   2295.6,2,   7.7370,2,    25.00,     46.9,2,     -999,9,     -999,9,     -999,9,  -0.4060,2,     -999,9,     -999,9,     -999,    15.03,2,     -999,9,     -999,9,     -999,     -999,9,20150918,1214,   2000.1,  83.3371,-150.0557,     -999,9,  35.1093,2
33HQ20150809  ,ARC01      ,45      ,  1,5          ,    6327,    -999,GSNIS-5    ,2,20150918,1150,  83.3372,-150.0632,     3084,   2235.4,  -0.3998,  34.9496,2,  34.9534,4,    288.3,2,    288.2,2,    12.49,2,    14.22,2,     0.00,2,     1.00,2,    0.064,2,    0.032,2,    0.001,2,    0.000,2,   2153.4,2,   2298.1,2,   7.7363,2,    25.00,     47.4,2,     -999,9,     -999,9,     -999,9,  -0.3999,2,     -999,9,     -999,9,     -999,    14.71,2,     -999,9,     -999,9,     -999,     -999,9,20150918,1210,   2199.8,  83.3371,-150.0572,     -999,9,  35.1182,4
33HQ20150809  ,ARC01      ,45      ,  1,4          ,    6327,    -999,GSNIS-4    ,2,20150918,1150,  83.3372,-150.0632,     3084,   2440.2,  -0.3779,  34.9540,2,  34.9538,2,    285.2,2,    285.5,2,    13.18,2,    14.36,2,     0.00,2,     1.01,2,    0.025,2,    0.013,2,    0.000,2,    0.000,2,   2159.8,6,   2301.4,2,   7.7330,2,    25.00,     46.5,2,     -999,9,     -999,9,     -999,9,  -0.3779,2,     -999,9,     -999,9,     -999,    15.74,2,     -999,9,     -999,9,     -999,     -999,9,20150918,1205,   2400.2,  83.3371,-150.0587,     -999,9,  35.1186,2