BOTTLE,20221220CCHSIOAMB
EXPOCODE,SECT_ID,STNNBR,CASTNO,SAMPNO,GEOTR_EVENT,GEOTR_SAMPNO,BTLNBR,BTLNBR_FLAG_W,DATE,TIME,LATITUDE,LONGITUDE,DEPTH,CTDPRS,CTDTMP,CTDSAL,CTDSAL_FLAG_W,SALNTY,SALNTY_FLAG_W,CTDOXY,CTDOXY_FLAG_W,OXYGEN,OXYGEN_FLAG_W,SILCAT,SILCAT_FLAG_W,NITRAT,NITRAT_FLAG_W,NITRIT,NITRIT_FLAG_W,PHSPHT,PHSPHT_FLAG_W,CFC-11,CFC-11_FLAG_W,CFC-12,CFC-12_FLAG_W,CFC113,CFC113_FLAG_W,SF6,SF6_FLAG_W,TCARBN,TCARBN_FLAG_W,ALKALI,ALKALI_FLAG_W,PH_SWS,PH_SWS_FLAG_W,PH_TMP,DOC,DOC_FLAG_W,TRITUM,TRITUM_FLAG_W,HELIUM,HELIUM_FLAG_W,DELHE3,DELHE3_FLAG_W,REFTMP,REFTMP_FLAG_W,DELC13,DELC13_FLAG_W,DELC14,DELC14_FLAG_W,C14ERR,TDN,TDN_FLAG_W,DELO18,DELO18_FLAG_W,DELO17,DELO17_FLAG_W,CH4,CH4,CH4_FLAG_W,BTL_DATE,BTL_TIME,CTDDEPTH,BTL_LAT,BTL_LON,LAB_DEN,LAB_DEN_FLAG_W,SALTREF,SALTREF_FLAG_W
,,,,,,,,,,,,,METERS,DBAR,ITS-90,PSS-78,,PSS-78,,UMOL/KG,,UMOL/KG,,UMOL/KG,,UMOL/KG,,UMOL/KG,,UMOL/KG,,PMOL/KG,,PMOL/KG,,PMOL/KG,,FMOL/KG,,UMOL/KG,,UMOL/KG,,,,DEG C,UMOL/KG,,TU,,NMOL/KG,,PERCNT,,ITS-90,,/MILLE,,/MILLE,,/MILLE,UMOL/KG,,/MILLE,,/MILLE,,NMOL/KG,NMOL/L,,,,METERS,,,KG/M^3,,G/KG,
33HQ20150809  ,ARC01      ,61      ,  4,31         ,    6470,   12277,GSNIS-29   ,2,20151005,2303,  72.8097,-159.8025,       82,      4.5,   0.1924,  30.3561,2,     -999,9,    358.3,2,     -999,9,     5.97,2,     0.20,2,     0.01,2,     0.55,2,     -999,9,     -999,9,     -999,9,     -999,9,     -999,9,     -999,9,     -999,9,     -999,     -999,9,     -999,9,     -999,9,     -999,9,   0.1906,2,     -999,9,     -999,9,     -999,     -999,9,     -999,9,     -999,9,     -999,     -999,9,20151005,2318,      4.5,  72.8141,-159.8163,     -999,9,     -999,9
33HQ20150809  ,ARC01      ,61      ,  4,30         ,    6470,   12277,GSNIS-28   ,2,20151005,2303,  72.8097,-159.8025,       82,      4.7,   0.1925,  30.3563,2,     -999,9,    358.3,2,     -999,9,     6.07,2,     0.17,2,     0.01,2,     0.55,2,     -999,9,     -999,9,     -999,9,     -999,9,     -999,9,     -999,9,     -999,9,     -999,     -999,9,     -999,9,     -999,9,     -999,9,   0.1909,2,     -999,9,     -999,9,     -999,     -999,9,     -999,9,     -999,9,     -999,     -999,9,20151005,2318,      4.6,  72.8140,-159.8161,     -999,9,     -999,9
33HQ20150809  ,ARC01      ,61      ,  4,29         ,    6470,   12277,GSNIS-27   ,2,20151005,2303,  72.8097,-159.8025,       82,      4.8,   0.1929,  30.3566,2,  30.3514,2,    358.3,2,    358.3,2,     6.07,2,     0.16,2,     0.01,2,     0.55,2,    5.906,2,    3.228,2,    0.544,2,    3.029,2,   1974.7,2,   2109.0,2,   7.7640,2,    25.00,     66.5,2,     -999,1,     -999,1,     -999,1,   0.1825,2,     -999,9,     -999,1,     -999,     4.25,2,     -999,1,     -999,9,     -999,     -999,1,20151005,2318,      4.7,  72.8140,-159.8160,     -999,9,  30.4945,2
33HQ20150809  ,ARC01      ,61      ,  4,34         ,    6470,   12277,GSNIS-32   ,2,20151005,2303,  72.8097,-159.8025,       82,      4.8,   0.1927,  30.3558,2,     -999,9,    358.3,2,     -999,9,     6.07,2,     0.17,2,     0.01,2,     0.54,2,     -999,9,     -999,9,     -999,9,     -999,9,     -999,9,     -999,9,     -999,9,     -999,     -999,9,     -999,9,     -999,9,     -999,9,   0.1926,2,     -999,9,     -999,9,     -999,     -999,9,     -999,9,     -999,9,     -999,     -999,9,20151005,2319,      4.7,  72.8142,-159.8167,     -999,9,     -999,9
33HQ20150809  ,ARC01      ,61      ,  4,33         ,    6470,   12277,GSNIS-31   ,2,20151005,2303,  72.8097,-159.8025,       82,      4.8,   0.1925,  30.3565,2,     -999,9,    358.3,2,     -999,9,     6.07,2,     0.17,2,     0.01,2,     0.54,2,     -999,9,     -999,9,     -999,9,     -999,9,     -999,9,     -999,9,     -999,9,     -999,     -999,9,     -999,9,     -999,9,     -999,9,   0.1926,2,     -999,9,     -999,9,     -999,     -999,9,     -999,9,     -999,9,     -999,     -999,9,20151005,2319,      4.8,  72.8142,-159.8166,     -999,9,     -999,9
33HQ20150809  ,ARC01      ,61      ,  4,35         ,    6470,   12277,GSNIS-33   ,2,20151005,2303,  72.8097,-159.8025,       82,      4.8,   0.1928,  30.3562,2,     -999,9,    358.3,2,     -999,9,     6.07,2,     0.16,2,     0.02,2,     0.53,2,     -999,9,     -999,9,     -999,9,     -999,9,     -999,9,     -999,9,     -999,9,     -999,     -999,9,     -999,9,     -999,9,     -999,9,   0.1926,2,     -999,9,     -999,9,     -999,     -999,9,     -999,9,     -999,9,     -999,     -999,9,20151005,2319,      4.8,  72.8143,-159.8168,     -999,9,     -999,9
33HQ20150809  ,ARC01      ,61      ,  4,32         ,    6470,   12277,GSNIS-30   ,2,20151005,2303,  72.8097,-159.8025,       82,      5.1,   0.1905,  30.3553,2,     -999,9,    358.3,2,     -999,9,     5.97,2,     0.19,2,     0.02,2,     0.55,2,     -999,9,     -999,9,     -999,9,     -999,9,     -999,9,     -999,9,     -999,9,     -999,     -999,9,     -999,9,     -999,9,     -999,9,   0.1904,2,     -999,9,     -999,9,     -999,     -999,9,     -999,9,     -999,9,     -999,     -999,9,20151005,2319,      5.0,  72.8141,-159.8164,     -999,9,     -999,9
33HQ20150809  ,ARC01      ,61      ,  4,28         ,    6470,   12282,GSNIS-26   ,2,20151005,2303,  72.8097,-159.8025,       82,     16.9,   0.8755,  31.0291,2,     -999,9,    375.0,2,     -999,9,     6.95,2,     0.23,2,     0.03,2,     0.58,2,     -999,9,     -999,9,     -999,9,     -999,9,     -999,9,     -999,9,     -999,9,     -999,     -999,9,     -999,9,     -999,9,     -999,9,   0.8470,2,     -999,9,     -999,9,     -999,     -999,9,     -999,9,     -999,9,     -999,     -999,9,20151005,2316,     16.7,  72.8133,-159.8141,     -999,9,     -999,9
33HQ20150809  ,ARC01      ,61      ,  4,23         ,    6470,   12278,GSNIS-21   ,2,20151005,2303,  72.8097,-159.8025,       82,     20.5,   0.4417,  31.0880,2,  31.0935,2,    353.2,2,    353.7,2,     8.03,2,     0.46,2,     0.02,2,     0.60,2,    5.819,2,    3.184,2,    0.542,2,    2.974,2,   2003.4,2,   2146.4,2,   7.7824,2,    25.00,     67.2,2,     -999,1,     -999,1,     -999,1,   0.4418,2,     -999,9,     -999,1,     -999,     4.88,2,     -999,1,     -999,9,     -999,     -999,1,20151005,2314,     20.3,  72.8128,-159.8123,     -999,9,  31.2401,2
33HQ20150809  ,ARC01      ,61      ,  4,26         ,    6470,   12278,GSNIS-24   ,2,20151005,2303,  72.8097,-159.8025,       82,     20.6,   0.4448,  31.0876,2,     -999,9,    353.2,2,     -999,9,     8.03,2,     0.45,2,     0.02,2,     0.60,2,     -999,9,     -999,9,     -999,9,     -999,9,     -999,9,     -999,9,     -999,9,     -999,     -999,9,     -999,9,     -999,9,     -999,9,   0.4448,2,     -999,9,     -999,9,     -999,     -999,9,     -999,9,     -999,9,     -999,     -999,9,20151005,2314,     20.4,  72.8130,-159.8128,     -999,9,     -999,9
33HQ20150809  ,ARC01      ,61      ,  4,25         ,    6470,   12278,GSNIS-23   ,2,20151005,2303,  72.8097,-159.8025,       82,     20.6,   0.4444,  31.0877,2,     -999,9,    353.2,2,     -999,9,     8.12,2,     0.46,2,     0.02,2,     0.59,2,     -999,9,     -999,9,     -999,9,     -999,9,     -999,9,     -999,9,     -999,9,     -999,     -999,9,     -999,9,     -999,9,     -999,9,   0.4441,2,     -999,9,     -999,9,     -999,     -999,9,     -999,9,     -999,9,     -999,     -999,9,20151005,2314,     20.4,  72.8129,-159.8126,     -999,9,     -999,9
33HQ20150809  ,ARC01      ,61      ,  4,24         ,    6470,   12278,GSNIS-22   ,2,20151005,2303,  72.8097,-159.8025,       82,     20.7,   0.4429,  31.0879,2,     -999,9,    353.2,2,     -999,9,     8.12,2,     0.44,2,     0.02,2,     0.59,2,     -999,9,     -999,9,     -999,9,     -999,9,     -999,9,     -999,9,     -999,9,     -999,     -999,9,     -999,9,     -999,9,     -999,9,   0.4419,2,     -999,9,     -999,9,     -999,     -999,9,     -999,9,     -999,9,     -999,     -999,9,20151005,2314,     20.5,  72.8128,-159.8124,     -999,9,     -999,9
33HQ20150809  ,ARC01      ,61      ,  4,27         ,    6470,   12278,GSNIS-25   ,2,20151005,2303,  72.8097,-159.8025,       82,     20.7,   0.4473,  31.0870,2,     -999,9,    353.2,2,     -999,9,     8.22,2,     0.53,2,     0.02,2,     0.60,2,     -999,9,     -999,9,     -999,9,     -999,9,     -999,9,     -999,9,     -999,9,     -999,     -999,9,     -999,9,     -999,9,     -999,9,   0.4474,2,     1.55,2,     -999,9,     -999,     -999,9,     -999,9,     -999,9,     -999,     -999,9,20151005,2315,     20.5,  72.8130,-159.8130,     -999,9,     -999,9
33HQ20150809  ,ARC01      ,61      ,  4,21         ,    6470,   12279,GSNIS-19   ,2,20151005,2303,  72.8097,-159.8025,       82,     41.1,  -1.4097,  32.3572,2,     -999,9,    305.3,2,     -999,9,    28.36,2,    12.24,2,     0.11,2,     1.64,2,     -999,9,     -999,9,     -999,9,     -999,9,     -999,9,     -999,9,     -999,9,     -999,     -999,9,     -999,9,     -999,9,     -999,9,  -1.4034,2,     1.55,2,     -999,9,     -999,     -999,9,     -999,9,     -999,9,     -999,     -999,9,20151005,2312,     40.6,  72.8122,-159.8105,     -999,9,     -999,9
33HQ20150809  ,ARC01      ,61      ,  4,22         ,    6470,   12279,GSNIS-20   ,2,20151005,2303,  72.8097,-159.8025,       82,     41.1,  -1.4174,  32.3614,2,  32.3148,2,    305.3,2,    306.0,2,    28.16,2,    12.43,2,     0.11,2,     1.65,2,    6.051,2,    3.319,2,    0.548,2,    3.016,2,   2166.4,2,   2216.8,2,   7.4832,2,    25.00,     65.3,2,     -999,1,     -999,1,     -999,1,  -1.4102,2,     -999,9,     -999,1,     -999,    17.88,2,     -999,1,     -999,9,     -999,     -999,1,20151005,2312,     40.7,  72.8123,-159.8106,     -999,9,  32.4672,2
33HQ20150809  ,ARC01      ,61      ,  4,18         ,    6470,   12283,GSNIS-16   ,2,20151005,2303,  72.8097,-159.8025,       82,     48.1,  -1.6594,  32.6192,2,  32.6226,2,    248.5,2,     -999,9,    58.37,2,    17.13,2,     0.14,2,     2.27,2,     -999,9,     -999,9,     -999,9,     -999,9,     -999,9,     -999,9,     -999,9,     -999,     -999,9,     -999,9,     -999,9,     -999,9,  -1.6584,2,     -999,9,     -999,9,     -999,     -999,9,     -999,9,     -999,9,     -999,     -999,9,20151005,2310,     47.6,  72.8118,-159.8091,     -999,9,  32.7764,2
33HQ20150809  ,ARC01      ,61      ,  4,19         ,    6470,   12283,GSNIS-17   ,2,20151005,2303,  72.8097,-159.8025,       82,     48.1,  -1.6624,  32.6175,2,     -999,9,    248.5,2,     -999,9,    58.37,2,    17.13,2,     0.14,2,     2.26,2,     -999,9,     -999,9,     -999,9,     -999,9,     -999,9,     -999,9,     -999,9,     -999,     -999,9,     -999,9,     -999,9,     -999,9,  -1.6603,2,     -999,9,     -999,9,     -999,     -999,9,     -999,9,     -999,9,     -999,     -999,9,20151005,2310,     47.6,  72.8118,-159.8093,     -999,9,     -999,9
33HQ20150809  ,ARC01      ,61      ,  4,20         ,    6470,   12283,GSNIS-18   ,2,20151005,2303,  72.8097,-159.8025,       82,     48.2,  -1.6619,  32.6183,2,     -999,9,    248.5,2,     -999,9,    58.37,2,    17.11,2,     0.14,2,     2.24,2,     -999,9,     -999,9,     -999,9,     -999,9,     -999,9,     -999,9,     -999,9,     -999,     -999,9,     -999,9,     -999,9,     -999,9,  -1.6616,2,     0.16,2,     -999,9,     -999,     -999,9,     -999,9,     -999,9,     -999,     -999,9,20151005,2311,     47.7,  72.8119,-159.8094,     -999,9,     -999,9
33HQ20150809  ,ARC01      ,61      ,  4,13         ,    6470,   12280,GSNIS-11   ,2,20151005,2303,  72.8097,-159.8025,       82,     56.1,  -1.6540,  32.6201,2,     -999,9,    218.6,2,     -999,9,    58.27,2,    17.00,2,     0.14,2,     2.28,2,     -999,9,     -999,9,     -999,9,     -999,9,     -999,9,     -999,9,     -999,9,     -999,     -999,9,     -999,9,     -999,9,     -999,9,  -1.6536,2,     -999,9,     -999,9,     -999,     -999,9,     -999,9,     -999,9,     -999,     -999,9,20151005,2308,     55.5,  72.8113,-159.8073,     -999,9,     -999,9
33HQ20150809  ,ARC01      ,61      ,  4,14         ,    6470,   12280,GSNIS-12   ,2,20151005,2303,  72.8097,-159.8025,       82,     56.2,  -1.6539,  32.6202,2,     -999,9,    218.6,2,     -999,9,    58.27,2,    17.04,2,     0.14,2,     2.31,2,     -999,9,     -999,9,     -999,9,     -999,9,     -999,9,     -999,9,     -999,9,     -999,     -999,9,     -999,9,     -999,9,     -999,9,  -1.6538,2,     -999,9,     -999,9,     -999,     -999,9,     -999,9,     -999,9,     -999,     -999,9,20151005,2309,     55.6,  72.8113,-159.8074,     -999,9,     -999,9
33HQ20150809  ,ARC01      ,61      ,  4,12         ,    6470,   12280,GSNIS-10   ,2,20151005,2303,  72.8097,-159.8025,       82,     56.2,  -1.6540,  32.6202,2,  32.6185,2,    218.6,2,    220.0,2,    58.17,2,    17.03,2,     0.13,2,     2.28,2,    5.702,2,    3.321,2,    0.535,2,    3.054,2,   2250.6,2,   2222.8,2,   7.2293,2,    25.00,     62.2,2,     -999,1,     -999,1,     -999,1,  -1.6537,2,     -999,9,     -999,1,     -999,    24.55,2,     -999,1,     -999,9,     -999,     -999,1,20151005,2308,     55.6,  72.8112,-159.8072,     -999,9,  32.7723,2
33HQ20150809  ,ARC01      ,61      ,  4,15         ,    6470,   12280,GSNIS-13   ,2,20151005,2303,  72.8097,-159.8025,       82,     56.2,  -1.6538,  32.6203,2,     -999,9,    218.6,2,     -999,9,    58.17,2,    16.99,2,     0.14,2,     2.29,2,     -999,9,     -999,9,     -999,9,     -999,9,     -999,9,     -999,9,     -999,9,     -999,     -999,9,     -999,9,     -999,9,     -999,9,  -1.6534,2,     -999,9,     -999,9,     -999,     -999,9,     -999,9,     -999,9,     -999,     -999,9,20151005,2309,     55.6,  72.8113,-159.8076,     -999,9,     -999,9
33HQ20150809  ,ARC01      ,61      ,  4,17         ,    6470,   12280,GSNIS-15   ,2,20151005,2303,  72.8097,-159.8025,       82,     56.3,  -1.6538,  32.6201,2,     -999,9,    218.6,2,     -999,9,    58.27,2,    17.03,2,     0.14,2,     2.29,2,     -999,9,     -999,9,     -999,9,     -999,9,     -999,9,     -999,9,     -999,9,     -999,     -999,9,     -999,9,     -999,9,     -999,9,  -1.6536,2,     -999,9,     -999,9,     -999,     -999,9,     -999,9,     -999,9,     -999,     -999,9,20151005,2309,     55.7,  72.8114,-159.8079,     -999,9,     -999,9
33HQ20150809  ,ARC01      ,61      ,  4,16         ,    6470,   12280,GSNIS-14   ,2,20151005,2303,  72.8097,-159.8025,       82,     56.4,  -1.6538,  32.6202,2,     -999,9,    218.6,2,     -999,9,    58.27,2,    17.02,2,     0.13,2,     2.28,2,     -999,9,     -999,9,     -999,9,     -999,9,     -999,9,     -999,9,     -999,9,     -999,     -999,9,     -999,9,     -999,9,     -999,9,  -1.6535,2,     -999,9,     -999,9,     -999,     -999,9,     -999,9,     -999,9,     -999,     -999,9,20151005,2309,     55.8,  72.8114,-159.8077,     -999,9,     -999,9
33HQ20150809  ,ARC01      ,61      ,  4,9          ,    6470,   12284,GSNIS-7    ,2,20151005,2303,  72.8097,-159.8025,       82,     68.7,  -1.6527,  32.6204,2,  32.6183,2,    219.3,2,     -999,9,    58.37,2,    17.01,2,     0.14,2,     2.29,2,     -999,9,     -999,9,     -999,9,     -999,9,     -999,9,     -999,9,     -999,9,     -999,     -999,9,     -999,9,     -999,9,     -999,9,  -1.6525,2,     -999,9,     -999,9,     -999,     -999,9,     -999,9,     -999,9,     -999,     -999,9,20151005,2306,     68.0,  72.8105,-159.8049,     -999,9,  32.7722,2
33HQ20150809  ,ARC01      ,61      ,  4,10         ,    6470,   12284,GSNIS-8    ,2,20151005,2303,  72.8097,-159.8025,       82,     68.8,  -1.6528,  32.6204,2,     -999,9,    219.3,2,     -999,9,    58.37,2,    16.98,2,     0.14,2,     2.29,2,     -999,9,     -999,9,     -999,9,     -999,9,     -999,9,     -999,9,     -999,9,     -999,     -999,9,     -999,9,     -999,9,     -999,9,  -1.6522,2,    -0.60,2,     -999,9,     -999,     -999,9,     -999,9,     -999,9,     -999,     -999,9,20151005,2306,     68.1,  72.8106,-159.8051,     -999,9,     -999,9
33HQ20150809  ,ARC01      ,61      ,  4,11         ,    6470,   12284,GSNIS-9    ,2,20151005,2303,  72.8097,-159.8025,       82,     68.9,  -1.6535,  32.6204,2,     -999,9,    219.3,2,     -999,9,    58.17,2,    17.01,2,     0.14,2,     2.30,2,     -999,9,     -999,9,     -999,9,     -999,9,     -999,9,     -999,9,     -999,9,     -999,     -999,9,     -999,9,     -999,9,     -999,9,  -1.6531,2,     -999,9,     -999,9,     -999,     -999,9,     -999,9,     -999,9,     -999,     -999,9,20151005,2306,     68.2,  72.8106,-159.8052,     -999,9,     -999,9
33HQ20150809  ,ARC01      ,61      ,  4,8          ,    6470,   12281,GSNIS-6    ,2,20151005,2303,  72.8097,-159.8025,       82,     73.7,  -1.6523,  32.6204,2,     -999,9,    218.8,2,     -999,9,    58.37,2,    17.03,2,     0.14,2,     2.30,2,     -999,9,     -999,9,     -999,9,     -999,9,     -999,9,     -999,9,     -999,9,     -999,     -999,9,     -999,9,     -999,9,     -999,9,  -1.6523,2,     -999,9,     -999,9,     -999,     -999,9,     -999,9,     -999,9,     -999,     -999,9,20151005,2305,     73.0,  72.8101,-159.8039,     -999,9,     -999,9
33HQ20150809  ,ARC01      ,61      ,  4,1          ,    6470,    -999,GSNIS-1    ,9,20151005,2303,  72.8097,-159.8025,       82,     73.8,  -1.6526,  32.6207,2,     -999,9,    218.8,2,     -999,9,     -999,9,     -999,9,     -999,9,     -999,9,     -999,9,     -999,9,     -999,9,     -999,9,     -999,9,     -999,9,     -999,9,     -999,     -999,9,     -999,9,     -999,9,     -999,9,  -1.6523,2,    -0.57,2,     -999,9,     -999,     -999,9,     -999,9,     -999,9,     -999,     -999,9,20151005,2303,     73.0,  72.8098,-159.8029,     -999,9,     -999,9
33HQ20150809  ,ARC01      ,61      ,  4,6          ,    6470,   12281,GSNIS-4    ,2,20151005,2303,  72.8097,-159.8025,       82,     73.8,  -1.6520,  32.6203,2,     -999,9,    218.8,2,     -999,9,    58.17,2,    17.07,2,     0.15,2,     2.34,2,     -999,9,     -999,9,     -999,9,     -999,9,     -999,9,     -999,9,     -999,9,     -999,     -999,9,     -999,9,     -999,9,     -999,9,  -1.6518,2,     -999,9,     -999,9,     -999,     -999,9,     -999,9,     -999,9,     -999,     -999,9,20151005,2304,     73.0,  72.8100,-159.8035,     -999,9,     -999,9
33HQ20150809  ,ARC01      ,61      ,  4,7          ,    6470,   12281,GSNIS-5    ,2,20151005,2303,  72.8097,-159.8025,       82,     73.8,  -1.6522,  32.6204,2,     -999,9,    218.8,2,     -999,9,    58.17,2,    17.00,2,     0.14,2,     2.33,2,     -999,9,     -999,9,     -999,9,     -999,9,     -999,9,     -999,9,     -999,9,     -999,     -999,9,     -999,9,     -999,9,     -999,9,  -1.6522,2,     -999,9,     -999,9,     -999,     -999,9,     -999,9,     -999,9,     -999,     -999,9,20151005,2304,     73.1,  72.8101,-159.8037,     -999,9,     -999,9
33HQ20150809  ,ARC01      ,61      ,  4,5          ,    6470,   12281,GSNIS-3    ,2,20151005,2303,  72.8097,-159.8025,       82,     73.8,  -1.6522,  32.6205,2,     -999,9,    218.8,2,     -999,9,    58.27,2,    16.99,2,     0.14,2,     2.31,2,     -999,9,     -999,9,     -999,9,     -999,9,     -999,9,     -999,9,     -999,9,     -999,     -999,9,     -999,9,     -999,9,     -999,9,  -1.6520,2,     -999,9,     -999,9,     -999,     -999,9,     -999,9,     -999,9,     -999,     -999,9,20151005,2304,     73.1,  72.8100,-159.8034,     -999,9,     -999,9
33HQ20150809  ,ARC01      ,61      ,  4,4          ,    6470,   12281,GSNIS-2    ,2,20151005,2303,  72.8097,-159.8025,       82,     73.8,  -1.6523,  32.6205,2,     -999,9,    218.8,2,     -999,9,    58.27,2,    17.02,2,     0.14,2,     2.30,2,     -999,9,     -999,9,     -999,9,     -999,9,     -999,9,     -999,9,     -999,9,     -999,     -999,9,     -999,9,     -999,9,     -999,9,  -1.6521,2,     -999,9,     -999,9,     -999,     -999,9,     -999,9,     -999,9,     -999,     -999,9,20151005,2304,     73.1,  72.8100,-159.8033,     -999,9,     -999,9