BOTTLE,20221220CCHSIOAMB
EXPOCODE,SECT_ID,STNNBR,CASTNO,SAMPNO,GEOTR_EVENT,GEOTR_SAMPNO,BTLNBR,BTLNBR_FLAG_W,DATE,TIME,LATITUDE,LONGITUDE,DEPTH,CTDPRS,CTDTMP,CTDSAL,CTDSAL_FLAG_W,SALNTY,SALNTY_FLAG_W,CTDOXY,CTDOXY_FLAG_W,OXYGEN,OXYGEN_FLAG_W,SILCAT,SILCAT_FLAG_W,NITRAT,NITRAT_FLAG_W,NITRIT,NITRIT_FLAG_W,PHSPHT,PHSPHT_FLAG_W,CFC-11,CFC-11_FLAG_W,CFC-12,CFC-12_FLAG_W,CFC113,CFC113_FLAG_W,SF6,SF6_FLAG_W,TCARBN,TCARBN_FLAG_W,ALKALI,ALKALI_FLAG_W,PH_SWS,PH_SWS_FLAG_W,PH_TMP,DOC,DOC_FLAG_W,TRITUM,TRITUM_FLAG_W,HELIUM,HELIUM_FLAG_W,DELHE3,DELHE3_FLAG_W,REFTMP,REFTMP_FLAG_W,DELC13,DELC13_FLAG_W,DELC14,DELC14_FLAG_W,C14ERR,TDN,TDN_FLAG_W,DELO18,DELO18_FLAG_W,DELO17,DELO17_FLAG_W,CH4,CH4,CH4_FLAG_W,BTL_DATE,BTL_TIME,CTDDEPTH,BTL_LAT,BTL_LON,LAB_DEN,LAB_DEN_FLAG_W,SALTREF,SALTREF_FLAG_W
,,,,,,,,,,,,,METERS,DBAR,ITS-90,PSS-78,,PSS-78,,UMOL/KG,,UMOL/KG,,UMOL/KG,,UMOL/KG,,UMOL/KG,,UMOL/KG,,PMOL/KG,,PMOL/KG,,PMOL/KG,,FMOL/KG,,UMOL/KG,,UMOL/KG,,,,DEG C,UMOL/KG,,TU,,NMOL/KG,,PERCNT,,ITS-90,,/MILLE,,/MILLE,,/MILLE,UMOL/KG,,/MILLE,,/MILLE,,NMOL/KG,NMOL/L,,,,METERS,,,KG/M^3,,G/KG,
33HQ20150809  ,ARC01      ,43      ,  7,36         ,    6301,   11567,GSNIS-36   ,2,20150916,0338,  85.1405,-149.8725,     2190,    333.7,   0.8672,  34.8470,2,     -999,9,    293.4,2,     -999,9,     6.15,2,    11.80,2,     0.00,2,     0.82,2,     -999,9,     -999,9,     -999,9,     -999,9,     -999,9,     -999,9,     -999,9,     -999,     -999,9,     -999,9,     -999,9,     -999,9,   0.8681,2,     -999,9,     -999,9,     -999,     -999,9,     -999,9,     -999,9,     -999,     -999,9,20150916,0424,    329.9,  85.1405,-149.8725,     -999,9,     -999,9
33HQ20150809  ,ARC01      ,43      ,  7,35         ,    6301,   11567,GSNIS-35   ,2,20150916,0338,  85.1405,-149.8725,     2190,    333.7,   0.8672,  34.8472,2,     -999,9,    293.4,2,     -999,9,     6.05,2,    11.77,2,     0.00,2,     0.81,2,     -999,9,     -999,9,     -999,9,     -999,9,     -999,9,     -999,9,     -999,9,     -999,     -999,9,     -999,9,     -999,9,     -999,9,   0.8680,2,     -999,9,     -999,9,     -999,     -999,9,     -999,9,     -999,9,     -999,     -999,9,20150916,0424,    329.9,  85.1405,-149.8725,     -999,9,     -999,9
33HQ20150809  ,ARC01      ,43      ,  7,34         ,    6301,   11567,GSNIS-34   ,2,20150916,0338,  85.1405,-149.8725,     2190,    333.7,   0.8676,  34.8470,2,     -999,9,    293.4,2,     -999,9,     6.15,2,    11.78,2,     0.00,2,     0.80,2,     -999,9,     -999,9,     -999,9,     -999,9,     -999,9,     -999,9,     -999,9,     -999,     -999,9,     -999,9,     -999,9,     -999,9,   0.8676,2,     -999,9,     -999,9,     -999,     -999,9,     -999,9,     -999,9,     -999,     -999,9,20150916,0424,    329.9,  85.1405,-149.8725,     -999,9,     -999,9
33HQ20150809  ,ARC01      ,43      ,  7,33         ,    6301,   11567,GSNIS-33   ,2,20150916,0338,  85.1405,-149.8725,     2190,    333.7,   0.8678,  34.8470,2,     -999,9,    293.4,2,     -999,9,     6.15,2,    11.78,2,     0.00,2,     0.80,2,     -999,9,     -999,9,     -999,9,     -999,9,     -999,9,     -999,9,     -999,9,     -999,     -999,9,     -999,9,     -999,9,     -999,9,   0.8675,2,     -999,9,     -999,9,     -999,     -999,9,     -999,9,     -999,9,     -999,     -999,9,20150916,0424,    329.9,  85.1405,-149.8725,     -999,9,     -999,9
33HQ20150809  ,ARC01      ,43      ,  7,32         ,    6301,   11567,GSNIS-32   ,2,20150916,0338,  85.1405,-149.8725,     2190,    333.7,   0.8677,  34.8470,2,     -999,9,    293.4,2,     -999,9,     6.05,2,    11.78,2,     0.00,2,     0.81,2,     -999,9,     -999,9,     -999,9,     -999,9,     -999,9,     -999,9,     -999,9,     -999,     -999,9,     -999,9,     -999,9,     -999,9,   0.8676,2,     -999,9,     -999,9,     -999,     -999,9,     -999,9,     -999,9,     -999,     -999,9,20150916,0424,    329.9,  85.1405,-149.8725,     -999,9,     -999,9
33HQ20150809  ,ARC01      ,43      ,  7,31         ,    6301,   11567,GSNIS-31   ,2,20150916,0338,  85.1405,-149.8725,     2190,    333.7,   0.8677,  34.8471,2,  34.8382,2,    293.4,2,    296.3,2,     6.05,2,    11.80,2,     0.00,2,     0.81,2,     -999,9,     -999,9,     -999,9,     -999,9,     -999,9,     -999,9,     -999,9,     -999,     -999,9,     -999,9,     -999,9,     -999,9,   0.8675,2,     -999,9,     -999,9,     -999,     -999,9,     -999,9,     -999,9,     -999,     -999,9,20150916,0423,    329.9,  85.1405,-149.8725,     -999,9,  35.0025,2
33HQ20150809  ,ARC01      ,43      ,  7,25         ,    6301,   11568,GSNIS-25   ,2,20150916,0338,  85.1405,-149.8725,     2190,    506.1,   0.5501,  34.8597,2,  34.8556,2,    295.7,2,    296.9,2,     6.64,2,    12.22,2,     0.00,2,     0.83,2,     -999,9,     -999,9,     -999,9,     -999,9,     -999,9,     -999,9,     -999,9,     -999,     -999,9,     -999,9,     -999,9,     -999,9,   0.5499,2,     -999,9,     -999,9,     -999,     -999,9,     -999,9,     -999,9,     -999,     -999,9,20150916,0418,    500.1,  85.1405,-149.8725,     -999,9,  35.0199,2
33HQ20150809  ,ARC01      ,43      ,  7,27         ,    6301,   11568,GSNIS-27   ,2,20150916,0338,  85.1405,-149.8725,     2190,    506.1,   0.5505,  34.8587,2,     -999,9,    295.7,2,     -999,9,     6.74,2,    12.21,2,     0.00,2,     0.83,2,     -999,9,     -999,9,     -999,9,     -999,9,     -999,9,     -999,9,     -999,9,     -999,     -999,9,     -999,9,     -999,9,     -999,9,   0.5503,2,     -999,9,     -999,9,     -999,     -999,9,     -999,9,     -999,9,     -999,     -999,9,20150916,0418,    500.1,  85.1405,-149.8725,     -999,9,     -999,9
33HQ20150809  ,ARC01      ,43      ,  7,26         ,    6301,   11568,GSNIS-26   ,2,20150916,0338,  85.1405,-149.8725,     2190,    506.1,   0.5503,  34.8589,2,     -999,9,    295.7,2,     -999,9,     6.74,2,    12.21,2,     0.00,2,     0.83,2,     -999,9,     -999,9,     -999,9,     -999,9,     -999,9,     -999,9,     -999,9,     -999,     -999,9,     -999,9,     -999,9,     -999,9,   0.5501,2,     -999,9,     -999,9,     -999,     -999,9,     -999,9,     -999,9,     -999,     -999,9,20150916,0418,    500.1,  85.1405,-149.8725,     -999,9,     -999,9
33HQ20150809  ,ARC01      ,43      ,  7,29         ,    6301,   11568,GSNIS-29   ,2,20150916,0338,  85.1405,-149.8725,     2190,    506.1,   0.5502,  34.8585,2,     -999,9,    295.7,2,     -999,9,     6.74,2,    12.21,2,     0.00,2,     0.82,2,     -999,9,     -999,9,     -999,9,     -999,9,     -999,9,     -999,9,     -999,9,     -999,     -999,9,     -999,9,     -999,9,     -999,9,   0.5504,2,     -999,9,     -999,9,     -999,     -999,9,     -999,9,     -999,9,     -999,     -999,9,20150916,0419,    500.1,  85.1405,-149.8725,     -999,9,     -999,9
33HQ20150809  ,ARC01      ,43      ,  7,30         ,    6301,   11568,GSNIS-30   ,2,20150916,0338,  85.1405,-149.8725,     2190,    506.1,   0.5507,  34.8587,2,     -999,9,    295.7,2,     -999,9,     6.74,2,    12.20,2,     0.00,2,     0.82,2,     -999,9,     -999,9,     -999,9,     -999,9,     -999,9,     -999,9,     -999,9,     -999,     -999,9,     -999,9,     -999,9,     -999,9,   0.5503,2,     -999,9,     -999,9,     -999,     -999,9,     -999,9,     -999,9,     -999,     -999,9,20150916,0419,    500.1,  85.1405,-149.8725,     -999,9,     -999,9
33HQ20150809  ,ARC01      ,43      ,  7,28         ,    6301,   11568,GSNIS-28   ,2,20150916,0338,  85.1405,-149.8725,     2190,    506.1,   0.5507,  34.8587,2,     -999,9,    295.7,2,     -999,9,     6.74,2,    12.21,2,     0.00,2,     0.84,2,     -999,9,     -999,9,     -999,9,     -999,9,     -999,9,     -999,9,     -999,9,     -999,     -999,9,     -999,9,     -999,9,     -999,9,   0.5505,2,     -999,9,     -999,9,     -999,     -999,9,     -999,9,     -999,9,     -999,     -999,9,20150916,0419,    500.1,  85.1405,-149.8725,     -999,9,     -999,9
33HQ20150809  ,ARC01      ,43      ,  7,24         ,    6301,   11569,GSNIS-24   ,2,20150916,0338,  85.1405,-149.8725,     2190,    607.3,   0.4215,  34.8706,2,     -999,9,    296.0,2,     -999,9,     6.83,2,    12.31,2,     0.00,2,     0.84,2,     -999,9,     -999,9,     -999,9,     -999,9,     -999,9,     -999,9,     -999,9,     -999,     -999,9,     -999,9,     -999,9,     -999,9,   0.4215,2,     -999,9,     -999,9,     -999,     -999,9,     -999,9,     -999,9,     -999,     -999,9,20150916,0415,    599.9,  85.1405,-149.8725,     -999,9,     -999,9
33HQ20150809  ,ARC01      ,43      ,  7,22         ,    6301,   11569,GSNIS-22   ,2,20150916,0338,  85.1405,-149.8725,     2190,    607.3,   0.4217,  34.8706,2,     -999,9,    296.0,2,     -999,9,     6.83,2,    12.34,2,     0.00,2,     0.85,2,     -999,9,     -999,9,     -999,9,     -999,9,     -999,9,     -999,9,     -999,9,     -999,     -999,9,     -999,9,     -999,9,     -999,9,   0.4216,2,     -999,9,     -999,9,     -999,     -999,9,     -999,9,     -999,9,     -999,     -999,9,20150916,0415,    599.9,  85.1405,-149.8725,     -999,9,     -999,9
33HQ20150809  ,ARC01      ,43      ,  7,21         ,    6301,   11569,GSNIS-21   ,2,20150916,0338,  85.1405,-149.8725,     2190,    607.3,   0.4217,  34.8707,2,     -999,9,    296.0,2,     -999,9,     6.93,2,    12.35,2,     0.00,2,     0.86,2,     -999,9,     -999,9,     -999,9,     -999,9,     -999,9,     -999,9,     -999,9,     -999,     -999,9,     -999,9,     -999,9,     -999,9,   0.4216,2,     -999,9,     -999,9,     -999,     -999,9,     -999,9,     -999,9,     -999,     -999,9,20150916,0415,    599.9,  85.1405,-149.8725,     -999,9,     -999,9
33HQ20150809  ,ARC01      ,43      ,  7,20         ,    6301,   11569,GSNIS-20   ,2,20150916,0338,  85.1405,-149.8725,     2190,    607.3,   0.4214,  34.8707,2,     -999,9,    296.0,2,     -999,9,     6.93,2,    12.36,2,     0.00,2,     0.85,2,     -999,9,     -999,9,     -999,9,     -999,9,     -999,9,     -999,9,     -999,9,     -999,     -999,9,     -999,9,     -999,9,     -999,9,   0.4217,2,     -999,9,     -999,9,     -999,     -999,9,     -999,9,     -999,9,     -999,     -999,9,20150916,0415,    599.9,  85.1405,-149.8725,     -999,9,     -999,9
33HQ20150809  ,ARC01      ,43      ,  7,19         ,    6301,   11569,GSNIS-19   ,2,20150916,0338,  85.1405,-149.8725,     2190,    607.3,   0.4215,  34.8707,2,  34.8666,2,    296.0,2,    297.2,2,     6.93,2,    12.37,2,     0.00,2,     0.84,2,     -999,9,     -999,9,     -999,9,     -999,9,     -999,9,     -999,9,     -999,9,     -999,     -999,9,     -999,9,     -999,9,     -999,9,   0.4215,2,     -999,9,     -999,9,     -999,     -999,9,     -999,9,     -999,9,     -999,     -999,9,20150916,0414,    599.9,  85.1405,-149.8725,     -999,9,  35.0310,2
33HQ20150809  ,ARC01      ,43      ,  7,23         ,    6301,   11569,GSNIS-23   ,2,20150916,0338,  85.1405,-149.8725,     2190,    607.3,   0.4215,  34.8706,2,     -999,9,    296.0,2,     -999,9,     6.74,2,    12.33,2,     0.00,2,     0.86,2,     -999,9,     -999,9,     -999,9,     -999,9,     -999,9,     -999,9,     -999,9,     -999,     -999,9,     -999,9,     -999,9,     -999,9,   0.4215,2,     -999,9,     -999,9,     -999,     -999,9,     -999,9,     -999,9,     -999,     -999,9,20150916,0415,    599.9,  85.1405,-149.8725,     -999,9,     -999,9
33HQ20150809  ,ARC01      ,43      ,  7,14         ,    6301,   11570,GSNIS-14   ,2,20150916,0338,  85.1405,-149.8725,     2190,    861.0,   0.0457,  34.8828,2,     -999,9,    297.9,2,     -999,9,     7.13,2,    12.45,2,     0.00,2,     0.86,2,     -999,9,     -999,9,     -999,9,     -999,9,     -999,9,     -999,9,     -999,9,     -999,     -999,9,     -999,9,     -999,9,     -999,9,   0.0462,2,     -999,9,     -999,9,     -999,     -999,9,     -999,9,     -999,9,     -999,     -999,9,20150916,0409,    850.1,  85.1405,-149.8725,     -999,9,     -999,9
33HQ20150809  ,ARC01      ,43      ,  7,13         ,    6301,   11570,GSNIS-13   ,2,20150916,0338,  85.1405,-149.8725,     2190,    861.0,   0.0457,  34.8827,2,  34.8817,2,    297.9,2,    300.1,2,     7.13,2,    12.46,2,     0.00,2,     0.87,2,     -999,9,     -999,9,     -999,9,     -999,9,     -999,9,     -999,9,     -999,9,     -999,     -999,9,     -999,9,     -999,9,     -999,9,   0.0463,2,     -999,9,     -999,9,     -999,     -999,9,     -999,9,     -999,9,     -999,     -999,9,20150916,0409,    850.1,  85.1405,-149.8725,     -999,9,  35.0461,2
33HQ20150809  ,ARC01      ,43      ,  7,15         ,    6301,   11570,GSNIS-15   ,2,20150916,0338,  85.1405,-149.8725,     2190,    861.0,   0.0457,  34.8827,2,     -999,9,    297.9,2,     -999,9,     7.03,2,    12.43,2,     0.00,2,     0.86,2,     -999,9,     -999,9,     -999,9,     -999,9,     -999,9,     -999,9,     -999,9,     -999,     -999,9,     -999,9,     -999,9,     -999,9,   0.0465,2,     -999,9,     -999,9,     -999,     -999,9,     -999,9,     -999,9,     -999,     -999,9,20150916,0409,    850.1,  85.1405,-149.8725,     -999,9,     -999,9
33HQ20150809  ,ARC01      ,43      ,  7,18         ,    6301,   11570,GSNIS-18   ,2,20150916,0338,  85.1405,-149.8725,     2190,    861.0,   0.0458,  34.8826,2,     -999,9,    297.9,2,     -999,9,     7.03,2,    12.37,2,     0.00,2,     0.86,2,     -999,9,     -999,9,     -999,9,     -999,9,     -999,9,     -999,9,     -999,9,     -999,     -999,9,     -999,9,     -999,9,     -999,9,   0.0456,2,     -999,9,     -999,9,     -999,     -999,9,     -999,9,     -999,9,     -999,     -999,9,20150916,0409,    850.1,  85.1405,-149.8725,     -999,9,     -999,9
33HQ20150809  ,ARC01      ,43      ,  7,17         ,    6301,   11570,GSNIS-17   ,2,20150916,0338,  85.1405,-149.8725,     2190,    861.0,   0.0458,  34.8826,2,     -999,9,    297.9,2,     -999,9,     7.13,2,    12.38,2,     0.00,2,     0.86,2,     -999,9,     -999,9,     -999,9,     -999,9,     -999,9,     -999,9,     -999,9,     -999,     -999,9,     -999,9,     -999,9,     -999,9,   0.0458,2,     -999,9,     -999,9,     -999,     -999,9,     -999,9,     -999,9,     -999,     -999,9,20150916,0409,    850.1,  85.1405,-149.8725,     -999,9,     -999,9
33HQ20150809  ,ARC01      ,43      ,  7,16         ,    6301,   11570,GSNIS-16   ,2,20150916,0338,  85.1405,-149.8725,     2190,    861.0,   0.0457,  34.8827,2,     -999,9,    297.9,2,     -999,9,     6.93,2,    12.38,2,     0.00,2,     0.86,2,     -999,9,     -999,9,     -999,9,     -999,9,     -999,9,     -999,9,     -999,9,     -999,     -999,9,     -999,9,     -999,9,     -999,9,   0.0462,2,     -999,9,     -999,9,     -999,     -999,9,     -999,9,     -999,9,     -999,     -999,9,20150916,0409,    850.1,  85.1405,-149.8725,     -999,9,     -999,9
33HQ20150809  ,ARC01      ,43      ,  7,12         ,    6301,   11571,GSNIS-12   ,2,20150916,0338,  85.1405,-149.8725,     2190,   1013.3,  -0.0756,  34.8965,2,     -999,9,    297.4,2,     -999,9,     7.52,2,    12.66,2,     0.00,2,     0.90,2,     -999,9,     -999,9,     -999,9,     -999,9,     -999,9,     -999,9,     -999,9,     -999,     -999,9,     -999,9,     -999,9,     -999,9,  -0.0757,2,     -999,9,     -999,9,     -999,     -999,9,     -999,9,     -999,9,     -999,     -999,9,20150916,0404,   1000.0,  85.1405,-149.8725,     -999,9,     -999,9
33HQ20150809  ,ARC01      ,43      ,  7,11         ,    6301,   11571,GSNIS-11   ,2,20150916,0338,  85.1405,-149.8725,     2190,   1013.3,  -0.0756,  34.8963,2,     -999,9,    297.4,2,     -999,9,     7.62,2,    12.44,2,     0.00,2,     0.89,2,     -999,9,     -999,9,     -999,9,     -999,9,     -999,9,     -999,9,     -999,9,     -999,     -999,9,     -999,9,     -999,9,     -999,9,  -0.0757,2,     -999,9,     -999,9,     -999,     -999,9,     -999,9,     -999,9,     -999,     -999,9,20150916,0404,   1000.0,  85.1405,-149.8725,     -999,9,     -999,9
33HQ20150809  ,ARC01      ,43      ,  7,10         ,    6301,   11571,GSNIS-10   ,2,20150916,0338,  85.1405,-149.8725,     2190,   1013.3,  -0.0759,  34.8958,2,     -999,9,    297.4,2,     -999,9,     7.62,2,    12.43,2,     0.00,2,     0.88,2,     -999,9,     -999,9,     -999,9,     -999,9,     -999,9,     -999,9,     -999,9,     -999,     -999,9,     -999,9,     -999,9,     -999,9,  -0.0760,2,     -999,9,     -999,9,     -999,     -999,9,     -999,9,     -999,9,     -999,     -999,9,20150916,0404,   1000.0,  85.1405,-149.8725,     -999,9,     -999,9
33HQ20150809  ,ARC01      ,43      ,  7,9          ,    6301,   11571,GSNIS-9    ,2,20150916,0338,  85.1405,-149.8725,     2190,   1013.3,  -0.0760,  34.8959,2,     -999,9,    297.4,2,     -999,9,     7.52,2,    12.45,2,     0.00,2,     0.88,2,     -999,9,     -999,9,     -999,9,     -999,9,     -999,9,     -999,9,     -999,9,     -999,     -999,9,     -999,9,     -999,9,     -999,9,  -0.0785,2,     -999,9,     -999,9,     -999,     -999,9,     -999,9,     -999,9,     -999,     -999,9,20150916,0404,   1000.0,  85.1405,-149.8725,     -999,9,     -999,9
33HQ20150809  ,ARC01      ,43      ,  7,8          ,    6301,   11571,GSNIS-8    ,2,20150916,0338,  85.1405,-149.8725,     2190,   1013.3,  -0.0764,  34.8959,2,     -999,9,    297.4,2,     -999,9,     7.42,2,    12.46,2,     0.00,2,     0.89,2,     -999,9,     -999,9,     -999,9,     -999,9,     -999,9,     -999,9,     -999,9,     -999,     -999,9,     -999,9,     -999,9,     -999,9,  -0.0772,2,     -999,9,     -999,9,     -999,     -999,9,     -999,9,     -999,9,     -999,     -999,9,20150916,0404,   1000.0,  85.1405,-149.8725,     -999,9,     -999,9
33HQ20150809  ,ARC01      ,43      ,  7,7          ,    6301,   11571,GSNIS-7    ,2,20150916,0338,  85.1405,-149.8725,     2190,   1013.3,  -0.0761,  34.8961,2,  34.8945,2,    297.4,2,    299.2,2,     7.42,2,    12.48,2,     0.00,2,     0.88,2,     -999,9,     -999,9,     -999,9,     -999,9,     -999,9,     -999,9,     -999,9,     -999,     -999,9,     -999,9,     -999,9,     -999,9,  -0.0777,2,     -999,9,     -999,9,     -999,     -999,9,     -999,9,     -999,9,     -999,     -999,9,20150916,0404,   1000.0,  85.1405,-149.8725,     -999,9,  35.0590,2
33HQ20150809  ,ARC01      ,43      ,  7,6          ,    6301,   11572,GSNIS-6    ,2,20150916,0338,  85.1405,-149.8725,     2190,   1420.0,  -0.2950,  34.9242,2,     -999,9,    294.6,2,     -999,9,     9.28,2,    13.16,2,     0.00,2,     0.93,2,     -999,9,     -999,9,     -999,9,     -999,9,     -999,9,     -999,9,     -999,9,     -999,     -999,9,     -999,9,     -999,9,     -999,9,  -0.2948,2,     -999,9,     -999,9,     -999,     -999,9,     -999,9,     -999,9,     -999,     -999,9,20150916,0355,   1400.0,  85.1405,-149.8725,     -999,9,     -999,9
33HQ20150809  ,ARC01      ,43      ,  7,5          ,    6301,   11572,GSNIS-5    ,2,20150916,0338,  85.1405,-149.8725,     2190,   1420.0,  -0.2950,  34.9241,2,     -999,9,    294.6,2,     -999,9,     9.28,2,    13.17,2,     0.00,2,     0.93,2,     -999,9,     -999,9,     -999,9,     -999,9,     -999,9,     -999,9,     -999,9,     -999,     -999,9,     -999,9,     -999,9,     -999,9,  -0.2943,2,     -999,9,     -999,9,     -999,     -999,9,     -999,9,     -999,9,     -999,     -999,9,20150916,0355,   1400.0,  85.1405,-149.8725,     -999,9,     -999,9
33HQ20150809  ,ARC01      ,43      ,  7,4          ,    6301,   11572,GSNIS-4    ,2,20150916,0338,  85.1405,-149.8725,     2190,   1420.0,  -0.2950,  34.9242,2,     -999,9,    294.6,2,     -999,9,     9.28,2,    13.17,2,     0.00,2,     0.93,2,     -999,9,     -999,9,     -999,9,     -999,9,     -999,9,     -999,9,     -999,9,     -999,     -999,9,     -999,9,     -999,9,     -999,9,  -0.2948,2,     -999,9,     -999,9,     -999,     -999,9,     -999,9,     -999,9,     -999,     -999,9,20150916,0355,   1400.0,  85.1405,-149.8725,     -999,9,     -999,9