BOTTLE,20221220CCHSIOAMB
EXPOCODE,SECT_ID,STNNBR,CASTNO,SAMPNO,GEOTR_EVENT,GEOTR_SAMPNO,BTLNBR,BTLNBR_FLAG_W,DATE,TIME,LATITUDE,LONGITUDE,DEPTH,CTDPRS,CTDTMP,CTDSAL,CTDSAL_FLAG_W,SALNTY,SALNTY_FLAG_W,CTDOXY,CTDOXY_FLAG_W,OXYGEN,OXYGEN_FLAG_W,SILCAT,SILCAT_FLAG_W,NITRAT,NITRAT_FLAG_W,NITRIT,NITRIT_FLAG_W,PHSPHT,PHSPHT_FLAG_W,CFC-11,CFC-11_FLAG_W,CFC-12,CFC-12_FLAG_W,CFC113,CFC113_FLAG_W,SF6,SF6_FLAG_W,TCARBN,TCARBN_FLAG_W,ALKALI,ALKALI_FLAG_W,PH_SWS,PH_SWS_FLAG_W,PH_TMP,DOC,DOC_FLAG_W,TRITUM,TRITUM_FLAG_W,HELIUM,HELIUM_FLAG_W,DELHE3,DELHE3_FLAG_W,REFTMP,REFTMP_FLAG_W,DELC13,DELC13_FLAG_W,DELC14,DELC14_FLAG_W,C14ERR,TDN,TDN_FLAG_W,DELO18,DELO18_FLAG_W,DELO17,DELO17_FLAG_W,CH4,CH4,CH4_FLAG_W,BTL_DATE,BTL_TIME,CTDDEPTH,BTL_LAT,BTL_LON,LAB_DEN,LAB_DEN_FLAG_W,SALTREF,SALTREF_FLAG_W
,,,,,,,,,,,,,METERS,DBAR,ITS-90,PSS-78,,PSS-78,,UMOL/KG,,UMOL/KG,,UMOL/KG,,UMOL/KG,,UMOL/KG,,UMOL/KG,,PMOL/KG,,PMOL/KG,,PMOL/KG,,FMOL/KG,,UMOL/KG,,UMOL/KG,,,,DEG C,UMOL/KG,,TU,,NMOL/KG,,PERCNT,,ITS-90,,/MILLE,,/MILLE,,/MILLE,UMOL/KG,,/MILLE,,/MILLE,,NMOL/KG,NMOL/L,,,,METERS,,,KG/M^3,,G/KG,
33HQ20150809  ,ARC01      ,47      ,  1,3          ,    6361,    -999,GSNIS-3    ,2,20150921,2006,  81.2685,-149.9484,     3794,   3478.5,  -0.2895,  34.9592,2,  34.9593,2,    284.2,2,    284.0,2,    13.28,2,    14.29,2,     0.00,2,     1.01,2,    0.016,2,    0.001,2,    0.000,2,    0.000,2,   2154.2,2,   2301.5,2,   7.7334,2,    25.00,     44.7,2,     -999,9,     -999,9,     -999,9,  -0.2890,2,     -999,9,     -999,9,     -999,    14.84,2,     -999,9,     -999,9,     -999,     -999,9,20150921,2017,   3413.5,  81.2690,-149.9469,     -999,1,  35.1242,2
33HQ20150809  ,ARC01      ,47      ,  1,2          ,    6361,    -999,GSNIS-2    ,2,20150921,2006,  81.2685,-149.9484,     3794,   3684.6,  -0.2699,  34.9590,2,  34.9594,2,    284.5,2,    284.5,2,    13.38,2,    14.32,2,     0.00,2,     1.00,2,    0.009,2,    0.000,2,    0.000,2,    0.000,2,   2155.3,2,   2301.3,6,   7.7333,2,    25.00,     43.2,2,     -999,9,     -999,9,     -999,9,  -0.2699,2,     -999,9,     -999,9,     -999,    16.30,2,     -999,9,     -999,9,     -999,     -999,9,20150921,2012,   3614.0,  81.2688,-149.9476,     -999,1,  35.1243,2
33HQ20150809  ,ARC01      ,47      ,  1,1          ,    6361,    -999,GSNIS-1    ,2,20150921,2006,  81.2685,-149.9484,     3794,   3856.8,  -0.2527,  34.9588,2,  34.9578,2,    284.0,2,    284.1,2,    13.28,2,    14.32,2,     0.00,2,     1.00,2,    0.012,2,    0.002,2,    0.000,2,    0.000,2,   2152.7,2,   2300.7,2,   7.7653,2,    25.00,     44.4,2,     -999,9,     -999,9,     -999,9,  -0.2528,2,     -999,9,     -999,9,     -999,    14.69,2,     -999,9,     -999,9,     -999,     -999,9,20150921,2007,   3781.4,  81.2686,-149.9483,     -999,1,  35.1226,2