BOTTLE,20221220CCHSIOAMB
EXPOCODE,SECT_ID,STNNBR,CASTNO,SAMPNO,GEOTR_EVENT,GEOTR_SAMPNO,BTLNBR,BTLNBR_FLAG_W,DATE,TIME,LATITUDE,LONGITUDE,DEPTH,CTDPRS,CTDTMP,CTDSAL,CTDSAL_FLAG_W,SALNTY,SALNTY_FLAG_W,CTDOXY,CTDOXY_FLAG_W,OXYGEN,OXYGEN_FLAG_W,SILCAT,SILCAT_FLAG_W,NITRAT,NITRAT_FLAG_W,NITRIT,NITRIT_FLAG_W,PHSPHT,PHSPHT_FLAG_W,CFC-11,CFC-11_FLAG_W,CFC-12,CFC-12_FLAG_W,CFC113,CFC113_FLAG_W,SF6,SF6_FLAG_W,TCARBN,TCARBN_FLAG_W,ALKALI,ALKALI_FLAG_W,PH_SWS,PH_SWS_FLAG_W,PH_TMP,DOC,DOC_FLAG_W,TRITUM,TRITUM_FLAG_W,HELIUM,HELIUM_FLAG_W,DELHE3,DELHE3_FLAG_W,REFTMP,REFTMP_FLAG_W,DELC13,DELC13_FLAG_W,DELC14,DELC14_FLAG_W,C14ERR,TDN,TDN_FLAG_W,DELO18,DELO18_FLAG_W,DELO17,DELO17_FLAG_W,CH4,CH4,CH4_FLAG_W,BTL_DATE,BTL_TIME,CTDDEPTH,BTL_LAT,BTL_LON,LAB_DEN,LAB_DEN_FLAG_W,SALTREF,SALTREF_FLAG_W
,,,,,,,,,,,,,METERS,DBAR,ITS-90,PSS-78,,PSS-78,,UMOL/KG,,UMOL/KG,,UMOL/KG,,UMOL/KG,,UMOL/KG,,UMOL/KG,,PMOL/KG,,PMOL/KG,,PMOL/KG,,FMOL/KG,,UMOL/KG,,UMOL/KG,,,,DEG C,UMOL/KG,,TU,,NMOL/KG,,PERCNT,,ITS-90,,/MILLE,,/MILLE,,/MILLE,UMOL/KG,,/MILLE,,/MILLE,,NMOL/KG,NMOL/L,,,,METERS,,,KG/M^3,,G/KG,
33HQ20150809  ,ARC01      ,48      , 10,34         ,    6373,   11803,GSNIS-34   ,2,20150923,1415,  80.4436,-149.2778,     3816,    506.6,   0.8350,  34.8507,2,  34.8530,2,    297.2,2,    298.1,2,     6.25,2,    12.15,2,     0.00,2,     0.81,2,    5.278,2,    2.626,2,    0.371,2,    1.072,2,   2182.7,4,   2296.8,2,   7.7035,2,    25.00,     51.3,2,     -999,1,     -999,1,     -999,1,   0.8349,2,     0.74,2,     50.0,2,      2.3,    14.53,2,     -999,1,     -999,9,     -999,     -999,1,20150923,1537,    500.6,  80.4458,-149.2450,     -999,9,  35.0173,2
33HQ20150809  ,ARC01      ,48      , 10,35         ,    6373,   11803,GSNIS-35   ,2,20150923,1415,  80.4436,-149.2778,     3816,    506.6,   0.8353,  34.8507,2,     -999,9,    297.2,2,     -999,9,     6.25,2,    12.12,2,     0.00,2,     0.81,2,     -999,9,     -999,9,     -999,9,     -999,9,     -999,9,     -999,9,     -999,9,     -999,     -999,9,     -999,9,     -999,9,     -999,9,   0.8349,2,     -999,9,     -999,9,     -999,     -999,9,     -999,9,     -999,9,     -999,     -999,9,20150923,1537,    500.6,  80.4458,-149.2450,     -999,9,     -999,9
33HQ20150809  ,ARC01      ,48      , 10,36         ,    6373,   11803,GSNIS-36   ,2,20150923,1415,  80.4436,-149.2778,     3816,    506.6,   0.8352,  34.8507,2,     -999,9,    297.2,2,     -999,9,     6.25,2,    12.12,2,     0.00,2,     0.82,2,     -999,9,     -999,9,     -999,9,     -999,9,     -999,9,     -999,9,     -999,9,     -999,     -999,9,     -999,9,     -999,9,     -999,9,   0.8354,2,     -999,9,     -999,9,     -999,     -999,9,     -999,9,     -999,9,     -999,     -999,9,20150923,1537,    500.6,  80.4458,-149.2449,     -999,9,     -999,9
33HQ20150809  ,ARC01      ,48      , 10,31         ,    6373,   11804,GSNIS-31   ,2,20150923,1415,  80.4436,-149.2778,     3816,    719.4,   0.3921,  34.8622,2,  34.8784,2,    299.3,2,    299.3,2,     6.64,2,    12.23,2,     0.00,2,     0.83,2,    4.474,2,    2.120,2,    0.268,2,    0.895,2,   2157.7,2,   2297.3,2,   7.7046,2,    25.00,     49.6,2,     -999,1,     -999,1,     -999,1,   0.3923,2,     0.86,2,     35.7,2,      2.1,    14.92,2,     -999,1,     -999,9,     -999,     -999,1,20150923,1531,    710.5,  80.4457,-149.2472,     -999,9,  35.0428,2
33HQ20150809  ,ARC01      ,48      , 10,32         ,    6373,   11804,GSNIS-32   ,2,20150923,1415,  80.4436,-149.2778,     3816,    719.4,   0.3921,  34.8622,2,     -999,9,    299.3,2,     -999,9,     6.64,2,    12.25,2,     0.00,2,     0.82,2,     -999,9,     -999,9,     -999,9,     -999,9,     -999,9,     -999,9,     -999,9,     -999,     -999,9,     -999,9,     -999,9,     -999,9,   0.3924,2,     -999,9,     -999,9,     -999,     -999,9,     -999,9,     -999,9,     -999,     -999,9,20150923,1531,    710.5,  80.4457,-149.2472,     -999,9,     -999,9
33HQ20150809  ,ARC01      ,48      , 10,33         ,    6373,   11804,GSNIS-33   ,2,20150923,1415,  80.4436,-149.2778,     3816,    719.4,   0.3920,  34.8622,2,     -999,9,    299.3,2,     -999,9,     6.54,2,    12.25,2,     0.00,2,     0.82,2,     -999,9,     -999,9,     -999,9,     -999,9,     -999,9,     -999,9,     -999,9,     -999,     -999,9,     -999,9,     -999,9,     -999,9,   0.3925,2,     -999,9,     -999,9,     -999,     -999,9,     -999,9,     -999,9,     -999,     -999,9,20150923,1531,    710.5,  80.4457,-149.2472,     -999,9,     -999,9
33HQ20150809  ,ARC01      ,48      , 10,28         ,    6373,   11805,GSNIS-28   ,2,20150923,1415,  80.4436,-149.2778,     3816,   1063.0,  -0.0409,  34.8833,2,  34.8823,2,    300.9,2,    299.6,2,     7.22,2,    12.54,2,     0.00,2,     0.86,2,     -999,9,     -999,9,     -999,9,     -999,9,   2153.5,2,   2297.2,2,   7.7165,2,    25.00,     50.1,2,     -999,1,     -999,1,     -999,1,  -0.0408,2,     1.06,2,      4.5,2,      2.8,    16.10,2,     -999,1,     -999,9,     -999,     -999,1,20150923,1524,   1049.1,  80.4455,-149.2503,     -999,9,  35.0468,2
33HQ20150809  ,ARC01      ,48      , 10,29         ,    6373,   11805,GSNIS-29   ,2,20150923,1415,  80.4436,-149.2778,     3816,   1063.0,  -0.0407,  34.8833,2,     -999,9,    300.9,2,     -999,9,     7.22,2,    12.55,2,     0.00,2,     0.86,2,     -999,9,     -999,9,     -999,9,     -999,9,     -999,9,     -999,9,     -999,9,     -999,     -999,9,     -999,9,     -999,9,     -999,9,  -0.0406,2,     -999,9,     -999,9,     -999,     -999,9,     -999,9,     -999,9,     -999,     -999,9,20150923,1524,   1049.1,  80.4455,-149.2503,     -999,9,     -999,9
33HQ20150809  ,ARC01      ,48      , 10,30         ,    6373,   11805,GSNIS-30   ,2,20150923,1415,  80.4436,-149.2778,     3816,   1063.0,  -0.0408,  34.8833,2,     -999,9,    300.9,2,     -999,9,     7.22,2,    12.54,2,     0.00,2,     0.85,2,     -999,9,     -999,9,     -999,9,     -999,9,     -999,9,     -999,9,     -999,9,     -999,     -999,9,     -999,9,     -999,9,     -999,9,  -0.0405,2,     -999,9,     -999,9,     -999,     -999,9,     -999,9,     -999,9,     -999,     -999,9,20150923,1524,   1049.1,  80.4455,-149.2503,     -999,9,     -999,9
33HQ20150809  ,ARC01      ,48      , 10,26         ,    6373,   11806,GSNIS-26   ,2,20150923,1415,  80.4436,-149.2778,     3816,   1419.8,  -0.2624,  34.9076,2,     -999,9,    299.4,2,     -999,9,     8.30,2,    12.97,2,     0.00,2,     0.89,2,     -999,9,     -999,9,     -999,9,     -999,9,     -999,9,     -999,9,     -999,9,     -999,     -999,9,     -999,9,     -999,9,     -999,9,  -0.2622,2,     -999,9,     -999,9,     -999,     -999,9,     -999,9,     -999,9,     -999,     -999,9,20150923,1517,   1400.0,  80.4453,-149.2533,     -999,9,     -999,9
33HQ20150809  ,ARC01      ,48      , 10,25         ,    6373,   11806,GSNIS-25   ,2,20150923,1415,  80.4436,-149.2778,     3816,   1419.8,  -0.2628,  34.9077,2,  34.9113,2,    299.4,2,    299.0,2,     8.30,2,    12.96,2,     0.00,2,     0.90,2,    1.260,2,    0.590,2,    0.053,2,    0.230,2,   2151.1,2,   2297.5,2,   7.7252,2,    25.00,     48.2,2,     -999,1,     -999,1,     -999,1,  -0.2621,2,     1.09,2,    -25.8,2,      2.3,    14.41,2,     -999,1,     -999,9,     -999,     -999,1,20150923,1516,   1400.0,  80.4453,-149.2534,     -999,9,  35.0759,2
33HQ20150809  ,ARC01      ,48      , 10,27         ,    6373,   11806,GSNIS-27   ,2,20150923,1415,  80.4436,-149.2778,     3816,   1419.9,  -0.2621,  34.9077,2,     -999,9,    299.4,2,     -999,9,     8.30,2,    12.97,2,     0.00,2,     0.90,2,     -999,9,     -999,9,     -999,9,     -999,9,     -999,9,     -999,9,     -999,9,     -999,     -999,9,     -999,9,     -999,9,     -999,9,  -0.2614,2,     -999,9,     -999,9,     -999,     -999,9,     -999,9,     -999,9,     -999,     -999,9,20150923,1517,   1400.0,  80.4453,-149.2531,     -999,9,     -999,9
33HQ20150809  ,ARC01      ,48      , 10,22         ,    6373,   11807,GSNIS-22   ,2,20150923,1415,  80.4436,-149.2778,     3816,   1777.6,  -0.3791,  34.9305,2,  34.9305,2,    295.6,2,    295.6,2,     9.86,2,    13.59,2,     0.00,2,     0.94,2,    0.411,2,    0.187,2,    0.010,2,    0.064,2,   2148.2,2,   2299.2,2,   7.7346,2,    25.00,     46.7,2,     -999,1,     -999,1,     -999,1,  -0.3789,2,     1.19,2,    -68.0,2,      1.9,    16.61,2,     -999,1,     -999,9,     -999,     -999,1,20150923,1508,   1751.3,  80.4451,-149.2568,     -999,9,  35.0953,2
33HQ20150809  ,ARC01      ,48      , 10,23         ,    6373,   11807,GSNIS-23   ,2,20150923,1415,  80.4436,-149.2778,     3816,   1777.7,  -0.3789,  34.9306,2,     -999,9,    295.6,2,     -999,9,     9.96,2,    13.58,2,     0.00,2,     0.93,2,     -999,9,     -999,9,     -999,9,     -999,9,     -999,9,     -999,9,     -999,9,     -999,     -999,9,     -999,9,     -999,9,     -999,9,  -0.3787,2,     -999,9,     -999,9,     -999,     -999,9,     -999,9,     -999,9,     -999,     -999,9,20150923,1508,   1751.4,  80.4451,-149.2567,     -999,9,     -999,9
33HQ20150809  ,ARC01      ,48      , 10,24         ,    6373,   11807,GSNIS-24   ,2,20150923,1415,  80.4436,-149.2778,     3816,   1777.7,  -0.3792,  34.9306,2,     -999,9,    295.6,2,     -999,9,     9.96,2,    13.56,2,     0.00,2,     0.95,2,     -999,9,     -999,9,     -999,9,     -999,9,     -999,9,     -999,9,     -999,9,     -999,     -999,9,     -999,9,     -999,9,     -999,9,  -0.3788,2,     -999,9,     -999,9,     -999,     -999,9,     -999,9,     -999,9,     -999,     -999,9,20150923,1508,   1751.4,  80.4451,-149.2566,     -999,9,     -999,9
33HQ20150809  ,ARC01      ,48      , 10,19         ,    6373,   11808,GSNIS-19   ,2,20150923,1415,  80.4436,-149.2778,     3816,   2134.2,  -0.4050,  34.9459,2,  34.9453,2,    290.4,2,    290.6,2,    11.62,2,    14.05,2,     0.00,2,     0.98,2,    0.118,2,    0.052,2,    0.005,2,    0.028,2,   2149.0,2,   2297.9,2,   7.7323,2,    25.00,     45.9,2,     -999,1,     -999,1,     -999,1,  -0.4044,2,     1.22,2,    -94.5,2,      1.7,    16.82,2,     -999,1,     -999,9,     -999,     -999,1,20150923,1459,   2100.9,  80.4449,-149.2604,     -999,9,  35.1101,2
33HQ20150809  ,ARC01      ,48      , 10,20         ,    6373,   11808,GSNIS-20   ,2,20150923,1415,  80.4436,-149.2778,     3816,   2134.3,  -0.4050,  34.9458,2,     -999,9,    290.4,2,     -999,9,    11.52,2,    14.06,2,     0.00,2,     0.98,2,     -999,9,     -999,9,     -999,9,     -999,9,     -999,9,     -999,9,     -999,9,     -999,     -999,9,     -999,9,     -999,9,     -999,9,     -999,9,     -999,9,     -999,9,     -999,     -999,9,     -999,9,     -999,9,     -999,     -999,9,20150923,1459,   2100.9,  80.4449,-149.2603,     -999,9,     -999,9
33HQ20150809  ,ARC01      ,48      , 10,21         ,    6373,   11808,GSNIS-21   ,2,20150923,1415,  80.4436,-149.2778,     3816,   2134.3,  -0.4050,  34.9459,2,     -999,9,    290.4,2,     -999,9,    11.62,2,    14.04,2,     0.00,2,     0.97,2,     -999,9,     -999,9,     -999,9,     -999,9,     -999,9,     -999,9,     -999,9,     -999,     -999,9,     -999,9,     -999,9,     -999,9,  -0.4043,2,     -999,9,     -999,9,     -999,     -999,9,     -999,9,     -999,9,     -999,     -999,9,20150923,1459,   2101.0,  80.4449,-149.2603,     -999,9,     -999,9
33HQ20150809  ,ARC01      ,48      , 10,18         ,    6373,   11809,GSNIS-18   ,2,20150923,1415,  80.4436,-149.2778,     3816,   2491.4,  -0.3839,  34.9530,2,     -999,9,    287.3,2,     -999,9,    12.69,2,    14.24,2,     0.00,2,     0.99,2,     -999,9,     -999,9,     -999,9,     -999,9,     -999,9,     -999,9,     -999,9,     -999,     -999,9,     -999,9,     -999,9,     -999,9,  -0.3834,2,     -999,9,     -999,9,     -999,     -999,9,     -999,9,     -999,9,     -999,     -999,9,20150923,1451,   2450.5,  80.4446,-149.2638,     -999,9,     -999,9
33HQ20150809  ,ARC01      ,48      , 10,16         ,    6373,   11809,GSNIS-16   ,2,20150923,1415,  80.4436,-149.2778,     3816,   2491.4,  -0.3839,  34.9531,2,  34.9540,2,    287.3,2,    288.0,2,    12.69,2,    14.23,2,     0.00,2,     0.99,2,    0.029,2,    0.008,2,    0.003,2,    0.013,2,   2152.5,2,   2301.3,2,   7.7349,2,    25.00,     45.7,2,     -999,1,     -999,1,     -999,1,  -0.3832,2,     1.21,2,   -106.7,2,      2.1,    16.10,2,     -999,1,     -999,9,     -999,     -999,1,20150923,1450,   2450.5,  80.4446,-149.2639,     -999,9,  35.1188,2
33HQ20150809  ,ARC01      ,48      , 10,17         ,    6373,   11809,GSNIS-17   ,2,20150923,1415,  80.4436,-149.2778,     3816,   2491.4,  -0.3839,  34.9530,2,     -999,9,    287.3,2,     -999,9,    12.69,2,    14.25,2,     0.00,2,     0.99,2,     -999,9,     -999,9,     -999,9,     -999,9,     -999,9,     -999,9,     -999,9,     -999,     -999,9,     -999,9,     -999,9,     -999,9,  -0.3833,2,     -999,9,     -999,9,     -999,     -999,9,     -999,9,     -999,9,     -999,     -999,9,20150923,1451,   2450.5,  80.4446,-149.2638,     -999,9,     -999,9
33HQ20150809  ,ARC01      ,48      , 10,13         ,    6373,   11810,GSNIS-13   ,2,20150923,1415,  80.4436,-149.2778,     3816,   2951.9,  -0.3365,  34.9567,2,  34.9567,2,    284.7,2,    284.9,2,    13.38,2,    14.31,2,     0.00,2,     0.99,2,    0.016,2,    0.003,2,    0.003,2,    0.006,2,   2156.2,2,   2301.4,2,   7.7328,2,    25.00,     43.5,2,     -999,1,     -999,1,     -999,1,  -0.3360,2,     1.19,2,   -116.9,2,      1.8,    18.00,2,     -999,1,     -999,9,     -999,     -999,1,20150923,1441,   2900.4,  80.4443,-149.2677,     -999,9,  35.1216,2
33HQ20150809  ,ARC01      ,48      , 10,14         ,    6373,   11810,GSNIS-14   ,2,20150923,1415,  80.4436,-149.2778,     3816,   2952.0,  -0.3365,  34.9567,2,     -999,9,    284.7,2,     -999,9,    13.38,2,    14.30,2,     0.00,2,     0.98,2,     -999,9,     -999,9,     -999,9,     -999,9,     -999,9,     -999,9,     -999,9,     -999,     -999,9,     -999,9,     -999,9,     -999,9,  -0.3359,2,     -999,9,     -999,9,     -999,     -999,9,     -999,9,     -999,9,     -999,     -999,9,20150923,1441,   2900.4,  80.4443,-149.2677,     -999,9,     -999,9
33HQ20150809  ,ARC01      ,48      , 10,15         ,    6373,   11810,GSNIS-15   ,2,20150923,1415,  80.4436,-149.2778,     3816,   2952.0,  -0.3365,  34.9567,2,     -999,9,    284.7,2,     -999,9,    13.38,2,    14.31,2,     0.00,2,     0.99,2,     -999,9,     -999,9,     -999,9,     -999,9,     -999,9,     -999,9,     -999,9,     -999,     -999,9,     -999,9,     -999,9,     -999,9,  -0.3356,2,     -999,9,     -999,9,     -999,     -999,9,     -999,9,     -999,9,     -999,     -999,9,20150923,1441,   2900.4,  80.4444,-149.2677,     -999,9,     -999,9
33HQ20150809  ,ARC01      ,48      , 10,10         ,    6373,   11811,GSNIS-10   ,2,20150923,1415,  80.4436,-149.2778,     3816,   3361.6,  -0.3003,  34.9565,2,  34.9554,2,    285.3,2,    284.8,2,    13.47,2,    14.30,2,     0.00,2,     0.99,2,    0.018,2,    0.005,2,    0.000,2,    0.002,2,   2154.2,2,   2302.4,2,   7.7323,2,    25.00,     42.9,2,     -999,1,     -999,1,     -999,1,  -0.3001,2,     1.23,3,   -113.7,6,      1.3,    16.04,2,     -999,1,     -999,9,     -999,     -999,1,20150923,1432,   3299.7,  80.4441,-149.2713,     -999,9,  35.1202,2
33HQ20150809  ,ARC01      ,48      , 10,11         ,    6373,   11811,GSNIS-11   ,2,20150923,1415,  80.4436,-149.2778,     3816,   3361.6,  -0.3003,  34.9565,2,     -999,9,    285.3,2,     -999,9,    13.38,2,    14.30,2,     0.00,2,     1.00,2,     -999,9,     -999,9,     -999,9,     -999,9,     -999,9,     -999,9,     -999,9,     -999,     -999,9,     -999,9,     -999,9,     -999,9,  -0.2998,2,     -999,9,     -999,9,     -999,     -999,9,     -999,9,     -999,9,     -999,     -999,9,20150923,1432,   3299.8,  80.4441,-149.2713,     -999,9,     -999,9
33HQ20150809  ,ARC01      ,48      , 10,12         ,    6373,   11811,GSNIS-12   ,2,20150923,1415,  80.4436,-149.2778,     3816,   3361.6,  -0.3004,  34.9565,2,     -999,9,    285.3,2,     -999,9,    13.38,2,    14.31,2,     0.00,2,     0.99,2,     -999,9,     -999,9,     -999,9,     -999,9,     -999,9,     -999,9,     -999,9,     -999,     -999,9,     -999,9,     -999,9,     -999,9,  -0.2999,2,     -999,9,     -999,9,     -999,     -999,9,     -999,9,     -999,9,     -999,     -999,9,20150923,1432,   3299.8,  80.4441,-149.2712,     -999,9,     -999,9
33HQ20150809  ,ARC01      ,48      , 10,8          ,    6373,   11812,GSNIS-8    ,2,20150923,1415,  80.4436,-149.2778,     3816,   3721.9,  -0.2661,  34.9563,2,     -999,9,    285.0,2,     -999,9,    13.38,2,    14.31,2,     0.00,2,     0.99,2,     -999,9,     -999,9,     -999,9,     -999,9,     -999,9,     -999,9,     -999,9,     -999,     -999,9,     -999,9,     -999,9,     -999,9,     -999,9,     -999,9,     -999,9,     -999,     -999,9,     -999,9,     -999,9,     -999,     -999,9,20150923,1424,   3650.4,  80.4439,-149.2743,     -999,9,     -999,9
33HQ20150809  ,ARC01      ,48      , 10,7          ,    6373,   11812,GSNIS-7    ,2,20150923,1415,  80.4436,-149.2778,     3816,   3721.9,  -0.2661,  34.9564,2,  34.9564,2,    285.0,2,    284.6,2,    13.38,2,    14.31,2,     0.00,2,     0.99,2,    0.013,2,    0.001,2,    0.000,2,    0.000,2,   2157.0,2,   2299.5,2,   7.7349,2,    25.00,     44.7,2,     -999,1,     -999,1,     -999,1,  -0.2657,2,     1.19,2,   -112.0,2,      1.7,    16.04,2,     -999,1,     -999,9,     -999,     -999,1,20150923,1424,   3650.4,  80.4439,-149.2743,     -999,9,  35.1212,2
33HQ20150809  ,ARC01      ,48      , 10,9          ,    6373,   11812,GSNIS-9    ,2,20150923,1415,  80.4436,-149.2778,     3816,   3721.9,  -0.2661,  34.9563,2,     -999,9,    285.0,2,     -999,9,    13.38,2,    14.30,2,     0.00,2,     0.99,2,     -999,9,     -999,9,     -999,9,     -999,9,     -999,9,     -999,9,     -999,9,     -999,     -999,9,     -999,9,     -999,9,     -999,9,  -0.2653,2,     -999,9,     -999,9,     -999,     -999,9,     -999,9,     -999,9,     -999,     -999,9,20150923,1424,   3650.4,  80.4439,-149.2742,     -999,9,     -999,9
33HQ20150809  ,ARC01      ,48      , 10,5          ,    6373,   11813,GSNIS-5    ,2,20150923,1415,  80.4436,-149.2778,     3816,   3804.2,  -0.2580,  34.9562,2,     -999,9,    284.9,2,     -999,9,    13.38,2,    14.33,2,     0.00,2,     0.99,2,     -999,9,     -999,9,     -999,9,     -999,9,     -999,9,     -999,9,     -999,9,     -999,     -999,9,     -999,9,     -999,9,     -999,9,  -0.2578,2,     -999,9,     -999,9,     -999,     -999,9,     -999,9,     -999,9,     -999,     -999,9,20150923,1420,   3730.4,  80.4437,-149.2759,     -999,9,     -999,9
33HQ20150809  ,ARC01      ,48      , 10,4          ,    6373,   11813,GSNIS-4    ,2,20150923,1415,  80.4436,-149.2778,     3816,   3804.2,  -0.2580,  34.9562,2,  34.9566,2,    284.9,2,    284.7,2,    13.38,2,    14.32,2,     0.00,2,     0.99,2,    0.015,2,    0.004,2,    0.000,2,    0.002,2,   2137.5,4,   2300.5,2,   7.7340,2,    25.00,     44.9,2,     -999,1,     -999,1,     -999,1,  -0.2579,2,     1.19,2,   -114.8,2,      1.8,    16.43,2,     -999,1,     -999,9,     -999,     -999,1,20150923,1420,   3730.4,  80.4437,-149.2759,     -999,9,  35.1214,2
33HQ20150809  ,ARC01      ,48      , 10,6          ,    6373,   11813,GSNIS-6    ,2,20150923,1415,  80.4436,-149.2778,     3816,   3804.2,  -0.2579,  34.9562,2,     -999,9,    284.9,2,     -999,9,    13.38,2,    14.32,2,     0.00,2,     0.99,2,     -999,9,     -999,9,     -999,9,     -999,9,     -999,9,     -999,9,     -999,9,     -999,     -999,9,     -999,9,     -999,9,     -999,9,  -0.2577,2,     -999,9,     -999,9,     -999,     -999,9,     -999,9,     -999,9,     -999,     -999,9,20150923,1420,   3730.4,  80.4437,-149.2759,     -999,9,     -999,9