BOTTLE,20221220CCHSIOAMB
EXPOCODE,SECT_ID,STNNBR,CASTNO,SAMPNO,GEOTR_EVENT,GEOTR_SAMPNO,BTLNBR,BTLNBR_FLAG_W,DATE,TIME,LATITUDE,LONGITUDE,DEPTH,CTDPRS,CTDTMP,CTDSAL,CTDSAL_FLAG_W,SALNTY,SALNTY_FLAG_W,CTDOXY,CTDOXY_FLAG_W,OXYGEN,OXYGEN_FLAG_W,SILCAT,SILCAT_FLAG_W,NITRAT,NITRAT_FLAG_W,NITRIT,NITRIT_FLAG_W,PHSPHT,PHSPHT_FLAG_W,CFC-11,CFC-11_FLAG_W,CFC-12,CFC-12_FLAG_W,CFC113,CFC113_FLAG_W,SF6,SF6_FLAG_W,TCARBN,TCARBN_FLAG_W,ALKALI,ALKALI_FLAG_W,PH_SWS,PH_SWS_FLAG_W,PH_TMP,DOC,DOC_FLAG_W,TRITUM,TRITUM_FLAG_W,HELIUM,HELIUM_FLAG_W,DELHE3,DELHE3_FLAG_W,REFTMP,REFTMP_FLAG_W,DELC13,DELC13_FLAG_W,DELC14,DELC14_FLAG_W,C14ERR,TDN,TDN_FLAG_W,DELO18,DELO18_FLAG_W,DELO17,DELO17_FLAG_W,CH4,CH4,CH4_FLAG_W,BTL_DATE,BTL_TIME,CTDDEPTH,BTL_LAT,BTL_LON,LAB_DEN,LAB_DEN_FLAG_W,SALTREF,SALTREF_FLAG_W
,,,,,,,,,,,,,METERS,DBAR,ITS-90,PSS-78,,PSS-78,,UMOL/KG,,UMOL/KG,,UMOL/KG,,UMOL/KG,,UMOL/KG,,UMOL/KG,,PMOL/KG,,PMOL/KG,,PMOL/KG,,FMOL/KG,,UMOL/KG,,UMOL/KG,,,,DEG C,UMOL/KG,,TU,,NMOL/KG,,PERCNT,,ITS-90,,/MILLE,,/MILLE,,/MILLE,UMOL/KG,,/MILLE,,/MILLE,,NMOL/KG,NMOL/L,,,,METERS,,,KG/M^3,,G/KG,
33HQ20150809  ,ARC01      ,32      ,  8,34         ,    6221,   11313,GSNIS-34   ,2,20150907,0027,  89.9876,  91.7580,     4236,    506.4,   0.8614,  34.8828,2,  34.8906,2,    303.1,2,    303.2,2,     5.27,2,    11.89,2,     0.00,2,     0.81,2,    5.206,2,    2.688,2,    0.387,2,    1.758,2,   2168.5,2,   2292.4,2,   7.6955,2,    25.00,     52.3,2,     -999,1,     -999,1,     -999,1,     -999,9,    -7.17,4,     -999,1,     -999,    14.99,2,     -999,1,     -999,9,     -999,     -999,1,20150907,0154,    500.3,  89.9881,  95.2380,     -999,9,  35.0551,2
33HQ20150809  ,ARC01      ,32      ,  8,36         ,    6221,   11313,GSNIS-36   ,2,20150907,0027,  89.9876,  91.7580,     4236,    506.4,   0.8573,  34.8905,2,     -999,9,    303.0,2,     -999,9,     5.27,2,    11.87,2,     0.00,2,     0.81,2,     -999,9,     -999,9,     -999,9,     -999,9,     -999,9,     -999,9,     -999,9,     -999,     -999,9,     -999,9,     -999,9,     -999,9,     -999,9,     -999,9,     -999,9,     -999,     -999,9,     -999,9,     -999,9,     -999,     -999,9,20150907,0154,    500.3,  89.9881,  95.2489,     -999,9,     -999,9
33HQ20150809  ,ARC01      ,32      ,  8,35         ,    6221,   11313,GSNIS-35   ,2,20150907,0027,  89.9876,  91.7580,     4236,    506.4,   0.8622,  34.8879,2,     -999,9,    297.6,2,     -999,9,     5.27,2,    11.88,2,     0.00,2,     0.81,2,     -999,9,     -999,9,     -999,9,     -999,9,     -999,9,     -999,9,     -999,9,     -999,     -999,9,     -999,9,     -999,9,     -999,9,     -999,9,     -999,9,     -999,9,     -999,     -999,9,     -999,9,     -999,9,     -999,     -999,9,20150907,0154,    500.3,  89.9881,  95.2455,     -999,9,     -999,9
33HQ20150809  ,ARC01      ,32      ,  8,33         ,    6221,   11314,GSNIS-33   ,2,20150907,0027,  89.9876,  91.7580,     4236,    759.6,   0.1842,  34.8936,2,     -999,9,    304.4,2,     -999,9,     5.67,2,    11.85,2,     0.00,2,     0.82,2,     -999,9,     -999,9,     -999,9,     -999,9,     -999,9,     -999,9,     -999,9,     -999,     -999,9,     -999,9,     -999,9,     -999,9,     -999,9,     -999,9,     -999,9,     -999,     -999,9,     -999,9,     -999,9,     -999,     -999,9,20150907,0148,    750.0,  89.9880,  95.0285,     -999,9,     -999,9
33HQ20150809  ,ARC01      ,32      ,  8,31         ,    6221,   11314,GSNIS-31   ,2,20150907,0027,  89.9876,  91.7580,     4236,    759.6,   0.1845,  34.8897,2,  34.8910,2,    304.4,2,    305.7,2,     5.67,2,    11.85,2,     0.00,2,     0.82,2,    5.031,2,    2.609,2,    0.373,2,    1.764,2,   2174.6,2,   2296.7,2,   7.6801,2,    25.00,     51.5,2,     -999,1,     -999,1,     -999,1,     -999,9,    -6.73,4,     -999,1,     -999,    13.83,2,     -999,1,     -999,9,     -999,     -999,1,20150907,0148,    750.0,  89.9880,  95.0130,     -999,9,  35.0555,2
33HQ20150809  ,ARC01      ,32      ,  8,32         ,    6221,   11314,GSNIS-32   ,2,20150907,0027,  89.9876,  91.7580,     4236,    759.6,   0.1888,  34.8898,2,     -999,9,    304.4,2,     -999,9,     5.67,2,    11.85,2,     0.00,2,     0.83,2,     -999,9,     -999,9,     -999,9,     -999,9,     -999,9,     -999,9,     -999,9,     -999,     -999,9,     -999,9,     -999,9,     -999,9,     -999,9,     -999,9,     -999,9,     -999,     -999,9,     -999,9,     -999,9,     -999,     -999,9,20150907,0148,    750.0,  89.9880,  95.0202,     -999,9,     -999,9
33HQ20150809  ,ARC01      ,32      ,  8,29         ,    6221,   11315,GSNIS-29   ,2,20150907,0027,  89.9876,  91.7580,     4236,   1013.2,  -0.0903,  34.9049,2,     -999,9,    302.5,2,     -999,9,     6.25,2,    12.15,2,     0.00,2,     0.84,2,     -999,9,     -999,9,     -999,9,     -999,9,     -999,9,     -999,9,     -999,9,     -999,     -999,9,     -999,9,     -999,9,     -999,9,     -999,9,     -999,9,     -999,9,     -999,     -999,9,     -999,9,     -999,9,     -999,     -999,9,20150907,0142,    999.8,  89.9880,  94.7230,     -999,9,     -999,9
33HQ20150809  ,ARC01      ,32      ,  8,30         ,    6221,   11315,GSNIS-30   ,2,20150907,0027,  89.9876,  91.7580,     4236,   1013.2,  -0.0886,  34.9040,2,     -999,9,    302.5,2,     -999,9,     6.25,2,    12.15,2,     0.00,2,     0.85,2,     -999,9,     -999,9,     -999,9,     -999,9,     -999,9,     -999,9,     -999,9,     -999,     -999,9,     -999,9,     -999,9,     -999,9,     -999,9,     -999,9,     -999,9,     -999,     -999,9,     -999,9,     -999,9,     -999,     -999,9,20150907,0143,    999.9,  89.9880,  94.7322,     -999,9,     -999,9
33HQ20150809  ,ARC01      ,32      ,  8,28         ,    6221,   11315,GSNIS-28   ,2,20150907,0027,  89.9876,  91.7580,     4236,   1013.2,  -0.0908,  34.9036,2,  34.9051,2,    302.5,2,    305.2,2,     6.35,2,    12.15,2,     0.00,2,     0.85,2,    4.707,2,    2.455,2,    0.344,2,    1.729,2,   2179.5,2,   2297.0,2,   7.6730,2,    25.00,     50.8,2,     -999,1,     -999,1,     -999,1,     -999,9,     0.68,2,     -999,1,     -999,    15.20,2,     -999,1,     -999,9,     -999,     -999,1,20150907,0142,    999.9,  89.9880,  94.7145,     -999,9,  35.0697,2
33HQ20150809  ,ARC01      ,32      ,  8,26         ,    6221,   11316,GSNIS-26   ,2,20150907,0027,  89.9876,  91.7580,     4236,   1317.3,  -0.3385,  34.9108,2,     -999,9,    301.2,2,     -999,9,     7.62,2,    12.94,2,     0.00,2,     0.89,2,     -999,9,     -999,9,     -999,9,     -999,9,     -999,9,     -999,9,     -999,9,     -999,     -999,9,     -999,9,     -999,9,     -999,9,     -999,9,     -999,9,     -999,9,     -999,     -999,9,     -999,9,     -999,9,     -999,     -999,9,20150907,0135,   1299.0,  89.9879,  94.3855,     -999,9,     -999,9
33HQ20150809  ,ARC01      ,32      ,  8,27         ,    6221,   11316,GSNIS-27   ,2,20150907,0027,  89.9876,  91.7580,     4236,   1317.3,  -0.3382,  34.9117,2,     -999,9,    301.2,2,     -999,9,     7.62,2,    12.92,2,     0.00,2,     0.89,2,     -999,9,     -999,9,     -999,9,     -999,9,     -999,9,     -999,9,     -999,9,     -999,     -999,9,     -999,9,     -999,9,     -999,9,     -999,9,     -999,9,     -999,9,     -999,     -999,9,     -999,9,     -999,9,     -999,     -999,9,20150907,0135,   1299.0,  89.9879,  94.3951,     -999,9,     -999,9
33HQ20150809  ,ARC01      ,32      ,  8,25         ,    6221,   11316,GSNIS-25   ,2,20150907,0027,  89.9876,  91.7580,     4236,   1317.3,  -0.3422,  34.9106,2,  34.9116,2,    301.2,2,    303.2,2,     7.62,2,    12.93,2,     0.00,2,     0.90,2,    3.594,2,    1.814,2,    0.255,2,    1.250,2,   2178.4,2,   2297.3,2,   7.6842,2,    25.00,     51.4,2,     -999,1,     -999,1,     -999,1,     -999,9,     0.75,2,     -999,1,     -999,    16.27,2,     -999,1,     -999,9,     -999,     -999,1,20150907,0135,   1299.0,  89.9879,  94.3752,     -999,9,  35.0762,2
33HQ20150809  ,ARC01      ,32      ,  8,22         ,    6221,   11317,GSNIS-22   ,2,20150907,0027,  89.9876,  91.7580,     4236,   1624.0,  -0.5311,  34.9147,2,  34.9149,2,    300.7,2,    301.1,2,     8.99,2,    13.64,2,     0.00,2,     0.94,2,    2.273,2,    1.169,2,    0.148,2,    0.753,2,   2170.5,2,   2295.8,2,   7.6947,2,    25.00,     51.0,2,     -999,1,     -999,1,     -999,1,     -999,9,     0.92,2,     -999,1,     -999,    17.19,2,     -999,1,     -999,9,     -999,     -999,1,20150907,0128,   1600.4,  89.9879,  94.0539,     -999,9,  35.0796,2
33HQ20150809  ,ARC01      ,32      ,  8,24         ,    6221,   11317,GSNIS-24   ,2,20150907,0027,  89.9876,  91.7580,     4236,   1624.0,  -0.5283,  34.9148,2,     -999,9,    300.7,2,     -999,9,     8.99,2,    13.62,2,     0.00,2,     0.95,2,     -999,9,     -999,9,     -999,9,     -999,9,     -999,9,     -999,9,     -999,9,     -999,     -999,9,     -999,9,     -999,9,     -999,9,     -999,9,     -999,9,     -999,9,     -999,     -999,9,     -999,9,     -999,9,     -999,     -999,9,20150907,0129,   1600.4,  89.9879,  94.0772,     -999,9,     -999,9
33HQ20150809  ,ARC01      ,32      ,  8,23         ,    6221,   11317,GSNIS-23   ,2,20150907,0027,  89.9876,  91.7580,     4236,   1624.0,  -0.5288,  34.9143,2,     -999,9,    300.7,2,     -999,9,     9.08,2,    13.63,2,     0.00,2,     0.95,2,     -999,9,     -999,9,     -999,9,     -999,9,     -999,9,     -999,9,     -999,9,     -999,     -999,9,     -999,9,     -999,9,     -999,9,     -999,9,     -999,9,     -999,9,     -999,     -999,9,     -999,9,     -999,9,     -999,     -999,9,20150907,0129,   1600.4,  89.9879,  94.0669,     -999,9,     -999,9
33HQ20150809  ,ARC01      ,32      ,  8,19         ,    6221,   11318,GSNIS-19   ,2,20150907,0027,  89.9876,  91.7580,     4236,   1929.4,  -0.5794,  34.9255,2,  34.9242,2,    298.9,2,    296.1,2,    10.55,2,    14.14,2,     0.00,2,     0.98,2,    1.117,2,    0.570,2,    0.061,2,    0.297,2,   2168.2,2,   2296.1,2,   7.7097,2,    25.00,     49.6,2,     -999,1,     -999,1,     -999,1,     -999,9,     1.02,2,     -999,1,     -999,    16.92,2,     -999,1,     -999,9,     -999,     -999,1,20150907,0122,   1899.9,  89.9878,  93.7549,     -999,9,  35.0889,2
33HQ20150809  ,ARC01      ,32      ,  8,21         ,    6221,   11318,GSNIS-21   ,2,20150907,0027,  89.9876,  91.7580,     4236,   1929.4,  -0.5759,  34.9253,2,     -999,9,    298.9,2,     -999,9,    10.55,2,    14.15,2,     0.00,2,     0.98,2,     -999,9,     -999,9,     -999,9,     -999,9,     -999,9,     -999,9,     -999,9,     -999,     -999,9,     -999,9,     -999,9,     -999,9,     -999,9,     -999,9,     -999,9,     -999,     -999,9,     -999,9,     -999,9,     -999,     -999,9,20150907,0122,   1899.9,  89.9879,  93.7701,     -999,9,     -999,9
33HQ20150809  ,ARC01      ,32      ,  8,20         ,    6221,   11318,GSNIS-20   ,2,20150907,0027,  89.9876,  91.7580,     4236,   1929.4,  -0.5790,  34.9253,2,     -999,9,    298.9,2,     -999,9,    10.55,2,    14.15,2,     0.00,2,     0.98,2,     -999,9,     -999,9,     -999,9,     -999,9,     -999,9,     -999,9,     -999,9,     -999,     -999,9,     -999,9,     -999,9,     -999,9,     -999,9,     -999,9,     -999,9,     -999,     -999,9,     -999,9,     -999,9,     -999,     -999,9,20150907,0122,   1899.9,  89.9879,  93.7608,     -999,9,     -999,9
33HQ20150809  ,ARC01      ,32      ,  8,18         ,    6221,   11319,GSNIS-18   ,2,20150907,0027,  89.9876,  91.7580,     4236,   2389.2,  -0.7205,  34.9222,2,     -999,9,    298.9,2,     -999,9,    10.55,2,    14.31,2,     0.00,2,     0.98,2,     -999,9,     -999,9,     -999,9,     -999,9,     -999,9,     -999,9,     -999,9,     -999,     -999,9,     -999,9,     -999,9,     -999,9,     -999,9,     -999,9,     -999,9,     -999,     -999,9,     -999,9,     -999,9,     -999,     -999,9,20150907,0113,   2350.1,  89.9878,  93.3667,     -999,9,     -999,9
33HQ20150809  ,ARC01      ,32      ,  8,17         ,    6221,   11319,GSNIS-17   ,2,20150907,0027,  89.9876,  91.7580,     4236,   2389.2,  -0.7205,  34.9221,2,     -999,9,    298.9,2,     -999,9,    10.55,2,    14.32,2,     0.00,2,     0.99,2,     -999,9,     -999,9,     -999,9,     -999,9,     -999,9,     -999,9,     -999,9,     -999,     -999,9,     -999,9,     -999,9,     -999,9,     -999,9,     -999,9,     -999,9,     -999,     -999,9,     -999,9,     -999,9,     -999,     -999,9,20150907,0113,   2350.1,  89.9878,  93.3617,     -999,9,     -999,9
33HQ20150809  ,ARC01      ,32      ,  8,16         ,    6221,   11319,GSNIS-16   ,2,20150907,0027,  89.9876,  91.7580,     4236,   2389.2,  -0.7207,  34.9217,2,  34.9216,2,    298.9,2,    299.3,2,    10.55,2,    14.32,2,     0.00,2,     0.99,2,    0.768,2,    0.374,2,    0.041,2,    0.193,2,   2162.9,2,   2299.0,2,   7.7155,2,    25.00,     -999,9,     -999,1,     -999,1,     -999,1,     -999,9,     1.09,2,     -999,1,     -999,     -999,9,     -999,1,     -999,9,     -999,     -999,1,20150907,0113,   2350.1,  89.9878,  93.3578,     -999,9,  35.0863,2
33HQ20150809  ,ARC01      ,32      ,  8,13         ,    6221,   11320,GSNIS-13   ,2,20150907,0027,  89.9876,  91.7580,     4236,   2849.8,  -0.7455,  34.9279,2,  34.9275,2,    298.5,2,    299.0,2,    10.74,2,    14.39,2,     0.00,2,     0.99,2,    0.432,2,    0.193,2,    0.023,2,    0.061,2,   2158.5,2,   2300.6,2,   7.7229,2,    25.00,     48.3,2,     -999,1,     -999,1,     -999,1,     -999,9,     1.14,2,     -999,1,     -999,    17.34,2,     -999,1,     -999,9,     -999,     -999,1,20150907,0103,   2800.2,  89.9878,  92.9895,     -999,9,  35.0922,2
33HQ20150809  ,ARC01      ,32      ,  8,15         ,    6221,   11320,GSNIS-15   ,2,20150907,0027,  89.9876,  91.7580,     4236,   2849.8,  -0.7454,  34.9280,2,     -999,9,    298.5,2,     -999,9,    10.74,2,    14.39,2,     0.00,2,     0.99,2,     -999,9,     -999,9,     -999,9,     -999,9,     -999,9,     -999,9,     -999,9,     -999,     -999,9,     -999,9,     -999,9,     -999,9,     -999,9,     -999,9,     -999,9,     -999,     -999,9,     -999,9,     -999,9,     -999,     -999,9,20150907,0103,   2800.3,  89.9878,  92.9976,     -999,9,     -999,9
33HQ20150809  ,ARC01      ,32      ,  8,14         ,    6221,   11320,GSNIS-14   ,2,20150907,0027,  89.9876,  91.7580,     4236,   2849.8,  -0.7455,  34.9280,2,     -999,9,    298.5,2,     -999,9,    10.74,2,    14.40,2,     0.00,2,     0.99,2,     -999,9,     -999,9,     -999,9,     -999,9,     -999,9,     -999,9,     -999,9,     -999,     -999,9,     -999,9,     -999,9,     -999,9,     -999,9,     -999,9,     -999,9,     -999,     -999,9,     -999,9,     -999,9,     -999,     -999,9,20150907,0103,   2800.3,  89.9878,  92.9942,     -999,9,     -999,9
33HQ20150809  ,ARC01      ,32      ,  8,12         ,    6221,   11321,GSNIS-12   ,2,20150907,0027,  89.9876,  91.7580,     4236,   3285.7,  -0.7338,  34.9335,2,     -999,9,    297.9,2,     -999,9,    10.94,2,    14.43,2,     0.00,2,     1.00,2,     -999,9,     -999,9,     -999,9,     -999,9,     -999,9,     -999,9,     -999,9,     -999,     -999,9,     -999,9,     -999,9,     -999,9,     -999,9,     -999,9,     -999,9,     -999,     -999,9,     -999,9,     -999,9,     -999,     -999,9,20150907,0054,   3225.3,  89.9877,  92.6552,     -999,9,     -999,9
33HQ20150809  ,ARC01      ,32      ,  8,11         ,    6221,   11321,GSNIS-11   ,2,20150907,0027,  89.9876,  91.7580,     4236,   3285.7,  -0.7339,  34.9335,2,     -999,9,    297.9,2,     -999,9,    11.04,2,    14.42,2,     0.00,2,     1.01,2,     -999,9,     -999,9,     -999,9,     -999,9,     -999,9,     -999,9,     -999,9,     -999,     -999,9,     -999,9,     -999,9,     -999,9,     -999,9,     -999,9,     -999,9,     -999,     -999,9,     -999,9,     -999,9,     -999,     -999,9,20150907,0054,   3225.3,  89.9877,  92.6507,     -999,9,     -999,9
33HQ20150809  ,ARC01      ,32      ,  8,10         ,    6221,   11321,GSNIS-10   ,2,20150907,0027,  89.9876,  91.7580,     4236,   3285.7,  -0.7339,  34.9336,2,  34.9338,2,    297.9,2,    299.0,2,    10.94,2,    14.44,2,     0.00,2,     0.99,2,    0.200,2,    0.086,2,    0.006,2,    0.000,2,   2155.4,2,   2300.0,2,   7.7267,2,    25.00,     49.0,2,     -999,1,     -999,1,     -999,1,     -999,9,     0.93,3,     -999,1,     -999,    16.67,2,     -999,1,     -999,9,     -999,     -999,1,20150907,0054,   3225.3,  89.9877,  92.6450,     -999,9,  35.0985,2
33HQ20150809  ,ARC01      ,32      ,  8,8          ,    6221,   11322,GSNIS-8    ,2,20150907,0027,  89.9876,  91.7580,     4236,   3722.7,  -0.7049,  34.9386,2,     -999,9,    297.8,2,     -999,9,    11.04,2,    14.38,2,     0.00,2,     1.00,2,     -999,9,     -999,9,     -999,9,     -999,9,     -999,9,     -999,9,     -999,9,     -999,     -999,9,     -999,9,     -999,9,     -999,9,     -999,9,     -999,9,     -999,9,     -999,     -999,9,     -999,9,     -999,9,     -999,     -999,9,20150907,0045,   3650.6,  89.9877,  92.3570,     -999,9,     -999,9
33HQ20150809  ,ARC01      ,32      ,  8,9          ,    6221,   11322,GSNIS-9    ,2,20150907,0027,  89.9876,  91.7580,     4236,   3722.7,  -0.7050,  34.9386,2,     -999,9,    297.8,2,     -999,9,    11.04,2,    14.38,2,     0.00,2,     1.00,2,     -999,9,     -999,9,     -999,9,     -999,9,     -999,9,     -999,9,     -999,9,     -999,     -999,9,     -999,9,     -999,9,     -999,9,     -999,9,     -999,9,     -999,9,     -999,     -999,9,     -999,9,     -999,9,     -999,     -999,9,20150907,0046,   3650.6,  89.9877,  92.3595,     -999,9,     -999,9
33HQ20150809  ,ARC01      ,32      ,  8,7          ,    6221,   11322,GSNIS-7    ,2,20150907,0027,  89.9876,  91.7580,     4236,   3722.7,  -0.7050,  34.9385,2,  34.9391,2,    297.8,2,    297.6,2,    11.04,2,    14.39,2,     0.00,2,     1.00,2,    0.126,2,    0.051,2,    0.003,2,    0.000,2,   2154.0,2,   2301.1,2,   7.7285,2,    25.00,     47.5,2,     -999,1,     -999,1,     -999,1,     -999,9,     1.15,2,     -999,1,     -999,    16.93,2,     -999,1,     -999,9,     -999,     -999,1,20150907,0045,   3650.6,  89.9877,  92.3523,     -999,9,  35.1038,2
33HQ20150809  ,ARC01      ,32      ,  8,6          ,    6221,   11323,GSNIS-6    ,2,20150907,0027,  89.9876,  91.7580,     4236,   4247.1,  -0.6499,  34.9413,2,     -999,9,    297.6,2,     -999,9,    11.14,2,    14.31,2,     0.00,2,     1.00,2,     -999,9,     -999,9,     -999,9,     -999,9,     -999,9,     -999,9,     -999,9,     -999,     -999,9,     -999,9,     -999,9,     -999,9,     -999,9,     -999,9,     -999,9,     -999,     -999,9,     -999,9,     -999,9,     -999,     -999,9,20150907,0035,   4159.9,  89.9877,  92.0187,     -999,9,     -999,9
33HQ20150809  ,ARC01      ,32      ,  8,5          ,    6221,   11323,GSNIS-5    ,2,20150907,0027,  89.9876,  91.7580,     4236,   4247.1,  -0.6499,  34.9412,2,     -999,9,    297.6,2,     -999,9,    11.14,2,    14.33,2,     0.00,2,     1.00,2,     -999,9,     -999,9,     -999,9,     -999,9,     -999,9,     -999,9,     -999,9,     -999,     -999,9,     -999,9,     -999,9,     -999,9,     -999,9,     -999,9,     -999,9,     -999,     -999,9,     -999,9,     -999,9,     -999,     -999,9,20150907,0035,   4159.9,  89.9877,  92.0148,     -999,9,     -999,9
33HQ20150809  ,ARC01      ,32      ,  8,4          ,    6221,   11323,GSNIS-4    ,2,20150907,0027,  89.9876,  91.7580,     4236,   4247.1,  -0.6499,  34.9413,2,  34.9422,2,    297.6,2,    297.6,2,    11.14,2,    14.33,2,     0.00,2,     1.00,2,    0.121,2,    0.047,2,    0.005,2,    0.000,2,   2167.1,3,   2301.7,2,   7.7314,2,    25.00,     46.7,2,     -999,1,     -999,1,     -999,1,     -999,9,     1.18,2,     -999,1,     -999,    17.40,2,     -999,1,     -999,9,     -999,     -999,1,20150907,0035,   4159.9,  89.9877,  92.0111,     -999,9,  35.1070,2