BOTTLE,20221220CCHSIOAMB
EXPOCODE,SECT_ID,STNNBR,CASTNO,SAMPNO,GEOTR_EVENT,GEOTR_SAMPNO,BTLNBR,BTLNBR_FLAG_W,DATE,TIME,LATITUDE,LONGITUDE,DEPTH,CTDPRS,CTDTMP,CTDSAL,CTDSAL_FLAG_W,SALNTY,SALNTY_FLAG_W,CTDOXY,CTDOXY_FLAG_W,OXYGEN,OXYGEN_FLAG_W,SILCAT,SILCAT_FLAG_W,NITRAT,NITRAT_FLAG_W,NITRIT,NITRIT_FLAG_W,PHSPHT,PHSPHT_FLAG_W,CFC-11,CFC-11_FLAG_W,CFC-12,CFC-12_FLAG_W,CFC113,CFC113_FLAG_W,SF6,SF6_FLAG_W,TCARBN,TCARBN_FLAG_W,ALKALI,ALKALI_FLAG_W,PH_SWS,PH_SWS_FLAG_W,PH_TMP,DOC,DOC_FLAG_W,TRITUM,TRITUM_FLAG_W,HELIUM,HELIUM_FLAG_W,DELHE3,DELHE3_FLAG_W,REFTMP,REFTMP_FLAG_W,DELC13,DELC13_FLAG_W,DELC14,DELC14_FLAG_W,C14ERR,TDN,TDN_FLAG_W,DELO18,DELO18_FLAG_W,DELO17,DELO17_FLAG_W,CH4,CH4,CH4_FLAG_W,BTL_DATE,BTL_TIME,CTDDEPTH,BTL_LAT,BTL_LON,LAB_DEN,LAB_DEN_FLAG_W,SALTREF,SALTREF_FLAG_W
,,,,,,,,,,,,,METERS,DBAR,ITS-90,PSS-78,,PSS-78,,UMOL/KG,,UMOL/KG,,UMOL/KG,,UMOL/KG,,UMOL/KG,,UMOL/KG,,PMOL/KG,,PMOL/KG,,PMOL/KG,,FMOL/KG,,UMOL/KG,,UMOL/KG,,,,DEG C,UMOL/KG,,TU,,NMOL/KG,,PERCNT,,ITS-90,,/MILLE,,/MILLE,,/MILLE,UMOL/KG,,/MILLE,,/MILLE,,NMOL/KG,NMOL/L,,,,METERS,,,KG/M^3,,G/KG,
33HQ20150809  ,ARC01      ,20      ,  1,32         ,    6136,    -999,GSNIS-32   ,2,20150825,0451,  80.2463,-177.6670,     2046,      2.6,  -1.4158,  27.5336,2,  27.5591,2,    382.7,2,    383.8,2,     2.45,2,     0.00,2,     0.00,2,     0.59,2,    6.905,2,    3.772,2,    0.671,2,    3.679,2,   1868.6,2,   1956.6,6,   7.6993,2,    25.00,     65.3,2,     -999,9,     -999,9,     -999,9,  -1.4170,2,     1.52,6,     -999,1,     -999,     3.29,2,     -999,1,     -999,9,     -999,     -999,9,20150825,0559,      2.5,  80.2486,-177.6726,     -999,9,  27.6891,2
33HQ20150809  ,ARC01      ,20      ,  1,31         ,    6136,    -999,GSNIS-31   ,2,20150825,0451,  80.2463,-177.6670,     2046,     18.4,  -1.0783,  29.7241,2,  29.7701,2,    402.3,2,    400.6,2,     2.55,2,     0.00,2,     0.00,2,     0.63,2,     -999,9,     -999,9,     -999,9,     -999,9,   2002.8,2,   2107.6,2,   7.7091,2,    25.00,     69.3,2,     -999,9,     -999,9,     -999,9,  -1.1053,4,     -999,9,     -999,9,     -999,     3.31,2,     -999,1,     -999,9,     -999,     -999,9,20150825,0557,     18.2,  80.2486,-177.6726,     -999,9,  29.9105,2
33HQ20150809  ,ARC01      ,20      ,  1,30         ,    6136,    -999,GSNIS-30   ,2,20150825,0451,  80.2463,-177.6670,     2046,     28.6,  -1.1914,  30.4851,2,  30.4371,2,    403.5,2,    405.1,2,     2.16,2,     0.00,2,     0.00,2,     0.67,2,    6.836,2,    3.703,2,    0.637,2,    3.426,2,   2028.1,2,   2147.9,2,   7.7364,2,    25.00,     69.2,2,     -999,9,     -999,9,     -999,9,  -1.1819,2,     -999,9,     -999,9,     -999,     3.17,2,     -999,1,     -999,9,     -999,     -999,9,20150825,0555,     28.3,  80.2486,-177.6727,     -999,9,  30.5806,2
33HQ20150809  ,ARC01      ,20      ,  1,29         ,    6136,    -999,GSNIS-29   ,2,20150825,0451,  80.2463,-177.6670,     2046,     49.0,  -1.3342,  31.6008,2,  31.6269,2,    355.1,2,    351.9,2,    13.41,2,     4.92,2,     0.08,2,     1.07,2,     -999,9,     -999,9,     -999,9,     -999,9,   2105.0,3,   2175.6,2,   7.6284,6,    25.00,     70.1,2,     -999,9,     -999,9,     -999,9,  -1.2827,2,     -999,9,     -999,9,     -999,     7.86,2,     -999,1,     -999,9,     -999,     -999,9,20150825,0554,     48.5,  80.2485,-177.6727,     -999,9,  31.7760,2
33HQ20150809  ,ARC01      ,20      ,  1,28         ,    6136,    -999,GSNIS-28   ,2,20150825,0451,  80.2463,-177.6670,     2046,     64.6,  -1.3336,  31.8656,2,  31.9272,2,    327.2,2,    330.9,2,    20.65,2,     8.51,2,     0.02,2,     1.31,2,    6.441,2,    3.532,2,    0.566,2,    3.121,2,     -999,9,   2208.6,2,   7.5642,2,    25.00,     66.8,2,     -999,9,     -999,9,     -999,9,  -1.3878,4,     -999,9,     -999,9,     -999,    10.05,2,     -999,1,     -999,9,     -999,     -999,9,20150825,0552,     63.9,  80.2485,-177.6726,     -999,9,  32.0778,2
33HQ20150809  ,ARC01      ,20      ,  1,27         ,    6136,    -999,GSNIS-27   ,2,20150825,0451,  80.2463,-177.6670,     2046,     74.7,  -1.4815,  32.0729,2,  32.1005,2,    328.5,2,    321.2,2,    24.66,2,    10.01,2,     0.02,2,     1.44,2,     -999,9,     -999,9,     -999,9,     -999,9,     -999,9,     -999,9,     -999,9,     -999,     64.6,2,     -999,9,     -999,9,     -999,9,  -1.4801,2,     -999,9,     -999,9,     -999,    12.23,2,     -999,1,     -999,9,     -999,     -999,9,20150825,0551,     73.8,  80.2484,-177.6725,     -999,9,  32.2519,2
33HQ20150809  ,ARC01      ,20      ,  1,26         ,    6136,    -999,GSNIS-26   ,2,20150825,0451,  80.2463,-177.6670,     2046,     85.1,  -1.4853,  32.2361,2,  32.2686,2,    312.4,2,    310.7,2,    29.94,2,    11.85,2,     0.02,2,     1.59,2,    6.409,2,    3.540,2,    0.540,2,    2.967,2,   2176.2,2,   2228.4,2,   7.4917,2,    25.00,     65.0,2,     -999,9,     -999,9,     -999,9,  -1.4973,2,     -999,9,     -999,9,     -999,    14.06,2,     -999,1,     -999,9,     -999,     -999,9,20150825,0550,     84.2,  80.2484,-177.6725,     -999,9,  32.4207,2
33HQ20150809  ,ARC01      ,20      ,  1,25         ,    6136,    -999,GSNIS-25   ,2,20150825,0451,  80.2463,-177.6670,     2046,     95.4,  -1.5307,  32.3615,2,  32.3741,2,    307.5,2,    307.6,2,    31.70,2,    12.48,2,     0.01,2,     1.64,2,     -999,9,     -999,9,     -999,9,     -999,9,     -999,9,     -999,9,     -999,9,     -999,     64.1,2,     -999,9,     -999,9,     -999,9,  -1.5318,2,     -999,9,     -999,9,     -999,    14.41,2,     -999,1,     -999,9,     -999,     -999,9,20150825,0548,     94.3,  80.2484,-177.6725,     -999,9,  32.5268,2
33HQ20150809  ,ARC01      ,20      ,  1,24         ,    6136,    -999,GSNIS-24   ,2,20150825,0451,  80.2463,-177.6670,     2046,    105.9,  -1.5458,  32.4665,2,  32.4822,2,    302.2,2,    301.3,2,    33.56,2,    13.35,2,     0.01,2,     1.71,2,    6.276,2,    3.458,2,    0.524,2,    3.158,2,     -999,9,   2235.6,2,   7.4615,2,    25.00,     67.0,2,     -999,9,     -999,9,     -999,9,  -1.5426,2,     -999,9,     -999,9,     -999,    16.22,2,     -999,1,     -999,9,     -999,     -999,9,20150825,0547,    104.7,  80.2483,-177.6724,     -999,9,  32.6354,2
33HQ20150809  ,ARC01      ,20      ,  1,23         ,    6136,    -999,GSNIS-23   ,2,20150825,0451,  80.2463,-177.6670,     2046,    121.1,  -1.5624,  32.6425,2,  32.6852,2,    290.9,2,    291.1,2,    37.56,2,    14.85,2,     0.00,2,     1.81,2,     -999,9,     -999,9,     -999,9,     -999,9,   2210.6,2,   2247.9,2,   7.4319,2,    25.00,     64.5,2,     -999,9,     -999,9,     -999,9,  -1.5622,2,     -999,9,     -999,9,     -999,    16.44,2,     -999,1,     -999,9,     -999,     -999,9,20150825,0545,    119.8,  80.2483,-177.6724,     -999,9,  32.8393,2
33HQ20150809  ,ARC01      ,20      ,  1,22         ,    6136,    -999,GSNIS-22   ,2,20150825,0451,  80.2463,-177.6670,     2046,    136.6,  -1.5248,  32.8904,2,  32.8849,2,    279.9,2,    280.6,2,    37.36,2,    15.25,2,     0.00,2,     1.85,2,    6.186,2,    3.419,2,    0.479,2,    2.763,2,     -999,9,     -999,9,     -999,9,     -999,     64.6,2,     -999,9,     -999,9,     -999,9,  -1.5441,2,     -999,9,     -999,9,     -999,    17.75,2,     -999,1,     -999,9,     -999,     -999,9,20150825,0544,    135.1,  80.2482,-177.6724,     -999,9,  33.0399,2
33HQ20150809  ,ARC01      ,20      ,  1,21         ,    6136,    -999,GSNIS-21   ,2,20150825,0451,  80.2463,-177.6670,     2046,    157.1,  -1.2456,  33.5559,2,  33.5845,2,    265.3,2,    263.7,2,    31.96,2,    14.63,2,     0.00,2,     1.62,2,     -999,9,     -999,9,     -999,9,     -999,9,     -999,9,   2283.9,2,   7.4569,2,    25.00,     62.6,2,     -999,9,     -999,9,     -999,9,  -1.2263,2,     -999,9,     -999,9,     -999,    15.28,2,     -999,1,     -999,9,     -999,     -999,9,20150825,0543,    155.4,  80.2482,-177.6723,     -999,9,  33.7429,2
33HQ20150809  ,ARC01      ,20      ,  1,20         ,    6136,    -999,GSNIS-20   ,2,20150825,0451,  80.2463,-177.6670,     2046,    177.8,  -0.8843,  34.0460,2,  34.0592,2,    257.1,2,    258.6,2,    23.84,2,    13.21,2,     0.00,2,     1.29,2,    5.789,2,    2.965,2,    0.392,2,    1.658,2,   2216.2,2,     -999,5,   7.5123,2,    25.00,     59.6,2,     -999,9,     -999,9,     -999,9,  -0.8836,2,     -999,9,     -999,9,     -999,    15.94,2,     -999,1,     -999,9,     -999,     -999,9,20150825,0541,    175.8,  80.2481,-177.6722,     -999,9,  34.2198,2
33HQ20150809  ,ARC01      ,20      ,  1,19         ,    6136,    -999,GSNIS-19   ,2,20150825,0451,  80.2463,-177.6670,     2046,    198.2,  -0.6601,  34.3508,2,  34.3819,2,    267.5,2,    271.9,2,    15.92,2,    11.54,2,     0.00,2,     1.01,2,     -999,9,     -999,9,     -999,9,     -999,9,     -999,9,   2280.6,2,   7.5680,2,    25.00,     61.0,2,     -999,9,     -999,9,     -999,9,  -0.6564,2,     -999,9,     -999,9,     -999,    13.31,2,     -999,1,     -999,9,     -999,     -999,9,20150825,0540,    196.1,  80.2481,-177.6721,     -999,9,  34.5441,2
33HQ20150809  ,ARC01      ,20      ,  1,18         ,    6136,    -999,GSNIS-18   ,2,20150825,0451,  80.2463,-177.6670,     2046,    218.9,  -0.2936,  34.5156,2,  34.5278,2,    285.7,2,    283.7,2,    10.74,2,    10.78,2,     0.00,2,     0.85,2,    5.929,2,    3.152,2,    0.423,2,    2.109,2,     -999,9,     -999,9,     -999,9,     -999,     58.3,2,     -999,9,     -999,9,     -999,9,  -0.3181,2,     -999,9,     -999,9,     -999,    13.04,2,     -999,1,     -999,9,     -999,     -999,9,20150825,0539,    216.5,  80.2480,-177.6720,     -999,9,  34.6906,2
33HQ20150809  ,ARC01      ,20      ,  1,17         ,    6136,    -999,GSNIS-17   ,2,20150825,0451,  80.2463,-177.6670,     2046,    239.6,  -0.0084,  34.5954,2,  34.6077,2,    284.3,2,    282.7,2,    10.16,2,    11.12,2,     0.00,2,     0.84,2,     -999,9,     -999,9,     -999,9,     -999,9,   2180.4,2,   2288.1,2,   7.6229,2,    25.00,     57.2,2,     -999,9,     -999,9,     -999,9,  -0.0076,2,     -999,9,     -999,9,     -999,    14.16,2,     -999,1,     -999,9,     -999,     -999,9,20150825,0537,    236.9,  80.2480,-177.6719,     -999,9,  34.7709,2
33HQ20150809  ,ARC01      ,20      ,  1,16         ,    6136,    -999,GSNIS-16   ,2,20150825,0451,  80.2463,-177.6670,     2046,    286.1,   0.6708,  34.7774,2,  34.7732,2,    292.9,2,    292.4,2,     6.35,2,    11.71,2,     0.00,2,     0.81,2,    5.546,2,    2.904,2,    0.412,2,    1.914,2,   2162.1,2,   2292.8,2,   7.6739,2,    25.00,     53.8,2,     -999,9,     -999,9,     -999,9,   0.6750,2,     -999,9,     -999,9,     -999,    13.75,2,     -999,1,     -999,9,     -999,     -999,9,20150825,0536,    282.8,  80.2480,-177.6719,     -999,9,  34.9372,2
33HQ20150809  ,ARC01      ,20      ,  1,15         ,    6136,    -999,GSNIS-15   ,2,20150825,0451,  80.2463,-177.6670,     2046,    337.3,   0.7841,  34.8070,2,  34.8092,2,    296.4,2,    296.4,2,     5.57,2,    11.70,2,     0.00,2,     0.79,2,     -999,9,     -999,9,     -999,9,     -999,9,   2160.2,2,   2296.4,6,   7.6850,2,    25.00,     53.2,2,     -999,9,     -999,9,     -999,9,   0.7840,2,     -999,9,     -999,9,     -999,    13.54,2,     -999,1,     -999,9,     -999,     -999,9,20150825,0534,    333.5,  80.2479,-177.6718,     -999,9,  34.9733,2
33HQ20150809  ,ARC01      ,20      ,  1,14         ,    6136,    -999,GSNIS-14   ,2,20150825,0451,  80.2463,-177.6670,     2046,    389.3,   0.9569,  34.8463,2,  34.8442,2,    299.1,2,    298.9,2,     5.27,2,    11.68,2,     0.00,2,     0.80,2,    5.392,2,    2.856,2,    0.406,2,    1.916,2,     -999,9,     -999,9,     -999,9,     -999,     53.1,2,     -999,9,     -999,9,     -999,9,   0.9554,2,     -999,9,     -999,9,     -999,    13.23,2,     -999,1,     -999,9,     -999,     -999,9,20150825,0532,    384.8,  80.2478,-177.6717,     -999,9,  35.0085,2
33HQ20150809  ,ARC01      ,20      ,  1,13         ,    6136,    -999,GSNIS-13   ,2,20150825,0451,  80.2463,-177.6670,     2046,    441.2,   0.9412,  34.8672,2,  34.8680,2,    300.4,2,    300.8,2,     5.18,2,    11.72,2,     0.00,2,     0.79,2,     -999,9,     -999,9,     -999,9,     -999,9,   2159.7,2,   2300.2,2,   7.6888,2,    25.00,     52.5,2,     -999,9,     -999,9,     -999,9,   0.9402,2,     -999,9,     -999,9,     -999,    13.20,2,     -999,1,     -999,9,     -999,     -999,9,20150825,0531,    436.1,  80.2478,-177.6716,     -999,9,  35.0324,2
33HQ20150809  ,ARC01      ,20      ,  1,12         ,    6136,    -999,GSNIS-12   ,2,20150825,0451,  80.2463,-177.6670,     2046,    492.3,   0.8122,  34.8689,2,  34.8705,2,    301.5,2,    302.5,2,     5.27,2,    11.65,2,     0.00,2,     0.80,2,    5.358,2,    2.836,2,    0.404,2,    2.007,2,     -999,9,     -999,9,     -999,9,     -999,     51.9,2,     -999,9,     -999,9,     -999,9,   0.8116,2,     -999,9,     -999,9,     -999,    12.43,2,     -999,1,     -999,9,     -999,     -999,9,20150825,0529,    486.5,  80.2477,-177.6715,     -999,9,  35.0350,2
33HQ20150809  ,ARC01      ,20      ,  1,11         ,    6136,    -999,GSNIS-11   ,2,20150825,0451,  80.2463,-177.6670,     2046,    544.3,   0.6950,  34.8746,2,  34.8757,2,    302.4,2,    303.8,2,     5.18,2,    11.56,2,     0.00,2,     0.79,2,     -999,9,     -999,9,     -999,9,     -999,9,     -999,9,   2292.5,2,   7.6832,2,    25.00,     52.2,2,     -999,9,     -999,9,     -999,9,   0.6949,2,     -999,9,     -999,9,     -999,    14.16,2,     -999,9,     -999,9,     -999,     -999,9,20150825,0527,    537.8,  80.2477,-177.6714,     -999,9,  35.0401,2
33HQ20150809  ,ARC01      ,20      ,  1,10         ,    6136,    -999,GSNIS-10   ,2,20150825,0451,  80.2463,-177.6670,     2046,    606.4,   0.5540,  34.8763,2,  34.8766,2,    302.9,2,    303.9,2,     5.27,2,    11.66,2,     0.00,2,     0.79,2,    5.353,2,    2.821,2,    0.408,2,    2.020,2,     -999,9,     -999,9,     -999,9,     -999,     52.7,2,     -999,9,     -999,9,     -999,9,   0.5538,2,     -999,9,     -999,9,     -999,    13.48,2,     -999,9,     -999,9,     -999,     -999,9,20150825,0525,    599.1,  80.2476,-177.6713,     -999,9,  35.0411,2
33HQ20150809  ,ARC01      ,20      ,  1,9          ,    6136,    -999,GSNIS-9    ,2,20150825,0451,  80.2463,-177.6670,     2046,    709.7,   0.3837,  34.8817,2,  34.8869,2,    303.8,2,    304.3,2,     5.37,2,    11.65,2,     0.00,2,     0.80,2,    5.306,2,    2.774,2,    0.399,2,    2.071,2,   2168.2,2,   2301.4,2,   7.6738,6,    25.00,     54.4,2,     -999,9,     -999,9,     -999,9,   0.3768,2,     -999,9,     -999,9,     -999,    15.18,2,     -999,9,     -999,9,     -999,     -999,9,20150825,0522,    701.0,  80.2475,-177.6711,     -999,9,  35.0514,2
33HQ20150809  ,ARC01      ,20      ,  1,8          ,    6136,    -999,GSNIS-8    ,2,20150825,0451,  80.2463,-177.6670,     2046,    807.8,   0.3098,  34.8917,2,  34.8934,2,    304.5,2,    305.3,2,     5.47,2,    11.61,2,     0.00,2,     0.80,2,    5.311,2,    2.803,2,    0.397,2,    2.174,2,     -999,9,   2722.1,4,   7.6703,2,    25.00,     54.6,2,     -999,9,     -999,9,     -999,9,   0.3094,2,     -999,9,     -999,9,     -999,    13.38,2,     -999,9,     -999,9,     -999,     -999,9,20150825,0519,    797.7,  80.2474,-177.6709,     -999,9,  35.0579,2
33HQ20150809  ,ARC01      ,20      ,  1,7          ,    6136,    -999,GSNIS-7    ,2,20150825,0451,  80.2463,-177.6670,     2046,    963.2,   0.0890,  34.8905,2,  34.8910,2,    304.6,2,    305.4,2,     5.66,2,    11.85,2,     0.00,2,     0.82,2,    5.212,2,    2.744,2,    0.398,2,    1.915,2,     -999,9,     -999,9,     -999,9,     -999,     55.2,2,     -999,9,     -999,9,     -999,9,   0.0905,2,     -999,9,     -999,9,     -999,    13.01,2,     -999,9,     -999,9,     -999,     -999,9,20150825,0516,    950.8,  80.2473,-177.6706,     -999,9,  35.0555,2
33HQ20150809  ,ARC01      ,20      ,  1,6          ,    6136,    -999,GSNIS-6    ,2,20150825,0451,  80.2463,-177.6670,     2046,   1113.4,  -0.0264,  34.8998,2,  34.9006,2,    305.3,2,    305.3,2,     5.96,2,    11.97,2,     0.00,2,     0.83,2,    5.037,2,    2.630,2,    0.384,2,    1.994,2,   2170.7,2,   2307.1,2,   7.6670,2,    25.00,     53.4,2,     -999,9,     -999,9,     -999,9,  -0.0259,2,     -999,9,     -999,9,     -999,    14.01,2,     -999,9,     -999,9,     -999,     -999,9,20150825,0512,   1098.7,  80.2471,-177.6702,     -999,9,  35.0652,2
33HQ20150809  ,ARC01      ,20      ,  1,5          ,    6136,    -999,GSNIS-5    ,2,20150825,0451,  80.2463,-177.6670,     2046,   1320.6,  -0.2642,  34.9002,2,  34.9008,2,    305.6,2,    306.0,2,     6.64,2,    12.32,2,     0.00,2,     0.85,2,    4.505,2,    2.335,2,    0.341,2,    1.641,2,     -999,9,   2301.5,2,   7.6757,2,    25.00,     54.4,2,     -999,9,     -999,9,     -999,9,  -0.2632,2,     -999,9,     -999,9,     -999,    14.02,2,     -999,9,     -999,9,     -999,     -999,9,20150825,0507,   1302.5,  80.2469,-177.6697,     -999,9,  35.0654,2
33HQ20150809  ,ARC01      ,20      ,  1,4          ,    6136,    -999,GSNIS-4    ,2,20150825,0451,  80.2463,-177.6670,     2046,   1522.7,  -0.3999,  34.9082,2,  34.9093,2,    303.5,2,    303.6,2,     7.71,2,    12.89,2,     0.00,2,     0.89,2,    3.388,2,    1.738,2,    0.246,2,    1.212,2,     -999,9,     -999,9,     -999,9,     -999,     53.0,2,     -999,9,     -999,9,     -999,9,  -0.3998,2,     -999,9,     -999,9,     -999,    13.59,2,     -999,9,     -999,9,     -999,     -999,9,20150825,0503,   1501.0,  80.2468,-177.6691,     -999,9,  35.0739,2
33HQ20150809  ,ARC01      ,20      ,  1,3          ,    6136,    -999,GSNIS-3    ,2,20150825,0451,  80.2463,-177.6670,     2046,   1722.5,  -0.4490,  34.9238,2,  34.9246,2,    296.8,2,    296.3,2,     9.86,2,    13.71,2,     0.00,2,     0.94,2,    1.716,2,    0.876,2,    0.119,2,    0.603,2,   2155.8,2,   2303.2,2,   7.7073,2,    25.00,     49.6,2,     -999,9,     -999,9,     -999,9,  -0.4488,2,     -999,9,     -999,9,     -999,    15.28,2,     -999,9,     -999,9,     -999,     -999,9,20150825,0459,   1697.2,  80.2466,-177.6684,     -999,9,  35.0893,2
33HQ20150809  ,ARC01      ,20      ,  1,2          ,    6136,    -999,GSNIS-2    ,2,20150825,0451,  80.2463,-177.6670,     2046,   1927.6,  -0.4216,  34.9407,2,  34.9419,2,    289.1,2,    288.7,2,    11.91,2,    14.28,2,     0.00,2,     0.99,2,    0.576,2,    0.273,2,    0.040,2,    0.184,2,     -999,9,   2303.1,2,   7.7229,2,    25.00,     46.3,2,     -999,9,     -999,9,     -999,9,  -0.4216,2,     -999,9,     -999,9,     -999,    15.13,2,     -999,9,     -999,9,     -999,     -999,9,20150825,0454,   1898.5,  80.2464,-177.6677,     -999,9,  35.1067,2
33HQ20150809  ,ARC01      ,20      ,  1,1          ,    6136,    -999,GSNIS-1    ,2,20150825,0451,  80.2463,-177.6670,     2046,   2067.2,  -0.3979,  34.9508,2,  34.9530,2,    285.2,2,    285.0,2,    13.09,2,    14.56,2,     0.00,2,     1.02,2,    0.175,2,    0.071,2,    0.013,2,    0.081,2,   2148.2,2,   2305.9,2,   7.7281,2,    25.00,     44.1,2,     -999,9,     -999,9,     -999,9,  -0.3982,2,     -999,9,     -999,9,     -999,    15.46,2,     -999,9,     -999,9,     -999,     -999,9,20150825,0450,   2035.2,  80.2463,-177.6669,     -999,9,  35.1178,2