BOTTLE,20221220CCHSIOAMB
EXPOCODE,SECT_ID,STNNBR,CASTNO,SAMPNO,GEOTR_EVENT,GEOTR_SAMPNO,BTLNBR,BTLNBR_FLAG_W,DATE,TIME,LATITUDE,LONGITUDE,DEPTH,CTDPRS,CTDTMP,CTDSAL,CTDSAL_FLAG_W,SALNTY,SALNTY_FLAG_W,CTDOXY,CTDOXY_FLAG_W,OXYGEN,OXYGEN_FLAG_W,SILCAT,SILCAT_FLAG_W,NITRAT,NITRAT_FLAG_W,NITRIT,NITRIT_FLAG_W,PHSPHT,PHSPHT_FLAG_W,CFC-11,CFC-11_FLAG_W,CFC-12,CFC-12_FLAG_W,CFC113,CFC113_FLAG_W,SF6,SF6_FLAG_W,TCARBN,TCARBN_FLAG_W,ALKALI,ALKALI_FLAG_W,PH_SWS,PH_SWS_FLAG_W,PH_TMP,DOC,DOC_FLAG_W,TRITUM,TRITUM_FLAG_W,HELIUM,HELIUM_FLAG_W,DELHE3,DELHE3_FLAG_W,REFTMP,REFTMP_FLAG_W,DELC13,DELC13_FLAG_W,DELC14,DELC14_FLAG_W,C14ERR,TDN,TDN_FLAG_W,DELO18,DELO18_FLAG_W,DELO17,DELO17_FLAG_W,CH4,CH4,CH4_FLAG_W,BTL_DATE,BTL_TIME,CTDDEPTH,BTL_LAT,BTL_LON,LAB_DEN,LAB_DEN_FLAG_W,SALTREF,SALTREF_FLAG_W
,,,,,,,,,,,,,METERS,DBAR,ITS-90,PSS-78,,PSS-78,,UMOL/KG,,UMOL/KG,,UMOL/KG,,UMOL/KG,,UMOL/KG,,UMOL/KG,,PMOL/KG,,PMOL/KG,,PMOL/KG,,FMOL/KG,,UMOL/KG,,UMOL/KG,,,,DEG C,UMOL/KG,,TU,,NMOL/KG,,PERCNT,,ITS-90,,/MILLE,,/MILLE,,/MILLE,UMOL/KG,,/MILLE,,/MILLE,,NMOL/KG,NMOL/L,,,,METERS,,,KG/M^3,,G/KG,
33HQ20150809  ,ARC01      ,27      ,  1,36         ,    6163,    -999,GSNIS-36   ,2,20150829,1734,  84.8190, 170.6886,     3335,      4.3,  -1.4842,  27.8758,2,  27.8754,2,    392.7,2,    394.3,2,     4.42,2,     0.02,2,     0.01,2,     0.68,2,    7.022,2,    3.753,2,    0.666,2,    3.698,2,   1880.3,6,   1980.8,6,   7.6972,2,    25.00,     75.8,2,     -999,9,     -999,9,     -999,9,     -999,9,     1.42,6,     -999,1,     -999,     4.23,2,     -999,1,     -999,9,     -999,     -999,9,20150829,1923,      4.3,  84.8173, 170.6182,     -999,9,  28.0069,2
33HQ20150809  ,ARC01      ,27      ,  1,35         ,    6163,    -999,GSNIS-35   ,2,20150829,1734,  84.8190, 170.6886,     3335,     15.1,  -1.4827,  27.8766,2,  27.9437,2,    392.1,2,    395.9,2,     4.42,2,     0.01,2,     0.01,2,     0.68,2,    7.086,2,    3.818,2,    0.668,2,    3.647,2,     -999,9,   1984.6,2,   7.7013,6,    25.00,     76.9,2,     -999,9,     -999,9,     -999,9,     -999,9,     -999,9,     -999,9,     -999,     5.49,2,     -999,1,     -999,9,     -999,     -999,9,20150829,1921,     14.9,  84.8174, 170.6197,     -999,9,  28.0755,2
33HQ20150809  ,ARC01      ,27      ,  1,34         ,    6163,    -999,GSNIS-34   ,2,20150829,1734,  84.8190, 170.6886,     3335,     25.1,  -1.2778,  28.8009,2,  28.9056,2,    404.5,2,    401.8,2,     4.71,2,     0.00,2,     0.01,2,     0.71,2,     -999,9,     -999,9,     -999,9,     -999,9,     -999,9,   2050.6,2,   7.6972,2,    25.00,     85.8,2,     -999,9,     -999,9,     -999,9,     -999,9,     -999,9,     -999,9,     -999,    10.73,2,     -999,1,     -999,9,     -999,     -999,9,20150829,1920,     24.8,  84.8174, 170.6209,     -999,9,  29.0419,2
33HQ20150809  ,ARC01      ,27      ,  1,33         ,    6163,    -999,GSNIS-33   ,2,20150829,1734,  84.8190, 170.6886,     3335,     44.7,  -1.3923,  29.7012,2,  30.1013,2,    384.2,2,    373.4,2,     6.86,2,     1.24,2,     0.06,2,     0.80,2,    6.857,2,    3.639,2,    0.627,2,    3.439,2,   2020.7,2,   2120.8,2,   7.6507,2,    25.00,     86.6,2,     -999,9,     -999,9,     -999,9,     -999,9,     -999,9,     -999,9,     -999,    11.10,2,     -999,1,     -999,9,     -999,     -999,9,20150829,1918,     44.2,  84.8174, 170.6223,     -999,9,  30.2432,2
33HQ20150809  ,ARC01      ,27      ,  1,32         ,    6163,    -999,GSNIS-32   ,2,20150829,1734,  84.8190, 170.6886,     3335,     65.3,  -1.3039,  32.0867,2,  32.2214,2,    290.1,2,    294.8,2,    19.67,2,     7.28,2,     0.02,2,     1.06,2,     -999,9,     -999,9,     -999,9,     -999,9,   2171.3,2,   2223.8,6,   7.4783,2,    25.00,     84.2,2,     -999,9,     -999,9,     -999,9,     -999,9,     -999,9,     -999,9,     -999,    12.52,2,     -999,1,     -999,9,     -999,     -999,9,20150829,1916,     64.6,  84.8174, 170.6239,     -999,9,  32.3733,2
33HQ20150809  ,ARC01      ,27      ,  1,31         ,    6163,    -999,GSNIS-31   ,2,20150829,1734,  84.8190, 170.6886,     3335,     75.5,  -1.5075,  32.7770,2,  32.9109,2,    305.4,2,    300.0,2,    15.94,2,     7.63,2,     0.01,2,     0.92,2,    6.446,2,    3.467,2,    0.500,2,    3.019,2,   2182.2,6,   2249.2,2,   7.5166,2,    25.00,     86.5,2,     -999,9,     -999,9,     -999,9,     -999,9,     -999,9,     -999,9,     -999,    11.33,2,     -999,1,     -999,9,     -999,     -999,9,20150829,1915,     74.7,  84.8174, 170.6250,     -999,9,  33.0660,2
33HQ20150809  ,ARC01      ,27      ,  1,30         ,    6163,    -999,GSNIS-30   ,2,20150829,1734,  84.8190, 170.6886,     3335,     85.8,  -1.4577,  33.2888,2,  33.3860,2,    305.9,2,    302.6,2,    12.71,2,     7.65,2,     0.01,2,     0.82,2,     -999,9,     -999,9,     -999,9,     -999,9,     -999,9,   2259.4,2,   7.5472,2,    25.00,     79.3,2,     -999,9,     -999,9,     -999,9,     -999,9,     -999,9,     -999,9,     -999,    12.31,2,     -999,1,     -999,9,     -999,     -999,9,20150829,1913,     84.8,  84.8175, 170.6261,     -999,9,  33.5434,2
33HQ20150809  ,ARC01      ,27      ,  1,29         ,    6163,    -999,GSNIS-29   ,2,20150829,1734,  84.8190, 170.6886,     3335,     96.2,  -1.4680,  33.6852,2,  33.7266,2,    316.2,2,    310.3,2,     8.89,2,     7.18,2,     0.01,2,     0.70,2,    6.404,2,    3.385,2,    0.489,2,    2.856,2,     -999,9,   2276.6,2,   7.5855,2,    25.00,     74.0,2,     -999,9,     -999,9,     -999,9,     -999,9,     -999,9,     -999,9,     -999,    11.97,2,     -999,1,     -999,9,     -999,     -999,9,20150829,1912,     95.2,  84.8175, 170.6274,     -999,9,  33.8856,2
33HQ20150809  ,ARC01      ,27      ,  1,28         ,    6163,    -999,GSNIS-28   ,2,20150829,1734,  84.8190, 170.6886,     3335,    105.4,  -1.4453,  33.8983,2,  33.9488,2,    309.9,2,    310.5,2,     7.62,2,     7.30,2,     0.01,2,     0.68,2,     -999,9,     -999,9,     -999,9,     -999,9,     -999,9,   2273.4,2,   7.5998,2,    25.00,     70.7,2,     -999,9,     -999,9,     -999,9,     -999,9,     -999,9,     -999,9,     -999,    10.32,2,     -999,1,     -999,9,     -999,     -999,9,20150829,1910,    104.3,  84.8175, 170.6286,     -999,9,  34.1089,2
33HQ20150809  ,ARC01      ,27      ,  1,27         ,    6163,    -999,GSNIS-27   ,2,20150829,1734,  84.8190, 170.6886,     3335,    120.8,  -1.4009,  34.1282,2,  34.1428,2,    311.5,2,    310.9,2,     6.16,2,     7.50,2,     0.01,2,     0.64,2,    6.409,2,    3.392,2,    0.474,2,    2.630,2,   2172.3,2,   2275.6,2,   7.6237,2,    25.00,     68.0,2,     -999,9,     -999,9,     -999,9,     -999,9,     -999,9,     -999,9,     -999,    11.38,2,     -999,1,     -999,9,     -999,     -999,9,20150829,1908,    119.4,  84.8175, 170.6299,     -999,9,  34.3038,2
33HQ20150809  ,ARC01      ,27      ,  1,26         ,    6163,    -999,GSNIS-26   ,2,20150829,1734,  84.8190, 170.6886,     3335,    136.2,  -1.1786,  34.2701,2,  34.2830,2,    312.2,2,    309.5,2,     5.86,2,     8.14,2,     0.01,2,     0.66,2,     -999,9,     -999,9,     -999,9,     -999,9,     -999,9,   2280.4,2,   7.6304,2,    25.00,     62.8,2,     -999,9,     -999,9,     -999,9,     -999,9,     -999,9,     -999,9,     -999,    10.85,2,     -999,1,     -999,9,     -999,     -999,9,20150829,1906,    134.7,  84.8175, 170.6313,     -999,9,  34.4446,2
33HQ20150809  ,ARC01      ,27      ,  1,25         ,    6163,    -999,GSNIS-25   ,2,20150829,1734,  84.8190, 170.6886,     3335,    156.9,  -0.7177,  34.4066,2,  34.4184,2,    308.2,2,    305.5,2,     5.47,2,     8.81,2,     0.01,2,     0.69,2,    6.199,2,    3.237,2,    0.452,2,    2.425,2,     -999,9,   2284.8,2,   7.6354,2,    25.00,     59.4,2,     -999,9,     -999,9,     -999,9,     -999,9,     -999,9,     -999,9,     -999,    11.71,2,     -999,1,     -999,9,     -999,     -999,9,20150829,1904,    155.2,  84.8176, 170.6327,     -999,9,  34.5807,2
33HQ20150809  ,ARC01      ,27      ,  1,24         ,    6163,    -999,GSNIS-24   ,2,20150829,1734,  84.8190, 170.6886,     3335,    177.7,  -0.3122,  34.5149,2,  34.5189,2,    306.8,2,    303.7,2,     5.37,2,     9.32,2,     0.01,2,     0.71,2,     -999,9,     -999,9,     -999,9,     -999,9,     -999,9,   2286.7,2,   7.6432,2,    25.00,     58.6,2,     -999,9,     -999,9,     -999,9,     -999,9,     -999,9,     -999,9,     -999,    11.70,2,     -999,1,     -999,9,     -999,     -999,9,20150829,1902,    175.7,  84.8176, 170.6342,     -999,9,  34.6817,2
33HQ20150809  ,ARC01      ,27      ,  1,23         ,    6163,    -999,GSNIS-23   ,2,20150829,1734,  84.8190, 170.6886,     3335,    198.3,   0.0447,  34.5994,2,  34.6030,2,    299.9,2,    299.9,2,     5.57,2,     9.97,2,     0.01,2,     0.73,2,    5.965,2,    3.105,2,    0.431,2,    2.236,2,   2170.5,2,   2288.1,2,   7.6569,2,    25.00,     60.1,2,     -999,9,     -999,9,     -999,9,     -999,9,     -999,9,     -999,9,     -999,    12.70,2,     -999,9,     -999,9,     -999,     -999,9,20150829,1901,    196.1,  84.8176, 170.6356,     -999,9,  34.7661,2
33HQ20150809  ,ARC01      ,27      ,  1,22         ,    6163,    -999,GSNIS-22   ,2,20150829,1734,  84.8190, 170.6886,     3335,    219.0,   0.3843,  34.6815,2,  34.6951,2,    299.0,2,    298.1,2,     5.57,2,    10.68,2,     0.01,2,     0.76,2,     -999,9,     -999,9,     -999,9,     -999,9,     -999,9,   2291.6,2,   7.6693,2,    25.00,     57.1,2,     -999,9,     -999,9,     -999,9,     -999,9,     -999,9,     -999,9,     -999,    13.42,2,     -999,1,     -999,9,     -999,     -999,9,20150829,1859,    216.5,  84.8177, 170.6370,     -999,9,  34.8587,2
33HQ20150809  ,ARC01      ,27      ,  1,21         ,    6163,    -999,GSNIS-21   ,2,20150829,1734,  84.8190, 170.6886,     3335,    239.6,   0.6796,  34.7679,2,  34.7759,2,    297.0,2,    298.5,2,     5.47,2,    11.27,2,     0.01,2,     0.78,2,    5.573,2,    2.880,2,    0.412,2,    1.878,2,     -999,9,   2294.0,2,   7.6064,4,    25.00,     57.2,2,     -999,9,     -999,9,     -999,9,     -999,9,     -999,9,     -999,9,     -999,    13.61,2,     -999,9,     -999,9,     -999,     -999,9,20150829,1856,    236.9,  84.8177, 170.6386,     -999,9,  34.9399,2
33HQ20150809  ,ARC01      ,27      ,  1,20         ,    6163,    -999,GSNIS-20   ,2,20150829,1734,  84.8190, 170.6886,     3335,    287.1,   0.8537,  34.8154,2,  34.8156,2,    296.4,2,    298.0,2,     5.27,2,    11.44,2,     0.01,2,     0.79,2,     -999,9,     -999,9,     -999,9,     -999,9,     -999,9,   2294.8,2,   7.6925,2,    25.00,     56.1,2,     -999,9,     -999,9,     -999,9,     -999,9,     -999,9,     -999,9,     -999,    13.11,2,     -999,1,     -999,9,     -999,     -999,9,20150829,1854,    283.8,  84.8177, 170.6401,     -999,9,  34.9798,2
33HQ20150809  ,ARC01      ,27      ,  1,19         ,    6163,    -999,GSNIS-19   ,2,20150829,1734,  84.8190, 170.6886,     3335,    337.8,   1.0115,  34.8527,2,  34.8528,2,    298.2,2,    299.5,2,     5.37,2,    11.64,2,     0.01,2,     0.80,2,    5.388,2,    2.757,2,    0.404,2,    1.684,2,   2160.9,2,   2297.4,2,   7.6999,2,    25.00,     53.6,2,     -999,9,     -999,9,     -999,9,     -999,9,     -999,9,     -999,9,     -999,    14.37,2,     -999,9,     -999,9,     -999,     -999,9,20150829,1852,    333.9,  84.8178, 170.6419,     -999,9,  35.0172,2
33HQ20150809  ,ARC01      ,27      ,  1,18         ,    6163,    -999,GSNIS-18   ,2,20150829,1734,  84.8190, 170.6886,     3335,    389.1,   0.9939,  34.8646,2,  34.8664,2,    301.6,2,    300.8,2,     5.57,2,    11.72,2,     0.01,2,     0.80,2,     -999,9,     -999,9,     -999,9,     -999,9,     -999,9,   2297.4,2,   7.6996,2,    25.00,     54.7,2,     -999,9,     -999,9,     -999,9,     -999,9,     -999,9,     -999,9,     -999,    14.87,2,     -999,1,     -999,9,     -999,     -999,9,20150829,1850,    384.5,  84.8178, 170.6434,     -999,9,  35.0308,2
33HQ20150809  ,ARC01      ,27      ,  1,17         ,    6163,    -999,GSNIS-17   ,2,20150829,1734,  84.8190, 170.6886,     3335,    440.8,   0.8743,  34.8714,2,  34.8704,2,    302.2,2,    301.8,2,     5.57,2,    11.71,2,     0.00,2,     0.80,2,    5.253,2,    2.657,2,    0.380,2,    1.622,2,     -999,9,   2295.7,2,   7.7001,2,    25.00,     52.3,2,     -999,9,     -999,9,     -999,9,     -999,9,     -999,9,     -999,9,     -999,    14.38,2,     -999,9,     -999,9,     -999,     -999,9,20150829,1848,    435.6,  84.8178, 170.6449,     -999,9,  35.0348,2
33HQ20150809  ,ARC01      ,27      ,  1,16         ,    6163,    -999,GSNIS-16   ,2,20150829,1734,  84.8190, 170.6886,     3335,    492.4,   0.7141,  34.8723,2,  34.8715,2,    303.8,2,    302.4,2,     5.57,2,    11.69,2,     0.00,2,     0.81,2,     -999,9,     -999,9,     -999,9,     -999,9,     -999,9,   2296.6,2,   7.6942,2,    25.00,     56.2,2,     -999,9,     -999,9,     -999,9,     -999,9,     -999,9,     -999,9,     -999,    14.42,2,     -999,1,     -999,9,     -999,     -999,9,20150829,1845,    486.6,  84.8179, 170.6464,     -999,9,  35.0360,2
33HQ20150809  ,ARC01      ,27      ,  1,15         ,    6163,    -999,GSNIS-15   ,2,20150829,1734,  84.8190, 170.6886,     3335,    539.0,   0.5909,  34.8735,2,  34.8743,2,    303.9,2,    304.4,2,     5.66,2,    11.71,2,     0.01,2,     0.82,2,    5.164,2,    2.566,2,    0.367,2,    1.613,2,   2163.5,2,   2300.0,2,   7.6932,2,    25.00,     54.5,2,     -999,9,     -999,9,     -999,9,     -999,9,     -999,9,     -999,9,     -999,    13.41,2,     -999,9,     -999,9,     -999,     -999,9,20150829,1843,    532.5,  84.8179, 170.6478,     -999,9,  35.0388,2
33HQ20150809  ,ARC01      ,27      ,  1,14         ,    6163,    -999,GSNIS-14   ,2,20150829,1734,  84.8190, 170.6886,     3335,    605.7,   0.4108,  34.8739,2,  34.8749,2,    305.2,2,    306.0,2,     5.66,2,    11.74,2,     0.01,2,     0.81,2,    5.089,2,    2.558,2,    0.360,2,    1.555,2,     -999,9,   2300.0,2,   7.6918,2,    25.00,     56.0,2,     -999,9,     -999,9,     -999,9,     -999,9,     -999,9,     -999,9,     -999,    14.00,2,     -999,9,     -999,9,     -999,     -999,9,20150829,1841,    598.4,  84.8179, 170.6495,     -999,9,  35.0394,2
33HQ20150809  ,ARC01      ,27      ,  1,13         ,    6163,    -999,GSNIS-13   ,2,20150829,1734,  84.8190, 170.6886,     3335,    760.7,   0.1414,  34.8802,2,  34.8804,2,    306.5,2,    305.1,2,     5.86,2,    11.79,2,     0.00,2,     0.83,2,    4.876,2,    2.413,2,    0.337,2,    1.509,2,     -999,9,   2298.9,2,   7.6854,2,    25.00,     54.4,2,     -999,9,     -999,9,     -999,9,     -999,9,     -999,9,     -999,9,     -999,    13.90,2,     -999,9,     -999,9,     -999,     -999,9,20150829,1837,    751.2,  84.8180, 170.6523,     -999,9,  35.0449,2
33HQ20150809  ,ARC01      ,27      ,  1,12         ,    6163,    -999,GSNIS-12   ,2,20150829,1734,  84.8190, 170.6886,     3335,    911.2,  -0.0239,  34.8881,2,  34.8887,2,    306.1,2,    306.0,2,     6.05,2,    12.20,2,     0.00,2,     0.84,2,    4.587,2,    2.288,2,    0.319,2,    1.420,2,     -999,9,   2299.6,2,   7.6853,2,    25.00,     53.4,2,     -999,9,     -999,9,     -999,9,     -999,9,     -999,9,     -999,9,     -999,    14.43,2,     -999,9,     -999,9,     -999,     -999,9,20150829,1832,    899.5,  84.8181, 170.6550,     -999,9,  35.0532,2
33HQ20150809  ,ARC01      ,27      ,  1,11         ,    6163,    -999,GSNIS-11   ,2,20150829,1734,  84.8190, 170.6886,     3335,   1061.2,  -0.1773,  34.8950,2,  34.8944,2,    305.1,2,    304.0,2,     6.64,2,    12.24,2,     0.00,2,     0.85,2,    3.949,2,    1.951,2,    0.270,2,    1.201,2,   2165.6,2,   2297.3,2,   7.6911,2,    25.00,     53.0,2,     -999,9,     -999,9,     -999,9,     -999,9,     -999,9,     -999,9,     -999,    14.20,2,     -999,9,     -999,9,     -999,     -999,9,20150829,1829,   1047.2,  84.8181, 170.6574,     -999,9,  35.0590,2
33HQ20150809  ,ARC01      ,27      ,  1,10         ,    6163,    -999,GSNIS-10   ,2,20150829,1734,  84.8190, 170.6886,     3335,   1262.9,  -0.3032,  34.9070,2,  34.9066,2,    301.6,2,    301.8,2,     7.71,2,    12.79,2,     0.00,2,     0.90,2,    2.265,2,    1.188,2,    0.141,2,    0.586,2,     -999,9,   2298.8,2,   7.7080,2,    25.00,     52.5,2,     -999,9,     -999,9,     -999,9,     -999,9,     -999,9,     -999,9,     -999,    14.54,2,     -999,9,     -999,9,     -999,     -999,9,20150829,1824,   1245.6,  84.8182, 170.6604,     -999,9,  35.0712,2
33HQ20150809  ,ARC01      ,27      ,  1,9          ,    6163,    -999,GSNIS-9    ,2,20150829,1734,  84.8190, 170.6886,     3335,   1468.5,  -0.3652,  34.9223,2,  34.9220,2,    297.6,2,    299.1,2,     8.98,2,    13.38,2,     0.00,2,     0.93,2,    0.938,2,    0.443,2,    0.046,2,    0.240,2,     -999,9,   2297.6,2,   7.7257,2,    25.00,     49.2,2,     -999,9,     -999,9,     -999,9,     -999,9,     -999,9,     -999,9,     -999,    14.59,2,     -999,9,     -999,9,     -999,     -999,9,20150829,1819,   1447.7,  84.8183, 170.6633,     -999,9,  35.0867,2
33HQ20150809  ,ARC01      ,27      ,  1,8          ,    6163,    -999,GSNIS-8    ,2,20150829,1734,  84.8190, 170.6886,     3335,   1668.0,  -0.3944,  34.9350,2,  34.9344,2,    294.5,2,    294.6,2,    10.35,2,    13.82,2,     0.00,2,     0.96,2,    0.380,2,    0.177,2,    0.016,2,    0.083,2,     -999,9,   2298.6,2,   7.7328,2,    25.00,     47.8,2,     -999,9,     -999,9,     -999,9,     -999,9,     -999,9,     -999,9,     -999,    16.44,2,     -999,9,     -999,9,     -999,     -999,9,20150829,1814,   1643.6,  84.8183, 170.6665,     -999,9,  35.0991,2
33HQ20150809  ,ARC01      ,27      ,  1,7          ,    6163,    -999,GSNIS-7    ,2,20150829,1734,  84.8190, 170.6886,     3335,   1875.5,  -0.4051,  34.9437,2,  34.9436,2,    291.4,2,    291.4,2,    11.42,2,    14.10,2,     0.00,2,     0.98,2,    0.169,2,    0.078,2,    0.008,2,    0.097,2,   2158.7,2,   2297.8,2,   7.7336,2,    25.00,     46.2,2,     -999,9,     -999,9,     -999,9,     -999,9,     -999,9,     -999,9,     -999,    15.36,2,     -999,9,     -999,9,     -999,     -999,9,20150829,1809,   1847.2,  84.8184, 170.6693,     -999,9,  35.1084,2
33HQ20150809  ,ARC01      ,27      ,  1,6          ,    6163,    -999,GSNIS-6    ,2,20150829,1734,  84.8190, 170.6886,     3335,   2083.8,  -0.4008,  34.9485,2,  34.9490,2,    289.8,2,    290.3,2,    12.01,2,    14.21,2,     0.00,2,     1.01,2,    0.088,2,    0.047,2,    0.006,2,    0.088,2,     -999,9,   2298.3,2,   7.7335,2,    25.00,     47.4,2,     -999,9,     -999,9,     -999,9,     -999,9,     -999,9,     -999,9,     -999,    14.31,2,     -999,9,     -999,9,     -999,     -999,9,20150829,1805,   2051.3,  84.8185, 170.6721,     -999,9,  35.1138,2
33HQ20150809  ,ARC01      ,27      ,  1,5          ,    6163,    -999,GSNIS-5    ,2,20150829,1734,  84.8190, 170.6886,     3335,   2285.9,  -0.3896,  34.9510,2,  34.9519,2,    288.8,2,    287.7,2,    12.40,2,    14.30,2,     0.00,2,     0.99,2,    0.057,2,    0.025,2,    0.004,2,    0.000,2,     -999,9,   2298.3,2,   7.7323,2,    25.00,     44.9,2,     -999,9,     -999,9,     -999,9,     -999,9,     -999,9,     -999,9,     -999,    15.07,2,     -999,9,     -999,9,     -999,     -999,9,20150829,1759,   2249.2,  84.8186, 170.6753,     -999,9,  35.1167,2
33HQ20150809  ,ARC01      ,27      ,  1,4          ,    6163,    -999,GSNIS-4    ,2,20150829,1734,  84.8190, 170.6886,     3335,   2532.1,  -0.3738,  34.9527,2,  34.9539,2,    287.8,2,    286.9,2,    12.60,2,    14.38,2,     0.00,2,     1.00,2,    0.036,2,    0.019,2,    0.000,2,    0.000,2,     -999,9,   2299.7,2,   7.7323,6,    25.00,     46.3,2,     -999,9,     -999,9,     -999,9,     -999,9,     -999,9,     -999,9,     -999,    16.62,2,     -999,9,     -999,9,     -999,     -999,9,20150829,1751,   2490.0,  84.8187, 170.6798,     -999,9,  35.1187,2