BOTTLE,20221220CCHSIOAMB
EXPOCODE,SECT_ID,STNNBR,CASTNO,SAMPNO,GEOTR_EVENT,GEOTR_SAMPNO,BTLNBR,BTLNBR_FLAG_W,DATE,TIME,LATITUDE,LONGITUDE,DEPTH,CTDPRS,CTDTMP,CTDSAL,CTDSAL_FLAG_W,SALNTY,SALNTY_FLAG_W,CTDOXY,CTDOXY_FLAG_W,OXYGEN,OXYGEN_FLAG_W,SILCAT,SILCAT_FLAG_W,NITRAT,NITRAT_FLAG_W,NITRIT,NITRIT_FLAG_W,PHSPHT,PHSPHT_FLAG_W,CFC-11,CFC-11_FLAG_W,CFC-12,CFC-12_FLAG_W,CFC113,CFC113_FLAG_W,SF6,SF6_FLAG_W,TCARBN,TCARBN_FLAG_W,ALKALI,ALKALI_FLAG_W,PH_SWS,PH_SWS_FLAG_W,PH_TMP,DOC,DOC_FLAG_W,TRITUM,TRITUM_FLAG_W,HELIUM,HELIUM_FLAG_W,DELHE3,DELHE3_FLAG_W,REFTMP,REFTMP_FLAG_W,DELC13,DELC13_FLAG_W,DELC14,DELC14_FLAG_W,C14ERR,TDN,TDN_FLAG_W,DELO18,DELO18_FLAG_W,DELO17,DELO17_FLAG_W,CH4,CH4,CH4_FLAG_W,BTL_DATE,BTL_TIME,CTDDEPTH,BTL_LAT,BTL_LON,LAB_DEN,LAB_DEN_FLAG_W,SALTREF,SALTREF_FLAG_W
,,,,,,,,,,,,,METERS,DBAR,ITS-90,PSS-78,,PSS-78,,UMOL/KG,,UMOL/KG,,UMOL/KG,,UMOL/KG,,UMOL/KG,,UMOL/KG,,PMOL/KG,,PMOL/KG,,PMOL/KG,,FMOL/KG,,UMOL/KG,,UMOL/KG,,,,DEG C,UMOL/KG,,TU,,NMOL/KG,,PERCNT,,ITS-90,,/MILLE,,/MILLE,,/MILLE,UMOL/KG,,/MILLE,,/MILLE,,NMOL/KG,NMOL/L,,,,METERS,,,KG/M^3,,G/KG,
33HQ20150809  ,ARC01      ,12      ,  3,3          ,    6092,    -999,GSNIS-3    ,2,20150820,1003,  75.7749,-171.3739,     1717,   1420.0,  -0.3418,  34.9007,2,  34.9014,2,    304.1,2,    303.2,2,     7.62,2,    12.84,2,     0.00,2,     0.90,2,    3.658,2,    1.848,2,    0.246,2,    1.091,2,   2171.0,2,   2283.1,2,   7.6890,2,    25.00,     51.6,2,     -999,9,     -999,9,     -999,9,  -0.3419,2,     -999,9,     -999,9,     -999,    11.48,2,     -999,9,     -999,9,     -999,     -999,9,20150820,1017,   1400.5,  75.7749,-171.3819,     -999,9,  35.0660,2
33HQ20150809  ,ARC01      ,12      ,  3,2          ,    6092,    -999,GSNIS-2    ,2,20150820,1003,  75.7749,-171.3739,     1717,   1623.2,  -0.4235,  34.9174,2,  34.9175,2,    297.6,2,    298.4,2,     9.38,2,    13.60,2,     0.00,2,     0.96,2,    2.187,2,    1.105,2,    0.141,2,    0.737,2,   2164.1,2,   2298.4,2,   7.7014,6,    25.00,     50.5,2,     -999,9,     -999,9,     -999,9,  -0.4234,2,     -999,9,     -999,9,     -999,    14.69,2,     -999,9,     -999,9,     -999,     -999,9,20150820,1011,   1600.0,  75.7748,-171.3786,     -999,9,  35.0822,2
33HQ20150809  ,ARC01      ,12      ,  3,1          ,    6092,    -999,GSNIS-1    ,3,20150820,1003,  75.7749,-171.3739,     1717,   1730.2,  -0.4163,  34.9374,2,  34.9320,4,    289.8,2,    289.7,2,    11.63,2,    14.18,2,     0.00,2,     0.99,2,    0.964,2,    0.476,2,    0.063,2,   -9.000,4,   2162.7,2,   2300.2,6,   7.7160,2,    25.00,     47.3,2,     -999,9,     -999,9,     -999,9,  -0.4163,2,     -999,9,     -999,9,     -999,    13.84,2,     -999,9,     -999,9,     -999,     -999,9,20150820,1003,   1705.1,  75.7748,-171.3742,     -999,9,  35.0968,4