BOTTLE,20221220CCHSIOAMB
EXPOCODE,SECT_ID,STNNBR,CASTNO,SAMPNO,GEOTR_EVENT,GEOTR_SAMPNO,BTLNBR,BTLNBR_FLAG_W,DATE,TIME,LATITUDE,LONGITUDE,DEPTH,CTDPRS,CTDTMP,CTDSAL,CTDSAL_FLAG_W,SALNTY,SALNTY_FLAG_W,CTDOXY,CTDOXY_FLAG_W,OXYGEN,OXYGEN_FLAG_W,SILCAT,SILCAT_FLAG_W,NITRAT,NITRAT_FLAG_W,NITRIT,NITRIT_FLAG_W,PHSPHT,PHSPHT_FLAG_W,CFC-11,CFC-11_FLAG_W,CFC-12,CFC-12_FLAG_W,CFC113,CFC113_FLAG_W,SF6,SF6_FLAG_W,TCARBN,TCARBN_FLAG_W,ALKALI,ALKALI_FLAG_W,PH_SWS,PH_SWS_FLAG_W,PH_TMP,DOC,DOC_FLAG_W,TRITUM,TRITUM_FLAG_W,HELIUM,HELIUM_FLAG_W,DELHE3,DELHE3_FLAG_W,REFTMP,REFTMP_FLAG_W,DELC13,DELC13_FLAG_W,DELC14,DELC14_FLAG_W,C14ERR,TDN,TDN_FLAG_W,DELO18,DELO18_FLAG_W,DELO17,DELO17_FLAG_W,CH4,CH4,CH4_FLAG_W,BTL_DATE,BTL_TIME,CTDDEPTH,BTL_LAT,BTL_LON,LAB_DEN,LAB_DEN_FLAG_W,SALTREF,SALTREF_FLAG_W
,,,,,,,,,,,,,METERS,DBAR,ITS-90,PSS-78,,PSS-78,,UMOL/KG,,UMOL/KG,,UMOL/KG,,UMOL/KG,,UMOL/KG,,UMOL/KG,,PMOL/KG,,PMOL/KG,,PMOL/KG,,FMOL/KG,,UMOL/KG,,UMOL/KG,,,,DEG C,UMOL/KG,,TU,,NMOL/KG,,PERCNT,,ITS-90,,/MILLE,,/MILLE,,/MILLE,UMOL/KG,,/MILLE,,/MILLE,,NMOL/KG,NMOL/L,,,,METERS,,,KG/M^3,,G/KG,
33HQ20150809  ,ARC01      ,38      ,  4,36         ,    6252,   11406,GSNIS-36   ,2,20150910,0940,  87.8235,-149.0749,     2570,      3.2,  -1.5101,  28.1011,2,     -999,9,    380.1,2,     -999,9,    12.96,2,     0.03,2,     0.00,2,     0.66,2,     -999,9,     -999,9,     -999,9,     -999,9,     -999,9,     -999,9,     -999,9,     -999,     -999,9,     -999,9,     -999,9,     -999,9,  -1.5146,2,     -999,9,     -999,9,     -999,     -999,9,     -999,9,     -999,9,     -999,     -999,9,20150910,1008,      3.2,  87.8238,-149.0195,     -999,9,     -999,9
33HQ20150809  ,ARC01      ,38      ,  4,35         ,    6252,   11406,GSNIS-35   ,2,20150910,0940,  87.8235,-149.0749,     2570,      3.2,  -1.5140,  28.0992,2,     -999,9,    380.1,2,     -999,9,    13.06,2,     0.03,2,     0.00,2,     0.65,2,     -999,9,     -999,9,     -999,9,     -999,9,     -999,9,     -999,9,     -999,9,     -999,     -999,9,     -999,9,     -999,9,     -999,9,  -1.5175,2,     -999,9,     -999,9,     -999,     -999,9,     -999,9,     -999,9,     -999,     -999,9,20150910,1008,      3.2,  87.8238,-149.0196,     -999,9,     -999,9
33HQ20150809  ,ARC01      ,38      ,  4,34         ,    6252,   11406,GSNIS-34   ,2,20150910,0940,  87.8235,-149.0749,     2570,      3.2,  -1.5174,  28.0999,2,  28.1011,2,    380.1,2,    386.2,2,    12.96,2,     0.02,2,     0.00,2,     0.65,2,     -999,9,     -999,9,     -999,9,     -999,9,     -999,9,     -999,9,     -999,9,     -999,     -999,9,     -999,9,     -999,9,     -999,9,  -1.5176,2,     -999,9,     -999,9,     -999,     -999,9,     -999,9,     -999,9,     -999,     -999,9,20150910,1008,      3.2,  87.8238,-149.0198,     -999,9,  28.2336,2
33HQ20150809  ,ARC01      ,38      ,  4,33         ,    6252,   11405,GSNIS-33   ,2,20150910,0940,  87.8235,-149.0749,     2570,     10.3,  -1.5176,  28.1061,2,     -999,9,    379.4,2,     -999,9,    12.96,2,     0.04,2,     0.00,2,     0.65,2,     -999,9,     -999,9,     -999,9,     -999,9,     -999,9,     -999,9,     -999,9,     -999,     -999,9,     -999,9,     -999,9,     -999,9,  -1.5175,2,     -999,9,     -999,9,     -999,     -999,9,     -999,9,     -999,9,     -999,     -999,9,20150910,1007,     10.1,  87.8238,-149.0228,     -999,9,     -999,9
33HQ20150809  ,ARC01      ,38      ,  4,32         ,    6252,   11405,GSNIS-32   ,2,20150910,0940,  87.8235,-149.0749,     2570,     10.3,  -1.5175,  28.1058,2,     -999,9,    379.4,2,     -999,9,    12.96,2,     0.03,2,     0.00,2,     0.65,2,     -999,9,     -999,9,     -999,9,     -999,9,     -999,9,     -999,9,     -999,9,     -999,     -999,9,     -999,9,     -999,9,     -999,9,  -1.5175,2,     -999,9,     -999,9,     -999,     -999,9,     -999,9,     -999,9,     -999,     -999,9,20150910,1007,     10.1,  87.8238,-149.0229,     -999,9,     -999,9
33HQ20150809  ,ARC01      ,38      ,  4,31         ,    6252,   11405,GSNIS-31   ,2,20150910,0940,  87.8235,-149.0749,     2570,     10.3,  -1.5175,  28.1048,2,  28.1508,2,    379.6,2,    386.6,2,    13.06,2,     0.03,2,     0.00,2,     0.65,2,     -999,9,     -999,9,     -999,9,     -999,9,     -999,9,     -999,9,     -999,9,     -999,     -999,9,     -999,9,     -999,9,     -999,9,  -1.5176,2,     -999,9,     -999,9,     -999,     -999,9,     -999,9,     -999,9,     -999,     -999,9,20150910,1007,     10.1,  87.8238,-149.0231,     -999,9,  28.2835,2
33HQ20150809  ,ARC01      ,38      ,  4,30         ,    6252,   11404,GSNIS-30   ,2,20150910,0940,  87.8235,-149.0749,     2570,     20.4,  -1.4596,  28.4694,2,     -999,9,    380.8,2,     -999,9,    13.06,2,     0.31,2,     0.07,2,     0.69,2,     -999,9,     -999,9,     -999,9,     -999,9,     -999,9,     -999,9,     -999,9,     -999,     -999,9,     -999,9,     -999,9,     -999,9,  -1.4599,2,     -999,9,     -999,9,     -999,     -999,9,     -999,9,     -999,9,     -999,     -999,9,20150910,1005,     20.1,  87.8237,-149.0262,     -999,9,     -999,9
33HQ20150809  ,ARC01      ,38      ,  4,29         ,    6252,   11404,GSNIS-29   ,2,20150910,0940,  87.8235,-149.0749,     2570,     20.4,  -1.4604,  28.4647,2,     -999,9,    380.8,2,     -999,9,    13.16,2,     0.27,2,     0.06,2,     0.68,2,     -999,9,     -999,9,     -999,9,     -999,9,     -999,9,     -999,9,     -999,9,     -999,     -999,9,     -999,9,     -999,9,     -999,9,  -1.4607,2,     -999,9,     -999,9,     -999,     -999,9,     -999,9,     -999,9,     -999,     -999,9,20150910,1005,     20.1,  87.8237,-149.0264,     -999,9,     -999,9
33HQ20150809  ,ARC01      ,38      ,  4,28         ,    6252,   11404,GSNIS-28   ,2,20150910,0940,  87.8235,-149.0749,     2570,     20.4,  -1.4603,  28.4679,2,  28.6488,2,    380.8,2,    383.3,2,    13.35,2,     0.29,2,     0.06,2,     0.68,2,     -999,9,     -999,9,     -999,9,     -999,9,     -999,9,     -999,9,     -999,9,     -999,     -999,9,     -999,9,     -999,9,     -999,9,  -1.4606,2,     -999,9,     -999,9,     -999,     -999,9,     -999,9,     -999,9,     -999,     -999,9,20150910,1005,     20.1,  87.8237,-149.0266,     -999,9,  28.7839,2
33HQ20150809  ,ARC01      ,38      ,  4,25         ,    6252,   11403,GSNIS-25   ,2,20150910,0940,  87.8235,-149.0749,     2570,     45.6,  -1.5989,  30.4521,2,  30.8088,2,    361.5,2,    361.1,2,    11.96,2,     2.24,2,     0.00,2,     0.69,2,     -999,9,     -999,9,     -999,9,     -999,9,     -999,9,     -999,9,     -999,9,     -999,     -999,9,     -999,9,     -999,9,     -999,9,  -1.5990,2,     -999,9,     -999,9,     -999,     -999,9,     -999,9,     -999,9,     -999,     -999,9,20150910,1002,     45.2,  87.8237,-149.0314,     -999,9,  30.9540,2
33HQ20150809  ,ARC01      ,38      ,  4,27         ,    6252,   11403,GSNIS-27   ,2,20150910,0940,  87.8235,-149.0749,     2570,     45.7,  -1.5989,  30.4521,2,     -999,9,    361.5,2,     -999,9,    12.25,2,     2.07,3,     0.00,2,     0.69,2,     -999,9,     -999,9,     -999,9,     -999,9,     -999,9,     -999,9,     -999,9,     -999,     -999,9,     -999,9,     -999,9,     -999,9,  -1.5987,2,     -999,9,     -999,9,     -999,     -999,9,     -999,9,     -999,9,     -999,     -999,9,20150910,1003,     45.2,  87.8237,-149.0311,     -999,9,     -999,9
33HQ20150809  ,ARC01      ,38      ,  4,26         ,    6252,   11403,GSNIS-26   ,2,20150910,0940,  87.8235,-149.0749,     2570,     45.7,  -1.5994,  30.4578,2,     -999,9,    361.5,2,     -999,9,    11.86,2,     2.26,2,     0.00,2,     0.70,2,     -999,9,     -999,9,     -999,9,     -999,9,     -999,9,     -999,9,     -999,9,     -999,     -999,9,     -999,9,     -999,9,     -999,9,  -1.5990,2,     -999,9,     -999,9,     -999,     -999,9,     -999,9,     -999,9,     -999,     -999,9,20150910,1002,     45.2,  87.8237,-149.0313,     -999,9,     -999,9
33HQ20150809  ,ARC01      ,38      ,  4,24         ,    6252,   11402,GSNIS-24   ,2,20150910,0940,  87.8235,-149.0749,     2570,     63.8,  -1.5570,  31.9803,2,     -999,9,    329.1,2,     -999,9,    15.18,2,     6.37,2,     0.00,2,     0.96,2,     -999,9,     -999,9,     -999,9,     -999,9,     -999,9,     -999,9,     -999,9,     -999,     -999,9,     -999,9,     -999,9,     -999,9,  -1.5569,2,     -999,9,     -999,9,     -999,     -999,9,     -999,9,     -999,9,     -999,     -999,9,20150910,1000,     63.1,  87.8237,-149.0351,     -999,9,     -999,9
33HQ20150809  ,ARC01      ,38      ,  4,23         ,    6252,   11402,GSNIS-23   ,2,20150910,0940,  87.8235,-149.0749,     2570,     63.8,  -1.5570,  31.9807,2,     -999,9,    329.1,2,     -999,9,    15.67,2,     6.62,2,     0.00,2,     0.97,2,     -999,9,     -999,9,     -999,9,     -999,9,     -999,9,     -999,9,     -999,9,     -999,     -999,9,     -999,9,     -999,9,     -999,9,  -1.5564,2,     -999,9,     -999,9,     -999,     -999,9,     -999,9,     -999,9,     -999,     -999,9,20150910,1000,     63.1,  87.8237,-149.0353,     -999,9,     -999,9
33HQ20150809  ,ARC01      ,38      ,  4,22         ,    6252,   11402,GSNIS-22   ,2,20150910,0940,  87.8235,-149.0749,     2570,     63.8,  -1.5567,  31.9792,2,  32.1308,2,    329.1,2,    320.7,2,    15.37,2,     6.40,2,     0.00,2,     0.96,2,     -999,9,     -999,9,     -999,9,     -999,9,     -999,9,     -999,9,     -999,9,     -999,     -999,9,     -999,9,     -999,9,     -999,9,  -1.5563,2,     -999,9,     -999,9,     -999,     -999,9,     -999,9,     -999,9,     -999,     -999,9,20150910,1000,     63.1,  87.8237,-149.0354,     -999,9,  32.2823,2
33HQ20150809  ,ARC01      ,38      ,  4,21         ,    6252,   11401,GSNIS-21   ,2,20150910,0940,  87.8235,-149.0749,     2570,     84.0,  -1.4902,  33.0255,2,     -999,9,    272.8,2,     -999,9,    21.92,2,    10.42,2,     0.00,2,     1.16,2,     -999,9,     -999,9,     -999,9,     -999,9,     -999,9,     -999,9,     -999,9,     -999,     -999,9,     -999,9,     -999,9,     -999,9,  -1.4901,2,     -999,9,     -999,9,     -999,     -999,9,     -999,9,     -999,9,     -999,     -999,9,20150910,0958,     83.1,  87.8237,-149.0396,     -999,9,     -999,9
33HQ20150809  ,ARC01      ,38      ,  4,20         ,    6252,   11401,GSNIS-20   ,2,20150910,0940,  87.8235,-149.0749,     2570,     84.0,  -1.4902,  33.0260,2,     -999,9,    272.8,2,     -999,9,    21.92,2,    10.41,2,     0.00,2,     1.17,2,     -999,9,     -999,9,     -999,9,     -999,9,     -999,9,     -999,9,     -999,9,     -999,     -999,9,     -999,9,     -999,9,     -999,9,  -1.4901,2,     -999,9,     -999,9,     -999,     -999,9,     -999,9,     -999,9,     -999,     -999,9,20150910,0958,     83.1,  87.8237,-149.0397,     -999,9,     -999,9
33HQ20150809  ,ARC01      ,38      ,  4,19         ,    6252,   11401,GSNIS-19   ,2,20150910,0940,  87.8235,-149.0749,     2570,     84.0,  -1.4901,  33.0261,2,  33.1801,2,    272.8,2,    286.9,2,    20.84,2,    10.14,2,     0.00,2,     1.13,2,     -999,9,     -999,9,     -999,9,     -999,9,     -999,9,     -999,9,     -999,9,     -999,     -999,9,     -999,9,     -999,9,     -999,9,  -1.4902,2,     -999,9,     -999,9,     -999,     -999,9,     -999,9,     -999,9,     -999,     -999,9,20150910,0958,     83.1,  87.8237,-149.0399,     -999,9,  33.3365,2
33HQ20150809  ,ARC01      ,38      ,  4,16         ,    6252,   11400,GSNIS-16   ,2,20150910,0940,  87.8235,-149.0749,     2570,    101.2,  -1.4600,  33.6905,2,  33.7440,2,    297.2,2,    300.1,2,    11.74,2,     8.37,2,     0.00,2,     0.81,2,     -999,9,     -999,9,     -999,9,     -999,9,     -999,9,     -999,9,     -999,9,     -999,     -999,9,     -999,9,     -999,9,     -999,9,  -1.4598,2,     -999,9,     -999,9,     -999,     -999,9,     -999,9,     -999,9,     -999,     -999,9,20150910,0956,    100.1,  87.8236,-149.0440,     -999,9,  33.9031,2
33HQ20150809  ,ARC01      ,38      ,  4,18         ,    6252,   11400,GSNIS-18   ,2,20150910,0940,  87.8235,-149.0749,     2570,    101.2,  -1.4593,  33.6918,2,     -999,9,    297.2,2,     -999,9,    11.74,2,     8.39,2,     0.00,2,     0.81,2,     -999,9,     -999,9,     -999,9,     -999,9,     -999,9,     -999,9,     -999,9,     -999,     -999,9,     -999,9,     -999,9,     -999,9,  -1.4597,2,     -999,9,     -999,9,     -999,     -999,9,     -999,9,     -999,9,     -999,     -999,9,20150910,0956,    100.1,  87.8236,-149.0437,     -999,9,     -999,9
33HQ20150809  ,ARC01      ,38      ,  4,17         ,    6252,   11400,GSNIS-17   ,2,20150910,0940,  87.8235,-149.0749,     2570,    101.2,  -1.4596,  33.6918,2,     -999,9,    297.2,2,     -999,9,    11.74,2,     8.36,2,     0.00,2,     0.80,2,     -999,9,     -999,9,     -999,9,     -999,9,     -999,9,     -999,9,     -999,9,     -999,     -999,9,     -999,9,     -999,9,     -999,9,  -1.4601,2,     -999,9,     -999,9,     -999,     -999,9,     -999,9,     -999,9,     -999,     -999,9,20150910,0956,    100.1,  87.8236,-149.0438,     -999,9,     -999,9
33HQ20150809  ,ARC01      ,38      ,  4,15         ,    6252,   11399,GSNIS-15   ,2,20150910,0940,  87.8235,-149.0749,     2570,    126.6,  -1.3134,  34.1464,2,     -999,9,    307.1,2,     -999,9,     7.04,2,     7.98,2,     0.00,2,     0.67,2,     -999,9,     -999,9,     -999,9,     -999,9,     -999,9,     -999,9,     -999,9,     -999,     -999,9,     -999,9,     -999,9,     -999,9,  -1.3144,2,     -999,9,     -999,9,     -999,     -999,9,     -999,9,     -999,9,     -999,     -999,9,20150910,0954,    125.2,  87.8236,-149.0482,     -999,9,     -999,9
33HQ20150809  ,ARC01      ,38      ,  4,14         ,    6252,   11399,GSNIS-14   ,2,20150910,0940,  87.8235,-149.0749,     2570,    126.6,  -1.3146,  34.1455,2,     -999,9,    307.1,2,     -999,9,     6.75,2,     7.93,2,     0.00,2,     0.66,2,     -999,9,     -999,9,     -999,9,     -999,9,     -999,9,     -999,9,     -999,9,     -999,     -999,9,     -999,9,     -999,9,     -999,9,  -1.3092,2,     -999,9,     -999,9,     -999,     -999,9,     -999,9,     -999,9,     -999,     -999,9,20150910,0954,    125.2,  87.8236,-149.0484,     -999,9,     -999,9
33HQ20150809  ,ARC01      ,38      ,  4,13         ,    6252,   11399,GSNIS-13   ,2,20150910,0940,  87.8235,-149.0749,     2570,    126.6,  -1.3142,  34.1458,2,  34.1538,2,    307.1,2,    308.1,2,     7.04,2,     7.96,2,     0.00,2,     0.66,2,     -999,9,     -999,9,     -999,9,     -999,9,     -999,9,     -999,9,     -999,9,     -999,     -999,9,     -999,9,     -999,9,     -999,9,  -1.3100,2,     -999,9,     -999,9,     -999,     -999,9,     -999,9,     -999,9,     -999,     -999,9,20150910,0954,    125.2,  87.8236,-149.0485,     -999,9,  34.3148,2
33HQ20150809  ,ARC01      ,38      ,  4,12         ,    6252,   11398,GSNIS-12   ,2,20150910,0940,  87.8235,-149.0749,     2570,    151.9,  -0.8082,  34.3380,2,     -999,9,    303.7,2,     -999,9,     6.16,2,     8.92,2,     0.00,2,     0.69,2,     -999,9,     -999,9,     -999,9,     -999,9,     -999,9,     -999,9,     -999,9,     -999,     -999,9,     -999,9,     -999,9,     -999,9,  -0.8079,2,     -999,9,     -999,9,     -999,     -999,9,     -999,9,     -999,9,     -999,     -999,9,20150910,0951,    150.2,  87.8236,-149.0527,     -999,9,     -999,9
33HQ20150809  ,ARC01      ,38      ,  4,11         ,    6252,   11398,GSNIS-11   ,2,20150910,0940,  87.8235,-149.0749,     2570,    151.9,  -0.8080,  34.3383,2,     -999,9,    303.7,2,     -999,9,     6.16,2,     8.90,2,     0.00,2,     0.68,2,     -999,9,     -999,9,     -999,9,     -999,9,     -999,9,     -999,9,     -999,9,     -999,     -999,9,     -999,9,     -999,9,     -999,9,  -0.8036,2,     -999,9,     -999,9,     -999,     -999,9,     -999,9,     -999,9,     -999,     -999,9,20150910,0951,    150.2,  87.8236,-149.0529,     -999,9,     -999,9
33HQ20150809  ,ARC01      ,38      ,  4,10         ,    6252,   11398,GSNIS-10   ,2,20150910,0940,  87.8235,-149.0749,     2570,    151.9,  -0.8013,  34.3409,2,  34.3477,2,    303.7,2,    302.8,2,     6.16,2,     8.91,2,     0.00,2,     0.69,2,     -999,9,     -999,9,     -999,9,     -999,9,     -999,9,     -999,9,     -999,9,     -999,     -999,9,     -999,9,     -999,9,     -999,9,  -0.7968,2,     -999,9,     -999,9,     -999,     -999,9,     -999,9,     -999,9,     -999,     -999,9,20150910,0951,    150.2,  87.8236,-149.0530,     -999,9,  34.5097,2
33HQ20150809  ,ARC01      ,38      ,  4,8          ,    6252,   11397,GSNIS-8    ,2,20150910,0940,  87.8235,-149.0749,     2570,    202.6,   0.1438,  34.6034,2,     -999,9,    300.0,2,     -999,9,     5.77,2,    10.52,2,     0.00,2,     0.73,2,     -999,9,     -999,9,     -999,9,     -999,9,     -999,9,     -999,9,     -999,9,     -999,     -999,9,     -999,9,     -999,9,     -999,9,   0.1392,2,     -999,9,     -999,9,     -999,     -999,9,     -999,9,     -999,9,     -999,     -999,9,20150910,0949,    200.3,  87.8235,-149.0582,     -999,9,     -999,9
33HQ20150809  ,ARC01      ,38      ,  4,9          ,    6252,   11397,GSNIS-9    ,2,20150910,0940,  87.8235,-149.0749,     2570,    202.6,   0.1439,  34.6034,2,     -999,9,    300.0,2,     -999,9,     5.77,2,    10.52,2,     0.00,2,     0.74,2,     -999,9,     -999,9,     -999,9,     -999,9,     -999,9,     -999,9,     -999,9,     -999,     -999,9,     -999,9,     -999,9,     -999,9,   0.1417,2,     -999,9,     -999,9,     -999,     -999,9,     -999,9,     -999,9,     -999,     -999,9,20150910,0949,    200.3,  87.8235,-149.0581,     -999,9,     -999,9
33HQ20150809  ,ARC01      ,38      ,  4,7          ,    6252,   11397,GSNIS-7    ,2,20150910,0940,  87.8235,-149.0749,     2570,    202.6,   0.1434,  34.6033,2,  34.6029,2,    300.0,2,    298.2,2,     5.77,2,    10.53,2,     0.00,2,     0.74,2,     -999,9,     -999,9,     -999,9,     -999,9,     -999,9,     -999,9,     -999,9,     -999,     -999,9,     -999,9,     -999,9,     -999,9,   0.1447,2,     -999,9,     -999,9,     -999,     -999,9,     -999,9,     -999,9,     -999,     -999,9,20150910,0949,    200.3,  87.8235,-149.0584,     -999,9,  34.7661,2
33HQ20150809  ,ARC01      ,38      ,  4,6          ,    6252,   11396,GSNIS-6    ,2,20150910,0940,  87.8235,-149.0749,     2570,    385.5,   0.9321,  34.8598,2,     -999,9,    299.7,2,     -999,9,     6.06,2,    12.17,2,     0.00,2,     0.82,2,     -999,9,     -999,9,     -999,9,     -999,9,     -999,9,     -999,9,     -999,9,     -999,     -999,9,     -999,9,     -999,9,     -999,9,   0.9319,2,     -999,9,     -999,9,     -999,     -999,9,     -999,9,     -999,9,     -999,     -999,9,20150910,0943,    381.0,  87.8235,-149.0681,     -999,9,     -999,9
33HQ20150809  ,ARC01      ,38      ,  4,5          ,    6252,   11396,GSNIS-5    ,2,20150910,0940,  87.8235,-149.0749,     2570,    385.5,   0.9321,  34.8599,2,     -999,9,    299.7,2,     -999,9,     6.06,2,    12.17,2,     0.00,2,     0.81,2,     -999,9,     -999,9,     -999,9,     -999,9,     -999,9,     -999,9,     -999,9,     -999,     -999,9,     -999,9,     -999,9,     -999,9,   0.9319,2,     -999,9,     -999,9,     -999,     -999,9,     -999,9,     -999,9,     -999,     -999,9,20150910,0943,    381.0,  87.8235,-149.0683,     -999,9,     -999,9
33HQ20150809  ,ARC01      ,38      ,  4,4          ,    6252,   11396,GSNIS-4    ,2,20150910,0940,  87.8235,-149.0749,     2570,    385.5,   0.9321,  34.8599,2,  34.8604,2,    299.7,2,    298.7,2,     5.96,2,    12.17,2,     0.00,2,     0.81,2,     -999,9,     -999,9,     -999,9,     -999,9,     -999,9,     -999,9,     -999,9,     -999,     -999,9,     -999,9,     -999,9,     -999,9,   0.9319,2,     -999,9,     -999,9,     -999,     -999,9,     -999,9,     -999,9,     -999,     -999,9,20150910,0943,    381.0,  87.8235,-149.0684,     -999,9,  35.0248,2