BOTTLE,20221220CCHSIOAMB
EXPOCODE,SECT_ID,STNNBR,CASTNO,SAMPNO,GEOTR_EVENT,GEOTR_SAMPNO,BTLNBR,BTLNBR_FLAG_W,DATE,TIME,LATITUDE,LONGITUDE,DEPTH,CTDPRS,CTDTMP,CTDSAL,CTDSAL_FLAG_W,SALNTY,SALNTY_FLAG_W,CTDOXY,CTDOXY_FLAG_W,OXYGEN,OXYGEN_FLAG_W,SILCAT,SILCAT_FLAG_W,NITRAT,NITRAT_FLAG_W,NITRIT,NITRIT_FLAG_W,PHSPHT,PHSPHT_FLAG_W,CFC-11,CFC-11_FLAG_W,CFC-12,CFC-12_FLAG_W,CFC113,CFC113_FLAG_W,SF6,SF6_FLAG_W,TCARBN,TCARBN_FLAG_W,ALKALI,ALKALI_FLAG_W,PH_SWS,PH_SWS_FLAG_W,PH_TMP,DOC,DOC_FLAG_W,TRITUM,TRITUM_FLAG_W,HELIUM,HELIUM_FLAG_W,DELHE3,DELHE3_FLAG_W,REFTMP,REFTMP_FLAG_W,DELC13,DELC13_FLAG_W,DELC14,DELC14_FLAG_W,C14ERR,TDN,TDN_FLAG_W,DELO18,DELO18_FLAG_W,DELO17,DELO17_FLAG_W,CH4,CH4,CH4_FLAG_W,BTL_DATE,BTL_TIME,CTDDEPTH,BTL_LAT,BTL_LON,LAB_DEN,LAB_DEN_FLAG_W,SALTREF,SALTREF_FLAG_W
,,,,,,,,,,,,,METERS,DBAR,ITS-90,PSS-78,,PSS-78,,UMOL/KG,,UMOL/KG,,UMOL/KG,,UMOL/KG,,UMOL/KG,,UMOL/KG,,PMOL/KG,,PMOL/KG,,PMOL/KG,,FMOL/KG,,UMOL/KG,,UMOL/KG,,,,DEG C,UMOL/KG,,TU,,NMOL/KG,,PERCNT,,ITS-90,,/MILLE,,/MILLE,,/MILLE,UMOL/KG,,/MILLE,,/MILLE,,NMOL/KG,NMOL/L,,,,METERS,,,KG/M^3,,G/KG,
33HQ20150809  ,ARC01      ,52      ,  8,1          ,    6406,   11983,GSNIS-1    ,2,20150928,0437,  77.4263,-147.7801,     3821,   3866.6,  -0.2518,  34.9561,2,  34.9565,2,    283.5,2,    284.1,2,    13.19,2,    14.55,2,     0.00,2,     1.01,2,    0.068,2,    0.032,2,    0.000,2,    0.004,2,   2157.8,2,   2302.9,2,   7.7747,4,    25.00,     41.8,2,     -999,1,     -999,1,     -999,1,     -999,9,     1.19,2,     -999,1,     -999,    14.67,2,     -999,1,     -999,9,     -999,     -999,1,20150928,0441,   3791.4,  77.4261,-147.7794,     -999,9,  35.1213,2
33HQ20150809  ,ARC01      ,52      ,  8,3          ,    6406,   11983,GSNIS-3    ,3,20150928,0437,  77.4263,-147.7801,     3821,   3866.6,  -0.2518,  34.9561,2,  34.9551,2,    283.5,2,     -999,9,    12.99,2,    14.56,2,     0.00,2,     1.02,2,     -999,9,     -999,9,     -999,9,     -999,9,     -999,9,     -999,9,     -999,9,     -999,     -999,9,     -999,9,     -999,9,     -999,9,     -999,9,     -999,9,     -999,9,     -999,     -999,9,     -999,9,     -999,9,     -999,     -999,9,20150928,0441,   3791.4,  77.4260,-147.7794,     -999,9,  35.1199,2
33HQ20150809  ,ARC01      ,52      ,  8,2          ,    6406,   11983,GSNIS-2    ,2,20150928,0437,  77.4263,-147.7801,     3821,   3866.6,  -0.2518,  34.9561,2,     -999,9,    283.5,2,     -999,9,    13.19,2,    14.55,2,     0.00,2,     1.00,2,     -999,9,     -999,9,     -999,9,     -999,9,     -999,9,     -999,9,     -999,9,     -999,     -999,9,     -999,9,     -999,9,     -999,9,     -999,9,     -999,9,     -999,9,     -999,     -999,9,     -999,9,     -999,9,     -999,     -999,9,20150928,0441,   3791.4,  77.4261,-147.7794,     -999,9,     -999,9
33HQ20150809  ,ARC01      ,52      ,  8,37         ,    6406,   11984,CORER      ,2,20150928,0437,  77.4263,-147.7801,     3821,   3892.8,     -999,     -999,9,     -999,9,     -999,9,     -999,9,     -999,9,     -999,9,     -999,9,     -999,9,     -999,9,     -999,9,     -999,9,     -999,9,     -999,9,     -999,9,     -999,9,     -999,     -999,9,     -999,9,     -999,9,     -999,9,     -999,9,     -999,9,     -999,9,     -999,     -999,9,     -999,9,     -999,9,     -999,     -999,9,20150928,0554,   3816.9,  77.4201,-147.7635,     -999,9,     -999,9
33HQ20150809  ,ARC01      ,53      ,  2,17         ,    6408,   11997,GSNIS-17   ,2,20150928,1648,  76.9980,-148.8026,     3825,      5.5,  -1.3809,  26.2957,2,     -999,9,    385.8,2,     -999,9,     2.56,2,     0.01,2,     0.00,2,     0.52,2,     -999,9,     -999,9,     -999,9,     -999,9,     -999,9,     -999,9,     -999,9,     -999,     -999,9,     -999,9,     -999,9,     -999,9,     -999,9,     -999,9,     -999,9,     -999,     -999,9,     -999,9,     -999,9,     -999,     -999,9,20150928,1656,      5.4,  76.9992,-148.8067,     -999,9,     -999,9
33HQ20150809  ,ARC01      ,53      ,  2,16         ,    6408,   11997,GSNIS-16   ,2,20150928,1648,  76.9980,-148.8026,     3825,      5.5,  -1.3816,  26.2960,2,  26.3022,2,    385.8,2,    385.8,2,     2.46,2,     0.02,2,     0.00,2,     0.51,2,    7.017,2,    3.737,2,    0.663,2,    3.507,2,   1840.4,2,   1903.1,2,   7.6272,2,    25.00,     -999,9,     -999,1,     -999,1,     -999,1,     -999,9,     1.45,2,     -999,1,     -999,     -999,9,     -999,1,     -999,9,     -999,     -999,1,20150928,1656,      5.4,  76.9991,-148.8067,     -999,9,  26.4262,2
33HQ20150809  ,ARC01      ,53      ,  2,20         ,    6408,   11997,GSNIS-20   ,2,20150928,1648,  76.9980,-148.8026,     3825,      5.5,  -1.3565,  26.2960,2,     -999,9,    385.8,2,     -999,9,     2.46,2,     0.01,2,     0.00,2,     0.52,2,     -999,9,     -999,9,     -999,9,     -999,9,     -999,9,     -999,9,     -999,9,     -999,     -999,9,     -999,9,     -999,9,     -999,9,     -999,9,     -999,9,     -999,9,     -999,     -999,9,     -999,9,     -999,9,     -999,     -999,9,20150928,1656,      5.4,  76.9992,-148.8069,     -999,9,     -999,9
33HQ20150809  ,ARC01      ,53      ,  2,19         ,    6408,   11997,GSNIS-19   ,2,20150928,1648,  76.9980,-148.8026,     3825,      5.5,  -1.3644,  26.2953,2,     -999,9,    385.8,2,     -999,9,     2.56,2,     0.01,2,     0.00,2,     0.51,2,     -999,9,     -999,9,     -999,9,     -999,9,     -999,9,     -999,9,     -999,9,     -999,     -999,9,     -999,9,     -999,9,     -999,9,     -999,9,     -999,9,     -999,9,     -999,     -999,9,     -999,9,     -999,9,     -999,     -999,9,20150928,1656,      5.4,  76.9992,-148.8068,     -999,9,     -999,9
33HQ20150809  ,ARC01      ,53      ,  2,18         ,    6408,   11997,GSNIS-18   ,2,20150928,1648,  76.9980,-148.8026,     3825,      5.5,  -1.3793,  26.2950,2,     -999,9,    385.8,2,     -999,9,     2.46,2,     0.00,2,     0.00,2,     0.52,2,     -999,9,     -999,9,     -999,9,     -999,9,     -999,9,     -999,9,     -999,9,     -999,     -999,9,     -999,9,     -999,9,     -999,9,     -999,9,     -999,9,     -999,9,     -999,     -999,9,     -999,9,     -999,9,     -999,     -999,9,20150928,1656,      5.4,  76.9992,-148.8068,     -999,9,     -999,9
33HQ20150809  ,ARC01      ,53      ,  2,14         ,    6408,   11998,GSNIS-14   ,2,20150928,1648,  76.9980,-148.8026,     3825,     20.6,  -0.5505,  28.2669,2,     -999,9,    398.1,2,     -999,9,     2.65,2,     0.01,2,     0.00,2,     0.57,2,     -999,9,     -999,9,     -999,9,     -999,9,     -999,9,     -999,9,     -999,9,     -999,     -999,9,     -999,9,     -999,9,     -999,9,     -999,9,     -999,9,     -999,9,     -999,     -999,9,     -999,9,     -999,9,     -999,     -999,9,20150928,1654,     20.4,  76.9989,-148.8058,     -999,9,     -999,9
33HQ20150809  ,ARC01      ,53      ,  2,13         ,    6408,   11998,GSNIS-13   ,2,20150928,1648,  76.9980,-148.8026,     3825,     20.6,  -0.5499,  28.2657,2,     -999,9,    397.5,2,     -999,9,     2.75,2,     0.00,2,     0.00,2,     0.59,2,     -999,9,     -999,9,     -999,9,     -999,9,     -999,9,     -999,9,     -999,9,     -999,     -999,9,     -999,9,     -999,9,     -999,9,     -999,9,     -999,9,     -999,9,     -999,     -999,9,     -999,9,     -999,9,     -999,     -999,9,20150928,1654,     20.4,  76.9989,-148.8057,     -999,9,     -999,9
33HQ20150809  ,ARC01      ,53      ,  2,12         ,    6408,   11998,GSNIS-12   ,2,20150928,1648,  76.9980,-148.8026,     3825,     20.6,  -0.5500,  28.2654,2,     -999,9,    397.5,2,     -999,9,     2.65,2,     0.01,2,     0.00,2,     0.58,2,     -999,9,     -999,9,     -999,9,     -999,9,     -999,9,     -999,9,     -999,9,     -999,     -999,9,     -999,9,     -999,9,     -999,9,     -999,9,     -999,9,     -999,9,     -999,     -999,9,     -999,9,     -999,9,     -999,     -999,9,20150928,1654,     20.4,  76.9989,-148.8057,     -999,9,     -999,9
33HQ20150809  ,ARC01      ,53      ,  2,11         ,    6408,   11998,GSNIS-11   ,2,20150928,1648,  76.9980,-148.8026,     3825,     20.6,  -0.5506,  28.2657,2,  28.3882,2,    397.5,2,    397.5,2,     2.55,2,     0.02,2,     0.00,2,     0.57,2,    7.187,2,    3.836,2,    0.669,2,    3.236,2,   1955.7,2,   2043.8,2,   7.7054,4,    25.00,     70.9,2,     -999,1,     -999,1,     -999,1,     -999,9,     1.56,2,     -999,1,     -999,     3.91,2,     -999,1,     -999,9,     -999,     -999,1,20150928,1654,     20.4,  76.9988,-148.8057,     -999,9,  28.5221,2
33HQ20150809  ,ARC01      ,53      ,  2,15         ,    6408,   11998,GSNIS-15   ,2,20150928,1648,  76.9980,-148.8026,     3825,     20.6,  -0.5492,  28.2659,2,     -999,9,    397.5,2,     -999,9,     2.55,2,     0.01,2,     0.00,2,     0.57,2,     -999,9,     -999,9,     -999,9,     -999,9,     -999,9,     -999,9,     -999,9,     -999,     -999,9,     -999,9,     -999,9,     -999,9,     -999,9,     -999,9,     -999,9,     -999,     -999,9,     -999,9,     -999,9,     -999,     -999,9,20150928,1654,     20.4,  76.9989,-148.8059,     -999,9,     -999,9
33HQ20150809  ,ARC01      ,53      ,  2,8          ,    6408,   11999,GSNIS-8    ,2,20150928,1648,  76.9980,-148.8026,     3825,     40.8,  -0.5565,  29.5368,2,     -999,9,    391.1,2,     -999,9,     3.14,2,     0.00,2,     0.00,2,     0.64,2,     -999,9,     -999,9,     -999,9,     -999,9,     -999,9,     -999,9,     -999,9,     -999,     -999,9,     -999,9,     -999,9,     -999,9,     -999,9,     -999,9,     -999,9,     -999,     -999,9,     -999,9,     -999,9,     -999,     -999,9,20150928,1652,     40.3,  76.9985,-148.8046,     -999,9,     -999,9
33HQ20150809  ,ARC01      ,53      ,  2,10         ,    6408,   11999,GSNIS-10   ,2,20150928,1648,  76.9980,-148.8026,     3825,     40.8,  -0.5363,  29.5607,2,     -999,9,    391.0,2,     -999,9,     3.14,2,     0.00,2,     0.00,2,     0.63,2,     -999,9,     -999,9,     -999,9,     -999,9,     -999,9,     -999,9,     -999,9,     -999,     -999,9,     -999,9,     -999,9,     -999,9,     -999,9,     -999,9,     -999,9,     -999,     -999,9,     -999,9,     -999,9,     -999,     -999,9,20150928,1652,     40.4,  76.9986,-148.8047,     -999,9,     -999,9
33HQ20150809  ,ARC01      ,53      ,  2,9          ,    6408,   11999,GSNIS-9    ,2,20150928,1648,  76.9980,-148.8026,     3825,     40.8,  -0.5501,  29.5394,2,     -999,9,    391.1,2,     -999,9,     3.14,2,     0.00,2,     0.00,2,     0.64,2,     -999,9,     -999,9,     -999,9,     -999,9,     -999,9,     -999,9,     -999,9,     -999,     -999,9,     -999,9,     -999,9,     -999,9,     -999,9,     -999,9,     -999,9,     -999,     -999,9,     -999,9,     -999,9,     -999,     -999,9,20150928,1652,     40.4,  76.9985,-148.8046,     -999,9,     -999,9
33HQ20150809  ,ARC01      ,53      ,  2,6          ,    6408,   11999,GSNIS-6    ,2,20150928,1648,  76.9980,-148.8026,     3825,     40.8,  -0.5636,  29.5229,2,  29.5616,2,    391.1,2,    391.0,2,     3.04,2,     0.00,2,     0.00,2,     0.63,2,    6.763,2,    3.711,2,    0.611,2,    3.005,2,   2007.9,2,   2111.8,2,   7.8619,4,    25.00,     72.5,2,     -999,9,     -999,1,     -999,1,     -999,9,     1.54,2,     -999,1,     -999,     4.40,2,     -999,1,     -999,9,     -999,     -999,1,20150928,1651,     40.4,  76.9985,-148.8045,     -999,9,  29.7010,2
33HQ20150809  ,ARC01      ,53      ,  2,7          ,    6408,   11999,GSNIS-7    ,2,20150928,1648,  76.9980,-148.8026,     3825,     40.8,  -0.5569,  29.5307,2,     -999,9,    391.1,2,     -999,9,     3.14,2,     0.01,2,     0.00,2,     0.64,2,     -999,9,     -999,9,     -999,9,     -999,9,     -999,9,     -999,9,     -999,9,     -999,     -999,9,     -999,9,     -999,9,     -999,9,     -999,9,     -999,9,     -999,9,     -999,     -999,9,     -999,9,     -999,9,     -999,     -999,9,20150928,1651,     40.4,  76.9985,-148.8045,     -999,9,     -999,9
33HQ20150809  ,ARC01      ,53      ,  2,4          ,    6408,   12000,GSNIS-4    ,2,20150928,1648,  76.9980,-148.8026,     3825,     66.0,   0.0777,  31.1443,2,     -999,9,    370.4,2,     -999,9,     5.78,2,     0.68,2,     0.12,2,     0.80,2,     -999,9,     -999,9,     -999,9,     -999,9,     -999,9,     -999,9,     -999,9,     -999,     67.6,2,     -999,9,     -999,9,     -999,9,     -999,9,     -999,9,     -999,9,     -999,     2.46,2,     -999,9,     -999,9,     -999,     -999,9,20150928,1648,     65.3,  76.9981,-148.8029,     -999,9,     -999,9
33HQ20150809  ,ARC01      ,53      ,  2,5          ,    6408,   12000,GSNIS-5    ,2,20150928,1648,  76.9980,-148.8026,     3825,     66.0,   0.0810,  31.1416,2,     -999,9,    370.4,2,     -999,9,     6.17,2,     0.86,2,     0.16,2,     0.82,2,     -999,9,     -999,9,     -999,9,     -999,9,     -999,9,     -999,9,     -999,9,     -999,     -999,9,     -999,1,     -999,9,     -999,9,     -999,9,     -999,9,     -999,9,     -999,     -999,9,     -999,9,     -999,9,     -999,     -999,9,20150928,1649,     65.3,  76.9981,-148.8029,     -999,9,     -999,9
33HQ20150809  ,ARC01      ,53      ,  2,3          ,    6408,   12000,GSNIS-3    ,2,20150928,1648,  76.9980,-148.8026,     3825,     66.0,   0.0754,  31.1466,2,     -999,9,    370.4,2,     -999,9,     6.07,2,     0.83,2,     0.16,2,     0.82,2,     -999,9,     -999,9,     -999,9,     -999,9,     -999,9,     -999,9,     -999,9,     -999,     -999,9,     -999,9,     -999,9,     -999,9,     -999,9,     -999,9,     -999,9,     -999,     -999,9,     -999,9,     -999,9,     -999,     -999,9,20150928,1648,     65.3,  76.9981,-148.8028,     -999,9,     -999,9
33HQ20150809  ,ARC01      ,53      ,  2,2          ,    6408,   12000,GSNIS-2    ,2,20150928,1648,  76.9980,-148.8026,     3825,     66.0,   0.0711,  31.1503,2,     -999,9,    370.4,2,     -999,9,     5.88,2,     0.73,2,     0.13,2,     0.81,2,     -999,9,     -999,9,     -999,9,     -999,9,     -999,9,     -999,9,     -999,9,     -999,     -999,9,     -999,9,     -999,9,     -999,9,     -999,9,     -999,9,     -999,9,     -999,     -999,9,     -999,9,     -999,9,     -999,     -999,9,20150928,1648,     65.3,  76.9981,-148.8028,     -999,9,     -999,9
33HQ20150809  ,ARC01      ,53      ,  2,1          ,    6408,   12000,GSNIS-1    ,2,20150928,1648,  76.9980,-148.8026,     3825,     66.0,   0.0680,  31.1526,2,  31.0136,2,    370.4,2,    370.5,2,     5.49,2,     0.46,2,     0.09,2,     0.79,2,    6.250,2,    3.442,2,    0.481,2,    1.988,2,   2054.8,2,   2175.2,2,   7.7549,2,    25.00,     68.9,2,     -999,1,     -999,1,     -999,1,     -999,9,     1.37,2,     -999,1,     -999,     4.58,2,     -999,1,     -999,9,     -999,     -999,1,20150928,1648,     65.3,  76.9980,-148.8027,     -999,9,  31.1598,2
33HQ20150809  ,ARC01      ,53      , 25,25         ,    6409,   12001,SMBT       ,2,20150928,1758,  77.0066,-148.8366,     3861,      1.0,  -1.5230,  32.9958,2,  26.3627,2,     -999,9,     -999,9,     2.56,2,     0.02,2,     0.00,2,     0.52,2,     -999,9,     -999,9,     -999,9,     -999,9,     -999,9,     -999,9,     -999,9,     -999,     -999,9,     -999,9,     -999,9,     -999,9,     -999,9,     -999,9,     -999,9,     -999,     -999,9,     -999,1,     -999,9,     -999,     -999,9,20150928,1759,      1.0,  77.0067,-148.8373,     -999,9,  26.4870,2
33HQ20150809  ,ARC01      ,54      , 25,25         ,    6416,   12018,SMBT       ,2,20150928,2213,  76.5011,-149.5091,     3832,      1.0,  -1.2598,  32.7823,2,  26.3423,2,     -999,9,     -999,9,     2.46,2,     0.00,2,     0.00,2,     0.52,2,     -999,9,     -999,9,     -999,9,     -999,9,     -999,9,     -999,9,     -999,9,     -999,     -999,9,     -999,9,     -999,9,     -999,9,     -999,9,     -999,9,     -999,9,     -999,     -999,9,     -999,1,     -999,9,     -999,     -999,9,20150928,2214,      1.0,  76.5014,-149.5096,     -999,9,  26.4665,2