BOTTLE,20221220CCHSIOAMB
EXPOCODE,SECT_ID,STNNBR,CASTNO,SAMPNO,GEOTR_EVENT,GEOTR_SAMPNO,BTLNBR,BTLNBR_FLAG_W,DATE,TIME,LATITUDE,LONGITUDE,DEPTH,CTDPRS,CTDTMP,CTDSAL,CTDSAL_FLAG_W,SALNTY,SALNTY_FLAG_W,CTDOXY,CTDOXY_FLAG_W,OXYGEN,OXYGEN_FLAG_W,SILCAT,SILCAT_FLAG_W,NITRAT,NITRAT_FLAG_W,NITRIT,NITRIT_FLAG_W,PHSPHT,PHSPHT_FLAG_W,CFC-11,CFC-11_FLAG_W,CFC-12,CFC-12_FLAG_W,CFC113,CFC113_FLAG_W,SF6,SF6_FLAG_W,TCARBN,TCARBN_FLAG_W,ALKALI,ALKALI_FLAG_W,PH_SWS,PH_SWS_FLAG_W,PH_TMP,DOC,DOC_FLAG_W,TRITUM,TRITUM_FLAG_W,HELIUM,HELIUM_FLAG_W,DELHE3,DELHE3_FLAG_W,REFTMP,REFTMP_FLAG_W,DELC13,DELC13_FLAG_W,DELC14,DELC14_FLAG_W,C14ERR,TDN,TDN_FLAG_W,DELO18,DELO18_FLAG_W,DELO17,DELO17_FLAG_W,CH4,CH4,CH4_FLAG_W,BTL_DATE,BTL_TIME,CTDDEPTH,BTL_LAT,BTL_LON,LAB_DEN,LAB_DEN_FLAG_W,SALTREF,SALTREF_FLAG_W
,,,,,,,,,,,,,METERS,DBAR,ITS-90,PSS-78,,PSS-78,,UMOL/KG,,UMOL/KG,,UMOL/KG,,UMOL/KG,,UMOL/KG,,UMOL/KG,,PMOL/KG,,PMOL/KG,,PMOL/KG,,FMOL/KG,,UMOL/KG,,UMOL/KG,,,,DEG C,UMOL/KG,,TU,,NMOL/KG,,PERCNT,,ITS-90,,/MILLE,,/MILLE,,/MILLE,UMOL/KG,,/MILLE,,/MILLE,,NMOL/KG,NMOL/L,,,,METERS,,,KG/M^3,,G/KG,
33HQ20150809  ,ARC01      ,30      ,  6,36         ,    6180,   11129,GSNIS-36   ,2,20150901,1525,  87.5498, 179.5430,     3943,    102.6,  -1.4530,  33.9219,2,     -999,9,    306.0,2,     -999,9,     7.33,2,     7.69,2,     0.01,2,     0.67,2,     -999,9,     -999,9,     -999,9,     -999,9,     -999,9,     -999,9,     -999,9,     -999,     -999,9,     -999,9,     -999,9,     -999,9,     -999,9,     -999,9,     -999,9,     -999,     -999,9,     -999,9,     -999,9,     -999,     -999,9,20150901,1543,    101.5,  87.5509, 179.5142,     -999,9,     -999,9
33HQ20150809  ,ARC01      ,30      ,  6,35         ,    6180,   11129,GSNIS-35   ,2,20150901,1525,  87.5498, 179.5430,     3943,    102.6,  -1.4530,  33.9220,2,     -999,9,    306.0,2,     -999,9,     7.33,2,     7.59,2,     0.01,2,     0.66,2,     -999,9,     -999,9,     -999,9,     -999,9,     -999,9,     -999,9,     -999,9,     -999,     -999,9,     -999,9,     -999,9,     -999,9,  -1.4540,2,     -999,9,     -999,9,     -999,     -999,9,     -999,9,     -999,9,     -999,     -999,9,20150901,1543,    101.5,  87.5509, 179.5143,     -999,9,     -999,9
33HQ20150809  ,ARC01      ,30      ,  6,34         ,    6180,   11129,GSNIS-34   ,2,20150901,1525,  87.5498, 179.5430,     3943,    102.6,  -1.4531,  33.9205,2,     -999,9,    306.0,2,     -999,9,     7.43,2,     7.58,2,     0.01,2,     0.65,2,     -999,9,     -999,9,     -999,9,     -999,9,     -999,9,     -999,9,     -999,9,     -999,     -999,9,     -999,9,     -999,9,     -999,9,     -999,9,     -999,9,     -999,9,     -999,     -999,9,     -999,9,     -999,9,     -999,     -999,9,20150901,1543,    101.5,  87.5509, 179.5145,     -999,9,     -999,9
33HQ20150809  ,ARC01      ,30      ,  6,33         ,    6180,   11129,GSNIS-33   ,2,20150901,1525,  87.5498, 179.5430,     3943,    102.6,  -1.4532,  33.9193,2,     -999,9,    306.0,2,     -999,9,     7.33,2,     7.59,2,     0.01,2,     0.66,2,     -999,9,     -999,9,     -999,9,     -999,9,     -999,9,     -999,9,     -999,9,     -999,     -999,9,     -999,9,     -999,9,     -999,9,  -1.4534,2,     -999,9,     -999,9,     -999,     -999,9,     -999,9,     -999,9,     -999,     -999,9,20150901,1543,    101.5,  87.5509, 179.5147,     -999,9,     -999,9
33HQ20150809  ,ARC01      ,30      ,  6,32         ,    6180,   11129,GSNIS-32   ,2,20150901,1525,  87.5498, 179.5430,     3943,    102.6,  -1.4540,  33.9193,2,     -999,9,    306.0,2,     -999,9,     7.23,2,     7.57,2,     0.01,2,     0.67,2,     -999,9,     -999,9,     -999,9,     -999,9,     -999,9,     -999,9,     -999,9,     -999,     -999,9,     -999,9,     -999,9,     -999,9,     -999,9,     -999,9,     -999,9,     -999,     -999,9,     -999,9,     -999,9,     -999,     -999,9,20150901,1543,    101.5,  87.5509, 179.5148,     -999,9,     -999,9
33HQ20150809  ,ARC01      ,30      ,  6,31         ,    6180,   11129,GSNIS-31   ,2,20150901,1525,  87.5498, 179.5430,     3943,    102.6,  -1.4545,  33.9187,2,  33.9389,2,    306.0,2,    308.5,2,     7.52,2,     7.60,2,     0.01,2,     0.66,2,     -999,9,     -999,9,     -999,9,     -999,9,     -999,9,     -999,9,     -999,9,     -999,     -999,9,     -999,9,     -999,9,     -999,9,  -1.4538,2,     -999,9,     -999,9,     -999,     -999,9,     -999,9,     -999,9,     -999,     -999,9,20150901,1543,    101.5,  87.5508, 179.5150,     -999,9,  34.0989,2
33HQ20150809  ,ARC01      ,30      ,  6,25         ,    6180,   11130,GSNIS-25   ,2,20150901,1525,  87.5498, 179.5430,     3943,    127.3,  -1.1014,  34.2380,2,  34.2470,2,    306.8,2,    307.2,2,     5.37,2,     8.38,2,     0.01,2,     0.65,2,     -999,9,     -999,9,     -999,9,     -999,9,     -999,9,     -999,9,     -999,9,     -999,     -999,9,     -999,9,     -999,9,     -999,9,  -1.1037,2,     -999,9,     -999,9,     -999,     -999,9,     -999,9,     -999,9,     -999,     -999,9,20150901,1540,    125.9,  87.5507, 179.5200,     -999,9,  34.4085,2
33HQ20150809  ,ARC01      ,30      ,  6,26         ,    6180,   11130,GSNIS-26   ,2,20150901,1525,  87.5498, 179.5430,     3943,    127.3,  -1.1033,  34.2374,2,     -999,9,    306.8,2,     -999,9,     5.37,2,     8.26,2,     0.01,2,     0.64,2,     -999,9,     -999,9,     -999,9,     -999,9,     -999,9,     -999,9,     -999,9,     -999,     -999,9,     -999,9,     -999,9,     -999,9,     -999,9,     -999,9,     -999,9,     -999,     -999,9,     -999,9,     -999,9,     -999,     -999,9,20150901,1540,    125.9,  87.5507, 179.5198,     -999,9,     -999,9
33HQ20150809  ,ARC01      ,30      ,  6,27         ,    6180,   11130,GSNIS-27   ,2,20150901,1525,  87.5498, 179.5430,     3943,    127.3,  -1.1038,  34.2369,2,     -999,9,    306.8,2,     -999,9,     5.37,2,     8.25,2,     0.01,2,     0.65,2,     -999,9,     -999,9,     -999,9,     -999,9,     -999,9,     -999,9,     -999,9,     -999,     -999,9,     -999,9,     -999,9,     -999,9,  -1.1035,2,     -999,9,     -999,9,     -999,     -999,9,     -999,9,     -999,9,     -999,     -999,9,20150901,1540,    125.9,  87.5507, 179.5197,     -999,9,     -999,9
33HQ20150809  ,ARC01      ,30      ,  6,29         ,    6180,   11130,GSNIS-29   ,2,20150901,1525,  87.5498, 179.5430,     3943,    127.3,  -1.1032,  34.2371,2,     -999,9,    306.8,2,     -999,9,     5.28,2,     8.26,2,     0.01,2,     0.65,2,     -999,9,     -999,9,     -999,9,     -999,9,     -999,9,     -999,9,     -999,9,     -999,     -999,9,     -999,9,     -999,9,     -999,9,  -1.1032,2,     -999,9,     -999,9,     -999,     -999,9,     -999,9,     -999,9,     -999,     -999,9,20150901,1540,    125.9,  87.5507, 179.5193,     -999,9,     -999,9
33HQ20150809  ,ARC01      ,30      ,  6,30         ,    6180,   11130,GSNIS-30   ,2,20150901,1525,  87.5498, 179.5430,     3943,    127.3,  -1.1034,  34.2367,2,     -999,9,    306.8,2,     -999,9,     5.28,2,     8.24,2,     0.01,2,     0.66,2,     -999,9,     -999,9,     -999,9,     -999,9,     -999,9,     -999,9,     -999,9,     -999,     -999,9,     -999,9,     -999,9,     -999,9,     -999,9,     -999,9,     -999,9,     -999,     -999,9,     -999,9,     -999,9,     -999,     -999,9,20150901,1541,    125.9,  87.5507, 179.5192,     -999,9,     -999,9
33HQ20150809  ,ARC01      ,30      ,  6,28         ,    6180,   11130,GSNIS-28   ,2,20150901,1525,  87.5498, 179.5430,     3943,    127.3,  -1.1022,  34.2379,2,     -999,9,    306.8,2,     -999,9,     5.28,2,     8.28,2,     0.01,2,     0.66,2,     -999,9,     -999,9,     -999,9,     -999,9,     -999,9,     -999,9,     -999,9,     -999,     -999,9,     -999,9,     -999,9,     -999,9,     -999,9,     -999,9,     -999,9,     -999,     -999,9,     -999,9,     -999,9,     -999,     -999,9,20150901,1540,    125.9,  87.5507, 179.5195,     -999,9,     -999,9
33HQ20150809  ,ARC01      ,30      ,  6,19         ,    6180,   11131,GSNIS-19   ,2,20150901,1525,  87.5498, 179.5430,     3943,    178.1,  -0.0702,  34.5260,2,  34.5333,2,    299.2,2,    299.3,2,     5.57,2,    10.09,2,     0.00,2,     0.74,2,     -999,9,     -999,9,     -999,9,     -999,9,     -999,9,     -999,9,     -999,9,     -999,     -999,9,     -999,9,     -999,9,     -999,9,  -0.0708,2,     -999,9,     -999,9,     -999,     -999,9,     -999,9,     -999,9,     -999,     -999,9,20150901,1536,    176.2,  87.5504, 179.5274,     -999,9,  34.6962,2
33HQ20150809  ,ARC01      ,30      ,  6,21         ,    6180,   11131,GSNIS-21   ,2,20150901,1525,  87.5498, 179.5430,     3943,    178.2,  -0.0699,  34.5257,2,     -999,9,    299.2,2,     -999,9,     5.57,2,    10.10,2,     0.01,2,     0.72,2,     -999,9,     -999,9,     -999,9,     -999,9,     -999,9,     -999,9,     -999,9,     -999,     -999,9,     -999,9,     -999,9,     -999,9,  -0.0698,2,     -999,9,     -999,9,     -999,     -999,9,     -999,9,     -999,9,     -999,     -999,9,20150901,1536,    176.2,  87.5504, 179.5271,     -999,9,     -999,9
33HQ20150809  ,ARC01      ,30      ,  6,20         ,    6180,   11131,GSNIS-20   ,2,20150901,1525,  87.5498, 179.5430,     3943,    178.2,  -0.0714,  34.5258,2,     -999,9,    299.2,2,     -999,9,     5.67,2,    10.10,2,     0.00,2,     0.74,2,     -999,9,     -999,9,     -999,9,     -999,9,     -999,9,     -999,9,     -999,9,     -999,     -999,9,     -999,9,     -999,9,     -999,9,     -999,9,     -999,9,     -999,9,     -999,     -999,9,     -999,9,     -999,9,     -999,     -999,9,20150901,1536,    176.2,  87.5504, 179.5273,     -999,9,     -999,9
33HQ20150809  ,ARC01      ,30      ,  6,22         ,    6180,   11131,GSNIS-22   ,2,20150901,1525,  87.5498, 179.5430,     3943,    178.2,  -0.0681,  34.5262,2,     -999,9,    299.2,2,     -999,9,     5.57,2,    10.10,2,     0.01,2,     0.72,2,     -999,9,     -999,9,     -999,9,     -999,9,     -999,9,     -999,9,     -999,9,     -999,     -999,9,     -999,9,     -999,9,     -999,9,     -999,9,     -999,9,     -999,9,     -999,     -999,9,     -999,9,     -999,9,     -999,     -999,9,20150901,1536,    176.2,  87.5504, 179.5269,     -999,9,     -999,9
33HQ20150809  ,ARC01      ,30      ,  6,24         ,    6180,   11131,GSNIS-24   ,2,20150901,1525,  87.5498, 179.5430,     3943,    178.2,  -0.0667,  34.5253,2,     -999,9,    299.2,2,     -999,9,     5.57,2,    10.07,2,     0.00,2,     0.72,2,     -999,9,     -999,9,     -999,9,     -999,9,     -999,9,     -999,9,     -999,9,     -999,     -999,9,     -999,9,     -999,9,     -999,9,     -999,9,     -999,9,     -999,9,     -999,     -999,9,     -999,9,     -999,9,     -999,     -999,9,20150901,1537,    176.2,  87.5504, 179.5266,     -999,9,     -999,9
33HQ20150809  ,ARC01      ,30      ,  6,23         ,    6180,   11131,GSNIS-23   ,2,20150901,1525,  87.5498, 179.5430,     3943,    178.2,  -0.0660,  34.5264,2,     -999,9,    299.2,2,     -999,9,     5.57,2,    10.10,2,     0.00,2,     0.72,2,     -999,9,     -999,9,     -999,9,     -999,9,     -999,9,     -999,9,     -999,9,     -999,     -999,9,     -999,9,     -999,9,     -999,9,  -0.0672,2,     -999,9,     -999,9,     -999,     -999,9,     -999,9,     -999,9,     -999,     -999,9,20150901,1536,    176.2,  87.5504, 179.5267,     -999,9,     -999,9
33HQ20150809  ,ARC01      ,30      ,  6,16         ,    6180,   11132,GSNIS-16   ,2,20150901,1525,  87.5498, 179.5430,     3943,    228.2,   0.5953,  34.7438,2,     -999,9,    293.4,2,     -999,9,     5.96,2,    11.50,2,     0.01,2,     0.80,2,     -999,9,     -999,9,     -999,9,     -999,9,     -999,9,     -999,9,     -999,9,     -999,     -999,9,     -999,9,     -999,9,     -999,9,     -999,9,     -999,9,     -999,9,     -999,     -999,9,     -999,9,     -999,9,     -999,     -999,9,20150901,1534,    225.7,  87.5502, 179.5321,     -999,9,     -999,9
33HQ20150809  ,ARC01      ,30      ,  6,15         ,    6180,   11132,GSNIS-15   ,2,20150901,1525,  87.5498, 179.5430,     3943,    228.2,   0.5941,  34.7437,2,     -999,9,    293.4,2,     -999,9,     5.96,2,    11.52,2,     0.01,2,     0.80,2,     -999,9,     -999,9,     -999,9,     -999,9,     -999,9,     -999,9,     -999,9,     -999,     -999,9,     -999,9,     -999,9,     -999,9,   0.5940,2,     -999,9,     -999,9,     -999,     -999,9,     -999,9,     -999,9,     -999,     -999,9,20150901,1533,    225.7,  87.5502, 179.5323,     -999,9,     -999,9
33HQ20150809  ,ARC01      ,30      ,  6,14         ,    6180,   11132,GSNIS-14   ,2,20150901,1525,  87.5498, 179.5430,     3943,    228.2,   0.5943,  34.7438,2,     -999,9,    293.4,2,     -999,9,     5.96,2,    11.53,2,     0.00,2,     0.80,2,     -999,9,     -999,9,     -999,9,     -999,9,     -999,9,     -999,9,     -999,9,     -999,     -999,9,     -999,9,     -999,9,     -999,9,     -999,9,     -999,9,     -999,9,     -999,     -999,9,     -999,9,     -999,9,     -999,     -999,9,20150901,1533,    225.7,  87.5502, 179.5324,     -999,9,     -999,9
33HQ20150809  ,ARC01      ,30      ,  6,13         ,    6180,   11132,GSNIS-13   ,2,20150901,1525,  87.5498, 179.5430,     3943,    228.2,   0.5938,  34.7436,2,  34.7385,2,    293.4,2,    294.8,2,     5.96,2,    11.52,2,     0.00,2,     0.81,2,     -999,9,     -999,9,     -999,9,     -999,9,     -999,9,     -999,9,     -999,9,     -999,     -999,9,     -999,9,     -999,9,     -999,9,   0.5929,2,     -999,9,     -999,9,     -999,     -999,9,     -999,9,     -999,9,     -999,     -999,9,20150901,1533,    225.7,  87.5502, 179.5325,     -999,9,  34.9023,2
33HQ20150809  ,ARC01      ,30      ,  6,18         ,    6180,   11132,GSNIS-18   ,2,20150901,1525,  87.5498, 179.5430,     3943,    228.3,   0.5946,  34.7438,2,     -999,9,    293.4,2,     -999,9,     5.96,2,    11.51,2,     0.00,2,     0.79,2,     -999,9,     -999,9,     -999,9,     -999,9,     -999,9,     -999,9,     -999,9,     -999,     -999,9,     -999,9,     -999,9,     -999,9,     -999,9,     -999,9,     -999,9,     -999,     -999,9,     -999,9,     -999,9,     -999,     -999,9,20150901,1534,    225.7,  87.5502, 179.5318,     -999,9,     -999,9
33HQ20150809  ,ARC01      ,30      ,  6,17         ,    6180,   11132,GSNIS-17   ,2,20150901,1525,  87.5498, 179.5430,     3943,    228.3,   0.5956,  34.7437,2,     -999,9,    293.4,2,     -999,9,     5.96,2,    11.45,2,     0.00,2,     0.79,2,     -999,9,     -999,9,     -999,9,     -999,9,     -999,9,     -999,9,     -999,9,     -999,     -999,9,     -999,9,     -999,9,     -999,9,   0.5951,2,     -999,9,     -999,9,     -999,     -999,9,     -999,9,     -999,9,     -999,     -999,9,20150901,1534,    225.7,  87.5502, 179.5320,     -999,9,     -999,9
33HQ20150809  ,ARC01      ,30      ,  6,7          ,    6180,   11133,GSNIS-7    ,2,20150901,1525,  87.5498, 179.5430,     3943,    264.1,   0.7859,  34.8073,2,  34.8069,2,    294.2,2,    295.2,2,     5.76,2,    11.86,2,     0.01,2,     0.82,2,     -999,9,     -999,9,     -999,9,     -999,9,     -999,9,     -999,9,     -999,9,     -999,     -999,9,     -999,9,     -999,9,     -999,9,   0.7855,2,     -999,9,     -999,9,     -999,     -999,9,     -999,9,     -999,9,     -999,     -999,9,20150901,1531,    261.1,  87.5500, 179.5370,     -999,9,  34.9710,2
33HQ20150809  ,ARC01      ,30      ,  6,8          ,    6180,   11133,GSNIS-8    ,2,20150901,1525,  87.5498, 179.5430,     3943,    264.1,   0.7859,  34.8073,2,     -999,9,    294.2,2,     -999,9,     5.76,2,    11.86,2,     0.01,2,     0.83,2,     -999,9,     -999,9,     -999,9,     -999,9,     -999,9,     -999,9,     -999,9,     -999,     -999,9,     -999,9,     -999,9,     -999,9,     -999,9,     -999,9,     -999,9,     -999,     -999,9,     -999,9,     -999,9,     -999,     -999,9,20150901,1531,    261.1,  87.5500, 179.5369,     -999,9,     -999,9
33HQ20150809  ,ARC01      ,30      ,  6,9          ,    6180,   11133,GSNIS-9    ,2,20150901,1525,  87.5498, 179.5430,     3943,    264.1,   0.7860,  34.8073,2,     -999,9,    294.2,2,     -999,9,     5.76,2,    11.84,2,     0.00,2,     0.80,2,     -999,9,     -999,9,     -999,9,     -999,9,     -999,9,     -999,9,     -999,9,     -999,     -999,9,     -999,9,     -999,9,     -999,9,   0.7857,2,     -999,9,     -999,9,     -999,     -999,9,     -999,9,     -999,9,     -999,     -999,9,20150901,1531,    261.1,  87.5500, 179.5368,     -999,9,     -999,9
33HQ20150809  ,ARC01      ,30      ,  6,10         ,    6180,   11133,GSNIS-10   ,2,20150901,1525,  87.5498, 179.5430,     3943,    264.1,   0.7858,  34.8073,2,     -999,9,    294.2,2,     -999,9,     5.86,2,    11.84,2,     0.00,2,     0.83,2,     -999,9,     -999,9,     -999,9,     -999,9,     -999,9,     -999,9,     -999,9,     -999,     -999,9,     -999,9,     -999,9,     -999,9,     -999,9,     -999,9,     -999,9,     -999,     -999,9,     -999,9,     -999,9,     -999,     -999,9,20150901,1531,    261.1,  87.5500, 179.5366,     -999,9,     -999,9
33HQ20150809  ,ARC01      ,30      ,  6,11         ,    6180,   11133,GSNIS-11   ,2,20150901,1525,  87.5498, 179.5430,     3943,    264.1,   0.7858,  34.8073,2,     -999,9,    294.2,2,     -999,9,     5.86,2,    11.84,2,     0.01,2,     0.80,2,     -999,9,     -999,9,     -999,9,     -999,9,     -999,9,     -999,9,     -999,9,     -999,     -999,9,     -999,9,     -999,9,     -999,9,   0.7857,2,     -999,9,     -999,9,     -999,     -999,9,     -999,9,     -999,9,     -999,     -999,9,20150901,1531,    261.1,  87.5500, 179.5364,     -999,9,     -999,9
33HQ20150809  ,ARC01      ,30      ,  6,12         ,    6180,   11133,GSNIS-12   ,2,20150901,1525,  87.5498, 179.5430,     3943,    264.1,   0.7858,  34.8073,2,     -999,9,    294.2,2,     -999,9,     5.86,2,    11.86,2,     0.00,2,     0.81,2,     -999,9,     -999,9,     -999,9,     -999,9,     -999,9,     -999,9,     -999,9,     -999,     -999,9,     -999,9,     -999,9,     -999,9,     -999,9,     -999,9,     -999,9,     -999,     -999,9,     -999,9,     -999,9,     -999,     -999,9,20150901,1531,    261.1,  87.5500, 179.5362,     -999,9,     -999,9
33HQ20150809  ,ARC01      ,30      ,  6,1          ,    6180,   11134,GSNIS-1    ,2,20150901,1525,  87.5498, 179.5430,     3943,    380.5,   0.8960,  34.8664,2,  34.8657,2,    298.5,2,    298.4,2,     5.86,2,    12.16,2,     0.01,2,     0.83,2,     -999,9,     -999,9,     -999,9,     -999,9,     -999,9,     -999,9,     -999,9,     -999,     -999,9,     -999,9,     -999,9,     -999,9,   0.8957,2,     -999,9,     -999,9,     -999,     -999,9,     -999,9,     -999,9,     -999,     -999,9,20150901,1526,    376.1,  87.5497, 179.5461,     -999,9,  35.0301,2
33HQ20150809  ,ARC01      ,30      ,  6,6          ,    6180,   11134,GSNIS-6    ,2,20150901,1525,  87.5498, 179.5430,     3943,    380.6,   0.8964,  34.8663,2,     -999,9,    298.5,2,     -999,9,     5.86,2,    12.15,2,     0.01,2,     0.83,2,     -999,9,     -999,9,     -999,9,     -999,9,     -999,9,     -999,9,     -999,9,     -999,     -999,9,     -999,9,     -999,9,     -999,9,     -999,9,     -999,9,     -999,9,     -999,     -999,9,     -999,9,     -999,9,     -999,     -999,9,20150901,1526,    376.2,  87.5497, 179.5454,     -999,9,     -999,9
33HQ20150809  ,ARC01      ,30      ,  6,2          ,    6180,   11134,GSNIS-2    ,2,20150901,1525,  87.5498, 179.5430,     3943,    380.6,   0.8962,  34.8664,2,     -999,9,    298.5,2,     -999,9,     5.86,2,    12.13,2,     0.01,2,     0.83,2,     -999,9,     -999,9,     -999,9,     -999,9,     -999,9,     -999,9,     -999,9,     -999,     -999,9,     -999,9,     -999,9,     -999,9,     -999,9,     -999,9,     -999,9,     -999,     -999,9,     -999,9,     -999,9,     -999,     -999,9,20150901,1526,    376.1,  87.5497, 179.5460,     -999,9,     -999,9