BOTTLE,20221220CCHSIOAMB
EXPOCODE,SECT_ID,STNNBR,CASTNO,SAMPNO,GEOTR_EVENT,GEOTR_SAMPNO,BTLNBR,BTLNBR_FLAG_W,DATE,TIME,LATITUDE,LONGITUDE,DEPTH,CTDPRS,CTDTMP,CTDSAL,CTDSAL_FLAG_W,SALNTY,SALNTY_FLAG_W,CTDOXY,CTDOXY_FLAG_W,OXYGEN,OXYGEN_FLAG_W,SILCAT,SILCAT_FLAG_W,NITRAT,NITRAT_FLAG_W,NITRIT,NITRIT_FLAG_W,PHSPHT,PHSPHT_FLAG_W,CFC-11,CFC-11_FLAG_W,CFC-12,CFC-12_FLAG_W,CFC113,CFC113_FLAG_W,SF6,SF6_FLAG_W,TCARBN,TCARBN_FLAG_W,ALKALI,ALKALI_FLAG_W,PH_SWS,PH_SWS_FLAG_W,PH_TMP,DOC,DOC_FLAG_W,TRITUM,TRITUM_FLAG_W,HELIUM,HELIUM_FLAG_W,DELHE3,DELHE3_FLAG_W,REFTMP,REFTMP_FLAG_W,DELC13,DELC13_FLAG_W,DELC14,DELC14_FLAG_W,C14ERR,TDN,TDN_FLAG_W,DELO18,DELO18_FLAG_W,DELO17,DELO17_FLAG_W,CH4,CH4,CH4_FLAG_W,BTL_DATE,BTL_TIME,CTDDEPTH,BTL_LAT,BTL_LON,LAB_DEN,LAB_DEN_FLAG_W,SALTREF,SALTREF_FLAG_W
,,,,,,,,,,,,,METERS,DBAR,ITS-90,PSS-78,,PSS-78,,UMOL/KG,,UMOL/KG,,UMOL/KG,,UMOL/KG,,UMOL/KG,,UMOL/KG,,PMOL/KG,,PMOL/KG,,PMOL/KG,,FMOL/KG,,UMOL/KG,,UMOL/KG,,,,DEG C,UMOL/KG,,TU,,NMOL/KG,,PERCNT,,ITS-90,,/MILLE,,/MILLE,,/MILLE,UMOL/KG,,/MILLE,,/MILLE,,NMOL/KG,NMOL/L,,,,METERS,,,KG/M^3,,G/KG,
33HQ20150809  ,ARC01      ,26      ,  9,12         ,    6159,   11062,NIS-12     ,2,20150829,0059,  83.6868, 173.6931,     3145,    506.4,   0.6449,  34.8647,2,  34.8633,2,    303.3,2,    302.5,2,     5.66,2,    11.87,2,     0.01,2,     0.83,2,    5.099,2,    2.595,2,    0.350,2,    1.431,2,     -999,9,   2298.4,2,   7.6964,2,    25.00,     51.7,2,     -999,1,     -999,1,     -999,1,   0.6450,2,     0.73,2,     45.4,2,      2.1,    12.42,2,     -999,1,     -999,9,     1.03,   1.0344,2,20150829,0217,    500.4,  83.6877, 173.6252,     -999,9,  35.0277,2
33HQ20150809  ,ARC01      ,26      ,  9,11         ,    6159,   11063,NIS-11     ,2,20150829,0059,  83.6868, 173.6931,     3145,    759.4,   0.1388,  34.8745,2,  34.8730,2,    305.0,2,    303.9,2,     5.76,2,    11.92,2,     0.01,2,     0.83,2,    4.820,2,    2.448,2,    0.329,2,    1.371,2,     -999,9,   2299.4,2,   7.6892,2,    25.00,     54.2,2,     -999,1,     -999,1,     -999,1,   0.1388,2,     0.74,2,     38.8,2,      2.0,    15.07,2,     -999,1,     -999,9,     0.73,   0.7269,2,20150829,0211,    749.9,  83.6876, 173.6298,     -999,9,  35.0374,2
33HQ20150809  ,ARC01      ,26      ,  9,10         ,    6159,   11064,NIS-10     ,2,20150829,0059,  83.6868, 173.6931,     3145,   1013.5,  -0.1340,  34.8870,2,  34.8858,2,    302.6,2,    303.6,2,     6.45,2,    12.24,2,     0.01,2,     0.86,2,    3.937,2,    1.942,2,    0.254,2,    1.008,2,     -999,9,   2299.3,2,   7.6949,2,    25.00,     53.1,2,     -999,1,     -999,1,     -999,1,  -0.1342,2,     0.81,2,     17.8,2,      2.2,    15.36,2,     -999,1,     -999,9,     0.90,   0.9010,2,20150829,0204,   1000.3,  83.6876, 173.6348,     -999,9,  35.0503,2
33HQ20150809  ,ARC01      ,26      ,  9,9          ,    6159,   11065,NIS-9      ,2,20150829,0059,  83.6868, 173.6931,     3145,   1267.9,  -0.2961,  34.9027,2,  34.9036,2,    299.9,2,    301.6,2,     7.52,2,    12.77,2,     0.01,2,     0.91,2,    2.450,2,    1.202,2,    0.137,2,    0.570,2,     -999,9,   2299.5,2,   7.7083,2,    25.00,     51.5,2,     -999,1,     -999,1,     -999,1,  -0.2961,2,     0.97,2,    -13.4,2,      2.1,    14.43,2,     -999,1,     -999,9,     0.74,   0.7439,2,20150829,0156,   1250.5,  83.6875, 173.6418,     -999,9,  35.0682,2
33HQ20150809  ,ARC01      ,26      ,  9,8          ,    6159,   11066,NIS-8      ,2,20150829,0059,  83.6868, 173.6931,     3145,   1522.5,  -0.3729,  34.9216,2,  34.9197,2,    296.8,2,    297.2,2,     9.18,2,    13.45,2,     0.01,2,     0.95,2,    0.910,2,    0.432,2,    0.037,2,    0.153,2,     -999,9,   2289.4,4,   7.7263,2,    25.00,     48.1,2,     -999,1,     -999,1,     -999,1,  -0.3728,2,     1.11,2,    -49.5,2,      2.0,    16.38,2,     -999,1,     -999,9,     0.74,   0.7439,2,20150829,0150,   1500.8,  83.6874, 173.6464,     -999,9,  35.0844,2
33HQ20150809  ,ARC01      ,26      ,  9,7          ,    6159,   11067,NIS-7      ,2,20150829,0059,  83.6868, 173.6931,     3145,   1843.7,  -0.4041,  34.9394,2,  34.9400,2,    292.0,2,    291.7,2,    11.03,2,    14.01,2,     0.01,2,     0.98,2,    0.258,2,    0.108,2,    0.008,2,    0.003,2,     -999,9,   2300.8,2,   7.6308,4,    25.00,     46.5,2,     -999,1,     -999,1,     -999,1,  -0.4041,2,     0.67,3,    -90.2,2,      2.0,    14.91,2,     -999,1,     -999,9,     0.60,   0.5977,2,20150829,0142,   1816.0,  83.6873, 173.6531,     -999,9,  35.1048,2
33HQ20150809  ,ARC01      ,26      ,  9,6          ,    6159,   11068,NIS-6      ,2,20150829,0059,  83.6868, 173.6931,     3145,   2032.1,  -0.4013,  34.9454,3,  34.9450,2,    289.9,2,    289.5,2,    11.72,2,    14.20,2,     0.00,2,     0.99,2,    0.133,2,    0.049,2,    0.004,2,    0.000,2,     -999,9,   2301.1,2,   7.7335,2,    25.00,     47.8,2,     -999,1,     -999,1,     -999,1,  -0.4013,2,     1.19,2,    -93.5,2,      1.9,    15.41,2,     -999,1,     -999,9,     0.58,   0.5757,2,20150829,0134,   2000.7,  83.6872, 173.6605,     -999,9,  35.1098,2
33HQ20150809  ,ARC01      ,26      ,  9,5          ,    6159,   11069,NIS-5      ,2,20150829,0059,  83.6868, 173.6931,     3145,   2286.9,  -0.3884,  34.9499,3,  34.9491,2,    287.8,2,    287.2,2,    12.30,2,    14.32,2,     0.01,2,     1.03,2,    0.070,2,    0.024,2,    0.003,2,    0.005,2,     -999,9,   2301.9,2,   7.7316,2,    25.00,     44.7,2,     -999,1,     -999,1,     -999,1,  -0.3884,2,     1.19,2,    -98.8,2,      1.9,    16.00,2,     -999,1,     -999,9,     0.58,   0.5795,2,20150829,0128,   2250.2,  83.6871, 173.6659,     -999,9,  35.1139,2
33HQ20150809  ,ARC01      ,26      ,  9,4          ,    6159,   11070,NIS-4      ,2,20150829,0059,  83.6868, 173.6931,     3145,   2583.0,  -0.3655,  34.9530,3,  34.9523,2,    286.1,2,    286.0,2,    12.79,2,    14.40,2,     0.01,2,     1.01,2,    0.036,2,    0.010,2,    0.000,2,    0.009,2,     -999,9,   2301.6,2,   7.7318,2,    25.00,     47.0,2,     -999,1,     -999,1,     -999,1,  -0.3654,2,     1.20,2,   -103.6,2,      2.0,    16.04,2,     -999,1,     -999,9,     0.54,   0.5384,2,20150829,0121,   2539.8,  83.6870, 173.6720,     -999,9,  35.1171,2
33HQ20150809  ,ARC01      ,26      ,  9,3          ,    6159,   11071,NIS-3      ,2,20150829,0059,  83.6868, 173.6931,     3145,   2818.8,  -0.3513,  34.9537,3,  34.9533,2,    285.6,2,    286.7,2,    12.69,2,    14.39,2,     0.01,2,     1.03,2,    0.102,3,    0.046,3,    0.007,3,    0.013,3,     -999,9,   2301.4,2,   7.7329,2,    25.00,     46.8,2,     -999,1,     -999,1,     -999,1,  -0.3512,2,     1.22,2,   -104.4,2,      1.8,    15.56,2,     -999,1,     -999,9,     0.57,   0.5735,2,20150829,0114,   2770.1,  83.6869, 173.6789,     -999,9,  35.1181,2
33HQ20150809  ,ARC01      ,26      ,  9,2          ,    6159,   11072,NIS-22     ,2,20150829,0059,  83.6868, 173.6931,     3145,   2900.9,  -0.3454,  34.9543,3,  34.9542,2,    285.9,2,    286.1,2,    12.69,2,    14.35,2,     0.01,2,     1.04,2,    0.023,2,    0.013,2,    0.000,2,    0.000,2,     -999,9,   2300.5,2,   7.7350,2,    25.00,     46.2,2,     -999,1,     -999,1,     -999,1,  -0.3456,2,     1.23,2,   -108.2,2,      1.9,    15.55,2,     -999,1,     -999,9,     0.65,   0.6485,2,20150829,0109,   2850.3,  83.6869, 173.6831,     -999,9,  35.1190,2
33HQ20150809  ,ARC01      ,26      ,  9,1          ,    6159,   11073,NIS-1      ,2,20150829,0059,  83.6868, 173.6931,     3145,   3183.7,  -0.3273,  34.9545,3,  34.9544,2,    285.7,2,    286.1,2,    12.69,2,    14.36,2,     0.01,2,     1.02,2,    0.025,2,    0.006,2,    0.000,2,    0.020,2,     -999,9,   2300.2,2,   7.7485,2,    25.00,     46.2,2,     -999,1,     -999,1,     -999,1,  -0.3272,2,     1.18,2,   -110.1,2,      2.5,    16.03,2,     -999,1,     -999,9,     0.56,   0.5608,2,20150829,0100,   3126.1,  83.6868, 173.6921,     -999,9,  35.1192,2
33HQ20150809  ,ARC01      ,26      ,  9,13         ,    6159,   11074,CORER      ,2,20150829,0059,  83.6868, 173.6931,     3145,   3194.0,     -999,     -999,9,     -999,9,     -999,9,     -999,9,     -999,9,     -999,9,     -999,9,     -999,9,     -999,9,     -999,9,     -999,9,     -999,9,     -999,9,     -999,9,     -999,9,     -999,     -999,9,     -999,9,     -999,9,     -999,9,     -999,9,     -999,9,     -999,9,     -999,     -999,9,     -999,9,     -999,9,     -999,     -999,9,20150829,0059,   3136.2,  83.6868, 173.6931,     -999,9,     -999,9