BOTTLE,20221220CCHSIOAMB
EXPOCODE,SECT_ID,STNNBR,CASTNO,SAMPNO,GEOTR_EVENT,GEOTR_SAMPNO,BTLNBR,BTLNBR_FLAG_W,DATE,TIME,LATITUDE,LONGITUDE,DEPTH,CTDPRS,CTDTMP,CTDSAL,CTDSAL_FLAG_W,SALNTY,SALNTY_FLAG_W,CTDOXY,CTDOXY_FLAG_W,OXYGEN,OXYGEN_FLAG_W,SILCAT,SILCAT_FLAG_W,NITRAT,NITRAT_FLAG_W,NITRIT,NITRIT_FLAG_W,PHSPHT,PHSPHT_FLAG_W,CFC-11,CFC-11_FLAG_W,CFC-12,CFC-12_FLAG_W,CFC113,CFC113_FLAG_W,SF6,SF6_FLAG_W,TCARBN,TCARBN_FLAG_W,ALKALI,ALKALI_FLAG_W,PH_SWS,PH_SWS_FLAG_W,PH_TMP,DOC,DOC_FLAG_W,TRITUM,TRITUM_FLAG_W,HELIUM,HELIUM_FLAG_W,DELHE3,DELHE3_FLAG_W,REFTMP,REFTMP_FLAG_W,DELC13,DELC13_FLAG_W,DELC14,DELC14_FLAG_W,C14ERR,TDN,TDN_FLAG_W,DELO18,DELO18_FLAG_W,DELO17,DELO17_FLAG_W,CH4,CH4,CH4_FLAG_W,BTL_DATE,BTL_TIME,CTDDEPTH,BTL_LAT,BTL_LON,LAB_DEN,LAB_DEN_FLAG_W,SALTREF,SALTREF_FLAG_W
,,,,,,,,,,,,,METERS,DBAR,ITS-90,PSS-78,,PSS-78,,UMOL/KG,,UMOL/KG,,UMOL/KG,,UMOL/KG,,UMOL/KG,,UMOL/KG,,PMOL/KG,,PMOL/KG,,PMOL/KG,,FMOL/KG,,UMOL/KG,,UMOL/KG,,,,DEG C,UMOL/KG,,TU,,NMOL/KG,,PERCNT,,ITS-90,,/MILLE,,/MILLE,,/MILLE,UMOL/KG,,/MILLE,,/MILLE,,NMOL/KG,NMOL/L,,,,METERS,,,KG/M^3,,G/KG,
33HQ20150809  ,ARC01      ,38      ,  2,35         ,    6250,   11375,GSNIS-35   ,2,20150910,0250,  87.8259,-149.6801,     2550,      3.3,  -1.5077,  28.0816,2,     -999,9,    386.3,2,     -999,9,    12.87,2,     0.01,2,     0.01,2,     0.66,2,     -999,9,     -999,9,     -999,9,     -999,9,     -999,9,     -999,9,     -999,9,     -999,     -999,9,     -999,9,     -999,9,     -999,9,  -1.5063,2,     -999,9,     -999,9,     -999,     -999,9,     -999,9,     -999,9,     -999,     -999,9,20150910,0319,      3.3,  87.8260,-149.6293,     -999,9,     -999,9
33HQ20150809  ,ARC01      ,38      ,  2,34         ,    6250,   11375,GSNIS-34   ,2,20150910,0250,  87.8259,-149.6801,     2550,      3.3,  -1.5062,  28.0807,2,  28.0788,2,    386.3,2,    386.3,2,    12.87,2,     0.00,2,     0.01,2,     0.67,2,    6.658,2,    3.631,2,    0.627,2,    3.600,2,   1952.6,2,   2033.4,2,   7.6031,4,    25.00,    131.9,2,     -999,1,     -999,1,     -999,1,  -1.5068,2,     0.70,2,     10.3,2,      2.1,     4.90,2,     -999,1,     -999,9,     -999,     -999,1,20150910,0319,      3.3,  87.8260,-149.6295,     -999,9,  28.2112,2
33HQ20150809  ,ARC01      ,38      ,  2,36         ,    6250,   11375,GSNIS-36   ,2,20150910,0250,  87.8259,-149.6801,     2550,      3.3,  -1.5092,  28.0795,2,     -999,9,    386.3,2,     -999,9,    12.87,2,     0.01,2,     0.01,2,     0.67,2,     -999,9,     -999,9,     -999,9,     -999,9,     -999,9,     -999,9,     -999,9,     -999,     -999,9,     -999,9,     -999,9,     -999,9,  -1.5074,2,     -999,9,     -999,9,     -999,     -999,9,     -999,9,     -999,9,     -999,     -999,9,20150910,0320,      3.3,  87.8260,-149.6289,     -999,9,     -999,9
33HQ20150809  ,ARC01      ,38      ,  2,33         ,    6250,   11376,GSNIS-33   ,2,20150910,0250,  87.8259,-149.6801,     2550,     20.5,  -1.4597,  28.5038,2,     -999,9,    385.1,2,     -999,9,    13.06,2,     0.49,2,     0.07,2,     0.73,2,     -999,9,     -999,9,     -999,9,     -999,9,     -999,9,     -999,9,     -999,9,     -999,     -999,9,     -999,9,     -999,9,     -999,9,  -1.4597,2,     -999,9,     -999,9,     -999,     -999,9,     -999,9,     -999,9,     -999,     -999,9,20150910,0317,     20.2,  87.8260,-149.6334,     -999,9,     -999,9
33HQ20150809  ,ARC01      ,38      ,  2,32         ,    6250,   11376,GSNIS-32   ,2,20150910,0250,  87.8259,-149.6801,     2550,     20.5,  -1.4596,  28.5058,2,     -999,9,    385.1,2,     -999,9,    13.06,2,     0.47,2,     0.07,2,     0.74,2,     -999,9,     -999,9,     -999,9,     -999,9,     -999,9,     -999,9,     -999,9,     -999,     -999,9,     -999,9,     -999,9,     -999,9,  -1.4596,2,     -999,9,     -999,9,     -999,     -999,9,     -999,9,     -999,9,     -999,     -999,9,20150910,0317,     20.2,  87.8260,-149.6338,     -999,9,     -999,9
33HQ20150809  ,ARC01      ,38      ,  2,31         ,    6250,   11376,GSNIS-31   ,2,20150910,0250,  87.8259,-149.6801,     2550,     20.5,  -1.4595,  28.5074,2,  28.6315,2,    385.1,2,    382.4,2,    12.96,2,     0.28,2,     0.06,2,     0.71,2,    6.719,2,    3.646,2,    0.624,2,    3.642,2,   1995.9,2,   2076.8,2,   7.6336,2,    25.00,    129.4,2,     -999,1,     -999,1,     -999,1,  -1.4593,2,     0.65,2,     12.5,2,      2.1,     5.46,2,     -999,1,     -999,9,     -999,     -999,1,20150910,0317,     20.2,  87.8260,-149.6339,     -999,9,  28.7665,2
33HQ20150809  ,ARC01      ,38      ,  2,30         ,    6250,   11377,GSNIS-30   ,2,20150910,0250,  87.8259,-149.6801,     2550,     45.5,  -1.5900,  30.5516,2,     -999,9,    368.8,2,     -999,9,    11.76,2,     2.73,2,     0.01,2,     0.77,2,     -999,9,     -999,9,     -999,9,     -999,9,     -999,9,     -999,9,     -999,9,     -999,     -999,9,     -999,9,     -999,9,     -999,9,  -1.5920,2,     -999,9,     -999,9,     -999,     -999,9,     -999,9,     -999,9,     -999,     -999,9,20150910,0315,     45.0,  87.8260,-149.6376,     -999,9,     -999,9
33HQ20150809  ,ARC01      ,38      ,  2,28         ,    6250,   11377,GSNIS-28   ,2,20150910,0250,  87.8259,-149.6801,     2550,     45.5,  -1.5907,  30.5618,2,  30.5717,2,    368.8,2,    357.5,2,    12.16,2,     2.18,2,     0.01,2,     0.75,2,    6.777,2,    3.726,2,    0.603,2,    3.505,2,   2095.0,2,   2168.6,2,   7.5808,2,    25.00,    119.3,2,     -999,1,     -999,1,     -999,1,  -1.5918,2,     0.44,2,     14.8,2,      2.0,     7.44,2,     -999,1,     -999,9,     -999,     -999,1,20150910,0314,     45.0,  87.8260,-149.6382,     -999,9,  30.7159,2
33HQ20150809  ,ARC01      ,38      ,  2,29         ,    6250,   11377,GSNIS-29   ,2,20150910,0250,  87.8259,-149.6801,     2550,     45.5,  -1.5902,  30.5496,2,     -999,9,    368.8,2,     -999,9,    11.76,2,     2.69,2,     0.01,2,     0.77,2,     -999,9,     -999,9,     -999,9,     -999,9,     -999,9,     -999,9,     -999,9,     -999,     -999,9,     -999,9,     -999,9,     -999,9,  -1.5911,2,     -999,9,     -999,9,     -999,     -999,9,     -999,9,     -999,9,     -999,     -999,9,20150910,0314,     45.0,  87.8260,-149.6379,     -999,9,     -999,9
33HQ20150809  ,ARC01      ,38      ,  2,26         ,    6250,   11378,GSNIS-26   ,2,20150910,0250,  87.8259,-149.6801,     2550,     63.8,  -1.6044,  31.9772,2,     -999,9,    340.0,2,     -999,9,    10.77,2,     4.65,2,     0.01,2,     0.77,2,     -999,9,     -999,9,     -999,9,     -999,9,     -999,9,     -999,9,     -999,9,     -999,     -999,9,     -999,9,     -999,9,     -999,9,  -1.6048,2,     -999,9,     -999,9,     -999,     -999,9,     -999,9,     -999,9,     -999,     -999,9,20150910,0312,     63.1,  87.8260,-149.6418,     -999,9,     -999,9
33HQ20150809  ,ARC01      ,38      ,  2,27         ,    6250,   11378,GSNIS-27   ,2,20150910,0250,  87.8259,-149.6801,     2550,     63.8,  -1.6049,  31.9798,2,     -999,9,    340.0,2,     -999,9,    10.77,2,     4.61,2,     0.01,2,     0.78,2,     -999,9,     -999,9,     -999,9,     -999,9,     -999,9,     -999,9,     -999,9,     -999,     -999,9,     -999,9,     -999,9,     -999,9,  -1.6030,2,     -999,9,     -999,9,     -999,     -999,9,     -999,9,     -999,9,     -999,     -999,9,20150910,0312,     63.1,  87.8260,-149.6415,     -999,9,     -999,9
33HQ20150809  ,ARC01      ,38      ,  2,25         ,    6250,   11378,GSNIS-25   ,2,20150910,0250,  87.8259,-149.6801,     2550,     63.8,  -1.6029,  31.9733,2,  32.0038,2,    340.0,2,    342.0,2,    10.97,2,     4.57,2,     0.00,2,     0.79,2,    6.679,2,    3.664,2,    0.561,2,    3.275,2,   2133.6,2,     -999,5,     -999,5,     -999,     90.3,2,     -999,1,     -999,1,     -999,1,  -1.6068,2,     0.43,2,     21.6,2,      2.1,     9.54,2,     -999,1,     -999,9,     -999,     -999,1,20150910,0312,     63.1,  87.8260,-149.6421,     -999,9,  32.1547,2
33HQ20150809  ,ARC01      ,38      ,  2,22         ,    6250,   11379,GSNIS-22   ,2,20150910,0250,  87.8259,-149.6801,     2550,     83.8,  -1.5029,  32.9629,2,  33.0187,2,    285.9,2,    284.0,2,    23.48,2,    10.78,2,     0.00,2,     1.25,2,    6.290,2,    3.399,2,    0.460,2,    2.736,2,   2197.6,2,   2244.9,2,   7.4731,2,    25.00,     74.6,2,     -999,1,     -999,1,     -999,1,  -1.5033,2,     0.11,3,     17.4,2,      2.1,    14.11,2,     -999,1,     -999,9,     -999,     -999,1,20150910,0310,     82.9,  87.8260,-149.6462,     -999,9,  33.1744,2
33HQ20150809  ,ARC01      ,38      ,  2,24         ,    6250,   11379,GSNIS-24   ,2,20150910,0250,  87.8259,-149.6801,     2550,     83.8,  -1.5029,  32.9630,2,     -999,9,    285.9,2,     -999,9,    22.21,2,    10.52,2,     0.00,2,     1.20,2,     -999,9,     -999,9,     -999,9,     -999,9,     -999,9,     -999,9,     -999,9,     -999,     -999,9,     -999,9,     -999,9,     -999,9,  -1.5031,2,     -999,9,     -999,9,     -999,     -999,9,     -999,9,     -999,9,     -999,     -999,9,20150910,0310,     82.9,  87.8260,-149.6456,     -999,9,     -999,9
33HQ20150809  ,ARC01      ,38      ,  2,23         ,    6250,   11379,GSNIS-23   ,2,20150910,0250,  87.8259,-149.6801,     2550,     83.8,  -1.5028,  32.9651,2,     -999,9,    285.9,2,     -999,9,    22.31,2,    10.53,2,     0.00,2,     1.20,2,     -999,9,     -999,9,     -999,9,     -999,9,     -999,9,     -999,9,     -999,9,     -999,     -999,9,     -999,9,     -999,9,     -999,9,  -1.5032,2,     -999,9,     -999,9,     -999,     -999,9,     -999,9,     -999,9,     -999,     -999,9,20150910,0310,     82.9,  87.8260,-149.6459,     -999,9,     -999,9
33HQ20150809  ,ARC01      ,38      ,  2,19         ,    6250,   11380,GSNIS-19   ,2,20150910,0250,  87.8259,-149.6801,     2550,    101.1,  -1.4454,  33.6842,2,  33.7802,2,    298.9,2,    300.5,2,    11.05,2,     8.32,2,     0.00,2,     0.81,2,     -999,9,     -999,9,     -999,9,     -999,9,   2181.4,2,   2262.4,2,   7.5759,2,    25.00,     68.0,2,     -999,1,     -999,1,     -999,1,  -1.4455,2,     0.37,2,     43.7,2,      3.5,    11.21,2,     -999,1,     -999,9,     -999,     -999,1,20150910,0307,    100.0,  87.8260,-149.6501,     -999,9,  33.9395,2
33HQ20150809  ,ARC01      ,38      ,  2,20         ,    6250,   11380,GSNIS-20   ,2,20150910,0250,  87.8259,-149.6801,     2550,    101.1,  -1.4452,  33.6859,2,     -999,9,    298.9,2,     -999,9,    11.25,2,     8.34,2,     0.00,2,     0.81,2,     -999,9,     -999,9,     -999,9,     -999,9,     -999,9,     -999,9,     -999,9,     -999,     -999,9,     -999,9,     -999,9,     -999,9,  -1.4456,2,     -999,9,     -999,9,     -999,     -999,9,     -999,9,     -999,9,     -999,     -999,9,20150910,0308,    100.0,  87.8260,-149.6496,     -999,9,     -999,9
33HQ20150809  ,ARC01      ,38      ,  2,21         ,    6250,   11380,GSNIS-21   ,2,20150910,0250,  87.8259,-149.6801,     2550,    101.1,  -1.4458,  33.6820,2,     -999,9,    298.9,2,     -999,9,    10.95,2,     8.30,2,     0.00,2,     0.80,2,     -999,9,     -999,9,     -999,9,     -999,9,     -999,9,     -999,9,     -999,9,     -999,     -999,9,     -999,9,     -999,9,     -999,9,  -1.4455,2,     -999,9,     -999,9,     -999,     -999,9,     -999,9,     -999,9,     -999,     -999,9,20150910,0308,    100.0,  87.8260,-149.6493,     -999,9,     -999,9
33HQ20150809  ,ARC01      ,38      ,  2,17         ,    6250,   11381,GSNIS-17   ,2,20150910,0250,  87.8259,-149.6801,     2550,    126.4,  -1.3567,  34.1467,2,     -999,9,    309.5,2,     -999,9,     6.16,2,     7.90,2,     0.00,2,     0.67,2,     -999,9,     -999,9,     -999,9,     -999,9,     -999,9,     -999,9,     -999,9,     -999,     -999,9,     -999,9,     -999,9,     -999,9,  -1.3584,2,     -999,9,     -999,9,     -999,     -999,9,     -999,9,     -999,9,     -999,     -999,9,20150910,0305,    125.0,  87.8260,-149.6542,     -999,9,     -999,9
33HQ20150809  ,ARC01      ,38      ,  2,18         ,    6250,   11381,GSNIS-18   ,2,20150910,0250,  87.8259,-149.6801,     2550,    126.4,  -1.3575,  34.1462,2,     -999,9,    309.5,2,     -999,9,     6.06,2,     7.86,2,     0.00,2,     0.66,2,     -999,9,     -999,9,     -999,9,     -999,9,     -999,9,     -999,9,     -999,9,     -999,     -999,9,     -999,9,     -999,9,     -999,9,  -1.3581,2,     -999,9,     -999,9,     -999,     -999,9,     -999,9,     -999,9,     -999,     -999,9,20150910,0305,    125.0,  87.8260,-149.6539,     -999,9,     -999,9
33HQ20150809  ,ARC01      ,38      ,  2,16         ,    6250,   11381,GSNIS-16   ,2,20150910,0250,  87.8259,-149.6801,     2550,    126.5,  -1.3575,  34.1463,2,  34.1619,2,    309.5,2,    309.6,2,     5.96,2,     7.81,2,     0.00,2,     0.66,2,    6.358,2,    3.295,2,    0.462,2,    2.436,2,   2170.3,2,   2272.9,2,   7.6288,2,    25.00,     63.8,2,     -999,1,     -999,1,     -999,1,  -1.3583,2,     0.48,2,     58.7,2,      2.4,    10.39,2,     -999,1,     -999,9,     -999,     -999,1,20150910,0305,    125.1,  87.8260,-149.6545,     -999,9,  34.3230,2
33HQ20150809  ,ARC01      ,38      ,  2,15         ,    6250,   11382,GSNIS-15   ,2,20150910,0250,  87.8259,-149.6801,     2550,    151.8,  -0.8602,  34.3342,2,     -999,9,    305.7,2,     -999,9,     5.57,2,     8.85,2,     0.00,2,     0.70,2,     -999,9,     -999,9,     -999,9,     -999,9,     -999,9,     -999,9,     -999,9,     -999,     -999,9,     -999,9,     -999,9,     -999,9,  -0.8591,2,     -999,9,     -999,9,     -999,     -999,9,     -999,9,     -999,9,     -999,     -999,9,20150910,0303,    150.1,  87.8260,-149.6583,     -999,9,     -999,9
33HQ20150809  ,ARC01      ,38      ,  2,14         ,    6250,   11382,GSNIS-14   ,3,20150910,0250,  87.8259,-149.6801,     2550,    151.8,  -0.8590,  34.3343,2,     -999,9,    305.7,2,     -999,9,     5.57,2,     8.78,2,     0.00,2,     0.69,2,     -999,9,     -999,9,     -999,9,     -999,9,     -999,9,     -999,9,     -999,9,     -999,     -999,9,     -999,9,     -999,9,     -999,9,  -0.8593,2,     -999,9,     -999,9,     -999,     -999,9,     -999,9,     -999,9,     -999,     -999,9,20150910,0303,    150.1,  87.8260,-149.6587,     -999,9,     -999,9
33HQ20150809  ,ARC01      ,38      ,  2,13         ,    6250,   11382,GSNIS-13   ,2,20150910,0250,  87.8259,-149.6801,     2550,    151.8,  -0.8592,  34.3344,2,  34.3661,2,    305.7,2,    304.4,2,     5.67,2,     8.85,2,     0.00,2,     0.70,2,    6.210,2,    3.298,2,    0.449,2,    2.256,2,   2171.4,2,   2278.3,2,   7.6415,2,    25.00,     60.7,2,     -999,1,     -999,1,     -999,1,  -0.8569,2,     0.49,2,     51.3,2,      2.3,    11.26,2,     -999,1,     -999,9,     -999,     -999,1,20150910,0302,    150.1,  87.8260,-149.6589,     -999,9,  34.5282,2
33HQ20150809  ,ARC01      ,38      ,  2,12         ,    6250,   11383,GSNIS-12   ,2,20150910,0250,  87.8259,-149.6801,     2550,    202.2,   0.1414,  34.6037,2,     -999,9,    297.7,2,     -999,9,     5.67,2,    10.50,2,     0.00,2,     0.75,2,     -999,9,     -999,9,     -999,9,     -999,9,     -999,9,     -999,9,     -999,9,     -999,     -999,9,     -999,9,     -999,9,     -999,9,   0.1414,2,     -999,9,     -999,9,     -999,     -999,9,     -999,9,     -999,9,     -999,     -999,9,20150910,0300,    199.9,  87.8259,-149.6629,     -999,9,     -999,9
33HQ20150809  ,ARC01      ,38      ,  2,11         ,    6250,   11383,GSNIS-11   ,2,20150910,0250,  87.8259,-149.6801,     2550,    202.2,   0.1416,  34.6037,2,     -999,9,    297.7,2,     -999,9,     5.67,2,    10.48,2,     0.00,2,     0.74,2,     -999,9,     -999,9,     -999,9,     -999,9,     -999,9,     -999,9,     -999,9,     -999,     -999,9,     -999,9,     -999,9,     -999,9,   0.1418,2,     -999,9,     -999,9,     -999,     -999,9,     -999,9,     -999,9,     -999,     -999,9,20150910,0300,    199.9,  87.8259,-149.6632,     -999,9,     -999,9
33HQ20150809  ,ARC01      ,38      ,  2,10         ,    6250,   11383,GSNIS-10   ,2,20150910,0250,  87.8259,-149.6801,     2550,    202.2,   0.1418,  34.6038,2,  34.6088,2,    297.7,2,    298.3,2,     5.67,2,    10.46,2,     0.00,2,     0.76,2,    5.791,2,    2.971,2,    0.414,2,    1.790,2,   2166.1,2,   2284.3,2,   7.6641,2,    25.00,     58.2,2,     -999,1,     -999,1,     -999,1,   0.1416,2,     0.62,2,     46.1,2,      2.2,    12.10,2,     -999,1,     -999,9,     -999,     -999,1,20150910,0300,    199.9,  87.8259,-149.6635,     -999,9,  34.7720,2
33HQ20150809  ,ARC01      ,38      ,  2,7          ,    6250,   11384,GSNIS-7    ,2,20150910,0250,  87.8259,-149.6801,     2550,    283.3,   0.8229,  34.8113,2,  34.8112,2,    296.2,2,    295.2,2,     5.57,2,    11.75,2,     0.00,2,     0.81,2,    5.427,2,    2.789,2,    0.400,2,    1.651,2,   2160.7,2,   2286.0,2,   7.6967,2,    25.00,     53.6,2,     -999,1,     -999,1,     -999,1,   0.8227,2,     0.68,2,     -999,1,     -999,    13.68,2,     -999,1,     -999,9,     -999,     -999,1,20150910,0257,    280.0,  87.8259,-149.6688,     -999,9,  34.9754,2
33HQ20150809  ,ARC01      ,38      ,  2,8          ,    6250,   11384,GSNIS-8    ,2,20150910,0250,  87.8259,-149.6801,     2550,    283.3,   0.8229,  34.8113,2,     -999,9,    296.2,2,     -999,9,     5.47,2,    11.75,2,     0.00,2,     0.81,2,     -999,9,     -999,9,     -999,9,     -999,9,     -999,9,     -999,9,     -999,9,     -999,     -999,9,     -999,9,     -999,9,     -999,9,   0.8229,2,     -999,9,     -999,9,     -999,     -999,9,     -999,9,     -999,9,     -999,     -999,9,20150910,0257,    280.0,  87.8259,-149.6685,     -999,9,     -999,9
33HQ20150809  ,ARC01      ,38      ,  2,9          ,    6250,   11384,GSNIS-9    ,2,20150910,0250,  87.8259,-149.6801,     2550,    283.3,   0.8228,  34.8112,2,     -999,9,    296.2,2,     -999,9,     5.47,2,    11.75,2,     0.00,2,     0.81,2,     -999,9,     -999,9,     -999,9,     -999,9,     -999,9,     -999,9,     -999,9,     -999,     -999,9,     -999,9,     -999,9,     -999,9,   0.8227,2,     -999,9,     -999,9,     -999,     -999,9,     -999,9,     -999,9,     -999,     -999,9,20150910,0257,    280.0,  87.8259,-149.6683,     -999,9,     -999,9
33HQ20150809  ,ARC01      ,38      ,  2,5          ,    6250,   11385,GSNIS-5    ,2,20150910,0250,  87.8259,-149.6801,     2550,    384.6,   0.9322,  34.8613,2,     -999,9,    300.4,2,     -999,9,     5.67,2,    12.00,2,     0.00,2,     0.81,2,     -999,9,     -999,9,     -999,9,     -999,9,     -999,9,     -999,9,     -999,9,     -999,     -999,9,     -999,9,     -999,9,     -999,9,   0.9325,2,     -999,9,     -999,9,     -999,     -999,9,     -999,9,     -999,9,     -999,     -999,9,20150910,0253,    380.1,  87.8259,-149.6748,     -999,9,     -999,9
33HQ20150809  ,ARC01      ,38      ,  2,4          ,    6250,   11385,GSNIS-4    ,2,20150910,0250,  87.8259,-149.6801,     2550,    384.6,   0.9324,  34.8613,2,  34.8614,2,    300.4,2,    299.3,2,     5.67,2,    12.00,2,     0.00,2,     0.83,2,    5.328,2,    2.718,2,    0.391,2,    1.334,2,   2157.8,2,   2293.0,2,   7.7009,2,    25.00,     53.4,2,     -999,1,     -999,1,     -999,1,   0.9328,2,     0.74,2,     40.6,2,      2.3,    14.27,2,     -999,1,     -999,9,     -999,     -999,1,20150910,0253,    380.1,  87.8259,-149.6751,     -999,9,  35.0258,2
33HQ20150809  ,ARC01      ,38      ,  2,6          ,    6250,   11385,GSNIS-6    ,2,20150910,0250,  87.8259,-149.6801,     2550,    384.6,   0.9322,  34.8613,2,     -999,9,    300.4,2,     -999,9,     5.77,2,    11.99,2,     0.00,2,     0.84,2,     -999,9,     -999,9,     -999,9,     -999,9,     -999,9,     -999,9,     -999,9,     -999,     -999,9,     -999,9,     -999,9,     -999,9,   0.9325,2,     -999,9,     -999,9,     -999,     -999,9,     -999,9,     -999,9,     -999,     -999,9,20150910,0254,    380.1,  87.8259,-149.6746,     -999,9,     -999,9