BOTTLE,20221220CCHSIOAMB
EXPOCODE,SECT_ID,STNNBR,CASTNO,SAMPNO,GEOTR_EVENT,GEOTR_SAMPNO,BTLNBR,BTLNBR_FLAG_W,DATE,TIME,LATITUDE,LONGITUDE,DEPTH,CTDPRS,CTDTMP,CTDSAL,CTDSAL_FLAG_W,SALNTY,SALNTY_FLAG_W,CTDOXY,CTDOXY_FLAG_W,OXYGEN,OXYGEN_FLAG_W,SILCAT,SILCAT_FLAG_W,NITRAT,NITRAT_FLAG_W,NITRIT,NITRIT_FLAG_W,PHSPHT,PHSPHT_FLAG_W,CFC-11,CFC-11_FLAG_W,CFC-12,CFC-12_FLAG_W,CFC113,CFC113_FLAG_W,SF6,SF6_FLAG_W,TCARBN,TCARBN_FLAG_W,ALKALI,ALKALI_FLAG_W,PH_SWS,PH_SWS_FLAG_W,PH_TMP,DOC,DOC_FLAG_W,TRITUM,TRITUM_FLAG_W,HELIUM,HELIUM_FLAG_W,DELHE3,DELHE3_FLAG_W,REFTMP,REFTMP_FLAG_W,DELC13,DELC13_FLAG_W,DELC14,DELC14_FLAG_W,C14ERR,TDN,TDN_FLAG_W,DELO18,DELO18_FLAG_W,DELO17,DELO17_FLAG_W,CH4,CH4,CH4_FLAG_W,BTL_DATE,BTL_TIME,CTDDEPTH,BTL_LAT,BTL_LON,LAB_DEN,LAB_DEN_FLAG_W,SALTREF,SALTREF_FLAG_W
,,,,,,,,,,,,,METERS,DBAR,ITS-90,PSS-78,,PSS-78,,UMOL/KG,,UMOL/KG,,UMOL/KG,,UMOL/KG,,UMOL/KG,,UMOL/KG,,PMOL/KG,,PMOL/KG,,PMOL/KG,,FMOL/KG,,UMOL/KG,,UMOL/KG,,,,DEG C,UMOL/KG,,TU,,NMOL/KG,,PERCNT,,ITS-90,,/MILLE,,/MILLE,,/MILLE,UMOL/KG,,/MILLE,,/MILLE,,NMOL/KG,NMOL/L,,,,METERS,,,KG/M^3,,G/KG,
33HQ20150809  ,ARC01      ,56      ,  4,36         ,    6427,   12078,GSNIS-36   ,2,20150930,2028,  74.9694,-149.9495,     3829,      5.0,  -0.7355,  25.5064,2,     -999,9,    378.0,2,     -999,9,     2.16,2,     0.00,2,     0.00,2,     0.47,2,     -999,9,     -999,9,     -999,9,     -999,9,     -999,9,     -999,9,     -999,9,     -999,     -999,9,     -999,9,     -999,9,     -999,9,  -0.7352,2,     -999,9,     -999,9,     -999,     -999,9,     -999,9,     -999,9,     -999,     -999,9,20150930,2101,      4.9,  74.9659,-149.8866,     -999,9,     -999,9
33HQ20150809  ,ARC01      ,56      ,  4,35         ,    6427,   12078,GSNIS-35   ,2,20150930,2028,  74.9694,-149.9495,     3829,      5.5,  -0.7354,  25.5061,2,     -999,9,    378.0,2,     -999,9,     2.16,2,     0.00,2,     0.00,2,     0.47,2,     -999,9,     -999,9,     -999,9,     -999,9,     -999,9,     -999,9,     -999,9,     -999,     -999,9,     -999,9,     -999,9,     -999,9,  -0.7350,2,     -999,9,     -999,9,     -999,     -999,9,     -999,9,     -999,9,     -999,     -999,9,20150930,2100,      5.5,  74.9659,-149.8869,     -999,9,     -999,9
33HQ20150809  ,ARC01      ,56      ,  4,34         ,    6427,   12078,GSNIS-34   ,2,20150930,2028,  74.9694,-149.9495,     3829,      6.0,  -0.7358,  25.5064,2,  25.5019,2,    378.0,2,    377.8,2,     2.16,2,     0.00,2,     0.00,2,     0.47,2,     -999,9,     -999,9,     -999,9,     -999,9,     -999,9,     -999,9,     -999,9,     -999,     -999,9,     -999,9,     -999,9,     -999,9,  -0.7355,2,     -999,9,     -999,9,     -999,     -999,9,     -999,9,     -999,9,     -999,     -999,9,20150930,2100,      5.9,  74.9659,-149.8873,     -999,9,  25.6221,2
33HQ20150809  ,ARC01      ,56      ,  4,33         ,    6427,   12077,GSNIS-33   ,2,20150930,2028,  74.9694,-149.9495,     3829,     26.0,  -0.7293,  25.5121,2,     -999,9,    377.9,2,     -999,9,     2.07,2,     0.00,2,     0.00,2,     0.47,2,     -999,9,     -999,9,     -999,9,     -999,9,     -999,9,     -999,9,     -999,9,     -999,     -999,9,     -999,9,     -999,9,     -999,9,  -0.7284,2,     -999,9,     -999,9,     -999,     -999,9,     -999,9,     -999,9,     -999,     -999,9,20150930,2058,     25.7,  74.9658,-149.8907,     -999,9,     -999,9
33HQ20150809  ,ARC01      ,56      ,  4,31         ,    6427,   12077,GSNIS-31   ,2,20150930,2028,  74.9694,-149.9495,     3829,     26.1,  -0.7283,  25.5113,2,  25.5092,2,    377.9,2,    377.8,2,     2.16,2,     0.00,2,     0.00,2,     0.48,2,     -999,9,     -999,9,     -999,9,     -999,9,     -999,9,     -999,9,     -999,9,     -999,     -999,9,     -999,9,     -999,9,     -999,9,  -0.7295,2,     -999,9,     -999,9,     -999,     -999,9,     -999,9,     -999,9,     -999,     -999,9,20150930,2058,     25.8,  74.9658,-149.8913,     -999,9,  25.6295,2
33HQ20150809  ,ARC01      ,56      ,  4,32         ,    6427,   12077,GSNIS-32   ,2,20150930,2028,  74.9694,-149.9495,     3829,     26.2,  -0.7273,  25.5120,2,     -999,9,    377.9,2,     -999,9,     2.07,2,     0.00,2,     0.00,2,     0.48,2,     -999,9,     -999,9,     -999,9,     -999,9,     -999,9,     -999,9,     -999,9,     -999,     -999,9,     -999,9,     -999,9,     -999,9,  -0.7285,2,     -999,9,     -999,9,     -999,     -999,9,     -999,9,     -999,9,     -999,     -999,9,20150930,2058,     25.9,  74.9658,-149.8910,     -999,9,     -999,9
33HQ20150809  ,ARC01      ,56      ,  4,28         ,    6427,   12076,GSNIS-28   ,2,20150930,2028,  74.9694,-149.9495,     3829,     56.9,  -0.2139,  29.5405,2,  29.3319,2,    393.9,2,    392.4,2,     2.75,2,     0.00,2,     0.00,2,     0.61,2,     -999,9,     -999,9,     -999,9,     -999,9,     -999,9,     -999,9,     -999,9,     -999,     -999,9,     -999,9,     -999,9,     -999,9,  -0.2254,2,     -999,9,     -999,9,     -999,     -999,9,     -999,9,     -999,9,     -999,     -999,9,20150930,2055,     56.3,  74.9658,-149.8960,     -999,9,  29.4702,2
33HQ20150809  ,ARC01      ,56      ,  4,30         ,    6427,   12076,GSNIS-30   ,2,20150930,2028,  74.9694,-149.9495,     3829,     56.9,  -0.2100,  29.5470,2,     -999,9,    393.9,2,     -999,9,     2.84,2,     0.00,2,     0.00,2,     0.61,2,     -999,9,     -999,9,     -999,9,     -999,9,     -999,9,     -999,9,     -999,9,     -999,     -999,9,     -999,9,     -999,9,     -999,9,  -0.2422,4,     -999,9,     -999,9,     -999,     -999,9,     -999,9,     -999,9,     -999,     -999,9,20150930,2056,     56.3,  74.9658,-149.8951,     -999,9,     -999,9
33HQ20150809  ,ARC01      ,56      ,  4,29         ,    6427,   12076,GSNIS-29   ,2,20150930,2028,  74.9694,-149.9495,     3829,     57.1,  -0.1944,  29.5697,2,     -999,9,    389.6,2,     -999,9,     2.84,2,     0.00,2,     0.00,2,     0.61,2,     -999,9,     -999,9,     -999,9,     -999,9,     -999,9,     -999,9,     -999,9,     -999,     -999,9,     -999,9,     -999,9,     -999,9,  -0.2329,4,     -999,9,     -999,9,     -999,     -999,9,     -999,9,     -999,9,     -999,     -999,9,20150930,2056,     56.5,  74.9658,-149.8956,     -999,9,     -999,9
33HQ20150809  ,ARC01      ,56      ,  4,25         ,    6427,   12075,GSNIS-25   ,2,20150930,2028,  74.9694,-149.9495,     3829,     74.9,   0.0965,  31.1310,2,  31.1229,2,    372.2,2,    370.2,2,     5.49,2,     0.43,2,     0.04,2,     0.78,2,     -999,9,     -999,9,     -999,9,     -999,9,     -999,9,     -999,9,     -999,9,     -999,     -999,9,     -999,9,     -999,9,     -999,9,   0.1066,2,     -999,9,     -999,9,     -999,     -999,9,     -999,9,     -999,9,     -999,     -999,9,20150930,2053,     74.1,  74.9659,-149.8998,     -999,9,  31.2697,2
33HQ20150809  ,ARC01      ,56      ,  4,26         ,    6427,   12075,GSNIS-26   ,2,20150930,2028,  74.9694,-149.9495,     3829,     75.2,   0.0733,  31.1530,2,     -999,9,    372.3,2,     -999,9,     5.39,2,     0.17,2,     0.04,2,     0.76,2,     -999,9,     -999,9,     -999,9,     -999,9,     -999,9,     -999,9,     -999,9,     -999,     -999,9,     -999,9,     -999,9,     -999,9,   0.0863,2,     -999,9,     -999,9,     -999,     -999,9,     -999,9,     -999,9,     -999,     -999,9,20150930,2054,     74.4,  74.9659,-149.8995,     -999,9,     -999,9
33HQ20150809  ,ARC01      ,56      ,  4,27         ,    6427,   12075,GSNIS-27   ,2,20150930,2028,  74.9694,-149.9495,     3829,     75.3,   0.0613,  31.1645,2,     -999,9,    372.3,2,     -999,9,     5.39,2,     0.21,2,     0.06,2,     0.77,2,     -999,9,     -999,9,     -999,9,     -999,9,     -999,9,     -999,9,     -999,9,     -999,     -999,9,     -999,9,     -999,9,     -999,9,   0.0637,2,     -999,9,     -999,9,     -999,     -999,9,     -999,9,     -999,9,     -999,     -999,9,20150930,2054,     74.5,  74.9659,-149.8990,     -999,9,     -999,9
33HQ20150809  ,ARC01      ,56      ,  4,22         ,    6427,   12074,GSNIS-22   ,2,20150930,2028,  74.9694,-149.9495,     3829,     83.5,  -0.2710,  31.4574,2,  31.4229,2,    353.3,2,    351.9,2,     7.84,2,     3.10,2,     0.07,2,     0.95,2,     -999,9,     -999,9,     -999,9,     -999,9,     -999,9,     -999,9,     -999,9,     -999,     -999,9,     -999,9,     -999,9,     -999,9,  -0.2695,2,     -999,9,     -999,9,     -999,     -999,9,     -999,9,     -999,9,     -999,     -999,9,20150930,2052,     82.6,  74.9660,-149.9025,     -999,9,  31.5710,2
33HQ20150809  ,ARC01      ,56      ,  4,23         ,    6427,   12074,GSNIS-23   ,2,20150930,2028,  74.9694,-149.9495,     3829,     83.5,  -0.2736,  31.4603,2,     -999,9,    353.3,2,     -999,9,     7.93,2,     3.18,2,     0.07,2,     0.95,2,     -999,9,     -999,9,     -999,9,     -999,9,     -999,9,     -999,9,     -999,9,     -999,     -999,9,     -999,9,     -999,9,     -999,9,  -0.2760,2,     -999,9,     -999,9,     -999,     -999,9,     -999,9,     -999,9,     -999,     -999,9,20150930,2052,     82.6,  74.9660,-149.9021,     -999,9,     -999,9
33HQ20150809  ,ARC01      ,56      ,  4,24         ,    6427,   12074,GSNIS-24   ,2,20150930,2028,  74.9694,-149.9495,     3829,     83.9,  -0.2804,  31.4661,2,     -999,9,    353.3,2,     -999,9,     8.03,2,     3.27,2,     0.07,2,     0.96,2,     -999,9,     -999,9,     -999,9,     -999,9,     -999,9,     -999,9,     -999,9,     -999,     -999,9,     -999,9,     -999,9,     -999,9,  -0.2751,2,     -999,9,     -999,9,     -999,     -999,9,     -999,9,     -999,9,     -999,     -999,9,20150930,2052,     83.0,  74.9660,-149.9017,     -999,9,     -999,9
33HQ20150809  ,ARC01      ,56      ,  4,19         ,    6427,   12073,GSNIS-19   ,2,20150930,2028,  74.9694,-149.9495,     3829,    101.5,  -0.8258,  31.9544,2,  31.9376,2,    325.4,2,    322.3,2,    14.88,2,     8.03,2,     0.00,2,     1.28,2,     -999,9,     -999,9,     -999,9,     -999,9,     -999,9,     -999,9,     -999,9,     -999,     -999,9,     -999,9,     -999,9,     -999,9,  -0.8269,2,     -999,9,     -999,9,     -999,     -999,9,     -999,9,     -999,9,     -999,     -999,9,20150930,2049,    100.4,  74.9662,-149.9082,     -999,9,  32.0881,2
33HQ20150809  ,ARC01      ,56      ,  4,20         ,    6427,   12073,GSNIS-20   ,2,20150930,2028,  74.9694,-149.9495,     3829,    102.2,  -0.8347,  31.9637,2,     -999,9,    325.4,2,     -999,9,    14.78,2,     7.98,2,     0.00,2,     1.27,2,     -999,9,     -999,9,     -999,9,     -999,9,     -999,9,     -999,9,     -999,9,     -999,     -999,9,     -999,9,     -999,9,     -999,9,  -0.8313,2,     -999,9,     -999,9,     -999,     -999,9,     -999,9,     -999,9,     -999,     -999,9,20150930,2049,    101.1,  74.9662,-149.9078,     -999,9,     -999,9
33HQ20150809  ,ARC01      ,56      ,  4,21         ,    6427,   12073,GSNIS-21   ,2,20150930,2028,  74.9694,-149.9495,     3829,    102.7,  -0.8499,  31.9786,2,     -999,9,    326.0,2,     -999,9,    14.98,2,     8.10,2,     0.00,2,     1.28,2,     -999,9,     -999,9,     -999,9,     -999,9,     -999,9,     -999,9,     -999,9,     -999,     -999,9,     -999,9,     -999,9,     -999,9,  -0.8437,2,     -999,9,     -999,9,     -999,     -999,9,     -999,9,     -999,9,     -999,     -999,9,20150930,2050,    101.6,  74.9662,-149.9075,     -999,9,     -999,9
33HQ20150809  ,ARC01      ,56      ,  4,16         ,    6427,   12072,GSNIS-16   ,2,20150930,2028,  74.9694,-149.9495,     3829,    135.2,  -1.2620,  32.3924,2,  32.3674,2,    307.3,2,    304.3,2,    23.69,2,    11.74,2,     0.00,2,     1.58,2,     -999,9,     -999,9,     -999,9,     -999,9,     -999,9,     -999,9,     -999,9,     -999,     -999,9,     -999,9,     -999,9,     -999,9,  -1.2601,2,     -999,9,     -999,9,     -999,     -999,9,     -999,9,     -999,9,     -999,     -999,9,20150930,2047,    133.7,  74.9665,-149.9127,     -999,9,  32.5200,2
33HQ20150809  ,ARC01      ,56      ,  4,17         ,    6427,   12072,GSNIS-17   ,2,20150930,2028,  74.9694,-149.9495,     3829,    136.9,  -1.2688,  32.4106,2,     -999,9,    306.6,2,     -999,9,    23.78,2,    11.81,2,     0.00,2,     1.57,2,     -999,9,     -999,9,     -999,9,     -999,9,     -999,9,     -999,9,     -999,9,     -999,     -999,9,     -999,9,     -999,9,     -999,9,  -1.2651,2,     -999,9,     -999,9,     -999,     -999,9,     -999,9,     -999,9,     -999,     -999,9,20150930,2047,    135.4,  74.9664,-149.9124,     -999,9,     -999,9
33HQ20150809  ,ARC01      ,56      ,  4,18         ,    6427,   12072,GSNIS-18   ,2,20150930,2028,  74.9694,-149.9495,     3829,    138.0,  -1.2784,  32.4207,2,     -999,9,    306.1,2,     -999,9,    23.98,2,    11.86,2,     0.00,2,     1.58,2,     -999,9,     -999,9,     -999,9,     -999,9,     -999,9,     -999,9,     -999,9,     -999,     -999,9,     -999,9,     -999,9,     -999,9,  -1.2701,2,     -999,9,     -999,9,     -999,     -999,9,     -999,9,     -999,9,     -999,     -999,9,20150930,2047,    136.6,  74.9664,-149.9122,     -999,9,     -999,9
33HQ20150809  ,ARC01      ,56      ,  4,13         ,    6427,   12071,GSNIS-13   ,2,20150930,2028,  74.9694,-149.9495,     3829,    204.3,  -1.4798,  33.0513,2,  33.0296,2,    276.9,2,    277.0,2,    34.34,2,    15.90,2,     0.00,2,     1.83,2,     -999,9,     -999,9,     -999,9,     -999,9,     -999,9,     -999,9,     -999,9,     -999,     -999,9,     -999,9,     -999,9,     -999,9,  -1.4792,2,     -999,9,     -999,9,     -999,     -999,9,     -999,9,     -999,9,     -999,     -999,9,20150930,2044,    202.1,  74.9669,-149.9186,     -999,9,  33.1853,2
33HQ20150809  ,ARC01      ,56      ,  4,14         ,    6427,   12071,GSNIS-14   ,2,20150930,2028,  74.9694,-149.9495,     3829,    205.5,  -1.4804,  33.0663,2,     -999,9,    276.8,2,     -999,9,    34.34,2,    15.89,2,     0.00,2,     1.83,2,     -999,9,     -999,9,     -999,9,     -999,9,     -999,9,     -999,9,     -999,9,     -999,     -999,9,     -999,9,     -999,9,     -999,9,  -1.4804,2,     -999,9,     -999,9,     -999,     -999,9,     -999,9,     -999,9,     -999,     -999,9,20150930,2044,    203.2,  74.9669,-149.9182,     -999,9,     -999,9
33HQ20150809  ,ARC01      ,56      ,  4,15         ,    6427,   12071,GSNIS-15   ,2,20150930,2028,  74.9694,-149.9495,     3829,    206.1,  -1.4754,  33.0760,2,     -999,9,    276.5,2,     -999,9,    34.43,2,    15.95,2,     0.00,2,     1.82,2,     -999,9,     -999,9,     -999,9,     -999,9,     -999,9,     -999,9,     -999,9,     -999,     -999,9,     -999,9,     -999,9,     -999,9,  -1.4789,2,     -999,9,     -999,9,     -999,     -999,9,     -999,9,     -999,9,     -999,     -999,9,20150930,2044,    203.9,  74.9669,-149.9179,     -999,9,     -999,9
33HQ20150809  ,ARC01      ,56      ,  4,10         ,    6427,   12070,GSNIS-10   ,2,20150930,2028,  74.9694,-149.9495,     3829,    234.7,  -1.3676,  33.4830,2,  33.4622,2,    275.4,2,    273.5,2,    32.27,2,    15.32,2,     0.00,2,     1.69,2,     -999,9,     -999,9,     -999,9,     -999,9,     -999,9,     -999,9,     -999,9,     -999,     -999,9,     -999,9,     -999,9,     -999,9,  -1.3643,2,     -999,9,     -999,9,     -999,     -999,9,     -999,9,     -999,9,     -999,     -999,9,20150930,2042,    232.2,  74.9673,-149.9232,     -999,9,  33.6200,2
33HQ20150809  ,ARC01      ,56      ,  4,11         ,    6427,   12070,GSNIS-11   ,2,20150930,2028,  74.9694,-149.9495,     3829,    235.8,  -1.3603,  33.5122,2,     -999,9,    275.0,2,     -999,9,    32.17,2,    15.34,2,     0.00,2,     1.68,2,     -999,9,     -999,9,     -999,9,     -999,9,     -999,9,     -999,9,     -999,9,     -999,     -999,9,     -999,9,     -999,9,     -999,9,  -1.3594,2,     -999,9,     -999,9,     -999,     -999,9,     -999,9,     -999,9,     -999,     -999,9,20150930,2042,    233.3,  74.9673,-149.9228,     -999,9,     -999,9
33HQ20150809  ,ARC01      ,56      ,  4,12         ,    6427,   12070,GSNIS-12   ,2,20150930,2028,  74.9694,-149.9495,     3829,    236.8,  -1.3500,  33.5375,2,     -999,9,    274.6,2,     -999,9,    31.68,2,    15.27,2,     0.00,2,     1.67,2,     -999,9,     -999,9,     -999,9,     -999,9,     -999,9,     -999,9,     -999,9,     -999,     -999,9,     -999,9,     -999,9,     -999,9,  -1.3542,2,     -999,9,     -999,9,     -999,     -999,9,     -999,9,     -999,9,     -999,     -999,9,20150930,2042,    234.2,  74.9673,-149.9224,     -999,9,     -999,9
33HQ20150809  ,ARC01      ,56      ,  4,7          ,    6427,   12069,GSNIS-7    ,2,20150930,2028,  74.9694,-149.9495,     3829,    304.1,  -0.2174,  34.4466,2,  34.4499,2,    280.4,2,    278.0,2,    11.82,2,    12.29,2,     0.00,2,     0.94,2,     -999,9,     -999,9,     -999,9,     -999,9,     -999,9,     -999,9,     -999,9,     -999,     -999,9,     -999,9,     -999,9,     -999,9,  -0.2217,2,     -999,9,     -999,9,     -999,     -999,9,     -999,9,     -999,9,     -999,     -999,9,20150930,2038,    300.7,  74.9680,-149.9302,     -999,9,  34.6123,2
33HQ20150809  ,ARC01      ,56      ,  4,8          ,    6427,   12069,GSNIS-8    ,2,20150930,2028,  74.9694,-149.9495,     3829,    305.1,  -0.2091,  34.4523,2,     -999,9,    280.4,2,     -999,9,    11.82,2,    12.28,2,     0.00,2,     0.95,2,     -999,9,     -999,9,     -999,9,     -999,9,     -999,9,     -999,9,     -999,9,     -999,     -999,9,     -999,9,     -999,9,     -999,9,  -0.2086,2,     -999,9,     -999,9,     -999,     -999,9,     -999,9,     -999,9,     -999,     -999,9,20150930,2038,    301.7,  74.9680,-149.9299,     -999,9,     -999,9
33HQ20150809  ,ARC01      ,56      ,  4,9          ,    6427,   12069,GSNIS-9    ,2,20150930,2028,  74.9694,-149.9495,     3829,    306.1,  -0.1936,  34.4598,2,     -999,9,    280.5,2,     -999,9,    11.82,2,    12.26,2,     0.00,2,     0.95,2,     -999,9,     -999,9,     -999,9,     -999,9,     -999,9,     -999,9,     -999,9,     -999,     -999,9,     -999,9,     -999,9,     -999,9,  -0.1945,2,     -999,9,     -999,9,     -999,     -999,9,     -999,9,     -999,9,     -999,     -999,9,20150930,2039,    302.7,  74.9679,-149.9297,     -999,9,     -999,9
33HQ20150809  ,ARC01      ,56      ,  4,4          ,    6427,   12068,GSNIS-4    ,2,20150930,2028,  74.9694,-149.9495,     3829,    404.9,   0.6269,  34.7808,2,  34.7829,2,    288.1,2,    286.3,2,     7.82,2,    12.70,2,     0.00,2,     0.86,2,     -999,9,     -999,9,     -999,9,     -999,9,     -999,9,     -999,9,     -999,9,     -999,     -999,9,     -999,9,     -999,9,     -999,9,   0.6269,2,     -999,9,     -999,9,     -999,     -999,9,     -999,9,     -999,9,     -999,     -999,9,20150930,2034,    400.3,  74.9687,-149.9387,     -999,9,  34.9469,2
33HQ20150809  ,ARC01      ,56      ,  4,5          ,    6427,   12068,GSNIS-5    ,2,20150930,2028,  74.9694,-149.9495,     3829,    405.3,   0.6271,  34.7808,2,     -999,9,    288.1,2,     -999,9,     7.82,2,    12.70,2,     0.00,2,     0.87,2,     -999,9,     -999,9,     -999,9,     -999,9,     -999,9,     -999,9,     -999,9,     -999,     -999,9,     -999,9,     -999,9,     -999,9,   0.6269,2,     -999,9,     -999,9,     -999,     -999,9,     -999,9,     -999,9,     -999,     -999,9,20150930,2034,    400.7,  74.9686,-149.9382,     -999,9,     -999,9
33HQ20150809  ,ARC01      ,56      ,  4,6          ,    6427,   12068,GSNIS-6    ,2,20150930,2028,  74.9694,-149.9495,     3829,    405.4,   0.6269,  34.7808,2,     -999,9,    288.1,2,     -999,9,     7.82,2,    12.71,2,     0.00,2,     0.87,2,     -999,9,     -999,9,     -999,9,     -999,9,     -999,9,     -999,9,     -999,9,     -999,     -999,9,     -999,9,     -999,9,     -999,9,   0.6268,2,     -999,9,     -999,9,     -999,     -999,9,     -999,9,     -999,9,     -999,     -999,9,20150930,2034,    400.8,  74.9686,-149.9379,     -999,9,     -999,9