BOTTLE,20221220CCHSIOAMB
EXPOCODE,SECT_ID,STNNBR,CASTNO,SAMPNO,GEOTR_EVENT,GEOTR_SAMPNO,BTLNBR,BTLNBR_FLAG_W,DATE,TIME,LATITUDE,LONGITUDE,DEPTH,CTDPRS,CTDTMP,CTDSAL,CTDSAL_FLAG_W,SALNTY,SALNTY_FLAG_W,CTDOXY,CTDOXY_FLAG_W,OXYGEN,OXYGEN_FLAG_W,SILCAT,SILCAT_FLAG_W,NITRAT,NITRAT_FLAG_W,NITRIT,NITRIT_FLAG_W,PHSPHT,PHSPHT_FLAG_W,CFC-11,CFC-11_FLAG_W,CFC-12,CFC-12_FLAG_W,CFC113,CFC113_FLAG_W,SF6,SF6_FLAG_W,TCARBN,TCARBN_FLAG_W,ALKALI,ALKALI_FLAG_W,PH_SWS,PH_SWS_FLAG_W,PH_TMP,DOC,DOC_FLAG_W,TRITUM,TRITUM_FLAG_W,HELIUM,HELIUM_FLAG_W,DELHE3,DELHE3_FLAG_W,REFTMP,REFTMP_FLAG_W,DELC13,DELC13_FLAG_W,DELC14,DELC14_FLAG_W,C14ERR,TDN,TDN_FLAG_W,DELO18,DELO18_FLAG_W,DELO17,DELO17_FLAG_W,CH4,CH4,CH4_FLAG_W,BTL_DATE,BTL_TIME,CTDDEPTH,BTL_LAT,BTL_LON,LAB_DEN,LAB_DEN_FLAG_W,SALTREF,SALTREF_FLAG_W
,,,,,,,,,,,,,METERS,DBAR,ITS-90,PSS-78,,PSS-78,,UMOL/KG,,UMOL/KG,,UMOL/KG,,UMOL/KG,,UMOL/KG,,UMOL/KG,,PMOL/KG,,PMOL/KG,,PMOL/KG,,FMOL/KG,,UMOL/KG,,UMOL/KG,,,,DEG C,UMOL/KG,,TU,,NMOL/KG,,PERCNT,,ITS-90,,/MILLE,,/MILLE,,/MILLE,UMOL/KG,,/MILLE,,/MILLE,,NMOL/KG,NMOL/L,,,,METERS,,,KG/M^3,,G/KG,
33HQ20150809  ,ARC01      ,48      ,  8,34         ,    6371,   11789,GSNIS-34   ,2,20150923,0329,  80.4227,-149.3876,     3817,    121.7,  -1.3606,  32.6225,2,     -999,9,    290.7,2,     -999,9,    28.86,2,    13.50,2,     0.00,2,     1.72,2,     -999,9,     -999,9,     -999,9,     -999,9,     -999,9,     -999,9,     -999,9,     -999,     -999,9,     -999,9,     -999,9,     -999,9,  -1.3596,2,     -999,9,     -999,9,     -999,     -999,9,     -999,9,     -999,9,     -999,     -999,9,20150923,0347,    120.4,  80.4224,-149.3879,     -999,9,     -999,9
33HQ20150809  ,ARC01      ,48      ,  8,32         ,    6371,   11789,GSNIS-32   ,2,20150923,0329,  80.4227,-149.3876,     3817,    121.7,  -1.3604,  32.6224,2,     -999,9,    290.7,2,     -999,9,    29.15,2,    13.55,2,     0.00,2,     1.74,2,     -999,9,     -999,9,     -999,9,     -999,9,     -999,9,     -999,9,     -999,9,     -999,     -999,9,     -999,9,     -999,9,     -999,9,  -1.3607,2,     -999,9,     -999,9,     -999,     -999,9,     -999,9,     -999,9,     -999,     -999,9,20150923,0347,    120.4,  80.4224,-149.3879,     -999,9,     -999,9
33HQ20150809  ,ARC01      ,48      ,  8,31         ,    6371,   11789,GSNIS-31   ,2,20150923,0329,  80.4227,-149.3876,     3817,    121.7,  -1.3611,  32.6234,2,  32.6773,2,    290.7,2,    284.1,2,    29.25,2,    13.60,2,     0.00,2,     1.74,2,     -999,9,     -999,9,     -999,9,     -999,9,     -999,9,     -999,9,     -999,9,     -999,     -999,9,     -999,9,     -999,9,     -999,9,  -1.3616,2,     -999,9,     -999,9,     -999,     -999,9,     -999,9,     -999,9,     -999,     -999,9,20150923,0347,    120.4,  80.4224,-149.3879,     -999,9,  32.8313,2
33HQ20150809  ,ARC01      ,48      ,  8,36         ,    6371,   11789,GSNIS-36   ,2,20150923,0329,  80.4227,-149.3876,     3817,    121.8,  -1.3595,  32.6208,2,     -999,9,    291.3,2,     -999,9,    28.76,2,    13.48,2,     0.00,2,     1.72,2,     -999,9,     -999,9,     -999,9,     -999,9,     -999,9,     -999,9,     -999,9,     -999,     -999,9,     -999,9,     -999,9,     -999,9,  -1.3587,2,     -999,9,     -999,9,     -999,     -999,9,     -999,9,     -999,9,     -999,     -999,9,20150923,0347,    120.4,  80.4223,-149.3879,     -999,9,     -999,9
33HQ20150809  ,ARC01      ,48      ,  8,35         ,    6371,   11789,GSNIS-35   ,2,20150923,0329,  80.4227,-149.3876,     3817,    121.8,  -1.3595,  32.6210,2,     -999,9,    291.3,2,     -999,9,    28.96,2,    13.51,2,     0.00,2,     1.70,2,     -999,9,     -999,9,     -999,9,     -999,9,     -999,9,     -999,9,     -999,9,     -999,     -999,9,     -999,9,     -999,9,     -999,9,  -1.3593,2,     -999,9,     -999,9,     -999,     -999,9,     -999,9,     -999,9,     -999,     -999,9,20150923,0347,    120.4,  80.4223,-149.3879,     -999,9,     -999,9
33HQ20150809  ,ARC01      ,48      ,  8,33         ,    6371,   11789,GSNIS-33   ,2,20150923,0329,  80.4227,-149.3876,     3817,    121.8,  -1.3600,  32.6217,2,     -999,9,    290.7,2,     -999,9,    29.15,2,    13.56,2,     0.00,2,     1.74,2,     -999,9,     -999,9,     -999,9,     -999,9,     -999,9,     -999,9,     -999,9,     -999,     -999,9,     -999,9,     -999,9,     -999,9,  -1.3603,2,     -999,9,     -999,9,     -999,     -999,9,     -999,9,     -999,9,     -999,     -999,9,20150923,0347,    120.4,  80.4224,-149.3879,     -999,9,     -999,9
33HQ20150809  ,ARC01      ,48      ,  8,25         ,    6371,   11790,GSNIS-25   ,2,20150923,0329,  80.4227,-149.3876,     3817,    151.3,  -1.4597,  32.9227,2,  32.9736,2,    274.8,2,    275.6,2,    35.21,2,    15.26,2,     0.00,2,     1.86,2,     -999,9,     -999,9,     -999,9,     -999,9,     -999,9,     -999,9,     -999,9,     -999,     -999,9,     -999,9,     -999,9,     -999,9,  -1.4591,2,     -999,9,     -999,9,     -999,     -999,9,     -999,9,     -999,9,     -999,     -999,9,20150923,0344,    149.7,  80.4224,-149.3879,     -999,9,  33.1291,2
33HQ20150809  ,ARC01      ,48      ,  8,28         ,    6371,   11790,GSNIS-28   ,2,20150923,0329,  80.4227,-149.3876,     3817,    151.3,  -1.4592,  32.9232,2,     -999,9,    274.8,2,     -999,9,    35.21,2,    15.27,2,     0.00,2,     1.85,2,     -999,9,     -999,9,     -999,9,     -999,9,     -999,9,     -999,9,     -999,9,     -999,     -999,9,     -999,9,     -999,9,     -999,9,  -1.4579,2,     -999,9,     -999,9,     -999,     -999,9,     -999,9,     -999,9,     -999,     -999,9,20150923,0345,    149.7,  80.4224,-149.3879,     -999,9,     -999,9
33HQ20150809  ,ARC01      ,48      ,  8,26         ,    6371,   11790,GSNIS-26   ,2,20150923,0329,  80.4227,-149.3876,     3817,    151.3,  -1.4594,  32.9224,2,     -999,9,    274.8,2,     -999,9,    35.21,2,    15.27,2,     0.00,2,     1.86,2,     -999,9,     -999,9,     -999,9,     -999,9,     -999,9,     -999,9,     -999,9,     -999,     -999,9,     -999,9,     -999,9,     -999,9,  -1.4587,2,     -999,9,     -999,9,     -999,     -999,9,     -999,9,     -999,9,     -999,     -999,9,20150923,0344,    149.7,  80.4224,-149.3879,     -999,9,     -999,9
33HQ20150809  ,ARC01      ,48      ,  8,27         ,    6371,   11790,GSNIS-27   ,2,20150923,0329,  80.4227,-149.3876,     3817,    151.3,  -1.4596,  32.9231,2,     -999,9,    274.8,2,     -999,9,    35.21,2,    15.27,2,     0.00,2,     1.86,2,     -999,9,     -999,9,     -999,9,     -999,9,     -999,9,     -999,9,     -999,9,     -999,     -999,9,     -999,9,     -999,9,     -999,9,  -1.4578,2,     -999,9,     -999,9,     -999,     -999,9,     -999,9,     -999,9,     -999,     -999,9,20150923,0345,    149.7,  80.4224,-149.3879,     -999,9,     -999,9
33HQ20150809  ,ARC01      ,48      ,  8,30         ,    6371,   11790,GSNIS-30   ,2,20150923,0329,  80.4227,-149.3876,     3817,    151.3,  -1.4586,  32.9226,2,     -999,9,    274.8,2,     -999,9,    35.11,2,    15.25,2,     0.00,2,     1.85,2,     -999,9,     -999,9,     -999,9,     -999,9,     -999,9,     -999,9,     -999,9,     -999,     -999,9,     -999,9,     -999,9,     -999,9,  -1.4577,2,     -999,9,     -999,9,     -999,     -999,9,     -999,9,     -999,9,     -999,     -999,9,20150923,0345,    149.7,  80.4224,-149.3879,     -999,9,     -999,9
33HQ20150809  ,ARC01      ,48      ,  8,29         ,    6371,   11790,GSNIS-29   ,2,20150923,0329,  80.4227,-149.3876,     3817,    151.3,  -1.4590,  32.9226,2,     -999,9,    274.8,2,     -999,9,    35.11,2,    15.28,2,     0.00,2,     1.85,2,     -999,9,     -999,9,     -999,9,     -999,9,     -999,9,     -999,9,     -999,9,     -999,     -999,9,     -999,9,     -999,9,     -999,9,  -1.4576,2,     -999,9,     -999,9,     -999,     -999,9,     -999,9,     -999,9,     -999,     -999,9,20150923,0345,    149.7,  80.4224,-149.3879,     -999,9,     -999,9
33HQ20150809  ,ARC01      ,48      ,  8,24         ,    6371,   11791,GSNIS-24   ,2,20150923,0329,  80.4227,-149.3876,     3817,    192.1,  -1.1607,  33.7296,2,     -999,9,    260.4,2,     -999,9,    26.98,2,    13.99,2,     0.00,2,     1.47,2,     -999,9,     -999,9,     -999,9,     -999,9,     -999,9,     -999,9,     -999,9,     -999,     -999,9,     -999,9,     -999,9,     -999,9,  -1.1532,2,     -999,9,     -999,9,     -999,     -999,9,     -999,9,     -999,9,     -999,     -999,9,20150923,0343,    189.9,  80.4224,-149.3878,     -999,9,     -999,9
33HQ20150809  ,ARC01      ,48      ,  8,20         ,    6371,   11791,GSNIS-20   ,2,20150923,0329,  80.4227,-149.3876,     3817,    192.1,  -1.1579,  33.7360,2,     -999,9,    260.4,2,     -999,9,    26.78,2,    14.04,2,     0.00,2,     1.47,2,     -999,9,     -999,9,     -999,9,     -999,9,     -999,9,     -999,9,     -999,9,     -999,     -999,9,     -999,9,     -999,9,     -999,9,  -1.1540,2,     -999,9,     -999,9,     -999,     -999,9,     -999,9,     -999,9,     -999,     -999,9,20150923,0342,    189.9,  80.4225,-149.3878,     -999,9,     -999,9
33HQ20150809  ,ARC01      ,48      ,  8,23         ,    6371,   11791,GSNIS-23   ,2,20150923,0329,  80.4227,-149.3876,     3817,    192.1,  -1.1596,  33.7301,2,     -999,9,    260.4,2,     -999,9,    26.00,2,    13.95,2,     0.00,2,     1.46,2,     -999,9,     -999,9,     -999,9,     -999,9,     -999,9,     -999,9,     -999,9,     -999,     -999,9,     -999,9,     -999,9,     -999,9,  -1.1560,2,     -999,9,     -999,9,     -999,     -999,9,     -999,9,     -999,9,     -999,     -999,9,20150923,0342,    189.9,  80.4224,-149.3878,     -999,9,     -999,9
33HQ20150809  ,ARC01      ,48      ,  8,22         ,    6371,   11791,GSNIS-22   ,2,20150923,0329,  80.4227,-149.3876,     3817,    192.1,  -1.1607,  33.7318,2,     -999,9,    260.4,2,     -999,9,    26.98,2,    14.02,2,     0.00,2,     1.47,2,     -999,9,     -999,9,     -999,9,     -999,9,     -999,9,     -999,9,     -999,9,     -999,     -999,9,     -999,9,     -999,9,     -999,9,  -1.1578,2,     -999,9,     -999,9,     -999,     -999,9,     -999,9,     -999,9,     -999,     -999,9,20150923,0342,    189.9,  80.4224,-149.3878,     -999,9,     -999,9
33HQ20150809  ,ARC01      ,48      ,  8,21         ,    6371,   11791,GSNIS-21   ,2,20150923,0329,  80.4227,-149.3876,     3817,    192.1,  -1.1594,  33.7358,2,     -999,9,    260.4,2,     -999,9,    26.59,2,    14.04,2,     0.00,2,     1.46,2,     -999,9,     -999,9,     -999,9,     -999,9,     -999,9,     -999,9,     -999,9,     -999,     -999,9,     -999,9,     -999,9,     -999,9,  -1.1547,2,     -999,9,     -999,9,     -999,     -999,9,     -999,9,     -999,9,     -999,     -999,9,20150923,0342,    189.9,  80.4225,-149.3878,     -999,9,     -999,9
33HQ20150809  ,ARC01      ,48      ,  8,19         ,    6371,   11791,GSNIS-19   ,2,20150923,0329,  80.4227,-149.3876,     3817,    192.1,  -1.1570,  33.7409,2,  33.7993,2,    260.4,2,    265.8,2,    26.98,2,    14.08,2,     0.00,2,     1.47,2,     -999,9,     -999,9,     -999,9,     -999,9,     -999,9,     -999,9,     -999,9,     -999,     -999,9,     -999,9,     -999,9,     -999,9,  -1.1532,2,     -999,9,     -999,9,     -999,     -999,9,     -999,9,     -999,9,     -999,     -999,9,20150923,0342,    189.9,  80.4225,-149.3878,     -999,9,  33.9587,2
33HQ20150809  ,ARC01      ,48      ,  8,18         ,    6371,   11792,GSNIS-18   ,2,20150923,0329,  80.4227,-149.3876,     3817,    267.9,  -0.0479,  34.5387,2,     -999,9,    286.0,2,     -999,9,     9.38,2,    11.16,2,     0.00,2,     0.85,2,     -999,9,     -999,9,     -999,9,     -999,9,     -999,9,     -999,9,     -999,9,     -999,     -999,9,     -999,9,     -999,9,     -999,9,  -0.0467,2,     -999,9,     -999,9,     -999,     -999,9,     -999,9,     -999,9,     -999,     -999,9,20150923,0339,    264.9,  80.4225,-149.3878,     -999,9,     -999,9
33HQ20150809  ,ARC01      ,48      ,  8,15         ,    6371,   11792,GSNIS-15   ,2,20150923,0329,  80.4227,-149.3876,     3817,    267.9,  -0.0454,  34.5391,2,     -999,9,    286.0,2,     -999,9,     9.48,2,    11.18,2,     0.00,2,     0.85,2,     -999,9,     -999,9,     -999,9,     -999,9,     -999,9,     -999,9,     -999,9,     -999,     -999,9,     -999,9,     -999,9,     -999,9,  -0.0400,2,     -999,9,     -999,9,     -999,     -999,9,     -999,9,     -999,9,     -999,     -999,9,20150923,0339,    264.9,  80.4225,-149.3878,     -999,9,     -999,9
33HQ20150809  ,ARC01      ,48      ,  8,14         ,    6371,   11792,GSNIS-14   ,2,20150923,0329,  80.4227,-149.3876,     3817,    267.9,  -0.0437,  34.5387,2,     -999,9,    286.0,2,     -999,9,     9.38,2,    11.16,2,     0.00,2,     0.85,2,     -999,9,     -999,9,     -999,9,     -999,9,     -999,9,     -999,9,     -999,9,     -999,     -999,9,     -999,9,     -999,9,     -999,9,  -0.0397,2,     -999,9,     -999,9,     -999,     -999,9,     -999,9,     -999,9,     -999,     -999,9,20150923,0339,    264.9,  80.4225,-149.3878,     -999,9,     -999,9
33HQ20150809  ,ARC01      ,48      ,  8,13         ,    6371,   11792,GSNIS-13   ,2,20150923,0329,  80.4227,-149.3876,     3817,    267.9,  -0.0430,  34.5390,2,  34.5683,2,    286.0,2,    284.1,2,     9.38,2,    11.18,2,     0.00,2,     0.85,2,     -999,9,     -999,9,     -999,9,     -999,9,     -999,9,     -999,9,     -999,9,     -999,     -999,9,     -999,9,     -999,9,     -999,9,  -0.0375,2,     -999,9,     -999,9,     -999,     -999,9,     -999,9,     -999,9,     -999,     -999,9,20150923,0339,    264.9,  80.4225,-149.3878,     -999,9,  34.7313,2
33HQ20150809  ,ARC01      ,48      ,  8,17         ,    6371,   11792,GSNIS-17   ,2,20150923,0329,  80.4227,-149.3876,     3817,    267.9,  -0.0465,  34.5387,2,     -999,9,    286.0,2,     -999,9,     9.48,2,    11.12,2,     0.00,2,     0.85,2,     -999,9,     -999,9,     -999,9,     -999,9,     -999,9,     -999,9,     -999,9,     -999,     -999,9,     -999,9,     -999,9,     -999,9,  -0.0470,2,     -999,9,     -999,9,     -999,     -999,9,     -999,9,     -999,9,     -999,     -999,9,20150923,0339,    264.9,  80.4225,-149.3878,     -999,9,     -999,9
33HQ20150809  ,ARC01      ,48      ,  8,16         ,    6371,   11792,GSNIS-16   ,2,20150923,0329,  80.4227,-149.3876,     3817,    267.9,  -0.0474,  34.5390,2,     -999,9,    286.0,2,     -999,9,     9.48,2,    11.18,2,     0.00,2,     0.84,2,     -999,9,     -999,9,     -999,9,     -999,9,     -999,9,     -999,9,     -999,9,     -999,     -999,9,     -999,9,     -999,9,     -999,9,  -0.0433,2,     -999,9,     -999,9,     -999,     -999,9,     -999,9,     -999,9,     -999,     -999,9,20150923,0339,    264.9,  80.4225,-149.3878,     -999,9,     -999,9
33HQ20150809  ,ARC01      ,48      ,  8,12         ,    6371,   11793,GSNIS-12   ,2,20150923,0329,  80.4227,-149.3876,     3817,    344.1,   0.6802,  34.7783,2,     -999,9,    291.6,2,     -999,9,     6.64,2,    11.93,2,     0.00,2,     0.82,2,     -999,9,     -999,9,     -999,9,     -999,9,     -999,9,     -999,9,     -999,9,     -999,     -999,9,     -999,9,     -999,9,     -999,9,   0.6797,2,     -999,9,     -999,9,     -999,     -999,9,     -999,9,     -999,9,     -999,     -999,9,20150923,0336,    340.2,  80.4226,-149.3877,     -999,9,     -999,9
33HQ20150809  ,ARC01      ,48      ,  8,11         ,    6371,   11793,GSNIS-11   ,2,20150923,0329,  80.4227,-149.3876,     3817,    344.1,   0.6794,  34.7787,2,     -999,9,    291.6,2,     -999,9,     6.74,2,    11.94,2,     0.00,2,     0.82,2,     -999,9,     -999,9,     -999,9,     -999,9,     -999,9,     -999,9,     -999,9,     -999,     -999,9,     -999,9,     -999,9,     -999,9,   0.6801,2,     -999,9,     -999,9,     -999,     -999,9,     -999,9,     -999,9,     -999,     -999,9,20150923,0336,    340.2,  80.4226,-149.3877,     -999,9,     -999,9
33HQ20150809  ,ARC01      ,48      ,  8,8          ,    6371,   11793,GSNIS-8    ,2,20150923,0329,  80.4227,-149.3876,     3817,    344.1,   0.6795,  34.7788,2,     -999,9,    291.6,2,     -999,9,     6.74,2,    11.92,2,     0.00,2,     0.83,2,     -999,9,     -999,9,     -999,9,     -999,9,     -999,9,     -999,9,     -999,9,     -999,     -999,9,     -999,9,     -999,9,     -999,9,   0.6811,2,     -999,9,     -999,9,     -999,     -999,9,     -999,9,     -999,9,     -999,     -999,9,20150923,0336,    340.2,  80.4226,-149.3877,     -999,9,     -999,9
33HQ20150809  ,ARC01      ,48      ,  8,7          ,    6371,   11793,GSNIS-7    ,2,20150923,0329,  80.4227,-149.3876,     3817,    344.1,   0.6793,  34.7788,2,  34.7788,2,    291.6,2,    291.0,2,     6.64,2,    11.92,2,     0.00,2,     0.83,2,     -999,9,     -999,9,     -999,9,     -999,9,     -999,9,     -999,9,     -999,9,     -999,     -999,9,     -999,9,     -999,9,     -999,9,   0.6812,2,     -999,9,     -999,9,     -999,     -999,9,     -999,9,     -999,9,     -999,     -999,9,20150923,0336,    340.2,  80.4226,-149.3877,     -999,9,  34.9428,2
33HQ20150809  ,ARC01      ,48      ,  8,10         ,    6371,   11793,GSNIS-10   ,2,20150923,0329,  80.4227,-149.3876,     3817,    344.1,   0.6795,  34.7786,2,     -999,9,    291.6,2,     -999,9,     6.74,2,    11.93,2,     0.00,2,     0.82,2,     -999,9,     -999,9,     -999,9,     -999,9,     -999,9,     -999,9,     -999,9,     -999,     -999,9,     -999,9,     -999,9,     -999,9,   0.6809,2,     -999,9,     -999,9,     -999,     -999,9,     -999,9,     -999,9,     -999,     -999,9,20150923,0336,    340.2,  80.4226,-149.3877,     -999,9,     -999,9
33HQ20150809  ,ARC01      ,48      ,  8,9          ,    6371,   11793,GSNIS-9    ,2,20150923,0329,  80.4227,-149.3876,     3817,    344.1,   0.6799,  34.7786,2,     -999,9,    291.6,2,     -999,9,     6.74,2,    11.93,2,     0.00,2,     0.82,2,     -999,9,     -999,9,     -999,9,     -999,9,     -999,9,     -999,9,     -999,9,     -999,     -999,9,     -999,9,     -999,9,     -999,9,   0.6806,2,     -999,9,     -999,9,     -999,     -999,9,     -999,9,     -999,9,     -999,     -999,9,20150923,0336,    340.2,  80.4226,-149.3877,     -999,9,     -999,9
33HQ20150809  ,ARC01      ,48      ,  8,4          ,    6371,   11794,GSNIS-4    ,2,20150923,0329,  80.4227,-149.3876,     3817,    420.2,   0.8646,  34.8361,2,     -999,9,    295.6,2,     -999,9,     6.25,2,    12.05,2,     0.00,2,     0.83,2,     -999,9,     -999,9,     -999,9,     -999,9,     -999,9,     -999,9,     -999,9,     -999,     -999,9,     -999,9,     -999,9,     -999,9,   0.8648,2,     -999,9,     -999,9,     -999,     -999,9,     -999,9,     -999,9,     -999,     -999,9,20150923,0333,    415.4,  80.4226,-149.3877,     -999,9,     -999,9
33HQ20150809  ,ARC01      ,48      ,  8,1          ,    6371,   11794,GSNIS-1    ,2,20150923,0329,  80.4227,-149.3876,     3817,    420.2,   0.8648,  34.8360,2,  34.8342,2,    295.6,2,    294.9,2,     6.25,2,    12.08,2,     0.00,2,     0.84,2,     -999,9,     -999,9,     -999,9,     -999,9,     -999,9,     -999,9,     -999,9,     -999,     -999,9,     -999,9,     -999,9,     -999,9,   0.8653,2,     -999,9,     -999,9,     -999,     -999,9,     -999,9,     -999,9,     -999,     -999,9,20150923,0332,    415.4,  80.4227,-149.3877,     -999,9,  34.9985,2
33HQ20150809  ,ARC01      ,48      ,  8,6          ,    6371,   11794,GSNIS-6    ,2,20150923,0329,  80.4227,-149.3876,     3817,    420.2,   0.8650,  34.8361,2,     -999,9,    295.6,2,     -999,9,     6.25,2,    12.05,2,     0.00,2,     0.83,2,     -999,9,     -999,9,     -999,9,     -999,9,     -999,9,     -999,9,     -999,9,     -999,     -999,9,     -999,9,     -999,9,     -999,9,   0.8649,2,     -999,9,     -999,9,     -999,     -999,9,     -999,9,     -999,9,     -999,     -999,9,20150923,0333,    415.4,  80.4226,-149.3877,     -999,9,     -999,9