BOTTLE,20221220CCHSIOAMB
EXPOCODE,SECT_ID,STNNBR,CASTNO,SAMPNO,GEOTR_EVENT,GEOTR_SAMPNO,BTLNBR,BTLNBR_FLAG_W,DATE,TIME,LATITUDE,LONGITUDE,DEPTH,CTDPRS,CTDTMP,CTDSAL,CTDSAL_FLAG_W,SALNTY,SALNTY_FLAG_W,CTDOXY,CTDOXY_FLAG_W,OXYGEN,OXYGEN_FLAG_W,SILCAT,SILCAT_FLAG_W,NITRAT,NITRAT_FLAG_W,NITRIT,NITRIT_FLAG_W,PHSPHT,PHSPHT_FLAG_W,CFC-11,CFC-11_FLAG_W,CFC-12,CFC-12_FLAG_W,CFC113,CFC113_FLAG_W,SF6,SF6_FLAG_W,TCARBN,TCARBN_FLAG_W,ALKALI,ALKALI_FLAG_W,PH_SWS,PH_SWS_FLAG_W,PH_TMP,DOC,DOC_FLAG_W,TRITUM,TRITUM_FLAG_W,HELIUM,HELIUM_FLAG_W,DELHE3,DELHE3_FLAG_W,REFTMP,REFTMP_FLAG_W,DELC13,DELC13_FLAG_W,DELC14,DELC14_FLAG_W,C14ERR,TDN,TDN_FLAG_W,DELO18,DELO18_FLAG_W,DELO17,DELO17_FLAG_W,CH4,CH4,CH4_FLAG_W,BTL_DATE,BTL_TIME,CTDDEPTH,BTL_LAT,BTL_LON,LAB_DEN,LAB_DEN_FLAG_W,SALTREF,SALTREF_FLAG_W
,,,,,,,,,,,,,METERS,DBAR,ITS-90,PSS-78,,PSS-78,,UMOL/KG,,UMOL/KG,,UMOL/KG,,UMOL/KG,,UMOL/KG,,UMOL/KG,,PMOL/KG,,PMOL/KG,,PMOL/KG,,FMOL/KG,,UMOL/KG,,UMOL/KG,,,,DEG C,UMOL/KG,,TU,,NMOL/KG,,PERCNT,,ITS-90,,/MILLE,,/MILLE,,/MILLE,UMOL/KG,,/MILLE,,/MILLE,,NMOL/KG,NMOL/L,,,,METERS,,,KG/M^3,,G/KG,
33HQ20150809  ,ARC01      ,28      ,  1,36         ,    6166,    -999,GSNIS-36   ,2,20150830,1245,  85.8654, 167.0440,     3740,      4.9,  -1.4500,  27.5552,2,  27.5593,2,    395.5,2,    395.3,2,     7.07,2,     0.00,2,     0.00,2,     0.66,2,    6.945,2,    3.752,2,    0.655,2,    3.782,2,   1879.6,6,   1970.3,2,   7.6769,2,    25.00,     90.8,2,     -999,9,     -999,9,     -999,9,  -1.4510,2,     1.17,6,     -999,1,     -999,     3.52,2,     -999,1,     -999,9,     -999,     -999,9,20150830,1441,      4.8,  85.8724, 166.9739,     -999,9,  27.6893,2
33HQ20150809  ,ARC01      ,28      ,  1,35         ,    6166,    -999,GSNIS-35   ,2,20150830,1245,  85.8654, 167.0440,     3740,     15.1,  -1.4734,  27.5749,2,  27.5853,2,    395.5,2,    393.4,2,     6.97,2,     0.00,2,     0.00,2,     0.65,2,    6.970,2,    3.733,2,    0.653,2,    3.785,2,     -999,9,   1974.5,2,   7.6840,6,    25.00,     89.8,2,     -999,9,     -999,9,     -999,9,  -1.4730,2,     -999,9,     -999,9,     -999,     5.14,2,     -999,1,     -999,9,     -999,     -999,9,20150830,1439,     15.0,  85.8723, 166.9748,     -999,9,  27.7154,2
33HQ20150809  ,ARC01      ,28      ,  1,34         ,    6166,    -999,GSNIS-34   ,2,20150830,1245,  85.8654, 167.0440,     3740,     25.4,  -1.3551,  28.4758,2,  28.4950,2,    393.4,2,    396.5,2,     7.16,2,     0.00,2,     0.02,2,     0.69,2,     -999,9,     -999,9,     -999,9,     -999,9,     -999,9,   2037.2,6,   7.6784,2,    25.00,     88.4,2,     -999,9,     -999,9,     -999,9,  -1.3541,2,     -999,9,     -999,9,     -999,     4.04,2,     -999,1,     -999,9,     -999,     -999,9,20150830,1438,     25.1,  85.8722, 166.9757,     -999,9,  28.6293,2
33HQ20150809  ,ARC01      ,28      ,  1,33         ,    6166,    -999,GSNIS-33   ,2,20150830,1245,  85.8654, 167.0440,     3740,     46.0,  -1.3307,  30.5242,2,  30.7691,2,    376.0,2,    327.3,2,    12.54,2,     3.31,2,     0.02,2,     0.92,2,    6.562,2,    3.628,2,    0.571,2,    3.365,2,   2082.4,2,   2155.2,2,   7.5619,2,    25.00,     73.9,2,     -999,9,     -999,9,     -999,9,  -1.3305,2,     -999,9,     -999,9,     -999,     6.05,2,     -999,1,     -999,9,     -999,     -999,9,20150830,1436,     45.5,  85.8721, 166.9767,     -999,9,  30.9142,2
33HQ20150809  ,ARC01      ,28      ,  1,32         ,    6166,    -999,GSNIS-32   ,2,20150830,1245,  85.8654, 167.0440,     3740,     63.5,  -1.2404,  32.5391,2,  32.7102,2,    279.1,2,    280.5,2,    22.60,2,     8.94,2,     0.01,2,     1.10,2,     -999,9,     -999,9,     -999,9,     -999,9,   2188.4,2,   2239.0,6,   7.4642,2,    25.00,     77.8,2,     -999,9,     -999,9,     -999,9,  -1.2384,2,     -999,9,     -999,9,     -999,    12.12,2,     -999,1,     -999,9,     -999,     -999,9,20150830,1434,     62.8,  85.8720, 166.9777,     -999,9,  32.8644,2
33HQ20150809  ,ARC01      ,28      ,  1,31         ,    6166,    -999,GSNIS-31   ,2,20150830,1245,  85.8654, 167.0440,     3740,     76.8,  -1.4616,  33.4550,2,  33.4526,2,    303.4,2,    304.3,2,    11.15,2,     7.50,2,     0.01,2,     0.75,2,    6.364,2,    3.394,2,    0.472,2,    2.860,2,   2179.6,6,   2260.3,2,   7.5608,2,    25.00,     77.4,2,     -999,9,     -999,9,     -999,9,  -1.4599,2,     -999,9,     -999,9,     -999,    10.71,2,     -999,1,     -999,9,     -999,     -999,9,20150830,1432,     76.0,  85.8719, 166.9785,     -999,9,  33.6104,2
33HQ20150809  ,ARC01      ,28      ,  1,30         ,    6166,    -999,GSNIS-30   ,2,20150830,1245,  85.8654, 167.0440,     3740,     86.0,  -1.4429,  33.7751,2,  33.8101,2,    308.2,2,    307.5,2,     8.70,2,     7.47,2,     0.01,2,     0.69,2,     -999,9,     -999,9,     -999,9,     -999,9,     -999,9,   2268.6,2,   7.5887,2,    25.00,     69.6,2,     -999,9,     -999,9,     -999,9,  -1.4432,2,     -999,9,     -999,9,     -999,     8.87,2,     -999,1,     -999,9,     -999,     -999,9,20150830,1431,     85.0,  85.8718, 166.9794,     -999,9,  33.9695,2
33HQ20150809  ,ARC01      ,28      ,  1,29         ,    6166,    -999,GSNIS-29   ,2,20150830,1245,  85.8654, 167.0440,     3740,     96.4,  -1.4570,  33.9564,2,  34.0416,4,    313.2,2,    313.3,2,     6.45,2,     7.31,2,     0.01,2,     0.64,2,    6.376,2,    3.440,2,    0.476,2,    2.898,2,   2174.0,2,   2275.2,2,   7.6143,2,    25.00,     66.3,2,     -999,9,     -999,9,     -999,9,  -1.4541,2,     -999,9,     -999,9,     -999,     9.58,2,     -999,1,     -999,9,     -999,     -999,9,20150830,1429,     95.4,  85.8718, 166.9804,     -999,9,  34.2021,4
33HQ20150809  ,ARC01      ,28      ,  1,28         ,    6166,    -999,GSNIS-28   ,2,20150830,1245,  85.8654, 167.0440,     3740,    105.8,  -1.4196,  34.1055,2,  34.1222,2,    315.0,2,    314.5,2,     5.77,2,     7.30,2,     0.01,2,     0.63,2,     -999,9,     -999,9,     -999,9,     -999,9,     -999,9,   2278.3,2,   7.6211,2,    25.00,     66.8,2,     -999,9,     -999,9,     -999,9,  -1.4201,2,     -999,9,     -999,9,     -999,     9.39,2,     -999,1,     -999,9,     -999,     -999,9,20150830,1427,    104.6,  85.8717, 166.9813,     -999,9,  34.2831,2
33HQ20150809  ,ARC01      ,28      ,  1,27         ,    6166,    -999,GSNIS-27   ,2,20150830,1245,  85.8654, 167.0440,     3740,    121.2,  -1.2940,  34.2303,2,  34.2447,2,    313.9,2,    311.1,2,     5.57,2,     7.83,2,     0.01,2,     0.64,2,    6.310,2,    3.379,2,    0.469,2,    2.667,2,   2171.9,2,   2278.4,2,   7.6268,2,    25.00,     62.4,2,     -999,9,     -999,9,     -999,9,  -1.2893,2,     -999,9,     -999,9,     -999,     9.59,2,     -999,1,     -999,9,     -999,     -999,9,20150830,1426,    119.9,  85.8715, 166.9823,     -999,9,  34.4062,2
33HQ20150809  ,ARC01      ,28      ,  1,26         ,    6166,    -999,GSNIS-26   ,2,20150830,1245,  85.8654, 167.0440,     3740,    136.7,  -0.9938,  34.3369,2,  34.3575,2,    310.2,2,    309.7,2,     5.08,2,     8.38,2,     0.01,2,     0.65,2,     -999,9,     -999,9,     -999,9,     -999,9,     -999,9,   2281.3,2,   7.6350,2,    25.00,     60.9,2,     -999,9,     -999,9,     -999,9,  -0.9926,2,     -999,9,     -999,9,     -999,     9.62,2,     -999,1,     -999,9,     -999,     -999,9,20150830,1424,    135.2,  85.8714, 166.9831,     -999,9,  34.5195,2
33HQ20150809  ,ARC01      ,28      ,  1,25         ,    6166,    -999,GSNIS-25   ,2,20150830,1245,  85.8654, 167.0440,     3740,    157.3,  -0.5070,  34.4619,2,  34.4606,2,    306.4,2,    306.2,2,     4.98,2,     8.98,2,     0.01,2,     0.68,2,    6.130,2,    3.238,2,    0.456,2,    2.433,2,   2173.9,2,   2284.2,2,   7.6434,2,    25.00,     57.6,2,     -999,9,     -999,9,     -999,9,  -0.5065,2,     -999,9,     -999,9,     -999,    10.63,2,     -999,1,     -999,9,     -999,     -999,9,20150830,1422,    155.5,  85.8714, 166.9841,     -999,9,  34.6231,2
33HQ20150809  ,ARC01      ,28      ,  1,24         ,    6166,    -999,GSNIS-24   ,2,20150830,1245,  85.8654, 167.0440,     3740,    176.7,  -0.1070,  34.5541,2,  34.5658,2,    302.0,2,    301.8,2,     5.18,2,     9.87,2,     0.01,2,     0.71,2,     -999,9,     -999,9,     -999,9,     -999,9,     -999,9,   2288.7,2,   7.6552,2,    25.00,     63.4,2,     -999,9,     -999,9,     -999,9,  -0.1053,2,     -999,9,     -999,9,     -999,    11.48,2,     -999,1,     -999,9,     -999,     -999,9,20150830,1420,    174.8,  85.8712, 166.9852,     -999,9,  34.7288,2
33HQ20150809  ,ARC01      ,28      ,  1,23         ,    6166,    -999,GSNIS-23   ,2,20150830,1245,  85.8654, 167.0440,     3740,    197.5,   0.2962,  34.6480,2,  34.6808,2,    298.4,2,    298.1,2,     5.37,2,    10.82,2,     0.01,2,     0.76,2,    5.684,2,    2.932,2,    0.412,2,    1.964,2,   2166.4,2,   2291.4,2,   7.6738,2,    25.00,     56.3,2,     -999,9,     -999,9,     -999,9,   0.2961,2,     -999,9,     -999,9,     -999,    11.72,2,     -999,9,     -999,9,     -999,     -999,9,20150830,1418,    195.3,  85.8711, 166.9863,     -999,9,  34.8443,2
33HQ20150809  ,ARC01      ,28      ,  1,22         ,    6166,    -999,GSNIS-22   ,2,20150830,1245,  85.8654, 167.0440,     3740,    217.9,   0.6210,  34.7465,2,  34.7515,2,    295.4,2,    296.1,2,     5.47,2,    11.32,2,     0.01,2,     0.76,2,     -999,9,     -999,9,     -999,9,     -999,9,     -999,9,   2294.4,2,   7.6847,2,    25.00,     55.3,2,     -999,9,     -999,9,     -999,9,   0.6206,2,     -999,9,     -999,9,     -999,    11.42,2,     -999,1,     -999,9,     -999,     -999,9,20150830,1416,    215.4,  85.8710, 166.9873,     -999,9,  34.9154,2
33HQ20150809  ,ARC01      ,28      ,  1,21         ,    6166,    -999,GSNIS-21   ,2,20150830,1245,  85.8654, 167.0440,     3740,    237.8,   0.8540,  34.8149,2,  34.8135,2,    296.4,2,    296.1,2,     5.37,2,    11.69,2,     0.01,2,     0.79,2,    5.446,2,    2.811,2,    0.407,2,    1.727,2,   2161.8,2,   2294.1,2,   7.6941,2,    25.00,     52.8,2,     -999,9,     -999,9,     -999,9,   0.8541,2,     -999,9,     -999,9,     -999,    11.85,2,     -999,9,     -999,9,     -999,     -999,9,20150830,1414,    235.1,  85.8709, 166.9884,     -999,9,  34.9776,2
33HQ20150809  ,ARC01      ,28      ,  1,20         ,    6166,    -999,GSNIS-20   ,2,20150830,1245,  85.8654, 167.0440,     3740,    288.1,   0.9641,  34.8514,2,  34.8512,2,    297.2,2,    297.7,2,     5.57,2,    11.90,2,     0.01,2,     0.80,2,     -999,9,     -999,9,     -999,9,     -999,9,     -999,9,   2295.7,2,   7.6994,2,    25.00,     53.9,2,     -999,9,     -999,9,     -999,9,   0.9643,2,     -999,9,     -999,9,     -999,    13.80,2,     -999,1,     -999,9,     -999,     -999,9,20150830,1412,    284.8,  85.8707, 166.9897,     -999,9,  35.0156,2
33HQ20150809  ,ARC01      ,28      ,  1,19         ,    6166,    -999,GSNIS-19   ,2,20150830,1245,  85.8654, 167.0440,     3740,    339.0,   0.9694,  34.8521,2,  34.8497,2,    297.7,2,    297.1,2,     5.47,2,    11.94,2,     0.01,2,     0.80,2,    5.320,2,    2.672,2,    0.385,2,    1.529,2,     -999,9,   2295.0,2,   7.6995,3,    25.00,     52.1,2,     -999,9,     -999,9,     -999,9,   0.9691,2,     -999,9,     -999,9,     -999,    12.70,2,     -999,9,     -999,9,     -999,     -999,9,20150830,1410,    335.1,  85.8706, 166.9908,     -999,9,  35.0140,2
33HQ20150809  ,ARC01      ,28      ,  1,18         ,    6166,    -999,GSNIS-18   ,2,20150830,1245,  85.8654, 167.0440,     3740,    389.4,   0.9687,  34.8690,2,  34.8717,2,    299.3,2,    299.2,2,     5.57,2,    12.00,2,     0.00,2,     0.82,2,     -999,9,     -999,9,     -999,9,     -999,9,     -999,9,   2298.1,2,   7.6924,3,    25.00,     53.0,2,     -999,9,     -999,9,     -999,9,   0.9687,2,     -999,9,     -999,9,     -999,    14.75,2,     -999,1,     -999,9,     -999,     -999,9,20150830,1408,    384.8,  85.8705, 166.9921,     -999,9,  35.0362,2
33HQ20150809  ,ARC01      ,28      ,  1,17         ,    6166,    -999,GSNIS-17   ,2,20150830,1245,  85.8654, 167.0440,     3740,    441.2,   0.7772,  34.8676,2,  34.8660,2,    300.2,2,    300.2,2,     5.76,2,    12.08,2,     0.01,2,     0.82,2,    4.970,2,    2.421,2,    0.341,2,    1.235,2,   2158.6,2,   2297.7,2,   7.6837,4,    25.00,     52.1,2,     -999,9,     -999,9,     -999,9,   0.7770,2,     -999,9,     -999,9,     -999,    13.18,2,     -999,9,     -999,9,     -999,     -999,9,20150830,1406,    436.0,  85.8704, 166.9934,     -999,9,  35.0304,2
33HQ20150809  ,ARC01      ,28      ,  1,16         ,    6166,    -999,GSNIS-16   ,2,20150830,1245,  85.8654, 167.0440,     3740,    489.5,   0.6472,  34.8697,2,  34.8686,2,    301.1,2,    300.8,2,     5.86,2,    12.11,2,     0.01,2,     0.83,2,    4.923,2,    2.425,2,    0.331,2,    1.221,2,     -999,9,   2297.6,2,   7.6987,4,    25.00,     52.7,2,     -999,9,     -999,9,     -999,9,   0.6470,2,     -999,9,     -999,9,     -999,    15.70,2,     -999,1,     -999,9,     -999,     -999,9,20150830,1404,    483.7,  85.8702, 166.9948,     -999,9,  35.0330,2
33HQ20150809  ,ARC01      ,28      ,  1,15         ,    6166,    -999,GSNIS-15   ,2,20150830,1245,  85.8654, 167.0440,     3740,    541.3,   0.5086,  34.8692,2,  34.8678,2,    301.0,2,    300.4,2,     5.96,2,    12.22,2,     0.01,2,     0.82,2,    4.609,2,    2.240,2,    0.295,2,    1.140,2,   2159.0,2,   2294.4,2,   7.7018,2,    25.00,     52.6,2,     -999,9,     -999,9,     -999,9,   0.5085,2,     -999,9,     -999,9,     -999,    14.83,2,     -999,9,     -999,9,     -999,     -999,9,20150830,1402,    534.8,  85.8701, 166.9960,     -999,9,  35.0322,2
33HQ20150809  ,ARC01      ,28      ,  1,14         ,    6166,    -999,GSNIS-14   ,2,20150830,1245,  85.8654, 167.0440,     3740,    608.0,   0.3363,  34.8685,2,  34.8696,2,    301.4,2,    302.0,2,     6.06,2,    12.22,2,     0.00,2,     0.83,2,    4.598,2,    2.244,2,    0.298,2,    1.099,2,     -999,9,   2296.4,2,   7.7007,2,    25.00,     48.4,2,     -999,9,     -999,9,     -999,9,   0.3368,2,     -999,9,     -999,9,     -999,    14.90,2,     -999,9,     -999,9,     -999,     -999,9,20150830,1400,    600.7,  85.8700, 166.9974,     -999,9,  35.0340,2
33HQ20150809  ,ARC01      ,28      ,  1,13         ,    6166,    -999,GSNIS-13   ,2,20150830,1245,  85.8654, 167.0440,     3740,    758.4,   0.0787,  34.8752,2,  34.8732,2,    302.5,2,    302.1,2,     6.15,2,    12.26,2,     0.00,2,     0.84,2,    4.251,2,    2.060,2,    0.277,2,    0.970,2,     -999,9,   2296.4,2,   7.6986,2,    25.00,     51.1,2,     -999,9,     -999,9,     -999,9,   0.0785,2,     -999,9,     -999,9,     -999,    15.12,2,     -999,9,     -999,9,     -999,     -999,9,20150830,1355,    748.9,  85.8697, 167.0003,     -999,9,  35.0376,2
33HQ20150809  ,ARC01      ,28      ,  1,12         ,    6166,    -999,GSNIS-12   ,2,20150830,1245,  85.8654, 167.0440,     3740,    910.9,  -0.0722,  34.8878,2,  34.8887,2,    302.9,2,    303.6,2,     6.35,2,    12.29,2,     0.00,2,     0.85,2,    4.032,2,    1.986,2,    0.263,2,    1.047,2,     -999,9,   2298.7,2,   7.6946,2,    25.00,     47.7,2,     -999,9,     -999,9,     -999,9,  -0.0719,2,     -999,9,     -999,9,     -999,    13.67,2,     -999,9,     -999,9,     -999,     -999,9,20150830,1351,    899.1,  85.8694, 167.0030,     -999,9,  35.0532,2
33HQ20150809  ,ARC01      ,28      ,  1,11         ,    6166,    -999,GSNIS-11   ,2,20150830,1245,  85.8654, 167.0440,     3740,   1062.5,  -0.2016,  34.8978,2,  34.8944,2,    302.0,2,    302.4,2,     6.84,2,    12.55,2,     0.00,2,     0.88,2,    3.190,2,    1.547,2,    0.204,2,    0.792,2,   2160.7,2,   2298.8,2,   7.7011,2,    25.00,     48.1,2,     -999,9,     -999,9,     -999,9,  -0.2013,2,     -999,9,     -999,9,     -999,    13.12,2,     -999,9,     -999,9,     -999,     -999,9,20150830,1347,   1048.4,  85.8692, 167.0058,     -999,9,  35.0590,2
33HQ20150809  ,ARC01      ,28      ,  1,10         ,    6166,    -999,GSNIS-10   ,2,20150830,1245,  85.8654, 167.0440,     3740,   1267.3,  -0.3098,  34.9131,3,  34.9082,2,    300.5,2,    299.9,2,     7.91,2,    13.07,2,     0.00,2,     0.91,2,    1.724,2,    0.844,2,    0.096,2,    0.363,2,     -999,9,   2298.9,2,   7.7175,2,    25.00,     47.6,2,     -999,9,     -999,9,     -999,9,  -0.3098,2,     -999,9,     -999,9,     -999,    13.57,2,     -999,9,     -999,9,     -999,     -999,9,20150830,1342,   1249.9,  85.8689, 167.0087,     -999,9,  35.0728,2
33HQ20150809  ,ARC01      ,28      ,  1,9          ,    6166,    -999,GSNIS-9    ,2,20150830,1245,  85.8654, 167.0440,     3740,   1469.6,  -0.3724,  34.9262,3,  34.9232,2,    297.4,2,    297.0,2,     9.08,2,    13.53,2,     0.00,2,     0.95,2,    0.882,2,    0.417,2,    0.043,2,    0.182,2,     -999,9,   2297.0,2,   7.7244,2,    25.00,     47.6,2,     -999,9,     -999,9,     -999,9,  -0.3722,2,     -999,9,     -999,9,     -999,    14.17,2,     -999,9,     -999,9,     -999,     -999,9,20150830,1338,   1448.8,  85.8686, 167.0115,     -999,9,  35.0878,2
33HQ20150809  ,ARC01      ,28      ,  1,8          ,    6166,    -999,GSNIS-8    ,2,20150830,1245,  85.8654, 167.0440,     3740,   1676.9,  -0.3995,  34.9401,3,  34.9369,2,    292.6,2,    293.0,2,    10.45,2,    13.96,2,     0.00,2,     0.98,2,    0.365,2,    0.160,2,    0.016,2,    0.049,2,   2148.7,6,   2297.3,2,   7.7335,2,    25.00,     47.4,2,     -999,9,     -999,9,     -999,9,  -0.3993,2,     -999,9,     -999,9,     -999,    15.24,2,     -999,9,     -999,9,     -999,     -999,9,20150830,1333,   1652.3,  85.8683, 167.0146,     -999,9,  35.1017,2
33HQ20150809  ,ARC01      ,28      ,  1,7          ,    6166,    -999,GSNIS-7    ,2,20150830,1245,  85.8654, 167.0440,     3740,   1878.9,  -0.4077,  34.9485,3,  34.9440,2,    289.9,2,    289.7,2,    11.52,2,    14.22,2,     0.00,2,     1.00,2,    0.164,2,    0.071,2,    0.006,2,    0.010,2,     -999,9,   2298.2,2,   7.7346,2,    25.00,     46.0,2,     -999,9,     -999,9,     -999,9,  -0.4078,2,     -999,9,     -999,9,     -999,    15.66,2,     -999,9,     -999,9,     -999,     -999,9,20150830,1328,   1850.4,  85.8679, 167.0178,     -999,9,  35.1088,2
33HQ20150809  ,ARC01      ,28      ,  1,6          ,    6166,    -999,GSNIS-6    ,2,20150830,1245,  85.8654, 167.0440,     3740,   2081.7,  -0.4025,  34.9528,3,  34.9616,4,    287.8,2,    288.0,2,    12.11,2,    14.36,2,     0.00,2,     1.00,2,    0.072,2,    0.028,2,    0.000,2,    0.000,2,     -999,9,   2298.7,2,   7.7338,2,    25.00,     43.6,2,     -999,9,     -999,9,     -999,9,  -0.4025,2,     -999,9,     -999,9,     -999,    16.42,2,     -999,9,     -999,9,     -999,     -999,9,20150830,1322,   2049.2,  85.8676, 167.0214,     -999,9,  35.1264,4
33HQ20150809  ,ARC01      ,28      ,  1,5          ,    6166,    -999,GSNIS-5    ,2,20150830,1245,  85.8654, 167.0440,     3740,   2279.1,  -0.3928,  34.9549,3,  34.9519,2,    286.9,2,    287.1,2,    12.40,2,    14.40,2,     0.00,2,     1.01,2,    0.042,2,    0.012,2,    0.000,2,    0.000,2,   2152.4,2,   2301.3,2,   7.7338,2,    25.00,     43.9,2,     -999,9,     -999,9,     -999,9,  -0.3927,2,     -999,9,     -999,9,     -999,    15.46,2,     -999,9,     -999,9,     -999,     -999,9,20150830,1317,   2242.5,  85.8673, 167.0245,     -999,9,  35.1167,2
33HQ20150809  ,ARC01      ,28      ,  1,4          ,    6166,    -999,GSNIS-4    ,2,20150830,1245,  85.8654, 167.0440,     3740,   2538.8,  -0.3755,  34.9562,3,  34.9545,2,    286.2,2,    286.9,2,    12.60,2,    14.46,2,     0.00,2,     1.02,2,    0.031,2,    0.011,2,    0.000,2,    0.000,2,     -999,9,   2301.4,2,   7.7326,2,    25.00,     45.1,2,     -999,9,     -999,9,     -999,9,  -0.3755,2,     -999,9,     -999,9,     -999,    15.14,2,     -999,9,     -999,9,     -999,     -999,9,20150830,1311,   2496.5,  85.8669, 167.0287,     -999,9,  35.1193,2