BOTTLE,20221220CCHSIOAMB
EXPOCODE,SECT_ID,STNNBR,CASTNO,SAMPNO,GEOTR_EVENT,GEOTR_SAMPNO,BTLNBR,BTLNBR_FLAG_W,DATE,TIME,LATITUDE,LONGITUDE,DEPTH,CTDPRS,CTDTMP,CTDSAL,CTDSAL_FLAG_W,SALNTY,SALNTY_FLAG_W,CTDOXY,CTDOXY_FLAG_W,OXYGEN,OXYGEN_FLAG_W,SILCAT,SILCAT_FLAG_W,NITRAT,NITRAT_FLAG_W,NITRIT,NITRIT_FLAG_W,PHSPHT,PHSPHT_FLAG_W,CFC-11,CFC-11_FLAG_W,CFC-12,CFC-12_FLAG_W,CFC113,CFC113_FLAG_W,SF6,SF6_FLAG_W,TCARBN,TCARBN_FLAG_W,ALKALI,ALKALI_FLAG_W,PH_SWS,PH_SWS_FLAG_W,PH_TMP,DOC,DOC_FLAG_W,TRITUM,TRITUM_FLAG_W,HELIUM,HELIUM_FLAG_W,DELHE3,DELHE3_FLAG_W,REFTMP,REFTMP_FLAG_W,DELC13,DELC13_FLAG_W,DELC14,DELC14_FLAG_W,C14ERR,TDN,TDN_FLAG_W,DELO18,DELO18_FLAG_W,DELO17,DELO17_FLAG_W,CH4,CH4,CH4_FLAG_W,BTL_DATE,BTL_TIME,CTDDEPTH,BTL_LAT,BTL_LON,LAB_DEN,LAB_DEN_FLAG_W,SALTREF,SALTREF_FLAG_W
,,,,,,,,,,,,,METERS,DBAR,ITS-90,PSS-78,,PSS-78,,UMOL/KG,,UMOL/KG,,UMOL/KG,,UMOL/KG,,UMOL/KG,,UMOL/KG,,PMOL/KG,,PMOL/KG,,PMOL/KG,,FMOL/KG,,UMOL/KG,,UMOL/KG,,,,DEG C,UMOL/KG,,TU,,NMOL/KG,,PERCNT,,ITS-90,,/MILLE,,/MILLE,,/MILLE,UMOL/KG,,/MILLE,,/MILLE,,NMOL/KG,NMOL/L,,,,METERS,,,KG/M^3,,G/KG,
33HQ20150809  ,ARC01      ,60      ,  5,36         ,    6461,   12228,GSNIS-36   ,2,20151005,1207,  73.0177,-158.8223,     1072,      5.3,  -0.5754,  26.2590,2,     -999,9,    375.0,2,     -999,9,     2.56,2,     0.02,2,     0.00,2,     0.52,2,     -999,9,     -999,9,     -999,9,     -999,9,     -999,9,     -999,9,     -999,9,     -999,     -999,9,     -999,9,     -999,9,     -999,9,  -0.4019,4,     -999,9,     -999,9,     -999,     -999,9,     -999,9,     -999,9,     -999,     -999,9,20151005,1246,      5.2,  73.0182,-158.8339,     -999,9,     -999,9
33HQ20150809  ,ARC01      ,60      ,  5,34         ,    6461,   12228,GSNIS-34   ,2,20151005,1207,  73.0177,-158.8223,     1072,      5.3,  -0.4375,  26.5324,2,  26.3727,2,    374.9,2,    374.5,2,     2.46,2,     0.00,2,     0.00,2,     0.52,2,    6.569,2,    3.532,2,    0.622,2,    3.094,2,   1831.7,2,   1906.5,2,   7.6553,2,    25.00,     71.5,2,     -999,1,     -999,1,     -999,1,  -0.4592,3,     1.38,2,     -999,1,     -999,     4.44,2,     -999,1,     -999,9,     -999,     -999,1,20151005,1245,      5.3,  73.0182,-158.8338,     -999,9,  26.4970,2
33HQ20150809  ,ARC01      ,60      ,  5,35         ,    6461,   12228,GSNIS-35   ,2,20151005,1207,  73.0177,-158.8223,     1072,      5.3,  -0.4115,  26.5643,2,     -999,9,    369.3,2,     -999,9,     2.56,2,     0.01,2,     0.00,2,     0.52,2,     -999,9,     -999,9,     -999,9,     -999,9,     -999,9,     -999,9,     -999,9,     -999,     -999,9,     -999,9,     -999,9,     -999,9,  -0.4146,2,     -999,9,     -999,9,     -999,     -999,9,     -999,9,     -999,9,     -999,     -999,9,20151005,1246,      5.3,  73.0182,-158.8338,     -999,9,     -999,9
33HQ20150809  ,ARC01      ,60      ,  5,33         ,    6461,   12229,GSNIS-33   ,2,20151005,1207,  73.0177,-158.8223,     1072,     25.5,   1.7069,  29.4998,2,     -999,9,    349.7,2,     -999,9,     4.81,2,     0.01,2,     0.02,2,     0.58,2,     -999,9,     -999,9,     -999,9,     -999,9,     -999,9,     -999,9,     -999,9,     -999,     -999,9,     -999,9,     -999,9,     -999,9,   1.6764,4,     -999,9,     -999,9,     -999,     -999,9,     -999,9,     -999,9,     -999,     -999,9,20151005,1244,     25.2,  73.0179,-158.8328,     -999,9,     -999,9
33HQ20150809  ,ARC01      ,60      ,  5,32         ,    6461,   12229,GSNIS-32   ,2,20151005,1207,  73.0177,-158.8223,     1072,     25.5,   1.6677,  29.4845,2,     -999,9,    350.2,2,     -999,9,     4.90,2,     0.01,2,     0.02,2,     0.58,2,     -999,9,     -999,9,     -999,9,     -999,9,     -999,9,     -999,9,     -999,9,     -999,     -999,9,     -999,9,     -999,9,     -999,9,   1.6617,2,     -999,9,     -999,9,     -999,     -999,9,     -999,9,     -999,9,     -999,     -999,9,20151005,1243,     25.2,  73.0178,-158.8328,     -999,9,     -999,9
33HQ20150809  ,ARC01      ,60      ,  5,31         ,    6461,   12229,GSNIS-31   ,2,20151005,1207,  73.0177,-158.8223,     1072,     25.5,   1.6606,  29.4793,2,  29.5832,2,    350.2,2,    349.6,2,     4.90,2,     0.02,2,     0.02,2,     0.59,2,    5.706,2,    3.097,2,    0.517,2,    2.754,2,   1979.7,2,   2094.5,2,   7.7429,2,    25.00,     74.1,2,     -999,1,     -999,1,     -999,1,   1.6522,2,     1.34,2,     -999,1,     -999,     5.02,2,     -999,1,     -999,9,     -999,     -999,1,20151005,1243,     25.2,  73.0178,-158.8328,     -999,9,  29.7227,2
33HQ20150809  ,ARC01      ,60      ,  5,28         ,    6461,   12230,GSNIS-28   ,3,20151005,1207,  73.0177,-158.8223,     1072,     44.8,  -0.8727,  30.6645,2,  30.6595,2,    394.8,2,    394.9,2,     4.02,2,     0.00,2,     0.00,2,     0.73,2,    6.949,2,    3.650,2,    0.590,2,    2.851,2,   2053.5,2,   2166.6,2,   7.7120,2,    25.00,     72.0,2,     -999,1,     -999,1,     -999,1,  -0.8772,2,     1.47,2,     -999,1,     -999,     3.39,2,     -999,1,     -999,9,     -999,     -999,1,20151005,1241,     44.3,  73.0174,-158.8317,     -999,9,  30.8041,2
33HQ20150809  ,ARC01      ,60      ,  5,30         ,    6461,   12230,GSNIS-30   ,2,20151005,1207,  73.0177,-158.8223,     1072,     44.8,  -0.8588,  30.6670,2,     -999,9,    394.8,2,     -999,9,     4.02,2,     0.02,2,     0.00,2,     0.73,2,     -999,9,     -999,9,     -999,9,     -999,9,     -999,9,     -999,9,     -999,9,     -999,     -999,9,     -999,9,     -999,9,     -999,9,  -0.8710,2,     -999,9,     -999,9,     -999,     -999,9,     -999,9,     -999,9,     -999,     -999,9,20151005,1241,     44.3,  73.0174,-158.8317,     -999,9,     -999,9
33HQ20150809  ,ARC01      ,60      ,  5,29         ,    6461,   12230,GSNIS-29   ,2,20151005,1207,  73.0177,-158.8223,     1072,     44.8,  -0.8605,  30.6672,2,     -999,9,    394.8,2,     -999,9,     4.02,2,     0.00,2,     0.00,2,     0.73,2,     -999,9,     -999,9,     -999,9,     -999,9,     -999,9,     -999,9,     -999,9,     -999,     -999,9,     -999,9,     -999,9,     -999,9,  -0.8764,2,     -999,9,     -999,9,     -999,     -999,9,     -999,9,     -999,9,     -999,     -999,9,20151005,1241,     44.3,  73.0174,-158.8317,     -999,9,     -999,9
33HQ20150809  ,ARC01      ,60      ,  5,25         ,    6461,   12231,GSNIS-25   ,2,20151005,1207,  73.0177,-158.8223,     1072,     57.8,  -0.2275,  31.0950,2,  31.1532,2,    372.3,2,    374.5,2,     6.07,2,     0.79,2,     0.12,2,     0.85,2,    6.674,2,    3.521,2,    0.547,2,    2.363,2,   2059.6,2,   2185.4,2,   7.7105,2,    25.00,     68.4,2,     -999,1,     -999,1,     -999,1,  -0.2748,4,     1.29,2,     -999,1,     -999,     4.56,2,     -999,1,     -999,9,     -999,     -999,1,20151005,1239,     57.2,  73.0171,-158.8309,     -999,9,  31.3001,2
33HQ20150809  ,ARC01      ,60      ,  5,26         ,    6461,   12231,GSNIS-26   ,2,20151005,1207,  73.0177,-158.8223,     1072,     57.8,  -0.2033,  31.1053,2,     -999,9,    372.3,2,     -999,9,     5.97,2,     0.68,2,     0.12,2,     0.84,2,     -999,9,     -999,9,     -999,9,     -999,9,     -999,9,     -999,9,     -999,9,     -999,     -999,9,     -999,9,     -999,9,     -999,9,  -0.2570,4,     -999,9,     -999,9,     -999,     -999,9,     -999,9,     -999,9,     -999,     -999,9,20151005,1239,     57.2,  73.0171,-158.8309,     -999,9,     -999,9
33HQ20150809  ,ARC01      ,60      ,  5,27         ,    6461,   12231,GSNIS-27   ,2,20151005,1207,  73.0177,-158.8223,     1072,     57.8,  -0.2131,  31.1162,2,     -999,9,    370.8,2,     -999,9,     6.37,2,     0.95,2,     0.13,2,     0.86,2,     -999,9,     -999,9,     -999,9,     -999,9,     -999,9,     -999,9,     -999,9,     -999,     -999,9,     -999,9,     -999,9,     -999,9,  -0.2249,2,     -999,9,     -999,9,     -999,     -999,9,     -999,9,     -999,9,     -999,     -999,9,20151005,1239,     57.2,  73.0171,-158.8310,     -999,9,     -999,9
33HQ20150809  ,ARC01      ,60      ,  5,24         ,    6461,   12232,GSNIS-24   ,2,20151005,1207,  73.0177,-158.8223,     1072,    111.6,  -1.5055,  32.4439,2,     -999,9,    267.9,2,     -999,9,    33.27,2,    12.75,2,     0.12,2,     1.81,2,     -999,9,     -999,9,     -999,9,     -999,9,     -999,9,     -999,9,     -999,9,     -999,     -999,9,     -999,9,     -999,9,     -999,9,  -1.4953,2,     -999,9,     -999,9,     -999,     -999,9,     -999,9,     -999,9,     -999,     -999,9,20151005,1237,    110.4,  73.0169,-158.8300,     -999,9,     -999,9
33HQ20150809  ,ARC01      ,60      ,  5,23         ,    6461,   12232,GSNIS-23   ,2,20151005,1207,  73.0177,-158.8223,     1072,    111.6,  -1.5039,  32.4439,2,     -999,9,    267.9,2,     -999,9,    34.93,2,    12.98,2,     0.14,2,     1.86,2,     -999,9,     -999,9,     -999,9,     -999,9,     -999,9,     -999,9,     -999,9,     -999,     -999,9,     -999,9,     -999,9,     -999,9,  -1.4979,2,     -999,9,     -999,9,     -999,     -999,9,     -999,9,     -999,9,     -999,     -999,9,20151005,1237,    110.4,  73.0169,-158.8299,     -999,9,     -999,9
33HQ20150809  ,ARC01      ,60      ,  5,22         ,    6461,   12232,GSNIS-22   ,2,20151005,1207,  73.0177,-158.8223,     1072,    111.6,  -1.5010,  32.4428,2,  32.4589,2,    267.9,2,    266.8,2,    36.30,2,    13.03,2,     0.14,2,     1.88,2,    5.197,2,    3.146,2,    0.431,2,    2.832,2,   2202.3,2,   2229.3,2,   7.4042,2,    25.00,     65.8,2,     -999,1,     -999,1,     -999,1,  -1.4960,2,    -0.13,3,     -999,1,     -999,    17.56,2,     -999,1,     -999,9,     -999,     -999,1,20151005,1237,    110.4,  73.0169,-158.8299,     -999,9,  32.6120,2
33HQ20150809  ,ARC01      ,60      ,  5,20         ,    6461,   12233,GSNIS-20   ,2,20151005,1207,  73.0177,-158.8223,     1072,    138.7,  -1.4368,  32.9600,2,     -999,9,    274.4,2,     -999,9,    32.18,2,    14.55,2,     0.08,2,     1.79,2,     -999,9,     -999,9,     -999,9,     -999,9,     -999,9,     -999,9,     -999,9,     -999,     -999,9,     -999,9,     -999,9,     -999,9,     -999,9,     -999,9,     -999,9,     -999,     -999,9,     -999,9,     -999,9,     -999,     -999,9,20151005,1234,    137.3,  73.0169,-158.8291,     -999,9,     -999,9
33HQ20150809  ,ARC01      ,60      ,  5,19         ,    6461,   12233,GSNIS-19   ,2,20151005,1207,  73.0177,-158.8223,     1072,    138.7,  -1.4367,  32.9599,2,  33.0081,2,    274.4,2,    275.6,2,    31.98,2,    14.52,2,     0.08,2,     1.79,2,    5.060,2,    2.940,2,    0.375,2,    2.576,2,   2226.1,2,   2259.7,2,   7.4470,2,    25.00,     62.0,2,     -999,1,     -999,1,     -999,1,  -1.4372,2,     0.16,2,     -999,1,     -999,    18.47,2,     -999,1,     -999,9,     -999,     -999,1,20151005,1234,    137.2,  73.0169,-158.8291,     -999,9,  33.1638,2
33HQ20150809  ,ARC01      ,60      ,  5,21         ,    6461,   12233,GSNIS-21   ,2,20151005,1207,  73.0177,-158.8223,     1072,    138.7,  -1.4371,  32.9606,2,     -999,9,    274.4,2,     -999,9,    32.38,2,    14.58,2,     0.09,2,     1.79,2,     -999,9,     -999,9,     -999,9,     -999,9,     -999,9,     -999,9,     -999,9,     -999,     -999,9,     -999,9,     -999,9,     -999,9,  -1.4372,2,     -999,9,     -999,9,     -999,     -999,9,     -999,9,     -999,9,     -999,     -999,9,20151005,1235,    137.3,  73.0169,-158.8291,     -999,9,     -999,9
33HQ20150809  ,ARC01      ,60      ,  5,18         ,    6461,   12234,GSNIS-18   ,2,20151005,1207,  73.0177,-158.8223,     1072,    243.1,   0.3029,  34.6661,2,     -999,9,    278.1,2,     -999,9,    10.45,2,    12.95,2,     0.00,2,     0.98,2,     -999,9,     -999,9,     -999,9,     -999,9,     -999,9,     -999,9,     -999,9,     -999,     -999,9,     -999,9,     -999,9,     -999,9,   0.3057,2,     -999,9,     -999,9,     -999,     -999,9,     -999,9,     -999,9,     -999,     -999,9,20151005,1231,    240.4,  73.0171,-158.8288,     -999,9,     -999,9
33HQ20150809  ,ARC01      ,60      ,  5,17         ,    6461,   12234,GSNIS-17   ,2,20151005,1207,  73.0177,-158.8223,     1072,    243.1,   0.3065,  34.6670,2,     -999,9,    278.1,2,     -999,9,    10.35,2,    12.96,2,     0.00,2,     0.98,2,     -999,9,     -999,9,     -999,9,     -999,9,     -999,9,     -999,9,     -999,9,     -999,     -999,9,     -999,9,     -999,9,     -999,9,   0.3023,2,     -999,9,     -999,9,     -999,     -999,9,     -999,9,     -999,9,     -999,     -999,9,20151005,1231,    240.4,  73.0171,-158.8288,     -999,9,     -999,9
33HQ20150809  ,ARC01      ,60      ,  5,16         ,    6461,   12234,GSNIS-16   ,2,20151005,1207,  73.0177,-158.8223,     1072,    243.1,   0.3023,  34.6660,2,  34.6897,2,    278.1,2,    279.1,2,    10.35,2,    12.98,2,     0.00,2,     0.96,2,    4.601,2,    2.338,2,    0.284,2,    0.965,2,   2189.6,2,   2288.5,2,   7.6574,2,    25.00,     54.9,2,     -999,1,     -999,1,     -999,1,   0.3021,2,     0.67,2,     -999,1,     -999,    15.75,2,     -999,1,     -999,9,     -999,     -999,1,20151005,1231,    240.4,  73.0171,-158.8288,     -999,9,  34.8533,2
33HQ20150809  ,ARC01      ,60      ,  5,13         ,    6461,   12235,GSNIS-13   ,2,20151005,1207,  73.0177,-158.8223,     1072,    339.6,   0.7295,  34.8126,2,  34.8138,2,    288.3,2,    287.9,2,     7.81,2,    12.79,2,     0.00,2,     0.90,2,    4.487,2,    2.255,2,    0.287,2,    0.800,2,   2188.2,3,   2293.3,2,   7.6876,2,    25.00,     52.8,2,     -999,1,     -999,1,     -999,1,   0.7294,2,     0.79,2,     -999,1,     -999,    15.42,2,     -999,1,     -999,9,     -999,     -999,1,20151005,1228,    335.9,  73.0173,-158.8290,     -999,9,  34.9780,2
33HQ20150809  ,ARC01      ,60      ,  5,14         ,    6461,   12235,GSNIS-14   ,2,20151005,1207,  73.0177,-158.8223,     1072,    339.6,   0.7294,  34.8124,2,     -999,9,    288.3,2,     -999,9,     7.72,2,    12.79,2,     0.00,2,     0.90,2,     -999,9,     -999,9,     -999,9,     -999,9,     -999,9,     -999,9,     -999,9,     -999,     -999,9,     -999,9,     -999,9,     -999,9,     -999,9,     -999,9,     -999,9,     -999,     -999,9,     -999,9,     -999,9,     -999,     -999,9,20151005,1228,    335.9,  73.0173,-158.8290,     -999,9,     -999,9
33HQ20150809  ,ARC01      ,60      ,  5,15         ,    6461,   12235,GSNIS-15   ,2,20151005,1207,  73.0177,-158.8223,     1072,    339.7,   0.7295,  34.8125,2,     -999,9,    288.3,2,     -999,9,     7.72,2,    12.82,2,     0.00,2,     0.90,2,     -999,9,     -999,9,     -999,9,     -999,9,     -999,9,     -999,9,     -999,9,     -999,     -999,9,     -999,9,     -999,9,     -999,9,   0.7294,2,     -999,9,     -999,9,     -999,     -999,9,     -999,9,     -999,9,     -999,     -999,9,20151005,1228,    335.9,  73.0173,-158.8290,     -999,9,     -999,9
33HQ20150809  ,ARC01      ,60      ,  5,11         ,    6461,   12236,GSNIS-11   ,2,20151005,1207,  73.0177,-158.8223,     1072,    420.6,   0.7103,  34.8382,2,     -999,9,    291.3,2,     -999,9,     7.52,2,    12.78,2,     0.00,2,     0.88,2,     -999,9,     -999,9,     -999,9,     -999,9,     -999,9,     -999,9,     -999,9,     -999,     -999,9,     -999,9,     -999,9,     -999,9,     -999,9,     -999,9,     -999,9,     -999,     -999,9,     -999,9,     -999,9,     -999,     -999,9,20151005,1225,    415.9,  73.0174,-158.8287,     -999,9,     -999,9
33HQ20150809  ,ARC01      ,60      ,  5,10         ,    6461,   12236,GSNIS-10   ,2,20151005,1207,  73.0177,-158.8223,     1072,    420.6,   0.7107,  34.8384,2,  34.8382,2,    291.3,2,    292.0,2,     7.52,2,    12.71,2,     0.00,2,     0.89,2,    4.338,2,    2.164,2,    0.263,2,    0.731,2,   2184.2,3,   2292.5,2,   7.7009,2,    25.00,     52.4,2,     -999,1,     -999,1,     -999,1,   0.7111,2,     0.80,2,     -999,1,     -999,    13.63,2,     -999,1,     -999,9,     -999,     -999,1,20151005,1225,    415.9,  73.0174,-158.8287,     -999,9,  35.0025,2
33HQ20150809  ,ARC01      ,60      ,  5,12         ,    6461,   12236,GSNIS-12   ,2,20151005,1207,  73.0177,-158.8223,     1072,    420.7,   0.7096,  34.8385,2,     -999,9,    291.3,2,     -999,9,     7.52,2,    12.71,2,     0.00,2,     0.88,2,     -999,9,     -999,9,     -999,9,     -999,9,     -999,9,     -999,9,     -999,9,     -999,     -999,9,     -999,9,     -999,9,     -999,9,   0.7094,2,     -999,9,     -999,9,     -999,     -999,9,     -999,9,     -999,9,     -999,     -999,9,20151005,1225,    415.9,  73.0174,-158.8287,     -999,9,     -999,9
33HQ20150809  ,ARC01      ,60      ,  5,8          ,    6461,   12237,GSNIS-8    ,2,20151005,1207,  73.0177,-158.8223,     1072,    667.5,   0.3662,  34.8586,2,     -999,9,    297.7,2,     -999,9,     7.33,2,    12.62,2,     0.00,2,     0.91,2,     -999,9,     -999,9,     -999,9,     -999,9,     -999,9,     -999,9,     -999,9,     -999,     -999,9,     -999,9,     -999,9,     -999,9,   0.3657,2,     -999,9,     -999,9,     -999,     -999,9,     -999,9,     -999,9,     -999,     -999,9,20151005,1219,    659.6,  73.0179,-158.8275,     -999,9,     -999,9
33HQ20150809  ,ARC01      ,60      ,  5,7          ,    6461,   12237,GSNIS-7    ,2,20151005,1207,  73.0177,-158.8223,     1072,    667.5,   0.3658,  34.8586,2,  34.8603,2,    297.7,2,    296.4,2,     7.33,2,    12.63,2,     0.00,2,     0.89,2,    3.726,2,    1.853,2,    0.206,2,    0.628,2,   2177.9,3,   2294.8,2,   7.7054,2,    25.00,     52.4,2,     -999,1,     -999,1,     -999,1,   0.3655,2,     0.87,2,     -999,1,     -999,    14.09,2,     -999,1,     -999,9,     -999,     -999,1,20151005,1219,    659.5,  73.0179,-158.8274,     -999,9,  35.0246,2
33HQ20150809  ,ARC01      ,60      ,  5,9          ,    6461,   12237,GSNIS-9    ,2,20151005,1207,  73.0177,-158.8223,     1072,    667.6,   0.3655,  34.8587,2,     -999,9,    297.7,2,     -999,9,     7.33,2,    12.62,2,     0.00,2,     0.90,2,     -999,9,     -999,9,     -999,9,     -999,9,     -999,9,     -999,9,     -999,9,     -999,     -999,9,     -999,9,     -999,9,     -999,9,   0.3660,2,     -999,9,     -999,9,     -999,     -999,9,     -999,9,     -999,9,     -999,     -999,9,20151005,1219,    659.7,  73.0179,-158.8275,     -999,9,     -999,9
33HQ20150809  ,ARC01      ,60      ,  5,6          ,    6461,   12238,GSNIS-6    ,2,20151005,1207,  73.0177,-158.8223,     1072,   1027.4,   0.0172,  34.8749,2,     -999,9,    301.0,2,     -999,9,     7.33,2,    12.63,2,     0.00,2,     0.89,2,     -999,9,     -999,9,     -999,9,     -999,9,     -999,9,     -999,9,     -999,9,     -999,     -999,9,     -999,9,     -999,9,     -999,9,   0.0169,2,     -999,9,     -999,9,     -999,     -999,9,     -999,9,     -999,9,     -999,     -999,9,20151005,1210,   1014.4,  73.0178,-158.8233,     -999,9,     -999,9
33HQ20150809  ,ARC01      ,60      ,  5,5          ,    6461,   12238,GSNIS-5    ,2,20151005,1207,  73.0177,-158.8223,     1072,   1027.4,   0.0174,  34.8749,2,     -999,9,    301.0,2,     -999,9,     7.33,2,    12.63,2,     0.00,2,     0.88,2,     -999,9,     -999,9,     -999,9,     -999,9,     -999,9,     -999,9,     -999,9,     -999,     -999,9,     -999,9,     -999,9,     -999,9,   0.0164,2,     -999,9,     -999,9,     -999,     -999,9,     -999,9,     -999,9,     -999,     -999,9,20151005,1210,   1014.4,  73.0178,-158.8232,     -999,9,     -999,9
33HQ20150809  ,ARC01      ,60      ,  5,4          ,    6461,   12238,GSNIS-4    ,2,20151005,1207,  73.0177,-158.8223,     1072,   1027.5,   0.0167,  34.8751,2,  34.8825,4,    301.0,2,    300.3,2,     7.23,2,    12.63,2,     0.00,2,     0.89,2,    3.102,2,    1.544,2,    0.169,2,    0.560,2,   2179.4,3,   2295.2,2,   7.7064,2,    25.00,     52.3,2,     -999,1,     -999,1,     -999,1,   0.0165,2,     0.93,2,     -999,1,     -999,    14.94,2,     -999,1,     -999,9,     -999,     -999,1,20151005,1210,   1014.4,  73.0178,-158.8232,     -999,9,  35.0470,4