BOTTLE,20221220CCHSIOAMB
EXPOCODE,SECT_ID,STNNBR,CASTNO,SAMPNO,GEOTR_EVENT,GEOTR_SAMPNO,BTLNBR,BTLNBR_FLAG_W,DATE,TIME,LATITUDE,LONGITUDE,DEPTH,CTDPRS,CTDTMP,CTDSAL,CTDSAL_FLAG_W,SALNTY,SALNTY_FLAG_W,CTDOXY,CTDOXY_FLAG_W,OXYGEN,OXYGEN_FLAG_W,SILCAT,SILCAT_FLAG_W,NITRAT,NITRAT_FLAG_W,NITRIT,NITRIT_FLAG_W,PHSPHT,PHSPHT_FLAG_W,CFC-11,CFC-11_FLAG_W,CFC-12,CFC-12_FLAG_W,CFC113,CFC113_FLAG_W,SF6,SF6_FLAG_W,TCARBN,TCARBN_FLAG_W,ALKALI,ALKALI_FLAG_W,PH_SWS,PH_SWS_FLAG_W,PH_TMP,DOC,DOC_FLAG_W,TRITUM,TRITUM_FLAG_W,HELIUM,HELIUM_FLAG_W,DELHE3,DELHE3_FLAG_W,REFTMP,REFTMP_FLAG_W,DELC13,DELC13_FLAG_W,DELC14,DELC14_FLAG_W,C14ERR,TDN,TDN_FLAG_W,DELO18,DELO18_FLAG_W,DELO17,DELO17_FLAG_W,CH4,CH4,CH4_FLAG_W,BTL_DATE,BTL_TIME,CTDDEPTH,BTL_LAT,BTL_LON,LAB_DEN,LAB_DEN_FLAG_W,SALTREF,SALTREF_FLAG_W
,,,,,,,,,,,,,METERS,DBAR,ITS-90,PSS-78,,PSS-78,,UMOL/KG,,UMOL/KG,,UMOL/KG,,UMOL/KG,,UMOL/KG,,UMOL/KG,,PMOL/KG,,PMOL/KG,,PMOL/KG,,FMOL/KG,,UMOL/KG,,UMOL/KG,,,,DEG C,UMOL/KG,,TU,,NMOL/KG,,PERCNT,,ITS-90,,/MILLE,,/MILLE,,/MILLE,UMOL/KG,,/MILLE,,/MILLE,,NMOL/KG,NMOL/L,,,,METERS,,,KG/M^3,,G/KG,
33HQ20150809  ,ARC01      ,59      ,  1,28         ,    6456,    -999,GSNIS-28   ,2,20151004,2128,  73.0568,-158.5972,     1590,      2.5,  -0.9266,  25.7210,2,  25.7214,2,    378.6,2,    380.3,2,     2.36,2,     0.00,2,     0.00,2,     0.50,2,    6.682,2,    3.716,2,    0.651,2,    3.588,2,   1801.6,2,   1864.8,2,   7.6407,2,    25.00,     69.1,2,     -999,1,     -999,1,     -999,1,  -0.9274,2,     1.40,6,     -999,1,     -999,     3.77,2,     -999,1,     -999,9,     -999,     -999,1,20151004,2229,      2.4,  73.0554,-158.6238,     -999,9,  25.8427,2
33HQ20150809  ,ARC01      ,59      ,  1,27         ,    6456,    -999,GSNIS-27   ,2,20151004,2128,  73.0568,-158.5972,     1590,     16.5,   0.3214,  27.9438,2,  27.9934,2,    388.4,2,    375.6,2,     2.55,2,     0.00,2,     0.00,2,     0.55,2,     -999,9,     -999,9,     -999,9,     -999,9,   1923.9,2,   2017.0,2,   7.6926,2,    25.00,     70.8,2,     -999,9,     -999,9,     -999,9,   0.3106,2,     -999,9,     -999,9,     -999,     4.09,2,     -999,1,     -999,9,     -999,     -999,9,20151004,2227,     16.3,  73.0554,-158.6227,     -999,9,  28.1254,2
33HQ20150809  ,ARC01      ,59      ,  1,26         ,    6456,    -999,GSNIS-26   ,2,20151004,2128,  73.0568,-158.5972,     1590,     31.7,  -0.0373,  28.8986,2,  28.9004,2,    389.3,2,    393.1,2,     2.84,2,     0.00,2,     0.00,2,     0.61,2,    7.102,2,    3.875,2,    0.651,2,    3.335,2,   1971.0,2,   2075.1,2,   7.6968,2,    25.00,     71.1,2,     -999,1,     -999,1,     -999,1,  -0.0646,4,     -999,9,     -999,9,     -999,     3.38,2,     -999,1,     -999,9,     -999,     -999,1,20151004,2225,     31.3,  73.0555,-158.6219,     -999,9,  29.0367,2
33HQ20150809  ,ARC01      ,59      ,  1,25         ,    6456,    -999,GSNIS-25   ,2,20151004,2128,  73.0568,-158.5972,     1590,     46.9,  -0.3737,  30.5062,2,  30.5620,2,    391.6,2,    391.4,2,     3.92,2,     0.00,2,     0.00,2,     0.70,2,     -999,9,     -999,9,     -999,9,     -999,9,   2040.6,2,   2155.0,2,   7.7254,2,    25.00,     70.3,2,     -999,9,     -999,9,     -999,9,  -0.3647,2,     -999,9,     -999,9,     -999,     4.54,2,     -999,1,     -999,9,     -999,     -999,1,20151004,2224,     46.4,  73.0555,-158.6210,     -999,9,  30.7061,2
33HQ20150809  ,ARC01      ,59      ,  1,24         ,    6456,    -999,GSNIS-24   ,2,20151004,2128,  73.0568,-158.5972,     1590,     62.0,  -0.2976,  31.1449,2,  31.1706,2,    382.5,2,    370.1,2,     6.17,2,     0.63,2,     0.14,2,     0.85,2,    6.671,2,    3.635,2,    0.522,2,    2.588,2,   2061.9,2,   2179.5,2,   7.7237,2,    25.00,     65.1,2,     -999,1,     -999,1,     -999,1,  -0.2861,2,     -999,9,     -999,9,     -999,     5.26,2,     -999,1,     -999,9,     -999,     -999,1,20151004,2222,     61.3,  73.0555,-158.6202,     -999,9,  31.3176,2
33HQ20150809  ,ARC01      ,59      ,  1,23         ,    6456,    -999,GSNIS-23   ,2,20151004,2128,  73.0568,-158.5972,     1590,     77.1,  -0.4122,  31.5961,2,  31.6283,2,    359.4,2,    354.0,2,    10.38,2,     4.06,2,     0.16,2,     1.06,2,     -999,9,     -999,9,     -999,9,     -999,9,   2103.5,2,   2203.5,2,   7.6597,2,    25.00,     65.5,2,     -999,9,     -999,9,     -999,9,  -0.4067,2,     -999,9,     -999,9,     -999,     7.43,2,     -999,1,     -999,9,     -999,     -999,1,20151004,2220,     76.3,  73.0556,-158.6193,     -999,9,  31.7774,2
33HQ20150809  ,ARC01      ,59      ,  1,22         ,    6456,    -999,GSNIS-22   ,2,20151004,2128,  73.0568,-158.5972,     1590,     92.2,  -1.0922,  32.0337,2,  32.0454,2,    323.2,2,    319.6,2,    17.32,2,     9.03,2,     0.02,2,     1.39,2,    6.528,2,    3.551,2,    0.490,2,    2.396,2,   2141.3,2,   2213.5,2,   7.5743,2,    25.00,     61.1,2,     -999,1,     -999,1,     -999,1,  -1.0929,2,     -999,9,     -999,9,     -999,    11.11,2,     -999,1,     -999,9,     -999,     -999,9,20151004,2219,     91.3,  73.0557,-158.6186,     -999,9,  32.1965,2
33HQ20150809  ,ARC01      ,59      ,  1,21         ,    6456,    -999,GSNIS-21   ,2,20151004,2128,  73.0568,-158.5972,     1590,    107.3,  -1.3262,  32.2814,2,  32.2908,2,    311.5,2,    308.3,2,    23.00,2,    11.22,2,     0.02,2,     1.57,2,     -999,9,     -999,9,     -999,9,     -999,9,   2166.6,2,   2229.6,2,   7.5288,2,    25.00,     60.8,2,     -999,9,     -999,9,     -999,9,  -1.3249,2,     -999,9,     -999,9,     -999,    13.38,2,     -999,1,     -999,9,     -999,     -999,1,20151004,2217,    106.1,  73.0557,-158.6177,     -999,9,  32.4430,2
33HQ20150809  ,ARC01      ,59      ,  1,20         ,    6456,    -999,GSNIS-20   ,2,20151004,2128,  73.0568,-158.5972,     1590,    122.7,  -1.4188,  32.4855,2,  32.5058,2,    302.3,2,    300.8,2,    25.44,2,    12.31,2,     0.01,2,     1.63,2,    6.393,2,    3.469,2,    0.470,2,    2.391,2,   2189.3,2,   2243.2,2,   7.5009,2,    25.00,     62.0,2,     -999,1,     -999,1,     -999,1,  -1.4186,2,     -999,9,     -999,9,     -999,    14.67,2,     -999,1,     -999,9,     -999,     -999,1,20151004,2216,    121.4,  73.0558,-158.6171,     -999,9,  32.6591,2
33HQ20150809  ,ARC01      ,59      ,  1,19         ,    6456,    -999,GSNIS-19   ,2,20151004,2128,  73.0568,-158.5972,     1590,    137.6,  -1.4457,  32.7087,2,  32.7176,2,    294.3,2,    291.0,2,    27.68,2,    13.42,2,     0.00,2,     1.69,2,     -999,9,     -999,9,     -999,9,     -999,9,   2210.2,2,   2253.5,2,   7.4764,2,    25.00,     58.8,2,     -999,9,     -999,9,     -999,9,  -1.4444,2,     -999,9,     -999,9,     -999,    15.92,2,     -999,1,     -999,9,     -999,     -999,1,20151004,2214,    136.2,  73.0558,-158.6164,     -999,9,  32.8719,2
33HQ20150809  ,ARC01      ,59      ,  1,18         ,    6456,    -999,GSNIS-18   ,2,20151004,2128,  73.0568,-158.5972,     1590,    158.1,  -1.3381,  33.0325,2,  33.0557,2,    281.3,2,    279.0,2,    30.91,2,    14.45,2,     0.04,2,     1.73,2,    6.035,2,    3.252,2,    0.438,2,    2.142,2,   2228.5,2,   2264.4,2,   7.4564,2,    25.00,     58.1,2,     -999,1,     -999,1,     -999,1,  -1.3535,2,     -999,9,     -999,9,     -999,    15.97,2,     -999,1,     -999,9,     -999,     -999,1,20151004,2213,    156.4,  73.0559,-158.6158,     -999,9,  33.2116,2
33HQ20150809  ,ARC01      ,59      ,  1,17         ,    6456,    -999,GSNIS-17   ,2,20151004,2128,  73.0568,-158.5972,     1590,    178.0,  -1.0297,  33.6877,2,  33.6982,2,    274.7,2,    274.5,2,    25.81,2,    13.85,2,     0.08,2,     1.48,2,     -999,9,     -999,9,     -999,9,     -999,9,   2224.5,2,   2278.9,2,   7.5104,2,    25.00,     58.7,2,     -999,9,     -999,9,     -999,9,  -1.0303,2,     -999,9,     -999,9,     -999,    15.59,2,     -999,1,     -999,9,     -999,     -999,9,20151004,2212,    176.1,  73.0559,-158.6151,     -999,9,  33.8571,2
33HQ20150809  ,ARC01      ,59      ,  1,16         ,    6456,    -999,GSNIS-16   ,2,20151004,2128,  73.0568,-158.5972,     1590,    198.4,  -0.6738,  34.2200,2,  34.2282,2,    276.1,2,    280.0,2,    15.63,2,    12.38,2,     0.00,2,     1.08,2,    5.736,2,    2.810,2,    0.377,2,    1.313,2,   2192.1,2,   2284.2,2,   7.5903,2,    25.00,     58.7,2,     -999,1,     -999,1,     -999,1,  -0.6740,2,     -999,9,     -999,9,     -999,    15.08,2,     -999,1,     -999,9,     -999,     -999,1,20151004,2210,    196.3,  73.0560,-158.6145,     -999,9,  34.3896,2
33HQ20150809  ,ARC01      ,59      ,  1,15         ,    6456,    -999,GSNIS-15   ,2,20151004,2128,  73.0568,-158.5972,     1590,    218.7,  -0.3623,  34.3902,2,  34.3967,2,    278.5,2,    278.7,2,    13.19,2,    12.38,2,     0.00,2,     1.01,2,     -999,9,     -999,9,     -999,9,     -999,9,   2182.7,2,   2284.0,2,   7.6158,2,    25.00,     57.7,2,     -999,9,     -999,9,     -999,9,  -0.3639,2,     -999,9,     -999,9,     -999,    14.39,2,     -999,1,     -999,9,     -999,     -999,9,20151004,2209,    216.3,  73.0560,-158.6139,     -999,9,  34.5589,2
33HQ20150809  ,ARC01      ,59      ,  1,14         ,    6456,    -999,GSNIS-14   ,2,20151004,2128,  73.0568,-158.5972,     1590,    238.7,   0.0151,  34.5572,2,  34.5758,2,    277.0,2,    278.1,2,    11.63,2,    12.74,2,     0.00,2,     0.98,2,    5.178,2,    2.470,2,    0.321,2,    0.905,2,   2173.6,2,   2287.2,2,   7.6416,2,    25.00,     52.2,2,     -999,1,     -999,1,     -999,1,   0.0139,2,     -999,9,     -999,9,     -999,    13.53,2,     -999,9,     -999,9,     -999,     -999,9,20151004,2208,    236.1,  73.0560,-158.6132,     -999,9,  34.7388,2
33HQ20150809  ,ARC01      ,59      ,  1,13         ,    6456,    -999,GSNIS-13   ,2,20151004,2128,  73.0568,-158.5972,     1590,    288.9,   0.5257,  34.7440,2,  34.7452,2,    281.6,2,    281.6,2,     9.47,2,    12.97,2,     0.00,2,     0.92,2,    4.778,2,    2.368,2,    0.303,2,    0.772,2,   2163.8,2,   2291.0,2,   7.6773,2,    25.00,     52.1,2,     -999,1,     -999,1,     -999,1,   0.5241,2,     -999,9,     -999,9,     -999,    14.10,2,     -999,1,     -999,9,     -999,     -999,1,20151004,2206,    285.8,  73.0561,-158.6122,     -999,9,  34.9090,2
33HQ20150809  ,ARC01      ,59      ,  1,12         ,    6456,    -999,GSNIS-12   ,2,20151004,2128,  73.0568,-158.5972,     1590,    339.2,   0.7177,  34.8072,2,  34.8096,2,    288.0,2,    287.4,2,     7.91,2,    12.78,2,     0.00,2,     0.88,2,    4.684,2,    2.277,2,    0.301,2,    0.783,2,   2160.1,2,   2293.5,2,   7.6942,2,    25.00,     49.4,2,     -999,1,     -999,1,     -999,1,   0.7177,2,     -999,9,     -999,9,     -999,    14.00,2,     -999,9,     -999,9,     -999,     -999,9,20151004,2204,    335.5,  73.0562,-158.6113,     -999,9,  34.9738,2
33HQ20150809  ,ARC01      ,59      ,  1,11         ,    6456,    -999,GSNIS-11   ,2,20151004,2128,  73.0568,-158.5972,     1590,    389.5,   0.7436,  34.8286,2,  34.8293,2,    291.8,2,    290.3,2,     7.42,2,    12.65,2,     0.00,2,     0.87,2,    4.718,2,    2.274,2,    0.294,2,    0.824,2,   2158.1,2,   2295.1,2,   7.7025,2,    25.00,     50.3,2,     -999,1,     -999,1,     -999,1,   0.7435,2,     -999,9,     -999,9,     -999,    15.13,2,     -999,1,     -999,9,     -999,     -999,1,20151004,2202,    385.2,  73.0562,-158.6104,     -999,9,  34.9936,2
33HQ20150809  ,ARC01      ,59      ,  1,10         ,    6456,    -999,GSNIS-10   ,2,20151004,2128,  73.0568,-158.5972,     1590,    439.7,   0.6864,  34.8414,2,  34.8401,2,    292.4,2,    292.3,2,     7.42,2,    12.66,2,     0.00,2,     0.87,2,    4.678,6,    2.230,6,    0.283,6,    0.734,6,   2159.5,2,   2294.8,2,   7.7015,2,    25.00,     50.7,2,     -999,1,     -999,1,     -999,1,   0.6865,2,     -999,9,     -999,9,     -999,    13.54,2,     -999,9,     -999,9,     -999,     -999,9,20151004,2200,    434.7,  73.0563,-158.6095,     -999,9,  35.0044,2
33HQ20150809  ,ARC01      ,59      ,  1,9          ,    6456,    -999,GSNIS-9    ,2,20151004,2128,  73.0568,-158.5972,     1590,    489.7,   0.5798,  34.8491,2,  34.8516,4,    293.9,2,    293.6,2,     7.33,2,    12.62,2,     0.00,2,     0.87,2,    4.282,2,    2.091,2,    0.253,2,    0.679,2,   2158.8,2,   2291.4,2,   7.7248,3,    25.00,     49.8,2,     -999,1,     -999,1,     -999,1,   0.5827,2,     -999,9,     -999,9,     -999,    13.96,2,     -999,1,     -999,9,     -999,     -999,9,20151004,2158,    484.1,  73.0563,-158.6085,     -999,9,  35.0159,4
33HQ20150809  ,ARC01      ,59      ,  1,8          ,    6456,    -999,GSNIS-8    ,2,20151004,2128,  73.0568,-158.5972,     1590,    590.6,   0.4364,  34.8568,2,  34.8582,2,    295.3,2,    295.3,2,     7.33,2,    12.56,2,     0.00,2,     0.87,2,    4.047,2,    1.971,2,    0.232,2,    0.592,2,     -999,9,     -999,9,     -999,9,     -999,     50.8,2,     -999,1,     -999,1,     -999,1,   0.4364,2,     -999,9,     -999,9,     -999,    13.58,2,     -999,9,     -999,9,     -999,     -999,9,20151004,2155,    583.7,  73.0563,-158.6072,     -999,9,  35.0226,2
33HQ20150809  ,ARC01      ,59      ,  1,7          ,    6456,    -999,GSNIS-7    ,2,20151004,2128,  73.0568,-158.5972,     1590,    742.9,   0.1729,  34.8666,2,  34.8679,2,    298.1,2,    298.7,2,     6.93,2,    12.58,2,     0.00,2,     0.87,2,    3.767,2,    1.759,2,    0.200,2,    0.575,2,   2158.9,2,   2291.8,2,   7.7148,2,    25.00,     51.0,2,     -999,1,     -999,1,     -999,1,   0.1729,2,     -999,9,     -999,9,     -999,    14.28,2,     -999,9,     -999,9,     -999,     -999,1,20151004,2152,    733.9,  73.0564,-158.6056,     -999,9,  35.0323,2
33HQ20150809  ,ARC01      ,59      ,  1,6          ,    6456,    -999,GSNIS-6    ,2,20151004,2128,  73.0568,-158.5972,     1590,    895.1,   0.0101,  34.8746,2,  34.8765,2,    298.7,2,    299.7,2,     7.13,2,    12.60,2,     0.00,2,     0.87,2,    3.389,2,    1.600,2,    0.183,2,    0.545,2,     -999,9,     -999,9,     -999,9,     -999,     49.8,2,     -999,1,     -999,1,     -999,1,   0.0098,2,     -999,9,     -999,9,     -999,    13.84,2,     -999,9,     -999,9,     -999,     -999,9,20151004,2148,    884.0,  73.0564,-158.6043,     -999,9,  35.0410,2
33HQ20150809  ,ARC01      ,59      ,  1,5          ,    6456,    -999,GSNIS-5    ,2,20151004,2128,  73.0568,-158.5972,     1590,   1046.9,  -0.1258,  34.8848,2,  34.8909,2,    299.3,2,    300.3,2,     7.62,2,    12.68,2,     0.00,2,     0.89,2,    3.012,2,    1.443,2,    0.167,2,    0.539,2,   2159.0,2,   2293.4,2,   7.7075,2,    25.00,     49.2,2,     -999,1,     -999,1,     -999,1,  -0.1261,2,     -999,9,     -999,9,     -999,    14.47,2,     -999,9,     -999,9,     -999,     -999,9,20151004,2145,   1033.6,  73.0565,-158.6029,     -999,9,  35.0554,2
33HQ20150809  ,ARC01      ,59      ,  1,4          ,    6456,    -999,GSNIS-4    ,2,20151004,2128,  73.0568,-158.5972,     1590,   1214.7,  -0.1784,  34.8903,2,  34.8931,2,    298.8,2,    299.9,2,     7.81,2,    12.75,2,     0.00,2,     0.90,2,    2.805,2,    1.344,2,    0.161,2,    0.476,2,     -999,9,     -999,9,     -999,9,     -999,     50.0,2,     -999,1,     -999,1,     -999,1,  -0.1789,2,     -999,9,     -999,9,     -999,    14.37,2,     -999,9,     -999,9,     -999,     -999,1,20151004,2141,   1198.7,  73.0566,-158.6014,     -999,9,  35.0576,2
33HQ20150809  ,ARC01      ,59      ,  1,3          ,    6456,    -999,GSNIS-3    ,2,20151004,2128,  73.0568,-158.5972,     1590,   1418.1,  -0.2416,  34.8977,2,  34.8984,2,    298.2,2,    299.7,2,     8.11,2,    12.86,2,     0.00,2,     0.91,2,    2.439,2,    1.194,2,    0.138,2,    0.426,2,   2161.9,2,   2293.3,2,   7.7124,2,    25.00,     48.3,2,     -999,1,     -999,1,     -999,1,  -0.2415,2,     -999,9,     -999,9,     -999,    13.86,2,     -999,9,     -999,9,     -999,     -999,9,20151004,2136,   1398.8,  73.0567,-158.5998,     -999,9,  35.0630,2
33HQ20150809  ,ARC01      ,59      ,  1,2          ,    6456,    -999,GSNIS-2    ,2,20151004,2128,  73.0568,-158.5972,     1590,   1519.4,  -0.3071,  34.9073,2,  34.9096,2,    297.5,2,    298.6,2,     8.69,2,    13.17,2,     0.00,2,     0.92,2,    1.825,2,    0.881,2,    0.099,2,    0.367,2,     -999,9,     -999,9,     -999,9,     -999,     49.1,2,     -999,1,     -999,1,     -999,1,  -0.3082,2,     -999,9,     -999,9,     -999,    14.52,2,     -999,9,     -999,9,     -999,     -999,9,20151004,2132,   1498.3,  73.0568,-158.5986,     -999,9,  35.0742,2
33HQ20150809  ,ARC01      ,59      ,  1,1          ,    6456,    -999,GSNIS-1    ,2,20151004,2128,  73.0568,-158.5972,     1590,   1611.5,  -0.3563,  34.9180,2,  34.9275,4,    298.3,2,    296.9,2,     9.38,2,    13.46,2,     0.00,2,     0.94,2,    1.316,2,    0.645,2,    0.070,2,    0.221,2,   2157.1,2,   2296.9,2,   7.7593,4,    25.00,     47.1,2,     -999,1,     -999,1,     -999,1,  -0.3613,3,     -999,9,     -999,9,     -999,    15.24,2,     -999,9,     -999,9,     -999,     -999,1,20151004,2128,   1588.8,  73.0569,-158.5971,     -999,9,  35.0922,4
33HQ20150809  ,ARC01      ,60      , 25,25         ,    6464,   12260,SMBT       ,2,20151005,0248,  72.9997,-158.7448,      720,      1.0,  -0.7112,  31.6033,2,  25.7789,2,     -999,9,     -999,9,     2.46,2,     0.03,2,     0.00,2,     0.50,2,     -999,9,     -999,9,     -999,9,     -999,9,     -999,9,     -999,9,     -999,9,     -999,     -999,9,     -999,9,     -999,9,     -999,9,     -999,9,     -999,9,     -999,9,     -999,     -999,9,     -999,1,     -999,9,     -999,     -999,9,20151005,0249,      1.0,  72.9997,-158.7455,     -999,9,  25.9005,2