BOTTLE,20221220CCHSIOAMB
EXPOCODE,SECT_ID,STNNBR,CASTNO,SAMPNO,GEOTR_EVENT,GEOTR_SAMPNO,BTLNBR,BTLNBR_FLAG_W,DATE,TIME,LATITUDE,LONGITUDE,DEPTH,CTDPRS,CTDTMP,CTDSAL,CTDSAL_FLAG_W,SALNTY,SALNTY_FLAG_W,CTDOXY,CTDOXY_FLAG_W,OXYGEN,OXYGEN_FLAG_W,SILCAT,SILCAT_FLAG_W,NITRAT,NITRAT_FLAG_W,NITRIT,NITRIT_FLAG_W,PHSPHT,PHSPHT_FLAG_W,CFC-11,CFC-11_FLAG_W,CFC-12,CFC-12_FLAG_W,CFC113,CFC113_FLAG_W,SF6,SF6_FLAG_W,TCARBN,TCARBN_FLAG_W,ALKALI,ALKALI_FLAG_W,PH_SWS,PH_SWS_FLAG_W,PH_TMP,DOC,DOC_FLAG_W,TRITUM,TRITUM_FLAG_W,HELIUM,HELIUM_FLAG_W,DELHE3,DELHE3_FLAG_W,REFTMP,REFTMP_FLAG_W,DELC13,DELC13_FLAG_W,DELC14,DELC14_FLAG_W,C14ERR,TDN,TDN_FLAG_W,DELO18,DELO18_FLAG_W,DELO17,DELO17_FLAG_W,CH4,CH4,CH4_FLAG_W,BTL_DATE,BTL_TIME,CTDDEPTH,BTL_LAT,BTL_LON,LAB_DEN,LAB_DEN_FLAG_W,SALTREF,SALTREF_FLAG_W
,,,,,,,,,,,,,METERS,DBAR,ITS-90,PSS-78,,PSS-78,,UMOL/KG,,UMOL/KG,,UMOL/KG,,UMOL/KG,,UMOL/KG,,UMOL/KG,,PMOL/KG,,PMOL/KG,,PMOL/KG,,FMOL/KG,,UMOL/KG,,UMOL/KG,,,,DEG C,UMOL/KG,,TU,,NMOL/KG,,PERCNT,,ITS-90,,/MILLE,,/MILLE,,/MILLE,UMOL/KG,,/MILLE,,/MILLE,,NMOL/KG,NMOL/L,,,,METERS,,,KG/M^3,,G/KG,
33HQ20150809  ,ARC01      ,35      ,  1,36         ,    6240,    -999,GSNIS-36   ,2,20150908,1445,  89.3269,-149.2803,     3312,      5.2,  -1.4625,  27.4164,2,  27.4178,2,    388.2,2,    388.9,2,    12.47,2,     0.02,2,     0.00,2,     0.69,2,    6.699,2,    3.660,2,    0.640,2,    3.824,2,   1901.9,2,   1989.0,6,   7.6593,2,    25.00,    130.0,2,     -999,9,     -999,9,     -999,9,     -999,9,     0.66,6,     -999,1,     -999,     4.77,2,     -999,1,     -999,9,     -999,     -999,9,20150908,1638,      5.1,  89.3156,-149.0057,     -999,1,  27.5471,2
33HQ20150809  ,ARC01      ,35      ,  1,35         ,    6240,    -999,GSNIS-35   ,2,20150908,1445,  89.3269,-149.2803,     3312,     15.3,  -1.4672,  27.4167,2,  27.4717,2,    389.2,2,    389.7,2,    12.47,2,     0.03,2,     0.01,2,     0.69,2,    6.702,2,    3.647,2,    0.636,2,    3.782,2,   1906.7,6,   1991.7,2,   7.6595,2,    25.00,    127.4,2,     -999,9,     -999,9,     -999,9,  -1.4701,2,     -999,9,     -999,9,     -999,     6.66,2,     -999,1,     -999,9,     -999,     -999,9,20150908,1636,     15.1,  89.3158,-149.0088,     -999,1,  27.6013,2
33HQ20150809  ,ARC01      ,35      ,  1,34         ,    6240,    -999,GSNIS-34   ,2,20150908,1445,  89.3269,-149.2803,     3312,     26.1,  -1.3438,  28.7795,3,  29.2274,2,    382.4,2,    365.0,2,    13.44,2,     1.26,2,     0.10,2,     0.77,2,     -999,9,     -999,9,     -999,9,     -999,9,   2031.1,2,   2103.4,2,   7.5978,2,    25.00,    124.7,2,     -999,9,     -999,9,     -999,9,  -1.3441,2,     -999,9,     -999,9,     -999,     5.41,2,     -999,1,     -999,9,     -999,     -999,9,20150908,1634,     25.8,  89.3160,-149.0113,     -999,1,  29.3652,2
33HQ20150809  ,ARC01      ,35      ,  1,33         ,    6240,    -999,GSNIS-33   ,2,20150908,1445,  89.3269,-149.2803,     3312,     46.2,  -1.5970,  32.1500,3,  32.2174,2,    330.1,2,    326.6,2,    11.55,2,     5.23,2,     0.01,2,     0.75,2,    6.564,2,    3.562,2,    0.543,2,    3.253,2,   2153.0,2,   2225.9,2,   7.5251,2,    25.00,     97.1,2,     -999,9,     -999,9,     -999,9,  -1.6010,2,     -999,9,     -999,9,     -999,     8.40,2,     -999,1,     -999,9,     -999,     -999,9,20150908,1632,     45.7,  89.3162,-149.0143,     -999,1,  32.3693,2
33HQ20150809  ,ARC01      ,35      ,  1,32         ,    6240,    -999,GSNIS-32   ,2,20150908,1445,  89.3269,-149.2803,     3312,     66.4,  -1.5580,  33.1963,3,  33.2938,2,    310.9,2,    312.3,2,    10.37,2,     7.08,2,     0.00,2,     0.73,2,     -999,9,     -999,9,     -999,9,     -999,9,   2167.8,2,   2251.2,6,   7.5688,2,    25.00,     77.0,2,     -999,9,     -999,9,     -999,9,  -1.5580,2,     -999,9,     -999,9,     -999,     8.11,2,     -999,1,     -999,9,     -999,     -999,9,20150908,1630,     65.7,  89.3164,-149.0176,     -999,1,  33.4508,2
33HQ20150809  ,ARC01      ,35      ,  1,31         ,    6240,    -999,GSNIS-31   ,2,20150908,1445,  89.3269,-149.2803,     3312,     76.6,  -1.5143,  33.6377,3,  33.7694,2,    314.4,2,    307.1,2,     7.62,2,     7.46,2,     0.00,2,     0.67,2,    6.471,2,    3.442,2,    0.482,2,    2.620,2,   2168.8,6,   2257.6,2,   7.6002,6,    25.00,     74.4,2,     -999,9,     -999,9,     -999,9,  -1.5129,2,     -999,9,     -999,9,     -999,    11.03,2,     -999,1,     -999,9,     -999,     -999,9,20150908,1629,     75.7,  89.3166,-149.0203,     -999,1,  33.9287,2
33HQ20150809  ,ARC01      ,35      ,  1,30         ,    6240,    -999,GSNIS-30   ,2,20150908,1445,  89.3269,-149.2803,     3312,     86.7,  -1.3873,  33.9640,2,  33.9815,2,    304.9,2,    303.6,2,     7.33,2,     7.98,2,     0.00,2,     0.68,2,     -999,9,     -999,9,     -999,9,     -999,9,     -999,9,   2269.1,2,   7.6115,2,    25.00,     69.4,2,     -999,9,     -999,9,     -999,9,  -1.3875,2,     -999,9,     -999,9,     -999,     9.89,2,     -999,1,     -999,9,     -999,     -999,9,20150908,1627,     85.7,  89.3167,-149.0229,     -999,1,  34.1417,2
33HQ20150809  ,ARC01      ,35      ,  1,29         ,    6240,    -999,GSNIS-29   ,2,20150908,1445,  89.3269,-149.2803,     3312,     96.9,  -1.2798,  34.1244,2,  34.1427,2,    306.2,2,    306.3,2,     6.25,2,     8.23,2,     0.00,2,     0.66,2,    6.390,2,    3.289,2,    0.452,2,    2.343,2,     -999,9,   2274.8,2,   7.6238,2,    25.00,     64.1,2,     -999,9,     -999,9,     -999,9,  -1.2808,2,     -999,9,     -999,9,     -999,    10.70,2,     -999,1,     -999,9,     -999,     -999,9,20150908,1626,     95.8,  89.3169,-149.0257,     -999,1,  34.3037,2
33HQ20150809  ,ARC01      ,35      ,  1,28         ,    6240,    -999,GSNIS-28   ,2,20150908,1445,  89.3269,-149.2803,     3312,    107.0,  -1.0754,  34.2293,2,  34.2486,2,    304.3,2,    304.1,2,     5.96,2,     8.62,2,     0.00,2,     0.67,2,     -999,9,     -999,9,     -999,9,     -999,9,   2169.2,2,   2277.2,2,   7.6313,2,    25.00,     62.9,2,     -999,9,     -999,9,     -999,9,  -1.0748,2,     -999,9,     -999,9,     -999,    11.16,2,     -999,1,     -999,9,     -999,     -999,9,20150908,1624,    105.8,  89.3170,-149.0284,     -999,1,  34.4101,2
33HQ20150809  ,ARC01      ,35      ,  1,27         ,    6240,    -999,GSNIS-27   ,2,20150908,1445,  89.3269,-149.2803,     3312,    122.2,  -0.7520,  34.3382,2,  34.3422,2,    305.0,2,    304.1,2,     5.96,2,     8.95,2,     0.00,2,     0.70,2,    6.296,2,    3.322,2,    0.456,2,    2.184,2,     -999,9,   2278.7,2,   7.6351,2,    25.00,     61.0,2,     -999,9,     -999,9,     -999,9,  -0.7518,2,     -999,9,     -999,9,     -999,    10.64,2,     -999,1,     -999,9,     -999,     -999,9,20150908,1622,    120.9,  89.3172,-149.0314,     -999,1,  34.5041,2
33HQ20150809  ,ARC01      ,35      ,  1,26         ,    6240,    -999,GSNIS-26   ,2,20150908,1445,  89.3269,-149.2803,     3312,    137.4,  -0.4629,  34.4225,2,  34.4281,2,    301.6,2,    301.9,2,     5.86,2,     9.39,2,     0.00,2,     0.71,2,     -999,9,     -999,9,     -999,9,     -999,9,     -999,9,   2281.2,2,   7.6440,2,    25.00,     60.1,2,     -999,9,     -999,9,     -999,9,  -0.4636,2,     -999,9,     -999,9,     -999,    11.12,2,     -999,1,     -999,9,     -999,     -999,9,20150908,1620,    135.9,  89.3175,-149.0359,     -999,1,  34.5905,2
33HQ20150809  ,ARC01      ,35      ,  1,25         ,    6240,    -999,GSNIS-25   ,2,20150908,1445,  89.3269,-149.2803,     3312,    157.7,  -0.1483,  34.5203,2,  34.5229,2,    299.4,2,    300.7,2,     5.76,2,     9.89,2,     0.00,2,     0.72,2,    5.971,2,    3.068,2,    0.424,2,    2.114,2,   2166.5,2,   2284.0,2,   7.6531,2,    25.00,     57.9,2,     -999,9,     -999,9,     -999,9,  -0.1470,2,     -999,9,     -999,9,     -999,    11.46,2,     -999,1,     -999,9,     -999,     -999,9,20150908,1618,    156.0,  89.3177,-149.0403,     -999,1,  34.6857,2
33HQ20150809  ,ARC01      ,35      ,  1,24         ,    6240,    -999,GSNIS-24   ,2,20150908,1445,  89.3269,-149.2803,     3312,    177.1,   0.1323,  34.6032,2,  34.6070,2,    296.9,2,    299.3,2,     5.76,2,    10.45,2,     0.00,2,     0.73,2,     -999,9,     -999,9,     -999,9,     -999,9,     -999,9,   2278.0,2,   7.6629,2,    25.00,     56.5,2,     -999,9,     -999,9,     -999,9,   0.1337,2,     -999,9,     -999,9,     -999,    11.28,2,     -999,1,     -999,9,     -999,     -999,9,20150908,1616,    175.1,  89.3179,-149.0442,     -999,1,  34.7702,2
33HQ20150809  ,ARC01      ,35      ,  1,23         ,    6240,    -999,GSNIS-23   ,2,20150908,1445,  89.3269,-149.2803,     3312,    197.3,   0.4419,  34.6945,2,  34.7148,2,    294.5,2,    295.3,2,     5.96,2,    11.28,2,     0.00,2,     0.78,2,    5.477,2,    2.794,2,    0.393,2,    1.575,2,     -999,9,   2290.3,2,   7.6817,2,    25.00,     55.0,2,     -999,9,     -999,9,     -999,9,   0.4429,2,     -999,9,     -999,9,     -999,    10.78,2,     -999,9,     -999,9,     -999,     -999,9,20150908,1613,    195.1,  89.3182,-149.0498,     -999,1,  34.8785,2
33HQ20150809  ,ARC01      ,35      ,  1,22         ,    6240,    -999,GSNIS-22   ,2,20150908,1445,  89.3269,-149.2803,     3312,    217.6,   0.8896,  34.7959,2,  34.7956,2,    295.2,2,    297.1,2,     5.37,2,    11.63,2,     0.00,2,     0.79,2,     -999,9,     -999,9,     -999,9,     -999,9,   2158.0,2,   2293.2,2,   7.6937,2,    25.00,     54.5,2,     -999,9,     -999,9,     -999,9,   0.8894,2,     -999,9,     -999,9,     -999,    12.42,2,     -999,1,     -999,9,     -999,     -999,9,20150908,1611,    215.1,  89.3184,-149.0538,     -999,1,  34.9597,2
33HQ20150809  ,ARC01      ,35      ,  1,21         ,    6240,    -999,GSNIS-21   ,2,20150908,1445,  89.3269,-149.2803,     3312,    238.0,   1.0238,  34.8240,2,  34.8233,2,    297.3,2,    297.6,2,     4.98,2,    11.62,2,     0.00,2,     0.79,2,    5.387,2,    2.775,2,    0.408,2,    1.933,2,     -999,9,   2294.8,2,   7.6956,2,    25.00,     56.2,2,     -999,9,     -999,9,     -999,9,   1.0235,2,     -999,9,     -999,9,     -999,    11.78,2,     -999,9,     -999,9,     -999,     -999,9,20150908,1609,    235.3,  89.3186,-149.0578,     -999,1,  34.9876,2
33HQ20150809  ,ARC01      ,35      ,  1,20         ,    6240,    -999,GSNIS-20   ,2,20150908,1445,  89.3269,-149.2803,     3312,    288.7,   1.2379,  34.8696,2,  34.8686,2,    298.8,2,    298.5,2,     5.08,2,    11.84,2,     0.00,2,     0.78,2,     -999,9,     -999,9,     -999,9,     -999,9,     -999,9,   2299.2,2,   7.7016,2,    25.00,     53.0,2,     -999,9,     -999,9,     -999,9,   1.2373,2,     -999,9,     -999,9,     -999,    12.21,2,     -999,1,     -999,9,     -999,     -999,9,20150908,1607,    285.4,  89.3188,-149.0625,     -999,1,  35.0330,2
33HQ20150809  ,ARC01      ,35      ,  1,19         ,    6240,    -999,GSNIS-19   ,2,20150908,1445,  89.3269,-149.2803,     3312,    339.4,   0.9376,  34.8490,2,  34.8467,2,    296.6,2,    297.0,2,     5.96,2,    12.10,2,     0.00,2,     0.81,2,    5.110,6,    2.495,6,    0.364,6,    1.325,6,   2159.4,2,   2295.5,2,   7.7043,2,    25.00,     55.5,2,     -999,9,     -999,9,     -999,9,   0.9356,2,     -999,9,     -999,9,     -999,    12.66,2,     -999,9,     -999,9,     -999,     -999,9,20150908,1605,    335.4,  89.3190,-149.0667,     -999,1,  35.0111,2
33HQ20150809  ,ARC01      ,35      ,  1,18         ,    6240,    -999,GSNIS-18   ,2,20150908,1445,  89.3269,-149.2803,     3312,    390.0,   0.8760,  34.8614,2,  34.8631,2,    298.4,2,    299.3,2,     5.96,2,    12.10,2,     0.00,2,     0.80,2,     -999,9,     -999,9,     -999,9,     -999,9,     -999,9,   2295.1,2,   7.7047,2,    25.00,     56.4,2,     -999,9,     -999,9,     -999,9,   0.8770,2,     -999,9,     -999,9,     -999,    13.88,2,     -999,1,     -999,9,     -999,     -999,9,20150908,1603,    385.5,  89.3192,-149.0713,     -999,1,  35.0274,2
33HQ20150809  ,ARC01      ,35      ,  1,17         ,    6240,    -999,GSNIS-17   ,2,20150908,1445,  89.3269,-149.2803,     3312,    440.9,   0.9062,  34.8802,2,  34.8731,2,    300.7,2,    300.9,2,     5.76,2,    12.06,2,     0.00,2,     0.81,2,    4.927,2,    2.418,2,    0.342,2,    1.390,2,     -999,9,   2295.8,2,   7.7073,2,    25.00,     52.1,2,     -999,9,     -999,9,     -999,9,   0.9071,2,     -999,9,     -999,9,     -999,    14.32,2,     -999,9,     -999,9,     -999,     -999,9,20150908,1600,    435.7,  89.3195,-149.0763,     -999,1,  35.0375,2
33HQ20150809  ,ARC01      ,35      ,  1,16         ,    6240,    -999,GSNIS-16   ,2,20150908,1445,  89.3269,-149.2803,     3312,    491.4,   0.9201,  34.8961,2,  34.8957,2,    303.0,2,    303.4,2,     5.27,2,    11.88,2,     0.00,2,     0.80,2,     -999,9,     -999,9,     -999,9,     -999,9,   2164.3,2,   2301.0,2,   7.6944,2,    25.00,     55.3,2,     -999,9,     -999,9,     -999,9,   0.9189,2,     -999,9,     -999,9,     -999,    13.35,2,     -999,1,     -999,9,     -999,     -999,9,20150908,1558,    485.5,  89.3197,-149.0815,     -999,1,  35.0602,2
33HQ20150809  ,ARC01      ,35      ,  1,15         ,    6240,    -999,GSNIS-15   ,2,20150908,1445,  89.3269,-149.2803,     3312,    593.6,   0.6204,  34.8966,2,  34.8961,2,    303.8,2,    303.7,2,     5.47,2,    11.89,2,     0.00,2,     0.80,2,    5.116,2,    2.649,2,    0.379,2,    1.966,2,     -999,9,   2301.4,2,   7.6870,2,    25.00,     54.8,2,     -999,9,     -999,9,     -999,9,   0.6209,2,     -999,9,     -999,9,     -999,    13.19,2,     -999,9,     -999,9,     -999,     -999,9,20150908,1555,    586.4,  89.3200,-149.0891,     -999,1,  35.0606,2
33HQ20150809  ,ARC01      ,35      ,  1,14         ,    6240,    -999,GSNIS-14   ,2,20150908,1445,  89.3269,-149.2803,     3312,    710.2,   0.3146,  34.8935,2,  34.8907,2,    304.4,2,    305.4,2,     5.57,2,    11.82,2,     0.00,2,     0.81,2,    4.938,2,    2.493,2,    0.357,2,    1.832,2,     -999,9,   2301.8,2,   7.6827,2,    25.00,     52.7,2,     -999,9,     -999,9,     -999,9,   0.3141,2,     -999,9,     -999,9,     -999,    12.86,2,     -999,9,     -999,9,     -999,     -999,9,20150908,1551,    701.3,  89.3204,-149.0974,     -999,1,  35.0553,2
33HQ20150809  ,ARC01      ,35      ,  1,13         ,    6240,    -999,GSNIS-13   ,2,20150908,1445,  89.3269,-149.2803,     3312,    862.3,   0.1123,  34.8991,2,  34.8976,2,    305.3,2,    304.3,2,     5.96,2,    11.94,2,     0.00,2,     0.82,2,    4.637,2,    2.367,2,    0.334,2,    1.713,2,   2169.9,2,   2303.6,2,   7.6823,2,    25.00,     52.7,2,     -999,9,     -999,9,     -999,9,   0.1112,2,     -999,9,     -999,9,     -999,    13.49,2,     -999,9,     -999,9,     -999,     -999,9,20150908,1547,    851.3,  89.3208,-149.1060,     -999,1,  35.0622,2
33HQ20150809  ,ARC01      ,35      ,  1,12         ,    6240,    -999,GSNIS-12   ,2,20150908,1445,  89.3269,-149.2803,     3312,   1014.6,  -0.0355,  34.9059,2,  34.9049,2,    304.4,2,    304.7,2,     6.35,2,    12.16,2,     0.00,2,     0.85,2,    4.349,2,    2.195,2,    0.317,2,    1.659,2,     -999,9,   2297.9,2,   7.6811,2,    25.00,     53.8,2,     -999,9,     -999,9,     -999,9,  -0.0345,2,     -999,9,     -999,9,     -999,    13.57,2,     -999,9,     -999,9,     -999,     -999,9,20150908,1543,   1001.2,  89.3212,-149.1148,     -999,1,  35.0695,2
33HQ20150809  ,ARC01      ,35      ,  1,11         ,    6240,    -999,GSNIS-11   ,2,20150908,1445,  89.3269,-149.2803,     3312,   1166.3,  -0.1765,  34.9104,2,  34.9098,2,    303.3,2,    303.1,2,     7.13,2,    12.56,2,     0.00,2,     0.87,2,    3.724,2,    1.885,2,    0.265,2,    1.384,2,     -999,9,   2301.8,2,   7.6851,2,    25.00,     51.6,2,     -999,9,     -999,9,     -999,9,  -0.1769,2,     -999,9,     -999,9,     -999,    14.59,2,     -999,9,     -999,9,     -999,     -999,9,20150908,1539,   1150.6,  89.3217,-149.1257,     -999,1,  35.0744,2
33HQ20150809  ,ARC01      ,35      ,  1,10         ,    6240,    -999,GSNIS-10   ,2,20150908,1445,  89.3269,-149.2803,     3312,   1365.7,  -0.3192,  34.9157,2,  34.9141,2,    302.7,2,    299.8,2,     8.30,2,    13.18,2,     0.00,2,     0.92,2,    2.230,2,    1.123,2,    0.150,2,    0.741,2,   2159.4,2,   2300.8,2,   7.7047,2,    25.00,     51.0,2,     -999,9,     -999,9,     -999,9,  -0.3196,2,     -999,9,     -999,9,     -999,    13.81,2,     -999,9,     -999,9,     -999,     -999,9,20150908,1534,   1346.7,  89.3221,-149.1368,     -999,1,  35.0788,2
33HQ20150809  ,ARC01      ,35      ,  1,9          ,    6240,    -999,GSNIS-9    ,2,20150908,1445,  89.3269,-149.2803,     3312,   1573.0,  -0.4172,  34.9210,2,  34.9196,2,    299.4,2,    299.1,2,     9.28,2,    13.58,2,     0.00,2,     0.94,2,    1.873,2,    0.941,2,    0.127,2,    0.622,2,     -999,9,   2300.8,2,   7.7083,2,    25.00,     48.6,2,     -999,9,     -999,9,     -999,9,  -0.4171,2,     -999,9,     -999,9,     -999,    14.41,2,     -999,9,     -999,9,     -999,     -999,9,20150908,1529,   1550.3,  89.3226,-149.1486,     -999,1,  35.0843,2
33HQ20150809  ,ARC01      ,35      ,  1,8          ,    6240,    -999,GSNIS-8    ,2,20150908,1445,  89.3269,-149.2803,     3312,   1776.2,  -0.4769,  34.9245,2,  34.9232,2,    297.4,2,    297.5,2,    10.06,2,    13.88,2,     0.00,2,     0.96,2,    1.498,2,    0.739,2,    0.101,2,    0.487,2,     -999,9,   2299.5,2,   7.8074,4,    25.00,     48.9,2,     -999,9,     -999,9,     -999,9,  -0.4768,2,     -999,9,     -999,9,     -999,    15.04,2,     -999,9,     -999,9,     -999,     -999,9,20150908,1524,   1749.7,  89.3231,-149.1628,     -999,1,  35.0878,2
33HQ20150809  ,ARC01      ,35      ,  1,7          ,    6240,    -999,GSNIS-7    ,2,20150908,1445,  89.3269,-149.2803,     3312,   1980.9,  -0.5612,  34.9224,2,  34.9230,2,    296.5,2,    297.4,2,    10.45,2,    14.14,2,     0.00,2,     0.97,2,    1.359,2,    0.660,2,    0.081,2,    0.413,2,   2158.8,2,   2300.0,2,   7.7080,2,    25.00,     49.0,2,     -999,9,     -999,9,     -999,9,  -0.5612,2,     -999,9,     -999,9,     -999,    14.96,2,     -999,9,     -999,9,     -999,     -999,9,20150908,1519,   1950.4,  89.3237,-149.1734,     -999,1,  35.0876,2
33HQ20150809  ,ARC01      ,35      ,  1,6          ,    6240,    -999,GSNIS-6    ,2,20150908,1445,  89.3269,-149.2803,     3312,   2236.6,  -0.6361,  34.9236,3,  34.9224,2,    297.7,2,    297.3,2,    10.65,2,    14.32,2,     0.00,2,     0.97,2,    1.018,2,    0.478,2,    0.057,2,    0.289,2,     -999,9,   2301.6,2,   7.7097,2,    25.00,     48.0,2,     -999,9,     -999,9,     -999,9,  -0.6362,2,     -999,9,     -999,9,     -999,    15.28,2,     -999,9,     -999,9,     -999,     -999,9,20150908,1513,   2200.8,  89.3243,-149.1897,     -999,1,  35.0870,2
33HQ20150809  ,ARC01      ,35      ,  1,5          ,    6240,    -999,GSNIS-5    ,2,20150908,1445,  89.3269,-149.2803,     3312,   2491.6,  -0.7275,  34.9246,3,  34.9227,2,    298.5,2,    298.9,2,    10.74,2,    14.42,2,     0.00,2,     0.99,2,    0.706,2,    0.330,2,    0.041,2,    0.175,2,     -999,9,   2300.4,2,   7.7108,2,    25.00,     49.9,2,     -999,9,     -999,9,     -999,9,  -0.7266,2,     -999,9,     -999,9,     -999,    14.34,2,     -999,9,     -999,9,     -999,     -999,9,20150908,1507,   2450.3,  89.3249,-149.2109,     -999,1,  35.0874,2
33HQ20150809  ,ARC01      ,35      ,  1,4          ,    6240,    -999,GSNIS-4    ,2,20150908,1445,  89.3269,-149.2803,     3312,   2747.0,  -0.7392,  34.9277,3,  34.9265,2,    297.9,2,    298.8,2,    10.84,2,    14.47,2,     0.00,2,     0.98,2,    0.510,2,    0.233,2,    0.029,2,    0.074,2,   2154.3,2,   2299.9,6,   7.7188,2,    25.00,     49.4,2,     -999,9,     -999,9,     -999,9,  -0.7392,2,     -999,9,     -999,9,     -999,    16.78,2,     -999,9,     -999,9,     -999,     -999,9,20150908,1500,   2699.8,  89.3255,-149.2324,     -999,1,  35.0912,2