BOTTLE,20221220CCHSIOAMB
EXPOCODE,SECT_ID,STNNBR,CASTNO,SAMPNO,GEOTR_EVENT,GEOTR_SAMPNO,BTLNBR,BTLNBR_FLAG_W,DATE,TIME,LATITUDE,LONGITUDE,DEPTH,CTDPRS,CTDTMP,CTDSAL,CTDSAL_FLAG_W,SALNTY,SALNTY_FLAG_W,CTDOXY,CTDOXY_FLAG_W,OXYGEN,OXYGEN_FLAG_W,SILCAT,SILCAT_FLAG_W,NITRAT,NITRAT_FLAG_W,NITRIT,NITRIT_FLAG_W,PHSPHT,PHSPHT_FLAG_W,CFC-11,CFC-11_FLAG_W,CFC-12,CFC-12_FLAG_W,CFC113,CFC113_FLAG_W,SF6,SF6_FLAG_W,TCARBN,TCARBN_FLAG_W,ALKALI,ALKALI_FLAG_W,PH_SWS,PH_SWS_FLAG_W,PH_TMP,DOC,DOC_FLAG_W,TRITUM,TRITUM_FLAG_W,HELIUM,HELIUM_FLAG_W,DELHE3,DELHE3_FLAG_W,REFTMP,REFTMP_FLAG_W,DELC13,DELC13_FLAG_W,DELC14,DELC14_FLAG_W,C14ERR,TDN,TDN_FLAG_W,DELO18,DELO18_FLAG_W,DELO17,DELO17_FLAG_W,CH4,CH4,CH4_FLAG_W,BTL_DATE,BTL_TIME,CTDDEPTH,BTL_LAT,BTL_LON,LAB_DEN,LAB_DEN_FLAG_W,SALTREF,SALTREF_FLAG_W
,,,,,,,,,,,,,METERS,DBAR,ITS-90,PSS-78,,PSS-78,,UMOL/KG,,UMOL/KG,,UMOL/KG,,UMOL/KG,,UMOL/KG,,UMOL/KG,,PMOL/KG,,PMOL/KG,,PMOL/KG,,FMOL/KG,,UMOL/KG,,UMOL/KG,,,,DEG C,UMOL/KG,,TU,,NMOL/KG,,PERCNT,,ITS-90,,/MILLE,,/MILLE,,/MILLE,UMOL/KG,,/MILLE,,/MILLE,,NMOL/KG,NMOL/L,,,,METERS,,,KG/M^3,,G/KG,
33HQ20150809  ,ARC01      ,11      ,  1,26         ,    6099,    -999,GSNIS-26   ,2,20150820,0314,  75.4494,-170.5638,      358,      2.6,  -0.7858,  24.5512,2,  24.5601,2,    385.0,2,    385.7,2,     2.76,2,     0.01,2,     0.00,2,     0.51,2,    6.904,2,    3.801,2,    0.673,2,    3.753,2,   1690.0,2,   1751.4,6,   7.6769,2,    25.00,     68.3,2,     -999,9,     -999,9,     -999,9,  -0.7986,2,     1.47,6,     -999,1,     -999,     3.48,2,     -999,1,     -999,9,     -999,     -999,9,20150820,0406,      2.6,  75.4453,-170.5906,     -999,9,  24.6759,2
33HQ20150809  ,ARC01      ,11      ,  1,25         ,    6099,    -999,GSNIS-25   ,2,20150820,0314,  75.4494,-170.5638,      358,     16.6,  -0.4789,  27.8901,2,  28.0538,2,    393.6,2,    393.2,2,     2.65,2,     0.00,2,     0.00,2,     0.61,2,    7.124,2,    3.886,2,    0.668,2,    3.502,2,   1917.8,2,   2001.4,2,   7.6862,2,    25.00,     71.6,2,     -999,9,     -999,9,     -999,9,  -0.4844,2,     -999,9,     -999,9,     -999,     2.83,2,     -999,1,     -999,9,     -999,     -999,9,20150820,0404,     16.4,  75.4455,-170.5893,     -999,9,  28.1861,2
33HQ20150809  ,ARC01      ,11      ,  1,24         ,    6099,    -999,GSNIS-24   ,2,20150820,0314,  75.4494,-170.5638,      358,     27.1,  -0.8095,  29.3836,2,  29.5111,2,    399.0,2,    397.5,2,     2.84,2,     0.00,2,     0.00,2,     0.66,2,    7.194,2,    3.930,2,    0.660,2,    3.315,2,   2002.2,2,   2097.5,2,   7.6930,2,    25.00,     76.5,2,     -999,9,     -999,9,     -999,9,  -0.8098,2,     -999,9,     -999,9,     -999,     4.39,2,     -999,1,     -999,9,     -999,     -999,9,20150820,0403,     26.8,  75.4456,-170.5887,     -999,9,  29.6502,2
33HQ20150809  ,ARC01      ,11      ,  1,23         ,    6099,    -999,GSNIS-23   ,2,20150820,0314,  75.4494,-170.5638,      358,     47.4,  -0.2851,  30.8376,2,  30.9144,2,    379.4,2,    379.7,2,     5.09,2,     0.11,2,     0.01,2,     0.77,2,    6.716,2,    3.655,2,    0.554,2,    2.804,2,   2058.3,2,   2172.3,2,   7.7280,2,    25.00,     71.7,2,     -999,9,     -999,9,     -999,9,  -0.2920,2,     -999,9,     -999,9,     -999,     3.62,2,     -999,1,     -999,9,     -999,     -999,9,20150820,0401,     46.9,  75.4457,-170.5876,     -999,9,  31.0602,2
33HQ20150809  ,ARC01      ,11      ,  1,22         ,    6099,    -999,GSNIS-22   ,2,20150820,0314,  75.4494,-170.5638,      358,     67.9,  -0.7207,  31.7239,2,  31.7491,2,    333.5,2,    333.9,2,    13.80,2,     6.46,2,     0.03,2,     1.22,2,    6.477,2,    3.472,2,    0.505,2,    2.605,2,   2113.3,2,   2201.2,2,   7.6263,2,    25.00,     69.8,2,     -999,9,     -999,9,     -999,9,  -0.7225,2,     -999,9,     -999,9,     -999,    10.58,2,     -999,1,     -999,9,     -999,     -999,9,20150820,0359,     67.2,  75.4459,-170.5866,     -999,9,  31.8988,2
33HQ20150809  ,ARC01      ,11      ,  1,21         ,    6099,    -999,GSNIS-21   ,2,20150820,0314,  75.4494,-170.5638,      358,     78.4,  -0.9999,  31.9861,2,  32.0269,2,    319.6,2,    317.4,2,    17.91,2,     9.03,2,     0.02,2,     1.41,2,    6.475,2,    3.506,2,    0.488,2,    2.437,2,   2142.2,2,   2216.6,2,   7.5470,2,    25.00,     -999,9,     -999,9,     -999,9,     -999,9,  -0.9991,2,     -999,9,     -999,9,     -999,     -999,9,     -999,1,     -999,9,     -999,     -999,9,20150820,0358,     77.6,  75.4461,-170.5859,     -999,9,  32.1779,2
33HQ20150809  ,ARC01      ,11      ,  1,20         ,    6099,    -999,GSNIS-20   ,2,20150820,0314,  75.4494,-170.5638,      358,     88.4,  -1.1723,  32.1789,2,  32.1974,2,    311.1,2,    310.2,2,    21.23,2,    10.61,2,     0.01,2,     1.53,2,    6.445,2,    3.473,2,    0.477,2,    2.354,2,   2160.6,2,   2218.6,2,   7.5437,2,    25.00,     64.6,2,     -999,9,     -999,9,     -999,9,  -1.1722,2,     -999,9,     -999,9,     -999,    14.18,2,     -999,1,     -999,9,     -999,     -999,9,20150820,0356,     87.5,  75.4462,-170.5851,     -999,9,  32.3492,2
33HQ20150809  ,ARC01      ,11      ,  1,19         ,    6099,    -999,GSNIS-19   ,2,20150820,0314,  75.4494,-170.5638,      358,     98.6,  -1.2629,  32.2857,2,  32.3005,2,    306.4,2,    306.3,2,    23.39,2,    11.47,2,     0.00,2,     1.60,2,    6.433,2,    3.475,2,    0.478,2,    2.369,2,   2169.0,2,   2218.8,2,   7.5099,2,    25.00,     64.5,2,     -999,9,     -999,9,     -999,9,  -1.2629,2,     -999,9,     -999,9,     -999,    15.58,2,     -999,1,     -999,9,     -999,     -999,9,20150820,0354,     97.6,  75.4464,-170.5841,     -999,9,  32.4528,2
33HQ20150809  ,ARC01      ,11      ,  1,18         ,    6099,    -999,GSNIS-18   ,2,20150820,0314,  75.4494,-170.5638,      358,    109.2,  -1.3256,  32.4212,2,  32.4371,2,    301.7,2,    300.3,2,    25.44,2,    12.35,2,     0.00,2,     1.64,2,    6.386,2,    3.435,2,    0.470,2,    2.267,2,   2181.9,2,   2225.6,2,     -999,5,     -999,     63.3,2,     -999,9,     -999,9,     -999,9,  -1.3255,2,     -999,9,     -999,9,     -999,    15.45,2,     -999,1,     -999,9,     -999,     -999,9,20150820,0353,    108.1,  75.4466,-170.5834,     -999,9,  32.5900,2
33HQ20150809  ,ARC01      ,11      ,  1,17         ,    6099,    -999,GSNIS-17   ,2,20150820,0314,  75.4494,-170.5638,      358,    124.6,  -1.4153,  32.5828,2,  32.5956,2,    294.4,2,    295.9,2,    26.51,2,    13.01,2,     0.00,2,     1.68,2,    6.359,2,    3.426,2,    0.461,2,    2.283,2,   2194.3,6,   2239.6,2,   7.4922,6,    25.00,     -999,9,     -999,9,     -999,9,     -999,9,  -1.4151,2,     -999,9,     -999,9,     -999,     -999,9,     -999,1,     -999,9,     -999,     -999,9,20150820,0351,    123.2,  75.4467,-170.5827,     -999,9,  32.7493,2
33HQ20150809  ,ARC01      ,11      ,  1,16         ,    6099,    -999,GSNIS-16   ,3,20150820,0314,  75.4494,-170.5638,      358,    140.0,  -1.4563,  32.7163,2,  32.7479,2,    290.6,2,    288.9,2,    28.56,2,    13.92,2,     0.00,2,     1.76,2,    6.260,2,    3.328,2,    0.455,2,    2.218,2,   2208.1,2,   2250.5,2,   7.4715,2,    25.00,     65.0,2,     -999,9,     -999,9,     -999,9,  -1.4567,2,     -999,9,     -999,9,     -999,    19.21,2,     -999,1,     -999,9,     -999,     -999,9,20150820,0350,    138.5,  75.4469,-170.5819,     -999,9,  32.9023,2
33HQ20150809  ,ARC01      ,11      ,  1,15         ,    6099,    -999,GSNIS-15   ,2,20150820,0314,  75.4494,-170.5638,      358,    160.6,  -1.5111,  32.9777,2,     -999,5,    282.2,2,    284.3,2,    32.08,2,    14.95,2,     0.00,2,     1.79,2,    6.192,2,    3.288,2,    0.439,2,    2.157,2,   2223.0,2,   2263.0,2,   7.4539,2,    25.00,     -999,9,     -999,9,     -999,9,     -999,9,  -1.5112,2,     -999,9,     -999,9,     -999,     -999,9,     -999,1,     -999,9,     -999,     -999,9,20150820,0348,    158.9,  75.4471,-170.5811,     -999,9,     -999,5
33HQ20150809  ,ARC01      ,11      ,  1,14         ,    6099,    -999,GSNIS-14   ,2,20150820,0314,  75.4494,-170.5638,      358,    181.4,  -1.4458,  33.2862,2,  33.3339,2,    284.9,2,    285.8,2,    29.63,2,    14.39,2,     0.00,2,     1.66,2,    6.043,2,    3.183,2,    0.423,2,    2.020,2,   2225.8,2,   2272.3,2,   7.4808,2,    25.00,     64.3,2,     -999,9,     -999,9,     -999,9,  -1.4461,2,     -999,9,     -999,9,     -999,    18.83,2,     -999,1,     -999,9,     -999,     -999,9,20150820,0346,    179.4,  75.4472,-170.5803,     -999,9,  33.4910,2
33HQ20150809  ,ARC01      ,11      ,  1,13         ,    6099,    -999,GSNIS-13   ,2,20150820,0314,  75.4494,-170.5638,      358,    201.7,  -1.1014,  33.8455,2,  33.9010,2,    270.7,2,    271.1,2,    22.87,2,    13.61,2,     0.00,2,     1.36,2,    5.795,2,    2.906,2,    0.378,2,    1.368,2,   2216.2,2,   2282.8,2,   7.5228,2,    25.00,     -999,9,     -999,9,     -999,9,     -999,9,  -1.1010,2,     -999,9,     -999,9,     -999,     -999,9,     -999,1,     -999,9,     -999,     -999,9,20150820,0345,    199.5,  75.4474,-170.5796,     -999,9,  34.0608,2
33HQ20150809  ,ARC01      ,11      ,  1,12         ,    6099,    -999,GSNIS-12   ,2,20150820,0314,  75.4494,-170.5638,      358,    222.5,  -0.6777,  34.2434,2,  34.2707,2,    275.9,2,    275.8,2,    15.14,2,    12.47,2,     0.00,2,     1.08,2,    5.747,2,    2.801,2,    0.369,2,    1.136,2,   2191.9,2,   2280.5,2,   7.5878,2,    25.00,     59.5,2,     -999,9,     -999,9,     -999,9,  -0.6783,2,     -999,9,     -999,9,     -999,    16.05,2,     -999,1,     -999,9,     -999,     -999,9,20150820,0343,    220.0,  75.4476,-170.5787,     -999,9,  34.4323,2
33HQ20150809  ,ARC01      ,11      ,  1,11         ,    6099,    -999,GSNIS-11   ,2,20150820,0314,  75.4494,-170.5638,      358,    242.9,  -0.2644,  34.4544,2,  34.4606,2,    271.4,2,    271.1,2,    13.68,2,    12.55,2,     0.00,2,     1.03,2,    5.642,2,    2.754,2,    0.353,2,    1.145,2,   2187.1,2,   2284.2,2,   7.6070,2,    25.00,     60.0,2,     -999,9,     -999,9,     -999,9,  -0.2575,2,     -999,9,     -999,9,     -999,    15.14,2,     -999,1,     -999,9,     -999,     -999,9,20150820,0341,    240.3,  75.4477,-170.5779,     -999,9,  34.6231,2
33HQ20150809  ,ARC01      ,11      ,  1,10         ,    6099,    -999,GSNIS-10   ,2,20150820,0314,  75.4494,-170.5638,      358,    294.7,   0.4889,  34.7154,2,  34.7182,2,    276.8,2,    277.7,2,     9.96,2,    12.64,2,     0.00,2,     0.91,2,    5.511,2,    2.739,2,    0.370,2,    1.317,2,   2174.9,2,   2290.6,2,   7.6533,2,    25.00,     55.5,2,     -999,9,     -999,9,     -999,9,   0.4889,2,     -999,9,     -999,9,     -999,    14.67,2,     -999,1,     -999,9,     -999,     -999,9,20150820,0339,    291.4,  75.4479,-170.5770,     -999,9,  34.8819,2
33HQ20150809  ,ARC01      ,11      ,  1,9          ,    6099,    -999,GSNIS-9    ,2,20150820,0314,  75.4494,-170.5638,      358,    346.3,   0.7750,  34.7989,2,  34.8020,2,    291.4,2,    289.9,2,     6.64,2,    12.24,2,     0.00,2,     0.86,2,    5.504,2,    2.773,2,    0.401,2,    1.353,2,   2164.5,2,   2294.5,2,   7.6888,2,    25.00,     56.6,2,     -999,9,     -999,9,     -999,9,   0.7748,2,     -999,9,     -999,9,     -999,    14.77,2,     -999,1,     -999,9,     -999,     -999,9,20150820,0337,    342.4,  75.4481,-170.5760,     -999,9,  34.9661,2
33HQ20150809  ,ARC01      ,11      ,  1,8          ,    6099,    -999,GSNIS-8    ,2,20150820,0314,  75.4494,-170.5638,      358,    397.5,   0.9014,  34.8364,2,  34.8370,2,    293.9,2,    292.7,2,     6.35,2,    12.29,2,     0.00,2,     0.86,2,    5.441,2,    2.683,2,    0.387,2,    1.231,2,   2162.8,2,   2294.7,2,   7.6961,2,    25.00,     54.8,2,     -999,9,     -999,9,     -999,9,   0.9018,2,     -999,9,     -999,9,     -999,    15.82,2,     -999,1,     -999,9,     -999,     -999,9,20150820,0335,    393.0,  75.4484,-170.5747,     -999,9,  35.0013,2
33HQ20150809  ,ARC01      ,11      ,  1,7          ,    6099,    -999,GSNIS-7    ,2,20150820,0314,  75.4494,-170.5638,      358,    449.3,   0.8490,  34.8523,2,  34.8543,2,    296.3,2,    296.9,2,     6.15,2,    12.28,2,     0.00,2,     0.85,2,    5.442,2,    2.712,2,    0.389,2,    1.252,2,   2162.6,2,   2294.9,2,   7.6965,2,    25.00,     56.0,2,     -999,9,     -999,9,     -999,9,   0.8489,2,     -999,9,     -999,9,     -999,    16.36,2,     -999,1,     -999,9,     -999,     -999,9,20150820,0333,    444.1,  75.4485,-170.5738,     -999,9,  35.0187,2
33HQ20150809  ,ARC01      ,11      ,  1,6          ,    6099,    -999,GSNIS-6    ,3,20150820,0314,  75.4494,-170.5638,      358,    500.9,   0.6960,  34.8557,2,  34.8550,2,    298.0,2,    298.2,2,     6.06,2,    12.22,2,     0.00,2,     0.84,2,    5.357,2,    2.662,2,    0.381,2,    1.281,2,   2161.9,2,   2294.8,6,   7.6949,2,    25.00,     56.2,2,     -999,9,     -999,9,     -999,9,   0.6961,2,     -999,9,     -999,9,     -999,    15.21,2,     -999,1,     -999,9,     -999,     -999,9,20150820,0330,    495.1,  75.4487,-170.5726,     -999,9,  35.0193,2
33HQ20150809  ,ARC01      ,11      ,  1,5          ,    6099,    -999,GSNIS-5    ,2,20150820,0314,  75.4494,-170.5638,      358,    552.3,   0.5578,  34.8579,2,  34.8627,2,    299.1,2,    299.2,2,     6.06,2,    12.18,2,     0.00,2,     0.85,2,    5.324,2,    2.637,2,    0.374,2,    1.288,2,   2162.4,2,   2294.7,2,     -999,5,     -999,     58.4,2,     -999,9,     -999,9,     -999,9,   0.5576,2,     -999,9,     -999,9,     -999,    15.43,2,     -999,9,     -999,9,     -999,     -999,9,20150820,0328,    545.8,  75.4488,-170.5712,     -999,9,  35.0271,2
33HQ20150809  ,ARC01      ,11      ,  1,4          ,    6099,    -999,GSNIS-4    ,2,20150820,0314,  75.4494,-170.5638,      358,    619.1,   0.4175,  34.8603,2,  34.8604,2,    300.1,2,    300.5,2,     6.25,2,    12.19,2,     0.00,2,     0.86,2,    5.230,2,    2.574,2,    0.365,2,    1.195,2,   2163.2,2,   2295.9,2,   7.6945,2,    25.00,     57.0,2,     -999,9,     -999,9,     -999,9,   0.4184,2,     -999,9,     -999,9,     -999,    14.93,2,     -999,9,     -999,9,     -999,     -999,9,20150820,0326,    611.8,  75.4489,-170.5699,     -999,9,  35.0248,2
33HQ20150809  ,ARC01      ,11      ,  1,3          ,    6099,    -999,GSNIS-3    ,2,20150820,0314,  75.4494,-170.5638,      358,    722.0,   0.2050,  34.8640,2,  34.8640,2,    301.6,2,    302.1,2,     6.25,2,    12.12,2,     0.00,2,     0.84,2,    5.242,2,    2.597,2,    0.366,2,    1.235,2,   2167.6,2,   2296.2,2,   7.6888,6,    25.00,     56.8,2,     -999,9,     -999,9,     -999,9,   0.2053,2,     -999,9,     -999,9,     -999,    16.29,2,     -999,9,     -999,9,     -999,     -999,9,20150820,0322,    713.2,  75.4491,-170.5682,     -999,9,  35.0284,2
33HQ20150809  ,ARC01      ,11      ,  1,2          ,    6099,    -999,GSNIS-2    ,2,20150820,0314,  75.4494,-170.5638,      358,    824.9,   0.0902,  34.8683,2,  34.8684,2,    302.8,2,    302.7,2,     6.35,2,    12.12,2,     0.00,2,     0.85,2,    5.177,2,    2.549,2,    0.348,2,    1.317,2,   2166.7,6,   2297.1,6,   7.6865,2,    25.00,     58.1,2,     -999,9,     -999,9,     -999,9,   0.0904,2,     -999,9,     -999,9,     -999,    13.58,2,     -999,9,     -999,9,     -999,     -999,9,20150820,0319,    814.7,  75.4493,-170.5665,     -999,9,  35.0328,2
33HQ20150809  ,ARC01      ,11      ,  1,1          ,    6099,    -999,GSNIS-1    ,3,20150820,0314,  75.4494,-170.5638,      358,    880.1,  -0.0434,  34.8806,2,  34.8796,2,    301.7,2,    301.8,2,     7.52,2,    12.20,2,     0.04,2,     0.96,2,    5.073,2,    2.582,2,    0.359,2,   -9.000,4,   2174.7,2,   2290.9,2,     -999,5,     -999,     53.6,2,     -999,9,     -999,9,     -999,9,  -0.0432,2,     -999,9,     -999,9,     -999,    15.93,2,     -999,9,     -999,9,     -999,     -999,9,20150820,0316,    869.1,  75.4494,-170.5647,     -999,9,  35.0441,2
33HQ20150809  ,ARC01      ,12      , 25,25         ,    6091,   10758,SMBT       ,2,20150820,0730,  75.7792,-171.2333,     1881,      1.0,  -0.5465,  25.5521,2,  25.5817,2,     -999,9,     -999,9,     2.36,2,     0.00,2,     0.00,2,     0.56,2,     -999,9,     -999,9,     -999,9,     -999,9,     -999,9,     -999,9,     -999,9,     -999,     -999,9,     -999,9,     -999,9,     -999,9,     -999,9,     -999,9,     -999,9,     -999,     -999,9,     -999,9,     -999,9,     -999,     -999,9,20150820,0731,      1.0,  75.7792,-171.2334,     -999,9,  25.7024,2