BOTTLE,20221220CCHSIOAMB
EXPOCODE,SECT_ID,STNNBR,CASTNO,SAMPNO,GEOTR_EVENT,GEOTR_SAMPNO,BTLNBR,BTLNBR_FLAG_W,DATE,TIME,LATITUDE,LONGITUDE,DEPTH,CTDPRS,CTDTMP,CTDSAL,CTDSAL_FLAG_W,SALNTY,SALNTY_FLAG_W,CTDOXY,CTDOXY_FLAG_W,OXYGEN,OXYGEN_FLAG_W,SILCAT,SILCAT_FLAG_W,NITRAT,NITRAT_FLAG_W,NITRIT,NITRIT_FLAG_W,PHSPHT,PHSPHT_FLAG_W,CFC-11,CFC-11_FLAG_W,CFC-12,CFC-12_FLAG_W,CFC113,CFC113_FLAG_W,SF6,SF6_FLAG_W,TCARBN,TCARBN_FLAG_W,ALKALI,ALKALI_FLAG_W,PH_SWS,PH_SWS_FLAG_W,PH_TMP,DOC,DOC_FLAG_W,TRITUM,TRITUM_FLAG_W,HELIUM,HELIUM_FLAG_W,DELHE3,DELHE3_FLAG_W,REFTMP,REFTMP_FLAG_W,DELC13,DELC13_FLAG_W,DELC14,DELC14_FLAG_W,C14ERR,TDN,TDN_FLAG_W,DELO18,DELO18_FLAG_W,DELO17,DELO17_FLAG_W,CH4,CH4,CH4_FLAG_W,BTL_DATE,BTL_TIME,CTDDEPTH,BTL_LAT,BTL_LON,LAB_DEN,LAB_DEN_FLAG_W,SALTREF,SALTREF_FLAG_W
,,,,,,,,,,,,,METERS,DBAR,ITS-90,PSS-78,,PSS-78,,UMOL/KG,,UMOL/KG,,UMOL/KG,,UMOL/KG,,UMOL/KG,,UMOL/KG,,PMOL/KG,,PMOL/KG,,PMOL/KG,,FMOL/KG,,UMOL/KG,,UMOL/KG,,,,DEG C,UMOL/KG,,TU,,NMOL/KG,,PERCNT,,ITS-90,,/MILLE,,/MILLE,,/MILLE,UMOL/KG,,/MILLE,,/MILLE,,NMOL/KG,NMOL/L,,,,METERS,,,KG/M^3,,G/KG,
33HQ20150809  ,ARC01      ,19      ,  4,36         ,    6126,   10923,GSNIS-36   ,2,20150824,0444,  79.9796,-175.0156,     1992,      5.1,  -1.3945,  27.4450,2,     -999,9,    379.0,2,     -999,9,     2.45,2,     0.01,2,     0.00,2,     0.57,2,     -999,9,     -999,9,     -999,9,     -999,9,     -999,9,     -999,9,     -999,9,     -999,     -999,9,     -999,9,     -999,9,     -999,9,  -1.3887,2,     -999,9,     -999,9,     -999,     -999,9,     -999,9,     -999,9,     -999,     -999,9,20150824,0515,      5.0,  79.9797,-175.0182,     -999,9,     -999,9
33HQ20150809  ,ARC01      ,19      ,  4,35         ,    6126,   10923,GSNIS-35   ,2,20150824,0444,  79.9796,-175.0156,     1992,      5.1,  -1.3956,  27.4449,2,     -999,9,    379.0,2,     -999,9,     2.45,2,     0.00,2,     0.00,2,     0.59,2,     -999,9,     -999,9,     -999,9,     -999,9,     -999,9,     -999,9,     -999,9,     -999,     -999,9,     -999,9,     -999,9,     -999,9,  -1.3921,2,     -999,9,     -999,9,     -999,     -999,9,     -999,9,     -999,9,     -999,     -999,9,20150824,0514,      5.0,  79.9797,-175.0182,     -999,9,     -999,9
33HQ20150809  ,ARC01      ,19      ,  4,34         ,    6126,   10923,GSNIS-34   ,2,20150824,0444,  79.9796,-175.0156,     1992,      5.1,  -1.3856,  27.4474,2,  27.5992,2,    379.4,2,    381.5,2,     2.45,2,     0.00,2,     0.00,2,     0.59,2,     -999,9,     -999,9,     -999,9,     -999,9,     -999,9,     -999,9,     -999,9,     -999,     -999,9,     -999,9,     -999,9,     -999,9,  -1.3857,2,     -999,9,     -999,9,     -999,     -999,9,     -999,9,     -999,9,     -999,     -999,9,20150824,0514,      5.0,  79.9797,-175.0182,     -999,9,  27.7293,2
33HQ20150809  ,ARC01      ,19      ,  4,31         ,    6126,   10922,GSNIS-31   ,2,20150824,0444,  79.9796,-175.0156,     1992,     25.0,  -1.2255,  30.1422,2,  30.0908,2,    395.8,2,    397.9,2,     2.45,2,     0.00,2,     0.00,2,     0.64,2,     -999,9,     -999,9,     -999,9,     -999,9,     -999,9,     -999,9,     -999,9,     -999,     -999,9,     -999,9,     -999,9,     -999,9,  -1.2207,2,     -999,9,     -999,9,     -999,     -999,9,     -999,9,     -999,9,     -999,     -999,9,20150824,0511,     24.8,  79.9796,-175.0179,     -999,9,  30.2327,2
33HQ20150809  ,ARC01      ,19      ,  4,33         ,    6126,   10922,GSNIS-33   ,2,20150824,0444,  79.9796,-175.0156,     1992,     25.1,  -1.1994,  30.0425,2,     -999,9,    395.2,2,     -999,9,     2.35,2,     0.00,2,     0.00,2,     0.64,2,     -999,9,     -999,9,     -999,9,     -999,9,     -999,9,     -999,9,     -999,9,     -999,     -999,9,     -999,9,     -999,9,     -999,9,  -1.2065,2,     -999,9,     -999,9,     -999,     -999,9,     -999,9,     -999,9,     -999,     -999,9,20150824,0511,     24.8,  79.9796,-175.0180,     -999,9,     -999,9
33HQ20150809  ,ARC01      ,19      ,  4,32         ,    6126,   10922,GSNIS-32   ,2,20150824,0444,  79.9796,-175.0156,     1992,     25.1,  -1.2033,  30.0611,2,     -999,9,    395.2,2,     -999,9,     2.35,2,     0.01,2,     0.00,2,     0.65,2,     -999,9,     -999,9,     -999,9,     -999,9,     -999,9,     -999,9,     -999,9,     -999,     -999,9,     -999,9,     -999,9,     -999,9,  -1.2081,2,     -999,9,     -999,9,     -999,     -999,9,     -999,9,     -999,9,     -999,     -999,9,20150824,0511,     24.8,  79.9796,-175.0179,     -999,9,     -999,9
33HQ20150809  ,ARC01      ,19      ,  4,28         ,    6126,   10921,GSNIS-28   ,2,20150824,0444,  79.9796,-175.0156,     1992,     38.2,  -1.0652,  31.1585,2,  30.9959,2,    398.7,2,    398.7,2,     3.72,2,     0.05,2,     0.01,2,     0.72,2,     -999,9,     -999,9,     -999,9,     -999,9,     -999,9,     -999,9,     -999,9,     -999,     -999,9,     -999,9,     -999,9,     -999,9,  -1.0667,2,     -999,9,     -999,9,     -999,     -999,9,     -999,9,     -999,9,     -999,     -999,9,20150824,0509,     37.8,  79.9796,-175.0178,     -999,9,  31.1421,2
33HQ20150809  ,ARC01      ,19      ,  4,30         ,    6126,   10921,GSNIS-30   ,2,20150824,0444,  79.9796,-175.0156,     1992,     38.2,  -1.0684,  31.1306,2,     -999,9,    400.1,2,     -999,9,     4.11,2,     0.10,2,     0.01,2,     0.73,2,     -999,9,     -999,9,     -999,9,     -999,9,     -999,9,     -999,9,     -999,9,     -999,     -999,9,     -999,9,     -999,9,     -999,9,  -1.0691,2,     -999,9,     -999,9,     -999,     -999,9,     -999,9,     -999,9,     -999,     -999,9,20150824,0509,     37.8,  79.9796,-175.0178,     -999,9,     -999,9
33HQ20150809  ,ARC01      ,19      ,  4,29         ,    6126,   10921,GSNIS-29   ,2,20150824,0444,  79.9796,-175.0156,     1992,     38.2,  -1.0808,  31.0869,2,     -999,9,    400.1,2,     -999,9,     3.92,2,     0.09,2,     0.01,2,     0.74,2,     -999,9,     -999,9,     -999,9,     -999,9,     -999,9,     -999,9,     -999,9,     -999,     -999,9,     -999,9,     -999,9,     -999,9,  -1.0661,2,     -999,9,     -999,9,     -999,     -999,9,     -999,9,     -999,9,     -999,     -999,9,20150824,0509,     37.8,  79.9796,-175.0178,     -999,9,     -999,9
33HQ20150809  ,ARC01      ,19      ,  4,26         ,    6126,   10920,GSNIS-26   ,2,20150824,0444,  79.9796,-175.0156,     1992,     48.4,  -1.1208,  31.4765,2,     -999,9,    369.2,2,     -999,9,    13.61,2,     4.57,2,     0.12,2,     1.10,2,     -999,9,     -999,9,     -999,9,     -999,9,     -999,9,     -999,9,     -999,9,     -999,     -999,9,     -999,9,     -999,9,     -999,9,  -1.0897,4,     -999,9,     -999,9,     -999,     -999,9,     -999,9,     -999,9,     -999,     -999,9,20150824,0507,     47.9,  79.9796,-175.0176,     -999,9,     -999,9
33HQ20150809  ,ARC01      ,19      ,  4,27         ,    6126,   10920,GSNIS-27   ,2,20150824,0444,  79.9796,-175.0156,     1992,     48.4,  -1.1267,  31.4756,2,     -999,9,    369.2,2,     -999,9,    14.10,2,     4.87,2,     0.11,2,     1.12,2,     -999,9,     -999,9,     -999,9,     -999,9,     -999,9,     -999,9,     -999,9,     -999,     -999,9,     -999,9,     -999,9,     -999,9,  -1.1515,2,     -999,9,     -999,9,     -999,     -999,9,     -999,9,     -999,9,     -999,     -999,9,20150824,0507,     47.9,  79.9796,-175.0177,     -999,9,     -999,9
33HQ20150809  ,ARC01      ,19      ,  4,25         ,    6126,   10920,GSNIS-25   ,2,20150824,0444,  79.9796,-175.0156,     1992,     48.4,  -1.0912,  31.5380,2,  31.6493,2,    369.9,2,    350.7,2,    14.49,2,     5.17,2,     0.10,2,     1.12,2,     -999,9,     -999,9,     -999,9,     -999,9,     -999,9,     -999,9,     -999,9,     -999,     -999,9,     -999,9,     -999,9,     -999,9,  -1.1103,2,     -999,9,     -999,9,     -999,     -999,9,     -999,9,     -999,9,     -999,     -999,9,20150824,0507,     47.9,  79.9796,-175.0176,     -999,9,  31.7985,2
33HQ20150809  ,ARC01      ,19      ,  4,22         ,    6126,   10919,GSNIS-22   ,2,20150824,0444,  79.9796,-175.0156,     1992,     55.4,  -1.3417,  31.7723,2,  31.7902,2,    336.2,2,    338.2,2,    17.91,2,     7.15,2,     0.03,2,     1.27,2,     -999,9,     -999,9,     -999,9,     -999,9,     -999,9,     -999,9,     -999,9,     -999,     -999,9,     -999,9,     -999,9,     -999,9,  -1.3450,2,     -999,9,     -999,9,     -999,     -999,9,     -999,9,     -999,9,     -999,     -999,9,20150824,0505,     54.8,  79.9796,-175.0174,     -999,9,  31.9401,2
33HQ20150809  ,ARC01      ,19      ,  4,24         ,    6126,   10919,GSNIS-24   ,2,20150824,0444,  79.9796,-175.0156,     1992,     55.5,  -1.2955,  31.7165,2,     -999,9,    340.5,2,     -999,9,    18.11,2,     7.23,2,     0.03,2,     1.26,2,     -999,9,     -999,9,     -999,9,     -999,9,     -999,9,     -999,9,     -999,9,     -999,     -999,9,     -999,9,     -999,9,     -999,9,  -1.2982,2,     -999,9,     -999,9,     -999,     -999,9,     -999,9,     -999,9,     -999,     -999,9,20150824,0505,     54.9,  79.9796,-175.0174,     -999,9,     -999,9
33HQ20150809  ,ARC01      ,19      ,  4,23         ,    6126,   10919,GSNIS-23   ,2,20150824,0444,  79.9796,-175.0156,     1992,     55.5,  -1.3040,  31.7272,2,     -999,9,    338.3,2,     -999,9,    17.91,2,     7.08,2,     0.04,2,     1.24,2,     -999,9,     -999,9,     -999,9,     -999,9,     -999,9,     -999,9,     -999,9,     -999,     -999,9,     -999,9,     -999,9,     -999,9,  -1.3028,2,     -999,9,     -999,9,     -999,     -999,9,     -999,9,     -999,9,     -999,     -999,9,20150824,0505,     54.9,  79.9796,-175.0174,     -999,9,     -999,9
33HQ20150809  ,ARC01      ,19      ,  4,19         ,    6126,   10918,GSNIS-19   ,2,20150824,0444,  79.9796,-175.0156,     1992,     75.6,  -1.4246,  32.1332,2,  32.1448,2,    317.6,2,    317.0,2,    26.22,2,    10.57,2,     0.02,2,     1.52,2,     -999,9,     -999,9,     -999,9,     -999,9,     -999,9,     -999,9,     -999,9,     -999,     -999,9,     -999,9,     -999,9,     -999,9,  -1.4305,2,     -999,9,     -999,9,     -999,     -999,9,     -999,9,     -999,9,     -999,     -999,9,20150824,0503,     74.8,  79.9796,-175.0172,     -999,9,  32.2963,2
33HQ20150809  ,ARC01      ,19      ,  4,20         ,    6126,   10918,GSNIS-20   ,2,20150824,0444,  79.9796,-175.0156,     1992,     75.6,  -1.4033,  32.0780,2,     -999,9,    322.7,2,     -999,9,    26.13,2,    10.56,2,     0.02,2,     1.50,2,     -999,9,     -999,9,     -999,9,     -999,9,     -999,9,     -999,9,     -999,9,     -999,     -999,9,     -999,9,     -999,9,     -999,9,  -1.4129,2,     -999,9,     -999,9,     -999,     -999,9,     -999,9,     -999,9,     -999,     -999,9,20150824,0503,     74.8,  79.9796,-175.0173,     -999,9,     -999,9
33HQ20150809  ,ARC01      ,19      ,  4,21         ,    6126,   10918,GSNIS-21   ,2,20150824,0444,  79.9796,-175.0156,     1992,     75.6,  -1.4035,  32.0750,2,     -999,9,    322.8,2,     -999,9,    26.32,2,    10.61,2,     0.02,2,     1.53,2,     -999,9,     -999,9,     -999,9,     -999,9,     -999,9,     -999,9,     -999,9,     -999,     -999,9,     -999,9,     -999,9,     -999,9,  -1.4035,2,     -999,9,     -999,9,     -999,     -999,9,     -999,9,     -999,9,     -999,     -999,9,20150824,0503,     74.8,  79.9796,-175.0173,     -999,9,     -999,9
33HQ20150809  ,ARC01      ,19      ,  4,16         ,    6126,   10917,GSNIS-16   ,2,20150824,0444,  79.9796,-175.0156,     1992,    101.0,  -1.4743,  32.4175,2,  32.4511,2,    306.1,2,    306.1,2,    30.82,2,    12.67,2,     0.02,2,     1.67,2,     -999,9,     -999,9,     -999,9,     -999,9,     -999,9,     -999,9,     -999,9,     -999,     -999,9,     -999,9,     -999,9,     -999,9,  -1.4746,2,     -999,9,     -999,9,     -999,     -999,9,     -999,9,     -999,9,     -999,     -999,9,20150824,0500,     99.9,  79.9796,-175.0170,     -999,9,  32.6041,2
33HQ20150809  ,ARC01      ,19      ,  4,18         ,    6126,   10917,GSNIS-18   ,2,20150824,0444,  79.9796,-175.0156,     1992,    101.0,  -1.4716,  32.4175,2,     -999,9,    306.1,2,     -999,9,    30.82,2,    12.64,2,     0.02,2,     1.65,2,     -999,9,     -999,9,     -999,9,     -999,9,     -999,9,     -999,9,     -999,9,     -999,     -999,9,     -999,9,     -999,9,     -999,9,  -1.4728,2,     -999,9,     -999,9,     -999,     -999,9,     -999,9,     -999,9,     -999,     -999,9,20150824,0500,     99.9,  79.9796,-175.0171,     -999,9,     -999,9
33HQ20150809  ,ARC01      ,19      ,  4,17         ,    6126,   10917,GSNIS-17   ,2,20150824,0444,  79.9796,-175.0156,     1992,    101.0,  -1.4702,  32.4181,2,     -999,9,    306.1,2,     -999,9,    30.72,2,    12.64,2,     0.02,2,     1.65,2,     -999,9,     -999,9,     -999,9,     -999,9,     -999,9,     -999,9,     -999,9,     -999,     -999,9,     -999,9,     -999,9,     -999,9,  -1.4730,2,     -999,9,     -999,9,     -999,     -999,9,     -999,9,     -999,9,     -999,     -999,9,20150824,0500,     99.9,  79.9796,-175.0171,     -999,9,     -999,9
33HQ20150809  ,ARC01      ,19      ,  4,13         ,    6126,   10916,GSNIS-13   ,2,20150824,0444,  79.9796,-175.0156,     1992,    126.3,  -1.5177,  32.6739,2,  32.7142,2,    300.6,2,    290.9,2,    33.94,2,    14.30,2,     0.00,2,     1.79,2,     -999,9,     -999,9,     -999,9,     -999,9,     -999,9,     -999,9,     -999,9,     -999,     -999,9,     -999,9,     -999,9,     -999,9,  -1.5164,2,     -999,9,     -999,9,     -999,     -999,9,     -999,9,     -999,9,     -999,     -999,9,20150824,0458,    124.9,  79.9796,-175.0168,     -999,9,  32.8685,2
33HQ20150809  ,ARC01      ,19      ,  4,15         ,    6126,   10916,GSNIS-15   ,2,20150824,0444,  79.9796,-175.0156,     1992,    126.3,  -1.5176,  32.6743,2,     -999,9,    300.6,2,     -999,9,    34.04,2,    14.31,2,     0.01,2,     1.79,2,     -999,9,     -999,9,     -999,9,     -999,9,     -999,9,     -999,9,     -999,9,     -999,     -999,9,     -999,9,     -999,9,     -999,9,  -1.5167,2,     -999,9,     -999,9,     -999,     -999,9,     -999,9,     -999,9,     -999,     -999,9,20150824,0458,    124.9,  79.9796,-175.0169,     -999,9,     -999,9
33HQ20150809  ,ARC01      ,19      ,  4,14         ,    6126,   10916,GSNIS-14   ,2,20150824,0444,  79.9796,-175.0156,     1992,    126.3,  -1.5175,  32.6753,2,     -999,9,    300.6,2,     -999,9,    33.94,2,    14.27,2,     0.01,2,     1.79,2,     -999,9,     -999,9,     -999,9,     -999,9,     -999,9,     -999,9,     -999,9,     -999,     -999,9,     -999,9,     -999,9,     -999,9,  -1.5163,2,     -999,9,     -999,9,     -999,     -999,9,     -999,9,     -999,9,     -999,     -999,9,20150824,0458,    124.9,  79.9796,-175.0168,     -999,9,     -999,9
33HQ20150809  ,ARC01      ,19      ,  4,12         ,    6126,   10915,GSNIS-12   ,2,20150824,0444,  79.9796,-175.0156,     1992,    151.6,  -1.5101,  33.0259,2,     -999,9,    277.7,2,     -999,9,    33.54,2,    14.81,2,     0.00,2,     1.77,2,     -999,9,     -999,9,     -999,9,     -999,9,     -999,9,     -999,9,     -999,9,     -999,     -999,9,     -999,9,     -999,9,     -999,9,  -1.5104,2,     -999,9,     -999,9,     -999,     -999,9,     -999,9,     -999,9,     -999,     -999,9,20150824,0455,    149.9,  79.9796,-175.0166,     -999,9,     -999,9
33HQ20150809  ,ARC01      ,19      ,  4,11         ,    6126,   10915,GSNIS-11   ,2,20150824,0444,  79.9796,-175.0156,     1992,    151.6,  -1.5098,  33.0254,2,     -999,9,    277.7,2,     -999,9,    33.64,2,    14.85,2,     0.00,2,     1.79,2,     -999,9,     -999,9,     -999,9,     -999,9,     -999,9,     -999,9,     -999,9,     -999,     -999,9,     -999,9,     -999,9,     -999,9,  -1.5105,2,     -999,9,     -999,9,     -999,     -999,9,     -999,9,     -999,9,     -999,     -999,9,20150824,0455,    149.9,  79.9796,-175.0166,     -999,9,     -999,9
33HQ20150809  ,ARC01      ,19      ,  4,10         ,    6126,   10915,GSNIS-10   ,2,20150824,0444,  79.9796,-175.0156,     1992,    151.6,  -1.5101,  33.0230,2,  33.0809,2,    277.7,2,    282.5,2,    33.64,2,    14.87,2,     0.00,2,     1.79,2,     -999,9,     -999,9,     -999,9,     -999,9,     -999,9,     -999,9,     -999,9,     -999,     -999,9,     -999,9,     -999,9,     -999,9,  -1.5105,2,     -999,9,     -999,9,     -999,     -999,9,     -999,9,     -999,9,     -999,     -999,9,20150824,0455,    149.9,  79.9796,-175.0166,     -999,9,  33.2369,2
33HQ20150809  ,ARC01      ,19      ,  4,8          ,    6126,   10914,GSNIS-8    ,2,20150824,0444,  79.9796,-175.0156,     1992,    171.7,  -1.3423,  33.4443,2,     -999,9,    274.9,2,     -999,9,    30.60,2,    14.60,2,     0.00,2,     1.62,2,     -999,9,     -999,9,     -999,9,     -999,9,     -999,9,     -999,9,     -999,9,     -999,     -999,9,     -999,9,     -999,9,     -999,9,  -1.3428,2,     -999,9,     -999,9,     -999,     -999,9,     -999,9,     -999,9,     -999,     -999,9,20150824,0453,    169.8,  79.9796,-175.0164,     -999,9,     -999,9
33HQ20150809  ,ARC01      ,19      ,  4,9          ,    6126,   10924,GSNIS-9    ,2,20150824,0444,  79.9796,-175.0156,     1992,    171.7,  -1.3425,  33.4430,2,     -999,9,    274.9,2,     -999,9,    30.30,2,    14.53,2,     0.00,2,     1.61,2,     -999,9,     -999,9,     -999,9,     -999,9,     -999,9,     -999,9,     -999,9,     -999,     -999,9,     -999,9,     -999,9,     -999,9,  -1.3411,2,     -999,9,     -999,9,     -999,     -999,9,     -999,9,     -999,9,     -999,     -999,9,20150824,0453,    169.8,  79.9796,-175.0164,     -999,9,     -999,9
33HQ20150809  ,ARC01      ,19      ,  4,7          ,    6126,   10914,GSNIS-7    ,2,20150824,0444,  79.9796,-175.0156,     1992,    171.7,  -1.3409,  33.4444,2,  33.6178,2,    274.9,2,    268.6,2,    30.30,2,    14.55,2,     0.00,2,     1.61,2,     -999,9,     -999,9,     -999,9,     -999,9,     -999,9,     -999,9,     -999,9,     -999,     -999,9,     -999,9,     -999,9,     -999,9,  -1.3420,2,     -999,9,     -999,9,     -999,     -999,9,     -999,9,     -999,9,     -999,     -999,9,20150824,0452,    169.8,  79.9796,-175.0163,     -999,9,  33.7763,2
33HQ20150809  ,ARC01      ,19      ,  4,6          ,    6126,   10913,GSNIS-6    ,2,20150824,0444,  79.9796,-175.0156,     1992,    252.5,   0.0556,  34.5965,2,     -999,9,    280.9,2,     -999,9,    10.55,2,    11.38,2,     0.00,2,     0.88,2,     -999,9,     -999,9,     -999,9,     -999,9,     -999,9,     -999,9,     -999,9,     -999,     -999,9,     -999,9,     -999,9,     -999,9,   0.0933,4,     -999,9,     -999,9,     -999,     -999,9,     -999,9,     -999,9,     -999,     -999,9,20150824,0449,    249.7,  79.9796,-175.0161,     -999,9,     -999,9
33HQ20150809  ,ARC01      ,19      ,  4,5          ,    6126,   10913,GSNIS-5    ,2,20150824,0444,  79.9796,-175.0156,     1992,    252.5,   0.1019,  34.6124,2,     -999,9,    280.8,2,     -999,9,    10.45,2,    11.39,2,     0.00,2,     0.88,2,     -999,9,     -999,9,     -999,9,     -999,9,     -999,9,     -999,9,     -999,9,     -999,     -999,9,     -999,9,     -999,9,     -999,9,   0.1005,2,     -999,9,     -999,9,     -999,     -999,9,     -999,9,     -999,9,     -999,     -999,9,20150824,0449,    249.7,  79.9796,-175.0161,     -999,9,     -999,9
33HQ20150809  ,ARC01      ,19      ,  4,4          ,    6126,   10913,GSNIS-4    ,2,20150824,0444,  79.9796,-175.0156,     1992,    252.5,   0.1197,  34.6166,2,  34.6106,2,    280.8,2,    280.7,2,    10.55,2,    11.39,2,     0.00,2,     0.89,2,     -999,9,     -999,9,     -999,9,     -999,9,     -999,9,     -999,9,     -999,9,     -999,     -999,9,     -999,9,     -999,9,     -999,9,   0.1378,2,     -999,9,     -999,9,     -999,     -999,9,     -999,9,     -999,9,     -999,     -999,9,20150824,0449,    249.7,  79.9796,-175.0160,     -999,9,  34.7738,2