BOTTLE,20221220CCHSIOAMB
EXPOCODE,SECT_ID,STNNBR,CASTNO,SAMPNO,GEOTR_EVENT,GEOTR_SAMPNO,BTLNBR,BTLNBR_FLAG_W,DATE,TIME,LATITUDE,LONGITUDE,DEPTH,CTDPRS,CTDTMP,CTDSAL,CTDSAL_FLAG_W,SALNTY,SALNTY_FLAG_W,CTDOXY,CTDOXY_FLAG_W,OXYGEN,OXYGEN_FLAG_W,SILCAT,SILCAT_FLAG_W,NITRAT,NITRAT_FLAG_W,NITRIT,NITRIT_FLAG_W,PHSPHT,PHSPHT_FLAG_W,CFC-11,CFC-11_FLAG_W,CFC-12,CFC-12_FLAG_W,CFC113,CFC113_FLAG_W,SF6,SF6_FLAG_W,TCARBN,TCARBN_FLAG_W,ALKALI,ALKALI_FLAG_W,PH_SWS,PH_SWS_FLAG_W,PH_TMP,DOC,DOC_FLAG_W,TRITUM,TRITUM_FLAG_W,HELIUM,HELIUM_FLAG_W,DELHE3,DELHE3_FLAG_W,REFTMP,REFTMP_FLAG_W,DELC13,DELC13_FLAG_W,DELC14,DELC14_FLAG_W,C14ERR,TDN,TDN_FLAG_W,DELO18,DELO18_FLAG_W,DELO17,DELO17_FLAG_W,CH4,CH4,CH4_FLAG_W,BTL_DATE,BTL_TIME,CTDDEPTH,BTL_LAT,BTL_LON,LAB_DEN,LAB_DEN_FLAG_W,SALTREF,SALTREF_FLAG_W
,,,,,,,,,,,,,METERS,DBAR,ITS-90,PSS-78,,PSS-78,,UMOL/KG,,UMOL/KG,,UMOL/KG,,UMOL/KG,,UMOL/KG,,UMOL/KG,,PMOL/KG,,PMOL/KG,,PMOL/KG,,FMOL/KG,,UMOL/KG,,UMOL/KG,,,,DEG C,UMOL/KG,,TU,,NMOL/KG,,PERCNT,,ITS-90,,/MILLE,,/MILLE,,/MILLE,UMOL/KG,,/MILLE,,/MILLE,,NMOL/KG,NMOL/L,,,,METERS,,,KG/M^3,,G/KG,
33HQ20150809  ,ARC01      ,49      ,  1,3          ,    6384,    -999,GSNIS-3    ,2,20150925,0428,  79.7500,-149.5632,     3878,   3447.3,  -0.2923,  34.9564,2,  34.9566,2,    283.3,2,    284.3,2,    13.38,2,    14.52,2,     0.00,2,     1.00,2,    0.015,2,    0.001,2,    0.001,2,    0.000,2,   2150.2,2,   2299.2,2,   7.7348,2,    25.00,     43.6,2,     -999,9,     -999,9,     -999,9,  -0.2924,2,     -999,9,     -999,9,     -999,    15.32,2,     -999,9,     -999,9,     -999,     -999,9,20150925,0438,   3383.2,  79.7514,-149.5625,     -999,9,  35.1215,2
33HQ20150809  ,ARC01      ,49      ,  1,2          ,    6384,    -999,GSNIS-2    ,2,20150925,0428,  79.7500,-149.5632,     3878,   3653.2,  -0.2727,  34.9563,2,  34.9568,2,    282.8,2,    337.7,4,    13.28,2,    14.53,2,     0.00,2,     1.00,2,    0.022,2,    0.008,2,    0.001,2,    0.000,2,   2151.2,2,   2300.9,6,   7.7360,2,    25.00,     44.6,2,     -999,9,     -999,9,     -999,9,  -0.2728,2,     -999,9,     -999,9,     -999,    15.17,2,     -999,9,     -999,9,     -999,     -999,9,20150925,0434,   3583.6,  79.7508,-149.5628,     -999,9,  35.1217,2
33HQ20150809  ,ARC01      ,49      ,  1,1          ,    6384,    -999,GSNIS-1    ,2,20150925,0428,  79.7500,-149.5632,     3878,   3877.6,  -0.2504,  34.9561,2,  34.9576,2,    283.5,2,    283.5,2,    13.28,2,    14.53,2,     0.00,2,     1.00,2,     -999,5,     -999,5,     -999,5,     -999,5,   2150.0,2,   2300.0,2,   7.7310,2,    25.00,     43.0,2,     -999,9,     -999,9,     -999,9,  -0.2502,2,     -999,9,     -999,9,     -999,    15.42,2,     -999,9,     -999,9,     -999,     -999,9,20150925,0429,   3801.8,  79.7501,-149.5632,     -999,9,  35.1224,2