BOTTLE,20221220CCHSIOAMB
EXPOCODE,SECT_ID,STNNBR,CASTNO,SAMPNO,GEOTR_EVENT,GEOTR_SAMPNO,BTLNBR,BTLNBR_FLAG_W,DATE,TIME,LATITUDE,LONGITUDE,DEPTH,CTDPRS,CTDTMP,CTDSAL,CTDSAL_FLAG_W,SALNTY,SALNTY_FLAG_W,CTDOXY,CTDOXY_FLAG_W,OXYGEN,OXYGEN_FLAG_W,SILCAT,SILCAT_FLAG_W,NITRAT,NITRAT_FLAG_W,NITRIT,NITRIT_FLAG_W,PHSPHT,PHSPHT_FLAG_W,CFC-11,CFC-11_FLAG_W,CFC-12,CFC-12_FLAG_W,CFC113,CFC113_FLAG_W,SF6,SF6_FLAG_W,TCARBN,TCARBN_FLAG_W,ALKALI,ALKALI_FLAG_W,PH_SWS,PH_SWS_FLAG_W,PH_TMP,DOC,DOC_FLAG_W,TRITUM,TRITUM_FLAG_W,HELIUM,HELIUM_FLAG_W,DELHE3,DELHE3_FLAG_W,REFTMP,REFTMP_FLAG_W,DELC13,DELC13_FLAG_W,DELC14,DELC14_FLAG_W,C14ERR,TDN,TDN_FLAG_W,DELO18,DELO18_FLAG_W,DELO17,DELO17_FLAG_W,CH4,CH4,CH4_FLAG_W,BTL_DATE,BTL_TIME,CTDDEPTH,BTL_LAT,BTL_LON,LAB_DEN,LAB_DEN_FLAG_W,SALTREF,SALTREF_FLAG_W
,,,,,,,,,,,,,METERS,DBAR,ITS-90,PSS-78,,PSS-78,,UMOL/KG,,UMOL/KG,,UMOL/KG,,UMOL/KG,,UMOL/KG,,UMOL/KG,,PMOL/KG,,PMOL/KG,,PMOL/KG,,FMOL/KG,,UMOL/KG,,UMOL/KG,,,,DEG C,UMOL/KG,,TU,,NMOL/KG,,PERCNT,,ITS-90,,/MILLE,,/MILLE,,/MILLE,UMOL/KG,,/MILLE,,/MILLE,,NMOL/KG,NMOL/L,,,,METERS,,,KG/M^3,,G/KG,
33HQ20150809  ,ARC01      ,50      ,  1,3          ,    6390,    -999,GSNIS-3    ,2,20150926,0643,  78.7493,-147.9550,     3810,   3407.4,  -0.2964,  34.9566,2,  34.9551,2,    284.6,2,    285.1,2,    13.38,2,    14.52,2,     0.00,2,     1.00,2,    0.018,2,    0.010,2,    0.000,2,    0.000,2,   2149.6,2,   2305.8,2,   7.7332,2,    25.00,     45.2,2,     -999,9,     -999,9,     -999,9,  -0.2963,2,     -999,9,     -999,9,     -999,    15.50,2,     -999,9,     -999,9,     -999,     -999,9,20150926,0654,   3344.6,  78.7511,-147.9572,     -999,9,  35.1200,2
33HQ20150809  ,ARC01      ,50      ,  1,2          ,    6390,    -999,GSNIS-2    ,2,20150926,0643,  78.7493,-147.9550,     3810,   3668.9,  -0.2714,  34.9564,2,  34.9549,2,    284.5,2,    284.7,2,    13.38,2,    14.53,2,     0.00,2,     1.00,2,    0.015,2,    0.007,2,    0.002,2,    0.000,2,   2151.9,2,   2302.3,6,   7.7375,2,    25.00,     45.0,2,     -999,9,     -999,9,     -999,9,  -0.2714,2,     -999,9,     -999,9,     -999,    13.94,2,     -999,9,     -999,9,     -999,     -999,9,20150926,0649,   3599.0,  78.7502,-147.9562,     -999,9,  35.1198,2
33HQ20150809  ,ARC01      ,50      ,  1,1          ,    6390,    -999,GSNIS-1    ,2,20150926,0643,  78.7493,-147.9550,     3810,   3882.4,  -0.2503,  34.9562,2,  34.9553,2,    285.0,2,    284.9,2,    13.38,2,    14.52,2,     0.00,2,     1.00,2,    0.018,2,    0.010,2,    0.000,2,    0.000,2,   2151.8,6,   2306.0,2,   7.7322,2,    25.00,     44.2,2,     -999,9,     -999,9,     -999,9,  -0.2500,2,     -999,9,     -999,9,     -999,    17.22,2,     -999,9,     -999,9,     -999,     -999,9,20150926,0644,   3806.7,  78.7494,-147.9552,     -999,9,  35.1202,2
33HQ20150809  ,ARC01      ,51      , 25,25         ,    6394,   11882,SMBT       ,2,20150926,1720,  78.1655,-147.8611,     3828,      1.0,  -1.4800,  27.7279,2,  27.7266,2,     -999,9,     -999,9,     2.65,2,     0.00,2,     0.00,2,     0.57,2,     -999,9,     -999,9,     -999,9,     -999,9,     -999,9,     -999,9,     -999,9,     -999,     -999,9,     -999,9,     -999,9,     -999,9,     -999,9,     -999,9,     -999,9,     -999,     -999,9,     -999,9,     -999,9,     -999,     -999,9,20150926,1725,      1.0,  78.1665,-147.8594,     -999,9,  27.8574,2