BOTTLE,20221220CCHSIOAMB
EXPOCODE,SECT_ID,STNNBR,CASTNO,SAMPNO,GEOTR_EVENT,GEOTR_SAMPNO,BTLNBR,BTLNBR_FLAG_W,DATE,TIME,LATITUDE,LONGITUDE,DEPTH,CTDPRS,CTDTMP,CTDSAL,CTDSAL_FLAG_W,SALNTY,SALNTY_FLAG_W,CTDOXY,CTDOXY_FLAG_W,OXYGEN,OXYGEN_FLAG_W,SILCAT,SILCAT_FLAG_W,NITRAT,NITRAT_FLAG_W,NITRIT,NITRIT_FLAG_W,PHSPHT,PHSPHT_FLAG_W,CFC-11,CFC-11_FLAG_W,CFC-12,CFC-12_FLAG_W,CFC113,CFC113_FLAG_W,SF6,SF6_FLAG_W,TCARBN,TCARBN_FLAG_W,ALKALI,ALKALI_FLAG_W,PH_SWS,PH_SWS_FLAG_W,PH_TMP,DOC,DOC_FLAG_W,TRITUM,TRITUM_FLAG_W,HELIUM,HELIUM_FLAG_W,DELHE3,DELHE3_FLAG_W,REFTMP,REFTMP_FLAG_W,DELC13,DELC13_FLAG_W,DELC14,DELC14_FLAG_W,C14ERR,TDN,TDN_FLAG_W,DELO18,DELO18_FLAG_W,DELO17,DELO17_FLAG_W,CH4,CH4,CH4_FLAG_W,BTL_DATE,BTL_TIME,CTDDEPTH,BTL_LAT,BTL_LON,LAB_DEN,LAB_DEN_FLAG_W,SALTREF,SALTREF_FLAG_W
,,,,,,,,,,,,,METERS,DBAR,ITS-90,PSS-78,,PSS-78,,UMOL/KG,,UMOL/KG,,UMOL/KG,,UMOL/KG,,UMOL/KG,,UMOL/KG,,PMOL/KG,,PMOL/KG,,PMOL/KG,,FMOL/KG,,UMOL/KG,,UMOL/KG,,,,DEG C,UMOL/KG,,TU,,NMOL/KG,,PERCNT,,ITS-90,,/MILLE,,/MILLE,,/MILLE,UMOL/KG,,/MILLE,,/MILLE,,NMOL/KG,NMOL/L,,,,METERS,,,KG/M^3,,G/KG,
33HQ20150809  ,ARC01      ,24      ,  1,33         ,    6144,    -999,GSNIS-33   ,2,20150826,2104,  82.4804, 174.9966,     2394,      2.4,  -1.4303,  27.8849,2,  27.8016,2,    387.9,2,    391.9,3,     2.65,2,     0.00,2,     0.00,2,     0.61,2,    6.961,2,    3.705,2,    0.653,2,    3.411,2,   1881.4,6,   1976.8,6,   7.7128,2,    25.00,     66.2,2,     -999,9,     -999,9,     -999,9,     -999,9,     1.54,2,     -999,1,     -999,     4.20,2,     -999,1,     -999,9,     -999,     -999,9,20150826,2217,      2.4,  82.4774, 174.9463,     -999,9,  27.9327,2
33HQ20150809  ,ARC01      ,24      ,  1,32         ,    6144,    -999,GSNIS-32   ,2,20150826,2104,  82.4804, 174.9966,     2394,     17.2,  -1.2830,  29.1690,2,  29.2382,2,    400.3,2,    399.0,2,     2.26,2,     0.00,2,     0.00,2,     0.66,2,     -999,9,     -999,9,     -999,9,     -999,9,     -999,9,   2068.8,2,   7.7154,2,    25.00,     70.0,2,     -999,9,     -999,9,     -999,9,  -1.2826,2,     -999,9,     -999,9,     -999,     4.45,2,     -999,1,     -999,9,     -999,     -999,9,20150826,2216,     17.0,  82.4774, 174.9476,     -999,9,  29.3761,2
33HQ20150809  ,ARC01      ,24      ,  1,31         ,    6144,    -999,GSNIS-31   ,2,20150826,2104,  82.4804, 174.9966,     2394,     27.8,  -1.2946,  29.9054,2,  29.9867,2,    400.2,2,    404.0,2,     2.55,2,     0.00,2,     0.00,2,     0.67,2,    6.901,2,    3.674,2,    0.641,2,    3.215,2,     -999,9,   2120.2,2,   7.7314,2,    25.00,     77.0,2,     -999,9,     -999,9,     -999,9,  -1.2906,2,     -999,9,     -999,9,     -999,     4.50,2,     -999,1,     -999,9,     -999,     -999,9,20150826,2214,     27.5,  82.4775, 174.9486,     -999,9,  30.1281,2
33HQ20150809  ,ARC01      ,24      ,  1,30         ,    6144,    -999,GSNIS-30   ,2,20150826,2104,  82.4804, 174.9966,     2394,     43.1,  -1.4439,  30.8756,2,  30.9545,2,    396.5,2,    394.1,2,     5.19,2,     0.48,2,     0.07,2,     0.76,2,     -999,9,     -999,9,     -999,9,     -999,9,     -999,9,   2168.8,2,   7.7101,2,    25.00,     71.3,2,     -999,9,     -999,9,     -999,9,  -1.4426,2,     -999,9,     -999,9,     -999,     5.96,2,     -999,1,     -999,9,     -999,     -999,9,20150826,2213,     42.7,  82.4775, 174.9497,     -999,9,  31.1004,2
33HQ20150809  ,ARC01      ,24      ,  1,29         ,    6144,    -999,GSNIS-29   ,2,20150826,2104,  82.4804, 174.9966,     2394,     63.5,  -1.5553,  31.7497,2,  31.7916,2,    327.7,2,    333.8,2,    18.01,2,     6.67,2,     0.02,2,     1.23,2,    6.397,2,    3.482,2,    0.585,2,    3.090,2,     -999,9,   2201.6,2,   7.5747,2,    25.00,     68.3,2,     -999,9,     -999,9,     -999,9,  -1.5531,2,     -999,9,     -999,9,     -999,    11.93,2,     -999,1,     -999,9,     -999,     -999,9,20150826,2211,     62.8,  82.4776, 174.9509,     -999,9,  31.9415,2
33HQ20150809  ,ARC01      ,24      ,  1,28         ,    6144,    -999,GSNIS-28   ,2,20150826,2104,  82.4804, 174.9966,     2394,     74.0,  -1.5584,  32.0996,2,  32.1815,2,    317.5,2,    312.6,2,    28.47,2,    10.74,2,     0.01,2,     1.56,2,     -999,9,     -999,9,     -999,9,     -999,9,     -999,9,   2217.1,2,   7.4911,2,    25.00,     66.6,2,     -999,9,     -999,9,     -999,9,  -1.5583,2,     -999,9,     -999,9,     -999,    14.55,2,     -999,1,     -999,9,     -999,     -999,9,20150826,2210,     73.2,  82.4776, 174.9518,     -999,9,  32.3332,2
33HQ20150809  ,ARC01      ,24      ,  1,27         ,    6144,    -999,GSNIS-27   ,2,20150826,2104,  82.4804, 174.9966,     2394,     85.8,  -1.5175,  32.3813,2,  32.4357,2,    295.1,2,    288.6,2,    35.02,2,    12.98,2,     0.01,2,     1.75,2,    6.170,2,    3.412,2,    0.534,2,    3.015,2,     -999,9,   2227.1,2,   7.4324,2,    25.00,     64.3,2,     -999,9,     -999,9,     -999,9,  -1.5171,2,     -999,9,     -999,9,     -999,    17.23,2,     -999,1,     -999,9,     -999,     -999,9,20150826,2208,     84.9,  82.4777, 174.9530,     -999,9,  32.5887,2
33HQ20150809  ,ARC01      ,24      ,  1,26         ,    6144,    -999,GSNIS-26   ,2,20150826,2104,  82.4804, 174.9966,     2394,     95.9,  -1.4775,  32.6357,2,  32.6765,2,    272.2,2,    267.4,2,    39.81,2,    14.37,2,     0.01,2,     1.89,2,     -999,9,     -999,9,     -999,9,     -999,9,     -999,9,   2232.2,2,   7.3765,2,    25.00,     64.7,2,     -999,9,     -999,9,     -999,9,  -1.4775,2,     -999,9,     -999,9,     -999,    18.89,2,     -999,1,     -999,9,     -999,     -999,9,20150826,2207,     94.9,  82.4777, 174.9538,     -999,9,  32.8305,2
33HQ20150809  ,ARC01      ,24      ,  1,25         ,    6144,    -999,GSNIS-25   ,2,20150826,2104,  82.4804, 174.9966,     2394,    106.4,  -1.4288,  33.0072,2,  33.0666,2,    253.1,2,    260.9,2,    38.14,2,    14.64,2,     0.01,2,     1.81,2,    6.102,2,    3.322,2,    0.434,2,    2.374,2,     -999,9,     -999,5,   7.3925,6,    25.00,     64.3,2,     -999,9,     -999,9,     -999,9,  -1.4290,2,     -999,9,     -999,9,     -999,    19.02,2,     -999,1,     -999,9,     -999,     -999,9,20150826,2206,    105.2,  82.4778, 174.9547,     -999,9,  33.2225,2
33HQ20150809  ,ARC01      ,24      ,  1,24         ,    6144,    -999,GSNIS-24   ,2,20150826,2104,  82.4804, 174.9966,     2394,    121.8,  -1.3910,  33.5299,2,  33.6352,2,    284.6,2,    279.7,2,    17.99,2,     9.67,2,     0.01,2,     1.03,2,     -999,9,     -999,9,     -999,9,     -999,9,     -999,9,   2263.5,6,   7.5143,2,    25.00,     69.2,2,     -999,9,     -999,9,     -999,9,  -1.3918,2,     -999,9,     -999,9,     -999,    14.57,2,     -999,1,     -999,9,     -999,     -999,9,20150826,2205,    120.5,  82.4778, 174.9557,     -999,9,  33.7938,2
33HQ20150809  ,ARC01      ,24      ,  1,23         ,    6144,    -999,GSNIS-23   ,2,20150826,2104,  82.4804, 174.9966,     2394,    136.8,  -1.4367,  33.8794,2,  33.9102,2,    306.7,2,    314.4,2,     7.13,2,     7.09,2,     0.01,2,     0.66,2,    6.376,2,    3.395,2,    0.467,2,    2.710,2,     -999,9,   2268.1,2,   7.6129,2,    25.00,     69.9,2,     -999,9,     -999,9,     -999,9,  -1.4361,2,     -999,9,     -999,9,     -999,    10.30,2,     -999,1,     -999,9,     -999,     -999,9,20150826,2203,    135.3,  82.4779, 174.9566,     -999,9,  34.0701,2
33HQ20150809  ,ARC01      ,24      ,  1,22         ,    6144,    -999,GSNIS-22   ,2,20150826,2104,  82.4804, 174.9966,     2394,    157.9,  -1.7623,  34.0793,2,  34.0883,2,    361.9,2,    340.7,2,     1.95,2,     5.33,2,     0.01,2,     0.48,2,     -999,9,     -999,9,     -999,9,     -999,9,     -999,9,   2273.8,2,   7.6875,3,    25.00,     66.2,2,     -999,9,     -999,9,     -999,9,  -1.7626,2,     -999,9,     -999,9,     -999,     8.30,2,     -999,1,     -999,9,     -999,     -999,9,20150826,2202,    156.1,  82.4779, 174.9577,     -999,9,  34.2490,2
33HQ20150809  ,ARC01      ,24      ,  1,21         ,    6144,    -999,GSNIS-21   ,2,20150826,2104,  82.4804, 174.9966,     2394,    175.0,  -1.8317,  34.1510,2,  34.1573,2,    343.1,2,    340.9,2,     1.76,2,     5.37,2,     0.01,2,     0.47,2,    6.487,2,    3.485,2,    0.487,2,    2.746,2,     -999,9,   2273.9,2,   7.6962,3,    25.00,     63.6,2,     -999,9,     -999,9,     -999,9,  -1.8301,2,     -999,9,     -999,9,     -999,    10.00,2,     -999,1,     -999,9,     -999,     -999,9,20150826,2201,    173.1,  82.4780, 174.9585,     -999,9,  34.3183,2
33HQ20150809  ,ARC01      ,24      ,  1,20         ,    6144,    -999,GSNIS-20   ,2,20150826,2104,  82.4804, 174.9966,     2394,    198.9,  -1.4193,  34.2614,2,  34.2649,2,    310.6,2,    312.0,2,     6.06,2,     7.84,2,     0.01,2,     0.67,2,     -999,9,     -999,9,     -999,9,     -999,9,     -999,9,   2279.0,2,   7.6370,2,    25.00,     63.6,2,     -999,9,     -999,9,     -999,9,  -1.4174,2,     -999,9,     -999,9,     -999,    12.27,2,     -999,1,     -999,9,     -999,     -999,9,20150826,2159,    196.7,  82.4780, 174.9595,     -999,9,  34.4265,2
33HQ20150809  ,ARC01      ,24      ,  1,19         ,    6144,    -999,GSNIS-19   ,2,20150826,2104,  82.4804, 174.9966,     2394,    219.7,  -0.6965,  34.4311,2,  34.4447,2,    298.2,2,    301.8,2,     6.64,2,     9.12,2,     0.01,2,     0.72,2,    6.085,2,    3.277,2,    0.445,2,    2.472,2,     -999,9,   2286.8,2,   7.6302,2,    25.00,     61.5,2,     -999,9,     -999,9,     -999,9,  -0.6918,2,     -999,9,     -999,9,     -999,    13.70,2,     -999,1,     -999,9,     -999,     -999,9,20150826,2158,    217.2,  82.4780, 174.9603,     -999,9,  34.6071,2
33HQ20150809  ,ARC01      ,24      ,  1,18         ,    6144,    -999,GSNIS-18   ,2,20150826,2104,  82.4804, 174.9966,     2394,    235.3,  -0.2215,  34.5439,2,  34.5551,2,    301.7,2,    300.2,2,     6.35,2,     9.75,2,     0.01,2,     0.75,2,     -999,9,     -999,9,     -999,9,     -999,9,     -999,9,   2286.4,2,   7.6434,2,    25.00,     59.9,2,     -999,9,     -999,9,     -999,9,  -0.2215,2,     -999,9,     -999,9,     -999,    15.25,2,     -999,1,     -999,9,     -999,     -999,9,20150826,2157,    232.6,  82.4781, 174.9611,     -999,9,  34.7180,2
33HQ20150809  ,ARC01      ,24      ,  1,17         ,    6144,    -999,GSNIS-17   ,2,20150826,2104,  82.4804, 174.9966,     2394,    286.6,   0.5659,  34.7422,2,  34.7473,2,    297.6,2,    295.5,2,     5.76,2,    11.19,2,     0.01,2,     0.81,2,    5.640,2,    2.932,2,    0.418,2,    1.949,2,     -999,9,   2290.6,2,   8.0389,4,    25.00,     53.9,2,     -999,9,     -999,9,     -999,9,   0.5650,2,     -999,9,     -999,9,     -999,    15.36,2,     -999,1,     -999,9,     -999,     -999,9,20150826,2155,    283.4,  82.4781, 174.9625,     -999,9,  34.9111,2
33HQ20150809  ,ARC01      ,24      ,  1,16         ,    6144,    -999,GSNIS-16   ,2,20150826,2104,  82.4804, 174.9966,     2394,    338.4,   0.8262,  34.8121,2,  34.8124,2,    297.1,2,    297.0,2,     5.37,2,    11.56,2,     0.01,2,     0.82,2,     -999,9,     -999,9,     -999,9,     -999,9,     -999,9,   2295.4,2,   7.6901,2,    25.00,     55.0,2,     -999,9,     -999,9,     -999,9,   0.8263,2,     -999,9,     -999,9,     -999,    14.71,2,     -999,1,     -999,9,     -999,     -999,9,20150826,2153,    334.5,  82.4783, 174.9644,     -999,9,  34.9765,2
33HQ20150809  ,ARC01      ,24      ,  1,15         ,    6144,    -999,GSNIS-15   ,2,20150826,2104,  82.4804, 174.9966,     2394,    389.1,   0.9762,  34.8492,2,  34.8482,2,    298.9,2,    298.5,2,     5.27,2,    11.71,2,     0.01,2,     0.82,2,    5.381,2,    2.772,2,    0.393,2,    1.785,2,     -999,9,   2296.9,2,   7.6928,2,    25.00,     55.0,2,     -999,9,     -999,9,     -999,9,   0.9761,2,     -999,9,     -999,9,     -999,    15.39,2,     -999,1,     -999,9,     -999,     -999,9,20150826,2151,    384.6,  82.4783, 174.9658,     -999,9,  35.0125,2
33HQ20150809  ,ARC01      ,24      ,  1,14         ,    6144,    -999,GSNIS-14   ,2,20150826,2104,  82.4804, 174.9966,     2394,    435.8,   0.9738,  34.8641,2,  34.8618,2,    300.1,2,    300.9,2,     5.37,2,    11.75,2,     0.01,2,     0.83,2,     -999,9,     -999,9,     -999,9,     -999,9,     -999,9,   2297.7,2,   7.6941,2,    25.00,     53.1,2,     -999,9,     -999,9,     -999,9,   0.9737,2,     -999,9,     -999,9,     -999,    14.37,2,     -999,1,     -999,9,     -999,     -999,9,20150826,2149,    430.7,  82.4784, 174.9669,     -999,9,  35.0262,2
33HQ20150809  ,ARC01      ,24      ,  1,13         ,    6144,    -999,GSNIS-13   ,2,20150826,2104,  82.4804, 174.9966,     2394,    487.8,   0.8326,  34.8684,2,  34.8687,2,    302.1,2,    302.5,2,     5.37,2,    11.67,2,     0.01,2,     0.81,2,    5.377,2,    2.798,2,    0.403,2,    1.824,2,     -999,9,   2298.6,2,   7.6926,2,    25.00,     54.0,2,     -999,9,     -999,9,     -999,9,   0.8328,2,     -999,9,     -999,9,     -999,    14.90,2,     -999,1,     -999,9,     -999,     -999,9,20150826,2147,    482.0,  82.4785, 174.9682,     -999,9,  35.0331,2
33HQ20150809  ,ARC01      ,24      ,  1,12         ,    6144,    -999,GSNIS-12   ,2,20150826,2104,  82.4804, 174.9966,     2394,    539.2,   0.6612,  34.8673,2,  34.8671,2,    302.9,2,    302.7,2,     5.57,2,    11.76,2,     0.01,2,     0.83,2,    5.718,3,    3.006,3,    0.423,3,    1.752,2,     -999,9,   2295.5,2,   7.6935,2,    25.00,     47.2,2,     -999,9,     -999,9,     -999,9,   0.6613,2,     -999,9,     -999,9,     -999,    12.13,2,     -999,1,     -999,9,     -999,     -999,9,20150826,2145,    532.8,  82.4785, 174.9694,     -999,9,  35.0315,2
33HQ20150809  ,ARC01      ,24      ,  1,11         ,    6144,    -999,GSNIS-11   ,2,20150826,2104,  82.4804, 174.9966,     2394,    606.3,   0.5485,  34.8749,2,  34.8736,2,    303.6,2,    303.6,2,     5.47,2,    11.67,2,     0.01,2,     0.83,2,     -999,9,     -999,9,     -999,9,     -999,9,     -999,9,   2297.9,2,   7.6894,2,    25.00,     53.7,2,     -999,9,     -999,9,     -999,9,   0.5484,2,     -999,9,     -999,9,     -999,    14.91,2,     -999,9,     -999,9,     -999,     -999,9,20150826,2143,    598.9,  82.4786, 174.9708,     -999,9,  35.0381,2
33HQ20150809  ,ARC01      ,24      ,  1,10         ,    6144,    -999,GSNIS-10   ,2,20150826,2104,  82.4804, 174.9966,     2394,    708.9,   0.3641,  34.8835,2,  34.8778,4,    305.0,2,    305.0,2,     5.47,2,    11.64,2,     0.01,2,     0.84,2,    5.305,2,    2.699,2,    0.380,2,    1.942,2,     -999,9,   2438.3,4,   7.6820,2,    25.00,     53.8,2,     -999,9,     -999,9,     -999,9,   0.3637,2,     -999,9,     -999,9,     -999,    15.07,2,     -999,9,     -999,9,     -999,     -999,9,20150826,2141,    700.2,  82.4787, 174.9725,     -999,9,  35.0423,4
33HQ20150809  ,ARC01      ,24      ,  1,9          ,    6144,    -999,GSNIS-9    ,2,20150826,2104,  82.4804, 174.9966,     2394,    858.2,   0.1108,  34.8861,2,  34.8819,4,    306.6,2,    306.9,2,     5.66,2,    11.73,2,     0.01,2,     0.84,2,    5.181,2,    2.632,2,    0.383,2,    1.817,2,     -999,9,   2291.3,2,   7.6801,2,    25.00,     53.5,2,     -999,9,     -999,9,     -999,9,   0.1108,2,     -999,9,     -999,9,     -999,    15.32,2,     -999,9,     -999,9,     -999,     -999,9,20150826,2138,    847.3,  82.4788, 174.9747,     -999,9,  35.0464,4
33HQ20150809  ,ARC01      ,24      ,  1,8          ,    6144,    -999,GSNIS-8    ,2,20150826,2104,  82.4804, 174.9966,     2394,   1012.1,  -0.0670,  34.8890,2,  34.8861,2,    307.5,2,    307.4,2,     5.96,2,    11.87,2,     0.01,2,     0.85,2,    4.981,2,    2.530,2,    0.365,2,    1.736,2,     -999,9,   2297.8,2,   7.6776,2,    25.00,     54.5,2,     -999,9,     -999,9,     -999,9,  -0.0666,2,     -999,9,     -999,9,     -999,    13.79,2,     -999,9,     -999,9,     -999,     -999,9,20150826,2134,    998.9,  82.4790, 174.9775,     -999,9,  35.0506,2
33HQ20150809  ,ARC01      ,24      ,  1,7          ,    6144,    -999,GSNIS-7    ,2,20150826,2104,  82.4804, 174.9966,     2394,   1220.1,  -0.2371,  34.8971,2,  34.8961,2,    307.5,2,    307.5,2,     6.25,2,    12.03,2,     0.01,2,     0.86,2,    4.651,2,    2.354,2,    0.336,2,    1.685,2,     -999,9,   2296.2,2,   7.6776,2,    25.00,     54.0,2,     -999,9,     -999,9,     -999,9,  -0.2371,2,     -999,9,     -999,9,     -999,    14.85,2,     -999,9,     -999,9,     -999,     -999,9,20150826,2130,   1203.6,  82.4792, 174.9802,     -999,9,  35.0607,2
33HQ20150809  ,ARC01      ,24      ,  1,6          ,    6144,    -999,GSNIS-6    ,2,20150826,2104,  82.4804, 174.9966,     2394,   1420.8,  -0.3577,  34.9060,2,  34.9074,2,    304.9,2,    305.0,2,     7.42,2,    12.59,2,     0.01,2,     0.91,2,    3.359,2,    1.673,2,    0.219,2,    1.224,2,     -999,9,   2296.6,2,   7.6917,2,    25.00,     51.6,2,     -999,9,     -999,9,     -999,9,  -0.3576,2,     -999,9,     -999,9,     -999,    16.22,2,     -999,9,     -999,9,     -999,     -999,9,20150826,2126,   1400.9,  82.4794, 174.9826,     -999,9,  35.0720,2
33HQ20150809  ,ARC01      ,24      ,  1,5          ,    6144,    -999,GSNIS-5    ,2,20150826,2104,  82.4804, 174.9966,     2394,   1628.5,  -0.4283,  34.9189,2,  34.9194,2,    299.9,2,    300.2,2,     8.89,2,    13.35,2,     0.01,2,     0.95,2,    1.756,2,    0.871,2,    0.110,2,    0.603,2,     -999,9,   2300.7,2,   7.7039,2,    25.00,     50.4,2,     -999,9,     -999,9,     -999,9,  -0.4285,2,     -999,9,     -999,9,     -999,    15.87,2,     -999,9,     -999,9,     -999,     -999,9,20150826,2122,   1604.9,  82.4796, 174.9854,     -999,9,  35.0841,2
33HQ20150809  ,ARC01      ,24      ,  1,4          ,    6144,    -999,GSNIS-4    ,2,20150826,2104,  82.4804, 174.9966,     2394,   1835.5,  -0.4249,  34.9377,2,  34.9381,2,    292.5,2,    292.0,2,    10.94,2,    13.92,2,     0.01,2,     1.00,2,    0.553,2,    0.253,2,    0.029,2,    0.181,2,     -999,9,   2299.8,2,   7.7280,6,    25.00,     48.4,2,     -999,9,     -999,9,     -999,9,  -0.4251,2,     -999,9,     -999,9,     -999,    17.26,2,     -999,9,     -999,9,     -999,     -999,9,20150826,2118,   1808.0,  82.4797, 174.9881,     -999,9,  35.1029,2
33HQ20150809  ,ARC01      ,24      ,  1,3          ,    6144,    -999,GSNIS-3    ,2,20150826,2104,  82.4804, 174.9966,     2394,   2043.5,  -0.4062,  34.9479,2,  34.9523,4,    288.5,2,    288.3,2,    12.21,2,    14.35,2,     0.01,2,     1.03,2,    0.142,2,    0.060,2,    0.006,2,    0.068,2,     -999,9,   2300.8,2,   7.7315,2,    25.00,     46.5,2,     -999,9,     -999,9,     -999,9,  -0.4061,2,     -999,9,     -999,9,     -999,    15.70,2,     -999,9,     -999,9,     -999,     -999,9,20150826,2114,   2011.9,  82.4799, 174.9908,     -999,9,  35.1171,4
33HQ20150809  ,ARC01      ,24      ,  1,2          ,    6144,    -999,GSNIS-2    ,2,20150826,2104,  82.4804, 174.9966,     2394,   2278.1,  -0.3866,  34.9528,2,  34.9533,2,    285.8,2,    285.6,2,    13.09,2,    14.51,2,     0.01,2,     1.04,2,    0.053,2,    0.023,2,    0.004,2,    0.073,2,     -999,9,   2299.3,2,   7.7316,2,    25.00,     45.4,2,     -999,9,     -999,9,     -999,9,  -0.3869,2,     -999,9,     -999,9,     -999,    16.94,2,     -999,9,     -999,9,     -999,     -999,9,20150826,2109,   2241.7,  82.4802, 174.9939,     -999,9,  35.1181,2
33HQ20150809  ,ARC01      ,24      ,  1,1          ,    6144,    -999,GSNIS-1    ,2,20150826,2104,  82.4804, 174.9966,     2394,   2478.8,  -0.3705,  34.9545,2,  34.9547,2,    285.0,2,    285.0,2,    13.09,2,    14.50,2,     0.01,2,     1.04,2,    0.107,2,    0.050,2,    0.008,2,    0.098,2,     -999,9,     -999,5,   7.7322,2,    25.00,     45.2,2,     -999,9,     -999,9,     -999,9,  -0.3708,2,     -999,9,     -999,9,     -999,    14.53,2,     -999,9,     -999,9,     -999,     -999,9,20150826,2104,   2438.0,  82.4804, 174.9968,     -999,9,  35.1195,2