BOTTLE,20221220CCHSIOAMB
EXPOCODE,SECT_ID,STNNBR,CASTNO,SAMPNO,GEOTR_EVENT,GEOTR_SAMPNO,BTLNBR,BTLNBR_FLAG_W,DATE,TIME,LATITUDE,LONGITUDE,DEPTH,CTDPRS,CTDTMP,CTDSAL,CTDSAL_FLAG_W,SALNTY,SALNTY_FLAG_W,CTDOXY,CTDOXY_FLAG_W,OXYGEN,OXYGEN_FLAG_W,SILCAT,SILCAT_FLAG_W,NITRAT,NITRAT_FLAG_W,NITRIT,NITRIT_FLAG_W,PHSPHT,PHSPHT_FLAG_W,CFC-11,CFC-11_FLAG_W,CFC-12,CFC-12_FLAG_W,CFC113,CFC113_FLAG_W,SF6,SF6_FLAG_W,TCARBN,TCARBN_FLAG_W,ALKALI,ALKALI_FLAG_W,PH_SWS,PH_SWS_FLAG_W,PH_TMP,DOC,DOC_FLAG_W,TRITUM,TRITUM_FLAG_W,HELIUM,HELIUM_FLAG_W,DELHE3,DELHE3_FLAG_W,REFTMP,REFTMP_FLAG_W,DELC13,DELC13_FLAG_W,DELC14,DELC14_FLAG_W,C14ERR,TDN,TDN_FLAG_W,DELO18,DELO18_FLAG_W,DELO17,DELO17_FLAG_W,CH4,CH4,CH4_FLAG_W,BTL_DATE,BTL_TIME,CTDDEPTH,BTL_LAT,BTL_LON,LAB_DEN,LAB_DEN_FLAG_W,SALTREF,SALTREF_FLAG_W
,,,,,,,,,,,,,METERS,DBAR,ITS-90,PSS-78,,PSS-78,,UMOL/KG,,UMOL/KG,,UMOL/KG,,UMOL/KG,,UMOL/KG,,UMOL/KG,,PMOL/KG,,PMOL/KG,,PMOL/KG,,FMOL/KG,,UMOL/KG,,UMOL/KG,,,,DEG C,UMOL/KG,,TU,,NMOL/KG,,PERCNT,,ITS-90,,/MILLE,,/MILLE,,/MILLE,UMOL/KG,,/MILLE,,/MILLE,,NMOL/KG,NMOL/L,,,,METERS,,,KG/M^3,,G/KG,
33HQ20150809  ,ARC01      ,57      ,  2,37         ,    6439,   12121,CORER      ,4,20151002,2027,  73.4316,-156.7685,     3512,   3534.0,     -999,     -999,9,     -999,9,     -999,9,     -999,9,     -999,9,     -999,9,     -999,9,     -999,9,     -999,9,     -999,9,     -999,9,     -999,9,     -999,9,     -999,9,     -999,9,     -999,     -999,9,     -999,9,     -999,9,     -999,9,     -999,9,     -999,9,     -999,9,     -999,     -999,9,     -999,9,     -999,9,     -999,     -999,9,20151002,2127,   3468.6,  73.4316,-156.7685,     -999,9,     -999,9
33HQ20150809  ,ARC01      ,57      ,  2,1          ,    6439,   12120,GSNIS-1    ,2,20151002,2027,  73.4316,-156.7685,     3512,   3550.3,  -0.2817,  34.9562,2,  34.9533,4,    283.9,2,    284.1,2,    13.48,2,    14.54,2,     0.00,2,     1.01,2,    0.014,2,    0.003,2,    0.000,2,    0.000,2,   2152.1,2,   2302.9,2,   7.7310,2,    25.00,     43.5,2,     -999,1,     -999,1,     -999,1,  -0.2819,2,     1.21,2,   -114.7,2,      2.0,    17.19,2,     -999,1,     -999,9,     -999,     -999,1,20151002,2030,   3484.4,  73.4313,-156.7661,     -999,9,  35.1181,4
33HQ20150809  ,ARC01      ,57      ,  2,2          ,    6439,   12120,GSNIS-2    ,2,20151002,2027,  73.4316,-156.7685,     3512,   3550.8,  -0.2819,  34.9563,2,     -999,9,    283.9,2,     -999,9,    13.48,2,    14.52,2,     0.00,2,     1.02,2,     -999,9,     -999,9,     -999,9,     -999,9,     -999,9,     -999,9,     -999,9,     -999,     -999,9,     -999,9,     -999,9,     -999,9,  -0.2819,2,     -999,9,     -999,9,     -999,     -999,9,     -999,9,     -999,9,     -999,     -999,9,20151002,2031,   3484.9,  73.4313,-156.7660,     -999,9,     -999,9
33HQ20150809  ,ARC01      ,57      ,  2,3          ,    6439,   12120,GSNIS-3    ,3,20151002,2027,  73.4316,-156.7685,     3512,   3552.4,  -0.2816,  34.9561,2,  34.9569,2,    284.4,2,     -999,9,    13.48,2,    14.53,2,     0.00,2,     1.03,2,     -999,9,     -999,9,     -999,9,     -999,9,     -999,9,     -999,9,     -999,9,     -999,     -999,9,     -999,9,     -999,9,     -999,9,  -0.2820,2,     -999,9,     -999,9,     -999,     -999,9,     -999,9,     -999,9,     -999,     -999,9,20151002,2031,   3486.5,  73.4313,-156.7659,     -999,9,  35.1217,2
33HQ20150809  ,ARC01      ,57      , 25,25         ,    6450,   12195,SMBT       ,2,20151003,2238,  73.3550,-156.8110,     3414,      1.0,  -1.3763,  25.4492,2,  25.3448,2,     -999,9,     -999,9,     2.16,2,     0.02,2,     0.00,2,     0.50,2,     -999,9,     -999,9,     -999,9,     -999,9,     -999,9,     -999,9,     -999,9,     -999,     -999,9,     -999,9,     -999,9,     -999,9,     -999,9,     -999,9,     -999,9,     -999,     -999,9,     -999,1,     -999,9,     -999,     -999,9,20151003,2239,      1.0,  73.3549,-156.8113,     -999,9,  25.4644,2