BOTTLE,20221220CCHSIOAMB
EXPOCODE,SECT_ID,STNNBR,CASTNO,SAMPNO,GEOTR_EVENT,GEOTR_SAMPNO,BTLNBR,BTLNBR_FLAG_W,DATE,TIME,LATITUDE,LONGITUDE,DEPTH,CTDPRS,CTDTMP,CTDSAL,CTDSAL_FLAG_W,SALNTY,SALNTY_FLAG_W,CTDOXY,CTDOXY_FLAG_W,OXYGEN,OXYGEN_FLAG_W,SILCAT,SILCAT_FLAG_W,NITRAT,NITRAT_FLAG_W,NITRIT,NITRIT_FLAG_W,PHSPHT,PHSPHT_FLAG_W,CFC-11,CFC-11_FLAG_W,CFC-12,CFC-12_FLAG_W,CFC113,CFC113_FLAG_W,SF6,SF6_FLAG_W,TCARBN,TCARBN_FLAG_W,ALKALI,ALKALI_FLAG_W,PH_SWS,PH_SWS_FLAG_W,PH_TMP,DOC,DOC_FLAG_W,TRITUM,TRITUM_FLAG_W,HELIUM,HELIUM_FLAG_W,DELHE3,DELHE3_FLAG_W,REFTMP,REFTMP_FLAG_W,DELC13,DELC13_FLAG_W,DELC14,DELC14_FLAG_W,C14ERR,TDN,TDN_FLAG_W,DELO18,DELO18_FLAG_W,DELO17,DELO17_FLAG_W,CH4,CH4,CH4_FLAG_W,BTL_DATE,BTL_TIME,CTDDEPTH,BTL_LAT,BTL_LON,LAB_DEN,LAB_DEN_FLAG_W,SALTREF,SALTREF_FLAG_W
,,,,,,,,,,,,,METERS,DBAR,ITS-90,PSS-78,,PSS-78,,UMOL/KG,,UMOL/KG,,UMOL/KG,,UMOL/KG,,UMOL/KG,,UMOL/KG,,PMOL/KG,,PMOL/KG,,PMOL/KG,,FMOL/KG,,UMOL/KG,,UMOL/KG,,,,DEG C,UMOL/KG,,TU,,NMOL/KG,,PERCNT,,ITS-90,,/MILLE,,/MILLE,,/MILLE,UMOL/KG,,/MILLE,,/MILLE,,NMOL/KG,NMOL/L,,,,METERS,,,KG/M^3,,G/KG,
33HQ20150809  ,ARC01      ,10      ,  2,12         ,    6080,   10717,NIS-12     ,3,20150819,0847,  74.9993,-170.0419,      260,      5.0,  -0.6175,  25.0208,2,  24.7059,4,    391.3,2,    396.9,2,     2.76,2,     0.00,2,     0.00,2,     0.50,2,    6.875,2,    3.656,2,    0.640,2,    4.084,2,   1662.0,3,   1739.5,2,   7.7913,2,    25.00,     63.4,2,     -999,1,     -999,9,     -999,9,  -0.6186,2,     1.76,2,     -999,1,     -999,     0.82,2,     -999,9,     -999,9,     5.69,   5.6894,2,20150819,1106,      4.9,  74.9923,-170.1109,     -999,9,  24.8224,4
33HQ20150809  ,ARC01      ,10      ,  2,11         ,    6080,   10718,NIS-11     ,2,20150819,0847,  74.9993,-170.0419,      260,     19.4,  -0.7763,  29.7080,2,  29.8773,4,    456.4,2,    453.3,2,     2.84,2,     0.00,2,     0.00,2,     0.64,2,    6.859,2,    3.694,2,    0.611,2,    3.590,2,   1962.6,3,   2099.5,2,   7.8568,2,    25.00,     70.2,2,     -999,1,     -999,9,     -999,9,  -0.7464,4,     1.92,2,     -999,1,     -999,     1.50,2,     -999,9,     -999,9,    10.29,  10.2936,2,20150819,1105,     19.2,  74.9923,-170.1106,     -999,9,  30.0182,4
33HQ20150809  ,ARC01      ,10      ,  2,10         ,    6080,   10719,NIS-10     ,3,20150819,0847,  74.9993,-170.0419,      260,     44.5,  -1.3188,  31.7212,2,  32.0303,4,    390.9,2,    338.4,3,    21.54,2,     7.49,2,     0.06,2,     1.36,2,    6.592,2,    3.566,2,    0.541,2,    3.364,2,   2152.1,2,   2224.0,6,   7.5732,2,    25.00,     68.1,2,     -999,1,     -999,1,     -999,1,  -1.3086,2,     0.62,2,     -999,1,     -999,     7.59,2,     -999,9,     -999,9,    13.23,  13.2321,2,20150819,1104,     44.0,  74.9925,-170.1102,     -999,9,  32.1814,4
33HQ20150809  ,ARC01      ,10      ,  2,9          ,    6080,    -999,NIS-9      ,2,20150819,0847,  74.9993,-170.0419,      260,     60.6,  -1.5355,  32.0870,2,  32.2111,4,    329.1,2,    326.0,2,    27.90,2,    10.14,2,     0.06,2,     1.53,2,    6.530,2,    3.510,2,    0.545,2,    3.264,2,     -999,9,   2229.8,2,   7.5383,2,    25.00,     66.7,2,     -999,1,     -999,1,     -999,1,  -1.5320,2,     -999,9,     -999,9,     -999,    11.31,2,     -999,9,     -999,9,     -999,     -999,9,20150819,1103,     59.9,  74.9925,-170.1099,     -999,9,  32.3630,4
33HQ20150809  ,ARC01      ,10      ,  2,8          ,    6080,   10720,NIS-8      ,3,20150819,0847,  74.9993,-170.0419,      260,     80.8,  -1.5882,  32.3911,2,  32.4811,4,    321.2,2,    318.3,2,    28.97,2,    11.75,2,     0.02,2,     1.59,2,    6.490,2,    3.501,2,    0.527,2,    3.254,2,   2185.5,2,   2245.0,2,   7.5189,6,    25.00,     65.1,2,     -999,1,     -999,1,     -999,1,  -1.5926,2,     0.36,2,     -999,1,     -999,    13.08,2,     -999,9,     -999,9,    13.71,  13.7122,2,20150819,1102,     80.0,  74.9925,-170.1091,     -999,9,  32.6343,4
33HQ20150809  ,ARC01      ,10      ,  2,7          ,    6080,    -999,NIS-7      ,2,20150819,0847,  74.9993,-170.0419,      260,    101.2,  -1.6539,  32.6793,2,  32.7153,4,    320.0,2,    321.0,2,    33.96,2,    13.39,2,     0.02,2,     1.65,2,    6.433,2,    3.501,2,    0.549,2,    3.455,2,     -999,9,   2252.1,2,   7.5116,2,    25.00,     65.3,2,     -999,1,     -999,1,     -999,1,  -1.6503,2,     -999,9,     -999,9,     -999,    15.01,2,     -999,9,     -999,9,     -999,     -999,9,20150819,1101,    100.1,  74.9925,-170.1083,     -999,9,  32.8695,4
33HQ20150809  ,ARC01      ,10      ,  2,6          ,    6080,   10721,NIS-6      ,2,20150819,0847,  74.9993,-170.0419,      260,    120.7,  -1.7219,  32.8853,2,  32.9024,2,    315.6,2,    320.9,2,    40.51,2,    16.55,2,     0.02,2,     1.84,2,    6.339,2,    3.450,2,    0.551,2,    3.591,2,   2221.1,3,   2254.9,2,   7.5028,2,    25.00,     63.3,2,     -999,1,     -999,1,     -999,1,  -1.7219,2,     0.23,2,     -999,1,     -999,    16.07,2,     -999,9,     -999,9,    16.63,  16.6322,2,20150819,1100,    119.4,  74.9926,-170.1072,     -999,9,  33.0576,2
33HQ20150809  ,ARC01      ,10      ,  2,5          ,    6080,    -999,NIS-5      ,3,20150819,0847,  74.9993,-170.0419,      260,    156.0,  -1.4277,  33.3780,2,  33.3837,2,    291.5,2,    291.4,2,    30.42,2,    14.51,2,     0.00,2,     1.62,2,    6.137,2,    3.200,2,    0.438,2,    2.353,2,     -999,9,   2278.1,2,   7.4935,2,    25.00,     60.6,2,     -999,1,     -999,1,     -999,1,  -1.4227,2,     -999,9,     -999,9,     -999,    15.89,2,     -999,9,     -999,9,     -999,     -999,9,20150819,1059,    154.3,  74.9926,-170.1065,     -999,9,  33.5411,2
33HQ20150809  ,ARC01      ,10      ,  2,4          ,    6080,   10722,NIS-4      ,3,20150819,0847,  74.9993,-170.0419,      260,    195.2,  -0.4331,  34.2623,2,  34.2505,2,    270.1,2,    266.8,2,    20.04,2,    13.71,2,     0.04,2,     1.24,2,    5.604,2,    2.737,2,    0.352,2,    1.340,2,   2197.3,2,   2286.7,2,   7.5676,2,    25.00,     60.0,2,     -999,1,     -999,1,     -999,1,  -0.4453,2,     0.39,2,     -999,1,     -999,    15.70,2,     -999,9,     -999,9,     4.75,   4.7540,2,20150819,1057,    193.0,  74.9927,-170.1057,     -999,9,  34.4120,2
33HQ20150809  ,ARC01      ,10      ,  2,3          ,    6080,   10723,NIS-3      ,3,20150819,0847,  74.9993,-170.0419,      260,    208.2,  -0.1381,  34.4480,2,  34.4405,2,    266.3,2,    264.8,2,    17.79,2,    13.73,2,     0.00,2,     1.15,2,    5.480,2,    2.657,2,    0.336,2,    1.216,2,   2196.6,2,   2284.8,2,   7.5900,2,    25.00,     55.1,2,     -999,1,     -999,1,     -999,1,  -0.1381,2,     0.46,2,     -999,1,     -999,    13.13,2,     -999,9,     -999,9,     2.49,   2.4947,2,20150819,0853,    206.0,  74.9995,-170.0476,     -999,9,  34.6029,2
33HQ20150809  ,ARC01      ,10      ,  2,2          ,    6080,    -999,NIS-2      ,2,20150819,0847,  74.9993,-170.0419,      260,    233.3,   0.4387,  34.7255,2,  34.7210,2,    268.6,2,    269.1,2,    14.07,2,    13.69,2,     0.03,2,     1.03,2,    5.328,2,    2.608,2,    0.325,2,    1.285,2,     -999,9,   2291.6,2,   7.6298,6,    25.00,     57.0,2,     -999,1,     -999,1,     -999,1,   0.4386,2,     -999,9,     -999,9,     -999,    13.69,2,     -999,9,     -999,9,     -999,     -999,9,20150819,0851,    230.7,  74.9994,-170.0451,     -999,9,  34.8847,2
33HQ20150809  ,ARC01      ,10      ,  2,1          ,    6080,   10724,NIS-1      ,2,20150819,0847,  74.9993,-170.0419,      260,    253.2,   0.6001,  34.7985,2,  34.7918,2,    268.8,2,    269.4,2,    14.07,2,    13.68,2,     0.04,2,     1.01,2,     -999,9,     -999,9,     -999,9,     -999,9,   2185.4,2,   2295.0,2,   7.6372,2,    25.00,     55.5,2,     -999,1,     -999,1,     -999,1,   0.6005,2,     0.51,2,     -999,1,     -999,    15.05,2,     -999,9,     -999,9,     1.75,   1.7505,2,20150819,0848,    250.4,  74.9993,-170.0426,     -999,9,  34.9559,2
33HQ20150809  ,ARC01      ,10      , 25,25         ,    6086,   10745,SMBT       ,2,20150819,2025,  74.9980,-170.5616,      290,      1.0,  -0.4074,  24.3313,2,  23.8239,2,     -999,9,     -999,9,     3.05,2,     0.02,2,     0.00,2,     0.46,2,     -999,9,     -999,9,     -999,9,     -999,9,     -999,9,     -999,9,     -999,9,     -999,     -999,9,     -999,9,     -999,9,     -999,9,     -999,9,     -999,9,     -999,9,     -999,     -999,9,     -999,9,     -999,9,     -999,     -999,9,20150819,2026,      1.0,  74.9950,-170.4405,     -999,9,  23.9362,2
33HQ20150809  ,ARC01      ,10      ,  5,12         ,    6083,   10739,NIS-12     ,3,20150819,2120,  74.9988,-170.6253,      299,      5.0,  -0.3709,  24.2756,2,  24.3913,4,    394.2,2,    393.0,2,     2.85,2,     0.00,2,     0.00,2,     0.48,2,     -999,9,     -999,9,     -999,9,     -999,9,     -999,9,     -999,9,     -999,9,     -999,     -999,9,     -999,9,     -999,1,     -999,1,     -999,9,     -999,9,     -999,9,     -999,     -999,9,     -999,9,     -999,9,     -999,     -999,9,20150819,2148,      5.0,  74.9940,-170.6358,     -999,9,  24.5063,4
33HQ20150809  ,ARC01      ,10      ,  5,11         ,    6083,   10738,NIS-11     ,2,20150819,2120,  74.9988,-170.6253,      299,     20.3,  -0.9584,  29.9798,2,  30.5191,4,    407.2,2,    408.1,2,     2.84,2,     0.13,2,     0.01,2,     0.73,2,     -999,9,     -999,9,     -999,9,     -999,9,     -999,9,     -999,9,     -999,9,     -999,     -999,9,     -999,9,     -999,9,     -999,9,     -999,9,     -999,9,     -999,9,     -999,     -999,9,     -999,9,     -999,9,     -999,     -999,9,20150819,2144,     20.1,  74.9950,-170.6335,     -999,9,  30.6630,4
33HQ20150809  ,ARC01      ,10      ,  5,10         ,    6083,   10741,NIS-10     ,2,20150819,2120,  74.9988,-170.6253,      299,     44.5,  -1.1177,  31.6495,2,  31.7471,4,    369.9,2,    373.8,2,    10.28,2,     3.45,2,     0.05,2,     1.09,2,     -999,9,     -999,9,     -999,9,     -999,9,     -999,9,     -999,9,     -999,9,     -999,     -999,9,     -999,9,     -999,9,     -999,9,     -999,9,     -999,9,     -999,9,     -999,     -999,9,     -999,9,     -999,9,     -999,     -999,9,20150819,2141,     44.0,  74.9957,-170.6318,     -999,9,  31.8968,4
33HQ20150809  ,ARC01      ,10      ,  5,9          ,    6083,   10737,NIS-9      ,2,20150819,2120,  74.9988,-170.6253,      299,     44.5,  -1.1173,  31.6482,2,  31.7688,4,    369.9,2,    371.1,2,    11.35,2,     3.78,2,     0.05,2,     1.12,2,     -999,9,     -999,9,     -999,9,     -999,9,     -999,9,     -999,9,     -999,9,     -999,     -999,9,     -999,9,     -999,9,     -999,9,     -999,9,     -999,9,     -999,9,     -999,     -999,9,     -999,9,     -999,9,     -999,     -999,9,20150819,2141,     44.0,  74.9957,-170.6317,     -999,9,  31.9186,4
33HQ20150809  ,ARC01      ,10      ,  5,8          ,    6083,   10736,NIS-8      ,2,20150819,2120,  74.9988,-170.6253,      299,     80.8,  -1.6153,  32.3001,2,  32.3907,4,    318.9,2,    319.5,2,    31.60,2,    11.56,2,     0.04,2,     1.59,2,     -999,9,     -999,9,     -999,9,     -999,9,     -999,9,     -999,9,     -999,9,     -999,     -999,9,     -999,9,     -999,9,     -999,9,     -999,9,     -999,9,     -999,9,     -999,     -999,9,     -999,9,     -999,9,     -999,     -999,9,20150819,2138,     80.0,  74.9963,-170.6297,     -999,9,  32.5435,4
33HQ20150809  ,ARC01      ,10      ,  5,7          ,    6083,   10742,NIS-7      ,2,20150819,2120,  74.9988,-170.6253,      299,    121.1,  -1.6737,  32.7995,2,  32.9022,4,    315.0,2,    315.5,2,    35.99,2,    14.78,2,     0.02,2,     1.74,2,     -999,9,     -999,9,     -999,9,     -999,9,     -999,9,     -999,9,     -999,9,     -999,     -999,9,     -999,9,     -999,9,     -999,9,     -999,9,     -999,9,     -999,9,     -999,     -999,9,     -999,9,     -999,9,     -999,     -999,9,20150819,2134,    119.8,  74.9969,-170.6281,     -999,9,  33.0573,4
33HQ20150809  ,ARC01      ,10      ,  5,6          ,    6083,   10735,NIS-6      ,2,20150819,2120,  74.9988,-170.6253,      299,    121.1,  -1.6787,  32.7990,2,  32.8212,2,    315.0,2,    317.4,2,    35.40,2,    14.33,2,     0.02,2,     1.73,2,     -999,9,     -999,9,     -999,9,     -999,9,     -999,9,     -999,9,     -999,9,     -999,     -999,9,     -999,9,     -999,9,     -999,9,     -999,9,     -999,9,     -999,9,     -999,     -999,9,     -999,9,     -999,9,     -999,     -999,9,20150819,2133,    119.8,  74.9969,-170.6280,     -999,9,  32.9760,2
33HQ20150809  ,ARC01      ,10      ,  5,5          ,    6083,   10743,NIS-5      ,2,20150819,2120,  74.9988,-170.6253,      299,    195.5,  -0.2758,  34.3677,2,  34.3879,2,    265.2,2,    265.0,2,    18.27,2,    13.65,2,     0.03,2,     1.20,2,     -999,9,     -999,9,     -999,9,     -999,9,     -999,9,     -999,9,     -999,9,     -999,     -999,9,     -999,9,     -999,9,     -999,9,     -999,9,     -999,9,     -999,9,     -999,     -999,9,     -999,9,     -999,9,     -999,     -999,9,20150819,2128,    193.4,  74.9977,-170.6269,     -999,9,  34.5501,2
33HQ20150809  ,ARC01      ,10      ,  5,4          ,    6083,   10734,NIS-4      ,2,20150819,2120,  74.9988,-170.6253,      299,    195.6,  -0.2754,  34.3686,2,  34.3844,2,    265.2,2,    264.9,2,    18.36,2,    13.62,2,     0.03,2,     1.18,2,     -999,9,     -999,9,     -999,9,     -999,9,     -999,9,     -999,9,     -999,9,     -999,     -999,9,     -999,9,     -999,9,     -999,9,     -999,9,     -999,9,     -999,9,     -999,     -999,9,     -999,9,     -999,9,     -999,     -999,9,20150819,2128,    193.4,  74.9977,-170.6269,     -999,9,  34.5465,2
33HQ20150809  ,ARC01      ,10      ,  5,3          ,    6083,   10733,NIS-3      ,2,20150819,2120,  74.9988,-170.6253,      299,    213.6,   0.0852,  34.5753,2,  34.5775,2,    262.5,2,    263.8,2,    16.31,2,    13.67,2,     0.01,2,     1.11,2,     -999,9,     -999,9,     -999,9,     -999,9,     -999,9,     -999,9,     -999,9,     -999,     -999,9,     -999,9,     -999,9,     -999,9,     -999,9,     -999,9,     -999,9,     -999,     -999,9,     -999,9,     -999,9,     -999,     -999,9,20150819,2126,    211.2,  74.9981,-170.6266,     -999,9,  34.7405,2
33HQ20150809  ,ARC01      ,10      ,  5,1          ,    6083,   10732,NIS-1      ,2,20150819,2120,  74.9988,-170.6253,      299,    259.1,   0.5852,  34.7656,2,  34.7535,2,    269.8,2,    265.8,2,    14.06,2,    13.70,2,     0.01,2,     1.03,2,     -999,9,     -999,9,     -999,9,     -999,9,     -999,9,     -999,9,     -999,9,     -999,     -999,9,     -999,9,     -999,9,     -999,9,     -999,9,     -999,9,     -999,9,     -999,     -999,9,     -999,9,     -999,9,     -999,     -999,9,20150819,2122,    256.3,  74.9988,-170.6258,     -999,9,  34.9173,2
33HQ20150809  ,ARC01      ,10      ,  5,2          ,    6083,   10744,NIS-2      ,2,20150819,2120,  74.9988,-170.6253,      299,    259.4,   0.5883,  34.7669,2,  34.7592,2,    269.8,2,    267.7,2,    13.57,2,    13.62,2,     0.01,2,     1.02,2,     -999,9,     -999,9,     -999,9,     -999,9,     -999,9,     -999,9,     -999,9,     -999,     -999,9,     -999,9,     -999,9,     -999,9,     -999,9,     -999,9,     -999,9,     -999,     -999,9,     -999,9,     -999,9,     -999,     -999,9,20150819,2122,    256.5,  74.9987,-170.6258,     -999,9,  34.9231,2