BOTTLE,20221220CCHSIOAMB
EXPOCODE,SECT_ID,STNNBR,CASTNO,SAMPNO,GEOTR_EVENT,GEOTR_SAMPNO,BTLNBR,BTLNBR_FLAG_W,DATE,TIME,LATITUDE,LONGITUDE,DEPTH,CTDPRS,CTDTMP,CTDSAL,CTDSAL_FLAG_W,SALNTY,SALNTY_FLAG_W,CTDOXY,CTDOXY_FLAG_W,OXYGEN,OXYGEN_FLAG_W,SILCAT,SILCAT_FLAG_W,NITRAT,NITRAT_FLAG_W,NITRIT,NITRIT_FLAG_W,PHSPHT,PHSPHT_FLAG_W,CFC-11,CFC-11_FLAG_W,CFC-12,CFC-12_FLAG_W,CFC113,CFC113_FLAG_W,SF6,SF6_FLAG_W,TCARBN,TCARBN_FLAG_W,ALKALI,ALKALI_FLAG_W,PH_SWS,PH_SWS_FLAG_W,PH_TMP,DOC,DOC_FLAG_W,TRITUM,TRITUM_FLAG_W,HELIUM,HELIUM_FLAG_W,DELHE3,DELHE3_FLAG_W,REFTMP,REFTMP_FLAG_W,DELC13,DELC13_FLAG_W,DELC14,DELC14_FLAG_W,C14ERR,TDN,TDN_FLAG_W,DELO18,DELO18_FLAG_W,DELO17,DELO17_FLAG_W,CH4,CH4,CH4_FLAG_W,BTL_DATE,BTL_TIME,CTDDEPTH,BTL_LAT,BTL_LON,LAB_DEN,LAB_DEN_FLAG_W,SALTREF,SALTREF_FLAG_W
,,,,,,,,,,,,,METERS,DBAR,ITS-90,PSS-78,,PSS-78,,UMOL/KG,,UMOL/KG,,UMOL/KG,,UMOL/KG,,UMOL/KG,,UMOL/KG,,PMOL/KG,,PMOL/KG,,PMOL/KG,,FMOL/KG,,UMOL/KG,,UMOL/KG,,,,DEG C,UMOL/KG,,TU,,NMOL/KG,,PERCNT,,ITS-90,,/MILLE,,/MILLE,,/MILLE,UMOL/KG,,/MILLE,,/MILLE,,NMOL/KG,NMOL/L,,,,METERS,,,KG/M^3,,G/KG,
33HQ20150809  ,ARC01      ,35      ,  1,3          ,    6240,    -999,GSNIS-3    ,2,20150908,1445,  89.3269,-149.2803,     3312,   3055.0,  -0.7368,  34.9320,3,  34.9308,2,    297.4,2,    297.9,2,    11.13,2,    14.48,2,     0.00,2,     0.99,2,    0.334,2,    0.145,2,    0.014,2,    0.048,2,     -999,9,   2301.0,2,   7.7232,2,    25.00,     47.1,2,     -999,9,     -999,9,     -999,9,  -0.7369,2,     -999,9,     -999,9,     -999,    15.75,2,     -999,9,     -999,9,     -999,     -999,9,20150908,1454,   3000.4,  89.3261,-149.2514,     -999,1,  35.0955,2
33HQ20150809  ,ARC01      ,35      ,  1,2          ,    6240,    -999,GSNIS-2    ,2,20150908,1445,  89.3269,-149.2803,     3312,   3256.2,  -0.7324,  34.9354,3,  34.9337,2,    297.0,2,    297.7,2,    11.23,2,    14.50,2,     0.00,2,     0.99,2,    0.229,2,    0.101,2,    0.011,2,    0.024,2,     -999,9,   2297.6,2,   7.7367,2,    25.00,     48.1,2,     -999,9,     -999,9,     -999,9,  -0.7326,2,     -999,9,     -999,9,     -999,    16.47,2,     -999,9,     -999,9,     -999,     -999,9,20150908,1449,   3196.6,  89.3265,-149.2674,     -999,1,  35.0984,2
33HQ20150809  ,ARC01      ,35      ,  1,1          ,    6240,    -999,GSNIS-1    ,2,20150908,1445,  89.3269,-149.2803,     3312,   3386.8,  -0.7273,  34.9386,3,  34.9380,2,    297.6,2,    297.5,2,    11.23,2,    14.47,2,     0.00,2,     1.00,2,    0.201,2,    0.098,2,    0.011,2,    0.004,2,   2152.1,6,   2299.5,2,   7.7291,2,    25.00,     46.6,2,     -999,9,     -999,9,     -999,9,  -0.7273,2,     -999,9,     -999,9,     -999,    15.27,2,     -999,1,     -999,9,     -999,     -999,9,20150908,1444,   3323.8,  89.3270,-149.2821,     -999,1,  35.1028,2
33HQ20150809  ,ARC01      ,36      ,  1,28         ,    6241,    -999,GSNIS-28   ,2,20150908,2017,  89.0741,-150.4833,     1273,      1.8,  -1.4802,  27.4748,2,  27.4707,2,    385.7,2,    387.8,2,    12.47,2,     0.00,2,     0.01,2,     0.66,2,    6.599,2,    3.525,2,    0.615,2,    3.648,2,   1915.8,6,   1991.8,2,   7.6645,2,    25.00,    131.6,2,     -999,9,     -999,9,     -999,9,  -1.4801,2,     0.66,2,     -999,1,     -999,     5.60,2,     -999,1,     -999,9,     -999,     -999,9,20150908,2113,      1.7,  89.0706,-150.4446,     -999,9,  27.6003,2
33HQ20150809  ,ARC01      ,36      ,  1,27         ,    6241,    -999,GSNIS-27   ,2,20150908,2017,  89.0741,-150.4833,     1273,     17.5,  -1.4830,  27.4806,2,  27.6722,2,    390.9,2,    387.1,2,    12.57,2,     0.04,2,     0.01,2,     0.68,2,    6.647,2,    3.574,2,    0.617,2,    3.503,2,   1936.0,2,   2008.4,6,   7.6523,2,    25.00,    128.8,2,     -999,9,     -999,9,     -999,9,  -1.4827,2,     -999,9,     -999,9,     -999,     5.67,2,     -999,1,     -999,9,     -999,     -999,9,20150908,2111,     17.3,  89.0707,-150.4462,     -999,9,  27.8027,2
33HQ20150809  ,ARC01      ,36      ,  1,26         ,    6241,    -999,GSNIS-26   ,2,20150908,2017,  89.0741,-150.4833,     1273,     27.5,  -1.3284,  29.0648,2,  29.4452,2,    377.1,2,    362.6,2,    13.63,2,     1.54,2,     0.04,2,     0.75,2,     -999,9,     -999,9,     -999,9,     -999,9,   2042.1,2,   2108.8,2,   7.5928,2,    25.00,    125.8,2,     -999,9,     -999,9,     -999,9,  -1.3272,2,     -999,9,     -999,9,     -999,     7.46,2,     -999,1,     -999,9,     -999,     -999,9,20150908,2110,     27.2,  89.0708,-150.4471,     -999,9,  29.5840,2
33HQ20150809  ,ARC01      ,36      ,  1,25         ,    6241,    -999,GSNIS-25   ,2,20150908,2017,  89.0741,-150.4833,     1273,     47.9,  -1.6311,  31.9352,2,  31.9985,2,    345.2,2,    338.8,2,    10.18,2,     4.20,2,     0.01,2,     0.68,2,    6.644,2,    3.593,2,    0.550,2,    3.270,2,   2143.4,2,   2219.2,2,   7.5703,6,    25.00,    103.2,2,     -999,9,     -999,9,     -999,9,  -1.6312,2,     -999,9,     -999,9,     -999,     8.77,2,     -999,1,     -999,9,     -999,     -999,9,20150908,2109,     47.3,  89.0709,-150.4487,     -999,9,  32.1494,2
33HQ20150809  ,ARC01      ,36      ,  1,24         ,    6241,    -999,GSNIS-24   ,2,20150908,2017,  89.0741,-150.4833,     1273,     67.9,  -1.5871,  32.9616,2,  33.0594,2,    311.0,2,    310.9,2,    12.52,2,     7.15,2,     0.00,2,     0.80,2,     -999,9,     -999,9,     -999,9,     -999,9,   2171.7,6,   2243.6,2,   7.5549,2,    25.00,     81.0,2,     -999,9,     -999,9,     -999,9,  -1.5871,2,     -999,9,     -999,9,     -999,    10.58,2,     -999,1,     -999,9,     -999,     -999,9,20150908,2107,     67.1,  89.0710,-150.4505,     -999,9,  33.2153,2
33HQ20150809  ,ARC01      ,36      ,  1,23         ,    6241,    -999,GSNIS-23   ,2,20150908,2017,  89.0741,-150.4833,     1273,     78.2,  -1.5181,  33.5408,2,  33.6469,2,    307.5,2,    304.7,2,     9.58,2,     7.57,2,     0.00,2,     0.72,2,    6.425,2,    3.413,2,    0.485,2,    2.565,2,   2174.5,2,   2260.4,6,   7.5865,2,    25.00,     73.6,2,     -999,9,     -999,9,     -999,9,  -1.5191,2,     -999,9,     -999,9,     -999,    11.44,2,     -999,1,     -999,9,     -999,     -999,9,20150908,2105,     77.3,  89.0710,-150.4517,     -999,9,  33.8056,2
33HQ20150809  ,ARC01      ,36      ,  1,22         ,    6241,    -999,GSNIS-22   ,2,20150908,2017,  89.0741,-150.4833,     1273,     88.4,  -1.4344,  33.8478,2,  33.9037,2,    302.6,2,    304.1,2,     8.21,2,     7.83,2,     0.00,2,     0.70,2,     -999,9,     -999,9,     -999,9,     -999,9,     -999,9,     -999,9,     -999,9,     -999,     69.9,2,     -999,9,     -999,9,     -999,9,  -1.4331,2,     -999,9,     -999,9,     -999,    10.83,2,     -999,1,     -999,9,     -999,     -999,9,20150908,2104,     87.4,  89.0711,-150.4525,     -999,9,  34.0636,2
33HQ20150809  ,ARC01      ,36      ,  1,21         ,    6241,    -999,GSNIS-21   ,2,20150908,2017,  89.0741,-150.4833,     1273,     98.4,  -1.3442,  34.0485,2,  34.0596,2,    306.6,2,    306.1,2,     6.94,2,     7.91,2,     0.00,2,     0.67,2,    6.394,2,    3.354,2,    0.471,2,    2.422,2,   2173.1,2,   2270.1,2,   7.6170,2,    25.00,     68.7,2,     -999,9,     -999,9,     -999,9,  -1.3442,2,     -999,9,     -999,9,     -999,    12.99,2,     -999,1,     -999,9,     -999,     -999,9,20150908,2103,     97.3,  89.0712,-150.4536,     -999,9,  34.2202,2
33HQ20150809  ,ARC01      ,36      ,  1,20         ,    6241,    -999,GSNIS-20   ,2,20150908,2017,  89.0741,-150.4833,     1273,    108.6,  -1.2243,  34.1817,2,  34.2115,2,    304.8,2,    305.2,2,     6.16,2,     8.24,2,     0.00,2,     0.67,2,     -999,9,     -999,9,     -999,9,     -999,9,   2171.9,2,   2273.0,2,   7.6299,2,    25.00,     63.1,2,     -999,9,     -999,9,     -999,9,  -1.2272,2,     -999,9,     -999,9,     -999,    14.01,2,     -999,1,     -999,9,     -999,     -999,9,20150908,2102,    107.4,  89.0713,-150.4544,     -999,9,  34.3729,2
33HQ20150809  ,ARC01      ,36      ,  1,19         ,    6241,    -999,GSNIS-19   ,2,20150908,2017,  89.0741,-150.4833,     1273,    124.0,  -0.8876,  34.2936,2,  34.3023,2,    302.6,2,    303.8,2,     5.86,2,     8.70,2,     0.00,2,     0.68,2,    6.272,2,    3.260,2,    0.455,2,    2.256,2,   2171.8,2,   2275.9,2,   7.6340,2,    25.00,     61.4,2,     -999,9,     -999,9,     -999,9,  -0.8915,2,     -999,9,     -999,9,     -999,    12.27,2,     -999,1,     -999,9,     -999,     -999,9,20150908,2100,    122.6,  89.0713,-150.4555,     -999,9,  34.4641,2
33HQ20150809  ,ARC01      ,36      ,  1,18         ,    6241,    -999,GSNIS-18   ,2,20150908,2017,  89.0741,-150.4833,     1273,    138.9,  -0.6287,  34.3759,2,  34.3883,2,    302.5,2,    306.2,2,     5.18,2,     8.77,2,     0.00,2,     0.68,2,     -999,9,     -999,9,     -999,9,     -999,9,     -999,9,     -999,9,     -999,9,     -999,     61.7,2,     -999,9,     -999,9,     -999,9,  -0.6296,2,     -999,9,     -999,9,     -999,    11.99,2,     -999,1,     -999,9,     -999,     -999,9,20150908,2059,    137.4,  89.0714,-150.4570,     -999,9,  34.5504,2
33HQ20150809  ,ARC01      ,36      ,  1,17         ,    6241,    -999,GSNIS-17   ,2,20150908,2017,  89.0741,-150.4833,     1273,    159.2,  -0.4779,  34.4653,2,  34.4711,2,    301.9,2,    307.1,2,     5.08,2,     9.08,2,     0.00,2,     0.68,2,    6.045,2,    3.158,2,    0.438,2,    2.231,2,   2166.7,2,   2280.6,2,   7.6497,2,    25.00,     60.1,2,     -999,9,     -999,9,     -999,9,  -0.4779,2,     -999,9,     -999,9,     -999,    11.65,2,     -999,1,     -999,9,     -999,     -999,9,20150908,2057,    157.4,  89.0715,-150.4580,     -999,9,  34.6336,2
33HQ20150809  ,ARC01      ,36      ,  1,16         ,    6241,    -999,GSNIS-16   ,2,20150908,2017,  89.0741,-150.4833,     1273,    179.4,  -0.0907,  34.5682,2,  34.5756,2,    307.8,2,    304.9,2,     4.88,2,     9.64,2,     0.00,2,     0.70,2,     -999,9,     -999,9,     -999,9,     -999,9,     -999,9,     -999,9,     -999,9,     -999,     56.7,2,     -999,9,     -999,9,     -999,9,  -0.0858,2,     -999,9,     -999,9,     -999,    12.79,2,     -999,1,     -999,9,     -999,     -999,9,20150908,2056,    177.4,  89.0716,-150.4590,     -999,9,  34.7386,2
33HQ20150809  ,ARC01      ,36      ,  1,15         ,    6241,    -999,GSNIS-15   ,2,20150908,2017,  89.0741,-150.4833,     1273,    199.7,   0.3039,  34.6612,2,  34.6765,2,    304.8,2,    304.1,2,     4.88,2,    10.24,2,     0.00,2,     0.74,2,    5.678,2,    2.988,2,    0.416,2,    2.248,2,   2165.1,2,   2286.9,2,   7.6733,2,    25.00,     56.8,2,     -999,9,     -999,9,     -999,9,   0.3038,2,     -999,9,     -999,9,     -999,    13.53,2,     -999,1,     -999,9,     -999,     -999,9,20150908,2054,    197.5,  89.0717,-150.4602,     -999,9,  34.8401,2
33HQ20150809  ,ARC01      ,36      ,  1,14         ,    6241,    -999,GSNIS-14   ,2,20150908,2017,  89.0741,-150.4833,     1273,    220.2,   0.8049,  34.7764,2,  34.7839,2,    300.1,2,    296.6,2,     5.47,2,    11.45,2,     0.00,2,     0.79,2,     -999,9,     -999,9,     -999,9,     -999,9,     -999,9,     -999,9,     -999,9,     -999,     54.0,2,     -999,9,     -999,9,     -999,9,   0.8215,4,     -999,9,     -999,9,     -999,    15.14,2,     -999,1,     -999,9,     -999,     -999,9,20150908,2053,    217.7,  89.0718,-150.4612,     -999,9,  34.9479,2
33HQ20150809  ,ARC01      ,36      ,  1,13         ,    6241,    -999,GSNIS-13   ,2,20150908,2017,  89.0741,-150.4833,     1273,    240.4,   0.9933,  34.8217,2,  34.8220,2,    297.6,2,    297.3,2,     5.18,2,    11.55,2,     0.00,2,     0.80,2,    5.336,2,    2.754,2,    0.401,2,    1.809,2,   2160.4,2,   2293.6,2,   7.7262,3,    25.00,     52.4,2,     -999,9,     -999,9,     -999,9,   0.9931,2,     -999,9,     -999,9,     -999,    14.10,2,     -999,9,     -999,9,     -999,     -999,9,20150908,2051,    237.7,  89.0719,-150.4622,     -999,9,  34.9862,2
33HQ20150809  ,ARC01      ,36      ,  1,12         ,    6241,    -999,GSNIS-12   ,2,20150908,2017,  89.0741,-150.4833,     1273,    286.2,   0.8127,  34.8099,2,  34.8120,2,    295.0,2,    295.5,2,     5.86,2,    11.74,2,     0.00,2,     0.81,2,     -999,9,     -999,9,     -999,9,     -999,9,   2159.3,2,   2290.5,2,   7.6972,2,    25.00,     53.9,2,     -999,9,     -999,9,     -999,9,   0.8121,2,     -999,9,     -999,9,     -999,    15.09,2,     -999,1,     -999,9,     -999,     -999,9,20150908,2049,    282.9,  89.0720,-150.4635,     -999,9,  34.9761,2
33HQ20150809  ,ARC01      ,36      ,  1,11         ,    6241,    -999,GSNIS-11   ,2,20150908,2017,  89.0741,-150.4833,     1273,    336.8,   0.9585,  34.8495,2,  34.8482,2,    296.1,2,    297.0,2,     5.86,2,    11.94,2,     0.00,2,     0.82,2,    5.222,6,    2.633,6,    0.377,6,    1.558,6,   2161.1,2,   2293.0,2,   7.7058,2,    25.00,     52.6,2,     -999,9,     -999,9,     -999,9,   0.9581,2,     -999,9,     -999,9,     -999,    14.45,2,     -999,9,     -999,9,     -999,     -999,9,20150908,2047,    332.9,  89.0721,-150.4653,     -999,9,  35.0125,2
33HQ20150809  ,ARC01      ,36      ,  1,10         ,    6241,    -999,GSNIS-10   ,2,20150908,2017,  89.0741,-150.4833,     1273,    387.6,   1.1898,  34.8899,2,  34.8895,2,    300.6,2,    300.6,2,     5.37,2,    11.87,2,     0.00,2,     0.81,2,     -999,9,     -999,9,     -999,9,     -999,9,     -999,9,     -999,9,     -999,9,     -999,     52.0,2,     -999,9,     -999,9,     -999,9,   1.1903,2,     -999,9,     -999,9,     -999,    15.01,2,     -999,1,     -999,9,     -999,     -999,9,20150908,2046,    383.1,  89.0722,-150.4663,     -999,9,  35.0540,2
33HQ20150809  ,ARC01      ,36      ,  1,9          ,    6241,    -999,GSNIS-9    ,2,20150908,2017,  89.0741,-150.4833,     1273,    438.4,   1.0376,  34.8892,2,  34.8902,2,    301.0,2,    302.6,2,     5.27,2,    11.75,2,     0.00,2,     0.81,2,    5.182,2,    2.683,2,    0.379,2,    1.875,2,   2164.4,2,   2295.2,2,     -999,5,     -999,     52.5,2,     -999,9,     -999,9,     -999,9,   1.0363,2,     -999,9,     -999,9,     -999,    14.96,2,     -999,9,     -999,9,     -999,     -999,9,20150908,2044,    433.3,  89.0724,-150.4676,     -999,9,  35.0548,2
33HQ20150809  ,ARC01      ,36      ,  1,8          ,    6241,    -999,GSNIS-8    ,2,20150908,2017,  89.0741,-150.4833,     1273,    489.3,   0.9185,  34.8936,2,  34.8950,2,    301.5,2,    302.7,2,     5.37,2,    11.82,2,    -0.01,2,     0.82,2,     -999,9,     -999,9,     -999,9,     -999,9,     -999,9,     -999,9,     -999,9,     -999,     50.7,2,     -999,9,     -999,9,     -999,9,   0.9235,2,     -999,9,     -999,9,     -999,    15.60,2,     -999,1,     -999,9,     -999,     -999,9,20150908,2042,    483.4,  89.0725,-150.4687,     -999,9,  35.0595,2
33HQ20150809  ,ARC01      ,36      ,  1,7          ,    6241,    -999,GSNIS-7    ,2,20150908,2017,  89.0741,-150.4833,     1273,    540.2,   0.6023,  34.8796,2,  34.8777,2,    301.6,2,    300.8,2,     6.05,2,    12.11,2,     0.00,2,     0.83,2,    4.503,2,    2.222,2,    0.305,2,    1.303,2,   2163.5,2,   2292.5,2,   7.7009,2,    25.00,     52.8,2,     -999,9,     -999,9,     -999,9,   0.6039,2,     -999,9,     -999,9,     -999,    13.62,2,     -999,9,     -999,9,     -999,     -999,9,20150908,2040,    533.7,  89.0726,-150.4702,     -999,9,  35.0421,2
33HQ20150809  ,ARC01      ,36      ,  1,6          ,    6241,    -999,GSNIS-6    ,2,20150908,2017,  89.0741,-150.4833,     1273,    606.2,   0.3048,  34.8684,2,  34.8692,2,    300.1,2,    301.2,2,     6.25,2,    12.20,2,     0.00,2,     0.84,2,     -999,9,     -999,9,     -999,9,     -999,9,     -999,9,     -999,9,     -999,9,     -999,     54.4,2,     -999,9,     -999,9,     -999,9,   0.3050,2,     -999,9,     -999,9,     -999,    15.23,2,     -999,9,     -999,9,     -999,     -999,9,20150908,2037,    598.9,  89.0728,-150.4716,     -999,9,  35.0336,2
33HQ20150809  ,ARC01      ,36      ,  1,5          ,    6241,    -999,GSNIS-5    ,2,20150908,2017,  89.0741,-150.4833,     1273,    707.7,   0.1362,  34.8728,2,  34.8729,2,    300.2,2,    299.8,2,     6.74,2,    12.40,2,     0.00,2,     0.86,2,    3.383,2,    1.616,2,    0.196,2,    0.670,2,   2157.0,2,   2291.6,2,   7.7114,2,    25.00,     53.6,2,     -999,9,     -999,9,     -999,9,   0.1364,2,     -999,9,     -999,9,     -999,    14.37,2,     -999,9,     -999,9,     -999,     -999,9,20150908,2034,    698.9,  89.0730,-150.4732,     -999,9,  35.0374,2
33HQ20150809  ,ARC01      ,36      ,  1,4          ,    6241,    -999,GSNIS-4    ,2,20150908,2017,  89.0741,-150.4833,     1273,    860.3,   0.0206,  34.8883,2,  34.8881,2,    302.1,2,    302.4,2,     6.45,2,    12.27,2,     0.00,2,     0.85,2,     -999,9,     -999,9,     -999,9,     -999,9,     -999,9,     -999,9,     -999,9,     -999,     50.5,2,     -999,9,     -999,9,     -999,9,   0.0238,2,     -999,9,     -999,9,     -999,    14.52,2,     -999,9,     -999,9,     -999,     -999,9,20150908,2030,    849.3,  89.0732,-150.4755,     -999,9,  35.0526,2
33HQ20150809  ,ARC01      ,36      ,  1,3          ,    6241,    -999,GSNIS-3    ,2,20150908,2017,  89.0741,-150.4833,     1273,   1013.0,  -0.1549,  34.8939,2,  34.8948,2,    299.6,2,    299.7,2,     7.32,2,    12.75,2,     0.00,2,     0.90,2,    2.034,2,    0.983,2,    0.108,2,    0.395,2,   2151.8,2,   2297.2,2,   7.7182,2,    25.00,     53.0,2,     -999,9,     -999,9,     -999,9,  -0.1553,2,     -999,9,     -999,9,     -999,    15.62,2,     -999,9,     -999,9,     -999,     -999,9,20150908,2027,    999.7,  89.0735,-150.4779,     -999,9,  35.0593,2
33HQ20150809  ,ARC01      ,36      ,  1,2          ,    6241,    -999,GSNIS-2    ,2,20150908,2017,  89.0741,-150.4833,     1273,   1183.2,  -0.2589,  34.9071,2,  34.9083,2,    296.8,2,    299.3,2,     8.10,2,    13.08,2,     0.00,2,     0.91,2,    1.309,2,    0.631,2,    0.064,2,    0.275,2,   2149.6,2,   2297.8,6,   7.7246,2,    25.00,     50.5,2,     -999,9,     -999,9,     -999,9,  -0.2594,2,     -999,9,     -999,9,     -999,    15.85,2,     -999,9,     -999,9,     -999,     -999,9,20150908,2022,   1167.2,  89.0738,-150.4808,     -999,9,  35.0729,2
33HQ20150809  ,ARC01      ,36      ,  1,1          ,    6241,    -999,GSNIS-1    ,2,20150908,2017,  89.0741,-150.4833,     1273,   1285.0,  -0.3162,  34.9174,2,  34.9174,2,    298.6,2,    297.3,2,     8.89,2,    13.33,2,     0.00,2,     0.94,2,    1.104,2,    0.561,2,    0.055,2,    0.268,2,   2151.8,6,   2297.5,2,   7.7590,4,    25.00,     47.6,2,     -999,9,     -999,9,     -999,9,  -0.3161,2,     -999,9,     -999,9,     -999,    15.29,2,     -999,9,     -999,9,     -999,     -999,9,20150908,2017,   1267.3,  89.0741,-150.4834,     -999,9,  35.0820,2