BOTTLE,20221220CCHSIOAMB
EXPOCODE,SECT_ID,STNNBR,CASTNO,SAMPNO,GEOTR_EVENT,GEOTR_SAMPNO,BTLNBR,BTLNBR_FLAG_W,DATE,TIME,LATITUDE,LONGITUDE,DEPTH,CTDPRS,CTDTMP,CTDSAL,CTDSAL_FLAG_W,SALNTY,SALNTY_FLAG_W,CTDOXY,CTDOXY_FLAG_W,OXYGEN,OXYGEN_FLAG_W,SILCAT,SILCAT_FLAG_W,NITRAT,NITRAT_FLAG_W,NITRIT,NITRIT_FLAG_W,PHSPHT,PHSPHT_FLAG_W,CFC-11,CFC-11_FLAG_W,CFC-12,CFC-12_FLAG_W,CFC113,CFC113_FLAG_W,SF6,SF6_FLAG_W,TCARBN,TCARBN_FLAG_W,ALKALI,ALKALI_FLAG_W,PH_SWS,PH_SWS_FLAG_W,PH_TMP,DOC,DOC_FLAG_W,TRITUM,TRITUM_FLAG_W,HELIUM,HELIUM_FLAG_W,DELHE3,DELHE3_FLAG_W,REFTMP,REFTMP_FLAG_W,DELC13,DELC13_FLAG_W,DELC14,DELC14_FLAG_W,C14ERR,TDN,TDN_FLAG_W,DELO18,DELO18_FLAG_W,DELO17,DELO17_FLAG_W,CH4,CH4,CH4_FLAG_W,BTL_DATE,BTL_TIME,CTDDEPTH,BTL_LAT,BTL_LON,LAB_DEN,LAB_DEN_FLAG_W,SALTREF,SALTREF_FLAG_W
,,,,,,,,,,,,,METERS,DBAR,ITS-90,PSS-78,,PSS-78,,UMOL/KG,,UMOL/KG,,UMOL/KG,,UMOL/KG,,UMOL/KG,,UMOL/KG,,PMOL/KG,,PMOL/KG,,PMOL/KG,,FMOL/KG,,UMOL/KG,,UMOL/KG,,,,DEG C,UMOL/KG,,TU,,NMOL/KG,,PERCNT,,ITS-90,,/MILLE,,/MILLE,,/MILLE,UMOL/KG,,/MILLE,,/MILLE,,NMOL/KG,NMOL/L,,,,METERS,,,KG/M^3,,G/KG,
33HQ20150809  ,ARC01      ,14      ,  4,36         ,    6103,   10816,GSNIS-36   ,2,20150821,0525,  76.5499,-173.0990,     2257,      5.0,  -0.7995,  25.8397,2,     -999,9,    379.6,2,     -999,9,     2.16,2,     0.00,2,     0.00,2,     0.55,2,     -999,9,     -999,9,     -999,9,     -999,9,     -999,9,     -999,9,     -999,9,     -999,     -999,9,     -999,9,     -999,9,     -999,9,  -0.7987,2,     -999,9,     -999,9,     -999,     -999,9,     -999,9,     -999,9,     -999,     -999,9,20150821,0556,      4.9,  76.5494,-173.1179,     -999,9,     -999,9
33HQ20150809  ,ARC01      ,14      ,  4,35         ,    6103,   10816,GSNIS-35   ,2,20150821,0525,  76.5499,-173.0990,     2257,      5.0,  -0.8015,  25.8456,2,     -999,9,    381.3,2,     -999,9,     2.07,2,     0.02,2,     0.00,2,     0.54,2,     -999,9,     -999,9,     -999,9,     -999,9,     -999,9,     -999,9,     -999,9,     -999,     -999,9,     -999,9,     -999,9,     -999,9,  -0.7998,2,     -999,9,     -999,9,     -999,     -999,9,     -999,9,     -999,9,     -999,     -999,9,20150821,0556,      4.9,  76.5494,-173.1178,     -999,9,     -999,9
33HQ20150809  ,ARC01      ,14      ,  4,34         ,    6103,   10816,GSNIS-34   ,2,20150821,0525,  76.5499,-173.0990,     2257,      5.0,  -0.7999,  25.8418,2,  25.8596,2,    381.3,2,    382.6,2,     2.07,2,     0.00,2,     0.00,2,     0.53,2,     -999,9,     -999,9,     -999,9,     -999,9,     -999,9,     -999,9,     -999,9,     -999,     -999,9,     -999,9,     -999,9,     -999,9,  -0.8006,2,     -999,9,     -999,9,     -999,     -999,9,     -999,9,     -999,9,     -999,     -999,9,20150821,0556,      4.9,  76.5494,-173.1177,     -999,9,  25.9816,2
33HQ20150809  ,ARC01      ,14      ,  4,32         ,    6103,   10815,GSNIS-32   ,2,20150821,0525,  76.5499,-173.0990,     2257,     18.2,  -0.3301,  28.3243,2,     -999,9,    395.6,2,     -999,9,     2.36,2,     0.00,2,     0.00,2,     0.61,2,     -999,9,     -999,9,     -999,9,     -999,9,     -999,9,     -999,9,     -999,9,     -999,     -999,9,     -999,9,     -999,9,     -999,9,  -0.3307,2,     -999,9,     -999,9,     -999,     -999,9,     -999,9,     -999,9,     -999,     -999,9,20150821,0553,     18.0,  76.5494,-173.1162,     -999,9,     -999,9
33HQ20150809  ,ARC01      ,14      ,  4,33         ,    6103,   10815,GSNIS-33   ,2,20150821,0525,  76.5499,-173.0990,     2257,     18.2,  -0.3348,  28.3376,2,     -999,9,    395.6,2,     -999,9,     2.36,2,     0.00,2,     0.00,2,     0.62,2,     -999,9,     -999,9,     -999,9,     -999,9,     -999,9,     -999,9,     -999,9,     -999,     -999,9,     -999,9,     -999,9,     -999,9,  -0.3339,2,     -999,9,     -999,9,     -999,     -999,9,     -999,9,     -999,9,     -999,     -999,9,20150821,0554,     18.0,  76.5494,-173.1163,     -999,9,     -999,9
33HQ20150809  ,ARC01      ,14      ,  4,31         ,    6103,   10815,GSNIS-31   ,2,20150821,0525,  76.5499,-173.0990,     2257,     18.2,  -0.3368,  28.3427,2,  28.5816,2,    395.6,2,    392.2,2,     2.36,2,     0.01,2,     0.00,2,     0.61,2,     -999,9,     -999,9,     -999,9,     -999,9,     -999,9,     -999,9,     -999,9,     -999,     -999,9,     -999,9,     -999,9,     -999,9,  -0.3304,2,     -999,9,     -999,9,     -999,     -999,9,     -999,9,     -999,9,     -999,     -999,9,20150821,0553,     18.0,  76.5494,-173.1161,     -999,9,  28.7164,2
33HQ20150809  ,ARC01      ,14      ,  4,29         ,    6103,   10814,GSNIS-29   ,2,20150821,0525,  76.5499,-173.0990,     2257,     30.0,  -0.8207,  29.0677,2,     -999,9,    393.2,2,     -999,9,     2.55,2,     0.02,2,     0.00,2,     0.63,2,     -999,9,     -999,9,     -999,9,     -999,9,     -999,9,     -999,9,     -999,9,     -999,     -999,9,     -999,9,     -999,9,     -999,9,  -0.8207,2,     -999,9,     -999,9,     -999,     -999,9,     -999,9,     -999,9,     -999,     -999,9,20150821,0551,     29.7,  76.5494,-173.1148,     -999,9,     -999,9
33HQ20150809  ,ARC01      ,14      ,  4,28         ,    6103,   10814,GSNIS-28   ,2,20150821,0525,  76.5499,-173.0990,     2257,     30.0,  -0.8204,  29.0660,2,  29.2520,2,    393.2,2,    395.6,2,     2.55,2,     0.01,2,     0.00,2,     0.63,2,     -999,9,     -999,9,     -999,9,     -999,9,     -999,9,     -999,9,     -999,9,     -999,     -999,9,     -999,9,     -999,9,     -999,9,  -0.8199,2,     -999,9,     -999,9,     -999,     -999,9,     -999,9,     -999,9,     -999,     -999,9,20150821,0551,     29.7,  76.5494,-173.1147,     -999,9,  29.3899,2
33HQ20150809  ,ARC01      ,14      ,  4,30         ,    6103,   10814,GSNIS-30   ,2,20150821,0525,  76.5499,-173.0990,     2257,     30.0,  -0.8204,  29.0685,2,     -999,9,    393.2,2,     -999,9,     2.55,2,     0.00,2,     0.00,2,     0.63,2,     -999,9,     -999,9,     -999,9,     -999,9,     -999,9,     -999,9,     -999,9,     -999,     -999,9,     -999,9,     -999,9,     -999,9,  -0.8205,2,     -999,9,     -999,9,     -999,     -999,9,     -999,9,     -999,9,     -999,     -999,9,20150821,0551,     29.7,  76.5494,-173.1150,     -999,9,     -999,9
33HQ20150809  ,ARC01      ,14      ,  4,25         ,    6103,   10813,GSNIS-25   ,2,20150821,0525,  76.5499,-173.0990,     2257,     56.4,   0.0017,  30.9984,2,  31.3911,2,    364.3,2,    351.2,2,    10.48,3,     3.66,3,     0.06,3,     1.01,3,     -999,9,     -999,9,     -999,9,     -999,9,     -999,9,     -999,9,     -999,9,     -999,     -999,9,     -999,9,     -999,9,     -999,9,   0.0000,2,     -999,9,     -999,9,     -999,     -999,9,     -999,9,     -999,9,     -999,     -999,9,20150821,0548,     55.8,  76.5494,-173.1130,     -999,9,  31.5391,2
33HQ20150809  ,ARC01      ,14      ,  4,27         ,    6103,   10813,GSNIS-27   ,2,20150821,0525,  76.5499,-173.0990,     2257,     56.4,   0.0011,  31.0063,2,     -999,9,    364.3,2,     -999,9,     6.76,2,     1.11,2,     0.10,2,     0.83,2,     -999,9,     -999,9,     -999,9,     -999,9,     -999,9,     -999,9,     -999,9,     -999,     -999,9,     -999,9,     -999,9,     -999,9,   0.0013,2,     -999,9,     -999,9,     -999,     -999,9,     -999,9,     -999,9,     -999,     -999,9,20150821,0549,     55.8,  76.5494,-173.1133,     -999,9,     -999,9
33HQ20150809  ,ARC01      ,14      ,  4,26         ,    6103,   10813,GSNIS-26   ,2,20150821,0525,  76.5499,-173.0990,     2257,     56.4,   0.0015,  31.0012,2,     -999,9,    364.3,2,     -999,9,     7.05,2,     1.24,2,     0.08,2,     0.85,2,     -999,9,     -999,9,     -999,9,     -999,9,     -999,9,     -999,9,     -999,9,     -999,     -999,9,     -999,9,     -999,9,     -999,9,   0.0011,2,     -999,9,     -999,9,     -999,     -999,9,     -999,9,     -999,9,     -999,     -999,9,20150821,0548,     55.8,  76.5494,-173.1132,     -999,9,     -999,9
33HQ20150809  ,ARC01      ,14      ,  4,24         ,    6103,   10812,GSNIS-24   ,2,20150821,0525,  76.5499,-173.0990,     2257,     75.7,  -0.8088,  31.8113,2,     -999,9,    311.4,2,     -999,9,    17.43,2,     8.27,2,     0.01,2,     1.34,2,     -999,9,     -999,9,     -999,9,     -999,9,     -999,9,     -999,9,     -999,9,     -999,     -999,9,     -999,9,     -999,9,     -999,9,  -0.8086,2,     -999,9,     -999,9,     -999,     -999,9,     -999,9,     -999,9,     -999,     -999,9,20150821,0546,     74.9,  76.5494,-173.1118,     -999,9,     -999,9
33HQ20150809  ,ARC01      ,14      ,  4,22         ,    6103,   10812,GSNIS-22   ,2,20150821,0525,  76.5499,-173.0990,     2257,     75.7,  -0.8093,  31.8118,2,  31.8804,2,    311.4,2,    324.7,2,    16.94,2,     8.06,2,     0.01,2,     1.31,2,     -999,9,     -999,9,     -999,9,     -999,9,     -999,9,     -999,9,     -999,9,     -999,     -999,9,     -999,9,     -999,9,     -999,9,  -0.8099,2,     -999,9,     -999,9,     -999,     -999,9,     -999,9,     -999,9,     -999,     -999,9,20150821,0546,     74.9,  76.5494,-173.1115,     -999,9,  32.0307,2
33HQ20150809  ,ARC01      ,14      ,  4,23         ,    6103,   10812,GSNIS-23   ,2,20150821,0525,  76.5499,-173.0990,     2257,     75.7,  -0.8093,  31.8115,2,     -999,9,    311.4,2,     -999,9,    18.99,3,     8.95,3,     0.01,2,     1.39,3,     -999,9,     -999,9,     -999,9,     -999,9,     -999,9,     -999,9,     -999,9,     -999,     -999,9,     -999,9,     -999,9,     -999,9,  -0.8095,2,     -999,9,     -999,9,     -999,     -999,9,     -999,9,     -999,9,     -999,     -999,9,20150821,0546,     74.9,  76.5494,-173.1116,     -999,9,     -999,9
33HQ20150809  ,ARC01      ,14      ,  4,20         ,    6103,   10811,GSNIS-20   ,2,20150821,0525,  76.5499,-173.0990,     2257,    101.0,  -1.2754,  32.3193,2,     -999,9,    307.9,2,     -999,9,    25.74,2,    12.04,2,     0.00,2,     1.61,2,     -999,9,     -999,9,     -999,9,     -999,9,     -999,9,     -999,9,     -999,9,     -999,     -999,9,     -999,9,     -999,9,     -999,9,  -1.2756,2,     -999,9,     -999,9,     -999,     -999,9,     -999,9,     -999,9,     -999,     -999,9,20150821,0543,    100.0,  76.5494,-173.1100,     -999,9,     -999,9
33HQ20150809  ,ARC01      ,14      ,  4,19         ,    6103,   10811,GSNIS-19   ,2,20150821,0525,  76.5499,-173.0990,     2257,    101.0,  -1.2756,  32.3196,2,  32.3782,2,    307.9,2,    301.9,2,    26.13,2,    12.19,2,     0.00,2,     1.62,2,     -999,9,     -999,9,     -999,9,     -999,9,     -999,9,     -999,9,     -999,9,     -999,     -999,9,     -999,9,     -999,9,     -999,9,  -1.2753,2,     -999,9,     -999,9,     -999,     -999,9,     -999,9,     -999,9,     -999,     -999,9,20150821,0543,     99.9,  76.5494,-173.1098,     -999,9,  32.5309,2
33HQ20150809  ,ARC01      ,14      ,  4,21         ,    6103,   10811,GSNIS-21   ,2,20150821,0525,  76.5499,-173.0990,     2257,    101.0,  -1.2752,  32.3191,2,     -999,9,    307.9,2,     -999,9,    25.35,2,    11.91,2,     0.00,2,     1.60,2,     -999,9,     -999,9,     -999,9,     -999,9,     -999,9,     -999,9,     -999,9,     -999,     -999,9,     -999,9,     -999,9,     -999,9,  -1.2753,2,     -999,9,     -999,9,     -999,     -999,9,     -999,9,     -999,9,     -999,     -999,9,20150821,0543,    100.0,  76.5494,-173.1101,     -999,9,     -999,9
33HQ20150809  ,ARC01      ,14      ,  4,17         ,    6103,   10810,GSNIS-17   ,2,20150821,0525,  76.5499,-173.0990,     2257,    151.9,  -1.5075,  32.7958,2,     -999,9,    242.4,2,     -999,9,    44.42,2,    16.44,2,     0.00,2,     2.03,2,     -999,9,     -999,9,     -999,9,     -999,9,     -999,9,     -999,9,     -999,9,     -999,     -999,9,     -999,9,     -999,9,     -999,9,  -1.5070,2,     -999,9,     -999,9,     -999,     -999,9,     -999,9,     -999,9,     -999,     -999,9,20150821,0540,    150.3,  76.5494,-173.1078,     -999,9,     -999,9
33HQ20150809  ,ARC01      ,14      ,  4,16         ,    6103,   10810,GSNIS-16   ,2,20150821,0525,  76.5499,-173.0990,     2257,    151.9,  -1.5068,  32.7954,2,  32.7950,2,    242.4,2,    241.0,2,    45.30,2,    16.62,2,     0.00,2,     2.05,2,     -999,9,     -999,9,     -999,9,     -999,9,     -999,9,     -999,9,     -999,9,     -999,     -999,9,     -999,9,     -999,9,     -999,9,  -1.5060,2,     -999,9,     -999,9,     -999,     -999,9,     -999,9,     -999,9,     -999,     -999,9,20150821,0539,    150.2,  76.5494,-173.1077,     -999,9,  32.9497,2
33HQ20150809  ,ARC01      ,14      ,  4,18         ,    6103,   10810,GSNIS-18   ,2,20150821,0525,  76.5499,-173.0990,     2257,    152.0,  -1.5083,  32.7961,2,     -999,9,    238.4,2,     -999,9,    44.32,2,    16.48,2,     0.00,2,     2.03,2,     -999,9,     -999,9,     -999,9,     -999,9,     -999,9,     -999,9,     -999,9,     -999,     -999,9,     -999,9,     -999,9,     -999,9,  -1.5081,2,     -999,9,     -999,9,     -999,     -999,9,     -999,9,     -999,9,     -999,     -999,9,20150821,0540,    150.3,  76.5494,-173.1080,     -999,9,     -999,9
33HQ20150809  ,ARC01      ,14      ,  4,13         ,    6103,   10809,GSNIS-13   ,2,20150821,0525,  76.5499,-173.0990,     2257,    171.7,  -1.4964,  32.9395,2,  32.9425,2,    261.0,2,    258.7,2,    40.79,2,    15.96,2,     0.00,2,     1.93,2,     -999,9,     -999,9,     -999,9,     -999,9,     -999,9,     -999,9,     -999,9,     -999,     -999,9,     -999,9,     -999,9,     -999,9,  -1.4964,2,     -999,9,     -999,9,     -999,     -999,9,     -999,9,     -999,9,     -999,     -999,9,20150821,0537,    169.9,  76.5495,-173.1060,     -999,9,  33.0979,2
33HQ20150809  ,ARC01      ,14      ,  4,14         ,    6103,   10809,GSNIS-14   ,2,20150821,0525,  76.5499,-173.0990,     2257,    171.8,  -1.4951,  32.9413,2,     -999,9,    261.0,2,     -999,9,    40.30,2,    15.92,2,     0.00,2,     1.93,2,     -999,9,     -999,9,     -999,9,     -999,9,     -999,9,     -999,9,     -999,9,     -999,     -999,9,     -999,9,     -999,9,     -999,9,  -1.4956,2,     -999,9,     -999,9,     -999,     -999,9,     -999,9,     -999,9,     -999,     -999,9,20150821,0537,    170.0,  76.5495,-173.1062,     -999,9,     -999,9
33HQ20150809  ,ARC01      ,14      ,  4,15         ,    6103,   10809,GSNIS-15   ,2,20150821,0525,  76.5499,-173.0990,     2257,    171.9,  -1.4950,  32.9415,2,     -999,9,    261.0,2,     -999,9,    41.18,2,    16.01,2,     0.00,2,     1.96,2,     -999,9,     -999,9,     -999,9,     -999,9,     -999,9,     -999,9,     -999,9,     -999,     -999,9,     -999,9,     -999,9,     -999,9,  -1.4950,2,     -999,9,     -999,9,     -999,     -999,9,     -999,9,     -999,9,     -999,     -999,9,20150821,0537,    170.1,  76.5495,-173.1064,     -999,9,     -999,9
33HQ20150809  ,ARC01      ,14      ,  4,10         ,    6103,   10808,GSNIS-10   ,2,20150821,0525,  76.5499,-173.0990,     2257,    207.0,  -1.4009,  33.2205,2,  33.2368,4,    264.7,2,    264.2,2,    37.46,2,    16.20,2,     0.00,2,     1.91,2,     -999,9,     -999,9,     -999,9,     -999,9,     -999,9,     -999,9,     -999,9,     -999,     -999,9,     -999,9,     -999,9,     -999,9,  -1.4010,2,     -999,9,     -999,9,     -999,     -999,9,     -999,9,     -999,9,     -999,     -999,9,20150821,0535,    204.8,  76.5495,-173.1047,     -999,9,  33.3936,2
33HQ20150809  ,ARC01      ,14      ,  4,11         ,    6103,   10808,GSNIS-11   ,2,20150821,0525,  76.5499,-173.0990,     2257,    207.1,  -1.4010,  33.2214,2,     -999,9,    264.7,2,     -999,9,    37.46,2,    16.20,2,     0.00,2,     1.91,2,     -999,9,     -999,9,     -999,9,     -999,9,     -999,9,     -999,9,     -999,9,     -999,     -999,9,     -999,9,     -999,9,     -999,9,  -1.4006,2,     -999,9,     -999,9,     -999,     -999,9,     -999,9,     -999,9,     -999,     -999,9,20150821,0535,    204.8,  76.5495,-173.1049,     -999,9,     -999,9
33HQ20150809  ,ARC01      ,14      ,  4,12         ,    6103,   10808,GSNIS-12   ,2,20150821,0525,  76.5499,-173.0990,     2257,    207.1,  -1.4011,  33.2238,2,     -999,9,    264.7,2,     -999,9,    37.65,2,    16.20,2,     0.00,2,     1.94,2,     -999,9,     -999,9,     -999,9,     -999,9,     -999,9,     -999,9,     -999,9,     -999,     -999,9,     -999,9,     -999,9,     -999,9,  -1.4008,2,     -999,9,     -999,9,     -999,     -999,9,     -999,9,     -999,9,     -999,     -999,9,20150821,0535,    204.9,  76.5495,-173.1050,     -999,9,     -999,9
33HQ20150809  ,ARC01      ,14      ,  4,7          ,    6103,   10807,GSNIS-7    ,2,20150821,0525,  76.5499,-173.0990,     2257,    278.4,  -0.1562,  34.4852,2,  34.4903,4,    255.3,2,    262.3,2,    15.54,2,    12.86,2,     0.00,2,     1.04,2,     -999,9,     -999,9,     -999,9,     -999,9,     -999,9,     -999,9,     -999,9,     -999,     -999,9,     -999,9,     -999,9,     -999,9,  -0.1611,2,     -999,9,     -999,9,     -999,     -999,9,     -999,9,     -999,9,     -999,     -999,9,20150821,0531,    275.3,  76.5496,-173.1028,     -999,9,  34.6529,2
33HQ20150809  ,ARC01      ,14      ,  4,8          ,    6103,   10807,GSNIS-8    ,2,20150821,0525,  76.5499,-173.0990,     2257,    278.5,  -0.1565,  34.4855,2,     -999,9,    255.3,2,     -999,9,    15.54,2,    12.71,2,     0.00,2,     1.03,2,     -999,9,     -999,9,     -999,9,     -999,9,     -999,9,     -999,9,     -999,9,     -999,     -999,9,     -999,9,     -999,9,     -999,9,  -0.1618,2,     -999,9,     -999,9,     -999,     -999,9,     -999,9,     -999,9,     -999,     -999,9,20150821,0532,    275.4,  76.5496,-173.1030,     -999,9,     -999,9
33HQ20150809  ,ARC01      ,14      ,  4,9          ,    6103,   10807,GSNIS-9    ,2,20150821,0525,  76.5499,-173.0990,     2257,    278.6,  -0.1611,  34.4847,2,     -999,9,    255.3,2,     -999,9,    15.54,2,    12.73,2,     0.00,2,     1.02,2,     -999,9,     -999,9,     -999,9,     -999,9,     -999,9,     -999,9,     -999,9,     -999,     -999,9,     -999,9,     -999,9,     -999,9,  -0.1622,2,     -999,9,     -999,9,     -999,     -999,9,     -999,9,     -999,9,     -999,     -999,9,20150821,0532,    275.5,  76.5496,-173.1032,     -999,9,     -999,9
33HQ20150809  ,ARC01      ,14      ,  4,4          ,    6103,   10806,GSNIS-4    ,2,20150821,0525,  76.5499,-173.0990,     2257,    379.6,   0.7819,  34.7981,2,  34.7989,4,    291.3,2,    290.1,2,     6.25,2,    12.56,3,     0.00,2,     0.84,2,     -999,9,     -999,9,     -999,9,     -999,9,     -999,9,     -999,9,     -999,9,     -999,     -999,9,     -999,9,     -999,9,     -999,9,   0.7820,2,     -999,9,     -999,9,     -999,     -999,9,     -999,9,     -999,9,     -999,     -999,9,20150821,0528,    375.3,  76.5498,-173.1007,     -999,9,  34.9630,2
33HQ20150809  ,ARC01      ,14      ,  4,5          ,    6103,   10806,GSNIS-5    ,2,20150821,0525,  76.5499,-173.0990,     2257,    379.8,   0.7820,  34.7981,2,     -999,9,    291.8,2,     -999,9,     6.35,2,    12.16,2,     0.00,2,     0.83,2,     -999,9,     -999,9,     -999,9,     -999,9,     -999,9,     -999,9,     -999,9,     -999,     -999,9,     -999,9,     -999,9,     -999,9,   0.7820,2,     -999,9,     -999,9,     -999,     -999,9,     -999,9,     -999,9,     -999,     -999,9,20150821,0528,    375.5,  76.5498,-173.1009,     -999,9,     -999,9
33HQ20150809  ,ARC01      ,14      ,  4,6          ,    6103,   10806,GSNIS-6    ,2,20150821,0525,  76.5499,-173.0990,     2257,    379.9,   0.7820,  34.7981,2,     -999,9,    291.8,2,     -999,9,     6.35,2,    12.16,2,     0.00,2,     0.84,2,     -999,9,     -999,9,     -999,9,     -999,9,     -999,9,     -999,9,     -999,9,     -999,     -999,9,     -999,9,     -999,9,     -999,9,   0.7820,2,     -999,9,     -999,9,     -999,     -999,9,     -999,9,     -999,9,     -999,     -999,9,20150821,0528,    375.6,  76.5498,-173.1010,     -999,9,     -999,9