BOTTLE,20221220CCHSIOAMB
EXPOCODE,SECT_ID,STNNBR,CASTNO,SAMPNO,GEOTR_EVENT,GEOTR_SAMPNO,BTLNBR,BTLNBR_FLAG_W,DATE,TIME,LATITUDE,LONGITUDE,DEPTH,CTDPRS,CTDTMP,CTDSAL,CTDSAL_FLAG_W,SALNTY,SALNTY_FLAG_W,CTDOXY,CTDOXY_FLAG_W,OXYGEN,OXYGEN_FLAG_W,SILCAT,SILCAT_FLAG_W,NITRAT,NITRAT_FLAG_W,NITRIT,NITRIT_FLAG_W,PHSPHT,PHSPHT_FLAG_W,CFC-11,CFC-11_FLAG_W,CFC-12,CFC-12_FLAG_W,CFC113,CFC113_FLAG_W,SF6,SF6_FLAG_W,TCARBN,TCARBN_FLAG_W,ALKALI,ALKALI_FLAG_W,PH_SWS,PH_SWS_FLAG_W,PH_TMP,DOC,DOC_FLAG_W,TRITUM,TRITUM_FLAG_W,HELIUM,HELIUM_FLAG_W,DELHE3,DELHE3_FLAG_W,REFTMP,REFTMP_FLAG_W,DELC13,DELC13_FLAG_W,DELC14,DELC14_FLAG_W,C14ERR,TDN,TDN_FLAG_W,DELO18,DELO18_FLAG_W,DELO17,DELO17_FLAG_W,CH4,CH4,CH4_FLAG_W,BTL_DATE,BTL_TIME,CTDDEPTH,BTL_LAT,BTL_LON,LAB_DEN,LAB_DEN_FLAG_W,SALTREF,SALTREF_FLAG_W
,,,,,,,,,,,,,METERS,DBAR,ITS-90,PSS-78,,PSS-78,,UMOL/KG,,UMOL/KG,,UMOL/KG,,UMOL/KG,,UMOL/KG,,UMOL/KG,,PMOL/KG,,PMOL/KG,,PMOL/KG,,FMOL/KG,,UMOL/KG,,UMOL/KG,,,,DEG C,UMOL/KG,,TU,,NMOL/KG,,PERCNT,,ITS-90,,/MILLE,,/MILLE,,/MILLE,UMOL/KG,,/MILLE,,/MILLE,,NMOL/KG,NMOL/L,,,,METERS,,,KG/M^3,,G/KG,
33HQ20150809  ,ARC01      ,57      ,  2,36         ,    6439,   12109,GSNIS-36   ,2,20151002,2027,  73.4316,-156.7685,     3512,    556.0,   0.6147,  34.8499,2,     -999,9,    279.0,2,     -999,9,     7.03,2,    12.62,2,     0.00,2,     0.86,2,     -999,9,     -999,9,     -999,9,     -999,9,     -999,9,     -999,9,     -999,9,     -999,     -999,9,     -999,9,     -999,9,     -999,9,   0.6147,2,     -999,9,     -999,9,     -999,     -999,9,     -999,9,     -999,9,     -999,     -999,9,20151002,2152,    549.5,  73.4141,-156.7392,     -999,9,     -999,9
33HQ20150809  ,ARC01      ,57      ,  2,34         ,    6439,   12109,GSNIS-34   ,2,20151002,2027,  73.4316,-156.7685,     3512,    558.4,   0.6111,  34.8495,2,  34.8501,2,    278.3,2,    294.2,2,     7.03,2,    12.63,2,     0.00,2,     0.86,2,    4.468,2,    2.075,2,    0.249,2,    0.888,2,   2156.7,2,   2295.3,2,   7.6029,4,    25.00,     52.0,2,     -999,1,     -999,1,     -999,1,   0.6108,2,     1.05,3,     34.1,2,      1.9,    16.20,2,     -999,1,     -999,9,     -999,     -999,1,20151002,2151,    551.9,  73.4143,-156.7403,     -999,9,  35.0144,2
33HQ20150809  ,ARC01      ,57      ,  2,35         ,    6439,   12109,GSNIS-35   ,2,20151002,2027,  73.4316,-156.7685,     3512,    558.9,   0.6103,  34.8495,2,     -999,9,    278.3,2,     -999,9,     7.33,2,    12.69,2,     0.00,2,     0.85,2,     -999,9,     -999,9,     -999,9,     -999,9,     -999,9,     -999,9,     -999,9,     -999,     -999,9,     -999,9,     -999,9,     -999,9,   0.6106,2,     -999,9,     -999,9,     -999,     -999,9,     -999,9,     -999,9,     -999,     -999,9,20151002,2151,    552.4,  73.4142,-156.7400,     -999,9,     -999,9
33HQ20150809  ,ARC01      ,57      ,  2,31         ,    6439,   12110,GSNIS-31   ,2,20151002,2027,  73.4316,-156.7685,     3512,    668.6,   0.4361,  34.8588,2,  34.8595,2,    279.6,2,    296.6,2,     7.03,2,    12.60,2,     0.00,2,     0.85,2,    4.342,2,    1.860,2,    0.215,2,    0.786,2,   2155.8,2,   2293.0,2,   7.7083,2,    25.00,     50.4,2,     -999,1,     -999,1,     -999,1,   0.4352,2,     0.92,2,     31.3,2,      2.0,    14.55,2,     -999,1,     -999,9,     -999,     -999,1,20151002,2146,    660.7,  73.4154,-156.7431,     -999,9,  35.0239,2
33HQ20150809  ,ARC01      ,57      ,  2,32         ,    6439,   12110,GSNIS-32   ,2,20151002,2027,  73.4316,-156.7685,     3512,    669.3,   0.4352,  34.8585,2,     -999,9,    279.9,2,     -999,9,     7.03,2,    12.59,2,     0.00,2,     0.83,2,     -999,9,     -999,9,     -999,9,     -999,9,     -999,9,     -999,9,     -999,9,     -999,     -999,9,     -999,9,     -999,9,     -999,9,   0.4351,2,     -999,9,     -999,9,     -999,     -999,9,     -999,9,     -999,9,     -999,     -999,9,20151002,2146,    661.4,  73.4153,-156.7430,     -999,9,     -999,9
33HQ20150809  ,ARC01      ,57      ,  2,33         ,    6439,   12110,GSNIS-33   ,2,20151002,2027,  73.4316,-156.7685,     3512,    669.9,   0.4354,  34.8586,2,     -999,9,    279.9,2,     -999,9,     7.03,2,    12.62,2,     0.00,2,     0.86,2,     -999,9,     -999,9,     -999,9,     -999,9,     -999,9,     -999,9,     -999,9,     -999,     -999,9,     -999,9,     -999,9,     -999,9,   0.4347,2,     -999,9,     -999,9,     -999,     -999,9,     -999,9,     -999,9,     -999,     -999,9,20151002,2147,    661.9,  73.4151,-156.7426,     -999,9,     -999,9
33HQ20150809  ,ARC01      ,57      ,  2,30         ,    6439,   12111,GSNIS-30   ,2,20151002,2027,  73.4316,-156.7685,     3512,    760.4,   0.2874,  34.8633,2,     -999,9,    283.4,2,     -999,9,     6.84,2,    12.53,2,     0.00,2,     0.87,2,     -999,9,     -999,9,     -999,9,     -999,9,     -999,9,     -999,9,     -999,9,     -999,     -999,9,     -999,9,     -999,9,     -999,9,   0.2865,2,     -999,9,     -999,9,     -999,     -999,9,     -999,9,     -999,9,     -999,     -999,9,20151002,2143,    751.2,  73.4163,-156.7446,     -999,9,     -999,9
33HQ20150809  ,ARC01      ,57      ,  2,28         ,    6439,   12111,GSNIS-28   ,2,20151002,2027,  73.4316,-156.7685,     3512,    760.7,   0.2866,  34.8631,2,  34.8627,2,    283.4,2,    298.0,2,     6.74,2,    12.52,2,     0.00,2,     0.86,2,    3.985,2,    1.833,2,    0.215,2,    0.730,2,   2156.6,2,   2296.1,2,   7.7079,2,    25.00,     50.6,2,     -999,1,     -999,1,     -999,1,   0.2857,2,     0.91,2,     14.2,2,      2.2,    15.31,2,     -999,1,     -999,9,     -999,     -999,1,20151002,2142,    751.5,  73.4165,-156.7450,     -999,9,  35.0271,2
33HQ20150809  ,ARC01      ,57      ,  2,29         ,    6439,   12111,GSNIS-29   ,2,20151002,2027,  73.4316,-156.7685,     3512,    761.4,   0.2869,  34.8630,2,     -999,9,    283.6,2,     -999,9,     6.84,2,    12.53,2,     0.00,2,     0.86,2,     -999,9,     -999,9,     -999,9,     -999,9,     -999,9,     -999,9,     -999,9,     -999,     -999,9,     -999,9,     -999,9,     -999,9,   0.2876,2,     -999,9,     -999,9,     -999,     -999,9,     -999,9,     -999,9,     -999,     -999,9,20151002,2142,    752.1,  73.4165,-156.7450,     -999,9,     -999,9
33HQ20150809  ,ARC01      ,57      ,  2,27         ,    6439,   12112,GSNIS-27   ,2,20151002,2027,  73.4316,-156.7685,     3512,    961.5,   0.0216,  34.8758,2,     -999,9,    287.6,2,     -999,9,     6.94,2,    12.60,2,     0.00,2,     0.86,2,     -999,9,     -999,9,     -999,9,     -999,9,     -999,9,     -999,9,     -999,9,     -999,     -999,9,     -999,9,     -999,9,     -999,9,   0.0215,2,     -999,9,     -999,9,     -999,     -999,9,     -999,9,     -999,9,     -999,     -999,9,20151002,2136,    949.4,  73.4180,-156.7479,     -999,9,     -999,9
33HQ20150809  ,ARC01      ,57      ,  2,26         ,    6439,   12112,GSNIS-26   ,2,20151002,2027,  73.4316,-156.7685,     3512,    962.1,   0.0211,  34.8759,2,     -999,9,    287.6,2,     -999,9,     7.03,2,    12.79,2,     0.00,2,     0.87,2,     -999,9,     -999,9,     -999,9,     -999,9,     -999,9,     -999,9,     -999,9,     -999,     -999,9,     -999,9,     -999,9,     -999,9,   0.0210,2,     -999,9,     -999,9,     -999,     -999,9,     -999,9,     -999,9,     -999,     -999,9,20151002,2136,    950.0,  73.4181,-156.7481,     -999,9,     -999,9
33HQ20150809  ,ARC01      ,57      ,  2,25         ,    6439,   12112,GSNIS-25   ,2,20151002,2027,  73.4316,-156.7685,     3512,    963.5,   0.0216,  34.8753,2,  34.8760,2,    288.2,2,    299.6,2,     7.03,2,    12.59,2,     0.00,2,     0.87,2,    3.370,2,    1.555,2,    0.178,2,    0.673,2,   2156.6,2,   2297.8,2,   8.0041,4,    25.00,     50.2,2,     -999,1,     -999,1,     -999,1,   0.0210,2,     0.95,2,     13.8,2,      2.0,    15.33,2,     -999,1,     -999,9,     -999,     -999,1,20151002,2135,    951.4,  73.4182,-156.7482,     -999,9,  35.0405,2
33HQ20150809  ,ARC01      ,57      ,  2,23         ,    6439,   12113,GSNIS-23   ,2,20151002,2027,  73.4316,-156.7685,     3512,   1316.2,  -0.2350,  34.8988,2,     -999,9,    292.0,2,     -999,9,     8.01,2,    12.93,2,     0.00,2,     0.90,2,     -999,9,     -999,9,     -999,9,     -999,9,     -999,9,     -999,9,     -999,9,     -999,     -999,9,     -999,9,     -999,9,     -999,9,  -0.2363,2,     -999,9,     -999,9,     -999,     -999,9,     -999,9,     -999,9,     -999,     -999,9,20151002,2127,   1298.6,  73.4198,-156.7524,     -999,9,     -999,9
33HQ20150809  ,ARC01      ,57      ,  2,22         ,    6439,   12113,GSNIS-22   ,2,20151002,2027,  73.4316,-156.7685,     3512,   1317.9,  -0.2390,  34.8985,2,  34.8992,2,    293.8,2,    300.3,2,     7.91,2,    12.93,2,     0.00,2,     0.89,2,    2.354,2,    1.120,2,    0.131,2,    0.618,2,   2155.4,2,   2300.1,2,   7.7108,2,    25.00,     50.0,2,     -999,1,     -999,1,     -999,1,  -0.2394,2,     1.15,2,    -12.0,2,      2.0,    15.92,2,     -999,1,     -999,9,     -999,     -999,1,20151002,2127,   1300.2,  73.4198,-156.7525,     -999,9,  35.0638,2
33HQ20150809  ,ARC01      ,57      ,  2,24         ,    6439,   12113,GSNIS-24   ,2,20151002,2027,  73.4316,-156.7685,     3512,   1319.0,  -0.2372,  34.8986,2,     -999,9,    293.8,2,     -999,9,     7.82,2,    12.96,2,     0.00,2,     0.90,2,     -999,9,     -999,9,     -999,9,     -999,9,     -999,9,     -999,9,     -999,9,     -999,     -999,9,     -999,9,     -999,9,     -999,9,  -0.2338,3,     -999,9,     -999,9,     -999,     -999,9,     -999,9,     -999,9,     -999,     -999,9,20151002,2128,   1301.3,  73.4197,-156.7522,     -999,9,     -999,9
33HQ20150809  ,ARC01      ,57      ,  2,20         ,    6439,   12114,GSNIS-20   ,2,20151002,2027,  73.4316,-156.7685,     3512,   1621.8,  -0.3562,  34.9186,2,     -999,9,    294.4,2,     -999,9,     9.09,2,    13.49,2,     0.00,2,     0.93,2,     -999,9,     -999,9,     -999,9,     -999,9,     -999,9,     -999,9,     -999,9,     -999,     -999,9,     -999,9,     -999,9,     -999,9,  -0.3567,2,     -999,9,     -999,9,     -999,     -999,9,     -999,9,     -999,9,     -999,     -999,9,20151002,2119,   1598.8,  73.4208,-156.7560,     -999,9,     -999,9
33HQ20150809  ,ARC01      ,57      ,  2,19         ,    6439,   12114,GSNIS-19   ,2,20151002,2027,  73.4316,-156.7685,     3512,   1622.3,  -0.3571,  34.9190,2,  34.9224,4,    294.4,2,    297.5,2,     9.09,2,    13.50,2,     0.00,2,     0.94,2,    1.168,2,    0.555,2,    0.060,2,    0.325,2,   2151.1,2,   2301.0,2,   7.7199,2,    25.00,     49.3,2,     -999,1,     -999,1,     -999,1,  -0.3575,2,     1.24,2,     -999,1,     -999,    15.12,2,     -999,1,     -999,9,     -999,     -999,1,20151002,2119,   1599.4,  73.4208,-156.7560,     -999,9,  35.0871,4
33HQ20150809  ,ARC01      ,57      ,  2,21         ,    6439,   12114,GSNIS-21   ,2,20151002,2027,  73.4316,-156.7685,     3512,   1624.3,  -0.3574,  34.9188,2,     -999,9,    295.6,2,     -999,9,     9.09,2,    13.50,2,     0.00,2,     0.94,2,     -999,9,     -999,9,     -999,9,     -999,9,     -999,9,     -999,9,     -999,9,     -999,     -999,9,     -999,9,     -999,9,     -999,9,  -0.3568,2,     -999,9,     -999,9,     -999,     -999,9,     -999,9,     -999,9,     -999,     -999,9,20151002,2119,   1601.3,  73.4207,-156.7559,     -999,9,     -999,9
33HQ20150809  ,ARC01      ,57      ,  2,18         ,    6439,   12115,GSNIS-18   ,2,20151002,2027,  73.4316,-156.7685,     3512,   2030.8,  -0.4021,  34.9408,2,     -999,9,    291.5,2,     -999,9,    11.43,2,    14.18,2,     0.00,2,     0.99,2,     -999,9,     -999,9,     -999,9,     -999,9,     -999,9,     -999,9,     -999,9,     -999,     -999,9,     -999,9,     -999,9,     -999,9,  -0.4024,2,     -999,9,     -999,9,     -999,     -999,9,     -999,9,     -999,9,     -999,     -999,9,20151002,2107,   2000.1,  73.4222,-156.7610,     -999,9,     -999,9
33HQ20150809  ,ARC01      ,57      ,  2,16         ,    6439,   12115,GSNIS-16   ,2,20151002,2027,  73.4316,-156.7685,     3512,   2031.1,  -0.4022,  34.9407,2,  34.9409,2,    291.5,2,    290.8,2,    11.33,2,    14.19,2,     0.00,2,     0.98,2,    0.343,2,    0.146,2,    0.016,2,    0.155,2,   2150.4,2,   2302.0,2,   7.7323,2,    25.00,     47.7,2,     -999,1,     -999,1,     -999,1,  -0.4024,2,     1.20,2,    -88.4,2,      1.9,    17.36,2,     -999,1,     -999,9,     -999,     -999,1,20151002,2107,   2000.4,  73.4224,-156.7610,     -999,9,  35.1057,2
33HQ20150809  ,ARC01      ,57      ,  2,17         ,    6439,   12115,GSNIS-17   ,2,20151002,2027,  73.4316,-156.7685,     3512,   2032.5,  -0.4021,  34.9406,2,     -999,9,    291.5,2,     -999,9,    11.43,2,    14.18,2,     0.00,2,     1.00,2,     -999,9,     -999,9,     -999,9,     -999,9,     -999,9,     -999,9,     -999,9,     -999,     -999,9,     -999,9,     -999,9,     -999,9,  -0.4024,2,     -999,9,     -999,9,     -999,     -999,9,     -999,9,     -999,9,     -999,     -999,9,20151002,2107,   2001.8,  73.4223,-156.7610,     -999,9,     -999,9
33HQ20150809  ,ARC01      ,57      ,  2,15         ,    6439,   12116,GSNIS-15   ,2,20151002,2027,  73.4316,-156.7685,     3512,   2439.5,  -0.3807,  34.9502,2,     -999,9,    287.4,2,     -999,9,    12.41,2,    14.40,2,     0.00,2,     1.00,2,     -999,9,     -999,9,     -999,9,     -999,9,     -999,9,     -999,9,     -999,9,     -999,     -999,9,     -999,9,     -999,9,     -999,9,  -0.3807,2,     -999,9,     -999,9,     -999,     -999,9,     -999,9,     -999,9,     -999,     -999,9,20151002,2100,   2400.4,  73.4256,-156.7611,     -999,9,     -999,9
33HQ20150809  ,ARC01      ,57      ,  2,13         ,    6439,   12116,GSNIS-13   ,2,20151002,2027,  73.4316,-156.7685,     3512,   2439.9,  -0.3805,  34.9503,2,  34.9500,2,    287.4,2,    287.0,2,    12.51,2,    14.42,2,     0.00,2,     1.01,2,    0.089,2,    0.035,2,    0.004,2,    0.050,2,   2151.1,2,   2301.9,2,   7.7350,2,    25.00,     45.6,2,     -999,1,     -999,1,     -999,1,  -0.3807,2,     1.22,2,   -105.5,2,      2.1,    17.89,2,     -999,1,     -999,9,     -999,     -999,1,20151002,2059,   2400.8,  73.4257,-156.7611,     -999,9,  35.1148,2
33HQ20150809  ,ARC01      ,57      ,  2,14         ,    6439,   12116,GSNIS-14   ,2,20151002,2027,  73.4316,-156.7685,     3512,   2440.3,  -0.3806,  34.9504,2,     -999,9,    287.4,2,     -999,9,    12.41,2,    14.42,2,     0.00,2,     1.01,2,     -999,9,     -999,9,     -999,9,     -999,9,     -999,9,     -999,9,     -999,9,     -999,     -999,9,     -999,9,     -999,9,     -999,9,  -0.3805,2,     -999,9,     -999,9,     -999,     -999,9,     -999,9,     -999,9,     -999,     -999,9,20151002,2059,   2401.2,  73.4256,-156.7611,     -999,9,     -999,9
33HQ20150809  ,ARC01      ,57      ,  2,10         ,    6439,   12117,GSNIS-10   ,2,20151002,2027,  73.4316,-156.7685,     3512,   2951.1,  -0.3385,  34.9550,2,  34.9512,4,    283.9,2,    285.1,2,    13.09,2,    14.63,2,     0.00,2,     1.01,2,    0.028,2,    0.006,2,    0.000,2,    0.000,2,   2152.2,2,   2303.0,2,   7.7333,2,    25.00,     44.7,2,     -999,1,     -999,1,     -999,1,  -0.3387,2,     1.21,2,   -108.3,2,      1.9,    17.18,2,     -999,1,     -999,9,     -999,     -999,1,20151002,2050,   2900.3,  73.4299,-156.7614,     -999,9,  35.1160,4
33HQ20150809  ,ARC01      ,57      ,  2,12         ,    6439,   12117,GSNIS-12   ,2,20151002,2027,  73.4316,-156.7685,     3512,   2951.6,  -0.3386,  34.9551,2,     -999,9,    283.9,2,     -999,9,    13.09,2,    14.49,2,     0.00,2,     1.01,2,     -999,9,     -999,9,     -999,9,     -999,9,     -999,9,     -999,9,     -999,9,     -999,     -999,9,     -999,9,     -999,9,     -999,9,  -0.3384,2,     -999,9,     -999,9,     -999,     -999,9,     -999,9,     -999,9,     -999,     -999,9,20151002,2050,   2900.8,  73.4297,-156.7614,     -999,9,     -999,9
33HQ20150809  ,ARC01      ,57      ,  2,11         ,    6439,   12117,GSNIS-11   ,2,20151002,2027,  73.4316,-156.7685,     3512,   2951.6,  -0.3385,  34.9550,2,     -999,9,    283.9,2,     -999,9,    13.09,2,    14.48,2,     0.00,2,     1.01,2,     -999,9,     -999,9,     -999,9,     -999,9,     -999,9,     -999,9,     -999,9,     -999,     -999,9,     -999,9,     -999,9,     -999,9,  -0.3388,2,     -999,9,     -999,9,     -999,     -999,9,     -999,9,     -999,9,     -999,     -999,9,20151002,2050,   2900.8,  73.4298,-156.7614,     -999,9,     -999,9
33HQ20150809  ,ARC01      ,57      ,  2,7          ,    6439,   12118,GSNIS-7    ,2,20151002,2027,  73.4316,-156.7685,     3512,   3422.8,  -0.2938,  34.9562,2,  34.9557,2,    282.1,2,    283.7,2,    13.38,2,    14.54,2,     0.00,2,     1.02,2,    0.013,2,    0.003,2,    0.000,2,    0.000,2,   2154.3,2,   2302.4,2,   7.7307,2,    25.00,     45.3,2,     -999,1,     -999,1,     -999,1,  -0.2941,2,     1.21,2,   -115.1,2,      1.9,    17.24,2,     -999,1,     -999,9,     -999,     -999,1,20151002,2040,   3360.3,  73.4321,-156.7634,     -999,9,  35.1205,2
33HQ20150809  ,ARC01      ,57      ,  2,9          ,    6439,   12118,GSNIS-9    ,2,20151002,2027,  73.4316,-156.7685,     3512,   3422.8,  -0.2941,  34.9565,2,     -999,9,    282.1,2,     -999,9,    13.48,2,    14.51,2,     0.00,2,     1.01,2,     -999,9,     -999,9,     -999,9,     -999,9,     -999,9,     -999,9,     -999,9,     -999,     -999,9,     -999,9,     -999,9,     -999,9,  -0.2940,2,     -999,9,     -999,9,     -999,     -999,9,     -999,9,     -999,9,     -999,     -999,9,20151002,2041,   3360.3,  73.4321,-156.7635,     -999,9,     -999,9
33HQ20150809  ,ARC01      ,57      ,  2,8          ,    6439,   12118,GSNIS-8    ,2,20151002,2027,  73.4316,-156.7685,     3512,   3423.2,  -0.2938,  34.9561,2,     -999,9,    282.7,2,     -999,9,    13.38,2,    14.51,2,     0.00,2,     1.02,2,     -999,9,     -999,9,     -999,9,     -999,9,     -999,9,     -999,9,     -999,9,     -999,     -999,9,     -999,9,     -999,9,     -999,9,  -0.2941,2,     -999,9,     -999,9,     -999,     -999,9,     -999,9,     -999,9,     -999,     -999,9,20151002,2040,   3360.7,  73.4321,-156.7635,     -999,9,     -999,9
33HQ20150809  ,ARC01      ,57      ,  2,4          ,    6439,   12119,GSNIS-4    ,2,20151002,2027,  73.4316,-156.7685,     3512,   3500.5,  -0.2866,  34.9562,2,  34.9561,2,    283.4,2,    283.9,2,    13.48,2,    14.51,2,     0.00,2,     1.02,2,    0.011,2,    0.000,2,    0.000,2,    0.000,2,   2153.5,2,   2304.4,2,   7.7295,2,    25.00,     45.3,2,     -999,1,     -999,1,     -999,1,  -0.2868,2,     1.20,2,   -118.4,2,      1.8,    15.74,2,     -999,1,     -999,9,     -999,     -999,1,20151002,2035,   3436.0,  73.4313,-156.7636,     -999,9,  35.1209,2
33HQ20150809  ,ARC01      ,57      ,  2,6          ,    6439,   12119,GSNIS-6    ,2,20151002,2027,  73.4316,-156.7685,     3512,   3501.2,  -0.2867,  34.9564,2,     -999,9,    283.4,2,     -999,9,    13.38,2,    14.53,2,     0.00,2,     1.01,2,     -999,9,     -999,9,     -999,9,     -999,9,     -999,9,     -999,9,     -999,9,     -999,     -999,9,     -999,9,     -999,9,     -999,9,  -0.2867,2,     -999,9,     -999,9,     -999,     -999,9,     -999,9,     -999,9,     -999,     -999,9,20151002,2035,   3436.6,  73.4313,-156.7634,     -999,9,     -999,9
33HQ20150809  ,ARC01      ,57      ,  2,5          ,    6439,   12119,GSNIS-5    ,2,20151002,2027,  73.4316,-156.7685,     3512,   3501.2,  -0.2866,  34.9562,2,     -999,9,    283.4,2,     -999,9,    13.48,2,    14.52,2,     0.00,2,     1.01,2,     -999,9,     -999,9,     -999,9,     -999,9,     -999,9,     -999,9,     -999,9,     -999,     -999,9,     -999,9,     -999,9,     -999,9,  -0.2866,2,     -999,9,     -999,9,     -999,     -999,9,     -999,9,     -999,9,     -999,     -999,9,20151002,2035,   3436.7,  73.4313,-156.7635,     -999,9,     -999,9