BOTTLE,20221220CCHSIOAMB
EXPOCODE,SECT_ID,STNNBR,CASTNO,SAMPNO,GEOTR_EVENT,GEOTR_SAMPNO,BTLNBR,BTLNBR_FLAG_W,DATE,TIME,LATITUDE,LONGITUDE,DEPTH,CTDPRS,CTDTMP,CTDSAL,CTDSAL_FLAG_W,SALNTY,SALNTY_FLAG_W,CTDOXY,CTDOXY_FLAG_W,OXYGEN,OXYGEN_FLAG_W,SILCAT,SILCAT_FLAG_W,NITRAT,NITRAT_FLAG_W,NITRIT,NITRIT_FLAG_W,PHSPHT,PHSPHT_FLAG_W,CFC-11,CFC-11_FLAG_W,CFC-12,CFC-12_FLAG_W,CFC113,CFC113_FLAG_W,SF6,SF6_FLAG_W,TCARBN,TCARBN_FLAG_W,ALKALI,ALKALI_FLAG_W,PH_SWS,PH_SWS_FLAG_W,PH_TMP,DOC,DOC_FLAG_W,TRITUM,TRITUM_FLAG_W,HELIUM,HELIUM_FLAG_W,DELHE3,DELHE3_FLAG_W,REFTMP,REFTMP_FLAG_W,DELC13,DELC13_FLAG_W,DELC14,DELC14_FLAG_W,C14ERR,TDN,TDN_FLAG_W,DELO18,DELO18_FLAG_W,DELO17,DELO17_FLAG_W,CH4,CH4,CH4_FLAG_W,BTL_DATE,BTL_TIME,CTDDEPTH,BTL_LAT,BTL_LON,LAB_DEN,LAB_DEN_FLAG_W,SALTREF,SALTREF_FLAG_W
,,,,,,,,,,,,,METERS,DBAR,ITS-90,PSS-78,,PSS-78,,UMOL/KG,,UMOL/KG,,UMOL/KG,,UMOL/KG,,UMOL/KG,,UMOL/KG,,PMOL/KG,,PMOL/KG,,PMOL/KG,,FMOL/KG,,UMOL/KG,,UMOL/KG,,,,DEG C,UMOL/KG,,TU,,NMOL/KG,,PERCNT,,ITS-90,,/MILLE,,/MILLE,,/MILLE,UMOL/KG,,/MILLE,,/MILLE,,NMOL/KG,NMOL/L,,,,METERS,,,KG/M^3,,G/KG,
33HQ20150809  ,ARC01      ,66      ,  2,34         ,    6484,   12303,GSNIS-34   ,2,20151007,1602,  71.9994,-162.5011,       35,      3.5,   0.8696,  30.7039,2,  30.7075,2,    350.8,2,     -999,9,     4.12,2,     0.00,2,     0.00,2,     0.40,2,     -999,9,     -999,9,     -999,9,     -999,9,     -999,9,     -999,9,     -999,9,     -999,     -999,9,     -999,9,     -999,9,     -999,9,   0.8689,2,     -999,9,     -999,9,     -999,     -999,9,     -999,9,     -999,9,     -999,     -999,9,20151007,1608,      3.4,  72.0007,-162.5063,     -999,9,  30.8523,2
33HQ20150809  ,ARC01      ,66      ,  2,29         ,    6484,   12303,GSNIS-29   ,2,20151007,1602,  71.9994,-162.5011,       35,      3.6,   0.8686,  30.7054,2,     -999,9,    350.8,2,     -999,9,     4.02,2,     0.00,2,     0.00,2,     0.40,2,     -999,9,     -999,9,     -999,9,     -999,9,     -999,9,     -999,9,     -999,9,     -999,     -999,9,     -999,9,     -999,9,     -999,9,     -999,9,     -999,9,     -999,9,     -999,     -999,9,     -999,9,     -999,9,     -999,     -999,9,20151007,1608,      3.5,  72.0006,-162.5058,     -999,9,     -999,9
33HQ20150809  ,ARC01      ,66      ,  2,30         ,    6484,   12303,GSNIS-30   ,2,20151007,1602,  71.9994,-162.5011,       35,      3.6,   0.8703,  30.7052,2,     -999,9,    350.8,2,     -999,9,     4.02,2,     0.00,2,     0.00,2,     0.39,2,     -999,9,     -999,9,     -999,9,     -999,9,     -999,9,     -999,9,     -999,9,     -999,     -999,9,     -999,9,     -999,9,     -999,9,   0.8702,2,     -999,9,     -999,9,     -999,     -999,9,     -999,9,     -999,9,     -999,     -999,9,20151007,1608,      3.6,  72.0006,-162.5059,     -999,9,     -999,9
33HQ20150809  ,ARC01      ,66      ,  2,36         ,    6484,   12303,GSNIS-36   ,2,20151007,1602,  71.9994,-162.5011,       35,      3.7,   0.8715,  30.7047,2,     -999,9,    350.8,2,     -999,9,     4.12,2,     0.00,2,     0.00,2,     0.41,2,     -999,9,     -999,9,     -999,9,     -999,9,     -999,9,     -999,9,     -999,9,     -999,     -999,9,     -999,9,     -999,9,     -999,9,     -999,9,     -999,9,     -999,9,     -999,     -999,9,     -999,9,     -999,9,     -999,     -999,9,20151007,1608,      3.7,  72.0007,-162.5065,     -999,9,     -999,9
33HQ20150809  ,ARC01      ,66      ,  2,31         ,    6484,   12303,GSNIS-31   ,2,20151007,1602,  71.9994,-162.5011,       35,      3.7,   0.8689,  30.7052,2,     -999,9,    350.8,2,     -999,9,     4.02,2,     0.00,2,     0.00,2,     0.39,2,     -999,9,     -999,9,     -999,9,     -999,9,     -999,9,     -999,9,     -999,9,     -999,     -999,9,     -999,9,     -999,9,     -999,9,   0.8705,2,     -999,9,     -999,9,     -999,     -999,9,     -999,9,     -999,9,     -999,     -999,9,20151007,1608,      3.7,  72.0006,-162.5060,     -999,9,     -999,9
33HQ20150809  ,ARC01      ,66      ,  2,33         ,    6484,   12303,GSNIS-33   ,2,20151007,1602,  71.9994,-162.5011,       35,      3.7,   0.8687,  30.7046,2,     -999,9,    350.8,2,     -999,9,     4.12,2,     0.00,2,     0.00,2,     0.41,2,     -999,9,     -999,9,     -999,9,     -999,9,     -999,9,     -999,9,     -999,9,     -999,     -999,9,     -999,9,     -999,9,     -999,9,   0.8657,2,     -999,9,     -999,9,     -999,     -999,9,     -999,9,     -999,9,     -999,     -999,9,20151007,1608,      3.7,  72.0006,-162.5062,     -999,9,     -999,9
33HQ20150809  ,ARC01      ,66      ,  2,35         ,    6484,   12303,GSNIS-35   ,2,20151007,1602,  71.9994,-162.5011,       35,      3.9,   0.8711,  30.7043,2,     -999,9,    350.8,2,     -999,9,     4.12,2,     0.00,2,     0.00,2,     0.40,2,     -999,9,     -999,9,     -999,9,     -999,9,     -999,9,     -999,9,     -999,9,     -999,     -999,9,     -999,9,     -999,9,     -999,9,   0.8710,2,     -999,9,     -999,9,     -999,     -999,9,     -999,9,     -999,9,     -999,     -999,9,20151007,1608,      3.8,  72.0007,-162.5064,     -999,9,     -999,9
33HQ20150809  ,ARC01      ,66      ,  2,32         ,    6484,   12303,GSNIS-32   ,2,20151007,1602,  71.9994,-162.5011,       35,      3.9,   0.8651,  30.7028,2,     -999,9,    350.8,2,     -999,9,     4.02,2,     0.00,2,     0.00,2,     0.40,2,     -999,9,     -999,9,     -999,9,     -999,9,     -999,9,     -999,9,     -999,9,     -999,     -999,9,     -999,9,     -999,9,     -999,9,   0.8689,2,     -999,9,     -999,9,     -999,     -999,9,     -999,9,     -999,9,     -999,     -999,9,20151007,1608,      3.8,  72.0006,-162.5061,     -999,9,     -999,9
33HQ20150809  ,ARC01      ,66      ,  2,28         ,    6484,   12303,GSNIS-28   ,2,20151007,1602,  71.9994,-162.5011,       35,      3.9,   0.8672,  30.7052,2,  30.7056,2,    350.8,2,    350.8,2,     4.02,2,     0.00,2,     0.00,2,     0.41,2,     -999,9,     -999,9,     -999,9,     -999,9,   1964.2,2,   2107.0,2,   7.7895,2,    25.00,     70.4,2,     -999,1,     -999,1,     -999,1,   0.8623,2,     1.70,2,     -999,1,     -999,     4.35,2,     -999,1,     -999,9,     -999,     -999,1,20151007,1607,      3.9,  72.0006,-162.5058,     -999,9,  30.8504,2
33HQ20150809  ,ARC01      ,66      ,  2,25         ,    6484,   12304,GSNIS-25   ,2,20151007,1602,  71.9994,-162.5011,       35,     11.9,   0.8648,  30.7086,2,  30.7020,2,    350.6,2,     -999,9,     4.02,2,     0.00,2,     0.00,2,     0.43,2,     -999,9,     -999,9,     -999,9,     -999,9,     -999,9,     -999,9,     -999,9,     -999,     -999,9,     -999,9,     -999,9,     -999,9,   0.8652,2,     -999,9,     -999,9,     -999,     -999,9,     -999,9,     -999,9,     -999,     -999,9,20151007,1606,     11.8,  72.0002,-162.5043,     -999,9,  30.8467,2
33HQ20150809  ,ARC01      ,66      ,  2,26         ,    6484,   12304,GSNIS-26   ,2,20151007,1602,  71.9994,-162.5011,       35,     11.9,   0.8647,  30.7086,2,     -999,9,    350.6,2,     -999,9,     4.02,2,     0.00,2,     0.00,2,     0.41,2,     -999,9,     -999,9,     -999,9,     -999,9,     -999,9,     -999,9,     -999,9,     -999,     -999,9,     -999,9,     -999,9,     -999,9,   0.8644,2,     -999,9,     -999,9,     -999,     -999,9,     -999,9,     -999,9,     -999,     -999,9,20151007,1606,     11.7,  72.0002,-162.5043,     -999,9,     -999,9
33HQ20150809  ,ARC01      ,66      ,  2,27         ,    6484,   12304,GSNIS-27   ,2,20151007,1602,  71.9994,-162.5011,       35,     12.0,   0.8641,  30.7085,2,     -999,9,    350.6,2,     -999,9,     4.02,2,     0.00,2,     0.00,2,     0.41,2,     -999,9,     -999,9,     -999,9,     -999,9,     -999,9,     -999,9,     -999,9,     -999,     -999,9,     -999,9,     -999,9,     -999,9,   0.8644,2,     -999,9,     -999,9,     -999,     -999,9,     -999,9,     -999,9,     -999,     -999,9,20151007,1606,     11.8,  72.0003,-162.5045,     -999,9,     -999,9
33HQ20150809  ,ARC01      ,66      ,  2,20         ,    6484,   12304,GSNIS-20   ,2,20151007,1602,  71.9994,-162.5011,       35,     12.1,   0.8618,  30.6960,2,     -999,9,    350.3,2,     -999,9,     4.02,2,     0.00,2,     0.00,2,     0.40,2,     -999,9,     -999,9,     -999,9,     -999,9,     -999,9,     -999,9,     -999,9,     -999,     -999,9,     -999,9,     -999,9,     -999,9,     -999,9,     -999,9,     -999,9,     -999,     -999,9,     -999,9,     -999,9,     -999,     -999,9,20151007,1606,     11.9,  72.0001,-162.5038,     -999,9,     -999,9
33HQ20150809  ,ARC01      ,66      ,  2,24         ,    6484,   12304,GSNIS-24   ,2,20151007,1602,  71.9994,-162.5011,       35,     12.3,   0.8662,  30.7063,2,     -999,9,    350.6,2,     -999,9,     4.02,2,     0.00,2,     0.01,2,     0.42,2,     -999,9,     -999,9,     -999,9,     -999,9,     -999,9,     -999,9,     -999,9,     -999,     -999,9,     -999,9,     -999,9,     -999,9,   0.8671,2,     -999,9,     -999,9,     -999,     -999,9,     -999,9,     -999,9,     -999,     -999,9,20151007,1606,     12.2,  72.0002,-162.5041,     -999,9,     -999,9
33HQ20150809  ,ARC01      ,66      ,  2,21         ,    6484,   12304,GSNIS-21   ,2,20151007,1602,  71.9994,-162.5011,       35,     12.3,   0.8638,  30.6982,2,     -999,9,    350.6,2,     -999,9,     4.02,2,     0.00,2,     0.00,2,     0.40,2,     -999,9,     -999,9,     -999,9,     -999,9,     -999,9,     -999,9,     -999,9,     -999,     -999,9,     -999,9,     -999,9,     -999,9,   0.8621,2,     -999,9,     -999,9,     -999,     -999,9,     -999,9,     -999,9,     -999,     -999,9,20151007,1606,     12.2,  72.0001,-162.5039,     -999,9,     -999,9
33HQ20150809  ,ARC01      ,66      ,  2,23         ,    6484,   12304,GSNIS-23   ,2,20151007,1602,  71.9994,-162.5011,       35,     12.4,   0.8671,  30.7073,2,     -999,9,    350.5,2,     -999,9,     4.02,2,     0.00,2,     0.01,2,     0.42,2,     -999,9,     -999,9,     -999,9,     -999,9,     -999,9,     -999,9,     -999,9,     -999,     -999,9,     -999,9,     -999,9,     -999,9,   0.8676,2,     -999,9,     -999,9,     -999,     -999,9,     -999,9,     -999,9,     -999,     -999,9,20151007,1606,     12.3,  72.0002,-162.5041,     -999,9,     -999,9
33HQ20150809  ,ARC01      ,66      ,  2,19         ,    6484,   12304,GSNIS-19   ,2,20151007,1602,  71.9994,-162.5011,       35,     12.5,   0.8616,  30.6957,2,  30.6997,2,    350.6,2,    350.7,2,     4.02,2,     0.00,2,     0.00,2,     0.40,2,     -999,9,     -999,9,     -999,9,     -999,9,   1964.8,2,   2107.3,2,   7.7896,2,    25.00,     69.1,2,     -999,1,     -999,1,     -999,1,   0.8623,2,     1.71,2,     -999,1,     -999,     3.68,2,     -999,1,     -999,9,     -999,     -999,1,20151007,1605,     12.4,  72.0001,-162.5038,     -999,9,  30.8444,2
33HQ20150809  ,ARC01      ,66      ,  2,22         ,    6484,   12304,GSNIS-22   ,2,20151007,1602,  71.9994,-162.5011,       35,     12.6,   0.8680,  30.7059,2,     -999,9,    350.6,2,     -999,9,     4.02,2,     0.00,2,     0.01,2,     0.41,2,     -999,9,     -999,9,     -999,9,     -999,9,     -999,9,     -999,9,     -999,9,     -999,     -999,9,     -999,9,     -999,9,     -999,9,   0.8649,2,     -999,9,     -999,9,     -999,     -999,9,     -999,9,     -999,9,     -999,     -999,9,20151007,1606,     12.4,  72.0002,-162.5040,     -999,9,     -999,9
33HQ20150809  ,ARC01      ,66      ,  2,12         ,    6484,   12305,GSNIS-12   ,2,20151007,1602,  71.9994,-162.5011,       35,     19.9,   0.8786,  30.7278,2,     -999,9,    350.8,2,     -999,9,     4.02,2,     0.00,2,     0.00,2,     0.40,2,     -999,9,     -999,9,     -999,9,     -999,9,     -999,9,     -999,9,     -999,9,     -999,     -999,9,     -999,9,     -999,9,     -999,9,     -999,9,     -999,9,     -999,9,     -999,     -999,9,     -999,9,     -999,9,     -999,     -999,9,20151007,1604,     19.7,  71.9997,-162.5022,     -999,9,     -999,9
33HQ20150809  ,ARC01      ,66      ,  2,10         ,    6484,   12305,GSNIS-10   ,2,20151007,1602,  71.9994,-162.5011,       35,     19.9,   0.8803,  30.7215,2,  30.7197,2,    350.7,2,    350.7,2,     4.02,2,     0.00,2,     0.00,2,     0.39,2,     -999,9,     -999,9,     -999,9,     -999,9,   1965.7,2,   2105.5,2,   7.7906,2,    25.00,     68.4,2,     -999,1,     -999,1,     -999,1,   0.8785,2,     1.70,2,     -999,1,     -999,     3.97,2,     -999,1,     -999,9,     -999,     -999,1,20151007,1604,     19.7,  71.9997,-162.5021,     -999,9,  30.8646,2
33HQ20150809  ,ARC01      ,66      ,  2,11         ,    6484,   12305,GSNIS-11   ,2,20151007,1602,  71.9994,-162.5011,       35,     20.3,   0.8799,  30.7267,2,     -999,9,    350.8,2,     -999,9,     3.92,2,     0.00,2,     0.00,2,     0.39,2,     -999,9,     -999,9,     -999,9,     -999,9,     -999,9,     -999,9,     -999,9,     -999,     -999,9,     -999,9,     -999,9,     -999,9,   0.8808,2,     -999,9,     -999,9,     -999,     -999,9,     -999,9,     -999,9,     -999,     -999,9,20151007,1604,     20.1,  71.9997,-162.5022,     -999,9,     -999,9
33HQ20150809  ,ARC01      ,66      ,  2,15         ,    6484,   12305,GSNIS-15   ,2,20151007,1602,  71.9994,-162.5011,       35,     20.3,   0.8775,  30.7232,2,     -999,9,    350.7,2,     -999,9,     3.92,2,     0.00,2,     0.00,2,     0.40,2,     -999,9,     -999,9,     -999,9,     -999,9,     -999,9,     -999,9,     -999,9,     -999,     -999,9,     -999,9,     -999,9,     -999,9,   0.8777,2,     -999,9,     -999,9,     -999,     -999,9,     -999,9,     -999,9,     -999,     -999,9,20151007,1604,     20.1,  71.9998,-162.5025,     -999,9,     -999,9
33HQ20150809  ,ARC01      ,66      ,  2,16         ,    6484,   12305,GSNIS-16   ,2,20151007,1602,  71.9994,-162.5011,       35,     20.3,   0.8794,  30.7272,2,  30.7248,2,    350.8,2,     -999,9,     3.92,2,     0.00,2,     0.01,2,     0.40,2,     -999,9,     -999,9,     -999,9,     -999,9,     -999,9,     -999,9,     -999,9,     -999,     -999,9,     -999,9,     -999,9,     -999,9,     -999,9,     -999,9,     -999,9,     -999,     -999,9,     -999,9,     -999,9,     -999,     -999,9,20151007,1604,     20.1,  71.9998,-162.5025,     -999,9,  30.8696,2
33HQ20150809  ,ARC01      ,66      ,  2,18         ,    6484,   12305,GSNIS-18   ,2,20151007,1602,  71.9994,-162.5011,       35,     20.3,   0.8885,  30.7438,2,     -999,9,    350.9,2,     -999,9,     3.92,2,     0.00,2,     0.00,2,     0.40,2,     -999,9,     -999,9,     -999,9,     -999,9,     -999,9,     -999,9,     -999,9,     -999,     -999,9,     -999,9,     -999,9,     -999,9,   0.8871,2,     -999,9,     -999,9,     -999,     -999,9,     -999,9,     -999,9,     -999,     -999,9,20151007,1604,     20.1,  71.9998,-162.5026,     -999,9,     -999,9
33HQ20150809  ,ARC01      ,66      ,  2,14         ,    6484,   12305,GSNIS-14   ,2,20151007,1602,  71.9994,-162.5011,       35,     20.4,   0.8777,  30.7284,2,     -999,9,    350.8,2,     -999,9,     3.92,2,     0.00,2,     0.00,2,     0.39,2,     -999,9,     -999,9,     -999,9,     -999,9,     -999,9,     -999,9,     -999,9,     -999,     -999,9,     -999,9,     -999,9,     -999,9,   0.8746,2,     -999,9,     -999,9,     -999,     -999,9,     -999,9,     -999,9,     -999,     -999,9,20151007,1604,     20.1,  71.9998,-162.5024,     -999,9,     -999,9
33HQ20150809  ,ARC01      ,66      ,  2,13         ,    6484,   12305,GSNIS-13   ,2,20151007,1602,  71.9994,-162.5011,       35,     20.4,   0.8752,  30.7256,2,     -999,9,    350.8,2,     -999,9,     3.92,2,     0.00,2,     0.00,2,     0.39,2,     -999,9,     -999,9,     -999,9,     -999,9,     -999,9,     -999,9,     -999,9,     -999,     -999,9,     -999,9,     -999,9,     -999,9,   0.8784,2,     -999,9,     -999,9,     -999,     -999,9,     -999,9,     -999,9,     -999,     -999,9,20151007,1604,     20.2,  71.9997,-162.5023,     -999,9,     -999,9
33HQ20150809  ,ARC01      ,66      ,  2,17         ,    6484,   12305,GSNIS-17   ,2,20151007,1602,  71.9994,-162.5011,       35,     20.6,   0.8862,  30.7410,2,     -999,9,    350.9,2,     -999,9,     3.92,2,     0.00,2,     0.00,2,     0.40,2,     -999,9,     -999,9,     -999,9,     -999,9,     -999,9,     -999,9,     -999,9,     -999,     -999,9,     -999,9,     -999,9,     -999,9,   0.8800,2,     -999,9,     -999,9,     -999,     -999,9,     -999,9,     -999,9,     -999,     -999,9,20151007,1604,     20.4,  71.9998,-162.5026,     -999,9,     -999,9
33HQ20150809  ,ARC01      ,66      ,  2,3          ,    6484,   12306,GSNIS-3    ,2,20151007,1602,  71.9994,-162.5011,       35,     29.0,   1.3818,  31.4918,2,     -999,9,    344.3,2,     -999,9,     2.25,2,     0.00,2,     0.00,2,     0.48,2,     -999,9,     -999,9,     -999,9,     -999,9,     -999,9,     -999,9,     -999,9,     -999,     -999,9,     -999,9,     -999,9,     -999,9,   1.3831,2,     -999,9,     -999,9,     -999,     -999,9,     -999,9,     -999,9,     -999,     -999,9,20151007,1602,     28.7,  71.9993,-162.5008,     -999,9,     -999,9
33HQ20150809  ,ARC01      ,66      ,  2,4          ,    6484,   12306,GSNIS-4    ,2,20151007,1602,  71.9994,-162.5011,       35,     29.1,   1.3817,  31.4923,2,     -999,9,    344.3,2,     -999,9,     2.25,2,     0.00,2,     0.00,2,     0.48,2,     -999,9,     -999,9,     -999,9,     -999,9,     -999,9,     -999,9,     -999,9,     -999,     -999,9,     -999,9,     -999,9,     -999,9,     -999,9,     -999,9,     -999,9,     -999,     -999,9,     -999,9,     -999,9,     -999,     -999,9,20151007,1602,     28.8,  71.9993,-162.5009,     -999,9,     -999,9
33HQ20150809  ,ARC01      ,66      ,  2,1          ,    6484,   12306,GSNIS-1    ,2,20151007,1602,  71.9994,-162.5011,       35,     29.1,   1.3819,  31.4889,2,  31.4597,2,    344.3,2,    344.3,2,     2.45,2,     0.00,2,     0.00,2,     0.50,2,     -999,9,     -999,9,     -999,9,     -999,9,   2002.4,2,   2151.8,2,   7.7994,2,    25.00,     70.2,2,     -999,1,     -999,1,     -999,1,   1.3813,2,     1.59,2,     -999,1,     -999,     4.18,2,     -999,1,     -999,9,     -999,     -999,1,20151007,1602,     28.8,  71.9993,-162.5007,     -999,9,  31.6080,2
33HQ20150809  ,ARC01      ,66      ,  2,9          ,    6484,   12306,GSNIS-9    ,2,20151007,1602,  71.9994,-162.5011,       35,     29.1,   1.3816,  31.4934,2,     -999,9,    344.3,2,     -999,9,     2.35,2,     0.00,2,     0.00,2,     0.48,2,     -999,9,     -999,9,     -999,9,     -999,9,     -999,9,     -999,9,     -999,9,     -999,     -999,9,     -999,9,     -999,9,     -999,9,   1.3810,2,     -999,9,     -999,9,     -999,     -999,9,     -999,9,     -999,9,     -999,     -999,9,20151007,1602,     28.8,  71.9994,-162.5010,     -999,9,     -999,9
33HQ20150809  ,ARC01      ,66      ,  2,2          ,    6484,   12306,GSNIS-2    ,2,20151007,1602,  71.9994,-162.5011,       35,     29.2,   1.3822,  31.4899,2,     -999,9,    344.3,2,     -999,9,     2.35,2,     0.00,2,     0.00,2,     0.49,2,     -999,9,     -999,9,     -999,9,     -999,9,     -999,9,     -999,9,     -999,9,     -999,     -999,9,     -999,9,     -999,9,     -999,9,     -999,9,     -999,9,     -999,9,     -999,     -999,9,     -999,9,     -999,9,     -999,     -999,9,20151007,1602,     28.9,  71.9993,-162.5008,     -999,9,     -999,9
33HQ20150809  ,ARC01      ,66      ,  2,5          ,    6484,   12306,GSNIS-5    ,2,20151007,1602,  71.9994,-162.5011,       35,     29.2,   1.3809,  31.4934,2,     -999,9,    344.3,2,     -999,9,     2.25,2,     0.00,2,     0.00,2,     0.48,2,     -999,9,     -999,9,     -999,9,     -999,9,     -999,9,     -999,9,     -999,9,     -999,     -999,9,     -999,9,     -999,9,     -999,9,   1.3823,2,     -999,9,     -999,9,     -999,     -999,9,     -999,9,     -999,9,     -999,     -999,9,20151007,1602,     28.9,  71.9993,-162.5009,     -999,9,     -999,9