BOTTLE,20221220CCHSIOAMB
EXPOCODE,SECT_ID,STNNBR,CASTNO,SAMPNO,GEOTR_EVENT,GEOTR_SAMPNO,BTLNBR,BTLNBR_FLAG_W,DATE,TIME,LATITUDE,LONGITUDE,DEPTH,CTDPRS,CTDTMP,CTDSAL,CTDSAL_FLAG_W,SALNTY,SALNTY_FLAG_W,CTDOXY,CTDOXY_FLAG_W,OXYGEN,OXYGEN_FLAG_W,SILCAT,SILCAT_FLAG_W,NITRAT,NITRAT_FLAG_W,NITRIT,NITRIT_FLAG_W,PHSPHT,PHSPHT_FLAG_W,CFC-11,CFC-11_FLAG_W,CFC-12,CFC-12_FLAG_W,CFC113,CFC113_FLAG_W,SF6,SF6_FLAG_W,TCARBN,TCARBN_FLAG_W,ALKALI,ALKALI_FLAG_W,PH_SWS,PH_SWS_FLAG_W,PH_TMP,DOC,DOC_FLAG_W,TRITUM,TRITUM_FLAG_W,HELIUM,HELIUM_FLAG_W,DELHE3,DELHE3_FLAG_W,REFTMP,REFTMP_FLAG_W,DELC13,DELC13_FLAG_W,DELC14,DELC14_FLAG_W,C14ERR,TDN,TDN_FLAG_W,DELO18,DELO18_FLAG_W,DELO17,DELO17_FLAG_W,CH4,CH4,CH4_FLAG_W,BTL_DATE,BTL_TIME,CTDDEPTH,BTL_LAT,BTL_LON,LAB_DEN,LAB_DEN_FLAG_W,SALTREF,SALTREF_FLAG_W
,,,,,,,,,,,,,METERS,DBAR,ITS-90,PSS-78,,PSS-78,,UMOL/KG,,UMOL/KG,,UMOL/KG,,UMOL/KG,,UMOL/KG,,UMOL/KG,,PMOL/KG,,PMOL/KG,,PMOL/KG,,FMOL/KG,,UMOL/KG,,UMOL/KG,,,,DEG C,UMOL/KG,,TU,,NMOL/KG,,PERCNT,,ITS-90,,/MILLE,,/MILLE,,/MILLE,UMOL/KG,,/MILLE,,/MILLE,,NMOL/KG,NMOL/L,,,,METERS,,,KG/M^3,,G/KG,
33HQ20150809  ,ARC01      ,52      ,  2,35         ,    6398,   11907,GSNIS-35   ,2,20150927,0346,  77.5079,-148.0120,     3824,      3.5,  -1.3736,  27.5407,2,     -999,9,    387.5,2,     -999,9,     2.65,2,     0.00,2,     0.00,2,     0.56,2,     -999,9,     -999,9,     -999,9,     -999,9,     -999,9,     -999,9,     -999,9,     -999,     -999,9,     -999,9,     -999,9,     -999,9,  -1.3735,2,     -999,9,     -999,9,     -999,     -999,9,     -999,9,     -999,9,     -999,     -999,9,20150927,0413,      3.4,  77.5090,-148.0111,     -999,9,     -999,9
33HQ20150809  ,ARC01      ,52      ,  2,34         ,    6398,   11907,GSNIS-34   ,2,20150927,0346,  77.5079,-148.0120,     3824,      3.6,  -1.3735,  27.5407,2,  27.5362,2,    387.5,2,    386.4,2,     2.65,2,     0.00,2,     0.00,2,     0.56,2,    6.795,2,    3.692,2,    0.628,2,    3.662,2,   1899.0,2,   1983.3,2,   7.6630,2,    25.00,     68.7,2,     -999,1,     -999,1,     -999,1,  -1.3735,2,     1.43,2,     -999,1,     -999,     3.56,2,     -999,1,     -999,9,     -999,     -999,1,20150927,0413,      3.5,  77.5090,-148.0111,     -999,9,  27.6661,2
33HQ20150809  ,ARC01      ,52      ,  2,36         ,    6398,   11907,GSNIS-36   ,2,20150927,0346,  77.5079,-148.0120,     3824,      3.6,  -1.3748,  27.5411,2,     -999,9,    387.5,2,     -999,9,     2.65,2,     0.00,2,     0.00,2,     0.58,2,     -999,9,     -999,9,     -999,9,     -999,9,     -999,9,     -999,9,     -999,9,     -999,     -999,9,     -999,9,     -999,9,     -999,9,  -1.3742,2,     -999,9,     -999,9,     -999,     -999,9,     -999,9,     -999,9,     -999,     -999,9,20150927,0413,      3.6,  77.5090,-148.0111,     -999,9,     -999,9
33HQ20150809  ,ARC01      ,52      ,  2,33         ,    6398,   11908,GSNIS-33   ,2,20150927,0346,  77.5079,-148.0120,     3824,     19.4,  -1.4161,  27.5720,2,     -999,9,    387.1,2,     -999,9,     2.65,2,     0.00,2,     0.00,2,     0.57,2,     -999,9,     -999,9,     -999,9,     -999,9,     -999,9,     -999,9,     -999,9,     -999,     -999,9,     -999,9,     -999,9,     -999,9,  -1.4156,2,     -999,9,     -999,9,     -999,     -999,9,     -999,9,     -999,9,     -999,     -999,9,20150927,0411,     19.2,  77.5089,-148.0111,     -999,9,     -999,9
33HQ20150809  ,ARC01      ,52      ,  2,31         ,    6398,   11908,GSNIS-31   ,2,20150927,0346,  77.5079,-148.0120,     3824,     19.4,  -1.4140,  27.5769,2,  27.6212,2,    387.0,2,    385.3,2,     2.65,2,     0.00,2,     0.00,2,     0.56,2,    6.901,2,    3.740,2,    0.651,2,    3.604,2,   1903.3,2,   1988.5,2,   7.6656,2,    25.00,     69.0,2,     -999,1,     -999,1,     -999,1,  -1.4130,2,     1.42,2,     -999,1,     -999,     4.09,2,     -999,1,     -999,9,     -999,     -999,1,20150927,0411,     19.2,  77.5089,-148.0111,     -999,9,  27.7514,2
33HQ20150809  ,ARC01      ,52      ,  2,32         ,    6398,   11908,GSNIS-32   ,2,20150927,0346,  77.5079,-148.0120,     3824,     19.5,  -1.4157,  27.5724,2,     -999,9,    387.1,2,     -999,9,     2.65,2,     0.00,2,     0.00,2,     0.56,2,     -999,9,     -999,9,     -999,9,     -999,9,     -999,9,     -999,9,     -999,9,     -999,     -999,9,     -999,9,     -999,9,     -999,9,  -1.4139,2,     -999,9,     -999,9,     -999,     -999,9,     -999,9,     -999,9,     -999,     -999,9,20150927,0411,     19.3,  77.5089,-148.0111,     -999,9,     -999,9
33HQ20150809  ,ARC01      ,52      ,  2,28         ,    6398,   11909,GSNIS-28   ,2,20150927,0346,  77.5079,-148.0120,     3824,     23.3,  -1.1368,  29.1089,2,  29.1028,2,    404.7,2,    396.0,2,     2.65,2,     0.00,2,     0.00,2,     0.58,2,    6.880,2,    3.715,2,    0.639,2,    3.474,2,   1985.4,2,   2087.3,2,   7.6892,2,    25.00,     76.2,2,     -999,1,     -999,1,     -999,1,  -1.1398,2,     1.47,2,     -999,1,     -999,     3.85,2,     -999,1,     -999,9,     -999,     -999,1,20150927,0409,     23.0,  77.5088,-148.0111,     -999,9,  29.2400,2
33HQ20150809  ,ARC01      ,52      ,  2,29         ,    6398,   11909,GSNIS-29   ,4,20150927,0346,  77.5079,-148.0120,     3824,     23.4,  -1.1359,  29.1076,2,     -999,9,    404.7,2,     -999,9,     -999,9,     -999,9,     -999,9,     -999,9,     -999,9,     -999,9,     -999,9,     -999,9,     -999,9,     -999,9,     -999,9,     -999,     -999,9,     -999,9,     -999,9,     -999,9,  -1.1308,2,     -999,9,     -999,9,     -999,     -999,9,     -999,9,     -999,9,     -999,     -999,9,20150927,0409,     23.1,  77.5088,-148.0111,     -999,9,     -999,9
33HQ20150809  ,ARC01      ,52      ,  2,30         ,    6398,   11909,GSNIS-30   ,2,20150927,0346,  77.5079,-148.0120,     3824,     23.5,  -1.1256,  29.0951,2,     -999,9,    408.0,2,     -999,9,     2.65,2,     0.00,2,     0.00,2,     0.59,2,     -999,9,     -999,9,     -999,9,     -999,9,     -999,9,     -999,9,     -999,9,     -999,     -999,9,     -999,9,     -999,9,     -999,9,  -1.1210,2,     -999,9,     -999,9,     -999,     -999,9,     -999,9,     -999,9,     -999,     -999,9,20150927,0409,     23.2,  77.5088,-148.0111,     -999,9,     -999,9
33HQ20150809  ,ARC01      ,52      ,  2,26         ,    6398,   11910,GSNIS-26   ,2,20150927,0346,  77.5079,-148.0120,     3824,     36.4,  -1.2143,  29.4652,2,     -999,9,    394.9,2,     -999,9,     2.75,2,     0.00,2,     0.00,2,     0.60,2,     -999,9,     -999,9,     -999,9,     -999,9,     -999,9,     -999,9,     -999,9,     -999,     -999,9,     -999,9,     -999,9,     -999,9,  -1.2038,2,     -999,9,     -999,9,     -999,     -999,9,     -999,9,     -999,9,     -999,     -999,9,20150927,0407,     36.0,  77.5087,-148.0112,     -999,9,     -999,9
33HQ20150809  ,ARC01      ,52      ,  2,25         ,    6398,   11910,GSNIS-25   ,2,20150927,0346,  77.5079,-148.0120,     3824,     36.6,  -1.2010,  29.4850,2,  29.3924,2,    394.9,2,    394.4,2,     2.65,2,     0.00,2,     0.00,2,     0.60,2,    6.806,2,    3.747,2,    0.634,2,    3.255,2,   2006.1,2,   2110.4,2,   7.6926,2,    25.00,     78.1,2,     -999,1,     -999,1,     -999,1,  -1.2094,2,     1.46,2,     -999,1,     -999,     4.32,2,     -999,1,     -999,9,     -999,     -999,1,20150927,0406,     36.2,  77.5087,-148.0112,     -999,9,  29.5310,2
33HQ20150809  ,ARC01      ,52      ,  2,27         ,    6398,   11910,GSNIS-27   ,2,20150927,0346,  77.5079,-148.0120,     3824,     36.6,  -1.3085,  29.3598,2,     -999,9,    395.4,2,     -999,9,     2.65,2,     0.00,2,     0.00,2,     0.61,2,     -999,9,     -999,9,     -999,9,     -999,9,     -999,9,     -999,9,     -999,9,     -999,     -999,9,     -999,9,     -999,9,     -999,9,  -1.2307,2,     -999,9,     -999,9,     -999,     -999,9,     -999,9,     -999,9,     -999,     -999,9,20150927,0407,     36.2,  77.5087,-148.0112,     -999,9,     -999,9
33HQ20150809  ,ARC01      ,52      ,  2,22         ,    6398,   11911,GSNIS-22   ,2,20150927,0346,  77.5079,-148.0120,     3824,     60.7,  -0.0738,  30.8540,2,  30.9172,2,    374.9,2,    372.2,2,     5.29,2,     0.46,2,     0.07,2,     0.79,2,    6.581,2,    3.513,2,    0.511,2,    2.576,2,   2046.4,2,   2169.8,2,   7.7248,2,    25.00,     64.8,2,     -999,1,     -999,1,     -999,1,  -0.0685,2,     1.36,2,     -999,1,     -999,     5.08,2,     -999,1,     -999,9,     -999,     -999,1,20150927,0404,     60.1,  77.5086,-148.0111,     -999,9,  31.0629,2
33HQ20150809  ,ARC01      ,52      ,  2,24         ,    6398,   11911,GSNIS-24   ,2,20150927,0346,  77.5079,-148.0120,     3824,     60.8,  -0.0674,  30.8404,2,     -999,9,    374.9,2,     -999,9,     5.39,2,     0.52,2,     0.07,2,     0.79,2,     -999,9,     -999,9,     -999,9,     -999,9,     -999,9,     -999,9,     -999,9,     -999,     -999,9,     -999,9,     -999,9,     -999,9,  -0.0667,2,     -999,9,     -999,9,     -999,     -999,9,     -999,9,     -999,9,     -999,     -999,9,20150927,0404,     60.2,  77.5086,-148.0111,     -999,9,     -999,9
33HQ20150809  ,ARC01      ,52      ,  2,23         ,    6398,   11911,GSNIS-23   ,2,20150927,0346,  77.5079,-148.0120,     3824,     60.8,  -0.0644,  30.8542,2,     -999,9,    374.9,2,     -999,9,     5.49,2,     0.63,2,     0.07,2,     0.81,2,     -999,9,     -999,9,     -999,9,     -999,9,     -999,9,     -999,9,     -999,9,     -999,     -999,9,     -999,9,     -999,9,     -999,9,  -0.0712,2,     -999,9,     -999,9,     -999,     -999,9,     -999,9,     -999,9,     -999,     -999,9,20150927,0404,     60.2,  77.5086,-148.0111,     -999,9,     -999,9
33HQ20150809  ,ARC01      ,52      ,  2,21         ,    6398,   11912,GSNIS-21   ,2,20150927,0346,  77.5079,-148.0120,     3824,     90.8,  -0.9649,  31.9934,2,     -999,9,    319.5,2,     -999,9,    19.09,2,     9.31,2,     0.00,2,     1.42,2,     -999,9,     -999,9,     -999,9,     -999,9,     -999,9,     -999,9,     -999,9,     -999,     -999,9,     -999,9,     -999,9,     -999,9,  -0.9560,2,     -999,9,     -999,9,     -999,     -999,9,     -999,9,     -999,9,     -999,     -999,9,20150927,0401,     89.9,  77.5085,-148.0111,     -999,9,     -999,9
33HQ20150809  ,ARC01      ,52      ,  2,19         ,    6398,   11912,GSNIS-19   ,2,20150927,0346,  77.5079,-148.0120,     3824,     90.9,  -1.0085,  32.0411,2,  32.0222,2,    319.0,2,    318.4,2,    18.70,2,     9.16,2,     0.00,2,     1.40,2,    6.411,2,    3.444,2,    0.466,2,    2.247,2,   2132.9,2,   2213.8,2,   7.5791,2,    25.00,     63.3,2,     -999,1,     -999,1,     -999,1,  -1.0152,2,     0.60,2,     -999,1,     -999,    11.65,2,     -999,1,     -999,9,     -999,     -999,1,20150927,0401,     90.0,  77.5085,-148.0111,     -999,9,  32.1732,2
33HQ20150809  ,ARC01      ,52      ,  2,20         ,    6398,   11912,GSNIS-20   ,2,20150927,0346,  77.5079,-148.0120,     3824,     91.0,  -0.9613,  31.9902,2,     -999,9,    319.5,2,     -999,9,    19.28,2,     9.40,2,     0.00,2,     1.42,2,     -999,9,     -999,9,     -999,9,     -999,9,     -999,9,     -999,9,     -999,9,     -999,     -999,9,     -999,9,     -999,9,     -999,9,  -0.9948,4,     -999,9,     -999,9,     -999,     -999,9,     -999,9,     -999,9,     -999,     -999,9,20150927,0401,     90.0,  77.5085,-148.0111,     -999,9,     -999,9
33HQ20150809  ,ARC01      ,52      ,  2,16         ,    6398,   11913,GSNIS-16   ,2,20150927,0346,  77.5079,-148.0120,     3824,    121.5,  -1.2860,  32.3716,2,  32.3698,2,    309.1,2,    306.6,2,    24.95,2,    11.75,2,     0.00,2,     1.60,2,    6.320,2,    3.448,2,    0.462,2,    2.306,2,   2165.0,2,   2230.9,2,   7.5225,2,    25.00,     59.8,2,     -999,1,     -999,1,     -999,1,  -1.2867,2,     0.47,2,     -999,1,     -999,    13.10,2,     -999,1,     -999,9,     -999,     -999,1,20150927,0359,    120.2,  77.5085,-148.0112,     -999,9,  32.5224,2
33HQ20150809  ,ARC01      ,52      ,  2,17         ,    6398,   11913,GSNIS-17   ,2,20150927,0346,  77.5079,-148.0120,     3824,    121.5,  -1.2858,  32.3702,2,     -999,9,    309.3,2,     -999,9,    24.86,2,    11.70,2,     0.00,2,     1.60,2,     -999,9,     -999,9,     -999,9,     -999,9,     -999,9,     -999,9,     -999,9,     -999,     -999,9,     -999,9,     -999,9,     -999,9,  -1.2867,2,     -999,9,     -999,9,     -999,     -999,9,     -999,9,     -999,9,     -999,     -999,9,20150927,0359,    120.1,  77.5085,-148.0112,     -999,9,     -999,9
33HQ20150809  ,ARC01      ,52      ,  2,18         ,    6398,   11913,GSNIS-18   ,2,20150927,0346,  77.5079,-148.0120,     3824,    121.7,  -1.2862,  32.3681,2,     -999,9,    309.3,2,     -999,9,    25.05,2,    11.80,2,     0.00,2,     1.60,2,     -999,9,     -999,9,     -999,9,     -999,9,     -999,9,     -999,9,     -999,9,     -999,     -999,9,     -999,9,     -999,9,     -999,9,  -1.2838,2,     -999,9,     -999,9,     -999,     -999,9,     -999,9,     -999,9,     -999,     -999,9,20150927,0359,    120.4,  77.5085,-148.0112,     -999,9,     -999,9
33HQ20150809  ,ARC01      ,52      ,  2,15         ,    6398,   11914,GSNIS-15   ,2,20150927,0346,  77.5079,-148.0120,     3824,    151.7,  -1.4106,  32.6718,2,     -999,9,    294.9,2,     -999,9,    29.74,2,    13.85,2,     0.00,2,     1.73,2,     -999,9,     -999,9,     -999,9,     -999,9,     -999,9,     -999,9,     -999,9,     -999,     -999,9,     -999,9,     -999,9,     -999,9,  -1.4103,2,     -999,9,     -999,9,     -999,     -999,9,     -999,9,     -999,9,     -999,     -999,9,20150927,0357,    150.0,  77.5084,-148.0113,     -999,9,     -999,9
33HQ20150809  ,ARC01      ,52      ,  2,14         ,    6398,   11914,GSNIS-14   ,2,20150927,0346,  77.5079,-148.0120,     3824,    151.8,  -1.4112,  32.6773,2,     -999,9,    294.0,2,     -999,9,    29.74,2,    13.91,2,     0.00,2,     1.74,2,     -999,9,     -999,9,     -999,9,     -999,9,     -999,9,     -999,9,     -999,9,     -999,     -999,9,     -999,9,     -999,9,     -999,9,  -1.4101,2,     -999,9,     -999,9,     -999,     -999,9,     -999,9,     -999,9,     -999,     -999,9,20150927,0357,    150.1,  77.5084,-148.0113,     -999,9,     -999,9
33HQ20150809  ,ARC01      ,52      ,  2,13         ,    6398,   11914,GSNIS-13   ,2,20150927,0346,  77.5079,-148.0120,     3824,    151.8,  -1.4111,  32.6763,2,  32.6745,2,    294.0,2,    292.3,2,    29.74,2,    13.85,2,     0.00,2,     1.73,2,    6.248,2,    3.361,2,    0.433,2,    2.217,2,   2195.1,2,   2248.7,2,   7.4759,2,    25.00,     61.1,2,     -999,1,     -999,1,     -999,1,  -1.4103,2,     0.26,2,     -999,1,     -999,    15.99,2,     -999,1,     -999,9,     -999,     -999,1,20150927,0357,    150.1,  77.5084,-148.0113,     -999,9,  32.8285,2
33HQ20150809  ,ARC01      ,52      ,  2,12         ,    6398,   11915,GSNIS-12   ,2,20150927,0346,  77.5079,-148.0120,     3824,    192.1,  -1.4610,  33.0814,2,     -999,9,    279.5,2,     -999,9,    35.11,2,    15.70,2,     0.00,2,     1.83,2,     -999,9,     -999,9,     -999,9,     -999,9,     -999,9,     -999,9,     -999,9,     -999,     -999,9,     -999,9,     -999,9,     -999,9,  -1.4584,2,     -999,9,     -999,9,     -999,     -999,9,     -999,9,     -999,9,     -999,     -999,9,20150927,0355,    190.0,  77.5083,-148.0114,     -999,9,     -999,9
33HQ20150809  ,ARC01      ,52      ,  2,11         ,    6398,   11915,GSNIS-11   ,2,20150927,0346,  77.5079,-148.0120,     3824,    192.1,  -1.4568,  33.1347,2,     -999,9,    279.0,2,     -999,9,    35.01,2,    15.72,2,     0.00,2,     1.85,2,     -999,9,     -999,9,     -999,9,     -999,9,     -999,9,     -999,9,     -999,9,     -999,     -999,9,     -999,9,     -999,9,     -999,9,  -1.4561,2,     -999,9,     -999,9,     -999,     -999,9,     -999,9,     -999,9,     -999,     -999,9,20150927,0355,    190.0,  77.5083,-148.0114,     -999,9,     -999,9
33HQ20150809  ,ARC01      ,52      ,  2,10         ,    6398,   11915,GSNIS-10   ,2,20150927,0346,  77.5079,-148.0120,     3824,    192.1,  -1.4579,  33.1293,2,  33.0935,2,    279.1,2,    276.0,2,    35.01,2,    15.72,2,     0.00,2,     1.84,2,    6.045,2,    3.260,2,    0.414,2,    2.119,2,   2226.3,2,   2269.4,2,   7.4384,2,    25.00,     61.5,2,     -999,1,     -999,1,     -999,1,  -1.4563,2,     0.09,2,     -999,1,     -999,    16.09,2,     -999,1,     -999,9,     -999,     -999,1,20150927,0355,    190.0,  77.5083,-148.0114,     -999,9,  33.2496,2
33HQ20150809  ,ARC01      ,52      ,  2,8          ,    6398,   11916,GSNIS-8    ,2,20150927,0346,  77.5079,-148.0120,     3824,    247.9,  -0.8476,  34.1057,2,     -999,9,    269.6,2,     -999,9,    18.76,2,    12.97,2,     0.00,2,     1.18,2,     -999,9,     -999,9,     -999,9,     -999,9,     -999,9,     -999,9,     -999,9,     -999,     -999,9,     -999,9,     -999,9,     -999,9,  -0.8433,2,     -999,9,     -999,9,     -999,     -999,9,     -999,9,     -999,9,     -999,     -999,9,20150927,0352,    245.2,  77.5082,-148.0116,     -999,9,     -999,9
33HQ20150809  ,ARC01      ,52      ,  2,9          ,    6398,   11916,GSNIS-9    ,2,20150927,0346,  77.5079,-148.0120,     3824,    248.0,  -0.8867,  34.0845,2,     -999,9,    269.3,2,     -999,9,    19.35,2,    13.05,2,     0.00,2,     1.20,2,     -999,9,     -999,9,     -999,9,     -999,9,     -999,9,     -999,9,     -999,9,     -999,     -999,9,     -999,9,     -999,9,     -999,9,  -0.8458,2,     -999,9,     -999,9,     -999,     -999,9,     -999,9,     -999,9,     -999,     -999,9,20150927,0353,    245.3,  77.5082,-148.0116,     -999,9,     -999,9
33HQ20150809  ,ARC01      ,52      ,  2,7          ,    6398,   11916,GSNIS-7    ,2,20150927,0346,  77.5079,-148.0120,     3824,    248.0,  -0.8499,  34.1071,2,  34.1488,2,    269.6,2,    268.8,2,    18.76,2,    12.91,2,     0.00,2,     1.17,2,    5.644,2,    2.752,2,    0.348,2,    1.180,2,   2196.0,2,   2280.4,2,   7.5600,2,    25.00,     -999,9,     -999,1,     -999,1,     -999,1,  -0.8146,2,     0.39,2,     -999,1,     -999,     -999,9,     -999,1,     -999,9,     -999,     -999,1,20150927,0352,    245.2,  77.5082,-148.0116,     -999,9,  34.3098,2
33HQ20150809  ,ARC01      ,52      ,  2,6          ,    6398,   11917,GSNIS-6    ,2,20150927,0346,  77.5079,-148.0120,     3824,    354.5,   0.5191,  34.7342,2,     -999,9,    287.4,2,     -999,9,     7.91,2,    12.41,2,     0.00,2,     0.86,2,     -999,9,     -999,9,     -999,9,     -999,9,     -999,9,     -999,9,     -999,9,     -999,     -999,9,     -999,9,     -999,9,     -999,9,   0.5305,2,     -999,9,     -999,9,     -999,     -999,9,     -999,9,     -999,9,     -999,     -999,9,20150927,0350,    350.5,  77.5081,-148.0117,     -999,9,     -999,9
33HQ20150809  ,ARC01      ,52      ,  2,5          ,    6398,   11917,GSNIS-5    ,2,20150927,0346,  77.5079,-148.0120,     3824,    354.5,   0.5260,  34.7324,2,     -999,9,    286.9,2,     -999,9,     7.91,2,    12.39,2,     0.00,2,     0.86,2,     -999,9,     -999,9,     -999,9,     -999,9,     -999,9,     -999,9,     -999,9,     -999,     -999,9,     -999,9,     -999,9,     -999,9,   0.5230,2,     -999,9,     -999,9,     -999,     -999,9,     -999,9,     -999,9,     -999,     -999,9,20150927,0349,    350.5,  77.5081,-148.0117,     -999,9,     -999,9
33HQ20150809  ,ARC01      ,52      ,  2,4          ,    6398,   11917,GSNIS-4    ,2,20150927,0346,  77.5079,-148.0120,     3824,    354.6,   0.5256,  34.7343,2,  34.7369,2,    287.4,2,    285.4,2,     7.91,2,    12.39,2,     0.00,2,     0.86,2,    5.300,2,    2.570,2,    0.355,2,    1.069,2,   2161.2,2,   2290.3,2,   7.6799,2,    25.00,     -999,9,     -999,1,     -999,1,     -999,1,   0.5382,2,     0.71,2,     -999,1,     -999,     -999,9,     -999,1,     -999,9,     -999,     -999,1,20150927,0349,    350.6,  77.5081,-148.0117,     -999,9,  34.9007,2