BOTTLE,20221220CCHSIOAMB
EXPOCODE,SECT_ID,STNNBR,CASTNO,SAMPNO,GEOTR_EVENT,GEOTR_SAMPNO,BTLNBR,BTLNBR_FLAG_W,DATE,TIME,LATITUDE,LONGITUDE,DEPTH,CTDPRS,CTDTMP,CTDSAL,CTDSAL_FLAG_W,SALNTY,SALNTY_FLAG_W,CTDOXY,CTDOXY_FLAG_W,OXYGEN,OXYGEN_FLAG_W,SILCAT,SILCAT_FLAG_W,NITRAT,NITRAT_FLAG_W,NITRIT,NITRIT_FLAG_W,PHSPHT,PHSPHT_FLAG_W,CFC-11,CFC-11_FLAG_W,CFC-12,CFC-12_FLAG_W,CFC113,CFC113_FLAG_W,SF6,SF6_FLAG_W,TCARBN,TCARBN_FLAG_W,ALKALI,ALKALI_FLAG_W,PH_SWS,PH_SWS_FLAG_W,PH_TMP,DOC,DOC_FLAG_W,TRITUM,TRITUM_FLAG_W,HELIUM,HELIUM_FLAG_W,DELHE3,DELHE3_FLAG_W,REFTMP,REFTMP_FLAG_W,DELC13,DELC13_FLAG_W,DELC14,DELC14_FLAG_W,C14ERR,TDN,TDN_FLAG_W,DELO18,DELO18_FLAG_W,DELO17,DELO17_FLAG_W,CH4,CH4,CH4_FLAG_W,BTL_DATE,BTL_TIME,CTDDEPTH,BTL_LAT,BTL_LON,LAB_DEN,LAB_DEN_FLAG_W,SALTREF,SALTREF_FLAG_W
,,,,,,,,,,,,,METERS,DBAR,ITS-90,PSS-78,,PSS-78,,UMOL/KG,,UMOL/KG,,UMOL/KG,,UMOL/KG,,UMOL/KG,,UMOL/KG,,PMOL/KG,,PMOL/KG,,PMOL/KG,,FMOL/KG,,UMOL/KG,,UMOL/KG,,,,DEG C,UMOL/KG,,TU,,NMOL/KG,,PERCNT,,ITS-90,,/MILLE,,/MILLE,,/MILLE,UMOL/KG,,/MILLE,,/MILLE,,NMOL/KG,NMOL/L,,,,METERS,,,KG/M^3,,G/KG,
33HQ20150809  ,ARC01      ,18      ,  1,26         ,    6121,    -999,GSNIS-26   ,2,20150823,0701,  78.9770,-175.7185,     1078,      4.3,  -1.3581,  27.7968,2,  27.8102,2,    377.0,2,    378.7,2,     2.06,2,     0.00,2,     0.00,2,     0.58,2,    6.688,2,    3.658,2,    0.625,2,    3.563,2,   1877.7,2,   1980.3,6,   7.7245,2,    25.00,     70.8,2,     -999,9,     -999,9,     -999,9,  -1.3584,2,     1.47,6,     -999,1,     -999,     3.50,2,     -999,1,     -999,9,     -999,     -999,9,20150823,0757,      4.3,  78.9767,-175.7235,     -999,9,  27.9413,2
33HQ20150809  ,ARC01      ,18      ,  1,25         ,    6121,    -999,GSNIS-25   ,2,20150823,0701,  78.9770,-175.7185,     1078,     15.5,  -0.9663,  29.0356,2,  29.2085,2,    388.7,2,    391.5,2,     2.16,2,     0.00,2,     0.01,2,     0.61,2,    6.733,2,    3.661,2,    0.618,2,    3.275,2,   1973.0,2,   2097.0,2,   7.7311,2,    25.00,     75.8,2,     -999,9,     -999,9,     -999,9,  -0.9543,2,     -999,9,     -999,9,     -999,     5.49,2,     -999,1,     -999,9,     -999,     -999,9,20150823,0755,     15.3,  78.9767,-175.7235,     -999,9,  29.3462,2
33HQ20150809  ,ARC01      ,18      ,  1,24         ,    6121,    -999,GSNIS-24   ,2,20150823,0701,  78.9770,-175.7185,     1078,     24.8,  -1.1688,  30.4352,2,  30.3605,2,    398.6,2,    397.9,2,     2.25,2,     0.00,2,     0.01,2,     0.64,2,     -999,9,     -999,9,     -999,9,     -999,9,   2032.7,2,   2155.5,2,   7.7350,2,    25.00,     73.1,2,     -999,9,     -999,9,     -999,9,  -1.1730,2,     -999,9,     -999,9,     -999,     4.53,2,     -999,1,     -999,9,     -999,     -999,9,20150823,0753,     24.6,  78.9767,-175.7235,     -999,9,  30.5036,2
33HQ20150809  ,ARC01      ,18      ,  1,23         ,    6121,    -999,GSNIS-23   ,2,20150823,0701,  78.9770,-175.7185,     1078,     45.3,  -1.0308,  31.3474,2,  31.1781,2,    375.6,2,    384.5,2,     4.11,2,     0.74,2,     0.03,2,     0.78,2,    6.534,2,    3.559,2,    0.576,2,    3.093,2,     -999,9,   2177.6,2,   7.7245,2,    25.00,     71.1,2,     -999,9,     -999,9,     -999,9,  -1.0127,2,     -999,9,     -999,9,     -999,     5.88,2,     -999,1,     -999,9,     -999,     -999,9,20150823,0751,     44.9,  78.9767,-175.7236,     -999,9,  31.3251,2
33HQ20150809  ,ARC01      ,18      ,  1,22         ,    6121,    -999,GSNIS-22   ,2,20150823,0701,  78.9770,-175.7185,     1078,     65.9,  -1.1499,  31.8699,2,  31.9243,2,    334.6,2,    328.4,2,    19.67,2,     8.46,2,     0.02,2,     1.34,2,     -999,9,     -999,9,     -999,9,     -999,9,   2132.1,2,   2208.0,2,   7.5751,2,    25.00,     68.0,2,     -999,9,     -999,9,     -999,9,  -1.1608,2,     -999,9,     -999,9,     -999,    11.15,2,     -999,1,     -999,9,     -999,     -999,9,20150823,0749,     65.2,  78.9767,-175.7236,     -999,9,  32.0749,2
33HQ20150809  ,ARC01      ,18      ,  1,21         ,    6121,    -999,GSNIS-21   ,2,20150823,0701,  78.9770,-175.7185,     1078,     76.2,  -1.2976,  32.1110,2,  32.0767,2,    319.1,2,    319.7,2,    23.49,2,    10.01,2,     0.02,2,     1.47,2,    6.414,2,    3.502,2,    0.515,2,    2.759,2,     -999,9,   2216.9,2,   7.5432,2,    25.00,     64.6,2,     -999,9,     -999,9,     -999,9,  -1.2974,2,     -999,9,     -999,9,     -999,    12.07,2,     -999,1,     -999,9,     -999,     -999,9,20150823,0747,     75.3,  78.9767,-175.7237,     -999,9,  32.2279,2
33HQ20150809  ,ARC01      ,18      ,  1,20         ,    6121,    -999,GSNIS-20   ,2,20150823,0701,  78.9770,-175.7185,     1078,     86.4,  -1.2897,  32.2053,2,  32.2148,2,    311.1,2,    311.2,2,    25.93,2,    11.18,2,     0.02,2,     1.56,2,     -999,9,     -999,9,     -999,9,     -999,9,   2166.8,2,   2225.0,2,   7.5229,2,    25.00,     68.2,2,     -999,9,     -999,9,     -999,9,  -1.3476,4,     -999,9,     -999,9,     -999,    15.85,2,     -999,1,     -999,9,     -999,     -999,9,20150823,0745,     85.5,  78.9767,-175.7237,     -999,9,  32.3667,2
33HQ20150809  ,ARC01      ,18      ,  1,19         ,    6121,    -999,GSNIS-19   ,2,20150823,0701,  78.9770,-175.7185,     1078,     92.6,  -1.3921,  32.2618,2,  32.2835,2,    309.8,2,    309.9,2,    28.18,2,    11.81,2,     0.02,2,     1.60,2,    6.410,2,    3.500,2,    0.500,2,    2.652,2,     -999,9,   2228.5,2,   7.5075,2,    25.00,     67.6,2,     -999,9,     -999,9,     -999,9,  -1.3936,2,     -999,9,     -999,9,     -999,    14.23,2,     -999,1,     -999,9,     -999,     -999,9,20150823,0744,     91.6,  78.9767,-175.7237,     -999,9,  32.4358,2
33HQ20150809  ,ARC01      ,18      ,  1,18         ,    6121,    -999,GSNIS-18   ,2,20150823,0701,  78.9770,-175.7185,     1078,    104.0,  -1.4513,  32.4161,2,  32.4255,2,    305.7,2,    305.2,2,    29.94,2,    12.77,2,     0.01,2,     1.66,2,     -999,9,     -999,9,     -999,9,     -999,9,   2180.0,2,   2235.8,2,   7.4903,2,    25.00,     66.1,2,     -999,9,     -999,9,     -999,9,  -1.4540,2,     -999,9,     -999,9,     -999,    15.14,2,     -999,1,     -999,9,     -999,     -999,9,20150823,0742,    102.8,  78.9767,-175.7238,     -999,9,  32.5784,2
33HQ20150809  ,ARC01      ,18      ,  1,17         ,    6121,    -999,GSNIS-17   ,2,20150823,0701,  78.9770,-175.7185,     1078,    119.4,  -1.5263,  32.5801,2,  32.5667,2,    307.1,2,    306.5,2,    33.65,2,    13.62,2,     0.02,2,     1.70,2,    6.373,2,    3.505,2,    0.500,2,    2.711,2,     -999,9,   2246.8,2,   7.4773,2,    25.00,     63.5,2,     -999,9,     -999,9,     -999,9,  -1.5278,2,     -999,9,     -999,9,     -999,    17.56,2,     -999,1,     -999,9,     -999,     -999,9,20150823,0740,    118.1,  78.9768,-175.7238,     -999,9,  32.7203,2
33HQ20150809  ,ARC01      ,18      ,  1,16         ,    6121,    -999,GSNIS-16   ,2,20150823,0701,  78.9770,-175.7185,     1078,    134.8,  -1.5350,  32.7212,2,  32.7123,2,    294.4,2,    290.7,2,    35.90,2,    14.76,2,     0.02,2,     1.82,2,     -999,9,     -999,9,     -999,9,     -999,9,   2213.4,2,   2248.3,2,   7.4405,2,    25.00,     64.8,2,     -999,9,     -999,9,     -999,9,  -1.5338,2,     -999,9,     -999,9,     -999,    18.59,2,     -999,1,     -999,9,     -999,     -999,9,20150823,0738,    133.4,  78.9768,-175.7238,     -999,9,  32.8666,2
33HQ20150809  ,ARC01      ,18      ,  1,15         ,    6121,    -999,GSNIS-15   ,2,20150823,0701,  78.9770,-175.7185,     1078,    155.4,  -1.5262,  32.9650,2,  32.9783,2,    278.1,2,    283.1,2,    34.82,2,    15.00,2,     0.01,2,     1.81,2,    6.165,2,    3.343,2,    0.458,2,    2.404,2,     -999,9,   2280.0,2,   7.4430,2,    25.00,     63.8,2,     -999,9,     -999,9,     -999,9,  -1.5215,2,     -999,9,     -999,9,     -999,    18.10,2,     -999,1,     -999,9,     -999,     -999,9,20150823,0736,    153.7,  78.9768,-175.7238,     -999,9,  33.1338,2
33HQ20150809  ,ARC01      ,18      ,  1,14         ,    6121,    -999,GSNIS-14   ,2,20150823,0701,  78.9770,-175.7185,     1078,    176.0,  -1.3275,  33.4608,2,  33.5079,2,    276.5,2,    273.5,2,    30.30,2,    14.76,2,     0.01,2,     1.64,2,     -999,9,     -999,9,     -999,9,     -999,9,   2222.4,3,   2260.6,2,   7.4771,2,    25.00,     62.2,2,     -999,9,     -999,9,     -999,9,  -1.3189,2,     -999,9,     -999,9,     -999,    17.93,2,     -999,1,     -999,9,     -999,     -999,9,20150823,0734,    174.1,  78.9768,-175.7238,     -999,9,  33.6659,2
33HQ20150809  ,ARC01      ,18      ,  1,13         ,    6121,    -999,GSNIS-13   ,2,20150823,0701,  78.9770,-175.7185,     1078,    196.7,  -0.8627,  34.0493,2,  34.0672,2,    265.8,2,    265.7,2,    22.87,2,    13.78,2,     0.00,2,     1.33,2,    5.707,2,    2.854,2,    0.358,2,    1.333,2,     -999,9,   2282.1,2,   7.5300,2,    25.00,     60.8,2,     -999,9,     -999,9,     -999,9,  -0.8500,2,     -999,9,     -999,9,     -999,    16.79,2,     -999,1,     -999,9,     -999,     -999,9,20150823,0732,    194.5,  78.9768,-175.7237,     -999,9,  34.2279,2
33HQ20150809  ,ARC01      ,18      ,  1,12         ,    6121,    -999,GSNIS-12   ,2,20150823,0701,  78.9770,-175.7185,     1078,    217.3,  -0.5128,  34.3495,2,  34.3755,2,    258.8,2,    258.7,2,    19.25,2,    12.88,2,     0.00,2,     1.14,2,     -999,9,     -999,9,     -999,9,     -999,9,   2208.7,2,   2282.2,2,   7.5538,6,    25.00,     60.0,2,     -999,9,     -999,9,     -999,9,  -0.5147,2,     -999,9,     -999,9,     -999,    15.73,2,     -999,1,     -999,9,     -999,     -999,9,20150823,0730,    214.9,  78.9768,-175.7235,     -999,9,  34.5376,2
33HQ20150809  ,ARC01      ,18      ,  1,11         ,    6121,    -999,GSNIS-11   ,2,20150823,0701,  78.9770,-175.7185,     1078,    237.8,  -0.2343,  34.5174,2,  34.4721,2,    270.5,2,    270.7,2,    14.36,2,    11.79,2,     0.00,2,     0.96,2,    5.788,2,    3.003,2,    0.371,2,    1.870,2,   2195.8,2,   2284.8,2,   7.5842,2,    25.00,     59.5,2,     -999,9,     -999,9,     -999,9,  -0.2348,2,     -999,9,     -999,9,     -999,    14.98,2,     -999,1,     -999,9,     -999,     -999,9,20150823,0728,    235.2,  78.9769,-175.7232,     -999,9,  34.6346,2
33HQ20150809  ,ARC01      ,18      ,  1,10         ,    6121,    -999,GSNIS-10   ,2,20150823,0701,  78.9770,-175.7185,     1078,    289.6,   0.4837,  34.7194,2,  34.7165,2,    287.9,2,    288.0,2,     7.72,2,    11.71,2,     0.00,2,     0.83,2,    5.558,2,    2.868,2,    0.395,2,    1.888,2,   2176.4,2,   2291.8,6,   7.6546,2,    25.00,     54.7,2,     -999,9,     -999,9,     -999,9,   0.4838,2,     -999,9,     -999,9,     -999,    15.18,2,     -999,1,     -999,9,     -999,     -999,9,20150823,0726,    286.3,  78.9769,-175.7229,     -999,9,  34.8802,2
33HQ20150809  ,ARC01      ,18      ,  1,9          ,    6121,    -999,GSNIS-9    ,2,20150823,0701,  78.9770,-175.7185,     1078,    335.9,   0.8283,  34.8091,2,  34.8150,2,    296.1,2,     -999,5,     5.57,2,    11.77,2,     0.00,2,     0.81,2,    5.431,2,    2.816,2,    0.395,2,    1.814,2,     -999,9,   2293.5,2,   7.6871,2,    25.00,     53.7,2,     -999,9,     -999,9,     -999,9,   0.8285,2,     -999,9,     -999,9,     -999,    14.73,2,     -999,1,     -999,9,     -999,     -999,9,20150823,0724,    332.0,  78.9769,-175.7226,     -999,9,  34.9791,2
33HQ20150809  ,ARC01      ,18      ,  1,8          ,    6121,    -999,GSNIS-8    ,2,20150823,0701,  78.9770,-175.7185,     1078,    387.4,   0.9470,  34.8389,2,  34.8374,2,    293.9,2,    295.7,2,     5.86,2,    12.08,2,     0.00,2,     0.82,2,    5.392,2,    2.723,2,    0.393,2,    1.601,2,   2167.8,2,   2294.8,2,   7.6930,2,    25.00,     54.7,2,     -999,9,     -999,9,     -999,9,   0.9455,2,     -999,9,     -999,9,     -999,    16.34,2,     -999,1,     -999,9,     -999,     -999,9,20150823,0721,    383.0,  78.9769,-175.7223,     -999,9,  35.0017,2
33HQ20150809  ,ARC01      ,18      ,  1,7          ,    6121,    -999,GSNIS-7    ,2,20150823,0701,  78.9770,-175.7185,     1078,    439.8,   0.9460,  34.8559,2,  34.8533,2,    298.3,2,    298.4,2,     5.57,2,    11.91,2,     0.00,2,     0.82,2,    5.375,2,    2.786,2,    0.391,2,    1.739,2,     -999,9,   2295.2,2,   7.6909,2,    25.00,     54.6,2,     -999,9,     -999,9,     -999,9,   0.9429,2,     -999,9,     -999,9,     -999,    17.25,2,     -999,1,     -999,9,     -999,     -999,9,20150823,0719,    434.7,  78.9769,-175.7220,     -999,9,  35.0177,2
33HQ20150809  ,ARC01      ,18      ,  1,6          ,    6121,    -999,GSNIS-6    ,2,20150823,0701,  78.9770,-175.7185,     1078,    485.8,   0.8722,  34.8663,2,  34.8620,4,    300.1,2,    299.8,2,     5.47,2,    11.88,2,     0.00,2,     0.81,2,    5.298,2,    2.715,2,    0.370,2,    1.714,2,   2135.1,3,   2296.0,2,   7.6922,2,    25.00,     53.9,2,     -999,9,     -999,9,     -999,9,   0.8638,2,     -999,9,     -999,9,     -999,    15.77,2,     -999,1,     -999,9,     -999,     -999,9,20150823,0718,    480.1,  78.9769,-175.7216,     -999,9,  35.0264,4
33HQ20150809  ,ARC01      ,18      ,  1,5          ,    6121,    -999,GSNIS-5    ,2,20150823,0701,  78.9770,-175.7185,     1078,    548.6,   0.6514,  34.8620,2,  34.8630,2,    299.5,2,    299.9,2,     5.96,2,    12.09,2,     0.00,2,     0.83,2,    5.289,2,    2.634,2,    0.367,2,    1.447,2,     -999,9,   2295.9,6,   7.6924,2,    25.00,     53.5,2,     -999,9,     -999,9,     -999,9,   0.6513,2,     -999,9,     -999,9,     -999,    15.35,2,     -999,9,     -999,9,     -999,     -999,9,20150823,0714,    542.1,  78.9769,-175.7211,     -999,9,  35.0274,2
33HQ20150809  ,ARC01      ,18      ,  1,4          ,    6121,    -999,GSNIS-4    ,2,20150823,0701,  78.9770,-175.7185,     1078,    631.2,   0.5496,  34.8724,2,  34.8706,2,    302.1,2,    303.2,2,     5.47,2,    11.79,2,     0.00,2,     0.82,2,    5.295,2,    2.719,2,    0.382,2,    1.750,2,   2174.4,2,   2293.6,2,   7.6860,2,    25.00,     54.6,2,     -999,9,     -999,9,     -999,9,   0.5512,2,     -999,9,     -999,9,     -999,    16.21,2,     -999,9,     -999,9,     -999,     -999,9,20150823,0712,    623.6,  78.9769,-175.7206,     -999,9,  35.0351,2
33HQ20150809  ,ARC01      ,18      ,  1,3          ,    6121,    -999,GSNIS-3    ,2,20150823,0701,  78.9770,-175.7185,     1078,    755.1,   0.2774,  34.8725,2,  34.8722,2,    303.9,2,    303.7,2,     5.66,2,    11.91,2,     0.00,2,     0.82,2,    5.253,2,    2.663,2,    0.372,2,    1.569,2,     -999,9,   2292.9,2,   7.6836,2,    25.00,     53.1,2,     -999,9,     -999,9,     -999,9,   0.2773,2,     -999,9,     -999,9,     -999,    15.91,2,     -999,9,     -999,9,     -999,     -999,9,20150823,0708,    745.7,  78.9770,-175.7200,     -999,9,  35.0366,2
33HQ20150809  ,ARC01      ,18      ,  1,2          ,    6121,    -999,GSNIS-2    ,2,20150823,0701,  78.9770,-175.7185,     1078,    910.3,   0.0324,  34.8757,2,  34.8754,2,    304.4,2,    305.3,2,     5.86,2,    11.94,2,     0.00,2,     0.84,2,    5.184,2,    2.674,2,    0.377,2,    1.676,2,   2175.1,2,   2296.0,2,   7.6782,6,    25.00,     54.6,2,     -999,9,     -999,9,     -999,9,   0.0320,2,     -999,9,     -999,9,     -999,    15.51,2,     -999,9,     -999,9,     -999,     -999,9,20150823,0705,    898.7,  78.9770,-175.7192,     -999,9,  35.0398,2
33HQ20150809  ,ARC01      ,18      ,  1,1          ,    6121,    -999,GSNIS-1    ,2,20150823,0701,  78.9770,-175.7185,     1078,   1079.9,  -0.1225,  34.8926,2,  34.8905,2,    305.3,2,    305.6,2,     6.25,2,    12.07,2,     0.00,2,     0.84,2,    4.891,2,    2.570,2,    0.354,2,   -9.000,4,   2175.8,2,   2297.9,2,   7.6754,2,    25.00,     51.8,2,     -999,9,     -999,9,     -999,9,  -0.1220,2,     -999,9,     -999,9,     -999,    15.98,2,     -999,9,     -999,9,     -999,     -999,9,20150823,0701,   1065.7,  78.9770,-175.7184,     -999,9,  35.0550,2