BOTTLE,20221220CCHSIOAMB
EXPOCODE,SECT_ID,STNNBR,CASTNO,SAMPNO,GEOTR_EVENT,GEOTR_SAMPNO,BTLNBR,BTLNBR_FLAG_W,DATE,TIME,LATITUDE,LONGITUDE,DEPTH,CTDPRS,CTDTMP,CTDSAL,CTDSAL_FLAG_W,SALNTY,SALNTY_FLAG_W,CTDOXY,CTDOXY_FLAG_W,OXYGEN,OXYGEN_FLAG_W,SILCAT,SILCAT_FLAG_W,NITRAT,NITRAT_FLAG_W,NITRIT,NITRIT_FLAG_W,PHSPHT,PHSPHT_FLAG_W,CFC-11,CFC-11_FLAG_W,CFC-12,CFC-12_FLAG_W,CFC113,CFC113_FLAG_W,SF6,SF6_FLAG_W,TCARBN,TCARBN_FLAG_W,ALKALI,ALKALI_FLAG_W,PH_SWS,PH_SWS_FLAG_W,PH_TMP,DOC,DOC_FLAG_W,TRITUM,TRITUM_FLAG_W,HELIUM,HELIUM_FLAG_W,DELHE3,DELHE3_FLAG_W,REFTMP,REFTMP_FLAG_W,DELC13,DELC13_FLAG_W,DELC14,DELC14_FLAG_W,C14ERR,TDN,TDN_FLAG_W,DELO18,DELO18_FLAG_W,DELO17,DELO17_FLAG_W,CH4,CH4,CH4_FLAG_W,BTL_DATE,BTL_TIME,CTDDEPTH,BTL_LAT,BTL_LON,LAB_DEN,LAB_DEN_FLAG_W,SALTREF,SALTREF_FLAG_W
,,,,,,,,,,,,,METERS,DBAR,ITS-90,PSS-78,,PSS-78,,UMOL/KG,,UMOL/KG,,UMOL/KG,,UMOL/KG,,UMOL/KG,,UMOL/KG,,PMOL/KG,,PMOL/KG,,PMOL/KG,,FMOL/KG,,UMOL/KG,,UMOL/KG,,,,DEG C,UMOL/KG,,TU,,NMOL/KG,,PERCNT,,ITS-90,,/MILLE,,/MILLE,,/MILLE,UMOL/KG,,/MILLE,,/MILLE,,NMOL/KG,NMOL/L,,,,METERS,,,KG/M^3,,G/KG,
33HQ20150809  ,ARC01      ,14      ,  2,36         ,    6097,    -999,GSNIS-36   ,2,20150820,2159,  76.5108,-173.0337,     2255,      5.0,  -0.7383,  25.7940,2,     -999,9,    381.3,2,     -999,9,     2.16,2,     0.02,2,     0.00,2,     0.54,2,     -999,9,     -999,9,     -999,9,     -999,9,     -999,9,     -999,9,     -999,9,     -999,     -999,9,     -999,9,     -999,9,     -999,9,  11.3694,4,     -999,9,     -999,9,     -999,     -999,9,     -999,9,     -999,9,     -999,     -999,9,20150820,2232,      4.9,  76.5172,-173.0564,     -999,9,     -999,9
33HQ20150809  ,ARC01      ,14      ,  2,35         ,    6097,    -999,GSNIS-35   ,2,20150820,2159,  76.5108,-173.0337,     2255,      5.0,  -0.7402,  25.7955,2,     -999,9,    381.3,2,     -999,9,     2.16,2,     0.03,2,     0.00,2,     0.55,2,     -999,9,     -999,9,     -999,9,     -999,9,     -999,9,     -999,9,     -999,9,     -999,     -999,9,     -999,9,     -999,9,     -999,9,  11.6769,4,     -999,9,     -999,9,     -999,     -999,9,     -999,9,     -999,9,     -999,     -999,9,20150820,2232,      4.9,  76.5172,-173.0563,     -999,9,     -999,9
33HQ20150809  ,ARC01      ,14      ,  2,34         ,    6097,   10785,GSNIS-34   ,2,20150820,2159,  76.5108,-173.0337,     2255,      5.0,  -0.7414,  25.7939,2,  25.8364,2,    381.3,2,    382.1,2,     2.16,2,     0.03,2,     0.00,2,     0.55,2,    6.889,2,    3.761,2,    0.660,2,    3.916,2,   1778.2,6,   1847.1,2,   7.6404,2,    25.00,     64.2,2,     -999,1,     -999,1,     -999,1,     -999,9,     1.40,2,     -999,1,     -999,     3.42,2,     -999,1,     -999,9,     4.41,   4.4145,2,20150820,2232,      4.9,  76.5171,-173.0563,     -999,9,  25.9582,2
33HQ20150809  ,ARC01      ,14      ,  2,32         ,    6097,    -999,GSNIS-32   ,2,20150820,2159,  76.5108,-173.0337,     2255,     18.5,  -0.4697,  28.5296,2,     -999,9,    398.6,2,     -999,9,     2.36,2,     0.04,2,     0.00,2,     0.61,2,     -999,9,     -999,9,     -999,9,     -999,9,     -999,9,     -999,9,     -999,9,     -999,     -999,9,     -999,9,     -999,9,     -999,9,  -0.4702,2,     -999,9,     -999,9,     -999,     -999,9,     -999,9,     -999,9,     -999,     -999,9,20150820,2229,     18.3,  76.5166,-173.0551,     -999,9,     -999,9
33HQ20150809  ,ARC01      ,14      ,  2,31         ,    6097,   10786,GSNIS-31   ,2,20150820,2159,  76.5108,-173.0337,     2255,     18.5,  -0.4686,  28.5287,2,  28.6012,2,    398.6,2,    393.6,2,     2.36,2,     0.05,2,     0.00,2,     0.62,2,    7.141,2,    3.869,2,    0.664,2,    3.529,2,     -999,9,   2044.0,6,   7.6756,2,    25.00,     71.7,2,     -999,1,     -999,1,     -999,1,  -0.4665,2,     1.48,2,     -999,1,     -999,     3.35,2,     -999,1,     -999,9,     5.33,   5.3316,2,20150820,2229,     18.3,  76.5166,-173.0550,     -999,9,  28.7360,2
33HQ20150809  ,ARC01      ,14      ,  2,33         ,    6097,    -999,GSNIS-33   ,2,20150820,2159,  76.5108,-173.0337,     2255,     18.6,  -0.4692,  28.5297,2,     -999,9,    398.6,2,     -999,9,     2.36,2,     0.03,2,     0.00,2,     0.62,2,     -999,9,     -999,9,     -999,9,     -999,9,     -999,9,     -999,9,     -999,9,     -999,     -999,9,     -999,9,     -999,9,     -999,9,  -0.4770,2,     -999,9,     -999,9,     -999,     -999,9,     -999,9,     -999,9,     -999,     -999,9,20150820,2229,     18.4,  76.5167,-173.0552,     -999,9,     -999,9
33HQ20150809  ,ARC01      ,14      ,  2,28         ,    6097,    -999,GSNIS-28   ,3,20150820,2159,  76.5108,-173.0337,     2255,     30.1,  -0.8567,  29.1375,2,  29.2337,2,    399.0,2,     -999,9,     2.55,2,     0.05,2,     0.00,2,     0.65,2,     -999,9,     -999,9,     -999,9,     -999,9,     -999,9,     -999,9,     -999,9,     -999,     -999,9,     -999,9,     -999,9,     -999,9,  -0.8521,2,     -999,9,     -999,9,     -999,     -999,9,     -999,9,     -999,9,     -999,     -999,9,20150820,2227,     29.8,  76.5161,-173.0536,     -999,9,  29.3715,2
33HQ20150809  ,ARC01      ,14      ,  2,30         ,    6097,    -999,GSNIS-30   ,2,20150820,2159,  76.5108,-173.0337,     2255,     30.2,  -0.8667,  29.1504,2,     -999,9,    399.0,2,     -999,9,     2.55,2,     0.04,2,     0.00,2,     0.64,2,     -999,9,     -999,9,     -999,9,     -999,9,     -999,9,     -999,9,     -999,9,     -999,     -999,9,     -999,9,     -999,9,     -999,9,  -0.8657,2,     -999,9,     -999,9,     -999,     -999,9,     -999,9,     -999,9,     -999,     -999,9,20150820,2227,     29.9,  76.5162,-173.0538,     -999,9,     -999,9
33HQ20150809  ,ARC01      ,14      ,  2,29         ,    6097,   10787,GSNIS-29   ,2,20150820,2159,  76.5108,-173.0337,     2255,     30.2,  -0.8643,  29.1440,2,  29.2456,2,    399.0,2,    395.2,2,     2.65,2,     0.04,2,     0.00,2,     0.64,2,    7.153,2,    3.927,2,    0.667,2,    3.798,2,     -999,9,   2088.0,2,   7.6814,6,    25.00,     69.9,2,     -999,1,     -999,1,     -999,1,  -0.8583,2,     1.47,2,     -999,1,     -999,     3.92,2,     -999,1,     -999,9,     5.10,   5.0998,2,20150820,2227,     29.8,  76.5161,-173.0537,     -999,9,  29.3835,2
33HQ20150809  ,ARC01      ,14      ,  2,25         ,    6097,   10788,GSNIS-25   ,2,20150820,2159,  76.5108,-173.0337,     2255,     56.4,   0.0061,  31.0582,2,  31.1750,2,    358.4,2,    348.4,2,     8.62,2,     2.28,3,     0.03,2,     0.92,2,    6.459,2,    3.455,2,    0.512,2,    2.723,2,     -999,9,   2184.5,2,   7.6805,2,    25.00,     70.0,2,     -999,1,     -999,1,     -999,1,   0.0059,2,     1.18,2,     -999,1,     -999,     6.34,2,     -999,1,     -999,9,     9.36,   9.3609,2,20150820,2224,     55.8,  76.5155,-173.0517,     -999,9,  31.3220,2
33HQ20150809  ,ARC01      ,14      ,  2,26         ,    6097,    -999,GSNIS-26   ,2,20150820,2159,  76.5108,-173.0337,     2255,     56.4,   0.0040,  31.0596,2,     -999,9,    358.4,2,     -999,9,     7.94,2,     1.83,2,     0.04,2,     0.88,2,     -999,9,     -999,9,     -999,9,     -999,9,     -999,9,     -999,9,     -999,9,     -999,     -999,9,     -999,9,     -999,9,     -999,9,   0.0011,2,     -999,9,     -999,9,     -999,     -999,9,     -999,9,     -999,9,     -999,     -999,9,20150820,2224,     55.8,  76.5156,-173.0519,     -999,9,     -999,9
33HQ20150809  ,ARC01      ,14      ,  2,27         ,    6097,    -999,GSNIS-27   ,2,20150820,2159,  76.5108,-173.0337,     2255,     56.4,   0.0152,  31.0551,2,     -999,9,    358.4,2,     -999,9,     8.04,2,     1.75,2,     0.04,2,     0.86,2,     -999,9,     -999,9,     -999,9,     -999,9,     -999,9,     -999,9,     -999,9,     -999,     -999,9,     -999,9,     -999,9,     -999,9,   0.0168,2,     -999,9,     -999,9,     -999,     -999,9,     -999,9,     -999,9,     -999,     -999,9,20150820,2224,     55.8,  76.5156,-173.0521,     -999,9,     -999,9
33HQ20150809  ,ARC01      ,14      ,  2,22         ,    6097,   10789,GSNIS-22   ,2,20150820,2159,  76.5108,-173.0337,     2255,     75.9,  -0.8423,  31.8695,2,  31.9190,2,    319.4,2,    322.9,2,    18.22,2,     8.54,3,     0.01,2,     1.38,2,    6.436,2,    3.481,2,    0.494,2,    2.790,2,     -999,9,   2203.3,2,   7.5503,2,    25.00,     65.0,2,     -999,1,     -999,1,     -999,1,  -0.8426,2,     0.63,2,     -999,1,     -999,    11.62,2,     -999,1,     -999,9,     7.75,   7.7513,2,20150820,2221,     75.1,  76.5151,-173.0501,     -999,9,  32.0695,2
33HQ20150809  ,ARC01      ,14      ,  2,23         ,    6097,    -999,GSNIS-23   ,2,20150820,2159,  76.5108,-173.0337,     2255,     75.9,  -0.8434,  31.8707,2,     -999,9,    319.4,2,     -999,9,    17.04,2,     7.98,2,     0.02,2,     1.32,2,     -999,9,     -999,9,     -999,9,     -999,9,     -999,9,     -999,9,     -999,9,     -999,     -999,9,     -999,9,     -999,9,     -999,9,  -0.8425,2,     -999,9,     -999,9,     -999,     -999,9,     -999,9,     -999,9,     -999,     -999,9,20150820,2222,     75.1,  76.5151,-173.0502,     -999,9,     -999,9
33HQ20150809  ,ARC01      ,14      ,  2,24         ,    6097,    -999,GSNIS-24   ,2,20150820,2159,  76.5108,-173.0337,     2255,     76.0,  -0.8423,  31.8698,2,     -999,9,    319.4,2,     -999,9,    17.14,2,     8.05,2,     0.01,2,     1.33,2,     -999,9,     -999,9,     -999,9,     -999,9,     -999,9,     -999,9,     -999,9,     -999,     -999,9,     -999,9,     -999,9,     -999,9,  -0.8419,2,     -999,9,     -999,9,     -999,     -999,9,     -999,9,     -999,9,     -999,     -999,9,20150820,2222,     75.1,  76.5152,-173.0505,     -999,9,     -999,9
33HQ20150809  ,ARC01      ,14      ,  2,19         ,    6097,   10790,GSNIS-19   ,2,20150820,2159,  76.5108,-173.0337,     2255,    101.8,  -1.3249,  32.4258,2,  32.4303,2,    305.7,2,    299.8,2,    27.02,2,    12.66,2,     0.00,2,     1.67,2,    6.320,2,    3.439,2,    0.473,2,    2.523,2,     -999,9,   2229.4,2,   7.4961,2,    25.00,     63.4,2,     -999,1,     -999,1,     -999,1,  -1.3247,2,     0.32,2,     -999,1,     -999,    16.23,2,     -999,1,     -999,9,     4.56,   4.5622,2,20150820,2218,    100.7,  76.5145,-173.0479,     -999,9,  32.5832,2
33HQ20150809  ,ARC01      ,14      ,  2,20         ,    6097,    -999,GSNIS-20   ,2,20150820,2159,  76.5108,-173.0337,     2255,    101.9,  -1.3251,  32.4264,2,     -999,9,    305.7,2,     -999,9,    27.02,2,    12.69,2,     0.00,2,     1.67,2,     -999,9,     -999,9,     -999,9,     -999,9,     -999,9,     -999,9,     -999,9,     -999,     -999,9,     -999,9,     -999,9,     -999,9,  -1.3248,2,     -999,9,     -999,9,     -999,     -999,9,     -999,9,     -999,9,     -999,     -999,9,20150820,2218,    100.8,  76.5145,-173.0480,     -999,9,     -999,9
33HQ20150809  ,ARC01      ,14      ,  2,21         ,    6097,    -999,GSNIS-21   ,2,20150820,2159,  76.5108,-173.0337,     2255,    101.9,  -1.3250,  32.4261,2,     -999,9,    305.7,2,     -999,9,    26.92,2,    12.63,2,     0.00,2,     1.66,2,     -999,9,     -999,9,     -999,9,     -999,9,     -999,9,     -999,9,     -999,9,     -999,     -999,9,     -999,9,     -999,9,     -999,9,  -1.3249,2,     -999,9,     -999,9,     -999,     -999,9,     -999,9,     -999,9,     -999,     -999,9,20150820,2219,    100.8,  76.5146,-173.0481,     -999,9,     -999,9
33HQ20150809  ,ARC01      ,14      ,  2,16         ,    6097,   10791,GSNIS-16   ,2,20150820,2159,  76.5108,-173.0337,     2255,    152.9,  -1.5583,  32.7975,2,  32.8015,2,    200.2,2,    219.9,2,    51.48,2,    17.73,2,     0.00,2,     2.18,2,    5.970,2,    3.454,2,    0.436,2,    3.245,2,     -999,9,   2243.3,6,   7.2346,4,    25.00,     65.8,2,     -999,1,     -999,1,     -999,1,  -1.5581,2,    -0.47,2,     -999,1,     -999,    21.78,2,     -999,1,     -999,9,     0.75,   0.7481,2,20150820,2215,    151.3,  76.5139,-173.0457,     -999,9,  32.9562,2
33HQ20150809  ,ARC01      ,14      ,  2,17         ,    6097,    -999,GSNIS-17   ,2,20150820,2159,  76.5108,-173.0337,     2255,    153.1,  -1.5590,  32.7983,2,     -999,9,    200.2,2,     -999,9,    50.70,2,    17.64,2,     0.00,2,     2.17,2,     -999,9,     -999,9,     -999,9,     -999,9,     -999,9,     -999,9,     -999,9,     -999,     -999,9,     -999,9,     -999,9,     -999,9,  -1.5587,2,     -999,9,     -999,9,     -999,     -999,9,     -999,9,     -999,9,     -999,     -999,9,20150820,2215,    151.4,  76.5140,-173.0458,     -999,9,     -999,9
33HQ20150809  ,ARC01      ,14      ,  2,18         ,    6097,    -999,GSNIS-18   ,2,20150820,2159,  76.5108,-173.0337,     2255,    153.2,  -1.5599,  32.7996,2,     -999,9,    200.2,2,     -999,9,    50.99,2,    17.72,2,     0.00,2,     2.18,2,     -999,9,     -999,9,     -999,9,     -999,9,     -999,9,     -999,9,     -999,9,     -999,     -999,9,     -999,9,     -999,9,     -999,9,  -1.5598,2,     -999,9,     -999,9,     -999,     -999,9,     -999,9,     -999,9,     -999,     -999,9,20150820,2216,    151.5,  76.5140,-173.0461,     -999,9,     -999,9
33HQ20150809  ,ARC01      ,14      ,  2,13         ,    6097,   10792,GSNIS-13   ,2,20150820,2159,  76.5108,-173.0337,     2255,    172.4,  -1.5331,  32.9511,2,  32.9511,2,    238.7,2,    241.9,2,    47.37,2,    16.83,2,     0.00,2,     2.06,2,    6.040,2,    3.423,2,    0.429,2,    3.027,2,     -999,9,   2257.5,2,   7.3145,4,    25.00,     63.6,2,     -999,1,     -999,1,     -999,1,  -1.5333,2,    -0.26,2,     -999,1,     -999,    20.24,2,     -999,1,     -999,9,     0.87,   0.8670,2,20150820,2213,    170.6,  76.5136,-173.0443,     -999,9,  33.1065,2
33HQ20150809  ,ARC01      ,14      ,  2,14         ,    6097,    -999,GSNIS-14   ,2,20150820,2159,  76.5108,-173.0337,     2255,    172.6,  -1.5326,  32.9520,2,     -999,9,    238.7,2,     -999,9,    49.03,2,    16.92,2,     0.00,2,     2.08,2,     -999,9,     -999,9,     -999,9,     -999,9,     -999,9,     -999,9,     -999,9,     -999,     -999,9,     -999,9,     -999,9,     -999,9,  -1.5328,2,     -999,9,     -999,9,     -999,     -999,9,     -999,9,     -999,9,     -999,     -999,9,20150820,2213,    170.7,  76.5136,-173.0444,     -999,9,     -999,9
33HQ20150809  ,ARC01      ,14      ,  2,15         ,    6097,    -999,GSNIS-15   ,2,20150820,2159,  76.5108,-173.0337,     2255,    172.8,  -1.5321,  32.9529,2,     -999,9,    238.7,2,     -999,9,    48.15,2,    16.78,2,     0.00,2,     2.06,2,     -999,9,     -999,9,     -999,9,     -999,9,     -999,9,     -999,9,     -999,9,     -999,     -999,9,     -999,9,     -999,9,     -999,9,  -1.5326,2,     -999,9,     -999,9,     -999,     -999,9,     -999,9,     -999,9,     -999,     -999,9,20150820,2214,    170.9,  76.5136,-173.0445,     -999,9,     -999,9
33HQ20150809  ,ARC01      ,14      ,  2,10         ,    6097,   10793,GSNIS-10   ,2,20150820,2159,  76.5108,-173.0337,     2255,    207.0,  -1.4014,  33.2288,2,  33.2390,2,    268.6,2,    259.5,2,    38.26,2,    16.55,2,     0.00,2,     1.98,2,    5.564,2,    2.812,2,    0.393,2,    1.529,2,     -999,9,   2276.2,2,   7.3891,4,    25.00,     63.2,2,     -999,1,     -999,1,     -999,1,  -1.4025,2,     0.01,2,     -999,1,     -999,    19.25,2,     -999,1,     -999,9,     0.90,   0.9044,2,20150820,2211,    204.8,  76.5131,-173.0424,     -999,9,  33.3958,2
33HQ20150809  ,ARC01      ,14      ,  2,11         ,    6097,    -999,GSNIS-11   ,2,20150820,2159,  76.5108,-173.0337,     2255,    207.1,  -1.4006,  33.2294,2,     -999,9,    268.6,2,     -999,9,    38.06,2,    16.51,2,     0.00,2,     1.97,2,     -999,9,     -999,9,     -999,9,     -999,9,     -999,9,     -999,9,     -999,9,     -999,     -999,9,     -999,9,     -999,9,     -999,9,  -1.4014,2,     -999,9,     -999,9,     -999,     -999,9,     -999,9,     -999,9,     -999,     -999,9,20150820,2211,    204.8,  76.5132,-173.0426,     -999,9,     -999,9
33HQ20150809  ,ARC01      ,14      ,  2,12         ,    6097,    -999,GSNIS-12   ,2,20150820,2159,  76.5108,-173.0337,     2255,    207.2,  -1.4000,  33.2298,2,     -999,9,    268.6,2,     -999,9,    38.36,2,    16.53,2,     0.00,2,     1.99,2,     -999,9,     -999,9,     -999,9,     -999,9,     -999,9,     -999,9,     -999,9,     -999,     -999,9,     -999,9,     -999,9,     -999,9,  -1.4008,2,     -999,9,     -999,9,     -999,     -999,9,     -999,9,     -999,9,     -999,     -999,9,20150820,2211,    204.9,  76.5132,-173.0427,     -999,9,     -999,9
33HQ20150809  ,ARC01      ,14      ,  2,7          ,    6097,   10794,GSNIS-7    ,2,20150820,2159,  76.5108,-173.0337,     2255,    228.4,  -1.3335,  33.4331,2,  33.4779,2,    281.9,2,    269.7,2,     -999,9,     -999,9,     -999,9,     -999,9,    5.945,2,    3.144,2,    0.397,2,    1.958,2,     -999,9,   2283.5,2,   7.4536,2,    25.00,     -999,9,     -999,9,     -999,1,     -999,1,  -1.3348,2,     0.14,2,     -999,1,     -999,     -999,9,     -999,1,     -999,9,     1.88,   1.8768,2,20150820,2208,    225.9,  76.5127,-173.0404,     -999,9,  33.6358,2
33HQ20150809  ,ARC01      ,14      ,  2,8          ,    6097,    -999,GSNIS-8    ,2,20150820,2159,  76.5108,-173.0337,     2255,    228.6,  -1.3285,  33.4485,2,     -999,9,    281.9,2,     -999,9,    33.26,2,    15.67,2,     0.00,2,     1.76,2,     -999,9,     -999,9,     -999,9,     -999,9,     -999,9,     -999,9,     -999,9,     -999,     -999,9,     -999,9,     -999,9,     -999,9,  -1.3306,2,     -999,9,     -999,9,     -999,     -999,9,     -999,9,     -999,9,     -999,     -999,9,20150820,2209,    226.1,  76.5127,-173.0406,     -999,9,     -999,9
33HQ20150809  ,ARC01      ,14      ,  2,9          ,    6097,    -999,GSNIS-9    ,2,20150820,2159,  76.5108,-173.0337,     2255,    228.8,  -1.3266,  33.4534,2,     -999,9,    281.8,2,     -999,9,    33.95,2,    15.74,2,     0.00,2,     1.79,2,     -999,9,     -999,9,     -999,9,     -999,9,     -999,9,     -999,9,     -999,9,     -999,     -999,9,     -999,9,     -999,9,     -999,9,  -1.3275,2,     -999,9,     -999,9,     -999,     -999,9,     -999,9,     -999,9,     -999,     -999,9,20150820,2209,    226.3,  76.5127,-173.0408,     -999,9,     -999,9
33HQ20150809  ,ARC01      ,14      ,  2,4          ,    6097,   10795,GSNIS-4    ,2,20150820,2159,  76.5108,-173.0337,     2255,    278.9,  -0.2137,  34.4725,2,  34.4625,2,    265.8,2,    264.3,2,    15.54,2,    13.13,2,     0.00,2,     1.06,2,    5.713,2,    2.836,2,    0.364,2,    1.356,2,     -999,9,   2282.5,2,   7.5886,2,    25.00,     56.8,2,     -999,1,     -999,1,     -999,1,  -0.2157,2,     0.43,2,     -999,1,     -999,    15.61,2,     -999,1,     -999,9,     0.99,   0.9922,2,20150820,2206,    275.8,  76.5122,-173.0384,     -999,9,  34.6250,2
33HQ20150809  ,ARC01      ,14      ,  2,5          ,    6097,    -999,GSNIS-5    ,2,20150820,2159,  76.5108,-173.0337,     2255,    279.5,  -0.2040,  34.4768,2,     -999,9,    268.4,2,     -999,9,    15.15,2,    12.90,2,     0.00,2,     1.06,2,     -999,9,     -999,9,     -999,9,     -999,9,     -999,9,     -999,9,     -999,9,     -999,     -999,9,     -999,9,     -999,9,     -999,9,  -0.2047,2,     -999,9,     -999,9,     -999,     -999,9,     -999,9,     -999,9,     -999,     -999,9,20150820,2206,    276.4,  76.5122,-173.0386,     -999,9,     -999,9
33HQ20150809  ,ARC01      ,14      ,  2,6          ,    6097,    -999,GSNIS-6    ,3,20150820,2159,  76.5108,-173.0337,     2255,    280.2,  -0.1710,  34.4859,2,     -999,9,    270.4,2,     -999,9,    15.35,2,    12.95,2,     0.00,2,     1.06,2,     -999,9,     -999,9,     -999,9,     -999,9,     -999,9,     -999,9,     -999,9,     -999,     -999,9,     -999,9,     -999,9,     -999,9,  -0.1903,4,     -999,9,     -999,9,     -999,     -999,9,     -999,9,     -999,9,     -999,     -999,9,20150820,2207,    277.1,  76.5123,-173.0391,     -999,9,     -999,9