BOTTLE,20221220CCHSIOAMB
EXPOCODE,SECT_ID,STNNBR,CASTNO,SAMPNO,GEOTR_EVENT,GEOTR_SAMPNO,BTLNBR,BTLNBR_FLAG_W,DATE,TIME,LATITUDE,LONGITUDE,DEPTH,CTDPRS,CTDTMP,CTDSAL,CTDSAL_FLAG_W,SALNTY,SALNTY_FLAG_W,CTDOXY,CTDOXY_FLAG_W,OXYGEN,OXYGEN_FLAG_W,SILCAT,SILCAT_FLAG_W,NITRAT,NITRAT_FLAG_W,NITRIT,NITRIT_FLAG_W,PHSPHT,PHSPHT_FLAG_W,CFC-11,CFC-11_FLAG_W,CFC-12,CFC-12_FLAG_W,CFC113,CFC113_FLAG_W,SF6,SF6_FLAG_W,TCARBN,TCARBN_FLAG_W,ALKALI,ALKALI_FLAG_W,PH_SWS,PH_SWS_FLAG_W,PH_TMP,DOC,DOC_FLAG_W,TRITUM,TRITUM_FLAG_W,HELIUM,HELIUM_FLAG_W,DELHE3,DELHE3_FLAG_W,REFTMP,REFTMP_FLAG_W,DELC13,DELC13_FLAG_W,DELC14,DELC14_FLAG_W,C14ERR,TDN,TDN_FLAG_W,DELO18,DELO18_FLAG_W,DELO17,DELO17_FLAG_W,CH4,CH4,CH4_FLAG_W,BTL_DATE,BTL_TIME,CTDDEPTH,BTL_LAT,BTL_LON,LAB_DEN,LAB_DEN_FLAG_W,SALTREF,SALTREF_FLAG_W
,,,,,,,,,,,,,METERS,DBAR,ITS-90,PSS-78,,PSS-78,,UMOL/KG,,UMOL/KG,,UMOL/KG,,UMOL/KG,,UMOL/KG,,UMOL/KG,,PMOL/KG,,PMOL/KG,,PMOL/KG,,FMOL/KG,,UMOL/KG,,UMOL/KG,,,,DEG C,UMOL/KG,,TU,,NMOL/KG,,PERCNT,,ITS-90,,/MILLE,,/MILLE,,/MILLE,UMOL/KG,,/MILLE,,/MILLE,,NMOL/KG,NMOL/L,,,,METERS,,,KG/M^3,,G/KG,
33HQ20150809  ,ARC01      ,64      ,  1,20         ,    6481,    -999,GSNIS-20   ,2,20151006,0719,  73.0007,-158.9558,      523,      3.1,  -0.8528,  26.1271,2,  26.2128,2,    376.3,2,    377.4,2,     2.65,2,     0.01,2,     0.00,2,     0.51,2,    6.409,2,    3.487,2,    0.604,2,    2.886,2,   1830.8,2,   1901.8,2,   7.6503,2,    25.00,     69.4,2,     -999,1,     -999,1,     -999,1,  -0.8408,2,     0.72,3,     -999,1,     -999,     3.37,2,     -999,1,     -999,9,     -999,     -999,1,20151006,0757,      3.0,  73.0021,-158.9843,     -999,9,  26.3364,2
33HQ20150809  ,ARC01      ,64      ,  1,19         ,    6481,    -999,GSNIS-19   ,2,20151006,0719,  73.0007,-158.9558,      523,     15.5,   2.0661,  29.7610,2,  28.5489,2,    360.1,2,    354.6,2,     4.41,2,     0.01,2,     0.00,2,     0.55,2,    5.604,2,    3.110,2,    0.520,2,    2.774,2,   1934.0,2,   2037.5,2,   7.7202,2,    25.00,     70.8,2,     -999,1,     -999,1,     -999,1,   1.9410,4,     1.36,2,     -999,9,     -999,     4.60,2,     -999,1,     -999,9,     -999,     -999,1,20151006,0756,     15.3,  73.0020,-158.9829,     -999,9,  28.6835,2
33HQ20150809  ,ARC01      ,64      ,  1,18         ,    6481,    -999,GSNIS-18   ,2,20151006,0719,  73.0007,-158.9558,      523,     30.5,   1.8665,  30.3907,2,  30.3987,2,    353.9,2,    367.4,2,     5.09,2,     0.05,2,     0.02,2,     0.67,2,     -999,9,     -999,9,     -999,9,     -999,9,   2010.8,2,   2136.2,2,   7.7389,2,    25.00,     68.0,2,     -999,9,     -999,9,     -999,9,   1.8046,4,     -999,9,     -999,9,     -999,     4.80,2,     -999,1,     -999,9,     -999,     -999,1,20151006,0754,     30.2,  73.0019,-158.9814,     -999,9,  30.5420,2
33HQ20150809  ,ARC01      ,64      ,  1,17         ,    6481,    -999,GSNIS-17   ,2,20151006,0719,  73.0007,-158.9558,      523,     45.5,  -0.8748,  30.7571,2,  30.7621,2,    356.2,2,    394.2,2,     4.31,2,     0.03,2,     0.00,2,     0.72,2,    6.557,2,    3.656,2,    0.578,2,    2.726,2,   2046.0,2,   2163.7,2,   7.7261,2,    25.00,     69.5,2,     -999,1,     -999,1,     -999,1,  -0.8724,2,     -999,9,     -999,9,     -999,     4.14,2,     -999,1,     -999,9,     -999,     -999,1,20151006,0752,     45.1,  73.0018,-158.9799,     -999,9,  30.9071,2
33HQ20150809  ,ARC01      ,64      ,  1,16         ,    6481,    -999,GSNIS-16   ,2,20151006,0719,  73.0007,-158.9558,      523,     60.7,   0.5770,  31.3071,2,  31.3322,2,    361.0,2,    361.6,2,     8.42,2,     1.34,2,     0.24,2,     0.86,2,     -999,9,     -999,9,     -999,9,     -999,9,   2060.5,2,   2182.3,2,   7.7273,2,    25.00,     68.2,2,     -999,9,     -999,9,     -999,9,   0.5968,4,     -999,9,     -999,9,     -999,     5.34,2,     -999,1,     -999,9,     -999,     -999,1,20151006,0750,     60.0,  73.0018,-158.9786,     -999,9,  31.4800,2
33HQ20150809  ,ARC01      ,64      ,  1,15         ,    6481,    -999,GSNIS-15   ,2,20151006,0719,  73.0007,-158.9558,      523,     75.8,   0.1277,  31.7811,2,  31.8172,2,    350.9,2,    351.0,2,    13.02,2,     3.58,2,     0.25,2,     1.04,2,    5.675,2,    3.275,2,    0.481,2,    2.744,2,   2086.8,2,   2195.2,2,   7.6857,2,    25.00,     66.0,2,     -999,1,     -999,1,     -999,1,   0.1263,2,     -999,9,     -999,9,     -999,     8.26,2,     -999,1,     -999,9,     -999,     -999,1,20151006,0749,     75.0,  73.0017,-158.9772,     -999,9,  31.9672,2
33HQ20150809  ,ARC01      ,64      ,  1,14         ,    6481,    -999,GSNIS-14   ,2,20151006,0719,  73.0007,-158.9558,      523,     90.9,  -1.1482,  32.1567,2,  32.1598,2,    350.9,2,    330.6,2,    19.67,2,     7.34,2,     0.17,2,     1.34,2,     -999,9,     -999,9,     -999,9,     -999,9,   2145.9,2,   2217.5,2,   7.5703,2,    25.00,     66.2,2,     -999,9,     -999,9,     -999,9,  -1.1450,2,     -999,9,     -999,9,     -999,    12.25,2,     -999,1,     -999,9,     -999,     -999,1,20151006,0747,     90.0,  73.0016,-158.9759,     -999,9,  32.3114,2
33HQ20150809  ,ARC01      ,64      ,  1,13         ,    6481,    -999,GSNIS-13   ,2,20151006,0719,  73.0007,-158.9558,      523,    107.0,  -1.4212,  32.5227,2,  32.5231,2,    288.3,2,    298.1,2,    26.12,2,    12.36,2,     0.05,2,     1.63,2,    5.873,2,    3.291,2,    0.438,2,    2.096,2,   2191.2,2,   2239.6,2,   7.4870,2,    25.00,     63.8,2,     -999,1,     -999,1,     -999,1,  -1.4208,2,     -999,9,     -999,9,     -999,    14.79,2,     -999,1,     -999,9,     -999,     -999,1,20151006,0745,    105.8,  73.0016,-158.9746,     -999,9,  32.6764,2
33HQ20150809  ,ARC01      ,64      ,  1,12         ,    6481,    -999,GSNIS-12   ,2,20151006,0719,  73.0007,-158.9558,      523,    122.2,  -1.4416,  32.8132,2,  32.8194,2,    294.5,2,    288.8,2,    28.95,2,    13.88,2,     0.04,2,     1.70,2,     -999,9,     -999,9,     -999,9,     -999,9,   2208.9,2,   2253.7,2,   7.4642,2,    25.00,     60.9,2,     -999,9,     -999,9,     -999,9,  -1.4413,2,     -999,9,     -999,9,     -999,    17.55,2,     -999,1,     -999,9,     -999,     -999,1,20151006,0744,    120.9,  73.0015,-158.9736,     -999,9,  32.9742,2
33HQ20150809  ,ARC01      ,64      ,  1,11         ,    6481,    -999,GSNIS-11   ,2,20151006,0719,  73.0007,-158.9558,      523,    137.0,  -1.4343,  33.1609,2,  33.1835,2,    280.3,2,    281.3,2,    30.60,2,    14.64,2,     0.04,2,     1.71,2,    5.659,2,    3.132,2,    0.399,2,    1.667,2,   2220.0,2,   2267.2,2,   7.4631,2,    25.00,     60.0,2,     -999,1,     -999,1,     -999,1,  -1.4351,2,     -999,9,     -999,9,     -999,    17.39,2,     -999,1,     -999,9,     -999,     -999,1,20151006,0742,    135.6,  73.0015,-158.9723,     -999,9,  33.3400,2
33HQ20150809  ,ARC01      ,64      ,  1,10         ,    6481,    -999,GSNIS-10   ,2,20151006,0719,  73.0007,-158.9558,      523,    157.0,  -1.0354,  33.7496,2,  33.7578,2,    275.4,2,    276.1,2,    25.02,2,    13.95,2,     0.06,2,     1.45,2,     -999,9,     -999,9,     -999,9,     -999,9,   2212.3,2,   2280.2,2,   7.5200,2,    25.00,     59.1,2,     -999,9,     -999,9,     -999,9,  -1.0359,2,     -999,9,     -999,9,     -999,    17.00,2,     -999,1,     -999,9,     -999,     -999,1,20151006,0741,    155.3,  73.0015,-158.9712,     -999,9,  33.9170,2
33HQ20150809  ,ARC01      ,64      ,  1,9          ,    6481,    -999,GSNIS-9    ,2,20151006,0719,  73.0007,-158.9558,      523,    176.9,  -0.6722,  34.2041,2,  34.2294,2,    279.5,2,    279.7,2,    16.41,2,    12.64,2,     0.00,2,     1.11,2,    4.641,2,    2.493,2,    0.292,2,    1.008,2,   2192.0,2,   2288.4,2,   7.5862,2,    25.00,     60.3,2,     -999,1,     -999,1,     -999,1,  -0.6726,2,     -999,9,     -999,9,     -999,    14.51,2,     -999,1,     -999,9,     -999,     -999,1,20151006,0739,    175.0,  73.0014,-158.9698,     -999,9,  34.3908,2
33HQ20150809  ,ARC01      ,64      ,  1,8          ,    6481,    -999,GSNIS-8    ,2,20151006,0719,  73.0007,-158.9558,      523,    197.2,  -0.3245,  34.4060,2,  34.4189,2,    281.0,2,    279.8,2,    13.28,2,    12.47,2,     0.00,2,     1.02,2,     -999,9,     -999,9,     -999,9,     -999,9,   2181.0,2,   2280.6,2,   7.6170,2,    25.00,     57.2,2,     -999,9,     -999,9,     -999,9,  -0.3188,2,     -999,9,     -999,9,     -999,    14.70,2,     -999,1,     -999,9,     -999,     -999,1,20151006,0737,    195.1,  73.0013,-158.9683,     -999,9,  34.5812,2
33HQ20150809  ,ARC01      ,64      ,  1,7          ,    6481,    -999,GSNIS-7    ,2,20151006,0719,  73.0007,-158.9558,      523,    217.9,   0.0395,  34.5704,2,  34.5791,2,    280.1,2,    279.6,2,    11.82,2,    12.75,2,     0.00,2,     0.98,2,    4.611,2,    2.361,2,    0.289,2,    0.798,2,   2176.0,2,   2282.6,2,   7.6402,2,    25.00,     55.7,2,     -999,1,     -999,1,     -999,1,   0.0384,2,     -999,9,     -999,9,     -999,    15.86,2,     -999,1,     -999,9,     -999,     -999,1,20151006,0735,    215.6,  73.0011,-158.9670,     -999,9,  34.7422,2
33HQ20150809  ,ARC01      ,64      ,  1,6          ,    6481,    -999,GSNIS-6    ,2,20151006,0719,  73.0007,-158.9558,      523,    239.2,   0.2995,  34.6682,2,  34.6689,2,    283.2,2,    280.4,2,    10.94,2,    12.94,2,     0.00,2,     0.97,2,     -999,9,     -999,9,     -999,9,     -999,9,   2171.6,2,   2287.4,2,   7.6570,2,    25.00,     54.1,2,     -999,9,     -999,9,     -999,9,   0.2985,2,     -999,9,     -999,9,     -999,    16.16,2,     -999,1,     -999,9,     -999,     -999,1,20151006,0734,    236.6,  73.0010,-158.9661,     -999,9,  34.8324,2
33HQ20150809  ,ARC01      ,64      ,  1,5          ,    6481,    -999,GSNIS-5    ,2,20151006,0719,  73.0007,-158.9558,      523,    289.3,   0.5482,  34.7603,2,  34.7631,2,    286.5,2,    284.8,2,     9.28,2,    12.88,2,     0.00,2,     0.92,2,    4.990,2,    2.364,2,    0.304,2,    0.751,2,   2164.1,2,   2292.4,2,   7.6800,2,    25.00,     54.2,2,     -999,1,     -999,1,     -999,1,   0.5481,2,     -999,9,     -999,9,     -999,    15.28,2,     -999,1,     -999,9,     -999,     -999,1,20151006,0732,    286.1,  73.0008,-158.9649,     -999,9,  34.9270,2
33HQ20150809  ,ARC01      ,64      ,  1,4          ,    6481,    -999,GSNIS-4    ,2,20151006,0719,  73.0007,-158.9558,      523,    342.3,   0.6376,  34.8061,2,  34.8066,2,    289.2,2,    288.7,2,     8.30,2,    12.73,2,     0.00,2,     0.90,2,    4.825,2,    2.263,2,    0.299,2,    0.636,2,   2160.1,2,   2293.1,2,   7.6961,2,    25.00,     51.7,2,     -999,1,     -999,1,     -999,1,   0.6372,2,     -999,9,     -999,9,     -999,    14.14,2,     -999,1,     -999,9,     -999,     -999,1,20151006,0729,    338.5,  73.0008,-158.9636,     -999,9,  34.9707,2
33HQ20150809  ,ARC01      ,64      ,  1,3          ,    6481,    -999,GSNIS-3    ,2,20151006,0719,  73.0007,-158.9558,      523,    389.4,   0.4964,  34.8378,2,  34.8394,2,    290.5,2,    292.5,2,     8.10,2,    12.65,2,     0.02,2,     0.91,2,    4.476,2,    2.083,2,    0.264,2,    0.529,2,   2158.7,2,   2295.1,2,   7.6937,2,    25.00,     50.7,2,     -999,1,     -999,1,     -999,1,   0.4958,2,     -999,9,     -999,9,     -999,    14.94,2,     -999,1,     -999,9,     -999,     -999,1,20151006,0725,    385.0,  73.0007,-158.9617,     -999,9,  35.0037,2
33HQ20150809  ,ARC01      ,64      ,  1,2          ,    6481,    -999,GSNIS-2    ,2,20151006,0719,  73.0007,-158.9558,      523,    450.7,   0.4679,  34.8435,2,  34.8449,2,    293.0,2,    293.4,2,     8.10,2,    12.64,2,     0.02,2,     0.90,2,    4.397,2,    2.060,2,    0.252,2,    0.570,2,   2160.0,2,   2291.0,2,   7.7014,2,    25.00,     49.9,2,     -999,1,     -999,1,     -999,1,   0.4672,2,     -999,9,     -999,9,     -999,    14.46,2,     -999,1,     -999,9,     -999,     -999,1,20151006,0723,    445.6,  73.0007,-158.9593,     -999,9,  35.0092,2
33HQ20150809  ,ARC01      ,64      ,  1,1          ,    6481,    -999,GSNIS-1    ,2,20151006,0719,  73.0007,-158.9558,      523,    514.4,   0.4531,  34.8487,2,  34.8485,2,    293.0,2,    292.6,2,     8.40,2,    12.64,2,     0.03,2,     0.91,2,    4.370,2,    2.073,2,    0.256,2,    0.550,2,   2159.0,2,   2290.6,2,   7.6970,2,    25.00,     49.8,2,     -999,1,     -999,1,     -999,1,   0.4534,2,     -999,9,     -999,9,     -999,    14.11,2,     -999,1,     -999,9,     -999,     -999,1,20151006,0720,    508.5,  73.0007,-158.9566,     -999,9,  35.0128,2
33HQ20150809  ,ARC01      ,65      ,  1,5          ,    6482,    -999,GSNIS-5    ,2,20151006,1054,  72.7244,-159.9235,       71,      3.5,   0.0981,  30.8103,2,  30.8056,2,    357.1,2,    357.7,2,     6.46,2,     0.09,2,     0.00,2,     0.55,2,    5.142,2,    3.076,2,    0.490,2,    2.557,2,   1991.3,2,   2133.0,2,   7.7717,2,    25.00,     69.6,2,     -999,1,     -999,1,     -999,1,   0.0986,2,     1.59,6,     -999,1,     -999,     3.57,2,     -999,1,     -999,9,     -999,     -999,1,20151006,1102,      3.4,  72.7269,-159.9289,     -999,9,  30.9508,2
33HQ20150809  ,ARC01      ,65      ,  1,4          ,    6482,    -999,GSNIS-4    ,2,20151006,1054,  72.7244,-159.9235,       71,     16.6,   0.2260,  30.9024,2,  30.8656,2,    357.2,2,    357.3,2,     6.66,2,     0.11,2,     0.00,2,     0.55,2,    5.227,2,    3.041,2,    0.489,2,    2.798,2,   1993.3,2,   2135.0,2,   7.7798,2,    25.00,     72.5,2,     -999,1,     -999,1,     -999,1,   0.1844,4,     -999,9,     -999,9,     -999,     5.51,2,     -999,1,     -999,9,     -999,     -999,1,20151006,1100,     16.4,  72.7263,-159.9276,     -999,9,  31.0111,2
33HQ20150809  ,ARC01      ,65      ,  1,3          ,    6482,    -999,GSNIS-3    ,2,20151006,1054,  72.7244,-159.9235,       71,     31.6,   0.5745,  31.3223,2,  31.2696,2,    352.2,2,    351.4,2,     8.32,2,     0.82,2,     0.02,2,     0.65,2,    5.177,2,    3.000,2,    0.486,2,    2.540,2,   2011.0,2,   2155.1,2,   7.7756,2,    25.00,     70.9,2,     -999,1,     -999,1,     -999,1,   0.5723,2,     -999,9,     -999,9,     -999,     5.61,2,     -999,1,     -999,9,     -999,     -999,1,20151006,1058,     31.2,  72.7256,-159.9261,     -999,9,  31.4171,2
33HQ20150809  ,ARC01      ,65      ,  1,2          ,    6482,    -999,GSNIS-2    ,2,20151006,1054,  72.7244,-159.9235,       71,     46.0,  -1.5967,  32.6096,2,  32.6064,2,    225.9,2,    226.0,2,    53.11,2,    16.20,2,     0.12,2,     2.28,2,    5.149,2,    3.186,2,    0.482,2,    3.058,2,   2240.5,2,   2219.3,2,   7.2533,2,    25.00,     66.4,2,     -999,1,     -999,1,     -999,1,  -1.5973,2,     -999,9,     -999,9,     -999,    22.85,2,     -999,1,     -999,9,     -999,     -999,1,20151006,1056,     45.5,  72.7250,-159.9248,     -999,9,  32.7602,2
33HQ20150809  ,ARC01      ,65      ,  1,1          ,    6482,    -999,GSNIS-1    ,2,20151006,1054,  72.7244,-159.9235,       71,     58.4,  -1.5943,  32.6113,2,  32.6088,2,    222.8,2,    224.2,2,    53.11,2,    16.15,2,     0.13,2,     2.31,2,    5.079,2,    3.149,2,    0.482,2,    3.077,2,   2239.0,2,   2220.1,2,   7.3154,2,    25.00,     66.9,2,     -999,1,     -999,1,     -999,1,  -1.5940,2,     -999,9,     -999,9,     -999,    22.50,2,     -999,1,     -999,9,     -999,     -999,1,20151006,1053,     57.8,  72.7242,-159.9231,     -999,9,  32.7625,2