BOTTLE,20221220CCHSIOAMB
EXPOCODE,SECT_ID,STNNBR,CASTNO,SAMPNO,GEOTR_EVENT,GEOTR_SAMPNO,BTLNBR,BTLNBR_FLAG_W,DATE,TIME,LATITUDE,LONGITUDE,DEPTH,CTDPRS,CTDTMP,CTDSAL,CTDSAL_FLAG_W,SALNTY,SALNTY_FLAG_W,CTDOXY,CTDOXY_FLAG_W,OXYGEN,OXYGEN_FLAG_W,SILCAT,SILCAT_FLAG_W,NITRAT,NITRAT_FLAG_W,NITRIT,NITRIT_FLAG_W,PHSPHT,PHSPHT_FLAG_W,CFC-11,CFC-11_FLAG_W,CFC-12,CFC-12_FLAG_W,CFC113,CFC113_FLAG_W,SF6,SF6_FLAG_W,TCARBN,TCARBN_FLAG_W,ALKALI,ALKALI_FLAG_W,PH_SWS,PH_SWS_FLAG_W,PH_TMP,DOC,DOC_FLAG_W,TRITUM,TRITUM_FLAG_W,HELIUM,HELIUM_FLAG_W,DELHE3,DELHE3_FLAG_W,REFTMP,REFTMP_FLAG_W,DELC13,DELC13_FLAG_W,DELC14,DELC14_FLAG_W,C14ERR,TDN,TDN_FLAG_W,DELO18,DELO18_FLAG_W,DELO17,DELO17_FLAG_W,CH4,CH4,CH4_FLAG_W,BTL_DATE,BTL_TIME,CTDDEPTH,BTL_LAT,BTL_LON,LAB_DEN,LAB_DEN_FLAG_W,SALTREF,SALTREF_FLAG_W
,,,,,,,,,,,,,METERS,DBAR,ITS-90,PSS-78,,PSS-78,,UMOL/KG,,UMOL/KG,,UMOL/KG,,UMOL/KG,,UMOL/KG,,UMOL/KG,,PMOL/KG,,PMOL/KG,,PMOL/KG,,FMOL/KG,,UMOL/KG,,UMOL/KG,,,,DEG C,UMOL/KG,,TU,,NMOL/KG,,PERCNT,,ITS-90,,/MILLE,,/MILLE,,/MILLE,UMOL/KG,,/MILLE,,/MILLE,,NMOL/KG,NMOL/L,,,,METERS,,,KG/M^3,,G/KG,
33HQ20150809  ,ARC01      ,43      ,  5,36         ,    6297,   11561,GSNIS-36   ,2,20150915,2250,  85.1372,-149.8845,     2202,     19.8,  -1.4798,  27.4116,2,     -999,9,    398.2,2,     -999,9,     8.84,2,     0.00,2,     0.04,2,     0.65,2,     -999,9,     -999,9,     -999,9,     -999,9,     -999,9,     -999,9,     -999,9,     -999,     -999,9,     -999,9,     -999,9,     -999,9,  -1.4796,2,     -999,9,     -999,9,     -999,     -999,9,     -999,9,     -999,9,     -999,     -999,9,20150915,2306,     19.6,  85.1380,-149.8819,     -999,9,     -999,9
33HQ20150809  ,ARC01      ,43      ,  5,35         ,    6297,   11561,GSNIS-35   ,2,20150915,2250,  85.1372,-149.8845,     2202,     19.8,  -1.4796,  27.4114,2,     -999,9,    398.2,2,     -999,9,     8.84,2,     0.00,2,     0.03,2,     0.64,2,     -999,9,     -999,9,     -999,9,     -999,9,     -999,9,     -999,9,     -999,9,     -999,     -999,9,     -999,9,     -999,9,     -999,9,  -1.4793,2,     -999,9,     -999,9,     -999,     -999,9,     -999,9,     -999,9,     -999,     -999,9,20150915,2306,     19.6,  85.1379,-149.8819,     -999,9,     -999,9
33HQ20150809  ,ARC01      ,43      ,  5,34         ,    6297,   11561,GSNIS-34   ,2,20150915,2250,  85.1372,-149.8845,     2202,     19.8,  -1.4791,  27.4106,2,     -999,9,    398.2,2,     -999,9,     8.84,2,     0.00,2,     0.04,2,     0.64,2,     -999,9,     -999,9,     -999,9,     -999,9,     -999,9,     -999,9,     -999,9,     -999,     -999,9,     -999,9,     -999,9,     -999,9,  -1.4793,2,     -999,9,     -999,9,     -999,     -999,9,     -999,9,     -999,9,     -999,     -999,9,20150915,2306,     19.6,  85.1379,-149.8820,     -999,9,     -999,9
33HQ20150809  ,ARC01      ,43      ,  5,33         ,    6297,   11561,GSNIS-33   ,2,20150915,2250,  85.1372,-149.8845,     2202,     19.8,  -1.4792,  27.4112,2,     -999,9,    398.2,2,     -999,9,     8.84,2,     0.00,2,     0.03,2,     0.63,2,     -999,9,     -999,9,     -999,9,     -999,9,     -999,9,     -999,9,     -999,9,     -999,     -999,9,     -999,9,     -999,9,     -999,9,  -1.4794,2,     -999,9,     -999,9,     -999,     -999,9,     -999,9,     -999,9,     -999,     -999,9,20150915,2306,     19.6,  85.1379,-149.8820,     -999,9,     -999,9
33HQ20150809  ,ARC01      ,43      ,  5,32         ,    6297,   11561,GSNIS-32   ,2,20150915,2250,  85.1372,-149.8845,     2202,     19.8,  -1.4797,  27.4125,2,     -999,9,    397.5,2,     -999,9,     8.84,2,     0.00,2,     0.03,2,     0.64,2,     -999,9,     -999,9,     -999,9,     -999,9,     -999,9,     -999,9,     -999,9,     -999,     -999,9,     -999,9,     -999,9,     -999,9,  -1.4802,2,     -999,9,     -999,9,     -999,     -999,9,     -999,9,     -999,9,     -999,     -999,9,20150915,2306,     19.6,  85.1379,-149.8820,     -999,9,     -999,9
33HQ20150809  ,ARC01      ,43      ,  5,31         ,    6297,   11561,GSNIS-31   ,2,20150915,2250,  85.1372,-149.8845,     2202,     19.8,  -1.4803,  27.4136,2,  27.4464,3,    397.5,2,    397.4,2,     8.84,2,     0.00,2,     0.03,2,     0.64,2,     -999,9,     -999,9,     -999,9,     -999,9,     -999,9,     -999,9,     -999,9,     -999,     -999,9,     -999,9,     -999,9,     -999,9,  -1.4801,2,     -999,9,     -999,9,     -999,     -999,9,     -999,9,     -999,9,     -999,     -999,9,20150915,2306,     19.6,  85.1379,-149.8821,     -999,9,  27.5758,3
33HQ20150809  ,ARC01      ,43      ,  5,28         ,    6297,   11562,GSNIS-28   ,2,20150915,2250,  85.1372,-149.8845,     2202,     55.2,  -1.5133,  30.7976,2,     -999,9,    358.9,2,     -999,9,    10.19,2,     2.70,2,     0.00,2,     0.85,2,     -999,9,     -999,9,     -999,9,     -999,9,     -999,9,     -999,9,     -999,9,     -999,     -999,9,     -999,9,     -999,9,     -999,9,  -1.5134,2,     -999,9,     -999,9,     -999,     -999,9,     -999,9,     -999,9,     -999,     -999,9,20150915,2303,     54.6,  85.1378,-149.8825,     -999,9,     -999,9
33HQ20150809  ,ARC01      ,43      ,  5,29         ,    6297,   11562,GSNIS-29   ,2,20150915,2250,  85.1372,-149.8845,     2202,     55.2,  -1.5125,  30.8032,2,     -999,9,    358.9,2,     -999,9,    10.19,2,     2.63,2,     0.00,2,     0.85,2,     -999,9,     -999,9,     -999,9,     -999,9,     -999,9,     -999,9,     -999,9,     -999,     -999,9,     -999,9,     -999,9,     -999,9,  -1.5126,2,     -999,9,     -999,9,     -999,     -999,9,     -999,9,     -999,9,     -999,     -999,9,20150915,2303,     54.6,  85.1378,-149.8825,     -999,9,     -999,9
33HQ20150809  ,ARC01      ,43      ,  5,30         ,    6297,   11562,GSNIS-30   ,2,20150915,2250,  85.1372,-149.8845,     2202,     55.2,  -1.5123,  30.8040,2,     -999,9,    358.9,2,     -999,9,    10.38,2,     2.71,2,     0.00,2,     0.85,2,     -999,9,     -999,9,     -999,9,     -999,9,     -999,9,     -999,9,     -999,9,     -999,     -999,9,     -999,9,     -999,9,     -999,9,  -1.5123,2,     -999,9,     -999,9,     -999,     -999,9,     -999,9,     -999,9,     -999,     -999,9,20150915,2303,     54.6,  85.1378,-149.8824,     -999,9,     -999,9
33HQ20150809  ,ARC01      ,43      ,  5,25         ,    6297,   11562,GSNIS-25   ,2,20150915,2250,  85.1372,-149.8845,     2202,     55.2,  -1.5080,  30.8197,2,  31.0640,3,    358.9,2,    357.0,2,    10.19,2,     2.62,2,     0.00,2,     0.84,2,     -999,9,     -999,9,     -999,9,     -999,9,     -999,9,     -999,9,     -999,9,     -999,     -999,9,     -999,9,     -999,9,     -999,9,  -1.5137,2,     -999,9,     -999,9,     -999,     -999,9,     -999,9,     -999,9,     -999,     -999,9,20150915,2302,     54.6,  85.1377,-149.8826,     -999,9,  31.2104,3
33HQ20150809  ,ARC01      ,43      ,  5,26         ,    6297,   11562,GSNIS-26   ,2,20150915,2250,  85.1372,-149.8845,     2202,     55.2,  -1.5121,  30.8057,2,     -999,9,    358.9,2,     -999,9,    10.28,2,     2.68,2,     0.00,2,     0.85,2,     -999,9,     -999,9,     -999,9,     -999,9,     -999,9,     -999,9,     -999,9,     -999,     -999,9,     -999,9,     -999,9,     -999,9,  -1.5134,2,     -999,9,     -999,9,     -999,     -999,9,     -999,9,     -999,9,     -999,     -999,9,20150915,2303,     54.6,  85.1378,-149.8825,     -999,9,     -999,9
33HQ20150809  ,ARC01      ,43      ,  5,27         ,    6297,   11562,GSNIS-27   ,2,20150915,2250,  85.1372,-149.8845,     2202,     55.2,  -1.5131,  30.7965,2,     -999,9,    358.9,2,     -999,9,    10.19,2,     2.69,2,     0.00,2,     0.85,2,     -999,9,     -999,9,     -999,9,     -999,9,     -999,9,     -999,9,     -999,9,     -999,     -999,9,     -999,9,     -999,9,     -999,9,  -1.5130,2,     -999,9,     -999,9,     -999,     -999,9,     -999,9,     -999,9,     -999,     -999,9,20150915,2303,     54.6,  85.1378,-149.8825,     -999,9,     -999,9
33HQ20150809  ,ARC01      ,43      ,  5,22         ,    6297,   11563,GSNIS-22   ,2,20150915,2250,  85.1372,-149.8845,     2202,     75.4,  -1.5216,  32.0026,2,     -999,9,    327.0,2,     -999,9,    16.34,2,     6.23,2,     0.00,2,     1.03,2,     -999,9,     -999,9,     -999,9,     -999,9,     -999,9,     -999,9,     -999,9,     -999,     -999,9,     -999,9,     -999,9,     -999,9,  -1.5280,2,     -999,9,     -999,9,     -999,     -999,9,     -999,9,     -999,9,     -999,     -999,9,20150915,2300,     74.5,  85.1376,-149.8829,     -999,9,     -999,9
33HQ20150809  ,ARC01      ,43      ,  5,21         ,    6297,   11563,GSNIS-21   ,2,20150915,2250,  85.1372,-149.8845,     2202,     75.4,  -1.5268,  32.0038,2,     -999,9,    327.0,2,     -999,9,    15.56,2,     5.88,2,     0.00,2,     1.00,2,     -999,9,     -999,9,     -999,9,     -999,9,     -999,9,     -999,9,     -999,9,     -999,     -999,9,     -999,9,     -999,9,     -999,9,  -1.5329,2,     -999,9,     -999,9,     -999,     -999,9,     -999,9,     -999,9,     -999,     -999,9,20150915,2300,     74.5,  85.1376,-149.8829,     -999,9,     -999,9
33HQ20150809  ,ARC01      ,43      ,  5,20         ,    6297,   11563,GSNIS-20   ,2,20150915,2250,  85.1372,-149.8845,     2202,     75.4,  -1.5349,  31.9956,2,     -999,9,    327.0,2,     -999,9,    16.44,2,     6.29,2,     0.00,2,     1.06,2,     -999,9,     -999,9,     -999,9,     -999,9,     -999,9,     -999,9,     -999,9,     -999,     -999,9,     -999,9,     -999,9,     -999,9,  -1.5338,2,     -999,9,     -999,9,     -999,     -999,9,     -999,9,     -999,9,     -999,     -999,9,20150915,2300,     74.5,  85.1376,-149.8830,     -999,9,     -999,9
33HQ20150809  ,ARC01      ,43      ,  5,24         ,    6297,   11563,GSNIS-24   ,2,20150915,2250,  85.1372,-149.8845,     2202,     75.4,  -1.5137,  32.0057,2,     -999,9,    327.0,2,     -999,9,    15.85,2,     6.02,2,     0.00,2,     1.01,2,     -999,9,     -999,9,     -999,9,     -999,9,     -999,9,     -999,9,     -999,9,     -999,     -999,9,     -999,9,     -999,9,     -999,9,  -1.5187,2,     -999,9,     -999,9,     -999,     -999,9,     -999,9,     -999,9,     -999,     -999,9,20150915,2301,     74.5,  85.1377,-149.8828,     -999,9,     -999,9
33HQ20150809  ,ARC01      ,43      ,  5,23         ,    6297,   11563,GSNIS-23   ,2,20150915,2250,  85.1372,-149.8845,     2202,     75.4,  -1.5261,  32.0015,2,     -999,9,    327.0,2,     -999,9,    15.66,2,     5.94,2,     0.00,2,     1.00,2,     -999,9,     -999,9,     -999,9,     -999,9,     -999,9,     -999,9,     -999,9,     -999,     -999,9,     -999,9,     -999,9,     -999,9,  -1.5253,2,     -999,9,     -999,9,     -999,     -999,9,     -999,9,     -999,9,     -999,     -999,9,20150915,2300,     74.5,  85.1377,-149.8829,     -999,9,     -999,9
33HQ20150809  ,ARC01      ,43      ,  5,19         ,    6297,   11563,GSNIS-19   ,2,20150915,2250,  85.1372,-149.8845,     2202,     75.4,  -1.5382,  31.9894,2,  32.0534,3,    327.0,2,    328.1,2,    15.66,2,     5.91,2,     0.00,2,     1.02,2,     -999,9,     -999,9,     -999,9,     -999,9,     -999,9,     -999,9,     -999,9,     -999,     -999,9,     -999,9,     -999,9,     -999,9,  -1.5322,2,     -999,9,     -999,9,     -999,     -999,9,     -999,9,     -999,9,     -999,     -999,9,20150915,2300,     74.5,  85.1376,-149.8830,     -999,9,  32.2045,3
33HQ20150809  ,ARC01      ,43      ,  5,18         ,    6297,   11564,GSNIS-18   ,2,20150915,2250,  85.1372,-149.8845,     2202,    100.9,  -1.3724,  33.1963,2,     -999,9,    253.3,2,     -999,9,    34.41,2,    14.23,2,     0.00,2,     1.65,2,     -999,9,     -999,9,     -999,9,     -999,9,     -999,9,     -999,9,     -999,9,     -999,     -999,9,     -999,9,     -999,9,     -999,9,  -1.3718,2,     -999,9,     -999,9,     -999,     -999,9,     -999,9,     -999,9,     -999,     -999,9,20150915,2258,     99.8,  85.1375,-149.8833,     -999,9,     -999,9
33HQ20150809  ,ARC01      ,43      ,  5,17         ,    6297,   11564,GSNIS-17   ,2,20150915,2250,  85.1372,-149.8845,     2202,    101.0,  -1.3825,  33.1685,2,     -999,9,    253.3,2,     -999,9,    34.42,2,    14.21,2,     0.00,2,     1.65,2,     -999,9,     -999,9,     -999,9,     -999,9,     -999,9,     -999,9,     -999,9,     -999,     -999,9,     -999,9,     -999,9,     -999,9,  -1.3887,2,     -999,9,     -999,9,     -999,     -999,9,     -999,9,     -999,9,     -999,     -999,9,20150915,2258,     99.9,  85.1375,-149.8833,     -999,9,     -999,9
33HQ20150809  ,ARC01      ,43      ,  5,16         ,    6297,   11564,GSNIS-16   ,2,20150915,2250,  85.1372,-149.8845,     2202,    101.0,  -1.3957,  33.1586,2,     -999,9,    255.7,2,     -999,9,    34.71,2,    14.27,2,     0.00,2,     1.66,2,     -999,9,     -999,9,     -999,9,     -999,9,     -999,9,     -999,9,     -999,9,     -999,     -999,9,     -999,9,     -999,9,     -999,9,  -1.4009,2,     -999,9,     -999,9,     -999,     -999,9,     -999,9,     -999,9,     -999,     -999,9,20150915,2258,     99.9,  85.1375,-149.8833,     -999,9,     -999,9
33HQ20150809  ,ARC01      ,43      ,  5,15         ,    6297,   11564,GSNIS-15   ,2,20150915,2250,  85.1372,-149.8845,     2202,    101.0,  -1.3883,  33.1554,2,     -999,9,    255.7,2,     -999,9,    34.42,2,    14.19,2,     0.00,2,     1.66,2,     -999,9,     -999,9,     -999,9,     -999,9,     -999,9,     -999,9,     -999,9,     -999,     -999,9,     -999,9,     -999,9,     -999,9,  -1.3898,2,     -999,9,     -999,9,     -999,     -999,9,     -999,9,     -999,9,     -999,     -999,9,20150915,2257,     99.9,  85.1375,-149.8834,     -999,9,     -999,9
33HQ20150809  ,ARC01      ,43      ,  5,14         ,    6297,   11564,GSNIS-14   ,2,20150915,2250,  85.1372,-149.8845,     2202,    101.0,  -1.3887,  33.1740,2,     -999,9,    253.3,2,     -999,9,    34.61,2,    14.23,2,     0.00,2,     1.67,2,     -999,9,     -999,9,     -999,9,     -999,9,     -999,9,     -999,9,     -999,9,     -999,     -999,9,     -999,9,     -999,9,     -999,9,  -1.3907,2,     -999,9,     -999,9,     -999,     -999,9,     -999,9,     -999,9,     -999,     -999,9,20150915,2257,     99.9,  85.1375,-149.8834,     -999,9,     -999,9
33HQ20150809  ,ARC01      ,43      ,  5,13         ,    6297,   11564,GSNIS-13   ,2,20150915,2250,  85.1372,-149.8845,     2202,    101.0,  -1.3923,  33.1303,2,  33.2240,3,    255.7,2,    257.0,2,    33.54,2,    13.97,2,     0.00,2,     1.64,2,     -999,9,     -999,9,     -999,9,     -999,9,     -999,9,     -999,9,     -999,9,     -999,     -999,9,     -999,9,     -999,9,     -999,9,  -1.3721,2,     -999,9,     -999,9,     -999,     -999,9,     -999,9,     -999,9,     -999,     -999,9,20150915,2257,     99.9,  85.1375,-149.8834,     -999,9,  33.3807,3
33HQ20150809  ,ARC01      ,43      ,  5,7          ,    6297,   11565,GSNIS-7    ,2,20150915,2250,  85.1372,-149.8845,     2202,    141.4,  -1.1110,  34.1293,2,  34.1307,2,    289.8,2,    290.8,2,    10.84,2,     9.32,2,     0.00,2,     0.83,2,     -999,9,     -999,9,     -999,9,     -999,9,     -999,9,     -999,9,     -999,9,     -999,     -999,9,     -999,9,     -999,9,     -999,9,  -1.1093,2,     -999,9,     -999,9,     -999,     -999,9,     -999,9,     -999,9,     -999,     -999,9,20150915,2254,    139.9,  85.1374,-149.8839,     -999,9,  34.2917,2
33HQ20150809  ,ARC01      ,43      ,  5,12         ,    6297,   11565,GSNIS-12   ,2,20150915,2250,  85.1372,-149.8845,     2202,    141.4,  -1.1064,  34.1415,2,     -999,9,    291.8,2,     -999,9,    10.65,2,     9.30,2,     0.00,2,     0.83,2,     -999,9,     -999,9,     -999,9,     -999,9,     -999,9,     -999,9,     -999,9,     -999,     -999,9,     -999,9,     -999,9,     -999,9,  -1.1066,2,     -999,9,     -999,9,     -999,     -999,9,     -999,9,     -999,9,     -999,     -999,9,20150915,2255,    139.9,  85.1374,-149.8837,     -999,9,     -999,9
33HQ20150809  ,ARC01      ,43      ,  5,8          ,    6297,   11565,GSNIS-8    ,2,20150915,2250,  85.1372,-149.8845,     2202,    141.4,  -1.1104,  34.1297,2,     -999,9,    289.8,2,     -999,9,    10.65,2,     9.31,2,     0.00,2,     0.81,2,     -999,9,     -999,9,     -999,9,     -999,9,     -999,9,     -999,9,     -999,9,     -999,     -999,9,     -999,9,     -999,9,     -999,9,  -1.1082,2,     -999,9,     -999,9,     -999,     -999,9,     -999,9,     -999,9,     -999,     -999,9,20150915,2255,    139.9,  85.1374,-149.8839,     -999,9,     -999,9
33HQ20150809  ,ARC01      ,43      ,  5,10         ,    6297,   11565,GSNIS-10   ,2,20150915,2250,  85.1372,-149.8845,     2202,    141.4,  -1.1073,  34.1405,2,     -999,9,    291.8,2,     -999,9,    10.55,2,     9.31,2,     0.00,2,     0.82,2,     -999,9,     -999,9,     -999,9,     -999,9,     -999,9,     -999,9,     -999,9,     -999,     -999,9,     -999,9,     -999,9,     -999,9,  -1.1069,2,     -999,9,     -999,9,     -999,     -999,9,     -999,9,     -999,9,     -999,     -999,9,20150915,2255,    139.9,  85.1374,-149.8838,     -999,9,     -999,9
33HQ20150809  ,ARC01      ,43      ,  5,11         ,    6297,   11565,GSNIS-11   ,2,20150915,2250,  85.1372,-149.8845,     2202,    141.4,  -1.1075,  34.1398,2,     -999,9,    289.8,2,     -999,9,    10.65,2,     9.32,2,     0.00,2,     0.82,2,     -999,9,     -999,9,     -999,9,     -999,9,     -999,9,     -999,9,     -999,9,     -999,     -999,9,     -999,9,     -999,9,     -999,9,  -1.1073,2,     -999,9,     -999,9,     -999,     -999,9,     -999,9,     -999,9,     -999,     -999,9,20150915,2255,    139.9,  85.1374,-149.8838,     -999,9,     -999,9
33HQ20150809  ,ARC01      ,43      ,  5,9          ,    6297,   11565,GSNIS-9    ,2,20150915,2250,  85.1372,-149.8845,     2202,    141.4,  -1.1081,  34.1365,2,     -999,9,    289.8,2,     -999,9,    10.55,2,     9.30,2,     0.00,2,     0.82,2,     -999,9,     -999,9,     -999,9,     -999,9,     -999,9,     -999,9,     -999,9,     -999,     -999,9,     -999,9,     -999,9,     -999,9,  -1.1062,2,     -999,9,     -999,9,     -999,     -999,9,     -999,9,     -999,9,     -999,     -999,9,20150915,2255,    139.9,  85.1374,-149.8838,     -999,9,     -999,9
33HQ20150809  ,ARC01      ,43      ,  5,3          ,    6297,   11566,GSNIS-3    ,2,20150915,2250,  85.1372,-149.8845,     2202,    227.8,   0.2215,  34.6273,2,     -999,9,    294.4,2,     -999,9,     6.74,2,    10.70,2,     0.00,2,     0.78,2,     -999,9,     -999,9,     -999,9,     -999,9,     -999,9,     -999,9,     -999,9,     -999,     -999,9,     -999,9,     -999,9,     -999,9,   0.2218,2,     -999,9,     -999,9,     -999,     -999,9,     -999,9,     -999,9,     -999,     -999,9,20150915,2251,    225.3,  85.1372,-149.8844,     -999,9,     -999,9
33HQ20150809  ,ARC01      ,43      ,  5,4          ,    6297,   11566,GSNIS-4    ,2,20150915,2250,  85.1372,-149.8845,     2202,    227.8,   0.2205,  34.6273,2,     -999,9,    294.4,2,     -999,9,     6.74,2,    10.70,2,     0.00,2,     0.78,2,     -999,9,     -999,9,     -999,9,     -999,9,     -999,9,     -999,9,     -999,9,     -999,     -999,9,     -999,9,     -999,9,     -999,9,   0.2218,2,     -999,9,     -999,9,     -999,     -999,9,     -999,9,     -999,9,     -999,     -999,9,20150915,2251,    225.3,  85.1372,-149.8844,     -999,9,     -999,9
33HQ20150809  ,ARC01      ,43      ,  5,2          ,    6297,   11566,GSNIS-2    ,2,20150915,2250,  85.1372,-149.8845,     2202,    227.8,   0.2204,  34.6273,2,     -999,9,    294.4,2,     -999,9,     6.74,2,    10.70,2,     0.00,2,     0.78,2,     -999,9,     -999,9,     -999,9,     -999,9,     -999,9,     -999,9,     -999,9,     -999,     -999,9,     -999,9,     -999,9,     -999,9,   0.2219,2,     -999,9,     -999,9,     -999,     -999,9,     -999,9,     -999,9,     -999,     -999,9,20150915,2251,    225.3,  85.1372,-149.8845,     -999,9,     -999,9