BOTTLE,20221220CCHSIOAMB
EXPOCODE,SECT_ID,STNNBR,CASTNO,SAMPNO,GEOTR_EVENT,GEOTR_SAMPNO,BTLNBR,BTLNBR_FLAG_W,DATE,TIME,LATITUDE,LONGITUDE,DEPTH,CTDPRS,CTDTMP,CTDSAL,CTDSAL_FLAG_W,SALNTY,SALNTY_FLAG_W,CTDOXY,CTDOXY_FLAG_W,OXYGEN,OXYGEN_FLAG_W,SILCAT,SILCAT_FLAG_W,NITRAT,NITRAT_FLAG_W,NITRIT,NITRIT_FLAG_W,PHSPHT,PHSPHT_FLAG_W,CFC-11,CFC-11_FLAG_W,CFC-12,CFC-12_FLAG_W,CFC113,CFC113_FLAG_W,SF6,SF6_FLAG_W,TCARBN,TCARBN_FLAG_W,ALKALI,ALKALI_FLAG_W,PH_SWS,PH_SWS_FLAG_W,PH_TMP,DOC,DOC_FLAG_W,TRITUM,TRITUM_FLAG_W,HELIUM,HELIUM_FLAG_W,DELHE3,DELHE3_FLAG_W,REFTMP,REFTMP_FLAG_W,DELC13,DELC13_FLAG_W,DELC14,DELC14_FLAG_W,C14ERR,TDN,TDN_FLAG_W,DELO18,DELO18_FLAG_W,DELO17,DELO17_FLAG_W,CH4,CH4,CH4_FLAG_W,BTL_DATE,BTL_TIME,CTDDEPTH,BTL_LAT,BTL_LON,LAB_DEN,LAB_DEN_FLAG_W,SALTREF,SALTREF_FLAG_W
,,,,,,,,,,,,,METERS,DBAR,ITS-90,PSS-78,,PSS-78,,UMOL/KG,,UMOL/KG,,UMOL/KG,,UMOL/KG,,UMOL/KG,,UMOL/KG,,PMOL/KG,,PMOL/KG,,PMOL/KG,,FMOL/KG,,UMOL/KG,,UMOL/KG,,,,DEG C,UMOL/KG,,TU,,NMOL/KG,,PERCNT,,ITS-90,,/MILLE,,/MILLE,,/MILLE,UMOL/KG,,/MILLE,,/MILLE,,NMOL/KG,NMOL/L,,,,METERS,,,KG/M^3,,G/KG,
33HQ20150809  ,ARC01      ,30      , 14,31         ,    6193,   11205,GSNIS-31   ,2,20150903,0531,  87.6884,-179.2889,     3951,   2440.5,  -0.3857,  34.9537,2,  34.9548,2,    288.0,2,    287.1,2,    12.60,2,    14.58,2,     0.00,2,     1.04,2,     -999,9,     -999,9,     -999,9,     -999,9,     -999,9,     -999,9,     -999,9,     -999,     -999,9,     -999,9,     -999,9,     -999,9,  -0.3853,2,     -999,9,     -999,9,     -999,     -999,9,     -999,9,     -999,9,     -999,     -999,9,20150903,0612,   2400.3,  87.6897,-179.2772,     -999,9,  35.1196,2
33HQ20150809  ,ARC01      ,30      , 14,32         ,    6193,   11205,GSNIS-32   ,2,20150903,0531,  87.6884,-179.2889,     3951,   2440.5,  -0.3857,  34.9536,2,     -999,9,    288.0,2,     -999,9,    12.60,2,    14.57,2,     0.00,2,     1.02,2,     -999,9,     -999,9,     -999,9,     -999,9,     -999,9,     -999,9,     -999,9,     -999,     -999,9,     -999,9,     -999,9,     -999,9,  -0.3856,2,     -999,9,     -999,9,     -999,     -999,9,     -999,9,     -999,9,     -999,     -999,9,20150903,0612,   2400.4,  87.6897,-179.2771,     -999,9,     -999,9
33HQ20150809  ,ARC01      ,30      , 14,33         ,    6193,   11205,GSNIS-33   ,2,20150903,0531,  87.6884,-179.2889,     3951,   2440.5,  -0.3857,  34.9536,2,     -999,9,    288.0,2,     -999,9,    12.60,2,    14.56,2,     0.00,2,     1.03,2,     -999,9,     -999,9,     -999,9,     -999,9,     -999,9,     -999,9,     -999,9,     -999,     -999,9,     -999,9,     -999,9,     -999,9,  -0.3856,2,     -999,9,     -999,9,     -999,     -999,9,     -999,9,     -999,9,     -999,     -999,9,20150903,0613,   2400.4,  87.6897,-179.2771,     -999,9,     -999,9
33HQ20150809  ,ARC01      ,30      , 14,34         ,    6193,   11205,GSNIS-34   ,2,20150903,0531,  87.6884,-179.2889,     3951,   2440.5,  -0.3857,  34.9536,2,     -999,9,    288.0,2,     -999,9,    12.60,2,    14.57,2,     0.00,2,     1.03,2,     -999,9,     -999,9,     -999,9,     -999,9,     -999,9,     -999,9,     -999,9,     -999,     -999,9,     -999,9,     -999,9,     -999,9,  -0.3856,2,     -999,9,     -999,9,     -999,     -999,9,     -999,9,     -999,9,     -999,     -999,9,20150903,0613,   2400.4,  87.6897,-179.2771,     -999,9,     -999,9
33HQ20150809  ,ARC01      ,30      , 14,36         ,    6193,   11205,GSNIS-36   ,2,20150903,0531,  87.6884,-179.2889,     3951,   2440.5,  -0.3856,  34.9535,2,     -999,9,    288.0,2,     -999,9,    12.60,2,    14.58,2,     0.00,2,     1.03,2,     -999,9,     -999,9,     -999,9,     -999,9,     -999,9,     -999,9,     -999,9,     -999,     -999,9,     -999,9,     -999,9,     -999,9,  -0.3856,2,     -999,9,     -999,9,     -999,     -999,9,     -999,9,     -999,9,     -999,     -999,9,20150903,0613,   2400.4,  87.6897,-179.2770,     -999,9,     -999,9
33HQ20150809  ,ARC01      ,30      , 14,35         ,    6193,   11205,GSNIS-35   ,2,20150903,0531,  87.6884,-179.2889,     3951,   2440.5,  -0.3857,  34.9535,2,     -999,9,    288.0,2,     -999,9,    12.60,2,    14.56,2,     0.00,2,     1.03,2,     -999,9,     -999,9,     -999,9,     -999,9,     -999,9,     -999,9,     -999,9,     -999,     -999,9,     -999,9,     -999,9,     -999,9,  -0.3856,2,     -999,9,     -999,9,     -999,     -999,9,     -999,9,     -999,9,     -999,     -999,9,20150903,0613,   2400.4,  87.6897,-179.2770,     -999,9,     -999,9
33HQ20150809  ,ARC01      ,30      , 14,27         ,    6193,   11206,GSNIS-27   ,2,20150903,0531,  87.6884,-179.2889,     3951,   2951.7,  -0.3542,  34.9567,2,     -999,9,    288.6,2,     -999,9,    12.40,2,    14.59,2,     0.00,2,     1.03,2,     -999,9,     -999,9,     -999,9,     -999,9,     -999,9,     -999,9,     -999,9,     -999,     -999,9,     -999,9,     -999,9,     -999,9,  -0.3540,2,     -999,9,     -999,9,     -999,     -999,9,     -999,9,     -999,9,     -999,     -999,9,20150903,0602,   2899.7,  87.6894,-179.2798,     -999,9,     -999,9
33HQ20150809  ,ARC01      ,30      , 14,28         ,    6193,   11206,GSNIS-28   ,2,20150903,0531,  87.6884,-179.2889,     3951,   2951.7,  -0.3542,  34.9567,2,     -999,9,    288.6,2,     -999,9,    12.50,2,    14.59,2,     0.00,2,     1.04,2,     -999,9,     -999,9,     -999,9,     -999,9,     -999,9,     -999,9,     -999,9,     -999,     -999,9,     -999,9,     -999,9,     -999,9,  -0.3540,2,     -999,9,     -999,9,     -999,     -999,9,     -999,9,     -999,9,     -999,     -999,9,20150903,0602,   2899.7,  87.6894,-179.2797,     -999,9,     -999,9
33HQ20150809  ,ARC01      ,30      , 14,26         ,    6193,   11206,GSNIS-26   ,2,20150903,0531,  87.6884,-179.2889,     3951,   2951.7,  -0.3542,  34.9568,2,     -999,9,    288.6,2,     -999,9,    12.50,2,    14.59,2,     0.00,2,     1.03,2,     -999,9,     -999,9,     -999,9,     -999,9,     -999,9,     -999,9,     -999,9,     -999,     -999,9,     -999,9,     -999,9,     -999,9,  -0.3541,2,     -999,9,     -999,9,     -999,     -999,9,     -999,9,     -999,9,     -999,     -999,9,20150903,0602,   2899.7,  87.6894,-179.2799,     -999,9,     -999,9
33HQ20150809  ,ARC01      ,30      , 14,30         ,    6193,   11206,GSNIS-30   ,2,20150903,0531,  87.6884,-179.2889,     3951,   2951.7,  -0.3542,  34.9567,2,     -999,9,    288.6,2,     -999,9,    12.50,2,    14.58,2,     0.00,2,     1.02,2,     -999,9,     -999,9,     -999,9,     -999,9,     -999,9,     -999,9,     -999,9,     -999,     -999,9,     -999,9,     -999,9,     -999,9,  -0.3541,2,     -999,9,     -999,9,     -999,     -999,9,     -999,9,     -999,9,     -999,     -999,9,20150903,0603,   2899.7,  87.6894,-179.2795,     -999,9,     -999,9
33HQ20150809  ,ARC01      ,30      , 14,29         ,    6193,   11206,GSNIS-29   ,2,20150903,0531,  87.6884,-179.2889,     3951,   2951.7,  -0.3542,  34.9567,2,     -999,9,    288.6,2,     -999,9,    12.50,2,    14.59,2,     0.00,2,     1.03,2,     -999,9,     -999,9,     -999,9,     -999,9,     -999,9,     -999,9,     -999,9,     -999,     -999,9,     -999,9,     -999,9,     -999,9,  -0.3541,2,     -999,9,     -999,9,     -999,     -999,9,     -999,9,     -999,9,     -999,     -999,9,20150903,0602,   2899.7,  87.6894,-179.2796,     -999,9,     -999,9
33HQ20150809  ,ARC01      ,30      , 14,25         ,    6193,   11206,GSNIS-25   ,2,20150903,0531,  87.6884,-179.2889,     3951,   2951.8,  -0.3542,  34.9569,2,  34.9560,2,    288.6,2,    287.5,2,    12.50,2,    14.59,2,     0.00,2,     1.03,2,     -999,9,     -999,9,     -999,9,     -999,9,     -999,9,     -999,9,     -999,9,     -999,     -999,9,     -999,9,     -999,9,     -999,9,  -0.3540,2,     -999,9,     -999,9,     -999,     -999,9,     -999,9,     -999,9,     -999,     -999,9,20150903,0602,   2899.8,  87.6894,-179.2800,     -999,9,  35.1208,2
33HQ20150809  ,ARC01      ,30      , 14,19         ,    6193,   11207,GSNIS-19   ,2,20150903,0531,  87.6884,-179.2889,     3951,   3465.5,  -0.3142,  34.9578,2,  34.9562,2,    289.1,2,    288.8,2,    12.21,2,    14.55,2,     0.00,2,     1.02,2,     -999,9,     -999,9,     -999,9,     -999,9,     -999,9,     -999,9,     -999,9,     -999,     -999,9,     -999,9,     -999,9,     -999,9,  -0.3142,2,     -999,9,     -999,9,     -999,     -999,9,     -999,9,     -999,9,     -999,     -999,9,20150903,0551,   3400.5,  87.6890,-179.2831,     -999,9,  35.1211,2
33HQ20150809  ,ARC01      ,30      , 14,20         ,    6193,   11207,GSNIS-20   ,2,20150903,0531,  87.6884,-179.2889,     3951,   3465.6,  -0.3142,  34.9578,2,     -999,9,    289.1,2,     -999,9,    12.30,2,    14.55,2,     0.00,2,     1.01,2,     -999,9,     -999,9,     -999,9,     -999,9,     -999,9,     -999,9,     -999,9,     -999,     -999,9,     -999,9,     -999,9,     -999,9,  -0.3142,2,     -999,9,     -999,9,     -999,     -999,9,     -999,9,     -999,9,     -999,     -999,9,20150903,0551,   3400.5,  87.6890,-179.2831,     -999,9,     -999,9
33HQ20150809  ,ARC01      ,30      , 14,22         ,    6193,   11207,GSNIS-22   ,2,20150903,0531,  87.6884,-179.2889,     3951,   3465.6,  -0.3143,  34.9578,2,     -999,9,    289.1,2,     -999,9,    12.21,2,    14.53,2,     0.00,2,     1.02,2,     -999,9,     -999,9,     -999,9,     -999,9,     -999,9,     -999,9,     -999,9,     -999,     -999,9,     -999,9,     -999,9,     -999,9,  -0.3141,2,     -999,9,     -999,9,     -999,     -999,9,     -999,9,     -999,9,     -999,     -999,9,20150903,0552,   3400.5,  87.6890,-179.2830,     -999,9,     -999,9
33HQ20150809  ,ARC01      ,30      , 14,21         ,    6193,   11207,GSNIS-21   ,2,20150903,0531,  87.6884,-179.2889,     3951,   3465.6,  -0.3143,  34.9578,2,     -999,9,    289.1,2,     -999,9,    12.21,2,    14.55,2,     0.00,2,     1.02,2,     -999,9,     -999,9,     -999,9,     -999,9,     -999,9,     -999,9,     -999,9,     -999,     -999,9,     -999,9,     -999,9,     -999,9,  -0.3142,2,     -999,9,     -999,9,     -999,     -999,9,     -999,9,     -999,9,     -999,     -999,9,20150903,0551,   3400.5,  87.6890,-179.2830,     -999,9,     -999,9
33HQ20150809  ,ARC01      ,30      , 14,23         ,    6193,   11207,GSNIS-23   ,2,20150903,0531,  87.6884,-179.2889,     3951,   3465.6,  -0.3142,  34.9577,2,     -999,9,    289.1,2,     -999,9,    12.21,2,    14.55,2,     0.00,2,     1.02,2,     -999,9,     -999,9,     -999,9,     -999,9,     -999,9,     -999,9,     -999,9,     -999,     -999,9,     -999,9,     -999,9,     -999,9,  -0.3142,2,     -999,9,     -999,9,     -999,     -999,9,     -999,9,     -999,9,     -999,     -999,9,20150903,0552,   3400.5,  87.6890,-179.2830,     -999,9,     -999,9
33HQ20150809  ,ARC01      ,30      , 14,24         ,    6193,   11207,GSNIS-24   ,2,20150903,0531,  87.6884,-179.2889,     3951,   3465.6,  -0.3142,  34.9578,2,     -999,9,    289.1,2,     -999,9,    12.21,2,    14.55,2,     0.00,2,     1.02,2,     -999,9,     -999,9,     -999,9,     -999,9,     -999,9,     -999,9,     -999,9,     -999,     -999,9,     -999,9,     -999,9,     -999,9,  -0.3141,2,     -999,9,     -999,9,     -999,     -999,9,     -999,9,     -999,9,     -999,     -999,9,20150903,0552,   3400.5,  87.6890,-179.2830,     -999,9,     -999,9
33HQ20150809  ,ARC01      ,30      , 14,17         ,    6193,   11208,GSNIS-17   ,2,20150903,0531,  87.6884,-179.2889,     3951,   3876.7,  -0.2743,  34.9586,2,     -999,9,    288.6,2,     -999,9,    12.30,2,    14.53,2,     0.00,2,     1.02,2,     -999,9,     -999,9,     -999,9,     -999,9,     -999,9,     -999,9,     -999,9,     -999,     -999,9,     -999,9,     -999,9,     -999,9,  -0.2740,2,     -999,9,     -999,9,     -999,     -999,9,     -999,9,     -999,9,     -999,     -999,9,20150903,0543,   3800.3,  87.6887,-179.2855,     -999,9,     -999,9
33HQ20150809  ,ARC01      ,30      , 14,16         ,    6193,   11208,GSNIS-16   ,2,20150903,0531,  87.6884,-179.2889,     3951,   3876.7,  -0.2742,  34.9585,2,     -999,9,    288.6,2,     -999,9,    12.21,2,    14.53,2,     0.00,2,     1.02,2,     -999,9,     -999,9,     -999,9,     -999,9,     -999,9,     -999,9,     -999,9,     -999,     -999,9,     -999,9,     -999,9,     -999,9,  -0.2741,2,     -999,9,     -999,9,     -999,     -999,9,     -999,9,     -999,9,     -999,     -999,9,20150903,0543,   3800.3,  87.6887,-179.2855,     -999,9,     -999,9
33HQ20150809  ,ARC01      ,30      , 14,18         ,    6193,   11208,GSNIS-18   ,2,20150903,0531,  87.6884,-179.2889,     3951,   3876.7,  -0.2743,  34.9586,2,     -999,9,    288.6,2,     -999,9,    12.21,2,    14.56,2,     0.00,2,     1.02,2,     -999,9,     -999,9,     -999,9,     -999,9,     -999,9,     -999,9,     -999,9,     -999,     -999,9,     -999,9,     -999,9,     -999,9,  -0.2741,2,     -999,9,     -999,9,     -999,     -999,9,     -999,9,     -999,9,     -999,     -999,9,20150903,0543,   3800.3,  87.6888,-179.2854,     -999,9,     -999,9
33HQ20150809  ,ARC01      ,30      , 14,13         ,    6193,   11208,GSNIS-13   ,2,20150903,0531,  87.6884,-179.2889,     3951,   3876.7,  -0.2742,  34.9585,3,  34.9560,2,    288.6,2,    288.6,2,    12.21,2,    14.57,2,     0.00,2,     1.02,2,     -999,9,     -999,9,     -999,9,     -999,9,     -999,9,     -999,9,     -999,9,     -999,     -999,9,     -999,9,     -999,9,     -999,9,  -0.2740,2,     -999,9,     -999,9,     -999,     -999,9,     -999,9,     -999,9,     -999,     -999,9,20150903,0542,   3800.3,  87.6887,-179.2856,     -999,9,  35.1209,2
33HQ20150809  ,ARC01      ,30      , 14,15         ,    6193,   11208,GSNIS-15   ,2,20150903,0531,  87.6884,-179.2889,     3951,   3876.7,  -0.2742,  34.9585,2,     -999,9,    288.6,2,     -999,9,    12.21,2,    14.54,2,     0.00,2,     1.02,2,     -999,9,     -999,9,     -999,9,     -999,9,     -999,9,     -999,9,     -999,9,     -999,     -999,9,     -999,9,     -999,9,     -999,9,  -0.2741,2,     -999,9,     -999,9,     -999,     -999,9,     -999,9,     -999,9,     -999,     -999,9,20150903,0543,   3800.3,  87.6887,-179.2855,     -999,9,     -999,9
33HQ20150809  ,ARC01      ,30      , 14,14         ,    6193,   11208,GSNIS-14   ,2,20150903,0531,  87.6884,-179.2889,     3951,   3876.7,  -0.2743,  34.9585,2,     -999,9,    288.6,2,     -999,9,    12.21,2,    14.55,2,     0.00,2,     1.02,2,     -999,9,     -999,9,     -999,9,     -999,9,     -999,9,     -999,9,     -999,9,     -999,     -999,9,     -999,9,     -999,9,     -999,9,  -0.2741,2,     -999,9,     -999,9,     -999,     -999,9,     -999,9,     -999,9,     -999,     -999,9,20150903,0542,   3800.3,  87.6887,-179.2856,     -999,9,     -999,9
33HQ20150809  ,ARC01      ,30      , 14,7          ,    6193,   11209,GSNIS-7    ,2,20150903,0531,  87.6884,-179.2889,     3951,   3952.9,  -0.2665,  34.9588,3,  34.9563,2,    288.4,2,    288.3,2,    12.21,2,    14.57,2,     0.00,2,     1.02,2,     -999,9,     -999,9,     -999,9,     -999,9,     -999,9,     -999,9,     -999,9,     -999,     -999,9,     -999,9,     -999,9,     -999,9,  -0.2662,2,     -999,9,     -999,9,     -999,     -999,9,     -999,9,     -999,9,     -999,     -999,9,20150903,0538,   3874.4,  87.6886,-179.2868,     -999,9,  35.1211,2
33HQ20150809  ,ARC01      ,30      , 14,11         ,    6193,   11209,GSNIS-11   ,2,20150903,0531,  87.6884,-179.2889,     3951,   3952.9,  -0.2665,  34.9588,3,     -999,9,    288.4,2,     -999,9,    12.21,2,    14.53,2,     0.00,2,     1.02,2,     -999,9,     -999,9,     -999,9,     -999,9,     -999,9,     -999,9,     -999,9,     -999,     -999,9,     -999,9,     -999,9,     -999,9,  -0.2666,2,     -999,9,     -999,9,     -999,     -999,9,     -999,9,     -999,9,     -999,     -999,9,20150903,0539,   3874.4,  87.6886,-179.2866,     -999,9,     -999,9
33HQ20150809  ,ARC01      ,30      , 14,10         ,    6193,   11209,GSNIS-10   ,2,20150903,0531,  87.6884,-179.2889,     3951,   3952.9,  -0.2666,  34.9588,3,     -999,9,    288.4,2,     -999,9,    12.30,2,    14.54,2,     0.00,2,     1.03,2,     -999,9,     -999,9,     -999,9,     -999,9,     -999,9,     -999,9,     -999,9,     -999,     -999,9,     -999,9,     -999,9,     -999,9,  -0.2667,2,     -999,9,     -999,9,     -999,     -999,9,     -999,9,     -999,9,     -999,     -999,9,20150903,0539,   3874.4,  87.6886,-179.2866,     -999,9,     -999,9
33HQ20150809  ,ARC01      ,30      , 14,9          ,    6193,   11209,GSNIS-9    ,2,20150903,0531,  87.6884,-179.2889,     3951,   3952.9,  -0.2665,  34.9588,3,     -999,9,    288.4,2,     -999,9,    12.30,2,    14.55,2,     0.00,2,     1.02,2,     -999,9,     -999,9,     -999,9,     -999,9,     -999,9,     -999,9,     -999,9,     -999,     -999,9,     -999,9,     -999,9,     -999,9,  -0.2667,2,     -999,9,     -999,9,     -999,     -999,9,     -999,9,     -999,9,     -999,     -999,9,20150903,0539,   3874.4,  87.6886,-179.2867,     -999,9,     -999,9
33HQ20150809  ,ARC01      ,30      , 14,8          ,    6193,   11209,GSNIS-8    ,2,20150903,0531,  87.6884,-179.2889,     3951,   3952.9,  -0.2665,  34.9587,3,     -999,9,    288.4,2,     -999,9,    12.30,2,    14.55,2,     0.00,2,     1.03,2,     -999,9,     -999,9,     -999,9,     -999,9,     -999,9,     -999,9,     -999,9,     -999,     -999,9,     -999,9,     -999,9,     -999,9,  -0.2667,2,     -999,9,     -999,9,     -999,     -999,9,     -999,9,     -999,9,     -999,     -999,9,20150903,0539,   3874.4,  87.6886,-179.2868,     -999,9,     -999,9
33HQ20150809  ,ARC01      ,30      , 14,12         ,    6193,   11209,GSNIS-12   ,2,20150903,0531,  87.6884,-179.2889,     3951,   3952.9,  -0.2665,  34.9587,3,     -999,9,    288.4,2,     -999,9,    12.21,2,    14.54,2,     0.00,2,     1.02,2,     -999,9,     -999,9,     -999,9,     -999,9,     -999,9,     -999,9,     -999,9,     -999,     -999,9,     -999,9,     -999,9,     -999,9,  -0.2665,2,     -999,9,     -999,9,     -999,     -999,9,     -999,9,     -999,9,     -999,     -999,9,20150903,0539,   3874.4,  87.6886,-179.2865,     -999,9,     -999,9
33HQ20150809  ,ARC01      ,30      , 14,3          ,    6193,   11210,GSNIS-3    ,2,20150903,0531,  87.6884,-179.2889,     3951,   4004.9,  -0.2612,  34.9593,3,     -999,9,    288.3,2,     -999,9,    12.21,2,    14.54,2,     0.00,2,     1.03,2,     -999,9,     -999,9,     -999,9,     -999,9,     -999,9,     -999,9,     -999,9,     -999,     -999,9,     -999,9,     -999,9,     -999,9,  -0.2613,2,     -999,9,     -999,9,     -999,     -999,9,     -999,9,     -999,9,     -999,     -999,9,20150903,0534,   3924.9,  87.6885,-179.2879,     -999,9,     -999,9
33HQ20150809  ,ARC01      ,30      , 14,2          ,    6193,   11210,GSNIS-2    ,2,20150903,0531,  87.6884,-179.2889,     3951,   4004.9,  -0.2612,  34.9593,3,  34.9552,2,    288.3,2,     -999,9,    12.30,2,    14.55,2,     0.00,2,     1.03,2,     -999,9,     -999,9,     -999,9,     -999,9,     -999,9,     -999,9,     -999,9,     -999,     -999,9,     -999,9,     -999,9,     -999,9,  -0.2612,2,     -999,9,     -999,9,     -999,     -999,9,     -999,9,     -999,9,     -999,     -999,9,20150903,0534,   3924.9,  87.6885,-179.2880,     -999,9,  35.1200,2
33HQ20150809  ,ARC01      ,30      , 14,1          ,    6193,   11210,GSNIS-1    ,2,20150903,0531,  87.6884,-179.2889,     3951,   4004.9,  -0.2612,  34.9593,3,  34.9553,2,    288.3,2,    288.2,2,    12.21,2,    14.54,2,     0.00,2,     1.02,2,     -999,9,     -999,9,     -999,9,     -999,9,     -999,9,     -999,9,     -999,9,     -999,     -999,9,     -999,9,     -999,9,     -999,9,  -0.2613,2,     -999,9,     -999,9,     -999,     -999,9,     -999,9,     -999,9,     -999,     -999,9,20150903,0534,   3924.9,  87.6885,-179.2880,     -999,9,  35.1201,2