BOTTLE,20221220CCHSIOAMB
EXPOCODE,SECT_ID,STNNBR,CASTNO,SAMPNO,GEOTR_EVENT,GEOTR_SAMPNO,BTLNBR,BTLNBR_FLAG_W,DATE,TIME,LATITUDE,LONGITUDE,DEPTH,CTDPRS,CTDTMP,CTDSAL,CTDSAL_FLAG_W,SALNTY,SALNTY_FLAG_W,CTDOXY,CTDOXY_FLAG_W,OXYGEN,OXYGEN_FLAG_W,SILCAT,SILCAT_FLAG_W,NITRAT,NITRAT_FLAG_W,NITRIT,NITRIT_FLAG_W,PHSPHT,PHSPHT_FLAG_W,CFC-11,CFC-11_FLAG_W,CFC-12,CFC-12_FLAG_W,CFC113,CFC113_FLAG_W,SF6,SF6_FLAG_W,TCARBN,TCARBN_FLAG_W,ALKALI,ALKALI_FLAG_W,PH_SWS,PH_SWS_FLAG_W,PH_TMP,DOC,DOC_FLAG_W,TRITUM,TRITUM_FLAG_W,HELIUM,HELIUM_FLAG_W,DELHE3,DELHE3_FLAG_W,REFTMP,REFTMP_FLAG_W,DELC13,DELC13_FLAG_W,DELC14,DELC14_FLAG_W,C14ERR,TDN,TDN_FLAG_W,DELO18,DELO18_FLAG_W,DELO17,DELO17_FLAG_W,CH4,CH4,CH4_FLAG_W,BTL_DATE,BTL_TIME,CTDDEPTH,BTL_LAT,BTL_LON,LAB_DEN,LAB_DEN_FLAG_W,SALTREF,SALTREF_FLAG_W
,,,,,,,,,,,,,METERS,DBAR,ITS-90,PSS-78,,PSS-78,,UMOL/KG,,UMOL/KG,,UMOL/KG,,UMOL/KG,,UMOL/KG,,UMOL/KG,,PMOL/KG,,PMOL/KG,,PMOL/KG,,FMOL/KG,,UMOL/KG,,UMOL/KG,,,,DEG C,UMOL/KG,,TU,,NMOL/KG,,PERCNT,,ITS-90,,/MILLE,,/MILLE,,/MILLE,UMOL/KG,,/MILLE,,/MILLE,,NMOL/KG,NMOL/L,,,,METERS,,,KG/M^3,,G/KG,
33HQ20150809  ,ARC01      ,43      ,  4,36         ,    6296,   11560,GSNIS-36   ,2,20150915,1845,  85.1304,-149.9090,     2217,      2.3,  -1.4725,  27.4084,2,     -999,9,    396.4,2,     -999,9,     8.93,2,     0.01,2,     0.03,2,     0.66,2,     -999,9,     -999,9,     -999,9,     -999,9,     -999,9,     -999,9,     -999,9,     -999,     -999,9,     -999,9,     -999,9,     -999,9,     -999,9,     -999,9,     -999,9,     -999,     -999,9,     -999,9,     -999,9,     -999,     -999,9,20150915,1913,      2.3,  85.1304,-149.9065,     -999,9,     -999,9
33HQ20150809  ,ARC01      ,43      ,  4,35         ,    6296,   11560,GSNIS-35   ,2,20150915,1845,  85.1304,-149.9090,     2217,      2.3,  -1.4658,  27.4080,2,     -999,9,    396.4,2,     -999,9,     8.93,2,     0.00,2,     0.03,2,     0.65,2,     -999,9,     -999,9,     -999,9,     -999,9,     -999,9,     -999,9,     -999,9,     -999,     -999,9,     -999,9,     -999,9,     -999,9,  -1.4732,2,     -999,9,     -999,9,     -999,     -999,9,     -999,9,     -999,9,     -999,     -999,9,20150915,1913,      2.3,  85.1304,-149.9065,     -999,9,     -999,9
33HQ20150809  ,ARC01      ,43      ,  4,34         ,    6296,   11560,GSNIS-34   ,2,20150915,1845,  85.1304,-149.9090,     2217,      2.3,  -1.4695,  27.4091,2,  27.4147,2,    396.4,2,    396.5,2,     8.93,2,     0.06,2,     0.03,2,     0.65,2,     -999,9,     -999,9,     -999,9,     -999,9,     -999,9,     -999,9,     -999,9,     -999,     -999,9,     -999,9,     -999,9,     -999,9,  -1.4760,2,     -999,9,     -999,9,     -999,     -999,9,     -999,9,     -999,9,     -999,     -999,9,20150915,1913,      2.3,  85.1304,-149.9065,     -999,9,  27.5439,2
33HQ20150809  ,ARC01      ,43      ,  4,33         ,    6296,   11559,GSNIS-33   ,2,20150915,1845,  85.1304,-149.9090,     2217,     10.3,  -1.4874,  27.4057,2,     -999,9,    398.9,2,     -999,9,     8.93,2,     0.04,2,     0.03,2,     0.64,2,     -999,9,     -999,9,     -999,9,     -999,9,     -999,9,     -999,9,     -999,9,     -999,     -999,9,     -999,9,     -999,9,     -999,9,  -1.4872,2,     -999,9,     -999,9,     -999,     -999,9,     -999,9,     -999,9,     -999,     -999,9,20150915,1911,     10.2,  85.1304,-149.9066,     -999,9,     -999,9
33HQ20150809  ,ARC01      ,43      ,  4,32         ,    6296,   11559,GSNIS-32   ,2,20150915,1845,  85.1304,-149.9090,     2217,     10.3,  -1.4874,  27.4062,2,     -999,9,    398.9,2,     -999,9,     8.93,2,     0.05,2,     0.03,2,     0.65,2,     -999,9,     -999,9,     -999,9,     -999,9,     -999,9,     -999,9,     -999,9,     -999,     -999,9,     -999,9,     -999,9,     -999,9,  -1.4871,2,     -999,9,     -999,9,     -999,     -999,9,     -999,9,     -999,9,     -999,     -999,9,20150915,1911,     10.2,  85.1304,-149.9066,     -999,9,     -999,9
33HQ20150809  ,ARC01      ,43      ,  4,31         ,    6296,   11559,GSNIS-31   ,2,20150915,1845,  85.1304,-149.9090,     2217,     10.3,  -1.4873,  27.4074,2,  27.4129,2,    398.9,2,    396.9,2,     8.93,2,     0.05,2,     0.03,2,     0.64,2,     -999,9,     -999,9,     -999,9,     -999,9,     -999,9,     -999,9,     -999,9,     -999,     -999,9,     -999,9,     -999,9,     -999,9,  -1.4869,2,     -999,9,     -999,9,     -999,     -999,9,     -999,9,     -999,9,     -999,     -999,9,20150915,1911,     10.2,  85.1304,-149.9066,     -999,9,  27.5422,2
33HQ20150809  ,ARC01      ,43      ,  4,30         ,    6296,   11558,GSNIS-30   ,2,20150915,1845,  85.1304,-149.9090,     2217,     20.5,  -1.4874,  27.4071,2,     -999,9,    395.4,2,     -999,9,     8.93,2,     0.05,2,     0.03,2,     0.64,2,     -999,9,     -999,9,     -999,9,     -999,9,     -999,9,     -999,9,     -999,9,     -999,     -999,9,     -999,9,     -999,9,     -999,9,  -1.4871,2,     -999,9,     -999,9,     -999,     -999,9,     -999,9,     -999,9,     -999,     -999,9,20150915,1909,     20.2,  85.1304,-149.9067,     -999,9,     -999,9
33HQ20150809  ,ARC01      ,43      ,  4,29         ,    6296,   11558,GSNIS-29   ,2,20150915,1845,  85.1304,-149.9090,     2217,     20.5,  -1.4873,  27.4076,2,     -999,9,    395.4,2,     -999,9,     8.93,2,     0.05,2,     0.03,2,     0.65,2,     -999,9,     -999,9,     -999,9,     -999,9,     -999,9,     -999,9,     -999,9,     -999,     -999,9,     -999,9,     -999,9,     -999,9,  -1.4871,2,     -999,9,     -999,9,     -999,     -999,9,     -999,9,     -999,9,     -999,     -999,9,20150915,1909,     20.2,  85.1304,-149.9067,     -999,9,     -999,9
33HQ20150809  ,ARC01      ,43      ,  4,28         ,    6296,   11558,GSNIS-28   ,2,20150915,1845,  85.1304,-149.9090,     2217,     20.5,  -1.4872,  27.4091,2,  27.4437,3,    395.4,2,    396.6,2,     8.84,2,     0.05,2,     0.03,2,     0.64,2,     -999,9,     -999,9,     -999,9,     -999,9,     -999,9,     -999,9,     -999,9,     -999,     -999,9,     -999,9,     -999,9,     -999,9,  -1.4868,2,     -999,9,     -999,9,     -999,     -999,9,     -999,9,     -999,9,     -999,     -999,9,20150915,1909,     20.2,  85.1303,-149.9067,     -999,9,  27.5731,3
33HQ20150809  ,ARC01      ,43      ,  4,25         ,    6296,   11557,GSNIS-25   ,2,20150915,1845,  85.1304,-149.9090,     2217,     36.8,  -1.4603,  28.7038,2,  29.0090,3,    389.1,2,    389.0,2,     7.45,2,     0.63,2,     0.01,2,     0.74,2,     -999,9,     -999,9,     -999,9,     -999,9,     -999,9,     -999,9,     -999,9,     -999,     -999,9,     -999,9,     -999,9,     -999,9,  -1.4604,2,     -999,9,     -999,9,     -999,     -999,9,     -999,9,     -999,9,     -999,     -999,9,20150915,1907,     36.4,  85.1303,-149.9068,     -999,9,  29.1458,3
33HQ20150809  ,ARC01      ,43      ,  4,27         ,    6296,   11557,GSNIS-27   ,2,20150915,1845,  85.1304,-149.9090,     2217,     36.8,  -1.4606,  28.6960,2,     -999,9,    389.1,2,     -999,9,     7.45,2,     0.58,2,     0.01,2,     0.72,2,     -999,9,     -999,9,     -999,9,     -999,9,     -999,9,     -999,9,     -999,9,     -999,     -999,9,     -999,9,     -999,9,     -999,9,  -1.4603,2,     -999,9,     -999,9,     -999,     -999,9,     -999,9,     -999,9,     -999,     -999,9,20150915,1907,     36.4,  85.1303,-149.9068,     -999,9,     -999,9
33HQ20150809  ,ARC01      ,43      ,  4,26         ,    6296,   11557,GSNIS-26   ,2,20150915,1845,  85.1304,-149.9090,     2217,     36.8,  -1.4605,  28.6952,2,     -999,9,    389.1,2,     -999,9,     7.45,2,     0.62,2,     0.01,2,     0.73,2,     -999,9,     -999,9,     -999,9,     -999,9,     -999,9,     -999,9,     -999,9,     -999,     -999,9,     -999,9,     -999,9,     -999,9,  -1.4602,2,     -999,9,     -999,9,     -999,     -999,9,     -999,9,     -999,9,     -999,     -999,9,20150915,1907,     36.4,  85.1303,-149.9068,     -999,9,     -999,9
33HQ20150809  ,ARC01      ,43      ,  4,24         ,    6296,   11556,GSNIS-24   ,2,20150915,1845,  85.1304,-149.9090,     2217,     56.1,  -1.4591,  30.9039,2,     -999,9,    349.9,2,     -999,9,    10.28,2,     3.08,2,     0.00,2,     0.88,2,     -999,9,     -999,9,     -999,9,     -999,9,     -999,9,     -999,9,     -999,9,     -999,     -999,9,     -999,9,     -999,9,     -999,9,  -1.4586,2,     -999,9,     -999,9,     -999,     -999,9,     -999,9,     -999,9,     -999,     -999,9,20150915,1905,     55.5,  85.1303,-149.9070,     -999,9,     -999,9
33HQ20150809  ,ARC01      ,43      ,  4,23         ,    6296,   11556,GSNIS-23   ,2,20150915,1845,  85.1304,-149.9090,     2217,     56.1,  -1.4579,  30.9001,2,     -999,9,    349.9,2,     -999,9,    10.28,2,     3.06,2,     0.00,2,     0.87,2,     -999,9,     -999,9,     -999,9,     -999,9,     -999,9,     -999,9,     -999,9,     -999,     -999,9,     -999,9,     -999,9,     -999,9,  -1.4571,2,     -999,9,     -999,9,     -999,     -999,9,     -999,9,     -999,9,     -999,     -999,9,20150915,1905,     55.5,  85.1303,-149.9070,     -999,9,     -999,9
33HQ20150809  ,ARC01      ,43      ,  4,22         ,    6296,   11556,GSNIS-22   ,2,20150915,1845,  85.1304,-149.9090,     2217,     56.1,  -1.4578,  30.9026,2,  31.0561,3,    349.9,2,    355.6,2,    10.18,2,     2.99,2,     0.00,2,     0.86,2,     -999,9,     -999,9,     -999,9,     -999,9,     -999,9,     -999,9,     -999,9,     -999,     -999,9,     -999,9,     -999,9,     -999,9,  -1.4576,2,     -999,9,     -999,9,     -999,     -999,9,     -999,9,     -999,9,     -999,     -999,9,20150915,1905,     55.5,  85.1303,-149.9070,     -999,9,  31.2026,3
33HQ20150809  ,ARC01      ,43      ,  4,19         ,    6296,   11555,GSNIS-19   ,2,20150915,1845,  85.1304,-149.9090,     2217,     75.3,  -1.5177,  32.0218,2,  32.1615,2,    322.2,2,    317.0,2,    18.39,2,     7.36,2,     0.00,2,     1.13,2,     -999,9,     -999,9,     -999,9,     -999,9,     -999,9,     -999,9,     -999,9,     -999,     -999,9,     -999,9,     -999,9,     -999,9,  -1.4848,3,     -999,9,     -999,9,     -999,     -999,9,     -999,9,     -999,9,     -999,     -999,9,20150915,1903,     74.5,  85.1303,-149.9072,     -999,9,  32.3132,2
33HQ20150809  ,ARC01      ,43      ,  4,21         ,    6296,   11555,GSNIS-21   ,2,20150915,1845,  85.1304,-149.9090,     2217,     75.3,  -1.5359,  32.0077,2,     -999,9,    322.2,2,     -999,9,    17.81,2,     7.10,2,     0.00,2,     1.11,2,     -999,9,     -999,9,     -999,9,     -999,9,     -999,9,     -999,9,     -999,9,     -999,     -999,9,     -999,9,     -999,9,     -999,9,  -1.5257,2,     -999,9,     -999,9,     -999,     -999,9,     -999,9,     -999,9,     -999,     -999,9,20150915,1903,     74.5,  85.1303,-149.9072,     -999,9,     -999,9
33HQ20150809  ,ARC01      ,43      ,  4,20         ,    6296,   11555,GSNIS-20   ,2,20150915,1845,  85.1304,-149.9090,     2217,     75.3,  -1.5270,  32.0124,2,     -999,9,    322.2,2,     -999,9,    17.81,2,     7.08,2,     0.00,2,     1.11,2,     -999,9,     -999,9,     -999,9,     -999,9,     -999,9,     -999,9,     -999,9,     -999,     -999,9,     -999,9,     -999,9,     -999,9,  -1.5057,2,     -999,9,     -999,9,     -999,     -999,9,     -999,9,     -999,9,     -999,     -999,9,20150915,1903,     74.5,  85.1303,-149.9072,     -999,9,     -999,9
33HQ20150809  ,ARC01      ,43      ,  4,16         ,    6296,   11554,GSNIS-16   ,2,20150915,1845,  85.1304,-149.9090,     2217,    100.8,  -1.4354,  32.9403,2,  33.2665,3,    258.1,2,    258.0,2,    32.56,2,    13.58,2,     0.00,2,     1.58,2,     -999,9,     -999,9,     -999,9,     -999,9,     -999,9,     -999,9,     -999,9,     -999,     -999,9,     -999,9,     -999,9,     -999,9,  -1.4318,2,     -999,9,     -999,9,     -999,     -999,9,     -999,9,     -999,9,     -999,     -999,9,20150915,1901,     99.7,  85.1303,-149.9073,     -999,9,  33.4234,3
33HQ20150809  ,ARC01      ,43      ,  4,18         ,    6296,   11554,GSNIS-18   ,2,20150915,1845,  85.1304,-149.9090,     2217,    100.8,  -1.4337,  32.9451,2,     -999,9,    258.1,2,     -999,9,    32.26,2,    13.53,2,     0.00,2,     1.57,2,     -999,9,     -999,9,     -999,9,     -999,9,     -999,9,     -999,9,     -999,9,     -999,     -999,9,     -999,9,     -999,9,     -999,9,  -1.4368,2,     -999,9,     -999,9,     -999,     -999,9,     -999,9,     -999,9,     -999,     -999,9,20150915,1901,     99.7,  85.1303,-149.9073,     -999,9,     -999,9
33HQ20150809  ,ARC01      ,43      ,  4,17         ,    6296,   11554,GSNIS-17   ,2,20150915,1845,  85.1304,-149.9090,     2217,    100.8,  -1.4354,  32.9419,2,     -999,9,    258.1,2,     -999,9,    31.38,2,    13.33,2,     0.00,2,     1.54,2,     -999,9,     -999,9,     -999,9,     -999,9,     -999,9,     -999,9,     -999,9,     -999,     -999,9,     -999,9,     -999,9,     -999,9,  -1.4362,2,     -999,9,     -999,9,     -999,     -999,9,     -999,9,     -999,9,     -999,     -999,9,20150915,1901,     99.7,  85.1303,-149.9073,     -999,9,     -999,9
33HQ20150809  ,ARC01      ,43      ,  4,13         ,    6296,   11553,GSNIS-13   ,2,20150915,1845,  85.1304,-149.9090,     2217,    141.4,  -0.9006,  34.2126,2,  34.2490,2,    288.7,2,    291.6,2,     9.18,2,     9.62,2,     0.00,2,     0.79,2,     -999,9,     -999,9,     -999,9,     -999,9,     -999,9,     -999,9,     -999,9,     -999,     -999,9,     -999,9,     -999,9,     -999,9,  -0.7967,4,     -999,9,     -999,9,     -999,     -999,9,     -999,9,     -999,9,     -999,     -999,9,20150915,1859,    139.8,  85.1303,-149.9074,     -999,9,  34.4105,2
33HQ20150809  ,ARC01      ,43      ,  4,15         ,    6296,   11553,GSNIS-15   ,2,20150915,1845,  85.1304,-149.9090,     2217,    141.4,  -0.8647,  34.2424,2,     -999,9,    290.4,2,     -999,9,     9.18,2,     9.62,2,     0.00,2,     0.79,2,     -999,9,     -999,9,     -999,9,     -999,9,     -999,9,     -999,9,     -999,9,     -999,     -999,9,     -999,9,     -999,9,     -999,9,  -0.9222,2,     -999,9,     -999,9,     -999,     -999,9,     -999,9,     -999,9,     -999,     -999,9,20150915,1859,    139.8,  85.1303,-149.9074,     -999,9,     -999,9
33HQ20150809  ,ARC01      ,43      ,  4,14         ,    6296,   11553,GSNIS-14   ,2,20150915,1845,  85.1304,-149.9090,     2217,    141.4,  -0.9249,  34.2161,2,     -999,9,    288.7,2,     -999,9,     9.18,2,     9.61,2,     0.00,2,     0.79,2,     -999,9,     -999,9,     -999,9,     -999,9,     -999,9,     -999,9,     -999,9,     -999,     -999,9,     -999,9,     -999,9,     -999,9,  -0.8634,4,     -999,9,     -999,9,     -999,     -999,9,     -999,9,     -999,9,     -999,     -999,9,20150915,1859,    139.8,  85.1303,-149.9074,     -999,9,     -999,9
33HQ20150809  ,ARC01      ,43      ,  4,12         ,    6296,   11552,GSNIS-12   ,2,20150915,1845,  85.1304,-149.9090,     2217,    182.1,  -0.3096,  34.4667,2,     -999,9,    298.1,2,     -999,9,     6.93,2,    10.02,2,     0.00,2,     0.75,2,     -999,9,     -999,9,     -999,9,     -999,9,     -999,9,     -999,9,     -999,9,     -999,     -999,9,     -999,9,     -999,9,     -999,9,  -0.2868,2,     -999,9,     -999,9,     -999,     -999,9,     -999,9,     -999,9,     -999,     -999,9,20150915,1857,    180.0,  85.1303,-149.9077,     -999,9,     -999,9
33HQ20150809  ,ARC01      ,43      ,  4,11         ,    6296,   11552,GSNIS-11   ,2,20150915,1845,  85.1304,-149.9090,     2217,    182.1,  -0.2955,  34.4755,2,     -999,9,    297.9,2,     -999,9,     6.93,2,    10.01,2,     0.00,2,     0.75,2,     -999,9,     -999,9,     -999,9,     -999,9,     -999,9,     -999,9,     -999,9,     -999,     -999,9,     -999,9,     -999,9,     -999,9,     -999,9,     -999,9,     -999,9,     -999,     -999,9,     -999,9,     -999,9,     -999,     -999,9,20150915,1857,    180.0,  85.1303,-149.9077,     -999,9,     -999,9
33HQ20150809  ,ARC01      ,43      ,  4,10         ,    6296,   11552,GSNIS-10   ,2,20150915,1845,  85.1304,-149.9090,     2217,    182.1,  -0.3028,  34.4729,2,  34.4591,2,    297.9,2,    295.8,2,     6.93,2,     9.99,2,     0.00,2,     0.75,2,     -999,9,     -999,9,     -999,9,     -999,9,     -999,9,     -999,9,     -999,9,     -999,     -999,9,     -999,9,     -999,9,     -999,9,  -0.2523,4,     -999,9,     -999,9,     -999,     -999,9,     -999,9,     -999,9,     -999,     -999,9,20150915,1857,    180.0,  85.1303,-149.9077,     -999,9,  34.6216,2
33HQ20150809  ,ARC01      ,43      ,  4,8          ,    6296,   11551,GSNIS-8    ,2,20150915,1845,  85.1304,-149.9090,     2217,    227.2,   0.3308,  34.6677,2,     -999,9,    291.3,2,     -999,9,     7.13,2,    11.27,2,     0.00,2,     0.81,2,     -999,9,     -999,9,     -999,9,     -999,9,     -999,9,     -999,9,     -999,9,     -999,     -999,9,     -999,9,     -999,9,     -999,9,   0.3319,2,     -999,9,     -999,9,     -999,     -999,9,     -999,9,     -999,9,     -999,     -999,9,20150915,1855,    224.7,  85.1303,-149.9078,     -999,9,     -999,9
33HQ20150809  ,ARC01      ,43      ,  4,9          ,    6296,   11551,GSNIS-9    ,2,20150915,1845,  85.1304,-149.9090,     2217,    227.2,   0.3227,  34.6623,2,     -999,9,    291.7,2,     -999,9,     7.13,2,    11.23,2,     0.00,2,     0.80,2,     -999,9,     -999,9,     -999,9,     -999,9,     -999,9,     -999,9,     -999,9,     -999,     -999,9,     -999,9,     -999,9,     -999,9,   0.3402,2,     -999,9,     -999,9,     -999,     -999,9,     -999,9,     -999,9,     -999,     -999,9,20150915,1855,    224.7,  85.1303,-149.9078,     -999,9,     -999,9
33HQ20150809  ,ARC01      ,43      ,  4,7          ,    6296,   11551,GSNIS-7    ,2,20150915,1845,  85.1304,-149.9090,     2217,    227.2,   0.3348,  34.6692,2,  34.6590,2,    291.3,2,    292.4,2,     7.13,2,    11.28,2,     0.00,2,     0.81,2,     -999,9,     -999,9,     -999,9,     -999,9,     -999,9,     -999,9,     -999,9,     -999,     -999,9,     -999,9,     -999,9,     -999,9,   0.3034,4,     -999,9,     -999,9,     -999,     -999,9,     -999,9,     -999,9,     -999,     -999,9,20150915,1854,    224.7,  85.1303,-149.9078,     -999,9,  34.8224,2
33HQ20150809  ,ARC01      ,43      ,  4,6          ,    6296,   11550,GSNIS-6    ,2,20150915,1845,  85.1304,-149.9090,     2217,    333.8,   0.8812,  34.8477,2,     -999,9,    296.5,2,     -999,9,     6.05,2,    11.89,2,     0.00,2,     0.82,2,     -999,9,     -999,9,     -999,9,     -999,9,     -999,9,     -999,9,     -999,9,     -999,     -999,9,     -999,9,     -999,9,     -999,9,   0.8814,2,     -999,9,     -999,9,     -999,     -999,9,     -999,9,     -999,9,     -999,     -999,9,20150915,1851,    330.0,  85.1303,-149.9081,     -999,9,     -999,9
33HQ20150809  ,ARC01      ,43      ,  4,5          ,    6296,   11550,GSNIS-5    ,2,20150915,1845,  85.1304,-149.9090,     2217,    333.8,   0.8812,  34.8478,2,     -999,9,    296.5,2,     -999,9,     6.05,2,    11.90,2,     0.00,2,     0.81,2,     -999,9,     -999,9,     -999,9,     -999,9,     -999,9,     -999,9,     -999,9,     -999,     -999,9,     -999,9,     -999,9,     -999,9,     -999,9,     -999,9,     -999,9,     -999,     -999,9,     -999,9,     -999,9,     -999,     -999,9,20150915,1851,    330.0,  85.1303,-149.9081,     -999,9,     -999,9
33HQ20150809  ,ARC01      ,43      ,  4,4          ,    6296,   11550,GSNIS-4    ,2,20150915,1845,  85.1304,-149.9090,     2217,    333.8,   0.8814,  34.8478,2,  34.8434,2,    296.5,2,    296.9,2,     6.05,2,    11.91,2,     0.00,2,     0.82,2,     -999,9,     -999,9,     -999,9,     -999,9,     -999,9,     -999,9,     -999,9,     -999,     -999,9,     -999,9,     -999,9,     -999,9,   0.8810,2,     -999,9,     -999,9,     -999,     -999,9,     -999,9,     -999,9,     -999,     -999,9,20150915,1851,    330.0,  85.1303,-149.9081,     -999,9,  35.0077,2