BOTTLE,20221220CCHSIOAMB
EXPOCODE,SECT_ID,STNNBR,CASTNO,SAMPNO,GEOTR_EVENT,GEOTR_SAMPNO,BTLNBR,BTLNBR_FLAG_W,DATE,TIME,LATITUDE,LONGITUDE,DEPTH,CTDPRS,CTDTMP,CTDSAL,CTDSAL_FLAG_W,SALNTY,SALNTY_FLAG_W,CTDOXY,CTDOXY_FLAG_W,OXYGEN,OXYGEN_FLAG_W,SILCAT,SILCAT_FLAG_W,NITRAT,NITRAT_FLAG_W,NITRIT,NITRIT_FLAG_W,PHSPHT,PHSPHT_FLAG_W,CFC-11,CFC-11_FLAG_W,CFC-12,CFC-12_FLAG_W,CFC113,CFC113_FLAG_W,SF6,SF6_FLAG_W,TCARBN,TCARBN_FLAG_W,ALKALI,ALKALI_FLAG_W,PH_SWS,PH_SWS_FLAG_W,PH_TMP,DOC,DOC_FLAG_W,TRITUM,TRITUM_FLAG_W,HELIUM,HELIUM_FLAG_W,DELHE3,DELHE3_FLAG_W,REFTMP,REFTMP_FLAG_W,DELC13,DELC13_FLAG_W,DELC14,DELC14_FLAG_W,C14ERR,TDN,TDN_FLAG_W,DELO18,DELO18_FLAG_W,DELO17,DELO17_FLAG_W,CH4,CH4,CH4_FLAG_W,BTL_DATE,BTL_TIME,CTDDEPTH,BTL_LAT,BTL_LON,LAB_DEN,LAB_DEN_FLAG_W,SALTREF,SALTREF_FLAG_W
,,,,,,,,,,,,,METERS,DBAR,ITS-90,PSS-78,,PSS-78,,UMOL/KG,,UMOL/KG,,UMOL/KG,,UMOL/KG,,UMOL/KG,,UMOL/KG,,PMOL/KG,,PMOL/KG,,PMOL/KG,,FMOL/KG,,UMOL/KG,,UMOL/KG,,,,DEG C,UMOL/KG,,TU,,NMOL/KG,,PERCNT,,ITS-90,,/MILLE,,/MILLE,,/MILLE,UMOL/KG,,/MILLE,,/MILLE,,NMOL/KG,NMOL/L,,,,METERS,,,KG/M^3,,G/KG,
33HQ20150809  ,ARC01      ,32      ,  2,36         ,    6213,   11249,GSNIS-36   ,2,20150905,2015,  89.9874,  33.0087,     4236,      3.1,  -1.4616,  27.7066,2,     -999,9,    384.7,2,     -999,9,    13.45,2,     0.12,2,     0.03,2,     0.62,2,     -999,9,     -999,9,     -999,9,     -999,9,     -999,9,     -999,9,     -999,9,     -999,     -999,9,     -999,9,     -999,9,     -999,9,  -1.4683,2,     -999,9,     -999,9,     -999,     -999,9,     -999,9,     -999,9,     -999,     -999,9,20150905,2048,      3.1,  89.9879,  33.9277,     -999,9,     -999,9
33HQ20150809  ,ARC01      ,32      ,  2,35         ,    6213,   11249,GSNIS-35   ,2,20150905,2015,  89.9874,  33.0087,     4236,      3.1,  -1.4655,  27.7106,2,     -999,9,    384.3,2,     -999,9,    13.45,2,     0.11,2,     0.03,2,     0.61,2,     -999,9,     -999,9,     -999,9,     -999,9,     -999,9,     -999,9,     -999,9,     -999,     -999,9,     -999,9,     -999,9,     -999,9,  -1.4619,2,     -999,9,     -999,9,     -999,     -999,9,     -999,9,     -999,9,     -999,     -999,9,20150905,2048,      3.1,  89.9879,  33.9220,     -999,9,     -999,9
33HQ20150809  ,ARC01      ,32      ,  2,34         ,    6213,   11249,GSNIS-34   ,2,20150905,2015,  89.9874,  33.0087,     4236,      3.1,  -1.4602,  27.7076,2,  27.7002,2,    384.3,2,    384.4,2,    13.36,2,     0.10,2,     0.03,2,     0.63,2,    6.505,2,    3.583,2,    0.617,2,    3.645,2,   1923.6,2,   2007.0,2,   7.7330,4,    25.00,    133.4,2,     -999,1,     -999,1,     -999,1,  -1.4652,2,     0.52,2,     -999,1,     -999,     6.34,2,     -999,1,     -999,9,     6.89,   6.8855,2,20150905,2048,      3.1,  89.9879,  33.9154,     -999,9,  27.8308,2
33HQ20150809  ,ARC01      ,32      ,  2,33         ,    6213,   11250,GSNIS-33   ,2,20150905,2015,  89.9874,  33.0087,     4236,     20.2,  -1.5505,  31.1001,2,     -999,9,    358.2,2,     -999,9,    10.29,2,     2.32,2,     0.03,2,     0.60,2,     -999,9,     -999,9,     -999,9,     -999,9,     -999,9,     -999,9,     -999,9,     -999,     -999,9,     -999,9,     -999,9,     -999,9,  -1.5500,2,     -999,9,     -999,9,     -999,     -999,9,     -999,9,     -999,9,     -999,     -999,9,20150905,2046,     20.0,  89.9879,  33.8591,     -999,9,     -999,9
33HQ20150809  ,ARC01      ,32      ,  2,32         ,    6213,   11250,GSNIS-32   ,2,20150905,2015,  89.9874,  33.0087,     4236,     20.2,  -1.5506,  31.1016,2,     -999,9,    358.2,2,     -999,9,    10.09,2,     2.33,2,     0.03,2,     0.59,2,     -999,9,     -999,9,     -999,9,     -999,9,     -999,9,     -999,9,     -999,9,     -999,     -999,9,     -999,9,     -999,9,     -999,9,  -1.5496,2,     -999,9,     -999,9,     -999,     -999,9,     -999,9,     -999,9,     -999,     -999,9,20150905,2046,     20.0,  89.9879,  33.8571,     -999,9,     -999,9
33HQ20150809  ,ARC01      ,32      ,  2,31         ,    6213,   11250,GSNIS-31   ,2,20150905,2015,  89.9874,  33.0087,     4236,     20.2,  -1.5554,  31.1342,3,  31.0893,2,    358.2,2,    360.2,2,    11.07,2,     2.26,2,     0.04,2,     0.62,2,    6.703,2,    3.614,2,    0.611,2,    3.669,2,   2114.9,2,   2195.7,2,   7.6572,2,    25.00,    120.8,2,     -999,1,     -999,1,     -999,1,  -1.5491,2,     0.51,2,     -999,1,     -999,     7.50,2,     -999,1,     -999,9,     3.99,   3.9854,2,20150905,2045,     20.0,  89.9879,  33.8552,     -999,9,  31.2359,2
33HQ20150809  ,ARC01      ,32      ,  2,28         ,    6213,   11251,GSNIS-28   ,2,20150905,2015,  89.9874,  33.0087,     4236,     40.4,  -1.7398,  32.6135,2,  32.6577,2,    366.2,2,    368.4,2,     5.19,2,     2.43,2,     0.01,2,     0.41,2,    6.899,2,    3.707,2,    0.612,2,    3.497,2,   2145.9,2,   2248.2,2,   7.6445,2,    25.00,     95.3,2,     -999,1,     -999,1,     -999,1,  -1.7393,2,     0.58,2,     -999,1,     -999,     6.80,2,     -999,1,     -999,9,     3.66,   3.6649,2,20150905,2043,     40.0,  89.9878,  33.7981,     -999,9,  32.8117,2
33HQ20150809  ,ARC01      ,32      ,  2,30         ,    6213,   11251,GSNIS-30   ,2,20150905,2015,  89.9874,  33.0087,     4236,     40.4,  -1.7388,  32.6104,2,     -999,9,    366.2,2,     -999,9,     4.89,2,     2.35,2,     0.01,2,     0.39,2,     -999,9,     -999,9,     -999,9,     -999,9,     -999,9,     -999,9,     -999,9,     -999,     -999,9,     -999,9,     -999,9,     -999,9,  -1.7387,2,     -999,9,     -999,9,     -999,     -999,9,     -999,9,     -999,9,     -999,     -999,9,20150905,2043,     40.0,  89.9878,  33.8072,     -999,9,     -999,9
33HQ20150809  ,ARC01      ,32      ,  2,29         ,    6213,   11251,GSNIS-29   ,2,20150905,2015,  89.9874,  33.0087,     4236,     40.4,  -1.7389,  32.6103,2,     -999,9,    366.2,2,     -999,9,     4.79,2,     2.34,2,     0.01,2,     0.39,2,     -999,9,     -999,9,     -999,9,     -999,9,     -999,9,     -999,9,     -999,9,     -999,     -999,9,     -999,9,     -999,9,     -999,9,  -1.7394,2,     -999,9,     -999,9,     -999,     -999,9,     -999,9,     -999,9,     -999,     -999,9,20150905,2043,     40.0,  89.9878,  33.8029,     -999,9,     -999,9
33HQ20150809  ,ARC01      ,32      ,  2,25         ,    6213,   11252,GSNIS-25   ,2,20150905,2015,  89.9874,  33.0087,     4236,     60.2,  -1.7866,  33.0627,2,  33.0793,2,    374.0,2,    373.0,2,     3.33,2,     2.02,2,     0.00,2,     0.32,2,    6.979,2,    3.709,2,    0.608,2,    3.499,2,   2152.1,2,   2262.9,2,   7.6623,2,    25.00,     93.7,2,     -999,1,     -999,1,     -999,1,  -1.7868,2,     0.71,2,     -999,1,     -999,     6.52,2,     -999,1,     -999,9,     3.96,   3.9564,2,20150905,2041,     59.6,  89.9878,  33.7263,     -999,9,  33.2353,2
33HQ20150809  ,ARC01      ,32      ,  2,26         ,    6213,   11252,GSNIS-26   ,2,20150905,2015,  89.9874,  33.0087,     4236,     60.2,  -1.7858,  33.0630,2,     -999,9,    374.0,2,     -999,9,     3.33,2,     2.06,2,     0.00,2,     0.32,2,     -999,9,     -999,9,     -999,9,     -999,9,     -999,9,     -999,9,     -999,9,     -999,     -999,9,     -999,9,     -999,9,     -999,9,  -1.7870,2,     -999,9,     -999,9,     -999,     -999,9,     -999,9,     -999,9,     -999,     -999,9,20150905,2041,     59.5,  89.9878,  33.7345,     -999,9,     -999,9
33HQ20150809  ,ARC01      ,32      ,  2,27         ,    6213,   11252,GSNIS-27   ,2,20150905,2015,  89.9874,  33.0087,     4236,     60.2,  -1.7859,  33.0634,2,     -999,9,    374.0,2,     -999,9,     3.42,2,     2.03,2,     0.00,2,     0.33,2,     -999,9,     -999,9,     -999,9,     -999,9,     -999,9,     -999,9,     -999,9,     -999,     -999,9,     -999,9,     -999,9,     -999,9,  -1.7863,2,     -999,9,     -999,9,     -999,     -999,9,     -999,9,     -999,9,     -999,     -999,9,20150905,2041,     59.6,  89.9878,  33.7404,     -999,9,     -999,9
33HQ20150809  ,ARC01      ,32      ,  2,24         ,    6213,   11253,GSNIS-24   ,2,20150905,2015,  89.9874,  33.0087,     4236,     80.8,  -1.7958,  33.2990,2,     -999,9,    373.3,2,     -999,9,     2.93,2,     2.05,2,     0.00,2,     0.31,2,     -999,9,     -999,9,     -999,9,     -999,9,     -999,9,     -999,9,     -999,9,     -999,     -999,9,     -999,9,     -999,9,     -999,9,  -1.7957,2,     -999,9,     -999,9,     -999,     -999,9,     -999,9,     -999,9,     -999,     -999,9,20150905,2039,     79.9,  89.9878,  33.6660,     -999,9,     -999,9
33HQ20150809  ,ARC01      ,32      ,  2,23         ,    6213,   11253,GSNIS-23   ,2,20150905,2015,  89.9874,  33.0087,     4236,     80.8,  -1.7958,  33.2982,2,     -999,9,    373.3,2,     -999,9,     2.93,2,     2.04,2,     0.00,2,     0.31,2,     -999,9,     -999,9,     -999,9,     -999,9,     -999,9,     -999,9,     -999,9,     -999,     -999,9,     -999,9,     -999,9,     -999,9,  -1.7950,2,     -999,9,     -999,9,     -999,     -999,9,     -999,9,     -999,9,     -999,     -999,9,20150905,2039,     79.9,  89.9878,  33.6623,     -999,9,     -999,9
33HQ20150809  ,ARC01      ,32      ,  2,22         ,    6213,   11253,GSNIS-22   ,2,20150905,2015,  89.9874,  33.0087,     4236,     80.8,  -1.7953,  33.2977,2,  33.3051,2,    373.3,2,    373.0,2,     2.93,2,     2.03,2,     0.00,2,     0.30,2,    6.986,2,    3.673,2,    0.615,2,    3.437,2,   2156.4,2,   2270.7,2,   7.6685,2,    25.00,     89.7,2,     -999,1,     -999,1,     -999,1,  -1.7948,2,     0.76,2,     -999,1,     -999,     6.14,2,     -999,1,     -999,9,     3.85,   3.8497,2,20150905,2039,     79.9,  89.9878,  33.6568,     -999,9,  33.4622,2
33HQ20150809  ,ARC01      ,32      ,  2,21         ,    6213,   11254,GSNIS-21   ,2,20150905,2015,  89.9874,  33.0087,     4236,    100.1,  -1.7541,  33.5282,2,     -999,9,    359.4,2,     -999,9,     3.91,2,     3.86,2,     0.00,2,     0.42,2,     -999,9,     -999,9,     -999,9,     -999,9,     -999,9,     -999,9,     -999,9,     -999,     -999,9,     -999,9,     -999,9,     -999,9,  -1.7601,2,     -999,9,     -999,9,     -999,     -999,9,     -999,9,     -999,9,     -999,     -999,9,20150905,2037,     99.0,  89.9877,  33.5926,     -999,9,     -999,9
33HQ20150809  ,ARC01      ,32      ,  2,19         ,    6213,   11254,GSNIS-19   ,2,20150905,2015,  89.9874,  33.0087,     4236,    100.8,  -1.7605,  33.5286,2,  33.5615,2,    359.4,2,    350.2,2,     4.01,2,     3.94,2,     0.00,2,     0.42,2,    6.773,2,    3.623,2,    0.547,2,    3.187,2,   2160.0,2,   2268.6,2,   7.6504,2,    25.00,     81.6,2,     -999,1,     -999,1,     -999,1,  -1.7611,2,     0.64,2,     -999,1,     -999,     8.40,2,     -999,1,     -999,9,     2.74,   2.7435,2,20150905,2036,     99.7,  89.9877,  33.5808,     -999,9,  33.7197,2
33HQ20150809  ,ARC01      ,32      ,  2,20         ,    6213,   11254,GSNIS-20   ,2,20150905,2015,  89.9874,  33.0087,     4236,    100.8,  -1.7598,  33.5289,2,     -999,9,    359.4,2,     -999,9,     4.20,2,     4.16,2,     0.00,2,     0.43,2,     -999,9,     -999,9,     -999,9,     -999,9,     -999,9,     -999,9,     -999,9,     -999,     -999,9,     -999,9,     -999,9,     -999,9,  -1.7600,2,     -999,9,     -999,9,     -999,     -999,9,     -999,9,     -999,9,     -999,     -999,9,20150905,2037,     99.7,  89.9877,  33.5869,     -999,9,     -999,9
33HQ20150809  ,ARC01      ,32      ,  2,16         ,    6213,   11255,GSNIS-16   ,2,20150905,2015,  89.9874,  33.0087,     4236,    126.3,  -1.5113,  34.1299,2,  34.1082,2,    323.1,2,    323.7,2,     3.91,2,     6.71,2,     0.00,2,     0.57,2,    6.449,2,    3.436,2,    0.492,2,    2.822,2,   2164.9,2,   2272.4,2,   7.6486,2,    25.00,     66.3,2,     -999,1,     -999,1,     -999,1,  -1.5044,2,     0.56,2,     -999,1,     -999,    11.85,2,     -999,1,     -999,9,     1.27,   1.2659,2,20150905,2033,    124.9,  89.9877,  33.4765,     -999,9,  34.2690,2
33HQ20150809  ,ARC01      ,32      ,  2,18         ,    6213,   11255,GSNIS-18   ,2,20150905,2015,  89.9874,  33.0087,     4236,    126.3,  -1.5151,  34.1074,2,     -999,9,    323.5,2,     -999,9,     3.71,2,     6.63,2,     0.00,2,     0.56,2,     -999,9,     -999,9,     -999,9,     -999,9,     -999,9,     -999,9,     -999,9,     -999,     -999,9,     -999,9,     -999,9,     -999,9,  -1.5163,2,     -999,9,     -999,9,     -999,     -999,9,     -999,9,     -999,9,     -999,     -999,9,20150905,2034,    124.9,  89.9877,  33.4835,     -999,9,     -999,9
33HQ20150809  ,ARC01      ,32      ,  2,17         ,    6213,   11255,GSNIS-17   ,2,20150905,2015,  89.9874,  33.0087,     4236,    126.3,  -1.5155,  34.1029,2,     -999,9,    323.5,2,     -999,9,     3.81,2,     6.67,2,     0.00,2,     0.56,2,     -999,9,     -999,9,     -999,9,     -999,9,     -999,9,     -999,9,     -999,9,     -999,     -999,9,     -999,9,     -999,9,     -999,9,  -1.5107,2,     -999,9,     -999,9,     -999,     -999,9,     -999,9,     -999,9,     -999,     -999,9,20150905,2034,    124.9,  89.9877,  33.4792,     -999,9,     -999,9
33HQ20150809  ,ARC01      ,32      ,  2,13         ,    6213,   11256,GSNIS-13   ,2,20150905,2015,  89.9874,  33.0087,     4236,    151.8,  -1.1200,  34.3248,2,  34.3431,2,    314.9,2,    313.3,2,     4.20,2,     8.22,2,     0.00,2,     0.63,2,    6.248,2,    3.317,2,    0.466,2,    2.540,2,   2167.9,2,   2277.1,2,   7.6475,2,    25.00,     63.2,2,     -999,1,     -999,1,     -999,1,  -1.1185,2,     0.53,2,     -999,1,     -999,    11.95,2,     -999,1,     -999,9,     1.38,   1.3837,2,20150905,2031,    150.1,  89.9877,  33.4143,     -999,9,  34.5051,2
33HQ20150809  ,ARC01      ,32      ,  2,15         ,    6213,   11256,GSNIS-15   ,2,20150905,2015,  89.9874,  33.0087,     4236,    151.8,  -1.1174,  34.3235,2,     -999,9,    314.9,2,     -999,9,     4.10,2,     8.15,2,     0.00,2,     0.64,2,     -999,9,     -999,9,     -999,9,     -999,9,     -999,9,     -999,9,     -999,9,     -999,     -999,9,     -999,9,     -999,9,     -999,9,  -1.1133,2,     -999,9,     -999,9,     -999,     -999,9,     -999,9,     -999,9,     -999,     -999,9,20150905,2031,    150.1,  89.9877,  33.4257,     -999,9,     -999,9
33HQ20150809  ,ARC01      ,32      ,  2,14         ,    6213,   11256,GSNIS-14   ,2,20150905,2015,  89.9874,  33.0087,     4236,    151.8,  -1.1183,  34.3256,2,     -999,9,    314.9,2,     -999,9,     4.20,2,     8.16,2,     0.00,2,     0.63,2,     -999,9,     -999,9,     -999,9,     -999,9,     -999,9,     -999,9,     -999,9,     -999,     -999,9,     -999,9,     -999,9,     -999,9,  -1.1091,2,     -999,9,     -999,9,     -999,     -999,9,     -999,9,     -999,9,     -999,     -999,9,20150905,2031,    150.1,  89.9877,  33.4202,     -999,9,     -999,9
33HQ20150809  ,ARC01      ,32      ,  2,10         ,    6213,   11257,GSNIS-10   ,2,20150905,2015,  89.9874,  33.0087,     4236,    203.0,   0.0365,  34.5970,2,  34.6040,2,    306.1,2,    306.3,2,     4.30,2,     9.73,2,     0.00,2,     0.69,2,    5.876,2,    3.069,2,    0.430,2,    2.442,2,   2167.4,2,   2283.6,2,   7.6641,2,    25.00,     58.0,2,     -999,1,     -999,1,     -999,1,   0.0327,2,     0.60,2,     -999,1,     -999,    13.19,2,     -999,1,     -999,9,     1.12,   1.1210,2,20150905,2028,    200.8,  89.9876,  33.3276,     -999,9,  34.7672,2
33HQ20150809  ,ARC01      ,32      ,  2,12         ,    6213,   11257,GSNIS-12   ,2,20150905,2015,  89.9874,  33.0087,     4236,    203.1,   0.0264,  34.5919,2,     -999,9,    306.1,2,     -999,9,     4.30,2,     9.72,2,     0.00,2,     0.69,2,     -999,9,     -999,9,     -999,9,     -999,9,     -999,9,     -999,9,     -999,9,     -999,     -999,9,     -999,9,     -999,9,     -999,9,   0.0270,2,     -999,9,     -999,9,     -999,     -999,9,     -999,9,     -999,9,     -999,     -999,9,20150905,2028,    200.8,  89.9876,  33.3349,     -999,9,     -999,9
33HQ20150809  ,ARC01      ,32      ,  2,11         ,    6213,   11257,GSNIS-11   ,2,20150905,2015,  89.9874,  33.0087,     4236,    203.1,   0.0257,  34.5927,2,     -999,9,    306.1,2,     -999,9,     4.30,2,     9.72,2,     0.00,2,     0.69,2,     -999,9,     -999,9,     -999,9,     -999,9,     -999,9,     -999,9,     -999,9,     -999,     -999,9,     -999,9,     -999,9,     -999,9,   0.0273,2,     -999,9,     -999,9,     -999,     -999,9,     -999,9,     -999,9,     -999,     -999,9,20150905,2028,    200.8,  89.9876,  33.3320,     -999,9,     -999,9
33HQ20150809  ,ARC01      ,32      ,  2,9          ,    6213,   11258,GSNIS-9    ,2,20150905,2015,  89.9874,  33.0087,     4236,    277.9,   1.0760,  34.8272,2,     -999,9,    297.1,2,     -999,9,     4.69,2,    11.64,2,     0.00,2,     0.79,2,     -999,9,     -999,9,     -999,9,     -999,9,     -999,9,     -999,9,     -999,9,     -999,     -999,9,     -999,9,     -999,9,     -999,9,   1.0757,2,     -999,9,     -999,9,     -999,     -999,9,     -999,9,     -999,9,     -999,     -999,9,20150905,2024,    274.8,  89.9875,  33.2237,     -999,9,     -999,9
33HQ20150809  ,ARC01      ,32      ,  2,7          ,    6213,   11258,GSNIS-7    ,2,20150905,2015,  89.9874,  33.0087,     4236,    277.9,   1.0753,  34.8274,2,  34.8263,2,    297.1,2,    297.0,2,     4.79,2,    11.64,2,     0.00,2,     0.79,2,    5.385,2,    2.812,2,    0.410,2,    2.015,2,   2161.7,2,   2295.8,2,   7.6967,2,    25.00,     52.5,2,     -999,1,     -999,1,     -999,1,   1.0744,2,     0.61,2,     -999,1,     -999,    13.82,2,     -999,1,     -999,9,     1.37,   1.3704,2,20150905,2024,    274.7,  89.9875,  33.2208,     -999,9,  34.9906,2
33HQ20150809  ,ARC01      ,32      ,  2,8          ,    6213,   11258,GSNIS-8    ,2,20150905,2015,  89.9874,  33.0087,     4236,    277.9,   1.0759,  34.8273,2,     -999,9,    297.1,2,     -999,9,     4.69,2,    11.64,2,     0.00,2,     0.79,2,     -999,9,     -999,9,     -999,9,     -999,9,     -999,9,     -999,9,     -999,9,     -999,     -999,9,     -999,9,     -999,9,     -999,9,   1.0749,2,     -999,9,     -999,9,     -999,     -999,9,     -999,9,     -999,9,     -999,     -999,9,20150905,2024,    274.8,  89.9875,  33.2226,     -999,9,     -999,9
33HQ20150809  ,ARC01      ,32      ,  2,5          ,    6213,   11259,GSNIS-5    ,2,20150905,2015,  89.9874,  33.0087,     4236,    353.8,   1.2439,  34.8716,2,     -999,9,    298.5,2,     -999,9,     4.98,2,    11.89,2,     0.00,2,     0.80,2,     -999,9,     -999,9,     -999,9,     -999,9,     -999,9,     -999,9,     -999,9,     -999,     -999,9,     -999,9,     -999,9,     -999,9,   1.2409,2,     -999,9,     -999,9,     -999,     -999,9,     -999,9,     -999,9,     -999,     -999,9,20150905,2020,    349.7,  89.9875,  33.1351,     -999,9,     -999,9
33HQ20150809  ,ARC01      ,32      ,  2,4          ,    6213,   11259,GSNIS-4    ,2,20150905,2015,  89.9874,  33.0087,     4236,    353.8,   1.2343,  34.8716,2,  34.8694,2,    298.5,2,    298.7,2,     4.98,2,    11.87,2,     0.00,2,     0.81,2,    5.315,2,    2.729,2,    0.402,2,    1.843,2,   2161.4,2,   2293.7,2,   7.7013,2,    25.00,     56.2,2,     -999,1,     -999,1,     -999,1,   1.2394,2,     0.75,2,     -999,1,     -999,    15.50,2,     -999,1,     -999,9,     1.49,   1.4928,2,20150905,2020,    349.7,  89.9875,  33.1281,     -999,9,  35.0338,2
33HQ20150809  ,ARC01      ,32      ,  2,6          ,    6213,   11259,GSNIS-6    ,2,20150905,2015,  89.9874,  33.0087,     4236,    353.8,   1.2431,  34.8719,2,     -999,9,    298.5,2,     -999,9,     4.98,2,    11.88,2,     0.00,2,     0.80,2,     -999,9,     -999,9,     -999,9,     -999,9,     -999,9,     -999,9,     -999,9,     -999,     -999,9,     -999,9,     -999,9,     -999,9,   1.2433,2,     -999,9,     -999,9,     -999,     -999,9,     -999,9,     -999,9,     -999,     -999,9,20150905,2021,    349.7,  89.9875,  33.1446,     -999,9,     -999,9