BOTTLE,20221220CCHSIOAMB
EXPOCODE,SECT_ID,STNNBR,CASTNO,SAMPNO,GEOTR_EVENT,GEOTR_SAMPNO,BTLNBR,BTLNBR_FLAG_W,DATE,TIME,LATITUDE,LONGITUDE,DEPTH,CTDPRS,CTDTMP,CTDSAL,CTDSAL_FLAG_W,SALNTY,SALNTY_FLAG_W,CTDOXY,CTDOXY_FLAG_W,OXYGEN,OXYGEN_FLAG_W,SILCAT,SILCAT_FLAG_W,NITRAT,NITRAT_FLAG_W,NITRIT,NITRIT_FLAG_W,PHSPHT,PHSPHT_FLAG_W,CFC-11,CFC-11_FLAG_W,CFC-12,CFC-12_FLAG_W,CFC113,CFC113_FLAG_W,SF6,SF6_FLAG_W,TCARBN,TCARBN_FLAG_W,ALKALI,ALKALI_FLAG_W,PH_SWS,PH_SWS_FLAG_W,PH_TMP,DOC,DOC_FLAG_W,TRITUM,TRITUM_FLAG_W,HELIUM,HELIUM_FLAG_W,DELHE3,DELHE3_FLAG_W,REFTMP,REFTMP_FLAG_W,DELC13,DELC13_FLAG_W,DELC14,DELC14_FLAG_W,C14ERR,TDN,TDN_FLAG_W,DELO18,DELO18_FLAG_W,DELO17,DELO17_FLAG_W,CH4,CH4,CH4_FLAG_W,BTL_DATE,BTL_TIME,CTDDEPTH,BTL_LAT,BTL_LON,LAB_DEN,LAB_DEN_FLAG_W,SALTREF,SALTREF_FLAG_W
,,,,,,,,,,,,,METERS,DBAR,ITS-90,PSS-78,,PSS-78,,UMOL/KG,,UMOL/KG,,UMOL/KG,,UMOL/KG,,UMOL/KG,,UMOL/KG,,PMOL/KG,,PMOL/KG,,PMOL/KG,,FMOL/KG,,UMOL/KG,,UMOL/KG,,,,DEG C,UMOL/KG,,TU,,NMOL/KG,,PERCNT,,ITS-90,,/MILLE,,/MILLE,,/MILLE,UMOL/KG,,/MILLE,,/MILLE,,NMOL/KG,NMOL/L,,,,METERS,,,KG/M^3,,G/KG,
33HQ20150809  ,ARC01      ,19      ,  2,1          ,    6124,   10899,GSNIS-1    ,2,20150823,2129,  79.9967,-174.9621,     2099,    455.9,   0.9364,  34.8574,2,  34.8580,2,    296.5,2,    298.1,2,     5.76,2,    11.94,2,     0.01,2,     0.82,2,    5.403,2,    2.800,2,    0.398,2,    1.736,2,   2164.6,2,   2294.3,2,   7.7175,3,    25.00,     50.7,2,     -999,1,     -999,1,     -999,1,   0.9361,2,     0.69,2,     -999,1,     -999,    16.04,2,     -999,1,     -999,9,     0.87,   0.8673,2,20150823,2128,    450.6,  79.9967,-174.9619,     -999,9,  35.0223,2
33HQ20150809  ,ARC01      ,19      ,  2,2          ,    6124,   10899,GSNIS-2    ,2,20150823,2129,  79.9967,-174.9621,     2099,    456.1,   0.9364,  34.8574,2,  34.8584,2,    296.5,2,     -999,9,     5.76,2,    11.92,2,     0.01,2,     0.82,2,     -999,9,     -999,9,     -999,9,     -999,9,     -999,9,     -999,9,     -999,9,     -999,     -999,9,     -999,9,     -999,9,     -999,9,   0.9365,2,     -999,9,     -999,9,     -999,     -999,9,     -999,9,     -999,9,     -999,     -999,9,20150823,2128,    450.8,  79.9967,-174.9620,     -999,9,  35.0227,2
33HQ20150809  ,ARC01      ,19      ,  2,3          ,    6124,   10899,GSNIS-3    ,2,20150823,2129,  79.9967,-174.9621,     2099,    456.1,   0.9370,  34.8573,2,  34.8574,2,    296.5,2,     -999,9,     5.76,2,    11.90,2,     0.01,2,     0.84,2,     -999,9,     -999,9,     -999,9,     -999,9,     -999,9,     -999,9,     -999,9,     -999,     -999,9,     -999,9,     -999,9,     -999,9,   0.9370,2,     -999,9,     -999,9,     -999,     -999,9,     -999,9,     -999,9,     -999,     -999,9,20150823,2128,    450.8,  79.9967,-174.9620,     -999,9,  35.0217,2