BOTTLE,20221220CCHSIOAMB
EXPOCODE,SECT_ID,STNNBR,CASTNO,SAMPNO,GEOTR_EVENT,GEOTR_SAMPNO,BTLNBR,BTLNBR_FLAG_W,DATE,TIME,LATITUDE,LONGITUDE,DEPTH,CTDPRS,CTDTMP,CTDSAL,CTDSAL_FLAG_W,SALNTY,SALNTY_FLAG_W,CTDOXY,CTDOXY_FLAG_W,OXYGEN,OXYGEN_FLAG_W,SILCAT,SILCAT_FLAG_W,NITRAT,NITRAT_FLAG_W,NITRIT,NITRIT_FLAG_W,PHSPHT,PHSPHT_FLAG_W,CFC-11,CFC-11_FLAG_W,CFC-12,CFC-12_FLAG_W,CFC113,CFC113_FLAG_W,SF6,SF6_FLAG_W,TCARBN,TCARBN_FLAG_W,ALKALI,ALKALI_FLAG_W,PH_SWS,PH_SWS_FLAG_W,PH_TMP,DOC,DOC_FLAG_W,TRITUM,TRITUM_FLAG_W,HELIUM,HELIUM_FLAG_W,DELHE3,DELHE3_FLAG_W,REFTMP,REFTMP_FLAG_W,DELC13,DELC13_FLAG_W,DELC14,DELC14_FLAG_W,C14ERR,TDN,TDN_FLAG_W,DELO18,DELO18_FLAG_W,DELO17,DELO17_FLAG_W,CH4,CH4,CH4_FLAG_W,BTL_DATE,BTL_TIME,CTDDEPTH,BTL_LAT,BTL_LON,LAB_DEN,LAB_DEN_FLAG_W,SALTREF,SALTREF_FLAG_W
,,,,,,,,,,,,,METERS,DBAR,ITS-90,PSS-78,,PSS-78,,UMOL/KG,,UMOL/KG,,UMOL/KG,,UMOL/KG,,UMOL/KG,,UMOL/KG,,PMOL/KG,,PMOL/KG,,PMOL/KG,,FMOL/KG,,UMOL/KG,,UMOL/KG,,,,DEG C,UMOL/KG,,TU,,NMOL/KG,,PERCNT,,ITS-90,,/MILLE,,/MILLE,,/MILLE,UMOL/KG,,/MILLE,,/MILLE,,NMOL/KG,NMOL/L,,,,METERS,,,KG/M^3,,G/KG,
33HQ20150809  ,ARC01      ,22      ,  1,32         ,    6138,    -999,GSNIS-32   ,2,20150825,2028,  81.2327, 179.0976,     2227,      3.4,  -1.4614,  28.2963,2,  28.3052,2,    386.5,2,    388.2,2,     1.96,2,     0.00,2,     0.00,2,     0.61,2,    6.850,2,    3.757,2,    0.648,2,    3.700,2,   1928.3,3,   2006.1,2,   7.7136,2,    25.00,     68.9,2,     -999,9,     -999,9,     -999,9,  -1.4617,2,     1.54,2,     -999,1,     -999,     3.57,2,     -999,1,     -999,9,     -999,     -999,9,20150825,2149,      3.4,  81.2312, 179.0561,     -999,9,  28.4386,2
33HQ20150809  ,ARC01      ,22      ,  1,31         ,    6138,    -999,GSNIS-31   ,2,20150825,2028,  81.2327, 179.0976,     2227,     15.5,  -1.1486,  29.6589,2,  29.9232,2,    402.2,2,    404.2,2,     1.96,2,     0.00,2,     0.01,2,     0.65,2,    6.928,2,    3.768,2,    0.634,2,    3.591,2,   2029.7,3,   2119.5,6,   7.7299,2,    25.00,     72.1,2,     -999,9,     -999,9,     -999,9,  -1.1474,2,     -999,9,     -999,9,     -999,     4.37,2,     -999,1,     -999,9,     -999,     -999,9,20150825,2147,     15.3,  81.2312, 179.0573,     -999,9,  30.0643,2
33HQ20150809  ,ARC01      ,22      ,  1,30         ,    6138,    -999,GSNIS-30   ,2,20150825,2028,  81.2327, 179.0976,     2227,     23.4,  -1.2473,  30.3054,2,  30.3712,2,    402.8,2,    409.5,2,     1.76,2,     0.00,2,     0.01,2,     0.65,2,     -999,9,     -999,9,     -999,9,     -999,9,     -999,9,   2144.0,2,   7.7525,2,    25.00,     72.3,2,     -999,9,     -999,9,     -999,9,  -1.2495,2,     -999,9,     -999,9,     -999,     4.06,2,     -999,1,     -999,9,     -999,     -999,9,20150825,2145,     23.1,  81.2312, 179.0583,     -999,9,  30.5144,2
33HQ20150809  ,ARC01      ,22      ,  1,29         ,    6138,    -999,GSNIS-29   ,2,20150825,2028,  81.2327, 179.0976,     2227,     43.5,  -1.3679,  30.9233,2,  31.0587,2,    400.5,2,    394.1,2,     5.19,2,     0.54,2,     0.04,2,     0.74,2,    6.667,2,    3.641,2,    0.609,2,    3.420,2,     -999,9,     -999,9,     -999,9,     -999,     73.0,2,     -999,9,     -999,9,     -999,9,  -1.3661,2,     -999,9,     -999,9,     -999,     5.10,2,     -999,1,     -999,9,     -999,     -999,9,20150825,2143,     43.1,  81.2313, 179.0593,     -999,9,  31.2052,2
33HQ20150809  ,ARC01      ,22      ,  1,28         ,    6138,    -999,GSNIS-28   ,2,20150825,2028,  81.2327, 179.0976,     2227,     64.6,  -1.3353,  31.8165,2,  31.8378,2,    327.8,2,    327.4,2,    20.17,2,     8.14,2,     0.02,2,     1.35,2,     -999,9,     -999,9,     -999,9,     -999,9,     -999,9,   2210.3,2,   7.5602,2,    25.00,     -999,9,     -999,9,     -999,9,     -999,9,  -1.3356,2,     -999,9,     -999,9,     -999,     -999,9,     -999,1,     -999,9,     -999,     -999,9,20150825,2141,     63.9,  81.2313, 179.0604,     -999,9,  31.9880,2
33HQ20150809  ,ARC01      ,22      ,  1,27         ,    6138,    -999,GSNIS-27   ,2,20150825,2028,  81.2327, 179.0976,     2227,     74.8,  -1.4648,  32.0520,2,  32.0849,2,    315.0,2,    316.4,2,    25.15,2,    10.10,2,     0.01,2,     1.47,2,    6.384,2,    3.483,2,    0.538,2,    3.138,2,     -999,9,     -999,9,     -999,9,     -999,     67.4,2,     -999,9,     -999,9,     -999,9,  -1.4644,2,     -999,9,     -999,9,     -999,    12.53,2,     -999,1,     -999,9,     -999,     -999,9,20150825,2140,     74.0,  81.2313, 179.0611,     -999,9,  32.2361,2
33HQ20150809  ,ARC01      ,22      ,  1,26         ,    6138,    -999,GSNIS-26   ,2,20150825,2028,  81.2327, 179.0976,     2227,     85.0,  -1.5211,  32.2078,2,  32.2263,2,    309.9,2,    311.6,2,    29.26,2,    11.40,2,     0.02,2,     1.58,2,     -999,9,     -999,9,     -999,9,     -999,9,   2194.1,3,   2222.4,2,   7.5006,2,    25.00,     64.8,2,     -999,9,     -999,9,     -999,9,  -1.5210,2,     -999,9,     -999,9,     -999,    13.93,2,     -999,1,     -999,9,     -999,     -999,9,20150825,2139,     84.1,  81.2313, 179.0619,     -999,9,  32.3782,2
33HQ20150809  ,ARC01      ,22      ,  1,25         ,    6138,    -999,GSNIS-25   ,2,20150825,2028,  81.2327, 179.0976,     2227,     95.0,  -1.5708,  32.3152,2,  32.3491,2,    308.4,2,    306.3,2,    32.29,2,    12.31,2,     0.01,2,     1.67,2,    6.294,2,    3.467,2,    0.520,2,    3.157,2,     -999,9,     -999,9,     -999,9,     -999,     67.6,2,     -999,9,     -999,9,     -999,9,  -1.5706,2,     -999,9,     -999,9,     -999,    16.18,2,     -999,1,     -999,9,     -999,     -999,9,20150825,2137,     94.0,  81.2313, 179.0627,     -999,9,  32.5016,2
33HQ20150809  ,ARC01      ,22      ,  1,24         ,    6138,    -999,GSNIS-24   ,2,20150825,2028,  81.2327, 179.0976,     2227,    105.5,  -1.5436,  32.4140,2,  32.4524,2,    302.5,2,    295.8,2,    33.95,2,    13.05,2,     0.01,2,     1.73,2,     -999,9,     -999,9,     -999,9,     -999,9,     -999,9,   2228.8,2,   7.4529,2,    25.00,     -999,9,     -999,9,     -999,9,     -999,9,  -1.5432,2,     -999,9,     -999,9,     -999,     -999,9,     -999,1,     -999,9,     -999,     -999,9,20150825,2136,    104.4,  81.2314, 179.0634,     -999,9,  32.6054,2
33HQ20150809  ,ARC01      ,22      ,  1,23         ,    6138,    -999,GSNIS-23   ,2,20150825,2028,  81.2327, 179.0976,     2227,    121.4,  -1.5180,  32.6660,2,  32.6876,2,    284.5,2,    279.5,2,    37.86,2,    14.63,2,     0.01,2,     1.88,2,    6.166,2,    3.408,2,    0.488,2,    2.930,2,     -999,9,     -999,9,     -999,9,     -999,     63.6,2,     -999,9,     -999,9,     -999,9,  -1.5174,2,     -999,9,     -999,9,     -999,    17.62,2,     -999,1,     -999,9,     -999,     -999,9,20150825,2135,    120.1,  81.2314, 179.0642,     -999,9,  32.8418,2
33HQ20150809  ,ARC01      ,22      ,  1,22         ,    6138,    -999,GSNIS-22   ,2,20150825,2028,  81.2327, 179.0976,     2227,    136.5,  -1.3980,  33.1049,2,  33.1551,2,    265.3,2,    262.0,2,    37.75,2,    15.24,2,     0.01,2,     1.84,2,     -999,9,     -999,9,     -999,9,     -999,9,     -999,9,   2274.0,2,   7.4072,6,    25.00,     64.3,2,     -999,9,     -999,9,     -999,9,  -1.3949,2,     -999,9,     -999,9,     -999,    16.56,2,     -999,1,     -999,9,     -999,     -999,9,20150825,2133,    135.0,  81.2314, 179.0649,     -999,9,  33.3114,2
33HQ20150809  ,ARC01      ,22      ,  1,21         ,    6138,    -999,GSNIS-21   ,2,20150825,2028,  81.2327, 179.0976,     2227,    157.1,  -1.0465,  33.8595,2,  33.8977,2,    253.5,2,    253.6,2,    27.86,2,    13.20,2,     0.01,2,     1.41,2,    5.850,2,    3.027,2,    0.389,2,    2.056,2,   2254.2,4,   2276.6,2,   7.4719,2,    25.00,     63.7,2,     -999,9,     -999,9,     -999,9,  -1.0467,2,     -999,9,     -999,9,     -999,    16.22,2,     -999,1,     -999,9,     -999,     -999,9,20150825,2132,    155.4,  81.2314, 179.0658,     -999,9,  34.0575,2
33HQ20150809  ,ARC01      ,22      ,  1,20         ,    6138,    -999,GSNIS-20   ,2,20150825,2028,  81.2327, 179.0976,     2227,    177.5,  -0.8854,  34.2426,2,  34.2524,2,    269.4,2,    273.9,2,    16.61,2,    11.02,2,     0.01,2,     1.01,2,     -999,9,     -999,9,     -999,9,     -999,9,     -999,9,   2288.8,2,   7.5572,2,    25.00,     62.2,2,     -999,9,     -999,9,     -999,9,  -0.8857,2,     -999,9,     -999,9,     -999,    12.34,2,     -999,1,     -999,9,     -999,     -999,9,20150825,2130,    175.6,  81.2314, 179.0666,     -999,9,  34.4139,2
33HQ20150809  ,ARC01      ,22      ,  1,19         ,    6138,    -999,GSNIS-19   ,2,20150825,2028,  81.2327, 179.0976,     2227,    198.6,  -0.5944,  34.4311,2,  34.4413,2,    278.1,2,    274.2,2,    14.46,2,    11.09,2,     0.01,2,     0.96,2,    5.883,2,    3.056,2,    0.394,2,    2.130,2,     -999,9,     -999,9,     -999,9,     -999,     61.0,2,     -999,9,     -999,9,     -999,9,  -0.5928,2,     -999,9,     -999,9,     -999,    13.71,2,     -999,1,     -999,9,     -999,     -999,9,20150825,2128,    196.4,  81.2315, 179.0677,     -999,9,  34.6038,2
33HQ20150809  ,ARC01      ,22      ,  1,18         ,    6138,    -999,GSNIS-18   ,2,20150825,2028,  81.2327, 179.0976,     2227,    219.1,  -0.3668,  34.5333,2,  34.5482,2,    282.5,2,    292.7,2,     8.89,2,    10.12,2,     0.01,2,     0.78,2,     -999,9,     -999,9,     -999,9,     -999,9,   2212.9,4,   2278.2,2,   7.6211,2,    25.00,     61.1,2,     -999,9,     -999,9,     -999,9,  -0.3688,2,     -999,9,     -999,9,     -999,    12.16,2,     -999,1,     -999,9,     -999,     -999,9,20150825,2127,    216.7,  81.2315, 179.0687,     -999,9,  34.7111,2
33HQ20150809  ,ARC01      ,22      ,  1,17         ,    6138,    -999,GSNIS-17   ,2,20150825,2028,  81.2327, 179.0976,     2227,    234.6,  -0.0726,  34.6035,2,  34.6112,2,    291.2,2,    291.0,2,     8.50,2,    10.52,2,     0.01,2,     0.79,2,    5.841,2,    3.091,2,    0.424,2,    2.174,2,     -999,9,     -999,9,     -999,9,     -999,     57.9,2,     -999,9,     -999,9,     -999,9,  -0.0767,2,     -999,9,     -999,9,     -999,    14.46,2,     -999,1,     -999,9,     -999,     -999,9,20150825,2125,    231.9,  81.2315, 179.0695,     -999,9,  34.7744,2
33HQ20150809  ,ARC01      ,22      ,  1,16         ,    6138,    -999,GSNIS-16   ,2,20150825,2028,  81.2327, 179.0976,     2227,    286.4,   0.6607,  34.7742,2,  34.7879,2,    294.4,2,    294.7,2,     5.86,2,    11.56,2,     0.01,2,     0.81,2,     -999,9,     -999,9,     -999,9,     -999,9,     -999,9,   2290.0,2,   7.6778,2,    25.00,     55.5,2,     -999,9,     -999,9,     -999,9,   0.6603,2,     -999,9,     -999,9,     -999,    14.10,2,     -999,1,     -999,9,     -999,     -999,9,20150825,2122,    283.1,  81.2316, 179.0709,     -999,9,  34.9520,2
33HQ20150809  ,ARC01      ,22      ,  1,15         ,    6138,    -999,GSNIS-15   ,3,20150825,2028,  81.2327, 179.0976,     2227,    338.0,   0.8925,  34.8286,2,  34.8349,2,    296.9,2,    295.7,2,     5.67,2,    11.97,2,     0.01,2,     0.81,2,    5.424,2,    2.775,2,    0.401,2,    1.824,2,     -999,9,     -999,9,     -999,9,     -999,     54.5,2,     -999,9,     -999,9,     -999,9,   0.8941,2,     -999,9,     -999,9,     -999,    14.42,2,     -999,1,     -999,9,     -999,     -999,9,20150825,2119,    334.1,  81.2316, 179.0724,     -999,9,  34.9992,2
33HQ20150809  ,ARC01      ,22      ,  1,14         ,    6138,    -999,GSNIS-14   ,2,20150825,2028,  81.2327, 179.0976,     2227,    384.7,   0.9199,  34.8440,2,  34.8438,2,    298.8,2,    300.7,2,     5.08,2,    11.63,2,     0.01,2,     0.81,2,     -999,9,     -999,9,     -999,9,     -999,9,     -999,9,   2294.9,2,   7.6899,2,    25.00,     54.7,2,     -999,9,     -999,9,     -999,9,   0.9202,2,     -999,9,     -999,9,     -999,    14.39,2,     -999,1,     -999,9,     -999,     -999,9,20150825,2117,    380.3,  81.2317, 179.0737,     -999,9,  35.0081,2
33HQ20150809  ,ARC01      ,22      ,  1,13         ,    6138,    -999,GSNIS-13   ,2,20150825,2028,  81.2327, 179.0976,     2227,    441.3,   0.9254,  34.8673,2,  34.8692,2,    301.0,2,    301.6,2,     5.18,2,    11.71,2,     0.01,2,     0.80,2,    5.357,6,    2.791,6,    0.397,6,    1.901,6,     -999,9,     -999,9,     -999,9,     -999,     55.2,2,     -999,9,     -999,9,     -999,9,   0.9247,2,     -999,9,     -999,9,     -999,    14.72,2,     -999,1,     -999,9,     -999,     -999,9,20150825,2114,    436.2,  81.2317, 179.0754,     -999,9,  35.0336,2
33HQ20150809  ,ARC01      ,22      ,  1,12         ,    6138,    -999,GSNIS-12   ,2,20150825,2028,  81.2327, 179.0976,     2227,    492.9,   0.7762,  34.8685,2,  34.8743,4,    300.8,2,    302.5,2,     5.27,2,    11.82,2,     0.00,2,     0.81,2,    5.357,2,    2.781,2,    0.401,2,    1.839,2,     -999,9,   2287.6,2,   7.6876,2,    25.00,     54.0,2,     -999,9,     -999,9,     -999,9,   0.7760,2,     -999,9,     -999,9,     -999,    13.52,2,     -999,1,     -999,9,     -999,     -999,9,20150825,2111,    487.1,  81.2318, 179.0765,     -999,9,  35.0388,4
33HQ20150809  ,ARC01      ,22      ,  1,11         ,    6138,    -999,GSNIS-11   ,2,20150825,2028,  81.2327, 179.0976,     2227,    543.7,   0.6799,  34.8747,2,  34.8771,2,    301.8,2,    303.1,2,     5.18,2,    11.70,2,     0.00,2,     0.80,2,    5.325,2,    2.735,2,    0.393,2,    2.006,2,     -999,9,     -999,9,     -999,9,     -999,     54.0,2,     -999,9,     -999,9,     -999,9,   0.6795,2,     -999,9,     -999,9,     -999,    16.19,2,     -999,9,     -999,9,     -999,     -999,9,20150825,2109,    537.2,  81.2318, 179.0776,     -999,9,  35.0415,2
33HQ20150809  ,ARC01      ,22      ,  1,10         ,    6138,    -999,GSNIS-10   ,2,20150825,2028,  81.2327, 179.0976,     2227,    606.8,   0.5450,  34.8781,2,  34.8765,2,    302.7,2,    303.7,2,     5.27,2,    11.71,2,     0.00,2,     0.81,2,    5.327,2,    2.774,2,    0.394,2,    1.955,2,   2199.7,4,   2295.0,2,   7.6810,2,    25.00,     52.3,2,     -999,9,     -999,9,     -999,9,   0.5452,2,     -999,9,     -999,9,     -999,    14.00,2,     -999,9,     -999,9,     -999,     -999,9,20150825,2107,    599.5,  81.2318, 179.0789,     -999,9,  35.0410,2
33HQ20150809  ,ARC01      ,22      ,  1,9          ,    6138,    -999,GSNIS-9    ,2,20150825,2028,  81.2327, 179.0976,     2227,    709.0,   0.3753,  34.8824,2,  34.8862,2,    303.4,2,    304.7,2,     5.37,2,    11.74,2,     0.01,2,     0.82,2,    5.307,2,    2.757,2,    0.401,2,    2.136,2,     -999,9,     -999,9,     -999,9,     -999,     52.6,2,     -999,9,     -999,9,     -999,9,   0.3755,2,     -999,9,     -999,9,     -999,    13.14,2,     -999,9,     -999,9,     -999,     -999,9,20150825,2104,    700.3,  81.2319, 179.0805,     -999,9,  35.0507,2
33HQ20150809  ,ARC01      ,22      ,  1,8          ,    6138,    -999,GSNIS-8    ,2,20150825,2028,  81.2327, 179.0976,     2227,    858.0,   0.2114,  34.8909,2,  34.8929,2,    305.4,2,    305.6,2,     5.47,2,    11.78,2,     0.00,2,     0.82,2,    5.169,2,    2.711,2,    0.389,2,    2.086,2,     -999,9,   2300.8,2,   7.6708,2,    25.00,     55.8,2,     -999,9,     -999,9,     -999,9,   0.2113,2,     -999,9,     -999,9,     -999,    14.23,2,     -999,9,     -999,9,     -999,     -999,9,20150825,2100,    847.1,  81.2320, 179.0823,     -999,9,  35.0574,2
33HQ20150809  ,ARC01      ,22      ,  1,7          ,    6138,    -999,GSNIS-7    ,2,20150825,2028,  81.2327, 179.0976,     2227,   1008.9,   0.0427,  34.8976,2,  34.8964,2,    306.3,2,    305.0,2,     5.76,2,    11.93,2,     0.01,2,     0.84,2,    5.146,2,    2.683,2,    0.393,2,    2.001,2,     -999,9,     -999,9,     -999,9,     -999,     56.5,2,     -999,9,     -999,9,     -999,9,   0.0425,2,     -999,9,     -999,9,     -999,    15.68,2,     -999,9,     -999,9,     -999,     -999,9,20150825,2057,    995.7,  81.2321, 179.0840,     -999,9,  35.0610,2
33HQ20150809  ,ARC01      ,22      ,  1,6          ,    6138,    -999,GSNIS-6    ,2,20150825,2028,  81.2327, 179.0976,     2227,   1203.0,  -0.2185,  34.8933,2,  34.8937,2,    306.9,2,    307.0,2,     6.15,2,    12.14,2,     0.01,2,     0.85,2,    4.741,2,    2.434,2,    0.349,2,    1.773,2,   2173.9,2,   2300.6,2,   7.6748,2,    25.00,     56.0,2,     -999,9,     -999,9,     -999,9,  -0.2187,2,     -999,9,     -999,9,     -999,    14.89,2,     -999,9,     -999,9,     -999,     -999,9,20150825,2052,   1186.8,  81.2322, 179.0861,     -999,9,  35.0582,2
33HQ20150809  ,ARC01      ,22      ,  1,5          ,    6138,    -999,GSNIS-5    ,2,20150825,2028,  81.2327, 179.0976,     2227,   1422.7,  -0.3469,  34.9032,2,  34.9067,2,    304.8,2,    305.8,2,     6.93,2,    12.59,2,     0.00,2,     0.87,2,    3.941,2,    1.999,2,    0.280,2,    1.468,2,     -999,9,     -999,9,     -999,9,     -999,     52.8,2,     -999,9,     -999,9,     -999,9,  -0.3470,2,     -999,9,     -999,9,     -999,    14.42,2,     -999,9,     -999,9,     -999,     -999,9,20150825,2048,   1402.8,  81.2323, 179.0883,     -999,9,  35.0713,2
33HQ20150809  ,ARC01      ,22      ,  1,4          ,    6138,    -999,GSNIS-4    ,2,20150825,2028,  81.2327, 179.0976,     2227,   1656.6,  -0.4444,  34.9187,2,  34.9277,4,    298.3,2,    298.9,2,     8.99,2,    13.46,2,     0.00,2,     0.95,2,    2.130,2,    1.083,2,    0.146,2,    0.799,2,     -999,9,   2301.1,2,   7.7009,2,    25.00,     51.6,2,     -999,9,     -999,9,     -999,9,  -0.4446,2,     -999,9,     -999,9,     -999,    15.92,2,     -999,9,     -999,9,     -999,     -999,9,20150825,2043,   1632.5,  81.2324, 179.0907,     -999,9,  35.0924,4
33HQ20150809  ,ARC01      ,22      ,  1,3          ,    6138,    -999,GSNIS-3    ,2,20150825,2028,  81.2327, 179.0976,     2227,   1916.2,  -0.4249,  34.9408,2,  34.9407,2,    289.1,2,    288.9,2,    11.52,2,    14.28,2,     0.00,2,     0.99,2,    0.510,2,    0.244,2,    0.025,2,    0.142,2,     -999,9,     -999,9,     -999,9,     -999,     47.7,2,     -999,9,     -999,9,     -999,9,  -0.4249,2,     -999,9,     -999,9,     -999,    15.11,2,     -999,9,     -999,9,     -999,     -999,9,20150825,2037,   1887.2,  81.2325, 179.0935,     -999,9,  35.1055,2
33HQ20150809  ,ARC01      ,22      ,  1,2          ,    6138,    -999,GSNIS-2    ,2,20150825,2028,  81.2327, 179.0976,     2227,   2124.8,  -0.3954,  34.9506,2,  34.9506,2,    284.0,2,    283.9,2,    13.09,2,    14.60,2,     0.00,2,     1.04,2,    0.086,2,    0.037,2,    0.004,2,    0.000,2,     -999,9,   2302.4,6,   7.7271,6,    25.00,     46.4,2,     -999,9,     -999,9,     -999,9,  -0.3955,2,     -999,9,     -999,9,     -999,    16.48,2,     -999,9,     -999,9,     -999,     -999,9,20150825,2032,   2091.7,  81.2326, 179.0957,     -999,9,  35.1154,2
33HQ20150809  ,ARC01      ,22      ,  1,1          ,    6138,    -999,GSNIS-1    ,2,20150825,2028,  81.2327, 179.0976,     2227,   2249.1,  -0.3872,  34.9533,2,  34.9588,4,    284.4,2,    284.1,2,    13.09,2,    14.56,2,     0.00,2,     1.02,2,    0.108,2,    0.048,2,    0.006,2,    0.000,2,   2185.1,4,   2304.9,2,   7.7319,2,    25.00,     45.0,2,     -999,9,     -999,9,     -999,9,  -0.3875,2,     -999,9,     -999,9,     -999,    16.43,2,     -999,9,     -999,9,     -999,     -999,9,20150825,2029,   2213.4,  81.2327, 179.0972,     -999,9,  35.1237,4