BOTTLE,20221220CCHSIOAMB
EXPOCODE,SECT_ID,STNNBR,CASTNO,SAMPNO,GEOTR_EVENT,GEOTR_SAMPNO,BTLNBR,BTLNBR_FLAG_W,DATE,TIME,LATITUDE,LONGITUDE,DEPTH,CTDPRS,CTDTMP,CTDSAL,CTDSAL_FLAG_W,SALNTY,SALNTY_FLAG_W,CTDOXY,CTDOXY_FLAG_W,OXYGEN,OXYGEN_FLAG_W,SILCAT,SILCAT_FLAG_W,NITRAT,NITRAT_FLAG_W,NITRIT,NITRIT_FLAG_W,PHSPHT,PHSPHT_FLAG_W,CFC-11,CFC-11_FLAG_W,CFC-12,CFC-12_FLAG_W,CFC113,CFC113_FLAG_W,SF6,SF6_FLAG_W,TCARBN,TCARBN_FLAG_W,ALKALI,ALKALI_FLAG_W,PH_SWS,PH_SWS_FLAG_W,PH_TMP,DOC,DOC_FLAG_W,TRITUM,TRITUM_FLAG_W,HELIUM,HELIUM_FLAG_W,DELHE3,DELHE3_FLAG_W,REFTMP,REFTMP_FLAG_W,DELC13,DELC13_FLAG_W,DELC14,DELC14_FLAG_W,C14ERR,TDN,TDN_FLAG_W,DELO18,DELO18_FLAG_W,DELO17,DELO17_FLAG_W,CH4,CH4,CH4_FLAG_W,BTL_DATE,BTL_TIME,CTDDEPTH,BTL_LAT,BTL_LON,LAB_DEN,LAB_DEN_FLAG_W,SALTREF,SALTREF_FLAG_W
,,,,,,,,,,,,,METERS,DBAR,ITS-90,PSS-78,,PSS-78,,UMOL/KG,,UMOL/KG,,UMOL/KG,,UMOL/KG,,UMOL/KG,,UMOL/KG,,PMOL/KG,,PMOL/KG,,PMOL/KG,,FMOL/KG,,UMOL/KG,,UMOL/KG,,,,DEG C,UMOL/KG,,TU,,NMOL/KG,,PERCNT,,ITS-90,,/MILLE,,/MILLE,,/MILLE,UMOL/KG,,/MILLE,,/MILLE,,NMOL/KG,NMOL/L,,,,METERS,,,KG/M^3,,G/KG,
33HQ20150809  ,ARC01      ,61      ,  4,2          ,    6470,    -999,GSNIS-2    ,9,20151005,2303,  72.8097,-159.8025,       82,     73.9,  -1.6525,  32.6206,2,     -999,9,    218.8,2,     -999,9,     -999,9,     -999,9,     -999,9,     -999,9,     -999,9,     -999,9,     -999,9,     -999,9,     -999,9,     -999,9,     -999,9,     -999,     -999,9,     -999,9,     -999,9,     -999,9,  -1.6526,2,     -999,9,     -999,9,     -999,     -999,9,     -999,9,     -999,9,     -999,     -999,9,20151005,2304,     73.1,  72.8098,-159.8030,     -999,9,     -999,9
33HQ20150809  ,ARC01      ,61      ,  4,3          ,    6470,   12281,GSNIS-1    ,2,20151005,2303,  72.8097,-159.8025,       82,     73.9,  -1.6522,  32.6205,2,  32.6059,2,    218.8,2,    219.8,2,    57.29,2,    16.76,2,     0.14,2,     2.25,2,    5.699,2,    3.291,2,    0.533,2,    2.966,2,   2244.0,2,   2221.6,2,   7.2996,2,    25.00,     63.2,2,     -999,1,     -999,1,     -999,1,  -1.6525,2,     -999,9,     -999,1,     -999,    22.52,2,     -999,1,     -999,9,     -999,     -999,1,20151005,2304,     73.1,  72.8099,-159.8032,     -999,9,  32.7597,2
33HQ20150809  ,ARC01      ,62      ,  1,16         ,    6474,    -999,GSNIS-16   ,2,20151006,0239,  72.9461,-159.1795,      296,      3.5,   1.2954,  28.6543,2,  28.5455,2,    351.7,2,    352.4,2,     4.61,2,     0.10,2,     0.02,2,     0.56,2,    5.706,2,    3.152,2,    0.529,2,    2.878,2,   1940.0,2,   2041.6,2,   7.7300,2,    25.00,     73.4,2,     -999,1,     -999,1,     -999,1,   1.2713,4,     1.36,2,     -999,1,     -999,     4.12,2,     -999,1,     -999,9,     -999,     -999,1,20151006,0304,      3.4,  72.9463,-159.1875,     -999,9,  28.6802,2
33HQ20150809  ,ARC01      ,62      ,  1,15         ,    6474,    -999,GSNIS-15   ,2,20151006,0239,  72.9461,-159.1795,      296,     14.8,   2.5808,  30.3918,2,  30.3846,2,    341.2,2,    349.8,2,     5.68,2,     0.14,2,     0.03,2,     0.61,2,     -999,9,     -999,9,     -999,9,     -999,9,   2000.9,3,   2107.0,2,   7.7561,2,    25.00,     74.0,2,     -999,9,     -999,9,     -999,9,   2.5771,2,     -999,9,     -999,9,     -999,     4.42,2,     -999,1,     -999,9,     -999,     -999,1,20151006,0303,     14.7,  72.9462,-159.1869,     -999,9,  30.5278,2
33HQ20150809  ,ARC01      ,62      ,  1,14         ,    6474,    -999,GSNIS-14   ,2,20151006,0239,  72.9461,-159.1795,      296,     27.1,   4.0865,  30.7678,2,  30.7852,2,    328.6,2,    323.8,2,     7.34,2,     0.16,2,     0.05,2,     0.63,2,    4.923,2,    2.741,2,    0.448,2,    2.731,2,   2002.7,2,   2131.4,2,   7.7729,2,    25.00,     74.8,2,     -999,1,     -999,1,     -999,1,   4.0910,2,     -999,9,     -999,9,     -999,     5.41,2,     -999,1,     -999,9,     -999,     -999,1,20151006,0301,     26.8,  72.9460,-159.1861,     -999,9,  30.9303,2
33HQ20150809  ,ARC01      ,62      ,  1,13         ,    6474,    -999,GSNIS-13   ,2,20151006,0239,  72.9461,-159.1795,      296,     45.2,   1.9281,  31.2379,2,  31.2389,2,    349.3,2,    349.6,2,     7.44,2,     0.60,2,     0.18,2,     0.78,2,     -999,9,     -999,9,     -999,9,     -999,9,   2045.4,2,   2176.9,2,   7.7420,2,    25.00,     72.4,2,     -999,9,     -999,9,     -999,9,   1.9456,2,     -999,9,     -999,9,     -999,     5.86,2,     -999,1,     -999,9,     -999,     -999,1,20151006,0259,     44.8,  72.9458,-159.1848,     -999,9,  31.3862,2
33HQ20150809  ,ARC01      ,62      ,  1,12         ,    6474,    -999,GSNIS-12   ,2,20151006,0239,  72.9461,-159.1795,      296,     60.4,  -0.9004,  31.5712,2,  31.6292,2,    346.2,2,    352.0,2,    10.27,2,     4.40,2,     0.15,2,     1.08,2,     -999,9,     -999,9,     -999,9,     -999,9,   2106.4,2,   2205.6,2,   7.6488,2,    25.00,     70.1,2,     -999,9,     -999,9,     -999,9,  -0.8987,2,     -999,9,     -999,9,     -999,     8.37,2,     -999,1,     -999,9,     -999,     -999,1,20151006,0258,     59.8,  72.9456,-159.1842,     -999,9,  31.7783,2
33HQ20150809  ,ARC01      ,62      ,  1,11         ,    6474,    -999,GSNIS-11   ,2,20151006,0239,  72.9461,-159.1795,      296,     75.6,  -1.1142,  32.0773,2,  32.1018,2,    353.7,2,    342.6,2,    17.11,2,     6.14,2,     0.13,2,     1.25,2,    6.208,2,    3.475,2,    0.546,2,    2.941,2,   2125.3,2,   2215.4,2,   7.6042,2,    25.00,     72.0,2,     -999,1,     -999,1,     -999,1,  -1.1129,2,     -999,9,     -999,9,     -999,    11.14,2,     -999,1,     -999,9,     -999,     -999,1,20151006,0256,     74.8,  72.9454,-159.1837,     -999,9,  32.2532,2
33HQ20150809  ,ARC01      ,62      ,  1,10         ,    6474,    -999,GSNIS-10   ,2,20151006,0239,  72.9461,-159.1795,      296,     90.6,  -1.4900,  32.4247,2,  32.4532,2,    269.8,2,    267.1,2,    33.24,2,    13.09,2,     0.17,2,     1.85,2,     -999,9,     -999,9,     -999,9,     -999,9,   2200.3,2,   2214.1,2,   7.3853,3,    25.00,     70.4,2,     -999,9,     -999,9,     -999,9,  -1.4854,2,     -999,9,     -999,9,     -999,    19.02,2,     -999,1,     -999,9,     -999,     -999,1,20151006,0254,     89.7,  72.9453,-159.1833,     -999,9,  32.6063,2
33HQ20150809  ,ARC01      ,62      ,  1,9          ,    6474,    -999,GSNIS-9    ,2,20151006,0239,  72.9461,-159.1795,      296,    105.9,  -1.4446,  32.6480,2,  32.6601,2,    276.8,2,    280.0,2,    31.18,2,    13.54,2,     0.09,2,     1.76,2,     -999,9,     -999,9,     -999,9,     -999,9,   2203.8,2,   2234.8,2,   7.4411,2,    25.00,     66.4,2,     -999,9,     -999,9,     -999,9,  -1.4439,2,     -999,9,     -999,9,     -999,    17.58,2,     -999,1,     -999,9,     -999,     -999,1,20151006,0253,    104.8,  72.9453,-159.1832,     -999,9,  32.8141,2
33HQ20150809  ,ARC01      ,62      ,  1,8          ,    6474,    -999,GSNIS-8    ,2,20151006,0239,  72.9461,-159.1795,      296,    121.0,  -1.3976,  32.8441,2,  32.8656,2,    258.4,2,    256.0,2,    38.01,2,    14.78,2,     0.17,2,     1.90,2,    5.805,2,    3.240,2,    0.490,2,    2.590,2,   2222.7,2,   2235.5,2,   7.3838,2,    25.00,     63.6,2,     -999,1,     -999,1,     -999,1,  -1.3972,2,     -999,9,     -999,9,     -999,    20.10,2,     -999,1,     -999,9,     -999,     -999,1,20151006,0251,    119.7,  72.9454,-159.1829,     -999,9,  33.0206,2
33HQ20150809  ,ARC01      ,62      ,  1,7          ,    6474,    -999,GSNIS-7    ,2,20151006,0239,  72.9461,-159.1795,      296,    136.0,  -1.3459,  33.1610,2,  33.1739,2,    259.2,2,    254.1,2,    44.65,2,    16.39,2,     0.11,2,     1.95,2,     -999,9,     -999,9,     -999,9,     -999,9,   2231.5,2,   2245.5,2,   7.3863,2,    25.00,     64.4,2,     -999,9,     -999,9,     -999,9,  -1.3445,2,     -999,9,     -999,9,     -999,    20.38,2,     -999,1,     -999,9,     -999,     -999,1,20151006,0250,    134.5,  72.9454,-159.1826,     -999,9,  33.3304,2
33HQ20150809  ,ARC01      ,62      ,  1,6          ,    6474,    -999,GSNIS-6    ,2,20151006,0239,  72.9461,-159.1795,      296,    156.3,  -0.6954,  33.8687,2,  33.8994,2,    265.8,2,    267.6,2,    27.83,2,    14.57,2,     0.04,2,     1.51,2,     -999,9,     -999,9,     -999,9,     -999,9,   2209.3,2,   2272.5,2,   7.5206,2,    25.00,     61.6,2,     -999,9,     -999,9,     -999,9,  -0.7006,2,     -999,9,     -999,9,     -999,    16.66,2,     -999,1,     -999,9,     -999,     -999,1,20151006,0248,    154.6,  72.9455,-159.1823,     -999,9,  34.0592,2
33HQ20150809  ,ARC01      ,62      ,  1,5          ,    6474,    -999,GSNIS-5    ,2,20151006,0239,  72.9461,-159.1795,      296,    176.2,   0.2884,  34.6551,2,  34.6634,2,    277.8,2,    277.7,2,    13.17,2,    13.18,2,     0.03,2,     1.06,2,    4.874,2,    2.334,2,    0.293,2,    0.902,2,   2175.0,2,   2289.6,2,   7.6580,2,    25.00,     55.0,2,     -999,1,     -999,1,     -999,1,   0.2879,2,     -999,9,     -999,9,     -999,    16.03,2,     -999,1,     -999,9,     -999,     -999,1,20151006,0247,    174.3,  72.9458,-159.1822,     -999,9,  34.8269,2
33HQ20150809  ,ARC01      ,62      ,  1,4          ,    6474,    -999,GSNIS-4    ,2,20151006,0239,  72.9461,-159.1795,      296,    200.7,   0.5622,  34.7606,2,  34.7637,2,    283.2,2,    283.9,2,     9.08,2,    12.84,2,     0.01,2,     0.92,2,     -999,9,     -999,9,     -999,9,     -999,9,   2165.1,2,   2290.6,2,   7.6786,2,    25.00,     53.4,2,     -999,9,     -999,9,     -999,9,   0.5619,2,     -999,9,     -999,9,     -999,    14.24,2,     -999,1,     -999,9,     -999,     -999,1,20151006,0245,    198.6,  72.9461,-159.1819,     -999,9,  34.9276,2
33HQ20150809  ,ARC01      ,62      ,  1,3          ,    6474,    -999,GSNIS-3    ,2,20151006,0239,  72.9461,-159.1795,      296,    219.1,   0.5869,  34.7998,2,  34.8030,2,    288.5,2,    286.7,2,     8.68,2,    12.73,2,     0.02,2,     0.92,2,     -999,9,     -999,9,     -999,9,     -999,9,   2163.8,2,   2292.2,2,   7.6881,2,    25.00,     55.5,2,     -999,9,     -999,9,     -999,9,   0.5878,2,     -999,9,     -999,9,     -999,    15.19,2,     -999,1,     -999,9,     -999,     -999,1,20151006,0244,    216.8,  72.9462,-159.1815,     -999,9,  34.9671,2
33HQ20150809  ,ARC01      ,62      ,  1,2          ,    6474,    -999,GSNIS-2    ,2,20151006,0239,  72.9461,-159.1795,      296,    237.6,   0.6232,  34.8308,2,  34.8323,2,    290.6,2,    288.9,2,     8.59,2,    12.73,2,     0.05,2,     0.94,2,    4.632,2,    2.166,2,    0.280,2,    0.755,2,   2160.9,2,   2292.8,2,   7.6935,2,    25.00,     54.0,2,     -999,1,     -999,1,     -999,1,   0.6232,2,     -999,9,     -999,9,     -999,    14.76,2,     -999,1,     -999,9,     -999,     -999,1,20151006,0242,    235.0,  72.9462,-159.1809,     -999,9,  34.9966,2
33HQ20150809  ,ARC01      ,62      ,  1,1          ,    6474,    -999,GSNIS-1    ,2,20151006,0239,  72.9461,-159.1795,      296,    281.7,   0.5243,  34.8198,2,  34.8235,2,    290.2,2,    288.7,2,     9.46,2,    12.69,2,     0.11,2,     1.12,2,    4.558,2,    2.170,2,    0.272,2,    0.662,2,   2162.6,2,   2293.1,2,   7.6890,2,    25.00,     54.2,2,     -999,1,     -999,1,     -999,1,   0.5237,2,     -999,9,     -999,9,     -999,    14.15,2,     -999,1,     -999,9,     -999,     -999,1,20151006,0240,    278.6,  72.9461,-159.1798,     -999,9,  34.9877,2
33HQ20150809  ,ARC01      ,63      ,  1,12         ,    6477,    -999,GSNIS-12   ,2,20151006,0456,  72.8487,-159.5407,      173,      3.5,  -0.3381,  29.4649,2,  29.4762,2,    360.7,2,    364.9,2,     5.09,2,     0.19,2,     0.00,2,     0.53,2,    5.714,2,    3.255,2,    0.541,2,    2.972,2,   1944.9,2,   2066.3,2,   7.7360,2,    25.00,     72.1,2,     -999,1,     -999,1,     -999,1,  -0.3352,2,     1.50,2,     -999,1,     -999,     3.93,2,     -999,1,     -999,9,     -999,     -999,1,20151006,0518,      3.5,  72.8496,-159.5702,     -999,9,  29.6151,2
33HQ20150809  ,ARC01      ,63      ,  1,11         ,    6477,    -999,GSNIS-11   ,2,20151006,0456,  72.8487,-159.5407,      173,     13.3,   0.3882,  30.9792,2,  30.0735,2,    357.0,2,    361.4,2,     5.87,2,     0.25,2,     0.00,2,     0.54,2,     -999,9,     -999,9,     -999,9,     -999,9,   1967.2,2,   2097.0,2,   7.7610,2,    25.00,     69.2,2,     -999,9,     -999,9,     -999,9,   0.3451,4,     -999,9,     -999,9,     -999,     3.88,2,     -999,1,     -999,9,     -999,     -999,1,20151006,0517,     13.1,  72.8495,-159.5683,     -999,9,  30.2153,2
33HQ20150809  ,ARC01      ,63      ,  1,10         ,    6477,    -999,GSNIS-10   ,2,20151006,0456,  72.8487,-159.5407,      173,     32.2,   0.4574,  31.1548,2,  31.1578,2,    346.0,2,    354.5,2,     7.83,2,     0.54,2,     0.03,2,     0.61,2,    5.397,2,    3.097,2,    0.511,2,    2.971,2,   2004.5,2,   2147.2,2,   7.7816,2,    25.00,     69.0,2,     -999,1,     -999,1,     -999,1,   0.4581,2,     -999,9,     -999,9,     -999,     4.81,2,     -999,1,     -999,9,     -999,     -999,1,20151006,0514,     31.8,  72.8493,-159.5649,     -999,9,  31.3048,2
33HQ20150809  ,ARC01      ,63      ,  1,9          ,    6477,    -999,GSNIS-9    ,2,20151006,0456,  72.8487,-159.5407,      173,     46.3,  -1.0235,  32.1001,2,  32.0750,2,    329.6,2,    336.1,2,    21.41,2,     8.31,2,     0.13,2,     1.36,2,     -999,9,     -999,9,     -999,9,     -999,9,   2125.2,2,   2203.1,2,   7.5820,2,    25.00,     69.4,2,     -999,9,     -999,9,     -999,9,  -1.0218,2,     -999,9,     -999,9,     -999,    12.85,2,     -999,1,     -999,9,     -999,     -999,1,20151006,0512,     45.8,  72.8493,-159.5625,     -999,9,  32.2262,2
33HQ20150809  ,ARC01      ,63      ,  1,8          ,    6477,    -999,GSNIS-8    ,2,20151006,0456,  72.8487,-159.5407,      173,     60.7,  -1.6720,  32.6270,2,  32.6242,2,    222.7,2,    217.7,2,    60.80,2,    17.42,2,     0.15,2,     2.26,2,    5.255,2,    3.233,2,    0.502,2,    3.056,2,   2253.2,2,   2219.6,2,   7.2156,2,    25.00,     65.0,2,     -999,1,     -999,1,     -999,1,  -1.6721,2,     -999,9,     -999,9,     -999,    22.32,2,     -999,1,     -999,9,     -999,     -999,1,20151006,0511,     60.1,  72.8493,-159.5600,     -999,9,  32.7780,2
33HQ20150809  ,ARC01      ,63      ,  1,7          ,    6477,    -999,GSNIS-7    ,2,20151006,0456,  72.8487,-159.5407,      173,     76.0,  -1.6736,  32.6326,2,  32.6323,2,    206.6,2,    216.0,2,    61.29,2,    17.58,2,     0.16,2,     2.29,2,     -999,9,     -999,9,     -999,9,     -999,9,   2256.9,2,   2219.7,2,   7.2115,2,    25.00,     67.9,2,     -999,9,     -999,9,     -999,9,  -1.6735,2,     -999,9,     -999,9,     -999,    22.60,2,     -999,1,     -999,9,     -999,     -999,1,20151006,0509,     75.2,  72.8492,-159.5576,     -999,9,  32.7862,2
33HQ20150809  ,ARC01      ,63      ,  1,6          ,    6477,    -999,GSNIS-6    ,2,20151006,0456,  72.8487,-159.5407,      173,     89.5,  -1.6725,  32.6393,2,  32.6368,2,    217.4,2,    214.8,2,    62.16,2,    17.61,2,     0.17,2,     2.32,2,    5.198,2,    3.200,2,    0.496,2,    3.046,2,   2258.2,2,   2219.0,2,   7.2070,2,    25.00,     67.2,2,     -999,1,     -999,1,     -999,1,  -1.6722,2,     -999,9,     -999,9,     -999,    22.41,2,     -999,1,     -999,9,     -999,     -999,1,20151006,0507,     88.6,  72.8493,-159.5551,     -999,9,  32.7907,2
33HQ20150809  ,ARC01      ,63      ,  1,5          ,    6477,    -999,GSNIS-5    ,2,20151006,0456,  72.8487,-159.5407,      173,    105.2,  -1.6550,  32.6585,2,  32.6542,2,    222.6,2,    224.9,2,    57.86,2,    17.31,2,     0.14,2,     2.27,2,     -999,9,     -999,9,     -999,9,     -999,9,   2246.8,2,   2226.2,2,   7.2444,2,    25.00,     64.4,2,     -999,9,     -999,9,     -999,9,  -1.6552,2,     -999,9,     -999,9,     -999,    20.70,2,     -999,1,     -999,9,     -999,     -999,1,20151006,0504,    104.1,  72.8492,-159.5517,     -999,9,  32.8082,2
33HQ20150809  ,ARC01      ,63      ,  1,4          ,    6477,    -999,GSNIS-4    ,2,20151006,0456,  72.8487,-159.5407,      173,    118.9,  -1.6447,  32.6851,2,  32.6842,2,    226.2,2,    226.4,2,    57.86,2,    17.31,2,     0.13,2,     2.25,2,    5.275,2,    3.213,2,    0.487,2,    3.035,2,   2246.9,2,   2226.2,2,   7.2457,2,    25.00,     66.6,2,     -999,1,     -999,1,     -999,1,  -1.6446,2,     -999,9,     -999,9,     -999,    23.51,2,     -999,1,     -999,9,     -999,     -999,1,20151006,0503,    117.6,  72.8492,-159.5495,     -999,9,  32.8383,2
33HQ20150809  ,ARC01      ,63      ,  1,3          ,    6477,    -999,GSNIS-3    ,2,20151006,0456,  72.8487,-159.5407,      173,    130.6,  -1.6329,  32.7414,2,  32.7568,2,    227.0,2,    238.5,2,    55.61,2,    17.53,2,     0.14,2,     2.18,2,     -999,9,     -999,9,     -999,9,     -999,9,   2241.6,2,   2232.1,2,   7.2880,2,    25.00,     64.9,2,     -999,9,     -999,9,     -999,9,  -1.6327,2,     -999,9,     -999,9,     -999,    19.96,2,     -999,1,     -999,9,     -999,     -999,1,20151006,0501,    129.2,  72.8491,-159.5470,     -999,9,  32.9113,2
33HQ20150809  ,ARC01      ,63      ,  1,2          ,    6477,    -999,GSNIS-2    ,2,20151006,0456,  72.8487,-159.5407,      173,    141.2,  -1.3929,  33.0668,2,  33.0709,2,    240.3,2,    242.4,2,    49.74,2,    16.68,2,     0.14,2,     2.04,2,    5.251,2,    3.052,2,    0.459,2,    2.408,2,   2237.2,2,   2244.0,2,   7.3354,2,    25.00,     63.4,2,     -999,1,     -999,1,     -999,1,  -1.3913,2,     1.51,2,     -999,9,     -999,    19.87,2,     -999,1,     -999,9,     -999,     -999,1,20151006,0459,    139.7,  72.8490,-159.5449,     -999,9,  33.2268,2
33HQ20150809  ,ARC01      ,63      ,  1,1          ,    6477,    -999,GSNIS-1    ,2,20151006,0456,  72.8487,-159.5407,      173,    151.3,  -0.6549,  33.9059,2,  33.9504,2,    265.0,2,    264.7,2,    29.00,2,    14.56,2,     0.10,2,     1.60,2,    4.691,2,    2.554,2,    0.327,2,    1.621,2,   2210.1,2,   2280.0,2,   7.5231,2,    25.00,     60.4,2,     -999,1,     -999,1,     -999,1,  -0.6299,4,     -999,9,     -999,9,     -999,    17.10,2,     -999,1,     -999,9,     -999,     -999,1,20151006,0457,    149.7,  72.8488,-159.5423,     -999,9,  34.1105,2