BOTTLE,20221220CCHSIOAMB
EXPOCODE,SECT_ID,STNNBR,CASTNO,SAMPNO,GEOTR_EVENT,GEOTR_SAMPNO,BTLNBR,BTLNBR_FLAG_W,DATE,TIME,LATITUDE,LONGITUDE,DEPTH,CTDPRS,CTDTMP,CTDSAL,CTDSAL_FLAG_W,SALNTY,SALNTY_FLAG_W,CTDOXY,CTDOXY_FLAG_W,OXYGEN,OXYGEN_FLAG_W,SILCAT,SILCAT_FLAG_W,NITRAT,NITRAT_FLAG_W,NITRIT,NITRIT_FLAG_W,PHSPHT,PHSPHT_FLAG_W,CFC-11,CFC-11_FLAG_W,CFC-12,CFC-12_FLAG_W,CFC113,CFC113_FLAG_W,SF6,SF6_FLAG_W,TCARBN,TCARBN_FLAG_W,ALKALI,ALKALI_FLAG_W,PH_SWS,PH_SWS_FLAG_W,PH_TMP,DOC,DOC_FLAG_W,TRITUM,TRITUM_FLAG_W,HELIUM,HELIUM_FLAG_W,DELHE3,DELHE3_FLAG_W,REFTMP,REFTMP_FLAG_W,DELC13,DELC13_FLAG_W,DELC14,DELC14_FLAG_W,C14ERR,TDN,TDN_FLAG_W,DELO18,DELO18_FLAG_W,DELO17,DELO17_FLAG_W,CH4,CH4,CH4_FLAG_W,BTL_DATE,BTL_TIME,CTDDEPTH,BTL_LAT,BTL_LON,LAB_DEN,LAB_DEN_FLAG_W,SALTREF,SALTREF_FLAG_W
,,,,,,,,,,,,,METERS,DBAR,ITS-90,PSS-78,,PSS-78,,UMOL/KG,,UMOL/KG,,UMOL/KG,,UMOL/KG,,UMOL/KG,,UMOL/KG,,PMOL/KG,,PMOL/KG,,PMOL/KG,,FMOL/KG,,UMOL/KG,,UMOL/KG,,,,DEG C,UMOL/KG,,TU,,NMOL/KG,,PERCNT,,ITS-90,,/MILLE,,/MILLE,,/MILLE,UMOL/KG,,/MILLE,,/MILLE,,NMOL/KG,NMOL/L,,,,METERS,,,KG/M^3,,G/KG,
33HQ20150809  ,ARC01      ,13      ,  1,31         ,    6100,    -999,GSNIS-31   ,2,20150820,1451,  75.9420,-171.6636,     1892,      3.5,  -0.4454,  25.6510,2,  25.6770,2,    381.3,2,    386.2,2,     2.26,2,     0.03,2,     0.00,2,     0.55,2,    6.836,2,    3.783,2,    0.654,2,    3.897,2,   1769.4,6,   1838.4,2,   7.6378,2,    25.00,     66.8,2,     -999,9,     -999,9,     -999,9,  -0.4455,2,     1.43,6,     -999,9,     -999,     2.87,2,     -999,1,     -999,9,     -999,     -999,9,20150820,1622,      3.4,  75.9352,-171.6687,     -999,9,  25.7981,2
33HQ20150809  ,ARC01      ,13      ,  1,30         ,    6100,    -999,GSNIS-30   ,2,20150820,1451,  75.9420,-171.6636,     1892,     15.8,  -0.2269,  28.0172,2,  28.0052,2,    390.3,2,    389.3,2,     2.36,2,     0.01,2,     0.00,2,     0.59,2,    7.050,2,    3.777,2,    0.648,2,    3.542,2,   1924.8,2,   2010.2,6,   7.6712,2,    25.00,     69.8,2,     -999,9,     -999,9,     -999,9,  -0.2346,2,     -999,9,     -999,9,     -999,     3.30,2,     -999,1,     -999,9,     -999,     -999,9,20150820,1620,     15.6,  75.9355,-171.6683,     -999,9,  28.1373,2
33HQ20150809  ,ARC01      ,13      ,  1,29         ,    6100,    -999,GSNIS-29   ,2,20150820,1451,  75.9420,-171.6636,     1892,     25.7,  -0.7234,  28.9204,2,  29.0858,2,    395.3,2,    396.4,2,     2.55,2,     0.02,2,     0.00,2,     0.62,2,    7.159,2,    3.768,2,    0.652,2,    3.361,2,   1981.5,2,   2080.6,2,   7.6780,2,    25.00,     73.3,2,     -999,9,     -999,9,     -999,9,  -0.7211,2,     -999,9,     -999,9,     -999,     2.47,2,     -999,1,     -999,9,     -999,     -999,9,20150820,1618,     25.4,  75.9357,-171.6679,     -999,9,  29.2229,2
33HQ20150809  ,ARC01      ,13      ,  1,28         ,    6100,    -999,GSNIS-28   ,3,20150820,1451,  75.9420,-171.6636,     1892,     45.6,  -0.5001,  30.1552,2,  30.2623,2,    392.3,2,    391.1,2,     3.43,2,     0.00,2,     0.00,2,     0.70,2,     -999,9,     -999,9,     -999,9,     -999,9,     -999,9,   2148.4,2,   7.7092,2,    25.00,     76.2,2,     -999,9,     -999,9,     -999,9,  -0.5033,2,     -999,9,     -999,9,     -999,     3.29,2,     -999,1,     -999,9,     -999,     -999,9,20150820,1616,     45.1,  75.9359,-171.6676,     -999,9,  30.4050,2
33HQ20150809  ,ARC01      ,13      ,  1,27         ,    6100,    -999,GSNIS-27   ,2,20150820,1451,  75.9420,-171.6636,     1892,     66.0,  -0.4602,  31.2026,2,  31.2844,2,    372.7,2,    365.6,2,     7.15,2,     1.71,2,     0.16,2,     0.91,2,    6.659,2,    3.515,2,    0.524,2,    2.744,2,     -999,9,     -999,9,     -999,9,     -999,     -999,9,     -999,9,     -999,9,     -999,9,  -0.4582,2,     -999,9,     -999,9,     -999,     -999,9,     -999,1,     -999,9,     -999,     -999,9,20150820,1614,     65.3,  75.9361,-171.6674,     -999,9,  31.4319,2
33HQ20150809  ,ARC01      ,13      ,  1,26         ,    6100,    -999,GSNIS-26   ,2,20150820,1451,  75.9420,-171.6636,     1892,     76.2,  -0.8290,  31.6354,2,  31.6739,2,    340.1,2,    340.3,2,    12.05,2,     5.47,2,     0.10,2,     1.17,2,    6.552,2,    3.448,2,    0.501,2,    2.739,2,     -999,9,     -999,9,     -999,9,     -999,     -999,9,     -999,9,     -999,9,     -999,9,  -0.8272,2,     -999,9,     -999,9,     -999,     -999,9,     -999,1,     -999,9,     -999,     -999,9,20150820,1613,     75.3,  75.9362,-171.6673,     -999,9,  31.8233,2
33HQ20150809  ,ARC01      ,13      ,  1,25         ,    6100,    -999,GSNIS-25   ,2,20150820,1451,  75.9420,-171.6636,     1892,     86.2,  -0.9790,  31.8731,2,  31.8968,2,    325.6,2,    327.5,2,    15.57,2,     7.61,2,     0.02,2,     1.30,2,    6.506,2,    3.419,2,    0.486,2,    2.644,2,     -999,9,     -999,9,     -999,9,     -999,     -999,9,     -999,9,     -999,9,     -999,9,  -0.9689,2,     -999,9,     -999,9,     -999,     -999,9,     -999,1,     -999,9,     -999,     -999,9,20150820,1611,     85.3,  75.9364,-171.6671,     -999,9,  32.0472,2
33HQ20150809  ,ARC01      ,13      ,  1,24         ,    6100,    -999,GSNIS-24   ,2,20150820,1451,  75.9420,-171.6636,     1892,     96.4,  -1.2043,  32.0410,2,  32.0666,2,    320.4,2,    318.9,2,    19.09,2,     9.26,2,     0.00,2,     1.43,2,    6.460,2,    3.438,2,    0.494,2,    2.718,2,     -999,9,   2223.1,2,   7.5645,2,    25.00,     66.5,2,     -999,9,     -999,9,     -999,9,  -1.2078,2,     -999,9,     -999,9,     -999,    11.09,2,     -999,1,     -999,9,     -999,     -999,9,20150820,1610,     95.3,  75.9365,-171.6669,     -999,9,  32.2178,2
33HQ20150809  ,ARC01      ,13      ,  1,23         ,    6100,    -999,GSNIS-23   ,2,20150820,1451,  75.9420,-171.6636,     1892,    106.3,  -1.3713,  32.1927,2,  32.2163,2,    311.8,2,    313.5,2,    22.13,2,    10.52,2,     0.00,2,     1.51,2,    6.452,2,    3.489,2,    0.497,2,    2.664,2,     -999,9,     -999,9,     -999,9,     -999,     -999,9,     -999,9,     -999,9,     -999,9,  -1.3728,2,     -999,9,     -999,9,     -999,     -999,9,     -999,1,     -999,9,     -999,     -999,9,20150820,1609,    105.2,  75.9367,-171.6667,     -999,9,  32.3682,2
33HQ20150809  ,ARC01      ,13      ,  1,22         ,    6100,    -999,GSNIS-22   ,2,20150820,1451,  75.9420,-171.6636,     1892,    121.9,  -1.4299,  32.4049,2,  32.4257,2,    306.1,2,    306.6,2,    26.33,2,    12.37,2,     0.00,2,     1.63,2,    6.406,2,    3.479,2,    0.488,2,    2.683,2,     -999,9,     -999,9,     -999,9,     -999,     -999,9,     -999,9,     -999,9,     -999,9,  -1.4300,2,     -999,9,     -999,9,     -999,     -999,9,     -999,1,     -999,9,     -999,     -999,9,20150820,1607,    120.6,  75.9368,-171.6663,     -999,9,  32.5786,2
33HQ20150809  ,ARC01      ,13      ,  1,21         ,    6100,    -999,GSNIS-21   ,2,20150820,1451,  75.9420,-171.6636,     1892,    137.3,  -1.4023,  32.5576,2,  32.5644,2,    295.1,2,    296.5,2,    27.41,2,    13.07,2,     0.00,2,     1.71,2,    6.278,2,    3.354,2,    0.454,2,    2.488,2,     -999,9,   2232.2,2,   7.4898,2,    25.00,     63.4,2,     -999,9,     -999,9,     -999,9,  -1.4026,2,     -999,9,     -999,9,     -999,    15.95,2,     -999,1,     -999,9,     -999,     -999,9,20150820,1604,    135.8,  75.9371,-171.6659,     -999,9,  32.7180,2
33HQ20150809  ,ARC01      ,13      ,  1,20         ,    6100,    -999,GSNIS-20   ,2,20150820,1451,  75.9420,-171.6636,     1892,    157.1,  -1.4523,  32.7909,2,  32.8024,2,    285.7,2,    285.8,2,    29.85,2,    14.30,2,     0.00,2,     1.78,2,    6.230,2,    3.341,2,    0.433,2,    2.382,2,     -999,9,     -999,9,     -999,9,     -999,     -999,9,     -999,9,     -999,9,     -999,9,  -1.4518,2,     -999,9,     -999,9,     -999,     -999,9,     -999,1,     -999,9,     -999,     -999,9,20150820,1602,    155.4,  75.9373,-171.6656,     -999,9,  32.9571,2
33HQ20150809  ,ARC01      ,13      ,  1,19         ,    6100,    -999,GSNIS-19   ,2,20150820,1451,  75.9420,-171.6636,     1892,    177.4,  -1.4794,  33.0586,2,  33.0831,2,    281.5,2,    281.7,2,    32.68,2,    15.13,2,     0.00,2,     1.79,2,    6.113,2,    3.211,2,    0.424,2,    2.299,2,     -999,9,   2267.5,2,   7.4546,2,    25.00,     63.9,2,     -999,9,     -999,9,     -999,9,  -1.4796,2,     -999,9,     -999,9,     -999,    15.07,2,     -999,1,     -999,9,     -999,     -999,9,20150820,1600,    175.5,  75.9375,-171.6654,     -999,9,  33.2391,2
33HQ20150809  ,ARC01      ,13      ,  1,18         ,    6100,    -999,GSNIS-18   ,2,20150820,1451,  75.9420,-171.6636,     1892,    197.4,  -1.3620,  33.3714,2,  33.4092,2,    277.8,2,    277.0,2,    30.81,2,    14.77,2,     0.00,2,     1.68,2,    5.923,2,    3.048,2,    0.388,2,    2.240,2,     -999,9,     -999,9,     -999,9,     -999,     -999,9,     -999,9,     -999,9,     -999,9,  -1.3619,2,     -999,9,     -999,9,     -999,     -999,9,     -999,1,     -999,9,     -999,     -999,9,20150820,1558,    195.3,  75.9377,-171.6653,     -999,9,  33.5668,2
33HQ20150809  ,ARC01      ,13      ,  1,17         ,    6100,    -999,GSNIS-17   ,2,20150820,1451,  75.9420,-171.6636,     1892,    217.5,  -1.0278,  33.8881,2,  33.9076,2,    268.8,2,    271.6,2,    30.90,2,    14.77,2,     0.00,2,     1.67,2,    5.756,2,    2.886,2,    0.372,2,    1.414,2,     -999,9,   2279.0,2,   7.5263,2,    25.00,     61.4,2,     -999,9,     -999,9,     -999,9,  -1.0169,2,     -999,9,     -999,9,     -999,    15.62,2,     -999,1,     -999,9,     -999,     -999,9,20150820,1556,    215.1,  75.9379,-171.6652,     -999,9,  34.0675,2
33HQ20150809  ,ARC01      ,13      ,  1,16         ,    6100,    -999,GSNIS-16   ,2,20150820,1451,  75.9420,-171.6636,     1892,    238.0,  -0.5263,  34.2901,2,  34.3030,2,    267.3,2,    263.0,2,    18.48,2,    13.14,2,     0.00,2,     1.16,2,     -999,9,     -999,9,     -999,9,     -999,9,   2194.2,2,   2269.3,3,   7.5618,2,    25.00,     60.2,2,     -999,9,     -999,9,     -999,9,  -0.5263,2,     -999,9,     -999,9,     -999,    13.60,2,     -999,1,     -999,9,     -999,     -999,9,20150820,1555,    235.4,  75.9380,-171.6651,     -999,9,  34.4647,2
33HQ20150809  ,ARC01      ,13      ,  1,15         ,    6100,    -999,GSNIS-15   ,2,20150820,1451,  75.9420,-171.6636,     1892,    288.2,   0.2003,  34.6131,2,  34.6250,2,    266.6,2,    268.7,2,    13.19,2,    12.55,2,     0.00,2,     0.96,2,    5.740,2,    2.867,2,    0.375,2,    1.322,2,     -999,9,   2287.4,6,   7.6143,2,    25.00,     57.3,2,     -999,9,     -999,9,     -999,9,   0.2002,2,     -999,9,     -999,9,     -999,    12.83,2,     -999,1,     -999,9,     -999,     -999,9,20150820,1553,    285.0,  75.9381,-171.6651,     -999,9,  34.7883,2
33HQ20150809  ,ARC01      ,13      ,  1,14         ,    6100,    -999,GSNIS-14   ,2,20150820,1451,  75.9420,-171.6636,     1892,    338.9,   0.6369,  34.7572,2,  34.7628,2,    286.1,2,    286.0,2,     7.52,2,    12.30,2,     0.00,2,     0.86,2,     -999,9,     -999,9,     -999,9,     -999,9,     -999,9,     -999,9,     -999,9,     -999,     55.2,2,     -999,9,     -999,9,     -999,9,   0.6369,2,     -999,9,     -999,9,     -999,    14.04,2,     -999,1,     -999,9,     -999,     -999,9,20150820,1550,    335.1,  75.9383,-171.6651,     -999,9,  34.9267,2
33HQ20150809  ,ARC01      ,13      ,  1,13         ,    6100,    -999,GSNIS-13   ,2,20150820,1451,  75.9420,-171.6636,     1892,    389.6,   0.8005,  34.8064,2,  34.8114,2,    289.7,2,    290.7,2,     6.45,2,    12.25,2,     0.00,2,     0.84,2,    5.500,2,    2.700,2,    0.379,2,    1.297,2,     -999,9,     -999,9,     -999,9,     -999,     56.2,2,     -999,9,     -999,9,     -999,9,   0.8011,2,     -999,9,     -999,9,     -999,    13.16,2,     -999,1,     -999,9,     -999,     -999,9,20150820,1548,    385.2,  75.9385,-171.6650,     -999,9,  34.9756,2
33HQ20150809  ,ARC01      ,13      ,  1,12         ,    6100,    -999,GSNIS-12   ,2,20150820,1451,  75.9420,-171.6636,     1892,    440.5,   0.8940,  34.8350,2,  34.8368,2,    292.9,2,    294.8,2,     6.16,2,    12.24,2,     0.00,2,     0.84,2,     -999,9,     -999,9,     -999,9,     -999,9,     -999,9,     -999,9,     -999,9,     -999,     54.2,2,     -999,9,     -999,9,     -999,9,   0.8939,2,     -999,9,     -999,9,     -999,    12.77,2,     -999,1,     -999,9,     -999,     -999,9,20150820,1546,    435.5,  75.9386,-171.6649,     -999,9,  35.0010,2
33HQ20150809  ,ARC01      ,13      ,  1,11         ,    6100,    -999,GSNIS-11   ,2,20150820,1451,  75.9420,-171.6636,     1892,    491.0,   0.9049,  34.8469,2,  34.8468,2,    295.7,2,    295.2,2,     6.06,2,    12.19,2,     0.00,2,     0.84,2,    5.450,2,    2.672,2,    0.376,2,    1.232,2,     -999,9,   2287.8,2,   7.6971,2,    25.00,     52.5,2,     -999,9,     -999,9,     -999,9,   0.9048,2,     -999,9,     -999,9,     -999,    13.56,2,     -999,1,     -999,9,     -999,     -999,9,20150820,1544,    485.3,  75.9388,-171.6647,     -999,9,  35.0111,2
33HQ20150809  ,ARC01      ,13      ,  1,10         ,    6100,    -999,GSNIS-10   ,2,20150820,1451,  75.9420,-171.6636,     1892,    541.7,   0.7861,  34.8537,2,  34.8491,4,    297.5,2,    296.9,2,     6.25,2,    12.19,2,     0.00,2,     0.84,2,     -999,9,     -999,9,     -999,9,     -999,9,     -999,9,     -999,9,     -999,9,     -999,     55.2,2,     -999,9,     -999,9,     -999,9,   0.7861,2,     -999,9,     -999,9,     -999,    15.41,2,     -999,9,     -999,9,     -999,     -999,9,20150820,1541,    535.4,  75.9390,-171.6646,     -999,9,  35.0135,4
33HQ20150809  ,ARC01      ,13      ,  1,9          ,    6100,    -999,GSNIS-9    ,2,20150820,1451,  75.9420,-171.6636,     1892,    608.1,   0.6303,  34.8567,2,  34.8562,2,    299.2,2,    299.2,2,     6.06,2,    12.12,2,     0.00,2,     0.84,2,    5.294,2,    2.655,2,    0.361,2,    1.200,2,     -999,9,   2292.0,2,   7.6976,2,    25.00,     52.7,2,     -999,9,     -999,9,     -999,9,   0.6302,2,     -999,9,     -999,9,     -999,    14.07,2,     -999,9,     -999,9,     -999,     -999,9,20150820,1538,    600.9,  75.9392,-171.6644,     -999,9,  35.0206,2
33HQ20150809  ,ARC01      ,13      ,  1,8          ,    6100,    -999,GSNIS-8    ,2,20150820,1451,  75.9420,-171.6636,     1892,    708.8,   0.3942,  34.8602,2,  34.8599,2,    301.8,2,    300.9,2,     5.96,2,    12.12,2,     0.00,2,     0.85,2,     -999,9,     -999,9,     -999,9,     -999,9,     -999,9,     -999,9,     -999,9,     -999,     53.0,2,     -999,9,     -999,9,     -999,9,   0.3944,2,     -999,9,     -999,9,     -999,    14.05,2,     -999,9,     -999,9,     -999,     -999,9,20150820,1535,    700.2,  75.9394,-171.6644,     -999,9,  35.0243,2
33HQ20150809  ,ARC01      ,13      ,  1,7          ,    6100,    -999,GSNIS-7    ,2,20150820,1451,  75.9420,-171.6636,     1892,    861.6,   0.1210,  34.8648,2,  34.8646,2,    304.4,2,    303.0,2,     5.96,2,    12.04,2,     0.00,2,     0.84,2,    5.157,2,    2.523,2,    0.350,2,    1.190,2,     -999,9,   2289.6,2,   7.6900,2,    25.00,     54.9,2,     -999,9,     -999,9,     -999,9,   0.1209,2,     -999,9,     -999,9,     -999,    13.59,2,     -999,9,     -999,9,     -999,     -999,9,20150820,1530,    850.9,  75.9397,-171.6643,     -999,9,  35.0291,2
33HQ20150809  ,ARC01      ,13      ,  1,6          ,    6100,    -999,GSNIS-6    ,2,20150820,1451,  75.9420,-171.6636,     1892,   1000.1,  -0.0466,  34.8731,2,  34.8788,4,    305.4,2,    303.8,2,     6.16,2,    12.09,2,     0.00,2,     0.85,2,     -999,9,     -999,9,     -999,9,     -999,9,     -999,9,     -999,9,     -999,9,     -999,     52.8,2,     -999,9,     -999,9,     -999,9,  -0.0466,2,     -999,9,     -999,9,     -999,    13.88,2,     -999,9,     -999,9,     -999,     -999,9,20150820,1520,    987.3,  75.9402,-171.6641,     -999,9,  35.0433,4
33HQ20150809  ,ARC01      ,13      ,  1,5          ,    6100,    -999,GSNIS-5    ,2,20150820,1451,  75.9420,-171.6636,     1892,   1216.7,  -0.2376,  34.8873,2,  34.8872,2,    303.6,2,    303.6,2,     7.04,2,    12.41,2,     0.00,2,     0.87,2,    4.296,2,    2.111,2,    0.282,2,    1.017,2,     -999,9,   2287.0,2,   7.6866,2,    25.00,     55.0,2,     -999,9,     -999,9,     -999,9,  -0.2376,2,     -999,9,     -999,9,     -999,    14.17,2,     -999,9,     -999,9,     -999,     -999,9,20150820,1512,   1200.5,  75.9407,-171.6639,     -999,9,  35.0517,2
33HQ20150809  ,ARC01      ,13      ,  1,4          ,    6100,    -999,GSNIS-4    ,2,20150820,1451,  75.9420,-171.6636,     1892,   1419.8,  -0.3668,  34.9023,2,  34.9002,2,    301.6,2,    301.7,2,     7.82,2,    12.96,2,     0.00,2,     0.92,2,     -999,9,     -999,9,     -999,9,     -999,9,     -999,9,     -999,9,     -999,9,     -999,     53.2,2,     -999,9,     -999,9,     -999,9,  -0.3669,2,     -999,9,     -999,9,     -999,    15.12,2,     -999,9,     -999,9,     -999,     -999,9,20150820,1507,   1400.2,  75.9411,-171.6637,     -999,9,  35.0648,2
33HQ20150809  ,ARC01      ,13      ,  1,3          ,    6100,    -999,GSNIS-3    ,2,20150820,1451,  75.9420,-171.6636,     1892,   1623.7,  -0.4352,  34.9217,2,  34.9222,2,    295.3,2,    295.7,2,     9.77,2,    13.73,2,     0.00,2,     0.99,2,    1.476,2,    0.718,2,    0.086,2,    0.337,2,     -999,9,   2291.3,2,   7.7130,6,    25.00,     49.6,2,     -999,9,     -999,9,     -999,9,  -0.4353,2,     -999,9,     -999,9,     -999,    15.31,2,     -999,9,     -999,9,     -999,     -999,9,20150820,1502,   1600.5,  75.9414,-171.6635,     -999,9,  35.0869,2
33HQ20150809  ,ARC01      ,13      ,  1,2          ,    6100,    -999,GSNIS-2    ,2,20150820,1451,  75.9420,-171.6636,     1892,   1827.7,  -0.4254,  34.9423,2,  34.9458,4,    288.8,2,    289.8,2,    11.82,2,    14.26,2,     0.00,2,     1.02,2,    0.414,2,    0.178,2,    0.018,2,    0.036,2,     -999,9,     -999,9,     -999,9,     -999,     48.6,2,     -999,9,     -999,9,     -999,9,  -0.4255,2,     -999,9,     -999,9,     -999,    16.36,2,     -999,9,     -999,9,     -999,     -999,9,20150820,1456,   1800.8,  75.9417,-171.6635,     -999,9,  35.1106,4
33HQ20150809  ,ARC01      ,13      ,  1,1          ,    6100,    -999,GSNIS-1    ,3,20150820,1451,  75.9420,-171.6636,     1892,   1908.5,  -0.3937,  34.9503,2,  34.9481,2,    283.9,2,    283.1,2,    13.58,2,    14.62,2,     0.00,2,     1.06,2,    0.178,2,    0.074,2,    0.008,2,    0.019,2,   2152.0,2,   2301.0,2,   7.7447,2,    25.00,     47.7,2,     -999,9,     -999,9,     -999,9,  -0.3937,2,     -999,9,     -999,9,     -999,    16.30,2,     -999,9,     -999,9,     -999,     -999,9,20150820,1450,   1880.0,  75.9420,-171.6637,     -999,9,  35.1129,2