BOTTLE,20221220CCHSIOAMB
EXPOCODE,SECT_ID,STNNBR,CASTNO,SAMPNO,GEOTR_EVENT,GEOTR_SAMPNO,BTLNBR,BTLNBR_FLAG_W,DATE,TIME,LATITUDE,LONGITUDE,DEPTH,CTDPRS,CTDTMP,CTDSAL,CTDSAL_FLAG_W,SALNTY,SALNTY_FLAG_W,CTDOXY,CTDOXY_FLAG_W,OXYGEN,OXYGEN_FLAG_W,SILCAT,SILCAT_FLAG_W,NITRAT,NITRAT_FLAG_W,NITRIT,NITRIT_FLAG_W,PHSPHT,PHSPHT_FLAG_W,CFC-11,CFC-11_FLAG_W,CFC-12,CFC-12_FLAG_W,CFC113,CFC113_FLAG_W,SF6,SF6_FLAG_W,TCARBN,TCARBN_FLAG_W,ALKALI,ALKALI_FLAG_W,PH_SWS,PH_SWS_FLAG_W,PH_TMP,DOC,DOC_FLAG_W,TRITUM,TRITUM_FLAG_W,HELIUM,HELIUM_FLAG_W,DELHE3,DELHE3_FLAG_W,REFTMP,REFTMP_FLAG_W,DELC13,DELC13_FLAG_W,DELC14,DELC14_FLAG_W,C14ERR,TDN,TDN_FLAG_W,DELO18,DELO18_FLAG_W,DELO17,DELO17_FLAG_W,CH4,CH4,CH4_FLAG_W,BTL_DATE,BTL_TIME,CTDDEPTH,BTL_LAT,BTL_LON,LAB_DEN,LAB_DEN_FLAG_W,SALTREF,SALTREF_FLAG_W
,,,,,,,,,,,,,METERS,DBAR,ITS-90,PSS-78,,PSS-78,,UMOL/KG,,UMOL/KG,,UMOL/KG,,UMOL/KG,,UMOL/KG,,UMOL/KG,,PMOL/KG,,PMOL/KG,,PMOL/KG,,FMOL/KG,,UMOL/KG,,UMOL/KG,,,,DEG C,UMOL/KG,,TU,,NMOL/KG,,PERCNT,,ITS-90,,/MILLE,,/MILLE,,/MILLE,UMOL/KG,,/MILLE,,/MILLE,,NMOL/KG,NMOL/L,,,,METERS,,,KG/M^3,,G/KG,
33HQ20150809  ,ARC01      ,40      ,  1,3          ,    6276,    -999,GSNIS-3    ,2,20150912,2309,  86.6974,-149.2945,     3417,   3059.7,  -0.3390,  34.9540,2,  34.9543,2,    286.4,2,    286.7,2,    12.89,2,    14.45,2,     0.00,2,     1.01,2,    0.014,2,    0.003,2,    0.000,2,    0.000,2,   2151.2,2,   2300.3,2,   7.7339,2,    25.00,     45.0,2,     -999,9,     -999,9,     -999,9,  -0.3392,2,     -999,9,     -999,9,     -999,    17.01,2,     -999,9,     -999,9,     -999,     -999,9,20150912,2319,   3005.1,  86.6968,-149.2808,     -999,9,  35.1192,2
33HQ20150809  ,ARC01      ,40      ,  1,2          ,    6276,    -999,GSNIS-2    ,2,20150912,2309,  86.6974,-149.2945,     3417,   3265.2,  -0.3249,  34.9541,2,  34.9541,2,    287.2,2,    287.4,2,    12.70,2,    14.45,2,     0.00,2,     1.02,2,    0.013,2,    0.006,2,    0.000,2,    0.000,2,   2149.9,2,   2293.0,2,   7.7362,2,    25.00,     46.3,2,     -999,9,     -999,9,     -999,9,  -0.3250,2,     -999,9,     -999,9,     -999,    14.87,2,     -999,9,     -999,9,     -999,     -999,9,20150912,2314,   3205.4,  86.6971,-149.2877,     -999,9,  35.1190,2
33HQ20150809  ,ARC01      ,40      ,  1,1          ,    6276,    -999,GSNIS-1    ,2,20150912,2309,  86.6974,-149.2945,     3417,   3474.7,  -0.3088,  34.9539,2,  34.9541,2,    288.1,2,    288.0,2,    12.60,2,    14.46,2,     0.00,2,     1.01,2,    0.013,2,    0.003,2,    0.000,2,    0.000,2,   2150.2,6,   2300.8,6,   7.7350,2,    25.00,     42.7,2,     -999,9,     -999,9,     -999,9,  -0.3092,2,     -999,9,     -999,9,     -999,    15.48,2,     -999,9,     -999,9,     -999,     -999,9,20150912,2309,   3409.4,  86.6974,-149.2950,     -999,9,  35.1190,2