BOTTLE,20221220CCHSIOAMB
EXPOCODE,SECT_ID,STNNBR,CASTNO,SAMPNO,GEOTR_EVENT,GEOTR_SAMPNO,BTLNBR,BTLNBR_FLAG_W,DATE,TIME,LATITUDE,LONGITUDE,DEPTH,CTDPRS,CTDTMP,CTDSAL,CTDSAL_FLAG_W,SALNTY,SALNTY_FLAG_W,CTDOXY,CTDOXY_FLAG_W,OXYGEN,OXYGEN_FLAG_W,SILCAT,SILCAT_FLAG_W,NITRAT,NITRAT_FLAG_W,NITRIT,NITRIT_FLAG_W,PHSPHT,PHSPHT_FLAG_W,CFC-11,CFC-11_FLAG_W,CFC-12,CFC-12_FLAG_W,CFC113,CFC113_FLAG_W,SF6,SF6_FLAG_W,TCARBN,TCARBN_FLAG_W,ALKALI,ALKALI_FLAG_W,PH_SWS,PH_SWS_FLAG_W,PH_TMP,DOC,DOC_FLAG_W,TRITUM,TRITUM_FLAG_W,HELIUM,HELIUM_FLAG_W,DELHE3,DELHE3_FLAG_W,REFTMP,REFTMP_FLAG_W,DELC13,DELC13_FLAG_W,DELC14,DELC14_FLAG_W,C14ERR,TDN,TDN_FLAG_W,DELO18,DELO18_FLAG_W,DELO17,DELO17_FLAG_W,CH4,CH4,CH4_FLAG_W,BTL_DATE,BTL_TIME,CTDDEPTH,BTL_LAT,BTL_LON,LAB_DEN,LAB_DEN_FLAG_W,SALTREF,SALTREF_FLAG_W
,,,,,,,,,,,,,METERS,DBAR,ITS-90,PSS-78,,PSS-78,,UMOL/KG,,UMOL/KG,,UMOL/KG,,UMOL/KG,,UMOL/KG,,UMOL/KG,,PMOL/KG,,PMOL/KG,,PMOL/KG,,FMOL/KG,,UMOL/KG,,UMOL/KG,,,,DEG C,UMOL/KG,,TU,,NMOL/KG,,PERCNT,,ITS-90,,/MILLE,,/MILLE,,/MILLE,UMOL/KG,,/MILLE,,/MILLE,,NMOL/KG,NMOL/L,,,,METERS,,,KG/M^3,,G/KG,
33HQ20150809  ,ARC01      ,50      ,  1,36         ,    6390,    -999,GSNIS-36   ,2,20150926,0643,  78.7493,-147.9550,     3810,      3.9,  -1.4960,  27.7979,2,  27.7937,2,    383.6,2,    385.0,2,     2.85,2,     0.00,2,     0.00,2,     0.56,2,    7.081,2,    3.765,2,    0.653,2,    3.508,2,   1902.6,2,   1989.4,6,   7.6703,2,    25.00,     72.5,2,     -999,9,     -999,9,     -999,9,  -1.4959,2,     1.41,6,     -999,1,     -999,     4.85,2,     -999,1,     -999,9,     -999,     -999,9,20150926,0857,      3.9,  78.7734,-147.9599,     -999,9,  27.9248,2
33HQ20150809  ,ARC01      ,50      ,  1,35         ,    6390,    -999,GSNIS-35   ,2,20150926,0643,  78.7493,-147.9550,     3810,     16.1,  -1.4960,  27.8009,2,  28.1601,2,    386.7,2,    387.7,2,     2.85,2,     0.00,2,     0.00,2,     0.56,2,    7.011,2,    3.713,2,    0.637,2,    3.463,2,   1928.9,6,   2018.2,2,   7.6775,2,    25.00,     72.1,2,     -999,9,     -999,9,     -999,9,  -1.4947,2,     -999,9,     -999,9,     -999,     3.01,2,     -999,1,     -999,9,     -999,     -999,9,20150926,0856,     15.9,  78.7731,-147.9600,     -999,9,  28.2929,2
33HQ20150809  ,ARC01      ,50      ,  1,34         ,    6390,    -999,GSNIS-34   ,2,20150926,0643,  78.7493,-147.9550,     3810,     26.1,  -1.0848,  29.2314,2,  29.2911,2,    398.2,2,    394.1,2,     2.84,2,     0.00,2,     0.00,2,     0.59,2,     -999,9,     -999,9,     -999,9,     -999,9,   1996.8,2,   2090.8,2,   7.6946,6,    25.00,     75.1,2,     -999,9,     -999,9,     -999,9,  -1.0819,2,     -999,9,     -999,9,     -999,     4.90,2,     -999,1,     -999,9,     -999,     -999,9,20150926,0854,     25.8,  78.7729,-147.9600,     -999,9,  29.4293,2
33HQ20150809  ,ARC01      ,50      ,  1,33         ,    6390,    -999,GSNIS-33   ,2,20150926,0643,  78.7493,-147.9550,     3810,     43.9,  -1.0561,  30.1768,2,  30.2612,2,    390.8,2,    381.7,2,     4.22,2,     0.38,2,     0.07,2,     0.71,2,    6.799,2,    3.663,2,    0.586,2,    2.878,2,   2030.9,2,   2145.2,2,   7.7012,2,    25.00,     73.4,2,     -999,9,     -999,9,     -999,9,  -1.0539,2,     -999,9,     -999,9,     -999,     6.86,2,     -999,1,     -999,9,     -999,     -999,9,20150926,0852,     43.4,  78.7726,-147.9602,     -999,9,  30.4039,2
33HQ20150809  ,ARC01      ,50      ,  1,32         ,    6390,    -999,GSNIS-32   ,2,20150926,0643,  78.7493,-147.9550,     3810,     65.1,  -0.5471,  31.5252,2,  31.5526,2,    342.4,2,    339.1,2,    12.34,2,     5.23,2,     0.00,2,     1.11,2,     -999,9,     -999,9,     -999,9,     -999,9,   2087.4,2,   2193.8,2,     -999,5,     -999,     66.1,2,     -999,9,     -999,9,     -999,9,  -0.5492,2,     -999,9,     -999,9,     -999,     7.77,2,     -999,1,     -999,9,     -999,     -999,9,20150926,0850,     64.4,  78.7723,-147.9604,     -999,9,  31.7014,2
33HQ20150809  ,ARC01      ,50      ,  1,31         ,    6390,    -999,GSNIS-31   ,2,20150926,0643,  78.7493,-147.9550,     3810,     76.0,  -0.8606,  31.8143,2,  31.8687,2,    329.0,2,    324.4,2,    16.74,2,     7.83,2,     0.00,2,     1.30,2,    6.461,2,    3.448,2,    0.477,2,    2.519,2,   2116.4,2,   2203.4,2,   7.5977,2,    25.00,     63.7,2,     -999,9,     -999,9,     -999,9,  -0.8601,2,     -999,9,     -999,9,     -999,     8.25,2,     -999,1,     -999,9,     -999,     -999,9,20150926,0848,     75.2,  78.7720,-147.9606,     -999,9,  32.0190,2
33HQ20150809  ,ARC01      ,50      ,  1,30         ,    6390,    -999,GSNIS-30   ,2,20150926,0643,  78.7493,-147.9550,     3810,     85.6,  -1.0293,  32.0263,2,  32.0763,2,    312.6,2,    314.8,2,    19.29,2,     9.43,2,     0.00,2,     1.44,2,     -999,9,     -999,9,     -999,9,     -999,9,   2134.4,2,   2213.7,2,   7.5716,2,    25.00,     63.8,2,     -999,9,     -999,9,     -999,9,  -1.0305,2,     -999,9,     -999,9,     -999,    10.42,2,     -999,1,     -999,9,     -999,     -999,9,20150926,0846,     84.7,  78.7716,-147.9609,     -999,9,  32.2276,2
33HQ20150809  ,ARC01      ,50      ,  1,29         ,    6390,    -999,GSNIS-29   ,2,20150926,0643,  78.7493,-147.9550,     3810,     95.8,  -1.0439,  32.1625,2,  32.2548,2,    309.8,2,    308.6,2,    22.51,2,    10.87,2,     0.00,2,     1.55,2,    6.446,2,    3.448,2,    0.457,2,    2.280,2,   2152.4,2,   2222.8,2,   7.5429,2,    25.00,     60.8,2,     -999,9,     -999,9,     -999,9,  -1.0443,2,     -999,9,     -999,9,     -999,    11.94,2,     -999,1,     -999,9,     -999,     -999,9,20150926,0844,     94.8,  78.7714,-147.9610,     -999,9,  32.4069,2
33HQ20150809  ,ARC01      ,50      ,  1,28         ,    6390,    -999,GSNIS-28   ,2,20150926,0643,  78.7493,-147.9550,     3810,    107.3,  -1.2353,  32.3126,2,  32.3227,2,    308.6,2,    307.0,2,    24.18,2,    11.40,2,     0.00,2,     1.58,2,     -999,9,     -999,9,     -999,9,     -999,9,   2158.3,2,   2232.1,2,   7.5254,2,    25.00,     63.2,2,     -999,9,     -999,9,     -999,9,  -1.2333,2,     -999,9,     -999,9,     -999,    12.27,2,     -999,1,     -999,9,     -999,     -999,9,20150926,0843,    106.1,  78.7711,-147.9610,     -999,9,  32.4751,2
33HQ20150809  ,ARC01      ,50      ,  1,27         ,    6390,    -999,GSNIS-27   ,2,20150926,0643,  78.7493,-147.9550,     3810,    122.1,  -1.3065,  32.4619,2,  32.4625,2,    303.5,2,    301.7,2,    25.74,2,    12.19,2,     0.00,2,     1.62,2,    6.385,2,    3.366,2,    0.451,2,    2.209,2,   2171.2,2,   2238.3,2,   7.5095,2,    25.00,     62.6,2,     -999,9,     -999,9,     -999,9,  -1.3061,2,     -999,9,     -999,9,     -999,    14.07,2,     -999,1,     -999,9,     -999,     -999,9,20150926,0841,    120.8,  78.7708,-147.9610,     -999,9,  32.6155,2
33HQ20150809  ,ARC01      ,50      ,  1,26         ,    6390,    -999,GSNIS-26   ,2,20150926,0643,  78.7493,-147.9550,     3810,    136.6,  -1.3961,  32.6067,2,  32.6138,2,    297.1,2,    295.6,2,    29.26,2,    13.44,2,     0.00,2,     1.71,2,     -999,9,     -999,9,     -999,9,     -999,9,   2188.8,2,   2246.8,2,   7.4817,2,    25.00,     63.3,2,     -999,9,     -999,9,     -999,9,  -1.3958,2,     -999,9,     -999,9,     -999,    14.17,2,     -999,1,     -999,9,     -999,     -999,9,20150926,0838,    135.1,  78.7703,-147.9608,     -999,9,  32.7676,2
33HQ20150809  ,ARC01      ,50      ,  1,25         ,    6390,    -999,GSNIS-25   ,2,20150926,0643,  78.7493,-147.9550,     3810,    157.2,  -1.4303,  32.7837,2,  32.7834,2,    282.5,2,    284.1,2,    31.41,2,    14.60,2,     0.00,2,     1.79,2,    6.263,2,    3.356,2,    0.434,2,    2.051,2,   2204.6,2,   2252.0,2,   7.4513,2,    25.00,     60.4,2,     -999,9,     -999,9,     -999,9,  -1.4305,2,     -999,9,     -999,9,     -999,    15.05,2,     -999,1,     -999,9,     -999,     -999,9,20150926,0836,    155.5,  78.7699,-147.9607,     -999,9,  32.9380,2
33HQ20150809  ,ARC01      ,50      ,  1,24         ,    6390,    -999,GSNIS-24   ,2,20150926,0643,  78.7493,-147.9550,     3810,    177.3,  -1.4686,  32.9909,2,  32.9941,2,    275.6,2,    277.7,2,    34.73,2,    15.60,2,     0.00,2,     1.85,2,     -999,9,     -999,9,     -999,9,     -999,9,   2219.8,2,   2262.4,2,   7.4355,2,    25.00,     59.3,2,     -999,9,     -999,9,     -999,9,  -1.4682,2,     -999,9,     -999,9,     -999,    16.10,2,     -999,1,     -999,9,     -999,     -999,9,20150926,0834,    175.4,  78.7695,-147.9605,     -999,9,  33.1497,2
33HQ20150809  ,ARC01      ,50      ,  1,23         ,    6390,    -999,GSNIS-23   ,2,20150926,0643,  78.7493,-147.9550,     3810,    198.5,  -1.4213,  33.2355,2,  33.2311,2,    272.1,2,    272.3,2,    36.00,2,    15.84,2,     0.00,2,     1.84,2,    6.053,2,    3.211,2,    0.402,2,    1.870,2,   2231.6,2,   2272.6,2,   7.4287,2,    25.00,     61.7,2,     -999,9,     -999,9,     -999,9,  -1.4213,2,     -999,9,     -999,9,     -999,    16.06,2,     -999,9,     -999,9,     -999,     -999,9,20150926,0832,    196.3,  78.7692,-147.9604,     -999,9,  33.3878,2
33HQ20150809  ,ARC01      ,50      ,  1,22         ,    6390,    -999,GSNIS-22   ,2,20150926,0643,  78.7493,-147.9550,     3810,    219.5,  -1.2785,  33.5898,2,  33.6188,2,    266.3,2,    268.2,2,    30.02,2,    14.89,2,     0.00,2,     1.60,2,     -999,9,     -999,9,     -999,9,     -999,9,   2222.0,6,   2264.9,2,   7.4740,2,    25.00,     61.4,2,     -999,9,     -999,9,     -999,9,  -1.2765,2,     -999,9,     -999,9,     -999,    14.93,2,     -999,1,     -999,9,     -999,     -999,9,20150926,0830,    217.1,  78.7688,-147.9603,     -999,9,  33.7773,2
33HQ20150809  ,ARC01      ,50      ,  1,21         ,    6390,    -999,GSNIS-21   ,2,20150926,0643,  78.7493,-147.9550,     3810,    239.2,  -1.0000,  33.9896,2,  33.9991,2,    268.5,2,    268.7,2,    22.29,2,    13.49,2,     0.00,2,     1.29,2,    5.713,2,    2.838,2,    0.346,2,    1.248,2,   2203.0,2,   2281.8,6,   7.5322,2,    25.00,     58.5,2,     -999,9,     -999,9,     -999,9,  -0.9997,2,     -999,9,     -999,9,     -999,    13.18,2,     -999,9,     -999,9,     -999,     -999,9,20150926,0828,    236.6,  78.7684,-147.9604,     -999,9,  34.1594,2
33HQ20150809  ,ARC01      ,50      ,  1,20         ,    6390,    -999,GSNIS-20   ,2,20150926,0643,  78.7493,-147.9550,     3810,    289.9,  -0.0855,  34.5184,2,  34.5194,2,    278.2,2,    269.1,2,    14.07,2,    12.87,2,     0.00,2,     1.01,2,     -999,9,     -999,9,     -999,9,     -999,9,   2177.2,2,   2284.5,2,   7.6119,2,    25.00,     56.0,2,     -999,9,     -999,9,     -999,9,  -0.0868,2,     -999,9,     -999,9,     -999,    11.35,2,     -999,1,     -999,9,     -999,     -999,9,20150926,0825,    286.6,  78.7679,-147.9608,     -999,9,  34.6822,2
33HQ20150809  ,ARC01      ,50      ,  1,19         ,    6390,    -999,GSNIS-19   ,2,20150926,0643,  78.7493,-147.9550,     3810,    339.4,   0.4916,  34.7185,2,  34.7127,2,    280.3,2,    281.0,2,     9.38,2,    12.56,2,     0.00,2,     0.88,2,    5.476,2,    2.675,2,    0.359,2,    1.092,2,   2163.6,2,   2287.8,2,   7.6627,2,    25.00,     52.1,2,     -999,9,     -999,9,     -999,9,   0.4909,2,     -999,9,     -999,9,     -999,    12.66,2,     -999,9,     -999,9,     -999,     -999,9,20150926,0822,    335.6,  78.7672,-147.9610,     -999,9,  34.8764,2
33HQ20150809  ,ARC01      ,50      ,  1,18         ,    6390,    -999,GSNIS-18   ,2,20150926,0643,  78.7493,-147.9550,     3810,    390.4,   0.7130,  34.7949,2,  34.7947,2,    291.3,2,    291.2,2,     6.74,2,    12.33,2,     0.00,2,     0.84,2,     -999,9,     -999,9,     -999,9,     -999,9,   2153.9,2,   2288.5,2,   7.6969,2,    25.00,     52.6,2,     -999,9,     -999,9,     -999,9,   0.7128,2,     -999,9,     -999,9,     -999,    11.99,2,     -999,1,     -999,9,     -999,     -999,9,20150926,0820,    385.9,  78.7668,-147.9609,     -999,9,  34.9588,2
33HQ20150809  ,ARC01      ,50      ,  1,17         ,    6390,    -999,GSNIS-17   ,2,20150926,0643,  78.7493,-147.9550,     3810,    443.2,   0.8109,  34.8278,2,  34.8263,2,    291.6,2,    293.3,2,     6.45,2,    12.29,2,     0.00,2,     0.83,2,    5.318,2,    2.586,2,    0.355,2,    0.998,2,   2153.8,2,   2289.2,2,   7.7019,2,    25.00,     50.6,2,     -999,9,     -999,9,     -999,9,   0.8111,2,     -999,9,     -999,9,     -999,    13.91,2,     -999,9,     -999,9,     -999,     -999,9,20150926,0817,    438.0,  78.7664,-147.9607,     -999,9,  34.9906,2
33HQ20150809  ,ARC01      ,50      ,  1,16         ,    6390,    -999,GSNIS-16   ,2,20150926,0643,  78.7493,-147.9550,     3810,    492.4,   0.8209,  34.8379,2,  34.8362,2,    293.6,2,    294.4,2,     6.55,2,    12.44,2,     0.00,2,     0.83,2,     -999,9,     -999,9,     -999,9,     -999,9,   2151.6,2,   2293.5,2,   7.7069,2,    25.00,     52.0,2,     -999,9,     -999,9,     -999,9,   0.8212,2,     -999,9,     -999,9,     -999,    13.14,2,     -999,1,     -999,9,     -999,     -999,9,20150926,0815,    486.6,  78.7659,-147.9604,     -999,9,  35.0004,2
33HQ20150809  ,ARC01      ,50      ,  1,15         ,    6390,    -999,GSNIS-15   ,2,20150926,0643,  78.7493,-147.9550,     3810,    594.7,   0.6685,  34.8541,2,  34.8517,2,    297.1,2,    296.9,2,     6.55,2,    12.44,2,     0.00,2,     0.83,2,    4.861,2,    2.339,2,    0.299,2,    0.834,2,   2155.0,2,   2293.8,2,   7.7063,2,    25.00,     49.4,2,     -999,9,     -999,9,     -999,9,   0.6682,2,     -999,9,     -999,9,     -999,    13.80,2,     -999,9,     -999,9,     -999,     -999,9,20150926,0811,    587.6,  78.7651,-147.9603,     -999,9,  35.0160,2
33HQ20150809  ,ARC01      ,50      ,  1,14         ,    6390,    -999,GSNIS-14   ,2,20150926,0643,  78.7493,-147.9550,     3810,    742.2,   0.3903,  34.8625,2,  34.8609,2,    297.8,2,    298.7,2,     6.55,2,    12.45,2,     0.00,2,     0.84,2,    4.243,2,    2.034,2,    0.246,2,    0.703,2,   2154.5,2,   2294.6,2,   7.7034,2,    25.00,     51.1,2,     -999,9,     -999,9,     -999,9,   0.3910,2,     -999,9,     -999,9,     -999,    12.61,2,     -999,9,     -999,9,     -999,     -999,9,20150926,0805,    733.1,  78.7639,-147.9603,     -999,9,  35.0253,2
33HQ20150809  ,ARC01      ,50      ,  1,13         ,    6390,    -999,GSNIS-13   ,2,20150926,0643,  78.7493,-147.9550,     3810,    900.8,   0.1399,  34.8693,2,  34.8688,2,    298.1,2,    299.5,2,     6.74,2,    12.54,2,     0.00,2,     0.86,2,    3.578,2,    1.660,2,    0.189,2,    0.503,2,   2153.3,2,   2252.9,4,   7.7064,2,    25.00,     50.2,2,     -999,9,     -999,9,     -999,9,   0.1402,2,     -999,9,     -999,9,     -999,    12.13,2,     -999,9,     -999,9,     -999,     -999,9,20150926,0758,    889.4,  78.7626,-147.9600,     -999,9,  35.0332,2
33HQ20150809  ,ARC01      ,50      ,  1,12         ,    6390,    -999,GSNIS-12   ,2,20150926,0643,  78.7493,-147.9550,     3810,   1025.1,   0.0046,  34.8772,2,  34.8763,2,    301.3,2,    300.4,2,     6.94,2,    12.62,2,     0.00,2,     0.86,2,    3.107,2,    1.444,2,    0.159,2,    0.391,2,   2153.7,2,   2293.5,2,   7.7102,2,    25.00,     50.8,2,     -999,9,     -999,9,     -999,9,   0.0054,2,     -999,9,     -999,9,     -999,    14.34,2,     -999,9,     -999,9,     -999,     -999,9,20150926,0752,   1011.8,  78.7616,-147.9601,     -999,9,  35.0407,2
33HQ20150809  ,ARC01      ,50      ,  1,11         ,    6390,    -999,GSNIS-11   ,2,20150926,0643,  78.7493,-147.9550,     3810,   1176.5,  -0.1199,  34.8869,2,  34.8869,2,    301.6,2,    300.1,2,     7.33,2,    12.74,2,     0.00,2,     0.88,2,    2.759,2,    1.320,2,    0.143,2,    0.376,2,   2154.8,2,   2295.9,2,   7.7126,2,    25.00,     51.2,2,     -999,9,     -999,9,     -999,9,  -0.1196,2,     -999,9,     -999,9,     -999,    12.98,2,     -999,9,     -999,9,     -999,     -999,9,20150926,0748,   1160.8,  78.7609,-147.9600,     -999,9,  35.0514,2
33HQ20150809  ,ARC01      ,50      ,  1,10         ,    6390,    -999,GSNIS-10   ,2,20150926,0643,  78.7493,-147.9550,     3810,   1372.8,  -0.2196,  34.9011,2,  34.8985,2,    299.0,2,    299.4,2,     7.82,2,    12.99,2,     0.00,2,     0.90,2,    1.694,2,    0.815,2,    0.077,2,    0.178,2,   2151.8,2,   2299.2,2,   7.7201,2,    25.00,     49.9,2,     -999,9,     -999,9,     -999,9,  -0.2194,2,     -999,9,     -999,9,     -999,    12.51,2,     -999,9,     -999,9,     -999,     -999,9,20150926,0743,   1353.9,  78.7599,-147.9600,     -999,9,  35.0631,2
33HQ20150809  ,ARC01      ,50      ,  1,9          ,    6390,    -999,GSNIS-9    ,2,20150926,0643,  78.7493,-147.9550,     3810,   1618.3,  -0.3163,  34.9180,2,  34.9174,2,    297.7,2,    297.7,2,     8.79,2,    13.40,2,     0.00,2,     0.92,2,    0.755,2,    0.350,2,    0.024,2,    0.047,2,   2148.0,2,   2298.1,2,   7.7294,2,    25.00,     48.0,2,     -999,9,     -999,9,     -999,9,  -0.3160,2,     -999,9,     -999,9,     -999,    13.29,2,     -999,9,     -999,9,     -999,     -999,9,20150926,0735,   1595.1,  78.7584,-147.9599,     -999,9,  35.0820,2
33HQ20150809  ,ARC01      ,50      ,  1,8          ,    6390,    -999,GSNIS-8    ,2,20150926,0643,  78.7493,-147.9550,     3810,   1917.6,  -0.3924,  34.9355,2,  34.9343,2,    294.1,2,    294.0,2,    10.26,2,    13.96,2,     0.00,2,     0.96,2,    0.292,2,    0.128,2,    0.008,2,    0.000,2,   2146.4,2,   2303.3,2,   7.7350,2,    25.00,     46.4,2,     -999,9,     -999,9,     -999,9,  -0.3924,2,     -999,9,     -999,9,     -999,    14.02,2,     -999,9,     -999,9,     -999,     -999,9,20150926,0728,   1888.8,  78.7571,-147.9593,     -999,9,  35.0990,2
33HQ20150809  ,ARC01      ,50      ,  1,7          ,    6390,    -999,GSNIS-7    ,2,20150926,0643,  78.7493,-147.9550,     3810,   2214.0,  -0.4007,  34.9466,2,  34.9451,2,    290.9,2,    290.1,2,    11.62,2,    14.28,2,     0.00,2,     0.99,2,    0.130,2,    0.064,2,    0.005,2,    0.002,2,   2147.5,2,   2299.5,2,   7.7362,2,    25.00,     46.7,2,     -999,9,     -999,9,     -999,9,  -0.4005,2,     -999,9,     -999,9,     -999,    15.53,2,     -999,9,     -999,9,     -999,     -999,9,20150926,0718,   2179.1,  78.7556,-147.9579,     -999,9,  35.1099,2
33HQ20150809  ,ARC01      ,50      ,  1,6          ,    6390,    -999,GSNIS-6    ,2,20150926,0643,  78.7493,-147.9550,     3810,   2518.9,  -0.3827,  34.9526,2,  34.9518,2,    287.9,2,    288.0,2,    12.41,2,    14.46,2,     0.00,2,     1.01,2,    0.038,2,    0.012,2,    0.001,2,    0.002,2,   2148.1,2,   2302.3,2,   7.7340,2,    25.00,     46.9,2,     -999,9,     -999,9,     -999,9,  -0.3826,2,     -999,9,     -999,9,     -999,    14.52,2,     -999,9,     -999,9,     -999,     -999,9,20150926,0713,   2477.5,  78.7544,-147.9582,     -999,9,  35.1166,2
33HQ20150809  ,ARC01      ,50      ,  1,5          ,    6390,    -999,GSNIS-5    ,2,20150926,0643,  78.7493,-147.9550,     3810,   2826.6,  -0.3475,  34.9568,2,  34.9549,2,    285.7,2,    285.0,2,    13.38,2,    14.53,2,     0.00,2,     1.01,2,    0.017,2,    0.004,2,    0.002,2,    0.000,2,   2152.0,2,   2302.0,2,   7.7314,2,    25.00,     44.6,2,     -999,9,     -999,9,     -999,9,  -0.3473,2,     -999,9,     -999,9,     -999,    14.02,2,     -999,9,     -999,9,     -999,     -999,9,20150926,0706,   2778.1,  78.7531,-147.9586,     -999,9,  35.1198,2
33HQ20150809  ,ARC01      ,50      ,  1,4          ,    6390,    -999,GSNIS-4    ,2,20150926,0643,  78.7493,-147.9550,     3810,   3098.1,  -0.3241,  34.9567,2,  34.9547,2,    285.0,2,    285.6,2,    13.38,2,    14.53,2,     0.00,2,     1.01,2,    0.018,2,    0.009,2,    0.000,2,    0.000,2,   2153.0,2,   2306.2,2,   7.7308,2,    25.00,     44.6,2,     -999,9,     -999,9,     -999,9,  -0.3241,2,     -999,9,     -999,9,     -999,    15.06,2,     -999,9,     -999,9,     -999,     -999,9,20150926,0700,   3043.1,  78.7522,-147.9581,     -999,9,  35.1196,2