BOTTLE,20221220CCHSIOAMB
EXPOCODE,SECT_ID,STNNBR,CASTNO,SAMPNO,GEOTR_EVENT,GEOTR_SAMPNO,BTLNBR,BTLNBR_FLAG_W,DATE,TIME,LATITUDE,LONGITUDE,DEPTH,CTDPRS,CTDTMP,CTDSAL,CTDSAL_FLAG_W,SALNTY,SALNTY_FLAG_W,CTDOXY,CTDOXY_FLAG_W,OXYGEN,OXYGEN_FLAG_W,SILCAT,SILCAT_FLAG_W,NITRAT,NITRAT_FLAG_W,NITRIT,NITRIT_FLAG_W,PHSPHT,PHSPHT_FLAG_W,CFC-11,CFC-11_FLAG_W,CFC-12,CFC-12_FLAG_W,CFC113,CFC113_FLAG_W,SF6,SF6_FLAG_W,TCARBN,TCARBN_FLAG_W,ALKALI,ALKALI_FLAG_W,PH_SWS,PH_SWS_FLAG_W,PH_TMP,DOC,DOC_FLAG_W,TRITUM,TRITUM_FLAG_W,HELIUM,HELIUM_FLAG_W,DELHE3,DELHE3_FLAG_W,REFTMP,REFTMP_FLAG_W,DELC13,DELC13_FLAG_W,DELC14,DELC14_FLAG_W,C14ERR,TDN,TDN_FLAG_W,DELO18,DELO18_FLAG_W,DELO17,DELO17_FLAG_W,CH4,CH4,CH4_FLAG_W,BTL_DATE,BTL_TIME,CTDDEPTH,BTL_LAT,BTL_LON,LAB_DEN,LAB_DEN_FLAG_W,SALTREF,SALTREF_FLAG_W
,,,,,,,,,,,,,METERS,DBAR,ITS-90,PSS-78,,PSS-78,,UMOL/KG,,UMOL/KG,,UMOL/KG,,UMOL/KG,,UMOL/KG,,UMOL/KG,,PMOL/KG,,PMOL/KG,,PMOL/KG,,FMOL/KG,,UMOL/KG,,UMOL/KG,,,,DEG C,UMOL/KG,,TU,,NMOL/KG,,PERCNT,,ITS-90,,/MILLE,,/MILLE,,/MILLE,UMOL/KG,,/MILLE,,/MILLE,,NMOL/KG,NMOL/L,,,,METERS,,,KG/M^3,,G/KG,
33HQ20150809  ,ARC01      ,27      ,  1,3          ,    6163,    -999,GSNIS-3    ,2,20150829,1734,  84.8190, 170.6886,     3335,   2845.1,  -0.3539,  34.9537,2,  34.9551,2,    287.5,2,    287.2,2,    12.69,2,    14.37,2,     0.01,2,     1.00,2,    0.026,2,    0.016,2,    0.000,2,    0.000,2,   2159.9,2,   2299.6,2,   7.7340,2,    25.00,     46.9,2,     -999,9,     -999,9,     -999,9,     -999,9,     -999,9,     -999,9,     -999,    15.74,2,     -999,9,     -999,9,     -999,     -999,9,20150829,1744,   2795.8,  84.8188, 170.6833,     -999,9,  35.1199,2
33HQ20150809  ,ARC01      ,27      ,  1,2          ,    6163,    -999,GSNIS-2    ,2,20150829,1734,  84.8190, 170.6886,     3335,   3054.5,  -0.3399,  34.9540,2,  34.9555,2,    287.1,2,    288.7,2,    12.69,2,    14.35,2,     0.01,2,     1.01,2,    0.026,2,    0.014,2,    0.000,2,    0.000,2,     -999,9,   2298.8,6,   7.7342,2,    25.00,     46.3,2,     -999,9,     -999,9,     -999,9,     -999,9,     -999,9,     -999,9,     -999,    17.87,2,     -999,9,     -999,9,     -999,     -999,9,20150829,1740,   3000.1,  84.8189, 170.6857,     -999,9,  35.1203,2
33HQ20150809  ,ARC01      ,27      ,  1,1          ,    6163,    -999,GSNIS-1    ,2,20150829,1734,  84.8190, 170.6886,     3335,   3163.6,  -0.3321,  34.9550,2,  34.9553,2,    287.3,2,    287.0,2,    12.69,2,    14.34,2,     0.00,2,     0.99,2,    0.088,2,    0.052,2,    0.003,2,    0.000,2,   2152.7,6,   2297.6,2,   7.7432,2,    25.00,     46.0,2,     -999,9,     -999,9,     -999,9,     -999,9,     -999,9,     -999,9,     -999,    16.19,2,     -999,9,     -999,9,     -999,     -999,9,20150829,1735,   3106.5,  84.8190, 170.6879,     -999,9,  35.1201,2