BOTTLE,20221220CCHSIOAMB
EXPOCODE,SECT_ID,STNNBR,CASTNO,SAMPNO,GEOTR_EVENT,GEOTR_SAMPNO,BTLNBR,BTLNBR_FLAG_W,DATE,TIME,LATITUDE,LONGITUDE,DEPTH,CTDPRS,CTDTMP,CTDSAL,CTDSAL_FLAG_W,SALNTY,SALNTY_FLAG_W,CTDOXY,CTDOXY_FLAG_W,OXYGEN,OXYGEN_FLAG_W,SILCAT,SILCAT_FLAG_W,NITRAT,NITRAT_FLAG_W,NITRIT,NITRIT_FLAG_W,PHSPHT,PHSPHT_FLAG_W,CFC-11,CFC-11_FLAG_W,CFC-12,CFC-12_FLAG_W,CFC113,CFC113_FLAG_W,SF6,SF6_FLAG_W,TCARBN,TCARBN_FLAG_W,ALKALI,ALKALI_FLAG_W,PH_SWS,PH_SWS_FLAG_W,PH_TMP,DOC,DOC_FLAG_W,TRITUM,TRITUM_FLAG_W,HELIUM,HELIUM_FLAG_W,DELHE3,DELHE3_FLAG_W,REFTMP,REFTMP_FLAG_W,DELC13,DELC13_FLAG_W,DELC14,DELC14_FLAG_W,C14ERR,TDN,TDN_FLAG_W,DELO18,DELO18_FLAG_W,DELO17,DELO17_FLAG_W,CH4,CH4,CH4_FLAG_W,BTL_DATE,BTL_TIME,CTDDEPTH,BTL_LAT,BTL_LON,LAB_DEN,LAB_DEN_FLAG_W,SALTREF,SALTREF_FLAG_W
,,,,,,,,,,,,,METERS,DBAR,ITS-90,PSS-78,,PSS-78,,UMOL/KG,,UMOL/KG,,UMOL/KG,,UMOL/KG,,UMOL/KG,,UMOL/KG,,PMOL/KG,,PMOL/KG,,PMOL/KG,,FMOL/KG,,UMOL/KG,,UMOL/KG,,,,DEG C,UMOL/KG,,TU,,NMOL/KG,,PERCNT,,ITS-90,,/MILLE,,/MILLE,,/MILLE,UMOL/KG,,/MILLE,,/MILLE,,NMOL/KG,NMOL/L,,,,METERS,,,KG/M^3,,G/KG,
33HQ20150809  ,ARC01      ,21      ,  1,28         ,    6137,    -999,GSNIS-28   ,2,20150825,1226,  80.6578,-179.8934,     1480,      3.8,  -1.4436,  27.7476,2,  27.7488,2,    381.0,2,    384.3,2,     2.55,2,     0.00,2,     0.00,2,     0.59,2,    6.871,2,    3.668,2,    0.659,2,    3.597,2,   1878.0,2,   1965.9,6,   7.7054,2,    25.00,     63.8,2,     -999,9,     -999,9,     -999,9,  -1.4434,2,     1.52,6,     -999,1,     -999,     3.85,2,     -999,1,     -999,9,     -999,     -999,9,20150825,1331,      3.8,  80.6609,-179.9318,     -999,9,  27.8796,2
33HQ20150809  ,ARC01      ,21      ,  1,27         ,    6137,    -999,GSNIS-27   ,2,20150825,1226,  80.6578,-179.8934,     1480,     13.9,  -1.4410,  27.7516,2,  28.0071,2,    382.4,2,    389.8,2,     2.26,2,     0.00,2,     0.00,2,     0.58,2,    6.852,2,    3.678,2,    0.654,2,    3.607,2,   1900.0,2,   1988.0,2,   7.7252,2,    25.00,     66.8,2,     -999,9,     -999,9,     -999,9,  -1.4377,2,     -999,9,     -999,9,     -999,     3.02,2,     -999,1,     -999,9,     -999,     -999,9,20150825,1329,     13.8,  80.6608,-179.9306,     -999,9,  28.1391,2
33HQ20150809  ,ARC01      ,21      ,  1,26         ,    6137,    -999,GSNIS-26   ,2,20150825,1226,  80.6578,-179.8934,     1480,     24.3,  -1.1384,  30.0247,2,  30.1758,2,    405.0,2,    402.9,2,     2.35,2,     0.00,2,     0.00,2,     0.65,2,     -999,9,     -999,9,     -999,9,     -999,9,     -999,9,   2131.0,2,   7.7486,2,    25.00,     69.4,2,     -999,9,     -999,9,     -999,9,  -1.1411,2,     -999,9,     -999,9,     -999,     3.73,2,     -999,1,     -999,9,     -999,     -999,9,20150825,1327,     24.1,  80.6607,-179.9297,     -999,9,  30.3181,2
33HQ20150809  ,ARC01      ,21      ,  1,25         ,    6137,    -999,GSNIS-25   ,2,20150825,1226,  80.6578,-179.8934,     1480,     44.8,  -1.3417,  31.1390,2,  31.2562,2,    398.1,2,    386.2,2,     6.27,2,     0.99,2,     0.05,2,     0.79,2,    6.644,2,    3.622,2,    0.607,2,    3.382,2,     -999,9,   2185.1,2,   7.7066,2,    25.00,     66.4,2,     -999,9,     -999,9,     -999,9,  -1.3389,2,     -999,9,     -999,9,     -999,     4.29,2,     -999,1,     -999,9,     -999,     -999,9,20150825,1325,     44.3,  80.6606,-179.9285,     -999,9,  31.4036,2
33HQ20150809  ,ARC01      ,21      ,  1,24         ,    6137,    -999,GSNIS-24   ,2,20150825,1226,  80.6578,-179.8934,     1480,     65.4,  -1.4303,  31.8493,2,  31.9121,2,    338.7,2,    332.9,2,    19.19,2,     8.03,2,     0.02,2,     1.28,2,     -999,9,     -999,9,     -999,9,     -999,9,   2128.7,2,   2205.0,2,   7.5795,2,    25.00,     64.7,2,     -999,9,     -999,9,     -999,9,  -1.4305,2,     -999,9,     -999,9,     -999,    10.53,2,     -999,1,     -999,9,     -999,     -999,9,20150825,1324,     64.7,  80.6605,-179.9275,     -999,9,  32.0625,2
33HQ20150809  ,ARC01      ,21      ,  1,23         ,    6137,    -999,GSNIS-23   ,2,20150825,1226,  80.6578,-179.8934,     1480,     75.7,  -1.4231,  32.0405,2,  32.1424,4,    320.6,2,    317.0,2,    26.33,2,    10.50,2,     0.02,2,     1.48,2,    6.371,2,    3.494,2,    0.550,2,    3.243,2,     -999,9,   2216.1,2,   7.5172,2,    25.00,     65.4,2,     -999,9,     -999,9,     -999,9,  -1.4261,2,     -999,9,     -999,9,     -999,    13.13,2,     -999,1,     -999,9,     -999,     -999,9,20150825,1322,     74.8,  80.6604,-179.9266,     -999,9,  32.2940,4
33HQ20150809  ,ARC01      ,21      ,  1,22         ,    6137,    -999,GSNIS-22   ,2,20150825,1226,  80.6578,-179.8934,     1480,     86.0,  -1.5000,  32.2083,2,  32.2324,2,    310.8,2,    312.7,2,    29.26,2,    11.44,2,     0.02,2,     1.56,2,     -999,9,     -999,9,     -999,9,     -999,9,     -999,9,   2219.7,2,   7.4983,2,    25.00,     67.6,2,     -999,9,     -999,9,     -999,9,  -1.5001,2,     -999,9,     -999,9,     -999,    13.52,2,     -999,1,     -999,9,     -999,     -999,9,20150825,1320,     85.0,  80.6603,-179.9256,     -999,9,  32.3844,2
33HQ20150809  ,ARC01      ,21      ,  1,21         ,    6137,    -999,GSNIS-21   ,2,20150825,1226,  80.6578,-179.8934,     1480,     96.1,  -1.5703,  32.3288,2,  32.3435,2,    305.6,2,    309.6,2,    32.30,2,    12.28,2,     0.02,2,     1.63,2,    6.313,2,    3.480,2,    0.531,2,    3.256,2,   2176.2,2,   2222.4,2,   7.4751,2,    25.00,     62.8,2,     -999,9,     -999,9,     -999,9,  -1.5699,2,     -999,9,     -999,9,     -999,    13.87,2,     -999,1,     -999,9,     -999,     -999,9,20150825,1319,     95.1,  80.6603,-179.9247,     -999,9,  32.4961,2
33HQ20150809  ,ARC01      ,21      ,  1,20         ,    6137,    -999,GSNIS-20   ,2,20150825,1226,  80.6578,-179.8934,     1480,    104.5,  -1.5379,  32.4503,2,  32.4905,2,    300.9,2,    299.0,2,    33.27,2,    13.37,2,     0.02,2,     1.71,2,     -999,9,     -999,9,     -999,9,     -999,9,     -999,9,   2231.3,2,   7.4554,2,    25.00,     63.3,2,     -999,9,     -999,9,     -999,9,  -1.5384,2,     -999,9,     -999,9,     -999,    15.19,2,     -999,1,     -999,9,     -999,     -999,9,20150825,1318,    103.3,  80.6602,-179.9239,     -999,9,  32.6437,2
33HQ20150809  ,ARC01      ,21      ,  1,19         ,    6137,    -999,GSNIS-19   ,2,20150825,1226,  80.6578,-179.8934,     1480,    119.8,  -1.5440,  32.6636,2,  32.6785,2,    284.4,2,    282.2,2,    38.35,2,    14.73,2,     0.02,2,     1.86,2,    6.161,2,    3.387,2,    0.509,2,    2.985,2,     -999,9,   2236.6,2,   7.4046,2,    25.00,     63.0,2,     -999,9,     -999,9,     -999,9,  -1.5433,2,     -999,9,     -999,9,     -999,    16.74,2,     -999,1,     -999,9,     -999,     -999,9,20150825,1316,    118.5,  80.6601,-179.9229,     -999,9,  32.8326,2
33HQ20150809  ,ARC01      ,21      ,  1,18         ,    6137,    -999,GSNIS-18   ,2,20150825,1226,  80.6578,-179.8934,     1480,    135.3,  -1.4828,  33.0243,2,  33.0989,2,    271.7,2,    272.4,2,    36.58,2,    15.27,2,     0.00,2,     1.82,2,     -999,9,     -999,9,     -999,9,     -999,9,   2230.4,2,   2262.8,2,   7.4278,2,    25.00,     60.7,2,     -999,9,     -999,9,     -999,9,  -1.4832,2,     -999,9,     -999,9,     -999,    17.44,2,     -999,1,     -999,9,     -999,     -999,9,20150825,1314,    133.8,  80.6600,-179.9219,     -999,9,  33.2550,2
33HQ20150809  ,ARC01      ,21      ,  1,17         ,    6137,    -999,GSNIS-17   ,2,20150825,1226,  80.6578,-179.8934,     1480,    161.1,  -1.0239,  33.8788,2,  33.9188,2,    258.7,2,    259.2,2,    26.78,2,    13.79,2,     0.00,2,     1.41,2,    5.779,2,    2.877,2,    0.368,2,    1.759,2,   2225.7,6,   2280.5,2,   7.4918,2,    25.00,     58.9,2,     -999,9,     -999,9,     -999,9,  -1.0262,2,     -999,9,     -999,9,     -999,    16.84,2,     -999,1,     -999,9,     -999,     -999,9,20150825,1312,    159.3,  80.6599,-179.9206,     -999,9,  34.0788,2
33HQ20150809  ,ARC01      ,21      ,  1,16         ,    6137,    -999,GSNIS-16   ,2,20150825,1226,  80.6578,-179.8934,     1480,    176.6,  -0.8025,  34.1998,2,  34.2289,2,    262.2,2,    270.5,2,    18.67,2,    11.95,2,     0.00,2,     1.09,2,     -999,9,     -999,9,     -999,9,     -999,9,   2207.3,2,   2280.4,6,   7.5525,6,    25.00,     59.4,2,     -999,9,     -999,9,     -999,9,  -0.8005,2,     -999,9,     -999,9,     -999,    12.70,2,     -999,1,     -999,9,     -999,     -999,9,20150825,1310,    174.6,  80.6598,-179.9196,     -999,9,  34.3903,2
33HQ20150809  ,ARC01      ,21      ,  1,15         ,    6137,    -999,GSNIS-15   ,2,20150825,1226,  80.6578,-179.8934,     1480,    197.1,  -0.8043,  34.3916,2,  34.4221,2,    287.0,2,    290.0,2,    10.06,2,     9.99,2,     0.00,2,     0.82,2,    5.991,2,    3.132,2,    0.444,2,    2.262,2,     -999,9,   2281.6,2,   7.6055,2,    25.00,     61.6,2,     -999,9,     -999,9,     -999,9,  -0.8047,2,     -999,9,     -999,9,     -999,    11.65,2,     -999,1,     -999,9,     -999,     -999,9,20150825,1308,    194.9,  80.6597,-179.9185,     -999,9,  34.5844,2
33HQ20150809  ,ARC01      ,21      ,  1,14         ,    6137,    -999,GSNIS-14   ,2,20150825,1226,  80.6578,-179.8934,     1480,    217.7,  -0.4430,  34.5023,2,  34.5014,2,    292.3,2,    292.4,2,     8.70,2,    10.45,2,     0.00,2,     0.78,2,     -999,9,     -999,9,     -999,9,     -999,9,   2180.9,2,   2283.4,2,   7.6227,2,    25.00,     58.0,2,     -999,9,     -999,9,     -999,9,  -0.4484,2,     -999,9,     -999,9,     -999,    11.83,2,     -999,1,     -999,9,     -999,     -999,9,20150825,1306,    215.3,  80.6596,-179.9174,     -999,9,  34.6641,2
33HQ20150809  ,ARC01      ,21      ,  1,13         ,    6137,    -999,GSNIS-13   ,2,20150825,1226,  80.6578,-179.8934,     1480,    238.4,  -0.0696,  34.5977,2,  34.6020,2,    291.3,2,    292.2,2,     8.11,2,    10.62,2,     0.00,2,     0.79,2,    5.849,2,    3.057,2,    0.417,2,    2.172,2,     -999,9,   2285.2,2,   7.6358,2,    25.00,     59.1,2,     -999,9,     -999,9,     -999,9,  -0.0688,2,     -999,9,     -999,9,     -999,    12.12,2,     -999,1,     -999,9,     -999,     -999,9,20150825,1304,    235.7,  80.6595,-179.9162,     -999,9,  34.7651,2
33HQ20150809  ,ARC01      ,21      ,  1,12         ,    6137,    -999,GSNIS-12   ,2,20150825,1226,  80.6578,-179.8934,     1480,    304.5,   0.8064,  34.8128,2,  34.8140,2,    298.0,2,    297.6,2,     5.18,2,    11.55,2,     0.00,2,     0.80,2,     -999,9,     -999,9,     -999,9,     -999,9,     -999,9,   2292.7,2,   7.6892,2,    25.00,     52.7,2,     -999,9,     -999,9,     -999,9,   0.8062,2,     -999,9,     -999,9,     -999,    12.80,2,     -999,1,     -999,9,     -999,     -999,9,20150825,1302,    301.0,  80.6594,-179.9146,     -999,9,  34.9782,2
33HQ20150809  ,ARC01      ,21      ,  1,11         ,    6137,    -999,GSNIS-11   ,2,20150825,1226,  80.6578,-179.8934,     1480,    336.2,   0.8097,  34.8140,2,  34.8187,2,    296.6,2,    296.9,2,     5.28,2,    11.61,2,     0.00,2,     0.79,2,    5.466,2,    2.825,2,    0.412,2,    1.991,2,   2164.0,2,   2293.1,2,   7.6879,2,    25.00,     55.0,2,     -999,9,     -999,9,     -999,9,   0.8095,2,     -999,9,     -999,9,     -999,    13.45,2,     -999,1,     -999,9,     -999,     -999,9,20150825,1300,    332.4,  80.6593,-179.9135,     -999,9,  34.9829,2
33HQ20150809  ,ARC01      ,21      ,  1,10         ,    6137,    -999,GSNIS-10   ,2,20150825,1226,  80.6578,-179.8934,     1480,    388.2,   0.9466,  34.8506,2,  34.8417,4,    298.8,2,    299.8,2,     5.18,2,    11.66,2,     0.00,2,     0.79,2,    5.391,2,    2.796,2,    0.403,2,    2.004,2,     -999,9,   2296.7,2,   7.6926,2,    25.00,     52.2,2,     -999,9,     -999,9,     -999,9,   0.9463,2,     -999,9,     -999,9,     -999,    13.75,2,     -999,1,     -999,9,     -999,     -999,9,20150825,1258,    383.7,  80.6592,-179.9122,     -999,9,  35.0060,4
33HQ20150809  ,ARC01      ,21      ,  1,9          ,    6137,    -999,GSNIS-9    ,2,20150825,1226,  80.6578,-179.8934,     1480,    439.4,   0.9463,  34.8722,2,  34.8704,2,    300.7,2,    301.5,2,     5.18,2,    11.73,2,     0.00,2,     0.78,2,    5.358,2,    2.709,2,    0.400,2,    1.954,2,     -999,9,   2293.6,2,   7.6899,2,    25.00,     53.2,2,     -999,9,     -999,9,     -999,9,   0.9466,2,     -999,9,     -999,9,     -999,    13.52,2,     -999,1,     -999,9,     -999,     -999,9,20150825,1255,    434.3,  80.6590,-179.9108,     -999,9,  35.0349,2
33HQ20150809  ,ARC01      ,21      ,  1,8          ,    6137,    -999,GSNIS-8    ,2,20150825,1226,  80.6578,-179.8934,     1480,    490.4,   0.7945,  34.8737,2,  34.8763,2,    301.7,2,    302.8,2,     5.18,2,    11.93,2,     0.00,2,     0.80,2,    5.359,2,    2.766,2,    0.400,2,    2.062,2,   2169.9,2,   2293.5,2,   7.6882,2,    25.00,     54.4,2,     -999,9,     -999,9,     -999,9,   0.7945,2,     -999,9,     -999,9,     -999,    13.42,2,     -999,1,     -999,9,     -999,     -999,9,20150825,1253,    484.7,  80.6589,-179.9096,     -999,9,  35.0408,2
33HQ20150809  ,ARC01      ,21      ,  1,7          ,    6137,    -999,GSNIS-7    ,2,20150825,1226,  80.6578,-179.8934,     1480,    539.5,   0.6885,  34.8788,2,  34.8860,4,    301.9,2,    303.4,2,     5.18,2,    11.65,2,     0.00,2,     0.79,2,    5.365,2,    2.789,2,    0.396,2,    2.067,2,     -999,9,   2294.6,2,   7.6839,2,    25.00,     55.0,2,     -999,9,     -999,9,     -999,9,   0.6885,2,     -999,9,     -999,9,     -999,    13.32,2,     -999,1,     -999,9,     -999,     -999,9,20150825,1250,    533.0,  80.6588,-179.9080,     -999,9,  35.0505,4
33HQ20150809  ,ARC01      ,21      ,  1,6          ,    6137,    -999,GSNIS-6    ,2,20150825,1226,  80.6578,-179.8934,     1480,    606.3,   0.5578,  34.8830,2,  34.8773,4,    302.3,2,    304.5,2,     5.27,2,    11.62,2,     0.00,2,     0.80,2,    5.323,2,    2.766,2,    0.399,2,    2.064,2,     -999,9,   2297.0,2,   7.6813,2,    25.00,     -999,9,     -999,9,     -999,9,     -999,9,   0.5577,2,     -999,9,     -999,9,     -999,    14.31,2,     -999,9,     -999,9,     -999,     -999,9,20150825,1248,    599.0,  80.6587,-179.9066,     -999,9,  35.0417,4
33HQ20150809  ,ARC01      ,21      ,  1,5          ,    6137,    -999,GSNIS-5    ,2,20150825,1226,  80.6578,-179.8934,     1480,    709.5,   0.4388,  34.8924,2,  34.8889,2,    303.3,2,    304.8,2,     5.27,2,    11.57,2,     0.00,2,     0.80,2,    5.330,2,    2.770,2,    0.400,2,    2.043,2,   2178.3,2,   2298.4,2,   7.6735,2,    25.00,     54.2,2,     -999,9,     -999,9,     -999,9,   0.4404,2,     -999,9,     -999,9,     -999,    15.03,2,     -999,9,     -999,9,     -999,     -999,9,20150825,1245,    700.7,  80.6586,-179.9048,     -999,9,  35.0534,2
33HQ20150809  ,ARC01      ,21      ,  1,4          ,    6137,    -999,GSNIS-4    ,2,20150825,1226,  80.6578,-179.8934,     1480,    859.0,   0.2999,  34.9020,2,  34.8997,2,    304.2,2,    305.5,2,     5.37,2,    11.54,2,     0.00,2,     0.79,2,    5.279,2,    2.758,2,    0.405,2,    2.159,2,     -999,9,   2299.6,2,   7.6709,2,    25.00,     56.1,2,     -999,9,     -999,9,     -999,9,   0.3000,2,     -999,9,     -999,9,     -999,    14.69,2,     -999,9,     -999,9,     -999,     -999,9,20150825,1241,    848.1,  80.6584,-179.9024,     -999,9,  35.0643,2
33HQ20150809  ,ARC01      ,21      ,  1,3          ,    6137,    -999,GSNIS-3    ,2,20150825,1226,  80.6578,-179.8934,     1480,   1011.3,   0.1804,  34.9081,2,  34.9072,2,    304.3,2,    306.8,2,     5.67,2,    11.65,2,     0.00,2,     0.82,2,    5.274,2,    2.802,2,    0.407,2,    2.075,2,     -999,9,   2294.3,2,   7.6645,6,    25.00,     52.7,2,     -999,9,     -999,9,     -999,9,   0.1805,2,     -999,9,     -999,9,     -999,    14.89,2,     -999,9,     -999,9,     -999,     -999,9,20150825,1237,    998.1,  80.6582,-179.9000,     -999,9,  35.0718,2
33HQ20150809  ,ARC01      ,21      ,  1,2          ,    6137,    -999,GSNIS-2    ,2,20150825,1226,  80.6578,-179.8934,     1480,   1217.5,  -0.0740,  34.9047,2,  34.9052,2,    304.7,2,    305.3,2,     6.15,2,    12.05,2,     0.00,2,     0.83,2,    4.869,2,    2.526,2,    0.367,2,    1.725,2,   2177.6,6,   2300.2,2,   7.6739,2,    25.00,     54.0,2,     -999,9,     -999,9,     -999,9,  -0.0744,2,     -999,9,     -999,9,     -999,    14.32,2,     -999,9,     -999,9,     -999,     -999,9,20150825,1231,   1201.0,  80.6580,-179.8968,     -999,9,  35.0698,2
33HQ20150809  ,ARC01      ,21      ,  1,1          ,    6137,    -999,GSNIS-1    ,2,20150825,1226,  80.6578,-179.8934,     1480,   1492.7,  -0.3635,  34.9069,2,  34.9044,2,    304.3,2,    304.0,2,     7.42,2,    12.73,2,     0.00,2,     0.89,2,    3.825,2,    1.960,2,    0.283,2,    1.603,2,   2175.2,2,   2297.6,6,   7.7028,2,    25.00,     51.0,2,     -999,9,     -999,9,     -999,9,  -0.3641,2,     -999,9,     -999,9,     -999,    13.94,2,     -999,9,     -999,9,     -999,     -999,9,20150825,1224,   1471.6,  80.6577,-179.8925,     -999,9,  35.0690,2