BOTTLE,20221220CCHSIOAMB
EXPOCODE,SECT_ID,STNNBR,CASTNO,SAMPNO,GEOTR_EVENT,GEOTR_SAMPNO,BTLNBR,BTLNBR_FLAG_W,DATE,TIME,LATITUDE,LONGITUDE,DEPTH,CTDPRS,CTDTMP,CTDSAL,CTDSAL_FLAG_W,SALNTY,SALNTY_FLAG_W,CTDOXY,CTDOXY_FLAG_W,OXYGEN,OXYGEN_FLAG_W,SILCAT,SILCAT_FLAG_W,NITRAT,NITRAT_FLAG_W,NITRIT,NITRIT_FLAG_W,PHSPHT,PHSPHT_FLAG_W,CFC-11,CFC-11_FLAG_W,CFC-12,CFC-12_FLAG_W,CFC113,CFC113_FLAG_W,SF6,SF6_FLAG_W,TCARBN,TCARBN_FLAG_W,ALKALI,ALKALI_FLAG_W,PH_SWS,PH_SWS_FLAG_W,PH_TMP,DOC,DOC_FLAG_W,TRITUM,TRITUM_FLAG_W,HELIUM,HELIUM_FLAG_W,DELHE3,DELHE3_FLAG_W,REFTMP,REFTMP_FLAG_W,DELC13,DELC13_FLAG_W,DELC14,DELC14_FLAG_W,C14ERR,TDN,TDN_FLAG_W,DELO18,DELO18_FLAG_W,DELO17,DELO17_FLAG_W,CH4,CH4,CH4_FLAG_W,BTL_DATE,BTL_TIME,CTDDEPTH,BTL_LAT,BTL_LON,LAB_DEN,LAB_DEN_FLAG_W,SALTREF,SALTREF_FLAG_W
,,,,,,,,,,,,,METERS,DBAR,ITS-90,PSS-78,,PSS-78,,UMOL/KG,,UMOL/KG,,UMOL/KG,,UMOL/KG,,UMOL/KG,,UMOL/KG,,PMOL/KG,,PMOL/KG,,PMOL/KG,,FMOL/KG,,UMOL/KG,,UMOL/KG,,,,DEG C,UMOL/KG,,TU,,NMOL/KG,,PERCNT,,ITS-90,,/MILLE,,/MILLE,,/MILLE,UMOL/KG,,/MILLE,,/MILLE,,NMOL/KG,NMOL/L,,,,METERS,,,KG/M^3,,G/KG,
33HQ20150809  ,ARC01      ,34      ,  1,36         ,    6234,   11344,GSNIS-36   ,2,20150908,0416,  89.9466, -96.8591,     4221,    101.2,  -1.7451,  33.5922,2,     -999,9,    370.4,2,     -999,9,     4.40,2,     5.02,2,     0.00,2,     0.50,2,     -999,9,     -999,9,     -999,9,     -999,9,     -999,9,     -999,9,     -999,9,     -999,     -999,9,     -999,9,     -999,9,     -999,9,  -1.7495,2,     -999,9,     -999,9,     -999,     -999,9,     -999,9,     -999,9,     -999,     -999,9,20150908,0549,    100.1,  89.9396,-100.3554,     -999,9,     -999,9
33HQ20150809  ,ARC01      ,34      ,  1,35         ,    6234,   11344,GSNIS-35   ,2,20150908,0416,  89.9466, -96.8591,     4221,    101.2,  -1.7516,  33.5935,2,  33.6846,2,    370.4,3,    343.8,2,     4.20,2,     4.63,2,     0.00,2,     0.48,2,     -999,9,     -999,9,     -999,9,     -999,9,     -999,9,     -999,9,     -999,9,     -999,     -999,9,     -999,9,     -999,9,     -999,9,  -1.7085,2,     -999,9,     -999,9,     -999,     -999,9,     -999,9,     -999,9,     -999,     -999,9,20150908,0549,    100.1,  89.9397,-100.3517,     -999,9,  33.8434,2
33HQ20150809  ,ARC01      ,34      ,  1,33         ,    6234,   11343,GSNIS-33   ,2,20150908,0416,  89.9466, -96.8591,     4221,    506.1,   0.8337,  34.8901,2,  34.8902,2,    303.1,2,    303.4,2,     5.37,2,    11.89,2,     0.00,2,     0.82,2,     -999,9,     -999,9,     -999,9,     -999,9,     -999,9,     -999,9,     -999,9,     -999,     -999,9,     -999,9,     -999,9,     -999,9,   0.8334,2,     -999,9,     -999,9,     -999,     -999,9,     -999,9,     -999,9,     -999,     -999,9,20150908,0540,    500.1,  89.9403,-100.0313,     -999,9,  35.0547,2
33HQ20150809  ,ARC01      ,34      ,  1,34         ,    6234,   11343,GSNIS-34   ,2,20150908,0416,  89.9466, -96.8591,     4221,    506.2,   0.8332,  34.8901,2,     -999,9,    303.1,3,     -999,9,     5.37,2,    11.87,2,     0.00,2,     0.82,2,     -999,9,     -999,9,     -999,9,     -999,9,     -999,9,     -999,9,     -999,9,     -999,     -999,9,     -999,9,     -999,9,     -999,9,   0.8333,2,     -999,9,     -999,9,     -999,     -999,9,     -999,9,     -999,9,     -999,     -999,9,20150908,0540,    500.1,  89.9403,-100.0381,     -999,9,     -999,9
33HQ20150809  ,ARC01      ,34      ,  1,29         ,    6234,   11342,GSNIS-29   ,2,20150908,0416,  89.9466, -96.8591,     4221,   1318.5,  -0.3297,  34.9138,2,  34.9138,2,    303.3,2,    303.6,2,     7.72,2,    12.93,2,     0.00,2,     0.91,2,     -999,9,     -999,9,     -999,9,     -999,9,     -999,9,     -999,9,     -999,9,     -999,     -999,9,     -999,9,     -999,9,     -999,9,  -0.3298,2,     -999,9,     -999,9,     -999,     -999,9,     -999,9,     -999,9,     -999,     -999,9,20150908,0525,   1300.2,  89.9415, -99.4506,     -999,9,  35.0784,2
33HQ20150809  ,ARC01      ,34      ,  1,30         ,    6234,   11342,GSNIS-30   ,2,20150908,0416,  89.9466, -96.8591,     4221,   1318.5,  -0.3296,  34.9138,2,     -999,9,    303.3,2,     -999,9,     7.62,2,    12.93,2,     0.00,2,     0.90,2,     -999,9,     -999,9,     -999,9,     -999,9,     -999,9,     -999,9,     -999,9,     -999,     -999,9,     -999,9,     -999,9,     -999,9,  -0.3295,2,     -999,9,     -999,9,     -999,     -999,9,     -999,9,     -999,9,     -999,     -999,9,20150908,0525,   1300.2,  89.9414, -99.4566,     -999,9,     -999,9
33HQ20150809  ,ARC01      ,34      ,  1,31         ,    6234,   11342,GSNIS-31   ,2,20150908,0416,  89.9466, -96.8591,     4221,   1318.5,  -0.3289,  34.9139,2,     -999,9,    303.3,2,     -999,9,     7.72,2,    12.92,2,     0.00,2,     0.90,2,     -999,9,     -999,9,     -999,9,     -999,9,     -999,9,     -999,9,     -999,9,     -999,     -999,9,     -999,9,     -999,9,     -999,9,  -0.3291,2,     -999,9,     -999,9,     -999,     -999,9,     -999,9,     -999,9,     -999,     -999,9,20150908,0525,   1300.3,  89.9414, -99.4624,     -999,9,     -999,9
33HQ20150809  ,ARC01      ,34      ,  1,32         ,    6234,   11342,GSNIS-32   ,2,20150908,0416,  89.9466, -96.8591,     4221,   1318.6,  -0.3284,  34.9139,2,     -999,9,    303.3,2,     -999,9,     7.72,2,    12.92,2,     0.00,2,     0.91,2,     -999,9,     -999,9,     -999,9,     -999,9,     -999,9,     -999,9,     -999,9,     -999,     -999,9,     -999,9,     -999,9,     -999,9,  -0.3286,2,     -999,9,     -999,9,     -999,     -999,9,     -999,9,     -999,9,     -999,     -999,9,20150908,0525,   1300.3,  89.9414, -99.4689,     -999,9,     -999,9
33HQ20150809  ,ARC01      ,34      ,  1,27         ,    6234,   11341,GSNIS-27   ,2,20150908,0416,  89.9466, -96.8591,     4221,   1929.5,  -0.5612,  34.9264,2,     -999,9,    299.8,2,     -999,9,    10.65,2,    14.16,2,     0.00,2,     0.99,2,     -999,9,     -999,9,     -999,9,     -999,9,     -999,9,     -999,9,     -999,9,     -999,     -999,9,     -999,9,     -999,9,     -999,9,  -0.5601,2,     -999,9,     -999,9,     -999,     -999,9,     -999,9,     -999,9,     -999,     -999,9,20150908,0512,   1900.0,  89.9424, -98.9764,     -999,9,     -999,9
33HQ20150809  ,ARC01      ,34      ,  1,25         ,    6234,   11341,GSNIS-25   ,2,20150908,0416,  89.9466, -96.8591,     4221,   1929.5,  -0.5601,  34.9266,2,  34.9266,2,    299.8,2,    295.9,2,    10.74,2,    14.19,2,     0.00,2,     0.99,2,     -999,9,     -999,9,     -999,9,     -999,9,     -999,9,     -999,9,     -999,9,     -999,     -999,9,     -999,9,     -999,9,     -999,9,  -0.5603,2,     -999,9,     -999,9,     -999,     -999,9,     -999,9,     -999,9,     -999,     -999,9,20150908,0511,   1900.0,  89.9424, -98.9614,     -999,9,  35.0913,2
33HQ20150809  ,ARC01      ,34      ,  1,26         ,    6234,   11341,GSNIS-26   ,2,20150908,0416,  89.9466, -96.8591,     4221,   1929.5,  -0.5601,  34.9266,2,     -999,9,    299.8,2,     -999,9,    10.65,2,    14.18,2,     0.00,2,     0.99,2,     -999,9,     -999,9,     -999,9,     -999,9,     -999,9,     -999,9,     -999,9,     -999,     -999,9,     -999,9,     -999,9,     -999,9,  -0.5600,2,     -999,9,     -999,9,     -999,     -999,9,     -999,9,     -999,9,     -999,     -999,9,20150908,0512,   1900.0,  89.9424, -98.9687,     -999,9,     -999,9
33HQ20150809  ,ARC01      ,34      ,  1,28         ,    6234,   11341,GSNIS-28   ,2,20150908,0416,  89.9466, -96.8591,     4221,   1929.6,  -0.5611,  34.9264,2,     -999,9,    299.8,2,     -999,9,    10.74,2,    14.15,2,     0.00,2,     0.97,2,     -999,9,     -999,9,     -999,9,     -999,9,     -999,9,     -999,9,     -999,9,     -999,     -999,9,     -999,9,     -999,9,     -999,9,  -0.5612,2,     -999,9,     -999,9,     -999,     -999,9,     -999,9,     -999,9,     -999,     -999,9,20150908,0512,   1900.1,  89.9424, -98.9824,     -999,9,     -999,9
33HQ20150809  ,ARC01      ,34      ,  1,21         ,    6234,   11340,GSNIS-21   ,2,20150908,0416,  89.9466, -96.8591,     4221,   2388.8,  -0.7109,  34.9232,2,  34.9237,2,    299.5,2,    298.5,2,    10.65,2,    14.35,2,     0.00,2,     0.99,2,     -999,9,     -999,9,     -999,9,     -999,9,     -999,9,     -999,9,     -999,9,     -999,     -999,9,     -999,9,     -999,9,     -999,9,  -0.7108,2,     -999,9,     -999,9,     -999,     -999,9,     -999,9,     -999,9,     -999,     -999,9,20150908,0501,   2349.8,  89.9432, -98.5801,     -999,9,  35.0883,2
33HQ20150809  ,ARC01      ,34      ,  1,24         ,    6234,   11340,GSNIS-24   ,2,20150908,0416,  89.9466, -96.8591,     4221,   2388.9,  -0.7109,  34.9231,2,     -999,9,    299.4,2,     -999,9,    10.65,2,    14.40,2,     0.00,2,     0.99,2,     -999,9,     -999,9,     -999,9,     -999,9,     -999,9,     -999,9,     -999,9,     -999,     -999,9,     -999,9,     -999,9,     -999,9,  -0.7108,2,     -999,9,     -999,9,     -999,     -999,9,     -999,9,     -999,9,     -999,     -999,9,20150908,0502,   2349.9,  89.9432, -98.5998,     -999,9,     -999,9
33HQ20150809  ,ARC01      ,34      ,  1,22         ,    6234,   11340,GSNIS-22   ,2,20150908,0416,  89.9466, -96.8591,     4221,   2388.9,  -0.7109,  34.9232,2,     -999,9,    299.4,2,     -999,9,    10.65,2,    14.37,2,     0.00,2,     0.99,2,     -999,9,     -999,9,     -999,9,     -999,9,     -999,9,     -999,9,     -999,9,     -999,     -999,9,     -999,9,     -999,9,     -999,9,  -0.7108,2,     -999,9,     -999,9,     -999,     -999,9,     -999,9,     -999,9,     -999,     -999,9,20150908,0501,   2349.8,  89.9432, -98.5864,     -999,9,     -999,9
33HQ20150809  ,ARC01      ,34      ,  1,23         ,    6234,   11340,GSNIS-23   ,2,20150908,0416,  89.9466, -96.8591,     4221,   2388.9,  -0.7109,  34.9232,2,     -999,9,    299.4,2,     -999,9,    10.65,2,    14.37,2,     0.00,2,     0.98,2,     -999,9,     -999,9,     -999,9,     -999,9,     -999,9,     -999,9,     -999,9,     -999,     -999,9,     -999,9,     -999,9,     -999,9,  -0.7109,2,     -999,9,     -999,9,     -999,     -999,9,     -999,9,     -999,9,     -999,     -999,9,20150908,0502,   2349.9,  89.9432, -98.5931,     -999,9,     -999,9
33HQ20150809  ,ARC01      ,34      ,  1,18         ,    6234,   11339,GSNIS-18   ,2,20150908,0416,  89.9466, -96.8591,     4221,   2849.1,  -0.7385,  34.9287,2,     -999,9,    298.1,2,     -999,9,    10.94,2,    14.47,2,     0.00,2,     1.01,2,     -999,9,     -999,9,     -999,9,     -999,9,     -999,9,     -999,9,     -999,9,     -999,     -999,9,     -999,9,     -999,9,     -999,9,  -0.7385,2,     -999,9,     -999,9,     -999,     -999,9,     -999,9,     -999,9,     -999,     -999,9,20150908,0452,   2799.6,  89.9439, -98.2101,     -999,9,     -999,9
33HQ20150809  ,ARC01      ,34      ,  1,19         ,    6234,   11339,GSNIS-19   ,2,20150908,0416,  89.9466, -96.8591,     4221,   2849.1,  -0.7385,  34.9287,2,     -999,9,    298.1,2,     -999,9,    10.94,2,    14.46,2,     0.00,2,     1.00,2,     -999,9,     -999,9,     -999,9,     -999,9,     -999,9,     -999,9,     -999,9,     -999,     -999,9,     -999,9,     -999,9,     -999,9,  -0.7384,2,     -999,9,     -999,9,     -999,     -999,9,     -999,9,     -999,9,     -999,     -999,9,20150908,0452,   2799.6,  89.9439, -98.2170,     -999,9,     -999,9
33HQ20150809  ,ARC01      ,34      ,  1,17         ,    6234,   11339,GSNIS-17   ,2,20150908,0416,  89.9466, -96.8591,     4221,   2849.1,  -0.7385,  34.9287,2,  34.9284,2,    298.1,2,    298.3,2,    10.94,2,    14.46,2,     0.00,2,     1.01,2,     -999,9,     -999,9,     -999,9,     -999,9,     -999,9,     -999,9,     -999,9,     -999,     -999,9,     -999,9,     -999,9,     -999,9,  -0.7384,2,     -999,9,     -999,9,     -999,     -999,9,     -999,9,     -999,9,     -999,     -999,9,20150908,0451,   2799.6,  89.9439, -98.2026,     -999,9,  35.0931,2
33HQ20150809  ,ARC01      ,34      ,  1,20         ,    6234,   11339,GSNIS-20   ,2,20150908,0416,  89.9466, -96.8591,     4221,   2849.2,  -0.7386,  34.9288,2,     -999,9,    298.1,2,     -999,9,    10.94,2,    14.44,2,     0.00,2,     1.00,2,     -999,9,     -999,9,     -999,9,     -999,9,     -999,9,     -999,9,     -999,9,     -999,     -999,9,     -999,9,     -999,9,     -999,9,  -0.7384,2,     -999,9,     -999,9,     -999,     -999,9,     -999,9,     -999,9,     -999,     -999,9,20150908,0452,   2799.6,  89.9439, -98.2231,     -999,9,     -999,9
33HQ20150809  ,ARC01      ,34      ,  1,13         ,    6234,   11338,GSNIS-13   ,2,20150908,0416,  89.9466, -96.8591,     4221,   3285.7,  -0.7285,  34.9339,2,  34.9327,2,    297.3,2,    298.1,2,    11.13,2,    14.48,2,     0.00,2,     1.00,2,     -999,9,     -999,9,     -999,9,     -999,9,     -999,9,     -999,9,     -999,9,     -999,     -999,9,     -999,9,     -999,9,     -999,9,  -0.7284,2,     -999,9,     -999,9,     -999,     -999,9,     -999,9,     -999,9,     -999,     -999,9,20150908,0441,   3225.3,  89.9447, -97.8100,     -999,9,  35.0974,2
33HQ20150809  ,ARC01      ,34      ,  1,14         ,    6234,   11338,GSNIS-14   ,2,20150908,0416,  89.9466, -96.8591,     4221,   3285.7,  -0.7285,  34.9338,2,     -999,9,    297.3,2,     -999,9,    11.13,2,    14.49,2,     0.00,2,     1.01,2,     -999,9,     -999,9,     -999,9,     -999,9,     -999,9,     -999,9,     -999,9,     -999,     -999,9,     -999,9,     -999,9,     -999,9,  -0.7284,2,     -999,9,     -999,9,     -999,     -999,9,     -999,9,     -999,9,     -999,     -999,9,20150908,0441,   3225.3,  89.9447, -97.8153,     -999,9,     -999,9
33HQ20150809  ,ARC01      ,34      ,  1,15         ,    6234,   11338,GSNIS-15   ,2,20150908,0416,  89.9466, -96.8591,     4221,   3285.7,  -0.7286,  34.9338,2,     -999,9,    297.3,2,     -999,9,    11.04,2,    14.45,2,     0.00,2,     1.00,2,     -999,9,     -999,9,     -999,9,     -999,9,     -999,9,     -999,9,     -999,9,     -999,     -999,9,     -999,9,     -999,9,     -999,9,  -0.7284,2,     -999,9,     -999,9,     -999,     -999,9,     -999,9,     -999,9,     -999,     -999,9,20150908,0441,   3225.3,  89.9447, -97.8225,     -999,9,     -999,9
33HQ20150809  ,ARC01      ,34      ,  1,16         ,    6234,   11338,GSNIS-16   ,2,20150908,0416,  89.9466, -96.8591,     4221,   3285.7,  -0.7286,  34.9338,2,     -999,9,    297.3,2,     -999,9,    11.13,2,    14.48,2,     0.00,2,     1.01,2,     -999,9,     -999,9,     -999,9,     -999,9,     -999,9,     -999,9,     -999,9,     -999,     -999,9,     -999,9,     -999,9,     -999,9,  -0.7286,2,     -999,9,     -999,9,     -999,     -999,9,     -999,9,     -999,9,     -999,     -999,9,20150908,0442,   3225.3,  89.9447, -97.8307,     -999,9,     -999,9
33HQ20150809  ,ARC01      ,34      ,  1,12         ,    6234,   11337,GSNIS-12   ,2,20150908,0416,  89.9466, -96.8591,     4221,   3722.3,  -0.7012,  34.9388,2,     -999,9,    297.0,2,     -999,9,    11.23,2,    14.46,2,     0.00,2,     1.01,2,     -999,9,     -999,9,     -999,9,     -999,9,     -999,9,     -999,9,     -999,9,     -999,     -999,9,     -999,9,     -999,9,     -999,9,  -0.7011,2,     -999,9,     -999,9,     -999,     -999,9,     -999,9,     -999,9,     -999,     -999,9,20150908,0432,   3650.3,  89.9454, -97.4558,     -999,9,     -999,9
33HQ20150809  ,ARC01      ,34      ,  1,9          ,    6234,   11337,GSNIS-9    ,2,20150908,0416,  89.9466, -96.8591,     4221,   3722.3,  -0.7011,  34.9388,2,  34.9376,2,    297.0,2,    297.1,2,    11.23,2,    14.46,2,     0.00,2,     1.02,2,     -999,9,     -999,9,     -999,9,     -999,9,     -999,9,     -999,9,     -999,9,     -999,     -999,9,     -999,9,     -999,9,     -999,9,  -0.7011,2,     -999,9,     -999,9,     -999,     -999,9,     -999,9,     -999,9,     -999,     -999,9,20150908,0431,   3650.2,  89.9454, -97.4371,     -999,9,  35.1024,2
33HQ20150809  ,ARC01      ,34      ,  1,10         ,    6234,   11337,GSNIS-10   ,2,20150908,0416,  89.9466, -96.8591,     4221,   3722.3,  -0.7011,  34.9388,2,     -999,9,    297.0,2,     -999,9,    11.23,2,    14.46,2,     0.00,2,     1.00,2,     -999,9,     -999,9,     -999,9,     -999,9,     -999,9,     -999,9,     -999,9,     -999,     -999,9,     -999,9,     -999,9,     -999,9,  -0.7011,2,     -999,9,     -999,9,     -999,     -999,9,     -999,9,     -999,9,     -999,     -999,9,20150908,0431,   3650.2,  89.9454, -97.4431,     -999,9,     -999,9
33HQ20150809  ,ARC01      ,34      ,  1,11         ,    6234,   11337,GSNIS-11   ,2,20150908,0416,  89.9466, -96.8591,     4221,   3722.3,  -0.7011,  34.9388,2,     -999,9,    297.0,2,     -999,9,    11.23,2,    14.45,2,     0.00,2,     1.01,2,     -999,9,     -999,9,     -999,9,     -999,9,     -999,9,     -999,9,     -999,9,     -999,     -999,9,     -999,9,     -999,9,     -999,9,  -0.7011,2,     -999,9,     -999,9,     -999,     -999,9,     -999,9,     -999,9,     -999,     -999,9,20150908,0432,   3650.2,  89.9454, -97.4495,     -999,9,     -999,9
33HQ20150809  ,ARC01      ,34      ,  1,1          ,    6234,   11335,GSNIS-1    ,2,20150908,0416,  89.9466, -96.8591,     4221,   4247.5,  -0.6487,  34.9420,2,  34.9422,2,    297.4,2,    297.7,2,    11.23,2,    14.44,2,     0.00,2,     1.01,2,     -999,9,     -999,9,     -999,9,     -999,9,     -999,9,     -999,9,     -999,9,     -999,     -999,9,     -999,9,     -999,9,     -999,9,  -0.6486,2,     -999,9,     -999,9,     -999,     -999,9,     -999,9,     -999,9,     -999,     -999,9,20150908,0411,   4160.3,  89.9469, -96.6875,     -999,9,  35.1070,2
33HQ20150809  ,ARC01      ,34      ,  1,2          ,    6234,   11335,GSNIS-2    ,2,20150908,0416,  89.9466, -96.8591,     4221,   4247.5,  -0.6487,  34.9420,2,     -999,9,    297.4,2,     -999,9,    11.23,2,    14.43,2,     0.00,2,     1.01,2,     -999,9,     -999,9,     -999,9,     -999,9,     -999,9,     -999,9,     -999,9,     -999,     -999,9,     -999,9,     -999,9,     -999,9,  -0.6486,2,     -999,9,     -999,9,     -999,     -999,9,     -999,9,     -999,9,     -999,     -999,9,20150908,0412,   4160.3,  89.9469, -96.6928,     -999,9,     -999,9
33HQ20150809  ,ARC01      ,34      ,  1,3          ,    6234,   11335,GSNIS-3    ,2,20150908,0416,  89.9466, -96.8591,     4221,   4247.5,  -0.6487,  34.9420,2,     -999,9,    297.4,2,     -999,9,    11.23,2,    14.42,2,     0.00,2,     1.01,2,     -999,9,     -999,9,     -999,9,     -999,9,     -999,9,     -999,9,     -999,9,     -999,     -999,9,     -999,9,     -999,9,     -999,9,  -0.6486,2,     -999,9,     -999,9,     -999,     -999,9,     -999,9,     -999,9,     -999,     -999,9,20150908,0412,   4160.3,  89.9469, -96.7005,     -999,9,     -999,9
33HQ20150809  ,ARC01      ,34      ,  1,4          ,    6234,   11335,GSNIS-4    ,2,20150908,0416,  89.9466, -96.8591,     4221,   4247.5,  -0.6487,  34.9420,2,     -999,9,    297.4,2,     -999,9,    11.23,2,    14.42,2,     0.00,2,     1.00,2,     -999,9,     -999,9,     -999,9,     -999,9,     -999,9,     -999,9,     -999,9,     -999,     -999,9,     -999,9,     -999,9,     -999,9,  -0.6487,2,     -999,9,     -999,9,     -999,     -999,9,     -999,9,     -999,9,     -999,     -999,9,20150908,0412,   4160.3,  89.9469, -96.7075,     -999,9,     -999,9
33HQ20150809  ,ARC01      ,34      ,  1,5          ,    6234,   11336,GSNIS-5    ,2,20150908,0416,  89.9466, -96.8591,     4221,   4288.5,  -0.6436,  34.9420,2,  34.9424,2,    297.1,2,    297.1,2,    11.23,2,    14.40,2,     0.00,2,     1.01,2,     -999,9,     -999,9,     -999,9,     -999,9,     -999,9,     -999,9,     -999,9,     -999,     -999,9,     -999,9,     -999,9,     -999,9,  -0.6438,2,     -999,9,     -999,9,     -999,     -999,9,     -999,9,     -999,9,     -999,     -999,9,20150908,0417,   4200.1,  89.9465, -96.8998,     -999,9,  35.1071,2