BOTTLE,20221220CCHSIOAMB
EXPOCODE,SECT_ID,STNNBR,CASTNO,SAMPNO,GEOTR_EVENT,GEOTR_SAMPNO,BTLNBR,BTLNBR_FLAG_W,DATE,TIME,LATITUDE,LONGITUDE,DEPTH,CTDPRS,CTDTMP,CTDSAL,CTDSAL_FLAG_W,SALNTY,SALNTY_FLAG_W,CTDOXY,CTDOXY_FLAG_W,OXYGEN,OXYGEN_FLAG_W,SILCAT,SILCAT_FLAG_W,NITRAT,NITRAT_FLAG_W,NITRIT,NITRIT_FLAG_W,PHSPHT,PHSPHT_FLAG_W,CFC-11,CFC-11_FLAG_W,CFC-12,CFC-12_FLAG_W,CFC113,CFC113_FLAG_W,SF6,SF6_FLAG_W,TCARBN,TCARBN_FLAG_W,ALKALI,ALKALI_FLAG_W,PH_SWS,PH_SWS_FLAG_W,PH_TMP,DOC,DOC_FLAG_W,TRITUM,TRITUM_FLAG_W,HELIUM,HELIUM_FLAG_W,DELHE3,DELHE3_FLAG_W,REFTMP,REFTMP_FLAG_W,DELC13,DELC13_FLAG_W,DELC14,DELC14_FLAG_W,C14ERR,TDN,TDN_FLAG_W,DELO18,DELO18_FLAG_W,DELO17,DELO17_FLAG_W,CH4,CH4,CH4_FLAG_W,BTL_DATE,BTL_TIME,CTDDEPTH,BTL_LAT,BTL_LON,LAB_DEN,LAB_DEN_FLAG_W,SALTREF,SALTREF_FLAG_W
,,,,,,,,,,,,,METERS,DBAR,ITS-90,PSS-78,,PSS-78,,UMOL/KG,,UMOL/KG,,UMOL/KG,,UMOL/KG,,UMOL/KG,,UMOL/KG,,PMOL/KG,,PMOL/KG,,PMOL/KG,,FMOL/KG,,UMOL/KG,,UMOL/KG,,,,DEG C,UMOL/KG,,TU,,NMOL/KG,,PERCNT,,ITS-90,,/MILLE,,/MILLE,,/MILLE,UMOL/KG,,/MILLE,,/MILLE,,NMOL/KG,NMOL/L,,,,METERS,,,KG/M^3,,G/KG,
33HQ20150809  ,ARC01      ,43      ,  9,34         ,    6305,   11602,GSNIS-34   ,2,20150916,0837,  85.1405,-149.8725,     2190,    505.9,   0.5686,  34.8615,2,  34.8615,2,    296.3,2,    298.0,2,     6.74,2,    12.22,2,     0.00,2,     0.84,2,    4.317,2,    2.096,2,    0.261,2,    0.891,2,   2155.8,2,   2291.5,2,   7.7073,2,    25.00,     52.4,2,     -999,1,     -999,1,     -999,1,   0.5697,2,     0.86,2,     -999,1,     -999,    16.30,2,     -999,1,     -999,9,     -999,     -999,1,20150916,0925,    499.9,  85.1405,-149.8725,     -999,9,  35.0259,2
33HQ20150809  ,ARC01      ,43      ,  9,35         ,    6305,   11602,GSNIS-35   ,2,20150916,0837,  85.1405,-149.8725,     2190,    505.9,   0.5685,  34.8614,2,     -999,9,    296.3,2,     -999,9,     6.74,2,    12.24,2,     0.00,2,     0.84,2,     -999,9,     -999,9,     -999,9,     -999,9,     -999,9,     -999,9,     -999,9,     -999,     -999,9,     -999,9,     -999,9,     -999,9,   0.5693,2,     -999,9,     -999,9,     -999,     -999,9,     -999,9,     -999,9,     -999,     -999,9,20150916,0925,    499.9,  85.1405,-149.8725,     -999,9,     -999,9
33HQ20150809  ,ARC01      ,43      ,  9,36         ,    6305,   11602,GSNIS-36   ,2,20150916,0837,  85.1405,-149.8725,     2190,    505.9,   0.5686,  34.8615,2,     -999,9,    296.3,2,     -999,9,     6.74,2,    12.25,2,     0.00,2,     0.84,2,     -999,9,     -999,9,     -999,9,     -999,9,     -999,9,     -999,9,     -999,9,     -999,     -999,9,     -999,9,     -999,9,     -999,9,   0.5689,2,     -999,9,     -999,9,     -999,     -999,9,     -999,9,     -999,9,     -999,     -999,9,20150916,0925,    499.9,  85.1405,-149.8725,     -999,9,     -999,9
33HQ20150809  ,ARC01      ,43      ,  9,33         ,    6305,   11603,GSNIS-33   ,2,20150916,0837,  85.1405,-149.8725,     2190,    606.7,   0.4281,  34.8707,2,     -999,9,    297.9,2,     -999,9,     6.83,2,    12.37,2,     0.00,2,     0.86,2,     -999,9,     -999,9,     -999,9,     -999,9,     -999,9,     -999,9,     -999,9,     -999,     -999,9,     -999,9,     -999,9,     -999,9,   0.4282,2,     -999,9,     -999,9,     -999,     -999,9,     -999,9,     -999,9,     -999,     -999,9,20150916,0922,    599.3,  85.1405,-149.8725,     -999,9,     -999,9
33HQ20150809  ,ARC01      ,43      ,  9,32         ,    6305,   11603,GSNIS-32   ,2,20150916,0837,  85.1405,-149.8725,     2190,    606.7,   0.4280,  34.8707,2,     -999,9,    297.9,2,     -999,9,     6.83,2,    12.36,2,     0.00,2,     0.85,2,     -999,9,     -999,9,     -999,9,     -999,9,     -999,9,     -999,9,     -999,9,     -999,     -999,9,     -999,9,     -999,9,     -999,9,   0.4283,2,     -999,9,     -999,9,     -999,     -999,9,     -999,9,     -999,9,     -999,     -999,9,20150916,0922,    599.3,  85.1405,-149.8725,     -999,9,     -999,9
33HQ20150809  ,ARC01      ,43      ,  9,31         ,    6305,   11603,GSNIS-31   ,3,20150916,0837,  85.1405,-149.8725,     2190,    606.7,   0.4283,  34.8707,2,  34.8544,4,    297.9,2,    296.5,2,     6.83,2,    12.30,2,     0.00,2,     0.85,2,    3.584,2,    1.728,2,    0.204,2,    0.755,2,   2155.7,2,   2294.5,2,   7.7111,2,    25.00,     50.5,2,     -999,1,     -999,1,     -999,1,   0.4284,2,     0.92,2,     -999,1,     -999,    14.54,2,     -999,1,     -999,9,     -999,     -999,1,20150916,0922,    599.3,  85.1405,-149.8725,     -999,9,  35.0187,4
33HQ20150809  ,ARC01      ,43      ,  9,28         ,    6305,   11604,GSNIS-28   ,2,20150916,0837,  85.1405,-149.8725,     2190,    708.7,   0.2455,  34.8752,2,  34.8746,2,    300.5,2,    301.3,2,     6.44,2,    12.10,2,     0.00,2,     0.83,2,    4.241,2,    2.040,2,    0.266,2,    0.992,2,   2159.3,2,   2295.7,2,   7.7002,2,    25.00,     50.5,2,     -999,1,     -999,1,     -999,1,   0.2455,2,     0.84,2,     -999,1,     -999,    17.00,2,     -999,1,     -999,9,     -999,     -999,1,20150916,0918,    699.9,  85.1405,-149.8725,     -999,9,  35.0390,2
33HQ20150809  ,ARC01      ,43      ,  9,30         ,    6305,   11604,GSNIS-30   ,2,20150916,0837,  85.1405,-149.8725,     2190,    708.7,   0.2458,  34.8752,2,     -999,9,    300.5,2,     -999,9,     6.54,2,    12.10,2,     0.00,2,     0.84,2,     -999,9,     -999,9,     -999,9,     -999,9,     -999,9,     -999,9,     -999,9,     -999,     -999,9,     -999,9,     -999,9,     -999,9,   0.2457,2,     -999,9,     -999,9,     -999,     -999,9,     -999,9,     -999,9,     -999,     -999,9,20150916,0918,    699.9,  85.1405,-149.8725,     -999,9,     -999,9
33HQ20150809  ,ARC01      ,43      ,  9,29         ,    6305,   11604,GSNIS-29   ,2,20150916,0837,  85.1405,-149.8725,     2190,    708.7,   0.2456,  34.8752,2,     -999,9,    300.5,2,     -999,9,     6.44,2,    12.11,2,     0.00,2,     0.84,2,     -999,9,     -999,9,     -999,9,     -999,9,     -999,9,     -999,9,     -999,9,     -999,     -999,9,     -999,9,     -999,9,     -999,9,     -999,9,     -999,9,     -999,9,     -999,     -999,9,     -999,9,     -999,9,     -999,     -999,9,20150916,0918,    699.9,  85.1405,-149.8725,     -999,9,     -999,9
33HQ20150809  ,ARC01      ,43      ,  9,26         ,    6305,   11605,GSNIS-26   ,2,20150916,0837,  85.1405,-149.8725,     2190,    860.5,   0.0476,  34.8821,2,     -999,9,    300.1,2,     -999,9,     7.03,2,    12.34,2,     0.00,2,     0.85,2,     -999,9,     -999,9,     -999,9,     -999,9,     -999,9,     -999,9,     -999,9,     -999,     -999,9,     -999,9,     -999,9,     -999,9,   0.0474,2,     -999,9,     -999,9,     -999,     -999,9,     -999,9,     -999,9,     -999,     -999,9,20150916,0914,    849.5,  85.1405,-149.8725,     -999,9,     -999,9
33HQ20150809  ,ARC01      ,43      ,  9,25         ,    6305,   11605,GSNIS-25   ,2,20150916,0837,  85.1405,-149.8725,     2190,    860.5,   0.0472,  34.8822,2,  34.8824,2,    300.1,2,    300.1,2,     6.93,2,    12.34,2,     0.00,2,     0.85,2,    3.169,2,    1.538,2,    0.183,2,    0.613,2,   2075.1,4,   2293.3,2,   7.7103,2,    25.00,     50.4,2,     -999,1,     -999,1,     -999,1,   0.0472,2,     0.92,2,     -999,1,     -999,    15.47,2,     -999,1,     -999,9,     -999,     -999,1,20150916,0914,    849.5,  85.1405,-149.8725,     -999,9,  35.0468,2
33HQ20150809  ,ARC01      ,43      ,  9,27         ,    6305,   11605,GSNIS-27   ,2,20150916,0837,  85.1405,-149.8725,     2190,    860.5,   0.0474,  34.8822,2,     -999,9,    300.1,2,     -999,9,     6.93,2,    12.34,2,     0.00,2,     0.85,2,     -999,9,     -999,9,     -999,9,     -999,9,     -999,9,     -999,9,     -999,9,     -999,     -999,9,     -999,9,     -999,9,     -999,9,   0.0478,2,     -999,9,     -999,9,     -999,     -999,9,     -999,9,     -999,9,     -999,     -999,9,20150916,0914,    849.5,  85.1405,-149.8725,     -999,9,     -999,9
33HQ20150809  ,ARC01      ,43      ,  9,22         ,    6305,   11606,GSNIS-22   ,2,20150916,0837,  85.1405,-149.8725,     2190,   1013.6,  -0.0788,  34.8942,2,  34.8949,2,    299.7,2,    298.5,2,     7.32,2,    12.57,2,     0.00,2,     0.87,2,    2.167,2,    1.063,2,    0.113,2,    0.363,2,   1943.0,4,   2294.8,2,   7.7183,2,    25.00,     48.7,2,     -999,1,     -999,1,     -999,1,  -0.0790,2,     0.70,3,     -999,1,     -999,    15.86,2,     -999,1,     -999,9,     -999,     -999,1,20150916,0910,   1000.3,  85.1405,-149.8725,     -999,9,  35.0594,2
33HQ20150809  ,ARC01      ,43      ,  9,24         ,    6305,   11606,GSNIS-24   ,2,20150916,0837,  85.1405,-149.8725,     2190,   1013.6,  -0.0785,  34.8942,2,     -999,9,    299.7,2,     -999,9,     7.42,2,    12.53,2,     0.00,2,     0.88,2,     -999,9,     -999,9,     -999,9,     -999,9,     -999,9,     -999,9,     -999,9,     -999,     -999,9,     -999,9,     -999,9,     -999,9,  -0.0786,2,     -999,9,     -999,9,     -999,     -999,9,     -999,9,     -999,9,     -999,     -999,9,20150916,0910,   1000.3,  85.1405,-149.8725,     -999,9,     -999,9
33HQ20150809  ,ARC01      ,43      ,  9,23         ,    6305,   11606,GSNIS-23   ,2,20150916,0837,  85.1405,-149.8725,     2190,   1013.6,  -0.0786,  34.8942,2,     -999,9,    299.7,2,     -999,9,     7.42,2,    12.56,2,     0.00,2,     0.87,2,     -999,9,     -999,9,     -999,9,     -999,9,     -999,9,     -999,9,     -999,9,     -999,     -999,9,     -999,9,     -999,9,     -999,9,  -0.0787,2,     -999,9,     -999,9,     -999,     -999,9,     -999,9,     -999,9,     -999,     -999,9,20150916,0910,   1000.3,  85.1405,-149.8725,     -999,9,     -999,9
33HQ20150809  ,ARC01      ,43      ,  9,21         ,    6305,   11607,GSNIS-21   ,2,20150916,0837,  85.1405,-149.8725,     2190,   1215.8,  -0.2014,  34.9099,2,     -999,9,    298.3,2,     -999,9,     8.20,2,    12.90,2,     0.00,2,     0.91,2,     -999,9,     -999,9,     -999,9,     -999,9,     -999,9,     -999,9,     -999,9,     -999,     -999,9,     -999,9,     -999,9,     -999,9,  -0.2017,2,     -999,9,     -999,9,     -999,     -999,9,     -999,9,     -999,9,     -999,     -999,9,20150916,0905,   1199.3,  85.1405,-149.8725,     -999,9,     -999,9
33HQ20150809  ,ARC01      ,43      ,  9,19         ,    6305,   11607,GSNIS-19   ,2,20150916,0837,  85.1405,-149.8725,     2190,   1215.8,  -0.2017,  34.9099,2,  34.9113,2,    298.3,2,    299.0,2,     8.20,2,    12.91,2,     0.00,2,     0.91,2,    1.021,2,    0.486,2,    0.035,2,    0.085,2,   2149.8,2,   2294.1,2,   7.7291,2,    25.00,     50.9,2,     -999,1,     -999,1,     -999,1,  -0.2018,2,     1.11,2,     -999,1,     -999,    13.32,2,     -999,1,     -999,9,     -999,     -999,1,20150916,0905,   1199.3,  85.1405,-149.8725,     -999,9,  35.0759,2
33HQ20150809  ,ARC01      ,43      ,  9,20         ,    6305,   11607,GSNIS-20   ,2,20150916,0837,  85.1405,-149.8725,     2190,   1215.8,  -0.2016,  34.9100,2,     -999,9,    298.3,2,     -999,9,     8.20,2,    12.90,2,     0.00,2,     0.90,2,     -999,9,     -999,9,     -999,9,     -999,9,     -999,9,     -999,9,     -999,9,     -999,     -999,9,     -999,9,     -999,9,     -999,9,     -999,9,     -999,9,     -999,9,     -999,     -999,9,     -999,9,     -999,9,     -999,     -999,9,20150916,0905,   1199.3,  85.1405,-149.8725,     -999,9,     -999,9
33HQ20150809  ,ARC01      ,43      ,  9,18         ,    6305,   11608,GSNIS-18   ,2,20150916,0837,  85.1405,-149.8725,     2190,   1419.0,  -0.2980,  34.9230,2,     -999,9,    296.7,2,     -999,9,     9.08,2,    13.24,2,     0.00,2,     0.93,2,     -999,9,     -999,9,     -999,9,     -999,9,     -999,9,     -999,9,     -999,9,     -999,     -999,9,     -999,9,     -999,9,     -999,9,  -0.2981,2,     -999,9,     -999,9,     -999,     -999,9,     -999,9,     -999,9,     -999,     -999,9,20150916,0900,   1399.0,  85.1405,-149.8725,     -999,9,     -999,9
33HQ20150809  ,ARC01      ,43      ,  9,17         ,    6305,   11608,GSNIS-17   ,2,20150916,0837,  85.1405,-149.8725,     2190,   1419.0,  -0.2981,  34.9230,2,     -999,9,    296.7,2,     -999,9,     8.98,2,    13.25,2,     0.00,2,     0.93,2,     -999,9,     -999,9,     -999,9,     -999,9,     -999,9,     -999,9,     -999,9,     -999,     -999,9,     -999,9,     -999,9,     -999,9,     -999,9,     -999,9,     -999,9,     -999,     -999,9,     -999,9,     -999,9,     -999,     -999,9,20150916,0900,   1399.0,  85.1405,-149.8725,     -999,9,     -999,9
33HQ20150809  ,ARC01      ,43      ,  9,16         ,    6305,   11608,GSNIS-16   ,2,20150916,0837,  85.1405,-149.8725,     2190,   1419.0,  -0.2982,  34.9230,2,  34.9245,2,    296.7,2,    297.5,2,     9.08,2,    13.26,2,     0.00,2,     0.93,2,    0.572,2,    0.268,2,    0.015,2,    0.000,2,   2148.8,2,   2293.9,2,   7.7330,2,    25.00,     48.1,2,     -999,1,     -999,1,     -999,1,  -0.2983,2,     1.19,2,     -999,1,     -999,    15.50,2,     -999,1,     -999,9,     -999,     -999,1,20150916,0900,   1399.0,  85.1405,-149.8725,     -999,9,  35.0891,2
33HQ20150809  ,ARC01      ,43      ,  9,14         ,    6305,   11609,GSNIS-14   ,2,20150916,0837,  85.1405,-149.8725,     2190,   1623.0,  -0.3676,  34.9350,2,     -999,9,    294.2,2,     -999,9,    10.35,2,    13.62,2,     0.00,2,     0.96,2,     -999,9,     -999,9,     -999,9,     -999,9,     -999,9,     -999,9,     -999,9,     -999,     -999,9,     -999,9,     -999,9,     -999,9,  -0.3674,2,     -999,9,     -999,9,     -999,     -999,9,     -999,9,     -999,9,     -999,     -999,9,20150916,0855,   1599.4,  85.1405,-149.8725,     -999,9,     -999,9
33HQ20150809  ,ARC01      ,43      ,  9,13         ,    6305,   11609,GSNIS-13   ,2,20150916,0837,  85.1405,-149.8725,     2190,   1623.0,  -0.3674,  34.9350,2,  34.9358,2,    294.2,2,    294.6,2,    10.25,2,    13.64,2,     0.00,2,     0.96,2,    0.352,2,    0.160,2,    0.008,2,    0.009,2,   2149.2,2,   2294.3,2,   7.7331,2,    25.00,     44.8,2,     -999,1,     -999,1,     -999,1,  -0.3675,2,     1.17,2,     -999,1,     -999,    16.19,2,     -999,1,     -999,9,     -999,     -999,1,20150916,0855,   1599.4,  85.1405,-149.8725,     -999,9,  35.1005,2
33HQ20150809  ,ARC01      ,43      ,  9,15         ,    6305,   11609,GSNIS-15   ,2,20150916,0837,  85.1405,-149.8725,     2190,   1623.0,  -0.3674,  34.9349,2,     -999,9,    294.2,2,     -999,9,    10.25,2,    13.66,2,     0.00,2,     0.96,2,     -999,9,     -999,9,     -999,9,     -999,9,     -999,9,     -999,9,     -999,9,     -999,     -999,9,     -999,9,     -999,9,     -999,9,  -0.3675,2,     -999,9,     -999,9,     -999,     -999,9,     -999,9,     -999,9,     -999,     -999,9,20150916,0855,   1599.4,  85.1405,-149.8725,     -999,9,     -999,9
33HQ20150809  ,ARC01      ,43      ,  9,11         ,    6305,   11610,GSNIS-11   ,2,20150916,0837,  85.1405,-149.8725,     2190,   1826.3,  -0.3925,  34.9455,2,     -999,9,    289.9,2,     -999,9,    12.01,2,    14.01,2,     0.00,2,     1.00,2,     -999,9,     -999,9,     -999,9,     -999,9,     -999,9,     -999,9,     -999,9,     -999,     -999,9,     -999,9,     -999,9,     -999,9,     -999,9,     -999,9,     -999,9,     -999,     -999,9,     -999,9,     -999,9,     -999,     -999,9,20150916,0850,   1798.9,  85.1405,-149.8725,     -999,9,     -999,9
33HQ20150809  ,ARC01      ,43      ,  9,10         ,    6305,   11610,GSNIS-10   ,2,20150916,0837,  85.1405,-149.8725,     2190,   1826.3,  -0.3925,  34.9456,2,  34.9455,2,    289.9,2,    291.0,2,    11.81,2,    14.01,2,     0.00,2,     1.00,2,    0.265,2,    0.126,2,    0.015,2,    0.020,2,   2151.0,2,   2296.7,2,   7.7319,2,    25.00,     46.0,2,     -999,1,     -999,1,     -999,1,  -0.3924,2,     1.20,2,     -999,1,     -999,    16.39,2,     -999,1,     -999,9,     -999,     -999,1,20150916,0850,   1798.9,  85.1405,-149.8725,     -999,9,  35.1103,2
33HQ20150809  ,ARC01      ,43      ,  9,12         ,    6305,   11610,GSNIS-12   ,2,20150916,0837,  85.1405,-149.8725,     2190,   1826.3,  -0.3925,  34.9455,2,     -999,9,    289.9,2,     -999,9,    11.81,2,    14.00,2,     0.00,2,     1.00,2,     -999,9,     -999,9,     -999,9,     -999,9,     -999,9,     -999,9,     -999,9,     -999,     -999,9,     -999,9,     -999,9,     -999,9,  -0.3924,2,     -999,9,     -999,9,     -999,     -999,9,     -999,9,     -999,9,     -999,     -999,9,20150916,0850,   1798.9,  85.1405,-149.8725,     -999,9,     -999,9
33HQ20150809  ,ARC01      ,43      ,  9,8          ,    6305,   11611,GSNIS-8    ,2,20150916,0837,  85.1405,-149.8725,     2190,   2087.6,  -0.3898,  34.9536,2,     -999,9,    285.3,2,     -999,9,    13.08,2,    14.28,2,     0.00,2,     1.02,2,     -999,9,     -999,9,     -999,9,     -999,9,     -999,9,     -999,9,     -999,9,     -999,     -999,9,     -999,9,     -999,9,     -999,9,  -0.3900,2,     -999,9,     -999,9,     -999,     -999,9,     -999,9,     -999,9,     -999,     -999,9,20150916,0844,   2055.0,  85.1405,-149.8725,     -999,9,     -999,9
33HQ20150809  ,ARC01      ,43      ,  9,7          ,    6305,   11611,GSNIS-7    ,2,20150916,0837,  85.1405,-149.8725,     2190,   2087.6,  -0.3898,  34.9535,2,  34.9541,2,    285.3,2,    286.8,2,    13.37,2,    14.26,2,     0.00,2,     1.02,2,    0.108,2,    0.045,2,    0.002,2,    0.000,2,   2153.2,2,   2299.2,2,   7.7322,2,    25.00,     45.7,2,     -999,1,     -999,1,     -999,1,  -0.3900,2,     1.21,2,     -999,1,     -999,    15.99,2,     -999,1,     -999,9,     -999,     -999,1,20150916,0844,   2055.0,  85.1405,-149.8725,     -999,9,  35.1189,2
33HQ20150809  ,ARC01      ,43      ,  9,9          ,    6305,   11611,GSNIS-9    ,2,20150916,0837,  85.1405,-149.8725,     2190,   2087.6,  -0.3898,  34.9535,2,     -999,9,    285.3,2,     -999,9,    13.18,2,    14.27,2,     0.00,2,     1.01,2,     -999,9,     -999,9,     -999,9,     -999,9,     -999,9,     -999,9,     -999,9,     -999,     -999,9,     -999,9,     -999,9,     -999,9,  -0.3900,2,     -999,9,     -999,9,     -999,     -999,9,     -999,9,     -999,9,     -999,     -999,9,20150916,0844,   2055.0,  85.1405,-149.8725,     -999,9,     -999,9
33HQ20150809  ,ARC01      ,43      ,  9,4          ,    6305,   11612,GSNIS-4    ,2,20150916,0837,  85.1405,-149.8725,     2190,   2189.8,  -0.3873,  34.9564,2,  34.9582,2,    284.0,2,    286.1,2,    13.37,2,    14.36,2,     0.00,2,     1.02,2,    0.071,2,    0.033,2,    0.006,2,    0.018,2,   2151.6,2,   2297.6,2,   7.7299,2,    25.00,     48.3,2,     -999,1,     -999,1,     -999,1,  -0.3876,2,     1.20,2,     -999,1,     -999,    16.67,2,     -999,1,     -999,9,     -999,     -999,1,20150916,0841,   2155.1,  85.1405,-149.8725,     -999,9,  35.1230,2
33HQ20150809  ,ARC01      ,43      ,  9,5          ,    6305,   11612,GSNIS-5    ,2,20150916,0837,  85.1405,-149.8725,     2190,   2189.8,  -0.3872,  34.9564,2,     -999,9,    284.0,2,     -999,9,    13.37,2,    14.35,2,     0.00,2,     1.02,2,     -999,9,     -999,9,     -999,9,     -999,9,     -999,9,     -999,9,     -999,9,     -999,     -999,9,     -999,9,     -999,9,     -999,9,  -0.3875,2,     -999,9,     -999,9,     -999,     -999,9,     -999,9,     -999,9,     -999,     -999,9,20150916,0841,   2155.1,  85.1405,-149.8725,     -999,9,     -999,9
33HQ20150809  ,ARC01      ,43      ,  9,6          ,    6305,   11612,GSNIS-6    ,2,20150916,0837,  85.1405,-149.8725,     2190,   2189.8,  -0.3872,  34.9565,2,     -999,9,    284.0,2,     -999,9,    13.37,2,    14.36,2,     0.00,2,     1.02,2,     -999,9,     -999,9,     -999,9,     -999,9,     -999,9,     -999,9,     -999,9,     -999,     -999,9,     -999,9,     -999,9,     -999,9,  -0.3875,2,     -999,9,     -999,9,     -999,     -999,9,     -999,9,     -999,9,     -999,     -999,9,20150916,0841,   2155.1,  85.1405,-149.8725,     -999,9,     -999,9