BOTTLE,20221220CCHSIOAMB
EXPOCODE,SECT_ID,STNNBR,CASTNO,SAMPNO,GEOTR_EVENT,GEOTR_SAMPNO,BTLNBR,BTLNBR_FLAG_W,DATE,TIME,LATITUDE,LONGITUDE,DEPTH,CTDPRS,CTDTMP,CTDSAL,CTDSAL_FLAG_W,SALNTY,SALNTY_FLAG_W,CTDOXY,CTDOXY_FLAG_W,OXYGEN,OXYGEN_FLAG_W,SILCAT,SILCAT_FLAG_W,NITRAT,NITRAT_FLAG_W,NITRIT,NITRIT_FLAG_W,PHSPHT,PHSPHT_FLAG_W,CFC-11,CFC-11_FLAG_W,CFC-12,CFC-12_FLAG_W,CFC113,CFC113_FLAG_W,SF6,SF6_FLAG_W,TCARBN,TCARBN_FLAG_W,ALKALI,ALKALI_FLAG_W,PH_SWS,PH_SWS_FLAG_W,PH_TMP,DOC,DOC_FLAG_W,TRITUM,TRITUM_FLAG_W,HELIUM,HELIUM_FLAG_W,DELHE3,DELHE3_FLAG_W,REFTMP,REFTMP_FLAG_W,DELC13,DELC13_FLAG_W,DELC14,DELC14_FLAG_W,C14ERR,TDN,TDN_FLAG_W,DELO18,DELO18_FLAG_W,DELO17,DELO17_FLAG_W,CH4,CH4,CH4_FLAG_W,BTL_DATE,BTL_TIME,CTDDEPTH,BTL_LAT,BTL_LON,LAB_DEN,LAB_DEN_FLAG_W,SALTREF,SALTREF_FLAG_W
,,,,,,,,,,,,,METERS,DBAR,ITS-90,PSS-78,,PSS-78,,UMOL/KG,,UMOL/KG,,UMOL/KG,,UMOL/KG,,UMOL/KG,,UMOL/KG,,PMOL/KG,,PMOL/KG,,PMOL/KG,,FMOL/KG,,UMOL/KG,,UMOL/KG,,,,DEG C,UMOL/KG,,TU,,NMOL/KG,,PERCNT,,ITS-90,,/MILLE,,/MILLE,,/MILLE,UMOL/KG,,/MILLE,,/MILLE,,NMOL/KG,NMOL/L,,,,METERS,,,KG/M^3,,G/KG,
33HQ20150809  ,ARC01      ,6       ,  2,12         ,    6052,   10649,NIS-12     ,3,20150816,2154,  68.0064,-168.0495,       57,      5.5,   5.8394,  32.2552,2,  32.2540,2,    326.0,2,    326.1,2,    16.34,2,     3.33,2,     0.09,2,     0.80,2,     -999,9,     -999,9,     -999,9,     -999,9,     -999,9,     -999,9,     -999,9,     -999,     -999,9,     -999,9,     -999,9,     -999,9,     -999,9,     -999,9,     -999,9,     -999,     -999,9,     -999,9,     -999,9,     -999,     -999,9,20150816,2203,      5.4,  68.0054,-168.0582,     -999,9,  32.4061,2
33HQ20150809  ,ARC01      ,6       ,  2,10         ,    6052,   10651,NIS-10     ,3,20150816,2154,  68.0064,-168.0495,       57,      5.5,   5.8290,  32.2536,2,  32.2586,2,    326.0,2,    326.0,2,    16.44,2,     3.33,2,     0.10,2,     0.81,2,     -999,9,     -999,9,     -999,9,     -999,9,     -999,9,     -999,9,     -999,9,     -999,     -999,9,     -999,9,     -999,9,     -999,9,     -999,9,     -999,9,     -999,9,     -999,     -999,9,     -999,9,     -999,9,     -999,     -999,9,20150816,2203,      5.5,  68.0054,-168.0581,     -999,9,  32.4107,2
33HQ20150809  ,ARC01      ,6       ,  2,11         ,    6052,   10650,NIS-11     ,2,20150816,2154,  68.0064,-168.0495,       57,      5.7,   5.8265,  32.2536,2,  32.2549,2,    326.3,2,    326.4,2,    16.44,2,     3.31,2,     0.10,2,     0.82,2,    4.687,2,    2.651,2,    0.418,2,    2.998,2,   2018.0,2,   2197.3,6,   7.8427,2,    25.00,     -999,9,     -999,1,     -999,1,     -999,1,     -999,9,     1.24,2,     -999,1,     -999,     -999,9,     -999,1,     -999,9,     6.72,   6.7164,2,20150816,2203,      5.6,  68.0054,-168.0582,     -999,9,  32.4070,2
33HQ20150809  ,ARC01      ,6       ,  2,7          ,    6052,   10654,NIS-7      ,2,20150816,2154,  68.0064,-168.0495,       57,     18.1,   5.8107,  32.2558,2,  32.2551,2,    323.3,2,    323.3,2,    16.73,2,     3.56,2,     0.10,2,     0.84,2,    4.680,2,    2.611,2,    0.426,2,    3.052,2,   2019.6,2,   2198.5,2,   7.8358,6,    25.00,     -999,9,     -999,1,     -999,1,     -999,1,     -999,9,     1.19,2,     -999,1,     -999,     -999,9,     -999,1,     -999,9,     7.07,   7.0659,2,20150816,2200,     17.9,  68.0057,-168.0550,     -999,9,  32.4072,2
33HQ20150809  ,ARC01      ,6       ,  2,8          ,    6052,   10653,NIS-8      ,2,20150816,2154,  68.0064,-168.0495,       57,     18.2,   5.7978,  32.2554,2,  32.2544,2,    323.3,2,    324.0,2,    16.63,2,     3.55,2,     0.10,2,     0.82,2,     -999,9,     -999,9,     -999,9,     -999,9,     -999,9,     -999,9,     -999,9,     -999,     -999,9,     -999,9,     -999,9,     -999,9,     -999,9,     -999,9,     -999,9,     -999,     -999,9,     -999,9,     -999,9,     -999,     -999,9,20150816,2200,     18.0,  68.0057,-168.0551,     -999,9,  32.4065,2
33HQ20150809  ,ARC01      ,6       ,  2,9          ,    6052,   10652,NIS-9      ,2,20150816,2154,  68.0064,-168.0495,       57,     18.2,   5.7738,  32.2556,2,  32.2546,2,    323.3,2,    323.9,2,    16.63,2,     3.66,2,     0.10,2,     0.85,2,     -999,9,     -999,9,     -999,9,     -999,9,     -999,9,     -999,9,     -999,9,     -999,     -999,9,     -999,9,     -999,9,     -999,9,     -999,9,     -999,9,     -999,9,     -999,     -999,9,     -999,9,     -999,9,     -999,     -999,9,20150816,2200,     18.0,  68.0057,-168.0553,     -999,9,  32.4067,2
33HQ20150809  ,ARC01      ,6       ,  2,4          ,    6052,   10657,NIS-4      ,2,20150816,2154,  68.0064,-168.0495,       57,     33.6,   4.7881,  32.3868,2,  32.3815,2,    255.5,2,    255.3,2,    35.81,2,     9.47,2,     0.23,2,     1.96,2,    4.720,6,    2.716,6,    0.421,6,    3.046,6,   2094.5,2,   2205.1,6,   7.6573,6,    25.00,     -999,9,     -999,1,     -999,1,     -999,1,     -999,9,     0.45,2,     -999,1,     -999,     -999,9,     -999,1,     -999,9,    13.81,  13.8093,2,20150816,2156,     33.3,  68.0061,-168.0519,     -999,9,  32.5342,2
33HQ20150809  ,ARC01      ,6       ,  2,6          ,    6052,   10655,NIS-6      ,2,20150816,2154,  68.0064,-168.0495,       57,     33.6,   4.7865,  32.3886,2,  32.3894,2,    254.9,2,    255.1,2,    35.90,2,     9.44,2,     0.23,2,     1.96,2,     -999,9,     -999,9,     -999,9,     -999,9,     -999,9,     -999,9,     -999,9,     -999,     -999,9,     -999,9,     -999,9,     -999,9,     -999,9,     -999,9,     -999,9,     -999,     -999,9,     -999,9,     -999,9,     -999,     -999,9,20150816,2157,     33.3,  68.0060,-168.0523,     -999,9,  32.5421,2
33HQ20150809  ,ARC01      ,6       ,  2,5          ,    6052,   10656,NIS-5      ,2,20150816,2154,  68.0064,-168.0495,       57,     33.7,   4.7875,  32.3878,2,  32.3813,2,    255.5,2,    255.5,2,    35.81,2,     9.45,2,     0.23,2,     1.96,2,     -999,9,     -999,9,     -999,9,     -999,9,     -999,9,     -999,9,     -999,9,     -999,     -999,9,     -999,9,     -999,9,     -999,9,     -999,9,     -999,9,     -999,9,     -999,     -999,9,     -999,9,     -999,9,     -999,     -999,9,20150816,2156,     33.3,  68.0061,-168.0521,     -999,9,  32.5340,2
33HQ20150809  ,ARC01      ,6       ,  2,2          ,    6052,   10659,NIS-2      ,3,20150816,2154,  68.0064,-168.0495,       57,     50.2,   4.7753,  32.4080,2,  32.4066,2,    256.6,2,    256.6,2,    36.69,2,     9.86,2,     0.23,2,     1.95,2,     -999,9,     -999,9,     -999,9,     -999,9,     -999,9,     -999,9,     -999,9,     -999,     -999,9,     -999,9,     -999,9,     -999,9,     -999,9,     -999,9,     -999,9,     -999,     -999,9,     -999,9,     -999,9,     -999,     -999,9,20150816,2154,     49.7,  68.0064,-168.0494,     -999,9,  32.5594,2
33HQ20150809  ,ARC01      ,6       ,  2,1          ,    6052,   10660,NIS-1      ,2,20150816,2154,  68.0064,-168.0495,       57,     50.4,   4.7748,  32.4085,2,  32.4077,2,    256.6,2,    256.3,2,    36.69,2,     9.91,2,     0.23,2,     1.97,2,    4.724,2,    2.712,2,    0.420,2,    3.224,2,   2097.6,2,   2207.5,2,   7.6573,2,    25.00,     -999,9,     -999,1,     -999,1,     -999,1,     -999,9,     0.42,2,     -999,1,     -999,     -999,9,     -999,1,     -999,9,    12.36,  12.3590,2,20150816,2154,     49.9,  68.0064,-168.0493,     -999,9,  32.5606,2
33HQ20150809  ,ARC01      ,6       ,  2,3          ,    6052,   10658,NIS-3      ,3,20150816,2154,  68.0064,-168.0495,       57,     50.7,   4.7766,  32.4069,2,  32.4071,2,    256.6,2,    256.4,2,    36.59,2,     9.85,2,     0.23,2,     1.94,2,     -999,9,     -999,9,     -999,9,     -999,9,     -999,9,     -999,9,     -999,9,     -999,     -999,9,     -999,9,     -999,9,     -999,9,     -999,9,     -999,9,     -999,9,     -999,     -999,9,     -999,9,     -999,9,     -999,     -999,9,20150816,2154,     50.2,  68.0064,-168.0494,     -999,9,  32.5599,2
33HQ20150809  ,ARC01      ,6       , 25,25         ,    6056,   10664,SMBT       ,2,20150816,2349,  67.9855,-168.1026,       57,      1.0,   5.8657,  32.2566,2,  32.2954,2,     -999,9,     -999,9,    14.97,2,     1.97,2,     0.08,2,     0.64,2,     -999,9,     -999,9,     -999,9,     -999,9,     -999,9,     -999,9,     -999,9,     -999,     -999,9,     -999,9,     -999,9,     -999,9,     -999,9,     -999,9,     -999,9,     -999,     -999,9,     -999,9,     -999,9,     -999,     -999,9,20150816,2350,      1.0,  67.9853,-168.1026,     -999,9,  32.4477,2
33HQ20150809  ,ARC01      ,6       ,  4,11         ,    6057,   10670,NIS-11     ,2,20150817,0409,  67.9320,-168.1021,       61,      4.2,   5.6011,  32.6855,2,  32.6885,2,    452.9,2,    458.5,2,     1.66,2,     0.00,2,     0.03,2,     0.30,2,     -999,9,     -999,9,     -999,9,     -999,9,     -999,9,     -999,9,     -999,9,     -999,     -999,9,     -999,9,     -999,9,     -999,9,     -999,9,     -999,9,     -999,9,     -999,     -999,9,     -999,9,     -999,9,     -999,     -999,9,20150817,0415,      4.2,  67.9310,-168.1060,     -999,9,  32.8426,2
33HQ20150809  ,ARC01      ,6       ,  4,12         ,    6057,   10670,NIS-12     ,9,20150817,0409,  67.9320,-168.1021,       61,      5.6,   5.5997,  32.6853,2,     -999,9,    454.0,2,     -999,9,     -999,9,     -999,9,     -999,9,     -999,9,     -999,9,     -999,9,     -999,9,     -999,9,     -999,9,     -999,9,     -999,9,     -999,     -999,9,     -999,9,     -999,9,     -999,9,     -999,9,     -999,9,     -999,9,     -999,     -999,9,     -999,9,     -999,9,     -999,     -999,9,20150817,0415,      5.6,  67.9310,-168.1061,     -999,9,     -999,9
33HQ20150809  ,ARC01      ,6       ,  4,10         ,    6057,   10669,NIS-10     ,9,20150817,0409,  67.9320,-168.1021,       61,     10.0,   5.6259,  32.6868,2,     -999,9,    457.3,2,     -999,9,     -999,9,     -999,9,     -999,9,     -999,9,     -999,9,     -999,9,     -999,9,     -999,9,     -999,9,     -999,9,     -999,9,     -999,     -999,9,     -999,9,     -999,9,     -999,9,     -999,9,     -999,9,     -999,9,     -999,     -999,9,     -999,9,     -999,9,     -999,     -999,9,20150817,0414,      9.9,  67.9312,-168.1053,     -999,9,     -999,9
33HQ20150809  ,ARC01      ,6       ,  4,9          ,    6057,   10669,NIS-9      ,2,20150817,0409,  67.9320,-168.1021,       61,     10.4,   5.6279,  32.6870,2,  32.6840,2,    457.3,2,    462.2,2,     1.37,2,     0.00,2,     0.03,2,     0.31,2,     -999,9,     -999,9,     -999,9,     -999,9,     -999,9,     -999,9,     -999,9,     -999,     -999,9,     -999,9,     -999,9,     -999,9,     -999,9,     -999,9,     -999,9,     -999,     -999,9,     -999,9,     -999,9,     -999,     -999,9,20150817,0414,     10.3,  67.9312,-168.1052,     -999,9,  32.8381,2
33HQ20150809  ,ARC01      ,6       ,  4,7          ,    6057,   10668,NIS-7      ,2,20150817,0409,  67.9320,-168.1021,       61,     15.2,   5.5644,  32.7090,2,  32.7121,2,    456.7,2,    471.4,2,     1.76,2,     0.13,2,     0.03,2,     0.24,2,     -999,9,     -999,9,     -999,9,     -999,9,     -999,9,     -999,9,     -999,9,     -999,     -999,9,     -999,9,     -999,9,     -999,9,     -999,9,     -999,9,     -999,9,     -999,     -999,9,     -999,9,     -999,9,     -999,     -999,9,20150817,0413,     15.1,  67.9314,-168.1045,     -999,9,  32.8664,2
33HQ20150809  ,ARC01      ,6       ,  4,8          ,    6057,   10668,NIS-8      ,9,20150817,0409,  67.9320,-168.1021,       61,     15.6,   5.5360,  32.7128,2,     -999,9,    456.7,2,     -999,9,     -999,9,     -999,9,     -999,9,     -999,9,     -999,9,     -999,9,     -999,9,     -999,9,     -999,9,     -999,9,     -999,9,     -999,     -999,9,     -999,9,     -999,9,     -999,9,     -999,9,     -999,9,     -999,9,     -999,     -999,9,     -999,9,     -999,9,     -999,     -999,9,20150817,0413,     15.5,  67.9314,-168.1045,     -999,9,     -999,9
33HQ20150809  ,ARC01      ,6       ,  4,5          ,    6057,   10667,NIS-5      ,2,20150817,0409,  67.9320,-168.1021,       61,     32.6,   4.3033,  32.8054,2,  32.8011,2,    311.0,2,    311.6,2,    26.90,2,    15.69,2,     0.17,2,     1.62,2,     -999,9,     -999,9,     -999,9,     -999,9,     -999,9,     -999,9,     -999,9,     -999,     -999,9,     -999,9,     -999,9,     -999,9,     -999,9,     -999,9,     -999,9,     -999,     -999,9,     -999,9,     -999,9,     -999,     -999,9,20150817,0411,     32.3,  67.9316,-168.1036,     -999,9,  32.9558,2
33HQ20150809  ,ARC01      ,6       ,  4,6          ,    6057,   10667,NIS-6      ,9,20150817,0409,  67.9320,-168.1021,       61,     33.0,   4.3040,  32.8058,2,     -999,9,    308.4,2,     -999,9,     -999,9,     -999,9,     -999,9,     -999,9,     -999,9,     -999,9,     -999,9,     -999,9,     -999,9,     -999,9,     -999,9,     -999,     -999,9,     -999,9,     -999,9,     -999,9,     -999,9,     -999,9,     -999,9,     -999,     -999,9,     -999,9,     -999,9,     -999,     -999,9,20150817,0411,     32.6,  67.9316,-168.1036,     -999,9,     -999,9
33HQ20150809  ,ARC01      ,6       ,  4,4          ,    6057,   10666,NIS-4      ,9,20150817,0409,  67.9320,-168.1021,       61,     42.5,   3.9693,  32.8000,2,     -999,9,    277.5,2,     -999,9,     -999,9,     -999,9,     -999,9,     -999,9,     -999,9,     -999,9,     -999,9,     -999,9,     -999,9,     -999,9,     -999,9,     -999,     -999,9,     -999,9,     -999,9,     -999,9,     -999,9,     -999,9,     -999,9,     -999,     -999,9,     -999,9,     -999,9,     -999,     -999,9,20150817,0410,     42.0,  67.9318,-168.1029,     -999,9,     -999,9
33HQ20150809  ,ARC01      ,6       ,  4,3          ,    6057,   10666,NIS-3      ,3,20150817,0409,  67.9320,-168.1021,       61,     42.9,   3.9605,  32.7989,2,  32.7999,2,    277.5,2,    278.9,2,    37.36,2,    17.07,2,     0.21,2,     2.02,2,     -999,9,     -999,9,     -999,9,     -999,9,     -999,9,     -999,9,     -999,9,     -999,     -999,9,     -999,9,     -999,9,     -999,9,     -999,9,     -999,9,     -999,9,     -999,     -999,9,     -999,9,     -999,9,     -999,     -999,9,20150817,0410,     42.4,  67.9318,-168.1029,     -999,9,  32.9546,2
33HQ20150809  ,ARC01      ,6       ,  4,1          ,    6057,   10665,NIS-1      ,2,20150817,0409,  67.9320,-168.1021,       61,     49.7,   3.9515,  32.8058,2,  32.8022,2,    272.7,2,    274.0,2,    38.93,2,    17.64,2,     0.22,2,     2.09,2,     -999,9,     -999,9,     -999,9,     -999,9,     -999,9,     -999,9,     -999,9,     -999,     -999,9,     -999,9,     -999,9,     -999,9,     -999,9,     -999,9,     -999,9,     -999,     -999,9,     -999,9,     -999,9,     -999,     -999,9,20150817,0409,     49.2,  67.9320,-168.1019,     -999,9,  32.9569,2
33HQ20150809  ,ARC01      ,6       ,  4,2          ,    6057,   10665,NIS-2      ,9,20150817,0409,  67.9320,-168.1021,       61,     49.9,   3.9410,  32.8060,2,     -999,9,    273.5,2,     -999,9,     -999,9,     -999,9,     -999,9,     -999,9,     -999,9,     -999,9,     -999,9,     -999,9,     -999,9,     -999,9,     -999,9,     -999,     -999,9,     -999,9,     -999,9,     -999,9,     -999,9,     -999,9,     -999,9,     -999,     -999,9,     -999,9,     -999,9,     -999,     -999,9,20150817,0409,     49.4,  67.9320,-168.1019,     -999,9,     -999,9
33HQ20150809  ,ARC01      ,7       ,  1,8          ,    6064,    -999,NIS-8      ,2,20150818,1412,  73.4879,-168.8475,      118,      5.0,   3.7956,  28.8224,2,  28.8420,2,    349.2,2,    353.7,2,     6.18,2,     0.00,2,     0.00,2,     0.26,2,    5.321,2,    2.965,2,    0.492,2,    3.362,2,   1727.6,6,   1989.0,2,   8.0727,3,    25.00,     60.2,2,     -999,9,     -999,9,     -999,9,   3.7924,2,     -999,9,     -999,9,     -999,     4.65,2,     -999,9,     -999,9,     -999,     -999,9,20150818,1427,      5.0,  73.4864,-168.8508,     -999,9,  28.9780,2
33HQ20150809  ,ARC01      ,7       ,  1,7          ,    6064,    -999,NIS-7      ,2,20150818,1412,  73.4879,-168.8475,      118,     15.0,   3.1974,  29.1799,2,  29.2705,4,    351.6,2,     -999,5,     5.98,2,     0.00,2,     0.00,2,     0.25,2,    5.428,2,    2.975,2,    0.505,2,    3.385,2,   1742.7,2,     -999,5,   7.8964,2,    25.00,     65.2,2,     -999,9,     -999,9,     -999,9,   3.0538,3,     -999,9,     -999,9,     -999,     4.19,2,     -999,9,     -999,9,     -999,     -999,9,20150818,1425,     14.8,  73.4866,-168.8502,     -999,9,  29.4086,4
33HQ20150809  ,ARC01      ,7       ,  1,6          ,    6064,    -999,NIS-6      ,2,20150818,1412,  73.4879,-168.8475,      118,     25.5,  -1.0926,  31.8063,2,  31.8009,2,    452.2,2,    480.0,2,    19.77,2,     0.04,2,     0.00,2,     0.72,2,    6.259,2,    3.492,2,    0.589,2,    3.964,2,   2006.2,2,   2193.5,2,   7.8695,2,    25.00,     68.5,2,     -999,9,     -999,9,     -999,9,  -1.0941,2,     -999,9,     -999,9,     -999,     4.13,2,     -999,9,     -999,9,     -999,     -999,9,20150818,1424,     25.2,  73.4868,-168.8497,     -999,9,  31.9509,2
33HQ20150809  ,ARC01      ,7       ,  1,5          ,    6064,    -999,NIS-5      ,3,20150818,1412,  73.4879,-168.8475,      118,     45.0,  -1.5856,  32.5074,2,  32.5356,4,    324.2,2,    311.5,2,    35.21,2,    14.08,2,     0.05,2,     1.69,2,    6.338,2,    3.494,2,    0.565,2,    3.559,2,   2203.3,3,   2238.7,6,   7.4907,2,    25.00,     68.0,2,     -999,9,     -999,9,     -999,9,  -1.5890,2,     -999,9,     -999,9,     -999,    19.37,2,     -999,9,     -999,9,     -999,     -999,9,20150818,1421,     44.6,  73.4870,-168.8491,     -999,9,  32.6890,4
33HQ20150809  ,ARC01      ,7       ,  1,4          ,    6064,    -999,NIS-4      ,3,20150818,1412,  73.4879,-168.8475,      118,     65.5,  -1.7326,  32.8048,2,  32.8128,2,    309.0,2,    315.4,2,    46.16,2,    18.64,2,     0.05,2,     1.95,2,    6.248,2,    3.454,2,    0.579,2,    3.805,2,   2190.6,2,   2238.4,2,   7.4715,2,    25.00,     61.2,2,     -999,9,     -999,9,     -999,9,  -1.7330,2,     -999,9,     -999,9,     -999,    24.24,2,     -999,9,     -999,9,     -999,     -999,9,20150818,1419,     64.8,  73.4873,-168.8486,     -999,9,  32.9675,2
33HQ20150809  ,ARC01      ,7       ,  1,3          ,    6064,    -999,NIS-3      ,3,20150818,1412,  73.4879,-168.8475,      118,     75.7,  -1.7592,  32.8886,2,  32.8838,2,    310.1,2,    304.6,2,    53.88,2,    20.44,2,     0.08,2,     2.13,2,    6.192,2,    3.489,2,    0.573,2,    4.032,2,   2178.4,3,   2235.5,2,   7.4226,2,    25.00,     60.4,2,     -999,9,     -999,9,     -999,9,  -1.7585,2,     -999,9,     -999,9,     -999,    27.07,2,     -999,9,     -999,9,     -999,     -999,9,20150818,1417,     74.9,  73.4875,-168.8481,     -999,9,  33.0388,2
33HQ20150809  ,ARC01      ,7       ,  1,2          ,    6064,    -999,NIS-2      ,2,20150818,1412,  73.4879,-168.8475,      118,     85.7,  -1.7621,  32.9114,2,  32.9067,2,    287.9,2,    293.2,2,    56.42,2,    20.50,2,     0.06,2,     2.20,2,    6.091,2,    3.463,2,    0.555,2,    3.864,2,   2204.7,6,   2238.4,2,   7.3968,6,    25.00,     60.2,2,     -999,9,     -999,9,     -999,9,  -1.7621,2,     -999,9,     -999,9,     -999,    26.46,2,     -999,9,     -999,9,     -999,     -999,9,20150818,1415,     84.8,  73.4877,-168.8478,     -999,9,  33.0619,2
33HQ20150809  ,ARC01      ,7       ,  1,1          ,    6064,    -999,NIS-1      ,2,20150818,1412,  73.4879,-168.8475,      118,    111.3,  -0.8344,  33.9342,2,  33.8663,4,    241.4,2,    243.7,2,    38.50,2,    15.43,2,     0.13,2,     1.90,2,     -999,5,     -999,5,     -999,5,     -999,5,   2230.3,2,   2281.3,6,   7.4367,2,    25.00,     56.0,2,     -999,9,     -999,9,     -999,9,  -0.8349,2,     -999,9,     -999,9,     -999,    19.96,2,     -999,9,     -999,9,     -999,     -999,9,20150818,1413,    110.1,  73.4879,-168.8475,     -999,9,  34.0260,4