BOTTLE,20221220CCHSIOAMB
EXPOCODE,SECT_ID,STNNBR,CASTNO,SAMPNO,GEOTR_EVENT,GEOTR_SAMPNO,BTLNBR,BTLNBR_FLAG_W,DATE,TIME,LATITUDE,LONGITUDE,DEPTH,CTDPRS,CTDTMP,CTDSAL,CTDSAL_FLAG_W,SALNTY,SALNTY_FLAG_W,CTDOXY,CTDOXY_FLAG_W,OXYGEN,OXYGEN_FLAG_W,SILCAT,SILCAT_FLAG_W,NITRAT,NITRAT_FLAG_W,NITRIT,NITRIT_FLAG_W,PHSPHT,PHSPHT_FLAG_W,CFC-11,CFC-11_FLAG_W,CFC-12,CFC-12_FLAG_W,CFC113,CFC113_FLAG_W,SF6,SF6_FLAG_W,TCARBN,TCARBN_FLAG_W,ALKALI,ALKALI_FLAG_W,PH_SWS,PH_SWS_FLAG_W,PH_TMP,DOC,DOC_FLAG_W,TRITUM,TRITUM_FLAG_W,HELIUM,HELIUM_FLAG_W,DELHE3,DELHE3_FLAG_W,REFTMP,REFTMP_FLAG_W,DELC13,DELC13_FLAG_W,DELC14,DELC14_FLAG_W,C14ERR,TDN,TDN_FLAG_W,DELO18,DELO18_FLAG_W,DELO17,DELO17_FLAG_W,CH4,CH4,CH4_FLAG_W,BTL_DATE,BTL_TIME,CTDDEPTH,BTL_LAT,BTL_LON,LAB_DEN,LAB_DEN_FLAG_W,SALTREF,SALTREF_FLAG_W
,,,,,,,,,,,,,METERS,DBAR,ITS-90,PSS-78,,PSS-78,,UMOL/KG,,UMOL/KG,,UMOL/KG,,UMOL/KG,,UMOL/KG,,UMOL/KG,,PMOL/KG,,PMOL/KG,,PMOL/KG,,FMOL/KG,,UMOL/KG,,UMOL/KG,,,,DEG C,UMOL/KG,,TU,,NMOL/KG,,PERCNT,,ITS-90,,/MILLE,,/MILLE,,/MILLE,UMOL/KG,,/MILLE,,/MILLE,,NMOL/KG,NMOL/L,,,,METERS,,,KG/M^3,,G/KG,
33HQ20150809  ,ARC01      ,29      ,  1,3          ,    6171,    -999,GSNIS-3    ,2,20150831,0405,  86.5134, 173.4640,     3932,   3486.0,  -0.3123,  34.9547,2,  34.9544,2,    288.6,2,    288.6,2,    12.11,2,    14.48,2,     0.00,2,     1.01,2,    0.014,2,    0.007,2,    0.000,2,    0.000,2,   2148.2,2,   2303.5,6,   7.7364,2,    25.00,     46.4,2,     -999,9,     -999,9,     -999,9,  -0.3123,2,     -999,9,     -999,9,     -999,    16.75,2,     -999,9,     -999,9,     -999,     -999,9,20150831,0430,   3420.5,  86.5145, 173.4664,     -999,9,  35.1192,2
33HQ20150809  ,ARC01      ,29      ,  1,2          ,    6171,    -999,GSNIS-2    ,2,20150831,0405,  86.5134, 173.4640,     3932,   3744.0,  -0.2873,  34.9548,2,  34.9560,2,    288.8,2,    288.6,2,    12.21,2,    14.43,2,     0.00,2,     1.01,2,    0.013,2,    0.002,2,    0.000,2,    0.000,2,     -999,9,   2304.7,2,   7.6505,4,    25.00,     47.3,2,     -999,9,     -999,9,     -999,9,  -0.2875,2,     -999,9,     -999,9,     -999,    15.96,2,     -999,9,     -999,9,     -999,     -999,9,20150831,0413,   3671.4,  86.5138, 173.4647,     -999,9,  35.1208,2
33HQ20150809  ,ARC01      ,29      ,  1,1          ,    6171,    -999,GSNIS-1    ,2,20150831,0405,  86.5134, 173.4640,     3932,   3994.0,  -0.2618,  34.9566,2,  34.9555,2,    288.1,2,    288.5,2,    12.11,2,    14.40,2,     0.00,2,     1.01,2,    0.014,2,    0.003,2,    0.000,2,    0.000,2,   2150.0,6,   2304.3,2,   7.7561,2,    25.00,     45.8,2,     -999,9,     -999,9,     -999,9,  -0.2620,2,     -999,9,     -999,9,     -999,    16.75,2,     -999,9,     -999,9,     -999,     -999,9,20150831,0406,   3914.4,  86.5135, 173.4641,     -999,9,  35.1203,2