BOTTLE,20221220CCHSIOAMB
EXPOCODE,SECT_ID,STNNBR,CASTNO,SAMPNO,GEOTR_EVENT,GEOTR_SAMPNO,BTLNBR,BTLNBR_FLAG_W,DATE,TIME,LATITUDE,LONGITUDE,DEPTH,CTDPRS,CTDTMP,CTDSAL,CTDSAL_FLAG_W,SALNTY,SALNTY_FLAG_W,CTDOXY,CTDOXY_FLAG_W,OXYGEN,OXYGEN_FLAG_W,SILCAT,SILCAT_FLAG_W,NITRAT,NITRAT_FLAG_W,NITRIT,NITRIT_FLAG_W,PHSPHT,PHSPHT_FLAG_W,CFC-11,CFC-11_FLAG_W,CFC-12,CFC-12_FLAG_W,CFC113,CFC113_FLAG_W,SF6,SF6_FLAG_W,TCARBN,TCARBN_FLAG_W,ALKALI,ALKALI_FLAG_W,PH_SWS,PH_SWS_FLAG_W,PH_TMP,DOC,DOC_FLAG_W,TRITUM,TRITUM_FLAG_W,HELIUM,HELIUM_FLAG_W,DELHE3,DELHE3_FLAG_W,REFTMP,REFTMP_FLAG_W,DELC13,DELC13_FLAG_W,DELC14,DELC14_FLAG_W,C14ERR,TDN,TDN_FLAG_W,DELO18,DELO18_FLAG_W,DELO17,DELO17_FLAG_W,CH4,CH4,CH4_FLAG_W,BTL_DATE,BTL_TIME,CTDDEPTH,BTL_LAT,BTL_LON,LAB_DEN,LAB_DEN_FLAG_W,SALTREF,SALTREF_FLAG_W
,,,,,,,,,,,,,METERS,DBAR,ITS-90,PSS-78,,PSS-78,,UMOL/KG,,UMOL/KG,,UMOL/KG,,UMOL/KG,,UMOL/KG,,UMOL/KG,,PMOL/KG,,PMOL/KG,,PMOL/KG,,FMOL/KG,,UMOL/KG,,UMOL/KG,,,,DEG C,UMOL/KG,,TU,,NMOL/KG,,PERCNT,,ITS-90,,/MILLE,,/MILLE,,/MILLE,UMOL/KG,,/MILLE,,/MILLE,,NMOL/KG,NMOL/L,,,,METERS,,,KG/M^3,,G/KG,
33HQ20150809  ,ARC01      ,48      ,  2,36         ,    6364,   11751,GSNIS-36   ,2,20150922,1112,  80.3694,-149.8547,     3859,      5.7,  -1.4798,  27.7948,2,     -999,9,    385.1,2,     -999,9,     2.75,2,     0.01,2,     0.00,2,     0.55,2,     -999,9,     -999,9,     -999,9,     -999,9,     -999,9,     -999,9,     -999,9,     -999,     -999,9,     -999,9,     -999,9,     -999,9,  -1.4788,2,     -999,9,     -999,9,     -999,     -999,9,     -999,9,     -999,9,     -999,     -999,9,20150922,1221,      5.6,  80.3766,-149.8189,     -999,9,     -999,9
33HQ20150809  ,ARC01      ,48      ,  2,35         ,    6364,   11751,GSNIS-35   ,2,20150922,1112,  80.3694,-149.8547,     3859,      5.7,  -1.4798,  27.7939,2,     -999,9,    385.1,2,     -999,9,     2.75,2,     0.01,2,     0.00,2,     0.55,2,     -999,9,     -999,9,     -999,9,     -999,9,     -999,9,     -999,9,     -999,9,     -999,     -999,9,     -999,9,     -999,9,     -999,9,  -1.4802,2,     -999,9,     -999,9,     -999,     -999,9,     -999,9,     -999,9,     -999,     -999,9,20150922,1221,      5.6,  80.3766,-149.8190,     -999,9,     -999,9
33HQ20150809  ,ARC01      ,48      ,  2,34         ,    6364,   11751,GSNIS-34   ,2,20150922,1112,  80.3694,-149.8547,     3859,      5.7,  -1.4794,  27.7968,2,  27.7967,2,    385.1,2,    385.9,2,     2.75,2,     0.03,2,     0.00,2,     0.55,2,    7.093,2,    3.812,2,    0.667,2,    3.659,2,   1918.7,2,   2002.7,2,   7.6903,4,    25.00,     72.8,2,     -999,1,     -999,1,     -999,1,  -1.4792,2,     1.42,2,     -2.7,2,      2.0,     3.90,2,     -999,1,     -999,9,     -999,     -999,1,20150922,1221,      5.6,  80.3766,-149.8190,     -999,9,  27.9278,2
33HQ20150809  ,ARC01      ,48      ,  2,33         ,    6364,   11752,GSNIS-33   ,2,20150922,1112,  80.3694,-149.8547,     3859,     21.0,  -1.4080,  28.0446,2,     -999,9,    385.0,2,     -999,9,     2.75,2,     0.02,2,     0.00,2,     0.56,2,     -999,9,     -999,9,     -999,9,     -999,9,     -999,9,     -999,9,     -999,9,     -999,     -999,9,     -999,9,     -999,9,     -999,9,  -1.4291,2,     -999,9,     -999,9,     -999,     -999,9,     -999,9,     -999,9,     -999,     -999,9,20150922,1218,     20.8,  80.3764,-149.8205,     -999,9,     -999,9
33HQ20150809  ,ARC01      ,48      ,  2,32         ,    6364,   11752,GSNIS-32   ,2,20150922,1112,  80.3694,-149.8547,     3859,     21.0,  -1.3927,  28.1065,2,     -999,9,    385.0,2,     -999,9,     2.65,2,     0.02,2,     0.00,2,     0.56,2,     -999,9,     -999,9,     -999,9,     -999,9,     -999,9,     -999,9,     -999,9,     -999,     -999,9,     -999,9,     -999,9,     -999,9,  -1.3626,4,     -999,9,     -999,9,     -999,     -999,9,     -999,9,     -999,9,     -999,     -999,9,20150922,1218,     20.8,  80.3764,-149.8206,     -999,9,     -999,9
33HQ20150809  ,ARC01      ,48      ,  2,31         ,    6364,   11752,GSNIS-31   ,2,20150922,1112,  80.3694,-149.8547,     3859,     21.0,  -1.3918,  28.1392,2,  27.9349,2,    388.2,2,    390.4,2,     2.75,2,     0.02,2,     0.00,2,     0.55,2,    7.122,2,    3.804,2,    0.662,2,    3.393,2,   1926.9,2,   2010.0,2,   7.6899,2,    25.00,     71.9,2,     -999,1,     -999,1,     -999,1,  -1.3479,4,     1.45,2,      3.6,2,      2.0,     3.43,2,     -999,1,     -999,9,     -999,     -999,1,20150922,1218,     20.8,  80.3764,-149.8206,     -999,9,  28.0666,2
33HQ20150809  ,ARC01      ,48      ,  2,30         ,    6364,   11753,GSNIS-30   ,2,20150922,1112,  80.3694,-149.8547,     3859,     31.1,  -1.1239,  29.2051,2,     -999,9,    407.0,2,     -999,9,     2.75,2,     0.03,2,     0.01,2,     0.60,2,     -999,9,     -999,9,     -999,9,     -999,9,     -999,9,     -999,9,     -999,9,     -999,     -999,9,     -999,9,     -999,9,     -999,9,  -1.1199,2,     -999,9,     -999,9,     -999,     -999,9,     -999,9,     -999,9,     -999,     -999,9,20150922,1209,     30.7,  80.3754,-149.8257,     -999,9,     -999,9
33HQ20150809  ,ARC01      ,48      ,  2,29         ,    6364,   11753,GSNIS-29   ,2,20150922,1112,  80.3694,-149.8547,     3859,     31.1,  -1.1207,  29.2083,2,     -999,9,    407.0,2,     -999,9,     2.75,2,     0.05,2,     0.01,2,     0.60,2,     -999,9,     -999,9,     -999,9,     -999,9,     -999,9,     -999,9,     -999,9,     -999,     -999,9,     -999,9,     -999,9,     -999,9,  -1.1169,2,     -999,9,     -999,9,     -999,     -999,9,     -999,9,     -999,9,     -999,     -999,9,20150922,1209,     30.7,  80.3754,-149.8257,     -999,9,     -999,9
33HQ20150809  ,ARC01      ,48      ,  2,28         ,    6364,   11753,GSNIS-28   ,2,20150922,1112,  80.3694,-149.8547,     3859,     31.1,  -1.1182,  29.2103,2,  29.3779,2,    407.0,2,    394.6,2,     2.75,2,     0.05,2,     0.01,2,     0.60,2,    7.078,2,    3.824,2,    0.639,2,    3.398,2,   1999.1,2,   2101.4,2,   7.6171,4,    25.00,     76.3,2,     -999,1,     -999,1,     -999,1,  -1.1142,2,     1.47,2,     -2.9,2,      2.0,     3.87,2,     -999,1,     -999,9,     -999,     -999,1,20150922,1209,     30.7,  80.3754,-149.8257,     -999,9,  29.5165,2
33HQ20150809  ,ARC01      ,48      ,  2,25         ,    6364,   11754,GSNIS-25   ,2,20150922,1112,  80.3694,-149.8547,     3859,     49.2,  -0.5842,  31.2229,2,  31.2571,2,    375.4,2,    355.0,2,     8.91,2,     2.56,2,     0.07,2,     0.92,2,    6.561,2,    3.522,2,    0.518,2,    2.736,2,   2076.1,2,   2167.6,2,   7.6761,2,    25.00,     67.8,2,     -999,1,     -999,1,     -999,1,  -0.6199,3,     1.10,2,     -9.7,2,      1.9,     6.36,2,     -999,1,     -999,9,     -999,     -999,1,20150922,1207,     48.7,  80.3752,-149.8269,     -999,9,  31.4045,2
33HQ20150809  ,ARC01      ,48      ,  2,27         ,    6364,   11754,GSNIS-27   ,2,20150922,1112,  80.3694,-149.8547,     3859,     49.2,  -0.5570,  31.2302,2,     -999,9,    375.4,2,     -999,9,     9.50,2,     2.98,2,     0.04,2,     0.93,2,     -999,9,     -999,9,     -999,9,     -999,9,     -999,9,     -999,9,     -999,9,     -999,     -999,9,     -999,9,     -999,9,     -999,9,  -0.5592,2,     -999,9,     -999,9,     -999,     -999,9,     -999,9,     -999,9,     -999,     -999,9,20150922,1207,     48.7,  80.3752,-149.8268,     -999,9,     -999,9
33HQ20150809  ,ARC01      ,48      ,  2,26         ,    6364,   11754,GSNIS-26   ,2,20150922,1112,  80.3694,-149.8547,     3859,     49.2,  -0.5665,  31.2212,2,     -999,9,    375.4,2,     -999,9,     9.20,2,     2.78,2,     0.06,2,     0.94,2,     -999,9,     -999,9,     -999,9,     -999,9,     -999,9,     -999,9,     -999,9,     -999,     -999,9,     -999,9,     -999,9,     -999,9,  -0.5776,2,     -999,9,     -999,9,     -999,     -999,9,     -999,9,     -999,9,     -999,     -999,9,20150922,1207,     48.7,  80.3752,-149.8269,     -999,9,     -999,9
33HQ20150809  ,ARC01      ,48      ,  2,24         ,    6364,   11755,GSNIS-24   ,2,20150922,1112,  80.3694,-149.8547,     3859,     66.5,  -0.9389,  31.8018,2,     -999,9,    325.3,2,     -999,9,    16.44,2,     7.54,2,     0.00,2,     1.24,2,     -999,9,     -999,9,     -999,9,     -999,9,     -999,9,     -999,9,     -999,9,     -999,     -999,9,     -999,9,     -999,9,     -999,9,  -0.9415,2,     -999,9,     -999,9,     -999,     -999,9,     -999,9,     -999,9,     -999,     -999,9,20150922,1204,     65.7,  80.3749,-149.8283,     -999,9,     -999,9
33HQ20150809  ,ARC01      ,48      ,  2,23         ,    6364,   11755,GSNIS-23   ,2,20150922,1112,  80.3694,-149.8547,     3859,     66.5,  -0.9420,  31.8031,2,     -999,9,    325.3,2,     -999,9,    16.44,2,     7.59,2,     0.00,2,     1.25,2,     -999,9,     -999,9,     -999,9,     -999,9,     -999,9,     -999,9,     -999,9,     -999,     -999,9,     -999,9,     -999,9,     -999,9,  -0.9402,2,     -999,9,     -999,9,     -999,     -999,9,     -999,9,     -999,9,     -999,     -999,9,20150922,1204,     65.7,  80.3749,-149.8284,     -999,9,     -999,9
33HQ20150809  ,ARC01      ,48      ,  2,22         ,    6364,   11755,GSNIS-22   ,2,20150922,1112,  80.3694,-149.8547,     3859,     66.5,  -0.9419,  31.8034,2,  31.8234,2,    325.3,2,    324.5,2,    16.44,2,     7.52,2,     0.00,2,     1.24,2,    6.440,2,    3.443,2,    0.473,2,    2.512,2,   2118.3,2,   2202.5,2,   7.5978,2,    25.00,     67.1,2,     -999,1,     -999,1,     -999,1,  -0.9410,2,     0.73,2,    -17.4,2,      2.0,    10.34,2,     -999,1,     -999,9,     -999,     -999,1,20150922,1204,     65.7,  80.3749,-149.8284,     -999,9,  31.9734,2
33HQ20150809  ,ARC01      ,48      ,  2,19         ,    6364,   11756,GSNIS-19   ,2,20150922,1112,  80.3694,-149.8547,     3859,     91.8,  -1.2726,  32.2575,2,  32.2835,2,    306.6,2,    304.8,2,    24.17,2,    11.00,2,     0.00,2,     1.55,2,    6.320,2,    3.461,2,    0.471,2,    2.439,2,   2161.3,2,   2222.6,2,   7.5213,2,    25.00,     62.1,2,     -999,1,     -999,1,     -999,1,  -1.2738,2,     0.43,2,    -15.9,2,      2.5,    13.01,2,     -999,1,     -999,9,     -999,     -999,1,20150922,1202,     90.8,  80.3746,-149.8298,     -999,9,  32.4357,2
33HQ20150809  ,ARC01      ,48      ,  2,21         ,    6364,   11756,GSNIS-21   ,2,20150922,1112,  80.3694,-149.8547,     3859,     91.8,  -1.2717,  32.2584,2,     -999,9,    306.6,2,     -999,9,    24.17,2,    11.01,2,     0.00,2,     1.53,2,     -999,9,     -999,9,     -999,9,     -999,9,     -999,9,     -999,9,     -999,9,     -999,     -999,9,     -999,9,     -999,9,     -999,9,  -1.2725,2,     -999,9,     -999,9,     -999,     -999,9,     -999,9,     -999,9,     -999,     -999,9,20150922,1202,     90.8,  80.3746,-149.8297,     -999,9,     -999,9
33HQ20150809  ,ARC01      ,48      ,  2,20         ,    6364,   11756,GSNIS-20   ,2,20150922,1112,  80.3694,-149.8547,     3859,     91.8,  -1.2714,  32.2590,2,     -999,9,    306.6,2,     -999,9,    24.17,2,    10.99,2,     0.00,2,     1.54,2,     -999,9,     -999,9,     -999,9,     -999,9,     -999,9,     -999,9,     -999,9,     -999,     -999,9,     -999,9,     -999,9,     -999,9,  -1.2734,2,     -999,9,     -999,9,     -999,     -999,9,     -999,9,     -999,9,     -999,     -999,9,20150922,1202,     90.8,  80.3746,-149.8298,     -999,9,     -999,9
33HQ20150809  ,ARC01      ,48      ,  2,17         ,    6364,   11757,GSNIS-17   ,2,20150922,1112,  80.3694,-149.8547,     3859,    121.1,  -1.3984,  32.6175,2,     -999,9,    289.2,2,     -999,9,    29.54,2,    13.63,2,     0.00,2,     1.73,2,     -999,9,     -999,9,     -999,9,     -999,9,     -999,9,     -999,9,     -999,9,     -999,     -999,9,     -999,9,     -999,9,     -999,9,  -1.3981,2,     -999,9,     -999,9,     -999,     -999,9,     -999,9,     -999,9,     -999,     -999,9,20150922,1159,    119.8,  80.3743,-149.8313,     -999,9,     -999,9
33HQ20150809  ,ARC01      ,48      ,  2,16         ,    6364,   11757,GSNIS-16   ,2,20150922,1112,  80.3694,-149.8547,     3859,    121.1,  -1.3984,  32.6173,2,  32.6597,2,    289.2,2,    284.2,2,    29.83,2,    13.71,2,     0.00,2,     1.74,2,    6.210,2,    3.406,2,    0.447,2,    2.287,2,   2200.8,2,   2243.7,2,   7.4529,2,    25.00,     62.9,2,     -999,1,     -999,1,     -999,1,  -1.3980,2,     0.20,2,    -14.8,2,      2.0,    16.01,2,     -999,1,     -999,9,     -999,     -999,1,20150922,1159,    119.8,  80.3743,-149.8313,     -999,9,  32.8137,2
33HQ20150809  ,ARC01      ,48      ,  2,18         ,    6364,   11757,GSNIS-18   ,2,20150922,1112,  80.3694,-149.8547,     3859,    121.1,  -1.3990,  32.6200,2,     -999,9,    288.2,2,     -999,9,    29.64,2,    13.64,2,     0.00,2,     1.73,2,     -999,9,     -999,9,     -999,9,     -999,9,     -999,9,     -999,9,     -999,9,     -999,     -999,9,     -999,9,     -999,9,     -999,9,  -1.3981,2,     -999,9,     -999,9,     -999,     -999,9,     -999,9,     -999,9,     -999,     -999,9,20150922,1159,    119.8,  80.3743,-149.8312,     -999,9,     -999,9
33HQ20150809  ,ARC01      ,48      ,  2,15         ,    6364,   11758,GSNIS-15   ,2,20150922,1112,  80.3694,-149.8547,     3859,    151.6,  -1.4629,  32.9470,2,     -999,9,    274.2,2,     -999,9,    35.30,2,    15.39,2,     0.00,2,     1.84,2,     -999,9,     -999,9,     -999,9,     -999,9,     -999,9,     -999,9,     -999,9,     -999,     -999,9,     -999,9,     -999,9,     -999,9,  -1.4628,2,     -999,9,     -999,9,     -999,     -999,9,     -999,9,     -999,9,     -999,     -999,9,20150922,1157,    149.9,  80.3741,-149.8326,     -999,9,     -999,9
33HQ20150809  ,ARC01      ,48      ,  2,13         ,    6364,   11758,GSNIS-13   ,2,20150922,1112,  80.3694,-149.8547,     3859,    151.6,  -1.4630,  32.9470,2,  32.9601,2,    274.2,2,    276.0,2,    35.21,2,    15.33,2,     0.00,2,     1.85,2,    6.131,2,    3.394,2,    0.434,2,    2.196,2,   2226.8,2,   2262.9,2,   7.4266,2,    25.00,     63.3,2,     -999,1,     -999,1,     -999,1,  -1.4628,2,     0.13,2,     -6.0,2,      2.5,    16.75,2,     -999,1,     -999,9,     -999,     -999,1,20150922,1156,    149.9,  80.3740,-149.8327,     -999,9,  33.1155,2
33HQ20150809  ,ARC01      ,48      ,  2,14         ,    6364,   11758,GSNIS-14   ,2,20150922,1112,  80.3694,-149.8547,     3859,    151.6,  -1.4630,  32.9469,2,     -999,9,    274.2,2,     -999,9,    35.21,2,    15.35,2,     0.00,2,     1.84,2,     -999,9,     -999,9,     -999,9,     -999,9,     -999,9,     -999,9,     -999,9,     -999,     -999,9,     -999,9,     -999,9,     -999,9,  -1.4628,2,     -999,9,     -999,9,     -999,     -999,9,     -999,9,     -999,9,     -999,     -999,9,20150922,1157,    149.9,  80.3740,-149.8327,     -999,9,     -999,9
33HQ20150809  ,ARC01      ,48      ,  2,10         ,    6364,   11759,GSNIS-10   ,2,20150922,1112,  80.3694,-149.8547,     3859,    192.0,  -1.1941,  33.7129,2,  33.7390,2,    264.6,2,    267.6,2,    28.05,2,    14.46,2,     0.00,2,     1.51,2,    5.709,2,    2.907,2,    0.358,2,    1.431,2,   2225.1,2,   2280.3,2,   7.4915,2,    25.00,     62.9,2,     -999,1,     -999,1,     -999,1,  -1.1927,2,     0.26,2,     19.8,2,      2.0,    15.43,2,     -999,1,     -999,9,     -999,     -999,1,20150922,1153,    189.9,  80.3736,-149.8348,     -999,9,  33.8981,2
33HQ20150809  ,ARC01      ,48      ,  2,12         ,    6364,   11759,GSNIS-12   ,2,20150922,1112,  80.3694,-149.8547,     3859,    192.1,  -1.1948,  33.7121,2,     -999,9,    264.6,2,     -999,9,    27.95,2,    14.46,2,     0.00,2,     1.52,2,     -999,9,     -999,9,     -999,9,     -999,9,     -999,9,     -999,9,     -999,9,     -999,     -999,9,     -999,9,     -999,9,     -999,9,  -1.1935,2,     -999,9,     -999,9,     -999,     -999,9,     -999,9,     -999,9,     -999,     -999,9,20150922,1153,    189.9,  80.3736,-149.8347,     -999,9,     -999,9
33HQ20150809  ,ARC01      ,48      ,  2,11         ,    6364,   11759,GSNIS-11   ,2,20150922,1112,  80.3694,-149.8547,     3859,    192.1,  -1.1944,  33.7125,2,     -999,9,    264.6,2,     -999,9,    27.66,2,    14.41,2,     0.00,2,     1.50,2,     -999,9,     -999,9,     -999,9,     -999,9,     -999,9,     -999,9,     -999,9,     -999,     -999,9,     -999,9,     -999,9,     -999,9,  -1.1932,2,     -999,9,     -999,9,     -999,     -999,9,     -999,9,     -999,9,     -999,     -999,9,20150922,1153,    189.9,  80.3736,-149.8348,     -999,9,     -999,9
33HQ20150809  ,ARC01      ,48      ,  2,8          ,    6364,   11760,GSNIS-8    ,2,20150922,1112,  80.3694,-149.8547,     3859,    269.2,  -0.0191,  34.5548,2,     -999,9,    280.8,2,     -999,9,    10.74,2,    11.64,2,     0.00,2,     0.88,2,     -999,9,     -999,9,     -999,9,     -999,9,     -999,9,     -999,9,     -999,9,     -999,     -999,9,     -999,9,     -999,9,     -999,9,  -0.0189,2,     -999,9,     -999,9,     -999,     -999,9,     -999,9,     -999,9,     -999,     -999,9,20150922,1150,    266.2,  80.3733,-149.8364,     -999,9,     -999,9
33HQ20150809  ,ARC01      ,48      ,  2,7          ,    6364,   11760,GSNIS-7    ,2,20150922,1112,  80.3694,-149.8547,     3859,    269.2,  -0.0192,  34.5548,2,  34.5641,2,    280.8,2,    279.4,2,    11.04,2,    11.68,2,     0.00,2,     0.88,2,    5.708,2,    2.930,2,    0.384,2,    1.441,2,   2179.9,2,   2283.3,2,   7.6279,2,    25.00,     59.4,2,     -999,1,     -999,1,     -999,1,  -0.0186,2,     0.50,2,     50.6,2,      2.0,    12.68,2,     -999,1,     -999,9,     -999,     -999,1,20150922,1149,    266.1,  80.3733,-149.8365,     -999,9,  34.7271,2
33HQ20150809  ,ARC01      ,48      ,  2,9          ,    6364,   11760,GSNIS-9    ,2,20150922,1112,  80.3694,-149.8547,     3859,    269.2,  -0.0191,  34.5548,2,     -999,9,    280.8,2,     -999,9,    10.55,2,    11.58,2,     0.00,2,     0.87,2,     -999,9,     -999,9,     -999,9,     -999,9,     -999,9,     -999,9,     -999,9,     -999,     -999,9,     -999,9,     -999,9,     -999,9,     -999,9,     -999,9,     -999,9,     -999,     -999,9,     -999,9,     -999,9,     -999,     -999,9,20150922,1150,    266.2,  80.3733,-149.8364,     -999,9,     -999,9
33HQ20150809  ,ARC01      ,48      ,  2,4          ,    6364,   11761,GSNIS-4    ,2,20150922,1112,  80.3694,-149.8547,     3859,    344.1,   0.6713,  34.7783,2,  34.7777,2,    291.7,2,    291.3,2,     6.64,2,    12.00,2,     0.00,2,     0.80,2,    5.412,2,    2.812,2,    0.385,2,    1.293,2,   2164.0,2,   2291.1,2,   7.6894,2,    25.00,     54.8,2,     -999,1,     -999,1,     -999,1,   0.6714,2,     0.73,2,     52.0,2,      2.4,    12.59,2,     -999,1,     -999,9,     -999,     -999,1,20150922,1146,    340.2,  80.3730,-149.8381,     -999,9,  34.9417,2
33HQ20150809  ,ARC01      ,48      ,  2,5          ,    6364,   11761,GSNIS-5    ,2,20150922,1112,  80.3694,-149.8547,     3859,    344.2,   0.6714,  34.7783,2,     -999,9,    291.7,2,     -999,9,     6.64,2,    12.01,2,     0.00,2,     0.82,2,     -999,9,     -999,9,     -999,9,     -999,9,     -999,9,     -999,9,     -999,9,     -999,     -999,9,     -999,9,     -999,9,     -999,9,   0.6714,2,     -999,9,     -999,9,     -999,     -999,9,     -999,9,     -999,9,     -999,     -999,9,20150922,1147,    340.2,  80.3730,-149.8381,     -999,9,     -999,9
33HQ20150809  ,ARC01      ,48      ,  2,6          ,    6364,   11761,GSNIS-6    ,2,20150922,1112,  80.3694,-149.8547,     3859,    344.2,   0.6714,  34.7784,2,     -999,9,    291.7,2,     -999,9,     6.64,2,    12.01,2,     0.00,2,     0.82,2,     -999,9,     -999,9,     -999,9,     -999,9,     -999,9,     -999,9,     -999,9,     -999,     -999,9,     -999,9,     -999,9,     -999,9,   0.6715,2,     -999,9,     -999,9,     -999,     -999,9,     -999,9,     -999,9,     -999,     -999,9,20150922,1147,    340.2,  80.3730,-149.8380,     -999,9,     -999,9