BOTTLE,20221220CCHSIOAMB
EXPOCODE,SECT_ID,STNNBR,CASTNO,SAMPNO,GEOTR_EVENT,GEOTR_SAMPNO,BTLNBR,BTLNBR_FLAG_W,DATE,TIME,LATITUDE,LONGITUDE,DEPTH,CTDPRS,CTDTMP,CTDSAL,CTDSAL_FLAG_W,SALNTY,SALNTY_FLAG_W,CTDOXY,CTDOXY_FLAG_W,OXYGEN,OXYGEN_FLAG_W,SILCAT,SILCAT_FLAG_W,NITRAT,NITRAT_FLAG_W,NITRIT,NITRIT_FLAG_W,PHSPHT,PHSPHT_FLAG_W,CFC-11,CFC-11_FLAG_W,CFC-12,CFC-12_FLAG_W,CFC113,CFC113_FLAG_W,SF6,SF6_FLAG_W,TCARBN,TCARBN_FLAG_W,ALKALI,ALKALI_FLAG_W,PH_SWS,PH_SWS_FLAG_W,PH_TMP,DOC,DOC_FLAG_W,TRITUM,TRITUM_FLAG_W,HELIUM,HELIUM_FLAG_W,DELHE3,DELHE3_FLAG_W,REFTMP,REFTMP_FLAG_W,DELC13,DELC13_FLAG_W,DELC14,DELC14_FLAG_W,C14ERR,TDN,TDN_FLAG_W,DELO18,DELO18_FLAG_W,DELO17,DELO17_FLAG_W,CH4,CH4,CH4_FLAG_W,BTL_DATE,BTL_TIME,CTDDEPTH,BTL_LAT,BTL_LON,LAB_DEN,LAB_DEN_FLAG_W,SALTREF,SALTREF_FLAG_W
,,,,,,,,,,,,,METERS,DBAR,ITS-90,PSS-78,,PSS-78,,UMOL/KG,,UMOL/KG,,UMOL/KG,,UMOL/KG,,UMOL/KG,,UMOL/KG,,PMOL/KG,,PMOL/KG,,PMOL/KG,,FMOL/KG,,UMOL/KG,,UMOL/KG,,,,DEG C,UMOL/KG,,TU,,NMOL/KG,,PERCNT,,ITS-90,,/MILLE,,/MILLE,,/MILLE,UMOL/KG,,/MILLE,,/MILLE,,NMOL/KG,NMOL/L,,,,METERS,,,KG/M^3,,G/KG,
33HQ20150809  ,ARC01      ,48      , 14,36         ,    6377,   11854,GSNIS-36   ,2,20150924,1014,  80.4986,-148.5969,     3859,   2491.1,  -0.3842,  34.9530,2,     -999,9,    287.0,2,     -999,9,    12.50,2,    14.28,2,     0.00,2,     1.00,2,     -999,9,     -999,9,     -999,9,     -999,9,     -999,9,     -999,9,     -999,9,     -999,     -999,9,     -999,9,     -999,9,     -999,9,  -0.3842,2,     -999,9,     -999,9,     -999,     -999,9,     -999,9,     -999,9,     -999,     -999,9,20150924,1056,   2450.2,  80.4988,-148.5947,     -999,9,     -999,9
33HQ20150809  ,ARC01      ,48      , 14,35         ,    6377,   11854,GSNIS-35   ,2,20150924,1014,  80.4986,-148.5969,     3859,   2491.1,  -0.3842,  34.9530,2,     -999,9,    287.0,2,     -999,9,    12.50,2,    14.27,2,     0.00,2,     1.00,2,     -999,9,     -999,9,     -999,9,     -999,9,     -999,9,     -999,9,     -999,9,     -999,     -999,9,     -999,9,     -999,9,     -999,9,  -0.3842,2,     -999,9,     -999,9,     -999,     -999,9,     -999,9,     -999,9,     -999,     -999,9,20150924,1055,   2450.2,  80.4988,-148.5947,     -999,9,     -999,9
33HQ20150809  ,ARC01      ,48      , 14,34         ,    6377,   11854,GSNIS-34   ,2,20150924,1014,  80.4986,-148.5969,     3859,   2491.1,  -0.3842,  34.9530,2,     -999,9,    287.0,2,     -999,9,    12.60,2,    14.28,2,     0.00,2,     0.99,2,     -999,9,     -999,9,     -999,9,     -999,9,     -999,9,     -999,9,     -999,9,     -999,     -999,9,     -999,9,     -999,9,     -999,9,  -0.3842,2,     -999,9,     -999,9,     -999,     -999,9,     -999,9,     -999,9,     -999,     -999,9,20150924,1055,   2450.2,  80.4988,-148.5947,     -999,9,     -999,9
33HQ20150809  ,ARC01      ,48      , 14,33         ,    6377,   11854,GSNIS-33   ,2,20150924,1014,  80.4986,-148.5969,     3859,   2491.1,  -0.3842,  34.9530,2,     -999,9,    287.0,2,     -999,9,    12.40,2,    14.27,2,     0.00,2,     0.99,2,     -999,9,     -999,9,     -999,9,     -999,9,     -999,9,     -999,9,     -999,9,     -999,     -999,9,     -999,9,     -999,9,     -999,9,  -0.3842,2,     -999,9,     -999,9,     -999,     -999,9,     -999,9,     -999,9,     -999,     -999,9,20150924,1055,   2450.2,  80.4988,-148.5947,     -999,9,     -999,9
33HQ20150809  ,ARC01      ,48      , 14,32         ,    6377,   11854,GSNIS-32   ,2,20150924,1014,  80.4986,-148.5969,     3859,   2491.1,  -0.3842,  34.9530,2,     -999,9,    287.0,2,     -999,9,    12.40,2,    14.26,2,     0.00,2,     0.99,2,     -999,9,     -999,9,     -999,9,     -999,9,     -999,9,     -999,9,     -999,9,     -999,     -999,9,     -999,9,     -999,9,     -999,9,  -0.3842,2,     -999,9,     -999,9,     -999,     -999,9,     -999,9,     -999,9,     -999,     -999,9,20150924,1055,   2450.2,  80.4988,-148.5947,     -999,9,     -999,9
33HQ20150809  ,ARC01      ,48      , 14,31         ,    6377,   11854,GSNIS-31   ,2,20150924,1014,  80.4986,-148.5969,     3859,   2491.1,  -0.3842,  34.9530,2,  34.9528,2,    287.0,2,    287.3,2,    12.40,2,    14.27,2,     0.00,2,     0.99,2,     -999,9,     -999,9,     -999,9,     -999,9,     -999,9,     -999,9,     -999,9,     -999,     -999,9,     -999,9,     -999,9,     -999,9,  -0.3841,2,     -999,9,     -999,9,     -999,     -999,9,     -999,9,     -999,9,     -999,     -999,9,20150924,1055,   2450.2,  80.4988,-148.5947,     -999,9,  35.1176,2
33HQ20150809  ,ARC01      ,48      , 14,26         ,    6377,   11855,GSNIS-26   ,2,20150924,1014,  80.4986,-148.5969,     3859,   2951.8,  -0.3366,  34.9566,2,     -999,9,    284.1,2,     -999,9,    13.18,2,    14.38,2,     0.00,2,     1.01,2,     -999,9,     -999,9,     -999,9,     -999,9,     -999,9,     -999,9,     -999,9,     -999,     -999,9,     -999,9,     -999,9,     -999,9,  -0.3366,2,     -999,9,     -999,9,     -999,     -999,9,     -999,9,     -999,9,     -999,     -999,9,20150924,1045,   2900.2,  80.4988,-148.5949,     -999,9,     -999,9
33HQ20150809  ,ARC01      ,48      , 14,25         ,    6377,   11855,GSNIS-25   ,2,20150924,1014,  80.4986,-148.5969,     3859,   2951.8,  -0.3366,  34.9566,2,  34.9558,2,    284.1,2,    284.7,2,    13.09,2,    14.36,2,     0.00,2,     1.01,2,     -999,9,     -999,9,     -999,9,     -999,9,     -999,9,     -999,9,     -999,9,     -999,     -999,9,     -999,9,     -999,9,     -999,9,  -0.3365,2,     -999,9,     -999,9,     -999,     -999,9,     -999,9,     -999,9,     -999,     -999,9,20150924,1045,   2900.2,  80.4988,-148.5949,     -999,9,  35.1206,2
33HQ20150809  ,ARC01      ,48      , 14,27         ,    6377,   11855,GSNIS-27   ,2,20150924,1014,  80.4986,-148.5969,     3859,   2951.8,  -0.3366,  34.9566,2,     -999,9,    284.1,2,     -999,9,    13.18,2,    14.35,2,     0.00,2,     1.01,2,     -999,9,     -999,9,     -999,9,     -999,9,     -999,9,     -999,9,     -999,9,     -999,     -999,9,     -999,9,     -999,9,     -999,9,  -0.3365,2,     -999,9,     -999,9,     -999,     -999,9,     -999,9,     -999,9,     -999,     -999,9,20150924,1045,   2900.2,  80.4988,-148.5949,     -999,9,     -999,9
33HQ20150809  ,ARC01      ,48      , 14,29         ,    6377,   11855,GSNIS-29   ,2,20150924,1014,  80.4986,-148.5969,     3859,   2951.8,  -0.3366,  34.9567,2,     -999,9,    284.1,2,     -999,9,    13.18,2,    14.34,2,     0.00,2,     1.01,2,     -999,9,     -999,9,     -999,9,     -999,9,     -999,9,     -999,9,     -999,9,     -999,     -999,9,     -999,9,     -999,9,     -999,9,  -0.3365,2,     -999,9,     -999,9,     -999,     -999,9,     -999,9,     -999,9,     -999,     -999,9,20150924,1045,   2900.2,  80.4988,-148.5949,     -999,9,     -999,9
33HQ20150809  ,ARC01      ,48      , 14,30         ,    6377,   11855,GSNIS-30   ,2,20150924,1014,  80.4986,-148.5969,     3859,   2951.8,  -0.3366,  34.9566,2,     -999,9,    284.1,2,     -999,9,    13.18,2,    14.33,2,     0.00,2,     1.00,2,     -999,9,     -999,9,     -999,9,     -999,9,     -999,9,     -999,9,     -999,9,     -999,     -999,9,     -999,9,     -999,9,     -999,9,  -0.3364,2,     -999,9,     -999,9,     -999,     -999,9,     -999,9,     -999,9,     -999,     -999,9,20150924,1045,   2900.2,  80.4988,-148.5949,     -999,9,     -999,9
33HQ20150809  ,ARC01      ,48      , 14,28         ,    6377,   11855,GSNIS-28   ,2,20150924,1014,  80.4986,-148.5969,     3859,   2951.8,  -0.3365,  34.9567,2,     -999,9,    284.1,2,     -999,9,    13.18,2,    14.35,2,     0.00,2,     1.02,2,     -999,9,     -999,9,     -999,9,     -999,9,     -999,9,     -999,9,     -999,9,     -999,     -999,9,     -999,9,     -999,9,     -999,9,  -0.3366,2,     -999,9,     -999,9,     -999,     -999,9,     -999,9,     -999,9,     -999,     -999,9,20150924,1045,   2900.2,  80.4988,-148.5949,     -999,9,     -999,9
33HQ20150809  ,ARC01      ,48      , 14,24         ,    6377,   11856,GSNIS-24   ,2,20150924,1014,  80.4986,-148.5969,     3859,   3362.3,  -0.3003,  34.9565,2,     -999,9,    284.5,2,     -999,9,    13.18,2,    14.37,2,     0.00,2,     1.00,2,     -999,9,     -999,9,     -999,9,     -999,9,     -999,9,     -999,9,     -999,9,     -999,     -999,9,     -999,9,     -999,9,     -999,9,  -0.3003,2,     -999,9,     -999,9,     -999,     -999,9,     -999,9,     -999,9,     -999,     -999,9,20150924,1036,   3300.4,  80.4987,-148.5952,     -999,9,     -999,9
33HQ20150809  ,ARC01      ,48      , 14,23         ,    6377,   11856,GSNIS-23   ,2,20150924,1014,  80.4986,-148.5969,     3859,   3362.3,  -0.3002,  34.9565,2,     -999,9,    284.5,2,     -999,9,    13.09,2,    14.37,2,     0.00,2,     0.99,2,     -999,9,     -999,9,     -999,9,     -999,9,     -999,9,     -999,9,     -999,9,     -999,     -999,9,     -999,9,     -999,9,     -999,9,  -0.3004,2,     -999,9,     -999,9,     -999,     -999,9,     -999,9,     -999,9,     -999,     -999,9,20150924,1036,   3300.4,  80.4987,-148.5952,     -999,9,     -999,9
33HQ20150809  ,ARC01      ,48      , 14,22         ,    6377,   11856,GSNIS-22   ,2,20150924,1014,  80.4986,-148.5969,     3859,   3362.3,  -0.3003,  34.9565,2,     -999,9,    284.5,2,     -999,9,    13.18,2,    14.36,2,     0.00,2,     1.01,2,     -999,9,     -999,9,     -999,9,     -999,9,     -999,9,     -999,9,     -999,9,     -999,     -999,9,     -999,9,     -999,9,     -999,9,  -0.3003,2,     -999,9,     -999,9,     -999,     -999,9,     -999,9,     -999,9,     -999,     -999,9,20150924,1036,   3300.4,  80.4987,-148.5952,     -999,9,     -999,9
33HQ20150809  ,ARC01      ,48      , 14,21         ,    6377,   11856,GSNIS-21   ,2,20150924,1014,  80.4986,-148.5969,     3859,   3362.3,  -0.3003,  34.9565,2,     -999,9,    284.5,2,     -999,9,    13.18,2,    14.36,2,     0.00,2,     1.00,2,     -999,9,     -999,9,     -999,9,     -999,9,     -999,9,     -999,9,     -999,9,     -999,     -999,9,     -999,9,     -999,9,     -999,9,  -0.3004,2,     -999,9,     -999,9,     -999,     -999,9,     -999,9,     -999,9,     -999,     -999,9,20150924,1036,   3300.4,  80.4987,-148.5952,     -999,9,     -999,9
33HQ20150809  ,ARC01      ,48      , 14,20         ,    6377,   11856,GSNIS-20   ,2,20150924,1014,  80.4986,-148.5969,     3859,   3362.3,  -0.3003,  34.9565,2,     -999,9,    284.5,2,     -999,9,    13.18,2,    14.40,2,     0.00,2,     1.01,2,     -999,9,     -999,9,     -999,9,     -999,9,     -999,9,     -999,9,     -999,9,     -999,     -999,9,     -999,9,     -999,9,     -999,9,  -0.3004,2,     -999,9,     -999,9,     -999,     -999,9,     -999,9,     -999,9,     -999,     -999,9,20150924,1036,   3300.4,  80.4987,-148.5952,     -999,9,     -999,9
33HQ20150809  ,ARC01      ,48      , 14,19         ,    6377,   11856,GSNIS-19   ,2,20150924,1014,  80.4986,-148.5969,     3859,   3362.3,  -0.3003,  34.9565,2,  34.9564,2,    284.5,2,    284.5,2,    13.18,2,    14.36,2,     0.00,2,     1.01,2,     -999,9,     -999,9,     -999,9,     -999,9,     -999,9,     -999,9,     -999,9,     -999,     -999,9,     -999,9,     -999,9,     -999,9,  -0.3004,2,     -999,9,     -999,9,     -999,     -999,9,     -999,9,     -999,9,     -999,     -999,9,20150924,1036,   3300.4,  80.4987,-148.5952,     -999,9,  35.1212,2
33HQ20150809  ,ARC01      ,48      , 14,13         ,    6377,   11857,GSNIS-13   ,2,20150924,1014,  80.4986,-148.5969,     3859,   3727.5,  -0.2656,  34.9564,2,  34.9566,2,    284.7,2,    285.1,2,    13.18,2,    14.35,2,     0.00,2,     0.99,2,     -999,9,     -999,9,     -999,9,     -999,9,     -999,9,     -999,9,     -999,9,     -999,     -999,9,     -999,9,     -999,9,     -999,9,  -0.2657,2,     -999,9,     -999,9,     -999,     -999,9,     -999,9,     -999,9,     -999,     -999,9,20150924,1027,   3655.9,  80.4987,-148.5957,     -999,9,  35.1214,2
33HQ20150809  ,ARC01      ,48      , 14,18         ,    6377,   11857,GSNIS-18   ,2,20150924,1014,  80.4986,-148.5969,     3859,   3727.5,  -0.2656,  34.9563,2,     -999,9,    284.8,2,     -999,9,    13.18,2,    14.36,2,     0.00,2,     1.00,2,     -999,9,     -999,9,     -999,9,     -999,9,     -999,9,     -999,9,     -999,9,     -999,     -999,9,     -999,9,     -999,9,     -999,9,  -0.2657,2,     -999,9,     -999,9,     -999,     -999,9,     -999,9,     -999,9,     -999,     -999,9,20150924,1028,   3655.9,  80.4987,-148.5956,     -999,9,     -999,9
33HQ20150809  ,ARC01      ,48      , 14,14         ,    6377,   11857,GSNIS-14   ,2,20150924,1014,  80.4986,-148.5969,     3859,   3727.5,  -0.2656,  34.9564,2,     -999,9,    284.8,2,     -999,9,    13.18,2,    14.36,2,     0.00,2,     0.99,2,     -999,9,     -999,9,     -999,9,     -999,9,     -999,9,     -999,9,     -999,9,     -999,     -999,9,     -999,9,     -999,9,     -999,9,  -0.2657,2,     -999,9,     -999,9,     -999,     -999,9,     -999,9,     -999,9,     -999,     -999,9,20150924,1027,   3655.9,  80.4987,-148.5957,     -999,9,     -999,9
33HQ20150809  ,ARC01      ,48      , 14,17         ,    6377,   11857,GSNIS-17   ,2,20150924,1014,  80.4986,-148.5969,     3859,   3727.5,  -0.2656,  34.9564,2,     -999,9,    284.8,2,     -999,9,    13.09,2,    14.36,2,     0.00,2,     1.00,2,     -999,9,     -999,9,     -999,9,     -999,9,     -999,9,     -999,9,     -999,9,     -999,     -999,9,     -999,9,     -999,9,     -999,9,  -0.2657,2,     -999,9,     -999,9,     -999,     -999,9,     -999,9,     -999,9,     -999,     -999,9,20150924,1028,   3655.9,  80.4987,-148.5956,     -999,9,     -999,9
33HQ20150809  ,ARC01      ,48      , 14,16         ,    6377,   11857,GSNIS-16   ,2,20150924,1014,  80.4986,-148.5969,     3859,   3727.5,  -0.2656,  34.9563,2,     -999,9,    284.7,2,     -999,9,    13.18,2,    14.36,2,     0.00,2,     1.00,2,     -999,9,     -999,9,     -999,9,     -999,9,     -999,9,     -999,9,     -999,9,     -999,     -999,9,     -999,9,     -999,9,     -999,9,  -0.2657,2,     -999,9,     -999,9,     -999,     -999,9,     -999,9,     -999,9,     -999,     -999,9,20150924,1028,   3655.9,  80.4987,-148.5956,     -999,9,     -999,9
33HQ20150809  ,ARC01      ,48      , 14,15         ,    6377,   11857,GSNIS-15   ,2,20150924,1014,  80.4986,-148.5969,     3859,   3727.5,  -0.2656,  34.9563,2,     -999,9,    284.7,2,     -999,9,    13.18,2,    14.36,2,     0.00,2,     1.00,2,     -999,9,     -999,9,     -999,9,     -999,9,     -999,9,     -999,9,     -999,9,     -999,     -999,9,     -999,9,     -999,9,     -999,9,  -0.2657,2,     -999,9,     -999,9,     -999,     -999,9,     -999,9,     -999,9,     -999,     -999,9,20150924,1027,   3655.9,  80.4987,-148.5956,     -999,9,     -999,9
33HQ20150809  ,ARC01      ,48      , 14,12         ,    6377,   11858,GSNIS-12   ,2,20150924,1014,  80.4986,-148.5969,     3859,   3804.3,  -0.2579,  34.9562,2,     -999,9,    284.7,2,     -999,9,    13.28,2,    14.35,2,     0.00,2,     1.00,2,     -999,9,     -999,9,     -999,9,     -999,9,     -999,9,     -999,9,     -999,9,     -999,     -999,9,     -999,9,     -999,9,     -999,9,  -0.2581,2,     -999,9,     -999,9,     -999,     -999,9,     -999,9,     -999,9,     -999,     -999,9,20150924,1023,   3730.5,  80.4987,-148.5960,     -999,9,     -999,9
33HQ20150809  ,ARC01      ,48      , 14,8          ,    6377,   11858,GSNIS-8    ,2,20150924,1014,  80.4986,-148.5969,     3859,   3804.3,  -0.2579,  34.9562,2,     -999,9,    284.7,2,     -999,9,    13.09,2,    14.36,2,     0.00,2,     1.00,2,     -999,9,     -999,9,     -999,9,     -999,9,     -999,9,     -999,9,     -999,9,     -999,     -999,9,     -999,9,     -999,9,     -999,9,  -0.2580,2,     -999,9,     -999,9,     -999,     -999,9,     -999,9,     -999,9,     -999,     -999,9,20150924,1023,   3730.5,  80.4987,-148.5960,     -999,9,     -999,9
33HQ20150809  ,ARC01      ,48      , 14,11         ,    6377,   11858,GSNIS-11   ,2,20150924,1014,  80.4986,-148.5969,     3859,   3804.3,  -0.2578,  34.9562,2,     -999,9,    284.7,2,     -999,9,    13.18,2,    14.35,2,     0.00,2,     1.00,2,     -999,9,     -999,9,     -999,9,     -999,9,     -999,9,     -999,9,     -999,9,     -999,     -999,9,     -999,9,     -999,9,     -999,9,  -0.2581,2,     -999,9,     -999,9,     -999,     -999,9,     -999,9,     -999,9,     -999,     -999,9,20150924,1023,   3730.5,  80.4987,-148.5960,     -999,9,     -999,9
33HQ20150809  ,ARC01      ,48      , 14,10         ,    6377,   11858,GSNIS-10   ,2,20150924,1014,  80.4986,-148.5969,     3859,   3804.3,  -0.2578,  34.9560,2,     -999,9,    284.7,2,     -999,9,    13.18,2,    14.37,2,     0.00,2,     1.00,2,     -999,9,     -999,9,     -999,9,     -999,9,     -999,9,     -999,9,     -999,9,     -999,     -999,9,     -999,9,     -999,9,     -999,9,  -0.2579,2,     -999,9,     -999,9,     -999,     -999,9,     -999,9,     -999,9,     -999,     -999,9,20150924,1023,   3730.5,  80.4987,-148.5960,     -999,9,     -999,9
33HQ20150809  ,ARC01      ,48      , 14,9          ,    6377,   11858,GSNIS-9    ,2,20150924,1014,  80.4986,-148.5969,     3859,   3804.3,  -0.2578,  34.9563,2,     -999,9,    284.7,2,     -999,9,    13.09,2,    14.36,2,     0.00,2,     1.00,2,     -999,9,     -999,9,     -999,9,     -999,9,     -999,9,     -999,9,     -999,9,     -999,     -999,9,     -999,9,     -999,9,     -999,9,  -0.2581,2,     -999,9,     -999,9,     -999,     -999,9,     -999,9,     -999,9,     -999,     -999,9,20150924,1023,   3730.5,  80.4987,-148.5960,     -999,9,     -999,9
33HQ20150809  ,ARC01      ,48      , 14,7          ,    6377,   11858,GSNIS-7    ,2,20150924,1014,  80.4986,-148.5969,     3859,   3804.3,  -0.2579,  34.9562,2,  34.9589,2,    284.7,2,    291.3,4,    13.18,2,    14.39,2,     0.00,2,     1.00,2,     -999,9,     -999,9,     -999,9,     -999,9,     -999,9,     -999,9,     -999,9,     -999,     -999,9,     -999,9,     -999,9,     -999,9,  -0.2580,2,     -999,9,     -999,9,     -999,     -999,9,     -999,9,     -999,9,     -999,     -999,9,20150924,1023,   3730.5,  80.4987,-148.5960,     -999,9,  35.1238,2
33HQ20150809  ,ARC01      ,48      , 14,1          ,    6377,   11859,GSNIS-1    ,2,20150924,1014,  80.4986,-148.5969,     3859,   3855.7,  -0.2527,  34.9561,2,  34.9570,2,    284.4,2,    284.6,2,    13.18,2,    14.36,2,     0.00,2,     1.00,2,     -999,9,     -999,9,     -999,9,     -999,9,     -999,9,     -999,9,     -999,9,     -999,     -999,9,     -999,9,     -999,9,     -999,9,  -0.2527,2,     -999,9,     -999,9,     -999,     -999,9,     -999,9,     -999,9,     -999,     -999,9,20150924,1016,   3780.5,  80.4986,-148.5967,     -999,9,  35.1218,2
33HQ20150809  ,ARC01      ,48      , 14,6          ,    6377,   11859,GSNIS-6    ,2,20150924,1014,  80.4986,-148.5969,     3859,   3855.7,  -0.2527,  34.9561,2,     -999,9,    284.4,2,     -999,9,    13.18,2,    14.38,2,     0.00,2,     1.00,2,     -999,9,     -999,9,     -999,9,     -999,9,     -999,9,     -999,9,     -999,9,     -999,     -999,9,     -999,9,     -999,9,     -999,9,  -0.2529,2,     -999,9,     -999,9,     -999,     -999,9,     -999,9,     -999,9,     -999,     -999,9,20150924,1016,   3780.5,  80.4986,-148.5966,     -999,9,     -999,9
33HQ20150809  ,ARC01      ,48      , 14,5          ,    6377,   11859,GSNIS-5    ,2,20150924,1014,  80.4986,-148.5969,     3859,   3855.7,  -0.2527,  34.9562,2,     -999,9,    284.4,2,     -999,9,    13.18,2,    14.37,2,     0.00,2,     1.00,2,     -999,9,     -999,9,     -999,9,     -999,9,     -999,9,     -999,9,     -999,9,     -999,     -999,9,     -999,9,     -999,9,     -999,9,  -0.2528,2,     -999,9,     -999,9,     -999,     -999,9,     -999,9,     -999,9,     -999,     -999,9,20150924,1016,   3780.5,  80.4986,-148.5966,     -999,9,     -999,9