BOTTLE,20221220CCHSIOAMB
EXPOCODE,SECT_ID,STNNBR,CASTNO,SAMPNO,GEOTR_EVENT,GEOTR_SAMPNO,BTLNBR,BTLNBR_FLAG_W,DATE,TIME,LATITUDE,LONGITUDE,DEPTH,CTDPRS,CTDTMP,CTDSAL,CTDSAL_FLAG_W,SALNTY,SALNTY_FLAG_W,CTDOXY,CTDOXY_FLAG_W,OXYGEN,OXYGEN_FLAG_W,SILCAT,SILCAT_FLAG_W,NITRAT,NITRAT_FLAG_W,NITRIT,NITRIT_FLAG_W,PHSPHT,PHSPHT_FLAG_W,CFC-11,CFC-11_FLAG_W,CFC-12,CFC-12_FLAG_W,CFC113,CFC113_FLAG_W,SF6,SF6_FLAG_W,TCARBN,TCARBN_FLAG_W,ALKALI,ALKALI_FLAG_W,PH_SWS,PH_SWS_FLAG_W,PH_TMP,DOC,DOC_FLAG_W,TRITUM,TRITUM_FLAG_W,HELIUM,HELIUM_FLAG_W,DELHE3,DELHE3_FLAG_W,REFTMP,REFTMP_FLAG_W,DELC13,DELC13_FLAG_W,DELC14,DELC14_FLAG_W,C14ERR,TDN,TDN_FLAG_W,DELO18,DELO18_FLAG_W,DELO17,DELO17_FLAG_W,CH4,CH4,CH4_FLAG_W,BTL_DATE,BTL_TIME,CTDDEPTH,BTL_LAT,BTL_LON,LAB_DEN,LAB_DEN_FLAG_W,SALTREF,SALTREF_FLAG_W
,,,,,,,,,,,,,METERS,DBAR,ITS-90,PSS-78,,PSS-78,,UMOL/KG,,UMOL/KG,,UMOL/KG,,UMOL/KG,,UMOL/KG,,UMOL/KG,,PMOL/KG,,PMOL/KG,,PMOL/KG,,FMOL/KG,,UMOL/KG,,UMOL/KG,,,,DEG C,UMOL/KG,,TU,,NMOL/KG,,PERCNT,,ITS-90,,/MILLE,,/MILLE,,/MILLE,UMOL/KG,,/MILLE,,/MILLE,,NMOL/KG,NMOL/L,,,,METERS,,,KG/M^3,,G/KG,
33HQ20150809  ,ARC01      ,19      ,  9,34         ,    6133,   10956,GSNIS-34   ,2,20150824,2120,  79.9835,-175.1559,     2068,    505.6,   0.8340,  34.8627,2,  34.8639,2,    300.6,2,    301.0,2,     5.57,2,    11.87,2,     0.01,2,     0.81,2,    5.360,2,    2.749,2,    0.380,2,    1.759,2,   2160.0,2,   2302.2,2,   7.6915,2,    25.00,     50.0,2,     -999,1,     -999,1,     -999,1,   0.8338,2,     -999,9,     -999,1,     -999,    14.54,2,     -999,1,     -999,9,     1.07,   1.0748,2,20150824,2208,    499.6,  79.9866,-175.1731,     -999,9,  35.0283,2
33HQ20150809  ,ARC01      ,19      ,  9,35         ,    6133,   10956,GSNIS-35   ,2,20150824,2120,  79.9835,-175.1559,     2068,    505.6,   0.8343,  34.8627,2,  34.8633,2,    300.6,2,     -999,9,     5.57,2,    11.90,2,     0.00,2,     0.82,2,     -999,9,     -999,9,     -999,9,     -999,9,     -999,9,     -999,9,     -999,9,     -999,     -999,9,     -999,9,     -999,9,     -999,9,   0.8343,2,     -999,9,     -999,9,     -999,     -999,9,     -999,9,     -999,9,     -999,     -999,9,20150824,2208,    499.6,  79.9866,-175.1732,     -999,9,  35.0277,2
33HQ20150809  ,ARC01      ,19      ,  9,36         ,    6133,   10956,GSNIS-36   ,2,20150824,2120,  79.9835,-175.1559,     2068,    505.6,   0.8346,  34.8626,2,     -999,5,    300.6,2,     -999,9,     5.57,2,    11.87,2,     0.00,2,     0.81,2,     -999,9,     -999,9,     -999,9,     -999,9,     -999,9,     -999,9,     -999,9,     -999,     -999,9,     -999,9,     -999,9,     -999,9,   0.8345,2,     -999,9,     -999,9,     -999,     -999,9,     -999,9,     -999,9,     -999,     -999,9,20150824,2208,    499.7,  79.9866,-175.1732,     -999,9,     -999,5
33HQ20150809  ,ARC01      ,19      ,  9,31         ,    6133,   10957,GSNIS-31   ,2,20150824,2120,  79.9835,-175.1559,     2068,    591.4,   0.6243,  34.8701,2,  34.8717,2,    302.1,2,    301.7,2,     5.47,2,    11.82,2,     0.00,2,     0.82,2,    5.342,2,    2.751,2,    0.391,2,    1.784,2,   2163.3,2,   2299.0,2,   7.6871,2,    25.00,     49.8,2,     -999,1,     -999,1,     -999,1,   0.6246,2,     -999,9,     -999,1,     -999,    14.30,2,     -999,1,     -999,9,     0.97,   0.9723,2,20150824,2205,    584.3,  79.9864,-175.1721,     -999,9,  35.0362,2
33HQ20150809  ,ARC01      ,19      ,  9,32         ,    6133,   10957,GSNIS-32   ,2,20150824,2120,  79.9835,-175.1559,     2068,    591.4,   0.6237,  34.8700,2,  34.8717,2,    302.1,2,     -999,9,     5.47,2,    11.83,2,     0.00,2,     0.82,2,     -999,9,     -999,9,     -999,9,     -999,9,     -999,9,     -999,9,     -999,9,     -999,     -999,9,     -999,9,     -999,9,     -999,9,   0.6236,2,     -999,9,     -999,9,     -999,     -999,9,     -999,9,     -999,9,     -999,     -999,9,20150824,2205,    584.3,  79.9864,-175.1722,     -999,9,  35.0362,2
33HQ20150809  ,ARC01      ,19      ,  9,33         ,    6133,   10957,GSNIS-33   ,2,20150824,2120,  79.9835,-175.1559,     2068,    591.4,   0.6235,  34.8701,2,  34.8704,2,    302.1,2,     -999,9,     5.47,2,    11.82,2,     0.00,2,     0.80,2,     -999,9,     -999,9,     -999,9,     -999,9,     -999,9,     -999,9,     -999,9,     -999,     -999,9,     -999,9,     -999,9,     -999,9,   0.6236,2,     -999,9,     -999,9,     -999,     -999,9,     -999,9,     -999,9,     -999,     -999,9,20150824,2205,    584.3,  79.9864,-175.1722,     -999,9,  35.0348,2
33HQ20150809  ,ARC01      ,19      ,  9,28         ,    6133,   10958,GSNIS-28   ,2,20150824,2120,  79.9835,-175.1559,     2068,    708.6,   0.3696,  34.8711,2,  34.8700,2,    303.7,2,    303.6,2,     5.57,2,    11.82,2,     0.00,2,     0.81,2,    5.304,2,    2.738,2,    0.387,2,    1.734,2,   2168.2,2,   2299.0,2,   7.6843,2,    25.00,     49.5,2,     -999,1,     -999,1,     -999,1,   0.3697,2,     -999,9,     -999,1,     -999,    13.28,2,     -999,1,     -999,9,     0.80,   0.8011,2,20150824,2202,    699.9,  79.9862,-175.1709,     -999,9,  35.0344,2
33HQ20150809  ,ARC01      ,19      ,  9,29         ,    6133,   10958,GSNIS-29   ,2,20150824,2120,  79.9835,-175.1559,     2068,    708.7,   0.3695,  34.8710,2,  34.8709,2,    303.7,2,     -999,9,     5.57,2,    11.81,2,     0.00,2,     0.82,2,     -999,9,     -999,9,     -999,9,     -999,9,     -999,9,     -999,9,     -999,9,     -999,     -999,9,     -999,9,     -999,9,     -999,9,   0.3694,2,     -999,9,     -999,9,     -999,     -999,9,     -999,9,     -999,9,     -999,     -999,9,20150824,2202,    700.0,  79.9862,-175.1710,     -999,9,  35.0354,2
33HQ20150809  ,ARC01      ,19      ,  9,30         ,    6133,   10958,GSNIS-30   ,2,20150824,2120,  79.9835,-175.1559,     2068,    708.8,   0.3695,  34.8711,2,  34.8778,4,    303.7,2,     -999,9,     5.57,2,    11.85,2,     0.00,2,     0.82,2,     -999,9,     -999,9,     -999,9,     -999,9,     -999,9,     -999,9,     -999,9,     -999,     -999,9,     -999,9,     -999,9,     -999,9,   0.3694,2,     -999,9,     -999,9,     -999,     -999,9,     -999,9,     -999,9,     -999,     -999,9,20150824,2202,    700.1,  79.9862,-175.1710,     -999,9,  35.0423,4
33HQ20150809  ,ARC01      ,19      ,  9,25         ,    6133,   10959,GSNIS-25   ,2,20150824,2120,  79.9835,-175.1559,     2068,    861.5,   0.1297,  34.8781,2,  34.8774,2,    304.9,2,    305.0,2,     5.66,2,    11.88,2,     0.00,2,     0.84,2,    5.153,2,    2.657,2,    0.374,2,    1.752,2,   2169.7,2,   2299.5,2,   7.6808,2,    25.00,     49.6,2,     -999,1,     -999,1,     -999,1,   0.1297,2,     0.70,2,     -999,1,     -999,    12.84,2,     -999,1,     -999,9,     -999,     -999,9,20150824,2157,    850.6,  79.9860,-175.1696,     -999,9,  35.0419,2
33HQ20150809  ,ARC01      ,19      ,  9,26         ,    6133,   10959,GSNIS-26   ,2,20150824,2120,  79.9835,-175.1559,     2068,    861.6,   0.1301,  34.8782,2,  34.8792,2,    304.9,2,     -999,9,     5.66,2,    11.86,2,     0.00,2,     0.84,2,     -999,9,     -999,9,     -999,9,     -999,9,     -999,9,     -999,9,     -999,9,     -999,     -999,9,     -999,9,     -999,9,     -999,9,   0.1296,2,     -999,9,     -999,9,     -999,     -999,9,     -999,9,     -999,9,     -999,     -999,9,20150824,2158,    850.7,  79.9860,-175.1697,     -999,9,  35.0437,2
33HQ20150809  ,ARC01      ,19      ,  9,27         ,    6133,   10959,GSNIS-27   ,2,20150824,2120,  79.9835,-175.1559,     2068,    861.7,   0.1310,  34.8782,2,  34.8798,2,    304.9,2,     -999,9,     5.76,2,    11.89,2,     0.00,2,     0.83,2,     -999,9,     -999,9,     -999,9,     -999,9,     -999,9,     -999,9,     -999,9,     -999,     -999,9,     -999,9,     -999,9,     -999,9,   0.1312,2,     -999,9,     -999,9,     -999,     -999,9,     -999,9,     -999,9,     -999,     -999,9,20150824,2158,    850.8,  79.9860,-175.1698,     -999,9,  35.0443,2
33HQ20150809  ,ARC01      ,19      ,  9,24         ,    6133,   10960,GSNIS-24   ,2,20150824,2120,  79.9835,-175.1559,     2068,   1011.9,  -0.0044,  34.8874,2,  34.8882,2,    305.3,2,     -999,9,     5.86,2,    11.94,2,     0.00,2,     0.84,2,     -999,9,     -999,9,     -999,9,     -999,9,     -999,9,     -999,9,     -999,9,     -999,     -999,9,     -999,9,     -999,9,     -999,9,  -0.0045,2,     -999,9,     -999,9,     -999,     -999,9,     -999,9,     -999,9,     -999,     -999,9,20150824,2154,    998.8,  79.9856,-175.1679,     -999,9,  35.0528,2
33HQ20150809  ,ARC01      ,19      ,  9,23         ,    6133,   10960,GSNIS-23   ,2,20150824,2120,  79.9835,-175.1559,     2068,   1012.0,  -0.0044,  34.8874,2,  34.8879,2,    305.3,2,     -999,9,     5.86,2,    11.93,2,     0.00,2,     0.85,2,     -999,9,     -999,9,     -999,9,     -999,9,     -999,9,     -999,9,     -999,9,     -999,     -999,9,     -999,9,     -999,9,     -999,9,  -0.0044,2,     -999,9,     -999,9,     -999,     -999,9,     -999,9,     -999,9,     -999,     -999,9,20150824,2153,    998.8,  79.9856,-175.1678,     -999,9,  35.0524,2
33HQ20150809  ,ARC01      ,19      ,  9,22         ,    6133,   10960,GSNIS-22   ,2,20150824,2120,  79.9835,-175.1559,     2068,   1012.0,  -0.0044,  34.8874,2,  34.8867,2,    305.3,2,    305.6,2,     5.86,2,    11.93,2,     0.00,2,     0.83,2,    5.034,2,    2.624,2,    0.371,2,    1.745,2,   2172.0,2,   2301.0,2,   7.6754,2,    25.00,     48.4,2,     -999,1,     -999,1,     -999,1,  -0.0045,2,     0.65,2,     -999,1,     -999,    13.77,2,     -999,1,     -999,9,     0.81,   0.8054,2,20150824,2153,    998.9,  79.9856,-175.1677,     -999,9,  35.0512,2
33HQ20150809  ,ARC01      ,19      ,  9,21         ,    6133,   10961,GSNIS-21   ,2,20150824,2120,  79.9835,-175.1559,     2068,   1165.1,  -0.1818,  34.8899,2,  34.8914,2,    306.2,2,     -999,9,     6.25,2,    12.12,2,     0.00,2,     0.85,2,     -999,9,     -999,9,     -999,9,     -999,9,     -999,9,     -999,9,     -999,9,     -999,     -999,9,     -999,9,     -999,9,     -999,9,  -0.1819,2,     -999,9,     -999,9,     -999,     -999,9,     -999,9,     -999,9,     -999,     -999,9,20150824,2150,   1149.5,  79.9852,-175.1661,     -999,9,  35.0559,2
33HQ20150809  ,ARC01      ,19      ,  9,20         ,    6133,   10961,GSNIS-20   ,2,20150824,2120,  79.9835,-175.1559,     2068,   1165.1,  -0.1818,  34.8900,2,  34.8908,2,    306.2,2,     -999,9,     6.25,2,    12.09,2,     0.00,2,     0.84,2,     -999,9,     -999,9,     -999,9,     -999,9,     -999,9,     -999,9,     -999,9,     -999,     -999,9,     -999,9,     -999,9,     -999,9,  -0.1818,2,     -999,9,     -999,9,     -999,     -999,9,     -999,9,     -999,9,     -999,     -999,9,20150824,2150,   1149.5,  79.9852,-175.1660,     -999,9,  35.0553,2
33HQ20150809  ,ARC01      ,19      ,  9,19         ,    6133,   10961,GSNIS-19   ,2,20150824,2120,  79.9835,-175.1559,     2068,   1165.1,  -0.1815,  34.8900,2,  34.8912,2,    306.2,2,    306.4,2,     6.25,2,    12.12,2,     0.00,2,     0.86,2,    4.616,2,    2.368,2,    0.343,2,    1.578,2,   2166.3,2,   2299.2,2,   7.6170,4,    25.00,     51.1,2,     -999,1,     -999,1,     -999,1,  -0.1810,2,     0.72,2,     -999,1,     -999,    14.52,2,     -999,1,     -999,9,     1.14,   1.1366,2,20150824,2149,   1149.6,  79.9852,-175.1660,     -999,9,  35.0557,2
33HQ20150809  ,ARC01      ,19      ,  9,17         ,    6133,   10962,GSNIS-17   ,2,20150824,2120,  79.9835,-175.1559,     2068,   1256.9,  -0.2483,  34.8936,2,  34.8942,2,    305.2,2,     -999,9,     6.54,2,    12.22,2,     0.00,2,     0.85,2,     -999,9,     -999,9,     -999,9,     -999,9,     -999,9,     -999,9,     -999,9,     -999,     -999,9,     -999,9,     -999,9,     -999,9,  -0.2484,2,     -999,9,     -999,9,     -999,     -999,9,     -999,9,     -999,9,     -999,     -999,9,20150824,2147,   1239.9,  79.9850,-175.1649,     -999,9,  35.0587,2
33HQ20150809  ,ARC01      ,19      ,  9,16         ,    6133,   10962,GSNIS-16   ,2,20150824,2120,  79.9835,-175.1559,     2068,   1256.9,  -0.2484,  34.8937,2,  34.8945,2,    305.2,2,    306.6,2,     6.54,2,    12.21,2,     0.00,2,     0.85,2,    4.409,2,    2.230,2,    0.318,2,    1.519,2,   2164.0,2,   2300.7,2,   7.6804,2,    25.00,     50.6,2,     -999,1,     -999,1,     -999,1,  -0.2485,2,     0.87,2,     -999,1,     -999,    12.22,2,     -999,1,     -999,9,     0.86,   0.8638,2,20150824,2146,   1239.8,  79.9850,-175.1648,     -999,9,  35.0591,2
33HQ20150809  ,ARC01      ,19      ,  9,18         ,    6133,   10962,GSNIS-18   ,2,20150824,2120,  79.9835,-175.1559,     2068,   1256.9,  -0.2482,  34.8937,2,  34.8942,2,    305.2,2,     -999,9,     6.54,2,    12.22,2,     0.00,2,     0.84,2,     -999,9,     -999,9,     -999,9,     -999,9,     -999,9,     -999,9,     -999,9,     -999,     -999,9,     -999,9,     -999,9,     -999,9,  -0.2484,2,     -999,9,     -999,9,     -999,     -999,9,     -999,9,     -999,9,     -999,     -999,9,20150824,2147,   1239.9,  79.9850,-175.1649,     -999,9,  35.0587,2
33HQ20150809  ,ARC01      ,19      ,  9,13         ,    6133,   10963,GSNIS-13   ,2,20150824,2120,  79.9835,-175.1559,     2068,   1369.3,  -0.3050,  34.9014,2,  34.9014,2,    305.6,2,    304.1,2,     7.23,2,    12.62,2,     0.00,2,     0.89,2,    3.316,2,    1.671,2,    0.229,2,    1.072,2,   2162.2,2,   2300.0,2,   7.6888,2,    25.00,     48.9,2,     -999,1,     -999,1,     -999,1,  -0.3054,2,    -4.04,4,     -999,1,     -999,    13.47,2,     -999,1,     -999,9,     0.86,   0.8596,2,20150824,2143,   1350.4,  79.9849,-175.1642,     -999,9,  35.0660,2
33HQ20150809  ,ARC01      ,19      ,  9,14         ,    6133,   10963,GSNIS-14   ,2,20150824,2120,  79.9835,-175.1559,     2068,   1369.4,  -0.3050,  34.9013,2,  34.8999,2,    305.6,2,     -999,9,     7.23,2,    12.63,2,     0.00,2,     0.89,2,     -999,9,     -999,9,     -999,9,     -999,9,     -999,9,     -999,9,     -999,9,     -999,     -999,9,     -999,9,     -999,9,     -999,9,  -0.3051,2,     -999,9,     -999,9,     -999,     -999,9,     -999,9,     -999,9,     -999,     -999,9,20150824,2143,   1350.5,  79.9849,-175.1642,     -999,9,  35.0644,2
33HQ20150809  ,ARC01      ,19      ,  9,15         ,    6133,   10963,GSNIS-15   ,2,20150824,2120,  79.9835,-175.1559,     2068,   1369.5,  -0.3050,  34.9014,2,  34.9018,2,    305.6,2,     -999,9,     7.23,2,    12.60,2,     0.00,2,     0.88,2,     -999,9,     -999,9,     -999,9,     -999,9,     -999,9,     -999,9,     -999,9,     -999,     -999,9,     -999,9,     -999,9,     -999,9,  -0.3051,2,     -999,9,     -999,9,     -999,     -999,9,     -999,9,     -999,9,     -999,     -999,9,20150824,2143,   1350.6,  79.9849,-175.1642,     -999,9,  35.0664,2
33HQ20150809  ,ARC01      ,19      ,  9,10         ,    6133,   10964,GSNIS-10   ,2,20150824,2120,  79.9835,-175.1559,     2068,   1520.8,  -0.3748,  34.9107,2,  34.9095,2,    302.0,2,    301.7,2,     8.11,2,    13.05,2,     0.00,2,     0.92,2,    2.477,2,    1.235,2,    0.161,2,    0.779,2,   2162.0,2,   2298.6,2,   7.7042,2,    25.00,     50.1,2,     -999,1,     -999,1,     -999,1,  -0.3750,2,     0.96,2,     -999,1,     -999,    13.51,2,     -999,1,     -999,9,     0.80,   0.8015,2,20150824,2139,   1499.3,  79.9848,-175.1632,     -999,9,  35.0741,2
33HQ20150809  ,ARC01      ,19      ,  9,11         ,    6133,   10964,GSNIS-11   ,2,20150824,2120,  79.9835,-175.1559,     2068,   1520.8,  -0.3750,  34.9107,2,  34.9105,2,    302.0,2,     -999,9,     8.11,2,    13.06,2,     0.00,2,     0.92,2,     -999,9,     -999,9,     -999,9,     -999,9,     -999,9,     -999,9,     -999,9,     -999,     -999,9,     -999,9,     -999,9,     -999,9,  -0.3750,2,     -999,9,     -999,9,     -999,     -999,9,     -999,9,     -999,9,     -999,     -999,9,20150824,2139,   1499.3,  79.9848,-175.1633,     -999,9,  35.0751,2
33HQ20150809  ,ARC01      ,19      ,  9,12         ,    6133,   10964,GSNIS-12   ,2,20150824,2120,  79.9835,-175.1559,     2068,   1520.8,  -0.3750,  34.9107,2,  34.9113,2,    302.0,2,     -999,9,     8.11,2,    13.09,2,     0.00,2,     0.92,2,     -999,9,     -999,9,     -999,9,     -999,9,     -999,9,     -999,9,     -999,9,     -999,     -999,9,     -999,9,     -999,9,     -999,9,  -0.3751,2,     -999,9,     -999,9,     -999,     -999,9,     -999,9,     -999,9,     -999,     -999,9,20150824,2139,   1499.3,  79.9848,-175.1633,     -999,9,  35.0759,2
33HQ20150809  ,ARC01      ,19      ,  9,7          ,    6133,   10965,GSNIS-7    ,2,20150824,2120,  79.9835,-175.1559,     2068,   1694.4,  -0.4301,  34.9257,2,  34.9256,2,    295.8,2,    295.6,2,     9.96,2,    13.72,2,     0.00,2,     0.98,2,    1.319,2,    0.659,2,    0.079,2,    0.419,2,   2156.4,2,   2307.1,2,   7.7149,2,    25.00,     46.2,2,     -999,1,     -999,1,     -999,1,  -0.4303,2,     1.02,2,     -999,1,     -999,    15.49,2,     -999,1,     -999,9,     0.83,   0.8325,2,20150824,2133,   1669.7,  79.9843,-175.1611,     -999,9,  35.0903,2
33HQ20150809  ,ARC01      ,19      ,  9,8          ,    6133,   10965,GSNIS-8    ,2,20150824,2120,  79.9835,-175.1559,     2068,   1694.5,  -0.4301,  34.9256,2,  34.9258,2,    295.8,2,     -999,9,     9.96,2,    13.72,2,     0.00,2,     0.97,2,     -999,9,     -999,9,     -999,9,     -999,9,     -999,9,     -999,9,     -999,9,     -999,     -999,9,     -999,9,     -999,9,     -999,9,  -0.4301,2,     -999,9,     -999,9,     -999,     -999,9,     -999,9,     -999,9,     -999,     -999,9,20150824,2133,   1669.8,  79.9844,-175.1611,     -999,9,  35.0905,2
33HQ20150809  ,ARC01      ,19      ,  9,9          ,    6133,   10965,GSNIS-9    ,2,20150824,2120,  79.9835,-175.1559,     2068,   1694.5,  -0.4300,  34.9256,2,  34.9260,2,    295.8,2,     -999,9,     9.96,2,    13.71,2,     0.00,2,     0.96,2,     -999,9,     -999,9,     -999,9,     -999,9,     -999,9,     -999,9,     -999,9,     -999,     -999,9,     -999,9,     -999,9,     -999,9,  -0.4302,2,     -999,9,     -999,9,     -999,     -999,9,     -999,9,     -999,9,     -999,     -999,9,20150824,2133,   1669.8,  79.9844,-175.1612,     -999,9,  35.0907,2
33HQ20150809  ,ARC01      ,19      ,  9,6          ,    6133,   10966,GSNIS-6    ,2,20150824,2120,  79.9835,-175.1559,     2068,   1908.3,  -0.4173,  34.9422,2,  34.9437,2,    288.8,2,     -999,9,    11.82,2,    14.26,2,     0.00,2,     1.00,2,     -999,9,     -999,9,     -999,9,     -999,9,     -999,9,     -999,9,     -999,9,     -999,     -999,9,     -999,9,     -999,9,     -999,9,  -0.4174,2,     -999,9,     -999,9,     -999,     -999,9,     -999,9,     -999,9,     -999,     -999,9,20150824,2128,   1879.6,  79.9842,-175.1600,     -999,9,  35.1085,2
33HQ20150809  ,ARC01      ,19      ,  9,5          ,    6133,   10966,GSNIS-5    ,2,20150824,2120,  79.9835,-175.1559,     2068,   1908.4,  -0.4173,  34.9422,2,  34.9427,2,    288.8,2,     -999,9,    11.82,2,    14.30,2,     0.00,2,     1.02,2,     -999,9,     -999,9,     -999,9,     -999,9,     -999,9,     -999,9,     -999,9,     -999,     -999,9,     -999,9,     -999,9,     -999,9,  -0.4174,2,     -999,9,     -999,9,     -999,     -999,9,     -999,9,     -999,9,     -999,     -999,9,20150824,2128,   1879.6,  79.9842,-175.1599,     -999,9,  35.1075,2
33HQ20150809  ,ARC01      ,19      ,  9,4          ,    6133,   10966,GSNIS-4    ,2,20150824,2120,  79.9835,-175.1559,     2068,   1908.4,  -0.4172,  34.9422,2,  34.9421,2,    288.8,2,    288.9,2,    11.82,2,    14.28,2,     0.00,2,     1.01,2,    0.416,2,    0.190,2,    0.025,2,    0.127,2,   2152.6,2,   2300.1,2,   7.7269,2,    25.00,     46.5,2,     -999,1,     -999,1,     -999,1,  -0.4174,2,     0.75,3,     -999,1,     -999,    15.62,2,     -999,1,     -999,9,     0.58,   0.5846,2,20150824,2128,   1879.6,  79.9841,-175.1598,     -999,9,  35.1069,2