BOTTLE,20221220CCHSIOAMB
EXPOCODE,SECT_ID,STNNBR,CASTNO,SAMPNO,GEOTR_EVENT,GEOTR_SAMPNO,BTLNBR,BTLNBR_FLAG_W,DATE,TIME,LATITUDE,LONGITUDE,DEPTH,CTDPRS,CTDTMP,CTDSAL,CTDSAL_FLAG_W,SALNTY,SALNTY_FLAG_W,CTDOXY,CTDOXY_FLAG_W,OXYGEN,OXYGEN_FLAG_W,SILCAT,SILCAT_FLAG_W,NITRAT,NITRAT_FLAG_W,NITRIT,NITRIT_FLAG_W,PHSPHT,PHSPHT_FLAG_W,CFC-11,CFC-11_FLAG_W,CFC-12,CFC-12_FLAG_W,CFC113,CFC113_FLAG_W,SF6,SF6_FLAG_W,TCARBN,TCARBN_FLAG_W,ALKALI,ALKALI_FLAG_W,PH_SWS,PH_SWS_FLAG_W,PH_TMP,DOC,DOC_FLAG_W,TRITUM,TRITUM_FLAG_W,HELIUM,HELIUM_FLAG_W,DELHE3,DELHE3_FLAG_W,REFTMP,REFTMP_FLAG_W,DELC13,DELC13_FLAG_W,DELC14,DELC14_FLAG_W,C14ERR,TDN,TDN_FLAG_W,DELO18,DELO18_FLAG_W,DELO17,DELO17_FLAG_W,CH4,CH4,CH4_FLAG_W,BTL_DATE,BTL_TIME,CTDDEPTH,BTL_LAT,BTL_LON,LAB_DEN,LAB_DEN_FLAG_W,SALTREF,SALTREF_FLAG_W
,,,,,,,,,,,,,METERS,DBAR,ITS-90,PSS-78,,PSS-78,,UMOL/KG,,UMOL/KG,,UMOL/KG,,UMOL/KG,,UMOL/KG,,UMOL/KG,,PMOL/KG,,PMOL/KG,,PMOL/KG,,FMOL/KG,,UMOL/KG,,UMOL/KG,,,,DEG C,UMOL/KG,,TU,,NMOL/KG,,PERCNT,,ITS-90,,/MILLE,,/MILLE,,/MILLE,UMOL/KG,,/MILLE,,/MILLE,,NMOL/KG,NMOL/L,,,,METERS,,,KG/M^3,,G/KG,
33HQ20150809  ,ARC01      ,46      ,  7,34         ,    6339,   11725,GSNIS-34   ,2,20150920,0755,  82.5273,-149.5015,     2924,    507.1,   0.6694,  34.8528,2,  34.8520,2,    296.6,2,    297.5,2,     6.54,2,    12.37,2,     0.00,2,     0.84,2,    4.536,2,    2.163,2,    0.273,2,    0.851,2,   2154.9,2,   2295.8,2,   7.7088,2,    25.00,     51.6,2,     -999,1,     -999,1,     -999,1,   0.6697,2,     0.88,2,     -999,1,     -999,    14.40,2,     -999,1,     -999,9,     -999,     -999,1,20150920,0908,    501.1,  82.5335,-149.4910,     -999,9,  35.0164,2
33HQ20150809  ,ARC01      ,46      ,  7,35         ,    6339,   11725,GSNIS-35   ,2,20150920,0755,  82.5273,-149.5015,     2924,    507.1,   0.6691,  34.8528,2,     -999,9,    296.6,2,     -999,9,     6.54,2,    12.37,2,     0.00,2,     0.84,2,     -999,9,     -999,9,     -999,9,     -999,9,     -999,9,     -999,9,     -999,9,     -999,     -999,9,     -999,9,     -999,9,     -999,9,   0.6696,2,     -999,9,     -999,9,     -999,     -999,9,     -999,9,     -999,9,     -999,     -999,9,20150920,0908,    501.1,  82.5335,-149.4910,     -999,9,     -999,9
33HQ20150809  ,ARC01      ,46      ,  7,36         ,    6339,   11725,GSNIS-36   ,2,20150920,0755,  82.5273,-149.5015,     2924,    507.2,   0.6690,  34.8529,2,     -999,9,    296.6,2,     -999,9,     6.54,2,    12.36,2,     0.00,2,     0.85,2,     -999,9,     -999,9,     -999,9,     -999,9,     -999,9,     -999,9,     -999,9,     -999,     -999,9,     -999,9,     -999,9,     -999,9,   0.6693,2,     -999,9,     -999,9,     -999,     -999,9,     -999,9,     -999,9,     -999,     -999,9,20150920,0908,    501.2,  82.5335,-149.4910,     -999,9,     -999,9
33HQ20150809  ,ARC01      ,46      ,  7,31         ,    6339,   11726,GSNIS-31   ,2,20150920,0755,  82.5273,-149.5015,     2924,    709.7,   0.3166,  34.8655,2,  34.8640,2,    297.8,2,    297.9,2,     6.74,2,    12.50,2,     0.00,2,     0.86,2,    3.439,2,    1.639,2,    0.182,2,    0.600,2,   2155.0,2,   2295.0,2,   7.7157,2,    25.00,     51.8,2,     -999,1,     -999,1,     -999,1,   0.3171,2,     0.95,2,     -999,1,     -999,    14.79,2,     -999,1,     -999,9,     -999,     -999,1,20150920,0903,    700.9,  82.5330,-149.4920,     -999,9,  35.0284,2
33HQ20150809  ,ARC01      ,46      ,  7,32         ,    6339,   11726,GSNIS-32   ,2,20150920,0755,  82.5273,-149.5015,     2924,    709.7,   0.3170,  34.8655,2,     -999,9,    297.8,2,     -999,9,     6.74,2,    12.51,2,     0.00,2,     0.86,2,     -999,9,     -999,9,     -999,9,     -999,9,     -999,9,     -999,9,     -999,9,     -999,     -999,9,     -999,9,     -999,9,     -999,9,   0.3168,2,     -999,9,     -999,9,     -999,     -999,9,     -999,9,     -999,9,     -999,     -999,9,20150920,0903,    700.9,  82.5330,-149.4919,     -999,9,     -999,9
33HQ20150809  ,ARC01      ,46      ,  7,33         ,    6339,   11726,GSNIS-33   ,2,20150920,0755,  82.5273,-149.5015,     2924,    709.7,   0.3176,  34.8655,2,     -999,9,    297.8,2,     -999,9,     6.84,2,    12.50,2,     0.00,2,     0.86,2,     -999,9,     -999,9,     -999,9,     -999,9,     -999,9,     -999,9,     -999,9,     -999,     -999,9,     -999,9,     -999,9,     -999,9,   0.3173,2,     -999,9,     -999,9,     -999,     -999,9,     -999,9,     -999,9,     -999,     -999,9,20150920,0903,    701.0,  82.5330,-149.4919,     -999,9,     -999,9
33HQ20150809  ,ARC01      ,46      ,  7,29         ,    6339,   11727,GSNIS-29   ,2,20150920,0755,  82.5273,-149.5015,     2924,    912.6,   0.0725,  34.8810,2,     -999,9,    297.9,2,     -999,9,     7.23,2,    12.68,2,     0.00,2,     0.89,2,     -999,9,     -999,9,     -999,9,     -999,9,     -999,9,     -999,9,     -999,9,     -999,     -999,9,     -999,9,     -999,9,     -999,9,   0.0727,2,     -999,9,     -999,9,     -999,     -999,9,     -999,9,     -999,9,     -999,     -999,9,20150920,0858,    900.9,  82.5326,-149.4928,     -999,9,     -999,9
33HQ20150809  ,ARC01      ,46      ,  7,30         ,    6339,   11727,GSNIS-30   ,2,20150920,0755,  82.5273,-149.5015,     2924,    912.6,   0.0724,  34.8811,2,     -999,9,    297.9,2,     -999,9,     7.23,2,    12.66,2,     0.00,2,     0.89,2,     -999,9,     -999,9,     -999,9,     -999,9,     -999,9,     -999,9,     -999,9,     -999,     -999,9,     -999,9,     -999,9,     -999,9,   0.0726,2,     -999,9,     -999,9,     -999,     -999,9,     -999,9,     -999,9,     -999,     -999,9,20150920,0858,    900.9,  82.5326,-149.4928,     -999,9,     -999,9
33HQ20150809  ,ARC01      ,46      ,  7,28         ,    6339,   11727,GSNIS-28   ,2,20150920,0755,  82.5273,-149.5015,     2924,    912.6,   0.0726,  34.8811,2,  34.8809,2,    297.9,2,    298.5,2,     7.23,2,    12.67,2,     0.00,2,     0.89,2,    1.977,2,    0.927,2,    0.087,2,    0.240,2,   2151.7,2,   2293.9,2,   7.7241,2,    25.00,     51.4,2,     -999,1,     -999,1,     -999,1,   0.0727,2,     1.07,2,     -999,1,     -999,    15.24,2,     -999,1,     -999,9,     -999,     -999,1,20150920,0858,    900.9,  82.5326,-149.4928,     -999,9,  35.0454,2
33HQ20150809  ,ARC01      ,46      ,  7,25         ,    6339,   11728,GSNIS-25   ,2,20150920,0755,  82.5273,-149.5015,     2924,   1166.0,  -0.1173,  34.8995,2,  34.8984,2,    298.7,2,    298.4,2,     7.71,2,    12.89,2,     0.00,2,     0.91,2,    0.904,2,    0.421,2,    0.023,2,    0.085,2,   2148.9,2,   2294.7,2,   7.7301,2,    25.00,     48.4,2,     -999,1,     -999,1,     -999,1,  -0.1173,2,     1.15,2,     -999,1,     -999,    14.99,2,     -999,1,     -999,9,     -999,     -999,1,20150920,0851,   1150.4,  82.5320,-149.4939,     -999,9,  35.0630,2
33HQ20150809  ,ARC01      ,46      ,  7,26         ,    6339,   11728,GSNIS-26   ,2,20150920,0755,  82.5273,-149.5015,     2924,   1166.1,  -0.1174,  34.8996,2,     -999,9,    298.7,2,     -999,9,     7.71,2,    12.90,2,     0.00,2,     0.89,2,     -999,9,     -999,9,     -999,9,     -999,9,     -999,9,     -999,9,     -999,9,     -999,     -999,9,     -999,9,     -999,9,     -999,9,  -0.1172,2,     -999,9,     -999,9,     -999,     -999,9,     -999,9,     -999,9,     -999,     -999,9,20150920,0852,   1150.4,  82.5320,-149.4939,     -999,9,     -999,9
33HQ20150809  ,ARC01      ,46      ,  7,27         ,    6339,   11728,GSNIS-27   ,2,20150920,0755,  82.5273,-149.5015,     2924,   1166.1,  -0.1175,  34.8996,2,     -999,9,    298.7,2,     -999,9,     7.81,2,    12.89,2,     0.00,2,     0.90,2,     -999,9,     -999,9,     -999,9,     -999,9,     -999,9,     -999,9,     -999,9,     -999,     -999,9,     -999,9,     -999,9,     -999,9,  -0.1173,2,     -999,9,     -999,9,     -999,     -999,9,     -999,9,     -999,9,     -999,     -999,9,20150920,0852,   1150.4,  82.5320,-149.4939,     -999,9,     -999,9
33HQ20150809  ,ARC01      ,46      ,  7,22         ,    6339,   11729,GSNIS-22   ,2,20150920,0755,  82.5273,-149.5015,     2924,   1420.4,  -0.2624,  34.9155,2,  34.9158,2,    298.2,2,    298.1,2,     8.59,2,    13.21,2,     0.00,2,     0.93,2,    0.456,2,    0.208,2,    0.008,2,    0.015,2,   2147.3,2,   2295.3,2,   7.7354,2,    25.00,     49.2,2,     -999,1,     -999,1,     -999,1,  -0.2624,2,     1.35,3,     -999,1,     -999,    16.59,2,     -999,1,     -999,9,     -999,     -999,1,20150920,0846,   1400.5,  82.5315,-149.4949,     -999,9,  35.0804,2
33HQ20150809  ,ARC01      ,46      ,  7,23         ,    6339,   11729,GSNIS-23   ,2,20150920,0755,  82.5273,-149.5015,     2924,   1420.4,  -0.2625,  34.9155,2,     -999,9,    298.2,2,     -999,9,     8.59,2,    13.22,2,     0.00,2,     0.94,2,     -999,9,     -999,9,     -999,9,     -999,9,     -999,9,     -999,9,     -999,9,     -999,     -999,9,     -999,9,     -999,9,     -999,9,  -0.2624,2,     -999,9,     -999,9,     -999,     -999,9,     -999,9,     -999,9,     -999,     -999,9,20150920,0846,   1400.5,  82.5315,-149.4948,     -999,9,     -999,9
33HQ20150809  ,ARC01      ,46      ,  7,24         ,    6339,   11729,GSNIS-24   ,2,20150920,0755,  82.5273,-149.5015,     2924,   1420.4,  -0.2626,  34.9155,2,     -999,9,    298.2,2,     -999,9,     8.59,2,    13.20,2,     0.00,2,     0.94,2,     -999,9,     -999,9,     -999,9,     -999,9,     -999,9,     -999,9,     -999,9,     -999,     -999,9,     -999,9,     -999,9,     -999,9,  -0.2624,2,     -999,9,     -999,9,     -999,     -999,9,     -999,9,     -999,9,     -999,     -999,9,20150920,0846,   1400.5,  82.5315,-149.4948,     -999,9,     -999,9
33HQ20150809  ,ARC01      ,46      ,  7,20         ,    6339,   11730,GSNIS-20   ,2,20150920,0755,  82.5273,-149.5015,     2924,   1674.8,  -0.3565,  34.9293,2,     -999,9,    296.1,2,     -999,9,     9.86,2,    13.62,2,     0.00,2,     0.95,2,     -999,9,     -999,9,     -999,9,     -999,9,     -999,9,     -999,9,     -999,9,     -999,     -999,9,     -999,9,     -999,9,     -999,9,  -0.3564,2,     -999,9,     -999,9,     -999,     -999,9,     -999,9,     -999,9,     -999,     -999,9,20150920,0839,   1650.4,  82.5309,-149.4958,     -999,9,     -999,9
33HQ20150809  ,ARC01      ,46      ,  7,19         ,    6339,   11730,GSNIS-19   ,2,20150920,0755,  82.5273,-149.5015,     2924,   1674.8,  -0.3564,  34.9293,2,  34.9329,2,    296.1,2,    295.6,2,     9.76,2,    13.64,2,     0.00,2,     0.97,2,    0.239,2,    0.107,2,    0.000,2,    0.016,2,   2146.3,2,   2298.4,2,   7.7357,2,    25.00,     46.5,2,     -999,1,     -999,1,     -999,1,  -0.3564,2,     1.21,2,     -999,1,     -999,    16.03,2,     -999,1,     -999,9,     -999,     -999,1,20150920,0839,   1650.4,  82.5309,-149.4959,     -999,9,  35.0976,2
33HQ20150809  ,ARC01      ,46      ,  7,21         ,    6339,   11730,GSNIS-21   ,2,20150920,0755,  82.5273,-149.5015,     2924,   1674.8,  -0.3565,  34.9293,2,     -999,9,    296.1,2,     -999,9,     9.86,2,    13.63,2,     0.00,2,     0.94,2,     -999,9,     -999,9,     -999,9,     -999,9,     -999,9,     -999,9,     -999,9,     -999,     -999,9,     -999,9,     -999,9,     -999,9,  -0.3564,2,     -999,9,     -999,9,     -999,     -999,9,     -999,9,     -999,9,     -999,     -999,9,20150920,0839,   1650.4,  82.5309,-149.4958,     -999,9,     -999,9
33HQ20150809  ,ARC01      ,46      ,  7,16         ,    6339,   11731,GSNIS-16   ,2,20150920,0755,  82.5273,-149.5015,     2924,   1930.0,  -0.4012,  34.9409,2,  34.9419,2,    292.1,2,    292.1,2,    11.42,2,    14.04,2,     0.00,2,     0.99,2,    0.166,2,    0.073,2,    0.001,2,    0.024,2,   2148.0,2,   2300.0,2,   7.7355,2,    25.00,     45.2,2,     -999,1,     -999,1,     -999,1,  -0.4011,2,     1.23,2,     -999,1,     -999,    16.57,2,     -999,1,     -999,9,     -999,     -999,1,20150920,0833,   1900.7,  82.5303,-149.4968,     -999,9,  35.1067,2
33HQ20150809  ,ARC01      ,46      ,  7,17         ,    6339,   11731,GSNIS-17   ,2,20150920,0755,  82.5273,-149.5015,     2924,   1930.1,  -0.4011,  34.9410,2,     -999,9,    292.1,2,     -999,9,    11.33,2,    14.03,2,     0.00,2,     0.99,2,     -999,9,     -999,9,     -999,9,     -999,9,     -999,9,     -999,9,     -999,9,     -999,     -999,9,     -999,9,     -999,9,     -999,9,  -0.4011,2,     -999,9,     -999,9,     -999,     -999,9,     -999,9,     -999,9,     -999,     -999,9,20150920,0833,   1900.7,  82.5303,-149.4968,     -999,9,     -999,9
33HQ20150809  ,ARC01      ,46      ,  7,18         ,    6339,   11731,GSNIS-18   ,2,20150920,0755,  82.5273,-149.5015,     2924,   1930.1,  -0.4012,  34.9410,2,     -999,9,    292.1,2,     -999,9,    11.33,2,    14.02,2,     0.00,2,     1.00,2,     -999,9,     -999,9,     -999,9,     -999,9,     -999,9,     -999,9,     -999,9,     -999,     -999,9,     -999,9,     -999,9,     -999,9,  -0.4010,2,     -999,9,     -999,9,     -999,     -999,9,     -999,9,     -999,9,     -999,     -999,9,20150920,0833,   1900.8,  82.5303,-149.4968,     -999,9,     -999,9
33HQ20150809  ,ARC01      ,46      ,  7,13         ,    6339,   11732,GSNIS-13   ,2,20150920,0755,  82.5273,-149.5015,     2924,   2235.9,  -0.3965,  34.9499,2,  34.9500,2,    287.6,2,    287.9,2,    12.79,2,    14.32,2,     0.00,2,     1.01,2,    0.077,2,    0.042,2,    0.005,2,    0.021,2,   2150.0,2,   2298.2,2,   7.7324,2,    25.00,     45.1,2,     -999,1,     -999,1,     -999,1,  -0.3965,2,     1.27,2,     -999,1,     -999,    16.86,2,     -999,1,     -999,9,     -999,     -999,1,20150920,0826,   2200.4,  82.5297,-149.4978,     -999,9,  35.1148,2
33HQ20150809  ,ARC01      ,46      ,  7,15         ,    6339,   11732,GSNIS-15   ,2,20150920,0755,  82.5273,-149.5015,     2924,   2235.9,  -0.3965,  34.9499,2,     -999,9,    287.6,2,     -999,9,    12.79,2,    14.32,2,     0.00,2,     1.01,2,     -999,9,     -999,9,     -999,9,     -999,9,     -999,9,     -999,9,     -999,9,     -999,     -999,9,     -999,9,     -999,9,     -999,9,  -0.3964,2,     -999,9,     -999,9,     -999,     -999,9,     -999,9,     -999,9,     -999,     -999,9,20150920,0826,   2200.4,  82.5297,-149.4978,     -999,9,     -999,9
33HQ20150809  ,ARC01      ,46      ,  7,14         ,    6339,   11732,GSNIS-14   ,2,20150920,0755,  82.5273,-149.5015,     2924,   2235.9,  -0.3965,  34.9499,2,     -999,9,    287.6,2,     -999,9,    12.79,2,    14.32,2,     0.00,2,     1.02,2,     -999,9,     -999,9,     -999,9,     -999,9,     -999,9,     -999,9,     -999,9,     -999,     -999,9,     -999,9,     -999,9,     -999,9,  -0.3965,2,     -999,9,     -999,9,     -999,     -999,9,     -999,9,     -999,9,     -999,     -999,9,20150920,0826,   2200.4,  82.5297,-149.4978,     -999,9,     -999,9
33HQ20150809  ,ARC01      ,46      ,  7,11         ,    6339,   11733,GSNIS-11   ,2,20150920,0755,  82.5273,-149.5015,     2924,   2543.2,  -0.3653,  34.9551,2,     -999,9,    284.5,2,     -999,9,    13.28,2,    14.44,2,     0.00,2,     1.02,2,     -999,9,     -999,9,     -999,9,     -999,9,     -999,9,     -999,9,     -999,9,     -999,     -999,9,     -999,9,     -999,9,     -999,9,  -0.3653,2,     -999,9,     -999,9,     -999,     -999,9,     -999,9,     -999,9,     -999,     -999,9,20150920,0818,   2501.0,  82.5291,-149.4988,     -999,9,     -999,9
33HQ20150809  ,ARC01      ,46      ,  7,10         ,    6339,   11733,GSNIS-10   ,2,20150920,0755,  82.5273,-149.5015,     2924,   2543.2,  -0.3653,  34.9550,2,  34.9543,2,    284.5,2,    285.4,2,    13.38,2,    14.44,2,     0.00,2,     1.02,2,    0.021,2,    0.005,2,    0.002,2,    0.000,2,   2152.1,2,   2303.7,2,   7.7329,2,    25.00,     43.7,2,     -999,1,     -999,1,     -999,1,  -0.3653,2,     1.22,2,     -999,1,     -999,    16.38,2,     -999,1,     -999,9,     -999,     -999,1,20150920,0818,   2501.0,  82.5291,-149.4988,     -999,9,  35.1191,2
33HQ20150809  ,ARC01      ,46      ,  7,12         ,    6339,   11733,GSNIS-12   ,2,20150920,0755,  82.5273,-149.5015,     2924,   2543.2,  -0.3653,  34.9550,2,     -999,9,    284.5,2,     -999,9,    13.38,2,    14.42,2,     0.00,2,     1.02,2,     -999,9,     -999,9,     -999,9,     -999,9,     -999,9,     -999,9,     -999,9,     -999,     -999,9,     -999,9,     -999,9,     -999,9,  -0.3652,2,     -999,9,     -999,9,     -999,     -999,9,     -999,9,     -999,9,     -999,     -999,9,20150920,0818,   2501.0,  82.5291,-149.4988,     -999,9,     -999,9
33HQ20150809  ,ARC01      ,46      ,  7,7          ,    6339,   11734,GSNIS-7    ,2,20150920,0755,  82.5273,-149.5015,     2924,   2832.5,  -0.3423,  34.9558,2,  34.9557,2,    284.4,2,    285.0,2,    13.38,2,    14.46,2,     0.00,2,     1.02,2,    0.019,2,    0.008,2,    0.001,2,    0.014,2,   2150.5,2,   2302.1,2,   7.7315,2,    25.00,     45.8,2,     -999,1,     -999,1,     -999,1,  -0.3423,2,     1.23,2,     -999,1,     -999,    15.80,2,     -999,1,     -999,9,     -999,     -999,1,20150920,0811,   2783.6,  82.5285,-149.4997,     -999,9,  35.1205,2
33HQ20150809  ,ARC01      ,46      ,  7,9          ,    6339,   11734,GSNIS-9    ,2,20150920,0755,  82.5273,-149.5015,     2924,   2832.5,  -0.3422,  34.9558,2,     -999,9,    284.4,2,     -999,9,    13.38,2,    14.44,2,     0.00,2,     1.02,2,     -999,9,     -999,9,     -999,9,     -999,9,     -999,9,     -999,9,     -999,9,     -999,     -999,9,     -999,9,     -999,9,     -999,9,  -0.3423,2,     -999,9,     -999,9,     -999,     -999,9,     -999,9,     -999,9,     -999,     -999,9,20150920,0811,   2783.6,  82.5285,-149.4997,     -999,9,     -999,9
33HQ20150809  ,ARC01      ,46      ,  7,8          ,    6339,   11734,GSNIS-8    ,2,20150920,0755,  82.5273,-149.5015,     2924,   2832.5,  -0.3422,  34.9558,2,     -999,9,    284.4,2,     -999,9,    13.38,2,    14.45,2,     0.00,2,     1.02,2,     -999,9,     -999,9,     -999,9,     -999,9,     -999,9,     -999,9,     -999,9,     -999,     -999,9,     -999,9,     -999,9,     -999,9,  -0.3424,2,     -999,9,     -999,9,     -999,     -999,9,     -999,9,     -999,9,     -999,     -999,9,20150920,0811,   2783.6,  82.5285,-149.4997,     -999,9,     -999,9
33HQ20150809  ,ARC01      ,46      ,  7,6          ,    6339,   11735,GSNIS-6    ,2,20150920,0755,  82.5273,-149.5015,     2924,   2934.0,  -0.3343,  34.9560,2,     -999,9,    284.5,2,     -999,9,    13.38,2,    14.44,2,     0.00,2,     1.02,2,     -999,9,     -999,9,     -999,9,     -999,9,     -999,9,     -999,9,     -999,9,     -999,     -999,9,     -999,9,     -999,9,     -999,9,  -0.3344,2,     -999,9,     -999,9,     -999,     -999,9,     -999,9,     -999,9,     -999,     -999,9,20150920,0806,   2882.7,  82.5281,-149.5002,     -999,9,     -999,9
33HQ20150809  ,ARC01      ,46      ,  7,5          ,    6339,   11735,GSNIS-5    ,2,20150920,0755,  82.5273,-149.5015,     2924,   2934.0,  -0.3343,  34.9560,2,     -999,9,    284.5,2,     -999,9,    13.38,2,    14.44,2,     0.00,2,     1.02,2,     -999,9,     -999,9,     -999,9,     -999,9,     -999,9,     -999,9,     -999,9,     -999,     -999,9,     -999,9,     -999,9,     -999,9,  -0.3343,2,     -999,9,     -999,9,     -999,     -999,9,     -999,9,     -999,9,     -999,     -999,9,20150920,0806,   2882.7,  82.5281,-149.5002,     -999,9,     -999,9
33HQ20150809  ,ARC01      ,46      ,  7,4          ,    6339,   11735,GSNIS-4    ,2,20150920,0755,  82.5273,-149.5015,     2924,   2934.0,  -0.3343,  34.9560,2,  34.9562,2,    284.5,2,    285.4,2,    13.28,2,    14.43,2,     0.00,2,     1.03,2,    0.020,2,    0.007,2,    0.002,2,    0.001,2,   2151.6,2,   2302.4,2,   7.7344,2,    25.00,     45.2,2,     -999,1,     -999,1,     -999,1,  -0.3343,2,     1.22,2,     -999,1,     -999,    15.63,2,     -999,1,     -999,9,     -999,     -999,1,20150920,0806,   2882.7,  82.5281,-149.5002,     -999,9,  35.1211,2