BOTTLE,20221220CCHSIOAMB
EXPOCODE,SECT_ID,STNNBR,CASTNO,SAMPNO,GEOTR_EVENT,GEOTR_SAMPNO,BTLNBR,BTLNBR_FLAG_W,DATE,TIME,LATITUDE,LONGITUDE,DEPTH,CTDPRS,CTDTMP,CTDSAL,CTDSAL_FLAG_W,SALNTY,SALNTY_FLAG_W,CTDOXY,CTDOXY_FLAG_W,OXYGEN,OXYGEN_FLAG_W,SILCAT,SILCAT_FLAG_W,NITRAT,NITRAT_FLAG_W,NITRIT,NITRIT_FLAG_W,PHSPHT,PHSPHT_FLAG_W,CFC-11,CFC-11_FLAG_W,CFC-12,CFC-12_FLAG_W,CFC113,CFC113_FLAG_W,SF6,SF6_FLAG_W,TCARBN,TCARBN_FLAG_W,ALKALI,ALKALI_FLAG_W,PH_SWS,PH_SWS_FLAG_W,PH_TMP,DOC,DOC_FLAG_W,TRITUM,TRITUM_FLAG_W,HELIUM,HELIUM_FLAG_W,DELHE3,DELHE3_FLAG_W,REFTMP,REFTMP_FLAG_W,DELC13,DELC13_FLAG_W,DELC14,DELC14_FLAG_W,C14ERR,TDN,TDN_FLAG_W,DELO18,DELO18_FLAG_W,DELO17,DELO17_FLAG_W,CH4,CH4,CH4_FLAG_W,BTL_DATE,BTL_TIME,CTDDEPTH,BTL_LAT,BTL_LON,LAB_DEN,LAB_DEN_FLAG_W,SALTREF,SALTREF_FLAG_W
,,,,,,,,,,,,,METERS,DBAR,ITS-90,PSS-78,,PSS-78,,UMOL/KG,,UMOL/KG,,UMOL/KG,,UMOL/KG,,UMOL/KG,,UMOL/KG,,PMOL/KG,,PMOL/KG,,PMOL/KG,,FMOL/KG,,UMOL/KG,,UMOL/KG,,,,DEG C,UMOL/KG,,TU,,NMOL/KG,,PERCNT,,ITS-90,,/MILLE,,/MILLE,,/MILLE,UMOL/KG,,/MILLE,,/MILLE,,NMOL/KG,NMOL/L,,,,METERS,,,KG/M^3,,G/KG,
33HQ20150809  ,ARC01      ,30      ,  8,36         ,    6182,   11146,GSNIS-36   ,2,20150901,1903,  87.5658, 179.1696,     3945,      6.2,  -1.4907,  28.0279,2,     -999,9,    391.8,2,     -999,9,     9.72,2,     0.00,2,     0.00,2,     0.79,2,     -999,9,     -999,9,     -999,9,     -999,9,     -999,9,     -999,9,     -999,9,     -999,     -999,9,     -999,9,     -999,9,     -999,9,  -1.4919,2,     -999,9,     -999,9,     -999,     -999,9,     -999,9,     -999,9,     -999,     -999,9,20150901,1928,      6.1,  87.5679, 179.1331,     -999,9,     -999,9
33HQ20150809  ,ARC01      ,30      ,  8,34         ,    6182,   11146,GSNIS-34   ,2,20150901,1903,  87.5658, 179.1696,     3945,      6.2,  -1.4921,  28.0279,2,  28.0264,2,    391.8,2,    392.7,2,     9.81,2,     0.00,2,     0.00,2,     0.79,2,     -999,9,     -999,9,     -999,9,     -999,9,     -999,9,     -999,9,     -999,9,     -999,     -999,9,     -999,9,     -999,9,     -999,9,  -1.4930,2,     -999,9,     -999,9,     -999,     -999,9,     -999,9,     -999,9,     -999,     -999,9,20150901,1928,      6.1,  87.5679, 179.1333,     -999,9,  28.1585,2
33HQ20150809  ,ARC01      ,30      ,  8,35         ,    6182,   11146,GSNIS-35   ,2,20150901,1903,  87.5658, 179.1696,     3945,      6.2,  -1.4923,  28.0281,2,     -999,9,    391.8,2,     -999,9,     9.72,2,     0.00,2,     0.00,2,     0.79,2,     -999,9,     -999,9,     -999,9,     -999,9,     -999,9,     -999,9,     -999,9,     -999,     -999,9,     -999,9,     -999,9,     -999,9,     -999,9,     -999,9,     -999,9,     -999,     -999,9,     -999,9,     -999,9,     -999,     -999,9,20150901,1928,      6.1,  87.5679, 179.1332,     -999,9,     -999,9
33HQ20150809  ,ARC01      ,30      ,  8,33         ,    6182,   11145,GSNIS-33   ,2,20150901,1903,  87.5658, 179.1696,     3945,     20.4,  -1.4961,  28.0337,2,     -999,9,    388.1,2,     -999,9,    10.01,2,     0.02,2,     0.02,2,     0.77,2,     -999,9,     -999,9,     -999,9,     -999,9,     -999,9,     -999,9,     -999,9,     -999,     -999,9,     -999,9,     -999,9,     -999,9,  -1.4961,2,     -999,9,     -999,9,     -999,     -999,9,     -999,9,     -999,9,     -999,     -999,9,20150901,1926,     20.2,  87.5677, 179.1361,     -999,9,     -999,9
33HQ20150809  ,ARC01      ,30      ,  8,32         ,    6182,   11145,GSNIS-32   ,2,20150901,1903,  87.5658, 179.1696,     3945,     20.4,  -1.4956,  28.0347,2,     -999,9,    388.1,2,     -999,9,     9.91,2,     0.01,2,     0.02,2,     0.80,2,     -999,9,     -999,9,     -999,9,     -999,9,     -999,9,     -999,9,     -999,9,     -999,     -999,9,     -999,9,     -999,9,     -999,9,     -999,9,     -999,9,     -999,9,     -999,     -999,9,     -999,9,     -999,9,     -999,     -999,9,20150901,1926,     20.2,  87.5677, 179.1363,     -999,9,     -999,9
33HQ20150809  ,ARC01      ,30      ,  8,31         ,    6182,   11145,GSNIS-31   ,2,20150901,1903,  87.5658, 179.1696,     3945,     20.4,  -1.4959,  28.0341,2,  28.3119,3,    388.1,2,    391.0,2,    10.11,2,     0.02,2,     0.03,2,     0.79,2,     -999,9,     -999,9,     -999,9,     -999,9,     -999,9,     -999,9,     -999,9,     -999,     -999,9,     -999,9,     -999,9,     -999,9,  -1.4970,2,     -999,9,     -999,9,     -999,     -999,9,     -999,9,     -999,9,     -999,     -999,9,20150901,1926,     20.2,  87.5677, 179.1364,     -999,9,  28.4454,3
33HQ20150809  ,ARC01      ,30      ,  8,30         ,    6182,   11144,GSNIS-30   ,2,20150901,1903,  87.5658, 179.1696,     3945,     25.6,  -1.4001,  28.6575,2,     -999,9,    388.8,2,     -999,9,    10.99,2,     0.20,2,     0.09,2,     0.82,2,     -999,9,     -999,9,     -999,9,     -999,9,     -999,9,     -999,9,     -999,9,     -999,     -999,9,     -999,9,     -999,9,     -999,9,  -1.4008,2,     -999,9,     -999,9,     -999,     -999,9,     -999,9,     -999,9,     -999,     -999,9,20150901,1924,     25.3,  87.5676, 179.1384,     -999,9,     -999,9
33HQ20150809  ,ARC01      ,30      ,  8,29         ,    6182,   11144,GSNIS-29   ,2,20150901,1903,  87.5658, 179.1696,     3945,     25.6,  -1.4002,  28.6543,2,     -999,9,    388.8,2,     -999,9,    10.89,2,     0.17,2,     0.09,2,     0.82,2,     -999,9,     -999,9,     -999,9,     -999,9,     -999,9,     -999,9,     -999,9,     -999,     -999,9,     -999,9,     -999,9,     -999,9,     -999,9,     -999,9,     -999,9,     -999,     -999,9,     -999,9,     -999,9,     -999,     -999,9,20150901,1924,     25.3,  87.5676, 179.1386,     -999,9,     -999,9
33HQ20150809  ,ARC01      ,30      ,  8,28         ,    6182,   11144,GSNIS-28   ,2,20150901,1903,  87.5658, 179.1696,     3945,     25.6,  -1.4002,  28.6539,2,  28.7895,2,    388.8,2,    386.9,2,    11.08,2,     0.22,2,     0.10,2,     0.81,2,     -999,9,     -999,9,     -999,9,     -999,9,     -999,9,     -999,9,     -999,9,     -999,     -999,9,     -999,9,     -999,9,     -999,9,  -1.4002,2,     -999,9,     -999,9,     -999,     -999,9,     -999,9,     -999,9,     -999,     -999,9,20150901,1924,     25.3,  87.5675, 179.1387,     -999,9,  28.9252,2
33HQ20150809  ,ARC01      ,30      ,  8,27         ,    6182,   11143,GSNIS-27   ,2,20150901,1903,  87.5658, 179.1696,     3945,     33.4,  -1.4159,  28.9434,2,     -999,9,    383.9,2,     -999,9,    10.79,2,     0.63,2,     0.07,2,     0.82,2,     -999,9,     -999,9,     -999,9,     -999,9,     -999,9,     -999,9,     -999,9,     -999,     -999,9,     -999,9,     -999,9,     -999,9,  -1.4166,2,     -999,9,     -999,9,     -999,     -999,9,     -999,9,     -999,9,     -999,     -999,9,20150901,1922,     33.0,  87.5674, 179.1410,     -999,9,     -999,9
33HQ20150809  ,ARC01      ,30      ,  8,26         ,    6182,   11143,GSNIS-26   ,2,20150901,1903,  87.5658, 179.1696,     3945,     33.4,  -1.4169,  28.9449,2,     -999,9,    383.9,2,     -999,9,    10.89,2,     0.60,2,     0.07,2,     0.82,2,     -999,9,     -999,9,     -999,9,     -999,9,     -999,9,     -999,9,     -999,9,     -999,     -999,9,     -999,9,     -999,9,     -999,9,     -999,9,     -999,9,     -999,9,     -999,     -999,9,     -999,9,     -999,9,     -999,     -999,9,20150901,1922,     33.0,  87.5674, 179.1411,     -999,9,     -999,9
33HQ20150809  ,ARC01      ,30      ,  8,25         ,    6182,   11143,GSNIS-25   ,2,20150901,1903,  87.5658, 179.1696,     3945,     33.4,  -1.4165,  28.9436,2,  29.2126,3,    383.9,2,    380.0,2,    10.30,2,     0.71,2,     0.05,2,     0.83,2,     -999,9,     -999,9,     -999,9,     -999,9,     -999,9,     -999,9,     -999,9,     -999,     -999,9,     -999,9,     -999,9,     -999,9,  -1.4156,2,     -999,9,     -999,9,     -999,     -999,9,     -999,9,     -999,9,     -999,     -999,9,20150901,1922,     33.0,  87.5674, 179.1413,     -999,9,  29.3504,3
33HQ20150809  ,ARC01      ,30      ,  8,23         ,    6182,   11142,GSNIS-23   ,2,20150901,1903,  87.5658, 179.1696,     3945,     41.5,  -1.2910,  29.4127,2,     -999,9,    366.9,2,     -999,9,    10.10,2,     1.41,2,     0.03,2,     0.86,2,     -999,9,     -999,9,     -999,9,     -999,9,     -999,9,     -999,9,     -999,9,     -999,     -999,9,     -999,9,     -999,9,     -999,9,     -999,9,     -999,9,     -999,9,     -999,     -999,9,     -999,9,     -999,9,     -999,     -999,9,20150901,1921,     41.1,  87.5673, 179.1436,     -999,9,     -999,9
33HQ20150809  ,ARC01      ,30      ,  8,22         ,    6182,   11142,GSNIS-22   ,2,20150901,1903,  87.5658, 179.1696,     3945,     41.5,  -1.2910,  29.4120,2,  29.7508,2,    366.9,2,    362.8,2,    10.29,2,     1.49,2,     0.03,2,     0.87,2,     -999,9,     -999,9,     -999,9,     -999,9,     -999,9,     -999,9,     -999,9,     -999,     -999,9,     -999,9,     -999,9,     -999,9,  -1.2951,2,     -999,9,     -999,9,     -999,     -999,9,     -999,9,     -999,9,     -999,     -999,9,20150901,1920,     41.1,  87.5673, 179.1437,     -999,9,  29.8911,2
33HQ20150809  ,ARC01      ,30      ,  8,24         ,    6182,   11142,GSNIS-24   ,2,20150901,1903,  87.5658, 179.1696,     3945,     41.5,  -1.2903,  29.4148,2,     -999,9,    362.9,2,     -999,9,    10.39,2,     1.53,2,     0.03,2,     0.87,2,     -999,9,     -999,9,     -999,9,     -999,9,     -999,9,     -999,9,     -999,9,     -999,     -999,9,     -999,9,     -999,9,     -999,9,  -1.2914,2,     -999,9,     -999,9,     -999,     -999,9,     -999,9,     -999,9,     -999,     -999,9,20150901,1921,     41.1,  87.5673, 179.1434,     -999,9,     -999,9
33HQ20150809  ,ARC01      ,30      ,  8,19         ,    6182,   11141,GSNIS-19   ,2,20150901,1903,  87.5658, 179.1696,     3945,     57.8,  -1.3684,  31.7615,2,  32.0993,3,    323.4,2,    319.5,2,    12.92,2,     5.39,2,     0.02,2,     0.79,2,     -999,9,     -999,9,     -999,9,     -999,9,     -999,9,     -999,9,     -999,9,     -999,     -999,9,     -999,9,     -999,9,     -999,9,  -1.3712,2,     -999,9,     -999,9,     -999,     -999,9,     -999,9,     -999,9,     -999,     -999,9,20150901,1918,     57.2,  87.5671, 179.1467,     -999,9,  32.2507,3
33HQ20150809  ,ARC01      ,30      ,  8,21         ,    6182,   11141,GSNIS-21   ,2,20150901,1903,  87.5658, 179.1696,     3945,     57.8,  -1.3709,  31.7578,2,     -999,9,    323.4,2,     -999,9,    12.82,2,     5.45,2,     0.01,2,     0.80,2,     -999,9,     -999,9,     -999,9,     -999,9,     -999,9,     -999,9,     -999,9,     -999,     -999,9,     -999,9,     -999,9,     -999,9,  -1.3687,2,     -999,9,     -999,9,     -999,     -999,9,     -999,9,     -999,9,     -999,     -999,9,20150901,1919,     57.2,  87.5671, 179.1465,     -999,9,     -999,9
33HQ20150809  ,ARC01      ,30      ,  8,20         ,    6182,   11141,GSNIS-20   ,2,20150901,1903,  87.5658, 179.1696,     3945,     57.8,  -1.3711,  31.7593,2,     -999,9,    323.4,2,     -999,9,    12.72,2,     5.28,2,     0.01,2,     0.79,2,     -999,9,     -999,9,     -999,9,     -999,9,     -999,9,     -999,9,     -999,9,     -999,     -999,9,     -999,9,     -999,9,     -999,9,     -999,9,     -999,9,     -999,9,     -999,     -999,9,     -999,9,     -999,9,     -999,     -999,9,20150901,1918,     57.2,  87.5671, 179.1466,     -999,9,     -999,9
33HQ20150809  ,ARC01      ,30      ,  8,16         ,    6182,   11140,GSNIS-16   ,2,20150901,1903,  87.5658, 179.1696,     3945,     73.5,  -1.5272,  32.9652,2,  33.0899,2,    291.6,2,    294.7,2,    17.40,2,     8.93,2,     0.01,2,     1.02,2,     -999,9,     -999,9,     -999,9,     -999,9,     -999,9,     -999,9,     -999,9,     -999,     -999,9,     -999,9,     -999,9,     -999,9,  -1.5279,2,     -999,9,     -999,9,     -999,     -999,9,     -999,9,     -999,9,     -999,     -999,9,20150901,1917,     72.7,  87.5669, 179.1493,     -999,9,  33.2460,2
33HQ20150809  ,ARC01      ,30      ,  8,18         ,    6182,   11140,GSNIS-18   ,2,20150901,1903,  87.5658, 179.1696,     3945,     73.5,  -1.5272,  32.9664,2,     -999,9,    291.6,2,     -999,9,    17.31,2,     8.92,2,     0.01,2,     1.02,2,     -999,9,     -999,9,     -999,9,     -999,9,     -999,9,     -999,9,     -999,9,     -999,     -999,9,     -999,9,     -999,9,     -999,9,  -1.5278,2,     -999,9,     -999,9,     -999,     -999,9,     -999,9,     -999,9,     -999,     -999,9,20150901,1917,     72.7,  87.5670, 179.1491,     -999,9,     -999,9
33HQ20150809  ,ARC01      ,30      ,  8,17         ,    6182,   11140,GSNIS-17   ,2,20150901,1903,  87.5658, 179.1696,     3945,     73.5,  -1.5273,  32.9640,2,     -999,9,    291.6,2,     -999,9,    17.99,2,     8.96,2,     0.01,2,     1.04,2,     -999,9,     -999,9,     -999,9,     -999,9,     -999,9,     -999,9,     -999,9,     -999,     -999,9,     -999,9,     -999,9,     -999,9,     -999,9,     -999,9,     -999,9,     -999,     -999,9,     -999,9,     -999,9,     -999,     -999,9,20150901,1917,     72.7,  87.5669, 179.1492,     -999,9,     -999,9
33HQ20150809  ,ARC01      ,30      ,  8,15         ,    6182,   11139,GSNIS-15   ,2,20150901,1903,  87.5658, 179.1696,     3945,    102.0,  -1.4650,  33.8676,2,     -999,9,    310.5,2,     -999,9,     6.74,2,     7.49,2,     0.01,2,     0.67,2,     -999,9,     -999,9,     -999,9,     -999,9,     -999,9,     -999,9,     -999,9,     -999,     -999,9,     -999,9,     -999,9,     -999,9,  -1.4652,2,     -999,9,     -999,9,     -999,     -999,9,     -999,9,     -999,9,     -999,     -999,9,20150901,1914,    100.8,  87.5667, 179.1527,     -999,9,     -999,9
33HQ20150809  ,ARC01      ,30      ,  8,14         ,    6182,   11139,GSNIS-14   ,2,20150901,1903,  87.5658, 179.1696,     3945,    102.0,  -1.4650,  33.8678,2,     -999,9,    310.5,2,     -999,9,     6.94,2,     7.47,2,     0.01,2,     0.68,2,     -999,9,     -999,9,     -999,9,     -999,9,     -999,9,     -999,9,     -999,9,     -999,     -999,9,     -999,9,     -999,9,     -999,9,     -999,9,     -999,9,     -999,9,     -999,     -999,9,     -999,9,     -999,9,     -999,     -999,9,20150901,1914,    100.8,  87.5667, 179.1528,     -999,9,     -999,9
33HQ20150809  ,ARC01      ,30      ,  8,13         ,    6182,   11139,GSNIS-13   ,2,20150901,1903,  87.5658, 179.1696,     3945,    102.0,  -1.4645,  33.8651,2,  33.9490,2,    310.5,2,    309.6,2,     7.03,2,     7.48,2,     0.01,2,     0.67,2,     -999,9,     -999,9,     -999,9,     -999,9,     -999,9,     -999,9,     -999,9,     -999,     -999,9,     -999,9,     -999,9,     -999,9,  -1.4649,2,     -999,9,     -999,9,     -999,     -999,9,     -999,9,     -999,9,     -999,     -999,9,20150901,1914,    100.8,  87.5667, 179.1530,     -999,9,  34.1091,2
33HQ20150809  ,ARC01      ,30      ,  8,12         ,    6182,   11138,GSNIS-12   ,2,20150901,1903,  87.5658, 179.1696,     3945,    127.8,  -1.0626,  34.2486,2,     -999,9,    306.3,2,     -999,9,     5.47,2,     8.50,2,     0.01,2,     0.68,2,     -999,9,     -999,9,     -999,9,     -999,9,     -999,9,     -999,9,     -999,9,     -999,     -999,9,     -999,9,     -999,9,     -999,9,  -1.0632,2,     -999,9,     -999,9,     -999,     -999,9,     -999,9,     -999,9,     -999,     -999,9,20150901,1912,    126.4,  87.5665, 179.1564,     -999,9,     -999,9
33HQ20150809  ,ARC01      ,30      ,  8,11         ,    6182,   11138,GSNIS-11   ,2,20150901,1903,  87.5658, 179.1696,     3945,    127.8,  -1.0619,  34.2489,2,     -999,9,    306.3,2,     -999,9,     5.47,2,     8.42,2,     0.01,2,     0.69,2,     -999,9,     -999,9,     -999,9,     -999,9,     -999,9,     -999,9,     -999,9,     -999,     -999,9,     -999,9,     -999,9,     -999,9,     -999,9,     -999,9,     -999,9,     -999,     -999,9,     -999,9,     -999,9,     -999,     -999,9,20150901,1912,    126.4,  87.5665, 179.1565,     -999,9,     -999,9
33HQ20150809  ,ARC01      ,30      ,  8,10         ,    6182,   11138,GSNIS-10   ,2,20150901,1903,  87.5658, 179.1696,     3945,    127.8,  -1.0620,  34.2489,2,  34.2657,2,    306.3,2,    306.0,2,     5.47,2,     8.45,2,     0.01,2,     0.68,2,     -999,9,     -999,9,     -999,9,     -999,9,     -999,9,     -999,9,     -999,9,     -999,     -999,9,     -999,9,     -999,9,     -999,9,  -1.0631,2,     -999,9,     -999,9,     -999,     -999,9,     -999,9,     -999,9,     -999,     -999,9,20150901,1912,    126.4,  87.5665, 179.1566,     -999,9,  34.4273,2
33HQ20150809  ,ARC01      ,30      ,  8,8          ,    6182,   11137,GSNIS-8    ,2,20150901,1903,  87.5658, 179.1696,     3945,    152.9,  -0.4522,  34.4055,2,     -999,9,    303.2,2,     -999,9,     5.37,2,     9.34,2,     0.01,2,     0.71,2,     -999,9,     -999,9,     -999,9,     -999,9,     -999,9,     -999,9,     -999,9,     -999,     -999,9,     -999,9,     -999,9,     -999,9,     -999,9,     -999,9,     -999,9,     -999,     -999,9,     -999,9,     -999,9,     -999,     -999,9,20150901,1909,    151.2,  87.5663, 179.1605,     -999,9,     -999,9
33HQ20150809  ,ARC01      ,30      ,  8,9          ,    6182,   11137,GSNIS-9    ,2,20150901,1903,  87.5658, 179.1696,     3945,    152.9,  -0.4529,  34.4056,2,     -999,9,    303.2,2,     -999,9,     5.27,2,     9.37,2,     0.01,2,     0.71,2,     -999,9,     -999,9,     -999,9,     -999,9,     -999,9,     -999,9,     -999,9,     -999,     -999,9,     -999,9,     -999,9,     -999,9,  -0.4519,2,     -999,9,     -999,9,     -999,     -999,9,     -999,9,     -999,9,     -999,     -999,9,20150901,1909,    151.2,  87.5663, 179.1604,     -999,9,     -999,9
33HQ20150809  ,ARC01      ,30      ,  8,7          ,    6182,   11137,GSNIS-7    ,2,20150901,1903,  87.5658, 179.1696,     3945,    152.9,  -0.4525,  34.4056,2,  34.4304,2,    303.2,2,    302.2,2,     5.37,2,     9.38,2,     0.01,2,     0.71,2,     -999,9,     -999,9,     -999,9,     -999,9,     -999,9,     -999,9,     -999,9,     -999,     -999,9,     -999,9,     -999,9,     -999,9,  -0.4520,2,     -999,9,     -999,9,     -999,     -999,9,     -999,9,     -999,9,     -999,     -999,9,20150901,1909,    151.2,  87.5663, 179.1606,     -999,9,  34.5927,2
33HQ20150809  ,ARC01      ,30      ,  8,4          ,    6182,   11136,GSNIS-4    ,2,20150901,1903,  87.5658, 179.1696,     3945,    178.1,  -0.0300,  34.5354,2,  34.5478,2,    299.4,2,    299.7,2,     5.57,2,    10.13,2,     0.01,2,     0.73,2,     -999,9,     -999,9,     -999,9,     -999,9,     -999,9,     -999,9,     -999,9,     -999,     -999,9,     -999,9,     -999,9,     -999,9,  -0.0299,2,     -999,9,     -999,9,     -999,     -999,9,     -999,9,     -999,9,     -999,     -999,9,20150901,1906,    176.1,  87.5661, 179.1647,     -999,9,  34.7107,2
33HQ20150809  ,ARC01      ,30      ,  8,6          ,    6182,   11136,GSNIS-6    ,2,20150901,1903,  87.5658, 179.1696,     3945,    178.1,  -0.0300,  34.5355,2,     -999,9,    299.4,2,     -999,9,     5.57,2,    10.13,2,     0.01,2,     0.75,2,     -999,9,     -999,9,     -999,9,     -999,9,     -999,9,     -999,9,     -999,9,     -999,     -999,9,     -999,9,     -999,9,     -999,9,  -0.0304,2,     -999,9,     -999,9,     -999,     -999,9,     -999,9,     -999,9,     -999,     -999,9,20150901,1906,    176.1,  87.5661, 179.1644,     -999,9,     -999,9
33HQ20150809  ,ARC01      ,30      ,  8,5          ,    6182,   11136,GSNIS-5    ,2,20150901,1903,  87.5658, 179.1696,     3945,    178.1,  -0.0300,  34.5355,2,     -999,9,    299.4,2,     -999,9,     5.57,2,    10.06,2,     0.01,2,     0.74,2,     -999,9,     -999,9,     -999,9,     -999,9,     -999,9,     -999,9,     -999,9,     -999,     -999,9,     -999,9,     -999,9,     -999,9,     -999,9,     -999,9,     -999,9,     -999,     -999,9,     -999,9,     -999,9,     -999,     -999,9,20150901,1906,    176.1,  87.5661, 179.1646,     -999,9,     -999,9