BOTTLE,20221220CCHSIOAMB
EXPOCODE,SECT_ID,STNNBR,CASTNO,SAMPNO,GEOTR_EVENT,GEOTR_SAMPNO,BTLNBR,BTLNBR_FLAG_W,DATE,TIME,LATITUDE,LONGITUDE,DEPTH,CTDPRS,CTDTMP,CTDSAL,CTDSAL_FLAG_W,SALNTY,SALNTY_FLAG_W,CTDOXY,CTDOXY_FLAG_W,OXYGEN,OXYGEN_FLAG_W,SILCAT,SILCAT_FLAG_W,NITRAT,NITRAT_FLAG_W,NITRIT,NITRIT_FLAG_W,PHSPHT,PHSPHT_FLAG_W,CFC-11,CFC-11_FLAG_W,CFC-12,CFC-12_FLAG_W,CFC113,CFC113_FLAG_W,SF6,SF6_FLAG_W,TCARBN,TCARBN_FLAG_W,ALKALI,ALKALI_FLAG_W,PH_SWS,PH_SWS_FLAG_W,PH_TMP,DOC,DOC_FLAG_W,TRITUM,TRITUM_FLAG_W,HELIUM,HELIUM_FLAG_W,DELHE3,DELHE3_FLAG_W,REFTMP,REFTMP_FLAG_W,DELC13,DELC13_FLAG_W,DELC14,DELC14_FLAG_W,C14ERR,TDN,TDN_FLAG_W,DELO18,DELO18_FLAG_W,DELO17,DELO17_FLAG_W,CH4,CH4,CH4_FLAG_W,BTL_DATE,BTL_TIME,CTDDEPTH,BTL_LAT,BTL_LON,LAB_DEN,LAB_DEN_FLAG_W,SALTREF,SALTREF_FLAG_W
,,,,,,,,,,,,,METERS,DBAR,ITS-90,PSS-78,,PSS-78,,UMOL/KG,,UMOL/KG,,UMOL/KG,,UMOL/KG,,UMOL/KG,,UMOL/KG,,PMOL/KG,,PMOL/KG,,PMOL/KG,,FMOL/KG,,UMOL/KG,,UMOL/KG,,,,DEG C,UMOL/KG,,TU,,NMOL/KG,,PERCNT,,ITS-90,,/MILLE,,/MILLE,,/MILLE,UMOL/KG,,/MILLE,,/MILLE,,NMOL/KG,NMOL/L,,,,METERS,,,KG/M^3,,G/KG,
33HQ20150809  ,ARC01      ,8       , 25,25         ,    6071,   10695,SMBT       ,2,20150818,1856,  73.9844,-168.7645,      180,      1.0,   1.7401,  24.4307,2,  23.3358,2,     -999,9,     -999,9,     3.15,2,     0.02,2,     0.00,2,     0.33,2,     -999,9,     -999,9,     -999,9,     -999,9,     -999,9,     -999,9,     -999,9,     -999,     -999,9,     -999,9,     -999,9,     -999,9,     -999,9,     -999,9,     -999,9,     -999,     -999,9,     -999,9,     -999,9,     -999,     -999,9,20150818,1858,      1.0,  73.9845,-168.7652,     -999,9,  23.4458,2
33HQ20150809  ,ARC01      ,8       ,  2,12         ,    6070,   10683,NIS-12     ,2,20150818,1918,  73.9852,-168.7756,      191,      2.0,   1.8803,  24.6411,2,  24.8587,4,    377.4,2,    367.9,2,     4.72,2,     0.03,2,     0.00,2,     0.36,2,    6.149,2,    3.336,2,    0.571,2,    3.684,2,   1621.9,6,   1750.6,2,   7.8868,2,    25.00,     64.3,2,     -999,9,     -999,9,     -999,9,   1.9008,2,     1.96,6,     -999,1,     -999,     4.26,2,     -999,1,     -999,9,     -999,     -999,9,20150818,1940,      2.0,  73.9851,-168.7827,     -999,9,  24.9759,4
33HQ20150809  ,ARC01      ,8       ,  2,11         ,    6070,   10684,NIS-11     ,2,20150818,1918,  73.9852,-168.7756,      191,     14.8,   1.8150,  30.0008,2,  30.4973,4,    376.9,2,    372.5,2,     5.59,2,     0.08,2,     0.01,2,     0.61,2,    6.047,2,    3.307,2,    0.555,2,    3.452,2,   1971.2,2,   2129.4,2,     -999,5,     -999,     69.0,2,     -999,9,     -999,9,     -999,9,   1.8824,2,     -999,9,     -999,9,     -999,     4.43,2,     -999,1,     -999,9,     -999,     -999,9,20150818,1939,     14.7,  73.9851,-168.7824,     -999,9,  30.6411,4
33HQ20150809  ,ARC01      ,8       ,  2,10         ,    6070,   10685,NIS-10     ,2,20150818,1918,  73.9852,-168.7756,      191,     24.9,   2.0369,  31.0683,2,  31.0969,2,    380.0,2,    381.2,2,     7.83,2,     0.31,2,     0.03,2,     0.69,2,    5.901,2,    3.222,2,    0.540,2,    3.408,2,   1995.2,2,   2160.9,2,   7.8361,2,    25.00,     66.4,2,     -999,9,     -999,9,     -999,9,   2.0555,2,     -999,9,     -999,9,     -999,     6.31,2,     -999,1,     -999,9,     -999,     -999,9,20150818,1937,     24.6,  73.9851,-168.7820,     -999,9,  31.2435,2
33HQ20150809  ,ARC01      ,8       ,  2,9          ,    6070,   10686,NIS-9      ,2,20150818,1918,  73.9852,-168.7756,      191,     45.5,  -1.2060,  31.8839,2,  31.9078,2,    384.5,2,    387.7,2,    21.82,2,     2.96,2,     0.10,2,     1.11,2,    6.406,2,    3.507,2,    0.582,2,    3.795,2,   2089.8,2,   2205.7,2,   7.8906,4,    25.00,     68.6,2,     -999,9,     -999,9,     -999,9,  -1.1904,2,     -999,9,     -999,9,     -999,    10.02,2,     -999,1,     -999,9,     -999,     -999,9,20150818,1935,     45.0,  73.9851,-168.7814,     -999,9,  32.0583,2
33HQ20150809  ,ARC01      ,8       ,  2,8          ,    6070,   10687,NIS-8      ,2,20150818,1918,  73.9852,-168.7756,      191,     61.0,  -1.0633,  32.1368,2,  32.1459,2,    343.5,2,    329.3,2,    24.56,2,     8.58,2,     0.22,2,     1.38,2,    6.447,2,    3.526,2,    0.571,2,    3.627,2,   2139.9,2,   2219.0,2,   7.5793,2,    25.00,     64.8,2,     -999,9,     -999,9,     -999,9,  -1.0737,2,     -999,9,     -999,9,     -999,    13.20,2,     -999,1,     -999,9,     -999,     -999,9,20150818,1933,     60.4,  73.9851,-168.7810,     -999,9,  32.2975,2
33HQ20150809  ,ARC01      ,8       ,  2,7          ,    6070,   10688,NIS-7      ,2,20150818,1918,  73.9852,-168.7756,      191,     75.3,  -1.5070,  32.3360,2,  32.3772,3,    311.8,2,    307.3,2,    31.11,2,    12.46,2,     0.08,2,     1.63,2,    6.433,2,    3.513,2,    0.542,2,    3.410,2,   2171.8,2,   2229.2,2,   7.4954,2,    25.00,     62.8,2,     -999,9,     -999,9,     -999,9,  -1.5073,2,     -999,9,     -999,9,     -999,    16.60,2,     -999,1,     -999,9,     -999,     -999,9,20150818,1931,     74.5,  73.9852,-168.7806,     -999,9,  32.5298,3
33HQ20150809  ,ARC01      ,8       ,  2,6          ,    6070,   10689,NIS-6      ,2,20150818,1918,  73.9852,-168.7756,      191,     90.9,  -1.5795,  32.5469,2,  32.5446,2,    299.1,2,    296.2,2,    37.46,2,    14.54,2,     0.06,2,     1.79,2,    6.277,2,    3.484,2,    0.539,2,    3.485,2,   2186.7,2,   2231.3,2,   7.3880,3,    25.00,     61.8,2,     -999,9,     -999,9,     -999,9,  -1.5784,2,     -999,9,     -999,9,     -999,    17.84,2,     -999,1,     -999,9,     -999,     -999,9,20150818,1930,     89.9,  73.9852,-168.7802,     -999,9,  32.6981,2
33HQ20150809  ,ARC01      ,8       ,  2,5          ,    6070,   10690,NIS-5      ,2,20150818,1918,  73.9852,-168.7756,      191,    106.5,  -1.7433,  32.7091,2,  32.7055,2,    291.7,2,    292.3,2,    45.48,2,    17.22,2,     0.07,2,     1.95,2,    6.026,2,    3.347,2,    0.553,2,    3.640,2,   2196.2,2,   2234.1,2,     -999,5,     -999,     63.5,2,     -999,9,     -999,9,     -999,9,  -1.7457,2,     -999,9,     -999,9,     -999,    20.61,2,     -999,1,     -999,9,     -999,     -999,9,20150818,1928,    105.3,  73.9852,-168.7795,     -999,9,  32.8598,2
33HQ20150809  ,ARC01      ,8       ,  2,4          ,    6070,   10691,NIS-4      ,2,20150818,1918,  73.9852,-168.7756,      191,    122.2,  -1.6424,  32.8889,2,  32.8489,3,    286.8,2,    293.2,2,    42.54,2,    16.05,2,     0.03,2,     1.91,2,    6.118,2,    3.372,2,    0.535,2,    3.439,2,   2211.0,2,   2253.1,2,   7.4453,6,    25.00,     60.8,2,     -999,9,     -999,9,     -999,9,  -1.6466,2,     -999,9,     -999,9,     -999,    19.91,2,     -999,1,     -999,9,     -999,     -999,9,20150818,1926,    120.9,  73.9852,-168.7788,     -999,9,  33.0038,3
33HQ20150809  ,ARC01      ,8       ,  2,3          ,    6070,   10692,NIS-3      ,2,20150818,1918,  73.9852,-168.7756,      191,    136.5,  -1.2432,  33.5004,2,  33.4537,3,    281.7,2,    283.5,2,    30.50,2,    14.51,2,     0.06,2,     1.63,2,    6.015,6,    3.161,6,    0.435,6,    2.320,6,   2216.0,2,   2274.7,2,   7.4904,2,    25.00,     60.6,2,     -999,9,     -999,9,     -999,9,  -1.2562,2,     -999,9,     -999,9,     -999,    18.58,2,     -999,1,     -999,9,     -999,     -999,9,20150818,1923,    135.0,  73.9852,-168.7775,     -999,9,  33.6114,3
33HQ20150809  ,ARC01      ,8       ,  2,2          ,    6070,   10693,NIS-2      ,2,20150818,1918,  73.9852,-168.7756,      191,    157.1,  -0.1570,  34.4421,2,  34.4730,3,    271.7,2,    267.1,2,    17.00,2,    13.39,2,     0.06,2,     1.16,2,    5.422,2,    2.636,2,    0.337,2,    1.214,2,   2189.3,2,   2286.0,6,   7.6025,2,    25.00,     54.7,2,     -999,9,     -999,9,     -999,9,  -0.1707,2,     -999,9,     -999,9,     -999,    16.12,2,     -999,1,     -999,9,     -999,     -999,9,20150818,1921,    155.4,  73.9852,-168.7767,     -999,9,  34.6356,3
33HQ20150809  ,ARC01      ,8       ,  2,1          ,    6070,   10694,NIS-1      ,2,20150818,1918,  73.9852,-168.7756,      191,    178.5,   0.0721,  34.5639,2,  34.5597,2,    262.2,2,    263.7,2,    16.70,2,    13.37,2,     0.08,2,     1.13,2,    5.338,2,    2.606,2,    0.323,2,    1.164,2,   2187.5,6,   2286.5,2,   7.6007,2,    25.00,     53.0,2,     -999,9,     -999,9,     -999,9,   0.0706,2,     -999,9,     -999,9,     -999,    16.02,2,     -999,1,     -999,9,     -999,     -999,9,20150818,1918,    176.5,  73.9852,-168.7753,     -999,9,  34.7227,2
33HQ20150809  ,ARC01      ,9       ,  1,12         ,    6075,   10696,NIS-12     ,2,20150819,0041,  74.5026,-168.8603,      198,      2.0,  -0.2371,  22.8052,2,  22.9580,4,    389.6,2,    387.3,2,     3.35,2,     0.00,2,     0.00,2,     0.39,2,    6.821,2,    3.707,2,    0.633,2,    4.392,2,   1560.2,2,   1632.5,6,   7.7537,2,    25.00,     66.0,2,     -999,1,     -999,9,     -999,9,  -0.2335,2,     1.51,6,     -999,1,     -999,     2.18,2,     -999,1,     -999,9,     -999,     -999,9,20150819,0101,      1.9,  74.5023,-168.8691,     -999,9,  23.0662,4
33HQ20150809  ,ARC01      ,9       ,  1,11         ,    6075,   10697,NIS-11     ,2,20150819,0041,  74.5026,-168.8603,      198,     19.1,   0.6245,  30.4266,2,  30.8928,4,    463.2,2,    411.6,2,     4.12,2,     0.05,2,     0.00,2,     0.61,2,    6.549,2,    3.560,2,    0.575,2,    3.710,2,   1998.0,2,   2158.7,2,   7.8445,2,    25.00,     71.5,2,     -999,1,     -999,9,     -999,9,   0.6297,2,     -999,9,     -999,9,     -999,     1.78,2,     -999,1,     -999,9,     -999,     -999,9,20150819,0059,     18.9,  74.5024,-168.8684,     -999,9,  31.0385,4
33HQ20150809  ,ARC01      ,9       ,  1,10         ,    6075,   10698,NIS-10     ,2,20150819,0041,  74.5026,-168.8603,      198,     36.5,  -0.5614,  31.6161,2,  31.6447,2,    414.0,2,    405.5,2,    11.26,2,     1.25,2,     0.06,2,     0.90,2,    6.459,2,    3.539,2,    0.580,2,    3.949,2,   2055.1,6,   2197.6,2,   7.7747,2,    25.00,     72.2,2,     -999,1,     -999,9,     -999,9,  -0.5685,2,     -999,9,     -999,9,     -999,     3.71,2,     -999,1,     -999,9,     -999,     -999,9,20150819,0057,     36.1,  74.5024,-168.8678,     -999,9,  31.7939,2
33HQ20150809  ,ARC01      ,9       ,  1,9          ,    6075,   10699,NIS-9      ,2,20150819,0041,  74.5026,-168.8603,      198,     59.0,  -1.0298,  32.0085,2,  32.0262,2,    341.9,2,    344.5,2,    21.83,2,     6.58,2,     0.16,2,     1.27,2,    6.440,2,    3.543,2,    0.583,2,    3.816,2,   2120.4,2,   2216.4,2,   7.6385,2,    25.00,     70.3,2,     -999,1,     -999,9,     -999,9,  -1.0255,2,     -999,9,     -999,9,     -999,     9.28,2,     -999,1,     -999,9,     -999,     -999,9,20150819,0055,     58.4,  74.5025,-168.8669,     -999,9,  32.1773,2
33HQ20150809  ,ARC01      ,9       ,  1,8          ,    6075,   10700,NIS-8      ,2,20150819,0041,  74.5026,-168.8603,      198,     74.5,  -1.2150,  32.1632,2,  32.1839,2,    326.6,2,    323.6,2,    28.38,2,     9.91,2,     0.14,2,     1.48,2,    6.448,2,    3.565,2,    0.561,2,    3.843,2,   2153.5,2,   2221.0,2,   7.5477,2,    25.00,     67.8,2,     -999,1,     -999,9,     -999,9,  -1.2156,2,     -999,9,     -999,9,     -999,    12.07,2,     -999,1,     -999,9,     -999,     -999,9,20150819,0053,     73.8,  74.5026,-168.8662,     -999,9,  32.3356,2
33HQ20150809  ,ARC01      ,9       ,  1,7          ,    6075,    -999,NIS-7      ,2,20150819,0041,  74.5026,-168.8603,      198,     92.0,  -1.5225,  32.3258,2,  32.3391,2,    322.3,2,    320.2,2,    29.55,2,    11.03,2,     0.06,2,     1.54,2,    6.502,2,    3.564,2,    0.543,2,    3.469,2,   2174.3,2,   2236.1,2,   7.5230,6,    25.00,     66.8,2,     -999,1,     -999,9,     -999,9,  -1.5216,2,     -999,9,     -999,9,     -999,    10.86,2,     -999,1,     -999,9,     -999,     -999,9,20150819,0052,     91.0,  74.5026,-168.8655,     -999,9,  32.4916,2
33HQ20150809  ,ARC01      ,9       ,  1,6          ,    6075,   10701,NIS-6      ,2,20150819,0041,  74.5026,-168.8603,      198,    102.2,  -1.5522,  32.4505,2,  32.4603,2,    319.1,2,    317.4,2,    27.89,2,    11.26,2,     0.03,2,     1.56,2,    6.513,2,    3.533,2,    0.525,2,    3.338,2,   2175.1,2,   2245.0,2,   7.5213,2,    25.00,     67.4,2,     -999,1,     -999,9,     -999,9,  -1.5515,2,     -999,9,     -999,9,     -999,    12.20,2,     -999,1,     -999,9,     -999,     -999,9,20150819,0051,    101.1,  74.5027,-168.8650,     -999,9,  32.6133,2
33HQ20150809  ,ARC01      ,9       ,  1,5          ,    6075,    -999,NIS-5      ,2,20150819,0041,  74.5026,-168.8603,      198,    112.6,  -1.5986,  32.5784,2,  32.5798,2,    315.5,2,    316.7,2,    29.84,2,    11.75,2,     0.02,2,     1.58,2,    6.472,2,    3.482,2,    0.530,2,    3.397,2,   2190.8,2,   2253.7,2,     -999,5,     -999,     66.9,2,     -999,1,     -999,9,     -999,9,  -1.5979,2,     -999,9,     -999,9,     -999,    13.43,2,     -999,1,     -999,9,     -999,     -999,9,20150819,0049,    111.4,  74.5027,-168.8645,     -999,9,  32.7334,2
33HQ20150809  ,ARC01      ,9       ,  1,4          ,    6075,    -999,NIS-4      ,2,20150819,0041,  74.5026,-168.8603,      198,    128.1,  -1.6675,  32.8126,2,  32.8195,2,    315.2,2,    317.7,2,    36.10,2,    14.53,2,     0.02,2,     1.73,2,    6.364,2,    3.443,2,    0.532,2,    3.500,2,   2241.6,3,   2256.7,2,   7.5042,2,    25.00,     66.4,2,     -999,1,     -999,9,     -999,9,  -1.6675,2,     -999,9,     -999,9,     -999,    15.80,2,     -999,1,     -999,9,     -999,     -999,9,20150819,0048,    126.7,  74.5027,-168.8636,     -999,9,  32.9743,2
33HQ20150809  ,ARC01      ,9       ,  1,3          ,    6075,    -999,NIS-3      ,2,20150819,0041,  74.5026,-168.8603,      198,    143.2,  -1.7386,  32.9652,2,  32.9672,2,    313.2,2,    319.4,2,    42.06,2,    17.07,2,     0.01,2,     1.89,2,    6.294,2,    3.402,2,    0.537,2,    3.554,2,   2201.9,6,   2255.3,2,   7.5004,2,    25.00,     64.9,2,     -999,1,     -999,9,     -999,9,  -1.7380,2,     -999,9,     -999,9,     -999,    19.38,2,     -999,1,     -999,9,     -999,     -999,9,20150819,0046,    141.7,  74.5027,-168.8629,     -999,9,  33.1227,2
33HQ20150809  ,ARC01      ,9       ,  1,2          ,    6075,    -999,NIS-2      ,2,20150819,0041,  74.5026,-168.8603,      198,    164.2,  -1.1170,  33.6918,2,  33.7292,3,    288.2,2,    285.1,2,    26.69,2,    14.06,2,     0.03,2,     1.49,2,    5.930,2,    3.101,2,    0.410,2,    2.242,2,   2215.7,2,   2281.7,2,   7.5276,2,    25.00,     62.6,2,     -999,1,     -999,9,     -999,9,  -1.1103,2,     -999,9,     -999,9,     -999,    14.04,2,     -999,1,     -999,9,     -999,     -999,9,20150819,0044,    162.4,  74.5027,-168.8619,     -999,9,  33.8882,3
33HQ20150809  ,ARC01      ,9       ,  1,1          ,    6075,   10969,NIS-1      ,2,20150819,0041,  74.5026,-168.8603,      198,    179.6,  -0.4159,  34.2411,2,  34.1884,3,    264.9,2,    265.5,2,    22.96,2,    13.89,2,     0.10,2,     1.34,2,    5.621,2,    2.807,2,    0.373,2,    1.529,2,   2210.2,2,   2285.6,6,   7.5662,6,    25.00,     58.7,2,     -999,1,     -999,9,     -999,9,  -0.4015,2,     -999,9,     -999,9,     -999,    14.66,2,     -999,1,     -999,9,     -999,     -999,9,20150819,0041,    177.7,  74.5026,-168.8605,     -999,9,  34.3496,3
33HQ20150809  ,ARC01      ,9       , 25,25         ,    6077,   10702,SMBT       ,2,20150819,0116,  74.5018,-168.8525,      201,      1.0,  -0.2339,  22.8355,2,  22.8057,2,     -999,9,     -999,9,     3.35,2,     0.01,2,     0.00,2,     0.38,2,     -999,9,     -999,9,     -999,9,     -999,9,     -999,9,     -999,9,     -999,9,     -999,     -999,9,     -999,9,     -999,9,     -999,9,     -999,9,     -999,9,     -999,9,     -999,     -999,9,     -999,9,     -999,9,     -999,     -999,9,20150819,0116,      1.0,  74.5018,-168.8525,     -999,9,  22.9133,2