BOTTLE,20221220CCHSIOAMB
EXPOCODE,SECT_ID,STNNBR,CASTNO,SAMPNO,GEOTR_EVENT,GEOTR_SAMPNO,BTLNBR,BTLNBR_FLAG_W,DATE,TIME,LATITUDE,LONGITUDE,DEPTH,CTDPRS,CTDTMP,CTDSAL,CTDSAL_FLAG_W,SALNTY,SALNTY_FLAG_W,CTDOXY,CTDOXY_FLAG_W,OXYGEN,OXYGEN_FLAG_W,SILCAT,SILCAT_FLAG_W,NITRAT,NITRAT_FLAG_W,NITRIT,NITRIT_FLAG_W,PHSPHT,PHSPHT_FLAG_W,CFC-11,CFC-11_FLAG_W,CFC-12,CFC-12_FLAG_W,CFC113,CFC113_FLAG_W,SF6,SF6_FLAG_W,TCARBN,TCARBN_FLAG_W,ALKALI,ALKALI_FLAG_W,PH_SWS,PH_SWS_FLAG_W,PH_TMP,DOC,DOC_FLAG_W,TRITUM,TRITUM_FLAG_W,HELIUM,HELIUM_FLAG_W,DELHE3,DELHE3_FLAG_W,REFTMP,REFTMP_FLAG_W,DELC13,DELC13_FLAG_W,DELC14,DELC14_FLAG_W,C14ERR,TDN,TDN_FLAG_W,DELO18,DELO18_FLAG_W,DELO17,DELO17_FLAG_W,CH4,CH4,CH4_FLAG_W,BTL_DATE,BTL_TIME,CTDDEPTH,BTL_LAT,BTL_LON,LAB_DEN,LAB_DEN_FLAG_W,SALTREF,SALTREF_FLAG_W
,,,,,,,,,,,,,METERS,DBAR,ITS-90,PSS-78,,PSS-78,,UMOL/KG,,UMOL/KG,,UMOL/KG,,UMOL/KG,,UMOL/KG,,UMOL/KG,,PMOL/KG,,PMOL/KG,,PMOL/KG,,FMOL/KG,,UMOL/KG,,UMOL/KG,,,,DEG C,UMOL/KG,,TU,,NMOL/KG,,PERCNT,,ITS-90,,/MILLE,,/MILLE,,/MILLE,UMOL/KG,,/MILLE,,/MILLE,,NMOL/KG,NMOL/L,,,,METERS,,,KG/M^3,,G/KG,
33HQ20150809  ,ARC01      ,56      ,  6,31         ,    6430,   12085,GSNIS-31   ,2,20151001,0329,  74.9686,-150.1202,     3834,    154.8,  -1.3299,  32.5834,2,  32.5681,2,    296.0,2,    297.3,2,    26.22,2,    12.83,2,     0.00,2,     1.69,2,     -999,9,     -999,9,     -999,9,     -999,9,     -999,9,     -999,9,     -999,9,     -999,     -999,9,     -999,9,     -999,9,     -999,9,  -1.3296,2,     -999,9,     -999,9,     -999,     -999,9,     -999,9,     -999,9,     -999,     -999,9,20151001,0347,    153.1,  74.9690,-150.0987,     -999,9,  32.7217,2
33HQ20150809  ,ARC01      ,56      ,  6,32         ,    6430,   12085,GSNIS-32   ,2,20151001,0329,  74.9686,-150.1202,     3834,    155.1,  -1.3302,  32.5861,2,     -999,9,    296.0,2,     -999,9,    26.32,2,    13.14,2,     0.00,2,     1.68,2,     -999,9,     -999,9,     -999,9,     -999,9,     -999,9,     -999,9,     -999,9,     -999,     -999,9,     -999,9,     -999,9,     -999,9,  -1.3298,2,     -999,9,     -999,9,     -999,     -999,9,     -999,9,     -999,9,     -999,     -999,9,20151001,0347,    153.4,  74.9690,-150.0985,     -999,9,     -999,9
33HQ20150809  ,ARC01      ,56      ,  6,34         ,    6430,   12085,GSNIS-34   ,2,20151001,0329,  74.9686,-150.1202,     3834,    155.4,  -1.3320,  32.5930,2,     -999,9,    296.0,2,     -999,9,    26.32,2,    12.88,2,     0.00,2,     1.68,2,     -999,9,     -999,9,     -999,9,     -999,9,     -999,9,     -999,9,     -999,9,     -999,     -999,9,     -999,9,     -999,9,     -999,9,  -1.3327,2,     -999,9,     -999,9,     -999,     -999,9,     -999,9,     -999,9,     -999,     -999,9,20151001,0348,    153.8,  74.9690,-150.0981,     -999,9,     -999,9
33HQ20150809  ,ARC01      ,56      ,  6,33         ,    6430,   12085,GSNIS-33   ,2,20151001,0329,  74.9686,-150.1202,     3834,    155.5,  -1.3326,  32.5941,2,     -999,9,    295.2,2,     -999,9,    26.42,2,    12.91,2,     0.00,2,     1.68,2,     -999,9,     -999,9,     -999,9,     -999,9,     -999,9,     -999,9,     -999,9,     -999,     -999,9,     -999,9,     -999,9,     -999,9,  -1.3305,2,     -999,9,     -999,9,     -999,     -999,9,     -999,9,     -999,9,     -999,     -999,9,20151001,0348,    153.9,  74.9690,-150.0983,     -999,9,     -999,9
33HQ20150809  ,ARC01      ,56      ,  6,35         ,    6430,   12085,GSNIS-35   ,2,20151001,0329,  74.9686,-150.1202,     3834,    155.7,  -1.3325,  32.5943,2,     -999,9,    295.2,2,     -999,9,    26.32,2,    12.91,2,     0.00,2,     1.67,2,     -999,9,     -999,9,     -999,9,     -999,9,     -999,9,     -999,9,     -999,9,     -999,     -999,9,     -999,9,     -999,9,     -999,9,  -1.3326,2,     -999,9,     -999,9,     -999,     -999,9,     -999,9,     -999,9,     -999,     -999,9,20151001,0348,    154.0,  74.9690,-150.0979,     -999,9,     -999,9
33HQ20150809  ,ARC01      ,56      ,  6,36         ,    6430,   12085,GSNIS-36   ,2,20151001,0329,  74.9686,-150.1202,     3834,    155.9,  -1.3330,  32.5948,2,     -999,9,    295.2,2,     -999,9,    26.32,2,    12.90,2,     0.00,2,     1.66,2,     -999,9,     -999,9,     -999,9,     -999,9,     -999,9,     -999,9,     -999,9,     -999,     -999,9,     -999,9,     -999,9,     -999,9,  -1.3327,2,     -999,9,     -999,9,     -999,     -999,9,     -999,9,     -999,9,     -999,     -999,9,20151001,0348,    154.2,  74.9690,-150.0977,     -999,9,     -999,9
33HQ20150809  ,ARC01      ,56      ,  6,30         ,    6430,   12086,GSNIS-30   ,2,20151001,0329,  74.9686,-150.1202,     3834,    209.9,  -1.4871,  33.1068,2,     -999,9,    274.5,2,     -999,9,    34.62,2,    15.86,2,     0.00,2,     1.88,2,     -999,9,     -999,9,     -999,9,     -999,9,     -999,9,     -999,9,     -999,9,     -999,     -999,9,     -999,9,     -999,9,     -999,9,  -1.4907,2,     -999,9,     -999,9,     -999,     -999,9,     -999,9,     -999,9,     -999,     -999,9,20151001,0345,    207.6,  74.9690,-150.1017,     -999,9,     -999,9
33HQ20150809  ,ARC01      ,56      ,  6,29         ,    6430,   12086,GSNIS-29   ,2,20151001,0329,  74.9686,-150.1202,     3834,    210.9,  -1.4916,  33.1142,2,     -999,9,    274.5,2,     -999,9,    34.62,2,    15.86,2,     0.00,2,     1.87,2,     -999,9,     -999,9,     -999,9,     -999,9,     -999,9,     -999,9,     -999,9,     -999,     -999,9,     -999,9,     -999,9,     -999,9,  -1.4915,2,     -999,9,     -999,9,     -999,     -999,9,     -999,9,     -999,9,     -999,     -999,9,20151001,0345,    208.6,  74.9690,-150.1019,     -999,9,     -999,9
33HQ20150809  ,ARC01      ,56      ,  6,26         ,    6430,   12086,GSNIS-26   ,2,20151001,0329,  74.9686,-150.1202,     3834,    211.2,  -1.4920,  33.1147,2,     -999,9,    274.5,2,     -999,9,    34.92,2,    15.87,2,     0.00,2,     1.87,2,     -999,9,     -999,9,     -999,9,     -999,9,     -999,9,     -999,9,     -999,9,     -999,     -999,9,     -999,9,     -999,9,     -999,9,  -1.4911,2,     -999,9,     -999,9,     -999,     -999,9,     -999,9,     -999,9,     -999,     -999,9,20151001,0344,    208.9,  74.9690,-150.1027,     -999,9,     -999,9
33HQ20150809  ,ARC01      ,56      ,  6,27         ,    6430,   12086,GSNIS-27   ,2,20151001,0329,  74.9686,-150.1202,     3834,    211.2,  -1.4916,  33.1146,2,     -999,9,    274.5,2,     -999,9,    34.82,2,    15.86,2,     0.00,2,     1.87,2,     -999,9,     -999,9,     -999,9,     -999,9,     -999,9,     -999,9,     -999,9,     -999,     -999,9,     -999,9,     -999,9,     -999,9,  -1.4919,2,     -999,9,     -999,9,     -999,     -999,9,     -999,9,     -999,9,     -999,     -999,9,20151001,0345,    208.9,  74.9690,-150.1025,     -999,9,     -999,9
33HQ20150809  ,ARC01      ,56      ,  6,28         ,    6430,   12086,GSNIS-28   ,2,20151001,0329,  74.9686,-150.1202,     3834,    211.3,  -1.4920,  33.1151,2,     -999,9,    274.5,2,     -999,9,    34.62,2,    15.86,2,     0.00,2,     1.87,2,     -999,9,     -999,9,     -999,9,     -999,9,     -999,9,     -999,9,     -999,9,     -999,     -999,9,     -999,9,     -999,9,     -999,9,  -1.4918,2,     -999,9,     -999,9,     -999,     -999,9,     -999,9,     -999,9,     -999,     -999,9,20151001,0345,    209.0,  74.9690,-150.1022,     -999,9,     -999,9
33HQ20150809  ,ARC01      ,56      ,  6,25         ,    6430,   12086,GSNIS-25   ,2,20151001,0329,  74.9686,-150.1202,     3834,    211.3,  -1.4914,  33.1144,2,  33.1059,2,    274.5,2,    275.8,2,    34.82,2,    15.89,2,     0.00,2,     1.87,2,     -999,9,     -999,9,     -999,9,     -999,9,     -999,9,     -999,9,     -999,9,     -999,     -999,9,     -999,9,     -999,9,     -999,9,  -1.4902,2,     -999,9,     -999,9,     -999,     -999,9,     -999,9,     -999,9,     -999,     -999,9,20151001,0344,    209.0,  74.9691,-150.1029,     -999,9,  33.2620,2
33HQ20150809  ,ARC01      ,56      ,  6,21         ,    6430,   12087,GSNIS-21   ,2,20151001,0329,  74.9686,-150.1202,     3834,    257.2,  -1.0761,  33.9192,2,     -999,9,    265.0,2,     -999,9,    23.95,2,    13.74,2,     0.00,2,     1.38,2,     -999,9,     -999,9,     -999,9,     -999,9,     -999,9,     -999,9,     -999,9,     -999,     -999,9,     -999,9,     -999,9,     -999,9,  -1.0732,2,     -999,9,     -999,9,     -999,     -999,9,     -999,9,     -999,9,     -999,     -999,9,20151001,0342,    254.4,  74.9691,-150.1063,     -999,9,     -999,9
33HQ20150809  ,ARC01      ,56      ,  6,23         ,    6430,   12087,GSNIS-23   ,2,20151001,0329,  74.9686,-150.1202,     3834,    257.2,  -1.0718,  33.9228,2,     -999,9,    265.0,2,     -999,9,    23.85,2,    13.71,2,     0.00,2,     1.38,2,     -999,9,     -999,9,     -999,9,     -999,9,     -999,9,     -999,9,     -999,9,     -999,     -999,9,     -999,9,     -999,9,     -999,9,  -1.0706,2,     -999,9,     -999,9,     -999,     -999,9,     -999,9,     -999,9,     -999,     -999,9,20151001,0342,    254.4,  74.9691,-150.1059,     -999,9,     -999,9
33HQ20150809  ,ARC01      ,56      ,  6,19         ,    6430,   12087,GSNIS-19   ,2,20151001,0329,  74.9686,-150.1202,     3834,    257.2,  -1.0798,  33.9176,2,  33.8929,2,    265.0,2,    266.8,2,    24.34,2,    13.85,2,     0.00,2,     1.39,2,     -999,9,     -999,9,     -999,9,     -999,9,     -999,9,     -999,9,     -999,9,     -999,     -999,9,     -999,9,     -999,9,     -999,9,  -1.0831,2,     -999,9,     -999,9,     -999,     -999,9,     -999,9,     -999,9,     -999,     -999,9,20151001,0341,    254.4,  74.9691,-150.1068,     -999,9,  34.0528,2
33HQ20150809  ,ARC01      ,56      ,  6,20         ,    6430,   12087,GSNIS-20   ,2,20151001,0329,  74.9686,-150.1202,     3834,    257.3,  -1.0760,  33.9197,2,     -999,9,    265.0,2,     -999,9,    24.05,2,    13.76,2,     0.00,2,     1.37,2,     -999,9,     -999,9,     -999,9,     -999,9,     -999,9,     -999,9,     -999,9,     -999,     -999,9,     -999,9,     -999,9,     -999,9,  -1.0789,2,     -999,9,     -999,9,     -999,     -999,9,     -999,9,     -999,9,     -999,     -999,9,20151001,0341,    254.4,  74.9691,-150.1066,     -999,9,     -999,9
33HQ20150809  ,ARC01      ,56      ,  6,24         ,    6430,   12087,GSNIS-24   ,2,20151001,0329,  74.9686,-150.1202,     3834,    257.4,  -1.0671,  33.9263,2,     -999,9,    265.0,2,     -999,9,    23.75,2,    13.70,2,     0.00,2,     1.37,2,     -999,9,     -999,9,     -999,9,     -999,9,     -999,9,     -999,9,     -999,9,     -999,     -999,9,     -999,9,     -999,9,     -999,9,  -1.0679,2,     -999,9,     -999,9,     -999,     -999,9,     -999,9,     -999,9,     -999,     -999,9,20151001,0342,    254.5,  74.9691,-150.1057,     -999,9,     -999,9
33HQ20150809  ,ARC01      ,56      ,  6,22         ,    6430,   12087,GSNIS-22   ,2,20151001,0329,  74.9686,-150.1202,     3834,    257.6,  -1.0664,  33.9267,2,     -999,9,    265.0,2,     -999,9,    23.85,2,    13.74,2,     0.00,2,     1.39,2,     -999,9,     -999,9,     -999,9,     -999,9,     -999,9,     -999,9,     -999,9,     -999,     -999,9,     -999,9,     -999,9,     -999,9,  -1.0727,2,     -999,9,     -999,9,     -999,     -999,9,     -999,9,     -999,9,     -999,     -999,9,20151001,0342,    254.8,  74.9691,-150.1061,     -999,9,     -999,9
33HQ20150809  ,ARC01      ,56      ,  6,13         ,    6430,   12088,GSNIS-13   ,2,20151001,0329,  74.9686,-150.1202,     3834,    304.7,  -0.2742,  34.4239,2,  34.4187,2,    281.3,2,    280.4,2,    11.14,2,    11.74,2,     0.00,2,     0.92,2,     -999,9,     -999,9,     -999,9,     -999,9,     -999,9,     -999,9,     -999,9,     -999,     -999,9,     -999,9,     -999,9,     -999,9,  -0.2869,2,     -999,9,     -999,9,     -999,     -999,9,     -999,9,     -999,9,     -999,     -999,9,20151001,0338,    301.3,  74.9690,-150.1110,     -999,9,  34.5810,2
33HQ20150809  ,ARC01      ,56      ,  6,14         ,    6430,   12088,GSNIS-14   ,2,20151001,0329,  74.9686,-150.1202,     3834,    305.0,  -0.2692,  34.4258,2,     -999,9,    281.3,2,     -999,9,    11.14,2,    11.80,2,     0.00,2,     0.92,2,     -999,9,     -999,9,     -999,9,     -999,9,     -999,9,     -999,9,     -999,9,     -999,     -999,9,     -999,9,     -999,9,     -999,9,  -0.2770,2,     -999,9,     -999,9,     -999,     -999,9,     -999,9,     -999,9,     -999,     -999,9,20151001,0338,    301.6,  74.9690,-150.1108,     -999,9,     -999,9
33HQ20150809  ,ARC01      ,56      ,  6,15         ,    6430,   12088,GSNIS-15   ,2,20151001,0329,  74.9686,-150.1202,     3834,    305.1,  -0.2657,  34.4266,2,     -999,9,    281.3,2,     -999,9,    11.24,2,    11.85,2,     0.00,2,     0.92,2,     -999,9,     -999,9,     -999,9,     -999,9,     -999,9,     -999,9,     -999,9,     -999,     -999,9,     -999,9,     -999,9,     -999,9,  -0.2650,2,     -999,9,     -999,9,     -999,     -999,9,     -999,9,     -999,9,     -999,     -999,9,20151001,0338,    301.7,  74.9690,-150.1106,     -999,9,     -999,9
33HQ20150809  ,ARC01      ,56      ,  6,16         ,    6430,   12088,GSNIS-16   ,2,20151001,0329,  74.9686,-150.1202,     3834,    305.4,  -0.2606,  34.4277,2,     -999,9,    281.3,2,     -999,9,    11.53,2,    11.94,2,     0.00,2,     0.94,2,     -999,9,     -999,9,     -999,9,     -999,9,     -999,9,     -999,9,     -999,9,     -999,     -999,9,     -999,9,     -999,9,     -999,9,  -0.2621,2,     -999,9,     -999,9,     -999,     -999,9,     -999,9,     -999,9,     -999,     -999,9,20151001,0338,    302.0,  74.9690,-150.1104,     -999,9,     -999,9
33HQ20150809  ,ARC01      ,56      ,  6,18         ,    6430,   12088,GSNIS-18   ,2,20151001,0329,  74.9686,-150.1202,     3834,    305.6,  -0.2602,  34.4279,2,     -999,9,    281.3,2,     -999,9,    11.53,2,    11.97,2,     0.00,2,     0.95,2,     -999,9,     -999,9,     -999,9,     -999,9,     -999,9,     -999,9,     -999,9,     -999,     -999,9,     -999,9,     -999,9,     -999,9,  -0.2595,2,     -999,9,     -999,9,     -999,     -999,9,     -999,9,     -999,9,     -999,     -999,9,20151001,0339,    302.2,  74.9690,-150.1100,     -999,9,     -999,9
33HQ20150809  ,ARC01      ,56      ,  6,17         ,    6430,   12088,GSNIS-17   ,2,20151001,0329,  74.9686,-150.1202,     3834,    305.7,  -0.2586,  34.4283,2,     -999,9,    281.3,2,     -999,9,    11.63,2,    11.95,2,     0.00,2,     0.95,2,     -999,9,     -999,9,     -999,9,     -999,9,     -999,9,     -999,9,     -999,9,     -999,     -999,9,     -999,9,     -999,9,     -999,9,  -0.2604,2,     -999,9,     -999,9,     -999,     -999,9,     -999,9,     -999,9,     -999,     -999,9,20151001,0338,    302.3,  74.9690,-150.1102,     -999,9,     -999,9
33HQ20150809  ,ARC01      ,56      ,  6,9          ,    6430,   12089,GSNIS-9    ,2,20151001,0329,  74.9686,-150.1202,     3834,    404.0,   0.6133,  34.7774,2,     -999,9,    283.5,2,     -999,9,     8.40,2,    12.80,2,     0.00,2,     0.91,2,     -999,9,     -999,9,     -999,9,     -999,9,     -999,9,     -999,9,     -999,9,     -999,     -999,9,     -999,9,     -999,9,     -999,9,   0.6132,2,     -999,9,     -999,9,     -999,     -999,9,     -999,9,     -999,9,     -999,     -999,9,20151001,0334,    399.5,  74.9688,-150.1150,     -999,9,     -999,9
33HQ20150809  ,ARC01      ,56      ,  6,12         ,    6430,   12089,GSNIS-12   ,2,20151001,0329,  74.9686,-150.1202,     3834,    404.1,   0.6138,  34.7775,2,     -999,9,    283.5,2,     -999,9,     8.40,2,    12.76,2,     0.00,2,     0.90,2,     -999,9,     -999,9,     -999,9,     -999,9,     -999,9,     -999,9,     -999,9,     -999,     -999,9,     -999,9,     -999,9,     -999,9,   0.6173,2,     -999,9,     -999,9,     -999,     -999,9,     -999,9,     -999,9,     -999,     -999,9,20151001,0335,    399.5,  74.9688,-150.1145,     -999,9,     -999,9
33HQ20150809  ,ARC01      ,56      ,  6,11         ,    6430,   12089,GSNIS-11   ,2,20151001,0329,  74.9686,-150.1202,     3834,    404.3,   0.6150,  34.7778,2,     -999,9,    283.5,2,     -999,9,     8.40,2,    12.79,2,     0.00,2,     0.90,2,     -999,9,     -999,9,     -999,9,     -999,9,     -999,9,     -999,9,     -999,9,     -999,     -999,9,     -999,9,     -999,9,     -999,9,   0.6133,2,     -999,9,     -999,9,     -999,     -999,9,     -999,9,     -999,9,     -999,     -999,9,20151001,0334,    399.7,  74.9688,-150.1147,     -999,9,     -999,9
33HQ20150809  ,ARC01      ,56      ,  6,10         ,    6430,   12089,GSNIS-10   ,2,20151001,0329,  74.9686,-150.1202,     3834,    404.3,   0.6145,  34.7778,2,     -999,9,    283.5,2,     -999,9,     8.40,2,    12.79,2,     0.00,2,     0.92,2,     -999,9,     -999,9,     -999,9,     -999,9,     -999,9,     -999,9,     -999,9,     -999,     -999,9,     -999,9,     -999,9,     -999,9,   0.6130,2,     -999,9,     -999,9,     -999,     -999,9,     -999,9,     -999,9,     -999,     -999,9,20151001,0334,    399.7,  74.9688,-150.1149,     -999,9,     -999,9
33HQ20150809  ,ARC01      ,56      ,  6,8          ,    6430,   12089,GSNIS-8    ,2,20151001,0329,  74.9686,-150.1202,     3834,    404.4,   0.6143,  34.7776,2,     -999,9,    284.2,2,     -999,9,     8.40,2,    12.80,2,     0.00,2,     0.90,2,     -999,9,     -999,9,     -999,9,     -999,9,     -999,9,     -999,9,     -999,9,     -999,     -999,9,     -999,9,     -999,9,     -999,9,   0.6146,2,     -999,9,     -999,9,     -999,     -999,9,     -999,9,     -999,9,     -999,     -999,9,20151001,0334,    399.8,  74.9688,-150.1152,     -999,9,     -999,9
33HQ20150809  ,ARC01      ,56      ,  6,7          ,    6430,   12089,GSNIS-7    ,2,20151001,0329,  74.9686,-150.1202,     3834,    404.5,   0.6145,  34.7777,2,  34.7778,2,    284.2,2,    285.0,2,     8.40,2,    12.81,2,     0.00,2,     0.89,2,     -999,9,     -999,9,     -999,9,     -999,9,     -999,9,     -999,9,     -999,9,     -999,     -999,9,     -999,9,     -999,9,     -999,9,   0.6154,2,     -999,9,     -999,9,     -999,     -999,9,     -999,9,     -999,9,     -999,     -999,9,20151001,0334,    399.9,  74.9688,-150.1155,     -999,9,  34.9418,2
33HQ20150809  ,ARC01      ,56      ,  6,1          ,    6430,   12090,GSNIS-1    ,2,20151001,0329,  74.9686,-150.1202,     3834,    508.8,   0.7165,  34.8288,2,  34.8282,2,    290.8,2,    291.4,2,     7.33,2,    12.69,2,     0.00,2,     0.87,2,     -999,9,     -999,9,     -999,9,     -999,9,     -999,9,     -999,9,     -999,9,     -999,     -999,9,     -999,9,     -999,9,     -999,9,   0.7173,2,     -999,9,     -999,9,     -999,     -999,9,     -999,9,     -999,9,     -999,     -999,9,20151001,0328,    502.9,  74.9686,-150.1211,     -999,9,  34.9924,2
33HQ20150809  ,ARC01      ,56      ,  6,3          ,    6430,   12090,GSNIS-3    ,2,20151001,0329,  74.9686,-150.1202,     3834,    509.2,   0.7185,  34.8292,2,     -999,9,    290.8,2,     -999,9,     7.33,2,    12.67,2,     0.00,2,     0.88,2,     -999,9,     -999,9,     -999,9,     -999,9,     -999,9,     -999,9,     -999,9,     -999,     -999,9,     -999,9,     -999,9,     -999,9,   0.7183,2,     -999,9,     -999,9,     -999,     -999,9,     -999,9,     -999,9,     -999,     -999,9,20151001,0329,    503.3,  74.9686,-150.1206,     -999,9,     -999,9
33HQ20150809  ,ARC01      ,56      ,  6,2          ,    6430,   12090,GSNIS-2    ,2,20151001,0329,  74.9686,-150.1202,     3834,    509.4,   0.7182,  34.8292,2,     -999,9,    290.8,2,     -999,9,     7.42,2,    12.70,2,     0.00,2,     0.87,2,     -999,9,     -999,9,     -999,9,     -999,9,     -999,9,     -999,9,     -999,9,     -999,     -999,9,     -999,9,     -999,9,     -999,9,   0.7179,2,     -999,9,     -999,9,     -999,     -999,9,     -999,9,     -999,9,     -999,     -999,9,20151001,0329,    503.5,  74.9686,-150.1209,     -999,9,     -999,9