BOTTLE,20221220CCHSIOAMB
EXPOCODE,SECT_ID,STNNBR,CASTNO,SAMPNO,GEOTR_EVENT,GEOTR_SAMPNO,BTLNBR,BTLNBR_FLAG_W,DATE,TIME,LATITUDE,LONGITUDE,DEPTH,CTDPRS,CTDTMP,CTDSAL,CTDSAL_FLAG_W,SALNTY,SALNTY_FLAG_W,CTDOXY,CTDOXY_FLAG_W,OXYGEN,OXYGEN_FLAG_W,SILCAT,SILCAT_FLAG_W,NITRAT,NITRAT_FLAG_W,NITRIT,NITRIT_FLAG_W,PHSPHT,PHSPHT_FLAG_W,CFC-11,CFC-11_FLAG_W,CFC-12,CFC-12_FLAG_W,CFC113,CFC113_FLAG_W,SF6,SF6_FLAG_W,TCARBN,TCARBN_FLAG_W,ALKALI,ALKALI_FLAG_W,PH_SWS,PH_SWS_FLAG_W,PH_TMP,DOC,DOC_FLAG_W,TRITUM,TRITUM_FLAG_W,HELIUM,HELIUM_FLAG_W,DELHE3,DELHE3_FLAG_W,REFTMP,REFTMP_FLAG_W,DELC13,DELC13_FLAG_W,DELC14,DELC14_FLAG_W,C14ERR,TDN,TDN_FLAG_W,DELO18,DELO18_FLAG_W,DELO17,DELO17_FLAG_W,CH4,CH4,CH4_FLAG_W,BTL_DATE,BTL_TIME,CTDDEPTH,BTL_LAT,BTL_LON,LAB_DEN,LAB_DEN_FLAG_W,SALTREF,SALTREF_FLAG_W
,,,,,,,,,,,,,METERS,DBAR,ITS-90,PSS-78,,PSS-78,,UMOL/KG,,UMOL/KG,,UMOL/KG,,UMOL/KG,,UMOL/KG,,UMOL/KG,,PMOL/KG,,PMOL/KG,,PMOL/KG,,FMOL/KG,,UMOL/KG,,UMOL/KG,,,,DEG C,UMOL/KG,,TU,,NMOL/KG,,PERCNT,,ITS-90,,/MILLE,,/MILLE,,/MILLE,UMOL/KG,,/MILLE,,/MILLE,,NMOL/KG,NMOL/L,,,,METERS,,,KG/M^3,,G/KG,
33HQ20150809  ,ARC01      ,19      ,  2,34         ,    6124,   10888,GSNIS-34   ,2,20150823,2129,  79.9967,-174.9621,     2099,      4.8,  -1.3539,  27.5805,2,  27.6404,2,    382.4,2,    383.1,2,     2.45,2,     0.00,2,     0.00,2,     0.57,2,    6.836,2,    3.750,2,    0.652,2,    3.999,2,   1873.3,2,   1762.1,4,   7.6976,2,    25.00,     68.4,2,     -999,1,     -999,1,     -999,1,  -1.3553,2,     1.46,2,     -999,1,     -999,     3.82,2,     -999,1,     -999,9,     5.25,   5.2503,2,20150823,2155,      4.7,  79.9954,-174.9648,     -999,9,  27.7708,2
33HQ20150809  ,ARC01      ,19      ,  2,36         ,    6124,   10888,GSNIS-36   ,2,20150823,2129,  79.9967,-174.9621,     2099,      4.8,  -1.3695,  27.5540,2,  27.6351,2,    381.9,2,     -999,9,     2.55,2,     0.00,2,     0.00,2,     0.58,2,     -999,9,     -999,9,     -999,9,     -999,9,     -999,9,     -999,9,     -999,9,     -999,     -999,9,     -999,9,     -999,9,     -999,9,  -1.3653,2,     -999,9,     -999,9,     -999,     -999,9,     -999,9,     -999,9,     -999,     -999,9,20150823,2156,      4.7,  79.9954,-174.9648,     -999,9,  27.7654,2
33HQ20150809  ,ARC01      ,19      ,  2,35         ,    6124,   10888,GSNIS-35   ,9,20150823,2129,  79.9967,-174.9621,     2099,      4.8,  -1.3502,  27.5813,2,     -999,9,    382.4,2,     -999,9,     -999,9,     -999,9,     -999,9,     -999,9,     -999,9,     -999,9,     -999,9,     -999,9,     -999,9,     -999,9,     -999,9,     -999,     -999,9,     -999,9,     -999,9,     -999,9,  -1.3528,2,     -999,9,     -999,9,     -999,     -999,9,     -999,9,     -999,9,     -999,     -999,9,20150823,2155,      4.7,  79.9954,-174.9648,     -999,9,     -999,9
33HQ20150809  ,ARC01      ,19      ,  2,31         ,    6124,   10889,GSNIS-31   ,2,20150823,2129,  79.9967,-174.9621,     2099,     25.0,  -1.1168,  29.8106,2,  29.9292,2,    396.7,2,    398.6,2,     2.45,2,     0.00,2,     0.00,2,     0.66,2,    7.007,2,    3.807,2,    0.651,2,    3.644,2,   2013.4,2,   1971.6,4,   7.7085,2,    25.00,     70.8,2,     -999,1,     -999,1,     -999,1,  -1.1111,2,     1.47,2,     -999,1,     -999,     4.73,2,     -999,1,     -999,9,     5.81,   5.8140,2,20150823,2153,     24.7,  79.9955,-174.9648,     -999,9,  30.0703,2
33HQ20150809  ,ARC01      ,19      ,  2,33         ,    6124,   10889,GSNIS-33   ,2,20150823,2129,  79.9967,-174.9621,     2099,     25.0,  -1.2308,  29.8621,2,  29.9347,2,    396.1,2,     -999,9,     2.55,2,     0.00,2,     0.00,2,     0.64,2,     -999,9,     -999,9,     -999,9,     -999,9,     -999,9,     -999,9,     -999,9,     -999,     -999,9,     -999,9,     -999,9,     -999,9,  -1.2034,2,     -999,9,     -999,9,     -999,     -999,9,     -999,9,     -999,9,     -999,     -999,9,20150823,2154,     24.7,  79.9955,-174.9648,     -999,9,  30.0759,2
33HQ20150809  ,ARC01      ,19      ,  2,32         ,    6124,   10889,GSNIS-32   ,2,20150823,2129,  79.9967,-174.9621,     2099,     25.0,  -1.1389,  29.8288,2,  29.9365,2,    396.7,2,     -999,9,     2.45,2,     0.00,2,     0.00,2,     0.64,2,     -999,9,     -999,9,     -999,9,     -999,9,     -999,9,     -999,9,     -999,9,     -999,     -999,9,     -999,9,     -999,9,     -999,9,  -1.1341,2,     -999,9,     -999,9,     -999,     -999,9,     -999,9,     -999,9,     -999,     -999,9,20150823,2153,     24.7,  79.9955,-174.9648,     -999,9,  30.0776,2
33HQ20150809  ,ARC01      ,19      ,  2,28         ,    6124,   10890,GSNIS-28   ,2,20150823,2129,  79.9967,-174.9621,     2099,     49.0,  -1.0357,  31.4115,2,  31.3247,2,    387.2,2,    387.2,2,     6.76,2,     0.70,2,     0.04,2,     0.84,2,    6.632,2,    3.605,2,    0.579,2,    3.340,2,   2063.3,2,   2185.0,2,   7.7135,2,    25.00,     68.6,2,     -999,1,     -999,1,     -999,1,  -1.0345,2,     1.29,2,     -999,1,     -999,     4.89,2,     -999,9,     -999,9,     9.92,   9.9244,2,20150823,2151,     48.5,  79.9956,-174.9643,     -999,9,  31.4724,2
33HQ20150809  ,ARC01      ,19      ,  2,29         ,    6124,   10890,GSNIS-29   ,2,20150823,2129,  79.9967,-174.9621,     2099,     49.0,  -1.0319,  31.4093,2,  31.3286,2,    387.2,2,     -999,9,     6.85,2,     0.69,2,     0.05,2,     0.84,2,     -999,9,     -999,9,     -999,9,     -999,9,     -999,9,     -999,9,     -999,9,     -999,     -999,9,     -999,9,     -999,9,     -999,9,  -1.0338,2,     -999,9,     -999,9,     -999,     -999,9,     -999,9,     -999,9,     -999,     -999,9,20150823,2151,     48.5,  79.9956,-174.9643,     -999,9,  31.4763,2
33HQ20150809  ,ARC01      ,19      ,  2,30         ,    6124,   10890,GSNIS-30   ,2,20150823,2129,  79.9967,-174.9621,     2099,     49.0,  -1.0343,  31.4105,2,  31.3325,2,    387.2,2,     -999,9,     6.85,2,     0.69,2,     0.04,2,     0.85,2,     -999,9,     -999,9,     -999,9,     -999,9,     -999,9,     -999,9,     -999,9,     -999,     -999,9,     -999,9,     -999,9,     -999,9,  -1.0310,2,     -999,9,     -999,9,     -999,     -999,9,     -999,9,     -999,9,     -999,     -999,9,20150823,2151,     48.5,  79.9956,-174.9644,     -999,9,  31.4802,2
33HQ20150809  ,ARC01      ,19      ,  2,27         ,    6124,   10891,GSNIS-27   ,2,20150823,2129,  79.9967,-174.9621,     2099,     75.7,  -1.4766,  32.0439,2,  32.0877,2,    330.5,2,     -999,9,    24.27,2,     9.81,2,     0.02,2,     1.43,2,     -999,9,     -999,9,     -999,9,     -999,9,     -999,9,     -999,9,     -999,9,     -999,     -999,9,     -999,9,     -999,9,     -999,9,     -999,9,     -999,9,     -999,9,     -999,     -999,9,     -999,9,     -999,9,     -999,     -999,9,20150823,2149,     74.9,  79.9956,-174.9632,     -999,9,  32.2390,2
33HQ20150809  ,ARC01      ,19      ,  2,26         ,    6124,   10891,GSNIS-26   ,2,20150823,2129,  79.9967,-174.9621,     2099,     75.7,  -1.4842,  32.0436,2,  32.0712,2,    330.5,2,     -999,9,    24.47,2,     9.86,2,     0.02,2,     1.45,2,     -999,9,     -999,9,     -999,9,     -999,9,     -999,9,     -999,9,     -999,9,     -999,     -999,9,     -999,9,     -999,9,     -999,9,  -1.4855,2,     -999,9,     -999,9,     -999,     -999,9,     -999,9,     -999,9,     -999,     -999,9,20150823,2149,     74.9,  79.9956,-174.9631,     -999,9,  32.2224,2
33HQ20150809  ,ARC01      ,19      ,  2,25         ,    6124,   10891,GSNIS-25   ,2,20150823,2129,  79.9967,-174.9621,     2099,     75.7,  -1.4704,  32.0449,2,  32.1071,2,    330.5,2,    320.7,2,    24.66,2,     9.91,2,     0.02,2,     1.44,2,    6.417,2,    3.511,2,    0.541,2,    3.170,2,   2150.3,2,   2216.2,2,   7.5348,2,    25.00,     64.1,2,     -999,1,     -999,1,     -999,1,  -1.4741,2,     0.49,2,     -999,1,     -999,    12.47,2,     -999,1,     -999,9,     5.03,   5.0344,2,20150823,2148,     74.9,  79.9956,-174.9631,     -999,9,  32.2585,2
33HQ20150809  ,ARC01      ,19      ,  2,24         ,    6124,   10892,GSNIS-24   ,2,20150823,2129,  79.9967,-174.9621,     2099,    101.1,  -1.4562,  32.3796,2,  32.3862,2,    307.5,2,     -999,9,    30.82,2,    12.51,2,     0.02,2,     1.63,2,     -999,9,     -999,9,     -999,9,     -999,9,     -999,9,     -999,9,     -999,9,     -999,     -999,9,     -999,9,     -999,9,     -999,9,  -1.4572,2,     -999,9,     -999,9,     -999,     -999,9,     -999,9,     -999,9,     -999,     -999,9,20150823,2147,    100.0,  79.9956,-174.9619,     -999,9,  32.5389,2
33HQ20150809  ,ARC01      ,19      ,  2,23         ,    6124,   10892,GSNIS-23   ,2,20150823,2129,  79.9967,-174.9621,     2099,    101.1,  -1.4568,  32.3789,2,  32.3862,2,    307.5,2,     -999,9,    30.72,2,    12.47,2,     0.02,2,     1.63,2,     -999,9,     -999,9,     -999,9,     -999,9,     -999,9,     -999,9,     -999,9,     -999,     -999,9,     -999,9,     -999,9,     -999,9,  -1.4580,2,     -999,9,     -999,9,     -999,     -999,9,     -999,9,     -999,9,     -999,     -999,9,20150823,2146,    100.0,  79.9956,-174.9618,     -999,9,  32.5389,2
33HQ20150809  ,ARC01      ,19      ,  2,22         ,    6124,   10892,GSNIS-22   ,2,20150823,2129,  79.9967,-174.9621,     2099,    101.1,  -1.4565,  32.3789,2,  32.3906,2,    307.5,2,    306.1,2,    30.82,2,    12.51,2,     0.02,2,     1.66,2,    6.349,2,    3.468,2,    0.505,2,    2.973,2,   2187.5,2,   2234.2,2,   7.4877,2,    25.00,     70.9,2,     -999,1,     -999,1,     -999,1,  -1.4563,2,     0.25,2,     -999,1,     -999,    15.12,2,     -999,1,     -999,9,     3.38,   3.3845,2,20150823,2146,    100.0,  79.9956,-174.9617,     -999,9,  32.5434,2
33HQ20150809  ,ARC01      ,19      ,  2,21         ,    6124,   10893,GSNIS-21   ,2,20150823,2129,  79.9967,-174.9621,     2099,    125.9,  -1.5240,  32.6399,2,  32.6583,2,    299.4,2,     -999,9,    35.02,2,    14.18,2,     0.02,2,     1.76,2,     -999,9,     -999,9,     -999,9,     -999,9,     -999,9,     -999,9,     -999,9,     -999,     -999,9,     -999,9,     -999,9,     -999,9,  -1.5229,2,     -999,9,     -999,9,     -999,     -999,9,     -999,9,     -999,9,     -999,     -999,9,20150823,2145,    124.5,  79.9956,-174.9608,     -999,9,  32.8123,2
33HQ20150809  ,ARC01      ,19      ,  2,20         ,    6124,   10893,GSNIS-20   ,2,20150823,2129,  79.9967,-174.9621,     2099,    125.9,  -1.5236,  32.6403,2,  32.6644,2,    299.4,2,     -999,9,    35.12,2,    14.24,2,     0.01,2,     1.77,2,     -999,9,     -999,9,     -999,9,     -999,9,     -999,9,     -999,9,     -999,9,     -999,     -999,9,     -999,9,     -999,9,     -999,9,  -1.5236,2,     -999,9,     -999,9,     -999,     -999,9,     -999,9,     -999,9,     -999,     -999,9,20150823,2144,    124.5,  79.9957,-174.9607,     -999,9,  32.8184,2
33HQ20150809  ,ARC01      ,19      ,  2,19         ,    6124,   10893,GSNIS-19   ,2,20150823,2129,  79.9967,-174.9621,     2099,    125.9,  -1.5246,  32.6397,2,  32.6613,2,    299.4,2,    297.0,2,    35.02,2,    14.21,2,     0.01,2,     1.76,2,    6.298,2,    3.447,2,    0.495,2,    2.905,2,   2209.1,2,   2247.1,2,   7.4583,2,    25.00,     63.5,2,     -999,1,     -999,1,     -999,1,  -1.5248,2,    -0.25,3,     -999,1,     -999,    19.03,2,     -999,1,     -999,9,     8.44,   8.4432,2,20150823,2144,    124.5,  79.9957,-174.9606,     -999,9,  32.8153,2
33HQ20150809  ,ARC01      ,19      ,  2,16         ,    6124,   10894,GSNIS-16   ,2,20150823,2129,  79.9967,-174.9621,     2099,    151.1,  -1.5023,  33.0080,2,  33.0114,2,    275.9,2,    280.0,2,    35.11,2,    15.07,2,     0.01,2,     1.82,2,    6.141,2,    3.284,2,    0.443,2,    2.424,2,   2228.2,2,   2264.6,2,   7.4402,2,    25.00,     63.7,2,     -999,1,     -999,1,     -999,1,  -1.5014,2,     0.18,2,     -999,1,     -999,    17.31,2,     -999,1,     -999,9,     2.28,   2.2838,2,20150823,2142,    149.5,  79.9958,-174.9604,     -999,9,  33.1671,2
33HQ20150809  ,ARC01      ,19      ,  2,18         ,    6124,   10894,GSNIS-18   ,2,20150823,2129,  79.9967,-174.9621,     2099,    151.1,  -1.5050,  32.9914,2,  33.0085,2,    276.2,2,     -999,9,    35.69,2,    15.07,2,     0.01,2,     1.81,2,     -999,9,     -999,9,     -999,9,     -999,9,     -999,9,     -999,9,     -999,9,     -999,     -999,9,     -999,9,     -999,9,     -999,9,  -1.5049,2,     -999,9,     -999,9,     -999,     -999,9,     -999,9,     -999,9,     -999,     -999,9,20150823,2143,    149.5,  79.9958,-174.9603,     -999,9,  33.1641,2
33HQ20150809  ,ARC01      ,19      ,  2,17         ,    6124,   10894,GSNIS-17   ,2,20150823,2129,  79.9967,-174.9621,     2099,    151.1,  -1.5051,  32.9908,2,  33.0093,2,    276.2,2,     -999,9,    35.01,2,    15.05,2,     0.01,2,     1.82,2,     -999,9,     -999,9,     -999,9,     -999,9,     -999,9,     -999,9,     -999,9,     -999,     -999,9,     -999,9,     -999,9,     -999,9,  -1.5050,2,     -999,9,     -999,9,     -999,     -999,9,     -999,9,     -999,9,     -999,     -999,9,20150823,2143,    149.5,  79.9958,-174.9603,     -999,9,  33.1649,2
33HQ20150809  ,ARC01      ,19      ,  2,15         ,    6124,   10895,GSNIS-15   ,2,20150823,2129,  79.9967,-174.9621,     2099,    171.8,  -1.2539,  33.5596,2,  33.5565,2,    271.3,2,     -999,9,    31.28,2,    14.58,2,     0.01,2,     1.64,2,     -999,9,     -999,9,     -999,9,     -999,9,     -999,9,     -999,9,     -999,9,     -999,     -999,9,     -999,9,     -999,9,     -999,9,  -1.2406,2,     -999,9,     -999,9,     -999,     -999,9,     -999,9,     -999,9,     -999,     -999,9,20150823,2141,    170.0,  79.9959,-174.9607,     -999,9,  33.7148,2
33HQ20150809  ,ARC01      ,19      ,  2,14         ,    6124,   10895,GSNIS-14   ,2,20150823,2129,  79.9967,-174.9621,     2099,    171.8,  -1.2831,  33.5253,2,  33.5767,4,    271.7,2,     -999,9,    31.18,2,    14.58,2,     0.01,2,     1.64,2,     -999,9,     -999,9,     -999,9,     -999,9,     -999,9,     -999,9,     -999,9,     -999,     -999,9,     -999,9,     -999,9,     -999,9,  -1.2637,2,     -999,9,     -999,9,     -999,     -999,9,     -999,9,     -999,9,     -999,     -999,9,20150823,2140,    170.0,  79.9959,-174.9608,     -999,9,  33.7350,4
33HQ20150809  ,ARC01      ,19      ,  2,13         ,    6124,   10895,GSNIS-13   ,2,20150823,2129,  79.9967,-174.9621,     2099,    171.9,  -1.2822,  33.5029,2,  33.5131,2,    271.9,2,    270.9,2,    31.67,2,    14.68,2,     0.01,2,     1.65,2,    5.894,2,    3.076,2,    0.402,2,    1.909,2,   2229.8,2,   2279.7,2,   7.4658,2,    25.00,     63.4,2,     -999,1,     -999,1,     -999,1,  -1.2660,2,     0.19,2,     -999,1,     -999,    18.43,2,     -999,1,     -999,9,     1.33,   1.3305,2,20150823,2140,    170.0,  79.9959,-174.9608,     -999,9,  33.6712,2
33HQ20150809  ,ARC01      ,19      ,  2,11         ,    6124,   10896,GSNIS-11   ,2,20150823,2129,  79.9967,-174.9621,     2099,    252.6,   0.0328,  34.5959,2,  34.6107,2,    277.2,2,     -999,9,    11.33,2,    11.56,2,     0.01,2,     0.90,2,     -999,9,     -999,9,     -999,9,     -999,9,     -999,9,     -999,9,     -999,9,     -999,     -999,9,     -999,9,     -999,9,     -999,9,   0.0337,2,     -999,9,     -999,9,     -999,     -999,9,     -999,9,     -999,9,     -999,     -999,9,20150823,2138,    249.8,  79.9961,-174.9616,     -999,9,  34.7739,2
33HQ20150809  ,ARC01      ,19      ,  2,10         ,    6124,   10896,GSNIS-10   ,2,20150823,2129,  79.9967,-174.9621,     2099,    252.6,   0.0328,  34.5959,2,  34.6119,2,    277.2,2,    278.2,2,    11.33,2,    11.56,2,     0.01,2,     0.89,2,    5.768,2,    2.994,2,    0.400,2,    1.904,2,   2184.3,2,   2288.0,2,   7.6191,2,    25.00,     60.8,2,     -999,1,     -999,1,     -999,1,   0.0340,2,     0.44,2,     -999,1,     -999,    14.22,2,     -999,1,     -999,9,     0.94,   0.9400,2,20150823,2137,    249.8,  79.9961,-174.9616,     -999,9,  34.7751,2
33HQ20150809  ,ARC01      ,19      ,  2,12         ,    6124,   10896,GSNIS-12   ,2,20150823,2129,  79.9967,-174.9621,     2099,    252.6,   0.0328,  34.5958,2,  34.6101,2,    277.2,2,     -999,9,    11.43,2,    11.55,2,     0.01,2,     0.89,2,     -999,9,     -999,9,     -999,9,     -999,9,     -999,9,     -999,9,     -999,9,     -999,     -999,9,     -999,9,     -999,9,     -999,9,   0.0342,2,     -999,9,     -999,9,     -999,     -999,9,     -999,9,     -999,9,     -999,     -999,9,20150823,2138,    249.8,  79.9961,-174.9615,     -999,9,  34.7733,2
33HQ20150809  ,ARC01      ,19      ,  2,8          ,    6124,   10897,GSNIS-8    ,2,20150823,2129,  79.9967,-174.9621,     2099,    353.9,   0.8234,  34.8086,2,  34.8110,2,    293.7,2,     -999,9,     5.76,2,    11.79,2,     0.01,2,     0.84,2,     -999,9,     -999,9,     -999,9,     -999,9,     -999,9,     -999,9,     -999,9,     -999,     -999,9,     -999,9,     -999,9,     -999,9,   0.8234,2,     -999,9,     -999,9,     -999,     -999,9,     -999,9,     -999,9,     -999,     -999,9,20150823,2133,    349.8,  79.9964,-174.9624,     -999,9,  34.9751,2
33HQ20150809  ,ARC01      ,19      ,  2,9          ,    6124,   10897,GSNIS-9    ,2,20150823,2129,  79.9967,-174.9621,     2099,    353.9,   0.8238,  34.8083,2,  34.8115,2,    293.7,2,     -999,9,     5.76,2,    11.77,2,     0.01,2,     0.83,2,     -999,9,     -999,9,     -999,9,     -999,9,     -999,9,     -999,9,     -999,9,     -999,     -999,9,     -999,9,     -999,9,     -999,9,   0.8238,2,     -999,9,     -999,9,     -999,     -999,9,     -999,9,     -999,9,     -999,     -999,9,20150823,2134,    349.8,  79.9964,-174.9624,     -999,9,  34.9757,2
33HQ20150809  ,ARC01      ,19      ,  2,7          ,    6124,   10897,GSNIS-7    ,2,20150823,2129,  79.9967,-174.9621,     2099,    353.9,   0.8229,  34.8085,2,  34.8115,2,    293.7,2,    293.8,2,     5.76,2,    11.80,2,     0.01,2,     0.84,2,    5.448,2,    2.843,2,    0.399,2,    1.821,2,   2169.1,2,   2294.7,2,   7.6888,2,    25.00,     52.1,2,     -999,1,     -999,1,     -999,1,   0.8236,2,     0.63,2,     -999,1,     -999,    14.62,2,     -999,1,     -999,9,     0.91,   0.9128,2,20150823,2133,    349.8,  79.9964,-174.9624,     -999,9,  34.9757,2
33HQ20150809  ,ARC01      ,19      ,  2,4          ,    6124,   10898,GSNIS-4    ,2,20150823,2129,  79.9967,-174.9621,     2099,    404.4,   0.9993,  34.8478,2,  34.8489,2,    295.5,2,    297.2,2,     5.47,2,    11.74,2,     0.01,2,     0.82,2,    5.397,2,    2.812,2,    0.401,2,    1.881,2,   2165.4,2,   2296.2,2,   7.6949,2,    25.00,     55.3,2,     -999,1,     -999,1,     -999,1,   0.9991,2,     0.62,2,     -999,1,     -999,    15.00,2,     -999,1,     -999,9,     0.84,   0.8431,2,20150823,2131,    399.8,  79.9966,-174.9624,     -999,9,  35.0132,2
33HQ20150809  ,ARC01      ,19      ,  2,5          ,    6124,   10898,GSNIS-5    ,2,20150823,2129,  79.9967,-174.9621,     2099,    404.5,   0.9993,  34.8477,2,  34.8493,2,    295.5,2,     -999,9,     5.47,2,    11.74,2,     0.01,2,     0.82,2,     -999,9,     -999,9,     -999,9,     -999,9,     -999,9,     -999,9,     -999,9,     -999,     -999,9,     -999,9,     -999,9,     -999,9,   0.9993,2,     -999,9,     -999,9,     -999,     -999,9,     -999,9,     -999,9,     -999,     -999,9,20150823,2131,    399.8,  79.9966,-174.9624,     -999,9,  35.0136,2
33HQ20150809  ,ARC01      ,19      ,  2,6          ,    6124,   10898,GSNIS-6    ,2,20150823,2129,  79.9967,-174.9621,     2099,    404.5,   0.9993,  34.8478,2,  34.8503,2,    295.5,2,     -999,9,     5.47,2,    11.77,2,     0.01,2,     0.82,2,     -999,9,     -999,9,     -999,9,     -999,9,     -999,9,     -999,9,     -999,9,     -999,     -999,9,     -999,9,     -999,9,     -999,9,   0.9992,2,     -999,9,     -999,9,     -999,     -999,9,     -999,9,     -999,9,     -999,     -999,9,20150823,2131,    399.8,  79.9966,-174.9624,     -999,9,  35.0146,2