BOTTLE,20221220CCHSIOAMB
EXPOCODE,SECT_ID,STNNBR,CASTNO,SAMPNO,GEOTR_EVENT,GEOTR_SAMPNO,BTLNBR,BTLNBR_FLAG_W,DATE,TIME,LATITUDE,LONGITUDE,DEPTH,CTDPRS,CTDTMP,CTDSAL,CTDSAL_FLAG_W,SALNTY,SALNTY_FLAG_W,CTDOXY,CTDOXY_FLAG_W,OXYGEN,OXYGEN_FLAG_W,SILCAT,SILCAT_FLAG_W,NITRAT,NITRAT_FLAG_W,NITRIT,NITRIT_FLAG_W,PHSPHT,PHSPHT_FLAG_W,CFC-11,CFC-11_FLAG_W,CFC-12,CFC-12_FLAG_W,CFC113,CFC113_FLAG_W,SF6,SF6_FLAG_W,TCARBN,TCARBN_FLAG_W,ALKALI,ALKALI_FLAG_W,PH_SWS,PH_SWS_FLAG_W,PH_TMP,DOC,DOC_FLAG_W,TRITUM,TRITUM_FLAG_W,HELIUM,HELIUM_FLAG_W,DELHE3,DELHE3_FLAG_W,REFTMP,REFTMP_FLAG_W,DELC13,DELC13_FLAG_W,DELC14,DELC14_FLAG_W,C14ERR,TDN,TDN_FLAG_W,DELO18,DELO18_FLAG_W,DELO17,DELO17_FLAG_W,CH4,CH4,CH4_FLAG_W,BTL_DATE,BTL_TIME,CTDDEPTH,BTL_LAT,BTL_LON,LAB_DEN,LAB_DEN_FLAG_W,SALTREF,SALTREF_FLAG_W
,,,,,,,,,,,,,METERS,DBAR,ITS-90,PSS-78,,PSS-78,,UMOL/KG,,UMOL/KG,,UMOL/KG,,UMOL/KG,,UMOL/KG,,UMOL/KG,,PMOL/KG,,PMOL/KG,,PMOL/KG,,FMOL/KG,,UMOL/KG,,UMOL/KG,,,,DEG C,UMOL/KG,,TU,,NMOL/KG,,PERCNT,,ITS-90,,/MILLE,,/MILLE,,/MILLE,UMOL/KG,,/MILLE,,/MILLE,,NMOL/KG,NMOL/L,,,,METERS,,,KG/M^3,,G/KG,
33HQ20150809  ,ARC01      ,3       ,  2,12         ,    6028,   10585,NIS-12     ,3,20150815,1218,  64.0069,-166.6259,       33,      4.5,   8.7237,  31.7567,2,  31.7574,2,    296.0,2,    301.4,2,     7.83,2,     0.00,2,     0.00,2,     0.38,2,     -999,9,     -999,9,     -999,9,     -999,9,     -999,9,     -999,9,     -999,9,     -999,     -999,9,     -999,9,     -999,9,     -999,9,   8.7241,2,     -999,9,     -999,9,     -999,     -999,9,     -999,9,     -999,9,     -999,     -999,9,20150815,1226,      4.5,  64.0075,-166.6290,     -999,9,  31.9071,2
33HQ20150809  ,ARC01      ,3       ,  2,11         ,    6028,   10586,NIS-11     ,2,20150815,1218,  64.0069,-166.6259,       33,      4.5,   8.7238,  31.7567,2,  31.7570,2,    296.0,2,    309.9,4,     7.73,2,     0.00,2,     0.00,2,     0.37,2,    4.073,6,    2.323,6,    0.372,6,    2.640,6,   1961.2,6,   2166.4,6,   7.9205,6,    25.00,     -999,9,     -999,1,     -999,1,     -999,1,   8.7230,2,     2.19,2,     -999,1,     -999,     -999,9,     -999,1,     -999,9,     6.35,   6.3526,2,20150815,1226,      4.5,  64.0075,-166.6290,     -999,9,  31.9067,2
33HQ20150809  ,ARC01      ,3       ,  2,10         ,    6028,   10587,NIS-10     ,3,20150815,1218,  64.0069,-166.6259,       33,      4.6,   8.7225,  31.7567,2,  31.7555,2,    296.0,2,    300.1,2,     7.83,2,     0.00,2,     0.00,2,     0.38,2,     -999,9,     -999,9,     -999,9,     -999,9,     -999,9,     -999,9,     -999,9,     -999,     -999,9,     -999,9,     -999,9,     -999,9,   8.7223,2,     -999,9,     -999,9,     -999,     -999,9,     -999,9,     -999,9,     -999,     -999,9,20150815,1226,      4.5,  64.0074,-166.6290,     -999,9,  31.9052,2
33HQ20150809  ,ARC01      ,3       ,  2,7          ,    6028,   10590,NIS-7      ,2,20150815,1218,  64.0069,-166.6259,       33,     19.7,   8.2413,  31.7526,2,  31.7570,2,    310.8,2,    302.6,2,     8.42,2,     0.03,2,     0.00,2,     0.41,2,    4.187,6,    2.396,6,    0.386,6,    2.776,6,   1963.9,2,   2166.4,2,   7.9126,2,    25.00,     -999,9,     -999,1,     -999,1,     -999,1,   8.2379,2,     2.07,2,     -999,1,     -999,     -999,9,     -999,1,     -999,9,     7.53,   7.5268,2,20150815,1223,     19.5,  64.0072,-166.6277,     -999,9,  31.9068,2
33HQ20150809  ,ARC01      ,3       ,  2,9          ,    6028,   10588,NIS-9      ,3,20150815,1218,  64.0069,-166.6259,       33,     19.8,   8.2327,  31.7524,2,  31.7590,2,    310.8,2,    302.3,2,     8.52,2,     0.01,2,     0.00,2,     0.40,2,     -999,9,     -999,9,     -999,9,     -999,9,     -999,9,     -999,9,     -999,9,     -999,     -999,9,     -999,9,     -999,9,     -999,9,   8.2401,2,     -999,9,     -999,9,     -999,     -999,9,     -999,9,     -999,9,     -999,     -999,9,20150815,1223,     19.6,  64.0072,-166.6278,     -999,9,  31.9087,2
33HQ20150809  ,ARC01      ,3       ,  2,8          ,    6028,   10589,NIS-8      ,2,20150815,1218,  64.0069,-166.6259,       33,     19.8,   8.2382,  31.7525,2,  31.7574,2,    310.8,2,    302.4,2,     8.42,2,     0.00,2,     0.00,2,     0.41,2,     -999,9,     -999,9,     -999,9,     -999,9,     -999,9,     -999,9,     -999,9,     -999,     -999,9,     -999,9,     -999,9,     -999,9,     -999,9,     -999,9,     -999,9,     -999,     -999,9,     -999,9,     -999,9,     -999,     -999,9,20150815,1223,     19.6,  64.0072,-166.6277,     -999,9,  31.9072,2
33HQ20150809  ,ARC01      ,3       ,  2,6          ,    6028,   10591,NIS-6      ,2,20150815,1218,  64.0069,-166.6259,       33,     22.9,   5.0172,  31.6863,2,  31.6677,2,    294.4,2,    297.1,2,    13.31,2,     0.14,2,     0.05,2,     0.75,2,     -999,9,     -999,9,     -999,9,     -999,9,     -999,9,     -999,9,     -999,9,     -999,     -999,9,     -999,9,     -999,9,     -999,9,   5.0436,4,     -999,9,     -999,9,     -999,     -999,9,     -999,9,     -999,9,     -999,     -999,9,20150815,1220,     22.6,  64.0070,-166.6267,     -999,9,  31.8170,2
33HQ20150809  ,ARC01      ,3       ,  2,5          ,    6028,   10592,NIS-5      ,2,20150815,1218,  64.0069,-166.6259,       33,     22.9,   5.0373,  31.6847,2,  31.6753,2,    294.4,2,    297.6,2,    13.41,2,     0.14,2,     0.05,2,     0.76,2,     -999,9,     -999,9,     -999,9,     -999,9,     -999,9,     -999,9,     -999,9,     -999,     -999,9,     -999,9,     -999,9,     -999,9,   5.0509,2,     -999,9,     -999,9,     -999,     -999,9,     -999,9,     -999,9,     -999,     -999,9,20150815,1220,     22.7,  64.0070,-166.6267,     -999,9,  31.8246,2
33HQ20150809  ,ARC01      ,3       ,  2,4          ,    6028,   10593,NIS-4      ,2,20150815,1218,  64.0069,-166.6259,       33,     22.9,   5.0451,  31.6837,2,  31.6819,2,    294.4,2,    298.5,2,    13.31,2,     0.13,2,     0.05,2,     0.75,2,    4.986,6,    2.917,6,    0.475,6,    2.936,2,   2008.1,2,   2164.6,6,   7.7920,6,    25.00,     -999,9,     -999,1,     -999,1,     -999,1,   5.0305,2,     1.36,2,     -999,1,     -999,     -999,9,     -999,1,     -999,9,    21.01,  21.0143,2,20150815,1220,     22.7,  64.0070,-166.6267,     -999,9,  31.8313,2
33HQ20150809  ,ARC01      ,3       ,  2,3          ,    6028,   10594,NIS-3      ,2,20150815,1218,  64.0069,-166.6259,       33,     26.8,   4.9986,  31.7243,2,  31.7106,2,    295.6,2,    300.1,2,    13.41,2,     0.13,2,     0.05,2,     0.75,2,     -999,9,     -999,9,     -999,9,     -999,9,     -999,9,     -999,9,     -999,9,     -999,     -999,9,     -999,9,     -999,9,     -999,9,   5.0021,2,     -999,9,     -999,9,     -999,     -999,9,     -999,9,     -999,9,     -999,     -999,9,20150815,1219,     26.5,  64.0069,-166.6261,     -999,9,  31.8601,2
33HQ20150809  ,ARC01      ,3       ,  2,1          ,    6028,   10596,NIS-1      ,2,20150815,1218,  64.0069,-166.6259,       33,     26.8,   5.0080,  31.7269,2,  31.7104,2,    295.6,2,    300.2,2,    13.41,2,     0.14,2,     0.04,2,     0.73,2,    4.994,6,    2.893,6,    0.474,6,    3.127,6,   2005.8,6,   2164.5,2,   7.8391,2,    25.00,     -999,9,     -999,1,     -999,1,     -999,1,   5.0033,2,     1.38,2,     -999,1,     -999,     -999,9,     -999,1,     -999,9,    20.95,  20.9478,2,20150815,1218,     26.5,  64.0069,-166.6260,     -999,9,  31.8599,2
33HQ20150809  ,ARC01      ,3       ,  2,2          ,    6028,   10595,NIS-2      ,3,20150815,1218,  64.0069,-166.6259,       33,     26.9,   4.9992,  31.7237,2,  31.7092,2,    295.6,2,    299.9,2,    13.41,2,     0.13,2,     0.05,2,     0.76,2,     -999,9,     -999,9,     -999,9,     -999,9,     -999,9,     -999,9,     -999,9,     -999,     -999,9,     -999,9,     -999,9,     -999,9,   5.0070,2,     -999,9,     -999,9,     -999,     -999,9,     -999,9,     -999,9,     -999,     -999,9,20150815,1219,     26.6,  64.0069,-166.6260,     -999,9,  31.8588,2
33HQ20150809  ,ARC01      ,3       ,  5,12         ,    6032,   10604,NIS-12     ,9,20150815,1837,  64.0437,-166.8713,       34,      4.4,   8.5385,  31.9280,2,     -999,9,    303.4,2,     -999,9,     -999,9,     -999,9,     -999,9,     -999,9,     -999,9,     -999,9,     -999,9,     -999,9,     -999,9,     -999,9,     -999,9,     -999,     -999,9,     -999,9,     -999,9,     -999,9,   8.5394,2,     -999,9,     -999,9,     -999,     -999,9,     -999,9,     -999,9,     -999,     -999,9,20150815,1846,      4.3,  64.0460,-166.8785,     -999,9,     -999,9
33HQ20150809  ,ARC01      ,3       ,  5,11         ,    6032,   10604,NIS-11     ,2,20150815,1837,  64.0437,-166.8713,       34,      4.4,   8.5386,  31.9279,2,  31.9277,2,    303.4,2,    297.2,2,     6.95,2,     0.09,2,     0.00,2,     0.48,2,     -999,9,     -999,9,     -999,9,     -999,9,     -999,9,     -999,9,     -999,9,     -999,     -999,9,     -999,9,     -999,9,     -999,9,   8.5391,2,     -999,9,     -999,9,     -999,     -999,9,     -999,9,     -999,9,     -999,     -999,9,20150815,1846,      4.4,  64.0460,-166.8784,     -999,9,  32.0783,2
33HQ20150809  ,ARC01      ,3       ,  5,10         ,    6032,   10603,NIS-10     ,9,20150815,1837,  64.0437,-166.8713,       34,      9.8,   8.5088,  31.9284,2,     -999,9,    299.5,2,     -999,9,     -999,9,     -999,9,     -999,9,     -999,9,     -999,9,     -999,9,     -999,9,     -999,9,     -999,9,     -999,9,     -999,9,     -999,     -999,9,     -999,9,     -999,9,     -999,9,   8.5058,2,     -999,9,     -999,9,     -999,     -999,9,     -999,9,     -999,9,     -999,     -999,9,20150815,1844,      9.7,  64.0456,-166.8771,     -999,9,     -999,9
33HQ20150809  ,ARC01      ,3       ,  5,9          ,    6032,   10603,NIS-9      ,2,20150815,1837,  64.0437,-166.8713,       34,      9.8,   8.5062,  31.9284,2,  31.9293,2,    299.5,2,    296.8,2,     6.95,2,     0.10,2,     0.00,2,     0.47,2,     -999,9,     -999,9,     -999,9,     -999,9,     -999,9,     -999,9,     -999,9,     -999,     -999,9,     -999,9,     -999,9,     -999,9,   8.5307,4,     -999,9,     -999,9,     -999,     -999,9,     -999,9,     -999,9,     -999,     -999,9,20150815,1844,      9.7,  64.0455,-166.8769,     -999,9,  32.0799,2
33HQ20150809  ,ARC01      ,3       ,  5,8          ,    6032,   10602,NIS-8      ,9,20150815,1837,  64.0437,-166.8713,       34,     14.8,   8.4054,  31.9269,2,     -999,9,    297.3,2,     -999,9,     -999,9,     -999,9,     -999,9,     -999,9,     -999,9,     -999,9,     -999,9,     -999,9,     -999,9,     -999,9,     -999,9,     -999,     -999,9,     -999,9,     -999,9,     -999,9,   8.4836,4,     -999,9,     -999,9,     -999,     -999,9,     -999,9,     -999,9,     -999,     -999,9,20150815,1842,     14.7,  64.0451,-166.8755,     -999,9,     -999,9
33HQ20150809  ,ARC01      ,3       ,  5,7          ,    6032,   10602,NIS-7      ,2,20150815,1837,  64.0437,-166.8713,       34,     14.9,   8.4768,  31.9289,2,  31.9247,2,    297.4,2,    297.9,2,     7.14,2,     0.13,2,     0.00,2,     0.47,2,     -999,9,     -999,9,     -999,9,     -999,9,     -999,9,     -999,9,     -999,9,     -999,     -999,9,     -999,9,     -999,9,     -999,9,   8.4809,2,     -999,9,     -999,9,     -999,     -999,9,     -999,9,     -999,9,     -999,     -999,9,20150815,1842,     14.8,  64.0451,-166.8755,     -999,9,  32.0752,2
33HQ20150809  ,ARC01      ,3       ,  5,6          ,    6032,   10601,NIS-6      ,9,20150815,1837,  64.0437,-166.8713,       34,     19.9,   7.0088,  31.8755,2,     -999,9,    303.9,2,     -999,9,     -999,9,     -999,9,     -999,9,     -999,9,     -999,9,     -999,9,     -999,9,     -999,9,     -999,9,     -999,9,     -999,9,     -999,     -999,9,     -999,9,     -999,9,     -999,9,     -999,9,     -999,9,     -999,9,     -999,     -999,9,     -999,9,     -999,9,     -999,     -999,9,20150815,1840,     19.7,  64.0446,-166.8742,     -999,9,     -999,9
33HQ20150809  ,ARC01      ,3       ,  5,5          ,    6032,   10601,NIS-5      ,2,20150815,1837,  64.0437,-166.8713,       34,     20.0,   6.9623,  31.8747,2,  31.8822,2,    303.9,2,    297.3,2,     9.20,2,     0.32,2,     0.02,2,     0.64,2,     -999,9,     -999,9,     -999,9,     -999,9,     -999,9,     -999,9,     -999,9,     -999,     -999,9,     -999,9,     -999,9,     -999,9,   6.9902,4,     -999,9,     -999,9,     -999,     -999,9,     -999,9,     -999,9,     -999,     -999,9,20150815,1840,     19.8,  64.0446,-166.8741,     -999,9,  32.0325,2
33HQ20150809  ,ARC01      ,3       ,  5,3          ,    6032,   10600,NIS-3      ,3,20150815,1837,  64.0437,-166.8713,       34,     22.8,   5.4114,  31.7973,2,  31.8072,2,    296.1,2,    289.3,2,    14.98,2,     0.32,2,     0.05,2,     0.82,2,     -999,9,     -999,9,     -999,9,     -999,9,     -999,9,     -999,9,     -999,9,     -999,     -999,9,     -999,9,     -999,9,     -999,9,   5.4345,4,     -999,9,     -999,9,     -999,     -999,9,     -999,9,     -999,9,     -999,     -999,9,20150815,1838,     22.5,  64.0441,-166.8726,     -999,9,  31.9571,2
33HQ20150809  ,ARC01      ,3       ,  5,4          ,    6032,   10600,NIS-4      ,9,20150815,1837,  64.0437,-166.8713,       34,     22.8,   5.4038,  31.7970,2,     -999,9,    296.1,2,     -999,9,     -999,9,     -999,9,     -999,9,     -999,9,     -999,9,     -999,9,     -999,9,     -999,9,     -999,9,     -999,9,     -999,9,     -999,     -999,9,     -999,9,     -999,9,     -999,9,   5.4138,2,     -999,9,     -999,9,     -999,     -999,9,     -999,9,     -999,9,     -999,     -999,9,20150815,1838,     22.6,  64.0441,-166.8727,     -999,9,     -999,9
33HQ20150809  ,ARC01      ,3       ,  5,2          ,    6032,   10599,NIS-2      ,9,20150815,1837,  64.0437,-166.8713,       34,     26.6,   5.3725,  31.7954,2,     -999,9,    288.1,2,     -999,9,     -999,9,     -999,9,     -999,9,     -999,9,     -999,9,     -999,9,     -999,9,     -999,9,     -999,9,     -999,9,     -999,9,     -999,     -999,9,     -999,9,     -999,9,     -999,9,   5.3819,2,     -999,9,     -999,9,     -999,     -999,9,     -999,9,     -999,9,     -999,     -999,9,20150815,1837,     26.4,  64.0437,-166.8713,     -999,9,     -999,9
33HQ20150809  ,ARC01      ,3       ,  5,1          ,    6032,   10599,NIS-1      ,2,20150815,1837,  64.0437,-166.8713,       34,     26.8,   5.3859,  31.7962,2,  31.7975,2,    288.1,2,    287.1,2,    16.44,2,     0.33,2,     0.05,2,     0.86,2,     -999,9,     -999,9,     -999,9,     -999,9,     -999,9,     -999,9,     -999,9,     -999,     -999,9,     -999,9,     -999,9,     -999,9,   5.3798,2,     -999,9,     -999,9,     -999,     -999,9,     -999,9,     -999,9,     -999,     -999,9,20150815,1837,     26.6,  64.0436,-166.8712,     -999,9,  31.9474,2
33HQ20150809  ,ARC01      ,3       , 25,25         ,    6031,   10605,SMBT       ,2,20150815,1916,  64.0489,-166.9008,       34,      1.1,   8.5406,  31.9266,2,  31.8871,2,     -999,9,     -999,9,     4.89,2,     0.10,2,     0.00,2,     0.46,2,     -999,9,     -999,9,     -999,9,     -999,9,     -999,9,     -999,9,     -999,9,     -999,     -999,9,     -999,9,     -999,9,     -999,9,     -999,9,     -999,9,     -999,9,     -999,     -999,9,     -999,9,     -999,9,     -999,     -999,9,20150815,1917,      1.1,  64.0489,-166.9014,     -999,9,  32.0375,2
33HQ20150809  ,ARC01      ,4       , 25,25         ,    6037,   10624,SMBT       ,2,20150816,0637,  65.7997,-168.5946,       54,      5.9,  31.8498,   0.4299,2,  32.3185,2,     -999,9,     -999,9,    24.08,2,     8.22,2,     0.11,2,     1.16,2,     -999,9,     -999,9,     -999,9,     -999,9,     -999,9,     -999,9,     -999,9,     -999,     -999,9,     -999,9,     -999,9,     -999,9,     -999,9,     -999,9,     -999,9,     -999,     -999,9,     -999,9,     -999,9,     -999,     -999,9,20150816,0638,      5.9,  65.7998,-168.5948,     -999,9,  32.4709,2