BOTTLE,20221220CCHSIOAMB
EXPOCODE,SECT_ID,STNNBR,CASTNO,SAMPNO,GEOTR_EVENT,GEOTR_SAMPNO,BTLNBR,BTLNBR_FLAG_W,DATE,TIME,LATITUDE,LONGITUDE,DEPTH,CTDPRS,CTDTMP,CTDSAL,CTDSAL_FLAG_W,SALNTY,SALNTY_FLAG_W,CTDOXY,CTDOXY_FLAG_W,OXYGEN,OXYGEN_FLAG_W,SILCAT,SILCAT_FLAG_W,NITRAT,NITRAT_FLAG_W,NITRIT,NITRIT_FLAG_W,PHSPHT,PHSPHT_FLAG_W,CFC-11,CFC-11_FLAG_W,CFC-12,CFC-12_FLAG_W,CFC113,CFC113_FLAG_W,SF6,SF6_FLAG_W,TCARBN,TCARBN_FLAG_W,ALKALI,ALKALI_FLAG_W,PH_SWS,PH_SWS_FLAG_W,PH_TMP,DOC,DOC_FLAG_W,TRITUM,TRITUM_FLAG_W,HELIUM,HELIUM_FLAG_W,DELHE3,DELHE3_FLAG_W,REFTMP,REFTMP_FLAG_W,DELC13,DELC13_FLAG_W,DELC14,DELC14_FLAG_W,C14ERR,TDN,TDN_FLAG_W,DELO18,DELO18_FLAG_W,DELO17,DELO17_FLAG_W,CH4,CH4,CH4_FLAG_W,BTL_DATE,BTL_TIME,CTDDEPTH,BTL_LAT,BTL_LON,LAB_DEN,LAB_DEN_FLAG_W,SALTREF,SALTREF_FLAG_W
,,,,,,,,,,,,,METERS,DBAR,ITS-90,PSS-78,,PSS-78,,UMOL/KG,,UMOL/KG,,UMOL/KG,,UMOL/KG,,UMOL/KG,,UMOL/KG,,PMOL/KG,,PMOL/KG,,PMOL/KG,,FMOL/KG,,UMOL/KG,,UMOL/KG,,,,DEG C,UMOL/KG,,TU,,NMOL/KG,,PERCNT,,ITS-90,,/MILLE,,/MILLE,,/MILLE,UMOL/KG,,/MILLE,,/MILLE,,NMOL/KG,NMOL/L,,,,METERS,,,KG/M^3,,G/KG,
33HQ20150809  ,ARC01      ,30      , 12,31         ,    6191,   11191,GSNIS-31   ,2,20150902,1329,  87.6496, 179.9972,     3951,    507.0,   0.5761,  34.8657,2,  34.8682,2,    298.5,2,    300.4,2,     6.06,2,    12.26,2,     0.00,2,     0.83,2,     -999,9,     -999,9,     -999,9,     -999,9,     -999,9,     -999,9,     -999,9,     -999,     -999,9,     -999,9,     -999,9,     -999,9,   0.5759,2,     -999,9,     -999,9,     -999,     -999,9,     -999,9,     -999,9,     -999,     -999,9,20150902,1359,    500.9,  87.6507,-179.9500,     -999,9,  35.0326,2
33HQ20150809  ,ARC01      ,30      , 12,32         ,    6191,   11191,GSNIS-32   ,2,20150902,1329,  87.6496, 179.9972,     3951,    507.0,   0.5763,  34.8657,2,     -999,9,    298.5,2,     -999,9,     6.06,2,    12.23,2,     0.00,2,     0.83,2,     -999,9,     -999,9,     -999,9,     -999,9,     -999,9,     -999,9,     -999,9,     -999,     -999,9,     -999,9,     -999,9,     -999,9,     -999,9,     -999,9,     -999,9,     -999,     -999,9,     -999,9,     -999,9,     -999,     -999,9,20150902,1359,    500.9,  87.6507,-179.9498,     -999,9,     -999,9
33HQ20150809  ,ARC01      ,30      , 12,33         ,    6191,   11191,GSNIS-33   ,2,20150902,1329,  87.6496, 179.9972,     3951,    507.0,   0.5761,  34.8658,2,     -999,9,    298.3,2,     -999,9,     6.06,2,    12.23,2,     0.00,2,     0.83,2,     -999,9,     -999,9,     -999,9,     -999,9,     -999,9,     -999,9,     -999,9,     -999,     -999,9,     -999,9,     -999,9,     -999,9,   0.5762,2,     -999,9,     -999,9,     -999,     -999,9,     -999,9,     -999,9,     -999,     -999,9,20150902,1359,    501.0,  87.6507,-179.9497,     -999,9,     -999,9
33HQ20150809  ,ARC01      ,30      , 12,34         ,    6191,   11191,GSNIS-34   ,2,20150902,1329,  87.6496, 179.9972,     3951,    507.1,   0.5763,  34.8658,2,     -999,9,    298.3,2,     -999,9,     6.15,2,    12.23,2,     0.00,2,     0.83,2,     -999,9,     -999,9,     -999,9,     -999,9,     -999,9,     -999,9,     -999,9,     -999,     -999,9,     -999,9,     -999,9,     -999,9,     -999,9,     -999,9,     -999,9,     -999,     -999,9,     -999,9,     -999,9,     -999,     -999,9,20150902,1359,    501.0,  87.6507,-179.9495,     -999,9,     -999,9
33HQ20150809  ,ARC01      ,30      , 12,35         ,    6191,   11191,GSNIS-35   ,9,20150902,1329,  87.6496, 179.9972,     3951,    507.1,   0.5762,  34.8658,2,     -999,9,    298.3,2,     -999,9,     -999,9,     -999,9,     -999,9,     -999,9,     -999,9,     -999,9,     -999,9,     -999,9,     -999,9,     -999,9,     -999,9,     -999,     -999,9,     -999,9,     -999,9,     -999,9,   0.5762,2,     -999,9,     -999,9,     -999,     -999,9,     -999,9,     -999,9,     -999,     -999,9,20150902,1359,    501.0,  87.6507,-179.9494,     -999,9,     -999,9
33HQ20150809  ,ARC01      ,30      , 12,36         ,    6191,   11191,GSNIS-36   ,2,20150902,1329,  87.6496, 179.9972,     3951,    507.1,   0.5763,  34.8658,2,     -999,9,    298.3,2,     -999,9,     6.06,2,    12.26,2,     0.00,2,     0.84,2,     -999,9,     -999,9,     -999,9,     -999,9,     -999,9,     -999,9,     -999,9,     -999,     -999,9,     -999,9,     -999,9,     -999,9,     -999,9,     -999,9,     -999,9,     -999,     -999,9,     -999,9,     -999,9,     -999,     -999,9,20150902,1359,    501.0,  87.6507,-179.9493,     -999,9,     -999,9
33HQ20150809  ,ARC01      ,30      , 12,25         ,    6191,   11192,GSNIS-25   ,2,20150902,1329,  87.6496, 179.9972,     3951,    811.0,   0.0104,  34.8758,2,  34.8759,2,    301.5,2,    302.7,2,     6.35,2,    12.29,2,     0.00,2,     0.85,2,     -999,9,     -999,9,     -999,9,     -999,9,     -999,9,     -999,9,     -999,9,     -999,     -999,9,     -999,9,     -999,9,     -999,9,   0.0102,2,     -999,9,     -999,9,     -999,     -999,9,     -999,9,     -999,9,     -999,     -999,9,20150902,1352,    800.7,  87.6505,-179.9606,     -999,9,  35.0404,2
33HQ20150809  ,ARC01      ,30      , 12,26         ,    6191,   11192,GSNIS-26   ,2,20150902,1329,  87.6496, 179.9972,     3951,    811.0,   0.0104,  34.8759,2,     -999,9,    301.5,2,     -999,9,     6.35,2,    12.29,2,     0.00,2,     0.85,2,     -999,9,     -999,9,     -999,9,     -999,9,     -999,9,     -999,9,     -999,9,     -999,     -999,9,     -999,9,     -999,9,     -999,9,     -999,9,     -999,9,     -999,9,     -999,     -999,9,     -999,9,     -999,9,     -999,     -999,9,20150902,1352,    800.8,  87.6505,-179.9604,     -999,9,     -999,9
33HQ20150809  ,ARC01      ,30      , 12,29         ,    6191,   11192,GSNIS-29   ,2,20150902,1329,  87.6496, 179.9972,     3951,    811.1,   0.0104,  34.8759,2,     -999,9,    301.5,2,     -999,9,     6.35,2,    12.30,2,     0.00,2,     0.84,2,     -999,9,     -999,9,     -999,9,     -999,9,     -999,9,     -999,9,     -999,9,     -999,     -999,9,     -999,9,     -999,9,     -999,9,   0.0102,2,     -999,9,     -999,9,     -999,     -999,9,     -999,9,     -999,9,     -999,     -999,9,20150902,1353,    800.9,  87.6505,-179.9600,     -999,9,     -999,9
33HQ20150809  ,ARC01      ,30      , 12,28         ,    6191,   11192,GSNIS-28   ,2,20150902,1329,  87.6496, 179.9972,     3951,    811.1,   0.0104,  34.8759,2,     -999,9,    301.5,2,     -999,9,     6.35,2,    12.29,2,     0.00,2,     0.85,2,     -999,9,     -999,9,     -999,9,     -999,9,     -999,9,     -999,9,     -999,9,     -999,     -999,9,     -999,9,     -999,9,     -999,9,     -999,9,     -999,9,     -999,9,     -999,     -999,9,     -999,9,     -999,9,     -999,     -999,9,20150902,1353,    800.8,  87.6505,-179.9601,     -999,9,     -999,9
33HQ20150809  ,ARC01      ,30      , 12,27         ,    6191,   11192,GSNIS-27   ,2,20150902,1329,  87.6496, 179.9972,     3951,    811.1,   0.0104,  34.8759,2,     -999,9,    301.5,2,     -999,9,     6.35,2,    12.30,2,     0.00,2,     0.85,2,     -999,9,     -999,9,     -999,9,     -999,9,     -999,9,     -999,9,     -999,9,     -999,     -999,9,     -999,9,     -999,9,     -999,9,   0.0102,2,     -999,9,     -999,9,     -999,     -999,9,     -999,9,     -999,9,     -999,     -999,9,20150902,1353,    800.8,  87.6505,-179.9603,     -999,9,     -999,9
33HQ20150809  ,ARC01      ,30      , 12,30         ,    6191,   11192,GSNIS-30   ,2,20150902,1329,  87.6496, 179.9972,     3951,    811.2,   0.0105,  34.8758,2,     -999,9,    301.5,2,     -999,9,     6.35,2,    12.28,2,     0.00,2,     0.85,2,     -999,9,     -999,9,     -999,9,     -999,9,     -999,9,     -999,9,     -999,9,     -999,     -999,9,     -999,9,     -999,9,     -999,9,     -999,9,     -999,9,     -999,9,     -999,     -999,9,     -999,9,     -999,9,     -999,     -999,9,20150902,1353,    800.9,  87.6505,-179.9598,     -999,9,     -999,9
33HQ20150809  ,ARC01      ,30      , 12,19         ,    6191,   11193,GSNIS-19   ,2,20150902,1329,  87.6496, 179.9972,     3951,   1013.6,  -0.1696,  34.8909,2,  34.8913,2,    301.3,2,    302.4,2,     6.84,2,    12.57,2,     0.00,2,     0.88,2,     -999,9,     -999,9,     -999,9,     -999,9,     -999,9,     -999,9,     -999,9,     -999,     -999,9,     -999,9,     -999,9,     -999,9,  -0.1699,2,     -999,9,     -999,9,     -999,     -999,9,     -999,9,     -999,9,     -999,     -999,9,20150902,1348,   1000.2,  87.6503,-179.9686,     -999,9,  35.0558,2
33HQ20150809  ,ARC01      ,30      , 12,20         ,    6191,   11193,GSNIS-20   ,2,20150902,1329,  87.6496, 179.9972,     3951,   1013.6,  -0.1695,  34.8909,2,     -999,9,    301.3,2,     -999,9,     6.84,2,    12.59,2,     0.00,2,     0.87,2,     -999,9,     -999,9,     -999,9,     -999,9,     -999,9,     -999,9,     -999,9,     -999,     -999,9,     -999,9,     -999,9,     -999,9,     -999,9,     -999,9,     -999,9,     -999,     -999,9,     -999,9,     -999,9,     -999,     -999,9,20150902,1348,   1000.3,  87.6503,-179.9685,     -999,9,     -999,9
33HQ20150809  ,ARC01      ,30      , 12,21         ,    6191,   11193,GSNIS-21   ,2,20150902,1329,  87.6496, 179.9972,     3951,   1013.6,  -0.1695,  34.8910,2,     -999,9,    301.3,2,     -999,9,     6.84,2,    12.59,2,     0.00,2,     0.86,2,     -999,9,     -999,9,     -999,9,     -999,9,     -999,9,     -999,9,     -999,9,     -999,     -999,9,     -999,9,     -999,9,     -999,9,  -0.1697,2,     -999,9,     -999,9,     -999,     -999,9,     -999,9,     -999,9,     -999,     -999,9,20150902,1348,   1000.3,  87.6503,-179.9683,     -999,9,     -999,9
33HQ20150809  ,ARC01      ,30      , 12,22         ,    6191,   11193,GSNIS-22   ,2,20150902,1329,  87.6496, 179.9972,     3951,   1013.7,  -0.1695,  34.8910,2,     -999,9,    301.3,2,     -999,9,     6.84,2,    12.60,2,     0.00,2,     0.87,2,     -999,9,     -999,9,     -999,9,     -999,9,     -999,9,     -999,9,     -999,9,     -999,     -999,9,     -999,9,     -999,9,     -999,9,     -999,9,     -999,9,     -999,9,     -999,     -999,9,     -999,9,     -999,9,     -999,     -999,9,20150902,1348,   1000.4,  87.6503,-179.9682,     -999,9,     -999,9
33HQ20150809  ,ARC01      ,30      , 12,23         ,    6191,   11193,GSNIS-23   ,2,20150902,1329,  87.6496, 179.9972,     3951,   1013.7,  -0.1694,  34.8910,2,     -999,9,    301.3,2,     -999,9,     6.93,2,    12.58,2,     0.00,2,     0.88,2,     -999,9,     -999,9,     -999,9,     -999,9,     -999,9,     -999,9,     -999,9,     -999,     -999,9,     -999,9,     -999,9,     -999,9,  -0.1696,2,     -999,9,     -999,9,     -999,     -999,9,     -999,9,     -999,9,     -999,     -999,9,20150902,1348,   1000.4,  87.6503,-179.9680,     -999,9,     -999,9
33HQ20150809  ,ARC01      ,30      , 12,24         ,    6191,   11193,GSNIS-24   ,2,20150902,1329,  87.6496, 179.9972,     3951,   1013.7,  -0.1694,  34.8911,2,     -999,9,    301.3,2,     -999,9,     6.93,2,    12.58,2,     0.00,2,     0.87,2,     -999,9,     -999,9,     -999,9,     -999,9,     -999,9,     -999,9,     -999,9,     -999,     -999,9,     -999,9,     -999,9,     -999,9,     -999,9,     -999,9,     -999,9,     -999,     -999,9,     -999,9,     -999,9,     -999,     -999,9,20150902,1348,   1000.4,  87.6503,-179.9679,     -999,9,     -999,9
33HQ20150809  ,ARC01      ,30      , 12,14         ,    6191,   11194,GSNIS-14   ,2,20150902,1329,  87.6496, 179.9972,     3951,   1420.4,  -0.3473,  34.9216,2,     -999,9,    296.7,2,     -999,9,     8.79,2,    13.41,2,     0.00,2,     0.94,2,     -999,9,     -999,9,     -999,9,     -999,9,     -999,9,     -999,9,     -999,9,     -999,     -999,9,     -999,9,     -999,9,     -999,9,     -999,9,     -999,9,     -999,9,     -999,     -999,9,     -999,9,     -999,9,     -999,     -999,9,20150902,1340,   1400.4,  87.6500,-179.9829,     -999,9,     -999,9
33HQ20150809  ,ARC01      ,30      , 12,13         ,    6191,   11194,GSNIS-13   ,2,20150902,1329,  87.6496, 179.9972,     3951,   1420.4,  -0.3474,  34.9215,2,  34.9222,2,    296.7,2,    298.2,2,     8.69,2,    13.43,2,     0.00,2,     0.94,2,     -999,9,     -999,9,     -999,9,     -999,9,     -999,9,     -999,9,     -999,9,     -999,     -999,9,     -999,9,     -999,9,     -999,9,  -0.3475,2,     -999,9,     -999,9,     -999,     -999,9,     -999,9,     -999,9,     -999,     -999,9,20150902,1340,   1400.4,  87.6500,-179.9831,     -999,9,  35.0869,2
33HQ20150809  ,ARC01      ,30      , 12,15         ,    6191,   11194,GSNIS-15   ,2,20150902,1329,  87.6496, 179.9972,     3951,   1420.5,  -0.3472,  34.9216,2,     -999,9,    296.7,2,     -999,9,     8.79,2,    13.41,2,     0.00,2,     0.94,2,     -999,9,     -999,9,     -999,9,     -999,9,     -999,9,     -999,9,     -999,9,     -999,     -999,9,     -999,9,     -999,9,     -999,9,  -0.3473,2,     -999,9,     -999,9,     -999,     -999,9,     -999,9,     -999,9,     -999,     -999,9,20150902,1340,   1400.4,  87.6500,-179.9828,     -999,9,     -999,9
33HQ20150809  ,ARC01      ,30      , 12,16         ,    6191,   11194,GSNIS-16   ,2,20150902,1329,  87.6496, 179.9972,     3951,   1420.5,  -0.3470,  34.9217,2,     -999,9,    296.7,2,     -999,9,     8.79,2,    13.41,2,     0.00,2,     0.94,2,     -999,9,     -999,9,     -999,9,     -999,9,     -999,9,     -999,9,     -999,9,     -999,     -999,9,     -999,9,     -999,9,     -999,9,     -999,9,     -999,9,     -999,9,     -999,     -999,9,     -999,9,     -999,9,     -999,     -999,9,20150902,1340,   1400.5,  87.6500,-179.9826,     -999,9,     -999,9
33HQ20150809  ,ARC01      ,30      , 12,17         ,    6191,   11194,GSNIS-17   ,2,20150902,1329,  87.6496, 179.9972,     3951,   1420.5,  -0.3469,  34.9217,2,     -999,9,    296.7,2,     -999,9,     8.69,2,    13.42,2,     0.00,2,     0.93,2,     -999,9,     -999,9,     -999,9,     -999,9,     -999,9,     -999,9,     -999,9,     -999,     -999,9,     -999,9,     -999,9,     -999,9,  -0.3471,2,     -999,9,     -999,9,     -999,     -999,9,     -999,9,     -999,9,     -999,     -999,9,20150902,1341,   1400.5,  87.6500,-179.9825,     -999,9,     -999,9
33HQ20150809  ,ARC01      ,30      , 12,18         ,    6191,   11194,GSNIS-18   ,2,20150902,1329,  87.6496, 179.9972,     3951,   1420.5,  -0.3469,  34.9218,2,     -999,9,    296.7,2,     -999,9,     8.69,2,    13.42,2,     0.00,2,     0.93,2,     -999,9,     -999,9,     -999,9,     -999,9,     -999,9,     -999,9,     -999,9,     -999,     -999,9,     -999,9,     -999,9,     -999,9,     -999,9,     -999,9,     -999,9,     -999,     -999,9,     -999,9,     -999,9,     -999,     -999,9,20150902,1341,   1400.5,  87.6500,-179.9823,     -999,9,     -999,9
33HQ20150809  ,ARC01      ,30      , 12,7          ,    6191,   11195,GSNIS-7    ,2,20150902,1329,  87.6496, 179.9972,     3951,   1674.1,  -0.3899,  34.9384,2,  34.9372,2,    292.4,2,    293.6,2,    10.25,2,    13.93,2,     0.00,2,     0.98,2,     -999,9,     -999,9,     -999,9,     -999,9,     -999,9,     -999,9,     -999,9,     -999,     -999,9,     -999,9,     -999,9,     -999,9,  -0.3901,2,     -999,9,     -999,9,     -999,     -999,9,     -999,9,     -999,9,     -999,     -999,9,20150902,1335,   1649.5,  87.6498,-179.9936,     -999,9,  35.1019,2
33HQ20150809  ,ARC01      ,30      , 12,10         ,    6191,   11195,GSNIS-10   ,2,20150902,1329,  87.6496, 179.9972,     3951,   1674.2,  -0.3899,  34.9386,2,     -999,9,    292.4,2,     -999,9,    10.25,2,    13.92,2,     0.00,2,     0.97,2,     -999,9,     -999,9,     -999,9,     -999,9,     -999,9,     -999,9,     -999,9,     -999,     -999,9,     -999,9,     -999,9,     -999,9,     -999,9,     -999,9,     -999,9,     -999,     -999,9,     -999,9,     -999,9,     -999,     -999,9,20150902,1335,   1649.6,  87.6498,-179.9931,     -999,9,     -999,9
33HQ20150809  ,ARC01      ,30      , 12,11         ,    6191,   11195,GSNIS-11   ,2,20150902,1329,  87.6496, 179.9972,     3951,   1674.2,  -0.3898,  34.9385,2,     -999,9,    292.4,2,     -999,9,    10.25,2,    13.90,2,     0.00,2,     0.97,2,     -999,9,     -999,9,     -999,9,     -999,9,     -999,9,     -999,9,     -999,9,     -999,     -999,9,     -999,9,     -999,9,     -999,9,  -0.3901,2,     -999,9,     -999,9,     -999,     -999,9,     -999,9,     -999,9,     -999,     -999,9,20150902,1335,   1649.7,  87.6498,-179.9930,     -999,9,     -999,9
33HQ20150809  ,ARC01      ,30      , 12,8          ,    6191,   11195,GSNIS-8    ,2,20150902,1329,  87.6496, 179.9972,     3951,   1674.2,  -0.3899,  34.9384,2,     -999,9,    292.4,2,     -999,9,    10.35,2,    13.92,2,     0.00,2,     0.97,2,     -999,9,     -999,9,     -999,9,     -999,9,     -999,9,     -999,9,     -999,9,     -999,     -999,9,     -999,9,     -999,9,     -999,9,     -999,9,     -999,9,     -999,9,     -999,     -999,9,     -999,9,     -999,9,     -999,     -999,9,20150902,1335,   1649.6,  87.6498,-179.9935,     -999,9,     -999,9
33HQ20150809  ,ARC01      ,30      , 12,9          ,    6191,   11195,GSNIS-9    ,2,20150902,1329,  87.6496, 179.9972,     3951,   1674.2,  -0.3899,  34.9385,2,     -999,9,    292.4,2,     -999,9,    10.35,2,    13.94,2,     0.00,2,     0.97,2,     -999,9,     -999,9,     -999,9,     -999,9,     -999,9,     -999,9,     -999,9,     -999,     -999,9,     -999,9,     -999,9,     -999,9,  -0.3901,2,     -999,9,     -999,9,     -999,     -999,9,     -999,9,     -999,9,     -999,     -999,9,20150902,1335,   1649.6,  87.6498,-179.9933,     -999,9,     -999,9
33HQ20150809  ,ARC01      ,30      , 12,12         ,    6191,   11195,GSNIS-12   ,2,20150902,1329,  87.6496, 179.9972,     3951,   1674.3,  -0.3897,  34.9386,2,     -999,9,    292.4,2,     -999,9,    10.25,2,    13.92,2,     0.00,2,     0.97,2,     -999,9,     -999,9,     -999,9,     -999,9,     -999,9,     -999,9,     -999,9,     -999,     -999,9,     -999,9,     -999,9,     -999,9,     -999,9,     -999,9,     -999,9,     -999,     -999,9,     -999,9,     -999,9,     -999,     -999,9,20150902,1335,   1649.7,  87.6498,-179.9928,     -999,9,     -999,9
33HQ20150809  ,ARC01      ,30      , 12,1          ,    6191,   11196,GSNIS-1    ,2,20150902,1329,  87.6496, 179.9972,     3951,   1931.9,  -0.4044,  34.9504,2,  34.9466,2,    289.0,2,    290.0,3,    11.52,2,    14.21,2,     0.00,2,     1.00,2,     -999,9,     -999,9,     -999,9,     -999,9,     -999,9,     -999,9,     -999,9,     -999,     -999,9,     -999,9,     -999,9,     -999,9,  -0.4043,2,     -999,9,     -999,9,     -999,     -999,9,     -999,9,     -999,9,     -999,     -999,9,20150902,1329,   1902.4,  87.6496, 179.9954,     -999,9,  35.1114,2
33HQ20150809  ,ARC01      ,30      , 12,2          ,    6191,   11196,GSNIS-2    ,2,20150902,1329,  87.6496, 179.9972,     3951,   1931.9,  -0.4044,  34.9504,2,     -999,9,    289.0,2,     -999,9,    11.52,2,    14.22,2,     0.00,2,     1.00,2,     -999,9,     -999,9,     -999,9,     -999,9,     -999,9,     -999,9,     -999,9,     -999,     -999,9,     -999,9,     -999,9,     -999,9,     -999,9,     -999,9,     -999,9,     -999,     -999,9,     -999,9,     -999,9,     -999,     -999,9,20150902,1329,   1902.4,  87.6496, 179.9955,     -999,9,     -999,9
33HQ20150809  ,ARC01      ,30      , 12,6          ,    6191,   11196,GSNIS-6    ,2,20150902,1329,  87.6496, 179.9972,     3951,   1932.0,  -0.4044,  34.9504,2,     -999,9,    289.0,2,     -999,9,    11.52,2,    14.21,2,     0.00,2,     1.00,2,     -999,9,     -999,9,     -999,9,     -999,9,     -999,9,     -999,9,     -999,9,     -999,     -999,9,     -999,9,     -999,9,     -999,9,     -999,9,     -999,9,     -999,9,     -999,     -999,9,     -999,9,     -999,9,     -999,     -999,9,20150902,1329,   1902.5,  87.6496, 179.9962,     -999,9,     -999,9