BOTTLE,20221220CCHSIOAMB
EXPOCODE,SECT_ID,STNNBR,CASTNO,SAMPNO,GEOTR_EVENT,GEOTR_SAMPNO,BTLNBR,BTLNBR_FLAG_W,DATE,TIME,LATITUDE,LONGITUDE,DEPTH,CTDPRS,CTDTMP,CTDSAL,CTDSAL_FLAG_W,SALNTY,SALNTY_FLAG_W,CTDOXY,CTDOXY_FLAG_W,OXYGEN,OXYGEN_FLAG_W,SILCAT,SILCAT_FLAG_W,NITRAT,NITRAT_FLAG_W,NITRIT,NITRIT_FLAG_W,PHSPHT,PHSPHT_FLAG_W,CFC-11,CFC-11_FLAG_W,CFC-12,CFC-12_FLAG_W,CFC113,CFC113_FLAG_W,SF6,SF6_FLAG_W,TCARBN,TCARBN_FLAG_W,ALKALI,ALKALI_FLAG_W,PH_SWS,PH_SWS_FLAG_W,PH_TMP,DOC,DOC_FLAG_W,TRITUM,TRITUM_FLAG_W,HELIUM,HELIUM_FLAG_W,DELHE3,DELHE3_FLAG_W,REFTMP,REFTMP_FLAG_W,DELC13,DELC13_FLAG_W,DELC14,DELC14_FLAG_W,C14ERR,TDN,TDN_FLAG_W,DELO18,DELO18_FLAG_W,DELO17,DELO17_FLAG_W,CH4,CH4,CH4_FLAG_W,BTL_DATE,BTL_TIME,CTDDEPTH,BTL_LAT,BTL_LON,LAB_DEN,LAB_DEN_FLAG_W,SALTREF,SALTREF_FLAG_W
,,,,,,,,,,,,,METERS,DBAR,ITS-90,PSS-78,,PSS-78,,UMOL/KG,,UMOL/KG,,UMOL/KG,,UMOL/KG,,UMOL/KG,,UMOL/KG,,PMOL/KG,,PMOL/KG,,PMOL/KG,,FMOL/KG,,UMOL/KG,,UMOL/KG,,,,DEG C,UMOL/KG,,TU,,NMOL/KG,,PERCNT,,ITS-90,,/MILLE,,/MILLE,,/MILLE,UMOL/KG,,/MILLE,,/MILLE,,NMOL/KG,NMOL/L,,,,METERS,,,KG/M^3,,G/KG,
33HQ20150809  ,ARC01      ,25      ,  1,36         ,    6147,    -999,GSNIS-36   ,2,20150827,0957,  83.1489, 173.9356,     3021,      5.0,  -1.4364,  27.7939,2,  27.7946,2,    389.4,2,    390.2,2,     2.55,2,     0.00,2,     0.00,2,     0.59,2,    7.000,2,    3.818,2,    0.669,2,    3.523,2,   1883.4,6,   1978.9,2,   7.7343,2,    25.00,     68.3,2,     -999,9,     -999,9,     -999,9,     -999,9,     1.48,6,     -999,1,     -999,     3.07,2,     -999,1,     -999,9,     -999,     -999,9,20150827,1147,      5.0,  83.1483, 173.8765,     -999,9,  27.9257,2
33HQ20150809  ,ARC01      ,25      ,  1,35         ,    6147,    -999,GSNIS-35   ,2,20150827,0957,  83.1489, 173.9356,     3021,     15.5,  -1.4488,  27.8142,2,  27.8701,2,    389.7,2,    389.5,2,     2.65,2,     0.00,2,     0.00,2,     0.58,2,    7.013,2,    3.783,2,    0.671,2,    3.496,2,     -999,9,   1985.8,6,   7.7189,2,    25.00,     69.2,2,     -999,9,     -999,9,     -999,9,     -999,9,     -999,9,     -999,9,     -999,     2.83,2,     -999,1,     -999,9,     -999,     -999,9,20150827,1145,     15.3,  83.1483, 173.8778,     -999,9,  28.0016,2
33HQ20150809  ,ARC01      ,25      ,  1,34         ,    6147,    -999,GSNIS-34   ,2,20150827,0957,  83.1489, 173.9356,     3021,     25.6,  -1.1700,  28.8681,2,  29.0920,2,    399.5,2,    398.5,2,     2.75,2,     0.00,2,     0.00,2,     0.62,2,     -999,9,     -999,9,     -999,9,     -999,9,     -999,9,   2068.6,2,   7.7133,2,    25.00,     71.4,2,     -999,9,     -999,9,     -999,9,     -999,9,     -999,9,     -999,9,     -999,     3.09,2,     -999,1,     -999,9,     -999,     -999,9,20150827,1143,     25.4,  83.1483, 173.8785,     -999,9,  29.2292,2
33HQ20150809  ,ARC01      ,25      ,  1,33         ,    6147,    -999,GSNIS-33   ,2,20150827,0957,  83.1489, 173.9356,     3021,     53.7,  -1.2680,  30.9955,2,  31.1626,2,    327.2,2,    326.1,2,    14.69,2,     4.43,2,     0.11,2,     1.07,2,    6.493,2,    3.629,2,    0.566,2,    3.091,2,     -999,9,   2169.2,2,   7.5666,2,    25.00,     72.6,2,     -999,9,     -999,9,     -999,9,     -999,9,     -999,9,     -999,9,     -999,     7.27,2,     -999,1,     -999,9,     -999,     -999,9,20150827,1141,     53.1,  83.1483, 173.8798,     -999,9,  31.3095,2
33HQ20150809  ,ARC01      ,25      ,  1,32         ,    6147,    -999,GSNIS-32   ,2,20150827,0957,  83.1489, 173.9356,     3021,     66.0,  -1.2879,  31.9819,2,  32.1162,2,    284.9,2,    283.1,2,    27.41,2,     9.62,2,     0.02,2,     1.44,2,     -999,9,     -999,9,     -999,9,     -999,9,     -999,9,   2212.1,2,   7.4607,2,    25.00,     68.4,2,     -999,9,     -999,9,     -999,9,     -999,9,     -999,9,     -999,9,     -999,    10.18,2,     -999,1,     -999,9,     -999,     -999,9,20150827,1139,     65.2,  83.1483, 173.8807,     -999,9,  32.2677,2
33HQ20150809  ,ARC01      ,25      ,  1,31         ,    6147,    -999,GSNIS-31   ,2,20150827,0957,  83.1489, 173.9356,     3021,     76.1,  -1.3011,  32.3726,2,  32.4254,2,    264.7,2,    259.2,2,    34.64,2,    11.60,2,     0.02,2,     1.61,2,    6.088,2,    3.415,2,    0.463,2,    3.005,2,     -999,9,   2226.3,2,   7.3926,2,    25.00,     69.3,2,     -999,9,     -999,9,     -999,9,     -999,9,     -999,9,     -999,9,     -999,    13.16,2,     -999,1,     -999,9,     -999,     -999,9,20150827,1137,     75.3,  83.1483, 173.8815,     -999,9,  32.5783,2
33HQ20150809  ,ARC01      ,25      ,  1,30         ,    6147,    -999,GSNIS-30   ,2,20150827,0957,  83.1489, 173.9356,     3021,     86.2,  -1.3415,  32.7748,2,  32.8710,2,    242.8,2,    251.5,2,    35.22,2,    12.64,2,     0.01,2,     1.58,2,     -999,9,     -999,9,     -999,9,     -999,9,     -999,9,   2247.9,2,   7.3790,2,    25.00,     71.1,2,     -999,9,     -999,9,     -999,9,     -999,9,     -999,9,     -999,9,     -999,    14.32,2,     -999,1,     -999,9,     -999,     -999,9,20150827,1136,     85.2,  83.1483, 173.8822,     -999,9,  33.0260,2
33HQ20150809  ,ARC01      ,25      ,  1,29         ,    6147,    -999,GSNIS-29   ,2,20150827,0957,  83.1489, 173.9356,     3021,     95.8,  -1.3579,  33.1711,2,  33.2463,2,    263.7,2,    265.3,2,    28.26,2,    11.83,2,     0.01,2,     1.39,2,    6.209,2,    3.395,2,    0.450,2,    2.583,2,     -999,9,   2260.8,2,   7.4408,2,    25.00,     72.4,2,     -999,9,     -999,9,     -999,9,     -999,9,     -999,9,     -999,9,     -999,    12.48,2,     -999,1,     -999,9,     -999,     -999,9,20150827,1134,     94.8,  83.1483, 173.8828,     -999,9,  33.4031,2
33HQ20150809  ,ARC01      ,25      ,  1,28         ,    6147,    -999,GSNIS-28   ,2,20150827,0957,  83.1489, 173.9356,     3021,    106.0,  -1.3196,  33.5684,2,  33.6125,2,    277.4,2,    271.6,2,    21.90,2,    10.89,2,     0.00,2,     1.17,2,     -999,9,     -999,9,     -999,9,     -999,9,     -999,9,   2269.5,2,   7.4899,2,    25.00,     68.5,2,     -999,9,     -999,9,     -999,9,     -999,9,     -999,9,     -999,9,     -999,    12.03,2,     -999,1,     -999,9,     -999,     -999,9,20150827,1133,    104.8,  83.1483, 173.8835,     -999,9,  33.7710,2
33HQ20150809  ,ARC01      ,25      ,  1,27         ,    6147,    -999,GSNIS-27   ,2,20150827,0957,  83.1489, 173.9356,     3021,    121.8,  -1.2551,  34.0212,2,  34.0616,2,    262.7,2,    291.9,2,    11.92,2,     9.13,2,     0.00,2,     0.85,2,    6.212,2,    3.291,2,    0.451,2,    2.507,2,     -999,9,   2274.7,2,   7.5770,2,    25.00,     64.9,2,     -999,9,     -999,9,     -999,9,     -999,9,     -999,9,     -999,9,     -999,     9.70,2,     -999,1,     -999,9,     -999,     -999,9,20150827,1131,    120.4,  83.1483, 173.8844,     -999,9,  34.2222,2
33HQ20150809  ,ARC01      ,25      ,  1,26         ,    6147,    -999,GSNIS-26   ,2,20150827,0957,  83.1489, 173.9356,     3021,    136.9,  -1.1358,  34.2237,2,  34.2370,2,    294.7,2,    294.6,2,    10.26,2,     9.21,2,     0.00,2,     0.80,2,     -999,9,     -999,9,     -999,9,     -999,9,     -999,9,   2274.5,2,   7.5979,2,    25.00,     63.8,2,     -999,9,     -999,9,     -999,9,     -999,9,     -999,9,     -999,9,     -999,    10.66,2,     -999,1,     -999,9,     -999,     -999,9,20150827,1130,    135.4,  83.1483, 173.8852,     -999,9,  34.3985,2
33HQ20150809  ,ARC01      ,25      ,  1,25         ,    6147,    -999,GSNIS-25   ,2,20150827,0957,  83.1489, 173.9356,     3021,    156.3,  -0.8495,  34.3654,2,  34.3918,2,    290.2,2,    299.7,2,     6.84,2,     9.18,2,     0.00,2,     0.74,2,    6.162,2,    3.254,2,    0.451,2,    2.408,2,     -999,9,   2280.9,2,   7.6264,2,    25.00,     59.9,2,     -999,9,     -999,9,     -999,9,     -999,9,     -999,9,     -999,9,     -999,     9.54,2,     -999,1,     -999,9,     -999,     -999,9,20150827,1128,    154.6,  83.1483, 173.8861,     -999,9,  34.5540,2
33HQ20150809  ,ARC01      ,25      ,  1,24         ,    6147,    -999,GSNIS-24   ,2,20150827,0957,  83.1489, 173.9356,     3021,    177.5,  -0.3909,  34.4816,2,  34.4814,2,    300.1,2,    298.7,2,     6.64,2,     9.63,2,     0.00,2,     0.76,2,     -999,9,     -999,9,     -999,9,     -999,9,     -999,9,   2284.0,2,   7.6359,2,    25.00,     59.0,2,     -999,9,     -999,9,     -999,9,     -999,9,     -999,9,     -999,9,     -999,    10.48,2,     -999,1,     -999,9,     -999,     -999,9,20150827,1126,    175.5,  83.1483, 173.8871,     -999,9,  34.6440,2
33HQ20150809  ,ARC01      ,25      ,  1,23         ,    6147,    -999,GSNIS-23   ,2,20150827,0957,  83.1489, 173.9356,     3021,    198.1,  -0.0924,  34.5545,2,  34.5658,2,    299.7,2,    299.7,2,     5.67,2,    10.00,2,     0.00,2,     0.75,2,    6.030,2,    3.174,2,    0.437,2,    2.186,2,     -999,9,   2287.8,2,   7.6499,2,    25.00,     56.1,2,     -999,9,     -999,9,     -999,9,     -999,9,     -999,9,     -999,9,     -999,    11.24,2,     -999,1,     -999,9,     -999,     -999,9,20150827,1124,    195.9,  83.1483, 173.8884,     -999,9,  34.7288,2
33HQ20150809  ,ARC01      ,25      ,  1,22         ,    6147,    -999,GSNIS-22   ,2,20150827,0957,  83.1489, 173.9356,     3021,    217.9,   0.2528,  34.6449,2,  34.6454,2,    296.2,2,    297.4,2,     5.67,2,    10.54,2,     0.00,2,     0.76,2,     -999,9,     -999,9,     -999,9,     -999,9,     -999,9,   2290.4,2,   7.6628,2,    25.00,     55.8,2,     -999,9,     -999,9,     -999,9,     -999,9,     -999,9,     -999,9,     -999,    12.03,2,     -999,1,     -999,9,     -999,     -999,9,20150827,1122,    215.5,  83.1483, 173.8894,     -999,9,  34.8088,2
33HQ20150809  ,ARC01      ,25      ,  1,21         ,    6147,    -999,GSNIS-21   ,2,20150827,0957,  83.1489, 173.9356,     3021,    234.9,   0.5275,  34.7217,2,  34.7197,2,    294.9,2,    295.2,2,     5.76,2,    11.15,2,     0.00,2,     0.80,2,    5.660,2,    2.945,2,    0.417,2,    2.021,2,     -999,9,   2292.6,2,   7.6737,2,    25.00,     56.2,2,     -999,9,     -999,9,     -999,9,     -999,9,     -999,9,     -999,9,     -999,    12.04,2,     -999,1,     -999,9,     -999,     -999,9,20150827,1120,    232.3,  83.1483, 173.8903,     -999,9,  34.8834,2
33HQ20150809  ,ARC01      ,25      ,  1,20         ,    6147,    -999,GSNIS-20   ,2,20150827,0957,  83.1489, 173.9356,     3021,    286.5,   0.8427,  34.8126,2,  34.8135,2,    296.0,2,    296.4,2,     5.27,2,    11.63,2,     0.00,2,     0.81,2,     -999,9,     -999,9,     -999,9,     -999,9,     -999,9,   2293.5,6,   7.6913,2,    25.00,     52.8,2,     -999,9,     -999,9,     -999,9,     -999,9,     -999,9,     -999,9,     -999,    12.25,2,     -999,1,     -999,9,     -999,     -999,9,20150827,1118,    283.2,  83.1483, 173.8913,     -999,9,  34.9777,2
33HQ20150809  ,ARC01      ,25      ,  1,19         ,    6147,    -999,GSNIS-19   ,2,20150827,0957,  83.1489, 173.9356,     3021,    338.1,   0.9802,  34.8499,2,  34.8474,2,    298.3,2,    297.7,2,     5.37,2,    11.84,2,     0.00,2,     0.82,2,    5.466,2,    2.801,2,    0.413,2,    1.774,2,     -999,9,   2294.2,2,   7.6958,2,    25.00,     54.2,2,     -999,9,     -999,9,     -999,9,     -999,9,     -999,9,     -999,9,     -999,    12.30,2,     -999,1,     -999,9,     -999,     -999,9,20150827,1116,    334.3,  83.1483, 173.8923,     -999,9,  35.0117,2
33HQ20150809  ,ARC01      ,25      ,  1,18         ,    6147,    -999,GSNIS-18   ,2,20150827,0957,  83.1489, 173.9356,     3021,    389.8,   0.9931,  34.8558,2,  34.8554,2,    298.0,2,    298.1,2,     5.37,2,    11.85,2,     0.00,2,     0.81,2,     -999,9,     -999,9,     -999,9,     -999,9,     -999,9,   2297.5,2,   7.6975,2,    25.00,     52.8,2,     -999,9,     -999,9,     -999,9,     -999,9,     -999,9,     -999,9,     -999,    12.46,2,     -999,1,     -999,9,     -999,     -999,9,20150827,1114,    385.3,  83.1483, 173.8932,     -999,9,  35.0198,2
33HQ20150809  ,ARC01      ,25      ,  1,17         ,    6147,    -999,GSNIS-17   ,2,20150827,0957,  83.1489, 173.9356,     3021,    436.6,   0.9391,  34.8658,2,  34.8677,2,    301.0,2,    301.0,2,     5.37,2,    11.92,2,     0.00,2,     0.83,2,    5.402,2,    2.743,2,    0.399,2,    1.656,2,     -999,9,   2298.4,2,   7.6974,2,    25.00,     51.5,2,     -999,9,     -999,9,     -999,9,     -999,9,     -999,9,     -999,9,     -999,    12.56,2,     -999,1,     -999,9,     -999,     -999,9,20150827,1112,    431.5,  83.1483, 173.8946,     -999,9,  35.0321,2
33HQ20150809  ,ARC01      ,25      ,  1,16         ,    6147,    -999,GSNIS-16   ,2,20150827,0957,  83.1489, 173.9356,     3021,    487.8,   0.7766,  34.8693,2,  34.8689,2,    302.8,2,    302.1,2,     5.27,2,    11.81,2,     0.00,2,     0.82,2,     -999,9,     -999,9,     -999,9,     -999,9,     -999,9,   2298.4,2,   7.6950,2,    25.00,     55.4,2,     -999,9,     -999,9,     -999,9,     -999,9,     -999,9,     -999,9,     -999,    12.16,2,     -999,1,     -999,9,     -999,     -999,9,20150827,1110,    482.1,  83.1483, 173.8956,     -999,9,  35.0333,2
33HQ20150809  ,ARC01      ,25      ,  1,15         ,    6147,    -999,GSNIS-15   ,2,20150827,0957,  83.1489, 173.9356,     3021,    539.6,   0.6564,  34.8730,2,  34.8706,2,    303.4,2,    303.5,2,     5.37,2,    11.84,2,     0.00,2,     0.82,2,    5.309,2,    2.672,2,    0.385,2,    1.774,2,     -999,9,   2295.5,2,   7.6925,2,    25.00,     51.9,2,     -999,9,     -999,9,     -999,9,     -999,9,     -999,9,     -999,9,     -999,    12.05,2,     -999,9,     -999,9,     -999,     -999,9,20150827,1106,    533.1,  83.1483, 173.8979,     -999,9,  35.0351,2
33HQ20150809  ,ARC01      ,25      ,  1,14         ,    6147,    -999,GSNIS-14   ,2,20150827,0957,  83.1489, 173.9356,     3021,    606.8,   0.4904,  34.8732,2,  34.8721,2,    302.3,2,    303.7,2,     5.47,2,    11.90,2,     0.00,2,     0.83,2,    5.132,2,    2.616,2,    0.368,2,    1.781,2,     -999,9,   2296.3,2,   7.6930,2,    25.00,     52.6,2,     -999,9,     -999,9,     -999,9,     -999,9,     -999,9,     -999,9,     -999,    13.45,2,     -999,9,     -999,9,     -999,     -999,9,20150827,1103,    599.5,  83.1483, 173.8991,     -999,9,  35.0365,2
33HQ20150809  ,ARC01      ,25      ,  1,13         ,    6147,    -999,GSNIS-13   ,2,20150827,0957,  83.1489, 173.9356,     3021,    709.4,   0.2966,  34.8771,2,  34.8754,2,    304.6,2,    304.0,2,     5.47,2,    11.86,2,     0.00,2,     0.85,2,    5.155,2,    2.614,2,    0.376,2,    1.384,2,     -999,9,   2299.4,2,   7.6865,2,    25.00,     53.0,2,     -999,9,     -999,9,     -999,9,     -999,9,     -999,9,     -999,9,     -999,    13.70,2,     -999,9,     -999,9,     -999,     -999,9,20150827,1100,    700.7,  83.1483, 173.9009,     -999,9,  35.0399,2
33HQ20150809  ,ARC01      ,25      ,  1,12         ,    6147,    -999,GSNIS-12   ,2,20150827,0957,  83.1489, 173.9356,     3021,    861.2,   0.0618,  34.8835,2,  34.8845,2,    304.9,2,    304.8,2,     5.76,2,    11.96,2,     0.00,2,     0.85,2,    4.754,2,    2.404,2,    0.330,2,    1.208,2,     -999,9,   2298.5,2,   7.6847,2,    25.00,     53.7,2,     -999,9,     -999,9,     -999,9,     -999,9,     -999,9,     -999,9,     -999,    13.59,2,     -999,9,     -999,9,     -999,     -999,9,20150827,1055,    850.3,  83.1483, 173.9035,     -999,9,  35.0490,2
33HQ20150809  ,ARC01      ,25      ,  1,11         ,    6147,    -999,GSNIS-11   ,2,20150827,0957,  83.1489, 173.9356,     3021,   1011.5,  -0.0992,  34.8897,2,  34.8873,2,    304.9,2,    304.6,2,     6.15,2,    12.20,2,     0.00,2,     0.87,2,    4.326,2,    2.137,2,    0.293,2,    1.007,2,     -999,9,   2297.3,2,   7.6888,2,    25.00,     51.6,2,     -999,9,     -999,9,     -999,9,     -999,9,     -999,9,     -999,9,     -999,    13.52,2,     -999,9,     -999,9,     -999,     -999,9,20150827,1052,    998.3,  83.1483, 173.9055,     -999,9,  35.0518,2
33HQ20150809  ,ARC01      ,25      ,  1,10         ,    6147,    -999,GSNIS-10   ,2,20150827,0957,  83.1489, 173.9356,     3021,   1216.8,  -0.2569,  34.9003,2,  34.8974,2,    302.8,2,    302.5,2,     7.03,2,    12.62,2,     0.00,2,     0.90,2,    3.198,2,    1.585,2,    0.201,2,    0.631,2,     -999,9,   2298.6,2,   7.7024,2,    25.00,     50.4,2,     -999,9,     -999,9,     -999,9,     -999,9,     -999,9,     -999,9,     -999,    13.39,2,     -999,9,     -999,9,     -999,     -999,9,20150827,1046,   1200.4,  83.1484, 173.9087,     -999,9,  35.0619,2
33HQ20150809  ,ARC01      ,25      ,  1,9          ,    6147,    -999,GSNIS-9    ,2,20150827,0957,  83.1489, 173.9356,     3021,   1419.0,  -0.3492,  34.9134,2,  34.9125,2,    299.5,2,    299.9,2,     8.01,2,    13.18,2,     0.00,2,     0.94,2,    1.781,2,    0.870,2,    0.098,2,    0.283,2,     -999,9,   2298.9,2,   7.7140,2,    25.00,     49.6,2,     -999,9,     -999,9,     -999,9,     -999,9,     -999,9,     -999,9,     -999,    13.72,2,     -999,9,     -999,9,     -999,     -999,9,20150827,1041,   1399.1,  83.1484, 173.9111,     -999,9,  35.0771,2
33HQ20150809  ,ARC01      ,25      ,  1,8          ,    6147,    -999,GSNIS-8    ,2,20150827,0957,  83.1489, 173.9356,     3021,   1626.2,  -0.3876,  34.9275,2,  34.9271,2,    295.4,2,    295.2,2,     9.47,2,    13.69,2,     0.00,2,     0.98,2,    0.726,2,    0.339,2,    0.030,2,    0.114,2,     -999,9,   2297.7,2,   7.7293,2,    25.00,     47.6,2,     -999,9,     -999,9,     -999,9,     -999,9,     -999,9,     -999,9,     -999,    13.35,2,     -999,9,     -999,9,     -999,     -999,9,20150827,1034,   1602.6,  83.1485, 173.9149,     -999,9,  35.0918,2
33HQ20150809  ,ARC01      ,25      ,  1,7          ,    6147,    -999,GSNIS-7    ,2,20150827,0957,  83.1489, 173.9356,     3021,   1828.8,  -0.4009,  34.9393,2,  34.9399,2,    291.8,2,    291.9,2,    10.74,2,    14.02,2,     0.00,2,     1.00,2,    0.268,2,    0.116,2,    0.009,2,    0.000,2,     -999,9,   2300.0,2,   7.7322,2,    25.00,     47.3,2,     -999,9,     -999,9,     -999,9,     -999,9,     -999,9,     -999,9,     -999,    13.07,2,     -999,9,     -999,9,     -999,     -999,9,20150827,1029,   1801.5,  83.1485, 173.9176,     -999,9,  35.1047,2
33HQ20150809  ,ARC01      ,25      ,  1,6          ,    6147,    -999,GSNIS-6    ,2,20150827,0957,  83.1489, 173.9356,     3021,   2031.9,  -0.4028,  34.9447,2,  34.9463,2,    289.2,2,    289.1,2,    11.52,2,    14.22,2,     0.00,2,     1.02,2,    0.143,2,    0.056,2,    0.006,2,    0.000,2,     -999,9,   2300.9,2,   7.7348,2,    25.00,     46.6,2,     -999,9,     -999,9,     -999,9,     -999,9,     -999,9,     -999,9,     -999,    14.96,2,     -999,9,     -999,9,     -999,     -999,9,20150827,1025,   2000.5,  83.1486, 173.9203,     -999,9,  35.1111,2
33HQ20150809  ,ARC01      ,25      ,  1,5          ,    6147,    -999,GSNIS-5    ,2,20150827,0957,  83.1489, 173.9356,     3021,   2235.2,  -0.3920,  34.9485,2,  34.9492,2,    287.8,2,    287.5,2,    12.11,2,    14.34,2,     0.00,2,     1.03,2,    0.077,2,    0.031,2,    0.005,2,    0.000,2,     -999,9,   2299.2,2,   7.7334,2,    25.00,     45.7,2,     -999,9,     -999,9,     -999,9,     -999,9,     -999,9,     -999,9,     -999,    15.94,2,     -999,9,     -999,9,     -999,     -999,9,20150827,1019,   2199.6,  83.1486, 173.9231,     -999,9,  35.1140,2
33HQ20150809  ,ARC01      ,25      ,  1,4          ,    6147,    -999,GSNIS-4    ,2,20150827,0957,  83.1489, 173.9356,     3021,   2438.7,  -0.3790,  34.9507,2,  34.9514,2,    286.7,2,    286.8,2,    12.40,2,    14.42,2,     0.00,2,     1.04,2,    0.049,2,    0.020,2,    0.002,2,    0.000,2,     -999,9,   2300.5,2,   7.7342,2,    25.00,     45.9,2,     -999,9,     -999,9,     -999,9,     -999,9,     -999,9,     -999,9,     -999,    14.42,2,     -999,9,     -999,9,     -999,     -999,9,20150827,1015,   2398.8,  83.1487, 173.9257,     -999,9,  35.1163,2