BOTTLE,20221220CCHSIOAMB
EXPOCODE,SECT_ID,STNNBR,CASTNO,SAMPNO,GEOTR_EVENT,GEOTR_SAMPNO,BTLNBR,BTLNBR_FLAG_W,DATE,TIME,LATITUDE,LONGITUDE,DEPTH,CTDPRS,CTDTMP,CTDSAL,CTDSAL_FLAG_W,SALNTY,SALNTY_FLAG_W,CTDOXY,CTDOXY_FLAG_W,OXYGEN,OXYGEN_FLAG_W,SILCAT,SILCAT_FLAG_W,NITRAT,NITRAT_FLAG_W,NITRIT,NITRIT_FLAG_W,PHSPHT,PHSPHT_FLAG_W,CFC-11,CFC-11_FLAG_W,CFC-12,CFC-12_FLAG_W,CFC113,CFC113_FLAG_W,SF6,SF6_FLAG_W,TCARBN,TCARBN_FLAG_W,ALKALI,ALKALI_FLAG_W,PH_SWS,PH_SWS_FLAG_W,PH_TMP,DOC,DOC_FLAG_W,TRITUM,TRITUM_FLAG_W,HELIUM,HELIUM_FLAG_W,DELHE3,DELHE3_FLAG_W,REFTMP,REFTMP_FLAG_W,DELC13,DELC13_FLAG_W,DELC14,DELC14_FLAG_W,C14ERR,TDN,TDN_FLAG_W,DELO18,DELO18_FLAG_W,DELO17,DELO17_FLAG_W,CH4,CH4,CH4_FLAG_W,BTL_DATE,BTL_TIME,CTDDEPTH,BTL_LAT,BTL_LON,LAB_DEN,LAB_DEN_FLAG_W,SALTREF,SALTREF_FLAG_W
,,,,,,,,,,,,,METERS,DBAR,ITS-90,PSS-78,,PSS-78,,UMOL/KG,,UMOL/KG,,UMOL/KG,,UMOL/KG,,UMOL/KG,,UMOL/KG,,PMOL/KG,,PMOL/KG,,PMOL/KG,,FMOL/KG,,UMOL/KG,,UMOL/KG,,,,DEG C,UMOL/KG,,TU,,NMOL/KG,,PERCNT,,ITS-90,,/MILLE,,/MILLE,,/MILLE,UMOL/KG,,/MILLE,,/MILLE,,NMOL/KG,NMOL/L,,,,METERS,,,KG/M^3,,G/KG,
33HQ20150809  ,ARC01      ,51      ,  2,4          ,    6393,   11881,GSNIS-4    ,2,20150926,1831,  78.1802,-147.8306,     3837,     55.6,  -0.3037,  31.1964,2,     -999,9,    368.9,2,     -999,9,     7.15,2,     1.59,2,     0.05,2,     0.86,2,     -999,9,     -999,9,     -999,9,     -999,9,     -999,9,     -999,9,     -999,9,     -999,     52.4,2,     -999,9,     -999,9,     -999,9,  -0.3355,4,     -999,9,     -999,9,     -999,    13.28,2,     -999,9,     -999,9,     -999,     -999,9,20150926,1831,     55.0,  78.1803,-147.8306,     -999,9,     -999,9
33HQ20150809  ,ARC01      ,51      ,  2,3          ,    6393,   11881,GSNIS-3    ,2,20150926,1831,  78.1802,-147.8306,     3837,     55.6,  -0.3211,  31.1844,2,     -999,9,    368.9,2,     -999,9,     7.05,2,     1.54,2,     0.05,2,     0.86,2,     -999,9,     -999,9,     -999,9,     -999,9,     -999,9,     -999,9,     -999,9,     -999,     -999,9,     -999,9,     -999,9,     -999,9,  -0.3342,2,     -999,9,     -999,9,     -999,     -999,9,     -999,9,     -999,9,     -999,     -999,9,20150926,1831,     55.0,  78.1803,-147.8306,     -999,9,     -999,9
33HQ20150809  ,ARC01      ,51      ,  2,1          ,    6393,   11881,GSNIS-1    ,2,20150926,1831,  78.1802,-147.8306,     3837,     55.7,  -0.3007,  31.1954,2,  30.9982,2,    368.9,2,    369.0,2,     6.66,2,     1.38,2,     0.05,2,     0.83,2,    6.630,2,    3.535,2,    0.527,2,    2.485,2,   2050.2,2,   2170.8,2,   7.7324,2,    25.00,     69.6,2,     -999,1,     -999,1,     -999,1,  -0.3477,4,     1.25,2,     -999,1,     -999,     6.59,2,     -999,1,     -999,9,     -999,     -999,1,20150926,1831,     55.1,  78.1802,-147.8306,     -999,9,  31.1444,2
33HQ20150809  ,ARC01      ,52      ,  1,24         ,    6396,   11906,GF-14      ,2,20150927,0236,  77.5027,-148.0085,     3829,     19.6,  -1.3994,  27.6193,2,  28.2177,2,    322.6,2,     -999,9,     2.65,2,     0.00,2,     0.00,2,     0.57,2,     -999,9,     -999,9,     -999,9,     -999,9,     -999,9,     -999,9,     -999,9,     -999,     -999,9,     -999,9,     -999,9,     -999,9,     -999,9,     -999,9,     -999,9,     -999,     -999,9,     -999,9,     -999,9,     -999,     -999,9,20150927,0317,     19.4,  77.5063,-148.0158,     -999,9,  28.3508,2
33HQ20150809  ,ARC01      ,52      ,  1,23         ,    6396,   11905,GF-06      ,2,20150927,0236,  77.5027,-148.0085,     3829,     19.6,  -1.3994,  27.6193,2,  28.1174,2,    322.6,2,     -999,9,     2.65,2,     0.02,2,     0.00,2,     0.58,2,     -999,9,     -999,9,     -999,9,     -999,9,     -999,9,     -999,9,     -999,9,     -999,     -999,9,     -999,9,     -999,9,     -999,9,     -999,9,     -999,9,     -999,9,     -999,     -999,9,     -999,9,     -999,9,     -999,     -999,9,20150927,0317,     19.4,  77.5063,-148.0158,     -999,9,  28.2500,2
33HQ20150809  ,ARC01      ,52      ,  1,22         ,    6396,   11904,GF-02      ,2,20150927,0236,  77.5027,-148.0085,     3829,     23.5,  -1.1333,  29.0961,2,  29.1359,2,    299.8,2,     -999,9,     2.55,2,     0.00,2,     0.00,2,     0.58,2,     -999,9,     -999,9,     -999,9,     -999,9,     -999,9,     -999,9,     -999,9,     -999,     -999,9,     -999,9,     -999,9,     -999,9,     -999,9,     -999,9,     -999,9,     -999,     -999,9,     -999,9,     -999,9,     -999,     -999,9,20150927,0316,     23.2,  77.5062,-148.0156,     -999,9,  29.2733,2
33HQ20150809  ,ARC01      ,52      ,  1,21         ,    6396,   11903,GF-33      ,2,20150927,0236,  77.5027,-148.0085,     3829,     23.5,  -1.1333,  29.0961,2,  29.1392,2,    299.8,2,     -999,9,     2.55,2,     0.01,2,     0.00,2,     0.59,2,     -999,9,     -999,9,     -999,9,     -999,9,     -999,9,     -999,9,     -999,9,     -999,     -999,9,     -999,9,     -999,9,     -999,9,     -999,9,     -999,9,     -999,9,     -999,     -999,9,     -999,9,     -999,9,     -999,     -999,9,20150927,0316,     23.2,  77.5062,-148.0156,     -999,9,  29.2766,2
33HQ20150809  ,ARC01      ,52      ,  1,20         ,    6396,   11902,GF-26      ,2,20150927,0236,  77.5027,-148.0085,     3829,     36.2,  -1.2604,  29.3710,2,  29.5157,2,    287.1,2,     -999,9,     2.84,2,     0.11,2,     0.00,2,     0.61,2,     -999,9,     -999,9,     -999,9,     -999,9,     -999,9,     -999,9,     -999,9,     -999,     -999,9,     -999,9,     -999,9,     -999,9,     -999,9,     -999,9,     -999,9,     -999,     -999,9,     -999,9,     -999,9,     -999,     -999,9,20150927,0313,     35.9,  77.5060,-148.0149,     -999,9,  29.6549,2
33HQ20150809  ,ARC01      ,52      ,  1,19         ,    6396,   11901,GF-27      ,2,20150927,0236,  77.5027,-148.0085,     3829,     36.2,  -1.2604,  29.3710,2,  29.5098,2,    287.1,2,     -999,9,     2.75,2,     0.00,2,     0.00,2,     0.61,2,     -999,9,     -999,9,     -999,9,     -999,9,     -999,9,     -999,9,     -999,9,     -999,     -999,9,     -999,9,     -999,9,     -999,9,     -999,9,     -999,9,     -999,9,     -999,     -999,9,     -999,9,     -999,9,     -999,     -999,9,20150927,0313,     35.9,  77.5060,-148.0149,     -999,9,  29.6490,2
33HQ20150809  ,ARC01      ,52      ,  1,18         ,    6396,   11900,GF-30      ,2,20150927,0236,  77.5027,-148.0085,     3829,     60.4,  -0.0947,  30.8592,2,  31.2034,2,    258.0,2,     -999,9,     6.85,2,     1.79,2,     0.04,2,     0.91,2,     -999,9,     -999,9,     -999,9,     -999,9,     -999,9,     -999,9,     -999,9,     -999,     -999,9,     -999,9,     -999,9,     -999,9,     -999,9,     -999,9,     -999,9,     -999,     -999,9,     -999,9,     -999,9,     -999,     -999,9,20150927,0310,     59.7,  77.5057,-148.0142,     -999,9,  31.3505,2
33HQ20150809  ,ARC01      ,52      ,  1,17         ,    6396,   11899,GF-16      ,2,20150927,0236,  77.5027,-148.0085,     3829,     60.4,  -0.0947,  30.8592,2,  31.2098,2,    258.0,2,     -999,9,     6.85,2,     1.74,2,     0.04,2,     0.90,2,     -999,9,     -999,9,     -999,9,     -999,9,     -999,9,     -999,9,     -999,9,     -999,     -999,9,     -999,9,     -999,9,     -999,9,     -999,9,     -999,9,     -999,9,     -999,     -999,9,     -999,9,     -999,9,     -999,     -999,9,20150927,0310,     59.7,  77.5057,-148.0142,     -999,9,  31.3570,2
33HQ20150809  ,ARC01      ,52      ,  1,15         ,    6396,   11897,GF-03      ,2,20150927,0236,  77.5027,-148.0085,     3829,     91.1,  -0.9428,  31.9725,2,  32.0165,2,    249.4,2,     -999,9,    18.50,2,     9.05,2,     0.00,2,     1.40,2,     -999,9,     -999,9,     -999,9,     -999,9,     -999,9,     -999,9,     -999,9,     -999,     -999,9,     -999,9,     -999,9,     -999,9,     -999,9,     -999,9,     -999,9,     -999,     -999,9,     -999,9,     -999,9,     -999,     -999,9,20150927,0307,     90.2,  77.5054,-148.0134,     -999,9,  32.1675,2
33HQ20150809  ,ARC01      ,52      ,  1,16         ,    6396,   11898,GF-08      ,2,20150927,0236,  77.5027,-148.0085,     3829,     91.1,  -0.9428,  31.9725,2,  32.0058,2,    249.4,2,     -999,9,    18.40,2,     9.00,2,     0.00,2,     1.40,2,     -999,9,     -999,9,     -999,9,     -999,9,     -999,9,     -999,9,     -999,9,     -999,     -999,9,     -999,9,     -999,9,     -999,9,     -999,9,     -999,9,     -999,9,     -999,     -999,9,     -999,9,     -999,9,     -999,     -999,9,20150927,0307,     90.2,  77.5054,-148.0134,     -999,9,  32.1567,2
33HQ20150809  ,ARC01      ,52      ,  1,14         ,    6396,   11896,GF-29      ,2,20150927,0236,  77.5027,-148.0085,     3829,    121.4,  -1.2893,  32.3844,2,  32.4625,2,    234.4,2,     -999,9,    25.53,2,    12.11,2,     0.00,2,     1.62,2,     -999,9,     -999,9,     -999,9,     -999,9,     -999,9,     -999,9,     -999,9,     -999,     -999,9,     -999,9,     -999,9,     -999,9,     -999,9,     -999,9,     -999,9,     -999,     -999,9,     -999,9,     -999,9,     -999,     -999,9,20150927,0303,    120.1,  77.5050,-148.0127,     -999,9,  32.6155,2
33HQ20150809  ,ARC01      ,52      ,  1,13         ,    6396,   11895,GF-18      ,2,20150927,0236,  77.5027,-148.0085,     3829,    121.4,  -1.2893,  32.3844,2,  32.4030,2,    234.4,2,     -999,9,    24.85,2,    11.84,2,     0.00,2,     1.60,2,     -999,9,     -999,9,     -999,9,     -999,9,     -999,9,     -999,9,     -999,9,     -999,     -999,9,     -999,9,     -999,9,     -999,9,     -999,9,     -999,9,     -999,9,     -999,     -999,9,     -999,9,     -999,9,     -999,     -999,9,20150927,0303,    120.1,  77.5050,-148.0127,     -999,9,  32.5558,2
33HQ20150809  ,ARC01      ,52      ,  1,12         ,    6396,   11894,GF-05      ,2,20150927,0236,  77.5027,-148.0085,     3829,    151.5,  -1.3979,  32.6663,2,  32.7079,2,    227.2,2,     -999,9,    29.44,2,    13.89,2,     0.00,2,     1.77,2,     -999,9,     -999,9,     -999,9,     -999,9,     -999,9,     -999,9,     -999,9,     -999,     -999,9,     -999,9,     -999,9,     -999,9,     -999,9,     -999,9,     -999,9,     -999,     -999,9,     -999,9,     -999,9,     -999,     -999,9,20150927,0301,    149.9,  77.5048,-148.0121,     -999,9,  32.8622,2
33HQ20150809  ,ARC01      ,52      ,  1,11         ,    6396,   11893,GF-28      ,2,20150927,0236,  77.5027,-148.0085,     3829,    151.5,  -1.3979,  32.6663,2,  32.7080,2,    227.2,2,     -999,9,    29.64,2,    13.99,2,     0.00,2,     1.78,2,     -999,9,     -999,9,     -999,9,     -999,9,     -999,9,     -999,9,     -999,9,     -999,     -999,9,     -999,9,     -999,9,     -999,9,     -999,9,     -999,9,     -999,9,     -999,     -999,9,     -999,9,     -999,9,     -999,     -999,9,20150927,0301,    149.9,  77.5048,-148.0121,     -999,9,  32.8622,2
33HQ20150809  ,ARC01      ,52      ,  1,10         ,    6396,   11892,GF-31      ,2,20150927,0236,  77.5027,-148.0085,     3829,    192.3,  -1.4624,  33.0675,2,  33.1363,2,    219.8,2,     -999,9,    35.30,2,    15.77,2,     0.00,2,     1.86,2,     -999,9,     -999,9,     -999,9,     -999,9,     -999,9,     -999,9,     -999,9,     -999,     -999,9,     -999,9,     -999,9,     -999,9,     -999,9,     -999,9,     -999,9,     -999,     -999,9,     -999,9,     -999,9,     -999,     -999,9,20150927,0258,    190.2,  77.5045,-148.0114,     -999,9,  33.2925,2
33HQ20150809  ,ARC01      ,52      ,  1,9          ,    6396,   11891,GF-21      ,2,20150927,0236,  77.5027,-148.0085,     3829,    192.3,  -1.4624,  33.0675,2,  33.1187,2,    219.8,2,     -999,9,    35.20,2,    15.74,2,     0.00,2,     1.88,2,     -999,9,     -999,9,     -999,9,     -999,9,     -999,9,     -999,9,     -999,9,     -999,     -999,9,     -999,9,     -999,9,     -999,9,     -999,9,     -999,9,     -999,9,     -999,     -999,9,     -999,9,     -999,9,     -999,     -999,9,20150927,0258,    190.2,  77.5045,-148.0114,     -999,9,  33.2749,2
33HQ20150809  ,ARC01      ,52      ,  1,7          ,    6396,   11889,GF-38      ,2,20150927,0236,  77.5027,-148.0085,     3829,    247.7,  -0.9063,  34.0680,2,  34.1359,2,    227.2,2,     -999,9,    18.95,2,    12.98,2,     0.00,2,     1.18,2,     -999,9,     -999,9,     -999,9,     -999,9,     -999,9,     -999,9,     -999,9,     -999,     -999,9,     -999,9,     -999,9,     -999,9,     -999,9,     -999,9,     -999,9,     -999,     -999,9,     -999,9,     -999,9,     -999,     -999,9,20150927,0255,    245.0,  77.5043,-148.0108,     -999,9,  34.2969,2
33HQ20150809  ,ARC01      ,52      ,  1,8          ,    6396,   11890,GF-37      ,2,20150927,0236,  77.5027,-148.0085,     3829,    247.7,  -0.9063,  34.0680,2,  34.0930,2,    227.2,2,     -999,9,    19.83,2,    13.12,2,     0.00,2,     1.23,2,     -999,9,     -999,9,     -999,9,     -999,9,     -999,9,     -999,9,     -999,9,     -999,     -999,9,     -999,9,     -999,9,     -999,9,     -999,9,     -999,9,     -999,9,     -999,     -999,9,     -999,9,     -999,9,     -999,     -999,9,20150927,0255,    245.0,  77.5043,-148.0108,     -999,9,  34.2537,2
33HQ20150809  ,ARC01      ,52      ,  1,5          ,    6396,   11887,GF-36      ,2,20150927,0236,  77.5027,-148.0085,     3829,    353.9,   0.5214,  34.7293,2,  34.7335,2,    239.0,2,     -999,9,     7.91,2,    12.36,2,     0.00,2,     0.87,2,     -999,9,     -999,9,     -999,9,     -999,9,     -999,9,     -999,9,     -999,9,     -999,     -999,9,     -999,9,     -999,9,     -999,9,     -999,9,     -999,9,     -999,9,     -999,     -999,9,     -999,9,     -999,9,     -999,     -999,9,20150927,0251,    349.9,  77.5039,-148.0101,     -999,9,  34.8973,2
33HQ20150809  ,ARC01      ,52      ,  1,6          ,    6396,   11888,GF-11      ,2,20150927,0236,  77.5027,-148.0085,     3829,    353.9,   0.5214,  34.7293,2,  34.7337,2,    239.0,2,     -999,9,     7.91,2,    12.34,2,     0.00,2,     0.87,2,     -999,9,     -999,9,     -999,9,     -999,9,     -999,9,     -999,9,     -999,9,     -999,     -999,9,     -999,9,     -999,9,     -999,9,     -999,9,     -999,9,     -999,9,     -999,     -999,9,     -999,9,     -999,9,     -999,     -999,9,20150927,0251,    349.9,  77.5039,-148.0101,     -999,9,  34.8974,2
33HQ20150809  ,ARC01      ,52      ,  1,4          ,    6396,   11886,GF-19      ,2,20150927,0236,  77.5027,-148.0085,     3829,    455.3,   0.8157,  34.8246,2,  34.8275,2,    243.3,2,     -999,9,     6.25,2,    12.28,2,     0.00,2,     0.84,2,     -999,9,     -999,9,     -999,9,     -999,9,     -999,9,     -999,9,     -999,9,     -999,     -999,9,     -999,9,     -999,9,     -999,9,     -999,9,     -999,9,     -999,9,     -999,     -999,9,     -999,9,     -999,9,     -999,     -999,9,20150927,0247,    450.0,  77.5036,-148.0095,     -999,9,  34.9917,2
33HQ20150809  ,ARC01      ,52      ,  1,3          ,    6396,   11885,GF-24      ,2,20150927,0236,  77.5027,-148.0085,     3829,    455.3,   0.8157,  34.8246,2,  34.8291,2,    243.3,2,     -999,9,     6.15,2,    12.28,2,     0.00,2,     0.85,2,     -999,9,     -999,9,     -999,9,     -999,9,     -999,9,     -999,9,     -999,9,     -999,     -999,9,     -999,9,     -999,9,     -999,9,     -999,9,     -999,9,     -999,9,     -999,     -999,9,     -999,9,     -999,9,     -999,     -999,9,20150927,0247,    450.0,  77.5036,-148.0095,     -999,9,  34.9933,2
33HQ20150809  ,ARC01      ,52      ,  1,2          ,    6396,   11884,GF-01      ,2,20150927,0236,  77.5027,-148.0085,     3829,    607.4,   0.6225,  34.8485,2,  34.8506,2,    247.0,2,     -999,9,     6.45,2,    12.43,2,     0.00,2,     0.85,2,     -999,9,     -999,9,     -999,9,     -999,9,     -999,9,     -999,9,     -999,9,     -999,     -999,9,     -999,9,     -999,9,     -999,9,     -999,9,     -999,9,     -999,9,     -999,     -999,9,     -999,9,     -999,9,     -999,     -999,9,20150927,0242,    600.1,  77.5033,-148.0091,     -999,9,  35.0149,2
33HQ20150809  ,ARC01      ,52      ,  1,1          ,    6396,   11883,GF-35      ,3,20150927,0236,  77.5027,-148.0085,     3829,    607.4,   0.6225,  34.8485,2,  34.8473,2,    247.0,2,     -999,9,     6.45,2,    12.47,2,     0.00,2,     0.84,2,     -999,9,     -999,9,     -999,9,     -999,9,     -999,9,     -999,9,     -999,9,     -999,     -999,9,     -999,9,     -999,9,     -999,9,     -999,9,     -999,9,     -999,9,     -999,     -999,9,     -999,9,     -999,9,     -999,     -999,9,20150927,0242,    600.1,  77.5033,-148.0091,     -999,9,  35.0116,2