BOTTLE,20221220CCHSIOAMB
EXPOCODE,SECT_ID,STNNBR,CASTNO,SAMPNO,GEOTR_EVENT,GEOTR_SAMPNO,BTLNBR,BTLNBR_FLAG_W,DATE,TIME,LATITUDE,LONGITUDE,DEPTH,CTDPRS,CTDTMP,CTDSAL,CTDSAL_FLAG_W,SALNTY,SALNTY_FLAG_W,CTDOXY,CTDOXY_FLAG_W,OXYGEN,OXYGEN_FLAG_W,SILCAT,SILCAT_FLAG_W,NITRAT,NITRAT_FLAG_W,NITRIT,NITRIT_FLAG_W,PHSPHT,PHSPHT_FLAG_W,CFC-11,CFC-11_FLAG_W,CFC-12,CFC-12_FLAG_W,CFC113,CFC113_FLAG_W,SF6,SF6_FLAG_W,TCARBN,TCARBN_FLAG_W,ALKALI,ALKALI_FLAG_W,PH_SWS,PH_SWS_FLAG_W,PH_TMP,DOC,DOC_FLAG_W,TRITUM,TRITUM_FLAG_W,HELIUM,HELIUM_FLAG_W,DELHE3,DELHE3_FLAG_W,REFTMP,REFTMP_FLAG_W,DELC13,DELC13_FLAG_W,DELC14,DELC14_FLAG_W,C14ERR,TDN,TDN_FLAG_W,DELO18,DELO18_FLAG_W,DELO17,DELO17_FLAG_W,CH4,CH4,CH4_FLAG_W,BTL_DATE,BTL_TIME,CTDDEPTH,BTL_LAT,BTL_LON,LAB_DEN,LAB_DEN_FLAG_W,SALTREF,SALTREF_FLAG_W
,,,,,,,,,,,,,METERS,DBAR,ITS-90,PSS-78,,PSS-78,,UMOL/KG,,UMOL/KG,,UMOL/KG,,UMOL/KG,,UMOL/KG,,UMOL/KG,,PMOL/KG,,PMOL/KG,,PMOL/KG,,FMOL/KG,,UMOL/KG,,UMOL/KG,,,,DEG C,UMOL/KG,,TU,,NMOL/KG,,PERCNT,,ITS-90,,/MILLE,,/MILLE,,/MILLE,UMOL/KG,,/MILLE,,/MILLE,,NMOL/KG,NMOL/L,,,,METERS,,,KG/M^3,,G/KG,
33HQ20150809  ,ARC01      ,49      ,  1,36         ,    6384,    -999,GSNIS-36   ,2,20150925,0428,  79.7500,-149.5632,     3878,      3.1,  -1.4765,  27.3458,2,  27.3488,2,    382.9,2,    385.9,2,     2.65,2,     0.02,2,     0.00,2,     0.56,2,    7.076,2,    3.800,2,    0.661,2,    3.575,2,   1886.7,2,   1969.3,2,   7.6722,6,    25.00,     71.8,2,     -999,9,     -999,9,     -999,9,  -1.4758,2,     1.41,6,     -999,1,     -999,     3.68,2,     -999,1,     -999,9,     -999,     -999,9,20150925,0620,      3.0,  79.7664,-149.5638,     -999,9,  27.4778,2
33HQ20150809  ,ARC01      ,49      ,  1,35         ,    6384,    -999,GSNIS-35   ,2,20150925,0428,  79.7500,-149.5632,     3878,     19.9,  -1.0799,  29.0665,2,  29.1509,2,    403.2,2,    396.6,2,     2.65,2,     0.01,2,     0.00,2,     0.60,2,    7.107,2,    3.828,2,    0.647,2,    3.313,2,   1988.3,2,   2087.9,6,   7.6994,2,    25.00,     72.9,2,     -999,9,     -999,9,     -999,9,  -1.0797,2,     -999,9,     -999,9,     -999,     4.01,2,     -999,1,     -999,9,     -999,     -999,9,20150925,0618,     19.7,  79.7660,-149.5635,     -999,9,  29.2883,2
33HQ20150809  ,ARC01      ,49      ,  1,34         ,    6384,    -999,GSNIS-34   ,2,20150925,0428,  79.7500,-149.5632,     3878,     31.9,  -0.8979,  29.8183,2,  29.9267,2,    395.4,2,    390.4,2,     2.94,2,     0.01,2,     0.00,2,     0.63,2,     -999,9,     -999,9,     -999,9,     -999,9,   2026.6,6,   2137.5,2,     -999,5,     -999,     73.9,2,     -999,9,     -999,9,     -999,9,  -0.8978,2,     -999,9,     -999,9,     -999,     3.38,2,     -999,1,     -999,9,     -999,     -999,9,20150925,0616,     31.6,  79.7658,-149.5634,     -999,9,  30.0678,2
33HQ20150809  ,ARC01      ,49      ,  1,33         ,    6384,    -999,GSNIS-33   ,2,20150925,0428,  79.7500,-149.5632,     3878,     51.2,  -1.0839,  30.7488,2,  30.6595,2,    382.7,2,    386.4,2,     2.94,2,     0.15,2,     0.12,2,     0.71,2,    6.762,2,    3.606,2,    0.590,2,    3.074,2,   2035.5,2,   2160.9,2,   7.7127,2,    25.00,     72.0,2,     -999,9,     -999,9,     -999,9,  -1.0881,2,     -999,9,     -999,9,     -999,     4.30,2,     -999,1,     -999,9,     -999,     -999,9,20150925,0614,     50.7,  79.7655,-149.5631,     -999,9,  30.8041,2
33HQ20150809  ,ARC01      ,49      ,  1,32         ,    6384,    -999,GSNIS-32   ,2,20150925,0428,  79.7500,-149.5632,     3878,     65.0,  -0.7632,  31.4705,2,  31.5070,2,    351.7,2,    344.5,2,    11.85,2,     4.58,2,     0.02,2,     1.06,2,     -999,9,     -999,9,     -999,9,     -999,9,   2092.7,2,   2206.6,2,   7.6445,2,    25.00,     64.0,2,     -999,9,     -999,9,     -999,9,  -0.7640,2,     -999,9,     -999,9,     -999,     6.80,2,     -999,1,     -999,9,     -999,     -999,9,20150925,0609,     64.3,  79.7648,-149.5627,     -999,9,  31.6556,2
33HQ20150809  ,ARC01      ,49      ,  1,31         ,    6384,    -999,GSNIS-31   ,2,20150925,0428,  79.7500,-149.5632,     3878,     75.4,  -1.0187,  31.7665,2,  31.8450,2,    327.5,2,    323.0,2,    16.94,2,     7.65,2,     0.01,2,     1.26,2,    6.478,2,    3.501,2,    0.479,2,    2.651,2,   2121.6,2,   2204.9,2,   7.5897,2,    25.00,     62.8,2,     -999,9,     -999,9,     -999,9,  -1.0176,2,     -999,9,     -999,9,     -999,    10.44,2,     -999,1,     -999,9,     -999,     -999,9,20150925,0608,     74.6,  79.7647,-149.5626,     -999,9,  31.9951,2
33HQ20150809  ,ARC01      ,49      ,  1,30         ,    6384,    -999,GSNIS-30   ,2,20150925,0428,  79.7500,-149.5632,     3878,     85.7,  -1.1976,  32.0126,2,  32.0821,2,    314.3,2,    312.2,2,    20.26,2,     9.23,2,     0.00,2,     1.39,2,     -999,9,     -999,9,     -999,9,     -999,9,   2140.7,2,   2215.1,2,   7.5555,2,    25.00,     62.1,2,     -999,9,     -999,9,     -999,9,  -1.1973,2,     -999,9,     -999,9,     -999,    11.42,2,     -999,1,     -999,9,     -999,     -999,9,20150925,0607,     84.7,  79.7644,-149.5625,     -999,9,  32.2334,2
33HQ20150809  ,ARC01      ,49      ,  1,29         ,    6384,    -999,GSNIS-29   ,2,20150925,0428,  79.7500,-149.5632,     3878,     95.7,  -1.2586,  32.1819,2,  32.2275,2,    307.3,2,    306.2,2,    22.61,2,    10.41,2,     0.00,2,     1.49,2,    6.409,2,    3.471,2,    0.471,2,    2.504,2,   2151.1,2,   2220.9,2,   7.5338,2,    25.00,     62.4,2,     -999,9,     -999,9,     -999,9,  -1.2584,2,     -999,9,     -999,9,     -999,    12.77,2,     -999,1,     -999,9,     -999,     -999,9,20150925,0605,     94.6,  79.7642,-149.5624,     -999,9,  32.3795,2
33HQ20150809  ,ARC01      ,49      ,  1,28         ,    6384,    -999,GSNIS-28   ,2,20150925,0428,  79.7500,-149.5632,     3878,    105.8,  -1.2940,  32.3360,2,  32.3675,2,    301.1,2,    300.1,2,    24.86,2,    11.64,2,     0.00,2,     1.58,2,     -999,9,     -999,9,     -999,9,     -999,9,   2163.9,2,   2213.9,3,   7.5080,2,    25.00,     60.6,2,     -999,9,     -999,9,     -999,9,  -1.2937,2,     -999,9,     -999,9,     -999,    13.11,2,     -999,1,     -999,9,     -999,     -999,9,20150925,0604,    104.6,  79.7640,-149.5622,     -999,9,  32.5201,2
33HQ20150809  ,ARC01      ,49      ,  1,27         ,    6384,    -999,GSNIS-27   ,2,20150925,0428,  79.7500,-149.5632,     3878,    121.2,  -1.3261,  32.5279,2,  32.5495,2,    296.3,2,    292.6,2,    27.20,2,    12.93,2,     0.00,2,     1.67,2,    6.134,2,    3.337,2,    0.448,2,    2.256,2,   2181.1,2,   2238.7,2,   7.4822,2,    25.00,     60.8,2,     -999,9,     -999,9,     -999,9,  -1.3262,2,     -999,9,     -999,9,     -999,    14.60,2,     -999,1,     -999,9,     -999,     -999,9,20150925,0602,    119.9,  79.7638,-149.5621,     -999,9,  32.7030,2
33HQ20150809  ,ARC01      ,49      ,  1,26         ,    6384,    -999,GSNIS-26   ,2,20150925,0428,  79.7500,-149.5632,     3878,    141.1,  -1.4110,  32.7274,2,  32.7368,2,    281.9,2,    282.8,2,    31.11,2,    14.33,2,     0.00,2,     1.77,2,     -999,9,     -999,9,     -999,9,     -999,9,   2202.0,2,   2251.4,2,   7.4487,2,    25.00,     61.0,2,     -999,9,     -999,9,     -999,9,  -1.4110,2,     -999,9,     -999,9,     -999,    16.25,2,     -999,1,     -999,9,     -999,     -999,9,20150925,0600,    139.6,  79.7635,-149.5619,     -999,9,  32.8911,2
33HQ20150809  ,ARC01      ,49      ,  1,25         ,    6384,    -999,GSNIS-25   ,2,20150925,0428,  79.7500,-149.5632,     3878,    161.3,  -1.4687,  32.9344,2,  32.9429,2,    273.8,2,    276.1,2,    34.63,2,    15.37,2,     0.00,2,     1.84,2,    6.207,2,    3.299,2,    0.428,2,    2.175,2,   2221.3,2,   2261.6,2,   7.4302,2,    25.00,     61.1,2,     -999,9,     -999,9,     -999,9,  -1.4686,2,     -999,9,     -999,9,     -999,    15.69,2,     -999,1,     -999,9,     -999,     -999,9,20150925,0558,    159.6,  79.7632,-149.5618,     -999,9,  33.0983,2
33HQ20150809  ,ARC01      ,49      ,  1,24         ,    6384,    -999,GSNIS-24   ,2,20150925,0428,  79.7500,-149.5632,     3878,    182.0,  -1.4747,  33.1763,2,  33.1912,2,    273.1,2,    276.4,2,    35.01,2,    15.57,2,     0.00,2,     1.82,2,     -999,9,     -999,9,     -999,9,     -999,9,   2232.7,2,   2274.8,2,   7.4409,2,    25.00,     61.9,2,     -999,9,     -999,9,     -999,9,  -1.4744,2,     -999,9,     -999,9,     -999,    17.12,2,     -999,1,     -999,9,     -999,     -999,9,20150925,0556,    180.0,  79.7629,-149.5616,     -999,9,  33.3477,2
33HQ20150809  ,ARC01      ,49      ,  1,23         ,    6384,    -999,GSNIS-23   ,2,20150925,0428,  79.7500,-149.5632,     3878,    202.2,  -1.3260,  33.5264,2,  33.5799,2,    270.5,2,    269.9,2,    30.70,2,    14.98,2,     0.00,2,     1.63,2,    5.880,2,    3.023,2,    0.378,2,    1.574,2,   2230.5,6,   2284.0,2,   7.4730,2,    25.00,     61.7,2,     -999,9,     -999,9,     -999,9,  -1.3268,2,     -999,9,     -999,9,     -999,    16.81,2,     -999,9,     -999,9,     -999,     -999,9,20150925,0555,    200.0,  79.7626,-149.5616,     -999,9,  33.7383,2
33HQ20150809  ,ARC01      ,49      ,  1,22         ,    6384,    -999,GSNIS-22   ,2,20150925,0428,  79.7500,-149.5632,     3878,    222.5,  -0.9756,  34.0121,2,  34.0221,2,    266.2,2,    268.3,2,    21.89,2,    13.59,2,     0.00,2,     1.29,2,     -999,9,     -999,9,     -999,9,     -999,9,   2212.3,2,   2282.8,2,   7.5349,2,    25.00,     60.9,2,     -999,9,     -999,9,     -999,9,  -0.9755,2,     -999,9,     -999,9,     -999,    15.04,2,     -999,1,     -999,9,     -999,     -999,9,20150925,0553,    220.1,  79.7623,-149.5619,     -999,9,  34.1825,2
33HQ20150809  ,ARC01      ,49      ,  1,21         ,    6384,    -999,GSNIS-21   ,2,20150925,0428,  79.7500,-149.5632,     3878,    242.7,  -0.5520,  34.3151,2,  34.3095,2,    270.4,2,    269.9,2,    16.22,2,    12.71,2,     0.00,2,     1.07,2,    5.687,2,    2.735,2,    0.342,2,    1.179,2,   2194.1,2,   2282.4,6,   7.5833,2,    25.00,     57.4,2,     -999,9,     -999,9,     -999,9,  -0.5524,2,     -999,9,     -999,9,     -999,    15.44,2,     -999,9,     -999,9,     -999,     -999,9,20150925,0551,    240.0,  79.7620,-149.5624,     -999,9,  34.4713,2
33HQ20150809  ,ARC01      ,49      ,  1,20         ,    6384,    -999,GSNIS-20   ,2,20150925,0428,  79.7500,-149.5632,     3878,    292.9,   0.1819,  34.6105,2,  34.6120,2,    280.5,2,    278.9,2,    10.45,2,    11.95,2,     0.00,2,     0.88,2,     -999,9,     -999,9,     -999,9,     -999,9,   2179.3,2,   2286.9,2,   7.6357,2,    25.00,     55.7,2,     -999,9,     -999,9,     -999,9,   0.1816,2,     -999,9,     -999,9,     -999,    13.35,2,     -999,1,     -999,9,     -999,     -999,9,20150925,0549,    289.6,  79.7617,-149.5626,     -999,9,  34.7752,2
33HQ20150809  ,ARC01      ,49      ,  1,19         ,    6384,    -999,GSNIS-19   ,2,20150925,0428,  79.7500,-149.5632,     3878,    344.0,   0.6702,  34.7773,2,  34.7763,2,    288.1,2,    290.4,2,     6.64,2,    12.11,2,     0.00,2,     0.82,2,    5.546,2,    2.770,2,    0.384,2,    1.348,2,   2166.1,2,   2291.2,2,   7.6900,2,    25.00,     52.4,2,     -999,9,     -999,9,     -999,9,   0.6701,2,     -999,9,     -999,9,     -999,    13.85,2,     -999,9,     -999,9,     -999,     -999,9,20150925,0547,    340.1,  79.7614,-149.5625,     -999,9,  34.9403,2
33HQ20150809  ,ARC01      ,49      ,  1,18         ,    6384,    -999,GSNIS-18   ,2,20150925,0428,  79.7500,-149.5632,     3878,    394.6,   0.7671,  34.8034,2,  34.8030,2,    292.9,2,    292.7,2,     6.25,2,    12.11,2,     0.00,2,     0.82,2,     -999,9,     -999,9,     -999,9,     -999,9,   2162.9,2,   2294.6,2,   7.6960,2,    25.00,     52.5,2,     -999,9,     -999,9,     -999,9,   0.7672,2,     -999,9,     -999,9,     -999,    14.37,2,     -999,1,     -999,9,     -999,     -999,9,20150925,0545,    390.0,  79.7611,-149.5624,     -999,9,  34.9672,2
33HQ20150809  ,ARC01      ,49      ,  1,17         ,    6384,    -999,GSNIS-17   ,2,20150925,0428,  79.7500,-149.5632,     3878,    445.0,   0.8628,  34.8358,2,  34.8359,2,    294.0,2,    295.2,2,     6.15,2,    12.22,2,     0.00,2,     0.81,2,    5.446,2,    2.712,2,    0.386,2,    1.281,2,   2162.0,2,   2295.8,2,   7.7003,2,    25.00,     50.2,2,     -999,9,     -999,9,     -999,9,   0.8628,2,     -999,9,     -999,9,     -999,    13.34,2,     -999,9,     -999,9,     -999,     -999,9,20150925,0543,    439.8,  79.7608,-149.5623,     -999,9,  35.0001,2
33HQ20150809  ,ARC01      ,49      ,  1,16         ,    6384,    -999,GSNIS-16   ,2,20150925,0428,  79.7500,-149.5632,     3878,    494.9,   0.8470,  34.8444,2,  34.8439,2,    293.8,2,    295.7,2,     6.25,2,    12.33,2,     0.00,2,     0.82,2,     -999,9,     -999,9,     -999,9,     -999,9,   2161.7,2,   2295.7,2,   7.7014,2,    25.00,     51.3,2,     -999,9,     -999,9,     -999,9,   0.8472,2,     -999,9,     -999,9,     -999,    13.65,2,     -999,1,     -999,9,     -999,     -999,9,20150925,0542,    489.1,  79.7606,-149.5622,     -999,9,  35.0082,2
33HQ20150809  ,ARC01      ,49      ,  1,15         ,    6384,    -999,GSNIS-15   ,2,20150925,0428,  79.7500,-149.5632,     3878,    596.0,   0.6559,  34.8557,2,  34.8563,2,    295.6,2,    297.4,2,     6.25,2,    12.37,2,     0.00,2,     0.82,2,    4.767,2,    2.296,2,    0.299,2,    0.961,2,   2161.0,2,   2295.0,2,   7.7058,2,    25.00,     50.9,2,     -999,9,     -999,9,     -999,9,   0.6558,2,     -999,9,     -999,9,     -999,    14.15,2,     -999,9,     -999,9,     -999,     -999,9,20150925,0539,    588.9,  79.7602,-149.5621,     -999,9,  35.0207,2
33HQ20150809  ,ARC01      ,49      ,  1,14         ,    6384,    -999,GSNIS-14   ,2,20150925,0428,  79.7500,-149.5632,     3878,    746.8,   0.3647,  34.8636,2,  34.8605,2,    298.4,2,    300.6,2,     6.25,2,    12.28,2,     0.00,2,     0.82,2,    4.671,2,    2.240,2,    0.298,2,    0.937,2,   2183.3,4,   2297.1,2,   7.7023,2,    25.00,     50.4,2,     -999,9,     -999,9,     -999,9,   0.3649,2,     -999,9,     -999,9,     -999,    13.33,2,     -999,9,     -999,9,     -999,     -999,9,20150925,0535,    737.6,  79.7596,-149.5619,     -999,9,  35.0248,2
33HQ20150809  ,ARC01      ,49      ,  1,13         ,    6384,    -999,GSNIS-13   ,2,20150925,0428,  79.7500,-149.5632,     3878,    896.9,   0.1349,  34.8707,2,  34.8703,2,    300.2,2,    299.9,2,     6.64,2,    12.49,2,     0.00,2,     0.85,2,    3.634,2,    1.721,2,    0.197,2,    0.608,2,   2156.5,2,   2293.5,2,   7.7102,2,    25.00,     50.2,2,     -999,9,     -999,9,     -999,9,   0.1354,2,     -999,9,     -999,9,     -999,    13.82,2,     -999,9,     -999,9,     -999,     -999,9,20150925,0530,    885.5,  79.7589,-149.5618,     -999,9,  35.0347,2
33HQ20150809  ,ARC01      ,49      ,  1,12         ,    6384,    -999,GSNIS-12   ,2,20150925,0428,  79.7500,-149.5632,     3878,   1047.3,  -0.0253,  34.8813,2,  34.8803,2,    299.4,2,    299.9,2,     7.03,2,    12.64,2,     0.00,2,     0.85,2,    2.788,2,    1.304,2,    0.152,2,    0.452,2,   2156.4,2,   2295.3,2,   7.7151,2,    25.00,     51.9,2,     -999,9,     -999,9,     -999,9,  -0.0245,2,     -999,9,     -999,9,     -999,    14.25,2,     -999,9,     -999,9,     -999,     -999,9,20150925,0527,   1033.7,  79.7585,-149.5617,     -999,9,  35.0448,2
33HQ20150809  ,ARC01      ,49      ,  1,11         ,    6384,    -999,GSNIS-11   ,2,20150925,0428,  79.7500,-149.5632,     3878,   1197.3,  -0.1297,  34.8916,2,  34.8903,2,    299.6,2,    299.7,2,     7.42,2,    12.81,2,     0.00,2,     0.86,2,    2.076,2,    0.993,2,    0.099,2,    0.268,2,   2152.3,2,   2296.8,2,   7.7197,2,    25.00,     49.5,2,     -999,9,     -999,9,     -999,9,  -0.1294,2,     -999,9,     -999,9,     -999,    14.14,2,     -999,9,     -999,9,     -999,     -999,9,20150925,0523,   1181.2,  79.7579,-149.5616,     -999,9,  35.0549,2
33HQ20150809  ,ARC01      ,49      ,  1,10         ,    6384,    -999,GSNIS-10   ,2,20150925,0428,  79.7500,-149.5632,     3878,   1397.8,  -0.2315,  34.9074,2,  34.9041,2,    298.7,2,    298.5,2,     8.11,2,    13.14,2,     0.00,2,     0.90,2,    0.976,2,    0.459,2,    0.037,2,    0.048,2,   2151.0,2,   2295.2,2,   7.7298,2,    25.00,     47.5,2,     -999,9,     -999,9,     -999,9,  -0.2316,2,     -999,9,     -999,9,     -999,    14.93,2,     -999,9,     -999,9,     -999,     -999,9,20150925,0519,   1378.4,  79.7573,-149.5615,     -999,9,  35.0687,2
33HQ20150809  ,ARC01      ,49      ,  1,9          ,    6384,    -999,GSNIS-9    ,2,20150925,0428,  79.7500,-149.5632,     3878,   1649.6,  -0.3413,  34.9229,2,  34.9244,2,    297.4,2,    296.9,2,     9.08,2,    13.56,2,     0.00,2,     0.93,2,    0.680,2,    0.311,2,    0.022,2,    0.028,2,   2147.8,2,   2296.7,2,   7.7369,2,    25.00,     47.2,2,     -999,9,     -999,9,     -999,9,  -0.3420,2,     -999,9,     -999,9,     -999,    14.90,2,     -999,9,     -999,9,     -999,     -999,9,20150925,0513,   1625.8,  79.7565,-149.5615,     -999,9,  35.0891,2
33HQ20150809  ,ARC01      ,49      ,  1,8          ,    6384,    -999,GSNIS-8    ,2,20150925,0428,  79.7500,-149.5632,     3878,   1952.2,  -0.4003,  34.9390,2,  34.9389,2,    293.2,2,    293.0,2,    10.55,2,    14.04,2,     0.00,2,     0.97,2,    0.199,2,    0.085,2,    0.004,2,    0.000,2,   2148.1,2,   2297.1,2,   7.7372,2,    25.00,     46.2,2,     -999,9,     -999,9,     -999,9,  -0.4002,2,     -999,9,     -999,9,     -999,    15.88,2,     -999,9,     -999,9,     -999,     -999,9,20150925,0507,   1922.6,  79.7556,-149.5615,     -999,9,  35.1037,2
33HQ20150809  ,ARC01      ,49      ,  1,7          ,    6384,    -999,GSNIS-7    ,2,20150925,0428,  79.7500,-149.5632,     3878,   2256.1,  -0.3992,  34.9484,2,  34.9476,2,    289.4,2,    288.8,2,    11.92,2,    14.35,2,     0.00,2,     0.99,2,    0.077,2,    0.030,2,    0.002,2,    0.012,2,   2152.1,2,   2297.6,2,   7.7365,2,    25.00,     46.7,2,     -999,9,     -999,9,     -999,9,  -0.3993,2,     -999,9,     -999,9,     -999,    16.11,2,     -999,9,     -999,9,     -999,     -999,9,20150925,0501,   2220.3,  79.7548,-149.5616,     -999,9,  35.1124,2
33HQ20150809  ,ARC01      ,49      ,  1,6          ,    6384,    -999,GSNIS-6    ,2,20150925,0428,  79.7500,-149.5632,     3878,   2561.4,  -0.3773,  34.9534,2,  34.9525,2,    286.8,2,    286.8,2,    12.70,2,    14.46,2,     0.00,2,     1.00,2,    0.029,2,    0.009,2,    0.000,2,    0.000,2,   2152.6,2,   2297.1,2,   7.7346,2,    25.00,     46.9,2,     -999,9,     -999,9,     -999,9,  -0.3773,2,     -999,9,     -999,9,     -999,    15.10,2,     -999,9,     -999,9,     -999,     -999,9,20150925,0455,   2519.0,  79.7539,-149.5617,     -999,9,  35.1173,2
33HQ20150809  ,ARC01      ,49      ,  1,5          ,    6384,    -999,GSNIS-5    ,2,20150925,0428,  79.7500,-149.5632,     3878,   2867.0,  -0.3439,  34.9565,2,  34.9568,2,    284.5,2,    284.3,2,    13.28,2,    14.52,2,     0.00,2,     1.00,2,    0.015,2,    0.004,2,    0.000,2,    0.000,2,   2149.8,2,   2301.0,2,   7.7313,2,    25.00,     44.1,2,     -999,9,     -999,9,     -999,9,  -0.3439,2,     -999,9,     -999,9,     -999,    14.08,2,     -999,9,     -999,9,     -999,     -999,9,20150925,0449,   2817.5,  79.7530,-149.5619,     -999,9,  35.1217,2
33HQ20150809  ,ARC01      ,49      ,  1,4          ,    6384,    -999,GSNIS-4    ,2,20150925,0428,  79.7500,-149.5632,     3878,   3138.9,  -0.3203,  34.9566,2,  34.9560,2,    283.8,2,    286.4,4,    13.38,2,    14.52,2,     0.00,2,     1.00,2,    0.017,2,    0.004,2,    0.001,2,    0.000,2,   2153.8,6,   2300.6,2,   7.7331,2,    25.00,     44.7,2,     -999,9,     -999,9,     -999,9,  -0.3204,2,     -999,9,     -999,9,     -999,    14.74,2,     -999,9,     -999,9,     -999,     -999,9,20150925,0444,   3082.7,  79.7523,-149.5621,     -999,9,  35.1209,2