BOTTLE,20221220CCHSIOAMB
EXPOCODE,SECT_ID,STNNBR,CASTNO,SAMPNO,GEOTR_EVENT,GEOTR_SAMPNO,BTLNBR,BTLNBR_FLAG_W,DATE,TIME,LATITUDE,LONGITUDE,DEPTH,CTDPRS,CTDTMP,CTDSAL,CTDSAL_FLAG_W,SALNTY,SALNTY_FLAG_W,CTDOXY,CTDOXY_FLAG_W,OXYGEN,OXYGEN_FLAG_W,SILCAT,SILCAT_FLAG_W,NITRAT,NITRAT_FLAG_W,NITRIT,NITRIT_FLAG_W,PHSPHT,PHSPHT_FLAG_W,CFC-11,CFC-11_FLAG_W,CFC-12,CFC-12_FLAG_W,CFC113,CFC113_FLAG_W,SF6,SF6_FLAG_W,TCARBN,TCARBN_FLAG_W,ALKALI,ALKALI_FLAG_W,PH_SWS,PH_SWS_FLAG_W,PH_TMP,DOC,DOC_FLAG_W,TRITUM,TRITUM_FLAG_W,HELIUM,HELIUM_FLAG_W,DELHE3,DELHE3_FLAG_W,REFTMP,REFTMP_FLAG_W,DELC13,DELC13_FLAG_W,DELC14,DELC14_FLAG_W,C14ERR,TDN,TDN_FLAG_W,DELO18,DELO18_FLAG_W,DELO17,DELO17_FLAG_W,CH4,CH4,CH4_FLAG_W,BTL_DATE,BTL_TIME,CTDDEPTH,BTL_LAT,BTL_LON,LAB_DEN,LAB_DEN_FLAG_W,SALTREF,SALTREF_FLAG_W
,,,,,,,,,,,,,METERS,DBAR,ITS-90,PSS-78,,PSS-78,,UMOL/KG,,UMOL/KG,,UMOL/KG,,UMOL/KG,,UMOL/KG,,UMOL/KG,,PMOL/KG,,PMOL/KG,,PMOL/KG,,FMOL/KG,,UMOL/KG,,UMOL/KG,,,,DEG C,UMOL/KG,,TU,,NMOL/KG,,PERCNT,,ITS-90,,/MILLE,,/MILLE,,/MILLE,UMOL/KG,,/MILLE,,/MILLE,,NMOL/KG,NMOL/L,,,,METERS,,,KG/M^3,,G/KG,
33HQ20150809  ,ARC01      ,52      ,  4,35         ,    6401,   11962,GSNIS-35   ,2,20150927,1052,  77.5101,-147.9640,     3831,      5.5,  -1.3927,  27.5369,2,     -999,9,    387.0,2,     -999,9,     2.85,2,     0.00,2,     0.00,2,     0.55,2,     -999,9,     -999,9,     -999,9,     -999,9,     -999,9,     -999,9,     -999,9,     -999,     -999,9,     -999,9,     -999,9,     -999,9,  -1.3975,2,     -999,9,     -999,9,     -999,     -999,9,     -999,9,     -999,9,     -999,     -999,9,20150927,1123,      5.5,  77.5086,-147.9696,     -999,9,     -999,9
33HQ20150809  ,ARC01      ,52      ,  4,36         ,    6401,   11962,GSNIS-36   ,2,20150927,1052,  77.5101,-147.9640,     3831,      5.6,  -1.3976,  27.5375,2,     -999,9,    387.0,2,     -999,9,     2.95,2,     0.01,2,     0.00,2,     0.55,2,     -999,9,     -999,9,     -999,9,     -999,9,     -999,9,     -999,9,     -999,9,     -999,     -999,9,     -999,9,     -999,9,     -999,9,  -1.3937,2,     -999,9,     -999,9,     -999,     -999,9,     -999,9,     -999,9,     -999,     -999,9,20150927,1124,      5.5,  77.5086,-147.9696,     -999,9,     -999,9
33HQ20150809  ,ARC01      ,52      ,  4,34         ,    6401,   11962,GSNIS-34   ,2,20150927,1052,  77.5101,-147.9640,     3831,      5.6,  -1.3968,  27.5362,2,  27.5312,2,    387.0,2,    386.5,2,     2.95,2,     0.00,2,     0.00,2,     0.55,2,     -999,9,     -999,9,     -999,9,     -999,9,     -999,9,     -999,9,     -999,9,     -999,     -999,9,     -999,9,     -999,9,     -999,9,  -1.4046,2,     -999,9,     -999,9,     -999,     -999,9,     -999,9,     -999,9,     -999,     -999,9,20150927,1123,      5.5,  77.5086,-147.9696,     -999,9,  27.6610,2
33HQ20150809  ,ARC01      ,52      ,  4,33         ,    6401,   11961,GSNIS-33   ,2,20150927,1052,  77.5101,-147.9640,     3831,     19.5,  -1.4041,  27.6000,2,     -999,9,    387.1,2,     -999,9,     2.75,2,     0.00,2,     0.00,2,     0.58,2,     -999,9,     -999,9,     -999,9,     -999,9,     -999,9,     -999,9,     -999,9,     -999,     -999,9,     -999,9,     -999,9,     -999,9,  -1.4012,2,     -999,9,     -999,9,     -999,     -999,9,     -999,9,     -999,9,     -999,     -999,9,20150927,1122,     19.3,  77.5087,-147.9692,     -999,9,     -999,9
33HQ20150809  ,ARC01      ,52      ,  4,32         ,    6401,   11961,GSNIS-32   ,2,20150927,1052,  77.5101,-147.9640,     3831,     19.5,  -1.4041,  27.6009,2,     -999,9,    387.1,2,     -999,9,     2.85,2,     0.00,2,     0.00,2,     0.57,2,     -999,9,     -999,9,     -999,9,     -999,9,     -999,9,     -999,9,     -999,9,     -999,     -999,9,     -999,9,     -999,9,     -999,9,  -1.4017,2,     -999,9,     -999,9,     -999,     -999,9,     -999,9,     -999,9,     -999,     -999,9,20150927,1122,     19.3,  77.5087,-147.9691,     -999,9,     -999,9
33HQ20150809  ,ARC01      ,52      ,  4,31         ,    6401,   11961,GSNIS-31   ,2,20150927,1052,  77.5101,-147.9640,     3831,     19.6,  -1.4036,  27.6050,2,  28.9156,4,    387.1,2,    394.7,2,     2.85,2,     0.00,2,     0.00,2,     0.58,2,     -999,9,     -999,9,     -999,9,     -999,9,     -999,9,     -999,9,     -999,9,     -999,     -999,9,     -999,9,     -999,9,     -999,9,  -1.3995,2,     -999,9,     -999,9,     -999,     -999,9,     -999,9,     -999,9,     -999,     -999,9,20150927,1122,     19.4,  77.5087,-147.9691,     -999,9,  29.0519,4
33HQ20150809  ,ARC01      ,52      ,  4,29         ,    6401,   11960,GSNIS-29   ,2,20150927,1052,  77.5101,-147.9640,     3831,     36.9,  -1.2266,  29.3850,2,     -999,9,    394.2,2,     -999,9,     2.94,2,     0.00,2,     0.00,2,     0.60,2,     -999,9,     -999,9,     -999,9,     -999,9,     -999,9,     -999,9,     -999,9,     -999,     -999,9,     -999,9,     -999,9,     -999,9,  -1.2321,2,     -999,9,     -999,9,     -999,     -999,9,     -999,9,     -999,9,     -999,     -999,9,20150927,1120,     36.5,  77.5088,-147.9687,     -999,9,     -999,9
33HQ20150809  ,ARC01      ,52      ,  4,30         ,    6401,   11960,GSNIS-30   ,2,20150927,1052,  77.5101,-147.9640,     3831,     36.9,  -1.2319,  29.3778,2,     -999,9,    394.3,2,     -999,9,     2.94,2,     0.00,2,     0.00,2,     0.60,2,     -999,9,     -999,9,     -999,9,     -999,9,     -999,9,     -999,9,     -999,9,     -999,     -999,9,     -999,9,     -999,9,     -999,9,  -1.2337,2,     -999,9,     -999,9,     -999,     -999,9,     -999,9,     -999,9,     -999,     -999,9,20150927,1120,     36.5,  77.5088,-147.9687,     -999,9,     -999,9
33HQ20150809  ,ARC01      ,52      ,  4,28         ,    6401,   11960,GSNIS-28   ,2,20150927,1052,  77.5101,-147.9640,     3831,     36.9,  -1.2401,  29.3800,2,  29.4782,2,    394.3,2,    392.8,2,     2.94,2,     0.00,2,     0.00,2,     0.59,2,     -999,9,     -999,9,     -999,9,     -999,9,     -999,9,     -999,9,     -999,9,     -999,     -999,9,     -999,9,     -999,9,     -999,9,  -1.2245,2,     -999,9,     -999,9,     -999,     -999,9,     -999,9,     -999,9,     -999,     -999,9,20150927,1120,     36.5,  77.5088,-147.9687,     -999,9,  29.6172,2
33HQ20150809  ,ARC01      ,52      ,  4,26         ,    6401,   11959,GSNIS-26   ,2,20150927,1052,  77.5101,-147.9640,     3831,     61.2,  -0.0868,  30.8658,2,     -999,9,    371.9,2,     -999,9,     6.07,2,     0.83,2,     0.06,2,     0.80,2,     -999,9,     -999,9,     -999,9,     -999,9,     -999,9,     -999,9,     -999,9,     -999,     -999,9,     -999,9,     -999,9,     -999,9,  -0.0860,2,     -999,9,     -999,9,     -999,     -999,9,     -999,9,     -999,9,     -999,     -999,9,20150927,1118,     60.6,  77.5089,-147.9683,     -999,9,     -999,9
33HQ20150809  ,ARC01      ,52      ,  4,25         ,    6401,   11959,GSNIS-25   ,2,20150927,1052,  77.5101,-147.9640,     3831,     61.2,  -0.0861,  30.8684,2,  30.9659,2,    371.9,2,    370.4,2,     5.88,2,     0.71,2,     0.06,2,     0.80,2,     -999,9,     -999,9,     -999,9,     -999,9,     -999,9,     -999,9,     -999,9,     -999,     -999,9,     -999,9,     -999,9,     -999,9,  -0.0855,2,     -999,9,     -999,9,     -999,     -999,9,     -999,9,     -999,9,     -999,     -999,9,20150927,1118,     60.6,  77.5089,-147.9683,     -999,9,  31.1119,2
33HQ20150809  ,ARC01      ,52      ,  4,27         ,    6401,   11959,GSNIS-27   ,2,20150927,1052,  77.5101,-147.9640,     3831,     61.3,  -0.0868,  30.8654,2,     -999,9,    371.9,2,     -999,9,     5.88,2,     0.68,2,     0.06,2,     0.79,2,     -999,9,     -999,9,     -999,9,     -999,9,     -999,9,     -999,9,     -999,9,     -999,     -999,9,     -999,9,     -999,9,     -999,9,     -999,9,     -999,9,     -999,9,     -999,     -999,9,     -999,9,     -999,9,     -999,     -999,9,20150927,1118,     60.6,  77.5089,-147.9683,     -999,9,     -999,9
33HQ20150809  ,ARC01      ,52      ,  4,22         ,    6401,   11958,GSNIS-22   ,2,20150927,1052,  77.5101,-147.9640,     3831,     76.4,  -0.4534,  31.5306,2,  31.6046,2,    340.9,2,    339.8,2,    11.16,2,     5.24,2,     0.00,2,     1.11,2,     -999,9,     -999,9,     -999,9,     -999,9,     -999,9,     -999,9,     -999,9,     -999,     -999,9,     -999,9,     -999,9,     -999,9,  -0.4487,2,     -999,9,     -999,9,     -999,     -999,9,     -999,9,     -999,9,     -999,     -999,9,20150927,1116,     75.6,  77.5091,-147.9679,     -999,9,  31.7536,2
33HQ20150809  ,ARC01      ,52      ,  4,24         ,    6401,   11958,GSNIS-24   ,2,20150927,1052,  77.5101,-147.9640,     3831,     76.4,  -0.4541,  31.5311,2,     -999,9,    340.9,2,     -999,9,    11.06,2,     5.19,2,     0.00,2,     1.11,2,     -999,9,     -999,9,     -999,9,     -999,9,     -999,9,     -999,9,     -999,9,     -999,     -999,9,     -999,9,     -999,9,     -999,9,  -0.4517,2,     -999,9,     -999,9,     -999,     -999,9,     -999,9,     -999,9,     -999,     -999,9,20150927,1116,     75.6,  77.5091,-147.9679,     -999,9,     -999,9
33HQ20150809  ,ARC01      ,52      ,  4,23         ,    6401,   11958,GSNIS-23   ,2,20150927,1052,  77.5101,-147.9640,     3831,     76.5,  -0.4541,  31.5312,2,     -999,9,    340.9,2,     -999,9,    11.16,2,     5.23,2,     0.00,2,     1.12,2,     -999,9,     -999,9,     -999,9,     -999,9,     -999,9,     -999,9,     -999,9,     -999,     -999,9,     -999,9,     -999,9,     -999,9,  -0.4503,2,     -999,9,     -999,9,     -999,     -999,9,     -999,9,     -999,9,     -999,     -999,9,20150927,1116,     75.6,  77.5091,-147.9679,     -999,9,     -999,9
33HQ20150809  ,ARC01      ,52      ,  4,21         ,    6401,   11957,GSNIS-21   ,2,20150927,1052,  77.5101,-147.9640,     3831,     91.5,  -0.8563,  31.9592,2,     -999,9,    321.2,2,     -999,9,    17.23,2,     8.66,2,     0.00,2,     1.36,2,     -999,9,     -999,9,     -999,9,     -999,9,     -999,9,     -999,9,     -999,9,     -999,     -999,9,     -999,9,     -999,9,     -999,9,  -0.8561,2,     -999,9,     -999,9,     -999,     -999,9,     -999,9,     -999,9,     -999,     -999,9,20150927,1114,     90.5,  77.5092,-147.9676,     -999,9,     -999,9
33HQ20150809  ,ARC01      ,52      ,  4,19         ,    6401,   11957,GSNIS-19   ,2,20150927,1052,  77.5101,-147.9640,     3831,     91.5,  -0.8569,  31.9593,2,  31.9893,2,    321.2,2,    319.9,2,    17.23,2,     8.69,2,     0.00,2,     1.36,2,     -999,9,     -999,9,     -999,9,     -999,9,     -999,9,     -999,9,     -999,9,     -999,     -999,9,     -999,9,     -999,9,     -999,9,  -0.8570,2,     -999,9,     -999,9,     -999,     -999,9,     -999,9,     -999,9,     -999,     -999,9,20150927,1114,     90.5,  77.5092,-147.9675,     -999,9,  32.1402,2
33HQ20150809  ,ARC01      ,52      ,  4,20         ,    6401,   11957,GSNIS-20   ,2,20150927,1052,  77.5101,-147.9640,     3831,     91.5,  -0.8565,  31.9599,2,     -999,9,    321.2,2,     -999,9,    17.62,2,     8.81,2,     0.00,2,     1.37,2,     -999,9,     -999,9,     -999,9,     -999,9,     -999,9,     -999,9,     -999,9,     -999,     -999,9,     -999,9,     -999,9,     -999,9,  -0.8565,2,     -999,9,     -999,9,     -999,     -999,9,     -999,9,     -999,9,     -999,     -999,9,20150927,1114,     90.5,  77.5092,-147.9676,     -999,9,     -999,9
33HQ20150809  ,ARC01      ,52      ,  4,18         ,    6401,   11956,GSNIS-18   ,2,20150927,1052,  77.5101,-147.9640,     3831,    121.9,  -1.2823,  32.3830,2,     -999,9,    307.0,2,     -999,9,    25.25,2,    11.80,2,     0.00,2,     1.59,2,     -999,9,     -999,9,     -999,9,     -999,9,     -999,9,     -999,9,     -999,9,     -999,     -999,9,     -999,9,     -999,9,     -999,9,  -1.2823,2,     -999,9,     -999,9,     -999,     -999,9,     -999,9,     -999,9,     -999,     -999,9,20150927,1112,    120.6,  77.5093,-147.9671,     -999,9,     -999,9
33HQ20150809  ,ARC01      ,52      ,  4,17         ,    6401,   11956,GSNIS-17   ,2,20150927,1052,  77.5101,-147.9640,     3831,    121.9,  -1.2824,  32.3830,2,     -999,9,    307.0,2,     -999,9,    24.95,2,    11.79,2,     0.00,2,     1.58,2,     -999,9,     -999,9,     -999,9,     -999,9,     -999,9,     -999,9,     -999,9,     -999,     -999,9,     -999,9,     -999,9,     -999,9,  -1.2823,2,     -999,9,     -999,9,     -999,     -999,9,     -999,9,     -999,9,     -999,     -999,9,20150927,1112,    120.6,  77.5093,-147.9671,     -999,9,     -999,9
33HQ20150809  ,ARC01      ,52      ,  4,16         ,    6401,   11956,GSNIS-16   ,2,20150927,1052,  77.5101,-147.9640,     3831,    122.0,  -1.2824,  32.3824,2,  32.3876,2,    307.0,2,    306.0,2,    25.15,2,    12.63,2,     0.00,2,     1.58,2,     -999,9,     -999,9,     -999,9,     -999,9,     -999,9,     -999,9,     -999,9,     -999,     -999,9,     -999,9,     -999,9,     -999,9,  -1.2823,2,     -999,9,     -999,9,     -999,     -999,9,     -999,9,     -999,9,     -999,     -999,9,20150927,1112,    120.6,  77.5093,-147.9671,     -999,9,  32.5403,2
33HQ20150809  ,ARC01      ,52      ,  4,15         ,    6401,   11955,GSNIS-15   ,2,20150927,1052,  77.5101,-147.9640,     3831,    152.3,  -1.3980,  32.6728,2,     -999,9,    292.5,2,     -999,9,    29.74,2,    13.84,2,     0.00,2,     1.71,2,     -999,9,     -999,9,     -999,9,     -999,9,     -999,9,     -999,9,     -999,9,     -999,     -999,9,     -999,9,     -999,9,     -999,9,  -1.3975,2,     -999,9,     -999,9,     -999,     -999,9,     -999,9,     -999,9,     -999,     -999,9,20150927,1109,    150.7,  77.5094,-147.9667,     -999,9,     -999,9
33HQ20150809  ,ARC01      ,52      ,  4,13         ,    6401,   11955,GSNIS-13   ,2,20150927,1052,  77.5101,-147.9640,     3831,    152.3,  -1.3970,  32.6730,2,  32.6894,2,    292.5,2,    290.5,2,    29.74,2,    13.84,2,     0.00,2,     1.72,2,     -999,9,     -999,9,     -999,9,     -999,9,     -999,9,     -999,9,     -999,9,     -999,     -999,9,     -999,9,     -999,9,     -999,9,  -1.3969,2,     -999,9,     -999,9,     -999,     -999,9,     -999,9,     -999,9,     -999,     -999,9,20150927,1109,    150.7,  77.5094,-147.9666,     -999,9,  32.8436,2
33HQ20150809  ,ARC01      ,52      ,  4,14         ,    6401,   11955,GSNIS-14   ,2,20150927,1052,  77.5101,-147.9640,     3831,    152.3,  -1.3974,  32.6729,2,     -999,9,    292.5,2,     -999,9,    29.84,2,    13.84,2,     0.00,2,     1.72,2,     -999,9,     -999,9,     -999,9,     -999,9,     -999,9,     -999,9,     -999,9,     -999,     -999,9,     -999,9,     -999,9,     -999,9,  -1.3977,2,     -999,9,     -999,9,     -999,     -999,9,     -999,9,     -999,9,     -999,     -999,9,20150927,1109,    150.7,  77.5094,-147.9666,     -999,9,     -999,9
33HQ20150809  ,ARC01      ,52      ,  4,10         ,    6401,   11954,GSNIS-10   ,2,20150927,1052,  77.5101,-147.9640,     3831,    191.6,  -1.4659,  33.0571,2,  33.0744,2,    279.3,2,    277.2,2,    35.31,2,    15.75,2,     0.00,2,     1.82,2,     -999,9,     -999,9,     -999,9,     -999,9,     -999,9,     -999,9,     -999,9,     -999,     -999,9,     -999,9,     -999,9,     -999,9,  -1.4651,2,     -999,9,     -999,9,     -999,     -999,9,     -999,9,     -999,9,     -999,     -999,9,20150927,1106,    189.5,  77.5096,-147.9662,     -999,9,  33.2303,2
33HQ20150809  ,ARC01      ,52      ,  4,11         ,    6401,   11954,GSNIS-11   ,2,20150927,1052,  77.5101,-147.9640,     3831,    191.6,  -1.4656,  33.0575,2,     -999,9,    279.3,2,     -999,9,    35.31,2,    15.74,2,     0.00,2,     1.83,2,     -999,9,     -999,9,     -999,9,     -999,9,     -999,9,     -999,9,     -999,9,     -999,     -999,9,     -999,9,     -999,9,     -999,9,     -999,9,     -999,9,     -999,9,     -999,     -999,9,     -999,9,     -999,9,     -999,     -999,9,20150927,1106,    189.5,  77.5096,-147.9662,     -999,9,     -999,9
33HQ20150809  ,ARC01      ,52      ,  4,12         ,    6401,   11954,GSNIS-12   ,2,20150927,1052,  77.5101,-147.9640,     3831,    191.6,  -1.4649,  33.0591,2,     -999,9,    279.3,2,     -999,9,    35.31,2,    15.75,2,     0.00,2,     1.83,2,     -999,9,     -999,9,     -999,9,     -999,9,     -999,9,     -999,9,     -999,9,     -999,     -999,9,     -999,9,     -999,9,     -999,9,  -1.4652,2,     -999,9,     -999,9,     -999,     -999,9,     -999,9,     -999,9,     -999,     -999,9,20150927,1107,    189.5,  77.5095,-147.9663,     -999,9,     -999,9
33HQ20150809  ,ARC01      ,52      ,  4,8          ,    6401,   11953,GSNIS-8    ,2,20150927,1052,  77.5101,-147.9640,     3831,    247.7,  -0.8933,  34.0812,2,     -999,9,    269.5,2,     -999,9,    20.33,2,    13.22,2,     0.00,2,     1.20,2,     -999,9,     -999,9,     -999,9,     -999,9,     -999,9,     -999,9,     -999,9,     -999,     -999,9,     -999,9,     -999,9,     -999,9,  -0.8907,2,     -999,9,     -999,9,     -999,     -999,9,     -999,9,     -999,9,     -999,     -999,9,20150927,1104,    245.0,  77.5097,-147.9658,     -999,9,     -999,9
33HQ20150809  ,ARC01      ,52      ,  4,7          ,    6401,   11953,GSNIS-7    ,2,20150927,1052,  77.5101,-147.9640,     3831,    247.7,  -0.8930,  34.0812,2,  34.0848,2,    269.5,2,    268.9,2,    20.42,2,    13.25,2,     0.00,2,     1.21,2,     -999,9,     -999,9,     -999,9,     -999,9,     -999,9,     -999,9,     -999,9,     -999,     -999,9,     -999,9,     -999,9,     -999,9,  -0.8930,2,     -999,9,     -999,9,     -999,     -999,9,     -999,9,     -999,9,     -999,     -999,9,20150927,1104,    244.9,  77.5097,-147.9658,     -999,9,  34.2456,2
33HQ20150809  ,ARC01      ,52      ,  4,9          ,    6401,   11953,GSNIS-9    ,2,20150927,1052,  77.5101,-147.9640,     3831,    247.7,  -0.8939,  34.0808,2,     -999,9,    269.5,2,     -999,9,    20.13,2,    13.24,2,     0.00,2,     1.21,2,     -999,9,     -999,9,     -999,9,     -999,9,     -999,9,     -999,9,     -999,9,     -999,     -999,9,     -999,9,     -999,9,     -999,9,  -0.8928,2,     -999,9,     -999,9,     -999,     -999,9,     -999,9,     -999,9,     -999,     -999,9,20150927,1104,    244.9,  77.5097,-147.9658,     -999,9,     -999,9
33HQ20150809  ,ARC01      ,52      ,  4,4          ,    6401,   11952,GSNIS-4    ,2,20150927,1052,  77.5101,-147.9640,     3831,    455.6,   0.8189,  34.8301,2,  34.8356,2,    296.2,2,    294.7,2,     6.45,2,    12.30,2,     0.00,2,     0.81,2,     -999,9,     -999,9,     -999,9,     -999,9,     -999,9,     -999,9,     -999,9,     -999,     -999,9,     -999,9,     -999,9,     -999,9,   0.8190,2,     -999,9,     -999,9,     -999,     -999,9,     -999,9,     -999,9,     -999,     -999,9,20150927,1058,    450.3,  77.5099,-147.9649,     -999,9,  34.9998,2
33HQ20150809  ,ARC01      ,52      ,  4,6          ,    6401,   11952,GSNIS-6    ,2,20150927,1052,  77.5101,-147.9640,     3831,    455.6,   0.8190,  34.8301,2,     -999,9,    295.7,2,     -999,9,     6.45,2,    12.28,2,     0.00,2,     0.81,2,     -999,9,     -999,9,     -999,9,     -999,9,     -999,9,     -999,9,     -999,9,     -999,     -999,9,     -999,9,     -999,9,     -999,9,   0.8190,2,     -999,9,     -999,9,     -999,     -999,9,     -999,9,     -999,9,     -999,     -999,9,20150927,1058,    450.4,  77.5099,-147.9649,     -999,9,     -999,9
33HQ20150809  ,ARC01      ,52      ,  4,5          ,    6401,   11952,GSNIS-5    ,2,20150927,1052,  77.5101,-147.9640,     3831,    455.7,   0.8189,  34.8300,2,     -999,9,    295.7,2,     -999,9,     6.45,2,    12.29,2,     0.00,2,     0.81,2,     -999,9,     -999,9,     -999,9,     -999,9,     -999,9,     -999,9,     -999,9,     -999,     -999,9,     -999,9,     -999,9,     -999,9,   0.8191,2,     -999,9,     -999,9,     -999,     -999,9,     -999,9,     -999,9,     -999,     -999,9,20150927,1058,    450.4,  77.5099,-147.9649,     -999,9,     -999,9