BOTTLE,20221220CCHSIOAMB
EXPOCODE,SECT_ID,STNNBR,CASTNO,SAMPNO,GEOTR_EVENT,GEOTR_SAMPNO,BTLNBR,BTLNBR_FLAG_W,DATE,TIME,LATITUDE,LONGITUDE,DEPTH,CTDPRS,CTDTMP,CTDSAL,CTDSAL_FLAG_W,SALNTY,SALNTY_FLAG_W,CTDOXY,CTDOXY_FLAG_W,OXYGEN,OXYGEN_FLAG_W,SILCAT,SILCAT_FLAG_W,NITRAT,NITRAT_FLAG_W,NITRIT,NITRIT_FLAG_W,PHSPHT,PHSPHT_FLAG_W,CFC-11,CFC-11_FLAG_W,CFC-12,CFC-12_FLAG_W,CFC113,CFC113_FLAG_W,SF6,SF6_FLAG_W,TCARBN,TCARBN_FLAG_W,ALKALI,ALKALI_FLAG_W,PH_SWS,PH_SWS_FLAG_W,PH_TMP,DOC,DOC_FLAG_W,TRITUM,TRITUM_FLAG_W,HELIUM,HELIUM_FLAG_W,DELHE3,DELHE3_FLAG_W,REFTMP,REFTMP_FLAG_W,DELC13,DELC13_FLAG_W,DELC14,DELC14_FLAG_W,C14ERR,TDN,TDN_FLAG_W,DELO18,DELO18_FLAG_W,DELO17,DELO17_FLAG_W,CH4,CH4,CH4_FLAG_W,BTL_DATE,BTL_TIME,CTDDEPTH,BTL_LAT,BTL_LON,LAB_DEN,LAB_DEN_FLAG_W,SALTREF,SALTREF_FLAG_W
,,,,,,,,,,,,,METERS,DBAR,ITS-90,PSS-78,,PSS-78,,UMOL/KG,,UMOL/KG,,UMOL/KG,,UMOL/KG,,UMOL/KG,,UMOL/KG,,PMOL/KG,,PMOL/KG,,PMOL/KG,,FMOL/KG,,UMOL/KG,,UMOL/KG,,,,DEG C,UMOL/KG,,TU,,NMOL/KG,,PERCNT,,ITS-90,,/MILLE,,/MILLE,,/MILLE,UMOL/KG,,/MILLE,,/MILLE,,NMOL/KG,NMOL/L,,,,METERS,,,KG/M^3,,G/KG,
33HQ20150809  ,ARC01      ,43      , 11,36         ,    6315,   11634,GSNIS-36   ,2,20150917,0210,  85.1598,-150.4149,     2203,    176.5,  -0.4464,  34.4177,2,     -999,9,    298.0,2,     -999,9,     7.03,2,     9.90,2,     0.00,2,     0.75,2,     -999,9,     -999,9,     -999,9,     -999,9,     -999,9,     -999,9,     -999,9,     -999,     -999,9,     -999,9,     -999,9,     -999,9,  -0.4458,2,     -999,9,     -999,9,     -999,     -999,9,     -999,9,     -999,9,     -999,     -999,9,20150917,0304,    174.5,  85.1576,-150.4215,     -999,9,     -999,9
33HQ20150809  ,ARC01      ,43      , 11,35         ,    6315,   11634,GSNIS-35   ,2,20150917,0210,  85.1598,-150.4149,     2203,    176.5,  -0.4456,  34.4177,2,  34.4214,2,    298.0,2,    296.3,2,     7.03,2,     9.90,2,     0.00,2,     0.75,2,     -999,9,     -999,9,     -999,9,     -999,9,     -999,9,     -999,9,     -999,9,     -999,     -999,9,     -999,9,     -999,9,     -999,9,  -0.4457,2,     -999,9,     -999,9,     -999,     -999,9,     -999,9,     -999,9,     -999,     -999,9,20150917,0303,    174.5,  85.1576,-150.4215,     -999,9,  34.5837,2
33HQ20150809  ,ARC01      ,43      , 11,33         ,    6315,   11633,GSNIS-33   ,2,20150917,0210,  85.1598,-150.4149,     2203,    278.4,   0.7203,  34.8069,2,  34.8050,2,    293.9,2,    292.9,2,     6.44,2,    11.95,2,     0.00,2,     0.82,2,     -999,9,     -999,9,     -999,9,     -999,9,     -999,9,     -999,9,     -999,9,     -999,     -999,9,     -999,9,     -999,9,     -999,9,   0.7217,2,     -999,9,     -999,9,     -999,     -999,9,     -999,9,     -999,9,     -999,     -999,9,20150917,0300,    275.2,  85.1577,-150.4211,     -999,9,  34.9692,2
33HQ20150809  ,ARC01      ,43      , 11,34         ,    6315,   11633,GSNIS-34   ,2,20150917,0210,  85.1598,-150.4149,     2203,    278.4,   0.7205,  34.8069,2,     -999,9,    293.9,2,     -999,9,     6.44,2,    11.95,2,     0.00,2,     0.82,2,     -999,9,     -999,9,     -999,9,     -999,9,     -999,9,     -999,9,     -999,9,     -999,     -999,9,     -999,9,     -999,9,     -999,9,   0.7209,2,     -999,9,     -999,9,     -999,     -999,9,     -999,9,     -999,9,     -999,     -999,9,20150917,0300,    275.2,  85.1577,-150.4211,     -999,9,     -999,9
33HQ20150809  ,ARC01      ,43      , 11,31         ,    6315,   11632,GSNIS-31   ,3,20150917,0210,  85.1598,-150.4149,     2203,    420.0,   0.7962,  34.8610,2,  34.8593,2,    300.4,2,     -999,9,     6.25,2,    12.04,2,     0.00,2,     0.83,2,     -999,9,     -999,9,     -999,9,     -999,9,     -999,9,     -999,9,     -999,9,     -999,     -999,9,     -999,9,     -999,9,     -999,9,   0.7964,2,     -999,9,     -999,9,     -999,     -999,9,     -999,9,     -999,9,     -999,     -999,9,20150917,0256,    415.1,  85.1579,-150.4206,     -999,9,  35.0237,2
33HQ20150809  ,ARC01      ,43      , 11,32         ,    6315,   11632,GSNIS-32   ,2,20150917,0210,  85.1598,-150.4149,     2203,    420.0,   0.7965,  34.8610,2,  34.8588,2,    300.4,2,    298.4,2,     6.25,2,    12.06,2,     0.00,2,     0.84,2,     -999,9,     -999,9,     -999,9,     -999,9,     -999,9,     -999,9,     -999,9,     -999,     -999,9,     -999,9,     -999,9,     -999,9,   0.7967,2,     -999,9,     -999,9,     -999,     -999,9,     -999,9,     -999,9,     -999,     -999,9,20150917,0256,    415.1,  85.1579,-150.4207,     -999,9,  35.0232,2
33HQ20150809  ,ARC01      ,43      , 11,29         ,    6315,   11631,GSNIS-29   ,2,20150917,0210,  85.1598,-150.4149,     2203,    708.7,   0.2593,  34.8762,2,  34.8754,2,    296.7,2,    297.9,2,     7.03,2,    12.49,2,     0.00,2,     0.85,2,     -999,9,     -999,9,     -999,9,     -999,9,     -999,9,     -999,9,     -999,9,     -999,     -999,9,     -999,9,     -999,9,     -999,9,   0.2594,2,     -999,9,     -999,9,     -999,     -999,9,     -999,9,     -999,9,     -999,     -999,9,20150917,0250,    699.9,  85.1582,-150.4198,     -999,9,  35.0399,2
33HQ20150809  ,ARC01      ,43      , 11,30         ,    6315,   11631,GSNIS-30   ,2,20150917,0210,  85.1598,-150.4149,     2203,    708.7,   0.2591,  34.8761,2,     -999,9,    296.7,2,     -999,9,     7.03,2,    12.47,2,     0.00,2,     0.86,2,     -999,9,     -999,9,     -999,9,     -999,9,     -999,9,     -999,9,     -999,9,     -999,     -999,9,     -999,9,     -999,9,     -999,9,   0.2593,2,     -999,9,     -999,9,     -999,     -999,9,     -999,9,     -999,9,     -999,     -999,9,20150917,0250,    699.9,  85.1582,-150.4198,     -999,9,     -999,9
33HQ20150809  ,ARC01      ,43      , 11,23         ,    6315,   11630,GSNIS-23   ,2,20150917,0210,  85.1598,-150.4149,     2203,   1828.1,  -0.3941,  34.9464,2,  34.9458,2,    289.0,2,    290.0,2,    12.00,2,    14.04,2,     0.00,2,     0.98,2,     -999,9,     -999,9,     -999,9,     -999,9,     -999,9,     -999,9,     -999,9,     -999,     -999,9,     -999,9,     -999,9,     -999,9,  -0.3940,2,     -999,9,     -999,9,     -999,     -999,9,     -999,9,     -999,9,     -999,     -999,9,20150917,0230,   1800.6,  85.1590,-150.4175,     -999,9,  35.1106,2
33HQ20150809  ,ARC01      ,43      , 11,25         ,    6315,   11630,GSNIS-25   ,2,20150917,0210,  85.1598,-150.4149,     2203,   1828.1,  -0.3940,  34.9464,2,     -999,9,    289.0,2,     -999,9,    12.00,2,    14.06,2,     0.00,2,     0.99,2,     -999,9,     -999,9,     -999,9,     -999,9,     -999,9,     -999,9,     -999,9,     -999,     -999,9,     -999,9,     -999,9,     -999,9,  -0.3941,2,     -999,9,     -999,9,     -999,     -999,9,     -999,9,     -999,9,     -999,     -999,9,20150917,0230,   1800.7,  85.1590,-150.4175,     -999,9,     -999,9
33HQ20150809  ,ARC01      ,43      , 11,24         ,    6315,   11630,GSNIS-24   ,2,20150917,0210,  85.1598,-150.4149,     2203,   1828.1,  -0.3941,  34.9464,2,     -999,9,    289.0,2,     -999,9,    12.10,2,    14.04,2,     0.00,2,     0.98,2,     -999,9,     -999,9,     -999,9,     -999,9,     -999,9,     -999,9,     -999,9,     -999,     -999,9,     -999,9,     -999,9,     -999,9,  -0.3940,2,     -999,9,     -999,9,     -999,     -999,9,     -999,9,     -999,9,     -999,     -999,9,20150917,0230,   1800.7,  85.1590,-150.4175,     -999,9,     -999,9
33HQ20150809  ,ARC01      ,43      , 11,28         ,    6315,   11630,GSNIS-28   ,2,20150917,0210,  85.1598,-150.4149,     2203,   1828.1,  -0.3940,  34.9464,2,     -999,9,    289.0,2,     -999,9,    12.00,2,    14.07,2,     0.00,2,     0.99,2,     -999,9,     -999,9,     -999,9,     -999,9,     -999,9,     -999,9,     -999,9,     -999,     -999,9,     -999,9,     -999,9,     -999,9,  -0.3940,2,     -999,9,     -999,9,     -999,     -999,9,     -999,9,     -999,9,     -999,     -999,9,20150917,0231,   1800.7,  85.1590,-150.4176,     -999,9,     -999,9
33HQ20150809  ,ARC01      ,43      , 11,27         ,    6315,   11630,GSNIS-27   ,2,20150917,0210,  85.1598,-150.4149,     2203,   1828.1,  -0.3940,  34.9464,2,     -999,9,    289.0,2,     -999,9,    12.00,2,    14.08,2,     0.00,2,     0.98,2,     -999,9,     -999,9,     -999,9,     -999,9,     -999,9,     -999,9,     -999,9,     -999,     -999,9,     -999,9,     -999,9,     -999,9,  -0.3940,2,     -999,9,     -999,9,     -999,     -999,9,     -999,9,     -999,9,     -999,     -999,9,20150917,0231,   1800.7,  85.1590,-150.4176,     -999,9,     -999,9
33HQ20150809  ,ARC01      ,43      , 11,26         ,    6315,   11630,GSNIS-26   ,2,20150917,0210,  85.1598,-150.4149,     2203,   1828.1,  -0.3941,  34.9464,2,     -999,9,    289.0,2,     -999,9,    12.00,2,    14.06,2,     0.00,2,     0.98,2,     -999,9,     -999,9,     -999,9,     -999,9,     -999,9,     -999,9,     -999,9,     -999,     -999,9,     -999,9,     -999,9,     -999,9,  -0.3941,2,     -999,9,     -999,9,     -999,     -999,9,     -999,9,     -999,9,     -999,     -999,9,20150917,0230,   1800.7,  85.1590,-150.4175,     -999,9,     -999,9
33HQ20150809  ,ARC01      ,43      , 11,17         ,    6315,   11629,GSNIS-17   ,2,20150917,0210,  85.1598,-150.4149,     2203,   2031.4,  -0.3967,  34.9534,2,  34.9528,2,    285.2,2,    286.7,2,    12.88,2,    14.29,2,     0.00,2,     1.00,2,     -999,9,     -999,9,     -999,9,     -999,9,     -999,9,     -999,9,     -999,9,     -999,     -999,9,     -999,9,     -999,9,     -999,9,  -0.3966,2,     -999,9,     -999,9,     -999,     -999,9,     -999,9,     -999,9,     -999,     -999,9,20150917,0224,   2000.0,  85.1592,-150.4168,     -999,9,  35.1176,2
33HQ20150809  ,ARC01      ,43      , 11,19         ,    6315,   11629,GSNIS-19   ,2,20150917,0210,  85.1598,-150.4149,     2203,   2031.4,  -0.3966,  34.9534,2,     -999,9,    285.2,2,     -999,9,    12.88,2,    14.28,2,     0.00,2,     1.00,2,     -999,9,     -999,9,     -999,9,     -999,9,     -999,9,     -999,9,     -999,9,     -999,     -999,9,     -999,9,     -999,9,     -999,9,  -0.3965,2,     -999,9,     -999,9,     -999,     -999,9,     -999,9,     -999,9,     -999,     -999,9,20150917,0225,   2000.0,  85.1592,-150.4168,     -999,9,     -999,9
33HQ20150809  ,ARC01      ,43      , 11,18         ,    6315,   11629,GSNIS-18   ,2,20150917,0210,  85.1598,-150.4149,     2203,   2031.4,  -0.3966,  34.9533,2,     -999,9,    285.2,2,     -999,9,    12.88,2,    14.29,2,     0.00,2,     1.00,2,     -999,9,     -999,9,     -999,9,     -999,9,     -999,9,     -999,9,     -999,9,     -999,     -999,9,     -999,9,     -999,9,     -999,9,  -0.3966,2,     -999,9,     -999,9,     -999,     -999,9,     -999,9,     -999,9,     -999,     -999,9,20150917,0224,   2000.0,  85.1592,-150.4168,     -999,9,     -999,9
33HQ20150809  ,ARC01      ,43      , 11,21         ,    6315,   11629,GSNIS-21   ,2,20150917,0210,  85.1598,-150.4149,     2203,   2031.4,  -0.3967,  34.9534,2,     -999,9,    285.2,2,     -999,9,    12.98,2,    14.28,2,     0.00,2,     1.01,2,     -999,9,     -999,9,     -999,9,     -999,9,     -999,9,     -999,9,     -999,9,     -999,     -999,9,     -999,9,     -999,9,     -999,9,  -0.3966,2,     -999,9,     -999,9,     -999,     -999,9,     -999,9,     -999,9,     -999,     -999,9,20150917,0225,   2000.0,  85.1592,-150.4169,     -999,9,     -999,9
33HQ20150809  ,ARC01      ,43      , 11,22         ,    6315,   11629,GSNIS-22   ,2,20150917,0210,  85.1598,-150.4149,     2203,   2031.4,  -0.3967,  34.9533,2,     -999,9,    285.2,2,     -999,9,    12.98,2,    14.27,2,     0.00,2,     1.00,2,     -999,9,     -999,9,     -999,9,     -999,9,     -999,9,     -999,9,     -999,9,     -999,     -999,9,     -999,9,     -999,9,     -999,9,  -0.3966,2,     -999,9,     -999,9,     -999,     -999,9,     -999,9,     -999,9,     -999,     -999,9,20150917,0225,   2000.0,  85.1592,-150.4169,     -999,9,     -999,9
33HQ20150809  ,ARC01      ,43      , 11,20         ,    6315,   11629,GSNIS-20   ,2,20150917,0210,  85.1598,-150.4149,     2203,   2031.4,  -0.3966,  34.9533,2,     -999,9,    285.2,2,     -999,9,    12.98,2,    14.29,2,     0.00,2,     1.00,2,     -999,9,     -999,9,     -999,9,     -999,9,     -999,9,     -999,9,     -999,9,     -999,     -999,9,     -999,9,     -999,9,     -999,9,  -0.3966,2,     -999,9,     -999,9,     -999,     -999,9,     -999,9,     -999,9,     -999,     -999,9,20150917,0225,   2000.0,  85.1592,-150.4168,     -999,9,     -999,9
33HQ20150809  ,ARC01      ,43      , 11,16         ,    6315,   11628,GSNIS-16   ,2,20150917,0210,  85.1598,-150.4149,     2203,   2072.5,  -0.3951,  34.9544,2,     -999,9,    284.7,2,     -999,9,    13.08,2,    14.32,2,     0.00,2,     1.01,2,     -999,9,     -999,9,     -999,9,     -999,9,     -999,9,     -999,9,     -999,9,     -999,     -999,9,     -999,9,     -999,9,     -999,9,  -0.3950,2,     -999,9,     -999,9,     -999,     -999,9,     -999,9,     -999,9,     -999,     -999,9,20150917,0222,   2040.2,  85.1593,-150.4165,     -999,9,     -999,9
33HQ20150809  ,ARC01      ,43      , 11,15         ,    6315,   11628,GSNIS-15   ,2,20150917,0210,  85.1598,-150.4149,     2203,   2072.5,  -0.3951,  34.9544,2,  34.9543,2,    284.7,2,     -999,9,    13.08,2,    14.33,2,     0.00,2,     1.01,2,     -999,9,     -999,9,     -999,9,     -999,9,     -999,9,     -999,9,     -999,9,     -999,     -999,9,     -999,9,     -999,9,     -999,9,  -0.3952,2,     -999,9,     -999,9,     -999,     -999,9,     -999,9,     -999,9,     -999,     -999,9,20150917,0222,   2040.2,  85.1593,-150.4165,     -999,9,  35.1191,2
33HQ20150809  ,ARC01      ,43      , 11,9          ,    6315,   11627,GSNIS-9    ,2,20150917,0210,  85.1598,-150.4149,     2203,   2133.9,  -0.3920,  34.9563,2,  34.9552,2,    284.5,2,    285.6,2,    13.37,2,    14.36,2,     0.00,2,     1.02,2,     -999,9,     -999,9,     -999,9,     -999,9,     -999,9,     -999,9,     -999,9,     -999,     -999,9,     -999,9,     -999,9,     -999,9,  -0.3923,2,     -999,9,     -999,9,     -999,     -999,9,     -999,9,     -999,9,     -999,     -999,9,20150917,0217,   2100.3,  85.1595,-150.4159,     -999,9,  35.1200,2
33HQ20150809  ,ARC01      ,43      , 11,11         ,    6315,   11627,GSNIS-11   ,2,20150917,0210,  85.1598,-150.4149,     2203,   2133.9,  -0.3920,  34.9563,2,     -999,9,    284.5,2,     -999,9,    13.27,2,    14.37,2,     0.00,2,     1.02,2,     -999,9,     -999,9,     -999,9,     -999,9,     -999,9,     -999,9,     -999,9,     -999,     -999,9,     -999,9,     -999,9,     -999,9,  -0.3920,2,     -999,9,     -999,9,     -999,     -999,9,     -999,9,     -999,9,     -999,     -999,9,20150917,0218,   2100.3,  85.1595,-150.4160,     -999,9,     -999,9
33HQ20150809  ,ARC01      ,43      , 11,10         ,    6315,   11627,GSNIS-10   ,2,20150917,0210,  85.1598,-150.4149,     2203,   2133.9,  -0.3920,  34.9563,2,     -999,9,    284.5,2,     -999,9,    13.37,2,    14.37,2,     0.00,2,     1.02,2,     -999,9,     -999,9,     -999,9,     -999,9,     -999,9,     -999,9,     -999,9,     -999,     -999,9,     -999,9,     -999,9,     -999,9,  -0.3920,2,     -999,9,     -999,9,     -999,     -999,9,     -999,9,     -999,9,     -999,     -999,9,20150917,0217,   2100.3,  85.1595,-150.4159,     -999,9,     -999,9
33HQ20150809  ,ARC01      ,43      , 11,13         ,    6315,   11627,GSNIS-13   ,2,20150917,0210,  85.1598,-150.4149,     2203,   2133.9,  -0.3920,  34.9564,2,     -999,9,    284.5,2,     -999,9,    13.37,2,    14.38,2,     0.00,2,     1.01,2,     -999,9,     -999,9,     -999,9,     -999,9,     -999,9,     -999,9,     -999,9,     -999,     -999,9,     -999,9,     -999,9,     -999,9,  -0.3921,2,     -999,9,     -999,9,     -999,     -999,9,     -999,9,     -999,9,     -999,     -999,9,20150917,0218,   2100.3,  85.1595,-150.4160,     -999,9,     -999,9
33HQ20150809  ,ARC01      ,43      , 11,14         ,    6315,   11627,GSNIS-14   ,2,20150917,0210,  85.1598,-150.4149,     2203,   2133.9,  -0.3920,  34.9565,2,     -999,9,    284.5,2,     -999,9,    13.37,2,    14.37,2,     0.00,2,     1.02,2,     -999,9,     -999,9,     -999,9,     -999,9,     -999,9,     -999,9,     -999,9,     -999,     -999,9,     -999,9,     -999,9,     -999,9,  -0.3922,2,     -999,9,     -999,9,     -999,     -999,9,     -999,9,     -999,9,     -999,     -999,9,20150917,0218,   2100.3,  85.1595,-150.4160,     -999,9,     -999,9
33HQ20150809  ,ARC01      ,43      , 11,12         ,    6315,   11627,GSNIS-12   ,2,20150917,0210,  85.1598,-150.4149,     2203,   2133.9,  -0.3920,  34.9563,2,     -999,9,    284.5,2,     -999,9,    13.37,2,    14.39,2,     0.00,2,     1.01,2,     -999,9,     -999,9,     -999,9,     -999,9,     -999,9,     -999,9,     -999,9,     -999,     -999,9,     -999,9,     -999,9,     -999,9,  -0.3919,2,     -999,9,     -999,9,     -999,     -999,9,     -999,9,     -999,9,     -999,     -999,9,20150917,0218,   2100.3,  85.1595,-150.4160,     -999,9,     -999,9
33HQ20150809  ,ARC01      ,43      , 11,3          ,    6315,   11626,GSNIS-3    ,3,20150917,0210,  85.1598,-150.4149,     2203,   2153.3,  -0.3903,  34.9569,2,  34.9502,4,    285.1,2,     -999,9,    13.37,2,    14.38,2,     0.00,2,     1.02,2,     -999,9,     -999,9,     -999,9,     -999,9,     -999,9,     -999,9,     -999,9,     -999,     -999,9,     -999,9,     -999,9,     -999,9,  -0.3905,2,     -999,9,     -999,9,     -999,     -999,9,     -999,9,     -999,9,     -999,     -999,9,20150917,0214,   2119.4,  85.1596,-150.4155,     -999,9,  35.1150,4
33HQ20150809  ,ARC01      ,43      , 11,8          ,    6315,   11626,GSNIS-8    ,2,20150917,0210,  85.1598,-150.4149,     2203,   2153.3,  -0.3903,  34.9570,2,     -999,9,    285.1,2,     -999,9,    13.47,2,    14.38,2,     0.00,2,     1.02,2,     -999,9,     -999,9,     -999,9,     -999,9,     -999,9,     -999,9,     -999,9,     -999,     -999,9,     -999,9,     -999,9,     -999,9,  -0.3904,2,     -999,9,     -999,9,     -999,     -999,9,     -999,9,     -999,9,     -999,     -999,9,20150917,0215,   2119.4,  85.1596,-150.4156,     -999,9,     -999,9
33HQ20150809  ,ARC01      ,43      , 11,6          ,    6315,   11626,GSNIS-6    ,2,20150917,0210,  85.1598,-150.4149,     2203,   2153.3,  -0.3903,  34.9570,2,     -999,9,    285.1,2,     -999,9,    13.47,2,    14.40,2,     0.00,2,     1.02,2,     -999,9,     -999,9,     -999,9,     -999,9,     -999,9,     -999,9,     -999,9,     -999,     -999,9,     -999,9,     -999,9,     -999,9,  -0.3904,2,     -999,9,     -999,9,     -999,     -999,9,     -999,9,     -999,9,     -999,     -999,9,20150917,0214,   2119.4,  85.1596,-150.4155,     -999,9,     -999,9
33HQ20150809  ,ARC01      ,43      , 11,5          ,    6315,   11626,GSNIS-5    ,2,20150917,0210,  85.1598,-150.4149,     2203,   2153.3,  -0.3903,  34.9569,2,     -999,9,    285.1,2,     -999,9,    13.47,2,    14.40,2,     0.00,2,     1.02,2,     -999,9,     -999,9,     -999,9,     -999,9,     -999,9,     -999,9,     -999,9,     -999,     -999,9,     -999,9,     -999,9,     -999,9,  -0.3903,2,     -999,9,     -999,9,     -999,     -999,9,     -999,9,     -999,9,     -999,     -999,9,20150917,0214,   2119.4,  85.1596,-150.4155,     -999,9,     -999,9
33HQ20150809  ,ARC01      ,43      , 11,4          ,    6315,   11626,GSNIS-4    ,2,20150917,0210,  85.1598,-150.4149,     2203,   2153.3,  -0.3903,  34.9569,2,  34.9576,2,    285.1,2,    285.2,2,    13.37,2,    14.40,2,     0.00,2,     1.02,2,     -999,9,     -999,9,     -999,9,     -999,9,     -999,9,     -999,9,     -999,9,     -999,     -999,9,     -999,9,     -999,9,     -999,9,  -0.3904,2,     -999,9,     -999,9,     -999,     -999,9,     -999,9,     -999,9,     -999,     -999,9,20150917,0214,   2119.4,  85.1596,-150.4155,     -999,9,  35.1225,2