BOTTLE,20221220CCHSIOAMB
EXPOCODE,SECT_ID,STNNBR,CASTNO,SAMPNO,GEOTR_EVENT,GEOTR_SAMPNO,BTLNBR,BTLNBR_FLAG_W,DATE,TIME,LATITUDE,LONGITUDE,DEPTH,CTDPRS,CTDTMP,CTDSAL,CTDSAL_FLAG_W,SALNTY,SALNTY_FLAG_W,CTDOXY,CTDOXY_FLAG_W,OXYGEN,OXYGEN_FLAG_W,SILCAT,SILCAT_FLAG_W,NITRAT,NITRAT_FLAG_W,NITRIT,NITRIT_FLAG_W,PHSPHT,PHSPHT_FLAG_W,CFC-11,CFC-11_FLAG_W,CFC-12,CFC-12_FLAG_W,CFC113,CFC113_FLAG_W,SF6,SF6_FLAG_W,TCARBN,TCARBN_FLAG_W,ALKALI,ALKALI_FLAG_W,PH_SWS,PH_SWS_FLAG_W,PH_TMP,DOC,DOC_FLAG_W,TRITUM,TRITUM_FLAG_W,HELIUM,HELIUM_FLAG_W,DELHE3,DELHE3_FLAG_W,REFTMP,REFTMP_FLAG_W,DELC13,DELC13_FLAG_W,DELC14,DELC14_FLAG_W,C14ERR,TDN,TDN_FLAG_W,DELO18,DELO18_FLAG_W,DELO17,DELO17_FLAG_W,CH4,CH4,CH4_FLAG_W,BTL_DATE,BTL_TIME,CTDDEPTH,BTL_LAT,BTL_LON,LAB_DEN,LAB_DEN_FLAG_W,SALTREF,SALTREF_FLAG_W
,,,,,,,,,,,,,METERS,DBAR,ITS-90,PSS-78,,PSS-78,,UMOL/KG,,UMOL/KG,,UMOL/KG,,UMOL/KG,,UMOL/KG,,UMOL/KG,,PMOL/KG,,PMOL/KG,,PMOL/KG,,FMOL/KG,,UMOL/KG,,UMOL/KG,,,,DEG C,UMOL/KG,,TU,,NMOL/KG,,PERCNT,,ITS-90,,/MILLE,,/MILLE,,/MILLE,UMOL/KG,,/MILLE,,/MILLE,,NMOL/KG,NMOL/L,,,,METERS,,,KG/M^3,,G/KG,
33HQ20150809  ,ARC01      ,14      ,  2,1          ,    6097,    -999,GSNIS-1    ,3,20150820,2159,  76.5108,-173.0337,     2255,    379.9,   0.7762,  34.7979,2,  34.7991,2,    290.4,2,     -999,9,     6.35,2,    12.47,2,     0.00,2,     0.85,2,     -999,9,     -999,9,     -999,9,     -999,9,     -999,9,     -999,9,     -999,9,     -999,     -999,9,     -999,9,     -999,9,     -999,9,   0.7760,2,     -999,9,     -999,9,     -999,     -999,9,     -999,9,     -999,9,     -999,     -999,9,20150820,2203,    375.6,  76.5115,-173.0361,     -999,9,  34.9632,2
33HQ20150809  ,ARC01      ,14      ,  2,2          ,    6097,   10796,GSNIS-2    ,2,20150820,2159,  76.5108,-173.0337,     2255,    380.1,   0.7762,  34.7978,2,  34.7975,2,    290.4,2,    289.8,2,     6.35,2,    12.46,2,     0.00,2,     0.86,2,    6.073,3,    3.367,3,    0.431,3,    2.670,3,     -999,9,   2290.7,2,   7.6911,2,    25.00,     51.7,2,     -999,1,     -999,1,     -999,1,   0.7762,2,     0.69,2,     -999,1,     -999,    16.13,2,     -999,1,     -999,9,     1.11,   1.1137,2,20150820,2203,    375.8,  76.5116,-173.0362,     -999,9,  34.9616,2
33HQ20150809  ,ARC01      ,14      ,  2,3          ,    6097,    -999,GSNIS-3    ,2,20150820,2159,  76.5108,-173.0337,     2255,    380.3,   0.7760,  34.7979,2,     -999,9,    290.4,2,     -999,9,     6.35,2,    12.47,2,     0.00,2,     0.85,2,     -999,9,     -999,9,     -999,9,     -999,9,     -999,9,     -999,9,     -999,9,     -999,     -999,9,     -999,9,     -999,9,     -999,9,   0.7761,2,     -999,9,     -999,9,     -999,     -999,9,     -999,9,     -999,9,     -999,     -999,9,20150820,2203,    376.0,  76.5116,-173.0364,     -999,9,     -999,9
33HQ20150809  ,ARC01      ,14      , 25,25         ,    6102,   10817,SMBT       ,2,20150820,2359,  76.5357,-173.0950,     2256,      1.0,   0.7776,   0.0000,2,  25.8027,2,     -999,9,     -999,9,     2.16,2,     0.01,2,     0.00,2,     0.56,2,     -999,9,     -999,9,     -999,9,     -999,9,     -999,9,     -999,9,     -999,9,     -999,     -999,9,     -999,9,     -999,9,     -999,9,     -999,9,     -999,9,     -999,9,     -999,     -999,9,     -999,9,     -999,9,     -999,     -999,9,20150821,0000,      1.0,  76.5277,-173.0774,     -999,9,  25.9244,2