BOTTLE,20221220CCHSIOAMB
EXPOCODE,SECT_ID,STNNBR,CASTNO,SAMPNO,GEOTR_EVENT,GEOTR_SAMPNO,BTLNBR,BTLNBR_FLAG_W,DATE,TIME,LATITUDE,LONGITUDE,DEPTH,CTDPRS,CTDTMP,CTDSAL,CTDSAL_FLAG_W,SALNTY,SALNTY_FLAG_W,CTDOXY,CTDOXY_FLAG_W,OXYGEN,OXYGEN_FLAG_W,SILCAT,SILCAT_FLAG_W,NITRAT,NITRAT_FLAG_W,NITRIT,NITRIT_FLAG_W,PHSPHT,PHSPHT_FLAG_W,CFC-11,CFC-11_FLAG_W,CFC-12,CFC-12_FLAG_W,CFC113,CFC113_FLAG_W,SF6,SF6_FLAG_W,TCARBN,TCARBN_FLAG_W,ALKALI,ALKALI_FLAG_W,PH_SWS,PH_SWS_FLAG_W,PH_TMP,DOC,DOC_FLAG_W,TRITUM,TRITUM_FLAG_W,HELIUM,HELIUM_FLAG_W,DELHE3,DELHE3_FLAG_W,REFTMP,REFTMP_FLAG_W,DELC13,DELC13_FLAG_W,DELC14,DELC14_FLAG_W,C14ERR,TDN,TDN_FLAG_W,DELO18,DELO18_FLAG_W,DELO17,DELO17_FLAG_W,CH4,CH4,CH4_FLAG_W,BTL_DATE,BTL_TIME,CTDDEPTH,BTL_LAT,BTL_LON,LAB_DEN,LAB_DEN_FLAG_W,SALTREF,SALTREF_FLAG_W
,,,,,,,,,,,,,METERS,DBAR,ITS-90,PSS-78,,PSS-78,,UMOL/KG,,UMOL/KG,,UMOL/KG,,UMOL/KG,,UMOL/KG,,UMOL/KG,,PMOL/KG,,PMOL/KG,,PMOL/KG,,FMOL/KG,,UMOL/KG,,UMOL/KG,,,,DEG C,UMOL/KG,,TU,,NMOL/KG,,PERCNT,,ITS-90,,/MILLE,,/MILLE,,/MILLE,UMOL/KG,,/MILLE,,/MILLE,,NMOL/KG,NMOL/L,,,,METERS,,,KG/M^3,,G/KG,
33HQ20150809  ,ARC01      ,40      ,  1,36         ,    6276,    -999,GSNIS-36   ,2,20150912,2309,  86.6974,-149.2945,     3417,      1.9,  -1.5120,  27.9594,2,  27.9410,2,    395.8,2,    400.2,2,    11.09,2,     0.03,2,     0.02,2,     0.76,2,    6.872,2,    3.742,2,    0.630,2,    3.631,2,   1931.0,6,   2025.9,2,   7.6600,2,    25.00,    123.4,2,     -999,9,     -999,9,     -999,9,  -1.5117,2,     0.76,6,     -999,1,     -999,     9.34,2,     -999,1,     -999,9,     -999,     -999,9,20150913,0043,      1.8,  86.6916,-149.1582,     -999,9,  28.0728,2
33HQ20150809  ,ARC01      ,40      ,  1,35         ,    6276,    -999,GSNIS-35   ,2,20150912,2309,  86.6974,-149.2945,     3417,     15.9,  -1.5163,  27.9618,2,  27.9580,2,    401.8,2,    400.9,2,    11.19,2,     0.02,2,     0.02,2,     0.75,2,    6.905,2,    3.738,2,    0.651,2,    3.631,2,   1930.6,2,   2017.9,6,   7.8116,4,    25.00,    125.2,2,     -999,9,     -999,9,     -999,9,  -1.5162,2,     -999,9,     -999,9,     -999,     5.47,2,     -999,1,     -999,9,     -999,     -999,9,20150913,0041,     15.7,  86.6916,-149.1606,     -999,9,  28.0898,2
33HQ20150809  ,ARC01      ,40      ,  1,34         ,    6276,    -999,GSNIS-34   ,2,20150912,2309,  86.6974,-149.2945,     3417,     28.9,  -1.5155,  27.9869,2,  28.2772,2,    402.3,2,    394.8,2,    11.58,2,     0.10,2,     0.05,2,     0.76,2,     -999,9,     -999,9,     -999,9,     -999,9,   1965.3,2,   2040.7,2,   7.6483,2,    25.00,    125.1,2,     -999,9,     -999,9,     -999,9,  -1.5154,2,     -999,9,     -999,9,     -999,     5.30,2,     -999,1,     -999,9,     -999,     -999,9,20150913,0040,     28.5,  86.6917,-149.1625,     -999,9,  28.4105,2
33HQ20150809  ,ARC01      ,40      ,  1,33         ,    6276,    -999,GSNIS-33   ,2,20150912,2309,  86.6974,-149.2945,     3417,     49.3,  -1.5725,  30.2073,2,  30.3689,2,    365.0,2,    360.9,2,    12.35,2,     2.13,2,     0.01,2,     0.78,2,    6.816,2,    3.712,2,    0.589,2,    3.541,2,   2078.8,2,   2154.3,2,   7.5843,2,    25.00,    111.3,2,     -999,9,     -999,9,     -999,9,  -1.5732,2,     -999,9,     -999,9,     -999,     8.81,2,     -999,1,     -999,9,     -999,     -999,9,20150913,0038,     48.8,  86.6919,-149.1652,     -999,9,  30.5121,2
33HQ20150809  ,ARC01      ,40      ,  1,32         ,    6276,    -999,GSNIS-32   ,2,20150912,2309,  86.6974,-149.2945,     3417,     69.5,  -1.4825,  32.2672,2,  32.4182,2,    304.8,2,    292.5,2,    23.29,2,     9.29,2,     0.00,2,     1.27,2,     -999,9,     -999,9,     -999,9,     -999,9,   2181.5,6,   2231.0,2,   7.4679,2,    25.00,     75.9,2,     -999,9,     -999,9,     -999,9,  -1.4830,2,     -999,9,     -999,9,     -999,    12.11,2,     -999,1,     -999,9,     -999,     -999,9,20150913,0036,     68.7,  86.6920,-149.1679,     -999,9,  32.5711,2
33HQ20150809  ,ARC01      ,40      ,  1,31         ,    6276,    -999,GSNIS-31   ,2,20150912,2309,  86.6974,-149.2945,     3417,     80.0,  -1.5190,  32.7245,2,  32.7555,2,    281.8,2,    282.1,2,    26.22,2,    10.86,2,     0.00,2,     1.34,2,    6.282,2,    3.428,2,    0.462,2,    2.848,2,   2197.6,2,   2242.2,6,   7.4484,2,    25.00,     78.0,2,     -999,9,     -999,9,     -999,9,  -1.5188,2,     -999,9,     -999,9,     -999,    15.44,2,     -999,1,     -999,9,     -999,     -999,9,20150913,0035,     79.1,  86.6920,-149.1697,     -999,9,  32.9100,2
33HQ20150809  ,ARC01      ,40      ,  1,30         ,    6276,    -999,GSNIS-30   ,2,20150912,2309,  86.6974,-149.2945,     3417,     90.2,  -1.4662,  33.1255,2,  33.2660,2,    272.7,2,    279.7,2,    22.59,2,    10.64,2,     0.00,2,     1.20,2,     -999,9,     -999,9,     -999,9,     -999,9,   2202.4,2,   2250.8,2,   7.4812,2,    25.00,     73.9,2,     -999,9,     -999,9,     -999,9,  -1.4654,2,     -999,9,     -999,9,     -999,    13.45,2,     -999,1,     -999,9,     -999,     -999,9,20150913,0034,     89.3,  86.6921,-149.1717,     -999,9,  33.4229,2
33HQ20150809  ,ARC01      ,40      ,  1,29         ,    6276,    -999,GSNIS-29   ,2,20150912,2309,  86.6974,-149.2945,     3417,     99.2,  -1.4114,  33.4418,2,  33.4911,2,    286.7,2,    284.8,2,    18.48,2,     9.79,2,     0.00,2,     1.06,2,    6.249,2,    3.375,2,    0.444,2,    2.530,2,   2194.4,2,   2256.4,2,   7.5190,2,    25.00,     73.4,2,     -999,9,     -999,9,     -999,9,  -1.4102,2,     -999,9,     -999,9,     -999,    13.74,2,     -999,1,     -999,9,     -999,     -999,9,20150913,0033,     98.1,  86.6922,-149.1733,     -999,9,  33.6490,2
33HQ20150809  ,ARC01      ,40      ,  1,28         ,    6276,    -999,GSNIS-28   ,2,20150912,2309,  86.6974,-149.2945,     3417,    109.7,  -1.4011,  33.7512,2,  33.7967,2,    300.5,2,    297.6,2,    11.83,2,     8.54,2,     0.00,2,     0.83,2,     -999,9,     -999,9,     -999,9,     -999,9,   2183.3,2,   2259.8,2,   7.5701,2,    25.00,     71.0,2,     -999,9,     -999,9,     -999,9,  -1.4013,2,     -999,9,     -999,9,     -999,    11.64,2,     -999,1,     -999,9,     -999,     -999,9,20150913,0032,    108.5,  86.6923,-149.1746,     -999,9,  33.9561,2
33HQ20150809  ,ARC01      ,40      ,  1,27         ,    6276,    -999,GSNIS-27   ,2,20150912,2309,  86.6974,-149.2945,     3417,    124.4,  -1.3389,  34.0839,2,  34.1134,2,    305.4,2,    305.0,2,     8.11,2,     8.07,2,     0.00,2,     0.71,2,    6.330,2,    3.376,2,    0.449,2,    2.514,2,   2174.0,2,   2274.3,2,   7.6171,2,    25.00,     62.6,2,     -999,9,     -999,9,     -999,9,  -1.3395,2,     -999,9,     -999,9,     -999,    12.05,2,     -999,1,     -999,9,     -999,     -999,9,20150913,0031,    123.0,  86.6923,-149.1759,     -999,9,  34.2743,2
33HQ20150809  ,ARC01      ,40      ,  1,26         ,    6276,    -999,GSNIS-26   ,2,20150912,2309,  86.6974,-149.2945,     3417,    139.9,  -1.0986,  34.2500,2,  34.2630,2,    307.4,2,    303.1,2,     7.43,2,     8.56,2,     0.00,2,     0.71,2,     -999,9,     -999,9,     -999,9,     -999,9,   2174.6,2,   2271.7,2,   7.6228,2,    25.00,     64.3,2,     -999,9,     -999,9,     -999,9,  -1.0973,2,     -999,9,     -999,9,     -999,    14.80,2,     -999,1,     -999,9,     -999,     -999,9,20150913,0030,    138.4,  86.6924,-149.1777,     -999,9,  34.4246,2
33HQ20150809  ,ARC01      ,40      ,  1,25         ,    6276,    -999,GSNIS-25   ,2,20150912,2309,  86.6974,-149.2945,     3417,    160.6,  -0.6365,  34.3880,2,  34.3910,2,    298.0,2,    298.1,2,     7.23,2,     9.44,2,     0.00,2,     0.74,2,    6.203,2,    3.274,2,    0.439,2,    2.168,2,   2173.8,2,   2278.6,2,   7.6292,2,    25.00,     59.2,2,     -999,9,     -999,9,     -999,9,  -0.6380,2,     -999,9,     -999,9,     -999,    15.61,2,     -999,1,     -999,9,     -999,     -999,9,20150913,0029,    158.8,  86.6924,-149.1792,     -999,9,  34.5531,2
33HQ20150809  ,ARC01      ,40      ,  1,24         ,    6276,    -999,GSNIS-24   ,2,20150912,2309,  86.6974,-149.2945,     3417,    180.6,  -0.2880,  34.4852,2,  34.4901,2,    297.2,2,    296.2,2,     7.04,2,     9.94,2,     0.00,2,     0.76,2,    6.039,2,    3.118,2,    0.422,2,    1.989,2,   2173.0,2,   2285.6,2,   7.6422,2,    25.00,     58.9,2,     -999,9,     -999,9,     -999,9,  -0.2881,2,     -999,9,     -999,9,     -999,    13.12,2,     -999,1,     -999,9,     -999,     -999,9,20150913,0028,    178.5,  86.6925,-149.1809,     -999,9,  34.6527,2
33HQ20150809  ,ARC01      ,40      ,  1,23         ,    6276,    -999,GSNIS-23   ,3,20150912,2309,  86.6974,-149.2945,     3417,    200.9,   0.0787,  34.5872,2,  34.5944,2,    294.1,2,    293.1,2,     7.23,2,    10.66,2,     0.00,2,     0.78,2,     -999,9,     -999,9,     -999,9,     -999,9,   2169.7,2,   2286.2,2,   7.6544,2,    25.00,     55.7,2,     -999,9,     -999,9,     -999,9,   0.0778,2,     -999,9,     -999,9,     -999,    13.48,2,     -999,9,     -999,9,     -999,     -999,9,20150913,0027,    198.7,  86.6926,-149.1827,     -999,9,  34.7575,2
33HQ20150809  ,ARC01      ,40      ,  1,22         ,    6276,    -999,GSNIS-22   ,2,20150912,2309,  86.6974,-149.2945,     3417,    221.5,   0.3882,  34.6783,2,  34.6912,2,    292.4,2,    293.6,2,     6.74,2,    11.20,2,     0.00,2,     0.79,2,     -999,9,     -999,9,     -999,9,     -999,9,   2166.2,2,   2301.5,2,   7.6711,2,    25.00,     56.4,2,     -999,9,     -999,9,     -999,9,   0.3893,2,     -999,9,     -999,9,     -999,    12.51,2,     -999,1,     -999,9,     -999,     -999,9,20150913,0026,    219.0,  86.6927,-149.1842,     -999,9,  34.8548,2
33HQ20150809  ,ARC01      ,40      ,  1,21         ,    6276,    -999,GSNIS-21   ,2,20150912,2309,  86.6974,-149.2945,     3417,    242.1,   0.6114,  34.7515,2,  34.7594,2,    293.2,2,    293.9,2,     6.25,2,    11.55,2,     0.00,2,     0.80,2,    5.546,2,    2.840,2,    0.392,2,    1.634,2,   2164.4,2,   2317.4,4,   7.6794,2,    25.00,     54.0,2,     -999,9,     -999,9,     -999,9,   0.6121,2,     -999,9,     -999,9,     -999,    14.88,2,     -999,9,     -999,9,     -999,     -999,9,20150913,0025,    239.3,  86.6927,-149.1859,     -999,9,  34.9233,2
33HQ20150809  ,ARC01      ,40      ,  1,20         ,    6276,    -999,GSNIS-20   ,2,20150912,2309,  86.6974,-149.2945,     3417,    292.6,   0.8094,  34.8085,2,  34.8076,2,    295.2,2,    295.5,2,     5.96,2,    11.74,2,     0.00,2,     0.81,2,     -999,9,     -999,9,     -999,9,     -999,9,   2162.7,2,   2295.0,2,   7.6961,2,    25.00,     54.3,2,     -999,9,     -999,9,     -999,9,   0.8098,2,     -999,9,     -999,9,     -999,    14.17,2,     -999,1,     -999,9,     -999,     -999,9,20150913,0022,    289.3,  86.6929,-149.1891,     -999,9,  34.9717,2
33HQ20150809  ,ARC01      ,40      ,  1,19         ,    6276,    -999,GSNIS-19   ,2,20150912,2309,  86.6974,-149.2945,     3417,    342.8,   0.9347,  34.8426,2,  34.8426,2,    297.6,2,    296.9,2,     5.96,2,    11.92,2,     0.00,2,     0.81,2,    5.410,2,    2.717,2,    0.372,2,    1.524,2,   2163.3,2,   2296.5,2,   7.7024,2,    25.00,     54.2,2,     -999,9,     -999,9,     -999,9,   0.9347,2,     -999,9,     -999,9,     -999,    13.85,2,     -999,9,     -999,9,     -999,     -999,9,20150913,0021,    338.9,  86.6930,-149.1919,     -999,9,  35.0069,2
33HQ20150809  ,ARC01      ,40      ,  1,18         ,    6276,    -999,GSNIS-18   ,2,20150912,2309,  86.6974,-149.2945,     3417,    393.3,   0.9198,  34.8458,2,  34.8464,2,    297.2,2,    297.9,2,     6.06,2,    11.97,2,     0.00,2,     0.81,2,     -999,9,     -999,9,     -999,9,     -999,9,   2160.6,2,   2290.5,2,   7.7019,2,    25.00,     53.5,2,     -999,9,     -999,9,     -999,9,   0.9198,2,     -999,9,     -999,9,     -999,    13.78,2,     -999,1,     -999,9,     -999,     -999,9,20150913,0019,    388.7,  86.6931,-149.1946,     -999,9,  35.0107,2
33HQ20150809  ,ARC01      ,40      ,  1,17         ,    6276,    -999,GSNIS-17   ,2,20150912,2309,  86.6974,-149.2945,     3417,    444.4,   0.8900,  34.8629,2,  34.8633,2,    300.3,2,    299.5,2,     6.06,2,    11.97,2,     0.00,2,     0.82,2,    5.301,2,    2.668,2,    0.374,2,    1.440,2,   2162.3,2,   2293.4,2,   7.7015,2,    25.00,     52.1,2,     -999,9,     -999,9,     -999,9,   0.8904,2,     -999,9,     -999,9,     -999,    14.78,2,     -999,9,     -999,9,     -999,     -999,9,20150913,0017,    439.2,  86.6933,-149.1966,     -999,9,  35.0277,2
33HQ20150809  ,ARC01      ,40      ,  1,16         ,    6276,    -999,GSNIS-16   ,2,20150912,2309,  86.6974,-149.2945,     3417,    494.8,   0.7384,  34.8621,2,  34.8625,2,    300.2,2,    300.1,2,     6.25,2,    12.03,2,     0.00,2,     0.82,2,    5.013,2,    2.463,2,    0.340,2,    1.290,2,   2161.4,2,   2287.6,2,   7.7027,2,    25.00,     52.3,2,     -999,9,     -999,9,     -999,9,   0.7387,2,     -999,9,     -999,9,     -999,    13.57,2,     -999,1,     -999,9,     -999,     -999,9,20150913,0015,    488.9,  86.6934,-149.1990,     -999,9,  35.0269,2
33HQ20150809  ,ARC01      ,40      ,  1,15         ,    6276,    -999,GSNIS-15   ,2,20150912,2309,  86.6974,-149.2945,     3417,    596.6,   0.4605,  34.8656,2,  34.8652,2,    302.3,2,    301.7,2,     6.25,2,    12.02,2,     0.00,2,     0.83,2,    4.871,2,    2.411,2,    0.320,2,    1.254,2,   2162.4,2,   2289.5,2,   7.6130,4,    25.00,     52.8,2,     -999,9,     -999,9,     -999,9,   0.4604,2,     -999,9,     -999,9,     -999,    13.74,2,     -999,9,     -999,9,     -999,     -999,9,20150913,0013,    589.4,  86.6936,-149.2026,     -999,9,  35.0296,2
33HQ20150809  ,ARC01      ,40      ,  1,14         ,    6276,    -999,GSNIS-14   ,2,20150912,2309,  86.6974,-149.2945,     3417,    712.2,   0.2527,  34.8696,2,  34.8658,2,    303.6,2,    303.4,2,     6.15,2,    12.01,2,     0.00,2,     0.83,2,    4.761,2,    2.334,2,    0.317,2,    1.297,2,   2163.6,2,   2296.1,2,   7.6964,2,    25.00,     51.8,2,     -999,9,     -999,9,     -999,9,   0.2535,2,     -999,9,     -999,9,     -999,    14.01,2,     -999,9,     -999,9,     -999,     -999,9,20150913,0010,    703.3,  86.6937,-149.2066,     -999,9,  35.0302,2
33HQ20150809  ,ARC01      ,40      ,  1,13         ,    6276,    -999,GSNIS-13   ,2,20150912,2309,  86.6974,-149.2945,     3417,    864.4,   0.0420,  34.8765,2,  34.8770,2,    304.4,2,    303.6,2,     6.45,2,    12.10,2,     0.00,2,     0.84,2,    4.513,6,    2.208,6,    0.297,6,    1.173,6,   2166.5,2,   2298.3,2,   7.6932,2,    25.00,     51.8,2,     -999,9,     -999,9,     -999,9,   0.0421,2,     -999,9,     -999,9,     -999,    13.87,2,     -999,9,     -999,9,     -999,     -999,9,20150913,0007,    853.3,  86.6940,-149.2119,     -999,9,  35.0415,2
33HQ20150809  ,ARC01      ,40      ,  1,12         ,    6276,    -999,GSNIS-12   ,2,20150912,2309,  86.6974,-149.2945,     3417,   1016.7,  -0.1174,  34.8857,2,  34.8865,2,    302.8,2,    304.0,2,     6.84,2,    12.32,2,     0.00,2,     0.85,2,    3.786,2,    1.849,2,    0.243,2,    0.919,2,   2163.8,2,   2296.8,2,   7.6983,2,    25.00,     52.4,2,     -999,9,     -999,9,     -999,9,  -0.1176,2,     -999,9,     -999,9,     -999,    13.86,2,     -999,9,     -999,9,     -999,     -999,9,20150913,0003,   1003.3,  86.6942,-149.2170,     -999,9,  35.0510,2
33HQ20150809  ,ARC01      ,40      ,  1,11         ,    6276,    -999,GSNIS-11   ,2,20150912,2309,  86.6974,-149.2945,     3417,   1167.8,  -0.2262,  34.8949,2,  34.8936,2,    302.4,2,    302.2,2,     7.23,2,    12.56,2,     0.00,2,     0.88,2,    3.177,2,    1.544,2,    0.197,2,    0.761,2,   2160.7,2,   2296.8,2,   7.7021,2,    25.00,     54.3,2,     -999,9,     -999,9,     -999,9,  -0.2261,2,     -999,9,     -999,9,     -999,    15.57,2,     -999,9,     -999,9,     -999,     -999,9,20150913,0000,   1152.1,  86.6944,-149.2217,     -999,9,  35.0581,2
33HQ20150809  ,ARC01      ,40      ,  1,10         ,    6276,    -999,GSNIS-10   ,2,20150912,2309,  86.6974,-149.2945,     3417,   1372.5,  -0.3314,  34.9106,2,  34.9073,2,    300.4,2,    300.0,2,     8.40,2,    13.17,2,     0.00,2,     0.91,2,    1.638,2,    0.801,2,    0.082,2,    0.361,2,   2156.3,2,   2297.1,2,   7.7184,2,    25.00,     52.0,2,     -999,9,     -999,9,     -999,9,  -0.3315,2,     -999,9,     -999,9,     -999,    15.45,2,     -999,9,     -999,9,     -999,     -999,9,20150912,2356,   1353.4,  86.6946,-149.2278,     -999,9,  35.0719,2
33HQ20150809  ,ARC01      ,40      ,  1,9          ,    6276,    -999,GSNIS-9    ,2,20150912,2309,  86.6974,-149.2945,     3417,   1575.7,  -0.3807,  34.9270,2,  34.9349,4,    296.1,2,    295.4,2,     9.87,2,    13.70,2,     0.00,2,     0.96,2,    0.570,2,    0.260,2,    0.015,2,    0.056,2,   2145.1,2,   2298.6,2,   7.7318,2,    25.00,     48.0,2,     -999,9,     -999,9,     -999,9,  -0.3807,2,     -999,9,     -999,9,     -999,    15.36,2,     -999,9,     -999,9,     -999,     -999,9,20150912,2351,   1552.9,  86.6949,-149.2341,     -999,9,  35.0996,4
33HQ20150809  ,ARC01      ,40      ,  1,8          ,    6276,    -999,GSNIS-8    ,2,20150912,2309,  86.6974,-149.2945,     3417,   1780.2,  -0.4060,  34.9411,2,  34.9416,2,    291.7,2,    290.0,2,    11.62,2,    14.11,2,     0.00,2,     1.00,2,    0.198,2,    0.085,2,    0.009,2,    0.033,2,   2150.2,2,   2300.0,2,   7.7349,2,    25.00,     47.3,2,     -999,9,     -999,9,     -999,9,  -0.4057,2,     -999,9,     -999,9,     -999,    16.26,2,     -999,9,     -999,9,     -999,     -999,9,20150912,2347,   1753.6,  86.6952,-149.2408,     -999,9,  35.1063,2
33HQ20150809  ,ARC01      ,40      ,  1,7          ,    6276,    -999,GSNIS-7    ,2,20150912,2309,  86.6974,-149.2945,     3417,   1983.8,  -0.3974,  34.9446,2,  34.9445,2,    288.6,2,    288.4,2,    12.21,2,    14.42,2,     0.00,2,     1.00,2,    0.204,2,    0.092,2,    0.014,2,    0.000,2,   2152.1,2,   2300.7,2,   7.7356,2,    25.00,     47.7,2,     -999,9,     -999,9,     -999,9,  -0.3975,2,     -999,9,     -999,9,     -999,    15.98,2,     -999,9,     -999,9,     -999,     -999,9,20150912,2342,   1953.3,  86.6955,-149.2475,     -999,9,  35.1093,2
33HQ20150809  ,ARC01      ,40      ,  1,6          ,    6276,    -999,GSNIS-6    ,2,20150912,2309,  86.6974,-149.2945,     3417,   2239.1,  -0.3849,  34.9473,2,  34.9512,4,    287.4,2,    287.9,2,    12.60,2,    14.28,2,     0.00,2,     1.00,2,    0.107,2,    0.046,2,    0.000,2,    0.000,2,   2151.2,2,   2300.6,2,   7.7327,2,    25.00,     43.9,2,     -999,9,     -999,9,     -999,9,  -0.3851,2,     -999,9,     -999,9,     -999,    15.69,2,     -999,9,     -999,9,     -999,     -999,9,20150912,2336,   2203.3,  86.6958,-149.2553,     -999,9,  35.1160,4
33HQ20150809  ,ARC01      ,40      ,  1,5          ,    6276,    -999,GSNIS-5    ,2,20150912,2309,  86.6974,-149.2945,     3417,   2492.0,  -0.3746,  34.9514,2,  34.9518,2,    285.7,2,    286.8,2,    12.89,2,    14.40,2,     0.00,2,     1.02,2,    0.044,2,    0.018,2,    0.003,2,    0.000,2,   2154.3,2,   2303.0,2,   7.7326,2,    25.00,     45.2,2,     -999,9,     -999,9,     -999,9,  -0.3747,2,     -999,9,     -999,9,     -999,    15.84,2,     -999,9,     -999,9,     -999,     -999,9,20150912,2331,   2450.7,  86.6962,-149.2634,     -999,9,  35.1166,2
33HQ20150809  ,ARC01      ,40      ,  1,4          ,    6276,    -999,GSNIS-4    ,2,20150912,2309,  86.6974,-149.2945,     3417,   2751.7,  -0.3577,  34.9533,2,  34.9538,2,    286.0,2,    286.9,2,    12.99,2,    14.46,2,     0.00,2,     1.02,2,    0.022,2,    0.006,2,    0.000,2,    0.000,2,   2152.8,2,   2303.8,2,   7.7331,6,    25.00,     47.4,2,     -999,9,     -999,9,     -999,9,  -0.3576,2,     -999,9,     -999,9,     -999,    15.52,2,     -999,9,     -999,9,     -999,     -999,9,20150912,2325,   2704.5,  86.6965,-149.2716,     -999,9,  35.1186,2