BOTTLE,20020809WHPSIObren
EXPOCODE,SECT_ID,STNNBR,CASTNO,SAMPNO,BTLNBR,BTLNBR_FLAG_W,DATE,TIME,LATITUDE,LONGITUDE,DEPTH,CTDPRS,CTDTMP,CTDSAL,CTDSAL_FLAG_W,SALNTY,SALNTY_FLAG_W,CTDOXY,CTDOXY_FLAG_W,OXYGEN,OXYGEN_FLAG_W,SILCAT,SILCAT_FLAG_W,NO2+NO3,NO2+NO3_FLAG_W,PHSPHT,PHSPHT_FLAG_W,CTDRAW,REVTMP,REVPRS,THETA
,,,,,,,,,,,,DBAR,ITS-90,PSS-78,,PSS-78,,UMOL/KG,,UMOL/KG,,UMOL/KG,,UMOL/KG,,UMOL/KG,,,DEG C,DBAR,ITS-90
     33KI119_1,  PRS2,     2,  4,     16,     16,2,20001017,2357, 22.7483,-157.9595, 4718,      4.6,  25.8026,  35.3388,2,  35.3419,2,    202.9,1,   -999.0,9,  -999.00,9,  -999.00,9,  -999.00,9,      5,-999.000,  -999.0, 25.8015
     33KI119_1,  PRS2,     2,  4,     15,     23,2,20001017,2357, 22.7483,-157.9595, 4718,     24.9,  25.7527,  35.3355,2,  35.3340,2,    204.6,1,   -999.0,9,  -999.00,9,  -999.00,9,  -999.00,9,     25,-999.000,  -999.0, 25.7472
     33KI119_1,  PRS2,     2,  4,     14,     14,2,20001017,2357, 22.7483,-157.9595, 4718,     45.3,  25.7281,  35.3343,2,  35.3338,2,    204.5,1,   -999.0,9,  -999.00,9,  -999.00,9,  -999.00,9,     46,-999.000,  -999.0, 25.7181
     33KI119_1,  PRS2,     2,  4,     12,     12,2,20001017,2357, 22.7483,-157.9595, 4718,     45.3,  25.7285,  35.3340,2,  35.3338,2,    204.5,1,   -999.0,9,  -999.00,9,  -999.00,9,  -999.00,9,     46,-999.000,  -999.0, 25.7184
     33KI119_1,  PRS2,     2,  4,     11,     11,2,20001017,2357, 22.7483,-157.9595, 4718,     45.3,  25.7267,  35.3341,2,  35.3358,2,    204.5,1,   -999.0,9,  -999.00,9,  -999.00,9,  -999.00,9,     46,-999.000,  -999.0, 25.7166
     33KI119_1,  PRS2,     2,  4,     10,     32,2,20001017,2357, 22.7483,-157.9595, 4718,     45.3,  25.7278,  35.3340,2,  35.3352,2,    204.5,1,   -999.0,9,  -999.00,9,  -999.00,9,  -999.00,9,     46,-999.000,  -999.0, 25.7178
     33KI119_1,  PRS2,     2,  4,     13,     13,2,20001017,2357, 22.7483,-157.9595, 4718,     45.4,  25.7289,  35.3344,2,  35.3528,4,    204.5,1,   -999.0,9,  -999.00,9,  -999.00,9,  -999.00,9,     46,-999.000,  -999.0, 25.7188
     33KI119_1,  PRS2,     2,  4,      9,      3,2,20001017,2357, 22.7483,-157.9595, 4718,     74.4,  24.5923,  35.3740,2,  35.3853,2,    213.2,1,   -999.0,9,  -999.00,9,  -999.00,9,  -999.00,9,     75,-999.000,  -999.0, 24.5763
     33KI119_1,  PRS2,     2,  4,      8,     29,2,20001017,2357, 22.7483,-157.9595, 4718,     99.1,  22.0142,  35.3655,2,  35.3699,2,    215.4,1,   -999.0,9,  -999.00,9,  -999.00,9,  -999.00,9,    100,-999.000,  -999.0, 21.9946
     33KI119_1,  PRS2,     2,  4,      7,     28,2,20001017,2357, 22.7483,-157.9595, 4718,    124.4,  21.2427,  35.3541,2,  35.3522,2,    206.7,1,   -999.0,9,  -999.00,9,  -999.00,9,  -999.00,9,    125,-999.000,  -999.0, 21.2187
     33KI119_1,  PRS2,     2,  4,      6,      7,2,20001017,2357, 22.7483,-157.9595, 4718,    148.8,  20.5057,  35.2557,2,  35.2653,2,    196.3,1,   -999.0,9,  -999.00,9,  -999.00,9,  -999.00,9,    150,-999.000,  -999.0, 20.4777
     33KI119_1,  PRS2,     2,  4,      5,     38,2,20001017,2357, 22.7483,-157.9595, 4718,    175.8,  19.3654,  35.0961,2,  35.0990,2,    196.3,1,   -999.0,9,  -999.00,9,  -999.00,9,  -999.00,9,    176,-999.000,  -999.0, 19.3336
     33KI119_1,  PRS2,     2,  4,      4,     36,2,20001017,2357, 22.7483,-157.9595, 4718,    250.3,  15.1101,  34.5600,2,  34.5651,2,    201.3,1,   -999.0,9,  -999.00,9,  -999.00,9,  -999.00,9,    251,-999.000,  -999.0, 15.0721
     33KI119_1,  PRS2,     2,  4,      3,     35,2,20001017,2357, 22.7483,-157.9595, 4718,    501.5,   7.2090,  34.0193,2,  34.0196,2,    133.6,1,   -999.0,9,  -999.00,9,  -999.00,9,  -999.00,9,    502,-999.000,  -999.0,  7.1610
     33KI119_1,  PRS2,     2,  4,      2,     34,2,20001017,2357, 22.7483,-157.9595, 4718,    750.4,   4.6616,  34.2874,2,  34.2864,2,     21.3,1,   -999.0,9,  -999.00,9,  -999.00,9,  -999.00,9,    751,-999.000,  -999.0,  4.6027
     33KI119_1,  PRS2,     2,  4,      1,     33,2,20001017,2357, 22.7483,-157.9595, 4718,   1019.0,   4.0156,  34.4861,2,  34.4864,2,     40.1,1,   -999.0,9,  -999.00,9,  -999.00,9,  -999.00,9,   1020,-999.000,  -999.0,  3.9383
     33KI119_1,  PRS2,     2,  5,     17,     17,2,20001018,0310, 22.7458,-157.9383, 4712,      4.7,  25.8030,  35.3483,2,  35.3516,2,    204.6,1,   -999.0,9,  -999.00,9,  -999.00,9,  -999.00,9,      6,-999.000,  -999.0, 25.8019
     33KI119_1,  PRS2,     2,  5,     18,     18,2,20001018,0310, 22.7458,-157.9383, 4712,      4.9,  25.8028,  35.3488,2,  35.3470,2,    204.6,1,   -999.0,9,  -999.00,9,  -999.00,9,  -999.00,9,      5,-999.000,  -999.0, 25.8017
     33KI119_1,  PRS2,     2,  5,     16,     16,2,20001018,0310, 22.7458,-157.9383, 4712,     14.5,  25.7889,  35.3483,2,  35.3447,2,    204.5,1,   -999.0,9,  -999.00,9,  -999.00,9,  -999.00,9,     15,-999.000,  -999.0, 25.7857
     33KI119_1,  PRS2,     2,  5,     15,     23,2,20001018,0310, 22.7458,-157.9383, 4712,     24.8,  25.7502,  35.3602,2,  35.3573,2,    204.9,1,   -999.0,9,  -999.00,9,  -999.00,9,  -999.00,9,     25,-999.000,  -999.0, 25.7447
     33KI119_1,  PRS2,     2,  5,     14,     14,3,20001018,0310, 22.7458,-157.9383, 4712,     30.0,  25.7469,  35.3609,2,  35.3602,2,    205.1,1,   -999.0,9,  -999.00,9,  -999.00,9,  -999.00,9,     31,-999.000,  -999.0, 25.7402
     33KI119_1,  PRS2,     2,  5,     12,     12,2,20001018,0310, 22.7458,-157.9383, 4712,     44.6,  25.7406,  35.3660,2,  35.3662,2,    205.1,1,   -999.0,9,  -999.00,9,  -999.00,9,  -999.00,9,     45,-999.000,  -999.0, 25.7307
     33KI119_1,  PRS2,     2,  5,     13,     13,3,20001018,0310, 22.7458,-157.9383, 4712,     44.7,  25.7406,  35.3663,2,  35.3660,2,    205.1,1,   -999.0,9,  -999.00,9,  -999.00,9,  -999.00,9,     45,-999.000,  -999.0, 25.7307
     33KI119_1,  PRS2,     2,  5,     11,     11,3,20001018,0310, 22.7458,-157.9383, 4712,     60.0,  25.7189,  35.3664,2,  35.3648,2,    205.1,1,   -999.0,9,  -999.00,9,  -999.00,9,  -999.00,9,     60,-999.000,  -999.0, 25.7056
     33KI119_1,  PRS2,     2,  5,      9,      3,2,20001018,0310, 22.7458,-157.9383, 4712,     75.3,  22.5067,  35.3706,2,  35.3697,2,    221.0,1,   -999.0,9,  -999.00,9,  -999.00,9,  -999.00,9,     76,-999.000,  -999.0, 22.4915
     33KI119_1,  PRS2,     2,  5,     10,     32,2,20001018,0310, 22.7458,-157.9383, 4712,     75.5,  22.5094,  35.3704,2,  35.3685,2,    221.4,1,   -999.0,9,  -999.00,9,  -999.00,9,  -999.00,9,     76,-999.000,  -999.0, 22.4943
     33KI119_1,  PRS2,     2,  5,      8,     29,2,20001018,0310, 22.7458,-157.9383, 4712,     99.7,  21.5271,  35.3635,2,  35.3709,2,    210.7,1,   -999.0,9,  -999.00,9,  -999.00,9,  -999.00,9,    100,-999.000,  -999.0, 21.5077
     33KI119_1,  PRS2,     2,  5,      7,     28,3,20001018,0310, 22.7458,-157.9383, 4712,    126.9,  20.6860,  35.3154,2,  35.3122,2,    205.0,1,   -999.0,9,  -999.00,9,  -999.00,9,  -999.00,9,    128,-999.000,  -999.0, 20.6619
     33KI119_1,  PRS2,     2,  5,      6,      7,2,20001018,0310, 22.7458,-157.9383, 4712,    148.9,  19.7071,  35.1633,2,  35.1697,2,    195.1,1,   -999.0,9,  -999.00,9,  -999.00,9,  -999.00,9,    149,-999.000,  -999.0, 19.6798
     33KI119_1,  PRS2,     2,  5,      5,     38,2,20001018,0310, 22.7458,-157.9383, 4712,    173.8,  17.7252,  34.8617,2,  34.8637,2,    195.0,1,   -999.0,9,  -999.00,9,  -999.00,9,  -999.00,9,    174,-999.000,  -999.0, 17.6957
     33KI119_1,  PRS2,     2,  5,      4,     36,2,20001018,0310, 22.7458,-157.9383, 4712,    249.3,  14.3709,  34.4879,2,  34.4907,2,    206.6,1,   -999.0,9,  -999.00,9,  -999.00,9,  -999.00,9,    250,-999.000,  -999.0, 14.3343
     33KI119_1,  PRS2,     2,  5,      3,     35,2,20001018,0310, 22.7458,-157.9383, 4712,    500.9,   7.1530,  34.0262,2,  34.0256,2,    129.8,1,   -999.0,9,  -999.00,9,  -999.00,9,  -999.00,9,    502,-999.000,  -999.0,  7.1052
     33KI119_1,  PRS2,     2,  5,      2,     34,2,20001018,0310, 22.7458,-157.9383, 4712,    750.1,   4.7079,  34.2718,2,  34.2707,2,     21.1,1,   -999.0,9,  -999.00,9,  -999.00,9,  -999.00,9,    751,-999.000,  -999.0,  4.6487
     33KI119_1,  PRS2,     2,  5,      1,     33,2,20001018,0310, 22.7458,-157.9383, 4712,   1022.6,   4.0274,  34.4724,2,  34.4697,2,     38.9,1,   -999.0,9,  -999.00,9,  -999.00,9,  -999.00,9,   1023,-999.000,  -999.0,  3.9497
     33KI119_1,  PRS2,     2,  6,     23,     30,2,20001018,0557, 22.7513,-158.0045, 4783,      5.6,  25.7705,  35.3422,2,  35.3435,2,    204.6,1,   -999.0,9,  -999.00,9,  -999.00,9,  -999.00,9,      6,-999.000,  -999.0, 25.7693
     33KI119_1,  PRS2,     2,  6,     22,     22,2,20001018,0557, 22.7513,-158.0045, 4783,      5.6,  25.7682,  35.3425,2,  35.3453,2,    204.6,1,   -999.0,9,  -999.00,9,  -999.00,9,  -999.00,9,      6,-999.000,  -999.0, 25.7669
     33KI119_1,  PRS2,     2,  6,     21,     21,2,20001018,0557, 22.7513,-158.0045, 4783,     14.5,  25.7729,  35.3428,2,  35.3392,2,    204.6,1,   -999.0,9,  -999.00,9,  -999.00,9,  -999.00,9,     15,-999.000,  -999.0, 25.7697
     33KI119_1,  PRS2,     2,  6,     20,     20,2,20001018,0557, 22.7513,-158.0045, 4783,     14.5,  25.7756,  35.3425,2,  35.3433,2,    204.7,1,   -999.0,9,  -999.00,9,  -999.00,9,  -999.00,9,     15,-999.000,  -999.0, 25.7724
     33KI119_1,  PRS2,     2,  6,     19,     19,2,20001018,0557, 22.7513,-158.0045, 4783,     24.9,  25.7763,  35.3431,2,  35.3407,2,    204.7,1,   -999.0,9,  -999.00,9,  -999.00,9,  -999.00,9,     25,-999.000,  -999.0, 25.7708
     33KI119_1,  PRS2,     2,  6,     18,     18,2,20001018,0557, 22.7513,-158.0045, 4783,     30.3,  25.7791,  35.3432,2,  35.3443,2,    204.7,1,   -999.0,9,  -999.00,9,  -999.00,9,  -999.00,9,     31,-999.000,  -999.0, 25.7724
     33KI119_1,  PRS2,     2,  6,     14,     14,2,20001018,0557, 22.7513,-158.0045, 4783,     34.3,  25.7797,  35.3430,2,  35.3411,2,    204.7,1,   -999.0,9,  -999.00,9,  -999.00,9,  -999.00,9,     34,-999.000,  -999.0, 25.7721
     33KI119_1,  PRS2,     2,  6,     13,     13,2,20001018,0557, 22.7513,-158.0045, 4783,     34.3,  25.7796,  35.3428,2,  35.3419,2,    204.7,1,   -999.0,9,  -999.00,9,  -999.00,9,  -999.00,9,     34,-999.000,  -999.0, 25.7720
     33KI119_1,  PRS2,     2,  6,     17,     17,2,20001018,0557, 22.7513,-158.0045, 4783,     34.4,  25.7767,  35.3431,2,  35.3405,2,    204.7,1,   -999.0,9,  -999.00,9,  -999.00,9,  -999.00,9,     35,-999.000,  -999.0, 25.7691
     33KI119_1,  PRS2,     2,  6,     15,     23,2,20001018,0557, 22.7513,-158.0045, 4783,     34.5,  25.7798,  35.3430,2,  35.3945,4,    204.7,1,   -999.0,9,  -999.00,9,  -999.00,9,  -999.00,9,     34,-999.000,  -999.0, 25.7722
     33KI119_1,  PRS2,     2,  6,     16,     16,2,20001018,0557, 22.7513,-158.0045, 4783,     34.6,  25.7788,  35.3430,2,  35.3407,2,    204.7,1,   -999.0,9,  -999.00,9,  -999.00,9,  -999.00,9,     34,-999.000,  -999.0, 25.7711
     33KI119_1,  PRS2,     2,  6,     12,     12,2,20001018,0557, 22.7513,-158.0045, 4783,     44.9,  25.7697,  35.3426,2,  35.3386,2,    204.7,1,   -999.0,9,  -999.00,9,  -999.00,9,  -999.00,9,     46,-999.000,  -999.0, 25.7598
     33KI119_1,  PRS2,     2,  6,     11,     11,2,20001018,0557, 22.7513,-158.0045, 4783,     50.0,  25.7561,  35.3434,2,  35.3397,2,    204.7,1,   -999.0,9,  -999.00,9,  -999.00,9,  -999.00,9,     50,-999.000,  -999.0, 25.7450
     33KI119_1,  PRS2,     2,  6,     10,     32,2,20001018,0557, 22.7513,-158.0045, 4783,     59.4,  25.7354,  35.3496,2,  35.3463,2,    205.1,1,   -999.0,9,  -999.00,9,  -999.00,9,  -999.00,9,     60,-999.000,  -999.0, 25.7222
     33KI119_1,  PRS2,     2,  6,      9,      3,2,20001018,0557, 22.7513,-158.0045, 4783,     75.4,  25.7392,  35.3633,2,  35.3612,2,    205.0,1,   -999.0,9,  -999.00,9,  -999.00,9,  -999.00,9,     76,-999.000,  -999.0, 25.7225
     33KI119_1,  PRS2,     2,  6,      6,      7,2,20001018,0557, 22.7513,-158.0045, 4783,     79.5,  25.7347,  35.3636,2,  35.3654,2,    205.2,1,   -999.0,9,  -999.00,9,  -999.00,9,  -999.00,9,     80,-999.000,  -999.0, 25.7171
     33KI119_1,  PRS2,     2,  6,      8,     29,2,20001018,0557, 22.7513,-158.0045, 4783,     79.7,  25.7370,  35.3651,2,  35.3855,4,    205.1,1,   -999.0,9,  -999.00,9,  -999.00,9,  -999.00,9,     81,-999.000,  -999.0, 25.7193
     33KI119_1,  PRS2,     2,  6,      7,     28,2,20001018,0557, 22.7513,-158.0045, 4783,     79.8,  25.7349,  35.3639,2,  35.3630,2,    205.1,1,   -999.0,9,  -999.00,9,  -999.00,9,  -999.00,9,     81,-999.000,  -999.0, 25.7172
     33KI119_1,  PRS2,     2,  6,      5,     38,2,20001018,0557, 22.7513,-158.0045, 4783,    115.1,  22.0108,  35.3567,2,  35.3565,2,    216.4,1,   -999.0,9,  -999.00,9,  -999.00,9,  -999.00,9,    116,-999.000,  -999.0, 21.9880
     33KI119_1,  PRS2,     2,  6,      4,     36,2,20001018,0557, 22.7513,-158.0045, 4783,    124.9,  21.7344,  35.3626,2,  35.3618,2,    215.1,1,   -999.0,9,  -999.00,9,  -999.00,9,  -999.00,9,    126,-999.000,  -999.0, 21.7099
     33KI119_1,  PRS2,     2,  6,      3,     35,2,20001018,0557, 22.7513,-158.0045, 4783,    124.9,  21.7329,  35.3631,2,  35.3620,2,    214.8,1,   -999.0,9,  -999.00,9,  -999.00,9,  -999.00,9,    125,-999.000,  -999.0, 21.7083
     33KI119_1,  PRS2,     2,  6,      2,     34,2,20001018,0557, 22.7513,-158.0045, 4783,    151.6,  20.9554,  35.3212,2,  35.3342,2,    202.5,1,   -999.0,9,  -999.00,9,  -999.00,9,  -999.00,9,    152,-999.000,  -999.0, 20.9264
     33KI119_1,  PRS2,     2,  6,      1,     33,2,20001018,0557, 22.7513,-158.0045, 4783,   1020.0,   3.9542,  34.4919,2,  34.4921,2,     41.3,1,   -999.0,9,  -999.00,9,  -999.00,9,  -999.00,9,   1021,-999.000,  -999.0,  3.8773
     33KI119_1,  PRS2,     2,  7,     21,     21,2,20001018,0856, 22.7517,-158.0060, 4726,      4.8,  25.7331,  35.3487,2,  35.3480,2,    204.6,2,   -999.0,5,  -999.00,5,  -999.00,5,  -999.00,5,      5,-999.000,  -999.0, 25.7321
     33KI119_1,  PRS2,     2,  7,     20,     20,2,20001018,0856, 22.7517,-158.0060, 4726,      4.9,  25.7334,  35.3485,2,  35.3474,2,    204.6,2,    204.5,2,     1.51,2,    -0.01,2,     0.09,2,      5,-999.000,  -999.0, 25.7323
     33KI119_1,  PRS2,     2,  7,     19,     19,2,20001018,0856, 22.7517,-158.0060, 4726,     14.7,  25.7413,  35.3497,2,  35.3472,2,    204.6,2,   -999.0,5,  -999.00,5,  -999.00,5,  -999.00,5,     15,-999.000,  -999.0, 25.7381
     33KI119_1,  PRS2,     2,  7,     18,     18,2,20001018,0856, 22.7517,-158.0060, 4726,     24.9,  25.7401,  35.3485,2,  35.3528,2,    204.6,2,   -999.0,5,  -999.00,5,  -999.00,5,  -999.00,5,     25,-999.000,  -999.0, 25.7346
     33KI119_1,  PRS2,     2,  7,     17,     17,2,20001018,0856, 22.7517,-158.0060, 4726,     24.9,  25.7394,  35.3490,2,  35.3510,2,    204.6,2,    204.8,2,     1.34,2,     0.00,2,     0.11,2,     25,-999.000,  -999.0, 25.7339
     33KI119_1,  PRS2,     2,  7,     16,     16,2,20001018,0856, 22.7517,-158.0060, 4726,     34.4,  25.7455,  35.3578,2,  35.3575,2,    204.6,2,   -999.0,5,  -999.00,5,  -999.00,5,  -999.00,5,     35,-999.000,  -999.0, 25.7379
     33KI119_1,  PRS2,     2,  7,     15,     23,2,20001018,0856, 22.7517,-158.0060, 4726,     44.7,  25.7494,  35.3707,2,  35.3681,2,    204.6,2,    205.2,2,     1.30,2,     0.00,2,     0.09,2,     45,-999.000,  -999.0, 25.7394
     33KI119_1,  PRS2,     2,  7,     14,     14,2,20001018,0856, 22.7517,-158.0060, 4726,     60.1,  25.7454,  35.3715,2,  35.3711,2,    204.8,2,   -999.0,5,  -999.00,5,  -999.00,5,  -999.00,5,     61,-999.000,  -999.0, 25.7320
     33KI119_1,  PRS2,     2,  7,     13,     13,2,20001018,0856, 22.7517,-158.0060, 4726,     75.0,  25.7327,  35.3714,2,  35.3699,2,    205.0,2,    204.9,2,     1.27,2,     0.00,2,     0.07,2,     75,-999.000,  -999.0, 25.7161
     33KI119_1,  PRS2,     2,  7,     12,     12,2,20001018,0856, 22.7517,-158.0060, 4726,     85.2,  23.9265,  35.3581,2,  35.3693,3,    227.1,3,    223.0,2,  -999.00,5,  -999.00,5,  -999.00,5,     86,-999.000,  -999.0, 23.9086
     33KI119_1,  PRS2,     2,  7,     11,     11,2,20001018,0856, 22.7517,-158.0060, 4726,     99.7,  22.5926,  35.3746,2,  35.3725,2,    220.4,2,    220.7,2,     1.86,2,    -0.01,2,     0.08,2,    100,-999.000,  -999.0, 22.5725
     33KI119_1,  PRS2,     2,  7,     10,     32,2,20001018,0856, 22.7517,-158.0060, 4726,    115.1,  21.9572,  35.3619,2,  35.3638,2,    214.8,2,    215.9,2,  -999.00,5,  -999.00,5,  -999.00,5,    114,-999.000,  -999.0, 21.9344
     33KI119_1,  PRS2,     2,  7,      9,      3,2,20001018,0856, 22.7517,-158.0060, 4726,    126.0,  21.5793,  35.3692,2,  35.3691,2,    210.7,2,    212.5,2,     1.89,2,     0.01,2,     0.10,2,    126,-999.000,  -999.0, 21.5547
     33KI119_1,  PRS2,     2,  7,      8,     29,2,20001018,0856, 22.7517,-158.0060, 4726,    135.2,  21.4084,  35.3712,2,  35.3737,2,    211.6,2,   -999.0,5,  -999.00,5,  -999.00,5,  -999.00,5,    136,-999.000,  -999.0, 21.3821
     33KI119_1,  PRS2,     2,  7,      7,     28,2,20001018,0856, 22.7517,-158.0060, 4726,    151.3,  20.8122,  35.3133,2,  35.3163,2,    203.2,2,    217.7,4,     2.24,2,     0.81,2,     0.15,2,    151,-999.000,  -999.0, 20.7834
     33KI119_1,  PRS2,     2,  7,      6,      7,2,20001018,0856, 22.7517,-158.0060, 4726,    165.4,  20.4014,  35.2847,2,  35.2921,2,    203.7,2,    203.6,2,  -999.00,5,  -999.00,5,  -999.00,5,    166,-999.000,  -999.0, 20.3704
     33KI119_1,  PRS2,     2,  7,      5,     38,2,20001018,0856, 22.7517,-158.0060, 4726,    174.7,  19.9397,  35.2307,2,  35.2318,2,    201.8,2,    201.7,2,     2.47,2,     1.26,2,     0.18,2,    175,-999.000,  -999.0, 19.9074
     33KI119_1,  PRS2,     2,  7,      4,     36,2,20001018,0856, 22.7517,-158.0060, 4726,    200.7,  18.5187,  34.9944,2,  35.0033,2,    196.6,2,    196.8,2,     3.74,2,     2.66,2,     0.27,2,    201,-999.000,  -999.0, 18.4835
     33KI119_1,  PRS2,     2,  7,      3,     35,2,20001018,0856, 22.7517,-158.0060, 4726,    499.4,   7.0584,  34.0188,2,  34.0196,2,    127.6,2,   -999.0,5,  -999.00,5,  -999.00,5,  -999.00,5,    500,-999.000,  -999.0,  7.0111
     33KI119_1,  PRS2,     2,  7,      2,     34,2,20001018,0856, 22.7517,-158.0060, 4726,    731.5,   4.8935,  34.2821,2,  34.2838,2,     24.2,2,   -999.0,5,  -999.00,5,  -999.00,5,  -999.00,5,    732,-999.000,  -999.0,  4.8349
     33KI119_1,  PRS2,     2,  7,      1,     33,2,20001018,0856, 22.7517,-158.0060, 4726,   1018.8,   3.9600,  34.4928,2,  34.4917,2,     41.2,2,   -999.0,5,  -999.00,5,  -999.00,5,  -999.00,5,   1019,-999.000,  -999.0,  3.8831