BOTTLE,20020809WHPSIObren
EXPOCODE,SECT_ID,STNNBR,CASTNO,SAMPNO,BTLNBR,BTLNBR_FLAG_W,DATE,TIME,LATITUDE,LONGITUDE,DEPTH,CTDPRS,CTDTMP,CTDSAL,CTDSAL_FLAG_W,SALNTY,SALNTY_FLAG_W,CTDOXY,CTDOXY_FLAG_W,OXYGEN,OXYGEN_FLAG_W,SILCAT,SILCAT_FLAG_W,NO2+NO3,NO2+NO3_FLAG_W,PHSPHT,PHSPHT_FLAG_W,CTDRAW,REVTMP,REVPRS,THETA
,,,,,,,,,,,,DBAR,ITS-90,PSS-78,,PSS-78,,UMOL/KG,,UMOL/KG,,UMOL/KG,,UMOL/KG,,UMOL/KG,,,DEG C,DBAR,ITS-90
     33KI119_1,  PRS2,     2, 14,     15,     23,2,20001019,0606, 22.7562,-158.0422, 4739,      4.5,  25.7447,  35.3635,2,  35.3608,2,    204.4,1,   -999.0,9,  -999.00,9,  -999.00,9,  -999.00,9,      5,-999.000,  -999.0, 25.7437
     33KI119_1,  PRS2,     2, 14,     14,     14,2,20001019,0606, 22.7562,-158.0422, 4739,     24.1,  25.7374,  35.3656,2,  35.3630,2,    205.1,1,   -999.0,9,  -999.00,9,  -999.00,9,  -999.00,9,     25,-999.000,  -999.0, 25.7320
     33KI119_1,  PRS2,     2, 14,     13,     13,2,20001019,0606, 22.7562,-158.0422, 4739,     49.9,  25.6910,  35.3663,2,  35.3636,2,    205.0,1,   -999.0,9,  -999.00,9,  -999.00,9,  -999.00,9,     50,-999.000,  -999.0, 25.6799
     33KI119_1,  PRS2,     2, 14,     12,     12,2,20001019,0606, 22.7562,-158.0422, 4739,     75.1,  24.0783,  35.3894,2,  35.3890,2,    226.4,1,   -999.0,9,  -999.00,9,  -999.00,9,  -999.00,9,     76,-999.000,  -999.0, 24.0625
     33KI119_1,  PRS2,     2, 14,     11,     11,2,20001019,0606, 22.7562,-158.0422, 4739,     99.5,  22.4900,  35.3629,2,  35.3632,2,    220.5,1,   -999.0,9,  -999.00,9,  -999.00,9,  -999.00,9,    100,-999.000,  -999.0, 22.4700
     33KI119_1,  PRS2,     2, 14,     10,     32,2,20001019,0606, 22.7562,-158.0422, 4739,    124.6,  21.6363,  35.3584,2,  35.3591,2,    212.4,1,   -999.0,9,  -999.00,9,  -999.00,9,  -999.00,9,    125,-999.000,  -999.0, 21.6120
     33KI119_1,  PRS2,     2, 14,      9,      3,2,20001019,0606, 22.7562,-158.0422, 4739,    148.6,  20.7234,  35.3137,2,  35.3181,2,    204.4,1,   -999.0,9,  -999.00,9,  -999.00,9,  -999.00,9,    149,-999.000,  -999.0, 20.6952
     33KI119_1,  PRS2,     2, 14,      8,     29,2,20001019,0606, 22.7562,-158.0422, 4739,    174.5,  19.5779,  35.1534,2,  35.1490,2,    196.2,1,   -999.0,9,  -999.00,9,  -999.00,9,  -999.00,9,    175,-999.000,  -999.0, 19.5461
     33KI119_1,  PRS2,     2, 14,      7,     28,2,20001019,0606, 22.7562,-158.0422, 4739,    199.2,  17.2911,  34.8131,2,  34.8174,2,    195.9,1,   -999.0,9,  -999.00,9,  -999.00,9,  -999.00,9,    200,-999.000,  -999.0, 17.2578
     33KI119_1,  PRS2,     2, 14,      6,      7,2,20001019,0606, 22.7562,-158.0422, 4739,    250.0,  15.3609,  34.5863,2,  34.5851,2,    201.5,1,   -999.0,9,  -999.00,9,  -999.00,9,  -999.00,9,    249,-999.000,  -999.0, 15.3225
     33KI119_1,  PRS2,     2, 14,      5,     38,2,20001019,0606, 22.7562,-158.0422, 4739,    350.0,  11.3733,  34.2436,2,  34.2474,2,    209.9,1,   -999.0,9,  -999.00,9,  -999.00,9,  -999.00,9,    351,-999.000,  -999.0, 11.3293
     33KI119_1,  PRS2,     2, 14,      4,     36,2,20001019,0606, 22.7562,-158.0422, 4739,    500.1,   7.2207,  34.0296,2,  34.0270,2,    131.6,1,   -999.0,9,  -999.00,9,  -999.00,9,  -999.00,9,    500,-999.000,  -999.0,  7.1727
     33KI119_1,  PRS2,     2, 14,      3,     35,2,20001019,0606, 22.7562,-158.0422, 4739,    724.9,   5.3014,  34.3087,2,  34.3066,2,     27.7,1,   -999.0,9,  -999.00,9,  -999.00,9,  -999.00,9,    726,-999.000,  -999.0,  5.2410
     33KI119_1,  PRS2,     2, 14,      2,     34,2,20001019,0606, 22.7562,-158.0422, 4739,    844.0,   4.5043,  34.3925,2,  34.3898,2,     30.8,1,   -999.0,9,  -999.00,9,  -999.00,9,  -999.00,9,    844,-999.000,  -999.0,  4.4383
     33KI119_1,  PRS2,     2, 14,      1,     33,2,20001019,0606, 22.7562,-158.0422, 4739,    999.9,   3.9546,  34.4924,2,  34.4905,2,     41.0,1,   -999.0,9,  -999.00,9,  -999.00,9,  -999.00,9,    999,-999.000,  -999.0,  3.8793
     33KI119_1,  PRS2,     2, 15,     15,     23,2,20001019,0854, 22.7480,-158.0023, 4727,      4.6,  25.6915,  35.3436,2,  35.3421,2,    204.6,1,   -999.0,9,  -999.00,9,  -999.00,9,  -999.00,9,      6,-999.000,  -999.0, 25.6905
     33KI119_1,  PRS2,     2, 15,     16,     16,2,20001019,0854, 22.7480,-158.0023, 4727,      4.7,  25.6920,  35.3435,2,  35.3419,2,    204.5,1,   -999.0,9,  -999.00,9,  -999.00,9,  -999.00,9,      5,-999.000,  -999.0, 25.6910
     33KI119_1,  PRS2,     2, 15,     13,     13,2,20001019,0854, 22.7480,-158.0023, 4727,     24.2,  25.6967,  35.3444,2,  35.3439,2,    204.9,1,   -999.0,9,  -999.00,9,  -999.00,9,  -999.00,9,     25,-999.000,  -999.0, 25.6913
     33KI119_1,  PRS2,     2, 15,     14,     14,2,20001019,0854, 22.7480,-158.0023, 4727,     24.3,  25.6976,  35.3446,2,  35.3478,2,    204.8,1,   -999.0,9,  -999.00,9,  -999.00,9,  -999.00,9,     24,-999.000,  -999.0, 25.6922
     33KI119_1,  PRS2,     2, 15,     12,     12,2,20001019,0854, 22.7480,-158.0023, 4727,     44.8,  25.6854,  35.3424,2,  35.3476,2,    205.2,1,   -999.0,9,  -999.00,9,  -999.00,9,  -999.00,9,     46,-999.000,  -999.0, 25.6755
     33KI119_1,  PRS2,     2, 15,     11,     11,2,20001019,0854, 22.7480,-158.0023, 4727,     75.0,  25.6668,  35.3436,2,  35.3429,2,    205.2,1,   -999.0,9,  -999.00,9,  -999.00,9,  -999.00,9,     76,-999.000,  -999.0, 25.6503
     33KI119_1,  PRS2,     2, 15,      9,      3,2,20001019,0854, 22.7480,-158.0023, 4727,    100.6,  23.0046,  35.3813,2,  35.3796,2,    226.7,1,   -999.0,9,  -999.00,9,  -999.00,9,  -999.00,9,    101,-999.000,  -999.0, 22.9840
     33KI119_1,  PRS2,     2, 15,     10,     32,2,20001019,0854, 22.7480,-158.0023, 4727,    100.7,  23.0019,  35.3811,2,  35.3802,2,    226.7,1,   -999.0,9,  -999.00,9,  -999.00,9,  -999.00,9,    101,-999.000,  -999.0, 22.9813
     33KI119_1,  PRS2,     2, 15,      8,     29,2,20001019,0854, 22.7480,-158.0023, 4727,    124.6,  21.6362,  35.3555,2,  35.3514,2,    212.8,1,   -999.0,9,  -999.00,9,  -999.00,9,  -999.00,9,    125,-999.000,  -999.0, 21.6118
     33KI119_1,  PRS2,     2, 15,      7,     28,2,20001019,0854, 22.7480,-158.0023, 4727,    124.7,  21.6325,  35.3571,2,  35.3567,2,    212.7,1,   -999.0,9,  -999.00,9,  -999.00,9,  -999.00,9,    125,-999.000,  -999.0, 21.6081
     33KI119_1,  PRS2,     2, 15,      6,      7,2,20001019,0854, 22.7480,-158.0023, 4727,    150.4,  20.8478,  35.3431,2,  35.3537,2,    209.1,1,   -999.0,9,  -999.00,9,  -999.00,9,  -999.00,9,    150,-999.000,  -999.0, 20.8192
     33KI119_1,  PRS2,     2, 15,      5,     38,2,20001019,0854, 22.7480,-158.0023, 4727,    150.4,  20.8460,  35.3433,2,  35.3445,2,    209.2,1,   -999.0,9,  -999.00,9,  -999.00,9,  -999.00,9,    151,-999.000,  -999.0, 20.8173
     33KI119_1,  PRS2,     2, 15,      3,     35,2,20001019,0854, 22.7480,-158.0023, 4727,    175.5,  20.0520,  35.2604,2,  35.2611,2,    205.2,1,   -999.0,9,  -999.00,9,  -999.00,9,  -999.00,9,    176,-999.000,  -999.0, 20.0194
     33KI119_1,  PRS2,     2, 15,      4,     36,3,20001019,0854, 22.7480,-158.0023, 4727,    175.9,  20.0255,  35.2559,2,  35.4594,4,    205.2,1,   -999.0,9,  -999.00,9,  -999.00,9,  -999.00,9,    176,-999.000,  -999.0, 19.9929
     33KI119_1,  PRS2,     2, 15,      2,     34,2,20001019,0854, 22.7480,-158.0023, 4727,    501.0,   7.1144,  34.0164,2,  34.0192,2,    129.1,1,   -999.0,9,  -999.00,9,  -999.00,9,  -999.00,9,    502,-999.000,  -999.0,  7.0668
     33KI119_1,  PRS2,     2, 15,      1,     33,2,20001019,0854, 22.7480,-158.0023, 4727,   1020.9,   3.9371,  34.4878,2,  34.4852,2,     41.2,1,   -999.0,9,  -999.00,9,  -999.00,9,  -999.00,9,   1021,-999.000,  -999.0,  3.8603
     33KI119_1,  PRS2,     2, 16,     16,     16,2,20001019,1158, 22.7473,-158.0010, 4732,      4.8,  25.7018,  35.3426,2,-999.0000,5,    204.1,2,   -999.0,5,  -999.00,9,  -999.00,9,  -999.00,9,      5,-999.000,  -999.0, 25.7007
     33KI119_1,  PRS2,     2, 16,     15,     23,4,20001019,1158, 22.7473,-158.0010, 4732,     99.1,  21.9236,  35.3282,2,-999.0000,5,    215.7,2,   -999.0,5,  -999.00,9,  -999.00,9,  -999.00,9,     99,-999.000,  -999.0, 21.9040
     33KI119_1,  PRS2,     2, 16,     14,     14,2,20001019,1158, 22.7473,-158.0010, 4732,    200.0,  17.5020,  34.8553,2,  34.8589,2,    196.6,2,    194.9,2,  -999.00,9,  -999.00,9,  -999.00,9,    200,-999.000,  -999.0, 17.4684
     33KI119_1,  PRS2,     2, 16,     13,     13,2,20001019,1158, 22.7473,-158.0010, 4732,    303.8,  12.6356,  34.3453,2,  34.3474,2,    208.4,2,    208.3,2,  -999.00,9,  -999.00,9,  -999.00,9,    304,-999.000,  -999.0, 12.5947
     33KI119_1,  PRS2,     2, 16,     12,     12,2,20001019,1158, 22.7473,-158.0010, 4732,    500.5,   7.2764,  34.0164,2,  34.0162,2,    138.6,2,    137.2,2,  -999.00,9,  -999.00,9,  -999.00,9,    501,-999.000,  -999.0,  7.2282
     33KI119_1,  PRS2,     2, 16,     11,     11,2,20001019,1158, 22.7473,-158.0010, 4732,    749.3,   4.6245,  34.3032,2,  34.3040,2,     21.2,2,     19.5,2,  -999.00,9,  -999.00,9,  -999.00,9,    749,-999.000,  -999.0,  4.5659
     33KI119_1,  PRS2,     2, 16,     10,     32,2,20001019,1158, 22.7473,-158.0010, 4732,    999.1,   3.9107,  34.4791,2,  34.4795,2,     40.5,2,     41.0,2,  -999.00,9,  -999.00,9,  -999.00,9,   1000,-999.000,  -999.0,  3.8358
     33KI119_1,  PRS2,     2, 16,      9,      3,2,20001019,1158, 22.7473,-158.0010, 4732,   1999.1,   2.1641,  34.6174,2,  34.6179,2,     85.4,2,     86.9,2,  -999.00,9,  -999.00,9,  -999.00,9,   2000,-999.000,  -999.0,  2.0253
     33KI119_1,  PRS2,     2, 16,      8,     29,2,20001019,1158, 22.7473,-158.0010, 4732,   2998.5,   1.5425,  34.6694,2,  34.6694,2,    122.6,2,   -999.0,5,  -999.00,9,  -999.00,9,  -999.00,9,   2999,-999.000,  -999.0,  1.3249
     33KI119_1,  PRS2,     2, 16,      3,     35,2,20001019,1158, 22.7473,-158.0010, 4732,   3499.7,   1.4800,  34.6789,2,  34.6785,2,    135.4,2,   -999.0,5,  -999.00,9,  -999.00,9,  -999.00,9,   3500,-999.000,  -999.0,  1.2144
     33KI119_1,  PRS2,     2, 16,      4,     36,2,20001019,1158, 22.7473,-158.0010, 4732,   3500.1,   1.4800,  34.6789,2,  34.6785,2,    135.4,2,   -999.0,5,  -999.00,9,  -999.00,9,  -999.00,9,   3500,-999.000,  -999.0,  1.2143
     33KI119_1,  PRS2,     2, 16,      5,     38,2,20001019,1158, 22.7473,-158.0010, 4732,   3500.4,   1.4800,  34.6790,2,  34.6787,2,    135.3,2,   -999.0,5,  -999.00,9,  -999.00,9,  -999.00,9,   3501,-999.000,  -999.0,  1.2143
     33KI119_1,  PRS2,     2, 16,      6,      7,2,20001019,1158, 22.7473,-158.0010, 4732,   3500.6,   1.4799,  34.6790,2,  34.6781,2,    135.4,2,   -999.0,5,  -999.00,9,  -999.00,9,  -999.00,9,   3500,-999.000,  -999.0,  1.2142
     33KI119_1,  PRS2,     2, 16,      7,     28,2,20001019,1158, 22.7473,-158.0010, 4732,   3500.9,   1.4799,  34.6790,2,  34.6787,2,    135.4,2,    136.7,2,  -999.00,9,  -999.00,9,  -999.00,9,   3501,-999.000,  -999.0,  1.2142
     33KI119_1,  PRS2,     2, 16,      2,     34,2,20001019,1158, 22.7473,-158.0010, 4732,   3998.6,   1.4566,  34.6855,2,  34.6853,2,    146.0,2,   -999.0,5,  -999.00,9,  -999.00,9,  -999.00,9,   4000,-999.000,  -999.0,  1.1390
     33KI119_1,  PRS2,     2, 16,      1,     33,2,20001019,1158, 22.7473,-158.0010, 4732,   4805.3,   1.5090,  34.6892,2,  34.6887,2,    153.0,2,    153.4,2,  -999.00,9,  -999.00,9,  -999.00,9,   4806,-999.000,  -999.0,  1.0979
     33KI119_1,  PRS2,     6,  1,      5,     38,2,20001020,0545, 21.8487,-158.3517, 2488,      4.9,  26.4114,  35.2089,2,  35.2109,2,    201.4,1,   -999.0,9,  -999.00,9,  -999.00,9,  -999.00,9,      5,-999.000,  -999.0, 26.4103
     33KI119_1,  PRS2,     6,  1,      4,     36,2,20001020,0545, 21.8487,-158.3517, 2488,    198.4,  16.4649,  34.7071,2,  34.7077,2,    192.2,1,   -999.0,9,  -999.00,9,  -999.00,9,  -999.00,9,    199,-999.000,  -999.0, 16.4329
     33KI119_1,  PRS2,     6,  1,      3,     35,2,20001020,0545, 21.8487,-158.3517, 2488,    497.4,   6.5092,  34.0432,2,  35.2071,4,     94.3,1,   -999.0,9,  -999.00,9,  -999.00,9,  -999.00,9,    498,-999.000,  -999.0,  6.4642
     33KI119_1,  PRS2,     6,  1,      2,     34,2,20001020,0545, 21.8487,-158.3517, 2488,   1498.3,   2.7911,  34.5732,2,  34.5728,2,     67.7,1,   -999.0,9,  -999.00,9,  -999.00,9,  -999.00,9,   1499,-999.000,  -999.0,  2.6858
     33KI119_1,  PRS2,     6,  1,      1,     33,2,20001020,0545, 21.8487,-158.3517, 2488,   2480.3,   1.6867,  34.6533,2,  34.6525,2,    112.7,1,   -999.0,9,  -999.00,9,  -999.00,9,  -999.00,9,   2480,-999.000,  -999.0,  1.5140
     33KI119_1,  PRS2,     8,  1,     13,     13,2,20001019,2256, 22.3327,-158.2050, 4814,      4.5,  25.9641,  35.2499,2,  35.2562,2,    204.0,2,    204.1,2,     1.72,2,    -0.01,2,     0.10,2,      5,-999.000,  -999.0, 25.9631
     33KI119_1,  PRS2,     8,  1,     12,     12,2,20001019,2256, 22.3327,-158.2050, 4814,     24.7,  25.8810,  35.2469,2,  35.2580,3,    205.1,3,    204.4,2,  -999.00,5,  -999.00,5,  -999.00,5,     25,-999.000,  -999.0, 25.8755
     33KI119_1,  PRS2,     8,  1,     11,     11,2,20001019,2256, 22.3327,-158.2050, 4814,     44.0,  25.8771,  35.2482,2,  35.2485,2,    205.0,2,    206.1,2,     1.47,2,    -0.01,2,     0.15,2,     44,-999.000,  -999.0, 25.8673
     33KI119_1,  PRS2,     8,  1,     10,     32,2,20001019,2256, 22.3327,-158.2050, 4814,     74.2,  24.7918,  35.3882,2,  35.3967,2,    217.1,2,    215.5,2,  -999.00,5,  -999.00,5,  -999.00,5,     75,-999.000,  -999.0, 24.7758
     33KI119_1,  PRS2,     8,  1,      9,      3,2,20001019,2256, 22.3327,-158.2050, 4814,    100.0,  22.5145,  35.3512,2,  35.3512,2,    205.2,2,    211.0,2,     2.00,2,     0.00,2,     0.12,2,    101,-999.000,  -999.0, 22.4944
     33KI119_1,  PRS2,     8,  1,      8,     29,2,20001019,2256, 22.3327,-158.2050, 4814,    124.3,  21.8021,  35.3426,2,  35.3466,2,    198.2,2,    202.1,2,  -999.00,5,  -999.00,5,  -999.00,5,    125,-999.000,  -999.0, 21.7776
     33KI119_1,  PRS2,     8,  1,      7,     28,2,20001019,2256, 22.3327,-158.2050, 4814,    149.3,  21.2653,  35.2775,2,  35.2785,2,    198.7,2,    199.9,2,     2.23,2,     0.79,2,     0.18,2,    150,-999.000,  -999.0, 21.2364
     33KI119_1,  PRS2,     8,  1,      6,      7,2,20001019,2256, 22.3327,-158.2050, 4814,    175.2,  20.1268,  35.2283,2,  35.2327,2,    201.8,2,    201.8,2,     2.67,2,     1.26,2,     0.21,2,    176,-999.000,  -999.0, 20.0942
     33KI119_1,  PRS2,     8,  1,      5,     38,2,20001019,2256, 22.3327,-158.2050, 4814,    249.9,  14.6210,  34.4827,2,  34.4844,2,    195.5,2,    195.9,2,     7.40,2,     7.05,2,     0.62,2,    251,-999.000,  -999.0, 14.5839
     33KI119_1,  PRS2,     8,  1,      4,     36,2,20001019,2256, 22.3327,-158.2050, 4814,    350.3,  10.8872,  34.1766,2,  34.1770,2,    198.1,2,    197.6,2,    16.65,2,    14.09,2,     1.08,2,    351,-999.000,  -999.0, 10.8444
     33KI119_1,  PRS2,     8,  1,      3,     35,2,20001019,2256, 22.3327,-158.2050, 4814,    500.5,   7.0209,  34.0657,2,  34.0666,2,     99.4,2,    104.8,2,    49.82,2,    30.07,2,     2.24,2,    501,-999.000,  -999.0,  6.9736
     33KI119_1,  PRS2,     8,  1,      2,     34,2,20001019,2256, 22.3327,-158.2050, 4814,    749.4,   4.7031,  34.3166,2,  34.3142,2,     26.3,2,     26.3,2,    97.03,2,    40.89,2,     3.01,2,    750,-999.000,  -999.0,  4.6439
     33KI119_1,  PRS2,     8,  1,      1,     33,2,20001019,2256, 22.3327,-158.2050, 4814,   1020.9,   3.9608,  34.4869,2,  34.4873,2,     41.9,2,     41.8,2,   111.72,2,    41.29,2,     3.00,2,   1022,-999.000,  -999.0,  3.8837