BOTTLE,20020809WHPSIObren
EXPOCODE,SECT_ID,STNNBR,CASTNO,SAMPNO,BTLNBR,BTLNBR_FLAG_W,DATE,TIME,LATITUDE,LONGITUDE,DEPTH,CTDPRS,CTDTMP,CTDSAL,CTDSAL_FLAG_W,SALNTY,SALNTY_FLAG_W,CTDOXY,CTDOXY_FLAG_W,OXYGEN,OXYGEN_FLAG_W,SILCAT,SILCAT_FLAG_W,NO2+NO3,NO2+NO3_FLAG_W,PHSPHT,PHSPHT_FLAG_W,CTDRAW,REVTMP,REVPRS,THETA
,,,,,,,,,,,,DBAR,ITS-90,PSS-78,,PSS-78,,UMOL/KG,,UMOL/KG,,UMOL/KG,,UMOL/KG,,UMOL/KG,,,DEG C,DBAR,ITS-90
     33KI119_1,  PRS2,     2,  8,      9,      3,2,20001018,1200, 22.7508,-158.0070, 4726,      4.8,  25.7318,  35.3451,2,  35.3447,2,    204.3,1,   -999.0,9,  -999.00,9,  -999.00,9,  -999.00,9,      5,-999.000,  -999.0, 25.7307
     33KI119_1,  PRS2,     2,  8,     10,     32,2,20001018,1200, 22.7508,-158.0070, 4726,      4.9,  25.7327,  35.3454,2,  35.3443,2,    204.4,1,   -999.0,9,  -999.00,9,  -999.00,9,  -999.00,9,      5,-999.000,  -999.0, 25.7316
     33KI119_1,  PRS2,     2,  8,      8,     29,2,20001018,1200, 22.7508,-158.0070, 4726,      4.9,  25.7314,  35.3451,2,  35.3443,2,    204.3,1,   -999.0,9,  -999.00,9,  -999.00,9,  -999.00,9,      5,-999.000,  -999.0, 25.7304
     33KI119_1,  PRS2,     2,  8,      7,     28,2,20001018,1200, 22.7508,-158.0070, 4726,     84.3,  23.8440,  35.3587,2,  35.3581,2,    225.3,1,   -999.0,9,  -999.00,9,  -999.00,9,  -999.00,9,     85,-999.000,  -999.0, 23.8263
     33KI119_1,  PRS2,     2,  8,      6,      7,2,20001018,1200, 22.7508,-158.0070, 4726,     94.8,  23.3582,  35.3648,2,  35.3644,2,    223.9,1,   -999.0,9,  -999.00,9,  -999.00,9,  -999.00,9,     95,-999.000,  -999.0, 23.3386
     33KI119_1,  PRS2,     2,  8,      5,     38,2,20001018,1200, 22.7508,-158.0070, 4726,    110.4,  22.2213,  35.3588,2,  35.3618,2,    218.8,1,   -999.0,9,  -999.00,9,  -999.00,9,  -999.00,9,    111,-999.000,  -999.0, 22.1992
     33KI119_1,  PRS2,     2,  8,      4,     36,2,20001018,1200, 22.7508,-158.0070, 4726,    149.8,  20.6040,  35.3103,2,  35.3131,2,    203.2,1,   -999.0,9,  -999.00,9,  -999.00,9,  -999.00,9,    150,-999.000,  -999.0, 20.5757
     33KI119_1,  PRS2,     2,  8,      1,     33,2,20001018,1200, 22.7508,-158.0070, 4726,   1020.1,   3.9638,  34.4905,2,  34.4897,2,     41.1,1,   -999.0,9,  -999.00,9,  -999.00,9,  -999.00,9,   1021,-999.000,  -999.0,  3.8868
     33KI119_1,  PRS2,     2,  8,      2,     34,2,20001018,1200, 22.7508,-158.0070, 4726,   1020.4,   3.9604,  34.4912,2,  34.4895,2,     41.1,1,   -999.0,9,  -999.00,9,  -999.00,9,  -999.00,9,   1021,-999.000,  -999.0,  3.8834
     33KI119_1,  PRS2,     2,  8,      3,     35,2,20001018,1200, 22.7508,-158.0070, 4726,   1020.9,   3.9587,  34.4915,2,  34.4893,2,     41.1,1,   -999.0,9,  -999.00,9,  -999.00,9,  -999.00,9,   1021,-999.000,  -999.0,  3.8817
     33KI119_1,  PRS2,     2,  9,     22,     22,2,20001018,1456, 22.7455,-157.9893, 4729,      4.6,  25.7302,  35.3691,2,  35.3681,2,    202.6,1,   -999.0,9,  -999.00,9,  -999.00,9,  -999.00,9,      5,-999.000,  -999.0, 25.7292
     33KI119_1,  PRS2,     2,  9,     21,     21,2,20001018,1456, 22.7455,-157.9893, 4729,      4.6,  25.7308,  35.3691,2,  35.3727,2,    202.7,1,   -999.0,9,  -999.00,9,  -999.00,9,  -999.00,9,      5,-999.000,  -999.0, 25.7298
     33KI119_1,  PRS2,     2,  9,     20,     20,2,20001018,1456, 22.7455,-157.9893, 4729,      4.7,  25.7331,  35.3694,2,  35.3727,2,    202.8,1,   -999.0,9,  -999.00,9,  -999.00,9,  -999.00,9,      5,-999.000,  -999.0, 25.7320
     33KI119_1,  PRS2,     2,  9,     19,     19,3,20001018,1456, 22.7455,-157.9893, 4729,     24.9,  25.7339,  35.3692,2,  35.3677,2,    203.5,1,   -999.0,9,  -999.00,9,  -999.00,9,  -999.00,9,     25,-999.000,  -999.0, 25.7284
     33KI119_1,  PRS2,     2,  9,     18,     18,2,20001018,1456, 22.7455,-157.9893, 4729,     24.9,  25.7333,  35.3692,2,  35.3679,2,    203.5,1,   -999.0,9,  -999.00,9,  -999.00,9,  -999.00,9,     25,-999.000,  -999.0, 25.7278
     33KI119_1,  PRS2,     2,  9,     17,     17,2,20001018,1456, 22.7455,-157.9893, 4729,     24.9,  25.7326,  35.3692,2,  35.3675,2,    203.6,1,   -999.0,9,  -999.00,9,  -999.00,9,  -999.00,9,     25,-999.000,  -999.0, 25.7271
     33KI119_1,  PRS2,     2,  9,     16,     16,2,20001018,1456, 22.7455,-157.9893, 4729,     45.0,  25.7367,  35.3689,2,  35.3671,2,    203.6,1,   -999.0,9,  -999.00,9,  -999.00,9,  -999.00,9,     45,-999.000,  -999.0, 25.7268
     33KI119_1,  PRS2,     2,  9,     15,     23,2,20001018,1456, 22.7455,-157.9893, 4729,     45.0,  25.7352,  35.3690,2,  35.3703,2,    204.9,1,   -999.0,9,  -999.00,9,  -999.00,9,  -999.00,9,     46,-999.000,  -999.0, 25.7253
     33KI119_1,  PRS2,     2,  9,     14,     14,2,20001018,1456, 22.7455,-157.9893, 4729,     45.0,  25.7342,  35.3692,2,  35.3679,2,    204.8,1,   -999.0,9,  -999.00,9,  -999.00,9,  -999.00,9,     46,-999.000,  -999.0, 25.7243
     33KI119_1,  PRS2,     2,  9,     11,     11,2,20001018,1456, 22.7455,-157.9893, 4729,     74.1,  23.4494,  35.3866,2,  35.3869,2,    225.0,1,   -999.0,9,  -999.00,9,  -999.00,9,  -999.00,9,     75,-999.000,  -999.0, 23.4340
     33KI119_1,  PRS2,     2,  9,     12,     12,2,20001018,1456, 22.7455,-157.9893, 4729,     74.2,  23.4466,  35.3861,2,  35.3869,2,    225.1,1,   -999.0,9,  -999.00,9,  -999.00,9,  -999.00,9,     75,-999.000,  -999.0, 23.4313
     33KI119_1,  PRS2,     2,  9,     13,     13,2,20001018,1456, 22.7455,-157.9893, 4729,     74.3,  23.4419,  35.3858,2,  35.3853,2,    225.1,1,   -999.0,9,  -999.00,9,  -999.00,9,  -999.00,9,     74,-999.000,  -999.0, 23.4265
     33KI119_1,  PRS2,     2,  9,     10,     32,2,20001018,1456, 22.7455,-157.9893, 4729,     98.9,  21.8113,  35.3557,2,  35.3563,2,    214.1,1,   -999.0,9,  -999.00,9,  -999.00,9,  -999.00,9,     99,-999.000,  -999.0, 21.7918
     33KI119_1,  PRS2,     2,  9,      9,      3,2,20001018,1456, 22.7455,-157.9893, 4729,     98.9,  21.8129,  35.3556,2,  35.3551,2,    213.9,1,   -999.0,9,  -999.00,9,  -999.00,9,  -999.00,9,     99,-999.000,  -999.0, 21.7935
     33KI119_1,  PRS2,     2,  9,      8,     29,2,20001018,1456, 22.7455,-157.9893, 4729,     98.9,  21.8151,  35.3557,2,  35.3545,2,    213.8,1,   -999.0,9,  -999.00,9,  -999.00,9,  -999.00,9,    100,-999.000,  -999.0, 21.7956
     33KI119_1,  PRS2,     2,  9,      5,     38,3,20001018,1456, 22.7455,-157.9893, 4729,    125.3,  21.0172,  35.3518,2,  35.3526,2,    209.6,1,   -999.0,9,  -999.00,9,  -999.00,9,  -999.00,9,    125,-999.000,  -999.0, 20.9932
     33KI119_1,  PRS2,     2,  9,      7,     28,2,20001018,1456, 22.7455,-157.9893, 4729,    125.4,  21.0286,  35.3525,2,  35.3516,2,    209.7,1,   -999.0,9,  -999.00,9,  -999.00,9,  -999.00,9,    126,-999.000,  -999.0, 21.0045
     33KI119_1,  PRS2,     2,  9,      6,      7,2,20001018,1456, 22.7455,-157.9893, 4729,    125.4,  21.0251,  35.3521,2,  35.3522,2,    209.7,1,   -999.0,9,  -999.00,9,  -999.00,9,  -999.00,9,    126,-999.000,  -999.0, 21.0011
     33KI119_1,  PRS2,     2,  9,      4,     36,2,20001018,1456, 22.7455,-157.9893, 4729,    147.9,  20.0564,  35.1988,2,  35.2010,2,    194.7,1,   -999.0,9,  -999.00,9,  -999.00,9,  -999.00,9,    148,-999.000,  -999.0, 20.0290
     33KI119_1,  PRS2,     2,  9,      3,     35,2,20001018,1456, 22.7455,-157.9893, 4729,    176.2,  18.9652,  35.0508,2,  35.0594,2,    202.2,1,   -999.0,9,  -999.00,9,  -999.00,9,  -999.00,9,    176,-999.000,  -999.0, 18.9338
     33KI119_1,  PRS2,     2,  9,      2,     34,2,20001018,1456, 22.7455,-157.9893, 4729,    801.4,   4.6352,  34.3859,2,  34.3827,2,     28.1,1,   -999.0,9,  -999.00,9,  -999.00,9,  -999.00,9,    801,-999.000,  -999.0,  4.5720
     33KI119_1,  PRS2,     2,  9,      1,     33,2,20001018,1456, 22.7455,-157.9893, 4729,   1017.8,   3.8915,  34.4988,2,  34.4985,2,     42.3,1,   -999.0,9,  -999.00,9,  -999.00,9,  -999.00,9,   1019,-999.000,  -999.0,  3.8152
     33KI119_1,  PRS2,     2, 10,     12,     12,2,20001018,1757, 22.7550,-157.9797, 4717,      4.1,  25.6584,  35.3519,2,  35.3498,2,    205.2,1,   -999.0,9,  -999.00,9,  -999.00,9,  -999.00,9,      4,-999.000,  -999.0, 25.6575
     33KI119_1,  PRS2,     2, 10,     11,     11,2,20001018,1757, 22.7550,-157.9797, 4717,     24.3,  25.6709,  35.3511,2,  35.3492,2,    205.3,1,   -999.0,9,  -999.00,9,  -999.00,9,  -999.00,9,     25,-999.000,  -999.0, 25.6656
     33KI119_1,  PRS2,     2, 10,     10,     32,2,20001018,1757, 22.7550,-157.9797, 4717,     44.6,  25.6677,  35.3513,2,  35.3520,2,    205.3,1,   -999.0,9,  -999.00,9,  -999.00,9,  -999.00,9,     46,-999.000,  -999.0, 25.6578
     33KI119_1,  PRS2,     2, 10,      9,      3,2,20001018,1757, 22.7550,-157.9797, 4717,     75.3,  23.8917,  35.3911,2,  35.3912,2,    226.5,1,   -999.0,9,  -999.00,9,  -999.00,9,  -999.00,9,     76,-999.000,  -999.0, 23.8759
     33KI119_1,  PRS2,     2, 10,      8,     29,2,20001018,1757, 22.7550,-157.9797, 4717,    100.1,  22.1890,  35.3619,2,  35.3632,2,    217.4,1,   -999.0,9,  -999.00,9,  -999.00,9,  -999.00,9,    101,-999.000,  -999.0, 22.1690
     33KI119_1,  PRS2,     2, 10,      7,     28,2,20001018,1757, 22.7550,-157.9797, 4717,    124.8,  21.4964,  35.3703,2,  35.3689,2,    211.0,1,   -999.0,9,  -999.00,9,  -999.00,9,  -999.00,9,    125,-999.000,  -999.0, 21.4721
     33KI119_1,  PRS2,     2, 10,      6,      7,2,20001018,1757, 22.7550,-157.9797, 4717,    151.4,  20.5895,  35.2853,2,  35.2869,2,    203.7,1,   -999.0,9,  -999.00,9,  -999.00,9,  -999.00,9,    152,-999.000,  -999.0, 20.5609
     33KI119_1,  PRS2,     2, 10,      5,     38,2,20001018,1757, 22.7550,-157.9797, 4717,    174.8,  19.4818,  35.0996,2,  35.1071,2,    195.7,1,   -999.0,9,  -999.00,9,  -999.00,9,  -999.00,9,    176,-999.000,  -999.0, 19.4501
     33KI119_1,  PRS2,     2, 10,      4,     36,2,20001018,1757, 22.7550,-157.9797, 4717,    248.8,  16.2729,  34.6863,2,  34.6855,2,    196.5,1,   -999.0,9,  -999.00,9,  -999.00,9,  -999.00,9,    250,-999.000,  -999.0, 16.2331
     33KI119_1,  PRS2,     2, 10,      3,     35,2,20001018,1757, 22.7550,-157.9797, 4717,    500.3,   7.4679,  34.0189,2,  34.0209,2,    142.4,1,   -999.0,9,  -999.00,9,  -999.00,9,  -999.00,9,    502,-999.000,  -999.0,  7.4190
     33KI119_1,  PRS2,     2, 10,      2,     34,2,20001018,1757, 22.7550,-157.9797, 4717,    749.5,   4.6735,  34.2773,2,  34.2781,2,     20.9,1,   -999.0,9,  -999.00,9,  -999.00,9,  -999.00,9,    750,-999.000,  -999.0,  4.6146
     33KI119_1,  PRS2,     2, 10,      1,     33,2,20001018,1757, 22.7550,-157.9797, 4717,   1019.4,   3.9342,  34.4850,2,  34.4856,2,     40.9,1,   -999.0,9,  -999.00,9,  -999.00,9,  -999.00,9,   1021,-999.000,  -999.0,  3.8575
     33KI119_1,  PRS2,     2, 11,     12,     12,2,20001018,2055, 22.7517,-158.0012, 4717,     44.5,  25.6794,  35.3633,2,  35.3632,2,    204.1,1,   -999.0,9,  -999.00,9,  -999.00,9,  -999.00,9,     45,-999.000,  -999.0, 25.6696
     33KI119_1,  PRS2,     2, 11,     11,     11,2,20001018,2055, 22.7517,-158.0012, 4717,    250.8,  16.4262,  34.6999,2,  34.7005,2,    196.1,1,   -999.0,9,  -999.00,9,  -999.00,9,  -999.00,9,    252,-999.000,  -999.0, 16.3858
     33KI119_1,  PRS2,     2, 11,     10,     32,2,20001018,2055, 22.7517,-158.0012, 4717,    499.5,   7.0942,  34.0192,2,  34.0215,2,    129.9,1,   -999.0,9,  -999.00,9,  -999.00,9,  -999.00,9,    500,-999.000,  -999.0,  7.0468
     33KI119_1,  PRS2,     2, 11,      9,      3,2,20001018,2055, 22.7517,-158.0012, 4717,    750.0,   4.7505,  34.2664,2,  34.2681,2,     21.3,1,   -999.0,9,  -999.00,9,  -999.00,9,  -999.00,9,    751,-999.000,  -999.0,  4.6911
     33KI119_1,  PRS2,     2, 11,      3,     35,2,20001018,2055, 22.7517,-158.0012, 4717,   1018.9,   3.9196,  34.4961,2,  34.4942,2,     42.0,1,   -999.0,9,  -999.00,9,  -999.00,9,  -999.00,9,   1020,-999.000,  -999.0,  3.8430
     33KI119_1,  PRS2,     2, 11,      2,     34,2,20001018,2055, 22.7517,-158.0012, 4717,   1018.9,   3.9200,  34.4961,2,  34.4938,2,     42.0,1,   -999.0,9,  -999.00,9,  -999.00,9,  -999.00,9,   1019,-999.000,  -999.0,  3.8434
     33KI119_1,  PRS2,     2, 11,      1,     33,2,20001018,2055, 22.7517,-158.0012, 4717,   1018.9,   3.9206,  34.4962,2,  34.4940,2,     42.0,1,   -999.0,9,  -999.00,9,  -999.00,9,  -999.00,9,   1019,-999.000,  -999.0,  3.8440
     33KI119_1,  PRS2,     2, 11,      4,     36,2,20001018,2055, 22.7517,-158.0012, 4717,   1019.0,   3.9196,  34.4961,2,  34.4936,2,     42.0,1,   -999.0,9,  -999.00,9,  -999.00,9,  -999.00,9,   1020,-999.000,  -999.0,  3.8430
     33KI119_1,  PRS2,     2, 11,      6,      7,2,20001018,2055, 22.7517,-158.0012, 4717,   1019.2,   3.9203,  34.4961,2,  34.4948,2,     42.0,1,   -999.0,9,  -999.00,9,  -999.00,9,  -999.00,9,   1019,-999.000,  -999.0,  3.8437
     33KI119_1,  PRS2,     2, 11,      5,     38,2,20001018,2055, 22.7517,-158.0012, 4717,   1019.2,   3.9198,  34.4962,2,  34.4952,2,     42.0,1,   -999.0,9,  -999.00,9,  -999.00,9,  -999.00,9,   1019,-999.000,  -999.0,  3.8432
     33KI119_1,  PRS2,     2, 11,      8,     29,2,20001018,2055, 22.7517,-158.0012, 4717,   1019.3,   3.9191,  34.4962,2,  34.4987,2,     42.1,1,   -999.0,9,  -999.00,9,  -999.00,9,  -999.00,9,   1019,-999.000,  -999.0,  3.8425
     33KI119_1,  PRS2,     2, 11,      7,     28,2,20001018,2055, 22.7517,-158.0012, 4717,   1019.3,   3.9201,  34.4961,2,  34.4940,2,     42.1,1,   -999.0,9,  -999.00,9,  -999.00,9,  -999.00,9,   1019,-999.000,  -999.0,  3.8434
     33KI119_1,  PRS2,     2, 12,     12,     12,2,20001018,2355, 22.7538,-157.9837, 4719,      5.2,  25.7189,  35.3640,2,  35.3646,2,    204.3,1,   -999.0,9,  -999.00,9,  -999.00,9,  -999.00,9,      6,-999.000,  -999.0, 25.7177
     33KI119_1,  PRS2,     2, 12,     11,     11,2,20001018,2355, 22.7538,-157.9837, 4719,     24.0,  25.6792,  35.3611,2,  35.3638,2,    204.8,1,   -999.0,9,  -999.00,9,  -999.00,9,  -999.00,9,     25,-999.000,  -999.0, 25.6739
     33KI119_1,  PRS2,     2, 12,     10,     32,2,20001018,2355, 22.7538,-157.9837, 4719,     44.1,  25.6746,  35.3605,2,  35.3593,2,    205.0,1,   -999.0,9,  -999.00,9,  -999.00,9,  -999.00,9,     44,-999.000,  -999.0, 25.6648
     33KI119_1,  PRS2,     2, 12,      9,      3,2,20001018,2355, 22.7538,-157.9837, 4719,     74.7,  23.4137,  35.3902,2,  35.3884,2,    228.2,1,   -999.0,9,  -999.00,9,  -999.00,9,  -999.00,9,     76,-999.000,  -999.0, 23.3983
     33KI119_1,  PRS2,     2, 12,      8,     29,2,20001018,2355, 22.7538,-157.9837, 4719,    100.5,  22.0693,  35.3634,2,  35.3620,2,    216.2,1,   -999.0,9,  -999.00,9,  -999.00,9,  -999.00,9,    101,-999.000,  -999.0, 22.0493
     33KI119_1,  PRS2,     2, 12,      7,     28,2,20001018,2355, 22.7538,-157.9837, 4719,    125.6,  21.4350,  35.3592,2,  35.3591,2,    208.4,1,   -999.0,9,  -999.00,9,  -999.00,9,  -999.00,9,    126,-999.000,  -999.0, 21.4106
     33KI119_1,  PRS2,     2, 12,      6,      7,2,20001018,2355, 22.7538,-157.9837, 4719,    149.1,  20.8658,  35.3298,2,  35.3327,2,    210.8,1,   -999.0,9,  -999.00,9,  -999.00,9,  -999.00,9,    150,-999.000,  -999.0, 20.8374
     33KI119_1,  PRS2,     2, 12,      5,     38,2,20001018,2355, 22.7538,-157.9837, 4719,    175.2,  19.5848,  35.0987,2,  35.1110,2,    194.0,1,   -999.0,9,  -999.00,9,  -999.00,9,  -999.00,9,    176,-999.000,  -999.0, 19.5528
     33KI119_1,  PRS2,     2, 12,      4,     36,2,20001018,2355, 22.7538,-157.9837, 4719,    299.0,  13.0765,  34.3788,2,  34.3792,2,    209.2,1,   -999.0,9,  -999.00,9,  -999.00,9,  -999.00,9,    299,-999.000,  -999.0, 13.0353
     33KI119_1,  PRS2,     2, 12,      3,     35,2,20001018,2355, 22.7538,-157.9837, 4719,    499.5,   7.3641,  34.0175,2,  34.0164,2,    138.8,1,   -999.0,9,  -999.00,9,  -999.00,9,  -999.00,9,    500,-999.000,  -999.0,  7.3157
     33KI119_1,  PRS2,     2, 12,      2,     34,2,20001018,2355, 22.7538,-157.9837, 4719,    701.1,   4.7520,  34.2176,2,  34.2132,2,     25.0,1,   -999.0,9,  -999.00,9,  -999.00,9,  -999.00,9,    701,-999.000,  -999.0,  4.6968
     33KI119_1,  PRS2,     2, 12,      1,     33,2,20001018,2355, 22.7538,-157.9837, 4719,   1019.3,   3.9334,  34.4793,2,  34.4775,2,     40.3,1,   -999.0,9,  -999.00,9,  -999.00,9,  -999.00,9,   1020,-999.000,  -999.0,  3.8567
     33KI119_1,  PRS2,     2, 13,     14,     14,2,20001019,0255, 22.7780,-158.0208, 4724,      5.2,  25.7741,  35.3581,2,  35.3687,3,    206.0,1,   -999.0,9,  -999.00,9,  -999.00,9,  -999.00,9,      5,-999.000,  -999.0, 25.7730
     33KI119_1,  PRS2,     2, 13,     13,     13,2,20001019,0255, 22.7780,-158.0208, 4724,     24.3,  25.6844,  35.3598,2,  35.3597,2,    205.5,1,   -999.0,9,  -999.00,9,  -999.00,9,  -999.00,9,     25,-999.000,  -999.0, 25.6790
     33KI119_1,  PRS2,     2, 13,     12,     12,2,20001019,0255, 22.7780,-158.0208, 4724,     45.0,  25.6734,  35.3601,2,  35.3602,2,    205.5,1,   -999.0,9,  -999.00,9,  -999.00,9,  -999.00,9,     45,-999.000,  -999.0, 25.6634
     33KI119_1,  PRS2,     2, 13,     11,     11,2,20001019,0255, 22.7780,-158.0208, 4724,     45.1,  25.6715,  35.3600,2,  35.3595,2,    205.5,1,   -999.0,9,  -999.00,9,  -999.00,9,  -999.00,9,     45,-999.000,  -999.0, 25.6615
     33KI119_1,  PRS2,     2, 13,     10,     32,2,20001019,0255, 22.7780,-158.0208, 4724,     74.3,  23.2957,  35.3802,2,  35.3752,2,    224.7,1,   -999.0,9,  -999.00,9,  -999.00,9,  -999.00,9,     75,-999.000,  -999.0, 23.2804
     33KI119_1,  PRS2,     2, 13,      9,      3,2,20001019,0255, 22.7780,-158.0208, 4724,     99.9,  22.0685,  35.3604,2,  35.3593,2,    218.0,1,   -999.0,9,  -999.00,9,  -999.00,9,  -999.00,9,    100,-999.000,  -999.0, 22.0487
     33KI119_1,  PRS2,     2, 13,      8,     29,2,20001019,0255, 22.7780,-158.0208, 4724,    149.9,  20.3432,  35.2452,2,  35.2475,2,    201.9,1,   -999.0,9,  -999.00,9,  -999.00,9,  -999.00,9,    151,-999.000,  -999.0, 20.3151
     33KI119_1,  PRS2,     2, 13,      7,     28,2,20001019,0255, 22.7780,-158.0208, 4724,    175.0,  19.1169,  35.0652,2,  35.0687,2,    196.6,1,   -999.0,9,  -999.00,9,  -999.00,9,  -999.00,9,    176,-999.000,  -999.0, 19.0856
     33KI119_1,  PRS2,     2, 13,      6,      7,2,20001019,0255, 22.7780,-158.0208, 4724,    248.8,  15.3248,  34.5780,2,  34.5794,2,    201.5,1,   -999.0,9,  -999.00,9,  -999.00,9,  -999.00,9,    249,-999.000,  -999.0, 15.2866
     33KI119_1,  PRS2,     2, 13,      5,     38,2,20001019,0255, 22.7780,-158.0208, 4724,    350.3,  11.0837,  34.1840,2,  34.1838,2,    183.3,1,   -999.0,9,  -999.00,9,  -999.00,9,  -999.00,9,    350,-999.000,  -999.0, 11.0404
     33KI119_1,  PRS2,     2, 13,      4,     36,2,20001019,0255, 22.7780,-158.0208, 4724,    499.6,   6.9211,  34.0201,2,  34.0192,2,    122.2,1,   -999.0,9,  -999.00,9,  -999.00,9,  -999.00,9,    501,-999.000,  -999.0,  6.8744
     33KI119_1,  PRS2,     2, 13,      3,     35,2,20001019,0255, 22.7780,-158.0208, 4724,    701.5,   4.8541,  34.2503,2,  34.2472,2,     23.2,1,   -999.0,9,  -999.00,9,  -999.00,9,  -999.00,9,    702,-999.000,  -999.0,  4.7983
     33KI119_1,  PRS2,     2, 13,      2,     34,2,20001019,0255, 22.7780,-158.0208, 4724,    800.5,   4.5651,  34.3255,2,  34.3270,2,     20.6,1,   -999.0,9,  -999.00,9,  -999.00,9,  -999.00,9,    801,-999.000,  -999.0,  4.5025
     33KI119_1,  PRS2,     2, 13,      1,     33,2,20001019,0255, 22.7780,-158.0208, 4724,   1019.1,   3.9958,  34.4449,2,  34.4451,2,     34.6,1,   -999.0,9,  -999.00,9,  -999.00,9,  -999.00,9,   1020,-999.000,  -999.0,  3.9187