BOTTLE,20020809WHPSIObren
#code : jjward hyd_to_exchange.pl 
#original files copied from HTML directory: 20020809
#original HYD file: /whpo/11/HOTS/BOTTLE/hot119/hot119.sea   Fri Aug  9 09:51:27 2002
#original SUM file: /whpo/11/HOTS/BOTTLE/hot119/hot119.sum   Fri Aug  9 13:30:32 2002
EXPOCODE,SECT_ID,STNNBR,CASTNO,SAMPNO,BTLNBR,BTLNBR_FLAG_W,DATE,TIME,LATITUDE,LONGITUDE,DEPTH,CTDPRS,CTDTMP,CTDSAL,CTDSAL_FLAG_W,SALNTY,SALNTY_FLAG_W,CTDOXY,CTDOXY_FLAG_W,OXYGEN,OXYGEN_FLAG_W,SILCAT,SILCAT_FLAG_W,NO2+NO3,NO2+NO3_FLAG_W,PHSPHT,PHSPHT_FLAG_W,CTDRAW,REVTMP,REVPRS,THETA
,,,,,,,,,,,,DBAR,ITS-90,PSS-78,,PSS-78,,UMOL/KG,,UMOL/KG,,UMOL/KG,,UMOL/KG,,UMOL/KG,,,DEG C,DBAR,ITS-90
     33KI119_1,  PRS2,     1,  1,     16,     16,2,20001017,0129, 21.3422,-158.2582, 1409,      4.7,  27.0101,  35.1651,2,  35.1673,2,    200.8,2,    201.3,2,  -999.00,5,  -999.00,5,  -999.00,5,      5,-999.000,  -999.0, 27.0090
     33KI119_1,  PRS2,     1,  1,     15,     23,2,20001017,0129, 21.3422,-158.2582, 1409,      4.7,  27.0126,  35.1651,2,  35.1670,2,    200.8,2,    200.8,2,     1.42,2,     0.01,2,     0.06,2,      5,-999.000,  -999.0, 27.0115
     33KI119_1,  PRS2,     1,  1,     14,     14,2,20001017,0129, 21.3422,-158.2582, 1409,     24.5,  26.8687,  35.1549,2,  35.1547,2,    200.9,2,    201.0,2,     1.45,2,     0.00,2,     0.06,2,     25,-999.000,  -999.0, 26.8631
     33KI119_1,  PRS2,     1,  1,     13,     13,2,20001017,0129, 21.3422,-158.2582, 1409,     46.1,  26.8478,  35.1531,2,  35.1555,2,    201.3,2,    201.1,2,     1.48,2,     0.00,2,     0.06,2,     47,-999.000,  -999.0, 26.8373
     33KI119_1,  PRS2,     1,  1,     12,     12,2,20001017,0129, 21.3422,-158.2582, 1409,     73.9,  25.2917,  35.1854,2,  35.1924,2,    218.1,2,    218.1,2,     1.77,2,     0.01,2,     0.08,2,     75,-999.000,  -999.0, 25.2756
     33KI119_1,  PRS2,     1,  1,     11,     11,2,20001017,0129, 21.3422,-158.2582, 1409,     99.9,  22.8584,  35.2982,2,  35.2991,2,    219.1,2,    218.5,2,     1.89,2,     0.01,2,     0.07,2,    100,-999.000,  -999.0, 22.8381
     33KI119_1,  PRS2,     1,  1,     10,     32,3,20001017,0129, 21.3422,-158.2582, 1409,    124.6,  21.3090,  35.2614,2,  35.2686,2,    208.2,2,    204.4,2,     2.28,2,     0.66,2,     0.12,2,    125,-999.000,  -999.0, 21.2849
     33KI119_1,  PRS2,     1,  1,      9,      3,2,20001017,0129, 21.3422,-158.2582, 1409,    148.7,  20.1712,  35.1291,2,  35.1311,2,    192.0,2,    192.0,2,     2.84,2,     2.11,2,     0.23,2,    150,-999.000,  -999.0, 20.1436
     33KI119_1,  PRS2,     1,  1,      8,     29,2,20001017,0129, 21.3422,-158.2582, 1409,    174.6,  18.9396,  34.9802,2,  34.9941,2,    184.7,2,    186.8,2,     3.54,2,     3.38,2,     0.33,2,    175,-999.000,  -999.0, 18.9086
     33KI119_1,  PRS2,     1,  1,      7,     28,2,20001017,0129, 21.3422,-158.2582, 1409,    198.9,  18.1016,  34.8871,2,  34.8882,2,    186.9,2,    187.3,2,     4.17,2,     4.11,2,     0.39,2,    199,-999.000,  -999.0, 18.0673
     33KI119_1,  PRS2,     1,  1,      6,      7,2,20001017,0129, 21.3422,-158.2582, 1409,    249.0,  13.7160,  34.4161,2,  34.4163,2,    186.0,2,    186.0,2,    10.34,2,     9.77,2,     0.76,2,    249,-999.000,  -999.0, 13.6806
     33KI119_1,  PRS2,     1,  1,      5,     38,4,20001017,0129, 21.3422,-158.2582, 1409,    350.5,   9.2399,  34.1285,2,-999.0000,5,    144.6,2,   -999.0,5,  -999.00,5,  -999.00,5,  -999.00,5,    351,-999.000,  -999.0,  9.2013
     33KI119_1,  PRS2,     1,  1,      4,     36,2,20001017,0129, 21.3422,-158.2582, 1409,    500.8,   6.4086,  34.1977,2,  34.1975,2,     56.8,2,     56.7,2,    64.09,2,    34.71,2,     2.56,2,    501,-999.000,  -999.0,  6.3635
     33KI119_1,  PRS2,     1,  1,      3,     35,3,20001017,0129, 21.3422,-158.2582, 1409,    600.0,   5.7121,  34.2622,2,  34.2001,4,     39.0,3,     39.2,2,    76.90,2,    37.85,2,     2.80,2,    601,-999.000,  -999.0,  5.6608
     33KI119_1,  PRS2,     1,  1,      2,     34,2,20001017,0129, 21.3422,-158.2582, 1409,    749.7,   5.0074,  34.4026,2,  34.4094,2,     34.6,2,     34.3,2,    90.88,2,    40.20,2,     2.95,2,    750,-999.000,  -999.0,  4.9464
     33KI119_1,  PRS2,     1,  1,      1,     33,2,20001017,0129, 21.3422,-158.2582, 1409,   1019.8,   4.1740,  34.4949,2,  34.4946,2,     44.3,2,     44.5,2,   106.82,2,    40.86,2,     2.97,2,   1020,-999.000,  -999.0,  4.0953
     33KI119_1,  PRS2,     2,  1,      5,     38,2,20001017,1219, 22.7447,-157.9973, 4722,      5.1,  25.7705,  35.3108,2,-999.0000,9,    205.2,1,   -999.0,9,  -999.00,9,  -999.00,9,  -999.00,9,      6,-999.000,  -999.0, 25.7694
     33KI119_1,  PRS2,     2,  1,      6,      7,2,20001017,1219, 22.7447,-157.9973, 4722,      5.2,  25.7722,  35.3105,2,-999.0000,9,    205.3,1,   -999.0,9,  -999.00,9,  -999.00,9,  -999.00,9,      6,-999.000,  -999.0, 25.7710
     33KI119_1,  PRS2,     2,  1,      4,     36,2,20001017,1219, 22.7447,-157.9973, 4722,      5.2,  25.7679,  35.3107,2,-999.0000,9,    205.2,1,   -999.0,9,  -999.00,9,  -999.00,9,  -999.00,9,      6,-999.000,  -999.0, 25.7667
     33KI119_1,  PRS2,     2,  1,      3,     35,2,20001017,1219, 22.7447,-157.9973, 4722,      5.2,  25.7708,  35.3106,2,-999.0000,9,    205.2,1,   -999.0,9,  -999.00,9,  -999.00,9,  -999.00,9,      5,-999.000,  -999.0, 25.7696
     33KI119_1,  PRS2,     2,  1,      2,     34,2,20001017,1219, 22.7447,-157.9973, 4722,     44.5,  25.7805,  35.3106,2,-999.0000,9,    205.2,1,   -999.0,9,  -999.00,9,  -999.00,9,  -999.00,9,     45,-999.000,  -999.0, 25.7706
     33KI119_1,  PRS2,     2,  1,      1,     33,2,20001017,1219, 22.7447,-157.9973, 4722,    100.1,  22.7305,  35.3635,2,-999.0000,9,    222.9,1,   -999.0,9,  -999.00,9,  -999.00,9,  -999.00,9,    100,-999.000,  -999.0, 22.7102
     33KI119_1,  PRS2,     2,  2,     24,     31,2,20001017,1542, 22.7518,-158.0087, 4731,      3.9,  25.7121,  35.3419,2,  35.3443,2,    206.0,2,    204.7,2,     1.99,2,     0.01,2,     0.06,2,      4,-999.000,  -999.0, 25.7113
     33KI119_1,  PRS2,     2,  2,     23,     30,2,20001017,1542, 22.7518,-158.0087, 4731,    499.9,   7.3155,  34.0334,2,  34.0315,2,    132.2,2,    130.7,2,    41.79,2,    26.84,2,     1.91,2,    500,-999.000,  -999.0,  7.2672
     33KI119_1,  PRS2,     2,  2,     22,     22,2,20001017,1542, 22.7518,-158.0087, 4731,    749.8,   4.7986,  34.3554,2,  34.3572,2,     29.8,2,     26.5,2,    93.84,2,    40.67,2,     2.87,3,    749,-999.000,  -999.0,  4.7388
     33KI119_1,  PRS2,     2,  2,     21,     21,2,20001017,1542, 22.7518,-158.0087, 4731,   1001.2,   4.0220,  34.4789,2,  34.4783,2,     39.2,2,     39.4,2,   108.93,2,    41.20,2,     2.96,2,   1002,-999.000,  -999.0,  3.9461
     33KI119_1,  PRS2,     2,  2,     20,     20,2,20001017,1542, 22.7518,-158.0087, 4731,   1202.1,   3.4656,  34.5337,2,  34.5319,2,     51.0,2,     51.0,2,   121.61,2,    41.16,2,     2.94,2,   1202,-999.000,  -999.0,  3.3777
     33KI119_1,  PRS2,     2,  2,     19,     19,2,20001017,1542, 22.7518,-158.0087, 4731,   1402.5,   3.0115,  34.5636,2,  34.5604,2,     61.1,2,     60.9,2,   131.37,2,    40.67,2,     2.90,2,   1403,-999.000,  -999.0,  2.9116
     33KI119_1,  PRS2,     2,  2,     18,     18,2,20001017,1542, 22.7518,-158.0087, 4731,   1600.6,   2.6391,  34.5868,2,  34.5851,2,     70.8,2,     71.2,2,   139.40,2,    40.34,2,     2.86,2,   1601,-999.000,  -999.0,  2.5271
     33KI119_1,  PRS2,     2,  2,     17,     17,2,20001017,1542, 22.7518,-158.0087, 4731,   1800.0,   2.3803,  34.6037,2,  34.6034,2,     78.8,2,     79.3,2,   145.57,2,    40.11,2,     2.82,2,   1801,-999.000,  -999.0,  2.2552
     33KI119_1,  PRS2,     2,  2,     16,     16,2,20001017,1542, 22.7518,-158.0087, 4731,   1999.5,   2.1541,  34.6190,2,  34.6197,2,     86.7,2,     87.3,2,   150.06,2,    39.56,2,     2.78,2,   1999,-999.000,  -999.0,  2.0154
     33KI119_1,  PRS2,     2,  2,     15,     23,2,20001017,1542, 22.7518,-158.0087, 4731,   2199.1,   1.9390,  34.6331,2,  34.6345,2,     93.4,2,     95.1,2,   155.26,2,    39.35,2,     2.74,2,   2199,-999.000,  -999.0,  1.7866
     33KI119_1,  PRS2,     2,  2,     14,     14,2,20001017,1542, 22.7518,-158.0087, 4731,   2399.6,   1.7988,  34.6439,2,  34.6429,2,    101.0,2,    101.3,2,   160.61,3,    38.99,2,     2.71,2,   2400,-999.000,  -999.0,  1.6313
     33KI119_1,  PRS2,     2,  2,     13,     13,2,20001017,1542, 22.7518,-158.0087, 4731,   2600.0,   1.6787,  34.6551,2,  34.6547,2,    108.7,2,    110.1,2,   159.03,2,    38.34,2,     2.67,2,   2600,-999.000,  -999.0,  1.4954
     33KI119_1,  PRS2,     2,  2,     12,     12,2,20001017,1542, 22.7518,-158.0087, 4731,   2799.8,   1.6067,  34.6627,2,  34.6629,2,    117.1,2,    117.2,2,   159.48,2,    38.05,2,     2.64,2,   2800,-999.000,  -999.0,  1.4065
     33KI119_1,  PRS2,     2,  2,     11,     11,2,20001017,1542, 22.7518,-158.0087, 4731,   3000.6,   1.5602,  34.6684,2,  34.6665,2,    122.1,2,    123.1,2,   158.66,2,    37.46,2,     2.60,2,   3000,-999.000,  -999.0,  1.3421
     33KI119_1,  PRS2,     2,  2,     10,     32,2,20001017,1542, 22.7518,-158.0087, 4731,   3199.7,   1.5162,  34.6729,2,  34.6722,2,    127.6,2,    128.3,2,   159.84,2,    37.09,2,     2.58,2,   3201,-999.000,  -999.0,  1.2797
     33KI119_1,  PRS2,     2,  2,      9,      3,2,20001017,1542, 22.7518,-158.0087, 4731,   3398.1,   1.4901,  34.6775,2,  34.6779,2,    133.7,2,    133.8,2,   157.12,2,    36.74,2,     2.55,2,   3398,-999.000,  -999.0,  1.2346
     33KI119_1,  PRS2,     2,  2,      8,     29,2,20001017,1542, 22.7518,-158.0087, 4731,   3599.1,   1.4715,  34.6808,2,  34.6806,2,    139.5,2,    139.4,2,   159.09,3,    36.39,2,     2.52,2,   3599,-999.000,  -999.0,  1.1959
     33KI119_1,  PRS2,     2,  2,      7,     28,2,20001017,1542, 22.7518,-158.0087, 4731,   3799.7,   1.4604,  34.6833,2,  34.6842,2,    143.5,2,    143.3,2,   152.91,2,    36.14,2,     2.50,2,   3799,-999.000,  -999.0,  1.1641
     33KI119_1,  PRS2,     2,  2,      6,      7,2,20001017,1542, 22.7518,-158.0087, 4731,   4000.1,   1.4599,  34.6852,2,  34.6865,2,    146.8,2,    146.4,2,   151.24,2,    35.92,2,     2.49,2,   4001,-999.000,  -999.0,  1.1421
     33KI119_1,  PRS2,     2,  2,      5,     38,2,20001017,1542, 22.7518,-158.0087, 4731,   4198.6,   1.4653,  34.6865,2,  34.6863,2,    149.6,2,    149.0,2,   150.64,2,    35.78,2,     2.48,2,   4198,-999.000,  -999.0,  1.1255
     33KI119_1,  PRS2,     2,  2,      4,     36,2,20001017,1542, 22.7518,-158.0087, 4731,   4399.6,   1.4796,  34.6872,2,  34.6875,2,    151.1,2,    150.4,2,   149.71,2,    35.73,2,     2.48,2,   4399,-999.000,  -999.0,  1.1168
     33KI119_1,  PRS2,     2,  2,      3,     35,2,20001017,1542, 22.7518,-158.0087, 4731,   4499.7,   1.4886,  34.6874,2,  34.6887,2,    151.5,2,    150.7,2,   149.59,2,    35.70,2,     2.47,2,   4500,-999.000,  -999.0,  1.1140
     33KI119_1,  PRS2,     2,  2,      2,     34,2,20001017,1542, 22.7518,-158.0087, 4731,   4604.2,   1.4976,  34.6876,2,  34.6879,2,    152.1,2,    151.6,2,   149.17,2,    35.68,2,     2.47,2,   4604,-999.000,  -999.0,  1.1106
     33KI119_1,  PRS2,     2,  2,      1,     33,2,20001017,1542, 22.7518,-158.0087, 4731,   4806.9,   1.5115,  34.6884,2,  34.6887,2,    153.0,2,    153.1,2,   148.49,2,    35.56,2,     2.46,2,   4807,-999.000,  -999.0,  1.1002
     33KI119_1,  PRS2,     2,  3,     24,     31,2,20001017,2101, 22.7498,-157.9938, 4727,      9.8,  25.7299,  35.3253,2,  35.3267,2,    203.7,2,    204.2,2,     1.31,2,     0.00,2,     0.05,2,     11,-999.000,  -999.0, 25.7277
     33KI119_1,  PRS2,     2,  3,     23,     30,2,20001017,2101, 22.7498,-157.9938, 4727,     72.3,  25.7138,  35.3597,2,  35.3687,2,    205.2,2,    204.8,2,     1.40,2,     0.00,2,     0.04,2,     73,-999.000,  -999.0, 25.6978
     33KI119_1,  PRS2,     2,  3,     22,     22,3,20001017,2101, 22.7498,-157.9938, 4727,     89.4,  23.1288,  35.3624,2,  35.3606,2,    228.0,2,    221.9,2,     1.81,2,     0.00,2,     0.04,2,     91,-999.000,  -999.0, 23.1104
     33KI119_1,  PRS2,     2,  3,     21,     21,2,20001017,2101, 22.7498,-157.9938, 4727,    114.3,  21.9386,  35.3632,2,  35.3634,2,    212.7,2,    213.4,2,     1.85,2,     0.00,2,     0.06,2,    115,-999.000,  -999.0, 21.9160
     33KI119_1,  PRS2,     2,  3,     20,     20,2,20001017,2101, 22.7498,-157.9938, 4727,    154.3,  21.0426,  35.3317,2,  35.3334,2,    203.3,2,    205.4,2,     2.47,2,     0.57,2,     0.10,2,    155,-999.000,  -999.0, 21.0130
     33KI119_1,  PRS2,     2,  3,     19,     19,3,20001017,2101, 22.7498,-157.9938, 4727,    193.5,  19.5632,  35.1210,2,  35.1244,2,    196.4,2,    195.5,2,  -999.00,5,  -999.00,5,  -999.00,5,    194,-999.000,  -999.0, 19.5280
     33KI119_1,  PRS2,     2,  3,     18,     18,2,20001017,2101, 22.7498,-157.9938, 4727,    219.9,  17.9751,  34.9098,2,  34.9205,2,    197.5,2,    195.0,2,     3.51,2,     3.22,2,     0.28,2,    221,-999.000,  -999.0, 17.9374
     33KI119_1,  PRS2,     2,  3,     17,     17,2,20001017,2101, 22.7498,-157.9938, 4727,    257.4,  15.9071,  34.6483,2,  34.6537,2,    201.0,2,    199.2,2,     5.17,2,     4.93,2,     0.43,2,    258,-999.000,  -999.0, 15.8666
     33KI119_1,  PRS2,     2,  3,     16,     16,2,20001017,2101, 22.7498,-157.9938, 4727,    327.7,  12.1411,  34.3084,2,  34.3117,2,    208.7,2,    210.7,2,    11.55,2,    10.47,2,     0.73,2,    329,-999.000,  -999.0, 12.0981
     33KI119_1,  PRS2,     2,  3,     15,     23,2,20001017,2101, 22.7498,-157.9938, 4727,    368.8,  10.7144,  34.1797,2,  34.1873,2,    202.9,2,    202.9,2,    15.20,2,    13.87,2,     0.96,2,    370,-999.000,  -999.0, 10.6697
     33KI119_1,  PRS2,     2,  3,     14,     14,2,20001017,2101, 22.7498,-157.9938, 4727,    434.2,   8.8281,  34.0656,2,  34.0664,2,    175.9,2,    176.8,2,    26.34,2,    20.36,2,     1.41,2,    435,-999.000,  -999.0,  8.7814
     33KI119_1,  PRS2,     2,  3,     13,     13,2,20001017,2101, 22.7498,-157.9938, 4727,    469.6,   7.8979,  34.0320,2,  34.0374,2,    153.8,2,    154.7,2,    34.69,2,    24.27,2,     1.68,2,    470,-999.000,  -999.0,  7.8506
     33KI119_1,  PRS2,     2,  3,     12,     12,2,20001017,2101, 22.7498,-157.9938, 4727,    469.6,   7.8979,  34.0320,2,  34.0343,2,    153.8,2,    154.7,2,    34.70,2,    24.30,2,     1.68,2,    470,-999.000,  -999.0,  7.8506
     33KI119_1,  PRS2,     2,  3,     11,     11,2,20001017,2101, 22.7498,-157.9938, 4727,    534.3,   6.4081,  34.0190,2,  34.0233,2,    102.4,2,    105.1,2,    53.46,2,    31.44,2,     2.26,2,    535,-999.000,  -999.0,  6.3600
     33KI119_1,  PRS2,     2,  3,     10,     32,2,20001017,2101, 22.7498,-157.9938, 4727,    579.7,   5.6527,  34.0640,2,  34.0662,2,     65.9,2,     66.7,2,    69.34,2,    36.12,2,     2.60,2,    581,-999.000,  -999.0,  5.6037
     33KI119_1,  PRS2,     2,  3,      9,      3,2,20001017,2101, 22.7498,-157.9938, 4727,    618.3,   5.8043,  34.1799,2,  34.1756,2,     45.1,2,     44.9,2,    72.97,2,    37.54,2,     2.74,2,    619,-999.000,  -999.0,  5.7510
     33KI119_1,  PRS2,     2,  3,      8,     29,2,20001017,2101, 22.7498,-157.9938, 4727,    653.6,   5.2384,  34.1652,2,  34.1636,2,     39.6,2,     37.9,2,    81.76,2,    39.10,2,     2.85,2,    655,-999.000,  -999.0,  5.1847
     33KI119_1,  PRS2,     2,  3,      7,     28,2,20001017,2101, 22.7498,-157.9938, 4727,    679.6,   5.2662,  34.2433,2,  34.2444,2,     32.2,2,     30.5,2,    83.83,2,    39.69,2,     2.92,2,    680,-999.000,  -999.0,  5.2101
     33KI119_1,  PRS2,     2,  3,      6,      7,2,20001017,2101, 22.7498,-157.9938, 4727,    743.7,   5.0106,  34.3456,2,  34.3486,2,     28.1,2,     28.8,2,    89.95,2,    40.58,2,     2.97,2,    744,-999.000,  -999.0,  4.9501
     33KI119_1,  PRS2,     2,  3,      5,     38,2,20001017,2101, 22.7498,-157.9938, 4727,    798.6,   4.8947,  34.3944,2,  34.3921,2,     30.4,2,     29.3,2,    92.82,2,    40.98,2,     2.99,2,    800,-999.000,  -999.0,  4.8302
     33KI119_1,  PRS2,     2,  3,      4,     36,2,20001017,2101, 22.7498,-157.9938, 4727,    842.0,   4.5185,  34.3939,2,  34.3980,2,     31.5,2,     31.1,2,   100.21,2,    41.32,2,     3.00,2,    842,-999.000,  -999.0,  4.4526
     33KI119_1,  PRS2,     2,  3,      3,     35,2,20001017,2101, 22.7498,-157.9938, 4727,    899.5,   4.2572,  34.4185,2,  34.4204,2,     31.5,2,     31.3,2,   106.31,2,    41.66,2,     3.02,2,    900,-999.000,  -999.0,  4.1882
     33KI119_1,  PRS2,     2,  3,      2,     34,2,20001017,2101, 22.7498,-157.9938, 4727,    958.8,   4.1365,  34.4463,2,  34.4504,2,     34.5,2,     35.4,2,   108.46,2,    41.50,2,     3.00,2,    960,-999.000,  -999.0,  4.0634
     33KI119_1,  PRS2,     2,  3,      1,     33,2,20001017,2101, 22.7498,-157.9938, 4727,    997.0,   4.0863,  34.4766,2,  34.4760,2,     38.7,2,     38.7,2,   109.02,2,    41.53,2,     3.00,2,    998,-999.000,  -999.0,  4.0103