BOTTLE,20090622PRINUNIVRMK
EXPOCODE,SECT_ID,STNNBR,CASTNO,BTLNBR,BTLNBR_FLAG_W,DATE,LATITUDE,LONGITUDE,DEPTH,CTDPRS,CTDTMP,CTDSAL,CTDSAL_FLAG_W,SALNTY,SALNTY_FLAG_W,OXYGEN,OXYGEN_FLAG_W,SILCAT,SILCAT_FLAG_W,NITRAT,NITRAT_FLAG_W,NITRIT,NITRIT_FLAG_W,PHSPHT,PHSPHT_FLAG_W,CFC-11,CFC-11_FLAG_W,CFC-12,CFC-12_FLAG_W,CFC113,CFC113_FLAG_W,CCL4,CCL4_FLAG_W,TRITUM,TRITER,TRITUM_FLAG_W,HELIUM,HELIER,HELIUM_FLAG_W,DELHE3,DELHER,DELHE3_FLAG_W,THETA
,,,,,,,,,METERS,DBARS,ITS-90,PSS-78,,PSS-78,,UMOL/KG,,UMOL/KG,,UMOL/KG,,UMOL/KG,,UMOL/KG,,PMOL/KG,,PMOL/KG,,PMOL/KG,,PMOL/KG,,TU,TU,,NMOL/KG,NMOL/KG,,PERCNT,PERCNT,,DEGC
  58JH19990615,   75N,   507,  1,     12,2,19990628, 74.4993,  13.9973, 2061,    500.1,   2.3370,  34.9687,2,  34.9790,3,    316.0,2,     5.33,2,    12.41,2,     0.01,2,     0.81,2, -999.000,9, -999.000,9, -999.000,9, -999.000,9, -999.000, -999.000,9,-999.0000,-999.0000,9,  -999.00,  -999.00,9,   2.3073
  58JH19990615,   75N,   507,  1,     11,2,19990628, 74.4993,  13.9973, 2061,    599.9,   0.7630,  34.9181,2,  34.8790,3,    311.2,2,     6.71,2,    13.60,2,     0.01,2,     0.91,2, -999.000,9, -999.000,9, -999.000,9, -999.000,9, -999.000, -999.000,9,-999.0000,-999.0000,9,  -999.00,  -999.00,9,   0.7346
  58JH19990615,   75N,   507,  1,     10,2,19990628, 74.4993,  13.9973, 2061,    700.0,   0.0180,  34.8951,2,  34.8660,3,    305.1,2,     7.67,2,    14.34,2,     0.00,2,     0.96,2, -999.000,9, -999.000,9, -999.000,9, -999.000,9, -999.000, -999.000,9,-999.0000,-999.0000,9,  -999.00,  -999.00,9,  -0.0115
  58JH19990615,   75N,   507,  1,      9,2,19990628, 74.4993,  13.9973, 2061,    800.9,  -0.3140,  34.8948,2,  34.8660,3,    304.3,2,     8.26,2,    14.49,2,     0.01,2,     0.97,2, -999.000,9, -999.000,9, -999.000,9, -999.000,9, -999.000, -999.000,9,-999.0000,-999.0000,9,  -999.00,  -999.00,9,  -0.3463
  58JH19990615,   75N,   507,  1,      8,2,19990628, 74.4993,  13.9973, 2061,    900.5,  -0.4960,  34.8987,2,  34.8700,3,    306.4,2,     8.81,2,    14.65,2,     0.01,2,     0.98,2, -999.000,9, -999.000,9, -999.000,9, -999.000,9, -999.000, -999.000,9,-999.0000,-999.0000,9,  -999.00,  -999.00,9,  -0.5317
  58JH19990615,   75N,   507,  1,      7,2,19990628, 74.4993,  13.9973, 2061,   1000.7,  -0.6200,  34.8997,2,  34.8710,3,    305.6,2,     9.15,2,    14.64,2,     0.00,2,     0.98,2, -999.000,9, -999.000,9, -999.000,9, -999.000,9, -999.000, -999.000,9,-999.0000,-999.0000,9,  -999.00,  -999.00,9,  -0.6596
  58JH19990615,   75N,   507,  1,      6,2,19990628, 74.4993,  13.9973, 2061,   1101.1,  -0.6710,  34.9021,2,  34.8750,3,    302.5,2,     9.77,2,    14.79,2,     0.01,2,     0.99,2, -999.000,9, -999.000,9, -999.000,9, -999.000,9, -999.000, -999.000,9,-999.0000,-999.0000,9,  -999.00,  -999.00,9,  -0.7151
  58JH19990615,   75N,   507,  1,      5,2,19990628, 74.4993,  13.9973, 2061,   1200.2,  -0.7200,  34.9055,2,  34.8780,3,    301.7,2,    10.21,2,    14.88,2,     0.00,2,     1.00,2, -999.000,9, -999.000,9, -999.000,9, -999.000,9, -999.000, -999.000,9,-999.0000,-999.0000,9,  -999.00,  -999.00,9,  -0.7687
  58JH19990615,   75N,   507,  1,      4,2,19990628, 74.4993,  13.9973, 2061,   1301.1,  -0.7560,  34.9092,2,  34.8810,3,    299.5,2,    10.77,2,    15.03,2,     0.00,2,     1.01,2, -999.000,9, -999.000,9, -999.000,9, -999.000,9, -999.000, -999.000,9,-999.0000,-999.0000,9,  -999.00,  -999.00,9,  -0.8096
  58JH19990615,   75N,   507,  1,      3,2,19990628, 74.4993,  13.9973, 2061,   1501.0,  -0.8270,  34.9110,2,  34.8830,3,    298.6,2,    11.64,2,    15.18,2,     0.01,2,     1.03,2, -999.000,9, -999.000,9, -999.000,9, -999.000,9, -999.000, -999.000,9,-999.0000,-999.0000,9,  -999.00,  -999.00,9,  -0.8906
  58JH19990615,   75N,   507,  1,      2,2,19990628, 74.4993,  13.9973, 2061,   1750.2,  -0.8870,  34.9113,2,  34.8830,3,    299.0,2,    12.23,2,    15.34,2,     0.01,2,     1.03,2, -999.000,9, -999.000,9, -999.000,9, -999.000,9, -999.000, -999.000,9,-999.0000,-999.0000,9,  -999.00,  -999.00,9,  -0.9642
  58JH19990615,   75N,   507,  1,      1,2,19990628, 74.4993,  13.9973, 2061,   2051.1,  -0.9070,  34.9110,2,  34.8830,3,    298.2,2,    12.80,2,    15.43,2,     0.01,2,     1.04,2, -999.000,9, -999.000,9, -999.000,9, -999.000,9, -999.000, -999.000,9,-999.0000,-999.0000,9,  -999.00,  -999.00,9,  -1.0026
  58JH19990615,   75N,   507,  2,     12,2,19990628, 74.4993,  13.9973, 2061,      6.0,   6.4300,  35.1028,2,  35.0690,3,    314.2,2,     3.98,2,     6.57,2,     0.09,2,     0.46,2, -999.000,9, -999.000,9, -999.000,9, -999.000,9, -999.000, -999.000,9,-999.0000,-999.0000,9,  -999.00,  -999.00,9,   6.4295
  58JH19990615,   75N,   507,  2,     11,2,19990628, 74.4993,  13.9973, 2061,     10.0,   6.4060,  35.1027,2,  35.0680,3,    315.1,2,     3.98,2,     6.57,2,     0.09,2,     0.46,2, -999.000,9, -999.000,9, -999.000,9, -999.000,9, -999.000, -999.000,9,-999.0000,-999.0000,9,  -999.00,  -999.00,9,   6.4051
  58JH19990615,   75N,   507,  2,     10,2,19990628, 74.4993,  13.9973, 2061,     20.5,   6.0770,  35.1024,2,  35.0740,3,    316.4,2,     4.02,2,     6.83,2,     0.09,2,     0.48,2, -999.000,9, -999.000,9, -999.000,9, -999.000,9, -999.000, -999.000,9,-999.0000,-999.0000,9,  -999.00,  -999.00,9,   6.0752
  58JH19990615,   75N,   507,  2,      9,2,19990628, 74.4993,  13.9973, 2061,     29.6,   6.0050,  35.1052,2,  35.0730,3,    312.9,2,     4.10,2,     7.08,2,     0.10,2,     0.50,2, -999.000,9, -999.000,9, -999.000,9, -999.000,9, -999.000, -999.000,9,-999.0000,-999.0000,9,  -999.00,  -999.00,9,   6.0025
  58JH19990615,   75N,   507,  2,      8,2,19990628, 74.4993,  13.9973, 2061,     39.5,   5.9150,  35.1061,2,  35.0720,3,    309.9,2,     4.15,2,     7.65,2,     0.11,2,     0.55,2, -999.000,9, -999.000,9, -999.000,9, -999.000,9, -999.000, -999.000,9,-999.0000,-999.0000,9,  -999.00,  -999.00,9,   5.9117
  58JH19990615,   75N,   507,  2,      7,2,19990628, 74.4993,  13.9973, 2061,     50.0,   5.6490,  35.1072,2,  35.0710,3,    305.5,2,     4.53,2,     8.91,2,     0.13,2,     0.63,2, -999.000,9, -999.000,9, -999.000,9, -999.000,9, -999.000, -999.000,9,-999.0000,-999.0000,9,  -999.00,  -999.00,9,   5.6449
  58JH19990615,   75N,   507,  2,      6,2,19990628, 74.4993,  13.9973, 2061,     70.1,   5.0110,  35.1023,2,  35.0690,3,    305.1,2,     4.83,2,     9.83,2,     0.16,2,     0.69,2, -999.000,9, -999.000,9, -999.000,9, -999.000,9, -999.000, -999.000,9,-999.0000,-999.0000,9,  -999.00,  -999.00,9,   5.0056
  58JH19990615,   75N,   507,  2,      5,2,19990628, 74.4993,  13.9973, 2061,    100.7,   4.6080,  35.0924,2,  35.0630,3,    303.4,2,     5.06,2,    10.89,2,     0.18,2,     0.75,2, -999.000,9, -999.000,9, -999.000,9, -999.000,9, -999.000, -999.000,9,-999.0000,-999.0000,9,  -999.00,  -999.00,9,   4.6005
  58JH19990615,   75N,   507,  2,      4,2,19990628, 74.4993,  13.9973, 2061,    148.1,   4.1440,  35.0792,2,  35.0490,3,    304.2,2,     5.17,2,    11.97,2,     0.17,2,     0.79,2, -999.000,9, -999.000,9, -999.000,9, -999.000,9, -999.000, -999.000,9,-999.0000,-999.0000,9,  -999.00,  -999.00,9,   4.1334
  58JH19990615,   75N,   507,  2,      3,2,19990628, 74.4993,  13.9973, 2061,    200.5,   3.7440,  35.0606,2,  35.0380,3,    308.6,2,     5.21,2,    12.08,2,     0.04,2,     0.79,2, -999.000,9, -999.000,9, -999.000,9, -999.000,9, -999.000, -999.000,9,-999.0000,-999.0000,9,  -999.00,  -999.00,9,   3.7303
  58JH19990615,   75N,   507,  2,      2,2,19990628, 74.4993,  13.9973, 2061,    299.9,   3.1910,  35.0383,2,  35.0180,3,    310.3,2,     5.27,2,    12.38,2,     0.02,2,     0.82,2, -999.000,9, -999.000,9, -999.000,9, -999.000,9, -999.000, -999.000,9,-999.0000,-999.0000,9,  -999.00,  -999.00,9,   3.1716
  58JH19990615,   75N,   507,  2,      1,2,19990628, 74.4993,  13.9973, 2061,    402.0,   2.7770,  35.0174,2,  35.0090,3,    312.1,2,     5.31,2,    12.47,2,     0.01,2,     0.82,2, -999.000,9, -999.000,9, -999.000,9, -999.000,9, -999.000, -999.000,9,-999.0000,-999.0000,9,  -999.00,  -999.00,9,   2.7520
  58JH19990615,   75N,   507,  3,     22,2,19990628, 74.4993,  13.9973, 2061,      2.1,   6.4510,-999.0000,9,  35.0600,3,   -999.0,9,     3.95,2,     6.45,2,     0.09,2,     0.46,2, -999.000,9, -999.000,9, -999.000,9, -999.000,9, -999.000, -999.000,9,-999.0000,-999.0000,9,  -999.00,  -999.00,9,-999.0000
  58JH19990615,   75N,   507,  3,     21,2,19990628, 74.4993,  13.9973, 2061,      4.9,   6.4560,  35.1028,2,  35.0590,3,   -999.0,9,     3.92,2,     6.46,2,     0.09,2,     0.46,2, -999.000,9, -999.000,9, -999.000,9, -999.000,9, -999.000, -999.000,9,-999.0000,-999.0000,9,  -999.00,  -999.00,9,   6.4556
  58JH19990615,   75N,   507,  3,     20,2,19990628, 74.4993,  13.9973, 2061,      8.4,   6.4380,  35.1027,2,  35.0610,3,   -999.0,9,     3.92,2,     6.43,2,     0.09,2,     0.47,2, -999.000,9, -999.000,9, -999.000,9, -999.000,9, -999.000, -999.000,9,-999.0000,-999.0000,9,  -999.00,  -999.00,9,   6.4373
  58JH19990615,   75N,   507,  3,     19,2,19990628, 74.4993,  13.9973, 2061,     11.3,   6.4310,  35.1026,2,  35.0570,3,   -999.0,9,     3.94,2,     6.42,2,     0.09,2,     0.47,2, -999.000,9, -999.000,9, -999.000,9, -999.000,9, -999.000, -999.000,9,-999.0000,-999.0000,9,  -999.00,  -999.00,9,   6.4300
  58JH19990615,   75N,   507,  3,     18,2,19990628, 74.4993,  13.9973, 2061,     13.9,   6.3960,  35.1025,2,  35.0590,3,   -999.0,9,     3.92,2,     6.44,2,     0.09,2,     0.46,2, -999.000,9, -999.000,9, -999.000,9, -999.000,9, -999.000, -999.000,9,-999.0000,-999.0000,9,  -999.00,  -999.00,9,   6.3948
  58JH19990615,   75N,   507,  3,     17,2,19990628, 74.4993,  13.9973, 2061,     17.2,   6.2380,  35.1023,2,  35.0470,3,   -999.0,9,     3.94,2,     6.46,2,     0.09,2,     0.46,2, -999.000,9, -999.000,9, -999.000,9, -999.000,9, -999.000, -999.000,9,-999.0000,-999.0000,9,  -999.00,  -999.00,9,   6.2365
  58JH19990615,   75N,   507,  3,     16,2,19990628, 74.4993,  13.9973, 2061,     20.4,   6.0410,  35.1023,2,  35.0550,3,   -999.0,9,     4.03,2,     6.81,2,     0.09,2,     0.48,2, -999.000,9, -999.000,9, -999.000,9, -999.000,9, -999.000, -999.000,9,-999.0000,-999.0000,9,  -999.00,  -999.00,9,   6.0393
  58JH19990615,   75N,   507,  3,     15,2,19990628, 74.4993,  13.9973, 2061,     23.2,   6.0360,  35.1033,2,  35.0540,3,   -999.0,9,     4.04,2,     6.84,2,     0.09,2,     0.48,2, -999.000,9, -999.000,9, -999.000,9, -999.000,9, -999.000, -999.000,9,-999.0000,-999.0000,9,  -999.00,  -999.00,9,   6.0340
  58JH19990615,   75N,   507,  3,     14,2,19990628, 74.4993,  13.9973, 2061,     26.1,   5.9970,  35.1042,2,  35.0570,3,   -999.0,9,     4.04,2,     6.84,2,     0.09,2,     0.49,2, -999.000,9, -999.000,9, -999.000,9, -999.000,9, -999.000, -999.000,9,-999.0000,-999.0000,9,  -999.00,  -999.00,9,   5.9948
  58JH19990615,   75N,   507,  3,     13,2,19990628, 74.4993,  13.9973, 2061,     29.0,   5.9720,  35.1050,2,  35.0550,3,   -999.0,9,     4.07,2,     6.97,2,     0.09,2,     0.50,2, -999.000,9, -999.000,9, -999.000,9, -999.000,9, -999.000, -999.000,9,-999.0000,-999.0000,9,  -999.00,  -999.00,9,   5.9695
  58JH19990615,   75N,   507,  3,     12,2,19990628, 74.4993,  13.9973, 2061,     31.9,   5.9450,  35.1058,2,  35.0510,3,   -999.0,9,     4.11,2,     7.05,2,     0.10,2,     0.50,2, -999.000,9, -999.000,9, -999.000,9, -999.000,9, -999.000, -999.000,9,-999.0000,-999.0000,9,  -999.00,  -999.00,9,   5.9423
  58JH19990615,   75N,   507,  3,     11,2,19990628, 74.4993,  13.9973, 2061,     35.1,   5.9250,  35.1066,2,  35.0520,3,   -999.0,9,     4.12,2,     7.06,2,     0.10,2,     0.51,2, -999.000,9, -999.000,9, -999.000,9, -999.000,9, -999.000, -999.000,9,-999.0000,-999.0000,9,  -999.00,  -999.00,9,   5.9220
  58JH19990615,   75N,   507,  3,     10,2,19990628, 74.4993,  13.9973, 2061,     38.4,   5.9190,  35.1063,2,  35.0540,3,   -999.0,9,     4.12,2,     7.08,2,     0.10,2,     0.52,2, -999.000,9, -999.000,9, -999.000,9, -999.000,9, -999.000, -999.000,9,-999.0000,-999.0000,9,  -999.00,  -999.00,9,   5.9158
  58JH19990615,   75N,   507,  3,      9,2,19990628, 74.4993,  13.9973, 2061,     39.8,   5.9110,  35.1061,2,  35.0510,3,   -999.0,9,     4.13,2,     7.19,2,     0.10,2,     0.52,2, -999.000,9, -999.000,9, -999.000,9, -999.000,9, -999.000, -999.000,9,-999.0000,-999.0000,9,  -999.00,  -999.00,9,   5.9076
  58JH19990615,   75N,   507,  3,      8,2,19990628, 74.4993,  13.9973, 2061,     45.6,   5.7720,  35.1067,2,  35.0360,3,   -999.0,9,     4.22,2,     7.46,2,     0.10,2,     0.54,2, -999.000,9, -999.000,9, -999.000,9, -999.000,9, -999.000, -999.000,9,-999.0000,-999.0000,9,  -999.00,  -999.00,9,   5.7682
  58JH19990615,   75N,   507,  3,      7,2,19990628, 74.4993,  13.9973, 2061,     50.5,   5.3990,  35.1073,2,  35.0580,3,   -999.0,9,     4.53,2,     8.62,2,     0.13,2,     0.62,2, -999.000,9, -999.000,9, -999.000,9, -999.000,9, -999.000, -999.000,9,-999.0000,-999.0000,9,  -999.00,  -999.00,9,   5.3949
  58JH19990615,   75N,   507,  3,      6,2,19990628, 74.4993,  13.9973, 2061,     60.8,   5.1570,  35.1082,2,  35.0560,3,   -999.0,9,     4.68,2,     9.24,2,     0.14,2,     0.67,2, -999.000,9, -999.000,9, -999.000,9, -999.000,9, -999.000, -999.000,9,-999.0000,-999.0000,9,  -999.00,  -999.00,9,   5.1522
  58JH19990615,   75N,   507,  3,      5,2,19990628, 74.4993,  13.9973, 2061,     69.8,   4.9640,  35.1022,2,  35.0460,3,   -999.0,9,     4.83,2,     9.91,2,     0.16,2,     0.71,2, -999.000,9, -999.000,9, -999.000,9, -999.000,9, -999.000, -999.000,9,-999.0000,-999.0000,9,  -999.00,  -999.00,9,   4.9586
  58JH19990615,   75N,   507,  3,      4,2,19990628, 74.4993,  13.9973, 2061,     79.5,   4.8080,  35.1014,2,  35.0490,3,   -999.0,9,     4.97,2,    10.38,2,     0.17,2,     0.74,2, -999.000,9, -999.000,9, -999.000,9, -999.000,9, -999.000, -999.000,9,-999.0000,-999.0000,9,  -999.00,  -999.00,9,   4.8020
  58JH19990615,   75N,   507,  3,      3,2,19990628, 74.4993,  13.9973, 2061,    100.7,   4.6260,  35.0924,2,  35.0430,3,   -999.0,9,     5.08,2,    10.99,2,     0.19,2,     0.77,2, -999.000,9, -999.000,9, -999.000,9, -999.000,9, -999.000, -999.000,9,-999.0000,-999.0000,9,  -999.00,  -999.00,9,   4.6185
  58JH19990615,   75N,   507,  3,      2,2,19990628, 74.4993,  13.9973, 2061,    125.3,   4.3710,  35.0909,2,  35.0410,3,   -999.0,9,     5.10,2,    11.12,2,     0.20,2,     0.77,2, -999.000,9, -999.000,9, -999.000,9, -999.000,9, -999.000, -999.000,9,-999.0000,-999.0000,9,  -999.00,  -999.00,9,   4.3619
  58JH19990615,   75N,   507,  3,      1,2,19990628, 74.4993,  13.9973, 2061,    201.6,   3.7510,  35.0605,2,  35.0180,3,   -999.0,9,     5.16,2,    12.23,2,     0.02,2,     0.83,2, -999.000,9, -999.000,9, -999.000,9, -999.000,9, -999.000, -999.000,9,-999.0000,-999.0000,9,  -999.00,  -999.00,9,   3.7372
  58JH19990615,   75N,   508,  1,     12,2,19990628, 74.5010,  15.0010, 1713,     11.4,   6.6233,  35.1029,2,  35.1008,3,    312.9,2,     3.37,2,     5.52,2,     0.10,2,     0.42,2,    4.613,2,    2.518,2,    0.401,2,    5.749,2, -999.000, -999.000,9,-999.0000,-999.0000,9,  -999.00,  -999.00,9,   6.6223
  58JH19990615,   75N,   508,  1,     11,2,19990628, 74.5010,  15.0010, 1713,     30.6,   6.3964,  35.1064,2,  35.1043,3,    308.6,2,     3.61,2,     6.23,2,     0.10,2,     0.50,2,    4.637,2,    2.532,2,    0.412,2,    5.640,2, -999.000, -999.000,9,-999.0000,-999.0000,9,  -999.00,  -999.00,9,   6.3937
  58JH19990615,   75N,   508,  1,     10,2,19990628, 74.5010,  15.0010, 1713,     51.7,   5.8505,  35.1082,2,  35.1061,3,    300.7,2,     4.28,2,     8.35,2,     0.14,2,     0.64,2,    4.623,6,    2.496,6,    0.409,6,    5.325,6, -999.000, -999.000,9,-999.0000,-999.0000,9,  -999.00,  -999.00,9,   5.8461
  58JH19990615,   75N,   508,  1,      9,2,19990628, 74.5010,  15.0010, 1713,     73.5,   5.3424,  35.1082,2,  35.1061,3,    295.9,2,     4.87,2,    10.49,2,     0.14,2,     0.75,2,    4.614,2,    2.432,2,    0.369,2,    5.075,2, -999.000, -999.000,9,-999.0000,-999.0000,9,  -999.00,  -999.00,9,   5.3365
  58JH19990615,   75N,   508,  1,      8,2,19990628, 74.5010,  15.0010, 1713,     99.9,   5.0949,  35.1000,2,  35.0979,3,    294.2,2,     5.14,2,    11.87,2,     0.10,2,     0.79,2,    4.636,2,    2.528,2,    0.400,2,    5.018,2, -999.000, -999.000,9,-999.0000,-999.0000,9,  -999.00,  -999.00,9,   5.0871
  58JH19990615,   75N,   508,  1,      7,2,19990628, 74.5010,  15.0010, 1713,    150.0,   4.7103,  35.0880,2,  35.0857,3,    299.9,2,     5.17,2,    11.65,2,     0.10,2,     0.79,2,    4.807,2,    2.569,2,    0.458,2,    5.384,2, -999.000, -999.000,9,-999.0000,-999.0000,9,  -999.00,  -999.00,9,   4.6989
  58JH19990615,   75N,   508,  1,      6,2,19990628, 74.5010,  15.0010, 1713,    200.2,   4.0825,  35.0725,2,  35.0704,3,    304.7,2,     5.20,2,    11.56,2,     0.12,2,     0.79,2,    4.952,2,    2.644,2,    0.443,2,    5.819,2, -999.000, -999.000,9,-999.0000,-999.0000,9,  -999.00,  -999.00,9,   4.0683
  58JH19990615,   75N,   508,  1,      5,2,19990628, 74.5010,  15.0010, 1713,    299.3,   3.5220,  35.0562,2,  35.0540,3,    307.7,2,     5.30,2,    12.49,2,     0.01,2,     0.82,2,    5.064,2,    2.678,2,    0.400,2,    6.029,2, -999.000, -999.000,9,-999.0000,-999.0000,9,  -999.00,  -999.00,9,   3.5019
  58JH19990615,   75N,   508,  1,      4,2,19990628, 74.5010,  15.0010, 1713,    500.3,   2.4415,  35.0177,2,  35.0158,3,    316.0,2,     5.33,2,    12.43,2,     0.01,2,     0.84,2,    5.273,2,    2.732,2,    0.529,3,    6.451,2, -999.000, -999.000,9,-999.0000,-999.0000,9,  -999.00,  -999.00,9,   2.4113
  58JH19990615,   75N,   508,  1,      3,2,19990628, 74.5010,  15.0010, 1713,   1000.3,  -0.5918,  34.9005,2,  34.8984,3,    303.0,2,     9.24,2,    14.73,2,     0.01,2,     0.99,2,    2.605,2,    1.249,2,    0.121,2,    3.678,2, -999.000, -999.000,9,-999.0000,-999.0000,9,  -999.00,  -999.00,9,  -0.6316
  58JH19990615,   75N,   508,  1,      2,2,19990628, 74.5010,  15.0010, 1713,   1500.1,  -0.8928,  34.9113,2,  34.9092,3,    296.8,2,    12.79,2,    15.57,2,     0.02,2,  -999.00,9,    0.675,2,    0.308,2,    0.015,2,    1.887,2, -999.000, -999.000,9,-999.0000,-999.0000,9,  -999.00,  -999.00,9,  -0.9556
  58JH19990615,   75N,   508,  1,      1,2,19990628, 74.5010,  15.0010, 1713,   1702.9,  -0.9170,  34.9112,2,  34.9080,3,    297.3,2,    13.08,2,    15.56,2,     0.01,2,     1.04,2,    0.594,2,    0.305,2,    0.008,2,    1.908,2, -999.000, -999.000,9,-999.0000,-999.0000,9,  -999.00,  -999.00,9,  -0.9910