BOTTLE,20090622PRINUNIVRMK
EXPOCODE,SECT_ID,STNNBR,CASTNO,BTLNBR,BTLNBR_FLAG_W,DATE,LATITUDE,LONGITUDE,DEPTH,CTDPRS,CTDTMP,CTDSAL,CTDSAL_FLAG_W,SALNTY,SALNTY_FLAG_W,OXYGEN,OXYGEN_FLAG_W,SILCAT,SILCAT_FLAG_W,NITRAT,NITRAT_FLAG_W,NITRIT,NITRIT_FLAG_W,PHSPHT,PHSPHT_FLAG_W,CFC-11,CFC-11_FLAG_W,CFC-12,CFC-12_FLAG_W,CFC113,CFC113_FLAG_W,CCL4,CCL4_FLAG_W,TRITUM,TRITER,TRITUM_FLAG_W,HELIUM,HELIER,HELIUM_FLAG_W,DELHE3,DELHER,DELHE3_FLAG_W,THETA
,,,,,,,,,METERS,DBARS,ITS-90,PSS-78,,PSS-78,,UMOL/KG,,UMOL/KG,,UMOL/KG,,UMOL/KG,,UMOL/KG,,PMOL/KG,,PMOL/KG,,PMOL/KG,,PMOL/KG,,TU,TU,,NMOL/KG,NMOL/KG,,PERCNT,PERCNT,,DEGC
  58JH19990615,   75N,   488,  1,     12,2,19990622, 73.4167,  -1.5830, 3132,    499.8,  -0.6480,  34.8747,2,  34.8490,3,    322.1,2,     7.14,2,    13.47,2,     0.00,2,     0.90,2, -999.000,9, -999.000,9, -999.000,9, -999.000,9, -999.000, -999.000,9,-999.0000,-999.0000,9,  -999.00,  -999.00,9,  -0.6653
  58JH19990615,   75N,   488,  1,     11,2,19990622, 73.4167,  -1.5830, 3132,    600.9,  -0.8510,  34.8629,2,  34.8400,3,    331.7,2,     6.84,2,    13.19,2,     0.00,2,     0.89,2, -999.000,9, -999.000,9, -999.000,9, -999.000,9, -999.000, -999.000,9,-999.0000,-999.0000,9,  -999.00,  -999.00,9,  -0.8714
  58JH19990615,   75N,   488,  1,     10,2,19990622, 73.4167,  -1.5830, 3132,    800.2,  -0.8250,  34.8802,2,  34.8520,3,    322.1,2,     7.71,2,    13.82,2,     0.00,2,     0.93,2, -999.000,9, -999.000,9, -999.000,9, -999.000,9, -999.000, -999.000,9,-999.0000,-999.0000,9,  -999.00,  -999.00,9,  -0.8538
  58JH19990615,   75N,   488,  1,      9,2,19990622, 73.4167,  -1.5830, 3132,    998.3,  -0.8100,  34.8873,2,  34.8600,3,    320.4,2,     8.13,2,    14.00,2,     0.00,2,     0.94,2, -999.000,9, -999.000,9, -999.000,9, -999.000,9, -999.000, -999.000,9,-999.0000,-999.0000,9,  -999.00,  -999.00,9,  -0.8479
  58JH19990615,   75N,   488,  1,      8,2,19990622, 73.4167,  -1.5830, 3132,   1250.5,  -0.7910,  34.8977,2,  34.8710,3,    314.7,2,     8.95,2,    14.21,2,     0.00,2,     0.96,2, -999.000,9, -999.000,9, -999.000,9, -999.000,9, -999.000, -999.000,9,-999.0000,-999.0000,9,  -999.00,  -999.00,9,  -0.8415
  58JH19990615,   75N,   488,  1,      7,2,19990622, 73.4167,  -1.5830, 3132,   1500.7,  -0.7680,  34.9098,2,  34.8830,3,    312.5,2,    10.40,2,    14.74,2,     0.00,2,     1.00,2, -999.000,9, -999.000,9, -999.000,9, -999.000,9, -999.000, -999.000,9,-999.0000,-999.0000,9,  -999.00,  -999.00,9,  -0.8323
  58JH19990615,   75N,   488,  1,      6,2,19990622, 73.4167,  -1.5830, 3132,   1752.9,  -0.8410,  34.9110,2,  34.8840,3,    300.8,2,    11.00,2,    14.96,2,     0.00,2,     1.01,2, -999.000,9, -999.000,9, -999.000,9, -999.000,9, -999.000, -999.000,9,-999.0000,-999.0000,9,  -999.00,  -999.00,9,  -0.9190
  58JH19990615,   75N,   488,  1,      5,2,19990622, 73.4167,  -1.5830, 3132,   2000.3,  -0.8910,  34.9110,2,  34.8830,3,    301.6,2,    11.40,2,    15.03,2,     0.00,2,     1.01,2, -999.000,9, -999.000,9, -999.000,9, -999.000,9, -999.000, -999.000,9,-999.0000,-999.0000,9,  -999.00,  -999.00,9,  -0.9836
  58JH19990615,   75N,   488,  1,      4,2,19990622, 73.4167,  -1.5830, 3132,   2250.6,  -0.9200,  34.9108,2,  34.8840,3,    302.5,2,    11.69,2,    15.03,2,     0.00,2,     1.01,2, -999.000,9, -999.000,9, -999.000,9, -999.000,9, -999.000, -999.000,9,-999.0000,-999.0000,9,  -999.00,  -999.00,9,  -1.0285
  58JH19990615,   75N,   488,  1,      3,2,19990622, 73.4167,  -1.5830, 3132,   2502.4,  -0.9490,  34.9085,2,  34.8810,3,    303.8,2,    11.81,2,    15.06,2,     0.00,2,     1.01,2, -999.000,9, -999.000,9, -999.000,9, -999.000,9, -999.000, -999.000,9,-999.0000,-999.0000,9,  -999.00,  -999.00,9,  -1.0745
  58JH19990615,   75N,   488,  1,      2,2,19990622, 73.4167,  -1.5830, 3132,   2751.7,  -0.9670,  34.9060,2,  34.8780,3,    305.1,2,    11.99,2,    15.06,2,     0.00,2,     1.01,2, -999.000,9, -999.000,9, -999.000,9, -999.000,9, -999.000, -999.000,9,-999.0000,-999.0000,9,  -999.00,  -999.00,9,  -1.1105
  58JH19990615,   75N,   488,  1,      1,2,19990622, 73.4167,  -1.5830, 3132,   2843.1,  -0.9660,  34.9055,2,  34.8780,3,    305.1,2,    12.05,2,    15.11,2,     0.00,2,     1.01,2, -999.000,9, -999.000,9, -999.000,9, -999.000,9, -999.000, -999.000,9,-999.0000,-999.0000,9,  -999.00,  -999.00,9,  -1.1165
  58JH19990615,   75N,   488,  2,     12,2,19990622, 73.4167,  -1.5830, 3132,      1.2,   1.7750,-999.0000,9,  34.4140,3,    357.6,2,     0.22,2,     5.52,2,     0.03,2,     0.38,2, -999.000,9, -999.000,9, -999.000,9, -999.000,9, -999.000, -999.000,9,-999.0000,-999.0000,9,  -999.00,  -999.00,9,-999.0000
  58JH19990615,   75N,   488,  2,     11,2,19990622, 73.4167,  -1.5830, 3132,      9.9,   1.7670,  34.7445,2,  34.7230,3,    357.9,2,     0.26,2,     5.53,2,     0.02,2,     0.37,2, -999.000,9, -999.000,9, -999.000,9, -999.000,9, -999.000, -999.000,9,-999.0000,-999.0000,9,  -999.00,  -999.00,9,   1.7665
  58JH19990615,   75N,   488,  2,     10,2,19990622, 73.4167,  -1.5830, 3132,     18.5,   1.7550,  34.7442,2,  34.7190,3,    357.9,2,     0.24,2,     5.54,2,     0.02,2,     0.40,2, -999.000,9, -999.000,9, -999.000,9, -999.000,9, -999.000, -999.000,9,-999.0000,-999.0000,9,  -999.00,  -999.00,9,   1.7541
  58JH19990615,   75N,   488,  2,      9,2,19990622, 73.4167,  -1.5830, 3132,     30.1,   1.6990,  34.7448,2,  34.7100,3,    364.5,2,     0.63,2,     6.69,2,     0.03,2,     0.49,2, -999.000,9, -999.000,9, -999.000,9, -999.000,9, -999.000, -999.000,9,-999.0000,-999.0000,9,  -999.00,  -999.00,9,   1.6975
  58JH19990615,   75N,   488,  2,      8,2,19990622, 73.4167,  -1.5830, 3132,     39.0,   0.2910,  34.7812,2,  34.7410,3,    367.5,2,     1.55,2,     8.06,2,     0.03,2,     0.60,2, -999.000,9, -999.000,9, -999.000,9, -999.000,9, -999.000, -999.000,9,-999.0000,-999.0000,9,  -999.00,  -999.00,9,   0.2895
  58JH19990615,   75N,   488,  2,      7,2,19990622, 73.4167,  -1.5830, 3132,     51.6,  -0.4120,  34.8071,2,  34.7460,3,    360.1,2,     2.54,2,     9.38,2,     0.06,2,     0.68,2, -999.000,9, -999.000,9, -999.000,9, -999.000,9, -999.000, -999.000,9,-999.0000,-999.0000,9,  -999.00,  -999.00,9,  -0.4137
  58JH19990615,   75N,   488,  2,      6,2,19990622, 73.4167,  -1.5830, 3132,     73.5,  -0.9410,  34.8192,2,  34.7660,3,    352.2,2,     4.28,2,    10.84,2,     0.17,2,     0.78,2, -999.000,9, -999.000,9, -999.000,9, -999.000,9, -999.000, -999.000,9,-999.0000,-999.0000,9,  -999.00,  -999.00,9,  -0.9431
  58JH19990615,   75N,   488,  2,      5,2,19990622, 73.4167,  -1.5830, 3132,     99.0,  -1.0180,  34.8243,2,  34.7770,3,    352.7,2,     5.24,2,    11.48,2,     0.13,2,     0.79,2, -999.000,9, -999.000,9, -999.000,9, -999.000,9, -999.000, -999.000,9,-999.0000,-999.0000,9,  -999.00,  -999.00,9,  -1.0207
  58JH19990615,   75N,   488,  2,      4,2,19990622, 73.4167,  -1.5830, 3132,    150.1,  -0.6870,  34.8439,2,  34.8110,3,    340.9,2,     5.85,2,    12.26,2,     0.05,2,     0.83,2, -999.000,9, -999.000,9, -999.000,9, -999.000,9, -999.000, -999.000,9,-999.0000,-999.0000,9,  -999.00,  -999.00,9,  -0.6917
  58JH19990615,   75N,   488,  2,      3,2,19990622, 73.4167,  -1.5830, 3132,    197.9,  -0.6960,  34.8429,2,  34.8180,3,    339.2,2,     6.06,2,    12.50,2,     0.00,2,     0.84,2, -999.000,9, -999.000,9, -999.000,9, -999.000,9, -999.000, -999.000,9,-999.0000,-999.0000,9,  -999.00,  -999.00,9,  -0.7022
  58JH19990615,   75N,   488,  2,      2,2,19990622, 73.4167,  -1.5830, 3132,    299.2,  -0.4880,  34.8589,2,  34.8430,3,    319.1,2,     6.49,2,    13.03,2,     0.00,2,     0.88,2, -999.000,9, -999.000,9, -999.000,9, -999.000,9, -999.000, -999.000,9,-999.0000,-999.0000,9,  -999.00,  -999.00,9,  -0.4982
  58JH19990615,   75N,   488,  2,      1,2,19990622, 73.4167,  -1.5830, 3132,    400.9,  -0.5660,  34.8661,2,  34.8470,3,    325.2,2,     6.76,2,    13.24,2,     0.00,2,     0.90,2, -999.000,9, -999.000,9, -999.000,9, -999.000,9, -999.000, -999.000,9,-999.0000,-999.0000,9,  -999.00,  -999.00,9,  -0.5798
  58JH19990615,   75N,   489,  1,     12,2,19990622, 73.7493,  -2.6680, 3442,     11.5,   1.7350,  34.7771,2,  34.7400,3,    353.1,2,     0.52,2,     6.04,2,     0.03,2,     0.43,2, -999.000,9, -999.000,9, -999.000,9, -999.000,9, -999.000, -999.000,9,-999.0000,-999.0000,9,  -999.00,  -999.00,9,   1.7344
  58JH19990615,   75N,   489,  1,     11,2,19990622, 73.7493,  -2.6680, 3442,     30.1,   1.0800,  34.7990,2,  34.7430,3,    363.2,2,     0.77,2,     7.37,2,     0.04,2,     0.56,2, -999.000,9, -999.000,9, -999.000,9, -999.000,9, -999.000, -999.000,9,-999.0000,-999.0000,9,  -999.00,  -999.00,9,   1.0787
  58JH19990615,   75N,   489,  1,     10,2,19990622, 73.7493,  -2.6680, 3442,     49.4,  -0.3840,  34.8352,2,  34.7870,3,    360.1,2,     1.47,2,     8.98,2,     0.05,2,     0.66,2, -999.000,9, -999.000,9, -999.000,9, -999.000,9, -999.000, -999.000,9,-999.0000,-999.0000,9,  -999.00,  -999.00,9,  -0.3856
  58JH19990615,   75N,   489,  1,      9,2,19990622, 73.7493,  -2.6680, 3442,     99.9,  -0.3940,  34.8492,2,  34.8370,3,    337.0,2,     5.95,2,    12.06,2,     0.09,2,     0.83,2, -999.000,9, -999.000,9, -999.000,9, -999.000,9, -999.000, -999.000,9,-999.0000,-999.0000,9,  -999.00,  -999.00,9,  -0.3973
  58JH19990615,   75N,   489,  1,      8,2,19990622, 73.7493,  -2.6680, 3442,    198.6,  -0.6200,  34.8618,2,  34.8370,3,    332.2,2,     6.45,2,    12.80,2,     0.01,2,     0.86,2, -999.000,9, -999.000,9, -999.000,9, -999.000,9, -999.000, -999.000,9,-999.0000,-999.0000,9,  -999.00,  -999.00,9,  -0.6264
  58JH19990615,   75N,   489,  1,      7,2,19990622, 73.7493,  -2.6680, 3442,    300.5,  -0.7440,  34.8687,2,  34.8380,3,    330.0,2,     6.61,2,    13.01,2,     0.00,2,     0.88,2, -999.000,9, -999.000,9, -999.000,9, -999.000,9, -999.000, -999.000,9,-999.0000,-999.0000,9,  -999.00,  -999.00,9,  -0.7536
  58JH19990615,   75N,   489,  1,      6,2,19990622, 73.7493,  -2.6680, 3442,    501.5,  -0.7830,  34.8735,2,  34.8470,3,    322.1,2,     7.22,2,    13.49,2,     0.00,2,     0.91,2, -999.000,9, -999.000,9, -999.000,9, -999.000,9, -999.000, -999.000,9,-999.0000,-999.0000,9,  -999.00,  -999.00,9,  -0.7998
  58JH19990615,   75N,   489,  1,      5,2,19990622, 73.7493,  -2.6680, 3442,   1001.2,  -0.8140,  34.8913,2,  34.8640,3,    316.5,2,     8.33,2,    14.01,2,     0.00,2,     0.95,2, -999.000,9, -999.000,9, -999.000,9, -999.000,9, -999.000, -999.000,9,-999.0000,-999.0000,9,  -999.00,  -999.00,9,  -0.8520
  58JH19990615,   75N,   489,  1,      4,2,19990622, 73.7493,  -2.6680, 3442,   1499.8,  -0.7940,  34.9103,2,  34.8830,3,    300.8,2,    10.56,2,    14.86,2,     0.00,2,     1.00,2, -999.000,9, -999.000,9, -999.000,9, -999.000,9, -999.000, -999.000,9,-999.0000,-999.0000,9,  -999.00,  -999.00,9,  -0.8579
  58JH19990615,   75N,   489,  1,      3,2,19990622, 73.7493,  -2.6680, 3442,   2000.4,  -0.8970,  34.9112,2,  34.8830,3,    301.2,2,    11.40,2,    15.05,2,     0.00,2,     1.01,2, -999.000,9, -999.000,9, -999.000,9, -999.000,9, -999.000, -999.000,9,-999.0000,-999.0000,9,  -999.00,  -999.00,9,  -0.9895
  58JH19990615,   75N,   489,  1,      2,2,19990622, 73.7493,  -2.6680, 3442,   2500.8,  -0.9320,  34.9096,2,  34.8820,3,    302.5,2,    11.79,2,    15.05,2,     0.00,2,     1.02,2, -999.000,9, -999.000,9, -999.000,9, -999.000,9, -999.000, -999.000,9,-999.0000,-999.0000,9,  -999.00,  -999.00,9,  -1.0577
  58JH19990615,   75N,   489,  1,      1,2,19990622, 73.7493,  -2.6680, 3442,   2952.0,  -0.9560,  34.9057,2,  34.8780,3,    304.3,2,    12.06,2,    15.04,2,     0.00,2,     1.02,2, -999.000,9, -999.000,9, -999.000,9, -999.000,9, -999.000, -999.000,9,-999.0000,-999.0000,9,  -999.00,  -999.00,9,  -1.1152
  58JH19990615,   75N,   490,  1,     12,2,19990623, 74.0817,  -3.6693, 3570,     10.6,   1.7570,  34.7949,2,  34.7600,3,    351.8,2,     0.69,2,     6.54,2,     0.04,2,     0.48,2, -999.000,9, -999.000,9, -999.000,9, -999.000,9, -999.000, -999.000,9,-999.0000,-999.0000,9,  -999.00,  -999.00,9,   1.7565
  58JH19990615,   75N,   490,  1,     11,2,19990623, 74.0817,  -3.6693, 3570,     29.8,   1.6590,  34.7955,2,  34.7520,3,    354.9,2,     0.88,2,     6.61,2,     0.03,2,     0.50,2, -999.000,9, -999.000,9, -999.000,9, -999.000,9, -999.000, -999.000,9,-999.0000,-999.0000,9,  -999.00,  -999.00,9,   1.6575
  58JH19990615,   75N,   490,  1,     10,2,19990623, 74.0817,  -3.6693, 3570,     50.6,   0.1690,  34.8410,2,  34.8150,3,    354.0,2,     2.51,2,     8.73,2,     0.04,2,     0.72,2, -999.000,9, -999.000,9, -999.000,9, -999.000,9, -999.000, -999.000,9,-999.0000,-999.0000,9,  -999.00,  -999.00,9,   0.1671
  58JH19990615,   75N,   490,  1,      9,2,19990623, 74.0817,  -3.6693, 3570,    100.0,  -0.5480,  34.8866,2,  34.8360,3,    342.2,2,     5.35,2,    11.59,2,     0.07,2,     0.83,2, -999.000,9, -999.000,9, -999.000,9, -999.000,9, -999.000, -999.000,9,-999.0000,-999.0000,9,  -999.00,  -999.00,9,  -0.5512
  58JH19990615,   75N,   490,  1,      8,2,19990623, 74.0817,  -3.6693, 3570,    200.5,  -0.7610,  34.8794,2,  34.8400,3,    336.1,2,     6.39,2,    12.75,2,     0.04,2,     0.88,2, -999.000,9, -999.000,9, -999.000,9, -999.000,9, -999.000, -999.000,9,-999.0000,-999.0000,9,  -999.00,  -999.00,9,  -0.7672
  58JH19990615,   75N,   490,  1,      7,2,19990623, 74.0817,  -3.6693, 3570,    300.3,  -0.6740,  34.8791,2,  34.8490,3,    329.6,2,     6.79,2,    13.13,2,     0.01,2,     0.89,2, -999.000,9, -999.000,9, -999.000,9, -999.000,9, -999.000, -999.000,9,-999.0000,-999.0000,9,  -999.00,  -999.00,9,  -0.6838
  58JH19990615,   75N,   490,  1,      6,2,19990623, 74.0817,  -3.6693, 3570,    500.3,  -0.8340,  34.8739,2,  34.8440,3,    330.9,2,     6.79,2,    13.14,2,     0.00,2,     0.88,2, -999.000,9, -999.000,9, -999.000,9, -999.000,9, -999.000, -999.000,9,-999.0000,-999.0000,9,  -999.00,  -999.00,9,  -0.8506
  58JH19990615,   75N,   490,  1,      5,2,19990623, 74.0817,  -3.6693, 3570,   1000.5,  -0.8120,  34.8908,2,  34.8620,3,    316.9,2,     8.25,2,    14.01,2,     0.00,2,     0.94,2, -999.000,9, -999.000,9, -999.000,9, -999.000,9, -999.000, -999.000,9,-999.0000,-999.0000,9,  -999.00,  -999.00,9,  -0.8500
  58JH19990615,   75N,   490,  1,      4,2,19990623, 74.0817,  -3.6693, 3570,   1500.8,  -0.7480,  34.9096,2,  34.8840,3,    299.9,2,    10.42,2,    14.71,2,     0.00,2,     0.99,2, -999.000,9, -999.000,9, -999.000,9, -999.000,9, -999.000, -999.000,9,-999.0000,-999.0000,9,  -999.00,  -999.00,9,  -0.8126
  58JH19990615,   75N,   490,  1,      3,2,19990623, 74.0817,  -3.6693, 3570,   1999.7,  -0.8900,  34.9094,2,  34.8820,3,    301.2,2,    11.23,2,    14.99,2,     0.00,2,     1.01,2, -999.000,9, -999.000,9, -999.000,9, -999.000,9, -999.000, -999.000,9,-999.0000,-999.0000,9,  -999.00,  -999.00,9,  -0.9825
  58JH19990615,   75N,   490,  1,      2,2,19990623, 74.0817,  -3.6693, 3570,   2500.8,  -0.9340,  34.9089,2,  34.8810,3,    303.0,2,    11.60,2,    15.13,2,     0.00,2,     1.02,2, -999.000,9, -999.000,9, -999.000,9, -999.000,9, -999.000, -999.000,9,-999.0000,-999.0000,9,  -999.00,  -999.00,9,  -1.0597
  58JH19990615,   75N,   490,  1,      1,2,19990623, 74.0817,  -3.6693, 3570,   3406.5,  -0.9570,  34.9027,2,  34.8750,3,    305.6,2,    12.26,2,    15.11,2,     0.00,2,     1.01,2, -999.000,9, -999.000,9, -999.000,9, -999.000,9, -999.000, -999.000,9,-999.0000,-999.0000,9,  -999.00,  -999.00,9,  -1.1535