BOTTLE,20090622PRINUNIVRMK
EXPOCODE,SECT_ID,STNNBR,CASTNO,BTLNBR,BTLNBR_FLAG_W,DATE,LATITUDE,LONGITUDE,DEPTH,CTDPRS,CTDTMP,CTDSAL,CTDSAL_FLAG_W,SALNTY,SALNTY_FLAG_W,OXYGEN,OXYGEN_FLAG_W,SILCAT,SILCAT_FLAG_W,NITRAT,NITRAT_FLAG_W,NITRIT,NITRIT_FLAG_W,PHSPHT,PHSPHT_FLAG_W,CFC-11,CFC-11_FLAG_W,CFC-12,CFC-12_FLAG_W,CFC113,CFC113_FLAG_W,CCL4,CCL4_FLAG_W,TRITUM,TRITER,TRITUM_FLAG_W,HELIUM,HELIER,HELIUM_FLAG_W,DELHE3,DELHER,DELHE3_FLAG_W,THETA
,,,,,,,,,METERS,DBARS,ITS-90,PSS-78,,PSS-78,,UMOL/KG,,UMOL/KG,,UMOL/KG,,UMOL/KG,,UMOL/KG,,PMOL/KG,,PMOL/KG,,PMOL/KG,,PMOL/KG,,TU,TU,,NMOL/KG,NMOL/KG,,PERCNT,PERCNT,,DEGC
  58JH19990615,   75N,   515,  1,      5,2,19990629, 74.4980,  18.4960,  111,      7.4,   3.5130,-999.0000,9,  34.8810,3,    350.5,2,     2.37,2,     0.73,2,     0.04,2,     0.22,2,    5.628,2,    2.881,2,    0.486,2,    7.256,2, -999.000, -999.000,9,-999.0000,-999.0000,9,  -999.00,  -999.00,9,-999.0000
  58JH19990615,   75N,   515,  1,      4,2,19990629, 74.4980,  18.4960,  111,     10.8,   3.5120,  34.9072,2,  34.9052,3,    350.5,2,     2.35,2,     0.70,2,     0.05,2,     0.22,2,    5.609,2,    2.856,2,    0.476,2,    7.257,2, -999.000, -999.000,9,-999.0000,-999.0000,9,  -999.00,  -999.00,9,   3.5113
  58JH19990615,   75N,   515,  1,      3,2,19990629, 74.4980,  18.4960,  111,     20.6,   3.5120,  34.9067,2,  34.8800,3,    350.9,2,     2.35,2,     0.70,2,     0.04,2,     0.22,2, -999.000,9, -999.000,9, -999.000,9, -999.000,9, -999.000, -999.000,9,-999.0000,-999.0000,9,  -999.00,  -999.00,9,   3.5107
  58JH19990615,   75N,   515,  1,      2,2,19990629, 74.4980,  18.4960,  111,     31.1,   3.5115,  34.9065,2,  34.9044,3,    350.5,2,     2.34,2,     0.71,2,     0.04,2,     0.23,2,    5.644,2,    2.904,2,    0.508,2,    7.199,2, -999.000, -999.000,9,-999.0000,-999.0000,9,  -999.00,  -999.00,9,   3.5094
  58JH19990615,   75N,   515,  1,      1,2,19990629, 74.4980,  18.4960,  111,     59.3,   3.3450,-999.0000,9,  34.9110,3,    353.5,2,     2.35,2,     0.77,2,     0.04,2,     0.24,2,    5.669,2,    2.867,2,    0.486,2,    7.323,2, -999.000, -999.000,9,-999.0000,-999.0000,9,  -999.00,  -999.00,9,-999.0000
  58JH19990615,   75N,   516,  1,      9,2,19990701, 70.5017,  20.0025,  223,      5.5,   9.3820,  33.8166,2,  33.8100,3,    317.6,2,     0.64,2,     0.09,2,     0.00,2,     0.06,2, -999.000,9, -999.000,9, -999.000,9, -999.000,9, -999.000, -999.000,9,-999.0000,-999.0000,9,  -999.00,  -999.00,9,   9.3814
  58JH19990615,   75N,   516,  1,      8,2,19990701, 70.5017,  20.0025,  223,     10.4,   9.2540,  33.8323,2,  33.8230,3,    322.0,2,     0.70,2,     0.08,2,     0.00,2,     0.06,2, -999.000,9, -999.000,9, -999.000,9, -999.000,9, -999.000, -999.000,9,-999.0000,-999.0000,9,  -999.00,  -999.00,9,   9.2529
  58JH19990615,   75N,   516,  1,      7,2,19990701, 70.5017,  20.0025,  223,     20.5,   8.5150,  33.8979,2,  33.9110,3,    318.4,2,     1.24,2,     0.49,2,     0.02,2,     0.13,2, -999.000,9, -999.000,9, -999.000,9, -999.000,9, -999.000, -999.000,9,-999.0000,-999.0000,9,  -999.00,  -999.00,9,   8.5129
  58JH19990615,   75N,   516,  1,      6,2,19990701, 70.5017,  20.0025,  223,     29.6,   7.4100,  34.0720,2,  34.1070,3,    301.8,2,     2.41,2,     2.78,2,     0.11,2,     0.33,2, -999.000,9, -999.000,9, -999.000,9, -999.000,9, -999.000, -999.000,9,-999.0000,-999.0000,9,  -999.00,  -999.00,9,   7.4072
  58JH19990615,   75N,   516,  1,      5,2,19990701, 70.5017,  20.0025,  223,     49.5,   6.7130,  34.1281,2,  34.1280,3,    295.3,2,     3.05,2,     4.59,2,     0.18,2,     0.42,2, -999.000,9, -999.000,9, -999.000,9, -999.000,9, -999.000, -999.000,9,-999.0000,-999.0000,9,  -999.00,  -999.00,9,   6.7086
  58JH19990615,   75N,   516,  1,      4,2,19990701, 70.5017,  20.0025,  223,     75.3,   7.0900,  34.3223,2,  34.3250,3,    292.2,2,     3.10,2,     5.05,2,     0.18,2,     0.44,2, -999.000,9, -999.000,9, -999.000,9, -999.000,9, -999.000, -999.000,9,-999.0000,-999.0000,9,  -999.00,  -999.00,9,   7.0830
  58JH19990615,   75N,   516,  1,      3,2,19990701, 70.5017,  20.0025,  223,     99.1,   7.0750,  34.5004,2,  34.4930,3,    286.9,2,     3.38,2,     6.66,2,     0.13,2,     0.51,2, -999.000,9, -999.000,9, -999.000,9, -999.000,9, -999.000, -999.000,9,-999.0000,-999.0000,9,  -999.00,  -999.00,9,   7.0658
  58JH19990615,   75N,   516,  1,      2,2,19990701, 70.5017,  20.0025,  223,    124.7,   7.0030,  34.5524,2,  34.5320,3,    285.6,2,     3.53,2,     7.33,2,     0.12,2,     0.54,2, -999.000,9, -999.000,9, -999.000,9, -999.000,9, -999.000, -999.000,9,-999.0000,-999.0000,9,  -999.00,  -999.00,9,   6.9915
  58JH19990615,   75N,   516,  1,      1,2,19990701, 70.5017,  20.0025,  223,    135.5,   6.9020,  34.6069,2,  34.5820,3,    284.7,2,     3.61,2,     7.76,2,     0.10,2,     0.56,2, -999.000,9, -999.000,9, -999.000,9, -999.000,9, -999.000, -999.000,9,-999.0000,-999.0000,9,  -999.00,  -999.00,9,   6.8895
  58JH19990615,   75N,   517,  1,      9,2,19990701, 70.6663,  19.9645,  224,      5.0,   9.5330,  33.9267,2,  33.8450,3,    323.3,2,     1.14,2,     0.09,2,     0.00,2,     0.08,2, -999.000,9, -999.000,9, -999.000,9, -999.000,9, -999.000, -999.000,9,-999.0000,-999.0000,9,  -999.00,  -999.00,9,   9.5325
  58JH19990615,   75N,   517,  1,      8,2,19990701, 70.6663,  19.9645,  224,      9.3,   9.1230,  33.8829,2,  33.8750,3,    324.1,2,     1.26,2,     0.09,2,     0.00,2,     0.08,2, -999.000,9, -999.000,9, -999.000,9, -999.000,9, -999.000, -999.000,9,-999.0000,-999.0000,9,  -999.00,  -999.00,9,   9.1220
  58JH19990615,   75N,   517,  1,      7,2,19990701, 70.6663,  19.9645,  224,     20.6,   7.6540,  33.9057,2,  33.8950,3,    305.8,2,     2.48,2,     1.91,2,     0.07,2,     0.25,2, -999.000,9, -999.000,9, -999.000,9, -999.000,9, -999.000, -999.000,9,-999.0000,-999.0000,9,  -999.00,  -999.00,9,   7.6520
  58JH19990615,   75N,   517,  1,      6,2,19990701, 70.6663,  19.9645,  224,     30.6,   7.3120,  33.9924,2,  34.0720,3,    298.3,2,     2.75,2,     3.00,2,     0.09,2,     0.33,2, -999.000,9, -999.000,9, -999.000,9, -999.000,9, -999.000, -999.000,9,-999.0000,-999.0000,9,  -999.00,  -999.00,9,   7.3091
  58JH19990615,   75N,   517,  1,      5,2,19990701, 70.6663,  19.9645,  224,     51.2,   6.8980,  34.1723,2,  34.2080,3,    294.8,2,     3.23,2,     4.95,2,     0.13,2,     0.44,2, -999.000,9, -999.000,9, -999.000,9, -999.000,9, -999.000, -999.000,9,-999.0000,-999.0000,9,  -999.00,  -999.00,9,   6.8934
  58JH19990615,   75N,   517,  1,      4,2,19990701, 70.6663,  19.9645,  224,     74.7,   6.8240,  34.3145,2,  34.3060,3,    290.9,2,     3.48,2,     6.03,2,     0.14,2,     0.49,2, -999.000,9, -999.000,9, -999.000,9, -999.000,9, -999.000, -999.000,9,-999.0000,-999.0000,9,  -999.00,  -999.00,9,   6.8172
  58JH19990615,   75N,   517,  1,      3,2,19990701, 70.6663,  19.9645,  224,    100.0,   6.4020,  34.4785,2,  34.4770,3,    284.7,2,     3.98,2,     8.92,2,     0.02,2,     0.62,2, -999.000,9, -999.000,9, -999.000,9, -999.000,9, -999.000, -999.000,9,-999.0000,-999.0000,9,  -999.00,  -999.00,9,   6.3932
  58JH19990615,   75N,   517,  1,      2,2,19990701, 70.6663,  19.9645,  224,    124.3,   6.4080,  34.5772,2,  34.5710,3,    283.8,2,     4.05,2,     9.49,2,     0.01,2,     0.65,2, -999.000,9, -999.000,9, -999.000,9, -999.000,9, -999.000, -999.000,9,-999.0000,-999.0000,9,  -999.00,  -999.00,9,   6.3971
  58JH19990615,   75N,   517,  1,      1,2,19990701, 70.6663,  19.9645,  224,    147.2,   6.3670,-999.0000,9,  34.7400,3,    282.9,2,     4.16,2,    10.01,2,     0.01,2,     0.68,2, -999.000,9, -999.000,9, -999.000,9, -999.000,9, -999.000, -999.000,9,-999.0000,-999.0000,9,  -999.00,  -999.00,9,-999.0000
  58JH19990615,   75N,   518,  1,     10,2,19990701, 70.8330,  19.9300,  224,      3.6,   9.3330,-999.0000,9,  33.9320,3,    323.2,2,     0.45,2,     0.07,2,     0.00,2,     0.04,2, -999.000,9, -999.000,9, -999.000,9, -999.000,9, -999.000, -999.000,9,-999.0000,-999.0000,9,  -999.00,  -999.00,9,-999.0000
  58JH19990615,   75N,   518,  1,      9,2,19990701, 70.8330,  19.9300,  224,      9.6,   9.1180,  33.9461,2,  33.9390,3,    325.4,2,     0.57,2,     0.05,2,     0.00,2,     0.03,2, -999.000,9, -999.000,9, -999.000,9, -999.000,9, -999.000, -999.000,9,-999.0000,-999.0000,9,  -999.00,  -999.00,9,   9.1170
  58JH19990615,   75N,   518,  1,      8,2,19990701, 70.8330,  19.9300,  224,     19.8,   8.6490,  33.9673,2,  33.9770,3,    325.8,2,     0.92,2,     0.06,2,     0.00,2,     0.06,2, -999.000,9, -999.000,9, -999.000,9, -999.000,9, -999.000, -999.000,9,-999.0000,-999.0000,9,  -999.00,  -999.00,9,   8.6470
  58JH19990615,   75N,   518,  1,      7,2,19990701, 70.8330,  19.9300,  224,     29.9,   7.9630,  34.0399,2,  34.0500,3,    318.4,2,     1.44,2,     0.68,2,     0.03,2,     0.13,2, -999.000,9, -999.000,9, -999.000,9, -999.000,9, -999.000, -999.000,9,-999.0000,-999.0000,9,  -999.00,  -999.00,9,   7.9601
  58JH19990615,   75N,   518,  1,      6,2,19990701, 70.8330,  19.9300,  224,     49.6,   7.0680,  34.1640,2,  34.1560,3,    297.9,2,     2.81,2,     3.86,2,     0.16,2,     0.36,2, -999.000,9, -999.000,9, -999.000,9, -999.000,9, -999.000, -999.000,9,-999.0000,-999.0000,9,  -999.00,  -999.00,9,   7.0634
  58JH19990615,   75N,   518,  1,      5,2,19990701, 70.8330,  19.9300,  224,     74.6,   7.6080,  34.4575,2,  34.4600,3,    290.8,2,     2.70,2,     4.19,2,     0.15,2,     0.38,2, -999.000,9, -999.000,9, -999.000,9, -999.000,9, -999.000, -999.000,9,-999.0000,-999.0000,9,  -999.00,  -999.00,9,   7.6008
  58JH19990615,   75N,   518,  1,      4,2,19990701, 70.8330,  19.9300,  224,    100.2,   6.8660,  34.5903,2,  34.6070,3,    283.8,2,     3.65,2,     8.23,2,     0.12,2,     0.59,2, -999.000,9, -999.000,9, -999.000,9, -999.000,9, -999.000, -999.000,9,-999.0000,-999.0000,9,  -999.00,  -999.00,9,   6.8568
  58JH19990615,   75N,   518,  1,      3,2,19990701, 70.8330,  19.9300,  224,    122.4,   6.4010,  34.7345,2,  34.7400,3,    282.9,2,     4.32,2,    10.34,2,     0.01,2,     0.69,2, -999.000,9, -999.000,9, -999.000,9, -999.000,9, -999.000, -999.000,9,-999.0000,-999.0000,9,  -999.00,  -999.00,9,   6.3902
  58JH19990615,   75N,   518,  1,      2,2,19990701, 70.8330,  19.9300,  224,    149.9,   6.4480,  34.9080,2,  34.8970,3,    281.2,2,     4.72,2,    11.19,2,     0.01,2,     0.76,2, -999.000,9, -999.000,9, -999.000,9, -999.000,9, -999.000, -999.000,9,-999.0000,-999.0000,9,  -999.00,  -999.00,9,   6.4347
  58JH19990615,   75N,   518,  1,      1,2,19990701, 70.8330,  19.9300,  224,    171.3,   6.2240,-999.0000,9,  34.9650,3,    279.0,2,     5.18,2,    11.84,2,     0.02,2,     0.81,2, -999.000,9, -999.000,9, -999.000,9, -999.000,9, -999.000, -999.000,9,-999.0000,-999.0000,9,  -999.00,  -999.00,9,-999.0000
  58JH19990615,   75N,   519,  1,     10,2,19990701, 70.9990,  19.8970,  224,      5.5,   9.5304,  34.0973,2,  34.0983,3,    307.9,2,     0.74,2,     0.08,2,     0.00,2,     0.03,2,    4.243,2,    2.294,2,    0.367,2,    5.262,2, -999.000, -999.000,9,-999.0000,-999.0000,9,  -999.00,  -999.00,9,   9.5297
  58JH19990615,   75N,   519,  1,      9,2,19990701, 70.9990,  19.8970,  224,      9.6,   9.4176,  34.1054,2,  34.1056,3,    310.5,2,     0.73,2,     0.05,2,     0.00,2,     0.03,2,    4.268,2,    2.278,2,    0.370,2,    5.239,2, -999.000, -999.000,9,-999.0000,-999.0000,9,  -999.00,  -999.00,9,   9.4166
  58JH19990615,   75N,   519,  1,      8,2,19990701, 70.9990,  19.8970,  224,     19.3,   8.9394,  34.1367,2,  34.1367,3,    322.3,2,     1.22,2,     0.18,2,     0.00,2,     0.07,2,    4.415,2,    2.338,2,    0.387,2,    5.267,2, -999.000, -999.000,9,-999.0000,-999.0000,9,  -999.00,  -999.00,9,   8.9373
  58JH19990615,   75N,   519,  1,      7,2,19990701, 70.9990,  19.8970,  224,     30.3,   7.4170,  34.1593,2,  34.1890,3,    305.3,2,     2.42,2,     2.43,2,     0.08,2,     0.26,2, -999.000,9, -999.000,9, -999.000,9, -999.000,9, -999.000, -999.000,9,-999.0000,-999.0000,9,  -999.00,  -999.00,9,   7.4141
  58JH19990615,   75N,   519,  1,      6,2,19990701, 70.9990,  19.8970,  224,     50.5,   7.2670,  34.4031,2,  34.4031,3,    289.5,2,     3.15,2,     5.10,2,     0.18,2,     0.44,2,    4.430,2,    2.386,2,    0.366,2,    5.127,2, -999.000, -999.000,9,-999.0000,-999.0000,9,  -999.00,  -999.00,9,   7.2623
  58JH19990615,   75N,   519,  1,      5,2,19990701, 70.9990,  19.8970,  224,     74.8,   6.4430,  34.5496,2,  34.5440,3,    283.4,2,     3.95,2,     9.28,2,     0.11,2,     0.64,2, -999.000,9, -999.000,9, -999.000,9, -999.000,9, -999.000, -999.000,9,-999.0000,-999.0000,9,  -999.00,  -999.00,9,   6.4364
  58JH19990615,   75N,   519,  1,      4,2,19990701, 70.9990,  19.8970,  224,    100.3,   6.4490,  34.7345,2,  34.7341,3,    282.5,2,     4.38,2,    10.31,2,     0.01,2,     0.70,2,    4.439,2,    2.395,2,    0.362,2,    4.515,2, -999.000, -999.000,9,-999.0000,-999.0000,9,  -999.00,  -999.00,9,   6.4401
  58JH19990615,   75N,   519,  1,      3,2,19990701, 70.9990,  19.8970,  224,    124.5,   6.3801,  34.8358,2,  34.8210,3,    282.0,2,     4.53,2,    10.87,2,     0.01,2,     0.73,2,    4.424,2,    2.383,2,    0.362,2,    4.473,2, -999.000, -999.000,9,-999.0000,-999.0000,9,  -999.00,  -999.00,9,   6.3691
  58JH19990615,   75N,   519,  1,      2,2,19990701, 70.9990,  19.8970,  224,    150.1,   6.5908,  34.9654,2,  34.9698,3,    280.3,2,     4.78,2,    11.46,2,     0.01,2,     0.77,2,    4.352,2,    2.352,2,    0.347,2,    4.254,2, -999.000, -999.000,9,-999.0000,-999.0000,9,  -999.00,  -999.00,9,   6.5773
  58JH19990615,   75N,   519,  1,      1,2,19990701, 70.9990,  19.8970,  224,    179.9,   6.4490,  35.0269,2,  35.0270,3,    277.6,2,     5.30,2,    12.15,2,     0.02,2,     0.83,2,    4.344,6,    2.343,6,    0.345,6,    4.086,6, -999.000, -999.000,9,-999.0000,-999.0000,9,  -999.00,  -999.00,9,   6.4329
  58JH19990615,   75N,   520,  1,     10,2,19990701, 71.1677,  19.8637,  334,      4.4,   9.4640,-999.0000,9,  34.0280,3,    309.3,2,     0.99,2,     0.07,2,     0.00,2,     0.01,2, -999.000,9, -999.000,9, -999.000,9, -999.000,9, -999.000, -999.000,9,-999.0000,-999.0000,9,  -999.00,  -999.00,9,-999.0000
  58JH19990615,   75N,   520,  1,      9,2,19990701, 71.1677,  19.8637,  334,     10.1,   9.3860,  34.0361,2,  34.0440,3,    311.4,2,     1.03,2,     0.47,2,     0.01,2,     0.08,2, -999.000,9, -999.000,9, -999.000,9, -999.000,9, -999.000, -999.000,9,-999.0000,-999.0000,9,  -999.00,  -999.00,9,   9.3849
  58JH19990615,   75N,   520,  1,      8,2,19990701, 71.1677,  19.8637,  334,     20.2,   7.5660,  34.1485,2,  34.1670,3,    301.4,2,     2.37,2,     2.79,2,     0.11,2,     0.30,2, -999.000,9, -999.000,9, -999.000,9, -999.000,9, -999.000, -999.000,9,-999.0000,-999.0000,9,  -999.00,  -999.00,9,   7.5641
  58JH19990615,   75N,   520,  1,      7,2,19990701, 71.1677,  19.8637,  334,     30.6,   7.1000,  34.2389,2,  34.2620,3,    293.9,2,     2.78,2,     4.02,2,     0.16,2,     0.41,2, -999.000,9, -999.000,9, -999.000,9, -999.000,9, -999.000, -999.000,9,-999.0000,-999.0000,9,  -999.00,  -999.00,9,   7.0972
  58JH19990615,   75N,   520,  1,      6,2,19990701, 71.1677,  19.8637,  334,     49.2,   6.6200,  34.4283,2,  34.4340,3,    285.2,2,     3.72,2,     7.75,2,     0.20,2,     0.60,2, -999.000,9, -999.000,9, -999.000,9, -999.000,9, -999.000, -999.000,9,-999.0000,-999.0000,9,  -999.00,  -999.00,9,   6.6156
  58JH19990615,   75N,   520,  1,      5,2,19990701, 71.1677,  19.8637,  334,     74.0,   6.3890,  34.6034,2,  34.6070,3,    283.0,2,     4.09,2,     9.75,2,     0.02,2,     0.66,2, -999.000,9, -999.000,9, -999.000,9, -999.000,9, -999.000, -999.000,9,-999.0000,-999.0000,9,  -999.00,  -999.00,9,   6.3825
  58JH19990615,   75N,   520,  1,      4,2,19990701, 71.1677,  19.8637,  334,    101.1,   6.3630,  34.7220,2,  34.7260,3,    283.4,2,     4.03,2,    10.06,2,     0.01,2,     0.68,2, -999.000,9, -999.000,9, -999.000,9, -999.000,9, -999.000, -999.000,9,-999.0000,-999.0000,9,  -999.00,  -999.00,9,   6.3541
  58JH19990615,   75N,   520,  1,      3,2,19990701, 71.1677,  19.8637,  334,    123.0,   6.3310,  34.8635,2,  34.8690,3,    281.2,2,     4.64,2,    11.07,2,     0.01,2,     0.74,2, -999.000,9, -999.000,9, -999.000,9, -999.000,9, -999.000, -999.000,9,-999.0000,-999.0000,9,  -999.00,  -999.00,9,   6.3202
  58JH19990615,   75N,   520,  1,      2,2,19990701, 71.1677,  19.8637,  334,    149.1,   6.2530,  34.9392,2,  34.9370,3,    279.0,2,     5.13,2,    11.89,2,     0.01,2,     0.80,2, -999.000,9, -999.000,9, -999.000,9, -999.000,9, -999.000, -999.000,9,-999.0000,-999.0000,9,  -999.00,  -999.00,9,   6.2399
  58JH19990615,   75N,   520,  1,      1,2,19990701, 71.1677,  19.8637,  334,    202.0,   6.2100,  35.0563,2,  35.0510,3,    276.3,2,     5.76,2,    12.78,2,     0.02,2,     0.85,2, -999.000,9, -999.000,9, -999.000,9, -999.000,9, -999.000, -999.000,9,-999.0000,-999.0000,9,  -999.00,  -999.00,9,   6.1923
  58JH19990615,   75N,   521,  1,     10,2,19990701, 71.3330,  19.8383,  334,      4.0,   9.4540,-999.0000,9,  34.4590,3,    306.1,2,     0.38,2,     0.08,2,     0.00,2,     0.04,2, -999.000,9, -999.000,9, -999.000,9, -999.000,9, -999.000, -999.000,9,-999.0000,-999.0000,9,  -999.00,  -999.00,9,-999.0000
  58JH19990615,   75N,   521,  1,      9,2,19990701, 71.3330,  19.8383,  334,      9.2,   9.3440,  34.4782,2,  34.4770,3,    307.4,2,     0.41,2,     0.08,2,     0.00,2,     0.04,2, -999.000,9, -999.000,9, -999.000,9, -999.000,9, -999.000, -999.000,9,-999.0000,-999.0000,9,  -999.00,  -999.00,9,   9.3430
  58JH19990615,   75N,   521,  1,      8,2,19990701, 71.3330,  19.8383,  334,     20.0,   8.7260,  34.4874,2,  34.4730,3,    314.8,2,     0.43,2,     0.37,2,     0.01,2,     0.09,2, -999.000,9, -999.000,9, -999.000,9, -999.000,9, -999.000, -999.000,9,-999.0000,-999.0000,9,  -999.00,  -999.00,9,   8.7239
  58JH19990615,   75N,   521,  1,      7,2,19990701, 71.3330,  19.8383,  334,     30.0,   7.8710,  34.5097,2,  34.5310,3,    307.0,2,     0.83,2,     1.34,2,     0.04,2,     0.20,2, -999.000,9, -999.000,9, -999.000,9, -999.000,9, -999.000, -999.000,9,-999.0000,-999.0000,9,  -999.00,  -999.00,9,   7.8680
  58JH19990615,   75N,   521,  1,      6,2,19990701, 71.3330,  19.8383,  334,     49.8,   7.3560,  34.6675,2,  34.8260,3,    296.4,2,     2.56,2,     4.14,2,     0.14,2,     0.38,2, -999.000,9, -999.000,9, -999.000,9, -999.000,9, -999.000, -999.000,9,-999.0000,-999.0000,9,  -999.00,  -999.00,9,   7.3513
  58JH19990615,   75N,   521,  1,      5,2,19990701, 71.3330,  19.8383,  334,     75.3,   6.5760,  34.8219,2,  34.8330,3,    285.1,2,     3.76,2,     9.82,2,     0.05,2,     0.65,2, -999.000,9, -999.000,9, -999.000,9, -999.000,9, -999.000, -999.000,9,-999.0000,-999.0000,9,  -999.00,  -999.00,9,   6.5693
  58JH19990615,   75N,   521,  1,      4,2,19990701, 71.3330,  19.8383,  334,    100.7,   6.3550,  34.9251,2,  34.9080,3,    285.1,2,     4.00,2,    10.66,2,     0.01,2,     0.70,2, -999.000,9, -999.000,9, -999.000,9, -999.000,9, -999.000, -999.000,9,-999.0000,-999.0000,9,  -999.00,  -999.00,9,   6.3461
  58JH19990615,   75N,   521,  1,      3,2,19990701, 71.3330,  19.8383,  334,    123.7,   6.4390,  34.9680,2,  34.9680,3,    283.3,2,     4.27,2,    11.18,2,     0.01,2,     0.72,2, -999.000,9, -999.000,9, -999.000,9, -999.000,9, -999.000, -999.000,9,-999.0000,-999.0000,9,  -999.00,  -999.00,9,   6.4280
  58JH19990615,   75N,   521,  1,      2,2,19990701, 71.3330,  19.8383,  334,    148.6,   6.4490,  35.0295,2,  35.0210,3,    281.6,2,     4.71,2,    11.76,2,     0.01,2,     0.76,2, -999.000,9, -999.000,9, -999.000,9, -999.000,9, -999.000, -999.000,9,-999.0000,-999.0000,9,  -999.00,  -999.00,9,   6.4357
  58JH19990615,   75N,   521,  1,      1,2,19990701, 71.3330,  19.8383,  334,    201.0,   6.2800,  35.0639,2,  35.0580,3,    280.3,2,  -999.00,9,  -999.00,9,  -999.00,9,  -999.00,9, -999.000,9, -999.000,9, -999.000,9, -999.000,9, -999.000, -999.000,9,-999.0000,-999.0000,9,  -999.00,  -999.00,9,   6.2622