BOTTLE,20090622PRINUNIVRMK
EXPOCODE,SECT_ID,STNNBR,CASTNO,BTLNBR,BTLNBR_FLAG_W,DATE,LATITUDE,LONGITUDE,DEPTH,CTDPRS,CTDTMP,CTDSAL,CTDSAL_FLAG_W,SALNTY,SALNTY_FLAG_W,OXYGEN,OXYGEN_FLAG_W,SILCAT,SILCAT_FLAG_W,NITRAT,NITRAT_FLAG_W,NITRIT,NITRIT_FLAG_W,PHSPHT,PHSPHT_FLAG_W,CFC-11,CFC-11_FLAG_W,CFC-12,CFC-12_FLAG_W,CFC113,CFC113_FLAG_W,CCL4,CCL4_FLAG_W,TRITUM,TRITER,TRITUM_FLAG_W,HELIUM,HELIER,HELIUM_FLAG_W,DELHE3,DELHER,DELHE3_FLAG_W,THETA
,,,,,,,,,METERS,DBARS,ITS-90,PSS-78,,PSS-78,,UMOL/KG,,UMOL/KG,,UMOL/KG,,UMOL/KG,,UMOL/KG,,PMOL/KG,,PMOL/KG,,PMOL/KG,,PMOL/KG,,TU,TU,,NMOL/KG,NMOL/KG,,PERCNT,PERCNT,,DEGC
  58JH19990615,   75N,   490,  2,     20,2,19990623, 74.0817,  -3.6693, 3570,      2.4,   1.7860,-999.0000,9,  34.6800,3,   -999.0,9,     0.63,2,     6.47,2,     0.03,2,     0.48,2, -999.000,9, -999.000,9, -999.000,9, -999.000,9, -999.000, -999.000,9,-999.0000,-999.0000,9,  -999.00,  -999.00,9,-999.0000
  58JH19990615,   75N,   490,  2,     19,2,19990623, 74.0817,  -3.6693, 3570,      4.2,   1.7830,-999.0000,9,  34.6760,3,   -999.0,9,     0.66,2,     6.52,2,     0.03,2,     0.48,2, -999.000,9, -999.000,9, -999.000,9, -999.000,9, -999.000, -999.000,9,-999.0000,-999.0000,9,  -999.00,  -999.00,9,-999.0000
  58JH19990615,   75N,   490,  2,     18,2,19990623, 74.0817,  -3.6693, 3570,      6.5,   1.7830,-999.0000,9,  34.6610,3,   -999.0,9,     0.67,2,     6.51,2,     0.03,2,     0.48,2, -999.000,9, -999.000,9, -999.000,9, -999.000,9, -999.000, -999.000,9,-999.0000,-999.0000,9,  -999.00,  -999.00,9,-999.0000
  58JH19990615,   75N,   490,  2,     17,2,19990623, 74.0817,  -3.6693, 3570,      8.7,   1.8050,-999.0000,9,  34.5590,3,   -999.0,9,     0.66,2,     6.44,2,     0.03,2,     0.48,2, -999.000,9, -999.000,9, -999.000,9, -999.000,9, -999.000, -999.000,9,-999.0000,-999.0000,9,  -999.00,  -999.00,9,-999.0000
  58JH19990615,   75N,   490,  2,     16,2,19990623, 74.0817,  -3.6693, 3570,     10.1,   1.8190,  34.7950,2,  34.4710,3,   -999.0,9,     0.66,2,     6.51,2,     0.03,2,     0.50,2, -999.000,9, -999.000,9, -999.000,9, -999.000,9, -999.000, -999.000,9,-999.0000,-999.0000,9,  -999.00,  -999.00,9,   1.8185
  58JH19990615,   75N,   490,  2,     15,2,19990623, 74.0817,  -3.6693, 3570,     14.0,   1.8160,  34.7948,2,  34.4970,3,   -999.0,9,     0.66,2,     6.53,2,     0.03,2,     0.47,2, -999.000,9, -999.000,9, -999.000,9, -999.000,9, -999.000, -999.000,9,-999.0000,-999.0000,9,  -999.00,  -999.00,9,   1.8153
  58JH19990615,   75N,   490,  2,     14,2,19990623, 74.0817,  -3.6693, 3570,     18.0,   1.8020,  34.7947,2,  34.5520,3,   -999.0,9,     0.66,2,     6.52,2,     0.03,2,     0.48,2, -999.000,9, -999.000,9, -999.000,9, -999.000,9, -999.000, -999.000,9,-999.0000,-999.0000,9,  -999.00,  -999.00,9,   1.8011
  58JH19990615,   75N,   490,  2,     13,2,19990623, 74.0817,  -3.6693, 3570,     21.2,   1.7800,  34.7948,2,  34.5880,3,   -999.0,9,     0.66,2,     6.54,2,     0.03,2,     0.49,2, -999.000,9, -999.000,9, -999.000,9, -999.000,9, -999.000, -999.000,9,-999.0000,-999.0000,9,  -999.00,  -999.00,9,   1.7789
  58JH19990615,   75N,   490,  2,     12,2,19990623, 74.0817,  -3.6693, 3570,     26.5,   1.7620,  34.7951,2,  34.6210,3,   -999.0,9,     0.67,2,     6.55,2,     0.03,2,     0.48,2, -999.000,9, -999.000,9, -999.000,9, -999.000,9, -999.000, -999.000,9,-999.0000,-999.0000,9,  -999.00,  -999.00,9,   1.7607
  58JH19990615,   75N,   490,  2,     11,2,19990623, 74.0817,  -3.6693, 3570,     30.1,   1.7460,  34.7955,2,  34.6890,3,   -999.0,9,     0.68,2,     6.53,2,     0.03,2,     0.49,2, -999.000,9, -999.000,9, -999.000,9, -999.000,9, -999.000, -999.000,9,-999.0000,-999.0000,9,  -999.00,  -999.00,9,   1.7445
  58JH19990615,   75N,   490,  2,     10,2,19990623, 74.0817,  -3.6693, 3570,     30.4,   1.7500,  34.7955,2,  34.7000,3,   -999.0,9,     0.69,2,     6.53,2,     0.03,2,     0.49,2, -999.000,9, -999.000,9, -999.000,9, -999.000,9, -999.000, -999.000,9,-999.0000,-999.0000,9,  -999.00,  -999.00,9,   1.7485
  58JH19990615,   75N,   490,  2,      9,2,19990623, 74.0817,  -3.6693, 3570,     33.8,   1.6950,  34.7957,2,  34.7180,3,   -999.0,9,     0.74,2,     6.57,2,     0.03,2,     0.49,2, -999.000,9, -999.000,9, -999.000,9, -999.000,9, -999.000, -999.000,9,-999.0000,-999.0000,9,  -999.00,  -999.00,9,   1.6933
  58JH19990615,   75N,   490,  2,      8,2,19990623, 74.0817,  -3.6693, 3570,     41.1,   1.0840,  34.7995,2,  34.7490,3,   -999.0,9,     1.41,2,     7.16,2,     0.03,2,     0.58,2, -999.000,9, -999.000,9, -999.000,9, -999.000,9, -999.000, -999.000,9,-999.0000,-999.0000,9,  -999.00,  -999.00,9,   1.0822
  58JH19990615,   75N,   490,  2,      7,2,19990623, 74.0817,  -3.6693, 3570,     50.7,   0.5490,  34.8411,2,  34.7660,3,   -999.0,9,     2.20,2,     7.96,2,     0.03,2,     0.66,2, -999.000,9, -999.000,9, -999.000,9, -999.000,9, -999.000, -999.000,9,-999.0000,-999.0000,9,  -999.00,  -999.00,9,   0.5469
  58JH19990615,   75N,   490,  2,      6,2,19990623, 74.0817,  -3.6693, 3570,     60.0,   0.1250,  34.8553,2,  34.7890,3,   -999.0,9,     3.02,2,     9.06,2,     0.04,2,     0.72,2, -999.000,9, -999.000,9, -999.000,9, -999.000,9, -999.000, -999.000,9,-999.0000,-999.0000,9,  -999.00,  -999.00,9,   0.1228
  58JH19990615,   75N,   490,  2,      5,2,19990623, 74.0817,  -3.6693, 3570,     69.5,  -0.1780,  34.8676,2,  34.7610,3,   -999.0,9,     4.00,2,    10.10,2,     0.04,2,     0.77,2, -999.000,9, -999.000,9, -999.000,9, -999.000,9, -999.000, -999.000,9,-999.0000,-999.0000,9,  -999.00,  -999.00,9,  -0.1804
  58JH19990615,   75N,   490,  2,      4,2,19990623, 74.0817,  -3.6693, 3570,     80.0,  -0.1550,  34.8789,2,  34.7890,3,   -999.0,9,     3.96,2,    10.12,2,     0.04,2,     0.77,2, -999.000,9, -999.000,9, -999.000,9, -999.000,9, -999.000, -999.000,9,-999.0000,-999.0000,9,  -999.00,  -999.00,9,  -0.1578
  58JH19990615,   75N,   490,  2,      3,2,19990623, 74.0817,  -3.6693, 3570,     99.7,  -0.2490,  34.8866,2,  34.7840,3,   -999.0,9,     6.06,2,    12.07,2,     0.06,2,     0.84,2, -999.000,9, -999.000,9, -999.000,9, -999.000,9, -999.000, -999.000,9,-999.0000,-999.0000,9,  -999.00,  -999.00,9,  -0.2524
  58JH19990615,   75N,   490,  2,      2,2,19990623, 74.0817,  -3.6693, 3570,    160.9,  -0.5260,  34.8810,2,  34.7310,3,   -999.0,9,     6.39,2,    12.77,2,     0.08,2,     0.87,2, -999.000,9, -999.000,9, -999.000,9, -999.000,9, -999.000, -999.000,9,-999.0000,-999.0000,9,  -999.00,  -999.00,9,  -0.5312
  58JH19990615,   75N,   490,  2,      1,2,19990623, 74.0817,  -3.6693, 3570,    206.0,  -0.6170,  34.8794,2,  34.7070,3,   -999.0,9,     6.43,2,    12.89,2,     0.03,2,     0.89,2, -999.000,9, -999.000,9, -999.000,9, -999.000,9, -999.000, -999.000,9,-999.0000,-999.0000,9,  -999.00,  -999.00,9,  -0.6236
  58JH19990615,   75N,   491,  1,     12,2,19990624, 74.5040, -14.6080,  261,      3.6,  -0.0530,-999.0000,9,  32.6430,3,    388.2,2,     0.44,2,     0.03,2,     0.00,2,     0.21,2,    6.338,2,    3.326,2,    0.572,2,    8.162,2, -999.000, -999.000,9,-999.0000,-999.0000,9,  -999.00,  -999.00,9,-999.0000
  58JH19990615,   75N,   491,  1,     11,2,19990624, 74.5040, -14.6080,  261,      4.1,  -0.0330,-999.0000,9,  32.7980,3,    399.0,2,     1.10,2,     0.02,2,     0.00,2,     0.19,2,    6.289,2,    3.335,2,    0.534,2,    7.778,2, -999.000, -999.000,9,-999.0000,-999.0000,9,  -999.00,  -999.00,9,-999.0000
  58JH19990615,   75N,   491,  1,     10,2,19990624, 74.5040, -14.6080,  261,      9.7,  -0.1973,  33.1192,2,  33.1193,3,    392.8,2,     2.69,2,     0.11,2,     0.00,2,     0.27,2,    6.187,6,    3.204,6,    0.522,6,    6.796,6, -999.000, -999.000,9,-999.0000,-999.0000,9,  -999.00,  -999.00,9,  -0.1976
  58JH19990615,   75N,   491,  1,      9,2,19990624, 74.5040, -14.6080,  261,     19.6,  -0.2500,  33.6506,2,  33.6920,3,    379.6,2,     2.11,2,     0.72,2,     0.00,2,     0.25,2, -999.000,9, -999.000,9, -999.000,9, -999.000,9, -999.000, -999.000,9,-999.0000,-999.0000,9,  -999.00,  -999.00,9,  -0.2506
  58JH19990615,   75N,   491,  1,      8,2,19990624, 74.5040, -14.6080,  261,     30.0,   0.0770,  33.9251,2,  33.9230,3,    373.8,2,     2.44,2,     1.26,2,     0.00,2,     0.29,2,    6.321,2,    3.173,2,    0.361,3,    7.511,2, -999.000, -999.000,9,-999.0000,-999.0000,9,  -999.00,  -999.00,9,   0.0760
  58JH19990615,   75N,   491,  1,      7,2,19990624, 74.5040, -14.6080,  261,     40.2,   0.1765,  34.0552,2,  34.0531,3,    361.6,2,     3.94,2,     3.66,2,     0.02,2,     0.46,2,    5.764,2,    3.005,2,    0.458,2,    6.825,2, -999.000, -999.000,9,-999.0000,-999.0000,9,  -999.00,  -999.00,9,   0.1750
  58JH19990615,   75N,   491,  1,      6,2,19990624, 74.5040, -14.6080,  261,     50.3,  -0.2836,  34.1676,2,  34.1655,3,    355.0,2,     3.21,2,     5.85,2,     0.03,2,     0.58,2,    5.783,2,    2.983,2,    0.503,2,    6.624,2, -999.000, -999.000,9,-999.0000,-999.0000,9,  -999.00,  -999.00,9,  -0.2852
  58JH19990615,   75N,   491,  1,      5,2,19990624, 74.5040, -14.6080,  261,     75.0,  -1.0735,  34.3345,2,  34.3324,3,    334.9,2,     5.58,2,     8.87,2,     0.04,2,     0.70,2,    5.407,2,    2.762,2,    0.445,2,    5.822,2, -999.000, -999.000,9,-999.0000,-999.0000,9,  -999.00,  -999.00,9,  -1.0755
  58JH19990615,   75N,   491,  1,      4,2,19990624, 74.5040, -14.6080,  261,    100.4,  -0.8196,  34.4602,2,  34.4595,3,    324.4,2,     6.05,2,     9.99,2,     0.05,2,     0.75,2,    4.952,2,    2.531,2,    0.389,2,    5.769,2, -999.000, -999.000,9,-999.0000,-999.0000,9,  -999.00,  -999.00,9,  -0.8224
  58JH19990615,   75N,   491,  1,      3,2,19990624, 74.5040, -14.6080,  261,    150.4,   0.9603,  34.7751,2,  34.7954,3,    311.3,2,     6.15,2,    11.66,2,     0.11,2,     0.83,2,    4.397,2,    2.254,2,    0.327,2,    5.504,2, -999.000, -999.000,9,-999.0000,-999.0000,9,  -999.00,  -999.00,9,   0.9535
  58JH19990615,   75N,   491,  1,      2,2,19990624, 74.5040, -14.6080,  261,    199.2,   1.5288,  34.9262,2,  34.9256,3,    312.1,2,     5.85,2,    12.38,2,     0.04,2,     0.84,2,    4.776,2,    2.453,2,    0.334,2,    5.987,2, -999.000, -999.000,9,-999.0000,-999.0000,9,  -999.00,  -999.00,9,   1.5188
  58JH19990615,   75N,   491,  1,      1,2,19990624, 74.5040, -14.6080,  261,    251.1,   0.8880,-999.0000,9,  34.9060,3,    309.9,2,     6.86,2,    12.83,2,     0.08,2,     0.95,3,    4.193,2,    2.123,2,    0.306,2,    5.508,2, -999.000, -999.000,9,-999.0000,-999.0000,9,  -999.00,  -999.00,9,-999.0000
  58JH19990615,   75N,   492,  1,     12,2,19990624, 74.4990, -12.9980, 2386,      8.1,   2.0990,  34.1443,2,  33.9850,3,    368.2,2,     0.64,2,     0.06,2,     0.00,2,     0.12,2,    5.805,2,    3.163,2,    0.503,2,    7.737,2, -999.000, -999.000,9,-999.0000,-999.0000,9,  -999.00,  -999.00,9,   2.0986
  58JH19990615,   75N,   492,  1,     11,2,19990624, 74.4990, -12.9980, 2386,     29.3,   1.0580,  34.7036,2,  34.7230,3,    340.5,2,     2.49,2,     7.37,2,     0.05,2,     0.64,2,    5.518,2,    2.866,2,    0.398,2,    6.804,2, -999.000, -999.000,9,-999.0000,-999.0000,9,  -999.00,  -999.00,9,   1.0567
  58JH19990615,   75N,   492,  1,     10,2,19990624, 74.4990, -12.9980, 2386,     51.7,   1.0580,  34.8476,2,  34.8340,3,    328.7,2,     3.87,2,     9.79,2,     0.10,2,     0.75,2, -999.000,9, -999.000,9, -999.000,9, -999.000,9, -999.000, -999.000,9,-999.0000,-999.0000,9,  -999.00,  -999.00,9,   1.0557
  58JH19990615,   75N,   492,  1,      9,2,19990624, 74.4990, -12.9980, 2386,    100.8,   1.0140,  34.9298,2,  34.9230,3,    313.4,2,     6.22,2,    12.64,2,     0.06,2,     0.85,2,    4.185,2,    2.167,2,    0.332,2,    5.354,2, -999.000, -999.000,9,-999.0000,-999.0000,9,  -999.00,  -999.00,9,   1.0095
  58JH19990615,   75N,   492,  1,      8,2,19990624, 74.4990, -12.9980, 2386,    146.1,   0.8860,  34.9278,2,  34.9020,3,    315.6,2,     6.26,2,    12.75,2,     0.04,2,     0.86,2, -999.000,9, -999.000,9, -999.000,9, -999.000,9, -999.000, -999.000,9,-999.0000,-999.0000,9,  -999.00,  -999.00,9,   0.8795
  58JH19990615,   75N,   492,  1,      7,2,19990624, 74.4990, -12.9980, 2386,    200.0,   0.7120,  34.9210,2,  34.9250,3,    316.0,2,     6.28,2,    12.76,2,     0.03,2,     0.86,2,    4.299,2,    2.200,2,    0.345,2,    5.618,2, -999.000, -999.000,9,-999.0000,-999.0000,9,  -999.00,  -999.00,9,   0.7033
  58JH19990615,   75N,   492,  1,      6,2,19990624, 74.4990, -12.9980, 2386,    301.3,   0.3260,  34.9181,2,  34.9120,3,    315.6,2,     6.51,2,    13.01,2,     0.00,2,     0.88,2,    4.149,2,    2.094,2,    0.257,2,    5.456,2, -999.000, -999.000,9,-999.0000,-999.0000,9,  -999.00,  -999.00,9,   0.3136
  58JH19990615,   75N,   492,  1,      5,2,19990624, 74.4990, -12.9980, 2386,    500.8,  -0.3120,  34.8987,2,  34.8590,3,    323.9,2,     6.68,2,    12.98,2,     0.05,2,     0.88,2, -999.000,9, -999.000,9, -999.000,9, -999.000,9, -999.000, -999.000,9,-999.0000,-999.0000,9,  -999.00,  -999.00,9,  -0.3308
  58JH19990615,   75N,   492,  1,      4,2,19990624, 74.4990, -12.9980, 2386,   1000.5,  -0.7500,  34.8909,2,  34.8860,3,    314.3,2,     8.20,2,    14.15,2,     0.00,2,     0.96,2,    3.671,2,    1.772,2,    0.262,2,    4.912,2, -999.000, -999.000,9,-999.0000,-999.0000,9,  -999.00,  -999.00,9,  -0.7885
  58JH19990615,   75N,   492,  1,      3,2,19990624, 74.4990, -12.9980, 2386,   1500.6,  -0.7460,  34.9169,2,  34.9120,3,    299.5,2,    10.69,2,    14.89,2,     0.00,2,     1.01,2,    1.164,2,    0.515,2,    0.040,2,    2.548,2, -999.000, -999.000,9,-999.0000,-999.0000,9,  -999.00,  -999.00,9,  -0.8106
  58JH19990615,   75N,   492,  1,      2,2,19990624, 74.4990, -12.9980, 2386,   2000.1,  -0.8770,  34.9138,2,  34.9110,3,    299.0,2,    11.80,2,    15.20,2,     0.00,2,     1.03,2,    0.697,2,    0.337,2,    0.017,2,    2.163,2, -999.000, -999.000,9,-999.0000,-999.0000,9,  -999.00,  -999.00,9,  -0.9698
  58JH19990615,   75N,   492,  1,      1,2,19990624, 74.4990, -12.9980, 2386,   2376.1,  -0.8820,  34.9164,2,  34.9140,3,   -999.0,9,    11.85,2,    15.25,2,     0.00,2,     1.03,2,    0.590,2,    0.267,2,    0.010,2,    1.983,2, -999.000, -999.000,9,-999.0000,-999.0000,9,  -999.00,  -999.00,9,  -0.9999
  58JH19990615,   75N,   493,  1,     12,2,19990624, 74.4998, -10.9983, 3013,    498.8,   0.2310,  34.9112,2,  34.8830,3,    322.6,2,     6.23,2,    12.73,2,     0.05,2,     0.87,2, -999.000,9, -999.000,9, -999.000,9, -999.000,9, -999.000, -999.000,9,-999.0000,-999.0000,9,  -999.00,  -999.00,9,   0.2100
  58JH19990615,   75N,   493,  1,     11,2,19990624, 74.4998, -10.9983, 3013,    600.5,  -0.1270,  34.8960,2,  34.8920,3,    317.8,2,     6.84,2,    13.17,2,     0.02,2,     0.91,2,    3.964,2,    2.035,2,    0.333,2,    5.237,2, -999.000, -999.000,9,-999.0000,-999.0000,9,  -999.00,  -999.00,9,  -0.1510
  58JH19990615,   75N,   493,  1,     10,2,19990624, 74.4998, -10.9983, 3013,    800.0,  -0.6040,  34.8902,2,  34.8760,3,    326.5,2,     6.83,2,    13.29,2,     0.00,2,     0.91,2,    4.512,2,    2.360,2,    0.391,2,    5.907,2, -999.000, -999.000,9,-999.0000,-999.0000,9,  -999.00,  -999.00,9,  -0.6343
  58JH19990615,   75N,   493,  1,      9,2,19990624, 74.4998, -10.9983, 3013,   1000.0,  -0.7590,  34.8757,2,  34.8480,3,    327.4,2,     6.98,2,    13.46,2,     0.00,2,     0.92,2, -999.000,9, -999.000,9, -999.000,9, -999.000,9, -999.000, -999.000,9,-999.0000,-999.0000,9,  -999.00,  -999.00,9,  -0.7974
  58JH19990615,   75N,   493,  1,      8,2,19990624, 74.4998, -10.9983, 3013,   1250.5,  -0.7200,  34.8948,2,  34.8890,3,    313.0,2,     8.33,2,    14.29,2,     0.00,2,     0.97,2,    3.430,2,    1.631,2,    0.257,2,    4.560,2, -999.000, -999.000,9,-999.0000,-999.0000,9,  -999.00,  -999.00,9,  -0.7712
  58JH19990615,   75N,   493,  1,      7,2,19990624, 74.4998, -10.9983, 3013,   1500.1,  -0.7050,  34.9011,2,  34.9010,3,    307.3,2,     9.28,2,    14.53,2,     0.00,2,     0.99,2,    2.485,2,    1.164,2,    0.151,2,    3.691,2, -999.000, -999.000,9,-999.0000,-999.0000,9,  -999.00,  -999.00,9,  -0.7700
  58JH19990615,   75N,   493,  1,      6,2,19990624, 74.4998, -10.9983, 3013,   1749.8,  -0.7160,  34.9117,2,  34.8870,3,    299.0,2,    10.64,2,    14.87,2,     0.00,2,     1.02,2, -999.000,9, -999.000,9, -999.000,9, -999.000,9, -999.000, -999.000,9,-999.0000,-999.0000,9,  -999.00,  -999.00,9,  -0.7956
  58JH19990615,   75N,   493,  1,      5,2,19990624, 74.4998, -10.9983, 3013,   2000.9,  -0.7930,  34.9155,2,  34.9120,3,    298.6,2,    11.21,2,    15.13,2,     0.00,2,     1.03,2,    0.870,2,    0.380,2,    0.026,2,    2.230,2, -999.000, -999.000,9,-999.0000,-999.0000,9,  -999.00,  -999.00,9,  -0.8872
  58JH19990615,   75N,   493,  1,      4,2,19990624, 74.4998, -10.9983, 3013,   2249.6,  -0.8600,  34.9113,2,  34.9090,3,    299.9,2,    11.42,2,    15.16,2,     0.00,2,     1.03,2,    0.862,2,    0.375,2,    0.022,2,    2.218,2, -999.000, -999.000,9,-999.0000,-999.0000,9,  -999.00,  -999.00,9,  -0.9695
  58JH19990615,   75N,   493,  1,      3,2,19990624, 74.4998, -10.9983, 3013,   2499.0,  -0.8670,  34.9135,2,  34.9110,3,    300.3,2,    11.80,2,    15.29,2,     0.00,2,     1.03,2,    0.709,6,    0.305,6,    0.016,6,    2.133,6, -999.000, -999.000,9,-999.0000,-999.0000,9,  -999.00,  -999.00,9,  -0.9939
  58JH19990615,   75N,   493,  1,      2,2,19990624, 74.4998, -10.9983, 3013,   2751.8,  -0.8690,  34.9128,2,  34.9110,3,    300.3,2,    11.79,2,    15.20,2,     0.00,2,     1.03,2,    0.662,2,    0.294,2,    0.019,2,    1.858,2, -999.000, -999.000,9,-999.0000,-999.0000,9,  -999.00,  -999.00,9,  -1.0146
  58JH19990615,   75N,   493,  1,      1,2,19990624, 74.4998, -10.9983, 3013,   3003.0,  -0.8960,  34.9100,2,  34.9070,3,    302.5,2,    11.90,2,    15.25,2,     0.00,2,     1.04,2,    0.761,2,    0.324,2,    0.017,2,    2.301,2, -999.000, -999.000,9,-999.0000,-999.0000,9,  -999.00,  -999.00,9,  -1.0606