BOTTLE,20090622PRINUNIVRMK
EXPOCODE,SECT_ID,STNNBR,CASTNO,BTLNBR,BTLNBR_FLAG_W,DATE,LATITUDE,LONGITUDE,DEPTH,CTDPRS,CTDTMP,CTDSAL,CTDSAL_FLAG_W,SALNTY,SALNTY_FLAG_W,OXYGEN,OXYGEN_FLAG_W,SILCAT,SILCAT_FLAG_W,NITRAT,NITRAT_FLAG_W,NITRIT,NITRIT_FLAG_W,PHSPHT,PHSPHT_FLAG_W,CFC-11,CFC-11_FLAG_W,CFC-12,CFC-12_FLAG_W,CFC113,CFC113_FLAG_W,CCL4,CCL4_FLAG_W,TRITUM,TRITER,TRITUM_FLAG_W,HELIUM,HELIER,HELIUM_FLAG_W,DELHE3,DELHER,DELHE3_FLAG_W,THETA
,,,,,,,,,METERS,DBARS,ITS-90,PSS-78,,PSS-78,,UMOL/KG,,UMOL/KG,,UMOL/KG,,UMOL/KG,,UMOL/KG,,PMOL/KG,,PMOL/KG,,PMOL/KG,,PMOL/KG,,TU,TU,,NMOL/KG,NMOL/KG,,PERCNT,PERCNT,,DEGC
  58JH19990615,   75N,   549,  1,     12,2,19990706, 71.0830,   6.0010, 3012,    501.1,   4.9659,  35.0913,2,  35.0897,3,    297.2,2,     5.19,2,    12.07,2,     0.01,2,     0.80,2,    4.854,2,    2.436,2,    0.382,2,    5.352,2, -999.000, -999.000,9,-999.0000,-999.0000,9,  -999.00,  -999.00,9,   4.9256
  58JH19990615,   75N,   549,  1,     11,2,19990706, 71.0830,   6.0010, 3012,    601.2,   4.3750,  35.0731,2,  35.0719,3,    301.2,2,     5.09,2,    12.09,2,     0.01,2,     0.79,2,    4.926,2,    2.490,2,    0.398,2,    5.885,2, -999.000, -999.000,9,-999.0000,-999.0000,9,  -999.00,  -999.00,9,   4.3290
  58JH19990615,   75N,   549,  1,     10,2,19990706, 71.0830,   6.0010, 3012,    800.3,   2.8453,  34.9897,2,  34.9885,3,    305.1,2,     5.91,2,    13.25,2,     0.00,2,     0.90,2,    5.232,2,    2.599,2,    0.413,2,    6.214,2, -999.000, -999.000,9,-999.0000,-999.0000,9,  -999.00,  -999.00,9,   2.7925
  58JH19990615,   75N,   549,  1,      9,2,19990706, 71.0830,   6.0010, 3012,   1001.8,   0.3204,  34.8919,2,  34.8906,3,    300.8,2,     7.65,2,    14.59,2,     0.01,2,     0.97,2,    4.069,2,    1.878,2,    0.306,2,    4.993,2, -999.000, -999.000,9,-999.0000,-999.0000,9,  -999.00,  -999.00,9,   0.2731
  58JH19990615,   75N,   549,  1,      8,2,19990706, 71.0830,   6.0010, 3012,   1251.1,  -0.3920,  34.8973,2,  34.8959,3,    301.2,2,     8.73,2,    14.66,2,     0.00,2,     0.98,2,    2.809,2,    1.279,2,    0.189,2,    4.039,2, -999.000, -999.000,9,-999.0000,-999.0000,9,  -999.00,  -999.00,9,  -0.4466
  58JH19990615,   75N,   549,  1,      7,2,19990706, 71.0830,   6.0010, 3012,   1500.9,  -0.6157,  34.9047,2,  34.9035,3,    299.5,2,     9.92,2,    14.76,2,     0.00,2,     0.99,2,    1.798,2,    0.825,2,    0.093,2,    3.033,2, -999.000, -999.000,9,-999.0000,-999.0000,9,  -999.00,  -999.00,9,  -0.6818
  58JH19990615,   75N,   549,  1,      6,2,19990706, 71.0830,   6.0010, 3012,   1751.2,  -0.7129,  34.9089,2,  34.9078,3,    296.0,3,    10.80,2,    15.02,2,     0.00,2,     1.02,2,    1.239,2,    0.540,2,    0.033,2,    2.645,2, -999.000, -999.000,9,-999.0000,-999.0000,9,  -999.00,  -999.00,9,  -0.7926
  58JH19990615,   75N,   549,  1,      5,2,19990706, 71.0830,   6.0010, 3012,   2000.8,  -0.7800,  34.9106,2,  34.9094,3,    299.0,2,    11.45,2,    15.11,2,     0.00,2,     1.03,2,    0.907,2,    0.404,2,    0.015,2,    2.339,2, -999.000, -999.000,9,-999.0000,-999.0000,9,  -999.00,  -999.00,9,  -0.8744
  58JH19990615,   75N,   549,  1,      4,2,19990706, 71.0830,   6.0010, 3012,   2250.1,  -0.8295,  34.9114,2,  34.9101,3,    298.6,2,    11.97,2,    15.20,2,     0.00,2,     1.02,2,    0.682,2,    0.312,2,    0.007,2,    2.142,2, -999.000, -999.000,9,-999.0000,-999.0000,9,  -999.00,  -999.00,9,  -0.9396
  58JH19990615,   75N,   549,  1,      3,2,19990706, 71.0830,   6.0010, 3012,   2500.3,  -0.8501,  34.9114,2,  34.9102,3,    299.0,2,    12.48,2,    15.24,2,     0.01,2,     1.03,2,    0.600,6,    0.275,6,    0.003,6,    1.991,6, -999.000, -999.000,9,-999.0000,-999.0000,9,  -999.00,  -999.00,9,  -0.9774
  58JH19990615,   75N,   549,  1,      2,2,19990706, 71.0830,   6.0010, 3012,   2750.3,  -0.8534,  34.9116,2,  34.9104,3,    299.0,2,    12.77,2,    15.34,2,     0.00,2,     1.03,2,    0.500,2,    0.253,2,    0.003,2,    1.935,2, -999.000, -999.000,9,-999.0000,-999.0000,9,  -999.00,  -999.00,9,  -0.9992
  58JH19990615,   75N,   549,  1,      1,2,19990706, 71.0830,   6.0010, 3012,   3001.5,  -0.8470,  34.9117,2,  34.9100,3,    298.6,2,    13.33,2,    15.49,2,     0.00,2,     1.03,2,    0.410,2,    0.207,2,    0.002,2,    1.741,2, -999.000, -999.000,9,-999.0000,-999.0000,9,  -999.00,  -999.00,9,  -1.0126
  58JH19990615,   75N,   549,  2,     12,2,19990706, 71.0830,   6.0010, 3012,      4.9,   8.4240,-999.0000,9,  35.0700,3,    297.7,2,     1.07,2,     2.72,2,     0.08,2,     0.23,2,    4.262,2,    2.224,2,    0.352,2,    5.312,2, -999.000, -999.000,9,-999.0000,-999.0000,9,  -999.00,  -999.00,9,-999.0000
  58JH19990615,   75N,   549,  2,     11,2,19990706, 71.0830,   6.0010, 3012,      9.7,   8.4240,  35.0774,2,  35.0700,3,    298.1,2,     1.03,2,     2.73,2,     0.08,2,     0.23,2,    4.261,2,    2.246,2,    0.350,2,    5.334,2, -999.000, -999.000,9,-999.0000,-999.0000,9,  -999.00,  -999.00,9,   8.4230
  58JH19990615,   75N,   549,  2,     10,2,19990706, 71.0830,   6.0010, 3012,     19.5,   8.4394,  35.0775,2,  35.0763,3,    298.6,2,     1.07,2,     2.78,2,     0.08,2,     0.23,2,    4.292,2,    2.205,2,    0.351,2,    5.239,2, -999.000, -999.000,9,-999.0000,-999.0000,9,  -999.00,  -999.00,9,   8.4374
  58JH19990615,   75N,   549,  2,      9,2,19990706, 71.0830,   6.0010, 3012,     30.1,   8.4204,  35.0781,2,  35.0769,3,    290.7,2,     2.10,2,     7.67,2,     0.21,2,     0.57,2,    4.319,2,    2.252,2,    0.345,2,    4.639,2, -999.000, -999.000,9,-999.0000,-999.0000,9,  -999.00,  -999.00,9,   8.4173
  58JH19990615,   75N,   549,  2,      8,2,19990706, 71.0830,   6.0010, 3012,     41.1,   7.2658,  35.1181,2,  35.1169,3,    279.8,2,     3.47,2,    10.22,2,     0.22,2,     0.77,2,    4.321,2,    2.229,2,    0.337,2,    4.319,2, -999.000, -999.000,9,-999.0000,-999.0000,9,  -999.00,  -999.00,9,   7.2619
  58JH19990615,   75N,   549,  2,      7,2,19990706, 71.0830,   6.0010, 3012,     50.8,   6.9628,  35.1473,2,  35.1461,3,    275.0,2,     4.17,2,    12.35,2,     0.12,2,     0.81,2,    4.333,2,    2.249,2,    0.346,2,    4.154,2, -999.000, -999.000,9,-999.0000,-999.0000,9,  -999.00,  -999.00,9,   6.9581
  58JH19990615,   75N,   549,  2,      6,2,19990706, 71.0830,   6.0010, 3012,     76.2,   7.0118,  35.1820,2,  35.1808,3,    278.0,2,     5.02,2,    12.59,2,     0.01,2,     0.82,2,    4.265,2,    2.227,2,    0.347,2,    4.232,2, -999.000, -999.000,9,-999.0000,-999.0000,9,  -999.00,  -999.00,9,   7.0047
  58JH19990615,   75N,   549,  2,      5,2,19990706, 71.0830,   6.0010, 3012,    100.4,   7.0051,  35.1895,2,  35.1883,3,    278.9,2,     5.35,2,    12.60,2,     0.01,2,     0.81,2,    4.282,2,    2.251,2,    0.356,2,    4.167,2, -999.000, -999.000,9,-999.0000,-999.0000,9,  -999.00,  -999.00,9,   6.9957
  58JH19990615,   75N,   549,  2,      4,2,19990706, 71.0830,   6.0010, 3012,    151.3,   6.8222,  35.1808,2,  35.1798,3,    282.0,2,     5.46,2,    12.55,2,     0.01,2,     0.82,2,    4.324,2,    2.212,2,    0.347,2,    4.069,2, -999.000, -999.000,9,-999.0000,-999.0000,9,  -999.00,  -999.00,9,   6.8082
  58JH19990615,   75N,   549,  2,      3,2,19990706, 71.0830,   6.0010, 3012,    201.1,   6.5802,  35.1660,2,  35.1646,3,    284.2,2,     5.44,2,    12.51,2,     0.01,2,     0.82,2,    4.354,2,    2.270,2,    0.351,2,    4.284,2, -999.000, -999.000,9,-999.0000,-999.0000,9,  -999.00,  -999.00,9,   6.5620
  58JH19990615,   75N,   549,  2,      2,2,19990706, 71.0830,   6.0010, 3012,    299.7,   6.1098,  35.1417,2,  35.1405,3,    289.0,2,     5.32,2,    12.28,2,     0.01,2,     0.81,2,    4.488,2,    2.335,2,    0.365,2,    4.820,2, -999.000, -999.000,9,-999.0000,-999.0000,9,  -999.00,  -999.00,9,   6.0835
  58JH19990615,   75N,   549,  2,      1,2,19990706, 71.0830,   6.0010, 3012,    401.3,   5.6931,  35.1207,2,  35.1194,3,    290.7,2,     5.23,2,    12.21,2,     0.01,2,     0.80,2,    4.590,2,    2.353,2,    0.362,2,    4.779,2, -999.000, -999.000,9,-999.0000,-999.0000,9,  -999.00,  -999.00,9,   5.6589
  58JH19990615,   75N,   550,  1,     12,2,19990706, 70.2490,   4.0010, 3161,    600.7,   3.8085,  35.0483,2,  35.0472,3,    303.4,2,     5.29,2,    12.41,2,     0.02,2,     0.87,2,    5.110,2,    2.565,2,    0.384,2,    6.083,2, -999.000, -999.000,5,   1.8086,   0.1780,2,  -999.00,     0.00,4,   3.7652
  58JH19990615,   75N,   550,  1,     11,2,19990706, 70.2490,   4.0010, 3161,    800.9,   1.9245,  34.9359,2,  34.9348,3,    306.0,2,     6.41,2,    13.76,2,     0.02,2,     0.92,2,    5.164,2,    2.517,2,    0.378,2,    6.069,2,    1.331,    0.061,2,   1.5981,   0.1640,3,     1.12,     0.00,3,   1.8776
  58JH19990615,   75N,   550,  1,     10,2,19990706, 70.2490,   4.0010, 3161,   1001.9,   0.1401,  34.8897,2,  34.8884,3,    301.6,2,     7.66,2,    14.49,2,     0.01,2,     0.97,2,    3.908,2,    1.856,2,    0.256,2,    4.830,2, -999.000, -999.000,5,   1.8303,   0.1700,2,  -999.00,     0.00,2,   0.0942
  58JH19990615,   75N,   550,  1,      9,2,19990706, 70.2490,   4.0010, 3161,   1249.6,  -0.4184,  34.8978,2,  34.8966,3,    302.1,2,     8.73,2,    14.60,2,     0.02,2,     0.98,2,    2.748,2,    1.291,2,    0.168,2,    3.915,2,    0.917,    0.051,2,-999.0000,-999.0000,5,  -999.00,  -999.00,5,  -0.4727
  58JH19990615,   75N,   550,  1,      8,2,19990706, 70.2490,   4.0010, 3161,   1500.9,  -0.6283,  34.9051,2,  34.9039,3,    299.0,2,     9.89,2,    14.79,2,     0.02,2,     1.00,2,    1.753,2,    0.819,2,    0.069,2,    3.066,2,    0.794,    0.048,2,   1.8383,   0.1650,2,     7.11,     0.00,2,  -0.6943
  58JH19990615,   75N,   550,  1,      7,2,19990706, 70.2490,   4.0010, 3161,   1750.4,  -0.7329,  34.9095,2,  34.9083,3,    298.6,2,    10.89,2,    15.01,2,     0.01,2,     1.01,2,    1.110,2,    0.500,2,    0.019,2,    2.451,2,    0.566,    0.048,2,   0.7972,   0.1820,3,     6.92,     0.00,4,  -0.8122
  58JH19990615,   75N,   550,  1,      6,2,19990706, 70.2490,   4.0010, 3161,   2000.0,  -0.8061,  34.9110,2,  34.9098,3,    298.6,2,    11.56,2,    15.15,2,     0.02,2,     1.02,2,    0.795,2,    0.369,2,    0.015,2,    2.126,2,    0.458,    0.048,2,-999.0000,-999.0000,5,  -999.00,  -999.00,5,  -0.9000
  58JH19990615,   75N,   550,  1,      5,2,19990706, 70.2490,   4.0010, 3161,   2250.0,  -0.8460,  34.9112,2,  34.9099,3,    299.5,2,    12.06,2,    15.22,2,     0.02,2,     1.03,2,    0.638,2,    0.309,2,    0.012,2,    1.993,2,    0.481,    0.049,2,-999.0000,-999.0000,5,  -999.00,  -999.00,5,  -0.9558
  58JH19990615,   75N,   550,  1,      4,2,19990706, 70.2490,   4.0010, 3161,   2500.5,  -0.8617,  34.9115,2,  34.9103,3,    299.5,2,    12.44,2,    15.30,2,     0.02,2,  -999.00,9,    0.543,2,    0.270,2,    0.007,2,    1.883,2,    0.405,    0.048,2,   1.8527,   0.1820,2,     5.54,     0.00,2,  -0.9888
  58JH19990615,   75N,   550,  1,      3,2,19990706, 70.2490,   4.0010, 3161,   2750.2,  -0.8603,  34.9117,2,  34.9105,3,    299.0,2,    12.87,2,    15.37,2,     0.02,2,     1.03,2,    0.459,2,    0.226,2,    0.006,2,    1.823,2,    0.334,    0.056,2,   1.8475,   0.1830,2,     5.58,     0.00,2,  -1.0060
  58JH19990615,   75N,   550,  1,      2,2,19990706, 70.2490,   4.0010, 3161,   2998.6,  -0.8485,  34.9119,2,  34.9106,3,    298.6,2,    13.32,2,    15.51,2,     0.02,2,     1.03,2,    0.390,2,    0.213,2,    0.010,2,    1.710,2, -999.000, -999.000,9,-999.0000,-999.0000,9,  -999.00,  -999.00,9,  -1.0139
  58JH19990615,   75N,   550,  1,      1,2,19990706, 70.2490,   4.0010, 3161,   3102.7,  -0.8410,  34.9117,2,  34.9100,3,    298.6,2,    13.60,2,    15.25,2,     0.10,2,     1.04,2,    0.367,6,    0.200,6,    0.005,6,    1.674,6, -999.000, -999.000,9,-999.0000,-999.0000,9,  -999.00,  -999.00,9,  -1.0149
  58JH19990615,   75N,   550,  2,     12,2,19990706, 70.2490,   4.0010, 3161,      9.1,   8.8570,  35.1433,2,  35.1310,3,    298.1,2,     0.57,2,     0.69,2,     0.04,2,     0.15,2,    4.232,6,    2.193,6,    0.332,6,    5.354,6,    1.597,    0.053,2,-999.0000,-999.0000,5,  -999.00,  -999.00,5,   8.8560
  58JH19990615,   75N,   550,  2,     11,2,19990706, 70.2490,   4.0010, 3161,     21.4,   8.6071,  35.1424,2,  35.1412,3,    299.4,2,     0.79,2,     1.75,2,     0.06,2,     0.21,2,    4.221,2,    2.169,2,    0.350,2,    5.454,2,    1.568,    0.052,2,   1.7891,   0.1830,2,    -1.36,     0.00,2,   8.6049
  58JH19990615,   75N,   550,  2,     10,2,19990706, 70.2490,   4.0010, 3161,     31.0,   8.1702,  35.1670,2,  35.1658,3,    300.3,2,     1.63,2,     3.42,2,     0.07,2,     0.33,2,    4.343,2,    2.211,2,    0.345,2,    5.458,2,    1.439,    0.052,2,   1.7651,   0.1860,2,    -1.31,     0.00,2,   8.1671
  58JH19990615,   75N,   550,  2,      9,2,19990706, 70.2490,   4.0010, 3161,     40.7,   7.7839,  35.1686,2,  35.1674,3,    291.1,2,     2.74,2,     7.04,2,     0.12,2,     0.62,2,    4.432,2,    2.295,2,    0.328,2,    5.054,2,    1.516,    0.054,2,   1.7523,   0.1790,2,    -1.43,     0.00,2,   7.7799
  58JH19990615,   75N,   550,  2,      8,2,19990706, 70.2490,   4.0010, 3161,     50.7,   6.7899,  35.1781,2,  35.1769,3,    279.8,2,  -999.00,9,  -999.00,9,  -999.00,9,  -999.00,9,    4.387,2,    2.278,2,    0.321,2,    4.388,2,    1.432,    0.053,2,   1.7895,   0.1860,2,    -1.26,     0.00,2,   6.7853
  58JH19990615,   75N,   550,  2,      7,2,19990706, 70.2490,   4.0010, 3161,     75.6,   6.2551,  35.1541,2,  35.1529,3,    280.2,2,     4.71,2,    12.13,2,     0.08,2,     0.81,2,    4.454,2,    2.270,2,    0.354,2,    4.842,2, -999.000, -999.000,5,   1.7713,   0.1910,2,  -999.00,     0.00,2,   6.2485
  58JH19990615,   75N,   550,  2,      6,2,19990706, 70.2490,   4.0010, 3161,    101.3,   5.8646,  35.1255,2,  35.1223,3,    281.5,2,     5.11,2,    12.73,2,     0.07,2,     0.82,2,    4.527,6,    2.321,6,    0.358,6,    5.101,6,    1.468,    0.053,2,   1.6545,   0.2570,2,    -1.46,     0.00,2,   5.8561
  58JH19990615,   75N,   550,  2,      5,2,19990706, 70.2490,   4.0010, 3161,    151.1,   5.3960,  35.1249,2,  35.0860,3,    291.6,2,     5.37,2,    12.32,2,     0.01,2,     0.80,2, -999.000,9, -999.000,9, -999.000,9, -999.000,9, -999.000, -999.000,9,-999.0000,-999.0000,9,  -999.00,  -999.00,9,   5.3837
  58JH19990615,   75N,   550,  2,      4,2,19990706, 70.2490,   4.0010, 3161,    201.1,   5.1510,  35.1053,2,  35.1040,3,    295.9,2,     5.26,2,    12.16,2,     0.01,2,     0.82,2,    4.758,2,    2.462,2,    0.374,2,    5.760,2, -999.000, -999.000,5,   3.7255,   0.1900,3,  -999.00,     0.00,4,   5.1350
  58JH19990615,   75N,   550,  2,      3,2,19990706, 70.2490,   4.0010, 3161,    301.9,   4.8061,  35.1019,2,  35.1006,3,    299.9,2,     5.08,2,    12.03,2,     0.01,2,     0.79,2,    4.817,2,    2.454,2,    0.372,2,    5.783,2,    1.294,    0.059,2,   1.7954,   0.1800,2,    -1.37,     0.00,2,   4.7827
  58JH19990615,   75N,   550,  2,      2,2,19990706, 70.2490,   4.0010, 3161,    400.7,   4.4800,  35.0800,2,  35.0788,3,    302.0,2,     5.07,2,    12.06,2,     0.01,2,  -999.00,9,    4.906,2,    2.492,2,    0.383,2,    5.946,2, -999.000, -999.000,5,   1.5165,   0.1880,4,  -999.00,     0.00,4,   4.4497
  58JH19990615,   75N,   550,  2,      1,2,19990706, 70.2490,   4.0010, 3161,    501.4,   4.2277,  35.0710,2,  35.0697,3,    302.0,2,     5.17,2,    12.24,2,     0.01,2,     0.82,2,    4.945,2,    2.496,2,    0.381,2,    6.117,2,    1.977,    0.077,3,   1.7816,   0.1810,2,    -1.54,     0.00,4,   4.1903
  58JH19990615,   75N,   551,  1,     12,2,19990707, 68.5000,   0.9990, 2787,    501.2,   2.1310,  34.9768,2,  34.9240,3,    305.6,2,     6.02,2,    13.63,2,     0.02,2,     0.90,2,    5.460,2,    2.666,2,    0.381,2,    6.260,2,    1.341,    0.125,2,   1.8312,   0.1910,2,     0.06,     0.00,2,   2.1020
  58JH19990615,   75N,   551,  1,     11,2,19990707, 68.5000,   0.9990, 2787,    600.8,   1.1320,  34.9030,2,  34.8920,3,    302.1,2,     6.77,2,    14.25,2,     0.02,2,     0.95,2,    2.726,3,    1.314,3,    0.169,3,    3.697,3,    1.389,    0.053,2,   1.8411,   0.1870,2,     2.52,     0.00,2,   1.1017
  58JH19990615,   75N,   551,  1,     10,2,19990707, 68.5000,   0.9990, 2787,    701.2,   0.3020,  34.8876,2,  34.8840,3,    300.3,2,     7.48,2,    14.46,2,     0.03,2,     0.97,2,    4.288,2,    2.029,2,    0.274,2,    5.038,2,    1.175,    0.049,2,-999.0000,-999.0000,5,  -999.00,  -999.00,5,   0.2708
  58JH19990615,   75N,   551,  1,      9,2,19990707, 68.5000,   0.9990, 2787,    800.8,  -0.0350,  34.8877,2,  34.8880,3,    299.5,2,     7.85,2,    14.51,2,     0.02,2,     0.97,2,    3.733,2,    1.756,2,    0.223,2,    4.900,2,    1.300,    0.033,2,   2.5469,   0.1930,4,     4.44,     0.00,4,  -0.0691
  58JH19990615,   75N,   551,  1,      8,2,19990707, 68.5000,   0.9990, 2787,    901.0,  -0.2720,  34.8931,2,  34.8920,3,    293.4,3,     8.28,2,    14.52,2,     0.02,2,     0.98,2,    3.264,2,    1.545,2,    0.193,2,    4.255,2,    1.066,    0.027,2,   1.8636,   0.1910,2,     6.26,     0.00,2,  -0.3094
  58JH19990615,   75N,   551,  1,      7,2,19990707, 68.5000,   0.9990, 2787,   1000.1,  -0.4120,  34.8968,2,  34.8950,3,    304.3,3,     8.69,2,    14.54,2,     0.02,2,     0.98,2,    2.829,2,    1.346,2,    0.158,2,    3.907,2,    0.872,    0.025,2,   1.8524,   0.1940,2,     6.70,     0.00,2,  -0.4533
  58JH19990615,   75N,   551,  1,      6,2,19990707, 68.5000,   0.9990, 2787,   1250.3,  -0.6270,  34.9043,2,  34.9030,3,    305.6,3,     9.87,2,    14.78,2,     0.02,2,     1.00,2,    1.799,2,    0.840,2,    0.062,2,    3.077,2,    0.747,    0.048,2,   1.8340,   0.1850,2,     7.35,     0.00,2,  -0.6792
  58JH19990615,   75N,   551,  1,      5,2,19990707, 68.5000,   0.9990, 2787,   1501.2,  -0.7390,  34.9093,2,  34.9070,3,    293.8,3,    10.93,2,    14.99,2,     0.03,2,     1.03,2,    1.127,2,    0.509,2,    0.015,2,    2.642,2, -999.000, -999.000,5,   1.8647,   0.1910,2,  -999.00,     0.00,2,  -0.8037
  58JH19990615,   75N,   551,  1,      4,2,19990707, 68.5000,   0.9990, 2787,   1750.7,  -0.8190,  34.9107,2,  34.9090,3,    297.3,2,    11.58,2,    15.12,2,     0.02,2,     1.03,2,    0.789,6,    0.372,6,    0.003,6,    2.144,6,    0.500,    0.080,2,   1.8695,   0.1900,2,     6.64,     0.00,2,  -0.8972
  58JH19990615,   75N,   551,  1,      3,2,19990707, 68.5000,   0.9990, 2787,   2000.6,  -0.8660,  34.9111,2,  34.9090,3,    296.0,3,    12.12,2,    15.23,2,     0.02,2,     1.03,2, -999.000,9, -999.000,9, -999.000,9, -999.000,9,    0.394,    0.048,2,   1.8368,   0.1780,2,     6.06,     0.00,2,  -0.9590
  58JH19990615,   75N,   551,  1,      2,2,19990707, 68.5000,   0.9990, 2787,   2500.3,  -0.8810,  34.9114,2,  34.9090,3,    299.5,2,    13.04,2,    15.41,2,     0.02,2,     1.04,2,    0.433,2,    0.222,2,   -0.007,2,    1.767,2, -999.000, -999.000,5,   1.8668,   0.1870,2,  -999.00,     0.00,2,  -1.0077
  58JH19990615,   75N,   551,  1,      1,2,19990707, 68.5000,   0.9990, 2787,   2777.3,  -0.8670,  34.9116,2,  34.9100,3,    299.5,2,    13.50,2,    15.48,2,     0.02,2,     1.04,2, -999.000,9, -999.000,9, -999.000,9, -999.000,9,    0.333,    0.070,2,   1.8670,   0.1970,2,     5.20,     0.00,2,  -1.0146