BOTTLE,20090622PRINUNIVRMK
EXPOCODE,SECT_ID,STNNBR,CASTNO,BTLNBR,BTLNBR_FLAG_W,DATE,LATITUDE,LONGITUDE,DEPTH,CTDPRS,CTDTMP,CTDSAL,CTDSAL_FLAG_W,SALNTY,SALNTY_FLAG_W,OXYGEN,OXYGEN_FLAG_W,SILCAT,SILCAT_FLAG_W,NITRAT,NITRAT_FLAG_W,NITRIT,NITRIT_FLAG_W,PHSPHT,PHSPHT_FLAG_W,CFC-11,CFC-11_FLAG_W,CFC-12,CFC-12_FLAG_W,CFC113,CFC113_FLAG_W,CCL4,CCL4_FLAG_W,TRITUM,TRITER,TRITUM_FLAG_W,HELIUM,HELIER,HELIUM_FLAG_W,DELHE3,DELHER,DELHE3_FLAG_W,THETA
,,,,,,,,,METERS,DBARS,ITS-90,PSS-78,,PSS-78,,UMOL/KG,,UMOL/KG,,UMOL/KG,,UMOL/KG,,UMOL/KG,,PMOL/KG,,PMOL/KG,,PMOL/KG,,PMOL/KG,,TU,TU,,NMOL/KG,NMOL/KG,,PERCNT,PERCNT,,DEGC
  58JH19990615,   75N,   545,  1,     12,2,19990704, 73.7250,  13.2710, 2085,     10.4,   8.0346,  35.0228,2,  35.0228,3,    318.2,2,     0.10,2,     1.58,2,     0.07,2,     0.16,2,    4.361,2,    2.285,2,    0.350,2,    5.545,2, -999.000, -999.000,9,-999.0000,-999.0000,9,  -999.00,  -999.00,9,   8.0335
  58JH19990615,   75N,   545,  1,     11,2,19990704, 73.7250,  13.2710, 2085,     30.6,   7.5462,  35.0048,2,  35.0048,3,    305.1,2,     1.50,2,     4.26,2,     0.09,2,     0.34,2,    4.410,2,    2.286,2,    0.356,2,    5.371,2, -999.000, -999.000,9,-999.0000,-999.0000,9,  -999.00,  -999.00,9,   7.5433
  58JH19990615,   75N,   545,  1,     10,2,19990704, 73.7250,  13.2710, 2085,     50.4,   6.6831,  35.0974,2,  35.0974,3,    293.3,2,     3.60,2,     7.74,2,     0.12,2,     0.61,2,    4.454,2,    2.309,2,    0.353,2,    5.071,2, -999.000, -999.000,9,-999.0000,-999.0000,9,  -999.00,  -999.00,9,   6.6786
  58JH19990615,   75N,   545,  1,      9,2,19990704, 73.7250,  13.2710, 2085,     76.2,   6.4291,  35.1350,2,  35.1350,3,    285.0,2,     4.44,2,    10.45,2,     0.08,2,     0.75,2,    4.402,2,    2.281,2,    0.348,2,    4.604,2, -999.000, -999.000,9,-999.0000,-999.0000,9,  -999.00,  -999.00,9,   6.4223
  58JH19990615,   75N,   545,  1,      8,2,19990704, 73.7250,  13.2710, 2085,    100.5,   6.2646,  35.1319,2,  35.1318,3,    282.4,2,     4.31,2,     9.85,2,     0.07,2,     0.75,2,    4.456,2,    2.314,2,    0.342,2,    4.795,2, -999.000, -999.000,9,-999.0000,-999.0000,9,  -999.00,  -999.00,9,   6.2558
  58JH19990615,   75N,   545,  1,      7,2,19990704, 73.7250,  13.2710, 2085,    150.7,   6.0272,  35.1316,2,  35.1305,3,    285.9,2,     4.96,2,    12.15,2,     0.05,2,     0.79,2,    4.448,2,    2.324,2,    0.346,2,    4.728,2, -999.000, -999.000,9,-999.0000,-999.0000,9,  -999.00,  -999.00,9,   6.0142
  58JH19990615,   75N,   545,  1,      6,2,19990704, 73.7250,  13.2710, 2085,    199.5,   5.7124,  35.1226,2,  35.1227,3,    288.5,2,     5.13,2,    12.23,2,     0.02,2,     0.80,2,    4.517,6,    2.346,6,    0.347,6,    4.821,6, -999.000, -999.000,9,-999.0000,-999.0000,9,  -999.00,  -999.00,9,   5.6956
  58JH19990615,   75N,   545,  1,      5,2,19990704, 73.7250,  13.2710, 2085,    300.2,   4.8560,  35.0816,2,  35.0816,3,    293.8,2,     5.28,2,    12.34,2,     0.00,2,     0.81,2,    4.659,2,    2.422,2,    0.358,2,    5.186,2, -999.000, -999.000,9,-999.0000,-999.0000,9,  -999.00,  -999.00,9,   4.8326
  58JH19990615,   75N,   545,  1,      4,2,19990704, 73.7250,  13.2710, 2085,    501.6,   2.8287,  35.0200,2,  35.0177,3,    304.2,2,     5.83,2,    12.90,2,     0.02,2,     0.86,2,    4.978,2,    2.526,2,    0.379,2,    6.066,2, -999.000, -999.000,9,-999.0000,-999.0000,9,  -999.00,  -999.00,9,   2.7968
  58JH19990615,   75N,   545,  1,      3,2,19990704, 73.7250,  13.2710, 2085,   1001.2,  -0.5732,  34.9035,2,  34.9035,3,    298.2,2,     9.94,2,    14.84,2,     0.00,2,     1.00,2,    1.931,2,    0.878,2,    0.062,2,    3.281,2, -999.000, -999.000,9,-999.0000,-999.0000,9,  -999.00,  -999.00,9,  -0.6132
  58JH19990615,   75N,   545,  1,      2,2,19990704, 73.7250,  13.2710, 2085,   1500.8,  -0.8643,  34.9100,2,  34.9100,3,    296.8,2,    12.30,2,    15.27,2,     0.00,2,     1.03,2,    0.713,2,    0.341,2,    0.014,2,    2.175,2, -999.000, -999.000,9,-999.0000,-999.0000,9,  -999.00,  -999.00,9,  -0.9275
  58JH19990615,   75N,   545,  1,      1,2,19990704, 73.7250,  13.2710, 2085,   1654.0,  -0.9200,  34.9104,2,  34.9090,3,    297.3,2,    13.14,2,    15.45,2,     0.00,2,     1.03,2,    0.523,2,    0.264,2,    0.003,2,    1.963,2, -999.000, -999.000,9,-999.0000,-999.0000,9,  -999.00,  -999.00,9,  -0.9911
  58JH19990615,   75N,   546,  1,     12,2,19990705, 73.5000,  10.0010, 2213,      9.1,   6.7570,  35.1006,2,  35.1010,3,    316.0,2,     1.58,2,     4.63,2,     0.09,2,     0.33,2, -999.000,9, -999.000,9, -999.000,9, -999.000,9, -999.000, -999.000,9,-999.0000,-999.0000,9,  -999.00,  -999.00,9,   6.7562
  58JH19990615,   75N,   546,  1,     11,2,19990705, 73.5000,  10.0010, 2213,     30.1,   6.3010,  35.0821,2,  35.0920,3,    313.4,2,     3.26,2,     6.00,2,     0.08,2,     0.45,2, -999.000,9, -999.000,9, -999.000,9, -999.000,9, -999.000, -999.000,9,-999.0000,-999.0000,9,  -999.00,  -999.00,9,   6.2984
  58JH19990615,   75N,   546,  1,     10,2,19990705, 73.5000,  10.0010, 2213,     49.2,   5.6060,  35.0942,2,  35.0900,3,    306.4,2,     4.37,2,     7.91,2,     0.12,2,     0.62,2, -999.000,9, -999.000,9, -999.000,9, -999.000,9, -999.000, -999.000,9,-999.0000,-999.0000,9,  -999.00,  -999.00,9,   5.6020
  58JH19990615,   75N,   546,  1,      9,2,19990705, 73.5000,  10.0010, 2213,    100.7,   4.5990,  35.0867,2,  35.0800,3,    300.3,2,     5.09,2,    11.96,2,     0.16,2,     0.78,2, -999.000,9, -999.000,9, -999.000,9, -999.000,9, -999.000, -999.000,9,-999.0000,-999.0000,9,  -999.00,  -999.00,9,   4.5915
  58JH19990615,   75N,   546,  1,      8,2,19990705, 73.5000,  10.0010, 2213,    150.1,   4.1830,  35.0775,2,  35.0710,3,    302.9,2,     5.11,2,    12.29,2,     0.02,2,     0.80,2, -999.000,9, -999.000,9, -999.000,9, -999.000,9, -999.000, -999.000,9,-999.0000,-999.0000,9,  -999.00,  -999.00,9,   4.1723
  58JH19990615,   75N,   546,  1,      7,2,19990705, 73.5000,  10.0010, 2213,    200.6,   3.8820,  35.0646,2,  35.0590,3,    303.8,2,     5.20,2,    12.43,2,     0.01,2,     0.81,2, -999.000,9, -999.000,9, -999.000,9, -999.000,9, -999.000, -999.000,9,-999.0000,-999.0000,9,  -999.00,  -999.00,9,   3.8680
  58JH19990615,   75N,   546,  1,      6,2,19990705, 73.5000,  10.0010, 2213,    300.2,   3.3600,  35.0424,2,  35.0380,3,    306.8,2,     5.31,2,    12.56,2,     0.01,2,     0.83,2, -999.000,9, -999.000,9, -999.000,9, -999.000,9, -999.000, -999.000,9,-999.0000,-999.0000,9,  -999.00,  -999.00,9,   3.3401
  58JH19990615,   75N,   546,  1,      5,2,19990705, 73.5000,  10.0010, 2213,    500.8,   1.7260,  34.9645,2,  34.9440,3,    311.7,2,     5.90,2,    13.01,2,     0.00,2,     0.87,2, -999.000,9, -999.000,9, -999.000,9, -999.000,9, -999.000, -999.000,9,-999.0000,-999.0000,9,  -999.00,  -999.00,9,   1.6987
  58JH19990615,   75N,   546,  1,      4,2,19990705, 73.5000,  10.0010, 2213,   1001.3,  -0.6320,  34.8996,2,  34.8880,3,    306.4,2,     8.83,2,    14.42,2,     0.00,2,     0.97,2, -999.000,9, -999.000,9, -999.000,9, -999.000,9, -999.000, -999.000,9,-999.0000,-999.0000,9,  -999.00,  -999.00,9,  -0.6715
  58JH19990615,   75N,   546,  1,      3,2,19990705, 73.5000,  10.0010, 2213,   1501.0,  -0.8010,  34.9101,2,  34.9030,3,    298.2,2,    11.34,2,    15.02,2,     0.00,2,     1.02,2, -999.000,9, -999.000,9, -999.000,9, -999.000,9, -999.000, -999.000,9,-999.0000,-999.0000,9,  -999.00,  -999.00,9,  -0.8649
  58JH19990615,   75N,   546,  1,      2,2,19990705, 73.5000,  10.0010, 2213,   2000.2,  -0.8860,  34.9111,2,  34.9040,3,    298.2,2,    12.42,2,    15.26,2,     0.00,2,     1.03,2, -999.000,9, -999.000,9, -999.000,9, -999.000,9, -999.000, -999.000,9,-999.0000,-999.0000,9,  -999.00,  -999.00,9,  -0.9786
  58JH19990615,   75N,   546,  1,      1,2,19990705, 73.5000,  10.0010, 2213,   2202.7,  -0.8980,  34.9115,2,  34.9040,3,    298.2,2,    13.00,2,    15.39,2,     0.00,2,     1.04,2, -999.000,9, -999.000,9, -999.000,9, -999.000,9, -999.000, -999.000,9,-999.0000,-999.0000,9,  -999.00,  -999.00,9,  -1.0037
  58JH19990615,   75N,   547,  1,     12,2,19990705, 72.7500,   8.9940, 2392,    500.7,   0.8410,  34.9060,2,  34.9047,3,    299.9,2,     7.41,2,    14.87,2,     0.00,2,     0.96,2,    4.250,2,    2.034,2,    0.368,2,    5.191,2, -999.000, -999.000,9,-999.0000,-999.0000,9,  -999.00,  -999.00,9,   0.8174
  58JH19990615,   75N,   547,  1,     11,2,19990705, 72.7500,   8.9940, 2392,    601.2,   0.0981,  34.8936,2,  34.8926,3,    299.9,2,     7.99,2,    14.99,2,     0.00,2,     0.98,2,    3.614,2,    1.688,2,    0.343,3,    4.539,2, -999.000, -999.000,9,-999.0000,-999.0000,9,  -999.00,  -999.00,9,   0.0729
  58JH19990615,   75N,   547,  1,     10,2,19990705, 72.7500,   8.9940, 2392,    700.8,  -0.2213,  34.8954,2,  34.8942,3,    300.3,2,     8.41,2,    14.99,2,     0.00,2,     0.98,2,    3.138,2,    1.489,2,    0.244,2,    4.247,2, -999.000, -999.000,9,-999.0000,-999.0000,9,  -999.00,  -999.00,9,  -0.2494
  58JH19990615,   75N,   547,  1,      9,2,19990705, 72.7500,   8.9940, 2392,    801.0,  -0.4016,  34.8980,2,  34.8969,3,    299.5,2,     9.05,2,    15.04,2,     0.00,2,     0.99,2,    2.583,2,    1.222,2,    0.192,2,    3.847,2, -999.000, -999.000,9,-999.0000,-999.0000,9,  -999.00,  -999.00,9,  -0.4333
  58JH19990615,   75N,   547,  1,      8,2,19990705, 72.7500,   8.9940, 2392,    900.7,  -0.5173,  34.9011,2,  34.8999,3,    300.8,2,     9.51,2,    15.09,2,     0.00,2,     1.00,2,    2.203,2,    1.030,2,    0.146,2,    3.518,2, -999.000, -999.000,9,-999.0000,-999.0000,9,  -999.00,  -999.00,9,  -0.5529
  58JH19990615,   75N,   547,  1,      7,2,19990705, 72.7500,   8.9940, 2392,   1001.9,  -0.5958,  34.9037,2,  34.9025,3,    298.2,2,    10.00,2,    15.12,2,     0.00,2,     1.01,2,    1.838,2,    0.850,2,    0.102,2,    3.113,2, -999.000, -999.000,9,-999.0000,-999.0000,9,  -999.00,  -999.00,9,  -0.6357
  58JH19990615,   75N,   547,  1,      6,2,19990705, 72.7500,   8.9940, 2392,   1101.6,  -0.6652,  34.9056,2,  34.9045,3,    297.7,2,    10.33,2,    15.12,2,     0.00,2,     1.01,2,    1.622,2,    0.747,2,    0.044,2,    2.996,2, -999.000, -999.000,9,-999.0000,-999.0000,9,  -999.00,  -999.00,9,  -0.7094
  58JH19990615,   75N,   547,  1,      5,2,19990705, 72.7500,   8.9940, 2392,   1250.3,  -0.7339,  34.9080,2,  34.9071,3,    297.7,2,    10.89,2,    15.19,2,     0.00,2,     1.02,2,    1.284,2,    0.591,2,    0.027,2,    2.715,2, -999.000, -999.000,9,-999.0000,-999.0000,9,  -999.00,  -999.00,9,  -0.7851
  58JH19990615,   75N,   547,  1,      4,2,19990705, 72.7500,   8.9940, 2392,   1500.0,  -0.8144,  34.9101,2,  34.9089,3,    297.3,2,    11.57,2,    15.27,2,     0.00,2,     1.03,2,    0.914,2,    0.424,2,    0.019,2,    2.394,2, -999.000, -999.000,9,-999.0000,-999.0000,9,  -999.00,  -999.00,9,  -0.8781
  58JH19990615,   75N,   547,  1,      3,2,19990705, 72.7500,   8.9940, 2392,   1749.2,  -0.8552,  34.9109,2,  34.9097,3,    297.7,2,    12.12,2,    15.32,2,     0.00,2,     1.03,2,    0.743,6,    0.351,6,    0.013,6,    2.214,6, -999.000, -999.000,9,-999.0000,-999.0000,9,  -999.00,  -999.00,9,  -0.9328
  58JH19990615,   75N,   547,  1,      2,2,19990705, 72.7500,   8.9940, 2392,   2000.4,  -0.8777,  34.9109,2,  34.9097,3,    298.6,2,    12.38,2,    15.31,2,     0.00,2,     1.03,2,    0.616,2,    0.303,2,    0.008,2,    2.099,2, -999.000, -999.000,9,-999.0000,-999.0000,9,  -999.00,  -999.00,9,  -0.9704
  58JH19990615,   75N,   547,  1,      1,2,19990705, 72.7500,   8.9940, 2392,   2275.8,  -0.8990,  34.9110,2,  34.9090,3,    298.2,2,    13.38,2,    15.51,2,     0.00,2,     1.04,2,    0.395,2,    0.217,2,    0.005,2,    1.772,2, -999.000, -999.000,9,-999.0000,-999.0000,9,  -999.00,  -999.00,9,  -1.0096
  58JH19990615,   75N,   547,  2,     12,2,19990705, 72.7500,   8.9940, 2392,      5.3,   7.8490,-999.0000,9,  35.0970,3,    313.4,2,     0.21,2,     0.36,2,     0.03,2,     0.09,2, -999.000,9, -999.000,9, -999.000,9, -999.000,9, -999.000, -999.000,9,-999.0000,-999.0000,9,  -999.00,  -999.00,9,-999.0000
  58JH19990615,   75N,   547,  2,     11,2,19990705, 72.7500,   8.9940, 2392,      9.3,   7.8320,  35.1027,2,  35.0940,3,    313.4,2,     0.20,2,     0.33,2,     0.02,2,     0.09,2, -999.000,9, -999.000,9, -999.000,9, -999.000,9, -999.000, -999.000,9,-999.0000,-999.0000,9,  -999.00,  -999.00,9,   7.8311
  58JH19990615,   75N,   547,  2,     10,2,19990705, 72.7500,   8.9940, 2392,     20.2,   7.6710,  35.1022,2,  35.0870,3,    316.0,2,     0.40,2,     1.16,2,     0.04,2,     0.14,2, -999.000,9, -999.000,9, -999.000,9, -999.000,9, -999.000, -999.000,9,-999.0000,-999.0000,9,  -999.00,  -999.00,9,   7.6690
  58JH19990615,   75N,   547,  2,      9,2,19990705, 72.7500,   8.9940, 2392,     30.0,   6.8500,  35.0917,2,  35.0900,3,    311.6,2,     2.21,2,     3.91,2,     0.07,2,     0.34,2, -999.000,9, -999.000,9, -999.000,9, -999.000,9, -999.000, -999.000,9,-999.0000,-999.0000,9,  -999.00,  -999.00,9,   6.8473
  58JH19990615,   75N,   547,  2,      8,2,19990705, 72.7500,   8.9940, 2392,     39.2,   6.4440,  35.1034,2,  35.1000,3,    303.3,2,     3.25,2,     5.12,2,     0.08,2,     0.48,2, -999.000,9, -999.000,9, -999.000,9, -999.000,9, -999.000, -999.000,9,-999.0000,-999.0000,9,  -999.00,  -999.00,9,   6.4405
  58JH19990615,   75N,   547,  2,      7,2,19990705, 72.7500,   8.9940, 2392,     49.7,   5.9880,  35.1028,2,  35.1090,3,    288.1,2,     4.35,2,     9.08,2,     0.09,2,     0.70,2, -999.000,9, -999.000,9, -999.000,9, -999.000,9, -999.000, -999.000,9,-999.0000,-999.0000,9,  -999.00,  -999.00,9,   5.9838
  58JH19990615,   75N,   547,  2,      6,2,19990705, 72.7500,   8.9940, 2392,     74.6,   5.6060,  35.1210,2,  35.1160,3,    288.5,2,     5.08,2,    12.17,2,     0.07,2,     0.78,2, -999.000,9, -999.000,9, -999.000,9, -999.000,9, -999.000, -999.000,9,-999.0000,-999.0000,9,  -999.00,  -999.00,9,   5.5999
  58JH19990615,   75N,   547,  2,      5,2,19990705, 72.7500,   8.9940, 2392,    100.7,   5.1570,  35.0978,2,  35.0960,3,    293.3,2,     5.12,2,    12.33,2,     0.10,2,     0.79,2, -999.000,9, -999.000,9, -999.000,9, -999.000,9, -999.000, -999.000,9,-999.0000,-999.0000,9,  -999.00,  -999.00,9,   5.1490
  58JH19990615,   75N,   547,  2,      4,2,19990705, 72.7500,   8.9940, 2392,    148.3,   4.5220,  35.0747,2,  35.0650,3,    296.8,2,     5.23,2,    12.59,2,     0.05,2,     0.81,2, -999.000,9, -999.000,9, -999.000,9, -999.000,9, -999.000, -999.000,9,-999.0000,-999.0000,9,  -999.00,  -999.00,9,   4.5110
  58JH19990615,   75N,   547,  2,      3,2,19990705, 72.7500,   8.9940, 2392,    199.7,   4.0040,  35.0689,2,  35.0400,3,    298.6,2,     5.42,2,    12.99,2,     0.01,2,     0.83,2, -999.000,9, -999.000,9, -999.000,9, -999.000,9, -999.000, -999.000,9,-999.0000,-999.0000,9,  -999.00,  -999.00,9,   3.9899
  58JH19990615,   75N,   547,  2,      2,2,19990705, 72.7500,   8.9940, 2392,    300.0,   3.4340,  35.0248,2,  35.0290,3,    304.7,2,     5.41,2,    13.06,2,     0.01,2,     0.84,2, -999.000,9, -999.000,9, -999.000,9, -999.000,9, -999.000, -999.000,9,-999.0000,-999.0000,9,  -999.00,  -999.00,9,   3.4140
  58JH19990615,   75N,   547,  2,      1,2,19990705, 72.7500,   8.9940, 2392,    401.5,   2.0380,  34.9544,2,  34.9450,3,    302.9,2,     6.36,2,    14.24,2,     0.01,2,     0.92,2, -999.000,9, -999.000,9, -999.000,9, -999.000,9, -999.000, -999.000,9,-999.0000,-999.0000,9,  -999.00,  -999.00,9,   2.0154
  58JH19990615,   75N,   548,  1,     12,2,19990705, 72.0000,   7.4967, 2664,     12.0,   8.5390,  35.0922,2,  35.0720,3,    304.2,2,     0.28,2,     0.85,2,     0.04,2,     0.14,2, -999.000,9, -999.000,9, -999.000,9, -999.000,9, -999.000, -999.000,9,-999.0000,-999.0000,9,  -999.00,  -999.00,9,   8.5377
  58JH19990615,   75N,   548,  1,     11,2,19990705, 72.0000,   7.4967, 2664,     30.3,   7.0390,  35.0758,2,  35.0360,3,    318.2,2,     1.28,2,     2.89,2,     0.06,2,     0.28,2, -999.000,9, -999.000,9, -999.000,9, -999.000,9, -999.000, -999.000,9,-999.0000,-999.0000,9,  -999.00,  -999.00,9,   7.0362
  58JH19990615,   75N,   548,  1,     10,2,19990705, 72.0000,   7.4967, 2664,     50.4,   6.1940,  35.0274,2,  35.0290,3,    323.0,2,     1.85,2,     4.01,2,     0.07,2,     0.37,2, -999.000,9, -999.000,9, -999.000,9, -999.000,9, -999.000, -999.000,9,-999.0000,-999.0000,9,  -999.00,  -999.00,9,   6.1896
  58JH19990615,   75N,   548,  1,      9,2,19990705, 72.0000,   7.4967, 2664,    101.0,   5.0060,  35.1028,2,  35.0900,3,    292.9,2,     5.15,2,    11.87,2,     0.17,2,     0.81,2, -999.000,9, -999.000,9, -999.000,9, -999.000,9, -999.000, -999.000,9,-999.0000,-999.0000,9,  -999.00,  -999.00,9,   4.9981
  58JH19990615,   75N,   548,  1,      8,2,19990705, 72.0000,   7.4967, 2664,    149.8,   4.7720,  35.0955,2,  35.0930,3,    298.1,2,     5.09,2,    12.10,2,     0.09,2,     0.79,2, -999.000,9, -999.000,9, -999.000,9, -999.000,9, -999.000, -999.000,9,-999.0000,-999.0000,9,  -999.00,  -999.00,9,   4.7606
  58JH19990615,   75N,   548,  1,      7,2,19990705, 72.0000,   7.4967, 2664,    201.5,   4.5570,  35.0832,2,  35.0800,3,    300.3,2,     5.09,2,    12.20,2,     0.02,2,     0.80,2, -999.000,9, -999.000,9, -999.000,9, -999.000,9, -999.000, -999.000,9,-999.0000,-999.0000,9,  -999.00,  -999.00,9,   4.5419
  58JH19990615,   75N,   548,  1,      6,2,19990705, 72.0000,   7.4967, 2664,    249.4,   4.3640,  35.0723,2,  35.0720,3,    302.9,2,     5.09,2,    12.19,2,     0.01,2,     0.79,2, -999.000,9, -999.000,9, -999.000,9, -999.000,9, -999.000, -999.000,9,-999.0000,-999.0000,9,  -999.00,  -999.00,9,   4.3456
  58JH19990615,   75N,   548,  1,      5,2,19990705, 72.0000,   7.4967, 2664,    499.1,   3.0590,  35.0080,2,  34.9990,3,    307.3,2,     5.60,2,    12.95,2,     0.00,2,     0.86,2, -999.000,9, -999.000,9, -999.000,9, -999.000,9, -999.000, -999.000,9,-999.0000,-999.0000,9,  -999.00,  -999.00,9,   3.0264
  58JH19990615,   75N,   548,  1,      4,2,19990705, 72.0000,   7.4967, 2664,    999.6,  -0.3920,  34.8970,2,  34.8920,3,    300.3,2,     8.91,2,    14.59,2,     0.00,2,     0.99,2, -999.000,9, -999.000,9, -999.000,9, -999.000,9, -999.000, -999.000,9,-999.0000,-999.0000,9,  -999.00,  -999.00,9,  -0.4334
  58JH19990615,   75N,   548,  1,      3,2,19990705, 72.0000,   7.4967, 2664,   1501.5,  -0.7300,  34.9086,2,  34.9020,3,    298.6,2,    10.85,2,    14.96,2,     0.00,2,     1.01,2, -999.000,9, -999.000,9, -999.000,9, -999.000,9, -999.000, -999.000,9,-999.0000,-999.0000,9,  -999.00,  -999.00,9,  -0.7948
  58JH19990615,   75N,   548,  1,      2,2,19990705, 72.0000,   7.4967, 2664,   1998.8,  -0.8420,  34.9111,2,  34.9040,3,    298.6,2,    12.01,2,    15.14,2,     0.00,2,     1.03,2, -999.000,9, -999.000,9, -999.000,9, -999.000,9, -999.000, -999.000,9,-999.0000,-999.0000,9,  -999.00,  -999.00,9,  -0.9352
  58JH19990615,   75N,   548,  1,      1,2,19990705, 72.0000,   7.4967, 2664,   2653.9,  -0.8740,  34.9114,2,  34.9050,3,    298.2,2,    13.49,2,    15.52,2,     0.00,2,     1.04,2, -999.000,9, -999.000,9, -999.000,9, -999.000,9, -999.000, -999.000,9,-999.0000,-999.0000,9,  -999.00,  -999.00,9,  -1.0121