BOTTLE,20090622PRINUNIVRMK
EXPOCODE,SECT_ID,STNNBR,CASTNO,BTLNBR,BTLNBR_FLAG_W,DATE,LATITUDE,LONGITUDE,DEPTH,CTDPRS,CTDTMP,CTDSAL,CTDSAL_FLAG_W,SALNTY,SALNTY_FLAG_W,OXYGEN,OXYGEN_FLAG_W,SILCAT,SILCAT_FLAG_W,NITRAT,NITRAT_FLAG_W,NITRIT,NITRIT_FLAG_W,PHSPHT,PHSPHT_FLAG_W,CFC-11,CFC-11_FLAG_W,CFC-12,CFC-12_FLAG_W,CFC113,CFC113_FLAG_W,CCL4,CCL4_FLAG_W,TRITUM,TRITER,TRITUM_FLAG_W,HELIUM,HELIER,HELIUM_FLAG_W,DELHE3,DELHER,DELHE3_FLAG_W,THETA
,,,,,,,,,METERS,DBARS,ITS-90,PSS-78,,PSS-78,,UMOL/KG,,UMOL/KG,,UMOL/KG,,UMOL/KG,,UMOL/KG,,PMOL/KG,,PMOL/KG,,PMOL/KG,,PMOL/KG,,TU,TU,,NMOL/KG,NMOL/KG,,PERCNT,PERCNT,,DEGC
  58JH19990615,   75N,   509,  1,     12,2,19990628, 74.5000,  15.5000, 1314,     10.7,   7.0020,  35.0985,2,  35.0740,3,    309.9,2,     2.69,2,     5.02,2,     0.12,2,     0.39,2, -999.000,9, -999.000,9, -999.000,9, -999.000,9, -999.000, -999.000,9,-999.0000,-999.0000,9,  -999.00,  -999.00,9,   7.0010
  58JH19990615,   75N,   509,  1,     11,2,19990628, 74.5000,  15.5000, 1314,     31.2,   6.4980,  35.1009,2,  35.0780,3,    302.9,2,     3.43,2,     6.14,2,     0.13,2,     0.52,2, -999.000,9, -999.000,9, -999.000,9, -999.000,9, -999.000, -999.000,9,-999.0000,-999.0000,9,  -999.00,  -999.00,9,   6.4952
  58JH19990615,   75N,   509,  1,     10,2,19990628, 74.5000,  15.5000, 1314,     51.4,   6.2030,  35.1144,2,  35.0880,3,    293.8,2,     4.14,2,     8.88,2,     0.12,2,     0.66,2, -999.000,9, -999.000,9, -999.000,9, -999.000,9, -999.000, -999.000,9,-999.0000,-999.0000,9,  -999.00,  -999.00,9,   6.1985
  58JH19990615,   75N,   509,  1,      9,2,19990628, 74.5000,  15.5000, 1314,     71.8,   6.0070,  35.1219,2,  35.0950,3,    289.4,2,     4.61,2,    10.43,2,     0.11,2,     0.75,2, -999.000,9, -999.000,9, -999.000,9, -999.000,9, -999.000, -999.000,9,-999.0000,-999.0000,9,  -999.00,  -999.00,9,   6.0009
  58JH19990615,   75N,   509,  1,      8,2,19990628, 74.5000,  15.5000, 1314,     99.8,   5.7780,  35.1195,2,  35.0920,3,    294.2,2,     4.59,2,     9.83,2,     0.12,2,     0.73,2, -999.000,9, -999.000,9, -999.000,9, -999.000,9, -999.000, -999.000,9,-999.0000,-999.0000,9,  -999.00,  -999.00,9,   5.7696
  58JH19990615,   75N,   509,  1,      7,2,19990628, 74.5000,  15.5000, 1314,    151.1,   5.4800,  35.1113,2,  35.0840,3,    291.6,2,     5.10,2,    12.08,2,     0.05,2,     0.80,2, -999.000,9, -999.000,9, -999.000,9, -999.000,9, -999.000, -999.000,9,-999.0000,-999.0000,9,  -999.00,  -999.00,9,   5.4676
  58JH19990615,   75N,   509,  1,      6,2,19990628, 74.5000,  15.5000, 1314,    201.5,   4.9810,  35.0905,2,  35.0640,3,    294.6,2,     5.23,2,    12.26,2,     0.05,2,     0.81,2, -999.000,9, -999.000,9, -999.000,9, -999.000,9, -999.000, -999.000,9,-999.0000,-999.0000,9,  -999.00,  -999.00,9,   4.9652
  58JH19990615,   75N,   509,  1,      5,2,19990628, 74.5000,  15.5000, 1314,    401.0,   3.3410,  35.0459,2,  35.0150,3,    307.3,2,     5.40,2,    12.64,2,     0.02,2,     0.86,2, -999.000,9, -999.000,9, -999.000,9, -999.000,9, -999.000, -999.000,9,-999.0000,-999.0000,9,  -999.00,  -999.00,9,   3.3142
  58JH19990615,   75N,   509,  1,      4,2,19990628, 74.5000,  15.5000, 1314,    500.9,   2.6890,  35.0132,2,  34.9810,3,    307.3,2,     5.72,2,    12.86,2,     0.02,2,     0.86,2, -999.000,9, -999.000,9, -999.000,9, -999.000,9, -999.000, -999.000,9,-999.0000,-999.0000,9,  -999.00,  -999.00,9,   2.6578
  58JH19990615,   75N,   509,  1,      3,2,19990628, 74.5000,  15.5000, 1314,    799.2,  -0.3060,  34.9034,2,  34.8740,3,    299.5,2,     8.99,2,    14.87,2,     0.01,2,     1.00,2, -999.000,9, -999.000,9, -999.000,9, -999.000,9, -999.000, -999.000,9,-999.0000,-999.0000,9,  -999.00,  -999.00,9,  -0.3382
  58JH19990615,   75N,   509,  1,      2,2,19990628, 74.5000,  15.5000, 1314,   1000.1,  -0.7760,  34.9107,2,  34.8820,3,    297.3,2,    11.45,2,    15.40,2,     0.01,2,     1.04,2, -999.000,9, -999.000,9, -999.000,9, -999.000,9, -999.000, -999.000,9,-999.0000,-999.0000,9,  -999.00,  -999.00,9,  -0.8143
  58JH19990615,   75N,   509,  1,      1,2,19990628, 74.5000,  15.5000, 1314,   1304.2,  -0.9420,  34.9118,2,  34.8830,3,    297.3,2,    13.16,2,    15.60,2,     0.01,2,     1.05,2, -999.000,9, -999.000,9, -999.000,9, -999.000,9, -999.000, -999.000,9,-999.0000,-999.0000,9,  -999.00,  -999.00,9,  -0.9937
  58JH19990615,   75N,   510,  1,     12,2,19990628, 74.4980,  16.0010,  902,      8.7,   7.1963,  35.0865,2,  35.0845,3,    310.8,2,     2.45,2,     4.04,2,     0.12,2,     0.34,2,    4.425,2,    2.291,2,    0.480,2,    5.228,2, -999.000, -999.000,9,-999.0000,-999.0000,9,  -999.00,  -999.00,9,   7.1955
  58JH19990615,   75N,   510,  1,     11,2,19990628, 74.4980,  16.0010,  902,     17.7,   7.1694,  35.0837,2,  35.0816,3,    309.4,2,     2.48,2,     4.07,2,     0.12,2,     0.37,2,    4.364,2,    2.274,2,    0.321,2,    5.455,2, -999.000, -999.000,9,-999.0000,-999.0000,9,  -999.00,  -999.00,9,   7.1677
  58JH19990615,   75N,   510,  1,     10,2,19990628, 74.4980,  16.0010,  902,     29.4,   6.6724,  35.1033,2,  35.1012,3,    292.4,2,     3.89,2,     8.33,2,     0.12,2,     0.63,2,    4.316,6,    2.304,6,    0.303,6,    4.487,6, -999.000, -999.000,9,-999.0000,-999.0000,9,  -999.00,  -999.00,9,   6.6698
  58JH19990615,   75N,   510,  1,      9,2,19990628, 74.4980,  16.0010,  902,     49.1,   6.5243,  35.1209,2,  35.1189,3,    289.0,2,     4.46,2,     9.96,2,     0.09,2,     0.71,2,    4.345,2,    2.356,2,    0.353,2,    4.246,2, -999.000, -999.000,9,-999.0000,-999.0000,9,  -999.00,  -999.00,9,   6.5199
  58JH19990615,   75N,   510,  1,      8,2,19990628, 74.4980,  16.0010,  902,     73.6,   6.3843,  35.1369,2,  35.1348,3,    284.6,2,     4.84,2,    11.90,2,     0.04,2,     0.78,2,    4.310,2,    2.321,2,    0.324,2,    4.060,2, -999.000, -999.000,9,-999.0000,-999.0000,9,  -999.00,  -999.00,9,   6.3778
  58JH19990615,   75N,   510,  1,      7,2,19990628, 74.4980,  16.0010,  902,     98.6,   6.1885,  35.1341,2,  35.1320,3,    286.8,2,     4.93,2,    12.06,2,     0.02,2,     0.79,2,    4.344,2,    2.282,2,    0.330,2,    4.063,2, -999.000, -999.000,9,-999.0000,-999.0000,9,  -999.00,  -999.00,9,   6.1799
  58JH19990615,   75N,   510,  1,      6,2,19990628, 74.4980,  16.0010,  902,    150.2,   5.9738,  35.1309,2,  35.1283,3,    302.5,2,     5.13,2,    12.21,2,     0.02,2,     0.80,2,    4.397,2,    2.352,2,    0.280,2,    3.977,2, -999.000, -999.000,9,-999.0000,-999.0000,9,  -999.00,  -999.00,9,   5.9609
  58JH19990615,   75N,   510,  1,      5,2,19990628, 74.4980,  16.0010,  902,    199.9,   5.6380,  35.1181,2,  35.1160,3,    307.3,2,     5.14,2,    12.17,2,     0.03,2,     0.80,2,    4.448,2,    2.399,2,    0.345,2,    4.262,2, -999.000, -999.000,9,-999.0000,-999.0000,9,  -999.00,  -999.00,9,   5.6213
  58JH19990615,   75N,   510,  1,      4,2,19990628, 74.4980,  16.0010,  902,    299.5,   4.9640,  35.0808,2,  35.0000,3,    293.8,2,     5.30,2,    12.48,2,     0.01,2,     0.82,2, -999.000,9, -999.000,9, -999.000,9, -999.000,9, -999.000, -999.000,9,-999.0000,-999.0000,9,  -999.00,  -999.00,9,   4.9404
  58JH19990615,   75N,   510,  1,      3,2,19990628, 74.4980,  16.0010,  902,    500.9,   3.1930,  35.0179,2,  34.9910,3,    303.4,2,     5.77,2,    13.16,2,     0.02,2,     0.87,2, -999.000,9, -999.000,9, -999.000,9, -999.000,9, -999.000, -999.000,9,-999.0000,-999.0000,9,  -999.00,  -999.00,9,   3.1597
  58JH19990615,   75N,   510,  1,      2,2,19990628, 74.4980,  16.0010,  902,    801.3,   0.4495,  34.9166,2,  34.9143,3,    301.6,2,     8.40,2,    14.76,2,     0.02,2,     1.00,2,    4.170,6,    2.136,6,    0.280,6,    4.580,6, -999.000, -999.000,9,-999.0000,-999.0000,9,  -999.00,  -999.00,9,   0.4122
  58JH19990615,   75N,   510,  1,      1,2,19990628, 74.4980,  16.0010,  902,    892.3,  -0.0970,  34.9117,2,  34.9110,3,    296.4,2,     9.49,2,    14.91,2,     0.02,2,  -999.00,9,    2.627,2,    1.287,2,    0.130,2,    3.360,3, -999.000, -999.000,9,-999.0000,-999.0000,9,  -999.00,  -999.00,9,  -0.1353
  58JH19990615,   75N,   511,  1,     11,2,19990628, 74.5010,  16.5040,  256,      6.5,   7.0563,  35.0889,2,  35.0869,3,    306.0,2,     2.56,2,     4.99,2,     0.12,2,     0.40,2,    4.412,2,    2.337,2,    0.359,2,    5.644,2, -999.000, -999.000,9,-999.0000,-999.0000,9,  -999.00,  -999.00,9,   7.0557
  58JH19990615,   75N,   511,  1,     10,2,19990628, 74.5010,  16.5040,  256,      9.8,   7.0588,  35.0887,2,  35.0866,3,    307.3,2,     2.59,2,     4.99,2,     0.12,2,     0.40,2,    4.408,2,    2.342,2,    0.348,2,    5.629,2, -999.000, -999.000,9,-999.0000,-999.0000,9,  -999.00,  -999.00,9,   7.0578
  58JH19990615,   75N,   511,  1,      9,2,19990628, 74.5010,  16.5040,  256,     20.3,   7.0360,  35.0899,2,  35.0640,3,    307.3,2,     2.62,2,     5.07,2,     0.12,2,     0.40,2, -999.000,9, -999.000,9, -999.000,9, -999.000,9, -999.000, -999.000,9,-999.0000,-999.0000,9,  -999.00,  -999.00,9,   7.0341
  58JH19990615,   75N,   511,  1,      8,2,19990628, 74.5010,  16.5040,  256,     29.7,   7.0050,  35.0970,2,  35.0650,3,    307.3,2,     2.72,2,     5.15,2,     0.12,2,     0.41,2, -999.000,9, -999.000,9, -999.000,9, -999.000,9, -999.000, -999.000,9,-999.0000,-999.0000,9,  -999.00,  -999.00,9,   7.0022
  58JH19990615,   75N,   511,  1,      7,2,19990628, 74.5010,  16.5040,  256,     50.1,   6.4441,  35.1208,2,  35.1187,3,    294.2,2,     3.78,2,     8.03,2,     0.12,2,     0.63,2,    4.357,2,    2.313,2,    0.330,2,    5.178,2, -999.000, -999.000,9,-999.0000,-999.0000,9,  -999.00,  -999.00,9,   6.4397
  58JH19990615,   75N,   511,  1,      6,2,19990628, 74.5010,  16.5040,  256,     73.8,   6.1791,  35.1209,2,  35.1188,3,    287.6,2,     4.28,2,     9.50,2,     0.11,2,     0.72,2,    4.336,2,    2.286,2,    0.333,2,    4.870,2, -999.000, -999.000,9,-999.0000,-999.0000,9,  -999.00,  -999.00,9,   6.1727
  58JH19990615,   75N,   511,  1,      5,2,19990628, 74.5010,  16.5040,  256,    101.6,   5.9690,  35.1224,2,  35.0960,3,    287.7,2,     4.69,2,    11.11,2,     0.10,2,     0.77,2, -999.000,9, -999.000,9, -999.000,9, -999.000,9, -999.000, -999.000,9,-999.0000,-999.0000,9,  -999.00,  -999.00,9,   5.9603
  58JH19990615,   75N,   511,  1,      4,2,19990628, 74.5010,  16.5040,  256,    123.6,   5.7439,  35.1209,2,  35.1183,3,    288.1,2,     5.01,2,    11.88,2,     0.07,2,     0.80,2,    4.402,2,    2.308,2,    0.343,2,    4.947,2, -999.000, -999.000,9,-999.0000,-999.0000,9,  -999.00,  -999.00,9,   5.7336
  58JH19990615,   75N,   511,  1,      3,2,19990628, 74.5010,  16.5040,  256,    150.0,   5.5570,  35.1150,2,  35.0870,3,    290.7,2,     5.03,2,    11.85,2,     0.07,2,     0.79,2, -999.000,9, -999.000,9, -999.000,9, -999.000,9, -999.000, -999.000,9,-999.0000,-999.0000,9,  -999.00,  -999.00,9,   5.5446
  58JH19990615,   75N,   511,  1,      2,2,19990628, 74.5010,  16.5040,  256,    199.6,   5.1271,  35.0955,2,  35.0938,3,    293.8,2,     5.11,2,    11.90,2,     0.08,2,     0.80,2,    4.507,2,    2.334,2,    0.376,2,    5.265,2, -999.000, -999.000,9,-999.0000,-999.0000,9,  -999.00,  -999.00,9,   5.1112
  58JH19990615,   75N,   511,  1,      1,2,19990628, 74.5010,  16.5040,  256,    244.8,   4.5496,  35.0738,2,  35.0712,3,    297.7,2,     5.12,2,    11.66,2,     0.08,2,     0.84,2,    4.675,2,    2.444,2,    0.378,2,    5.562,2, -999.000, -999.000,9,-999.0000,-999.0000,9,  -999.00,  -999.00,9,   4.5312
  58JH19990615,   75N,   512,  1,     10,2,19990628, 74.4965,  16.6673,  312,      7.7,   6.9180,-999.0000,9,  35.0660,3,    309.0,2,     2.68,2,     4.89,2,     0.12,2,     0.40,2, -999.000,9, -999.000,9, -999.000,9, -999.000,9, -999.000, -999.000,9,-999.0000,-999.0000,9,  -999.00,  -999.00,9,-999.0000
  58JH19990615,   75N,   512,  1,      9,2,19990628, 74.4965,  16.6673,  312,     11.6,   6.9100,  35.0904,2,  35.0650,3,    309.5,2,     2.72,2,     5.00,2,     0.11,2,     0.40,2, -999.000,9, -999.000,9, -999.000,9, -999.000,9, -999.000, -999.000,9,-999.0000,-999.0000,9,  -999.00,  -999.00,9,   6.9089
  58JH19990615,   75N,   512,  1,      8,2,19990628, 74.4965,  16.6673,  312,     20.1,   6.8290,  35.0922,2,  35.0650,3,    309.9,2,     2.72,2,     5.17,2,     0.12,2,     0.41,2, -999.000,9, -999.000,9, -999.000,9, -999.000,9, -999.000, -999.000,9,-999.0000,-999.0000,9,  -999.00,  -999.00,9,   6.8272
  58JH19990615,   75N,   512,  1,      7,2,19990628, 74.4965,  16.6673,  312,     31.0,   6.5460,  35.0965,2,  35.0700,3,    310.3,2,     3.00,2,     5.62,2,     0.11,2,     0.45,2, -999.000,9, -999.000,9, -999.000,9, -999.000,9, -999.000, -999.000,9,-999.0000,-999.0000,9,  -999.00,  -999.00,9,   6.5432
  58JH19990615,   75N,   512,  1,      6,2,19990628, 74.4965,  16.6673,  312,     51.2,   6.2610,  35.0958,2,  35.0690,3,    303.8,2,     3.44,2,     6.63,2,     0.12,2,     0.55,2, -999.000,9, -999.000,9, -999.000,9, -999.000,9, -999.000, -999.000,9,-999.0000,-999.0000,9,  -999.00,  -999.00,9,   6.2565
  58JH19990615,   75N,   512,  1,      5,2,19990628, 74.4965,  16.6673,  312,     74.9,   5.8480,  35.1159,2,  35.0890,3,    290.7,2,     4.47,2,     9.77,2,     0.12,2,     0.73,2, -999.000,9, -999.000,9, -999.000,9, -999.000,9, -999.000, -999.000,9,-999.0000,-999.0000,9,  -999.00,  -999.00,9,   5.8417
  58JH19990615,   75N,   512,  1,      4,2,19990628, 74.4965,  16.6673,  312,    101.4,   5.5910,  35.1133,2,  35.0860,3,    291.6,2,     4.91,2,    11.18,2,     0.11,2,     0.78,2, -999.000,9, -999.000,9, -999.000,9, -999.000,9, -999.000, -999.000,9,-999.0000,-999.0000,9,  -999.00,  -999.00,9,   5.5826
  58JH19990615,   75N,   512,  1,      3,2,19990628, 74.4965,  16.6673,  312,    124.8,   5.2720,  35.0960,2,  35.0740,3,    295.1,2,     4.92,2,    11.14,2,     0.11,2,     0.78,2, -999.000,9, -999.000,9, -999.000,9, -999.000,9, -999.000, -999.000,9,-999.0000,-999.0000,9,  -999.00,  -999.00,9,   5.2620
  58JH19990615,   75N,   512,  1,      2,2,19990628, 74.4965,  16.6673,  312,    151.5,   4.8410,  35.0853,2,  35.0600,3,    295.1,2,     5.31,2,    12.16,2,     0.06,2,     0.82,2, -999.000,9, -999.000,9, -999.000,9, -999.000,9, -999.000, -999.000,9,-999.0000,-999.0000,9,  -999.00,  -999.00,9,   4.8294
  58JH19990615,   75N,   512,  1,      1,2,19990628, 74.4965,  16.6673,  312,    180.2,   4.3710,  35.0708,2,  35.0460,3,    296.8,2,     5.44,2,    12.31,2,     0.06,2,     0.84,2, -999.000,9, -999.000,9, -999.000,9, -999.000,9, -999.000, -999.000,9,-999.0000,-999.0000,9,  -999.00,  -999.00,9,   4.3578
  58JH19990615,   75N,   513,  1,     10,2,19990628, 74.4993,  16.9967,  312,      4.5,   5.6480,-999.0000,9,  34.9890,3,    361.3,2,     2.96,2,     0.04,2,     0.01,2,     0.11,2, -999.000,9, -999.000,9, -999.000,9, -999.000,9, -999.000, -999.000,9,-999.0000,-999.0000,9,  -999.00,  -999.00,9,-999.0000
  58JH19990615,   75N,   513,  1,      9,2,19990628, 74.4993,  16.9967,  312,     11.2,   5.6420,  35.0150,2,  34.9850,3,    361.8,2,     2.91,2,     0.01,2,     0.01,2,     0.13,2, -999.000,9, -999.000,9, -999.000,9, -999.000,9, -999.000, -999.000,9,-999.0000,-999.0000,9,  -999.00,  -999.00,9,   5.6411
  58JH19990615,   75N,   513,  1,      8,2,19990628, 74.4993,  16.9967,  312,     18.7,   5.5780,  35.0141,2,  34.9780,3,    361.3,2,     2.97,2,     0.03,2,     0.01,2,     0.14,2, -999.000,9, -999.000,9, -999.000,9, -999.000,9, -999.000, -999.000,9,-999.0000,-999.0000,9,  -999.00,  -999.00,9,   5.5765
  58JH19990615,   75N,   513,  1,      7,2,19990628, 74.4993,  16.9967,  312,     29.3,   4.6820,  35.0039,2,  34.9600,3,    347.0,2,     2.93,2,     2.14,2,     0.07,2,     0.32,2, -999.000,9, -999.000,9, -999.000,9, -999.000,9, -999.000, -999.000,9,-999.0000,-999.0000,9,  -999.00,  -999.00,9,   4.6798
  58JH19990615,   75N,   513,  1,      6,2,19990628, 74.4993,  16.9967,  312,     48.8,   3.2330,  34.9779,2,  34.9370,3,    341.3,2,     3.10,2,     3.81,2,     0.08,2,     0.43,2, -999.000,9, -999.000,9, -999.000,9, -999.000,9, -999.000, -999.000,9,-999.0000,-999.0000,9,  -999.00,  -999.00,9,   3.2299
  58JH19990615,   75N,   513,  1,      5,2,19990628, 74.4993,  16.9967,  312,     74.5,   3.0190,  34.9711,2,  34.9410,3,    336.1,2,     3.38,2,     4.67,2,     0.09,2,     0.50,2, -999.000,9, -999.000,9, -999.000,9, -999.000,9, -999.000, -999.000,9,-999.0000,-999.0000,9,  -999.00,  -999.00,9,   3.0144
  58JH19990615,   75N,   513,  1,      4,2,19990628, 74.4993,  16.9967,  312,     98.6,   2.8410,  34.9607,2,  34.9250,3,    344.4,2,     3.05,2,     3.44,2,     0.09,2,     0.44,2, -999.000,9, -999.000,9, -999.000,9, -999.000,9, -999.000, -999.000,9,-999.0000,-999.0000,9,  -999.00,  -999.00,9,   2.8351
  58JH19990615,   75N,   513,  1,      3,2,19990628, 74.4993,  16.9967,  312,    125.4,   2.5970,  34.9524,2,  34.9270,3,    347.8,2,     3.04,2,     3.29,2,     0.09,2,     0.45,2, -999.000,9, -999.000,9, -999.000,9, -999.000,9, -999.000, -999.000,9,-999.0000,-999.0000,9,  -999.00,  -999.00,9,   2.5897
  58JH19990615,   75N,   513,  1,      2,2,19990628, 74.4993,  16.9967,  312,    149.6,   2.5540,  34.9574,2,  34.9310,3,    347.0,2,     3.24,2,     3.57,2,     0.11,2,     0.47,2, -999.000,9, -999.000,9, -999.000,9, -999.000,9, -999.000, -999.000,9,-999.0000,-999.0000,9,  -999.00,  -999.00,9,   2.5453
  58JH19990615,   75N,   513,  1,      1,2,19990628, 74.4993,  16.9967,  312,    172.3,   2.5550,  34.9573,2,  34.9320,3,    347.0,2,     3.26,2,     3.62,2,     0.11,2,     0.47,2, -999.000,9, -999.000,9, -999.000,9, -999.000,9, -999.000, -999.000,9,-999.0000,-999.0000,9,  -999.00,  -999.00,9,   2.5449
  58JH19990615,   75N,   514,  1,      8,2,19990629, 74.4983,  17.5850,  171,      6.1,   5.3220,-999.0000,9,  34.9540,3,    359.2,2,     2.63,2,     0.04,2,     0.01,2,     0.11,2, -999.000,9, -999.000,9, -999.000,9, -999.000,9, -999.000, -999.000,9,-999.0000,-999.0000,9,  -999.00,  -999.00,9,-999.0000
  58JH19990615,   75N,   514,  1,      7,2,19990629, 74.4983,  17.5850,  171,     10.0,   5.3200,  34.9787,2,  34.9530,3,    351.8,2,     2.62,2,     0.04,2,     0.01,2,     0.12,2, -999.000,9, -999.000,9, -999.000,9, -999.000,9, -999.000, -999.000,9,-999.0000,-999.0000,9,  -999.00,  -999.00,9,   5.3192
  58JH19990615,   75N,   514,  1,      6,2,19990629, 74.4983,  17.5850,  171,     19.8,   4.9440,  34.9772,2,  34.9210,3,    362.2,2,     2.56,2,     0.03,2,     0.01,2,     0.11,2, -999.000,9, -999.000,9, -999.000,9, -999.000,9, -999.000, -999.000,9,-999.0000,-999.0000,9,  -999.00,  -999.00,9,   4.9425
  58JH19990615,   75N,   514,  1,      5,2,19990629, 74.4983,  17.5850,  171,     30.3,   3.3040,  34.9056,2,  34.8810,3,    365.3,2,     2.25,2,     0.31,2,     0.03,2,     0.20,2, -999.000,9, -999.000,9, -999.000,9, -999.000,9, -999.000, -999.000,9,-999.0000,-999.0000,9,  -999.00,  -999.00,9,   3.3021
  58JH19990615,   75N,   514,  1,      4,2,19990629, 74.4983,  17.5850,  171,     49.9,   2.9930,  34.9141,2,  34.8840,3,    350.9,2,     2.44,2,     0.75,2,     0.04,2,     0.25,2, -999.000,9, -999.000,9, -999.000,9, -999.000,9, -999.000, -999.000,9,-999.0000,-999.0000,9,  -999.00,  -999.00,9,   2.9900
  58JH19990615,   75N,   514,  1,      3,2,19990629, 74.4983,  17.5850,  171,     75.1,   2.9290,  34.9152,2,  34.8900,3,    354.0,2,     2.59,2,     1.12,2,     0.05,2,     0.28,2, -999.000,9, -999.000,9, -999.000,9, -999.000,9, -999.000, -999.000,9,-999.0000,-999.0000,9,  -999.00,  -999.00,9,   2.9244
  58JH19990615,   75N,   514,  1,      2,2,19990629, 74.4983,  17.5850,  171,    100.3,   2.9570,  34.9384,2,  34.9140,3,    351.3,2,     3.19,2,     3.06,2,     0.08,2,     0.40,2, -999.000,9, -999.000,9, -999.000,9, -999.000,9, -999.000, -999.000,9,-999.0000,-999.0000,9,  -999.00,  -999.00,9,   2.9509
  58JH19990615,   75N,   514,  1,      1,2,19990629, 74.4983,  17.5850,  171,    122.1,   3.0580,  34.9795,2,  34.9540,3,    343.5,2,     3.74,2,     5.09,2,     0.12,2,     0.53,2, -999.000,9, -999.000,9, -999.000,9, -999.000,9, -999.000, -999.000,9,-999.0000,-999.0000,9,  -999.00,  -999.00,9,   3.0504