BOTTLE,20090622PRINUNIVRMK
# 3/27/06 Initialized README file  
# Data from J. Karstensen 3/29/06 
# Ship: J. Hjort 
# Cruise: 58JH9906 
# Dates: 6/15-7/9/1999 
# EXPOCODE: 58JH19990615 
# Region: 75N section and other Greenland-Norwegian Seas stations 
# Chief Scientist -J. Blindheim and F. Rey 
# 35 stations with 12 place Rosette 
# Hydro: Who - Blindheim; Status - final 
# 	Notes: See Blindheim and Rey, 2004. 
# 	Bottom Depths from topography 
# 	Systematic offset(s) in bottle salinitydue to long storage time prior to analysis) 
# 	All bottle values flagged 3 and calculations made with CTD salinity values 
# Nuts/O2: Who - Rey; Status - final 
# 	Notes: data from Blindheim 3/27/08 
# CFC: Who - J. Bullister; Status - final 
# 	Notes: CFC on SIO 98 scale 
# 	See Karstensen et al. 2005 
# 	Also includes CCl4, CFC-113 
# H-3/He-3: Who - P.Schlosser; Status - final 
# 	Notes:  
# References: 
# Blindheim, J. and F. Rey, Water-mass formation and distribution in the Nordic Seas during the 1990s, J. Mar. Sci., 61, 846-863, 2004. 
# Karstensen, J., P. Schlosser, D.W.R. Wallace, J.L. Bullister and J. Blindheim, Watermass transformation in the Greenland Sea during the 1990s, J.Geophys. Res., 110, C07022, doi:10.1029/2004JC002510, 2005. 
EXPOCODE,SECT_ID,STNNBR,CASTNO,BTLNBR,BTLNBR_FLAG_W,DATE,LATITUDE,LONGITUDE,DEPTH,CTDPRS,CTDTMP,CTDSAL,CTDSAL_FLAG_W,SALNTY,SALNTY_FLAG_W,OXYGEN,OXYGEN_FLAG_W,SILCAT,SILCAT_FLAG_W,NITRAT,NITRAT_FLAG_W,NITRIT,NITRIT_FLAG_W,PHSPHT,PHSPHT_FLAG_W,CFC-11,CFC-11_FLAG_W,CFC-12,CFC-12_FLAG_W,CFC113,CFC113_FLAG_W,CCL4,CCL4_FLAG_W,TRITUM,TRITER,TRITUM_FLAG_W,HELIUM,HELIER,HELIUM_FLAG_W,DELHE3,DELHER,DELHE3_FLAG_W,THETA
,,,,,,,,,METERS,DBARS,ITS-90,PSS-78,,PSS-78,,UMOL/KG,,UMOL/KG,,UMOL/KG,,UMOL/KG,,UMOL/KG,,PMOL/KG,,PMOL/KG,,PMOL/KG,,PMOL/KG,,TU,TU,,NMOL/KG,NMOL/KG,,PERCNT,PERCNT,,DEGC
  58JH19990615,   75N,   460,  2,      8,2,19990616, 62.2120,   5.2900,  234,      3.0,-999.0000,-999.0000,9,-999.0000,9,   -999.0,9,  -999.00,9,  -999.00,9,  -999.00,9,  -999.00,9,    4.217,2,    2.208,2,    0.347,2,    3.506,2, -999.000, -999.000,9,-999.0000,-999.0000,9,  -999.00,  -999.00,9,-999.0000
  58JH19990615,   75N,   460,  2,      7,2,19990616, 62.2120,   5.2900,  234,      6.8,-999.0000,  30.5996,2,-999.0000,9,   -999.0,9,  -999.00,9,  -999.00,9,  -999.00,9,  -999.00,9,    4.150,2,    2.179,2,    0.347,2,    3.447,2, -999.000, -999.000,9,-999.0000,-999.0000,9,  -999.00,  -999.00,9,-999.0000
  58JH19990615,   75N,   460,  2,      6,2,19990616, 62.2120,   5.2900,  234,     19.5,  10.3488,  30.9665,2,  30.9644,3,   -999.0,9,  -999.00,9,  -999.00,9,  -999.00,9,  -999.00,9,    4.436,2,    2.304,2,    0.376,2,    3.462,2, -999.000, -999.000,9,-999.0000,-999.0000,9,  -999.00,  -999.00,9,  10.3466
  58JH19990615,   75N,   460,  2,      5,2,19990616, 62.2120,   5.2900,  234,     48.7,   6.5824,  33.7574,2,  33.7553,3,   -999.0,9,  -999.00,9,  -999.00,9,  -999.00,9,  -999.00,9,    4.597,2,    2.463,2,    0.376,2,    3.165,2, -999.000, -999.000,9,-999.0000,-999.0000,9,  -999.00,  -999.00,9,   6.5781
  58JH19990615,   75N,   460,  2,      4,2,19990616, 62.2120,   5.2900,  234,     97.3,   7.2549,  34.7174,2,  34.7153,3,   -999.0,9,  -999.00,9,  -999.00,9,  -999.00,9,  -999.00,9,    4.437,2,    2.317,2,    0.375,2,    3.048,2, -999.000, -999.000,9,-999.0000,-999.0000,9,  -999.00,  -999.00,9,   7.2457
  58JH19990615,   75N,   460,  2,      3,2,19990616, 62.2120,   5.2900,  234,    121.7,   7.2110,  34.7580,2,  34.7587,3,   -999.0,9,  -999.00,9,  -999.00,9,  -999.00,9,  -999.00,9,    4.409,2,    2.344,2,    0.389,2,    3.070,2, -999.000, -999.000,9,-999.0000,-999.0000,9,  -999.00,  -999.00,9,   7.1995
  58JH19990615,   75N,   460,  2,      2,2,19990616, 62.2120,   5.2900,  234,    149.8,   7.1771,  34.7845,2,  34.7849,3,   -999.0,9,  -999.00,9,  -999.00,9,  -999.00,9,  -999.00,9,    4.423,2,    2.394,2,    0.392,2,    3.008,2, -999.000, -999.000,9,-999.0000,-999.0000,9,  -999.00,  -999.00,9,   7.1630
  58JH19990615,   75N,   460,  2,      1,2,19990616, 62.2120,   5.2900,  234,    224.3,   7.2062,  34.8352,2,  34.8332,3,   -999.0,9,  -999.00,9,  -999.00,9,  -999.00,9,  -999.00,9,    4.408,2,    2.319,2,    0.432,2,    2.966,2, -999.000, -999.000,9,-999.0000,-999.0000,9,  -999.00,  -999.00,9,   7.1849
  58JH19990615,   75N,   461,  1,      5,2,19990618, 68.4108,  14.0673,  143,      5.7,   8.2310,  33.5692,2,  33.5410,3,   -999.0,9,     1.81,2,     0.65,2,     0.02,2,     0.18,2, -999.000,9, -999.000,9, -999.000,9, -999.000,9, -999.000, -999.000,9,-999.0000,-999.0000,9,  -999.00,  -999.00,9,   8.2304
  58JH19990615,   75N,   461,  1,      4,2,19990618, 68.4108,  14.0673,  143,     11.6,   8.2360,  33.5674,2,  33.5410,3,   -999.0,9,     1.80,2,     0.65,2,     0.01,2,     0.18,2, -999.000,9, -999.000,9, -999.000,9, -999.000,9, -999.000, -999.000,9,-999.0000,-999.0000,9,  -999.00,  -999.00,9,   8.2348
  58JH19990615,   75N,   461,  1,      3,2,19990618, 68.4108,  14.0673,  143,     19.0,   8.2450,  33.5827,2,  33.5680,3,   -999.0,9,     1.97,2,     0.62,2,     0.01,2,     0.17,2, -999.000,9, -999.000,9, -999.000,9, -999.000,9, -999.000, -999.000,9,-999.0000,-999.0000,9,  -999.00,  -999.00,9,   8.2431
  58JH19990615,   75N,   461,  1,      2,2,19990618, 68.4108,  14.0673,  143,     32.5,   8.1780,  33.6270,2,  33.6060,3,   -999.0,9,     2.17,2,     0.77,2,     0.01,2,     0.18,2, -999.000,9, -999.000,9, -999.000,9, -999.000,9, -999.000, -999.000,9,-999.0000,-999.0000,9,  -999.00,  -999.00,9,   8.1748
  58JH19990615,   75N,   461,  1,      1,2,19990618, 68.4108,  14.0673,  143,     34.8,   8.1460,  33.6240,2,  33.6040,3,   -999.0,9,     2.18,2,     0.78,2,     0.01,2,     0.19,2, -999.000,9, -999.000,9, -999.000,9, -999.000,9, -999.000, -999.000,9,-999.0000,-999.0000,9,  -999.00,  -999.00,9,   8.1425
  58JH19990615,   75N,   462,  1,      6,2,19990618, 68.4302,  14.0150,  143,      3.5,   8.2130,-999.0000,9,  33.5960,3,   -999.0,9,     2.18,2,     0.70,2,     0.01,2,     0.17,2, -999.000,9, -999.000,9, -999.000,9, -999.000,9, -999.000, -999.000,9,-999.0000,-999.0000,9,  -999.00,  -999.00,9,-999.0000
  58JH19990615,   75N,   462,  1,      5,2,19990618, 68.4302,  14.0150,  143,     10.8,   8.2120,  33.6167,2,  33.5970,3,   -999.0,9,     2.19,2,     0.69,2,     0.01,2,     0.17,2, -999.000,9, -999.000,9, -999.000,9, -999.000,9, -999.000, -999.000,9,-999.0000,-999.0000,9,  -999.00,  -999.00,9,   8.2109
  58JH19990615,   75N,   462,  1,      4,2,19990618, 68.4302,  14.0150,  143,     30.2,   8.0460,  33.6341,2,  33.6110,3,   -999.0,9,     2.26,2,     1.08,2,     0.02,2,     0.19,2, -999.000,9, -999.000,9, -999.000,9, -999.000,9, -999.000, -999.000,9,-999.0000,-999.0000,9,  -999.00,  -999.00,9,   8.0430
  58JH19990615,   75N,   462,  1,      3,2,19990618, 68.4302,  14.0150,  143,     48.8,   8.0230,  33.6354,2,  33.6100,3,   -999.0,9,     2.25,2,     1.12,2,     0.02,2,     0.19,2, -999.000,9, -999.000,9, -999.000,9, -999.000,9, -999.000, -999.000,9,-999.0000,-999.0000,9,  -999.00,  -999.00,9,   8.0182
  58JH19990615,   75N,   462,  1,      2,2,19990618, 68.4302,  14.0150,  143,     75.8,   7.1710,  33.6756,2,  33.6530,3,   -999.0,9,     2.54,2,     3.01,2,     0.06,2,     0.32,2, -999.000,9, -999.000,9, -999.000,9, -999.000,9, -999.000, -999.000,9,-999.0000,-999.0000,9,  -999.00,  -999.00,9,   7.1640
  58JH19990615,   75N,   462,  1,      1,2,19990618, 68.4302,  14.0150,  143,    100.6,   6.4320,  34.0236,2,  34.0080,3,   -999.0,9,     3.54,2,     6.21,2,     0.09,2,     0.50,2, -999.000,9, -999.000,9, -999.000,9, -999.000,9, -999.000, -999.000,9,-999.0000,-999.0000,9,  -999.00,  -999.00,9,   6.4232
  58JH19990615,   75N,   463,  1,     10,2,19990618, 68.4773,  13.8840,  188,      4.0,   8.5350,-999.0000,9,  33.6510,3,   -999.0,9,     2.21,2,     0.32,2,     0.00,2,     0.15,2, -999.000,9, -999.000,9, -999.000,9, -999.000,9, -999.000, -999.000,9,-999.0000,-999.0000,9,  -999.00,  -999.00,9,-999.0000
  58JH19990615,   75N,   463,  1,      9,2,19990618, 68.4773,  13.8840,  188,      8.3,   8.5290,  33.6778,2,  33.6510,3,   -999.0,9,     2.22,2,     0.32,2,     0.00,2,     0.15,2, -999.000,9, -999.000,9, -999.000,9, -999.000,9, -999.000, -999.000,9,-999.0000,-999.0000,9,  -999.00,  -999.00,9,   8.5282
  58JH19990615,   75N,   463,  1,      8,2,19990618, 68.4773,  13.8840,  188,     19.3,   8.5210,  33.6759,2,  33.6470,3,   -999.0,9,     2.21,2,     0.34,2,     0.00,2,     0.16,2, -999.000,9, -999.000,9, -999.000,9, -999.000,9, -999.000, -999.000,9,-999.0000,-999.0000,9,  -999.00,  -999.00,9,   8.5190
  58JH19990615,   75N,   463,  1,      7,2,19990618, 68.4773,  13.8840,  188,     30.0,   8.4860,  33.6758,2,  33.6430,3,   -999.0,9,     2.31,2,     0.90,2,     0.01,2,     0.19,2, -999.000,9, -999.000,9, -999.000,9, -999.000,9, -999.000, -999.000,9,-999.0000,-999.0000,9,  -999.00,  -999.00,9,   8.4829
  58JH19990615,   75N,   463,  1,      6,2,19990618, 68.4773,  13.8840,  188,     48.6,   6.4910,  33.7338,2,  33.7270,3,   -999.0,9,     2.85,2,     4.27,2,     0.08,2,     0.39,2, -999.000,9, -999.000,9, -999.000,9, -999.000,9, -999.000, -999.000,9,-999.0000,-999.0000,9,  -999.00,  -999.00,9,   6.4868
  58JH19990615,   75N,   463,  1,      5,2,19990618, 68.4773,  13.8840,  188,     76.4,   6.0830,  33.9129,2,  33.8930,3,   -999.0,9,     3.48,2,     6.63,2,     0.10,2,     0.52,2, -999.000,9, -999.000,9, -999.000,9, -999.000,9, -999.000, -999.000,9,-999.0000,-999.0000,9,  -999.00,  -999.00,9,   6.0766
  58JH19990615,   75N,   463,  1,      4,2,19990618, 68.4773,  13.8840,  188,     99.2,   6.0670,  34.0276,2,  34.0670,3,   -999.0,9,     3.96,2,     8.82,2,     0.10,2,     0.63,2, -999.000,9, -999.000,9, -999.000,9, -999.000,9, -999.000, -999.000,9,-999.0000,-999.0000,9,  -999.00,  -999.00,9,   6.0586
  58JH19990615,   75N,   463,  1,      3,2,19990618, 68.4773,  13.8840,  188,    124.5,   6.5690,  34.5091,2,  34.4890,3,   -999.0,9,     4.41,2,    10.14,2,     0.04,2,     0.69,2, -999.000,9, -999.000,9, -999.000,9, -999.000,9, -999.000, -999.000,9,-999.0000,-999.0000,9,  -999.00,  -999.00,9,   6.5579
  58JH19990615,   75N,   463,  1,      2,2,19990618, 68.4773,  13.8840,  188,    147.7,   6.8380,  34.7538,2,  34.7500,3,   -999.0,9,     4.37,2,    10.19,2,     0.04,2,     0.68,2, -999.000,9, -999.000,9, -999.000,9, -999.000,9, -999.000, -999.000,9,-999.0000,-999.0000,9,  -999.00,  -999.00,9,   6.8244
  58JH19990615,   75N,   463,  1,      1,2,19990618, 68.4773,  13.8840,  188,    177.6,   6.8880,-999.0000,9,  34.8330,3,   -999.0,9,     4.48,2,    10.62,2,     0.04,2,     0.71,2, -999.000,9, -999.000,9, -999.000,9, -999.000,9, -999.000, -999.000,9,-999.0000,-999.0000,9,  -999.00,  -999.00,9,-999.0000
  58JH19990615,   75N,   464,  1,      8,2,19990618, 68.5140,  13.7732, 1961,      4.4,   8.4780,-999.0000,9,  33.6940,3,    303.2,2,     2.23,2,     0.13,2,     0.00,2,     0.14,2, -999.000,9, -999.000,9, -999.000,9, -999.000,9, -999.000, -999.000,9,-999.0000,-999.0000,9,  -999.00,  -999.00,9,-999.0000
  58JH19990615,   75N,   464,  1,      7,2,19990618, 68.5140,  13.7732, 1961,      9.3,   8.4790,  33.7163,2,  33.6940,3,    304.5,2,     2.24,2,     0.10,2,     0.00,2,     0.13,2, -999.000,9, -999.000,9, -999.000,9, -999.000,9, -999.000, -999.000,9,-999.0000,-999.0000,9,  -999.00,  -999.00,9,   8.4781
  58JH19990615,   75N,   464,  1,      6,2,19990618, 68.5140,  13.7732, 1961,     19.6,   8.4790,  33.7169,2,  33.6920,3,    304.1,2,     2.24,2,     0.10,2,     0.00,2,     0.13,2, -999.000,9, -999.000,9, -999.000,9, -999.000,9, -999.000, -999.000,9,-999.0000,-999.0000,9,  -999.00,  -999.00,9,   8.4770
  58JH19990615,   75N,   464,  1,      5,2,19990618, 68.5140,  13.7732, 1961,     29.6,   8.4720,  33.7171,2,  33.6890,3,    305.8,2,     2.24,2,     0.11,2,     0.00,2,     0.14,2, -999.000,9, -999.000,9, -999.000,9, -999.000,9, -999.000, -999.000,9,-999.0000,-999.0000,9,  -999.00,  -999.00,9,   8.4690
  58JH19990615,   75N,   464,  1,      4,2,19990618, 68.5140,  13.7732, 1961,     49.4,   7.0990,  33.8542,2,  33.8700,3,    294.5,2,     3.01,2,     4.55,2,     0.07,2,     0.41,2, -999.000,9, -999.000,9, -999.000,9, -999.000,9, -999.000, -999.000,9,-999.0000,-999.0000,9,  -999.00,  -999.00,9,   7.0945
  58JH19990615,   75N,   464,  1,      3,2,19990618, 68.5140,  13.7732, 1961,     74.7,   6.2710,  34.1725,2,  34.1740,3,    286.1,2,     3.90,2,     8.42,2,     0.10,2,     0.61,2, -999.000,9, -999.000,9, -999.000,9, -999.000,9, -999.000, -999.000,9,-999.0000,-999.0000,9,  -999.00,  -999.00,9,   6.2646
  58JH19990615,   75N,   464,  1,      2,2,19990618, 68.5140,  13.7732, 1961,    124.0,   6.8450,  34.7851,2,  34.7760,3,    277.7,2,     4.37,2,    10.37,2,     0.05,2,     0.69,2, -999.000,9, -999.000,9, -999.000,9, -999.000,9, -999.000, -999.000,9,-999.0000,-999.0000,9,  -999.00,  -999.00,9,   6.8336
  58JH19990615,   75N,   464,  1,      1,2,19990618, 68.5140,  13.7732, 1961,    129.1,   6.8610,  34.8229,2,  34.8000,3,    286.8,2,     4.41,2,    10.45,2,     0.04,2,     0.69,2, -999.000,9, -999.000,9, -999.000,9, -999.000,9, -999.000, -999.000,9,-999.0000,-999.0000,9,  -999.00,  -999.00,9,   6.8491
  58JH19990615,   75N,   465,  1,      7,2,19990618, 68.5460,  13.6853, 1961,      3.5,   8.5930,-999.0000,9,  33.7010,3,   -999.0,9,     2.35,2,     0.22,2,     0.00,2,     0.15,2, -999.000,9, -999.000,9, -999.000,9, -999.000,9, -999.000, -999.000,9,-999.0000,-999.0000,9,  -999.00,  -999.00,9,-999.0000
  58JH19990615,   75N,   465,  1,      6,2,19990618, 68.5460,  13.6853, 1961,     10.2,   8.5870,  33.7260,2,  33.6980,3,   -999.0,9,     2.36,2,     0.21,2,     0.00,2,     0.15,2, -999.000,9, -999.000,9, -999.000,9, -999.000,9, -999.000, -999.000,9,-999.0000,-999.0000,9,  -999.00,  -999.00,9,   8.5860
  58JH19990615,   75N,   465,  1,      5,2,19990618, 68.5460,  13.6853, 1961,     19.2,   8.5780,  33.7259,2,  33.6940,3,   -999.0,9,     2.36,2,     0.22,2,     0.00,2,     0.15,2, -999.000,9, -999.000,9, -999.000,9, -999.000,9, -999.000, -999.000,9,-999.0000,-999.0000,9,  -999.00,  -999.00,9,   8.5760
  58JH19990615,   75N,   465,  1,      4,2,19990618, 68.5460,  13.6853, 1961,     29.2,   8.4020,  33.7330,2,  33.7040,3,   -999.0,9,     2.47,2,     1.01,2,     0.01,2,     0.21,2, -999.000,9, -999.000,9, -999.000,9, -999.000,9, -999.000, -999.000,9,-999.0000,-999.0000,9,  -999.00,  -999.00,9,   8.3990
  58JH19990615,   75N,   465,  1,      3,2,19990618, 68.5460,  13.6853, 1961,     47.9,   6.0040,  34.0634,2,  34.0700,3,   -999.0,9,     3.95,2,     8.62,2,     0.10,2,     0.61,2, -999.000,9, -999.000,9, -999.000,9, -999.000,9, -999.000, -999.000,9,-999.0000,-999.0000,9,  -999.00,  -999.00,9,   6.0000
  58JH19990615,   75N,   465,  1,      2,2,19990618, 68.5460,  13.6853, 1961,     74.9,   6.3200,  34.2862,2,  34.2720,3,   -999.0,9,     4.14,2,     9.25,2,     0.09,2,     0.62,2, -999.000,9, -999.000,9, -999.000,9, -999.000,9, -999.000, -999.000,9,-999.0000,-999.0000,9,  -999.00,  -999.00,9,   6.3135
  58JH19990615,   75N,   465,  1,      1,2,19990618, 68.5460,  13.6853, 1961,     99.0,   6.5270,  34.4552,2,  34.4430,3,   -999.0,9,     4.18,2,     9.43,2,     0.10,2,     0.65,2, -999.000,9, -999.000,9, -999.000,9, -999.000,9, -999.000, -999.000,9,-999.0000,-999.0000,9,  -999.00,  -999.00,9,   6.5182
  58JH19990615,   75N,   466,  1,      8,2,19990618, 68.5817,  13.5922, 1961,      2.9,   8.8550,-999.0000,9,  33.8560,3,   -999.0,9,     2.05,2,     0.27,2,     0.00,2,     0.16,2, -999.000,9, -999.000,9, -999.000,9, -999.000,9, -999.000, -999.000,9,-999.0000,-999.0000,9,  -999.00,  -999.00,9,-999.0000
  58JH19990615,   75N,   466,  1,      7,2,19990618, 68.5817,  13.5922, 1961,      8.9,   8.8280,  33.8857,2,  33.8540,3,   -999.0,9,     2.08,2,     0.36,2,     0.01,2,     0.17,2, -999.000,9, -999.000,9, -999.000,9, -999.000,9, -999.000, -999.000,9,-999.0000,-999.0000,9,  -999.00,  -999.00,9,   8.8271
  58JH19990615,   75N,   466,  1,      6,2,19990618, 68.5817,  13.5922, 1961,     21.2,   7.5950,  33.8962,2,  33.9380,3,   -999.0,9,     2.43,2,     1.85,2,     0.03,2,     0.25,2, -999.000,9, -999.000,9, -999.000,9, -999.000,9, -999.000, -999.000,9,-999.0000,-999.0000,9,  -999.00,  -999.00,9,   7.5930
  58JH19990615,   75N,   466,  1,      5,2,19990618, 68.5817,  13.5922, 1961,     28.9,   6.5740,  34.0497,2,  34.0120,3,   -999.0,9,     3.35,2,     6.23,2,     0.09,2,     0.50,2, -999.000,9, -999.000,9, -999.000,9, -999.000,9, -999.000, -999.000,9,-999.0000,-999.0000,9,  -999.00,  -999.00,9,   6.5715
  58JH19990615,   75N,   466,  1,      4,2,19990618, 68.5817,  13.5922, 1961,     49.5,   6.3780,  34.3415,2,  34.3440,3,   -999.0,9,     4.32,2,     9.52,2,     0.08,2,     0.65,2, -999.000,9, -999.000,9, -999.000,9, -999.000,9, -999.000, -999.000,9,-999.0000,-999.0000,9,  -999.00,  -999.00,9,   6.3737
  58JH19990615,   75N,   466,  1,      3,2,19990618, 68.5817,  13.5922, 1961,     74.0,   6.5830,  34.4752,2,  34.5010,3,   -999.0,9,     4.39,2,     9.86,2,     0.06,2,     0.67,2, -999.000,9, -999.000,9, -999.000,9, -999.000,9, -999.000, -999.000,9,-999.0000,-999.0000,9,  -999.00,  -999.00,9,   6.5764
  58JH19990615,   75N,   466,  1,      2,2,19990618, 68.5817,  13.5922, 1961,     97.8,   6.7670,  34.6900,2,  34.6840,3,   -999.0,9,     4.45,2,    10.23,2,     0.06,2,     0.70,2, -999.000,9, -999.000,9, -999.000,9, -999.000,9, -999.000, -999.000,9,-999.0000,-999.0000,9,  -999.00,  -999.00,9,   6.7581
  58JH19990615,   75N,   466,  1,      1,2,19990618, 68.5817,  13.5922, 1961,    128.6,   6.8660,  34.8348,2,  34.8100,3,   -999.0,9,     4.54,2,    10.55,2,     0.06,2,     0.71,2, -999.000,9, -999.000,9, -999.000,9, -999.000,9, -999.000, -999.000,9,-999.0000,-999.0000,9,  -999.00,  -999.00,9,   6.8542