BOTTLE,20090622PRINUNIVRMK
EXPOCODE,SECT_ID,STNNBR,CASTNO,BTLNBR,BTLNBR_FLAG_W,DATE,LATITUDE,LONGITUDE,DEPTH,CTDPRS,CTDTMP,CTDSAL,CTDSAL_FLAG_W,SALNTY,SALNTY_FLAG_W,OXYGEN,OXYGEN_FLAG_W,SILCAT,SILCAT_FLAG_W,NITRAT,NITRAT_FLAG_W,NITRIT,NITRIT_FLAG_W,PHSPHT,PHSPHT_FLAG_W,CFC-11,CFC-11_FLAG_W,CFC-12,CFC-12_FLAG_W,CFC113,CFC113_FLAG_W,CCL4,CCL4_FLAG_W,TRITUM,TRITER,TRITUM_FLAG_W,HELIUM,HELIER,HELIUM_FLAG_W,DELHE3,DELHER,DELHE3_FLAG_W,THETA
,,,,,,,,,METERS,DBARS,ITS-90,PSS-78,,PSS-78,,UMOL/KG,,UMOL/KG,,UMOL/KG,,UMOL/KG,,UMOL/KG,,PMOL/KG,,PMOL/KG,,PMOL/KG,,PMOL/KG,,TU,TU,,NMOL/KG,NMOL/KG,,PERCNT,PERCNT,,DEGC
  58JH19990615,   75N,   493,  2,     12,2,19990624, 74.4998, -10.9983, 3013,      3.4,   2.2190,-999.0000,9,  34.3100,3,    369.8,2,     1.04,2,     0.20,2,     0.00,2,     0.19,2,    5.623,2,    3.077,2,    0.494,2,    7.341,2, -999.000, -999.000,9,-999.0000,-999.0000,9,  -999.00,  -999.00,9,-999.0000
  58JH19990615,   75N,   493,  2,     11,2,19990624, 74.4998, -10.9983, 3013,      8.8,   2.1560,  34.2342,2,  34.3250,3,    368.1,2,     1.09,2,     0.78,2,     0.02,2,     0.21,2,    5.599,2,    3.022,2,    0.482,2,    7.267,2, -999.000, -999.000,9,-999.0000,-999.0000,9,  -999.00,  -999.00,9,   2.1555
  58JH19990615,   75N,   493,  2,     10,2,19990624, 74.4998, -10.9983, 3013,     20.0,   1.8060,  34.4619,2,  34.4120,3,    355.0,2,     1.52,2,     3.31,2,     0.03,2,     0.38,2, -999.000,9, -999.000,9, -999.000,9, -999.000,9, -999.000, -999.000,9,-999.0000,-999.0000,9,  -999.00,  -999.00,9,   1.8050
  58JH19990615,   75N,   493,  2,      9,2,19990624, 74.4998, -10.9983, 3013,     30.6,   1.3700,  34.6707,2,  34.5700,3,    342.7,2,     2.67,2,     6.96,2,     0.05,2,     0.60,2,    5.205,2,    2.797,2,    0.448,2,    6.511,2, -999.000, -999.000,9,-999.0000,-999.0000,9,  -999.00,  -999.00,9,   1.3686
  58JH19990615,   75N,   493,  2,      8,2,19990624, 74.4998, -10.9983, 3013,     40.3,   1.1300,  34.8067,2,  34.7410,3,    327.4,2,     4.47,2,     9.82,2,     0.10,2,     0.75,2, -999.000,9, -999.000,9, -999.000,9, -999.000,9, -999.000, -999.000,9,-999.0000,-999.0000,9,  -999.00,  -999.00,9,   1.1282
  58JH19990615,   75N,   493,  2,      7,2,19990624, 74.4998, -10.9983, 3013,     50.2,   1.3720,  34.8847,2,  34.8580,3,    319.5,2,     5.14,2,    10.96,2,     0.15,2,     0.79,2,    4.753,2,    2.540,2,    0.414,2,    5.683,2, -999.000, -999.000,9,-999.0000,-999.0000,9,  -999.00,  -999.00,9,   1.3696
  58JH19990615,   75N,   493,  2,      6,2,19990624, 74.4998, -10.9983, 3013,     74.6,   1.5760,  34.9241,2,  34.8930,3,    312.1,2,     5.78,2,    12.15,2,     0.18,2,     0.83,2, -999.000,9, -999.000,9, -999.000,9, -999.000,9, -999.000, -999.000,9,-999.0000,-999.0000,9,  -999.00,  -999.00,9,   1.5723
  58JH19990615,   75N,   493,  2,      5,2,19990624, 74.4998, -10.9983, 3013,     99.6,   1.6050,  34.9373,2,  34.9380,3,    313.0,2,     5.78,2,    12.38,2,     0.05,2,     0.84,2,    4.609,2,    2.473,2,    0.385,2,    5.623,2, -999.000, -999.000,9,-999.0000,-999.0000,9,  -999.00,  -999.00,9,   1.6000
  58JH19990615,   75N,   493,  2,      4,2,19990624, 74.4998, -10.9983, 3013,    150.4,   1.3990,  34.9370,2,  34.9070,3,    311.2,2,     6.00,2,    12.54,2,     0.02,2,     0.85,2, -999.000,9, -999.000,9, -999.000,9, -999.000,9, -999.000, -999.000,9,-999.0000,-999.0000,9,  -999.00,  -999.00,9,   1.3917
  58JH19990615,   75N,   493,  2,      3,2,19990624, 74.4998, -10.9983, 3013,    200.6,   1.1610,  34.9275,2,  34.9250,3,    310.4,2,     6.25,2,    12.74,2,     0.01,2,     0.87,2,    4.150,2,    2.162,2,    0.344,2,    5.214,2, -999.000, -999.000,9,-999.0000,-999.0000,9,  -999.00,  -999.00,9,   1.1515
  58JH19990615,   75N,   493,  2,      2,2,19990624, 74.4998, -10.9983, 3013,    301.1,   0.8620,  34.9279,2,  34.8990,3,    311.2,2,     6.41,2,    12.89,2,     0.01,2,     0.88,2, -999.000,9, -999.000,9, -999.000,9, -999.000,9, -999.000, -999.000,9,-999.0000,-999.0000,9,  -999.00,  -999.00,9,   0.8483
  58JH19990615,   75N,   493,  2,      1,2,19990624, 74.4998, -10.9983, 3013,    401.0,   0.4330,  34.9090,2,  34.9070,3,    316.9,2,     6.42,2,    12.75,2,     0.07,2,     0.87,2,    4.164,2,    2.172,2,    0.357,2,    5.306,2, -999.000, -999.000,9,-999.0000,-999.0000,9,  -999.00,  -999.00,9,   0.4158
  58JH19990615,   75N,   494,  1,     12,2,19990625, 74.5000,  -8.9987, 3307,      8.7,   2.3000,  34.6422,2,  34.6850,3,    363.2,2,     0.41,2,     1.72,2,     0.04,2,     0.23,2, -999.000,9, -999.000,9, -999.000,9, -999.000,9, -999.000, -999.000,9,-999.0000,-999.0000,9,  -999.00,  -999.00,9,   2.2995
  58JH19990615,   75N,   494,  1,     11,2,19990625, 74.5000,  -8.9987, 3307,     31.3,   1.5780,  34.8023,2,  34.7640,3,    356.6,2,     0.81,2,     5.47,2,     0.04,2,     0.49,2, -999.000,9, -999.000,9, -999.000,9, -999.000,9, -999.000, -999.000,9,-999.0000,-999.0000,9,  -999.00,  -999.00,9,   1.5765
  58JH19990615,   75N,   494,  1,     10,2,19990625, 74.5000,  -8.9987, 3307,     51.2,   0.2460,  34.8627,2,  34.8290,3,    344.8,2,     2.97,2,     9.25,2,     0.05,2,     0.75,2, -999.000,9, -999.000,9, -999.000,9, -999.000,9, -999.000, -999.000,9,-999.0000,-999.0000,9,  -999.00,  -999.00,9,   0.2440
  58JH19990615,   75N,   494,  1,      9,2,19990625, 74.5000,  -8.9987, 3307,     99.8,   0.1770,  34.9062,2,  34.8760,3,    323.4,2,     6.18,2,    12.57,2,     0.07,2,     0.87,2, -999.000,9, -999.000,9, -999.000,9, -999.000,9, -999.000, -999.000,9,-999.0000,-999.0000,9,  -999.00,  -999.00,9,   0.1732
  58JH19990615,   75N,   494,  1,      8,2,19990625, 74.5000,  -8.9987, 3307,    201.7,  -0.2990,  34.8904,2,  34.8590,3,    325.6,2,     6.50,2,    13.06,2,     0.02,2,     0.89,2, -999.000,9, -999.000,9, -999.000,9, -999.000,9, -999.000, -999.000,9,-999.0000,-999.0000,9,  -999.00,  -999.00,9,  -0.3060
  58JH19990615,   75N,   494,  1,      7,2,19990625, 74.5000,  -8.9987, 3307,    299.2,  -0.6090,  34.8805,2,  34.8500,3,    328.2,2,     6.74,2,    13.27,2,     0.01,2,     0.91,2, -999.000,9, -999.000,9, -999.000,9, -999.000,9, -999.000, -999.000,9,-999.0000,-999.0000,9,  -999.00,  -999.00,9,  -0.6189
  58JH19990615,   75N,   494,  1,      6,2,19990625, 74.5000,  -8.9987, 3307,    500.8,  -0.8590,  34.8685,2,  34.8400,3,    334.4,2,     6.52,2,    13.18,2,     0.00,2,     0.90,2, -999.000,9, -999.000,9, -999.000,9, -999.000,9, -999.000, -999.000,9,-999.0000,-999.0000,9,  -999.00,  -999.00,9,  -0.8755
  58JH19990615,   75N,   494,  1,      5,2,19990625, 74.5000,  -8.9987, 3307,   1000.0,  -0.8050,  34.8903,2,  34.8610,3,    317.3,2,     8.15,2,    14.18,2,     0.00,2,     0.97,2, -999.000,9, -999.000,9, -999.000,9, -999.000,9, -999.000, -999.000,9,-999.0000,-999.0000,9,  -999.00,  -999.00,9,  -0.8430
  58JH19990615,   75N,   494,  1,      4,2,19990625, 74.5000,  -8.9987, 3307,   1501.3,  -0.7740,  34.9088,2,  34.8810,3,    301.6,2,    10.23,2,    14.97,2,     0.00,2,     1.03,2, -999.000,9, -999.000,9, -999.000,9, -999.000,9, -999.000, -999.000,9,-999.0000,-999.0000,9,  -999.00,  -999.00,9,  -0.8383
  58JH19990615,   75N,   494,  1,      3,2,19990625, 74.5000,  -8.9987, 3307,   1999.9,  -0.8850,  34.9107,2,  34.8830,3,    301.2,2,    11.22,2,    15.29,2,     0.00,2,     1.04,2, -999.000,9, -999.000,9, -999.000,9, -999.000,9, -999.000, -999.000,9,-999.0000,-999.0000,9,  -999.00,  -999.00,9,  -0.9776
  58JH19990615,   75N,   494,  1,      2,2,19990625, 74.5000,  -8.9987, 3307,   2499.7,  -0.9410,  34.9082,2,  34.8810,3,    303.0,2,    11.57,2,    15.29,2,     0.00,2,     1.04,2, -999.000,9, -999.000,9, -999.000,9, -999.000,9, -999.000, -999.000,9,-999.0000,-999.0000,9,  -999.00,  -999.00,9,  -1.0665
  58JH19990615,   75N,   494,  1,      1,2,19990625, 74.5000,  -8.9987, 3307,   3175.6,  -0.9750,  34.9024,2,  34.8750,3,    306.0,2,    12.32,2,    15.32,2,     0.00,2,     1.04,2, -999.000,9, -999.000,9, -999.000,9, -999.000,9, -999.000, -999.000,9,-999.0000,-999.0000,9,  -999.00,  -999.00,9,  -1.1517
  58JH19990615,   75N,   495,  1,     12,2,19990625, 74.4990,  -6.9920, 3410,    600.4,  -0.9029,  34.8664,2,  34.8643,3,    328.7,2,     6.83,2,    13.49,2,     0.00,2,     0.93,2,    4.704,2,    2.439,2,    0.407,2,    6.127,2,    1.481,    0.071,2,   1.8604,   0.1810,2,     3.67,     0.00,2,  -0.9230
  58JH19990615,   75N,   495,  1,     11,2,19990625, 74.4990,  -6.9920, 3410,    798.6,  -0.7979,  34.8815,2,  34.8796,3,    316.9,2,     7.84,2,    14.21,2,     0.00,2,     0.98,2,    3.963,2,    1.929,2,    0.298,2,    5.110,2, -999.000, -999.000,5,   1.8458,   0.1820,2,  -999.00,     0.00,2,  -0.8268
  58JH19990615,   75N,   495,  1,     10,2,19990625, 74.4990,  -6.9920, 3410,   1000.6,  -0.8182,  34.8874,2,  34.8853,3,    317.8,2,     8.11,2,    14.28,2,     0.00,2,     0.99,2,    3.821,2,    1.802,2,    0.296,2,    4.954,2,    1.083,    0.056,2,   1.8896,   0.2000,2,     2.31,     0.00,2,  -0.8562
  58JH19990615,   75N,   495,  1,      9,2,19990625, 74.4990,  -6.9920, 3410,   1250.0,  -0.8062,  34.8963,2,  34.8934,3,    313.0,2,     8.82,2,    14.55,2,     0.00,2,     1.00,2,    3.088,2,    1.479,2,    0.230,2,    4.295,2,    0.965,    0.050,2,   1.8465,   0.2030,2,     4.28,     0.00,2,  -0.8565
  58JH19990615,   75N,   495,  1,      8,2,19990625, 74.4990,  -6.9920, 3410,   1501.4,  -0.7715,  34.9086,2,  34.9065,3,    300.8,2,    10.31,2,    15.12,2,     0.00,2,     1.04,2,    1.521,6,    0.662,6,    0.065,6,    2.974,6, -999.000, -999.000,5,   5.1659,   0.2060,3,  -999.00,     0.00,2,  -0.8358
  58JH19990615,   75N,   495,  1,      7,2,19990625, 74.4990,  -6.9920, 3410,   1744.1,  -0.8354,  34.9100,2,  34.9081,3,    299.9,2,    10.89,2,    15.33,2,     0.00,2,     1.05,2,    1.115,2,    0.472,2,    0.035,2,    2.557,2, -999.000, -999.000,9,-999.0000,-999.0000,9,  -999.00,  -999.00,9,  -0.9130
  58JH19990615,   75N,   495,  1,      6,2,19990625, 74.4990,  -6.9920, 3410,   2000.3,  -0.8915,  34.9096,2,  34.9075,3,    298.2,2,    11.23,2,    15.34,2,     0.00,2,     1.05,2,    0.980,2,    0.430,2,    0.031,2,    2.451,2, -999.000, -999.000,5,   1.8591,   0.1810,2,  -999.00,     0.00,2,  -0.9840
  58JH19990615,   75N,   495,  1,      5,2,19990625, 74.4990,  -6.9920, 3410,   2250.5,  -0.9197,  34.9097,2,  34.9072,3,    301.6,2,    11.50,2,    15.37,2,     0.00,2,     1.05,2,    0.867,2,    0.375,2,    0.026,2,    2.348,2,    0.674,    0.058,2,   1.8372,   0.1910,2,     6.11,     0.00,2,  -1.0282
  58JH19990615,   75N,   495,  1,      4,2,19990625, 74.4990,  -6.9920, 3410,   2500.7,  -0.9190,  34.9110,2,  34.9089,3,    303.0,2,    11.68,2,    15.43,2,     0.00,2,     1.05,2,    0.814,2,    0.353,2,    0.023,2,    2.357,2,    0.416,    0.048,2,   1.9629,   0.1920,2,     6.44,     0.00,2,  -1.0450
  58JH19990615,   75N,   495,  1,      3,2,19990625, 74.4990,  -6.9920, 3410,   2752.2,  -0.9490,  34.9068,2,  34.9045,3,    303.8,2,    11.80,2,    15.40,2,     0.00,2,     1.05,2,    0.851,2,    0.360,2,    0.023,2,    2.446,2,    0.602,    0.058,2,   1.8563,   0.1810,2,     6.70,     0.00,2,  -1.0929
  58JH19990615,   75N,   495,  1,      2,2,19990625, 74.4990,  -6.9920, 3410,   2999.6,  -0.9573,  34.9046,2,  34.9025,3,    305.1,2,    11.83,2,    15.32,2,     0.00,2,     1.05,2,    0.860,2,    0.378,2,    0.026,2,    2.536,2,    0.560,    0.062,2,   1.8566,   0.1820,2,     7.21,     0.00,2,  -1.1202
  58JH19990615,   75N,   495,  1,      1,2,19990625, 74.4990,  -6.9920, 3410,   3331.3,  -0.9620,  34.9027,2,  34.9000,3,    304.3,2,    12.16,2,    15.37,2,     0.00,2,     1.05,2,    0.843,2,    0.358,2,    0.020,2,    2.669,2, -999.000, -999.000,5,   1.8692,   0.1880,2,  -999.00,     0.00,2,  -1.1520
  58JH19990615,   75N,   495,  2,     12,2,19990625, 74.4990,  -6.9920, 3410,      9.3,   2.2490,  34.7754,2,  34.7520,3,    383.6,2,     0.21,2,     0.39,2,     0.01,2,     0.21,2,    5.675,6,    3.027,6,    0.453,6,    7.507,6,   11.012,    0.146,3,   3.3489,   0.1860,3,    -2.33,     0.00,4,   2.2485
  58JH19990615,   75N,   495,  2,     11,2,19990625, 74.4990,  -6.9920, 3410,     19.9,   1.7990,  34.8052,2,  34.8031,3,    372.3,2,     0.27,2,     1.90,2,     0.03,2,     0.27,2,    5.711,2,    3.098,2,    0.463,2,    7.496,2,    1.495,    0.059,2,-999.0000,-999.0000,5,  -999.00,  -999.00,5,   1.7980
  58JH19990615,   75N,   495,  2,     10,2,19990625, 74.4990,  -6.9920, 3410,     31.6,   1.3794,  34.8168,2,  34.8147,3,    360.5,2,     0.49,2,     4.15,2,     0.04,2,     0.43,2,    5.751,2,    3.107,2,    0.470,2,    7.432,2,    1.528,    0.032,2,-999.0000,-999.0000,5,  -999.00,  -999.00,5,   1.3779
  58JH19990615,   75N,   495,  2,      9,2,19990625, 74.4990,  -6.9920, 3410,     38.9,   0.6019,  34.8535,2,  34.8514,3,    355.7,2,     1.28,2,     6.63,2,     0.04,2,     0.58,2,    5.784,2,    3.127,2,    0.473,2,    7.572,2, -999.000, -999.000,5,   1.8606,   0.2010,2,  -999.00,     0.00,2,   0.6003
  58JH19990615,   75N,   495,  2,      8,2,19990625, 74.4990,  -6.9920, 3410,     50.2,   0.4140,  34.8851,2,  34.8830,3,    351.3,2,     2.50,2,     8.88,2,     0.04,2,     0.72,2,    5.638,2,    2.950,2,    0.485,2,    7.347,2,    1.598,    0.033,2,   1.8434,   0.1870,2,    -1.06,     0.00,2,   0.4120
  58JH19990615,   75N,   495,  2,      7,2,19990625, 74.4990,  -6.9920, 3410,     76.1,   0.4091,  34.9072,2,  34.9051,3,    339.6,2,     4.88,2,    11.33,2,     0.06,2,     0.83,2,    5.027,2,    2.636,2,    0.417,2,    6.405,2,    1.488,    0.034,2,   1.8293,   0.2010,2,     0.40,     0.00,2,   0.4061
  58JH19990615,   75N,   495,  2,      6,2,19990625, 74.4990,  -6.9920, 3410,    100.3,   0.1972,  34.9052,2,  34.9031,3,    337.4,2,     5.18,2,    11.85,2,     0.08,2,     0.87,2,    5.276,2,    2.824,2,    0.448,2,    6.954,2, -999.000, -999.000,9,-999.0000,-999.0000,9,  -999.00,  -999.00,9,   0.1934
  58JH19990615,   75N,   495,  2,      5,2,19990625, 74.4990,  -6.9920, 3410,    150.5,  -0.0681,  34.8989,2,  34.8971,3,    331.7,2,     6.27,2,    12.91,2,     0.09,2,     0.90,2,    4.934,2,    2.604,2,    0.414,2,    6.321,2,    1.354,    0.053,2,   1.8312,   0.1610,2,     1.15,     0.00,2,  -0.0736
  58JH19990615,   75N,   495,  2,      4,2,19990625, 74.4990,  -6.9920, 3410,    201.1,  -0.3570,  34.8855,2,  34.8834,3,    332.2,2,     6.36,2,    12.97,2,     0.04,2,     0.89,2,    4.983,2,    2.643,2,    0.420,2,    6.641,2,    1.440,    0.031,2,   1.8362,   0.1850,2,     0.62,     0.00,2,  -0.3639
  58JH19990615,   75N,   495,  2,      3,2,19990625, 74.4990,  -6.9920, 3410,    300.8,  -0.5820,  34.8777,2,  34.8756,3,    329.6,2,     6.60,2,    13.30,2,     0.01,2,     0.92,2,    4.753,2,    2.479,2,    0.388,2,    6.192,2,    1.402,    0.031,2,   1.8463,   0.1860,2,     1.31,     0.00,2,  -0.5921
  58JH19990615,   75N,   495,  2,      2,2,19990625, 74.4990,  -6.9920, 3410,    400.6,  -0.7055,  34.8750,2,  34.8728,3,    330.0,2,     6.74,2,    13.44,2,     0.01,2,     0.93,2,    4.686,2,    2.488,2,    0.382,2,    5.682,2,    0.654,    0.048,2,-999.0000,-999.0000,5,  -999.00,  -999.00,5,  -0.7188
  58JH19990615,   75N,   495,  2,      1,2,19990625, 74.4990,  -6.9920, 3410,    501.9,  -0.8275,  34.8700,2,  34.8681,3,    329.1,2,     6.84,2,    13.48,2,     0.00,2,     0.94,2,    4.665,2,    2.441,2,    0.386,2,    5.824,2,    1.302,    0.051,2,-999.0000,-999.0000,5,  -999.00,  -999.00,5,  -0.8442
  58JH19990615,   75N,   496,  1,     12,2,19990625, 74.4992,  -4.9955, 3569,      9.8,   1.8440,  34.8022,2,  34.7800,3,    370.6,2,     0.44,2,     3.69,2,     0.04,2,     0.31,2, -999.000,9, -999.000,9, -999.000,9, -999.000,9, -999.000, -999.000,9,-999.0000,-999.0000,9,  -999.00,  -999.00,9,   1.8435
  58JH19990615,   75N,   496,  1,     11,2,19990625, 74.4992,  -4.9955, 3569,     31.2,   1.7290,  34.7956,2,  34.7700,3,    369.7,2,     0.47,2,     4.11,2,     0.03,2,     0.35,2, -999.000,9, -999.000,9, -999.000,9, -999.000,9, -999.000, -999.000,9,-999.0000,-999.0000,9,  -999.00,  -999.00,9,   1.7274
  58JH19990615,   75N,   496,  1,     10,2,19990625, 74.4992,  -4.9955, 3569,     49.0,  -0.2390,  34.8452,2,  34.7860,3,    360.5,2,     1.42,2,     8.81,2,     0.04,2,     0.65,2, -999.000,9, -999.000,9, -999.000,9, -999.000,9, -999.000, -999.000,9,-999.0000,-999.0000,9,  -999.00,  -999.00,9,  -0.2407
  58JH19990615,   75N,   496,  1,      9,2,19990625, 74.4992,  -4.9955, 3569,     97.6,  -0.9200,  34.8533,2,  34.8140,3,    342.2,2,     6.03,2,    12.25,2,     0.05,2,     0.83,2, -999.000,9, -999.000,9, -999.000,9, -999.000,9, -999.000, -999.000,9,-999.0000,-999.0000,9,  -999.00,  -999.00,9,  -0.9228
  58JH19990615,   75N,   496,  1,      8,2,19990625, 74.4992,  -4.9955, 3569,    200.7,  -0.8000,  34.8627,2,  34.8360,3,    336.5,2,     6.38,2,    12.75,2,     0.01,2,     0.86,2, -999.000,9, -999.000,9, -999.000,9, -999.000,9, -999.000, -999.000,9,-999.0000,-999.0000,9,  -999.00,  -999.00,9,  -0.8061
  58JH19990615,   75N,   496,  1,      7,2,19990625, 74.4992,  -4.9955, 3569,    298.1,  -0.9020,  34.8608,2,  34.8330,3,    338.3,2,     6.34,2,    12.78,2,     0.00,2,     0.86,2, -999.000,9, -999.000,9, -999.000,9, -999.000,9, -999.000, -999.000,9,-999.0000,-999.0000,9,  -999.00,  -999.00,9,  -0.9111
  58JH19990615,   75N,   496,  1,      6,2,19990625, 74.4992,  -4.9955, 3569,    499.5,  -0.9170,  34.8646,2,  34.8370,3,    333.9,2,     6.64,2,    13.05,2,     0.00,2,     0.87,2, -999.000,9, -999.000,9, -999.000,9, -999.000,9, -999.000, -999.000,9,-999.0000,-999.0000,9,  -999.00,  -999.00,9,  -0.9332
  58JH19990615,   75N,   496,  1,      5,2,19990625, 74.4992,  -4.9955, 3569,   1001.1,  -0.8510,  34.8863,2,  34.8580,3,    320.0,2,     8.03,2,    13.90,2,     0.00,2,     0.93,2, -999.000,9, -999.000,9, -999.000,9, -999.000,9, -999.000, -999.000,9,-999.0000,-999.0000,9,  -999.00,  -999.00,9,  -0.8887
  58JH19990615,   75N,   496,  1,      4,2,19990625, 74.4992,  -4.9955, 3569,   1498.7,  -0.7760,  34.9077,2,  34.8810,3,    302.1,2,    10.47,2,    14.89,2,     0.00,2,     1.00,2, -999.000,9, -999.000,9, -999.000,9, -999.000,9, -999.000, -999.000,9,-999.0000,-999.0000,9,  -999.00,  -999.00,9,  -0.8401
  58JH19990615,   75N,   496,  1,      3,2,19990625, 74.4992,  -4.9955, 3569,   2000.8,  -0.8980,  34.9093,2,  34.8820,3,    302.1,2,    11.24,2,    14.94,2,     0.00,2,     1.00,2, -999.000,9, -999.000,9, -999.000,9, -999.000,9, -999.000, -999.000,9,-999.0000,-999.0000,9,  -999.00,  -999.00,9,  -0.9905
  58JH19990615,   75N,   496,  1,      2,2,19990625, 74.4992,  -4.9955, 3569,   2500.9,  -0.9460,  34.9080,2,  34.8810,3,    303.8,2,    11.66,2,    14.94,2,     0.00,2,     1.00,2, -999.000,9, -999.000,9, -999.000,9, -999.000,9, -999.000, -999.000,9,-999.0000,-999.0000,9,  -999.00,  -999.00,9,  -1.0715
  58JH19990615,   75N,   496,  1,      1,2,19990625, 74.4992,  -4.9955, 3569,   3451.5,  -0.9540,  34.9024,2,  34.8750,3,    306.4,2,    12.35,2,    14.98,2,     0.00,2,     1.00,2, -999.000,9, -999.000,9, -999.000,9, -999.000,9, -999.000, -999.000,9,-999.0000,-999.0000,9,  -999.00,  -999.00,9,  -1.1544