BOTTLE,20090622PRINUNIVRMK
EXPOCODE,SECT_ID,STNNBR,CASTNO,BTLNBR,BTLNBR_FLAG_W,DATE,LATITUDE,LONGITUDE,DEPTH,CTDPRS,CTDTMP,CTDSAL,CTDSAL_FLAG_W,SALNTY,SALNTY_FLAG_W,OXYGEN,OXYGEN_FLAG_W,SILCAT,SILCAT_FLAG_W,NITRAT,NITRAT_FLAG_W,NITRIT,NITRIT_FLAG_W,PHSPHT,PHSPHT_FLAG_W,CFC-11,CFC-11_FLAG_W,CFC-12,CFC-12_FLAG_W,CFC113,CFC113_FLAG_W,CCL4,CCL4_FLAG_W,TRITUM,TRITER,TRITUM_FLAG_W,HELIUM,HELIER,HELIUM_FLAG_W,DELHE3,DELHER,DELHE3_FLAG_W,THETA
,,,,,,,,,METERS,DBARS,ITS-90,PSS-78,,PSS-78,,UMOL/KG,,UMOL/KG,,UMOL/KG,,UMOL/KG,,UMOL/KG,,PMOL/KG,,PMOL/KG,,PMOL/KG,,PMOL/KG,,TU,TU,,NMOL/KG,NMOL/KG,,PERCNT,PERCNT,,DEGC
  58JH19990615,   75N,   540,  1,     11,2,19990703, 76.3173,  18.1633,  250,      5.5,   5.1580,  34.6921,2,  34.7310,3,   -999.0,9,     0.66,2,     0.02,2,     0.00,2,     0.02,2, -999.000,9, -999.000,9, -999.000,9, -999.000,9, -999.000, -999.000,9,-999.0000,-999.0000,9,  -999.00,  -999.00,9,   5.1576
  58JH19990615,   75N,   540,  1,     10,2,19990703, 76.3173,  18.1633,  250,      9.9,   5.1730,  34.6993,2,  34.7420,3,   -999.0,9,     0.81,2,     0.03,2,     0.00,2,     0.04,2, -999.000,9, -999.000,9, -999.000,9, -999.000,9, -999.000, -999.000,9,-999.0000,-999.0000,9,  -999.00,  -999.00,9,   5.1722
  58JH19990615,   75N,   540,  1,      9,2,19990703, 76.3173,  18.1633,  250,     20.0,   5.6360,  34.9467,2,  34.9370,3,   -999.0,9,     2.22,2,     3.60,2,     0.07,2,     0.34,2, -999.000,9, -999.000,9, -999.000,9, -999.000,9, -999.000, -999.000,9,-999.0000,-999.0000,9,  -999.00,  -999.00,9,   5.6344
  58JH19990615,   75N,   540,  1,      8,2,19990703, 76.3173,  18.1633,  250,     29.8,   5.1920,  34.9788,2,  34.9600,3,   -999.0,9,     3.15,2,     6.52,2,     0.11,2,     0.53,2, -999.000,9, -999.000,9, -999.000,9, -999.000,9, -999.000, -999.000,9,-999.0000,-999.0000,9,  -999.00,  -999.00,9,   5.1897
  58JH19990615,   75N,   540,  1,      7,2,19990703, 76.3173,  18.1633,  250,     49.9,   4.6550,  35.0263,2,  35.0200,3,   -999.0,9,     3.92,2,     9.60,2,     0.21,2,     0.69,2, -999.000,9, -999.000,9, -999.000,9, -999.000,9, -999.000, -999.000,9,-999.0000,-999.0000,9,  -999.00,  -999.00,9,   4.6513
  58JH19990615,   75N,   540,  1,      6,2,19990703, 76.3173,  18.1633,  250,     74.7,   4.1570,  35.0250,2,  35.0050,3,   -999.0,9,     4.18,2,    11.12,2,     0.20,2,     0.74,2, -999.000,9, -999.000,9, -999.000,9, -999.000,9, -999.000, -999.000,9,-999.0000,-999.0000,9,  -999.00,  -999.00,9,   4.1517
  58JH19990615,   75N,   540,  1,      5,2,19990703, 76.3173,  18.1633,  250,    100.6,   3.7900,  35.0101,2,  34.9990,3,   -999.0,9,     4.40,2,    11.88,2,     0.06,2,     0.77,2, -999.000,9, -999.000,9, -999.000,9, -999.000,9, -999.000, -999.000,9,-999.0000,-999.0000,9,  -999.00,  -999.00,9,   3.7832
  58JH19990615,   75N,   540,  1,      4,2,19990703, 76.3173,  18.1633,  250,    124.5,   3.3290,  34.9974,2,  34.9720,3,   -999.0,9,     4.48,2,    11.92,2,     0.07,2,     0.78,2, -999.000,9, -999.000,9, -999.000,9, -999.000,9, -999.000, -999.000,9,-999.0000,-999.0000,9,  -999.00,  -999.00,9,   3.3210
  58JH19990615,   75N,   540,  1,      3,2,19990703, 76.3173,  18.1633,  250,    150.3,   2.6240,  34.9634,2,  34.9460,3,   -999.0,9,     4.48,2,    11.40,2,     0.13,2,     0.77,2, -999.000,9, -999.000,9, -999.000,9, -999.000,9, -999.000, -999.000,9,-999.0000,-999.0000,9,  -999.00,  -999.00,9,   2.6151
  58JH19990615,   75N,   540,  1,      2,2,19990703, 76.3173,  18.1633,  250,    197.8,   1.1410,  34.8455,2,  34.8490,3,   -999.0,9,     4.04,2,    10.43,2,     0.14,2,     0.73,2, -999.000,9, -999.000,9, -999.000,9, -999.000,9, -999.000, -999.000,9,-999.0000,-999.0000,9,  -999.00,  -999.00,9,   1.1317
  58JH19990615,   75N,   540,  1,      1,2,19990703, 76.3173,  18.1633,  250,    240.5,  -1.5420,  34.9317,2,  34.9290,3,   -999.0,9,     4.44,2,     9.41,2,     0.10,2,     0.70,2, -999.000,9, -999.000,9, -999.000,9, -999.000,9, -999.000, -999.000,9,-999.0000,-999.0000,9,  -999.00,  -999.00,9,  -1.5479
  58JH19990615,   75N,   541,  1,     12,2,19990703, 76.1680,  17.1110,  281,     10.0,   4.7837,  34.8145,2,  34.8145,3,   -999.0,9,     1.25,2,     0.04,2,     0.00,2,     0.03,2,    5.197,2,    2.650,2,    0.410,2,    6.650,2, -999.000, -999.000,9,-999.0000,-999.0000,9,  -999.00,  -999.00,9,   4.7830
  58JH19990615,   75N,   541,  1,     11,2,19990703, 76.1680,  17.1110,  281,     29.8,   4.7667,  34.8534,2,  34.8535,3,   -999.0,9,     1.94,2,     3.97,2,     0.08,2,     0.33,2,    5.193,2,    2.683,2,    0.405,2,    6.544,2, -999.000, -999.000,9,-999.0000,-999.0000,9,  -999.00,  -999.00,9,   4.7645
  58JH19990615,   75N,   541,  1,     10,2,19990703, 76.1680,  17.1110,  281,     50.0,   4.9034,  34.9971,2,  34.9971,3,   -999.0,9,     4.11,2,     9.67,2,     0.13,2,     0.68,2,    4.824,2,    2.461,2,    0.375,2,    5.696,2, -999.000, -999.000,9,-999.0000,-999.0000,9,  -999.00,  -999.00,9,   4.8996
  58JH19990615,   75N,   541,  1,      9,2,19990703, 76.1680,  17.1110,  281,     74.9,   4.9259,  35.0643,2,  35.0643,3,   -999.0,9,     4.60,2,    11.04,2,     0.16,2,     0.74,2,    4.784,2,    2.471,2,    0.364,2,    5.422,2, -999.000, -999.000,9,-999.0000,-999.0000,9,  -999.00,  -999.00,9,   4.9201
  58JH19990615,   75N,   541,  1,      8,2,19990703, 76.1680,  17.1110,  281,    100.3,   4.2859,  35.0232,2,  35.0231,3,   -999.0,9,     4.26,2,    10.95,2,     0.20,2,     0.74,2,    4.926,2,    2.539,2,    0.387,2,    5.834,2, -999.000, -999.000,9,-999.0000,-999.0000,9,  -999.00,  -999.00,9,   4.2787
  58JH19990615,   75N,   541,  1,      7,2,19990703, 76.1680,  17.1110,  281,    149.7,   3.7946,  35.0188,2,  35.0158,3,   -999.0,9,     4.77,2,    12.07,2,     0.02,2,     0.78,2,    5.016,2,    2.559,2,    0.386,2,    5.980,2, -999.000, -999.000,9,-999.0000,-999.0000,9,  -999.00,  -999.00,9,   3.7844
  58JH19990615,   75N,   541,  1,      6,2,19990703, 76.1680,  17.1110,  281,    199.9,   2.7997,  34.9804,2,  34.9804,3,   -999.0,9,     4.85,2,    11.91,2,     0.04,2,     0.79,2,    5.278,2,    2.699,2,    0.417,2,    6.456,2, -999.000, -999.000,9,-999.0000,-999.0000,9,  -999.00,  -999.00,9,   2.7876
  58JH19990615,   75N,   541,  1,      5,2,19990703, 76.1680,  17.1110,  281,    220.1,   1.9002,  34.9559,2,  34.9553,3,   -999.0,9,     4.98,2,    10.99,2,     0.13,2,     0.77,2,    5.639,2,    2.873,2,    0.445,2,    7.048,2, -999.000, -999.000,9,-999.0000,-999.0000,9,  -999.00,  -999.00,9,   1.8884
  58JH19990615,   75N,   541,  1,      4,2,19990703, 76.1680,  17.1110,  281,    239.6,   0.2608,  34.9326,2,  34.9321,3,   -999.0,9,     4.69,2,    10.30,2,     0.12,2,     0.74,2,    6.250,2,    3.091,2,    0.485,2,    8.180,2, -999.000, -999.000,9,-999.0000,-999.0000,9,  -999.00,  -999.00,9,   0.2512
  58JH19990615,   75N,   541,  1,      3,2,19990703, 76.1680,  17.1110,  281,    249.6,  -0.6618,  34.9207,2,  34.9201,3,   -999.0,9,     4.48,2,     9.65,2,     0.12,2,     0.69,2,    6.582,2,    3.245,2,    0.503,2,    8.693,2, -999.000, -999.000,9,-999.0000,-999.0000,9,  -999.00,  -999.00,9,  -0.6699
  58JH19990615,   75N,   541,  1,      2,2,19990703, 76.1680,  17.1110,  281,    259.6,  -0.9210,  34.9201,2,  34.9226,3,   -999.0,9,     4.49,2,     9.45,2,     0.12,2,     0.68,2,    6.679,2,    3.308,2,    0.520,2,    8.782,2, -999.000, -999.000,9,-999.0000,-999.0000,9,  -999.00,  -999.00,9,  -0.9288
  58JH19990615,   75N,   541,  1,      1,2,19990703, 76.1680,  17.1110,  281,    271.0,  -0.9800,  34.9199,2,  34.9180,3,   -999.0,9,     4.49,2,     9.47,2,     0.12,2,     0.68,2,    6.684,6,    3.300,6,    0.515,6,    8.858,6, -999.000, -999.000,9,-999.0000,-999.0000,9,  -999.00,  -999.00,9,  -0.9881
  58JH19990615,   75N,   542,  1,     12,2,19990703, 76.0000,  15.9993,  361,      5.2,   6.2390,-999.0000,9,  35.0090,3,   -999.0,9,     1.35,2,     1.76,2,     0.06,2,     0.16,2, -999.000,9, -999.000,9, -999.000,9, -999.000,9, -999.000, -999.000,9,-999.0000,-999.0000,9,  -999.00,  -999.00,9,-999.0000
  58JH19990615,   75N,   542,  1,     11,2,19990703, 76.0000,  15.9993,  361,      9.3,   6.2470,  35.0213,2,  35.0080,3,   -999.0,9,     1.36,2,     1.74,2,     0.05,2,     0.17,2, -999.000,9, -999.000,9, -999.000,9, -999.000,9, -999.000, -999.000,9,-999.0000,-999.0000,9,  -999.00,  -999.00,9,   6.2462
  58JH19990615,   75N,   542,  1,     10,2,19990703, 76.0000,  15.9993,  361,     20.1,   6.2010,  35.0164,2,  35.0020,3,   -999.0,9,     1.42,2,     1.83,2,     0.05,2,     0.17,2, -999.000,9, -999.000,9, -999.000,9, -999.000,9, -999.000, -999.000,9,-999.0000,-999.0000,9,  -999.00,  -999.00,9,   6.1993
  58JH19990615,   75N,   542,  1,      9,2,19990703, 76.0000,  15.9993,  361,     30.1,   6.0210,  34.9793,2,  34.9950,3,   -999.0,9,     2.01,2,     3.21,2,     0.14,2,     0.28,2, -999.000,9, -999.000,9, -999.000,9, -999.000,9, -999.000, -999.000,9,-999.0000,-999.0000,9,  -999.00,  -999.00,9,   6.0184
  58JH19990615,   75N,   542,  1,      8,2,19990703, 76.0000,  15.9993,  361,     50.4,   5.6610,  35.0280,2,  35.0070,3,   -999.0,9,     3.33,2,     7.11,2,     0.09,2,     0.54,2, -999.000,9, -999.000,9, -999.000,9, -999.000,9, -999.000, -999.000,9,-999.0000,-999.0000,9,  -999.00,  -999.00,9,   5.6568
  58JH19990615,   75N,   542,  1,      7,2,19990703, 76.0000,  15.9993,  361,     74.0,   5.3990,  35.0813,2,  35.0740,3,   -999.0,9,     4.41,2,    10.24,2,     0.09,2,     0.71,2, -999.000,9, -999.000,9, -999.000,9, -999.000,9, -999.000, -999.000,9,-999.0000,-999.0000,9,  -999.00,  -999.00,9,   5.3930
  58JH19990615,   75N,   542,  1,      6,2,19990703, 76.0000,  15.9993,  361,    100.3,   4.8830,  35.0583,2,  35.0340,3,   -999.0,9,     3.87,2,     9.08,2,     0.15,2,     0.67,2, -999.000,9, -999.000,9, -999.000,9, -999.000,9, -999.000, -999.000,9,-999.0000,-999.0000,9,  -999.00,  -999.00,9,   4.8753
  58JH19990615,   75N,   542,  1,      5,2,19990703, 76.0000,  15.9993,  361,    150.3,   4.3510,  35.0354,2,  35.0270,3,   -999.0,9,     4.48,2,    11.25,2,     0.18,2,     0.75,2, -999.000,9, -999.000,9, -999.000,9, -999.000,9, -999.000, -999.000,9,-999.0000,-999.0000,9,  -999.00,  -999.00,9,   4.3400
  58JH19990615,   75N,   542,  1,      4,2,19990703, 76.0000,  15.9993,  361,    200.7,   3.5930,  34.9952,2,  34.9930,3,   -999.0,9,     4.68,2,    11.83,2,     0.09,2,     0.78,2, -999.000,9, -999.000,9, -999.000,9, -999.000,9, -999.000, -999.000,9,-999.0000,-999.0000,9,  -999.00,  -999.00,9,   3.5795
  58JH19990615,   75N,   542,  1,      3,2,19990703, 76.0000,  15.9993,  361,    249.9,   2.8650,  34.9850,2,  34.9640,3,   -999.0,9,     4.89,2,    11.94,2,     0.06,2,     0.79,2, -999.000,9, -999.000,9, -999.000,9, -999.000,9, -999.000, -999.000,9,-999.0000,-999.0000,9,  -999.00,  -999.00,9,   2.8496
  58JH19990615,   75N,   542,  1,      2,2,19990703, 76.0000,  15.9993,  361,    299.9,   1.6350,  34.9388,2,  34.9190,3,   -999.0,9,     4.99,2,    11.44,2,     0.04,2,     0.78,2, -999.000,9, -999.000,9, -999.000,9, -999.000,9, -999.000, -999.000,9,-999.0000,-999.0000,9,  -999.00,  -999.00,9,   1.6194
  58JH19990615,   75N,   542,  1,      1,2,19990703, 76.0000,  15.9993,  361,    350.6,  -1.1120,-999.0000,9,  34.9460,3,   -999.0,9,     5.02,2,    10.10,2,     0.02,2,     0.72,2, -999.000,9, -999.000,9, -999.000,9, -999.000,9, -999.000, -999.000,9,-999.0000,-999.0000,9,  -999.00,  -999.00,9,-999.0000
  58JH19990615,   75N,   543,  1,     12,2,19990704, 75.8333,  15.1650,  372,      2.6,   6.1230,-999.0000,9,  34.9780,3,   -999.0,9,     1.59,2,     0.32,2,     0.01,2,     0.11,2, -999.000,9, -999.000,9, -999.000,9, -999.000,9, -999.000, -999.000,9,-999.0000,-999.0000,9,  -999.00,  -999.00,9,-999.0000
  58JH19990615,   75N,   543,  1,     11,2,19990704, 75.8333,  15.1650,  372,      8.9,   6.1240,  34.9847,2,  34.9800,3,   -999.0,9,     1.58,2,     0.23,2,     0.01,2,     0.08,2, -999.000,9, -999.000,9, -999.000,9, -999.000,9, -999.000, -999.000,9,-999.0000,-999.0000,9,  -999.00,  -999.00,9,   6.1232
  58JH19990615,   75N,   543,  1,     10,2,19990704, 75.8333,  15.1650,  372,     19.9,   6.1250,  34.9848,2,  34.9850,3,   -999.0,9,     1.68,2,     0.81,2,     0.02,2,     0.13,2, -999.000,9, -999.000,9, -999.000,9, -999.000,9, -999.000, -999.000,9,-999.0000,-999.0000,9,  -999.00,  -999.00,9,   6.1233
  58JH19990615,   75N,   543,  1,      9,2,19990704, 75.8333,  15.1650,  372,     30.3,   6.1280,  35.0113,2,  34.9970,3,   -999.0,9,     1.88,2,     1.84,2,     0.04,2,     0.20,2, -999.000,9, -999.000,9, -999.000,9, -999.000,9, -999.000, -999.000,9,-999.0000,-999.0000,9,  -999.00,  -999.00,9,   6.1254
  58JH19990615,   75N,   543,  1,      8,2,19990704, 75.8333,  15.1650,  372,     50.0,   6.2070,  35.0772,2,  35.0630,3,   -999.0,9,     3.09,2,     5.85,2,     0.10,2,     0.47,2, -999.000,9, -999.000,9, -999.000,9, -999.000,9, -999.000, -999.000,9,-999.0000,-999.0000,9,  -999.00,  -999.00,9,   6.2027
  58JH19990615,   75N,   543,  1,      7,2,19990704, 75.8333,  15.1650,  372,     74.5,   5.3940,  35.0780,2,  35.0610,3,   -999.0,9,     4.09,2,     8.70,2,     0.13,2,     0.65,2, -999.000,9, -999.000,9, -999.000,9, -999.000,9, -999.000, -999.000,9,-999.0000,-999.0000,9,  -999.00,  -999.00,9,   5.3880
  58JH19990615,   75N,   543,  1,      6,2,19990704, 75.8333,  15.1650,  372,     99.8,   4.7780,  35.0483,2,  35.0350,3,   -999.0,9,     4.32,2,    10.37,2,     0.13,2,     0.73,2, -999.000,9, -999.000,9, -999.000,9, -999.000,9, -999.000, -999.000,9,-999.0000,-999.0000,9,  -999.00,  -999.00,9,   4.7704
  58JH19990615,   75N,   543,  1,      5,2,19990704, 75.8333,  15.1650,  372,    149.7,   4.2990,  35.0500,2,  35.0460,3,   -999.0,9,     4.80,2,    11.51,2,     0.17,2,     0.77,2, -999.000,9, -999.000,9, -999.000,9, -999.000,9, -999.000, -999.000,9,-999.0000,-999.0000,9,  -999.00,  -999.00,9,   4.2881
  58JH19990615,   75N,   543,  1,      4,2,19990704, 75.8333,  15.1650,  372,    200.0,   3.7100,  35.0364,2,  35.0310,3,   -999.0,9,     5.06,2,    12.15,2,     0.05,2,     0.80,2, -999.000,9, -999.000,9, -999.000,9, -999.000,9, -999.000, -999.000,9,-999.0000,-999.0000,9,  -999.00,  -999.00,9,   3.6964
  58JH19990615,   75N,   543,  1,      3,2,19990704, 75.8333,  15.1650,  372,    250.6,   3.2700,  35.0142,2,  35.0060,3,   -999.0,9,     4.99,2,    12.04,2,     0.06,2,     0.81,2, -999.000,9, -999.000,9, -999.000,9, -999.000,9, -999.000, -999.000,9,-999.0000,-999.0000,9,  -999.00,  -999.00,9,   3.2537
  58JH19990615,   75N,   543,  1,      2,2,19990704, 75.8333,  15.1650,  372,    300.5,   1.5460,  34.9487,2,  34.9400,3,   -999.0,9,     5.01,2,    11.36,2,     0.06,2,     0.78,2, -999.000,9, -999.000,9, -999.000,9, -999.000,9, -999.000, -999.000,9,-999.0000,-999.0000,9,  -999.00,  -999.00,9,   1.5306
  58JH19990615,   75N,   543,  1,      1,2,19990704, 75.8333,  15.1650,  372,    361.5,  -1.0730,  34.9413,2,  34.9370,3,   -999.0,9,     4.91,2,     9.94,2,     0.07,2,     0.72,2, -999.000,9, -999.000,9, -999.000,9, -999.000,9, -999.000, -999.000,9,-999.0000,-999.0000,9,  -999.00,  -999.00,9,  -1.0838
  58JH19990615,   75N,   544,  1,     12,2,19990704, 75.6340,  13.6610,  950,     10.1,   6.7627,  35.1069,2,  35.1069,3,    311.6,2,     2.53,2,     5.72,2,     0.10,2,     0.40,2,    4.602,2,    2.395,2,    0.369,2,    5.838,2, -999.000, -999.000,9,-999.0000,-999.0000,9,  -999.00,  -999.00,9,   6.7618
  58JH19990615,   75N,   544,  1,     11,2,19990704, 75.6340,  13.6610,  950,     19.9,   6.7550,  35.1067,2,  35.1067,3,    316.4,2,     2.54,2,     5.76,2,     0.10,2,     0.40,2,    4.640,2,    2.386,2,    0.376,2,    5.754,2, -999.000, -999.000,9,-999.0000,-999.0000,9,  -999.00,  -999.00,9,   6.7532
  58JH19990615,   75N,   544,  1,     10,2,19990704, 75.6340,  13.6610,  950,     31.0,   6.7461,  35.1066,2,  35.1066,3,    310.8,2,     2.87,2,     6.16,2,     0.10,2,     0.44,2,    4.654,2,    2.359,2,    0.375,2,    5.766,2, -999.000, -999.000,9,-999.0000,-999.0000,9,  -999.00,  -999.00,9,   6.7433
  58JH19990615,   75N,   544,  1,      9,2,19990704, 75.6340,  13.6610,  950,     50.5,   6.0638,  35.1056,2,  35.1055,3,    306.8,2,     4.07,2,     7.77,2,     0.11,2,     0.59,2,    4.768,2,    2.479,2,    0.375,2,    5.737,2, -999.000, -999.000,9,-999.0000,-999.0000,9,  -999.00,  -999.00,9,   6.0595
  58JH19990615,   75N,   544,  1,      8,2,19990704, 75.6340,  13.6610,  950,     74.5,   5.4626,  35.0999,2,  35.0999,3,    297.7,2,     4.91,2,    10.90,2,     0.09,2,     0.75,2,    4.751,2,    2.436,2,    0.369,2,    5.277,2, -999.000, -999.000,9,-999.0000,-999.0000,9,  -999.00,  -999.00,9,   5.4565
  58JH19990615,   75N,   544,  1,      7,2,19990704, 75.6340,  13.6610,  950,    101.5,   5.0454,  35.0962,2,  35.0963,3,    298.1,2,     5.06,2,    11.60,2,     0.13,2,     0.78,2,    4.864,2,    2.446,2,    0.370,2,    5.500,2, -999.000, -999.000,9,-999.0000,-999.0000,9,  -999.00,  -999.00,9,   5.0375
  58JH19990615,   75N,   544,  1,      6,2,19990704, 75.6340,  13.6610,  950,    151.3,   4.4439,  35.0772,2,  35.0776,3,    303.8,2,     5.12,2,    11.48,2,     0.13,2,     0.79,2,    4.923,2,    2.539,2,    0.383,2,    5.887,2, -999.000, -999.000,9,-999.0000,-999.0000,9,  -999.00,  -999.00,9,   4.4328
  58JH19990615,   75N,   544,  1,      5,2,19990704, 75.6340,  13.6610,  950,    201.9,   4.0215,  35.0708,2,  35.0700,3,    305.1,2,     5.15,2,    12.21,2,     0.01,2,     0.81,2,    5.013,2,    2.568,2,    0.383,2,    6.035,2, -999.000, -999.000,9,-999.0000,-999.0000,9,  -999.00,  -999.00,9,   4.0072
  58JH19990615,   75N,   544,  1,      4,2,19990704, 75.6340,  13.6610,  950,    300.7,   3.4312,  35.0484,2,  35.0480,3,    308.2,2,     5.25,2,    12.46,2,     0.01,2,     0.82,2,    5.097,2,    2.585,2,    0.386,2,    6.198,2, -999.000, -999.000,9,-999.0000,-999.0000,9,  -999.00,  -999.00,9,   3.4112
  58JH19990615,   75N,   544,  1,      3,2,19990704, 75.6340,  13.6610,  950,    498.8,   1.9337,  34.9764,2,  34.9764,3,    308.6,2,     6.06,2,    12.97,2,     0.02,2,     0.84,2,    4.993,2,    2.493,2,    0.373,2,    6.124,2, -999.000, -999.000,9,-999.0000,-999.0000,9,  -999.00,  -999.00,9,   1.9057
  58JH19990615,   75N,   544,  1,      2,2,19990704, 75.6340,  13.6610,  950,    799.8,  -0.4914,  34.9023,2,  34.9023,3,    299.5,2,     9.63,2,    14.78,2,     0.00,2,     1.00,2,    2.179,2,    1.005,2,    0.116,2,    3.465,2, -999.000, -999.000,9,-999.0000,-999.0000,9,  -999.00,  -999.00,9,  -0.5225
  58JH19990615,   75N,   544,  1,      1,2,19990704, 75.6340,  13.6610,  950,    940.4,  -0.7600,  34.9080,2,  34.9060,3,    298.6,2,    11.16,2,    15.05,2,     0.00,2,     1.03,2,    1.238,6,    0.553,6,    0.032,6,    2.630,6, -999.000, -999.000,9,-999.0000,-999.0000,9,  -999.00,  -999.00,9,  -0.7956