BOTTLE,20090622PRINUNIVRMK
EXPOCODE,SECT_ID,STNNBR,CASTNO,BTLNBR,BTLNBR_FLAG_W,DATE,LATITUDE,LONGITUDE,DEPTH,CTDPRS,CTDTMP,CTDSAL,CTDSAL_FLAG_W,SALNTY,SALNTY_FLAG_W,OXYGEN,OXYGEN_FLAG_W,SILCAT,SILCAT_FLAG_W,NITRAT,NITRAT_FLAG_W,NITRIT,NITRIT_FLAG_W,PHSPHT,PHSPHT_FLAG_W,CFC-11,CFC-11_FLAG_W,CFC-12,CFC-12_FLAG_W,CFC113,CFC113_FLAG_W,CCL4,CCL4_FLAG_W,TRITUM,TRITER,TRITUM_FLAG_W,HELIUM,HELIER,HELIUM_FLAG_W,DELHE3,DELHER,DELHE3_FLAG_W,THETA
,,,,,,,,,METERS,DBARS,ITS-90,PSS-78,,PSS-78,,UMOL/KG,,UMOL/KG,,UMOL/KG,,UMOL/KG,,UMOL/KG,,PMOL/KG,,PMOL/KG,,PMOL/KG,,PMOL/KG,,TU,TU,,NMOL/KG,NMOL/KG,,PERCNT,PERCNT,,DEGC
  58JH19990615,   75N,   522,  1,     11,2,19990701, 71.5000,  19.7978,  334,      4.7,   9.4360,  34.6633,2,  34.6540,3,    311.3,2,     0.26,2,     0.04,2,     0.00,2,     0.03,2, -999.000,9, -999.000,9, -999.000,9, -999.000,9, -999.000, -999.000,9,-999.0000,-999.0000,9,  -999.00,  -999.00,9,   9.4355
  58JH19990615,   75N,   522,  1,     10,2,19990701, 71.5000,  19.7978,  334,     10.2,   9.4250,  34.6629,2,  34.6520,3,    312.6,2,     0.26,2,     0.05,2,     0.00,2,     0.03,2, -999.000,9, -999.000,9, -999.000,9, -999.000,9, -999.000, -999.000,9,-999.0000,-999.0000,9,  -999.00,  -999.00,9,   9.4239
  58JH19990615,   75N,   522,  1,      9,2,19990701, 71.5000,  19.7978,  334,     19.6,   8.9830,  34.6538,2,  34.6380,3,    316.5,2,     0.35,2,     0.36,2,     0.01,2,     0.08,2, -999.000,9, -999.000,9, -999.000,9, -999.000,9, -999.000, -999.000,9,-999.0000,-999.0000,9,  -999.00,  -999.00,9,   8.9809
  58JH19990615,   75N,   522,  1,      8,2,19990701, 71.5000,  19.7978,  334,     30.5,   7.7030,  34.6774,2,  34.6830,3,    293.8,2,     2.16,2,     3.92,2,     0.12,2,     0.37,2, -999.000,9, -999.000,9, -999.000,9, -999.000,9, -999.000, -999.000,9,-999.0000,-999.0000,9,  -999.00,  -999.00,9,   7.7000
  58JH19990615,   75N,   522,  1,      7,2,19990701, 71.5000,  19.7978,  334,     50.3,   7.0710,  34.7383,2,  34.7230,3,    288.6,2,     3.19,2,     6.54,2,     0.16,2,     0.55,2, -999.000,9, -999.000,9, -999.000,9, -999.000,9, -999.000, -999.000,9,-999.0000,-999.0000,9,  -999.00,  -999.00,9,   7.0663
  58JH19990615,   75N,   522,  1,      6,2,19990701, 71.5000,  19.7978,  334,     74.9,   6.4130,  34.9221,2,  34.9160,3,    283.3,2,     4.06,2,    10.81,2,     0.01,2,     0.71,2, -999.000,9, -999.000,9, -999.000,9, -999.000,9, -999.000, -999.000,9,-999.0000,-999.0000,9,  -999.00,  -999.00,9,   6.4064
  58JH19990615,   75N,   522,  1,      5,2,19990701, 71.5000,  19.7978,  334,    100.2,   6.3090,  34.9739,2,  34.9760,3,    282.9,2,     4.38,2,    11.38,2,     0.00,2,     0.74,2, -999.000,9, -999.000,9, -999.000,9, -999.000,9, -999.000, -999.000,9,-999.0000,-999.0000,9,  -999.00,  -999.00,9,   6.3002
  58JH19990615,   75N,   522,  1,      4,2,19990701, 71.5000,  19.7978,  334,    124.7,   6.2720,  35.0215,2,  35.0230,3,    282.9,2,     4.65,2,    11.89,2,     0.00,2,     0.77,2, -999.000,9, -999.000,9, -999.000,9, -999.000,9, -999.000, -999.000,9,-999.0000,-999.0000,9,  -999.00,  -999.00,9,   6.2611
  58JH19990615,   75N,   522,  1,      3,2,19990701, 71.5000,  19.7978,  334,    150.0,   6.2160,  35.0543,2,  35.0540,3,    282.4,2,     5.00,2,    12.16,2,     0.00,2,     0.79,2, -999.000,9, -999.000,9, -999.000,9, -999.000,9, -999.000, -999.000,9,-999.0000,-999.0000,9,  -999.00,  -999.00,9,   6.2029
  58JH19990615,   75N,   522,  1,      2,2,19990701, 71.5000,  19.7978,  334,    200.5,   6.0670,  35.0791,2,  35.0720,3,    278.9,2,     5.77,2,    12.66,2,     0.01,2,     0.83,2, -999.000,9, -999.000,9, -999.000,9, -999.000,9, -999.000, -999.000,9,-999.0000,-999.0000,9,  -999.00,  -999.00,9,   6.0496
  58JH19990615,   75N,   522,  1,      1,2,19990701, 71.5000,  19.7978,  334,    227.5,   6.0500,-999.0000,9,  35.0740,3,    279.4,2,     5.84,2,    12.75,2,     0.01,2,     0.84,2, -999.000,9, -999.000,9, -999.000,9, -999.000,9, -999.000, -999.000,9,-999.0000,-999.0000,9,  -999.00,  -999.00,9,-999.0000
  58JH19990615,   75N,   523,  1,     11,2,19990702, 71.7502,  19.7315,  378,      4.6,   9.0410,  34.8942,2,  34.8860,3,    304.7,2,     0.90,2,     0.63,2,     0.01,2,     0.12,2, -999.000,9, -999.000,9, -999.000,9, -999.000,9, -999.000, -999.000,9,-999.0000,-999.0000,9,  -999.00,  -999.00,9,   9.0405
  58JH19990615,   75N,   523,  1,     10,2,19990702, 71.7502,  19.7315,  378,      9.4,   9.0010,  34.8949,2,  34.8800,3,    306.4,2,     0.84,2,     0.58,2,     0.01,2,     0.10,2, -999.000,9, -999.000,9, -999.000,9, -999.000,9, -999.000, -999.000,9,-999.0000,-999.0000,9,  -999.00,  -999.00,9,   9.0000
  58JH19990615,   75N,   523,  1,      9,2,19990702, 71.7502,  19.7315,  378,     20.5,   8.7810,  34.8858,2,  34.8690,3,    305.1,2,     1.24,2,     1.38,2,     0.04,2,     0.16,2, -999.000,9, -999.000,9, -999.000,9, -999.000,9, -999.000, -999.000,9,-999.0000,-999.0000,9,  -999.00,  -999.00,9,   8.7788
  58JH19990615,   75N,   523,  1,      8,2,19990702, 71.7502,  19.7315,  378,     30.0,   7.6240,  34.8730,2,  34.8690,3,    300.3,2,     2.12,2,     3.07,2,     0.09,2,     0.31,2, -999.000,9, -999.000,9, -999.000,9, -999.000,9, -999.000, -999.000,9,-999.0000,-999.0000,9,  -999.00,  -999.00,9,   7.6211
  58JH19990615,   75N,   523,  1,      7,2,19990702, 71.7502,  19.7315,  378,     49.6,   6.8420,  34.9610,2,  35.0010,3,    282.4,2,     3.95,2,     8.66,2,     0.11,2,     0.67,2, -999.000,9, -999.000,9, -999.000,9, -999.000,9, -999.000, -999.000,9,-999.0000,-999.0000,9,  -999.00,  -999.00,9,   6.8375
  58JH19990615,   75N,   523,  1,      6,2,19990702, 71.7502,  19.7315,  378,     75.2,   6.5400,  35.0539,2,  35.0490,3,    281.1,2,     3.81,2,    10.21,2,     0.19,2,     0.71,2, -999.000,9, -999.000,9, -999.000,9, -999.000,9, -999.000, -999.000,9,-999.0000,-999.0000,9,  -999.00,  -999.00,9,   6.5333
  58JH19990615,   75N,   523,  1,      5,2,19990702, 71.7502,  19.7315,  378,     99.9,   6.5180,  35.0986,2,  35.0910,3,    282.0,2,     4.45,2,    11.77,2,     0.03,2,     0.77,2, -999.000,9, -999.000,9, -999.000,9, -999.000,9, -999.000, -999.000,9,-999.0000,-999.0000,9,  -999.00,  -999.00,9,   6.5091
  58JH19990615,   75N,   523,  1,      4,2,19990702, 71.7502,  19.7315,  378,    124.8,   6.2920,  35.1074,2,  35.0850,3,    292.9,2,     4.63,2,    11.92,2,     0.01,2,     0.78,2, -999.000,9, -999.000,9, -999.000,9, -999.000,9, -999.000, -999.000,9,-999.0000,-999.0000,9,  -999.00,  -999.00,9,   6.2810
  58JH19990615,   75N,   523,  1,      3,2,19990702, 71.7502,  19.7315,  378,    150.4,   6.2640,  35.1114,2,  35.1130,3,    282.4,2,     4.60,2,    12.14,2,     0.03,2,     0.77,2, -999.000,9, -999.000,9, -999.000,9, -999.000,9, -999.000, -999.000,9,-999.0000,-999.0000,9,  -999.00,  -999.00,9,   6.2508
  58JH19990615,   75N,   523,  1,      2,2,19990702, 71.7502,  19.7315,  378,    199.5,   5.9980,  35.1121,2,  35.1050,3,    285.0,2,     4.86,2,    12.22,2,     0.04,2,     0.79,2, -999.000,9, -999.000,9, -999.000,9, -999.000,9, -999.000, -999.000,9,-999.0000,-999.0000,9,  -999.00,  -999.00,9,   5.9808
  58JH19990615,   75N,   523,  1,      1,2,19990702, 71.7502,  19.7315,  378,    254.3,   5.5670,-999.0000,9,  35.0970,3,    285.0,2,     5.30,2,    12.56,2,     0.05,2,     0.82,2, -999.000,9, -999.000,9, -999.000,9, -999.000,9, -999.000, -999.000,9,-999.0000,-999.0000,9,  -999.00,  -999.00,9,-999.0000
  58JH19990615,   75N,   524,  1,     12,2,19990702, 72.0000,  19.6827,  378,      4.5,   8.7980,  34.9359,2,  34.9270,3,    302.5,2,     1.28,2,     1.52,2,     0.04,2,     0.18,2, -999.000,9, -999.000,9, -999.000,9, -999.000,9, -999.000, -999.000,9,-999.0000,-999.0000,9,  -999.00,  -999.00,9,   8.7975
  58JH19990615,   75N,   524,  1,     11,2,19990702, 72.0000,  19.6827,  378,     11.0,   8.6150,  34.9396,2,  34.9390,3,    305.6,2,     1.27,2,     1.76,2,     0.04,2,     0.19,2, -999.000,9, -999.000,9, -999.000,9, -999.000,9, -999.000, -999.000,9,-999.0000,-999.0000,9,  -999.00,  -999.00,9,   8.6138
  58JH19990615,   75N,   524,  1,     10,2,19990702, 72.0000,  19.6827,  378,     19.3,   8.4780,  34.9547,2,  34.9470,3,    305.1,2,     1.35,2,     2.07,2,     0.04,2,     0.21,2, -999.000,9, -999.000,9, -999.000,9, -999.000,9, -999.000, -999.000,9,-999.0000,-999.0000,9,  -999.00,  -999.00,9,   8.4760
  58JH19990615,   75N,   524,  1,      9,2,19990702, 72.0000,  19.6827,  378,     30.5,   8.1480,  34.9596,2,  34.9540,3,    307.7,2,     1.85,2,     2.76,2,     0.08,2,     0.26,2, -999.000,9, -999.000,9, -999.000,9, -999.000,9, -999.000, -999.000,9,-999.0000,-999.0000,9,  -999.00,  -999.00,9,   8.1449
  58JH19990615,   75N,   524,  1,      8,2,19990702, 72.0000,  19.6827,  378,     50.8,   6.7380,  35.0393,2,  35.0580,3,    303.4,2,     3.09,2,     5.39,2,     0.11,2,     0.49,2, -999.000,9, -999.000,9, -999.000,9, -999.000,9, -999.000, -999.000,9,-999.0000,-999.0000,9,  -999.00,  -999.00,9,   6.7334
  58JH19990615,   75N,   524,  1,      7,2,19990702, 72.0000,  19.6827,  378,     74.6,   6.2870,  35.1038,2,  35.1060,3,    291.1,2,     3.98,2,     8.35,2,     0.12,2,     0.67,2, -999.000,9, -999.000,9, -999.000,9, -999.000,9, -999.000, -999.000,9,-999.0000,-999.0000,9,  -999.00,  -999.00,9,   6.2805
  58JH19990615,   75N,   524,  1,      6,2,19990702, 72.0000,  19.6827,  378,    100.3,   6.2030,  35.1238,2,  35.1160,3,    287.2,2,     4.36,2,    10.07,2,     0.12,2,     0.73,2, -999.000,9, -999.000,9, -999.000,9, -999.000,9, -999.000, -999.000,9,-999.0000,-999.0000,9,  -999.00,  -999.00,9,   6.1943
  58JH19990615,   75N,   524,  1,      5,2,19990702, 72.0000,  19.6827,  378,    124.9,   6.0340,  35.1243,2,  35.1190,3,    285.9,2,     4.76,2,    11.82,2,     0.10,2,     0.78,2, -999.000,9, -999.000,9, -999.000,9, -999.000,9, -999.000, -999.000,9,-999.0000,-999.0000,9,  -999.00,  -999.00,9,   6.0233
  58JH19990615,   75N,   524,  1,      4,2,19990702, 72.0000,  19.6827,  378,    150.1,   5.8880,  35.1199,2,  35.1120,3,    289.4,2,     4.74,2,    11.35,2,     0.09,2,     0.76,2, -999.000,9, -999.000,9, -999.000,9, -999.000,9, -999.000, -999.000,9,-999.0000,-999.0000,9,  -999.00,  -999.00,9,   5.8752
  58JH19990615,   75N,   524,  1,      3,2,19990702, 72.0000,  19.6827,  378,    200.2,   5.5570,  35.1076,2,  35.1020,3,    291.1,2,     4.70,2,    11.07,2,     0.11,2,     0.76,2, -999.000,9, -999.000,9, -999.000,9, -999.000,9, -999.000, -999.000,9,-999.0000,-999.0000,9,  -999.00,  -999.00,9,   5.5404
  58JH19990615,   75N,   524,  1,      2,2,19990702, 72.0000,  19.6827,  378,    250.0,   5.3290,  35.1018,2,  35.0940,3,    292.0,2,     5.23,2,    12.46,2,     0.04,2,     0.82,2, -999.000,9, -999.000,9, -999.000,9, -999.000,9, -999.000, -999.000,9,-999.0000,-999.0000,9,  -999.00,  -999.00,9,   5.3087
  58JH19990615,   75N,   524,  1,      1,2,19990702, 72.0000,  19.6827,  378,    303.0,   4.7270,  35.0749,2,  35.0750,3,    288.1,2,     5.65,2,    12.58,2,     0.06,2,     0.85,2, -999.000,9, -999.000,9, -999.000,9, -999.000,9, -999.000, -999.000,9,-999.0000,-999.0000,9,  -999.00,  -999.00,9,   4.7037
  58JH19990615,   75N,   525,  1,     12,2,19990702, 72.2483,  19.6117,  423,      3.8,   8.3090,-999.0000,9,  34.9860,3,    304.2,2,     1.27,2,     2.36,2,     0.07,2,     0.22,2, -999.000,9, -999.000,9, -999.000,9, -999.000,9, -999.000, -999.000,9,-999.0000,-999.0000,9,  -999.00,  -999.00,9,-999.0000
  58JH19990615,   75N,   525,  1,     11,2,19990702, 72.2483,  19.6117,  423,      9.7,   8.3020,  34.9990,2,  34.9920,3,    303.8,2,     1.42,2,     2.55,2,     0.07,2,     0.23,2, -999.000,9, -999.000,9, -999.000,9, -999.000,9, -999.000, -999.000,9,-999.0000,-999.0000,9,  -999.00,  -999.00,9,   8.3010
  58JH19990615,   75N,   525,  1,     10,2,19990702, 72.2483,  19.6117,  423,     18.9,   8.1900,  35.0075,2,  34.9950,3,    307.3,2,     1.58,2,     2.84,2,     0.07,2,     0.25,2, -999.000,9, -999.000,9, -999.000,9, -999.000,9, -999.000, -999.000,9,-999.0000,-999.0000,9,  -999.00,  -999.00,9,   8.1881
  58JH19990615,   75N,   525,  1,      9,2,19990702, 72.2483,  19.6117,  423,     29.8,   7.5680,  35.0255,2,  35.0260,3,    308.6,2,     2.17,2,     4.45,2,     0.10,2,     0.36,2, -999.000,9, -999.000,9, -999.000,9, -999.000,9, -999.000, -999.000,9,-999.0000,-999.0000,9,  -999.00,  -999.00,9,   7.5651
  58JH19990615,   75N,   525,  1,      8,2,19990702, 72.2483,  19.6117,  423,     49.4,   6.5560,  35.0863,2,  35.0850,3,    298.1,2,     3.67,2,     6.84,2,     0.11,2,     0.60,2, -999.000,9, -999.000,9, -999.000,9, -999.000,9, -999.000, -999.000,9,-999.0000,-999.0000,9,  -999.00,  -999.00,9,   6.5516
  58JH19990615,   75N,   525,  1,      7,2,19990702, 72.2483,  19.6117,  423,     74.3,   6.2840,  35.1156,2,  35.1110,3,    290.7,2,     4.11,2,     8.73,2,     0.11,2,     0.69,2, -999.000,9, -999.000,9, -999.000,9, -999.000,9, -999.000, -999.000,9,-999.0000,-999.0000,9,  -999.00,  -999.00,9,   6.2775
  58JH19990615,   75N,   525,  1,      6,2,19990702, 72.2483,  19.6117,  423,    100.0,   6.1550,  35.1294,2,  35.1200,3,    286.3,2,     4.57,2,    10.94,2,     0.10,2,     0.75,2, -999.000,9, -999.000,9, -999.000,9, -999.000,9, -999.000, -999.000,9,-999.0000,-999.0000,9,  -999.00,  -999.00,9,   6.1463
  58JH19990615,   75N,   525,  1,      5,2,19990702, 72.2483,  19.6117,  423,    124.4,   6.0000,  35.1232,2,  35.1160,3,    287.2,2,     4.75,2,    11.31,2,     0.09,2,     0.77,2, -999.000,9, -999.000,9, -999.000,9, -999.000,9, -999.000, -999.000,9,-999.0000,-999.0000,9,  -999.00,  -999.00,9,   5.9893
  58JH19990615,   75N,   525,  1,      4,2,19990702, 72.2483,  19.6117,  423,    149.9,   5.8720,  35.1237,2,  35.1170,3,    289.4,2,     4.79,2,    11.93,2,     0.08,2,     0.78,2, -999.000,9, -999.000,9, -999.000,9, -999.000,9, -999.000, -999.000,9,-999.0000,-999.0000,9,  -999.00,  -999.00,9,   5.8593
  58JH19990615,   75N,   525,  1,      3,2,19990702, 72.2483,  19.6117,  423,    200.2,   5.5260,  35.1070,2,  35.0990,3,    292.0,2,     4.96,2,    11.89,2,     0.05,2,     0.78,2, -999.000,9, -999.000,9, -999.000,9, -999.000,9, -999.000, -999.000,9,-999.0000,-999.0000,9,  -999.00,  -999.00,9,   5.5095
  58JH19990615,   75N,   525,  1,      2,2,19990702, 72.2483,  19.6117,  423,    244.1,   5.0850,  35.0945,2,  35.0840,3,    289.0,2,     5.47,2,    12.64,2,     0.06,2,     0.83,2, -999.000,9, -999.000,9, -999.000,9, -999.000,9, -999.000, -999.000,9,-999.0000,-999.0000,9,  -999.00,  -999.00,9,   5.0656
  58JH19990615,   75N,   525,  1,      1,2,19990702, 72.2483,  19.6117,  423,    314.6,   3.7780,  35.0485,2,  35.0480,3,    291.6,2,     6.04,2,    12.81,2,     0.04,2,     0.88,2, -999.000,9, -999.000,9, -999.000,9, -999.000,9, -999.000, -999.000,9,-999.0000,-999.0000,9,  -999.00,  -999.00,9,   3.7561
  58JH19990615,   75N,   526,  1,     12,2,19990702, 72.5000,  19.5623,  423,      2.9,   8.1900,-999.0000,9,  35.0180,3,    302.1,2,     2.54,2,     3.01,2,     0.09,2,     0.30,2, -999.000,9, -999.000,9, -999.000,9, -999.000,9, -999.000, -999.000,9,-999.0000,-999.0000,9,  -999.00,  -999.00,9,-999.0000
  58JH19990615,   75N,   526,  1,     11,2,19990702, 72.5000,  19.5623,  423,      9.4,   8.1799,  35.0353,2,  35.0353,3,    301.2,2,     2.53,2,     3.05,2,     0.09,2,     0.30,2,    4.432,2,    2.342,2,    0.348,2,    5.240,2, -999.000, -999.000,9,-999.0000,-999.0000,9,  -999.00,  -999.00,9,   8.1789
  58JH19990615,   75N,   526,  1,     10,2,19990702, 72.5000,  19.5623,  423,     19.9,   8.1660,  35.0390,2,  35.0390,3,    307.7,2,     2.68,2,     3.17,2,     0.10,2,     0.33,2,    4.509,2,    2.423,2,    0.362,2,    5.246,2, -999.000, -999.000,9,-999.0000,-999.0000,9,  -999.00,  -999.00,9,   8.1640
  58JH19990615,   75N,   526,  1,      9,2,19990702, 72.5000,  19.5623,  423,     29.9,   7.0987,  35.0710,2,  35.0710,3,    309.0,2,     3.18,2,     4.12,2,     0.10,2,     0.41,2,    4.613,2,    2.441,2,    0.362,2,    5.379,2, -999.000, -999.000,9,-999.0000,-999.0000,9,  -999.00,  -999.00,9,   7.0959
  58JH19990615,   75N,   526,  1,      8,2,19990702, 72.5000,  19.5623,  423,     50.2,   6.4291,  35.0951,2,  35.0951,3,    304.7,2,     3.78,2,     6.33,2,     0.11,2,     0.58,2,    4.626,2,    2.430,2,    0.358,2,    4.989,2, -999.000, -999.000,9,-999.0000,-999.0000,9,  -999.00,  -999.00,9,   6.4247
  58JH19990615,   75N,   526,  1,      7,2,19990702, 72.5000,  19.5623,  423,     73.5,   6.0272,  35.1164,2,  35.1164,3,    293.8,2,     4.42,2,     9.79,2,     0.11,2,     0.71,2,    4.566,2,    2.428,2,    0.359,2,    4.630,2, -999.000, -999.000,9,-999.0000,-999.0000,9,  -999.00,  -999.00,9,   6.0209
  58JH19990615,   75N,   526,  1,      6,2,19990702, 72.5000,  19.5623,  423,     99.4,   5.8459,  35.1170,2,  35.1170,3,    292.9,2,     4.57,2,    10.23,2,     0.10,2,     0.73,2,    4.582,2,    2.246,2,    0.365,2,    4.683,2, -999.000, -999.000,9,-999.0000,-999.0000,9,  -999.00,  -999.00,9,   5.8376
  58JH19990615,   75N,   526,  1,      5,2,19990702, 72.5000,  19.5623,  423,    149.3,   5.4851,  35.1063,2,  35.1061,3,    292.9,2,     4.64,2,    10.90,2,     0.12,2,     0.81,2,    4.652,2,    2.485,2,    0.375,2,    4.710,2, -999.000, -999.000,9,-999.0000,-999.0000,9,  -999.00,  -999.00,9,   5.4729
  58JH19990615,   75N,   526,  1,      4,2,19990702, 72.5000,  19.5623,  423,    199.6,   5.2242,  35.0996,2,  35.0997,3,    292.0,2,     5.00,2,    12.19,2,     0.10,2,     0.79,2,    4.631,2,    2.449,2,    0.377,2,    4.959,2, -999.000, -999.000,9,-999.0000,-999.0000,9,  -999.00,  -999.00,9,   5.2082
  58JH19990615,   75N,   526,  1,      3,2,19990702, 72.5000,  19.5623,  423,    249.7,   4.8197,  35.0877,2,  35.0877,3,    297.7,2,     5.06,2,    12.14,2,     0.03,2,     0.79,2,    4.811,2,    2.541,2,    0.404,2,    5.143,2, -999.000, -999.000,9,-999.0000,-999.0000,9,  -999.00,  -999.00,9,   4.8004
  58JH19990615,   75N,   526,  1,      2,2,19990702, 72.5000,  19.5623,  423,    299.0,   4.2205,  35.0673,2,  35.0671,3,    299.0,2,     5.28,2,    12.34,2,     0.01,2,     0.84,2,    4.896,6,    2.596,6,    0.387,6,    5.329,6, -999.000, -999.000,9,-999.0000,-999.0000,9,  -999.00,  -999.00,9,   4.1987
  58JH19990615,   75N,   526,  1,      1,2,19990702, 72.5000,  19.5623,  423,    375.0,   3.0320,  35.0409,2,  35.0420,3,    296.8,2,  -999.00,9,  -999.00,9,  -999.00,9,  -999.00,9,    4.812,6,    2.548,6,    0.379,6,    5.565,6, -999.000, -999.000,9,-999.0000,-999.0000,9,  -999.00,  -999.00,9,   3.0079