BOTTLE,20090622PRINUNIVRMK
EXPOCODE,SECT_ID,STNNBR,CASTNO,BTLNBR,BTLNBR_FLAG_W,DATE,LATITUDE,LONGITUDE,DEPTH,CTDPRS,CTDTMP,CTDSAL,CTDSAL_FLAG_W,SALNTY,SALNTY_FLAG_W,OXYGEN,OXYGEN_FLAG_W,SILCAT,SILCAT_FLAG_W,NITRAT,NITRAT_FLAG_W,NITRIT,NITRIT_FLAG_W,PHSPHT,PHSPHT_FLAG_W,CFC-11,CFC-11_FLAG_W,CFC-12,CFC-12_FLAG_W,CFC113,CFC113_FLAG_W,CCL4,CCL4_FLAG_W,TRITUM,TRITER,TRITUM_FLAG_W,HELIUM,HELIER,HELIUM_FLAG_W,DELHE3,DELHER,DELHE3_FLAG_W,THETA
,,,,,,,,,METERS,DBARS,ITS-90,PSS-78,,PSS-78,,UMOL/KG,,UMOL/KG,,UMOL/KG,,UMOL/KG,,UMOL/KG,,PMOL/KG,,PMOL/KG,,PMOL/KG,,PMOL/KG,,TU,TU,,NMOL/KG,NMOL/KG,,PERCNT,PERCNT,,DEGC
  58JH19990615,   75N,   532,  1,     11,2,19990702, 73.8333,  19.2642,  235,      5.9,   6.1850,-999.0000,9,  35.0160,3,    371.4,2,     2.19,2,     0.06,2,     0.00,2,     0.08,2, -999.000,9, -999.000,9, -999.000,9, -999.000,9, -999.000, -999.000,9,-999.0000,-999.0000,9,  -999.00,  -999.00,9,-999.0000
  58JH19990615,   75N,   532,  1,     10,2,19990702, 73.8333,  19.2642,  235,     10.3,   6.1940,  35.0399,2,  35.0070,3,    370.1,2,     2.28,2,     0.18,2,     0.00,2,     0.10,2, -999.000,9, -999.000,9, -999.000,9, -999.000,9, -999.000, -999.000,9,-999.0000,-999.0000,9,  -999.00,  -999.00,9,   6.1931
  58JH19990615,   75N,   532,  1,      9,2,19990702, 73.8333,  19.2642,  235,     21.5,   4.8650,  35.0345,2,  35.0110,3,    313.0,2,     3.86,2,     7.91,2,     0.11,2,     0.61,2, -999.000,9, -999.000,9, -999.000,9, -999.000,9, -999.000, -999.000,9,-999.0000,-999.0000,9,  -999.00,  -999.00,9,   4.8634
  58JH19990615,   75N,   532,  1,      8,2,19990702, 73.8333,  19.2642,  235,     30.8,   4.1980,  35.0488,2,  35.0340,3,    308.6,2,     4.18,2,     9.74,2,     0.13,2,     0.71,2, -999.000,9, -999.000,9, -999.000,9, -999.000,9, -999.000, -999.000,9,-999.0000,-999.0000,9,  -999.00,  -999.00,9,   4.1958
  58JH19990615,   75N,   532,  1,      7,2,19990702, 73.8333,  19.2642,  235,     51.0,   3.6820,  35.0444,2,  35.0330,3,    306.8,2,     4.67,2,    11.18,2,     0.17,2,     0.78,2, -999.000,9, -999.000,9, -999.000,9, -999.000,9, -999.000, -999.000,9,-999.0000,-999.0000,9,  -999.00,  -999.00,9,   3.6786
  58JH19990615,   75N,   532,  1,      6,2,19990702, 73.8333,  19.2642,  235,     74.8,   3.0860,  35.0327,2,  35.0250,3,    310.8,2,     4.77,2,    11.14,2,     0.16,2,     0.77,2, -999.000,9, -999.000,9, -999.000,9, -999.000,9, -999.000, -999.000,9,-999.0000,-999.0000,9,  -999.00,  -999.00,9,   3.0814
  58JH19990615,   75N,   532,  1,      5,2,19990702, 73.8333,  19.2642,  235,    101.1,   2.7650,  35.0291,2,  35.0200,3,    313.4,2,     4.87,2,    10.97,2,     0.12,2,     0.77,2, -999.000,9, -999.000,9, -999.000,9, -999.000,9, -999.000, -999.000,9,-999.0000,-999.0000,9,  -999.00,  -999.00,9,   2.7590
  58JH19990615,   75N,   532,  1,      4,2,19990702, 73.8333,  19.2642,  235,    123.7,   2.4840,  35.0301,2,  35.0230,3,    314.7,2,     5.09,2,    11.45,2,     0.11,2,     0.78,2, -999.000,9, -999.000,9, -999.000,9, -999.000,9, -999.000, -999.000,9,-999.0000,-999.0000,9,  -999.00,  -999.00,9,   2.4769
  58JH19990615,   75N,   532,  1,      3,2,19990702, 73.8333,  19.2642,  235,    151.2,   2.1530,  35.0276,2,  35.0190,3,    316.0,2,     5.41,2,    11.27,2,     0.13,2,     0.78,2, -999.000,9, -999.000,9, -999.000,9, -999.000,9, -999.000, -999.000,9,-999.0000,-999.0000,9,  -999.00,  -999.00,9,   2.1447
  58JH19990615,   75N,   532,  1,      2,2,19990702, 73.8333,  19.2642,  235,    200.2,   2.1070,  35.0249,2,  35.0190,3,    315.6,2,     5.54,2,    11.41,2,     0.13,2,     0.78,2, -999.000,9, -999.000,9, -999.000,9, -999.000,9, -999.000, -999.000,9,-999.0000,-999.0000,9,  -999.00,  -999.00,9,   2.0959
  58JH19990615,   75N,   532,  1,      1,2,19990702, 73.8333,  19.2642,  235,    225.2,   2.1080,-999.0000,9,  35.0180,3,    315.6,2,     5.56,2,    11.37,2,     0.13,2,     0.79,2, -999.000,9, -999.000,9, -999.000,9, -999.000,9, -999.000, -999.000,9,-999.0000,-999.0000,9,  -999.00,  -999.00,9,-999.0000
  58JH19990615,   75N,   533,  1,      8,2,19990702, 74.0010,  19.2150,  138,      6.0,   3.7272,  34.9161,2,  34.9161,3,    367.0,2,     2.27,2,     0.51,2,     0.01,2,     0.17,2,    5.967,2,    3.018,2,    0.446,2,    7.723,2, -999.000, -999.000,9,-999.0000,-999.0000,9,  -999.00,  -999.00,9,   3.7268
  58JH19990615,   75N,   533,  1,      7,2,19990702, 74.0010,  19.2150,  138,      9.2,   3.6489,  34.9138,2,  34.9138,3,    370.5,2,     2.28,2,     0.75,2,     0.02,2,     0.19,2,    6.046,2,    3.029,2,    0.448,2,    7.826,2, -999.000, -999.000,9,-999.0000,-999.0000,9,  -999.00,  -999.00,9,   3.6483
  58JH19990615,   75N,   533,  1,      6,2,19990702, 74.0010,  19.2150,  138,     20.2,   3.2729,  34.9186,2,  34.9186,3,    360.9,2,     2.42,2,     2.61,2,     0.06,2,     0.35,2,    6.129,2,    3.092,2,    0.452,2,    7.867,2, -999.000, -999.000,9,-999.0000,-999.0000,9,  -999.00,  -999.00,9,   3.2717
  58JH19990615,   75N,   533,  1,      5,2,19990702, 74.0010,  19.2150,  138,     30.7,   2.0258,  34.9373,2,  34.9373,3,    357.4,2,     2.52,2,     3.24,2,     0.07,2,     0.40,2,    6.103,2,    3.056,2,    0.449,2,    7.828,2, -999.000, -999.000,9,-999.0000,-999.0000,9,  -999.00,  -999.00,9,   2.0241
  58JH19990615,   75N,   533,  1,      4,2,19990702, 74.0010,  19.2150,  138,     49.7,   1.9793,  34.9457,2,  34.9457,3,    354.8,2,     2.61,2,     3.69,2,     0.07,2,     0.44,2,    6.079,2,    3.061,2,    0.453,2,    7.750,2, -999.000, -999.000,9,-999.0000,-999.0000,9,  -999.00,  -999.00,9,   1.9767
  58JH19990615,   75N,   533,  1,      3,2,19990702, 74.0010,  19.2150,  138,     74.3,   1.9764,  34.9464,2,  34.9464,3,    353.5,2,     2.64,2,     3.82,2,     0.08,2,     0.45,2,    6.088,2,    3.083,2,    0.451,2,    7.770,2, -999.000, -999.000,9,-999.0000,-999.0000,9,  -999.00,  -999.00,9,   1.9724
  58JH19990615,   75N,   533,  1,      2,2,19990702, 74.0010,  19.2150,  138,     95.2,   1.9778,  34.9479,2,  34.9479,3,    352.6,2,     2.66,2,     3.95,2,     0.08,2,     0.46,2,    6.067,2,    2.987,2,    0.453,2,    7.788,2, -999.000, -999.000,9,-999.0000,-999.0000,9,  -999.00,  -999.00,9,   1.9728
  58JH19990615,   75N,   533,  1,      1,2,19990702, 74.0010,  19.2150,  138,    128.2,   1.9780,-999.0000,9,  34.9480,3,    353.1,2,     2.69,2,     4.02,2,     0.08,2,     0.46,2,    6.051,6,    3.038,6,    0.443,6,    7.728,6, -999.000, -999.000,9,-999.0000,-999.0000,9,  -999.00,  -999.00,9,-999.0000
  58JH19990615,   75N,   534,  1,      6,2,19990702, 74.1650,  19.1773,   76,      7.1,   3.8840,  34.9274,2,  34.9170,3,    361.4,2,     2.59,2,     0.66,2,     0.03,2,     0.19,2, -999.000,9, -999.000,9, -999.000,9, -999.000,9, -999.000, -999.000,9,-999.0000,-999.0000,9,  -999.00,  -999.00,9,   3.8835
  58JH19990615,   75N,   534,  1,      5,2,19990702, 74.1650,  19.1773,   76,     11.6,   3.8650,  34.9263,2,  34.9110,3,    361.8,2,     2.56,2,     0.66,2,     0.03,2,     0.18,2, -999.000,9, -999.000,9, -999.000,9, -999.000,9, -999.000, -999.000,9,-999.0000,-999.0000,9,  -999.00,  -999.00,9,   3.8642
  58JH19990615,   75N,   534,  1,      4,2,19990702, 74.1650,  19.1773,   76,     20.8,   3.2600,  34.9229,2,  34.9150,3,    364.0,2,     2.47,2,     0.68,2,     0.03,2,     0.18,2, -999.000,9, -999.000,9, -999.000,9, -999.000,9, -999.000, -999.000,9,-999.0000,-999.0000,9,  -999.00,  -999.00,9,   3.2587
  58JH19990615,   75N,   534,  1,      3,2,19990702, 74.1650,  19.1773,   76,     31.8,   3.1240,  34.9204,2,  34.9110,3,    364.4,2,     2.41,2,     0.65,2,     0.03,2,     0.19,2, -999.000,9, -999.000,9, -999.000,9, -999.000,9, -999.000, -999.000,9,-999.0000,-999.0000,9,  -999.00,  -999.00,9,   3.1220
  58JH19990615,   75N,   534,  1,      2,2,19990702, 74.1650,  19.1773,   76,     51.2,   2.8770,  34.9136,2,  34.9010,3,    367.0,2,     2.28,2,     0.57,2,     0.02,2,     0.19,2, -999.000,9, -999.000,9, -999.000,9, -999.000,9, -999.000, -999.000,9,-999.0000,-999.0000,9,  -999.00,  -999.00,9,   2.8739
  58JH19990615,   75N,   534,  1,      1,2,19990702, 74.1650,  19.1773,   76,     65.1,   2.1330,-999.0000,9,  34.9010,3,    371.0,2,     2.05,2,     0.59,2,     0.02,2,     0.18,2, -999.000,9, -999.000,9, -999.000,9, -999.000,9, -999.000, -999.000,9,-999.0000,-999.0000,9,  -999.00,  -999.00,9,-999.0000
  58JH19990615,   75N,   535,  1,      5,2,19990702, 74.2500,  19.1630,   76,      4.7,   3.6170,  34.9197,2,  34.9120,3,    353.5,2,     2.54,2,     0.78,2,     0.04,2,     0.30,2,    5.769,6,    2.913,6,    0.428,6,    7.026,6, -999.000, -999.000,9,-999.0000,-999.0000,9,  -999.00,  -999.00,9,   3.6167
  58JH19990615,   75N,   535,  1,      4,2,19990702, 74.2500,  19.1630,   76,     11.2,   3.5893,  34.9199,2,  34.9199,3,    348.3,2,     2.54,2,     0.77,2,     0.04,2,     0.21,2,    5.764,2,    2.920,2,    0.431,2,    7.014,2, -999.000, -999.000,9,-999.0000,-999.0000,9,  -999.00,  -999.00,9,   3.5886
  58JH19990615,   75N,   535,  1,      3,2,19990702, 74.2500,  19.1630,   76,     20.9,   3.5751,  34.9200,2,  34.9200,3,    353.5,2,     2.53,2,     0.76,2,     0.03,2,     0.21,2,    5.767,2,    2.919,2,    0.429,2,    7.022,2, -999.000, -999.000,9,-999.0000,-999.0000,9,  -999.00,  -999.00,9,   3.5737
  58JH19990615,   75N,   535,  1,      2,2,19990702, 74.2500,  19.1630,   76,     30.4,   3.5664,  34.9202,2,  34.9202,3,    354.8,2,     2.53,2,     0.77,2,     0.03,2,     0.21,2,    5.787,2,    2.940,2,    0.429,2,    7.051,2, -999.000, -999.000,9,-999.0000,-999.0000,9,  -999.00,  -999.00,9,   3.5644
  58JH19990615,   75N,   535,  1,      1,2,19990702, 74.2500,  19.1630,   76,     51.8,   3.5240,  34.9207,2,  34.8990,3,    354.8,2,     2.52,2,     0.75,2,     0.03,2,     0.21,2,    5.803,2,    2.961,2,    0.436,2,    7.055,2, -999.000, -999.000,9,-999.0000,-999.0000,9,  -999.00,  -999.00,9,   3.5206
  58JH19990615,   75N,   536,  1,      6,2,19990703, 75.0000,  19.0012,   86,      4.7,   1.7870,  34.7830,2,  34.7770,3,   -999.0,9,     1.21,2,     0.01,2,     0.00,2,     0.11,2, -999.000,9, -999.000,9, -999.000,9, -999.000,9, -999.000, -999.000,9,-999.0000,-999.0000,9,  -999.00,  -999.00,9,   1.7868
  58JH19990615,   75N,   536,  1,      5,2,19990703, 75.0000,  19.0012,   86,     10.1,   1.7820,  34.7839,2,  34.7790,3,   -999.0,9,     1.22,2,     0.04,2,     0.00,2,     0.11,2, -999.000,9, -999.000,9, -999.000,9, -999.000,9, -999.000, -999.000,9,-999.0000,-999.0000,9,  -999.00,  -999.00,9,   1.7815
  58JH19990615,   75N,   536,  1,      4,2,19990703, 75.0000,  19.0012,   86,     20.1,   1.7870,  34.7858,2,  34.7780,3,   -999.0,9,     1.20,2,     0.01,2,     0.00,2,     0.09,2, -999.000,9, -999.000,9, -999.000,9, -999.000,9, -999.000, -999.000,9,-999.0000,-999.0000,9,  -999.00,  -999.00,9,   1.7860
  58JH19990615,   75N,   536,  1,      3,2,19990703, 75.0000,  19.0012,   86,     30.1,   1.7880,  34.7865,2,  34.7810,3,   -999.0,9,     1.24,2,     0.01,2,     0.00,2,     0.11,2, -999.000,9, -999.000,9, -999.000,9, -999.000,9, -999.000, -999.000,9,-999.0000,-999.0000,9,  -999.00,  -999.00,9,   1.7865
  58JH19990615,   75N,   536,  1,      2,2,19990703, 75.0000,  19.0012,   86,     51.9,   1.7900,  34.7872,2,  34.7810,3,   -999.0,9,     1.25,2,     0.01,2,     0.00,2,     0.10,2, -999.000,9, -999.000,9, -999.000,9, -999.000,9, -999.000, -999.000,9,-999.0000,-999.0000,9,  -999.00,  -999.00,9,   1.7874
  58JH19990615,   75N,   536,  1,      1,2,19990703, 75.0000,  19.0012,   86,     56.3,   1.7850,-999.0000,9,  34.7810,3,   -999.0,9,     1.25,2,     0.01,2,     0.00,2,     0.11,2, -999.000,9, -999.000,9, -999.000,9, -999.000,9, -999.000, -999.000,9,-999.0000,-999.0000,9,  -999.00,  -999.00,9,-999.0000
  58JH19990615,   75N,   537,  1,      7,2,19990703, 75.5000,  19.5058,  101,      4.7,   2.7980,-999.0000,9,  34.6370,3,   -999.0,9,     1.22,2,     0.90,2,     0.04,2,     0.19,2, -999.000,9, -999.000,9, -999.000,9, -999.000,9, -999.000, -999.000,9,-999.0000,-999.0000,9,  -999.00,  -999.00,9,-999.0000
  58JH19990615,   75N,   537,  1,      6,2,19990703, 75.5000,  19.5058,  101,     10.2,   2.7000,  34.6576,2,  34.6480,3,   -999.0,9,     1.31,2,     1.04,2,     0.05,2,     0.21,2, -999.000,9, -999.000,9, -999.000,9, -999.000,9, -999.000, -999.000,9,-999.0000,-999.0000,9,  -999.00,  -999.00,9,   2.6994
  58JH19990615,   75N,   537,  1,      5,2,19990703, 75.5000,  19.5058,  101,     20.2,   2.4040,  34.7032,2,  34.6990,3,   -999.0,9,     1.46,2,     1.25,2,     0.05,2,     0.24,2, -999.000,9, -999.000,9, -999.000,9, -999.000,9, -999.000, -999.000,9,-999.0000,-999.0000,9,  -999.00,  -999.00,9,   2.4029
  58JH19990615,   75N,   537,  1,      4,2,19990703, 75.5000,  19.5058,  101,     30.4,   2.3050,  34.7229,2,  34.7170,3,   -999.0,9,     1.50,2,     1.41,2,     0.06,2,     0.25,2, -999.000,9, -999.000,9, -999.000,9, -999.000,9, -999.000, -999.000,9,-999.0000,-999.0000,9,  -999.00,  -999.00,9,   2.3033
  58JH19990615,   75N,   537,  1,      3,2,19990703, 75.5000,  19.5058,  101,     50.3,   2.2060,  34.7335,2,  34.7270,3,   -999.0,9,     1.54,2,     1.52,2,     0.06,2,     0.26,2, -999.000,9, -999.000,9, -999.000,9, -999.000,9, -999.000, -999.000,9,-999.0000,-999.0000,9,  -999.00,  -999.00,9,   2.2033
  58JH19990615,   75N,   537,  1,      2,2,19990703, 75.5000,  19.5058,  101,     74.3,   2.0560,  34.7389,2,  34.7320,3,   -999.0,9,     1.53,2,     1.60,2,     0.06,2,     0.27,2, -999.000,9, -999.000,9, -999.000,9, -999.000,9, -999.000, -999.000,9,-999.0000,-999.0000,9,  -999.00,  -999.00,9,   2.0520
  58JH19990615,   75N,   537,  1,      1,2,19990703, 75.5000,  19.5058,  101,     79.6,   2.0240,-999.0000,9,  34.7330,3,   -999.0,9,     1.53,2,     1.59,2,     0.07,2,     0.27,2, -999.000,9, -999.000,9, -999.000,9, -999.000,9, -999.000, -999.000,9,-999.0000,-999.0000,9,  -999.00,  -999.00,9,-999.0000
  58JH19990615,   75N,   538,  1,      8,2,19990703, 76.0013,  19.6595,  139,      6.1,   3.7210,  34.2257,2,  34.2630,3,   -999.0,9,     0.46,2,     0.03,2,     0.00,2,     0.04,2, -999.000,9, -999.000,9, -999.000,9, -999.000,9, -999.000, -999.000,9,-999.0000,-999.0000,9,  -999.00,  -999.00,9,   3.7206
  58JH19990615,   75N,   538,  1,      7,2,19990703, 76.0013,  19.6595,  139,      9.8,   3.7420,  34.3517,2,  34.4150,3,   -999.0,9,     0.47,2,     0.02,2,     0.00,2,     0.03,2, -999.000,9, -999.000,9, -999.000,9, -999.000,9, -999.000, -999.000,9,-999.0000,-999.0000,9,  -999.00,  -999.00,9,   3.7414
  58JH19990615,   75N,   538,  1,      6,2,19990703, 76.0013,  19.6595,  139,     20.1,   3.3090,  34.4953,2,  34.5000,3,   -999.0,9,     0.46,2,     0.33,2,     0.01,2,     0.14,2, -999.000,9, -999.000,9, -999.000,9, -999.000,9, -999.000, -999.000,9,-999.0000,-999.0000,9,  -999.00,  -999.00,9,   3.3077
  58JH19990615,   75N,   538,  1,      5,2,19990703, 76.0013,  19.6595,  139,     30.6,   1.9120,  34.6307,2,  34.6620,3,   -999.0,9,     0.94,2,     4.11,2,     0.14,2,     0.32,2, -999.000,9, -999.000,9, -999.000,9, -999.000,9, -999.000, -999.000,9,-999.0000,-999.0000,9,  -999.00,  -999.00,9,   1.9104
  58JH19990615,   75N,   538,  1,      4,2,19990703, 76.0013,  19.6595,  139,     50.6,   2.9200,  34.9110,2,  34.9120,3,   -999.0,9,     3.00,2,    10.39,2,     0.27,2,     0.73,2, -999.000,9, -999.000,9, -999.000,9, -999.000,9, -999.000, -999.000,9,-999.0000,-999.0000,9,  -999.00,  -999.00,9,   2.9169
  58JH19990615,   75N,   538,  1,      3,2,19990703, 76.0013,  19.6595,  139,     74.8,   2.2470,  34.9052,2,  34.9000,3,   -999.0,9,     3.43,2,     9.77,2,     0.22,2,     0.72,2, -999.000,9, -999.000,9, -999.000,9, -999.000,9, -999.000, -999.000,9,-999.0000,-999.0000,9,  -999.00,  -999.00,9,   2.2429
  58JH19990615,   75N,   538,  1,      2,2,19990703, 76.0013,  19.6595,  139,    100.9,   2.1840,  34.9108,2,  34.9040,3,   -999.0,9,     3.71,2,     9.79,2,     0.21,2,     0.74,2, -999.000,9, -999.000,9, -999.000,9, -999.000,9, -999.000, -999.000,9,-999.0000,-999.0000,9,  -999.00,  -999.00,9,   2.1785
  58JH19990615,   75N,   538,  1,      1,2,19990703, 76.0013,  19.6595,  139,    116.5,   2.1610,-999.0000,9,  34.9020,3,   -999.0,9,     3.69,2,     9.72,2,     0.21,2,     0.73,2, -999.000,9, -999.000,9, -999.000,9, -999.000,9, -999.000, -999.000,9,-999.0000,-999.0000,9,  -999.00,  -999.00,9,-999.0000
  58JH19990615,   75N,   539,  1,     10,2,19990703, 76.5833,  19.9967,  211,      5.2,   1.8890,  33.5426,2,  33.5300,3,    372.2,2,     0.33,2,     0.05,2,     0.00,2,     0.06,2, -999.000,9, -999.000,9, -999.000,9, -999.000,9, -999.000, -999.000,9,-999.0000,-999.0000,9,  -999.00,  -999.00,9,   1.8887
  58JH19990615,   75N,   539,  1,      9,2,19990703, 76.5833,  19.9967,  211,     11.5,   1.4010,  33.7615,2,  33.9000,3,    393.5,2,     0.47,2,     0.23,2,     0.01,2,     0.05,2, -999.000,9, -999.000,9, -999.000,9, -999.000,9, -999.000, -999.000,9,-999.0000,-999.0000,9,  -999.00,  -999.00,9,   1.4005
  58JH19990615,   75N,   539,  1,      8,2,19990703, 76.5833,  19.9967,  211,     20.3,   0.5170,  34.2363,2,  34.5140,3,    373.7,2,     0.68,2,     1.43,2,     0.09,2,     0.13,2, -999.000,9, -999.000,9, -999.000,9, -999.000,9, -999.000, -999.000,9,-999.0000,-999.0000,9,  -999.00,  -999.00,9,   0.5162
  58JH19990615,   75N,   539,  1,      7,2,19990703, 76.5833,  19.9967,  211,     30.4,   2.8630,  34.6942,2,  34.8370,3,    325.2,2,     1.31,2,     6.92,2,     0.27,2,     0.50,2, -999.000,9, -999.000,9, -999.000,9, -999.000,9, -999.000, -999.000,9,-999.0000,-999.0000,9,  -999.00,  -999.00,9,   2.8612
  58JH19990615,   75N,   539,  1,      6,2,19990703, 76.5833,  19.9967,  211,     50.5,   3.0860,  34.8904,2,  34.8980,3,    298.6,2,     2.40,2,    10.18,2,     0.37,2,     0.73,2, -999.000,9, -999.000,9, -999.000,9, -999.000,9, -999.000, -999.000,9,-999.0000,-999.0000,9,  -999.00,  -999.00,9,   3.0829
  58JH19990615,   75N,   539,  1,      5,2,19990703, 76.5833,  19.9967,  211,     74.7,   2.8130,  34.9124,2,  34.9180,3,    300.3,2,     3.32,2,    11.64,2,     0.21,2,     0.81,2, -999.000,9, -999.000,9, -999.000,9, -999.000,9, -999.000, -999.000,9,-999.0000,-999.0000,9,  -999.00,  -999.00,9,   2.8085
  58JH19990615,   75N,   539,  1,      4,2,19990703, 76.5833,  19.9967,  211,    100.4,   1.9200,  34.8694,2,  34.8750,3,    309.1,2,     3.15,2,    11.05,2,     0.16,2,     0.76,2, -999.000,9, -999.000,9, -999.000,9, -999.000,9, -999.000, -999.000,9,-999.0000,-999.0000,9,  -999.00,  -999.00,9,   1.9147
  58JH19990615,   75N,   539,  1,      3,2,19990703, 76.5833,  19.9967,  211,    124.9,   1.3460,  34.8754,2,  34.8500,3,    313.9,2,     3.34,2,    10.97,2,     0.13,2,     0.76,2, -999.000,9, -999.000,9, -999.000,9, -999.000,9, -999.000, -999.000,9,-999.0000,-999.0000,9,  -999.00,  -999.00,9,   1.3400
  58JH19990615,   75N,   539,  1,      2,2,19990703, 76.5833,  19.9967,  211,    150.4,   0.6450,  34.8432,2,  34.8140,3,    320.8,2,     3.69,2,    10.63,2,     0.12,2,     0.74,2, -999.000,9, -999.000,9, -999.000,9, -999.000,9, -999.000, -999.000,9,-999.0000,-999.0000,9,  -999.00,  -999.00,9,   0.6386
  58JH19990615,   75N,   539,  1,      1,2,19990703, 76.5833,  19.9967,  211,    200.8,  -1.0910,-999.0000,9,  34.8710,3,    337.8,2,     4.59,2,     9.63,2,     0.11,2,     0.71,2, -999.000,9, -999.000,9, -999.000,9, -999.000,9, -999.000, -999.000,9,-999.0000,-999.0000,9,  -999.00,  -999.00,9,-999.0000