BOTTLE,20090622PRINUNIVRMK
EXPOCODE,SECT_ID,STNNBR,CASTNO,BTLNBR,BTLNBR_FLAG_W,DATE,LATITUDE,LONGITUDE,DEPTH,CTDPRS,CTDTMP,CTDSAL,CTDSAL_FLAG_W,SALNTY,SALNTY_FLAG_W,OXYGEN,OXYGEN_FLAG_W,SILCAT,SILCAT_FLAG_W,NITRAT,NITRAT_FLAG_W,NITRIT,NITRIT_FLAG_W,PHSPHT,PHSPHT_FLAG_W,CFC-11,CFC-11_FLAG_W,CFC-12,CFC-12_FLAG_W,CFC113,CFC113_FLAG_W,CCL4,CCL4_FLAG_W,TRITUM,TRITER,TRITUM_FLAG_W,HELIUM,HELIER,HELIUM_FLAG_W,DELHE3,DELHER,DELHE3_FLAG_W,THETA
,,,,,,,,,METERS,DBARS,ITS-90,PSS-78,,PSS-78,,UMOL/KG,,UMOL/KG,,UMOL/KG,,UMOL/KG,,UMOL/KG,,PMOL/KG,,PMOL/KG,,PMOL/KG,,PMOL/KG,,TU,TU,,NMOL/KG,NMOL/KG,,PERCNT,PERCNT,,DEGC
  58JH19990615,   75N,   497,  1,     12,2,19990625, 74.4988,  -3.0000, 3563,    799.0,  -0.8520,  34.8764,2,  34.8490,3,    320.4,2,     7.66,2,    13.77,2,     0.00,2,     0.92,2, -999.000,9, -999.000,9, -999.000,9, -999.000,9, -999.000, -999.000,9,-999.0000,-999.0000,9,  -999.00,  -999.00,9,  -0.8806
  58JH19990615,   75N,   497,  1,     11,2,19990625, 74.4988,  -3.0000, 3563,   1000.0,  -0.8426,  34.8828,2,  34.8807,3,    319.1,2,     8.03,2,    13.90,2,     0.00,2,     0.93,2,    3.966,2,    1.975,2,    0.280,2,    5.069,2, -999.000, -999.000,9,-999.0000,-999.0000,9,  -999.00,  -999.00,9,  -0.8803
  58JH19990615,   75N,   497,  1,     10,2,19990625, 74.4988,  -3.0000, 3563,   1251.7,  -0.8379,  34.8893,2,  34.8865,3,    319.1,2,     8.27,2,    13.97,2,     0.00,2,     0.94,2,    3.790,2,    1.837,2,    0.287,2,    4.918,2, -999.000, -999.000,9,-999.0000,-999.0000,9,  -999.00,  -999.00,9,  -0.8880
  58JH19990615,   75N,   497,  1,      9,2,19990625, 74.4988,  -3.0000, 3563,   1499.9,  -0.7784,  34.9010,2,  34.8989,3,    308.6,2,     9.48,2,    14.39,2,     0.00,2,     0.96,2,    2.431,2,    1.152,2,    0.119,2,    3.808,2, -999.000, -999.000,9,-999.0000,-999.0000,9,  -999.00,  -999.00,9,  -0.8425
  58JH19990615,   75N,   497,  1,      8,2,19990625, 74.4988,  -3.0000, 3563,   1752.4,  -0.7832,  34.9091,2,  34.9071,3,    301.2,2,    10.58,2,    14.82,2,     0.00,2,     1.02,2,    1.380,2,    0.592,2,    0.042,2,    2.866,2, -999.000, -999.000,9,-999.0000,-999.0000,9,  -999.00,  -999.00,9,  -0.8620
  58JH19990615,   75N,   497,  1,      7,2,19990625, 74.4988,  -3.0000, 3563,   2001.0,  -0.8482,  34.9100,2,  34.9079,3,    301.2,2,    11.09,2,    14.90,2,     0.00,2,     1.00,2,    1.070,2,    0.470,2,    0.019,2,    2.601,2, -999.000, -999.000,9,-999.0000,-999.0000,9,  -999.00,  -999.00,9,  -0.9415
  58JH19990615,   75N,   497,  1,      6,2,19990625, 74.4988,  -3.0000, 3563,   2252.7,  -0.8960,  34.9094,2,  34.9074,3,    304.7,2,    11.39,2,    14.92,2,     0.00,2,     1.01,2,    0.933,2,    0.418,2,    0.019,2,    2.500,2, -999.000, -999.000,9,-999.0000,-999.0000,9,  -999.00,  -999.00,9,  -1.0051
  58JH19990615,   75N,   497,  1,      5,2,19990625, 74.4988,  -3.0000, 3563,   2499.8,  -0.9242,  34.9088,2,  34.9067,3,    303.4,2,    11.58,2,    15.03,2,     0.00,2,     1.01,2,    0.873,6,    0.387,6,    0.012,6,    2.481,6, -999.000, -999.000,9,-999.0000,-999.0000,9,  -999.00,  -999.00,9,  -1.0500
  58JH19990615,   75N,   497,  1,      4,2,19990625, 74.4988,  -3.0000, 3563,   2748.7,  -0.9464,  34.9069,2,  34.9047,3,    304.7,2,    11.79,2,    14.94,2,     0.00,2,     1.00,2,    0.856,2,    0.368,2,    0.028,2,    2.560,2, -999.000, -999.000,9,-999.0000,-999.0000,9,  -999.00,  -999.00,9,  -1.0901
  58JH19990615,   75N,   497,  1,      3,2,19990625, 74.4988,  -3.0000, 3563,   3001.3,  -0.9574,  34.9048,2,  34.9027,3,    306.0,2,    11.92,2,    15.03,2,     0.00,2,     1.01,2,    0.850,2,    0.375,2,    0.009,2,    2.518,2, -999.000, -999.000,9,-999.0000,-999.0000,9,  -999.00,  -999.00,9,  -1.1204
  58JH19990615,   75N,   497,  1,      2,2,19990625, 74.4988,  -3.0000, 3563,   3252.0,  -0.9579,  34.9031,2,  34.9011,3,    306.4,2,    12.10,2,    14.89,2,     0.00,2,     1.01,2,    0.830,2,    0.367,2,    0.013,2,    2.660,2, -999.000, -999.000,9,-999.0000,-999.0000,9,  -999.00,  -999.00,9,  -1.1414
  58JH19990615,   75N,   497,  1,      1,2,19990625, 74.4988,  -3.0000, 3563,   3552.6,  -0.9440,  34.9025,2,  34.9000,3,    306.9,2,    12.36,2,    15.00,2,     0.00,2,     1.01,2,    0.820,2,    0.367,2,    0.013,2,    2.673,2, -999.000, -999.000,9,-999.0000,-999.0000,9,  -999.00,  -999.00,9,  -1.1535
  58JH19990615,   75N,   497,  2,     12,2,19990625, 74.4988,  -3.0000, 3563,     11.0,   1.3400,  34.7689,2,  34.7410,3,    356.2,2,     0.84,2,     6.59,2,     0.03,2,     0.46,2, -999.000,9, -999.000,9, -999.000,9, -999.000,9, -999.000, -999.000,9,-999.0000,-999.0000,9,  -999.00,  -999.00,9,   1.3395
  58JH19990615,   75N,   497,  2,     11,2,19990625, 74.4988,  -3.0000, 3563,     19.4,   1.3100,  34.7685,2,  34.7390,3,    356.2,2,     0.85,2,     6.65,2,     0.03,2,     0.49,2, -999.000,9, -999.000,9, -999.000,9, -999.000,9, -999.000, -999.000,9,-999.0000,-999.0000,9,  -999.00,  -999.00,9,   1.3091
  58JH19990615,   75N,   497,  2,     10,2,19990625, 74.4988,  -3.0000, 3563,     30.3,   1.2120,  34.7718,2,  34.7380,3,    357.5,2,     0.84,2,     6.87,2,     0.03,2,     0.49,2, -999.000,9, -999.000,9, -999.000,9, -999.000,9, -999.000, -999.000,9,-999.0000,-999.0000,9,  -999.00,  -999.00,9,   1.2106
  58JH19990615,   75N,   497,  2,      9,2,19990625, 74.4988,  -3.0000, 3563,     41.1,   0.0470,  34.7876,2,  34.7750,3,    360.1,2,     1.57,2,     9.10,2,     0.04,2,     0.67,2, -999.000,9, -999.000,9, -999.000,9, -999.000,9, -999.000, -999.000,9,-999.0000,-999.0000,9,  -999.00,  -999.00,9,   0.0455
  58JH19990615,   75N,   497,  2,      8,2,19990625, 74.4988,  -3.0000, 3563,     50.9,  -0.5620,  34.8037,2,  34.7880,3,    357.5,2,     1.94,2,     9.79,2,     0.06,2,     0.70,2, -999.000,9, -999.000,9, -999.000,9, -999.000,9, -999.000, -999.000,9,-999.0000,-999.0000,9,  -999.00,  -999.00,9,  -0.5636
  58JH19990615,   75N,   497,  2,      7,2,19990625, 74.4988,  -3.0000, 3563,     74.7,  -0.7640,  34.8106,2,  34.8020,3,    348.7,2,     3.64,2,    11.08,2,     0.10,2,     0.80,2, -999.000,9, -999.000,9, -999.000,9, -999.000,9, -999.000, -999.000,9,-999.0000,-999.0000,9,  -999.00,  -999.00,9,  -0.7662
  58JH19990615,   75N,   497,  2,      6,2,19990625, 74.4988,  -3.0000, 3563,    102.8,  -0.8460,  34.8116,2,  34.8070,3,    344.8,2,     5.51,2,    11.94,2,     0.14,2,     0.82,2, -999.000,9, -999.000,9, -999.000,9, -999.000,9, -999.000, -999.000,9,-999.0000,-999.0000,9,  -999.00,  -999.00,9,  -0.8490
  58JH19990615,   75N,   497,  2,      5,2,19990625, 74.4988,  -3.0000, 3563,    149.8,  -0.9090,  34.8251,2,  34.8120,3,    343.1,2,     6.02,2,    12.26,2,     0.04,2,     0.83,2, -999.000,9, -999.000,9, -999.000,9, -999.000,9, -999.000, -999.000,9,-999.0000,-999.0000,9,  -999.00,  -999.00,9,  -0.9134
  58JH19990615,   75N,   497,  2,      4,2,19990625, 74.4988,  -3.0000, 3563,    200.8,  -0.8410,  34.8411,2,  34.8220,3,    339.2,2,     6.23,2,    12.55,2,     0.02,2,     0.85,2, -999.000,9, -999.000,9, -999.000,9, -999.000,9, -999.000, -999.000,9,-999.0000,-999.0000,9,  -999.00,  -999.00,9,  -0.8471
  58JH19990615,   75N,   497,  2,      3,2,19990625, 74.4988,  -3.0000, 3563,    301.2,  -0.7520,  34.8642,2,  34.8360,3,    333.5,2,     6.52,2,    12.89,2,     0.01,2,     0.87,2, -999.000,9, -999.000,9, -999.000,9, -999.000,9, -999.000, -999.000,9,-999.0000,-999.0000,9,  -999.00,  -999.00,9,  -0.7616
  58JH19990615,   75N,   497,  2,      2,2,19990625, 74.4988,  -3.0000, 3563,    500.1,  -0.9510,  34.8623,2,  34.8320,3,    338.7,2,     6.42,2,    12.85,2,     0.00,2,     0.89,2, -999.000,9, -999.000,9, -999.000,9, -999.000,9, -999.000, -999.000,9,-999.0000,-999.0000,9,  -999.00,  -999.00,9,  -0.9671
  58JH19990615,   75N,   497,  2,      1,2,19990625, 74.4988,  -3.0000, 3563,    601.8,  -1.0030,  34.8632,2,  34.8300,3,    340.0,2,     6.40,2,    12.81,2,     0.00,2,     0.86,2, -999.000,9, -999.000,9, -999.000,9, -999.000,9, -999.000, -999.000,9,-999.0000,-999.0000,9,  -999.00,  -999.00,9,  -1.0226
  58JH19990615,   75N,   498,  1,     12,2,19990626, 74.4993,  -0.9998, 3552,     10.0,   1.5550,-999.0000,9,  34.7260,3,    357.9,2,     0.33,2,     5.64,2,     0.03,2,     0.39,2, -999.000,9, -999.000,9, -999.000,9, -999.000,9, -999.000, -999.000,9,-999.0000,-999.0000,9,  -999.00,  -999.00,9,-999.0000
  58JH19990615,   75N,   498,  1,     11,2,19990626, 74.4993,  -0.9998, 3552,     31.9,   0.9290,  34.7611,2,  34.7470,3,    361.0,2,     0.57,2,     6.50,2,     0.04,2,     0.46,2, -999.000,9, -999.000,9, -999.000,9, -999.000,9, -999.000, -999.000,9,-999.0000,-999.0000,9,  -999.00,  -999.00,9,   0.9276
  58JH19990615,   75N,   498,  1,     10,2,19990626, 74.4993,  -0.9998, 3552,     49.3,  -0.5940,  34.8023,2,  34.7630,3,    359.2,2,     1.97,2,     9.44,2,     0.09,2,     0.68,2, -999.000,9, -999.000,9, -999.000,9, -999.000,9, -999.000, -999.000,9,-999.0000,-999.0000,9,  -999.00,  -999.00,9,  -0.5955
  58JH19990615,   75N,   498,  1,      9,2,19990626, 74.4993,  -0.9998, 3552,    101.3,  -1.0560,  34.8337,2,  34.8020,3,    347.0,2,     4.78,2,    11.80,2,     0.12,2,     0.81,2, -999.000,9, -999.000,9, -999.000,9, -999.000,9, -999.000, -999.000,9,-999.0000,-999.0000,9,  -999.00,  -999.00,9,  -1.0588
  58JH19990615,   75N,   498,  1,      8,2,19990626, 74.4993,  -0.9998, 3552,    200.2,  -0.8770,  34.8529,2,  34.8260,3,    337.0,2,     6.15,2,    12.70,2,     0.01,2,     0.85,2, -999.000,9, -999.000,9, -999.000,9, -999.000,9, -999.000, -999.000,9,-999.0000,-999.0000,9,  -999.00,  -999.00,9,  -0.8830
  58JH19990615,   75N,   498,  1,      7,2,19990626, 74.4993,  -0.9998, 3552,    301.1,  -0.9070,  34.8559,2,  34.8300,3,    338.3,2,     6.30,2,    12.87,2,     0.00,2,     0.86,2, -999.000,9, -999.000,9, -999.000,9, -999.000,9, -999.000, -999.000,9,-999.0000,-999.0000,9,  -999.00,  -999.00,9,  -0.9162
  58JH19990615,   75N,   498,  1,      6,2,19990626, 74.4993,  -0.9998, 3552,    498.5,  -0.9900,  34.8547,2,  34.8270,3,    340.5,2,     6.21,2,    12.78,2,     0.00,2,     0.86,2, -999.000,9, -999.000,9, -999.000,9, -999.000,9, -999.000, -999.000,9,-999.0000,-999.0000,9,  -999.00,  -999.00,9,  -1.0058
  58JH19990615,   75N,   498,  1,      5,2,19990626, 74.4993,  -0.9998, 3552,    998.3,  -0.8510,  34.8838,2,  34.8560,3,    320.0,2,     7.97,2,    13.97,2,     0.00,2,     0.94,2, -999.000,9, -999.000,9, -999.000,9, -999.000,9, -999.000, -999.000,9,-999.0000,-999.0000,9,  -999.00,  -999.00,9,  -0.8885
  58JH19990615,   75N,   498,  1,      4,2,19990626, 74.4993,  -0.9998, 3552,   1500.4,  -0.7710,  34.9051,2,  34.8780,3,    304.7,2,     9.91,2,    14.58,2,     0.00,2,     0.98,2, -999.000,9, -999.000,9, -999.000,9, -999.000,9, -999.000, -999.000,9,-999.0000,-999.0000,9,  -999.00,  -999.00,9,  -0.8352
  58JH19990615,   75N,   498,  1,      3,2,19990626, 74.4993,  -0.9998, 3552,   2000.3,  -0.8770,  34.9097,2,  34.8820,3,    302.1,2,    11.15,2,    14.94,2,     0.00,2,     1.01,2, -999.000,9, -999.000,9, -999.000,9, -999.000,9, -999.000, -999.000,9,-999.0000,-999.0000,9,  -999.00,  -999.00,9,  -0.9698
  58JH19990615,   75N,   498,  1,      2,2,19990626, 74.4993,  -0.9998, 3552,   2499.7,  -0.9330,  34.9087,2,  34.8810,3,    303.8,2,    11.62,2,    15.04,2,     0.00,2,     1.01,2, -999.000,9, -999.000,9, -999.000,9, -999.000,9, -999.000, -999.000,9,-999.0000,-999.0000,9,  -999.00,  -999.00,9,  -1.0586
  58JH19990615,   75N,   498,  1,      1,2,19990626, 74.4993,  -0.9998, 3552,   3253.5,  -0.9590,  34.9034,2,  34.8760,3,    306.9,2,    12.17,2,    15.08,2,     0.00,2,     1.01,2, -999.000,9, -999.000,9, -999.000,9, -999.000,9, -999.000, -999.000,9,-999.0000,-999.0000,9,  -999.00,  -999.00,9,  -1.1425
  58JH19990615,   75N,   499,  1,     11,2,19990626, 74.4980,   0.0030, 3692,    999.7,  -0.8461,  34.8864,2,  34.8843,3,    320.0,2,     8.10,2,    14.07,2,     0.00,2,     0.93,2,    3.925,2,    1.937,2,    0.258,2,    4.984,2,    0.771,    0.047,2,   1.8355,   0.3440,2,     3.60,     0.00,2,  -0.8837
  58JH19990615,   75N,   499,  1,     10,2,19990626, 74.4980,   0.0030, 3692,   1251.0,  -0.8070,  34.8962,2,  34.8940,3,    313.4,2,     8.97,2,    14.34,2,     0.00,2,     0.96,2,    2.943,2,    1.431,2,    0.171,2,    4.038,2,    0.912,    0.049,2,   1.8490,   0.1750,2,     4.12,     0.00,2,  -0.8573
  58JH19990615,   75N,   499,  1,      9,2,19990626, 74.4980,   0.0030, 3692,   1501.0,  -0.7723,  34.9082,2,  34.9061,3,    301.6,2,    10.35,2,    14.87,2,     0.00,2,     0.99,2,    1.539,6,    0.687,6,    0.056,6,    2.843,6,    0.610,    0.047,2,   1.8705,   0.1620,2,     6.03,     0.00,2,  -0.8365
  58JH19990615,   75N,   499,  1,      8,2,19990626, 74.4980,   0.0030, 3692,   1999.8,  -0.8928,  34.9093,2,  34.9072,3,    301.6,2,    11.22,2,    15.04,2,     0.00,2,     1.01,2,    1.016,2,    0.443,2,    0.028,2,    2.441,2,    0.509,    0.046,2,   1.8554,   0.1650,2,     6.42,     0.00,2,  -0.9853
  58JH19990615,   75N,   499,  1,      7,2,19990626, 74.4980,   0.0030, 3692,   2251.2,  -0.9222,  34.9088,2,  34.9067,3,    303.0,2,    11.42,2,    15.07,2,     0.00,2,     1.01,2,    0.940,2,    0.388,2,    0.014,2,    2.395,2,    0.487,    0.046,2,   8.9383,   0.3240,3,  -999.00,     0.00,4,  -1.0307
  58JH19990615,   75N,   499,  1,      6,2,19990626, 74.4980,   0.0030, 3692,   2500.6,  -0.9381,  34.9081,2,  34.9060,3,    303.4,2,    11.59,2,    15.08,2,     0.00,2,     1.01,2,    0.889,2,    0.381,2,    0.004,2,    2.338,2,    0.623,    0.049,2,   1.8387,   0.1990,2,     6.23,     0.00,2,  -1.0637
  58JH19990615,   75N,   499,  1,      5,2,19990626, 74.4980,   0.0030, 3692,   2750.9,  -0.9482,  34.9066,2,  34.9046,3,    304.7,2,    11.78,2,    15.12,2,     0.00,2,     1.01,2,    0.870,2,    0.359,2,    0.011,2,    2.424,2,    0.526,    0.025,2,   1.8586,   0.2010,2,     6.64,     0.00,2,  -1.0920
  58JH19990615,   75N,   499,  1,      4,2,19990626, 74.4980,   0.0030, 3692,   3000.2,  -0.9534,  34.9049,2,  34.9028,3,    306.4,2,    11.90,2,    15.11,2,     0.00,2,     1.01,2,    0.868,2,    0.380,2,    0.007,2,    2.460,2,    0.542,    0.026,2,   1.8468,   0.2180,2,     6.65,     0.00,2,  -1.1164
  58JH19990615,   75N,   499,  1,      3,2,19990626, 74.4980,   0.0030, 3692,   3248.6,  -0.9544,  34.9038,2,  34.9013,3,    307.3,2,    11.99,2,    15.00,2,     0.00,2,     1.01,2,    0.859,6,    0.373,6,    0.005,6,    2.492,6,    0.624,    0.030,2,   1.8534,   0.1590,2,     6.96,     0.00,2,  -1.1376
  58JH19990615,   75N,   499,  1,      2,2,19990626, 74.4980,   0.0030, 3692,   3501.3,  -0.9495,  34.9024,2,  34.8999,3,    309.9,2,    12.32,2,    15.12,2,     0.00,2,     1.01,2,    0.846,2,    0.383,2,    0.006,2,    2.466,2,    0.538,    0.024,2,   1.8482,   0.1770,2,     7.43,     0.00,2,  -1.1544
  58JH19990615,   75N,   499,  1,      1,2,19990626, 74.4980,   0.0030, 3692,   3682.2,  -0.9350,  34.9020,2,  34.8990,3,    307.3,2,    12.37,2,    15.17,2,     0.00,2,     1.01,2,    0.848,2,    0.383,2,    0.009,2,    2.511,2,    0.555,    0.027,2,   1.8577,   0.2000,2,     7.13,     0.00,2,  -1.1563
  58JH19990615,   75N,   499,  2,     12,2,19990626, 74.4980,   0.0030, 3692,     10.8,   1.6167,  34.7660,2,  34.7639,3,    356.6,2,     0.20,2,     5.52,2,     0.04,2,     0.38,2,    6.064,6,    3.310,6,    0.504,6,    8.002,6,    2.220,    0.045,2,   1.7978,   0.2020,2,    -2.06,     0.00,2,   1.6161
  58JH19990615,   75N,   499,  2,     11,2,19990626, 74.4980,   0.0030, 3692,     21.3,   1.6166,  34.7660,2,  34.7639,3,    357.0,2,     0.21,2,     5.58,2,     0.04,2,     0.39,2,    6.056,2,    3.299,2,    0.509,2,    7.962,2,    1.797,    0.042,2,   1.7959,   0.1830,2,    -1.93,     0.00,2,   1.6156
  58JH19990615,   75N,   499,  2,     10,2,19990626, 74.4980,   0.0030, 3692,     29.5,   1.6134,  34.7657,2,  34.7636,3,    357.0,2,     0.21,2,     5.66,2,     0.04,2,     0.39,2,    6.065,2,    3.222,2,    0.516,2,    7.996,2,    1.883,    0.042,2,   1.8070,   0.1830,2,    -2.06,     0.00,2,   1.6119
  58JH19990615,   75N,   499,  2,      9,2,19990626, 74.4980,   0.0030, 3692,     39.6,   0.8506,  34.7839,2,  34.7818,3,    357.9,2,     0.51,2,     6.36,2,     0.04,2,     0.46,2,    6.122,2,    3.254,2,    0.508,2,    8.094,2,    1.761,    0.042,2,   1.8165,   0.1800,2,    -1.91,     0.00,2,   0.8489
  58JH19990615,   75N,   499,  2,      8,2,19990626, 74.4980,   0.0030, 3692,     51.3,  -0.2305,  34.7973,2,  34.7952,3,    359.6,2,     2.19,2,     9.16,2,     0.08,2,     0.68,2,    6.242,2,    3.308,2,    0.520,2,    8.268,2, -999.000, -999.000,5,   1.8338,   0.2990,2,  -999.00,     0.00,2,  -0.2322
  58JH19990615,   75N,   499,  2,      7,2,19990626, 74.4980,   0.0030, 3692,     75.6,  -0.9049,  34.8172,2,  34.8151,3,    352.2,2,     4.56,2,    11.09,2,     0.21,2,     0.77,2,    6.176,2,    3.365,2,    0.514,2,    8.211,2,    1.785,    0.041,2,   1.8431,   0.1880,2,    -1.38,     0.00,2,  -0.9071
  58JH19990615,   75N,   499,  2,      6,2,19990626, 74.4980,   0.0030, 3692,     98.7,  -0.8515,  34.8330,2,  34.8309,3,    347.0,2,     5.04,2,    11.62,2,     0.17,2,     0.79,2,    5.906,2,    3.206,2,    0.490,2,    7.804,2, -999.000, -999.000,5,   1.8866,   0.2940,2,  -999.00,     0.00,2,  -0.8544
  58JH19990615,   75N,   499,  2,      5,2,19990626, 74.4980,   0.0030, 3692,    150.6,  -1.1198,  34.8309,2,  34.8269,3,    344.8,2,     5.50,2,    12.15,2,     0.02,2,     0.81,2,    5.718,2,    3.074,2,    0.473,2,    7.524,2,    1.589,    0.062,2,   1.8567,   0.2800,2,    -0.30,     0.00,2,  -1.1239
  58JH19990615,   75N,   499,  2,      4,2,19990626, 74.4980,   0.0030, 3692,    201.4,  -0.8521,  34.8516,2,  34.8501,3,    336.1,2,     5.94,2,    12.69,2,     0.01,2,     0.84,2,    5.292,2,    2.839,2,    0.431,2,    6.795,2,    1.839,    0.075,2,   1.8401,   0.2700,2,     0.13,     0.00,2,  -0.8581
  58JH19990615,   75N,   499,  2,      3,2,19990626, 74.4980,   0.0030, 3692,    299.7,  -0.7431,  34.8681,2,  34.8660,3,    326.1,2,     6.79,2,    13.48,2,     0.00,2,     0.90,2,    4.832,2,    2.414,2,    0.285,2,    6.191,2,    1.421,    0.145,2,-999.0000,-999.0000,5,  -999.00,  -999.00,5,  -0.7527
  58JH19990615,   75N,   499,  2,      2,2,19990626, 74.4980,   0.0030, 3692,    500.1,  -0.8880,  34.8691,2,  34.8670,3,    323.4,2,     7.29,2,    13.84,2,     0.00,2,     0.92,2,    4.385,2,    2.243,2,    0.325,2,    5.508,2,    1.521,    0.062,2,   1.8644,   0.4060,2,     3.20,     0.00,2,  -0.9043
  58JH19990615,   75N,   499,  2,      1,2,19990626, 74.4980,   0.0030, 3692,    758.6,  -0.8714,  34.8789,2,  34.8763,3,    321.3,2,     7.76,2,    14.03,2,     0.00,2,     0.93,2,    4.167,2,    2.066,2,    0.280,2,    5.268,2, -999.000, -999.000,5,   1.8413,   0.1830,2,  -999.00,     0.00,2,  -0.8981