BOTTLE,20090622PRINUNIVRMK
EXPOCODE,SECT_ID,STNNBR,CASTNO,BTLNBR,BTLNBR_FLAG_W,DATE,LATITUDE,LONGITUDE,DEPTH,CTDPRS,CTDTMP,CTDSAL,CTDSAL_FLAG_W,SALNTY,SALNTY_FLAG_W,OXYGEN,OXYGEN_FLAG_W,SILCAT,SILCAT_FLAG_W,NITRAT,NITRAT_FLAG_W,NITRIT,NITRIT_FLAG_W,PHSPHT,PHSPHT_FLAG_W,CFC-11,CFC-11_FLAG_W,CFC-12,CFC-12_FLAG_W,CFC113,CFC113_FLAG_W,CCL4,CCL4_FLAG_W,TRITUM,TRITER,TRITUM_FLAG_W,HELIUM,HELIER,HELIUM_FLAG_W,DELHE3,DELHER,DELHE3_FLAG_W,THETA
,,,,,,,,,METERS,DBARS,ITS-90,PSS-78,,PSS-78,,UMOL/KG,,UMOL/KG,,UMOL/KG,,UMOL/KG,,UMOL/KG,,PMOL/KG,,PMOL/KG,,PMOL/KG,,PMOL/KG,,TU,TU,,NMOL/KG,NMOL/KG,,PERCNT,PERCNT,,DEGC
  58JH19990615,   75N,   551,  2,     12,2,19990707, 68.5000,   0.9990, 2787,      5.3,  10.1390,-999.0000,9,  35.1880,3,    296.4,2,     2.07,2,     2.15,2,     0.07,2,     0.23,2,    3.956,2,    2.094,2,    0.291,2,    5.076,2,    1.523,    0.032,2,   1.7574,   0.1930,2,    -1.68,     0.00,2,-999.0000
  58JH19990615,   75N,   551,  2,     11,2,19990707, 68.5000,   0.9990, 2787,     10.0,  10.1220,  35.1759,2,  35.1840,3,    297.2,2,     2.01,2,     2.10,2,     0.07,2,     0.27,2,    4.006,2,    2.098,2,    0.332,2,    5.012,2,    1.570,    0.032,2,   1.7554,   0.1900,2,    -1.24,     0.00,2,  10.1208
  58JH19990615,   75N,   551,  2,     10,2,19990707, 68.5000,   0.9990, 2787,     20.0,   9.7540,  35.1761,2,  35.1670,3,    296.4,2,     1.99,2,     2.54,2,     0.07,2,     0.27,2, -999.000,9, -999.000,9, -999.000,9, -999.000,9,    1.559,    0.031,2,   1.7481,   0.1840,2,    -1.45,     0.00,2,   9.7517
  58JH19990615,   75N,   551,  2,      9,2,19990707, 68.5000,   0.9990, 2787,     29.6,   9.3040,  35.1897,2,  35.1950,3,    287.6,2,     3.16,2,     4.81,2,     0.10,2,     0.45,2,    4.091,2,    2.148,2,    0.306,2,    5.005,2,    1.481,    0.031,2,   1.7796,   0.2040,2,    -1.72,     0.00,2,   9.3007
  58JH19990615,   75N,   551,  2,      8,2,19990707, 68.5000,   0.9990, 2787,     40.0,   8.7720,  35.2013,2,  35.1760,3,    289.4,2,     2.93,2,     4.67,2,     0.15,2,     0.46,2, -999.000,9, -999.000,9, -999.000,9, -999.000,9,    1.506,    0.053,2,   1.7700,   0.1790,2,    -1.45,     0.00,2,   8.7677
  58JH19990615,   75N,   551,  2,      7,2,19990707, 68.5000,   0.9990, 2787,     49.8,   8.2260,  35.1838,2,  35.1890,3,    292.9,2,     2.91,2,     5.05,2,     0.21,2,     0.48,2,    4.279,2,    2.195,2,    0.325,2,    5.256,2,    1.511,    0.143,2,   1.7493,   0.2650,2,    -1.49,     0.00,2,   8.2209
  58JH19990615,   75N,   551,  2,      6,2,19990707, 68.5000,   0.9990, 2787,     74.3,   7.3340,  35.2415,2,  35.2210,3,    285.0,2,     4.85,2,    12.03,2,     0.04,2,     0.79,2,    4.277,2,    2.215,2,    0.318,2,    4.539,2,   -2.289,    0.097,3,   1.7619,   0.1800,2,     0.06,     0.00,2,   7.3269
  58JH19990615,   75N,   551,  2,      5,2,19990707, 68.5000,   0.9990, 2787,     98.8,   7.0620,  35.2330,2,  35.2130,3,    282.4,2,     5.21,2,    12.43,2,     0.03,2,     0.80,2,    4.286,2,    2.242,2,    0.317,2,    4.419,2,    1.463,    0.136,2,   1.7628,   0.1800,2,    -1.51,     0.00,2,   7.0527
  58JH19990615,   75N,   551,  2,      4,2,19990707, 68.5000,   0.9990, 2787,    149.5,   6.7660,  35.1898,2,  35.1920,3,    283.7,2,     5.78,2,    12.81,2,     0.04,2,     0.83,2,    4.274,2,    2.255,2,    0.305,2,    4.238,2,    1.352,    0.030,2,-999.0000,-999.0000,5,  -999.00,  -999.00,5,   6.7523
  58JH19990615,   75N,   551,  2,      3,2,19990707, 68.5000,   0.9990, 2787,    200.8,   6.4720,  35.1672,2,  35.1670,3,    286.3,2,     5.59,2,    12.64,2,     0.02,2,     0.81,2,    2.494,3,    1.308,3,    0.158,3,    3.306,3,    1.398,    0.031,2,   1.7747,   0.1810,2,    -1.33,     0.00,2,   6.4539
  58JH19990615,   75N,   551,  2,      2,2,19990707, 68.5000,   0.9990, 2787,    299.5,   5.2640,  35.0651,2,  35.0580,3,    291.6,2,     5.91,2,    12.91,2,     0.02,2,     0.85,2,    4.592,2,    2.355,2,    0.333,2,    5.247,2, -999.000, -999.000,5,   1.7782,   0.1820,2,  -999.00,     0.00,2,   5.2397
  58JH19990615,   75N,   551,  2,      1,2,19990707, 68.5000,   0.9990, 2787,    401.8,   3.5560,  34.9872,2,  34.9620,3,    297.7,2,     5.97,2,    13.15,2,     0.02,2,     0.87,2,    4.894,2,    2.500,2,    0.344,2,    5.787,2,    1.346,    0.030,2,   1.8176,   0.1790,2,    -0.07,     0.00,2,   3.5285
  58JH19990615,   75N,   552,  1,     12,2,19990707, 67.0000,  -1.4970, 3603,    799.1,  -0.3875,  34.8962,2,  34.8950,3,    300.3,2,     8.51,2,    14.63,2,     0.02,2,     0.97,2,    2.967,2,    1.413,2,    0.177,2,    4.393,2, -999.000, -999.000,9,-999.0000,-999.0000,9,  -999.00,  -999.00,9,  -0.4192
  58JH19990615,   75N,   552,  1,     11,2,19990707, 67.0000,  -1.4970, 3603,    999.7,  -0.5701,  34.9022,2,  34.9010,3,    299.0,2,     9.37,2,    14.81,2,     0.02,2,     0.99,2,    2.137,2,    0.993,2,    0.100,2,    3.666,2, -999.000, -999.000,9,-999.0000,-999.0000,9,  -999.00,  -999.00,9,  -0.6100
  58JH19990615,   75N,   552,  1,     10,2,19990707, 67.0000,  -1.4970, 3603,   1248.8,  -0.7011,  34.9077,2,  34.9064,3,    296.8,2,    10.49,2,    15.02,2,     0.02,2,     1.01,2,    1.277,2,    0.581,2,    0.036,2,    2.845,2,    0.634,    0.023,2,   1.8433,   0.1860,2,     7.00,     2.00,2,  -0.7525
  58JH19990615,   75N,   552,  1,      9,2,19990707, 67.0000,  -1.4970, 3603,   1500.9,  -0.7985,  34.9104,2,  34.9092,3,   -999.0,9,    11.28,2,    15.15,2,     0.03,2,     1.02,2,    0.805,2,    0.387,2,    0.016,2,    2.369,2, -999.000, -999.000,9,-999.0000,-999.0000,9,  -999.00,  -999.00,9,  -0.8625
  58JH19990615,   75N,   552,  1,      8,2,19990707, 67.0000,  -1.4970, 3603,   1750.3,  -0.8537,  34.9110,2,  34.9097,3,    299.0,2,    11.88,2,    15.23,2,     0.04,2,     1.03,2,    0.607,2,    0.318,2,    0.000,2,    2.135,2,    0.389,    0.050,2,   1.8420,   0.1780,2,     6.26,     2.00,2,  -0.9314
  58JH19990615,   75N,   552,  1,      7,2,19990707, 67.0000,  -1.4970, 3603,   2001.3,  -0.8833,  34.9111,2,  34.9099,3,    298.6,2,    12.27,2,    15.30,2,     0.03,2,     1.03,2,    0.502,2,    0.254,2,    0.010,2,    2.014,2, -999.000, -999.000,9,-999.0000,-999.0000,9,  -999.00,  -999.00,9,  -0.9761
  58JH19990615,   75N,   552,  1,      6,2,19990707, 67.0000,  -1.4970, 3603,   2249.9,  -0.8932,  34.9113,2,  34.9100,3,    298.6,2,    12.69,2,    15.35,2,     0.03,2,     1.03,2,    0.447,2,    0.250,2,    0.009,2,    1.905,2,    0.031,    0.060,2,   1.8563,   0.1870,2,     5.72,     2.00,2,  -1.0022
  58JH19990615,   75N,   552,  1,      5,2,19990707, 67.0000,  -1.4970, 3603,   2500.0,  -0.8878,  34.9116,2,  34.9104,3,    298.6,2,    13.04,2,    15.33,2,     0.02,2,     1.03,2,    0.390,2,    0.210,2,    0.008,2,    1.720,2, -999.000, -999.000,9,-999.0000,-999.0000,9,  -999.00,  -999.00,9,  -1.0144
  58JH19990615,   75N,   552,  1,      4,2,19990707, 67.0000,  -1.4970, 3603,   2750.9,  -0.8771,  34.9118,2,  34.9104,3,    298.2,2,    13.35,2,    15.44,2,     0.02,2,     1.03,2,    0.323,2,    0.185,2,    0.004,2,    1.636,2,    0.263,    0.020,2,   1.8551,   0.1790,2,     5.16,     2.00,2,  -1.0224
  58JH19990615,   75N,   552,  1,      3,2,19990707, 67.0000,  -1.4970, 3603,   3001.0,  -0.8613,  34.9121,2,  34.9109,3,    298.6,2,    13.68,2,    15.57,2,     0.03,2,     1.04,2,    0.281,2,    0.173,2,    0.004,2,    1.567,2,    0.281,    0.020,2,   1.8586,   0.1800,2,     4.89,     2.00,2,  -1.0265
  58JH19990615,   75N,   552,  1,      2,2,19990707, 67.0000,  -1.4970, 3603,   3251.2,  -0.8412,  34.9122,2,  34.9110,3,    298.6,2,    13.72,2,    15.64,2,     0.03,2,     1.04,2,    0.271,2,    0.164,2,    0.000,2,    1.526,2, -999.000, -999.000,5,   1.8672,   0.2530,2,  -999.00,     2.00,2,  -1.0275
  58JH19990615,   75N,   552,  1,      1,2,19990707, 67.0000,  -1.4970, 3603,   3362.4,  -0.8320,-999.0000,9,  34.9100,3,    298.6,2,    13.71,2,    15.53,2,     0.02,2,     1.03,2,    0.271,6,    0.163,6,    0.004,6,    1.543,6,    0.262,    0.021,2,   1.8525,   0.2720,2,     4.82,     2.00,2,-999.0000
  58JH19990615,   75N,   552,  2,     12,2,19990707, 67.0000,  -1.4970, 3603,      8.8,   9.2670,  34.9248,2,  34.9130,3,    304.7,2,     1.03,2,     0.00,2,     0.02,2,     0.11,2,    4.326,6,    2.318,6,    0.371,6,    5.769,6,    1.438,    0.033,2,   1.7583,   0.1880,2,    -1.66,     2.00,2,   9.2660
  58JH19990615,   75N,   552,  2,     11,2,19990707, 67.0000,  -1.4970, 3603,     20.2,   8.2808,  34.8982,2,  34.8970,3,    323.0,2,     1.08,2,     0.00,2,     0.02,2,     0.11,2,    4.513,2,    2.401,2,    0.392,2,    5.862,2, -999.000, -999.000,9,-999.0000,-999.0000,9,  -999.00,  -999.00,9,   8.2788
  58JH19990615,   75N,   552,  2,     10,2,19990707, 67.0000,  -1.4970, 3603,     30.1,   7.1515,  34.9134,2,  34.9122,3,    302.1,2,     1.63,2,     1.61,2,     0.06,2,     0.27,2,    4.649,2,    2.438,2,    0.404,2,    6.026,2, -999.000, -999.000,9,-999.0000,-999.0000,9,  -999.00,  -999.00,9,   7.1487
  58JH19990615,   75N,   552,  2,      9,2,19990707, 67.0000,  -1.4970, 3603,     39.8,   6.7410,  34.9421,2,  34.9408,3,    301.2,2,     2.86,2,     3.60,2,     0.20,2,     0.45,2,    4.879,2,    2.526,2,    0.418,2,    6.415,2, -999.000, -999.000,9,-999.0000,-999.0000,9,  -999.00,  -999.00,9,   6.7374
  58JH19990615,   75N,   552,  2,      8,2,19990707, 67.0000,  -1.4970, 3603,     50.2,   5.5598,  34.9718,2,  34.9706,3,    303.4,2,     4.38,2,     5.94,2,     0.57,2,     0.67,2,    5.089,2,    2.636,2,    0.443,2,    6.666,2,    1.426,    0.031,2,   1.8167,   0.1900,2,    -1.26,     2.00,2,   5.5557
  58JH19990615,   75N,   552,  2,      7,2,19990707, 67.0000,  -1.4970, 3603,     73.7,   4.3087,  34.9733,2,  34.9721,3,    300.8,2,     5.24,2,    12.70,2,     0.04,2,     0.84,2,    5.207,2,    2.674,2,    0.417,2,    6.940,2, -999.000, -999.000,9,-999.0000,-999.0000,9,  -999.00,  -999.00,9,   4.3034
  58JH19990615,   75N,   552,  2,      6,2,19990707, 67.0000,  -1.4970, 3603,     99.9,   3.7084,  34.9358,2,  34.9346,3,    314.3,2,     5.14,2,    12.33,2,     0.03,2,     0.82,2,    5.328,2,    2.730,2,    0.429,2,    7.148,2, -999.000, -999.000,9,-999.0000,-999.0000,9,  -999.00,  -999.00,9,   3.7017
  58JH19990615,   75N,   552,  2,      5,2,19990707, 67.0000,  -1.4970, 3603,    149.7,   3.5135,  34.9411,2,  34.9751,3,    311.7,2,     5.09,2,    12.04,2,     0.04,2,     0.81,2,    5.373,2,    2.740,2,    0.423,2,    7.311,2,    1.358,    0.057,2,   1.7843,   0.1850,2,    -1.25,     2.00,2,   3.5036
  58JH19990615,   75N,   552,  2,      4,2,19990707, 67.0000,  -1.4970, 3603,    199.7,   2.8745,  34.9314,2,  34.9296,3,    313.0,2,     5.09,2,    12.15,2,     0.03,2,     0.81,2,    5.404,2,    2.793,2,    0.427,2,    7.342,2, -999.000, -999.000,9,-999.0000,-999.0000,9,  -999.00,  -999.00,9,   2.8623
  58JH19990615,   75N,   552,  2,      3,2,19990707, 67.0000,  -1.4970, 3603,    299.0,   2.2488,  34.9346,2,  34.9330,3,    313.0,2,     5.20,2,    12.38,2,     0.03,2,     0.82,2,    5.381,2,    2.771,2,    0.428,2,    7.205,2, -999.000, -999.000,9,-999.0000,-999.0000,9,  -999.00,  -999.00,9,   2.2317
  58JH19990615,   75N,   552,  2,      2,2,19990707, 67.0000,  -1.4970, 3603,    499.5,   0.4800,  34.8873,2,  34.8861,3,    307.3,2,     6.25,2,    13.89,2,     0.02,2,     0.93,2,    4.479,2,    2.169,2,    0.307,2,    5.588,2,    1.258,    0.029,2,   1.8265,   0.1880,2,     4.42,     2.00,2,   0.4580
  58JH19990615,   75N,   552,  2,      1,2,19990707, 67.0000,  -1.4970, 3603,    601.2,   0.0332,  34.8891,2,  34.8879,3,    301.6,2,     7.25,2,    14.46,2,     0.02,2,     0.98,2,    5.302,2,    2.618,2,    0.429,2,    6.648,2, -999.000, -999.000,9,-999.0000,-999.0000,9,  -999.00,  -999.00,9,   0.0084