BOTTLE,20090622PRINUNIVRMK
EXPOCODE,SECT_ID,STNNBR,CASTNO,BTLNBR,BTLNBR_FLAG_W,DATE,LATITUDE,LONGITUDE,DEPTH,CTDPRS,CTDTMP,CTDSAL,CTDSAL_FLAG_W,SALNTY,SALNTY_FLAG_W,OXYGEN,OXYGEN_FLAG_W,SILCAT,SILCAT_FLAG_W,NITRAT,NITRAT_FLAG_W,NITRIT,NITRIT_FLAG_W,PHSPHT,PHSPHT_FLAG_W,CFC-11,CFC-11_FLAG_W,CFC-12,CFC-12_FLAG_W,CFC113,CFC113_FLAG_W,CCL4,CCL4_FLAG_W,TRITUM,TRITER,TRITUM_FLAG_W,HELIUM,HELIER,HELIUM_FLAG_W,DELHE3,DELHER,DELHE3_FLAG_W,THETA
,,,,,,,,,METERS,DBARS,ITS-90,PSS-78,,PSS-78,,UMOL/KG,,UMOL/KG,,UMOL/KG,,UMOL/KG,,UMOL/KG,,PMOL/KG,,PMOL/KG,,PMOL/KG,,PMOL/KG,,TU,TU,,NMOL/KG,NMOL/KG,,PERCNT,PERCNT,,DEGC
  58JH19990615,   75N,   484,  1,     11,2,19990621, 72.0837,   2.7543, 2363,      9.1,   6.7630,  35.1099,2,  35.0810,3,    325.6,2,     2.20,2,     2.53,2,     0.07,2,     0.25,2, -999.000,9, -999.000,9, -999.000,9, -999.000,9, -999.000, -999.000,9,-999.0000,-999.0000,9,  -999.00,  -999.00,9,   6.7622
  58JH19990615,   75N,   484,  1,     10,2,19990621, 72.0837,   2.7543, 2363,     31.0,   6.2280,  35.1111,2,  35.1000,3,    293.8,2,     4.18,2,     9.14,2,     0.13,2,     0.66,2, -999.000,9, -999.000,9, -999.000,9, -999.000,9, -999.000, -999.000,9,-999.0000,-999.0000,9,  -999.00,  -999.00,9,   6.2253
  58JH19990615,   75N,   484,  1,      9,2,19990621, 72.0837,   2.7543, 2363,     51.8,   5.3490,  35.1231,2,  35.0870,3,    295.9,2,     5.00,2,    11.52,2,     0.19,2,     0.78,2, -999.000,9, -999.000,9, -999.000,9, -999.000,9, -999.000, -999.000,9,-999.0000,-999.0000,9,  -999.00,  -999.00,9,   5.3448
  58JH19990615,   75N,   484,  1,      8,2,19990621, 72.0837,   2.7543, 2363,    100.2,   4.8160,  35.1054,2,  35.0720,3,    298.1,2,     4.99,2,    12.06,2,     0.02,2,     0.79,2, -999.000,9, -999.000,9, -999.000,9, -999.000,9, -999.000, -999.000,9,-999.0000,-999.0000,9,  -999.00,  -999.00,9,   4.8084
  58JH19990615,   75N,   484,  1,      7,2,19990621, 72.0837,   2.7543, 2363,    200.3,   4.3840,  35.0799,2,  35.0500,3,    302.9,2,     4.99,2,    12.05,2,     0.01,2,     0.79,2, -999.000,9, -999.000,9, -999.000,9, -999.000,9, -999.000, -999.000,9,-999.0000,-999.0000,9,  -999.00,  -999.00,9,   4.3693
  58JH19990615,   75N,   484,  1,      6,2,19990621, 72.0837,   2.7543, 2363,    293.8,   3.8780,  35.0585,2,  35.0270,3,    299.4,2,     5.19,2,    12.53,2,     0.00,2,     0.82,2, -999.000,9, -999.000,9, -999.000,9, -999.000,9, -999.000, -999.000,9,-999.0000,-999.0000,9,  -999.00,  -999.00,9,   3.8574
  58JH19990615,   75N,   484,  1,      5,2,19990621, 72.0837,   2.7543, 2363,    500.3,   1.8150,  34.9355,2,  34.9070,3,    309.5,2,     6.15,2,    13.71,2,     0.00,2,     0.90,2, -999.000,9, -999.000,9, -999.000,9, -999.000,9, -999.000, -999.000,9,-999.0000,-999.0000,9,  -999.00,  -999.00,9,   1.7874
  58JH19990615,   75N,   484,  1,      4,2,19990621, 72.0837,   2.7543, 2363,    999.6,  -0.5270,  34.9003,2,  34.8720,3,    302.5,2,     8.98,2,    14.76,2,     0.00,2,     1.00,2, -999.000,9, -999.000,9, -999.000,9, -999.000,9, -999.000, -999.000,9,-999.0000,-999.0000,9,  -999.00,  -999.00,9,  -0.5673
  58JH19990615,   75N,   484,  1,      3,2,19990621, 72.0837,   2.7543, 2363,   1500.9,  -0.7930,  34.9108,2,  34.8830,3,    298.6,2,    11.26,2,    15.17,2,     0.00,2,     1.02,2, -999.000,9, -999.000,9, -999.000,9, -999.000,9, -999.000, -999.000,9,-999.0000,-999.0000,9,  -999.00,  -999.00,9,  -0.8570
  58JH19990615,   75N,   484,  1,      2,2,19990621, 72.0837,   2.7543, 2363,   2001.3,  -0.8810,  34.9113,2,  34.8840,3,    298.2,2,    12.35,2,    15.44,2,     0.00,2,     1.04,2, -999.000,9, -999.000,9, -999.000,9, -999.000,9, -999.000, -999.000,9,-999.0000,-999.0000,9,  -999.00,  -999.00,9,  -0.9738
  58JH19990615,   75N,   484,  1,      1,2,19990621, 72.0837,   2.7543, 2363,   2353.4,  -0.8760,-999.0000,9,  34.8840,3,    299.0,2,    12.64,2,    15.46,2,     0.00,2,     1.03,2, -999.000,9, -999.000,9, -999.000,9, -999.000,9, -999.000, -999.000,9,-999.0000,-999.0000,9,  -999.00,  -999.00,9,-999.0000
  58JH19990615,   75N,   485,  1,     11,2,19990622, 72.4180,   1.6660, 2962,    500.6,  -0.3305,  34.8891,2,  34.8869,3,    308.2,2,     7.65,2,    14.19,2,     0.00,2,     0.95,2,    3.676,2,    1.848,2,    0.249,2,    5.108,2, -999.000, -999.000,9,-999.0000,-999.0000,9,  -999.00,  -999.00,9,  -0.3492
  58JH19990615,   75N,   485,  1,     10,2,19990622, 72.4180,   1.6660, 2962,    599.7,  -0.4698,  34.8918,2,  34.8897,3,    306.4,2,     8.16,2,    14.35,2,     0.00,2,     0.96,2,    3.302,6,    1.604,6,    0.195,6,    4.734,6, -999.000, -999.000,9,-999.0000,-999.0000,9,  -999.00,  -999.00,9,  -0.4921
  58JH19990615,   75N,   485,  1,      9,2,19990622, 72.4180,   1.6660, 2962,    800.5,  -0.6396,  34.8950,2,  34.8929,3,    309.5,2,     8.46,2,    14.23,2,     0.00,2,     0.96,2,    3.169,2,    1.274,2,    0.193,2,    4.695,2, -999.000, -999.000,9,-999.0000,-999.0000,9,  -999.00,  -999.00,9,  -0.6697
  58JH19990615,   75N,   485,  1,      8,2,19990622, 72.4180,   1.6660, 2962,    999.1,  -0.7249,  34.8992,2,  34.8972,3,    310.8,2,     8.91,2,    14.32,2,     0.00,2,     0.97,2,    2.886,2,    1.260,2,    0.159,2,    4.496,2, -999.000, -999.000,9,-999.0000,-999.0000,9,  -999.00,  -999.00,9,  -0.7636
  58JH19990615,   75N,   485,  1,      7,2,19990622, 72.4180,   1.6660, 2962,   1500.6,  -0.8243,  34.9124,2,  34.9103,3,    299.9,2,    11.19,2,    15.05,2,     0.00,2,     1.02,2,    0.995,2,    0.410,2,    0.033,2,    2.376,2, -999.000, -999.000,9,-999.0000,-999.0000,9,  -999.00,  -999.00,9,  -0.8879
  58JH19990615,   75N,   485,  1,      6,2,19990622, 72.4180,   1.6660, 2962,   1750.9,  -0.8660,  34.9125,2,  34.8850,3,    299.5,2,    11.56,2,    15.10,2,     0.00,2,     1.02,2, -999.000,9, -999.000,9, -999.000,9, -999.000,9, -999.000, -999.000,9,-999.0000,-999.0000,9,  -999.00,  -999.00,9,  -0.9435
  58JH19990615,   75N,   485,  1,      5,2,19990622, 72.4180,   1.6660, 2962,   2000.4,  -0.8748,  34.9123,2,  34.9102,3,    299.9,2,    11.74,2,    15.16,2,     0.00,2,     1.02,2,    0.785,2,    0.303,2,    0.026,2,    2.224,2, -999.000, -999.000,9,-999.0000,-999.0000,9,  -999.00,  -999.00,9,  -0.9677
  58JH19990615,   75N,   485,  1,      4,2,19990622, 72.4180,   1.6660, 2962,   2249.7,  -0.8780,  34.9119,2,  34.8850,3,    299.5,2,    11.91,2,    15.20,2,     0.00,2,     1.02,2, -999.000,9, -999.000,9, -999.000,9, -999.000,9, -999.000, -999.000,9,-999.0000,-999.0000,9,  -999.00,  -999.00,9,  -0.9872
  58JH19990615,   75N,   485,  1,      3,2,19990622, 72.4180,   1.6660, 2962,   2501.5,  -0.8661,  34.9119,2,  34.9099,3,    300.8,2,    11.94,2,    15.15,2,     0.00,2,     1.02,2,    0.732,2,    0.222,2,    0.024,2,    2.179,2, -999.000, -999.000,9,-999.0000,-999.0000,9,  -999.00,  -999.00,9,  -0.9932
  58JH19990615,   75N,   485,  1,      2,2,19990622, 72.4180,   1.6660, 2962,   2750.4,  -0.8490,  34.9120,2,  34.8850,3,    300.3,2,    11.93,2,    15.10,2,     0.00,2,     1.03,2, -999.000,9, -999.000,9, -999.000,9, -999.000,9, -999.000, -999.000,9,-999.0000,-999.0000,9,  -999.00,  -999.00,9,  -0.9949
  58JH19990615,   75N,   485,  1,      1,2,19990622, 72.4180,   1.6660, 2962,   2952.5,  -0.8330,  34.9123,2,  34.9090,3,    300.3,2,    11.96,2,    15.17,2,     0.00,2,     1.03,2,    0.749,2,    0.295,2,    0.024,2,    2.109,2, -999.000, -999.000,9,-999.0000,-999.0000,9,  -999.00,  -999.00,9,  -0.9950
  58JH19990615,   75N,   485,  2,     12,2,19990622, 72.4180,   1.6660, 2962,      5.6,   3.8790,-999.0000,9,  34.8310,3,    338.3,2,     2.58,2,     5.82,2,     0.05,2,     0.46,2,    5.527,2,    2.968,2,    0.412,2,    7.214,2, -999.000, -999.000,9,-999.0000,-999.0000,9,  -999.00,  -999.00,9,-999.0000
  58JH19990615,   75N,   485,  2,     11,2,19990622, 72.4180,   1.6660, 2962,     10.6,   3.9471,  34.8680,2,  34.8660,3,    337.0,2,     2.62,2,     5.85,2,     0.05,2,     0.46,2,    5.444,2,    2.947,2,    0.447,2,    7.215,2, -999.000, -999.000,9,-999.0000,-999.0000,9,  -999.00,  -999.00,9,   3.9464
  58JH19990615,   75N,   485,  2,     10,2,19990622, 72.4180,   1.6660, 2962,     21.4,   3.3380,  34.8665,2,  34.8500,3,    336.1,2,     3.39,2,     7.60,2,     0.07,2,     0.58,2, -999.000,9, -999.000,9, -999.000,9, -999.000,9, -999.000, -999.000,9,-999.0000,-999.0000,9,  -999.00,  -999.00,9,   3.3366
  58JH19990615,   75N,   485,  2,      9,2,19990622, 72.4180,   1.6660, 2962,     31.9,   3.9448,  34.8671,2,  34.8650,3,    330.4,2,     4.52,2,     9.87,2,     0.11,2,     0.73,2,    5.332,2,    2.968,2,    0.472,2,    6.879,2, -999.000, -999.000,9,-999.0000,-999.0000,9,  -999.00,  -999.00,9,   3.9426
  58JH19990615,   75N,   485,  2,      8,2,19990622, 72.4180,   1.6660, 2962,     40.7,   2.2460,  34.8764,2,  34.9110,3,    326.9,2,     4.90,2,    10.76,2,     0.14,2,     0.77,2, -999.000,9, -999.000,9, -999.000,9, -999.000,9, -999.000, -999.000,9,-999.0000,-999.0000,9,  -999.00,  -999.00,9,   2.2438
  58JH19990615,   75N,   485,  2,      7,2,19990622, 72.4180,   1.6660, 2962,     48.9,   2.4766,  34.9093,2,  34.9072,3,    322.6,2,     5.33,2,    11.82,2,     0.21,2,     0.81,2,    5.248,2,    2.837,2,    0.473,2,    6.603,2, -999.000, -999.000,9,-999.0000,-999.0000,9,  -999.00,  -999.00,9,   2.4739
  58JH19990615,   75N,   485,  2,      6,2,19990622, 72.4180,   1.6660, 2962,     72.9,   1.8410,  34.9393,2,  34.9372,3,    319.1,2,     5.62,2,    12.61,2,     0.12,2,     0.85,2,    5.212,2,    2.796,2,    0.443,2,    6.602,2, -999.000, -999.000,9,-999.0000,-999.0000,9,  -999.00,  -999.00,9,   1.8373
  58JH19990615,   75N,   485,  2,      5,2,19990622, 72.4180,   1.6660, 2962,     98.1,   1.2816,  34.9192,2,  34.9171,3,    323.9,2,     5.60,2,    12.46,2,     0.08,2,     0.84,2,    5.320,2,    2.900,2,    0.480,2,    6.911,2, -999.000, -999.000,9,-999.0000,-999.0000,9,  -999.00,  -999.00,9,   1.2769
  58JH19990615,   75N,   485,  2,      4,2,19990622, 72.4180,   1.6660, 2962,    149.4,   0.3460,  34.8555,2,  34.8310,3,    335.2,2,  -999.00,9,  -999.00,9,  -999.00,9,  -999.00,9, -999.000,9, -999.000,9, -999.000,9, -999.000,9, -999.000, -999.000,9,-999.0000,-999.0000,9,  -999.00,  -999.00,9,   0.3400
  58JH19990615,   75N,   485,  2,      3,2,19990622, 72.4180,   1.6660, 2962,    200.0,   0.1757,  34.8525,2,  34.8504,3,    338.7,2,     5.43,2,    11.87,2,     0.04,2,     0.80,2,    5.825,2,    2.896,2,    0.457,2,    7.575,2, -999.000, -999.000,9,-999.0000,-999.0000,9,  -999.00,  -999.00,9,   0.1679
  58JH19990615,   75N,   485,  2,      2,2,19990622, 72.4180,   1.6660, 2962,    300.2,   0.0820,  34.8663,2,  34.8510,3,    313.9,2,     6.60,2,    13.47,2,     0.00,2,     0.90,2, -999.000,9, -999.000,9, -999.000,9, -999.000,9, -999.000, -999.000,9,-999.0000,-999.0000,9,  -999.00,  -999.00,9,   0.0703
  58JH19990615,   75N,   485,  2,      1,2,19990622, 72.4180,   1.6660, 2962,    403.7,  -0.1806,  34.8838,2,  34.8820,3,    317.8,2,     6.77,2,    13.40,2,     0.00,2,     0.90,2,    4.245,2,    2.190,2,    0.312,2,    5.654,2, -999.000, -999.000,9,-999.0000,-999.0000,9,  -999.00,  -999.00,9,  -0.1959
  58JH19990615,   75N,   486,  1,     11,2,19990622, 72.7505,   0.5892, 2992,      9.3,   2.6810,  34.7460,2,  34.7110,3,    354.0,2,     0.30,2,     4.72,2,     0.04,2,     0.40,2, -999.000,9, -999.000,9, -999.000,9, -999.000,9, -999.000, -999.000,9,-999.0000,-999.0000,9,  -999.00,  -999.00,9,   2.6805
  58JH19990615,   75N,   486,  1,     10,2,19990622, 72.7505,   0.5892, 2992,     29.9,   2.4320,  34.7642,2,  34.7020,3,    359.2,2,     0.70,2,     5.66,2,     0.04,2,     0.48,2, -999.000,9, -999.000,9, -999.000,9, -999.000,9, -999.000, -999.000,9,-999.0000,-999.0000,9,  -999.00,  -999.00,9,   2.4303
  58JH19990615,   75N,   486,  1,      9,2,19990622, 72.7505,   0.5892, 2992,     49.2,   0.1930,  34.7802,2,  34.7430,3,    360.1,2,     3.06,2,     8.98,2,     0.04,2,     0.66,2, -999.000,9, -999.000,9, -999.000,9, -999.000,9, -999.000, -999.000,9,-999.0000,-999.0000,9,  -999.00,  -999.00,9,   0.1912
  58JH19990615,   75N,   486,  1,      8,2,19990622, 72.7505,   0.5892, 2992,     99.1,  -0.6990,  34.8116,2,  34.7830,3,    347.4,2,     5.54,2,    11.71,2,     0.12,2,     0.80,2, -999.000,9, -999.000,9, -999.000,9, -999.000,9, -999.000, -999.000,9,-999.0000,-999.0000,9,  -999.00,  -999.00,9,  -0.7020
  58JH19990615,   75N,   486,  1,      7,2,19990622, 72.7505,   0.5892, 2992,    301.1,  -0.4130,  34.8695,2,  34.8410,3,    326.5,2,     6.43,2,    13.01,2,     0.00,2,     0.88,2, -999.000,9, -999.000,9, -999.000,9, -999.000,9, -999.000, -999.000,9,-999.0000,-999.0000,9,  -999.00,  -999.00,9,  -0.4235
  58JH19990615,   75N,   486,  1,      6,2,19990622, 72.7505,   0.5892, 2992,    500.8,  -0.4540,  34.8847,2,  34.8570,3,    317.8,2,     7.19,2,    13.55,2,     0.00,2,     0.92,2, -999.000,9, -999.000,9, -999.000,9, -999.000,9, -999.000, -999.000,9,-999.0000,-999.0000,9,  -999.00,  -999.00,9,  -0.4722
  58JH19990615,   75N,   486,  1,      5,2,19990622, 72.7505,   0.5892, 2992,   1000.4,  -0.7490,  34.8950,2,  34.8680,3,    313.4,2,     8.55,2,    14.18,2,     0.00,2,     0.96,2, -999.000,9, -999.000,9, -999.000,9, -999.000,9, -999.000, -999.000,9,-999.0000,-999.0000,9,  -999.00,  -999.00,9,  -0.7875
  58JH19990615,   75N,   486,  1,      4,2,19990622, 72.7505,   0.5892, 2992,   1501.0,  -0.7790,  34.9127,2,  34.8860,3,    300.8,2,    10.79,2,    14.87,2,     0.00,2,     1.02,2, -999.000,9, -999.000,9, -999.000,9, -999.000,9, -999.000, -999.000,9,-999.0000,-999.0000,9,  -999.00,  -999.00,9,  -0.8432
  58JH19990615,   75N,   486,  1,      3,2,19990622, 72.7505,   0.5892, 2992,   2000.4,  -0.8880,  34.9126,2,  34.8850,3,    303.0,2,    11.60,2,    15.10,2,     0.00,2,     1.02,2, -999.000,9, -999.000,9, -999.000,9, -999.000,9, -999.000, -999.000,9,-999.0000,-999.0000,9,  -999.00,  -999.00,9,  -0.9806
  58JH19990615,   75N,   486,  1,      2,2,19990622, 72.7505,   0.5892, 2992,   2504.3,  -0.9090,  34.9114,2,  34.8840,3,    301.6,2,    11.92,2,    15.13,2,     0.00,2,     1.03,2, -999.000,9, -999.000,9, -999.000,9, -999.000,9, -999.000, -999.000,9,-999.0000,-999.0000,9,  -999.00,  -999.00,9,  -1.0355
  58JH19990615,   75N,   486,  1,      1,2,19990622, 72.7505,   0.5892, 2992,   2702.4,  -0.9120,  34.9105,2,  34.8820,3,    302.5,2,    11.98,2,    15.12,2,     0.00,2,     1.02,2, -999.000,9, -999.000,9, -999.000,9, -999.000,9, -999.000, -999.000,9,-999.0000,-999.0000,9,  -999.00,  -999.00,9,  -1.0529
  58JH19990615,   75N,   487,  1,     12,2,19990622, 73.0827,  -0.5015, 3000,     10.6,   2.2080,  34.7321,2,  34.6970,3,    353.6,2,     0.38,2,     5.67,2,     0.03,2,     0.41,2, -999.000,9, -999.000,9, -999.000,9, -999.000,9, -999.000, -999.000,9,-999.0000,-999.0000,9,  -999.00,  -999.00,9,   2.2074
  58JH19990615,   75N,   487,  1,     11,2,19990622, 73.0827,  -0.5015, 3000,     31.3,   1.5450,  34.7388,2,  34.7040,3,    360.5,2,     1.13,2,     7.09,2,     0.02,2,     0.55,2, -999.000,9, -999.000,9, -999.000,9, -999.000,9, -999.000, -999.000,9,-999.0000,-999.0000,9,  -999.00,  -999.00,9,   1.5435
  58JH19990615,   75N,   487,  1,     10,2,19990622, 73.0827,  -0.5015, 3000,     50.9,  -0.2940,  34.7855,2,  34.7460,3,    356.6,2,     3.25,2,     9.78,2,     0.06,2,     0.72,2, -999.000,9, -999.000,9, -999.000,9, -999.000,9, -999.000, -999.000,9,-999.0000,-999.0000,9,  -999.00,  -999.00,9,  -0.2957
  58JH19990615,   75N,   487,  1,      9,2,19990622, 73.0827,  -0.5015, 3000,     99.5,  -0.9560,  34.7984,2,  34.7650,3,    351.4,2,     4.78,2,    11.12,2,     0.18,2,     0.78,2, -999.000,9, -999.000,9, -999.000,9, -999.000,9, -999.000, -999.000,9,-999.0000,-999.0000,9,  -999.00,  -999.00,9,  -0.9588
  58JH19990615,   75N,   487,  1,      8,2,19990622, 73.0827,  -0.5015, 3000,    202.2,  -0.5020,  34.8222,2,  34.8150,3,    334.4,2,     5.94,2,    12.53,2,     0.00,2,     0.84,2, -999.000,9, -999.000,9, -999.000,9, -999.000,9, -999.000, -999.000,9,-999.0000,-999.0000,9,  -999.00,  -999.00,9,  -0.5087
  58JH19990615,   75N,   487,  1,      7,2,19990622, 73.0827,  -0.5015, 3000,    301.4,  -0.3190,  34.8744,2,  34.8470,3,    321.7,2,     6.47,2,    13.14,2,     0.00,2,     0.88,2, -999.000,9, -999.000,9, -999.000,9, -999.000,9, -999.000, -999.000,9,-999.0000,-999.0000,9,  -999.00,  -999.00,9,  -0.3297
  58JH19990615,   75N,   487,  1,      6,2,19990622, 73.0827,  -0.5015, 3000,    500.8,  -0.5730,  34.8788,2,  34.8500,3,    320.0,2,     7.02,2,    13.55,2,     0.00,2,     0.91,2, -999.000,9, -999.000,9, -999.000,9, -999.000,9, -999.000, -999.000,9,-999.0000,-999.0000,9,  -999.00,  -999.00,9,  -0.5907
  58JH19990615,   75N,   487,  1,      5,2,19990622, 73.0827,  -0.5015, 3000,    999.6,  -0.7900,  34.8932,2,  34.8640,3,    315.6,2,     8.28,2,    14.06,2,     0.00,2,     0.95,2, -999.000,9, -999.000,9, -999.000,9, -999.000,9, -999.000, -999.000,9,-999.0000,-999.0000,9,  -999.00,  -999.00,9,  -0.8281
  58JH19990615,   75N,   487,  1,      4,2,19990622, 73.0827,  -0.5015, 3000,   1499.9,  -0.7820,  34.9114,2,  34.8840,3,    299.5,2,    10.58,2,    14.82,2,     0.00,2,     1.00,2, -999.000,9, -999.000,9, -999.000,9, -999.000,9, -999.000, -999.000,9,-999.0000,-999.0000,9,  -999.00,  -999.00,9,  -0.8461
  58JH19990615,   75N,   487,  1,      3,2,19990622, 73.0827,  -0.5015, 3000,   2000.7,  -0.8990,  34.9115,2,  34.8840,3,    300.3,2,    11.47,2,    15.01,2,     0.00,2,     1.02,2, -999.000,9, -999.000,9, -999.000,9, -999.000,9, -999.000, -999.000,9,-999.0000,-999.0000,9,  -999.00,  -999.00,9,  -0.9915
  58JH19990615,   75N,   487,  1,      2,2,19990622, 73.0827,  -0.5015, 3000,   2500.7,  -0.9540,  34.9083,2,  34.8810,3,    303.4,2,    11.84,2,    14.94,2,     0.00,2,     1.02,2, -999.000,9, -999.000,9, -999.000,9, -999.000,9, -999.000, -999.000,9,-999.0000,-999.0000,9,  -999.00,  -999.00,9,  -1.0793
  58JH19990615,   75N,   487,  1,      1,2,19990622, 73.0827,  -0.5015, 3000,   2728.0,  -0.9550,  34.9069,2,  34.8790,3,    304.3,2,    11.93,2,    15.04,2,     0.00,2,     1.04,2, -999.000,9, -999.000,9, -999.000,9, -999.000,9, -999.000, -999.000,9,-999.0000,-999.0000,9,  -999.00,  -999.00,9,  -1.0970