BOTTLE,20090622PRINUNIVRMK
EXPOCODE,SECT_ID,STNNBR,CASTNO,BTLNBR,BTLNBR_FLAG_W,DATE,LATITUDE,LONGITUDE,DEPTH,CTDPRS,CTDTMP,CTDSAL,CTDSAL_FLAG_W,SALNTY,SALNTY_FLAG_W,OXYGEN,OXYGEN_FLAG_W,SILCAT,SILCAT_FLAG_W,NITRAT,NITRAT_FLAG_W,NITRIT,NITRIT_FLAG_W,PHSPHT,PHSPHT_FLAG_W,CFC-11,CFC-11_FLAG_W,CFC-12,CFC-12_FLAG_W,CFC113,CFC113_FLAG_W,CCL4,CCL4_FLAG_W,TRITUM,TRITER,TRITUM_FLAG_W,HELIUM,HELIER,HELIUM_FLAG_W,DELHE3,DELHER,DELHE3_FLAG_W,THETA
,,,,,,,,,METERS,DBARS,ITS-90,PSS-78,,PSS-78,,UMOL/KG,,UMOL/KG,,UMOL/KG,,UMOL/KG,,UMOL/KG,,PMOL/KG,,PMOL/KG,,PMOL/KG,,PMOL/KG,,TU,TU,,NMOL/KG,NMOL/KG,,PERCNT,PERCNT,,DEGC
  58JH19990615,   75N,   472,  2,     12,2,19990618, 69.0353,  12.2903, 2841,      6.6,   8.6370,-999.0000,9,  34.6200,3,    296.0,2,     1.98,2,     2.69,2,     0.06,2,     0.26,2, -999.000,9, -999.000,9, -999.000,9, -999.000,9, -999.000, -999.000,9,-999.0000,-999.0000,9,  -999.00,  -999.00,9,-999.0000
  58JH19990615,   75N,   472,  2,     11,2,19990618, 69.0353,  12.2903, 2841,      9.0,   8.6360,  34.6595,2,  34.6200,3,    296.5,2,     1.99,2,     2.76,2,     0.06,2,     0.26,2, -999.000,9, -999.000,9, -999.000,9, -999.000,9, -999.000, -999.000,9,-999.0000,-999.0000,9,  -999.00,  -999.00,9,   8.6351
  58JH19990615,   75N,   472,  2,     10,2,19990618, 69.0353,  12.2903, 2841,     20.3,   8.6380,  34.6619,2,  34.6250,3,    296.5,2,     1.97,2,     2.67,2,     0.06,2,     0.26,2, -999.000,9, -999.000,9, -999.000,9, -999.000,9, -999.000, -999.000,9,-999.0000,-999.0000,9,  -999.00,  -999.00,9,   8.6359
  58JH19990615,   75N,   472,  2,      9,2,19990618, 69.0353,  12.2903, 2841,     28.5,   8.6390,  34.6773,2,  34.6390,3,    299.1,2,     1.95,2,     2.69,2,     0.06,2,     0.26,2, -999.000,9, -999.000,9, -999.000,9, -999.000,9, -999.000, -999.000,9,-999.0000,-999.0000,9,  -999.00,  -999.00,9,   8.6360
  58JH19990615,   75N,   472,  2,      8,2,19990618, 69.0353,  12.2903, 2841,     36.3,   8.5860,  34.7857,2,  34.7390,3,    299.9,2,     2.11,2,     3.39,2,     0.09,2,     0.33,2, -999.000,9, -999.000,9, -999.000,9, -999.000,9, -999.000, -999.000,9,-999.0000,-999.0000,9,  -999.00,  -999.00,9,   8.5822
  58JH19990615,   75N,   472,  2,      7,2,19990618, 69.0353,  12.2903, 2841,     47.3,   7.8510,  35.0882,2,  35.0550,3,    301.6,2,     2.86,2,     6.12,2,     0.16,2,     0.50,2, -999.000,9, -999.000,9, -999.000,9, -999.000,9, -999.000, -999.000,9,-999.0000,-999.0000,9,  -999.00,  -999.00,9,   7.8463
  58JH19990615,   75N,   472,  2,      6,2,19990618, 69.0353,  12.2903, 2841,     74.4,   7.0000,  35.1561,2,  35.1290,3,    289.8,2,     4.07,2,    10.04,2,     0.20,2,     0.70,2, -999.000,9, -999.000,9, -999.000,9, -999.000,9, -999.000, -999.000,9,-999.0000,-999.0000,9,  -999.00,  -999.00,9,   6.9931
  58JH19990615,   75N,   472,  2,      5,2,19990618, 69.0353,  12.2903, 2841,    102.1,   6.7140,  35.1746,2,  35.1470,3,   -999.0,9,     4.14,2,    10.18,2,     0.13,2,     0.74,2, -999.000,9, -999.000,9, -999.000,9, -999.000,9, -999.000, -999.000,9,-999.0000,-999.0000,9,  -999.00,  -999.00,9,   6.7047
  58JH19990615,   75N,   472,  2,      4,2,19990618, 69.0353,  12.2903, 2841,    147.3,   6.2770,  35.1565,2,  35.1270,3,   -999.0,9,     4.68,2,    11.37,2,     0.16,2,     0.78,2, -999.000,9, -999.000,9, -999.000,9, -999.000,9, -999.000, -999.000,9,-999.0000,-999.0000,9,  -999.00,  -999.00,9,   6.2640
  58JH19990615,   75N,   472,  2,      3,2,19990618, 69.0353,  12.2903, 2841,    200.8,   5.9470,  35.1347,2,  35.1080,3,   -999.0,9,     5.38,2,    12.44,2,     0.01,2,     0.81,2, -999.000,9, -999.000,9, -999.000,9, -999.000,9, -999.000, -999.000,9,-999.0000,-999.0000,9,  -999.00,  -999.00,9,   5.9298
  58JH19990615,   75N,   472,  2,      2,2,19990618, 69.0353,  12.2903, 2841,    300.2,   5.0970,  35.0840,2,  35.0460,3,    297.7,2,     5.52,2,    12.44,2,     0.00,2,     0.82,2, -999.000,9, -999.000,9, -999.000,9, -999.000,9, -999.000, -999.000,9,-999.0000,-999.0000,9,  -999.00,  -999.00,9,   5.0730
  58JH19990615,   75N,   472,  2,      1,2,19990618, 69.0353,  12.2903, 2841,    401.0,   3.7250,  35.0127,2,  34.9800,3,    301.6,2,     5.79,2,    13.04,2,     0.00,2,     0.87,2, -999.000,9, -999.000,9, -999.000,9, -999.000,9, -999.000, -999.000,9,-999.0000,-999.0000,9,  -999.00,  -999.00,9,   3.6970
  58JH19990615,   75N,   473,  1,     10,2,19990619, 69.1317,  11.9465, 2864,      7.8,   8.7780,-999.0000,9,  34.8340,3,   -999.0,9,     1.94,2,     2.97,2,     0.07,2,     0.30,2, -999.000,9, -999.000,9, -999.000,9, -999.000,9, -999.000, -999.000,9,-999.0000,-999.0000,9,  -999.00,  -999.00,9,-999.0000
  58JH19990615,   75N,   473,  1,      9,2,19990619, 69.1317,  11.9465, 2864,     30.7,   7.9600,  34.9143,2,  34.9540,3,   -999.0,9,     2.48,2,     4.96,2,     0.10,2,     0.43,2, -999.000,9, -999.000,9, -999.000,9, -999.000,9, -999.000, -999.000,9,-999.0000,-999.0000,9,  -999.00,  -999.00,9,   7.9569
  58JH19990615,   75N,   473,  1,      8,2,19990619, 69.1317,  11.9465, 2864,     48.7,   7.0300,  34.9451,2,  34.9960,3,   -999.0,9,     3.82,2,    10.45,2,     0.01,2,     0.69,2, -999.000,9, -999.000,9, -999.000,9, -999.000,9, -999.000, -999.000,9,-999.0000,-999.0000,9,  -999.00,  -999.00,9,   7.0255
  58JH19990615,   75N,   473,  1,      7,2,19990619, 69.1317,  11.9465, 2864,     97.4,   7.1920,  35.1565,2,  35.1440,3,   -999.0,9,     4.62,2,    11.34,2,     0.08,2,     0.75,2, -999.000,9, -999.000,9, -999.000,9, -999.000,9, -999.000, -999.000,9,-999.0000,-999.0000,9,  -999.00,  -999.00,9,   7.1828
  58JH19990615,   75N,   473,  1,      6,2,19990619, 69.1317,  11.9465, 2864,    147.3,   7.1560,  35.1912,2,  35.1770,3,   -999.0,9,     5.39,2,    12.30,2,     0.00,2,     0.80,2, -999.000,9, -999.000,9, -999.000,9, -999.000,9, -999.000, -999.000,9,-999.0000,-999.0000,9,  -999.00,  -999.00,9,   7.1420
  58JH19990615,   75N,   473,  1,      5,2,19990619, 69.1317,  11.9465, 2864,    200.4,   6.6700,  35.1789,2,  35.1480,3,   -999.0,9,     5.55,2,    12.51,2,     0.01,2,     0.81,2, -999.000,9, -999.000,9, -999.000,9, -999.000,9, -999.000, -999.000,9,-999.0000,-999.0000,9,  -999.00,  -999.00,9,   6.6517
  58JH19990615,   75N,   473,  1,      4,2,19990619, 69.1317,  11.9465, 2864,    300.8,   5.8250,  35.1316,2,  35.0990,3,   -999.0,9,     5.40,2,    12.48,2,     0.00,2,     0.81,2, -999.000,9, -999.000,9, -999.000,9, -999.000,9, -999.000, -999.000,9,-999.0000,-999.0000,9,  -999.00,  -999.00,9,   5.7992
  58JH19990615,   75N,   473,  1,      3,2,19990619, 69.1317,  11.9465, 2864,    500.9,   3.8170,  35.0096,2,  34.9820,3,   -999.0,9,     5.74,2,    12.93,2,     0.00,2,     0.86,2, -999.000,9, -999.000,9, -999.000,9, -999.000,9, -999.000, -999.000,9,-999.0000,-999.0000,9,  -999.00,  -999.00,9,   3.7813
  58JH19990615,   75N,   473,  1,      2,2,19990619, 69.1317,  11.9465, 2864,   2003.3,  -0.8420,  34.9108,2,  34.8830,3,   -999.0,9,    11.82,2,    15.12,2,     0.00,2,     1.02,2, -999.000,9, -999.000,9, -999.000,9, -999.000,9, -999.000, -999.000,9,-999.0000,-999.0000,9,  -999.00,  -999.00,9,  -0.9355
  58JH19990615,   75N,   473,  1,      1,2,19990619, 69.1317,  11.9465, 2864,   2831.3,  -0.8570,  34.9108,2,  34.8830,3,   -999.0,9,    13.13,2,    15.42,2,     0.00,2,     1.03,2, -999.000,9, -999.000,9, -999.000,9, -999.000,9, -999.000, -999.000,9,-999.0000,-999.0000,9,  -999.00,  -999.00,9,  -1.0089
  58JH19990615,   75N,   474,  1,     12,2,19990619, 69.2350,  11.6190, 2891,     11.1,   8.3970,  35.0975,2,  35.0954,3,    295.5,2,     2.21,2,     4.32,2,     0.11,2,     0.39,2,    3.845,2,    2.190,2,    0.234,2,    2.969,2, -999.000, -999.000,9,-999.0000,-999.0000,9,  -999.00,  -999.00,9,   8.3958
  58JH19990615,   75N,   474,  1,     11,2,19990619, 69.2350,  11.6190, 2891,     27.6,   8.3783,  35.0975,2,  35.0954,3,    295.1,2,     2.27,2,     4.44,2,     0.11,2,     0.41,2,    3.839,2,    2.184,2,    0.240,2,    2.956,2, -999.000, -999.000,9,-999.0000,-999.0000,9,  -999.00,  -999.00,9,   8.3755
  58JH19990615,   75N,   474,  1,     10,2,19990619, 69.2350,  11.6190, 2891,     47.0,   7.4635,  35.1609,2,  35.1588,3,    286.3,2,     4.49,2,    11.14,2,     0.16,2,     0.73,2,    3.881,2,    2.266,2,    0.246,2,    2.660,2, -999.000, -999.000,9,-999.0000,-999.0000,9,  -999.00,  -999.00,9,   7.4590
  58JH19990615,   75N,   474,  1,      9,2,19990619, 69.2350,  11.6190, 2891,     99.6,   6.8244,  35.1761,2,  35.1740,3,    286.3,2,     4.74,2,    11.79,2,     0.08,2,     0.77,2,    3.981,2,    2.226,2,    0.229,2,    2.691,2, -999.000, -999.000,9,-999.0000,-999.0000,9,  -999.00,  -999.00,9,   6.8153
  58JH19990615,   75N,   474,  1,      8,2,19990619, 69.2350,  11.6190, 2891,    199.1,   6.2064,  35.1477,2,  35.1453,3,    290.3,2,     5.11,2,    12.11,2,     0.00,2,     0.79,2,    4.095,2,    2.289,2,    0.278,2,    2.831,2, -999.000, -999.000,9,-999.0000,-999.0000,9,  -999.00,  -999.00,9,   6.1890
  58JH19990615,   75N,   474,  1,      7,2,19990619, 69.2350,  11.6190, 2891,    297.3,   5.7309,  35.1252,2,  35.1233,3,    294.2,2,     5.17,2,    12.09,2,     0.00,2,     0.79,2,    4.183,2,    2.414,2,    0.328,2,    2.929,2, -999.000, -999.000,9,-999.0000,-999.0000,9,  -999.00,  -999.00,9,   5.7057
  58JH19990615,   75N,   474,  1,      6,2,19990619, 69.2350,  11.6190, 2891,    497.5,   4.1171,  35.0479,2,  35.0448,3,    301.2,2,     5.25,2,    12.40,2,     0.00,2,     0.82,2,    4.450,2,    2.527,2,    0.304,2,    3.049,2, -999.000, -999.000,9,-999.0000,-999.0000,9,  -999.00,  -999.00,9,   4.0804
  58JH19990615,   75N,   474,  1,      5,2,19990619, 69.2350,  11.6190, 2891,   1000.3,  -0.3005,  34.8968,2,  34.8947,3,    303.8,2,     8.35,2,    14.51,2,     0.00,2,     0.97,2,    2.968,2,    1.533,2,    0.123,2,    2.721,2, -999.000, -999.000,9,-999.0000,-999.0000,9,  -999.00,  -999.00,9,  -0.3427
  58JH19990615,   75N,   474,  1,      4,2,19990619, 69.2350,  11.6190, 2891,   1500.4,  -0.7213,  34.9091,2,  34.9070,3,    299.9,2,    10.64,2,    14.91,2,     0.00,2,     1.01,2,    1.320,2,    0.606,2,    0.011,2,    2.575,2, -999.000, -999.000,9,-999.0000,-999.0000,9,  -999.00,  -999.00,9,  -0.7862
  58JH19990615,   75N,   474,  1,      3,2,19990619, 69.2350,  11.6190, 2891,   1997.8,  -0.8468,  34.9109,2,  34.9088,3,    301.6,2,    11.88,2,    15.18,2,     0.00,2,     1.03,2,    0.667,2,    0.376,2,   -0.002,2,    2.521,2, -999.000, -999.000,9,-999.0000,-999.0000,9,  -999.00,  -999.00,9,  -0.9399
  58JH19990615,   75N,   474,  1,      2,2,19990619, 69.2350,  11.6190, 2891,   2501.3,  -0.8732,  34.9105,2,  34.9085,3,    300.8,2,    12.77,2,    15.38,2,     0.00,2,     1.03,2,    0.478,2,    0.317,2,    0.000,2,    2.499,2, -999.000, -999.000,9,-999.0000,-999.0000,9,  -999.00,  -999.00,9,  -1.0001
  58JH19990615,   75N,   474,  1,      1,2,19990619, 69.2350,  11.6190, 2891,   2881.2,  -0.8590,  34.9108,2,  34.9080,3,    299.5,2,    13.56,2,    15.55,2,     0.00,2,     1.04,2,    0.351,2,    0.220,2,   -0.004,2,    2.091,2, -999.000, -999.000,9,-999.0000,-999.0000,9,  -999.00,  -999.00,9,  -1.0148
  58JH19990615,   75N,   475,  1,     12,2,19990619, 69.4822,  10.9460, 2911,      9.7,   8.5210,-999.0000,9,  35.0620,3,   -999.0,9,     1.53,2,     2.12,2,     0.07,2,     0.27,2, -999.000,9, -999.000,9, -999.000,9, -999.000,9, -999.000, -999.000,9,-999.0000,-999.0000,9,  -999.00,  -999.00,9,-999.0000
  58JH19990615,   75N,   475,  1,     11,2,19990619, 69.4822,  10.9460, 2911,     28.1,   8.4890,  35.0876,2,  35.0610,3,   -999.0,9,     1.55,2,     2.11,2,     0.06,2,     0.27,2, -999.000,9, -999.000,9, -999.000,9, -999.000,9, -999.000, -999.000,9,-999.0000,-999.0000,9,  -999.00,  -999.00,9,   8.4861
  58JH19990615,   75N,   475,  1,     10,2,19990619, 69.4822,  10.9460, 2911,     49.4,   7.1220,  35.1449,2,  35.1150,3,   -999.0,9,     2.78,2,     8.28,2,     0.12,2,     0.65,2, -999.000,9, -999.000,9, -999.000,9, -999.000,9, -999.000, -999.000,9,-999.0000,-999.0000,9,  -999.00,  -999.00,9,   7.1174
  58JH19990615,   75N,   475,  1,      9,2,19990619, 69.4822,  10.9460, 2911,     96.5,   6.1800,  35.1490,2,  35.1200,3,   -999.0,9,     4.79,2,    11.30,2,     0.14,2,     0.77,2, -999.000,9, -999.000,9, -999.000,9, -999.000,9, -999.000, -999.000,9,-999.0000,-999.0000,9,  -999.00,  -999.00,9,   6.1716
  58JH19990615,   75N,   475,  1,      8,2,19990619, 69.4822,  10.9460, 2911,    196.4,   5.6380,  35.1189,2,  35.0930,3,   -999.0,9,     5.26,2,    12.21,2,     0.01,2,     0.79,2, -999.000,9, -999.000,9, -999.000,9, -999.000,9, -999.000, -999.000,9,-999.0000,-999.0000,9,  -999.00,  -999.00,9,   5.6216
  58JH19990615,   75N,   475,  1,      7,2,19990619, 69.4822,  10.9460, 2911,    299.0,   4.9800,  35.0896,2,  35.0560,3,   -999.0,9,     5.23,2,    12.37,2,     0.00,2,     0.80,2, -999.000,9, -999.000,9, -999.000,9, -999.000,9, -999.000, -999.000,9,-999.0000,-999.0000,9,  -999.00,  -999.00,9,   4.9564
  58JH19990615,   75N,   475,  1,      6,2,19990619, 69.4822,  10.9460, 2911,    498.2,   3.3980,  34.9997,2,  34.9720,3,   -999.0,9,     5.81,2,    13.14,2,     0.00,2,     0.88,2, -999.000,9, -999.000,9, -999.000,9, -999.000,9, -999.000, -999.000,9,-999.0000,-999.0000,9,  -999.00,  -999.00,9,   3.3641
  58JH19990615,   75N,   475,  1,      5,2,19990619, 69.4822,  10.9460, 2911,   1000.3,  -0.3630,  34.8978,2,  34.8700,3,   -999.0,9,     8.50,2,    14.52,2,     0.00,2,     0.99,2, -999.000,9, -999.000,9, -999.000,9, -999.000,9, -999.000, -999.000,9,-999.0000,-999.0000,9,  -999.00,  -999.00,9,  -0.4047
  58JH19990615,   75N,   475,  1,      4,2,19990619, 69.4822,  10.9460, 2911,   1498.0,  -0.7140,  34.9088,2,  34.8810,3,   -999.0,9,    10.58,2,    14.92,2,     0.00,2,     1.01,2, -999.000,9, -999.000,9, -999.000,9, -999.000,9, -999.000, -999.000,9,-999.0000,-999.0000,9,  -999.00,  -999.00,9,  -0.7788
  58JH19990615,   75N,   475,  1,      3,2,19990619, 69.4822,  10.9460, 2911,   1999.9,  -0.8370,  34.9111,2,  34.8840,3,   -999.0,9,    11.80,2,    15.11,2,     0.00,2,     1.02,2, -999.000,9, -999.000,9, -999.000,9, -999.000,9, -999.000, -999.000,9,-999.0000,-999.0000,9,  -999.00,  -999.00,9,  -0.9304
  58JH19990615,   75N,   475,  1,      2,2,19990619, 69.4822,  10.9460, 2911,   2497.9,  -0.8660,  34.9106,2,  34.8840,3,   -999.0,9,    12.57,2,    15.27,2,     0.00,2,     1.03,2, -999.000,9, -999.000,9, -999.000,9, -999.000,9, -999.000, -999.000,9,-999.0000,-999.0000,9,  -999.00,  -999.00,9,  -0.9928
  58JH19990615,   75N,   475,  1,      1,2,19990619, 69.4822,  10.9460, 2911,   2901.0,  -0.8540,  34.9111,2,  34.8830,3,   -999.0,9,    13.38,2,    15.45,2,     0.00,2,     1.04,2, -999.000,9, -999.000,9, -999.000,9, -999.000,9, -999.000, -999.000,9,-999.0000,-999.0000,9,  -999.00,  -999.00,9,  -1.0115
  58JH19990615,   75N,   476,  1,     12,2,19990619, 69.6990,  10.2670, 2891,    500.2,   3.2089,  35.0116,2,  35.0095,3,    302.5,2,     5.68,2,    13.05,2,     0.00,2,     0.86,2,    4.693,6,    2.586,6,    0.327,6,    3.287,6, -999.000, -999.000,5,   1.8054,   0.1560,2,  -999.00,     0.00,2,   3.1757
  58JH19990615,   75N,   476,  1,     11,2,19990619, 69.6990,  10.2670, 2891,    598.8,   1.9280,  34.9383,2,  34.9364,3,    303.8,2,     6.34,2,    13.76,2,     0.00,2,     0.92,2,    4.666,2,    2.513,2,    0.310,2,    3.262,2, -999.000, -999.000,5,   1.8507,   0.2290,2,  -999.00,     0.00,2,   1.8940
  58JH19990615,   75N,   476,  1,     10,2,19990619, 69.6990,  10.2670, 2891,    801.8,   0.0486,  34.8928,2,  34.8907,3,    299.0,2,     7.99,2,    14.62,2,     0.00,2,     0.98,2,    3.383,2,    1.783,2,    0.152,2,    2.793,2, -999.000, -999.000,5,   1.8704,   0.1520,2,  -999.00,     0.00,2,   0.0140
  58JH19990615,   75N,   476,  1,      9,2,19990619, 69.6990,  10.2670, 2891,    999.7,  -0.3784,  34.8999,2,  34.8978,3,    300.3,2,     8.76,2,    14.70,2,     0.00,2,     0.98,2,    2.695,2,    1.337,2,    0.091,2,    2.781,2, -999.000, -999.000,5,   1.8463,   0.1540,2,  -999.00,     0.00,2,  -0.4200
  58JH19990615,   75N,   476,  1,      8,2,19990619, 69.6990,  10.2670, 2891,   1251.4,  -0.5953,  34.9049,2,  34.9026,3,    298.2,2,     9.94,2,    14.86,2,     0.00,2,     1.00,2,    1.898,2,    0.920,2,    0.021,2,    2.577,2, -999.000, -999.000,5,   1.8874,   0.1550,2,  -999.00,     0.00,2,  -0.6479
  58JH19990615,   75N,   476,  1,      7,2,19990619, 69.6990,  10.2670, 2891,   1501.7,  -0.7140,  34.9089,2,  34.9068,3,    297.3,2,    10.89,2,    14.99,2,     0.00,2,     1.01,2,    1.285,2,    0.583,2,    0.008,2,    2.737,2, -999.000, -999.000,5,   1.8205,   0.1570,2,  -999.00,     0.00,2,  -0.7790
  58JH19990615,   75N,   476,  1,      6,2,19990619, 69.6990,  10.2670, 2891,   1748.4,  -0.7898,  34.9107,2,  34.9087,3,    295.1,2,    11.48,2,    15.14,2,     0.00,2,     1.02,2,    0.951,2,    0.491,2,    0.023,2,    2.507,2, -999.000, -999.000,5,   1.8545,   0.2270,2,  -999.00,     0.00,2,  -0.8682
  58JH19990615,   75N,   476,  1,      5,2,19990619, 69.6990,  10.2670, 2891,   1999.5,  -0.8277,  34.9111,2,  34.9090,3,    297.3,2,    12.12,2,    15.24,2,     0.00,2,     1.03,2,    0.775,2,    0.414,2,    0.001,2,    2.488,2, -999.000, -999.000,5,   1.8778,   0.2690,2,  -999.00,     0.00,2,  -0.9212
  58JH19990615,   75N,   476,  1,      4,2,19990619, 69.6990,  10.2670, 2891,   2252.9,  -0.8476,  34.9108,2,  34.9087,3,    297.7,2,    12.33,2,    15.27,2,     0.00,2,     1.03,2,    0.635,2,    0.340,2,    0.000,2,    2.453,2, -999.000, -999.000,5,   1.8590,   0.1370,2,  -999.00,     0.00,2,  -0.9575
  58JH19990615,   75N,   476,  1,      3,2,19990619, 69.6990,  10.2670, 2891,   2499.0,  -0.8602,  34.9109,2,  34.9088,3,    298.2,2,    12.58,2,    15.32,2,     0.00,2,     1.03,2,    0.537,2,    0.326,2,    0.000,2,    2.312,2, -999.000, -999.000,5,   1.8558,   0.2240,2,  -999.00,     0.00,2,  -0.9872
  58JH19990615,   75N,   476,  1,      2,2,19990619, 69.6990,  10.2670, 2891,   2749.0,  -0.8629,  34.9108,2,  34.9088,3,    297.3,2,    13.14,2,    15.52,2,     0.00,2,     1.03,2,    0.418,2,    0.271,2,    0.000,2,    2.133,2, -999.000, -999.000,9,-999.0000,-999.0000,9,  -999.00,  -999.00,9,  -1.0084
  58JH19990615,   75N,   476,  1,      1,2,19990619, 69.6990,  10.2670, 2891,   2880.9,  -0.8590,  34.9110,2,  34.9080,3,    296.8,2,    13.58,2,    15.55,2,     0.00,2,     1.04,2,    0.357,2,    0.232,2,    0.001,2,    2.061,2, -999.000, -999.000,5,   1.8838,   0.2980,2,  -999.00,     0.00,2,  -1.0148