BOTTLE,20090622PRINUNIVRMK
EXPOCODE,SECT_ID,STNNBR,CASTNO,BTLNBR,BTLNBR_FLAG_W,DATE,LATITUDE,LONGITUDE,DEPTH,CTDPRS,CTDTMP,CTDSAL,CTDSAL_FLAG_W,SALNTY,SALNTY_FLAG_W,OXYGEN,OXYGEN_FLAG_W,SILCAT,SILCAT_FLAG_W,NITRAT,NITRAT_FLAG_W,NITRIT,NITRIT_FLAG_W,PHSPHT,PHSPHT_FLAG_W,CFC-11,CFC-11_FLAG_W,CFC-12,CFC-12_FLAG_W,CFC113,CFC113_FLAG_W,CCL4,CCL4_FLAG_W,TRITUM,TRITER,TRITUM_FLAG_W,HELIUM,HELIER,HELIUM_FLAG_W,DELHE3,DELHER,DELHE3_FLAG_W,THETA
,,,,,,,,,METERS,DBARS,ITS-90,PSS-78,,PSS-78,,UMOL/KG,,UMOL/KG,,UMOL/KG,,UMOL/KG,,UMOL/KG,,PMOL/KG,,PMOL/KG,,PMOL/KG,,PMOL/KG,,TU,TU,,NMOL/KG,NMOL/KG,,PERCNT,PERCNT,,DEGC
  58JH19990615,   75N,   527,  1,     12,2,19990702, 72.7500,  19.5150,  463,      3.3,   7.9680,-999.0000,9,  35.0550,3,    308.6,2,     1.86,2,     3.32,2,     0.10,2,     0.26,2, -999.000,9, -999.000,9, -999.000,9, -999.000,9, -999.000, -999.000,9,-999.0000,-999.0000,9,  -999.00,  -999.00,9,-999.0000
  58JH19990615,   75N,   527,  1,     11,2,19990702, 72.7500,  19.5150,  463,      8.8,   7.9700,  35.0671,2,  35.0550,3,    308.6,2,     1.86,2,     3.31,2,     0.10,2,     0.27,2, -999.000,9, -999.000,9, -999.000,9, -999.000,9, -999.000, -999.000,9,-999.0000,-999.0000,9,  -999.00,  -999.00,9,   7.9691
  58JH19990615,   75N,   527,  1,     10,2,19990702, 72.7500,  19.5150,  463,     19.8,   7.8760,  35.0621,2,  35.0480,3,    309.5,2,     2.02,2,     3.39,2,     0.10,2,     0.29,2, -999.000,9, -999.000,9, -999.000,9, -999.000,9, -999.000, -999.000,9,-999.0000,-999.0000,9,  -999.00,  -999.00,9,   7.8740
  58JH19990615,   75N,   527,  1,      9,2,19990702, 72.7500,  19.5150,  463,     30.9,   6.9870,  35.0747,2,  35.0670,3,    308.1,2,     3.10,2,     4.46,2,     0.11,2,     0.42,2, -999.000,9, -999.000,9, -999.000,9, -999.000,9, -999.000, -999.000,9,-999.0000,-999.0000,9,  -999.00,  -999.00,9,   6.9841
  58JH19990615,   75N,   527,  1,      8,2,19990702, 72.7500,  19.5150,  463,     50.3,   6.3200,  35.0962,2,  35.0900,3,    300.3,2,     3.57,2,     6.35,2,     0.12,2,     0.59,2, -999.000,9, -999.000,9, -999.000,9, -999.000,9, -999.000, -999.000,9,-999.0000,-999.0000,9,  -999.00,  -999.00,9,   6.3156
  58JH19990615,   75N,   527,  1,      7,2,19990702, 72.7500,  19.5150,  463,     73.3,   6.0720,  35.1195,2,  35.1120,3,    294.2,2,     4.25,2,     9.56,2,     0.11,2,     0.71,2, -999.000,9, -999.000,9, -999.000,9, -999.000,9, -999.000, -999.000,9,-999.0000,-999.0000,9,  -999.00,  -999.00,9,   6.0657
  58JH19990615,   75N,   527,  1,      6,2,19990702, 72.7500,  19.5150,  463,    100.5,   5.7290,  35.1097,2,  35.1040,3,    292.9,2,     4.47,2,    10.13,2,     0.09,2,     0.74,2, -999.000,9, -999.000,9, -999.000,9, -999.000,9, -999.000, -999.000,9,-999.0000,-999.0000,9,  -999.00,  -999.00,9,   5.7206
  58JH19990615,   75N,   527,  1,      5,2,19990702, 72.7500,  19.5150,  463,    149.6,   5.4680,  35.1048,2,  35.1020,3,    292.4,2,     4.91,2,    11.61,2,     0.08,2,     0.78,2, -999.000,9, -999.000,9, -999.000,9, -999.000,9, -999.000, -999.000,9,-999.0000,-999.0000,9,  -999.00,  -999.00,9,   5.4558
  58JH19990615,   75N,   527,  1,      4,2,19990702, 72.7500,  19.5150,  463,    199.4,   5.1090,  35.0948,2,  35.0890,3,    295.5,2,     5.09,2,    12.14,2,     0.08,2,     0.80,2, -999.000,9, -999.000,9, -999.000,9, -999.000,9, -999.000, -999.000,9,-999.0000,-999.0000,9,  -999.00,  -999.00,9,   5.0932
  58JH19990615,   75N,   527,  1,      3,2,19990702, 72.7500,  19.5150,  463,    250.0,   4.5620,  35.0714,2,  35.0630,3,    295.5,2,     5.46,2,    12.55,2,     0.06,2,     0.83,2, -999.000,9, -999.000,9, -999.000,9, -999.000,9, -999.000, -999.000,9,-999.0000,-999.0000,9,  -999.00,  -999.00,9,   4.5432
  58JH19990615,   75N,   527,  1,      2,2,19990702, 72.7500,  19.5150,  463,    300.0,   3.8930,  35.0537,2,  35.0440,3,    294.6,2,     5.88,2,    12.67,2,     0.04,2,     0.88,2, -999.000,9, -999.000,9, -999.000,9, -999.000,9, -999.000, -999.000,9,-999.0000,-999.0000,9,  -999.00,  -999.00,9,   3.8719
  58JH19990615,   75N,   527,  1,      1,2,19990702, 72.7500,  19.5150,  463,    389.9,   2.4810,  35.0243,2,  35.0180,3,    295.5,2,     6.63,2,    12.83,2,     0.04,2,     0.90,2, -999.000,9, -999.000,9, -999.000,9, -999.000,9, -999.000, -999.000,9,-999.0000,-999.0000,9,  -999.00,  -999.00,9,   2.4577
  58JH19990615,   75N,   528,  1,     12,2,19990702, 73.0000,  19.4650,  461,      4.4,   7.2700,  35.0941,2,  35.0880,3,    334.7,2,     1.67,2,     0.18,2,     0.00,2,     0.14,2,    4.585,2,    2.455,2,    0.353,2,    5.740,2, -999.000, -999.000,9,-999.0000,-999.0000,9,  -999.00,  -999.00,9,   7.2696
  58JH19990615,   75N,   528,  1,     11,2,19990702, 73.0000,  19.4650,  461,     10.8,   7.2619,  35.0939,2,  35.0939,3,    335.6,2,     1.68,2,     0.17,2,     0.00,2,     0.14,2,    4.606,2,    2.453,2,    0.338,2,    5.816,2, -999.000, -999.000,9,-999.0000,-999.0000,9,  -999.00,  -999.00,9,   7.2608
  58JH19990615,   75N,   528,  1,     10,2,19990702, 73.0000,  19.4650,  461,     20.2,   7.2448,  35.0938,2,  35.0938,3,    336.0,2,     1.69,2,     0.41,2,     0.01,2,     0.15,2,    4.600,2,    2.448,2,    0.344,2,    5.749,2, -999.000, -999.000,9,-999.0000,-999.0000,9,  -999.00,  -999.00,9,   7.2429
  58JH19990615,   75N,   528,  1,      9,2,19990702, 73.0000,  19.4650,  461,     30.6,   6.9003,  35.0912,2,  35.0912,3,    322.1,2,     2.32,2,     2.61,2,     0.05,2,     0.27,2,    4.628,2,    2.450,2,    0.345,2,    5.813,2, -999.000, -999.000,9,-999.0000,-999.0000,9,  -999.00,  -999.00,9,   6.8975
  58JH19990615,   75N,   528,  1,      8,2,19990702, 73.0000,  19.4650,  461,     50.7,   6.1210,  35.0933,2,  35.0933,3,    315.6,2,     3.34,2,     4.69,2,     0.07,2,     0.44,2,    4.689,6,    2.481,6,    0.346,6,    5.757,6, -999.000, -999.000,9,-999.0000,-999.0000,9,  -999.00,  -999.00,9,   6.1167
  58JH19990615,   75N,   528,  1,      7,2,19990702, 73.0000,  19.4650,  461,     75.2,   5.5682,  35.0979,2,  35.0979,3,    302.0,2,     3.98,2,     7.64,2,     0.10,2,     0.65,2,    4.735,2,    2.501,2,    0.351,2,    5.562,2, -999.000, -999.000,9,-999.0000,-999.0000,9,  -999.00,  -999.00,9,   5.5620
  58JH19990615,   75N,   528,  1,      6,2,19990702, 73.0000,  19.4650,  461,    100.8,   5.0848,  35.0895,2,  35.0896,3,    298.1,2,     4.29,2,     9.68,2,     0.12,2,     0.75,2,    4.851,2,    2.562,2,    0.364,2,    5.439,2, -999.000, -999.000,9,-999.0000,-999.0000,9,  -999.00,  -999.00,9,   5.0769
  58JH19990615,   75N,   528,  1,      5,2,19990702, 73.0000,  19.4650,  461,    151.0,   4.4963,  35.0757,2,  35.0754,3,    300.7,2,     4.65,2,    11.14,2,     0.13,2,     0.79,2,    4.940,2,    2.580,2,    0.381,2,    5.680,2, -999.000, -999.000,9,-999.0000,-999.0000,9,  -999.00,  -999.00,9,   4.4851
  58JH19990615,   75N,   528,  1,      4,2,19990702, 73.0000,  19.4650,  461,    200.8,   3.9665,  35.0652,2,  35.0651,3,    303.8,2,     4.99,2,    12.03,2,     0.12,2,     0.80,2,    5.001,2,    2.612,2,    0.389,2,    5.820,2, -999.000, -999.000,9,-999.0000,-999.0000,9,  -999.00,  -999.00,9,   3.9524
  58JH19990615,   75N,   528,  1,      3,2,19990702, 73.0000,  19.4650,  461,    250.4,   3.4947,  35.0638,2,  35.0639,3,    306.8,2,     4.93,2,    11.87,2,     0.05,2,     0.79,2,    5.154,2,    2.682,2,    0.382,2,    5.940,2, -999.000, -999.000,9,-999.0000,-999.0000,9,  -999.00,  -999.00,9,   3.4780
  58JH19990615,   75N,   528,  1,      2,2,19990702, 73.0000,  19.4650,  461,    299.2,   3.1090,  35.0602,2,  35.0510,3,    310.8,2,     4.93,2,    11.75,2,     0.04,2,     0.79,2, -999.000,9, -999.000,9, -999.000,9, -999.000,9, -999.000, -999.000,9,-999.0000,-999.0000,9,  -999.00,  -999.00,9,   3.0898
  58JH19990615,   75N,   528,  1,      1,2,19990702, 73.0000,  19.4650,  461,    401.9,   2.0860,  35.0205,2,  35.0190,3,    305.1,2,     6.51,2,    12.18,2,     0.07,2,     0.85,2,    5.537,2,    2.850,2,    0.424,2,    6.646,2, -999.000, -999.000,9,-999.0000,-999.0000,9,  -999.00,  -999.00,9,   2.0632
  58JH19990615,   75N,   529,  1,     12,2,19990702, 73.2497,  19.4010,  454,      4.2,   7.3780,  35.0948,2,  35.0890,3,    322.1,2,     1.50,2,     2.15,2,     0.06,2,     0.22,2, -999.000,9, -999.000,9, -999.000,9, -999.000,9, -999.000, -999.000,9,-999.0000,-999.0000,9,  -999.00,  -999.00,9,   7.3776
  58JH19990615,   75N,   529,  1,     11,2,19990702, 73.2497,  19.4010,  454,     12.2,   7.3780,  35.0949,2,  35.0860,3,    323.0,2,     1.38,2,     2.16,2,     0.06,2,     0.22,2, -999.000,9, -999.000,9, -999.000,9, -999.000,9, -999.000, -999.000,9,-999.0000,-999.0000,9,  -999.00,  -999.00,9,   7.3768
  58JH19990615,   75N,   529,  1,     10,2,19990702, 73.2497,  19.4010,  454,     20.6,   7.2160,  35.0957,2,  35.0810,3,    328.6,2,     1.36,2,     1.73,2,     0.05,2,     0.21,2, -999.000,9, -999.000,9, -999.000,9, -999.000,9, -999.000, -999.000,9,-999.0000,-999.0000,9,  -999.00,  -999.00,9,   7.2141
  58JH19990615,   75N,   529,  1,      9,2,19990702, 73.2497,  19.4010,  454,     30.5,   6.4970,  35.0923,2,  35.0840,3,    322.1,2,     2.49,2,     2.80,2,     0.05,2,     0.33,2, -999.000,9, -999.000,9, -999.000,9, -999.000,9, -999.000, -999.000,9,-999.0000,-999.0000,9,  -999.00,  -999.00,9,   6.4943
  58JH19990615,   75N,   529,  1,      8,2,19990702, 73.2497,  19.4010,  454,     50.7,   6.0000,  35.0934,2,  35.0870,3,    306.0,2,     3.49,2,     5.67,2,     0.08,2,     0.52,2, -999.000,9, -999.000,9, -999.000,9, -999.000,9, -999.000, -999.000,9,-999.0000,-999.0000,9,  -999.00,  -999.00,9,   5.9957
  58JH19990615,   75N,   529,  1,      7,2,19990702, 73.2497,  19.4010,  454,     74.6,   5.4640,  35.1060,2,  35.0980,3,    294.2,2,     4.32,2,     9.50,2,     0.10,2,     0.73,2, -999.000,9, -999.000,9, -999.000,9, -999.000,9, -999.000, -999.000,9,-999.0000,-999.0000,9,  -999.00,  -999.00,9,   5.4579
  58JH19990615,   75N,   529,  1,      6,2,19990702, 73.2497,  19.4010,  454,    100.5,   5.1900,  35.0966,2,  35.0910,3,    293.3,2,     4.81,2,    11.39,2,     0.11,2,     0.79,2, -999.000,9, -999.000,9, -999.000,9, -999.000,9, -999.000, -999.000,9,-999.0000,-999.0000,9,  -999.00,  -999.00,9,   5.1820
  58JH19990615,   75N,   529,  1,      5,2,19990702, 73.2497,  19.4010,  454,    149.8,   4.5710,  35.0849,2,  35.0720,3,    299.0,2,     4.53,2,    10.70,2,     0.12,2,     0.78,2, -999.000,9, -999.000,9, -999.000,9, -999.000,9, -999.000, -999.000,9,-999.0000,-999.0000,9,  -999.00,  -999.00,9,   4.5598
  58JH19990615,   75N,   529,  1,      4,2,19990702, 73.2497,  19.4010,  454,    200.8,   3.9670,  35.0697,2,  35.0640,3,    303.8,2,     4.10,2,    11.19,2,     0.16,2,     0.78,2, -999.000,9, -999.000,9, -999.000,9, -999.000,9, -999.000, -999.000,9,-999.0000,-999.0000,9,  -999.00,  -999.00,9,   3.9529
  58JH19990615,   75N,   529,  1,      3,2,19990702, 73.2497,  19.4010,  454,    300.2,   3.1410,  35.0669,2,  35.0600,3,    311.6,2,     4.98,2,    11.96,2,     0.07,2,     0.79,2, -999.000,9, -999.000,9, -999.000,9, -999.000,9, -999.000, -999.000,9,-999.0000,-999.0000,9,  -999.00,  -999.00,9,   3.1216
  58JH19990615,   75N,   529,  1,      2,2,19990702, 73.2497,  19.4010,  454,    400.3,   2.3270,  35.0303,2,  35.0240,3,    311.6,2,     5.45,2,    11.85,2,     0.09,2,     0.80,2, -999.000,9, -999.000,9, -999.000,9, -999.000,9, -999.000, -999.000,9,-999.0000,-999.0000,9,  -999.00,  -999.00,9,   2.3035
  58JH19990615,   75N,   529,  1,      1,2,19990702, 73.2497,  19.4010,  454,    443.8,   1.9660,  35.0209,2,  35.0150,3,    312.5,2,     5.70,2,    11.60,2,     0.13,2,     0.82,2, -999.000,9, -999.000,9, -999.000,9, -999.000,9, -999.000, -999.000,9,-999.0000,-999.0000,9,  -999.00,  -999.00,9,   1.9411
  58JH19990615,   75N,   530,  1,     12,2,19990702, 73.4990,  19.3360,  476,      4.4,   6.6910,  35.0535,2,  35.0370,3,    363.1,2,     2.09,2,     0.06,2,     0.00,2,     0.07,2,    4.784,2,    2.506,2,    0.403,2,    6.005,2, -999.000, -999.000,9,-999.0000,-999.0000,9,  -999.00,  -999.00,9,   6.6906
  58JH19990615,   75N,   530,  1,     11,2,19990702, 73.4990,  19.3360,  476,      8.4,   6.6356,  35.0553,2,  35.0553,3,    365.2,2,     2.07,2,     0.04,2,     0.00,2,     0.08,2,    4.798,2,    2.497,2,    0.389,2,    5.992,2, -999.000, -999.000,9,-999.0000,-999.0000,9,  -999.00,  -999.00,9,   6.6348
  58JH19990615,   75N,   530,  1,     10,2,19990702, 73.4990,  19.3360,  476,     20.1,   6.3596,  35.0546,2,  35.0546,3,    360.0,2,     2.11,2,     0.04,2,     0.00,2,     0.09,2,    4.794,2,    2.510,2,    0.402,2,    5.997,2, -999.000, -999.000,9,-999.0000,-999.0000,9,  -999.00,  -999.00,9,   6.3579
  58JH19990615,   75N,   530,  1,      9,2,19990702, 73.4990,  19.3360,  476,     29.8,   6.0349,  35.0535,2,  35.0535,3,    334.3,2,     2.55,2,     1.44,2,     0.04,2,     0.24,2,    4.908,2,    2.549,2,    0.382,2,    5.936,2, -999.000, -999.000,9,-999.0000,-999.0000,9,  -999.00,  -999.00,9,   6.0323
  58JH19990615,   75N,   530,  1,      8,2,19990702, 73.4990,  19.3360,  476,     49.3,   4.7357,  35.0471,2,  35.0471,3,    325.1,2,     2.32,2,     3.67,2,     0.08,2,     0.40,2,    5.011,2,    2.603,2,    0.394,2,    5.963,2, -999.000, -999.000,9,-999.0000,-999.0000,9,  -999.00,  -999.00,9,   4.7320
  58JH19990615,   75N,   530,  1,      7,2,19990702, 73.4990,  19.3360,  476,     74.8,   4.2382,  35.0828,2,  35.0828,3,    303.8,2,     2.72,2,     8.93,2,     0.17,2,     0.67,2,    4.962,2,    2.575,2,    0.404,2,    5.995,2, -999.000, -999.000,9,-999.0000,-999.0000,9,  -999.00,  -999.00,9,   4.2329
  58JH19990615,   75N,   530,  1,      6,2,19990702, 73.4990,  19.3360,  476,     99.7,   3.9567,  35.0824,2,  35.0824,3,    306.4,2,     3.07,2,     9.84,2,     0.15,2,     0.71,2,    5.042,2,    2.668,2,    0.393,2,    6.076,2, -999.000, -999.000,9,-999.0000,-999.0000,9,  -999.00,  -999.00,9,   3.9497
  58JH19990615,   75N,   530,  1,      5,2,19990702, 73.4990,  19.3360,  476,    149.3,   3.5015,  35.0757,2,  35.0750,3,    316.0,2,     3.84,2,    10.13,2,     0.17,2,     0.75,2,    5.145,2,    2.724,2,    0.402,2,    6.174,2, -999.000, -999.000,9,-999.0000,-999.0000,9,  -999.00,  -999.00,9,   3.4916
  58JH19990615,   75N,   530,  1,      4,2,19990702, 73.4990,  19.3360,  476,    200.6,   3.2927,  35.0698,2,  35.0695,3,    315.6,2,     4.14,2,    10.51,2,     0.21,2,     0.76,2,    5.204,2,    2.690,2,    0.415,2,    6.295,2, -999.000, -999.000,9,-999.0000,-999.0000,9,  -999.00,  -999.00,9,   3.2797
  58JH19990615,   75N,   530,  1,      3,2,19990702, 73.4990,  19.3360,  476,    297.3,   2.8456,  35.0534,2,  35.0538,3,    312.1,2,     4.99,2,    11.73,2,     0.07,2,     0.78,2,    5.280,2,    2.705,2,    0.404,2,    6.499,2, -999.000, -999.000,9,-999.0000,-999.0000,9,  -999.00,  -999.00,9,   2.8272
  58JH19990615,   75N,   530,  1,      2,2,19990702, 73.4990,  19.3360,  476,    399.6,   2.0380,  35.0160,2,  35.0159,3,    309.9,2,     6.27,2,    12.09,2,     0.04,2,     0.83,2,    5.504,2,    2.827,2,    0.418,2,    6.650,2, -999.000, -999.000,9,-999.0000,-999.0000,9,  -999.00,  -999.00,9,   2.0155
  58JH19990615,   75N,   530,  1,      1,2,19990702, 73.4990,  19.3360,  476,    465.5,   1.9570,-999.0000,9,  35.0180,3,    307.7,2,     6.11,2,    11.88,2,     0.09,2,     0.85,2,    5.554,6,    2.882,6,    0.435,6,    6.717,6, -999.000, -999.000,9,-999.0000,-999.0000,9,  -999.00,  -999.00,9,-999.0000
  58JH19990615,   75N,   531,  1,     12,2,19990702, 73.6667,  19.2967,  350,      4.7,   7.0440,  35.0628,2,  35.0450,3,    366.6,2,     1.95,2,     0.02,2,     0.00,2,     0.07,2, -999.000,9, -999.000,9, -999.000,9, -999.000,9, -999.000, -999.000,9,-999.0000,-999.0000,9,  -999.00,  -999.00,9,   7.0436
  58JH19990615,   75N,   531,  1,     11,2,19990702, 73.6667,  19.2967,  350,      9.8,   6.8650,  35.0588,2,  35.0410,3,    369.2,2,     2.28,2,     0.02,2,     0.00,2,     0.09,2, -999.000,9, -999.000,9, -999.000,9, -999.000,9, -999.000, -999.000,9,-999.0000,-999.0000,9,  -999.00,  -999.00,9,   6.8641
  58JH19990615,   75N,   531,  1,     10,2,19990702, 73.6667,  19.2967,  350,     19.6,   6.3940,  35.0594,2,  35.0420,3,    329.9,2,     2.80,2,     2.61,2,     0.06,2,     0.28,2, -999.000,9, -999.000,9, -999.000,9, -999.000,9, -999.000, -999.000,9,-999.0000,-999.0000,9,  -999.00,  -999.00,9,   6.3923
  58JH19990615,   75N,   531,  1,      9,2,19990702, 73.6667,  19.2967,  350,     30.1,   5.2690,  35.0579,2,  35.0480,3,    314.7,2,     3.25,2,     5.43,2,     0.09,2,     0.52,2, -999.000,9, -999.000,9, -999.000,9, -999.000,9, -999.000, -999.000,9,-999.0000,-999.0000,9,  -999.00,  -999.00,9,   5.2666
  58JH19990615,   75N,   531,  1,      8,2,19990702, 73.6667,  19.2967,  350,     50.3,   4.6570,  35.0722,2,  35.0650,3,    322.1,2,     1.56,2,     4.44,2,     0.10,2,     0.46,2, -999.000,9, -999.000,9, -999.000,9, -999.000,9, -999.000, -999.000,9,-999.0000,-999.0000,9,  -999.00,  -999.00,9,   4.6532
  58JH19990615,   75N,   531,  1,      7,2,19990702, 73.6667,  19.2967,  350,     75.2,   3.8620,  35.0838,2,  35.0720,3,    310.3,2,     2.52,2,     7.96,2,     0.20,2,     0.69,2, -999.000,9, -999.000,9, -999.000,9, -999.000,9, -999.000, -999.000,9,-999.0000,-999.0000,9,  -999.00,  -999.00,9,   3.8569
  58JH19990615,   75N,   531,  1,      6,2,19990702, 73.6667,  19.2967,  350,    101.2,   3.5000,  35.0702,2,  35.0660,3,    307.3,2,     3.92,2,    10.96,2,     0.19,2,     0.79,2, -999.000,9, -999.000,9, -999.000,9, -999.000,9, -999.000, -999.000,9,-999.0000,-999.0000,9,  -999.00,  -999.00,9,   3.4933
  58JH19990615,   75N,   531,  1,      5,2,19990702, 73.6667,  19.2967,  350,    150.2,   3.2360,  35.0695,2,  35.0630,3,    309.9,2,     4.09,2,    11.37,2,     0.18,2,     0.78,2, -999.000,9, -999.000,9, -999.000,9, -999.000,9, -999.000, -999.000,9,-999.0000,-999.0000,9,  -999.00,  -999.00,9,   3.2264
  58JH19990615,   75N,   531,  1,      4,2,19990702, 73.6667,  19.2967,  350,    200.6,   2.9830,  35.0606,2,  35.0540,3,    312.9,2,     4.65,2,    11.63,2,     0.09,2,     0.77,2, -999.000,9, -999.000,9, -999.000,9, -999.000,9, -999.000, -999.000,9,-999.0000,-999.0000,9,  -999.00,  -999.00,9,   2.9705
  58JH19990615,   75N,   531,  1,      3,2,19990702, 73.6667,  19.2967,  350,    250.6,   2.6660,  35.0469,2,  35.0390,3,    312.5,2,     5.02,2,    11.73,2,     0.12,2,     0.79,2, -999.000,9, -999.000,9, -999.000,9, -999.000,9, -999.000, -999.000,9,-999.0000,-999.0000,9,  -999.00,  -999.00,9,   2.6509
  58JH19990615,   75N,   531,  1,      2,2,19990702, 73.6667,  19.2967,  350,    299.4,   2.1690,  35.0245,2,  35.0160,3,    310.8,2,     5.58,2,    11.79,2,     0.11,2,     0.82,2, -999.000,9, -999.000,9, -999.000,9, -999.000,9, -999.000, -999.000,9,-999.0000,-999.0000,9,  -999.00,  -999.00,9,   2.1521
  58JH19990615,   75N,   531,  1,      1,2,19990702, 73.6667,  19.2967,  350,    340.0,   1.9940,  35.0217,2,  35.0160,3,    317.3,2,     5.47,2,    11.04,2,     0.15,2,     0.79,2, -999.000,9, -999.000,9, -999.000,9, -999.000,9, -999.000, -999.000,9,-999.0000,-999.0000,9,  -999.00,  -999.00,9,   1.9751