BOTTLE,20090622PRINUNIVRMK
EXPOCODE,SECT_ID,STNNBR,CASTNO,BTLNBR,BTLNBR_FLAG_W,DATE,LATITUDE,LONGITUDE,DEPTH,CTDPRS,CTDTMP,CTDSAL,CTDSAL_FLAG_W,SALNTY,SALNTY_FLAG_W,OXYGEN,OXYGEN_FLAG_W,SILCAT,SILCAT_FLAG_W,NITRAT,NITRAT_FLAG_W,NITRIT,NITRIT_FLAG_W,PHSPHT,PHSPHT_FLAG_W,CFC-11,CFC-11_FLAG_W,CFC-12,CFC-12_FLAG_W,CFC113,CFC113_FLAG_W,CCL4,CCL4_FLAG_W,TRITUM,TRITER,TRITUM_FLAG_W,HELIUM,HELIER,HELIUM_FLAG_W,DELHE3,DELHER,DELHE3_FLAG_W,THETA
,,,,,,,,,METERS,DBARS,ITS-90,PSS-78,,PSS-78,,UMOL/KG,,UMOL/KG,,UMOL/KG,,UMOL/KG,,UMOL/KG,,PMOL/KG,,PMOL/KG,,PMOL/KG,,PMOL/KG,,TU,TU,,NMOL/KG,NMOL/KG,,PERCNT,PERCNT,,DEGC
  58JH19990615,   75N,   476,  2,     12,2,19990619, 69.6990,  10.2670, 2891,      7.5,   7.9595,  35.0711,2,  35.0692,3,    298.6,2,     1.57,2,     2.64,2,     0.06,2,     0.28,2,    3.933,2,    2.286,2,    0.218,2,    3.033,2, -999.000, -999.000,9,   1.7880,   0.1590,9,  -999.00,     0.00,9,   7.9588
  58JH19990615,   75N,   476,  2,     11,2,19990619, 69.6990,  10.2670, 2891,      8.0,   7.9594,  35.0710,2,  35.0691,3,    299.0,2,     1.59,2,     2.63,2,     0.06,2,     0.29,2,    3.977,2,    2.280,2,    0.209,2,    3.167,2, -999.000, -999.000,5,   1.7618,   0.1730,2,  -999.00,     0.00,2,   7.9586
  58JH19990615,   75N,   476,  2,     10,2,19990619, 69.6990,  10.2670, 2891,     18.6,   7.9603,  35.0710,2,  35.0689,3,    299.0,2,     1.59,2,     2.63,2,     0.06,2,     0.29,2,    3.951,2,    2.254,2,    0.238,2,    3.135,2, -999.000, -999.000,9,-999.0000,-999.0000,9,  -999.00,  -999.00,9,   7.9585
  58JH19990615,   75N,   476,  2,      9,2,19990619, 69.6990,  10.2670, 2891,     28.2,   7.9657,  35.0739,2,  35.0718,3,    299.0,2,     1.59,2,     2.63,2,     0.06,2,     0.29,2,    3.968,2,    2.345,2,    0.214,2,    3.068,2, -999.000, -999.000,5,   1.7922,   0.1540,2,  -999.00,     0.00,2,   7.9629
  58JH19990615,   75N,   476,  2,      8,2,19990619, 69.6990,  10.2670, 2891,     40.6,   7.7716,  35.1152,2,  35.1131,3,    299.0,2,     1.59,2,     2.70,2,     0.06,2,     0.30,2,    3.814,2,    2.295,2,    0.293,2,    3.108,2, -999.000, -999.000,9,-999.0000,-999.0000,9,  -999.00,  -999.00,9,   7.7676
  58JH19990615,   75N,   476,  2,      7,2,19990619, 69.6990,  10.2670, 2891,     49.3,   6.6284,  35.1510,2,  35.1489,3,    305.5,2,     3.06,2,     7.17,2,     0.10,2,     0.57,2,    4.058,2,    2.305,2,    0.229,2,    2.933,2, -999.000, -999.000,5,   1.8198,   0.1590,2,  -999.00,     0.00,2,   6.6239
  58JH19990615,   75N,   476,  2,      6,2,19990619, 69.6990,  10.2670, 2891,     74.0,   6.2953,  35.1488,2,  35.1467,3,    285.9,2,     4.22,2,    10.51,2,     0.16,2,     0.75,2,    4.067,2,    2.481,2,    0.230,2,    2.919,2, -999.000, -999.000,5,   1.8099,   0.1520,2,  -999.00,     0.00,2,   6.2888
  58JH19990615,   75N,   476,  2,      5,2,19990619, 69.6990,  10.2670, 2891,     99.5,   6.1364,  35.1403,2,  35.1382,3,    285.0,2,     4.72,2,    11.25,2,     0.10,2,     0.77,2,    4.105,2,    2.408,2,    0.228,2,    2.944,2, -999.000, -999.000,5,   1.8140,   0.1540,2,  -999.00,     0.00,2,   6.1277
  58JH19990615,   75N,   476,  2,      4,2,19990619, 69.6990,  10.2670, 2891,    150.3,   5.8984,  35.1355,2,  35.1318,3,    289.0,2,     5.25,2,    12.16,2,     0.01,2,     0.80,2,    4.120,2,    2.493,2,    0.271,2,    2.938,2, -999.000, -999.000,5,   1.8173,   0.1520,2,  -999.00,     0.00,2,   5.8856
  58JH19990615,   75N,   476,  2,      3,2,19990619, 69.6990,  10.2670, 2891,    198.9,   5.6464,  35.1252,2,  35.1234,3,    290.7,2,     5.25,2,    12.19,2,     0.06,2,     0.79,2,    4.213,2,    2.533,2,    0.272,2,    3.048,2, -999.000, -999.000,5,   1.8537,   0.1520,2,  -999.00,     0.00,2,   5.6297
  58JH19990615,   75N,   476,  2,      2,2,19990619, 69.6990,  10.2670, 2891,    298.4,   5.0272,  35.0917,2,  35.0878,3,    295.1,2,     5.24,2,    12.24,2,     0.01,2,     0.80,2,    4.336,2,    2.570,2,    0.292,2,    3.062,2, -999.000, -999.000,9,-999.0000,-999.0000,9,  -999.00,  -999.00,9,   5.0035
  58JH19990615,   75N,   476,  2,      1,2,19990619, 69.6990,  10.2670, 2891,    404.0,   4.0287,  35.0428,2,  35.0392,3,    296.8,2,     5.37,2,    12.53,2,     0.00,2,     0.83,2,    4.464,2,    2.608,2,    0.297,2,    3.164,2, -999.000, -999.000,5,   2.4288,   0.1600,3,  -999.00,     0.00,3,   3.9995
  58JH19990615,   75N,   477,  1,     12,2,19990620, 69.9458,   9.5825, 2819,     11.4,   8.2080,  35.1230,2,  35.0900,3,    293.8,2,     1.78,2,     3.49,2,     0.09,2,     0.32,2, -999.000,9, -999.000,9, -999.000,9, -999.000,9, -999.000, -999.000,9,-999.0000,-999.0000,9,  -999.00,  -999.00,9,   8.2068
  58JH19990615,   75N,   477,  1,     11,2,19990620, 69.9458,   9.5825, 2819,     29.6,   8.1860,  35.1246,2,  35.0830,3,    299.0,2,     1.61,2,     2.93,2,     0.08,2,     0.30,2, -999.000,9, -999.000,9, -999.000,9, -999.000,9, -999.000, -999.000,9,-999.0000,-999.0000,9,  -999.00,  -999.00,9,   8.1830
  58JH19990615,   75N,   477,  1,     10,2,19990620, 69.9458,   9.5825, 2819,     47.7,   7.1670,  35.1242,2,  35.1540,3,    281.1,2,     4.78,2,    11.86,2,     0.08,2,     0.77,2, -999.000,9, -999.000,9, -999.000,9, -999.000,9, -999.000, -999.000,9,-999.0000,-999.0000,9,  -999.00,  -999.00,9,   7.1625
  58JH19990615,   75N,   477,  1,      9,2,19990620, 69.9458,   9.5825, 2819,     99.4,   6.3340,  35.1472,2,  35.1230,3,    287.6,2,     4.79,2,    11.98,2,     0.11,2,     0.78,2, -999.000,9, -999.000,9, -999.000,9, -999.000,9, -999.000, -999.000,9,-999.0000,-999.0000,9,  -999.00,  -999.00,9,   6.3252
  58JH19990615,   75N,   477,  1,      8,2,19990620, 69.9458,   9.5825, 2819,    199.1,   5.5010,  35.1112,2,  35.0830,3,    292.5,2,     5.32,2,    12.24,2,     0.01,2,     0.80,2, -999.000,9, -999.000,9, -999.000,9, -999.000,9, -999.000, -999.000,9,-999.0000,-999.0000,9,  -999.00,  -999.00,9,   5.4846
  58JH19990615,   75N,   477,  1,      7,2,19990620, 69.9458,   9.5825, 2819,    300.4,   4.6670,  35.0910,2,  35.0590,3,    298.1,2,     5.06,2,    12.01,2,     0.00,2,     0.79,2, -999.000,9, -999.000,9, -999.000,9, -999.000,9, -999.000, -999.000,9,-999.0000,-999.0000,9,  -999.00,  -999.00,9,   4.6440
  58JH19990615,   75N,   477,  1,      6,2,19990620, 69.9458,   9.5825, 2819,    500.5,   3.2240,  34.9972,2,  34.9860,3,    303.4,2,     5.63,2,    13.04,2,     0.00,2,     0.86,2, -999.000,9, -999.000,9, -999.000,9, -999.000,9, -999.000, -999.000,9,-999.0000,-999.0000,9,  -999.00,  -999.00,9,   3.1907
  58JH19990615,   75N,   477,  1,      5,2,19990620, 69.9458,   9.5825, 2819,    999.3,  -0.4430,  34.8993,2,  34.8720,3,    299.9,2,     8.82,2,    14.55,2,     0.00,2,     0.99,2, -999.000,9, -999.000,9, -999.000,9, -999.000,9, -999.000, -999.000,9,-999.0000,-999.0000,9,  -999.00,  -999.00,9,  -0.4840
  58JH19990615,   75N,   477,  1,      4,2,19990620, 69.9458,   9.5825, 2819,   1499.8,  -0.7360,  34.9094,2,  34.8820,3,    297.7,2,    10.90,2,    14.98,2,     0.00,2,     1.01,2, -999.000,9, -999.000,9, -999.000,9, -999.000,9, -999.000, -999.000,9,-999.0000,-999.0000,9,  -999.00,  -999.00,9,  -0.8006
  58JH19990615,   75N,   477,  1,      3,2,19990620, 69.9458,   9.5825, 2819,   1998.4,  -0.8470,  34.9109,2,  34.8840,3,    298.2,2,    12.00,2,    15.05,2,     0.00,2,     1.02,2, -999.000,9, -999.000,9, -999.000,9, -999.000,9, -999.000, -999.000,9,-999.0000,-999.0000,9,  -999.00,  -999.00,9,  -0.9401
  58JH19990615,   75N,   477,  1,      2,2,19990620, 69.9458,   9.5825, 2819,   2499.7,  -0.8690,  34.9106,2,  34.8830,3,    297.7,2,    12.37,2,    15.15,2,     0.00,2,     1.03,2, -999.000,9, -999.000,9, -999.000,9, -999.000,9, -999.000, -999.000,9,-999.0000,-999.0000,9,  -999.00,  -999.00,9,  -0.9959
  58JH19990615,   75N,   477,  1,      1,2,19990620, 69.9458,   9.5825, 2819,   2808.8,  -0.8640,  34.9108,2,  34.8830,3,    298.2,2,    12.81,2,    15.31,2,     0.00,2,     1.04,2, -999.000,9, -999.000,9, -999.000,9, -999.000,9, -999.000, -999.000,9,-999.0000,-999.0000,9,  -999.00,  -999.00,9,  -1.0141
  58JH19990615,   75N,   478,  1,     12,2,19990620, 70.1673,   8.8820, 2862,      8.5,   8.2070,  35.1026,2,  35.1110,3,    295.1,2,     1.65,2,     2.91,2,     0.07,2,     0.29,2, -999.000,9, -999.000,9, -999.000,9, -999.000,9, -999.000, -999.000,9,-999.0000,-999.0000,9,  -999.00,  -999.00,9,   8.2061
  58JH19990615,   75N,   478,  1,     11,2,19990620, 70.1673,   8.8820, 2862,     29.1,   8.0940,  35.1270,2,  35.1060,3,    294.6,2,     1.89,2,     3.56,2,     0.07,2,     0.33,2, -999.000,9, -999.000,9, -999.000,9, -999.000,9, -999.000, -999.000,9,-999.0000,-999.0000,9,  -999.00,  -999.00,9,   8.0911
  58JH19990615,   75N,   478,  1,     10,2,19990620, 70.1673,   8.8820, 2862,     51.1,   6.9130,  35.1760,2,  35.1500,3,    293.7,2,     3.61,2,     8.83,2,     0.12,2,     0.67,2, -999.000,9, -999.000,9, -999.000,9, -999.000,9, -999.000, -999.000,9,-999.0000,-999.0000,9,  -999.00,  -999.00,9,   6.9083
  58JH19990615,   75N,   478,  1,      9,2,19990620, 70.1673,   8.8820, 2862,     99.8,   6.4620,  35.1764,2,  35.1390,3,    292.0,2,     4.65,2,    10.93,2,     0.11,2,     0.77,2, -999.000,9, -999.000,9, -999.000,9, -999.000,9, -999.000, -999.000,9,-999.0000,-999.0000,9,  -999.00,  -999.00,9,   6.4531
  58JH19990615,   75N,   478,  1,      8,2,19990620, 70.1673,   8.8820, 2862,    202.5,   5.5450,  35.1336,2,  35.0760,3,    291.1,2,     5.44,2,    12.28,2,     0.00,2,     0.81,2, -999.000,9, -999.000,9, -999.000,9, -999.000,9, -999.000, -999.000,9,-999.0000,-999.0000,9,  -999.00,  -999.00,9,   5.5282
  58JH19990615,   75N,   478,  1,      7,2,19990620, 70.1673,   8.8820, 2862,    301.7,   4.8750,  35.0840,2,  35.0540,3,    295.9,2,     5.18,2,    12.10,2,     0.00,2,     0.80,2, -999.000,9, -999.000,9, -999.000,9, -999.000,9, -999.000, -999.000,9,-999.0000,-999.0000,9,  -999.00,  -999.00,9,   4.8514
  58JH19990615,   75N,   478,  1,      6,2,19990620, 70.1673,   8.8820, 2862,    499.1,   3.0500,  35.0232,2,  34.9600,3,    301.2,2,     5.90,2,    13.30,2,     0.00,2,     0.89,2, -999.000,9, -999.000,9, -999.000,9, -999.000,9, -999.000, -999.000,9,-999.0000,-999.0000,9,  -999.00,  -999.00,9,   3.0174
  58JH19990615,   75N,   478,  1,      5,2,19990620, 70.1673,   8.8820, 2862,    999.9,  -0.4350,  34.8987,2,  34.8710,3,    300.3,2,     8.75,2,    14.53,2,     0.00,2,     0.98,2, -999.000,9, -999.000,9, -999.000,9, -999.000,9, -999.000, -999.000,9,-999.0000,-999.0000,9,  -999.00,  -999.00,9,  -0.4761
  58JH19990615,   75N,   478,  1,      4,2,19990620, 70.1673,   8.8820, 2862,   1498.7,  -0.7600,  34.9101,2,  34.8820,3,    297.7,2,    10.96,2,    15.03,2,     0.00,2,     1.01,2, -999.000,9, -999.000,9, -999.000,9, -999.000,9, -999.000, -999.000,9,-999.0000,-999.0000,9,  -999.00,  -999.00,9,  -0.8243
  58JH19990615,   75N,   478,  1,      3,2,19990620, 70.1673,   8.8820, 2862,   1997.7,  -0.8690,  34.9110,2,  34.8840,3,    298.2,2,    12.05,2,    15.17,2,     0.00,2,     1.02,2, -999.000,9, -999.000,9, -999.000,9, -999.000,9, -999.000, -999.000,9,-999.0000,-999.0000,9,  -999.00,  -999.00,9,  -0.9617
  58JH19990615,   75N,   478,  1,      2,2,19990620, 70.1673,   8.8820, 2862,   2498.0,  -0.8810,  34.9107,2,  34.8830,3,    297.7,2,    12.96,2,    15.40,2,     0.00,2,     1.04,2, -999.000,9, -999.000,9, -999.000,9, -999.000,9, -999.000, -999.000,9,-999.0000,-999.0000,9,  -999.00,  -999.00,9,  -1.0075
  58JH19990615,   75N,   478,  1,      1,2,19990620, 70.1673,   8.8820, 2862,   2852.2,  -0.8610,  34.9110,2,  34.8830,3,    302.5,2,    13.52,2,    15.56,2,     0.00,2,     1.04,2, -999.000,9, -999.000,9, -999.000,9, -999.000,9, -999.000, -999.000,9,-999.0000,-999.0000,9,  -999.00,  -999.00,9,  -1.0145
  58JH19990615,   75N,   479,  1,     12,2,19990620, 70.4000,   8.2010, 2898,    501.6,   3.1251,  35.0038,2,  35.0029,3,    301.6,2,     5.92,2,    13.39,2,     0.00,2,     0.87,2,    4.662,2,    2.719,2,    0.333,2,    3.267,2, -999.000, -999.000,9,-999.0000,-999.0000,9,  -999.00,  -999.00,9,   3.0921
  58JH19990615,   75N,   479,  1,     11,2,19990620, 70.4000,   8.2010, 2898,    601.5,   1.5802,  34.9249,2,  34.9225,3,    302.1,2,     6.64,2,    14.11,2,     0.00,2,     0.94,2,    4.527,2,    2.550,2,    0.311,2,    3.945,2, -999.000, -999.000,9,-999.0000,-999.0000,9,  -999.00,  -999.00,9,   1.5477
  58JH19990615,   75N,   479,  1,     10,2,19990620, 70.4000,   8.2010, 2898,    800.3,  -0.0431,  34.8929,2,  34.8908,3,    300.3,2,     7.81,2,    14.52,2,     0.00,2,     0.97,2,    3.435,2,    1.840,2,    0.163,2,    2.891,2, -999.000, -999.000,9,-999.0000,-999.0000,9,  -999.00,  -999.00,9,  -0.0771
  58JH19990615,   75N,   479,  1,      9,2,19990620, 70.4000,   8.2010, 2898,   1000.1,  -0.4274,  34.8994,2,  34.8973,3,    300.8,2,     9.85,2,    14.95,2,     0.00,2,     1.00,2,    2.817,2,    1.395,2,    0.054,3,    3.367,3, -999.000, -999.000,9,-999.0000,-999.0000,9,  -999.00,  -999.00,9,  -0.4686
  58JH19990615,   75N,   479,  1,      8,2,19990620, 70.4000,   8.2010, 2898,   1249.6,  -0.6263,  34.9054,2,  34.9034,3,    300.8,2,     9.88,2,    14.95,2,     0.00,2,     1.00,2,    1.792,2,    0.867,2,    0.048,2,    2.644,2, -999.000, -999.000,9,-999.0000,-999.0000,9,  -999.00,  -999.00,9,  -0.6785
  58JH19990615,   75N,   479,  1,      7,2,19990620, 70.4000,   8.2010, 2898,   1499.1,  -0.7475,  34.9101,2,  34.9080,3,    297.3,2,    10.94,2,    15.12,2,     0.00,2,     1.01,2,    1.082,2,    0.480,2,    0.001,2,    2.664,2, -999.000, -999.000,9,-999.0000,-999.0000,9,  -999.00,  -999.00,9,  -0.8119
  58JH19990615,   75N,   479,  1,      6,2,19990620, 70.4000,   8.2010, 2898,   1749.9,  -0.8212,  34.9112,2,  34.9091,3,    297.3,2,    11.57,2,    15.20,2,     0.00,2,     1.02,2,    0.723,6,    0.281,6,    0.012,6,    2.803,6, -999.000, -999.000,9,-999.0000,-999.0000,9,  -999.00,  -999.00,9,  -0.8993
  58JH19990615,   75N,   479,  1,      5,2,19990620, 70.4000,   8.2010, 2898,   2000.5,  -0.8636,  34.9109,2,  34.9088,3,    295.5,2,    11.98,2,    15.27,2,     0.00,2,     1.02,2,    0.602,2,    0.262,2,    0.010,2,    2.452,2, -999.000, -999.000,9,-999.0000,-999.0000,9,  -999.00,  -999.00,9,  -0.9566
  58JH19990615,   75N,   479,  1,      4,2,19990620, 70.4000,   8.2010, 2898,   2251.2,  -0.8785,  34.9110,2,  34.9088,3,    298.2,2,    12.40,2,    15.34,2,     0.00,2,     1.02,2,    0.517,2,    0.254,2,   -0.001,2,    2.575,2, -999.000, -999.000,9,-999.0000,-999.0000,9,  -999.00,  -999.00,9,  -0.9878
  58JH19990615,   75N,   479,  1,      3,2,19990620, 70.4000,   8.2010, 2898,   2498.9,  -0.8791,  34.9109,2,  34.9088,3,    297.7,2,    12.86,2,    15.49,2,     0.00,2,     1.03,2,    0.424,2,    0.136,2,    0.000,2,    2.389,2, -999.000, -999.000,9,-999.0000,-999.0000,9,  -999.00,  -999.00,9,  -1.0057
  58JH19990615,   75N,   479,  1,      2,2,19990620, 70.4000,   8.2010, 2898,   2749.7,  -0.8688,  34.9109,2,  34.9088,3,    297.3,2,    13.37,2,    15.58,2,     0.00,2,     1.03,2,    0.339,2,    0.166,2,    0.010,2,    2.182,2, -999.000, -999.000,9,-999.0000,-999.0000,9,  -999.00,  -999.00,9,  -1.0142
  58JH19990615,   75N,   479,  1,      1,2,19990620, 70.4000,   8.2010, 2898,   2874.9,  -0.8594,  34.9110,2,  34.9089,3,    296.4,2,    13.46,2,    15.59,2,     0.00,2,     1.04,2,    0.330,2,    0.193,2,    0.011,2,    2.019,2, -999.000, -999.000,9,-999.0000,-999.0000,9,  -999.00,  -999.00,9,  -1.0147
  58JH19990615,   75N,   479,  2,     12,2,19990620, 70.4000,   8.2010, 2898,      6.0,   7.6880,-999.0000,9,  35.0710,3,    303.4,2,     1.67,2,     2.79,2,     0.06,2,     0.27,2,    4.006,2,    2.473,2,    0.240,2,    2.988,2, -999.000, -999.000,9,-999.0000,-999.0000,9,  -999.00,  -999.00,9,-999.0000
  58JH19990615,   75N,   479,  2,     11,2,19990620, 70.4000,   8.2010, 2898,     10.6,   7.6880,-999.0000,9,  35.0710,3,    303.8,2,     1.69,2,     2.81,2,     0.06,2,     0.27,2,    3.994,2,    2.513,2,    0.254,2,    2.966,2, -999.000, -999.000,9,-999.0000,-999.0000,9,  -999.00,  -999.00,9,-999.0000
  58JH19990615,   75N,   479,  2,     10,2,19990620, 70.4000,   8.2010, 2898,     19.9,   8.0934,  35.1318,2,  35.1297,3,    303.3,2,     1.69,2,     2.84,2,     0.06,2,     0.27,2,    3.973,2,    2.477,2,    0.232,2,    3.185,2, -999.000, -999.000,9,-999.0000,-999.0000,9,  -999.00,  -999.00,9,   8.0914
  58JH19990615,   75N,   479,  2,      9,2,19990620, 70.4000,   8.2010, 2898,     30.4,   8.0840,  35.1333,2,  35.1312,3,    302.9,2,     1.70,2,     2.92,2,     0.06,2,     0.29,2,    4.001,2,    2.437,2,    0.245,2,    3.083,2, -999.000, -999.000,9,-999.0000,-999.0000,9,  -999.00,  -999.00,9,   8.0810
  58JH19990615,   75N,   479,  2,      8,2,19990620, 70.4000,   8.2010, 2898,     39.5,   7.9996,  35.1376,2,  35.1355,3,    301.2,2,     1.85,2,     3.31,2,     0.06,2,     0.32,2,    4.039,2,    2.464,2,    0.232,2,    3.070,2, -999.000, -999.000,9,-999.0000,-999.0000,9,  -999.00,  -999.00,9,   7.9956
  58JH19990615,   75N,   479,  2,      7,2,19990620, 70.4000,   8.2010, 2898,     50.2,   6.8860,  35.1831,2,  35.1810,3,    300.7,2,     2.13,2,     3.86,2,     0.06,2,     0.36,2,    4.018,2,    2.445,2,    0.245,2,    3.052,2, -999.000, -999.000,9,-999.0000,-999.0000,9,  -999.00,  -999.00,9,   6.8813
  58JH19990615,   75N,   479,  2,      6,2,19990620, 70.4000,   8.2010, 2898,     75.0,   6.4539,  35.1519,2,  35.1498,3,    286.8,2,     4.06,2,     9.82,2,     0.14,2,     0.75,2,    4.152,2,    2.808,2,    0.235,2,    3.025,2, -999.000, -999.000,9,-999.0000,-999.0000,9,  -999.00,  -999.00,9,   6.4472
  58JH19990615,   75N,   479,  2,      5,2,19990620, 70.4000,   8.2010, 2898,     99.3,   6.2624,  35.1477,2,  35.1456,3,    282.8,2,     4.43,2,    10.40,2,     0.02,2,     0.69,2,    4.170,2,    2.760,2,    0.251,2,    2.947,2, -999.000, -999.000,9,-999.0000,-999.0000,9,  -999.00,  -999.00,9,   6.2537
  58JH19990615,   75N,   479,  2,      4,2,19990620, 70.4000,   8.2010, 2898,    149.6,   5.9986,  35.1385,2,  35.1368,3,    291.1,2,     4.65,2,    10.75,2,     0.11,2,     0.76,2,    4.240,6,    2.798,6,    0.279,6,    3.056,6, -999.000, -999.000,9,-999.0000,-999.0000,9,  -999.00,  -999.00,9,   5.9858
  58JH19990615,   75N,   479,  2,      3,2,19990620, 70.4000,   8.2010, 2898,    200.1,   5.7546,  35.1291,2,  35.1269,3,    294.6,2,     5.06,2,    11.77,2,     0.10,2,     0.77,2,    4.252,2,    2.843,2,    0.291,2,    2.987,2, -999.000, -999.000,9,-999.0000,-999.0000,9,  -999.00,  -999.00,9,   5.7377
  58JH19990615,   75N,   479,  2,      2,2,19990620, 70.4000,   8.2010, 2898,    299.3,   4.8258,  35.0751,2,  35.0720,3,    302.5,2,     5.12,2,    12.14,2,     0.02,2,     0.78,2,    4.366,2,    2.737,2,    0.290,2,    3.118,2, -999.000, -999.000,9,-999.0000,-999.0000,9,  -999.00,  -999.00,9,   4.8025
  58JH19990615,   75N,   479,  2,      1,2,19990620, 70.4000,   8.2010, 2898,    401.8,   4.1023,  35.0422,2,  35.0420,3,    301.2,2,     5.22,2,    12.37,2,     0.09,2,     0.81,2,    4.541,2,    2.914,2,    0.311,2,    3.197,2, -999.000, -999.000,9,-999.0000,-999.0000,9,  -999.00,  -999.00,9,   4.0730