BOTTLE,20090622PRINUNIVRMK
EXPOCODE,SECT_ID,STNNBR,CASTNO,BTLNBR,BTLNBR_FLAG_W,DATE,LATITUDE,LONGITUDE,DEPTH,CTDPRS,CTDTMP,CTDSAL,CTDSAL_FLAG_W,SALNTY,SALNTY_FLAG_W,OXYGEN,OXYGEN_FLAG_W,SILCAT,SILCAT_FLAG_W,NITRAT,NITRAT_FLAG_W,NITRIT,NITRIT_FLAG_W,PHSPHT,PHSPHT_FLAG_W,CFC-11,CFC-11_FLAG_W,CFC-12,CFC-12_FLAG_W,CFC113,CFC113_FLAG_W,CCL4,CCL4_FLAG_W,TRITUM,TRITER,TRITUM_FLAG_W,HELIUM,HELIER,HELIUM_FLAG_W,DELHE3,DELHER,DELHE3_FLAG_W,THETA
,,,,,,,,,METERS,DBARS,ITS-90,PSS-78,,PSS-78,,UMOL/KG,,UMOL/KG,,UMOL/KG,,UMOL/KG,,UMOL/KG,,PMOL/KG,,PMOL/KG,,PMOL/KG,,PMOL/KG,,TU,TU,,NMOL/KG,NMOL/KG,,PERCNT,PERCNT,,DEGC
  58JH19990615,   75N,   480,  1,     12,2,19990620, 70.7512,   7.0743, 2989,     10.6,   7.7830,  35.0620,2,  35.0440,3,    299.4,2,     1.64,2,     3.29,2,     0.08,2,     0.30,2, -999.000,9, -999.000,9, -999.000,9, -999.000,9, -999.000, -999.000,9,-999.0000,-999.0000,9,  -999.00,  -999.00,9,   7.7820
  58JH19990615,   75N,   480,  1,     11,2,19990620, 70.7512,   7.0743, 2989,     27.5,   7.7870,  35.0615,2,  35.0430,3,    302.0,2,     1.66,2,     3.23,2,     0.08,2,     0.30,2, -999.000,9, -999.000,9, -999.000,9, -999.000,9, -999.000, -999.000,9,-999.0000,-999.0000,9,  -999.00,  -999.00,9,   7.7843
  58JH19990615,   75N,   480,  1,     10,2,19990620, 70.7512,   7.0743, 2989,     50.2,   6.8960,  35.1672,2,  35.1150,3,    280.2,2,     4.08,2,    10.55,2,     0.12,2,     0.76,2, -999.000,9, -999.000,9, -999.000,9, -999.000,9, -999.000, -999.000,9,-999.0000,-999.0000,9,  -999.00,  -999.00,9,   6.8914
  58JH19990615,   75N,   480,  1,      9,2,19990620, 70.7512,   7.0743, 2989,    100.7,   6.7320,  35.1782,2,  35.1420,3,    283.3,2,     4.82,2,    11.78,2,     0.04,2,     0.78,2, -999.000,9, -999.000,9, -999.000,9, -999.000,9, -999.000, -999.000,9,-999.0000,-999.0000,9,  -999.00,  -999.00,9,   6.7228
  58JH19990615,   75N,   480,  1,      8,2,19990620, 70.7512,   7.0743, 2989,    200.6,   6.1760,  35.1491,2,  35.1180,3,    286.8,2,     5.01,2,    12.14,2,     0.05,2,     0.79,2, -999.000,9, -999.000,9, -999.000,9, -999.000,9, -999.000, -999.000,9,-999.0000,-999.0000,9,  -999.00,  -999.00,9,   6.1584
  58JH19990615,   75N,   480,  1,      7,2,19990620, 70.7512,   7.0743, 2989,    300.2,   5.7000,  35.1212,2,  35.1020,3,    291.6,2,     5.10,2,    12.09,2,     0.01,2,     0.78,2, -999.000,9, -999.000,9, -999.000,9, -999.000,9, -999.000, -999.000,9,-999.0000,-999.0000,9,  -999.00,  -999.00,9,   5.6746
  58JH19990615,   75N,   480,  1,      6,2,19990620, 70.7512,   7.0743, 2989,    501.2,   4.4140,  35.0626,2,  35.0440,3,    299.0,2,     5.13,2,    12.22,2,     0.00,2,     0.80,2, -999.000,9, -999.000,9, -999.000,9, -999.000,9, -999.000, -999.000,9,-999.0000,-999.0000,9,  -999.00,  -999.00,9,   4.3759
  58JH19990615,   75N,   480,  1,      5,2,19990620, 70.7512,   7.0743, 2989,   1000.3,  -0.2150,  34.8948,2,  34.8660,3,    302.1,2,     8.00,2,    14.52,2,     0.00,2,     0.97,2, -999.000,9, -999.000,9, -999.000,9, -999.000,9, -999.000, -999.000,9,-999.0000,-999.0000,9,  -999.00,  -999.00,9,  -0.2579
  58JH19990615,   75N,   480,  1,      4,2,19990620, 70.7512,   7.0743, 2989,   1500.3,  -0.7040,  34.9085,2,  34.8810,3,    297.7,2,    10.50,2,    15.02,2,     0.00,2,     1.01,2, -999.000,9, -999.000,9, -999.000,9, -999.000,9, -999.000, -999.000,9,-999.0000,-999.0000,9,  -999.00,  -999.00,9,  -0.7691
  58JH19990615,   75N,   480,  1,      3,2,19990620, 70.7512,   7.0743, 2989,   2001.8,  -0.8460,  34.9112,2,  34.8840,3,    298.6,2,    11.81,2,    14.99,2,     0.00,2,     1.02,2, -999.000,9, -999.000,9, -999.000,9, -999.000,9, -999.000, -999.000,9,-999.0000,-999.0000,9,  -999.00,  -999.00,9,  -0.9394
  58JH19990615,   75N,   480,  1,      2,2,19990620, 70.7512,   7.0743, 2989,   2501.3,  -0.8730,  34.9111,2,  34.8840,3,    298.6,2,    12.73,2,    15.47,2,     0.00,2,     1.04,2, -999.000,9, -999.000,9, -999.000,9, -999.000,9, -999.000, -999.000,9,-999.0000,-999.0000,9,  -999.00,  -999.00,9,  -0.9999
  58JH19990615,   75N,   480,  1,      1,2,19990620, 70.7512,   7.0743, 2989,   2979.1,  -0.8500,  34.9112,2,  34.8830,3,    297.7,2,    13.33,2,    15.54,2,     0.00,2,     1.04,2, -999.000,9, -999.000,9, -999.000,9, -999.000,9, -999.000, -999.000,9,-999.0000,-999.0000,9,  -999.00,  -999.00,9,  -1.0137
  58JH19990615,   75N,   481,  1,     12,2,19990621, 71.0860,   6.0023, 3012,      9.5,   7.8790,  35.0749,2,  35.0450,3,    299.4,2,     1.60,2,     2.78,2,     0.07,2,     0.28,2, -999.000,9, -999.000,9, -999.000,9, -999.000,9, -999.000, -999.000,9,-999.0000,-999.0000,9,  -999.00,  -999.00,9,   7.8781
  58JH19990615,   75N,   481,  1,     11,2,19990621, 71.0860,   6.0023, 3012,     29.6,   7.6670,  35.0745,2,  35.0560,3,    303.4,2,     2.43,2,     4.71,2,     0.08,2,     0.43,2, -999.000,9, -999.000,9, -999.000,9, -999.000,9, -999.000, -999.000,9,-999.0000,-999.0000,9,  -999.00,  -999.00,9,   7.6641
  58JH19990615,   75N,   481,  1,     10,2,19990621, 71.0860,   6.0023, 3012,     51.1,   6.4420,  35.1555,2,  35.1260,3,    285.0,2,     4.64,2,    11.20,2,     0.07,2,     0.77,2, -999.000,9, -999.000,9, -999.000,9, -999.000,9, -999.000, -999.000,9,-999.0000,-999.0000,9,  -999.00,  -999.00,9,   6.4375
  58JH19990615,   75N,   481,  1,      9,2,19990621, 71.0860,   6.0023, 3012,     97.7,   6.1520,  35.1395,2,  35.1150,3,    285.0,2,     4.66,2,    11.16,2,     0.10,2,     0.77,2, -999.000,9, -999.000,9, -999.000,9, -999.000,9, -999.000, -999.000,9,-999.0000,-999.0000,9,  -999.00,  -999.00,9,   6.1435
  58JH19990615,   75N,   481,  1,      8,2,19990621, 71.0860,   6.0023, 3012,    198.6,   5.6190,  35.1258,2,  35.1010,3,    291.6,2,     5.09,2,    12.05,2,     0.06,2,     0.78,2, -999.000,9, -999.000,9, -999.000,9, -999.000,9, -999.000, -999.000,9,-999.0000,-999.0000,9,  -999.00,  -999.00,9,   5.6025
  58JH19990615,   75N,   481,  1,      7,2,19990621, 71.0860,   6.0023, 3012,    300.8,   4.9160,  35.1014,2,  35.0590,3,    295.1,2,     5.19,2,    12.32,2,     0.00,2,     0.80,2, -999.000,9, -999.000,9, -999.000,9, -999.000,9, -999.000, -999.000,9,-999.0000,-999.0000,9,  -999.00,  -999.00,9,   4.8924
  58JH19990615,   75N,   481,  1,      6,2,19990621, 71.0860,   6.0023, 3012,    500.6,   3.8420,  35.0558,2,  35.0100,3,    300.7,2,     5.41,2,    12.72,2,     0.00,2,     0.83,2, -999.000,9, -999.000,9, -999.000,9, -999.000,9, -999.000, -999.000,9,-999.0000,-999.0000,9,  -999.00,  -999.00,9,   3.8062
  58JH19990615,   75N,   481,  1,      5,2,19990621, 71.0860,   6.0023, 3012,   1000.8,  -0.1900,  34.8925,2,  34.8650,3,    302.5,2,     7.91,2,    14.49,2,     0.00,2,     0.96,2, -999.000,9, -999.000,9, -999.000,9, -999.000,9, -999.000, -999.000,9,-999.0000,-999.0000,9,  -999.00,  -999.00,9,  -0.2331
  58JH19990615,   75N,   481,  1,      4,2,19990621, 71.0860,   6.0023, 3012,   1499.1,  -0.6780,  34.9081,2,  34.8800,3,    298.2,2,    10.21,2,    14.95,2,     0.00,2,     1.00,2, -999.000,9, -999.000,9, -999.000,9, -999.000,9, -999.000, -999.000,9,-999.0000,-999.0000,9,  -999.00,  -999.00,9,  -0.7433
  58JH19990615,   75N,   481,  1,      3,2,19990621, 71.0860,   6.0023, 3012,   1998.7,  -0.8300,  34.9113,2,  34.8840,3,    298.2,2,    11.67,2,    15.22,2,     0.00,2,     1.03,2, -999.000,9, -999.000,9, -999.000,9, -999.000,9, -999.000, -999.000,9,-999.0000,-999.0000,9,  -999.00,  -999.00,9,  -0.9234
  58JH19990615,   75N,   481,  1,      2,2,19990621, 71.0860,   6.0023, 3012,   2501.3,  -0.8640,  34.9109,2,  34.8840,3,    296.4,2,    12.47,2,    15.43,2,     0.00,2,     1.03,2, -999.000,9, -999.000,9, -999.000,9, -999.000,9, -999.000, -999.000,9,-999.0000,-999.0000,9,  -999.00,  -999.00,9,  -0.9911
  58JH19990615,   75N,   481,  1,      1,2,19990621, 71.0860,   6.0023, 3012,   3001.7,  -0.8490,  34.9110,2,  34.8830,3,    295.5,2,    13.32,2,    15.56,2,     0.00,2,     1.04,2, -999.000,9, -999.000,9, -999.000,9, -999.000,9, -999.000, -999.000,9,-999.0000,-999.0000,9,  -999.00,  -999.00,9,  -1.0146
  58JH19990615,   75N,   482,  1,     12,2,19990621, 71.4165,   4.9108, 2993,    500.7,   3.8740,  35.0543,2,  35.0360,3,    304.2,2,     5.12,2,    12.30,2,     0.00,2,     0.81,2, -999.000,9, -999.000,9, -999.000,9, -999.000,9, -999.000, -999.000,9,-999.0000,-999.0000,9,  -999.00,  -999.00,9,   3.8380
  58JH19990615,   75N,   482,  1,     11,2,19990621, 71.4165,   4.9108, 2993,    600.8,   3.2900,  35.0033,2,  35.0000,3,    305.5,2,     5.44,2,    12.81,2,     0.00,2,     0.84,2, -999.000,9, -999.000,9, -999.000,9, -999.000,9, -999.000, -999.000,9,-999.0000,-999.0000,9,  -999.00,  -999.00,9,   3.2492
  58JH19990615,   75N,   482,  1,     10,2,19990621, 71.4165,   4.9108, 2993,    701.9,   1.3139,  34.9135,2,  34.9108,3,    304.7,2,     6.44,2,    14.01,2,     0.00,2,     0.93,2,    4.860,2,    2.077,3,    0.415,2,    5.721,2, -999.000, -999.000,9,-999.0000,-999.0000,9,  -999.00,  -999.00,9,   1.2769
  58JH19990615,   75N,   482,  1,      9,2,19990621, 71.4165,   4.9108, 2993,    799.8,   0.4880,  34.8981,2,  34.8960,3,    300.8,2,     7.46,2,    14.64,2,     0.00,2,     0.98,2,    3.991,2,    1.822,2,    0.265,2,    5.042,2, -999.000, -999.000,9,-999.0000,-999.0000,9,  -999.00,  -999.00,9,   0.4505
  58JH19990615,   75N,   482,  1,      8,2,19990621, 71.4165,   4.9108, 2993,    900.5,  -0.0048,  34.8942,2,  34.8921,3,    301.2,2,     7.81,2,    14.67,2,     0.00,2,     0.98,2,    3.535,2,    1.569,2,    0.225,2,    4.845,2, -999.000, -999.000,9,-999.0000,-999.0000,9,  -999.00,  -999.00,9,  -0.0442
  58JH19990615,   75N,   482,  1,      7,2,19990621, 71.4165,   4.9108, 2993,   1000.5,  -0.2613,  34.8952,2,  34.8932,3,    304.7,2,     7.88,2,    14.60,2,     0.00,2,     0.98,2,    3.206,2,    1.296,2,    0.206,2,    4.560,2, -999.000, -999.000,9,-999.0000,-999.0000,9,  -999.00,  -999.00,9,  -0.3039
  58JH19990615,   75N,   482,  1,      6,2,19990621, 71.4165,   4.9108, 2993,   1249.6,  -0.5785,  34.9045,2,  34.9026,3,    299.0,2,     8.20,2,    14.61,2,     0.00,2,     0.97,2,    2.100,6,    0.784,6,    0.095,6,    3.749,6, -999.000, -999.000,9,-999.0000,-999.0000,9,  -999.00,  -999.00,9,  -0.6312
  58JH19990615,   75N,   482,  1,      5,2,19990621, 71.4165,   4.9108, 2993,   1499.1,  -0.7100,  34.9097,2,  34.8820,3,    297.7,2,     9.44,2,    14.87,2,     0.00,2,     1.00,2, -999.000,9, -999.000,9, -999.000,9, -999.000,9, -999.000, -999.000,9,-999.0000,-999.0000,9,  -999.00,  -999.00,9,  -0.7749
  58JH19990615,   75N,   482,  1,      4,2,19990621, 71.4165,   4.9108, 2993,   1750.2,  -0.7972,  34.9112,2,  34.9091,3,    297.7,2,    10.54,2,    14.99,2,     0.00,2,     1.02,2,    0.850,2,    0.342,2,    0.033,2,    2.349,2, -999.000, -999.000,9,-999.0000,-999.0000,9,  -999.00,  -999.00,9,  -0.8756
  58JH19990615,   75N,   482,  1,      3,2,19990621, 71.4165,   4.9108, 2993,   2001.2,  -0.8618,  34.9114,2,  34.9093,3,    300.8,2,    11.21,2,    15.27,2,     0.00,2,     1.02,2,    3.556,3,    1.598,3,    0.237,3,    4.502,3, -999.000, -999.000,9,-999.0000,-999.0000,9,  -999.00,  -999.00,9,  -0.9549
  58JH19990615,   75N,   482,  1,      2,2,19990621, 71.4165,   4.9108, 2993,   2250.1,  -0.8760,  34.9112,2,  34.8840,3,    298.6,2,    12.31,2,    15.40,2,     0.00,2,     1.03,2, -999.000,9, -999.000,9, -999.000,9, -999.000,9, -999.000, -999.000,9,-999.0000,-999.0000,9,  -999.00,  -999.00,9,  -0.9853
  58JH19990615,   75N,   482,  1,      1,2,19990621, 71.4165,   4.9108, 2993,   2745.6,  -0.8690,  34.9111,2,  34.8830,3,    297.7,2,    13.34,2,    15.67,2,     0.00,2,     1.04,2, -999.000,9, -999.000,9, -999.000,9, -999.000,9, -999.000, -999.000,9,-999.0000,-999.0000,9,  -999.00,  -999.00,9,  -1.0141
  58JH19990615,   75N,   482,  2,     12,2,19990621, 71.4165,   4.9108, 2993,      5.1,   6.7090,-999.0000,9,  35.0530,3,    318.2,2,     2.67,2,     4.24,2,     0.05,2,     0.32,2,    4.544,2,    2.210,2,    0.424,2,    5.652,2, -999.000, -999.000,9,-999.0000,-999.0000,9,  -999.00,  -999.00,9,-999.0000
  58JH19990615,   75N,   482,  2,     11,2,19990621, 71.4165,   4.9108, 2993,     10.2,   6.8123,  35.0983,2,  35.0962,3,    317.3,2,     2.65,2,     4.18,2,     0.05,2,     0.44,2,    4.471,2,    2.361,2,    0.372,2,    6.107,2, -999.000, -999.000,9,-999.0000,-999.0000,9,  -999.00,  -999.00,9,   6.8113
  58JH19990615,   75N,   482,  2,     10,2,19990621, 71.4165,   4.9108, 2993,     18.8,   6.7587,  35.0960,2,  35.0939,3,    319.5,2,     2.60,2,     4.14,2,     0.04,2,     0.32,2,    4.516,2,    2.301,2,    0.418,2,    6.176,2, -999.000, -999.000,9,-999.0000,-999.0000,9,  -999.00,  -999.00,9,   6.7570
  58JH19990615,   75N,   482,  2,      9,2,19990621, 71.4165,   4.9108, 2993,     30.1,   6.6147,  35.0892,2,  35.0871,3,    316.9,2,     2.38,2,     5.41,2,     0.06,2,     0.38,2,    4.582,2,    2.417,2,    0.400,2,    6.237,2, -999.000, -999.000,9,-999.0000,-999.0000,9,  -999.00,  -999.00,9,   6.6120
  58JH19990615,   75N,   482,  2,      8,2,19990621, 71.4165,   4.9108, 2993,     39.4,   6.0050,  35.0956,2,  35.0450,3,    302.5,2,     3.13,2,     8.14,2,     0.11,2,     0.57,2, -999.000,9, -999.000,9, -999.000,9, -999.000,9, -999.000, -999.000,9,-999.0000,-999.0000,9,  -999.00,  -999.00,9,   6.0016
  58JH19990615,   75N,   482,  2,      7,2,19990621, 71.4165,   4.9108, 2993,     49.6,   6.2269,  35.0961,2,  35.0940,3,    285.0,2,     4.83,2,    11.93,2,     0.16,2,     0.78,2,    4.498,2,    2.348,2,    0.237,2,    6.042,2, -999.000, -999.000,9,-999.0000,-999.0000,9,  -999.00,  -999.00,9,   6.2226
  58JH19990615,   75N,   482,  2,      6,2,19990621, 71.4165,   4.9108, 2993,     73.6,   5.6622,  35.1267,2,  35.1246,3,    286.8,2,     4.83,2,    11.42,2,     0.09,2,     0.78,2,    4.412,2,    1.847,3,    0.394,2,    5.064,2, -999.000, -999.000,9,-999.0000,-999.0000,9,  -999.00,  -999.00,9,   5.6561
  58JH19990615,   75N,   482,  2,      5,2,19990621, 71.4165,   4.9108, 2993,    101.0,   5.7020,  35.1207,2,  35.1010,3,    290.7,2,     5.11,2,    12.06,2,     0.08,2,     0.79,2, -999.000,9, -999.000,9, -999.000,9, -999.000,9, -999.000, -999.000,9,-999.0000,-999.0000,9,  -999.00,  -999.00,9,   5.6936
  58JH19990615,   75N,   482,  2,      4,2,19990621, 71.4165,   4.9108, 2993,    150.2,   5.3360,  35.1094,2,  35.0920,3,    295.1,2,     5.07,2,    11.80,2,     0.15,2,     0.77,2, -999.000,9, -999.000,9, -999.000,9, -999.000,9, -999.000, -999.000,9,-999.0000,-999.0000,9,  -999.00,  -999.00,9,   5.3239
  58JH19990615,   75N,   482,  2,      3,2,19990621, 71.4165,   4.9108, 2993,    200.8,   4.9340,  35.0932,2,  35.0730,3,    296.8,2,     5.07,2,    12.16,2,     0.00,2,     0.80,2, -999.000,9, -999.000,9, -999.000,9, -999.000,9, -999.000, -999.000,9,-999.0000,-999.0000,9,  -999.00,  -999.00,9,   4.9183
  58JH19990615,   75N,   482,  2,      2,2,19990621, 71.4165,   4.9108, 2993,    300.4,   4.5350,  35.0821,2,  35.0620,3,    300.7,2,     5.00,2,    12.16,2,     0.01,2,     0.79,2, -999.000,9, -999.000,9, -999.000,9, -999.000,9, -999.000, -999.000,9,-999.0000,-999.0000,9,  -999.00,  -999.00,9,   4.5123
  58JH19990615,   75N,   482,  2,      1,2,19990621, 71.4165,   4.9108, 2993,    401.4,   3.9970,  35.0592,2,  35.0568,3,    303.8,2,     5.05,2,    12.21,2,     0.01,2,     0.80,2,    4.758,2,    2.370,2,    0.456,2,    6.195,2, -999.000, -999.000,9,-999.0000,-999.0000,9,  -999.00,  -999.00,9,   3.9681
  58JH19990615,   75N,   483,  1,     12,2,19990621, 71.7497,   3.8333, 3013,      9.9,   7.6440,  35.1081,2,  35.0870,3,    307.3,2,     1.32,2,     3.35,2,     0.07,2,     0.29,2, -999.000,9, -999.000,9, -999.000,9, -999.000,9, -999.000, -999.000,9,-999.0000,-999.0000,9,  -999.00,  -999.00,9,   7.6430
  58JH19990615,   75N,   483,  1,     11,2,19990621, 71.7497,   3.8333, 3013,     30.7,   6.9480,  35.1231,2,  35.1090,3,    299.9,2,     3.10,2,     7.59,2,     0.10,2,     0.54,2, -999.000,9, -999.000,9, -999.000,9, -999.000,9, -999.000, -999.000,9,-999.0000,-999.0000,9,  -999.00,  -999.00,9,   6.9452
  58JH19990615,   75N,   483,  1,     10,2,19990621, 71.7497,   3.8333, 3013,     51.4,   6.3390,  35.1383,2,  35.1160,3,    287.7,2,     4.31,2,    10.03,2,     0.12,2,     0.74,2, -999.000,9, -999.000,9, -999.000,9, -999.000,9, -999.000, -999.000,9,-999.0000,-999.0000,9,  -999.00,  -999.00,9,   6.3345
  58JH19990615,   75N,   483,  1,      9,2,19990621, 71.7497,   3.8333, 3013,    100.9,   5.8720,  35.1316,2,  35.1090,3,    292.0,2,     4.93,2,    11.67,2,     0.10,2,     0.77,2, -999.000,9, -999.000,9, -999.000,9, -999.000,9, -999.000, -999.000,9,-999.0000,-999.0000,9,  -999.00,  -999.00,9,   5.8635
  58JH19990615,   75N,   483,  1,      8,2,19990621, 71.7497,   3.8333, 3013,    198.6,   5.0280,  35.0992,2,  35.0750,3,    297.7,2,     5.06,2,    12.14,2,     0.00,2,     0.79,2, -999.000,9, -999.000,9, -999.000,9, -999.000,9, -999.000, -999.000,9,-999.0000,-999.0000,9,  -999.00,  -999.00,9,   5.0124
  58JH19990615,   75N,   483,  1,      7,2,19990621, 71.7497,   3.8333, 3013,    301.3,   4.4290,  35.0851,2,  35.0520,3,    301.6,2,     5.05,2,    12.20,2,     0.00,2,     0.80,2, -999.000,9, -999.000,9, -999.000,9, -999.000,9, -999.000, -999.000,9,-999.0000,-999.0000,9,  -999.00,  -999.00,9,   4.4065
  58JH19990615,   75N,   483,  1,      6,2,19990621, 71.7497,   3.8333, 3013,    499.4,   3.4730,  35.0504,2,  34.9970,3,    302.9,2,     5.53,2,    13.01,2,     0.00,2,     0.86,2, -999.000,9, -999.000,9, -999.000,9, -999.000,9, -999.000, -999.000,9,-999.0000,-999.0000,9,  -999.00,  -999.00,9,   3.4387
  58JH19990615,   75N,   483,  1,      5,2,19990621, 71.7497,   3.8333, 3013,    997.5,  -0.3310,  34.8981,2,  34.8700,3,    301.2,2,     8.40,2,    14.65,2,     0.00,2,     0.98,2, -999.000,9, -999.000,9, -999.000,9, -999.000,9, -999.000, -999.000,9,-999.0000,-999.0000,9,  -999.00,  -999.00,9,  -0.3728
  58JH19990615,   75N,   483,  1,      4,2,19990621, 71.7497,   3.8333, 3013,   1500.6,  -0.7060,  34.9092,2,  34.8820,3,    297.7,2,    10.49,2,    14.84,2,     0.00,2,     1.01,2, -999.000,9, -999.000,9, -999.000,9, -999.000,9, -999.000, -999.000,9,-999.0000,-999.0000,9,  -999.00,  -999.00,9,  -0.7711
  58JH19990615,   75N,   483,  1,      3,2,19990621, 71.7497,   3.8333, 3013,   2000.3,  -0.8430,  34.9111,2,  34.8840,3,    298.2,2,    11.77,2,    15.23,2,     0.00,2,     1.02,2, -999.000,9, -999.000,9, -999.000,9, -999.000,9, -999.000, -999.000,9,-999.0000,-999.0000,9,  -999.00,  -999.00,9,  -0.9363
  58JH19990615,   75N,   483,  1,      2,2,19990621, 71.7497,   3.8333, 3013,   2500.6,  -0.8730,  34.9110,2,  34.8840,3,    299.5,2,    12.57,2,    15.44,2,     0.00,2,     1.03,2, -999.000,9, -999.000,9, -999.000,9, -999.000,9, -999.000, -999.000,9,-999.0000,-999.0000,9,  -999.00,  -999.00,9,  -0.9999
  58JH19990615,   75N,   483,  1,      1,2,19990621, 71.7497,   3.8333, 3013,   3002.6,  -0.8490,  34.9110,2,  34.8830,3,    297.3,2,    13.49,2,    15.63,2,     0.00,2,     1.04,2, -999.000,9, -999.000,9, -999.000,9, -999.000,9, -999.000, -999.000,9,-999.0000,-999.0000,9,  -999.00,  -999.00,9,  -1.0146