BOTTLE,20020809WHPSIObren
EXPOCODE,SECT_ID,STNNBR,CASTNO,SAMPNO,BTLNBR,BTLNBR_FLAG_W,DATE,TIME,LATITUDE,LONGITUDE,DEPTH,CTDPRS,CTDTMP,CTDSAL,CTDSAL_FLAG_W,SALNTY,SALNTY_FLAG_W,CTDOXY,CTDOXY_FLAG_W,OXYGEN,OXYGEN_FLAG_W,SILCAT,SILCAT_FLAG_W,NO2+NO3,NO2+NO3_FLAG_W,PHSPHT,PHSPHT_FLAG_W,CTDRAW,REVTMP,REVPRS,THETA
,,,,,,,,,,,,DBAR,IPTS-68,PSS-78,,PSS-78,,UMOL/KG,,UMOL/KG,,UMOL/KG,,UMOL/KG,,UMOL/KG,,,DEG C,DBAR,IPTS-68
     31KA010_1,  PRS2,     2, 13,      7,      7,2,19890923,1219, 22.8617,-158.1400, 4750,    125.8,  21.4933,  35.0063,2,  35.0134,2,    182.2,2,   -999.0,5,  -999.00,5,  -999.00,5,  -999.00,5,    125,-999.000,  -999.0, 21.4689
     31KA010_1,  PRS2,     2, 13,      6,      6,2,19890923,1219, 22.8617,-158.1400, 4750,    467.5,   7.1564,  34.0480,2,  34.0562,2,    121.3,2,   -999.0,5,  -999.00,5,  -999.00,5,  -999.00,5,    460,-999.000,  -999.0,  7.1119
     31KA010_1,  PRS2,     2, 13,      5,      5,2,19890923,1219, 22.8617,-158.1400, 4750,    610.8,   5.7865,  34.2446,2,  34.2510,2,     37.4,2,   -999.0,5,    75.64,2,    38.68,2,     2.85,2,    603,   5.768,   526.8,  5.7339
     31KA010_1,  PRS2,     2, 13,      4,      4,2,19890923,1219, 22.8617,-158.1400, 4750,    709.5,   5.1841,  34.3118,2,  34.3155,2,     30.0,2,     31.7,2,    86.92,2,    40.66,2,     3.00,2,    700,-999.000,  -999.0,  5.1257
     31KA010_1,  PRS2,     2, 13,      3,      3,2,19890923,1219, 22.8617,-158.1400, 4750,    810.7,   4.8695,  34.3918,2,  34.3991,2,     30.3,2,     31.8,2,    94.09,2,    41.38,2,     3.03,2,    801,-999.000,  -999.0,  4.8040
     31KA010_1,  PRS2,     2, 13,      2,      2,2,19890923,1219, 22.8617,-158.1400, 4750,    910.8,   4.4938,  34.4533,2,  34.4604,2,     36.3,2,     37.2,2,   100.86,2,    41.80,2,     3.05,2,    900,-999.000,  -999.0,  4.4221
     31KA010_1,  PRS2,     2, 13,      1,      1,2,19890923,1219, 22.8617,-158.1400, 4750,   1018.7,   4.1213,  34.4849,2,  34.4903,2,     42.8,2,     44.6,2,   108.45,2,    41.80,2,     3.04,2,   1009,   4.399,   922.8,  4.0432
     31KA010_1,  PRS2,     2, 14,     17,     17,2,19890923,1922, 22.8683,-158.1600, 4750,      8.2,  26.3397,  34.7753,2,  34.7740,2,    239.8,1,   -999.0,9,  -999.00,9,  -999.00,9,  -999.00,9,      8,-999.000,  -999.0, 26.3378
     31KA010_1,  PRS2,     2, 14,     18,     18,2,19890923,1922, 22.8683,-158.1600, 4750,      8.3,  26.3397,  34.7753,2,  34.7746,2,    233.6,1,   -999.0,9,  -999.00,9,  -999.00,9,  -999.00,9,      7,-999.000,  -999.0, 26.3379
     31KA010_1,  PRS2,     2, 14,     15,     15,2,19890923,1922, 22.8683,-158.1600, 4750,     26.5,  26.3305,  34.7739,2,  34.7752,2,    245.8,1,   -999.0,9,  -999.00,9,  -999.00,9,  -999.00,9,     30,-999.000,  -999.0, 26.3245
     31KA010_1,  PRS2,     2, 14,     14,     14,2,19890923,1922, 22.8683,-158.1600, 4750,     27.0,  26.3298,  34.7738,2,  34.7740,2,    251.4,1,   -999.0,9,  -999.00,9,  -999.00,9,  -999.00,9,     25,-999.000,  -999.0, 26.3237
     31KA010_1,  PRS2,     2, 14,     12,     12,2,19890923,1922, 22.8683,-158.1600, 4750,     47.9,  26.2590,  34.7695,2,  34.7707,2,    209.2,1,   -999.0,9,  -999.00,9,  -999.00,9,  -999.00,9,     46,-999.000,  -999.0, 26.2482
     31KA010_1,  PRS2,     2, 14,     10,     10,2,19890923,1922, 22.8683,-158.1600, 4750,     78.4,  26.1801,  34.7744,2,  34.7707,2,    207.4,1,   -999.0,9,  -999.00,9,  -999.00,9,  -999.00,9,     75,-999.000,  -999.0, 26.1625
     31KA010_1,  PRS2,     2, 14,      8,      8,2,19890923,1922, 22.8683,-158.1600, 4750,    104.5,  24.4855,  34.9286,2,  34.8979,2,    216.2,1,   -999.0,9,  -999.00,9,  -999.00,9,  -999.00,9,    101,-999.000,  -999.0, 24.4632
     31KA010_1,  PRS2,     2, 14,      6,      6,2,19890923,1922, 22.8683,-158.1600, 4750,    129.2,  22.1863,  34.9787,2,  34.9763,2,    198.1,1,   -999.0,9,  -999.00,9,  -999.00,9,  -999.00,9,    126,-999.000,  -999.0, 22.1606
     31KA010_1,  PRS2,     2, 14,      4,      4,2,19890923,1922, 22.8683,-158.1600, 4750,    155.9,  20.0346,  34.9656,2,  34.9695,2,    183.0,1,   -999.0,9,  -999.00,9,  -999.00,9,  -999.00,9,    150,-999.000,  -999.0, 20.0057
     31KA010_1,  PRS2,     2, 14,      2,      2,2,19890923,1922, 22.8683,-158.1600, 4750,    181.0,  18.1643,  34.8654,2,  34.8873,2,    176.8,1,   -999.0,9,  -999.00,9,  -999.00,9,  -999.00,9,    173,-999.000,  -999.0, 18.1330
     31KA010_1,  PRS2,     2, 15,     10,     10,2,19890923,2326, 22.8950,-158.1967, 4750,      6.4,  26.4760,  34.7773,2,-999.0000,9,    165.0,1,   -999.0,9,  -999.00,9,  -999.00,9,  -999.00,9,      6,-999.000,  -999.0, 26.4746
     31KA010_1,  PRS2,     2, 15,      9,      9,2,19890923,2326, 22.8950,-158.1967, 4750,     27.7,  26.3443,  34.7731,2,-999.0000,9,    218.3,1,   -999.0,9,  -999.00,9,  -999.00,9,  -999.00,9,     27,-999.000,  -999.0, 26.3381
     31KA010_1,  PRS2,     2, 15,      8,      8,2,19890923,2326, 22.8950,-158.1967, 4750,     47.4,  26.3366,  34.7725,2,-999.0000,9,    218.3,1,   -999.0,9,  -999.00,9,  -999.00,9,  -999.00,9,     45,-999.000,  -999.0, 26.3259
     31KA010_1,  PRS2,     2, 15,      7,      7,2,19890923,2326, 22.8950,-158.1967, 4750,     78.0,  25.8136,  34.7722,2,-999.0000,9,    214.4,1,   -999.0,9,  -999.00,9,  -999.00,9,  -999.00,9,     75,-999.000,  -999.0, 25.7963
     31KA010_1,  PRS2,     2, 15,      6,      6,2,19890923,2326, 22.8950,-158.1967, 4750,    104.1,  24.1730,  34.9570,2,-999.0000,9,    215.7,1,   -999.0,9,  -999.00,9,  -999.00,9,  -999.00,9,    100,-999.000,  -999.0, 24.1510
     31KA010_1,  PRS2,     2, 15,      5,      5,2,19890923,2326, 22.8950,-158.1967, 4750,    155.7,  20.6169,  35.0028,2,-999.0000,9,    179.8,1,   -999.0,9,  -999.00,9,  -999.00,9,  -999.00,9,    151,-999.000,  -999.0, 20.5875
     31KA010_1,  PRS2,     2, 15,      4,      4,2,19890923,2326, 22.8950,-158.1967, 4750,    181.0,  18.5595,  34.9213,2,-999.0000,9,    175.1,1,   -999.0,9,  -999.00,9,  -999.00,9,  -999.00,9,    175,-999.000,  -999.0, 18.5278
     31KA010_1,  PRS2,     2, 15,      3,      3,2,19890923,2326, 22.8950,-158.1967, 4750,    257.8,  14.1720,  34.4260,2,-999.0000,9,    175.7,1,   -999.0,9,  -999.00,9,  -999.00,9,  -999.00,9,    251,-999.000,  -999.0, 14.1346
     31KA010_1,  PRS2,     2, 15,      2,      2,2,19890923,2326, 22.8950,-158.1967, 4750,    510.3,   7.2666,  34.1858,2,-999.0000,9,     70.5,1,   -999.0,9,  -999.00,9,  -999.00,9,  -999.00,9,    502,-999.000,  -999.0,  7.2174
     31KA010_1,  PRS2,     2, 15,      1,      1,2,19890923,2326, 22.8950,-158.1967, 4750,    752.0,   4.8622,  34.3328,2,-999.0000,9,     29.4,1,   -999.0,9,  -999.00,9,  -999.00,9,  -999.00,9,    742,-999.000,  -999.0,  4.8019
     31KA010_1,  PRS2,     2, 17,     23,     23,2,19890924,0811, 22.9200,-158.2533, 4750,      5.3,-999.0000,-999.0000,5,-999.0000,9,   -999.0,5,   -999.0,9,  -999.00,9,  -999.00,9,  -999.00,9,      5,-999.000,  -999.0,-999.0000
     31KA010_1,  PRS2,     2, 17,     21,     21,2,19890924,0811, 22.9200,-158.2533, 4750,     26.1,-999.0000,-999.0000,5,-999.0000,9,   -999.0,5,   -999.0,9,  -999.00,9,  -999.00,9,  -999.00,9,     25,-999.000,  -999.0,-999.0000
     31KA010_1,  PRS2,     2, 17,     19,     19,2,19890924,0811, 22.9200,-158.2533, 4750,     46.9,-999.0000,-999.0000,5,-999.0000,9,   -999.0,5,   -999.0,9,  -999.00,9,  -999.00,9,  -999.00,9,     45,-999.000,  -999.0,-999.0000
     31KA010_1,  PRS2,     2, 17,     17,     17,2,19890924,0811, 22.9200,-158.2533, 4750,     78.7,-999.0000,-999.0000,5,-999.0000,9,   -999.0,5,   -999.0,9,  -999.00,9,  -999.00,9,  -999.00,9,     76,-999.000,  -999.0,-999.0000
     31KA010_1,  PRS2,     2, 17,     15,     15,2,19890924,0811, 22.9200,-158.2533, 4750,     93.5,-999.0000,-999.0000,5,-999.0000,9,   -999.0,5,   -999.0,9,  -999.00,9,  -999.00,9,  -999.00,9,     90,-999.000,  -999.0,-999.0000
     31KA010_1,  PRS2,     2, 17,     13,     13,2,19890924,0811, 22.9200,-158.2533, 4750,    103.4,-999.0000,-999.0000,5,-999.0000,9,   -999.0,5,   -999.0,9,  -999.00,9,  -999.00,9,  -999.00,9,    100,-999.000,  -999.0,-999.0000
     31KA010_1,  PRS2,     2, 17,     11,     11,2,19890924,0811, 22.9200,-158.2533, 4750,    113.5,-999.0000,-999.0000,5,-999.0000,9,   -999.0,5,   -999.0,9,  -999.00,9,  -999.00,9,  -999.00,9,    110,-999.000,  -999.0,-999.0000
     31KA010_1,  PRS2,     2, 17,      9,      9,2,19890924,0811, 22.9200,-158.2533, 4750,    130.6,-999.0000,-999.0000,5,-999.0000,9,   -999.0,5,   -999.0,9,  -999.00,9,  -999.00,9,  -999.00,9,    126,-999.000,  -999.0,-999.0000
     31KA010_1,  PRS2,     2, 17,      7,      7,2,19890924,0811, 22.9200,-158.2533, 4750,    140.6,-999.0000,-999.0000,5,-999.0000,9,   -999.0,5,   -999.0,9,  -999.00,9,  -999.00,9,  -999.00,9,    135,-999.000,  -999.0,-999.0000
     31KA010_1,  PRS2,     2, 17,      5,      5,2,19890924,0811, 22.9200,-158.2533, 4750,    155.2,-999.0000,-999.0000,5,-999.0000,9,   -999.0,5,   -999.0,9,  -999.00,9,  -999.00,9,  -999.00,9,    150,-999.000,  -999.0,-999.0000
     31KA010_1,  PRS2,     2, 17,      3,      3,2,19890924,0811, 22.9200,-158.2533, 4750,    182.3,-999.0000,-999.0000,5,-999.0000,9,   -999.0,5,   -999.0,9,  -999.00,9,  -999.00,9,  -999.00,9,    176,-999.000,  -999.0,-999.0000
     31KA010_1,  PRS2,     2, 17,      1,      1,2,19890924,0811, 22.9200,-158.2533, 4750,    210.0,-999.0000,-999.0000,5,-999.0000,9,   -999.0,5,   -999.0,9,  -999.00,9,  -999.00,9,  -999.00,9,    201,-999.000,  -999.0,-999.0000
     31KA010_1,  PRS2,     2, 18,     23,     23,2,19890924,1035, 22.9350,-158.2717, 4750,     20.1,-999.0000,-999.0000,5,-999.0000,9,   -999.0,5,   -999.0,9,  -999.00,9,  -999.00,9,  -999.00,9,     25,-999.000,  -999.0,-999.0000
     31KA010_1,  PRS2,     2, 18,     22,     22,2,19890924,1035, 22.9350,-158.2717, 4750,     45.9,-999.0000,-999.0000,5,-999.0000,9,   -999.0,5,   -999.0,9,  -999.00,9,  -999.00,9,  -999.00,9,     50,-999.000,  -999.0,-999.0000
     31KA010_1,  PRS2,     2, 18,     20,     20,2,19890924,1035, 22.9350,-158.2717, 4750,    105.4,-999.0000,-999.0000,5,-999.0000,9,   -999.0,5,   -999.0,9,  -999.00,9,  -999.00,9,  -999.00,9,    109,-999.000,  -999.0,-999.0000
     31KA010_1,  PRS2,     2, 18,     17,     17,2,19890924,1035, 22.9350,-158.2717, 4750,    120.2,-999.0000,-999.0000,5,-999.0000,9,   -999.0,5,   -999.0,9,  -999.00,9,  -999.00,9,  -999.00,9,    124,-999.000,  -999.0,-999.0000
     31KA010_1,  PRS2,     2, 18,     14,     14,2,19890924,1035, 22.9350,-158.2717, 4750,    130.6,-999.0000,-999.0000,5,-999.0000,9,   -999.0,5,   -999.0,9,  -999.00,9,  -999.00,9,  -999.00,9,    134,-999.000,  -999.0,-999.0000
     31KA010_1,  PRS2,     2, 18,     11,     11,2,19890924,1035, 22.9350,-158.2717, 4750,    147.3,-999.0000,-999.0000,5,-999.0000,9,   -999.0,5,   -999.0,9,  -999.00,9,  -999.00,9,  -999.00,9,    150,-999.000,  -999.0,-999.0000
     31KA010_1,  PRS2,     2, 18,      8,      8,2,19890924,1035, 22.9350,-158.2717, 4750,    174.8,-999.0000,-999.0000,5,-999.0000,9,   -999.0,5,   -999.0,9,  -999.00,9,  -999.00,9,  -999.00,9,    176,-999.000,  -999.0,-999.0000
     31KA010_1,  PRS2,     2, 18,      7,      7,2,19890924,1035, 22.9350,-158.2717, 4750,    201.3,-999.0000,-999.0000,5,-999.0000,9,   -999.0,5,   -999.0,9,  -999.00,9,  -999.00,9,  -999.00,9,    201,-999.000,  -999.0,-999.0000
     31KA010_1,  PRS2,     2, 18,      6,      6,2,19890924,1035, 22.9350,-158.2717, 4750,    301.4,-999.0000,-999.0000,5,-999.0000,9,   -999.0,5,   -999.0,9,  -999.00,9,  -999.00,9,  -999.00,9,    299,-999.000,  -999.0,-999.0000
     31KA010_1,  PRS2,     2, 18,      5,      5,2,19890924,1035, 22.9350,-158.2717, 4750,    402.2,-999.0000,-999.0000,5,-999.0000,9,   -999.0,5,   -999.0,9,  -999.00,9,  -999.00,9,  -999.00,9,    400,-999.000,  -999.0,-999.0000
     31KA010_1,  PRS2,     2, 18,      4,      4,2,19890924,1035, 22.9350,-158.2717, 4750,    504.1,-999.0000,-999.0000,5,-999.0000,9,   -999.0,5,   -999.0,9,  -999.00,9,  -999.00,9,  -999.00,9,    500,-999.000,  -999.0,-999.0000
     31KA010_1,  PRS2,     2, 18,      3,      3,2,19890924,1035, 22.9350,-158.2717, 4750,    604.3,-999.0000,-999.0000,5,-999.0000,9,   -999.0,5,   -999.0,9,  -999.00,9,  -999.00,9,  -999.00,9,    600,-999.000,  -999.0,-999.0000
     31KA010_1,  PRS2,     2, 18,      2,      2,2,19890924,1035, 22.9350,-158.2717, 4750,    705.8,-999.0000,-999.0000,5,-999.0000,9,   -999.0,5,   -999.0,9,  -999.00,9,  -999.00,9,  -999.00,9,    701,-999.000,  -999.0,-999.0000
     31KA010_1,  PRS2,     2, 18,      1,      1,2,19890924,1035, 22.9350,-158.2717, 4750,    805.0,-999.0000,-999.0000,5,-999.0000,9,   -999.0,5,   -999.0,9,  -999.00,9,  -999.00,9,  -999.00,9,    801,-999.000,  -999.0,-999.0000