BOTTLE,20020809WHPSIObren
EXPOCODE,SECT_ID,STNNBR,CASTNO,SAMPNO,BTLNBR,BTLNBR_FLAG_W,DATE,TIME,LATITUDE,LONGITUDE,DEPTH,CTDPRS,CTDTMP,CTDSAL,CTDSAL_FLAG_W,SALNTY,SALNTY_FLAG_W,CTDOXY,CTDOXY_FLAG_W,OXYGEN,OXYGEN_FLAG_W,SILCAT,SILCAT_FLAG_W,NO2+NO3,NO2+NO3_FLAG_W,PHSPHT,PHSPHT_FLAG_W,CTDRAW,REVTMP,REVPRS,THETA
,,,,,,,,,,,,DBAR,IPTS-68,PSS-78,,PSS-78,,UMOL/KG,,UMOL/KG,,UMOL/KG,,UMOL/KG,,UMOL/KG,,,DEG C,DBAR,IPTS-68
     31KA010_1,  PRS2,     2,  4,     24,     24,2,19890922,0605, 22.7550,-157.9783, 4750,      7.2,  26.3742,  34.7785,2,  34.7750,2,    208.8,2,    205.5,2,     0.76,2,     0.05,2,     0.09,2,      8,-999.000,  -999.0, 26.3726
     31KA010_1,  PRS2,     2,  4,     23,     23,2,19890922,0605, 22.7550,-157.9783, 4750,     86.7,  25.3183,  34.8438,2,  34.8501,2,    213.3,2,    213.8,2,     0.76,2,     0.07,2,     0.11,2,     85,-999.000,  -999.0, 25.2994
     31KA010_1,  PRS2,     2,  4,     22,     22,2,19890922,0605, 22.7550,-157.9783, 4750,     96.6,  24.2919,  34.9325,2,  34.9293,2,    218.3,2,    215.4,2,     0.56,2,     0.05,2,     0.08,2,     94,-999.000,  -999.0, 24.2714
     31KA010_1,  PRS2,     2,  4,     21,     21,2,19890922,0605, 22.7550,-157.9783, 4750,    108.3,  23.7607,  34.9853,2,  34.9877,2,    213.2,2,    213.8,2,     0.56,2,     0.07,2,     0.08,2,    105,-999.000,  -999.0, 23.7380
     31KA010_1,  PRS2,     2,  4,     20,     20,2,19890922,0605, 22.7550,-157.9783, 4750,    123.4,  22.6743,  35.0099,2,  35.0138,2,    205.8,2,    206.2,2,     0.76,2,     0.14,2,     0.13,2,    120,-999.000,  -999.0, 22.6494
     31KA010_1,  PRS2,     2,  4,     19,     19,2,19890922,0605, 22.7550,-157.9783, 4750,    132.9,  22.1970,  35.0467,2,  35.0471,2,    194.6,2,    201.3,2,     0.76,2,     0.69,2,     0.16,2,    131,-999.000,  -999.0, 22.1706
     31KA010_1,  PRS2,     2,  4,     18,     18,2,19890922,0605, 22.7550,-157.9783, 4750,    143.8,  20.2168,  34.9745,2,  34.9817,2,    188.4,2,    182.3,2,     1.79,2,     3.19,2,     0.33,2,    139,-999.000,  -999.0, 20.1901
     31KA010_1,  PRS2,     2,  4,     17,     17,2,19890922,0605, 22.7550,-157.9783, 4750,    182.8,  18.5989,  34.9103,2,  34.9083,2,    170.1,2,    178.1,2,     2.61,2,     4.78,2,     0.42,2,    178,-999.000,  -999.0, 18.5668
     31KA010_1,  PRS2,     2,  4,     16,     16,2,19890922,0605, 22.7550,-157.9783, 4750,    217.7,  16.2921,  34.6749,2,  34.6792,2,    186.8,2,    182.2,2,     4.66,2,     6.45,2,     0.54,2,    213,-999.000,  -999.0, 16.2573
     31KA010_1,  PRS2,     2,  4,     15,     15,2,19890922,0605, 22.7550,-157.9783, 4750,    274.2,  12.8958,  34.3079,2,  34.3094,2,    180.3,2,    176.5,2,     9.59,2,    12.01,2,     0.93,2,    269,-999.000,  -999.0, 12.8584
     31KA010_1,  PRS2,     2,  4,     14,     14,2,19890922,0605, 22.7550,-157.9783, 4750,    285.2,  12.6159,  34.2807,2,  34.2835,2,    169.4,2,    180.0,2,    10.00,2,    12.18,2,     0.95,2,    279,-999.000,  -999.0, 12.5776
     31KA010_1,  PRS2,     2,  4,     13,     13,2,19890922,0605, 22.7550,-157.9783, 4750,    303.2,  11.4662,  34.1870,2,  34.1954,2,    200.9,2,    203.3,2,    11.02,2,    12.84,2,     0.92,2,    297,-999.000,  -999.0, 11.4279
     31KA010_1,  PRS2,     2,  4,     12,     12,2,19890922,0605, 22.7550,-157.9783, 4750,    345.0,   9.9815,  34.1108,2,  34.1126,2,    195.8,2,    194.3,2,    17.80,2,    16.53,2,     1.21,2,    339,-999.000,  -999.0,  9.9417
     31KA010_1,  PRS2,     2,  4,     11,     11,2,19890922,0605, 22.7550,-157.9783, 4750,    404.4,   8.8954,  34.1205,2,  34.1246,2,    149.9,2,    152.0,2,    28.46,2,    22.63,2,     1.67,2,    398,-999.000,  -999.0,  8.8518
     31KA010_1,  PRS2,     2,  4,     10,     10,2,19890922,0605, 22.7550,-157.9783, 4750,    465.2,   7.4019,  34.1022,2,  34.1037,2,    115.8,2,    107.6,2,    45.49,2,    29.51,2,     2.17,2,    458,-999.000,  -999.0,  7.3567
     31KA010_1,  PRS2,     2,  4,      9,      9,2,19890922,0605, 22.7550,-157.9783, 4750,    489.7,   6.7104,  34.0778,2,  34.0815,2,     90.0,2,     92.6,2,    53.70,2,    32.53,2,     2.37,2,    482,-999.000,  -999.0,  6.6653
     31KA010_1,  PRS2,     2,  4,      8,      8,2,19890922,0605, 22.7550,-157.9783, 4750,    509.3,   6.3404,  34.0691,2,  34.0731,2,     86.7,2,     82.8,2,    59.23,2,    33.99,2,     2.48,2,    502,-999.000,  -999.0,  6.2949
     31KA010_1,  PRS2,     2,  4,      7,      7,2,19890922,0605, 22.7550,-157.9783, 4750,    538.1,   5.8845,  34.1036,2,  34.1070,2,     63.7,2,     60.8,2,    67.44,2,    36.80,2,     2.70,2,    530,-999.000,  -999.0,  5.8381
     31KA010_1,  PRS2,     2,  4,      6,      6,2,19890922,0605, 22.7550,-157.9783, 4750,    601.6,   5.4285,  34.1718,2,  34.1764,2,     40.1,2,     40.5,2,    78.73,2,    39.41,2,     2.87,2,    594,-999.000,  -999.0,  5.3785
     31KA010_1,  PRS2,     2,  4,      5,      5,2,19890922,0605, 22.7550,-157.9783, 4750,    674.8,   5.2803,  34.2760,2,  34.2770,2,     30.3,2,     31.7,2,    83.85,2,    40.44,2,     2.97,2,    666,-999.000,  -999.0,  5.2244
     31KA010_1,  PRS2,     2,  4,      4,      4,2,19890922,0605, 22.7550,-157.9783, 4750,    745.3,   4.8241,  34.3265,2,-999.0000,5,     27.6,2,   -999.0,5,  -999.00,5,  -999.00,5,  -999.00,5,    736,-999.000,  -999.0,  4.7646
     31KA010_1,  PRS2,     2,  4,      3,      3,2,19890922,0605, 22.7550,-157.9783, 4750,    814.9,   4.6555,  34.4191,2,  34.4204,2,     34.5,2,     33.7,2,    97.17,2,    41.69,2,     3.04,2,    805,-999.000,  -999.0,  4.5909
     31KA010_1,  PRS2,     2,  4,      2,      2,2,19890922,0605, 22.7550,-157.9783, 4750,    994.8,   4.1433,  34.4856,2,  34.4840,2,     41.9,2,     42.0,2,   107.42,2,    41.95,2,     3.05,2,    984,-999.000,  -999.0,  4.0670
     31KA010_1,  PRS2,     2,  4,      1,      1,2,19890922,0605, 22.7550,-157.9783, 4750,   1023.5,   4.0126,  34.4905,2,  34.4923,2,     44.6,2,     41.9,2,   110.50,2,    41.90,2,     3.04,2,   1012,-999.000,  -999.0,  3.9349
     31KA010_1,  PRS2,     2,  5,      4,      4,2,19890922,0902, 22.7633,-158.0300, 4750,    151.8,  19.9285,  34.9601,2,  34.9703,2,    179.3,1,   -999.0,9,  -999.00,9,  -999.00,9,  -999.00,9,    144,-999.000,  -999.0, 19.9005
     31KA010_1,  PRS2,     2,  5,      3,      3,2,19890922,0902, 22.7633,-158.0300, 4750,    507.7,   6.5938,  34.0626,2,  34.0640,2,    104.0,1,   -999.0,9,  -999.00,9,  -999.00,9,  -999.00,9,    497,-999.000,  -999.0,  6.5475
     31KA010_1,  PRS2,     2,  5,      1,      1,2,19890922,0902, 22.7633,-158.0300, 4750,   1018.4,   4.0557,  34.4918,2,  34.4932,2,     43.4,1,   -999.0,9,  -999.00,9,  -999.00,9,  -999.00,9,   1006,-999.000,  -999.0,  3.9781
     31KA010_1,  PRS2,     2,  6,      5,      5,2,19890922,1201, 22.7733,-158.0100, 4750,     51.8,  26.3209,  34.7737,2,  34.7751,2,    177.6,1,   -999.0,9,  -999.00,9,  -999.00,9,  -999.00,9,     50,-999.000,  -999.0, 26.3092
     31KA010_1,  PRS2,     2,  6,      4,      4,2,19890922,1201, 22.7733,-158.0100, 4750,    137.0,  21.6130,  35.0088,2,  35.0125,2,    189.4,1,   -999.0,9,  -999.00,9,  -999.00,9,  -999.00,9,    131,-999.000,  -999.0, 21.5863
     31KA010_1,  PRS2,     2,  6,      3,      3,2,19890922,1201, 22.7733,-158.0100, 4750,    510.9,   6.6143,  34.0623,2,  34.0631,2,     92.1,1,   -999.0,9,  -999.00,9,  -999.00,9,  -999.00,9,    501,-999.000,  -999.0,  6.5675
     31KA010_1,  PRS2,     2,  6,      2,      2,2,19890922,1201, 22.7733,-158.0100, 4750,   1035.4,   4.0104,  34.4950,2,  34.4961,2,     44.2,1,   -999.0,9,  -999.00,9,  -999.00,9,  -999.00,9,   1029,-999.000,  -999.0,  3.9317
     31KA010_1,  PRS2,     2,  6,      1,      1,2,19890922,1201, 22.7733,-158.0100, 4750,   1035.8,   4.0115,  34.4947,2,  34.4964,2,     44.2,1,   -999.0,9,  -999.00,9,  -999.00,9,  -999.00,9,   1024,-999.000,  -999.0,  3.9328
     31KA010_1,  PRS2,     2,  7,      9,      9,2,19890922,1433, 22.7783,-158.0733, 4750,     24.6,  26.3153,  34.7708,2,  34.7749,2,    193.6,1,   -999.0,9,  -999.00,9,  -999.00,9,  -999.00,9,     20,-999.000,  -999.0, 26.3097
     31KA010_1,  PRS2,     2,  7,      8,      8,2,19890922,1433, 22.7783,-158.0733, 4750,    128.5,  20.8713,  35.0028,2,  35.0132,2,    183.7,1,   -999.0,9,  -999.00,9,  -999.00,9,  -999.00,9,    121,-999.000,  -999.0, 20.8469
     31KA010_1,  PRS2,     2,  7,      6,      6,2,19890922,1433, 22.7783,-158.0733, 4750,    501.9,   6.5213,  34.0612,2,  34.0638,2,     90.4,1,   -999.0,9,  -999.00,9,  -999.00,9,  -999.00,9,    492,-999.000,  -999.0,  6.4758
     31KA010_1,  PRS2,     2,  7,      7,      7,2,19890922,1433, 22.7783,-158.0733, 4750,    502.8,   6.5179,  34.0614,2,  34.0643,2,     90.6,1,   -999.0,9,  -999.00,9,  -999.00,9,  -999.00,9,    498,-999.000,  -999.0,  6.4723
     31KA010_1,  PRS2,     2,  8,     23,     23,2,19890922,2134, 22.7900,-158.0483, 4750,      5.8,  26.3465,  34.7808,2,  34.7783,2,    255.6,1,   -999.0,9,  -999.00,9,  -999.00,9,  -999.00,9,      6,-999.000,  -999.0, 26.3451
     31KA010_1,  PRS2,     2,  8,     21,     21,2,19890922,2134, 22.7900,-158.0483, 4750,     25.8,  26.2794,  34.7774,2,  34.7763,2,    251.1,1,   -999.0,9,  -999.00,9,  -999.00,9,  -999.00,9,     25,-999.000,  -999.0, 26.2736
     31KA010_1,  PRS2,     2,  8,     19,     19,2,19890922,2134, 22.7900,-158.0483, 4750,     48.3,  26.2754,  34.7766,2,  34.7755,2,    246.1,1,   -999.0,9,  -999.00,9,  -999.00,9,  -999.00,9,     47,-999.000,  -999.0, 26.2646
     31KA010_1,  PRS2,     2,  8,     17,     17,2,19890922,2134, 22.7900,-158.0483, 4750,     78.1,  25.8164,  34.7671,2,  34.7707,2,    210.9,1,   -999.0,9,  -999.00,9,  -999.00,9,  -999.00,9,     75,-999.000,  -999.0, 25.7991
     31KA010_1,  PRS2,     2,  8,     15,     15,2,19890922,2134, 22.7900,-158.0483, 4750,    105.0,  23.6567,  34.9827,2,  34.9750,2,    221.0,1,   -999.0,9,  -999.00,9,  -999.00,9,  -999.00,9,    101,-999.000,  -999.0, 23.6349
     31KA010_1,  PRS2,     2,  8,     13,     13,2,19890922,2134, 22.7900,-158.0483, 4750,    130.0,  21.4668,  35.0378,2,  35.0360,2,    194.8,1,   -999.0,9,  -999.00,9,  -999.00,9,  -999.00,9,    126,-999.000,  -999.0, 21.4415
     31KA010_1,  PRS2,     2,  8,     11,     11,2,19890922,2134, 22.7900,-158.0483, 4750,    156.8,  19.9229,  34.9810,2,  34.9846,2,    175.5,1,   -999.0,9,  -999.00,9,  -999.00,9,  -999.00,9,    151,-999.000,  -999.0, 19.8941
     31KA010_1,  PRS2,     2,  8,      9,      9,2,19890922,2134, 22.7900,-158.0483, 4750,    182.4,  18.3869,  34.9147,2,  34.9184,2,    188.2,1,   -999.0,9,  -999.00,9,  -999.00,9,  -999.00,9,    176,-999.000,  -999.0, 18.3552
     31KA010_1,  PRS2,     2,  8,      7,      7,2,19890922,2134, 22.7900,-158.0483, 4750,    258.1,  14.2254,  34.4392,2,  34.4415,2,    182.9,1,   -999.0,9,  -999.00,9,  -999.00,9,  -999.00,9,    249,-999.000,  -999.0, 14.1878
     31KA010_1,  PRS2,     2,  8,      5,      5,2,19890922,2134, 22.7900,-158.0483, 4750,    750.4,   4.9367,  34.3509,2,  34.3538,2,     30.8,1,   -999.0,9,  -999.00,9,  -999.00,9,  -999.00,9,    740,-999.000,  -999.0,  4.8761
     31KA010_1,  PRS2,     2,  8,      1,      1,2,19890922,2134, 22.7900,-158.0483, 4750,   1020.6,   4.0611,  34.4903,2,  34.4900,2,     44.1,1,   -999.0,9,  -999.00,9,  -999.00,9,  -999.00,9,   1011,-999.000,  -999.0,  3.9832
     31KA010_1,  PRS2,     2,  9,      4,      4,2,19890923,0013, 22.7967,-158.0600, 4750,     26.9,  26.2495,  34.7744,2,  34.7756,2,    212.0,1,   -999.0,9,  -999.00,9,  -999.00,9,  -999.00,9,     24,-999.000,  -999.0, 26.2435
     31KA010_1,  PRS2,     2,  9,      3,      3,2,19890923,0013, 22.7967,-158.0600, 4750,    126.1,  21.5465,  35.0439,2,  35.0416,2,    198.7,1,   -999.0,9,  -999.00,9,  -999.00,9,  -999.00,9,    119,-999.000,  -999.0, 21.5219
     31KA010_1,  PRS2,     2,  9,      2,      2,2,19890923,0013, 22.7967,-158.0600, 4750,    505.2,   7.0459,  34.0960,2,  34.0982,2,     94.5,1,   -999.0,9,  -999.00,9,  -999.00,9,  -999.00,9,    494,-999.000,  -999.0,  6.9980
     31KA010_1,  PRS2,     2,  9,      1,      1,2,19890923,0013, 22.7967,-158.0600, 4750,   1024.4,   4.0777,  34.4904,2,  34.4918,2,     43.5,1,   -999.0,9,  -999.00,9,  -999.00,9,  -999.00,9,   1014,-999.000,  -999.0,  3.9994
     31KA010_1,  PRS2,     2, 10,      9,      9,2,19890923,0311, 22.8717,-158.1050, 4750,    138.9,  21.7018,  35.0305,2,-999.0000,5,    201.8,1,   -999.0,9,  -999.00,9,  -999.00,9,  -999.00,9,    134,-999.000,  -999.0, 21.6746
     31KA010_1,  PRS2,     2, 10,      8,      8,2,19890923,0311, 22.8717,-158.1050, 4750,    453.6,   7.3090,  34.0481,2,  34.0505,2,    131.1,1,   -999.0,9,  -999.00,9,  -999.00,9,  -999.00,9,    445,   7.395,   457.6,  7.2654
     31KA010_1,  PRS2,     2, 10,      3,      3,2,19890923,0311, 22.8717,-158.1050, 4750,   1024.6,   4.0601,  34.4867,2,  34.4881,2,     44.5,1,   -999.0,9,  -999.00,9,  -999.00,9,  -999.00,9,   1014,-999.000,  -999.0,  3.9819
     31KA010_1,  PRS2,     2, 11,     23,     23,2,19890923,0613, 22.8617,-158.1517, 4750,     11.7,  26.2699,  34.7746,2,  34.7764,2,    200.2,1,   -999.0,9,  -999.00,9,  -999.00,9,  -999.00,9,     16,-999.000,  -999.0, 26.2672
     31KA010_1,  PRS2,     2, 11,     14,     14,2,19890923,0613, 22.8617,-158.1517, 4750,    155.5,  21.0311,  35.0093,2,  35.0305,3,    189.6,1,   -999.0,9,  -999.00,9,  -999.00,9,  -999.00,9,    156,-999.000,  -999.0, 21.0013
     31KA010_1,  PRS2,     2, 11,      3,      3,2,19890923,0613, 22.8617,-158.1517, 4750,    156.3,  20.9893,  35.0114,2,  35.0045,2,    187.8,1,   -999.0,9,  -999.00,9,  -999.00,9,  -999.00,9,    150,-999.000,  -999.0, 20.9595
     31KA010_1,  PRS2,     2, 11,      2,      2,2,19890923,0613, 22.8617,-158.1517, 4750,    460.2,   7.1256,  34.0481,2,  34.0502,2,    121.2,1,   -999.0,9,  -999.00,9,  -999.00,9,  -999.00,9,    451,-999.000,  -999.0,  7.0819
     31KA010_1,  PRS2,     2, 11,      1,      1,2,19890923,0613, 22.8617,-158.1517, 4750,   1022.1,   4.0947,  34.4861,2,  34.4875,2,     43.2,1,   -999.0,9,  -999.00,9,  -999.00,9,  -999.00,9,   1011,   4.171,   964.8,  4.0165
     31KA010_1,  PRS2,     2, 12,     23,     23,2,19890923,0858, 22.8383,-158.1150, 4750,      6.3,  26.2526,  34.7787,2,-999.0000,9,    210.8,2,    212.8,2,     1.17,2,     0.07,2,     0.06,2,      6,-999.000,  -999.0, 26.2512
     31KA010_1,  PRS2,     2, 12,     22,     22,2,19890923,0858, 22.8383,-158.1150, 4750,     26.5,  26.2549,  34.7755,2,-999.0000,9,    210.7,2,    215.9,2,     0.76,2,     0.05,2,     0.06,2,     25,-999.000,  -999.0, 26.2490
     31KA010_1,  PRS2,     2, 12,     21,     21,2,19890923,0858, 22.8383,-158.1150, 4750,     47.4,  26.2374,  34.7738,2,-999.0000,9,    211.6,2,    212.8,2,     0.97,2,     0.03,2,     0.06,2,     45,-999.000,  -999.0, 26.2268
     31KA010_1,  PRS2,     2, 12,     20,     20,2,19890923,0858, 22.8383,-158.1150, 4750,     63.2,  26.1973,  34.7645,2,-999.0000,9,    212.3,2,    210.8,2,     0.56,2,     0.03,2,     0.06,2,     60,-999.000,  -999.0, 26.1831
     31KA010_1,  PRS2,     2, 12,     19,     19,2,19890923,0858, 22.8383,-158.1150, 4750,     79.0,  26.1705,  34.7601,2,-999.0000,9,    211.7,2,    210.9,2,     0.56,2,     0.03,2,     0.06,2,     75,-999.000,  -999.0, 26.1528
     31KA010_1,  PRS2,     2, 12,     18,     18,2,19890923,0858, 22.8383,-158.1150, 4750,     89.1,  25.4597,  34.7760,2,-999.0000,9,    212.1,2,    215.5,2,  -999.00,5,  -999.00,5,  -999.00,5,     85,-999.000,  -999.0, 25.4401
     31KA010_1,  PRS2,     2, 12,     17,     17,2,19890923,0858, 22.8383,-158.1150, 4750,     98.6,  24.1548,  34.9620,2,-999.0000,9,    217.0,2,    215.3,2,     1.10,2,     0.04,2,     0.06,2,     94,-999.000,  -999.0, 24.1339
     31KA010_1,  PRS2,     2, 12,     16,     16,2,19890923,0858, 22.8383,-158.1150, 4750,    111.2,  23.2475,  34.9696,2,-999.0000,9,    212.8,2,    211.4,2,     0.56,2,     0.07,2,     0.09,2,    106,-999.000,  -999.0, 23.2246
     31KA010_1,  PRS2,     2, 12,     15,     15,2,19890923,0858, 22.8383,-158.1150, 4750,    119.9,  22.4443,  34.9788,2,-999.0000,9,    198.7,2,    202.9,2,     0.97,2,     0.38,2,     0.17,2,    114,-999.000,  -999.0, 22.4202
     31KA010_1,  PRS2,     2, 12,     14,     14,2,19890923,0858, 22.8383,-158.1150, 4750,    131.7,  21.6959,  35.0758,2,-999.0000,9,    192.8,2,    198.5,2,     1.17,2,     0.93,2,     0.19,2,    126,-999.000,  -999.0, 21.6701
     31KA010_1,  PRS2,     2, 12,     13,     13,2,19890923,0858, 22.8383,-158.1150, 4750,    157.5,  18.6690,  34.8755,2,-999.0000,9,    166.0,2,    173.0,2,     3.02,2,     5.29,2,     0.47,2,    151,-999.000,  -999.0, 18.6413
     31KA010_1,  PRS2,     2, 12,     12,     12,2,19890923,0858, 22.8383,-158.1150, 4750,    182.1,  17.5739,  34.8023,2,-999.0000,9,    174.1,2,    177.1,2,     3.84,2,     5.53,2,     0.48,2,    176,-999.000,  -999.0, 17.5432
     31KA010_1,  PRS2,     2, 12,     11,     11,2,19890923,0858, 22.8383,-158.1150, 4750,    206.7,  16.6723,  34.7238,2,-999.0000,9,    185.4,2,    182.5,2,     5.07,2,     5.95,2,     0.51,2,    200,-999.000,  -999.0, 16.6387
     31KA010_1,  PRS2,     2, 12,     10,     10,2,19890923,0858, 22.8383,-158.1150, 4750,    231.7,  15.9923,  34.6456,2,-999.0000,9,    184.7,2,    178.1,2,     4.25,2,     5.86,2,     0.50,2,    224,-999.000,  -999.0, 15.9557
     31KA010_1,  PRS2,     2, 12,      9,      9,2,19890923,0858, 22.8383,-158.1150, 4750,    257.6,  14.1517,  34.4184,2,-999.0000,9,    194.1,2,    192.0,2,     7.33,2,     8.16,2,     0.66,2,    250,-999.000,  -999.0, 14.1143
     31KA010_1,  PRS2,     2, 12,      8,      8,2,19890923,0858, 22.8383,-158.1150, 4750,    282.5,  12.5455,  34.2646,2,-999.0000,9,    190.7,2,    190.2,2,    10.61,2,    11.34,2,     0.88,2,    275,-999.000,  -999.0, 12.5077
     31KA010_1,  PRS2,     2, 12,      7,      7,2,19890923,0858, 22.8383,-158.1150, 4750,    307.4,  11.4071,  34.1977,2,-999.0000,9,    195.3,2,    191.7,2,    13.69,2,    13.57,2,     1.03,2,    300,  11.425,   320.3, 11.3684
     31KA010_1,  PRS2,     2, 12,      6,      6,2,19890923,0858, 22.8383,-158.1150, 4750,    330.9,  10.9253,  34.1787,2,-999.0000,9,    195.1,2,    182.6,2,    16.15,2,    15.55,2,     1.17,2,    323,-999.000,  -999.0, 10.8848
     31KA010_1,  PRS2,     2, 12,      5,      5,2,19890923,0858, 22.8383,-158.1150, 4750,    356.0,  10.2378,  34.1425,2,-999.0000,9,    184.8,2,    183.8,2,    22.17,2,    17.01,2,     1.27,2,    349,-999.000,  -999.0, 10.1960
     31KA010_1,  PRS2,     2, 12,      4,      4,2,19890923,0858, 22.8383,-158.1150, 4750,    384.0,   9.5770,  34.1247,2,-999.0000,9,    189.0,2,    161.8,2,    24.98,2,    20.33,2,     1.54,2,    375,-999.000,  -999.0,  9.5337
     31KA010_1,  PRS2,     2, 12,      3,      3,2,19890923,0858, 22.8383,-158.1150, 4750,    409.0,   8.9586,  34.1162,2,-999.0000,9,    157.4,2,    156.0,2,  -999.00,5,  -999.00,5,  -999.00,5,    400,-999.000,  -999.0,  8.9143
     31KA010_1,  PRS2,     2, 12,      2,      2,2,19890923,0858, 22.8383,-158.1150, 4750,    461.3,   7.2495,  34.0549,2,-999.0000,9,    128.6,2,    123.9,2,    45.49,2,    28.58,2,     2.05,2,    451,-999.000,  -999.0,  7.2052
     31KA010_1,  PRS2,     2, 12,      1,      1,2,19890923,0858, 22.8383,-158.1150, 4750,    511.9,   6.6336,  34.1035,2,-999.0000,9,     90.5,2,     81.3,2,    57.18,2,    33.37,2,     2.44,2,    502,-999.000,  -999.0,  6.5867