BOTTLE,20020809WHPSIObren
#code : jjward hyd_to_exchange.pl 
#original files copied from HTML directory: 20020809
#original HYD file: /whpo/11/HOTS/BOTTLE/hot10/hot10.sea   Fri Aug  9 09:51:25 2002
#original SUM file: /whpo/11/HOTS/BOTTLE/hot10/hot10.sum   Fri Aug  9 13:30:33 2002
EXPOCODE,SECT_ID,STNNBR,CASTNO,SAMPNO,BTLNBR,BTLNBR_FLAG_W,DATE,TIME,LATITUDE,LONGITUDE,DEPTH,CTDPRS,CTDTMP,CTDSAL,CTDSAL_FLAG_W,SALNTY,SALNTY_FLAG_W,CTDOXY,CTDOXY_FLAG_W,OXYGEN,OXYGEN_FLAG_W,SILCAT,SILCAT_FLAG_W,NO2+NO3,NO2+NO3_FLAG_W,PHSPHT,PHSPHT_FLAG_W,CTDRAW,REVTMP,REVPRS,THETA
,,,,,,,,,,,,DBAR,IPTS-68,PSS-78,,PSS-78,,UMOL/KG,,UMOL/KG,,UMOL/KG,,UMOL/KG,,UMOL/KG,,,DEG C,DBAR,IPTS-68
     31KA010_1,  PRS2,     1,  1,     24,     24,2,19890920,2332, 21.3300,-158.2600, 1500,      6.5,  26.8534,  34.7512,2,  34.7412,2,    210.9,2,   -999.0,5,  -999.00,5,  -999.00,5,  -999.00,5,      8,-999.000,  -999.0, 26.8520
     31KA010_1,  PRS2,     1,  1,     23,     23,2,19890920,2332, 21.3300,-158.2600, 1500,     21.4,  26.7874,  34.7463,2,  34.7396,2,    210.8,2,    205.4,2,     2.40,2,     0.03,2,     0.08,2,     22,-999.000,  -999.0, 26.7825
     31KA010_1,  PRS2,     1,  1,     22,     22,2,19890920,2332, 21.3300,-158.2600, 1500,     41.4,  26.7692,  34.7460,2,  34.7401,2,    210.5,2,   -999.0,5,  -999.00,5,  -999.00,5,  -999.00,5,     42,-999.000,  -999.0, 26.7597
     31KA010_1,  PRS2,     1,  1,     21,     21,2,19890920,2332, 21.3300,-158.2600, 1500,     70.1,  26.5320,  34.7411,2,  34.7385,2,    204.7,2,    208.9,2,     1.17,2,     0.03,2,     0.09,2,     69,-999.000,  -999.0, 26.5161
     31KA010_1,  PRS2,     1,  1,     20,     20,2,19890920,2332, 21.3300,-158.2600, 1500,     84.0,  24.9359,  34.9213,2,  34.9104,2,    220.7,2,   -999.0,5,  -999.00,5,  -999.00,5,  -999.00,5,     82,-999.000,  -999.0, 24.9178
     31KA010_1,  PRS2,     1,  1,     19,     19,2,19890920,2332, 21.3300,-158.2600, 1500,    106.6,  22.7963,  35.0558,2,  35.3129,4,    209.7,3,    207.7,2,  -999.00,5,  -999.00,5,  -999.00,5,    104,-999.000,  -999.0, 22.7747
     31KA010_1,  PRS2,     1,  1,     18,     18,2,19890920,2332, 21.3300,-158.2600, 1500,    129.7,  21.2921,  35.0951,2,  35.0922,2,    196.8,2,   -999.0,5,  -999.00,5,  -999.00,5,  -999.00,5,    127,-999.000,  -999.0, 21.2670
     31KA010_1,  PRS2,     1,  1,     17,     17,2,19890920,2332, 21.3300,-158.2600, 1500,    137.7,  20.7777,  35.0775,2,  35.0109,3,    198.0,3,    194.3,2,     2.20,2,     2.18,2,     0.23,2,    134,-999.000,  -999.0, 20.7515
     31KA010_1,  PRS2,     1,  1,     16,     16,2,19890920,2332, 21.3300,-158.2600, 1500,    171.8,  18.5474,  34.9124,2,  34.9085,2,    184.2,2,    185.1,2,     3.43,2,     4.48,2,     0.40,2,    167,-999.000,  -999.0, 18.5173
     31KA010_1,  PRS2,     1,  1,     15,     15,2,19890920,2332, 21.3300,-158.2600, 1500,    208.8,  15.5507,  34.6065,2,-999.0000,5,    182.9,2,   -999.0,5,  -999.00,5,  -999.00,5,  -999.00,5,    203,-999.000,  -999.0, 15.5183
     31KA010_1,  PRS2,     1,  1,     14,     14,2,19890920,2332, 21.3300,-158.2600, 1500,    270.9,  11.8965,  34.2807,2,  34.2785,2,    170.0,2,    172.0,2,    15.54,2,    14.72,2,     1.12,2,    265,-999.000,  -999.0, 11.8616
     31KA010_1,  PRS2,     1,  1,     13,     13,2,19890920,2332, 21.3300,-158.2600, 1500,    303.4,  10.4670,  34.2259,2,  34.2272,2,    151.7,2,    151.3,2,    24.36,2,    19.51,2,     1.47,2,    296,-999.000,  -999.0, 10.4309
     31KA010_1,  PRS2,     1,  1,     12,     12,2,19890920,2332, 21.3300,-158.2600, 1500,    359.6,   9.0009,  34.1742,2,  34.1721,2,    133.6,2,   -999.0,5,  -999.00,5,  -999.00,5,  -999.00,5,    352,-999.000,  -999.0,  8.9619
     31KA010_1,  PRS2,     1,  1,     11,     11,2,19890920,2332, 21.3300,-158.2600, 1500,    418.8,   7.5201,  34.1143,2,  34.1136,2,    118.4,2,    118.6,2,    45.90,2,    28.58,2,     2.07,2,    411,-999.000,  -999.0,  7.4792
     31KA010_1,  PRS2,     1,  1,     10,     10,2,19890920,2332, 21.3300,-158.2600, 1500,    458.5,   6.6486,  34.1016,2,  34.0984,2,     92.6,2,   -999.0,5,  -999.00,5,  -999.00,5,  -999.00,5,    450,-999.000,  -999.0,  6.6067
     31KA010_1,  PRS2,     1,  1,      9,      9,2,19890920,2332, 21.3300,-158.2600, 1500,    517.9,   6.2028,  34.1431,2,  34.1420,2,     75.2,2,     72.6,2,    65.39,2,    35.14,2,     2.56,2,    509,-999.000,  -999.0,  6.1570
     31KA010_1,  PRS2,     1,  1,      8,      8,2,19890920,2332, 21.3300,-158.2600, 1500,    557.5,   5.8292,  34.1911,2,  34.1909,2,     55.2,2,   -999.0,5,  -999.00,5,  -999.00,5,  -999.00,5,    548,-999.000,  -999.0,  5.7813
     31KA010_1,  PRS2,     1,  1,      7,      7,2,19890920,2332, 21.3300,-158.2600, 1500,    602.5,   5.5217,  34.2434,2,  34.2405,2,     45.8,2,     44.7,2,    79.75,2,    38.78,2,     2.85,2,    593,-999.000,  -999.0,  5.4711
     31KA010_1,  PRS2,     1,  1,      6,      6,2,19890920,2332, 21.3300,-158.2600, 1500,    646.9,   5.3804,  34.3230,2,  34.3250,2,     38.5,2,   -999.0,5,  -999.00,5,  -999.00,5,  -999.00,5,    637,-999.000,  -999.0,  5.3265
     31KA010_1,  PRS2,     1,  1,      5,      5,2,19890920,2332, 21.3300,-158.2600, 1500,    706.9,   5.2569,  34.3910,2,-999.0000,5,     32.7,2,   -999.0,5,  -999.00,5,  -999.00,5,  -999.00,5,    697,-999.000,  -999.0,  5.1983
     31KA010_1,  PRS2,     1,  1,      4,      4,2,19890920,2332, 21.3300,-158.2600, 1500,    751.9,   4.9362,  34.4233,2,  34.4252,2,     34.1,2,     36.2,2,    92.65,2,    41.17,2,     3.01,2,    741,-999.000,  -999.0,  4.8754
     31KA010_1,  PRS2,     1,  1,      3,      3,2,19890920,2332, 21.3300,-158.2600, 1500,    808.3,   4.7702,  34.4528,2,  34.4526,2,     34.9,2,   -999.0,5,  -999.00,5,  -999.00,5,  -999.00,5,    797,-999.000,  -999.0,  4.7054
     31KA010_1,  PRS2,     1,  1,      2,      2,2,19890920,2332, 21.3300,-158.2600, 1500,    897.9,   4.4744,  34.4790,2,  34.4803,2,     37.4,2,   -999.0,5,  -999.00,5,  -999.00,5,  -999.00,5,    887,-999.000,  -999.0,  4.4039
     31KA010_1,  PRS2,     1,  1,      1,      1,2,19890920,2332, 21.3300,-158.2600, 1500,   1016.2,   4.0691,  34.5073,2,  34.4794,4,     40.3,3,     42.1,2,   101.06,2,    41.98,2,     3.04,2,   1005,-999.000,  -999.0,  3.9915
     31KA010_1,  PRS2,     2,  1,     11,     11,2,19890921,1825, 22.7050,-157.9233, 4750,      7.7,  26.3800,  34.7702,2,-999.0000,9,    209.4,1,   -999.0,9,  -999.00,9,  -999.00,9,  -999.00,9,      8,-999.000,  -999.0, 26.3782
     31KA010_1,  PRS2,     2,  1,     10,     10,2,19890921,1825, 22.7050,-157.9233, 4750,     48.7,  26.3817,  34.7687,2,-999.0000,9,    209.3,1,   -999.0,9,  -999.00,9,  -999.00,9,  -999.00,9,     48,-999.000,  -999.0, 26.3707
     31KA010_1,  PRS2,     2,  1,      9,      9,2,19890921,1825, 22.7050,-157.9233, 4750,     76.5,  26.3002,  34.7699,2,-999.0000,9,    204.3,1,   -999.0,9,  -999.00,9,  -999.00,9,  -999.00,9,     75,-999.000,  -999.0, 26.2830
     31KA010_1,  PRS2,     2,  1,      8,      8,2,19890921,1825, 22.7050,-157.9233, 4750,    102.4,  24.2632,  34.9554,2,-999.0000,9,    214.3,1,   -999.0,9,  -999.00,9,  -999.00,9,  -999.00,9,    100,-999.000,  -999.0, 24.2415
     31KA010_1,  PRS2,     2,  1,      7,      7,2,19890921,1825, 22.7050,-157.9233, 4750,    128.6,  22.7581,  35.0417,2,-999.0000,9,    205.9,1,   -999.0,9,  -999.00,9,  -999.00,9,  -999.00,9,    126,-999.000,  -999.0, 22.7320
     31KA010_1,  PRS2,     2,  1,      6,      6,2,19890921,1825, 22.7050,-157.9233, 4750,    154.3,  20.3965,  34.9976,2,-999.0000,9,    178.8,1,   -999.0,9,  -999.00,9,  -999.00,9,  -999.00,9,    151,-999.000,  -999.0, 20.3676
     31KA010_1,  PRS2,     2,  1,      5,      5,2,19890921,1825, 22.7050,-157.9233, 4750,    182.4,  18.3609,  34.8988,2,-999.0000,9,    176.1,1,   -999.0,9,  -999.00,9,  -999.00,9,  -999.00,9,    177,-999.000,  -999.0, 18.3292
     31KA010_1,  PRS2,     2,  1,      4,      4,2,19890921,1825, 22.7050,-157.9233, 4750,    255.7,  14.8054,  34.5065,2,-999.0000,9,    179.3,1,   -999.0,9,  -999.00,9,  -999.00,9,  -999.00,9,    248,-999.000,  -999.0, 14.7671
     31KA010_1,  PRS2,     2,  1,      3,      3,2,19890921,1825, 22.7050,-157.9233, 4750,    505.3,   7.1851,  34.0875,2,-999.0000,9,    107.1,1,   -999.0,9,  -999.00,9,  -999.00,9,  -999.00,9,    496,-999.000,  -999.0,  7.1368
     31KA010_1,  PRS2,     2,  1,      2,      2,2,19890921,1825, 22.7050,-157.9233, 4750,    761.2,   4.7819,  34.3197,2,-999.0000,9,     28.0,1,   -999.0,9,  -999.00,9,  -999.00,9,  -999.00,9,    751,-999.000,  -999.0,  4.7213
     31KA010_1,  PRS2,     2,  1,      1,      1,2,19890921,1825, 22.7050,-157.9233, 4750,   1008.7,   4.1762,  34.4862,2,-999.0000,9,     42.1,1,   -999.0,9,  -999.00,9,  -999.00,9,  -999.00,9,    999,-999.000,  -999.0,  4.0985
     31KA010_1,  PRS2,     2,  2,     10,     10,2,19890921,2007, 22.7183,-157.9283, 4750,      5.2,  26.3996,  34.7713,2,-999.0000,5,    172.6,1,   -999.0,9,  -999.00,9,  -999.00,9,  -999.00,9,      6,-999.000,  -999.0, 26.3984
     31KA010_1,  PRS2,     2,  2,      9,      9,2,19890921,2007, 22.7183,-157.9283, 4750,     45.7,  26.3737,  34.7704,2,  34.7706,2,    215.4,1,   -999.0,9,  -999.00,9,  -999.00,9,  -999.00,9,     45,-999.000,  -999.0, 26.3634
     31KA010_1,  PRS2,     2,  2,      8,      8,2,19890921,2007, 22.7183,-157.9283, 4750,     76.4,  25.4570,  34.8347,2,  34.8340,2,    212.2,1,   -999.0,9,  -999.00,9,  -999.00,9,  -999.00,9,     75,-999.000,  -999.0, 25.4403
     31KA010_1,  PRS2,     2,  2,      7,      7,2,19890921,2007, 22.7183,-157.9283, 4750,    129.2,  22.0834,  35.0391,2,  35.0483,2,    195.7,1,   -999.0,9,  -999.00,9,  -999.00,9,  -999.00,9,    126,-999.000,  -999.0, 22.0577
     31KA010_1,  PRS2,     2,  2,      6,      6,2,19890921,2007, 22.7183,-157.9283, 4750,    156.5,  20.1427,  34.9833,2,  34.9809,2,    170.5,1,   -999.0,9,  -999.00,9,  -999.00,9,  -999.00,9,    151,-999.000,  -999.0, 20.1136
     31KA010_1,  PRS2,     2,  2,      5,      5,2,19890921,2007, 22.7183,-157.9283, 4750,    182.9,  18.6133,  34.9228,2,  34.9350,2,    179.0,1,   -999.0,9,  -999.00,9,  -999.00,9,  -999.00,9,    176,-999.000,  -999.0, 18.5812
     31KA010_1,  PRS2,     2,  2,      4,      4,2,19890921,2007, 22.7183,-157.9283, 4750,    256.3,  14.9878,  34.5303,2,  34.7196,4,    182.2,1,   -999.0,9,  -999.00,9,  -999.00,9,  -999.00,9,    248,-999.000,  -999.0, 14.9491
     31KA010_1,  PRS2,     2,  2,      3,      3,2,19890921,2007, 22.7183,-157.9283, 4750,    508.1,   6.3085,  34.0742,2,  34.0804,2,     85.5,1,   -999.0,9,  -999.00,9,  -999.00,9,  -999.00,9,    498,-999.000,  -999.0,  6.2632
     31KA010_1,  PRS2,     2,  2,      2,      2,2,19890921,2007, 22.7183,-157.9283, 4750,    759.9,   4.7925,  34.3374,2,  34.3380,2,     29.2,1,   -999.0,9,  -999.00,9,  -999.00,9,  -999.00,9,    750,-999.000,  -999.0,  4.7319
     31KA010_1,  PRS2,     2,  2,      1,      1,2,19890921,2007, 22.7183,-157.9283, 4750,   1019.1,   4.0846,  34.4900,2,  34.4949,2,     43.7,1,   -999.0,9,  -999.00,9,  -999.00,9,  -999.00,9,   1010,-999.000,  -999.0,  4.0067
     31KA010_1,  PRS2,     2,  3,     24,     24,2,19890921,2336, 22.7433,-157.9650, 4750,    803.6,   4.7011,  34.4091,2,  34.4091,2,     33.2,2,     31.6,2,    97.17,2,    41.80,2,     3.01,2,    801,-999.000,  -999.0,  4.6373
     31KA010_1,  PRS2,     2,  3,     23,     23,2,19890921,2336, 22.7433,-157.9650, 4750,    903.7,   4.4077,  34.4656,2,  34.4661,2,     37.7,2,     37.5,2,   103.32,2,    42.00,2,     3.04,2,    901,-999.000,  -999.0,  4.3372
     31KA010_1,  PRS2,     2,  3,     21,     21,2,19890921,2336, 22.7433,-157.9650, 4750,   1004.2,   4.0569,  34.4908,2,  34.1348,4,     43.9,3,     49.1,4,    59.83,4,    33.15,4,     2.41,4,   1002,-999.000,  -999.0,  3.9805
     31KA010_1,  PRS2,     2,  3,     20,     20,2,19890921,2336, 22.7433,-157.9650, 4750,   1103.9,   3.7882,  34.5135,2,  34.5146,2,     49.2,2,     48.0,2,   105.16,3,    41.90,2,     3.02,2,   1102,-999.000,  -999.0,  3.7056
     31KA010_1,  PRS2,     2,  3,     19,     19,2,19890921,2336, 22.7433,-157.9650, 4750,   1404.6,   3.1055,  34.5582,2,  34.5586,2,     61.5,2,     61.6,2,   129.97,2,    41.59,2,     2.93,2,   1403,-999.000,  -999.0,  3.0045
     31KA010_1,  PRS2,     2,  3,     18,     18,2,19890921,2336, 22.7433,-157.9650, 4750,   1552.7,   2.8203,  34.5749,2,  34.5748,2,     68.2,2,     67.1,2,   136.13,2,    41.48,2,     2.92,2,   1551,-999.000,  -999.0,  2.7102
     31KA010_1,  PRS2,     2,  3,     17,     17,2,19890921,2336, 22.7433,-157.9650, 4750,   1699.4,   2.5445,  34.5889,2,  34.5887,2,     72.7,2,     72.9,2,   141.87,2,    41.06,2,     2.89,2,   1698,-999.000,  -999.0,  2.4256
     31KA010_1,  PRS2,     2,  3,     15,     15,2,19890921,2336, 22.7433,-157.9650, 4750,   1851.8,   2.3156,  34.6079,2,  34.6089,2,     80.5,2,     83.3,2,   146.38,2,    40.65,2,     2.83,2,   1851,-999.000,  -999.0,  2.1870
     31KA010_1,  PRS2,     2,  3,     14,     14,2,19890921,2336, 22.7433,-157.9650, 4750,   2002.5,   2.1256,  34.6197,2,  34.6217,2,     88.8,2,     89.8,2,   149.04,2,    40.23,2,     2.79,2,   2001,-999.000,  -999.0,  1.9870
     31KA010_1,  PRS2,     2,  3,     13,     13,2,19890921,2336, 22.7433,-157.9650, 4750,   2199.8,   1.9366,  34.6346,2,  34.6335,2,     97.5,2,     98.8,2,   154.57,2,    39.71,2,     2.79,2,   2199,-999.000,  -999.0,  1.7842
     31KA010_1,  PRS2,     2,  3,     12,     12,2,19890921,2336, 22.7433,-157.9650, 4750,   2396.9,   1.7956,  34.6453,2,  34.7273,4,    103.6,3,    175.8,4,   153.55,4,    39.60,4,     2.75,4,   2396,-999.000,  -999.0,  1.6283
     31KA010_1,  PRS2,     2,  3,     11,     11,2,19890921,2336, 22.7433,-157.9650, 4750,   2600.0,   1.6801,  34.6550,2,  34.7924,4,    110.9,3,    189.9,4,     6.20,4,     4.92,4,     0.40,4,   2599,-999.000,  -999.0,  1.4967
     31KA010_1,  PRS2,     2,  3,     10,     10,2,19890921,2336, 22.7433,-157.9650, 4750,   2801.3,   1.5871,  34.6644,2,  34.3005,4,    118.4,3,    167.4,4,    21.89,4,    15.85,4,     1.15,4,   2801,-999.000,  -999.0,  1.3871
     31KA010_1,  PRS2,     2,  3,      9,      9,2,19890921,2336, 22.7433,-157.9650, 4750,   2996.1,   1.5438,  34.6699,2,  34.1237,4,    124.3,3,    155.2,4,    33.16,4,    22.42,4,     1.58,4,   2994,-999.000,  -999.0,  1.3264
     31KA010_1,  PRS2,     2,  3,      8,      8,2,19890921,2336, 22.7433,-157.9650, 4750,   3189.4,   1.5073,  34.6745,2,  34.6755,2,    130.5,2,    134.6,2,   156.62,2,    37.32,2,     2.54,2,   3187,-999.000,  -999.0,  1.2721
     31KA010_1,  PRS2,     2,  3,      7,      7,2,19890921,2336, 22.7433,-157.9650, 4750,   3392.2,   1.4820,  34.6787,2,  34.6814,2,    136.2,2,    134.6,2,   154.57,2,    36.90,2,     2.52,2,   3392,-999.000,  -999.0,  1.2272
     31KA010_1,  PRS2,     2,  3,      6,      6,2,19890921,2336, 22.7433,-157.9650, 4750,   3597.7,   1.4667,  34.6817,2,  34.2301,4,    140.4,3,    144.2,4,    35.63,4,    21.69,4,     1.55,4,   3597,-999.000,  -999.0,  1.1913
     31KA010_1,  PRS2,     2,  3,      5,      5,2,19890921,2336, 22.7433,-157.9650, 4750,   3801.6,   1.4592,  34.6841,2,  34.8412,4,    143.6,3,    213.3,4,     1.17,4,     0.03,4,     0.12,4,   3800,-999.000,  -999.0,  1.1627
     31KA010_1,  PRS2,     2,  3,      4,      4,2,19890921,2336, 22.7433,-157.9650, 4750,   4003.1,   1.4584,  34.6864,2,-999.0000,5,    146.9,2,   -999.0,5,  -999.00,5,  -999.00,5,  -999.00,5,   4002,-999.000,  -999.0,  1.1403
     31KA010_1,  PRS2,     2,  3,      3,      3,2,19890921,2336, 22.7433,-157.9650, 4750,   4197.5,   1.4668,  34.6876,2,  34.7613,4,    149.4,3,    196.9,4,     3.84,4,     2.24,4,     0.20,4,   4196,-999.000,  -999.0,  1.1271
     31KA010_1,  PRS2,     2,  3,      2,      2,2,19890921,2336, 22.7433,-157.9650, 4750,   4397.2,   1.4783,  34.6886,2,  34.6890,2,    150.0,2,    152.4,2,   148.57,2,    36.22,2,     2.43,2,   4394,-999.000,  -999.0,  1.1157
     31KA010_1,  PRS2,     2,  3,      1,      1,2,19890921,2336, 22.7433,-157.9650, 4750,   4525.9,   1.4874,  34.6892,2,  34.6887,2,    151.5,2,    146.6,3,   149.03,2,    36.16,2,     2.48,2,   4523,   3.241,  1310.3,  1.1097