BOTTLE,20140522SIOCCHGR
EXPOCODE,SECT_ID,STNNBR,CASTNO,SAMPNO,BTLNBR,BTLNBR_FLAG_W,DATE,TIME,LATITUDE,LONGITUDE,DEPTH,CTDPRS,CTDTMP,CTDSAL,CTDSAL_FLAG_W,SALNTY,SALNTY_FLAG_W,CTDOXY,CTDOXY_FLAG_W,OXYGEN,OXYGEN_FLAG_W,CFC-11,CFC-11_FLAG_W,CFC-12,CFC-12_FLAG_W,THETA
,,,,,,,,,,,METERS,DBAR,ITS-90,PSS-78,,PSS-78,,UMOL/KG,,UMOL/KG,,PMOL/KG,,PMOL/KG,,DEG C
  06MT20040710,  AR04,   681,  1,      1,      1,2,20040712,   0, 11.5868, -60.4702, 1020,   1018.5,   5.2924,  34.8727,2,-999.0000,9,    177.4,2,    172.9,2, -999.000,9, -999.000,9,   5.2045
  06MT20040710,  AR04,   681,  1,      2,      2,2,20040712,   0, 11.5868, -60.4702, 1020,   1018.4,   5.2926,  34.8720,2,-999.0000,9,    177.4,2,   -999.0,9,    0.172,2,    0.091,2,   5.2047
  06MT20040710,  AR04,   681,  1,      3,      3,2,20040712,   0, 11.5868, -60.4702, 1020,    805.4,   5.2881,  34.6449,2,  34.6725,3,    143.9,2,   -999.0,9,    0.081,2,    0.041,2,   5.2202
  06MT20040710,  AR04,   681,  1,      4,      4,2,20040712,   0, 11.5868, -60.4702, 1020,    807.7,   5.2867,  34.6413,2,-999.0000,9,    144.1,2,   -999.0,9, -999.000,9, -999.000,9,   5.2186
  06MT20040710,  AR04,   681,  1,      5,      5,2,20040712,   0, 11.5868, -60.4702, 1020,    618.1,   6.0755,  34.6377,2,-999.0000,9,    128.1,2,    130.9,2,    0.227,2,    0.122,2,   6.0205
  06MT20040710,  AR04,   681,  1,      6,      6,2,20040712,   0, 11.5868, -60.4702, 1020,    618.2,   6.0729,  34.6350,2,-999.0000,9,    128.1,2,   -999.0,9, -999.000,9, -999.000,9,   6.0179
  06MT20040710,  AR04,   681,  1,      7,      7,2,20040712,   0, 11.5868, -60.4702, 1020,    402.2,   8.9885,  34.9298,2,-999.0000,9,    125.0,2,   -999.0,9,    0.905,2,    0.489,2,   8.9443
  06MT20040710,  AR04,   681,  1,      8,      8,2,20040712,   0, 11.5868, -60.4702, 1020,    403.4,   9.0475,  34.9326,2,-999.0000,9,    124.8,2,    122.2,2, -999.000,9, -999.000,9,   9.0030
  06MT20040710,  AR04,   681,  1,      9,      9,2,20040712,   0, 11.5868, -60.4702, 1020,    254.5,  11.6500,  35.2971,2,-999.0000,9,    126.9,2,   -999.0,9,    1.452,2,    0.803,2,  11.6172
  06MT20040710,  AR04,   681,  1,     10,     10,2,20040712,   0, 11.5868, -60.4702, 1020,    151.4,  17.2420,  36.2209,2,-999.0000,9,    144.0,2,   -999.0,9,    1.895,2,    1.107,2,  17.2166
  06MT20040710,  AR04,   681,  1,     11,     11,2,20040712,   0, 11.5868, -60.4702, 1020,     49.2,  27.3812,  36.1947,2,  36.1954,2,    198.2,2,   -999.0,9, -999.000,9, -999.000,9,  27.3698
  06MT20040710,  AR04,   681,  1,     12,     12,2,20040712,   0, 11.5868, -60.4702, 1020,     48.5,  27.4201,  36.1399,2,-999.0000,9,    198.3,2,    200.8,2, -999.000,9, -999.000,9,  27.4088
  06MT20040710,  AR04,   681,  1,     13,     13,2,20040712,   0, 11.5868, -60.4702, 1020,     12.1,  28.1853,  35.2692,2,-999.0000,9,    201.6,2,   -999.0,9,    1.544,2,    1.007,2,  28.1824
  06MT20040710,  AR04,   681,  1,     14,     14,2,20040712,   0, 11.5868, -60.4702, 1020,     12.1,  28.1853,  35.2692,2,-999.0000,9,    201.6,2,    204.1,2, -999.000,9, -999.000,9,  28.1824
  06MT20040710,  AR04,   681,  1,     15,     15,2,20040712,   0, 11.5868, -60.4702, 1020,     12.2,  28.1856,  35.2684,2,-999.0000,9,    201.6,2,   -999.0,9, -999.000,9, -999.000,9,  28.1827
  06MT20040710,  AR04,   681,  1,     16,     16,2,20040712,   0, 11.5868, -60.4702, 1020,     12.0,  28.1862,  35.2685,2,-999.0000,9,    201.6,2,   -999.0,9, -999.000,9, -999.000,9,  28.1834
  06MT20040710,  AR04,   681,  1,     17,     17,2,20040712,   0, 11.5868, -60.4702, 1020,     11.9,  28.1860,  35.2682,2,-999.0000,9,    201.6,2,   -999.0,9, -999.000,9, -999.000,9,  28.1832
  06MT20040710,  AR04,   681,  1,     18,     18,2,20040712,   0, 11.5868, -60.4702, 1020,     12.1,  28.1851,  35.2691,2,-999.0000,9,    201.6,2,   -999.0,9, -999.000,9, -999.000,9,  28.1822
  06MT20040710,  AR04,   681,  1,     19,     19,2,20040712,   0, 11.5868, -60.4702, 1020,     12.0,  28.1856,  35.2694,2,-999.0000,9,    201.6,2,   -999.0,9, -999.000,9, -999.000,9,  28.1828
  06MT20040710,  AR04,   681,  1,     20,     20,2,20040712,   0, 11.5868, -60.4702, 1020,     11.5,  28.1854,  35.2677,2,-999.0000,9,    201.6,2,   -999.0,9, -999.000,9, -999.000,9,  28.1827
  06MT20040710,  AR04,   681,  1,     21,     21,2,20040712,   0, 11.5868, -60.4702, 1020,     12.0,  28.1856,  35.2694,2,-999.0000,9,    201.6,2,   -999.0,9, -999.000,9, -999.000,9,  28.1828
  06MT20040710,  AR04,   681,  1,     22,     22,2,20040712,   0, 11.5868, -60.4702, 1020,     12.1,  28.1850,  35.2695,2,-999.0000,9,    201.6,2,   -999.0,9, -999.000,9, -999.000,9,  28.1821
  06MT20040710,  AR04,   682,  1,      1,      1,2,20040713,   0, 11.8058, -60.5508, 1509,   1508.3,   4.0438,  34.9894,2,-999.0000,9,    257.3,2,   -999.0,9, -999.000,9, -999.000,9,   3.9223
  06MT20040710,  AR04,   682,  1,      2,      2,2,20040713,   0, 11.8058, -60.5508, 1509,   1508.0,   4.0413,  34.9849,2,  34.9860,2,    257.3,2,   -999.0,9,    0.771,2,    0.395,2,   3.9198
  06MT20040710,  AR04,   682,  1,      3,      3,2,20040713,   0, 11.8058, -60.5508, 1509,   1309.2,   4.7347,  35.0050,2,-999.0000,9,    231.2,2,   -999.0,9,    0.641,2,    0.324,2,   4.6243
  06MT20040710,  AR04,   682,  1,      4,      4,2,20040713,   0, 11.8058, -60.5508, 1509,   1114.5,   5.2530,  34.9592,2,-999.0000,9,    191.1,2,   -999.0,9,    0.315,2,    0.164,2,   5.1563
  06MT20040710,  AR04,   682,  1,      5,      5,2,20040713,   0, 11.8058, -60.5508, 1509,   1105.1,   5.2660,  34.9499,2,-999.0000,9,    187.9,2,    196.6,2, -999.000,9, -999.000,9,   5.1701
  06MT20040710,  AR04,   682,  1,      6,      6,2,20040713,   0, 11.8058, -60.5508, 1509,    904.6,   5.1372,  34.7184,2,-999.0000,9,    153.0,2,   -999.0,9,    0.072,2,    0.039,2,   5.0612
  06MT20040710,  AR04,   682,  1,      7,      7,2,20040713,   0, 11.8058, -60.5508, 1509,    705.4,   6.1860,  34.6755,2,-999.0000,9,    130.7,2,   -999.0,9,    0.219,2,    0.120,2,   6.1222
  06MT20040710,  AR04,   682,  1,      8,      8,2,20040713,   0, 11.8058, -60.5508, 1509,    705.3,   6.1906,  34.6748,2,-999.0000,9,    130.7,2,    131.1,2, -999.000,9, -999.000,9,   6.1267
  06MT20040710,  AR04,   682,  1,      9,      9,2,20040713,   0, 11.8058, -60.5508, 1509,    501.8,   7.7918,  34.7979,2,  34.7594,3,    120.2,2,   -999.0,9,    0.601,2,    0.323,2,   7.7409
  06MT20040710,  AR04,   682,  1,     10,     10,2,20040713,   0, 11.8058, -60.5508, 1509,    309.9,  10.9266,  35.2070,2,-999.0000,9,    119.6,2,   -999.0,9, -999.000,9, -999.000,9,  10.8883
  06MT20040710,  AR04,   682,  1,     11,     11,2,20040713,   0, 11.8058, -60.5508, 1509,    294.1,  11.0633,  35.2365,2,-999.0000,9,    121.1,2,   -999.0,9,    1.259,2,    0.688,2,  11.0266
  06MT20040710,  AR04,   682,  1,     12,     12,2,20040713,   0, 11.8058, -60.5508, 1509,    102.5,  21.6540,  36.8020,2,-999.0000,9,    161.9,2,   -999.0,9,    1.897,2,    1.186,2,  21.6338
  06MT20040710,  AR04,   682,  1,     13,     13,2,20040713,   0, 11.8058, -60.5508, 1509,     20.6,  28.1327,  35.1705,2,  35.1299,3,    201.7,2,   -999.0,9,    1.534,2,    1.001,2,  28.1278
  06MT20040710,  AR04,   682,  1,     14,     14,2,20040713,   0, 11.8058, -60.5508, 1509,     20.6,  28.1303,  35.1792,2,-999.0000,9,    201.7,2,   -999.0,9, -999.000,9, -999.000,9,  28.1254
  06MT20040710,  AR04,   682,  1,     15,     15,2,20040713,   0, 11.8058, -60.5508, 1509,     20.6,  28.1303,  35.1792,2,-999.0000,9,    201.7,2,   -999.0,9, -999.000,9, -999.000,9,  28.1254
  06MT20040710,  AR04,   682,  1,     16,     16,2,20040713,   0, 11.8058, -60.5508, 1509,     20.6,  28.1327,  35.1705,2,-999.0000,9,    201.7,2,   -999.0,9, -999.000,9, -999.000,9,  28.1278
  06MT20040710,  AR04,   682,  1,     17,     17,2,20040713,   0, 11.8058, -60.5508, 1509,     20.6,  28.1303,  35.1792,2,-999.0000,9,    201.7,2,   -999.0,9, -999.000,9, -999.000,9,  28.1254
  06MT20040710,  AR04,   682,  1,     18,     18,2,20040713,   0, 11.8058, -60.5508, 1509,     20.6,  28.1327,  35.1705,2,-999.0000,9,    201.7,2,   -999.0,9, -999.000,9, -999.000,9,  28.1278
  06MT20040710,  AR04,   682,  1,     19,     19,2,20040713,   0, 11.8058, -60.5508, 1509,     20.6,  28.1303,  35.1792,2,-999.0000,9,    201.7,2,   -999.0,9, -999.000,9, -999.000,9,  28.1254
  06MT20040710,  AR04,   682,  1,     20,     20,2,20040713,   0, 11.8058, -60.5508, 1509,     20.6,  28.1303,  35.1792,2,-999.0000,9,    201.7,2,   -999.0,9, -999.000,9, -999.000,9,  28.1254
  06MT20040710,  AR04,   682,  1,     21,     21,2,20040713,   0, 11.8058, -60.5508, 1509,     20.6,  28.1303,  35.1792,2,-999.0000,9,    201.7,2,   -999.0,9, -999.000,9, -999.000,9,  28.1254
  06MT20040710,  AR04,   682,  1,     22,     22,2,20040713,   0, 11.8058, -60.5508, 1509,     20.6,  28.1303,  35.1792,2,-999.0000,9,    201.7,2,   -999.0,9, -999.000,9, -999.000,9,  28.1254
  06MT20040710,  AR04,   683,  1,      1,      1,2,20040713,   0, 12.0292, -60.6367, 2296,   2294.3,   3.8266,  34.9807,2,-999.0000,9,    258.9,2,   -999.0,9, -999.000,9, -999.000,9,   3.6325
  06MT20040710,  AR04,   683,  1,      2,      2,2,20040713,   0, 12.0292, -60.6367, 2296,   2294.6,   3.8266,  34.9801,2,-999.0000,9,    258.9,2,   -999.0,9,    0.471,2,    0.252,2,   3.6324
  06MT20040710,  AR04,   683,  1,      3,      3,2,20040713,   0, 12.0292, -60.6367, 2296,   2098.0,   3.8128,  34.9805,2,-999.0000,9,    253.3,2,   -999.0,9,    0.453,2,    0.242,2,   3.6384
  06MT20040710,  AR04,   683,  1,      4,      4,2,20040713,   0, 12.0292, -60.6367, 2296,   1797.1,   3.8718,  34.9809,2,-999.0000,9,    257.6,2,   -999.0,9,    0.608,2,    0.318,2,   3.7256
  06MT20040710,  AR04,   683,  1,      5,      5,2,20040713,   0, 12.0292, -60.6367, 2296,   1794.8,   3.8725,  34.9806,2,-999.0000,9,    257.6,2,   -999.0,9, -999.000,9, -999.000,9,   3.7265
  06MT20040710,  AR04,   683,  1,      6,      6,2,20040713,   0, 12.0292, -60.6367, 2296,   1604.2,   4.0613,  34.9869,2,-999.0000,9,    257.8,2,   -999.0,9,    0.843,2,    0.430,2,   3.9307
  06MT20040710,  AR04,   683,  1,      7,      7,2,20040713,   0, 12.0292, -60.6367, 2296,   1396.5,   4.4670,  34.9975,2,-999.0000,9,    243.5,2,   -999.0,9,    0.774,2,    0.397,2,   4.3512
  06MT20040710,  AR04,   683,  1,      8,      8,2,20040713,   0, 12.0292, -60.6367, 2296,   1396.2,   4.4747,  35.0019,2,-999.0000,9,    243.4,2,    241.9,2, -999.000,9, -999.000,9,   4.3588
  06MT20040710,  AR04,   683,  1,      9,      9,2,20040713,   0, 12.0292, -60.6367, 2296,   1000.5,   5.1158,  34.7733,2,  34.8095,3,    160.1,2,   -999.0,9,    0.116,2,    0.062,2,   5.0311
  06MT20040710,  AR04,   683,  1,     10,     10,2,20040713,   0, 12.0292, -60.6367, 2296,    803.5,   5.4802,  34.6222,2,-999.0000,9,    138.3,2,   -999.0,9,    0.142,2,    0.074,2,   5.4113
  06MT20040710,  AR04,   683,  1,     11,     11,2,20040713,   0, 12.0292, -60.6367, 2296,    803.8,   5.4700,  34.6217,2,-999.0000,9,    138.3,2,   -999.0,9, -999.000,9, -999.000,9,   5.4011
  06MT20040710,  AR04,   683,  1,     12,     12,2,20040713,   0, 12.0292, -60.6367, 2296,    595.9,   7.1614,  34.7240,2,  34.9793,3,    121.3,2,   -999.0,9,    0.418,2,    0.224,2,   7.1035
  06MT20040710,  AR04,   683,  1,     13,     13,2,20040713,   0, 12.0292, -60.6367, 2296,    402.6,   9.0743,  34.9292,2,-999.0000,9,    117.9,2,   -999.0,9,    0.953,2,    0.513,2,   9.0298
  06MT20040710,  AR04,   683,  1,     14,     14,2,20040713,   0, 12.0292, -60.6367, 2296,    402.7,   9.0718,  34.9292,2,-999.0000,9,    117.9,2,    118.5,6, -999.000,9, -999.000,9,   9.0273
  06MT20040710,  AR04,   683,  1,     15,     15,2,20040713,   0, 12.0292, -60.6367, 2296,    206.6,  13.9108,  35.6712,2,  35.6494,2,    125.9,2,   -999.0,9,    1.666,2,    0.946,2,  13.8809
  06MT20040710,  AR04,   683,  1,     16,     16,2,20040713,   0, 12.0292, -60.6367, 2296,    204.4,  14.1894,  35.7182,2,-999.0000,9,    125.9,2,    126.0,2, -999.000,9, -999.000,9,  14.1594
  06MT20040710,  AR04,   683,  1,     17,     17,2,20040713,   0, 12.0292, -60.6367, 2296,     21.4,  28.1150,  35.0748,2,-999.0000,9,    201.9,2,   -999.0,9,    1.548,2,    1.010,2,  28.1099
  06MT20040710,  AR04,   683,  1,     18,     18,2,20040713,   0, 12.0292, -60.6367, 2296,     21.4,  28.1150,  35.0750,2,-999.0000,9,    201.9,2,    201.5,2, -999.000,9, -999.000,9,  28.1099
  06MT20040710,  AR04,   683,  1,     19,     19,2,20040713,   0, 12.0292, -60.6367, 2296,     21.4,  28.1150,  35.0748,2,-999.0000,9,    201.9,2,   -999.0,9, -999.000,9, -999.000,9,  28.1099
  06MT20040710,  AR04,   683,  1,     20,     20,2,20040713,   0, 12.0292, -60.6367, 2296,     21.4,  28.1150,  35.0748,2,-999.0000,9,    201.9,2,   -999.0,9, -999.000,9, -999.000,9,  28.1099
  06MT20040710,  AR04,   683,  1,     21,     21,2,20040713,   0, 12.0292, -60.6367, 2296,     20.9,  28.1174,  35.0707,2,-999.0000,9,    201.9,2,   -999.0,9, -999.000,9, -999.000,9,  28.1125
  06MT20040710,  AR04,   683,  1,     22,     22,2,20040713,   0, 12.0292, -60.6367, 2296,     23.4,  28.1100,  35.0844,2,-999.0000,9,    201.7,2,   -999.0,9, -999.000,9, -999.000,9,  28.1045
  06MT20040710,  AR04,   684,  1,      1,      1,2,20040713,   0, 12.2530, -60.7203, 2311,   2309.4,   3.8339,  34.9819,2,-999.0000,9,    257.5,2,    252.5,2, -999.000,9, -999.000,9,   3.6381
  06MT20040710,  AR04,   684,  1,      2,      2,2,20040713,   0, 12.2530, -60.7203, 2311,   2309.7,   3.8339,  34.9815,2,-999.0000,9,    257.5,2,   -999.0,9,    0.455,2,    0.245,2,   3.6381
  06MT20040710,  AR04,   684,  1,      3,      3,2,20040713,   0, 12.2530, -60.7203, 2311,   1998.1,   3.8226,  34.9803,2,  34.9807,2,    252.9,2,   -999.0,9,    0.457,2,    0.244,2,   3.6578
  06MT20040710,  AR04,   684,  1,      4,      4,2,20040713,   0, 12.2530, -60.7203, 2311,   1703.1,   3.9239,  34.9813,2,-999.0000,9,    258.4,2,   -999.0,9,    0.728,2,    0.374,2,   3.7858
  06MT20040710,  AR04,   684,  1,      5,      5,2,20040713,   0, 12.2530, -60.7203, 2311,   1503.7,   4.2850,  34.9967,2,-999.0000,9,    250.6,2,    250.1,2, -999.000,9, -999.000,9,   4.1612
  06MT20040710,  AR04,   684,  1,      6,      6,2,20040713,   0, 12.2530, -60.7203, 2311,   1503.7,   4.2850,  34.9967,2,-999.0000,9,    250.6,2,   -999.0,9,    0.846,2,    0.425,2,   4.1612
  06MT20040710,  AR04,   684,  1,      7,      7,2,20040713,   0, 12.2530, -60.7203, 2311,   1208.4,   4.9807,  34.9937,2,  34.8953,3,    212.1,2,   -999.0,9, -999.000,9, -999.000,9,   4.8774
  06MT20040710,  AR04,   684,  1,      8,      8,2,20040713,   0, 12.2530, -60.7203, 2311,    897.1,   5.1857,  34.6714,2,-999.0000,9,    149.6,2,   -999.0,9,    0.080,2,    0.042,2,   5.1101
  06MT20040710,  AR04,   684,  1,      9,      9,2,20040713,   0, 12.2530, -60.7203, 2311,    698.5,   6.4998,  34.6726,2,  34.6619,2,    126.8,2,    127.3,2,    0.267,2,    0.143,2,   6.4350
  06MT20040710,  AR04,   684,  1,     10,     10,2,20040713,   0, 12.2530, -60.7203, 2311,    696.0,   6.5201,  34.6726,2,-999.0000,9,    126.7,2,   -999.0,9, -999.000,9, -999.000,9,   6.4554
  06MT20040710,  AR04,   684,  1,     11,     11,2,20040713,   0, 12.2530, -60.7203, 2311,    497.0,   7.9844,  34.7873,2,-999.0000,9,    115.7,2,   -999.0,9,    0.642,2,    0.344,2,   7.9333
  06MT20040710,  AR04,   684,  1,     12,     12,2,20040713,   0, 12.2530, -60.7203, 2311,    298.1,  10.7758,  35.1586,2,-999.0000,9,    123.1,2,    127.8,2,    1.346,2,    0.735,2,  10.7393
  06MT20040710,  AR04,   684,  1,     13,     13,2,20040713,   0, 12.2530, -60.7203, 2311,     94.1,  24.6863,  36.5007,2,-999.0000,9,    180.7,2,    173.1,2,    1.703,2,    1.088,2,  24.6660
  06MT20040710,  AR04,   684,  1,     14,     14,2,20040713,   0, 12.2530, -60.7203, 2311,     93.9,  24.8343,  36.4793,2,-999.0000,9,    180.9,2,   -999.0,9, -999.000,9, -999.000,9,  24.8139
  06MT20040710,  AR04,   684,  1,     15,     15,2,20040713,   0, 12.2530, -60.7203, 2311,     38.6,  28.0955,  35.2429,2,-999.0000,9,    200.2,2,   -999.0,9,    1.546,2,    1.009,2,  28.0864
  06MT20040710,  AR04,   684,  1,     16,     16,2,20040713,   0, 12.2530, -60.7203, 2311,     38.6,  28.0955,  35.2429,2,-999.0000,9,    200.2,2,    200.5,2, -999.000,9, -999.000,9,  28.0864
  06MT20040710,  AR04,   684,  1,     17,     17,2,20040713,   0, 12.2530, -60.7203, 2311,     38.4,  28.1017,  35.2179,2,-999.0000,9,    200.2,2,   -999.0,9, -999.000,9, -999.000,9,  28.0926
  06MT20040710,  AR04,   684,  1,     18,     18,2,20040713,   0, 12.2530, -60.7203, 2311,     38.4,  28.1012,  35.2186,2,-999.0000,9,    200.2,2,   -999.0,9, -999.000,9, -999.000,9,  28.0921
  06MT20040710,  AR04,   684,  1,     19,     19,2,20040713,   0, 12.2530, -60.7203, 2311,     38.3,  28.1025,  35.2161,2,-999.0000,9,    200.2,2,   -999.0,9, -999.000,9, -999.000,9,  28.0934
  06MT20040710,  AR04,   684,  1,     20,     20,2,20040713,   0, 12.2530, -60.7203, 2311,     10.3,  28.0984,  35.0153,2,-999.0000,9,    201.4,2,   -999.0,9, -999.000,9, -999.000,9,  28.0960
  06MT20040710,  AR04,   684,  1,     21,     21,2,20040713,   0, 12.2530, -60.7203, 2311,     38.4,  28.1017,  35.2179,2,-999.0000,9,    200.2,2,   -999.0,9, -999.000,9, -999.000,9,  28.0926
  06MT20040710,  AR04,   684,  1,     22,     22,2,20040713,   0, 12.2530, -60.7203, 2311,     38.5,  28.1006,  35.2199,2,-999.0000,9,    200.2,2,   -999.0,9, -999.000,9, -999.000,9,  28.0915