BOTTLE,20140522SIOCCHGR
EXPOCODE,SECT_ID,STNNBR,CASTNO,SAMPNO,BTLNBR,BTLNBR_FLAG_W,DATE,TIME,LATITUDE,LONGITUDE,DEPTH,CTDPRS,CTDTMP,CTDSAL,CTDSAL_FLAG_W,SALNTY,SALNTY_FLAG_W,CTDOXY,CTDOXY_FLAG_W,OXYGEN,OXYGEN_FLAG_W,CFC-11,CFC-11_FLAG_W,CFC-12,CFC-12_FLAG_W,THETA
,,,,,,,,,,,METERS,DBAR,ITS-90,PSS-78,,PSS-78,,UMOL/KG,,UMOL/KG,,PMOL/KG,,PMOL/KG,,DEG C
  06MT20040710,  AR04,   731,  1,      1,      1,2,20040718,   0, 10.1578, -57.9303, 3270,   3269.3,   2.4580,  34.9097,2,-999.0000,9,    267.7,2,   -999.0,9, -999.000,9, -999.000,9,   2.1912
  06MT20040710,  AR04,   731,  1,      2,      2,2,20040718,   0, 10.1578, -57.9303, 3270,   3269.2,   2.4579,  34.9099,2,-999.0000,9,    267.7,2,   -999.0,9, -999.000,9, -999.000,9,   2.1911
  06MT20040710,  AR04,   731,  1,      3,      3,2,20040718,   0, 10.1578, -57.9303, 3270,   3268.6,   2.4574,  34.9100,2,  34.9136,2,    267.7,2,   -999.0,9,    0.420,2,    0.213,2,   2.1907
  06MT20040710,  AR04,   731,  1,      4,      4,2,20040718,   0, 10.1578, -57.9303, 3270,   3143.6,   2.5374,  34.9156,2,-999.0000,9,    267.5,2,   -999.0,9,    0.375,2,    0.188,2,   2.2819
  06MT20040710,  AR04,   731,  1,      5,      5,2,20040718,   0, 10.1578, -57.9303, 3270,   2997.4,   2.6579,  34.9236,2,-999.0000,9,    266.0,2,   -999.0,9, -999.000,9, -999.000,9,   2.4148
  06MT20040710,  AR04,   731,  1,      6,      6,2,20040718,   0, 10.1578, -57.9303, 3270,   2995.5,   2.6599,  34.9237,2,-999.0000,9,    266.0,2,    264.0,2,    0.324,2,    0.166,2,   2.4170
  06MT20040710,  AR04,   731,  1,      7,      7,2,20040718,   0, 10.1578, -57.9303, 3270,   2608.3,   2.9469,  34.9418,2,-999.0000,9,    262.6,2,    264.1,2,    0.301,2,    0.151,2,   2.7372
  06MT20040710,  AR04,   731,  1,      8,      8,2,20040718,   0, 10.1578, -57.9303, 3270,   2407.7,   3.1027,  34.9511,2,  34.9571,2,    261.7,2,    263.4,2,    0.311,2,    0.157,2,   2.9099
  06MT20040710,  AR04,   731,  1,      9,      9,2,20040718,   0, 10.1578, -57.9303, 3270,   2158.6,   3.3403,  34.9626,2,-999.0000,9,    261.3,2,    224.7,4,    0.381,2,    0.193,2,   3.1675
  06MT20040710,  AR04,   731,  1,     10,     10,2,20040718,   0, 10.1578, -57.9303, 3270,   1956.9,   3.6118,  34.9742,2,-999.0000,9,    262.3,2,   -999.0,9, -999.000,9, -999.000,9,   3.4541
  06MT20040710,  AR04,   731,  1,     11,     11,2,20040718,   0, 10.1578, -57.9303, 3270,   1956.1,   3.6148,  34.9739,2,-999.0000,9,    262.3,2,   -999.0,9, -999.000,9, -999.000,9,   3.4571
  06MT20040710,  AR04,   731,  1,     12,     12,2,20040718,   0, 10.1578, -57.9303, 3270,   1792.9,   3.8468,  34.9791,2,-999.0000,9,    261.2,2,   -999.0,9,    0.748,2,    0.381,2,   3.7013
  06MT20040710,  AR04,   731,  1,     13,     13,2,20040718,   0, 10.1578, -57.9303, 3270,   1654.2,   4.1324,  34.9920,2,-999.0000,9,    254.9,2,    256.0,2,    0.876,2,    0.446,2,   3.9963
  06MT20040710,  AR04,   731,  1,     14,     14,2,20040718,   0, 10.1578, -57.9303, 3270,   1496.7,   4.5803,  35.0075,2,  34.9986,2,    235.9,2,    241.0,2,    0.688,2,    0.347,2,   4.4538
  06MT20040710,  AR04,   731,  1,     15,     15,2,20040718,   0, 10.1578, -57.9303, 3270,   1340.4,   5.0392,  34.9921,2,-999.0000,9,    207.6,2,   -999.0,9,    0.389,2,    0.202,2,   4.9228
  06MT20040710,  AR04,   731,  1,     16,     16,2,20040718,   0, 10.1578, -57.9303, 3270,   1044.2,   5.0312,  34.7185,2,-999.0000,9,    154.4,2,    151.0,2,    0.046,2,    0.025,2,   4.9433
  06MT20040710,  AR04,   731,  1,     17,     17,2,20040718,   0, 10.1578, -57.9303, 3270,    770.3,   5.8726,  34.6232,2,-999.0000,9,    133.6,2,   -999.0,9, -999.000,9, -999.000,9,   5.8044
  06MT20040710,  AR04,   731,  1,     18,     18,2,20040718,   0, 10.1578, -57.9303, 3270,    428.3,   8.5089,  34.8043,2,  34.8115,2,    127.7,2,    128.9,2,    0.986,2,    0.523,2,   8.4634
  06MT20040710,  AR04,   731,  1,     19,     19,2,20040718,   0, 10.1578, -57.9303, 3270,    249.8,  15.0048,  35.8237,2,-999.0000,9,    128.9,2,    130.9,2,    1.754,2,    0.992,2,  14.9666
  06MT20040710,  AR04,   731,  1,     20,     20,2,20040718,   0, 10.1578, -57.9303, 3270,     12.4,  28.1203,  34.4191,2,-999.0000,9,    201.4,2,    202.1,2,    1.494,2,    0.970,2,  28.1174
  06MT20040710,  AR04,   732,  1,      1,      1,2,20040718,   0, 10.4313, -57.4997, 3720,   3719.2,   2.3499,  34.9013,2,-999.0000,9,    265.8,2,    267.4,2, -999.000,9, -999.000,9,   2.0373
  06MT20040710,  AR04,   732,  1,      2,      2,2,20040718,   0, 10.4313, -57.4997, 3720,   3719.6,   2.3498,  34.9012,2,-999.0000,9,    265.8,2,   -999.0,9, -999.000,9, -999.000,9,   2.0372
  06MT20040710,  AR04,   732,  1,      3,      3,2,20040718,   0, 10.4313, -57.4997, 3720,   3719.3,   2.3504,  34.9011,2,  34.9041,2,    265.8,2,   -999.0,9,    0.426,2,    0.221,2,   2.0378
  06MT20040710,  AR04,   732,  1,      4,      4,2,20040718,   0, 10.4313, -57.4997, 3720,   3344.8,   2.4935,  34.9112,2,-999.0000,9,    265.2,2,    266.3,2,    0.310,2,    0.157,2,   2.2179
  06MT20040710,  AR04,   732,  1,      5,      5,2,20040718,   0, 10.4313, -57.4997, 3720,   3036.6,   2.6620,  34.9230,2,-999.0000,9,    264.4,2,   -999.0,9, -999.000,9, -999.000,9,   2.4148
  06MT20040710,  AR04,   732,  1,      6,      6,2,20040718,   0, 10.4313, -57.4997, 3720,   3034.4,   2.6628,  34.9233,2,  34.9236,2,    264.5,2,   -999.0,9,    0.293,2,    0.149,2,   2.4158
  06MT20040710,  AR04,   732,  1,      7,      7,2,20040718,   0, 10.4313, -57.4997, 3720,   2730.6,   2.8803,  34.9377,2,-999.0000,9,    262.9,2,   -999.0,9,    0.283,2,    0.144,2,   2.6597
  06MT20040710,  AR04,   732,  1,      8,      8,2,20040718,   0, 10.4313, -57.4997, 3720,   2480.7,   3.0496,  34.9490,2,-999.0000,9,    261.0,2,   -999.0,9,    0.287,2,    0.146,2,   2.8506
  06MT20040710,  AR04,   732,  1,      9,      9,2,20040718,   0, 10.4313, -57.4997, 3720,   2221.6,   3.3052,  34.9608,2,  34.9622,2,    261.2,2,   -999.0,9,    0.377,2,    0.193,2,   3.1270
  06MT20040710,  AR04,   732,  1,     10,     10,2,20040718,   0, 10.4313, -57.4997, 3720,   2066.6,   3.4550,  34.9657,2,-999.0000,9,    262.0,2,   -999.0,9, -999.000,9, -999.000,9,   3.2892
  06MT20040710,  AR04,   732,  1,     11,     11,2,20040718,   0, 10.4313, -57.4997, 3720,   2065.4,   3.4566,  34.9653,2,-999.0000,9,    262.0,2,    224.3,4, -999.000,9, -999.000,9,   3.2909
  06MT20040710,  AR04,   732,  1,     12,     12,2,20040718,   0, 10.4313, -57.4997, 3720,   1912.9,   3.5944,  34.9703,2,-999.0000,9,    262.3,2,   -999.0,9,    0.598,2,    0.306,2,   3.4411
  06MT20040710,  AR04,   732,  1,     13,     13,2,20040718,   0, 10.4313, -57.4997, 3720,   1772.8,   3.7994,  34.9784,2,-999.0000,9,    260.8,2,   -999.0,9,    0.692,2,    0.347,2,   3.6564
  06MT20040710,  AR04,   732,  1,     14,     14,2,20040718,   0, 10.4313, -57.4997, 3720,   1660.3,   4.0535,  34.9888,2,-999.0000,9,    255.7,2,   -999.0,9,    0.735,2,    0.375,2,   3.9178
  06MT20040710,  AR04,   732,  1,     15,     15,2,20040718,   0, 10.4313, -57.4997, 3720,   1566.0,   4.3549,  35.0028,2,-999.0000,9,    244.4,2,   -999.0,9,    0.706,2,    0.360,2,   4.2244
  06MT20040710,  AR04,   732,  1,     16,     16,2,20040718,   0, 10.4313, -57.4997, 3720,   1409.2,   4.8596,  35.0025,2,-999.0000,9,    219.2,2,   -999.0,9,    0.476,2,    0.250,2,   4.7384
  06MT20040710,  AR04,   732,  1,     17,     17,2,20040718,   0, 10.4313, -57.4997, 3720,   1207.4,   5.2417,  34.8860,2,  34.8994,3,    176.7,2,    172.1,2,    0.208,2,    0.112,2,   5.1364
  06MT20040710,  AR04,   732,  1,     18,     18,2,20040718,   0, 10.4313, -57.4997, 3720,    906.3,   5.3048,  34.6215,2,-999.0000,9,    142.6,2,   -999.0,9,    0.084,2,    0.045,2,   5.2276
  06MT20040710,  AR04,   732,  1,     19,     19,2,20040718,   0, 10.4313, -57.4997, 3720,    601.8,   7.1051,  34.6947,2,-999.0000,9,    127.4,2,    123.8,2,    0.442,2,    0.240,2,   7.0469
  06MT20040710,  AR04,   732,  1,     20,     20,2,20040718,   0, 10.4313, -57.4997, 3720,    398.3,   9.7143,  35.0200,2,-999.0000,9,    122.3,2,   -999.0,9,    0.926,2,    0.500,2,   9.6684
  06MT20040710,  AR04,   732,  1,     21,     21,2,20040718,   0, 10.4313, -57.4997, 3720,    152.2,  21.4787,  36.9942,2,-999.0000,9,    167.0,2,   -999.0,9,    1.832,2,    1.135,2,  21.4488
  06MT20040710,  AR04,   732,  1,     22,     22,2,20040718,   0, 10.4313, -57.4997, 3720,     20.9,  28.5183,  34.1111,2,  33.7170,3,    202.0,2,    201.0,2,    1.450,2,    0.950,2,  28.5133
  06MT20040710,  AR04,   733,  1,      1,      1,2,20040719,   0, 10.6943, -57.0685, 3988,   3987.4,   2.2881,  34.8944,2,-999.0000,9,    269.6,2,    269.4,2, -999.000,9, -999.000,9,   1.9472
  06MT20040710,  AR04,   733,  1,      2,      2,2,20040719,   0, 10.6943, -57.0685, 3988,   3986.8,   2.2884,  34.8945,2,-999.0000,9,    269.6,2,   -999.0,9, -999.000,9, -999.000,9,   1.9475
  06MT20040710,  AR04,   733,  1,      3,      3,2,20040719,   0, 10.6943, -57.0685, 3988,   3986.9,   2.2881,  34.8951,2,  34.8972,2,    269.6,2,   -999.0,9,    0.377,2,    0.197,2,   1.9472
  06MT20040710,  AR04,   733,  1,      4,      4,2,20040719,   0, 10.6943, -57.0685, 3988,   3696.7,   2.3580,  34.9021,2,-999.0000,9,    265.3,2,   -999.0,9,    0.442,2,    0.226,2,   2.0477
  06MT20040710,  AR04,   733,  1,      5,      5,2,20040719,   0, 10.6943, -57.0685, 3988,   3497.3,   2.4002,  34.9057,2,-999.0000,9,    265.8,2,    264.3,2, -999.000,9, -999.000,9,   2.1105
  06MT20040710,  AR04,   733,  1,      6,      6,2,20040719,   0, 10.6943, -57.0685, 3988,   3495.2,   2.4010,  34.9058,2,-999.0000,9,    265.8,2,   -999.0,9,    0.424,2,    0.218,2,   2.1115
  06MT20040710,  AR04,   733,  1,      7,      7,2,20040719,   0, 10.6943, -57.0685, 3988,   3148.2,   2.5836,  34.9185,2,  34.9191,2,    265.1,2,    265.1,2,    0.343,2,    0.177,2,   2.3266
  06MT20040710,  AR04,   733,  1,      8,      8,2,20040719,   0, 10.6943, -57.0685, 3988,   2797.4,   2.8028,  34.9329,2,-999.0000,9,    262.3,2,    263.6,2,    0.283,2,    0.144,2,   2.5770
  06MT20040710,  AR04,   733,  1,      9,      9,2,20040719,   0, 10.6943, -57.0685, 3988,   2603.9,   2.9276,  34.9413,2,  34.9427,2,    260.8,2,   -999.0,9,    0.285,2,    0.140,2,   2.7187
  06MT20040710,  AR04,   733,  1,     10,     10,2,20040719,   0, 10.6943, -57.0685, 3988,   2347.4,   3.1708,  34.9545,2,-999.0000,9,    260.0,2,   -999.0,9, -999.000,9, -999.000,9,   2.9827
  06MT20040710,  AR04,   733,  1,     11,     11,2,20040719,   0, 10.6943, -57.0685, 3988,   2114.9,   3.3658,  34.9630,2,-999.0000,9,    260.9,2,   -999.0,9, -999.000,9, -999.000,9,   3.1968
  06MT20040710,  AR04,   733,  1,     12,     12,2,20040719,   0, 10.6943, -57.0685, 3988,   1957.8,   3.5354,  34.9703,2,  34.9722,2,    261.4,2,   -999.0,9,    0.471,2,    0.236,2,   3.3787
  06MT20040710,  AR04,   733,  1,     13,     13,2,20040719,   0, 10.6943, -57.0685, 3988,   1851.1,   3.6489,  34.9742,2,-999.0000,9,    261.6,2,    263.7,2,    0.536,2,    0.270,2,   3.5006
  06MT20040710,  AR04,   733,  1,     14,     14,2,20040719,   0, 10.6943, -57.0685, 3988,   1701.5,   4.0007,  34.9874,2,-999.0000,9,    256.9,2,   -999.0,9,    0.734,2,    0.369,2,   3.8618
  06MT20040710,  AR04,   733,  1,     15,     15,2,20040719,   0, 10.6943, -57.0685, 3988,   1497.5,   4.5640,  35.0081,2,-999.0000,9,    236.5,2,    240.5,2,    0.658,2,    0.333,2,   4.4376
  06MT20040710,  AR04,   733,  1,     16,     16,2,20040719,   0, 10.6943, -57.0685, 3988,   1297.8,   5.1447,  34.9617,2,-999.0000,9,    196.2,2,   -999.0,9, -999.000,9, -999.000,9,   5.0314
  06MT20040710,  AR04,   733,  1,     17,     17,2,20040719,   0, 10.6943, -57.0685, 3988,    970.0,   4.8966,  34.5871,2,-999.0000,9,    149.3,2,    143.6,2,    0.120,2,    0.061,2,   4.8166
  06MT20040710,  AR04,   733,  1,     18,     18,2,20040719,   0, 10.6943, -57.0685, 3988,    698.1,   6.2410,  34.6213,2,-999.0000,9,    129.6,2,   -999.0,9,    0.248,2,    0.131,2,   6.1776
  06MT20040710,  AR04,   733,  1,     19,     19,2,20040719,   0, 10.6943, -57.0685, 3988,    499.6,   8.2031,  34.8140,2,  34.7826,3,    127.4,2,   -999.0,9,    0.675,2,    0.362,2,   8.1509
  06MT20040710,  AR04,   733,  1,     20,     20,2,20040719,   0, 10.6943, -57.0685, 3988,    312.5,  11.9557,  35.3728,2,-999.0000,9,    132.7,2,    141.1,2,    1.610,2,    0.890,2,  11.9147
  06MT20040710,  AR04,   733,  1,     21,     21,2,20040719,   0, 10.6943, -57.0685, 3988,    100.5,  25.0033,  36.8471,2,-999.0000,9,    184.2,2,   -999.0,9,    1.584,2,    1.008,2,  24.9814
  06MT20040710,  AR04,   733,  1,     22,     22,2,20040719,   0, 10.6943, -57.0685, 3988,     14.1,  28.1934,  34.8272,2,-999.0000,9,    202.9,2,    201.2,2,    1.489,2,    0.967,2,  28.1901
  06MT20040710,  AR04,   734,  1,      1,      1,2,20040719,   0, 10.9673, -56.6347, 4239,   4237.5,   2.2267,  34.8874,2,-999.0000,9,    264.8,2,    275.6,4, -999.000,9, -999.000,9,   1.8588
  06MT20040710,  AR04,   734,  1,      2,      2,2,20040719,   0, 10.9673, -56.6347, 4239,   4238.2,   2.2265,  34.8875,2,-999.0000,9,    264.8,2,   -999.0,9, -999.000,9, -999.000,9,   1.8585
  06MT20040710,  AR04,   734,  1,      3,      3,2,20040719,   0, 10.9673, -56.6347, 4239,   4237.6,   2.2266,  34.8873,2,  34.8884,2,    264.8,2,   -999.0,9,    0.304,2,    0.159,2,   1.8587
  06MT20040710,  AR04,   734,  1,      4,      4,2,20040719,   0, 10.9673, -56.6347, 4239,   4058.8,   2.2320,  34.8900,2,-999.0000,9,    267.2,2,    264.9,2,    0.349,2,    0.182,2,   1.8845
  06MT20040710,  AR04,   734,  1,      5,      5,2,20040719,   0, 10.9673, -56.6347, 4239,   3650.2,   2.3596,  34.9027,2,-999.0000,9,    270.6,2,    266.0,2,    0.432,2,    0.219,2,   2.0543
  06MT20040710,  AR04,   734,  1,      6,      6,2,20040719,   0, 10.9673, -56.6347, 4239,   3647.9,   2.3610,  34.9027,2,  34.9024,2,    270.6,2,   -999.0,9, -999.000,9, -999.000,9,   2.0560
  06MT20040710,  AR04,   734,  1,      7,      7,2,20040719,   0, 10.9673, -56.6347, 4239,   3444.8,   2.4382,  34.9083,2,-999.0000,9,    269.9,2,   -999.0,9,    0.392,2,    0.198,2,   2.1532
  06MT20040710,  AR04,   734,  1,      8,      8,2,20040719,   0, 10.9673, -56.6347, 4239,   3343.1,   2.4634,  34.9106,2,  34.9094,2,    269.5,2,   -999.0,9,    0.375,2,    0.189,2,   2.1887
  06MT20040710,  AR04,   734,  1,      9,      9,2,20040719,   0, 10.9673, -56.6347, 4239,   2934.3,   2.7067,  34.9267,2,-999.0000,9,    266.4,2,    265.9,2,    0.328,2,    0.164,2,   2.4690
  06MT20040710,  AR04,   734,  1,     10,     10,2,20040719,   0, 10.9673, -56.6347, 4239,   2577.6,   2.9987,  34.9455,2,-999.0000,9,    263.6,2,   -999.0,9, -999.000,9, -999.000,9,   2.7911
  06MT20040710,  AR04,   734,  1,     11,     11,2,20040719,   0, 10.9673, -56.6347, 4239,   2574.9,   3.0008,  34.9453,2,-999.0000,9,    263.6,2,   -999.0,9, -999.000,9, -999.000,9,   2.7934
  06MT20040710,  AR04,   734,  1,     12,     12,2,20040719,   0, 10.9673, -56.6347, 4239,   2272.3,   3.2594,  34.9592,2,  34.9594,2,    262.9,2,    260.4,2, -999.000,9, -999.000,9,   3.0770
  06MT20040710,  AR04,   734,  1,     13,     13,2,20040719,   0, 10.9673, -56.6347, 4239,   2026.1,   3.4853,  34.9678,2,-999.0000,9,    262.0,2,   -999.0,9,    0.474,2,    0.239,2,   3.3229
  06MT20040710,  AR04,   734,  1,     14,     14,2,20040719,   0, 10.9673, -56.6347, 4239,   1815.7,   3.8693,  34.9788,2,-999.0000,9,    258.4,2,    259.7,2,    0.781,2,    0.399,2,   3.7213
  06MT20040710,  AR04,   734,  1,     15,     15,2,20040719,   0, 10.9673, -56.6347, 4239,   1663.0,   4.2306,  34.9963,2,-999.0000,9,    247.8,2,    250.2,2,    0.829,2,    0.423,2,   4.0924
  06MT20040710,  AR04,   734,  1,     16,     16,2,20040719,   0, 10.9673, -56.6347, 4239,   1557.7,   4.4362,  35.0040,2,  35.0078,2,    238.2,2,   -999.0,9,    0.748,2,    0.379,2,   4.3055
  06MT20040710,  AR04,   734,  1,     17,     17,2,20040719,   0, 10.9673, -56.6347, 4239,   1359.9,   5.0461,  34.9836,2,-999.0000,9,    202.1,2,   -999.0,9,    0.447,2,    0.234,2,   4.9278
  06MT20040710,  AR04,   734,  1,     18,     18,2,20040719,   0, 10.9673, -56.6347, 4239,   1119.9,   5.1520,  34.7954,2,-999.0000,9,    157.7,2,    161.9,6,    0.087,2,    0.046,2,   5.0559
  06MT20040710,  AR04,   734,  1,     19,     19,2,20040719,   0, 10.9673, -56.6347, 4239,    813.6,   5.7397,  34.6182,2,  34.8170,3,    132.1,2,   -999.0,9,    0.140,2,    0.076,2,   5.6683
  06MT20040710,  AR04,   734,  1,     20,     20,2,20040719,   0, 10.9673, -56.6347, 4239,    397.6,  10.2273,  35.0640,2,-999.0000,9,    135.0,2,    130.6,2,    1.291,2,    0.700,2,  10.1800
  06MT20040710,  AR04,   734,  1,     21,     21,2,20040719,   0, 10.9673, -56.6347, 4239,    152.0,  19.1746,  36.5724,2,-999.0000,9,    163.2,2,   -999.0,9,    2.046,2,    1.239,2,  19.1471
  06MT20040710,  AR04,   734,  1,     22,     22,2,20040719,   0, 10.9673, -56.6347, 4239,     28.7,  28.0309,  34.9999,2,-999.0000,9,    198.0,2,    201.1,2,    1.508,2,    0.988,2,  28.0241