BOTTLE,20140522SIOCCHGR
EXPOCODE,SECT_ID,STNNBR,CASTNO,SAMPNO,BTLNBR,BTLNBR_FLAG_W,DATE,TIME,LATITUDE,LONGITUDE,DEPTH,CTDPRS,CTDTMP,CTDSAL,CTDSAL_FLAG_W,SALNTY,SALNTY_FLAG_W,CTDOXY,CTDOXY_FLAG_W,OXYGEN,OXYGEN_FLAG_W,CFC-11,CFC-11_FLAG_W,CFC-12,CFC-12_FLAG_W,THETA
,,,,,,,,,,,METERS,DBAR,ITS-90,PSS-78,,PSS-78,,UMOL/KG,,UMOL/KG,,PMOL/KG,,PMOL/KG,,DEG C
  06MT20040710,  AR04,   770,  1,      1,      1,2,20040727,   0, 15.9667, -55.9683, 5100,   5098.3,   1.9584,  34.8451,2,-999.0000,9,    247.1,2,    248.4,2, -999.000,9, -999.000,9,   1.4951
  06MT20040710,  AR04,   770,  1,      2,      2,2,20040727,   0, 15.9667, -55.9683, 5100,   5098.4,   1.9587,  34.8449,2,-999.0000,9,    247.0,2,   -999.0,9, -999.000,9, -999.000,9,   1.4954
  06MT20040710,  AR04,   770,  1,      3,      3,2,20040727,   0, 15.9667, -55.9683, 5100,   5098.8,   1.9582,  34.8449,2,  34.8502,2,    247.0,2,   -999.0,9,    0.113,2,    0.064,2,   1.4949
  06MT20040710,  AR04,   770,  1,      4,      4,2,20040727,   0, 15.9667, -55.9683, 5100,   4797.4,   2.1184,  34.8678,2,-999.0000,9,    253.7,2,    253.2,2,    0.117,2,    0.066,2,   1.6870
  06MT20040710,  AR04,   770,  1,      5,      5,2,20040727,   0, 15.9667, -55.9683, 5100,   4597.4,   2.1982,  34.8801,2,  34.8809,2,    257.8,2,    255.9,2,    0.179,2,    0.097,2,   1.7885
  06MT20040710,  AR04,   770,  1,      6,      6,2,20040727,   0, 15.9667, -55.9683, 5100,   4297.4,   2.2726,  34.8922,2,-999.0000,9,    261.6,2,    261.8,6, -999.000,9, -999.000,9,   1.8963
  06MT20040710,  AR04,   770,  1,      7,      7,2,20040727,   0, 15.9667, -55.9683, 5100,   3897.8,   2.3557,  34.9015,2,  34.8972,2,    262.4,2,    262.9,2,    0.277,2,    0.143,2,   2.0230
  06MT20040710,  AR04,   770,  1,      8,      8,2,20040727,   0, 15.9667, -55.9683, 5100,   3397.0,   2.5469,  34.9143,2,-999.0000,9,    256.3,2,    258.3,2, -999.000,9, -999.000,9,   2.2644
  06MT20040710,  AR04,   770,  1,      9,      9,2,20040727,   0, 15.9667, -55.9683, 5100,   2891.4,   2.8022,  34.9334,2,-999.0000,9,    258.1,2,    258.7,2, -999.000,9, -999.000,9,   2.5669
  06MT20040710,  AR04,   770,  1,     10,     10,2,20040727,   0, 15.9667, -55.9683, 5100,   2441.3,   3.1640,  34.9548,2,  34.9571,2,    259.6,2,    259.5,2, -999.000,9, -999.000,9,   2.9668
  06MT20040710,  AR04,   770,  1,     11,     11,2,20040727,   0, 15.9667, -55.9683, 5100,   2228.2,   3.3577,  34.9650,2,-999.0000,9,    259.7,2,   -999.0,9,    0.356,2,    0.182,2,   3.1779
  06MT20040710,  AR04,   770,  1,     12,     12,2,20040727,   0, 15.9667, -55.9683, 5100,   2045.1,   3.5854,  34.9739,2,-999.0000,9,    259.4,2,    258.7,2,    0.470,2,    0.241,2,   3.4197
  06MT20040710,  AR04,   770,  1,     13,     13,2,20040727,   0, 15.9667, -55.9683, 5100,   1794.1,   3.9224,  34.9845,2,-999.0000,9,    257.8,2,   -999.0,9,    0.713,2,    0.362,2,   3.7758
  06MT20040710,  AR04,   770,  1,     14,     14,2,20040727,   0, 15.9667, -55.9683, 5100,   1633.2,   4.2565,  35.0000,2,-999.0000,9,    250.0,2,    251.2,2,    0.763,2,    0.390,2,   4.1208
  06MT20040710,  AR04,   770,  1,     15,     15,2,20040727,   0, 15.9667, -55.9683, 5100,   1492.2,   4.6400,  35.0107,2,  35.0096,2,    231.0,2,   -999.0,9,    0.463,2,    0.240,2,   4.5132
  06MT20040710,  AR04,   770,  1,     16,     16,2,20040727,   0, 15.9667, -55.9683, 5100,   1230.8,   5.2901,  34.9608,2,-999.0000,9,    190.2,2,   -999.0,9,    0.242,2,    0.126,2,   5.1819
  06MT20040710,  AR04,   770,  1,     17,     17,2,20040727,   0, 15.9667, -55.9683, 5100,    930.7,   5.5511,  34.7485,2,-999.0000,9,    138.4,2,    142.6,2,    0.147,2,    0.086,2,   5.4698
  06MT20040710,  AR04,   770,  1,     18,     18,2,20040727,   0, 15.9667, -55.9683, 5100,    698.5,   6.8681,  34.7758,2,-999.0000,9,    123.8,2,    124.9,2,    0.245,2,    0.138,2,   6.8012
  06MT20040710,  AR04,   770,  1,     19,     19,2,20040727,   0, 15.9667, -55.9683, 5100,    460.2,  11.4994,  35.4449,2,-999.0000,9,    115.8,2,   -999.0,9,    1.086,2,    0.589,2,  11.4401
  06MT20040710,  AR04,   770,  1,     20,     20,2,20040727,   0, 15.9667, -55.9683, 5100,    248.4,  17.2200,  36.3922,2,-999.0000,9,    152.0,2,    153.9,2,    2.075,2,    1.217,2,  17.1782
  06MT20040710,  AR04,   770,  1,     21,     21,2,20040727,   0, 15.9667, -55.9683, 5100,      8.6,  27.9786,  33.3454,2,-999.0000,9,    199.8,2,   -999.0,9, -999.000,9, -999.000,9,  27.9766
  06MT20040710,  AR04,   770,  1,     22,     22,2,20040727,   0, 15.9667, -55.9683, 5100,      8.7,  27.9793,  33.3452,2,-999.0000,9,    199.8,2,    201.0,2,    1.558,2,    0.998,2,  27.9773
  06MT20040710,  AR04,   771,  1,      1,      1,2,20040727,   0, 15.9413, -55.5500, 5166,   5164.8,   1.9168,  34.8393,2,-999.0000,9,    245.7,2,    247.0,6, -999.000,9, -999.000,9,   1.4467
  06MT20040710,  AR04,   771,  1,      2,      2,2,20040727,   0, 15.9413, -55.5500, 5166,   5165.0,   1.9169,  34.8391,2,-999.0000,9,    245.7,2,   -999.0,9, -999.000,9, -999.000,9,   1.4467
  06MT20040710,  AR04,   771,  1,      3,      3,2,20040727,   0, 15.9413, -55.5500, 5166,   5164.7,   1.9168,  34.8391,2,  34.8524,3,    245.7,2,   -999.0,9,    0.132,2,    0.073,2,   1.4467
  06MT20040710,  AR04,   771,  1,      4,      4,2,20040727,   0, 15.9413, -55.5500, 5166,   5098.5,   1.9280,  34.8417,2,-999.0000,9,    246.6,2,    245.4,2,    0.090,2,    0.049,2,   1.4658
  06MT20040710,  AR04,   771,  1,      5,      5,2,20040727,   0, 15.9413, -55.5500, 5166,   4725.8,   2.1588,  34.8740,2,-999.0000,9,    255.8,2,    255.5,2,    0.147,2,    0.082,2,   1.7348
  06MT20040710,  AR04,   771,  1,      6,      6,2,20040727,   0, 15.9413, -55.5500, 5166,   4228.4,   2.2753,  34.8943,2,  34.8961,2,    262.8,2,    261.4,2,    0.270,2,    0.142,2,   1.9070
  06MT20040710,  AR04,   771,  1,      7,      7,2,20040727,   0, 15.9413, -55.5500, 5166,   3827.9,   2.3762,  34.9030,2,-999.0000,9,    261.9,2,    261.6,2,    0.258,2,    0.133,2,   2.0508
  06MT20040710,  AR04,   771,  1,      8,      8,2,20040727,   0, 15.9413, -55.5500, 5166,   3526.3,   2.5021,  34.9130,2,-999.0000,9,    260.9,2,    261.6,2,    0.267,2,    0.138,2,   2.2067
  06MT20040710,  AR04,   771,  1,      9,      9,2,20040727,   0, 15.9413, -55.5500, 5166,   3127.4,   2.6679,  34.9246,2,  34.9264,2,    257.5,2,    258.3,2,    0.218,2,    0.111,2,   2.4111
  06MT20040710,  AR04,   771,  1,     10,     10,2,20040727,   0, 15.9413, -55.5500, 5166,   2725.4,   2.8757,  34.9391,2,-999.0000,9,    255.4,2,    256.5,2,    0.143,2,    0.076,2,   2.6557
  06MT20040710,  AR04,   771,  1,     11,     11,2,20040727,   0, 15.9413, -55.5500, 5166,   2327.4,   3.1569,  34.9576,2,-999.0000,9,    257.3,2,   -999.0,9,    0.214,2,    0.111,2,   2.9709
  06MT20040710,  AR04,   771,  1,     12,     12,2,20040727,   0, 15.9413, -55.5500, 5166,   2122.9,   3.4120,  34.9717,2,-999.0000,9,    256.4,2,    254.7,2,    0.239,2,    0.122,2,   3.2415
  06MT20040710,  AR04,   771,  1,     13,     13,2,20040727,   0, 15.9413, -55.5500, 5166,   1927.2,   3.7272,  34.9858,2,  34.9864,2,    255.5,2,   -999.0,9,    0.357,2,    0.182,2,   3.5706
  06MT20040710,  AR04,   771,  1,     14,     14,2,20040727,   0, 15.9413, -55.5500, 5166,   1765.1,   4.0142,  34.9941,2,-999.0000,9,    247.4,2,    247.6,2,    0.251,2,    0.129,2,   3.8691
  06MT20040710,  AR04,   771,  1,     15,     15,2,20040727,   0, 15.9413, -55.5500, 5166,   1617.8,   4.3171,  35.0003,2,-999.0000,9,    236.4,2,   -999.0,9,    0.232,2,    0.123,2,   4.1821
  06MT20040710,  AR04,   771,  1,     16,     16,2,20040727,   0, 15.9413, -55.5500, 5166,   1422.1,   4.7702,  34.9953,2,-999.0000,9,    215.2,2,    214.0,2,    0.204,2,    0.106,2,   4.6487
  06MT20040710,  AR04,   771,  1,     17,     17,2,20040727,   0, 15.9413, -55.5500, 5166,   1076.2,   5.4019,  34.8504,2,-999.0000,9,    157.1,2,   -999.0,9,    0.140,2,    0.079,2,   5.3078
  06MT20040710,  AR04,   771,  1,     18,     18,2,20040727,   0, 15.9413, -55.5500, 5166,    762.6,   6.3411,  34.7511,2,-999.0000,9,    125.6,2,    126.5,2,    0.142,2,    0.081,2,   6.2708
  06MT20040710,  AR04,   771,  1,     19,     19,2,20040727,   0, 15.9413, -55.5500, 5166,    410.8,  12.9138,  35.6864,2,-999.0000,9,    122.7,2,    141.9,3,    1.490,2,    0.801,2,  12.8567
  06MT20040710,  AR04,   771,  1,     20,     20,2,20040727,   0, 15.9413, -55.5500, 5166,    103.9,  24.8614,  37.2508,2,  37.2552,2,    202.6,2,    200.2,6,    1.757,2,    1.110,2,  24.8388
  06MT20040710,  AR04,   771,  1,     21,     21,2,20040727,   0, 15.9413, -55.5500, 5166,     25.5,  27.9556,  33.6793,2,-999.0000,9,    202.8,2,   -999.0,9, -999.000,9, -999.000,9,  27.9496
  06MT20040710,  AR04,   771,  1,     22,     22,2,20040727,   0, 15.9413, -55.5500, 5166,     25.5,  27.9516,  33.6551,2,-999.0000,9,    202.8,2,    200.1,2,    1.557,2,    0.995,2,  27.9456
  06MT20040710,  AR04,   772,  2,      1,      1,2,20040727,   0, 15.9155, -55.1330, 5261,   5259.1,   1.8564,  34.8323,2,-999.0000,9,    243.5,2,    245.9,6, -999.000,9, -999.000,9,   1.3765
  06MT20040710,  AR04,   772,  2,      2,      2,2,20040727,   0, 15.9155, -55.1330, 5261,   5259.1,   1.8564,  34.8327,2,-999.0000,9,    243.5,2,   -999.0,9, -999.000,9, -999.000,9,   1.3765
  06MT20040710,  AR04,   772,  2,      3,      3,2,20040727,   0, 15.9155, -55.1330, 5261,   5259.8,   1.8559,  34.8329,2,  34.8333,2,    243.5,2,   -999.0,9,    0.094,2,    0.054,2,   1.3759
  06MT20040710,  AR04,   772,  2,      4,      4,2,20040727,   0, 15.9155, -55.1330, 5261,   4999.2,   1.9366,  34.8453,2,-999.0000,9,    247.4,2,    247.4,2,    0.094,2,    0.054,2,   1.4865
  06MT20040710,  AR04,   772,  2,      5,      5,2,20040727,   0, 15.9155, -55.1330, 5261,   4798.9,   2.0565,  34.8608,2,-999.0000,9,    251.1,2,    249.7,2,    0.113,2,    0.064,2,   1.6270
  06MT20040710,  AR04,   772,  2,      6,      6,2,20040727,   0, 15.9155, -55.1330, 5261,   4485.5,   2.1685,  34.8770,2,  34.8750,2,    255.5,2,    256.8,2, -999.000,9, -999.000,9,   1.7732
  06MT20040710,  AR04,   772,  2,      7,      7,2,20040727,   0, 15.9155, -55.1330, 5261,   3997.6,   2.3199,  34.8981,2,-999.0000,9,    263.7,2,    263.8,2, -999.000,9, -999.000,9,   1.9769
  06MT20040710,  AR04,   772,  2,      8,      8,2,20040727,   0, 15.9155, -55.1330, 5261,   3599.2,   2.4373,  34.9074,2,-999.0000,9,    262.2,2,    262.9,2,    0.493,4,    0.263,4,   2.1356
  06MT20040710,  AR04,   772,  2,      9,      9,2,20040727,   0, 15.9155, -55.1330, 5261,   2996.9,   2.7269,  34.9280,2,  34.9277,2,    257.7,2,    257.8,2,    0.136,2,    0.071,2,   2.4824
  06MT20040710,  AR04,   772,  2,     10,     10,2,20040727,   0, 15.9155, -55.1330, 5261,   2591.7,   2.9528,  34.9438,2,-999.0000,9,    260.3,2,    260.7,2,    0.198,2,    0.102,2,   2.7446
  06MT20040710,  AR04,   772,  2,     11,     11,2,20040727,   0, 15.9155, -55.1330, 5261,   2340.5,   3.2017,  34.9615,2,-999.0000,9,    255.0,2,   -999.0,9,    0.072,2,    0.039,2,   3.0137
  06MT20040710,  AR04,   772,  2,     12,     12,2,20040727,   0, 15.9155, -55.1330, 5261,   2191.0,   3.3739,  34.9729,2,-999.0000,9,    253.8,2,    252.1,2,    0.053,2,    0.031,2,   3.1974
  06MT20040710,  AR04,   772,  2,     13,     13,2,20040727,   0, 15.9155, -55.1330, 5261,   1984.5,   3.6688,  34.9840,2,  34.9860,2,    255.9,2,   -999.0,9,    0.172,2,    0.092,2,   3.5076
  06MT20040710,  AR04,   772,  2,     14,     14,2,20040727,   0, 15.9155, -55.1330, 5261,   1848.7,   3.9190,  34.9920,2,-999.0000,9,    255.1,2,    252.7,2,    0.328,2,    0.169,2,   3.7672
  06MT20040710,  AR04,   772,  2,     15,     15,2,20040727,   0, 15.9155, -55.1330, 5261,   1697.8,   4.2272,  35.0008,2,-999.0000,9,    245.1,2,   -999.0,9,    0.278,2,    0.146,2,   4.0857
  06MT20040710,  AR04,   772,  2,     16,     16,2,20040727,   0, 15.9155, -55.1330, 5261,   1578.0,   4.4268,  35.0052,2,-999.0000,9,    237.1,2,    231.2,4,    0.273,2,    0.143,2,   4.2943
  06MT20040710,  AR04,   772,  2,     17,     17,2,20040727,   0, 15.9155, -55.1330, 5261,   1280.6,   5.1561,  34.9806,2,-999.0000,9,    201.6,2,   -999.0,9,    0.305,2,    0.164,2,   5.0443
  06MT20040710,  AR04,   772,  2,     18,     18,2,20040727,   0, 15.9155, -55.1330, 5261,    891.4,   5.7191,  34.7498,2,-999.0000,9,    136.0,2,    135.4,2,    0.056,2,    0.033,2,   5.6403
  06MT20040710,  AR04,   772,  2,     19,     19,2,20040727,   0, 15.9155, -55.1330, 5261,    482.6,  11.0279,  35.3988,2,-999.0000,9,    121.4,2,   -999.0,9,    0.908,2,    0.485,2,  10.9672
  06MT20040710,  AR04,   772,  2,     20,     20,2,20040727,   0, 15.9155, -55.1330, 5261,    197.2,  19.3355,  36.7201,2,  36.6911,2,    169.3,2,    171.0,2,    2.125,2,    1.273,2,  19.2995
  06MT20040710,  AR04,   772,  2,     21,     21,2,20040727,   0, 15.9155, -55.1330, 5261,     12.9,  28.0445,  33.3900,2,-999.0000,9,    200.1,2,   -999.0,9, -999.000,9, -999.000,9,  28.0415
  06MT20040710,  AR04,   772,  2,     22,     22,2,20040727,   0, 15.9155, -55.1330, 5261,     13.1,  28.0405,  33.3919,2,-999.0000,9,    200.1,2,    201.8,6,    1.570,2,    1.012,2,  28.0374
  06MT20040710,  AR04,   773,  1,      1,      1,2,20040728,   0, 15.8920, -54.7157, 5579,   5578.2,   1.8815,  34.8314,2,-999.0000,9,    244.3,2,    242.4,2, -999.000,9, -999.000,9,   1.3596
  06MT20040710,  AR04,   773,  1,      2,      2,2,20040728,   0, 15.8920, -54.7157, 5579,   5578.1,   1.8815,  34.8315,2,-999.0000,9,    244.3,2,   -999.0,9, -999.000,9, -999.000,9,   1.3596
  06MT20040710,  AR04,   773,  1,      3,      3,2,20040728,   0, 15.8920, -54.7157, 5579,   5577.8,   1.8815,  34.8312,2,  34.8353,2,    244.3,2,   -999.0,9,    0.096,2,    0.056,2,   1.3596
  06MT20040710,  AR04,   773,  1,      4,      4,2,20040728,   0, 15.8920, -54.7157, 5579,   5396.5,   1.8789,  34.8334,2,-999.0000,9,    244.2,2,    243.7,2,    0.090,2,    0.051,2,   1.3806
  06MT20040710,  AR04,   773,  1,      5,      5,2,20040728,   0, 15.8920, -54.7157, 5579,   4895.0,   2.0133,  34.8546,2,  34.8528,2,    250.7,2,    249.3,2,    0.105,2,    0.060,2,   1.5734
  06MT20040710,  AR04,   773,  1,      6,      6,2,20040728,   0, 15.8920, -54.7157, 5579,   4470.3,   2.2372,  34.8881,2,-999.0000,9,    260.9,2,    260.4,2,    0.231,2,    0.124,2,   1.8415
  06MT20040710,  AR04,   773,  1,      7,      7,2,20040728,   0, 15.8920, -54.7157, 5579,   4161.7,   2.3012,  34.8962,2,-999.0000,9,    262.7,2,    262.3,6,    0.279,2,    0.147,2,   1.9399
  06MT20040710,  AR04,   773,  1,      8,      8,2,20040728,   0, 15.8920, -54.7157, 5579,   3755.0,   2.4206,  34.9053,2,  34.8982,2,    261.5,2,    258.3,2,    0.184,2,    0.096,2,   2.1022
  06MT20040710,  AR04,   773,  1,      9,      9,2,20040728,   0, 15.8920, -54.7157, 5579,   3243.9,   2.6391,  34.9187,2,-999.0000,9,    250.3,2,    251.6,2,    0.065,2,    0.036,2,   2.3707
  06MT20040710,  AR04,   773,  1,     10,     10,2,20040728,   0, 15.8920, -54.7157, 5579,   2835.9,   2.8063,  34.9327,2,-999.0000,9,    252.2,2,   -999.0,9,    0.076,2,    0.042,2,   2.5766
  06MT20040710,  AR04,   773,  1,     11,     11,2,20040728,   0, 15.8920, -54.7157, 5579,   2397.6,   3.0964,  34.9526,2,-999.0000,9,    255.7,2,    257.1,2,    0.125,2,    0.067,2,   2.9047
  06MT20040710,  AR04,   773,  1,     12,     12,2,20040728,   0, 15.8920, -54.7157, 5579,   2149.2,   3.3585,  34.9687,2,  34.9732,2,    254.6,2,   -999.0,9,    0.143,2,    0.076,2,   3.1863
  06MT20040710,  AR04,   773,  1,     13,     13,2,20040728,   0, 15.8920, -54.7157, 5579,   1946.9,   3.6700,  34.9846,2,-999.0000,9,    252.5,2,    251.1,2,    0.163,2,    0.088,2,   3.5124
  06MT20040710,  AR04,   773,  1,     14,     14,2,20040728,   0, 15.8920, -54.7157, 5579,   1786.0,   3.8911,  34.9888,2,-999.0000,9,    253.7,2,   -999.0,9,    0.341,2,    0.176,2,   3.7456
  06MT20040710,  AR04,   773,  1,     15,     15,2,20040728,   0, 15.8920, -54.7157, 5579,   1629.5,   4.2206,  34.9997,2,-999.0000,9,    242.0,2,    244.7,2,    0.437,2,    0.231,2,   4.0857
  06MT20040710,  AR04,   773,  1,     16,     16,2,20040728,   0, 15.8920, -54.7157, 5579,   1497.5,   4.5477,  35.0017,2,-999.0000,9,    226.2,2,   -999.0,9,    0.266,2,    0.138,2,   4.4215
  06MT20040710,  AR04,   773,  1,     17,     17,2,20040728,   0, 15.8920, -54.7157, 5579,   1196.1,   5.2166,  34.9340,2,-999.0000,9,    183.1,2,    183.7,2,    0.180,2,    0.098,2,   5.1125
  06MT20040710,  AR04,   773,  1,     18,     18,2,20040728,   0, 15.8920, -54.7157, 5579,    846.8,   5.7850,  34.7513,2,  34.7584,2,    134.2,2,   -999.0,9,    0.059,2,    0.033,2,   5.7100
  06MT20040710,  AR04,   773,  1,     19,     19,2,20040728,   0, 15.8920, -54.7157, 5579,    552.4,   9.2451,  35.1309,2,-999.0000,9,    120.2,2,   -999.0,9,    0.567,2,    0.304,2,   9.1827
  06MT20040710,  AR04,   773,  1,     20,     20,2,20040728,   0, 15.8920, -54.7157, 5579,    260.8,  17.1112,  36.3596,2,-999.0000,9,    147.1,2,    146.4,6,    2.028,2,    1.174,2,  17.0675
  06MT20040710,  AR04,   773,  1,     21,     21,2,20040728,   0, 15.8920, -54.7157, 5579,     16.8,  28.0201,  33.7231,2,-999.0000,9,    200.1,2,   -999.0,9, -999.000,9, -999.000,9,  28.0162
  06MT20040710,  AR04,   773,  1,     22,     22,2,20040728,   0, 15.8920, -54.7157, 5579,     16.7,  28.0317,  33.6695,2,-999.0000,9,    200.0,2,    200.7,2,    1.569,2,    1.004,2,  28.0278