BOTTLE,20140522SIOCCHGR
EXPOCODE,SECT_ID,STNNBR,CASTNO,SAMPNO,BTLNBR,BTLNBR_FLAG_W,DATE,TIME,LATITUDE,LONGITUDE,DEPTH,CTDPRS,CTDTMP,CTDSAL,CTDSAL_FLAG_W,SALNTY,SALNTY_FLAG_W,CTDOXY,CTDOXY_FLAG_W,OXYGEN,OXYGEN_FLAG_W,CFC-11,CFC-11_FLAG_W,CFC-12,CFC-12_FLAG_W,THETA
,,,,,,,,,,,METERS,DBAR,ITS-90,PSS-78,,PSS-78,,UMOL/KG,,UMOL/KG,,PMOL/KG,,PMOL/KG,,DEG C
  06MT20040710,  AR04,   760,  1,      1,      1,2,20040725,   0, 16.1582, -59.2995, 5125,   5122.5,   2.0160,  34.8517,2,-999.0000,9,    249.1,2,   -999.0,9, -999.000,9, -999.000,9,   1.5477
  06MT20040710,  AR04,   760,  1,      2,      2,2,20040725,   0, 16.1582, -59.2995, 5125,   5123.1,   2.0157,  34.8518,2,-999.0000,9,    249.1,2,   -999.0,9, -999.000,9, -999.000,9,   1.5473
  06MT20040710,  AR04,   760,  1,      3,      3,2,20040725,   0, 16.1582, -59.2995, 5125,   5123.6,   2.0155,  34.8520,2,  34.8575,2,    249.1,2,   -999.0,9,    0.114,2,    0.066,2,   1.5470
  06MT20040710,  AR04,   760,  1,      4,      4,2,20040725,   0, 16.1582, -59.2995, 5125,   4795.8,   2.1189,  34.8687,2,  34.8654,2,    254.6,2,    255.0,2,    0.145,2,    0.081,2,   1.6877
  06MT20040710,  AR04,   760,  1,      5,      5,2,20040725,   0, 16.1582, -59.2995, 5125,   4207.7,   2.2710,  34.8938,2,-999.0000,9,    263.2,2,    261.2,2,    0.291,2,    0.154,2,   1.9052
  06MT20040710,  AR04,   760,  1,      6,      6,2,20040725,   0, 16.1582, -59.2995, 5125,   3800.0,   2.3357,  34.9014,2,  34.8990,2,    263.9,2,    264.0,2,    0.352,2,    0.183,2,   2.0145
  06MT20040710,  AR04,   760,  1,      7,      7,2,20040725,   0, 16.1582, -59.2995, 5125,   3198.7,   2.5707,  34.9182,2,-999.0000,9,    262.8,2,    263.5,2,    0.378,2,    0.190,2,   2.3087
  06MT20040710,  AR04,   760,  1,      8,      8,2,20040725,   0, 16.1582, -59.2995, 5125,   2700.5,   2.9370,  34.9433,2,-999.0000,9,    259.1,2,    259.5,2,    0.272,2,    0.139,2,   2.7183
  06MT20040710,  AR04,   760,  1,      9,      9,2,20040725,   0, 16.1582, -59.2995, 5125,   2197.9,   3.4117,  34.9698,2,  34.9718,2,    258.5,2,    258.6,6, -999.000,9, -999.000,9,   3.2340
  06MT20040710,  AR04,   760,  1,     10,     10,2,20040725,   0, 16.1582, -59.2995, 5125,   1916.6,   3.7660,  34.9847,2,-999.0000,9,    257.3,2,   -999.0,9, -999.000,9, -999.000,9,   3.6099
  06MT20040710,  AR04,   760,  1,     11,     11,2,20040725,   0, 16.1582, -59.2995, 5125,   1747.7,   3.9919,  34.9884,2,-999.0000,9,    257.1,2,    256.4,2,    0.797,2,    0.403,2,   3.8487
  06MT20040710,  AR04,   760,  1,     12,     12,2,20040725,   0, 16.1582, -59.2995, 5125,   1612.4,   4.2658,  35.0013,2,  35.0047,2,    250.9,2,   -999.0,9,    0.846,2,    0.423,2,   4.1319
  06MT20040710,  AR04,   760,  1,     13,     13,2,20040725,   0, 16.1582, -59.2995, 5125,   1384.4,   4.8515,  35.0208,2,-999.0000,9,    227.8,2,   -999.0,9,    0.666,2,    0.338,2,   4.7327
  06MT20040710,  AR04,   760,  1,     14,     14,2,20040725,   0, 16.1582, -59.2995, 5125,   1100.9,   5.4750,  34.9158,2,-999.0000,9,    172.2,2,    175.1,2,    0.183,2,    0.097,2,   5.3778
  06MT20040710,  AR04,   760,  1,     15,     15,2,20040725,   0, 16.1582, -59.2995, 5125,    524.4,   9.5702,  35.0219,2,-999.0000,9,    119.8,2,    119.8,2,    1.003,2,    0.537,2,   9.5099
  06MT20040710,  AR04,   760,  1,     16,     16,2,20040725,   0, 16.1582, -59.2995, 5125,     35.2,  28.2439,  34.3294,2,-999.0000,9,    198.4,2,    198.3,2, -999.000,9, -999.000,9,  28.2356
  06MT20040710,  AR04,   760,  1,     17,     17,2,20040725,   0, 16.1582, -59.2995, 5125,     35.2,  28.2358,  34.3488,2,-999.0000,9,    198.4,2,   -999.0,9,    1.527,2,    0.983,2,  28.2275
  06MT20040710,  AR04,   761,  1,      1,      1,2,20040725,   0, 16.1412, -58.8820, 5603,   5602.0,   1.9601,  34.8379,2,-999.0000,9,    246.6,2,    245.2,6, -999.000,9, -999.000,9,   1.4321
  06MT20040710,  AR04,   761,  1,      2,      2,2,20040725,   0, 16.1412, -58.8820, 5603,   5601.9,   1.9599,  34.8381,2,-999.0000,9,    246.6,2,   -999.0,9, -999.000,9, -999.000,9,   1.4320
  06MT20040710,  AR04,   761,  1,      3,      3,2,20040725,   0, 16.1412, -58.8820, 5603,   5602.4,   1.9601,  34.8380,2,  34.8455,2,    246.6,2,   -999.0,9,    0.113,2,    0.067,2,   1.4320
  06MT20040710,  AR04,   761,  1,      4,      4,2,20040725,   0, 16.1412, -58.8820, 5603,   5111.0,   2.0397,  34.8549,2,-999.0000,9,    250.6,2,    249.4,2,    0.110,2,    0.065,2,   1.5720
  06MT20040710,  AR04,   761,  1,      5,      5,2,20040725,   0, 16.1412, -58.8820, 5603,   4697.6,   2.1927,  34.8789,2,  34.8788,2,    258.1,2,    255.6,2,    0.188,2,    0.105,2,   1.7710
  06MT20040710,  AR04,   761,  1,      6,      6,2,20040725,   0, 16.1412, -58.8820, 5603,   4297.7,   2.2852,  34.8942,2,-999.0000,9,    263.4,2,    261.7,2,    0.303,2,    0.158,2,   1.9085
  06MT20040710,  AR04,   761,  1,      7,      7,2,20040725,   0, 16.1412, -58.8820, 5603,   3897.6,   2.3482,  34.9013,2,  34.9008,2,    263.2,2,    262.0,2,    0.302,2,    0.157,2,   2.0157
  06MT20040710,  AR04,   761,  1,      8,      8,2,20040725,   0, 16.1412, -58.8820, 5603,   3610.5,   2.4328,  34.9083,2,-999.0000,9,    263.2,2,    263.0,2,    0.342,2,    0.175,2,   2.1300
  06MT20040710,  AR04,   761,  1,      9,      9,2,20040725,   0, 16.1412, -58.8820, 5603,   2997.3,   2.7729,  34.9322,2,-999.0000,9,    259.3,2,    259.0,2,    0.260,2,    0.132,2,   2.5273
  06MT20040710,  AR04,   761,  1,     10,     10,2,20040725,   0, 16.1412, -58.8820, 5603,   2598.9,   3.0786,  34.9504,2,  34.9496,2,    260.0,2,   -999.0,9,    0.389,2,    0.198,2,   2.8673
  06MT20040710,  AR04,   761,  1,     11,     11,2,20040725,   0, 16.1412, -58.8820, 5603,   2297.4,   3.3412,  34.9647,2,-999.0000,9,    259.4,2,    257.6,2,    0.334,2,    0.175,2,   3.1550
  06MT20040710,  AR04,   761,  1,     12,     12,2,20040725,   0, 16.1412, -58.8820, 5603,   1999.4,   3.6622,  34.9757,2,-999.0000,9,    260.2,2,   -999.0,9,    0.592,2,    0.303,2,   3.4997
  06MT20040710,  AR04,   761,  1,     13,     13,2,20040725,   0, 16.1412, -58.8820, 5603,   1847.8,   3.8401,  34.9807,2,-999.0000,9,    258.5,2,    256.5,2,    0.748,2,    0.380,2,   3.6895
  06MT20040710,  AR04,   761,  1,     14,     14,2,20040725,   0, 16.1412, -58.8820, 5603,   1692.4,   4.0952,  34.9926,2,-999.0000,9,    254.4,2,   -999.0,9,    0.757,2,    0.385,2,   3.9559
  06MT20040710,  AR04,   761,  1,     15,     15,2,20040725,   0, 16.1412, -58.8820, 5603,   1539.9,   4.4190,  35.0079,2,-999.0000,9,    244.6,2,    244.4,2,    0.776,2,    0.393,2,   4.2902
  06MT20040710,  AR04,   761,  1,     16,     16,2,20040725,   0, 16.1412, -58.8820, 5603,   1337.9,   4.9983,  35.0171,2,  35.0222,2,    220.2,2,   -999.0,9,    0.565,2,    0.291,2,   4.8825
  06MT20040710,  AR04,   761,  1,     17,     17,2,20040725,   0, 16.1412, -58.8820, 5603,   1008.4,   5.6176,  34.7811,2,-999.0000,9,    144.4,2,   -999.0,9,    0.098,2,    0.054,2,   5.5284
  06MT20040710,  AR04,   761,  1,     18,     18,2,20040725,   0, 16.1412, -58.8820, 5603,    599.3,   8.5411,  34.8942,2,-999.0000,9,    120.9,2,    119.8,6,    0.763,2,    0.406,2,   8.4766
  06MT20040710,  AR04,   761,  1,     19,     19,2,20040725,   0, 16.1412, -58.8820, 5603,    409.6,  12.0049,  35.3835,2,-999.0000,9,    117.3,2,   -999.0,9,    1.395,2,    0.757,2,  11.9508
  06MT20040710,  AR04,   761,  1,     20,     20,2,20040725,   0, 16.1412, -58.8820, 5603,    197.6,  20.9932,  36.8038,2,-999.0000,9,    155.5,2,    149.4,2,    1.920,2,    1.162,2,  20.9550
  06MT20040710,  AR04,   761,  1,     21,     21,2,20040725,   0, 16.1412, -58.8820, 5603,     29.0,  28.1849,  34.4442,2,-999.0000,9,    198.8,2,   -999.0,9, -999.000,9, -999.000,9,  28.1780
  06MT20040710,  AR04,   761,  1,     22,     22,2,20040725,   0, 16.1412, -58.8820, 5603,     29.0,  28.1849,  34.4442,2,-999.0000,9,    198.8,2,    199.0,2,    1.528,2,    0.980,2,  28.1780
  06MT20040710,  AR04,   763,  1,      1,      1,2,20040725,   0, 16.1142, -58.4645, 5651,   5650.4,   1.9244,  34.8327,2,-999.0000,9,    245.4,2,    244.1,6, -999.000,9, -999.000,9,   1.3914
  06MT20040710,  AR04,   763,  1,      2,      2,2,20040725,   0, 16.1142, -58.4645, 5651,   5650.1,   1.9244,  34.8332,2,-999.0000,9,    245.4,2,   -999.0,9, -999.000,9, -999.000,9,   1.3915
  06MT20040710,  AR04,   763,  1,      3,      3,2,20040725,   0, 16.1142, -58.4645, 5651,   5649.2,   1.9247,  34.8327,2,  34.8304,2,    245.4,2,   -999.0,9,    0.092,2,    0.053,2,   1.3919
  06MT20040710,  AR04,   763,  1,      4,      4,2,20040725,   0, 16.1142, -58.4645, 5651,   4897.0,   2.1918,  34.8765,2,-999.0000,9,    256.9,2,    259.0,2,    0.219,2,    0.122,2,   1.7456
  06MT20040710,  AR04,   763,  1,      5,      5,2,20040725,   0, 16.1142, -58.4645, 5651,   4397.7,   2.2690,  34.8914,2,  34.8908,2,    262.5,2,    262.3,2,    0.316,2,    0.167,2,   1.8810
  06MT20040710,  AR04,   763,  1,      6,      6,2,20040725,   0, 16.1142, -58.4645, 5651,   3997.2,   2.3425,  34.9003,2,-999.0000,9,    264.5,2,    264.4,2,    0.327,2,    0.168,2,   1.9989
  06MT20040710,  AR04,   763,  1,      7,      7,2,20040725,   0, 16.1142, -58.4645, 5651,   3498.2,   2.5306,  34.9147,2,  34.9120,2,    263.0,2,    264.0,2, -999.000,9, -999.000,9,   2.2376
  06MT20040710,  AR04,   763,  1,      8,      8,2,20040725,   0, 16.1142, -58.4645, 5651,   3097.8,   2.8112,  34.9338,2,-999.0000,9,    261.0,2,    262.5,2,    0.351,2,    0.180,2,   2.5543
  06MT20040710,  AR04,   763,  1,      9,      9,2,20040725,   0, 16.1142, -58.4645, 5651,   2498.2,   3.2241,  34.9577,2,  34.9571,2,    260.3,2,    260.7,2,    0.396,2,    0.202,2,   3.0201
  06MT20040710,  AR04,   763,  1,     10,     10,2,20040725,   0, 16.1142, -58.4645, 5651,   2148.0,   3.4745,  34.9659,2,-999.0000,9,    261.6,2,    261.4,2,    0.616,2,    0.318,2,   3.3006
  06MT20040710,  AR04,   763,  1,     11,     11,2,20040725,   0, 16.1142, -58.4645, 5651,   1954.9,   3.5716,  34.9674,2,-999.0000,9,    262.3,2,   -999.0,9,    0.733,2,    0.374,2,   3.4147
  06MT20040710,  AR04,   763,  1,     12,     12,2,20040725,   0, 16.1142, -58.4645, 5651,   1796.5,   3.6928,  34.9714,2,-999.0000,9,    262.1,2,    260.8,2,    0.844,2,    0.431,2,   3.5490
  06MT20040710,  AR04,   763,  1,     13,     13,2,20040725,   0, 16.1142, -58.4645, 5651,   1653.5,   3.8868,  34.9788,2,-999.0000,9,    259.9,2,   -999.0,9,    0.943,2,    0.479,2,   3.7538
  06MT20040710,  AR04,   763,  1,     14,     14,2,20040725,   0, 16.1142, -58.4645, 5651,   1498.3,   4.1831,  34.9959,2,-999.0000,9,    252.4,2,    252.8,2,    0.920,2,    0.467,2,   4.0609
  06MT20040710,  AR04,   763,  1,     15,     15,2,20040725,   0, 16.1142, -58.4645, 5651,   1246.0,   5.0890,  35.0043,2,-999.0000,9,    209.5,2,   -999.0,9,    0.405,2,    0.212,2,   4.9811
  06MT20040710,  AR04,   763,  1,     16,     16,2,20040725,   0, 16.1142, -58.4645, 5651,    903.9,   6.0328,  34.7751,2,-999.0000,9,    135.5,2,   -999.0,9,    0.100,2,    0.056,2,   5.9507
  06MT20040710,  AR04,   763,  1,     17,     17,2,20040725,   0, 16.1142, -58.4645, 5651,    691.8,   7.1697,  34.7629,2,  34.7838,3,    122.9,2,    123.4,2,    0.425,2,    0.231,2,   7.1020
  06MT20040710,  AR04,   763,  1,     18,     18,2,20040725,   0, 16.1142, -58.4645, 5651,    423.6,  11.5734,  35.3657,2,-999.0000,9,    126.8,2,    125.6,6,    1.293,2,    0.694,2,  11.5187
  06MT20040710,  AR04,   763,  1,     19,     19,2,20040725,   0, 16.1142, -58.4645, 5651,    292.0,  15.5385,  36.0092,2,-999.0000,9,    145.1,2,   -999.0,9, -999.000,9, -999.000,9,  15.4927
  06MT20040710,  AR04,   763,  1,     20,     20,2,20040725,   0, 16.1142, -58.4645, 5651,    104.1,  26.1917,  36.4337,2,-999.0000,9,    189.7,2,    188.1,2,    1.583,2,    1.006,2,  26.1682
  06MT20040710,  AR04,   763,  1,     21,     21,2,20040725,   0, 16.1142, -58.4645, 5651,     21.7,  28.1135,  33.9714,2,-999.0000,9,    200.0,2,   -999.0,9,    1.555,2,    1.006,2,  28.1084
  06MT20040710,  AR04,   763,  1,     22,     22,2,20040725,   0, 16.1142, -58.4645, 5651,     22.0,  28.1075,  33.9716,2,-999.0000,9,    200.0,2,    200.1,2, -999.000,9, -999.000,9,  28.1023
  06MT20040710,  AR04,   764,  1,      1,      1,2,20040726,   0, 16.0898, -58.0490, 5294,   5292.8,   1.9756,  34.8442,2,-999.0000,9,    247.2,2,    247.5,2, -999.000,9, -999.000,9,   1.4871
  06MT20040710,  AR04,   764,  1,      2,      2,2,20040726,   0, 16.0898, -58.0490, 5294,   5292.9,   1.9756,  34.8445,2,-999.0000,9,    247.2,2,   -999.0,9, -999.000,9, -999.000,9,   1.4871
  06MT20040710,  AR04,   764,  1,      3,      3,2,20040726,   0, 16.0898, -58.0490, 5294,   5292.9,   1.9757,  34.8444,2,  34.8473,2,    247.2,2,   -999.0,9,    0.120,2,    0.070,2,   1.4872
  06MT20040710,  AR04,   764,  1,      4,      4,2,20040726,   0, 16.0898, -58.0490, 5294,   4996.9,   2.1530,  34.8702,2,-999.0000,9,    254.7,2,    254.3,2,    0.157,2,    0.088,2,   1.6957
  06MT20040710,  AR04,   764,  1,      5,      5,2,20040726,   0, 16.0898, -58.0490, 5294,   4497.6,   2.2699,  34.8908,2,  34.8888,2,    262.7,2,    260.6,2,    0.308,2,    0.164,2,   1.8699
  06MT20040710,  AR04,   764,  1,      6,      6,2,20040726,   0, 16.0898, -58.0490, 5294,   4097.3,   2.3256,  34.8988,2,-999.0000,9,    265.2,2,    264.0,2, -999.000,9, -999.000,9,   1.9710
  06MT20040710,  AR04,   764,  1,      7,      7,2,20040726,   0, 16.0898, -58.0490, 5294,   3698.9,   2.4522,  34.9093,2,  34.9065,2,    264.5,2,    264.3,2,    0.409,2,    0.207,2,   2.1391
  06MT20040710,  AR04,   764,  1,      8,      8,2,20040726,   0, 16.0898, -58.0490, 5294,   3297.3,   2.7056,  34.9259,2,-999.0000,9,    261.5,2,    261.6,6,    0.340,2,    0.174,2,   2.4299
  06MT20040710,  AR04,   764,  1,      9,      9,2,20040726,   0, 16.0898, -58.0490, 5294,   2806.2,   3.0232,  34.9469,2,  34.9447,2,    259.9,2,    260.0,2, -999.000,9, -999.000,9,   2.7920
  06MT20040710,  AR04,   764,  1,     10,     10,2,20040726,   0, 16.0898, -58.0490, 5294,   2357.2,   3.3459,  34.9620,2,-999.0000,9,    260.9,2,    259.7,2, -999.000,9, -999.000,9,   3.1537
  06MT20040710,  AR04,   764,  1,     11,     11,2,20040726,   0, 16.0898, -58.0490, 5294,   2097.9,   3.5228,  34.9666,2,-999.0000,9,    261.8,2,   -999.0,9,    0.622,2,    0.320,2,   3.3530
  06MT20040710,  AR04,   764,  1,     12,     12,2,20040726,   0, 16.0898, -58.0490, 5294,   1903.1,   3.6336,  34.9695,2,-999.0000,9,    262.1,2,    260.5,2,    0.796,2,    0.408,2,   3.4807
  06MT20040710,  AR04,   764,  1,     13,     13,2,20040726,   0, 16.0898, -58.0490, 5294,   1754.6,   3.7732,  34.9741,2,  34.9767,2,    261.4,2,   -999.0,9,    0.912,2,    0.461,2,   3.6323
  06MT20040710,  AR04,   764,  1,     14,     14,2,20040726,   0, 16.0898, -58.0490, 5294,   1598.7,   4.0553,  34.9884,2,-999.0000,9,    256.0,2,    254.2,2,    0.926,2,    0.467,2,   3.9253
  06MT20040710,  AR04,   764,  1,     15,     15,2,20040726,   0, 16.0898, -58.0490, 5294,   1460.7,   4.4669,  35.0075,2,-999.0000,9,    238.7,2,   -999.0,9,    0.545,2,    0.279,2,   4.3450
  06MT20040710,  AR04,   764,  1,     16,     16,2,20040726,   0, 16.0898, -58.0490, 5294,   1160.2,   5.2237,  34.9430,2,-999.0000,9,    187.1,2,   -999.0,9,    0.203,2,    0.105,2,   5.1229
  06MT20040710,  AR04,   764,  1,     17,     17,2,20040726,   0, 16.0898, -58.0490, 5294,    941.1,   5.6962,  34.7663,2,-999.0000,9,    138.3,2,    138.1,2,    0.124,2,    0.071,2,   5.6128
  06MT20040710,  AR04,   764,  1,     18,     18,2,20040726,   0, 16.0898, -58.0490, 5294,    541.0,   8.6262,  34.9033,2,-999.0000,9,    121.1,2,    118.5,2,    0.699,2,    0.374,2,   8.5678
  06MT20040710,  AR04,   764,  1,     19,     19,2,20040726,   0, 16.0898, -58.0490, 5294,    353.5,  13.5305,  35.6580,2,-999.0000,9,    135.6,2,   -999.0,9,    1.697,2,    0.950,2,  13.4800
  06MT20040710,  AR04,   764,  1,     20,     20,2,20040726,   0, 16.0898, -58.0490, 5294,    152.9,  23.7272,  37.1702,2,-999.0000,9,    180.9,2,    181.8,2,    1.842,2,    1.155,2,  23.6950
  06MT20040710,  AR04,   764,  1,     21,     21,2,20040726,   0, 16.0898, -58.0490, 5294,     24.8,  28.0580,  33.7215,2,-999.0000,9,    200.2,2,   -999.0,9, -999.000,9, -999.000,9,  28.0522
  06MT20040710,  AR04,   764,  1,     22,     22,2,20040726,   0, 16.0898, -58.0490, 5294,     25.1,  28.0515,  33.7275,2,-999.0000,9,    200.2,2,    199.9,6,    1.534,2,    0.985,2,  28.0456