BOTTLE,20140522SIOCCHGR
EXPOCODE,SECT_ID,STNNBR,CASTNO,SAMPNO,BTLNBR,BTLNBR_FLAG_W,DATE,TIME,LATITUDE,LONGITUDE,DEPTH,CTDPRS,CTDTMP,CTDSAL,CTDSAL_FLAG_W,SALNTY,SALNTY_FLAG_W,CTDOXY,CTDOXY_FLAG_W,OXYGEN,OXYGEN_FLAG_W,CFC-11,CFC-11_FLAG_W,CFC-12,CFC-12_FLAG_W,THETA
,,,,,,,,,,,METERS,DBAR,ITS-90,PSS-78,,PSS-78,,UMOL/KG,,UMOL/KG,,PMOL/KG,,PMOL/KG,,DEG C
  06MT20040710,  AR04,   782,  1,      1,      1,2,20040730,   0, 13.0837, -54.6615, 5148,   5147.9,   1.8601,  34.8312,2,  34.8282,2,    242.5,2,    245.8,2, -999.000,9, -999.000,9,   1.3941
  06MT20040710,  AR04,   782,  1,      2,      2,2,20040730,   0, 13.0837, -54.6615, 5148,   5147.6,   1.8600,  34.8332,2,  34.8302,3,    242.5,2,   -999.0,9, -999.000,9, -999.000,9,   1.3940
  06MT20040710,  AR04,   782,  1,      3,      3,2,20040730,   0, 13.0837, -54.6615, 5148,   5147.1,   1.8598,  34.8662,2,  34.8312,2,    242.5,2,   -999.0,9,    0.090,2,    0.054,2,   1.3939
  06MT20040710,  AR04,   782,  1,      4,      4,2,20040730,   0, 13.0837, -54.6615, 5148,   4597.8,   2.1671,  34.8869,2,  34.8729,2,    256.2,2,   -999.0,9,    0.168,2,    0.096,2,   1.7584
  06MT20040710,  AR04,   782,  1,      5,      5,2,20040730,   0, 13.0837, -54.6615, 5148,   4198.1,   2.2737,  34.9010,2,  34.8890,2,    260.9,2,   -999.0,9,    0.210,2,    0.114,2,   1.9090
  06MT20040710,  AR04,   782,  1,      6,      6,2,20040730,   0, 13.0837, -54.6615, 5148,   3809.8,   2.3710,  34.9083,2,  34.9006,2,    260.7,2,   -999.0,9,    0.264,2,    0.138,2,   2.0478
  06MT20040710,  AR04,   782,  1,      7,      7,2,20040730,   0, 13.0837, -54.6615, 5148,   3342.8,   2.5883,  34.9213,2,  34.9155,2,    254.1,2,   -999.0,9,    0.155,2,    0.079,2,   2.3106
  06MT20040710,  AR04,   782,  1,      8,      8,2,20040730,   0, 13.0837, -54.6615, 5148,   2934.1,   2.7930,  34.9972,2,  34.9329,2,    256.9,2,   -999.0,9,    0.226,2,    0.120,2,   2.5535
  06MT20040710,  AR04,   782,  1,      9,      9,2,20040730,   0, 13.0837, -54.6615, 5148,   2527.0,   3.0614,  34.9585,2,  34.9490,2,    258.7,2,   -999.0,9,    0.297,2,    0.155,2,   2.8576
  06MT20040710,  AR04,   782,  1,     10,     10,2,20040730,   0, 13.0837, -54.6615, 5148,   2229.7,   3.3294,  34.9703,2,  34.9643,2,    258.6,2,   -999.0,9,    0.349,2,    0.178,2,   3.1500
  06MT20040710,  AR04,   782,  1,     11,     11,2,20040730,   0, 13.0837, -54.6615, 5148,   1987.5,   3.6376,  34.9760,2,  34.9734,2,    258.3,2,   -999.0,9,    0.524,2,    0.272,2,   3.4766
  06MT20040710,  AR04,   782,  1,     12,     12,2,20040730,   0, 13.0837, -54.6615, 5148,   1830.8,   3.8910,  34.9884,2,  34.9834,2,    256.4,2,   -999.0,9,    0.629,2,    0.322,2,   3.7413
  06MT20040710,  AR04,   782,  1,     13,     13,2,20040730,   0, 13.0837, -54.6615, 5148,   1679.1,   4.1954,  34.9996,2,  34.9976,2,    249.7,2,   -999.0,9,    0.742,2,    0.378,2,   4.0561
  06MT20040710,  AR04,   782,  1,     14,     14,2,20040730,   0, 13.0837, -54.6615, 5148,   1526.7,   4.5910,  35.0148,2,  35.0118,2,    235.6,2,   -999.0,9,    0.637,2,    0.325,2,   4.4615
  06MT20040710,  AR04,   782,  1,     15,     15,2,20040730,   0, 13.0837, -54.6615, 5148,   1217.0,   5.2255,  34.9382,2,  34.9262,2,    176.7,2,   -999.0,9,    0.160,2,    0.088,2,   5.1193
  06MT20040710,  AR04,   782,  1,     16,     16,2,20040730,   0, 13.0837, -54.6615, 5148,    933.4,   5.3330,  34.6401,2,  34.6316,2,    137.0,2,   -999.0,9,    0.085,2,    0.047,2,   5.2531
  06MT20040710,  AR04,   782,  1,     17,     17,2,20040730,   0, 13.0837, -54.6615, 5148,    667.6,   6.8223,  34.7329,2,  34.7185,2,    121.0,2,   -999.0,9, -999.000,9, -999.000,9,   6.7588
  06MT20040710,  AR04,   782,  1,     18,     18,2,20040730,   0, 13.0837, -54.6615, 5148,    472.3,   9.0041,  34.7270,2,  34.9157,3,    120.0,2,   -999.0,9,    0.920,2,    0.491,2,   8.9520
  06MT20040710,  AR04,   782,  1,     19,     19,2,20040730,   0, 13.0837, -54.6615, 5148,    326.0,  11.7729,  35.3112,2,  35.3082,2,    126.4,2,   -999.0,9, -999.000,9, -999.000,9,  11.7305
  06MT20040710,  AR04,   782,  1,     20,     20,2,20040730,   0, 13.0837, -54.6615, 5148,    325.9,  11.7834,  34.9209,2,  35.3906,3,    126.4,2,   -999.0,9,    1.469,2,    0.789,2,  11.7410
  06MT20040710,  AR04,   782,  1,     21,     21,2,20040730,   0, 13.0837, -54.6615, 5148,    148.0,  21.3804,  35.7922,2,  36.7087,3,    145.7,2,   -999.0,9, -999.000,9, -999.000,9,  21.3515
  06MT20040710,  AR04,   782,  1,     22,     22,2,20040730,   0, 13.0837, -54.6615, 5148,     28.7,  28.0362,  35.6723,2,  35.6774,2,    196.4,2,   -999.0,9,    1.497,2,    0.964,2,  28.0294
  06MT20040710,  AR04,   783,  1,      1,      1,2,20040730,   0, 12.6680, -54.7683, 4786,   4785.4,   2.0854,  34.8641,2,-999.0000,9,    254.1,2,    254.6,2, -999.000,9, -999.000,9,   1.6566
  06MT20040710,  AR04,   783,  1,      2,      2,2,20040730,   0, 12.6680, -54.7683, 4786,   4785.4,   2.0856,  34.8638,2,-999.0000,9,    254.1,2,   -999.0,9, -999.000,9, -999.000,9,   1.6568
  06MT20040710,  AR04,   783,  1,      3,      3,2,20040730,   0, 12.6680, -54.7683, 4786,   4785.3,   2.0854,  34.8643,2,  34.8693,2,    254.1,2,    253.9,2,    0.146,2,    0.085,2,   1.6565
  06MT20040710,  AR04,   783,  1,      4,      4,2,20040730,   0, 12.6680, -54.7683, 4786,   4000.7,   2.3228,  34.8997,2,  34.8955,2,    264.5,2,    265.5,6,    0.268,2,    0.140,2,   1.9794
  06MT20040710,  AR04,   783,  1,      5,      5,2,20040730,   0, 12.6680, -54.7683, 4786,   3697.4,   2.4116,  34.9070,2,  34.9051,2,    264.5,2,    264.7,2,    0.294,2,    0.152,2,   2.0998
  06MT20040710,  AR04,   783,  1,      6,      6,2,20040730,   0, 12.6680, -54.7683, 4786,   3397.6,   2.5498,  34.9167,2,  34.9167,2,    259.2,2,    261.1,2,    0.188,2,    0.100,2,   2.2671
  06MT20040710,  AR04,   783,  1,      7,      7,2,20040730,   0, 12.6680, -54.7683, 4786,   3003.7,   2.7562,  34.9326,2,  34.9313,2,    257.6,2,    262.8,2,    0.222,2,    0.113,2,   2.5103
  06MT20040710,  AR04,   783,  1,      8,      8,2,20040730,   0, 12.6680, -54.7683, 4786,   2606.8,   2.9984,  34.9495,2,  34.9458,2,    257.5,2,    261.9,2,    0.247,2,    0.128,2,   2.7879
  06MT20040710,  AR04,   783,  1,      9,      9,2,20040730,   0, 12.6680, -54.7683, 4786,   2346.8,   3.2192,  34.9618,2,  34.9586,2,    259.3,2,    262.4,2,    0.300,6,    0.155,6,   3.0303
  06MT20040710,  AR04,   783,  1,     10,     10,2,20040730,   0, 12.6680, -54.7683, 4786,   2097.3,   3.4670,  34.9725,2,  34.9698,2,    260.3,2,    261.8,2,    0.426,2,    0.219,2,   3.2981
  06MT20040710,  AR04,   783,  1,     11,     11,2,20040730,   0, 12.6680, -54.7683, 4786,   1903.4,   3.7390,  34.9821,2,-999.0000,9,    259.3,2,   -999.0,9, -999.000,9, -999.000,9,   3.5845
  06MT20040710,  AR04,   783,  1,     12,     12,2,20040730,   0, 12.6680, -54.7683, 4786,   1752.7,   3.9692,  34.9917,2,  34.9872,2,    254.1,2,    255.2,2,    0.584,2,    0.297,2,   3.8258
  06MT20040710,  AR04,   783,  1,     13,     13,2,20040730,   0, 12.6680, -54.7683, 4786,   1595.5,   4.3528,  35.0081,2,  35.0027,2,    243.3,2,    248.0,2,    0.674,2,    0.347,2,   4.2195
  06MT20040710,  AR04,   783,  1,     14,     14,2,20040730,   0, 12.6680, -54.7683, 4786,   1399.9,   4.9181,  35.0080,2,  35.0063,2,    215.0,2,    220.2,2,    0.404,2,    0.210,2,   4.7972
  06MT20040710,  AR04,   783,  1,     15,     15,2,20040730,   0, 12.6680, -54.7683, 4786,   1148.4,   5.0654,  34.8063,2,  34.8239,2,    168.5,2,    166.5,2,    0.088,2,    0.047,2,   4.9673
  06MT20040710,  AR04,   783,  1,     16,     16,2,20040730,   0, 12.6680, -54.7683, 4786,    811.9,   6.0667,  34.6669,2,  34.6548,2,    131.4,2,    130.8,2,    0.176,2,    0.098,2,   5.9934
  06MT20040710,  AR04,   783,  1,     17,     17,2,20040730,   0, 12.6680, -54.7683, 4786,    551.5,   7.9702,  34.8045,2,  34.8292,2,    115.9,2,    121.9,6, -999.000,9, -999.000,9,   7.9134
  06MT20040710,  AR04,   783,  1,     18,     18,2,20040730,   0, 12.6680, -54.7683, 4786,    360.3,  10.5637,  35.1583,2,  35.0990,2,    116.4,2,    120.1,2,    1.157,2,    0.617,2,  10.5200
  06MT20040710,  AR04,   783,  1,     19,     19,2,20040730,   0, 12.6680, -54.7683, 4786,    204.8,  16.7592,  36.1507,2,-999.0000,9,    132.2,2,   -999.0,9, -999.000,9, -999.000,9,  16.7254
  06MT20040710,  AR04,   783,  1,     20,     20,2,20040730,   0, 12.6680, -54.7683, 4786,    203.2,  17.0525,  36.2096,2,  36.1345,2,    133.9,2,    124.5,2,    1.793,2,    1.042,2,  17.0186
  06MT20040710,  AR04,   783,  1,     21,     21,2,20040730,   0, 12.6680, -54.7683, 4786,    106.7,  25.9581,  36.6403,2,  36.7801,2,    179.6,2,    181.2,2, -999.000,9, -999.000,9,  25.9342
  06MT20040710,  AR04,   783,  1,     22,     22,2,20040730,   0, 12.6680, -54.7683, 4786,     12.2,  28.1317,  35.6831,2,  35.6693,2,    193.4,2,    201.9,2,    1.489,2,    0.953,2,  28.1288
  06MT20040710,  AR04,   784,  1,      1,      1,2,20040730,   0, 12.2505, -54.8775, 4772,   4770.8,   2.0904,  34.8642,2,-999.0000,9,    254.8,2,    255.0,6, -999.000,9, -999.000,9,   1.6632
  06MT20040710,  AR04,   784,  1,      2,      2,2,20040730,   0, 12.2505, -54.8775, 4772,   4770.5,   2.0902,  34.8649,2,-999.0000,9,    254.8,2,   -999.0,9, -999.000,9, -999.000,9,   1.6630
  06MT20040710,  AR04,   784,  1,      3,      3,2,20040730,   0, 12.2505, -54.8775, 4772,   4770.8,   2.0904,  34.8642,2,  34.8644,2,    254.8,2,   -999.0,9,    0.138,6,    0.080,6,   1.6632
  06MT20040710,  AR04,   784,  1,      4,      4,2,20040730,   0, 12.2505, -54.8775, 4772,   4497.4,   2.2013,  34.8823,2,  34.8764,2,    257.2,2,    260.1,2,    0.200,2,    0.111,2,   1.8036
  06MT20040710,  AR04,   784,  1,      5,      5,2,20040730,   0, 12.2505, -54.8775, 4772,   4097.1,   2.3012,  34.8967,2,  34.8963,2,    265.4,2,    263.7,2,    0.310,2,    0.164,2,   1.9473
  06MT20040710,  AR04,   784,  1,      6,      6,2,20040730,   0, 12.2505, -54.8775, 4772,   3797.2,   2.3734,  34.9038,2,  34.9008,2,    267.1,2,    266.4,2,    0.335,2,    0.174,2,   2.0515
  06MT20040710,  AR04,   784,  1,      7,      7,2,20040730,   0, 12.2505, -54.8775, 4772,   3497.9,   2.5051,  34.9136,2,  34.9087,2,    263.1,2,    262.0,2,    0.223,2,    0.117,2,   2.2127
  06MT20040710,  AR04,   784,  1,      8,      8,2,20040730,   0, 12.2505, -54.8775, 4772,   3087.0,   2.6912,  34.9269,2,  34.9228,2,    259.0,2,    253.3,2,    0.162,2,    0.086,2,   2.4381
  06MT20040710,  AR04,   784,  1,      9,      9,2,20040730,   0, 12.2505, -54.8775, 4772,   2697.5,   2.9381,  34.9443,2,  34.9411,2,    258.9,2,    259.5,2,    0.186,2,    0.100,2,   2.7197
  06MT20040710,  AR04,   784,  1,     10,     10,2,20040730,   0, 12.2505, -54.8775, 4772,   2323.8,   3.2260,  34.9616,2,  34.9797,2,    262.1,2,   -999.0,9, -999.000,9, -999.000,9,   3.0391
  06MT20040710,  AR04,   784,  1,     11,     11,2,20040730,   0, 12.2505, -54.8775, 4772,   2068.6,   3.4991,  34.9736,2,  34.9716,2,    263.0,2,    260.9,2,    0.434,2,    0.222,2,   3.3324
  06MT20040710,  AR04,   784,  1,     12,     12,2,20040730,   0, 12.2505, -54.8775, 4772,   1871.0,   3.8341,  34.9847,2,  34.9822,2,    261.4,2,    259.5,2,    0.657,2,    0.332,2,   3.6814
  06MT20040710,  AR04,   784,  1,     13,     13,2,20040730,   0, 12.2505, -54.8775, 4772,   1720.9,   4.1314,  34.9980,2,  34.9942,2,    254.0,2,    253.7,2,    0.661,2,    0.338,2,   3.9889
  06MT20040710,  AR04,   784,  1,     14,     14,2,20040730,   0, 12.2505, -54.8775, 4772,   1578.7,   4.4924,  35.0129,2,  35.0080,2,    240.9,2,    242.7,2,    0.583,2,    0.297,2,   4.3590
  06MT20040710,  AR04,   784,  1,     15,     15,2,20040730,   0, 12.2505, -54.8775, 4772,   1310.1,   5.1666,  34.9645,2,  34.9704,2,    198.9,2,    199.8,2,    0.265,2,    0.140,2,   5.0519
  06MT20040710,  AR04,   784,  1,     16,     16,2,20040730,   0, 12.2505, -54.8775, 4772,   1001.7,   5.1879,  34.6982,2,  34.7097,2,    152.0,2,    147.3,2,    0.054,2,    0.031,2,   5.1027
  06MT20040710,  AR04,   784,  1,     17,     17,2,20040730,   0, 12.2505, -54.8775, 4772,    700.9,   6.6510,  34.6982,2,  34.7299,2,    124.7,2,    125.3,2, -999.000,9, -999.000,9,   6.5851
  06MT20040710,  AR04,   784,  1,     18,     18,2,20040730,   0, 12.2505, -54.8775, 4772,    504.1,   8.4856,  34.8680,2,  34.8603,2,    113.6,2,    117.5,2,    0.740,2,    0.397,2,   8.4319
  06MT20040710,  AR04,   784,  1,     19,     19,2,20040730,   0, 12.2505, -54.8775, 4772,    299.1,  11.4005,  35.2855,2,-999.0000,9,    117.5,2,   -999.0,9, -999.000,9, -999.000,9,  11.3625
  06MT20040710,  AR04,   784,  1,     20,     20,2,20040730,   0, 12.2505, -54.8775, 4772,    296.3,  11.4835,  35.2988,2,  35.2725,2,    117.6,2,    123.7,2,    1.392,2,    0.751,2,  11.4457
  06MT20040710,  AR04,   784,  1,     21,     21,2,20040730,   0, 12.2505, -54.8775, 4772,     10.8,  28.2025,  35.8031,2,  35.8200,2,    198.8,2,    203.3,2,    1.473,2,    0.948,2,  28.1999
  06MT20040710,  AR04,   785,  1,      1,      1,2,20040731,   0, 11.9995, -54.9422, 4774,   4772.5,   2.0867,  34.8637,2,-999.0000,9,    254.6,2,    254.5,2, -999.000,9, -999.000,9,   1.6594
  06MT20040710,  AR04,   785,  1,      2,      2,2,20040731,   0, 11.9995, -54.9422, 4774,   4772.6,   2.0871,  34.8636,2,-999.0000,9,    254.6,2,   -999.0,9, -999.000,9, -999.000,9,   1.6598
  06MT20040710,  AR04,   785,  1,      3,      3,2,20040731,   0, 11.9995, -54.9422, 4774,   4773.1,   2.0871,  34.8642,2,  34.8632,2,    254.6,2,    254.0,2,    0.133,2,    0.076,2,   1.6597
  06MT20040710,  AR04,   785,  1,      4,      4,2,20040731,   0, 11.9995, -54.9422, 4774,   4398.5,   2.2305,  34.8865,2,  34.8839,2,    259.4,2,    261.9,2,    0.242,2,    0.129,2,   1.8436
  06MT20040710,  AR04,   785,  1,      5,      5,2,20040731,   0, 11.9995, -54.9422, 4774,   3997.3,   2.2982,  34.8971,2,  34.8980,2,    265.2,2,    263.5,2,    0.294,2,    0.155,2,   1.9558
  06MT20040710,  AR04,   785,  1,      6,      6,2,20040731,   0, 11.9995, -54.9422, 4774,   3596.8,   2.4219,  34.9058,2,  34.9053,2,    262.1,2,    261.5,2,    0.217,2,    0.113,2,   2.1209
  06MT20040710,  AR04,   785,  1,      7,      7,2,20040731,   0, 11.9995, -54.9422, 4774,   3197.6,   2.6298,  34.9212,2,  34.9183,2,    256.6,2,    256.8,6,    0.147,2,    0.077,2,   2.3665
  06MT20040710,  AR04,   785,  1,      8,      8,2,20040731,   0, 11.9995, -54.9422, 4774,   2793.8,   2.8709,  34.9400,2,  34.9942,3,    260.6,2,    261.4,2,    0.239,2,    0.124,2,   2.6438
  06MT20040710,  AR04,   785,  1,      9,      9,2,20040731,   0, 11.9995, -54.9422, 4774,   2393.0,   3.1673,  34.9586,2,  34.9555,2,    262.9,2,    262.0,2,    0.314,2,    0.162,2,   2.9748
  06MT20040710,  AR04,   785,  1,     10,     10,2,20040731,   0, 11.9995, -54.9422, 4774,   2179.7,   3.3520,  34.9682,2,  34.9673,2,    264.1,2,    261.1,2,    0.363,2,    0.188,2,   3.1770
  06MT20040710,  AR04,   785,  1,     11,     11,2,20040731,   0, 11.9995, -54.9422, 4774,   1997.2,   3.5640,  34.9758,2,  34.9730,2,    264.8,2,    260.8,2,    0.486,2,    0.247,2,   3.4032
  06MT20040710,  AR04,   785,  1,     12,     12,2,20040731,   0, 11.9995, -54.9422, 4774,   1817.5,   3.8885,  34.9871,2,  34.9854,2,    261.8,2,    258.4,2,    0.663,2,    0.338,2,   3.7401
  06MT20040710,  AR04,   785,  1,     13,     13,2,20040731,   0, 11.9995, -54.9422, 4774,   1649.0,   4.2457,  35.0039,2,  34.9966,2,    251.7,2,    249.4,2,    0.620,2,    0.318,2,   4.1086
  06MT20040710,  AR04,   785,  1,     14,     14,2,20040731,   0, 11.9995, -54.9422, 4774,   1495.4,   4.6443,  35.0152,2,  35.0118,2,    236.7,2,    236.0,2,    0.611,2,    0.315,2,   4.5172
  06MT20040710,  AR04,   785,  1,     15,     15,2,20040731,   0, 11.9995, -54.9422, 4774,   1235.6,   5.2117,  34.9317,2,  34.9352,2,    191.2,2,    189.1,2, -999.000,9, -999.000,9,   5.1038
  06MT20040710,  AR04,   785,  1,     16,     16,2,20040731,   0, 11.9995, -54.9422, 4774,    899.7,   5.2331,  34.6444,2,  34.6371,2,    143.1,2,    138.4,2, -999.000,9, -999.000,9,   5.1570
  06MT20040710,  AR04,   785,  1,     17,     17,2,20040731,   0, 11.9995, -54.9422, 4774,    597.4,   7.2244,  34.7382,2,-999.0000,9,    116.7,2,   -999.0,9, -999.000,9, -999.000,9,   7.1661
  06MT20040710,  AR04,   785,  1,     18,     18,2,20040731,   0, 11.9995, -54.9422, 4774,    596.0,   7.2580,  34.7408,2,  34.7240,2,    116.7,2,    120.8,2,    0.422,2,    0.231,2,   7.1997
  06MT20040710,  AR04,   785,  1,     19,     19,2,20040731,   0, 11.9995, -54.9422, 4774,    377.9,   9.1327,  34.9324,2,-999.0000,9,    106.0,2,   -999.0,9, -999.000,9, -999.000,9,   9.0909
  06MT20040710,  AR04,   785,  1,     20,     20,2,20040731,   0, 11.9995, -54.9422, 4774,    377.8,   9.1349,  34.9344,2,  34.9179,2,    106.0,2,    111.1,2,    0.860,2,    0.459,2,   9.0931
  06MT20040710,  AR04,   785,  1,     21,     21,2,20040731,   0, 11.9995, -54.9422, 4774,    201.3,  15.4073,  35.9277,2,  35.7892,2,    126.5,2,    111.1,6, -999.000,9, -999.000,9,  15.3760