BOTTLE,20140522SIOCCHGR
# 5/22/14 Changed O2 PI from H. Nowak to R. Steinfeldt
#BOTTLE,20111118PRINUNIVRMK
# 11/18/11 Initialized README file  
# Data source: R. Steinfeldt (11/2011) + CTD from CCHDO 
# SHIP: Meteor 
# Cruise: 62_1 
# Region: Western Tropical Atlantic; AR04 
# EXPOCODE: 06MT20040710 
# DATES: 7/10 - 8/7/2004 
# Chief Scientist: M. Rhein 
# 101 stations with 24 place Rosette (2 slots occupied by ADCP) 
# Hydro: Who - R.Steinfeldt; Status - final 
# 	Notes: 	 
# Nuts: Who - ; Status -   
# 	Notes: not measured 
# O2: Who - R. Steinfeldt; Status -  final 
# 	Notes:  
# CFC: Who - K.Bulsiewicz; Status - final 
# 	Notes:    
# References: 
EXPOCODE,SECT_ID,STNNBR,CASTNO,SAMPNO,BTLNBR,BTLNBR_FLAG_W,DATE,TIME,LATITUDE,LONGITUDE,DEPTH,CTDPRS,CTDTMP,CTDSAL,CTDSAL_FLAG_W,SALNTY,SALNTY_FLAG_W,CTDOXY,CTDOXY_FLAG_W,OXYGEN,OXYGEN_FLAG_W,CFC-11,CFC-11_FLAG_W,CFC-12,CFC-12_FLAG_W,THETA
,,,,,,,,,,,METERS,DBAR,ITS-90,PSS-78,,PSS-78,,UMOL/KG,,UMOL/KG,,PMOL/KG,,PMOL/KG,,DEG C
  06MT20040710,  AR04,   663,  2,      1,      1,2,20040710,   0, 13.7983, -60.6892,  999,    979.8,   5.2474,  34.8775,2,-999.0000,9,    175.9,2,   -999.0,9, -999.000,9, -999.000,9,   5.1635
  06MT20040710,  AR04,   663,  2,      2,      2,2,20040710,   0, 13.7983, -60.6892,  999,    998.1,   5.2884,  34.8988,2,-999.0000,9,    181.3,2,   -999.0,9, -999.000,9, -999.000,9,   5.2024
  06MT20040710,  AR04,   663,  2,      3,      3,2,20040710,   0, 13.7983, -60.6892,  999,    997.7,   5.2894,  34.8970,2,-999.0000,9,    181.1,2,   -999.0,9, -999.000,9, -999.000,9,   5.2035
  06MT20040710,  AR04,   663,  2,      4,      4,2,20040710,   0, 13.7983, -60.6892,  999,    998.0,   5.2891,  34.8986,2,-999.0000,9,    181.2,2,    176.9,2, -999.000,9, -999.000,9,   5.2031
  06MT20040710,  AR04,   663,  2,      5,      5,2,20040710,   0, 13.7983, -60.6892,  999,    998.5,   5.2884,  34.8992,2,-999.0000,9,    181.4,2,   -999.0,9,    0.513,4,    0.175,2,   5.2024
  06MT20040710,  AR04,   663,  2,      6,      6,2,20040710,   0, 13.7983, -60.6892,  999,    898.2,   5.4501,  34.7818,2,-999.0000,9,    153.2,2,    156.3,2, -999.000,9, -999.000,9,   5.3724
  06MT20040710,  AR04,   663,  2,      7,      7,2,20040710,   0, 13.7983, -60.6892,  999,    798.3,   5.7929,  34.7249,2,  34.7167,2,    139.4,2,   -999.0,9,    0.152,2,    0.067,2,   5.7225
  06MT20040710,  AR04,   663,  2,      8,      8,2,20040710,   0, 13.7983, -60.6892,  999,    796.2,   5.8065,  34.7256,2,-999.0000,9,    139.2,2,   -999.0,9, -999.000,9, -999.000,9,   5.7362
  06MT20040710,  AR04,   663,  2,      9,      9,2,20040710,   0, 13.7983, -60.6892,  999,    701.4,   6.0209,  34.6412,2,-999.0000,9,    132.9,2,   -999.0,9,    0.280,2,    0.143,2,   5.9584
  06MT20040710,  AR04,   663,  2,     10,     10,2,20040710,   0, 13.7983, -60.6892,  999,    599.2,   7.4110,  34.7532,2,-999.0000,9,    124.3,2,    123.5,2,    0.471,2,    0.244,2,   7.3516
  06MT20040710,  AR04,   663,  2,     11,     11,2,20040710,   0, 13.7983, -60.6892,  999,    505.3,   8.5815,  34.8805,2,-999.0000,9,    122.5,2,    135.6,2, -999.000,9, -999.000,9,   8.5273
  06MT20040710,  AR04,   663,  2,     12,     12,2,20040710,   0, 13.7983, -60.6892,  999,    400.6,   9.5108,  34.9685,2,-999.0000,9,    126.7,2,   -999.0,9, -999.000,9, -999.000,9,   9.4653
  06MT20040710,  AR04,   663,  2,     13,     13,2,20040710,   0, 13.7983, -60.6892,  999,    309.0,  12.8855,  35.5146,2,-999.0000,9,    129.9,2,   -999.0,9,    1.507,2,    0.833,2,  12.8429
  06MT20040710,  AR04,   663,  2,     14,     14,2,20040710,   0, 13.7983, -60.6892,  999,    193.2,  18.6526,  36.5075,2,-999.0000,9,    148.7,2,    143.8,2, -999.000,9, -999.000,9,  18.6183
  06MT20040710,  AR04,   663,  2,     15,     15,2,20040710,   0, 13.7983, -60.6892,  999,    151.0,  22.1964,  36.7420,2,  36.7379,2,    159.9,2,   -999.0,9, -999.000,9, -999.000,9,  22.1661
  06MT20040710,  AR04,   663,  2,     16,     16,2,20040710,   0, 13.7983, -60.6892,  999,    142.5,  22.2950,  36.7206,2,-999.0000,9,    162.0,2,   -999.0,9,    1.866,2,    1.153,2,  22.2663
  06MT20040710,  AR04,   663,  2,     17,     17,2,20040710,   0, 13.7983, -60.6892,  999,    102.0,  26.1874,  36.4009,2,-999.0000,9,    190.4,2,   -999.0,9, -999.000,9, -999.000,9,  26.1644
  06MT20040710,  AR04,   663,  2,     18,     18,2,20040710,   0, 13.7983, -60.6892,  999,    101.9,  26.1893,  36.4004,2,-999.0000,9,    190.4,2,    197.0,2, -999.000,9, -999.000,9,  26.1663
  06MT20040710,  AR04,   663,  2,     19,     19,2,20040710,   0, 13.7983, -60.6892,  999,     50.8,  27.1717,  36.2848,2,-999.0000,9,    195.7,2,    203.4,2, -999.000,9, -999.000,9,  27.1599
  06MT20040710,  AR04,   663,  2,     20,     20,2,20040710,   0, 13.7983, -60.6892,  999,      5.4,  28.1122,  33.6964,2,  33.7149,3,    201.8,2,   -999.0,9, -999.000,9, -999.000,9,  28.1109
  06MT20040710,  AR04,   663,  2,     21,     21,2,20040710,   0, 13.7983, -60.6892,  999,     28.4,  28.1157,  33.7573,2,-999.0000,9,    200.4,2,   -999.0,9, -999.000,9, -999.000,9,  28.1090
  06MT20040710,  AR04,   663,  2,     22,     22,2,20040710,   0, 13.7983, -60.6892,  999,     28.4,  28.1148,  33.7608,2,-999.0000,9,    200.4,2,   -999.0,9,    1.568,2,    1.021,2,  28.1081
  06MT20040710,  AR04,   664,  1,      1,      1,2,20040711,   0, 13.8118, -60.8178,  503,    502.2,   8.0052,  34.8382,2,  34.8357,2,    124.9,2,   -999.0,9, -999.000,9, -999.000,9,   7.9535
  06MT20040710,  AR04,   664,  1,      2,      2,2,20040711,   0, 13.8118, -60.8178,  503,    502.6,   7.9956,  34.8382,2,-999.0000,9,    124.9,2,    124.7,2, -999.000,9, -999.000,9,   7.9439
  06MT20040710,  AR04,   664,  1,      3,      3,2,20040711,   0, 13.8118, -60.8178,  503,    369.9,  11.0620,  35.2266,2,-999.0000,9,    130.1,2,   -999.0,9, -999.000,9, -999.000,9,  11.0157
  06MT20040710,  AR04,   664,  1,      4,      4,2,20040711,   0, 13.8118, -60.8178,  503,    207.5,  18.4791,  36.4534,2,-999.0000,9,    145.1,2,    140.6,2, -999.000,9, -999.000,9,  18.4425
  06MT20040710,  AR04,   664,  1,      5,      5,2,20040711,   0, 13.8118, -60.8178,  503,    205.3,  18.5755,  36.4782,2,  36.4273,3,    145.2,2,   -999.0,9, -999.000,9, -999.000,9,  18.5391
  06MT20040710,  AR04,   664,  1,      6,      6,2,20040711,   0, 13.8118, -60.8178,  503,      9.6,  28.0690,  33.6574,2,-999.0000,9,    201.0,2,    208.4,6, -999.000,9, -999.000,9,  28.0667
  06MT20040710,  AR04,   665,  1,      1,      1,2,20040711,   0, 13.6763, -60.5405, 1500,   1499.0,   4.2701,  34.9937,2,-999.0000,9,    254.5,2,   -999.0,9, -999.000,9, -999.000,9,   4.1469
  06MT20040710,  AR04,   665,  1,      2,      2,2,20040711,   0, 13.6763, -60.5405, 1500,   1498.8,   4.2714,  34.9995,2,  34.9988,2,    254.4,2,    247.5,2, -999.000,9, -999.000,9,   4.1482
  06MT20040710,  AR04,   665,  1,      3,      3,2,20040711,   0, 13.6763, -60.5405, 1500,   1205.8,   5.1012,  34.9845,2,-999.0000,9,    207.8,2,    209.3,2, -999.000,9, -999.000,9,   4.9971
  06MT20040710,  AR04,   665,  1,      4,      4,2,20040711,   0, 13.6763, -60.5405, 1500,    889.6,   5.6062,  34.7658,2,  34.7763,2,    149.6,2,   -999.0,9, -999.000,9, -999.000,9,   5.5283
  06MT20040710,  AR04,   665,  1,      5,      5,2,20040711,   0, 13.6763, -60.5405, 1500,    603.6,   6.9273,  34.7367,2,-999.0000,9,    128.1,2,    125.9,2, -999.000,9, -999.000,9,   6.8697
  06MT20040710,  AR04,   665,  1,      6,      6,2,20040711,   0, 13.6763, -60.5405, 1500,     95.3,  26.3681,  36.4530,2,-999.0000,9,    192.0,2,    187.1,2, -999.000,9, -999.000,9,  26.3465
  06MT20040710,  AR04,   665,  1,      7,      7,2,20040711,   0, 13.6763, -60.5405, 1500,     32.1,  27.9856,  34.6264,2,  33.6128,3,    201.0,2,   -999.0,9, -999.000,9, -999.000,9,  27.9781
  06MT20040710,  AR04,   666,  1,      1,      1,2,20040711,   0, 13.5447, -60.3872, 1942,   1940.8,   3.8143,  34.9800,2,  34.9801,2,    255.2,2,   -999.0,9, -999.000,9, -999.000,9,   3.6552
  06MT20040710,  AR04,   666,  1,      2,      2,2,20040711,   0, 13.5447, -60.3872, 1942,   1940.8,   3.8143,  34.9801,2,-999.0000,9,    255.2,2,    245.3,4, -999.000,9, -999.000,9,   3.6552
  06MT20040710,  AR04,   666,  1,      3,      3,2,20040711,   0, 13.5447, -60.3872, 1942,   1796.9,   3.8464,  34.9793,2,-999.0000,9,    258.7,2,    257.5,2, -999.000,9, -999.000,9,   3.7005
  06MT20040710,  AR04,   666,  1,      4,      4,2,20040711,   0, 13.5447, -60.3872, 1942,   1598.9,   3.9633,  34.9824,2,  34.9820,2,    259.5,2,   -999.0,9, -999.000,9, -999.000,9,   3.8344
  06MT20040710,  AR04,   666,  1,      5,      5,2,20040711,   0, 13.5447, -60.3872, 1942,   1096.0,   5.3897,  34.9268,2,-999.0000,9,    183.9,2,    183.3,2, -999.000,9, -999.000,9,   5.2937
  06MT20040710,  AR04,   666,  1,      6,      6,2,20040711,   0, 13.5447, -60.3872, 1942,    206.4,  16.9728,  36.1281,2,  36.1009,2,    140.6,2,   -999.0,9, -999.000,9, -999.000,9,  16.9385
  06MT20040710,  AR04,   666,  1,      7,      7,2,20040711,   0, 13.5447, -60.3872, 1942,     11.1,  27.9731,  33.6847,2,-999.0000,9,    201.8,2,    206.2,2, -999.000,9, -999.000,9,  27.9705
  06MT20040710,  AR04,   667,  1,      1,      1,2,20040711,   0, 13.4147, -60.2267, 2151,   2150.7,   3.8358,  34.9800,2,-999.0000,9,    255.9,2,    255.6,6, -999.000,9, -999.000,9,   3.6559
  06MT20040710,  AR04,   667,  1,      2,      2,2,20040711,   0, 13.4147, -60.2267, 2151,   2150.1,   3.8354,  34.9806,2,  34.9793,2,    255.9,2,   -999.0,9,    0.606,2,    0.287,2,   3.6555
  06MT20040710,  AR04,   667,  1,      3,      3,2,20040711,   0, 13.4147, -60.2267, 2151,   1898.5,   3.8591,  34.9795,2,-999.0000,9,    256.5,2,   -999.0,9,    0.640,2,    0.322,2,   3.7034
  06MT20040710,  AR04,   667,  1,      4,      4,2,20040711,   0, 13.4147, -60.2267, 2151,   1698.7,   3.9425,  34.9821,2,-999.0000,9,    258.7,2,   -999.0,9,    0.779,2,    0.391,2,   3.8046
  06MT20040710,  AR04,   667,  1,      5,      5,2,20040711,   0, 13.4147, -60.2267, 2151,   1393.8,   4.6509,  35.0069,2,-999.0000,9,    235.5,2,   -999.0,9,    0.715,2,    0.362,2,   4.5334
  06MT20040710,  AR04,   667,  1,      6,      6,2,20040711,   0, 13.4147, -60.2267, 2151,   1389.7,   4.6538,  35.0075,2,-999.0000,9,    235.0,2,   -999.0,9, -999.000,9, -999.000,9,   4.5366
  06MT20040710,  AR04,   667,  1,      7,      7,2,20040711,   0, 13.4147, -60.2267, 2151,   1394.3,   4.6504,  35.0063,2,  35.0047,2,    235.6,2,   -999.0,9, -999.000,9, -999.000,9,   4.5328
  06MT20040710,  AR04,   667,  1,      8,      8,2,20040711,   0, 13.4147, -60.2267, 2151,   1000.1,   5.5186,  34.7863,2,-999.0000,9,    152.7,2,   -999.0,9,    0.108,2,    0.057,2,   5.4309
  06MT20040710,  AR04,   667,  1,      9,      9,2,20040711,   0, 13.4147, -60.2267, 2151,   1000.0,   5.5194,  34.7859,2,  34.8056,3,    152.7,2,   -999.0,9, -999.000,9, -999.000,9,   5.4317
  06MT20040710,  AR04,   667,  1,     10,     10,2,20040711,   0, 13.4147, -60.2267, 2151,    593.4,   7.7542,  34.7825,2,-999.0000,9,    123.6,2,   -999.0,9,    0.107,4,    0.056,4,   7.6939
  06MT20040710,  AR04,   667,  1,     11,     11,2,20040711,   0, 13.4147, -60.2267, 2151,    593.4,   7.7532,  34.7816,2,-999.0000,9,    123.6,2,   -999.0,9, -999.000,9, -999.000,9,   7.6929
  06MT20040710,  AR04,   667,  1,     12,     12,2,20040711,   0, 13.4147, -60.2267, 2151,    592.4,   7.7652,  34.7840,2,  34.7580,3,    123.6,2,    121.7,2, -999.000,9, -999.000,9,   7.7049
  06MT20040710,  AR04,   667,  1,     13,     13,2,20040711,   0, 13.4147, -60.2267, 2151,      6.9,  27.9338,  33.9411,2,-999.0000,9,    202.8,2,   -999.0,9,    1.565,2,    1.008,2,  27.9322
  06MT20040710,  AR04,   667,  1,     14,     14,2,20040711,   0, 13.4147, -60.2267, 2151,      6.9,  27.9338,  33.9411,2,-999.0000,9,    202.8,2,    204.5,2, -999.000,9, -999.000,9,  27.9322
  06MT20040710,  AR04,   668,  1,      1,      1,2,20040711,   0, 13.2803, -60.0735, 2197,   2195.5,   3.8314,  34.9812,2,-999.0000,9,    256.4,2,    255.4,2, -999.000,9, -999.000,9,   3.6471
  06MT20040710,  AR04,   668,  1,      2,      2,2,20040711,   0, 13.2803, -60.0735, 2197,   2194.5,   3.8319,  34.9809,2,  34.9801,2,    256.3,2,   -999.0,9,    0.485,2,    0.258,2,   3.6477
  06MT20040710,  AR04,   668,  1,      3,      3,2,20040711,   0, 13.2803, -60.0735, 2197,   2018.8,   3.8301,  34.9801,2,-999.0000,9,    254.6,2,   -999.0,9,    0.564,2,    0.291,2,   3.6632
  06MT20040710,  AR04,   668,  1,      4,      4,2,20040711,   0, 13.2803, -60.0735, 2197,   1817.0,   3.8827,  34.9814,2,-999.0000,9,    257.0,2,   -999.0,9,    0.656,2,    0.338,2,   3.7344
  06MT20040710,  AR04,   668,  1,      5,      5,2,20040711,   0, 13.2803, -60.0735, 2197,   1623.9,   4.0814,  34.9880,2,-999.0000,9,    255.2,2,    258.9,2,    0.861,2,    0.436,2,   3.9487
  06MT20040710,  AR04,   668,  1,      6,      6,2,20040711,   0, 13.2803, -60.0735, 2197,   1625.0,   4.0797,  34.9883,2,-999.0000,9,    255.2,2,   -999.0,9, -999.000,9, -999.000,9,   3.9470
  06MT20040710,  AR04,   668,  1,      7,      7,2,20040711,   0, 13.2803, -60.0735, 2197,   1212.0,   5.2846,  34.9376,2,  34.9574,3,    187.9,2,   -999.0,9,    0.302,2,    0.153,2,   5.1783
  06MT20040710,  AR04,   668,  1,      8,      8,2,20040711,   0, 13.2803, -60.0735, 2197,    802.1,   5.9073,  34.6019,2,  34.6161,2,    136.5,2,   -999.0,9,    0.230,2,    0.122,2,   5.8359
  06MT20040710,  AR04,   668,  1,      9,      9,2,20040711,   0, 13.2803, -60.0735, 2197,    801.9,   5.9065,  34.6025,2,-999.0000,9,    136.5,2,   -999.0,9, -999.000,9, -999.000,9,   5.8352
  06MT20040710,  AR04,   668,  1,     10,     10,2,20040711,   0, 13.2803, -60.0735, 2197,     16.6,  27.9410,  34.3138,2,  34.3134,2,    201.6,2,   -999.0,9, -999.000,9, -999.000,9,  27.9371
  06MT20040710,  AR04,   668,  1,     11,     11,2,20040711,   0, 13.2803, -60.0735, 2197,     16.5,  27.9403,  34.3113,2,-999.0000,9,    201.6,2,   -999.0,9,    1.558,2,    1.010,2,  27.9364
  06MT20040710,  AR04,   668,  1,     12,     12,2,20040711,   0, 13.2803, -60.0735, 2197,     16.5,  27.9403,  34.3113,2,-999.0000,9,    201.6,2,    205.6,2, -999.000,9, -999.000,9,  27.9364
  06MT20040710,  AR04,   669,  1,      1,      1,2,20040711,   0, 13.1460, -59.9155, 1688,   1687.0,   3.9755,  34.9838,2,-999.0000,9,    257.8,2,    256.6,2, -999.000,9, -999.000,9,   3.8383
  06MT20040710,  AR04,   669,  1,      2,      2,2,20040711,   0, 13.1460, -59.9155, 1688,   1687.0,   3.9756,  34.9837,2,  34.9756,2,    257.8,2,   -999.0,9,    0.757,2,    0.393,2,   3.8384
  06MT20040710,  AR04,   669,  1,      3,      3,2,20040711,   0, 13.1460, -59.9155, 1688,   1489.1,   4.5911,  35.0054,2,-999.0000,9,    237.9,2,   -999.0,9,    0.758,2,    0.387,2,   4.4652
  06MT20040710,  AR04,   669,  1,      4,      4,2,20040711,   0, 13.1460, -59.9155, 1688,   1399.2,   4.7723,  35.0077,2,-999.0000,9,    228.3,2,   -999.0,9,    0.685,2,    0.351,2,   4.6530
  06MT20040710,  AR04,   669,  1,      5,      5,2,20040711,   0, 13.1460, -59.9155, 1688,   1198.8,   5.3611,  34.9138,2,-999.0000,9,    179.2,2,   -999.0,9,    0.300,2,    0.158,2,   5.2555
  06MT20040710,  AR04,   669,  1,      6,      6,2,20040711,   0, 13.1460, -59.9155, 1688,   1198.0,   5.3707,  34.9094,2,-999.0000,9,    179.0,2,    186.1,2, -999.000,9, -999.000,9,   5.2651
  06MT20040710,  AR04,   669,  1,      7,      7,2,20040711,   0, 13.1460, -59.9155, 1688,    898.6,   5.3311,  34.5683,2,-999.0000,9,    144.1,2,   -999.0,9, -999.000,9, -999.000,9,   5.2545
  06MT20040710,  AR04,   669,  1,      8,      8,2,20040711,   0, 13.1460, -59.9155, 1688,    711.7,   6.2805,  34.5859,2,-999.0000,9,    134.8,2,   -999.0,9,    0.492,2,    0.256,2,   6.2157
  06MT20040710,  AR04,   669,  1,      9,      9,2,20040711,   0, 13.1460, -59.9155, 1688,    509.0,   7.2900,  34.6640,2,  34.6590,2,    127.1,2,   -999.0,9,    0.663,2,    0.352,2,   7.2404
  06MT20040710,  AR04,   669,  1,     10,     10,2,20040711,   0, 13.1460, -59.9155, 1688,    509.5,   7.2670,  34.6559,2,-999.0000,9,    127.2,2,    128.8,2, -999.000,9, -999.000,9,   7.2174
  06MT20040710,  AR04,   669,  1,     11,     11,2,20040711,   0, 13.1460, -59.9155, 1688,    206.0,  16.0309,  36.0507,2,-999.0000,9,    137.6,2,   -999.0,9,    1.823,2,    1.060,2,  15.9980
  06MT20040710,  AR04,   669,  1,     12,     12,2,20040711,   0, 13.1460, -59.9155, 1688,    206.4,  15.9903,  36.0404,2,  35.8283,3,    137.5,2,   -999.0,9, -999.000,9, -999.000,9,  15.9574
  06MT20040710,  AR04,   669,  1,     13,     13,2,20040711,   0, 13.1460, -59.9155, 1688,    104.5,  26.0605,  36.4170,2,-999.0000,9,    187.4,2,   -999.0,9,    1.694,2,    1.088,2,  26.0370
  06MT20040710,  AR04,   669,  1,     14,     14,2,20040711,   0, 13.1460, -59.9155, 1688,     95.1,  26.2581,  36.4092,2,-999.0000,9,    190.6,2,   -999.0,9, -999.000,9, -999.000,9,  26.2366
  06MT20040710,  AR04,   669,  1,     15,     15,2,20040711,   0, 13.1460, -59.9155, 1688,      9.3,  28.0126,  33.8072,2,-999.0000,9,    202.0,2,   -999.0,9,    1.575,2,    1.020,2,  28.0104
  06MT20040710,  AR04,   669,  1,     16,     16,2,20040711,   0, 13.1460, -59.9155, 1688,      9.2,  28.0173,  33.8059,2,-999.0000,9,    202.0,2,    202.1,2, -999.000,9, -999.000,9,  28.0151
  06MT20040710,  AR04,   670,  1,      1,      1,2,20040711,   0, 13.0810, -59.8323, 1366,   1364.1,   4.8970,  34.9942,2,-999.0000,9,    220.6,2,    218.3,2, -999.000,9, -999.000,9,   4.7798
  06MT20040710,  AR04,   670,  1,      2,      2,2,20040711,   0, 13.0810, -59.8323, 1366,   1364.1,   4.8973,  34.9940,2,-999.0000,9,    220.6,2,   -999.0,9,    0.518,2,    0.266,2,   4.7801
  06MT20040710,  AR04,   670,  1,      3,      3,2,20040711,   0, 13.0810, -59.8323, 1366,   1201.5,   5.2969,  34.9051,2,  34.9209,2,    177.8,2,   -999.0,9,    0.241,2,    0.124,2,   5.1916
  06MT20040710,  AR04,   670,  1,      4,      4,2,20040711,   0, 13.0810, -59.8323, 1366,   1001.1,   5.7020,  34.6757,2,-999.0000,9,    144.5,2,   -999.0,9,    0.118,6,    0.061,6,   5.6130
  06MT20040710,  AR04,   670,  1,      5,      5,2,20040711,   0, 13.0810, -59.8323, 1366,   1001.1,   5.7020,  34.6757,2,-999.0000,9,    144.5,2,    136.0,2, -999.000,9, -999.000,9,   5.6130
  06MT20040710,  AR04,   670,  1,      6,      6,2,20040711,   0, 13.0810, -59.8323, 1366,    694.3,   6.9179,  34.6861,2,  34.6660,3,    128.1,2,   -999.0,9,    0.421,6,    0.221,6,   6.8513
  06MT20040710,  AR04,   670,  1,      7,      7,2,20040711,   0, 13.0810, -59.8323, 1366,    694.4,   6.9172,  34.6856,2,-999.0000,9,    128.1,2,    124.4,2, -999.000,9, -999.000,9,   6.8506
  06MT20040710,  AR04,   670,  1,      8,      8,2,20040711,   0, 13.0810, -59.8323, 1366,    401.8,   9.8710,  35.0181,2,-999.0000,9,    123.2,2,   -999.0,9,    1.120,2,    0.600,2,   9.8242
  06MT20040710,  AR04,   670,  1,      9,      9,2,20040711,   0, 13.0810, -59.8323, 1366,    154.0,  20.7433,  36.7149,2,  36.6687,3,    155.6,2,   -999.0,9,    1.917,2,    1.168,2,  20.7138
  06MT20040710,  AR04,   670,  1,     10,     10,2,20040711,   0, 13.0810, -59.8323, 1366,    151.2,  21.1563,  36.7624,2,-999.0000,9,    157.2,2,    144.5,2, -999.000,9, -999.000,9,  21.1270
  06MT20040710,  AR04,   670,  1,     11,     11,2,20040711,   0, 13.0810, -59.8323, 1366,     10.8,  28.0407,  33.5812,2,-999.0000,9,    202.8,2,   -999.0,9,    1.622,6,    1.019,6,  28.0382
  06MT20040710,  AR04,   670,  1,     12,     12,2,20040711,   0, 13.0810, -59.8323, 1366,     10.8,  28.0407,  33.5812,2,-999.0000,9,    202.8,2,    204.7,6, -999.000,9, -999.000,9,  28.0382