BOTTLE,20140522SIOCCHGR
EXPOCODE,SECT_ID,STNNBR,CASTNO,SAMPNO,BTLNBR,BTLNBR_FLAG_W,DATE,TIME,LATITUDE,LONGITUDE,DEPTH,CTDPRS,CTDTMP,CTDSAL,CTDSAL_FLAG_W,SALNTY,SALNTY_FLAG_W,CTDOXY,CTDOXY_FLAG_W,OXYGEN,OXYGEN_FLAG_W,CFC-11,CFC-11_FLAG_W,CFC-12,CFC-12_FLAG_W,THETA
,,,,,,,,,,,METERS,DBAR,ITS-90,PSS-78,,PSS-78,,UMOL/KG,,UMOL/KG,,PMOL/KG,,PMOL/KG,,DEG C
  06MT20040710,  AR04,   685,  1,      1,      1,2,20040713,   0, 12.4772, -60.8113, 2268,   2267.1,   3.8284,  34.9816,2,-999.0000,9,    254.4,2,   -999.0,9, -999.000,9, -999.000,9,   3.6370
  06MT20040710,  AR04,   685,  1,      2,      2,2,20040713,   0, 12.4772, -60.8113, 2268,   2267.3,   3.8284,  34.9813,2,  34.9779,2,    254.4,2,   -999.0,9,    0.424,2,    0.227,2,   3.6370
  06MT20040710,  AR04,   685,  1,      3,      3,2,20040713,   0, 12.4772, -60.8113, 2268,   1898.2,   3.8204,  34.9803,2,-999.0000,9,    254.2,2,   -999.0,9,    0.497,2,    0.261,2,   3.6653
  06MT20040710,  AR04,   685,  1,      4,      4,2,20040713,   0, 12.4772, -60.8113, 2268,   1604.4,   4.0063,  34.9848,2,-999.0000,9,    258.1,2,   -999.0,9,    0.813,2,    0.410,2,   3.8764
  06MT20040710,  AR04,   685,  1,      5,      5,2,20040713,   0, 12.4772, -60.8113, 2268,   1604.5,   4.0061,  34.9849,2,-999.0000,9,    258.1,2,    257.8,2, -999.000,9, -999.000,9,   3.8762
  06MT20040710,  AR04,   685,  1,      6,      6,2,20040713,   0, 12.4772, -60.8113, 2268,   1296.7,   4.8002,  35.0051,2,-999.0000,9,    226.6,2,   -999.0,9,    0.606,2,    0.314,2,   4.6903
  06MT20040710,  AR04,   685,  1,      7,      7,2,20040713,   0, 12.4772, -60.8113, 2268,   1099.4,   5.2226,  34.9125,2,-999.0000,9,    183.5,2,   -999.0,9,    0.222,2,    0.115,2,   5.1276
  06MT20040710,  AR04,   685,  1,      8,      8,2,20040713,   0, 12.4772, -60.8113, 2268,   1097.6,   5.2198,  34.9123,2,-999.0000,9,    183.1,2,    184.1,2, -999.000,9, -999.000,9,   5.1250
  06MT20040710,  AR04,   685,  1,      9,      9,2,20040713,   0, 12.4772, -60.8113, 2268,    802.1,   5.6824,  34.6632,2,-999.0000,9,    137.7,2,   -999.0,9,    0.122,2,    0.066,2,   5.6123
  06MT20040710,  AR04,   685,  1,     10,     10,2,20040713,   0, 12.4772, -60.8113, 2268,    568.9,   7.0203,  34.6883,2,-999.0000,9,    127.4,2,   -999.0,9, -999.000,9, -999.000,9,   6.9658
  06MT20040710,  AR04,   685,  1,     11,     11,2,20040713,   0, 12.4772, -60.8113, 2268,    553.8,   7.0270,  34.6839,2,-999.0000,9,    128.6,2,    126.6,2,    0.516,2,    0.274,2,   6.9739
  06MT20040710,  AR04,   685,  1,     12,     12,2,20040713,   0, 12.4772, -60.8113, 2268,    347.9,  10.6788,  35.1390,2,-999.0000,9,    123.8,2,   -999.0,9,    1.334,2,    0.724,2,  10.6363
  06MT20040710,  AR04,   685,  1,     13,     13,2,20040713,   0, 12.4772, -60.8113, 2268,    347.9,  10.6774,  35.1405,2,-999.0000,9,    123.8,2,    127.3,2, -999.000,9, -999.000,9,  10.6349
  06MT20040710,  AR04,   685,  1,     14,     14,2,20040713,   0, 12.4772, -60.8113, 2268,    134.7,  20.5746,  36.7649,2,-999.0000,9,    152.8,2,   -999.0,9,    1.995,2,    1.205,2,  20.5490
  06MT20040710,  AR04,   685,  1,     15,     15,2,20040713,   0, 12.4772, -60.8113, 2268,     12.8,  28.0561,  35.0404,2,  35.0338,2,    201.1,2,   -999.0,9,    1.559,2,    0.994,2,  28.0531
  06MT20040710,  AR04,   685,  1,     16,     16,2,20040713,   0, 12.4772, -60.8113, 2268,     12.6,  28.0561,  35.0405,2,-999.0000,9,    201.1,2,    204.8,2, -999.000,9, -999.000,9,  28.0531
  06MT20040710,  AR04,   685,  1,     17,     17,2,20040713,   0, 12.4772, -60.8113, 2268,     12.4,  28.0565,  35.0412,2,-999.0000,9,    201.1,2,   -999.0,9, -999.000,9, -999.000,9,  28.0536
  06MT20040710,  AR04,   685,  1,     18,     18,2,20040713,   0, 12.4772, -60.8113, 2268,     12.5,  28.0567,  35.0410,2,-999.0000,9,    201.1,2,   -999.0,9, -999.000,9, -999.000,9,  28.0538
  06MT20040710,  AR04,   685,  1,     19,     19,2,20040713,   0, 12.4772, -60.8113, 2268,     12.5,  28.0566,  35.0407,2,-999.0000,9,    201.1,2,   -999.0,9, -999.000,9, -999.000,9,  28.0537
  06MT20040710,  AR04,   685,  1,     20,     20,2,20040713,   0, 12.4772, -60.8113, 2268,     12.8,  28.0561,  35.0404,2,-999.0000,9,    201.1,2,   -999.0,9, -999.000,9, -999.000,9,  28.0531
  06MT20040710,  AR04,   685,  1,     21,     21,2,20040713,   0, 12.4772, -60.8113, 2268,     12.6,  28.0567,  35.0411,2,-999.0000,9,    201.1,2,   -999.0,9, -999.000,9, -999.000,9,  28.0537
  06MT20040710,  AR04,   685,  1,     22,     22,2,20040713,   0, 12.4772, -60.8113, 2268,     12.4,  28.0567,  35.0410,2,-999.0000,9,    201.1,2,   -999.0,9, -999.000,9, -999.000,9,  28.0538
  06MT20040710,  AR04,   686,  1,      1,      1,2,20040713,   0, 12.7087, -60.8970, 1462,   1460.8,   4.4624,  35.0021,2,-999.0000,9,    244.1,2,    243.6,2, -999.000,9, -999.000,9,   4.3406
  06MT20040710,  AR04,   686,  1,      2,      2,2,20040713,   0, 12.7087, -60.8970, 1462,   1461.1,   4.4581,  35.0017,2,  34.9982,2,    244.1,2,   -999.0,9,    0.732,2,    0.373,2,   4.3363
  06MT20040710,  AR04,   686,  1,      3,      3,2,20040713,   0, 12.7087, -60.8970, 1462,   1207.6,   5.1046,  34.9805,2,-999.0000,9,    205.4,2,   -999.0,9,    0.414,2,    0.215,2,   5.0003
  06MT20040710,  AR04,   686,  1,      4,      4,2,20040713,   0, 12.7087, -60.8970, 1462,   1006.4,   5.1910,  34.8019,2,-999.0000,9,    161.3,2,   -999.0,9,    0.128,2,    0.068,2,   5.1052
  06MT20040710,  AR04,   686,  1,      5,      5,2,20040713,   0, 12.7087, -60.8970, 1462,   1007.0,   5.1865,  34.7995,2,-999.0000,9,    161.4,2,    164.8,2, -999.000,9, -999.000,9,   5.1006
  06MT20040710,  AR04,   686,  1,      6,      6,2,20040713,   0, 12.7087, -60.8970, 1462,    752.2,   5.7996,  34.6158,2,  34.6185,2,    133.5,2,   -999.0,9,    0.190,2,    0.103,2,   5.7335
  06MT20040710,  AR04,   686,  1,      7,      7,2,20040713,   0, 12.7087, -60.8970, 1462,    459.8,   8.1855,  34.7630,2,-999.0000,9,    130.6,2,   -999.0,9,    0.974,2,    0.513,2,   8.1377
  06MT20040710,  AR04,   686,  1,      8,      8,2,20040713,   0, 12.7087, -60.8970, 1462,    454.5,   8.2640,  34.7726,2,-999.0000,9,    130.5,2,    133.8,2, -999.000,9, -999.000,9,   8.2165
  06MT20040710,  AR04,   686,  1,      9,      9,2,20040713,   0, 12.7087, -60.8970, 1462,    254.2,  13.2533,  35.5468,2,-999.0000,9,    126.1,2,   -999.0,9,    1.604,2,    0.896,2,  13.2176
  06MT20040710,  AR04,   686,  1,     10,     10,2,20040713,   0, 12.7087, -60.8970, 1462,    107.3,  24.9863,  36.5725,2,-999.0000,9,    179.5,2,   -999.0,9, -999.000,9, -999.000,9,  24.9629
  06MT20040710,  AR04,   686,  1,     11,     11,2,20040713,   0, 12.7087, -60.8970, 1462,    103.0,  25.4856,  36.5523,2,-999.0000,9,    182.1,2,    169.4,3, -999.000,9, -999.000,9,  25.4628
  06MT20040710,  AR04,   686,  1,     12,     12,2,20040713,   0, 12.7087, -60.8970, 1462,     12.6,  28.0852,  35.0804,2,-999.0000,9,    199.9,2,   -999.0,9, -999.000,9, -999.000,9,  28.0822
  06MT20040710,  AR04,   686,  1,     13,     13,2,20040713,   0, 12.7087, -60.8970, 1462,     12.8,  28.0852,  35.0803,2,-999.0000,9,    199.9,2,    201.5,2,    1.557,2,    1.013,2,  28.0822
  06MT20040710,  AR04,   686,  1,     14,     14,2,20040713,   0, 12.7087, -60.8970, 1462,     13.2,  28.0856,  35.0800,2,-999.0000,9,    199.9,2,   -999.0,9, -999.000,9, -999.000,9,  28.0825
  06MT20040710,  AR04,   686,  1,     15,     15,2,20040713,   0, 12.7087, -60.8970, 1462,     13.1,  28.0855,  35.0794,2,-999.0000,9,    199.9,2,   -999.0,9, -999.000,9, -999.000,9,  28.0824
  06MT20040710,  AR04,   686,  1,     16,     16,2,20040713,   0, 12.7087, -60.8970, 1462,     12.8,  28.0852,  35.0800,2,-999.0000,9,    199.9,2,   -999.0,9, -999.000,9, -999.000,9,  28.0822
  06MT20040710,  AR04,   686,  1,     17,     17,2,20040713,   0, 12.7087, -60.8970, 1462,     12.7,  28.0852,  35.0803,2,-999.0000,9,    199.9,2,   -999.0,9, -999.000,9, -999.000,9,  28.0822
  06MT20040710,  AR04,   686,  1,     18,     18,2,20040713,   0, 12.7087, -60.8970, 1462,     12.6,  28.0853,  35.0802,2,-999.0000,9,    199.9,2,   -999.0,9, -999.000,9, -999.000,9,  28.0823
  06MT20040710,  AR04,   686,  1,     19,     19,2,20040713,   0, 12.7087, -60.8970, 1462,     13.0,  28.0855,  35.0793,2,-999.0000,9,    199.9,2,   -999.0,9, -999.000,9, -999.000,9,  28.0824
  06MT20040710,  AR04,   686,  1,     20,     20,2,20040713,   0, 12.7087, -60.8970, 1462,     13.3,  28.0855,  35.0797,2,-999.0000,9,    199.9,2,   -999.0,9, -999.000,9, -999.000,9,  28.0824
  06MT20040710,  AR04,   686,  1,     21,     21,2,20040713,   0, 12.7087, -60.8970, 1462,     12.8,  28.0852,  35.0800,2,-999.0000,9,    199.9,2,   -999.0,9, -999.000,9, -999.000,9,  28.0822
  06MT20040710,  AR04,   686,  1,     22,     22,2,20040713,   0, 12.7087, -60.8970, 1462,     13.1,  28.0853,  35.0795,2,-999.0000,9,    199.9,2,   -999.0,9, -999.000,9, -999.000,9,  28.0822
  06MT20040710,  AR04,   687,  1,      1,      1,2,20040713,   0, 12.9335, -60.9840, 1091,   1089.6,   5.1131,  34.9284,2,-999.0000,9,    193.5,2,   -999.0,9, -999.000,9, -999.000,9,   5.0199
  06MT20040710,  AR04,   687,  1,      2,      2,2,20040713,   0, 12.9335, -60.9840, 1091,   1089.7,   5.1139,  34.9276,2,  34.8345,3,    193.5,2,   -999.0,9,    0.313,2,    0.169,2,   5.0207
  06MT20040710,  AR04,   687,  1,      3,      3,2,20040713,   0, 12.9335, -60.9840, 1091,    947.8,   5.4432,  34.8313,2,-999.0000,9,    156.5,2,   -999.0,9, -999.000,9, -999.000,9,   5.3609
  06MT20040710,  AR04,   687,  1,      4,      4,2,20040713,   0, 12.9335, -60.9840, 1091,    781.4,   5.2131,  34.5965,2,-999.0000,9,    140.5,2,   -999.0,9,    0.137,2,    0.073,2,   5.1478
  06MT20040710,  AR04,   687,  1,      5,      5,2,20040713,   0, 12.9335, -60.9840, 1091,    783.4,   5.2158,  34.6003,2,-999.0000,9,    140.7,2,    142.6,2, -999.000,9, -999.000,9,   5.1503
  06MT20040710,  AR04,   687,  1,      6,      6,2,20040713,   0, 12.9335, -60.9840, 1091,    603.3,   6.4008,  34.6138,2,-999.0000,9,    125.6,2,   -999.0,9,    0.408,2,    0.212,2,   6.3457
  06MT20040710,  AR04,   687,  1,      7,      7,2,20040713,   0, 12.9335, -60.9840, 1091,    594.2,   6.5455,  34.6160,2,-999.0000,9,    124.4,2,    132.3,2, -999.000,9, -999.000,9,   6.4906
  06MT20040710,  AR04,   687,  1,      8,      8,2,20040713,   0, 12.9335, -60.9840, 1091,    416.5,   9.0666,  34.9293,2,  34.9236,2,    117.4,2,   -999.0,9,    0.949,2,    0.504,2,   9.0206
  06MT20040710,  AR04,   687,  1,      9,      9,2,20040713,   0, 12.9335, -60.9840, 1091,    216.3,  15.7165,  35.9898,2,-999.0000,9,    130.9,2,   -999.0,9, -999.000,9, -999.000,9,  15.6824
  06MT20040710,  AR04,   687,  1,     10,     10,2,20040713,   0, 12.9335, -60.9840, 1091,    205.4,  16.1479,  36.0614,2,-999.0000,9,    133.4,2,   -999.0,9, -999.000,9, -999.000,9,  16.1149
  06MT20040710,  AR04,   687,  1,     11,     11,2,20040713,   0, 12.9335, -60.9840, 1091,    100.2,  24.3043,  36.5901,2,-999.0000,9,    175.2,2,   -999.0,9,    1.804,2,    1.127,2,  24.2829
  06MT20040710,  AR04,   687,  1,     12,     12,2,20040713,   0, 12.9335, -60.9840, 1091,      9.9,  28.1596,  35.1627,2,  35.1409,2,    199.6,2,   -999.0,9, -999.000,9, -999.000,9,  28.1573
  06MT20040710,  AR04,   687,  1,     13,     13,2,20040713,   0, 12.9335, -60.9840, 1091,      9.9,  28.1590,  35.1630,2,-999.0000,9,    199.6,2,   -999.0,9,    1.542,6,    1.004,6,  28.1567
  06MT20040710,  AR04,   687,  1,     14,     14,2,20040713,   0, 12.9335, -60.9840, 1091,     10.4,  28.1612,  35.1621,2,-999.0000,9,    199.6,2,   -999.0,9, -999.000,9, -999.000,9,  28.1587
  06MT20040710,  AR04,   687,  1,     15,     15,2,20040713,   0, 12.9335, -60.9840, 1091,      7.8,  28.1646,  35.1680,2,-999.0000,9,    199.5,2,   -999.0,9, -999.000,9, -999.000,9,  28.1628
  06MT20040710,  AR04,   687,  1,     16,     16,2,20040713,   0, 12.9335, -60.9840, 1091,      7.3,  28.1673,  35.1712,2,-999.0000,9,    199.5,2,   -999.0,9, -999.000,9, -999.000,9,  28.1656
  06MT20040710,  AR04,   687,  1,     17,     17,2,20040713,   0, 12.9335, -60.9840, 1091,      7.8,  28.1657,  35.1695,2,-999.0000,9,    199.5,2,   -999.0,9, -999.000,9, -999.000,9,  28.1639
  06MT20040710,  AR04,   687,  1,     18,     18,2,20040713,   0, 12.9335, -60.9840, 1091,      6.6,  28.1716,  35.1784,2,-999.0000,9,    199.5,2,   -999.0,9, -999.000,9, -999.000,9,  28.1700
  06MT20040710,  AR04,   687,  1,     19,     19,2,20040713,   0, 12.9335, -60.9840, 1091,      6.0,  28.1720,  35.1822,2,-999.0000,9,    199.4,2,   -999.0,9, -999.000,9, -999.000,9,  28.1706
  06MT20040710,  AR04,   687,  1,     20,     20,2,20040713,   0, 12.9335, -60.9840, 1091,      5.9,  28.1738,  35.1817,2,-999.0000,9,    199.4,2,   -999.0,9, -999.000,9, -999.000,9,  28.1724
  06MT20040710,  AR04,   687,  1,     21,     21,2,20040713,   0, 12.9335, -60.9840, 1091,      5.3,  28.1745,  35.1842,2,-999.0000,9,    199.4,2,   -999.0,9, -999.000,9, -999.000,9,  28.1732
  06MT20040710,  AR04,   687,  1,     22,     22,2,20040713,   0, 12.9335, -60.9840, 1091,      6.7,  28.1708,  35.1778,2,-999.0000,9,    199.5,2,   -999.0,9, -999.000,9, -999.000,9,  28.1692
  06MT20040710,  AR04,   688,  1,      1,      1,2,20040713,   0, 13.1627, -61.0698,  392,    390.8,   9.7893,  35.0357,2,-999.0000,9,    122.7,2,    126.1,2, -999.000,9, -999.000,9,   9.7441
  06MT20040710,  AR04,   688,  1,      2,      2,2,20040713,   0, 13.1627, -61.0698,  392,    390.8,   9.7893,  35.0357,2,  35.0346,2,    122.7,2,   -999.0,9, -999.000,9, -999.000,9,   9.7441
  06MT20040710,  AR04,   688,  1,      3,      3,2,20040713,   0, 13.1627, -61.0698,  392,    367.4,  10.4239,  35.0812,2,-999.0000,9,    124.1,2,   -999.0,9, -999.000,9, -999.000,9,  10.3797
  06MT20040710,  AR04,   688,  1,      4,      4,2,20040713,   0, 13.1627, -61.0698,  392,    367.8,  10.3965,  35.1305,2,-999.0000,9,    124.1,2,   -999.0,9, -999.000,9, -999.000,9,  10.3523
  06MT20040710,  AR04,   688,  1,      5,      5,2,20040713,   0, 13.1627, -61.0698,  392,    251.4,  12.3954,  35.4025,2,-999.0000,9,    129.4,2,   -999.0,9, -999.000,9, -999.000,9,  12.3617
  06MT20040710,  AR04,   688,  1,      6,      6,2,20040713,   0, 13.1627, -61.0698,  392,    251.0,  12.4885,  35.4295,2,-999.0000,9,    129.4,2,   -999.0,9, -999.000,9, -999.000,9,  12.4547
  06MT20040710,  AR04,   688,  1,      7,      7,2,20040713,   0, 13.1627, -61.0698,  392,    150.6,  17.3891,  36.2254,2,-999.0000,9,    144.6,2,   -999.0,9, -999.000,9, -999.000,9,  17.3637
  06MT20040710,  AR04,   688,  1,      8,      8,2,20040713,   0, 13.1627, -61.0698,  392,    150.8,  17.3382,  36.2377,2,-999.0000,9,    144.5,2,   -999.0,9, -999.000,9, -999.000,9,  17.3128
  06MT20040710,  AR04,   688,  1,      9,      9,2,20040713,   0, 13.1627, -61.0698,  392,     52.4,  27.1358,  36.3114,2,  36.3261,3,    197.1,2,    196.5,2, -999.000,9, -999.000,9,  27.1237
  06MT20040710,  AR04,   688,  1,     10,     10,2,20040713,   0, 13.1627, -61.0698,  392,     50.6,  27.2497,  36.2815,2,-999.0000,9,    197.6,2,   -999.0,9, -999.000,9, -999.000,9,  27.2380
  06MT20040710,  AR04,   688,  1,     11,     11,2,20040713,   0, 13.1627, -61.0698,  392,      9.3,  28.2020,  35.2760,2,-999.0000,9,    200.4,2,   -999.0,9, -999.000,9, -999.000,9,  28.1998
  06MT20040710,  AR04,   688,  1,     12,     12,2,20040713,   0, 13.1627, -61.0698,  392,      8.8,  28.2262,  35.2731,2,-999.0000,9,    200.4,2,    201.9,2, -999.000,9, -999.000,9,  28.2241
  06MT20040710,  AR04,   690,  1,      1,      1,2,20040713,   0, 13.3910, -61.0965,  626,    625.2,   8.1558,  34.8529,2,  34.8561,2,    123.0,2,    123.9,2, -999.000,9, -999.000,9,   8.0902
  06MT20040710,  AR04,   690,  1,      2,      2,2,20040713,   0, 13.3910, -61.0965,  626,     11.6,  28.2645,  34.6980,2,-999.0000,9,    200.1,2,   -999.0,9, -999.000,9, -999.000,9,  28.2618
  06MT20040710,  AR04,   691,  1,      1,      1,2,20040713,   0, 13.4070, -61.0730,  827,    826.4,   6.1290,  34.7573,2,-999.0000,9,    139.5,2,    139.2,6, -999.000,9, -999.000,9,   6.0538
  06MT20040710,  AR04,   691,  1,      2,      2,2,20040713,   0, 13.4070, -61.0730,  827,    825.2,   6.1351,  34.7564,2,  34.7639,2,    139.2,2,   -999.0,9,    0.208,6,    0.112,6,   6.0599
  06MT20040710,  AR04,   691,  1,      3,      3,2,20040713,   0, 13.4070, -61.0730,  827,    721.2,   7.2386,  34.7780,2,-999.0000,9,    127.8,2,    128.5,6,    0.431,2,    0.236,2,   7.1674
  06MT20040710,  AR04,   691,  1,      4,      4,2,20040713,   0, 13.4070, -61.0730,  827,    293.6,  12.3463,  35.3896,2,-999.0000,9,    126.5,2,   -999.0,9,    1.481,2,    0.815,2,  12.3070
  06MT20040710,  AR04,   691,  1,      5,      5,2,20040713,   0, 13.4070, -61.0730,  827,     11.1,  28.2557,  34.6920,2,-999.0000,9,    201.1,2,   -999.0,9, -999.000,9, -999.000,9,  28.2531
  06MT20040710,  AR04,   691,  1,      6,      6,2,20040713,   0, 13.4070, -61.0730,  827,     11.1,  28.2557,  34.6920,2,-999.0000,9,    201.1,2,   -999.0,9,    1.538,6,    1.008,6,  28.2531
  06MT20040710,  AR04,   692,  1,      1,      1,2,20040713,   0, 13.4585, -61.0380,  843,    842.2,   6.2875,  34.7318,2,-999.0000,9,    137.5,2,    136.1,2, -999.000,9, -999.000,9,   6.2098
  06MT20040710,  AR04,   692,  1,      2,      2,2,20040713,   0, 13.4585, -61.0380,  843,    842.6,   6.2816,  34.7333,2,  34.7382,2,    137.5,2,   -999.0,9,    0.261,6,    0.137,6,   6.2039
  06MT20040710,  AR04,   692,  1,      3,      3,2,20040713,   0, 13.4585, -61.0380,  843,    497.2,   9.0156,  34.9071,2,-999.0000,9,    122.4,2,   -999.0,9,    0.852,2,    0.456,2,   8.9606
  06MT20040710,  AR04,   692,  1,      4,      4,2,20040713,   0, 13.4585, -61.0380,  843,     96.5,  25.3132,  36.5095,2,-999.0000,9,    181.7,2,   -999.0,9,    1.681,2,    1.075,2,  25.2920
  06MT20040710,  AR04,   692,  1,      5,      5,2,20040713,   0, 13.4585, -61.0380,  843,     93.4,  25.6254,  36.4630,2,-999.0000,9,    185.1,2,    179.2,2, -999.000,9, -999.000,9,  25.6047
  06MT20040710,  AR04,   692,  1,      6,      6,2,20040713,   0, 13.4585, -61.0380,  843,     13.3,  28.2487,  34.5074,2,-999.0000,9,    201.4,2,   -999.0,9,    1.545,6,    1.005,6,  28.2456
  06MT20040710,  AR04,   693,  1,      1,      1,2,20040713,   0, 13.5055, -61.0042,  380,     69.3,  27.3355,  36.2723,2,-999.0000,9,    198.8,2,   -999.0,9, -999.000,9, -999.000,9,  27.3194
  06MT20040710,  AR04,   693,  1,      2,      2,2,20040713,   0, 13.5055, -61.0042,  380,     63.7,  27.5422,  36.1381,2,-999.0000,9,    198.4,2,   -999.0,9,    1.617,2,    1.051,2,  27.5273
  06MT20040710,  AR04,   693,  1,      3,      3,2,20040713,   0, 13.5055, -61.0042,  380,     12.4,  28.1970,  34.3228,2,-999.0000,9,    200.3,2,   -999.0,9,    1.583,2,    1.019,2,  28.1941
  06MT20040710,  AR04,   694,  1,      1,      1,2,20040714,   0, 13.5475, -60.9772,  324,    320.1,  11.6269,  35.2844,2,-999.0000,9,    126.5,2,   -999.0,9, -999.000,9, -999.000,9,  11.5856
  06MT20040710,  AR04,   694,  1,      2,      2,2,20040714,   0, 13.5475, -60.9772,  324,    307.3,  12.8668,  35.4709,2,-999.0000,9,    127.0,2,   -999.0,9,    1.530,2,    0.856,2,  12.8245
  06MT20040710,  AR04,   694,  1,      3,      3,2,20040714,   0, 13.5475, -60.9772,  324,    223.3,  16.5529,  36.1114,2,-999.0000,9,    129.3,2,    130.3,2,    1.834,2,    1.066,2,  16.5164
  06MT20040710,  AR04,   694,  1,      4,      4,2,20040714,   0, 13.5475, -60.9772,  324,    101.6,  24.0834,  36.6103,2,-999.0000,9,    174.9,2,   -999.0,9,    1.788,2,    1.119,2,  24.0618
  06MT20040710,  AR04,   694,  1,      5,      5,2,20040714,   0, 13.5475, -60.9772,  324,     12.8,  28.1869,  34.2819,2,-999.0000,9,    200.1,2,   -999.0,9, -999.000,9, -999.000,9,  28.1839
  06MT20040710,  AR04,   694,  1,      6,      6,2,20040714,   0, 13.5475, -60.9772,  324,     13.1,  28.1871,  34.2818,2,-999.0000,9,    200.1,2,   -999.0,9,    1.560,2,    1.010,2,  28.1840