BOTTLE,20140522SIOCCHGR
EXPOCODE,SECT_ID,STNNBR,CASTNO,SAMPNO,BTLNBR,BTLNBR_FLAG_W,DATE,TIME,LATITUDE,LONGITUDE,DEPTH,CTDPRS,CTDTMP,CTDSAL,CTDSAL_FLAG_W,SALNTY,SALNTY_FLAG_W,CTDOXY,CTDOXY_FLAG_W,OXYGEN,OXYGEN_FLAG_W,CFC-11,CFC-11_FLAG_W,CFC-12,CFC-12_FLAG_W,THETA
,,,,,,,,,,,METERS,DBAR,ITS-90,PSS-78,,PSS-78,,UMOL/KG,,UMOL/KG,,PMOL/KG,,PMOL/KG,,DEG C
  06MT20040710,  AR04,   671,  1,      1,      1,2,20040711,   0, 13.0297, -59.7958, 1034,   1033.2,   5.4986,  34.7471,2,-999.0000,9,    150.6,2,   -999.0,9, -999.000,9, -999.000,9,   5.4080
  06MT20040710,  AR04,   671,  1,      2,      2,2,20040711,   0, 13.0297, -59.7958, 1034,   1033.1,   5.4973,  34.7477,2,  34.7468,2,    150.6,2,   -999.0,9,    0.124,2,    0.064,2,   5.4067
  06MT20040710,  AR04,   671,  1,      3,      3,2,20040711,   0, 13.0297, -59.7958, 1034,    910.0,   6.0900,  34.6707,2,-999.0000,9,    138.0,2,   -999.0,9,    0.208,2,    0.113,2,   6.0070
  06MT20040710,  AR04,   671,  1,      4,      4,2,20040711,   0, 13.0297, -59.7958, 1034,    901.7,   6.1130,  34.6730,2,-999.0000,9,    137.4,2,    131.9,6, -999.000,9, -999.000,9,   6.0307
  06MT20040710,  AR04,   671,  1,      5,      5,2,20040711,   0, 13.0297, -59.7958, 1034,    609.0,   7.5064,  34.7568,2,-999.0000,9,    124.8,2,   -999.0,9,    0.527,2,    0.281,2,   7.4456
  06MT20040710,  AR04,   671,  1,      6,      6,2,20040711,   0, 13.0297, -59.7958, 1034,    293.6,  12.4098,  35.3977,2,  35.2991,3,    127.5,2,   -999.0,9,    1.590,2,    0.874,2,  12.3703
  06MT20040710,  AR04,   671,  1,      7,      7,2,20040711,   0, 13.0297, -59.7958, 1034,    293.6,  12.3966,  35.4004,2,-999.0000,9,    127.5,2,    130.9,2, -999.000,9, -999.000,9,  12.3572
  06MT20040710,  AR04,   671,  1,      8,      8,2,20040711,   0, 13.0297, -59.7958, 1034,    106.2,  25.8480,  36.4049,2,-999.0000,9,    186.9,2,   -999.0,9,    1.759,2,    1.110,2,  25.8243
  06MT20040710,  AR04,   671,  1,      9,      9,2,20040711,   0, 13.0297, -59.7958, 1034,     13.8,  28.0671,  34.1533,2,  34.1363,2,    201.5,2,    207.0,2,    1.573,2,    1.017,2,  28.0639
  06MT20040710,  AR04,   671,  1,     10,     10,2,20040711,   0, 13.0297, -59.7958, 1034,     13.7,  28.0701,  34.1467,2,-999.0000,9,    201.5,2,   -999.0,9, -999.000,9, -999.000,9,  28.0669
  06MT20040710,  AR04,   672,  1,      1,      1,2,20040711,   0, 12.8335, -59.8222, 1358,   1357.4,   4.9225,  34.9904,2,-999.0000,9,    222.8,2,    218.0,6, -999.000,9, -999.000,9,   4.8057
  06MT20040710,  AR04,   672,  1,      2,      2,2,20040711,   0, 12.8335, -59.8222, 1358,   1357.1,   4.9222,  34.9907,2,  34.9919,2,    222.8,2,   -999.0,9,    0.520,6,    0.267,6,   4.8054
  06MT20040710,  AR04,   672,  1,      3,      3,2,20040711,   0, 12.8335, -59.8222, 1358,   1099.1,   5.4204,  34.8557,2,-999.0000,9,    167.9,2,   -999.0,9,    0.175,2,    0.092,2,   5.3239
  06MT20040710,  AR04,   672,  1,      4,      4,2,20040711,   0, 12.8335, -59.8222, 1358,    804.5,   6.5127,  34.6329,2,-999.0000,9,    137.0,2,   -999.0,9,    0.347,2,    0.184,2,   6.4374
  06MT20040710,  AR04,   672,  1,      5,      5,2,20040711,   0, 12.8335, -59.8222, 1358,    791.6,   6.5915,  34.6410,2,-999.0000,9,    139.8,2,    130.0,2, -999.000,9, -999.000,9,   6.5170
  06MT20040710,  AR04,   672,  1,      6,      6,2,20040711,   0, 12.8335, -59.8222, 1358,    491.5,   9.0317,  34.8681,2,  34.8890,3,    139.3,2,   -999.0,9,    1.099,2,    0.582,2,   8.9774
  06MT20040710,  AR04,   672,  1,      7,      7,2,20040711,   0, 12.8335, -59.8222, 1358,    494.9,   9.0269,  34.8682,2,-999.0000,9,    138.4,2,   -999.0,9, -999.000,9, -999.000,9,   8.9722
  06MT20040710,  AR04,   672,  1,      8,      8,2,20040711,   0, 12.8335, -59.8222, 1358,    196.4,  15.1164,  35.8894,2,-999.0000,9,    133.8,2,   -999.0,9,    1.786,2,    1.015,2,  15.0863
  06MT20040710,  AR04,   672,  1,      9,      9,2,20040711,   0, 12.8335, -59.8222, 1358,     15.0,  28.1124,  34.4951,2,-999.0000,9,    202.6,2,   -999.0,9,    1.572,2,    1.018,2,  28.1089
  06MT20040710,  AR04,   672,  1,     10,     10,2,20040711,   0, 12.8335, -59.8222, 1358,     15.0,  28.1124,  34.4951,2,-999.0000,9,    202.6,2,    202.1,2, -999.000,9, -999.000,9,  28.1089
  06MT20040710,  AR04,   673,  1,      1,      1,2,20040712,   0, 12.6435, -59.8945, 1804,   1803.0,   3.8320,  34.9802,2,-999.0000,9,    257.2,2,    256.8,2, -999.000,9, -999.000,9,   3.6857
  06MT20040710,  AR04,   673,  1,      2,      2,2,20040712,   0, 12.6435, -59.8945, 1804,   1802.8,   3.8319,  34.9801,2,  34.9702,2,    257.2,2,   -999.0,9,    0.599,2,    0.314,2,   3.6857
  06MT20040710,  AR04,   673,  1,      3,      3,2,20040712,   0, 12.6435, -59.8945, 1804,   1417.0,   4.6866,  35.0029,2,-999.0000,9,    233.5,2,   -999.0,9,    0.742,2,    0.376,2,   4.5665
  06MT20040710,  AR04,   673,  1,      4,      4,2,20040712,   0, 12.6435, -59.8945, 1804,   1110.8,   5.4911,  34.8335,2,-999.0000,9,    162.1,2,   -999.0,9,    0.151,2,    0.082,2,   5.3930
  06MT20040710,  AR04,   673,  1,      5,      5,2,20040712,   0, 12.6435, -59.8945, 1804,   1111.1,   5.4906,  34.8332,2,-999.0000,9,    162.2,2,   -999.0,9, -999.000,9, -999.000,9,   5.3924
  06MT20040710,  AR04,   673,  1,      6,      6,2,20040712,   0, 12.6435, -59.8945, 1804,    704.0,   6.5710,  34.5782,2,-999.0000,9,    147.0,2,   -999.0,9,    0.805,2,    0.419,2,   6.5054
  06MT20040710,  AR04,   673,  1,      7,      7,2,20040712,   0, 12.6435, -59.8945, 1804,    348.7,   9.5648,  34.8474,2,  34.8278,2,    149.9,2,   -999.0,9,    1.582,2,    0.846,2,   9.5252
  06MT20040710,  AR04,   673,  1,      8,      8,2,20040712,   0, 12.6435, -59.8945, 1804,    107.1,  25.2052,  36.4268,2,-999.0000,9,    185.8,2,   -999.0,9,    1.728,2,    1.093,2,  25.1817
  06MT20040710,  AR04,   673,  1,      9,      9,2,20040712,   0, 12.6435, -59.8945, 1804,    105.5,  25.3790,  36.3543,2,-999.0000,9,    187.0,2,    174.5,4, -999.000,9, -999.000,9,  25.3558
  06MT20040710,  AR04,   673,  1,     10,     10,2,20040712,   0, 12.6435, -59.8945, 1804,     11.4,  28.1216,  34.3163,2,-999.0000,9,    200.9,2,    202.8,2, -999.000,9, -999.000,9,  28.1189
  06MT20040710,  AR04,   673,  1,     11,     11,2,20040712,   0, 12.6435, -59.8945, 1804,     11.4,  28.1126,  34.3267,2,-999.0000,9,    200.9,2,   -999.0,9, -999.000,9, -999.000,9,  28.1099
  06MT20040710,  AR04,   673,  1,     12,     12,2,20040712,   0, 12.6435, -59.8945, 1804,     11.4,  28.1056,  34.3345,2,-999.0000,9,    200.9,2,   -999.0,9,    1.568,2,    1.013,2,  28.1029
  06MT20040710,  AR04,   674,  1,      1,      1,2,20040712,   0, 12.4553, -59.9643, 2099,   2097.3,   3.8310,  34.9801,2,-999.0000,9,    254.6,2,    256.1,2, -999.000,9, -999.000,9,   3.6564
  06MT20040710,  AR04,   674,  1,      2,      2,2,20040712,   0, 12.4553, -59.9643, 2099,   2097.8,   3.8312,  34.9802,2,  34.9744,2,    254.7,2,   -999.0,9,    0.530,2,    0.277,2,   3.6566
  06MT20040710,  AR04,   674,  1,      3,      3,2,20040712,   0, 12.4553, -59.9643, 2099,   1797.1,   3.9552,  34.9829,2,-999.0000,9,    256.4,2,   -999.0,9,    0.759,2,    0.389,2,   3.8078
  06MT20040710,  AR04,   674,  1,      4,      4,2,20040712,   0, 12.4553, -59.9643, 2099,   1747.4,   3.9801,  34.9841,2,-999.0000,9,    256.9,2,   -999.0,9,    0.787,2,    0.399,2,   3.8371
  06MT20040710,  AR04,   674,  1,      5,      5,2,20040712,   0, 12.4553, -59.9643, 2099,   1504.4,   4.3190,  34.9995,2,-999.0000,9,    248.1,2,   -999.0,9,    0.851,2,    0.435,2,   4.1947
  06MT20040710,  AR04,   674,  1,      6,      6,2,20040712,   0, 12.4553, -59.9643, 2099,   1502.8,   4.3316,  34.9993,2,-999.0000,9,    247.9,2,    252.0,2, -999.000,9, -999.000,9,   4.2073
  06MT20040710,  AR04,   674,  1,      7,      7,2,20040712,   0, 12.4553, -59.9643, 2099,   1351.1,   4.8715,  35.0121,2,-999.0000,9,    226.5,2,   -999.0,9,    0.677,2,    0.342,2,   4.7557
  06MT20040710,  AR04,   674,  1,      8,      8,2,20040712,   0, 12.4553, -59.9643, 2099,   1197.9,   5.3189,  34.9627,2,-999.0000,9,    190.8,2,   -999.0,9,    0.284,2,    0.149,2,   5.2136
  06MT20040710,  AR04,   674,  1,      9,      9,2,20040712,   0, 12.4553, -59.9643, 2099,    899.7,   5.4294,  34.5512,2,-999.0000,9,    144.0,2,   -999.0,9,    0.239,2,    0.122,2,   5.3521
  06MT20040710,  AR04,   674,  1,     10,     10,2,20040712,   0, 12.4553, -59.9643, 2099,    894.6,   5.5756,  34.5711,2,-999.0000,9,    143.1,2,   -999.0,9, -999.000,9, -999.000,9,   5.4977
  06MT20040710,  AR04,   674,  1,     11,     11,2,20040712,   0, 12.4553, -59.9643, 2099,    751.7,   6.3180,  34.5651,2,-999.0000,9,    146.4,2,   -999.0,9, -999.000,9, -999.000,9,   6.2491
  06MT20040710,  AR04,   674,  1,     12,     12,2,20040712,   0, 12.4553, -59.9643, 2099,    750.9,   6.3338,  34.5654,2,-999.0000,9,    146.3,2,   -999.0,9,    0.681,2,    0.356,2,   6.2649
  06MT20040710,  AR04,   674,  1,     13,     13,2,20040712,   0, 12.4553, -59.9643, 2099,    592.3,   7.1436,  34.6448,2,-999.0000,9,    138.4,2,   -999.0,9,    0.737,2,    0.388,2,   7.0862
  06MT20040710,  AR04,   674,  1,     14,     14,2,20040712,   0, 12.4553, -59.9643, 2099,    591.8,   7.1488,  34.6449,2,-999.0000,9,    138.5,2,    134.8,2, -999.000,9, -999.000,9,   7.0914
  06MT20040710,  AR04,   674,  1,     15,     15,2,20040712,   0, 12.4553, -59.9643, 2099,    296.2,   9.8641,  34.8930,2,-999.0000,9,    147.9,2,   -999.0,9,    1.696,2,    0.921,2,   9.8299
  06MT20040710,  AR04,   674,  1,     16,     16,2,20040712,   0, 12.4553, -59.9643, 2099,      6.3,  28.1559,  34.3591,2,  34.2902,3,    200.8,2,   -999.0,9,    1.478,2,    0.962,2,  28.1544
  06MT20040710,  AR04,   674,  1,     17,     17,2,20040712,   0, 12.4553, -59.9643, 2099,     11.6,  28.1577,  34.3402,2,-999.0000,9,    200.8,2,    201.7,2, -999.000,9, -999.000,9,  28.1550
  06MT20040710,  AR04,   675,  1,      1,      1,2,20040712,   0, 12.2753, -60.0307, 1824,   1822.8,   3.8478,  34.9803,2,-999.0000,9,    257.0,2,    259.0,2, -999.000,9, -999.000,9,   3.6995
  06MT20040710,  AR04,   675,  1,      2,      2,2,20040712,   0, 12.2753, -60.0307, 1824,   1823.5,   3.8479,  34.9798,2,-999.0000,9,    257.0,2,   -999.0,9,    0.638,2,    0.331,2,   3.6995
  06MT20040710,  AR04,   675,  1,      3,      3,2,20040712,   0, 12.2753, -60.0307, 1824,   1698.1,   4.0120,  34.9851,2,-999.0000,9,    256.5,2,   -999.0,9,    0.799,2,    0.409,2,   3.8733
  06MT20040710,  AR04,   675,  1,      4,      4,2,20040712,   0, 12.2753, -60.0307, 1824,   1485.4,   4.4442,  35.0042,2,-999.0000,9,    243.2,2,   -999.0,9,    0.788,2,    0.399,2,   4.3203
  06MT20040710,  AR04,   675,  1,      5,      5,2,20040712,   0, 12.2753, -60.0307, 1824,   1295.1,   5.0198,  34.9979,2,  35.0027,2,    212.5,2,   -999.0,9,    0.514,2,    0.265,2,   4.9079
  06MT20040710,  AR04,   675,  1,      6,      6,2,20040712,   0, 12.2753, -60.0307, 1824,   1293.7,   5.0279,  34.9961,2,-999.0000,9,    212.2,2,    218.2,2, -999.000,9, -999.000,9,   4.9161
  06MT20040710,  AR04,   675,  1,      7,      7,2,20040712,   0, 12.2753, -60.0307, 1824,   1140.9,   5.4137,  34.8831,2,-999.0000,9,    170.3,2,   -999.0,9,    0.185,2,    0.098,2,   5.3132
  06MT20040710,  AR04,   675,  1,      8,      8,2,20040712,   0, 12.2753, -60.0307, 1824,    983.3,   5.2313,  34.6152,2,-999.0000,9,    147.8,2,   -999.0,9,    0.108,2,    0.057,2,   5.1476
  06MT20040710,  AR04,   675,  1,      9,      9,2,20040712,   0, 12.2753, -60.0307, 1824,    848.8,   6.0156,  34.6264,2,-999.0000,9,    134.4,2,   -999.0,9,    0.366,2,    0.196,2,   5.9391
  06MT20040710,  AR04,   675,  1,     10,     10,2,20040712,   0, 12.2753, -60.0307, 1824,    698.0,   6.8210,  34.6813,2,-999.0000,9,    127.5,2,   -999.0,9, -999.000,9, -999.000,9,   6.7545
  06MT20040710,  AR04,   675,  1,     11,     11,2,20040712,   0, 12.2753, -60.0307, 1824,    695.2,   6.8490,  34.6902,2,-999.0000,9,    127.5,2,   -999.0,9, -999.000,9, -999.000,9,   6.7826
  06MT20040710,  AR04,   675,  1,     12,     12,2,20040712,   0, 12.2753, -60.0307, 1824,    406.3,   9.5473,  34.9938,2,  34.9777,3,    122.9,2,   -999.0,9,    1.070,2,    0.576,2,   9.5010
  06MT20040710,  AR04,   675,  1,     13,     13,2,20040712,   0, 12.2753, -60.0307, 1824,    405.3,   9.6105,  34.9951,2,-999.0000,9,    122.9,2,    124.1,2, -999.000,9, -999.000,9,   9.5641
  06MT20040710,  AR04,   675,  1,     14,     14,2,20040712,   0, 12.2753, -60.0307, 1824,     94.3,  26.0261,  36.4685,2,-999.0000,9,    191.0,2,   -999.0,9,    1.631,2,    1.052,2,  26.0049
  06MT20040710,  AR04,   675,  1,     15,     15,2,20040712,   0, 12.2753, -60.0307, 1824,     25.3,  28.1493,  34.4797,2,-999.0000,9,    198.8,2,   -999.0,9,    1.551,2,    1.015,2,  28.1433
  06MT20040710,  AR04,   675,  1,     16,     16,2,20040712,   0, 12.2753, -60.0307, 1824,     25.3,  28.1493,  34.4797,2,-999.0000,9,    198.8,2,   -999.0,9, -999.000,9, -999.000,9,  28.1433
  06MT20040710,  AR04,   676,  1,      1,      1,2,20040712,   0, 12.0987, -60.1048, 2005,   2003.4,   3.8250,  34.9803,2,-999.0000,9,    253.4,2,   -999.0,9, -999.000,9, -999.000,9,   3.6597
  06MT20040710,  AR04,   676,  1,      2,      2,2,20040712,   0, 12.0987, -60.1048, 2005,   2004.2,   3.8254,  34.9800,2,  34.9795,2,    253.4,2,   -999.0,9,    0.517,2,    0.278,2,   3.6600
  06MT20040710,  AR04,   676,  1,      3,      3,2,20040712,   0, 12.0987, -60.1048, 2005,   1804.1,   3.9097,  34.9813,2,-999.0000,9,    256.5,2,   -999.0,9,    0.712,2,    0.364,2,   3.7623
  06MT20040710,  AR04,   676,  1,      4,      4,2,20040712,   0, 12.0987, -60.1048, 2005,   1598.5,   4.1376,  34.9908,2,-999.0000,9,    253.3,2,   -999.0,9,    0.811,2,    0.412,2,   4.0066
  06MT20040710,  AR04,   676,  1,      5,      5,2,20040712,   0, 12.0987, -60.1048, 2005,   1396.0,   4.6719,  35.0086,2,-999.0000,9,    232.9,2,   -999.0,9,    0.698,2,    0.359,2,   4.5539
  06MT20040710,  AR04,   676,  1,      6,      6,2,20040712,   0, 12.0987, -60.1048, 2005,   1395.0,   4.6761,  35.0077,2,-999.0000,9,    232.8,2,    236.7,2, -999.000,9, -999.000,9,   4.5582
  06MT20040710,  AR04,   676,  1,      7,      7,2,20040712,   0, 12.0987, -60.1048, 2005,   1201.4,   5.1336,  34.9395,2,-999.0000,9,    190.7,2,   -999.0,9,    0.383,2,    0.197,2,   5.0297
  06MT20040710,  AR04,   676,  1,      8,      8,2,20040712,   0, 12.0987, -60.1048, 2005,    946.7,   5.0380,  34.5853,2,-999.0000,9,    152.2,2,   -999.0,9, -999.000,9, -999.000,9,   4.9591
  06MT20040710,  AR04,   676,  1,      9,      9,2,20040712,   0, 12.0987, -60.1048, 2005,    946.2,   5.0346,  34.5834,2,  34.6203,3,    152.2,2,   -999.0,9, -999.000,9, -999.000,9,   4.9558
  06MT20040710,  AR04,   676,  1,     10,     10,2,20040712,   0, 12.0987, -60.1048, 2005,    798.8,   5.7598,  34.6025,2,-999.0000,9,    135.4,2,   -999.0,9, -999.000,9, -999.000,9,   5.6897
  06MT20040710,  AR04,   676,  1,     11,     11,2,20040712,   0, 12.0987, -60.1048, 2005,    798.9,   5.7595,  34.6026,2,-999.0000,9,    135.4,2,   -999.0,9,    0.120,2,    0.062,2,   5.6893
  06MT20040710,  AR04,   676,  1,     12,     12,2,20040712,   0, 12.0987, -60.1048, 2005,    607.4,   7.3144,  34.7265,2,-999.0000,9,    124.2,2,   -999.0,9,    0.510,2,    0.273,2,   7.2546
  06MT20040710,  AR04,   676,  1,     13,     13,2,20040712,   0, 12.0987, -60.1048, 2005,    605.5,   7.3435,  34.7319,2,-999.0000,9,    123.9,2,    122.9,6, -999.000,9, -999.000,9,   7.2838
  06MT20040710,  AR04,   676,  1,     14,     14,2,20040712,   0, 12.0987, -60.1048, 2005,    362.4,  10.1952,  35.0828,2,-999.0000,9,    123.4,2,   -999.0,9,    1.188,2,    0.642,2,  10.1522
  06MT20040710,  AR04,   676,  1,     15,     15,2,20040712,   0, 12.0987, -60.1048, 2005,    153.0,  19.3753,  36.6605,2,-999.0000,9,    152.1,2,   -999.0,9,    2.017,2,    1.217,2,  19.3474
  06MT20040710,  AR04,   676,  1,     16,     16,2,20040712,   0, 12.0987, -60.1048, 2005,      8.0,  28.0526,  34.6266,2,  34.6096,2,    202.3,2,   -999.0,9,    1.552,2,    1.008,2,  28.0507
  06MT20040710,  AR04,   676,  1,     17,     17,2,20040712,   0, 12.0987, -60.1048, 2005,      8.0,  28.0526,  34.6266,2,-999.0000,9,    202.3,2,    201.7,2, -999.000,9, -999.000,9,  28.0507