BOTTLE,20140522SIOCCHGR
EXPOCODE,SECT_ID,STNNBR,CASTNO,SAMPNO,BTLNBR,BTLNBR_FLAG_W,DATE,TIME,LATITUDE,LONGITUDE,DEPTH,CTDPRS,CTDTMP,CTDSAL,CTDSAL_FLAG_W,SALNTY,SALNTY_FLAG_W,CTDOXY,CTDOXY_FLAG_W,OXYGEN,OXYGEN_FLAG_W,CFC-11,CFC-11_FLAG_W,CFC-12,CFC-12_FLAG_W,THETA
,,,,,,,,,,,METERS,DBAR,ITS-90,PSS-78,,PSS-78,,UMOL/KG,,UMOL/KG,,PMOL/KG,,PMOL/KG,,DEG C
  06MT20040710,  AR04,   765,  1,      1,      1,2,20040726,   0, 16.0660, -57.6353, 5479,   5477.9,   1.8839,  34.8307,2,-999.0000,9,    243.7,2,    244.2,6, -999.000,9, -999.000,9,   1.3750
  06MT20040710,  AR04,   765,  1,      2,      2,2,20040726,   0, 16.0660, -57.6353, 5479,   5477.9,   1.8839,  34.8305,2,-999.0000,9,    243.7,2,   -999.0,9, -999.000,9, -999.000,9,   1.3750
  06MT20040710,  AR04,   765,  1,      3,      3,2,20040726,   0, 16.0660, -57.6353, 5479,   5477.3,   1.8840,  34.8302,2,  34.8376,2,    243.7,2,   -999.0,9,    0.115,2,    0.064,2,   1.3751
  06MT20040710,  AR04,   765,  1,      4,      4,2,20040726,   0, 16.0660, -57.6353, 5479,   5097.8,   2.0852,  34.8607,2,-999.0000,9,    251.7,2,    251.4,2,    0.118,2,    0.069,2,   1.6176
  06MT20040710,  AR04,   765,  1,      5,      5,2,20040726,   0, 16.0660, -57.6353, 5479,   4698.9,   2.2365,  34.8844,2,  34.8825,2,    259.5,2,    259.5,2,    0.230,2,    0.123,2,   1.8133
  06MT20040710,  AR04,   765,  1,      6,      6,2,20040726,   0, 16.0660, -57.6353, 5479,   4174.0,   2.3052,  34.8971,2,-999.0000,9,    263.7,2,    264.5,2, -999.000,9, -999.000,9,   1.9423
  06MT20040710,  AR04,   765,  1,      7,      7,2,20040726,   0, 16.0660, -57.6353, 5479,   3798.1,   2.3827,  34.9040,2,-999.0000,9,    263.9,2,    265.2,2,    0.328,2,    0.170,2,   2.0604
  06MT20040710,  AR04,   765,  1,      8,      8,2,20040726,   0, 16.0660, -57.6353, 5479,   3398.2,   2.5542,  34.9164,2,  34.9191,2,    262.0,2,    262.3,2,    0.343,2,    0.175,2,   2.2714
  06MT20040710,  AR04,   765,  1,      9,      9,2,20040726,   0, 16.0660, -57.6353, 5479,   2899.6,   2.8465,  34.9367,2,-999.0000,9,    259.2,2,    260.6,2, -999.000,9, -999.000,9,   2.6094
  06MT20040710,  AR04,   765,  1,     10,     10,2,20040726,   0, 16.0660, -57.6353, 5479,   2397.7,   3.2256,  34.9596,2,-999.0000,9,    259.3,2,    259.3,2, -999.000,9, -999.000,9,   3.0316
  06MT20040710,  AR04,   765,  1,     11,     11,2,20040726,   0, 16.0660, -57.6353, 5479,   2192.2,   3.4407,  34.9682,2,  34.9693,2,    259.6,2,   -999.0,9,    0.442,2,    0.225,2,   3.2631
  06MT20040710,  AR04,   765,  1,     12,     12,2,20040726,   0, 16.0660, -57.6353, 5479,   2042.5,   3.5993,  34.9730,2,-999.0000,9,    259.8,2,    258.6,2,    0.590,2,    0.304,2,   3.4336
  06MT20040710,  AR04,   765,  1,     13,     13,2,20040726,   0, 16.0660, -57.6353, 5479,   1839.2,   3.8562,  34.9819,2,-999.0000,9,    258.1,2,   -999.0,9,    0.656,2,    0.333,2,   3.7062
  06MT20040710,  AR04,   765,  1,     14,     14,2,20040726,   0, 16.0660, -57.6353, 5479,   1698.7,   4.0895,  34.9925,2,-999.0000,9,    254.7,2,    255.5,2,    0.776,2,    0.392,2,   3.9497
  06MT20040710,  AR04,   765,  1,     15,     15,2,20040726,   0, 16.0660, -57.6353, 5479,   1549.6,   4.4089,  35.0072,2,-999.0000,9,    244.1,2,   -999.0,9,    0.670,2,    0.343,2,   4.2793
  06MT20040710,  AR04,   765,  1,     16,     16,2,20040726,   0, 16.0660, -57.6353, 5479,   1399.7,   4.8714,  35.0187,2,-999.0000,9,    225.5,2,    226.4,2,    0.568,2,    0.290,2,   4.7510
  06MT20040710,  AR04,   765,  1,     17,     17,2,20040726,   0, 16.0660, -57.6353, 5479,   1047.1,   5.4809,  34.8456,2,-999.0000,9,    156.1,2,   -999.0,9,    0.206,2,    0.115,2,   5.3889
  06MT20040710,  AR04,   765,  1,     18,     18,2,20040726,   0, 16.0660, -57.6353, 5479,    781.5,   6.7223,  34.8176,2,  34.8154,2,    126.1,2,    126.6,2,    0.162,2,    0.092,2,   6.6478
  06MT20040710,  AR04,   765,  1,     19,     19,2,20040726,   0, 16.0660, -57.6353, 5479,    601.8,   8.7379,  35.0039,2,-999.0000,9,    120.7,2,   -999.0,9,    0.658,2,    0.362,2,   8.6721
  06MT20040710,  AR04,   765,  1,     20,     20,2,20040726,   0, 16.0660, -57.6353, 5479,    247.2,  18.1793,  36.5442,2,-999.0000,9,    179.1,2,    181.1,2,    2.192,2,    1.293,2,  18.1361
  06MT20040710,  AR04,   765,  1,     21,     21,2,20040726,   0, 16.0660, -57.6353, 5479,     12.1,  28.0326,  33.6356,2,-999.0000,9,    199.0,2,   -999.0,9, -999.000,9, -999.000,9,  28.0298
  06MT20040710,  AR04,   765,  1,     22,     22,2,20040726,   0, 16.0660, -57.6353, 5479,     12.1,  28.0326,  33.6356,2,-999.0000,9,    199.0,2,    198.7,2,    1.529,2,    0.983,2,  28.0298
  06MT20040710,  AR04,   766,  1,      1,      1,2,20040726,   0, 16.0413, -57.2167, 5319,   5317.5,   1.8748,  34.8319,2,-999.0000,9,    243.5,2,    244.9,2, -999.000,9, -999.000,9,   1.3868
  06MT20040710,  AR04,   766,  1,      2,      2,2,20040726,   0, 16.0413, -57.2167, 5319,   5318.1,   1.8749,  34.8320,2,-999.0000,9,    243.5,2,   -999.0,9, -999.000,9, -999.000,9,   1.3868
  06MT20040710,  AR04,   766,  1,      3,      3,2,20040726,   0, 16.0413, -57.2167, 5319,   5318.0,   1.8750,  34.8317,2,  34.8435,3,    243.5,2,   -999.0,9,    0.127,2,    0.071,2,   1.3869
  06MT20040710,  AR04,   766,  1,      4,      4,2,20040726,   0, 16.0413, -57.2167, 5319,   4997.7,   2.0862,  34.8623,2,-999.0000,9,    252.1,2,    251.5,6,    0.118,2,    0.068,2,   1.6311
  06MT20040710,  AR04,   766,  1,      5,      5,2,20040726,   0, 16.0413, -57.2167, 5319,   4598.8,   2.2462,  34.8864,2,-999.0000,9,    259.9,2,    258.4,2,    0.219,2,    0.117,2,   1.8348
  06MT20040710,  AR04,   766,  1,      6,      6,2,20040726,   0, 16.0413, -57.2167, 5319,   4297.5,   2.2935,  34.8945,2,  34.8931,2,    262.7,2,    262.1,2,    0.263,2,    0.140,2,   1.9166
  06MT20040710,  AR04,   766,  1,      7,      7,2,20040726,   0, 16.0413, -57.2167, 5319,   3897.4,   2.3705,  34.9035,2,-999.0000,9,    264.1,2,    263.0,2,    0.342,2,    0.178,2,   2.0374
  06MT20040710,  AR04,   766,  1,      8,      8,2,20040726,   0, 16.0413, -57.2167, 5319,   3497.8,   2.5112,  34.9137,2,-999.0000,9,    262.1,2,    262.6,2,    0.318,2,    0.162,2,   2.2187
  06MT20040710,  AR04,   766,  1,      9,      9,2,20040726,   0, 16.0413, -57.2167, 5319,   2997.3,   2.7653,  34.9312,2,-999.0000,9,    258.0,2,    259.8,2,    0.231,2,    0.120,2,   2.5199
  06MT20040710,  AR04,   766,  1,     10,     10,2,20040726,   0, 16.0413, -57.2167, 5319,   2590.8,   3.0368,  34.9483,2,-999.0000,9,    259.2,2,    258.9,2,    0.285,2,    0.146,2,   2.8271
  06MT20040710,  AR04,   766,  1,     11,     11,2,20040726,   0, 16.0413, -57.2167, 5319,   2291.5,   3.3270,  34.9657,2,  34.9685,2,    258.0,2,   -999.0,9,    0.237,2,    0.122,2,   3.1416
  06MT20040710,  AR04,   766,  1,     12,     12,2,20040726,   0, 16.0413, -57.2167, 5319,   1999.6,   3.6381,  34.9760,2,-999.0000,9,    259.2,2,    258.2,2,    0.545,2,    0.278,2,   3.4759
  06MT20040710,  AR04,   766,  1,     13,     13,2,20040726,   0, 16.0413, -57.2167, 5319,   1797.5,   3.9197,  34.9850,2,-999.0000,9,    257.8,2,   -999.0,9,    0.678,2,    0.347,2,   3.7728
  06MT20040710,  AR04,   766,  1,     14,     14,2,20040726,   0, 16.0413, -57.2167, 5319,   1652.1,   4.1984,  34.9983,2,-999.0000,9,    252.5,2,    256.9,4,    0.802,2,    0.403,2,   4.0616
  06MT20040710,  AR04,   766,  1,     15,     15,2,20040726,   0, 16.0413, -57.2167, 5319,   1512.0,   4.6199,  35.0161,2,  35.0161,2,    237.3,2,   -999.0,9,    0.626,2,    0.320,2,   4.4914
  06MT20040710,  AR04,   766,  1,     16,     16,2,20040726,   0, 16.0413, -57.2167, 5319,   1315.5,   5.1189,  35.0045,2,-999.0000,9,    209.5,2,   -999.0,9,    0.390,2,    0.202,2,   5.0041
  06MT20040710,  AR04,   766,  1,     17,     17,2,20040726,   0, 16.0413, -57.2167, 5319,    998.1,   5.6494,  34.8261,2,-999.0000,9,    150.0,2,    153.6,2,    0.148,2,    0.082,2,   5.5608
  06MT20040710,  AR04,   766,  1,     18,     18,2,20040726,   0, 16.0413, -57.2167, 5319,    699.2,   7.3961,  34.8595,2,-999.0000,9,    124.2,2,    125.4,2,    0.252,2,    0.136,2,   7.3263
  06MT20040710,  AR04,   766,  1,     19,     19,2,20040726,   0, 16.0413, -57.2167, 5319,    498.0,  10.7855,  35.3294,2,-999.0000,9,    125.1,2,   -999.0,9,    0.992,2,    0.529,2,  10.7238
  06MT20040710,  AR04,   766,  1,     20,     20,2,20040726,   0, 16.0413, -57.2167, 5319,    205.1,  20.3457,  36.8387,2,-999.0000,9,    155.8,2,    160.4,2,    2.028,2,    1.226,2,  20.3069
  06MT20040710,  AR04,   766,  1,     21,     21,2,20040726,   0, 16.0413, -57.2167, 5319,     36.3,  28.0615,  34.9455,2,  33.1469,3,    201.0,2,    201.6,6,    1.554,2,    1.004,2,  28.0529
  06MT20040710,  AR04,   766,  1,     22,     22,2,20040726,   0, 16.0413, -57.2167, 5319,     36.3,  28.0615,  34.9455,2,-999.0000,9,    201.0,2,   -999.0,9, -999.000,9, -999.000,9,  28.0529
  06MT20040710,  AR04,   768,  1,      1,      1,2,20040726,   0, 16.0173, -56.8008, 4939,   4937.9,   2.1296,  34.8673,2,-999.0000,9,    252.8,2,    254.7,2, -999.000,9, -999.000,9,   1.6805
  06MT20040710,  AR04,   768,  1,      2,      2,2,20040726,   0, 16.0173, -56.8008, 4939,   4937.9,   2.1298,  34.8672,2,-999.0000,9,    252.8,2,   -999.0,9, -999.000,9, -999.000,9,   1.6807
  06MT20040710,  AR04,   768,  1,      3,      3,2,20040726,   0, 16.0173, -56.8008, 4939,   4937.7,   2.1297,  34.8671,2,  34.8699,2,    252.8,2,   -999.0,9,    0.127,2,    0.072,2,   1.6806
  06MT20040710,  AR04,   768,  1,      4,      4,2,20040726,   0, 16.0173, -56.8008, 4939,   4698.5,   2.1814,  34.8770,2,-999.0000,9,    256.8,2,    256.0,2,    0.165,2,    0.092,2,   1.7600
  06MT20040710,  AR04,   768,  1,      5,      5,2,20040726,   0, 16.0173, -56.8008, 4939,   4397.6,   2.2596,  34.8902,2,  34.8868,2,    261.4,2,    260.6,2,    0.241,2,    0.128,2,   1.8719
  06MT20040710,  AR04,   768,  1,      6,      6,2,20040726,   0, 16.0173, -56.8008, 4939,   3994.7,   2.3322,  34.8994,2,-999.0000,9,    263.2,2,    263.2,2,    0.288,2,    0.151,2,   1.9892
  06MT20040710,  AR04,   768,  1,      7,      7,2,20040726,   0, 16.0173, -56.8008, 4939,   3597.2,   2.4691,  34.9102,2,  34.9110,2,    262.4,2,    262.5,6,    0.320,2,    0.164,2,   2.1668
  06MT20040710,  AR04,   768,  1,      8,      8,2,20040726,   0, 16.0173, -56.8008, 4939,   3197.6,   2.6693,  34.9237,2,-999.0000,9,    259.3,2,    259.7,2,    0.276,2,    0.138,2,   2.4051
  06MT20040710,  AR04,   768,  1,      9,      9,2,20040726,   0, 16.0173, -56.8008, 4939,   2697.9,   2.9471,  34.9434,2,-999.0000,9,    258.1,2,    258.9,2,    0.228,2,    0.120,2,   2.7284
  06MT20040710,  AR04,   768,  1,     10,     10,2,20040726,   0, 16.0173, -56.8008, 4939,   2347.4,   3.2500,  34.9622,2,-999.0000,9,    258.3,2,   -999.0,9,    0.252,2,    0.129,2,   3.0605
  06MT20040710,  AR04,   768,  1,     11,     11,2,20040726,   0, 16.0173, -56.8008, 4939,   2103.6,   3.5445,  34.9766,2,  34.9799,2,    255.6,2,    255.8,2,    0.289,2,    0.152,2,   3.3737
  06MT20040710,  AR04,   768,  1,     12,     12,2,20040726,   0, 16.0173, -56.8008, 4939,   1915.4,   3.7975,  34.9839,2,-999.0000,9,    256.6,2,   -999.0,9,    0.424,2,    0.219,2,   3.6410
  06MT20040710,  AR04,   768,  1,     13,     13,2,20040726,   0, 16.0173, -56.8008, 4939,   1757.8,   3.9974,  34.9886,2,-999.0000,9,    252.4,2,    252.8,2,    0.636,2,    0.324,2,   3.8532
  06MT20040710,  AR04,   768,  1,     14,     14,2,20040726,   0, 16.0173, -56.8008, 4939,   1607.0,   4.3159,  35.0037,2,-999.0000,9,    249.1,2,   -999.0,9,    0.810,2,    0.409,2,   4.1820
  06MT20040710,  AR04,   768,  1,     15,     15,2,20040726,   0, 16.0173, -56.8008, 4939,   1448.8,   4.7435,  35.0176,2,-999.0000,9,    231.3,2,   -999.0,9,    0.579,2,    0.298,2,   4.6197
  06MT20040710,  AR04,   768,  1,     16,     16,2,20040726,   0, 16.0173, -56.8008, 4939,   1196.5,   5.3576,  34.9655,2,-999.0000,9,    188.7,2,    190.0,2,    0.252,2,    0.128,2,   5.2521
  06MT20040710,  AR04,   768,  1,     17,     17,2,20040726,   0, 16.0173, -56.8008, 4939,    904.1,   5.8847,  34.7713,2,-999.0000,9,    137.9,2,   -999.0,9,    0.180,2,    0.102,2,   5.8035
  06MT20040710,  AR04,   768,  1,     18,     18,2,20040726,   0, 16.0173, -56.8008, 4939,    644.8,   8.3025,  34.9562,2,-999.0000,9,    122.0,2,    121.9,2,    1.506,4,    0.827,4,   8.2340
  06MT20040710,  AR04,   768,  1,     19,     19,2,20040726,   0, 16.0173, -56.8008, 4939,    402.3,  13.2063,  35.6878,2,-999.0000,9,    125.6,2,    125.6,6,    0.436,4,    0.235,4,  13.1496
  06MT20040710,  AR04,   768,  1,     20,     20,2,20040726,   0, 16.0173, -56.8008, 4939,    158.2,  23.2480,  37.1537,2,  37.1366,2,    185.9,2,    181.2,2,    1.883,2,    1.182,2,  23.2151
  06MT20040710,  AR04,   768,  1,     21,     21,2,20040726,   0, 16.0173, -56.8008, 4939,     15.0,  28.1045,  32.9467,2,-999.0000,9,    200.9,2,   -999.0,9, -999.000,9, -999.000,9,  28.1010
  06MT20040710,  AR04,   768,  1,     22,     22,2,20040726,   0, 16.0173, -56.8008, 4939,     14.5,  28.1115,  32.9534,2,-999.0000,9,    200.9,2,    201.5,2,    1.516,2,    0.972,2,  28.1081
  06MT20040710,  AR04,   769,  1,      1,      1,2,20040727,   0, 15.9902, -56.3823, 5030,   5028.9,   2.0422,  34.8554,2,-999.0000,9,    249.8,2,    250.0,6, -999.000,9, -999.000,9,   1.5847
  06MT20040710,  AR04,   769,  1,      2,      2,2,20040727,   0, 15.9902, -56.3823, 5030,   5029.0,   2.0418,  34.8560,2,-999.0000,9,    249.8,2,   -999.0,9, -999.000,9, -999.000,9,   1.5843
  06MT20040710,  AR04,   769,  1,      3,      3,2,20040727,   0, 15.9902, -56.3823, 5030,   5029.8,   2.0432,  34.8555,2,  34.8603,2,    249.8,2,   -999.0,9,    0.107,2,    0.060,2,   1.5855
  06MT20040710,  AR04,   769,  1,      4,      4,2,20040727,   0, 15.9902, -56.3823, 5030,   4798.1,   2.1417,  34.8706,2,-999.0000,9,    254.5,2,    254.8,2,    0.131,2,    0.074,2,   1.7094
  06MT20040710,  AR04,   769,  1,      5,      5,2,20040727,   0, 15.9902, -56.3823, 5030,   4497.8,   2.2433,  34.8871,2,  34.8862,2,    260.2,2,    259.0,2,    0.207,2,    0.110,2,   1.8442
  06MT20040710,  AR04,   769,  1,      6,      6,2,20040727,   0, 15.9902, -56.3823, 5030,   4097.3,   2.3219,  34.8984,2,-999.0000,9,    263.6,2,    262.2,2, -999.000,9, -999.000,9,   1.9674
  06MT20040710,  AR04,   769,  1,      7,      7,2,20040727,   0, 15.9902, -56.3823, 5030,   3698.1,   2.4382,  34.9066,2,-999.0000,9,    260.8,2,    202.1,4, -999.000,9, -999.000,9,   2.1256
  06MT20040710,  AR04,   769,  1,      8,      8,2,20040727,   0, 15.9902, -56.3823, 5030,   3297.3,   2.6131,  34.9194,2,  34.9214,2,    256.8,2,    256.3,2, -999.000,9, -999.000,9,   2.3396
  06MT20040710,  AR04,   769,  1,      9,      9,2,20040727,   0, 15.9902, -56.3823, 5030,   2797.3,   2.8757,  34.9388,2,-999.0000,9,    255.0,2,    255.4,2, -999.000,9, -999.000,9,   2.6484
  06MT20040710,  AR04,   769,  1,     10,     10,2,20040727,   0, 15.9902, -56.3823, 5030,   2402.9,   3.2378,  34.9600,2,-999.0000,9,    259.3,2,    259.4,2, -999.000,9, -999.000,9,   3.0430
  06MT20040710,  AR04,   769,  1,     11,     11,2,20040727,   0, 15.9902, -56.3823, 5030,   2139.1,   3.4607,  34.9706,2,-999.0000,9,    259.0,2,    259.3,2,    0.346,2,    0.181,2,   3.2879
  06MT20040710,  AR04,   769,  1,     12,     12,2,20040727,   0, 15.9902, -56.3823, 5030,   1947.8,   3.7142,  34.9791,2,  34.9824,2,    258.4,2,   -999.0,9,    0.510,2,    0.264,2,   3.5558
  06MT20040710,  AR04,   769,  1,     13,     13,2,20040727,   0, 15.9902, -56.3823, 5030,   1847.3,   3.8558,  34.9826,2,-999.0000,9,    257.8,2,    256.3,2,    0.563,2,    0.285,2,   3.7050
  06MT20040710,  AR04,   769,  1,     14,     14,2,20040727,   0, 15.9902, -56.3823, 5030,   1694.8,   4.1260,  34.9952,2,-999.0000,9,    251.9,2,   -999.0,9,    0.646,2,    0.328,2,   3.9861
  06MT20040710,  AR04,   769,  1,     15,     15,2,20040727,   0, 15.9902, -56.3823, 5030,   1540.5,   4.4504,  35.0081,2,-999.0000,9,    241.1,2,    241.5,2,    0.636,2,    0.320,2,   4.3212
  06MT20040710,  AR04,   769,  1,     16,     16,2,20040727,   0, 15.9902, -56.3823, 5030,   1334.8,   4.9918,  35.0003,2,-999.0000,9,    212.6,2,   -999.0,9,    0.358,2,    0.183,2,   4.8764
  06MT20040710,  AR04,   769,  1,     17,     17,2,20040727,   0, 15.9902, -56.3823, 5030,   1097.6,   5.3269,  34.8635,2,-999.0000,9,    163.4,2,    161.5,2,    0.168,2,    0.094,2,   5.2313
  06MT20040710,  AR04,   769,  1,     18,     18,2,20040727,   0, 15.9902, -56.3823, 5030,    799.4,   6.0932,  34.7287,2,-999.0000,9,    129.3,2,   -999.0,9,    0.110,2,    0.064,2,   6.0208
  06MT20040710,  AR04,   769,  1,     19,     19,2,20040727,   0, 15.9902, -56.3823, 5030,    598.5,   8.3716,  34.9721,2,-999.0000,9,    119.1,2,    121.1,2, -999.000,9, -999.000,9,   8.3078
  06MT20040710,  AR04,   769,  1,     20,     20,2,20040727,   0, 15.9902, -56.3823, 5030,    307.7,  15.5695,  36.1088,2,  36.0898,2,    139.1,2,    135.8,2,    1.905,2,    1.071,2,  15.5211
  06MT20040710,  AR04,   769,  1,     21,     21,2,20040727,   0, 15.9902, -56.3823, 5030,     33.7,  27.9719,  36.4893,2,-999.0000,9,    202.7,2,   -999.0,9, -999.000,9, -999.000,9,  27.9639
  06MT20040710,  AR04,   769,  1,     22,     22,2,20040727,   0, 15.9902, -56.3823, 5030,     33.7,  27.9719,  36.4893,2,-999.0000,9,    202.7,2,    200.1,6,    1.540,2,    0.989,2,  27.9639