BOTTLE,20140522SIOCCHGR
EXPOCODE,SECT_ID,STNNBR,CASTNO,SAMPNO,BTLNBR,BTLNBR_FLAG_W,DATE,TIME,LATITUDE,LONGITUDE,DEPTH,CTDPRS,CTDTMP,CTDSAL,CTDSAL_FLAG_W,SALNTY,SALNTY_FLAG_W,CTDOXY,CTDOXY_FLAG_W,OXYGEN,OXYGEN_FLAG_W,CFC-11,CFC-11_FLAG_W,CFC-12,CFC-12_FLAG_W,THETA
,,,,,,,,,,,METERS,DBAR,ITS-90,PSS-78,,PSS-78,,UMOL/KG,,UMOL/KG,,PMOL/KG,,PMOL/KG,,DEG C
  06MT20040710,  AR04,   677,  1,      1,      1,2,20040712,   0, 11.9122, -60.1707, 1796,   1793.8,   3.9019,  34.9804,2,-999.0000,9,    257.4,2,    257.8,6, -999.000,9, -999.000,9,   3.7556
  06MT20040710,  AR04,   677,  1,      2,      2,2,20040712,   0, 11.9122, -60.1707, 1796,   1793.6,   3.9016,  34.9801,2,-999.0000,9,    257.3,2,   -999.0,9,    0.709,2,    0.368,2,   3.7553
  06MT20040710,  AR04,   677,  1,      3,      3,2,20040712,   0, 11.9122, -60.1707, 1796,   1666.3,   3.9734,  34.9840,2,-999.0000,9,    256.4,2,   -999.0,9,    0.771,2,    0.396,2,   3.8381
  06MT20040710,  AR04,   677,  1,      4,      4,2,20040712,   0, 11.9122, -60.1707, 1796,   1517.2,   4.2542,  34.9964,2,  34.9948,2,    250.3,2,   -999.0,9,    0.823,2,    0.424,2,   4.1294
  06MT20040710,  AR04,   677,  1,      5,      5,2,20040712,   0, 11.9122, -60.1707, 1796,   1315.1,   4.7390,  35.0017,2,-999.0000,9,    225.9,2,   -999.0,9,    0.640,2,    0.327,2,   4.6280
  06MT20040710,  AR04,   677,  1,      6,      6,2,20040712,   0, 11.9122, -60.1707, 1796,   1314.5,   4.7400,  35.0016,2,-999.0000,9,    225.8,2,   -999.0,9, -999.000,9, -999.000,9,   4.6290
  06MT20040710,  AR04,   677,  1,      7,      7,2,20040712,   0, 11.9122, -60.1707, 1796,   1105.7,   5.1844,  34.8508,2,-999.0000,9,    167.7,2,    178.4,2,    0.184,2,    0.097,2,   5.0893
  06MT20040710,  AR04,   677,  1,      8,      8,2,20040712,   0, 11.9122, -60.1707, 1796,   1105.5,   5.1823,  34.8471,2,-999.0000,9,    167.6,2,   -999.0,9, -999.000,9, -999.000,9,   5.0872
  06MT20040710,  AR04,   677,  1,      9,      9,2,20040712,   0, 11.9122, -60.1707, 1796,    901.5,   5.3812,  34.6183,2,-999.0000,9,    142.5,2,    138.3,2,    0.098,2,    0.052,2,   5.3039
  06MT20040710,  AR04,   677,  1,     10,     10,2,20040712,   0, 11.9122, -60.1707, 1796,    903.0,   5.3889,  34.6197,2,-999.0000,9,    142.4,2,   -999.0,9, -999.000,9, -999.000,9,   5.3115
  06MT20040710,  AR04,   677,  1,     11,     11,2,20040712,   0, 11.9122, -60.1707, 1796,    708.8,   6.2394,  34.6307,2,-999.0000,9,    129.1,2,   -999.0,9, -999.000,9, -999.000,9,   6.1750
  06MT20040710,  AR04,   677,  1,     12,     12,2,20040712,   0, 11.9122, -60.1707, 1796,    705.9,   6.2771,  34.6339,2,  34.6366,2,    129.0,2,   -999.0,9,    0.256,2,    0.136,2,   6.2128
  06MT20040710,  AR04,   677,  1,     13,     13,2,20040712,   0, 11.9122, -60.1707, 1796,    503.4,   8.1893,  34.8264,2,-999.0000,9,    120.7,2,   -999.0,9,    0.659,2,    0.352,2,   8.1368
  06MT20040710,  AR04,   677,  1,     14,     14,2,20040712,   0, 11.9122, -60.1707, 1796,    254.7,  13.6478,  35.6400,2,-999.0000,9,    126.2,2,   -999.0,9, -999.000,9, -999.000,9,  13.6113
  06MT20040710,  AR04,   677,  1,     15,     15,2,20040712,   0, 11.9122, -60.1707, 1796,    100.3,  24.7705,  36.6129,2,-999.0000,9,    186.0,2,   -999.0,9, -999.000,9, -999.000,9,  24.7488
  06MT20040710,  AR04,   677,  1,     16,     16,2,20040712,   0, 11.9122, -60.1707, 1796,     28.9,  28.1093,  35.0072,2,-999.0000,9,    200.2,2,    202.6,2,    1.553,2,    1.009,2,  28.1025
  06MT20040710,  AR04,   677,  1,     17,     17,2,20040712,   0, 11.9122, -60.1707, 1796,     28.9,  28.1093,  35.0072,2,-999.0000,9,    200.2,2,   -999.0,9, -999.000,9, -999.000,9,  28.1025
  06MT20040710,  AR04,   677,  1,     18,     18,2,20040712,   0, 11.9122, -60.1707, 1796,     28.9,  28.1093,  35.0072,2,-999.0000,9,    200.2,2,   -999.0,9, -999.000,9, -999.000,9,  28.1025
  06MT20040710,  AR04,   677,  1,     19,     19,2,20040712,   0, 11.9122, -60.1707, 1796,     28.9,  28.1093,  35.0072,2,-999.0000,9,    200.2,2,   -999.0,9, -999.000,9, -999.000,9,  28.1025
  06MT20040710,  AR04,   677,  1,     20,     20,2,20040712,   0, 11.9122, -60.1707, 1796,     28.9,  28.1093,  35.0072,2,-999.0000,9,    200.2,2,   -999.0,9, -999.000,9, -999.000,9,  28.1025
  06MT20040710,  AR04,   677,  1,     21,     21,2,20040712,   0, 11.9122, -60.1707, 1796,     28.9,  28.1093,  35.0072,2,-999.0000,9,    200.2,2,   -999.0,9, -999.000,9, -999.000,9,  28.1025
  06MT20040710,  AR04,   677,  1,     22,     22,2,20040712,   0, 11.9122, -60.1707, 1796,     28.9,  28.1093,  35.0072,2,-999.0000,9,    200.2,2,   -999.0,9, -999.000,9, -999.000,9,  28.1025
  06MT20040710,  AR04,   678,  1,      1,      1,2,20040712,   0, 11.7290, -60.2443, 1519,   1518.4,   4.3042,  34.9978,2,-999.0000,9,    251.5,2,    247.8,2, -999.000,9, -999.000,9,   4.1788
  06MT20040710,  AR04,   678,  1,      2,      2,2,20040712,   0, 11.7290, -60.2443, 1519,   1517.3,   4.3172,  34.9978,2,-999.0000,9,    251.3,2,   -999.0,9,    0.751,2,    0.384,2,   4.1917
  06MT20040710,  AR04,   678,  1,      3,      3,2,20040712,   0, 11.7290, -60.2443, 1519,   1364.0,   4.6341,  35.0071,2,-999.0000,9,    235.5,2,   -999.0,9,    0.722,2,    0.366,2,   4.5195
  06MT20040710,  AR04,   678,  1,      4,      4,2,20040712,   0, 11.7290, -60.2443, 1519,   1167.4,   5.0867,  34.9554,2,  34.9744,3,    194.1,2,   -999.0,9,    0.397,2,    0.208,2,   4.9864
  06MT20040710,  AR04,   678,  1,      5,      5,2,20040712,   0, 11.7290, -60.2443, 1519,   1006.1,   5.1505,  34.7527,2,-999.0000,9,    156.4,2,    156.0,2, -999.000,9, -999.000,9,   5.0651
  06MT20040710,  AR04,   678,  1,      6,      6,2,20040712,   0, 11.7290, -60.2443, 1519,   1004.4,   5.1515,  34.7526,2,-999.0000,9,    156.1,2,   -999.0,9,    0.079,2,    0.041,2,   5.0662
  06MT20040710,  AR04,   678,  1,      7,      7,2,20040712,   0, 11.7290, -60.2443, 1519,    801.3,   5.5452,  34.6099,2,-999.0000,9,    136.6,2,   -999.0,9, -999.000,9, -999.000,9,   5.4761
  06MT20040710,  AR04,   678,  1,      8,      8,2,20040712,   0, 11.7290, -60.2443, 1519,    601.0,   6.6042,  34.6505,2,-999.0000,9,    124.9,2,   -999.0,9,    0.362,2,    0.190,2,   6.5484
  06MT20040710,  AR04,   678,  1,      9,      9,2,20040712,   0, 11.7290, -60.2443, 1519,    410.9,   8.7578,  34.8862,2,-999.0000,9,    119.6,2,   -999.0,9,    0.902,2,    0.482,2,   8.7134
  06MT20040710,  AR04,   678,  1,     10,     10,2,20040712,   0, 11.7290, -60.2443, 1519,    409.1,   8.7686,  34.8867,2,-999.0000,9,    119.6,2,   -999.0,9, -999.000,9, -999.000,9,   8.7244
  06MT20040710,  AR04,   678,  1,     11,     11,2,20040712,   0, 11.7290, -60.2443, 1519,    188.6,  16.2304,  36.1152,2,-999.0000,9,    135.6,2,   -999.0,9,    1.548,2,    1.005,2,  16.2000
  06MT20040710,  AR04,   678,  1,     12,     12,2,20040712,   0, 11.7290, -60.2443, 1519,    188.4,  16.2468,  36.1136,2,  35.9423,3,    135.6,2,   -999.0,9,    1.816,2,    1.040,2,  16.2164
  06MT20040710,  AR04,   678,  1,     13,     13,2,20040712,   0, 11.7290, -60.2443, 1519,    107.2,  24.2450,  37.0699,2,-999.0000,9,    181.0,2,   -999.0,9, -999.000,9, -999.000,9,  24.2221
  06MT20040710,  AR04,   678,  1,     14,     14,2,20040712,   0, 11.7290, -60.2443, 1519,     27.4,  28.0708,  35.0386,2,-999.0000,9,    200.8,2,    200.2,2, -999.000,9, -999.000,9,  28.0643
  06MT20040710,  AR04,   678,  1,     15,     15,2,20040712,   0, 11.7290, -60.2443, 1519,     27.6,  28.0706,  35.0422,2,-999.0000,9,    200.8,2,   -999.0,9, -999.000,9, -999.000,9,  28.0641
  06MT20040710,  AR04,   678,  1,     16,     16,2,20040712,   0, 11.7290, -60.2443, 1519,     24.4,  28.0740,  35.0194,2,-999.0000,9,    201.0,2,   -999.0,9, -999.000,9, -999.000,9,  28.0682
  06MT20040710,  AR04,   678,  1,     17,     17,2,20040712,   0, 11.7290, -60.2443, 1519,     15.6,  28.0797,  35.0074,2,-999.0000,9,    201.3,2,   -999.0,9, -999.000,9, -999.000,9,  28.0760
  06MT20040710,  AR04,   678,  1,     18,     18,2,20040712,   0, 11.7290, -60.2443, 1519,     15.4,  28.0808,  35.0060,2,-999.0000,9,    201.3,2,   -999.0,9, -999.000,9, -999.000,9,  28.0772
  06MT20040710,  AR04,   678,  1,     19,     19,2,20040712,   0, 11.7290, -60.2443, 1519,     15.5,  28.0800,  35.0068,2,-999.0000,9,    201.3,2,   -999.0,9, -999.000,9, -999.000,9,  28.0763
  06MT20040710,  AR04,   678,  1,     20,     20,2,20040712,   0, 11.7290, -60.2443, 1519,     20.3,  28.0786,  35.0089,2,-999.0000,9,    201.2,2,   -999.0,9, -999.000,9, -999.000,9,  28.0738
  06MT20040710,  AR04,   678,  1,     21,     21,2,20040712,   0, 11.7290, -60.2443, 1519,     20.3,  28.0786,  35.0089,2,-999.0000,9,    201.2,2,   -999.0,9, -999.000,9, -999.000,9,  28.0738
  06MT20040710,  AR04,   678,  1,     22,     22,2,20040712,   0, 11.7290, -60.2443, 1519,     22.3,  28.0773,  35.0121,2,-999.0000,9,    201.1,2,   -999.0,9, -999.000,9, -999.000,9,  28.0720
  06MT20040710,  AR04,   679,  1,      1,      1,2,20040712,   0, 11.5470, -60.3130, 1514,   1513.7,   4.2425,  34.9954,2,-999.0000,9,    253.5,2,    249.9,2, -999.000,9, -999.000,9,   4.1182
  06MT20040710,  AR04,   679,  1,      2,      2,2,20040712,   0, 11.5470, -60.3130, 1514,   1513.5,   4.2423,  34.9956,2,  34.9952,2,    253.5,2,   -999.0,9,    0.769,2,    0.397,2,   4.1180
  06MT20040710,  AR04,   679,  1,      3,      3,2,20040712,   0, 11.5470, -60.3130, 1514,   1198.7,   5.0550,  34.9889,2,-999.0000,9,    212.2,2,   -999.0,9,    0.438,2,    0.227,2,   4.9520
  06MT20040710,  AR04,   679,  1,      4,      4,2,20040712,   0, 11.5470, -60.3130, 1514,   1045.9,   5.1539,  34.9166,2,-999.0000,9,    181.7,2,   -999.0,9,    0.238,2,    0.124,2,   5.0645
  06MT20040710,  AR04,   679,  1,      5,      5,2,20040712,   0, 11.5470, -60.3130, 1514,    842.0,   5.2632,  34.6454,2,-999.0000,9,    142.4,2,    141.9,2,    0.088,2,    0.047,2,   5.1921
  06MT20040710,  AR04,   679,  1,      6,      6,2,20040712,   0, 11.5470, -60.3130, 1514,    844.6,   5.2892,  34.6483,2,  34.6476,2,    142.7,2,   -999.0,9, -999.000,9, -999.000,9,   5.2177
  06MT20040710,  AR04,   679,  1,      7,      7,2,20040712,   0, 11.5470, -60.3130, 1514,    647.1,   6.6806,  34.6879,2,-999.0000,9,    125.6,2,   -999.0,9,    0.300,2,    0.162,2,   6.6199
  06MT20040710,  AR04,   679,  1,      8,      8,2,20040712,   0, 11.5470, -60.3130, 1514,    444.3,   8.4298,  34.8401,2,-999.0000,9,    119.9,2,   -999.0,9,    0.787,2,    0.421,2,   8.3828
  06MT20040710,  AR04,   679,  1,      9,      9,2,20040712,   0, 11.5470, -60.3130, 1514,    290.8,  11.1310,  35.2568,2,-999.0000,9,    122.3,2,   -999.0,9, -999.000,9, -999.000,9,  11.0946
  06MT20040710,  AR04,   679,  1,     10,     10,2,20040712,   0, 11.5470, -60.3130, 1514,    291.1,  11.1273,  35.2542,2,-999.0000,9,    122.3,2,   -999.0,9, -999.000,9, -999.000,9,  11.0909
  06MT20040710,  AR04,   679,  1,     11,     11,2,20040712,   0, 11.5470, -60.3130, 1514,    291.1,  11.1262,  35.2540,2,-999.0000,9,    122.3,2,   -999.0,9,    1.236,2,    0.677,2,  11.0898
  06MT20040710,  AR04,   679,  1,     12,     12,2,20040712,   0, 11.5470, -60.3130, 1514,    147.6,  18.2713,  36.4352,2,-999.0000,9,    145.9,2,   -999.0,9, -999.000,9, -999.000,9,  18.2455
  06MT20040710,  AR04,   679,  1,     13,     13,2,20040712,   0, 11.5470, -60.3130, 1514,    147.7,  18.2361,  36.4316,2,-999.0000,9,    145.8,2,   -999.0,9,    1.963,2,    1.180,2,  18.2103
  06MT20040710,  AR04,   679,  1,     14,     14,2,20040712,   0, 11.5470, -60.3130, 1514,    143.5,  18.8692,  36.5242,2,-999.0000,9,    146.8,2,    141.0,6, -999.000,9, -999.000,9,  18.8435
  06MT20040710,  AR04,   679,  1,     15,     15,2,20040712,   0, 11.5470, -60.3130, 1514,      4.5,  28.1766,  35.2403,2,  35.1443,3,    200.7,2,   -999.0,9,    1.539,2,    1.008,2,  28.1755
  06MT20040710,  AR04,   679,  1,     16,     16,2,20040712,   0, 11.5470, -60.3130, 1514,      4.5,  28.1766,  35.2403,2,-999.0000,9,    200.7,2,    201.5,2, -999.000,9, -999.000,9,  28.1755
  06MT20040710,  AR04,   679,  1,     17,     17,2,20040712,   0, 11.5470, -60.3130, 1514,      4.5,  28.1766,  35.2403,2,-999.0000,9,    200.7,2,   -999.0,9, -999.000,9, -999.000,9,  28.1755
  06MT20040710,  AR04,   679,  1,     18,     18,2,20040712,   0, 11.5470, -60.3130, 1514,      4.5,  28.1766,  35.2403,2,-999.0000,9,    200.7,2,   -999.0,9, -999.000,9, -999.000,9,  28.1755
  06MT20040710,  AR04,   679,  1,     19,     19,2,20040712,   0, 11.5470, -60.3130, 1514,      4.5,  28.1766,  35.2403,2,-999.0000,9,    200.7,2,   -999.0,9, -999.000,9, -999.000,9,  28.1755
  06MT20040710,  AR04,   679,  1,     20,     20,2,20040712,   0, 11.5470, -60.3130, 1514,      4.5,  28.1766,  35.2403,2,-999.0000,9,    200.7,2,   -999.0,9, -999.000,9, -999.000,9,  28.1755
  06MT20040710,  AR04,   679,  1,     21,     21,2,20040712,   0, 11.5470, -60.3130, 1514,      4.5,  28.1766,  35.2403,2,-999.0000,9,    200.7,2,   -999.0,9, -999.000,9, -999.000,9,  28.1755
  06MT20040710,  AR04,   679,  1,     22,     22,2,20040712,   0, 11.5470, -60.3130, 1514,      4.5,  28.1766,  35.2403,2,-999.0000,9,    200.7,2,   -999.0,9, -999.000,9, -999.000,9,  28.1755
  06MT20040710,  AR04,   680,  1,      1,      1,2,20040712,   0, 11.3558, -60.3987, 1126,   1124.8,   5.2111,  34.9288,2,-999.0000,9,    194.2,2,    188.6,2, -999.000,9, -999.000,9,   5.1138
  06MT20040710,  AR04,   680,  1,      2,      2,2,20040712,   0, 11.3558, -60.3987, 1126,   1124.7,   5.2113,  34.9287,2,  34.9191,2,    194.2,2,   -999.0,9,    0.329,2,    0.173,2,   5.1140
  06MT20040710,  AR04,   680,  1,      3,      3,2,20040712,   0, 11.3558, -60.3987, 1126,    897.3,   5.2054,  34.7666,2,-999.0000,9,    156.3,2,   -999.0,9,    0.128,2,    0.066,2,   5.1295
  06MT20040710,  AR04,   680,  1,      4,      4,2,20040712,   0, 11.3558, -60.3987, 1126,    703.0,   5.5439,  34.6277,2,-999.0000,9,    136.7,2,   -999.0,9,    0.129,2,    0.069,2,   5.4838
  06MT20040710,  AR04,   680,  1,      5,      5,2,20040712,   0, 11.3558, -60.3987, 1126,    494.4,   7.6453,  34.7347,2,-999.0000,9,    123.0,2,    124.6,2, -999.000,9, -999.000,9,   7.5958
  06MT20040710,  AR04,   680,  1,      6,      6,2,20040712,   0, 11.3558, -60.3987, 1126,    491.7,   7.6599,  34.7361,2,  34.7360,2,    123.0,2,   -999.0,9,    0.625,2,    0.336,2,   7.6106
  06MT20040710,  AR04,   680,  1,      7,      7,2,20040712,   0, 11.3558, -60.3987, 1126,    365.5,   9.1167,  34.8732,2,-999.0000,9,    136.3,2,   -999.0,9, -999.000,9, -999.000,9,   9.0763
  06MT20040710,  AR04,   680,  1,      8,      8,2,20040712,   0, 11.3558, -60.3987, 1126,    365.8,   9.1149,  34.8737,2,-999.0000,9,    136.2,2,    137.5,2, -999.000,9, -999.000,9,   9.0745
  06MT20040710,  AR04,   680,  1,      9,      9,2,20040712,   0, 11.3558, -60.3987, 1126,    195.3,  13.0374,  35.5070,2,-999.0000,9,    135.6,2,   -999.0,9,    1.697,2,    0.947,2,  13.0104
  06MT20040710,  AR04,   680,  1,     10,     10,2,20040712,   0, 11.3558, -60.3987, 1126,     98.7,  22.8434,  36.9158,2,-999.0000,9,    172.0,2,   -999.0,9, -999.000,9, -999.000,9,  22.8232
  06MT20040710,  AR04,   680,  1,     11,     11,2,20040712,   0, 11.3558, -60.3987, 1126,     12.2,  28.1058,  35.4346,2,-999.0000,9,    201.7,2,   -999.0,9,    1.546,2,    1.013,2,  28.1029
  06MT20040710,  AR04,   680,  1,     12,     12,2,20040712,   0, 11.3558, -60.3987, 1126,     12.3,  28.1052,  35.4339,2,-999.0000,9,    201.7,2,    200.9,2, -999.000,9, -999.000,9,  28.1023
  06MT20040710,  AR04,   680,  1,     13,     13,2,20040712,   0, 11.3558, -60.3987, 1126,     12.6,  28.1006,  35.4336,2,-999.0000,9,    201.6,2,   -999.0,9, -999.000,9, -999.000,9,  28.0976
  06MT20040710,  AR04,   680,  1,     14,     14,2,20040712,   0, 11.3558, -60.3987, 1126,     12.4,  28.1025,  35.4339,2,-999.0000,9,    201.7,2,   -999.0,9, -999.000,9, -999.000,9,  28.0996
  06MT20040710,  AR04,   680,  1,     15,     15,2,20040712,   0, 11.3558, -60.3987, 1126,     12.4,  28.1017,  35.4339,2,-999.0000,9,    201.7,2,   -999.0,9, -999.000,9, -999.000,9,  28.0988
  06MT20040710,  AR04,   680,  1,     16,     16,2,20040712,   0, 11.3558, -60.3987, 1126,     11.5,  28.0975,  35.4374,2,-999.0000,9,    201.7,2,   -999.0,9, -999.000,9, -999.000,9,  28.0948
  06MT20040710,  AR04,   680,  1,     17,     17,2,20040712,   0, 11.3558, -60.3987, 1126,     11.5,  28.0975,  35.4374,2,-999.0000,9,    201.7,2,   -999.0,9, -999.000,9, -999.000,9,  28.0948
  06MT20040710,  AR04,   680,  1,     18,     18,2,20040712,   0, 11.3558, -60.3987, 1126,     11.5,  28.0975,  35.4374,2,-999.0000,9,    201.7,2,   -999.0,9, -999.000,9, -999.000,9,  28.0948
  06MT20040710,  AR04,   680,  1,     19,     19,2,20040712,   0, 11.3558, -60.3987, 1126,     15.6,  28.0929,  35.4311,2,-999.0000,9,    201.6,2,   -999.0,9, -999.000,9, -999.000,9,  28.0892
  06MT20040710,  AR04,   680,  1,     20,     20,2,20040712,   0, 11.3558, -60.3987, 1126,     17.3,  28.0888,  35.4301,2,-999.0000,9,    201.6,2,   -999.0,9, -999.000,9, -999.000,9,  28.0847
  06MT20040710,  AR04,   680,  1,     21,     21,2,20040712,   0, 11.3558, -60.3987, 1126,     15.5,  28.0944,  35.4314,2,-999.0000,9,    201.6,2,   -999.0,9, -999.000,9, -999.000,9,  28.0907
  06MT20040710,  AR04,   680,  1,     22,     22,2,20040712,   0, 11.3558, -60.3987, 1126,     11.5,  28.0975,  35.4374,2,-999.0000,9,    201.7,2,   -999.0,9, -999.000,9, -999.000,9,  28.0948