BOTTLE,20140522SIOCCHGR
EXPOCODE,SECT_ID,STNNBR,CASTNO,SAMPNO,BTLNBR,BTLNBR_FLAG_W,DATE,TIME,LATITUDE,LONGITUDE,DEPTH,CTDPRS,CTDTMP,CTDSAL,CTDSAL_FLAG_W,SALNTY,SALNTY_FLAG_W,CTDOXY,CTDOXY_FLAG_W,OXYGEN,OXYGEN_FLAG_W,CFC-11,CFC-11_FLAG_W,CFC-12,CFC-12_FLAG_W,THETA
,,,,,,,,,,,METERS,DBAR,ITS-90,PSS-78,,PSS-78,,UMOL/KG,,UMOL/KG,,PMOL/KG,,PMOL/KG,,DEG C
  06MT20040710,  AR04,   721,  1,      1,      1,2,20040717,   0, 11.5898, -60.4697, 1036,   1033.8,   5.2601,  34.9024,2,-999.0000,9,    181.6,2,    179.8,6, -999.000,9, -999.000,9,   5.1710
  06MT20040710,  AR04,   721,  1,      2,      2,2,20040717,   0, 11.5898, -60.4697, 1036,   1034.1,   5.2596,  34.9028,2,-999.0000,9,    181.7,2,   -999.0,9, -999.000,9, -999.000,9,   5.1705
  06MT20040710,  AR04,   721,  1,      3,      3,2,20040717,   0, 11.5898, -60.4697, 1036,   1034.7,   5.2598,  34.9031,2,  34.9071,2,    181.9,2,   -999.0,9,    0.208,6,    0.106,6,   5.1706
  06MT20040710,  AR04,   721,  1,      4,      4,2,20040717,   0, 11.5898, -60.4697, 1036,    703.8,   5.4431,  34.6290,2,-999.0000,9,    139.4,2,   -999.0,9,    0.116,2,    0.060,2,   5.3834
  06MT20040710,  AR04,   721,  1,      5,      5,2,20040717,   0, 11.5898, -60.4697, 1036,    699.8,   5.4525,  34.6298,2,-999.0000,9,    139.1,2,    196.6,4, -999.000,9, -999.000,9,   5.3931
  06MT20040710,  AR04,   721,  1,      6,      6,2,20040717,   0, 11.5898, -60.4697, 1036,    404.9,   9.6283,  35.0305,2,  34.9996,3,    119.7,2,   -999.0,9,    0.972,2,    0.509,2,   9.5819
  06MT20040710,  AR04,   721,  1,      7,      7,2,20040717,   0, 11.5898, -60.4697, 1036,    109.8,  19.5639,  36.6156,2,-999.0000,9,    150.7,2,   -999.0,9,    1.984,2,    1.155,2,  19.5438
  06MT20040710,  AR04,   721,  1,      8,      8,2,20040717,   0, 11.5898, -60.4697, 1036,    105.1,  19.6947,  36.6099,2,-999.0000,9,    151.4,2,   -999.0,9, -999.000,9, -999.000,9,  19.6753
  06MT20040710,  AR04,   721,  1,      9,      9,2,20040717,   0, 11.5898, -60.4697, 1036,     13.9,  28.1889,  35.5778,2,-999.0000,9,    196.8,2,   -999.0,9,    1.509,6,    0.952,6,  28.1856
  06MT20040710,  AR04,   721,  1,     10,     10,2,20040717,   0, 11.5898, -60.4697, 1036,     14.8,  28.1898,  35.5780,2,-999.0000,9,    196.8,2,   -999.0,9, -999.000,9, -999.000,9,  28.1863
  06MT20040710,  AR04,   722,  1,      1,      1,2,20040717,   0, 11.5433, -60.3128, 1517,   1516.5,   4.0023,  34.9862,2,-999.0000,9,    260.8,2,    255.7,2, -999.000,9, -999.000,9,   3.8805
  06MT20040710,  AR04,   722,  1,      2,      2,2,20040717,   0, 11.5433, -60.3128, 1517,   1515.6,   4.0033,  34.9872,2,-999.0000,9,    260.7,2,   -999.0,9, -999.000,9, -999.000,9,   3.8816
  06MT20040710,  AR04,   722,  1,      3,      3,2,20040717,   0, 11.5433, -60.3128, 1517,   1516.7,   4.0044,  34.9856,2,  34.9901,2,    260.8,2,   -999.0,9,    0.783,2,    0.397,2,   3.8826
  06MT20040710,  AR04,   722,  1,      4,      4,2,20040717,   0, 11.5433, -60.3128, 1517,    898.2,   5.2051,  34.7024,2,-999.0000,9,    148.6,2,   -999.0,9,    0.077,2,    0.041,2,   5.1292
  06MT20040710,  AR04,   722,  1,      5,      5,2,20040717,   0, 11.5433, -60.3128, 1517,    896.2,   5.2083,  34.6985,2,-999.0000,9,    148.4,2,    150.5,6, -999.000,9, -999.000,9,   5.1326
  06MT20040710,  AR04,   722,  1,      6,      6,2,20040717,   0, 11.5433, -60.3128, 1517,    597.9,   6.5945,  34.6709,2,  34.6700,2,    125.5,2,   -999.0,9,    0.292,2,    0.154,2,   6.5390
  06MT20040710,  AR04,   722,  1,      7,      7,2,20040717,   0, 11.5433, -60.3128, 1517,    300.4,  11.0194,  35.2276,2,-999.0000,9,    122.5,2,   -999.0,9,    1.285,2,    0.692,2,  10.9820
  06MT20040710,  AR04,   722,  1,      8,      8,2,20040717,   0, 11.5433, -60.3128, 1517,    295.4,  11.0196,  35.2288,2,-999.0000,9,    122.9,2,    122.2,2, -999.000,9, -999.000,9,  10.9829
  06MT20040710,  AR04,   722,  1,      9,      9,2,20040717,   0, 11.5433, -60.3128, 1517,    150.9,  18.4368,  36.4572,2,-999.0000,9,    143.1,2,    136.0,2,    1.942,2,    1.134,2,  18.4102
  06MT20040710,  AR04,   722,  1,     10,     10,2,20040717,   0, 11.5433, -60.3128, 1517,     22.3,  28.2413,  35.5494,2,-999.0000,9,    196.4,2,   -999.0,9,    1.490,6,    0.951,6,  28.2360
  06MT20040710,  AR04,   722,  1,     11,     11,2,20040717,   0, 11.5433, -60.3128, 1517,     21.8,  28.2397,  35.5430,2,-999.0000,9,    196.4,2,    198.1,2,    1.504,6,    0.965,6,  28.2345
  06MT20040710,  AR04,   723,  1,      1,      1,2,20040717,   0, 11.3567, -60.4008, 1098,   1096.5,   5.2299,  34.9180,2,-999.0000,9,    183.5,2,    183.5,2, -999.000,9, -999.000,9,   5.1351
  06MT20040710,  AR04,   723,  1,      2,      2,2,20040717,   0, 11.3567, -60.4008, 1098,   1096.3,   5.2308,  34.9169,2,-999.0000,9,    183.4,2,   -999.0,9, -999.000,9, -999.000,9,   5.1361
  06MT20040710,  AR04,   723,  1,      3,      3,2,20040717,   0, 11.3567, -60.4008, 1098,   1096.6,   5.2300,  34.9178,2,  34.9169,2,    183.5,2,   -999.0,9,    0.228,6,    0.119,6,   5.1352
  06MT20040710,  AR04,   723,  1,      4,      4,2,20040717,   0, 11.3567, -60.4008, 1098,    804.3,   5.2608,  34.6936,2,-999.0000,9,    148.1,2,   -999.0,9,    0.073,6,    0.039,6,   5.1931
  06MT20040710,  AR04,   723,  1,      5,      5,2,20040717,   0, 11.3567, -60.4008, 1098,    802.4,   5.2646,  34.6932,2,-999.0000,9,    148.0,2,    144.7,2, -999.000,9, -999.000,9,   5.1970
  06MT20040710,  AR04,   723,  1,      6,      6,2,20040717,   0, 11.3567, -60.4008, 1098,    520.0,   6.8951,  34.6934,2,-999.0000,9,    125.7,2,    125.7,2,    0.420,2,    0.224,2,   6.8459
  06MT20040710,  AR04,   723,  1,      7,      7,2,20040717,   0, 11.3567, -60.4008, 1098,    212.3,  13.9981,  35.6027,2,-999.0000,9,    143.6,2,    142.8,2, -999.000,9, -999.000,9,  13.9672
  06MT20040710,  AR04,   723,  1,      8,      8,2,20040717,   0, 11.3567, -60.4008, 1098,     19.7,  28.2376,  35.5054,2,  35.5138,2,    196.7,2,   -999.0,9,    1.501,6,    0.965,6,  28.2329
  06MT20040710,  AR04,   723,  1,      9,      9,2,20040717,   0, 11.3567, -60.4008, 1098,     13.6,  28.2330,  35.4885,2,-999.0000,9,    197.1,2,    197.8,2, -999.000,9, -999.000,9,  28.2298
  06MT20040710,  AR04,   726,  1,      1,      1,2,20040717,   0, 10.1678, -60.1008,  280,    279.3,  11.3894,  35.2096,2,-999.0000,9,    135.0,2,    136.3,2, -999.000,9, -999.000,9,  11.3540
  06MT20040710,  AR04,   726,  1,      2,      2,2,20040717,   0, 10.1678, -60.1008,  280,    279.4,  11.3823,  35.2187,2,-999.0000,9,    135.0,2,   -999.0,9, -999.000,9, -999.000,9,  11.3469
  06MT20040710,  AR04,   726,  1,      3,      3,2,20040717,   0, 10.1678, -60.1008,  280,    279.3,  11.3919,  35.2095,2,  35.2347,2,    135.0,2,   -999.0,9,    1.622,2,    0.879,2,  11.3565
  06MT20040710,  AR04,   726,  1,      4,      4,2,20040717,   0, 10.1678, -60.1008,  280,    202.2,  14.3349,  35.7091,2,-999.0000,9,    138.7,2,    138.6,2,    1.829,2,    1.021,2,  14.3050
  06MT20040710,  AR04,   726,  1,      5,      5,2,20040717,   0, 10.1678, -60.1008,  280,    104.7,  22.9781,  37.0401,2,-999.0000,9,    167.6,2,    165.1,2, -999.000,9, -999.000,9,  22.9566
  06MT20040710,  AR04,   726,  1,      6,      6,2,20040717,   0, 10.1678, -60.1008,  280,    104.5,  23.0057,  37.0478,2,-999.0000,9,    167.6,2,   -999.0,9,    1.866,2,    1.152,2,  22.9842
  06MT20040710,  AR04,   726,  1,      7,      7,2,20040717,   0, 10.1678, -60.1008,  280,     13.7,  27.9405,  35.4849,2,-999.0000,9,    199.4,2,   -999.0,9,    1.495,2,    0.967,2,  27.9373
  06MT20040710,  AR04,   726,  1,      8,      8,2,20040717,   0, 10.1678, -60.1008,  280,     13.9,  27.9366,  35.4893,2,-999.0000,9,    199.3,2,   -999.0,9, -999.000,9, -999.000,9,  27.9333
  06MT20040710,  AR04,   727,  1,      1,      1,2,20040718,   0, 10.1658, -59.6665, 1010,   1008.0,   5.2390,  34.8619,2,-999.0000,9,    172.0,2,    169.5,6, -999.000,9, -999.000,9,   5.1525
  06MT20040710,  AR04,   727,  1,      2,      2,2,20040718,   0, 10.1658, -59.6665, 1010,   1008.0,   5.2393,  34.8620,2,-999.0000,9,    172.0,2,   -999.0,9, -999.000,9, -999.000,9,   5.1528
  06MT20040710,  AR04,   727,  1,      3,      3,2,20040718,   0, 10.1658, -59.6665, 1010,   1008.8,   5.2395,  34.8625,2,  34.8577,2,    172.7,2,   -999.0,9,    0.132,2,    0.072,2,   5.1530
  06MT20040710,  AR04,   727,  1,      4,      4,2,20040718,   0, 10.1658, -59.6665, 1010,    909.2,   5.0723,  34.6827,2,-999.0000,9,    151.1,2,    151.4,2,    0.056,2,    0.031,2,   4.9964
  06MT20040710,  AR04,   727,  1,      5,      5,2,20040718,   0, 10.1658, -59.6665, 1010,    805.6,   5.2537,  34.6374,2,-999.0000,9,    141.6,2,    141.7,2, -999.000,9, -999.000,9,   5.1860
  06MT20040710,  AR04,   727,  1,      6,      6,2,20040718,   0, 10.1658, -59.6665, 1010,    804.2,   5.2583,  34.6344,2,-999.0000,9,    141.5,2,   -999.0,9,    0.073,2,    0.041,2,   5.1907
  06MT20040710,  AR04,   727,  1,      7,      7,2,20040718,   0, 10.1658, -59.6665, 1010,    612.3,   6.4387,  34.6570,2,  34.6625,2,    126.6,2,   -999.0,9,    0.274,2,    0.149,2,   6.3825
  06MT20040710,  AR04,   727,  1,      8,      8,2,20040718,   0, 10.1658, -59.6665, 1010,    416.0,   9.0984,  34.9773,2,-999.0000,9,    116.2,2,    117.2,2,    0.805,2,    0.436,2,   9.0523
  06MT20040710,  AR04,   727,  1,      9,      9,2,20040718,   0, 10.1658, -59.6665, 1010,    253.7,  12.0676,  35.3921,2,-999.0000,9,    125.1,2,   -999.0,9,    1.377,2,    0.763,2,  12.0342
  06MT20040710,  AR04,   727,  1,     10,     10,2,20040718,   0, 10.1658, -59.6665, 1010,    153.9,  18.0040,  36.4200,2,-999.0000,9,    140.6,2,   -999.0,9, -999.000,9, -999.000,9,  17.9773
  06MT20040710,  AR04,   727,  1,     11,     11,2,20040718,   0, 10.1658, -59.6665, 1010,     16.7,  28.4113,  34.5868,2,  34.7128,3,    199.5,2,    198.8,2,    1.498,2,    0.974,2,  28.4073
  06MT20040710,  AR04,   728,  1,      1,      1,2,20040718,   0, 10.1632, -59.2335, 1578,   1576.7,   4.3451,  35.0008,2,-999.0000,9,    252.4,2,    246.5,2, -999.000,9, -999.000,9,   4.2137
  06MT20040710,  AR04,   728,  1,      2,      2,2,20040718,   0, 10.1632, -59.2335, 1578,   1576.8,   4.3453,  35.0003,2,-999.0000,9,    252.4,2,   -999.0,9, -999.000,9, -999.000,9,   4.2139
  06MT20040710,  AR04,   728,  1,      3,      3,2,20040718,   0, 10.1632, -59.2335, 1578,   1576.6,   4.3453,  35.0003,2,  35.0031,2,    252.4,2,   -999.0,9,    0.824,2,    0.404,2,   4.2139
  06MT20040710,  AR04,   728,  1,      4,      4,2,20040718,   0, 10.1632, -59.2335, 1578,   1351.1,   4.6962,  35.0093,2,-999.0000,9,    233.7,2,    235.0,2,    0.687,2,    0.350,2,   4.5822
  06MT20040710,  AR04,   728,  1,      5,      5,2,20040718,   0, 10.1632, -59.2335, 1578,   1199.7,   5.0749,  34.9798,2,-999.0000,9,    202.6,2,   -999.0,9, -999.000,9, -999.000,9,   4.9716
  06MT20040710,  AR04,   728,  1,      6,      6,2,20040718,   0, 10.1632, -59.2335, 1578,   1195.6,   5.0783,  34.9788,2,  34.9881,2,    200.9,2,    206.9,6,    0.371,2,    0.194,2,   4.9754
  06MT20040710,  AR04,   728,  1,      7,      7,2,20040718,   0, 10.1632, -59.2335, 1578,   1050.5,   5.2031,  34.8473,2,-999.0000,9,    168.4,2,   -999.0,9, -999.000,9, -999.000,9,   5.1130
  06MT20040710,  AR04,   728,  1,      8,      8,2,20040718,   0, 10.1632, -59.2335, 1578,    899.7,   5.1243,  34.6740,2,-999.0000,9,    147.8,2,    146.6,2,    0.055,2,    0.032,2,   5.0489
  06MT20040710,  AR04,   728,  1,      9,      9,2,20040718,   0, 10.1632, -59.2335, 1578,    700.7,   6.0792,  34.6568,2,-999.0000,9,    129.4,2,   -999.0,9,    0.159,2,    0.086,2,   6.0164
  06MT20040710,  AR04,   728,  1,     10,     10,2,20040718,   0, 10.1632, -59.2335, 1578,    493.7,   7.9248,  34.8015,2,-999.0000,9,    120.5,2,   -999.0,9, -999.000,9, -999.000,9,   7.8743
  06MT20040710,  AR04,   728,  1,     11,     11,2,20040718,   0, 10.1632, -59.2335, 1578,    301.6,  11.0714,  35.2110,2,  35.1366,3,    119.7,2,   -999.0,9,    1.247,2,    0.680,2,  11.0338
  06MT20040710,  AR04,   728,  1,     12,     12,2,20040718,   0, 10.1632, -59.2335, 1578,    102.5,  23.7446,  36.5129,2,-999.0000,9,    154.3,2,   -999.0,9,    1.749,2,    1.082,2,  23.7231
  06MT20040710,  AR04,   728,  1,     13,     13,2,20040718,   0, 10.1632, -59.2335, 1578,     26.3,  28.3765,  35.6352,2,-999.0000,9,    197.9,2,    200.5,2,    1.436,2,    0.940,2,  28.3702
  06MT20040710,  AR04,   729,  1,      1,      1,2,20040718,   0, 10.1667, -58.8002, 1972,   1970.2,   3.7266,  34.9725,2,-999.0000,9,    264.0,2,    262.5,6, -999.000,9, -999.000,9,   3.5660
  06MT20040710,  AR04,   729,  1,      2,      2,2,20040718,   0, 10.1667, -58.8002, 1972,   1971.1,   3.7267,  34.9720,2,-999.0000,9,    264.0,2,   -999.0,9, -999.000,9, -999.000,9,   3.5660
  06MT20040710,  AR04,   729,  1,      3,      3,2,20040718,   0, 10.1667, -58.8002, 1972,   1970.5,   3.7266,  34.9718,2,  34.9828,2,    264.0,2,   -999.0,9,    0.808,2,    0.419,2,   3.5659
  06MT20040710,  AR04,   729,  1,      4,      4,2,20040718,   0, 10.1667, -58.8002, 1972,   1845.6,   3.7186,  34.9724,2,-999.0000,9,    264.8,2,    262.1,2,    0.806,2,    0.414,2,   3.5699
  06MT20040710,  AR04,   729,  1,      5,      5,2,20040718,   0, 10.1667, -58.8002, 1972,   1701.9,   3.7937,  34.9749,2,-999.0000,9,    264.3,2,    262.8,2, -999.000,9, -999.000,9,   3.6574
  06MT20040710,  AR04,   729,  1,      6,      6,2,20040718,   0, 10.1667, -58.8002, 1972,   1701.7,   3.7940,  34.9753,2,-999.0000,9,    264.3,2,   -999.0,9,    0.850,2,    0.436,2,   3.6577
  06MT20040710,  AR04,   729,  1,      7,      7,2,20040718,   0, 10.1667, -58.8002, 1972,   1554.2,   4.1787,  34.9949,2,-999.0000,9,    255.2,2,    255.3,2, -999.000,9, -999.000,9,   4.0514
  06MT20040710,  AR04,   729,  1,      8,      8,2,20040718,   0, 10.1667, -58.8002, 1972,   1545.7,   4.1886,  34.9955,2,  34.9978,2,    254.0,2,   -999.0,9, -999.000,9, -999.000,9,   4.0619
  06MT20040710,  AR04,   729,  1,      9,      9,2,20040718,   0, 10.1667, -58.8002, 1972,   1401.7,   4.6429,  35.0098,2,-999.0000,9,    232.3,2,   -999.0,9, -999.000,9, -999.000,9,   4.5247
  06MT20040710,  AR04,   729,  1,     10,     10,2,20040718,   0, 10.1667, -58.8002, 1972,   1255.2,   5.0598,  34.9708,2,-999.0000,9,    202.3,2,   -999.0,9, -999.000,9, -999.000,9,   4.9514
  06MT20040710,  AR04,   729,  1,     11,     11,2,20040718,   0, 10.1667, -58.8002, 1972,   1098.8,   5.2392,  34.8448,2,-999.0000,9,    167.7,2,    172.7,2,    0.140,2,    0.075,2,   5.1443
  06MT20040710,  AR04,   729,  1,     12,     12,2,20040718,   0, 10.1667, -58.8002, 1972,    852.4,   5.3196,  34.6389,2,  34.6584,3,    142.0,2,   -999.0,9,    0.072,2,    0.040,2,   5.2472
  06MT20040710,  AR04,   729,  1,     13,     13,2,20040718,   0, 10.1667, -58.8002, 1972,    600.1,   6.8812,  34.6902,2,-999.0000,9,    125.1,2,    124.2,2,    0.382,2,    0.203,2,   6.8242
  06MT20040710,  AR04,   729,  1,     14,     14,2,20040718,   0, 10.1667, -58.8002, 1972,    409.4,   9.0807,  34.7305,2,-999.0000,9,    119.7,2,    121.9,2,    0.956,2,    0.514,2,   9.0356
  06MT20040710,  AR04,   729,  1,     15,     15,2,20040718,   0, 10.1667, -58.8002, 1972,    152.5,  21.1840,  36.5856,2,-999.0000,9,    154.5,2,   -999.0,9,    1.888,2,    1.159,2,  21.1544
  06MT20040710,  AR04,   729,  1,     16,     16,2,20040718,   0, 10.1667, -58.8002, 1972,     15.5,  28.3782,  34.3518,2,  35.0659,3,    199.8,2,    198.8,2,    1.496,2,    0.977,2,  28.3745
  06MT20040710,  AR04,   730,  1,      1,      1,2,20040718,   0, 10.1545, -58.3645, 2610,   2608.0,   3.0333,  34.9466,2,-999.0000,9,    262.6,2,    263.2,2, -999.000,9, -999.000,9,   2.8220
  06MT20040710,  AR04,   730,  1,      2,      2,2,20040718,   0, 10.1545, -58.3645, 2610,   2608.1,   3.0335,  34.9461,2,-999.0000,9,    262.6,2,   -999.0,9, -999.000,9, -999.000,9,   2.8222
  06MT20040710,  AR04,   730,  1,      3,      3,2,20040718,   0, 10.1545, -58.3645, 2610,   2608.2,   3.0333,  34.9470,2,  34.9519,2,    262.6,2,   -999.0,9,    0.344,2,    0.177,2,   2.8219
  06MT20040710,  AR04,   730,  1,      4,      4,2,20040718,   0, 10.1545, -58.3645, 2610,   2324.2,   3.1178,  34.9526,2,-999.0000,9,    261.5,2,   -999.0,9,    0.322,2,    0.165,2,   2.9328
  06MT20040710,  AR04,   730,  1,      5,      5,2,20040718,   0, 10.1545, -58.3645, 2610,   2127.5,   3.3665,  34.9648,2,-999.0000,9,    261.9,2,    262.1,6,    0.402,2,    0.208,2,   3.1963
  06MT20040710,  AR04,   730,  1,      6,      6,2,20040718,   0, 10.1545, -58.3645, 2610,   2121.5,   3.3711,  34.9650,2,  34.9716,2,    262.0,2,   -999.0,9, -999.000,9, -999.000,9,   3.2014
  06MT20040710,  AR04,   730,  1,      7,      7,2,20040718,   0, 10.1545, -58.3645, 2610,   1933.5,   3.6126,  34.9713,2,-999.0000,9,    263.1,2,   -999.0,9,    0.612,2,    0.318,2,   3.4571
  06MT20040710,  AR04,   730,  1,      8,      8,2,20040718,   0, 10.1545, -58.3645, 2610,   1933.7,   3.6113,  34.9719,2,-999.0000,9,    263.1,2,    262.7,2, -999.000,9, -999.000,9,   3.4558
  06MT20040710,  AR04,   730,  1,      9,      9,2,20040718,   0, 10.1545, -58.3645, 2610,   1765.7,   3.9049,  34.9823,2,  34.9864,2,    260.5,2,   -999.0,9,    0.744,2,    0.380,2,   3.7612
  06MT20040710,  AR04,   730,  1,     10,     10,2,20040718,   0, 10.1545, -58.3645, 2610,   1761.6,   3.9050,  34.9820,2,-999.0000,9,    260.3,2,   -999.0,9, -999.000,9, -999.000,9,   3.7617
  06MT20040710,  AR04,   730,  1,     11,     11,2,20040718,   0, 10.1545, -58.3645, 2610,   1601.0,   4.2164,  34.9964,2,-999.0000,9,    251.3,2,   -999.0,9,    0.807,2,    0.408,2,   4.0842
  06MT20040710,  AR04,   730,  1,     12,     12,2,20040718,   0, 10.1545, -58.3645, 2610,   1600.4,   4.2175,  34.9962,2,-999.0000,9,    251.2,2,    252.2,2, -999.000,9, -999.000,9,   4.0854
  06MT20040710,  AR04,   730,  1,     13,     13,2,20040718,   0, 10.1545, -58.3645, 2610,   1476.7,   4.6706,  35.0099,2,-999.0000,9,    234.6,2,   -999.0,9,    0.642,2,    0.330,2,   4.5450
  06MT20040710,  AR04,   730,  1,     14,     14,2,20040718,   0, 10.1545, -58.3645, 2610,   1476.7,   4.6723,  35.0089,2,-999.0000,9,    234.6,2,    234.3,2, -999.000,9, -999.000,9,   4.5467
  06MT20040710,  AR04,   730,  1,     15,     15,2,20040718,   0, 10.1545, -58.3645, 2610,   1298.3,   5.1059,  34.9765,2,-999.0000,9,    199.5,2,    204.1,2,    0.341,2,    0.184,2,   4.9929
  06MT20040710,  AR04,   730,  1,     16,     16,2,20040718,   0, 10.1545, -58.3645, 2610,   1156.8,   5.2646,  34.8622,2,-999.0000,9,    166.1,2,   -999.0,9,    0.141,2,    0.075,2,   5.1639
  06MT20040710,  AR04,   730,  1,     17,     17,2,20040718,   0, 10.1545, -58.3645, 2610,    902.6,   4.9956,  34.5797,2,-999.0000,9,    147.9,2,   -999.0,9, -999.000,9, -999.000,9,   4.9209
  06MT20040710,  AR04,   730,  1,     18,     18,2,20040718,   0, 10.1545, -58.3645, 2610,    707.6,   5.8596,  34.6109,2,-999.0000,9,    133.5,2,   -999.0,9,    0.210,2,    0.113,2,   5.7974
  06MT20040710,  AR04,   730,  1,     19,     19,2,20040718,   0, 10.1545, -58.3645, 2610,    505.5,   7.8380,  34.7820,2,-999.0000,9,    125.9,2,    123.3,2,    0.678,2,    0.368,2,   7.7866
  06MT20040710,  AR04,   730,  1,     20,     20,2,20040718,   0, 10.1545, -58.3645, 2610,    289.8,  11.8066,  35.3085,2,  35.3515,3,    124.3,2,   -999.0,9,    1.377,2,    0.757,2,  11.7689
  06MT20040710,  AR04,   730,  1,     21,     21,2,20040718,   0, 10.1545, -58.3645, 2610,    102.6,  25.6245,  36.4914,2,-999.0000,9,    179.4,2,    181.2,2,    1.663,2,    1.054,2,  25.6017
  06MT20040710,  AR04,   730,  1,     22,     22,2,20040718,   0, 10.1545, -58.3645, 2610,     17.8,  28.2701,  34.8491,2,-999.0000,9,    198.7,2,    201.4,2,    1.498,2,    0.968,2,  28.2659