BOTTLE,20140522SIOCCHGR
EXPOCODE,SECT_ID,STNNBR,CASTNO,SAMPNO,BTLNBR,BTLNBR_FLAG_W,DATE,TIME,LATITUDE,LONGITUDE,DEPTH,CTDPRS,CTDTMP,CTDSAL,CTDSAL_FLAG_W,SALNTY,SALNTY_FLAG_W,CTDOXY,CTDOXY_FLAG_W,OXYGEN,OXYGEN_FLAG_W,CFC-11,CFC-11_FLAG_W,CFC-12,CFC-12_FLAG_W,THETA
,,,,,,,,,,,METERS,DBAR,ITS-90,PSS-78,,PSS-78,,UMOL/KG,,UMOL/KG,,PMOL/KG,,PMOL/KG,,DEG C
  06MT20040710,  AR04,   735,  1,      1,      1,2,20040719,   0, 11.2338, -56.2018, 4519,   4517.6,   2.1887,  34.8793,2,-999.0000,9,    258.2,2,    256.7,6, -999.000,9, -999.000,9,   1.7889
  06MT20040710,  AR04,   735,  1,      2,      2,2,20040719,   0, 11.2338, -56.2018, 4519,   4517.2,   2.1882,  34.8797,2,-999.0000,9,    258.2,2,   -999.0,9, -999.000,9, -999.000,9,   1.7885
  06MT20040710,  AR04,   735,  1,      3,      3,2,20040719,   0, 11.2338, -56.2018, 4519,   4517.6,   2.1887,  34.8790,2,  34.8874,3,    258.2,2,   -999.0,9,    0.276,2,    0.149,2,   1.7889
  06MT20040710,  AR04,   735,  1,      4,      4,2,20040719,   0, 11.2338, -56.2018, 4519,   4096.5,   2.2704,  34.8929,2,-999.0000,9,    264.2,2,   -999.0,9,    0.408,2,    0.215,2,   1.9175
  06MT20040710,  AR04,   735,  1,      5,      5,2,20040719,   0, 11.2338, -56.2018, 4519,   3698.7,   2.3354,  34.9002,2,-999.0000,9,    265.5,2,    262.1,2,    0.310,3,    0.159,3,   2.0254
  06MT20040710,  AR04,   735,  1,      6,      6,2,20040719,   0, 11.2338, -56.2018, 4519,   3686.7,   2.3389,  34.9001,2,  34.9026,2,    265.7,2,    263.6,2, -999.000,9, -999.000,9,   2.0302
  06MT20040710,  AR04,   735,  1,      7,      7,2,20040719,   0, 11.2338, -56.2018, 4519,   3548.5,   2.4256,  34.9070,2,-999.0000,9,    267.1,2,   -999.0,9,    0.418,2,    0.212,2,   2.1297
  06MT20040710,  AR04,   735,  1,      8,      8,2,20040719,   0, 11.2338, -56.2018, 4519,   3197.9,   2.6460,  34.9222,2,-999.0000,9,    264.3,2,    262.6,2,    0.356,2,    0.179,2,   2.3823
  06MT20040710,  AR04,   735,  1,      9,      9,2,20040719,   0, 11.2338, -56.2018, 4519,   2696.3,   2.9940,  34.9442,2,  34.9482,2,    261.7,2,    262.4,2,    0.341,2,    0.172,2,   2.7746
  06MT20040710,  AR04,   735,  1,     10,     10,2,20040719,   0, 11.2338, -56.2018, 4519,   2399.2,   3.2075,  34.9563,2,-999.0000,9,    260.3,2,   -999.0,9, -999.000,9, -999.000,9,   3.0136
  06MT20040710,  AR04,   735,  1,     11,     11,2,20040719,   0, 11.2338, -56.2018, 4519,   2398.2,   3.2092,  34.9564,2,-999.0000,9,    260.3,2,    246.7,4, -999.000,9, -999.000,9,   3.0154
  06MT20040710,  AR04,   735,  1,     12,     12,2,20040719,   0, 11.2338, -56.2018, 4519,   2205.4,   3.4136,  34.9651,2,-999.0000,9,    259.9,2,    259.9,2,    0.433,2,    0.222,2,   3.2351
  06MT20040710,  AR04,   735,  1,     13,     13,2,20040719,   0, 11.2338, -56.2018, 4519,   2051.8,   3.5268,  34.9700,2,-999.0000,9,    259.4,2,   -999.0,9,    0.546,2,    0.281,2,   3.3613
  06MT20040710,  AR04,   735,  1,     14,     14,2,20040719,   0, 11.2338, -56.2018, 4519,   1897.9,   3.7706,  34.9780,2,-999.0000,9,    257.3,2,    258.1,2,    0.646,2,    0.333,2,   3.6162
  06MT20040710,  AR04,   735,  1,     15,     15,2,20040719,   0, 11.2338, -56.2018, 4519,   1754.1,   4.0704,  34.9894,2,-999.0000,9,    251.1,2,   -999.0,9,    0.772,2,    0.387,2,   3.9256
  06MT20040710,  AR04,   735,  1,     16,     16,2,20040719,   0, 11.2338, -56.2018, 4519,   1611.2,   4.3777,  35.0037,2,-999.0000,9,    240.5,2,    245.0,2,    0.734,2,    0.369,2,   4.2426
  06MT20040710,  AR04,   735,  1,     17,     17,2,20040719,   0, 11.2338, -56.2018, 4519,   1441.7,   4.8039,  35.0062,2,-999.0000,9,    216.7,2,    213.1,2,    0.547,2,    0.284,2,   4.6802
  06MT20040710,  AR04,   735,  1,     18,     18,2,20040719,   0, 11.2338, -56.2018, 4519,   1197.5,   5.2675,  34.9145,2,  34.9177,2,    171.9,2,   -999.0,9,    0.213,2,    0.112,2,   5.1628
  06MT20040710,  AR04,   735,  1,     19,     19,2,20040719,   0, 11.2338, -56.2018, 4519,    901.6,   5.2431,  34.6238,2,-999.0000,9,    136.7,2,    137.1,2,    0.074,2,    0.039,2,   5.1668
  06MT20040710,  AR04,   735,  1,     20,     20,2,20040719,   0, 11.2338, -56.2018, 4519,    610.1,   7.2116,  34.7216,2,-999.0000,9,    122.1,2,    120.4,2,    0.448,2,    0.237,2,   7.1520
  06MT20040710,  AR04,   735,  1,     21,     21,2,20040719,   0, 11.2338, -56.2018, 4519,    258.4,  13.2772,  35.5033,2,-999.0000,9,    146.5,2,   -999.0,9,    1.778,2,    0.984,2,  13.2409
  06MT20040710,  AR04,   735,  1,     22,     22,2,20040719,   0, 11.2338, -56.2018, 4519,     11.6,  27.9138,  33.5520,2,  33.4413,3,    199.1,2,    203.9,2,    1.516,2,    0.989,2,  27.9111
  06MT20040710,  AR04,   736,  1,      1,      1,2,20040719,   0, 11.5015, -55.7668, 4633,   4630.8,   2.2277,  34.8827,2,-999.0000,9,    258.3,2,    259.5,2, -999.000,9, -999.000,9,   1.8130
  06MT20040710,  AR04,   736,  1,      2,      2,2,20040719,   0, 11.5015, -55.7668, 4633,   4631.9,   2.2285,  34.8829,2,-999.0000,9,    258.3,2,   -999.0,9, -999.000,9, -999.000,9,   1.8137
  06MT20040710,  AR04,   736,  1,      3,      3,2,20040719,   0, 11.5015, -55.7668, 4633,   4630.7,   2.2277,  34.8828,2,  34.8852,2,    258.3,2,   -999.0,9,    0.246,2,    0.132,2,   1.8130
  06MT20040710,  AR04,   736,  1,      4,      4,2,20040719,   0, 11.5015, -55.7668, 4633,   4366.1,   2.2897,  34.8923,2,-999.0000,9,    260.1,2,    262.3,2,    0.287,2,    0.148,2,   1.9048
  06MT20040710,  AR04,   736,  1,      5,      5,2,20040719,   0, 11.5015, -55.7668, 4633,   3956.8,   2.3775,  34.9019,2,-999.0000,9,    263.2,2,    266.0,2, -999.000,9, -999.000,9,   2.0375
  06MT20040710,  AR04,   736,  1,      6,      6,2,20040719,   0, 11.5015, -55.7668, 4633,   3953.3,   2.3777,  34.9016,2,-999.0000,9,    263.2,2,   -999.0,9,    0.404,2,    0.206,2,   2.0381
  06MT20040710,  AR04,   736,  1,      7,      7,2,20040719,   0, 11.5015, -55.7668, 4633,   3649.8,   2.4658,  34.9083,2,-999.0000,9,    264.3,2,    265.5,2,    0.423,2,    0.215,2,   2.1578
  06MT20040710,  AR04,   736,  1,      8,      8,2,20040719,   0, 11.5015, -55.7668, 4633,   3341.5,   2.6092,  34.9187,2,  34.9177,2,    259.8,2,    261.0,2,    0.281,2,    0.142,2,   2.3311
  06MT20040710,  AR04,   736,  1,      9,      9,2,20040719,   0, 11.5015, -55.7668, 4633,   2934.7,   2.8502,  34.9351,2,-999.0000,9,    260.3,2,    261.3,2,    0.295,2,    0.150,2,   2.6094
  06MT20040710,  AR04,   736,  1,     10,     10,2,20040719,   0, 11.5015, -55.7668, 4633,   2523.2,   3.1166,  34.9507,2,-999.0000,9,    259.1,2,    260.5,6,    0.321,2,    0.162,2,   2.9121
  06MT20040710,  AR04,   736,  1,     11,     11,2,20040719,   0, 11.5015, -55.7668, 4633,   2523.1,   3.1181,  34.9503,2,-999.0000,9,    259.1,2,   -999.0,9, -999.000,9, -999.000,9,   2.9136
  06MT20040710,  AR04,   736,  1,     12,     12,2,20040719,   0, 11.5015, -55.7668, 4633,   2314.9,   3.2826,  34.9599,2,-999.0000,9,    258.7,2,    259.6,2,    0.370,2,    0.188,2,   3.0957
  06MT20040710,  AR04,   736,  1,     13,     13,2,20040719,   0, 11.5015, -55.7668, 4633,   2119.0,   3.5314,  34.9697,2,  34.9728,2,    258.0,2,   -999.0,9,    0.457,2,    0.238,2,   3.3594
  06MT20040710,  AR04,   736,  1,     14,     14,2,20040719,   0, 11.5015, -55.7668, 4633,   1963.7,   3.7177,  34.9740,2,-999.0000,9,    257.2,2,    259.4,2,    0.640,2,    0.328,2,   3.5578
  06MT20040710,  AR04,   736,  1,     15,     15,2,20040719,   0, 11.5015, -55.7668, 4633,   1810.3,   3.9436,  34.9823,2,  34.9870,2,    253.7,2,   -999.0,9,    0.802,2,    0.410,2,   3.7951
  06MT20040710,  AR04,   736,  1,     16,     16,2,20040719,   0, 11.5015, -55.7668, 4633,   1664.2,   4.2584,  34.9982,2,-999.0000,9,    244.2,2,   -999.0,9,    0.798,2,    0.407,2,   4.1197
  06MT20040710,  AR04,   736,  1,     17,     17,2,20040719,   0, 11.5015, -55.7668, 4633,   1506.0,   4.6114,  35.0049,2,-999.0000,9,    226.6,2,    216.6,2,    0.579,2,    0.306,2,   4.4836
  06MT20040710,  AR04,   736,  1,     18,     18,2,20040719,   0, 11.5015, -55.7668, 4633,   1309.3,   4.9774,  34.9551,2,-999.0000,9,    192.9,2,   -999.0,9,    0.259,2,    0.136,2,   4.8647
  06MT20040710,  AR04,   736,  1,     19,     19,2,20040719,   0, 11.5015, -55.7668, 4633,   1053.8,   4.9684,  34.7233,2,-999.0000,9,    150.3,2,    153.6,2,    0.049,2,    0.029,2,   4.8801
  06MT20040710,  AR04,   736,  1,     20,     20,2,20040719,   0, 11.5015, -55.7668, 4633,    753.1,   5.9365,  34.6586,2,  34.7134,3,    127.2,2,    126.6,2,    0.135,2,    0.072,2,   5.8695
  06MT20040710,  AR04,   736,  1,     21,     21,2,20040719,   0, 11.5015, -55.7668, 4633,    399.2,   9.8995,  35.0357,2,-999.0000,9,    125.0,2,   -999.0,9,    0.981,2,    0.530,2,   9.8530
  06MT20040710,  AR04,   736,  1,     22,     22,2,20040719,   0, 11.5015, -55.7668, 4633,     17.4,  27.9740,  33.2124,2,-999.0000,9,    201.4,2,    202.4,2,    1.551,2,    1.011,2,  27.9699
  06MT20040710,  AR04,   737,  1,      1,      1,2,20040720,   0, 11.7668, -55.3007, 4763,   4762.3,   1.9347,  34.8446,2,-999.0000,9,    247.4,2,    247.4,2, -999.000,9, -999.000,9,   1.5137
  06MT20040710,  AR04,   737,  1,      2,      2,2,20040720,   0, 11.7668, -55.3007, 4763,   4762.4,   1.9356,  34.8449,2,-999.0000,9,    247.4,2,   -999.0,9, -999.000,9, -999.000,9,   1.5146
  06MT20040710,  AR04,   737,  1,      3,      3,2,20040720,   0, 11.7668, -55.3007, 4763,   4762.5,   1.9383,  34.8450,2,  34.8455,2,    247.4,2,   -999.0,9,    0.115,2,    0.067,2,   1.5171
  06MT20040710,  AR04,   737,  1,      4,      4,2,20040720,   0, 11.7668, -55.3007, 4763,   4293.5,   2.1852,  34.8818,2,-999.0000,9,    253.8,2,   -999.0,9,    0.202,2,    0.111,2,   1.8120
  06MT20040710,  AR04,   737,  1,      5,      5,2,20040720,   0, 11.7668, -55.3007, 4763,   3997.1,   2.2766,  34.8934,2,-999.0000,9,    258.3,2,    261.6,6, -999.000,9, -999.000,9,   1.9349
  06MT20040710,  AR04,   737,  1,      6,      6,2,20040720,   0, 11.7668, -55.3007, 4763,   3994.8,   2.2766,  34.8937,2,  34.8976,2,    258.3,2,   -999.0,9,    0.248,2,    0.130,2,   1.9351
  06MT20040710,  AR04,   737,  1,      7,      7,2,20040720,   0, 11.7668, -55.3007, 4763,   3696.2,   2.3610,  34.9022,2,-999.0000,9,    261.1,2,   -999.0,9,    0.316,2,    0.163,2,   2.0506
  06MT20040710,  AR04,   737,  1,      8,      8,2,20040720,   0, 11.7668, -55.3007, 4763,   3397.8,   2.5157,  34.9132,2,-999.0000,9,    259.1,2,    261.6,2,    0.285,2,    0.146,2,   2.2339
  06MT20040710,  AR04,   737,  1,      9,      9,2,20040720,   0, 11.7668, -55.3007, 4763,   2998.1,   2.7079,  34.9262,2,-999.0000,9,    257.0,2,    257.7,2, -999.000,9, -999.000,9,   2.4637
  06MT20040710,  AR04,   737,  1,     10,     10,2,20040720,   0, 11.7668, -55.3007, 4763,   2697.6,   2.8965,  34.9388,2,-999.0000,9,    258.1,2,    260.4,2, -999.000,9, -999.000,9,   2.6789
  06MT20040710,  AR04,   737,  1,     11,     11,2,20040720,   0, 11.7668, -55.3007, 4763,   2695.9,   2.8984,  34.9391,2,-999.0000,9,    258.0,2,    259.8,2,    0.272,2,    0.137,2,   2.6809
  06MT20040710,  AR04,   737,  1,     12,     12,2,20040720,   0, 11.7668, -55.3007, 4763,   2436.0,   3.0972,  34.9508,2,  34.9517,2,    258.4,2,   -999.0,9,    0.321,2,    0.162,2,   2.9017
  06MT20040710,  AR04,   737,  1,     13,     13,2,20040720,   0, 11.7668, -55.3007, 4763,   2246.9,   3.3083,  34.9621,2,-999.0000,9,    257.4,2,    258.7,2,    0.303,2,    0.158,2,   3.1276
  06MT20040710,  AR04,   737,  1,     14,     14,2,20040720,   0, 11.7668, -55.3007, 4763,   2037.7,   3.5634,  34.9722,2,-999.0000,9,    257.2,2,   -999.0,9,    0.429,2,    0.217,2,   3.3987
  06MT20040710,  AR04,   737,  1,     15,     15,2,20040720,   0, 11.7668, -55.3007, 4763,   1848.1,   3.8264,  34.9806,2,-999.0000,9,    255.5,2,    257.8,2,    0.596,2,    0.300,2,   3.6760
  06MT20040710,  AR04,   737,  1,     16,     16,2,20040720,   0, 11.7668, -55.3007, 4763,   1695.8,   4.1021,  34.9912,2,  34.9942,2,    249.4,2,   -999.0,9,    0.774,2,    0.394,2,   3.9624
  06MT20040710,  AR04,   737,  1,     17,     17,2,20040720,   0, 11.7668, -55.3007, 4763,   1546.5,   4.5410,  35.0095,2,-999.0000,9,    234.9,2,    223.6,2,    0.681,2,    0.356,2,   4.4102
  06MT20040710,  AR04,   737,  1,     18,     18,2,20040720,   0, 11.7668, -55.3007, 4763,   1397.6,   4.8831,  35.0030,2,-999.0000,9,    214.5,2,   -999.0,9,    0.526,2,    0.271,2,   4.7628
  06MT20040710,  AR04,   737,  1,     19,     19,2,20040720,   0, 11.7668, -55.3007, 4763,   1149.0,   5.2720,  34.8701,2,-999.0000,9,    166.1,2,    172.2,2,    0.152,2,    0.083,2,   5.1720
  06MT20040710,  AR04,   737,  1,     20,     20,2,20040720,   0, 11.7668, -55.3007, 4763,    844.9,   5.4602,  34.6365,2,-999.0000,9,    135.6,2,   -999.0,9,    0.095,2,    0.053,2,   5.3876
  06MT20040710,  AR04,   737,  1,     21,     21,2,20040720,   0, 11.7668, -55.3007, 4763,    503.1,   8.2295,  34.8293,2,  34.8219,2,    125.2,2,   -999.0,9,    0.696,2,    0.368,2,   8.1768
  06MT20040710,  AR04,   737,  1,     22,     22,2,20040720,   0, 11.7668, -55.3007, 4763,     23.4,  28.1290,  33.7592,2,-999.0000,9,    203.3,2,    201.4,6,    1.516,2,    0.989,2,  28.1235
  06MT20040710,  AR04,   738,  1,      1,      1,2,20040720,   0, 12.0310, -54.8583, 4790,   4787.7,   1.9751,  34.8498,2,  34.8514,2,    248.8,2,    248.8,6, -999.000,9, -999.000,9,   1.5497
  06MT20040710,  AR04,   738,  1,      2,      2,2,20040720,   0, 12.0310, -54.8583, 4790,   4787.4,   1.9756,  34.8497,2,-999.0000,9,    248.9,2,   -999.0,9, -999.000,9, -999.000,9,   1.5502
  06MT20040710,  AR04,   738,  1,      3,      3,2,20040720,   0, 12.0310, -54.8583, 4790,   4789.0,   1.9739,  34.8505,2,-999.0000,9,    248.8,2,   -999.0,9,    0.104,2,    0.060,2,   1.5483
  06MT20040710,  AR04,   738,  1,      4,      4,2,20040720,   0, 12.0310, -54.8583, 4790,   4469.4,   2.1912,  34.8805,2,-999.0000,9,    257.8,2,   -999.0,9,    0.210,2,    0.112,2,   1.7971
  06MT20040710,  AR04,   738,  1,      5,      5,2,20040720,   0, 12.0310, -54.8583, 4790,   3957.3,   2.2982,  34.8968,2,-999.0000,9,    261.3,2,    261.2,2,    0.345,2,    0.176,2,   1.9604
  06MT20040710,  AR04,   738,  1,      6,      6,2,20040720,   0, 12.0310, -54.8583, 4790,   3955.2,   2.2995,  34.8966,2,  34.8986,2,    261.3,2,   -999.0,9,    0.347,6,    0.177,6,   1.9619
  06MT20040710,  AR04,   738,  1,      7,      7,2,20040720,   0, 12.0310, -54.8583, 4790,   3649.2,   2.3856,  34.9027,2,-999.0000,9,    259.9,2,   -999.0,9,    0.278,2,    0.142,2,   2.0798
  06MT20040710,  AR04,   738,  1,      8,      8,2,20040720,   0, 12.0310, -54.8583, 4790,   3343.0,   2.5532,  34.9153,2,-999.0000,9,    259.4,2,    261.5,2,    0.283,2,    0.145,2,   2.2763
  06MT20040710,  AR04,   738,  1,      9,      9,2,20040720,   0, 12.0310, -54.8583, 4790,   2931.4,   2.7772,  34.9305,2,  34.9338,2,    259.9,2,    257.7,2,    0.174,2,    0.090,2,   2.5383
  06MT20040710,  AR04,   738,  1,     10,     10,2,20040720,   0, 12.0310, -54.8583, 4790,   2576.7,   2.9997,  34.9451,2,-999.0000,9,    262.7,2,   -999.0,9,    0.279,2,    0.142,2,   2.7921
  06MT20040710,  AR04,   738,  1,     11,     11,2,20040720,   0, 12.0310, -54.8583, 4790,   2572.1,   3.0014,  34.9453,2,-999.0000,9,    262.7,2,    250.3,4, -999.000,9, -999.000,9,   2.7943
  06MT20040710,  AR04,   738,  1,     12,     12,2,20040720,   0, 12.0310, -54.8583, 4790,   2368.1,   3.1694,  34.9550,2,-999.0000,9,    262.0,2,   -999.0,9,    0.296,2,    0.152,2,   2.9793
  06MT20040710,  AR04,   738,  1,     13,     13,2,20040720,   0, 12.0310, -54.8583, 4790,   2163.1,   3.3857,  34.9646,2,-999.0000,9,    261.2,2,    262.0,2,    0.405,2,    0.206,2,   3.2118
  06MT20040710,  AR04,   738,  1,     14,     14,2,20040720,   0, 12.0310, -54.8583, 4790,   2023.0,   3.5762,  34.9726,2,-999.0000,9,    259.6,2,    259.9,2,    0.485,2,    0.249,2,   3.4127
  06MT20040710,  AR04,   738,  1,     15,     15,2,20040720,   0, 12.0310, -54.8583, 4790,   1820.4,   3.8620,  34.9811,2,-999.0000,9,    255.5,2,    256.8,2,    0.676,2,    0.345,2,   3.7137
  06MT20040710,  AR04,   738,  1,     16,     16,2,20040720,   0, 12.0310, -54.8583, 4790,   1608.3,   4.3124,  35.0024,2,-999.0000,9,    241.8,2,   -999.0,9,    0.766,2,    0.396,2,   4.1784
  06MT20040710,  AR04,   738,  1,     17,     17,2,20040720,   0, 12.0310, -54.8583, 4790,   1451.9,   4.7295,  35.0082,2,  35.0009,2,    220.2,2,    218.5,2,    0.463,2,    0.246,2,   4.6056
  06MT20040710,  AR04,   738,  1,     18,     18,2,20040720,   0, 12.0310, -54.8583, 4790,   1207.3,   5.2604,  34.9035,2,-999.0000,9,    169.0,2,   -999.0,9,    0.133,2,    0.068,2,   5.1549
  06MT20040710,  AR04,   738,  1,     19,     19,2,20040720,   0, 12.0310, -54.8583, 4790,    908.3,   5.3627,  34.6548,2,-999.0000,9,    135.1,2,    135.5,2,    0.068,6,    0.038,6,   5.2849
  06MT20040710,  AR04,   738,  1,     20,     20,2,20040720,   0, 12.0310, -54.8583, 4790,    601.5,   7.1333,  34.7140,2,-999.0000,9,    124.3,2,   -999.0,9,    0.440,2,    0.234,2,   7.0750
  06MT20040710,  AR04,   738,  1,     21,     21,2,20040720,   0, 12.0310, -54.8583, 4790,     22.7,  28.1145,  33.9324,2,-999.0000,9,    204.1,2,    201.8,2,    1.546,2,    1.011,2,  28.1092
  06MT20040710,  AR04,   738,  1,     22,     22,2,20040720,   0, 12.0310, -54.8583, 4790,     22.7,  28.1145,  33.9324,2,  32.2943,3,    204.1,2,    206.1,2,    1.544,6,    1.002,6,  28.1092
  06MT20040710,  AR04,   739,  1,      1,      1,2,20040721,   0, 13.0510, -59.8002, 1023,   1022.1,   5.4382,  34.7386,2,  34.7378,2,    144.9,2,    148.0,2, -999.000,9, -999.000,9,   5.3491
  06MT20040710,  AR04,   739,  1,      2,      2,2,20040721,   0, 13.0510, -59.8002, 1023,    793.4,   6.0195,  34.6717,2,-999.0000,9,    129.4,2,    129.0,2, -999.000,9, -999.000,9,   5.9482
  06MT20040710,  AR04,   739,  1,      3,      3,2,20040721,   0, 13.0510, -59.8002, 1023,    514.5,   7.8892,  34.7940,2,  34.7855,2,    120.4,2,    120.0,2, -999.000,9, -999.000,9,   7.8366
  06MT20040710,  AR04,   739,  1,      4,      4,2,20040721,   0, 13.0510, -59.8002, 1023,    150.1,  21.2008,  36.7855,2,-999.0000,9,    151.2,2,    151.6,2, -999.000,9, -999.000,9,  21.1716
  06MT20040710,  AR04,   739,  1,      5,      5,2,20040721,   0, 13.0510, -59.8002, 1023,     13.1,  28.3043,  33.5427,2,  33.6662,3,    198.7,2,    201.7,2, -999.000,9, -999.000,9,  28.3012
  06MT20040710,  AR04,   741,  1,      1,      1,2,20040722,   0, 13.8223, -60.7022,  942,    940.8,   5.3472,  34.8460,2,  34.8449,2,    164.2,2,    164.6,6, -999.000,9, -999.000,9,   5.2662
  06MT20040710,  AR04,   741,  1,      2,      2,2,20040722,   0, 13.8223, -60.7022,  942,    940.8,   5.3470,  34.8463,2,-999.0000,9,    164.2,2,   -999.0,9, -999.000,9, -999.000,9,   5.2660
  06MT20040710,  AR04,   741,  1,      3,      3,2,20040722,   0, 13.8223, -60.7022,  942,    706.9,   6.5430,  34.6524,2,-999.0000,9,    125.2,2,    125.1,2, -999.000,9, -999.000,9,   6.4771
  06MT20040710,  AR04,   741,  1,      4,      4,2,20040722,   0, 13.8223, -60.7022,  942,    400.8,  10.3014,  35.1201,2,  35.0742,3,    117.7,2,    118.3,2, -999.000,9, -999.000,9,  10.2535
  06MT20040710,  AR04,   741,  1,      5,      5,2,20040722,   0, 13.8223, -60.7022,  942,    257.1,  14.1543,  35.7064,2,-999.0000,9,    124.1,2,    124.0,2, -999.000,9, -999.000,9,  14.1166
  06MT20040710,  AR04,   741,  1,      6,      6,2,20040722,   0, 13.8223, -60.7022,  942,    104.4,  26.1494,  36.5466,2,  36.7050,3,    182.8,2,   -999.0,9, -999.000,9, -999.000,9,  26.1259
  06MT20040710,  AR04,   741,  1,      7,      7,2,20040722,   0, 13.8223, -60.7022,  942,      3.5,  28.4713,  34.0666,2,-999.0000,9,    196.1,2,    200.1,2, -999.000,9, -999.000,9,  28.4705