BOTTLE,20140522SIOCCHGR
EXPOCODE,SECT_ID,STNNBR,CASTNO,SAMPNO,BTLNBR,BTLNBR_FLAG_W,DATE,TIME,LATITUDE,LONGITUDE,DEPTH,CTDPRS,CTDTMP,CTDSAL,CTDSAL_FLAG_W,SALNTY,SALNTY_FLAG_W,CTDOXY,CTDOXY_FLAG_W,OXYGEN,OXYGEN_FLAG_W,CFC-11,CFC-11_FLAG_W,CFC-12,CFC-12_FLAG_W,THETA
,,,,,,,,,,,METERS,DBAR,ITS-90,PSS-78,,PSS-78,,UMOL/KG,,UMOL/KG,,PMOL/KG,,PMOL/KG,,DEG C
  06MT20040710,  AR04,   778,  1,      1,      1,2,20040729,   0, 14.7497, -54.2253, 5499,   5497.4,   1.8559,  34.8283,2,-999.0000,9,    243.1,2,    244.4,2, -999.000,9, -999.000,9,   1.3455
  06MT20040710,  AR04,   778,  1,      2,      2,2,20040729,   0, 14.7497, -54.2253, 5499,   5498.1,   1.8557,  34.8286,2,-999.0000,9,    243.1,2,   -999.0,9, -999.000,9, -999.000,9,   1.3452
  06MT20040710,  AR04,   778,  1,      3,      3,2,20040729,   0, 14.7497, -54.2253, 5499,   5497.9,   1.8560,  34.8281,2,  34.8274,2,    243.1,2,   -999.0,9,    0.089,2,    0.050,2,   1.3455
  06MT20040710,  AR04,   778,  1,      4,      4,2,20040729,   0, 14.7497, -54.2253, 5499,   5189.3,   1.8707,  34.8338,2,-999.0000,9,    244.7,2,    246.0,2, -999.000,9, -999.000,9,   1.3991
  06MT20040710,  AR04,   778,  1,      5,      5,2,20040729,   0, 14.7497, -54.2253, 5499,   4675.3,   2.1653,  34.8757,2,-999.0000,9,    256.6,2,    257.2,2,    0.157,2,    0.106,2,   1.7472
  06MT20040710,  AR04,   778,  1,      6,      6,2,20040729,   0, 14.7497, -54.2253, 5499,   4264.3,   2.2930,  34.8930,2,  34.8929,2,    261.4,2,    261.5,2,    0.200,2,    0.109,2,   1.9200
  06MT20040710,  AR04,   778,  1,      7,      7,2,20040729,   0, 14.7497, -54.2253, 5499,   3956.6,   2.3536,  34.8986,2,-999.0000,9,    260.7,2,    260.9,6,    0.192,2,    0.103,2,   2.0143
  06MT20040710,  AR04,   778,  1,      8,      8,2,20040729,   0, 14.7497, -54.2253, 5499,   3356.4,   2.5968,  34.9180,2,-999.0000,9,    261.3,2,    262.2,2,    0.338,2,    0.172,2,   2.3174
  06MT20040710,  AR04,   778,  1,      9,      9,2,20040729,   0, 14.7497, -54.2253, 5499,   2952.3,   2.7797,  34.9301,2,-999.0000,9,    258.3,2,    258.7,2,    0.234,2,    0.122,2,   2.5386
  06MT20040710,  AR04,   778,  1,     10,     10,2,20040729,   0, 14.7497, -54.2253, 5499,   2527.0,   3.0425,  34.9478,2,  34.9502,2,    256.6,2,   -999.0,9,    0.218,2,    0.114,2,   2.8390
  06MT20040710,  AR04,   778,  1,     11,     11,2,20040729,   0, 14.7497, -54.2253, 5499,   2272.6,   3.2766,  34.9620,2,-999.0000,9,    258.0,2,    257.2,2,    0.230,2,    0.123,2,   3.0939
  06MT20040710,  AR04,   778,  1,     12,     12,2,20040729,   0, 14.7497, -54.2253, 5499,   2020.2,   3.5973,  34.9774,2,-999.0000,9,    256.6,2,   -999.0,9,    0.356,2,    0.185,2,   3.4338
  06MT20040710,  AR04,   778,  1,     13,     13,2,20040729,   0, 14.7497, -54.2253, 5499,   1866.8,   3.8373,  34.9879,2,-999.0000,9,    254.0,2,    253.1,2,    0.329,2,    0.174,2,   3.6849
  06MT20040710,  AR04,   778,  1,     14,     14,2,20040729,   0, 14.7497, -54.2253, 5499,   1715.0,   4.0963,  34.9954,2,-999.0000,9,    249.1,2,   -999.0,9,    0.404,2,    0.209,2,   3.9549
  06MT20040710,  AR04,   778,  1,     15,     15,2,20040729,   0, 14.7497, -54.2253, 5499,   1563.5,   4.4051,  35.0018,2,  35.0047,2,    235.6,2,    236.3,2,    0.382,2,    0.198,2,   4.2742
  06MT20040710,  AR04,   778,  1,     16,     16,2,20040729,   0, 14.7497, -54.2253, 5499,   1219.7,   5.2002,  34.9509,2,-999.0000,9,    187.0,2,   -999.0,9,    0.131,2,    0.073,2,   5.0939
  06MT20040710,  AR04,   778,  1,     17,     17,2,20040729,   0, 14.7497, -54.2253, 5499,    954.4,   5.5494,  34.7768,2,-999.0000,9,    141.1,2,   -999.0,9,    0.110,2,    0.064,2,   5.4658
  06MT20040710,  AR04,   778,  1,     18,     18,2,20040729,   0, 14.7497, -54.2253, 5499,    651.2,   7.4885,  34.8752,2,  34.8532,2,    118.3,2,    120.6,2,    0.276,2,    0.152,2,   7.4233
  06MT20040710,  AR04,   778,  1,     19,     19,2,20040729,   0, 14.7497, -54.2253, 5499,    309.5,  15.5703,  36.1116,2,-999.0000,9,    144.6,2,   -999.0,9, -999.000,9, -999.000,9,  15.5216
  06MT20040710,  AR04,   778,  1,     20,     20,2,20040729,   0, 14.7497, -54.2253, 5499,    307.5,  15.6504,  36.1275,2,-999.0000,9,    146.0,2,    140.5,2,    1.974,2,    1.125,2,  15.6019
  06MT20040710,  AR04,   778,  1,     21,     21,2,20040729,   0, 14.7497, -54.2253, 5499,    154.9,  22.2450,  37.0998,2,-999.0000,9,    174.5,2,    172.1,6,    1.941,2,    1.205,2,  22.2138
  06MT20040710,  AR04,   778,  1,     22,     22,2,20040729,   0, 14.7497, -54.2253, 5499,     20.1,  28.1373,  34.1191,2,-999.0000,9,    197.9,2,    198.8,2,    1.526,2,    0.985,2,  28.1326
  06MT20040710,  AR04,   779,  1,      1,      1,2,20040729,   0, 14.3328, -54.3335, 5374,   5373.0,   1.8252,  34.8258,2,-999.0000,9,    242.0,2,    243.2,6, -999.000,9, -999.000,9,   1.3319
  06MT20040710,  AR04,   779,  1,      2,      2,2,20040729,   0, 14.3328, -54.3335, 5374,   5373.0,   1.8252,  34.8260,2,-999.0000,9,    242.0,2,   -999.0,9, -999.000,9, -999.000,9,   1.3319
  06MT20040710,  AR04,   779,  1,      3,      3,2,20040729,   0, 14.3328, -54.3335, 5374,   5372.9,   1.8252,  34.8258,2,  34.8418,3,    242.0,2,   -999.0,9,    0.127,2,    0.072,2,   1.3319
  06MT20040710,  AR04,   779,  1,      4,      4,2,20040729,   0, 14.3328, -54.3335, 5374,   5197.4,   1.8727,  34.8343,2,-999.0000,9,    244.4,2,   -999.0,9,    0.081,2,    0.047,2,   1.4000
  06MT20040710,  AR04,   779,  1,      5,      5,2,20040729,   0, 14.3328, -54.3335, 5374,   4698.2,   2.1482,  34.8724,2,  34.8711,2,    255.7,2,    255.6,2,    0.142,2,    0.083,2,   1.7279
  06MT20040710,  AR04,   779,  1,      6,      6,2,20040729,   0, 14.3328, -54.3335, 5374,   4298.1,   2.2713,  34.8921,2,-999.0000,9,    262.8,2,   -999.0,9,    0.281,2,    0.151,2,   1.8950
  06MT20040710,  AR04,   779,  1,      7,      7,2,20040729,   0, 14.3328, -54.3335, 5374,   3997.7,   2.3246,  34.8980,2,-999.0000,9,    264.1,2,    264.1,2,    0.314,2,    0.166,2,   1.9814
  06MT20040710,  AR04,   779,  1,      8,      8,2,20040729,   0, 14.3328, -54.3335, 5374,   3597.2,   2.4427,  34.9064,2,  34.9100,2,    261.0,2,    262.9,2,    0.282,2,    0.146,2,   2.1411
  06MT20040710,  AR04,   779,  1,      9,      9,2,20040729,   0, 14.3328, -54.3335, 5374,   3097.8,   2.6867,  34.9241,2,-999.0000,9,    260.6,2,    261.6,2,    0.295,2,    0.153,2,   2.4326
  06MT20040710,  AR04,   779,  1,     10,     10,2,20040729,   0, 14.3328, -54.3335, 5374,   2597.5,   2.9568,  34.9419,2,-999.0000,9,    258.8,2,    259.3,2,    0.211,2,    0.111,2,   2.7480
  06MT20040710,  AR04,   779,  1,     11,     11,2,20040729,   0, 14.3328, -54.3335, 5374,   2348.7,   3.1734,  34.9557,2,-999.0000,9,    258.2,2,   -999.0,9,    0.193,2,    0.102,2,   2.9851
  06MT20040710,  AR04,   779,  1,     12,     12,2,20040729,   0, 14.3328, -54.3335, 5374,   2100.5,   3.4858,  34.9730,2,-999.0000,9,    257.5,2,    257.5,2,    0.270,2,    0.144,2,   3.3163
  06MT20040710,  AR04,   779,  1,     13,     13,2,20040729,   0, 14.3328, -54.3335, 5374,   1955.6,   3.6981,  34.9810,2,  34.9791,2,    257.0,2,   -999.0,9,    0.382,2,    0.197,2,   3.5392
  06MT20040710,  AR04,   779,  1,     14,     14,2,20040729,   0, 14.3328, -54.3335, 5374,   1809.3,   3.9212,  34.9874,2,-999.0000,9,    253.7,2,    257.1,2,    0.663,2,    0.340,2,   3.7731
  06MT20040710,  AR04,   779,  1,     15,     15,2,20040729,   0, 14.3328, -54.3335, 5374,   1635.5,   4.2312,  34.9974,2,-999.0000,9,    251.8,2,   -999.0,9,    0.827,2,    0.422,2,   4.0956
  06MT20040710,  AR04,   779,  1,     16,     16,2,20040729,   0, 14.3328, -54.3335, 5374,   1491.6,   4.6408,  35.0175,2,-999.0000,9,    238.8,2,   -999.0,9,    0.714,2,    0.366,2,   4.5141
  06MT20040710,  AR04,   779,  1,     17,     17,2,20040729,   0, 14.3328, -54.3335, 5374,   1297.3,   5.1321,  34.9861,2,-999.0000,9,    202.2,2,    196.1,2,    0.383,2,    0.209,2,   5.0190
  06MT20040710,  AR04,   779,  1,     18,     18,2,20040729,   0, 14.3328, -54.3335, 5374,    845.2,   5.8239,  34.7397,2,-999.0000,9,    132.8,2,    133.1,2,    0.073,2,    0.042,2,   5.7488
  06MT20040710,  AR04,   779,  1,     19,     19,2,20040729,   0, 14.3328, -54.3335, 5374,    538.6,   9.3416,  35.1159,2,-999.0000,9,    115.4,2,   -999.0,9, -999.000,9, -999.000,9,   9.2805
  06MT20040710,  AR04,   779,  1,     20,     20,2,20040729,   0, 14.3328, -54.3335, 5374,    521.9,   9.7336,  35.1804,2,  35.1543,3,    115.2,2,   -999.0,9,    0.687,2,    0.373,2,   9.6729
  06MT20040710,  AR04,   779,  1,     21,     21,2,20040729,   0, 14.3328, -54.3335, 5374,    188.5,  19.5121,  36.7623,2,-999.0000,9,    163.3,2,    163.7,2,    2.067,2,    1.244,2,  19.4775
  06MT20040710,  AR04,   779,  1,     22,     22,2,20040729,   0, 14.3328, -54.3335, 5374,     13.9,  28.6429,  33.8263,2,  33.8284,3,    198.1,2,    200.1,2,    1.517,2,    0.980,2,  28.6396
  06MT20040710,  AR04,   780,  1,      1,      1,2,20040729,   0, 13.9152, -54.4417, 5437,   5436.1,   1.8501,  34.8273,2,-999.0000,9,    242.3,2,    242.1,2, -999.000,9, -999.000,9,   1.3478
  06MT20040710,  AR04,   780,  1,      2,      2,2,20040729,   0, 13.9152, -54.4417, 5437,   5436.1,   1.8502,  34.8269,2,-999.0000,9,    242.3,2,   -999.0,9, -999.000,9, -999.000,9,   1.3479
  06MT20040710,  AR04,   780,  1,      3,      3,2,20040729,   0, 13.9152, -54.4417, 5437,   5436.0,   1.8502,  34.8273,2,  34.8266,2,    242.3,2,   -999.0,9,    0.096,2,    0.055,2,   1.3479
  06MT20040710,  AR04,   780,  1,      4,      4,2,20040729,   0, 13.9152, -54.4417, 5437,   5085.9,   1.9089,  34.8393,2,-999.0000,9,    246.2,2,   -999.0,9,    0.090,2,    0.053,2,   1.4489
  06MT20040710,  AR04,   780,  1,      5,      5,2,20040729,   0, 13.9152, -54.4417, 5437,   4572.1,   2.2082,  34.8817,2,-999.0000,9,    259.2,2,    257.0,6,    0.207,2,    0.114,2,   1.8012
  06MT20040710,  AR04,   780,  1,      6,      6,2,20040729,   0, 13.9152, -54.4417, 5437,   4162.3,   2.2931,  34.8948,2,  34.8933,2,    263.5,2,    262.6,2,    0.302,2,    0.161,2,   1.9320
  06MT20040710,  AR04,   780,  1,      7,      7,2,20040729,   0, 13.9152, -54.4417, 5437,   3854.5,   2.3590,  34.9007,2,-999.0000,9,    264.3,2,    264.7,2,    0.375,2,    0.192,2,   2.0311
  06MT20040710,  AR04,   780,  1,      8,      8,2,20040729,   0, 13.9152, -54.4417, 5437,   3444.7,   2.5300,  34.9134,2,-999.0000,9,    261.9,2,    262.2,2,    0.323,2,    0.166,2,   2.2428
  06MT20040710,  AR04,   780,  1,      9,      9,2,20040729,   0, 13.9152, -54.4417, 5437,   3037.1,   2.7279,  34.9257,2,  34.9252,2,    255.3,2,   -999.0,9,    0.153,2,    0.078,2,   2.4792
  06MT20040710,  AR04,   780,  1,     10,     10,2,20040729,   0, 13.9152, -54.4417, 5437,   2730.0,   2.9055,  34.9380,2,-999.0000,9,    258.3,2,    258.3,2,    0.203,2,    0.105,2,   2.6844
  06MT20040710,  AR04,   780,  1,     11,     11,2,20040729,   0, 13.9152, -54.4417, 5437,   2331.1,   3.2572,  34.9588,2,-999.0000,9,    259.8,2,    259.1,2,    0.301,2,    0.156,2,   3.0691
  06MT20040710,  AR04,   780,  1,     12,     12,2,20040729,   0, 13.9152, -54.4417, 5437,   2069.7,   3.5424,  34.9711,2,-999.0000,9,    260.2,2,   -999.0,9,    0.420,2,    0.219,2,   3.3750
  06MT20040710,  AR04,   780,  1,     13,     13,2,20040729,   0, 13.9152, -54.4417, 5437,   1920.6,   3.7352,  34.9775,2,-999.0000,9,    259.6,2,    258.4,2,    0.538,2,    0.284,2,   3.5792
  06MT20040710,  AR04,   780,  1,     14,     14,2,20040729,   0, 13.9152, -54.4417, 5437,   1776.5,   3.9743,  34.9865,2,-999.0000,9,    256.7,2,   -999.0,9,    0.700,2,    0.354,2,   3.8286
  06MT20040710,  AR04,   780,  1,     15,     15,2,20040729,   0, 13.9152, -54.4417, 5437,   1614.7,   4.3057,  35.0020,2,-999.0000,9,    248.2,2,    248.0,2,    0.703,2,    0.358,2,   4.1712
  06MT20040710,  AR04,   780,  1,     16,     16,2,20040729,   0, 13.9152, -54.4417, 5437,   1455.4,   4.7123,  35.0103,2,  35.0118,2,    230.5,2,   -999.0,9,    0.560,2,    0.294,2,   4.5882
  06MT20040710,  AR04,   780,  1,     17,     17,2,20040729,   0, 13.9152, -54.4417, 5437,   1258.6,   5.1735,  34.9646,2,-999.0000,9,    194.2,2,   -999.0,9,    0.268,2,    0.147,2,   5.0637
  06MT20040710,  AR04,   780,  1,     18,     18,2,20040729,   0, 13.9152, -54.4417, 5437,   1003.3,   5.3990,  34.7663,2,-999.0000,9,    143.5,2,    144.6,2,    0.056,2,    0.032,2,   5.3119
  06MT20040710,  AR04,   780,  1,     19,     19,2,20040729,   0, 13.9152, -54.4417, 5437,    700.7,   6.6910,  34.7136,2,-999.0000,9,    123.0,2,   -999.0,9, -999.000,9, -999.000,9,   6.6249
  06MT20040710,  AR04,   780,  1,     20,     20,2,20040729,   0, 13.9152, -54.4417, 5437,    699.3,   6.7038,  34.7206,2,  34.7165,2,    122.9,2,    122.6,2,    0.279,2,    0.154,2,   6.6378
  06MT20040710,  AR04,   780,  1,     21,     21,2,20040729,   0, 13.9152, -54.4417, 5437,    342.1,  12.1924,  35.4465,2,-999.0000,9,    117.7,2,   -999.0,9,    1.346,2,    0.732,2,  12.1468
  06MT20040710,  AR04,   780,  1,     22,     22,2,20040729,   0, 13.9152, -54.4417, 5437,     10.5,  28.2310,  34.2451,2,-999.0000,9,    199.3,2,    200.0,6,    1.539,2,    0.990,2,  28.2285
  06MT20040710,  AR04,   781,  1,      1,      1,2,20040730,   0, 13.5007, -54.5527, 5355,   5354.0,   1.8488,  34.8286,2,-999.0000,9,    242.7,2,    241.3,6, -999.000,9, -999.000,9,   1.3571
  06MT20040710,  AR04,   781,  1,      2,      2,2,20040730,   0, 13.5007, -54.5527, 5355,   5354.4,   1.8491,  34.8282,2,-999.0000,9,    242.7,2,   -999.0,9, -999.000,9, -999.000,9,   1.3573
  06MT20040710,  AR04,   781,  1,      3,      3,2,20040730,   0, 13.5007, -54.5527, 5355,   5354.3,   1.8489,  34.8287,2,  34.8345,2,    242.7,2,   -999.0,9,    0.112,2,    0.066,2,   1.3571
  06MT20040710,  AR04,   781,  1,      4,      4,2,20040730,   0, 13.5007, -54.5527, 5355,   4827.7,   2.0647,  34.8618,2,-999.0000,9,    252.5,2,   -999.0,9,    0.116,2,    0.068,2,   1.6314
  06MT20040710,  AR04,   781,  1,      5,      5,2,20040730,   0, 13.5007, -54.5527, 5355,   4426.4,   2.2387,  34.8873,2,-999.0000,9,    260.8,2,    260.3,2,    0.230,2,    0.125,2,   1.8482
  06MT20040710,  AR04,   781,  1,      6,      6,2,20040730,   0, 13.5007, -54.5527, 5355,   3945.4,   2.3297,  34.8988,2,-999.0000,9,    264.0,2,    264.1,2,    0.325,2,    0.173,2,   1.9923
  06MT20040710,  AR04,   781,  1,      7,      7,2,20040730,   0, 13.5007, -54.5527, 5355,   3498.4,   2.5084,  34.9110,2,  34.9128,2,    261.1,2,   -999.0,9,    0.268,2,    0.139,2,   2.2159
  06MT20040710,  AR04,   781,  1,      8,      8,2,20040730,   0, 13.5007, -54.5527, 5355,   3197.4,   2.6649,  34.9214,2,-999.0000,9,    258.6,2,    258.7,2,    0.223,2,    0.114,2,   2.4008
  06MT20040710,  AR04,   781,  1,      9,      9,2,20040730,   0, 13.5007, -54.5527, 5355,   2798.5,   2.8798,  34.9367,2,-999.0000,9,    257.0,2,    257.4,2,    0.164,2,    0.088,2,   2.6523
  06MT20040710,  AR04,   781,  1,     10,     10,2,20040730,   0, 13.5007, -54.5527, 5355,   2399.3,   3.1854,  34.9552,2,  34.9576,2,    258.2,2,   -999.0,9,    0.192,2,    0.104,2,   2.9919
  06MT20040710,  AR04,   781,  1,     11,     11,2,20040730,   0, 13.5007, -54.5527, 5355,   2162.1,   3.4368,  34.9687,2,-999.0000,9,    258.0,2,    257.2,2,    0.250,2,    0.132,2,   3.2621
  06MT20040710,  AR04,   781,  1,     12,     12,2,20040730,   0, 13.5007, -54.5527, 5355,   2015.0,   3.6341,  34.9756,2,-999.0000,9,    257.9,2,   -999.0,9,    0.341,2,    0.177,2,   3.4705
  06MT20040710,  AR04,   781,  1,     13,     13,2,20040730,   0, 13.5007, -54.5527, 5355,   1862.9,   3.8613,  34.9841,2,-999.0000,9,    256.1,2,   -999.0,9,    0.449,2,    0.236,2,   3.7090
  06MT20040710,  AR04,   781,  1,     14,     14,2,20040730,   0, 13.5007, -54.5527, 5355,   1711.5,   4.1338,  34.9944,2,-999.0000,9,    251.5,2,    248.3,2,    0.479,2,    0.248,2,   3.9922
  06MT20040710,  AR04,   781,  1,     15,     15,2,20040730,   0, 13.5007, -54.5527, 5355,   1560.1,   4.5094,  35.0056,2,  35.0092,2,    238.5,2,   -999.0,9,    0.595,2,    0.298,2,   4.3776
  06MT20040710,  AR04,   781,  1,     16,     16,2,20040730,   0, 13.5007, -54.5527, 5355,   1347.0,   5.0645,  34.9936,2,-999.0000,9,    208.5,2,    207.9,2,    0.355,2,    0.187,2,   4.9472
  06MT20040710,  AR04,   781,  1,     17,     17,2,20040730,   0, 13.5007, -54.5527, 5355,    946.0,   5.4410,  34.6935,2,-999.0000,9,    136.8,2,   -999.0,9,    0.113,2,    0.066,2,   5.3591
  06MT20040710,  AR04,   781,  1,     18,     18,2,20040730,   0, 13.5007, -54.5527, 5355,    617.4,   7.6358,  34.8084,2,  34.8093,2,    119.4,2,    119.3,2,    0.486,2,    0.264,2,   7.5735
  06MT20040710,  AR04,   781,  1,     19,     19,2,20040730,   0, 13.5007, -54.5527, 5355,    400.8,  10.5556,  35.1845,2,-999.0000,9,    121.5,2,   -999.0,9, -999.000,9, -999.000,9,  10.5069
  06MT20040710,  AR04,   781,  1,     20,     20,2,20040730,   0, 13.5007, -54.5527, 5355,    390.5,  10.5483,  35.1844,2,-999.0000,9,    123.0,2,    121.2,6,    1.122,2,    0.604,2,  10.5009
  06MT20040710,  AR04,   781,  1,     21,     21,2,20040730,   0, 13.5007, -54.5527, 5355,    100.6,  25.8167,  36.5104,2,-999.0000,9,    189.1,2,    173.7,2,    1.680,2,    1.056,2,  25.7942
  06MT20040710,  AR04,   781,  1,     22,     22,2,20040730,   0, 13.5007, -54.5527, 5355,     25.9,  28.1262,  35.8095,2,-999.0000,9,    197.9,2,    199.3,2,    1.508,2,    0.970,2,  28.1201