BOTTLE,20140522SIOCCHGR
EXPOCODE,SECT_ID,STNNBR,CASTNO,SAMPNO,BTLNBR,BTLNBR_FLAG_W,DATE,TIME,LATITUDE,LONGITUDE,DEPTH,CTDPRS,CTDTMP,CTDSAL,CTDSAL_FLAG_W,SALNTY,SALNTY_FLAG_W,CTDOXY,CTDOXY_FLAG_W,OXYGEN,OXYGEN_FLAG_W,CFC-11,CFC-11_FLAG_W,CFC-12,CFC-12_FLAG_W,THETA
,,,,,,,,,,,METERS,DBAR,ITS-90,PSS-78,,PSS-78,,UMOL/KG,,UMOL/KG,,PMOL/KG,,PMOL/KG,,DEG C
  06MT20040710,  AR04,   744,  1,      1,      1,2,20040723,   0, 15.6702, -61.4417,  730,    729.9,   6.7936,  34.8141,2,-999.0000,9,    132.3,2,    134.5,2, -999.000,9, -999.000,9,   6.7239
  06MT20040710,  AR04,   744,  1,      2,      2,2,20040723,   0, 15.6702, -61.4417,  730,    729.9,   6.7936,  34.8141,2,  34.8347,2,    132.3,2,   -999.0,9,    0.325,6,    0.174,6,   6.7239
  06MT20040710,  AR04,   744,  1,      3,      3,2,20040723,   0, 15.6702, -61.4417,  730,    405.9,  11.9629,  35.4628,2,-999.0000,9,    128.7,2,    125.7,2,    1.273,2,    0.671,2,  11.9093
  06MT20040710,  AR04,   744,  1,      4,      4,2,20040723,   0, 15.6702, -61.4417,  730,    200.0,  19.1134,  36.6241,2,  36.5493,3,    162.6,2,   -999.0,9,    2.078,2,    1.206,2,  19.0772
  06MT20040710,  AR04,   744,  1,      5,      5,2,20040723,   0, 15.6702, -61.4417,  730,      8.9,  28.1858,  34.6411,2,-999.0000,9,    198.1,2,    202.5,2,    1.578,2,    0.996,2,  28.1837
  06MT20040710,  AR04,   745,  1,      1,      1,2,20040723,   0, 15.7015, -61.4587, 1074,   1073.1,   4.4765,  34.9471,2,-999.0000,9,    197.1,2,    196.9,2, -999.000,9, -999.000,9,   4.3900
  06MT20040710,  AR04,   745,  1,      2,      2,2,20040723,   0, 15.7015, -61.4587, 1074,   1073.0,   4.4767,  34.9475,2,  34.9504,2,    197.1,2,   -999.0,9,    0.048,2,    0.030,2,   4.3902
  06MT20040710,  AR04,   745,  1,      3,      3,2,20040723,   0, 15.7015, -61.4587, 1074,    813.5,   6.4276,  34.8170,2,-999.0000,9,    138.6,2,    139.3,2,    0.232,2,    0.127,2,   6.3517
  06MT20040710,  AR04,   745,  1,      4,      4,2,20040723,   0, 15.7015, -61.4587, 1074,    500.0,   9.4977,  35.0943,2,  35.0875,2,    122.2,2,   -999.0,9,    0.827,2,    0.446,2,   9.4405
  06MT20040710,  AR04,   745,  1,      5,      5,2,20040723,   0, 15.7015, -61.4587, 1074,    302.6,  15.1656,  36.0261,2,-999.0000,9,    145.2,2,    146.5,2,    1.895,2,    1.069,2,  15.1189
  06MT20040710,  AR04,   745,  1,      6,      6,2,20040723,   0, 15.7015, -61.4587, 1074,     98.6,  25.2514,  37.0596,2,-999.0000,9,    184.5,2,   -999.0,9,    1.702,2,    1.076,2,  25.2297
  06MT20040710,  AR04,   745,  1,      7,      7,2,20040723,   0, 15.7015, -61.4587, 1074,     11.4,  28.1395,  34.6722,2,-999.0000,9,    198.0,2,    201.2,2,    1.517,2,    0.971,2,  28.1368
  06MT20040710,  AR04,   746,  1,      1,      1,2,20040723,   0, 15.7478, -61.4743,  600,    593.9,   7.7588,  34.8844,2,-999.0000,9,    125.5,2,    124.3,6, -999.000,9, -999.000,9,   7.6983
  06MT20040710,  AR04,   746,  1,      2,      2,2,20040723,   0, 15.7478, -61.4743,  600,    593.0,   7.7610,  34.8847,2,  34.8967,2,    125.5,2,   -999.0,9,    0.501,2,    0.272,2,   7.7006
  06MT20040710,  AR04,   746,  1,      3,      3,2,20040723,   0, 15.7478, -61.4743,  600,    453.8,  10.0920,  35.1892,2,-999.0000,9,    123.2,2,   -999.0,9,    0.956,2,    0.513,2,  10.0382
  06MT20040710,  AR04,   746,  1,      4,      4,2,20040723,   0, 15.7478, -61.4743,  600,    253.9,  16.6817,  36.2786,2,-999.0000,9,    159.8,2,   -999.0,9,    2.000,2,    1.151,2,  16.6399
  06MT20040710,  AR04,   746,  1,      5,      5,2,20040723,   0, 15.7478, -61.4743,  600,    150.6,  22.8722,  37.1470,2,  37.0994,3,    179.5,2,   -999.0,9,    1.913,2,    1.186,2,  22.8413
  06MT20040710,  AR04,   746,  1,      6,      6,2,20040723,   0, 15.7478, -61.4743,  600,     11.7,  28.1814,  34.4989,2,-999.0000,9,    197.6,2,   -999.0,9,    1.512,2,    0.973,2,  28.1786
  06MT20040710,  AR04,   747,  1,      1,      1,2,20040723,   0, 15.8002, -61.4955,  466,    465.2,   9.8860,  35.1428,2,-999.0000,9,    122.3,2,    124.4,2, -999.000,9, -999.000,9,   9.8316
  06MT20040710,  AR04,   747,  1,      2,      2,2,20040723,   0, 15.8002, -61.4955,  466,    465.2,   9.8860,  35.1428,2,-999.0000,9,    122.3,2,   -999.0,9, -999.000,9, -999.000,9,   9.8316
  06MT20040710,  AR04,   747,  1,      3,      3,2,20040723,   0, 15.8002, -61.4955,  466,    465.2,   9.8860,  35.1428,2,  35.1604,3,    122.3,2,   -999.0,9,    0.984,2,    0.527,2,   9.8316
  06MT20040710,  AR04,   747,  1,      4,      4,2,20040723,   0, 15.8002, -61.4955,  466,    346.3,  12.5797,  35.5600,2,  35.4919,3,    130.9,2,   -999.0,9,    1.433,2,    0.785,2,  12.5326
  06MT20040710,  AR04,   747,  1,      5,      5,2,20040723,   0, 15.8002, -61.4955,  466,    198.1,  18.8459,  36.6374,2,-999.0000,9,    163.2,2,    161.3,2,    2.040,2,    1.215,2,  18.8104
  06MT20040710,  AR04,   747,  1,      6,      6,2,20040723,   0, 15.8002, -61.4955,  466,     15.5,  28.3109,  34.5451,2,-999.0000,9,    197.4,2,    201.9,2,    1.515,2,    0.986,2,  28.3072
  06MT20040710,  AR04,   748,  1,      1,      1,2,20040723,   0, 15.9543, -61.5565,  252,    250.9,  16.9892,  36.3109,2,-999.0000,9,    151.9,2,    152.3,2, -999.000,9, -999.000,9,  16.9474
  06MT20040710,  AR04,   748,  1,      2,      2,2,20040723,   0, 15.9543, -61.5565,  252,    250.9,  16.9892,  36.3109,2,  36.3320,2,    151.9,2,   -999.0,9,    1.978,2,    1.164,2,  16.9474
  06MT20040710,  AR04,   748,  1,      3,      3,2,20040723,   0, 15.9543, -61.5565,  252,     99.5,  24.8822,  37.2222,2,-999.0000,9,    193.4,2,    184.1,6,    1.831,6,    1.140,6,  24.8605
  06MT20040710,  AR04,   748,  1,      4,      4,2,20040723,   0, 15.9543, -61.5565,  252,     11.7,  28.1814,  34.4561,2,  34.5203,3,    197.0,2,    201.3,2,    1.512,6,    0.977,6,  28.1786
  06MT20040710,  AR04,   749,  1,      1,      1,2,20040723,   0, 16.2902, -60.8172,  549,    548.5,   8.2638,  34.9082,2,-999.0000,9,    120.7,2,    118.5,2, -999.000,9, -999.000,9,   8.2060
  06MT20040710,  AR04,   749,  1,      2,      2,2,20040723,   0, 16.2902, -60.8172,  549,    548.6,   8.2612,  34.9079,2,-999.0000,9,    120.7,2,   -999.0,9, -999.000,9, -999.000,9,   8.2034
  06MT20040710,  AR04,   749,  1,      3,      3,2,20040723,   0, 16.2902, -60.8172,  549,    548.2,   8.2558,  34.9110,2,  34.9130,2,    120.7,2,   -999.0,9,    0.622,2,    0.336,2,   8.1981
  06MT20040710,  AR04,   749,  1,      4,      4,2,20040723,   0, 16.2902, -60.8172,  549,    353.2,  11.6220,  35.3449,2,-999.0000,9,    126.0,2,    123.9,6,    1.333,2,    0.713,2,  11.5764
  06MT20040710,  AR04,   749,  1,      5,      5,2,20040723,   0, 16.2902, -60.8172,  549,    152.6,  22.9604,  37.0208,2,-999.0000,9,    170.9,2,   -999.0,9,    1.896,2,    1.163,2,  22.9290
  06MT20040710,  AR04,   749,  1,      6,      6,2,20040723,   0, 16.2902, -60.8172,  549,     12.7,  28.2746,  34.4728,2,  34.4947,2,    197.8,2,    201.3,2,    1.513,2,    0.965,2,  28.2716
  06MT20040710,  AR04,   750,  1,      1,      1,2,20040723,   0, 16.2927, -60.7520,  973,    972.3,   5.6600,  34.8755,2,-999.0000,9,    159.1,2,    158.4,6, -999.000,9, -999.000,9,   5.5737
  06MT20040710,  AR04,   750,  1,      2,      2,2,20040723,   0, 16.2927, -60.7520,  973,    972.3,   5.6600,  34.8755,2,-999.0000,9,    159.1,2,   -999.0,9, -999.000,9, -999.000,9,   5.5737
  06MT20040710,  AR04,   750,  1,      3,      3,2,20040723,   0, 16.2927, -60.7520,  973,    972.3,   5.6599,  34.8754,2,  34.8815,2,    159.1,2,   -999.0,9,    0.128,2,    0.069,2,   5.5736
  06MT20040710,  AR04,   750,  1,      4,      4,2,20040723,   0, 16.2927, -60.7520,  973,    787.1,   5.9461,  34.7579,2,-999.0000,9,    134.0,2,    134.2,2,    0.094,2,    0.052,2,   5.8757
  06MT20040710,  AR04,   750,  1,      5,      5,2,20040723,   0, 16.2927, -60.7520,  973,    535.0,   8.3331,  34.9137,2,-999.0000,9,    120.7,2,    120.4,2,    0.570,2,    0.309,2,   8.2765
  06MT20040710,  AR04,   750,  1,      6,      6,2,20040723,   0, 16.2927, -60.7520,  973,    255.8,  15.6439,  36.0154,2,  35.9221,3,    134.1,2,   -999.0,9,    1.839,2,    1.046,2,  15.6036
  06MT20040710,  AR04,   750,  1,      7,      7,2,20040723,   0, 16.2927, -60.7520,  973,     11.6,  28.3905,  34.5168,2,-999.0000,9,    198.0,2,    202.7,2,    1.510,2,    0.972,2,  28.3877
  06MT20040710,  AR04,   751,  1,      1,      1,2,20040723,   0, 16.2925, -60.6675, 1963,   1962.8,   3.6360,  34.9668,2,-999.0000,9,    262.5,2,    261.7,6, -999.000,9, -999.000,9,   3.4774
  06MT20040710,  AR04,   751,  1,      2,      2,2,20040723,   0, 16.2925, -60.6675, 1963,   1962.5,   3.6375,  34.9664,2,-999.0000,9,    262.5,2,   -999.0,9, -999.000,9, -999.000,9,   3.4789
  06MT20040710,  AR04,   751,  1,      3,      3,2,20040723,   0, 16.2925, -60.6675, 1963,   1962.3,   3.6367,  34.9678,2,  34.9720,2,    262.5,2,   -999.0,9,    0.895,2,    0.454,2,   3.4781
  06MT20040710,  AR04,   751,  1,      4,      4,2,20040723,   0, 16.2925, -60.6675, 1963,   1796.9,   3.7456,  34.9714,2,-999.0000,9,    261.9,2,    260.8,2,    0.959,2,    0.485,2,   3.6011
  06MT20040710,  AR04,   751,  1,      5,      5,2,20040723,   0, 16.2925, -60.6675, 1963,   1698.6,   3.9298,  34.9792,2,-999.0000,9,    259.5,2,   -999.0,9,    1.029,2,    0.520,2,   3.7921
  06MT20040710,  AR04,   751,  1,      6,      6,2,20040723,   0, 16.2925, -60.6675, 1963,   1547.2,   4.1750,  34.9935,2,-999.0000,9,    253.9,2,    253.2,2,    1.007,2,    0.512,2,   4.0484
  06MT20040710,  AR04,   751,  1,      7,      7,2,20040723,   0, 16.2925, -60.6675, 1963,   1423.4,   4.6029,  35.0122,2,-999.0000,9,    238.7,2,   -999.0,9,    0.844,2,    0.428,2,   4.4831
  06MT20040710,  AR04,   751,  1,      8,      8,2,20040723,   0, 16.2925, -60.6675, 1963,    693.5,   6.6519,  34.7632,2,  34.9706,3,    126.3,2,    125.6,2,    0.213,2,    0.117,2,   6.5867
  06MT20040710,  AR04,   751,  1,      9,      9,2,20040723,   0, 16.2925, -60.6675, 1963,     13.9,  28.3570,  34.5293,2,-999.0000,9,    197.6,2,    200.4,2,    1.499,2,    0.965,2,  28.3537
  06MT20040710,  AR04,   752,  1,      1,      1,2,20040723,   0, 16.2920, -60.6345, 2458,   2456.7,   3.3240,  34.9582,2,-999.0000,9,    261.6,2,    261.0,6, -999.000,9, -999.000,9,   3.1224
  06MT20040710,  AR04,   752,  1,      2,      2,2,20040723,   0, 16.2920, -60.6345, 2458,   2456.6,   3.3242,  34.9581,2,-999.0000,9,    261.6,2,   -999.0,9, -999.000,9, -999.000,9,   3.1226
  06MT20040710,  AR04,   752,  1,      3,      3,2,20040723,   0, 16.2920, -60.6345, 2458,   2457.0,   3.3242,  34.9582,2,  34.9586,2,    261.6,2,   -999.0,9,    0.571,2,    0.294,2,   3.1225
  06MT20040710,  AR04,   752,  1,      4,      4,2,20040723,   0, 16.2920, -60.6345, 2458,   2436.4,   3.3245,  34.9584,2,-999.0000,9,    261.6,2,   -999.0,9, -999.000,9, -999.000,9,   3.1249
  06MT20040710,  AR04,   752,  1,      5,      5,2,20040723,   0, 16.2920, -60.6345, 2458,   2297.4,   3.4202,  34.9615,2,-999.0000,9,    262.0,2,    261.1,2,    0.644,2,    0.333,2,   3.2327
  06MT20040710,  AR04,   752,  1,      6,      6,2,20040723,   0, 16.2920, -60.6345, 2458,   1997.5,   3.5863,  34.9651,2,  34.9669,2,    262.9,2,   -999.0,9,    0.852,2,    0.431,2,   3.4251
  06MT20040710,  AR04,   752,  1,      7,      7,2,20040723,   0, 16.2920, -60.6345, 2458,   1736.0,   3.8261,  34.9716,2,-999.0000,9,    262.0,2,    260.3,2,    1.062,2,    0.536,2,   3.6862
  06MT20040710,  AR04,   752,  1,      8,      8,2,20040723,   0, 16.2920, -60.6345, 2458,   1625.5,   4.0287,  34.9835,2,-999.0000,9,    258.3,2,   -999.0,9,    1.076,2,    0.542,2,   3.8965
  06MT20040710,  AR04,   752,  1,      9,      9,2,20040723,   0, 16.2920, -60.6345, 2458,   1547.0,   4.1264,  34.9913,2,  34.9907,2,    256.1,2,   -999.0,9,    1.091,2,    0.550,2,   4.0004
  06MT20040710,  AR04,   752,  1,     10,     10,2,20040723,   0, 16.2920, -60.6345, 2458,   1355.9,   4.5274,  35.0129,2,-999.0000,9,    243.5,2,   -999.0,9,    0.945,2,    0.477,2,   4.4147
  06MT20040710,  AR04,   752,  1,     11,     11,2,20040723,   0, 16.2920, -60.6345, 2458,    502.0,   9.4565,  35.1450,2,-999.0000,9,    121.4,2,    120.9,2,    0.729,2,    0.391,2,   9.3992
  06MT20040710,  AR04,   752,  1,     12,     12,2,20040723,   0, 16.2920, -60.6345, 2458,     14.7,  28.3543,  34.5139,2,-999.0000,9,    197.8,2,    198.4,2,    1.528,2,    0.982,2,  28.3508
  06MT20040710,  AR04,   753,  1,      1,      1,2,20040724,   0, 16.2908, -60.5785, 3322,   3320.6,   2.6644,  34.9210,2,-999.0000,9,    264.2,2,    267.2,2, -999.000,9, -999.000,9,   2.3872
  06MT20040710,  AR04,   753,  1,      2,      2,2,20040724,   0, 16.2908, -60.5785, 3322,   3320.6,   2.6663,  34.9212,2,-999.0000,9,    264.2,2,   -999.0,9, -999.000,9, -999.000,9,   2.3891
  06MT20040710,  AR04,   753,  1,      3,      3,2,20040724,   0, 16.2908, -60.5785, 3322,   3320.6,   2.6619,  34.9208,2,  34.9242,2,    264.2,2,   -999.0,9,    0.483,2,    0.243,2,   2.3848
  06MT20040710,  AR04,   753,  1,      4,      4,2,20040724,   0, 16.2908, -60.5785, 3322,   2997.9,   2.8289,  34.9336,2,-999.0000,9,    262.5,2,    263.5,2,    0.438,2,    0.220,2,   2.5820
  06MT20040710,  AR04,   753,  1,      5,      5,2,20040724,   0, 16.2908, -60.5785, 3322,   2697.3,   3.1041,  34.9492,2,-999.0000,9,    261.6,2,    261.5,2,    0.466,2,    0.236,2,   2.8824
  06MT20040710,  AR04,   753,  1,      6,      6,2,20040724,   0, 16.2908, -60.5785, 3322,   2187.3,   3.3433,  34.9590,2,  34.9612,2,    262.3,2,   -999.0,9,    0.585,2,    0.300,2,   3.1677
  06MT20040710,  AR04,   753,  1,      7,      7,2,20040724,   0, 16.2908, -60.5785, 3322,   1897.4,   3.6279,  34.9647,2,-999.0000,9,    263.6,2,    263.0,2,    0.908,2,    0.463,2,   3.4756
  06MT20040710,  AR04,   753,  1,      8,      8,2,20040724,   0, 16.2908, -60.5785, 3322,   1657.2,   3.9183,  34.9763,2,-999.0000,9,    261.1,2,    260.1,6,    1.144,2,    0.576,2,   3.7846
  06MT20040710,  AR04,   753,  1,      9,      9,2,20040724,   0, 16.2908, -60.5785, 3322,   1487.5,   4.2525,  34.9984,2,-999.0000,9,    254.3,2,   -999.0,9,    1.154,2,    0.581,2,   4.1305
  06MT20040710,  AR04,   753,  1,     10,     10,2,20040724,   0, 16.2908, -60.5785, 3322,   1297.9,   4.7826,  35.0296,2,-999.0000,9,    237.8,2,   -999.0,9,    1.063,2,    0.529,2,   4.6727
  06MT20040710,  AR04,   753,  1,     11,     11,2,20040724,   0, 16.2908, -60.5785, 3322,    787.3,   5.8750,  34.7317,2,  34.7360,2,    134.5,2,   -999.0,9,    0.132,2,    0.075,2,   5.8051
  06MT20040710,  AR04,   753,  1,     12,     12,2,20040724,   0, 16.2908, -60.5785, 3322,     25.5,  28.3133,  34.6251,2,  34.6313,2,    197.7,2,    198.3,2,    1.514,2,    0.974,2,  28.3073
  06MT20040710,  AR04,   754,  1,      1,      1,2,20040724,   0, 16.2832, -60.5325, 4311,   4310.6,   2.3375,  34.8973,2,-999.0000,9,    265.5,2,    267.2,2, -999.000,9, -999.000,9,   1.9577
  06MT20040710,  AR04,   754,  1,      2,      2,2,20040724,   0, 16.2832, -60.5325, 4311,   4310.5,   2.3375,  34.8974,2,-999.0000,9,    265.5,2,   -999.0,9, -999.000,9, -999.000,9,   1.9577
  06MT20040710,  AR04,   754,  1,      3,      3,2,20040724,   0, 16.2832, -60.5325, 4311,   4310.6,   2.3404,  34.8975,2,  34.8998,2,    265.5,2,   -999.0,9,    0.477,2,    0.247,2,   1.9605
  06MT20040710,  AR04,   754,  1,      4,      4,2,20040724,   0, 16.2832, -60.5325, 4311,   3897.8,   2.3628,  34.9021,2,  34.8998,2,    266.1,2,    265.9,2,    0.492,2,    0.256,2,   2.0299
  06MT20040710,  AR04,   754,  1,      5,      5,2,20040724,   0, 16.2832, -60.5325, 4311,   3498.6,   2.4788,  34.9109,2,-999.0000,9,    265.3,2,    257.6,4,    0.505,2,    0.258,2,   2.1870
  06MT20040710,  AR04,   754,  1,      6,      6,2,20040724,   0, 16.2832, -60.5325, 4311,   2800.2,   2.9594,  34.9422,2,  34.9439,2,    261.3,2,   -999.0,9,    0.414,2,    0.208,2,   2.7301
  06MT20040710,  AR04,   754,  1,      7,      7,2,20040724,   0, 16.2832, -60.5325, 4311,   2395.8,   3.2434,  34.9555,2,-999.0000,9,    261.9,2,    260.9,6,    0.714,2,    0.363,2,   3.0492
  06MT20040710,  AR04,   754,  1,      8,      8,2,20040724,   0, 16.2832, -60.5325, 4311,   2097.8,   3.4602,  34.9622,2,-999.0000,9,    262.9,2,   -999.0,9, -999.000,9, -999.000,9,   3.2914
  06MT20040710,  AR04,   754,  1,      9,      9,2,20040724,   0, 16.2832, -60.5325, 4311,   1853.7,   3.6879,  34.9658,2,-999.0000,9,    263.6,2,    265.2,2, -999.000,9, -999.000,9,   3.5389
  06MT20040710,  AR04,   754,  1,     10,     10,2,20040724,   0, 16.2832, -60.5325, 4311,   1697.7,   3.8564,  34.9723,2,-999.0000,9,    262.0,2,   -999.0,9, -999.000,9, -999.000,9,   3.7197
  06MT20040710,  AR04,   754,  1,     11,     11,2,20040724,   0, 16.2832, -60.5325, 4311,   1528.9,   4.1214,  34.9872,2,  34.9893,2,    256.9,2,   -999.0,9,    1.189,2,    0.594,2,   3.9971
  06MT20040710,  AR04,   754,  1,     12,     12,2,20040724,   0, 16.2832, -60.5325, 4311,   1094.5,   5.3698,  34.9564,2,-999.0000,9,    185.5,2,    191.0,2,    0.288,2,    0.162,2,   5.2740
  06MT20040710,  AR04,   754,  1,     13,     13,2,20040724,   0, 16.2832, -60.5325, 4311,    485.2,   9.1245,  35.0086,2,-999.0000,9,    123.1,2,    124.6,2,    0.763,2,    0.406,2,   9.0704
  06MT20040710,  AR04,   754,  1,     14,     14,2,20040724,   0, 16.2832, -60.5325, 4311,     36.8,  28.2172,  34.8185,2,-999.0000,9,    197.6,2,    199.3,2,    1.538,2,    0.995,2,  28.2085