BOTTLE,20140522SIOCCHGR
EXPOCODE,SECT_ID,STNNBR,CASTNO,SAMPNO,BTLNBR,BTLNBR_FLAG_W,DATE,TIME,LATITUDE,LONGITUDE,DEPTH,CTDPRS,CTDTMP,CTDSAL,CTDSAL_FLAG_W,SALNTY,SALNTY_FLAG_W,CTDOXY,CTDOXY_FLAG_W,OXYGEN,OXYGEN_FLAG_W,CFC-11,CFC-11_FLAG_W,CFC-12,CFC-12_FLAG_W,THETA
,,,,,,,,,,,METERS,DBAR,ITS-90,PSS-78,,PSS-78,,UMOL/KG,,UMOL/KG,,PMOL/KG,,PMOL/KG,,DEG C
  06MT20040710,  AR04,   755,  1,      1,      1,2,20040724,   0, 16.2745, -60.4323, 4848,   4846.9,   2.2726,  34.8859,2,-999.0000,9,    260.6,2,    261.6,6, -999.000,9, -999.000,9,   1.8299
  06MT20040710,  AR04,   755,  1,      2,      2,2,20040724,   0, 16.2745, -60.4323, 4848,   4846.9,   2.2728,  34.8863,2,-999.0000,9,    260.6,2,   -999.0,9, -999.000,9, -999.000,9,   1.8301
  06MT20040710,  AR04,   755,  1,      3,      3,2,20040724,   0, 16.2745, -60.4323, 4848,   4847.6,   2.2718,  34.8860,2,  34.8866,2,    260.5,2,   -999.0,9,    0.329,2,    0.175,2,   1.8291
  06MT20040710,  AR04,   755,  1,      4,      4,2,20040724,   0, 16.2745, -60.4323, 4848,   4497.4,   2.2935,  34.8928,2,-999.0000,9,    264.0,2,    264.1,2,    0.416,2,    0.213,2,   1.8928
  06MT20040710,  AR04,   755,  1,      5,      5,2,20040724,   0, 16.2745, -60.4323, 4848,   3997.4,   2.3249,  34.8996,2,  34.8992,2,    265.9,2,   -999.0,9,    0.490,2,    0.248,2,   1.9818
  06MT20040710,  AR04,   755,  1,      6,      6,2,20040724,   0, 16.2745, -60.4323, 4848,   3697.1,   2.3973,  34.9055,2,-999.0000,9,    265.8,2,    266.4,2, -999.000,9, -999.000,9,   2.0859
  06MT20040710,  AR04,   755,  1,      7,      7,2,20040724,   0, 16.2745, -60.4323, 4848,   3097.6,   2.6631,  34.9240,2,  34.9256,2,    263.1,2,   -999.0,9,    0.418,2,    0.212,2,   2.4095
  06MT20040710,  AR04,   755,  1,      8,      8,2,20040724,   0, 16.2745, -60.4323, 4848,   2494.9,   3.1268,  34.9527,2,-999.0000,9,    260.7,2,    260.5,2, -999.000,9, -999.000,9,   2.9250
  06MT20040710,  AR04,   755,  1,      9,      9,2,20040724,   0, 16.2745, -60.4323, 4848,   2144.5,   3.4580,  34.9635,2,-999.0000,9,    262.6,2,    262.7,2, -999.000,9, -999.000,9,   3.2847
  06MT20040710,  AR04,   755,  1,     10,     10,2,20040724,   0, 16.2745, -60.4323, 4848,   1961.8,   3.6378,  34.9645,2,-999.0000,9,    263.4,2,    256.2,4, -999.000,9, -999.000,9,   3.4793
  06MT20040710,  AR04,   755,  1,     11,     11,2,20040724,   0, 16.2745, -60.4323, 4848,   1792.8,   3.7980,  34.9699,2,  35.0230,3,    262.6,2,   -999.0,9, -999.000,9, -999.000,9,   3.6532
  06MT20040710,  AR04,   755,  1,     12,     12,2,20040724,   0, 16.2745, -60.4323, 4848,   1600.0,   4.1177,  34.9934,2,-999.0000,9,    256.5,2,    254.6,2,    1.030,2,    0.523,2,   3.9868
  06MT20040710,  AR04,   755,  1,     13,     13,2,20040724,   0, 16.2745, -60.4323, 4848,   1398.7,   4.5826,  35.0176,2,-999.0000,9,    243.3,2,   -999.0,9,    1.050,2,    0.529,2,   4.4653
  06MT20040710,  AR04,   755,  1,     14,     14,2,20040724,   0, 16.2745, -60.4323, 4848,    898.5,   5.5821,  34.7635,2,-999.0000,9,    143.5,2,    149.1,2,    0.095,2,    0.051,2,   5.5035
  06MT20040710,  AR04,   755,  1,     15,     15,2,20040724,   0, 16.2745, -60.4323, 4848,    301.3,  13.8744,  35.6993,2,  35.6421,3,    130.5,2,    129.5,2,    1.696,2,    0.946,2,  13.8307
  06MT20040710,  AR04,   755,  1,     16,     16,2,20040724,   0, 16.2745, -60.4323, 4848,     26.1,  28.3234,  34.7409,2,-999.0000,9,    197.1,2,    198.2,2,    1.524,2,    0.978,2,  28.3172
  06MT20040710,  AR04,   756,  1,      1,      1,2,20040724,   0, 16.2670, -60.2988, 4761,   4760.1,   2.2563,  34.8860,2,-999.0000,9,    260.7,2,    261.9,6, -999.000,9, -999.000,9,   1.8249
  06MT20040710,  AR04,   756,  1,      2,      2,2,20040724,   0, 16.2670, -60.2988, 4761,   4760.4,   2.2562,  34.8860,2,-999.0000,9,    260.7,2,   -999.0,9, -999.000,9, -999.000,9,   1.8248
  06MT20040710,  AR04,   756,  1,      3,      3,2,20040724,   0, 16.2670, -60.2988, 4761,   4760.3,   2.2582,  34.8850,2,  34.8845,2,    260.7,2,   -999.0,9,    0.315,2,    0.166,2,   1.8267
  06MT20040710,  AR04,   756,  1,      4,      4,2,20040724,   0, 16.2670, -60.2988, 4761,   4697.3,   2.2661,  34.8877,2,-999.0000,9,    261.4,2,    262.2,2,    0.323,2,    0.169,2,   1.8421
  06MT20040710,  AR04,   756,  1,      5,      5,2,20040724,   0, 16.2670, -60.2988, 4761,   4297.8,   2.2682,  34.8926,2,  34.8911,2,    264.0,2,    261.8,2,    0.407,2,    0.211,2,   1.8920
  06MT20040710,  AR04,   756,  1,      6,      6,2,20040724,   0, 16.2670, -60.2988, 4761,   3797.5,   2.3349,  34.9013,2,-999.0000,9,    265.9,2,    267.2,2,    0.505,2,    0.255,2,   2.0140
  06MT20040710,  AR04,   756,  1,      7,      7,2,20040724,   0, 16.2670, -60.2988, 4761,   3397.1,   2.4825,  34.9116,2,  34.9104,2,    266.5,2,   -999.0,9,    0.546,2,    0.276,2,   2.2016
  06MT20040710,  AR04,   756,  1,      8,      8,2,20040724,   0, 16.2670, -60.2988, 4761,   2897.5,   2.7868,  34.9315,2,-999.0000,9,    263.2,2,    264.4,2,    0.484,2,    0.243,2,   2.5512
  06MT20040710,  AR04,   756,  1,      9,      9,2,20040724,   0, 16.2670, -60.2988, 4761,   2352.6,   3.3194,  34.9682,2,  34.9675,2,    256.0,2,   -999.0,9,    0.213,2,    0.110,2,   3.1281
  06MT20040710,  AR04,   756,  1,     10,     10,2,20040724,   0, 16.2670, -60.2988, 4761,   2048.2,   3.6046,  34.9782,2,-999.0000,9,    259.7,2,    257.4,2,    0.426,2,    0.221,2,   3.4383
  06MT20040710,  AR04,   756,  1,     11,     11,2,20040724,   0, 16.2670, -60.2988, 4761,   1907.3,   3.7452,  34.9778,2,-999.0000,9,    259.5,2,   -999.0,9,    0.659,2,    0.336,2,   3.5903
  06MT20040710,  AR04,   756,  1,     12,     12,2,20040724,   0, 16.2670, -60.2988, 4761,   1809.4,   3.8573,  34.9803,2,-999.0000,9,    258.1,2,   -999.0,9,    0.686,2,    0.350,2,   3.7101
  06MT20040710,  AR04,   756,  1,     13,     13,2,20040724,   0, 16.2670, -60.2988, 4761,   1657.4,   4.0850,  34.9928,2,-999.0000,9,    254.2,2,    252.9,2,    0.697,2,    0.355,2,   3.9491
  06MT20040710,  AR04,   756,  1,     14,     14,2,20040724,   0, 16.2670, -60.2988, 4761,   1482.2,   4.4460,  35.0095,2,-999.0000,9,    240.3,2,   -999.0,9,    0.707,2,    0.359,2,   4.3223
  06MT20040710,  AR04,   756,  1,     15,     15,2,20040724,   0, 16.2670, -60.2988, 4761,   1203.9,   5.1094,  35.0018,2,-999.0000,9,    208.6,2,    210.8,2,    0.429,2,    0.223,2,   5.0054
  06MT20040710,  AR04,   756,  1,     16,     16,2,20040724,   0, 16.2670, -60.2988, 4761,   1001.6,   5.5208,  34.8880,2,-999.0000,9,    165.7,2,   -999.0,9,    0.161,2,    0.085,2,   5.4328
  06MT20040710,  AR04,   756,  1,     17,     17,2,20040724,   0, 16.2670, -60.2988, 4761,    697.8,   6.5574,  34.7322,2,  34.7702,3,    126.5,2,    128.2,2,    0.279,2,    0.152,2,   6.4923
  06MT20040710,  AR04,   756,  1,     18,     18,2,20040724,   0, 16.2670, -60.2988, 4761,    499.4,   8.9617,  34.9970,2,-999.0000,9,    121.7,2,   -999.0,9,    0.802,2,    0.430,2,   8.9066
  06MT20040710,  AR04,   756,  1,     19,     19,2,20040724,   0, 16.2670, -60.2988, 4761,    301.2,  14.2132,  35.7584,2,-999.0000,9,    133.2,2,   -999.0,9,    1.797,2,    1.001,2,  14.1688
  06MT20040710,  AR04,   756,  1,     20,     20,2,20040724,   0, 16.2670, -60.2988, 4761,    153.5,  23.2590,  37.0264,2,-999.0000,9,    173.4,2,   -999.0,9,    1.860,2,    1.144,2,  23.2271
  06MT20040710,  AR04,   756,  1,     21,     21,2,20040724,   0, 16.2670, -60.2988, 4761,     17.9,  28.3439,  34.6661,2,-999.0000,9,    196.7,2,    198.4,2, -999.000,9, -999.000,9,  28.3397
  06MT20040710,  AR04,   756,  1,     22,     22,2,20040724,   0, 16.2670, -60.2988, 4761,     17.8,  28.3448,  34.6651,2,-999.0000,9,    196.7,2,   -999.0,9,    1.508,2,    0.964,2,  28.3406
  06MT20040710,  AR04,   757,  1,      1,      1,2,20040724,   0, 16.2523, -60.1318, 5021,   5020.2,   2.1603,  34.8708,2,-999.0000,9,    259.5,2,   -999.0,9, -999.000,9, -999.000,9,   1.6998
  06MT20040710,  AR04,   757,  1,      2,      2,2,20040724,   0, 16.2523, -60.1318, 5021,   5019.1,   2.1600,  34.8708,2,-999.0000,9,    259.5,2,   -999.0,9, -999.000,9, -999.000,9,   1.6997
  06MT20040710,  AR04,   757,  1,      3,      3,2,20040724,   0, 16.2523, -60.1318, 5021,   5019.3,   2.1601,  34.8708,2,  34.8725,2,    259.5,2,    258.6,2,    0.190,2,    0.106,2,   1.6997
  06MT20040710,  AR04,   757,  1,      4,      4,2,20040724,   0, 16.2523, -60.1318, 5021,   4698.4,   2.2148,  34.8820,2,-999.0000,9,    263.4,2,    263.5,2,    0.258,2,    0.139,2,   1.7923
  06MT20040710,  AR04,   757,  1,      5,      5,2,20040724,   0, 16.2523, -60.1318, 5021,   4398.3,   2.2750,  34.8927,2,-999.0000,9,    267.2,2,   -999.0,9,    0.318,2,    0.167,2,   1.8867
  06MT20040710,  AR04,   757,  1,      6,      6,2,20040724,   0, 16.2523, -60.1318, 5021,   4097.8,   2.2924,  34.8967,2,  34.8967,2,    268.8,2,    268.7,2,    0.422,2,    0.216,2,   1.9387
  06MT20040710,  AR04,   757,  1,      7,      7,2,20040724,   0, 16.2523, -60.1318, 5021,   3595.3,   2.4039,  34.9064,2,-999.0000,9,    268.2,2,    269.2,2,    0.339,2,    0.173,2,   2.1035
  06MT20040710,  AR04,   757,  1,      8,      8,2,20040724,   0, 16.2523, -60.1318, 5021,   3189.5,   2.6114,  34.9207,2,  34.9207,2,    267.0,2,   -999.0,9,    0.342,2,    0.174,2,   2.3494
  06MT20040710,  AR04,   757,  1,      9,      9,2,20040724,   0, 16.2523, -60.1318, 5021,   2896.9,   2.7903,  34.9331,2,-999.0000,9,    264.8,2,   -999.0,9,    0.273,2,    0.140,2,   2.5547
  06MT20040710,  AR04,   757,  1,     10,     10,2,20040724,   0, 16.2523, -60.1318, 5021,   2602.3,   3.0265,  34.9479,2,-999.0000,9,    264.7,2,    264.3,6,    0.292,2,    0.152,2,   2.8159
  06MT20040710,  AR04,   757,  1,     11,     11,2,20040724,   0, 16.2523, -60.1318, 5021,   2247.3,   3.3093,  34.9638,2,-999.0000,9,    264.1,2,    263.2,2,    0.312,2,    0.162,2,   3.1285
  06MT20040710,  AR04,   757,  1,     12,     12,2,20040724,   0, 16.2523, -60.1318, 5021,   2006.1,   3.5958,  34.9743,2,  34.9734,2,    263.9,2,   -999.0,9,    0.452,2,    0.230,2,   3.4336
  06MT20040710,  AR04,   757,  1,     13,     13,2,20040724,   0, 16.2523, -60.1318, 5021,   1912.3,   3.6661,  34.9703,2,-999.0000,9,    266.4,2,   -999.0,9,    0.762,2,    0.385,2,   3.5118
  06MT20040710,  AR04,   757,  1,     14,     14,2,20040724,   0, 16.2523, -60.1318, 5021,   1767.6,   3.8773,  34.9829,2,-999.0000,9,    263.1,2,    263.5,2,    0.788,2,    0.397,2,   3.7338
  06MT20040710,  AR04,   757,  1,     15,     15,2,20040724,   0, 16.2523, -60.1318, 5021,   1554.6,   4.2827,  35.0033,2,-999.0000,9,    254.3,2,    255.5,2,    0.915,2,    0.454,2,   4.1541
  06MT20040710,  AR04,   757,  1,     16,     16,2,20040724,   0, 16.2523, -60.1318, 5021,   1348.4,   4.7851,  35.0167,2,-999.0000,9,    233.4,2,   -999.0,9,    0.594,2,    0.304,2,   4.6704
  06MT20040710,  AR04,   757,  1,     17,     17,2,20040724,   0, 16.2523, -60.1318, 5021,    997.2,   5.4945,  34.8902,2,-999.0000,9,    168.8,2,   -999.0,9,    0.226,2,    0.124,2,   5.4071
  06MT20040710,  AR04,   757,  1,     18,     18,2,20040724,   0, 16.2523, -60.1318, 5021,    796.4,   5.7323,  34.6838,2,-999.0000,9,    137.0,2,   -999.0,9,    0.111,2,    0.062,2,   5.6624
  06MT20040710,  AR04,   757,  1,     19,     19,2,20040724,   0, 16.2523, -60.1318, 5021,    622.0,   7.6814,  34.8781,2,-999.0000,9,    125.3,2,   -999.0,9,    0.446,2,    0.241,2,   7.6183
  06MT20040710,  AR04,   757,  1,     20,     20,2,20040724,   0, 16.2523, -60.1318, 5021,    396.0,  11.2933,  35.2848,2,-999.0000,9,    132.4,2,    132.2,2,    1.366,2,    0.732,2,  11.2430
  06MT20040710,  AR04,   757,  1,     21,     21,2,20040724,   0, 16.2523, -60.1318, 5021,      4.8,  28.4238,  34.5248,2,-999.0000,9,    203.1,2,    203.1,2, -999.000,9, -999.000,9,  28.4227
  06MT20040710,  AR04,   757,  1,     22,     22,2,20040724,   0, 16.2523, -60.1318, 5021,      4.8,  28.4238,  34.5248,2,-999.0000,9,    203.1,2,   -999.0,9,    1.517,2,    0.976,2,  28.4227
  06MT20040710,  AR04,   758,  1,      1,      1,2,20040724,   0, 16.2153, -59.9668, 4860,   4858.2,   2.1495,  34.8716,2,-999.0000,9,    259.5,2,    259.3,6, -999.000,9, -999.000,9,   1.7096
  06MT20040710,  AR04,   758,  1,      2,      2,2,20040724,   0, 16.2153, -59.9668, 4860,   4857.4,   2.1509,  34.8719,2,-999.0000,9,    259.5,2,   -999.0,9, -999.000,9, -999.000,9,   1.7110
  06MT20040710,  AR04,   758,  1,      3,      3,2,20040724,   0, 16.2153, -59.9668, 4860,   4858.3,   2.1493,  34.8718,2,  34.8791,2,    259.5,2,   -999.0,9,    0.220,2,    0.120,2,   1.7093
  06MT20040710,  AR04,   758,  1,      4,      4,2,20040724,   0, 16.2153, -59.9668, 4860,   4597.9,   2.2062,  34.8825,2,-999.0000,9,    263.2,2,    262.4,2,    0.261,2,    0.141,2,   1.7962
  06MT20040710,  AR04,   758,  1,      5,      5,2,20040724,   0, 16.2153, -59.9668, 4860,   4197.2,   2.2751,  34.8948,2,  34.8969,2,    267.5,2,   -999.0,9, -999.000,9, -999.000,9,   1.9104
  06MT20040710,  AR04,   758,  1,      6,      6,2,20040724,   0, 16.2153, -59.9668, 4860,   3896.3,   2.3188,  34.9002,2,-999.0000,9,    268.1,2,    269.9,2,    0.366,2,    0.185,2,   1.9873
  06MT20040710,  AR04,   758,  1,      7,      7,2,20040724,   0, 16.2153, -59.9668, 4860,   3503.1,   2.4459,  34.9086,2,  34.9065,2,    266.6,2,    266.5,2,    0.301,2,    0.152,2,   2.1545
  06MT20040710,  AR04,   758,  1,      8,      8,2,20040724,   0, 16.2153, -59.9668, 4860,   3099.1,   2.6851,  34.9252,2,-999.0000,9,    264.9,2,    264.6,2,    0.269,2,    0.137,2,   2.4309
  06MT20040710,  AR04,   758,  1,      9,      9,2,20040724,   0, 16.2153, -59.9668, 4860,   2697.0,   2.9269,  34.9415,2,  34.9429,2,    263.9,2,    264.6,2, -999.000,9, -999.000,9,   2.7087
  06MT20040710,  AR04,   758,  1,     10,     10,2,20040724,   0, 16.2153, -59.9668, 4860,   2298.1,   3.2280,  34.9591,2,-999.0000,9,    263.8,2,   -999.0,9, -999.000,9, -999.000,9,   3.0436
  06MT20040710,  AR04,   758,  1,     11,     11,2,20040724,   0, 16.2153, -59.9668, 4860,   2088.3,   3.4693,  34.9687,2,-999.0000,9,    265.4,2,    264.6,6,    0.504,2,    0.258,2,   3.3012
  06MT20040710,  AR04,   758,  1,     12,     12,2,20040724,   0, 16.2153, -59.9668, 4860,   1927.5,   3.6311,  34.9687,2,-999.0000,9,    264.9,2,   -999.0,9,    0.702,2,    0.357,2,   3.4759
  06MT20040710,  AR04,   758,  1,     13,     13,2,20040724,   0, 16.2153, -59.9668, 4860,   1827.7,   3.7703,  34.9776,2,-999.0000,9,    263.8,2,    262.6,2,    0.687,2,    0.350,2,   3.6226
  06MT20040710,  AR04,   758,  1,     14,     14,2,20040724,   0, 16.2153, -59.9668, 4860,   1684.5,   3.9848,  34.9841,2,-999.0000,9,    262.1,2,    261.4,2,    0.947,2,    0.474,2,   3.8477
  06MT20040710,  AR04,   758,  1,     15,     15,2,20040724,   0, 16.2153, -59.9668, 4860,   1588.5,   4.1992,  34.9981,2,  35.0033,2,    256.9,2,   -999.0,9,    0.849,2,    0.429,2,   4.0684
  06MT20040710,  AR04,   758,  1,     16,     16,2,20040724,   0, 16.2153, -59.9668, 4860,   1435.0,   4.5458,  35.0131,2,-999.0000,9,    244.9,2,    245.1,2,    0.808,2,    0.411,2,   4.4255
  06MT20040710,  AR04,   758,  1,     17,     17,2,20040724,   0, 16.2153, -59.9668, 4860,   1135.7,   5.3310,  34.9586,2,-999.0000,9,    190.9,2,   -999.0,9, -999.000,9, -999.000,9,   5.2316
  06MT20040710,  AR04,   758,  1,     18,     18,2,20040724,   0, 16.2153, -59.9668, 4860,    899.7,   5.6179,  34.7811,2,-999.0000,9,    148.1,2,    149.7,2,    0.095,2,    0.053,2,   5.5390
  06MT20040710,  AR04,   758,  1,     19,     19,2,20040724,   0, 16.2153, -59.9668, 4860,    500.4,   9.4760,  35.0449,2,-999.0000,9,    125.8,2,    123.4,2, -999.000,9, -999.000,9,   9.4189
  06MT20040710,  AR04,   758,  1,     20,     20,2,20040724,   0, 16.2153, -59.9668, 4860,    196.9,  19.2527,  36.5496,2,-999.0000,9,    143.0,2,   -999.0,9, -999.000,9, -999.000,9,  19.2169
  06MT20040710,  AR04,   758,  1,     21,     21,2,20040724,   0, 16.2153, -59.9668, 4860,     13.3,  28.4408,  34.0538,2,-999.0000,9,    203.2,2,   -999.0,9,    1.514,2,    0.970,2,  28.4376
  06MT20040710,  AR04,   758,  1,     22,     22,2,20040724,   0, 16.2153, -59.9668, 4860,     13.2,  28.4416,  34.0537,2,-999.0000,9,    203.2,2,    203.6,2, -999.000,9, -999.000,9,  28.4385
  06MT20040710,  AR04,   759,  1,      1,      1,2,20040725,   0, 16.1785, -59.6303, 4946,   4944.8,   2.0824,  34.8622,2,-999.0000,9,    255.5,2,    255.8,2, -999.000,9, -999.000,9,   1.6340
  06MT20040710,  AR04,   759,  1,      2,      2,2,20040725,   0, 16.1785, -59.6303, 4946,   4943.7,   2.0825,  34.8626,2,-999.0000,9,    255.5,2,   -999.0,9, -999.000,9, -999.000,9,   1.6342
  06MT20040710,  AR04,   759,  1,      3,      3,2,20040725,   0, 16.1785, -59.6303, 4946,   4943.8,   2.0826,  34.8620,2,  34.8630,2,    255.5,2,   -999.0,9,    0.153,2,    0.086,2,   1.6343
  06MT20040710,  AR04,   759,  1,      4,      4,2,20040725,   0, 16.1785, -59.6303, 4946,   4498.2,   2.2115,  34.8841,2,  34.8819,2,    262.9,2,    263.4,2,    0.277,2,    0.146,2,   1.8133
  06MT20040710,  AR04,   759,  1,      5,      5,2,20040725,   0, 16.1785, -59.6303, 4946,   3996.1,   2.3040,  34.8977,2,-999.0000,9,    266.1,2,    266.5,6, -999.000,9, -999.000,9,   1.9616
  06MT20040710,  AR04,   759,  1,      6,      6,2,20040725,   0, 16.1785, -59.6303, 4946,   3995.5,   2.3036,  34.8982,2,-999.0000,9,    266.1,2,   -999.0,9,    0.294,2,    0.152,2,   1.9613
  06MT20040710,  AR04,   759,  1,      7,      7,2,20040725,   0, 16.1785, -59.6303, 4946,   3703.6,   2.3694,  34.9041,2,-999.0000,9,    267.6,2,    267.4,2,    0.365,2,    0.186,2,   2.0580
  06MT20040710,  AR04,   759,  1,      8,      8,2,20040725,   0, 16.1785, -59.6303, 4946,   3296.7,   2.5248,  34.9149,2,  34.9142,2,    265.1,2,    265.7,2,    0.298,2,    0.152,2,   2.2535
  06MT20040710,  AR04,   759,  1,      9,      9,2,20040725,   0, 16.1785, -59.6303, 4946,   2821.6,   2.8349,  34.9358,2,-999.0000,9,    263.3,2,    263.4,2, -999.000,9, -999.000,9,   2.6060
  06MT20040710,  AR04,   759,  1,     10,     10,2,20040725,   0, 16.1785, -59.6303, 4946,   2396.3,   3.1851,  34.9564,2,  34.9584,2,    264.0,2,   -999.0,9, -999.000,9, -999.000,9,   2.9919
  06MT20040710,  AR04,   759,  1,     11,     11,2,20040725,   0, 16.1785, -59.6303, 4946,   2394.4,   3.1852,  34.9568,2,-999.0000,9,    264.1,2,    263.7,6,    0.343,2,    0.173,2,   2.9922
  06MT20040710,  AR04,   759,  1,     12,     12,2,20040725,   0, 16.1785, -59.6303, 4946,   2077.1,   3.5330,  34.9734,2,-999.0000,9,    262.9,2,    262.1,2,    0.498,2,    0.250,2,   3.3650
  06MT20040710,  AR04,   759,  1,     13,     13,2,20040725,   0, 16.1785, -59.6303, 4946,   1796.5,   3.8413,  34.9771,2,-999.0000,9,    264.3,2,    263.3,2,    0.919,2,    0.462,2,   3.6955
  06MT20040710,  AR04,   759,  1,     14,     14,2,20040725,   0, 16.1785, -59.6303, 4946,   1633.1,   4.0962,  34.9914,2,-999.0000,9,    258.1,2,   -999.0,9,    0.870,2,    0.434,2,   3.9625
  06MT20040710,  AR04,   759,  1,     15,     15,2,20040725,   0, 16.1785, -59.6303, 4946,   1493.0,   4.4843,  35.0121,2,-999.0000,9,    246.4,2,    247.3,2,    0.797,2,    0.403,2,   4.3592
  06MT20040710,  AR04,   759,  1,     16,     16,2,20040725,   0, 16.1785, -59.6303, 4946,   1314.6,   4.9684,  35.0112,2,-999.0000,9,    221.4,2,    221.5,2,    0.518,2,    0.267,2,   4.8551
  06MT20040710,  AR04,   759,  1,     17,     17,2,20040725,   0, 16.1785, -59.6303, 4946,    695.2,   7.5871,  34.8915,2,  34.8811,2,    125.1,2,   -999.0,9,    0.310,2,    0.170,2,   7.5167
  06MT20040710,  AR04,   759,  1,     18,     18,2,20040725,   0, 16.1785, -59.6303, 4946,     28.2,  28.3764,  34.0295,2,-999.0000,9,    203.2,2,   -999.0,9,    1.525,2,    0.979,2,  28.3697
  06MT20040710,  AR04,   759,  1,     19,     19,2,20040725,   0, 16.1785, -59.6303, 4946,     28.3,  28.3742,  34.0356,2,-999.0000,9,    203.2,2,    202.4,2, -999.000,9, -999.000,9,  28.3675