BOTTLE,20140522SIOCCHGR
EXPOCODE,SECT_ID,STNNBR,CASTNO,SAMPNO,BTLNBR,BTLNBR_FLAG_W,DATE,TIME,LATITUDE,LONGITUDE,DEPTH,CTDPRS,CTDTMP,CTDSAL,CTDSAL_FLAG_W,SALNTY,SALNTY_FLAG_W,CTDOXY,CTDOXY_FLAG_W,OXYGEN,OXYGEN_FLAG_W,CFC-11,CFC-11_FLAG_W,CFC-12,CFC-12_FLAG_W,THETA
,,,,,,,,,,,METERS,DBAR,ITS-90,PSS-78,,PSS-78,,UMOL/KG,,UMOL/KG,,PMOL/KG,,PMOL/KG,,DEG C
  06MT20040710,  AR04,   774,  1,      1,      1,2,20040728,   0, 15.8665, -54.3018, 5579,   5578.3,   1.8872,  34.8311,2,-999.0000,9,    244.3,2,    246.4,2, -999.000,9, -999.000,9,   1.3651
  06MT20040710,  AR04,   774,  1,      2,      2,2,20040728,   0, 15.8665, -54.3018, 5579,   5578.1,   1.8869,  34.8312,2,-999.0000,9,    244.3,2,   -999.0,9, -999.000,9, -999.000,9,   1.3648
  06MT20040710,  AR04,   774,  1,      3,      3,2,20040728,   0, 15.8665, -54.3018, 5579,   5578.6,   1.8872,  34.8311,2,  34.8298,2,    244.3,2,   -999.0,9,    0.093,2,    0.051,2,   1.3651
  06MT20040710,  AR04,   774,  1,      4,      4,2,20040728,   0, 15.8665, -54.3018, 5579,   4997.4,   1.9565,  34.8471,2,-999.0000,9,    248.4,2,   -999.0,9,    0.098,2,    0.054,2,   1.5059
  06MT20040710,  AR04,   774,  1,      5,      5,2,20040728,   0, 15.8665, -54.3018, 5579,   4597.8,   2.2088,  34.8814,2,-999.0000,9,    257.3,2,    260.9,2,    0.162,2,    0.089,2,   1.7987
  06MT20040710,  AR04,   774,  1,      6,      6,2,20040728,   0, 15.8665, -54.3018, 5579,   4272.8,   2.3012,  34.8944,2,  34.8939,2,    262.1,2,    264.1,2, -999.000,9, -999.000,9,   1.9269
  06MT20040710,  AR04,   774,  1,      7,      7,2,20040728,   0, 15.8665, -54.3018, 5579,   3898.3,   2.3905,  34.9033,2,-999.0000,9,    262.4,2,    265.3,2,    0.313,2,    0.163,2,   2.0568
  06MT20040710,  AR04,   774,  1,      8,      8,2,20040728,   0, 15.8665, -54.3018, 5579,   3297.1,   2.6158,  34.9183,2,-999.0000,9,    256.3,2,    259.0,2,    0.156,2,    0.080,2,   2.3423
  06MT20040710,  AR04,   774,  1,      9,      9,2,20040728,   0, 15.8665, -54.3018, 5579,   2881.8,   2.8033,  34.9321,2,  34.9329,2,    256.0,2,   -999.0,9,    0.150,2,    0.077,2,   2.5689
  06MT20040710,  AR04,   774,  1,     10,     10,2,20040728,   0, 15.8665, -54.3018, 5579,   2461.7,   3.0724,  34.9496,2,-999.0000,9,    256.6,2,    258.5,2, -999.000,9, -999.000,9,   2.8748
  06MT20040710,  AR04,   774,  1,     11,     11,2,20040728,   0, 15.8665, -54.3018, 5579,   2297.3,   3.2003,  34.9571,2,-999.0000,9,    259.0,2,   -999.0,9,    0.272,2,    0.141,2,   3.0165
  06MT20040710,  AR04,   774,  1,     12,     12,2,20040728,   0, 15.8665, -54.3018, 5579,   2097.9,   3.4305,  34.9707,2,-999.0000,9,    256.2,2,    258.8,2,    0.259,2,    0.134,2,   3.2621
  06MT20040710,  AR04,   774,  1,     13,     13,2,20040728,   0, 15.8665, -54.3018, 5579,   1881.6,   3.7584,  34.9859,2,-999.0000,9,    253.2,2,   -999.0,9,    0.244,2,    0.129,2,   3.6057
  06MT20040710,  AR04,   774,  1,     14,     14,2,20040728,   0, 15.8665, -54.3018, 5579,   1747.0,   3.9993,  34.9913,2,-999.0000,9,    251.9,2,    252.8,2,    0.428,2,    0.226,2,   3.8561
  06MT20040710,  AR04,   774,  1,     15,     15,2,20040728,   0, 15.8665, -54.3018, 5579,   1597.1,   4.2942,  34.9974,2,  35.0009,2,    235.9,2,   -999.0,9,    0.245,2,    0.131,2,   4.1615
  06MT20040710,  AR04,   774,  1,     16,     16,2,20040728,   0, 15.8665, -54.3018, 5579,   1452.2,   4.6647,  34.9989,2,-999.0000,9,    221.0,2,    223.4,2,    0.166,2,    0.094,2,   4.5415
  06MT20040710,  AR04,   774,  1,     17,     17,2,20040728,   0, 15.8665, -54.3018, 5579,   1077.6,   5.3672,  34.8708,2,-999.0000,9,    162.1,2,    167.0,2,    0.142,2,    0.080,2,   5.2732
  06MT20040710,  AR04,   774,  1,     18,     18,2,20040728,   0, 15.8665, -54.3018, 5579,    713.0,   6.7251,  34.7993,2,-999.0000,9,    123.6,2,    126.2,2,    1.776,4,    0.976,4,   6.6575
  06MT20040710,  AR04,   774,  1,     19,     19,2,20040728,   0, 15.8665, -54.3018, 5579,    358.6,  14.2366,  35.9076,2,-999.0000,9,    135.8,2,   -999.0,9, -999.000,9, -999.000,9,  14.1835
  06MT20040710,  AR04,   774,  1,     20,     20,2,20040728,   0, 15.8665, -54.3018, 5579,    157.6,  22.1304,  37.1365,2,-999.0000,9,    178.9,2,    176.0,6,    1.952,2,    1.204,2,  22.0988
  06MT20040710,  AR04,   774,  1,     21,     21,2,20040728,   0, 15.8665, -54.3018, 5579,     27.6,  28.0381,  34.1037,2,-999.0000,9,    199.3,2,   -999.0,9, -999.000,9, -999.000,9,  28.0316
  06MT20040710,  AR04,   774,  1,     22,     22,2,20040728,   0, 15.8665, -54.3018, 5579,     27.6,  28.0381,  34.1037,2,  34.3666,3,    199.3,2,    201.0,2,    1.569,2,    1.007,2,  28.0316
  06MT20040710,  AR04,   775,  1,      1,      1,2,20040728,   0, 15.8437, -53.8840, 5586,   5585.2,   1.8840,  34.8303,2,-999.0000,9,    244.2,2,    243.5,6, -999.000,9, -999.000,9,   1.3611
  06MT20040710,  AR04,   775,  1,      2,      2,2,20040728,   0, 15.8437, -53.8840, 5586,   5584.5,   1.8837,  34.8307,2,-999.0000,9,    244.1,2,   -999.0,9, -999.000,9, -999.000,9,   1.3609
  06MT20040710,  AR04,   775,  1,      3,      3,2,20040728,   0, 15.8437, -53.8840, 5586,   5584.7,   1.8837,  34.8305,2,  34.8266,2,    244.1,2,   -999.0,9,    0.090,2,    0.053,2,   1.3609
  06MT20040710,  AR04,   775,  1,      4,      4,2,20040728,   0, 15.8437, -53.8840, 5586,   5499.6,   1.8719,  34.8307,2,-999.0000,9,    243.8,2,    243.2,2,    0.084,2,    0.049,2,   1.3606
  06MT20040710,  AR04,   775,  1,      5,      5,2,20040728,   0, 15.8437, -53.8840, 5586,   5189.9,   1.8867,  34.8361,2,-999.0000,9,    245.1,2,    245.3,2,    0.088,2,    0.051,2,   1.4145
  06MT20040710,  AR04,   775,  1,      6,      6,2,20040728,   0, 15.8437, -53.8840, 5586,   4881.5,   2.0940,  34.8643,2,  34.8642,2,    253.1,2,    252.3,2,    0.126,2,    0.071,2,   1.6531
  06MT20040710,  AR04,   775,  1,      7,      7,2,20040728,   0, 15.8437, -53.8840, 5586,   4264.5,   2.3083,  34.8938,2,-999.0000,9,    261.1,2,   -999.0,9,    0.194,2,    0.104,2,   1.9348
  06MT20040710,  AR04,   775,  1,      8,      8,2,20040728,   0, 15.8437, -53.8840, 5586,   3854.2,   2.4145,  34.9035,2,-999.0000,9,    260.0,2,   -999.0,9,    0.210,2,    0.109,2,   2.0851
  06MT20040710,  AR04,   775,  1,      9,      9,2,20040728,   0, 15.8437, -53.8840, 5586,   3451.1,   2.5673,  34.9126,2,  34.9124,2,    253.3,2,   -999.0,9,    0.093,2,    0.051,2,   2.2785
  06MT20040710,  AR04,   775,  1,     10,     10,2,20040728,   0, 15.8437, -53.8840, 5586,   3050.6,   2.7313,  34.9258,2,-999.0000,9,    252.1,2,   -999.0,9,    0.105,2,    0.057,2,   2.4811
  06MT20040710,  AR04,   775,  1,     11,     11,2,20040728,   0, 15.8437, -53.8840, 5586,   2654.2,   2.9304,  34.9402,2,-999.0000,9,    252.9,2,   -999.0,9,    0.076,2,    0.042,2,   2.7165
  06MT20040710,  AR04,   775,  1,     12,     12,2,20040728,   0, 15.8437, -53.8840, 5586,   2273.0,   3.2777,  34.9609,2,-999.0000,9,    252.5,2,   -999.0,9,    0.084,2,    0.046,2,   3.0949
  06MT20040710,  AR04,   775,  1,     13,     13,2,20040728,   0, 15.8437, -53.8840, 5586,   2069.9,   3.5099,  34.9720,2,-999.0000,9,    257.7,2,   -999.0,9,    0.208,2,    0.107,2,   3.3429
  06MT20040710,  AR04,   775,  1,     14,     14,2,20040728,   0, 15.8437, -53.8840, 5586,   1866.2,   3.7701,  34.9811,2,  34.9822,2,    257.2,2,   -999.0,9,    0.459,2,    0.233,2,   3.6187
  06MT20040710,  AR04,   775,  1,     15,     15,2,20040728,   0, 15.8437, -53.8840, 5586,   1719.9,   4.0653,  34.9924,2,-999.0000,9,    250.4,2,   -999.0,9,    0.434,2,    0.226,2,   3.9238
  06MT20040710,  AR04,   775,  1,     16,     16,2,20040728,   0, 15.8437, -53.8840, 5586,   1557.9,   4.3927,  35.0012,2,-999.0000,9,    235.7,2,   -999.0,9,    0.347,2,    0.179,2,   4.2625
  06MT20040710,  AR04,   775,  1,     17,     17,2,20040728,   0, 15.8437, -53.8840, 5586,   1361.2,   4.8456,  34.9881,2,-999.0000,9,    209.6,2,   -999.0,9,    0.253,2,    0.144,2,   4.7292
  06MT20040710,  AR04,   775,  1,     18,     18,2,20040728,   0, 15.8437, -53.8840, 5586,    997.5,   5.5145,  34.8298,2,-999.0000,9,    147.9,2,   -999.0,9,    0.046,2,    0.028,2,   5.4270
  06MT20040710,  AR04,   775,  1,     19,     19,2,20040728,   0, 15.8437, -53.8840, 5586,    586.5,   8.6696,  35.0721,2,-999.0000,9,    113.9,2,   -999.0,9,    0.396,2,    0.219,2,   8.6058
  06MT20040710,  AR04,   775,  1,     20,     20,2,20040728,   0, 15.8437, -53.8840, 5586,    406.1,  13.0420,  35.7248,2,-999.0000,9,    120.9,2,   -999.0,9,    1.516,2,    0.824,2,  12.9852
  06MT20040710,  AR04,   775,  1,     21,     21,2,20040728,   0, 15.8437, -53.8840, 5586,      8.6,  28.0920,  33.9099,2,-999.0000,9,    198.5,2,   -999.0,9, -999.000,9, -999.000,9,  28.0900
  06MT20040710,  AR04,   775,  1,     22,     22,2,20040728,   0, 15.8437, -53.8840, 5586,      8.6,  28.0920,  33.9099,2,-999.0000,9,    198.5,2,   -999.0,9,    1.519,2,    0.979,2,  28.0900
  06MT20040710,  AR04,   776,  1,      1,      1,2,20040728,   0, 15.4165, -53.9923, 5570,   5569.2,   1.8694,  34.8289,2,-999.0000,9,    243.8,2,    244.1,2, -999.000,9, -999.000,9,   1.3491
  06MT20040710,  AR04,   776,  1,      2,      2,2,20040728,   0, 15.4165, -53.9923, 5570,   5569.5,   1.8697,  34.8285,2,-999.0000,9,    243.8,2,   -999.0,9, -999.000,9, -999.000,9,   1.3494
  06MT20040710,  AR04,   776,  1,      3,      3,2,20040728,   0, 15.4165, -53.9923, 5570,   5569.4,   1.8695,  34.8288,2,  34.8280,2,    243.8,2,   -999.0,9,    0.096,2,    0.053,2,   1.3492
  06MT20040710,  AR04,   776,  1,      4,      4,2,20040728,   0, 15.4165, -53.9923, 5570,   5292.3,   1.8924,  34.8351,2,-999.0000,9,    244.8,2,    245.1,2,    0.086,2,    0.047,2,   1.4070
  06MT20040710,  AR04,   776,  1,      5,      5,2,20040728,   0, 15.4165, -53.9923, 5570,   4880.2,   2.0911,  34.8636,2,-999.0000,9,    253.2,2,    252.7,2, -999.000,9, -999.000,9,   1.6504
  06MT20040710,  AR04,   776,  1,      6,      6,2,20040728,   0, 15.4165, -53.9923, 5570,   4469.2,   2.2496,  34.8867,2,  34.8872,2,    260.5,2,   -999.0,9,    0.213,2,    0.116,2,   1.8537
  06MT20040710,  AR04,   776,  1,      7,      7,2,20040728,   0, 15.4165, -53.9923, 5570,   4059.4,   2.3281,  34.8957,2,-999.0000,9,    261.8,2,    261.2,6,    0.214,2,    0.115,2,   1.9778
  06MT20040710,  AR04,   776,  1,      8,      8,2,20040728,   0, 15.4165, -53.9923, 5570,   3547.5,   2.5011,  34.9063,2,-999.0000,9,    254.8,2,    256.0,2,    0.115,2,    0.062,2,   2.2035
  06MT20040710,  AR04,   776,  1,      9,      9,2,20040728,   0, 15.4165, -53.9923, 5570,   3138.9,   2.6804,  34.9210,2,  34.9230,2,    251.7,2,   -999.0,9, -999.000,9, -999.000,9,   2.4221
  06MT20040710,  AR04,   776,  1,     10,     10,2,20040728,   0, 15.4165, -53.9923, 5570,   2736.6,   2.8737,  34.9350,2,-999.0000,9,    250.4,2,    251.4,2,    0.047,2,    0.027,2,   2.6526
  06MT20040710,  AR04,   776,  1,     11,     11,2,20040728,   0, 15.4165, -53.9923, 5570,   2330.3,   3.2124,  34.9568,2,  34.9578,2,    256.7,2,   -999.0,9,    0.158,2,    0.085,2,   3.0252
  06MT20040710,  AR04,   776,  1,     12,     12,2,20040728,   0, 15.4165, -53.9923, 5570,   2197.1,   3.3591,  34.9642,2,-999.0000,9,    254.7,2,    256.1,2,    0.130,2,    0.071,2,   3.1823
  06MT20040710,  AR04,   776,  1,     13,     13,2,20040728,   0, 15.4165, -53.9923, 5570,   1968.0,   3.6472,  34.9769,2,-999.0000,9,    257.3,2,   -999.0,9,    0.368,2,    0.193,2,   3.4879
  06MT20040710,  AR04,   776,  1,     14,     14,2,20040728,   0, 15.4165, -53.9923, 5570,   1819.9,   3.8693,  34.9838,2,-999.0000,9,    255.6,2,   -999.0,9,    0.459,2,    0.239,2,   3.7209
  06MT20040710,  AR04,   776,  1,     15,     15,2,20040728,   0, 15.4165, -53.9923, 5570,   1663.7,   4.1535,  34.9951,2,-999.0000,9,    247.8,2,    247.1,2,    0.418,2,    0.217,2,   4.0162
  06MT20040710,  AR04,   776,  1,     16,     16,2,20040728,   0, 15.4165, -53.9923, 5570,   1508.5,   4.4944,  34.9982,2,-999.0000,9,    228.8,2,   -999.0,9,    0.236,2,    0.126,2,   4.3677
  06MT20040710,  AR04,   776,  1,     17,     17,2,20040728,   0, 15.4165, -53.9923, 5570,   1307.7,   5.0619,  34.9972,2,-999.0000,9,    208.7,2,    198.1,4, -999.000,9, -999.000,9,   4.9484
  06MT20040710,  AR04,   776,  1,     18,     18,2,20040728,   0, 15.4165, -53.9923, 5570,    904.9,   5.7167,  34.7776,2,  34.7773,2,    135.6,2,    136.9,2, -999.000,9, -999.000,9,   5.6366
  06MT20040710,  AR04,   776,  1,     19,     19,2,20040728,   0, 15.4165, -53.9923, 5570,    495.4,  10.8636,  35.3897,2,-999.0000,9,    108.4,2,   -999.0,9, -999.000,9, -999.000,9,  10.8019
  06MT20040710,  AR04,   776,  1,     20,     20,2,20040728,   0, 15.4165, -53.9923, 5570,    495.2,  10.8741,  35.3896,2,-999.0000,9,    108.4,2,    109.2,2,    0.829,2,    0.445,2,  10.8124
  06MT20040710,  AR04,   776,  1,     21,     21,2,20040728,   0, 15.4165, -53.9923, 5570,    242.4,  17.2906,  36.4010,2,-999.0000,9,    160.2,2,    157.2,2, -999.000,9, -999.000,9,  17.2497
  06MT20040710,  AR04,   776,  1,     22,     22,2,20040728,   0, 15.4165, -53.9923, 5570,     21.6,  28.1502,  33.9549,2,  33.8830,3,    199.7,2,    199.7,2,    1.487,2,    0.960,2,  28.1451
  06MT20040710,  AR04,   777,  1,      1,      1,2,20040729,   0, 14.9997, -54.1182, 5517,   5515.3,   1.8670,  34.8296,2,-999.0000,9,    243.3,2,    244.1,6, -999.000,9, -999.000,9,   1.3538
  06MT20040710,  AR04,   777,  1,      2,      2,2,20040729,   0, 14.9997, -54.1182, 5517,   5515.4,   1.8672,  34.8291,2,-999.0000,9,    243.3,2,   -999.0,9, -999.000,9, -999.000,9,   1.3540
  06MT20040710,  AR04,   777,  1,      3,      3,2,20040729,   0, 14.9997, -54.1182, 5517,   5515.6,   1.8670,  34.8293,2,  34.8268,2,    243.3,2,   -999.0,9,    0.091,2,    0.052,2,   1.3538
  06MT20040710,  AR04,   777,  1,      4,      4,2,20040729,   0, 14.9997, -54.1182, 5517,   5297.0,   1.8607,  34.8319,2,-999.0000,9,    243.8,2,    244.9,2,    0.090,2,    0.049,2,   1.3758
  06MT20040710,  AR04,   777,  1,      5,      5,2,20040729,   0, 14.9997, -54.1182, 5517,   4898.2,   2.1028,  34.8656,2,  34.8646,2,    253.4,2,   -999.0,9,    0.124,2,    0.072,2,   1.6595
  06MT20040710,  AR04,   777,  1,      6,      6,2,20040729,   0, 14.9997, -54.1182, 5517,   4498.2,   2.2601,  34.8883,2,-999.0000,9,    260.3,2,    262.2,2, -999.000,9, -999.000,9,   1.8604
  06MT20040710,  AR04,   777,  1,      7,      7,2,20040729,   0, 14.9997, -54.1182, 5517,   4115.6,   2.3424,  34.8978,2,-999.0000,9,    261.8,2,   -999.0,9,    0.155,2,    0.083,2,   1.9852
  06MT20040710,  AR04,   777,  1,      8,      8,2,20040729,   0, 14.9997, -54.1182, 5517,   3713.5,   2.4541,  34.9051,2,-999.0000,9,    257.8,2,    258.8,2, -999.000,9, -999.000,9,   2.1394
  06MT20040710,  AR04,   777,  1,      9,      9,2,20040729,   0, 14.9997, -54.1182, 5517,   3209.3,   2.6454,  34.9196,2,  34.9201,2,    254.8,2,   -999.0,9,    0.147,2,    0.076,2,   2.3805
  06MT20040710,  AR04,   777,  1,     10,     10,2,20040729,   0, 14.9997, -54.1182, 5517,   2796.7,   2.8303,  34.9337,2,-999.0000,9,    258.2,2,    260.2,2, -999.000,9, -999.000,9,   2.6040
  06MT20040710,  AR04,   777,  1,     11,     11,2,20040729,   0, 14.9997, -54.1182, 5517,   2411.8,   3.0946,  34.9505,2,-999.0000,9,    258.5,2,   -999.0,9,    0.250,2,    0.135,2,   2.9015
  06MT20040710,  AR04,   777,  1,     12,     12,2,20040729,   0, 14.9997, -54.1182, 5517,   2204.9,   3.2775,  34.9611,2,-999.0000,9,    258.6,2,    260.1,2,    0.260,2,    0.138,2,   3.1013
  06MT20040710,  AR04,   777,  1,     13,     13,2,20040729,   0, 14.9997, -54.1182, 5517,   1896.9,   3.7393,  34.9822,2,-999.0000,9,    256.0,2,   -999.0,9,    0.273,2,    0.143,2,   3.5854
  06MT20040710,  AR04,   777,  1,     14,     14,2,20040729,   0, 14.9997, -54.1182, 5517,   1750.5,   3.9643,  34.9873,2,-999.0000,9,    254.8,2,    255.5,2, -999.000,9, -999.000,9,   3.8212
  06MT20040710,  AR04,   777,  1,     15,     15,2,20040729,   0, 14.9997, -54.1182, 5517,   1593.7,   4.2695,  35.0005,2,  35.0013,2,    245.7,2,   -999.0,9,    0.492,2,    0.254,2,   4.1374
  06MT20040710,  AR04,   777,  1,     16,     16,2,20040729,   0, 14.9997, -54.1182, 5517,   1432.9,   4.6794,  35.0080,2,-999.0000,9,    226.7,2,    227.3,2, -999.000,9, -999.000,9,   4.5579
  06MT20040710,  AR04,   777,  1,     17,     17,2,20040729,   0, 14.9997, -54.1182, 5517,   1153.6,   5.2949,  34.9182,2,-999.0000,9,    177.7,2,   -999.0,9,    0.215,2,    0.118,2,   5.1942
  06MT20040710,  AR04,   777,  1,     18,     18,2,20040729,   0, 14.9997, -54.1182, 5517,    799.8,   6.2666,  34.7838,2,  34.7639,3,    128.4,2,    130.0,2,    0.088,2,    0.050,2,   6.1931
  06MT20040710,  AR04,   777,  1,     19,     19,2,20040729,   0, 14.9997, -54.1182, 5517,    454.0,  11.5151,  35.4553,2,-999.0000,9,    119.2,2,   -999.0,9, -999.000,9, -999.000,9,  11.4565
  06MT20040710,  AR04,   777,  1,     20,     20,2,20040729,   0, 14.9997, -54.1182, 5517,    452.0,  11.5434,  35.4711,2,-999.0000,9,    119.4,2,   -999.0,9,    1.077,2,    0.580,2,  11.4850
  06MT20040710,  AR04,   777,  1,     21,     21,2,20040729,   0, 14.9997, -54.1182, 5517,     93.0,  25.7125,  37.1994,2,  37.1988,2,    196.9,2,   -999.0,9, -999.000,9, -999.000,9,  25.6918
  06MT20040710,  AR04,   777,  1,     22,     22,2,20040729,   0, 14.9997, -54.1182, 5517,     87.6,  25.9488,  37.0911,2,-999.0000,9,    195.4,2,    194.7,2,    1.726,2,    1.100,2,  25.9291