BOTTLE,20140522SIOCCHGR
EXPOCODE,SECT_ID,STNNBR,CASTNO,SAMPNO,BTLNBR,BTLNBR_FLAG_W,DATE,TIME,LATITUDE,LONGITUDE,DEPTH,CTDPRS,CTDTMP,CTDSAL,CTDSAL_FLAG_W,SALNTY,SALNTY_FLAG_W,CTDOXY,CTDOXY_FLAG_W,OXYGEN,OXYGEN_FLAG_W,CFC-11,CFC-11_FLAG_W,CFC-12,CFC-12_FLAG_W,THETA
,,,,,,,,,,,METERS,DBAR,ITS-90,PSS-78,,PSS-78,,UMOL/KG,,UMOL/KG,,PMOL/KG,,PMOL/KG,,DEG C
  06MT20040710,  AR04,   695,  1,      1,      1,2,20040714,   0, 13.6083, -60.9338,  374,    372.4,   9.7893,  35.0693,2,-999.0000,9,    121.1,2,    126.5,2, -999.000,9, -999.000,9,   9.7462
  06MT20040710,  AR04,   695,  1,      2,      2,2,20040714,   0, 13.6083, -60.9338,  374,    372.7,   9.7815,  35.0688,2,  35.0683,2,    121.1,2,   -999.0,9, -999.000,9, -999.000,9,   9.7384
  06MT20040710,  AR04,   695,  1,      3,      3,2,20040714,   0, 13.6083, -60.9338,  374,    251.5,  12.0493,  35.4055,2,-999.0000,9,    127.7,2,   -999.0,9, -999.000,9, -999.000,9,  12.0162
  06MT20040710,  AR04,   695,  1,      4,      4,2,20040714,   0, 13.6083, -60.9338,  374,    155.2,  19.7753,  36.5036,2,-999.0000,9,    144.5,2,   -999.0,9, -999.000,9, -999.000,9,  19.7466
  06MT20040710,  AR04,   695,  1,      5,      5,2,20040714,   0, 13.6083, -60.9338,  374,     82.3,  26.4254,  36.4207,2,-999.0000,9,    192.7,2,   -999.0,9, -999.000,9, -999.000,9,  26.4067
  06MT20040710,  AR04,   695,  1,      6,      6,2,20040714,   0, 13.6083, -60.9338,  374,     80.7,  26.4872,  36.4080,2,  36.4108,2,    193.6,2,    195.8,6, -999.000,9, -999.000,9,  26.4689
  06MT20040710,  AR04,   695,  1,      7,      7,2,20040714,   0, 13.6083, -60.9338,  374,     14.7,  28.1387,  34.7589,2,-999.0000,9,    201.8,2,   -999.0,9, -999.000,9, -999.000,9,  28.1352
  06MT20040710,  AR04,   695,  1,      8,      8,2,20040714,   0, 13.6083, -60.9338,  374,     14.9,  28.1357,  34.8047,2,-999.0000,9,    201.8,2,    201.0,2, -999.000,9, -999.000,9,  28.1322
  06MT20040710,  AR04,   703,  1,      1,      1,2,20040714,   0, 14.1783, -60.9023,  440,    437.8,  10.3902,  35.1497,2,-999.0000,9,    123.8,2,    126.1,6, -999.000,9, -999.000,9,  10.3374
  06MT20040710,  AR04,   703,  1,      2,      2,2,20040714,   0, 14.1783, -60.9023,  440,    439.1,  10.3641,  35.1472,2,  35.1551,2,    123.8,2,   -999.0,9,    1.265,2,    0.666,2,  10.3113
  06MT20040710,  AR04,   703,  1,      3,      3,2,20040714,   0, 14.1783, -60.9023,  440,    303.9,  12.6015,  35.4827,2,-999.0000,9,    130.0,2,   -999.0,9,    1.583,6,    0.868,6,  12.5602
  06MT20040710,  AR04,   703,  1,      4,      4,2,20040714,   0, 14.1783, -60.9023,  440,    103.9,  24.6674,  36.5896,2,-999.0000,9,    180.9,2,   -999.0,9,    1.880,2,    1.149,2,  24.6450
  06MT20040710,  AR04,   703,  1,      5,      5,2,20040714,   0, 14.1783, -60.9023,  440,     10.6,  28.1814,  34.6160,2,-999.0000,9,    204.0,2,    201.5,2,    1.570,2,    1.007,2,  28.1789
  06MT20040710,  AR04,   703,  1,      6,      6,2,20040714,   0, 14.1783, -60.9023,  440,     10.9,  28.1643,  34.6346,2,  34.5672,3,    204.0,2,   -999.0,9, -999.000,9, -999.000,9,  28.1617
  06MT20040710,  AR04,   704,  1,      1,      1,2,20040714,   0, 14.2123, -60.8972,  779,    777.8,   6.6986,  34.7623,2,-999.0000,9,    132.3,2,   -999.0,9, -999.000,9, -999.000,9,   6.6247
  06MT20040710,  AR04,   704,  1,      2,      2,2,20040714,   0, 14.2123, -60.8972,  779,    778.0,   6.7066,  34.7546,2,-999.0000,9,    132.3,2,   -999.0,9, -999.000,9, -999.000,9,   6.6327
  06MT20040710,  AR04,   704,  1,      3,      3,2,20040714,   0, 14.2123, -60.8972,  779,    778.2,   6.7372,  34.7614,2,  34.7590,2,    132.3,2,   -999.0,9,    0.306,6,    0.168,6,   6.6631
  06MT20040710,  AR04,   704,  1,      4,      4,2,20040714,   0, 14.2123, -60.8972,  779,    596.3,   8.6848,  34.9418,2,-999.0000,9,    122.8,2,    122.9,2,    0.752,2,    0.402,2,   8.6199
  06MT20040710,  AR04,   704,  1,      5,      5,2,20040714,   0, 14.2123, -60.8972,  779,    204.3,  17.9351,  36.3515,2,-999.0000,9,    144.7,2,   -999.0,9, -999.000,9, -999.000,9,  17.8998
  06MT20040710,  AR04,   704,  1,      6,      6,2,20040714,   0, 14.2123, -60.8972,  779,    198.8,  18.0497,  36.3745,2,-999.0000,9,    145.1,2,   -999.0,9,    1.946,2,    1.144,2,  18.0152
  06MT20040710,  AR04,   704,  1,      7,      7,2,20040714,   0, 14.2123, -60.8972,  779,     25.7,  28.0949,  34.7601,2,-999.0000,9,    203.5,2,   -999.0,9, -999.000,9, -999.000,9,  28.0888
  06MT20040710,  AR04,   704,  1,      8,      8,2,20040714,   0, 14.2123, -60.8972,  779,     25.7,  28.0949,  34.7601,2,-999.0000,9,    203.5,2,   -999.0,9,    1.562,2,    1.017,2,  28.0888
  06MT20040710,  AR04,   705,  1,      1,      1,2,20040714,   0, 14.2552, -60.8882,  882,    880.5,   5.3875,  34.7735,2,-999.0000,9,    152.7,2,    152.5,2, -999.000,9, -999.000,9,   5.3119
  06MT20040710,  AR04,   705,  1,      2,      2,2,20040714,   0, 14.2552, -60.8882,  882,    881.2,   5.3857,  34.7754,2,  34.7708,2,    152.8,2,   -999.0,9, -999.000,9, -999.000,9,   5.3101
  06MT20040710,  AR04,   705,  1,      3,      3,2,20040714,   0, 14.2552, -60.8882,  882,    881.4,   5.3857,  34.7759,2,-999.0000,9,    152.8,2,   -999.0,9,    0.108,6,    0.058,6,   5.3100
  06MT20040710,  AR04,   705,  1,      4,      4,2,20040714,   0, 14.2552, -60.8882,  882,    697.3,   7.0788,  34.7693,2,-999.0000,9,    126.0,2,   -999.0,9,    0.383,2,    0.209,2,   7.0110
  06MT20040710,  AR04,   705,  1,      5,      5,2,20040714,   0, 14.2552, -60.8882,  882,    261.1,  15.4057,  35.9081,2,-999.0000,9,    134.9,2,   -999.0,9, -999.000,9, -999.000,9,  15.3651
  06MT20040710,  AR04,   705,  1,      6,      6,2,20040714,   0, 14.2552, -60.8882,  882,    260.9,  15.4452,  35.9249,2,  35.8658,3,    135.0,2,   -999.0,9,    1.866,6,    1.061,6,  15.4045
  06MT20040710,  AR04,   706,  1,      1,      1,2,20040714,   0, 14.3087, -60.8805,  901,    900.1,   5.6428,  34.7960,2,-999.0000,9,    152.1,2,    152.5,2, -999.000,9, -999.000,9,   5.5636
  06MT20040710,  AR04,   706,  1,      2,      2,2,20040714,   0, 14.3087, -60.8805,  901,    900.3,   5.6507,  34.7973,2,-999.0000,9,    152.1,2,   -999.0,9, -999.000,9, -999.000,9,   5.5715
  06MT20040710,  AR04,   706,  1,      3,      3,2,20040714,   0, 14.3087, -60.8805,  901,    899.6,   5.6485,  34.7945,2,  34.7981,2,    152.0,2,   -999.0,9,    0.153,6,    0.083,6,   5.5693
  06MT20040710,  AR04,   706,  1,      4,      4,2,20040714,   0, 14.3087, -60.8805,  901,    427.6,  11.0198,  35.1950,2,-999.0000,9,    124.5,2,   -999.0,9,    1.228,2,    0.669,2,  10.9663
  06MT20040710,  AR04,   706,  1,      5,      5,2,20040714,   0, 14.3087, -60.8805,  901,    151.4,  22.4802,  36.8823,2,-999.0000,9,    159.9,2,   -999.0,9, -999.000,9, -999.000,9,  22.4495
  06MT20040710,  AR04,   706,  1,      6,      6,2,20040714,   0, 14.3087, -60.8805,  901,    137.1,  22.5393,  36.6312,2,-999.0000,9,    162.3,2,    156.5,2,    1.956,2,    1.204,2,  22.5115
  06MT20040710,  AR04,   706,  1,      7,      7,2,20040714,   0, 14.3087, -60.8805,  901,     16.8,  28.1794,  34.5809,2,-999.0000,9,    202.8,2,   -999.0,9, -999.000,9, -999.000,9,  28.1754
  06MT20040710,  AR04,   706,  1,      8,      8,2,20040714,   0, 14.3087, -60.8805,  901,     16.7,  28.2203,  34.5160,2,  34.6036,3,    202.8,2,   -999.0,9,    1.566,6,    1.016,6,  28.2163
  06MT20040710,  AR04,   707,  1,      1,      1,2,20040714,   0, 14.3562, -60.8743,  440,    439.2,  10.3641,  35.1231,2,-999.0000,9,    122.5,2,    126.0,2, -999.000,9, -999.000,9,  10.3113
  06MT20040710,  AR04,   707,  1,      2,      2,2,20040714,   0, 14.3562, -60.8743,  440,    439.2,  10.3641,  35.1231,2,-999.0000,9,    122.5,2,   -999.0,9, -999.000,9, -999.000,9,  10.3113
  06MT20040710,  AR04,   707,  1,      3,      3,2,20040714,   0, 14.3562, -60.8743,  440,    439.3,  10.3624,  35.1243,2,  35.1259,2,    122.5,2,   -999.0,9,    1.224,6,    0.649,6,  10.3096
  06MT20040710,  AR04,   707,  1,      4,      4,2,20040714,   0, 14.3562, -60.8743,  440,    199.8,  18.3300,  36.4619,2,-999.0000,9,    148.7,2,   -999.0,9,    1.972,2,    1.138,2,  18.2949
  06MT20040710,  AR04,   707,  1,      5,      5,2,20040714,   0, 14.3562, -60.8743,  440,     75.9,  26.3524,  36.3928,2,-999.0000,9,    195.2,2,    192.1,6, -999.000,9, -999.000,9,  26.3352
  06MT20040710,  AR04,   707,  1,      6,      6,2,20040714,   0, 14.3562, -60.8743,  440,     76.0,  26.3444,  36.3913,2,  36.4035,3,    195.1,2,   -999.0,9,    1.622,2,    1.012,2,  26.3272
  06MT20040710,  AR04,   707,  1,      7,      7,2,20040714,   0, 14.3562, -60.8743,  440,     12.7,  28.1906,  34.3513,2,-999.0000,9,    202.8,2,    200.7,2, -999.000,9, -999.000,9,  28.1876
  06MT20040710,  AR04,   707,  1,      8,      8,2,20040714,   0, 14.3562, -60.8743,  440,     12.8,  28.1902,  34.3488,2,-999.0000,9,    202.8,2,   -999.0,9,    1.549,6,    0.972,6,  28.1872
  06MT20040710,  AR04,   711,  1,      1,      1,2,20040715,   0, 14.9392, -61.1508,  351,    349.5,  11.9531,  35.4431,2,-999.0000,9,    128.5,2,   -999.0,9, -999.000,9, -999.000,9,  11.9071
  06MT20040710,  AR04,   711,  1,      2,      2,2,20040715,   0, 14.9392, -61.1508,  351,    349.7,  11.9419,  35.4427,2,-999.0000,9,    128.5,2,    134.6,2, -999.000,9, -999.000,9,  11.8959
  06MT20040710,  AR04,   711,  1,      3,      3,2,20040715,   0, 14.9392, -61.1508,  351,    349.9,  11.9277,  35.4300,2,  35.4548,3,    128.4,2,   -999.0,9, -999.000,9, -999.000,9,  11.8817
  06MT20040710,  AR04,   711,  1,      4,      4,2,20040715,   0, 14.9392, -61.1508,  351,    194.9,  18.9994,  36.5479,2,-999.0000,9,    157.3,2,   -999.0,9, -999.000,9, -999.000,9,  18.9643
  06MT20040710,  AR04,   711,  1,      5,      5,2,20040715,   0, 14.9392, -61.1508,  351,     11.3,  28.0942,  34.6263,2,  34.6313,2,    201.8,2,   -999.0,9, -999.000,9, -999.000,9,  28.0915
  06MT20040710,  AR04,   711,  1,      6,      6,2,20040715,   0, 14.9392, -61.1508,  351,     11.6,  28.0946,  34.6259,2,-999.0000,9,    201.8,2,   -999.0,9, -999.000,9, -999.000,9,  28.0919
  06MT20040710,  AR04,   712,  1,      1,      1,2,20040715,   0, 14.9993, -61.1805,  621,    619.9,   8.5224,  34.9443,2,-999.0000,9,    122.7,2,   -999.0,9, -999.000,9, -999.000,9,   8.4556
  06MT20040710,  AR04,   712,  1,      2,      2,2,20040715,   0, 14.9993, -61.1805,  621,    615.6,   8.5380,  34.9432,2,-999.0000,9,    122.7,2,   -999.0,9, -999.000,9, -999.000,9,   8.4716
  06MT20040710,  AR04,   712,  1,      3,      3,2,20040715,   0, 14.9993, -61.1805,  621,    620.3,   8.5272,  34.9425,2,  34.9486,2,    122.7,2,   -999.0,9, -999.000,9, -999.000,9,   8.4603
  06MT20040710,  AR04,   712,  1,      4,      4,2,20040715,   0, 14.9993, -61.1805,  621,    312.1,  14.8854,  35.9190,2,-999.0000,9,    144.0,2,   -999.0,9, -999.000,9, -999.000,9,  14.8379
  06MT20040710,  AR04,   712,  1,      5,      5,2,20040715,   0, 14.9993, -61.1805,  621,    154.7,  21.8002,  36.9319,2,-999.0000,9,    177.1,2,   -999.0,9, -999.000,9, -999.000,9,  21.7695
  06MT20040710,  AR04,   712,  1,      6,      6,2,20040715,   0, 14.9993, -61.1805,  621,    153.1,  21.8481,  36.9461,2,-999.0000,9,    179.2,2,    165.2,2, -999.000,9, -999.000,9,  21.8177
  06MT20040710,  AR04,   712,  1,      7,      7,2,20040715,   0, 14.9993, -61.1805,  621,    142.7,  23.9902,  37.1717,2,-999.0000,9,    188.0,2,   -999.0,9, -999.000,9, -999.000,9,  23.9599
  06MT20040710,  AR04,   712,  1,      8,      8,2,20040715,   0, 14.9993, -61.1805,  621,     12.4,  28.0800,  34.7049,2,-999.0000,9,    202.5,2,   -999.0,9, -999.000,9, -999.000,9,  28.0771
  06MT20040710,  AR04,   712,  1,      9,      9,2,20040715,   0, 14.9993, -61.1805,  621,     12.3,  28.0802,  34.7045,2,-999.0000,9,    202.5,2,    200.5,2, -999.000,9, -999.000,9,  28.0773
  06MT20040710,  AR04,   713,  1,      1,      1,2,20040715,   0, 15.0567, -61.2073, 1436,   1434.4,   4.3615,  34.9548,2,-999.0000,9,    204.2,2,   -999.0,9, -999.000,9, -999.000,9,   4.2434
  06MT20040710,  AR04,   713,  1,      2,      2,2,20040715,   0, 15.0567, -61.2073, 1436,   1435.3,   4.3612,  34.9547,2,-999.0000,9,    204.3,2,   -999.0,9, -999.000,9, -999.000,9,   4.2430
  06MT20040710,  AR04,   713,  1,      3,      3,2,20040715,   0, 15.0567, -61.2073, 1436,   1435.3,   4.3610,  34.9547,2,-999.0000,9,    204.3,2,   -999.0,9, -999.000,9, -999.000,9,   4.2428
  06MT20040710,  AR04,   713,  1,      4,      4,2,20040715,   0, 15.0567, -61.2073, 1436,   1434.9,   4.3623,  34.9546,2,  34.9582,2,    204.2,2,   -999.0,9,    0.036,2,    0.025,2,   4.2441
  06MT20040710,  AR04,   713,  1,      5,      5,2,20040715,   0, 15.0567, -61.2073, 1436,   1434.9,   4.3611,  34.9546,2,-999.0000,9,    204.2,2,    201.7,2, -999.000,9, -999.000,9,   4.2429
  06MT20040710,  AR04,   713,  1,      6,      6,2,20040715,   0, 15.0567, -61.2073, 1436,   1195.3,   4.5360,  34.9452,2,-999.0000,9,    198.9,2,   -999.0,9,    0.046,2,    0.030,2,   4.4381
  06MT20040710,  AR04,   713,  1,      7,      7,2,20040715,   0, 15.0567, -61.2073, 1436,    800.9,   6.3156,  34.7833,2,-999.0000,9,    131.4,2,    137.8,6, -999.000,9, -999.000,9,   6.2417
  06MT20040710,  AR04,   713,  1,      8,      8,2,20040715,   0, 15.0567, -61.2073, 1436,    805.1,   6.3068,  34.7826,2,  34.7981,3,    132.0,2,   -999.0,9,    0.126,2,    0.074,2,   6.2325
  06MT20040710,  AR04,   713,  1,      9,      9,2,20040715,   0, 15.0567, -61.2073, 1436,    501.2,  10.3747,  35.2200,2,-999.0000,9,    123.4,2,   -999.0,9,    1.023,2,    0.544,2,  10.3141
  06MT20040710,  AR04,   713,  1,     10,     10,2,20040715,   0, 15.0567, -61.2073, 1436,     11.5,  28.0506,  34.6206,2,-999.0000,9,    202.8,2,   -999.0,9,    1.543,2,    0.989,2,  28.0479
  06MT20040710,  AR04,   713,  1,     11,     11,2,20040715,   0, 15.0567, -61.2073, 1436,     14.0,  28.0504,  34.6172,2,-999.0000,9,    202.8,2,    202.7,2, -999.000,9, -999.000,9,  28.0471
  06MT20040710,  AR04,   713,  1,     12,     12,2,20040715,   0, 15.0567, -61.2073, 1436,      6.9,  28.0475,  34.6428,2,-999.0000,9,    202.8,2,   -999.0,9, -999.000,9, -999.000,9,  28.0459
  06MT20040710,  AR04,   714,  1,      1,      1,2,20040715,   0, 15.0998, -61.2292, 2057,   2056.0,   4.1600,  34.9677,2,-999.0000,9,    195.3,2,    207.7,3, -999.000,9, -999.000,9,   3.9845
  06MT20040710,  AR04,   714,  1,      2,      2,2,20040715,   0, 15.0998, -61.2292, 2057,   2055.5,   4.1605,  34.9676,2,-999.0000,9,    195.3,2,   -999.0,9, -999.000,9, -999.000,9,   3.9851
  06MT20040710,  AR04,   714,  1,      3,      3,2,20040715,   0, 15.0998, -61.2292, 2057,   2055.2,   4.1603,  34.9672,2,  34.9732,2,    195.3,2,   -999.0,9,    0.026,2,    0.028,2,   3.9849
  06MT20040710,  AR04,   714,  1,      4,      4,2,20040715,   0, 15.0998, -61.2292, 2057,   1816.2,   4.2041,  34.9642,2,-999.0000,9,    198.1,2,   -999.0,9,    0.026,2,    0.026,2,   4.0516
  06MT20040710,  AR04,   714,  1,      5,      5,2,20040715,   0, 15.0998, -61.2292, 2057,   1424.5,   4.3634,  34.9555,2,-999.0000,9,    203.7,2,    203.6,6, -999.000,9, -999.000,9,   4.2461
  06MT20040710,  AR04,   714,  1,      6,      6,2,20040715,   0, 15.0998, -61.2292, 2057,   1424.2,   4.3642,  34.9552,2,-999.0000,9,    203.7,2,   -999.0,9,    0.034,2,    0.023,2,   4.2470
  06MT20040710,  AR04,   714,  1,      7,      7,2,20040715,   0, 15.0998, -61.2292, 2057,   1023.8,   5.2872,  34.9014,2,-999.0000,9,    172.6,2,   -999.0,9,    0.119,2,    0.066,2,   5.1988
  06MT20040710,  AR04,   714,  1,      8,      8,2,20040715,   0, 15.0998, -61.2292, 2057,    413.4,  12.1957,  35.5238,2,  35.4093,3,    134.6,2,   -999.0,9,    1.336,2,    0.714,2,  12.1404
  06MT20040710,  AR04,   714,  1,      9,      9,2,20040715,   0, 15.0998, -61.2292, 2057,    411.1,  12.3244,  35.5475,2,-999.0000,9,    135.6,2,    126.2,3, -999.000,9, -999.000,9,  12.2690
  06MT20040710,  AR04,   714,  1,     10,     10,2,20040715,   0, 15.0998, -61.2292, 2057,      5.2,  28.1524,  34.6425,2,-999.0000,9,    201.2,2,   -999.0,9, -999.000,9, -999.000,9,  28.1512
  06MT20040710,  AR04,   714,  1,     11,     11,2,20040715,   0, 15.0998, -61.2292, 2057,      5.2,  28.1524,  34.6425,2,-999.0000,9,    201.2,2,    200.9,2,    1.518,2,    0.972,2,  28.1512
  06MT20040710,  AR04,   715,  1,      1,      1,2,20040715,   0, 15.1493, -61.2527, 1506,   1504.9,   4.2751,  34.9599,2,-999.0000,9,    204.0,2,    203.1,2, -999.000,9, -999.000,9,   4.1513
  06MT20040710,  AR04,   715,  1,      2,      2,2,20040715,   0, 15.1493, -61.2527, 1506,   1505.3,   4.2737,  34.9599,2,-999.0000,9,    203.9,2,   -999.0,9, -999.000,9, -999.000,9,   4.1499
  06MT20040710,  AR04,   715,  1,      3,      3,2,20040715,   0, 15.1493, -61.2527, 1506,   1505.7,   4.2689,  34.9597,2,  34.9634,2,    203.9,2,   -999.0,9,    0.035,2,    0.030,2,   4.1451
  06MT20040710,  AR04,   715,  1,      4,      4,2,20040715,   0, 15.1493, -61.2527, 1506,   1115.7,   4.5755,  34.9436,2,-999.0000,9,    192.0,2,   -999.0,9,    0.051,2,    0.029,2,   4.4844
  06MT20040710,  AR04,   715,  1,      5,      5,2,20040715,   0, 15.1493, -61.2527, 1506,    618.6,   7.4681,  34.8187,2,-999.0000,9,    122.5,2,    124.1,2, -999.000,9, -999.000,9,   7.4064
  06MT20040710,  AR04,   715,  1,      6,      6,2,20040715,   0, 15.1493, -61.2527, 1506,    620.0,   7.4320,  34.8107,2,-999.0000,9,    122.5,2,   -999.0,9,    0.377,2,    0.199,2,   7.3703
  06MT20040710,  AR04,   715,  1,      7,      7,2,20040715,   0, 15.1493, -61.2527, 1506,    254.1,  17.5516,  36.4286,2,  36.3490,3,    176.3,2,   -999.0,9,    2.146,2,    1.234,2,  17.5082
  06MT20040710,  AR04,   715,  1,      8,      8,2,20040715,   0, 15.1493, -61.2527, 1506,      6.4,  28.1435,  34.4226,2,-999.0000,9,    203.8,2,   -999.0,9,    1.514,2,    0.964,2,  28.1420
  06MT20040710,  AR04,   715,  1,      9,      9,2,20040715,   0, 15.1493, -61.2527, 1506,      6.3,  28.1443,  34.4237,2,-999.0000,9,    203.8,2,    201.8,2, -999.000,9, -999.000,9,  28.1428
  06MT20040710,  AR04,   716,  1,      1,      1,2,20040715,   0, 15.2038, -61.2815,  685,    683.1,   6.8081,  34.8018,2,-999.0000,9,    126.9,2,    129.1,2, -999.000,9, -999.000,9,   6.7430
  06MT20040710,  AR04,   716,  1,      2,      2,2,20040715,   0, 15.2038, -61.2815,  685,    684.0,   6.8006,  34.8034,2,-999.0000,9,    127.0,2,   -999.0,9, -999.000,9, -999.000,9,   6.7355
  06MT20040710,  AR04,   716,  1,      3,      3,2,20040715,   0, 15.2038, -61.2815,  685,    684.3,   6.8021,  34.8034,2,  34.8115,2,    127.1,2,   -999.0,9,    0.268,2,    0.144,2,   6.7369
  06MT20040710,  AR04,   716,  1,      4,      4,2,20040715,   0, 15.2038, -61.2815,  685,    446.5,  11.3650,  35.3164,2,-999.0000,9,    125.8,2,   -999.0,9,    1.206,2,    0.647,2,  11.3080
  06MT20040710,  AR04,   716,  1,      5,      5,2,20040715,   0, 15.2038, -61.2815,  685,    102.6,  26.2404,  36.9804,2,-999.0000,9,    198.2,2,    197.9,2, -999.000,9, -999.000,9,  26.2172
  06MT20040710,  AR04,   716,  1,      6,      6,2,20040715,   0, 15.2038, -61.2815,  685,     99.1,  26.4197,  37.0184,2,-999.0000,9,    199.3,2,   -999.0,9, -999.000,9, -999.000,9,  26.3972
  06MT20040710,  AR04,   716,  1,      7,      7,2,20040715,   0, 15.2038, -61.2815,  685,     10.7,  28.1974,  34.3733,2,  34.3668,2,    203.1,2,   -999.0,9,    1.531,2,    0.972,2,  28.1949
  06MT20040710,  AR04,   716,  1,      8,      8,2,20040715,   0, 15.2038, -61.2815,  685,     10.6,  28.1941,  34.3706,2,-999.0000,9,    203.1,2,    202.6,2, -999.000,9, -999.000,9,  28.1916