BOTTLE,20090923WHPSIOMYS
EXPOCODE,SECT_ID,STNNBR,CASTNO,SAMPNO,BTLNBR,BTLNBR_FLAG_W,DATE,TIME,LATITUDE,LONGITUDE,DEPTH,CTDRAW,CTDPRS,CTDTMP,CTDSAL,CTDSAL_FLAG_W,SALNTY,SALNTY_FLAG_W,CTDOXY,CTDOXY_FLAG_W,THETA,OXYGEN,OXYGEN_FLAG_W,SILCAT,SILCAT_FLAG_W,NO2+NO3,NO2+NO3_FLAG_W,PHSPHT,PHSPHT_FLAG_W,REVPRS,REVTMP
,,,,,,,,,,,,,DBAR,ITS-90,PSS-78,,PSS-78,,UMOL/KG,,ITS-90,UMOL/KG,,UMOL/KG,,UMOL/KG,,UMOL/KG,,DBAR,DEG C
     33KI151_1,  PRS2,     2, 14,     22,     22,2,20030822,0557, 22.8043,-157.9853, 4689,      6,      5.1,  26.2558,  34.7716,2,  34.7732,2,    204.3,1, 26.2546,   -999.0,9,  -999.00,9,  -999.00,9,  -999.00,9,  -999.0,-999.000
     33KI151_1,  PRS2,     2, 14,     21,     21,2,20030822,0557, 22.8043,-157.9853, 4689,      5,      5.2,  26.2569,  34.7716,2,  34.7720,2,    203.8,1, 26.2557,   -999.0,9,  -999.00,9,  -999.00,9,  -999.00,9,  -999.0,-999.000
     33KI151_1,  PRS2,     2, 14,     20,     20,2,20030822,0557, 22.8043,-157.9853, 4689,     24,     24.2,  26.2606,  34.7717,2,  34.7738,2,    203.6,1, 26.2552,   -999.0,9,  -999.00,9,  -999.00,9,  -999.00,9,  -999.0,-999.000
     33KI151_1,  PRS2,     2, 14,     19,     19,2,20030822,0557, 22.8043,-157.9853, 4689,     25,     24.4,  26.2609,  34.7717,2,  34.7805,2,    203.7,1, 26.2554,   -999.0,9,  -999.00,9,  -999.00,9,  -999.00,9,  -999.0,-999.000
     33KI151_1,  PRS2,     2, 14,     18,     18,2,20030822,0557, 22.8043,-157.9853, 4689,     45,     45.3,  26.1891,  34.8463,2,  34.8416,2,    205.9,1, 26.1789,   -999.0,9,  -999.00,9,  -999.00,9,  -999.00,9,  -999.0,-999.000
     33KI151_1,  PRS2,     2, 14,     17,     17,2,20030822,0557, 22.8043,-157.9853, 4689,     45,     45.3,  26.1894,  34.8472,2,  34.8391,2,    205.9,1, 26.1793,   -999.0,9,  -999.00,9,  -999.00,9,  -999.00,9,  -999.0,-999.000
     33KI151_1,  PRS2,     2, 14,     16,     16,2,20030822,0557, 22.8043,-157.9853, 4689,     59,     58.9,  26.1357,  34.9454,2,  34.9498,2,    206.6,1, 26.1225,   -999.0,9,  -999.00,9,  -999.00,9,  -999.00,9,  -999.0,-999.000
     33KI151_1,  PRS2,     2, 14,     15,     23,2,20030822,0557, 22.8043,-157.9853, 4689,     74,     74.0,  24.3968,  34.8879,2,  34.8936,2,    220.7,1, 24.3810,   -999.0,9,  -999.00,9,  -999.00,9,  -999.00,9,  -999.0,-999.000
     33KI151_1,  PRS2,     2, 14,     14,    101,2,20030822,0557, 22.8043,-157.9853, 4689,     74,     74.0,  24.3694,  34.8931,2,  34.9170,3,    220.5,1, 24.3537,   -999.0,9,  -999.00,9,  -999.00,9,  -999.00,9,  -999.0,-999.000
     33KI151_1,  PRS2,     2, 14,     13,     13,2,20030822,0557, 22.8043,-157.9853, 4689,     85,     84.9,  24.0927,  35.0764,2,  35.0811,2,    218.9,1, 24.0748,   -999.0,9,  -999.00,9,  -999.00,9,  -999.00,9,  -999.0,-999.000
     33KI151_1,  PRS2,     2, 14,     11,     39,2,20030822,0557, 22.8043,-157.9853, 4689,     99,     98.7,  23.5610,  35.1756,2,  35.1837,2,    214.5,1, 23.5405,   -999.0,9,  -999.00,9,  -999.00,9,  -999.00,9,  -999.0,-999.000
     33KI151_1,  PRS2,     2, 14,     12,     12,2,20030822,0557, 22.8043,-157.9853, 4689,    100,     98.8,  23.5644,  35.1749,2,  35.1798,2,    214.6,1, 23.5438,   -999.0,9,  -999.00,9,  -999.00,9,  -999.00,9,  -999.0,-999.000
     33KI151_1,  PRS2,     2, 14,     10,     32,2,20030822,0557, 22.8043,-157.9853, 4689,    115,    114.8,  23.1003,  35.2161,2,  35.2162,2,    211.1,1, 23.0768,   -999.0,9,  -999.00,9,  -999.00,9,  -999.00,9,  -999.0,-999.000
     33KI151_1,  PRS2,     2, 14,      9,      3,2,20030822,0557, 22.8043,-157.9853, 4689,    125,    124.5,  22.8303,  35.1542,2,  35.1660,2,    209.3,1, 22.8050,   -999.0,9,  -999.00,9,  -999.00,9,  -999.00,9,  -999.0,-999.000
     33KI151_1,  PRS2,     2, 14,      8,     29,2,20030822,0557, 22.8043,-157.9853, 4689,    124,    124.5,  22.7141,  35.1236,2,  35.1591,3,    209.2,1, 22.6889,   -999.0,9,  -999.00,9,  -999.00,9,  -999.00,9,  -999.0,-999.000
     33KI151_1,  PRS2,     2, 14,      7,     28,2,20030822,0557, 22.8043,-157.9853, 4689,    135,    134.7,  22.3065,  35.0924,2,  35.0951,2,    205.5,1, 22.2796,   -999.0,9,  -999.00,9,  -999.00,9,  -999.00,9,  -999.0,-999.000
     33KI151_1,  PRS2,     2, 14,      5,     38,2,20030822,0557, 22.8043,-157.9853, 4689,    150,    149.4,  21.5885,  35.1485,2,  35.1561,2,    198.9,1, 21.5593,   -999.0,9,  -999.00,9,  -999.00,9,  -999.00,9,  -999.0,-999.000
     33KI151_1,  PRS2,     2, 14,      6,      7,2,20030822,0557, 22.8043,-157.9853, 4689,    150,    149.5,  21.6167,  35.1541,2,  35.1563,2,    198.8,1, 21.5875,   -999.0,9,  -999.00,9,  -999.00,9,  -999.00,9,  -999.0,-999.000
     33KI151_1,  PRS2,     2, 14,      3,     35,2,20030822,0557, 22.8043,-157.9853, 4689,    174,    173.8,  20.8480,  35.1509,2,  35.1522,2,    192.9,1, 20.8149,   -999.0,9,  -999.00,9,  -999.00,9,  -999.00,9,  -999.0,-999.000
     33KI151_1,  PRS2,     2, 14,      4,     36,2,20030822,0557, 22.8043,-157.9853, 4689,    174,    174.0,  20.8449,  35.1509,2,  35.1526,2,    192.9,1, 20.8118,   -999.0,9,  -999.00,9,  -999.00,9,  -999.00,9,  -999.0,-999.000
     33KI151_1,  PRS2,     2, 14,      2,     34,2,20030822,0557, 22.8043,-157.9853, 4689,    547,    547.0,   6.1311,  34.0694,2,  34.0709,2,     77.4,1,  6.0829,   -999.0,9,  -999.00,9,  -999.00,9,  -999.00,9,  -999.0,-999.000
     33KI151_1,  PRS2,     2, 14,      1,     33,2,20030822,0557, 22.8043,-157.9853, 4689,   1021,   1021.0,   4.1004,  34.4873,2,  34.4885,2,     38.9,1,  4.0222,   -999.0,9,  -999.00,9,  -999.00,9,  -999.00,9,  -999.0,-999.000
     33KI151_1,  PRS2,     2, 16,     12,     12,2,20030822,0922, 22.7508,-157.9893, 4719,      5,      5.4,  26.2623,  34.7654,2,-999.0000,5,    204.6,2, 26.2611,    205.5,2,  -999.00,9,  -999.00,9,  -999.00,9,  -999.0,-999.000
     33KI151_1,  PRS2,     2, 16,     11,     39,2,20030822,0922, 22.7508,-157.9893, 4719,     41,     40.6,  26.0991,  34.7869,2,  34.7938,2,    206.2,2, 26.0900,   -999.0,5,  -999.00,9,  -999.00,9,  -999.00,9,  -999.0,-999.000
     33KI151_1,  PRS2,     2, 16,     10,     32,2,20030822,0922, 22.7508,-157.9893, 4719,     90,     90.0,  24.2509,  35.0155,2,  35.0120,2,    219.9,2, 24.2319,    220.3,2,  -999.00,9,  -999.00,9,  -999.00,9,  -999.0,-999.000
     33KI151_1,  PRS2,     2, 16,      9,      3,2,20030822,0922, 22.7508,-157.9893, 4719,    131,    131.4,  23.2051,  35.2267,2,  35.2207,2,    211.2,2, 23.1781,    212.7,2,  -999.00,9,  -999.00,9,  -999.00,9,  -999.0,-999.000
     33KI151_1,  PRS2,     2, 16,      8,     29,2,20030822,0922, 22.7508,-157.9893, 4719,    524,    525.3,   6.8686,  34.0631,2,  34.0635,2,     98.8,2,  6.8196,     98.9,2,  -999.00,9,  -999.00,9,  -999.00,9,  -999.0,-999.000
     33KI151_1,  PRS2,     2, 16,      7,     28,2,20030822,0922, 22.7508,-157.9893, 4719,    751,    750.3,   5.4009,  34.3572,2,  34.3558,2,     23.2,2,  5.3376,     23.5,2,  -999.00,9,  -999.00,9,  -999.00,9,  -999.0,-999.000
     33KI151_1,  PRS2,     2, 16,      6,      7,2,20030822,0922, 22.7508,-157.9893, 4719,   1000,   1001.0,   4.3063,  34.4721,2,  34.4724,2,     35.1,2,  4.2282,     35.3,2,  -999.00,9,  -999.00,9,  -999.00,9,  -999.0,-999.000
     33KI151_1,  PRS2,     2, 16,      5,     38,2,20030822,0922, 22.7508,-157.9893, 4719,   2003,   2003.0,   2.1763,  34.6176,2,  34.6183,2,     87.6,2,  2.0370,     88.5,2,  -999.00,9,  -999.00,9,  -999.00,9,  -999.0,-999.000
     33KI151_1,  PRS2,     2, 16,      3,     35,2,20030822,0922, 22.7508,-157.9893, 4719,   3000,   3000.6,   1.5843,  34.6664,2,  34.6665,2,    121.7,2,  1.3656,    122.6,2,  -999.00,9,  -999.00,9,  -999.00,9,  -999.0,-999.000
     33KI151_1,  PRS2,     2, 16,      4,     36,2,20030822,0922, 22.7508,-157.9893, 4719,   3001,   3000.8,   1.5843,  34.6665,2,  34.6675,2,    121.6,2,  1.3656,   -999.0,5,  -999.00,9,  -999.00,9,  -999.00,9,  -999.0,-999.000
     33KI151_1,  PRS2,     2, 16,      2,     34,2,20030822,0922, 22.7508,-157.9893, 4719,   4000,   4000.6,   1.4748,  34.6842,2,  34.6846,2,    145.0,2,  1.1565,    145.4,2,  -999.00,9,  -999.00,9,  -999.00,9,  -999.0,-999.000
     33KI151_1,  PRS2,     2, 16,      1,     33,2,20030822,0922, 22.7508,-157.9893, 4719,   4785,   4785.6,   1.5106,  34.6888,2,  34.6903,2,    152.9,2,  1.1019,    154.2,2,  -999.00,9,  -999.00,9,  -999.00,9,  -999.0,-999.000
     33KI151_1,  PRS2,     6,  1,     13,     13,2,20030823,0635, 21.8458,-158.3673, 2364,      5,      5.1,  26.6726,  34.9331,2,  34.9337,2,    202.3,1, 26.6714,   -999.0,9,  -999.00,9,  -999.00,9,  -999.00,9,  -999.0,-999.000
     33KI151_1,  PRS2,     6,  1,     12,     12,2,20030823,0635, 21.8458,-158.3673, 2364,     25,     25.0,  26.6729,  34.9334,2,  34.9339,2,    202.5,1, 26.6672,   -999.0,9,  -999.00,9,  -999.00,9,  -999.00,9,  -999.0,-999.000
     33KI151_1,  PRS2,     6,  1,     11,     39,2,20030823,0635, 21.8458,-158.3673, 2364,     45,     45.1,  26.6235,  34.9365,2,  34.9351,2,    202.6,1, 26.6133,   -999.0,9,  -999.00,9,  -999.00,9,  -999.00,9,  -999.0,-999.000
     33KI151_1,  PRS2,     6,  1,     10,     32,2,20030823,0635, 21.8458,-158.3673, 2364,     75,     75.2,  25.7411,  35.0353,2,  35.0380,2,    207.6,1, 25.7244,   -999.0,9,  -999.00,9,  -999.00,9,  -999.00,9,  -999.0,-999.000
     33KI151_1,  PRS2,     6,  1,      9,      3,2,20030823,0635, 21.8458,-158.3673, 2364,    100,    100.4,  23.9453,  35.2229,2,  35.2249,2,    211.8,1, 23.9242,   -999.0,9,  -999.00,9,  -999.00,9,  -999.00,9,  -999.0,-999.000
     33KI151_1,  PRS2,     6,  1,      8,     29,2,20030823,0635, 21.8458,-158.3673, 2364,    122,    122.0,  23.2953,  35.2749,2,  35.2735,2,    208.8,1, 23.2702,   -999.0,9,  -999.00,9,  -999.00,9,  -999.00,9,  -999.0,-999.000
     33KI151_1,  PRS2,     6,  1,      7,     28,2,20030823,0635, 21.8458,-158.3673, 2364,    150,    150.5,  22.2162,  35.2663,2,  35.2727,2,    204.5,1, 22.1862,   -999.0,9,  -999.00,9,  -999.00,9,  -999.00,9,  -999.0,-999.000
     33KI151_1,  PRS2,     6,  1,      6,      7,2,20030823,0635, 21.8458,-158.3673, 2364,    178,    177.7,  20.0380,  35.0912,2,  35.1035,2,    186.4,1, 20.0051,   -999.0,9,  -999.00,9,  -999.00,9,  -999.00,9,  -999.0,-999.000
     33KI151_1,  PRS2,     6,  1,      5,     38,2,20030823,0635, 21.8458,-158.3673, 2364,    500,    499.7,   7.0664,  34.0997,2,  34.1009,2,     99.1,1,  7.0190,   -999.0,9,  -999.00,9,  -999.00,9,  -999.00,9,  -999.0,-999.000
     33KI151_1,  PRS2,     6,  1,      4,     36,2,20030823,0635, 21.8458,-158.3673, 2364,   1000,   1000.0,   3.9789,  34.4911,2,  34.4915,2,     45.3,1,  3.9035,   -999.0,9,  -999.00,9,  -999.00,9,  -999.00,9,  -999.0,-999.000
     33KI151_1,  PRS2,     6,  1,      3,     35,2,20030823,0635, 21.8458,-158.3673, 2364,   1501,   1500.6,   2.8929,  34.5692,2,  34.5698,2,     66.0,1,  2.7862,   -999.0,9,  -999.00,9,  -999.00,9,  -999.00,9,  -999.0,-999.000
     33KI151_1,  PRS2,     6,  1,      2,     34,2,20030823,0635, 21.8458,-158.3673, 2364,   2001,   2001.1,   2.1215,  34.6195,2,  34.6203,2,     89.2,1,  1.9831,   -999.0,9,  -999.00,9,  -999.00,9,  -999.00,9,  -999.0,-999.000
     33KI151_1,  PRS2,     6,  1,      1,     33,2,20030823,0635, 21.8458,-158.3673, 2364,   2431,   2430.8,   1.8074,  34.6437,2,  34.6447,2,    104.9,1,  1.6369,   -999.0,9,  -999.00,9,  -999.00,9,  -999.00,9,  -999.0,-999.000