BOTTLE,20090923WHPSIOMYS
EXPOCODE,SECT_ID,STNNBR,CASTNO,SAMPNO,BTLNBR,BTLNBR_FLAG_W,DATE,TIME,LATITUDE,LONGITUDE,DEPTH,CTDRAW,CTDPRS,CTDTMP,CTDSAL,CTDSAL_FLAG_W,SALNTY,SALNTY_FLAG_W,CTDOXY,CTDOXY_FLAG_W,THETA,OXYGEN,OXYGEN_FLAG_W,SILCAT,SILCAT_FLAG_W,NO2+NO3,NO2+NO3_FLAG_W,PHSPHT,PHSPHT_FLAG_W,REVPRS,REVTMP
,,,,,,,,,,,,,DBAR,ITS-90,PSS-78,,PSS-78,,UMOL/KG,,ITS-90,UMOL/KG,,UMOL/KG,,UMOL/KG,,UMOL/KG,,DBAR,DEG C
     33KI151_1,  PRS2,     2,  7,     20,     20,2,20030821,0857, 22.7548,-157.9898, 4718,      5,      4.5,  26.2866,  34.9228,2,  34.9250,2,    206.0,2, 26.2856,   -999.0,5,  -999.00,9,  -999.00,9,  -999.00,9,  -999.0,-999.000
     33KI151_1,  PRS2,     2,  7,     19,     19,2,20030821,0857, 22.7548,-157.9898, 4718,      4,      4.5,  26.2848,  34.9225,2,  34.9231,2,    206.1,2, 26.2838,    205.6,2,  -999.00,9,  -999.00,9,  -999.00,9,  -999.0,-999.000
     33KI151_1,  PRS2,     2,  7,     18,     18,2,20030821,0857, 22.7548,-157.9898, 4718,     14,     13.9,  26.2797,  34.9213,2,  34.9215,2,    206.4,2, 26.2765,   -999.0,5,  -999.00,9,  -999.00,9,  -999.00,9,  -999.0,-999.000
     33KI151_1,  PRS2,     2,  7,     17,     17,2,20030821,0857, 22.7548,-157.9898, 4718,     25,     25.3,  26.2446,  34.9114,2,  34.9126,2,    206.6,2, 26.2389,   -999.0,5,  -999.00,9,  -999.00,9,  -999.00,9,  -999.0,-999.000
     33KI151_1,  PRS2,     2,  7,     16,     16,2,20030821,0857, 22.7548,-157.9898, 4718,     26,     25.3,  26.2444,  34.9114,2,  34.9079,2,    206.7,2, 26.2388,    206.4,2,  -999.00,9,  -999.00,9,  -999.00,9,  -999.0,-999.000
     33KI151_1,  PRS2,     2,  7,     15,     23,2,20030821,0857, 22.7548,-157.9898, 4718,     35,     34.9,  26.1908,  34.8983,2,  34.8953,2,    206.9,2, 26.1830,   -999.0,5,  -999.00,9,  -999.00,9,  -999.00,9,  -999.0,-999.000
     33KI151_1,  PRS2,     2,  7,     14,    101,2,20030821,0857, 22.7548,-157.9898, 4718,     45,     44.7,  26.1457,  34.8865,2,  34.8859,2,    207.1,2, 26.1357,    206.7,2,  -999.00,9,  -999.00,9,  -999.00,9,  -999.0,-999.000
     33KI151_1,  PRS2,     2,  7,     13,     13,2,20030821,0857, 22.7548,-157.9898, 4718,     60,     59.8,  24.8182,  34.7656,2,  34.7944,3,    220.7,3, 24.8053,   -999.0,5,  -999.00,9,  -999.00,9,  -999.00,9,  -999.0,-999.000
     33KI151_1,  PRS2,     2,  7,     12,     12,2,20030821,0857, 22.7548,-157.9898, 4718,     75,     74.1,  24.3687,  34.7830,2,  34.7319,3,    219.1,3, 24.3529,    219.3,2,  -999.00,9,  -999.00,9,  -999.00,9,  -999.0,-999.000
     33KI151_1,  PRS2,     2,  7,     11,     39,2,20030821,0857, 22.7548,-157.9898, 4718,     85,     84.9,  24.4762,  34.9607,2,  34.9388,4,    219.3,3, 24.4581,    218.6,2,  -999.00,9,  -999.00,9,  -999.00,9,  -999.0,-999.000
     33KI151_1,  PRS2,     2,  7,     10,     32,3,20030821,0857, 22.7548,-157.9898, 4718,    100,    100.1,  23.8018,  35.0027,2,  35.0031,2,    216.0,2, 23.7809,    216.6,2,  -999.00,9,  -999.00,9,  -999.00,9,  -999.0,-999.000
     33KI151_1,  PRS2,     2,  7,      9,      3,2,20030821,0857, 22.7548,-157.9898, 4718,    114,    113.9,  23.3913,  35.0800,2,  35.0791,2,    213.4,2, 23.3677,    213.5,2,  -999.00,9,  -999.00,9,  -999.00,9,  -999.0,-999.000
     33KI151_1,  PRS2,     2,  7,      8,     29,2,20030821,0857, 22.7548,-157.9898, 4718,    124,    123.7,  22.9354,  35.0671,2,  35.0646,2,    211.2,2, 22.9102,    213.3,2,  -999.00,9,  -999.00,9,  -999.00,9,  -999.0,-999.000
     33KI151_1,  PRS2,     2,  7,      7,     28,3,20030821,0857, 22.7548,-157.9898, 4718,    149,    149.2,  21.4910,  35.1476,2,  35.1457,2,    200.3,2, 21.4620,    199.8,2,  -999.00,9,  -999.00,9,  -999.00,9,  -999.0,-999.000
     33KI151_1,  PRS2,     2,  7,      6,      7,2,20030821,0857, 22.7548,-157.9898, 4718,    164,    164.0,  20.8176,  35.1826,2,  35.1841,2,    193.8,2, 20.7864,    195.4,2,  -999.00,9,  -999.00,9,  -999.00,9,  -999.0,-999.000
     33KI151_1,  PRS2,     2,  7,      5,     38,2,20030821,0857, 22.7548,-157.9898, 4718,    175,    174.9,  20.5760,  35.1952,2,  35.1949,2,    196.6,2, 20.5430,    196.5,2,  -999.00,9,  -999.00,9,  -999.00,9,  -999.0,-999.000
     33KI151_1,  PRS2,     2,  7,      4,     36,3,20030821,0857, 22.7548,-157.9898, 4718,    199,    198.9,  20.0256,  35.1477,2,  35.1453,2,    196.3,2, 19.9888,    196.9,2,  -999.00,9,  -999.00,9,  -999.00,9,  -999.0,-999.000
     33KI151_1,  PRS2,     2,  7,      3,     35,2,20030821,0857, 22.7548,-157.9898, 4718,    550,    549.5,   6.2615,  34.0630,2,  34.0631,2,     80.8,2,  6.2126,     83.3,2,  -999.00,9,  -999.00,9,  -999.00,9,  -999.0,-999.000
     33KI151_1,  PRS2,     2,  7,      2,     34,2,20030821,0857, 22.7548,-157.9898, 4718,    751,    750.8,   4.9593,  34.2806,2,  34.2807,2,     23.0,2,  4.8986,     23.7,2,  -999.00,9,  -999.00,9,  -999.00,9,  -999.0,-999.000
     33KI151_1,  PRS2,     2,  7,      1,     33,2,20030821,0857, 22.7548,-157.9898, 4718,   1018,   1017.9,   4.1502,  34.4859,2,  34.4856,2,     38.4,2,  4.0719,     38.5,2,  -999.00,9,  -999.00,9,  -999.00,9,  -999.0,-999.000
     33KI151_1,  PRS2,     2,  8,     22,     22,2,20030821,1159, 22.7595,-157.9893, 4713,      6,      5.5,  26.2990,  34.9504,2,  34.9545,2,    206.4,1, 26.2978,   -999.0,9,  -999.00,9,  -999.00,9,  -999.00,9,  -999.0,-999.000
     33KI151_1,  PRS2,     2,  8,     21,     21,2,20030821,1159, 22.7595,-157.9893, 4713,      6,      5.5,  26.2950,  34.9469,2,  34.9591,3,    206.5,1, 26.2937,   -999.0,9,  -999.00,9,  -999.00,9,  -999.00,9,  -999.0,-999.000
     33KI151_1,  PRS2,     2,  8,     20,     20,3,20030821,1159, 22.7595,-157.9893, 4713,      5,      5.5,  26.3058,  34.9529,2,  34.9593,2,    206.5,1, 26.3045,   -999.0,9,  -999.00,9,  -999.00,9,  -999.00,9,  -999.0,-999.000
     33KI151_1,  PRS2,     2,  8,     17,     17,2,20030821,1159, 22.7595,-157.9893, 4713,     26,     25.5,  26.2848,  34.9430,2,  34.9453,2,    206.8,1, 26.2791,   -999.0,9,  -999.00,9,  -999.00,9,  -999.00,9,  -999.0,-999.000
     33KI151_1,  PRS2,     2,  8,     19,     19,3,20030821,1159, 22.7595,-157.9893, 4713,     26,     25.7,  26.3124,  34.9543,2,  34.9526,2,    206.5,1, 26.3066,   -999.0,9,  -999.00,9,  -999.00,9,  -999.00,9,  -999.0,-999.000
     33KI151_1,  PRS2,     2,  8,     18,     18,2,20030821,1159, 22.7595,-157.9893, 4713,     26,     25.7,  26.2981,  34.9488,2,  34.9445,2,    206.6,1, 26.2923,   -999.0,9,  -999.00,9,  -999.00,9,  -999.00,9,  -999.0,-999.000
     33KI151_1,  PRS2,     2,  8,     15,     23,2,20030821,1159, 22.7595,-157.9893, 4713,     45,     44.1,  26.1214,  34.8832,2,-999.0000,5,    208.2,1, 26.1116,   -999.0,9,  -999.00,9,  -999.00,9,  -999.00,9,  -999.0,-999.000
     33KI151_1,  PRS2,     2,  8,     14,    101,2,20030821,1159, 22.7595,-157.9893, 4713,     45,     44.2,  26.1118,  34.8815,2,  34.9044,3,    208.5,1, 26.1019,   -999.0,9,  -999.00,9,  -999.00,9,  -999.00,9,  -999.0,-999.000
     33KI151_1,  PRS2,     2,  8,     16,     16,2,20030821,1159, 22.7595,-157.9893, 4713,     45,     44.5,  25.9500,  34.8351,2,-999.0000,5,    208.0,1, 25.9401,   -999.0,9,  -999.00,9,  -999.00,9,  -999.00,9,  -999.0,-999.000
     33KI151_1,  PRS2,     2,  8,     13,     13,3,20030821,1159, 22.7595,-157.9893, 4713,     74,     73.9,  24.2505,  34.8070,2,  34.8161,2,    219.0,1, 24.2349,   -999.0,9,  -999.00,9,  -999.00,9,  -999.00,9,  -999.0,-999.000
     33KI151_1,  PRS2,     2,  8,     12,     12,2,20030821,1159, 22.7595,-157.9893, 4713,     74,     74.0,  24.2498,  34.8074,2,  34.8080,2,    219.0,1, 24.2341,   -999.0,9,  -999.00,9,  -999.00,9,  -999.00,9,  -999.0,-999.000
     33KI151_1,  PRS2,     2,  8,     11,     39,3,20030821,1159, 22.7595,-157.9893, 4713,     74,     74.0,  24.2461,  34.8083,2,  34.8336,3,    219.1,1, 24.2304,   -999.0,9,  -999.00,9,  -999.00,9,  -999.00,9,  -999.0,-999.000
     33KI151_1,  PRS2,     2,  8,      8,     29,2,20030821,1159, 22.7595,-157.9893, 4713,    101,    100.7,  23.2802,  35.0428,2,  35.0413,2,    212.7,1, 23.2595,   -999.0,9,  -999.00,9,  -999.00,9,  -999.00,9,  -999.0,-999.000
     33KI151_1,  PRS2,     2,  8,      9,      3,2,20030821,1159, 22.7595,-157.9893, 4713,    101,    101.0,  23.2746,  35.0437,2,  35.0423,2,    213.0,1, 23.2538,   -999.0,9,  -999.00,9,  -999.00,9,  -999.00,9,  -999.0,-999.000
     33KI151_1,  PRS2,     2,  8,     10,     32,2,20030821,1159, 22.7595,-157.9893, 4713,    101,    101.1,  23.2736,  35.0435,2,  35.0427,2,    213.3,1, 23.2528,   -999.0,9,  -999.00,9,  -999.00,9,  -999.00,9,  -999.0,-999.000
     33KI151_1,  PRS2,     2,  8,      5,     38,2,20030821,1159, 22.7595,-157.9893, 4713,    127,    128.1,  22.2128,  35.0876,2,  35.0931,2,    205.3,1, 22.1873,   -999.0,9,  -999.00,9,  -999.00,9,  -999.00,9,  -999.0,-999.000
     33KI151_1,  PRS2,     2,  8,      6,      7,3,20030821,1159, 22.7595,-157.9893, 4713,    130,    129.6,  22.1661,  35.0793,2,  35.0825,2,    205.4,1, 22.1404,   -999.0,9,  -999.00,9,  -999.00,9,  -999.00,9,  -999.0,-999.000
     33KI151_1,  PRS2,     2,  8,      7,     28,2,20030821,1159, 22.7595,-157.9893, 4713,    131,    130.9,  22.0887,  35.0734,2,  35.0766,2,    205.4,1, 22.0627,   -999.0,9,  -999.00,9,  -999.00,9,  -999.00,9,  -999.0,-999.000
     33KI151_1,  PRS2,     2,  8,      4,     36,3,20030821,1159, 22.7595,-157.9893, 4713,    148,    147.8,  21.1058,  35.0523,2,  35.0648,2,    195.1,1, 21.0774,   -999.0,9,  -999.00,9,  -999.00,9,  -999.00,9,  -999.0,-999.000
     33KI151_1,  PRS2,     2,  8,      3,     35,2,20030821,1159, 22.7595,-157.9893, 4713,    174,    173.9,  20.4843,  35.2017,2,  35.2008,2,    196.1,1, 20.4515,   -999.0,9,  -999.00,9,  -999.00,9,  -999.00,9,  -999.0,-999.000
     33KI151_1,  PRS2,     2,  8,      2,     34,2,20030821,1159, 22.7595,-157.9893, 4713,    500,    499.5,   7.4432,  34.1008,2,  34.1011,2,    103.2,1,  7.3944,   -999.0,9,  -999.00,9,  -999.00,9,  -999.00,9,  -999.0,-999.000
     33KI151_1,  PRS2,     2,  8,      1,     33,2,20030821,1159, 22.7595,-157.9893, 4713,   1024,   1023.7,   4.1601,  34.4847,2,  34.4838,2,     38.2,1,  4.0812,   -999.0,9,  -999.00,9,  -999.00,9,  -999.00,9,  -999.0,-999.000
     33KI151_1,  PRS2,     2,  9,      4,     36,2,20030821,1459, 22.7500,-158.0015, 4721,      6,      5.5,  26.1859,  34.8624,2,  34.8631,2,    205.0,1, 26.1846,   -999.0,9,  -999.00,9,  -999.00,9,  -999.00,9,  -999.0,-999.000
     33KI151_1,  PRS2,     2,  9,      3,     35,2,20030821,1459, 22.7500,-158.0015, 4721,    176,    175.3,  20.5300,  35.1833,2,  35.1750,2,    194.0,1, 20.4970,   -999.0,9,  -999.00,9,  -999.00,9,  -999.00,9,  -999.0,-999.000
     33KI151_1,  PRS2,     2,  9,      2,     34,2,20030821,1459, 22.7500,-158.0015, 4721,    531,    530.4,   6.7461,  34.0638,2,  34.0633,2,     95.6,1,  6.6970,   -999.0,9,  -999.00,9,  -999.00,9,  -999.00,9,  -999.0,-999.000
     33KI151_1,  PRS2,     2,  9,      1,     33,2,20030821,1459, 22.7500,-158.0015, 4721,   1022,   1022.0,   4.0647,  34.4926,2,  34.4928,2,     39.7,1,  3.9867,   -999.0,9,  -999.00,9,  -999.00,9,  -999.00,9,  -999.0,-999.000
     33KI151_1,  PRS2,     2, 10,     10,     32,2,20030821,1800, 22.7747,-158.0072, 4720,      5,      5.4,  26.1589,  34.8240,2,  34.8237,2,    205.4,1, 26.1577,   -999.0,9,  -999.00,9,  -999.00,9,  -999.00,9,  -999.0,-999.000
     33KI151_1,  PRS2,     2, 10,      9,      3,2,20030821,1800, 22.7747,-158.0072, 4720,     26,     25.2,  26.1687,  34.8328,2,  34.8310,2,    205.4,1, 26.1630,   -999.0,9,  -999.00,9,  -999.00,9,  -999.00,9,  -999.0,-999.000
     33KI151_1,  PRS2,     2, 10,      8,     29,2,20030821,1800, 22.7747,-158.0072, 4720,     46,     45.9,  26.3158,  34.9789,2,  34.9756,2,    205.2,1, 26.3055,   -999.0,9,  -999.00,9,  -999.00,9,  -999.00,9,  -999.0,-999.000
     33KI151_1,  PRS2,     2, 10,      7,     28,2,20030821,1800, 22.7747,-158.0072, 4720,     75,     74.3,  24.8984,  34.7885,2,  34.7917,2,    217.9,1, 24.8823,   -999.0,9,  -999.00,9,  -999.00,9,  -999.00,9,  -999.0,-999.000
     33KI151_1,  PRS2,     2, 10,      6,      7,2,20030821,1800, 22.7747,-158.0072, 4720,     99,     99.0,  23.6371,  34.9983,2,  35.0085,2,    215.3,1, 23.6164,   -999.0,9,  -999.00,9,  -999.00,9,  -999.00,9,  -999.0,-999.000
     33KI151_1,  PRS2,     2, 10,      5,     38,2,20030821,1800, 22.7747,-158.0072, 4720,    125,    124.6,  22.6880,  35.0428,2,  35.0433,2,    209.1,1, 22.6628,   -999.0,9,  -999.00,9,  -999.00,9,  -999.00,9,  -999.0,-999.000
     33KI151_1,  PRS2,     2, 10,      4,     36,3,20030821,1800, 22.7747,-158.0072, 4720,    150,    149.6,  21.6775,  35.1368,2,  35.1268,2,    203.2,1, 21.6482,   -999.0,9,  -999.00,9,  -999.00,9,  -999.00,9,  -999.0,-999.000
     33KI151_1,  PRS2,     2, 10,      3,     35,2,20030821,1800, 22.7747,-158.0072, 4720,    175,    174.9,  20.7550,  35.1756,2,  35.1736,2,    193.8,1, 20.7218,   -999.0,9,  -999.00,9,  -999.00,9,  -999.00,9,  -999.0,-999.000
     33KI151_1,  PRS2,     2, 10,      2,     34,2,20030821,1800, 22.7747,-158.0072, 4720,    758,    758.4,   4.8704,  34.3091,2,  34.3086,2,     22.9,1,  4.8095,   -999.0,9,  -999.00,9,  -999.00,9,  -999.00,9,  -999.0,-999.000
     33KI151_1,  PRS2,     2, 10,      1,     33,2,20030821,1800, 22.7747,-158.0072, 4720,   1022,   1021.9,   4.0770,  34.4914,2,  34.4905,2,     39.4,1,  3.9990,   -999.0,9,  -999.00,9,  -999.00,9,  -999.00,9,  -999.0,-999.000
     33KI151_1,  PRS2,     2, 11,      4,     36,2,20030821,2101, 22.8312,-157.9903, 4676,      5,      4.2,  26.1917,  34.8337,2,  34.8336,2,    205.6,1, 26.1908,   -999.0,9,  -999.00,9,  -999.00,9,  -999.00,9,  -999.0,-999.000
     33KI151_1,  PRS2,     2, 11,      3,     35,2,20030821,2101, 22.8312,-157.9903, 4676,    182,    181.9,  20.6621,  35.1748,2,  35.1800,2,    191.8,1, 20.6276,   -999.0,9,  -999.00,9,  -999.00,9,  -999.00,9,  -999.0,-999.000
     33KI151_1,  PRS2,     2, 11,      2,     34,2,20030821,2101, 22.8312,-157.9903, 4676,    529,    528.9,   6.5767,  34.0512,2,  34.0505,2,     97.7,1,  6.5285,   -999.0,9,  -999.00,9,  -999.00,9,  -999.00,9,  -999.0,-999.000
     33KI151_1,  PRS2,     2, 11,      1,     33,2,20030821,2101, 22.8312,-157.9903, 4676,   1022,   1020.6,   4.1019,  34.4888,2,  34.4905,2,     38.8,1,  4.0238,   -999.0,9,  -999.00,9,  -999.00,9,  -999.00,9,  -999.0,-999.000
     33KI151_1,  PRS2,     2, 12,     11,     39,2,20030822,0020, 22.8335,-157.9898, 4679,      5,      4.9,  26.2789,  34.8222,2,  34.8226,2,    205.3,1, 26.2778,   -999.0,9,  -999.00,9,  -999.00,9,  -999.00,9,  -999.0,-999.000
     33KI151_1,  PRS2,     2, 12,     10,     32,2,20030822,0020, 22.8335,-157.9898, 4679,     25,     25.1,  26.2074,  34.8367,2,  34.8367,2,    205.2,1, 26.2018,   -999.0,9,  -999.00,9,  -999.00,9,  -999.00,9,  -999.0,-999.000
     33KI151_1,  PRS2,     2, 12,      9,      3,2,20030822,0020, 22.8335,-157.9898, 4679,     44,     44.7,  26.2953,  34.9288,2,  34.9276,2,    205.3,1, 26.2852,   -999.0,9,  -999.00,9,  -999.00,9,  -999.00,9,  -999.0,-999.000
     33KI151_1,  PRS2,     2, 12,      8,     29,2,20030822,0020, 22.8335,-157.9898, 4679,     76,     75.6,  24.3252,  34.7623,2,  34.7657,2,    219.1,1, 24.3091,   -999.0,9,  -999.00,9,  -999.00,9,  -999.00,9,  -999.0,-999.000
     33KI151_1,  PRS2,     2, 12,      7,     28,2,20030822,0020, 22.8335,-157.9898, 4679,    100,     99.6,  23.5354,  35.0437,2,  35.0415,2,    214.3,1, 23.5148,   -999.0,9,  -999.00,9,  -999.00,9,  -999.00,9,  -999.0,-999.000
     33KI151_1,  PRS2,     2, 12,      6,      7,2,20030822,0020, 22.8335,-157.9898, 4679,    124,    123.8,  22.5862,  35.0344,2,  35.0350,2,    208.9,1, 22.5613,   -999.0,9,  -999.00,9,  -999.00,9,  -999.00,9,  -999.0,-999.000
     33KI151_1,  PRS2,     2, 12,      5,     38,2,20030822,0020, 22.8335,-157.9898, 4679,    150,    149.9,  21.3844,  35.0827,2,  35.0585,3,    197.7,1, 21.3553,   -999.0,9,  -999.00,9,  -999.00,9,  -999.00,9,  -999.0,-999.000
     33KI151_1,  PRS2,     2, 12,      4,     36,2,20030822,0020, 22.8335,-157.9898, 4679,    251,    251.0,  15.9937,  34.5772,2,  34.5977,3,    170.8,1, 15.9540,   -999.0,9,  -999.00,9,  -999.00,9,  -999.00,9,  -999.0,-999.000
     33KI151_1,  PRS2,     2, 12,      3,     35,2,20030822,0020, 22.8335,-157.9898, 4679,    350,    349.4,  11.2732,  34.1691,2,  34.1919,4,    194.0,1, 11.2296,   -999.0,9,  -999.00,9,  -999.00,9,  -999.00,9,  -999.0,-999.000
     33KI151_1,  PRS2,     2, 12,      2,     34,2,20030822,0020, 22.8335,-157.9898, 4679,    534,    533.9,   6.8151,  34.0584,2,  34.0627,2,     98.9,1,  6.7654,   -999.0,9,  -999.00,9,  -999.00,9,  -999.00,9,  -999.0,-999.000
     33KI151_1,  PRS2,     2, 12,      1,     33,2,20030822,0020, 22.8335,-157.9898, 4679,   1021,   1020.4,   4.1016,  34.4891,2,  34.4919,2,     38.8,1,  4.0235,   -999.0,9,  -999.00,9,  -999.00,9,  -999.00,9,  -999.0,-999.000
     33KI151_1,  PRS2,     2, 13,      7,     28,2,20030822,0255, 22.8348,-157.9815, 4727,      5,      5.1,  26.2659,  34.7954,2,  34.7956,2,    205.4,1, 26.2647,   -999.0,9,  -999.00,9,  -999.00,9,  -999.00,9,  -999.0,-999.000
     33KI151_1,  PRS2,     2, 13,      6,      7,2,20030822,0255, 22.8348,-157.9815, 4727,     19,     19.5,  26.2692,  34.7959,2,  34.7964,2,    205.5,1, 26.2648,   -999.0,9,  -999.00,9,  -999.00,9,  -999.00,9,  -999.0,-999.000
     33KI151_1,  PRS2,     2, 13,      5,     38,2,20030822,0255, 22.8348,-157.9815, 4727,     62,     61.6,  24.8096,  34.8556,2,  34.8574,2,    216.9,1, 24.7963,   -999.0,9,  -999.00,9,  -999.00,9,  -999.00,9,  -999.0,-999.000
     33KI151_1,  PRS2,     2, 13,      4,     36,2,20030822,0255, 22.8348,-157.9815, 4727,    180,    179.6,  20.4399,  35.1988,2,  35.1941,2,    195.4,1, 20.4062,   -999.0,9,  -999.00,9,  -999.00,9,  -999.00,9,  -999.0,-999.000
     33KI151_1,  PRS2,     2, 13,      3,     35,2,20030822,0255, 22.8348,-157.9815, 4727,    300,    299.0,  12.7699,  34.2558,2,  34.2883,4,    171.0,1, 12.7294,   -999.0,9,  -999.00,9,  -999.00,9,  -999.00,9,  -999.0,-999.000
     33KI151_1,  PRS2,     2, 13,      2,     34,2,20030822,0255, 22.8348,-157.9815, 4727,    521,    521.1,   6.6486,  34.0504,2,  34.0521,2,    100.9,1,  6.6008,   -999.0,9,  -999.00,9,  -999.00,9,  -999.00,9,  -999.0,-999.000
     33KI151_1,  PRS2,     2, 13,      1,     33,2,20030822,0255, 22.8348,-157.9815, 4727,   1021,   1021.0,   4.1442,  34.4815,2,  34.4860,2,     37.8,1,  4.0657,   -999.0,9,  -999.00,9,  -999.00,9,  -999.00,9,  -999.0,-999.000