BOTTLE,20090923WHPSIOMYS
EXPOCODE,SECT_ID,STNNBR,CASTNO,SAMPNO,BTLNBR,BTLNBR_FLAG_W,DATE,TIME,LATITUDE,LONGITUDE,DEPTH,CTDRAW,CTDPRS,CTDTMP,CTDSAL,CTDSAL_FLAG_W,SALNTY,SALNTY_FLAG_W,CTDOXY,CTDOXY_FLAG_W,THETA,OXYGEN,OXYGEN_FLAG_W,SILCAT,SILCAT_FLAG_W,NO2+NO3,NO2+NO3_FLAG_W,PHSPHT,PHSPHT_FLAG_W,REVPRS,REVTMP
,,,,,,,,,,,,,DBAR,ITS-90,PSS-78,,PSS-78,,UMOL/KG,,ITS-90,UMOL/KG,,UMOL/KG,,UMOL/KG,,UMOL/KG,,DBAR,DEG C
     33KI151_1,  PRS2,     2,  3,     16,     16,2,20030820,2100, 22.7633,-157.9998, 4723,      6,      5.2,  26.3989,  34.9730,2,  34.9726,2,    205.9,1, 26.3978,   -999.0,9,  -999.00,9,  -999.00,9,  -999.00,9,  -999.0,-999.000
     33KI151_1,  PRS2,     2,  3,     15,     23,2,20030820,2100, 22.7633,-157.9998, 4723,     10,      9.3,  26.3935,  34.9729,2,  34.9746,2,    205.9,1, 26.3914,   -999.0,9,  -999.00,9,  -999.00,9,  -999.00,9,  -999.0,-999.000
     33KI151_1,  PRS2,     2,  3,     14,    101,2,20030820,2100, 22.7633,-157.9998, 4723,     20,     19.4,  26.3774,  34.9716,2,  34.9711,2,    205.9,1, 26.3730,   -999.0,9,  -999.00,9,  -999.00,9,  -999.00,9,  -999.0,-999.000
     33KI151_1,  PRS2,     2,  3,     13,     13,3,20030820,2100, 22.7633,-157.9998, 4723,     25,     24.8,  26.3788,  34.9718,2,  34.9709,2,    205.8,1, 26.3732,   -999.0,9,  -999.00,9,  -999.00,9,  -999.00,9,  -999.0,-999.000
     33KI151_1,  PRS2,     2,  3,     12,     12,2,20030820,2100, 22.7633,-157.9998, 4723,     45,     44.3,  26.1109,  34.9381,2,  34.9388,2,    207.7,1, 26.1010,   -999.0,9,  -999.00,9,  -999.00,9,  -999.00,9,  -999.0,-999.000
     33KI151_1,  PRS2,     2,  3,     11,     39,2,20030820,2100, 22.7633,-157.9998, 4723,     60,     60.0,  25.7026,  35.0215,2,  35.0104,2,    210.3,1, 25.6893,   -999.0,9,  -999.00,9,  -999.00,9,  -999.00,9,  -999.0,-999.000
     33KI151_1,  PRS2,     2,  3,     10,     32,3,20030820,2100, 22.7633,-157.9998, 4723,     75,     74.0,  24.6842,  34.9988,2,  34.9980,2,    220.8,1, 24.6683,   -999.0,9,  -999.00,9,  -999.00,9,  -999.00,9,  -999.0,-999.000
     33KI151_1,  PRS2,     2,  3,      9,      3,2,20030820,2100, 22.7633,-157.9998, 4723,     86,     85.4,  24.2101,  35.0439,2,  35.0431,2,    218.9,1, 24.1921,   -999.0,9,  -999.00,9,  -999.00,9,  -999.00,9,  -999.0,-999.000
     33KI151_1,  PRS2,     2,  3,      8,     29,2,20030820,2100, 22.7633,-157.9998, 4723,    100,     99.3,  23.5058,  35.0480,2,  35.0466,2,    215.3,1, 23.4852,   -999.0,9,  -999.00,9,  -999.00,9,  -999.00,9,  -999.0,-999.000
     33KI151_1,  PRS2,     2,  3,      7,     28,2,20030820,2100, 22.7633,-157.9998, 4723,    115,    115.8,  22.6477,  35.0477,2,  35.0494,2,    210.6,1, 22.6244,   -999.0,9,  -999.00,9,  -999.00,9,  -999.00,9,  -999.0,-999.000
     33KI151_1,  PRS2,     2,  3,      6,      7,2,20030820,2100, 22.7633,-157.9998, 4723,    125,    124.3,  22.3577,  35.1445,2,  35.1343,2,    208.1,1, 22.3328,   -999.0,9,  -999.00,9,  -999.00,9,  -999.00,9,  -999.0,-999.000
     33KI151_1,  PRS2,     2,  3,      5,     38,2,20030820,2100, 22.7633,-157.9998, 4723,    150,    149.9,  21.2364,  35.0931,2,  35.1110,4,    197.7,1, 21.2075,   -999.0,9,  -999.00,9,  -999.00,9,  -999.00,9,  -999.0,-999.000
     33KI151_1,  PRS2,     2,  3,      4,     36,2,20030820,2100, 22.7633,-157.9998, 4723,    176,    175.6,  20.2498,  35.1097,2,  35.1061,2,    194.7,1, 20.2170,   -999.0,9,  -999.00,9,  -999.00,9,  -999.00,9,  -999.0,-999.000
     33KI151_1,  PRS2,     2,  3,      3,     35,2,20030820,2100, 22.7633,-157.9998, 4723,    200,    200.0,  19.7604,  35.1482,2,  35.1471,2,    205.5,1, 19.7236,   -999.0,9,  -999.00,9,  -999.00,9,  -999.00,9,  -999.0,-999.000
     33KI151_1,  PRS2,     2,  3,      2,     34,2,20030820,2100, 22.7633,-157.9998, 4723,    525,    525.0,   6.7231,  34.0540,2,  34.0535,2,     98.0,1,  6.6747,   -999.0,9,  -999.00,9,  -999.00,9,  -999.00,9,  -999.0,-999.000
     33KI151_1,  PRS2,     2,  3,      1,     33,2,20030820,2100, 22.7633,-157.9998, 4723,   1024,   1022.7,   4.0895,  34.4912,2,  34.4903,2,     39.4,1,  4.0113,   -999.0,9,  -999.00,9,  -999.00,9,  -999.00,9,  -999.0,-999.000
     33KI151_1,  PRS2,     2,  4,     16,     16,2,20030820,2358, 22.7522,-157.9918, 4719,      6,      5.3,  26.1854,  34.8220,2,  34.8290,2,    207.0,1, 26.1842,   -999.0,9,  -999.00,9,  -999.00,9,  -999.00,9,  -999.0,-999.000
     33KI151_1,  PRS2,     2,  4,     15,     23,3,20030820,2358, 22.7522,-157.9918, 4719,     26,     25.8,  26.1681,  34.8321,2,  34.8263,2,    206.9,1, 26.1624,   -999.0,9,  -999.00,9,  -999.00,9,  -999.00,9,  -999.0,-999.000
     33KI151_1,  PRS2,     2,  4,     14,    101,3,20030820,2358, 22.7522,-157.9918, 4719,     39,     40.2,  26.1645,  34.8891,2,  34.8884,2,    207.0,1, 26.1555,   -999.0,9,  -999.00,9,  -999.00,9,  -999.00,9,  -999.0,-999.000
     33KI151_1,  PRS2,     2,  4,     13,     13,2,20030820,2358, 22.7522,-157.9918, 4719,     44,     43.4,  26.2002,  34.9134,2,  34.9105,2,    207.0,1, 26.1905,   -999.0,9,  -999.00,9,  -999.00,9,  -999.00,9,  -999.0,-999.000
     33KI151_1,  PRS2,     2,  4,     12,     12,4,20030820,2358, 22.7522,-157.9918, 4719,     57,     56.5,  26.1031,  34.9813,2,-999.0000,5,    207.6,1, 26.0905,   -999.0,9,  -999.00,9,  -999.00,9,  -999.00,9,  -999.0,-999.000
     33KI151_1,  PRS2,     2,  4,     11,     39,3,20030820,2358, 22.7522,-157.9918, 4719,     74,     73.4,  25.6974,  35.0251,2,  35.0071,4,    209.9,1, 25.6812,   -999.0,9,  -999.00,9,  -999.00,9,  -999.00,9,  -999.0,-999.000
     33KI151_1,  PRS2,     2,  4,     10,     32,2,20030820,2358, 22.7522,-157.9918, 4719,    100,     99.8,  23.9307,  35.0415,2,  35.0596,3,    217.7,1, 23.9097,   -999.0,9,  -999.00,9,  -999.00,9,  -999.00,9,  -999.0,-999.000
     33KI151_1,  PRS2,     2,  4,      9,      3,2,20030820,2358, 22.7522,-157.9918, 4719,    127,    126.8,  22.3071,  35.1034,2,  35.0827,3,    207.3,1, 22.2818,   -999.0,9,  -999.00,9,  -999.00,9,  -999.00,9,  -999.0,-999.000
     33KI151_1,  PRS2,     2,  4,      8,     29,2,20030820,2358, 22.7522,-157.9918, 4719,    151,    150.8,  21.3693,  35.1928,2,  35.2006,2,    198.8,1, 21.3400,   -999.0,9,  -999.00,9,  -999.00,9,  -999.00,9,  -999.0,-999.000
     33KI151_1,  PRS2,     2,  4,      7,     28,2,20030820,2358, 22.7522,-157.9918, 4719,    174,    173.1,  20.2165,  35.1203,2,  35.1254,2,    192.1,1, 20.1842,   -999.0,9,  -999.00,9,  -999.00,9,  -999.00,9,  -999.0,-999.000
     33KI151_1,  PRS2,     2,  4,      6,      7,2,20030820,2358, 22.7522,-157.9918, 4719,    199,    199.3,  19.4560,  35.1035,2,  35.0980,2,    204.3,1, 19.4198,   -999.0,9,  -999.00,9,  -999.00,9,  -999.00,9,  -999.0,-999.000
     33KI151_1,  PRS2,     2,  4,      5,     38,2,20030820,2358, 22.7522,-157.9918, 4719,    250,    249.7,  16.2157,  34.6077,2,  34.6109,2,    174.9,1, 16.1759,   -999.0,9,  -999.00,9,  -999.00,9,  -999.00,9,  -999.0,-999.000
     33KI151_1,  PRS2,     2,  4,      3,     35,2,20030820,2358, 22.7522,-157.9918, 4719,    350,    349.3,  11.1323,  34.1620,2,  34.1615,2,    193.5,1, 11.0891,   -999.0,9,  -999.00,9,  -999.00,9,  -999.00,9,  -999.0,-999.000
     33KI151_1,  PRS2,     2,  4,      4,     36,2,20030820,2358, 22.7522,-157.9918, 4719,    349,    349.5,  11.1291,  34.1621,2,  34.1617,2,    193.1,1, 11.0858,   -999.0,9,  -999.00,9,  -999.00,9,  -999.00,9,  -999.0,-999.000
     33KI151_1,  PRS2,     2,  4,      2,     34,2,20030820,2358, 22.7522,-157.9918, 4719,    553,    551.8,   6.2269,  34.0665,2,  34.0642,2,     79.8,1,  6.1779,   -999.0,9,  -999.00,9,  -999.00,9,  -999.00,9,  -999.0,-999.000
     33KI151_1,  PRS2,     2,  4,      1,     33,2,20030820,2358, 22.7522,-157.9918, 4719,   1018,   1018.0,   4.1178,  34.4863,2,  34.4848,2,     38.7,1,  4.0398,   -999.0,9,  -999.00,9,  -999.00,9,  -999.00,9,  -999.0,-999.000
     33KI151_1,  PRS2,     2,  5,     17,     17,3,20030821,0255, 22.7483,-157.9995, 4722,      5,      4.9,  26.1874,  34.7911,2,  34.7897,2,    206.5,1, 26.1863,   -999.0,9,  -999.00,9,  -999.00,9,  -999.00,9,  -999.0,-999.000
     33KI151_1,  PRS2,     2,  5,     16,     16,3,20030821,0255, 22.7483,-157.9995, 4722,     24,     24.4,  26.1142,  34.8156,2,  34.8117,2,    207.4,1, 26.1088,   -999.0,9,  -999.00,9,  -999.00,9,  -999.00,9,  -999.0,-999.000
     33KI151_1,  PRS2,     2,  5,     15,     23,3,20030821,0255, 22.7483,-157.9995, 4722,     45,     44.4,  26.2027,  34.9266,2,  34.9288,2,    207.0,1, 26.1928,   -999.0,9,  -999.00,9,  -999.00,9,  -999.00,9,  -999.0,-999.000
     33KI151_1,  PRS2,     2,  5,     14,    101,2,20030821,0255, 22.7483,-157.9995, 4722,     74,     74.2,  24.9286,  35.0170,2,  35.0285,3,    216.1,1, 24.9125,   -999.0,9,  -999.00,9,  -999.00,9,  -999.00,9,  -999.0,-999.000
     33KI151_1,  PRS2,     2,  5,     13,     13,2,20030821,0255, 22.7483,-157.9995, 4722,     79,     79.5,  24.5206,  35.0118,2,  35.0173,2,    219.1,1, 24.5036,   -999.0,9,  -999.00,9,  -999.00,9,  -999.00,9,  -999.0,-999.000
     33KI151_1,  PRS2,     2,  5,     12,     12,2,20030821,0255, 22.7483,-157.9995, 4722,     89,     89.7,  23.8741,  35.0612,2,  35.0653,2,    216.9,1, 23.8553,   -999.0,9,  -999.00,9,  -999.00,9,  -999.00,9,  -999.0,-999.000
     33KI151_1,  PRS2,     2,  5,     11,     39,3,20030821,0255, 22.7483,-157.9995, 4722,    100,    100.1,  23.6684,  35.0616,2,  35.0604,2,    216.1,1, 23.6476,   -999.0,9,  -999.00,9,  -999.00,9,  -999.00,9,  -999.0,-999.000
     33KI151_1,  PRS2,     2,  5,     10,     32,2,20030821,0255, 22.7483,-157.9995, 4722,    101,    100.2,  23.6714,  35.0612,2,  35.0594,2,    216.0,1, 23.6505,   -999.0,9,  -999.00,9,  -999.00,9,  -999.00,9,  -999.0,-999.000
     33KI151_1,  PRS2,     2,  5,      9,      3,2,20030821,0255, 22.7483,-157.9995, 4722,    125,    124.3,  22.4620,  35.0819,2,  35.0842,2,    209.2,1, 22.4371,   -999.0,9,  -999.00,9,  -999.00,9,  -999.00,9,  -999.0,-999.000
     33KI151_1,  PRS2,     2,  5,      8,     29,2,20030821,0255, 22.7483,-157.9995, 4722,    150,    149.6,  21.4289,  35.1008,2,  35.1010,2,    198.3,1, 21.3998,   -999.0,9,  -999.00,9,  -999.00,9,  -999.00,9,  -999.0,-999.000
     33KI151_1,  PRS2,     2,  5,      7,     28,2,20030821,0255, 22.7483,-157.9995, 4722,    176,    175.0,  20.4136,  35.1092,2,  35.0902,3,    192.8,1, 20.3807,   -999.0,9,  -999.00,9,  -999.00,9,  -999.00,9,  -999.0,-999.000
     33KI151_1,  PRS2,     2,  5,      6,      7,3,20030821,0255, 22.7483,-157.9995, 4722,    201,    200.2,  19.7590,  35.1360,2,  35.1303,2,    201.3,1, 19.7222,   -999.0,9,  -999.00,9,  -999.00,9,  -999.00,9,  -999.0,-999.000
     33KI151_1,  PRS2,     2,  5,      5,     38,2,20030821,0255, 22.7483,-157.9995, 4722,    251,    250.0,  15.9609,  34.5760,2,  34.5763,2,    173.9,1, 15.9215,   -999.0,9,  -999.00,9,  -999.00,9,  -999.00,9,  -999.0,-999.000
     33KI151_1,  PRS2,     2,  5,      4,     36,2,20030821,0255, 22.7483,-157.9995, 4722,    349,    349.3,  10.7152,  34.1631,2,  34.1642,2,    190.5,1, 10.6729,   -999.0,9,  -999.00,9,  -999.00,9,  -999.00,9,  -999.0,-999.000
     33KI151_1,  PRS2,     2,  5,      3,     35,2,20030821,0255, 22.7483,-157.9995, 4722,    350,    349.4,  10.7126,  34.1634,2,  34.1636,2,    189.2,1, 10.6703,   -999.0,9,  -999.00,9,  -999.00,9,  -999.00,9,  -999.0,-999.000
     33KI151_1,  PRS2,     2,  5,      2,     34,2,20030821,0255, 22.7483,-157.9995, 4722,    500,    500.1,   7.1045,  34.0819,2,  34.0803,2,    101.0,1,  7.0570,   -999.0,9,  -999.00,9,  -999.00,9,  -999.00,9,  -999.0,-999.000
     33KI151_1,  PRS2,     2,  5,      1,     33,2,20030821,0255, 22.7483,-157.9995, 4722,   1023,   1023.2,   4.0863,  34.4894,2,  34.4883,2,     39.3,1,  4.0081,   -999.0,9,  -999.00,9,  -999.00,9,  -999.00,9,  -999.0,-999.000
     33KI151_1,  PRS2,     2,  6,     17,     17,3,20030821,0559, 22.7532,-157.9945, 4716,      5,      4.5,  26.1955,  34.8027,2,  34.8011,2,    207.2,1, 26.1945,   -999.0,9,  -999.00,9,  -999.00,9,  -999.00,9,  -999.0,-999.000
     33KI151_1,  PRS2,     2,  6,     16,     16,2,20030821,0559, 22.7532,-157.9945, 4716,     15,     14.4,  26.1837,  34.8050,2,  34.8041,2,    207.2,1, 26.1805,   -999.0,9,  -999.00,9,  -999.00,9,  -999.00,9,  -999.0,-999.000
     33KI151_1,  PRS2,     2,  6,     15,     23,2,20030821,0559, 22.7532,-157.9945, 4716,     25,     25.0,  26.1564,  34.8089,2,  34.8076,2,    207.2,1, 26.1509,   -999.0,9,  -999.00,9,  -999.00,9,  -999.00,9,  -999.0,-999.000
     33KI151_1,  PRS2,     2,  6,     14,    101,2,20030821,0559, 22.7532,-157.9945, 4716,     35,     34.7,  26.1096,  34.8511,2,  34.8487,2,    207.2,1, 26.1019,   -999.0,9,  -999.00,9,  -999.00,9,  -999.00,9,  -999.0,-999.000
     33KI151_1,  PRS2,     2,  6,     13,     13,2,20030821,0559, 22.7532,-157.9945, 4716,     35,     34.8,  26.1097,  34.8504,2,  34.8497,2,    207.3,1, 26.1019,   -999.0,9,  -999.00,9,  -999.00,9,  -999.00,9,  -999.0,-999.000
     33KI151_1,  PRS2,     2,  6,     12,     12,2,20030821,0559, 22.7532,-157.9945, 4716,     45,     44.7,  26.1484,  34.8948,2,  34.9058,3,    207.5,1, 26.1384,   -999.0,9,  -999.00,9,  -999.00,9,  -999.00,9,  -999.0,-999.000
     33KI151_1,  PRS2,     2,  6,     11,     39,2,20030821,0559, 22.7532,-157.9945, 4716,     60,     59.0,  25.2725,  34.9596,2,  34.9689,2,    217.0,1, 25.2596,   -999.0,9,  -999.00,9,  -999.00,9,  -999.00,9,  -999.0,-999.000
     33KI151_1,  PRS2,     2,  6,     10,     32,2,20030821,0559, 22.7532,-157.9945, 4716,     75,     74.6,  24.4740,  34.9644,2,  34.9667,2,    220.0,1, 24.4581,   -999.0,9,  -999.00,9,  -999.00,9,  -999.00,9,  -999.0,-999.000
     33KI151_1,  PRS2,     2,  6,      9,      3,2,20030821,0559, 22.7532,-157.9945, 4716,     99,     99.3,  23.7157,  35.0512,2,  35.0541,2,    215.6,1, 23.6950,   -999.0,9,  -999.00,9,  -999.00,9,  -999.00,9,  -999.0,-999.000
     33KI151_1,  PRS2,     2,  6,      8,     29,2,20030821,0559, 22.7532,-157.9945, 4716,    119,    118.9,  22.5905,  35.0500,2,  35.0522,2,    210.0,1, 22.5665,   -999.0,9,  -999.00,9,  -999.00,9,  -999.00,9,  -999.0,-999.000
     33KI151_1,  PRS2,     2,  6,      7,     28,2,20030821,0559, 22.7532,-157.9945, 4716,    124,    124.3,  22.4804,  35.0704,2,  35.0837,2,    209.5,1, 22.4554,   -999.0,9,  -999.00,9,  -999.00,9,  -999.00,9,  -999.0,-999.000
     33KI151_1,  PRS2,     2,  6,      6,      7,2,20030821,0559, 22.7532,-157.9945, 4716,    140,    139.9,  22.1601,  35.1791,2,  35.1681,2,    205.2,1, 22.1322,   -999.0,9,  -999.00,9,  -999.00,9,  -999.00,9,  -999.0,-999.000
     33KI151_1,  PRS2,     2,  6,      5,     38,2,20030821,0559, 22.7532,-157.9945, 4716,    149,    148.4,  21.5764,  35.0901,2,  35.0884,2,    199.7,1, 21.5474,   -999.0,9,  -999.00,9,  -999.00,9,  -999.00,9,  -999.0,-999.000
     33KI151_1,  PRS2,     2,  6,      4,     36,2,20030821,0559, 22.7532,-157.9945, 4716,    175,    175.4,  20.6857,  35.1378,2,  35.0998,3,    194.7,1, 20.6524,   -999.0,9,  -999.00,9,  -999.00,9,  -999.00,9,  -999.0,-999.000
     33KI151_1,  PRS2,     2,  6,      3,     35,2,20030821,0559, 22.7532,-157.9945, 4716,    204,    203.7,  19.8842,  35.1405,2,  35.1437,2,    197.6,1, 19.8467,   -999.0,9,  -999.00,9,  -999.00,9,  -999.00,9,  -999.0,-999.000
     33KI151_1,  PRS2,     2,  6,      2,     34,2,20030821,0559, 22.7532,-157.9945, 4716,    500,    500.4,   7.0245,  34.0592,2,  34.0595,2,    107.9,1,  6.9773,   -999.0,9,  -999.00,9,  -999.00,9,  -999.00,9,  -999.0,-999.000
     33KI151_1,  PRS2,     2,  6,      1,     33,2,20030821,0559, 22.7532,-157.9945, 4716,   1021,   1020.9,   4.1042,  34.4886,2,  34.4879,2,     39.1,1,  4.0260,   -999.0,9,  -999.00,9,  -999.00,9,  -999.00,9,  -999.0,-999.000