BOTTLE,20090923WHPSIOMYS
#code : jjward hyd_to_exchange.pl 
#original files copied from HTML directory: 20090923
#original HYD file: 33KI151_1_hy.txt   Wed Sep 23 17:54:49 2009
#original SUM file: ../33KI151_1su.txt   Wed Sep 23 17:54:48 2009
EXPOCODE,SECT_ID,STNNBR,CASTNO,SAMPNO,BTLNBR,BTLNBR_FLAG_W,DATE,TIME,LATITUDE,LONGITUDE,DEPTH,CTDRAW,CTDPRS,CTDTMP,CTDSAL,CTDSAL_FLAG_W,SALNTY,SALNTY_FLAG_W,CTDOXY,CTDOXY_FLAG_W,THETA,OXYGEN,OXYGEN_FLAG_W,SILCAT,SILCAT_FLAG_W,NO2+NO3,NO2+NO3_FLAG_W,PHSPHT,PHSPHT_FLAG_W,REVPRS,REVTMP
,,,,,,,,,,,,,DBAR,ITS-90,PSS-78,,PSS-78,,UMOL/KG,,ITS-90,UMOL/KG,,UMOL/KG,,UMOL/KG,,UMOL/KG,,DBAR,DEG C
     33KI151_1,  PRS2,     1,  1,     23,     30,4,20030819,2355, 21.3400,-158.2702, 1482,      5,      4.6,  27.0680,  34.9142,2,-999.0000,5,    203.7,2, 27.0670,    203.3,2,  -999.00,9,  -999.00,9,  -999.00,9,  -999.0,-999.000
     33KI151_1,  PRS2,     1,  1,     24,     31,4,20030819,2355, 21.3400,-158.2702, 1482,      5,      4.7,  27.0579,  34.9138,2,-999.0000,5,    203.6,2, 27.0568,    203.6,2,  -999.00,9,  -999.00,9,  -999.00,9,  -999.0,-999.000
     33KI151_1,  PRS2,     1,  1,     22,     22,2,20030819,2355, 21.3400,-158.2702, 1482,     25,     25.4,  26.9151,  34.9114,2,  34.9128,2,    203.8,2, 26.9093,    203.6,2,  -999.00,9,  -999.00,9,  -999.00,9,  -999.0,-999.000
     33KI151_1,  PRS2,     1,  1,     21,     21,2,20030819,2355, 21.3400,-158.2702, 1482,     45,     45.0,  26.8133,  34.9017,2,  34.9024,2,    204.1,2, 26.8031,    204.1,2,  -999.00,9,  -999.00,9,  -999.00,9,  -999.0,-999.000
     33KI151_1,  PRS2,     1,  1,     20,     20,2,20030819,2355, 21.3400,-158.2702, 1482,     60,     59.7,  26.7578,  34.9063,2,  34.9056,2,    205.1,2, 26.7442,    204.5,2,  -999.00,9,  -999.00,9,  -999.00,9,  -999.0,-999.000
     33KI151_1,  PRS2,     1,  1,     19,     19,2,20030819,2355, 21.3400,-158.2702, 1482,     79,     78.6,  26.2806,  34.9659,2,  34.9640,2,    207.0,2, 26.2629,    206.0,2,  -999.00,9,  -999.00,9,  -999.00,9,  -999.0,-999.000
     33KI151_1,  PRS2,     1,  1,     18,     18,2,20030819,2355, 21.3400,-158.2702, 1482,     99,     98.2,  24.7043,  35.1734,2,  35.1703,2,    212.3,2, 24.6832,    212.1,2,  -999.00,9,  -999.00,9,  -999.00,9,  -999.0,-999.000
     33KI151_1,  PRS2,     1,  1,     17,     17,3,20030819,2355, 21.3400,-158.2702, 1482,    114,    114.2,  23.8254,  35.2012,2,  35.1959,2,    208.4,2, 23.8015,    209.0,2,  -999.00,9,  -999.00,9,  -999.00,9,  -999.0,-999.000
     33KI151_1,  PRS2,     1,  1,     16,     16,2,20030819,2355, 21.3400,-158.2702, 1482,    124,    123.6,  23.3074,  35.2209,2,  35.2217,2,    207.8,2, 23.2819,    208.4,2,  -999.00,9,  -999.00,9,  -999.00,9,  -999.0,-999.000
     33KI151_1,  PRS2,     1,  1,     15,     23,2,20030819,2355, 21.3400,-158.2702, 1482,    149,    149.3,  21.7787,  35.2357,2,  35.2390,2,    198.6,2, 21.7493,    199.7,2,  -999.00,9,  -999.00,9,  -999.00,9,  -999.0,-999.000
     33KI151_1,  PRS2,     1,  1,     14,    101,2,20030819,2355, 21.3400,-158.2702, 1482,    174,    174.3,  19.9089,  35.1298,2,  35.1222,2,    194.7,2, 19.8768,    195.4,2,  -999.00,9,  -999.00,9,  -999.00,9,  -999.0,-999.000
     33KI151_1,  PRS2,     1,  1,     13,     13,2,20030819,2355, 21.3400,-158.2702, 1482,    201,    200.9,  18.5482,  34.9559,2,  34.9723,2,    194.6,2, 18.5130,    195.0,2,  -999.00,9,  -999.00,9,  -999.00,9,  -999.0,-999.000
     33KI151_1,  PRS2,     1,  1,     12,     12,2,20030819,2355, 21.3400,-158.2702, 1482,    224,    224.1,  16.7713,  34.7117,2,  34.7113,2,    183.5,2, 16.7347,    185.9,2,  -999.00,9,  -999.00,9,  -999.00,9,  -999.0,-999.000
     33KI151_1,  PRS2,     1,  1,     11,     39,2,20030819,2355, 21.3400,-158.2702, 1482,    249,    248.9,  15.2549,  34.5349,2,  34.5327,2,    185.8,2, 15.2169,    186.3,2,  -999.00,9,  -999.00,9,  -999.00,9,  -999.0,-999.000
     33KI151_1,  PRS2,     1,  1,     10,     32,2,20030819,2355, 21.3400,-158.2702, 1482,    299,    298.8,  12.9474,  34.3192,2,  34.3201,2,    185.3,2, 12.9065,    183.6,2,  -999.00,9,  -999.00,9,  -999.00,9,  -999.0,-999.000
     33KI151_1,  PRS2,     1,  1,      9,      3,2,20030819,2355, 21.3400,-158.2702, 1482,    349,    349.2,  10.3661,  34.1664,2,  34.1660,2,    174.7,2, 10.3248,    176.8,2,  -999.00,9,  -999.00,9,  -999.00,9,  -999.0,-999.000
     33KI151_1,  PRS2,     1,  1,      8,     29,2,20030819,2355, 21.3400,-158.2702, 1482,    400,    400.3,   9.2034,  34.1476,2,  34.1481,2,    150.0,2,  9.1593,    148.7,2,  -999.00,9,  -999.00,9,  -999.00,9,  -999.0,-999.000
     33KI151_1,  PRS2,     1,  1,      7,     28,2,20030819,2355, 21.3400,-158.2702, 1482,    501,    500.6,   6.9259,  34.0741,2,  34.0752,2,    105.2,2,  6.8789,    103.3,2,  -999.00,9,  -999.00,9,  -999.00,9,  -999.0,-999.000
     33KI151_1,  PRS2,     1,  1,      6,      7,2,20030819,2355, 21.3400,-158.2702, 1482,    601,    600.1,   5.6200,  34.2018,2,  34.2073,2,     47.2,2,  5.5692,     44.1,2,  -999.00,9,  -999.00,9,  -999.00,9,  -999.0,-999.000
     33KI151_1,  PRS2,     1,  1,      5,     38,2,20030819,2355, 21.3400,-158.2702, 1482,    700,    700.2,   5.1777,  34.2998,2,  34.2993,2,     34.4,2,  5.1202,     34.3,2,  -999.00,9,  -999.00,9,  -999.00,9,  -999.0,-999.000
     33KI151_1,  PRS2,     1,  1,      4,     36,2,20030819,2355, 21.3400,-158.2702, 1482,    751,    750.6,   4.9125,  34.3904,2,  34.3882,2,     34.7,2,  4.8520,     34.9,2,  -999.00,9,  -999.00,9,  -999.00,9,  -999.0,-999.000
     33KI151_1,  PRS2,     1,  1,      3,     35,2,20030819,2355, 21.3400,-158.2702, 1482,    800,    799.3,   4.7990,  34.4317,2,  34.4322,2,     37.9,2,  4.7349,     38.4,2,  -999.00,9,  -999.00,9,  -999.00,9,  -999.0,-999.000
     33KI151_1,  PRS2,     1,  1,      2,     34,2,20030819,2355, 21.3400,-158.2702, 1482,    900,    899.6,   4.4518,  34.4724,2,  34.4722,2,     41.8,2,  4.3813,     41.9,2,  -999.00,9,  -999.00,9,  -999.00,9,  -999.0,-999.000
     33KI151_1,  PRS2,     1,  1,      1,     33,2,20030819,2355, 21.3400,-158.2702, 1482,   1022,   1021.8,   4.0676,  34.5060,2,  34.5164,4,     46.8,3,  3.9896,     47.2,2,  -999.00,9,  -999.00,9,  -999.00,9,  -999.0,-999.000
     33KI151_1,  PRS2,     2,  1,     24,     31,2,20030820,1245, 22.7505,-157.9998, 4721,      5,      4.8,  26.0412,  34.8876,2,  34.8867,2,    207.3,2, 26.0402,    206.9,2,     1.16,2,     0.28,3,     0.02,2,  -999.0,-999.000
     33KI151_1,  PRS2,     2,  1,     23,     30,2,20030820,1245, 22.7505,-157.9998, 4721,    500,    499.9,   6.7631,  34.0503,2,  34.0517,2,    103.6,2,  6.7168,    102.6,2,    50.61,2,    31.30,2,     2.30,2,  -999.0,-999.000
     33KI151_1,  PRS2,     2,  1,     22,     22,2,20030820,1245, 22.7505,-157.9998, 4721,    750,    749.8,   4.8334,  34.3171,2,  34.3170,2,     23.0,2,  4.7735,     26.7,3,    89.98,2,    41.32,2,     3.08,2,  -999.0,-999.000
     33KI151_1,  PRS2,     2,  1,     21,     21,2,20030820,1245, 22.7505,-157.9998, 4721,   1000,   1000.5,   4.1109,  34.4870,2,  34.4868,2,     38.6,2,  4.0343,     38.9,2,   103.70,2,    41.58,2,     3.06,2,  -999.0,-999.000
     33KI151_1,  PRS2,     2,  1,     20,     20,2,20030820,1245, 22.7505,-157.9998, 4721,   1201,   1200.6,   3.5976,  34.5291,2,  34.5268,2,     50.3,2,  3.5086,     50.4,2,   119.02,2,    41.31,2,     3.03,2,  -999.0,-999.000
     33KI151_1,  PRS2,     2,  1,     19,     19,2,20030820,1245, 22.7505,-157.9998, 4721,   1401,   1400.9,   3.2015,  34.5566,2,  34.5578,2,     57.3,2,  3.0997,     56.8,2,   127.21,2,    41.41,2,     3.00,2,  -999.0,-999.000
     33KI151_1,  PRS2,     2,  1,     18,     18,2,20030820,1245, 22.7505,-157.9998, 4721,   1600,   1600.4,   2.8122,  34.5793,2,  34.5791,2,     66.7,2,  2.6982,     66.8,2,   135.67,2,    40.75,2,     2.95,2,  -999.0,-999.000
     33KI151_1,  PRS2,     2,  1,     17,     17,2,20030820,1245, 22.7505,-157.9998, 4721,   1801,   1800.2,   2.4918,  34.5985,2,  34.5983,2,     76.7,2,  2.3651,     77.8,2,   141.77,2,    40.16,2,     2.90,2,  -999.0,-999.000
     33KI151_1,  PRS2,     2,  1,     16,     16,2,20030820,1245, 22.7505,-157.9998, 4721,   2000,   2000.1,   2.2320,  34.6154,2,  34.6154,2,     85.4,2,  2.0920,     85.9,2,   148.83,2,    39.75,2,     2.84,2,  -999.0,-999.000
     33KI151_1,  PRS2,     2,  1,     15,     23,2,20030820,1245, 22.7505,-157.9998, 4721,   2200,   2200.5,   2.0277,  34.6306,2,  34.6301,2,     96.1,2,  1.8737,     96.5,2,   150.55,2,    39.17,2,     2.68,4,  -999.0,-999.000
     33KI151_1,  PRS2,     2,  1,     14,    101,2,20030820,1245, 22.7505,-157.9998, 4721,   2401,   2401.0,   1.8525,  34.6435,2,  34.6437,2,    103.8,2,  1.6839,    104.3,2,   154.42,2,    38.52,2,     2.75,2,  -999.0,-999.000
     33KI151_1,  PRS2,     2,  1,     13,     13,2,20030820,1245, 22.7505,-157.9998, 4721,   2600,   2600.0,   1.7233,  34.6535,2,  34.6527,2,    110.5,2,  1.5391,    110.6,2,   156.85,2,    38.01,2,     2.72,2,  -999.0,-999.000
     33KI151_1,  PRS2,     2,  1,     12,     12,2,20030820,1245, 22.7505,-157.9998, 4721,   2800,   2800.7,   1.6457,  34.6616,2,  34.6612,2,    117.3,2,  1.4446,    117.6,2,   157.38,2,    37.74,2,     2.69,2,  -999.0,-999.000
     33KI151_1,  PRS2,     2,  1,     11,     39,2,20030820,1245, 22.7505,-157.9998, 4721,   2999,   2999.6,   1.5721,  34.6687,2,  34.6682,2,    123.8,2,  1.3538,    123.7,2,   157.49,2,    37.44,2,     2.62,2,  -999.0,-999.000
     33KI151_1,  PRS2,     2,  1,     10,     32,2,20030820,1245, 22.7505,-157.9998, 4721,   3199,   3199.0,   1.5278,  34.6739,2,  34.6724,2,    128.8,2,  1.2912,    128.5,2,   157.14,2,    36.99,2,     2.61,2,  -999.0,-999.000
     33KI151_1,  PRS2,     2,  1,      9,      3,2,20030820,1245, 22.7505,-157.9998, 4721,   3397,   3398.1,   1.4972,  34.6783,2,  34.6779,2,    134.3,2,  1.2415,    134.6,2,   155.93,2,    36.73,2,     2.58,2,  -999.0,-999.000
     33KI151_1,  PRS2,     2,  1,      8,     29,2,20030820,1245, 22.7505,-157.9998, 4721,   3600,   3600.2,   1.4769,  34.6820,2,  34.6810,2,    139.7,2,  1.2010,    139.5,2,   155.51,2,    36.30,2,     2.56,2,  -999.0,-999.000
     33KI151_1,  PRS2,     2,  1,      7,     28,2,20030820,1245, 22.7505,-157.9998, 4721,   3800,   3800.7,   1.4697,  34.6839,2,  34.6848,2,    143.1,2,  1.1730,    142.6,2,   153.24,2,    36.18,2,     2.55,2,  -999.0,-999.000
     33KI151_1,  PRS2,     2,  1,      6,      7,2,20030820,1245, 22.7505,-157.9998, 4721,   4001,   4000.5,   1.4664,  34.6863,2,  34.6855,2,    146.4,2,  1.1484,    146.7,2,   152.27,2,    36.05,2,     2.52,2,  -999.0,-999.000
     33KI151_1,  PRS2,     2,  1,      5,     38,2,20030820,1245, 22.7505,-157.9998, 4721,   4200,   4200.9,   1.4725,  34.6877,2,  34.6871,2,    148.8,2,  1.1323,    148.7,2,   151.72,2,    35.83,2,     2.51,2,  -999.0,-999.000
     33KI151_1,  PRS2,     2,  1,      4,     36,2,20030820,1245, 22.7505,-157.9998, 4721,   4399,   4399.6,   1.4811,  34.6891,2,  34.6887,2,    151.2,2,  1.1182,    151.3,2,   150.67,2,    35.65,2,     2.50,2,  -999.0,-999.000
     33KI151_1,  PRS2,     2,  1,      3,     35,2,20030820,1245, 22.7505,-157.9998, 4721,   4500,   4500.6,   1.4879,  34.6894,2,  34.6895,2,    151.8,2,  1.1132,    151.4,2,   150.19,2,    35.46,2,     2.49,2,  -999.0,-999.000
     33KI151_1,  PRS2,     2,  1,      2,     34,2,20030820,1245, 22.7505,-157.9998, 4721,   4600,   4600.7,   1.4963,  34.6896,2,  34.6899,2,    152.3,2,  1.1097,    152.3,2,   149.96,2,    35.45,2,     2.49,2,  -999.0,-999.000
     33KI151_1,  PRS2,     2,  1,      1,     33,2,20030820,1245, 22.7505,-157.9998, 4721,   4803,   4803.5,   1.5134,  34.6902,2,  34.6903,2,    153.4,2,  1.1024,    153.0,2,   148.86,2,    35.33,2,     2.49,2,  -999.0,-999.000
     33KI151_1,  PRS2,     2,  2,     24,     31,2,20030820,1757, 22.7518,-158.0010, 4728,      6,      5.3,  26.2983,  34.9753,2,  34.9740,2,    206.6,2, 26.2971,    204.3,2,     1.06,2,     0.22,3,     0.04,2,  -999.0,-999.000
     33KI151_1,  PRS2,     2,  2,     23,     30,2,20030820,1757, 22.7518,-158.0010, 4728,     43,     43.0,  26.1958,  34.9527,2,  34.9512,2,    206.5,2, 26.1862,    205.1,2,     1.11,2,     0.04,2,     0.04,2,  -999.0,-999.000
     33KI151_1,  PRS2,     2,  2,     22,     22,3,20030820,1757, 22.7518,-158.0010, 4728,     83,     82.6,  24.7617,  34.8475,2,  34.9052,3,    218.1,3, 24.7440,    217.9,2,     1.09,2,     0.07,2,     0.02,2,  -999.0,-999.000
     33KI151_1,  PRS2,     2,  2,     21,     21,2,20030820,1757, 22.7518,-158.0010, 4728,    110,    109.3,  23.4246,  35.0404,2,  35.0421,2,    214.0,2, 23.4020,    214.5,2,     1.18,2,     0.06,2,     0.05,2,  -999.0,-999.000
     33KI151_1,  PRS2,     2,  2,     20,     20,2,20030820,1757, 22.7518,-158.0010, 4728,    142,    142.1,  21.6964,  35.1090,2,  35.1096,2,    200.2,2, 21.6685,    201.4,2,     1.57,2,     0.42,2,     0.05,2,  -999.0,-999.000
     33KI151_1,  PRS2,     2,  2,     19,     19,2,20030820,1757, 22.7518,-158.0010, 4728,    200,    200.3,  19.8290,  35.1527,2,  35.1520,2,    202.7,2, 19.7922,    201.4,2,     0.86,3,     1.56,2,     0.17,2,  -999.0,-999.000
     33KI151_1,  PRS2,     2,  2,     18,     18,2,20030820,1757, 22.7518,-158.0010, 4728,    265,    266.0,  15.2192,  34.4920,2,  34.4907,2,    174.6,2, 15.1786,    174.0,2,     5.56,2,     8.36,3,     0.73,3,  -999.0,-999.000
     33KI151_1,  PRS2,     2,  2,     17,     17,2,20030820,1757, 22.7518,-158.0010, 4728,    304,    303.9,  13.3587,  34.3153,2,  34.3189,2,    189.6,2, 13.3163,    189.5,2,     7.85,2,     9.80,2,     0.77,2,  -999.0,-999.000
     33KI151_1,  PRS2,     2,  2,     16,     16,2,20030820,1757, 22.7518,-158.0010, 4728,    340,    340.4,  11.5042,  34.1761,2,  34.1991,4,    194.7,3, 11.4611,    193.7,2,    11.09,2,    12.67,2,     0.96,2,  -999.0,-999.000
     33KI151_1,  PRS2,     2,  2,     15,     23,2,20030820,1757, 22.7518,-158.0010, 4728,    359,    358.8,  10.3536,  34.1574,2,  34.1589,2,    162.8,2, 10.3112,    168.3,2,    18.21,2,    17.82,2,     1.38,2,  -999.0,-999.000
     33KI151_1,  PRS2,     2,  2,     14,    101,2,20030820,1757, 22.7518,-158.0010, 4728,    431,    430.5,   9.2069,  34.1359,2,  34.1360,2,    143.6,2,  9.1594,    145.1,2,    26.52,2,    22.79,2,     1.72,2,  -999.0,-999.000
     33KI151_1,  PRS2,     2,  2,     13,     13,2,20030820,1757, 22.7518,-158.0010, 4728,    494,    494.6,   7.8091,  34.1033,2,  34.1036,2,    114.1,2,  7.7595,    113.0,2,    39.19,2,    28.16,2,     2.11,2,  -999.0,-999.000
     33KI151_1,  PRS2,     2,  2,     12,     12,2,20030820,1757, 22.7518,-158.0010, 4728,    528,    527.9,   6.7244,  34.0533,2,  34.0527,2,    100.2,2,  6.6756,     99.2,2,    50.40,2,    31.66,2,     2.33,2,  -999.0,-999.000
     33KI151_1,  PRS2,     2,  2,     11,     39,2,20030820,1757, 22.7518,-158.0010, 4728,    571,    570.3,   5.9896,  34.0784,2,  34.0782,2,     70.3,2,  5.9400,     69.5,2,    62.02,2,    35.67,2,     2.61,2,  -999.0,-999.000
     33KI151_1,  PRS2,     2,  2,     10,     32,2,20030820,1757, 22.7518,-158.0010, 4728,    621,    620.9,   5.4457,  34.1348,2,  34.1330,2,     46.1,2,  5.3939,     44.5,2,    74.60,2,    38.65,2,     2.85,2,  -999.0,-999.000
     33KI151_1,  PRS2,     2,  2,      9,      3,2,20030820,1757, 22.7518,-158.0010, 4728,    670,    670.1,   5.1999,  34.2309,2,  34.2291,2,     27.0,2,  5.1450,     26.4,2,    82.66,2,    40.52,2,     3.00,2,  -999.0,-999.000
     33KI151_1,  PRS2,     2,  2,      8,     29,2,20030820,1757, 22.7518,-158.0010, 4728,    716,    715.3,   5.0684,  34.2817,2,  34.2815,2,     25.1,2,  5.0101,     24.3,2,    87.34,2,    40.96,2,     3.06,2,  -999.0,-999.000
     33KI151_1,  PRS2,     2,  2,      7,     28,2,20030820,1757, 22.7518,-158.0010, 4728,    763,    762.3,   4.8570,  34.3217,2,  34.3211,2,     23.2,2,  4.7959,     22.1,2,    92.75,2,    41.49,2,     3.10,2,  -999.0,-999.000
     33KI151_1,  PRS2,     2,  2,      6,      7,2,20030820,1757, 22.7518,-158.0010, 4728,    806,    805.2,   4.6600,  34.3594,2,  34.3588,2,     23.7,2,  4.5964,     23.1,2,    96.70,2,    41.77,2,     3.02,2,  -999.0,-999.000
     33KI151_1,  PRS2,     2,  2,      5,     38,2,20030820,1757, 22.7518,-158.0010, 4728,    847,    846.7,   4.5573,  34.3982,2,  34.3963,2,     26.4,2,  4.4907,     25.9,2,    98.97,2,    41.79,2,     3.11,2,  -999.0,-999.000
     33KI151_1,  PRS2,     2,  2,      4,     36,2,20030820,1757, 22.7518,-158.0010, 4728,    885,    885.1,   4.4598,  34.4296,2,  34.4290,2,     29.9,2,  4.3906,     30.8,2,    87.97,4,    41.90,2,     3.08,2,  -999.0,-999.000
     33KI151_1,  PRS2,     2,  2,      3,     35,2,20030820,1757, 22.7518,-158.0010, 4728,    924,    924.2,   4.3770,  34.4501,2,  34.4500,2,     33.2,2,  4.3050,     33.9,2,   101.82,3,    41.67,2,     3.07,2,  -999.0,-999.000
     33KI151_1,  PRS2,     2,  2,      2,     34,2,20030820,1757, 22.7518,-158.0010, 4728,    965,    964.4,   4.2442,  34.4700,2,  34.4697,2,     36.1,2,  4.1697,     36.0,2,   104.57,2,    42.11,2,     3.08,2,  -999.0,-999.000
     33KI151_1,  PRS2,     2,  2,      1,     33,2,20030820,1757, 22.7518,-158.0010, 4728,   1004,   1003.1,   4.1283,  34.4839,2,  34.4848,2,     38.4,2,  4.0514,     38.4,2,   107.12,2,    41.90,2,     3.06,2,  -999.0,-999.000