BOTTLE,20020815WHPSIOKJU
EXPOCODE,SECT_ID,STNNBR,CASTNO,SAMPNO,BTLNBR,BTLNBR_FLAG_W,DATE,TIME,LATITUDE,LONGITUDE,DEPTH,CTDPRS,CTDTMP,CTDSAL,CTDSAL_FLAG_W,SALNTY,SALNTY_FLAG_W,CTDOXY,CTDOXY_FLAG_W,OXYGEN,OXYGEN_FLAG_W,REVPRS,THETA,CTDRAW,REVTMP
,,,,,,,,,,,,DBAR,ITS-90,PSS-78,,PSS-78,,UMOL/KG,,UMOL/KG,,DBAR,DEG C,,DEG C
     06HF991_2,  AR16,    55,  1,      3,      5,2,19910326,0456, 40.5833,  -9.4833, 1957,    101.8,  13.1820,  35.8710,1,  35.8810,2,    255.6,2,    251.3,2,  -999.0, 13.1654,   1018,-999.000
     06HF991_2,  AR16,    55,  1,      2,      3,2,19910326,0456, 40.5833,  -9.4833, 1957,    452.0,  11.1710,  35.6140,1,  35.6330,2,    203.9,2,    202.6,2,  -999.0, 11.1114,   4520,  11.110
     06HF991_2,  AR16,    55,  1,      1,      1,2,19910326,0456, 40.5833,  -9.4833, 1957,   1219.5,  10.6610,  36.1540,1,  36.1750,2,    183.3,3,    190.3,2,  1202.5, 10.5021,  12195,  10.590
     06HF991_2,  AR16,    56,  1,      1,      1,2,19910326,0757, 40.5833,  -9.3667,  446,     60.8,  13.3520,  35.8320,1,  35.8620,2,    261.7,3,    256.6,2,  -999.0, 13.3411,    608,  13.275
     06HF991_2,  AR16,    57,  1,      1,      1,2,19910326,0934, 40.5833,  -9.2750,  150,     50.4,  13.3810,  35.8560,1,  35.8810,2,    262.6,3,    256.1,2,  -999.0, 13.3715,    504,  13.305
     06HF991_2,  AR16,    58,  1,      1,      1,2,19910326,1100, 40.5833,  -9.1583,  109,     63.0,  13.1570,  35.7400,1,  35.7670,2,    248.7,2,    246.1,2,  -999.0, 13.1459,    630,  13.085
     06HF991_2,  AR16,    59,  1,      1,      1,2,19910326,1216, 40.5833,  -9.0417,   80,     61.5,  13.2370,  35.8440,1,  35.8710,2,    238.2,2,    234.8,2,  -999.0, 13.2260,    615,  13.170
     06HF991_2,  AR16,    60,  1,      1,      1,2,19910326,1318, 40.5833,  -8.9250,   54,     41.1,  13.1140,  35.7130,1,  35.7420,2,    248.3,3,    242.2,2,  -999.0, 13.1060,    411,  13.045
     06HF991_3,  AR16,    73,  1,      1,      1,2,19910402,0625, 40.0833,  -9.0083,   48,     30.6,  13.0390,  35.8000,1,  35.8180,2,    244.8,3,    231.8,2,  -999.0, 13.0324,    306,  12.970
     06HF991_3,  AR16,    74,  1,      1,      1,2,19910402,0748, 40.0833,  -9.1250,   86,     41.0,  13.0150,  35.7940,1,  35.8050,2,    261.3,3,    240.0,2,  -999.0, 13.0070,    410,  12.950
     06HF991_3,  AR16,    75,  1,      1,      1,2,19910402,0854, 40.0833,  -9.2250,  100,     40.9,  12.9350,  35.6300,1,  35.6500,2,    266.1,3,    243.5,2,  -999.0, 12.9271,    409,  12.870
     06HF991_3,  AR16,    76,  1,      1,      1,2,19910402,1012, 40.0833,  -9.3417,  128,    101.5,  13.2020,  35.8900,1,  35.9060,2,    258.6,3,    236.1,2,  -999.0, 13.1854,   1015,  13.130
     06HF991_3,  AR16,    77,  1,      1,      1,2,19910402,1135, 40.0833,  -9.4500,  144,    121.9,  13.2610,  35.9140,1,  35.9270,2,    251.6,3,    233.1,2,  -999.0, 13.2415,   1219,  13.190
     06HF991_3,  AR16,    78,  1,      1,      1,2,19910402,1251, 40.0833,  -9.5583,  175,     76.0,  13.2900,  35.8310,1,  35.8520,2,    273.4,3,    255.7,2,  -999.0, 13.2770,    760,  13.220
     06HF991_3,  AR16,    79,  1,      1,      1,2,19910402,1423, 40.0833,  -9.6717,  561,    159.8,  13.2620,  35.8830,1,  35.9090,2,    262.5,3,    241.6,2,  -999.0, 13.2371,   1598,  13.180
     06HF991_3,  AR16,    80,  1,      2,      3,2,19910402,1607, 40.0833,  -9.7833,  955,    116.2,  13.3260,  35.8770,1,  35.8990,2,    266.0,3,    248.3,2,  -999.0, 13.3072,   1162,  13.275
     06HF991_3,  AR16,    80,  1,      1,      1,2,19910402,1607, 40.0833,  -9.7833,  955,    876.1,  11.5380,  36.1240,1,  36.1500,2,    188.4,2,    188.2,2,   863.4, 11.4195,   8761,  11.485
     06HF991_3,  AR16,    81,  1,      2,      3,2,19910402,1830, 40.0833,  -9.8917, 1544,    436.9,  11.1230,  35.5510,1,  35.5680,2,    222.6,3,    213.5,2,  -999.0, 11.0656,   4369,  11.065
     06HF991_3,  AR16,    81,  1,      1,      1,2,19910402,1830, 40.0833,  -9.8917, 1544,   1498.2,  10.2470,  36.0950,1,  36.1200,4,    181.3,3,    193.8,2,  1471.9, 10.0544,  14982,  10.200
     06HF991_3,  AR16,    82,  1,      2,      3,2,19910402,2111, 40.0833, -10.0500, 3398,    452.3,  11.3550,  35.5880,1,  35.6030,4,    214.4,3,    208.7,2,  -999.0, 11.2948,   4523,  11.280
     06HF991_3,  AR16,    82,  1,      1,      1,2,19910402,2111, 40.0833, -10.0500, 3398,   1228.9,  11.0140,  36.2270,1,  36.2470,2,    179.0,3,    187.7,2,  1210.9, 10.8506,  12289,  10.960
     06HF991_3,  AR16,    83,  1,      2,      3,2,19910403,0002, 40.0833, -10.2167, 4010,    555.3,  11.0800,  35.6210,1,  35.6360,2,    200.4,2,    198.2,2,  -999.0, 11.0073,   5553,  11.030
     06HF991_3,  AR16,    83,  1,      1,      1,2,19910403,0002, 40.0833, -10.2167, 4010,   1251.4,  11.0610,  36.2380,1,  36.2560,2,    176.3,3,    184.7,4,  1233.1, 10.8941,  12514,  11.005
     06HF991_3,  AR16,    84,  1,      2,      3,2,19910403,0326, 40.0833, -10.5083, 4593,    510.0,  11.1110,  35.5950,1,  35.6140,2,    203.5,2,    203.9,2,  -999.0, 11.0441,   5100,  11.060
     06HF991_3,  AR16,    84,  1,      1,      1,2,19910403,0326, 40.0833, -10.5083, 4593,   1592.0,   6.6890,  35.4350,1,  35.4650,2,    204.1,3,    224.6,2,  1563.5,  6.5255,  15920,   6.655
     06HF991_3,  AR16,    85,  1,      2,      3,2,19910403,0644, 40.0833, -10.8000, 4884,    484.3,  10.9650,  35.5410,1,  35.5560,2,    211.7,3,    188.3,4,  -999.0, 10.9020,   4843,  10.910
     06HF991_3,  AR16,    85,  1,      1,      1,2,19910403,0644, 40.0833, -10.8000, 4884,   1232.7,  10.5230,  36.1440,1,  36.1610,2,    182.4,3,    190.3,2,  1214.7, 10.3635,  12327,  10.475
     06HF991_3,  AR16,    86,  1,      2,      3,2,19910403,1023, 40.3333, -10.8500, 4819,    425.8,  11.3510,  35.5860,1,  35.6140,2,    204.8,2,    204.3,2,  -999.0, 11.2943,   4258,  11.290
     06HF991_3,  AR16,    86,  1,      1,      1,2,19910403,1023, 40.3333, -10.8500, 4819,    879.7,  11.1420,  36.0330,1,  36.0600,2,    178.4,3,    183.0,2,   867.9, 11.0256,   8797,  11.080
     06HF991_3,  AR16,    87,  1,      2,      3,2,19910403,1353, 40.3333, -10.5250, 4254,    540.6,  11.3900,  35.7010,1,  35.7300,2,    192.6,2,    190.9,2,  -999.0, 11.3180,   5406,  11.320
     06HF991_3,  AR16,    87,  1,      1,      1,2,19910403,1353, 40.3333, -10.5250, 4254,   1256.3,  10.9920,  36.2290,1,  36.2660,2,    177.6,3,    183.8,2,  1235.7, 10.8251,  12563,  10.930
     06HF991_3,  AR16,    88,  1,      2,      3,2,19910403,1715, 40.3333, -10.2083, 3614,   1338.9,  10.9410,  36.2180,1,  36.2540,2,    178.0,3,    187.3,2,  -999.0, 10.7631,  13389,  10.890
     06HF991_3,  AR16,    88,  1,      1,      1,2,19910403,1715, 40.3333, -10.2083, 3614,   1560.8,   8.7990,  35.8210,1,  35.8650,2,    188.6,3,    206.4,2,  1532.4,  8.6143,  15608,   8.760
     06HF991_3,  AR16,    89,  1,      2,      3,2,19910403,2002, 40.3333, -10.0417, 3499,    489.3,  11.1730,  35.5800,1,  35.5990,2,    203.0,2,    204.8,2,  -999.0, 11.1086,   4893,  11.105
     06HF991_3,  AR16,    89,  1,      1,      1,2,19910403,2002, 40.3333, -10.0417, 3499,   1286.1,  10.9330,  36.2350,1,  36.2550,2,    178.0,3,    188.6,2,  1266.8, 10.7625,  12861,  10.880
     06HF991_3,  AR16,    90,  1,      2,      3,2,19910403,2256, 40.3333,  -9.8833, 2577,    311.6,  11.7310,  35.6060,1,  35.6220,2,    225.4,2,    222.2,2,  -999.0, 11.6882,   3116,  11.655
     06HF991_3,  AR16,    90,  1,      1,      1,2,19910403,2256, 40.3333,  -9.8833, 2577,   1519.4,   8.4820,  35.7990,1,  35.8240,2,    193.4,3,    208.1,2,  1493.6,  8.3060,  15194,   8.440
     06HF991_3,  AR16,    91,  1,      2,      3,2,19910404,0136, 40.3333,  -9.7750,  888,    102.1,  13.3290,  35.8820,1,  35.9040,2,    255.6,3,    246.6,2,  -999.0, 13.3122,   1021,  13.245
     06HF991_3,  AR16,    91,  1,      1,      1,2,19910404,0136, 40.3333,  -9.7750,  888,    824.6,  11.6200,  36.1230,1,  36.1480,4,    180.6,3,    185.2,2,   813.5, 11.5081,   8246,  11.545
     06HF991_3,  AR16,    92,  1,      1,      1,2,19910404,0350, 40.3333,  -9.6667,  507,    125.9,  13.2790,  35.8900,1,  35.9020,2,    251.6,3,    244.4,2,  -999.0, 13.2589,   1259,  13.200
     06HF991_3,  AR16,    93,  1,      1,      1,2,19910404,0539, 40.3333,  -9.5583,  190,     97.5,  13.3110,  35.8900,1,  35.9030,4,    250.8,3,    244.0,2,  -999.0, 13.2949,    975,  13.260
     06HF991_3,  AR16,    94,  1,      1,      1,2,19910404,0729, 40.3333,  -9.4750,  158,     93.2,  13.2390,  35.8880,1,  35.9040,4,    241.7,3,    236.6,2,  -999.0, 13.2236,    932,  13.170
     06HF991_3,  AR16,    95,  1,      1,      1,2,19910404,0912, 40.3333,  -9.3697,  130,     99.7,  13.2330,  35.8910,1,  35.9070,4,    239.5,2,    237.4,2,  -999.0, 13.2167,    997,  13.160
     06HF991_3,  AR16,    96,  1,      1,      1,2,19910404,1040, 40.3333,  -9.2583,  117,     15.8,  13.7350,  35.3040,1,  35.3290,2,    294.1,3,    284.1,2,  -999.0, 13.7304,    158,  13.660
     06HF991_3,  AR16,    97,  1,      1,      1,2,19910404,1205, 40.3333,  -9.0833,   97,     70.8,  13.1680,  35.8530,1,  35.8690,2,    236.5,2,    233.5,2,  -999.0, 13.1558,    708,-999.000
     06HF991_3,  AR16,    98,  1,      1,      1,2,19910404,1324, 40.3333,  -9.0333,   68,     45.3,  13.0400,  35.7190,1,  35.7410,2,    245.2,2,    242.2,2,  -999.0, 13.0314,    453,  12.965
     06HF991_3,  AR16,   101,  1,      1,      1,2,19910404,1819, 40.5833,  -8.9250,   55,     14.9,  13.5280,  35.6060,1,  35.6240,2,    284.0,3,    278.4,2,  -999.0, 13.5235,    149,  13.455
     06HF991_3,  AR16,   102,  1,      1,      1,2,19910404,1932, 40.5833,  -9.0417,   80,     15.1,  13.5310,  35.6190,1,  35.6430,2,    289.7,3,    281.0,2,  -999.0, 13.5265,    151,  13.460
     06HF991_3,  AR16,   103,  1,      1,      1,2,19910404,2103, 40.5833,  -9.1583,  107,     15.2,  13.4810,  35.5060,1,  35.5180,2,    284.0,3,    275.8,2,  -999.0, 13.4765,    152,  13.410
     06HF991_3,  AR16,   104,  1,      1,      1,2,19910404,2246, 40.5833,  -9.2750,  150,     82.0,  13.2360,  35.8620,1,  35.8800,2,    238.2,2,    237.0,2,  -999.0, 13.2221,    820,  13.155
     06HF991_3,  AR16,   105,  1,      2,      3,2,19910405,0013, 40.5833,  -9.3667,  821,    501.3,  11.2370,  35.6220,1,  35.6410,2,    204.8,2,    203.0,2,  -999.0, 11.1708,   5013,  11.190
     06HF991_3,  AR16,   105,  1,      1,      1,2,19910405,0013, 40.5833,  -9.3667,  821,    797.2,  11.6590,  36.0680,1,  36.0870,4,    180.2,3,    184.7,2,   787.6, 11.5507,   7972,  11.595
     06HF991_3,  AR16,   106,  1,      2,      3,2,19910405,0228, 40.5833,  -9.4833, 1893,    129.4,  13.3210,  35.9070,1,  35.9190,2,    247.3,2,    244.8,2,  -999.0, 13.3004,   1294,  13.250
     06HF991_3,  AR16,   106,  1,      1,      1,2,19910405,0228, 40.5833,  -9.4833, 1893,   1591.9,   7.9160,  35.6850,1,  35.7150,2,    192.5,3,    212.0,2,  1565.4,  7.7377,  15919,   7.890
     06HF991_3,  AR16,   107,  1,      2,      3,2,19910405,0516, 40.5833,  -9.6083, 2145,    397.8,  11.3910,  35.5910,1,  35.6070,2,    210.9,2,    213.9,2,  -999.0, 11.3378,   3978,  11.335
     06HF991_3,  AR16,   107,  1,      1,      1,2,19910405,0516, 40.5833,  -9.6083, 2145,   1369.8,   9.9260,  36.0510,1,  36.0780,2,    180.6,2,    199.0,2,  1347.9,  9.7538,  13698,   9.910
     06HF991_3,  AR16,   108,  1,      2,      3,2,19910405,0745, 40.5833,  -9.7250, 2482,    378.6,  11.5730,  35.5960,1,  35.6130,2,    209.7,2,    211.7,2,  -999.0, 11.5218,   3786,  11.510
     06HF991_3,  AR16,   108,  1,      1,      1,2,19910405,0745, 40.5833,  -9.7250, 2482,   1403.3,   9.9630,  36.0600,1,  36.0810,2,    180.1,3,    198.1,2,  1381.9,  9.7860,  14033,   9.930
     06HF991_3,  AR16,   109,  1,      2,      3,2,19910405,1011, 40.5833,  -9.8417, 2515,    349.6,  11.6500,  35.5960,1,  35.6200,2,    208.0,2,    211.3,2,  -999.0, 11.6024,   3496,  11.580
     06HF991_3,  AR16,   109,  1,      1,      1,2,19910405,1011, 40.5833,  -9.8417, 2515,   1465.7,   9.6600,  35.9970,1,  36.0270,4,    181.4,3,    196.8,3,  1445.4,  9.4780,  14657,   9.605
     06HF991_3,  AR16,   110,  1,      2,      3,2,19910405,1334, 40.5833, -10.1583, 3316,    152.5,  13.1210,  35.8660,1,  35.8870,2,    240.3,2,    238.3,2,  -999.0, 13.0974,   1525,  13.040
     06HF991_3,  AR16,   110,  1,      1,      1,2,19910405,1334, 40.5833, -10.1583, 3316,   1588.1,   6.5190,  35.4180,1,  35.4530,4,    203.2,3,    226.8,2,  1563.3,  6.3580,  15881,   6.465
     06HF991_3,  AR16,   111,  1,      2,      3,2,19910405,1654, 40.5833, -10.4833, 4009,    476.0,  11.2250,  35.5860,1,  35.6060,2,    200.5,2,    203.9,2,  -999.0, 11.1622,   4760,  11.165
     06HF991_3,  AR16,   111,  1,      1,      1,2,19910405,1654, 40.5833, -10.4833, 4009,   1422.5,   8.9850,  35.8730,1,  35.9020,2,    186.6,3,    203.8,2,  1399.0,  8.8157,  14225,   8.930
     06HF991_3,  AR16,   112,  1,      2,      3,2,19910405,2011, 40.5833, -10.8000, 4670,    486.9,  11.2330,  35.6380,1,  35.6550,2,    192.6,3,    200.0,2,  -999.0, 11.1687,   4869,  11.180
     06HF991_3,  AR16,   112,  1,      1,      1,2,19910405,2011, 40.5833, -10.8000, 4670,   1425.1,   9.3090,  35.9400,1,  35.9650,2,    183.1,3,    202.5,2,  1405.6,  9.1359,  14251,   9.355
     06HF991_3,  AR16,   124,  1,      1,      1,2,19910407,0917, 40.8333,  -8.8500,   46,     37.5,  13.1040,  35.8100,1,  35.8240,2,    214.4,2,    214.8,2,  -999.0, 13.0964,    375,  13.030
     06HF991_3,  AR16,   125,  1,      1,      1,2,19910407,1018, 40.8333,  -8.9583,   65,     49.7,  13.1440,  35.8230,1,  35.8370,2,    215.2,2,    216.6,2,  -999.0, 13.1347,    497,  13.075
     06HF991_3,  AR16,   126,  1,      1,      1,2,19910407,1135, 40.8333,  -9.0917,  104,     72.1,  13.1700,  35.8580,1,  35.8720,2,    226.5,3,    230.9,2,  -999.0, 13.1576,    721,  13.100
     06HF991_3,  AR16,   127,  1,      1,      1,2,19910407,1304, 40.8333,  -9.2050,  137,    112.4,  12.8220,  35.8070,1,  35.8220,2,    218.2,3,    223.1,2,  -999.0, 12.8043,   1124,  12.775
     06HF991_3,  AR16,   128,  1,      1,      1,2,19910407,1425, 40.8333,  -9.3167,  232,    192.4,  12.7490,  35.8020,1,  35.8160,2,    227.7,3,    232.6,2,  -999.0, 12.7203,   1924,  12.685
     06HF991_3,  AR16,   129,  1,      1,      1,2,19910407,1541, 40.8333,  -9.3750, 1165,   1071.4,  11.2210,  36.1520,1,  36.1750,2,    172.6,3,    183.0,3,  -999.0, 11.0778,  10714,  11.170
     06HF991_3,  AR16,   130,  1,      2,      3,2,19910407,1641, 40.8333,  -9.4250, 1602,    460.3,  11.3060,  35.6660,1,  35.6780,2,    188.7,3,    197.4,2,  -999.0, 11.2449,   4603,  11.250
     06HF991_3,  AR16,   130,  1,      1,      1,2,19910407,1641, 40.8333,  -9.4250, 1602,   1121.5,  11.0880,  36.1980,1,  36.2120,2,    170.8,3,    186.4,2,  1107.4, 10.9389,  11215,  11.020
     06HF991_3,  AR16,   131,  1,      2,      3,2,19910407,1912, 40.8333,  -9.5417, 2751,     10.7,  13.5630,  35.6260,1,  35.6410,2,    267.9,3,    270.5,2,  -999.0, 13.5591,    107,  13.490
     06HF991_3,  AR16,   131,  1,      1,      1,2,19910407,1912, 40.8333,  -9.5417, 2751,   1541.8,   7.8170,  35.6600,1,  35.6900,2,    188.2,3,    214.6,2,  1515.7,  7.6459,  15418,   7.785
     06HF991_3,  AR16,   132,  1,      2,      3,2,19910407,2204, 40.8333,  -9.7083, 3158,     16.0,  13.7060,  35.7920,1,  35.8070,2,    262.7,3,    271.4,2,  -999.0, 13.7013,    160,  13.620
     06HF991_3,  AR16,   132,  1,      1,      1,2,19910407,2204, 40.8333,  -9.7083, 3158,    407.6,  11.3420,  35.5840,1,  35.5990,2,    203.1,3,    210.4,2,  -999.0, 11.2877,   4076,  11.295
     06HF991_3,  AR16,   133,  1,      2,      3,2,19910408,0039, 40.8333,  -9.8750, 3392,    679.7,  11.6420,  36.0180,1,  36.0330,2,    175.1,3,    184.7,2,  -999.0, 11.5499,   6797,  11.575
     06HF991_3,  AR16,   133,  1,      1,      1,2,19910408,0039, 40.8333,  -9.8750, 3392,   1567.0,   7.4340,  35.5840,1,  35.6150,2,    191.2,3,    217.3,2,  1536.8,  7.2644,  15670,   7.375
     06HF991_3,  AR16,   134,  1,      2,      3,2,19910408,0352, 40.8333, -10.2000, 3639,     45.6,  13.8250,  35.9480,1,  35.9540,2,    252.2,3,    258.3,2,  -999.0, 13.8160,    456,  13.750
     06HF991_3,  AR16,   134,  1,      1,      1,2,19910408,0352, 40.8333, -10.2000, 3639,   1571.5,   6.9500,  35.5000,1,  35.5310,2,    195.5,3,    224.2,2,  1545.3,  6.7856,  15715,   6.915
     06HF991_3,  AR16,   135,  1,      2,      3,2,19910408,0711, 40.8333, -10.5167, 4462,      8.2,  13.6120,  35.7840,1,  35.7970,2,    264.4,3,    268.8,2,  -999.0, 13.6084,     82,  13.540
     06HF991_3,  AR16,   135,  1,      1,      1,2,19910408,0711, 40.8333, -10.5167, 4462,   1586.7,   6.8260,  35.4710,1,  35.5100,2,    195.5,3,    225.1,2,  1559.8,  6.6614,  15867,   6.785
     06HF991_3,  AR16,   136,  1,      2,      3,2,19910408,1027, 40.8333, -10.8333, 4282,    100.4,  13.3070,  35.8990,1,  35.9160,2,    244.7,3,    248.7,2,  -999.0, 13.2905,   1004,  13.240
     06HF991_3,  AR16,   136,  1,      1,      1,2,19910408,1027, 40.8333, -10.8333, 4282,   1077.8,  11.2000,  36.1970,1,  36.2200,2,    170.0,3,    183.4,2,  1066.1, 11.0560,  10778,  11.130
     06HF991_3,  AR16,   137,  1,      2,      3,2,19910408,1431, 41.0833, -10.6167, 3755,     76.6,  12.5140,  35.7500,1,  35.7810,2,    249.5,3,    251.3,2,  -999.0, 12.5014,    766,  12.445
     06HF991_3,  AR16,   137,  1,      1,      1,2,19910408,1431, 41.0833, -10.6167, 3755,   1593.0,   6.6280,  35.4160,1,  35.4610,2,    196.3,3,    224.2,2,  1569.4,  6.4651,  15930,   6.585
     06HF991_3,  AR16,   138,  1,      2,      3,2,19910408,1747, 41.0833, -10.3083, 4146,    400.2,  11.1910,  35.5310,1,  35.5630,2,    218.8,2,    221.7,2,  -999.0, 11.1381,   4002,  11.120
     06HF991_3,  AR16,   138,  1,      1,      1,2,19910408,1747, 41.0833, -10.3083, 4146,   1489.0,   7.5710,  35.5830,1,  35.6260,2,    190.4,3,    217.3,2,  1464.7,  7.4090,  14890,   7.525
     06HF991_3,  AR16,   139,  1,      2,      3,2,19910408,2111, 41.0833,  -9.9833, 3527,      5.3,  13.6530,  35.6360,1,  35.6540,2,    269.7,3,    276.6,2,  -999.0, 13.6499,     53,  13.575
     06HF991_3,  AR16,   139,  1,      1,      1,2,19910408,2111, 41.0833,  -9.9833, 3527,   1515.6,   7.8940,  35.6650,1,  35.7030,2,    186.9,3,    214.6,2,  1489.5,  7.7252,  15156,   7.855
     06HF991_3,  AR16,   140,  1,      2,      3,2,19910408,2358, 41.0833,  -9.8167, 3212,    448.6,  11.1970,  35.5910,1,  35.6070,2,    199.6,3,    204.8,2,  -999.0, 11.1378,   4486,  11.140
     06HF991_3,  AR16,   140,  1,      1,      1,2,19910408,2358, 41.0833,  -9.8167, 3212,    998.4,  11.2390,  36.1450,1,  36.1640,2,    170.9,3,    182.5,2,   985.7, 11.1057,   9984,  11.175
     06HF991_3,  AR16,   141,  1,      2,      3,2,19910409,0236, 41.0833,  -9.6667, 3149,     31.0,  13.5350,  35.7910,1,  35.8090,2,    270.9,2,    270.9,2,  -999.0, 13.5282,    310,  13.470
     06HF991_3,  AR16,   141,  1,      1,      1,2,19910409,0236, 41.0833,  -9.6667, 3149,   1563.5,   7.0610,  35.5200,1,  35.5500,2,    192.5,3,    218.6,2,  1538.5,  6.8962,  15635,   7.025
     06HF991_3,  AR16,   142,  1,      2,      3,2,19910409,0518, 41.0833,  -9.4917, 1708,     11.4,  13.5660,  35.7690,1,  35.7920,2,    274.4,3,    276.2,2,  -999.0, 13.5620,    114,  13.560
     06HF991_3,  AR16,   142,  1,      1,      1,2,19910409,0518, 41.0833,  -9.4917, 1708,   1549.4,   7.6130,  35.6250,1,  35.6580,2,    189.9,3,    216.8,2,  1523.9,  7.4434,  15494,   7.580
     06HF991_3,  AR16,   143,  1,      1,      1,2,19910409,0803, 41.0833,  -9.3333,  275,    101.3,  13.2050,  35.8590,1,  35.8810,2,    236.9,3,    244.4,2,  -999.0, 13.1885,   1013,  13.130
     06HF991_3,  AR16,   144,  1,      1,      1,2,19910409,0947, 41.0833,  -9.1933,  153,    132.8,  12.5510,  35.7530,1,  35.7780,2,    217.3,3,    226.1,2,  -999.0, 12.5308,   1328,  12.480
     06HF991_3,  AR16,   145,  1,      1,      1,2,19910409,1116, 41.0833,  -9.0583,  104,     47.2,  13.0610,  35.7800,1,  35.8000,2,    235.7,3,    242.2,2,  -999.0, 13.0521,    472,  12.990