BOTTLE,20020815WHPSIOKJU
EXPOCODE,SECT_ID,STNNBR,CASTNO,SAMPNO,BTLNBR,BTLNBR_FLAG_W,DATE,TIME,LATITUDE,LONGITUDE,DEPTH,CTDPRS,CTDTMP,CTDSAL,CTDSAL_FLAG_W,SALNTY,SALNTY_FLAG_W,CTDOXY,CTDOXY_FLAG_W,OXYGEN,OXYGEN_FLAG_W,REVPRS,THETA,CTDRAW,REVTMP
,,,,,,,,,,,,DBAR,ITS-90,PSS-78,,PSS-78,,UMOL/KG,,UMOL/KG,,DBAR,DEG C,,DEG C
     06HF991_3,  AR16,   147,  1,      1,      1,2,19910409,1336, 41.0833,  -8.8000,   40,     29.4,  12.9760,  35.7930,1,  35.8160,2,    227.8,3,    223.1,2,  -999.0, 12.9696,    294,  12.905
     06HF991_3,  AR16,   150,  1,      1,      1,2,19910409,1649, 41.3333,  -8.8717,   55,     41.1,  12.7290,  35.7860,1,  35.8000,2,    225.6,3,    228.7,2,  -999.0, 12.7211,    411,  12.655
     06HF991_3,  AR16,   151,  1,      1,      1,2,19910409,1752, 41.3333,  -8.9833,   85,     52.0,  12.9080,  35.7850,1,  35.8010,2,    230.4,3,    240.0,2,  -999.0, 12.8985,    520,  12.840
     06HF991_3,  AR16,   153,  1,      1,      1,2,19910409,2006, 41.3333,  -9.1783,  496,    407.6,  11.5670,  35.6150,1,  35.6410,2,    214.4,3,    224.4,2,  -999.0, 11.5120,   4076,  11.510
     06HF991_3,  AR16,   154,  1,      2,      3,2,19910409,2157, 41.3333,  -9.3167, 1693,    488.3,  11.1400,  35.6350,1,  35.6510,2,    196.1,2,    197.4,2,  -999.0, 11.0758,   4883,  11.080
     06HF991_3,  AR16,   154,  1,      1,      1,2,19910409,2157, 41.3333,  -9.3167, 1693,   1230.6,  10.6280,  36.1400,1,  36.1560,2,    175.9,3,    185.6,2,  1214.3, 10.4679,  12306,  10.585
     06HF991_3,  AR16,   155,  1,      2,      3,2,19910410,0025, 41.3333,  -9.4267, 2027,   1430.6,   9.3090,  35.9280,1,  35.9540,2,    179.6,3,    197.7,2,  -999.0,  9.1353,  14306,   9.255
     06HF991_3,  AR16,   155,  1,      1,      1,2,19910410,0025, 41.3333,  -9.4267, 2027,   1596.4,   6.7220,  35.4540,1,  35.4960,2,    195.0,3,    223.3,2,  1568.4,  6.5576,  15964,   6.740
     06HF991_3,  AR16,   156,  1,      2,      3,2,19910410,0247, 41.3333,  -9.5383, 2681,    151.1,  13.3900,  35.9220,1,  35.9320,2,    233.4,3,    241.8,2,  -999.0, 13.3662,   1511,-999.000
     06HF991_3,  AR16,   156,  1,      1,      1,2,19910410,0247, 41.3333,  -9.5383, 2681,   1382.1,   9.2360,  35.9170,1,  35.9420,2,    181.0,3,    198.6,2,  1361.7,  9.0692,  13821,   9.185
     06HF991_3,  AR16,   157,  1,      2,      3,2,19910410,0511, 41.3333,  -9.6500, 3136,   1398.0,   9.1510,  35.8990,1,  35.9300,2,    182.3,3,   -999.0,9,  -999.0,  8.9831,  13980,   9.130
     06HF991_3,  AR16,   157,  1,      1,      1,2,19910410,0511, 41.3333,  -9.6500, 3136,   1502.9,   7.9910,  35.6960,1,  35.7220,2,    188.2,3,   -999.0,9,  1478.1,  7.8226,  15029,   7.970
     06HF991_3,  AR16,   158,  1,      2,      3,2,19910410,0755, 41.3333,  -9.8750, 2912,   1392.1,   8.9900,  35.8580,1,  35.8970,2,    182.7,3,    201.6,2,  -999.0,  8.8245,  13921,   8.960
     06HF991_3,  AR16,   158,  1,      1,      1,2,19910410,0755, 41.3333,  -9.8750, 2912,   1510.7,   7.5720,  35.6090,1,  35.6400,2,    190.8,3,    218.6,2,  1485.1,  7.4074,  15107,   7.530
     06HF991_3,  AR16,   159,  1,      2,      3,2,19910410,1039, 41.3333, -10.1000, 3423,   1493.7,   7.3330,  35.5380,1,  35.5820,2,    193.4,3,    215.5,2,  -999.0,  7.1732,  14937,-999.000
     06HF991_3,  AR16,   159,  1,      1,      1,2,19910410,1039, 41.3333, -10.1000, 3423,   1570.2,   6.3240,  35.3560,1,  35.3990,2,    200.7,3,    227.7,2,  1544.9,  6.1674,  15702,   6.285
     06HF991_3,  AR16,   160,  1,      2,      3,2,19910410,1323, 41.3333, -10.3083, 3467,   1379.2,   8.4240,  35.7080,1,  35.7390,2,    185.7,3,    204.7,2,  -999.0,  8.2660,  13792,   8.390
     06HF991_3,  AR16,   160,  1,      1,      1,2,19910410,1323, 41.3333, -10.3083, 3467,   1590.8,   6.5750,  35.4080,1,  35.4460,2,    197.2,3,    225.5,2,  1565.2,  6.4130,  15908,   6.540
     06HF991_3,  AR16,   161,  1,      2,      3,2,19910410,1633, 41.3333, -10.6167, 3097,   1275.0,  10.5610,  36.1340,1,  36.1630,2,    172.4,3,    188.2,2,  -999.0, 10.3955,  12750,  10.500
     06HF991_3,  AR16,   161,  1,      1,      1,2,19910410,1633, 41.3333, -10.6167, 3097,   1458.6,   8.4840,  35.7550,1,  35.7920,2,    184.4,3,    207.3,2,  1435.7,  8.3156,  14586,   8.435