BOTTLE,20020815WHPSIOKJU
#code : jjward hyd_to_exchange.pl 
#original files copied from HTML directory: 20020815
#original HYD file: ar16_ahy.txt   Thu Aug 15 09:23:13 2002
#original SUM file: ar16_asu.txt   Thu Aug 15 09:19:53 2002
EXPOCODE,SECT_ID,STNNBR,CASTNO,SAMPNO,BTLNBR,BTLNBR_FLAG_W,DATE,TIME,LATITUDE,LONGITUDE,DEPTH,CTDPRS,CTDTMP,CTDSAL,CTDSAL_FLAG_W,SALNTY,SALNTY_FLAG_W,CTDOXY,CTDOXY_FLAG_W,OXYGEN,OXYGEN_FLAG_W,REVPRS,THETA,CTDRAW,REVTMP
,,,,,,,,,,,,DBAR,ITS-90,PSS-78,,PSS-78,,UMOL/KG,,UMOL/KG,,DBAR,DEG C,,DEG C
     06HF991_1,  AR16,     2,  1,      2,      3,2,19910313,1126, 43.8833,  -9.5500, 2510,      8.0,  12.2620,  35.7070,1,  35.7170,2,    295.7,3,    260.5,2,  -999.0, 12.2587,     80,  12.195
     06HF991_1,  AR16,     2,  1,      1,      1,2,19910313,1126, 43.8833,  -9.5500, 2510,   1594.4,   5.7860,  35.2480,1,  35.2990,2,    219.6,3,    235.9,2,  1561.1,  5.6334,  15944,   5.805
     06HF991_1,  AR16,     3,  1,      2,      3,2,19910313,1751, 43.4500,  -9.8750, 1988,     12.0,  12.6690,  35.7140,1,  35.7510,2,    293.5,3,    260.5,2,  -999.0, 12.6651,     70,  12.585
     06HF991_1,  AR16,     3,  1,      1,      1,2,19910313,1751, 43.4500,  -9.8750, 1988,   1599.2,   5.5350,  35.1970,1,  35.2360,2,    223.9,3,    239.9,2,  1567.6,  5.3850,  15942,   5.535
     06HF991_1,  AR16,     4,  1,      1,      3,2,19910314,0017, 42.8333,  -9.8500, 2560,     20.2,  12.8220,  35.7330,1,  35.7740,2,    290.5,3,    257.4,2,  -999.0, 12.8169,    152,  12.750
     06HF991_1,  AR16,     6,  1,      2,      3,2,19910314,1711, 42.2917,  -9.7333, 2089,     11.8,  12.8180,  35.7700,1,  35.7940,2,    292.6,3,    262.2,2,  -999.0, 12.8141,     68,  12.750
     06HF991_1,  AR16,     6,  1,      1,      1,2,19910314,1711, 42.2917,  -9.7333, 2089,   1581.8,   6.6500,  35.4320,1,  35.4720,2,    212.3,3,    225.9,2,  1546.8,  6.4881,  15768,   6.660
     06HF991_1,  AR16,     8,  1,      3,      5,2,19910315,0354, 41.3667,  -9.5667, 3057,    389.4,  11.2740,  35.5800,1,  35.5980,2,    226.1,3,    213.5,2,  -999.0, 11.2223,   3844,-999.000
     06HF991_1,  AR16,     8,  1,      2,      3,2,19910315,0354, 41.3667,  -9.5667, 3057,   1010.9,  11.1770,  36.1250,1,  36.1410,2,    183.0,2,    184.7,2,  -999.0, 11.0424,  10059,  11.115
     06HF991_1,  AR16,     8,  1,      1,      1,2,19910315,0354, 41.3667,  -9.5667, 3057,   1736.2,   5.3940,  35.2280,1,  35.2660,2,    215.6,3,    239.8,4,  1697.2,  5.2314,  17312,   5.400
     06HF991_1,  AR16,     9,  1,      1,      5,2,19910315,1006, 40.8833,  -9.6083, 2435,    615.9,  11.5320,  35.8150,1,  35.8350,2,    196.8,2,    189.5,2,  -999.0, 11.4492,   6109,-999.000
     06HF991_1,  AR16,    10,  1,      2,      3,2,19910315,1604, 40.3917,  -9.8667, 2840,    775.0,  11.3560,  35.9900,1,  36.0040,2,    190.2,2,    189.1,2,  -999.0, 11.2525,   7700,-999.000
     06HF991_1,  AR16,    10,  1,      1,      1,2,19910315,1604, 40.3917,  -9.8667, 2840,   1630.0,   6.5290,  35.4310,1,  35.4660,2,    212.3,3,    228.1,2,  1594.2,  6.3632,  16250,   6.525
     06HF991_1,  AR16,    12,  1,      3,      5,2,19910316,0442, 39.4333, -10.1167, 2160,    769.5,  11.8470,  36.1070,1,  36.1230,2,    189.8,2,    187.3,2,  -999.0, 11.7414,   7645,-999.000
     06HF991_1,  AR16,    12,  1,      2,      3,2,19910316,0442, 39.4333, -10.1167, 2160,   1139.8,  11.2290,  36.2120,1,  36.2310,2,    184.2,2,    186.9,2,  1125.6, 11.0762,  11348,  11.165
     06HF991_1,  AR16,    12,  1,      1,      1,2,19910316,0442, 39.4333, -10.1167, 2160,   1508.6,   8.3010,  35.7640,1,  35.7960,2,    199.4,3,    211.2,2,  1473.0,  8.1284,  15036,   8.280
     06HF991_1,  AR16,    13,  1,      3,      5,2,19910316,1055, 39.0000, -10.6333, 1969,    428.9,  11.8770,  35.6770,1,  35.6960,2,    210.5,3,    204.4,2,  -999.0, 11.8182,   4239,-999.000
     06HF991_1,  AR16,    13,  1,      2,      3,2,19910316,1055, 39.0000, -10.6333, 1969,   1284.2,  10.9750,  36.2720,1,  36.2970,2,    183.2,2,    186.0,2,  1267.0, 10.8043,  12792,  10.900
     06HF991_1,  AR16,    13,  1,      1,      1,2,19910316,1055, 39.0000, -10.6333, 1969,   1554.8,   7.8800,  35.6800,1,  35.7150,2,    200.3,3,    211.6,2,  1522.3,  7.7066,  15498,   7.870
     06HF991_1,  AR16,    14,  1,      3,      5,2,19910316,1628, 38.7000, -10.2833, 2078,    517.4,  11.6030,  35.7140,1,  35.7280,2,    198.7,3,    191.3,2,  -999.0, 11.5332,   5124,-999.000
     06HF991_1,  AR16,    14,  1,      2,      3,2,19910316,1628, 38.7000, -10.2833, 2078,   1215.7,  11.1510,  36.3070,1,  36.3150,2,    181.1,2,    185.1,2,  1199.8, 10.9882,  12107,  11.095
     06HF991_1,  AR16,    14,  1,      1,      1,2,19910316,1628, 38.7000, -10.2833, 2078,   1572.5,   7.4740,  35.6130,1,  35.6470,2,    199.4,3,    216.4,2,  -999.0,  7.3032,  15675,-999.000
     06HF991_1,  AR16,    15,  1,      4,      7,2,19910316,2135, 38.4500,  -9.7833, 2005,     52.5,  14.0540,  36.0030,1,  36.0140,2,    268.3,3,    245.7,2,  -999.0, 14.0438,    475,-999.000
     06HF991_1,  AR16,    15,  1,      3,      5,2,19910316,2135, 38.4500,  -9.7833, 2005,    311.4,  12.7750,  35.7850,1,  35.7990,2,    225.8,3,    211.8,4,  -999.0, 12.7298,   3064,-999.000
     06HF991_1,  AR16,    15,  1,      2,      3,2,19910316,2135, 38.4500,  -9.7833, 2005,   1187.6,  11.3830,  36.3100,1,  36.3250,2,    181.6,2,    184.7,2,  -999.0, 11.2221,  11826,  11.320
     06HF991_1,  AR16,    15,  1,      1,      1,2,19910316,2135, 38.4500,  -9.7833, 2005,   1518.4,   8.1760,  35.7610,1,  35.7890,2,    197.7,3,    211.2,2,  1489.2,  8.0035,  15134,   8.125
     06HF991_1,  AR16,    17,  1,      4,      7,2,19910317,1256, 37.4167,  -9.7000, 2862,    355.2,  11.9790,  35.6250,1,  35.6690,2,    208.4,3,    200.9,2,  -999.0, 11.9298,   3502,-999.000
     06HF991_1,  AR16,    17,  1,      3,      5,2,19910317,1256, 37.4167,  -9.7000, 2862,    720.4,  12.2740,  36.1900,1,  36.2340,2,    192.8,2,    194.3,4,  -999.0, 12.1729,   7154,-999.000
     06HF991_1,  AR16,    17,  1,      2,      3,2,19910317,1256, 37.4167,  -9.7000, 2862,   1158.0,  11.6000,  36.3440,1,  36.3960,2,    192.4,3,    183.4,2,  -999.0, 11.4415,  11530,  11.545
     06HF991_1,  AR16,    17,  1,      1,      1,2,19910317,1256, 37.4167,  -9.7000, 2862,   1586.7,   6.7480,  35.4730,1,  35.5410,2,    180.8,3,    219.0,2,  -999.0,  6.5843,  15817,-999.000
     06HF991_1,  AR16,    18,  1,      4,      7,2,19910317,1833, 37.9500,  -9.6500, 1727,    410.9,  11.4610,  35.5990,1,  35.6450,2,    203.6,3,    194.8,2,  -999.0, 11.4059,   4059,-999.000
     06HF991_1,  AR16,    18,  1,      3,      5,2,19910317,1833, 37.9500,  -9.6500, 1727,    707.8,  11.6480,  35.9980,1,  36.0410,2,    188.1,2,    184.3,2,  -999.0, 11.5521,   7028,-999.000
     06HF991_1,  AR16,    18,  1,      2,      3,2,19910317,1833, 37.9500,  -9.6500, 1727,   1207.8,  11.2270,  36.2670,1,  36.3180,2,    181.6,2,    184.7,2,  -999.0, 11.0647,  12028,  11.170
     06HF991_1,  AR16,    18,  1,      1,      1,2,19910317,1833, 37.9500,  -9.6500, 1727,   1579.3,   7.4600,  35.5980,1,  35.6570,2,    200.7,3,    215.1,2,  1548.6,  7.2886,  15743,   7.430
     06HF991_1,  AR16,    22,  1,      4,      7,2,19910318,2031, 40.8333,  -9.5333, 2725,    202.7,  13.3520,  35.8980,1,  35.9270,2,    265.0,3,    241.8,2,  -999.0, 13.3209,   1977,-999.000
     06HF991_1,  AR16,    22,  1,      3,      5,2,19910318,2031, 40.8333,  -9.5333, 2725,    453.0,  11.4150,  35.6070,1,  35.6440,2,    216.5,3,    204.3,2,  -999.0, 11.3545,   4480,-999.000
     06HF991_1,  AR16,    22,  1,      2,      3,2,19910318,2031, 40.8333,  -9.5333, 2725,   1186.5,  10.9240,  36.1630,1,  36.2030,2,    187.6,2,    185.1,2,  -999.0, 10.7673,  11815,  10.860
     06HF991_1,  AR16,    22,  1,      1,      1,2,19910318,2031, 40.8333,  -9.5333, 2725,   1586.5,   6.6630,  35.4300,1,  35.4860,2,    211.9,3,    227.2,2,  1559.8,  6.5004,  15815,   6.635
     06HF991_1,  AR16,    23,  1,      4,      7,2,19910318,2335, 40.8333,  -9.4283, 1666,    213.1,  13.3280,  35.8880,1,  35.9180,2,    270.7,3,    244.4,2,  -999.0, 13.2955,   2081,-999.000
     06HF991_1,  AR16,    23,  1,      3,      5,2,19910318,2335, 40.8333,  -9.4283, 1666,    510.4,  11.3450,  35.7070,1,  35.7400,2,    208.7,3,    193.9,2,  -999.0, 11.2771,   5054,-999.000
     06HF991_1,  AR16,    23,  1,      2,      3,2,19910318,2335, 40.8333,  -9.4283, 1666,   1114.4,  11.1130,  36.1590,1,  36.1950,2,    182.5,2,    183.8,2,  -999.0, 10.9647,  11094,  11.060
     06HF991_1,  AR16,    23,  1,      1,      1,2,19910318,2335, 40.8333,  -9.4283, 1666,   1427.9,   8.8590,  35.8300,1,  35.8740,2,    199.9,3,    205.1,2,  1402.8,  8.6904,  14229,   8.825
     06HF991_1,  AR16,    24,  1,      1,      1,2,19910319,0252, 40.8333,  -9.3170,  233,    203.1,  13.1300,  35.8320,1,  35.8800,2,    255.5,3,    237.4,2,  -999.0, 13.0992,   2031,  13.060
     06HF991_1,  AR16,    27,  1,      3,      5,2,19910319,1649, 40.8333,  -9.7000, 3145,     47.0,  13.4730,  35.8810,1,  35.9090,2,    287.4,3,    254.4,2,  -999.0, 13.4639,    470,-999.000
     06HF991_1,  AR16,    27,  1,      2,      3,2,19910319,1649, 40.8333,  -9.7000, 3145,    446.8,  11.2080,  35.5890,1,  35.6190,2,    220.0,3,    204.3,2,  -999.0, 11.1490,   4468,-999.000
     06HF991_1,  AR16,    27,  1,      1,      1,2,19910319,1649, 40.8333,  -9.7000, 3145,   1298.5,  10.2050,  36.0750,1,  36.1200,2,    194.9,2,    193.8,2,  -999.0, 10.0396,  12985,-999.000
     06HF991_1,  AR16,    28,  1,      4,      7,2,19910319,2033, 40.8333,  -9.8750, 3350,     98.0,  13.3830,  35.8980,1,  35.9230,2,    280.4,3,    243.5,2,  -999.0, 13.3668,    980,-999.000
     06HF991_1,  AR16,    28,  1,      3,      5,2,19910319,2033, 40.8333,  -9.8750, 3350,    396.1,  11.6860,  35.6140,1,  35.6410,2,    231.4,3,    211.3,2,  -999.0, 11.6322,   3961,-999.000
     06HF991_1,  AR16,    28,  1,      2,      3,2,19910319,2033, 40.8333,  -9.8750, 3350,   1205.8,  10.7480,  36.1550,1,  36.1910,2,    189.8,2,    189.0,2,  -999.0, 10.5902,  12058,  10.695
     06HF991_1,  AR16,    28,  1,      1,      1,2,19910319,2033, 40.8333,  -9.8750, 3350,   1561.2,   7.3710,  35.5660,1,  35.6130,2,    209.3,3,    219.4,2,  1535.6,  7.2028,  15612,   7.345
     06HF991_1,  AR16,    29,  1,      4,      7,2,19910320,0056, 40.8333, -10.2000, 3665,    150.2,  13.3550,  35.8990,1,  35.9240,2,    254.2,3,    243.5,2,  -999.0, 13.3314,   1502,-999.000
     06HF991_1,  AR16,    29,  1,      3,      5,2,19910320,0056, 40.8333, -10.2000, 3665,    398.7,  11.4840,  35.5880,1,  35.6150,2,    222.2,3,    210.4,2,  -999.0, 11.4304,   3987,-999.000
     06HF991_1,  AR16,    29,  1,      2,      3,2,19910320,0056, 40.8333, -10.2000, 3665,   1208.5,  10.8380,  36.1950,1,  36.2270,2,    188.1,2,    188.2,2,  -999.0, 10.6790,  12085,  10.780
     06HF991_1,  AR16,    29,  1,      1,      1,2,19910320,0056, 40.8333, -10.2000, 3665,   1598.0,   6.3300,  35.3650,1,  35.4170,2,    215.7,3,    226.8,2,  1574.0,  6.1702,  15980,   6.300
     06HF991_1,  AR16,    30,  1,      1,      1,2,19910320,0737, 40.8333,  -9.2083,  138,    102.2,  13.1880,  35.8390,1,  35.8780,2,    246.5,3,    236.6,4,  -999.0, 13.1714,   1022,  13.130
     06HF991_1,  AR16,    31,  1,      1,      1,2,19910320,0924, 40.8333,  -9.0917,  104,     81.5,  13.0130,  35.7430,1,  35.7760,2,    262.6,3,    247.0,2,  -999.0, 12.9994,    815,  12.930
     06HF991_1,  AR16,    32,  1,      1,      1,2,19910320,1046, 40.8333,  -8.9583,   61,     51.4,  12.9860,  35.6160,1,  35.6570,2,    255.2,3,    240.9,2,  -999.0, 12.9766,    514,  12.900
     06HF991_1,  AR16,    33,  1,      1,      1,2,19910320,1210, 40.8333,  -8.8417,   42,     35.0,  13.0190,  35.5170,1,  35.5650,2,    257.0,3,    244.4,2,  -999.0, 13.0119,    350,  12.950
     06HF991_2,  AR16,    38,  1,      1,      1,2,19910323,1113, 40.8333,  -8.9583,   63,     39.1,  13.1820,  35.7500,1,  35.7850,2,    278.7,3,    243.1,3,  -999.0, 13.1742,    391,  13.110
     06HF991_2,  AR16,    39,  1,      2,      3,2,19910323,1224, 40.8333,  -9.0917,  104,      7.0,  13.4620,  33.2390,1,  33.2760,2,    308.1,3,    274.9,2,  -999.0, 13.4591,     70,-999.000
     06HF991_2,  AR16,    39,  1,      1,      1,2,19910323,1224, 40.8333,  -9.0917,  104,     84.3,  13.2210,  35.8330,1,  35.8570,2,    276.5,3,    241.3,2,  -999.0, 13.2068,    843,  13.140
     06HF991_2,  AR16,    40,  1,      1,      1,2,19910323,1450, 40.8333,  -9.2083,  134,    120.0,  13.2600,  35.8760,1,  35.8980,2,    263.0,3,    238.7,2,  -999.0, 13.2408,   1200,  13.170
     06HF991_2,  AR16,    41,  1,      2,      3,2,19910323,1655, 40.8333,  -9.3167,  246,    111.9,  13.3620,  35.9090,1,  35.9260,2,    270.8,3,    243.5,2,  -999.0, 13.3438,   1119,-999.000
     06HF991_2,  AR16,    41,  1,      1,      1,2,19910323,1655, 40.8333,  -9.3167,  246,    302.6,  11.7040,  35.6320,1,  35.6510,2,    241.0,3,    215.7,2,  -999.0, 11.6625,   3026,  11.640
     06HF991_2,  AR16,    43,  1,      3,      5,2,19910323,2207, 40.8333,  -9.5417, 2771,    192.5,  13.3590,  35.9060,1,  35.9250,2,    263.3,3,    242.6,2,  -999.0, 13.3294,   1925,-999.000
     06HF991_2,  AR16,    43,  1,      2,      3,2,19910323,2207, 40.8333,  -9.5417, 2771,    334.6,  11.9880,  35.6550,1,  35.6800,2,    229.7,3,    213.1,2,  -999.0, 11.9415,   3346,  11.905
     06HF991_2,  AR16,    43,  1,      1,      1,2,19910323,2207, 40.8333,  -9.5417, 2771,   1072.0,  11.0440,  36.1650,1,  36.1900,2,    193.4,3,    185.6,2,  1054.5, 10.9020,  10720,  11.020
     06HF991_2,  AR16,    44,  1,      3,      5,2,19910324,0114, 40.8333,  -9.7083, 3145,    400.5,  11.4630,  35.5880,1,  35.6070,2,    226.1,3,    211.3,2,  -999.0, 11.4093,   4005,-999.000
     06HF991_2,  AR16,    44,  1,      2,      3,2,19910324,0114, 40.8333,  -9.7083, 3145,   1199.0,  10.7320,  36.1680,1,  36.1930,2,    189.4,3,    182.1,4,  -999.0, 10.5752,  11990,  10.650
     06HF991_2,  AR16,    44,  1,      1,      1,2,19910324,0114, 40.8333,  -9.7083, 3145,   1552.7,   7.5600,  35.6130,1,  35.6480,2,    213.2,2,    216.4,2,  -999.0,  7.3906,  15527,-999.000
     06HF991_2,  AR16,    45,  1,      3,      5,2,19910324,0417, 40.8333,  -9.8750, 3400,    419.8,  11.3470,  35.5770,1,  35.5930,2,    228.3,3,    215.7,2,  -999.0, 11.2911,   4198,-999.000
     06HF991_2,  AR16,    45,  1,      2,      3,2,19910324,0417, 40.8333,  -9.8750, 3400,   1151.6,  11.0430,  36.1680,1,  36.1910,2,    190.7,3,    183.8,2,  -999.0, 10.8901,  11516,  10.980
     06HF991_2,  AR16,    45,  1,      1,      1,2,19910324,0417, 40.8333,  -9.8750, 3400,   1566.1,   6.7240,  35.4650,1,  35.4970,2,    218.8,3,    224.2,2,  1538.4,  6.5629,  15661,   6.675
     06HF991_2,  AR16,    46,  1,      3,      5,2,19910324,0838, 40.8333, -10.2000, 3670,    188.1,  13.2140,  35.8930,1,  35.9050,2,    251.6,3,    237.4,2,  -999.0, 13.1852,   1881,-999.000
     06HF991_2,  AR16,    46,  1,      2,      3,2,19910324,0838, 40.8333, -10.2000, 3670,    386.4,  11.4630,  35.6010,1,  35.6090,2,    221.8,3,    211.7,2,  -999.0, 11.4111,   3864,  11.390
     06HF991_2,  AR16,    46,  1,      1,      1,2,19910324,0838, 40.8333, -10.2000, 3670,   1157.3,  10.9330,  36.1880,1,  36.2040,2,    189.0,2,    186.9,2,  1141.5, 10.7802,  11573,  10.880
     06HF991_2,  AR16,    47,  1,      3,      5,2,19910324,1216, 40.8333, -10.5167, 4458,    406.0,  11.3000,  35.5970,1,  35.6180,2,    217.0,3,    204.8,2,  -999.0, 11.2460,   4060,-999.000
     06HF991_2,  AR16,    47,  1,      2,      3,2,19910324,1216, 40.8333, -10.5167, 4458,   1189.8,  10.6870,  36.1690,1,  36.1920,2,    192.0,3,    188.2,2,  -999.0, 10.5318,  11898,  10.625
     06HF991_2,  AR16,    47,  1,      1,      1,2,19910324,1216, 40.8333, -10.5167, 4458,   1539.6,   6.5990,  35.4260,1,  35.4630,2,    220.5,3,    225.9,2,  1514.7,  6.4424,  15396,   6.525
     06HF991_2,  AR16,    48,  1,      3,      5,2,19910324,1556, 40.8333, -10.8333, 4289,    463.5,  11.3450,  35.6200,1,  35.6430,2,    212.6,3,    201.7,2,  -999.0, 11.2833,   4635,-999.000
     06HF991_2,  AR16,    48,  1,      2,      3,2,19910324,1556, 40.8333, -10.8333, 4289,   1184.7,  10.9470,  36.2090,1,  36.2370,2,    188.9,2,    185.1,2,  -999.0, 10.7903,  11847,  10.880
     06HF991_2,  AR16,    48,  1,      1,      1,2,19910324,1556, 40.8333, -10.8333, 4289,   1535.1,   6.8510,  35.4710,1,  35.5100,2,    218.0,3,    222.9,2,  1506.8,  6.6919,  15351,   6.785
     06HF991_2,  AR16,    49,  1,      3,      5,2,19910325,0037, 40.5833, -10.8000, 4675,    414.7,  11.2970,  35.5830,1,  35.6030,2,    219.6,3,    209.6,2,  -999.0, 11.2419,   4147,-999.000
     06HF991_2,  AR16,    49,  1,      2,      3,2,19910325,0037, 40.5833, -10.8000, 4675,   1191.4,  10.7750,  36.1860,1,  36.2120,2,    191.1,3,    185.5,2,  -999.0, 10.6189,  11914,-999.000
     06HF991_2,  AR16,    49,  1,      1,      1,2,19910325,0037, 40.5833, -10.8000, 4675,   1540.5,   7.3360,  35.5560,1,  35.5920,2,    212.8,3,    218.6,2,  1521.3,  7.1707,  15405,   7.300
     06HF991_2,  AR16,    50,  1,      3,      5,2,19910325,1108, 40.5833, -10.4833, 4000,     97.9,  13.2280,  35.8760,1,  35.9010,2,    265.6,3,    254.4,4,  -999.0, 13.2119,    979,-999.000
     06HF991_2,  AR16,    50,  1,      2,      3,2,19910325,1108, 40.5833, -10.4833, 4000,    416.7,  11.2360,  35.5630,1,  35.5930,2,    217.0,3,    210.4,2,  -999.0, 11.1808,   4167,-999.000
     06HF991_2,  AR16,    50,  1,      1,      1,2,19910325,1108, 40.5833, -10.4833, 4000,   1246.0,  10.5260,  36.1410,1,  36.1730,2,    189.3,2,    190.8,2,  -999.0, 10.3647,  12460,  10.460
     06HF991_2,  AR16,    51,  1,      3,      5,2,19910325,1555, 40.5833, -10.1583, 3324,    403.8,  11.3650,  35.6160,1,  35.6350,2,    205.3,2,    203.5,2,  -999.0, 11.3111,   4038,-999.000
     06HF991_2,  AR16,    51,  1,      2,      3,2,19910325,1555, 40.5833, -10.1583, 3324,   1205.5,  10.9860,  36.2140,1,  36.2350,2,    183.7,2,    186.0,2,  -999.0, 10.8261,  12055,  10.940
     06HF991_2,  AR16,    51,  1,      1,      1,2,19910325,1555, 40.5833, -10.1583, 3324,   1591.4,   6.7350,  35.4640,1,  35.4990,2,    213.2,3,    224.2,2,  1562.2,  6.5710,  15914,   6.700
     06HF991_2,  AR16,    52,  1,      3,      5,2,19910325,2036, 40.5833,  -9.8417, 2478,    101.4,  13.3790,  35.9160,1,  35.9280,2,    260.4,3,    249.6,4,  -999.0, 13.3623,   1014,-999.000
     06HF991_2,  AR16,    52,  1,      2,      3,2,19910325,2036, 40.5833,  -9.8417, 2478,    341.0,  12.0680,  35.6600,1,  35.6790,2,    225.8,3,    220.5,2,  -999.0, 12.0205,   3410,-999.000
     06HF991_2,  AR16,    52,  1,      1,      1,2,19910325,2036, 40.5833,  -9.8417, 2478,   1183.0,  10.9270,  36.1880,1,  36.2110,2,    179.0,3,    187.3,2,  -999.0, 10.7707,  11830,  10.850
     06HF991_2,  AR16,    53,  1,      3,      5,2,19910325,2330, 40.5833,  -9.7250, 2485,    153.9,  13.4080,  35.9190,1,  35.9310,2,    256.8,3,    247.0,4,  -999.0, 13.3838,   1539,-999.000
     06HF991_2,  AR16,    53,  1,      2,      3,2,19910325,2330, 40.5833,  -9.7250, 2485,    511.0,  11.3780,  35.6860,1,  35.7020,2,    197.4,2,    195.6,2,  -999.0, 11.3099,   5110,  11.320
     06HF991_2,  AR16,    53,  1,      1,      1,2,19910325,2330, 40.5833,  -9.7250, 2485,   1212.5,  10.7580,  36.1730,1,  36.1950,2,    181.6,3,    187.3,2,  1193.7, 10.5992,  12125,  10.695
     06HF991_2,  AR16,    54,  1,      1,      1,2,19910326,0221, 40.5833,  -9.6083, 2147,     99.8,  13.3870,  35.9110,1,  35.9210,2,    259.5,3,    251.3,2,  -999.0, 13.3705,    998,  13.300