BOTTLE,20130404CCHSIOCBG
EXPOCODE,SECT_ID,STNNBR,CASTNO,SAMPNO,BTLNBR,BTLNBR_FLAG_W,DATE,TIME,LATITUDE,LONGITUDE,DEPTH,CTDPRS,CTDTMP,CTDSAL,CTDSAL_FLAG_W,SALNTY,SALNTY_FLAG_W,CTDOXY,CTDOXY_FLAG_W,OXYGEN,OXYGEN_FLAG_W,SILCAT,SILCAT_FLAG_W,NITRAT,NITRAT_FLAG_W,NITRIT,NITRIT_FLAG_W,PHSPHT,PHSPHT_FLAG_W,CFC-11,CFC-11_FLAG_W,CFC-12,CFC-12_FLAG_W,SF6,SF6_FLAG_W,TCARBN,TCARBN_FLAG_W,ALKALI,ALKALI_FLAG_W,FCO2,FCO2_FLAG_W,FCO2TMP,PH_TOT,PH_TOT_FLAG_W,PH_TMP,TRITUM,TRITUM_FLAG_W,HELIUM,HELIUM_FLAG_W,DELHE3,DELHE3_FLAG_W,REFTMP,REFTMP_FLAG_W,DELC13,DELC13_FLAG_W,DELC14,DELC14_FLAG_W,C14ERR,CCL4,CCL4_FLAG_W,DOC,DOC_FLAG_W,TDN,TDN_FLAG_W,CTDRAW,THETA
,,,,,,,,,,,METERS,DBAR,ITS-90,PSS-78,,PSS-78,,UMOL/KG,,UMOL/KG,,UMOL/KG,,UMOL/KG,,UMOL/KG,,UMOL/KG,,PMOL/KG,,PMOL/KG,,FMOL/KG,,UMOL/KG,,UMOL/KG,,UATM,,DEG C,,,DEG C,TU,,NMOL/KG,,PERCNT,,DEG C,,/MILLE,,/MILLE,,/MILLE,PMOL/KG,,UMOL/KG,,UMOL/KG,,DBAR,DEG C
33RO20100308,      A13.5,      40,          1,         24,      11714,2,20100324,       0718,   -34.4998,     1.1577,       4941,     5.6,  20.9453,  35.8280,2,  35.8285,2, 224.1000,2,   224.2,2,    1.58,2,    0.00,2,    0.00,2,    0.14,2,   2.084,2,   1.275,2,   1.2860,2,  2070.0,6,  2356.7,6,    371.7,2,    20.00,   8.0109,2,    25.00,-999.000,9,-999.0000,9, -999.00,9,  20.9460,2, -999.00,9,  -999.0,9,  -999.0,   2.477,3, -999.00,9, -999.00,9,    5.60,  20.9442
33RO20100308,      A13.5,      40,          1,         23,      11713,2,20100324,       0718,   -34.4998,     1.1577,       4941,    59.4,  19.1219,  35.6765,2,  35.6814,2, 244.0000,2,   243.4,2,    1.69,2,    0.00,2,    0.00,2,    0.15,2,-999.000,9,-999.000,9,-999.0000,9,  2065.8,2,  2342.2,2,   -999.0,9,  -999.00,   8.0030,2,    25.00,-999.000,9,-999.0000,9, -999.00,9,  19.1129,3, -999.00,9,  -999.0,9,  -999.0,-999.000,9, -999.00,9, -999.00,9,   59.40,  19.1112
33RO20100308,      A13.5,      40,          1,         22,      11712,2,20100324,       0718,   -34.4998,     1.1577,       4941,    90.8,  17.6306,  35.6405,2,  35.6407,2, 246.1000,2,   245.3,2,    1.94,2,    0.02,2,    0.00,2,    0.19,2,-999.000,9,-999.000,9,-999.0000,9,  2070.0,2,  2342.6,2,    389.1,2,    20.00,   7.9909,2,    25.00,-999.000,9,-999.0000,9, -999.00,9,  17.6253,2, -999.00,9,  -999.0,9,  -999.0,-999.000,9, -999.00,9, -999.00,9,   90.80,  17.6152
33RO20100308,      A13.5,      40,          1,         21,      11010,2,20100324,       0718,   -34.4998,     1.1577,       4941,   139.9,  16.1947,  35.5640,2,  35.5650,2, 231.1000,2,   231.0,2,    2.04,2,    1.89,2,    0.21,2,    0.33,2,   2.565,6,   1.542,6,   1.4180,6,  2086.3,2,  2335.3,2,    440.3,2,    20.00,   7.9526,2,    25.00,-999.000,9,-999.0000,9, -999.00,9,  16.1932,2, -999.00,9,  -999.0,9,  -999.0,   1.688,3, -999.00,9, -999.00,9,  139.90,  16.1723
33RO20100308,      A13.5,      40,          1,         20,      11715,2,20100324,       0718,   -34.4998,     1.1577,       4941,   201.0,  15.2301,  35.4466,2,  35.4527,2, 222.2000,2,   224.6,2,    2.15,2,    3.98,2,    0.01,2,    0.44,2,-999.000,9,-999.000,9,-999.0000,9,  2096.2,2,  2333.0,2,    467.2,2,    20.00,   7.9245,2,    25.00,-999.000,9,-999.0000,9, -999.00,9,  15.2311,2, -999.00,9,  -999.0,9,  -999.0,-999.000,9, -999.00,9, -999.00,9,  201.00,  15.1992
33RO20100308,      A13.5,      40,          1,         19,      11007,2,20100324,       0718,   -34.4998,     1.1577,       4941,   275.3,  13.6850,  35.2522,4,  35.5655,4, 215.3000,2,   213.9,2,    3.42,2,    8.36,2,    0.01,2,    0.69,2,   2.854,2,   1.674,2,   1.2730,2,  2112.8,2,  2317.0,2,    554.9,2,    20.00,   7.8693,2,    25.00,-999.000,9,-999.0000,9, -999.00,9,  13.6829,2, -999.00,9,  -999.0,9,  -999.0,   1.144,3, -999.00,9, -999.00,9,  275.30,  13.6456
33RO20100308,      A13.5,      40,          1,         18,      11710,2,20100324,       0718,   -34.4998,     1.1577,       4941,   349.4,  12.3931,  35.0899,2,  35.0897,2, 215.7000,2,   215.4,2,    4.01,2,   11.03,2,    0.00,2,    0.85,2,-999.000,9,-999.000,9,-999.0000,9,  2120.4,2,  2318.1,2,    588.6,2,    20.00,   7.8366,2,    25.00,-999.000,9,-999.0000,9, -999.00,9,  12.3929,2, -999.00,9,  -999.0,9,  -999.0,-999.000,9, -999.00,9, -999.00,9,  349.40,  12.3462
33RO20100308,      A13.5,      40,          1,         17,      11025,2,20100324,       0718,   -34.4998,     1.1577,       4941,   499.5,   9.9721,  34.7863,2,  34.7891,2, 202.7000,2,   202.1,2,    7.98,2,   18.05,2,    0.00,2,    1.29,2,   3.119,2,   1.701,2,   0.9830,2,  2146.3,2,  2301.3,2,    738.2,2,    20.00,   7.7508,2,    25.00,-999.000,9,-999.0000,9, -999.00,9,   9.9786,2, -999.00,9,  -999.0,9,  -999.0,   1.642,3, -999.00,9, -999.00,9,  499.50,   9.9135
33RO20100308,      A13.5,      40,          1,         16,      11709,2,20100324,       0718,   -34.4998,     1.1577,       4941,   600.2,   8.2448,  34.5912,2,  34.5929,2, 204.6000,2,   203.6,2,   11.04,2,   22.14,2,    0.00,2,    1.55,2,-999.000,9,-999.000,9,-999.0000,9,  2158.0,2,  2293.0,2,    808.5,2,    20.00,   7.7061,2,    25.00,-999.000,9,-999.0000,9, -999.00,9,   8.2461,2, -999.00,9,  -999.0,9,  -999.0,-999.000,9, -999.00,9, -999.00,9,  600.20,   8.1818
33RO20100308,      A13.5,      40,          1,         15,      11006,2,20100324,       0718,   -34.4998,     1.1577,       4941,   752.0,   6.0268,  34.3963,2,  34.3969,2, 208.7000,2,   207.8,2,   18.14,2,   27.17,2,    0.00,2,    1.88,2,   2.959,2,   1.524,2,   0.8700,2,  2174.7,2,  2289.6,2,   -999.0,9,  -999.00,   7.6565,2,    25.00,-999.000,9,-999.0000,9, -999.00,9,   6.0307,2, -999.00,9,  -999.0,9,  -999.0,   2.827,3, -999.00,9, -999.00,9,  752.00,   5.9597
33RO20100308,      A13.5,      40,          1,         14,      11708,2,20100324,       0718,   -34.4998,     1.1577,       4941,   900.0,   4.4733,  34.2844,2,  34.2837,2, 225.4000,2,   224.9,2,   23.40,2,   29.22,2,    0.00,2,    2.02,2,-999.000,9,-999.000,9,-999.0000,9,  2180.2,2,  2289.0,2,    951.2,2,    20.00,   7.6429,2,    25.00,-999.000,9,-999.0000,9, -999.00,9,   4.4729,2, -999.00,9,  -999.0,9,  -999.0,-999.000,9, -999.00,9, -999.00,9,  900.00,   4.4029
33RO20100308,      A13.5,      40,          1,         13,      11031,2,20100324,       0718,   -34.4998,     1.1577,       4941,  1051.1,   3.6596,  34.3177,2,  34.3202,2, 211.5000,2,   211.9,6,   35.44,2,   31.45,2,    0.00,2,    2.18,2,   2.169,2,   1.066,2,   0.3490,2,  2200.3,2,  2301.2,2,   1024.0,2,    20.00,   7.6142,2,    25.00,-999.000,9,-999.0000,9, -999.00,9,   3.6600,2, -999.00,9,  -999.0,9,  -999.0,   2.734,3, -999.00,9, -999.00,9, 1051.10,   3.5827
33RO20100308,      A13.5,      40,          1,         12,      11027,2,20100324,       0718,   -34.4998,     1.1577,       4941,  1200.0,   3.3943,  34.4239,2,  34.4273,2, 186.0000,2,   188.6,6,   48.21,2,   33.04,2,    0.00,2,    2.28,2,-999.000,9,-999.000,9,-999.0000,9,  2222.3,2,  2315.1,2,   -999.0,9,  -999.00,   7.5880,2,    25.00,-999.000,9,-999.0000,9, -999.00,9,   3.3935,2, -999.00,9,  -999.0,9,  -999.0,-999.000,9, -999.00,9, -999.00,9, 1200.00,   3.3074
33RO20100308,      A13.5,      40,          1,         11,      11707,2,20100324,       0718,   -34.4998,     1.1577,       4941,  1398.5,   3.0376,  34.5298,2,  34.5300,2, 180.4000,2,   181.7,2,   56.83,2,   32.82,2,    0.00,2,    2.28,2,   0.553,2,   0.271,2,   0.1370,2,  2233.6,2,  2326.6,2,   1115.8,2,    20.00,   7.5847,2,    25.00,-999.000,9,-999.0000,9, -999.00,9,   3.0373,2, -999.00,9,  -999.0,9,  -999.0,   0.942,3, -999.00,9, -999.00,9, 1398.50,   2.9378
33RO20100308,      A13.5,      40,          1,         10,      11003,2,20100324,       0718,   -34.4998,     1.1577,       4941,  1598.8,   2.9663,  34.6360,2,  34.6352,2, 184.8000,2,   185.5,2,   56.69,2,   31.21,2,    0.00,2,    2.16,2,-999.000,9,-999.000,9,-999.0000,9,  2231.3,2,  2328.4,2,   -999.0,9,  -999.00,   7.6017,2,    25.00,-999.000,9,-999.0000,9, -999.00,9,   2.9660,2, -999.00,9,  -999.0,9,  -999.0,-999.000,9, -999.00,9, -999.00,9, 1598.80,   2.8504
33RO20100308,      A13.5,      40,          1,          9,      11706,2,20100324,       0718,   -34.4998,     1.1577,       4941,  1802.0,   2.8056,  34.7061,2,  34.7052,2, 190.5000,2,   191.0,2,   59.90,2,   29.92,2,    0.00,2,    2.07,2,   0.151,2,   0.068,2,   0.0000,2,  2229.6,2,  2335.7,2,   1031.2,2,    20.00,   7.6170,2,    25.00,-999.000,9,-999.0000,9, -999.00,9,   2.8052,2, -999.00,9,  -999.0,9,  -999.0,   0.321,3, -999.00,9, -999.00,9, 1802.00,   2.6742
33RO20100308,      A13.5,      40,          1,          8,      11033,2,20100324,       0718,   -34.4998,     1.1577,       4941,  2099.2,   2.7308,  34.7942,2,  34.7941,2, 206.3000,2,   207.3,2,   55.47,2,   27.30,2,    0.00,2,    1.87,2,-999.000,9,-999.000,9,-999.0000,9,  2219.1,2,  2335.1,2,   -999.0,9,  -999.00,   7.6535,2,    25.00,-999.000,9,-999.0000,9, -999.00,9,   2.7303,2, -999.00,9,  -999.0,9,  -999.0,-999.000,9, -999.00,9, -999.00,9, 2099.20,   2.5738
33RO20100308,      A13.5,      40,          1,          7,      11705,2,20100324,       0718,   -34.4998,     1.1577,       4941,  2499.9,   2.5325,  34.8331,3,  34.8398,2, 219.0000,2,   220.2,2,   55.32,2,   25.84,2,    0.00,2,    1.76,2,   0.021,2,   0.010,2,   0.0000,2,  2211.7,2,  2340.2,2,    885.5,2,    20.00,   7.6782,2,    25.00,-999.000,9,-999.0000,9, -999.00,9,   2.5329,2, -999.00,9,  -999.0,9,  -999.0,   0.074,3, -999.00,9, -999.00,9, 2499.90,   2.3416
33RO20100308,      A13.5,      40,          1,          6,      11029,2,20100324,       0718,   -34.4998,     1.1577,       4941,  2900.4,   2.3679,  34.8451,2,  34.8454,2, 225.6000,2,   226.7,2,   57.08,2,   25.16,2,    0.00,2,    1.72,2,   0.013,2,   0.007,2,   0.0000,2,  2211.3,2,  2341.7,2,   -999.0,9,  -999.00,   7.6915,2,    25.00,-999.000,9,-999.0000,9, -999.00,9,   2.3674,2, -999.00,9,  -999.0,9,  -999.0,   0.052,3, -999.00,9, -999.00,9, 2900.40,   2.1412
33RO20100308,      A13.5,      40,          1,          5,      11704,2,20100324,       0718,   -34.4998,     1.1577,       4941,  3297.2,   2.1898,  34.8437,2,  34.8436,2, 229.0000,2,   228.9,2,   62.00,6,   25.17,6,    0.00,6,    1.72,6,   0.015,2,   0.008,2,   0.0000,2,  2212.5,2,  2348.4,2,    854.8,2,    20.00,   7.6946,2,    25.00,-999.000,9,-999.0000,9, -999.00,9,   2.1891,2, -999.00,9,  -999.0,9,  -999.0,   0.051,3, -999.00,9, -999.00,9, 3297.20,   1.9268
33RO20100308,      A13.5,      40,          1,          4,      11030,2,20100324,       0718,   -34.4998,     1.1577,       4941,  3699.7,   1.7979,  34.8082,2,  34.8084,2, 223.1000,2,   224.4,2,   78.27,6,   27.12,6,    0.00,6,    1.85,6,   0.027,2,   0.014,2,   0.0550,2,  2229.8,2,  2356.8,2,   -999.0,9,  -999.00,   7.6770,2,    25.00,-999.000,9,-999.0000,9, -999.00,9,   1.7978,2, -999.00,9,  -999.0,9,  -999.0,   0.083,3, -999.00,9, -999.00,9, 3699.70,   1.5024
33RO20100308,      A13.5,      40,          1,          3,      11703,2,20100324,       0718,   -34.4998,     1.1577,       4941,  4101.7,   1.2813,  34.7552,2,  34.7548,2, 218.2000,2,   218.6,2,   99.25,6,   29.63,6,    0.00,6,    2.04,6,   0.058,2,   0.026,2,   0.1000,2,  2247.2,2,  2365.2,2,   -999.0,5,    20.00,   7.6502,2,    25.00,-999.000,9,-999.0000,9, -999.00,9,   1.2812,2, -999.00,9,  -999.0,9,  -999.0,   0.156,3, -999.00,9, -999.00,9, 4101.70,   0.9570
33RO20100308,      A13.5,      40,          1,          2,      11702,2,20100324,       0718,   -34.4998,     1.1577,       4941,  4499.5,   1.1384,  34.7389,2,  34.7385,2, 216.9000,2,   216.9,2,  105.81,6,   30.31,6,    0.00,6,    2.10,6,   0.069,2,   0.032,2,   0.0000,2,  2252.5,2,  2368.3,2,   -999.0,9,  -999.00,   7.6426,2,    25.00,-999.000,9,-999.0000,9, -999.00,9,   1.1382,2, -999.00,9,  -999.0,9,  -999.0,   0.188,3, -999.00,9, -999.00,9, 4499.50,   0.7743
33RO20100308,      A13.5,      40,          1,          1,      11701,2,20100324,       0718,   -34.4998,     1.1577,       4941,  5009.9,   1.1422,  34.7332,2,  34.7362,2, 217.3000,2,   216.5,2,  108.33,6,   30.68,6,    0.00,6,    2.12,6,   0.087,2,   0.039,2,   0.0000,2,  2254.3,6,  2366.6,6,   -999.0,5,    20.00,   7.6408,2,    25.00,-999.000,9,-999.0000,9, -999.00,9,   1.1419,2, -999.00,9,  -999.0,9,  -999.0,   0.210,3, -999.00,9, -999.00,9, 5009.90,   0.7185