BOTTLE,20130404CCHSIOCBG
EXPOCODE,SECT_ID,STNNBR,CASTNO,SAMPNO,BTLNBR,BTLNBR_FLAG_W,DATE,TIME,LATITUDE,LONGITUDE,DEPTH,CTDPRS,CTDTMP,CTDSAL,CTDSAL_FLAG_W,SALNTY,SALNTY_FLAG_W,CTDOXY,CTDOXY_FLAG_W,OXYGEN,OXYGEN_FLAG_W,SILCAT,SILCAT_FLAG_W,NITRAT,NITRAT_FLAG_W,NITRIT,NITRIT_FLAG_W,PHSPHT,PHSPHT_FLAG_W,CFC-11,CFC-11_FLAG_W,CFC-12,CFC-12_FLAG_W,SF6,SF6_FLAG_W,TCARBN,TCARBN_FLAG_W,ALKALI,ALKALI_FLAG_W,FCO2,FCO2_FLAG_W,FCO2TMP,PH_TOT,PH_TOT_FLAG_W,PH_TMP,TRITUM,TRITUM_FLAG_W,HELIUM,HELIUM_FLAG_W,DELHE3,DELHE3_FLAG_W,REFTMP,REFTMP_FLAG_W,DELC13,DELC13_FLAG_W,DELC14,DELC14_FLAG_W,C14ERR,CCL4,CCL4_FLAG_W,DOC,DOC_FLAG_W,TDN,TDN_FLAG_W,CTDRAW,THETA
,,,,,,,,,,,METERS,DBAR,ITS-90,PSS-78,,PSS-78,,UMOL/KG,,UMOL/KG,,UMOL/KG,,UMOL/KG,,UMOL/KG,,UMOL/KG,,PMOL/KG,,PMOL/KG,,FMOL/KG,,UMOL/KG,,UMOL/KG,,UATM,,DEG C,,,DEG C,TU,,NMOL/KG,,PERCNT,,DEG C,,/MILLE,,/MILLE,,/MILLE,PMOL/KG,,UMOL/KG,,UMOL/KG,,DBAR,DEG C
33RO20100308,      A13.5,      93,          1,         24,      11714,2,20100409,       0512,    -7.9997,    -0.7167,       5006,     5.4,  28.4644,  35.8400,2,  35.8420,2, 196.1000,2,   196.8,2,    0.84,6,    0.04,6,    0.00,6,    0.08,6,   1.484,2,   0.963,2,   0.9790,2,  2022.0,6,  2357.7,2,    294.6,2,    20.00,   8.0890,2,    25.00,-999.000,9,-999.0000,9, -999.00,9,-999.0000,9,    1.49,2,    46.1,2,     2.1,-999.000,5,   78.66,2,    5.15,2,    5.40,  28.4631
33RO20100308,      A13.5,      93,          1,         23,      11716,2,20100409,       0512,    -7.9997,    -0.7167,       5006,    40.0,  22.9498,  36.1518,2,  36.1108,2, 225.9000,2,   218.1,2,    1.84,2,    1.27,2,    0.03,2,    0.25,2,   1.915,2,   1.174,2,   1.0070,2,  2077.4,2,  2372.4,6,    363.9,6,    20.00,   8.0173,2,    25.00,-999.000,9,-999.0000,9, -999.00,9,-999.0000,9,    1.51,2,    45.3,2,     2.0,-999.000,5,   74.45,2,    6.27,2,   40.00,  22.9416
33RO20100308,      A13.5,      93,          1,         22,      11022,2,20100409,       0512,    -7.9997,    -0.7167,       5006,    79.8,  15.4337,  35.5856,2,  35.5828,2,  92.0000,2,    90.3,2,    6.45,2,   20.95,2,    0.09,2,    1.39,2,   2.102,2,   1.201,2,   0.6970,2,  2196.9,2,  2330.8,6,    839.1,2,    20.00,   7.6967,2,    25.00,-999.000,9,-999.0000,9, -999.00,9,-999.0000,9,    0.51,2,    45.5,2,     2.3,-999.000,5,   55.55,2,   24.77,2,   79.80,  15.4214
33RO20100308,      A13.5,      93,          1,         21,      11010,2,20100409,       0512,    -7.9997,    -0.7167,       5006,   149.8,  13.5744,  35.3604,2,  35.3607,2,  77.8000,2,    79.9,6,    8.68,2,   24.51,2,    0.01,2,    1.59,2,   1.919,2,   1.082,2,   0.4750,2,  2207.5,2,  2317.6,2,    966.6,2,    20.00,   7.6415,2,    25.00,-999.000,9,-999.0000,9, -999.00,9,-999.0000,9,    0.42,2,    30.1,2,     2.2,-999.000,5,   48.63,2,   27.22,2,  149.80,  13.5532
33RO20100308,      A13.5,      93,          1,         20,      11715,2,20100409,       0512,    -7.9997,    -0.7167,       5006,   248.3,  11.9743,  35.1538,2,  35.1506,2,  79.4000,2,    79.3,2,   10.64,2,   27.18,2,    0.01,2,    1.74,2,   1.674,6,   0.917,6,   0.4120,6,  2213.7,2,  2309.9,2,   1068.4,2,    20.00,   7.6006,2,    25.00,-999.000,9,-999.0000,9, -999.00,9,-999.0000,9,    0.46,2,    20.2,2,     2.1,-999.000,5,   46.14,2,   29.50,2,  248.30,  11.9418
33RO20100308,      A13.5,      93,          1,         19,      11007,2,20100409,       0512,    -7.9997,    -0.7167,       5006,   349.7,  10.2813,  34.9536,2,  34.9514,2,  64.7000,2,    66.0,2,   13.65,2,   31.89,2,    0.01,2,    2.01,2,   1.181,2,   0.633,2,   0.2470,2,  2229.5,2,  2300.8,2,   1272.3,2,    20.00,   7.5300,2,    25.00,-999.000,9,-999.0000,9, -999.00,9,-999.0000,9,    0.35,2,    -5.6,2,     2.1,-999.000,5,   43.87,2,   33.17,2,  349.70,  10.2397
33RO20100308,      A13.5,      93,          1,         18,      11710,2,20100409,       0512,    -7.9997,    -0.7167,       5006,   450.0,   8.6227,  34.7857,2,  34.7870,2,  48.5000,2,    49.1,2,   17.98,2,   37.05,2,    0.00,2,    2.33,2,   0.488,2,   0.259,2,   0.0000,2,  2247.2,2,  2295.5,2,   1546.1,2,    20.00,   7.4510,2,    25.00,-999.000,9,-999.0000,9, -999.00,9,-999.0000,9,    0.36,2,   -48.0,2,     2.0,-999.000,5,   43.01,2,   38.86,2,  450.00,   8.5745
33RO20100308,      A13.5,      93,          1,         17,      11025,2,20100409,       0512,    -7.9997,    -0.7167,       5006,   550.4,   7.2810,  34.6639,2,  34.6611,2,  56.9000,2,    58.0,2,   21.73,2,   39.13,2,    0.00,2,    2.50,2,   0.194,2,   0.107,2,   0.0000,2,  2251.2,2,  2292.5,2,   1618.0,2,    20.00,   7.4333,2,    25.00,-999.000,9,-999.0000,9, -999.00,9,-999.0000,9,    0.33,2,   -77.2,2,     1.8,-999.000,5,   42.15,2,   40.96,2,  550.40,   7.2272
33RO20100308,      A13.5,      93,          1,         16,      11709,2,20100409,       0512,    -7.9997,    -0.7167,       5006,   650.1,   6.0314,  34.5616,2,  34.5614,2,  83.3000,2,    85.5,2,   25.72,2,   38.81,2,    0.00,2,    2.54,2,   0.096,2,   0.055,2,   0.0000,2,  2243.5,2,  2294.2,2,   1514.9,6,    20.00,   7.4602,2,    25.00,-999.000,9,-999.0000,9, -999.00,9,-999.0000,9,    0.62,2,  -105.7,2,     1.8,-999.000,5,   41.21,2,   40.78,2,  650.10,   5.9737
33RO20100308,      A13.5,      93,          1,         15,      11006,2,20100409,       0512,    -7.9997,    -0.7167,       5006,   749.5,   5.2139,  34.5120,2,  34.5108,2, 112.5000,2,   113.3,2,   29.41,2,   37.43,2,    0.00,2,    2.49,2,   0.072,2,   0.041,2,   0.0000,2,  2234.0,2,  2296.3,2,   1379.2,2,    20.00,   7.4965,2,    25.00,-999.000,9,-999.0000,9, -999.00,9,-999.0000,9,    0.59,2,  -106.0,2,     1.8,-999.000,5,   40.69,2,   39.89,2,  749.50,   5.1516
33RO20100308,      A13.5,      93,          1,         14,      11708,2,20100409,       0512,    -7.9997,    -0.7167,       5006,   850.0,   4.6410,  34.5151,2,  34.5149,2, 129.0000,2,   129.7,2,   32.70,2,   36.28,2,    0.00,2,    2.44,2,   0.032,2,   0.019,2,   0.0000,2,  2230.8,2,  2300.7,2,   1307.4,2,    20.00,   7.5184,2,    25.00,-999.000,9,-999.0000,9, -999.00,9,-999.0000,9,    0.64,2,  -121.0,2,     2.2,-999.000,5,   40.31,2,   37.60,2,  850.00,   4.5734
33RO20100308,      A13.5,      93,          1,         13,      11031,2,20100409,       0512,    -7.9997,    -0.7167,       5006,  1000.0,   4.3028,  34.5814,2,  34.5804,2, 145.1000,2,   146.0,2,   33.88,2,   34.22,2,    0.00,2,    2.32,2,   0.014,2,   0.009,2,   0.0000,2,  2225.8,2,  2306.0,2,   1215.6,2,    20.00,   7.5479,2,    25.00,-999.000,9,-999.0000,9, -999.00,9,-999.0000,9,    0.72,2,  -119.9,2,     2.1,-999.000,5,   40.19,2,   36.57,2, 1000.00,   4.2247
33RO20100308,      A13.5,      93,          1,         12,      11027,2,20100409,       0512,    -7.9997,    -0.7167,       5006,  1200.6,   4.1461,  34.7330,2,  34.7327,2, 169.8000,2,   170.2,2,   30.66,2,   30.13,2,    0.00,2,    2.04,2,   0.009,2,   0.005,2,   0.0000,2,  2211.3,2,  2311.8,2,   1061.2,2,    20.00,   7.6027,2,    25.00,-999.000,9,-999.0000,9, -999.00,9,-999.0000,9,    0.75,2,  -123.5,2,     3.3,-999.000,5,   40.31,2,   31.96,2, 1200.60,   4.0517
33RO20100308,      A13.5,      93,          1,         11,      11707,2,20100409,       0512,    -7.9997,    -0.7167,       5006,  1397.5,   4.0749,  34.8546,2,  34.8550,2, 197.9000,2,   197.8,2,   25.97,2,   26.04,2,    0.00,2,    1.75,2,   0.017,2,   0.010,2,   0.0000,2,  2194.7,2,  2314.3,2,    925.0,2,    20.00,   7.6589,2,    25.00,-999.000,9,-999.0000,9, -999.00,9,-999.0000,9,    0.89,2,  -108.4,2,     2.6,-999.000,5,   39.62,2,   27.64,2, 1397.50,   3.9634
33RO20100308,      A13.5,      93,          1,         10,      11003,2,20100409,       0512,    -7.9997,    -0.7167,       5006,  1699.2,   3.7872,  34.9297,2,  34.9294,2, 224.6000,2,   224.1,2,   24.03,2,   22.72,2,    0.00,2,    1.51,2,   0.020,2,   0.013,2,   0.0000,2,  2179.4,2,  2317.2,2,    827.0,2,    20.00,   7.7033,2,    25.00,-999.000,9,-999.0000,9, -999.00,9,-999.0000,9,    0.95,2,  -103.9,2,     2.6,-999.000,5,   40.33,2,   25.09,2, 1699.20,   3.6514
33RO20100308,      A13.5,      93,          1,          9,      11706,2,20100409,       0512,    -7.9997,    -0.7167,       5006,  1998.7,   3.4377,  34.9347,2,  34.9348,2, 232.8000,2,   232.7,2,   27.37,2,   22.02,2,    0.00,2,    1.47,2,   0.009,2,   0.006,2,   0.0000,2,  2179.6,2,  2321.6,2,    804.3,2,    20.00,   7.7133,2,    25.00,-999.000,9,-999.0000,9, -999.00,9,-999.0000,9,    0.99,2,  -105.4,2,     3.0,-999.000,5,   40.09,2,   23.75,2, 1998.70,   3.2787
33RO20100308,      A13.5,      93,          1,          8,      11033,2,20100409,       0512,    -7.9997,    -0.7167,       5006,  2298.3,   3.1022,  34.9264,2,  34.9258,2, 234.4000,2,   234.0,2,   32.92,6,   22.12,6,    0.00,6,    1.48,2,   0.004,2,   0.003,2,   0.0000,2,  2184.1,2,  2327.6,2,    802.9,2,    20.00,   7.7153,2,    25.00,-999.000,9,-999.0000,9, -999.00,9,-999.0000,9, -999.00,9,  -999.0,9,  -999.0,-999.000,5,   39.34,2,   23.96,2, 2298.30,   2.9201
33RO20100308,      A13.5,      93,          1,          7,      11705,2,20100409,       0512,    -7.9997,    -0.7167,       5006,  2599.6,   2.7696,  34.9118,2,  34.9121,2, 235.2000,2,   236.0,2,   39.47,6,   22.41,6,    0.00,6,    1.49,6,   0.003,2,   0.002,2,   0.0000,2,  2191.7,2,  2335.1,2,    803.0,2,    20.00,   7.7173,2,    25.00,-999.000,9,-999.0000,9, -999.00,9,-999.0000,9, -999.00,9,  -999.0,9,  -999.0,-999.000,5,   39.51,2,   24.22,2, 2599.60,   2.5643
33RO20100308,      A13.5,      93,          1,          6,      11029,2,20100409,       0512,    -7.9997,    -0.7167,       5006,  2899.6,   2.6481,  34.9053,2,  34.9042,2, 235.4000,2,   236.3,2,   42.51,6,   22.57,6,    0.00,6,    1.51,6,   0.001,2,   0.001,2,   0.0000,2,  2196.4,2,  2339.3,2,    797.1,2,    20.00,   7.7187,2,    25.00,-999.000,9,-999.0000,9, -999.00,9,-999.0000,9, -999.00,9,  -999.0,9,  -999.0,-999.000,5,   39.56,2,   24.03,2, 2899.60,   2.4153
33RO20100308,      A13.5,      93,          1,          5,      11704,2,20100409,       0512,    -7.9997,    -0.7167,       5006,  3299.7,   2.4974,  34.8964,2,  34.8958,2, 234.0000,2,   235.3,2,   46.56,6,   22.83,6,    0.00,6,    1.52,6,   0.002,6,   0.002,6,   0.0000,6,  2202.7,2,  2343.9,2,    799.5,2,    20.00,   7.7150,2,    25.00,-999.000,9,-999.0000,9, -999.00,9,-999.0000,9, -999.00,9,  -999.0,9,  -999.0,-999.000,5,   40.20,2,   25.08,2, 3299.70,   2.2265
33RO20100308,      A13.5,      93,          1,          4,      11030,2,20100409,       0512,    -7.9997,    -0.7167,       5006,  3699.4,   2.3967,  34.8883,2,  34.8881,2, 234.6000,2,   236.1,6,   49.52,6,   23.01,6,    0.00,6,    1.54,6,   0.003,2,   0.004,2,   0.0000,2,  2206.6,2,  2347.1,2,    800.5,2,    20.00,   7.7173,2,    25.00,-999.000,9,-999.0000,9, -999.00,9,-999.0000,9, -999.00,9,  -999.0,9,  -999.0,-999.000,5,   40.46,2,   25.30,2, 3699.40,   2.0851
33RO20100308,      A13.5,      93,          1,          3,      11703,2,20100409,       0512,    -7.9997,    -0.7167,       5006,  4099.6,   2.3438,  34.8822,2,  34.8818,2, 236.7000,2,   237.1,2,   51.23,6,   23.06,6,    0.00,6,    1.54,6,   0.007,2,   0.006,2,   0.0000,2,  2208.0,2,  2349.0,2,    800.1,2,    20.00,   7.7189,2,    25.00,-999.000,9,-999.0000,9, -999.00,9,-999.0000,9, -999.00,9,  -999.0,9,  -999.0,-999.000,5,   40.17,2,   24.79,2, 4099.60,   1.9885
33RO20100308,      A13.5,      93,          1,          2,      11702,2,20100409,       0512,    -7.9997,    -0.7167,       5006,  4500.2,   2.3568,  34.8801,2,  34.8791,2, 235.2000,2,   237.0,2,   52.45,6,   23.18,6,    0.00,6,    1.55,6,   0.007,2,   0.007,2,   0.0000,2,  2210.6,2,  2352.9,2,    801.9,2,    20.00,   7.7172,2,    25.00,-999.000,9,-999.0000,9, -999.00,9,-999.0000,9, -999.00,9,  -999.0,9,  -999.0,   0.000,3,   39.85,2,   24.86,2, 4500.20,   1.9539
33RO20100308,      A13.5,      93,          1,          1,      11701,2,20100409,       0512,    -7.9997,    -0.7167,       5006,  5069.8,   2.3866,  34.8764,2,  34.8764,2, 237.3000,2,  -999.0,9,   53.37,2,   23.19,2,    0.00,2,    1.56,2,-999.000,9,-999.000,9,-999.0000,9,  2210.8,6,  2354.0,2,    803.6,2,    20.00,   7.7179,2,    25.00,-999.000,9,-999.0000,9, -999.00,9,-999.0000,9, -999.00,9,  -999.0,9,  -999.0,-999.000,9,   40.40,2,   25.16,2, 5069.80,   1.9122