BOTTLE,20130404CCHSIOCBG
EXPOCODE,SECT_ID,STNNBR,CASTNO,SAMPNO,BTLNBR,BTLNBR_FLAG_W,DATE,TIME,LATITUDE,LONGITUDE,DEPTH,CTDPRS,CTDTMP,CTDSAL,CTDSAL_FLAG_W,SALNTY,SALNTY_FLAG_W,CTDOXY,CTDOXY_FLAG_W,OXYGEN,OXYGEN_FLAG_W,SILCAT,SILCAT_FLAG_W,NITRAT,NITRAT_FLAG_W,NITRIT,NITRIT_FLAG_W,PHSPHT,PHSPHT_FLAG_W,CFC-11,CFC-11_FLAG_W,CFC-12,CFC-12_FLAG_W,SF6,SF6_FLAG_W,TCARBN,TCARBN_FLAG_W,ALKALI,ALKALI_FLAG_W,FCO2,FCO2_FLAG_W,FCO2TMP,PH_TOT,PH_TOT_FLAG_W,PH_TMP,TRITUM,TRITUM_FLAG_W,HELIUM,HELIUM_FLAG_W,DELHE3,DELHE3_FLAG_W,REFTMP,REFTMP_FLAG_W,DELC13,DELC13_FLAG_W,DELC14,DELC14_FLAG_W,C14ERR,CCL4,CCL4_FLAG_W,DOC,DOC_FLAG_W,TDN,TDN_FLAG_W,CTDRAW,THETA
,,,,,,,,,,,METERS,DBAR,ITS-90,PSS-78,,PSS-78,,UMOL/KG,,UMOL/KG,,UMOL/KG,,UMOL/KG,,UMOL/KG,,UMOL/KG,,PMOL/KG,,PMOL/KG,,FMOL/KG,,UMOL/KG,,UMOL/KG,,UATM,,DEG C,,,DEG C,TU,,NMOL/KG,,PERCNT,,DEG C,,/MILLE,,/MILLE,,/MILLE,PMOL/KG,,UMOL/KG,,UMOL/KG,,DBAR,DEG C
33RO20100308,      A13.5,      95,          1,         24,      11714,2,20100409,       1837,    -6.9995,    -1.5615,       3955,     5.8,  28.8173,  35.6161,2,  35.6187,2, 195.4000,2,   196.1,2,    0.81,6,    0.04,6,    0.00,6,    0.08,6,   1.506,2,   0.961,2,   1.0180,2,  2011.5,6,  2350.7,2,    293.4,2,    20.00,   8.0895,2,    25.00,-999.000,9,-999.0000,9, -999.00,9,-999.0000,9, -999.00,9,  -999.0,9,  -999.0,   1.739,3,   74.57,2,    4.85,2,    5.80,  28.8159
33RO20100308,      A13.5,      95,          1,         23,      11716,2,20100409,       1837,    -6.9995,    -1.5615,       3955,    35.3,  27.7390,  36.0035,2,  36.0106,2, 203.2000,2,   205.3,2,    1.12,2,    0.19,2,    0.00,2,    0.13,2,   1.618,2,   1.013,2,   0.9610,2,  2041.2,2,  2369.1,6,    309.2,2,    20.00,   8.0725,2,    25.00,-999.000,9,-999.0000,9, -999.00,9,-999.0000,9, -999.00,9,  -999.0,9,  -999.0,   1.424,3,   74.10,2,    4.98,2,   35.30,  27.7307
33RO20100308,      A13.5,      95,          1,         22,      11022,2,20100409,       1837,    -6.9995,    -1.5615,       3955,    68.1,  18.0669,  35.7938,2,  35.7886,2, 124.9000,2,   121.7,2,    4.50,2,   14.35,2,    0.59,2,    1.06,2,   2.009,2,   1.168,2,   0.7640,2,  2164.1,2,  2348.4,6,    642.0,2,    20.00,   7.8044,2,    25.00,-999.000,9,-999.0000,9, -999.00,9,-999.0000,9, -999.00,9,  -999.0,9,  -999.0,   0.542,3,   55.49,2,   18.28,2,   68.10,  18.0552
33RO20100308,      A13.5,      95,          1,         21,      11010,2,20100409,       1837,    -6.9995,    -1.5615,       3955,   100.1,  15.0876,  35.5537,2,  35.5523,2, 106.2000,2,   105.6,2,    6.39,2,   19.81,2,    0.05,2,    1.34,2,   2.037,2,   1.149,2,   0.6770,2,  2185.7,2,  2328.8,2,    783.6,2,    20.00,   7.7254,2,    25.00,-999.000,9,-999.0000,9, -999.00,9,-999.0000,9, -999.00,9,  -999.0,9,  -999.0,   0.401,3,   48.85,2,   23.52,2,  100.10,  15.0724
33RO20100308,      A13.5,      95,          1,         20,      11715,2,20100409,       1837,    -6.9995,    -1.5615,       3955,   200.1,  11.6840,  35.1173,2,  35.1156,2,  91.9000,2,    91.5,2,   10.47,2,   26.33,2,    0.01,2,    1.71,2,   1.768,2,   0.947,2,   0.3570,2,  2205.2,2,  2307.0,2,   1026.9,2,    20.00,   7.6183,2,    25.00,-999.000,9,-999.0000,9, -999.00,9,-999.0000,9, -999.00,9,  -999.0,9,  -999.0,   0.331,3,   44.66,2,   29.76,2,  200.10,  11.6583
33RO20100308,      A13.5,      95,          1,         19,      11007,2,20100409,       1837,    -6.9995,    -1.5615,       3955,   299.9,  10.5482,  34.9814,2,  34.9764,2,  79.2000,2,    85.1,6,   12.43,2,   29.20,2,    0.01,2,    1.87,2,   1.473,2,   0.776,2,   0.2780,2,  2214.9,2,  2301.7,6,   1145.8,2,    20.00,   7.5754,2,    25.00,-999.000,9,-999.0000,9, -999.00,9,-999.0000,9, -999.00,9,  -999.0,9,  -999.0,   0.357,3,   43.93,2,   31.27,2,  299.90,  10.5120
33RO20100308,      A13.5,      95,          1,         18,      11710,2,20100409,       1837,    -6.9995,    -1.5615,       3955,   351.0,   9.8302,  34.9072,2,  34.9049,2,  53.0000,2,    51.9,2,   15.08,2,   34.17,2,    0.01,2,    2.16,2,   0.906,2,   0.473,2,   0.1370,2,  2239.8,2,  2297.7,2,   1411.1,2,    20.00,   7.4879,2,    25.00,-999.000,9,-999.0000,9, -999.00,9,-999.0000,9, -999.00,9,  -999.0,9,  -999.0,   0.213,3,   43.16,2,   36.16,2,  351.00,   9.7896
33RO20100308,      A13.5,      95,          1,         17,      11025,2,20100409,       1837,    -6.9995,    -1.5615,       3955,   400.9,   9.0582,  34.8276,2,  34.8270,2,  52.3000,2,    50.9,2,   16.87,2,   35.91,2,    0.00,2,    2.27,2,   0.660,2,   0.342,2,   0.0600,2,  2244.2,2,  2295.1,2,   1490.7,2,    20.00,   7.4648,2,    25.00,-999.000,9,-999.0000,9, -999.00,9,-999.0000,9, -999.00,9,  -999.0,9,  -999.0,   0.212,3,   42.12,2,   37.61,2,  400.90,   9.0140
33RO20100308,      A13.5,      95,          1,         16,      11709,2,20100409,       1837,    -6.9995,    -1.5615,       3955,   500.0,   7.3890,  34.6674,2,  34.6690,2,  68.1000,2,    68.8,2,   20.85,2,   37.64,2,    0.00,2,    2.42,2,   0.360,2,   0.185,2,   0.0000,2,  2243.1,2,  2294.2,2,   1511.0,6,    20.00,   7.4582,2,    25.00,-999.000,9,-999.0000,9, -999.00,9,-999.0000,9, -999.00,9,  -999.0,9,  -999.0,   0.245,3,   41.65,2,   39.52,2,  500.00,   7.3399
33RO20100308,      A13.5,      95,          1,         15,      11006,2,20100409,       1837,    -6.9995,    -1.5615,       3955,   599.9,   6.2871,  34.5721,2,  34.5713,2,  92.9000,2,    95.4,2,   24.17,2,   37.31,2,    0.00,2,    2.45,2,   0.278,2,   0.143,2,   0.0000,2,  2235.5,2,  2292.3,2,   1420.3,2,    20.00,   7.4825,2,    25.00,-999.000,9,-999.0000,9, -999.00,9,-999.0000,9, -999.00,9,  -999.0,9,  -999.0,   0.304,3,   40.79,2,   38.98,2,  599.90,   6.2329
33RO20100308,      A13.5,      95,          1,         14,      11708,2,20100409,       1837,    -6.9995,    -1.5615,       3955,   699.8,   5.4472,  34.5184,2,  34.5188,2, 110.7000,2,   111.7,2,   27.82,2,   37.16,2,    0.00,2,    2.48,2,   0.150,2,   0.079,2,   0.0000,2,  2233.9,2,  2292.3,2,   1375.1,2,    20.00,   7.4968,2,    25.00,-999.000,9,-999.0000,9, -999.00,9,-999.0000,9, -999.00,9,  -999.0,9,  -999.0,   0.245,3,   39.94,2,   38.44,2,  699.80,   5.3880
33RO20100308,      A13.5,      95,          1,         13,      11031,2,20100409,       1837,    -6.9995,    -1.5615,       3955,   799.8,   4.8105,  34.5092,2,  34.5090,2, 127.3000,2,   127.6,2,   31.64,2,   36.36,2,    0.00,2,    2.46,2,   0.066,2,   0.036,2,   0.0000,2,  2231.3,2,  2297.8,2,   1321.4,2,    20.00,   7.5158,2,    25.00,-999.000,9,-999.0000,9, -999.00,9,-999.0000,9, -999.00,9,  -999.0,9,  -999.0,   0.165,3,   38.83,2,   38.06,2,  799.80,   4.7462
33RO20100308,      A13.5,      95,          1,         12,      11027,2,20100409,       1837,    -6.9995,    -1.5615,       3955,   900.5,   4.5088,  34.5342,2,  34.5335,2, 135.3000,2,   135.2,2,   33.44,2,   35.63,2,    0.00,2,    2.42,2,   0.030,2,   0.018,2,   0.0000,2,  2230.9,2,  2301.6,2,   1285.5,2,    20.00,   7.5271,2,    25.00,-999.000,9,-999.0000,9, -999.00,9,-999.0000,9, -999.00,9,  -999.0,9,  -999.0,   0.098,3,   38.39,2,   36.87,2,  900.50,   4.4378
33RO20100308,      A13.5,      95,          1,         11,      11707,2,20100409,       1837,    -6.9995,    -1.5615,       3955,  1000.9,   4.2920,  34.5859,2,  34.5851,2, 148.3000,2,   148.2,2,   33.70,2,   33.90,2,    0.00,2,    2.31,2,   0.021,2,   0.012,2,   0.0000,2,  2225.8,2,  2305.4,2,   1197.8,2,    20.00,   7.5556,2,    25.00,-999.000,9,-999.0000,9, -999.00,9,-999.0000,9, -999.00,9,  -999.0,9,  -999.0,   0.084,3,   38.58,2,   35.81,2, 1000.90,   4.2139
33RO20100308,      A13.5,      95,          1,         10,      11003,2,20100409,       1837,    -6.9995,    -1.5615,       3955,  1099.9,   4.1924,  34.6646,2,  34.6639,2, 159.6000,2,   159.6,2,   32.47,2,   31.97,2,    0.00,2,    2.18,2,   0.011,2,   0.007,2,   0.0000,2,  2219.0,2,  2309.4,2,   1124.3,2,    20.00,   7.5789,2,    25.00,-999.000,9,-999.0000,9, -999.00,9,-999.0000,9, -999.00,9,  -999.0,9,  -999.0,   0.054,3,   38.05,2,   33.24,2, 1099.90,   4.1064
33RO20100308,      A13.5,      95,          1,          9,      11706,2,20100409,       1837,    -6.9995,    -1.5615,       3955,  1200.9,   4.1796,  34.7574,2,  34.7568,2, 174.4000,2,   174.8,2,   29.50,2,   29.44,2,    0.00,2,    2.00,2,   0.012,2,   0.007,2,   0.0000,2,  2209.6,2,  2311.4,2,   1031.2,2,    20.00,   7.6128,2,    25.00,-999.000,9,-999.0000,9, -999.00,9,-999.0000,9, -999.00,9,  -999.0,9,  -999.0,   0.061,3,   37.87,2,   30.65,2, 1200.90,   4.0848
33RO20100308,      A13.5,      95,          1,          8,      11033,2,20100409,       1837,    -6.9995,    -1.5615,       3955,  1449.6,   4.0264,  34.9007,2,  34.9008,2, 209.6000,2,   209.9,2,   23.96,2,   24.27,2,    0.00,2,    1.64,2,   0.031,2,   0.016,2,   0.0000,2,  2189.1,2,  2314.6,6,    869.8,2,    20.00,   7.6810,2,    25.00,-999.000,9,-999.0000,9, -999.00,9,-999.0000,9, -999.00,9,  -999.0,9,  -999.0,   0.141,3,   38.93,2,   25.98,2, 1449.60,   3.9106
33RO20100308,      A13.5,      95,          1,          7,      11705,2,20100409,       1837,    -6.9995,    -1.5615,       3955,  1799.2,   3.6283,  34.9435,2,  34.9433,2, 231.2000,2,   232.7,2,   24.36,6,   21.70,6,    0.00,6,    1.46,2,   0.027,2,   0.016,2,   0.0000,2,  2179.6,2,  2317.9,6,    797.4,2,    20.00,   7.7161,2,    25.00,-999.000,9,-999.0000,9, -999.00,9,-999.0000,9, -999.00,9,  -999.0,9,  -999.0,   0.154,3,   39.15,2,   23.83,2, 1799.20,   3.4852
33RO20100308,      A13.5,      95,          1,          6,      11029,2,20100409,       1837,    -6.9995,    -1.5615,       3955,  2100.2,   3.2873,  34.9384,2,  34.9386,2, 235.7000,2,   238.0,6,   28.78,6,   21.50,6,    0.00,6,    1.44,6,   0.016,2,   0.010,2,   0.0000,2,  2181.5,2,  2321.1,2,    786.6,2,    20.00,   7.7224,2,    25.00,-999.000,9,-999.0000,9, -999.00,9,-999.0000,9, -999.00,9,  -999.0,9,  -999.0,   0.106,3,   39.15,2,   22.99,2, 2100.20,   3.1210
33RO20100308,      A13.5,      95,          1,          5,      11704,2,20100409,       1837,    -6.9995,    -1.5615,       3955,  2500.4,   2.8701,  34.9177,2,  34.9176,2, 235.7000,2,   236.8,2,   37.06,6,   22.10,6,    0.00,6,    1.48,6,   0.004,2,   0.003,2,   0.0000,2,  2191.4,2,  2332.5,6,    792.2,2,    20.00,   7.7202,2,    25.00,-999.000,9,-999.0000,9, -999.00,9,-999.0000,9, -999.00,9,  -999.0,9,  -999.0,   0.042,3,   39.58,2,   23.75,2, 2500.40,   2.6726
33RO20100308,      A13.5,      95,          1,          4,      11030,2,20100409,       1837,    -6.9995,    -1.5615,       3955,  2849.3,   2.6409,  34.9057,2,  34.9059,2, 235.2000,2,   235.4,2,   42.42,6,   22.48,6,    0.00,6,    1.51,6,   0.018,4,   0.031,4,   0.3300,4,  2197.1,2,  2337.2,2,    803.9,2,    20.00,   7.7192,2,    25.00,-999.000,9,-999.0000,9, -999.00,9,-999.0000,9, -999.00,9,  -999.0,9,  -999.0,   0.035,3,   38.76,2,   24.06,2, 2849.30,   2.4133
33RO20100308,      A13.5,      95,          1,          3,      11703,2,20100409,       1837,    -6.9995,    -1.5615,       3955,  3299.8,   2.4710,  34.8946,2,  34.8948,2, 235.4000,2,   236.3,2,   46.89,6,   22.76,6,    0.00,6,    1.53,6,   0.004,2,   0.004,2,   0.0000,2,  2201.3,2,  2339.9,2,    800.9,2,    20.00,   7.7186,2,    25.00,-999.000,9,-999.0000,9, -999.00,9,-999.0000,9, -999.00,9,  -999.0,9,  -999.0,   0.033,3,   39.11,2,   24.45,2, 3299.80,   2.2008
33RO20100308,      A13.5,      95,          1,          2,      11702,2,20100409,       1837,    -6.9995,    -1.5615,       3955,  3698.7,   2.3607,  34.8859,2,  34.8860,2, 236.7000,2,   237.2,2,   49.88,6,   22.89,6,    0.00,6,    1.54,6,-999.000,5,-999.000,5,-999.0000,5,  2204.8,2,  2346.1,2,    800.0,6,    20.00,   7.7190,2,    25.00,-999.000,9,-999.0000,9, -999.00,9,-999.0000,9, -999.00,9,  -999.0,9,  -999.0,-999.000,5,   39.77,2,   24.86,2, 3698.70,   2.0502
33RO20100308,      A13.5,      95,          1,          1,      11701,2,20100409,       1837,    -6.9995,    -1.5615,       3955,  3934.0,   2.3620,  34.8840,2,  34.8842,2, 238.2000,2,   236.6,2,   50.43,6,   22.96,6,    0.00,6,    1.55,6,   0.009,2,   0.007,2,   0.0000,2,  2204.8,6,  2345.7,2,    805.6,2,    20.00,   7.7181,2,    25.00,-999.000,9,-999.0000,9, -999.00,9,-999.0000,9, -999.00,9,  -999.0,9,  -999.0,   0.065,3,   40.40,2,   23.97,2, 3934.00,   2.0251