BOTTLE,20130404CCHSIOCBG
EXPOCODE,SECT_ID,STNNBR,CASTNO,SAMPNO,BTLNBR,BTLNBR_FLAG_W,DATE,TIME,LATITUDE,LONGITUDE,DEPTH,CTDPRS,CTDTMP,CTDSAL,CTDSAL_FLAG_W,SALNTY,SALNTY_FLAG_W,CTDOXY,CTDOXY_FLAG_W,OXYGEN,OXYGEN_FLAG_W,SILCAT,SILCAT_FLAG_W,NITRAT,NITRAT_FLAG_W,NITRIT,NITRIT_FLAG_W,PHSPHT,PHSPHT_FLAG_W,CFC-11,CFC-11_FLAG_W,CFC-12,CFC-12_FLAG_W,SF6,SF6_FLAG_W,TCARBN,TCARBN_FLAG_W,ALKALI,ALKALI_FLAG_W,FCO2,FCO2_FLAG_W,FCO2TMP,PH_TOT,PH_TOT_FLAG_W,PH_TMP,TRITUM,TRITUM_FLAG_W,HELIUM,HELIUM_FLAG_W,DELHE3,DELHE3_FLAG_W,REFTMP,REFTMP_FLAG_W,DELC13,DELC13_FLAG_W,DELC14,DELC14_FLAG_W,C14ERR,CCL4,CCL4_FLAG_W,DOC,DOC_FLAG_W,TDN,TDN_FLAG_W,CTDRAW,THETA
,,,,,,,,,,,METERS,DBAR,ITS-90,PSS-78,,PSS-78,,UMOL/KG,,UMOL/KG,,UMOL/KG,,UMOL/KG,,UMOL/KG,,UMOL/KG,,PMOL/KG,,PMOL/KG,,FMOL/KG,,UMOL/KG,,UMOL/KG,,UATM,,DEG C,,,DEG C,TU,,NMOL/KG,,PERCNT,,DEG C,,/MILLE,,/MILLE,,/MILLE,PMOL/KG,,UMOL/KG,,UMOL/KG,,DBAR,DEG C
33RO20100308,      A13.5,     103,          1,         24,      11714,2,20100411,       2217,    -2.9992,    -2.9997,       5224,     5.5,  28.9658,  35.1315,2,  35.1340,2, 197.1000,2,   196.8,6,    0.80,6,    0.07,6,    0.00,6,    0.09,3,   1.529,2,   0.964,2,   0.9640,2,  1977.2,6,  2303.4,2,    284.4,2,    20.00,   8.0961,2,    25.00,-999.000,9,-999.0000,9, -999.00,9,  28.9602,2, -999.00,9,  -999.0,9,  -999.0,   1.737,3,   68.87,2,    4.83,2,    5.50,  28.9645
33RO20100308,      A13.5,     103,          1,         23,      11716,2,20100411,       2217,    -2.9992,    -2.9997,       5224,    25.5,  28.8856,  35.1566,4,  35.3271,2, 197.6000,2,   199.2,2,    0.99,2,    0.33,2,    0.01,2,    0.16,3,   1.652,6,   1.021,6,   0.9670,6,  2008.0,2,  2317.3,6,    310.5,2,    20.00,   8.0653,2,    25.00,-999.000,9,-999.0000,9, -999.00,9,  28.8996,2, -999.00,9,  -999.0,9,  -999.0,   1.373,3,   67.96,2,    4.98,2,   25.50,  28.8794
33RO20100308,      A13.5,     103,          1,         22,      11022,2,20100411,       2217,    -2.9992,    -2.9997,       5224,    75.1,  16.3739,  35.7302,2,  35.7299,2, 144.9000,2,   143.8,2,    4.93,2,   13.63,2,    0.16,2,    1.03,3,   2.269,2,   1.285,2,   0.8530,2,  2155.1,2,  2345.4,6,    611.0,2,    20.00,   7.8216,2,    25.00,-999.000,9,-999.0000,9, -999.00,9,  16.3859,2, -999.00,9,  -999.0,9,  -999.0,   0.511,3,   48.84,2,   17.66,2,   75.10,  16.3618
33RO20100308,      A13.5,     103,          1,         21,      11010,2,20100411,       2217,    -2.9992,    -2.9997,       5224,   100.6,  16.1971,  35.7153,2,  35.7117,2, 131.2000,2,   132.4,2,    5.42,2,   15.34,2,    0.04,2,    1.12,3,   2.252,2,   1.279,2,   0.8200,2,  2164.7,2,  2341.2,2,    649.1,2,    20.00,   7.7973,2,    25.00,-999.000,9,-999.0000,9, -999.00,9,  16.1977,2, -999.00,9,  -999.0,9,  -999.0,   0.408,3,   48.01,2,   17.65,2,  100.60,  16.1810
33RO20100308,      A13.5,     103,          1,         20,      11715,2,20100411,       2217,    -2.9992,    -2.9997,       5224,   125.1,  15.8359,  35.6687,2,  35.6673,2, 138.7000,2,   138.6,2,    5.49,2,   15.13,2,    0.02,2,    1.11,3,   2.262,2,   1.268,2,   0.8010,2,  2161.3,2,  2339.7,2,    645.8,2,    20.00,   7.8008,2,    25.00,-999.000,9,-999.0000,9, -999.00,9,  15.8311,2, -999.00,9,  -999.0,9,  -999.0,   0.479,3,   48.10,2,   17.46,2,  125.10,  15.8162
33RO20100308,      A13.5,     103,          1,         19,      11007,2,20100411,       2217,    -2.9992,    -2.9997,       5224,   150.1,  15.7270,  35.6547,2,  35.6543,2, 135.4000,2,   137.3,2,    5.62,2,   15.47,2,    0.01,2,    1.15,3,   2.257,2,   1.282,2,   0.8100,2,  2162.2,2,  2338.1,2,    655.5,2,    20.00,   7.7958,2,    25.00,-999.000,9,-999.0000,9, -999.00,9,  15.7268,2, -999.00,9,  -999.0,9,  -999.0,   0.444,3,   46.97,2,   17.84,2,  150.10,  15.7034
33RO20100308,      A13.5,     103,          1,         18,      11710,2,20100411,       2217,    -2.9992,    -2.9997,       5224,   200.6,  14.7008,  35.5075,2,  35.5018,2,  84.9000,2,    85.9,2,    7.32,2,   22.45,2,    0.01,2,    1.52,3,   2.089,2,   1.155,2,   0.6040,2,  2199.5,2,  2328.1,2,    884.4,2,    20.00,   7.6758,2,    25.00,-999.000,9,-999.0000,9, -999.00,9,  14.6787,2, -999.00,9,  -999.0,9,  -999.0,   0.322,3,   46.50,2,   24.60,2,  200.60,  14.6707
33RO20100308,      A13.5,     103,          1,         17,      11025,2,20100411,       2217,    -2.9992,    -2.9997,       5224,   275.4,  11.9110,  35.1518,2,  35.1450,2,  67.0000,2,    67.6,2,   11.36,2,   28.82,2,    0.00,2,    1.88,3,   1.573,2,   0.839,2,   0.3030,2,  2219.8,2,  2308.0,2,   1140.5,2,    20.00,   7.5741,2,    25.00,-999.000,9,-999.0000,9, -999.00,9,  11.9065,2, -999.00,9,  -999.0,9,  -999.0,   0.242,3,   44.36,2,   31.24,2,  275.40,  11.8751
33RO20100308,      A13.5,     103,          1,         16,      11709,2,20100411,       2217,    -2.9992,    -2.9997,       5224,   372.8,   8.8128,  34.8016,2,  34.7990,2,  71.1000,2,    71.4,2,   16.73,2,   34.42,2,    0.00,2,    2.23,3,   0.918,2,   0.471,2,   0.1150,2,  2234.0,6,  2296.7,2,   1383.1,2,    20.00,   7.4971,2,    25.00,-999.000,9,-999.0000,9, -999.00,9,   8.8133,2, -999.00,9,  -999.0,9,  -999.0,   0.356,3,   42.08,2,   36.68,2,  372.80,   8.7725
33RO20100308,      A13.5,     103,          1,         15,      11006,2,20100411,       2217,    -2.9992,    -2.9997,       5224,   549.5,   6.7106,  34.5839,2,  34.5842,2, 127.5000,2,   128.1,2,   20.95,6,   32.96,6,    0.00,6,    2.21,3,   0.921,2,   0.457,2,   0.1020,2,  2212.9,2,  2292.7,2,   1189.2,6,    20.00,   7.5530,2,    25.00,-999.000,9,-999.0000,9, -999.00,9,   6.7297,2, -999.00,9,  -999.0,9,  -999.0,   0.730,3,   41.18,2,   34.46,2,  549.50,   6.6594
33RO20100308,      A13.5,     103,          1,         14,      11708,2,20100411,       2217,    -2.9992,    -2.9997,       5224,   700.3,   5.5960,  34.5146,2,  34.5153,2, 125.6000,2,   125.0,2,   26.19,6,   35.61,6,    0.00,6,    2.40,3,   0.369,2,   0.181,2,   0.0000,2,  2224.0,2,  2294.0,2,   1293.0,2,    20.00,   7.5233,2,    25.00,-999.000,9,-999.0000,9, -999.00,9,   5.6010,2, -999.00,9,  -999.0,9,  -999.0,   0.464,3,   40.66,2,   37.26,2,  700.30,   5.5360
33RO20100308,      A13.5,     103,          1,         13,      11031,2,20100411,       2217,    -2.9992,    -2.9997,       5224,   899.6,   4.5051,  34.5433,2,  34.5450,2, 148.0000,2,   148.7,2,   32.48,2,   34.10,2,    0.00,2,    2.36,3,   0.086,2,   0.043,2,   0.0000,2,  2222.1,2,  2301.3,2,   1194.2,2,    20.00,   7.5531,2,    25.00,-999.000,9,-999.0000,9, -999.00,9,   4.5053,2, -999.00,9,  -999.0,9,  -999.0,   0.207,3,   40.51,2,   36.10,2,  899.60,   4.4341
33RO20100308,      A13.5,     103,          1,         12,      11027,2,20100411,       2217,    -2.9992,    -2.9997,       5224,  1200.6,   4.4708,  34.8092,2,  34.8108,2, 180.0000,2,   180.4,2,   25.92,2,   27.89,2,    0.00,2,    1.92,3,   0.059,2,   0.030,2,   0.0000,2,  2203.0,2,  2311.1,2,    985.6,2,    20.00,   7.6309,2,    25.00,-999.000,9,-999.0000,9, -999.00,9,   4.4704,2, -999.00,9,  -999.0,9,  -999.0,   0.169,3,   40.43,2,   29.55,2, 1200.60,   4.3732
33RO20100308,      A13.5,     103,          1,         11,      11707,2,20100411,       2217,    -2.9992,    -2.9997,       5224,  1500.3,   4.1806,  34.9624,2,  34.9633,2, 228.1000,2,   229.2,2,   18.64,2,   21.27,2,    0.00,2,    1.46,3,   0.279,2,   0.135,2,   0.0000,2,  2177.1,2,  2312.4,2,    804.1,2,    20.00,   7.7110,2,    25.00,-999.000,9,-999.0000,9, -999.00,9,   4.1814,2, -999.00,9,  -999.0,9,  -999.0,   0.616,3,   40.33,2,   23.09,2, 1500.30,   4.0583
33RO20100308,      A13.5,     103,          1,         10,      11003,2,20100411,       2217,    -2.9992,    -2.9997,       5224,  1800.4,   3.8248,  34.9698,2,  34.9700,2, 240.5000,2,   241.4,2,   19.52,2,   20.18,2,    0.00,2,    1.40,3,   0.165,2,   0.083,2,   0.0000,2,  2172.3,2,  2314.4,2,    773.0,2,    20.00,   7.7266,2,    25.00,-999.000,9,-999.0000,9, -999.00,9,   3.8249,2, -999.00,9,  -999.0,9,  -999.0,   0.458,3,   39.97,2,   22.01,2, 1800.40,   3.6789
33RO20100308,      A13.5,     103,          1,          9,      11706,2,20100411,       2217,    -2.9992,    -2.9997,       5224,  2200.1,   3.2721,  34.9443,2,  34.9456,2, 241.6000,2,   242.0,2,   27.58,6,   20.93,6,    0.00,6,    1.44,3,   0.034,2,   0.018,2,   0.0000,2,  2178.5,2,  2319.5,2,    776.2,2,    20.00,   7.7270,2,    25.00,-999.000,9,-999.0000,9, -999.00,9,   3.2725,2, -999.00,9,  -999.0,9,  -999.0,   0.204,3,   40.04,2,   23.03,2, 2200.10,   3.0965
33RO20100308,      A13.5,     103,          1,          8,      11033,2,20100411,       2217,    -2.9992,    -2.9997,       5224,  2599.2,   2.8786,  34.9213,2,  34.9218,2, 237.7000,2,   238.2,2,   36.18,6,   21.85,6,    0.00,6,    1.51,3,   0.006,2,   0.004,2,   0.0000,2,  2188.3,2,  2331.6,2,    788.6,2,    20.00,   7.7220,2,    25.00,-999.000,9,-999.0000,9, -999.00,9,   2.8787,2, -999.00,9,  -999.0,9,  -999.0,   0.051,3,   38.84,2,   24.33,2, 2599.20,   2.6712
33RO20100308,      A13.5,     103,          1,          7,      11705,2,20100411,       2217,    -2.9992,    -2.9997,       5224,  2996.6,   2.6313,  34.9062,2,  34.9062,2, 237.0000,2,   238.0,2,   41.82,6,   22.25,6,    0.00,6,    1.53,3,   0.003,2,   0.003,2,   0.0000,2,  2195.2,2,  2336.6,2,    797.4,2,    20.00,   7.7208,2,    25.00,-999.000,9,-999.0000,9, -999.00,9,   2.6317,2, -999.00,9,  -999.0,9,  -999.0,   0.044,3,   40.10,2,   24.07,2, 2996.60,   2.3890
33RO20100308,      A13.5,     103,          1,          6,      11029,2,20100411,       2217,    -2.9992,    -2.9997,       5224,  3400.3,   2.4723,  34.8954,2,  34.8945,2, 237.2000,2,   239.6,2,   45.38,6,   22.43,6,    0.00,6,    1.55,3,   0.008,2,   0.006,2,   0.0000,2,  2198.7,2,  2342.2,2,    799.1,2,    20.00,   7.7211,2,    25.00,-999.000,9,-999.0000,9, -999.00,9,   2.4723,2, -999.00,9,  -999.0,9,  -999.0,   0.059,3,   40.33,2,   24.15,2, 3400.30,   2.1913
33RO20100308,      A13.5,     103,          1,          5,      11704,4,20100411,       2217,    -2.9992,    -2.9997,       5224,  3799.8,   2.3954,  34.8883,4,  34.9066,4, 241.1000,2,   238.3,2,   41.83,4,   22.23,4,    0.00,4,    1.53,4,   0.004,4,   0.004,4,   0.0000,2,  2194.7,4,  2339.7,4,    790.7,4,    20.00,   7.7217,2,    25.00,-999.000,9,-999.0000,9, -999.00,9,   2.3955,2, -999.00,9,  -999.0,9,  -999.0,   0.056,4,   38.92,2,   24.33,2, 3799.80,   2.0727
33RO20100308,      A13.5,     103,          1,          4,      11030,2,20100411,       2217,    -2.9992,    -2.9997,       5224,  4200.7,   2.2703,  34.8760,2,  34.8746,2, 242.6000,2,   242.3,2,   50.45,6,   22.58,6,    0.00,6,    1.56,3,   0.038,2,   0.022,2,   0.0000,2,  2200.6,2,  2344.9,2,    797.9,2,    20.00,   7.7190,2,    25.00,-999.000,9,-999.0000,9, -999.00,9,   2.2703,2, -999.00,9,  -999.0,9,  -999.0,   0.176,3,   38.95,2,   25.01,2, 4200.70,   1.9055
33RO20100308,      A13.5,     103,          1,          3,      11703,2,20100411,       2217,    -2.9992,    -2.9997,       5224,  4599.7,   2.2098,  34.8666,2,  34.8667,2, 240.7000,2,   242.3,2,   53.84,6,   22.93,6,    0.00,6,    1.59,3,   0.045,6,   0.024,6,   0.0000,6,  2204.9,2,  2346.1,2,    804.3,2,    20.00,   7.7173,2,    25.00,-999.000,9,-999.0000,9, -999.00,9,   2.2096,2, -999.00,9,  -999.0,9,  -999.0,   0.196,3,   39.38,2,   25.03,2, 4599.70,   1.7996
33RO20100308,      A13.5,     103,          1,          2,      11702,2,20100411,       2217,    -2.9992,    -2.9997,       5224,  4999.0,   2.2297,  34.8637,2,  34.8633,2, 243.1000,2,   241.7,2,   54.85,6,   23.09,6,    0.00,6,    1.60,3,   0.050,2,   0.026,2,   0.0000,2,  2206.6,2,  2348.2,2,    803.8,2,    20.00,   7.7159,2,    25.00,-999.000,9,-999.0000,9, -999.00,9,   2.2295,2, -999.00,9,  -999.0,9,  -999.0,   0.210,3,   40.55,2,   25.22,2, 4999.00,   1.7696
33RO20100308,      A13.5,     103,          1,          1,      11701,2,20100411,       2217,    -2.9992,    -2.9997,       5224,  5301.4,   2.2612,  34.8628,2,  34.8652,2, 241.9000,2,   240.8,6,   55.19,6,   23.15,6,    0.00,6,    1.61,3,   0.051,2,   0.027,2,   0.0000,2,  2207.7,6,  2348.0,2,    806.1,2,    20.00,   7.7158,2,    25.00,-999.000,9,-999.0000,9, -999.00,9,   2.2613,2, -999.00,9,  -999.0,9,  -999.0,   0.217,3,   39.92,2,   25.21,2, 5301.40,   1.7614