BOTTLE,20130404CCHSIOCBG
EXPOCODE,SECT_ID,STNNBR,CASTNO,SAMPNO,BTLNBR,BTLNBR_FLAG_W,DATE,TIME,LATITUDE,LONGITUDE,DEPTH,CTDPRS,CTDTMP,CTDSAL,CTDSAL_FLAG_W,SALNTY,SALNTY_FLAG_W,CTDOXY,CTDOXY_FLAG_W,OXYGEN,OXYGEN_FLAG_W,SILCAT,SILCAT_FLAG_W,NITRAT,NITRAT_FLAG_W,NITRIT,NITRIT_FLAG_W,PHSPHT,PHSPHT_FLAG_W,CFC-11,CFC-11_FLAG_W,CFC-12,CFC-12_FLAG_W,SF6,SF6_FLAG_W,TCARBN,TCARBN_FLAG_W,ALKALI,ALKALI_FLAG_W,FCO2,FCO2_FLAG_W,FCO2TMP,PH_TOT,PH_TOT_FLAG_W,PH_TMP,TRITUM,TRITUM_FLAG_W,HELIUM,HELIUM_FLAG_W,DELHE3,DELHE3_FLAG_W,REFTMP,REFTMP_FLAG_W,DELC13,DELC13_FLAG_W,DELC14,DELC14_FLAG_W,C14ERR,CCL4,CCL4_FLAG_W,DOC,DOC_FLAG_W,TDN,TDN_FLAG_W,CTDRAW,THETA
,,,,,,,,,,,METERS,DBAR,ITS-90,PSS-78,,PSS-78,,UMOL/KG,,UMOL/KG,,UMOL/KG,,UMOL/KG,,UMOL/KG,,UMOL/KG,,PMOL/KG,,PMOL/KG,,FMOL/KG,,UMOL/KG,,UMOL/KG,,UATM,,DEG C,,,DEG C,TU,,NMOL/KG,,PERCNT,,DEG C,,/MILLE,,/MILLE,,/MILLE,PMOL/KG,,UMOL/KG,,UMOL/KG,,DBAR,DEG C
33RO20100308,      A13.5,      79,          1,         12,      11027,4,20100404,       0859,      -15.0,     0.9998,       5412,  5497.7,   2.4576,  34.8787,2,  34.8791,2, 235.5000,2,   234.7,2, -999.00,9, -999.00,9, -999.00,9, -999.00,9,-999.000,9,-999.000,9,-999.0000,9,  -999.0,9,  -999.0,9,   -999.0,9,  -999.00,-999.0000,9,  -999.00,-999.000,9,-999.0000,9, -999.00,9,-999.0000,9, -999.00,9,  -999.0,9,  -999.0,-999.000,9, -999.00,9, -999.00,9, 5497.70,   1.9251
33RO20100308,      A13.5,      79,          1,         11,      11707,4,20100404,       0859,      -15.0,     0.9998,       5412,  5497.8,   2.4578,  34.8786,2,  34.8797,2, 235.5000,2,   234.6,2, -999.00,9, -999.00,9, -999.00,9, -999.00,9,-999.000,9,-999.000,9,-999.0000,9,  -999.0,9,  -999.0,9,    800.7,2,    20.00,-999.0000,9,  -999.00,-999.000,9,-999.0000,9, -999.00,9,-999.0000,9, -999.00,9,  -999.0,9,  -999.0,-999.000,9, -999.00,9, -999.00,9, 5497.80,   1.9253
33RO20100308,      A13.5,      79,          1,         13,      11031,4,20100404,       0859,      -15.0,     0.9998,       5412,  5498.0,   2.4573,  34.8788,2,  34.8789,2, 235.5000,2,   235.5,2, -999.00,9, -999.00,9, -999.00,9, -999.00,9,-999.000,9,-999.000,9,-999.0000,9,  -999.0,9,  -999.0,9,   -999.0,9,  -999.00,-999.0000,9,  -999.00,-999.000,9,-999.0000,9, -999.00,9,-999.0000,9, -999.00,9,  -999.0,9,  -999.0,-999.000,9, -999.00,9, -999.00,9, 5498.00,   1.9248
33RO20100308,      A13.5,      79,          1,         21,      11010,4,20100404,       0859,      -15.0,     0.9998,       5412,  5498.1,   2.4577,  34.8786,2,  34.8789,2, 235.5000,2,   235.0,2, -999.00,9, -999.00,9, -999.00,9, -999.00,9,-999.000,9,-999.000,9,-999.0000,9,  -999.0,9,  -999.0,9,    804.3,2,    20.00,-999.0000,9,  -999.00,-999.000,9,-999.0000,9, -999.00,9,-999.0000,9, -999.00,9,  -999.0,9,  -999.0,-999.000,9, -999.00,9, -999.00,9, 5498.10,   1.9251
33RO20100308,      A13.5,      79,          1,         22,      11712,4,20100404,       0859,      -15.0,     0.9998,       5412,  5498.1,   2.4576,  34.8786,2,  34.8797,2, 235.5000,2,   234.8,2, -999.00,9, -999.00,9, -999.00,9, -999.00,9,-999.000,9,-999.000,9,-999.0000,9,  -999.0,9,  -999.0,9,    803.5,2,    20.00,-999.0000,9,  -999.00,-999.000,9,-999.0000,9, -999.00,9,-999.0000,9, -999.00,9,  -999.0,9,  -999.0,-999.000,9, -999.00,9, -999.00,9, 5498.10,   1.9251
33RO20100308,      A13.5,      79,          1,          4,      11030,9,20100404,       0859,      -15.0,     0.9998,       5412,  5498.1,   2.4578,  34.8786,2,-999.0000,9,-999.0000,9,  -999.0,9, -999.00,9, -999.00,9, -999.00,9, -999.00,9,-999.000,9,-999.000,9,-999.0000,9,  -999.0,9,  -999.0,9,   -999.0,9,  -999.00,-999.0000,9,  -999.00,-999.000,9,-999.0000,9, -999.00,9,-999.0000,9, -999.00,9,  -999.0,9,  -999.0,-999.000,9, -999.00,9, -999.00,9, 5498.10,   1.9252
33RO20100308,      A13.5,      79,          1,         20,      11715,4,20100404,       0859,      -15.0,     0.9998,       5412,  5498.1,   2.4577,  34.8786,2,  34.8790,2, 235.5000,2,   234.6,2, -999.00,9, -999.00,9, -999.00,9, -999.00,9,-999.000,9,-999.000,9,-999.0000,9,  2214.0,3,  -999.0,9,   -999.0,9,  -999.00,-999.0000,9,  -999.00,-999.000,9,-999.0000,9, -999.00,9,-999.0000,9, -999.00,9,  -999.0,9,  -999.0,-999.000,9, -999.00,9, -999.00,9, 5498.10,   1.9251
33RO20100308,      A13.5,      79,          1,          5,      11704,4,20100404,       0859,      -15.0,     0.9998,       5412,  5498.1,   2.4575,  34.8787,2,  34.8786,2, 235.5000,2,   235.0,2, -999.00,9, -999.00,9, -999.00,9, -999.00,9,-999.000,9,-999.000,9,-999.0000,9,  2212.7,3,  2356.2,6,    802.0,2,    20.00,-999.0000,9,  -999.00,-999.000,9,-999.0000,9, -999.00,9,-999.0000,9, -999.00,9,  -999.0,9,  -999.0,-999.000,9, -999.00,9, -999.00,9, 5498.10,   1.9250
33RO20100308,      A13.5,      79,          1,         23,      11713,4,20100404,       0859,      -15.0,     0.9998,       5412,  5498.2,   2.4575,  34.8786,2,  34.8800,2, 235.5000,2,   234.8,2, -999.00,9, -999.00,9, -999.00,9, -999.00,9,-999.000,9,-999.000,9,-999.0000,9,  -999.0,9,  -999.0,9,   -999.0,9,  -999.00,-999.0000,9,  -999.00,-999.000,9,-999.0000,9, -999.00,9,-999.0000,9, -999.00,9,  -999.0,9,  -999.0,-999.000,9, -999.00,9, -999.00,9, 5498.20,   1.9249
33RO20100308,      A13.5,      79,          1,         10,      11003,4,20100404,       0859,      -15.0,     0.9998,       5412,  5498.2,   2.4579,  34.8785,2,  34.8784,2, 235.5000,2,   235.0,2, -999.00,9, -999.00,9, -999.00,9, -999.00,9,-999.000,9,-999.000,9,-999.0000,9,  2214.7,3,  -999.0,9,    802.1,2,    20.00,-999.0000,9,  -999.00,-999.000,9,-999.0000,9, -999.00,9,-999.0000,9, -999.00,9,  -999.0,9,  -999.0,-999.000,9, -999.00,9, -999.00,9, 5498.20,   1.9253
33RO20100308,      A13.5,      79,          1,         19,      11007,4,20100404,       0859,      -15.0,     0.9998,       5412,  5498.3,   2.4577,  34.8786,2,  34.8791,2, 235.5000,2,   234.3,2, -999.00,9, -999.00,9, -999.00,9, -999.00,9,-999.000,9,-999.000,9,-999.0000,9,  -999.0,9,  -999.0,9,   -999.0,9,  -999.00,-999.0000,9,  -999.00,-999.000,9,-999.0000,9, -999.00,9,-999.0000,9, -999.00,9,  -999.0,9,  -999.0,-999.000,9, -999.00,9, -999.00,9, 5498.30,   1.9252
33RO20100308,      A13.5,      79,          1,         24,      11714,4,20100404,       0859,      -15.0,     0.9998,       5412,  5498.4,   2.4573,  34.8787,2,  34.8785,2, 235.5000,2,   234.4,2, -999.00,9, -999.00,9, -999.00,9, -999.00,9,-999.000,9,-999.000,9,-999.0000,9,  2214.4,3,  -999.0,9,   -999.0,9,  -999.00,-999.0000,9,  -999.00,-999.000,9,-999.0000,9, -999.00,9,-999.0000,9, -999.00,9,  -999.0,9,  -999.0,-999.000,9, -999.00,9, -999.00,9, 5498.40,   1.9247
33RO20100308,      A13.5,      79,          1,          6,      11029,4,20100404,       0859,      -15.0,     0.9998,       5412,  5498.4,   2.4575,  34.8787,2,  34.8788,2, 235.5000,2,   235.2,2, -999.00,9, -999.00,9, -999.00,9, -999.00,9,-999.000,9,-999.000,9,-999.0000,9,  2213.1,3,  2359.0,2,    797.3,2,    20.00,-999.0000,9,  -999.00,-999.000,9,-999.0000,9, -999.00,9,-999.0000,9, -999.00,9,  -999.0,9,  -999.0,-999.000,9, -999.00,9, -999.00,9, 5498.40,   1.9249
33RO20100308,      A13.5,      79,          1,          3,      11703,4,20100404,       0859,      -15.0,     0.9998,       5412,  5498.4,   2.4579,  34.8786,2,  35.3582,4, 235.5000,2,   223.0,4, -999.00,9, -999.00,9, -999.00,9, -999.00,9,-999.000,9,-999.000,9,-999.0000,9,  -999.0,9,  -999.0,9,   -999.0,9,  -999.00,-999.0000,9,  -999.00,-999.000,9,-999.0000,9, -999.00,9,-999.0000,9, -999.00,9,  -999.0,9,  -999.0,-999.000,9, -999.00,9, -999.00,9, 5498.40,   1.9253
33RO20100308,      A13.5,      79,          1,         14,      11708,4,20100404,       0859,      -15.0,     0.9998,       5412,  5498.6,   2.4571,  34.8788,2,  34.8798,2, 235.5000,2,   235.1,2, -999.00,9, -999.00,9, -999.00,9, -999.00,9,-999.000,9,-999.000,9,-999.0000,9,  -999.0,9,  -999.0,9,   -999.0,9,  -999.00,-999.0000,9,  -999.00,-999.000,9,-999.0000,9, -999.00,9,-999.0000,9, -999.00,9,  -999.0,9,  -999.0,-999.000,9, -999.00,9, -999.00,9, 5498.60,   1.9245
33RO20100308,      A13.5,      79,          1,         18,      11710,4,20100404,       0859,      -15.0,     0.9998,       5412,  5498.7,   2.4578,  34.8785,2,  34.8802,2, 235.5000,2,   234.8,2, -999.00,9, -999.00,9, -999.00,9, -999.00,9,-999.000,9,-999.000,9,-999.0000,9,  -999.0,9,  -999.0,9,   -999.0,9,  -999.00,-999.0000,9,  -999.00,-999.000,9,-999.0000,9, -999.00,9,-999.0000,9, -999.00,9,  -999.0,9,  -999.0,-999.000,9, -999.00,9, -999.00,9, 5498.70,   1.9252
33RO20100308,      A13.5,      79,          1,          9,      11706,4,20100404,       0859,      -15.0,     0.9998,       5412,  5498.7,   2.4578,  34.8785,2,  34.8800,2, 235.5000,2,   234.7,2, -999.00,9, -999.00,9, -999.00,9, -999.00,9,-999.000,9,-999.000,9,-999.0000,9,  2214.9,3,  -999.0,9,   -999.0,9,  -999.00,-999.0000,9,  -999.00,-999.000,9,-999.0000,9, -999.00,9,-999.0000,9, -999.00,9,  -999.0,9,  -999.0,-999.000,9, -999.00,9, -999.00,9, 5498.70,   1.9252
33RO20100308,      A13.5,      79,          1,          7,      11705,4,20100404,       0859,      -15.0,     0.9998,       5412,  5498.8,   2.4574,  34.8786,2,  34.8793,2, 235.6000,2,   234.7,2, -999.00,9, -999.00,9, -999.00,9, -999.00,9,-999.000,9,-999.000,9,-999.0000,9,  2213.2,3,  2354.5,2,   -999.0,9,  -999.00,-999.0000,9,  -999.00,-999.000,9,-999.0000,9, -999.00,9,-999.0000,9, -999.00,9,  -999.0,9,  -999.0,-999.000,9, -999.00,9, -999.00,9, 5498.80,   1.9248
33RO20100308,      A13.5,      79,          1,          2,      11702,4,20100404,       0859,      -15.0,     0.9998,       5412,  5498.4,   2.4577,  34.8786,2,  34.8783,2, 235.5000,2,   235.3,2, -999.00,9, -999.00,9, -999.00,9, -999.00,9,   0.008,2,   0.005,2,   0.0000,2,  2212.0,2,  2358.3,2,    803.8,2,    20.00,-999.0000,9,  -999.00,-999.000,9,-999.0000,9, -999.00,9,-999.0000,9, -999.00,9,  -999.0,9,  -999.0,   0.058,3, -999.00,9, -999.00,9, 5498.40,   1.9250
33RO20100308,      A13.5,      79,          1,          8,      11033,4,20100404,       0859,      -15.0,     0.9998,       5412,  5498.9,   2.4576,  34.8785,2,  34.8782,2, 235.6000,2,   234.9,2, -999.00,9, -999.00,9, -999.00,9, -999.00,9,-999.000,9,-999.000,9,-999.0000,9,  2213.9,3,  -999.0,9,    801.7,2,    20.00,-999.0000,9,  -999.00,-999.000,9,-999.0000,9, -999.00,9,-999.0000,9, -999.00,9,  -999.0,9,  -999.0,-999.000,9, -999.00,9, -999.00,9, 5498.90,   1.9250
33RO20100308,      A13.5,      79,          1,         17,      11025,4,20100404,       0859,      -15.0,     0.9998,       5412,  5499.0,   2.4577,  34.8785,2,-999.0000,9, 235.6000,2,   234.9,2, -999.00,9, -999.00,9, -999.00,9, -999.00,9,-999.000,9,-999.000,9,-999.0000,9,  -999.0,9,  -999.0,9,   -999.0,9,  -999.00,-999.0000,9,  -999.00,-999.000,9,-999.0000,9, -999.00,9,-999.0000,9, -999.00,9,  -999.0,9,  -999.0,-999.000,9, -999.00,9, -999.00,9, 5499.00,   1.9250
33RO20100308,      A13.5,      79,          1,         15,      11006,4,20100404,       0859,      -15.0,     0.9998,       5412,  5499.0,   2.4572,  34.8787,2,  34.8784,2, 235.6000,2,   234.8,2, -999.00,9, -999.00,9, -999.00,9, -999.00,9,-999.000,9,-999.000,9,-999.0000,9,  -999.0,9,  -999.0,9,    808.4,6,    20.00,-999.0000,9,  -999.00,-999.000,9,-999.0000,9, -999.00,9,-999.0000,9, -999.00,9,  -999.0,9,  -999.0,-999.000,9, -999.00,9, -999.00,9, 5499.00,   1.9245
33RO20100308,      A13.5,      79,          1,          1,      11701,4,20100404,       0859,      -15.0,     0.9998,       5412,  5499.0,   2.4579,  34.8785,2,  34.8782,2, 235.6000,2,   234.6,6, -999.00,9, -999.00,9, -999.00,9, -999.00,9,   0.008,2,   0.007,2,   0.0000,2,  2213.8,3,  2356.2,2,   -999.0,9,  -999.00,-999.0000,9,  -999.00,-999.000,9,-999.0000,9, -999.00,9,-999.0000,9, -999.00,9,  -999.0,9,  -999.0,   0.058,3, -999.00,9, -999.00,9, 5499.00,   1.9251
33RO20100308,      A13.5,      79,          1,         16,      11709,4,20100404,       0859,      -15.0,     0.9998,       5412,  5499.2,   2.4574,  34.8785,2,  34.8789,2, 235.6000,2,   235.2,2, -999.00,9, -999.00,9, -999.00,9, -999.00,9,-999.000,9,-999.000,9,-999.0000,9,  -999.0,9,  -999.0,9,   -999.0,9,  -999.00,-999.0000,9,  -999.00,-999.000,9,-999.0000,9, -999.00,9,-999.0000,9, -999.00,9,  -999.0,9,  -999.0,-999.000,9, -999.00,9, -999.00,9, 5499.20,   1.9247