BOTTLE,20130404CCHSIOCBG
EXPOCODE,SECT_ID,STNNBR,CASTNO,SAMPNO,BTLNBR,BTLNBR_FLAG_W,DATE,TIME,LATITUDE,LONGITUDE,DEPTH,CTDPRS,CTDTMP,CTDSAL,CTDSAL_FLAG_W,SALNTY,SALNTY_FLAG_W,CTDOXY,CTDOXY_FLAG_W,OXYGEN,OXYGEN_FLAG_W,SILCAT,SILCAT_FLAG_W,NITRAT,NITRAT_FLAG_W,NITRIT,NITRIT_FLAG_W,PHSPHT,PHSPHT_FLAG_W,CFC-11,CFC-11_FLAG_W,CFC-12,CFC-12_FLAG_W,SF6,SF6_FLAG_W,TCARBN,TCARBN_FLAG_W,ALKALI,ALKALI_FLAG_W,FCO2,FCO2_FLAG_W,FCO2TMP,PH_TOT,PH_TOT_FLAG_W,PH_TMP,TRITUM,TRITUM_FLAG_W,HELIUM,HELIUM_FLAG_W,DELHE3,DELHE3_FLAG_W,REFTMP,REFTMP_FLAG_W,DELC13,DELC13_FLAG_W,DELC14,DELC14_FLAG_W,C14ERR,CCL4,CCL4_FLAG_W,DOC,DOC_FLAG_W,TDN,TDN_FLAG_W,CTDRAW,THETA
,,,,,,,,,,,METERS,DBAR,ITS-90,PSS-78,,PSS-78,,UMOL/KG,,UMOL/KG,,UMOL/KG,,UMOL/KG,,UMOL/KG,,UMOL/KG,,PMOL/KG,,PMOL/KG,,FMOL/KG,,UMOL/KG,,UMOL/KG,,UATM,,DEG C,,,DEG C,TU,,NMOL/KG,,PERCNT,,DEG C,,/MILLE,,/MILLE,,/MILLE,PMOL/KG,,UMOL/KG,,UMOL/KG,,DBAR,DEG C
33RO20100308,      A13.5,      91,          1,         24,      11714,2,20100408,       1443,       -9.0,     0.1395,       5862,     5.5,  28.5443,  36.0025,2,  36.0031,2, 197.0000,2,   198.4,2,    0.18,6,    0.04,6,    0.00,6,    0.06,6,   1.505,2,   0.962,2,   0.9680,2,  2027.7,6,  2369.7,2,    293.3,2,    20.00,   8.0948,2,    25.00,-999.000,9,-999.0000,9, -999.00,9,-999.0000,9, -999.00,9,  -999.0,9,  -999.0,   1.761,3,   78.81,2,    5.51,2,    5.50,  28.5430
33RO20100308,      A13.5,      91,          1,         23,      11716,2,20100408,       1443,       -9.0,     0.1395,       5862,    49.9,  22.9520,  36.0929,2,  36.0863,2, 227.8000,2,   224.6,6,    1.68,2,    0.32,2,    0.01,2,    0.22,2,   1.928,2,   1.170,2,   0.9360,2,  2073.1,2,  2374.4,6,    353.9,2,    20.00,   8.0278,2,    25.00,-999.000,9,-999.0000,9, -999.00,9,-999.0000,9, -999.00,9,  -999.0,9,  -999.0,   0.854,3,   70.56,2,    5.31,2,   49.90,  22.9418
33RO20100308,      A13.5,      91,          1,         22,      11022,2,20100408,       1443,       -9.0,     0.1395,       5862,   100.6,  14.8351,  35.5052,2,  35.5051,2,  58.0000,2,    55.8,2,    7.59,2,   25.35,2,    0.05,2,    1.64,2,   2.002,2,   1.110,2,   0.5110,2,  2218.8,2,  2326.6,6,   1038.0,3,    20.00,   7.6181,2,    25.00,-999.000,9,-999.0000,9, -999.00,9,-999.0000,9, -999.00,9,  -999.0,9,  -999.0,   0.213,3,   46.97,2,   29.58,2,  100.60,  14.8200
33RO20100308,      A13.5,      91,          1,         21,      11010,2,20100408,       1443,       -9.0,     0.1395,       5862,   200.1,  11.8666,  35.1442,2,  35.1405,2,  89.6000,2,    89.1,2,   10.08,2,   26.27,2,    0.01,2,    1.71,2,   1.774,2,   0.952,2,   0.3940,2,  2205.7,2,  2312.7,2,   1032.3,2,    20.00,   7.6186,2,    25.00,-999.000,9,-999.0000,9, -999.00,9,-999.0000,9, -999.00,9,  -999.0,9,  -999.0,   0.330,3,   44.62,2,   29.42,2,  200.10,  11.8406
33RO20100308,      A13.5,      91,          1,         20,      11715,2,20100408,       1443,       -9.0,     0.1395,       5862,   300.9,  10.6022,  34.9947,2,  34.9925,2,  54.1000,2,    52.3,2,   13.25,2,   32.43,2,    0.00,2,    2.06,2,   1.106,6,   0.583,6,   0.1690,6,  2234.6,2,  2302.3,2,   1337.2,2,    20.00,   7.5127,2,    25.00,-999.000,9,-999.0000,9, -999.00,9,-999.0000,9, -999.00,9,  -999.0,9,  -999.0,   0.204,3,   42.89,2,   34.69,2,  300.90,  10.5658
33RO20100308,      A13.5,      91,          1,         19,      11007,2,20100408,       1443,       -9.0,     0.1395,       5862,   450.4,   8.7194,  34.7993,2,  34.7989,2,  34.5000,2,    35.5,2,   17.95,2,   38.07,2,    0.00,2,    2.41,2,   0.360,2,   0.192,2,   0.0270,2,  2255.7,2,  2297.9,2,   1648.9,2,    20.00,   7.4246,2,    25.00,-999.000,9,-999.0000,9, -999.00,9,-999.0000,9, -999.00,9,  -999.0,9,  -999.0,   0.127,3,   42.50,2,   39.75,2,  450.40,   8.6708
33RO20100308,      A13.5,      91,          1,         18,      11710,2,20100408,       1443,       -9.0,     0.1395,       5862,   600.1,   6.5643,  34.6043,2,  34.6068,2,  60.9000,2,    61.5,2,   23.84,2,   40.06,2,    0.00,2,    2.61,2,   0.090,2,   0.051,2,   0.0000,2,  2254.6,2,  2292.6,2,   1655.8,2,    20.00,   7.4237,2,    25.00,-999.000,9,-999.0000,9, -999.00,9,-999.0000,9, -999.00,9,  -999.0,9,  -999.0,   0.125,3,   40.47,2,   41.89,2,  600.10,   6.5088
33RO20100308,      A13.5,      91,          1,         17,      11025,2,20100408,       1443,       -9.0,     0.1395,       5862,   800.8,   4.9052,  34.5085,2,  34.5090,2, 119.4000,2,   120.1,2,   31.20,2,   37.19,2,    0.00,2,    2.50,2,   0.042,2,   0.024,2,   0.0000,2,  2235.7,2,  2299.6,2,   1358.8,2,    20.00,   7.5046,2,    25.00,-999.000,9,-999.0000,9, -999.00,9,-999.0000,9, -999.00,9,  -999.0,9,  -999.0,   0.126,3,   38.76,2,   38.61,2,  800.80,   4.8402
33RO20100308,      A13.5,      91,          1,         16,      11709,2,20100408,       1443,       -9.0,     0.1395,       5862,   999.2,   4.2800,  34.5773,2,  34.5785,2, 145.0000,2,   145.6,2,   33.85,2,   34.42,2,    0.00,2,    2.35,2,   0.016,2,   0.012,2,   0.0000,2,  2228.0,2,  2305.9,6,   1229.9,2,    20.00,   7.5474,4,    25.00,-999.000,9,-999.0000,9, -999.00,9,-999.0000,9, -999.00,9,  -999.0,9,  -999.0,   0.061,3,   38.62,2,   36.69,2,  999.20,   4.2021
33RO20100308,      A13.5,      91,          1,         15,      11006,2,20100408,       1443,       -9.0,     0.1395,       5862,  1199.7,   4.0754,  34.7165,2,  34.7177,2, 169.4000,2,   169.4,2,   31.48,2,   30.60,2,    0.00,2,    2.09,2,   0.005,2,   0.003,2,   0.0000,2,  2216.1,2,  2312.9,2,   1084.0,2,    20.00,   7.6001,2,    25.00,-999.000,9,-999.0000,9, -999.00,9,-999.0000,9, -999.00,9,  -999.0,9,  -999.0,   0.035,3,   38.51,2,   32.42,2, 1199.70,   3.9817
33RO20100308,      A13.5,      91,          1,         14,      11708,2,20100408,       1443,       -9.0,     0.1395,       5862,  1398.2,   4.0021,  34.8542,2,  34.8549,2, 198.9000,2,   198.2,2,   26.37,2,   26.07,2,    0.00,2,    1.77,2,   0.011,2,   0.006,2,   0.0000,2,  2197.3,2,  2313.5,2,    922.1,6,    20.00,   7.6595,2,    25.00,-999.000,9,-999.0000,9, -999.00,9,-999.0000,9, -999.00,9,  -999.0,9,  -999.0,   0.075,3,   39.39,2,   28.37,2, 1398.20,   3.8913
33RO20100308,      A13.5,      91,          1,         13,      11031,2,20100408,       1443,       -9.0,     0.1395,       5862,  1600.2,   3.8125,  34.9182,2,  34.9192,2, 218.9000,2,   218.2,2,   24.41,2,   23.42,2,    0.00,2,    1.58,2,   0.011,2,   0.008,2,   0.0000,2,  2185.8,2,  2317.8,2,    843.0,2,    20.00,   7.6944,2,    25.00,-999.000,9,-999.0000,9, -999.00,9,-999.0000,9, -999.00,9,  -999.0,9,  -999.0,   0.085,3,   39.70,2,   25.32,2, 1600.20,   3.6855
33RO20100308,      A13.5,      91,          1,         12,      11027,2,20100408,       1443,       -9.0,     0.1395,       5862,  1899.7,   3.4994,  34.9353,2,  34.9364,2, 230.3000,2,   229.4,2,   26.54,2,   22.22,2,    0.00,2,    1.50,2,   0.007,2,   0.005,2,   0.0000,2,  2182.9,2,  2321.0,2,    808.5,2,    20.00,   7.7115,2,    25.00,-999.000,9,-999.0000,9, -999.00,9,-999.0000,9, -999.00,9,  -999.0,9,  -999.0,   0.067,3,   40.09,2,   24.37,2, 1899.70,   3.3488
33RO20100308,      A13.5,      91,          1,         11,      11707,2,20100408,       1443,       -9.0,     0.1395,       5862,  2199.5,   3.1832,  34.9312,2,  34.9316,2, 232.5000,2,   232.2,2,   31.29,2,   22.14,2,    0.00,2,    1.49,2,   0.004,2,   0.003,2,   0.0000,2,  2187.4,2,  2327.5,2,    802.2,2,    20.00,   7.7143,2,    25.00,-999.000,9,-999.0000,9, -999.00,9,-999.0000,9, -999.00,9,  -999.0,9,  -999.0,   0.038,3,   39.70,2,   23.93,2, 2199.50,   3.0092
33RO20100308,      A13.5,      91,          1,         10,      11003,2,20100408,       1443,       -9.0,     0.1395,       5862,  2500.8,   2.9335,  34.9211,2,  34.9221,2, 234.0000,2,   233.9,2,   36.14,2,   22.31,2,    0.00,2,    1.51,2,   0.003,2,   0.002,2,   0.0000,2,  2191.8,2,  2331.9,2,    802.8,2,    20.00,   7.7176,2,    25.00,-999.000,9,-999.0000,9, -999.00,9,-999.0000,9, -999.00,9,  -999.0,9,  -999.0,   0.027,3,   39.72,2,   24.51,2, 2500.80,   2.7347
33RO20100308,      A13.5,      91,          1,          9,      11706,2,20100408,       1443,       -9.0,     0.1395,       5862,  2798.1,   2.7375,  34.9113,2,  34.9116,2, 234.7000,2,   235.2,2,   40.15,2,   22.50,2,    0.00,2,    1.52,2,   0.003,2,   0.002,2,   0.0000,2,  2195.8,2,  2336.4,2,    803.2,2,    20.00,   7.7186,2,    25.00,-999.000,9,-999.0000,9, -999.00,9,-999.0000,9, -999.00,9,  -999.0,9,  -999.0,   0.024,3,   39.84,2,   24.48,2, 2798.10,   2.5131
33RO20100308,      A13.5,      91,          1,          8,      11033,2,20100408,       1443,       -9.0,     0.1395,       5862,  3199.7,   2.5585,  34.9002,2,  34.9004,2, 235.5000,2,   234.4,2,   44.90,2,   22.81,2,    0.00,2,    1.54,2,   0.002,2,   0.002,2,   0.0000,2,  2201.7,2,  2341.8,2,    809.0,2,    20.00,   7.7177,2,    25.00,-999.000,9,-999.0000,9, -999.00,9,-999.0000,9, -999.00,9,  -999.0,9,  -999.0,   0.019,3,   40.09,2,   24.67,2, 3199.70,   2.2967
33RO20100308,      A13.5,      91,          1,          7,      11705,2,20100408,       1443,       -9.0,     0.1395,       5862,  3599.2,   2.4438,  34.8930,2,  34.8930,2, 233.4000,2,   233.0,2,   48.68,6,   23.08,6,    0.00,6,    1.56,2,   0.003,2,   0.002,2,   0.0000,2,  2208.1,2,  2348.2,2,    805.7,2,    20.00,   7.7159,2,    25.00,-999.000,9,-999.0000,9, -999.00,9,-999.0000,9, -999.00,9,  -999.0,9,  -999.0,   0.023,3,   40.16,2,   24.59,2, 3599.20,   2.1420
33RO20100308,      A13.5,      91,          1,          6,      11029,2,20100408,       1443,       -9.0,     0.1395,       5862,  4000.5,   2.3733,  34.8875,2,  34.8874,2, 232.3000,2,   231.4,2,   51.84,6,   23.34,6,    0.00,6,    1.57,6,   0.003,2,   0.003,2,   0.0000,2,  2214.3,2,  2354.6,2,    808.4,2,    20.00,   7.7153,2,    25.00,-999.000,9,-999.0000,9, -999.00,9,-999.0000,9, -999.00,9,  -999.0,9,  -999.0,   0.027,3,   40.11,2,   25.06,2, 4000.50,   2.0285
33RO20100308,      A13.5,      91,          1,          5,      11704,2,20100408,       1443,       -9.0,     0.1395,       5862,  4399.9,   2.3693,  34.8842,2,  34.8841,2, 231.3000,2,   231.9,2,   52.55,6,   23.37,6,    0.00,6,    1.57,6,   0.005,6,   0.004,6,   0.0000,6,  2214.6,2,  2356.7,2,    805.4,2,    20.00,   7.7175,2,    25.00,-999.000,9,-999.0000,9, -999.00,9,-999.0000,9, -999.00,9,  -999.0,9,  -999.0,   0.038,3,   40.15,2,   25.30,2, 4399.90,   1.9780
33RO20100308,      A13.5,      91,          1,          4,      11030,2,20100408,       1443,       -9.0,     0.1395,       5862,  4796.6,   2.3725,  34.8795,2,  34.8796,2, 235.1000,2,   234.3,2,   52.82,6,   23.25,6,    0.00,6,    1.57,6,   0.010,2,   0.008,2,   0.0000,2,  2211.6,2,  2355.1,2,    802.7,2,    20.00,   7.7186,2,    25.00,-999.000,9,-999.0000,9, -999.00,9,-999.0000,9, -999.00,9,  -999.0,9,  -999.0,   0.066,3,   40.12,2,   25.40,2, 4796.60,   1.9329
33RO20100308,      A13.5,      91,          1,          3,      11703,2,20100408,       1443,       -9.0,     0.1395,       5862,  5201.3,   2.4030,  34.8774,2,  34.8780,2, 235.5000,2,   236.2,2,   53.10,6,   23.26,6,    0.00,6,    1.57,6,   0.011,2,   0.007,2,   0.0000,2,  2211.7,2,  2353.1,2,    802.5,2,    20.00,   7.7201,2,    25.00,-999.000,9,-999.0000,9, -999.00,9,-999.0000,9, -999.00,9,  -999.0,9,  -999.0,   0.078,3,   40.28,2,   25.61,2, 5201.30,   1.9111
33RO20100308,      A13.5,      91,          1,          2,      11702,2,20100408,       1443,       -9.0,     0.1395,       5862,  5600.6,   2.4426,  34.8757,2,  34.8762,2, 240.1000,2,   237.6,6,   52.81,2,   23.13,2,    0.00,2,    1.57,2,   0.016,2,   0.011,2,   0.0000,2,  2208.3,2,  2352.0,2,    799.6,6,    20.00,   7.7185,2,    25.00,-999.000,9,-999.0000,9, -999.00,9,-999.0000,9, -999.00,9,  -999.0,9,  -999.0,   0.106,3,   39.86,2,   25.48,2, 5600.60,   1.8968
33RO20100308,      A13.5,      91,          1,          1,      11701,2,20100408,       1443,       -9.0,     0.1395,       5862,  5946.1,   2.4903,  34.8751,2,  34.8755,2, 239.5000,2,   237.5,2,   52.72,2,   23.14,2,    0.00,2,    1.57,2,   0.018,2,   0.012,2,   0.0000,2,  2210.0,6,  2350.6,2,    802.2,2,    20.00,   7.7179,2,    25.00,-999.000,9,-999.0000,9, -999.00,9,-999.0000,9, -999.00,9,  -999.0,9,  -999.0,   0.112,3,   40.39,2,   25.46,2, 5946.10,   1.8958