BOTTLE,20130404CCHSIOCBG
EXPOCODE,SECT_ID,STNNBR,CASTNO,SAMPNO,BTLNBR,BTLNBR_FLAG_W,DATE,TIME,LATITUDE,LONGITUDE,DEPTH,CTDPRS,CTDTMP,CTDSAL,CTDSAL_FLAG_W,SALNTY,SALNTY_FLAG_W,CTDOXY,CTDOXY_FLAG_W,OXYGEN,OXYGEN_FLAG_W,SILCAT,SILCAT_FLAG_W,NITRAT,NITRAT_FLAG_W,NITRIT,NITRIT_FLAG_W,PHSPHT,PHSPHT_FLAG_W,CFC-11,CFC-11_FLAG_W,CFC-12,CFC-12_FLAG_W,SF6,SF6_FLAG_W,TCARBN,TCARBN_FLAG_W,ALKALI,ALKALI_FLAG_W,FCO2,FCO2_FLAG_W,FCO2TMP,PH_TOT,PH_TOT_FLAG_W,PH_TMP,TRITUM,TRITUM_FLAG_W,HELIUM,HELIUM_FLAG_W,DELHE3,DELHE3_FLAG_W,REFTMP,REFTMP_FLAG_W,DELC13,DELC13_FLAG_W,DELC14,DELC14_FLAG_W,C14ERR,CCL4,CCL4_FLAG_W,DOC,DOC_FLAG_W,TDN,TDN_FLAG_W,CTDRAW,THETA
,,,,,,,,,,,METERS,DBAR,ITS-90,PSS-78,,PSS-78,,UMOL/KG,,UMOL/KG,,UMOL/KG,,UMOL/KG,,UMOL/KG,,UMOL/KG,,PMOL/KG,,PMOL/KG,,FMOL/KG,,UMOL/KG,,UMOL/KG,,UATM,,DEG C,,,DEG C,TU,,NMOL/KG,,PERCNT,,DEG C,,/MILLE,,/MILLE,,/MILLE,PMOL/KG,,UMOL/KG,,UMOL/KG,,DBAR,DEG C
33RO20100308,      A13.5,     125,          1,         24,      11714,2,20100416,       2117,     3.8233,    -3.0003,       2524,     5.8,  30.2765,  34.7648,2,  34.7755,2, 193.8000,2,   194.1,2,    0.71,6,    0.07,6,    0.00,6,    0.01,6,   1.421,2,   0.927,2,   0.9870,2,  1921.6,6,  2276.7,3,    237.9,2,    20.00,   8.1481,2,    25.00,-999.000,9,-999.0000,9, -999.00,9,  30.2758,2, -999.00,9,  -999.0,9,  -999.0,-999.000,5,   73.94,2,    5.00,2,    5.80,  30.2751
33RO20100308,      A13.5,     125,          1,         23,      11716,2,20100416,       2117,     3.8233,    -3.0003,       2524,    50.0,  22.0891,  35.8513,2,  35.8686,2, 190.3000,2,   186.3,2,    1.64,2,    1.17,2,    0.03,2,    0.30,2,   2.015,2,   1.207,2,   0.9610,2,  2107.0,2,  2358.5,6,    436.6,2,    20.00,   7.9481,2,    25.00,-999.000,9,-999.0000,9, -999.00,9,  22.0994,2, -999.00,9,  -999.0,9,  -999.0,-999.000,5,   57.54,2,    5.72,2,   50.00,  22.0792
33RO20100308,      A13.5,     125,          1,         22,      11022,2,20100416,       2117,     3.8233,    -3.0003,       2524,   100.6,  17.0602,  35.7960,2,  35.7895,2,  99.4000,2,   100.9,2,    5.54,2,   18.34,2,    0.04,2,    1.24,2,   2.109,2,   1.226,2,   0.7680,2,  2184.5,2,  2344.1,6,    720.5,2,    20.00,   7.7558,2,    25.00,-999.000,9,-999.0000,9, -999.00,9,  17.0601,2, -999.00,9,  -999.0,9,  -999.0,-999.000,5,   53.00,2,   21.68,2,  100.60,  17.0435
33RO20100308,      A13.5,     125,          1,         21,      11010,2,20100416,       2117,     3.8233,    -3.0003,       2524,   200.8,  14.3890,  35.4658,2,  35.4575,2,  79.9000,2,    77.8,2,    8.34,2,   24.23,2,    0.00,2,    1.57,2,   1.878,2,   1.051,2,   0.5570,2,  2207.9,2,  2327.3,2,    919.0,2,    20.00,   7.6584,2,    25.00,-999.000,9,-999.0000,9, -999.00,9,  14.3869,2, -999.00,9,  -999.0,9,  -999.0,-999.000,5,   45.02,2,   26.66,2,  200.80,  14.3593
33RO20100308,      A13.5,     125,          1,         20,      11715,2,20100416,       2117,     3.8233,    -3.0003,       2524,   299.9,  10.7829,  35.0432,2,  35.0302,2,  52.2000,2,    53.3,6,   13.90,2,   32.91,2,    0.00,2,    2.07,2,   1.066,2,   0.574,2,   0.2060,2,  2237.4,2,  2301.3,2,   1301.3,2,    20.00,   7.5193,2,    25.00,-999.000,9,-999.0000,9, -999.00,9,  10.7685,2, -999.00,9,  -999.0,9,  -999.0,-999.000,5,   43.71,2,   34.67,2,  299.90,  10.7462
33RO20100308,      A13.5,     125,          1,         19,      11007,2,20100416,       2117,     3.8233,    -3.0003,       2524,   401.0,   8.7644,  34.8191,2,  34.8163,2,  71.3000,2,    71.1,2,   17.40,2,   34.73,2,    0.00,2,    2.22,2,   0.751,6,   0.397,6,   0.1750,6,  2236.7,2,  2300.4,2,   1350.2,2,    20.00,   7.5022,2,    25.00,-999.000,9,-999.0000,9, -999.00,9,   8.7647,2, -999.00,9,  -999.0,9,  -999.0,-999.000,5,   42.14,2,   37.05,2,  401.00,   8.7211
33RO20100308,      A13.5,     125,          1,         18,      11710,2,20100416,       2117,     3.8233,    -3.0003,       2524,   499.8,   7.3400,  34.6795,2,  34.6793,2,  86.3000,2,    89.1,2,   20.79,2,   35.89,2,    0.00,2,    2.34,2,   0.446,2,   0.234,2,   0.0000,2,  2234.3,2,  2295.1,2,   1359.0,2,    20.00,   7.5022,2,    25.00,-999.000,9,-999.0000,9, -999.00,9,   7.3426,2, -999.00,9,  -999.0,9,  -999.0,-999.000,5,   40.72,2,   37.40,2,  499.80,   7.2911
33RO20100308,      A13.5,     125,          1,         17,      11025,2,20100416,       2117,     3.8233,    -3.0003,       2524,   599.6,   6.3433,  34.6025,2,  34.6019,2,  99.8000,2,   100.7,2,   24.46,2,   36.50,2,    0.00,2,    2.43,2,   0.210,2,   0.112,2,   0.0000,2,  2234.3,2,  2294.5,2,   1358.1,2,    20.00,   7.5024,2,    25.00,-999.000,9,-999.0000,9, -999.00,9,   6.3590,2, -999.00,9,  -999.0,9,  -999.0,-999.000,5,   39.81,2,   37.66,2,  599.60,   6.2888
33RO20100308,      A13.5,     125,          1,         16,      11709,2,20100416,       2117,     3.8233,    -3.0003,       2524,   699.8,   5.4587,  34.5469,2,  34.5468,2, 124.2000,2,   124.4,2,   27.57,2,   35.78,2,    0.00,2,    2.41,2,   0.167,2,   0.087,2,   0.0000,2,  2226.7,2,  2296.9,2,   1281.1,2,    20.00,   7.5298,2,    25.00,-999.000,9,-999.0000,9, -999.00,9,   5.4573,2, -999.00,9,  -999.0,9,  -999.0,-999.000,5,   39.00,2,   37.06,2,  699.80,   5.3994
33RO20100308,      A13.5,     125,          1,         15,      11006,2,20100416,       2117,     3.8233,    -3.0003,       2524,   800.5,   5.0480,  34.5607,2,  34.5596,2, 131.6000,2,   132.3,2,   29.89,2,   35.30,2,    0.00,2,    2.41,2,-999.000,9,-999.000,9,-999.0000,9,  2227.0,2,  2298.3,2,   1259.1,2,    20.00,   7.5370,2,    25.00,-999.000,9,-999.0000,9, -999.00,9,   5.0487,2, -999.00,9,  -999.0,9,  -999.0,-999.000,9,   38.11,2,   36.72,2,  800.50,   4.9821
33RO20100308,      A13.5,     125,          1,         14,      11708,2,20100416,       2117,     3.8233,    -3.0003,       2524,   900.2,   4.8208,  34.5836,2,  34.5846,2, 137.8000,2,   139.1,2,   30.57,2,   34.60,2,    0.00,2,    2.36,2,   0.046,2,   0.027,2,   0.0000,2,  2224.9,2,  2301.4,2,   1225.7,2,    20.00,   7.5469,2,    25.00,-999.000,9,-999.0000,9, -999.00,9,   4.8215,2, -999.00,9,  -999.0,9,  -999.0,-999.000,5,   37.80,2,   36.08,2,  900.20,   4.7476
33RO20100308,      A13.5,     125,          1,         13,      11031,2,20100416,       2117,     3.8233,    -3.0003,       2524,   999.5,   4.6432,  34.6483,2,  34.6491,2, 146.5000,2,   147.3,2,   30.31,2,   33.21,2,    0.00,2,    2.27,2,-999.000,9,-999.000,9,-999.0000,9,  2222.2,2,  2303.9,6,   1174.2,2,    20.00,   7.5656,2,    25.00,-999.000,9,-999.0000,9, -999.00,9,   4.6438,2, -999.00,9,  -999.0,9,  -999.0,-999.000,9,   38.14,2,   34.25,2,  999.50,   4.5624
33RO20100308,      A13.5,     125,          1,         12,      11027,2,20100416,       2117,     3.8233,    -3.0003,       2524,  1100.4,   4.5579,  34.7306,2,  34.7299,2, 160.4000,2,   160.6,2,   28.42,2,   30.96,2,    0.00,2,    2.10,2,   0.083,4,   0.140,4,   1.6950,4,  2215.0,2,  2306.0,2,   1080.6,2,    20.00,   7.5945,2,    25.00,-999.000,9,-999.0000,9, -999.00,9,   4.5578,2, -999.00,9,  -999.0,9,  -999.0,-999.000,5,   38.72,2,   32.58,2, 1100.40,   4.4687
33RO20100308,      A13.5,     125,          1,         11,      11707,2,20100416,       2117,     3.8233,    -3.0003,       2524,  1199.5,   4.4985,  34.8054,2,  34.8062,2, 174.5000,2,   174.8,2,   26.13,2,   28.61,2,    0.00,2,    1.94,2,-999.000,9,-999.000,9,-999.0000,9,  2208.5,2,  2311.9,2,   1005.3,2,    20.00,   7.6249,2,    25.00,-999.000,9,-999.0000,9, -999.00,9,   4.4989,2, -999.00,9,  -999.0,9,  -999.0,-999.000,9,   39.11,2,   30.47,2, 1199.50,   4.4008
33RO20100308,      A13.5,     125,          1,         10,      11003,2,20100416,       2117,     3.8233,    -3.0003,       2524,  1299.9,   4.4575,  34.8717,2,  34.8711,2, 190.1000,2,   190.7,2,   23.65,6,   26.38,6,    0.00,6,    1.78,2,-999.000,5,-999.000,5,-999.0000,5,  2198.0,2,  2310.8,2,    934.9,2,    20.00,   7.6541,2,    25.00,-999.000,9,-999.0000,9, -999.00,9,   4.4575,2, -999.00,9,  -999.0,9,  -999.0,-999.000,5,   39.52,2,   27.92,2, 1299.90,   4.3509
33RO20100308,      A13.5,     125,          1,          9,      11706,2,20100416,       2117,     3.8233,    -3.0003,       2524,  1400.0,   4.3330,  34.9057,2,  34.9054,2, 201.6000,2,   201.9,2,   22.61,6,   24.90,6,    0.00,6,    1.68,6,-999.000,9,-999.000,9,-999.0000,9,  2192.8,2,  2314.2,2,    891.8,2,    20.00,   7.6718,2,    25.00,-999.000,9,-999.0000,9, -999.00,9,   4.3329,2, -999.00,9,  -999.0,9,  -999.0,-999.000,9,   39.77,2,   27.31,2, 1400.00,   4.2184
33RO20100308,      A13.5,     125,          1,          8,      11033,2,20100416,       2117,     3.8233,    -3.0003,       2524,  1498.8,   4.1893,  34.9308,2,  34.9307,2, 211.4000,2,   211.5,2,   21.94,6,   23.65,6,    0.00,6,    1.61,6,   0.032,2,   0.019,2,   0.0000,2,  2188.0,2,  2311.4,2,   -999.0,9,  -999.00,   7.6875,2,    25.00,-999.000,9,-999.0000,9, -999.00,9,   4.1892,2, -999.00,9,  -999.0,9,  -999.0,-999.000,5,   40.17,2,   25.36,2, 1498.80,   4.0671
33RO20100308,      A13.5,     125,          1,          7,      11705,2,20100416,       2117,     3.8233,    -3.0003,       2524,  1599.9,   4.0572,  34.9506,2,  34.9507,2, 221.8000,2,   221.8,6,   21.08,6,   22.46,6,    0.00,6,    1.51,6,-999.000,9,-999.000,9,-999.0000,9,  2181.7,2,  2312.5,2,    825.0,2,    20.00,   7.7027,2,    25.00,-999.000,9,-999.0000,9, -999.00,9,   4.0583,2, -999.00,9,  -999.0,9,  -999.0,-999.000,9,   39.63,2,   24.32,2, 1599.90,   3.9272
33RO20100308,      A13.5,     125,          1,          6,      11029,2,20100416,       2117,     3.8233,    -3.0003,       2524,  1700.7,   3.9228,  34.9579,2,  34.9568,2, 227.2000,2,   228.3,2,   21.33,6,   21.85,6,    0.00,6,    1.47,6,   0.021,2,   0.014,2,   0.0000,2,  2179.4,2,  2312.3,2,   -999.0,9,  -999.00,   7.7113,2,    25.00,-999.000,9,-999.0000,9, -999.00,9,   3.9239,2, -999.00,9,  -999.0,9,  -999.0,-999.000,5,   40.43,2,   23.46,2, 1700.70,   3.7850
33RO20100308,      A13.5,     125,          1,          5,      11704,2,20100416,       2117,     3.8233,    -3.0003,       2524,  1799.8,   3.8113,  34.9605,2,  34.9593,2, 231.5000,2,   232.1,2,   21.78,6,   21.42,6,    0.00,6,    1.44,6,-999.000,9,-999.000,9,-999.0000,9,  2177.4,2,  2315.4,2,    797.8,2,    20.00,   7.7163,2,    25.00,-999.000,9,-999.0000,9, -999.00,9,   3.8113,2, -999.00,9,  -999.0,9,  -999.0,-999.000,9,   40.37,2,   23.40,2, 1799.80,   3.6657
33RO20100308,      A13.5,     125,          1,          4,      11030,2,20100416,       2117,     3.8233,    -3.0003,       2524,  1899.8,   3.7092,  34.9608,2,  34.9601,2, 234.1000,2,   233.9,2,   22.45,6,   21.21,6,    0.00,6,    1.43,6,   0.019,2,   0.013,2,   0.0000,2,  2176.9,2,  2317.2,2,   -999.0,9,  -999.00,   7.7208,2,    25.00,-999.000,9,-999.0000,9, -999.00,9,   3.7096,2, -999.00,9,  -999.0,9,  -999.0,-999.000,5,   39.88,2,   23.01,2, 1899.80,   3.5555
33RO20100308,      A13.5,     125,          1,          3,      11703,2,20100416,       2117,     3.8233,    -3.0003,       2524,  2099.9,   3.4255,  34.9544,2,  34.9542,2, 237.4000,2,   238.8,2,   25.60,6,   21.04,6,    0.00,6,    1.42,6,-999.000,9,-999.000,9,-999.0000,9,  2176.9,2,  2321.0,2,    781.8,2,    20.00,   7.7256,2,    25.00,-999.000,9,-999.0000,9, -999.00,9,   3.4251,2, -999.00,9,  -999.0,9,  -999.0,-999.000,9,   40.10,2,   23.09,2, 2099.90,   3.2570
33RO20100308,      A13.5,     125,          1,          2,      11702,4,20100416,       2117,     3.8233,    -3.0003,       2524,  2300.6,   3.2177,  34.9450,4,  34.9541,4, 239.2000,2,   238.7,2,   25.66,4,   20.98,4,    0.00,4,    1.42,4,   0.017,4,   0.011,4,  -0.1150,4,  2177.1,4,  2318.0,4,   -999.0,9,  -999.00,   7.7257,2,    25.00,-999.000,9,-999.0000,9, -999.00,9,   3.2186,2, -999.00,9,  -999.0,9,  -999.0,-999.000,5,   39.89,2,   23.22,2, 2300.60,   3.0333
33RO20100308,      A13.5,     125,          1,          1,      11701,2,20100416,       2117,     3.8233,    -3.0003,       2524,  2537.8,   2.9226,  34.9290,2,  34.9291,2, 238.3000,2,   238.3,2,   34.20,6,   21.51,6,    0.00,6,    1.46,6,   0.005,2,   0.005,2,   0.0000,2,  2186.4,6,  2327.6,2,    785.8,2,    20.00,   7.7245,2,    25.00,-999.000,9,-999.0000,9, -999.00,9,   2.9222,2, -999.00,9,  -999.0,9,  -999.0,-999.000,5,   40.07,2,   23.29,2, 2537.80,   2.7204