BOTTLE,20130404CCHSIOCBG
EXPOCODE,SECT_ID,STNNBR,CASTNO,SAMPNO,BTLNBR,BTLNBR_FLAG_W,DATE,TIME,LATITUDE,LONGITUDE,DEPTH,CTDPRS,CTDTMP,CTDSAL,CTDSAL_FLAG_W,SALNTY,SALNTY_FLAG_W,CTDOXY,CTDOXY_FLAG_W,OXYGEN,OXYGEN_FLAG_W,SILCAT,SILCAT_FLAG_W,NITRAT,NITRAT_FLAG_W,NITRIT,NITRIT_FLAG_W,PHSPHT,PHSPHT_FLAG_W,CFC-11,CFC-11_FLAG_W,CFC-12,CFC-12_FLAG_W,SF6,SF6_FLAG_W,TCARBN,TCARBN_FLAG_W,ALKALI,ALKALI_FLAG_W,FCO2,FCO2_FLAG_W,FCO2TMP,PH_TOT,PH_TOT_FLAG_W,PH_TMP,TRITUM,TRITUM_FLAG_W,HELIUM,HELIUM_FLAG_W,DELHE3,DELHE3_FLAG_W,REFTMP,REFTMP_FLAG_W,DELC13,DELC13_FLAG_W,DELC14,DELC14_FLAG_W,C14ERR,CCL4,CCL4_FLAG_W,DOC,DOC_FLAG_W,TDN,TDN_FLAG_W,CTDRAW,THETA
,,,,,,,,,,,METERS,DBAR,ITS-90,PSS-78,,PSS-78,,UMOL/KG,,UMOL/KG,,UMOL/KG,,UMOL/KG,,UMOL/KG,,UMOL/KG,,PMOL/KG,,PMOL/KG,,FMOL/KG,,UMOL/KG,,UMOL/KG,,UATM,,DEG C,,,DEG C,TU,,NMOL/KG,,PERCNT,,DEG C,,/MILLE,,/MILLE,,/MILLE,PMOL/KG,,UMOL/KG,,UMOL/KG,,DBAR,DEG C
33RO20100308,      A13.5,     102,          1,         24,      11714,2,20100411,       1547,    -3.5002,    -3.0005,       4835,     5.4,  28.9124,  35.3784,2,  35.3847,2, 196.6000,2,   197.3,2,    0.78,6,    0.06,6,    0.00,6,    0.13,4,   1.536,2,   0.969,2,   0.9900,2,  1991.4,6,  2318.9,2,    290.6,2,    20.00,   8.0916,2,    25.00,-999.000,9,-999.0000,9, -999.00,9,  28.9091,2, -999.00,9,  -999.0,9,  -999.0,   1.740,3, -999.00,9, -999.00,9,    5.40,  28.9111
33RO20100308,      A13.5,     102,          1,         23,      11716,2,20100411,       1547,    -3.5002,    -3.0005,       4835,    20.3,  25.6673,  35.6256,2,  35.6326,2, 207.4000,2,   208.1,2,    0.93,2,    0.30,2,    0.01,2,    0.27,4,-999.000,9,-999.000,9,-999.0000,9,  2033.0,2,  2340.7,6,    328.0,2,    20.00,   8.0498,2,    25.00,-999.000,9,-999.0000,9, -999.00,9,  26.3604,2, -999.00,9,  -999.0,9,  -999.0,-999.000,9, -999.00,9, -999.00,9,   20.30,  25.6628
33RO20100308,      A13.5,     102,          1,         22,      11022,2,20100411,       1547,    -3.5002,    -3.0005,       4835,    50.2,  17.0546,  35.7740,2,  35.7719,2, 154.2000,2,   151.8,2,    4.09,2,   11.95,2,    0.37,2,    1.02,4,   2.235,2,   1.278,2,   0.8620,2,  2149.2,2,  2348.2,6,    580.8,6,    20.00,   7.8416,2,    25.00,-999.000,9,-999.0000,9, -999.00,9,  17.0540,2, -999.00,9,  -999.0,9,  -999.0,   0.519,3, -999.00,9, -999.00,9,   50.20,  17.0463
33RO20100308,      A13.5,     102,          1,         21,      11010,2,20100411,       1547,    -3.5002,    -3.0005,       4835,    89.3,  15.9329,  35.6747,2,  35.6753,2, 130.1000,2,   129.0,2,    5.48,2,   16.27,2,    0.02,2,    1.21,4,   2.260,2,   1.278,2,   0.8230,2,  2169.0,2,  2341.0,2,    673.2,2,    20.00,   7.7836,2,    25.00,-999.000,9,-999.0000,9, -999.00,9,  15.9372,2, -999.00,9,  -999.0,9,  -999.0,   0.491,3, -999.00,9, -999.00,9,   89.30,  15.9188
33RO20100308,      A13.5,     102,          1,         20,      11715,2,20100411,       1547,    -3.5002,    -3.0005,       4835,   149.8,  15.1601,  35.5743,2,  35.5710,2,  90.3000,2,    90.0,2,    7.09,2,   21.53,2,    0.01,2,    1.52,4,   2.143,6,   1.191,6,   0.6540,6,  2198.1,2,  2332.3,2,    840.6,2,    20.00,   7.6956,2,    25.00,-999.000,9,-999.0000,9, -999.00,9,  15.1624,2, -999.00,9,  -999.0,9,  -999.0,   0.246,3, -999.00,9, -999.00,9,  149.80,  15.1372
33RO20100308,      A13.5,     102,          1,         19,      11007,2,20100411,       1547,    -3.5002,    -3.0005,       4835,   199.1,  14.2778,  35.4527,2,  35.4498,2,  84.2000,2,    84.3,2,    7.74,2,   23.44,2,    0.01,2,    1.65,4,   2.087,2,   1.146,2,   0.6130,2,  2203.2,2,  2325.5,2,    913.5,2,    20.00,   7.6647,2,    25.00,-999.000,9,-999.0000,9, -999.00,9,  14.2756,2, -999.00,9,  -999.0,9,  -999.0,   0.286,3, -999.00,9, -999.00,9,  199.10,  14.2485
33RO20100308,      A13.5,     102,          1,         18,      11710,2,20100411,       1547,    -3.5002,    -3.0005,       4835,   250.2,  13.0249,  35.2861,2,  35.2808,2,  84.1000,2,    85.1,2,    9.13,2,   25.47,2,    0.01,2,    1.72,4,   1.952,2,   1.049,2,   0.4810,2,  2206.5,2,  2312.7,2,    979.7,2,    20.00,   7.6370,2,    25.00,-999.000,9,-999.0000,9, -999.00,9,  13.0303,2, -999.00,9,  -999.0,9,  -999.0,   0.321,3, -999.00,9, -999.00,9,  250.20,  12.9903
33RO20100308,      A13.5,     102,          1,         17,      11025,2,20100411,       1547,    -3.5002,    -3.0005,       4835,   325.7,  10.5010,  34.9809,2,  34.9809,2,  58.8000,2,    56.3,2,   13.56,2,   32.72,2,    0.01,2,    2.17,4,   1.176,2,   0.617,2,   0.1860,2,  2235.0,2,  2302.8,2,   1336.2,2,    20.00,   7.5130,2,    25.00,-999.000,9,-999.0000,9, -999.00,9,  10.5351,2, -999.00,9,  -999.0,9,  -999.0,   0.245,3, -999.00,9, -999.00,9,  325.70,  10.4618
33RO20100308,      A13.5,     102,          1,         16,      11709,2,20100411,       1547,    -3.5002,    -3.0005,       4835,   399.7,   8.7318,  34.7906,2,  34.7915,2,  74.6000,2,    75.6,2,   16.82,2,   34.94,2,    0.00,2,    2.29,4,   0.956,2,   0.489,2,   0.2230,2,  2233.1,2,  2296.4,2,   1373.8,2,    20.00,   7.5023,2,    25.00,-999.000,9,-999.0000,9, -999.00,9,   8.7322,2, -999.00,9,  -999.0,9,  -999.0,   0.397,3, -999.00,9, -999.00,9,  399.70,   8.6888
33RO20100308,      A13.5,     102,          1,         15,      11006,2,20100411,       1547,    -3.5002,    -3.0005,       4835,   475.0,   7.6468,  34.6722,2,  34.6697,2, 105.4000,2,   106.2,2,   18.71,2,   33.98,2,    0.00,2,    2.31,4,-999.000,9,-999.000,9,-999.0000,9,  2220.8,2,  2295.5,2,   1248.8,2,    20.00,   7.5350,2,    25.00,-999.000,9,-999.0000,9, -999.00,9,   7.6511,2, -999.00,9,  -999.0,9,  -999.0,-999.000,9, -999.00,9, -999.00,9,  475.00,   7.5993
33RO20100308,      A13.5,     102,          1,         14,      11708,2,20100411,       1547,    -3.5002,    -3.0005,       4835,   549.5,   6.8641,  34.6016,2,  34.6028,2, 118.3000,2,   117.5,2,   20.97,2,   34.66,2,    0.00,2,    2.30,4,-999.000,5,-999.000,5,-999.0000,5,  2219.4,2,  2292.6,2,   1237.1,2,    20.00,   7.5384,2,    25.00,-999.000,9,-999.0000,9, -999.00,9,   6.8737,2, -999.00,9,  -999.0,9,  -999.0,-999.000,5, -999.00,9, -999.00,9,  549.50,   6.8122
33RO20100308,      A13.5,     102,          1,         13,      11031,2,20100411,       1547,    -3.5002,    -3.0005,       4835,   649.8,   6.1148,  34.5575,2,  34.5563,2,  94.8000,2,   101.1,6,   24.78,2,   37.74,2,    0.00,2,    2.52,4,-999.000,9,-999.000,9,-999.0000,9,  2234.6,2,  2293.9,2,   1401.0,2,    20.00,   7.4888,2,    25.00,-999.000,9,-999.0000,9, -999.00,9,   6.1055,2, -999.00,9,  -999.0,9,  -999.0,-999.000,9, -999.00,9, -999.00,9,  649.80,   6.0567
33RO20100308,      A13.5,     102,          1,         12,      11027,2,20100411,       1547,    -3.5002,    -3.0005,       4835,   799.9,   4.8742,  34.5048,2,  34.5045,2, 129.9000,2,   131.9,6,   31.10,2,   36.49,2,    0.00,2,    2.44,4,   0.111,2,   0.058,2,   0.0000,2,  2228.8,2,  2298.4,2,   1287.5,2,    20.00,   7.5241,2,    25.00,-999.000,9,-999.0000,9, -999.00,9,   4.8737,2, -999.00,9,  -999.0,9,  -999.0,   0.236,3, -999.00,9, -999.00,9,  799.90,   4.8095
33RO20100308,      A13.5,     102,          1,         11,      11707,2,20100411,       1547,    -3.5002,    -3.0005,       4835,  1099.9,   4.3971,  34.7411,2,  34.7403,2, 168.5000,2,   168.5,2,   28.83,6,   30.53,6,    0.00,6,    2.05,4,-999.000,9,-999.000,9,-999.0000,9,  2209.7,2,  2306.6,2,   1058.6,2,    20.00,   7.6042,2,    25.00,-999.000,9,-999.0000,9, -999.00,9,   4.3910,2, -999.00,9,  -999.0,9,  -999.0,-999.000,9, -999.00,9, -999.00,9, 1099.90,   4.3093
33RO20100308,      A13.5,     102,          1,         10,      11003,2,20100411,       1547,    -3.5002,    -3.0005,       4835,  1399.9,   4.3856,  34.9346,2,  34.9366,2, 214.8000,2,   214.8,2,   20.01,6,   23.33,6,    0.00,6,    1.61,4,   0.251,2,   0.123,2,   0.0000,2,  2183.4,2,  2311.9,2,    851.7,2,    20.00,   7.6902,2,    25.00,-999.000,9,-999.0000,9, -999.00,9,   4.3855,2, -999.00,9,  -999.0,9,  -999.0,   0.529,3, -999.00,9, -999.00,9, 1399.90,   4.2704
33RO20100308,      A13.5,     102,          1,          9,      11706,2,20100411,       1547,    -3.5002,    -3.0005,       4835,  1699.6,   3.9540,  34.9690,2,  34.9696,2, 237.8000,2,   237.6,2,   18.98,6,   20.86,6,    0.00,6,    1.47,4,-999.000,9,-999.000,9,-999.0000,9,  2171.8,2,  2314.5,2,    788.9,2,    20.00,   7.7215,2,    25.00,-999.000,9,-999.0000,9, -999.00,9,   3.9540,2, -999.00,9,  -999.0,9,  -999.0,-999.000,9, -999.00,9, -999.00,9, 1699.60,   3.8159
33RO20100308,      A13.5,     102,          1,          8,      11033,2,20100411,       1547,    -3.5002,    -3.0005,       4835,  1999.9,   3.4844,  34.9549,2,  34.9556,2, 241.8000,2,   241.8,2,   24.08,6,   21.06,6,    0.00,6,    1.42,4,-999.000,9,-999.000,9,-999.0000,9,  2174.0,2,  2321.3,2,    779.8,2,    20.00,   7.7277,2,    25.00,-999.000,9,-999.0000,9, -999.00,9,   3.4852,2, -999.00,9,  -999.0,9,  -999.0,-999.000,9, -999.00,9, -999.00,9, 1999.90,   3.3246
33RO20100308,      A13.5,     102,          1,          7,      11705,2,20100411,       1547,    -3.5002,    -3.0005,       4835,  2398.8,   3.0126,  34.9282,2,  34.9287,2, 239.6000,2,   239.7,2,   33.08,6,   21.72,6,    0.00,6,    1.53,4,   0.013,2,   0.009,2,   0.0000,2,  2184.5,2,  2326.5,2,    781.5,2,    20.00,   7.7248,2,    25.00,-999.000,9,-999.0000,9, -999.00,9,   3.0125,2, -999.00,9,  -999.0,9,  -999.0,   0.089,3, -999.00,9, -999.00,9, 2398.80,   2.8223
33RO20100308,      A13.5,     102,          1,          6,      11029,2,20100411,       1547,    -3.5002,    -3.0005,       4835,  2799.7,   2.7411,  34.9125,2,  34.9132,2, 237.1000,2,   238.6,2,   39.23,6,   22.31,6,    0.00,6,    1.56,4,-999.000,9,-999.000,9,-999.0000,9,  2190.5,2,  2333.8,2,    787.2,2,    20.00,   7.7224,2,    25.00,-999.000,9,-999.0000,9, -999.00,9,   2.7408,2, -999.00,9,  -999.0,9,  -999.0,-999.000,9, -999.00,9, -999.00,9, 2799.70,   2.5164
33RO20100308,      A13.5,     102,          1,          5,      11704,2,20100411,       1547,    -3.5002,    -3.0005,       4835,  3200.4,   2.5639,  34.9014,2,  34.9015,2, 238.1000,2,   238.5,2,   43.31,6,   22.48,6,    0.00,6,    1.58,4,-999.000,9,-999.000,9,-999.0000,9,  2194.5,2,  2336.4,2,    790.1,2,    20.00,   7.7209,2,    25.00,-999.000,9,-999.0000,9, -999.00,9,   2.5636,2, -999.00,9,  -999.0,9,  -999.0,-999.000,9, -999.00,9, -999.00,9, 3200.40,   2.3019
33RO20100308,      A13.5,     102,          1,          4,      11030,2,20100411,       1547,    -3.5002,    -3.0005,       4835,  3600.0,   2.4689,  34.8941,2,  34.8943,2, 239.7000,2,   240.5,2,   45.31,6,   22.47,6,    0.00,6,    1.59,4,   0.013,2,   0.009,2,   0.0000,2,  2196.4,2,  2338.9,2,    789.3,2,    20.00,   7.7220,2,    25.00,-999.000,9,-999.0000,9, -999.00,9,   2.4688,2, -999.00,9,  -999.0,9,  -999.0,   0.082,3, -999.00,9, -999.00,9, 3600.00,   2.1664
33RO20100308,      A13.5,     102,          1,          3,      11703,2,20100411,       1547,    -3.5002,    -3.0005,       4835,  4000.6,   2.3570,  34.8837,2,  34.8841,2, 240.2000,2,   241.1,2,   48.68,6,   22.63,6,    0.00,6,    1.60,4,-999.000,9,-999.000,9,-999.0000,9,  2199.7,2,  2345.6,4,    791.0,2,    20.00,   7.7208,2,    25.00,-999.000,9,-999.0000,9, -999.00,9,   2.3571,2, -999.00,9,  -999.0,9,  -999.0,-999.000,9, -999.00,9, -999.00,9, 4000.60,   2.0127
33RO20100308,      A13.5,     102,          1,          2,      11702,2,20100411,       1547,    -3.5002,    -3.0005,       4835,  4399.8,   2.2281,  34.8702,2,  34.8708,2, 242.0000,2,   242.4,2,   52.29,6,   22.87,6,    0.00,6,    1.62,4,-999.000,9,-999.000,9,-999.0000,9,  2204.0,2,  2344.7,2,    799.9,6,    20.00,   7.7190,2,    25.00,-999.000,9,-999.0000,9, -999.00,9,   2.2280,2, -999.00,9,  -999.0,9,  -999.0,-999.000,9, -999.00,9, -999.00,9, 4399.80,   1.8412
33RO20100308,      A13.5,     102,          1,          1,      11701,2,20100411,       1547,    -3.5002,    -3.0005,       4835,  4901.9,   2.2274,  34.8642,2,  34.8648,2, 252.6000,4,   241.2,2,   54.83,6,   23.15,6,    0.00,6,    1.64,4,   0.049,2,   0.027,2,   0.0000,2,  2207.9,6,  2349.0,2,    797.6,2,    20.00,   7.7156,2,    25.00,-999.000,9,-999.0000,9, -999.00,9,   2.2267,2, -999.00,9,  -999.0,9,  -999.0,   0.211,3, -999.00,9, -999.00,9, 4901.90,   1.7795