BOTTLE,20130404CCHSIOCBG
EXPOCODE,SECT_ID,STNNBR,CASTNO,SAMPNO,BTLNBR,BTLNBR_FLAG_W,DATE,TIME,LATITUDE,LONGITUDE,DEPTH,CTDPRS,CTDTMP,CTDSAL,CTDSAL_FLAG_W,SALNTY,SALNTY_FLAG_W,CTDOXY,CTDOXY_FLAG_W,OXYGEN,OXYGEN_FLAG_W,SILCAT,SILCAT_FLAG_W,NITRAT,NITRAT_FLAG_W,NITRIT,NITRIT_FLAG_W,PHSPHT,PHSPHT_FLAG_W,CFC-11,CFC-11_FLAG_W,CFC-12,CFC-12_FLAG_W,SF6,SF6_FLAG_W,TCARBN,TCARBN_FLAG_W,ALKALI,ALKALI_FLAG_W,FCO2,FCO2_FLAG_W,FCO2TMP,PH_TOT,PH_TOT_FLAG_W,PH_TMP,TRITUM,TRITUM_FLAG_W,HELIUM,HELIUM_FLAG_W,DELHE3,DELHE3_FLAG_W,REFTMP,REFTMP_FLAG_W,DELC13,DELC13_FLAG_W,DELC14,DELC14_FLAG_W,C14ERR,CCL4,CCL4_FLAG_W,DOC,DOC_FLAG_W,TDN,TDN_FLAG_W,CTDRAW,THETA
,,,,,,,,,,,METERS,DBAR,ITS-90,PSS-78,,PSS-78,,UMOL/KG,,UMOL/KG,,UMOL/KG,,UMOL/KG,,UMOL/KG,,UMOL/KG,,PMOL/KG,,PMOL/KG,,FMOL/KG,,UMOL/KG,,UMOL/KG,,UATM,,DEG C,,,DEG C,TU,,NMOL/KG,,PERCNT,,DEG C,,/MILLE,,/MILLE,,/MILLE,PMOL/KG,,UMOL/KG,,UMOL/KG,,DBAR,DEG C
33RO20100308,      A13.5,     116,          1,         20,      11715,2,20100414,       2140,      1.334,     -3.001,       5121,     5.3,  30.2195,  34.2677,2,  34.2794,2, 193.5000,2,   194.4,2,    0.42,6,    0.09,6,    0.00,6,    0.00,6,   1.446,6,   0.928,6,   1.0140,6,  1915.5,2,  2248.3,2,    257.1,2,    20.00,   8.1260,2,    25.00,-999.000,9,-999.0000,9, -999.00,9,  30.2200,2, -999.00,9,  -999.0,9,  -999.0,   1.639,3, -999.00,9, -999.00,9,    5.30,  30.2182
33RO20100308,      A13.5,     116,          1,         19,      11007,2,20100414,       2140,      1.334,     -3.001,       5121,    49.5,  20.6814,  35.8345,2,  35.8316,2, 200.6000,2,   196.6,2,    1.78,2,    0.60,2,    0.01,2,    0.29,2,   2.089,2,   1.222,2,   0.8520,2,  2106.2,6,  2358.2,2,    438.4,2,    20.00,   7.9495,2,    25.00,-999.000,9,-999.0000,9, -999.00,9,  20.6816,2, -999.00,9,  -999.0,9,  -999.0,   0.496,3, -999.00,9, -999.00,9,   49.50,  20.6720
33RO20100308,      A13.5,     116,          1,         18,      11710,2,20100414,       2140,      1.334,     -3.001,       5121,    99.8,  15.7641,  35.6524,2,  35.6521,2, 132.3000,2,   130.7,2,    5.51,2,   16.28,2,    0.04,2,    1.11,2,   2.229,2,   1.263,2,   0.7530,2,  2167.9,2,  2340.9,2,    670.7,2,    20.00,   7.7876,2,    25.00,-999.000,9,-999.0000,9, -999.00,9,  15.7487,2, -999.00,9,  -999.0,9,  -999.0,   0.453,3, -999.00,9, -999.00,9,   99.80,  15.7484
33RO20100308,      A13.5,     116,          1,         17,      11025,2,20100414,       2140,      1.334,     -3.001,       5121,   150.6,  15.1761,  35.5768,2,  35.5779,2,  93.8000,2,    97.6,2,    6.87,2,   20.77,2,    0.01,2,    1.36,2,   2.077,2,   1.155,2,   0.5620,2,  2191.3,2,  2330.0,2,    803.5,2,    20.00,   7.7154,2,    25.00,-999.000,9,-999.0000,9, -999.00,9,  15.1808,2, -999.00,9,  -999.0,9,  -999.0,   0.257,3, -999.00,9, -999.00,9,  150.60,  15.1530
33RO20100308,      A13.5,     116,          1,         16,      11709,2,20100414,       2140,      1.334,     -3.001,       5121,   198.4,  14.1756,  35.4384,2,  35.4351,2,  81.1000,2,    83.0,6,    8.15,2,   23.80,2,    0.01,2,    1.53,2,   1.919,2,   1.055,2,   0.5430,2,  2203.8,2,  2325.7,2,    912.2,2,    20.00,   7.6634,2,    25.00,-999.000,9,-999.0000,9, -999.00,9,  14.1840,2, -999.00,9,  -999.0,9,  -999.0,   0.230,3, -999.00,9, -999.00,9,  198.40,  14.1466
33RO20100308,      A13.5,     116,          1,         15,      11006,2,20100414,       2140,      1.334,     -3.001,       5121,   299.6,  10.3750,  34.9770,2,  34.9750,2,  85.8000,2,    85.1,2,   12.68,2,   30.11,2,    0.00,2,    1.89,2,   1.444,2,   0.759,2,   0.2730,2,  2219.0,2,  2304.0,2,   1149.6,2,    20.00,   7.5727,2,    25.00,-999.000,9,-999.0000,9, -999.00,9,  10.3764,2, -999.00,9,  -999.0,9,  -999.0,   0.382,3, -999.00,9, -999.00,9,  299.60,  10.3392
33RO20100308,      A13.5,     116,          1,         14,      11708,2,20100414,       2140,      1.334,     -3.001,       5121,   450.7,   8.2543,  34.7540,2,  34.7487,2,  82.7000,2,    84.1,2,   17.94,6,   34.58,6,    0.00,6,    2.19,6,   0.749,2,   0.384,2,   0.0720,2,  2231.5,2,  2296.4,2,   1339.6,2,    20.00,   7.5125,2,    25.00,-999.000,9,-999.0000,9, -999.00,9,   8.2647,2, -999.00,9,  -999.0,9,  -999.0,   0.361,3, -999.00,9, -999.00,9,  450.70,   8.2072
33RO20100308,      A13.5,     116,          1,         13,      11031,2,20100414,       2140,      1.334,     -3.001,       5121,   600.1,   5.7973,  34.5297,2,  34.5293,2, 138.2000,2,   138.3,2,   24.54,6,   33.96,6,    0.00,6,    2.26,6,   0.590,2,   0.292,2,   0.0000,2,  2217.1,2,  2292.9,2,   1192.2,2,    20.00,   7.5568,2,    25.00,-999.000,9,-999.0000,9, -999.00,9,   5.7974,2, -999.00,9,  -999.0,9,  -999.0,   0.671,3, -999.00,9, -999.00,9,  600.10,   5.7453
33RO20100308,      A13.5,     116,          1,         12,      11027,2,20100414,       2140,      1.334,     -3.001,       5121,   748.9,   5.0304,  34.5146,2,  34.5146,2, 146.2000,2,   146.5,2,   28.63,2,   34.36,2,    0.00,2,    2.30,2,   0.324,2,   0.162,2,   0.0570,2,  2218.9,2,  2297.9,2,   1189.9,2,    20.00,   7.5574,2,    25.00,-999.000,9,-999.0000,9, -999.00,9,   5.0302,2, -999.00,9,  -999.0,9,  -999.0,   0.500,3, -999.00,9, -999.00,9,  748.90,   4.9692
33RO20100308,      A13.5,     116,          1,         11,      11707,2,20100414,       2140,      1.334,     -3.001,       5121,   900.4,   4.6669,  34.5621,2,  34.5616,2, 147.6000,2,   147.6,2,   30.81,2,   34.20,2,    0.00,2,    2.30,2,   0.096,2,   0.050,2,   0.0000,2,  2222.4,2,  2302.6,2,   1183.3,2,    20.00,   7.5592,2,    25.00,-999.000,9,-999.0000,9, -999.00,9,   4.6667,2, -999.00,9,  -999.0,9,  -999.0,   0.227,3, -999.00,9, -999.00,9,  900.40,   4.5947
33RO20100308,      A13.5,     116,          1,         10,      11003,2,20100414,       2140,      1.334,     -3.001,       5121,  1199.1,   4.5549,  34.7761,2,  34.7758,2, 168.4000,2,   170.6,6,   26.74,6,   29.60,6,    0.00,6,    1.99,2,   0.037,2,   0.021,2,   0.0000,2,  2210.0,2,  2310.8,2,   1032.8,2,    20.00,   7.6136,2,    25.00,-999.000,9,-999.0000,9, -999.00,9,   4.5547,2, -999.00,9,  -999.0,9,  -999.0,   0.119,3, -999.00,9, -999.00,9, 1199.10,   4.4568
33RO20100308,      A13.5,     116,          1,          9,      11706,2,20100414,       2140,      1.334,     -3.001,       5121,  1600.2,   4.2091,  34.9702,2,  34.9701,2, 230.6000,2,   231.6,2,   17.67,6,   21.25,6,    0.00,6,    1.40,6,   0.305,4,   0.151,4,   0.0000,2,  2174.4,2,  2312.4,2,    797.3,2,    20.00,   7.7158,2,    25.00,-999.000,9,-999.0000,9, -999.00,9,   4.2091,2, -999.00,9,  -999.0,9,  -999.0,   0.704,4, -999.00,9, -999.00,9, 1600.20,   4.0772
33RO20100308,      A13.5,     116,          1,          8,      11033,2,20100414,       2140,      1.334,     -3.001,       5121,  1999.5,   3.5370,  34.9637,2,  34.9654,2, 244.9000,2,   246.0,2,   21.67,6,   20.29,6,    0.00,6,    1.34,6,   0.093,4,   0.049,4,   0.0000,2,  2171.3,2,  2318.9,2,    765.7,2,    20.00,   7.7351,2,    25.00,-999.000,9,-999.0000,9, -999.00,9,   3.5362,2, -999.00,9,  -999.0,9,  -999.0,   0.353,4, -999.00,9, -999.00,9, 1999.50,   3.3764
33RO20100308,      A13.5,     116,          1,          7,      11705,2,20100414,       2140,      1.334,     -3.001,       5121,  2399.6,   3.1246,  34.9413,2,  34.9415,2, 241.4000,2,   242.1,2,   29.36,6,   21.13,6,    0.00,6,    1.41,6,   0.040,2,   0.026,2,   0.0000,2,  2180.4,2,  2321.8,2,    777.1,2,    20.00,   7.7295,2,    25.00,-999.000,9,-999.0000,9, -999.00,9,   3.1260,2, -999.00,9,  -999.0,9,  -999.0,   0.119,3, -999.00,9, -999.00,9, 2399.60,   2.9322
33RO20100308,      A13.5,     116,          1,          6,      11029,2,20100414,       2140,      1.334,     -3.001,       5121,  2801.0,   2.7126,  34.9160,2,  34.9162,2, 238.9000,2,   240.4,2,   37.55,6,   21.84,6,    0.00,6,    1.45,6,-999.000,9,-999.000,9,-999.0000,9,  2188.8,2,  2333.0,2,    780.1,2,    20.00,   7.7258,2,    25.00,-999.000,9,-999.0000,9, -999.00,9,   2.7128,2, -999.00,9,  -999.0,9,  -999.0,-999.000,9, -999.00,9, -999.00,9, 2801.00,   2.4884
33RO20100308,      A13.5,     116,          1,          5,      11704,2,20100414,       2140,      1.334,     -3.001,       5121,  3199.9,   2.5460,  34.9039,2,  34.9028,2, 241.1000,2,   241.9,2,   41.04,6,   22.01,6,    0.00,6,    1.46,6,-999.000,9,-999.000,9,-999.0000,9,  2192.8,2,  2333.3,2,    781.1,2,    20.00,   7.7265,2,    25.00,-999.000,9,-999.0000,9, -999.00,9,   2.5478,2, -999.00,9,  -999.0,9,  -999.0,-999.000,9, -999.00,9, -999.00,9, 3199.90,   2.2845
33RO20100308,      A13.5,     116,          1,          4,      11030,2,20100414,       2140,      1.334,     -3.001,       5121,  3599.3,   2.4261,  34.8938,2,  34.8937,2, 241.2000,2,   242.4,2,   44.11,6,   22.20,6,    0.00,6,    1.48,6,-999.000,9,-999.000,9,-999.0000,9,  2195.6,2,  2340.9,2,    785.0,2,    20.00,   7.7243,2,    25.00,-999.000,9,-999.0000,9, -999.00,9,   2.4257,2, -999.00,9,  -999.0,9,  -999.0,-999.000,9, -999.00,9, -999.00,9, 3599.30,   2.1248
33RO20100308,      A13.5,     116,          1,          3,      11703,2,20100414,       2140,      1.334,     -3.001,       5121,  3998.5,   2.3373,  34.8847,2,  34.8840,2, 241.9000,2,   242.7,2,   47.25,6,   22.42,6,    0.00,6,    1.50,6,   0.023,2,   0.014,2,   0.0000,2,  2199.5,2,  2340.6,6,    790.2,2,    20.00,   7.7227,2,    25.00,-999.000,9,-999.0000,9, -999.00,9,   2.3371,2, -999.00,9,  -999.0,9,  -999.0,   0.128,3, -999.00,9, -999.00,9, 3998.50,   1.9938
33RO20100308,      A13.5,     116,          1,          2,      11702,2,20100414,       2140,      1.334,     -3.001,       5121,  4400.3,   2.2553,  34.8738,2,  34.8738,2, 240.7000,2,   242.1,2,   51.02,6,   22.77,6,    0.00,6,    1.53,6,-999.000,9,-999.000,9,-999.0000,9,  2203.6,2,  2346.6,2,    796.4,2,    20.00,   7.7197,2,    25.00,-999.000,9,-999.0000,9, -999.00,9,   2.2552,2, -999.00,9,  -999.0,9,  -999.0,-999.000,9, -999.00,9, -999.00,9, 4400.30,   1.8675
33RO20100308,      A13.5,     116,          1,          1,      11701,2,20100414,       2140,      1.334,     -3.001,       5121,  4798.1,   2.2134,  34.8653,2,  34.8646,2, 238.9000,2,   237.7,2,   55.56,6,   23.39,6,    0.00,6,    1.58,6,   0.026,2,   0.016,2,   0.0000,2,  2212.7,6,  2354.4,2,    807.1,2,    20.00,   7.7157,2,    25.00,-999.000,9,-999.0000,9, -999.00,9,   2.2131,2, -999.00,9,  -999.0,9,  -999.0,   0.135,3, -999.00,9, -999.00,9, 4798.10,   1.7788