BOTTLE,20130404CCHSIOCBG
EXPOCODE,SECT_ID,STNNBR,CASTNO,SAMPNO,BTLNBR,BTLNBR_FLAG_W,DATE,TIME,LATITUDE,LONGITUDE,DEPTH,CTDPRS,CTDTMP,CTDSAL,CTDSAL_FLAG_W,SALNTY,SALNTY_FLAG_W,CTDOXY,CTDOXY_FLAG_W,OXYGEN,OXYGEN_FLAG_W,SILCAT,SILCAT_FLAG_W,NITRAT,NITRAT_FLAG_W,NITRIT,NITRIT_FLAG_W,PHSPHT,PHSPHT_FLAG_W,CFC-11,CFC-11_FLAG_W,CFC-12,CFC-12_FLAG_W,SF6,SF6_FLAG_W,TCARBN,TCARBN_FLAG_W,ALKALI,ALKALI_FLAG_W,FCO2,FCO2_FLAG_W,FCO2TMP,PH_TOT,PH_TOT_FLAG_W,PH_TMP,TRITUM,TRITUM_FLAG_W,HELIUM,HELIUM_FLAG_W,DELHE3,DELHE3_FLAG_W,REFTMP,REFTMP_FLAG_W,DELC13,DELC13_FLAG_W,DELC14,DELC14_FLAG_W,C14ERR,CCL4,CCL4_FLAG_W,DOC,DOC_FLAG_W,TDN,TDN_FLAG_W,CTDRAW,THETA
,,,,,,,,,,,METERS,DBAR,ITS-90,PSS-78,,PSS-78,,UMOL/KG,,UMOL/KG,,UMOL/KG,,UMOL/KG,,UMOL/KG,,UMOL/KG,,PMOL/KG,,PMOL/KG,,FMOL/KG,,UMOL/KG,,UMOL/KG,,UATM,,DEG C,,,DEG C,TU,,NMOL/KG,,PERCNT,,DEG C,,/MILLE,,/MILLE,,/MILLE,PMOL/KG,,UMOL/KG,,UMOL/KG,,DBAR,DEG C
33RO20100308,      A13.5,     119,          1,         24,      11714,2,20100415,       1355,     2.3335,    -2.9997,       5064,     5.3,  30.7341,  34.7417,2,  34.7463,2, 191.8000,2,   191.5,2,    0.72,6,    0.08,6,    0.00,6,    0.00,6,   1.434,2,   0.912,2,   0.9090,2,  1927.5,6,  2275.3,2,    247.1,2,    20.00,   8.1388,2,    25.00,-999.000,9,-999.0000,9, -999.00,9,-999.0000,9, -999.00,9,  -999.0,9,  -999.0,   1.820,3,   72.77,2,    5.30,2,    5.30,  30.7328
33RO20100308,      A13.5,     119,          1,         23,      11716,2,20100415,       1355,     2.3335,    -2.9997,       5064,    50.4,  23.4519,  35.8079,2,  35.8311,2, 203.4000,2,   200.5,2,    1.09,2,    0.51,2,    0.01,2,    0.19,2,   1.979,2,   1.179,2,   0.8910,2,  2079.5,2,  2353.5,6,    388.8,2,    20.00,   7.9896,2,    25.00,-999.000,9,-999.0000,9, -999.00,9,-999.0000,9, -999.00,9,  -999.0,9,  -999.0,   0.721,3,   63.09,2,    5.07,2,   50.40,  23.4414
33RO20100308,      A13.5,     119,          1,         22,      11022,2,20100415,       1355,     2.3335,    -2.9997,       5064,    99.9,  16.1691,  35.7073,2,  35.6993,2, 102.8000,2,   105.6,2,    5.87,2,   18.77,2,    0.02,2,    1.26,2,   2.161,2,   1.214,2,   0.6560,2,  2181.8,2,  2353.5,2,    731.2,2,    20.00,   7.7498,2,    25.00,-999.000,9,-999.0000,9, -999.00,9,-999.0000,9, -999.00,9,  -999.0,9,  -999.0,   0.312,3,   47.06,2,   21.56,2,   99.90,  16.1531
33RO20100308,      A13.5,     119,          1,         21,      11010,2,20100415,       1355,     2.3335,    -2.9997,       5064,   151.0,  15.2638,  35.5910,2,  35.5905,2, 105.8000,2,   104.5,2,    6.62,2,   20.00,2,    0.01,2,    1.32,2,-999.000,9,-999.000,9,-999.0000,9,  2184.3,2,  2333.7,2,    767.4,2,    20.00,   7.7304,2,    25.00,-999.000,9,-999.0000,9, -999.00,9,-999.0000,9, -999.00,9,  -999.0,9,  -999.0,-999.000,9,   45.22,2,   21.42,2,  151.00,  15.2406
33RO20100308,      A13.5,     119,          1,         20,      11715,2,20100415,       1355,     2.3335,    -2.9997,       5064,   225.0,  13.1711,  35.3104,2,  35.3119,2,  72.7000,2,    69.8,2,    9.67,2,   27.04,2,    0.01,2,    1.71,2,   1.710,2,   0.924,2,   0.3810,2,  2214.5,2,  2318.4,2,   1026.8,2,    20.00,   7.6139,2,    25.00,-999.000,9,-999.0000,9, -999.00,9,  13.1589,2, -999.00,9,  -999.0,9,  -999.0,   0.240,3,   42.68,2,   28.98,2,  225.00,  13.1398
33RO20100308,      A13.5,     119,          1,         19,      11007,2,20100415,       1355,     2.3335,    -2.9997,       5064,   299.4,  10.6124,  35.0101,2,  35.0115,2,  88.2000,2,    83.1,2,   12.56,2,   30.06,2,    0.01,2,    1.89,2,   1.454,2,   0.766,2,   0.2510,2,  2215.9,2,  2305.5,2,   1123.5,2,    20.00,   7.5766,2,    25.00,-999.000,9,-999.0000,9, -999.00,9,  10.6403,2, -999.00,9,  -999.0,9,  -999.0,   0.390,3,   42.09,2,   31.37,2,  299.40,  10.5761
33RO20100308,      A13.5,     119,          1,         18,      11710,2,20100415,       1355,     2.3335,    -2.9997,       5064,   449.4,   7.9087,  34.7198,2,  34.7175,2,  97.5000,2,    96.5,2,   18.27,2,   34.34,2,    0.00,2,    2.20,2,   0.809,2,   0.409,2,   0.1100,2,  2221.9,2,  2297.4,2,   1269.4,2,    20.00,   7.5296,2,    25.00,-999.000,9,-999.0000,9, -999.00,9,   7.9109,2, -999.00,9,  -999.0,9,  -999.0,   0.491,3,   39.90,2,   36.10,2,  449.40,   7.8630
33RO20100308,      A13.5,     119,          1,         17,      11025,2,20100415,       1355,     2.3335,    -2.9997,       5064,   599.5,   6.2259,  34.5718,2,  34.5704,2, 121.5000,2,   121.0,2,   23.19,2,   35.21,2,    0.00,2,    2.31,2,   0.473,2,   0.233,2,   0.0690,2,  2220.2,2,  2293.4,2,   1253.8,2,    20.00,   7.5375,2,    25.00,-999.000,9,-999.0000,9, -999.00,9,   6.2257,2, -999.00,9,  -999.0,9,  -999.0,   0.524,3,   39.29,2,   36.84,2,  599.50,   6.1720
33RO20100308,      A13.5,     119,          1,         16,      11709,2,20100415,       1355,     2.3335,    -2.9997,       5064,   750.3,   5.1924,  34.5489,2,  34.5525,2, 128.7000,2,   127.3,2,   28.82,2,   35.94,2,    0.00,2,    2.41,2,   0.119,2,   0.057,2,   0.0000,2,  2226.9,2,  2299.7,2,   1264.3,2,    20.00,   7.5329,2,    25.00,-999.000,9,-999.0000,9, -999.00,9,   5.1960,2, -999.00,9,  -999.0,9,  -999.0,   0.236,3,   38.72,2,   38.04,2,  750.30,   5.1301
33RO20100308,      A13.5,     119,          1,         15,      11006,2,20100415,       1355,     2.3335,    -2.9997,       5064,   899.3,   4.6992,  34.5841,2,  34.5839,2, 147.6000,2,   147.8,2,   30.26,2,   34.13,2,    0.00,2,    2.29,2,   0.097,2,   0.049,2,   0.0000,2,  2220.6,2,  2301.4,2,   1173.2,2,    20.00,   7.5637,2,    25.00,-999.000,9,-999.0000,9, -999.00,9,   4.6995,2, -999.00,9,  -999.0,9,  -999.0,   0.241,3,   39.02,2,   35.66,2,  899.30,   4.6269
33RO20100308,      A13.5,     119,          1,         14,      11708,2,20100415,       1355,     2.3335,    -2.9997,       5064,  1050.4,   4.5769,  34.6637,2,  34.6639,2, 154.1000,2,   154.3,6,   29.57,2,   32.66,2,    0.00,2,    2.20,2,   0.037,2,   0.020,2,   0.0000,2,  2218.6,2,  2305.6,2,   1126.8,2,    20.00,   7.5813,2,    25.00,-999.000,9,-999.0000,9, -999.00,9,   4.5769,2, -999.00,9,  -999.0,9,  -999.0,   0.129,3,   38.61,2,   34.31,2, 1050.40,   4.4921
33RO20100308,      A13.5,     119,          1,         13,      11031,2,20100415,       1355,     2.3335,    -2.9997,       5064,  1200.1,   4.4854,  34.7992,2,  34.7982,2, 173.2000,2,   173.6,2,   26.58,2,   29.04,2,    0.00,2,    1.96,2,   0.028,2,   0.014,2,   0.0000,2,  2207.7,2,  2309.3,2,   1020.1,2,    20.00,   7.6220,2,    25.00,-999.000,9,-999.0000,9, -999.00,9,   4.4853,2, -999.00,9,  -999.0,9,  -999.0,   0.098,3,   39.16,2,   31.13,2, 1200.10,   4.3878
33RO20100308,      A13.5,     119,          1,         12,      11027,2,20100415,       1355,     2.3335,    -2.9997,       5064,  1350.1,   4.4428,  34.9138,2,  34.9138,2, 203.7000,4,   142.7,4,   21.21,2,   24.69,2,    0.00,2,    1.65,2,   0.111,2,   0.056,2,   0.0000,2,  2188.9,2,  2313.6,2,    879.3,2,    20.00,   7.6767,2,    25.00,-999.000,9,-999.0000,9, -999.00,9,   4.4428,2, -999.00,9,  -999.0,9,  -999.0,   0.328,3,   39.37,2,   26.97,2, 1350.10,   4.3317
33RO20100308,      A13.5,     119,          1,         11,      11707,2,20100415,       1355,     2.3335,    -2.9997,       5064,  1500.2,   4.1818,  34.9453,2,  34.9444,2, 217.9000,2,   217.4,2,   20.52,2,   22.90,2,    0.00,2,    1.53,2,   0.059,2,   0.032,2,   0.0000,2,  2181.7,2,  2311.8,2,    827.4,2,    20.00,   7.6978,2,    25.00,-999.000,9,-999.0000,9, -999.00,9,   4.1813,2, -999.00,9,  -999.0,9,  -999.0,   0.243,3,   39.23,2,   24.80,2, 1500.20,   4.0596
33RO20100308,      A13.5,     119,          1,         10,      11003,2,20100415,       1355,     2.3335,    -2.9997,       5064,  1648.9,   3.9956,  34.9661,2,  34.9655,2, 232.0000,2,   232.1,6,   19.46,6,   21.34,6,    0.00,6,    1.42,6,   0.073,2,   0.038,2,   0.0000,2,  2174.5,2,  2314.4,2,    792.0,2,    20.00,   7.7177,2,    25.00,-999.000,9,-999.0000,9, -999.00,9,   3.9948,2, -999.00,9,  -999.0,9,  -999.0,   0.322,3,   39.15,2,   23.83,2, 1648.90,   3.8617
33RO20100308,      A13.5,     119,          1,          9,      11706,2,20100415,       1355,     2.3335,    -2.9997,       5064,  1800.0,   3.8622,  34.9731,2,  34.9722,2, 241.4000,2,   241.3,2,   18.59,6,   20.32,6,    0.00,6,    1.35,6,   0.178,3,   0.089,3,   0.0000,2,  2169.8,2,  2317.7,2,    769.3,2,    20.00,   7.7285,2,    25.00,-999.000,9,-999.0000,9, -999.00,9,   3.8615,2, -999.00,9,  -999.0,9,  -999.0,   0.547,3,   39.67,2,   22.07,2, 1800.00,   3.7158
33RO20100308,      A13.5,     119,          1,          8,      11033,2,20100415,       1355,     2.3335,    -2.9997,       5064,  2198.7,   3.3159,  34.9517,2,  34.9513,2, 241.4000,2,   241.2,2,   26.05,6,   20.83,6,    0.00,6,    1.39,6,   0.019,2,   0.010,2,   0.0000,2,  2175.1,2,  2320.9,2,    768.5,2,    20.00,   7.7304,2,    25.00,-999.000,9,-999.0000,9, -999.00,9,   3.3158,2, -999.00,9,  -999.0,9,  -999.0,   0.122,3,   39.64,2,   21.93,2, 2198.70,   3.1397
33RO20100308,      A13.5,     119,          1,          7,      11705,2,20100415,       1355,     2.3335,    -2.9997,       5064,  2600.4,   2.8880,  34.9276,2,  34.9274,2, 240.3000,2,   240.0,2,   34.06,6,   21.47,6,    0.00,6,    1.44,6,-999.000,9,-999.000,9,-999.0000,9,  2183.7,2,  2329.2,2,    778.2,2,    20.00,   7.7266,2,    25.00,-999.000,9,-999.0000,9, -999.00,9,   2.8901,2, -999.00,9,  -999.0,9,  -999.0,-999.000,9,   39.28,2,   23.39,2, 2600.40,   2.6803
33RO20100308,      A13.5,     119,          1,          6,      11029,2,20100415,       1355,     2.3335,    -2.9997,       5064,  2999.9,   2.6362,  34.9110,2,  34.9108,2, 239.4000,2,   239.4,2,   39.67,6,   22.01,6,    0.00,6,    1.48,6,-999.000,9,-999.000,9,-999.0000,9,  2191.0,2,  2335.7,2,    790.3,2,    20.00,   7.7249,2,    25.00,-999.000,9,-999.0000,9, -999.00,9,   2.6361,2, -999.00,9,  -999.0,9,  -999.0,-999.000,9,   39.09,2,   23.61,2, 2999.90,   2.3934
33RO20100308,      A13.5,     119,          1,          5,      11704,2,20100415,       1355,     2.3335,    -2.9997,       5064,  3400.5,   2.4940,  34.9009,2,  34.9001,2, 238.4000,2,   237.9,2,   43.68,6,   22.37,6,    0.00,6,    1.53,3,-999.000,9,-999.000,9,-999.0000,9,  2196.6,2,  2340.0,2,    794.0,2,    20.00,   7.7234,2,    25.00,-999.000,9,-999.0000,9, -999.00,9,   2.4938,2, -999.00,9,  -999.0,9,  -999.0,-999.000,9,   39.56,2,   23.46,2, 3400.50,   2.2125
33RO20100308,      A13.5,     119,          1,          4,      11030,2,20100415,       1355,     2.3335,    -2.9997,       5064,  3800.6,   2.4026,  34.8919,2,  34.8910,2, 239.6000,2,   240.0,2,   45.34,6,   22.35,6,    0.00,6,    1.50,6,-999.000,9,-999.000,9,-999.0000,9,  2195.8,2,  2343.9,2,    788.5,2,    20.00,   7.7228,2,    25.00,-999.000,9,-999.0000,9, -999.00,9,   2.4025,2, -999.00,9,  -999.0,9,  -999.0,-999.000,9,   39.79,2,   23.75,2, 3800.60,   2.0796
33RO20100308,      A13.5,     119,          1,          3,      11703,2,20100415,       1355,     2.3335,    -2.9997,       5064,  4199.8,   2.3103,  34.8812,2,  34.8807,2, 239.6000,2,   239.5,2,   49.50,6,   22.75,6,    0.00,6,    1.53,6,-999.000,9,-999.000,9,-999.0000,9,  2202.6,2,  2347.2,2,    795.7,2,    20.00,   7.7212,2,    25.00,-999.000,9,-999.0000,9, -999.00,9,   2.3100,2, -999.00,9,  -999.0,9,  -999.0,-999.000,9,   38.93,2,   23.65,2, 4199.80,   1.9444
33RO20100308,      A13.5,     119,          1,          2,      11702,2,20100415,       1355,     2.3335,    -2.9997,       5064,  4601.3,   2.2337,  34.8700,3,  34.8775,4, 235.9000,2,   232.2,3,   54.48,6,   23.30,6,    0.00,6,    1.58,6,-999.000,9,-999.000,9,-999.0000,9,  2211.3,2,  2351.3,2,    805.6,2,    20.00,   7.7177,2,    25.00,-999.000,9,-999.0000,9, -999.00,9,   2.2337,2, -999.00,9,  -999.0,9,  -999.0,-999.000,9,   40.16,2,   24.48,2, 4601.30,   1.8225
33RO20100308,      A13.5,     119,          1,          1,      11701,2,20100415,       1355,     2.3335,    -2.9997,       5064,  5120.8,   2.1858,  34.8574,2,  34.8567,2, 240.7000,2,   237.8,2,   56.88,6,   23.47,6,    0.01,6,    1.59,6,-999.000,9,-999.000,9,-999.0000,9,  2213.0,6,  2356.3,2,    811.4,2,    20.00,   7.7159,2,    25.00,-999.000,9,-999.0000,9, -999.00,9,   2.1845,2, -999.00,9,  -999.0,9,  -999.0,-999.000,9,   40.70,2,   25.41,2, 5120.80,   1.7118