BOTTLE,20130404CCHSIOCBG
EXPOCODE,SECT_ID,STNNBR,CASTNO,SAMPNO,BTLNBR,BTLNBR_FLAG_W,DATE,TIME,LATITUDE,LONGITUDE,DEPTH,CTDPRS,CTDTMP,CTDSAL,CTDSAL_FLAG_W,SALNTY,SALNTY_FLAG_W,CTDOXY,CTDOXY_FLAG_W,OXYGEN,OXYGEN_FLAG_W,SILCAT,SILCAT_FLAG_W,NITRAT,NITRAT_FLAG_W,NITRIT,NITRIT_FLAG_W,PHSPHT,PHSPHT_FLAG_W,CFC-11,CFC-11_FLAG_W,CFC-12,CFC-12_FLAG_W,SF6,SF6_FLAG_W,TCARBN,TCARBN_FLAG_W,ALKALI,ALKALI_FLAG_W,FCO2,FCO2_FLAG_W,FCO2TMP,PH_TOT,PH_TOT_FLAG_W,PH_TMP,TRITUM,TRITUM_FLAG_W,HELIUM,HELIUM_FLAG_W,DELHE3,DELHE3_FLAG_W,REFTMP,REFTMP_FLAG_W,DELC13,DELC13_FLAG_W,DELC14,DELC14_FLAG_W,C14ERR,CCL4,CCL4_FLAG_W,DOC,DOC_FLAG_W,TDN,TDN_FLAG_W,CTDRAW,THETA
,,,,,,,,,,,METERS,DBAR,ITS-90,PSS-78,,PSS-78,,UMOL/KG,,UMOL/KG,,UMOL/KG,,UMOL/KG,,UMOL/KG,,UMOL/KG,,PMOL/KG,,PMOL/KG,,FMOL/KG,,UMOL/KG,,UMOL/KG,,UATM,,DEG C,,,DEG C,TU,,NMOL/KG,,PERCNT,,DEG C,,/MILLE,,/MILLE,,/MILLE,PMOL/KG,,UMOL/KG,,UMOL/KG,,DBAR,DEG C
33RO20100308,      A13.5,      51,          1,         24,      11714,2,20100327,       0236,   -28.9998,     1.7832,       3632,     5.6,  22.0411,  35.9022,2,  35.9033,2, 219.1000,2,   220.4,2,    1.63,2,    0.01,2,    0.00,2,    0.14,2,   1.972,2,   1.229,2,   1.1880,2,  2072.3,6,  2358.6,6,    360.8,2,    20.00,   8.0190,2,    25.00,-999.000,9,-999.0000,9, -999.00,9,  22.0393,2, -999.00,9,  -999.0,9,  -999.0,   2.539,3,   61.85,2,    3.46,2,    5.60,  22.0400
33RO20100308,      A13.5,      51,          1,         23,      11713,2,20100327,       0236,   -28.9998,     1.7832,       3632,    49.1,  19.3696,  35.6914,2,  35.6936,2, 245.3000,2,   244.9,2,    1.78,2,    0.02,2,    0.00,2,    0.16,2,   2.338,2,   1.438,2,   1.3320,2,  2068.7,2,  2346.9,2,    373.9,2,    20.00,   8.0036,2,    25.00,-999.000,9,-999.0000,9, -999.00,9,  19.3796,3, -999.00,9,  -999.0,9,  -999.0,   2.167,3,   61.94,2,    4.48,2,   49.10,  19.3607
33RO20100308,      A13.5,      51,          1,         22,      11712,2,20100327,       0236,   -28.9998,     1.7832,       3632,   100.3,  16.3331,  35.5538,2,  35.5556,2, 235.3000,2,   233.9,2,    2.11,2,    1.71,2,    0.13,2,    0.31,2,   2.540,6,   1.546,6,   1.3920,6,  2087.8,2,  2332.1,2,   -999.0,9,  -999.00,   7.9549,2,    25.00,-999.000,9,-999.0000,9, -999.00,9,  16.3326,2, -999.00,9,  -999.0,9,  -999.0,   1.719,3,   54.20,2,    5.26,2,  100.30,  16.3170
33RO20100308,      A13.5,      51,          1,         21,      11010,2,20100327,       0236,   -28.9998,     1.7832,       3632,   149.3,  15.2718,  35.4577,2,  35.4547,2, 224.7000,2,   224.7,2,    2.58,2,    4.15,2,    0.02,2,    0.43,2,   2.615,2,   1.587,2,   1.3980,2,  2096.3,2,  2329.2,2,    460.9,2,    20.00,   7.9260,2,    25.00,-999.000,9,-999.0000,9, -999.00,9,  15.2707,2, -999.00,9,  -999.0,9,  -999.0,   1.494,3,   50.87,2,    8.48,2,  149.30,  15.2489
33RO20100308,      A13.5,      51,          1,         20,      11715,2,20100327,       0236,   -28.9998,     1.7832,       3632,   198.6,  14.3397,  35.3193,2,  35.3181,2, 222.2000,2,   222.0,2,    2.99,2,    6.05,2,    0.01,2,    0.55,2,   2.726,2,   1.637,2,   1.3150,2,  2104.5,2,  2321.8,2,    495.2,2,    20.00,   7.8975,2,    25.00,-999.000,9,-999.0000,9, -999.00,9,  14.3397,2, -999.00,9,  -999.0,9,  -999.0,   1.373,3,   47.90,2,    9.02,2,  198.60,  14.3104
33RO20100308,      A13.5,      51,          1,         19,      11007,2,20100327,       0236,   -28.9998,     1.7832,       3632,   299.6,  12.7706,  35.1509,2,  35.1522,2, 216.1000,2,   215.9,2,    4.36,2,   10.29,2,    0.01,2,    0.80,2,   2.919,2,   1.704,2,   1.2060,2,  2120.2,2,  2313.6,2,   -999.0,9,  -999.00,   7.8474,2,    25.00,-999.000,9,-999.0000,9, -999.00,9,  12.7726,2, -999.00,9,  -999.0,9,  -999.0,   1.314,3,   45.16,2,   12.70,2,  299.60,  12.7297
33RO20100308,      A13.5,      51,          1,         18,      11710,2,20100327,       0236,   -28.9998,     1.7832,       3632,   399.7,  10.9748,  34.9168,2,  34.9138,2, 214.6000,2,   214.9,2,    5.76,2,   14.53,2,    0.00,2,    1.06,2,   3.107,2,   1.753,2,   1.1060,2,  2133.2,2,  2301.9,2,   -999.0,9,  -999.00,   7.7962,2,    25.00,-999.000,9,-999.0000,9, -999.00,9,  10.9738,2, -999.00,9,  -999.0,9,  -999.0,   1.553,3,   43.86,2,   16.70,2,  399.70,  10.9252
33RO20100308,      A13.5,      51,          1,         17,      11025,2,20100327,       0236,   -28.9998,     1.7832,       3632,   499.4,   8.7744,  34.6474,2,  34.6456,2, 205.5000,2,   205.3,2,    9.94,2,   20.64,2,    0.00,2,    1.46,2,   3.092,2,   1.694,2,   0.9450,2,  2154.3,2,  2292.7,2,    772.8,2,    20.00,   7.7234,2,    25.00,-999.000,9,-999.0000,9, -999.00,9,   8.7814,2, -999.00,9,  -999.0,9,  -999.0,   2.065,3,   42.45,2,   22.58,2,  499.40,   8.7203
33RO20100308,      A13.5,      51,          1,         16,      11709,2,20100327,       0236,   -28.9998,     1.7832,       3632,   649.9,   6.0615,  34.3802,2,  34.3798,2, 216.3000,2,   215.6,2,   16.16,2,   26.59,2,    0.00,2,    1.84,2,   3.156,2,   1.663,2,   0.8080,2,  2170.1,2,  2286.2,2,    893.8,2,    20.00,   7.6646,2,    25.00,-999.000,9,-999.0000,9, -999.00,9,   6.0569,2, -999.00,9,  -999.0,9,  -999.0,   3.061,3,   39.83,2,   28.49,2,  649.90,   6.0039
33RO20100308,      A13.5,      51,          1,         15,      11006,2,20100327,       0236,   -28.9998,     1.7832,       3632,   799.4,   4.4664,  34.3132,2,  34.3122,2, 226.4000,2,   216.6,2,   26.66,2,   29.89,2,    0.00,2,    2.07,2,   2.621,2,   1.338,2,   0.6070,2,  2188.1,2,  2293.3,2,   -999.0,9,  -999.00,   7.6319,2,    25.00,-999.000,9,-999.0000,9, -999.00,9,   4.4688,2, -999.00,9,  -999.0,9,  -999.0,   3.186,3,   38.47,2,   31.70,2,  799.40,   4.4045
33RO20100308,      A13.5,      51,          1,         14,      11708,2,20100327,       0236,   -28.9998,     1.7832,       3632,   999.5,   3.7870,  34.3980,2,  34.3969,2, 191.3000,2,   191.2,6,   41.80,2,   32.46,2,    0.00,2,    2.26,2,   1.462,2,   0.714,2,   0.2650,2,  2216.3,2,  2306.9,2,   1078.3,6,    20.00,   7.5942,2,    25.00,-999.000,9,-999.0000,9, -999.00,9,   3.7888,2, -999.00,9,  -999.0,9,  -999.0,   2.053,3,   37.74,2,   34.22,2,  999.50,   3.7132
33RO20100308,      A13.5,      51,          1,         13,      11031,2,20100327,       0236,   -28.9998,     1.7832,       3632,  1199.2,   3.2056,  34.5492,2,  34.5481,2, 178.7000,2,   178.9,2,   54.28,6,   32.66,6,    0.00,6,    2.27,6,   0.435,2,   0.213,2,   0.0660,2,  2235.6,2,  2324.2,2,   -999.0,9,  -999.00,   7.5855,2,    25.00,-999.000,9,-999.0000,9, -999.00,9,   3.2054,2, -999.00,9,  -999.0,9,  -999.0,   0.795,3,   38.17,2,   33.88,2, 1199.20,   3.1203
33RO20100308,      A13.5,      51,          1,         12,      11027,2,20100327,       0236,   -28.9998,     1.7832,       3632,  1399.8,   3.1192,  34.6902,2,  34.6893,2, 187.7000,2,   188.8,2,   51.08,6,   30.09,6,    0.00,6,    2.08,6,   0.122,2,   0.058,2,   0.0000,2,  2226.0,2,  2325.4,2,   1026.5,2,    20.00,   7.6162,2,    25.00,-999.000,9,-999.0000,9, -999.00,9,   3.1187,2, -999.00,9,  -999.0,9,  -999.0,   0.276,3,   37.35,2,   32.20,2, 1399.80,   3.0181
33RO20100308,      A13.5,      51,          1,         11,      11707,2,20100327,       0236,   -28.9998,     1.7832,       3632,  1599.3,   3.1042,  34.7753,2,  34.7753,2, 200.9000,2,   201.6,6,   46.38,2,   27.67,2,    0.00,2,    1.90,2,   0.047,2,   0.023,2,   0.0320,2,  2215.0,2,  2324.8,2,    949.5,2,    20.00,   7.6474,2,    25.00,-999.000,9,-999.0000,9, -999.00,9,   3.1040,2, -999.00,9,  -999.0,9,  -999.0,   0.138,3,   37.80,2,   29.57,2, 1599.30,   2.9862
33RO20100308,      A13.5,      51,          1,         10,      11003,2,20100327,       0236,   -28.9998,     1.7832,       3632,  1800.8,   2.9979,  34.8146,2,  34.8132,2, 210.7000,2,   211.3,2,   45.57,2,   26.30,2,    0.00,2,    1.80,2,-999.000,9,-999.000,9,-999.0000,9,  2208.2,2,  2325.8,2,   -999.0,9,  -999.00,   7.6664,2,    25.00,-999.000,9,-999.0000,9, -999.00,9,   2.9984,2, -999.00,9,  -999.0,9,  -999.0,-999.000,9,   39.59,2,   27.79,2, 1800.80,   2.8636
33RO20100308,      A13.5,      51,          1,          9,      11706,2,20100327,       0236,   -28.9998,     1.7832,       3632,  1998.8,   2.8713,  34.8307,2,  34.8294,2, 217.1000,2,   217.3,2,   46.45,2,   25.62,2,    0.00,2,    1.75,2,   0.019,2,   0.010,2,   0.0000,2,  2206.5,2,  2330.9,2,   -999.0,9,  -999.00,   7.6768,2,    25.00,-999.000,9,-999.0000,9, -999.00,9,   2.8715,2, -999.00,9,  -999.0,9,  -999.0,   0.083,3,   39.60,2,   27.58,2, 1998.80,   2.7211
33RO20100308,      A13.5,      51,          1,          8,      11033,2,20100327,       0236,   -28.9998,     1.7832,       3632,  2199.3,   2.6311,  34.8344,2,  34.8342,2, 220.9000,2,   221.7,2,   51.10,2,   25.40,2,    0.00,2,    1.74,2,-999.000,9,-999.000,9,-999.0000,9,  2208.0,2,  2334.6,2,    871.8,2,    20.00,   7.6817,2,    25.00,-999.000,9,-999.0000,9, -999.00,9,   2.6307,2, -999.00,9,  -999.0,9,  -999.0,-999.000,9,   40.00,2,   26.92,2, 2199.30,   2.4665
33RO20100308,      A13.5,      51,          1,          7,      11705,2,20100327,       0236,   -28.9998,     1.7832,       3632,  2400.6,   2.5290,  34.8448,2,  34.8434,2, 225.6000,2,   225.8,2,   52.03,2,   25.00,2,    0.00,2,    1.71,2,   0.012,2,   0.007,2,   0.0240,2,  2206.8,2,  2334.5,2,    855.4,2,    20.00,   7.6898,2,    25.00,-999.000,9,-999.0000,9, -999.00,9,   2.5286,2, -999.00,9,  -999.0,9,  -999.0,   0.065,3,   38.70,2,   26.77,2, 2400.60,   2.3475
33RO20100308,      A13.5,      51,          1,          6,      11029,2,20100327,       0236,   -28.9998,     1.7832,       3632,  2600.7,   2.4238,  34.8502,2,  34.8491,2, 228.2000,2,   229.0,2,   53.56,2,   24.73,2,    0.00,2,    1.69,2,   0.011,2,   0.007,2,   0.0400,2,  2207.4,2,  2314.6,4,   -999.0,9,  -999.00,   7.6948,2,    25.00,-999.000,9,-999.0000,9, -999.00,9,   2.4233,2, -999.00,9,  -999.0,9,  -999.0,   0.061,3,   38.89,2,   26.70,2, 2600.70,   2.2252
33RO20100308,      A13.5,      51,          1,          5,      11704,2,20100327,       0236,   -28.9998,     1.7832,       3632,  2800.0,   2.3819,  34.8562,2,  34.8554,2, 229.8000,2,   230.4,2,   53.83,2,   24.50,2,    0.00,2,    1.67,2,   0.008,2,   0.005,2,   0.0000,2,  2207.4,2,  2344.8,2,    833.4,2,    20.00,   7.7003,2,    25.00,-999.000,9,-999.0000,9, -999.00,9,   2.3813,2, -999.00,9,  -999.0,9,  -999.0,   0.050,3,   38.23,2,   26.29,2, 2800.00,   2.1648
33RO20100308,      A13.5,      51,          1,          4,      11030,2,20100327,       0236,   -28.9998,     1.7832,       3632,  2999.3,   2.3171,  34.8657,2,  34.8646,2, 232.2000,2,   232.2,2,   54.13,2,   24.15,2,    0.00,2,    1.64,2,   0.006,2,   0.005,2,   0.0000,2,  2209.9,2,  2345.0,2,    819.6,2,    20.00,   7.7078,2,    25.00,-999.000,9,-999.0000,9, -999.00,9,   2.3161,2, -999.00,9,  -999.0,9,  -999.0,   0.034,3,   38.44,2,   26.29,2, 2999.30,   2.0815
33RO20100308,      A13.5,      51,          1,          3,      11703,2,20100327,       0236,   -28.9998,     1.7832,       3632,  3200.6,   2.2821,  34.8762,2,  34.8768,2, 233.1000,2,   233.1,2,   53.81,2,   23.81,2,    0.00,2,    1.62,2,   0.002,2,   0.002,2,   0.0000,2,  2212.4,2,  2372.2,4,   -999.0,9,  -999.00,   7.7164,2,    25.00,-999.000,9,-999.0000,9, -999.00,9,   2.2814,2, -999.00,9,  -999.0,9,  -999.0,   0.020,3,   39.25,2,   25.51,2, 3200.60,   2.0267
33RO20100308,      A13.5,      51,          1,          2,      11702,2,20100327,       0236,   -28.9998,     1.7832,       3632,  3400.6,   2.2763,  34.8806,2,  34.8801,2, 232.6000,2,   232.0,2,   53.99,6,   23.78,6,    0.00,6,    1.61,6,   0.005,2,   0.005,2,   0.0000,2,  2214.8,2,  2356.6,2,    801.5,2,    20.00,   7.7187,2,    25.00,-999.000,9,-999.0000,9, -999.00,9,   2.2759,2, -999.00,9,  -999.0,9,  -999.0,   0.018,3,   39.33,2,   25.27,2, 3400.60,   2.0001
33RO20100308,      A13.5,      51,          1,          1,      11701,2,20100327,       0236,   -28.9998,     1.7832,       3632,  3674.5,   2.3016,  34.8822,2,  34.8817,2, 231.9000,2,   231.7,2,   53.90,6,   23.76,6,    0.00,6,    1.61,6,   0.002,2,   0.003,2,   0.0000,2,  2217.4,6,  2358.3,2,    800.5,2,    20.00,   7.7198,2,    25.00,-999.000,9,-999.0000,9, -999.00,9,   2.3008,2, -999.00,9,  -999.0,9,  -999.0,   0.012,3,   40.23,2,   25.12,2, 3674.50,   1.9953