BOTTLE,20130404CCHSIOCBG
EXPOCODE,SECT_ID,STNNBR,CASTNO,SAMPNO,BTLNBR,BTLNBR_FLAG_W,DATE,TIME,LATITUDE,LONGITUDE,DEPTH,CTDPRS,CTDTMP,CTDSAL,CTDSAL_FLAG_W,SALNTY,SALNTY_FLAG_W,CTDOXY,CTDOXY_FLAG_W,OXYGEN,OXYGEN_FLAG_W,SILCAT,SILCAT_FLAG_W,NITRAT,NITRAT_FLAG_W,NITRIT,NITRIT_FLAG_W,PHSPHT,PHSPHT_FLAG_W,CFC-11,CFC-11_FLAG_W,CFC-12,CFC-12_FLAG_W,SF6,SF6_FLAG_W,TCARBN,TCARBN_FLAG_W,ALKALI,ALKALI_FLAG_W,FCO2,FCO2_FLAG_W,FCO2TMP,PH_TOT,PH_TOT_FLAG_W,PH_TMP,TRITUM,TRITUM_FLAG_W,HELIUM,HELIUM_FLAG_W,DELHE3,DELHE3_FLAG_W,REFTMP,REFTMP_FLAG_W,DELC13,DELC13_FLAG_W,DELC14,DELC14_FLAG_W,C14ERR,CCL4,CCL4_FLAG_W,DOC,DOC_FLAG_W,TDN,TDN_FLAG_W,CTDRAW,THETA
,,,,,,,,,,,METERS,DBAR,ITS-90,PSS-78,,PSS-78,,UMOL/KG,,UMOL/KG,,UMOL/KG,,UMOL/KG,,UMOL/KG,,UMOL/KG,,PMOL/KG,,PMOL/KG,,FMOL/KG,,UMOL/KG,,UMOL/KG,,UATM,,DEG C,,,DEG C,TU,,NMOL/KG,,PERCNT,,DEG C,,/MILLE,,/MILLE,,/MILLE,PMOL/KG,,UMOL/KG,,UMOL/KG,,DBAR,DEG C
33RO20100308,      A13.5,       9,          1,         24,      11714,2,20100316,       1303,      -50.0,     0.5545,       3629,     5.9,   5.0416,  33.8316,2,  33.8318,2, 311.0000,2,   310.7,6,    4.50,2,   19.68,2,    0.26,2,    1.53,2,   4.865,2,   2.654,2,   2.2090,2,  2128.0,6,  2286.8,6,    669.2,2,    20.00,   7.7812,2,    25.00,-999.000,1,-999.0000,9, -999.00,9,   5.0410,2,    0.78,2,   -85.6,2,     1.9,   6.467,3,   44.77,2,   23.61,2,    5.90,   5.0412
33RO20100308,      A13.5,       9,          1,         23,      11713,2,20100316,       1303,      -50.0,     0.5545,       3629,    50.1,   5.0163,  33.8321,2,  33.8323,2, 310.1000,2,   310.4,2,    4.58,2,   19.65,2,    0.25,2,    1.51,2,   4.852,2,   2.650,2,   2.2510,2,  2130.8,2,  2285.8,2,    665.9,2,    20.00,   7.7799,2,    25.00,-999.000,1,-999.0000,1, -999.00,9,   5.0154,2,    0.46,2,  -105.8,2,     2.1,   6.379,3,   45.26,2,   23.75,2,   50.10,   5.0125
33RO20100308,      A13.5,       9,          1,         22,      11712,2,20100316,       1303,      -50.0,     0.5545,       3629,    99.6,   4.1690,  33.8682,2,  33.8688,2, 302.3000,2,   302.8,2,    8.87,2,   21.73,2,    0.32,2,    1.69,2,   5.082,6,   2.753,6,   2.3400,6,  2144.7,2,  2282.6,2,    743.0,6,    20.00,   7.7422,2,    25.00,-999.000,9,-999.0000,9, -999.00,9,   4.1887,2,    1.77,2,   -66.8,2,     2.2,   6.562,3,   43.50,2,   25.54,2,   99.60,   4.1621
33RO20100308,      A13.5,       9,          1,         21,      11010,2,20100316,       1303,      -50.0,     0.5545,       3629,   150.5,   2.3014,  34.0182,2,  34.0178,2, 283.4000,2,   284.4,2,   24.39,2,   29.11,2,    0.02,2,    2.06,2,   4.866,2,   2.586,2,   1.9510,2,  2176.0,2,  2277.2,2,    931.9,2,    20.00,   7.6508,2,    25.00,-999.000,1,-999.0000,1, -999.00,9,   2.3027,2,    1.17,2,   -53.1,2,     2.1,   5.975,3,   40.26,2,   32.74,2,  150.50,   2.2932
33RO20100308,      A13.5,       9,          1,         20,      11715,2,20100316,       1303,      -50.0,     0.5545,       3629,   199.8,   2.1178,  34.1248,2,  34.1253,2, 253.7000,2,   258.9,2,   32.99,2,   31.44,2,    0.01,2,    2.21,2,   4.170,2,   2.158,2,   1.5660,2,  2192.4,2,  2289.5,2,   1015.9,2,    20.00,   7.6163,2,    25.00,-999.000,9,-999.0000,9, -999.00,9,   2.1176,2,    0.98,2,   -68.6,2,     2.1,   5.121,3,   40.43,2,   33.94,2,  199.80,   2.1071
33RO20100308,      A13.5,       9,          1,         19,      11007,2,20100316,       1303,      -50.0,     0.5545,       3629,   268.6,   2.1528,  34.2242,2,  34.2219,2, 229.7000,2,   231.5,2,   42.99,2,   32.96,2,    0.00,2,    2.31,2,   3.305,2,   1.666,2,   1.0350,2,  2209.8,2,  2299.5,2,   1102.0,2,    20.00,   7.5883,2,    25.00,-999.000,1,-999.0000,1, -999.00,9,   2.1530,2,    0.90,2,   -85.6,2,     2.8,   4.086,3,   39.65,2,   35.52,2,  268.60,   2.1381
33RO20100308,      A13.5,       9,          1,         18,      11710,2,20100316,       1303,      -50.0,     0.5545,       3629,   349.8,   2.3972,  34.3342,2,  34.3339,2, 201.9000,2,   202.2,2,   53.17,2,   34.24,2,    0.01,2,    2.39,2,   2.245,2,   1.108,2,   0.6030,2,  2227.8,2,  2308.1,2,   1173.3,2,    20.00,   7.5637,2,    25.00,-999.000,9,-999.0000,9, -999.00,9,   2.3960,2,    0.72,2,  -111.0,2,     2.2,   2.750,3,   39.31,2,   35.82,2,  349.80,   2.3771
33RO20100308,      A13.5,       9,          1,         17,      11025,9,20100316,       1303,      -50.0,     0.5545,       3629,   449.6,   2.3241,  34.4379,2,-999.0000,9, 183.2000,2,  -999.0,9, -999.00,9, -999.00,9, -999.00,9, -999.00,9,-999.000,9,-999.000,9,-999.0000,9,  -999.0,9,  -999.0,9,   -999.0,9,  -999.00,-999.0000,9,  -999.00,-999.000,9,-999.0000,9, -999.00,9,   2.3242,2, -999.00,9,  -999.0,9,  -999.0,-999.000,9, -999.00,9, -999.00,9,  449.60,   2.2980
33RO20100308,      A13.5,       9,          1,         16,      11709,2,20100316,       1303,      -50.0,     0.5545,       3629,   599.4,   2.3591,  34.5452,2,  34.5440,2, 173.3000,2,   173.5,2,   72.38,2,   34.43,2,    0.00,2,    2.41,2,   0.796,2,   0.388,2,   0.1120,2,  2252.0,6,  2332.2,6,   1221.3,2,    20.00,   7.5512,2,    25.00,-999.000,9,-999.0000,9, -999.00,9,   2.3581,2,    0.54,2,  -141.4,2,     2.0,   1.099,3,   38.83,2,   35.74,2,  599.40,   2.3233
33RO20100308,      A13.5,       9,          1,         15,      11006,2,20100316,       1303,      -50.0,     0.5545,       3629,   800.1,   2.3806,  34.6418,2,  34.6419,2, 175.4000,2,   174.7,2,   75.63,2,   32.98,2,    0.00,2,    2.31,2,   0.407,2,   0.194,2,   0.0000,2,  2253.3,2,  2340.6,2,   1168.2,2,    20.00,   7.5722,2,    25.00,-999.000,9,-999.0000,1, -999.00,9,   2.3803,2,    0.52,2,  -141.3,2,     2.9,   0.667,3,   38.78,2,   34.14,2,  800.10,   2.3313
33RO20100308,      A13.5,       9,          1,         14,      11708,2,20100316,       1303,      -50.0,     0.5545,       3629,  1000.5,   2.3091,  34.6962,2,  34.6940,2, 181.3000,2,   180.5,2,   77.63,2,   31.85,2,    0.00,2,    2.24,2,   0.287,2,   0.138,2,   0.0000,2,  2250.4,2,  2343.6,2,   1115.4,2,    20.00,   7.5880,2,    25.00,-999.000,9,-999.0000,9, -999.00,9,   2.3086,2,    0.56,2,  -140.4,2,     3.0,   0.504,3,   39.13,2,   33.51,2, 1000.50,   2.2463
33RO20100308,      A13.5,       9,          1,         13,      11031,2,20100316,       1303,      -50.0,     0.5545,       3629,  1200.8,   2.2367,  34.7334,2,  34.7330,2, 188.6000,2,   188.2,2,   78.27,2,   30.82,2,    0.01,2,    2.17,2,   0.222,2,   0.106,2,   0.0000,2,  2246.6,2,  2345.2,2,   1068.4,2,    20.00,   7.6043,2,    25.00,-999.000,9,-999.0000,1, -999.00,9,   2.2363,2,    0.56,2,  -146.4,2,     2.4,   0.404,3,   39.06,2,   32.51,2, 1200.80,   2.1600
33RO20100308,      A13.5,       9,          1,         12,      11027,4,20100316,       1303,      -50.0,     0.5545,       3629,  1400.7,   2.0236,  34.7357,2,  34.7353,2, 192.8000,4,   211.9,4,   83.58,2,   30.78,2,    0.00,2,    2.16,2,   0.241,4,   0.115,4,   0.0000,2,  2248.7,3,  -999.0,5,   1065.3,2,    20.00,   7.6058,2,    25.00,-999.000,9,-999.0000,9, -999.00,9,   2.0232,2, -999.00,9,  -999.0,9,  -999.0,   0.394,4,   38.94,2,   32.48,2, 1400.70,   1.9342
33RO20100308,      A13.5,       9,          1,         10,      11003,2,20100316,       1303,      -50.0,     0.5545,       3629,  1600.8,   1.8885,  34.7528,2,  34.7530,2, 198.4000,2,   197.0,2,   85.70,6,   30.13,6,    0.01,6,    2.12,6,   0.194,2,   0.092,2,   0.0000,2,  2244.7,2,  2351.1,2,   1031.2,2,    20.00,   7.6184,2,    25.00,-999.000,9,-999.0000,9, -999.00,9,   1.8885,2,    0.57,2,  -147.7,2,     2.0,   0.342,3,   39.44,2,   32.35,2, 1600.80,   1.7854
33RO20100308,      A13.5,       9,          1,         11,      11707,2,20100316,       1303,      -50.0,     0.5545,       3629,  1600.9,   1.8899,  34.7528,2,  34.7541,2, 198.4000,2,   197.1,2,   85.46,2,   30.16,2,    0.00,2,    2.12,2,   0.195,2,   0.095,2,   0.0000,2,  2245.2,2,  2351.5,2,   1030.6,6,    20.00,   7.6176,2,    25.00,-999.000,1,-999.0000,1, -999.00,9,   1.8893,2,    0.61,2,  -151.0,2,     2.4,   0.350,3,   38.91,2,   32.10,2, 1600.90,   1.7867
33RO20100308,      A13.5,       9,          1,          9,      11706,2,20100316,       1303,      -50.0,     0.5545,       3629,  1800.4,   1.7050,  34.7537,2,  34.7535,2, 201.5000,2,   200.7,2,   89.89,2,   30.26,2,    0.00,2,    2.11,2,   0.171,2,   0.083,2,   0.0000,2,  2245.1,2,  2351.2,2,   1031.4,2,    20.00,   7.6211,2,    25.00,-999.000,1,-999.0000,1, -999.00,9,   1.7045,2, -999.00,9,  -999.0,9,  -999.0,   0.305,3,   38.55,2,   32.41,2, 1800.40,   1.5887
33RO20100308,      A13.5,       9,          1,          8,      11033,2,20100316,       1303,      -50.0,     0.5545,       3629,  1999.8,   1.4748,  34.7467,2,  34.7476,2, 205.2000,2,   204.2,2,   95.68,2,   30.43,2,    0.00,2,    2.14,2,   0.177,2,   0.083,2,   0.0000,2,  2249.5,2,  2354.7,2,   1026.5,2,    20.00,   7.6217,2,    25.00,-999.000,9,-999.0000,9, -999.00,9,   1.4744,2,    0.55,2,  -151.0,2,     2.4,   0.316,3,   38.52,2,   32.10,2, 1999.80,   1.3460
33RO20100308,      A13.5,       9,          1,          7,      11705,2,20100316,       1303,      -50.0,     0.5545,       3629,  2200.9,   1.3002,  34.7391,2,  34.7376,2, 207.3000,2,   206.2,6,  100.58,6,   30.69,6,    0.00,6,    2.16,6,   0.196,2,   0.093,2,   0.0000,2,  2250.1,2,  2357.1,2,   1014.2,2,    20.00,   7.6206,2,    25.00,-999.000,1,-999.0000,1, -999.00,9,   1.2997,2,    0.55,2,  -153.6,2,     2.3,   0.338,3,   39.83,2,   33.12,2, 2200.90,   1.1579
33RO20100308,      A13.5,       9,          1,          6,      11029,4,20100316,       1303,      -50.0,     0.5545,       3629,  2400.9,   1.1640,  34.7316,3,  34.7397,4, 208.2000,2,   206.4,2,  100.61,3,   30.63,3,    0.00,3,    2.16,3,   0.196,3,   0.093,3,   0.0000,2,  2249.2,4,  2355.6,2,   1026.2,3,    20.00,   7.6203,2,    25.00,-999.000,9,-999.0000,9, -999.00,9,   1.1632,2, -999.00,9,  -999.0,9,  -999.0,   0.335,3,   38.13,2,   32.35,2, 2400.90,   1.0074
33RO20100308,      A13.5,       9,          1,          5,      11704,2,20100316,       1303,      -50.0,     0.5545,       3629,  2599.7,   0.9961,  34.7167,2,  34.7170,2, 207.7000,2,   207.1,2,  110.27,6,   31.58,6,    0.00,6,    2.23,6,   0.290,2,   0.138,2,   0.0000,2,  2254.7,2,  2356.9,2,   1054.3,2,    20.00,   7.6093,2,    25.00,-999.000,1,-999.0000,1, -999.00,9,   0.9959,2,    0.51,2,  -159.1,2,     2.4,   0.461,3,   40.02,2,   32.52,2, 2599.70,   0.8258
33RO20100308,      A13.5,       9,          1,          4,      11030,2,20100316,       1303,      -50.0,     0.5545,       3629,  2799.5,   0.8065,  34.7025,2,  34.7020,2, 208.4000,2,   208.1,2,  116.00,6,   32.11,6,    0.00,6,    2.26,6,   0.363,2,   0.171,2,   0.0000,2,  2257.3,2,  2351.9,2,   1079.2,2,    20.00,   7.6014,2,    25.00,-999.000,9,-999.0000,9, -999.00,9,   0.8063,2,    0.46,2,  -160.2,2,     3.7,   0.551,3,   39.33,2,   33.52,2, 2799.50,   0.6228
33RO20100308,      A13.5,       9,          1,          3,      11703,2,20100316,       1303,      -50.0,     0.5545,       3629,  3100.6,   0.6334,  34.6936,2,  34.6934,2, 211.2000,2,   211.1,2,  121.80,6,   32.44,6,    0.00,6,    2.27,6,   0.396,2,   0.184,2,   0.0000,2,  2258.8,2,  2357.3,2,   1083.1,2,    20.00,   7.6024,2,    25.00,-999.000,1,-999.0000,1, -999.00,9,   0.6327,2,    0.48,2,  -157.7,2,     2.3,   0.604,3,   39.42,2,   33.39,2, 3100.60,   0.4266
33RO20100308,      A13.5,       9,          1,          2,      11702,4,20100316,       1303,      -50.0,     0.5545,       3629,  3400.2,   0.5560,  34.6888,3,  34.7021,4, 214.0000,4,   180.2,4,   77.59,4,   31.97,4,    0.00,4,    2.26,4,   0.290,4,   0.137,4,   0.0420,4,  2248.8,4,  2343.9,4,   1114.9,4,    20.00,   7.5868,2,    25.00,-999.000,9,-999.0000,9, -999.00,9,   0.5560,2, -999.00,9,  -999.0,9,  -999.0,   0.515,4,   40.15,2,   33.20,2, 3400.20,   0.3232
33RO20100308,      A13.5,       9,          1,          1,      11701,2,20100316,       1303,      -50.0,     0.5545,       3629,  3710.7,   0.5270,  34.6861,2,  34.6859,2, 215.3000,2,   213.9,2,  126.36,6,   32.75,6,    0.01,6,    2.33,6,   0.440,2,   0.203,2,   0.0970,2,  2260.1,6,  2359.4,6,   1086.1,2,    20.00,   7.5987,2,    25.00,-999.000,1,-999.0000,1, -999.00,9,   0.5262,2,    0.53,2,  -160.6,2,     4.0,   0.666,3,   40.00,2,   34.37,2, 3710.70,   0.2649