BOTTLE,20130404CCHSIOCBG
EXPOCODE,SECT_ID,STNNBR,CASTNO,SAMPNO,BTLNBR,BTLNBR_FLAG_W,DATE,TIME,LATITUDE,LONGITUDE,DEPTH,CTDPRS,CTDTMP,CTDSAL,CTDSAL_FLAG_W,SALNTY,SALNTY_FLAG_W,CTDOXY,CTDOXY_FLAG_W,OXYGEN,OXYGEN_FLAG_W,SILCAT,SILCAT_FLAG_W,NITRAT,NITRAT_FLAG_W,NITRIT,NITRIT_FLAG_W,PHSPHT,PHSPHT_FLAG_W,CFC-11,CFC-11_FLAG_W,CFC-12,CFC-12_FLAG_W,SF6,SF6_FLAG_W,TCARBN,TCARBN_FLAG_W,ALKALI,ALKALI_FLAG_W,FCO2,FCO2_FLAG_W,FCO2TMP,PH_TOT,PH_TOT_FLAG_W,PH_TMP,TRITUM,TRITUM_FLAG_W,HELIUM,HELIUM_FLAG_W,DELHE3,DELHE3_FLAG_W,REFTMP,REFTMP_FLAG_W,DELC13,DELC13_FLAG_W,DELC14,DELC14_FLAG_W,C14ERR,CCL4,CCL4_FLAG_W,DOC,DOC_FLAG_W,TDN,TDN_FLAG_W,CTDRAW,THETA
,,,,,,,,,,,METERS,DBAR,ITS-90,PSS-78,,PSS-78,,UMOL/KG,,UMOL/KG,,UMOL/KG,,UMOL/KG,,UMOL/KG,,UMOL/KG,,PMOL/KG,,PMOL/KG,,FMOL/KG,,UMOL/KG,,UMOL/KG,,UATM,,DEG C,,,DEG C,TU,,NMOL/KG,,PERCNT,,DEG C,,/MILLE,,/MILLE,,/MILLE,PMOL/KG,,UMOL/KG,,UMOL/KG,,DBAR,DEG C
33RO20100308,      A13.5,     104,          1,         24,      11714,2,20100412,       0351,    -2.6667,    -3.0003,       4759,     5.8,  28.7323,  35.1507,2,  35.1577,2, 196.7000,2,   197.7,2,    0.74,6,    0.05,6,    0.00,6,    0.07,3,   1.551,2,   0.979,2,   0.9710,2,  1981.5,6,  2305.5,2,    286.2,2,    20.00,   8.0917,2,    25.00,-999.000,9,-999.0000,9, -999.00,9,  28.7301,2, -999.00,9,  -999.0,9,  -999.0,   1.686,3, -999.00,9, -999.00,9,    5.80,  28.7309
33RO20100308,      A13.5,     104,          1,         23,      11716,2,20100412,       0351,    -2.6667,    -3.0003,       4759,    31.0,  26.5486,  35.6183,4,  35.7007,2, 204.7000,2,   205.2,6,    1.26,2,    0.36,2,    0.01,2,    0.21,3,   1.821,2,   1.103,2,   0.8920,2,  2048.4,2,  2341.9,6,   -999.0,9,  -999.00,   8.0294,2,    25.00,-999.000,9,-999.0000,9, -999.00,9,  26.5064,3, -999.00,9,  -999.0,9,  -999.0,   1.013,3, -999.00,9, -999.00,9,   31.00,  26.5416
33RO20100308,      A13.5,     104,          1,         22,      11022,2,20100412,       0351,    -2.6667,    -3.0003,       4759,    60.3,  16.6540,  35.7612,2,  35.7595,2, 151.6000,2,   148.4,2,    4.80,2,   12.38,2,    0.07,2,    0.96,3,   2.249,2,   1.293,2,   0.8630,2,  2152.1,2,  2343.6,6,    591.6,2,    20.00,   7.8338,2,    25.00,-999.000,9,-999.0000,9, -999.00,9,  16.6544,2, -999.00,9,  -999.0,9,  -999.0,   0.496,3, -999.00,9, -999.00,9,   60.30,  16.6442
33RO20100308,      A13.5,     104,          1,         21,      11010,2,20100412,       0351,    -2.6667,    -3.0003,       4759,    89.9,  16.2773,  35.7201,2,  35.7190,2, 144.8000,2,   143.4,2,    5.15,2,   13.43,2,    0.03,2,    1.02,3,   2.273,2,   1.290,2,   0.8080,2,  2155.1,2,  2347.0,2,    616.5,2,    20.00,   7.8195,2,    25.00,-999.000,9,-999.0000,9, -999.00,9,  16.2810,2, -999.00,9,  -999.0,9,  -999.0,   0.509,3, -999.00,9, -999.00,9,   89.90,  16.2629
33RO20100308,      A13.5,     104,          1,         20,      11715,2,20100412,       0351,    -2.6667,    -3.0003,       4759,   120.2,  16.1107,  35.7014,2,  35.6986,2, 142.0000,2,   140.2,2,    5.37,2,   14.15,2,    0.02,2,    1.07,3,   2.259,2,   1.294,2,   0.8340,2,  2159.1,2,  2342.0,2,    633.5,2,    20.00,   7.8095,2,    25.00,-999.000,9,-999.0000,9, -999.00,9,  16.1082,2, -999.00,9,  -999.0,9,  -999.0,   0.459,3, -999.00,9, -999.00,9,  120.20,  16.0915
33RO20100308,      A13.5,     104,          1,         19,      11007,2,20100412,       0351,    -2.6667,    -3.0003,       4759,   175.2,  15.7120,  35.6548,2,  35.6565,2, 129.1000,2,   128.1,2,    5.86,2,   16.05,2,    0.01,2,    1.17,3,   2.244,2,   1.269,2,   0.8160,2,  2168.8,2,  2338.5,2,    682.8,2,    20.00,   7.7798,2,    25.00,-999.000,9,-999.0000,9, -999.00,9,  15.7101,2, -999.00,9,  -999.0,9,  -999.0,   0.424,3, -999.00,9, -999.00,9,  175.20,  15.6845
33RO20100308,      A13.5,     104,          1,         18,      11710,2,20100412,       0351,    -2.6667,    -3.0003,       4759,   224.9,  14.5479,  35.4849,2,  35.4787,2,  77.4000,2,    77.3,2,    8.05,2,   23.25,2,    0.01,2,    1.57,3,   2.023,2,   1.125,2,   0.5560,2,  2205.7,2,  2324.0,2,    929.7,2,    20.00,   7.6577,2,    25.00,-999.000,9,-999.0000,9, -999.00,9,  14.5573,2, -999.00,9,  -999.0,9,  -999.0,   0.204,3, -999.00,9, -999.00,9,  224.90,  14.5144
33RO20100308,      A13.5,     104,          1,         17,      11025,2,20100412,       0351,    -2.6667,    -3.0003,       4759,   300.1,  11.1703,  35.0659,2,  35.0645,2,  61.2000,2,    62.6,2,   12.37,2,   30.43,2,    0.01,2,    1.96,3,   1.399,2,   0.750,2,   0.2740,2,  2226.5,2,  2306.9,2,   1236.0,2,    20.00,   7.5467,2,    25.00,-999.000,9,-999.0000,9, -999.00,9,  11.1787,2, -999.00,9,  -999.0,9,  -999.0,   0.224,3, -999.00,9, -999.00,9,  300.10,  11.1327
33RO20100308,      A13.5,     104,          1,         16,      11709,2,20100412,       0351,    -2.6667,    -3.0003,       4759,   374.8,   8.6979,  34.7891,2,  34.7877,2,  73.5000,2,    74.1,2,   17.10,2,   34.86,2,    0.00,2,    2.23,3,   0.895,2,   0.457,2,   0.0960,2,  2234.1,6,  2294.9,2,   1363.3,2,    20.00,   7.5010,2,    25.00,-999.000,9,-999.0000,9, -999.00,9,   8.6940,2, -999.00,9,  -999.0,9,  -999.0,   0.322,3, -999.00,9, -999.00,9,  374.80,   8.6577
33RO20100308,      A13.5,     104,          1,         15,      11006,2,20100412,       0351,    -2.6667,    -3.0003,       4759,   450.4,   7.1945,  34.6246,2,  34.6275,2, 120.8000,2,   120.6,2,   19.53,2,   33.61,2,    0.00,2,    2.19,3,   1.028,2,   0.519,2,   0.1410,2,  2215.1,2,  2294.1,2,   1195.3,6,    20.00,   7.5518,2,    25.00,-999.000,9,-999.0000,9, -999.00,9,   7.1942,2, -999.00,9,  -999.0,9,  -999.0,   0.655,3, -999.00,9, -999.00,9,  450.40,   7.1511
33RO20100308,      A13.5,     104,          1,         14,      11708,2,20100412,       0351,    -2.6667,    -3.0003,       4759,   499.9,   6.7862,  34.5889,2,  34.5882,2, 126.1000,2,   126.8,2,   20.77,2,   33.94,2,    0.00,2,    2.22,3,   0.948,2,   0.473,2,   0.1230,2,  2214.8,2,  2291.6,2,   1194.2,2,    20.00,   7.5524,2,    25.00,-999.000,9,-999.0000,9, -999.00,9,   6.7861,2, -999.00,9,  -999.0,9,  -999.0,   0.720,3, -999.00,9, -999.00,9,  499.90,   6.7395
33RO20100308,      A13.5,     104,          1,         13,      11031,2,20100412,       0351,    -2.6667,    -3.0003,       4759,   600.0,   6.0243,  34.5431,2,  34.5449,2, 116.5000,2,   115.7,2,   24.38,2,   36.61,2,    0.00,2,    2.41,3,   0.454,2,   0.226,2,   0.0410,2,  2226.9,2,  2294.4,2,   -999.0,9,  -999.00,   7.5152,2,    25.00,-999.000,9,-999.0000,9, -999.00,9,   6.0300,2, -999.00,9,  -999.0,9,  -999.0,   0.435,3, -999.00,9, -999.00,9,  600.00,   5.9713
33RO20100308,      A13.5,     104,          1,         12,      11027,2,20100412,       0351,    -2.6667,    -3.0003,       4759,   799.7,   4.7123,  34.5062,2,  34.5076,2, 143.2000,2,   143.0,2,   31.56,2,   35.72,2,    0.00,2,    2.42,3,   0.148,2,   0.076,2,   0.0000,2,  2224.9,2,  2300.9,2,   1242.1,2,    20.00,   7.5424,2,    25.00,-999.000,9,-999.0000,9, -999.00,9,   4.7121,2, -999.00,9,  -999.0,9,  -999.0,   0.266,3, -999.00,9, -999.00,9,  799.70,   4.6486
33RO20100308,      A13.5,     104,          1,         11,      11707,2,20100412,       0351,    -2.6667,    -3.0003,       4759,   999.7,   4.4086,  34.5936,2,  34.5956,2, 156.5000,2,   156.9,2,   32.26,2,   33.66,2,    0.00,2,    2.29,3,   0.078,2,   0.041,2,   0.0000,2,  2220.3,2,  2306.9,2,   1155.6,2,    20.00,   7.5715,2,    25.00,-999.000,9,-999.0000,9, -999.00,9,   4.4086,2, -999.00,9,  -999.0,9,  -999.0,   0.175,3, -999.00,9, -999.00,9,  999.70,   4.3297
33RO20100308,      A13.5,     104,          1,         10,      11003,2,20100412,       0351,    -2.6667,    -3.0003,       4759,  1300.5,   4.4905,  34.8946,2,  34.8970,2, 200.5000,2,   200.5,2,   22.02,2,   25.43,2,    0.00,2,    1.71,3,-999.000,9,-999.000,9,-999.0000,9,  2192.1,2,  2309.8,2,   -999.0,9,  -999.00,   7.6686,2,    25.00,-999.000,9,-999.0000,9, -999.00,9,   4.4915,2, -999.00,9,  -999.0,9,  -999.0,-999.000,9, -999.00,9, -999.00,9, 1300.50,   4.3835
33RO20100308,      A13.5,     104,          1,          9,      11706,2,20100412,       0351,    -2.6667,    -3.0003,       4759,  1600.2,   4.1626,  34.9669,2,  34.9681,2, 232.9000,2,   230.4,2,   18.31,6,   21.22,6,    0.00,6,    1.44,3,-999.000,9,-999.000,9,-999.0000,9,  2174.7,2,  2312.0,2,    803.6,2,    20.00,   7.7143,2,    25.00,-999.000,9,-999.0000,9, -999.00,9,   4.1629,2, -999.00,9,  -999.0,9,  -999.0,-999.000,9, -999.00,9, -999.00,9, 1600.20,   4.0312
33RO20100308,      A13.5,     104,          1,          8,      11033,2,20100412,       0351,    -2.6667,    -3.0003,       4759,  1900.1,   3.7283,  34.9675,2,  34.9692,2, 243.3000,2,   244.0,2,   20.23,6,   20.35,6,    0.00,6,    1.37,3,-999.000,9,-999.000,9,-999.0000,9,  2170.6,2,  2314.0,2,   -999.0,9,  -999.00,   7.7295,2,    25.00,-999.000,9,-999.0000,9, -999.00,9,   3.7281,2, -999.00,9,  -999.0,9,  -999.0,-999.000,9, -999.00,9, -999.00,9, 1900.10,   3.5743
33RO20100308,      A13.5,     104,          1,          7,      11705,2,20100412,       0351,    -2.6667,    -3.0003,       4759,  2300.3,   3.1221,  34.9354,2,  34.9368,2, 240.1000,2,   240.2,2,   30.93,6,   21.55,6,    0.00,6,    1.46,3,-999.000,9,-999.000,9,-999.0000,9,  2182.4,2,  2325.6,2,    785.5,2,    20.00,   7.7255,2,    25.00,-999.000,9,-999.0000,9, -999.00,9,   3.1221,2, -999.00,9,  -999.0,9,  -999.0,-999.000,9, -999.00,9, -999.00,9, 2300.30,   2.9394
33RO20100308,      A13.5,     104,          1,          6,      11029,2,20100412,       0351,    -2.6667,    -3.0003,       4759,  2700.9,   2.8110,  34.9169,2,  34.9191,2, 238.1000,2,   238.9,2,   37.86,6,   22.09,6,    0.00,6,    1.51,3,-999.000,9,-999.000,9,-999.0000,9,  2190.2,2,  2333.5,2,   -999.0,9,  -999.00,   7.7214,2,    25.00,-999.000,9,-999.0000,9, -999.00,9,   2.8107,2, -999.00,9,  -999.0,9,  -999.0,-999.000,9, -999.00,9, -999.00,9, 2700.90,   2.5948
33RO20100308,      A13.5,     104,          1,          5,      11704,2,20100412,       0351,    -2.6667,    -3.0003,       4759,  3099.3,   2.5746,  34.9024,2,  34.9039,2, 238.4000,2,   237.9,2,   43.27,6,   22.52,6,    0.00,6,    1.54,3,-999.000,9,-999.000,9,-999.0000,9,  2196.0,2,  2340.5,2,    796.3,2,    20.00,   7.7203,2,    25.00,-999.000,9,-999.0000,9, -999.00,9,   2.5744,2, -999.00,9,  -999.0,9,  -999.0,-999.000,9, -999.00,9, -999.00,9, 3099.30,   2.3229
33RO20100308,      A13.5,     104,          1,          4,      11030,2,20100412,       0351,    -2.6667,    -3.0003,       4759,  3500.2,   2.4349,  34.8924,2,  34.8945,2, 237.9000,2,   240.0,2,   46.25,6,   22.58,6,    0.00,6,    1.54,3,-999.000,9,-999.000,9,-999.0000,9,  2198.1,2,  2343.2,2,   -999.0,9,  -999.00,   7.7222,2,    25.00,-999.000,9,-999.0000,9, -999.00,9,   2.4346,2, -999.00,9,  -999.0,9,  -999.0,-999.000,9, -999.00,9, -999.00,9, 3500.20,   2.1441
33RO20100308,      A13.5,     104,          1,          3,      11703,2,20100412,       0351,    -2.6667,    -3.0003,       4759,  3899.3,   2.3689,  34.8859,2,  34.8866,2, 242.0000,2,   242.7,2,   47.39,6,   22.39,6,    0.00,6,    1.54,3,-999.000,9,-999.000,9,-999.0000,9,  2198.2,2,  2344.2,2,    791.0,2,    20.00,   7.7204,2,    25.00,-999.000,9,-999.0000,9, -999.00,9,   2.3688,2, -999.00,9,  -999.0,9,  -999.0,-999.000,9, -999.00,9, -999.00,9, 3899.30,   2.0358
33RO20100308,      A13.5,     104,          1,          2,      11702,2,20100412,       0351,    -2.6667,    -3.0003,       4759,  4300.1,   2.2786,  34.8754,2,  34.8760,2, 243.0000,2,   243.6,6,   50.52,6,   22.57,6,    0.00,6,    1.56,3,-999.000,9,-999.000,9,-999.0000,9,  2201.7,2,  2344.9,2,   -999.0,9,  -999.00,   7.7196,2,    25.00,-999.000,9,-999.0000,9, -999.00,9,   2.2783,2, -999.00,9,  -999.0,9,  -999.0,-999.000,9, -999.00,9, -999.00,9, 4300.10,   1.9019
33RO20100308,      A13.5,     104,          1,          1,      11701,2,20100412,       0351,    -2.6667,    -3.0003,       4759,  4823.3,   2.1968,  34.8622,2,  34.8643,2, 241.2000,2,   241.6,2,   55.58,6,   23.16,6,    0.00,6,    1.61,3,-999.000,9,-999.000,9,-999.0000,9,  2208.8,6,  2351.5,2,    809.4,2,    20.00,   7.7154,2,    25.00,-999.000,9,-999.0000,9, -999.00,9,   2.1961,2, -999.00,9,  -999.0,9,  -999.0,-999.000,9, -999.00,9, -999.00,9, 4823.30,   1.7597