BOTTLE,20130404CCHSIOCBG
EXPOCODE,SECT_ID,STNNBR,CASTNO,SAMPNO,BTLNBR,BTLNBR_FLAG_W,DATE,TIME,LATITUDE,LONGITUDE,DEPTH,CTDPRS,CTDTMP,CTDSAL,CTDSAL_FLAG_W,SALNTY,SALNTY_FLAG_W,CTDOXY,CTDOXY_FLAG_W,OXYGEN,OXYGEN_FLAG_W,SILCAT,SILCAT_FLAG_W,NITRAT,NITRAT_FLAG_W,NITRIT,NITRIT_FLAG_W,PHSPHT,PHSPHT_FLAG_W,CFC-11,CFC-11_FLAG_W,CFC-12,CFC-12_FLAG_W,SF6,SF6_FLAG_W,TCARBN,TCARBN_FLAG_W,ALKALI,ALKALI_FLAG_W,FCO2,FCO2_FLAG_W,FCO2TMP,PH_TOT,PH_TOT_FLAG_W,PH_TMP,TRITUM,TRITUM_FLAG_W,HELIUM,HELIUM_FLAG_W,DELHE3,DELHE3_FLAG_W,REFTMP,REFTMP_FLAG_W,DELC13,DELC13_FLAG_W,DELC14,DELC14_FLAG_W,C14ERR,CCL4,CCL4_FLAG_W,DOC,DOC_FLAG_W,TDN,TDN_FLAG_W,CTDRAW,THETA
,,,,,,,,,,,METERS,DBAR,ITS-90,PSS-78,,PSS-78,,UMOL/KG,,UMOL/KG,,UMOL/KG,,UMOL/KG,,UMOL/KG,,UMOL/KG,,PMOL/KG,,PMOL/KG,,FMOL/KG,,UMOL/KG,,UMOL/KG,,UATM,,DEG C,,,DEG C,TU,,NMOL/KG,,PERCNT,,DEG C,,/MILLE,,/MILLE,,/MILLE,PMOL/KG,,UMOL/KG,,UMOL/KG,,DBAR,DEG C
33RO20100308,      A13.5,      84,          1,         24,      11714,2,20100406,       1453,   -12.4998,     0.8967,       5522,     4.6,  26.8602,  36.6767,2,  36.6771,2, 200.3000,2,   201.3,2,    0.87,6,    0.02,6,    0.00,6,    0.15,6,   1.609,2,   1.011,2,   1.0180,2,  2073.8,6,  2406.4,2,    311.8,2,    20.00,   8.0734,2,    25.00,-999.000,9,-999.0000,9, -999.00,9,-999.0000,9, -999.00,9,  -999.0,9,  -999.0,   1.939,3, -999.00,9, -999.00,9,    4.60,  26.8591
33RO20100308,      A13.5,      84,          1,         23,      11716,2,20100406,       1453,   -12.4998,     0.8967,       5522,    50.7,  22.1849,  36.3370,2,  36.3450,2, 237.2000,2,   234.4,2,    1.41,2,    0.27,2,    0.01,2,    0.21,2,   2.042,2,   1.230,2,   1.0830,2,  2080.4,2,  2387.4,6,    352.2,2,    20.00,   8.0351,2,    25.00,-999.000,9,-999.0000,9, -999.00,9,-999.0000,9, -999.00,9,  -999.0,9,  -999.0,   1.104,3, -999.00,9, -999.00,9,   50.70,  22.1748
33RO20100308,      A13.5,      84,          1,         22,      11022,2,20100406,       1453,   -12.4998,     0.8967,       5522,   100.7,  14.1703,  35.4516,2,  35.4573,2,  74.1000,2,    74.0,6,    6.90,2,   24.15,2,    0.13,2,    1.56,2,   2.060,6,   1.143,6,   0.6660,6,  2209.7,2,  2323.7,6,    963.4,2,    20.00,   7.6412,2,    25.00,-999.000,9,-999.0000,9, -999.00,9,-999.0000,9, -999.00,9,  -999.0,9,  -999.0,   0.380,3, -999.00,9, -999.00,9,  100.70,  14.1556
33RO20100308,      A13.5,      84,          1,         21,      11010,2,20100406,       1453,   -12.4998,     0.8967,       5522,   149.4,  12.3783,  35.2139,2,  35.2099,2,  67.6000,2,    64.2,2,    9.83,2,   28.08,2,    0.01,2,    1.79,2,   1.702,2,   0.917,2,   0.4700,2,  2220.6,2,  2310.3,2,   1117.0,2,    20.00,   7.5799,2,    25.00,-999.000,9,-999.0000,9, -999.00,9,-999.0000,9, -999.00,9,  -999.0,9,  -999.0,   0.248,3, -999.00,9, -999.00,9,  149.40,  12.3584
33RO20100308,      A13.5,      84,          1,         20,      11715,2,20100406,       1453,   -12.4998,     0.8967,       5522,   249.8,  10.9381,  35.0358,2,  35.0349,2,  48.7000,2,    46.3,2,   12.84,2,   32.50,2,    0.00,2,    2.05,2,   1.154,2,   0.607,2,   0.1560,2,  2238.1,2,  2302.2,2,   1343.7,2,    20.00,   7.5075,2,    25.00,-999.000,9,-999.0000,9, -999.00,9,-999.0000,9, -999.00,9,  -999.0,9,  -999.0,   0.195,3, -999.00,9, -999.00,9,  249.80,  10.9073
33RO20100308,      A13.5,      84,          1,         19,      11007,2,20100406,       1453,   -12.4998,     0.8967,       5522,   348.9,   9.6685,  34.8939,2,  34.8938,2,  42.9000,2,    42.6,2,   15.31,2,   35.44,2,    0.00,2,    2.23,2,   0.682,2,   0.359,2,   0.1190,2,  2245.8,2,  2296.5,2,   1484.7,2,    20.00,   7.4667,2,    25.00,-999.000,9,-999.0000,9, -999.00,9,-999.0000,9, -999.00,9,  -999.0,9,  -999.0,   0.170,3, -999.00,9, -999.00,9,  348.90,   9.6286
33RO20100308,      A13.5,      84,          1,         18,      11710,2,20100406,       1453,   -12.4998,     0.8967,       5522,   446.9,   8.1571,  34.7395,2,  34.7387,2,  50.1000,2,    50.6,2,   18.72,2,   37.85,2,    0.00,2,    2.40,2,   0.317,2,   0.168,2,   0.0000,2,  2249.2,2,  2293.8,2,   1574.3,2,    20.00,   7.4425,2,    25.00,-999.000,9,-999.0000,9, -999.00,9,-999.0000,9, -999.00,9,  -999.0,9,  -999.0,   0.180,3, -999.00,9, -999.00,9,  446.90,   8.1108
33RO20100308,      A13.5,      84,          1,         17,      11025,2,20100406,       1453,   -12.4998,     0.8967,       5522,   600.3,   6.3248,  34.5863,2,  34.5836,2,  56.1000,2,    59.0,2,   24.95,2,   41.06,2,    0.00,2,    2.67,2,   0.071,2,   0.040,2,   0.0000,2,  2256.8,2,  2290.6,6,   1703.2,2,    20.00,   7.4101,2,    25.00,-999.000,9,-999.0000,9, -999.00,9,-999.0000,9, -999.00,9,  -999.0,9,  -999.0,   0.118,3, -999.00,9, -999.00,9,  600.30,   6.2704
33RO20100308,      A13.5,      84,          1,         16,      11709,2,20100406,       1453,   -12.4998,     0.8967,       5522,   749.7,   5.1908,  34.5127,2,  34.5143,2, 100.8000,2,   100.7,2,   29.58,2,   38.75,2,    0.00,2,    2.56,2,   0.035,2,   0.021,2,   0.0000,2,  2243.1,2,  2295.3,2,   1470.0,6,    20.00,   7.4697,2,    25.00,-999.000,9,-999.0000,9, -999.00,9,-999.0000,9, -999.00,9,  -999.0,9,  -999.0,   0.111,3, -999.00,9, -999.00,9,  749.70,   5.1286
33RO20100308,      A13.5,      84,          1,         15,      11006,2,20100406,       1453,   -12.4998,     0.8967,       5522,   896.5,   4.4267,  34.5235,2,  34.5231,2, 128.4000,2,   128.2,2,   34.19,2,   36.68,2,    0.00,2,    2.47,2,   0.012,2,   0.008,2,   0.0000,2,  2236.1,2,  2299.2,2,   1329.0,2,    20.00,   7.5111,2,    25.00,-999.000,9,-999.0000,9, -999.00,9,-999.0000,9, -999.00,9,  -999.0,9,  -999.0,   0.060,3, -999.00,9, -999.00,9,  896.50,   4.3566
33RO20100308,      A13.5,      84,          1,         14,      11708,2,20100406,       1453,   -12.4998,     0.8967,       5522,  1099.1,   4.0466,  34.6315,2,  34.6307,2, 153.6000,2,   153.4,2,   34.82,2,   33.22,2,    0.00,2,    2.26,2,   0.005,2,   0.003,2,   0.0000,2,  2225.7,2,  2308.7,2,   1182.0,2,    20.00,   7.5608,2,    25.00,-999.000,9,-999.0000,9, -999.00,9,-999.0000,9, -999.00,9,  -999.0,9,  -999.0,   0.032,3, -999.00,9, -999.00,9, 1099.10,   3.9620
33RO20100308,      A13.5,      84,          1,         13,      11031,2,20100406,       1453,   -12.4998,     0.8967,       5522,  1300.7,   3.9072,  34.7749,2,  34.7753,2, 172.8000,2,   172.2,2,   32.06,2,   29.61,2,    0.00,2,    2.01,2,   0.004,2,   0.003,2,   0.0000,2,  2216.7,2,  2313.1,2,   1067.0,2,    20.00,   7.6043,2,    25.00,-999.000,9,-999.0000,9, -999.00,9,-999.0000,9, -999.00,9,  -999.0,9,  -999.0,   0.014,3, -999.00,9, -999.00,9, 1300.70,   3.8062
33RO20100308,      A13.5,      84,          1,         12,      11027,2,20100406,       1453,   -12.4998,     0.8967,       5522,  1599.0,   3.7234,  34.8963,2,  34.8954,2, 205.7000,2,   204.7,2,   27.73,2,   24.96,2,    0.00,2,    1.68,2,   0.003,2,   0.002,2,   0.0000,2,  2195.7,2,  2316.6,2,    894.2,2,    20.00,   7.6691,2,    25.00,-999.000,9,-999.0000,9, -999.00,9,-999.0000,9, -999.00,9,  -999.0,9,  -999.0,   0.017,3, -999.00,9, -999.00,9, 1599.00,   3.5976
33RO20100308,      A13.5,      84,          1,         11,      11707,2,20100406,       1453,   -12.4998,     0.8967,       5522,  1900.0,   3.4323,  34.9246,2,  34.9239,2, 223.9000,2,   222.8,2,   28.75,2,   23.10,2,    0.00,2,    1.54,2,   0.003,2,   0.002,2,   0.0000,2,  2188.3,2,  2319.0,2,    833.1,2,    20.00,   7.6982,2,    25.00,-999.000,9,-999.0000,9, -999.00,9,-999.0000,9, -999.00,9,  -999.0,9,  -999.0,   0.024,3, -999.00,9, -999.00,9, 1900.00,   3.2827
33RO20100308,      A13.5,      84,          1,         10,      11003,2,20100406,       1453,   -12.4998,     0.8967,       5522,  2199.6,   3.1317,  34.9214,2,  34.9213,2, 229.8000,2,   229.0,2,   33.03,2,   22.76,2,    0.00,2,    1.52,2,   0.004,2,   0.002,2,   0.0000,2,  2188.6,2,  2326.0,2,    820.3,2,    20.00,   7.7092,2,    25.00,-999.000,9,-999.0000,9, -999.00,9,-999.0000,9, -999.00,9,  -999.0,9,  -999.0,   0.021,3, -999.00,9, -999.00,9, 2199.60,   2.9585
33RO20100308,      A13.5,      84,          1,          9,      11706,2,20100406,       1453,   -12.4998,     0.8967,       5522,  2499.1,   2.8875,  34.9130,2,  34.9126,2, 232.3000,2,   232.8,2,   37.45,2,   22.75,2,    0.00,2,    1.52,2,   0.004,2,   0.004,2,   0.0000,2,  2192.2,2,  2330.2,2,    811.8,2,    20.00,   7.7139,2,    25.00,-999.000,9,-999.0000,9, -999.00,9,-999.0000,9, -999.00,9,  -999.0,9,  -999.0,   0.019,3, -999.00,9, -999.00,9, 2499.10,   2.6898
33RO20100308,      A13.5,      84,          1,          8,      11033,2,20100406,       1453,   -12.4998,     0.8967,       5522,  2801.3,   2.6969,  34.9057,2,  34.9038,2, 233.2000,2,   232.3,2,   41.87,2,   23.03,2,    0.00,2,    1.54,2,   0.003,2,   0.002,2,   0.0000,2,  2197.7,2,  2337.3,2,    812.7,2,    20.00,   7.7129,2,    25.00,-999.000,9,-999.0000,9, -999.00,9,-999.0000,9, -999.00,9,  -999.0,9,  -999.0,   0.013,3, -999.00,9, -999.00,9, 2801.30,   2.4730
33RO20100308,      A13.5,      84,          1,          7,      11705,2,20100406,       1453,   -12.4998,     0.8967,       5522,  3199.1,   2.5045,  34.8968,2,  34.8962,2, 228.9000,2,   228.5,2,   48.07,6,   23.49,6,    0.00,6,    1.58,2,   0.003,2,   0.002,2,   0.0000,2,  2207.7,2,  2344.9,2,    824.5,2,    20.00,   7.7091,2,    25.00,-999.000,9,-999.0000,9, -999.00,9,-999.0000,9, -999.00,9,  -999.0,9,  -999.0,   0.008,3, -999.00,9, -999.00,9, 3199.10,   2.2441
33RO20100308,      A13.5,      84,          1,          6,      11029,2,20100406,       1453,   -12.4998,     0.8967,       5522,  3599.6,   2.3659,  34.8902,2,  34.8887,2, 228.8000,2,   228.6,2,   51.99,6,   23.65,6,    0.00,6,    1.57,6,   0.003,2,   0.002,2,   0.0000,2,  2214.4,2,  2356.4,2,    812.0,2,    20.00,   7.7144,2,    25.00,-999.000,9,-999.0000,9, -999.00,9,-999.0000,9, -999.00,9,  -999.0,9,  -999.0,   0.009,3, -999.00,9, -999.00,9, 3599.60,   2.0661
33RO20100308,      A13.5,      84,          1,          5,      11704,4,20100406,       1453,   -12.4998,     0.8967,       5522,  3999.6,   2.3452,  34.8872,4,  34.5839,4, 231.5000,4,    58.2,4,   24.98,4,   41.15,4,    0.00,4,    2.67,4,   0.068,4,   0.040,4,   0.0000,2,  -999.0,9,  -999.0,9,   -999.0,9,  -999.00,-999.0000,9,  -999.00,-999.000,9,-999.0000,9, -999.00,9,-999.0000,9, -999.00,9,  -999.0,9,  -999.0,   0.105,3, -999.00,9, -999.00,9, 3999.60,   2.0013
33RO20100308,      A13.5,      84,          1,          4,      11030,2,20100406,       1453,   -12.4998,     0.8967,       5522,  4400.2,   2.3601,  34.8848,2,  34.8839,2, 231.8000,2,   232.5,6,   52.59,6,   23.46,6,    0.00,6,    1.56,6,   0.005,2,   0.005,2,   0.0000,2,  2213.5,2,  2356.5,2,    802.8,2,    20.00,   7.7189,2,    25.00,-999.000,9,-999.0000,9, -999.00,9,-999.0000,9, -999.00,9,  -999.0,9,  -999.0,   0.021,3, -999.00,9, -999.00,9, 4400.20,   1.9691
33RO20100308,      A13.5,      84,          1,          3,      11703,2,20100406,       1453,   -12.4998,     0.8967,       5522,  4800.6,   2.3821,  34.8817,2,  34.8807,2, 233.9000,2,   233.9,2,   52.86,6,   23.43,6,    0.00,6,    1.57,6,   0.003,2,   0.002,3,   0.0000,2,  2213.2,2,  2352.9,2,    800.8,6,    20.00,   7.7195,2,    25.00,-999.000,9,-999.0000,9, -999.00,9,-999.0000,9, -999.00,9,  -999.0,9,  -999.0,   0.028,3, -999.00,9, -999.00,9, 4800.60,   1.9417
33RO20100308,      A13.5,      84,          1,          2,      11702,2,20100406,       1453,   -12.4998,     0.8967,       5522,  5201.0,   2.4082,  34.8780,2,  34.8768,2, 236.1000,2,   235.7,2,   53.10,6,   23.34,6,    0.00,6,    1.56,6,   0.007,2,   0.006,2,   0.0000,2,  2212.7,2,  2353.3,2,    798.8,2,    20.00,   7.7188,2,    25.00,-999.000,9,-999.0000,9, -999.00,9,-999.0000,9, -999.00,9,  -999.0,9,  -999.0,   0.057,3, -999.00,9, -999.00,9, 5201.00,   1.9162
33RO20100308,      A13.5,      84,          1,          1,      11701,2,20100406,       1453,   -12.4998,     0.8967,       5522,  5611.2,   2.4529,  34.8760,2,  34.8759,2, 236.8000,2,   236.4,2,   53.25,2,   23.35,2,    0.00,2,    1.56,2,   0.012,2,   0.007,2,   0.0000,2,  2211.3,6,  2350.6,2,    799.6,2,    20.00,   7.7199,2,    25.00,-999.000,9,-999.0000,9, -999.00,9,-999.0000,9, -999.00,9,  -999.0,9,  -999.0,   0.082,3, -999.00,9, -999.00,9, 5611.20,   1.9053