BOTTLE,20130404CCHSIOCBG
EXPOCODE,SECT_ID,STNNBR,CASTNO,SAMPNO,BTLNBR,BTLNBR_FLAG_W,DATE,TIME,LATITUDE,LONGITUDE,DEPTH,CTDPRS,CTDTMP,CTDSAL,CTDSAL_FLAG_W,SALNTY,SALNTY_FLAG_W,CTDOXY,CTDOXY_FLAG_W,OXYGEN,OXYGEN_FLAG_W,SILCAT,SILCAT_FLAG_W,NITRAT,NITRAT_FLAG_W,NITRIT,NITRIT_FLAG_W,PHSPHT,PHSPHT_FLAG_W,CFC-11,CFC-11_FLAG_W,CFC-12,CFC-12_FLAG_W,SF6,SF6_FLAG_W,TCARBN,TCARBN_FLAG_W,ALKALI,ALKALI_FLAG_W,FCO2,FCO2_FLAG_W,FCO2TMP,PH_TOT,PH_TOT_FLAG_W,PH_TMP,TRITUM,TRITUM_FLAG_W,HELIUM,HELIUM_FLAG_W,DELHE3,DELHE3_FLAG_W,REFTMP,REFTMP_FLAG_W,DELC13,DELC13_FLAG_W,DELC14,DELC14_FLAG_W,C14ERR,CCL4,CCL4_FLAG_W,DOC,DOC_FLAG_W,TDN,TDN_FLAG_W,CTDRAW,THETA
,,,,,,,,,,,METERS,DBAR,ITS-90,PSS-78,,PSS-78,,UMOL/KG,,UMOL/KG,,UMOL/KG,,UMOL/KG,,UMOL/KG,,UMOL/KG,,PMOL/KG,,PMOL/KG,,FMOL/KG,,UMOL/KG,,UMOL/KG,,UATM,,DEG C,,,DEG C,TU,,NMOL/KG,,PERCNT,,DEG C,,/MILLE,,/MILLE,,/MILLE,PMOL/KG,,UMOL/KG,,UMOL/KG,,DBAR,DEG C
33RO20100308,      A13.5,     117,          1,         24,      11714,2,20100415,       0300,     1.6672,       -3.0,       5119,     5.3,  30.3188,  34.6098,2,  34.6130,2, 191.2000,2,   191.9,2,    0.60,6,    0.18,6,    0.00,6,    0.01,6,   1.437,2,   0.923,2,   0.9640,2,  1928.3,6,  2271.9,2,    253.4,2,    20.00,   8.1292,2,    25.00,-999.000,9,-999.0000,9, -999.00,9,  30.3193,2, -999.00,9,  -999.0,9,  -999.0,   1.741,3,   73.77,2,    5.15,2,    5.30,  30.3175
33RO20100308,      A13.5,     117,          1,         23,      11716,2,20100415,       0300,     1.6672,       -3.0,       5119,    69.9,  17.3437,  35.8282,2,  35.8212,2, 122.5000,2,   122.0,2,    4.08,2,   15.31,2,    0.20,2,    1.06,2,   2.178,2,   1.239,2,   0.8230,2,  2169.7,2,  2345.6,6,    650.3,2,    20.00,   7.8001,2,    25.00,-999.000,9,-999.0000,9, -999.00,9,  17.3476,2, -999.00,9,  -999.0,9,  -999.0,   0.414,3,   52.15,2,   18.56,2,   69.90,  17.3320
33RO20100308,      A13.5,     117,          1,         22,      11022,2,20100415,       0300,     1.6672,       -3.0,       5119,    99.3,  16.1090,  35.7030,2,  35.6971,2, 118.0000,2,   117.1,2,    5.78,2,   17.46,2,    0.03,2,    1.19,2,   2.178,2,   1.237,2,   0.7070,2,  2176.1,2,  2340.5,2,    705.1,2,    20.00,   7.7691,2,    25.00,-999.000,9,-999.0000,9, -999.00,9,  16.1076,2, -999.00,9,  -999.0,9,  -999.0,   0.362,3,   50.40,2,   19.69,2,   99.30,  16.0932
33RO20100308,      A13.5,     117,          1,         21,      11010,2,20100415,       0300,     1.6672,       -3.0,       5119,   149.9,  15.0957,  35.5613,2,  35.5554,2,  87.4000,2,    87.7,2,    7.48,2,   21.99,2,    0.01,2,    1.44,2,   2.015,2,   1.118,2,   0.6050,2,  2197.0,2,  2330.0,2,    849.1,2,    20.00,   7.6947,2,    25.00,-999.000,9,-999.0000,9, -999.00,9,  15.0972,2, -999.00,9,  -999.0,9,  -999.0,   0.235,3,   48.38,2,   24.76,2,  149.90,  15.0728
33RO20100308,      A13.5,     117,          1,         20,      11715,2,20100415,       0300,     1.6672,       -3.0,       5119,   199.1,  13.7918,  35.3870,2,  35.3839,2,  76.4000,2,    78.4,2,    8.81,2,   24.82,2,    0.01,2,    1.60,2,   1.852,6,   1.014,6,   0.4520,6,  2206.2,6,  2323.0,2,    954.1,2,    20.00,   7.6468,2,    25.00,-999.000,9,-999.0000,9, -999.00,9,  13.7829,2, -999.00,9,  -999.0,9,  -999.0,   0.231,3,   45.14,2,   27.90,2,  199.10,  13.7632
33RO20100308,      A13.5,     117,          1,         19,      11007,2,20100415,       0300,     1.6672,       -3.0,       5119,   249.5,  11.7408,  35.1386,3,  35.1250,2,  86.7000,2,    87.4,2,   10.95,2,   27.49,2,    0.00,2,    1.75,2,   1.676,2,   0.891,2,   0.3530,2,  2209.2,2,  2307.9,2,   1043.8,2,    20.00,   7.6110,2,    25.00,-999.000,9,-999.0000,9, -999.00,9,  11.7340,2, -999.00,9,  -999.0,9,  -999.0,   0.363,3,   42.67,2,   31.90,2,  249.50,  11.7086
33RO20100308,      A13.5,     117,          1,         18,      11710,2,20100415,       0300,     1.6672,       -3.0,       5119,   299.8,  10.3180,  34.9703,2,  34.9677,2,  85.2000,2,    84.9,2,   13.01,2,   30.23,2,    0.00,2,    1.91,2,   1.424,2,   0.749,2,   0.2670,2,  2217.2,2,  2305.4,2,   1153.6,2,    20.00,   7.5708,2,    25.00,-999.000,9,-999.0000,9, -999.00,9,  10.3603,2, -999.00,9,  -999.0,9,  -999.0,   0.377,3,   42.27,2,   32.61,2,  299.80,  10.2823
33RO20100308,      A13.5,     117,          1,         17,      11025,2,20100415,       0300,     1.6672,       -3.0,       5119,   399.3,   9.1600,  34.8466,2,  34.8456,2,  80.2000,2,    80.7,2,   15.52,2,   33.09,2,    0.00,2,    2.08,2,   1.055,2,   0.547,2,   0.1920,2,  2224.4,2,  2298.3,2,   1274.9,2,    20.00,   7.5316,2,    25.00,-999.000,9,-999.0000,9, -999.00,9,   9.1754,2, -999.00,9,  -999.0,9,  -999.0,   0.358,3,   40.57,2,   34.43,2,  399.30,   9.1157
33RO20100308,      A13.5,     117,          1,         16,      11709,2,20100415,       0300,     1.6672,       -3.0,       5119,   498.4,   7.0976,  34.6435,2,  34.6423,2, 108.9000,2,   108.2,2,   20.62,2,   34.53,2,    0.00,2,    2.24,2,   0.648,2,   0.331,2,   0.0930,2,  2220.2,2,  2293.4,2,   1270.0,2,    20.00,   7.5310,2,    25.00,-999.000,9,-999.0000,9, -999.00,9,   7.1013,2, -999.00,9,  -999.0,9,  -999.0,   0.476,3,   38.96,2,   36.49,2,  498.40,   7.0498
33RO20100308,      A13.5,     117,          1,         15,      11006,2,20100415,       0300,     1.6672,       -3.0,       5119,   599.5,   5.9569,  34.5620,2,  34.5605,2, 119.8000,2,   118.9,6,   25.02,2,   35.60,2,    0.00,2,    2.37,2,   0.300,2,   0.153,2,   0.0000,2,  2222.3,2,  2292.3,2,   1287.3,2,    20.00,   7.5272,2,    25.00,-999.000,9,-999.0000,9, -999.00,9,   5.9570,2, -999.00,9,  -999.0,9,  -999.0,   0.369,3,   37.91,2,   38.12,2,  599.50,   5.9042
33RO20100308,      A13.5,     117,          1,         14,      11708,2,20100415,       0300,     1.6672,       -3.0,       5119,   800.2,   4.8652,  34.5357,2,  34.5352,2, 147.0000,2,   147.2,2,   29.88,2,   34.27,2,    0.00,2,    2.32,2,   0.224,2,   0.112,2,   0.0000,2,  2218.3,2,  2301.5,2,   1189.2,2,    20.00,   7.5587,2,    25.00,-999.000,9,-999.0000,9, -999.00,9,   4.8647,2, -999.00,9,  -999.0,9,  -999.0,   0.388,3,   37.84,2,   36.11,2,  800.20,   4.8005
33RO20100308,      A13.5,     117,          1,         13,      11031,2,20100415,       0300,     1.6672,       -3.0,       5119,  1000.1,   4.5636,  34.6282,2,  34.6288,2, 153.1000,2,   153.4,2,   30.57,2,   33.03,2,    0.00,2,    2.24,2,   0.048,2,   0.026,2,   0.0000,2,  2217.8,2,  -999.0,9,   1139.6,2,    20.00,   7.5753,2,    25.00,-999.000,9,-999.0000,9, -999.00,9,   4.5634,2, -999.00,9,  -999.0,9,  -999.0,   0.139,3,   38.73,2,   34.57,2, 1000.10,   4.4834
33RO20100308,      A13.5,     117,          1,         12,      11027,2,20100415,       0300,     1.6672,       -3.0,       5119,  1198.8,   4.5263,  34.7764,2,  34.7787,2, 169.0000,2,   169.9,2,   27.16,2,   29.58,2,    0.00,2,    2.00,2,-999.000,9,-999.000,9,-999.0000,9,  2208.2,2,  2311.6,2,   1031.7,2,    20.00,   7.6143,2,    25.00,-999.000,9,-999.0000,9, -999.00,9,   4.5256,2, -999.00,9,  -999.0,9,  -999.0,-999.000,9,   39.24,2,   31.55,2, 1198.80,   4.4285
33RO20100308,      A13.5,     117,          1,         11,      11707,2,20100415,       0300,     1.6672,       -3.0,       5119,  1399.0,   4.3590,  34.9461,2,  34.9454,2, 216.9000,2,   216.7,6,   19.41,2,   22.92,2,    0.00,2,    1.52,2,   0.190,2,   0.097,2,   0.0000,2,  2181.4,2,  2314.1,2,    836.9,2,    20.00,   7.6969,2,    25.00,-999.000,9,-999.0000,9, -999.00,9,   4.3591,2, -999.00,9,  -999.0,9,  -999.0,   0.462,3,   39.91,2,   23.82,2, 1399.00,   4.2442
33RO20100308,      A13.5,     117,          1,         10,      11003,2,20100415,       0300,     1.6672,       -3.0,       5119,  1699.9,   3.9623,  34.9673,2,  34.9670,2, 232.9000,2,   233.8,2,   19.46,6,   21.16,6,    0.00,6,    1.40,6,   0.093,2,   0.051,2,   0.0000,2,  2173.1,2,  2315.7,6,    789.6,2,    20.00,   7.7194,2,    25.00,-999.000,9,-999.0000,9, -999.00,9,   3.9631,2, -999.00,9,  -999.0,9,  -999.0,   0.321,3,   38.83,2,   22.49,2, 1699.90,   3.8241
33RO20100308,      A13.5,     117,          1,          9,      11706,2,20100415,       0300,     1.6672,       -3.0,       5119,  1999.3,   3.5664,  34.9641,2,  34.9639,2, 243.8000,2,   244.2,2,   21.77,6,   20.40,6,    0.00,6,    1.35,6,   0.072,2,   0.039,2,   0.0000,2,  2170.9,2,  2320.5,2,    763.8,2,    20.00,   7.7323,2,    25.00,-999.000,9,-999.0000,9, -999.00,9,   3.5656,2, -999.00,9,  -999.0,9,  -999.0,   0.287,3,   39.52,2,   21.84,2, 1999.30,   3.4054
33RO20100308,      A13.5,     117,          1,          8,      11033,2,20100415,       0300,     1.6672,       -3.0,       5119,  2398.3,   3.0589,  34.9381,2,  34.9381,2, 241.5000,2,   241.8,2,   30.48,6,   21.22,6,    0.00,6,    1.42,6,-999.000,9,-999.000,9,-999.0000,9,  2180.0,2,  2323.4,2,    777.6,2,    20.00,   7.7289,2,    25.00,-999.000,9,-999.0000,9, -999.00,9,   3.0599,2, -999.00,9,  -999.0,9,  -999.0,-999.000,9,   39.22,2,   23.22,2, 2398.30,   2.8678
33RO20100308,      A13.5,     117,          1,          7,      11705,2,20100415,       0300,     1.6672,       -3.0,       5119,  2799.2,   2.7309,  34.9170,2,  34.9165,2, 239.2000,2,   239.9,2,   37.84,6,   21.94,6,    0.00,6,    1.47,6,-999.000,9,-999.000,9,-999.0000,9,  2187.9,2,  2334.1,2,    788.5,2,    20.00,   7.7249,2,    25.00,-999.000,9,-999.0000,9, -999.00,9,   2.7310,2, -999.00,9,  -999.0,9,  -999.0,-999.000,9,   39.45,2,   23.69,2, 2799.20,   2.5065
33RO20100308,      A13.5,     117,          1,          6,      11029,2,20100415,       0300,     1.6672,       -3.0,       5119,  3199.0,   2.5507,  34.9043,2,  34.9042,2, 239.7000,2,   240.8,2,   41.67,6,   22.16,6,    0.00,6,    1.49,6,-999.000,9,-999.000,9,-999.0000,9,  2192.0,2,  2339.1,2,    783.8,2,    20.00,   7.7253,2,    25.00,-999.000,9,-999.0000,9, -999.00,9,   2.5503,2, -999.00,9,  -999.0,9,  -999.0,-999.000,9,   39.62,2,   23.43,2, 3199.00,   2.2892
33RO20100308,      A13.5,     117,          1,          5,      11704,2,20100415,       0300,     1.6672,       -3.0,       5119,  3599.6,   2.4348,  34.8947,2,  34.8938,2, 241.3000,2,   242.4,2,   44.10,6,   22.18,6,    0.00,6,    1.49,6,-999.000,9,-999.000,9,-999.0000,9,  2195.4,2,  2339.6,2,    783.4,2,    20.00,   7.7246,2,    25.00,-999.000,9,-999.0000,9, -999.00,9,   2.4347,2, -999.00,9,  -999.0,9,  -999.0,-999.000,9,   39.61,2,   23.65,2, 3599.60,   2.1332
33RO20100308,      A13.5,     117,          1,          4,      11030,2,20100415,       0300,     1.6672,       -3.0,       5119,  3999.8,   2.3559,  34.8867,2,  34.8862,2, 239.4000,2,   239.2,2,   47.97,6,   22.57,6,    0.00,6,    1.52,6,-999.000,9,-999.000,9,-999.0000,9,  2201.4,2,  2347.0,6,    792.9,2,    20.00,   7.7214,2,    25.00,-999.000,9,-999.0000,9, -999.00,9,   2.3553,2, -999.00,9,  -999.0,9,  -999.0,-999.000,9,   39.81,2,   24.39,2, 3999.80,   2.0117
33RO20100308,      A13.5,     117,          1,          3,      11703,2,20100415,       0300,     1.6672,       -3.0,       5119,  4400.8,   2.2541,  34.8737,2,  34.8725,2, 240.8000,2,   241.9,2,   51.08,6,   22.83,6,    0.00,6,    1.54,6,-999.000,9,-999.000,9,-999.0000,9,  2203.5,2,  2345.1,2,    797.9,2,    20.00,   7.7197,2,    25.00,-999.000,9,-999.0000,9, -999.00,9,   2.2538,2, -999.00,9,  -999.0,9,  -999.0,-999.000,9,   39.57,2,   24.31,2, 4400.80,   1.8663
33RO20100308,      A13.5,     117,          1,          2,      11702,2,20100415,       0300,     1.6672,       -3.0,       5119,  4800.4,   2.2017,  34.8643,2,  34.8629,2, 240.9000,2,   241.9,2,   54.45,6,   23.20,6,    0.00,6,    1.57,6,-999.000,9,-999.000,9,-999.0000,9,  2206.1,2,  2357.1,2,    804.0,2,    20.00,   7.7169,2,    25.00,-999.000,9,-999.0000,9, -999.00,9,   2.2015,2, -999.00,9,  -999.0,9,  -999.0,-999.000,9,   39.81,2,   24.34,2, 4800.40,   1.7673
33RO20100308,      A13.5,     117,          1,          1,      11701,2,20100415,       0300,     1.6672,       -3.0,       5119,  5185.3,   2.1932,  34.8575,2,  34.8584,2, 239.5000,2,   238.2,2,   57.18,6,   23.52,6,    0.00,6,    1.59,6,-999.000,9,-999.000,9,-999.0000,9,  2212.2,6,  2352.2,2,    809.1,2,    20.00,   7.7151,2,    25.00,-999.000,9,-999.0000,9, -999.00,9,   2.1929,2, -999.00,9,  -999.0,9,  -999.0,-999.000,9,   39.88,2,   24.93,2, 5185.30,   1.7108