BOTTLE,20130404CCHSIOCBG
EXPOCODE,SECT_ID,STNNBR,CASTNO,SAMPNO,BTLNBR,BTLNBR_FLAG_W,DATE,TIME,LATITUDE,LONGITUDE,DEPTH,CTDPRS,CTDTMP,CTDSAL,CTDSAL_FLAG_W,SALNTY,SALNTY_FLAG_W,CTDOXY,CTDOXY_FLAG_W,OXYGEN,OXYGEN_FLAG_W,SILCAT,SILCAT_FLAG_W,NITRAT,NITRAT_FLAG_W,NITRIT,NITRIT_FLAG_W,PHSPHT,PHSPHT_FLAG_W,CFC-11,CFC-11_FLAG_W,CFC-12,CFC-12_FLAG_W,SF6,SF6_FLAG_W,TCARBN,TCARBN_FLAG_W,ALKALI,ALKALI_FLAG_W,FCO2,FCO2_FLAG_W,FCO2TMP,PH_TOT,PH_TOT_FLAG_W,PH_TMP,TRITUM,TRITUM_FLAG_W,HELIUM,HELIUM_FLAG_W,DELHE3,DELHE3_FLAG_W,REFTMP,REFTMP_FLAG_W,DELC13,DELC13_FLAG_W,DELC14,DELC14_FLAG_W,C14ERR,CCL4,CCL4_FLAG_W,DOC,DOC_FLAG_W,TDN,TDN_FLAG_W,CTDRAW,THETA
,,,,,,,,,,,METERS,DBAR,ITS-90,PSS-78,,PSS-78,,UMOL/KG,,UMOL/KG,,UMOL/KG,,UMOL/KG,,UMOL/KG,,UMOL/KG,,PMOL/KG,,PMOL/KG,,FMOL/KG,,UMOL/KG,,UMOL/KG,,UATM,,DEG C,,,DEG C,TU,,NMOL/KG,,PERCNT,,DEG C,,/MILLE,,/MILLE,,/MILLE,PMOL/KG,,UMOL/KG,,UMOL/KG,,DBAR,DEG C
33RO20100308,      A13.5,      89,          1,         24,      11714,2,20100408,       0035,    -9.9998,     0.7782,       5684,     5.6,  27.8450,  36.5411,2,  36.5421,2, 198.2000,2,   197.9,2,    0.84,6,    0.02,6,    0.00,6,    0.12,6,   1.541,2,   0.978,2,   1.0170,2,  2063.8,2,  2403.4,6,    310.4,2,    20.00,   8.0774,2,    25.00,-999.000,1,-999.0000,1, -999.00,9,-999.0000,9,    1.59,2,    61.5,2,     4.5,   1.849,3,   76.42,2,    4.85,2,    5.60,  27.8437
33RO20100308,      A13.5,      89,          1,         23,      11716,2,20100408,       0035,    -9.9998,     0.7782,       5684,    29.8,  27.8465,  36.5396,2,  36.5431,2, 198.8000,2,   197.4,2,    0.86,2,    0.05,2,    0.00,2,    0.13,2,   1.539,2,   0.983,2,   0.9850,2,  2063.6,2,  2400.0,2,    307.6,2,    20.00,   8.0783,2,    25.00,-999.000,1,-999.0000,1, -999.00,9,-999.0000,9,    1.57,2,    54.6,2,     3.1,   1.854,3,   74.08,2,    5.32,2,   29.80,  27.8395
33RO20100308,      A13.5,      89,          1,         22,      11022,2,20100408,       0035,    -9.9998,     0.7782,       5684,    60.4,  22.1166,  36.0799,2,  36.0654,2, 225.4000,2,   221.3,2,    1.94,2,    0.96,2,    0.02,2,    0.28,2,   1.972,2,   1.184,2,   0.9280,2,  2081.0,2,  2369.3,6,    368.8,2,    20.00,   8.0101,2,    25.00,-999.000,1,-999.0000,1, -999.00,9,-999.0000,9,    1.51,2,    42.3,2,     3.0,   0.809,3,   71.05,2,    5.41,2,   60.40,  22.1046
33RO20100308,      A13.5,      89,          1,         21,      11010,2,20100408,       0035,    -9.9998,     0.7782,       5684,   100.5,  14.4515,  35.4606,2,  35.4595,2,  85.3000,2,    83.3,2,    7.10,2,   23.13,2,    0.04,2,    1.50,2,   2.030,2,   1.125,2,   0.5600,2,  2202.7,2,  2324.3,2,    910.7,2,    20.00,   7.6636,2,    25.00,-999.000,1,-999.0000,1, -999.00,9,-999.0000,9,    0.41,2,    52.6,2,     3.8,   0.337,3,   49.32,2,   27.13,2,  100.50,  14.4367
33RO20100308,      A13.5,      89,          1,         20,      11715,2,20100408,       0035,    -9.9998,     0.7782,       5684,   196.5,  11.9613,  35.1546,2,  35.1532,2,  84.0000,2,    83.6,2,   10.12,6,   26.72,6,    0.01,6,    1.71,6,   1.751,2,   0.939,2,   0.4650,2,  2208.2,2,  2310.2,2,   1039.7,2,    20.00,   7.6102,2,    25.00,-999.000,1,-999.0000,1, -999.00,9,-999.0000,9,    0.46,2,    28.6,2,     2.9,   0.324,3,   44.66,2,   29.65,2,  196.50,  11.9357
33RO20100308,      A13.5,      89,          1,         19,      11007,2,20100408,       0035,    -9.9998,     0.7782,       5684,   301.2,  10.5822,  34.9898,2,  34.9901,2,  61.8000,2,    61.3,2,   12.94,6,   31.58,6,    0.00,6,    1.99,6,   1.219,2,   0.644,2,   0.2640,2,  2228.8,2,  2303.7,2,   1273.2,2,    20.00,   7.5283,2,    25.00,-999.000,1,-999.0000,1, -999.00,9,-999.0000,9,    0.35,2,     4.3,2,     2.7,   0.263,3,   43.02,2,   33.62,2,  301.20,  10.5458
33RO20100308,      A13.5,      89,          1,         18,      11710,2,20100408,       0035,    -9.9998,     0.7782,       5684,   401.2,   9.1412,  34.8410,2,  34.8422,2,  35.4000,2,    36.9,2,   16.68,2,   37.07,2,    0.00,2,    2.34,2,   0.464,2,   0.245,2,   0.0000,2,  2252.2,2,  2295.3,2,   1604.5,2,    20.00,   7.4390,2,    25.00,-999.000,1,-999.0000,1, -999.00,9,-999.0000,9,    0.24,2,   -32.8,2,     2.6,   0.145,3,   41.44,2,   38.84,2,  401.20,   9.0968
33RO20100308,      A13.5,      89,          1,         17,      11025,2,20100408,       0035,    -9.9998,     0.7782,       5684,   551.1,   6.9240,  34.6355,2,  34.6351,2,  54.1000,2,    51.1,2,   22.64,2,   40.35,2,    0.00,2,    2.61,2,   0.106,2,   0.060,2,   0.0000,2,  2257.0,2,  2290.2,2,   1721.8,2,    20.00,   7.4103,2,    25.00,-999.000,1,-999.0000,1, -999.00,9,-999.0000,9,    0.31,2,   -80.1,2,     2.5,   0.124,3,   40.11,2,   42.34,2,  551.10,   6.8717
33RO20100308,      A13.5,      89,          1,         16,      11709,2,20100408,       0035,    -9.9998,     0.7782,       5684,   699.9,   5.4553,  34.5287,2,  34.5295,2,  90.7000,2,    91.8,2,   28.07,2,   39.15,2,    0.00,2,    2.58,2,   0.041,2,   0.024,2,   0.0000,2,  2244.5,2,  2293.1,2,   1521.7,2,    20.00,   7.4580,2,    25.00,-999.000,1,-999.0000,1, -999.00,9,-999.0000,9,    0.51,2,  -102.9,2,     2.6,   0.115,3,   39.35,2,   41.25,2,  699.90,   5.3960
33RO20100308,      A13.5,      89,          1,         15,      11006,2,20100408,       0035,    -9.9998,     0.7782,       5684,   850.8,   4.6459,  34.5138,2,  34.5147,2, 127.0000,2,   127.3,2,   32.30,2,   36.61,2,    0.00,2,    2.46,2,   0.027,2,   0.015,2,   0.0000,2,  2233.1,2,  2296.7,6,   1326.8,2,    20.00,   7.5133,2,    25.00,-999.000,1,-999.0000,1, -999.00,9,-999.0000,9,    0.62,2,  -116.0,2,     2.9,   0.110,3,   39.34,2,   37.87,2,  850.80,   4.5782
33RO20100308,      A13.5,      89,          1,         14,      11708,2,20100408,       0035,    -9.9998,     0.7782,       5684,  1000.2,   4.2546,  34.5809,2,  34.5801,2, 144.3000,2,   144.3,2,   33.81,2,   34.55,2,    0.00,2,    2.34,2,   0.010,2,   0.007,2,   0.0000,2,  2229.2,2,  2304.0,2,   1235.0,2,    20.00,   7.5440,2,    25.00,-999.000,1,-999.0000,1, -999.00,9,-999.0000,9,    0.73,2,  -118.4,2,     2.4,   0.056,3,   38.97,2,   35.98,2, 1000.20,   4.1768
33RO20100308,      A13.5,      89,          1,         13,      11031,2,20100408,       0035,    -9.9998,     0.7782,       5684,  1200.6,   4.0798,  34.7274,2,  34.7271,2, 169.6000,4,   184.5,4,   30.96,2,   30.41,2,    0.00,2,    2.06,2,   0.005,2,   0.003,2,   0.0000,2,  2215.0,2,  2312.0,2,   1074.5,2,    20.00,   7.6004,2,    25.00,-999.000,1,-999.0000,1, -999.00,9,-999.0000,9,    0.93,2,  -112.6,2,     2.4,   0.038,3,   39.30,2,   31.46,2, 1200.60,   3.9860
33RO20100308,      A13.5,      89,          1,         12,      11027,2,20100408,       0035,    -9.9998,     0.7782,       5684,  1501.2,   3.9105,  34.8859,2,  34.8858,2, 210.0000,2,   208.8,2,   25.15,2,   24.68,2,    0.00,2,    1.65,2,   0.016,2,   0.010,2,   0.0000,2,  2191.1,2,  2316.0,2,    882.7,2,    20.00,   7.6772,2,    25.00,-999.000,1,-999.0000,1, -999.00,9,-999.0000,9,    0.91,2,   -94.3,2,     2.6,   0.105,3,   39.36,2,   25.76,2, 1501.20,   3.7914
33RO20100308,      A13.5,      89,          1,         11,      11707,2,20100408,       0035,    -9.9998,     0.7782,       5684,  1800.3,   3.6420,  34.9267,2,  34.9270,2, 226.5000,2,   225.1,2,   25.29,2,   22.73,2,    0.00,2,    1.51,2,   0.012,2,   0.007,2,   0.0170,3,  2184.0,2,  2315.0,2,    826.6,2,    20.00,   7.7036,2,    25.00,-999.000,1,-999.0000,1, -999.00,9,-999.0000,9,    0.99,2,   -98.2,2,     2.4,   0.095,3,   39.18,2,   23.85,2, 1800.30,   3.4987
33RO20100308,      A13.5,      89,          1,         10,      11003,2,20100408,       0035,    -9.9998,     0.7782,       5684,  2100.5,   3.3040,  34.9285,2,  34.9281,2, 233.5000,2,   233.4,2,   29.29,2,   22.22,2,    0.00,2,    1.48,2,   0.008,2,   0.005,2,   0.0000,2,  2186.0,2,  2323.9,2,    808.5,2,    20.00,   7.7144,2,    25.00,-999.000,1,-999.0000,1, -999.00,9,-999.0000,9,    1.03,2,  -108.3,2,     2.8,   0.069,3,   38.90,2,   23.63,2, 2100.50,   3.1375
33RO20100308,      A13.5,      89,          1,          9,      11706,2,20100408,       0035,    -9.9998,     0.7782,       5684,  2400.6,   3.0326,  34.9242,2,  34.9249,2, 230.2000,2,   230.5,2,   34.48,2,   22.54,2,    0.00,2,    1.51,2,   0.004,2,   0.002,2,   0.0000,2,  2193.4,2,  2329.3,2,    818.5,2,    20.00,   7.7102,2,    25.00,-999.000,9,-999.0000,1, -999.00,9,-999.0000,9,    0.96,2,  -114.8,2,     3.0,   0.016,3,   39.71,2,   24.48,2, 2400.60,   2.8418
33RO20100308,      A13.5,      89,          1,          8,      11033,2,20100408,       0035,    -9.9998,     0.7782,       5684,  2800.8,   2.7528,  34.9113,2,  34.9118,2, 232.9000,2,   233.6,2,   40.08,2,   22.67,2,    0.00,2,    1.52,2,   0.002,2,   0.001,2,   0.0000,2,  2198.4,2,  2336.4,2,    804.0,2,    20.00,   7.7131,2,    25.00,-999.000,1,-999.0000,1, -999.00,9,-999.0000,9,    0.94,2,  -116.8,2,     2.6,   0.016,3,   39.73,2,   24.49,2, 2800.80,   2.5278
33RO20100308,      A13.5,      89,          1,          7,      11705,2,20100408,       0035,    -9.9998,     0.7782,       5684,  3202.0,   2.5789,  34.9020,2,  34.9022,2, 233.1000,2,   233.3,2,   44.57,6,   22.95,6,    0.00,6,    1.54,6,   0.003,2,   0.004,2,   0.0000,2,  2202.5,2,  2340.8,2,    804.9,2,    20.00,   7.7144,2,    25.00,-999.000,9,-999.0000,1, -999.00,9,-999.0000,9,    0.93,2,  -118.8,2,     3.1,   0.016,3,   40.06,2,   24.35,2, 3202.00,   2.3164
33RO20100308,      A13.5,      89,          1,          6,      11029,2,20100408,       0035,    -9.9998,     0.7782,       5684,  3602.1,   2.4088,  34.8918,2,  34.8910,2, 230.7000,2,   230.6,2,   50.34,6,   23.42,6,    0.00,6,    1.57,6,   0.002,2,   0.003,2,   0.0000,2,  2212.6,2,  2348.4,2,    811.1,2,    20.00,   7.7128,2,    25.00,-999.000,1,-999.0000,1, -999.00,9,-999.0000,9,    0.85,2,  -124.9,2,     2.4,   0.025,3,   39.34,2,   25.49,2, 3602.10,   2.1076
33RO20100308,      A13.5,      89,          1,          5,      11704,2,20100408,       0035,    -9.9998,     0.7782,       5684,  4000.4,   2.3564,  34.8883,2,  34.8873,2, 230.9000,2,   230.6,2,   52.02,6,   23.49,6,    0.00,6,    1.57,6,   0.003,2,   0.002,2,   0.0000,2,  2214.4,2,  2354.5,2,    804.3,2,    20.00,   7.7174,2,    25.00,-999.000,9,-999.0000,1, -999.00,9,-999.0000,9,    0.90,2,  -123.2,2,     2.8,   0.013,3,   39.08,2,   24.76,2, 4000.40,   2.0121
33RO20100308,      A13.5,      89,          1,          4,      11030,2,20100408,       0035,    -9.9998,     0.7782,       5684,  4399.6,   2.3568,  34.8840,2,  34.8834,2, 232.1000,2,   232.4,2,   52.30,2,   23.40,2,    0.00,2,    1.56,2,   0.005,2,   0.005,2,   0.0000,2,  2213.5,2,  2356.4,2,    794.5,2,    20.00,   7.7187,2,    25.00,-999.000,1,-999.0000,1, -999.00,9,-999.0000,9,    0.92,2,  -127.7,2,     2.4,   0.032,3,   39.44,2,   25.08,2, 4399.60,   1.9659
33RO20100308,      A13.5,      89,          1,          3,      11703,2,20100408,       0035,    -9.9998,     0.7782,       5684,  4800.3,   2.3764,  34.8806,2,  34.8805,2, 233.7000,2,   234.0,2,   52.62,2,   23.35,2,    0.00,2,    1.56,2,   0.006,2,   0.005,2,   0.0000,2,  2213.3,2,  2356.6,2,    799.4,2,    20.00,   7.7186,2,    25.00,-999.000,9,-999.0000,1, -999.00,9,-999.0000,9,    0.84,2,  -124.6,2,     2.4,   0.050,3,   40.07,2,   24.60,2, 4800.30,   1.9362
33RO20100308,      A13.5,      89,          1,          2,      11702,2,20100408,       0035,    -9.9998,     0.7782,       5684,  5199.5,   2.4055,  34.8777,2,  34.8773,2, 236.5000,2,   237.6,2,   52.56,6,   23.26,6,    0.00,6,    1.55,6,   0.010,2,   0.007,2,   0.0000,2,  2210.8,2,  2351.5,2,    801.5,2,    20.00,   7.7180,2,    25.00,-999.000,1,-999.0000,1, -999.00,9,-999.0000,9,    0.88,2,  -120.3,2,     2.5,   0.077,3,   40.55,2,   25.21,2, 5199.50,   1.9138
33RO20100308,      A13.5,      89,          1,          1,      11701,2,20100408,       0035,    -9.9998,     0.7782,       5684,  5770.2,   2.4674,  34.8753,2,  34.8755,2, 239.9000,2,   235.5,2,   52.51,6,   23.18,6,    0.00,6,    1.55,6,   0.015,2,   0.009,2,   0.0000,2,  2209.7,2,  2351.6,2,    801.6,2,    20.00,   7.7175,2,    25.00,-999.000,1,-999.0000,1, -999.00,9,-999.0000,9,    0.89,2,  -118.3,2,     2.5,   0.107,3,   40.47,2,   24.97,2, 5770.20,   1.8979