BOTTLE,20130404CCHSIOCBG
EXPOCODE,SECT_ID,STNNBR,CASTNO,SAMPNO,BTLNBR,BTLNBR_FLAG_W,DATE,TIME,LATITUDE,LONGITUDE,DEPTH,CTDPRS,CTDTMP,CTDSAL,CTDSAL_FLAG_W,SALNTY,SALNTY_FLAG_W,CTDOXY,CTDOXY_FLAG_W,OXYGEN,OXYGEN_FLAG_W,SILCAT,SILCAT_FLAG_W,NITRAT,NITRAT_FLAG_W,NITRIT,NITRIT_FLAG_W,PHSPHT,PHSPHT_FLAG_W,CFC-11,CFC-11_FLAG_W,CFC-12,CFC-12_FLAG_W,SF6,SF6_FLAG_W,TCARBN,TCARBN_FLAG_W,ALKALI,ALKALI_FLAG_W,FCO2,FCO2_FLAG_W,FCO2TMP,PH_TOT,PH_TOT_FLAG_W,PH_TMP,TRITUM,TRITUM_FLAG_W,HELIUM,HELIUM_FLAG_W,DELHE3,DELHE3_FLAG_W,REFTMP,REFTMP_FLAG_W,DELC13,DELC13_FLAG_W,DELC14,DELC14_FLAG_W,C14ERR,CCL4,CCL4_FLAG_W,DOC,DOC_FLAG_W,TDN,TDN_FLAG_W,CTDRAW,THETA
,,,,,,,,,,,METERS,DBAR,ITS-90,PSS-78,,PSS-78,,UMOL/KG,,UMOL/KG,,UMOL/KG,,UMOL/KG,,UMOL/KG,,UMOL/KG,,PMOL/KG,,PMOL/KG,,FMOL/KG,,UMOL/KG,,UMOL/KG,,UATM,,DEG C,,,DEG C,TU,,NMOL/KG,,PERCNT,,DEG C,,/MILLE,,/MILLE,,/MILLE,PMOL/KG,,UMOL/KG,,UMOL/KG,,DBAR,DEG C
33RO20100308,      A13.5,      97,          1,         24,      11714,2,20100410,       0754,    -5.9998,    -2.4077,       4782,     5.1,  28.8968,  35.7461,2,  35.7483,2, 194.5000,2,   195.6,2,    0.74,6,    0.09,6,    0.00,6,    0.08,6,   1.509,2,   0.962,2,   1.0370,2,  2018.7,2,  -999.0,9,    297.0,2,    20.00,   8.0874,2,    25.00,-999.000,1,-999.0000,1, -999.00,9,-999.0000,9, -999.00,9,  -999.0,9,  -999.0,   1.783,3,   74.76,2,    4.98,2,    5.10,  28.8956
33RO20100308,      A13.5,      97,          1,         23,      11716,2,20100410,       0754,    -5.9998,    -2.4077,       4782,    75.0,  19.2904,  35.8525,2,  35.8419,2, 144.1000,2,   143.8,2,    3.81,2,   10.77,2,    0.36,2,    0.86,2,   2.016,2,   1.171,2,   0.8160,2,  2145.6,2,  2351.9,2,    562.0,2,    20.00,   7.8562,2,    25.00,-999.000,1,-999.0000,1, -999.00,9,-999.0000,9, -999.00,9,  -999.0,9,  -999.0,   0.600,3,   57.15,2,   15.60,2,   75.00,  19.2768
33RO20100308,      A13.5,      97,          1,         22,      11022,2,20100410,       0754,    -5.9998,    -2.4077,       4782,   124.1,  13.0314,  35.2940,2,  35.2879,2,  97.7000,2,    99.1,2,    8.48,2,   23.34,2,    0.01,2,    1.53,2,   2.007,2,   1.092,2,   0.5670,2,  2195.8,2,  2320.2,6,    905.8,2,    20.00,   7.6655,2,    25.00,-999.000,1,-999.0000,1, -999.00,9,-999.0000,9, -999.00,9,  -999.0,9,  -999.0,   0.394,3,   46.82,2,   27.26,2,  124.10,  13.0143
33RO20100308,      A13.5,      97,          1,         21,      11010,2,20100410,       0754,    -5.9998,    -2.4077,       4782,   150.4,  12.3858,  35.2073,2,  35.2064,2, 105.8000,2,   103.8,2,    9.11,2,   23.82,2,    0.01,2,    1.56,2,   1.990,2,   1.071,2,   0.5630,2,  2195.5,2,  2312.9,2,    916.7,2,    20.00,   7.6597,2,    25.00,-999.000,1,-999.0000,1, -999.00,9,-999.0000,9, -999.00,9,  -999.0,9,  -999.0,   0.417,3,   45.03,2,   27.54,2,  150.40,  12.3658
33RO20100308,      A13.5,      97,          1,         20,      11715,2,20100410,       0754,    -5.9998,    -2.4077,       4782,   199.4,  11.3652,  35.0790,2,  35.0769,2,  86.6000,2,    84.6,2,   11.22,2,   27.76,2,    0.01,2,    1.78,2,   1.655,2,   0.873,2,   0.3760,2,  2211.3,2,  2309.4,2,   1076.5,2,    20.00,   7.5958,2,    25.00,-999.000,1,-999.0000,1, -999.00,9,-999.0000,9, -999.00,9,  -999.0,9,  -999.0,   0.353,3,   43.61,2,   30.70,2,  199.40,  11.3401
33RO20100308,      A13.5,      97,          1,         19,      11007,2,20100410,       0754,    -5.9998,    -2.4077,       4782,   249.8,  10.6005,  34.9871,2,  34.9880,2,  81.8000,2,    81.8,2,   12.52,2,   29.55,2,    0.00,2,    1.88,2,   1.470,2,   0.770,2,   0.2490,2,  2217.3,2,  2304.4,2,   1147.8,2,    20.00,   7.5697,2,    25.00,-999.000,1,-999.0000,1, -999.00,9,-999.0000,9, -999.00,9,  -999.0,9,  -999.0,   0.378,3,   42.91,2,   32.12,2,  249.80,  10.5703
33RO20100308,      A13.5,      97,          1,         18,      11710,2,20100410,       0754,    -5.9998,    -2.4077,       4782,   350.3,   9.2976,  34.8476,2,  34.8509,2,  61.2000,2,    62.3,2,   15.91,2,   34.43,2,    0.00,2,    2.16,2,   0.911,2,   0.467,2,   0.1450,2,  2236.5,2,  2299.1,2,   1393.1,2,    20.00,   7.4942,2,    25.00,-999.000,1,-999.0000,1, -999.00,9,-999.0000,9, -999.00,9,  -999.0,9,  -999.0,   0.308,3,   42.01,2,   35.62,2,  350.30,   9.2585
33RO20100308,      A13.5,      97,          1,         17,      11025,2,20100410,       0754,    -5.9998,    -2.4077,       4782,   449.7,   7.9096,  34.7184,2,  34.7204,2,  54.2000,2,    55.3,2,   19.74,2,   37.98,2,    0.00,2,    2.41,2,   0.354,2,   0.184,2,   0.0220,2,  2247.2,2,  2294.5,2,   1578.5,2,    20.00,   7.4454,2,    25.00,-999.000,1,-999.0000,1, -999.00,9,-999.0000,9, -999.00,9,  -999.0,9,  -999.0,   0.220,3,   41.03,2,   39.96,2,  449.70,   7.8638
33RO20100308,      A13.5,      97,          1,         16,      11709,2,20100410,       0754,    -5.9998,    -2.4077,       4782,   550.2,   6.7035,  34.6106,2,  34.6140,2,  79.8000,2,    77.1,2,   23.12,2,   38.34,2,    0.00,2,    2.48,2,   0.231,2,   0.120,2,   0.0000,2,  2243.5,2,  2293.0,2,   1512.8,2,    20.00,   7.4581,2,    25.00,-999.000,1,-999.0000,1, -999.00,9,-999.0000,9, -999.00,9,  -999.0,9,  -999.0,   0.255,3,   40.44,2,   39.96,2,  550.20,   6.6522
33RO20100308,      A13.5,      97,          1,         15,      11006,2,20100410,       0754,    -5.9998,    -2.4077,       4782,   650.0,   5.7052,  34.5319,2,  34.5309,2, 105.4000,2,   105.6,2,   26.59,2,   37.49,2,    0.00,2,    2.47,2,-999.000,5,-999.000,5,-999.0000,5,  2235.1,2,  2293.3,2,   1397.2,2,    20.00,   7.4908,2,    25.00,-999.000,1,-999.0000,1, -999.00,9,-999.0000,9, -999.00,9,  -999.0,9,  -999.0,-999.000,5,   39.23,2,   39.24,2,  650.00,   5.6492
33RO20100308,      A13.5,      97,          1,         14,      11708,2,20100410,       0754,    -5.9998,    -2.4077,       4782,   800.1,   4.7944,  34.5055,2,  34.5057,2, 129.8000,2,   129.0,2,   31.59,2,   36.41,2,    0.00,2,    2.44,2,   0.072,2,   0.038,2,   0.0000,2,  2228.9,2,  2299.2,2,   1307.2,2,    20.00,   7.5180,2,    25.00,-999.000,1,-999.0000,1, -999.00,9,-999.0000,9, -999.00,9,  -999.0,9,  -999.0,   0.200,3,   39.07,2,   38.40,2,  800.10,   4.7301
33RO20100308,      A13.5,      97,          1,         13,      11031,2,20100410,       0754,    -5.9998,    -2.4077,       4782,  1000.2,   4.3472,  34.5968,2,  34.5973,2, 149.0000,2,   148.9,2,   33.23,2,   33.83,2,    0.00,2,    2.30,2,   0.022,2,   0.012,2,   0.0000,2,  2223.7,2,  2304.7,2,   1189.4,2,    20.00,   7.5558,2,    25.00,-999.000,1,-999.0000,1, -999.00,9,-999.0000,9, -999.00,9,  -999.0,9,  -999.0,   0.095,3,   39.23,2,   35.93,2, 1000.20,   4.2687
33RO20100308,      A13.5,      97,          1,         12,      11027,2,20100410,       0754,    -5.9998,    -2.4077,       4782,  1200.1,   4.2470,  34.7460,2,  34.7467,2, 171.4000,2,   171.8,2,   29.51,2,   29.90,2,    0.00,2,    2.02,2,   0.016,2,   0.009,2,   0.0000,2,  2210.3,2,  2311.7,2,   1047.2,2,    20.00,   7.6076,2,    25.00,-999.000,1,-999.0000,1, -999.00,9,-999.0000,9, -999.00,9,  -999.0,9,  -999.0,   0.083,3,   39.14,2,   31.97,2, 1200.10,   4.1516
33RO20100308,      A13.5,      97,          1,         11,      11707,2,20100410,       0754,    -5.9998,    -2.4077,       4782,  1399.4,   4.1625,  34.8598,2,  34.8594,2, 197.3000,2,   195.7,2,   25.35,2,   26.13,2,    0.00,2,    1.75,2,   0.030,2,   0.016,2,   0.0490,3,  2195.9,2,  2313.1,2,    930.0,2,    20.00,   7.6572,2,    25.00,-999.000,1,-999.0000,1, -999.00,9,-999.0000,9, -999.00,9,  -999.0,9,  -999.0,   0.141,3,   40.01,2,   28.13,2, 1399.40,   4.0499
33RO20100308,      A13.5,      97,          1,         10,      11003,2,20100410,       0754,    -5.9998,    -2.4077,       4782,  1598.8,   3.9781,  34.9299,2,  34.9300,2, 220.1000,2,   220.3,2,   22.60,2,   22.98,2,    0.00,2,    1.53,2,   0.043,2,   0.023,2,   0.0000,2,  2183.3,2,  2314.5,2,    840.6,2,    20.00,   7.6966,2,    25.00,-999.000,1,-999.0000,1, -999.00,9,-999.0000,9, -999.00,9,  -999.0,9,  -999.0,   0.206,3,   40.11,2,   24.86,2, 1598.80,   3.8492
33RO20100308,      A13.5,      97,          1,          9,      11706,2,20100410,       0754,    -5.9998,    -2.4077,       4782,  1799.9,   3.6104,  34.9429,2,  34.9437,2, 232.1000,2,   231.9,2,   24.75,2,   21.85,2,    0.00,2,    1.46,2,   0.022,2,   0.013,2,   0.0000,2,  2179.0,6,  2318.5,2,    805.4,2,    20.00,   7.7150,2,    25.00,-999.000,1,-999.0000,1, -999.00,9,-999.0000,9, -999.00,9,  -999.0,9,  -999.0,   0.156,3,   39.05,2,   23.69,2, 1799.90,   3.4675
33RO20100308,      A13.5,      97,          1,          8,      11033,2,20100410,       0754,    -5.9998,    -2.4077,       4782,  1998.4,   3.4671,  34.9404,2,  34.9411,2, 233.8000,2,   233.8,2,   26.72,2,   21.78,2,    0.00,2,    1.45,2,   0.016,2,   0.010,2,   0.0000,2,  2180.3,2,  2322.3,2,    792.1,2,    20.00,   7.7189,2,    25.00,-999.000,1,-999.0000,1, -999.00,9,-999.0000,9, -999.00,9,  -999.0,9,  -999.0,   0.130,3,   39.27,2,   23.41,2, 1998.40,   3.3077
33RO20100308,      A13.5,      97,          1,          7,      11705,2,20100410,       0754,    -5.9998,    -2.4077,       4782,  2399.6,   2.9583,  34.9224,2,  34.9233,2, 236.4000,2,   237.2,2,   35.13,6,   21.99,6,    0.00,6,    1.47,2,   0.007,2,   0.005,2,   0.0000,2,  2187.2,2,  2330.1,2,    788.1,2,    20.00,   7.7204,2,    25.00,-999.000,1,-999.0000,1, -999.00,9,-999.0000,9, -999.00,9,  -999.0,9,  -999.0,   0.065,3,   38.90,2,   23.89,2, 2399.60,   2.7689
33RO20100308,      A13.5,      97,          1,          6,      11029,2,20100410,       0754,    -5.9998,    -2.4077,       4782,  2799.1,   2.6761,  34.9062,2,  34.9080,2, 236.6000,2,   237.3,2,   41.49,6,   22.45,6,    0.00,6,    1.50,6,   0.002,2,   0.002,2,   0.0000,2,  2193.4,2,  2337.9,2,    791.7,2,    20.00,   7.7199,2,    25.00,-999.000,1,-999.0000,1, -999.00,9,-999.0000,9, -999.00,9,  -999.0,9,  -999.0,   0.036,3,   39.14,2,   24.84,2, 2799.10,   2.4529
33RO20100308,      A13.5,      97,          1,          5,      11704,2,20100410,       0754,    -5.9998,    -2.4077,       4782,  3200.5,   2.5460,  34.8987,2,  34.9004,2, 236.2000,2,   236.8,2,   44.83,6,   22.67,6,    0.00,6,    1.52,6,   0.003,6,   0.003,6,   0.0000,2,  2197.0,2,  2340.9,2,    794.5,2,    20.00,   7.7193,2,    25.00,-999.000,1,-999.0000,1, -999.00,9,-999.0000,9, -999.00,9,  -999.0,9,  -999.0,   0.031,3,   39.86,2,   24.15,2, 3200.50,   2.2845
33RO20100308,      A13.5,      97,          1,          4,      11030,2,20100410,       0754,    -5.9998,    -2.4077,       4782,  3600.0,   2.3781,  34.8881,2,  34.8881,2, 237.9000,2,   237.2,2,   48.68,6,   22.82,6,    0.00,6,    1.53,6,   0.008,2,   0.005,2,   0.0000,2,  2201.6,2,  2346.3,2,    795.6,2,    20.00,   7.7183,2,    25.00,-999.000,1,-999.0000,1, -999.00,9,-999.0000,9, -999.00,9,  -999.0,9,  -999.0,   0.066,3,   39.65,2,   24.64,2, 3600.00,   2.0779
33RO20100308,      A13.5,      97,          1,          3,      11703,2,20100410,       0754,    -5.9998,    -2.4077,       4782,  4000.5,   2.3277,  34.8812,2,  34.8812,2, 237.5000,2,   238.4,2,   50.85,6,   22.97,6,    0.00,6,    1.54,6,   0.013,2,   0.008,2,   0.0000,2,  2204.7,6,  2347.6,2,    798.8,2,    20.00,   7.7177,2,    25.00,-999.000,1,-999.0000,1, -999.00,9,-999.0000,9, -999.00,9,  -999.0,9,  -999.0,   0.101,3,   38.97,2,   24.06,2, 4000.50,   1.9842
33RO20100308,      A13.5,      97,          1,          2,      11702,2,20100410,       0754,    -5.9998,    -2.4077,       4782,  4400.4,   2.2958,  34.8750,3,  34.8822,4, 239.5000,2,   240.5,2,   52.32,6,   23.03,6,    0.00,6,    1.55,6,   0.024,2,   0.014,2,   0.0000,2,  2204.5,2,  2349.0,2,    801.5,2,    20.00,   7.7180,2,    25.00,-999.000,1,-999.0000,1, -999.00,9,-999.0000,9, -999.00,9,  -999.0,9,  -999.0,   0.148,3,   39.22,2,   24.20,2, 4400.40,   1.9068
33RO20100308,      A13.5,      97,          1,          1,      11701,2,20100410,       0754,    -5.9998,    -2.4077,       4782,  4834.7,   2.3025,  34.8710,2,  34.8728,2, 241.8000,2,   240.0,2,   53.19,6,   23.10,6,    0.00,6,    1.55,6,   0.032,2,   0.018,2,   0.0000,2,  2205.9,2,  2349.2,2,    803.0,2,    20.00,   7.7169,2,    25.00,-999.000,1,-999.0000,1, -999.00,9,-999.0000,9, -999.00,9,  -999.0,9,  -999.0,   0.187,3,   40.02,2,   24.31,2, 4834.70,   1.8605