BOTTLE,20130404CCHSIOCBG
EXPOCODE,SECT_ID,STNNBR,CASTNO,SAMPNO,BTLNBR,BTLNBR_FLAG_W,DATE,TIME,LATITUDE,LONGITUDE,DEPTH,CTDPRS,CTDTMP,CTDSAL,CTDSAL_FLAG_W,SALNTY,SALNTY_FLAG_W,CTDOXY,CTDOXY_FLAG_W,OXYGEN,OXYGEN_FLAG_W,SILCAT,SILCAT_FLAG_W,NITRAT,NITRAT_FLAG_W,NITRIT,NITRIT_FLAG_W,PHSPHT,PHSPHT_FLAG_W,CFC-11,CFC-11_FLAG_W,CFC-12,CFC-12_FLAG_W,SF6,SF6_FLAG_W,TCARBN,TCARBN_FLAG_W,ALKALI,ALKALI_FLAG_W,FCO2,FCO2_FLAG_W,FCO2TMP,PH_TOT,PH_TOT_FLAG_W,PH_TMP,TRITUM,TRITUM_FLAG_W,HELIUM,HELIUM_FLAG_W,DELHE3,DELHE3_FLAG_W,REFTMP,REFTMP_FLAG_W,DELC13,DELC13_FLAG_W,DELC14,DELC14_FLAG_W,C14ERR,CCL4,CCL4_FLAG_W,DOC,DOC_FLAG_W,TDN,TDN_FLAG_W,CTDRAW,THETA
,,,,,,,,,,,METERS,DBAR,ITS-90,PSS-78,,PSS-78,,UMOL/KG,,UMOL/KG,,UMOL/KG,,UMOL/KG,,UMOL/KG,,UMOL/KG,,PMOL/KG,,PMOL/KG,,FMOL/KG,,UMOL/KG,,UMOL/KG,,UATM,,DEG C,,,DEG C,TU,,NMOL/KG,,PERCNT,,DEG C,,/MILLE,,/MILLE,,/MILLE,PMOL/KG,,UMOL/KG,,UMOL/KG,,DBAR,DEG C
33RO20100308,      A13.5,      58,          1,         24,      11714,2,20100328,       2005,   -25.5002,     1.5928,       5002,     5.8,  23.1985,  36.1554,2,  36.1552,2, 214.3000,2,   214.7,2,    1.58,2,    0.00,2,    0.00,2,    0.17,2,   1.912,2,   1.168,2,   1.1690,2,  2076.9,6,  2374.1,6,    358.8,2,    20.00,   8.0240,2,    25.00,-999.000,9,-999.0000,9, -999.00,9,  23.1954,2, -999.00,9,  -999.0,9,  -999.0,   2.599,3, -999.00,9, -999.00,9,    5.80,  23.1973
33RO20100308,      A13.5,      58,          1,         23,      11713,2,20100328,       2005,   -25.5002,     1.5928,       5002,    50.1,  23.1553,  36.1478,4,  36.0646,2, 215.5000,2,   223.4,2,    1.59,2,    0.01,2,    0.00,2,    0.18,2,-999.000,9,-999.000,9,-999.0000,9,  2074.1,2,  2369.3,2,    360.4,2,    20.00,   8.0215,2,    25.00,-999.000,9,-999.0000,9, -999.00,9,  23.1763,2, -999.00,9,  -999.0,9,  -999.0,-999.000,9, -999.00,9, -999.00,9,   50.10,  23.1450
33RO20100308,      A13.5,      58,          1,         22,      11712,2,20100328,       2005,   -25.5002,     1.5928,       5002,   100.0,  18.0378,  35.7607,2,  35.7473,2, 231.3000,2,   230.1,2,    1.74,2,    0.47,2,    0.08,2,    0.29,2,   2.438,2,   1.444,2,   1.3690,2,  2082.9,2,  2347.0,2,    407.0,2,    20.00,   7.9756,2,    25.00,-999.000,9,-999.0000,9, -999.00,9,  18.0411,2, -999.00,9,  -999.0,9,  -999.0,   1.911,3, -999.00,9, -999.00,9,  100.00,  18.0206
33RO20100308,      A13.5,      58,          1,         21,      11010,2,20100328,       2005,   -25.5002,     1.5928,       5002,   150.7,  16.2335,  35.5787,2,  35.5624,2, 216.4000,2,   213.6,2,    2.74,2,    4.67,2,    0.02,2,    0.46,2,-999.000,9,-999.000,9,-999.0000,9,  2094.1,2,  2331.5,2,    460.0,2,    20.00,   7.9274,2,    25.00,-999.000,9,-999.0000,9, -999.00,9,  16.2396,2, -999.00,9,  -999.0,9,  -999.0,-999.000,9, -999.00,9, -999.00,9,  150.70,  16.2093
33RO20100308,      A13.5,      58,          1,         20,      11715,2,20100328,       2005,   -25.5002,     1.5928,       5002,   200.6,  14.6478,  35.3628,2,  35.3552,2, 198.9000,2,   198.5,6,    3.59,2,    8.83,2,    0.01,2,    0.71,2,   2.793,6,   1.604,6,   1.2690,6,  2115.2,2,  2320.4,2,    545.2,2,    20.00,   7.8653,2,    25.00,-999.000,9,-999.0000,9, -999.00,9,  14.6499,2, -999.00,9,  -999.0,9,  -999.0,   0.859,3, -999.00,9, -999.00,9,  200.60,  14.6178
33RO20100308,      A13.5,      58,          1,         19,      11007,2,20100328,       2005,   -25.5002,     1.5928,       5002,   325.4,  11.9226,  35.0275,2,  35.0264,2, 207.1000,2,   205.1,2,    4.99,2,   13.24,2,    0.00,2,    0.98,2,-999.000,9,-999.000,9,-999.0000,9,  2129.2,2,  2304.0,2,    628.5,2,    20.00,   7.8085,2,    25.00,-999.000,9,-999.0000,9, -999.00,9,  11.9209,2, -999.00,9,  -999.0,9,  -999.0,-999.000,9, -999.00,9, -999.00,9,  325.40,  11.8801
33RO20100308,      A13.5,      58,          1,         18,      11710,2,20100328,       2005,   -25.5002,     1.5928,       5002,   451.0,   9.5456,  34.7453,2,  34.7446,2, 185.0000,2,   183.6,2,    9.98,2,   21.01,2,    0.00,2,    1.48,2,   3.015,2,   1.575,2,   0.8570,2,  2157.9,2,  2296.0,2,    804.0,6,    20.00,   7.7096,2,    25.00,-999.000,9,-999.0000,9, -999.00,9,   9.5450,2, -999.00,9,  -999.0,9,  -999.0,   1.542,3, -999.00,9, -999.00,9,  451.00,   9.4942
33RO20100308,      A13.5,      58,          1,         17,      11025,2,20100328,       2005,   -25.5002,     1.5928,       5002,   599.6,   6.5491,  34.4668,2,  34.4655,2, 181.3000,2,   180.8,2,   18.10,2,   28.70,2,    0.00,2,    1.97,2,-999.000,9,-999.000,9,-999.0000,9,  2183.6,2,  2288.0,2,    991.8,2,    20.00,   7.6263,2,    25.00,-999.000,9,-999.0000,9, -999.00,9,   6.5465,2, -999.00,9,  -999.0,9,  -999.0,-999.000,9, -999.00,9, -999.00,9,  599.60,   6.4938
33RO20100308,      A13.5,      58,          1,         16,      11709,2,20100328,       2005,   -25.5002,     1.5928,       5002,   799.8,   4.5061,  34.3887,2,  34.3892,2, 181.4000,2,   181.3,2,   31.47,2,   32.72,2,    0.00,2,    2.25,2,   1.431,2,   0.686,2,   0.2590,2,  2205.4,2,  2294.2,2,   1090.4,2,    20.00,   7.5892,2,    25.00,-999.000,9,-999.0000,9, -999.00,9,   4.5133,2, -999.00,9,  -999.0,9,  -999.0,   1.975,3, -999.00,9, -999.00,9,  799.80,   4.4438
33RO20100308,      A13.5,      58,          1,         15,      11006,2,20100328,       2005,   -25.5002,     1.5928,       5002,  1000.0,   3.6679,  34.4840,2,  34.4865,2, 173.8000,2,   174.9,2,   43.38,2,   33.33,2,    0.00,2,    2.30,2,   0.387,2,   0.187,2,   0.0980,2,  2219.7,6,  2311.1,2,   1117.9,2,    20.00,   7.5794,2,    25.00,-999.000,9,-999.0000,9, -999.00,9,   3.6671,2, -999.00,9,  -999.0,9,  -999.0,   0.764,3, -999.00,9, -999.00,9, 1000.00,   3.5948
33RO20100308,      A13.5,      58,          1,         14,      11708,2,20100328,       2005,   -25.5002,     1.5928,       5002,  1200.4,   3.4858,  34.6140,2,  34.6140,2, 179.6000,2,   180.3,2,   43.94,2,   31.43,2,    0.00,2,    2.17,2,-999.000,5,-999.000,5,-999.0000,5,  2217.6,2,  2314.7,6,   1062.0,2,    20.00,   7.6022,2,    25.00,-999.000,9,-999.0000,9, -999.00,9,   3.4856,2, -999.00,9,  -999.0,9,  -999.0,-999.000,5, -999.00,9, -999.00,9, 1200.40,   3.3977
33RO20100308,      A13.5,      58,          1,         13,      11031,2,20100328,       2005,   -25.5002,     1.5928,       5002,  1399.6,   3.4473,  34.7351,2,  34.7346,2, 194.1000,2,   194.9,2,   39.80,2,   28.58,2,    0.00,2,    1.96,2,-999.000,9,-999.000,9,-999.0000,9,  2207.7,2,  2316.3,2,    972.7,2,    20.00,   7.6374,2,    25.00,-999.000,9,-999.0000,9, -999.00,9,   3.4474,2, -999.00,9,  -999.0,9,  -999.0,-999.000,9, -999.00,9, -999.00,9, 1399.60,   3.3426
33RO20100308,      A13.5,      58,          1,         12,      11027,2,20100328,       2005,   -25.5002,     1.5928,       5002,  1600.7,   3.3487,  34.8118,2,  34.8111,2, 209.2000,2,   209.2,2,   37.13,2,   26.30,2,    0.00,2,    1.79,2,   0.012,2,   0.008,2,   0.0460,2,  2197.4,2,  2317.1,2,    905.6,2,    20.00,   7.6685,2,    25.00,-999.000,9,-999.0000,9, -999.00,9,   3.3484,2, -999.00,9,  -999.0,9,  -999.0,   0.076,3, -999.00,9, -999.00,9, 1600.70,   3.2275
33RO20100308,      A13.5,      58,          1,         11,      11707,2,20100328,       2005,   -25.5002,     1.5928,       5002,  1799.9,   3.1569,  34.8450,2,  34.8456,2, 221.1000,2,   220.6,2,   37.86,2,   24.90,2,    0.00,2,    1.70,2,-999.000,9,-999.000,9,-999.0000,9,  2192.3,2,  2318.9,2,    858.4,2,    20.00,   7.6885,2,    25.00,-999.000,9,-999.0000,9, -999.00,9,   3.1569,2, -999.00,9,  -999.0,9,  -999.0,-999.000,9, -999.00,9, -999.00,9, 1799.90,   3.0204
33RO20100308,      A13.5,      58,          1,         10,      11003,2,20100328,       2005,   -25.5002,     1.5928,       5002,  2000.6,   2.9298,  34.8591,2,  34.8595,2, 227.8000,2,   227.7,2,   40.43,2,   24.21,2,    0.00,2,    1.65,2,-999.000,9,-999.000,9,-999.0000,9,  2191.6,2,  2326.3,2,    838.1,2,    20.00,   7.6977,2,    25.00,-999.000,9,-999.0000,9, -999.00,9,   2.9293,2, -999.00,9,  -999.0,9,  -999.0,-999.000,9, -999.00,9, -999.00,9, 2000.60,   2.7785
33RO20100308,      A13.5,      58,          1,          9,      11706,2,20100328,       2005,   -25.5002,     1.5928,       5002,  2299.9,   2.6697,  34.8630,2,  34.8627,2, 232.6000,2,   232.4,2,   44.78,2,   24.12,2,    0.00,2,    1.65,2,   0.005,2,   0.004,2,   0.0200,2,  2193.1,2,  2327.9,2,    826.4,2,    20.00,   7.7042,2,    25.00,-999.000,9,-999.0000,9, -999.00,9,   2.6686,2, -999.00,9,  -999.0,9,  -999.0,   0.044,3, -999.00,9, -999.00,9, 2299.90,   2.4950
33RO20100308,      A13.5,      58,          1,          8,      11033,2,20100328,       2005,   -25.5002,     1.5928,       5002,  2600.1,   2.5194,  34.8665,2,  34.8664,2, 235.1000,2,   235.0,2,   47.38,2,   23.80,2,    0.00,2,    1.62,2,-999.000,9,-999.000,9,-999.0000,9,  2195.1,2,  2331.6,2,    818.6,2,    20.00,   7.7096,2,    25.00,-999.000,9,-999.0000,9, -999.00,9,   2.5193,2, -999.00,9,  -999.0,9,  -999.0,-999.000,9, -999.00,9, -999.00,9, 2600.10,   2.3190
33RO20100308,      A13.5,      58,          1,          7,      11705,2,20100328,       2005,   -25.5002,     1.5928,       5002,  2900.4,   2.4297,  34.8716,2,  34.8715,2, 236.5000,2,   236.4,2,   48.84,2,   23.65,2,    0.00,2,    1.61,2,-999.000,9,-999.000,9,-999.0000,9,  2197.0,2,  2335.3,2,    810.0,2,    20.00,   7.7138,2,    25.00,-999.000,9,-999.0000,9, -999.00,9,   2.4297,2, -999.00,9,  -999.0,9,  -999.0,-999.000,9, -999.00,9, -999.00,9, 2900.40,   2.2016
33RO20100308,      A13.5,      58,          1,          6,      11029,4,20100328,       2005,   -25.5002,     1.5928,       5002,  3199.7,   2.3811,  34.8763,4,  34.7319,4, 235.6000,4,   194.2,4,   39.74,4,   28.68,4,    0.00,4,    1.97,4,   0.026,4,   0.015,4,   0.0430,2,  2207.8,4,  -999.0,9,    977.3,4,    20.00,   7.6371,4,    25.00,-999.000,9,-999.0000,9, -999.00,9,   2.3806,2, -999.00,9,  -999.0,9,  -999.0,   0.106,4, -999.00,9, -999.00,9, 3199.70,   2.1235
33RO20100308,      A13.5,      58,          1,          5,      11704,2,20100328,       2005,   -25.5002,     1.5928,       5002,  3600.2,   2.3457,  34.8829,2,  34.8821,2, 232.5000,2,   232.5,6,   52.00,2,   23.67,2,    0.00,2,    1.61,2,-999.000,9,-999.000,9,-999.0000,9,  2208.8,2,  2352.8,2,    799.2,2,    20.00,   7.7194,2,    25.00,-999.000,9,-999.0000,9, -999.00,9,   2.3453,2, -999.00,9,  -999.0,9,  -999.0,-999.000,9, -999.00,9, -999.00,9, 3600.20,   2.0464
33RO20100308,      A13.5,      58,          1,          4,      11030,2,20100328,       2005,   -25.5002,     1.5928,       5002,  4000.0,   2.3561,  34.8846,2,  34.8840,2, 231.7000,2,   231.0,2,   52.86,6,   23.63,6,    0.00,6,    1.60,6,-999.000,9,-999.000,9,-999.0000,9,  2212.0,2,  2354.3,2,    802.7,6,    20.00,   7.7216,2,    25.00,-999.000,9,-999.0000,9, -999.00,9,   2.3555,2, -999.00,9,  -999.0,9,  -999.0,-999.000,9, -999.00,9, -999.00,9, 4000.00,   2.0119
33RO20100308,      A13.5,      58,          1,          3,      11703,2,20100328,       2005,   -25.5002,     1.5928,       5002,  4399.7,   2.3881,  34.8848,2,  34.8835,2, 232.9000,2,   232.0,2,   52.72,6,   23.59,6,    0.00,6,    1.59,6,   0.003,2,   0.003,2,   0.0000,2,  2212.9,2,  2358.5,3,    794.0,2,    20.00,   7.7232,2,    25.00,-999.000,9,-999.0000,9, -999.00,9,   2.3876,2, -999.00,9,  -999.0,9,  -999.0,   0.014,3, -999.00,9, -999.00,9, 4399.70,   1.9963
33RO20100308,      A13.5,      58,          1,          2,      11702,2,20100328,       2005,   -25.5002,     1.5928,       5002,  4700.3,   2.4199,  34.8847,2,  34.8842,2, 232.5000,2,   231.8,2,   52.68,6,   23.57,6,    0.00,6,    1.59,6,   0.002,2,   0.003,2,   0.0000,2,  2213.7,2,  2356.1,2,    793.8,2,    20.00,   7.7235,2,    25.00,-999.000,9,-999.0000,9, -999.00,9,   2.4192,2, -999.00,9,  -999.0,9,  -999.0,   0.014,3, -999.00,9, -999.00,9, 4700.30,   1.9906
33RO20100308,      A13.5,      58,          1,          1,      11701,2,20100328,       2005,   -25.5002,     1.5928,       5002,  5076.0,   2.4656,  34.8844,2,  34.8843,2, 232.6000,2,   231.3,2,   52.57,6,   23.54,6,    0.00,6,    1.59,6,   0.002,2,   0.003,2,   0.0000,2,  2214.6,6,  2356.2,6,    795.1,2,    20.00,   7.7241,2,    25.00,-999.000,9,-999.0000,9, -999.00,9,   2.4647,2, -999.00,9,  -999.0,9,  -999.0,   0.016,3, -999.00,9, -999.00,9, 5076.00,   1.9877