BOTTLE,20130404CCHSIOCBG
EXPOCODE,SECT_ID,STNNBR,CASTNO,SAMPNO,BTLNBR,BTLNBR_FLAG_W,DATE,TIME,LATITUDE,LONGITUDE,DEPTH,CTDPRS,CTDTMP,CTDSAL,CTDSAL_FLAG_W,SALNTY,SALNTY_FLAG_W,CTDOXY,CTDOXY_FLAG_W,OXYGEN,OXYGEN_FLAG_W,SILCAT,SILCAT_FLAG_W,NITRAT,NITRAT_FLAG_W,NITRIT,NITRIT_FLAG_W,PHSPHT,PHSPHT_FLAG_W,CFC-11,CFC-11_FLAG_W,CFC-12,CFC-12_FLAG_W,SF6,SF6_FLAG_W,TCARBN,TCARBN_FLAG_W,ALKALI,ALKALI_FLAG_W,FCO2,FCO2_FLAG_W,FCO2TMP,PH_TOT,PH_TOT_FLAG_W,PH_TMP,TRITUM,TRITUM_FLAG_W,HELIUM,HELIUM_FLAG_W,DELHE3,DELHE3_FLAG_W,REFTMP,REFTMP_FLAG_W,DELC13,DELC13_FLAG_W,DELC14,DELC14_FLAG_W,C14ERR,CCL4,CCL4_FLAG_W,DOC,DOC_FLAG_W,TDN,TDN_FLAG_W,CTDRAW,THETA
,,,,,,,,,,,METERS,DBAR,ITS-90,PSS-78,,PSS-78,,UMOL/KG,,UMOL/KG,,UMOL/KG,,UMOL/KG,,UMOL/KG,,UMOL/KG,,PMOL/KG,,PMOL/KG,,FMOL/KG,,UMOL/KG,,UMOL/KG,,UATM,,DEG C,,,DEG C,TU,,NMOL/KG,,PERCNT,,DEG C,,/MILLE,,/MILLE,,/MILLE,PMOL/KG,,UMOL/KG,,UMOL/KG,,DBAR,DEG C
33RO20100308,      A13.5,     127,          1,         24,      11714,2,20100417,       0553,      4.432,       -3.0,       1821,     4.9,  29.9199,  34.7884,2,  34.7894,2, 193.2000,2,   194.3,2,    0.90,6,    0.06,6,    0.00,6,    0.01,6,   1.447,2,   0.937,2,   1.0040,2,  1932.3,6,  2273.9,6,    249.0,2,    20.00,   8.1355,2,    25.00,-999.000,9,-999.0000,9, -999.00,9,  29.9176,2,    1.55,2,    55.4,2,     4.2,-999.000,5,   74.58,2,    4.99,2,    4.90,  29.9187
33RO20100308,      A13.5,     127,          1,         23,      11716,2,20100417,       0553,      4.432,       -3.0,       1821,    30.1,  29.2523,  34.8615,4,  35.1206,2, 196.2000,2,   200.3,2,    1.24,2,    0.23,2,    0.00,2,    0.08,2,   1.631,2,   1.026,2,   0.9790,2,  1989.2,2,  2300.6,2,    295.3,2,    20.00,   8.0808,2,    25.00,-999.000,9,-999.0000,9, -999.00,9,  29.2545,2,    1.52,2,    49.1,2,     3.0,-999.000,5,   72.45,2,    4.19,2,   30.10,  29.2450
33RO20100308,      A13.5,     127,          1,         22,      11022,2,20100417,       0553,      4.432,       -3.0,       1821,    60.2,  18.5295,  35.8761,2,  35.8620,2, 113.1000,2,   112.7,2,    4.42,2,   14.85,2,    0.12,2,    1.05,2,   2.091,2,   1.223,2,   0.7820,2,  2174.1,2,  2348.8,6,    659.8,2,    20.00,   7.7935,2,    25.00,-999.000,9,-999.0000,9, -999.00,9,  18.5310,2,    0.61,2,    53.1,2,     3.0,-999.000,5,   54.37,2,   19.00,2,   60.20,  18.5189
33RO20100308,      A13.5,     127,          1,         21,      11010,2,20100417,       0553,      4.432,       -3.0,       1821,   100.1,  16.6327,  35.7613,2,  35.7573,2, 106.5000,2,   105.9,2,    5.49,2,   18.09,2,    0.02,2,    1.22,2,   2.128,2,   1.237,2,   0.8070,2,  2184.0,2,  2341.3,2,    717.5,2,    20.00,   7.7580,2,    25.00,-999.000,9,-999.0000,9, -999.00,9,  16.6318,2,    0.52,2,    46.5,2,     3.2,-999.000,5,   51.81,2,   21.17,2,  100.10,  16.6164
33RO20100308,      A13.5,     127,          1,         20,      11715,2,20100417,       0553,      4.432,       -3.0,       1821,   149.9,  15.5785,  35.6291,2,  35.6275,2,  92.5000,2,    92.0,2,    6.91,2,   20.78,2,    0.01,2,    1.37,2,   2.054,2,   1.176,2,   0.7530,2,  2194.9,2,  2333.6,2,    805.2,2,    20.00,   7.7136,2,    25.00,-999.000,9,-999.0000,9, -999.00,9,  15.5793,2,    0.48,2,    38.0,2,     3.0,-999.000,5,   50.24,2,   23.13,2,  149.90,  15.5551
33RO20100308,      A13.5,     127,          1,         19,      11007,2,20100417,       0553,      4.432,       -3.0,       1821,   199.8,  14.3668,  35.4637,2,  35.4619,2,  73.0000,2,    73.0,2,    8.62,2,   24.49,2,    0.01,2,    1.58,2,   1.854,2,   1.046,2,   0.4840,2,  2210.5,2,  2322.7,2,    942.8,2,    20.00,   7.6497,2,    25.00,-999.000,9,-999.0000,9, -999.00,9,  14.3659,2,    0.38,2,    37.1,2,     2.8,-999.000,5,   47.61,2,   27.15,2,  199.80,  14.3373
33RO20100308,      A13.5,     127,          1,         18,      11710,2,20100417,       0553,      4.432,       -3.0,       1821,   250.1,  12.0293,  35.1844,3,  35.1640,2,  50.9000,2,    51.4,6,   12.57,2,   30.75,2,    0.00,2,    1.94,2,   1.264,2,   0.688,2,   0.2280,2,  2232.6,2,  2309.2,2,   1236.5,2,    20.00,   7.5460,2,    25.00,-999.000,9,-999.0000,9, -999.00,9,  11.9207,3,    0.29,2,    17.6,2,     2.9,-999.000,5,   45.48,2,   32.25,2,  250.10,  11.9965
33RO20100308,      A13.5,     127,          1,         17,      11025,2,20100417,       0553,      4.432,       -3.0,       1821,   299.7,  10.7055,  35.0360,2,  35.0332,2,  52.9000,2,    53.4,2,   14.00,2,   32.86,2,    0.00,2,    2.04,2,   1.074,2,   0.576,2,   0.2070,2,  2237.0,2,  2303.2,2,   1301.2,2,    20.00,   7.5205,2,    25.00,-999.000,9,-999.0000,9, -999.00,9,  10.6953,2,    0.34,2,     5.4,2,     4.2,-999.000,5,   43.50,2,   33.96,2,  299.70,  10.6690
33RO20100308,      A13.5,     127,          1,         16,      11709,2,20100417,       0553,      4.432,       -3.0,       1821,   349.8,   9.6431,  34.9132,2,  34.9082,2,  61.8000,2,    64.7,2,   15.53,2,   33.84,2,    0.01,2,    2.11,2,   0.930,2,   0.493,2,   0.1550,2,  2235.4,2,  2300.7,2,   1332.2,2,    20.00,   7.5105,2,    25.00,-999.000,9,-999.0000,9, -999.00,9,   9.6467,2,    0.40,2,    -9.9,2,     2.8,-999.000,5,   41.53,2,   36.25,2,  349.80,   9.6031
33RO20100308,      A13.5,     127,          1,         15,      11006,2,20100417,       0553,      4.432,       -3.0,       1821,   449.9,   7.9713,  34.7387,2,  34.7360,2,  77.7000,2,    78.5,2,   19.50,2,   35.66,2,    0.01,2,    2.28,2,   0.543,2,   0.284,2,   0.0890,2,  2236.1,2,  2295.3,2,   1381.6,2,    20.00,   7.4960,2,    25.00,-999.000,9,-999.0000,9, -999.00,9,   7.9736,2,    0.31,2,   -50.2,2,     3.2,-999.000,5,   40.24,2,   37.04,2,  449.90,   7.9253
33RO20100308,      A13.5,     127,          1,         14,      11708,2,20100417,       0553,      4.432,       -3.0,       1821,   549.8,   6.7352,  34.6302,2,  34.6296,2,  95.4000,2,    95.9,2,   22.89,2,   36.40,2,    0.00,2,    2.37,2,-999.000,9,-999.000,9,-999.0000,9,  2232.8,2,  2293.2,2,   1373.0,6,    20.00,   7.5015,2,    25.00,-999.000,9,-999.0000,9, -999.00,9,   6.7358,2,    0.56,2,   -73.0,2,     2.5,-999.000,9,   39.10,2,   38.86,2,  549.80,   6.6838
33RO20100308,      A13.5,     127,          1,         13,      11031,2,20100417,       0553,      4.432,       -3.0,       1821,   649.9,   5.8702,  34.5753,2,  34.5741,2, 110.3000,2,   107.8,2,   26.39,2,   36.26,2,    0.00,2,    2.41,2,-999.000,9,-999.000,9,-999.0000,9,  2231.1,2,  2293.3,2,   1332.3,2,    20.00,   7.5123,2,    25.00,-999.000,9,-999.0000,9, -999.00,9,   5.8698,2,    0.54,2,   -92.2,2,     2.5,-999.000,9,   39.78,2,   38.08,2,  649.90,   5.8133
33RO20100308,      A13.5,     127,          1,         12,      11027,2,20100417,       0553,      4.432,       -3.0,       1821,   749.7,   5.2137,  34.5578,2,  34.5572,2, 126.6000,2,   126.6,2,   29.02,2,   35.66,2,    0.00,2,    2.39,2,-999.000,9,-999.000,9,-999.0000,9,  2227.7,2,  2299.1,2,   1277.1,2,    20.00,   7.5305,2,    25.00,-999.000,9,-999.0000,9, -999.00,9,   5.2174,2,    0.64,2,  -107.0,2,     2.4,-999.000,9,   39.05,2,   36.63,2,  749.70,   5.1513
33RO20100308,      A13.5,     127,          1,         11,      11707,2,20100417,       0553,      4.432,       -3.0,       1821,   849.9,   4.8781,  34.5710,2,  34.5704,2, 135.5000,2,   136.3,2,   30.50,2,   34.81,2,    0.00,2,    2.35,2,   0.056,2,   0.029,2,   0.0000,2,  2228.0,2,  2299.5,2,   1235.9,2,    20.00,   7.5429,2,    25.00,-999.000,9,-999.0000,9, -999.00,9,   4.8783,2,    0.46,2,  -108.0,2,     2.5,-999.000,5,   40.20,2,   35.86,2,  849.90,   4.8089
33RO20100308,      A13.5,     127,          1,         10,      11003,2,20100417,       0553,      4.432,       -3.0,       1821,   950.1,   4.7336,  34.6159,2,  34.6185,2, 142.2000,2,   143.2,2,   30.57,6,   33.73,6,    0.00,6,    2.29,2,-999.000,9,-999.000,9,-999.0000,9,  2225.6,2,  2302.4,2,   1194.7,2,    20.00,   7.5569,2,    25.00,-999.000,9,-999.0000,9, -999.00,9,   4.7347,2,    0.69,2,  -108.3,2,     2.5,-999.000,9,   40.26,2,   34.87,2,  950.10,   4.6565
33RO20100308,      A13.5,     127,          1,          9,      11706,2,20100417,       0553,      4.432,       -3.0,       1821,  1050.5,   4.5661,  34.6848,2,  34.6847,2, 153.9000,2,   154.1,6,   29.83,6,   32.12,6,    0.00,6,    2.18,2,-999.000,9,-999.000,9,-999.0000,9,  2219.8,2,  2304.8,2,   1125.7,2,    20.00,   7.5799,2,    25.00,-999.000,9,-999.0000,9, -999.00,9,   4.5658,2,    0.73,2,  -111.2,2,     2.5,-999.000,9,   40.10,2,   33.24,2, 1050.50,   4.4813
33RO20100308,      A13.5,     127,          1,          8,      11033,2,20100417,       0553,      4.432,       -3.0,       1821,  1149.5,   4.5246,  34.7455,2,  34.7465,2, 163.0000,2,   163.5,2,   28.28,6,   30.46,6,    0.00,6,    2.06,6,-999.000,9,-999.000,9,-999.0000,9,  2213.4,2,  2307.1,2,   1068.2,2,    20.00,   7.6017,2,    25.00,-999.000,9,-999.0000,9, -999.00,9,   4.5247,2, -999.00,9,  -999.0,9,  -999.0,-999.000,9,   39.52,2,   31.90,2, 1149.50,   4.4313
33RO20100308,      A13.5,     127,          1,          7,      11705,2,20100417,       0553,      4.432,       -3.0,       1821,  1249.9,   4.4844,  34.8137,2,  34.8131,2, 176.5000,2,   176.7,2,   26.10,6,   28.39,6,    0.00,6,    1.91,6,   0.037,2,   0.017,2,   0.0000,2,  2206.0,2,  2309.2,6,   1001.1,2,    20.00,   7.6268,2,    25.00,-999.000,9,-999.0000,9, -999.00,9,   4.4838,2, -999.00,9,  -999.0,9,  -999.0,-999.000,5,   40.24,2,   29.75,2, 1249.90,   4.3823
33RO20100308,      A13.5,     127,          1,          6,      11029,2,20100417,       0553,      4.432,       -3.0,       1821,  1349.9,   4.4111,  34.8749,2,  34.8748,2, 192.6000,2,   192.9,2,   23.78,6,   26.18,6,    0.00,6,    1.75,6,-999.000,9,-999.000,9,-999.0000,9,  2195.4,2,  2309.7,2,    933.5,2,    20.00,   7.6565,2,    25.00,-999.000,9,-999.0000,9, -999.00,9,   4.4107,2, -999.00,9,  -999.0,9,  -999.0,-999.000,9,   39.84,2,   28.53,2, 1349.90,   4.3004
33RO20100308,      A13.5,     127,          1,          5,      11704,2,20100417,       0553,      4.432,       -3.0,       1821,  1449.6,   4.2071,  34.9271,2,  34.9275,2, 210.4000,2,   210.7,2,   22.04,6,   23.82,6,    0.00,6,    1.59,6,-999.000,9,-999.000,9,-999.0000,9,  2185.7,2,  2311.2,2,    860.9,2,    20.00,   7.6849,2,    25.00,-999.000,9,-999.0000,9, -999.00,9,   4.2097,2, -999.00,9,  -999.0,9,  -999.0,-999.000,9,   39.62,2,   25.46,2, 1449.60,   4.0893
33RO20100308,      A13.5,     127,          1,          4,      11030,2,20100417,       0553,      4.432,       -3.0,       1821,  1549.9,   4.1044,  34.9426,2,  34.9433,2, 216.9000,2,   217.5,2,   21.59,6,   23.01,6,    0.00,6,    1.53,6,-999.000,9,-999.000,9,-999.0000,9,  2182.5,2,  2311.8,2,    836.2,2,    20.00,   7.6974,2,    25.00,-999.000,9,-999.0000,9, -999.00,9,   4.1045,2, -999.00,9,  -999.0,9,  -999.0,-999.000,9,   39.97,2,   25.01,2, 1549.90,   3.9785
33RO20100308,      A13.5,     127,          1,          3,      11703,2,20100417,       0553,      4.432,       -3.0,       1821,  1649.5,   3.9852,  34.9537,2,  34.9536,2, 224.3000,2,   224.5,2,   21.41,6,   22.19,6,    0.00,6,    1.48,6,   0.025,2,   0.015,2,   0.0000,2,  2179.1,2,  2310.8,2,    810.9,2,    20.00,   7.7071,2,    25.00,-999.000,9,-999.0000,9, -999.00,9,   3.9849,2, -999.00,9,  -999.0,9,  -999.0,-999.000,5,   39.23,2,   24.14,2, 1649.50,   3.8514
33RO20100308,      A13.5,     127,          1,          1,      11701,2,20100417,       0553,      4.432,       -3.0,       1821,  1822.5,   3.7806,  34.9604,2,  34.9651,2, 232.2000,2,   232.4,2,   22.05,6,   21.39,6,    0.00,6,    1.43,6,   0.020,2,   0.013,2,   0.0000,2,  2176.8,6,  2313.4,2,   -999.0,9,  -999.00,   7.7167,2,    25.00,-999.000,9,-999.0000,9, -999.00,9,   3.7799,2, -999.00,9,  -999.0,9,  -999.0,-999.000,5,   40.05,2,   22.76,2, 1822.50,   3.6333
33RO20100308,      A13.5,     127,          1,          2,      11702,2,20100417,       0553,      4.432,       -3.0,       1821,  1822.5,   3.7806,  34.9604,2,  34.9604,2, 232.2000,2,   232.6,2,   22.08,6,   21.39,6,    0.00,6,    1.43,6,   0.019,2,   0.012,2,   0.0360,4,  -999.0,9,  2313.1,2,    790.0,2,    20.00,   7.7174,2,    25.00,-999.000,9,-999.0000,9, -999.00,9,   3.7803,2, -999.00,9,  -999.0,9,  -999.0,-999.000,5,   40.03,2,   23.22,2, 1822.50,   3.6333
33RO20100308,      A13.5,     128,          1,         24,      11714,2,20100417,       0959,      4.622,    -2.9997,       1041,     5.2,  29.6196,  34.7526,2,  34.7559,2, 193.6000,2,   194.1,2,    1.08,6,    0.06,6,    0.00,6,    0.03,6,   1.467,2,   0.943,2,   0.8570,2,  1939.9,6,  2274.4,2,    265.3,2,    20.00,   8.1221,2,    25.00,-999.000,9,-999.0000,9, -999.00,9,  29.6125,2, -999.00,9,  -999.0,9,  -999.0,-999.000,5,   73.46,2,    4.54,2,    5.20,  29.6183
33RO20100308,      A13.5,     128,          1,         23,      11716,2,20100417,       0959,      4.622,    -2.9997,       1041,    40.4,  21.5659,  35.8647,2,  35.8787,2, 188.3000,2,   181.2,2,    1.70,2,    0.60,2,    0.03,2,    0.31,2,   2.018,2,   1.206,2,   0.7660,2,  2116.0,2,  2355.8,2,    459.8,2,    20.00,   7.9333,2,    25.00,-999.000,9,-999.0000,9, -999.00,9,  21.3693,2, -999.00,9,  -999.0,9,  -999.0,-999.000,5,   59.26,2,    4.90,2,   40.40,  21.5580
33RO20100308,      A13.5,     128,          1,         22,      11022,2,20100417,       0959,      4.622,    -2.9997,       1041,    74.8,  17.6702,  35.8243,2,  35.8253,2, 115.2000,2,   113.1,2,    4.37,2,   15.54,2,    0.06,2,    1.08,2,   2.105,2,   1.227,2,   0.6980,2,  2171.2,2,  2343.5,2,    673.8,2,    20.00,   7.7874,2,    25.00,-999.000,9,-999.0000,9, -999.00,9,  17.6702,2, -999.00,9,  -999.0,9,  -999.0,-999.000,5,   51.99,2,   19.59,2,   74.80,  17.6575
33RO20100308,      A13.5,     128,          1,         21,      11010,2,20100417,       0959,      4.622,    -2.9997,       1041,   125.2,  16.4396,  35.7288,2,  35.7265,2,  99.6000,2,   101.1,2,    5.71,2,   18.46,2,    0.02,2,    1.25,2,   2.106,2,   1.215,2,   0.6990,2,  2184.9,2,  2336.3,2,    747.5,2,    20.00,   7.7468,2,    25.00,-999.000,9,-999.0000,9, -999.00,9,  16.4282,2, -999.00,9,  -999.0,9,  -999.0,-999.000,5,   47.49,2,   22.10,2,  125.20,  16.4193
33RO20100308,      A13.5,     128,          1,         20,      11715,2,20100417,       0959,      4.622,    -2.9997,       1041,   174.9,  15.4708,  35.6130,2,  35.6149,2,  91.4000,2,    91.6,2,    6.85,2,   20.66,2,    0.01,2,    1.38,2,   2.027,2,   1.158,2,   0.6570,2,  2195.1,2,  2332.2,2,    823.2,2,    20.00,   7.7112,2,    25.00,-999.000,9,-999.0000,9, -999.00,9,  15.4954,2, -999.00,9,  -999.0,9,  -999.0,-999.000,5,   45.93,2,   24.32,2,  174.90,  15.4436
33RO20100308,      A13.5,     128,          1,         19,      11007,2,20100417,       0959,      4.622,    -2.9997,       1041,   224.7,  13.2566,  35.3286,2,  35.3229,2,  58.9000,2,    58.7,2,   10.47,2,   27.46,2,    0.00,2,    1.77,2,   1.545,2,   0.858,2,   0.3380,2,  2224.1,2,  2314.7,2,   1101.5,2,    20.00,   7.5953,2,    25.00,-999.000,9,-999.0000,9, -999.00,9,  13.3091,2, -999.00,9,  -999.0,9,  -999.0,-999.000,5,   44.97,2,   30.15,2,  224.70,  13.2252
33RO20100308,      A13.5,     128,          1,         18,      11710,2,20100417,       0959,      4.622,    -2.9997,       1041,   275.2,  11.2083,  35.0919,2,  35.0903,2,  53.0000,2,    53.4,2,   13.25,2,   31.39,2,    0.00,2,    1.99,2,   1.156,2,   0.632,2,   0.1870,2,  2236.2,2,  2304.6,2,   1270.9,2,    20.00,   7.5320,2,    25.00,-999.000,9,-999.0000,9, -999.00,9,  11.2100,2, -999.00,9,  -999.0,9,  -999.0,-999.000,5,   44.14,2,   33.15,2,  275.20,  11.1738
33RO20100308,      A13.5,     128,          1,         17,      11025,2,20100417,       0959,      4.622,    -2.9997,       1041,   324.8,  10.0013,  34.9561,2,  34.9525,2,  56.8000,2,    58.3,6,   15.14,2,   33.21,2,    0.00,2,    2.10,2,   0.949,2,   0.507,2,   0.1510,2,  2238.4,2,  2298.8,2,   1339.1,2,    20.00,   7.5092,2,    25.00,-999.000,9,-999.0000,9, -999.00,9,  10.0207,2, -999.00,9,  -999.0,9,  -999.0,-999.000,5,   42.73,2,   34.33,2,  324.80,   9.9634
33RO20100308,      A13.5,     128,          1,         16,      11709,2,20100417,       0959,      4.622,    -2.9997,       1041,   374.7,   9.2327,  34.8701,2,  34.8655,2,  65.4000,2,    66.8,2,   16.41,6,   33.51,6,    0.00,6,    2.14,6,   0.844,2,   0.449,2,   0.0970,2,  2235.5,2,  2296.9,2,   1341.2,2,    20.00,   7.5061,2,    25.00,-999.000,9,-999.0000,9, -999.00,9,   9.2273,2, -999.00,9,  -999.0,9,  -999.0,-999.000,5,   42.12,2,   35.35,2,  374.70,   9.1910
33RO20100308,      A13.5,     128,          1,         15,      11006,2,20100417,       0959,      4.622,    -2.9997,       1041,   474.8,   7.9755,  34.7410,2,  34.7388,2,  77.6000,2,    79.1,2,   19.56,6,   35.03,6,    0.00,6,    2.27,6,   0.538,2,   0.282,2,   0.0770,2,  2236.8,2,  2291.9,2,   1382.6,2,    20.00,   7.4970,2,    25.00,-999.000,9,-999.0000,9, -999.00,9,   7.9768,2, -999.00,9,  -999.0,9,  -999.0,-999.000,5,   40.45,2,   36.92,2,  474.80,   7.9268
33RO20100308,      A13.5,     128,          1,         14,      11708,2,20100417,       0959,      4.622,    -2.9997,       1041,   574.9,   6.5824,  34.6217,2,  34.6224,2,  97.4000,2,    98.0,2,   23.53,6,   35.48,6,    0.00,6,    2.39,6,   0.282,2,   0.147,2,   0.0000,2,  2232.7,2,  2291.7,2,   1356.2,2,    20.00,   7.5035,2,    25.00,-999.000,9,-999.0000,9, -999.00,9,   6.5859,2, -999.00,9,  -999.0,9,  -999.0,-999.000,5,   39.07,2,   37.43,2,  574.90,   6.5292
33RO20100308,      A13.5,     128,          1,         13,      11031,2,20100417,       0959,      4.622,    -2.9997,       1041,   675.1,   5.7903,  34.5736,2,  34.5746,2, 112.8000,2,   113.1,2,   26.74,6,   35.38,6,    0.00,6,    2.39,6,   0.162,2,   0.084,2,   0.0000,2,  2231.2,2,  2291.9,2,   1318.4,2,    20.00,   7.5154,2,    25.00,-999.000,9,-999.0000,9, -999.00,9,   5.7844,2, -999.00,9,  -999.0,9,  -999.0,-999.000,5,   39.50,2,   37.36,2,  675.10,   5.7315
33RO20100308,      A13.5,     128,          1,         12,      11027,2,20100417,       0959,      4.622,    -2.9997,       1041,   775.0,   5.2817,  34.5671,2,  34.5683,2, 125.3000,2,   125.2,2,   28.80,6,   34.79,6,    0.00,6,    2.37,6,   0.108,2,   0.054,2,   0.0000,2,  2228.3,2,  2294.9,2,   1274.9,2,    20.00,   7.5289,2,    25.00,-999.000,9,-999.0000,9, -999.00,9,   5.2815,2, -999.00,9,  -999.0,9,  -999.0,-999.000,5,   38.92,2,   36.31,2,  775.00,   5.2166
33RO20100308,      A13.5,     128,          1,         11,      11707,2,20100417,       0959,      4.622,    -2.9997,       1041,   874.8,   4.8941,  34.5906,2,  34.5915,2, 136.2000,2,   136.8,2,   30.40,6,   33.99,6,    0.00,6,    2.33,6,   0.057,2,   0.029,2,   0.0000,2,  2226.0,2,  2297.2,2,   1224.8,2,    20.00,   7.5462,2,    25.00,-999.000,9,-999.0000,9, -999.00,9,   4.9012,2, -999.00,9,  -999.0,9,  -999.0,-999.000,5,   39.63,2,   36.27,2,  874.80,   4.8226
33RO20100308,      A13.5,     128,          1,         10,      11003,2,20100417,       0959,      4.622,    -2.9997,       1041,   974.7,   4.6532,  34.6446,2,  34.6455,2, 146.8000,2,   147.2,6,   30.46,6,   32.72,6,    0.00,6,    2.24,6,   0.024,2,   0.014,2,   0.0000,2,  2221.6,2,  2307.2,3,   1162.2,2,    20.00,   7.5651,2,    25.00,-999.000,9,-999.0000,9, -999.00,9,   4.6533,2, -999.00,9,  -999.0,9,  -999.0,-999.000,5,   38.45,2,   34.07,2,  974.70,   4.5745
33RO20100308,      A13.5,     128,          1,          9,      11706,2,20100417,       0959,      4.622,    -2.9997,       1041,  1027.5,   4.6247,  34.6595,2,  34.6592,2, 148.9000,2,   149.4,2,   30.33,6,   32.49,6,    0.00,6,    2.22,6,   0.024,6,   0.014,6,  -0.0050,6,  2221.5,6,  2304.5,2,   1148.7,2,    20.00,   7.5698,2,    25.00,-999.000,9,-999.0000,9, -999.00,9,   4.6263,2, -999.00,9,  -999.0,9,  -999.0,-999.000,5,   39.78,2,   34.50,2, 1027.50,   4.5416