BOTTLE,20130404CCHSIOCBG
EXPOCODE,SECT_ID,STNNBR,CASTNO,SAMPNO,BTLNBR,BTLNBR_FLAG_W,DATE,TIME,LATITUDE,LONGITUDE,DEPTH,CTDPRS,CTDTMP,CTDSAL,CTDSAL_FLAG_W,SALNTY,SALNTY_FLAG_W,CTDOXY,CTDOXY_FLAG_W,OXYGEN,OXYGEN_FLAG_W,SILCAT,SILCAT_FLAG_W,NITRAT,NITRAT_FLAG_W,NITRIT,NITRIT_FLAG_W,PHSPHT,PHSPHT_FLAG_W,CFC-11,CFC-11_FLAG_W,CFC-12,CFC-12_FLAG_W,SF6,SF6_FLAG_W,TCARBN,TCARBN_FLAG_W,ALKALI,ALKALI_FLAG_W,FCO2,FCO2_FLAG_W,FCO2TMP,PH_TOT,PH_TOT_FLAG_W,PH_TMP,TRITUM,TRITUM_FLAG_W,HELIUM,HELIUM_FLAG_W,DELHE3,DELHE3_FLAG_W,REFTMP,REFTMP_FLAG_W,DELC13,DELC13_FLAG_W,DELC14,DELC14_FLAG_W,C14ERR,CCL4,CCL4_FLAG_W,DOC,DOC_FLAG_W,TDN,TDN_FLAG_W,CTDRAW,THETA
,,,,,,,,,,,METERS,DBAR,ITS-90,PSS-78,,PSS-78,,UMOL/KG,,UMOL/KG,,UMOL/KG,,UMOL/KG,,UMOL/KG,,UMOL/KG,,PMOL/KG,,PMOL/KG,,FMOL/KG,,UMOL/KG,,UMOL/KG,,UATM,,DEG C,,,DEG C,TU,,NMOL/KG,,PERCNT,,DEG C,,/MILLE,,/MILLE,,/MILLE,PMOL/KG,,UMOL/KG,,UMOL/KG,,DBAR,DEG C
33RO20100308,      A13.5,      78,          1,         24,      11714,2,20100404,       0138,   -15.4998,     0.9998,       5654,     5.4,  25.0398,  36.7443,2,  36.7454,2, 206.9000,2,   208.7,2,    0.68,2,    0.04,2,    0.00,2,    0.16,2,   1.706,2,   1.085,2,   1.0740,2,  2085.4,6,  2410.2,6,    328.5,2,    20.00,   8.0596,2,    25.00,-999.000,9,-999.0000,9, -999.00,9,-999.0000,9, -999.00,9,  -999.0,9,  -999.0,-999.000,5, -999.00,9, -999.00,9,    5.40,  25.0386
33RO20100308,      A13.5,      78,          1,         23,      11713,2,20100404,       0138,   -15.4998,     0.9998,       5654,    50.3,  20.5572,  36.3333,2,  36.3424,2, 244.6000,2,   243.6,2,    1.15,2,    0.92,2,    0.09,2,    0.31,2,   2.145,2,   1.325,2,   1.2390,2,  2096.9,2,  2387.7,2,    375.9,2,    20.00,   8.0046,2,    25.00,-999.000,9,-999.0000,9, -999.00,9,-999.0000,9, -999.00,9,  -999.0,9,  -999.0,-999.000,5, -999.00,9, -999.00,9,   50.30,  20.5477
33RO20100308,      A13.5,      78,          1,         22,      11712,2,20100404,       0138,   -15.4998,     0.9998,       5654,   124.5,  14.1118,  35.4401,2,  35.4361,2,  74.4000,2,    74.6,2,    6.56,2,   24.11,2,    0.03,2,    1.56,2,   2.205,6,   1.270,6,   0.7890,6,  2210.5,2,  2321.9,2,    989.9,2,    20.00,   7.6314,2,    25.00,-999.000,9,-999.0000,9, -999.00,9,-999.0000,9, -999.00,9,  -999.0,9,  -999.0,-999.000,5, -999.00,9, -999.00,9,  124.50,  14.0937
33RO20100308,      A13.5,      78,          1,         21,      11010,2,20100404,       0138,   -15.4998,     0.9998,       5654,   200.0,  12.0827,  35.1517,2,  35.1541,2,  55.2000,2,    55.0,2,    9.86,2,   29.41,2,    0.01,2,    1.88,2,   1.780,2,   0.982,2,   0.4230,2,  2228.0,2,  2302.4,2,   1223.3,2,    20.00,   7.5449,2,    25.00,-999.000,9,-999.0000,9, -999.00,9,-999.0000,9, -999.00,9,  -999.0,9,  -999.0,-999.000,5, -999.00,9, -999.00,9,  200.00,  12.0564
33RO20100308,      A13.5,      78,          1,         20,      11715,2,20100404,       0138,   -15.4998,     0.9998,       5654,   300.2,  10.0366,  34.9255,2,  34.9206,2,  51.2000,2,    51.6,2,   14.11,2,   33.66,2,    0.00,2,    2.14,2,   0.943,2,   0.506,2,   0.1830,2,  2239.9,6,  2296.9,6,   1392.5,2,    20.00,   7.4909,2,    25.00,-999.000,9,-999.0000,9, -999.00,9,-999.0000,9, -999.00,9,  -999.0,9,  -999.0,-999.000,5, -999.00,9, -999.00,9,  300.20,  10.0015
33RO20100308,      A13.5,      78,          1,         19,      11007,2,20100404,       0138,   -15.4998,     0.9998,       5654,   399.7,   8.3808,  34.7524,2,  34.7490,2,  66.1000,2,    66.2,2,   17.55,2,   35.61,2,    0.00,2,    2.27,2,   0.516,2,   0.275,2,   0.0860,2,  2239.4,2,  2295.7,2,   1434.7,2,    20.00,   7.4791,2,    25.00,-999.000,9,-999.0000,9, -999.00,9,-999.0000,9, -999.00,9,  -999.0,9,  -999.0,-999.000,5, -999.00,9, -999.00,9,  399.70,   8.3388
33RO20100308,      A13.5,      78,          1,         18,      11710,2,20100404,       0138,   -15.4998,     0.9998,       5654,   600.3,   6.1749,  34.5576,2,  34.5570,2,  89.6000,2,    90.1,2,   24.23,2,   37.94,2,    0.00,2,    2.48,2,   0.164,2,   0.090,2,   0.0000,2,  2239.8,2,  2291.5,2,   1471.2,6,    20.00,   7.4709,2,    25.00,-999.000,9,-999.0000,9, -999.00,9,-999.0000,9, -999.00,9,  -999.0,9,  -999.0,-999.000,5, -999.00,9, -999.00,9,  600.30,   6.1212
33RO20100308,      A13.5,      78,          1,         17,      11025,2,20100404,       0138,   -15.4998,     0.9998,       5654,   800.4,   4.8714,  34.4891,2,  34.4879,2, 118.8000,2,   123.7,2,   31.06,2,   36.99,2,    0.00,2,    2.48,2,   0.056,2,   0.033,2,   0.0000,2,  2234.5,2,  2294.4,2,   1355.1,2,    20.00,   7.5052,2,    25.00,-999.000,9,-999.0000,9, -999.00,9,-999.0000,9, -999.00,9,  -999.0,9,  -999.0,-999.000,5, -999.00,9, -999.00,9,  800.40,   4.8067
33RO20100308,      A13.5,      78,          1,         16,      11709,2,20100404,       0138,   -15.4998,     0.9998,       5654,   999.9,   4.1216,  34.5434,2,  34.5448,2, 142.0000,2,   141.7,2,   36.33,2,   35.27,2,    0.00,2,    2.40,2,   0.013,2,   0.009,2,   0.0000,2,  2233.9,2,  2305.6,2,   1264.9,2,    20.00,   7.5335,2,    25.00,-999.000,9,-999.0000,9, -999.00,9,-999.0000,9, -999.00,9,  -999.0,9,  -999.0,-999.000,5, -999.00,9, -999.00,9,  999.90,   4.0449
33RO20100308,      A13.5,      78,          1,         15,      11006,2,20100404,       0138,   -15.4998,     0.9998,       5654,  1200.2,   3.8318,  34.6685,2,  34.6691,2, 163.2000,2,   163.5,2,   36.32,2,   31.85,2,    0.00,2,    2.18,2,   0.002,2,   0.002,2,   0.0000,2,  2224.2,2,  2312.1,2,   1124.8,2,    20.00,   7.5801,2,    25.00,-999.000,9,-999.0000,9, -999.00,9,-999.0000,9, -999.00,9,  -999.0,9,  -999.0,-999.000,5, -999.00,9, -999.00,9, 1200.20,   3.7404
33RO20100308,      A13.5,      78,          1,         14,      11708,2,20100404,       0138,   -15.4998,     0.9998,       5654,  1300.4,   3.7791,  34.7297,2,  34.7294,2, 175.0000,2,   174.0,2,   34.69,2,   30.15,2,    0.00,2,    2.04,2,   0.002,2,   0.002,2,   0.0000,2,  2216.6,2,  2312.2,2,   1058.5,2,    20.00,   7.6043,2,    25.00,-999.000,9,-999.0000,9, -999.00,9,-999.0000,9, -999.00,9,  -999.0,9,  -999.0,-999.000,5, -999.00,9, -999.00,9, 1300.40,   3.6795
33RO20100308,      A13.5,      78,          1,         13,      11031,2,20100404,       0138,   -15.4998,     0.9998,       5654,  1499.8,   3.7171,  34.8411,2,  34.8407,2, 195.1000,2,   195.2,6,   30.35,2,   26.69,2,    0.00,2,    1.80,2,   0.001,2,   0.002,2,   0.0000,2,  2203.2,2,  2313.0,2,    946.9,2,    20.00,   7.6488,2,    25.00,-999.000,9,-999.0000,9, -999.00,9,-999.0000,9, -999.00,9,  -999.0,9,  -999.0,-999.000,5, -999.00,9, -999.00,9, 1499.80,   3.6004
33RO20100308,      A13.5,      78,          1,         12,      11027,2,20100404,       0138,   -15.4998,     0.9998,       5654,  1700.5,   3.5858,  34.8945,2,  34.8945,2, 212.4000,2,   212.0,6,   28.66,2,   24.46,2,    0.00,2,    1.64,2,   0.002,2,   0.001,2,   0.0000,2,  2192.9,2,  2318.0,2,    875.5,2,    20.00,   7.6801,2,    25.00,-999.000,9,-999.0000,9, -999.00,9,-999.0000,9, -999.00,9,  -999.0,9,  -999.0,-999.000,5, -999.00,9, -999.00,9, 1700.50,   3.4525
33RO20100308,      A13.5,      78,          1,         11,      11707,9,20100404,       0138,   -15.4998,     0.9998,       5654,  2000.7,   3.3194,  34.9153,2,-999.0000,9, 224.6000,2,  -999.0,9, -999.00,9, -999.00,9, -999.00,9, -999.00,9,-999.000,9,-999.000,9,-999.0000,9,  -999.0,9,  -999.0,9,   -999.0,9,  -999.00,-999.0000,9,  -999.00,-999.000,9,-999.0000,9, -999.00,9,-999.0000,9, -999.00,9,  -999.0,9,  -999.0,-999.000,9, -999.00,9, -999.00,9, 2000.70,   3.1621
33RO20100308,      A13.5,      78,          1,         10,      11003,2,20100404,       0138,   -15.4998,     0.9998,       5654,  2302.2,   3.0889,  34.9162,2,  34.9154,2, 229.7000,2,   228.9,2,   33.96,2,   22.84,2,    0.00,2,    1.53,2,   0.001,2,   0.001,2,   0.0000,2,  2189.9,2,  2328.9,2,    821.0,2,    20.00,   7.7076,2,    25.00,-999.000,9,-999.0000,9, -999.00,9,-999.0000,9, -999.00,9,  -999.0,9,  -999.0,-999.000,5, -999.00,9, -999.00,9, 2302.20,   2.9067
33RO20100308,      A13.5,      78,          1,          9,      11706,2,20100404,       0138,   -15.4998,     0.9998,       5654,  2600.6,   2.8472,  34.9081,2,  34.9072,2, 232.1000,2,   231.7,2,   38.61,2,   22.96,2,    0.00,2,    1.54,2,   0.000,2,   0.001,2,   0.0000,2,  2193.9,2,  2332.0,2,    819.3,2,    20.00,   7.7095,2,    25.00,-999.000,9,-999.0000,9, -999.00,9,-999.0000,9, -999.00,9,  -999.0,9,  -999.0,-999.000,5, -999.00,9, -999.00,9, 2600.60,   2.6403
33RO20100308,      A13.5,      78,          1,          8,      11033,2,20100404,       0138,   -15.4998,     0.9998,       5654,  3001.0,   2.6034,  34.8986,2,  34.8976,2, 230.8000,2,   229.5,2,   45.27,6,   23.39,6,    0.00,6,    1.56,6,   0.001,2,   0.001,2,   0.0000,2,  2203.1,2,  2336.8,2,    825.6,2,    20.00,   7.7086,2,    25.00,-999.000,9,-999.0000,9, -999.00,9,-999.0000,9, -999.00,9,  -999.0,9,  -999.0,-999.000,5, -999.00,9, -999.00,9, 3001.00,   2.3613
33RO20100308,      A13.5,      78,          1,          7,      11705,2,20100404,       0138,   -15.4998,     0.9998,       5654,  3400.4,   2.4394,  34.8917,2,  34.8927,2, 229.2000,2,   228.5,2,   50.18,2,   23.63,2,    0.00,2,    1.59,2,   0.000,2,   0.001,2,   0.0000,2,  2212.5,2,  2350.7,6,    816.3,2,    20.00,   7.7102,2,    25.00,-999.000,9,-999.0000,9, -999.00,9,-999.0000,9, -999.00,9,  -999.0,9,  -999.0,-999.000,5, -999.00,9, -999.00,9, 3400.40,   2.1592
33RO20100308,      A13.5,      78,          1,          6,      11029,2,20100404,       0138,   -15.4998,     0.9998,       5654,  3801.1,   2.3782,  34.8882,2,  34.8856,2, 235.3000,2,   233.2,2,   50.47,2,   23.34,2,    0.00,2,    1.56,2,   0.002,2,   0.002,2,   0.0000,2,  2209.1,2,  2347.9,2,    804.7,2,    20.00,   7.7173,2,    25.00,-999.000,9,-999.0000,9, -999.00,9,-999.0000,9, -999.00,9,  -999.0,9,  -999.0,-999.000,5, -999.00,9, -999.00,9, 3801.10,   2.0558
33RO20100308,      A13.5,      78,          1,          5,      11704,2,20100404,       0138,   -15.4998,     0.9998,       5654,  4199.9,   2.3711,  34.8852,2,  34.8830,2, 233.6000,2,   235.5,2,   51.28,2,   23.27,2,    0.00,2,    1.56,2,   0.003,2,   0.004,2,   0.0000,2,  2210.3,2,  2349.8,2,    802.5,6,    20.00,   7.7186,2,    25.00,-999.000,9,-999.0000,9, -999.00,9,-999.0000,9, -999.00,9,  -999.0,9,  -999.0,-999.000,5, -999.00,9, -999.00,9, 4199.90,   2.0034
33RO20100308,      A13.5,      78,          1,          4,      11030,2,20100404,       0138,   -15.4998,     0.9998,       5654,  4601.3,   2.3935,  34.8849,2,  34.8838,2, 234.3000,2,   233.2,2,   52.13,6,   23.41,6,    0.00,6,    1.56,6,   0.004,2,   0.004,2,   0.0000,2,  2213.9,2,  2357.1,6,    802.8,2,    20.00,   7.7199,2,    25.00,-999.000,9,-999.0000,9, -999.00,9,-999.0000,9, -999.00,9,  -999.0,9,  -999.0,-999.000,5, -999.00,9, -999.00,9, 4601.30,   1.9772
33RO20100308,      A13.5,      78,          1,          3,      11703,2,20100404,       0138,   -15.4998,     0.9998,       5654,  5001.6,   2.4065,  34.8807,2,  34.8796,2, 235.0000,2,   236.3,2,   52.52,6,   23.32,6,    0.00,6,    1.56,6,   0.007,2,   0.006,2,   0.0000,2,  2214.0,2,  2355.4,2,    801.2,2,    20.00,   7.7194,2,    25.00,-999.000,9,-999.0000,9, -999.00,9,-999.0000,9, -999.00,9,  -999.0,9,  -999.0,-999.000,5, -999.00,9, -999.00,9, 5001.60,   1.9400
33RO20100308,      A13.5,      78,          1,          2,      11702,2,20100404,       0138,   -15.4998,     0.9998,       5654,  5400.6,   2.4471,  34.8791,2,  34.8787,2, 237.6000,2,   237.2,2,   52.71,6,   23.33,6,    0.00,6,    1.56,6,   0.014,3,   0.017,3,   0.1310,4,  2213.2,2,  2353.6,2,    799.3,2,    20.00,   7.7197,2,    25.00,-999.000,9,-999.0000,9, -999.00,9,-999.0000,9, -999.00,9,  -999.0,9,  -999.0,-999.000,5, -999.00,9, -999.00,9, 5400.60,   1.9277
33RO20100308,      A13.5,      78,          1,          1,      11701,2,20100404,       0138,   -15.4998,     0.9998,       5654,  5731.9,   2.4912,  34.8788,2,  34.8822,2, 236.6000,2,   235.6,2,   52.69,6,   23.31,6,    0.00,6,    1.56,6,   0.009,2,   0.009,2,   0.0000,2,  2213.1,6,  2353.0,6,    799.5,2,    20.00,   7.7198,2,    25.00,-999.000,9,-999.0000,9, -999.00,9,-999.0000,9, -999.00,9,  -999.0,9,  -999.0,-999.000,5, -999.00,9, -999.00,9, 5731.90,   1.9259