BOTTLE,20130404CCHSIOCBG
EXPOCODE,SECT_ID,STNNBR,CASTNO,SAMPNO,BTLNBR,BTLNBR_FLAG_W,DATE,TIME,LATITUDE,LONGITUDE,DEPTH,CTDPRS,CTDTMP,CTDSAL,CTDSAL_FLAG_W,SALNTY,SALNTY_FLAG_W,CTDOXY,CTDOXY_FLAG_W,OXYGEN,OXYGEN_FLAG_W,SILCAT,SILCAT_FLAG_W,NITRAT,NITRAT_FLAG_W,NITRIT,NITRIT_FLAG_W,PHSPHT,PHSPHT_FLAG_W,CFC-11,CFC-11_FLAG_W,CFC-12,CFC-12_FLAG_W,SF6,SF6_FLAG_W,TCARBN,TCARBN_FLAG_W,ALKALI,ALKALI_FLAG_W,FCO2,FCO2_FLAG_W,FCO2TMP,PH_TOT,PH_TOT_FLAG_W,PH_TMP,TRITUM,TRITUM_FLAG_W,HELIUM,HELIUM_FLAG_W,DELHE3,DELHE3_FLAG_W,REFTMP,REFTMP_FLAG_W,DELC13,DELC13_FLAG_W,DELC14,DELC14_FLAG_W,C14ERR,CCL4,CCL4_FLAG_W,DOC,DOC_FLAG_W,TDN,TDN_FLAG_W,CTDRAW,THETA
,,,,,,,,,,,METERS,DBAR,ITS-90,PSS-78,,PSS-78,,UMOL/KG,,UMOL/KG,,UMOL/KG,,UMOL/KG,,UMOL/KG,,UMOL/KG,,PMOL/KG,,PMOL/KG,,FMOL/KG,,UMOL/KG,,UMOL/KG,,UATM,,DEG C,,,DEG C,TU,,NMOL/KG,,PERCNT,,DEG C,,/MILLE,,/MILLE,,/MILLE,PMOL/KG,,UMOL/KG,,UMOL/KG,,DBAR,DEG C
33RO20100308,      A13.5,       2,          1,         24,      11714,2,20100314,       1533,      -53.5,     0.0695,       2538,     4.3,   2.3434,  33.7513,2,  33.7513,2, 328.9000,2,   328.5,2,   25.00,2,   23.17,2,    0.28,2,    1.58,2,   5.618,2,   3.013,2,   2.4030,2,  2149.6,6,  2284.4,2,    777.7,2,    20.00,   7.7234,2,    25.00,-999.000,9,-999.0000,9, -999.00,9,   2.3414,2, -999.00,9,  -999.0,9,  -999.0,   7.070,3, -999.00,9, -999.00,9,    4.30,   2.3432
33RO20100308,      A13.5,       2,          1,         23,      11713,3,20100314,       1533,      -53.5,     0.0695,       2538,    44.6,   2.3324,  33.7524,2,-999.0000,9, 330.7000,2,  -999.0,9,   25.15,2,   23.25,2,    0.28,2,    1.58,2,-999.000,9,-999.000,9,-999.0000,9,  -999.0,9,  -999.0,9,   -999.0,9,  -999.00,-999.0000,9,  -999.00,-999.000,9,-999.0000,9, -999.00,9,   2.3309,2, -999.00,9,  -999.0,9,  -999.0,-999.000,9, -999.00,9, -999.00,9,   44.60,   2.3300
33RO20100308,      A13.5,       2,          1,         22,      11712,2,20100314,       1533,      -53.5,     0.0695,       2538,    81.6,   2.2132,  33.7634,2,  33.7656,2, 328.3000,2,   329.9,2,   25.44,2,   23.35,2,    0.27,2,    1.59,2,   5.650,6,   3.020,6,   2.5310,6,  2151.4,2,  2282.6,2,    780.8,6,    20.00,   7.7205,2,    25.00,-999.000,9,-999.0000,9, -999.00,9,   2.2127,2, -999.00,9,  -999.0,9,  -999.0,   7.029,3, -999.00,9, -999.00,9,   81.60,   2.2089
33RO20100308,      A13.5,       2,          1,         21,      11010,2,20100314,       1533,      -53.5,     0.0695,       2538,   124.9,  -0.0455,  33.9939,2,  33.9967,2, 302.2000,2,   304.3,6,   50.80,2,   29.08,2,    0.19,2,    2.07,2,   0.000,4,   0.001,4,   0.0170,4,  2194.5,2,  2293.2,2,    993.2,2,    20.00,   7.6296,2,    25.00,-999.000,9,-999.0000,9, -999.00,9,  -0.0438,2, -999.00,9,  -999.0,9,  -999.0,  -0.003,4, -999.00,9, -999.00,9,  124.90,  -0.0498
33RO20100308,      A13.5,       2,          1,         20,      11715,4,20100314,       1533,      -53.5,     0.0695,       2538,   176.1,   0.5173,  34.2762,4,  33.9919,4, 244.6000,4,   305.1,4,   50.55,4,   28.97,4,    0.19,4,    2.07,4,   5.354,2,   2.811,2,   2.0920,2,  2191.8,4,  2295.4,4,    971.0,4,    20.00,   7.6303,2,    25.00,-999.000,9,-999.0000,9, -999.00,9,   0.5041,2, -999.00,9,  -999.0,9,  -999.0,   6.399,3, -999.00,9, -999.00,9,  176.10,   0.5102
33RO20100308,      A13.5,       2,          1,         19,      11007,2,20100314,       1533,      -53.5,     0.0695,       2538,   223.4,   1.0703,  34.4254,2,  34.4238,2, 208.6000,2,   208.8,2,   78.66,2,   34.04,2,    0.01,2,    2.38,2,   2.339,2,   1.196,2,   0.8010,2,  2244.2,2,  2320.8,2,   1224.8,2,    20.00,   7.5518,2,    25.00,-999.000,9,-999.0000,9, -999.00,9,   1.0661,2, -999.00,9,  -999.0,9,  -999.0,   2.669,3, -999.00,9, -999.00,9,  223.40,   1.0601
33RO20100308,      A13.5,       2,          1,         18,      11710,2,20100314,       1533,      -53.5,     0.0695,       2538,   272.1,   1.4738,  34.5446,2,  34.5429,2, 188.4000,2,   187.4,2,   85.58,2,   34.51,2,    0.00,2,    2.42,2,   1.440,2,   0.729,2,   0.4580,2,  2253.7,2,  2330.5,2,   1232.8,2,    20.00,   7.5465,2,    25.00,-999.000,9,-999.0000,9, -999.00,9,   1.4722,2, -999.00,9,  -999.0,9,  -999.0,   1.687,3, -999.00,9, -999.00,9,  272.10,   1.4603
33RO20100308,      A13.5,       2,          1,         17,      11023,2,20100314,       1533,      -53.5,     0.0695,       2538,   350.2,   1.6580,  34.6250,2,  34.6236,2, 180.8000,2,   183.0,2,   90.18,6,   34.18,6,    0.01,6,    2.39,6,   0.881,2,   0.438,2,   0.2290,2,  2258.1,6,  2339.1,2,   1226.7,2,    20.00,   7.5557,2,    25.00,-999.000,9,-999.0000,9, -999.00,9,   1.6572,2, -999.00,9,  -999.0,9,  -999.0,   1.059,3, -999.00,9, -999.00,9,  350.20,   1.6398
33RO20100308,      A13.5,       2,          1,         16,      11709,2,20100314,       1533,      -53.5,     0.0695,       2538,   451.0,   1.6626,  34.6671,2,  34.6657,2, 183.0000,2,   181.6,2,   92.50,2,   33.41,2,    0.00,2,    2.33,2,   0.650,2,   0.321,2,   0.0730,2,  2258.5,2,  2339.6,2,   1174.4,2,    20.00,   7.5697,2,    25.00,-999.000,9,-999.0000,9, -999.00,9,   1.6623,2, -999.00,9,  -999.0,9,  -999.0,   0.801,3, -999.00,9, -999.00,9,  451.00,   1.6387
33RO20100308,      A13.5,       2,          1,         15,      11006,2,20100314,       1533,      -53.5,     0.0695,       2538,   551.9,   1.6018,  34.6901,2,  34.6877,2, 186.2000,2,   186.2,2,   94.63,2,   32.88,2,    0.00,2,    2.28,2,   0.531,2,   0.266,2,   0.1260,2,  2257.4,2,  2343.9,2,   1141.2,2,    20.00,   7.5815,2,    25.00,-999.000,9,-999.0000,9, -999.00,9,   1.6009,2, -999.00,9,  -999.0,9,  -999.0,   0.670,3, -999.00,9, -999.00,9,  551.90,   1.5723
33RO20100308,      A13.5,       2,          1,         14,      11708,2,20100314,       1533,      -53.5,     0.0695,       2538,   649.6,   1.5305,  34.7037,2,  34.7019,2, 189.8000,2,   189.8,2,   96.37,2,   32.44,2,    0.00,2,    2.26,2,   0.464,2,   0.231,2,   0.0460,2,  2256.2,2,  2347.8,2,   1114.0,6,    20.00,   7.5895,2,    25.00,-999.000,9,-999.0000,9, -999.00,9,   1.5301,2, -999.00,9,  -999.0,9,  -999.0,   0.593,3, -999.00,9, -999.00,9,  649.60,   1.4956
33RO20100308,      A13.5,       2,          1,         13,      11031,2,20100314,       1533,      -53.5,     0.0695,       2538,   750.4,   1.4330,  34.7106,2,  34.7092,2, 193.0000,2,   205.2,4,   98.38,2,   32.14,2,    0.00,2,    2.24,2,   0.424,2,   0.216,2,   0.1280,2,  2256.3,2,  1897.2,4,   1091.9,2,    20.00,   7.5959,2,    25.00,-999.000,9,-999.0000,9, -999.00,9,   1.4326,2, -999.00,9,  -999.0,9,  -999.0,   0.575,3, -999.00,9, -999.00,9,  750.40,   1.3926
33RO20100308,      A13.5,       2,          1,         12,      11027,2,20100314,       1533,      -53.5,     0.0695,       2538,   850.7,   1.2998,  34.7119,2,  34.7113,2, 195.8000,2,   196.3,2,  101.53,2,   31.99,2,    0.00,2,    2.23,2,   0.416,2,   0.205,2,   0.0810,2,  2255.4,2,  2350.7,2,   1090.0,2,    20.00,   7.6005,2,    25.00,-999.000,9,-999.0000,9, -999.00,9,   1.2997,2, -999.00,9,  -999.0,9,  -999.0,   0.535,3, -999.00,9, -999.00,9,  850.70,   1.2542
33RO20100308,      A13.5,       2,          1,         11,      11707,2,20100314,       1533,      -53.5,     0.0695,       2538,   951.6,   1.1955,  34.7099,2,  34.7094,2, 197.9000,2,   198.3,2,  103.94,2,   31.99,2,    0.00,2,    2.23,2,-999.000,5,-999.000,5,-999.0000,5,  2254.5,2,  2352.5,2,   1079.4,2,    20.00,   7.6001,2,    25.00,-999.000,9,-999.0000,9, -999.00,9,   1.1957,2, -999.00,9,  -999.0,9,  -999.0,-999.000,5, -999.00,9, -999.00,9,  951.60,   1.1445
33RO20100308,      A13.5,       2,          1,         10,      11003,2,20100314,       1533,      -53.5,     0.0695,       2538,  1050.6,   1.0749,  34.7071,2,  34.7067,2, 199.6000,2,   200.4,2,  106.98,6,   32.11,6,    0.00,6,    2.23,6,   0.424,2,   0.208,2,   0.1430,2,  2255.0,2,  -999.0,5,   1095.9,2,    20.00,   7.6007,2,    25.00,-999.000,9,-999.0000,9, -999.00,9,   1.0750,2, -999.00,9,  -999.0,9,  -999.0,   0.541,3, -999.00,9, -999.00,9, 1050.60,   1.0188
33RO20100308,      A13.5,       2,          1,          9,      11706,2,20100314,       1533,      -53.5,     0.0695,       2538,  1150.5,   0.9425,  34.7026,2,  34.7027,2, 201.7000,2,   202.4,2,  110.37,2,   32.29,2,    0.00,2,    2.25,2,   0.452,2,   0.246,2,   0.4900,4,  2256.7,2,  2352.5,2,   1088.8,2,    20.00,   7.6002,2,    25.00,-999.000,9,-999.0000,9, -999.00,9,   0.9426,2, -999.00,9,  -999.0,9,  -999.0,   0.618,3, -999.00,9, -999.00,9, 1150.50,   0.8813
33RO20100308,      A13.5,       2,          1,          8,      11033,2,20100314,       1533,      -53.5,     0.0695,       2538,  1251.0,   0.8480,  34.6993,2,  34.6990,2, 203.1000,2,   203.7,2,  112.46,6,   32.36,6,    0.00,6,    2.26,6,   0.456,2,   0.224,2,   0.0000,2,  2255.4,2,  2351.2,2,   1094.4,2,    20.00,   7.5997,2,    25.00,-999.000,9,-999.0000,9, -999.00,9,   0.8475,2, -999.00,9,  -999.0,9,  -999.0,   0.627,3, -999.00,9, -999.00,9, 1251.00,   0.7813
33RO20100308,      A13.5,       2,          1,          7,      11705,2,20100314,       1533,      -53.5,     0.0695,       2538,  1401.4,   0.7541,  34.6962,2,  34.6981,2, 205.6000,2,   205.1,2,  114.97,2,   32.46,2,    0.00,2,    2.26,2,   0.464,2,   0.226,2,   0.0670,2,  2256.4,2,  2354.6,2,   1057.5,3,    20.00,   7.5990,2,    25.00,-999.000,9,-999.0000,9, -999.00,9,   0.7536,2, -999.00,9,  -999.0,9,  -999.0,   0.596,3, -999.00,9, -999.00,9, 1401.40,   0.6787
33RO20100308,      A13.5,       2,          1,          6,      11029,2,20100314,       1533,      -53.5,     0.0695,       2538,  1600.3,   0.6149,  34.6917,2,  34.6911,2, 206.8000,2,   207.7,2,  118.89,2,   32.73,2,    0.00,2,    2.28,2,   0.449,2,   0.223,2,   0.0730,2,  2258.1,2,  2354.4,2,   1101.8,2,    20.00,   7.5967,2,    25.00,-999.000,9,-999.0000,9, -999.00,9,   0.6151,2, -999.00,9,  -999.0,9,  -999.0,   0.618,3, -999.00,9, -999.00,9, 1600.30,   0.5279
33RO20100308,      A13.5,       2,          1,          5,      11704,2,20100314,       1533,      -53.5,     0.0695,       2538,  1805.2,   0.5034,  34.6882,2,  34.6892,2, 209.3000,2,   209.3,2,  123.14,6,   32.82,6,    0.00,6,    2.29,6,   0.437,6,   0.207,6,   0.0270,6,  2259.6,2,  2355.5,2,   1088.4,2,    20.00,-999.0000,5,  -999.00,-999.000,9,-999.0000,9, -999.00,9,   0.5041,2, -999.00,9,  -999.0,9,  -999.0,   0.596,3, -999.00,9, -999.00,9, 1805.20,   0.4038
33RO20100308,      A13.5,       2,          1,          4,      11030,2,20100314,       1533,      -53.5,     0.0695,       2538,  2000.6,   0.4390,  34.6857,2,  34.6880,2, 210.7000,2,   209.2,6,  124.02,6,   32.91,6,    0.00,6,    2.30,6,   0.434,2,   0.209,2,   0.0890,2,  2258.9,2,  2355.8,2,   1098.9,2,    20.00,   7.5966,2,    25.00,-999.000,9,-999.0000,9, -999.00,9,   0.4388,2, -999.00,9,  -999.0,9,  -999.0,   0.604,3, -999.00,9, -999.00,9, 2000.60,   0.3263
33RO20100308,      A13.5,       2,          1,          3,      11703,3,20100314,       1533,      -53.5,     0.0695,       2538,  2200.1,   0.3975,  34.6837,2,  34.6833,2, 211.4000,2,  -999.0,9, -999.00,9, -999.00,9, -999.00,9, -999.00,9,-999.000,9,-999.000,9,-999.0000,9,  -999.0,9,  -999.0,9,   -999.0,9,  -999.00,-999.0000,9,  -999.00,-999.000,9,-999.0000,9, -999.00,9,   0.3969,2, -999.00,9,  -999.0,9,  -999.0,-999.000,9, -999.00,9, -999.00,9, 2200.10,   0.2707
33RO20100308,      A13.5,       2,          1,          2,      11702,2,20100314,       1533,      -53.5,     0.0695,       2538,  2400.8,   0.3791,  34.6824,2,  34.6837,2, 213.0000,2,   212.0,2,  130.98,6,   33.04,6,    0.00,6,    2.30,6,   0.433,2,   0.203,2,   0.0660,2,  2260.5,2,  2354.7,2,   1105.8,6,    20.00,   7.5956,2,    25.00,-999.000,9,-999.0000,9, -999.00,9,   0.3784,2, -999.00,9,  -999.0,9,  -999.0,   0.605,3, -999.00,9, -999.00,9, 2400.80,   0.2371
33RO20100308,      A13.5,       2,          1,          1,      11701,2,20100314,       1533,      -53.5,     0.0695,       2538,  2556.4,   0.3799,  34.6820,2,  34.6823,2, 211.7000,2,   210.6,2,  134.61,2,   33.06,2,    0.01,2,    2.30,2,   0.426,2,   0.205,2,   0.0000,2,  2262.3,6,  2355.2,2,   1098.0,2,    20.00,   7.5941,2,    25.00,-999.000,9,-999.0000,9, -999.00,9,   0.3792,2, -999.00,9,  -999.0,9,  -999.0,   0.621,3, -999.00,9, -999.00,9, 2556.40,   0.2254