BOTTLE,20130404CCHSIOCBG
EXPOCODE,SECT_ID,STNNBR,CASTNO,SAMPNO,BTLNBR,BTLNBR_FLAG_W,DATE,TIME,LATITUDE,LONGITUDE,DEPTH,CTDPRS,CTDTMP,CTDSAL,CTDSAL_FLAG_W,SALNTY,SALNTY_FLAG_W,CTDOXY,CTDOXY_FLAG_W,OXYGEN,OXYGEN_FLAG_W,SILCAT,SILCAT_FLAG_W,NITRAT,NITRAT_FLAG_W,NITRIT,NITRIT_FLAG_W,PHSPHT,PHSPHT_FLAG_W,CFC-11,CFC-11_FLAG_W,CFC-12,CFC-12_FLAG_W,SF6,SF6_FLAG_W,TCARBN,TCARBN_FLAG_W,ALKALI,ALKALI_FLAG_W,FCO2,FCO2_FLAG_W,FCO2TMP,PH_TOT,PH_TOT_FLAG_W,PH_TMP,TRITUM,TRITUM_FLAG_W,HELIUM,HELIUM_FLAG_W,DELHE3,DELHE3_FLAG_W,REFTMP,REFTMP_FLAG_W,DELC13,DELC13_FLAG_W,DELC14,DELC14_FLAG_W,C14ERR,CCL4,CCL4_FLAG_W,DOC,DOC_FLAG_W,TDN,TDN_FLAG_W,CTDRAW,THETA
,,,,,,,,,,,METERS,DBAR,ITS-90,PSS-78,,PSS-78,,UMOL/KG,,UMOL/KG,,UMOL/KG,,UMOL/KG,,UMOL/KG,,UMOL/KG,,PMOL/KG,,PMOL/KG,,FMOL/KG,,UMOL/KG,,UMOL/KG,,UATM,,DEG C,,,DEG C,TU,,NMOL/KG,,PERCNT,,DEG C,,/MILLE,,/MILLE,,/MILLE,PMOL/KG,,UMOL/KG,,UMOL/KG,,DBAR,DEG C
33RO20100308,      A13.5,     113,          1,         24,      11714,2,20100414,       0510,     0.3343,    -3.0005,       5127,     6.1,  29.6072,  34.2849,3,  34.3353,2, 193.3000,2,   194.6,2,    0.64,6,    0.13,6,    0.00,6,    0.01,6,   1.487,2,   0.945,2,   0.9250,2,  1925.9,6,  2252.2,2,    265.4,2,    20.00,   8.1146,2,    25.00,-999.000,9,-999.0000,9, -999.00,9,  29.6088,2, -999.00,9,  -999.0,9,  -999.0,   1.546,3,   74.03,2,    5.25,2,    6.10,  29.6057
33RO20100308,      A13.5,     113,          1,         23,      11716,2,20100414,       0510,     0.3343,    -3.0005,       5127,    49.8,  22.1102,  36.3674,2,  36.3644,2, 186.7000,2,   186.6,2,    1.70,2,    1.37,2,    0.10,2,    0.31,2,   1.976,2,   1.201,2,   1.0390,2,  2108.2,2,  2385.8,6,    396.7,2,    20.00,   7.9859,2,    25.00,-999.000,9,-999.0000,9, -999.00,9,  22.0938,2, -999.00,9,  -999.0,9,  -999.0,   0.803,3,   60.85,2,    6.01,2,   49.80,  22.1003
33RO20100308,      A13.5,     113,          1,         22,      11022,2,20100414,       0510,     0.3343,    -3.0005,       5127,   100.1,  16.1328,  35.6859,2,  35.6882,2, 144.7000,2,   143.3,2,    5.11,2,   14.49,2,    0.03,2,    1.01,2,   2.240,2,   1.271,2,   0.8140,2,  2157.7,2,  2344.6,6,    622.5,2,    20.00,   7.8148,2,    25.00,-999.000,9,-999.0000,9, -999.00,9,  16.1411,2, -999.00,9,  -999.0,9,  -999.0,   0.524,3,   46.90,2,   18.48,2,  100.10,  16.1168
33RO20100308,      A13.5,     113,          1,         21,      11010,2,20100414,       0510,     0.3343,    -3.0005,       5127,   149.8,  14.8627,  35.5281,2,  35.5255,2, 139.9000,2,   139.1,2,    5.97,2,   16.55,2,    0.01,2,    1.12,2,   2.267,2,   1.270,2,   0.7650,2,  2162.9,2,  2329.1,2,    674.7,2,    20.00,   7.7816,2,    25.00,-999.000,9,-999.0000,9, -999.00,9,  14.8648,2, -999.00,9,  -999.0,9,  -999.0,   0.467,3,   46.43,2,   18.99,2,  149.80,  14.8401
33RO20100308,      A13.5,     113,          1,         20,      11715,2,20100414,       0510,     0.3343,    -3.0005,       5127,   199.2,  14.6162,  35.4966,2,  35.4951,2, 119.2000,2,   118.0,2,    6.81,2,   19.34,2,    0.01,2,    1.29,2,   2.159,6,   1.202,6,   0.6600,6,  2177.4,2,  2331.2,2,    728.8,2,    20.00,   7.7381,2,    25.00,-999.000,9,-999.0000,9, -999.00,9,  14.6162,2, -999.00,9,  -999.0,9,  -999.0,   0.371,3,   45.83,2,   21.44,2,  199.20,  14.5864
33RO20100308,      A13.5,     113,          1,         19,      11007,2,20100414,       0510,     0.3343,    -3.0005,       5127,   250.0,  13.3150,  35.3218,3,  35.3008,2,  85.0000,2,    82.8,2,    9.34,2,   25.58,2,    0.01,2,    1.62,2,   1.818,2,   0.986,2,   0.4350,2,  2206.3,2,  2316.9,2,    976.7,2,    20.00,   7.6366,2,    25.00,-999.000,9,-999.0000,9, -999.00,9,  13.3042,2, -999.00,9,  -999.0,9,  -999.0,   0.269,3,   45.01,2,   27.99,2,  250.00,  13.2799
33RO20100308,      A13.5,     113,          1,         18,      11710,2,20100414,       0510,     0.3343,    -3.0005,       5127,   349.1,   9.8254,  34.9146,2,  34.9166,2,  76.4000,2,    76.5,6,   14.14,2,   32.30,2,    0.01,2,    2.01,2,   1.232,2,   0.644,2,   0.1850,2,  2224.3,6,  2302.5,2,   1252.4,2,    20.00,   7.5368,2,    25.00,-999.000,9,-999.0000,9, -999.00,9,   9.8269,2, -999.00,9,  -999.0,9,  -999.0,   0.357,3,   42.29,2,   33.48,2,  349.10,   9.7851
33RO20100308,      A13.5,     113,          1,         17,      11025,2,20100414,       0510,     0.3343,    -3.0005,       5127,   448.7,   8.2570,  34.7395,2,  34.7368,2, 108.1000,2,   107.3,2,   16.91,2,   32.39,2,    0.00,2,    2.06,2,   1.126,2,   0.573,2,   0.1440,2,  2213.9,2,  2293.0,2,   1194.7,2,    20.00,   7.5568,2,    25.00,-999.000,9,-999.0000,9, -999.00,9,   8.2492,2, -999.00,9,  -999.0,9,  -999.0,   0.554,3,   41.13,2,   33.58,2,  448.70,   8.2102
33RO20100308,      A13.5,     113,          1,         16,      11709,2,20100414,       0510,     0.3343,    -3.0005,       5127,   649.6,   5.5753,  34.5179,2,  34.5191,2, 140.0000,2,   138.9,2,   25.80,2,   34.57,2,    0.00,2,    2.29,2,   0.501,2,   0.246,2,   0.0000,2,  2214.9,2,  2297.7,2,   1196.9,2,    20.00,   7.5522,2,    25.00,-999.000,9,-999.0000,9, -999.00,9,   5.5785,2, -999.00,9,  -999.0,9,  -999.0,   0.606,3,   39.81,2,   36.16,2,  649.60,   5.5199
33RO20100308,      A13.5,     113,          1,         15,      11006,2,20100414,       0510,     0.3343,    -3.0005,       5127,   849.4,   4.8321,  34.5252,2,  34.5269,2, 147.9000,2,   148.2,2,   30.15,2,   34.55,2,    0.00,2,    2.32,2,   0.223,2,   0.111,2,   0.0000,2,  2217.5,2,  2300.6,2,   -999.0,9,  -999.00,   7.5581,2,    25.00,-999.000,9,-999.0000,9, -999.00,9,   4.8319,2, -999.00,9,  -999.0,9,  -999.0,   0.405,3,   38.87,2,   36.38,2,  849.40,   4.7633
33RO20100308,      A13.5,     113,          1,         14,      11708,2,20100414,       0510,     0.3343,    -3.0005,       5127,  1049.1,   4.5051,  34.6445,2,  34.6455,2, 157.6000,2,   157.4,2,   30.41,2,   32.49,2,    0.00,2,    2.19,2,   0.053,2,   0.028,2,   0.0000,2,  2216.3,2,  2308.2,2,   1118.2,2,    20.00,   7.5818,2,    25.00,-999.000,9,-999.0000,9, -999.00,9,   4.5040,2, -999.00,9,  -999.0,9,  -999.0,   0.155,3,   38.89,2,   34.38,2, 1049.10,   4.4210
33RO20100308,      A13.5,     113,          1,         13,      11031,2,20100414,       0510,     0.3343,    -3.0005,       5127,  1249.8,   4.5416,  34.8094,2,  34.8088,2, 179.4000,2,   179.0,2,   25.49,2,   28.40,2,    0.00,2,    1.91,2,-999.000,9,-999.000,9,-999.0000,9,  2202.2,2,  2311.5,2,   -999.0,9,  -999.00,   7.6301,2,    25.00,-999.000,9,-999.0000,9, -999.00,9,   4.5412,2, -999.00,9,  -999.0,9,  -999.0,-999.000,9,   39.80,2,   30.73,2, 1249.80,   4.4389
33RO20100308,      A13.5,     113,          1,         12,      11027,2,20100414,       0510,     0.3343,    -3.0005,       5127,  1500.3,   4.2111,  34.9569,2,  34.9553,2, 224.0000,2,   222.8,2,   19.45,2,   22.22,2,    0.00,2,    1.47,2,   0.130,2,   0.067,2,   0.0000,2,  2178.4,2,  2315.4,2,    816.4,2,    20.00,   7.7044,2,    25.00,-999.000,9,-999.0000,9, -999.00,9,   4.2109,2, -999.00,9,  -999.0,9,  -999.0,   0.415,3,   39.70,2,   23.42,2, 1500.30,   4.0885
33RO20100308,      A13.5,     113,          1,         11,      11707,2,20100414,       0510,     0.3343,    -3.0005,       5127,  1799.5,   3.9335,  34.9731,2,  34.9726,2, 240.4000,2,   239.4,2,   18.61,2,   20.51,2,    0.00,2,    1.35,2,   0.173,2,   0.087,2,   0.0000,2,  2171.6,2,  2314.3,2,   -999.0,9,  -999.00,   7.7265,2,    25.00,-999.000,9,-999.0000,9, -999.00,9,   3.9333,2, -999.00,9,  -999.0,9,  -999.0,   0.491,3,   39.87,2,   21.60,2, 1799.50,   3.7862
33RO20100308,      A13.5,     113,          1,         10,      11003,2,20100414,       0510,     0.3343,    -3.0005,       5127,  2099.8,   3.3886,  34.9574,2,  34.9584,2, 248.1000,2,   247.2,2,   23.53,6,   20.06,6,    0.00,6,    1.34,2,   0.102,2,   0.054,2,   0.0000,2,  2172.3,2,  2321.3,2,    757.8,2,    20.00,   7.7342,2,    25.00,-999.000,9,-999.0000,9, -999.00,9,   3.3886,2, -999.00,9,  -999.0,9,  -999.0,   0.378,3,   40.45,2,   21.81,2, 2099.80,   3.2207
33RO20100308,      A13.5,     113,          1,          9,      11706,2,20100414,       0510,     0.3343,    -3.0005,       5127,  2399.4,   3.1062,  34.9401,2,  34.9394,2, 244.3000,2,   244.2,2,   29.44,6,   20.90,6,    0.00,6,    1.39,6,-999.000,9,-999.000,9,-999.0000,9,  2177.8,2,  2323.9,2,   -999.0,9,  -999.00,   7.7308,2,    25.00,-999.000,9,-999.0000,9, -999.00,9,   3.1065,2, -999.00,9,  -999.0,9,  -999.0,-999.000,9,   40.27,2,   22.73,2, 2399.40,   2.9142
33RO20100308,      A13.5,     113,          1,          8,      11033,2,20100414,       0510,     0.3343,    -3.0005,       5127,  2696.7,   2.7656,  34.9184,2,  34.9171,2, 243.2000,2,   243.2,6,   36.22,6,   21.51,6,    0.00,6,    1.43,6,-999.000,9,-999.000,9,-999.0000,9,  2186.5,2,  2333.7,2,    776.3,2,    20.00,   7.7277,2,    25.00,-999.000,9,-999.0000,9, -999.00,9,   2.7662,2, -999.00,9,  -999.0,9,  -999.0,-999.000,9,   39.44,2,   23.52,2, 2696.70,   2.5507
33RO20100308,      A13.5,     113,          1,          7,      11705,2,20100414,       0510,     0.3343,    -3.0005,       5127,  2999.8,   2.6344,  34.9091,2,  34.9090,2, 240.4000,2,   240.7,2,   39.96,6,   21.96,6,    0.00,6,    1.47,6,-999.000,9,-999.000,9,-999.0000,9,  2190.7,2,  2335.9,2,   -999.0,9,  -999.00,   7.7253,2,    25.00,-999.000,9,-999.0000,9, -999.00,9,   2.6352,2, -999.00,9,  -999.0,9,  -999.0,-999.000,9,   40.48,2,   23.55,2, 2999.80,   2.3917
33RO20100308,      A13.5,     113,          1,          6,      11029,2,20100414,       0510,     0.3343,    -3.0005,       5127,  3300.3,   2.5248,  34.9013,2,  34.9007,2, 242.4000,2,   242.9,2,   41.66,6,   21.94,6,    0.00,6,    1.47,6,-999.000,9,-999.000,9,-999.0000,9,  2192.1,2,  2337.0,2,   -999.0,9,  -999.00,   7.7251,2,    25.00,-999.000,9,-999.0000,9, -999.00,9,   2.5248,2, -999.00,9,  -999.0,9,  -999.0,-999.000,9,   40.65,2,   23.27,2, 3300.30,   2.2532
33RO20100308,      A13.5,     113,          1,          5,      11704,2,20100414,       0510,     0.3343,    -3.0005,       5127,  3600.2,   2.4160,  34.8932,2,  34.8926,2, 242.6000,2,   243.0,2,   44.37,4,   22.10,4,    0.00,4,    1.48,4,-999.000,9,-999.000,9,-999.0000,9,  2194.5,2,  2341.4,2,    785.2,2,    20.00,   7.7236,2,    25.00,-999.000,9,-999.0000,9, -999.00,9,   2.4160,2, -999.00,9,  -999.0,9,  -999.0,-999.000,9,   40.23,2,   23.18,2, 3600.20,   2.1148
33RO20100308,      A13.5,     113,          1,          4,      11030,4,20100414,       0510,     0.3343,    -3.0005,       5127,  3899.4,   2.3564,  34.8865,4,  34.9180,4, 243.4000,2,   241.9,2,   36.25,4,   21.50,4,    0.00,4,    1.44,4,-999.000,9,-999.000,9,-999.0000,9,  2184.8,4,  2332.4,4,   -999.0,9,  -999.00,   7.7270,2,    25.00,-999.000,9,-999.0000,9, -999.00,9,   2.3561,2, -999.00,9,  -999.0,9,  -999.0,-999.000,9,   39.94,2,   22.69,2, 3899.40,   2.0236
33RO20100308,      A13.5,     113,          1,          3,      11703,2,20100414,       0510,     0.3343,    -3.0005,       5127,  4199.6,   2.2968,  34.8792,2,  34.8783,2, 242.2000,2,   242.5,2,   49.39,6,   22.59,6,    0.00,6,    1.52,6,-999.000,9,-999.000,9,-999.0000,9,  2199.0,2,  2345.1,2,   -999.0,9,  -999.00,   7.7203,2,    25.00,-999.000,9,-999.0000,9, -999.00,9,   2.2967,2, -999.00,9,  -999.0,9,  -999.0,-999.000,9,   40.40,2,   24.48,2, 4199.60,   1.9313
33RO20100308,      A13.5,     113,          1,          2,      11702,2,20100414,       0510,     0.3343,    -3.0005,       5127,  4599.3,   2.2298,  34.8688,2,  34.8682,2, 241.2000,2,   242.4,2,   53.17,6,   22.99,6,    0.00,6,    1.55,6,-999.000,9,-999.000,9,-999.0000,9,  2204.6,2,  2349.1,2,    801.1,2,    20.00,   7.7180,2,    25.00,-999.000,9,-999.0000,9, -999.00,9,   2.2295,2, -999.00,9,  -999.0,9,  -999.0,-999.000,9,   40.44,2,   24.27,2, 4599.30,   1.8190
33RO20100308,      A13.5,     113,          1,          1,      11701,2,20100414,       0510,     0.3343,    -3.0005,       5127,  5190.4,   2.1755,  34.8561,2,  34.8558,2, 241.7000,2,   240.8,2,   57.13,6,   23.33,6,    0.00,6,    1.58,6,-999.000,9,-999.000,9,-999.0000,9,  2210.1,6,  2351.7,2,    811.7,2,    20.00,   7.7147,2,    25.00,-999.000,9,-999.0000,9, -999.00,9,   2.1756,2, -999.00,9,  -999.0,9,  -999.0,-999.000,9,   39.95,2,   24.45,2, 5190.40,   1.6931