BOTTLE,20130404CCHSIOCBG
EXPOCODE,SECT_ID,STNNBR,CASTNO,SAMPNO,BTLNBR,BTLNBR_FLAG_W,DATE,TIME,LATITUDE,LONGITUDE,DEPTH,CTDPRS,CTDTMP,CTDSAL,CTDSAL_FLAG_W,SALNTY,SALNTY_FLAG_W,CTDOXY,CTDOXY_FLAG_W,OXYGEN,OXYGEN_FLAG_W,SILCAT,SILCAT_FLAG_W,NITRAT,NITRAT_FLAG_W,NITRIT,NITRIT_FLAG_W,PHSPHT,PHSPHT_FLAG_W,CFC-11,CFC-11_FLAG_W,CFC-12,CFC-12_FLAG_W,SF6,SF6_FLAG_W,TCARBN,TCARBN_FLAG_W,ALKALI,ALKALI_FLAG_W,FCO2,FCO2_FLAG_W,FCO2TMP,PH_TOT,PH_TOT_FLAG_W,PH_TMP,TRITUM,TRITUM_FLAG_W,HELIUM,HELIUM_FLAG_W,DELHE3,DELHE3_FLAG_W,REFTMP,REFTMP_FLAG_W,DELC13,DELC13_FLAG_W,DELC14,DELC14_FLAG_W,C14ERR,CCL4,CCL4_FLAG_W,DOC,DOC_FLAG_W,TDN,TDN_FLAG_W,CTDRAW,THETA
,,,,,,,,,,,METERS,DBAR,ITS-90,PSS-78,,PSS-78,,UMOL/KG,,UMOL/KG,,UMOL/KG,,UMOL/KG,,UMOL/KG,,UMOL/KG,,PMOL/KG,,PMOL/KG,,FMOL/KG,,UMOL/KG,,UMOL/KG,,UATM,,DEG C,,,DEG C,TU,,NMOL/KG,,PERCNT,,DEG C,,/MILLE,,/MILLE,,/MILLE,PMOL/KG,,UMOL/KG,,UMOL/KG,,DBAR,DEG C
33RO20100308,      A13.5,      82,          1,         24,      11714,9,20100405,       2243,   -13.5005,      0.941,       5546,     5.5,  26.2127,  36.8464,2,-999.0000,9, 200.8000,2,  -999.0,9, -999.00,9, -999.00,9, -999.00,9, -999.00,9,-999.000,9,-999.000,9,-999.0000,9,  -999.0,9,  -999.0,9,   -999.0,9,  -999.00,-999.0000,9,  -999.00,-999.000,9,-999.0000,9, -999.00,9,-999.0000,9, -999.00,9,  -999.0,9,  -999.0,-999.000,9, -999.00,9, -999.00,9,    5.50,  26.2115
33RO20100308,      A13.5,      82,          1,         23,      11713,9,20100405,       2243,   -13.5005,      0.941,       5546,    50.0,  21.0945,  36.1469,2,-999.0000,9, 285.0000,2,  -999.0,9, -999.00,9, -999.00,9, -999.00,9, -999.00,9,-999.000,9,-999.000,9,-999.0000,9,  -999.0,9,  -999.0,9,   -999.0,9,  -999.00,-999.0000,9,  -999.00,-999.000,9,-999.0000,9, -999.00,9,-999.0000,9, -999.00,9,  -999.0,9,  -999.0,-999.000,9, -999.00,9, -999.00,9,   50.00,  21.0849
33RO20100308,      A13.5,      82,          1,         22,      11712,9,20100405,       2243,   -13.5005,      0.941,       5546,    99.7,  15.1944,  35.5343,2,-999.0000,9,  68.5000,2,  -999.0,9, -999.00,9, -999.00,9, -999.00,9, -999.00,9,-999.000,9,-999.000,9,-999.0000,9,  -999.0,9,  -999.0,9,   -999.0,9,  -999.00,-999.0000,9,  -999.00,-999.000,9,-999.0000,9, -999.00,9,-999.0000,9, -999.00,9,  -999.0,9,  -999.0,-999.000,9, -999.00,9, -999.00,9,   99.70,  15.1791
33RO20100308,      A13.5,      82,          1,         21,      11010,9,20100405,       2243,   -13.5005,      0.941,       5546,   200.6,  11.8753,  35.1528,2,-999.0000,9,  38.0000,2,  -999.0,9, -999.00,9, -999.00,9, -999.00,9, -999.00,9,-999.000,9,-999.000,9,-999.0000,9,  -999.0,9,  -999.0,9,   -999.0,9,  -999.00,-999.0000,9,  -999.00,-999.000,9,-999.0000,9, -999.00,9,-999.0000,9, -999.00,9,  -999.0,9,  -999.0,-999.000,9, -999.00,9, -999.00,9,  200.60,  11.8493
33RO20100308,      A13.5,      82,          1,         20,      11715,9,20100405,       2243,   -13.5005,      0.941,       5546,   300.4,  10.3042,  34.9644,2,-999.0000,9,  25.5000,2,  -999.0,9, -999.00,9, -999.00,9, -999.00,9, -999.00,9,-999.000,9,-999.000,9,-999.0000,9,  -999.0,9,  -999.0,9,   -999.0,9,  -999.00,-999.0000,9,  -999.00,-999.000,9,-999.0000,9, -999.00,9,-999.0000,9, -999.00,9,  -999.0,9,  -999.0,-999.000,9, -999.00,9, -999.00,9,  300.40,  10.2685
33RO20100308,      A13.5,      82,          1,         19,      11007,9,20100405,       2243,   -13.5005,      0.941,       5546,   400.1,   8.9640,  34.8203,2,-999.0000,9,  35.0000,2,  -999.0,9, -999.00,9, -999.00,9, -999.00,9, -999.00,9,-999.000,9,-999.000,9,-999.0000,9,  -999.0,9,  -999.0,9,   -999.0,9,  -999.00,-999.0000,9,  -999.00,-999.000,9,-999.0000,9, -999.00,9,-999.0000,9, -999.00,9,  -999.0,9,  -999.0,-999.000,9, -999.00,9, -999.00,9,  400.10,   8.9202
33RO20100308,      A13.5,      82,          1,         18,      11710,9,20100405,       2243,   -13.5005,      0.941,       5546,   500.8,   7.5805,  34.6848,2,-999.0000,9,  53.9000,2,  -999.0,9, -999.00,9, -999.00,9, -999.00,9, -999.00,9,-999.000,9,-999.000,9,-999.0000,9,  -999.0,9,  -999.0,9,   -999.0,9,  -999.00,-999.0000,9,  -999.00,-999.000,9,-999.0000,9, -999.00,9,-999.0000,9, -999.00,9,  -999.0,9,  -999.0,-999.000,9, -999.00,9, -999.00,9,  500.80,   7.5306
33RO20100308,      A13.5,      82,          1,         17,      11025,9,20100405,       2243,   -13.5005,      0.941,       5546,   700.2,   5.4580,  34.5139,2,-999.0000,9, 101.9000,2,  -999.0,9, -999.00,9, -999.00,9, -999.00,9, -999.00,9,-999.000,9,-999.000,9,-999.0000,9,  -999.0,9,  -999.0,9,   -999.0,9,  -999.00,-999.0000,9,  -999.00,-999.000,9,-999.0000,9, -999.00,9,-999.0000,9, -999.00,9,  -999.0,9,  -999.0,-999.000,9, -999.00,9, -999.00,9,  700.20,   5.3987
33RO20100308,      A13.5,      82,          1,         16,      11709,9,20100405,       2243,   -13.5005,      0.941,       5546,   899.6,   4.3918,  34.5114,2,-999.0000,9, 134.9000,2,  -999.0,9, -999.00,9, -999.00,9, -999.00,9, -999.00,9,-999.000,9,-999.000,9,-999.0000,9,  -999.0,9,  -999.0,9,   -999.0,9,  -999.00,-999.0000,9,  -999.00,-999.000,9,-999.0000,9, -999.00,9,-999.0000,9, -999.00,9,  -999.0,9,  -999.0,-999.000,9, -999.00,9, -999.00,9,  899.60,   4.3217
33RO20100308,      A13.5,      82,          1,         15,      11006,9,20100405,       2243,   -13.5005,      0.941,       5546,  1100.6,   3.9533,  34.6397,2,-999.0000,9, 158.0000,2,  -999.0,9, -999.00,9, -999.00,9, -999.00,9, -999.00,9,-999.000,9,-999.000,9,-999.0000,9,  -999.0,9,  -999.0,9,   -999.0,9,  -999.00,-999.0000,9,  -999.00,-999.000,9,-999.0000,9, -999.00,9,-999.0000,9, -999.00,9,  -999.0,9,  -999.0,-999.000,9, -999.00,9, -999.00,9, 1100.60,   3.8693
33RO20100308,      A13.5,      82,          1,         14,      11708,9,20100405,       2243,   -13.5005,      0.941,       5546,  1301.2,   3.8153,  34.7648,2,-999.0000,9, 179.4000,2,  -999.0,9, -999.00,9, -999.00,9, -999.00,9, -999.00,9,-999.000,9,-999.000,9,-999.0000,9,  -999.0,9,  -999.0,9,   -999.0,9,  -999.00,-999.0000,9,  -999.00,-999.000,9,-999.0000,9, -999.00,9,-999.0000,9, -999.00,9,  -999.0,9,  -999.0,-999.000,9, -999.00,9, -999.00,9, 1301.20,   3.7152
33RO20100308,      A13.5,      82,          1,         13,      11031,9,20100405,       2243,   -13.5005,      0.941,       5546,  1500.3,   3.7251,  34.8566,2,-999.0000,9, 201.7000,2,  -999.0,9, -999.00,9, -999.00,9, -999.00,9, -999.00,9,-999.000,9,-999.000,9,-999.0000,9,  -999.0,9,  -999.0,9,   -999.0,9,  -999.00,-999.0000,9,  -999.00,-999.000,9,-999.0000,9, -999.00,9,-999.0000,9, -999.00,9,  -999.0,9,  -999.0,-999.000,9, -999.00,9, -999.00,9, 1500.30,   3.6082
33RO20100308,      A13.5,      82,          1,         12,      11027,2,20100405,       2243,   -13.5005,      0.941,       5546,  1700.4,   3.5967,  34.9029,2,  34.9039,2, 214.6000,2,   214.0,2,   27.78,2,   24.39,2,    0.00,2,    1.61,2,   0.004,2,   0.004,2,   0.0000,2,  2189.1,2,  2318.5,2,    862.0,2,    20.00,   7.6830,2,    25.00,-999.000,9,-999.0000,9, -999.00,9,-999.0000,9, -999.00,9,  -999.0,9,  -999.0,   0.030,3, -999.00,9, -999.00,9, 1700.40,   3.4633
33RO20100308,      A13.5,      82,          1,         11,      11707,2,20100405,       2243,   -13.5005,      0.941,       5546,  1901.5,   3.4104,  34.9159,2,  34.9168,2, 223.6000,2,   222.8,2,   29.03,2,   23.40,2,    0.00,2,    1.55,2,   0.004,2,   0.004,2,   0.0000,2,  2185.9,2,  2323.8,2,    830.9,2,    20.00,   7.6986,2,    25.00,-999.000,9,-999.0000,9, -999.00,9,-999.0000,9, -999.00,9,  -999.0,9,  -999.0,   0.032,3, -999.00,9, -999.00,9, 1901.50,   3.2610
33RO20100308,      A13.5,      82,          1,         10,      11003,2,20100405,       2243,   -13.5005,      0.941,       5546,  2200.8,   3.1772,  34.9216,2,  34.9224,2, 227.5000,2,   226.7,2,   32.37,2,   23.15,2,    0.00,2,    1.53,2,   0.001,2,   0.001,2,   0.0000,2,  2188.0,2,  2325.3,2,    821.9,2,    20.00,   7.7043,2,    25.00,-999.000,9,-999.0000,9, -999.00,9,-999.0000,9, -999.00,9,  -999.0,9,  -999.0,   0.012,3, -999.00,9, -999.00,9, 2200.80,   3.0032
33RO20100308,      A13.5,      82,          1,          9,      11706,2,20100405,       2243,   -13.5005,      0.941,       5546,  2500.2,   2.9059,  34.9118,2,  34.9135,2, 233.9000,2,   232.5,2,   36.81,2,   22.93,2,    0.00,2,    1.52,2,   0.001,6,   0.002,6,   0.0000,6,  2189.3,2,  2327.8,2,    806.0,2,    20.00,   7.7125,2,    25.00,-999.000,9,-999.0000,9, -999.00,9,-999.0000,9, -999.00,9,  -999.0,9,  -999.0,   0.014,3, -999.00,9, -999.00,9, 2500.20,   2.7077
33RO20100308,      A13.5,      82,          1,          8,      11033,2,20100405,       2243,   -13.5005,      0.941,       5546,  2800.1,   2.7129,  34.9044,2,  34.9041,2, 233.8000,2,   232.1,2,   41.22,2,   23.14,2,    0.00,2,    1.53,2,   0.001,2,   0.001,2,   0.0000,2,  2194.5,2,  2338.0,2,    811.6,2,    20.00,   7.7129,2,    25.00,-999.000,9,-999.0000,9, -999.00,9,-999.0000,9, -999.00,9,  -999.0,9,  -999.0,   0.009,3, -999.00,9, -999.00,9, 2800.10,   2.4888
33RO20100308,      A13.5,      82,          1,          7,      11705,2,20100405,       2243,   -13.5005,      0.941,       5546,  3200.3,   2.5156,  34.8961,2,  34.8972,2, 228.9000,2,   228.1,2,   47.81,2,   23.85,2,    0.00,2,    1.58,2,   0.001,2,   0.002,2,   0.0000,2,  2206.4,2,  2345.3,2,    824.7,2,    20.00,   7.7077,2,    25.00,-999.000,9,-999.0000,9, -999.00,9,-999.0000,9, -999.00,9,  -999.0,9,  -999.0,   0.005,3, -999.00,9, -999.00,9, 3200.30,   2.2548
33RO20100308,      A13.5,      82,          1,          6,      11029,2,20100405,       2243,   -13.5005,      0.941,       5546,  3599.7,   2.3919,  34.8907,2,  34.8920,2, 230.5000,2,   229.0,2,   50.76,2,   23.64,2,    0.00,2,    1.58,2,   0.002,2,   0.002,2,   0.0000,2,  2211.2,2,  2350.6,2,    816.7,2,    20.00,   7.7125,2,    25.00,-999.000,9,-999.0000,9, -999.00,9,-999.0000,9, -999.00,9,  -999.0,9,  -999.0,   0.012,3, -999.00,9, -999.00,9, 3599.70,   2.0914
33RO20100308,      A13.5,      82,          1,          5,      11704,2,20100405,       2243,   -13.5005,      0.941,       5546,  3999.7,   2.3649,  34.8882,2,  34.8915,2, 232.6000,2,   228.9,6,   50.76,6,   23.66,6,    0.00,6,    1.58,6,   0.000,2,   0.002,2,   0.0000,2,  2210.7,2,  2352.1,2,    816.3,2,    20.00,   7.7119,2,    25.00,-999.000,9,-999.0000,9, -999.00,9,-999.0000,9, -999.00,9,  -999.0,9,  -999.0,   0.006,3, -999.00,9, -999.00,9, 3999.70,   2.0205
33RO20100308,      A13.5,      82,          1,          4,      11030,2,20100405,       2243,   -13.5005,      0.941,       5546,  4400.5,   2.3750,  34.8856,2,  34.8862,2, 232.4000,2,   231.8,2,   51.86,6,   23.51,6,    0.00,6,    1.56,6,   0.001,2,   0.002,2,   0.0000,2,  2211.7,2,  2352.4,2,    800.8,6,    20.00,   7.7178,2,    25.00,-999.000,9,-999.0000,9, -999.00,9,-999.0000,9, -999.00,9,  -999.0,9,  -999.0,   0.020,3, -999.00,9, -999.00,9, 4400.50,   1.9835
33RO20100308,      A13.5,      82,          1,          3,      11703,9,20100405,       2243,   -13.5005,      0.941,       5546,  4799.0,   2.3952,  34.8826,2,-999.0000,9, 233.7000,2,  -999.0,9, -999.00,9, -999.00,9, -999.00,9, -999.00,9,-999.000,9,-999.000,9,-999.0000,9,  -999.0,9,  -999.0,9,   -999.0,9,  -999.00,-999.0000,9,  -999.00,-999.000,9,-999.0000,9, -999.00,9,-999.0000,9, -999.00,9,  -999.0,9,  -999.0,-999.000,9, -999.00,9, -999.00,9, 4799.00,   1.9545
33RO20100308,      A13.5,      82,          1,          2,      11702,2,20100405,       2243,   -13.5005,      0.941,       5546,  5151.9,   2.4131,  34.8791,2,  34.8795,2, 236.4000,2,   235.8,2,   52.46,6,   23.43,6,    0.00,6,    1.55,6,   0.005,2,   0.004,2,   0.0000,2,  2211.8,2,  2352.2,2,    800.4,2,    20.00,   7.7189,2,    25.00,-999.000,9,-999.0000,9, -999.00,9,-999.0000,9, -999.00,9,  -999.0,9,  -999.0,   0.048,3, -999.00,9, -999.00,9, 5151.90,   1.9272
33RO20100308,      A13.5,      82,          1,          1,      11701,2,20100405,       2243,   -13.5005,      0.941,       5546,  5634.8,   2.4683,  34.8774,2,  34.8804,2, 236.9000,2,   235.3,2,   52.70,2,   23.43,2,    0.00,2,    1.55,2,   0.008,2,   0.007,2,   0.0000,2,  2210.2,6,  2353.7,2,    801.4,2,    20.00,   7.7188,2,    25.00,-999.000,9,-999.0000,9, -999.00,9,-999.0000,9, -999.00,9,  -999.0,9,  -999.0,   0.068,3, -999.00,9, -999.00,9, 5634.80,   1.9170