BOTTLE,20130404CCHSIOCBG
EXPOCODE,SECT_ID,STNNBR,CASTNO,SAMPNO,BTLNBR,BTLNBR_FLAG_W,DATE,TIME,LATITUDE,LONGITUDE,DEPTH,CTDPRS,CTDTMP,CTDSAL,CTDSAL_FLAG_W,SALNTY,SALNTY_FLAG_W,CTDOXY,CTDOXY_FLAG_W,OXYGEN,OXYGEN_FLAG_W,SILCAT,SILCAT_FLAG_W,NITRAT,NITRAT_FLAG_W,NITRIT,NITRIT_FLAG_W,PHSPHT,PHSPHT_FLAG_W,CFC-11,CFC-11_FLAG_W,CFC-12,CFC-12_FLAG_W,SF6,SF6_FLAG_W,TCARBN,TCARBN_FLAG_W,ALKALI,ALKALI_FLAG_W,FCO2,FCO2_FLAG_W,FCO2TMP,PH_TOT,PH_TOT_FLAG_W,PH_TMP,TRITUM,TRITUM_FLAG_W,HELIUM,HELIUM_FLAG_W,DELHE3,DELHE3_FLAG_W,REFTMP,REFTMP_FLAG_W,DELC13,DELC13_FLAG_W,DELC14,DELC14_FLAG_W,C14ERR,CCL4,CCL4_FLAG_W,DOC,DOC_FLAG_W,TDN,TDN_FLAG_W,CTDRAW,THETA
,,,,,,,,,,,METERS,DBAR,ITS-90,PSS-78,,PSS-78,,UMOL/KG,,UMOL/KG,,UMOL/KG,,UMOL/KG,,UMOL/KG,,UMOL/KG,,PMOL/KG,,PMOL/KG,,FMOL/KG,,UMOL/KG,,UMOL/KG,,UATM,,DEG C,,,DEG C,TU,,NMOL/KG,,PERCNT,,DEG C,,/MILLE,,/MILLE,,/MILLE,PMOL/KG,,UMOL/KG,,UMOL/KG,,DBAR,DEG C
33RO20100308,      A13.5,      67,          1,         24,      11714,2,20100331,       0651,   -20.9997,     1.3233,       5533,     4.6,  23.7075,  36.1496,2,  36.1501,2, 213.0000,2,   213.3,2,    0.72,2,    0.02,2,    0.01,2,    0.30,2,   1.805,2,   1.136,2,   1.1280,2,  2072.2,6,  2377.1,6,    345.5,2,    20.00,   8.0360,2,    25.00,-999.000,9,-999.0000,9, -999.00,9,  23.7036,2, -999.00,9,  -999.0,9,  -999.0,-999.000,5,   67.14,2,    4.85,2,    4.60,  23.7065
33RO20100308,      A13.5,      67,          1,         23,      11713,2,20100331,       0651,   -20.9997,     1.3233,       5533,    44.2,  23.5769,  36.1310,2,  36.1348,2, 214.9000,2,   214.6,6,    0.75,2,    0.02,2,    0.01,2,    0.31,2,   1.822,2,   1.146,2,   1.1250,2,  2072.2,2,  2377.5,2,    346.2,2,    20.00,   8.0339,2,    25.00,-999.000,9,-999.0000,9, -999.00,9,  23.5582,2, -999.00,9,  -999.0,9,  -999.0,   0.000,3,   67.81,2,    4.24,2,   44.20,  23.5677
33RO20100308,      A13.5,      67,          1,         22,      11712,2,20100331,       0651,   -20.9997,     1.3233,       5533,    75.4,  18.6649,  35.6578,2,  35.6689,2, 246.5000,2,   243.5,2,    1.71,2,    0.27,2,    0.03,2,    0.34,2,   2.379,6,   1.446,6,   1.2890,6,  2074.4,2,  2347.9,2,    393.2,6,    20.00,   7.9858,2,    25.00,-999.000,9,-999.0000,9, -999.00,9,  18.7115,2, -999.00,9,  -999.0,9,  -999.0,-999.000,5,   60.70,2,    5.10,2,   75.40,  18.6516
33RO20100308,      A13.5,      67,          1,         21,      11010,2,20100331,       0651,   -20.9997,     1.3233,       5533,   150.0,  14.4795,  35.3324,2,  35.3393,2, 172.5000,2,   173.0,2,    4.23,2,   12.38,2,    0.02,2,    0.93,2,   2.677,2,   1.575,2,   1.2860,2,  2138.6,2,  2321.7,2,    623.4,2,    20.00,   7.8100,2,    25.00,-999.000,9,-999.0000,9, -999.00,9,  14.4835,2, -999.00,9,  -999.0,9,  -999.0,-999.000,5,   50.55,2,   15.85,2,  150.00,  14.4573
33RO20100308,      A13.5,      67,          1,         20,      11715,2,20100331,       0651,   -20.9997,     1.3233,       5533,   274.7,  11.1211,  34.9361,2,  34.9408,2, 175.0000,2,   178.8,2,    7.03,2,   17.84,2,    0.01,2,    1.27,2,   2.936,2,   1.620,2,   0.9480,2,  2152.8,2,  2304.4,2,    733.0,2,    20.00,   7.7424,2,    25.00,-999.000,9,-999.0000,9, -999.00,9,  11.1313,2, -999.00,9,  -999.0,9,  -999.0,-999.000,5,   44.30,2,   20.02,2,  274.70,  11.0869
33RO20100308,      A13.5,      67,          1,         19,      11007,2,20100331,       0651,   -20.9997,     1.3233,       5533,   401.0,   8.0981,  34.6114,2,  34.6077,2, 166.8000,2,   166.1,2,   14.19,2,   26.33,2,    0.00,2,    1.80,2,   2.535,2,   1.319,2,   0.6320,2,  2181.7,2,  2293.7,2,    957.3,2,    20.00,   7.6397,2,    25.00,-999.000,9,-999.0000,9, -999.00,9,   8.0969,2, -999.00,9,  -999.0,9,  -999.0,-999.000,5,   41.72,2,   28.59,2,  401.00,   8.0569
33RO20100308,      A13.5,      67,          1,         18,      11710,2,20100331,       0651,   -20.9997,     1.3233,       5533,   550.0,   5.7668,  34.4606,2,  34.4600,2, 157.3000,2,   154.9,2,   23.31,2,   32.65,2,    0.00,2,    2.21,2,   1.325,3,   0.659,3,   0.2690,3,  2206.9,6,  2293.7,6,   1141.5,2,    20.00,   7.5699,2,    25.00,-999.000,9,-999.0000,9, -999.00,9,   5.7678,2, -999.00,9,  -999.0,9,  -999.0,-999.000,5,   40.28,2,   34.54,2,  550.00,   5.7196
33RO20100308,      A13.5,      67,          1,         17,      11025,2,20100331,       0651,   -20.9997,     1.3233,       5533,   699.8,   4.5917,  34.4363,2,  34.4361,2, 162.3000,2,   161.8,2,   31.61,2,   33.98,2,    0.00,2,    2.33,2,   0.496,2,   0.250,2,   0.0940,2,  2216.2,2,  2300.6,2,   1145.2,6,    20.00,   7.5653,2,    25.00,-999.000,9,-999.0000,9, -999.00,9,   4.5918,2, -999.00,9,  -999.0,9,  -999.0,-999.000,5,   39.00,2,   35.54,2,  699.80,   4.5372
33RO20100308,      A13.5,      67,          1,         16,      11709,2,20100331,       0651,   -20.9997,     1.3233,       5533,   799.9,   4.1309,  34.4558,2,  34.4566,2, 166.5000,2,   166.3,2,   35.95,2,   33.95,2,    0.00,2,    2.33,2,   0.259,2,   0.134,2,   0.1100,2,  2220.3,2,  2305.1,2,   1148.8,2,    20.00,   7.5692,2,    25.00,-999.000,9,-999.0000,9, -999.00,9,   4.1303,2, -999.00,9,  -999.0,9,  -999.0,-999.000,5,   38.71,2,   35.89,2,  799.90,   4.0708
33RO20100308,      A13.5,      67,          1,         15,      11006,2,20100331,       0651,   -20.9997,     1.3233,       5533,  1000.3,   3.7580,  34.5480,2,  34.5475,2, 173.1000,2,   172.8,2,   39.39,2,   32.70,2,    0.00,2,    2.25,2,   0.086,2,   0.047,2,   0.0000,2,  2221.0,2,  2310.9,2,   1104.6,2,    20.00,   7.5866,2,    25.00,-999.000,9,-999.0000,9, -999.00,9,   3.7579,2, -999.00,9,  -999.0,9,  -999.0,-999.000,5,   38.70,2,   34.47,2, 1000.30,   3.6841
33RO20100308,      A13.5,      67,          1,         14,      11708,2,20100331,       0651,   -20.9997,     1.3233,       5533,  1199.3,   3.7014,  34.6655,2,  34.6656,2, 181.0000,2,   180.6,2,   37.66,2,   30.65,2,    0.00,2,    2.11,2,   0.023,2,   0.013,2,   0.0000,2,  2215.3,2,  2316.8,2,   1042.0,2,    20.00,   7.6088,2,    25.00,-999.000,9,-999.0000,9, -999.00,9,   3.7011,2, -999.00,9,  -999.0,9,  -999.0,-999.000,5,   38.66,2,   32.65,2, 1199.30,   3.6113
33RO20100308,      A13.5,      67,          1,         13,      11031,2,20100331,       0651,   -20.9997,     1.3233,       5533,  1402.5,   3.6719,  34.7770,2,  34.7757,2, 196.8000,2,   197.0,2,   33.64,2,   27.69,2,    0.00,2,    1.90,2,   0.007,2,   0.006,2,   0.0000,2,  2203.0,2,  2319.7,2,    950.1,2,    20.00,   7.6469,2,    25.00,-999.000,9,-999.0000,9, -999.00,9,   3.6720,2, -999.00,9,  -999.0,9,  -999.0,-999.000,5,   39.30,2,   29.59,2, 1402.50,   3.5644
33RO20100308,      A13.5,      67,          1,         12,      11027,2,20100331,       0651,   -20.9997,     1.3233,       5533,  1598.1,   3.5055,  34.8458,2,  34.8461,2, 214.2000,2,   214.4,2,   32.22,2,   25.26,2,    0.00,2,    1.72,2,   0.008,2,   0.006,2,   0.0000,2,  2193.4,2,  2320.5,2,    877.3,2,    20.00,   7.6787,2,    25.00,-999.000,9,-999.0000,9, -999.00,9,   3.5054,2, -999.00,9,  -999.0,9,  -999.0,-999.000,5,   38.87,2,   27.17,2, 1598.10,   3.3825
33RO20100308,      A13.5,      67,          1,         11,      11707,2,20100331,       0651,   -20.9997,     1.3233,       5533,  1900.9,   3.2203,  34.8946,2,  34.8956,2, 233.2000,2,   232.8,2,   32.13,2,   22.99,2,    0.00,2,    1.56,2,   0.009,2,   0.007,2,   0.0000,2,  2184.8,2,  2322.0,2,    814.3,2,    20.00,   7.7088,2,    25.00,-999.000,9,-999.0000,9, -999.00,9,   3.2204,2, -999.00,9,  -999.0,9,  -999.0,-999.000,5,   39.27,2,   24.32,2, 1900.90,   3.0737
33RO20100308,      A13.5,      67,          1,         10,      11003,2,20100331,       0651,   -20.9997,     1.3233,       5533,  2200.3,   2.9661,  34.9032,2,  34.9030,2, 238.1000,2,   238.3,2,   35.12,2,   22.49,2,    0.00,2,    1.53,2,   0.007,2,   0.006,2,   0.0000,2,  2184.9,2,  2327.5,2,    800.5,2,    20.00,   7.7170,2,    25.00,-999.000,9,-999.0000,9, -999.00,9,   2.9660,2, -999.00,9,  -999.0,9,  -999.0,-999.000,5,   38.34,2,   24.03,2, 2200.30,   2.7956
33RO20100308,      A13.5,      67,          1,          9,      11706,2,20100331,       0651,   -20.9997,     1.3233,       5533,  2499.9,   2.7508,  34.8973,2,  34.8969,2, 236.9000,2,   236.9,2,   40.10,2,   22.90,2,    0.00,2,    1.56,2,   0.002,2,   0.003,2,   0.0000,2,  2190.9,2,  2334.0,2,    808.0,2,    20.00,   7.7145,2,    25.00,-999.000,9,-999.0000,9, -999.00,9,   2.7507,2, -999.00,9,  -999.0,9,  -999.0,-999.000,5,   38.68,2,   24.60,2, 2499.90,   2.5556
33RO20100308,      A13.5,      67,          1,          8,      11033,2,20100331,       0651,   -20.9997,     1.3233,       5533,  2899.3,   2.5586,  34.8914,2,  34.8920,2, 234.8000,2,   234.7,2,   45.62,2,   23.32,2,    0.00,2,    1.59,2,   0.002,2,   0.002,2,   0.0000,2,  2198.2,2,  2338.6,2,    809.6,2,    20.00,   7.7116,2,    25.00,-999.000,9,-999.0000,9, -999.00,9,   2.5585,2, -999.00,9,  -999.0,9,  -999.0,-999.000,5,   38.24,2,   24.97,2, 2899.30,   2.3278
33RO20100308,      A13.5,      67,          1,          7,      11705,2,20100331,       0651,   -20.9997,     1.3233,       5533,  3300.3,   2.4505,  34.8891,2,  34.8886,2, 233.0000,2,   232.4,2,   49.31,6,   23.57,6,    0.00,2,    1.61,2,   0.002,2,   0.002,2,   0.0000,2,  2206.0,2,  2347.0,2,    810.9,2,    20.00,   7.7119,2,    25.00,-999.000,9,-999.0000,9, -999.00,9,   2.4500,2, -999.00,9,  -999.0,9,  -999.0,-999.000,5,   38.85,2,   25.29,2, 3300.30,   2.1807
33RO20100308,      A13.5,      67,          1,          6,      11029,2,20100331,       0651,   -20.9997,     1.3233,       5533,  3698.8,   2.4064,  34.8892,2,  34.8894,2, 232.9000,2,   231.3,2,   51.06,6,   23.62,6,    0.00,2,    1.60,6,   0.002,2,   0.002,2,   0.0000,2,  2210.6,2,  2350.4,2,    807.7,2,    20.00,   7.7145,2,    25.00,-999.000,9,-999.0000,9, -999.00,9,   2.4061,2, -999.00,9,  -999.0,9,  -999.0,-999.000,5,   39.64,2,   25.57,2, 3698.80,   2.0947
33RO20100308,      A13.5,      67,          1,          5,      11704,2,20100331,       0651,   -20.9997,     1.3233,       5533,  4099.5,   2.3879,  34.8881,2,  34.8899,2, 233.1000,2,   231.5,2,   52.07,6,   23.57,6,    0.00,2,    1.60,6,   0.002,2,   0.003,2,   0.0000,2,  2213.6,2,  2355.9,2,    803.8,2,    20.00,   7.7171,2,    25.00,-999.000,9,-999.0000,9, -999.00,9,   2.3877,2, -999.00,9,  -999.0,9,  -999.0,-999.000,5,   39.91,2,   25.12,2, 4099.50,   2.0313
33RO20100308,      A13.5,      67,          1,          4,      11030,2,20100331,       0651,   -20.9997,     1.3233,       5533,  4500.0,   2.4025,  34.8861,2,  34.8852,2, 232.9000,2,   233.1,2,   52.67,6,   23.53,6,    0.00,2,    1.60,6,   0.004,2,   0.004,2,   0.0000,2,  2213.3,2,  2357.2,6,    801.3,2,    20.00,   7.7191,2,    25.00,-999.000,9,-999.0000,9, -999.00,9,   2.4021,2, -999.00,9,  -999.0,9,  -999.0,-999.000,5,   39.79,2,   25.42,2, 4500.00,   1.9982
33RO20100308,      A13.5,      67,          1,          3,      11703,2,20100331,       0651,   -20.9997,     1.3233,       5533,  4900.9,   2.4288,  34.8842,2,  34.8831,2, 232.4000,2,   232.8,2,   53.01,6,   23.52,6,    0.00,2,    1.59,6,   0.002,2,   0.003,2,   0.0000,6,  2214.6,2,  2358.3,2,    799.4,2,    20.00,   7.7203,2,    25.00,-999.000,9,-999.0000,9, -999.00,9,   2.4289,2, -999.00,9,  -999.0,9,  -999.0,-999.000,5,   40.65,2,   24.89,2, 4900.90,   1.9743
33RO20100308,      A13.5,      67,          1,          2,      11702,2,20100331,       0651,   -20.9997,     1.3233,       5533,  5200.6,   2.4550,  34.8825,2,  34.8828,2, 234.5000,2,   233.9,6,   52.96,6,   23.56,6,    0.00,2,    1.60,6,   0.003,2,   0.005,2,   0.0000,2,  2214.0,2,  2359.6,2,    796.8,2,    20.00,   7.7209,2,    25.00,-999.000,9,-999.0000,9, -999.00,9,   2.4546,2, -999.00,9,  -999.0,9,  -999.0,-999.000,5,   40.74,2,   24.79,2, 5200.60,   1.9614
33RO20100308,      A13.5,      67,          1,          1,      11701,2,20100331,       0651,   -20.9997,     1.3233,       5533,  5614.9,   2.5027,  34.8814,2,  34.8804,2, 227.1000,4,   234.8,2,   53.17,6,   23.55,6,    0.00,2,    1.60,6,   0.003,2,   0.004,2,   0.0000,2,  2214.7,6,  2360.4,6,    797.1,2,    20.00,   7.7208,2,    25.00,-999.000,9,-999.0000,9, -999.00,9,   2.5023,2, -999.00,9,  -999.0,9,  -999.0,-999.000,5,   40.69,2,   25.57,2, 5614.90,   1.9528