BOTTLE,20130404CCHSIOCBG
EXPOCODE,SECT_ID,STNNBR,CASTNO,SAMPNO,BTLNBR,BTLNBR_FLAG_W,DATE,TIME,LATITUDE,LONGITUDE,DEPTH,CTDPRS,CTDTMP,CTDSAL,CTDSAL_FLAG_W,SALNTY,SALNTY_FLAG_W,CTDOXY,CTDOXY_FLAG_W,OXYGEN,OXYGEN_FLAG_W,SILCAT,SILCAT_FLAG_W,NITRAT,NITRAT_FLAG_W,NITRIT,NITRIT_FLAG_W,PHSPHT,PHSPHT_FLAG_W,CFC-11,CFC-11_FLAG_W,CFC-12,CFC-12_FLAG_W,SF6,SF6_FLAG_W,TCARBN,TCARBN_FLAG_W,ALKALI,ALKALI_FLAG_W,FCO2,FCO2_FLAG_W,FCO2TMP,PH_TOT,PH_TOT_FLAG_W,PH_TMP,TRITUM,TRITUM_FLAG_W,HELIUM,HELIUM_FLAG_W,DELHE3,DELHE3_FLAG_W,REFTMP,REFTMP_FLAG_W,DELC13,DELC13_FLAG_W,DELC14,DELC14_FLAG_W,C14ERR,CCL4,CCL4_FLAG_W,DOC,DOC_FLAG_W,TDN,TDN_FLAG_W,CTDRAW,THETA
,,,,,,,,,,,METERS,DBAR,ITS-90,PSS-78,,PSS-78,,UMOL/KG,,UMOL/KG,,UMOL/KG,,UMOL/KG,,UMOL/KG,,UMOL/KG,,PMOL/KG,,PMOL/KG,,FMOL/KG,,UMOL/KG,,UMOL/KG,,UATM,,DEG C,,,DEG C,TU,,NMOL/KG,,PERCNT,,DEG C,,/MILLE,,/MILLE,,/MILLE,PMOL/KG,,UMOL/KG,,UMOL/KG,,DBAR,DEG C
33RO20100308,      A13.5,      44,          1,         24,      11714,2,20100325,       0843,   -32.4998,     1.1238,       4483,     6.1,  21.4923,  35.8468,2,  35.8485,2, 222.1000,2,   222.6,2,    1.73,2,    0.00,2,    0.00,2,    0.14,2,   2.046,2,   1.287,2,   1.1880,2,  2068.3,6,  2354.6,6,    372.7,2,    20.00,   8.0110,2,    25.00,-999.000,9,-999.0000,9, -999.00,9,  21.4904,2, -999.00,9,  -999.0,9,  -999.0,   1.949,3, -999.00,9, -999.00,9,    6.10,  21.4911
33RO20100308,      A13.5,      44,          1,         23,      11713,2,20100325,       0843,   -32.4998,     1.1238,       4483,    44.9,  21.4636,  35.8400,2,  35.8373,2, 223.4000,2,   223.1,2,    1.74,2,    0.01,2,    0.00,2,    0.15,2,-999.000,9,-999.000,9,-999.0000,9,  2067.1,2,  2356.2,2,    369.9,2,    20.00,   8.0114,2,    25.00,-999.000,9,-999.0000,9, -999.00,9,  21.4612,2, -999.00,9,  -999.0,9,  -999.0,-999.000,9, -999.00,9, -999.00,9,   44.90,  21.4549
33RO20100308,      A13.5,      44,          1,         22,      11712,2,20100325,       0843,   -32.4998,     1.1238,       4483,    81.3,  18.2525,  35.6647,2,  35.6589,2, 247.6000,2,   247.3,2,    2.04,2,    0.04,2,    0.00,2,    0.18,2,   2.463,6,   1.512,6,   1.4450,2,  2065.9,2,  2344.3,2,    383.1,6,    20.00,   7.9967,2,    25.00,-999.000,9,-999.0000,9, -999.00,9,  18.2562,2, -999.00,9,  -999.0,9,  -999.0,   2.549,3, -999.00,9, -999.00,9,   81.30,  18.2384
33RO20100308,      A13.5,      44,          1,         21,      11010,2,20100325,       0843,   -32.4998,     1.1238,       4483,   151.1,  15.9048,  35.5488,2,  35.5468,2, 227.0000,2,   226.5,6,    2.39,2,    2.98,2,    0.12,2,    0.37,2,   2.581,2,   1.559,2,   1.3750,2,  2088.6,2,  2336.8,2,    445.2,2,    20.00,   7.9420,2,    25.00,-999.000,9,-999.0000,9, -999.00,9,  15.9027,2, -999.00,9,  -999.0,9,  -999.0,   1.999,3, -999.00,9, -999.00,9,  151.10,  15.8809
33RO20100308,      A13.5,      44,          1,         20,      11715,2,20100325,       0843,   -32.4998,     1.1238,       4483,   224.6,  14.5410,  35.3541,2,  35.3549,2, 222.7000,2,   223.0,2,    2.65,2,    5.36,2,    0.01,2,    0.52,2,   2.766,2,   1.696,2,   2.2460,4,  2099.2,2,  2326.0,2,    489.6,2,    20.00,   7.9051,2,    25.00,-999.000,9,-999.0000,9, -999.00,9,  14.5411,2, -999.00,9,  -999.0,9,  -999.0,   1.825,3, -999.00,9, -999.00,9,  224.60,  14.5076
33RO20100308,      A13.5,      44,          1,         19,      11007,2,20100325,       0843,   -32.4998,     1.1238,       4483,   300.3,  13.4215,  35.2200,2,  35.2193,2, 217.9000,2,   217.7,2,    3.19,2,    8.22,2,    0.00,2,    0.69,2,   2.902,2,   1.702,2,   1.3430,2,  2112.0,2,  2319.4,2,    541.6,2,    20.00,   7.8664,2,    25.00,-999.000,9,-999.0000,9, -999.00,9,  13.4185,2, -999.00,9,  -999.0,9,  -999.0,   1.724,3, -999.00,9, -999.00,9,  300.30,  13.3791
33RO20100308,      A13.5,      44,          1,         18,      11710,2,20100325,       0843,   -32.4998,     1.1238,       4483,   375.3,  12.1391,  35.0595,2,  35.0607,2, 214.6000,2,   212.0,2,    4.45,2,   11.85,2,    0.00,2,    0.91,2,   3.039,2,   1.748,2,   1.2550,2,  2123.5,2,  2311.7,2,    601.3,2,    20.00,   7.8238,2,    25.00,-999.000,9,-999.0000,9, -999.00,9,  12.1368,2, -999.00,9,  -999.0,9,  -999.0,   1.686,3, -999.00,9, -999.00,9,  375.30,  12.0894
33RO20100308,      A13.5,      44,          1,         17,      11025,2,20100325,       0843,   -32.4998,     1.1238,       4483,   451.2,  11.2189,  34.9422,2,  34.9422,2, 218.5000,2,   212.3,2,    5.29,2,   13.98,2,    0.00,2,    1.05,2,   3.125,2,   1.770,2,   1.1430,2,  2130.7,2,  2306.4,2,    641.7,2,    20.00,   7.7989,2,    25.00,-999.000,9,-999.0000,9, -999.00,9,  11.2190,2, -999.00,9,  -999.0,9,  -999.0,   1.900,3, -999.00,9, -999.00,9,  451.20,  11.1619
33RO20100308,      A13.5,      44,          1,         16,      11709,2,20100325,       0843,   -32.4998,     1.1238,       4483,   550.4,   9.4848,  34.7269,2,  34.7263,2, 216.0000,2,   216.3,2,    6.62,2,   17.63,2,    0.00,2,    1.28,2,   3.275,2,   1.816,2,   1.2010,2,  2140.4,2,  2296.5,2,    710.3,2,    20.00,   7.7580,2,    25.00,-999.000,9,-999.0000,9, -999.00,9,   9.4851,2, -999.00,9,  -999.0,9,  -999.0,   2.534,3, -999.00,9, -999.00,9,  550.40,   9.4220
33RO20100308,      A13.5,      44,          1,         15,      11006,2,20100325,       0843,   -32.4998,     1.1238,       4483,   649.9,   7.8655,  34.5417,2,  34.5359,2, 212.4000,2,   211.1,2,   10.34,2,   22.32,2,    0.00,2,    1.58,2,   3.297,2,   1.790,2,   0.9240,2,  2155.8,2,  2290.4,2,    813.3,2,    20.00,   7.7059,2,    25.00,-999.000,9,-999.0000,9, -999.00,9,   7.8698,2, -999.00,9,  -999.0,9,  -999.0,   3.393,3, -999.00,9, -999.00,9,  649.90,   7.7989
33RO20100308,      A13.5,      44,          1,         14,      11708,2,20100325,       0843,   -32.4998,     1.1238,       4483,   749.9,   6.1174,  34.3715,2,  34.3714,2, 220.3000,2,   220.5,2,   14.24,2,   26.02,2,    0.00,2,    1.81,2,-999.000,9,-999.000,9,-999.0000,9,  2164.8,2,  2284.9,2,    882.4,2,    20.00,   7.6720,2,    25.00,-999.000,9,-999.0000,9, -999.00,9,   6.1179,2, -999.00,9,  -999.0,9,  -999.0,-999.000,9, -999.00,9, -999.00,9,  749.90,   6.0501
33RO20100308,      A13.5,      44,          1,         13,      11031,2,20100325,       0843,   -32.4998,     1.1238,       4483,   901.7,   4.7829,  34.3067,2,  34.3059,2, 216.9000,2,   220.8,2,   22.64,2,   28.97,2,    0.00,2,    2.01,2,   2.937,2,   1.515,2,   0.7170,2,  2179.1,2,  2289.8,2,    951.3,2,    20.00,   7.6452,2,    25.00,-999.000,9,-999.0000,9, -999.00,9,   4.7837,2, -999.00,9,  -999.0,9,  -999.0,   4.498,3, -999.00,9, -999.00,9,  901.70,   4.7102
33RO20100308,      A13.5,      44,          1,         12,      11027,2,20100325,       0843,   -32.4998,     1.1238,       4483,  1151.2,   3.5018,  34.3737,2,  34.3720,2, 197.5000,2,   199.0,2,   42.49,2,   32.13,2,    0.00,2,    2.26,2,-999.000,9,-999.000,9,-999.0000,9,  2210.9,2,  2307.4,2,   1071.1,6,    20.00,   7.5987,2,    25.00,-999.000,9,-999.0000,9, -999.00,9,   3.4992,2, -999.00,9,  -999.0,9,  -999.0,-999.000,9, -999.00,9, -999.00,9, 1151.20,   3.4180
33RO20100308,      A13.5,      44,          1,         11,      11707,2,20100325,       0843,   -32.4998,     1.1238,       4483,  1399.6,   3.0643,  34.5309,2,  34.5292,2, 180.9000,2,   182.4,2,   56.11,2,   32.44,2,    0.00,2,    2.29,2,   0.547,2,   0.249,2,   0.1230,2,  2231.6,6,  2323.5,6,   1122.8,2,    20.00,   7.5858,2,    25.00,-999.000,9,-999.0000,9, -999.00,9,   3.0649,2, -999.00,9,  -999.0,9,  -999.0,   1.375,3, -999.00,9, -999.00,9, 1399.60,   2.9642
33RO20100308,      A13.5,      44,          1,         10,      11003,2,20100325,       0843,   -32.4998,     1.1238,       4483,  1700.1,   2.9064,  34.6827,2,  34.6802,2, 188.5000,2,   189.6,2,   57.37,2,   30.39,2,    0.00,2,    2.12,2,-999.000,9,-999.000,9,-999.0000,9,  2227.3,2,  2330.3,2,   1039.2,2,    20.00,   7.6140,2,    25.00,-999.000,9,-999.0000,9, -999.00,9,   2.9061,2, -999.00,9,  -999.0,9,  -999.0,-999.000,9, -999.00,9, -999.00,9, 1700.10,   2.7825
33RO20100308,      A13.5,      44,          1,          9,      11706,2,20100325,       0843,   -32.4998,     1.1238,       4483,  2001.2,   2.7827,  34.7903,2,  34.7896,2, 206.9000,2,   207.6,2,   53.63,2,   27.19,2,    0.00,2,    1.89,2,   0.052,2,   0.023,2,   0.0000,2,  2213.1,2,  2331.6,2,    938.5,2,    20.00,   7.6548,2,    25.00,-999.000,9,-999.0000,9, -999.00,9,   2.7826,2, -999.00,9,  -999.0,9,  -999.0,   0.218,3, -999.00,9, -999.00,9, 2001.20,   2.6338
33RO20100308,      A13.5,      44,          1,          8,      11033,2,20100325,       0843,   -32.4998,     1.1238,       4483,  2298.6,   2.5649,  34.8246,2,  34.8230,2, 218.0000,2,   219.2,2,   54.71,2,   25.65,2,    0.00,2,    1.79,2,-999.000,9,-999.000,9,-999.0000,9,  2209.5,2,  2335.6,2,    893.7,2,    20.00,   7.6757,2,    25.00,-999.000,9,-999.0000,9, -999.00,9,   2.5645,2, -999.00,9,  -999.0,9,  -999.0,-999.000,9, -999.00,9, -999.00,9, 2298.60,   2.3923
33RO20100308,      A13.5,      44,          1,          7,      11705,2,20100325,       0843,   -32.4998,     1.1238,       4483,  2596.1,   2.4429,  34.8426,2,  34.8404,2, 225.9000,2,   226.4,2,   54.88,2,   24.84,2,    0.00,2,    1.73,2,   0.019,2,   0.009,2,   0.0000,2,  2206.8,2,  2336.5,2,    863.4,2,    20.00,   7.6894,2,    25.00,-999.000,9,-999.0000,9, -999.00,9,   2.4426,2, -999.00,9,  -999.0,9,  -999.0,   0.123,3, -999.00,9, -999.00,9, 2596.10,   2.2444
33RO20100308,      A13.5,      44,          1,          6,      11029,2,20100325,       0843,   -32.4998,     1.1238,       4483,  2900.1,   2.3501,  34.8529,2,-999.0000,9, 231.0000,2,   230.8,2,   55.30,2,   24.45,2,    0.00,2,    1.70,2,-999.000,9,-999.000,9,-999.0000,9,  2206.0,2,  2341.5,2,    847.0,2,    20.00,   7.6992,2,    25.00,-999.000,9,-999.0000,9, -999.00,9,   2.3499,2, -999.00,9,  -999.0,9,  -999.0,-999.000,9, -999.00,9, -999.00,9, 2900.10,   2.1238
33RO20100308,      A13.5,      44,          1,          5,      11704,2,20100325,       0843,   -32.4998,     1.1238,       4483,  3199.4,   2.2832,  34.8584,2,  34.8572,2, 233.1000,2,   232.7,6,   56.69,6,   24.38,6,    0.00,6,    1.67,6,   0.008,2,   0.004,2,   0.0000,2,  2207.5,2,  2345.9,2,    838.2,2,    20.00,   7.7038,2,    25.00,-999.000,9,-999.0000,9, -999.00,9,   2.2833,2, -999.00,9,  -999.0,9,  -999.0,   0.073,3, -999.00,9, -999.00,9, 3199.40,   2.0280
33RO20100308,      A13.5,      44,          1,          4,      11030,2,20100325,       0843,   -32.4998,     1.1238,       4483,  3501.4,   2.2459,  34.8626,2,  34.8615,2, 233.7000,2,   231.9,2,   57.70,6,   24.42,6,    0.00,6,    1.67,6,-999.000,9,-999.000,9,-999.0000,9,  2210.2,2,  2350.6,2,    827.0,2,    20.00,   7.7084,2,    25.00,-999.000,9,-999.0000,9, -999.00,9,   2.2451,2, -999.00,9,  -999.0,9,  -999.0,-999.000,9, -999.00,9, -999.00,9, 3501.40,   1.9599
33RO20100308,      A13.5,      44,          1,          3,      11703,2,20100325,       0843,   -32.4998,     1.1238,       4483,  3799.6,   1.9667,  34.8312,2,  34.8295,2, 228.5000,2,   227.6,2,   70.23,6,   25.84,6,    0.00,6,    1.79,6,   0.018,2,   0.009,2,   0.0000,2,  2223.3,2,  2354.9,2,    864.1,2,    20.00,   7.6907,2,    25.00,-999.000,9,-999.0000,9, -999.00,9,   1.9665,2, -999.00,9,  -999.0,9,  -999.0,   0.117,3, -999.00,9, -999.00,9, 3799.60,   1.6558
33RO20100308,      A13.5,      44,          1,          2,      11702,2,20100325,       0843,   -32.4998,     1.1238,       4483,  4100.6,   1.3616,  34.7657,2,  34.7636,2, 219.9000,2,   219.7,2,   95.77,6,   29.03,6,    0.00,6,    2.03,6,   0.050,2,   0.021,2,   0.0000,2,  2243.9,2,  2364.3,2,    946.4,2,    20.00,   7.6553,2,    25.00,-999.000,9,-999.0000,9, -999.00,9,   1.3607,2, -999.00,9,  -999.0,9,  -999.0,   0.293,3, -999.00,9, -999.00,9, 4100.60,   1.0351
33RO20100308,      A13.5,      44,          1,          1,      11701,2,20100325,       0843,   -32.4998,     1.1238,       4483,  4544.6,   1.1361,  34.7386,2,  34.7377,2, 218.4000,2,   216.5,2,  106.22,6,   30.27,6,    0.00,6,    2.12,6,   0.069,2,   0.029,2,   0.0000,2,  2253.1,6,  2369.4,6,    981.5,2,    20.00,   7.6412,2,    25.00,-999.000,9,-999.0000,9, -999.00,9,   1.1356,2, -999.00,9,  -999.0,9,  -999.0,   0.331,3, -999.00,9, -999.00,9, 4544.60,   0.7669