BOTTLE,20130404CCHSIOCBG
EXPOCODE,SECT_ID,STNNBR,CASTNO,SAMPNO,BTLNBR,BTLNBR_FLAG_W,DATE,TIME,LATITUDE,LONGITUDE,DEPTH,CTDPRS,CTDTMP,CTDSAL,CTDSAL_FLAG_W,SALNTY,SALNTY_FLAG_W,CTDOXY,CTDOXY_FLAG_W,OXYGEN,OXYGEN_FLAG_W,SILCAT,SILCAT_FLAG_W,NITRAT,NITRAT_FLAG_W,NITRIT,NITRIT_FLAG_W,PHSPHT,PHSPHT_FLAG_W,CFC-11,CFC-11_FLAG_W,CFC-12,CFC-12_FLAG_W,SF6,SF6_FLAG_W,TCARBN,TCARBN_FLAG_W,ALKALI,ALKALI_FLAG_W,FCO2,FCO2_FLAG_W,FCO2TMP,PH_TOT,PH_TOT_FLAG_W,PH_TMP,TRITUM,TRITUM_FLAG_W,HELIUM,HELIUM_FLAG_W,DELHE3,DELHE3_FLAG_W,REFTMP,REFTMP_FLAG_W,DELC13,DELC13_FLAG_W,DELC14,DELC14_FLAG_W,C14ERR,CCL4,CCL4_FLAG_W,DOC,DOC_FLAG_W,TDN,TDN_FLAG_W,CTDRAW,THETA
,,,,,,,,,,,METERS,DBAR,ITS-90,PSS-78,,PSS-78,,UMOL/KG,,UMOL/KG,,UMOL/KG,,UMOL/KG,,UMOL/KG,,UMOL/KG,,PMOL/KG,,PMOL/KG,,FMOL/KG,,UMOL/KG,,UMOL/KG,,UATM,,DEG C,,,DEG C,TU,,NMOL/KG,,PERCNT,,DEG C,,/MILLE,,/MILLE,,/MILLE,PMOL/KG,,UMOL/KG,,UMOL/KG,,DBAR,DEG C
33RO20100308,      A13.5,      28,          1,         24,      11714,2,20100321,       0312,   -40.4998,     0.9773,       4691,     6.1,  14.5636,  34.6007,2,  34.6012,2, 260.5000,2,   259.5,2,    0.21,2,    2.51,2,    0.08,2,    0.40,2,   2.862,2,   1.687,2,   1.4470,2,  2058.0,6,  2297.5,6,    437.2,2,    20.00,   7.9469,2,    25.00,-999.000,9,-999.0000,9, -999.00,9,  14.5619,2, -999.00,9,  -999.0,9,  -999.0,   3.236,3, -999.00,9, -999.00,9,    6.10,  14.5627
33RO20100308,      A13.5,      28,          1,         23,      11713,2,20100321,       0312,   -40.4998,     0.9773,       4691,    59.8,  13.8640,  34.5989,2,  34.5985,2, 253.2000,2,   253.1,2,    0.31,2,    3.40,2,    0.12,2,    0.48,2,   2.919,2,   1.728,2,   1.5930,2,  2070.3,2,  2295.8,2,    464.3,6,    20.00,   7.9245,2,    25.00,-999.000,9,-999.0000,9, -999.00,9,  13.8623,2, -999.00,9,  -999.0,9,  -999.0,   3.204,3, -999.00,9, -999.00,9,   59.80,  13.8555
33RO20100308,      A13.5,      28,          1,         22,      11712,2,20100321,       0312,   -40.4998,     0.9773,       4691,    90.1,  12.1217,  34.5472,2,  34.5459,2, 260.5000,2,   260.0,2,    0.71,2,    6.25,2,    0.23,2,    0.67,2,   3.190,6,   1.864,6,   1.6790,6,  2085.2,2,  2293.4,2,    509.2,2,    20.00,   7.8857,2,    25.00,-999.000,9,-999.0000,9, -999.00,9,  12.1242,2, -999.00,9,  -999.0,9,  -999.0,   3.537,3, -999.00,9, -999.00,9,   90.10,  12.1100
33RO20100308,      A13.5,      28,          1,         21,      11010,2,20100321,       0312,   -40.4998,     0.9773,       4691,   198.9,   9.6822,  34.5883,2,  34.5903,2, 253.2000,4,   420.9,4,    2.34,2,   12.33,2,    0.01,2,    0.96,2,   3.523,2,   2.032,2,   1.7590,2,  2111.0,2,  2289.0,2,    623.2,2,    20.00,   7.8139,2,    25.00,-999.000,9,-999.0000,9, -999.00,9,   9.6933,2, -999.00,9,  -999.0,9,  -999.0,   2.802,3, -999.00,9, -999.00,9,  198.90,   9.6597
33RO20100308,      A13.5,      28,          1,         20,      11715,2,20100321,       0312,   -40.4998,     0.9773,       4691,   299.6,   8.7927,  34.5788,2,  34.5779,2, 243.5000,2,   242.2,2,    4.21,2,   16.40,2,    0.01,2,    1.19,2,   3.634,2,   2.054,2,   1.5510,2,  2131.5,2,  2288.9,2,    697.0,2,    20.00,   7.7670,2,    25.00,-999.000,9,-999.0000,9, -999.00,9,   8.7929,2, -999.00,9,  -999.0,9,  -999.0,   2.765,3, -999.00,9, -999.00,9,  299.60,   8.7606
33RO20100308,      A13.5,      28,          1,         19,      11007,2,20100321,       0312,   -40.4998,     0.9773,       4691,   399.4,   7.6403,  34.4698,2,  34.4694,2, 237.9000,2,   237.6,2,    6.39,2,   20.04,2,    0.01,2,    1.42,2,   3.747,2,   2.081,2,   1.4320,2,  2143.8,2,  2282.3,2,    765.0,2,    20.00,   7.7295,2,    25.00,-999.000,9,-999.0000,9, -999.00,9,   7.6375,2, -999.00,9,  -999.0,9,  -999.0,   3.086,3, -999.00,9, -999.00,9,  399.40,   7.6007
33RO20100308,      A13.5,      28,          1,         18,      11710,2,20100321,       0312,   -40.4998,     0.9773,       4691,   500.3,   6.0922,  34.3226,2,  34.3235,2, 232.6000,2,   235.3,2,   10.44,2,   24.60,2,    0.00,2,    1.71,2,   3.846,2,   2.069,2,   1.2680,2,  2157.3,2,  2281.4,2,    850.5,2,    20.00,   7.6844,2,    25.00,-999.000,9,-999.0000,9, -999.00,9,   6.0940,2, -999.00,9,  -999.0,9,  -999.0,   3.561,3, -999.00,9, -999.00,9,  500.30,   6.0483
33RO20100308,      A13.5,      28,          1,         17,      11025,2,20100321,       0312,   -40.4998,     0.9773,       4691,   600.4,   4.8784,  34.2333,2,  34.2329,2, 238.2000,2,   239.7,2,   14.94,2,   27.22,2,    0.00,2,    1.89,2,   3.809,2,   2.000,2,   1.0920,2,  2164.6,2,  2276.6,2,    903.9,2,    20.00,   7.6625,2,    25.00,-999.000,9,-999.0000,9, -999.00,9,   4.8816,2, -999.00,9,  -999.0,9,  -999.0,   3.844,3, -999.00,9, -999.00,9,  600.40,   4.8310
33RO20100308,      A13.5,      28,          1,         16,      11709,2,20100321,       0312,   -40.4998,     0.9773,       4691,   700.7,   4.2611,  34.2292,2,  34.2287,2, 235.7000,2,   236.4,2,   20.80,2,   28.75,2,    0.00,2,    1.99,2,   3.444,2,   1.773,2,   0.9080,2,  2173.0,2,  2285.0,2,    927.1,2,    20.00,   7.6483,2,    25.00,-999.000,9,-999.0000,9, -999.00,9,   4.2585,2, -999.00,9,  -999.0,9,  -999.0,   3.737,3, -999.00,9, -999.00,9,  700.70,   4.2086
33RO20100308,      A13.5,      28,          1,         15,      11006,2,20100321,       0312,   -40.4998,     0.9773,       4691,   798.9,   3.8040,  34.2396,2,  34.2385,2, 229.7000,2,   230.9,6,   26.45,2,   29.94,2,    0.00,2,    2.08,2,   3.081,2,   1.570,2,   0.7710,2,  2183.3,2,  2288.7,2,    976.5,2,    20.00,   7.6337,2,    25.00,-999.000,9,-999.0000,9, -999.00,9,   3.8041,2, -999.00,9,  -999.0,9,  -999.0,   3.441,3, -999.00,9, -999.00,9,  798.90,   3.7463
33RO20100308,      A13.5,      28,          1,         14,      11708,2,20100321,       0312,   -40.4998,     0.9773,       4691,   998.8,   3.2276,  34.3365,2,  34.3354,2, 211.4000,2,   207.9,2,   42.75,2,   32.38,2,    0.00,2,    2.25,2,   1.908,2,   0.931,2,   0.3710,2,  2210.5,2,  2304.1,2,   1075.5,2,    20.00,   7.5963,2,    25.00,-999.000,9,-999.0000,9, -999.00,9,   3.2282,2, -999.00,9,  -999.0,9,  -999.0,   2.360,3, -999.00,9, -999.00,9,  998.80,   3.1583
33RO20100308,      A13.5,      28,          1,         13,      11031,2,20100321,       0312,   -40.4998,     0.9773,       4691,  1199.8,   3.0811,  34.4561,2,  34.4557,2, 182.8000,2,   183.4,2,   55.70,2,   33.29,2,    0.00,2,    2.33,2,   0.979,2,   0.472,2,   0.1760,2,  2231.1,2,  2318.1,2,   1139.4,2,    20.00,   7.5767,2,    25.00,-999.000,9,-999.0000,9, -999.00,9,   3.0799,2, -999.00,9,  -999.0,9,  -999.0,   1.376,3, -999.00,9, -999.00,9, 1199.80,   2.9971
33RO20100308,      A13.5,      28,          1,         12,      11027,2,20100321,       0312,   -40.4998,     0.9773,       4691,  1400.9,   2.8913,  34.5453,2,  34.5458,2, 178.6000,2,   177.4,2,   62.04,2,   32.98,6,    0.00,6,    2.31,6,   0.521,2,   0.255,2,   0.0950,2,  2239.4,2,  -999.0,5,   1144.5,2,    20.00,   7.5775,2,    25.00,-999.000,9,-999.0000,9, -999.00,9,   2.8892,2, -999.00,9,  -999.0,9,  -999.0,   0.849,3, -999.00,9, -999.00,9, 1400.90,   2.7929
33RO20100308,      A13.5,      28,          1,         11,      11707,2,20100321,       0312,   -40.4998,     0.9773,       4691,  1599.2,   2.8139,  34.6431,2,  34.6430,2, 180.8000,2,   178.1,2,   64.98,2,   31.78,6,    0.00,6,    2.22,6,   0.250,2,   0.120,2,   0.0450,2,  2240.1,2,  2333.9,2,   1103.8,2,    20.00,   7.5893,2,    25.00,-999.000,9,-999.0000,9, -999.00,9,   2.8145,2, -999.00,9,  -999.0,9,  -999.0,   0.482,3, -999.00,9, -999.00,9, 1599.20,   2.6998
33RO20100308,      A13.5,      28,          1,         10,      11003,2,20100321,       0312,   -40.4998,     0.9773,       4691,  1800.2,   2.7162,  34.7155,2,  34.7149,2, 187.6000,2,   187.9,2,   64.37,2,   30.12,2,    0.00,2,    2.10,2,   0.149,2,   0.072,2,   0.0000,2,  2234.0,2,  2336.5,2,   1049.9,2,    20.00,   7.6113,2,    25.00,-999.000,9,-999.0000,9, -999.00,9,   2.7166,2, -999.00,9,  -999.0,9,  -999.0,   0.316,3, -999.00,9, -999.00,9, 1800.20,   2.5861
33RO20100308,      A13.5,      28,          1,          9,      11706,2,20100321,       0312,   -40.4998,     0.9773,       4691,  1999.5,   2.6645,  34.7735,2,  34.7738,2, 197.7000,2,   199.0,2,   61.33,2,   28.34,2,    0.00,2,    1.97,2,   0.083,2,   0.039,2,   0.0000,2,  2226.2,2,  2336.1,2,    977.4,2,    20.00,   7.6364,2,    25.00,-999.000,9,-999.0000,9, -999.00,9,   2.6643,2, -999.00,9,  -999.0,9,  -999.0,   0.201,3, -999.00,9, -999.00,9, 1999.50,   2.5175
33RO20100308,      A13.5,      28,          1,          8,      11033,2,20100321,       0312,   -40.4998,     0.9773,       4691,  2299.9,   2.5481,  34.8133,2,  34.8126,2, 210.0000,2,   210.5,2,   59.06,2,   26.76,2,    0.00,2,    1.85,2,   0.041,2,   0.021,2,   0.0000,2,  2217.8,2,  2338.4,2,    921.1,2,    20.00,   7.6600,2,    25.00,-999.000,9,-999.0000,9, -999.00,9,   2.5480,2, -999.00,9,  -999.0,9,  -999.0,   0.115,3, -999.00,9, -999.00,9, 2299.90,   2.3757
33RO20100308,      A13.5,      28,          1,          7,      11705,2,20100321,       0312,   -40.4998,     0.9773,       4691,  2600.5,   2.4240,  34.8328,2,  34.8327,2, 218.1000,2,   219.4,2,   58.41,6,   25.82,6,    0.00,6,    1.77,6,   0.024,2,   0.015,2,   0.0420,2,  2213.3,2,  2337.9,2,    885.1,2,    20.00,   7.6765,2,    25.00,-999.000,9,-999.0000,9, -999.00,9,   2.4238,2, -999.00,9,  -999.0,9,  -999.0,   0.074,3, -999.00,9, -999.00,9, 2600.50,   2.2255
33RO20100308,      A13.5,      28,          1,          6,      11029,2,20100321,       0312,   -40.4998,     0.9773,       4691,  2900.9,   2.2792,  34.8310,2,  34.8310,2, 219.2000,2,   220.9,2,   62.61,2,   25.92,2,    0.00,2,    1.78,2,   0.023,2,   0.012,2,   0.0000,2,  2216.8,2,  2341.0,2,    883.7,2,    20.00,   7.6782,2,    25.00,-999.000,9,-999.0000,9, -999.00,9,   2.2786,2, -999.00,9,  -999.0,9,  -999.0,   0.075,3, -999.00,9, -999.00,9, 2900.90,   2.0544
33RO20100308,      A13.5,      28,          1,          5,      11704,2,20100321,       0312,   -40.4998,     0.9773,       4691,  3300.2,   2.0563,  34.8225,2,  34.8209,2, 221.0000,2,   221.6,2,   69.67,2,   26.41,2,    0.00,2,    1.82,2,   0.026,2,   0.013,2,   0.0000,2,  2221.7,2,  2341.0,2,    892.7,2,    20.00,   7.6772,2,    25.00,-999.000,9,-999.0000,9, -999.00,9,   2.0559,2, -999.00,9,  -999.0,9,  -999.0,   0.071,3, -999.00,9, -999.00,9, 3300.20,   1.7962
33RO20100308,      A13.5,      28,          1,          4,      11030,2,20100321,       0312,   -40.4998,     0.9773,       4691,  3700.4,   1.5744,  34.7765,2,  34.7763,2, 216.0000,2,   216.1,6,   89.27,6,   28.55,6,    0.00,6,    1.98,6,   0.060,2,   0.031,2,   0.0230,2,  2238.4,2,  2356.7,2,    949.5,2,    20.00,   7.6519,2,    25.00,-999.000,9,-999.0000,9, -999.00,9,   1.5739,2, -999.00,9,  -999.0,9,  -999.0,   0.138,3, -999.00,9, -999.00,9, 3700.40,   1.2849
33RO20100308,      A13.5,      28,          1,          3,      11703,2,20100321,       0312,   -40.4998,     0.9773,       4691,  4100.9,   1.2190,  34.7472,2,  34.7470,2, 216.3000,2,   216.0,2,  102.33,2,   29.90,6,    0.00,6,    2.07,6,   0.076,6,   0.037,6,   0.0000,2,  2248.7,2,  2362.8,2,    980.1,2,    20.00,   7.6392,2,    25.00,-999.000,9,-999.0000,9, -999.00,9,   1.2186,2, -999.00,9,  -999.0,9,  -999.0,   0.191,3, -999.00,9, -999.00,9, 4100.90,   0.8967
33RO20100308,      A13.5,      28,          1,          2,      11702,2,20100321,       0312,   -40.4998,     0.9773,       4691,  4500.4,   1.0999,  34.7343,2,  34.7347,2, 216.6000,2,   215.5,2,  107.83,2,   30.53,2,    0.00,2,    2.12,2,   0.091,2,   0.044,2,   0.0240,2,  2252.7,2,  2364.1,2,    997.8,6,    20.00,   7.6361,2,    25.00,-999.000,9,-999.0000,9, -999.00,9,   1.0993,2, -999.00,9,  -999.0,9,  -999.0,   0.222,3, -999.00,9, -999.00,9, 4500.40,   0.7369
33RO20100308,      A13.5,      28,          1,          1,      11701,2,20100321,       0312,   -40.4998,     0.9773,       4691,  4775.2,   1.0934,  34.7303,2,  34.7308,2, 216.4000,2,   214.1,2,  109.47,2,   30.67,2,    0.01,2,    2.14,2,   0.109,2,   0.053,2,   0.0000,2,  2255.2,6,  2364.5,6,    994.2,2,    20.00,   7.6365,2,    25.00,-999.000,9,-999.0000,9, -999.00,9,   1.0926,2, -999.00,9,  -999.0,9,  -999.0,   0.244,3, -999.00,9, -999.00,9, 4775.20,   0.6991