BOTTLE,20130404CCHSIOCBG
EXPOCODE,SECT_ID,STNNBR,CASTNO,SAMPNO,BTLNBR,BTLNBR_FLAG_W,DATE,TIME,LATITUDE,LONGITUDE,DEPTH,CTDPRS,CTDTMP,CTDSAL,CTDSAL_FLAG_W,SALNTY,SALNTY_FLAG_W,CTDOXY,CTDOXY_FLAG_W,OXYGEN,OXYGEN_FLAG_W,SILCAT,SILCAT_FLAG_W,NITRAT,NITRAT_FLAG_W,NITRIT,NITRIT_FLAG_W,PHSPHT,PHSPHT_FLAG_W,CFC-11,CFC-11_FLAG_W,CFC-12,CFC-12_FLAG_W,SF6,SF6_FLAG_W,TCARBN,TCARBN_FLAG_W,ALKALI,ALKALI_FLAG_W,FCO2,FCO2_FLAG_W,FCO2TMP,PH_TOT,PH_TOT_FLAG_W,PH_TMP,TRITUM,TRITUM_FLAG_W,HELIUM,HELIUM_FLAG_W,DELHE3,DELHE3_FLAG_W,REFTMP,REFTMP_FLAG_W,DELC13,DELC13_FLAG_W,DELC14,DELC14_FLAG_W,C14ERR,CCL4,CCL4_FLAG_W,DOC,DOC_FLAG_W,TDN,TDN_FLAG_W,CTDRAW,THETA
,,,,,,,,,,,METERS,DBAR,ITS-90,PSS-78,,PSS-78,,UMOL/KG,,UMOL/KG,,UMOL/KG,,UMOL/KG,,UMOL/KG,,UMOL/KG,,PMOL/KG,,PMOL/KG,,FMOL/KG,,UMOL/KG,,UMOL/KG,,UATM,,DEG C,,,DEG C,TU,,NMOL/KG,,PERCNT,,DEG C,,/MILLE,,/MILLE,,/MILLE,PMOL/KG,,UMOL/KG,,UMOL/KG,,DBAR,DEG C
33RO20100308,      A13.5,      49,          1,         24,      11714,2,20100326,       1545,   -29.9998,      1.833,       3615,     5.7,  22.4952,  35.8808,2,  35.8777,2, 219.6000,2,   220.1,2,    1.49,2,    0.01,2,    0.00,2,    0.15,2,   1.977,2,   1.228,2,   1.1890,2,  2070.0,6,  2357.6,2,    360.0,2,    20.00,   8.0212,2,    25.00,-999.000,1,-999.0000,1, -999.00,9,  22.4847,2,    1.40,2,    53.3,2,     3.1,   2.813,3,   68.99,2,    5.33,2,    5.70,  22.4941
33RO20100308,      A13.5,      49,          1,         23,      11713,2,20100326,       1545,   -29.9998,      1.833,       3615,    25.0,  22.0854,  35.8679,2,  35.8671,2, 220.0000,2,   220.4,2,    1.47,2,    0.01,2,    0.00,2,    0.15,2,   1.978,2,   1.225,2,   1.1730,2,  2067.0,2,  2358.7,2,    359.1,6,    20.00,   8.0213,2,    25.00,-999.000,1,-999.0000,1, -999.00,9,  22.0909,2,    1.39,2,    43.7,2,     3.0,   2.733,3,   68.90,2,    5.60,2,   25.00,  22.0804
33RO20100308,      A13.5,      49,          1,         22,      11712,2,20100326,       1545,   -29.9998,      1.833,       3615,    50.1,  22.0474,  35.8637,2,  35.8433,2, 219.9000,2,   221.8,2,    1.51,2,    0.03,2,    0.00,2,    0.16,2,   1.998,6,   1.240,6,   1.1740,6,  2066.2,2,  2356.4,6,    359.2,2,    20.00,   8.0191,2,    25.00,-999.000,1,-999.0000,1, -999.00,9,  22.0516,2,    1.34,2,    42.8,2,     3.8,   2.668,3,   64.99,2,    4.95,2,   50.10,  22.0374
33RO20100308,      A13.5,      49,          1,         21,      11010,2,20100326,       1545,   -29.9998,      1.833,       3615,   100.7,  16.3731,  35.4983,2,-999.0000,9, 236.5000,2,   235.4,2,    2.32,2,    1.25,2,    0.13,2,    0.31,2,   2.556,2,   1.559,2,   1.3750,2,  2079.3,2,  2334.2,6,    420.5,2,    20.00,   7.9611,2,    25.00,-999.000,1,-999.0000,1, -999.00,9,  16.3761,2,    1.11,2,    51.4,2,     2.9,   1.987,3, -999.00,9, -999.00,9,  100.70,  16.3569
33RO20100308,      A13.5,      49,          1,         20,      11715,2,20100326,       1545,   -29.9998,      1.833,       3615,   200.1,  13.6702,  35.2282,2,  35.2245,2, 212.2000,2,   214.3,2,    3.64,2,    8.53,2,    0.01,2,    0.72,2,   2.837,2,   1.683,2,   1.3090,2,  2113.4,2,  2318.4,2,    538.0,2,    20.00,   7.8670,2,    25.00,-999.000,1,-999.0000,1, -999.00,9,  13.6689,2,    0.95,2,    51.3,2,     2.9,   1.439,3,   51.40,2,   11.70,2,  200.10,  13.6417
33RO20100308,      A13.5,      49,          1,         19,      11007,2,20100326,       1545,   -29.9998,      1.833,       3615,   299.5,  11.3087,  34.9499,2,  34.9458,2, 210.5000,2,   209.2,2,    5.65,2,   14.17,2,    0.00,2,    1.06,2,   3.089,2,   1.756,2,   1.1230,2,  2132.9,2,  2305.6,2,    644.2,2,    20.00,   7.7961,2,    25.00,-999.000,1,-999.0000,1, -999.00,9,  11.3071,2,    0.99,2,    45.2,2,     3.0,   1.633,3,   46.02,2,   16.40,2,  299.50,  11.2710
33RO20100308,      A13.5,      49,          1,         18,      11710,2,20100326,       1545,   -29.9998,      1.833,       3615,   399.0,   9.7050,  34.7554,2,  34.7549,2, 196.7000,2,   195.9,2,    9.32,2,   19.09,2,    0.00,2,    1.39,2,   3.071,2,   1.706,2,   0.9900,2,  2153.9,2,  2297.7,2,    758.3,2,    20.00,   7.7304,2,    25.00,-999.000,1,-999.0000,1, -999.00,9,   9.7059,2,    0.92,2,    30.3,2,     3.4,   1.829,3,   44.61,2,   21.48,2,  399.00,   9.6592
33RO20100308,      A13.5,      49,          1,         17,      11025,2,20100326,       1545,   -29.9998,      1.833,       3615,   498.8,   8.4728,  34.6286,2,  34.6300,2, 186.4000,2,   185.3,2,   12.59,2,   23.27,2,    0.00,2,    1.65,2,   2.861,2,   1.545,2,   0.7390,2,  2168.6,2,  2294.1,2,    861.3,2,    20.00,   7.6821,2,    25.00,-999.000,1,-999.0000,1, -999.00,9,   8.4720,2,    0.89,2,     8.6,2,     2.9,   1.951,3,   43.16,2,   25.05,2,  498.80,   8.4199
33RO20100308,      A13.5,      49,          1,         16,      11709,2,20100326,       1545,   -29.9998,      1.833,       3615,   599.9,   6.2381,  34.4041,2,-999.0000,9, 212.0000,2,   211.8,6,   16.50,2,   26.37,2,    0.00,2,    1.85,2,   3.051,2,   1.620,2,   0.7980,2,  2170.4,2,  2288.5,2,    899.7,2,    20.00,   7.6662,2,    25.00,-999.000,1,-999.0000,1, -999.00,9,   6.2367,2,    1.10,2,   -15.7,2,     2.6,   2.935,3,   41.50,2,   28.05,2,  599.90,   6.1843
33RO20100308,      A13.5,      49,          1,         15,      11006,2,20100326,       1545,   -29.9998,      1.833,       3615,   699.4,   5.2127,  34.3397,2,  34.3390,2, 215.2000,2,   214.5,2,   21.23,2,   28.44,2,    0.00,2,    1.99,2,   2.871,2,   1.494,2,   0.6950,2,  2179.2,2,  2289.3,2,    946.9,2,    20.00,   7.6464,2,    25.00,-999.000,1,-999.0000,1, -999.00,9,   5.2120,2,    1.04,2,   -39.3,2,     2.6,   3.393,3,   41.29,2,   29.71,2,  699.40,   5.1550
33RO20100308,      A13.5,      49,          1,         14,      11708,2,20100326,       1545,   -29.9998,      1.833,       3615,   799.7,   4.3197,  34.3170,2,-999.0000,9, 214.5000,2,   214.1,2,   28.21,2,   30.15,2,    0.00,2,    2.11,2,   2.499,2,   1.266,2,   0.5530,2,  2192.0,2,  2294.9,2,    987.3,2,    20.00,   7.6290,2,    25.00,-999.000,1,-999.0000,1, -999.00,9,   4.3259,2,    1.02,2,   -60.8,2,     3.2,   3.081,3,   39.69,2,   31.23,2,  799.70,   4.2587
33RO20100308,      A13.5,      49,          1,         13,      11031,2,20100326,       1545,   -29.9998,      1.833,       3615,   900.5,   3.9103,  34.3623,2,  34.3624,2, 199.9000,2,   199.0,2,   37.25,2,   31.67,2,    0.00,2,    2.22,2,   1.821,2,   0.898,2,   0.3550,2,  2209.7,2,  2303.4,2,   1053.8,2,    20.00,   7.6050,2,    25.00,-999.000,1,-999.0000,1, -999.00,9,   3.9100,2,    0.88,2,   -81.0,2,     2.8,   2.454,3,   39.21,2,   32.77,2,  900.50,   3.8437
33RO20100308,      A13.5,      49,          1,         12,      11027,2,20100326,       1545,   -29.9998,      1.833,       3615,  1099.9,   3.2794,  34.4912,2,  34.4923,2, 180.9000,2,   180.8,2,   52.44,2,   32.90,2,    0.00,2,    2.32,2,   0.692,2,   0.337,2,   0.1080,2,  2235.0,2,  2319.4,2,   1126.9,2,    20.00,   7.5828,2,    25.00,-999.000,1,-999.0000,1, -999.00,9,   3.2787,2,    0.68,2,  -119.2,2,     2.4,   1.155,3,   39.39,2,   34.43,2, 1099.90,   3.2015
33RO20100308,      A13.5,      49,          1,         11,      11707,2,20100326,       1545,   -29.9998,      1.833,       3615,  1300.0,   3.1152,  34.6239,2,  34.6247,2, 182.7000,2,   182.4,2,   53.68,2,   31.28,2,    0.00,2,    2.20,2,   0.234,2,   0.114,2,   0.0000,2,  2232.5,6,  2325.5,2,   1076.0,2,    20.00,   7.5998,2,    25.00,-999.000,1,-999.0000,1, -999.00,9,   3.1152,2,    0.73,2,  -122.7,2,     3.1,   0.493,3,   38.85,2,   32.90,2, 1300.00,   3.0225
33RO20100308,      A13.5,      49,          1,         10,      11003,2,20100326,       1545,   -29.9998,      1.833,       3615,  1500.0,   3.1070,  34.7386,2,  34.7374,2, 195.4000,2,   195.6,2,   48.32,2,   28.56,2,    0.00,2,    2.00,2,   0.075,2,   0.036,2,   0.0000,2,  2224.4,2,  2327.7,6,    983.6,2,    20.00,   7.6347,2,    25.00,-999.000,1,-999.0000,1, -999.00,9,   3.1063,2,    0.84,2,  -120.1,2,     2.8,   0.193,3,   39.13,2,   30.62,2, 1500.00,   2.9975
33RO20100308,      A13.5,      49,          1,          9,      11706,2,20100326,       1545,   -29.9998,      1.833,       3615,  1700.0,   2.9735,  34.7911,2,  34.7919,2, 205.4000,2,   206.5,6,   47.49,2,   26.98,2,    0.00,2,    1.88,2,   0.048,2,   0.024,2,   0.0000,2,  2216.0,2,  2329.6,2,    928.6,2,    20.00,   7.6560,2,    25.00,-999.000,1,-999.0000,1, -999.00,9,   2.9747,2,    0.80,2,  -121.4,2,     2.4,   0.137,3,   39.60,2,   28.54,2, 1700.00,   2.8484
33RO20100308,      A13.5,      49,          1,          8,      11033,2,20100326,       1545,   -29.9998,      1.833,       3615,  1900.6,   2.8378,  34.8143,2,  34.8150,2, 211.4000,2,   214.1,2,   48.57,2,   26.16,2,    0.00,2,    1.82,2,   0.037,2,   0.018,2,   0.0000,2,  2212.1,2,  2331.0,2,    902.6,2,    20.00,   7.6683,2,    25.00,-999.000,1,-999.0000,1, -999.00,9,   2.8352,2,    0.84,2,  -120.9,2,     2.4,   0.117,3,   39.16,2,   27.97,2, 1900.60,   2.6969
33RO20100308,      A13.5,      49,          1,          7,      11705,2,20100326,       1545,   -29.9998,      1.833,       3615,  2099.9,   2.6999,  34.8323,2,  34.8319,2, 219.6000,2,   219.8,2,   49.68,2,   25.49,2,    0.00,2,    1.77,2,   0.023,6,   0.011,6,   0.0090,6,  2208.1,2,  2334.2,2,    880.1,2,    20.00,   7.6800,2,    25.00,-999.000,9,-999.0000,1, -999.00,9,   2.6996,2,    0.95,2,  -117.1,2,     2.4,   0.085,3,   39.39,2,   27.50,2, 2099.90,   2.5432
33RO20100308,      A13.5,      49,          1,          6,      11029,2,20100326,       1545,   -29.9998,      1.833,       3615,  2399.3,   2.5314,  34.8432,2,  34.8442,2, 224.9000,2,   225.2,2,   51.93,2,   24.96,2,    0.00,2,    1.73,2,   0.016,2,   0.008,2,   0.0000,2,  2208.6,2,  2337.0,2,    860.2,2,    20.00,   7.6882,2,    25.00,-999.000,1,-999.0000,1, -999.00,9,   2.5310,2,    0.84,2,  -115.3,2,     2.4,   0.069,3,   38.97,2,   26.93,2, 2399.30,   2.3499
33RO20100308,      A13.5,      49,          1,          5,      11704,2,20100326,       1545,   -29.9998,      1.833,       3615,  2699.1,   2.4378,  34.8526,2,  34.8524,2, 228.5000,2,   228.1,2,   53.00,6,   24.49,6,    0.00,6,    1.69,6,   0.011,2,   0.006,2,   0.0000,2,  2207.8,2,  2341.0,2,    850.0,6,    20.00,   7.6965,2,    25.00,-999.000,9,-999.0000,1, -999.00,9,   2.4374,2,    0.87,2,  -114.7,2,     2.5,   0.051,3,   39.12,2,   26.07,2, 2699.10,   2.2295
33RO20100308,      A13.5,      49,          1,          4,      11030,2,20100326,       1545,   -29.9998,      1.833,       3615,  2999.3,   2.3492,  34.8620,2,  34.8612,2, 232.4000,2,   232.2,2,   53.48,6,   24.04,6,    0.00,6,    1.66,6,   0.015,2,   0.009,2,   0.0000,2,  2207.4,2,  2344.7,2,    824.4,2,    20.00,   7.7050,2,    25.00,-999.000,1,-999.0000,1, -999.00,9,   2.3491,2,    0.89,2,  -118.9,2,     2.4,   0.049,3,   38.85,2,   25.57,2, 2999.30,   2.1129
33RO20100308,      A13.5,      49,          1,          3,      11703,2,20100326,       1545,   -29.9998,      1.833,       3615,  3299.1,   2.3072,  34.8706,2,  34.8719,2, 233.4000,2,   232.7,2,   53.86,6,   23.78,6,    0.00,6,    1.64,6,   0.008,2,   0.005,2,   0.0000,2,  2210.4,2,  2346.6,2,    812.0,2,    20.00,   7.7134,2,    25.00,-999.000,9,-999.0000,1, -999.00,9,   2.3063,2,    0.88,2,  -122.5,2,     2.5,   0.029,3,   39.21,2,   25.65,2, 3299.10,   2.0410
33RO20100308,      A13.5,      49,          1,          2,      11702,2,20100326,       1545,   -29.9998,      1.833,       3615,  3499.4,   2.2932,  34.8760,2,  34.8757,2, 232.8000,2,   232.2,2,   54.14,6,   23.68,6,    0.00,6,    1.63,6,   0.000,2,   0.003,2,   0.0000,2,  2212.7,2,  2354.3,6,    803.8,2,    20.00,   7.7169,2,    25.00,-999.000,1,-999.0000,1, -999.00,9,   2.2925,2,    0.89,2,  -119.8,2,     2.5,   0.016,3,   39.51,2,   25.42,2, 3499.40,   2.0061
33RO20100308,      A13.5,      49,          1,          1,      11701,2,20100326,       1545,   -29.9998,      1.833,       3615,  3657.9,   2.2917,  34.8799,2,  34.8805,2, 232.1000,2,   232.1,2,   54.20,6,   23.61,6,    0.00,6,    1.63,6,   0.000,2,   0.003,2,   0.0000,2,  2218.0,6,  2358.1,2,    800.4,2,    20.00,   7.7190,2,    25.00,-999.000,1,-999.0000,1, -999.00,9,   2.2910,2,    0.85,2,  -119.5,2,     2.4,   0.011,3,   39.56,2,   25.81,2, 3657.90,   1.9875