BOTTLE,20130404CCHSIOCBG
EXPOCODE,SECT_ID,STNNBR,CASTNO,SAMPNO,BTLNBR,BTLNBR_FLAG_W,DATE,TIME,LATITUDE,LONGITUDE,DEPTH,CTDPRS,CTDTMP,CTDSAL,CTDSAL_FLAG_W,SALNTY,SALNTY_FLAG_W,CTDOXY,CTDOXY_FLAG_W,OXYGEN,OXYGEN_FLAG_W,SILCAT,SILCAT_FLAG_W,NITRAT,NITRAT_FLAG_W,NITRIT,NITRIT_FLAG_W,PHSPHT,PHSPHT_FLAG_W,CFC-11,CFC-11_FLAG_W,CFC-12,CFC-12_FLAG_W,SF6,SF6_FLAG_W,TCARBN,TCARBN_FLAG_W,ALKALI,ALKALI_FLAG_W,FCO2,FCO2_FLAG_W,FCO2TMP,PH_TOT,PH_TOT_FLAG_W,PH_TMP,TRITUM,TRITUM_FLAG_W,HELIUM,HELIUM_FLAG_W,DELHE3,DELHE3_FLAG_W,REFTMP,REFTMP_FLAG_W,DELC13,DELC13_FLAG_W,DELC14,DELC14_FLAG_W,C14ERR,CCL4,CCL4_FLAG_W,DOC,DOC_FLAG_W,TDN,TDN_FLAG_W,CTDRAW,THETA
,,,,,,,,,,,METERS,DBAR,ITS-90,PSS-78,,PSS-78,,UMOL/KG,,UMOL/KG,,UMOL/KG,,UMOL/KG,,UMOL/KG,,UMOL/KG,,PMOL/KG,,PMOL/KG,,FMOL/KG,,UMOL/KG,,UMOL/KG,,UATM,,DEG C,,,DEG C,TU,,NMOL/KG,,PERCNT,,DEG C,,/MILLE,,/MILLE,,/MILLE,PMOL/KG,,UMOL/KG,,UMOL/KG,,DBAR,DEG C
33RO20100308,      A13.5,      56,          1,         24,      11714,2,20100328,       0751,   -26.4997,     1.6467,       5130,     5.7,  22.4048,  35.8989,2,  35.8991,2, 215.0000,2,   218.1,2,    1.98,2,    0.00,2,    0.00,2,    0.14,2,   1.942,2,   1.151,3,   1.2300,2,  2069.1,6,  2358.8,6,    360.5,2,    20.00,   8.0186,2,    25.00,-999.000,9,-999.0000,9, -999.00,9,  22.4049,2, -999.00,9,  -999.0,9,  -999.0,   2.827,3, -999.00,9, -999.00,9,    5.70,  22.4037
33RO20100308,      A13.5,      56,          1,         23,      11713,2,20100328,       0751,   -26.4997,     1.6467,       5130,    49.9,  20.9077,  35.7450,2,  35.7783,2, 230.0000,2,   235.7,2,    2.10,2,    0.00,2,    0.00,2,    0.14,2,-999.000,9,-999.000,9,-999.0000,9,  2064.6,2,  2349.9,2,    364.7,6,    20.00,   8.0133,2,    25.00,-999.000,9,-999.0000,9, -999.00,9,  20.9197,2, -999.00,9,  -999.0,9,  -999.0,-999.000,9, -999.00,9, -999.00,9,   49.90,  20.8982
33RO20100308,      A13.5,      56,          1,         22,      11712,2,20100328,       0751,   -26.4997,     1.6467,       5130,    74.7,  17.6584,  35.6545,2,  35.6513,2, 248.3000,2,   248.1,6,    2.43,2,    0.05,2,    0.00,2,    0.17,2,   2.458,2,   1.448,2,   1.3640,2,  2066.4,2,  2342.2,2,    380.6,2,    20.00,   7.9979,2,    25.00,-999.000,9,-999.0000,9, -999.00,9,  17.6786,2, -999.00,9,  -999.0,9,  -999.0,   2.201,3, -999.00,9, -999.00,9,   74.70,  17.6457
33RO20100308,      A13.5,      56,          1,         21,      11010,2,20100328,       0751,   -26.4997,     1.6467,       5130,   125.1,  15.8710,  35.5422,2,  35.5308,2, 225.5000,2,   224.7,2,    2.84,2,    3.22,2,    0.04,2,    0.38,2,-999.000,9,-999.000,9,-999.0000,9,  2091.8,2,  2333.9,2,    443.5,2,    20.00,   7.9402,2,    25.00,-999.000,9,-999.0000,9, -999.00,9,  15.8720,2, -999.00,9,  -999.0,9,  -999.0,-999.000,9, -999.00,9, -999.00,9,  125.10,  15.8513
33RO20100308,      A13.5,      56,          1,         20,      11715,2,20100328,       0751,   -26.4997,     1.6467,       5130,   174.9,  14.7135,  35.3689,2,  35.3723,2, 225.9000,2,   224.5,2,    2.83,2,    4.74,2,    0.01,2,    0.48,2,   2.686,6,   1.578,6,   1.4240,6,  2098.9,2,  2325.5,2,    476.3,2,    20.00,   7.9132,2,    25.00,-999.000,9,-999.0000,9, -999.00,9,  14.7175,2, -999.00,9,  -999.0,9,  -999.0,   1.539,3, -999.00,9, -999.00,9,  174.90,  14.6873
33RO20100308,      A13.5,      56,          1,         19,      11007,2,20100328,       0751,   -26.4997,     1.6467,       5130,   250.1,  13.3278,  35.2035,2,  35.1998,2, 219.9000,2,   217.4,2,    3.90,2,    8.59,2,    0.00,2,    0.71,2,   2.878,2,   1.645,2,   1.3490,2,  2114.8,2,  2317.1,2,    540.3,2,    20.00,   7.8641,2,    25.00,-999.000,9,-999.0000,9, -999.00,9,  13.3292,2, -999.00,9,  -999.0,9,  -999.0,   1.504,3, -999.00,9, -999.00,9,  250.10,  13.2927
33RO20100308,      A13.5,      56,          1,         18,      11710,2,20100328,       0751,   -26.4997,     1.6467,       5130,   350.0,  11.3210,  34.9572,2,  34.9574,2, 211.3000,2,   213.5,2,    5.44,2,   13.55,2,    0.00,2,    1.01,2,   2.911,2,   1.628,2,   1.0930,2,  2131.4,2,  2304.8,2,    630.1,2,    20.00,   7.8066,2,    25.00,-999.000,9,-999.0000,9, -999.00,9,  11.3228,2, -999.00,9,  -999.0,9,  -999.0,   1.434,3, -999.00,9, -999.00,9,  350.00,  11.2768
33RO20100308,      A13.5,      56,          1,         17,      11025,2,20100328,       0751,   -26.4997,     1.6467,       5130,   600.4,   6.2831,  34.4302,2,  34.4299,2, 202.5000,2,   195.9,2,   18.25,2,   27.57,2,    0.00,2,    1.91,2,   2.725,2,   1.388,2,   0.6330,2,  2181.2,2,  2290.1,2,    947.5,2,    20.00,   7.6434,2,    25.00,-999.000,9,-999.0000,9, -999.00,9,   6.2824,2, -999.00,9,  -999.0,9,  -999.0,   2.676,3, -999.00,9, -999.00,9,  600.40,   6.2290
33RO20100308,      A13.5,      56,          1,         16,      11709,2,20100328,       0751,   -26.4997,     1.6467,       5130,   750.2,   4.4897,  34.3408,2,  34.3436,2, 204.5000,2,   203.7,2,   28.96,2,   30.52,2,    0.00,2,    2.12,2,-999.000,9,-999.000,9,-999.0000,9,  2196.7,2,  2294.3,2,   1014.2,2,    20.00,   7.6197,2,    25.00,-999.000,9,-999.0000,9, -999.00,9,   4.4858,2, -999.00,9,  -999.0,9,  -999.0,-999.000,9, -999.00,9, -999.00,9,  750.20,   4.4317
33RO20100308,      A13.5,      56,          1,         15,      11006,2,20100328,       0751,   -26.4997,     1.6467,       5130,   900.5,   3.8750,  34.4100,2,  34.4125,2, 183.2000,2,   182.0,2,   40.56,2,   32.75,2,    0.00,2,    2.29,2,   1.048,2,   0.480,2,   0.2000,2,  2219.9,2,  2305.1,2,   1112.2,2,    20.00,   7.5857,2,    25.00,-999.000,9,-999.0000,9, -999.00,9,   3.8742,2, -999.00,9,  -999.0,9,  -999.0,   1.637,3, -999.00,9, -999.00,9,  900.50,   3.8085
33RO20100308,      A13.5,      56,          1,         14,      11708,2,20100328,       0751,   -26.4997,     1.6467,       5130,  1049.8,   3.4942,  34.5046,2,  34.5051,2, 177.3000,2,   177.0,2,   46.89,2,   32.70,2,    0.00,2,    2.29,2,-999.000,9,-999.000,9,-999.0000,9,  2226.8,6,  2314.4,2,   1107.8,2,    20.00,   7.5845,2,    25.00,-999.000,9,-999.0000,9, -999.00,9,   3.4937,2, -999.00,9,  -999.0,9,  -999.0,-999.000,9, -999.00,9, -999.00,9, 1049.80,   3.4185
33RO20100308,      A13.5,      56,          1,         13,      11031,2,20100328,       0751,   -26.4997,     1.6467,       5130,  1199.5,   3.3828,  34.6143,2,  34.6158,2, 181.4000,2,   181.2,2,   46.49,2,   31.12,2,    0.00,2,    2.17,2,   0.115,3,   0.019,3,   0.0300,2,  2224.7,2,  2323.1,3,   1059.0,6,    20.00,   7.6035,2,    25.00,-999.000,9,-999.0000,9, -999.00,9,   3.3825,2, -999.00,9,  -999.0,9,  -999.0,   0.344,3, -999.00,9, -999.00,9, 1199.50,   3.2957
33RO20100308,      A13.5,      56,          1,         12,      11027,2,20100328,       0751,   -26.4997,     1.6467,       5130,  1399.4,   3.3406,  34.7400,2,  34.7404,2, 195.4000,2,   195.6,2,   42.03,2,   28.17,2,    0.00,2,    1.95,2,-999.000,9,-999.000,9,-999.0000,9,  2213.3,2,  2320.7,2,    964.6,2,    20.00,   7.6401,2,    25.00,-999.000,9,-999.0000,9, -999.00,9,   3.3408,2, -999.00,9,  -999.0,9,  -999.0,-999.000,9, -999.00,9, -999.00,9, 1399.40,   3.2370
33RO20100308,      A13.5,      56,          1,         11,      11707,2,20100328,       0751,   -26.4997,     1.6467,       5130,  1600.1,   3.2498,  34.8118,2,  34.8116,2, 209.7000,2,   209.8,2,   39.26,2,   25.86,2,    0.00,2,    1.79,2,   0.012,2,   0.007,2,   0.0480,2,  2203.9,2,  2322.1,2,    898.9,2,    20.00,   7.6691,2,    25.00,-999.000,9,-999.0000,9, -999.00,9,   3.2494,2, -999.00,9,  -999.0,9,  -999.0,   0.079,3, -999.00,9, -999.00,9, 1600.10,   3.1299
33RO20100308,      A13.5,      56,          1,         10,      11003,2,20100328,       0751,   -26.4997,     1.6467,       5130,  1800.5,   3.0648,  34.8432,2,  34.8438,2, 220.2000,2,   221.0,2,   39.95,2,   24.65,2,    0.00,2,    1.69,2,-999.000,9,-999.000,9,-999.0000,9,  2200.5,2,  2324.0,2,    860.5,2,    20.00,   7.6868,2,    25.00,-999.000,9,-999.0000,9, -999.00,9,   3.0645,2, -999.00,9,  -999.0,9,  -999.0,-999.000,9, -999.00,9, -999.00,9, 1800.50,   2.9295
33RO20100308,      A13.5,      56,          1,          9,      11706,2,20100328,       0751,   -26.4997,     1.6467,       5130,  2100.0,   2.7211,  34.8450,2,  34.8442,2, 224.8000,2,   225.5,2,   46.37,2,   24.45,2,    0.00,2,    1.69,2,   0.007,2,   0.004,2,   0.0290,2,  2201.8,2,  2329.9,2,    855.1,2,    20.00,   7.6931,2,    25.00,-999.000,9,-999.0000,9, -999.00,9,   2.7215,2, -999.00,9,  -999.0,9,  -999.0,   0.053,3, -999.00,9, -999.00,9, 2100.00,   2.5640
33RO20100308,      A13.5,      56,          1,          8,      11033,2,20100328,       0751,   -26.4997,     1.6467,       5130,  2400.1,   2.5306,  34.8535,2,  34.8534,2, 229.9000,2,   229.6,2,   49.43,2,   24.22,2,    0.00,2,    1.67,2,-999.000,9,-999.000,9,-999.0000,9,  2202.9,2,  2334.4,2,    841.0,2,    20.00,   7.6994,2,    25.00,-999.000,9,-999.0000,9, -999.00,9,   2.5301,2, -999.00,9,  -999.0,9,  -999.0,-999.000,9, -999.00,9, -999.00,9, 2400.10,   2.3490
33RO20100308,      A13.5,      56,          1,          7,      11705,2,20100328,       0751,   -26.4997,     1.6467,       5130,  2700.3,   2.4355,  34.8660,2,  34.8658,2, 234.1000,2,   233.9,2,   49.84,2,   23.67,2,    0.00,2,    1.63,2,-999.000,9,-999.000,9,-999.0000,9,  2203.3,2,  2336.1,2,    817.9,2,    20.00,   7.7096,2,    25.00,-999.000,9,-999.0000,9, -999.00,9,   2.4347,2, -999.00,9,  -999.0,9,  -999.0,-999.000,9, -999.00,9, -999.00,9, 2700.30,   2.2270
33RO20100308,      A13.5,      56,          1,          6,      11029,2,20100328,       0751,   -26.4997,     1.6467,       5130,  2999.6,   2.3679,  34.8733,2,  34.8723,2, 234.0000,2,   234.1,2,   51.17,6,   23.55,6,    0.00,6,    1.61,6,   0.004,2,   0.004,2,   0.0440,2,  2206.1,2,  2343.5,2,    810.5,2,    20.00,   7.7138,2,    25.00,-999.000,9,-999.0000,9, -999.00,9,   2.3678,2, -999.00,9,  -999.0,9,  -999.0,   0.016,3, -999.00,9, -999.00,9, 2999.60,   2.1311
33RO20100308,      A13.5,      56,          1,          5,      11704,2,20100328,       0751,   -26.4997,     1.6467,       5130,  3399.8,   2.3355,  34.8808,2,  34.8807,2, 232.9000,2,   232.2,2,   52.22,6,   23.49,6,    0.00,6,    1.61,6,-999.000,9,-999.000,9,-999.0000,9,  2212.4,2,  2350.4,2,    798.5,2,    20.00,   7.7183,2,    25.00,-999.000,9,-999.0000,9, -999.00,9,   2.3352,2, -999.00,9,  -999.0,9,  -999.0,-999.000,9, -999.00,9, -999.00,9, 3399.80,   2.0580
33RO20100308,      A13.5,      56,          1,          4,      11030,2,20100328,       0751,   -26.4997,     1.6467,       5130,  3798.7,   2.3364,  34.8833,2,  34.8835,2, 232.0000,2,   232.1,2,   53.01,6,   23.47,6,    0.00,6,    1.60,6,-999.000,9,-999.000,9,-999.0000,9,  2216.8,2,  2357.6,2,    794.8,2,    20.00,   7.7216,2,    25.00,-999.000,9,-999.0000,9, -999.00,9,   2.3357,2, -999.00,9,  -999.0,9,  -999.0,-999.000,9, -999.00,9, -999.00,9, 3798.70,   2.0154
33RO20100308,      A13.5,      56,          1,          3,      11703,2,20100328,       0751,   -26.4997,     1.6467,       5130,  4199.0,   2.3681,  34.8849,2,  34.8859,2, 232.0000,2,   231.4,6,   52.96,6,   23.41,6,    0.00,6,    1.60,6,   0.002,2,   0.002,2,   0.0000,2,  2217.3,2,  2357.9,2,    795.5,2,    20.00,   7.7231,2,    25.00,-999.000,9,-999.0000,9, -999.00,9,   2.3679,2, -999.00,9,  -999.0,9,  -999.0,   0.014,3, -999.00,9, -999.00,9, 4199.00,   2.0006
33RO20100308,      A13.5,      56,          1,          2,      11702,4,20100328,       0751,   -26.4997,     1.6467,       5130,  4600.2,   2.4085,  34.8849,4,  35.6300,4, 232.1000,4,   242.2,4, -999.00,9, -999.00,9, -999.00,9, -999.00,9,-999.000,9,-999.000,9,-999.0000,9,  -999.0,9,  -999.0,9,   -999.0,9,  -999.00,   7.9897,4,    25.00,-999.000,9,-999.0000,9, -999.00,9,   2.4078,2, -999.00,9,  -999.0,9,  -999.0,-999.000,9, -999.00,9, -999.00,9, 4600.20,   1.9919
33RO20100308,      A13.5,      56,          1,          1,      11701,2,20100328,       0751,   -26.4997,     1.6467,       5130,  5199.6,   2.4804,  34.8844,2,  34.8858,2, 232.4000,2,   231.1,2,   53.04,6,   23.41,6,    0.00,6,    1.60,6,   0.003,2,   0.004,2,   0.0000,2,  2218.2,6,  2358.5,6,    794.8,2,    20.00,   7.7247,2,    25.00,-999.000,9,-999.0000,9, -999.00,9,   2.4795,2, -999.00,9,  -999.0,9,  -999.0,   0.018,3, -999.00,9, -999.00,9, 5199.60,   1.9860