BOTTLE,20130404CCHSIOCBG
EXPOCODE,SECT_ID,STNNBR,CASTNO,SAMPNO,BTLNBR,BTLNBR_FLAG_W,DATE,TIME,LATITUDE,LONGITUDE,DEPTH,CTDPRS,CTDTMP,CTDSAL,CTDSAL_FLAG_W,SALNTY,SALNTY_FLAG_W,CTDOXY,CTDOXY_FLAG_W,OXYGEN,OXYGEN_FLAG_W,SILCAT,SILCAT_FLAG_W,NITRAT,NITRAT_FLAG_W,NITRIT,NITRIT_FLAG_W,PHSPHT,PHSPHT_FLAG_W,CFC-11,CFC-11_FLAG_W,CFC-12,CFC-12_FLAG_W,SF6,SF6_FLAG_W,TCARBN,TCARBN_FLAG_W,ALKALI,ALKALI_FLAG_W,FCO2,FCO2_FLAG_W,FCO2TMP,PH_TOT,PH_TOT_FLAG_W,PH_TMP,TRITUM,TRITUM_FLAG_W,HELIUM,HELIUM_FLAG_W,DELHE3,DELHE3_FLAG_W,REFTMP,REFTMP_FLAG_W,DELC13,DELC13_FLAG_W,DELC14,DELC14_FLAG_W,C14ERR,CCL4,CCL4_FLAG_W,DOC,DOC_FLAG_W,TDN,TDN_FLAG_W,CTDRAW,THETA
,,,,,,,,,,,METERS,DBAR,ITS-90,PSS-78,,PSS-78,,UMOL/KG,,UMOL/KG,,UMOL/KG,,UMOL/KG,,UMOL/KG,,UMOL/KG,,PMOL/KG,,PMOL/KG,,FMOL/KG,,UMOL/KG,,UMOL/KG,,UATM,,DEG C,,,DEG C,TU,,NMOL/KG,,PERCNT,,DEG C,,/MILLE,,/MILLE,,/MILLE,PMOL/KG,,UMOL/KG,,UMOL/KG,,DBAR,DEG C
33RO20100308,      A13.5,     101,          1,         24,      11714,2,20100411,       0945,    -4.0003,    -3.0002,       4520,     5.0,  28.5211,  35.4386,2,  35.4423,2, 197.1000,2,   197.3,2,    0.81,6,    0.06,4,    0.01,6,    0.04,6,   1.518,2,   0.970,2,   1.0320,2,  1999.0,6,  2324.5,2,    296.6,2,    20.00,   8.0861,2,    25.00,-999.000,9,-999.0000,9, -999.00,9,-999.0000,9, -999.00,9,  -999.0,9,  -999.0,-999.000,5,   70.99,4,    5.07,4,    5.00,  28.5199
33RO20100308,      A13.5,     101,          1,         23,      11716,2,20100411,       0945,    -4.0003,    -3.0002,       4520,    50.1,  16.9086,  35.7320,2,  35.7267,2, 150.8000,2,   148.6,2,    4.24,2,   11.54,4,    0.34,2,    0.92,2,   2.172,2,   1.264,2,   0.8740,2,  2152.2,2,  2344.8,6,    601.0,2,    20.00,   7.8295,2,    25.00,-999.000,9,-999.0000,9, -999.00,9,-999.0000,9, -999.00,9,  -999.0,9,  -999.0,-999.000,5,   53.05,4,   15.28,4,   50.10,  16.9003
33RO20100308,      A13.5,     101,          1,         22,      11022,2,20100411,       0945,    -4.0003,    -3.0002,       4520,    79.5,  15.9142,  35.6734,2,  35.6707,2, 134.0000,2,   132.2,2,    5.37,2,   13.20,4,    0.08,2,    1.07,2,   2.211,6,   1.276,6,   0.8700,6,  2164.8,2,  2341.9,6,    661.3,2,    20.00,   7.7896,2,    25.00,-999.000,9,-999.0000,9, -999.00,9,-999.0000,9, -999.00,9,  -999.0,9,  -999.0,-999.000,5,   50.04,4,   17.09,4,   79.50,  15.9016
33RO20100308,      A13.5,     101,          1,         21,      11010,2,20100411,       0945,    -4.0003,    -3.0002,       4520,    99.6,  15.6884,  35.6505,2,  35.6479,2, 127.9000,2,   127.0,2,    5.73,2,   13.84,4,    0.05,2,    1.12,2,   2.196,2,   1.266,2,   0.7980,2,  2168.8,2,  2341.3,2,    683.5,2,    20.00,   7.7771,2,    25.00,-999.000,9,-999.0000,9, -999.00,9,-999.0000,9, -999.00,9,  -999.0,9,  -999.0,-999.000,5,   48.75,4,   16.01,4,   99.60,  15.6728
33RO20100308,      A13.5,     101,          1,         20,      11715,2,20100411,       0945,    -4.0003,    -3.0002,       4520,   149.7,  15.2258,  35.5874,2,  35.5855,2, 125.3000,2,   122.2,2,    6.28,2,   14.57,4,    0.01,2,    1.19,2,   2.178,2,   1.245,2,   0.7550,2,  2174.0,2,  2335.5,2,    717.1,2,    20.00,   7.7600,2,    25.00,-999.000,9,-999.0000,9, -999.00,9,-999.0000,9, -999.00,9,  -999.0,9,  -999.0,-999.000,5,   48.54,4,   16.70,4,  149.70,  15.2028
33RO20100308,      A13.5,     101,          1,         19,      11007,2,20100411,       0945,    -4.0003,    -3.0002,       4520,   200.3,  14.3721,  35.4644,2,  35.4648,2,  84.0000,2,    83.4,2,    7.79,2,   18.82,4,    0.01,2,    1.48,2,   2.021,2,   1.137,2,   0.5880,2,  2201.5,2,  2325.2,2,    905.3,2,    20.00,   7.6667,2,    25.00,-999.000,9,-999.0000,9, -999.00,9,-999.0000,9, -999.00,9,  -999.0,9,  -999.0,-999.000,5,   49.52,4,   20.10,4,  200.30,  14.3425
33RO20100308,      A13.5,     101,          1,         18,      11710,2,20100411,       0945,    -4.0003,    -3.0002,       4520,   249.1,  13.2858,  35.3165,2,  35.3112,2,  79.3000,2,    78.3,2,    9.07,2,   20.67,4,    0.01,2,    1.60,2,   1.867,2,   1.035,2,   0.5270,2,  2208.9,2,  2318.6,2,    999.5,2,    20.00,   7.6298,2,    25.00,-999.000,9,-999.0000,9, -999.00,9,-999.0000,9, -999.00,9,  -999.0,9,  -999.0,-999.000,5,   47.94,4,   21.95,4,  249.10,  13.2509
33RO20100308,      A13.5,     101,          1,         17,      11025,2,20100411,       0945,    -4.0003,    -3.0002,       4520,   300.1,  11.5292,  35.0982,2,  35.0944,2,  79.5000,2,    76.7,2,   11.25,2,   23.12,4,    0.01,2,    1.79,2,   1.572,2,   0.849,2,   0.3470,2,  2214.5,2,  2307.6,2,   1123.9,2,    20.00,   7.5830,2,    25.00,-999.000,9,-999.0000,9, -999.00,9,-999.0000,9, -999.00,9,  -999.0,9,  -999.0,-999.000,5,   47.76,4,   25.09,4,  300.10,  11.4908
33RO20100308,      A13.5,     101,          1,         16,      11709,2,20100411,       0945,    -4.0003,    -3.0002,       4520,   349.8,  10.1827,  34.9549,2,  34.9533,2,  48.1000,2,    49.1,2,   14.49,2,   27.51,4,    0.01,2,    2.10,2,   1.021,6,   0.545,6,   0.1960,6,  2240.4,6,  2301.5,2,   1402.4,2,    20.00,   7.4907,2,    25.00,-999.000,9,-999.0000,9, -999.00,9,-999.0000,9, -999.00,9,  -999.0,9,  -999.0,-999.000,5,   44.74,4,   28.98,4,  349.80,  10.1414
33RO20100308,      A13.5,     101,          1,         15,      11006,2,20100411,       0945,    -4.0003,    -3.0002,       4520,   424.8,   8.0379,  34.7138,2,  34.7130,2,  92.0000,2,    92.9,2,   18.00,2,   27.35,4,    0.00,2,    2.16,2,   0.917,2,   0.472,2,   0.1010,2,  2224.8,2,  2294.1,2,   1297.5,2,    20.00,   7.5205,2,    25.00,-999.000,9,-999.0000,9, -999.00,9,-999.0000,9, -999.00,9,  -999.0,9,  -999.0,-999.000,5,   42.64,4,   28.43,4,  424.80,   7.9943
33RO20100308,      A13.5,     101,          1,         14,      11708,2,20100411,       0945,    -4.0003,    -3.0002,       4520,   500.2,   7.2349,  34.6376,2,  34.6368,2, 107.6000,2,   109.1,6,   19.86,2,   27.23,4,    0.00,2,    2.18,2,   0.828,2,   0.421,2,   0.1790,2,  2219.8,2,  2294.7,2,   1256.3,2,    20.00,   7.5318,2,    25.00,-999.000,9,-999.0000,9, -999.00,9,-999.0000,9, -999.00,9,  -999.0,9,  -999.0,-999.000,5,   45.19,4,   28.68,4,  500.20,   7.1864
33RO20100308,      A13.5,     101,          1,         13,      11031,2,20100411,       0945,    -4.0003,    -3.0002,       4520,   600.1,   6.3884,  34.5740,2,  34.5710,2, 101.2000,2,   102.7,2,   23.36,2,   29.23,4,    0.00,2,    2.37,2,   0.403,2,   0.206,2,   0.0000,2,  2229.3,2,  2291.8,2,   1363.6,6,    20.00,   7.4984,2,    25.00,-999.000,9,-999.0000,9, -999.00,9,-999.0000,9, -999.00,9,  -999.0,9,  -999.0,-999.000,5,   40.37,4,   30.55,4,  600.10,   6.3337
33RO20100308,      A13.5,     101,          1,         12,      11027,2,20100411,       0945,    -4.0003,    -3.0002,       4520,   700.2,   5.4268,  34.5089,2,  34.5087,2, 123.0000,2,   123.0,2,   27.33,2,   28.84,4,    0.00,2,    2.39,2,   0.263,2,   0.135,2,   0.0000,2,  2225.5,2,  2291.4,2,   1307.5,2,    20.00,   7.5162,2,    25.00,-999.000,9,-999.0000,9, -999.00,9,-999.0000,9, -999.00,9,  -999.0,9,  -999.0,-999.000,5,   40.29,4,   29.97,4,  700.20,   5.3677
33RO20100308,      A13.5,     101,          1,         11,      11707,2,20100411,       0945,    -4.0003,    -3.0002,       4520,   999.5,   4.3182,  34.6225,2,  34.6202,2, 150.1000,2,   150.2,6,   33.03,2,   26.65,4,    0.00,2,    2.26,2,   0.012,2,   0.008,2,   0.0000,2,  2222.9,2,  2302.5,2,   1180.8,2,    20.00,   7.5596,2,    25.00,-999.000,9,-999.0000,9, -999.00,9,-999.0000,9, -999.00,9,  -999.0,9,  -999.0,-999.000,5,   40.09,4,   28.61,4,  999.50,   4.2399
33RO20100308,      A13.5,     101,          1,         10,      11003,2,20100411,       0945,    -4.0003,    -3.0002,       4520,  1299.7,   4.3376,  34.8852,2,  34.8861,2, 199.8000,2,   200.0,2,   23.08,6,   20.50,4,    0.00,6,    1.67,2,   0.083,2,   0.045,2,   0.0000,2,  2191.2,2,  2310.2,2,    908.5,2,    20.00,   7.6663,2,    25.00,-999.000,9,-999.0000,9, -999.00,9,-999.0000,9, -999.00,9,  -999.0,9,  -999.0,-999.000,5,   39.71,4,   21.48,4, 1299.70,   4.2322
33RO20100308,      A13.5,     101,          1,          9,      11706,2,20100411,       0945,    -4.0003,    -3.0002,       4520,  1599.8,   4.0121,  34.9563,2,  34.9572,2, 229.4000,2,   229.0,2,   20.25,6,   17.60,4,    0.00,6,    1.43,6,   0.099,2,   0.055,2,   0.0000,2,  2176.5,2,  2311.4,2,    803.5,2,    20.00,   7.7108,2,    25.00,-999.000,9,-999.0000,9, -999.00,9,-999.0000,9, -999.00,9,  -999.0,9,  -999.0,-999.000,5,   42.99,4,   19.37,4, 1599.80,   3.8826
33RO20100308,      A13.5,     101,          1,          8,      11033,2,20100411,       0945,    -4.0003,    -3.0002,       4520,  1899.9,   3.6130,  34.9587,2,  34.9592,2, 240.9000,2,   241.5,2,   22.39,6,   16.70,4,    0.00,6,    1.35,6,   0.096,2,   0.051,2,   0.0000,2,  2174.1,2,  2318.3,2,    770.5,2,    20.00,   7.7275,2,    25.00,-999.000,9,-999.0000,9, -999.00,9,-999.0000,9, -999.00,9,  -999.0,9,  -999.0,-999.000,5,   38.98,4,   18.06,4, 1899.90,   3.4607
33RO20100308,      A13.5,     101,          1,          7,      11705,2,20100411,       0945,    -4.0003,    -3.0002,       4520,  2299.5,   3.1103,  34.9337,2,  34.9343,2, 239.4000,2,   240.3,2,   31.25,6,   17.46,4,    0.00,6,    1.41,6,   0.016,2,   0.010,2,   0.0000,2,  2183.1,2,  2326.0,2,    778.7,2,    20.00,   7.7257,2,    25.00,-999.000,9,-999.0000,9, -999.00,9,-999.0000,9, -999.00,9,  -999.0,9,  -999.0,-999.000,5,   39.15,4,   19.06,4, 2299.50,   2.9279
33RO20100308,      A13.5,     101,          1,          6,      11029,2,20100411,       0945,    -4.0003,    -3.0002,       4520,  2699.4,   2.7924,  34.9155,2,  34.9158,2, 239.5000,2,   239.8,2,   37.95,6,   17.86,4,    0.00,6,    1.45,6,   0.006,2,   0.004,2,   0.0000,2,  2190.1,2,  2334.1,2,    784.0,2,    20.00,   7.7223,2,    25.00,-999.000,9,-999.0000,9, -999.00,9,-999.0000,9, -999.00,9,  -999.0,9,  -999.0,-999.000,5,   38.78,4,   18.97,4, 2699.40,   2.5767
33RO20100308,      A13.5,     101,          1,          5,      11704,2,20100411,       0945,    -4.0003,    -3.0002,       4520,  3100.4,   2.6028,  34.9024,2,  34.9027,2, 237.8000,2,   238.2,2,   42.86,6,   18.15,4,    0.00,6,    1.48,6,   0.005,2,   0.004,2,   0.0000,2,  2194.3,2,  2337.8,2,    790.1,2,    20.00,   7.7205,2,    25.00,-999.000,9,-999.0000,9, -999.00,9,-999.0000,9, -999.00,9,  -999.0,9,  -999.0,-999.000,5,   36.58,4,   19.81,4, 3100.40,   2.3504
33RO20100308,      A13.5,     101,          1,          4,      11030,2,20100411,       0945,    -4.0003,    -3.0002,       4520,  3500.0,   2.4512,  34.8935,2,  34.8942,2, 237.6000,2,   237.2,2,   46.86,6,   18.36,4,    0.00,6,    1.51,6,   0.005,2,   0.004,2,   0.0000,2,  2199.6,2,  2332.5,3,   -999.0,9,  -999.00,   7.7194,2,    25.00,-999.000,9,-999.0000,9, -999.00,9,-999.0000,9, -999.00,9,  -999.0,9,  -999.0,-999.000,5,   39.33,4,   20.03,4, 3500.00,   2.1600
33RO20100308,      A13.5,     101,          1,          3,      11703,2,20100411,       0945,    -4.0003,    -3.0002,       4520,  3900.2,   2.3589,  34.8848,2,  34.8857,2, 240.6000,2,   240.8,2,   48.42,6,   18.32,4,    0.00,6,    1.50,6,   0.020,2,   0.014,2,   0.0000,2,  2200.1,2,  2342.2,2,    793.5,2,    20.00,   7.7195,2,    25.00,-999.000,9,-999.0000,9, -999.00,9,-999.0000,9, -999.00,9,  -999.0,9,  -999.0,-999.000,5,   38.39,4,   20.19,4, 3900.20,   2.0259
33RO20100308,      A13.5,     101,          1,          2,      11702,2,20100411,       0945,    -4.0003,    -3.0002,       4520,  4299.1,   2.2722,  34.8746,2,  34.8751,2, 243.2000,2,   242.2,2,   51.08,6,   18.34,4,    0.00,6,    1.52,6,   0.032,2,   0.019,2,   0.0000,2,  2202.3,2,  2345.5,2,    797.0,2,    20.00,   7.7190,2,    25.00,-999.000,9,-999.0000,9, -999.00,9,-999.0000,9, -999.00,9,  -999.0,9,  -999.0,-999.000,5,   38.90,4,   19.68,4, 4299.10,   1.8958
33RO20100308,      A13.5,     101,          1,          1,      11701,2,20100411,       0945,    -4.0003,    -3.0002,       4520,  4567.4,   2.2214,  34.8675,2,  34.8686,2, 241.3000,2,   241.6,2,   53.40,6,   18.60,4,    0.01,6,    1.53,6,   0.042,2,   0.024,2,   0.0000,2,  2204.6,6,  2347.0,3,    805.0,2,    20.00,   7.7174,2,    25.00,-999.000,9,-999.0000,9, -999.00,9,-999.0000,9, -999.00,9,  -999.0,9,  -999.0,-999.000,5,   38.14,4,   20.44,4, 4567.40,   1.8147