BOTTLE,20130404CCHSIOCBG
EXPOCODE,SECT_ID,STNNBR,CASTNO,SAMPNO,BTLNBR,BTLNBR_FLAG_W,DATE,TIME,LATITUDE,LONGITUDE,DEPTH,CTDPRS,CTDTMP,CTDSAL,CTDSAL_FLAG_W,SALNTY,SALNTY_FLAG_W,CTDOXY,CTDOXY_FLAG_W,OXYGEN,OXYGEN_FLAG_W,SILCAT,SILCAT_FLAG_W,NITRAT,NITRAT_FLAG_W,NITRIT,NITRIT_FLAG_W,PHSPHT,PHSPHT_FLAG_W,CFC-11,CFC-11_FLAG_W,CFC-12,CFC-12_FLAG_W,SF6,SF6_FLAG_W,TCARBN,TCARBN_FLAG_W,ALKALI,ALKALI_FLAG_W,FCO2,FCO2_FLAG_W,FCO2TMP,PH_TOT,PH_TOT_FLAG_W,PH_TMP,TRITUM,TRITUM_FLAG_W,HELIUM,HELIUM_FLAG_W,DELHE3,DELHE3_FLAG_W,REFTMP,REFTMP_FLAG_W,DELC13,DELC13_FLAG_W,DELC14,DELC14_FLAG_W,C14ERR,CCL4,CCL4_FLAG_W,DOC,DOC_FLAG_W,TDN,TDN_FLAG_W,CTDRAW,THETA
,,,,,,,,,,,METERS,DBAR,ITS-90,PSS-78,,PSS-78,,UMOL/KG,,UMOL/KG,,UMOL/KG,,UMOL/KG,,UMOL/KG,,UMOL/KG,,PMOL/KG,,PMOL/KG,,FMOL/KG,,UMOL/KG,,UMOL/KG,,UATM,,DEG C,,,DEG C,TU,,NMOL/KG,,PERCNT,,DEG C,,/MILLE,,/MILLE,,/MILLE,PMOL/KG,,UMOL/KG,,UMOL/KG,,DBAR,DEG C
33RO20100308,      A13.5,      57,          1,         24,      11714,2,20100328,       1404,   -25.9998,     1.6332,       4856,     5.5,  23.2174,  36.1603,2,  36.1597,2, 213.7000,2,   215.1,2,    1.70,2,    0.00,2,    0.00,2,    0.20,2,   1.890,2,   1.174,2,   1.1800,2,  2079.3,6,  2375.6,2,    358.4,2,    20.00,   8.0240,2,    25.00,-999.000,1,-999.0000,1, -999.00,9,  23.2189,2, -999.00,9,  -999.0,9,  -999.0,   2.541,3,   68.34,2,    4.75,2,    5.50,  23.2163
33RO20100308,      A13.5,      57,          1,         23,      11713,2,20100328,       1404,   -25.9998,     1.6332,       4856,    29.8,  23.1456,  36.1523,2,  36.1504,2, 213.8000,2,   215.5,2,    1.69,2,    0.01,2,    0.00,2,    0.20,2,   1.895,2,   1.175,2,   1.1560,2,  2078.5,2,  2375.7,6,    357.4,2,    20.00,   8.0239,2,    25.00,-999.000,1,-999.0000,1, -999.00,9,  23.1468,2, -999.00,9,  -999.0,9,  -999.0,   2.490,3,   66.05,2,    4.70,2,   29.80,  23.1395
33RO20100308,      A13.5,      57,          1,         22,      11712,2,20100328,       1404,   -25.9998,     1.6332,       4856,    89.9,  17.3139,  35.6670,2,  35.6698,2, 241.9000,2,   241.4,2,    2.03,2,    0.17,2,    0.03,2,    0.24,2,   2.466,2,   1.497,2,   1.3550,2,  2071.6,2,  2343.3,2,    393.0,6,    20.00,   7.9869,2,    25.00,-999.000,1,-999.0000,1, -999.00,9,  17.3138,2, -999.00,9,  -999.0,9,  -999.0,   2.042,3,   61.41,2,    5.06,2,   89.90,  17.2988
33RO20100308,      A13.5,      57,          1,         21,      11010,2,20100328,       1404,   -25.9998,     1.6332,       4856,   119.5,  16.6888,  35.6353,2,  35.6319,2, 223.4000,2,   221.7,6,    2.43,2,    2.56,2,    0.21,2,    0.40,2,   2.491,2,   1.508,2,   1.3190,2,  2089.8,2,  2339.6,2,    436.5,2,    20.00,   7.9501,2,    25.00,-999.000,1,-999.0000,1, -999.00,9,  16.6861,2, -999.00,9,  -999.0,9,  -999.0,   1.671,3,   55.09,2,    6.29,2,  119.50,  16.6693
33RO20100308,      A13.5,      57,          1,         20,      11715,2,20100328,       1404,   -25.9998,     1.6332,       4856,   149.4,  15.6193,  35.5080,2,  35.5057,2, 209.8000,2,   212.3,2,    2.95,2,    5.49,2,    0.02,2,    0.55,2,   2.605,2,   1.561,2,   1.2990,2,  2101.8,2,  2331.1,2,    477.8,2,    20.00,   7.9143,2,    25.00,-999.000,1,-999.0000,1, -999.00,9,  15.6167,2, -999.00,9,  -999.0,9,  -999.0,   1.244,3,   54.07,2,    8.91,2,  149.40,  15.5960
33RO20100308,      A13.5,      57,          1,         19,      11007,2,20100328,       1404,   -25.9998,     1.6332,       4856,   249.7,  13.3780,  35.2121,2,  35.2094,2, 211.9000,2,   211.4,2,    3.74,2,    9.35,2,    0.01,2,    0.79,2,   2.879,2,   1.689,2,   1.2640,2,  2119.3,2,  2316.7,2,    554.9,6,    20.00,   7.8559,2,    25.00,-999.000,1,-999.0000,1, -999.00,9,  13.3744,2, -999.00,9,  -999.0,9,  -999.0,   1.227,3,   51.37,2,   12.43,2,  249.70,  13.3428
33RO20100308,      A13.5,      57,          1,         18,      11710,2,20100328,       1404,   -25.9998,     1.6332,       4856,   399.9,  10.5553,  34.8580,2,  34.8557,2, 204.5000,2,   200.5,2,    7.07,2,   16.87,2,    0.01,2,    1.25,2,   3.061,2,   1.705,2,   1.0090,2,  2145.2,2,  2300.9,2,    699.8,2,    20.00,   7.7642,2,    25.00,-999.000,1,-999.0000,1, -999.00,9,  10.5567,2, -999.00,9,  -999.0,9,  -999.0,   1.550,3,   47.31,2,   19.20,2,  399.90,  10.5069
33RO20100308,      A13.5,      57,          1,         17,      11025,2,20100328,       1404,   -25.9998,     1.6332,       4856,   549.0,   7.6538,  34.5445,2,  34.5444,2, 192.9000,2,   192.4,2,   14.29,2,   24.80,2,    0.01,2,    1.76,2,   2.876,2,   1.524,2,   0.7440,2,  2172.2,2,  2290.9,2,    875.2,2,    20.00,   7.6739,2,    25.00,-999.000,1,-999.0000,1, -999.00,9,   7.6705,2, -999.00,9,  -999.0,9,  -999.0,   2.268,3,   42.49,2,   26.20,2,  549.00,   7.5988
33RO20100308,      A13.5,      57,          1,         16,      11709,2,20100328,       1404,   -25.9998,     1.6332,       4856,   698.9,   5.2883,  34.3742,2,  34.3764,2, 202.7000,2,   194.5,2,   23.01,2,   30.12,2,    0.01,2,    2.11,2,   2.386,2,   1.206,2,   0.5250,2,  2191.4,2,  2290.3,2,   1004.4,2,    20.00,   7.6211,2,    25.00,-999.000,1,-999.0000,1, -999.00,9,   5.2864,2, -999.00,9,  -999.0,9,  -999.0,   2.698,3,   41.05,2,   31.73,2,  698.90,   5.2302
33RO20100308,      A13.5,      57,          1,         15,      11006,2,20100328,       1404,   -25.9998,     1.6332,       4856,   899.6,   3.9076,  34.4061,2,  34.4082,2, 183.5000,2,   182.4,2,   39.63,2,   33.05,2,    0.01,2,    2.33,2,   1.114,2,   0.536,2,   0.1880,2,  2215.5,2,  2305.8,2,   1100.7,2,    20.00,   7.5867,2,    25.00,-999.000,1,-999.0000,1, -999.00,9,   3.9089,2, -999.00,9,  -999.0,9,  -999.0,   1.696,3,   40.24,2,   35.12,2,  899.60,   3.8410
33RO20100308,      A13.5,      57,          1,         14,      11708,2,20100328,       1404,   -25.9998,     1.6332,       4856,  1099.5,   3.4483,  34.5386,2,-999.0000,9, 176.7000,2,   176.7,2,   47.13,2,   32.68,2,    0.01,2,    2.21,2,   0.293,2,   0.143,2,   0.0920,2,  2224.9,6,  2315.5,2,   1098.0,2,    20.00,   7.5871,2,    25.00,-999.000,1,-999.0000,1, -999.00,9,   3.4491,2, -999.00,9,  -999.0,9,  -999.0,   0.624,3,   39.65,2,   34.62,2, 1099.50,   3.3689
33RO20100308,      A13.5,      57,          1,         13,      11031,2,20100328,       1404,   -25.9998,     1.6332,       4856,  1300.5,   3.3816,  34.6733,2,-999.0000,9, 187.1000,2,   187.3,2,   44.03,2,   30.10,2,    0.01,2,    2.02,2,   0.062,2,   0.031,2,   0.0000,2,  2217.5,2,  2320.3,6,   1017.3,2,    20.00,   7.6201,2,    25.00,-999.000,1,-999.0000,1, -999.00,9,   3.3813,2, -999.00,9,  -999.0,9,  -999.0,   0.206,3,   39.80,2,   31.66,2, 1300.50,   3.2861
33RO20100308,      A13.5,      57,          1,         12,      11027,2,20100328,       1404,   -25.9998,     1.6332,       4856,  1498.8,   3.3328,  34.7699,2,  34.7714,2, 201.0000,2,   202.0,2,   40.20,2,   27.52,2,    0.01,2,    1.84,2,   0.018,2,   0.010,2,   0.0000,2,  2207.4,2,  2320.1,2,    940.9,2,    20.00,   7.6525,2,    25.00,-999.000,1,-999.0000,1, -999.00,9,   3.3324,2, -999.00,9,  -999.0,9,  -999.0,   0.091,3,   39.77,2,   29.04,2, 1498.80,   3.2208
33RO20100308,      A13.5,      57,          1,         11,      11707,2,20100328,       1404,   -25.9998,     1.6332,       4856,  1700.6,   3.2030,  34.8255,2,  34.8267,2, 213.9000,2,   214.7,2,   38.88,2,   25.66,2,    0.01,2,    1.70,2,   0.010,2,   0.006,2,   0.0000,2,  2199.7,2,  2322.6,2,    888.0,2,    20.00,   7.6766,2,    25.00,-999.000,1,-999.0000,1, -999.00,9,   3.2030,2, -999.00,9,  -999.0,9,  -999.0,   0.074,3,   39.47,2,   27.46,2, 1700.60,   3.0748
33RO20100308,      A13.5,      57,          1,         10,      11003,2,20100328,       1404,   -25.9998,     1.6332,       4856,  1896.7,   3.0116,  34.8455,2,  34.8461,2, 222.5000,2,   222.6,2,   40.58,2,   24.82,2,    0.00,2,    1.64,2,   0.009,2,   0.006,2,   0.0000,2,  2196.4,2,  2325.2,2,    854.8,2,    20.00,   7.6896,2,    25.00,-999.000,1,-999.0000,1, -999.00,9,   3.0120,2, -999.00,9,  -999.0,9,  -999.0,   0.071,3,   40.12,2,   26.26,2, 1896.70,   2.8685
33RO20100308,      A13.5,      57,          1,          9,      11706,2,20100328,       1404,   -25.9998,     1.6332,       4856,  2199.9,   2.6825,  34.8497,2,  34.8499,2, 227.3000,2,   227.6,2,   46.27,2,   24.57,2,    0.00,2,    1.63,2,   0.007,2,   0.005,2,   0.0000,2,  2198.4,2,  2331.2,2,    843.9,2,    20.00,   7.6961,2,    25.00,-999.000,9,-999.0000,1, -999.00,9,   2.6830,2, -999.00,9,  -999.0,9,  -999.0,   0.049,3,   40.49,2,   25.69,2, 2199.90,   2.5169
33RO20100308,      A13.5,      57,          1,          8,      11033,2,20100328,       1404,   -25.9998,     1.6332,       4856,  2501.0,   2.4814,  34.8538,2,  34.8544,2, 230.7000,2,   230.9,2,   50.22,2,   24.43,2,    0.00,2,    1.62,2,   0.003,2,   0.003,2,   0.0000,2,  2200.2,2,  2336.0,2,    831.9,2,    20.00,   7.7007,2,    25.00,-999.000,1,-999.0000,1, -999.00,9,   2.4813,2, -999.00,9,  -999.0,9,  -999.0,   0.032,3,   39.91,2,   25.51,2, 2501.00,   2.2912
33RO20100308,      A13.5,      57,          1,          7,      11705,2,20100328,       1404,   -25.9998,     1.6332,       4856,  2800.6,   2.4078,  34.8636,2,  34.8641,2, 234.1000,2,   233.6,2,   50.84,2,   24.07,2,    0.00,2,    1.60,2,   0.003,2,   0.003,2,   0.0000,2,  2201.8,2,  2339.0,2,    819.5,2,    20.00,   7.7083,2,    25.00,-999.000,9,-999.0000,1, -999.00,9,   2.4074,2, -999.00,9,  -999.0,9,  -999.0,   0.039,3,   40.09,2,   25.97,2, 2800.60,   2.1901
33RO20100308,      A13.5,      57,          1,          6,      11029,2,20100328,       1404,   -25.9998,     1.6332,       4856,  3100.1,   2.3530,  34.8722,2,  34.8754,2, 234.4000,2,   233.8,2,   51.79,2,   23.82,2,    0.00,2,    1.58,2,   0.003,2,   0.003,2,   0.0000,2,  2204.2,2,  2344.1,2,    815.2,2,    20.00,   7.7147,2,    25.00,-999.000,1,-999.0000,1, -999.00,9,   2.3525,2, -999.00,9,  -999.0,9,  -999.0,   0.028,3,   40.40,2,   25.45,2, 3100.10,   2.1064
33RO20100308,      A13.5,      57,          1,          5,      11704,2,20100328,       1404,   -25.9998,     1.6332,       4856,  3500.2,   2.3271,  34.8805,2,  34.8806,2, 232.7000,2,   232.2,2,   52.63,6,   23.70,6,    0.00,6,    1.59,6,   0.002,6,   0.002,6,   0.0080,6,  2210.7,2,  2352.7,2,    807.5,2,    20.00,   7.7196,2,    25.00,-999.000,9,-999.0000,1, -999.00,9,   2.3269,2, -999.00,9,  -999.0,9,  -999.0,   0.014,3,   40.33,2,   25.05,2, 3500.20,   2.0391
33RO20100308,      A13.5,      57,          1,          4,      11030,2,20100328,       1404,   -25.9998,     1.6332,       4856,  3900.8,   2.3409,  34.8831,2,  34.8844,2, 231.7000,2,   231.5,6,   53.05,6,   23.72,6,    0.00,6,    1.60,6,   0.003,2,   0.003,2,   0.0440,2,  2213.1,2,  2356.9,2,    797.3,2,    20.00,   7.7212,2,    25.00,-999.000,1,-999.0000,1, -999.00,9,   2.3405,2, -999.00,9,  -999.0,9,  -999.0,   0.014,3,   39.67,2,   24.67,2, 3900.80,   2.0084
33RO20100308,      A13.5,      57,          1,          3,      11703,2,20100328,       1404,   -25.9998,     1.6332,       4856,  4299.7,   2.3791,  34.8838,2,  34.8842,2, 232.6000,2,   231.5,2,   53.00,6,   23.65,6,    0.00,6,    1.59,6,   0.002,2,   0.003,2,   0.0350,2,  2213.3,2,  2359.8,2,    795.5,2,    20.00,   7.7224,2,    25.00,-999.000,9,-999.0000,1, -999.00,9,   2.3788,2, -999.00,9,  -999.0,9,  -999.0,   0.014,3,   40.44,2,   24.66,2, 4299.70,   1.9994
33RO20100308,      A13.5,      57,          1,          2,      11702,2,20100328,       1404,   -25.9998,     1.6332,       4856,  4599.6,   2.4128,  34.8840,2,  34.8843,2, 231.9000,2,   231.5,2,   53.03,6,   23.67,6,    0.00,6,    1.59,6,   0.002,2,   0.003,2,   0.0000,2,  2214.6,2,  2362.0,6,    792.8,2,    20.00,   7.7230,2,    25.00,-999.000,1,-999.0000,1, -999.00,9,   2.4122,2, -999.00,9,  -999.0,9,  -999.0,   0.016,3,   40.63,2,   24.84,2, 4599.60,   1.9961
33RO20100308,      A13.5,      57,          1,          1,      11701,2,20100328,       1404,   -25.9998,     1.6332,       4856,  4924.9,   2.4468,  34.8836,2,  34.8851,2, 232.6000,2,   231.7,2,   53.06,6,   23.67,6,    0.00,6,    1.59,6,   0.004,2,   0.004,2,   0.0310,2,  2215.3,6,  2361.0,2,    793.0,2,    20.00,   7.7234,2,    25.00,-999.000,1,-999.0000,1, -999.00,9,   2.4459,2, -999.00,9,  -999.0,9,  -999.0,   0.021,3,   40.64,2,   25.38,2, 4924.90,   1.9887