BOTTLE,20130404CCHSIOCBG
EXPOCODE,SECT_ID,STNNBR,CASTNO,SAMPNO,BTLNBR,BTLNBR_FLAG_W,DATE,TIME,LATITUDE,LONGITUDE,DEPTH,CTDPRS,CTDTMP,CTDSAL,CTDSAL_FLAG_W,SALNTY,SALNTY_FLAG_W,CTDOXY,CTDOXY_FLAG_W,OXYGEN,OXYGEN_FLAG_W,SILCAT,SILCAT_FLAG_W,NITRAT,NITRAT_FLAG_W,NITRIT,NITRIT_FLAG_W,PHSPHT,PHSPHT_FLAG_W,CFC-11,CFC-11_FLAG_W,CFC-12,CFC-12_FLAG_W,SF6,SF6_FLAG_W,TCARBN,TCARBN_FLAG_W,ALKALI,ALKALI_FLAG_W,FCO2,FCO2_FLAG_W,FCO2TMP,PH_TOT,PH_TOT_FLAG_W,PH_TMP,TRITUM,TRITUM_FLAG_W,HELIUM,HELIUM_FLAG_W,DELHE3,DELHE3_FLAG_W,REFTMP,REFTMP_FLAG_W,DELC13,DELC13_FLAG_W,DELC14,DELC14_FLAG_W,C14ERR,CCL4,CCL4_FLAG_W,DOC,DOC_FLAG_W,TDN,TDN_FLAG_W,CTDRAW,THETA
,,,,,,,,,,,METERS,DBAR,ITS-90,PSS-78,,PSS-78,,UMOL/KG,,UMOL/KG,,UMOL/KG,,UMOL/KG,,UMOL/KG,,UMOL/KG,,PMOL/KG,,PMOL/KG,,FMOL/KG,,UMOL/KG,,UMOL/KG,,UATM,,DEG C,,,DEG C,TU,,NMOL/KG,,PERCNT,,DEG C,,/MILLE,,/MILLE,,/MILLE,PMOL/KG,,UMOL/KG,,UMOL/KG,,DBAR,DEG C
33RO20100308,      A13.5,      50,          1,         24,      11714,2,20100326,       2116,   -29.4998,     1.8083,       3506,     5.8,  21.9099,  35.8530,2,  35.8550,2, 221.2000,2,   221.5,2,    1.54,2,    0.02,2,    0.00,2,    0.15,2,   1.988,6,   1.239,6,   1.2140,6,  2062.4,6,  2355.1,6,    361.7,2,    20.00,   8.0194,2,    25.00,-999.000,9,-999.0000,9, -999.00,9,  21.9083,2, -999.00,9,  -999.0,9,  -999.0,   2.607,3, -999.00,9, -999.00,9,    5.80,  21.9088
33RO20100308,      A13.5,      50,          1,         23,      11713,2,20100326,       2116,   -29.4998,     1.8083,       3506,    30.4,  21.8796,  35.8564,2,  35.8593,2, 221.1000,2,   222.8,2,    1.54,2,    0.02,2,    0.00,2,    0.15,2,   2.000,2,   1.251,2,   1.3600,2,  2063.0,2,  2358.9,2,    360.5,6,    20.00,   8.0184,2,    25.00,-999.000,9,-999.0000,9, -999.00,9,  21.8823,2, -999.00,9,  -999.0,9,  -999.0,   2.613,3, -999.00,9, -999.00,9,   30.40,  21.8736
33RO20100308,      A13.5,      50,          1,         22,      11712,2,20100326,       2116,   -29.4998,     1.8083,       3506,    75.1,  17.4165,  35.6041,2,  35.6063,2, 248.6000,2,   244.0,2,    2.08,2,    0.13,2,    0.01,2,    0.22,2,   1.523,4,   0.748,4,   0.6160,4,  2056.4,2,  2341.0,2,    395.1,2,    20.00,   7.9840,2,    25.00,-999.000,9,-999.0000,9, -999.00,9,  17.4361,2, -999.00,9,  -999.0,9,  -999.0,   1.541,4, -999.00,9, -999.00,9,   75.10,  17.4039
33RO20100308,      A13.5,      50,          1,         21,      11010,2,20100326,       2116,   -29.4998,     1.8083,       3506,    99.9,  16.4186,  35.5963,2,  35.5946,2, 235.6000,2,   227.8,2,    2.67,2,    2.26,2,    0.09,2,    0.33,2,-999.000,9,-999.000,9,-999.0000,9,  2087.8,2,  2338.1,2,    425.7,2,    20.00,   7.9581,2,    25.00,-999.000,9,-999.0000,9, -999.00,9,  16.4158,2, -999.00,9,  -999.0,9,  -999.0,-999.000,9, -999.00,9, -999.00,9,   99.90,  16.4025
33RO20100308,      A13.5,      50,          1,         20,      11715,2,20100326,       2116,   -29.4998,     1.8083,       3506,   150.0,  15.6216,  35.5272,2,  35.5301,2, 223.1000,2,   223.7,2,    2.87,2,    4.10,2,    0.01,2,    0.42,2,   2.554,2,   1.551,2,   1.3070,2,  2087.5,2,  2331.3,2,    450.8,2,    20.00,   7.9368,2,    25.00,-999.000,9,-999.0000,9, -999.00,9,  15.6360,2, -999.00,9,  -999.0,9,  -999.0,   1.408,3, -999.00,9, -999.00,9,  150.00,  15.5982
33RO20100308,      A13.5,      50,          1,         19,      11007,2,20100326,       2116,   -29.4998,     1.8083,       3506,   200.6,  14.1543,  35.3112,2,  35.3045,2, 214.2000,2,   214.4,2,    3.20,2,    7.36,2,    0.00,2,    0.63,2,   2.762,2,   1.651,2,   1.2780,2,  2105.9,2,  2323.6,2,    523.6,2,    20.00,   7.8812,2,    25.00,-999.000,9,-999.0000,9, -999.00,9,  14.1500,2, -999.00,9,  -999.0,9,  -999.0,   1.273,3, -999.00,9, -999.00,9,  200.60,  14.1250
33RO20100308,      A13.5,      50,          1,         18,      11710,2,20100326,       2116,   -29.4998,     1.8083,       3506,   250.7,  13.1801,  35.1915,2,  35.1892,2, 214.9000,2,   217.0,2,    3.66,2,    9.18,2,    0.01,2,    0.74,2,   2.899,2,   1.712,2,   1.2910,2,  2111.5,2,  2316.1,2,    556.8,2,    20.00,   7.8574,2,    25.00,-999.000,9,-999.0000,9, -999.00,9,  13.1831,2, -999.00,9,  -999.0,9,  -999.0,   1.342,3, -999.00,9, -999.00,9,  250.70,  13.1452
33RO20100308,      A13.5,      50,          1,         17,      11025,4,20100326,       2116,   -29.4998,     1.8083,       3506,   300.8,  12.3869,  35.0922,4,  35.2241,4, 216.0000,4,   422.1,4,    5.77,4,    9.82,4,    0.02,4,    0.80,4,-999.000,9,-999.000,9,-999.0000,9,  2119.8,4,  2311.8,2,    572.1,4,    20.00,   7.8471,2,    25.00,-999.000,9,-999.0000,9, -999.00,9,  12.3741,2, -999.00,9,  -999.0,9,  -999.0,-999.000,9, -999.00,9, -999.00,9,  300.80,  12.3466
33RO20100308,      A13.5,      50,          1,         16,      11709,2,20100326,       2116,   -29.4998,     1.8083,       3506,   400.2,  10.8629,  34.8956,2,  34.8950,2, 214.9000,2,   214.4,2,    5.69,2,   14.67,2,    0.00,2,    1.08,2,   3.110,2,   1.759,2,   1.1170,2,  -999.0,9,  2300.5,2,    647.6,2,    20.00,   7.7947,2,    25.00,-999.000,9,-999.0000,9, -999.00,9,  10.8741,2, -999.00,9,  -999.0,9,  -999.0,   1.648,3, -999.00,9, -999.00,9,  400.20,  10.8135
33RO20100308,      A13.5,      50,          1,         15,      11006,2,20100326,       2116,   -29.4998,     1.8083,       3506,   550.2,   8.0210,  34.5670,2,  34.5660,2, 205.0000,2,   205.6,2,   11.55,2,   22.50,2,    0.00,2,    1.58,2,-999.000,9,-999.000,9,-999.0000,9,  2153.8,2,  2287.8,2,    811.8,6,    20.00,   7.7027,2,    25.00,-999.000,9,-999.0000,9, -999.00,9,   8.0200,2, -999.00,9,  -999.0,9,  -999.0,-999.000,9, -999.00,9, -999.00,9,  550.20,   7.9643
33RO20100308,      A13.5,      50,          1,         14,      11708,2,20100326,       2116,   -29.4998,     1.8083,       3506,   700.0,   5.1963,  34.3095,2,  34.3073,2, 226.0000,2,   224.7,2,   18.45,2,   27.68,2,    0.00,2,    1.92,2,   3.201,2,   1.672,2,   0.8180,2,  2169.0,2,  2279.8,2,    905.4,2,    20.00,   7.6567,2,    25.00,-999.000,9,-999.0000,9, -999.00,9,   5.1999,2, -999.00,9,  -999.0,9,  -999.0,   3.624,3, -999.00,9, -999.00,9,  700.00,   5.1387
33RO20100308,      A13.5,      50,          1,         13,      11031,2,20100326,       2116,   -29.4998,     1.8083,       3506,   849.6,   4.1535,  34.3392,2,  34.3387,2, 204.7000,2,   206.6,2,   32.33,2,   30.95,2,    0.00,2,    2.15,2,-999.000,9,-999.000,9,-999.0000,9,  2193.9,2,  2299.3,2,   1013.2,2,    20.00,   7.6166,2,    25.00,-999.000,9,-999.0000,9, -999.00,9,   4.1528,2, -999.00,9,  -999.0,9,  -999.0,-999.000,9, -999.00,9, -999.00,9,  849.60,   4.0894
33RO20100308,      A13.5,      50,          1,         12,      11027,2,20100326,       2116,   -29.4998,     1.8083,       3506,  1001.3,   3.6214,  34.4318,2,  34.4316,2, 183.8000,2,   184.2,2,   45.59,2,   32.75,2,    0.00,2,    2.29,2,   1.094,2,   0.529,2,   0.1670,2,  2217.2,2,  2311.7,2,   1102.2,2,    20.00,   7.5861,2,    25.00,-999.000,9,-999.0000,9, -999.00,9,   3.6183,2, -999.00,9,  -999.0,9,  -999.0,   1.715,3, -999.00,9, -999.00,9, 1001.30,   3.5487
33RO20100308,      A13.5,      50,          1,         11,      11707,2,20100326,       2116,   -29.4998,     1.8083,       3506,  1199.9,   3.2344,  34.5427,2,  34.5432,2, 178.3000,2,   178.2,2,   53.23,2,   32.48,2,    0.00,2,    2.27,2,-999.000,9,-999.000,9,-999.0000,9,  2226.2,6,  2322.0,2,   1111.5,2,    20.00,   7.5842,2,    25.00,-999.000,9,-999.0000,9, -999.00,9,   3.2340,2, -999.00,9,  -999.0,9,  -999.0,-999.000,9, -999.00,9, -999.00,9, 1199.90,   3.1488
33RO20100308,      A13.5,      50,          1,         10,      11003,2,20100326,       2116,   -29.4998,     1.8083,       3506,  1400.0,   3.1119,  34.6672,2,  34.6681,2, 186.0000,2,   186.7,6,   51.82,2,   30.29,2,    0.00,2,    2.11,2,   0.158,2,   0.076,2,   0.0000,2,  2222.3,2,  2324.1,2,   1042.9,2,    20.00,   7.6107,2,    25.00,-999.000,9,-999.0000,9, -999.00,9,   3.1112,2, -999.00,9,  -999.0,9,  -999.0,   0.364,3, -999.00,9, -999.00,9, 1400.00,   3.0109
33RO20100308,      A13.5,      50,          1,          9,      11706,2,20100326,       2116,   -29.4998,     1.8083,       3506,  1600.7,   3.0653,  34.7504,2,  34.7500,2, 199.0000,2,   198.5,2,   48.45,2,   28.25,2,    0.00,2,    1.95,2,-999.000,9,-999.000,9,-999.0000,9,  2212.6,2,  2325.7,2,    975.4,2,    20.00,   7.6386,2,    25.00,-999.000,9,-999.0000,9, -999.00,9,   3.0644,2, -999.00,9,  -999.0,9,  -999.0,-999.000,9, -999.00,9, -999.00,9, 1600.70,   2.9477
33RO20100308,      A13.5,      50,          1,          8,      11033,2,20100326,       2116,   -29.4998,     1.8083,       3506,  1800.7,   2.9269,  34.7901,2,  34.7895,2, 207.9000,2,   207.6,2,   48.52,2,   26.86,2,    0.00,2,    1.86,2,   0.049,2,   0.024,2,   0.0000,2,  2208.4,2,  2329.2,2,    935.8,2,    20.00,   7.6563,2,    25.00,-999.000,9,-999.0000,9, -999.00,9,   2.9275,2, -999.00,9,  -999.0,9,  -999.0,   0.150,3, -999.00,9, -999.00,9, 1800.70,   2.7937
33RO20100308,      A13.5,      50,          1,          7,      11705,2,20100326,       2116,   -29.4998,     1.8083,       3506,  1999.6,   2.8351,  34.8187,2,  34.8188,2, 214.8000,2,   214.5,2,   48.18,2,   25.88,2,    0.00,2,    1.79,2,-999.000,9,-999.000,9,-999.0000,9,  2203.2,2,  2333.3,2,    906.0,2,    20.00,   7.6701,2,    25.00,-999.000,9,-999.0000,9, -999.00,9,   2.8342,2, -999.00,9,  -999.0,9,  -999.0,-999.000,9, -999.00,9, -999.00,9, 1999.60,   2.6854
33RO20100308,      A13.5,      50,          1,          6,      11029,2,20100326,       2116,   -29.4998,     1.8083,       3506,  2296.3,   2.5865,  34.8324,2,  34.8325,2, 221.8000,2,   222.3,2,   51.80,2,   25.32,2,    0.00,2,    1.74,2,   0.021,2,   0.010,2,   0.0000,2,  2203.5,2,  2334.0,2,    875.0,2,    20.00,   7.6819,2,    25.00,-999.000,9,-999.0000,9, -999.00,9,   2.5861,2, -999.00,9,  -999.0,9,  -999.0,   0.091,3, -999.00,9, -999.00,9, 2296.30,   2.4137
33RO20100308,      A13.5,      50,          1,          5,      11704,2,20100326,       2116,   -29.4998,     1.8083,       3506,  2600.7,   2.4189,  34.8501,2,  34.8496,2, 229.1000,2,   228.9,2,   53.03,2,   24.50,2,    0.00,2,    1.69,2,-999.000,9,-999.000,9,-999.0000,9,  2202.4,2,  2340.2,2,    844.3,2,    20.00,   7.6958,2,    25.00,-999.000,9,-999.0000,9, -999.00,9,   2.4185,2, -999.00,9,  -999.0,9,  -999.0,-999.000,9, -999.00,9, -999.00,9, 2600.70,   2.2204
33RO20100308,      A13.5,      50,          1,          4,      11030,2,20100326,       2116,   -29.4998,     1.8083,       3506,  2900.9,   2.3274,  34.8617,2,  34.8610,2, 231.9000,2,   231.7,2,   53.60,6,   24.03,6,    0.00,6,    1.65,6,-999.000,5,-999.000,5,-999.0000,5,  2203.5,2,  2341.9,2,    824.1,2,    20.00,   7.7057,2,    25.00,-999.000,9,-999.0000,9, -999.00,9,   2.3270,2, -999.00,9,  -999.0,9,  -999.0,-999.000,5, -999.00,9, -999.00,9, 2900.90,   2.1014
33RO20100308,      A13.5,      50,          1,          3,      11703,2,20100326,       2116,   -29.4998,     1.8083,       3506,  3200.2,   2.2940,  34.8710,2,  34.8710,2, 232.8000,2,   232.6,2,   53.77,6,   23.75,6,    0.00,6,    1.63,6,-999.000,9,-999.000,9,-999.0000,9,  2207.0,2,  2348.3,2,    812.0,2,    20.00,   7.7132,2,    25.00,-999.000,9,-999.0000,9, -999.00,9,   2.2935,2, -999.00,9,  -999.0,9,  -999.0,-999.000,9, -999.00,9, -999.00,9, 3200.20,   2.0384
33RO20100308,      A13.5,      50,          1,          2,      11702,2,20100326,       2116,   -29.4998,     1.8083,       3506,  3399.0,   2.2877,  34.8763,2,  34.8760,2, 232.6000,2,   232.4,2,   53.72,6,   23.66,6,    0.00,6,    1.62,6,-999.000,5,-999.000,5,-999.0000,5,  2209.6,2,  2350.4,2,    804.2,2,    20.00,   7.7165,2,    25.00,-999.000,9,-999.0000,9, -999.00,9,   2.2871,2, -999.00,9,  -999.0,9,  -999.0,-999.000,5, -999.00,9, -999.00,9, 3399.00,   2.0115
33RO20100308,      A13.5,      50,          1,          1,      11701,2,20100326,       2116,   -29.4998,     1.8083,       3506,  3537.4,   2.2899,  34.8798,2,  34.8800,2, 232.9000,2,   231.6,2,   53.65,6,   23.56,6,    0.00,6,    1.61,6,   0.005,2,   0.004,2,   0.0180,2,  2211.7,6,  2357.2,6,    803.5,2,    20.00,   7.7191,2,    25.00,-999.000,9,-999.0000,9, -999.00,9,   2.2893,2, -999.00,9,  -999.0,9,  -999.0,   0.013,3, -999.00,9, -999.00,9, 3537.40,   1.9988