BOTTLE,20130404CCHSIOCBG
EXPOCODE,SECT_ID,STNNBR,CASTNO,SAMPNO,BTLNBR,BTLNBR_FLAG_W,DATE,TIME,LATITUDE,LONGITUDE,DEPTH,CTDPRS,CTDTMP,CTDSAL,CTDSAL_FLAG_W,SALNTY,SALNTY_FLAG_W,CTDOXY,CTDOXY_FLAG_W,OXYGEN,OXYGEN_FLAG_W,SILCAT,SILCAT_FLAG_W,NITRAT,NITRAT_FLAG_W,NITRIT,NITRIT_FLAG_W,PHSPHT,PHSPHT_FLAG_W,CFC-11,CFC-11_FLAG_W,CFC-12,CFC-12_FLAG_W,SF6,SF6_FLAG_W,TCARBN,TCARBN_FLAG_W,ALKALI,ALKALI_FLAG_W,FCO2,FCO2_FLAG_W,FCO2TMP,PH_TOT,PH_TOT_FLAG_W,PH_TMP,TRITUM,TRITUM_FLAG_W,HELIUM,HELIUM_FLAG_W,DELHE3,DELHE3_FLAG_W,REFTMP,REFTMP_FLAG_W,DELC13,DELC13_FLAG_W,DELC14,DELC14_FLAG_W,C14ERR,CCL4,CCL4_FLAG_W,DOC,DOC_FLAG_W,TDN,TDN_FLAG_W,CTDRAW,THETA
,,,,,,,,,,,METERS,DBAR,ITS-90,PSS-78,,PSS-78,,UMOL/KG,,UMOL/KG,,UMOL/KG,,UMOL/KG,,UMOL/KG,,UMOL/KG,,PMOL/KG,,PMOL/KG,,FMOL/KG,,UMOL/KG,,UMOL/KG,,UATM,,DEG C,,,DEG C,TU,,NMOL/KG,,PERCNT,,DEG C,,/MILLE,,/MILLE,,/MILLE,PMOL/KG,,UMOL/KG,,UMOL/KG,,DBAR,DEG C
33RO20100308,      A13.5,      88,          1,         24,      11714,2,20100407,       1746,   -10.4992,     0.8022,       5700,     5.5,  27.7748,  36.4761,2,  36.4866,2, 198.4000,2,   198.4,2,    0.88,6,    0.03,6,    0.00,6,    0.12,6,   1.555,6,   0.989,6,   1.0060,6,  2061.4,6,  2394.1,2,    310.0,2,    20.00,   8.0775,2,    25.00,-999.000,9,-999.0000,9, -999.00,9,-999.0000,9, -999.00,9,  -999.0,9,  -999.0,   1.768,3, -999.00,9, -999.00,9,    5.50,  27.7735
33RO20100308,      A13.5,      88,          1,         23,      11716,2,20100407,       1746,   -10.4992,     0.8022,       5700,    40.0,  27.7907,  36.4723,2,  36.4763,2, 199.0000,2,   198.1,2,    0.90,2,    0.11,2,    0.00,2,    0.13,2,-999.000,9,-999.000,9,-999.0000,9,  2060.9,2,  2397.3,6,    308.0,2,    20.00,   8.0777,2,    25.00,-999.000,9,-999.0000,9, -999.00,9,-999.0000,9, -999.00,9,  -999.0,9,  -999.0,-999.000,9, -999.00,9, -999.00,9,   40.00,  27.7813
33RO20100308,      A13.5,      88,          1,         22,      11022,2,20100407,       1746,   -10.4992,     0.8022,       5700,    79.5,  17.5119,  35.9044,2,  35.8631,2, 137.5000,3,   119.0,2,    4.22,2,   15.78,2,    0.40,2,    1.12,2,   2.077,2,   1.203,2,   0.7910,2,  2177.5,2,  2351.7,2,    675.0,2,    20.00,   7.7853,2,    25.00,-999.000,9,-999.0000,9, -999.00,9,-999.0000,9, -999.00,9,  -999.0,9,  -999.0,   0.709,3, -999.00,9, -999.00,9,   79.50,  17.4985
33RO20100308,      A13.5,      88,          1,         21,      11010,2,20100407,       1746,   -10.4992,     0.8022,       5700,   130.2,  13.4505,  35.3465,2,  35.3447,2,  62.4000,2,    61.0,2,    8.73,2,   26.73,2,    0.02,2,    1.70,2,   1.868,2,   1.024,2,   0.5760,2,  2220.5,2,  2314.5,2,   1068.2,2,    20.00,   7.5992,2,    25.00,-999.000,9,-999.0000,9, -999.00,9,-999.0000,9, -999.00,9,  -999.0,9,  -999.0,   0.229,3, -999.00,9, -999.00,9,  130.20,  13.4322
33RO20100308,      A13.5,      88,          1,         20,      11715,2,20100407,       1746,   -10.4992,     0.8022,       5700,   175.0,  12.2459,  35.1932,2,  35.1930,2,  65.0000,2,    64.8,2,   10.28,2,   28.18,2,    0.01,2,    1.80,2,-999.000,9,-999.000,9,-999.0000,9,  2221.7,2,  2308.3,2,   1124.6,2,    20.00,   7.5792,2,    25.00,-999.000,9,-999.0000,9, -999.00,9,-999.0000,9, -999.00,9,  -999.0,9,  -999.0,-999.000,9, -999.00,9, -999.00,9,  175.00,  12.2227
33RO20100308,      A13.5,      88,          1,         19,      11007,2,20100407,       1746,   -10.4992,     0.8022,       5700,   250.4,  10.9572,  35.0380,2,  35.0390,2,  60.7000,2,    59.4,2,   12.26,2,   30.95,2,    0.00,2,    1.95,2,   1.293,2,   0.682,2,   0.2020,2,  2230.2,2,  2303.7,2,   1254.2,2,    20.00,   7.5360,2,    25.00,-999.000,9,-999.0000,9, -999.00,9,-999.0000,9, -999.00,9,  -999.0,9,  -999.0,   0.243,3, -999.00,9, -999.00,9,  250.40,  10.9263
33RO20100308,      A13.5,      88,          1,         18,      11710,2,20100407,       1746,   -10.4992,     0.8022,       5700,   349.4,   9.5976,  34.8884,2,  34.8882,2,  34.4000,2,    35.4,2,   15.82,2,   36.15,2,    0.00,2,    2.28,2,   0.593,2,   0.310,2,   0.0890,2,  2253.4,2,  2296.8,2,   1555.9,2,    20.00,   7.4501,2,    25.00,-999.000,9,-999.0000,9, -999.00,9,-999.0000,9, -999.00,9,  -999.0,9,  -999.0,   0.139,3, -999.00,9, -999.00,9,  349.40,   9.5578
33RO20100308,      A13.5,      88,          1,         17,      11025,2,20100407,       1746,   -10.4992,     0.8022,       5700,   499.8,   7.4305,  34.6773,2,  34.6796,2,  49.9000,2,    49.3,2,   21.17,2,   39.39,2,    0.00,2,    2.53,2,   0.164,2,   0.091,2,   0.0000,2,  2255.9,6,  2292.3,2,   1666.7,2,    20.00,   7.4199,2,    25.00,-999.000,9,-999.0000,9, -999.00,9,-999.0000,9, -999.00,9,  -999.0,9,  -999.0,   0.144,3, -999.00,9, -999.00,9,  499.80,   7.3813
33RO20100308,      A13.5,      88,          1,         16,      11709,2,20100407,       1746,   -10.4992,     0.8022,       5700,   700.6,   5.3108,  34.5206,2,  34.5234,2,  97.8000,2,    97.4,2,   29.01,2,   38.79,2,    0.00,2,    2.57,2,   0.041,2,   0.024,2,   0.0000,2,  2244.0,2,  2293.5,2,   1487.5,2,    20.00,   7.4661,2,    25.00,-999.000,9,-999.0000,9, -999.00,9,-999.0000,9, -999.00,9,  -999.0,9,  -999.0,   0.118,3, -999.00,9, -999.00,9,  700.60,   5.2523
33RO20100308,      A13.5,      88,          1,         15,      11006,2,20100407,       1746,   -10.4992,     0.8022,       5700,   898.9,   4.4046,  34.5342,2,  34.5342,2, 133.7000,2,   133.7,2,   33.95,2,   35.88,2,    0.00,2,    2.43,2,-999.000,9,-999.000,9,-999.0000,9,  2235.4,2,  2300.5,2,   1299.8,2,    20.00,   7.5234,2,    25.00,-999.000,9,-999.0000,9, -999.00,9,-999.0000,9, -999.00,9,  -999.0,9,  -999.0,-999.000,9, -999.00,9, -999.00,9,  898.90,   4.3344
33RO20100308,      A13.5,      88,          1,         14,      11708,2,20100407,       1746,   -10.4992,     0.8022,       5700,  1099.9,   4.1087,  34.6591,2,  34.6588,2, 160.8000,2,   160.0,6,   32.96,2,   32.06,2,    0.00,2,    2.17,2,   0.006,2,   0.006,2,   0.0000,2,  2221.1,2,  2306.4,2,   1134.1,2,    20.00,   7.5790,2,    25.00,-999.000,9,-999.0000,9, -999.00,9,-999.0000,9, -999.00,9,  -999.0,9,  -999.0,   0.040,3, -999.00,9, -999.00,9, 1099.90,   4.0234
33RO20100308,      A13.5,      88,          1,         13,      11031,2,20100407,       1746,   -10.4992,     0.8022,       5700,  1400.2,   3.9672,  34.8391,2,  34.8387,2, 196.4000,2,   195.6,2,   27.35,2,   26.50,2,    0.00,2,    1.78,2,-999.000,9,-999.000,9,-999.0000,9,  2199.6,2,  2310.9,2,    933.0,6,    20.00,   7.6532,2,    25.00,-999.000,9,-999.0000,9, -999.00,9,-999.0000,9, -999.00,9,  -999.0,9,  -999.0,-999.000,9, -999.00,9, -999.00,9, 1400.20,   3.8566
33RO20100308,      A13.5,      88,          1,         12,      11027,2,20100407,       1746,   -10.4992,     0.8022,       5700,  1694.8,   3.7131,  34.9165,2,  34.9167,2, 220.3000,2,   219.5,2,   25.62,2,   23.36,2,    0.00,2,    1.56,2,   0.009,2,   0.008,2,   0.0000,2,  2185.9,2,  2313.6,2,    839.5,2,    20.00,   7.6945,2,    25.00,-999.000,9,-999.0000,9, -999.00,9,-999.0000,9, -999.00,9,  -999.0,9,  -999.0,   0.075,3, -999.00,9, -999.00,9, 1694.80,   3.5786
33RO20100308,      A13.5,      88,          1,         11,      11707,2,20100407,       1746,   -10.4992,     0.8022,       5700,  1998.7,   3.4056,  34.9314,2,  34.9306,2, 231.4000,2,   229.8,6,   28.16,2,   22.36,2,    0.00,2,    1.49,2,-999.000,9,-999.000,9,-999.0000,9,  2183.2,2,  2319.6,2,    808.7,2,    20.00,   7.7111,2,    25.00,-999.000,9,-999.0000,9, -999.00,9,-999.0000,9, -999.00,9,  -999.0,9,  -999.0,-999.000,9, -999.00,9, -999.00,9, 1998.70,   3.2471
33RO20100308,      A13.5,      88,          1,         10,      11003,2,20100407,       1746,   -10.4992,     0.8022,       5700,  2299.1,   3.1250,  34.9270,2,  34.9266,2, 232.0000,2,   230.5,2,   32.89,2,   22.42,2,    0.00,2,    1.50,2,   0.002,2,   0.002,2,   0.0000,2,  2189.3,2,  2326.7,2,    809.7,2,    20.00,   7.7111,2,    25.00,-999.000,9,-999.0000,9, -999.00,9,-999.0000,9, -999.00,9,  -999.0,9,  -999.0,   0.022,3, -999.00,9, -999.00,9, 2299.10,   2.9424
33RO20100308,      A13.5,      88,          1,          9,      11706,2,20100407,       1746,   -10.4992,     0.8022,       5700,  2699.5,   2.8232,  34.9149,2,  34.9145,2, 231.8000,2,   232.1,2,   38.94,2,   22.61,2,    0.00,2,    1.51,2,-999.000,9,-999.000,9,-999.0000,9,  2195.6,2,  2331.4,3,    811.0,2,    20.00,   7.7142,2,    25.00,-999.000,9,-999.0000,9, -999.00,9,-999.0000,9, -999.00,9,  -999.0,9,  -999.0,-999.000,9, -999.00,9, -999.00,9, 2699.50,   2.6069
33RO20100308,      A13.5,      88,          1,          8,      11033,2,20100407,       1746,   -10.4992,     0.8022,       5700,  3101.6,   2.6127,  34.9032,2,  34.9020,2, 234.3000,2,   233.1,2,   43.91,2,   22.89,2,    0.00,2,    1.53,2,   0.001,2,   0.002,2,   0.0000,2,  2200.6,2,  2339.9,2,    810.9,2,    20.00,   7.7161,2,    25.00,-999.000,9,-999.0000,9, -999.00,9,-999.0000,9, -999.00,9,  -999.0,9,  -999.0,   0.011,3, -999.00,9, -999.00,9, 3101.60,   2.3599
33RO20100308,      A13.5,      88,          1,          7,      11705,2,20100407,       1746,   -10.4992,     0.8022,       5700,  3498.1,   2.4345,  34.8927,2,  34.8926,2, 228.3000,2,   228.0,2,   50.48,6,   23.54,6,    0.00,6,    1.57,6,-999.000,9,-999.000,9,-999.0000,9,  2213.5,2,  2351.4,2,    816.6,2,    20.00,   7.7106,2,    25.00,-999.000,9,-999.0000,9, -999.00,9,-999.0000,9, -999.00,9,  -999.0,9,  -999.0,-999.000,9, -999.00,9, -999.00,9, 3498.10,   2.1440
33RO20100308,      A13.5,      88,          1,          6,      11029,2,20100407,       1746,   -10.4992,     0.8022,       5700,  3897.5,   2.3616,  34.8882,2,  34.8884,2, 231.8000,2,   230.7,2,   51.77,6,   23.41,6,    0.00,6,    1.56,6,-999.000,9,-999.000,9,-999.0000,9,  2214.2,2,  2353.7,2,    807.5,2,    20.00,   7.7167,2,    25.00,-999.000,9,-999.0000,9, -999.00,9,-999.0000,9, -999.00,9,  -999.0,9,  -999.0,-999.000,9, -999.00,9, -999.00,9, 3897.50,   2.0288
33RO20100308,      A13.5,      88,          1,          5,      11704,2,20100407,       1746,   -10.4992,     0.8022,       5700,  4299.3,   2.3594,  34.8850,2,  34.8834,2, 231.9000,2,   231.3,2,   52.61,6,   23.41,6,    0.00,6,    1.56,6,   0.002,2,   0.003,2,   0.0000,2,  2215.0,2,  2356.8,2,    803.9,2,    20.00,   7.7177,2,    25.00,-999.000,9,-999.0000,9, -999.00,9,-999.0000,9, -999.00,9,  -999.0,9,  -999.0,   0.025,3, -999.00,9, -999.00,9, 4299.30,   1.9804
33RO20100308,      A13.5,      88,          1,          4,      11030,2,20100407,       1746,   -10.4992,     0.8022,       5700,  4700.1,   2.3775,  34.8820,2,  34.8813,2, 233.3000,2,   232.6,2,   52.96,6,   23.37,6,    0.00,6,    1.56,6,-999.000,9,-999.000,9,-999.0000,9,  2214.9,2,  2354.5,2,    803.6,2,    20.00,   7.7179,2,    25.00,-999.000,9,-999.0000,9, -999.00,9,-999.0000,9, -999.00,9,  -999.0,9,  -999.0,-999.000,9, -999.00,9, -999.00,9, 4700.10,   1.9496
33RO20100308,      A13.5,      88,          1,          3,      11703,2,20100407,       1746,   -10.4992,     0.8022,       5700,  5098.2,   2.4004,  34.8788,2,  34.8782,2, 235.7000,2,   234.6,2,   53.00,6,   23.31,6,    0.00,6,    1.56,6,   0.005,2,   0.004,2,   0.0000,2,  2212.6,2,  2355.3,2,    801.1,2,    20.00,   7.7185,2,    25.00,-999.000,9,-999.0000,9, -999.00,9,-999.0000,9, -999.00,9,  -999.0,9,  -999.0,   0.052,3, -999.00,9, -999.00,9, 5098.20,   1.9219
33RO20100308,      A13.5,      88,          1,          2,      11702,2,20100407,       1746,   -10.4992,     0.8022,       5700,  5399.3,   2.4250,  34.8766,2,  34.8777,2, 238.4000,2,   236.2,2,   52.97,6,   23.23,6,    0.00,6,    1.55,6,   0.011,2,   0.008,2,   0.0000,2,  2212.1,2,  2353.8,3,    801.5,6,    20.00,   7.7171,2,    25.00,-999.000,9,-999.0000,9, -999.00,9,-999.0000,9, -999.00,9,  -999.0,9,  -999.0,   0.077,3, -999.00,9, -999.00,9, 5399.30,   1.9066
33RO20100308,      A13.5,      88,          1,          1,      11701,2,20100407,       1746,   -10.4992,     0.8022,       5700,  5778.0,   2.4711,  34.8753,2,  34.8756,2, 239.0000,2,   237.2,2,   53.07,6,   23.20,6,    0.00,6,    1.55,6,   0.013,2,   0.009,2,   0.0000,2,  2211.3,6,  2352.4,2,    797.5,2,    20.00,   7.7188,2,    25.00,-999.000,9,-999.0000,9, -999.00,9,-999.0000,9, -999.00,9,  -999.0,9,  -999.0,   0.090,3, -999.00,9, -999.00,9, 5778.00,   1.9004