BOTTLE,20130404CCHSIOCBG
EXPOCODE,SECT_ID,STNNBR,CASTNO,SAMPNO,BTLNBR,BTLNBR_FLAG_W,DATE,TIME,LATITUDE,LONGITUDE,DEPTH,CTDPRS,CTDTMP,CTDSAL,CTDSAL_FLAG_W,SALNTY,SALNTY_FLAG_W,CTDOXY,CTDOXY_FLAG_W,OXYGEN,OXYGEN_FLAG_W,SILCAT,SILCAT_FLAG_W,NITRAT,NITRAT_FLAG_W,NITRIT,NITRIT_FLAG_W,PHSPHT,PHSPHT_FLAG_W,CFC-11,CFC-11_FLAG_W,CFC-12,CFC-12_FLAG_W,SF6,SF6_FLAG_W,TCARBN,TCARBN_FLAG_W,ALKALI,ALKALI_FLAG_W,FCO2,FCO2_FLAG_W,FCO2TMP,PH_TOT,PH_TOT_FLAG_W,PH_TMP,TRITUM,TRITUM_FLAG_W,HELIUM,HELIUM_FLAG_W,DELHE3,DELHE3_FLAG_W,REFTMP,REFTMP_FLAG_W,DELC13,DELC13_FLAG_W,DELC14,DELC14_FLAG_W,C14ERR,CCL4,CCL4_FLAG_W,DOC,DOC_FLAG_W,TDN,TDN_FLAG_W,CTDRAW,THETA
,,,,,,,,,,,METERS,DBAR,ITS-90,PSS-78,,PSS-78,,UMOL/KG,,UMOL/KG,,UMOL/KG,,UMOL/KG,,UMOL/KG,,UMOL/KG,,PMOL/KG,,PMOL/KG,,FMOL/KG,,UMOL/KG,,UMOL/KG,,UATM,,DEG C,,,DEG C,TU,,NMOL/KG,,PERCNT,,DEG C,,/MILLE,,/MILLE,,/MILLE,PMOL/KG,,UMOL/KG,,UMOL/KG,,DBAR,DEG C
33RO20100308,      A13.5,      18,          1,         24,      11714,2,20100318,       1840,   -45.5003,     1.1777,       4162,     5.7,   9.5204,  34.0354,2,  34.0353,2, 285.9000,2,   287.0,2,    1.18,2,   13.97,2,    0.23,2,    1.07,2,   3.589,2,   2.118,2,   1.9200,2,  2082.0,6,  2270.5,6,    557.0,2,    20.00,   7.8490,2,    25.00,-999.000,9,-999.0000,9, -999.00,9,   9.5204,2, -999.00,9,  -999.0,9,  -999.0,   4.016,3, -999.00,9, -999.00,9,    5.70,   9.5198
33RO20100308,      A13.5,      18,          1,         23,      11713,2,20100318,       1840,   -45.5003,     1.1777,       4162,    29.1,   9.4925,  34.0420,2,  34.0420,2, 286.0000,2,   286.5,2,    1.21,2,   13.93,2,    0.23,2,    1.08,2,   3.660,2,   2.127,2,   1.8920,2,  2082.8,2,  2270.5,2,    557.1,2,    20.00,   7.8477,2,    25.00,-999.000,9,-999.0000,9, -999.00,9,   9.4914,2, -999.00,9,  -999.0,9,  -999.0,   4.258,3, -999.00,9, -999.00,9,   29.10,   9.4893
33RO20100308,      A13.5,      18,          1,         22,      11712,2,20100318,       1840,   -45.5003,     1.1777,       4162,    59.8,   9.3604,  34.0498,2,  34.0491,2, 282.7000,2,   282.3,2,    1.36,2,   14.07,2,    0.24,2,    1.11,2,-999.000,9,-999.000,9,-999.0000,9,  2085.9,2,  2270.8,2,    568.2,6,    20.00,   7.8409,2,    25.00,-999.000,9,-999.0000,9, -999.00,9,   9.3624,2, -999.00,9,  -999.0,9,  -999.0,-999.000,9, -999.00,9, -999.00,9,   59.80,   9.3539
33RO20100308,      A13.5,      18,          1,         21,      11010,2,20100318,       1840,   -45.5003,     1.1777,       4162,    99.9,   7.8321,  34.2758,2,  34.2777,2, 270.9000,2,   270.8,2,    4.21,2,   17.87,2,    0.34,2,    1.32,2,   3.889,2,   2.263,2,   1.9700,2,  2120.0,2,  2279.3,2,    680.7,2,    20.00,   7.7761,2,    25.00,-999.000,9,-999.0000,9, -999.00,9,   7.8313,2, -999.00,9,  -999.0,9,  -999.0,   4.028,3, -999.00,9, -999.00,9,   99.90,   7.8223
33RO20100308,      A13.5,      18,          1,         20,      11715,2,20100318,       1840,   -45.5003,     1.1777,       4162,   150.6,   5.9007,  34.2197,2,  34.2194,2, 271.7000,2,   274.2,2,    7.28,2,   22.10,2,    0.03,2,    1.56,2,-999.000,9,-999.000,9,-999.0000,9,  2137.9,2,  2276.8,2,    763.1,2,    20.00,   7.7277,2,    25.00,-999.000,9,-999.0000,9, -999.00,9,   5.9001,2, -999.00,9,  -999.0,9,  -999.0,-999.000,9, -999.00,9, -999.00,9,  150.60,   5.8881
33RO20100308,      A13.5,      18,          1,         19,      11007,2,20100318,       1840,   -45.5003,     1.1777,       4162,   201.3,   5.1576,  34.1801,2,  34.1795,2, 273.5000,2,   270.8,2,    9.27,2,   24.13,2,    0.02,2,    1.68,2,   4.228,2,   2.381,2,   1.7840,2,  2145.6,2,  2276.0,2,   -999.0,9,  -999.00,   7.7057,2,    25.00,-999.000,9,-999.0000,9, -999.00,9,   5.1564,2, -999.00,9,  -999.0,9,  -999.0,   4.259,3, -999.00,9, -999.00,9,  201.30,   5.1419
33RO20100308,      A13.5,      18,          1,         18,      11710,2,20100318,       1840,   -45.5003,     1.1777,       4162,   250.0,   4.6990,  34.1589,2,  34.1589,2, 266.4000,2,   266.1,2,   11.34,2,   25.65,2,    0.01,2,    1.78,2,-999.000,9,-999.000,9,-999.0000,9,  2152.9,2,  2275.6,2,    861.8,2,    20.00,   7.6876,2,    25.00,-999.000,9,-999.0000,9, -999.00,9,   4.6981,2, -999.00,9,  -999.0,9,  -999.0,-999.000,9, -999.00,9, -999.00,9,  250.00,   4.6803
33RO20100308,      A13.5,      18,          1,         17,      11025,2,20100318,       1840,   -45.5003,     1.1777,       4162,   398.5,   3.8822,  34.1653,2,  34.1646,2, 253.2000,2,   254.2,2,   19.09,2,   28.34,2,    0.01,2,    1.96,2,   3.748,2,   2.030,2,   1.3420,2,  2170.1,2,  2280.8,2,   -999.0,9,  -999.00,   7.6563,2,    25.00,-999.000,9,-999.0000,9, -999.00,9,   3.8716,2, -999.00,9,  -999.0,9,  -999.0,   3.753,3, -999.00,9, -999.00,9,  398.50,   3.8545
33RO20100308,      A13.5,      18,          1,         16,      11709,2,20100318,       1840,   -45.5003,     1.1777,       4162,   550.7,   3.2804,  34.2048,2,  34.2051,2, 235.7000,2,   237.0,2,   29.20,2,   30.60,2,    0.01,2,    2.12,2,-999.000,9,-999.000,9,-999.0000,9,  2189.1,2,  2288.2,2,   1005.0,2,    20.00,   7.6234,2,    25.00,-999.000,9,-999.0000,9, -999.00,9,   3.2798,2, -999.00,9,  -999.0,9,  -999.0,-999.000,9, -999.00,9, -999.00,9,  550.70,   3.2440
33RO20100308,      A13.5,      18,          1,         15,      11006,2,20100318,       1840,   -45.5003,     1.1777,       4162,   700.6,   2.9985,  34.2836,2,  34.2831,2, 216.0000,2,   215.2,2,   40.43,2,   32.26,2,    0.01,2,    2.24,2,   2.430,2,   1.217,2,   0.6340,2,  2207.7,2,  2302.1,2,   -999.0,9,  -999.00,   7.5949,2,    25.00,-999.000,9,-999.0000,9, -999.00,9,   2.9978,2, -999.00,9,  -999.0,9,  -999.0,   2.682,3, -999.00,9, -999.00,9,  700.60,   2.9529
33RO20100308,      A13.5,      18,          1,         14,      11708,2,20100318,       1840,   -45.5003,     1.1777,       4162,   900.6,   2.7777,  34.3943,2,  34.3919,2, 192.7000,2,   192.0,2,   54.53,6,   33.73,6,    0.01,6,    2.34,6,-999.000,9,-999.000,9,-999.0000,9,  2230.6,2,  2315.3,2,   1153.5,2,    20.00,   7.5687,2,    25.00,-999.000,9,-999.0000,9, -999.00,9,   2.7772,2, -999.00,9,  -999.0,9,  -999.0,-999.000,9, -999.00,9, -999.00,9,  900.60,   2.7190
33RO20100308,      A13.5,      18,          1,         13,      11031,2,20100318,       1840,   -45.5003,     1.1777,       4162,  1100.4,   2.6688,  34.5222,2,  34.5211,2, 177.7000,2,   177.7,6,   65.07,6,   33.75,6,    0.01,6,    2.34,6,   0.708,2,   0.351,2,   0.1350,2,  2244.5,2,  2329.1,2,   -999.0,9,  -999.00,   7.5641,2,    25.00,-999.000,9,-999.0000,9, -999.00,9,   2.6684,2, -999.00,9,  -999.0,9,  -999.0,   0.925,3, -999.00,9, -999.00,9, 1100.40,   2.5960
33RO20100308,      A13.5,      18,          1,         12,      11027,2,20100318,       1840,   -45.5003,     1.1777,       4162,  1299.7,   2.6947,  34.6317,2,  34.6292,2, 179.2000,2,   180.1,2,   66.26,2,   32.01,2,    0.00,2,    2.23,2,-999.000,9,-999.000,9,-999.0000,9,  2243.2,2,  2333.9,2,   1118.9,2,    20.00,   7.5849,2,    25.00,-999.000,9,-999.0000,9, -999.00,9,   2.6942,2, -999.00,9,  -999.0,9,  -999.0,-999.000,9, -999.00,9, -999.00,9, 1299.70,   2.6062
33RO20100308,      A13.5,      18,          1,         11,      11707,2,20100318,       1840,   -45.5003,     1.1777,       4162,  1500.4,   2.5880,  34.6957,2,  34.6953,2, 181.9000,2,   182.9,2,   70.04,2,   31.03,2,    0.00,2,    2.16,2,   0.248,2,   0.121,2,   0.0000,2,  2243.0,2,  2338.9,2,   1079.7,2,    20.00,   7.5955,2,    25.00,-999.000,9,-999.0000,9, -999.00,9,   2.5873,2, -999.00,9,  -999.0,9,  -999.0,   0.432,3, -999.00,9, -999.00,9, 1500.40,   2.4846
33RO20100308,      A13.5,      18,          1,         10,      11003,2,20100318,       1840,   -45.5003,     1.1777,       4162,  1700.1,   2.5547,  34.7351,2,  34.7341,2, 189.6000,2,   189.8,2,   69.53,2,   29.93,2,    0.00,2,    2.08,2,-999.000,9,-999.000,9,-999.0000,9,  -999.0,9,  2339.0,2,   -999.0,9,  -999.00,   7.6110,2,    25.00,-999.000,9,-999.0000,9, -999.00,9,   2.5544,2, -999.00,9,  -999.0,9,  -999.0,-999.000,9, -999.00,9, -999.00,9, 1700.10,   2.4352
33RO20100308,      A13.5,      18,          1,          9,      11706,2,20100318,       1840,   -45.5003,     1.1777,       4162,  1900.8,   2.4737,  34.7767,2,  34.7768,2, 200.5000,2,   201.1,2,   67.18,2,   28.28,2,    0.00,2,    1.96,2,   0.114,2,   0.055,2,   0.0000,2,  2231.2,2,  2343.2,2,    980.4,2,    20.00,   7.6354,2,    25.00,-999.000,9,-999.0000,9, -999.00,9,   2.4732,2, -999.00,9,  -999.0,9,  -999.0,   0.247,3, -999.00,9, -999.00,9, 1900.80,   2.3382
33RO20100308,      A13.5,      18,          1,          8,      11033,2,20100318,       1840,   -45.5003,     1.1777,       4162,  2200.4,   2.3323,  34.7963,2,  34.7940,2, 208.7000,2,   209.0,2,   67.94,2,   27.53,2,    0.00,2,    1.91,2,-999.000,9,-999.000,9,-999.0000,9,  -999.0,9,  2341.0,2,   -999.0,9,  -999.00,   7.6512,2,    25.00,-999.000,9,-999.0000,9, -999.00,9,   2.3317,2, -999.00,9,  -999.0,9,  -999.0,-999.000,9, -999.00,9, -999.00,9, 2200.40,   2.1726
33RO20100308,      A13.5,      18,          1,          7,      11705,2,20100318,       1840,   -45.5003,     1.1777,       4162,  2501.0,   2.1349,  34.7960,2,  34.7952,2, 209.8000,2,   211.4,2,   73.18,2,   27.63,2,    0.00,2,    1.91,2,   0.100,2,   0.050,2,   0.0000,2,  2229.8,2,  2345.1,2,    953.4,2,    20.00,   7.6514,2,    25.00,-999.000,9,-999.0000,9, -999.00,9,   2.1338,2, -999.00,9,  -999.0,9,  -999.0,   0.210,3, -999.00,9, -999.00,9, 2501.00,   1.9514
33RO20100308,      A13.5,      18,          1,          6,      11029,2,20100318,       1840,   -45.5003,     1.1777,       4162,  2800.9,   1.8138,  34.7739,2,  34.7733,2, 207.4000,2,   209.5,2,   84.75,2,   28.76,2,    0.00,2,    1.99,2,-999.000,9,-999.000,9,-999.0000,9,  -999.0,9,  2350.6,2,   -999.0,9,  -999.00,   7.6393,2,    25.00,-999.000,9,-999.0000,9, -999.00,9,   1.8129,2, -999.00,9,  -999.0,9,  -999.0,-999.000,9, -999.00,9, -999.00,9, 2800.90,   1.6087
33RO20100308,      A13.5,      18,          1,          5,      11704,2,20100318,       1840,   -45.5003,     1.1777,       4162,  3100.8,   1.4911,  34.7530,2,  34.7529,2, 209.8000,2,   209.1,2,   95.57,2,   29.69,2,    0.00,2,    2.06,2,-999.000,5,-999.000,5,-999.0000,5,  2246.2,2,  2356.5,2,   1000.1,2,    20.00,   7.6303,2,    25.00,-999.000,9,-999.0000,9, -999.00,9,   1.4905,2, -999.00,9,  -999.0,9,  -999.0,-999.000,5, -999.00,9, -999.00,9, 3100.80,   1.2644
33RO20100308,      A13.5,      18,          1,          4,      11030,2,20100318,       1840,   -45.5003,     1.1777,       4162,  3399.9,   1.2788,  34.7395,2,  34.7391,2, 210.3000,2,   210.4,2,  102.53,2,   30.23,2,    0.00,2,    2.11,2,-999.000,9,-999.000,9,-999.0000,9,  -999.0,9,  2357.6,2,   -999.0,9,  -999.00,   7.6253,2,    25.00,-999.000,9,-999.0000,9, -999.00,9,   1.2784,2, -999.00,9,  -999.0,9,  -999.0,-999.000,9, -999.00,9, -999.00,9, 3399.90,   1.0279
33RO20100308,      A13.5,      18,          1,          3,      11703,2,20100318,       1840,   -45.5003,     1.1777,       4162,  3699.5,   0.9999,  34.7178,2,  34.7160,2, 212.0000,2,   210.5,2,  112.41,6,   31.26,6,    0.01,6,    2.17,6,   0.241,6,   0.117,6,   0.0380,6,  2256.0,2,  2360.0,2,   1044.0,2,    20.00,   7.6160,2,    25.00,-999.000,9,-999.0000,9, -999.00,9,   0.9991,2, -999.00,9,  -999.0,9,  -999.0,   0.374,3, -999.00,9, -999.00,9, 3699.50,   0.7261
33RO20100308,      A13.5,      18,          1,          2,      11702,2,20100318,       1840,   -45.5003,     1.1777,       4162,  3999.9,   0.8764,  34.7085,2,  34.7090,2, 212.0000,2,   212.0,6,  117.56,6,   31.61,6,    0.00,6,    2.20,6,-999.000,9,-999.000,9,-999.0000,9,  -999.0,9,  2363.6,2,   -999.0,9,  -999.00,   7.6125,2,    25.00,-999.000,9,-999.0000,9, -999.00,9,   0.8771,2, -999.00,9,  -999.0,9,  -999.0,-999.000,9, -999.00,9, -999.00,9, 3999.90,   0.5749
33RO20100308,      A13.5,      18,          1,          1,      11701,2,20100318,       1840,   -45.5003,     1.1777,       4162,  4193.1,   0.7988,  34.7005,2,  34.7011,2, 213.0000,2,   211.8,2,  121.59,6,   32.01,6,    0.01,6,    2.23,6,   0.307,2,   0.148,2,   0.0440,2,  2260.5,6,  2361.5,6,   1058.3,2,    20.00,   7.6075,2,    25.00,-999.000,9,-999.0000,9, -999.00,9,   0.7979,2, -999.00,9,  -999.0,9,  -999.0,   0.461,3, -999.00,9, -999.00,9, 4193.10,   0.4791