BOTTLE,20130404CCHSIOCBG
EXPOCODE,SECT_ID,STNNBR,CASTNO,SAMPNO,BTLNBR,BTLNBR_FLAG_W,DATE,TIME,LATITUDE,LONGITUDE,DEPTH,CTDPRS,CTDTMP,CTDSAL,CTDSAL_FLAG_W,SALNTY,SALNTY_FLAG_W,CTDOXY,CTDOXY_FLAG_W,OXYGEN,OXYGEN_FLAG_W,SILCAT,SILCAT_FLAG_W,NITRAT,NITRAT_FLAG_W,NITRIT,NITRIT_FLAG_W,PHSPHT,PHSPHT_FLAG_W,CFC-11,CFC-11_FLAG_W,CFC-12,CFC-12_FLAG_W,SF6,SF6_FLAG_W,TCARBN,TCARBN_FLAG_W,ALKALI,ALKALI_FLAG_W,FCO2,FCO2_FLAG_W,FCO2TMP,PH_TOT,PH_TOT_FLAG_W,PH_TMP,TRITUM,TRITUM_FLAG_W,HELIUM,HELIUM_FLAG_W,DELHE3,DELHE3_FLAG_W,REFTMP,REFTMP_FLAG_W,DELC13,DELC13_FLAG_W,DELC14,DELC14_FLAG_W,C14ERR,CCL4,CCL4_FLAG_W,DOC,DOC_FLAG_W,TDN,TDN_FLAG_W,CTDRAW,THETA
,,,,,,,,,,,METERS,DBAR,ITS-90,PSS-78,,PSS-78,,UMOL/KG,,UMOL/KG,,UMOL/KG,,UMOL/KG,,UMOL/KG,,UMOL/KG,,PMOL/KG,,PMOL/KG,,FMOL/KG,,UMOL/KG,,UMOL/KG,,UATM,,DEG C,,,DEG C,TU,,NMOL/KG,,PERCNT,,DEG C,,/MILLE,,/MILLE,,/MILLE,PMOL/KG,,UMOL/KG,,UMOL/KG,,DBAR,DEG C
33RO20100308,      A13.5,      64,          1,         24,      11714,2,20100330,       1017,      -22.5,     1.4135,       5138,     5.1,  23.2241,  36.1239,2,  36.1235,2, 214.9000,2,   215.7,2,    1.38,2,    0.03,2,    0.00,2,    0.23,2,   1.885,2,   1.164,2,   1.1870,2,  2077.6,6,  2376.0,6,    356.5,2,    20.00,   8.0255,2,    25.00,-999.000,9,-999.0000,9, -999.00,9,  23.2272,2, -999.00,9,  -999.0,9,  -999.0,   2.112,3, -999.00,9, -999.00,9,    5.10,  23.2231
33RO20100308,      A13.5,      64,          1,         23,      11713,2,20100330,       1017,      -22.5,     1.4135,       5138,    40.9,  23.2026,  36.1204,2,  36.1061,2, 217.3000,2,   217.6,2,    1.39,2,    0.07,2,    0.00,2,    0.24,2,   1.911,2,   1.176,2,   1.1630,2,  2077.7,2,  2375.9,2,    356.7,2,    20.00,   8.0255,2,    25.00,-999.000,9,-999.0000,9, -999.00,9,  23.2100,2, -999.00,9,  -999.0,9,  -999.0,   2.099,3, -999.00,9, -999.00,9,   40.90,  23.1942
33RO20100308,      A13.5,      64,          1,         22,      11712,2,20100330,       1017,      -22.5,     1.4135,       5138,   146.9,  15.8765,  35.5047,2,  35.5130,2, 180.5000,2,   181.0,2,    3.51,2,    9.24,2,    0.03,2,    0.77,2,   2.561,2,   1.498,2,   1.2640,2,  2126.5,2,  2331.7,2,    556.2,2,    20.00,   7.8602,2,    25.00,-999.000,9,-999.0000,9, -999.00,9,  15.9158,2, -999.00,9,  -999.0,9,  -999.0,   0.823,3, -999.00,9, -999.00,9,  146.90,  15.8533
33RO20100308,      A13.5,      64,          1,         21,      11010,2,20100330,       1017,      -22.5,     1.4135,       5138,   300.4,  11.0120,  34.9235,2,  34.9236,2, 180.5000,2,   183.9,2,    7.26,2,   17.61,2,    0.00,2,    1.27,2,   3.030,2,   1.649,2,   1.0280,2,  2151.9,2,  2303.5,2,    736.1,2,    20.00,   7.7445,2,    25.00,-999.000,9,-999.0000,9, -999.00,9,  11.0171,2, -999.00,9,  -999.0,9,  -999.0,   1.119,3, -999.00,9, -999.00,9,  300.40,  10.9748
33RO20100308,      A13.5,      64,          1,         20,      11715,2,20100330,       1017,      -22.5,     1.4135,       5138,   400.0,   9.0821,  34.7484,2,  34.7488,2,  94.9000,2,    95.7,2,   15.41,2,   31.13,2,    0.00,2,    2.09,2,   2.026,2,   1.060,2,   0.5640,2,  2222.1,6,  2294.3,2,   1271.2,6,    20.00,   7.5275,2,    25.00,-999.000,9,-999.0000,9, -999.00,9,   9.0769,2, -999.00,9,  -999.0,9,  -999.0,   0.845,3, -999.00,9, -999.00,9,  400.00,   9.0380
33RO20100308,      A13.5,      64,          1,         19,      11007,2,20100330,       1017,      -22.5,     1.4135,       5138,   500.9,   7.5779,  34.6048,2,  34.6050,2, 114.5000,2,   112.1,2,   18.50,2,   33.07,2,    0.00,2,    2.21,2,   1.729,2,   0.885,2,   0.3550,2,  2221.2,2,  2292.3,6,   1279.9,2,    20.00,   7.5253,2,    25.00,-999.000,9,-999.0000,9, -999.00,9,   7.5753,2, -999.00,9,  -999.0,9,  -999.0,   1.072,3, -999.00,9, -999.00,9,  500.90,   7.5281
33RO20100308,      A13.5,      64,          1,         18,      11710,2,20100330,       1017,      -22.5,     1.4135,       5138,   601.4,   6.6498,  34.5554,2,  34.5562,2,  94.7000,2,   103.2,2,   21.85,2,   36.11,2,    0.00,2,    2.39,2,   0.984,6,   0.494,6,   0.1720,6,  2232.1,2,  2291.9,2,   1394.0,2,    20.00,   7.4907,2,    25.00,-999.000,9,-999.0000,9, -999.00,9,   6.6478,2, -999.00,9,  -999.0,9,  -999.0,   0.775,3, -999.00,9, -999.00,9,  601.40,   6.5938
33RO20100308,      A13.5,      64,          1,         17,      11025,2,20100330,       1017,      -22.5,     1.4135,       5138,   750.4,   5.3034,  34.4832,2,  34.4848,2, 120.9000,2,   121.4,2,   28.28,2,   36.90,2,    0.00,2,    2.47,2,   0.340,2,   0.175,2,   0.0590,2,  2231.0,2,  2295.9,2,   1353.9,2,    20.00,   7.5034,2,    25.00,-999.000,9,-999.0000,9, -999.00,9,   5.3069,2, -999.00,9,  -999.0,9,  -999.0,   0.478,3, -999.00,9, -999.00,9,  750.40,   5.2405
33RO20100308,      A13.5,      64,          1,         16,      11709,2,20100330,       1017,      -22.5,     1.4135,       5138,   900.4,   4.3483,  34.4580,2,  34.4589,2, 154.2000,2,   154.0,2,   34.65,2,   35.07,2,    0.00,2,    2.39,2,   0.268,2,   0.138,2,   0.0730,2,  2222.5,2,  2304.2,2,   1212.9,2,    20.00,   7.5490,2,    25.00,-999.000,9,-999.0000,9, -999.00,9,   4.3482,2, -999.00,9,  -999.0,9,  -999.0,   0.516,3, -999.00,9, -999.00,9,  900.40,   4.2785
33RO20100308,      A13.5,      64,          1,         15,      11006,2,20100330,       1017,      -22.5,     1.4135,       5138,  1099.8,   3.8092,  34.5418,2,  34.5426,2, 167.5000,2,   168.5,6,   39.23,2,   33.22,2,    0.00,2,    2.28,2,-999.000,9,-999.000,9,-999.0000,9,  2221.9,2,  2309.7,2,   1128.7,2,    20.00,   7.5766,2,    25.00,-999.000,9,-999.0000,9, -999.00,9,   3.8096,2, -999.00,9,  -999.0,9,  -999.0,-999.000,9, -999.00,9, -999.00,9, 1099.80,   3.7267
33RO20100308,      A13.5,      64,          1,         14,      11708,2,20100330,       1017,      -22.5,     1.4135,       5138,  1300.3,   3.7185,  34.6728,2,  34.6737,2, 184.3000,2,   185.1,2,   37.21,2,   30.26,2,    0.00,2,    2.08,2,-999.000,9,-999.000,9,-999.0000,9,  2213.3,2,  2315.8,2,   1020.9,2,    20.00,   7.6166,2,    25.00,-999.000,9,-999.0000,9, -999.00,9,   3.7188,2, -999.00,9,  -999.0,9,  -999.0,-999.000,9, -999.00,9, -999.00,9, 1300.30,   3.6196
33RO20100308,      A13.5,      64,          1,         13,      11031,2,20100330,       1017,      -22.5,     1.4135,       5138,  1500.3,   3.6069,  34.7715,2,  34.7708,2, 199.5000,2,   200.2,2,   35.28,2,   27.63,2,    0.00,2,    1.88,2,   0.016,2,   0.011,2,   0.0150,2,  2205.1,2,  2315.7,2,    940.9,2,    20.00,   7.6490,2,    25.00,-999.000,9,-999.0000,9, -999.00,9,   3.6043,2, -999.00,9,  -999.0,9,  -999.0,   0.111,3, -999.00,9, -999.00,9, 1500.30,   3.4916
33RO20100308,      A13.5,      64,          1,         12,      11027,2,20100330,       1017,      -22.5,     1.4135,       5138,  1700.3,   3.4811,  34.8388,2,  34.8398,2, 214.2000,2,   214.4,2,   33.12,2,   25.43,2,    0.00,2,    1.72,2,-999.000,9,-999.000,9,-999.0000,9,  2196.8,2,  2320.3,2,    877.4,2,    20.00,   7.6774,2,    25.00,-999.000,9,-999.0000,9, -999.00,9,   3.4805,2, -999.00,9,  -999.0,9,  -999.0,-999.000,9, -999.00,9, -999.00,9, 1700.30,   3.3493
33RO20100308,      A13.5,      64,          1,         11,      11707,2,20100330,       1017,      -22.5,     1.4135,       5138,  1899.6,   3.2662,  34.8708,2,  34.8705,2, 223.2000,2,   223.1,6,   34.11,2,   24.32,2,    0.00,2,    1.65,2,-999.000,9,-999.000,9,-999.0000,9,  2194.2,2,  2323.7,2,    846.9,2,    20.00,   7.6926,2,    25.00,-999.000,9,-999.0000,9, -999.00,9,   3.2665,2, -999.00,9,  -999.0,9,  -999.0,-999.000,9, -999.00,9, -999.00,9, 1899.60,   3.1191
33RO20100308,      A13.5,      64,          1,         10,      11003,2,20100330,       1017,      -22.5,     1.4135,       5138,  2099.4,   3.1149,  34.8926,2,  34.8927,2, 233.8000,2,   234.7,2,   33.83,2,   23.06,2,    0.00,2,    1.56,2,   0.005,2,   0.005,2,   0.0000,2,  2189.2,2,  2324.7,2,    811.1,2,    20.00,   7.7102,2,    25.00,-999.000,9,-999.0000,9, -999.00,9,   3.1145,2, -999.00,9,  -999.0,9,  -999.0,   0.068,3, -999.00,9, -999.00,9, 2099.40,   2.9515
33RO20100308,      A13.5,      64,          1,          9,      11706,2,20100330,       1017,      -22.5,     1.4135,       5138,  2298.3,   2.8744,  34.8849,2,  34.8847,2, 235.0000,2,   235.8,2,   38.54,2,   23.21,2,    0.00,2,    1.57,2,-999.000,9,-999.000,9,-999.0000,9,  2194.9,2,  2328.2,2,    813.9,2,    20.00,   7.7121,2,    25.00,-999.000,9,-999.0000,9, -999.00,9,   2.8735,2, -999.00,9,  -999.0,9,  -999.0,-999.000,9, -999.00,9, -999.00,9, 2298.30,   2.6963
33RO20100308,      A13.5,      64,          1,          8,      11033,2,20100330,       1017,      -22.5,     1.4135,       5138,  2501.6,   2.6967,  34.8767,2,  34.8760,2, 235.7000,2,   236.1,2,   42.68,2,   23.40,2,    0.00,2,    1.58,2,-999.000,9,-999.000,9,-999.0000,9,  2195.1,2,  2332.3,2,    817.3,2,    20.00,   7.7109,2,    25.00,-999.000,9,-999.0000,9, -999.00,9,   2.6968,2, -999.00,9,  -999.0,9,  -999.0,-999.000,9, -999.00,9, -999.00,9, 2501.60,   2.5024
33RO20100308,      A13.5,      64,          1,          7,      11705,2,20100330,       1017,      -22.5,     1.4135,       5138,  2700.7,   2.5643,  34.8715,2,  34.8716,2, 236.3000,2,   237.0,2,   45.95,6,   23.60,6,    0.00,6,    1.60,6,   0.002,2,   0.002,2,   0.0000,2,  2196.5,2,  2334.7,2,    811.9,2,    20.00,   7.7112,2,    25.00,-999.000,9,-999.0000,9, -999.00,9,   2.5641,2, -999.00,9,  -999.0,9,  -999.0,   0.025,3, -999.00,9, -999.00,9, 2700.70,   2.3532
33RO20100308,      A13.5,      64,          1,          6,      11029,2,20100330,       1017,      -22.5,     1.4135,       5138,  3099.2,   2.4273,  34.8764,2,  34.8762,2, 236.4000,2,   237.1,2,   49.14,6,   23.58,6,    0.00,6,    1.60,6,-999.000,9,-999.000,9,-999.0000,9,  2202.2,2,  2340.5,2,    805.7,2,    20.00,   7.7138,2,    25.00,-999.000,9,-999.0000,9, -999.00,9,   2.4270,2, -999.00,9,  -999.0,9,  -999.0,-999.000,9, -999.00,9, -999.00,9, 3099.20,   2.1791
33RO20100308,      A13.5,      64,          1,          5,      11704,2,20100330,       1017,      -22.5,     1.4135,       5138,  3498.3,   2.3821,  34.8861,2,  34.8858,2, 232.3000,2,   233.2,2,   50.84,6,   23.64,6,    0.00,6,    1.60,6,-999.000,9,-999.000,9,-999.0000,9,  2209.7,2,  2350.9,2,    801.9,2,    20.00,   7.7164,2,    25.00,-999.000,9,-999.0000,9, -999.00,9,   2.3819,2, -999.00,9,  -999.0,9,  -999.0,-999.000,9, -999.00,9, -999.00,9, 3498.30,   2.0929
33RO20100308,      A13.5,      64,          1,          4,      11030,2,20100330,       1017,      -22.5,     1.4135,       5138,  3900.5,   2.3673,  34.8873,2,  34.8872,2, 232.3000,2,   232.1,2,   51.81,6,   23.62,6,    0.00,6,    1.60,6,   0.001,2,   0.002,2,   0.0000,2,  2213.8,2,  2355.0,2,    797.4,2,    20.00,   7.7185,2,    25.00,-999.000,9,-999.0000,9, -999.00,9,   2.3670,2, -999.00,9,  -999.0,9,  -999.0,   0.010,3, -999.00,9, -999.00,9, 3900.50,   2.0341
33RO20100308,      A13.5,      64,          1,          3,      11703,2,20100330,       1017,      -22.5,     1.4135,       5138,  4300.0,   2.3746,  34.8855,2,  34.8854,2, 232.3000,2,   233.1,2,   52.44,6,   23.59,6,    0.00,6,    1.59,6,-999.000,9,-999.000,9,-999.0000,9,  2214.9,2,  2359.3,2,    796.2,6,    20.00,   7.7205,2,    25.00,-999.000,9,-999.0000,9, -999.00,9,   2.3740,2, -999.00,9,  -999.0,9,  -999.0,-999.000,9, -999.00,9, -999.00,9, 4300.00,   1.9950
33RO20100308,      A13.5,      64,          1,          2,      11702,2,20100330,       1017,      -22.5,     1.4135,       5138,  4700.0,   2.4001,  34.8835,2,  34.8839,2, 233.7000,2,   233.5,2,   52.85,6,   23.56,6,    0.00,6,    1.59,6,-999.000,9,-999.000,9,-999.0000,9,  2214.4,2,  2390.6,4,    795.6,2,    20.00,   7.7221,2,    25.00,-999.000,9,-999.0000,9, -999.00,9,   2.3997,2, -999.00,9,  -999.0,9,  -999.0,-999.000,9, -999.00,9, -999.00,9, 4700.00,   1.9715
33RO20100308,      A13.5,      64,          1,          1,      11701,2,20100330,       1017,      -22.5,     1.4135,       5138,  5211.1,   2.4608,  34.8825,2,  34.8833,2, 234.1000,2,   233.2,2,   52.91,6,   23.55,6,    0.00,6,    1.59,6,   0.003,2,   0.003,2,   0.0000,2,  2217.4,6,  2358.4,6,    796.6,2,    20.00,   7.7183,2,    25.00,-999.000,9,-999.0000,9, -999.00,9,   2.4603,2, -999.00,9,  -999.0,9,  -999.0,   0.031,3, -999.00,9, -999.00,9, 5211.10,   1.9656