BOTTLE,20130404CCHSIOCBG
EXPOCODE,SECT_ID,STNNBR,CASTNO,SAMPNO,BTLNBR,BTLNBR_FLAG_W,DATE,TIME,LATITUDE,LONGITUDE,DEPTH,CTDPRS,CTDTMP,CTDSAL,CTDSAL_FLAG_W,SALNTY,SALNTY_FLAG_W,CTDOXY,CTDOXY_FLAG_W,OXYGEN,OXYGEN_FLAG_W,SILCAT,SILCAT_FLAG_W,NITRAT,NITRAT_FLAG_W,NITRIT,NITRIT_FLAG_W,PHSPHT,PHSPHT_FLAG_W,CFC-11,CFC-11_FLAG_W,CFC-12,CFC-12_FLAG_W,SF6,SF6_FLAG_W,TCARBN,TCARBN_FLAG_W,ALKALI,ALKALI_FLAG_W,FCO2,FCO2_FLAG_W,FCO2TMP,PH_TOT,PH_TOT_FLAG_W,PH_TMP,TRITUM,TRITUM_FLAG_W,HELIUM,HELIUM_FLAG_W,DELHE3,DELHE3_FLAG_W,REFTMP,REFTMP_FLAG_W,DELC13,DELC13_FLAG_W,DELC14,DELC14_FLAG_W,C14ERR,CCL4,CCL4_FLAG_W,DOC,DOC_FLAG_W,TDN,TDN_FLAG_W,CTDRAW,THETA
,,,,,,,,,,,METERS,DBAR,ITS-90,PSS-78,,PSS-78,,UMOL/KG,,UMOL/KG,,UMOL/KG,,UMOL/KG,,UMOL/KG,,UMOL/KG,,PMOL/KG,,PMOL/KG,,FMOL/KG,,UMOL/KG,,UMOL/KG,,UATM,,DEG C,,,DEG C,TU,,NMOL/KG,,PERCNT,,DEG C,,/MILLE,,/MILLE,,/MILLE,PMOL/KG,,UMOL/KG,,UMOL/KG,,DBAR,DEG C
33RO20100308,      A13.5,     124,          1,         24,      11714,2,20100416,       1633,     3.4748,    -2.9998,       3230,     5.5,  30.4058,  34.8591,2,  34.8620,2, 193.4000,2,   194.1,2,    0.88,6,    0.07,6,    0.00,6,    0.01,6,   1.408,6,   0.922,6,   0.9400,6,  1928.1,6,  2279.0,2,    249.9,2,    20.00,   8.1441,2,    25.00,-999.000,9,-999.0000,9, -999.00,9,  30.3887,2, -999.00,9,  -999.0,9,  -999.0,-999.000,5, -999.00,9, -999.00,9,    5.50,  30.4044
33RO20100308,      A13.5,     124,          1,         23,      11716,2,20100416,       1633,     3.4748,    -2.9998,       3230,    30.1,  30.1762,  34.8967,3,  34.9677,2, 196.1000,2,   196.3,2,    0.89,2,    0.26,2,    0.00,2,    0.02,2,-999.000,5,-999.000,5,-999.0000,5,  1936.7,2,  2290.7,6,    253.9,2,    20.00,   8.1361,2,    25.00,-999.000,9,-999.0000,9, -999.00,9,  30.1765,2, -999.00,9,  -999.0,9,  -999.0,-999.000,5, -999.00,9, -999.00,9,   30.10,  30.1687
33RO20100308,      A13.5,     124,          1,         22,      11022,2,20100416,       1633,     3.4748,    -2.9998,       3230,    60.3,  19.4277,  35.8883,2,  35.8935,2, 150.6000,2,   138.7,2,    3.23,2,    9.80,2,    0.46,2,    0.79,2,   2.064,2,   1.226,2,   0.8650,2,  2145.4,2,  2353.3,6,   -999.0,9,  -999.00,   7.8529,2,    25.00,-999.000,9,-999.0000,9, -999.00,9,  19.4579,2, -999.00,9,  -999.0,9,  -999.0,-999.000,5, -999.00,9, -999.00,9,   60.30,  19.4167
33RO20100308,      A13.5,     124,          1,         21,      11010,2,20100416,       1633,     3.4748,    -2.9998,       3230,   100.5,  16.5747,  35.7542,2,  35.7495,2, 109.0000,2,   106.1,6,    5.57,2,   18.08,2,    0.02,2,    1.22,2,   2.128,2,   1.231,2,   0.6590,2,  2178.3,2,  2342.0,2,    723.6,2,    20.00,   7.7584,2,    25.00,-999.000,9,-999.0000,9, -999.00,9,  16.5723,2, -999.00,9,  -999.0,9,  -999.0,-999.000,5, -999.00,9, -999.00,9,  100.50,  16.5584
33RO20100308,      A13.5,     124,          1,         20,      11715,2,20100416,       1633,     3.4748,    -2.9998,       3230,   149.5,  15.6460,  35.6417,2,  35.6378,2,  98.7000,2,    98.1,2,    6.74,2,   20.09,2,    0.01,2,    1.34,2,   2.094,2,   1.201,2,   0.7020,2,  2185.2,2,  2336.0,2,    782.6,2,    20.00,   7.7260,2,    25.00,-999.000,9,-999.0000,9, -999.00,9,  15.6446,2, -999.00,9,  -999.0,9,  -999.0,-999.000,5, -999.00,9, -999.00,9,  149.50,  15.6226
33RO20100308,      A13.5,     124,          1,         19,      11007,2,20100416,       1633,     3.4748,    -2.9998,       3230,   199.9,  14.7323,  35.5129,2,  35.5062,2,  82.6000,2,    81.6,2,    8.13,2,   23.04,2,    0.01,2,    1.50,2,   1.942,2,   1.092,2,   0.5130,2,  2198.7,2,  2329.1,2,    885.3,2,    20.00,   7.6738,2,    25.00,-999.000,9,-999.0000,9, -999.00,9,  14.7336,2, -999.00,9,  -999.0,9,  -999.0,-999.000,5, -999.00,9, -999.00,9,  199.90,  14.7023
33RO20100308,      A13.5,     124,          1,         18,      11710,2,20100416,       1633,     3.4748,    -2.9998,       3230,   274.6,  11.6123,  35.1347,2,  35.1253,2,  49.4000,2,    49.9,2,   13.04,2,   31.61,2,    0.00,2,    1.99,2,   1.214,2,   0.659,2,   0.1900,2,  2232.2,2,  2308.4,2,   1255.7,2,    20.00,   7.5337,2,    25.00,-999.000,9,-999.0000,9, -999.00,9,  11.6181,2, -999.00,9,  -999.0,9,  -999.0,-999.000,5, -999.00,9, -999.00,9,  274.60,  11.5771
33RO20100308,      A13.5,     124,          1,         17,      11025,2,20100416,       1633,     3.4748,    -2.9998,       3230,   349.5,   9.5320,  34.9015,2,  34.8955,2,  64.6000,2,    65.5,2,   15.85,2,   33.83,2,    0.00,2,    2.13,2,   0.915,2,   0.487,2,   0.0940,2,  2232.1,2,  2301.4,2,   1324.2,2,    20.00,   7.5112,2,    25.00,-999.000,9,-999.0000,9, -999.00,9,   9.5682,2, -999.00,9,  -999.0,9,  -999.0,-999.000,5, -999.00,9, -999.00,9,  349.50,   9.4924
33RO20100308,      A13.5,     124,          1,         16,      11709,2,20100416,       1633,     3.4748,    -2.9998,       3230,   449.8,   7.9065,  34.7340,2,  34.7340,2,  75.9000,2,    76.5,2,   20.01,2,   35.86,2,    0.00,2,    2.31,2,-999.000,9,-999.000,9,-999.0000,9,  2235.5,2,  2296.1,2,   1386.1,2,    20.00,   7.4929,2,    25.00,-999.000,9,-999.0000,9, -999.00,9,   7.9162,2, -999.00,9,  -999.0,9,  -999.0,-999.000,9, -999.00,9, -999.00,9,  449.80,   7.8607
33RO20100308,      A13.5,     124,          1,         15,      11006,2,20100416,       1633,     3.4748,    -2.9998,       3230,   549.6,   6.7655,  34.6329,2,  34.6324,2,  94.5000,2,    93.8,2,   23.22,2,   36.45,2,    0.00,2,    2.39,2,   0.281,2,   0.147,2,   0.0000,2,  2233.5,2,  2295.9,2,   1365.7,2,    20.00,   7.4998,2,    25.00,-999.000,9,-999.0000,9, -999.00,9,   6.7704,2, -999.00,9,  -999.0,9,  -999.0,-999.000,5, -999.00,9, -999.00,9,  549.60,   6.7140
33RO20100308,      A13.5,     124,          1,         14,      11708,2,20100416,       1633,     3.4748,    -2.9998,       3230,   649.7,   5.9360,  34.5668,2,  34.5669,2, 115.4000,2,   113.7,2,   25.61,2,   35.97,2,    0.00,2,    2.41,2,-999.000,9,-999.000,9,-999.0000,9,  2226.9,2,  2292.3,2,   1301.9,2,    20.00,   7.5181,2,    25.00,-999.000,9,-999.0000,9, -999.00,9,   5.9371,2, -999.00,9,  -999.0,9,  -999.0,-999.000,9, -999.00,9, -999.00,9,  649.70,   5.8788
33RO20100308,      A13.5,     124,          1,         13,      11031,2,20100416,       1633,     3.4748,    -2.9998,       3230,   749.9,   5.2987,  34.5474,2,  34.5487,2, 127.5000,2,   126.2,2,   28.84,2,   35.44,2,    0.00,2,    2.40,2,-999.000,9,-999.000,9,-999.0000,9,  2226.8,2,  2298.7,2,   1268.8,2,    20.00,   7.5310,2,    25.00,-999.000,9,-999.0000,9, -999.00,9,   5.2987,2, -999.00,9,  -999.0,9,  -999.0,-999.000,9, -999.00,9, -999.00,9,  749.90,   5.2358
33RO20100308,      A13.5,     124,          1,         12,      11027,2,20100416,       1633,     3.4748,    -2.9998,       3230,   849.6,   4.7787,  34.5573,2,  34.5579,2, 143.0000,2,   143.2,2,   30.86,2,   34.23,2,    0.00,2,    2.33,2,   0.091,2,   0.048,2,   0.0000,2,  2222.7,2,  2301.0,2,   1204.6,2,    20.00,   7.5532,2,    25.00,-999.000,9,-999.0000,9, -999.00,9,   4.7836,2, -999.00,9,  -999.0,9,  -999.0,-999.000,5, -999.00,9, -999.00,9,  849.60,   4.7102
33RO20100308,      A13.5,     124,          1,         11,      11707,2,20100416,       1633,     3.4748,    -2.9998,       3230,   950.5,   4.6445,  34.6064,2,  34.6071,2, 147.3000,2,   147.9,2,   31.03,2,   33.49,2,    0.00,2,    2.29,2,-999.000,9,-999.000,9,-999.0000,9,  2220.7,2,  2305.9,2,   -999.0,9,  -999.00,   7.5630,2,    25.00,-999.000,9,-999.0000,9, -999.00,9,   4.6445,2, -999.00,9,  -999.0,9,  -999.0,-999.000,9, -999.00,9, -999.00,9,  950.50,   4.5681
33RO20100308,      A13.5,     124,          1,         10,      11003,2,20100416,       1633,     3.4748,    -2.9998,       3230,  1048.8,   4.5608,  34.6921,2,  34.6926,2, 155.3000,2,   155.6,2,   29.83,6,   31.78,6,    0.00,6,    2.17,2,-999.000,9,-999.000,9,-999.0000,9,  2215.9,2,  2307.4,2,   1114.9,2,    20.00,   7.5838,2,    25.00,-999.000,9,-999.0000,9, -999.00,9,   4.5608,2, -999.00,9,  -999.0,9,  -999.0,-999.000,9, -999.00,9, -999.00,9, 1048.80,   4.4762
33RO20100308,      A13.5,     124,          1,          9,      11706,2,20100416,       1633,     3.4748,    -2.9998,       3230,  1199.4,   4.5263,  34.7899,2,  34.7904,2, 170.9000,4,   155.5,4,   27.02,6,   29.17,6,    0.00,6,    1.98,6,   0.029,2,   0.015,2,   0.0000,2,  2206.6,2,  2311.6,2,   1027.4,2,    20.00,   7.6178,2,    25.00,-999.000,9,-999.0000,9, -999.00,9,   4.5258,2, -999.00,9,  -999.0,9,  -999.0,-999.000,5, -999.00,9, -999.00,9, 1199.40,   4.4284
33RO20100308,      A13.5,     124,          1,          8,      11033,2,20100416,       1633,     3.4748,    -2.9998,       3230,  1399.7,   4.3687,  34.9031,2,  34.9032,2, 200.1000,4,   171.0,4,   22.82,6,   25.05,6,    0.00,6,    1.68,6,-999.000,9,-999.000,9,-999.0000,9,  2190.4,2,  2311.5,2,   -999.0,9,  -999.00,   7.6689,2,    25.00,-999.000,9,-999.0000,9, -999.00,9,   4.3687,2, -999.00,9,  -999.0,9,  -999.0,-999.000,9, -999.00,9, -999.00,9, 1399.70,   4.2538
33RO20100308,      A13.5,     124,          1,          7,      11705,2,20100416,       1633,     3.4748,    -2.9998,       3230,  1599.6,   4.0365,  34.9533,2,  34.9558,2, 223.5000,2,   222.9,2,   21.20,6,   22.27,6,    0.00,6,    1.49,6,   0.031,2,   0.018,2,   0.0000,2,  2177.2,2,  2316.6,2,    817.9,2,    20.00,   7.7056,2,    25.00,-999.000,9,-999.0000,9, -999.00,9,   4.0361,2, -999.00,9,  -999.0,9,  -999.0,-999.000,5, -999.00,9, -999.00,9, 1599.60,   3.9067
33RO20100308,      A13.5,     124,          1,          6,      11029,2,20100416,       1633,     3.4748,    -2.9998,       3230,  1789.1,   3.7863,  34.9612,2,  34.9625,2, 232.8000,2,   232.5,2,   22.03,6,   21.32,6,    0.00,6,    1.43,6,-999.000,9,-999.000,9,-999.0000,9,  2174.2,2,  2315.9,2,   -999.0,9,  -999.00,   7.7185,2,    25.00,-999.000,9,-999.0000,9, -999.00,9,   3.7868,2, -999.00,9,  -999.0,9,  -999.0,-999.000,9, -999.00,9, -999.00,9, 1789.10,   3.6420
33RO20100308,      A13.5,     124,          1,          5,      11704,2,20100416,       1633,     3.4748,    -2.9998,       3230,  2099.1,   3.3849,  34.9534,2,  34.9543,2, 238.9000,2,   238.4,2,   26.02,6,   21.05,6,    0.00,6,    1.41,6,   0.012,2,   0.008,2,   0.0000,2,  2174.0,2,  2321.5,2,    778.1,2,    20.00,   7.7255,2,    25.00,-999.000,9,-999.0000,9, -999.00,9,   3.3851,2, -999.00,9,  -999.0,9,  -999.0,-999.000,5, -999.00,9, -999.00,9, 2099.10,   3.2171
33RO20100308,      A13.5,     124,          1,          4,      11030,2,20100416,       1633,     3.4748,    -2.9998,       3230,  2400.2,   3.0245,  34.9356,2,  34.9371,2, 237.7000,2,   239.0,2,   32.23,6,   21.43,6,    0.00,6,    1.44,6,-999.000,9,-999.000,9,-999.0000,9,  2180.0,2,  2325.6,2,   -999.0,9,  -999.00,   7.7262,2,    25.00,-999.000,9,-999.0000,9, -999.00,9,   3.0236,2, -999.00,9,  -999.0,9,  -999.0,-999.000,9, -999.00,9, -999.00,9, 2400.20,   2.8339
33RO20100308,      A13.5,     124,          1,          3,      11703,2,20100416,       1633,     3.4748,    -2.9998,       3230,  2699.9,   2.7972,  34.9216,2,  34.9220,2, 236.9000,2,   237.4,2,   37.49,6,   21.93,6,    0.00,6,    1.48,6,   0.003,2,   0.004,2,   0.0000,2,  2187.4,2,  2335.1,2,    792.9,2,    20.00,   7.7222,2,    25.00,-999.000,9,-999.0000,9, -999.00,9,   2.7968,2, -999.00,9,  -999.0,9,  -999.0,-999.000,5, -999.00,9, -999.00,9, 2699.90,   2.5814
33RO20100308,      A13.5,     124,          1,          2,      11702,2,20100416,       1633,     3.4748,    -2.9998,       3230,  3000.1,   2.6839,  34.9138,2,  34.9145,2, 236.0000,2,   236.5,2,   40.27,6,   22.12,6,    0.00,6,    1.49,6,   0.004,2,   0.004,2,   0.0000,2,  2192.1,2,  2335.7,2,   -999.0,9,  -999.00,   7.7215,2,    25.00,-999.000,9,-999.0000,9, -999.00,9,   2.6841,2, -999.00,9,  -999.0,9,  -999.0,-999.000,5, -999.00,9, -999.00,9, 3000.10,   2.4400
33RO20100308,      A13.5,     124,          1,          1,      11701,2,20100416,       1633,     3.4748,    -2.9998,       3230,  3263.7,   2.5509,  34.9045,2,  34.9054,2, 237.3000,2,   237.0,2,   43.14,6,   22.25,6,    0.00,6,    1.51,6,   0.006,2,   0.005,2,   0.0000,2,  2196.2,6,  2341.4,2,    795.3,2,    20.00,   7.7216,2,    25.00,-999.000,9,-999.0000,9, -999.00,9,   2.5506,2, -999.00,9,  -999.0,9,  -999.0,-999.000,5, -999.00,9, -999.00,9, 3263.70,   2.2826