BOTTLE,20130404CCHSIOCBG
EXPOCODE,SECT_ID,STNNBR,CASTNO,SAMPNO,BTLNBR,BTLNBR_FLAG_W,DATE,TIME,LATITUDE,LONGITUDE,DEPTH,CTDPRS,CTDTMP,CTDSAL,CTDSAL_FLAG_W,SALNTY,SALNTY_FLAG_W,CTDOXY,CTDOXY_FLAG_W,OXYGEN,OXYGEN_FLAG_W,SILCAT,SILCAT_FLAG_W,NITRAT,NITRAT_FLAG_W,NITRIT,NITRIT_FLAG_W,PHSPHT,PHSPHT_FLAG_W,CFC-11,CFC-11_FLAG_W,CFC-12,CFC-12_FLAG_W,SF6,SF6_FLAG_W,TCARBN,TCARBN_FLAG_W,ALKALI,ALKALI_FLAG_W,FCO2,FCO2_FLAG_W,FCO2TMP,PH_TOT,PH_TOT_FLAG_W,PH_TMP,TRITUM,TRITUM_FLAG_W,HELIUM,HELIUM_FLAG_W,DELHE3,DELHE3_FLAG_W,REFTMP,REFTMP_FLAG_W,DELC13,DELC13_FLAG_W,DELC14,DELC14_FLAG_W,C14ERR,CCL4,CCL4_FLAG_W,DOC,DOC_FLAG_W,TDN,TDN_FLAG_W,CTDRAW,THETA
,,,,,,,,,,,METERS,DBAR,ITS-90,PSS-78,,PSS-78,,UMOL/KG,,UMOL/KG,,UMOL/KG,,UMOL/KG,,UMOL/KG,,UMOL/KG,,PMOL/KG,,PMOL/KG,,FMOL/KG,,UMOL/KG,,UMOL/KG,,UATM,,DEG C,,,DEG C,TU,,NMOL/KG,,PERCNT,,DEG C,,/MILLE,,/MILLE,,/MILLE,PMOL/KG,,UMOL/KG,,UMOL/KG,,DBAR,DEG C
33RO20100308,      A13.5,       4,          1,         24,      11714,2,20100315,       0252,   -52.5102,     0.2515,       2801,     5.5,   3.2726,  33.6892,2,  33.6894,2, 324.7000,2,   316.1,4,    8.76,2,   22.28,2,    0.28,2,    1.45,2,   5.318,2,   2.873,2,   2.4490,2,  2133.6,6,  2279.0,6,    727.0,2,    20.00,   7.7501,2,    25.00,-999.000,9,-999.0000,9, -999.00,9,   3.2721,2,    1.74,2,   -79.4,2,     2.5,   6.778,3, -999.00,9, -999.00,9,    5.50,   3.2723
33RO20100308,      A13.5,       4,          1,         23,      11713,2,20100315,       0252,   -52.5102,     0.2515,       2801,    39.6,   3.2737,  33.6894,2,  33.6886,2, 322.7000,2,   324.1,2,    8.78,2,   22.14,2,    0.28,2,    1.46,2,   5.307,2,   2.880,2,   2.4960,2,  2133.7,2,  2278.2,2,    719.9,2,    20.00,   7.7509,2,    25.00,-999.000,9,-999.0000,9, -999.00,9,   3.2731,2,    1.75,2,   -86.8,2,     2.6,   6.581,3, -999.00,9, -999.00,9,   39.60,   3.2713
33RO20100308,      A13.5,       4,          1,         22,      11712,2,20100315,       0252,   -52.5102,     0.2515,       2801,    73.3,   3.2674,  33.6903,2,  33.6897,2, 323.6000,2,   324.2,2,    9.02,2,   22.35,2,    0.28,2, -999.00,9,   5.294,2,   2.880,2,   2.4560,2,  2133.1,2,  2281.1,2,    731.3,6,    20.00,   7.7507,2,    25.00,-999.000,9,-999.0000,9, -999.00,9,   3.2698,2,    1.64,2,   -82.9,2,     2.6,   6.393,3, -999.00,9, -999.00,9,   73.30,   3.2629
33RO20100308,      A13.5,       4,          1,         21,      11010,2,20100315,       0252,   -52.5102,     0.2515,       2801,    98.9,   3.2194,  33.6928,2,  33.6949,2, 324.3000,2,   323.3,2,    9.72,2,   22.43,2,    0.28,2,    1.49,2,   5.312,2,   2.868,2,   2.4490,2,  2133.6,2,  2276.9,3,    742.4,2,    20.00,   7.7470,2,    25.00,-999.000,9,-999.0000,9, -999.00,9,   3.2318,2,    1.74,2,   -82.3,2,     2.6,   6.586,3, -999.00,9, -999.00,9,   98.90,   3.2134
33RO20100308,      A13.5,       4,          1,         20,      11715,2,20100315,       0252,   -52.5102,     0.2515,       2801,   132.2,   1.0431,  33.9736,2,  33.9576,2, 283.8000,2,   290.5,2,   37.36,2,   30.05,2,    0.07,2,    2.15,2,-999.000,5,-999.000,5,-999.0000,5,  2187.5,2,  2290.7,2,    998.0,2,    20.00,   7.6255,2,    25.00,-999.000,9,-999.0000,9, -999.00,9,   1.0414,2,    1.12,2,   -89.2,2,     2.5,-999.000,5, -999.00,9, -999.00,9,  132.20,   1.0373
33RO20100308,      A13.5,       4,          1,         19,      11007,2,20100315,       0252,   -52.5102,     0.2515,       2801,   160.6,   1.2113,  34.1490,2,  34.1482,2, 248.7000,2,   248.4,2,   51.00,2,   32.75,2,    0.02,2,    2.30,2,   3.878,2,   2.019,2,   1.5310,2,  2213.0,2,  2301.2,2,   1127.8,2,    20.00,   7.5811,2,    25.00,-999.000,9,-999.0000,9, -999.00,9,   1.2124,2,    0.79,2,  -102.7,2,     2.6,   4.457,3, -999.00,9, -999.00,9,  160.60,   1.2039
33RO20100308,      A13.5,       4,          1,         18,      11710,2,20100315,       0252,   -52.5102,     0.2515,       2801,   193.1,   1.5043,  34.2953,2,  34.2912,2, 215.0000,2,   216.6,2,   60.86,2,   34.49,2,    0.02,2,    2.40,2,   2.923,2,   1.495,2,   0.9930,2,  2231.8,2,  2310.1,2,   1219.6,2,    20.00,   7.5510,2,    25.00,-999.000,9,-999.0000,9, -999.00,9,   1.4988,2,    0.61,2,  -114.7,2,     2.6,   3.236,3, -999.00,9, -999.00,9,  193.10,   1.4949
33RO20100308,      A13.5,       4,          1,         17,      11023,2,20100315,       0252,   -52.5102,     0.2515,       2801,   222.6,   1.7021,  34.3754,2,  34.3699,2, 200.1000,2,   198.7,2,   66.22,6,   35.18,6,    0.02,6,    2.46,6,   2.318,2,   1.176,2,   0.7590,2,  2242.0,2,  2315.0,2,   1269.4,2,    20.00,   7.5384,2,    25.00,-999.000,9,-999.0000,9, -999.00,9,   1.7030,2,    0.40,2,  -121.7,2,     2.5,   2.684,3, -999.00,9, -999.00,9,  222.60,   1.6908
33RO20100308,      A13.5,       4,          1,         16,      11709,2,20100315,       0252,   -52.5102,     0.2515,       2801,   253.4,   1.8342,  34.4321,2,  34.4309,2, 188.8000,2,   186.6,2,   70.38,6,   35.40,6,    0.00,6,    2.51,6,   1.829,2,   0.926,2,   0.5560,2,  2248.1,2,  2320.6,6,   1279.2,2,    20.00,   7.5343,2,    25.00,-999.000,9,-999.0000,9, -999.00,9,   1.8347,2,    0.49,2,  -134.3,2,     2.5,   2.111,3, -999.00,9, -999.00,9,  253.40,   1.8209
33RO20100308,      A13.5,       4,          1,         15,      11006,2,20100315,       0252,   -52.5102,     0.2515,       2801,   351.4,   2.0238,  34.5605,2,  34.5606,2, 173.1000,2,   172.2,2,   79.40,6,   34.87,6,    0.02,6,    2.44,6,   0.932,2,   0.468,2,   0.2260,2,  2257.2,2,  2335.0,2,   1268.7,2,    20.00,   7.5406,2,    25.00,-999.000,9,-999.0000,9, -999.00,9,   2.0234,2,    0.34,2,  -144.3,2,     2.4,   1.164,3, -999.00,9, -999.00,9,  351.40,   2.0045
33RO20100308,      A13.5,       4,          1,         14,      11708,2,20100315,       0252,   -52.5102,     0.2515,       2801,   444.6,   2.0157,  34.6181,2,  34.6179,2, 172.9000,2,   172.5,2,   83.15,2,   34.14,2,    0.01,2,    2.36,2,   0.662,2,   0.334,2,   0.1350,2,  2258.8,2,  2340.7,2,   1228.0,2,    20.00,   7.5527,2,    25.00,-999.000,9,-999.0000,9, -999.00,9,   2.0150,2,    0.54,2,  -153.8,2,     2.4,   0.868,3, -999.00,9, -999.00,9,  444.60,   1.9909
33RO20100308,      A13.5,       4,          1,         13,      11031,2,20100315,       0252,   -52.5102,     0.2515,       2801,   545.0,   1.9971,  34.6636,2,  34.6636,2, 176.3000,2,   187.2,4,   85.34,2,   33.28,2,    0.01,2,    2.31,2,   0.469,2,   0.239,2,   0.1840,2,  2256.3,2,  2346.4,2,   1185.0,2,    20.00,   7.5701,2,    25.00,-999.000,9,-999.0000,9, -999.00,9,   1.9973,2,    0.44,2,  -154.9,2,     2.4,   0.640,3, -999.00,9, -999.00,9,  545.00,   1.9663
33RO20100308,      A13.5,       4,          1,         12,      11027,2,20100315,       0252,   -52.5102,     0.2515,       2801,   645.8,   1.9533,  34.6882,2,  34.6882,2, 180.7000,2,   180.1,2,   86.74,2,   32.66,2,    0.01,2,    2.26,2,   0.394,2,   0.198,2,   0.1090,2,  2255.5,2,  2344.0,2,   1148.8,2,    20.00,   7.5815,2,    25.00,-999.000,9,-999.0000,9, -999.00,9,   1.9525,2,    0.46,2,  -157.0,2,     2.4,   0.562,3, -999.00,9, -999.00,9,  645.80,   1.9164
33RO20100308,      A13.5,       4,          1,         11,      11707,2,20100315,       0252,   -52.5102,     0.2515,       2801,   751.7,   1.8865,  34.7081,2,  34.7083,2, 184.6000,2,   184.5,2,   88.25,2,   32.12,2,    0.01,2,    2.22,2,   0.342,2,   0.173,2,   0.2310,3,  2252.0,2,  2348.8,2,   1122.8,2,    20.00,   7.5903,2,    25.00,-999.000,9,-999.0000,9, -999.00,9,   1.8858,2,    0.58,2,  -152.2,2,     3.8,   0.489,3, -999.00,9, -999.00,9,  751.70,   1.8433
33RO20100308,      A13.5,       4,          1,         10,      11003,2,20100315,       0252,   -52.5102,     0.2515,       2801,   850.1,   1.8398,  34.7232,2,  34.7233,2, 187.9000,2,   189.4,2,   88.82,2,   31.60,2,    0.01,2,    2.17,2,   0.294,2,   0.151,2,   0.0540,2,  2252.0,2,  2348.4,2,   1095.1,2,    20.00,   7.6007,2,    25.00,-999.000,9,-999.0000,9, -999.00,9,   1.8392,2,    0.49,2,  -156.5,2,     2.6,   0.431,3, -999.00,9, -999.00,9,  850.10,   1.7906
33RO20100308,      A13.5,       4,          1,          9,      11706,2,20100315,       0252,   -52.5102,     0.2515,       2801,   950.9,   1.7818,  34.7316,2,  34.7316,2, 192.4000,2,   192.5,2,   89.34,2,   31.09,2,    0.00,2,    2.15,2,   0.272,2,   0.140,2,   0.1150,2,  2250.3,2,  2349.6,2,   1081.3,2,    20.00,   7.6062,2,    25.00,-999.000,9,-999.0000,9, -999.00,9,   1.7823,2,    0.49,2,  -160.0,2,     2.5,   0.447,3, -999.00,9, -999.00,9,  950.90,   1.7264
33RO20100308,      A13.5,       4,          1,          8,      11033,2,20100315,       0252,   -52.5102,     0.2515,       2801,  1150.6,   1.5649,  34.7330,2,  34.7325,2, 196.0000,2,   196.4,2,   94.66,2,   31.38,2,    0.01,2,    2.19,2,   0.272,2,   0.137,2,   0.0860,2,  2251.1,2,  2353.6,2,   1070.3,2,    20.00,   7.6109,2,    25.00,-999.000,9,-999.0000,9, -999.00,9,   1.5647,2,    0.52,2,  -158.7,2,     2.6,   0.419,3, -999.00,9, -999.00,9, 1150.60,   1.4979
33RO20100308,      A13.5,       4,          1,          7,      11705,2,20100315,       0252,   -52.5102,     0.2515,       2801,  1348.2,   1.3413,  34.7254,2,  34.7259,2, 198.0000,2,   199.1,2,  101.06,2,   31.39,2,    0.01,2,    2.20,2,   0.286,2,   0.144,2,   0.0000,2,  2253.3,2,  2355.1,2,   1072.5,2,    20.00,   7.6088,2,    25.00,-999.000,9,-999.0000,9, -999.00,9,   1.3405,2,    0.48,2,  -160.6,2,     2.4,   0.759,3, -999.00,9, -999.00,9, 1348.20,   1.2630
33RO20100308,      A13.5,       4,          1,          6,      11029,2,20100315,       0252,   -52.5102,     0.2515,       2801,  1552.1,   1.1480,  34.7168,2,  34.7170,2, 201.4000,2,   201.5,2,  106.34,2,   32.07,2,    0.01,2,    2.22,2,   0.310,2,   0.153,2,   0.0470,2,  2256.0,2,  2357.4,2,   1077.5,2,    20.00,   7.6064,2,    25.00,-999.000,9,-999.0000,9, -999.00,9,   1.1472,2,    0.48,2,  -160.4,2,     2.4,   0.795,3, -999.00,9, -999.00,9, 1552.10,   1.0577
33RO20100308,      A13.5,       4,          1,          5,      11704,2,20100315,       0252,   -52.5102,     0.2515,       2801,  1846.4,   0.8635,  34.7048,2,  34.7051,2, 205.2000,2,   205.1,2,  113.72,2,   32.04,2,    0.00,2,    2.24,2,   0.357,2,   0.175,2,   0.0670,2,  2258.0,2,  2355.6,2,   1087.4,6,    20.00,   7.6029,2,    25.00,-999.000,9,-999.0000,9, -999.00,9,   0.8643,2,    0.47,2,  -163.1,2,     2.4,   0.541,3, -999.00,9, -999.00,9, 1846.40,   0.7557
33RO20100308,      A13.5,       4,          1,          4,      11030,2,20100315,       0252,   -52.5102,     0.2515,       2801,  2153.7,   0.6703,  34.6960,2,  34.6966,2, 209.1000,2,   208.0,2,  120.01,6,   32.34,6,    0.00,6,    2.25,6,   0.374,2,   0.182,2,   0.0980,2,  2258.9,2,  2352.9,2,   1093.4,2,    20.00,   7.6007,2,    25.00,-999.000,9,-999.0000,9, -999.00,9,   0.6699,2,    0.46,2,  -157.6,2,     2.4,   0.619,3, -999.00,9, -999.00,9, 2153.70,   0.5424
33RO20100308,      A13.5,       4,          1,          3,      11703,2,20100315,       0252,   -52.5102,     0.2515,       2801,  2451.6,   0.5512,  34.6904,2,  34.6910,2, 209.9000,2,   209.8,6,  126.57,6,   32.64,6,    0.01,6,    2.28,6,   0.380,2,   0.184,2,   0.1100,2,  2260.1,2,  2357.8,2,   1099.4,2,    20.00,   7.5978,2,    25.00,-999.000,9,-999.0000,9, -999.00,9,   0.5510,2,    0.47,2,  -160.5,2,     3.0,   0.855,3, -999.00,9, -999.00,9, 2451.60,   0.4019
33RO20100308,      A13.5,       4,          1,          2,      11702,2,20100315,       0252,   -52.5102,     0.2515,       2801,  2702.3,   0.4963,  34.6875,2,  34.6880,2, 211.2000,2,   210.9,2,  130.94,6,   32.68,6,    0.00,6,    2.28,6,   0.385,2,   0.185,2,   0.0210,2,  2260.8,2,  2358.3,2,   1102.6,2,    20.00,   7.5983,2,    25.00,-999.000,9,-999.0000,9, -999.00,9,   0.4950,2,    0.45,2,  -155.6,2,     2.6,   0.617,3, -999.00,9, -999.00,9, 2702.30,   0.3274
33RO20100308,      A13.5,       4,          1,          1,      11701,2,20100315,       0252,   -52.5102,     0.2515,       2801,  2819.1,   0.4993,  34.6871,2,  34.6869,2, 210.9000,2,   211.3,2,  132.49,2,   32.96,2,    0.01,2,    2.32,2,   0.386,2,   0.184,2,   0.0670,2,  2261.6,6,  2359.2,2,   1097.3,2,    20.00,   7.5976,2,    25.00,-999.000,9,-999.0000,9, -999.00,9,   0.4986,2,    0.53,2,  -154.7,2,     2.3,   0.702,3, -999.00,9, -999.00,9, 2819.10,   0.3204