BOTTLE,20130404CCHSIOCBG
EXPOCODE,SECT_ID,STNNBR,CASTNO,SAMPNO,BTLNBR,BTLNBR_FLAG_W,DATE,TIME,LATITUDE,LONGITUDE,DEPTH,CTDPRS,CTDTMP,CTDSAL,CTDSAL_FLAG_W,SALNTY,SALNTY_FLAG_W,CTDOXY,CTDOXY_FLAG_W,OXYGEN,OXYGEN_FLAG_W,SILCAT,SILCAT_FLAG_W,NITRAT,NITRAT_FLAG_W,NITRIT,NITRIT_FLAG_W,PHSPHT,PHSPHT_FLAG_W,CFC-11,CFC-11_FLAG_W,CFC-12,CFC-12_FLAG_W,SF6,SF6_FLAG_W,TCARBN,TCARBN_FLAG_W,ALKALI,ALKALI_FLAG_W,FCO2,FCO2_FLAG_W,FCO2TMP,PH_TOT,PH_TOT_FLAG_W,PH_TMP,TRITUM,TRITUM_FLAG_W,HELIUM,HELIUM_FLAG_W,DELHE3,DELHE3_FLAG_W,REFTMP,REFTMP_FLAG_W,DELC13,DELC13_FLAG_W,DELC14,DELC14_FLAG_W,C14ERR,CCL4,CCL4_FLAG_W,DOC,DOC_FLAG_W,TDN,TDN_FLAG_W,CTDRAW,THETA
,,,,,,,,,,,METERS,DBAR,ITS-90,PSS-78,,PSS-78,,UMOL/KG,,UMOL/KG,,UMOL/KG,,UMOL/KG,,UMOL/KG,,UMOL/KG,,PMOL/KG,,PMOL/KG,,FMOL/KG,,UMOL/KG,,UMOL/KG,,UATM,,DEG C,,,DEG C,TU,,NMOL/KG,,PERCNT,,DEG C,,/MILLE,,/MILLE,,/MILLE,PMOL/KG,,UMOL/KG,,UMOL/KG,,DBAR,DEG C
33RO20100308,      A13.5,      14,          1,         24,      11714,2,20100317,       1907,   -47.5002,     0.9012,       4106,     5.4,   7.1656,  33.8398,2,  33.8383,2, 298.1000,2,   297.5,2,    1.31,2,   18.51,2,    0.27,2,    1.33,2,   4.149,2,   2.372,2,   2.0890,2,  2100.3,6,  2266.6,6,    623.2,2,    20.00,   7.8067,2,    25.00,-999.000,9,-999.0000,9, -999.00,9,   7.1649,2, -999.00,9,  -999.0,9,  -999.0,   5.470,3, -999.00,9, -999.00,9,    5.40,   7.1651
33RO20100308,      A13.5,      14,          1,         23,      11713,2,20100317,       1907,   -47.5002,     0.9012,       4106,    50.5,   7.1011,  33.8417,2,  33.8416,2, 296.8000,2,   296.5,2,    1.53,2,   18.57,2,    0.27,2,    1.34,2,   4.124,6,   2.366,6,   2.0770,6,  2101.7,2,  2262.5,2,    624.9,2,    20.00,   7.8030,2,    25.00,-999.000,9,-999.0000,9, -999.00,9,   7.1030,2, -999.00,9,  -999.0,9,  -999.0,   5.420,3, -999.00,9, -999.00,9,   50.50,   7.0965
33RO20100308,      A13.5,      14,          1,         22,      11712,2,20100317,       1907,   -47.5002,     0.9012,       4106,    75.8,   7.0484,  33.8524,2,  33.8577,2, 294.9000,2,   294.2,2,    1.91,2,   18.78,2,    0.28,2,    1.37,2,   4.146,2,   2.375,2,   2.0870,2,  2103.9,2,  2268.2,2,    646.2,2,    20.00,   7.7947,2,    25.00,-999.000,9,-999.0000,9, -999.00,9,   7.0421,2, -999.00,9,  -999.0,9,  -999.0,   5.319,3, -999.00,9, -999.00,9,   75.80,   7.0415
33RO20100308,      A13.5,      14,          1,         21,      11010,2,20100317,       1907,   -47.5002,     0.9012,       4106,    99.9,   4.7434,  34.0584,2,  34.0570,2, 281.0000,2,   284.6,2,   10.37,2,   25.00,2,    0.02,2,    1.73,2,   4.462,2,   2.503,2,   2.0160,2,  2144.2,2,  -999.0,5,    814.1,2,    20.00,   7.7026,2,    25.00,-999.000,9,-999.0000,9, -999.00,9,   4.7664,2, -999.00,9,  -999.0,9,  -999.0,   5.507,3, -999.00,9, -999.00,9,   99.90,   4.7360
33RO20100308,      A13.5,      14,          1,         20,      11715,2,20100317,       1907,   -47.5002,     0.9012,       4106,   150.0,   3.8266,  34.0836,2,  34.0853,2, 279.4000,2,   282.0,2,   14.14,2,   26.56,2,    0.02,2,    1.82,2,   5.755,4,   5.315,4,  34.1190,4,  2153.8,2,  2276.7,2,    855.6,2,    20.00,   7.6873,2,    25.00,-999.000,9,-999.0000,9, -999.00,9,   3.8264,2, -999.00,9,  -999.0,9,  -999.0,   5.926,4, -999.00,9, -999.00,9,  150.00,   3.8165
33RO20100308,      A13.5,      14,          1,         19,      11007,2,20100317,       1907,   -47.5002,     0.9012,       4106,   250.8,   3.3965,  34.1326,2,  34.1323,2, 264.2000,2,   263.9,2,   20.59,2,   28.68,2,    0.01,2,    1.96,2,   4.030,2,   2.181,2,   1.4540,2,  2170.7,2,  2284.1,2,   -999.0,9,  -999.00,   7.6568,2,    25.00,-999.000,9,-999.0000,9, -999.00,9,   3.3967,2, -999.00,9,  -999.0,9,  -999.0,   4.859,3, -999.00,9, -999.00,9,  250.80,   3.3803
33RO20100308,      A13.5,      14,          1,         18,      11710,2,20100317,       1907,   -47.5002,     0.9012,       4106,   350.4,   3.0489,  34.1728,2,  34.1723,2, 246.7000,2,   247.8,2,   28.38,2,   30.45,2,    0.01,2,    2.09,2,   3.573,2,   1.879,2,   1.1840,2,  2185.7,2,  2289.1,2,    992.4,2,    20.00,   7.6301,2,    25.00,-999.000,9,-999.0000,9, -999.00,9,   3.0488,2, -999.00,9,  -999.0,9,  -999.0,   4.303,3, -999.00,9, -999.00,9,  350.40,   3.0270
33RO20100308,      A13.5,      14,          1,         17,      11025,2,20100317,       1907,   -47.5002,     0.9012,       4106,   450.2,   2.8403,  34.2249,2,  34.2256,2, 231.7000,2,   231.2,2,   35.94,2,   31.82,2,    0.00,2,    2.19,2,   3.056,2,   1.573,2,   0.9380,2,  2200.5,2,  2295.6,2,   -999.0,9,  -999.00,   7.5889,2,    25.00,-999.000,9,-999.0000,9, -999.00,9,   2.8393,2, -999.00,9,  -999.0,9,  -999.0,   3.680,3, -999.00,9, -999.00,9,  450.20,   2.8125
33RO20100308,      A13.5,      14,          1,         16,      11709,2,20100317,       1907,   -47.5002,     0.9012,       4106,   550.8,   2.6236,  34.2755,2,  34.2760,2, 218.5000,2,   218.2,2,   43.88,2,   32.86,2,    0.00,2,    2.29,2,   2.618,2,   1.322,2,   0.7980,2,  2213.3,2,  2301.8,2,   1103.8,2,    20.00,   7.5880,2,    25.00,-999.000,9,-999.0000,9, -999.00,9,   2.6230,2, -999.00,9,  -999.0,9,  -999.0,   3.206,3, -999.00,9, -999.00,9,  550.80,   2.5900
33RO20100308,      A13.5,      14,          1,         15,      11006,2,20100317,       1907,   -47.5002,     0.9012,       4106,   649.1,   2.6579,  34.3484,2,  34.3485,2, 201.7000,2,   200.6,2,   51.61,6,   33.75,6,    0.00,6,    2.32,2,   1.934,2,   0.954,2,   0.4860,2,  2226.5,2,  2312.5,2,   -999.0,9,  -999.00,   7.5707,2,    25.00,-999.000,9,-999.0000,9, -999.00,9,   2.6570,2, -999.00,9,  -999.0,9,  -999.0,   2.464,3, -999.00,9, -999.00,9,  649.10,   2.6176
33RO20100308,      A13.5,      14,          1,         14,      11708,2,20100317,       1907,   -47.5002,     0.9012,       4106,   799.9,   2.6487,  34.4750,2,  34.4743,2, 181.9000,2,   180.4,6,   62.64,6,   34.09,6,    0.00,6,    2.36,6,   1.004,2,   0.493,2,   0.2070,2,  2240.3,2,  2322.9,2,   1182.7,2,    20.00,   7.5608,2,    25.00,-999.000,9,-999.0000,9, -999.00,9,   2.6493,2, -999.00,9,  -999.0,9,  -999.0,   1.413,3, -999.00,9, -999.00,9,  799.90,   2.5979
33RO20100308,      A13.5,      14,          1,         13,      11031,2,20100317,       1907,   -47.5002,     0.9012,       4106,  1000.2,   2.6066,  34.5873,2,  34.5869,2, 176.4000,4,   186.9,4,   68.42,2,   33.24,2,    0.00,2,    2.31,2,   0.489,2,   0.238,2,   0.0890,2,  2247.6,6,  2335.1,2,   -999.0,9,  -999.00,   7.5693,2,    25.00,-999.000,9,-999.0000,9, -999.00,9,   2.6065,2, -999.00,9,  -999.0,9,  -999.0,   0.813,3, -999.00,9, -999.00,9, 1000.20,   2.5416
33RO20100308,      A13.5,      14,          1,         12,      11027,2,20100317,       1907,   -47.5002,     0.9012,       4106,  1199.9,   2.4792,  34.6576,2,  34.6554,2, 124.6000,4,   177.4,2,   73.69,2,   32.38,2,    0.00,2,    2.25,2,   0.342,2,   0.167,2,   0.0000,2,  2249.3,2,  2338.7,2,   1134.7,2,    20.00,   7.5791,2,    25.00,-999.000,9,-999.0000,9, -999.00,9,   2.4783,2, -999.00,9,  -999.0,9,  -999.0,   0.596,3, -999.00,9, -999.00,9, 1199.90,   2.4004
33RO20100308,      A13.5,      14,          1,         11,      11707,2,20100317,       1907,   -47.5002,     0.9012,       4106,  1400.2,   2.4951,  34.7244,2,  34.7239,2, 118.2000,4,   186.7,6,   71.66,3,   30.59,3,    0.00,3,    2.12,3,   0.219,2,   0.104,2,   0.0000,2,  2242.8,2,  2339.7,6,   1061.7,2,    20.00,   7.6049,2,    25.00,-999.000,9,-999.0000,9, -999.00,9,   2.4946,2, -999.00,9,  -999.0,9,  -999.0,   0.435,3, -999.00,9, -999.00,9, 1400.20,   2.4006
33RO20100308,      A13.5,      14,          1,         10,      11003,2,20100317,       1907,   -47.5002,     0.9012,       4106,  1650.2,   2.3295,  34.7649,2,  34.7646,2, 196.7000,2,   197.2,2,   72.96,2,   29.19,2,    0.00,2,    2.02,2,   0.147,2,   0.071,2,   0.0000,2,  2238.0,2,  2345.8,2,   -999.0,9,  -999.00,   7.6248,2,    25.00,-999.000,9,-999.0000,9, -999.00,9,   2.3293,2, -999.00,9,  -999.0,9,  -999.0,   0.314,3, -999.00,9, -999.00,9, 1650.20,   2.2169
33RO20100308,      A13.5,      14,          1,          9,      11706,2,20100317,       1907,   -47.5002,     0.9012,       4106,  1799.8,   2.2285,  34.7740,2,  34.7739,2, 199.9000,2,   201.0,2,   74.61,2,   28.94,2,    0.00,2,    2.00,2,   0.134,2,   0.064,2,   0.0000,2,  2236.9,2,  2345.9,2,   1000.0,2,    20.00,   7.6306,2,    25.00,-999.000,9,-999.0000,9, -999.00,9,   2.2279,2, -999.00,9,  -999.0,9,  -999.0,   0.296,3, -999.00,9, -999.00,9, 1799.80,   2.1049
33RO20100308,      A13.5,      14,          1,          8,      11033,2,20100317,       1907,   -47.5002,     0.9012,       4106,  2100.5,   2.0076,  34.7781,2,  34.7763,2, 205.3000,2,   205.4,2,   79.45,2,   28.83,2,    0.00,2,    1.99,2,   0.116,2,   0.057,2,   0.0000,2,  2237.5,2,  2347.7,2,   -999.0,9,  -999.00,   7.6370,2,    25.00,-999.000,9,-999.0000,9, -999.00,9,   2.0077,2, -999.00,9,  -999.0,9,  -999.0,   0.249,3, -999.00,9, -999.00,9, 2100.50,   1.8620
33RO20100308,      A13.5,      14,          1,          7,      11705,2,20100317,       1907,   -47.5002,     0.9012,       4106,  2400.0,   1.6988,  34.7638,2,  34.7632,2, 206.0000,2,   206.2,2,   88.73,2,   29.49,2,    0.00,2,    2.04,2,   0.127,2,   0.061,2,   0.0000,2,  2242.3,2,  2351.1,2,    990.7,2,    20.00,   7.6315,2,    25.00,-999.000,9,-999.0000,9, -999.00,9,   1.6986,2, -999.00,9,  -999.0,9,  -999.0,   0.250,3, -999.00,9, -999.00,9, 2400.00,   1.5325
33RO20100308,      A13.5,      14,          1,          6,      11029,4,20100317,       1907,   -47.5002,     0.9012,       4106,  2701.2,   1.4292,  34.7463,4,  34.7772,4, 208.1000,2,   205.5,2,   79.29,4,   28.81,4,    0.00,4,    1.99,4,   0.116,2,   0.056,2,   0.0000,2,  2237.0,4,  2348.4,4,   -999.0,9,  -999.00,   7.6355,2,    25.00,-999.000,9,-999.0000,9, -999.00,9,   1.4284,2, -999.00,9,  -999.0,9,  -999.0,   0.246,3, -999.00,9, -999.00,9, 2701.20,   1.2412
33RO20100308,      A13.5,      14,          1,          5,      11704,2,20100317,       1907,   -47.5002,     0.9012,       4106,  3000.3,   1.1196,  34.7195,2,  34.7188,2, 206.5000,2,   205.8,2,  108.25,2,   31.42,2,    0.00,2,    2.17,2,   0.271,2,   0.133,2,   0.0000,2,  2256.1,2,  2354.9,2,   1061.8,2,    20.00,   7.6092,2,    25.00,-999.000,9,-999.0000,9, -999.00,9,   1.1192,2, -999.00,9,  -999.0,9,  -999.0,   0.422,3, -999.00,9, -999.00,9, 3000.30,   0.9109
33RO20100308,      A13.5,      14,          1,          4,      11030,9,20100317,       1907,   -47.5002,     0.9012,       4106,  3298.7,   0.8900,  34.7061,2,-999.0000,9, 209.3000,2,  -999.0,9, -999.00,9, -999.00,9, -999.00,9, -999.00,9,-999.000,9,-999.000,9,-999.0000,9,  -999.0,9,  -999.0,9,   -999.0,9,  -999.00,-999.0000,9,  -999.00,-999.000,9,-999.0000,9, -999.00,9,   0.8896,2, -999.00,9,  -999.0,9,  -999.0,-999.000,9, -999.00,9, -999.00,9, 3298.70,   0.6586
33RO20100308,      A13.5,      14,          1,          3,      11703,2,20100317,       1907,   -47.5002,     0.9012,       4106,  3599.7,   0.7448,  34.6987,2,  34.6979,2, 212.2000,2,   211.2,2,  120.01,6,   32.14,6,    0.00,6,    2.23,6,   0.343,2,   0.164,2,   0.0000,2,  2260.6,2,  2362.3,2,   1077.4,2,    20.00,   7.6038,2,    25.00,-999.000,9,-999.0000,9, -999.00,9,   0.7443,2, -999.00,9,  -999.0,9,  -999.0,   0.539,3, -999.00,9, -999.00,9, 3599.70,   0.4878
33RO20100308,      A13.5,      14,          1,          2,      11702,2,20100317,       1907,   -47.5002,     0.9012,       4106,  3900.7,   0.6704,  34.6927,2,  34.6923,2, 213.5000,2,   212.2,2,  123.51,6,   32.38,6,    0.00,6,    2.24,6,   0.373,2,   0.176,2,   0.0000,2,  2261.9,2,  2355.7,2,   -999.0,9,  -999.00,   7.6013,2,    25.00,-999.000,9,-999.0000,9, -999.00,9,   0.6696,2, -999.00,9,  -999.0,9,  -999.0,   0.587,3, -999.00,9, -999.00,9, 3900.70,   0.3852
33RO20100308,      A13.5,      14,          1,          1,      11701,2,20100317,       1907,   -47.5002,     0.9012,       4106,  4156.2,   0.6359,  34.6891,2,  34.6884,2, 214.1000,2,   211.8,2,  126.69,6,   32.48,6,    0.01,6,    2.25,6,   0.405,2,   0.189,2,   0.0840,3,  2263.7,6,  2360.7,6,   -999.0,9,  -999.00,   7.6002,2,    25.00,-999.000,9,-999.0000,9, -999.00,9,   0.6348,2, -999.00,9,  -999.0,9,  -999.0,   0.627,3, -999.00,9, -999.00,9, 4156.20,   0.3250