BOTTLE,20130404CCHSIOCBG
EXPOCODE,SECT_ID,STNNBR,CASTNO,SAMPNO,BTLNBR,BTLNBR_FLAG_W,DATE,TIME,LATITUDE,LONGITUDE,DEPTH,CTDPRS,CTDTMP,CTDSAL,CTDSAL_FLAG_W,SALNTY,SALNTY_FLAG_W,CTDOXY,CTDOXY_FLAG_W,OXYGEN,OXYGEN_FLAG_W,SILCAT,SILCAT_FLAG_W,NITRAT,NITRAT_FLAG_W,NITRIT,NITRIT_FLAG_W,PHSPHT,PHSPHT_FLAG_W,CFC-11,CFC-11_FLAG_W,CFC-12,CFC-12_FLAG_W,SF6,SF6_FLAG_W,TCARBN,TCARBN_FLAG_W,ALKALI,ALKALI_FLAG_W,FCO2,FCO2_FLAG_W,FCO2TMP,PH_TOT,PH_TOT_FLAG_W,PH_TMP,TRITUM,TRITUM_FLAG_W,HELIUM,HELIUM_FLAG_W,DELHE3,DELHE3_FLAG_W,REFTMP,REFTMP_FLAG_W,DELC13,DELC13_FLAG_W,DELC14,DELC14_FLAG_W,C14ERR,CCL4,CCL4_FLAG_W,DOC,DOC_FLAG_W,TDN,TDN_FLAG_W,CTDRAW,THETA
,,,,,,,,,,,METERS,DBAR,ITS-90,PSS-78,,PSS-78,,UMOL/KG,,UMOL/KG,,UMOL/KG,,UMOL/KG,,UMOL/KG,,UMOL/KG,,PMOL/KG,,PMOL/KG,,FMOL/KG,,UMOL/KG,,UMOL/KG,,UATM,,DEG C,,,DEG C,TU,,NMOL/KG,,PERCNT,,DEG C,,/MILLE,,/MILLE,,/MILLE,PMOL/KG,,UMOL/KG,,UMOL/KG,,DBAR,DEG C
33RO20100308,      A13.5,     118,          1,         24,      11714,2,20100415,       0833,      2.002,     -3.001,       5107,     4.9,  30.4036,  34.7789,2,  34.7796,2, 191.3000,2,   191.7,2,    0.96,6,    0.06,6,    0.01,6,    0.00,6,   1.436,2,   0.917,2,   0.9590,2,  1926.0,2,  2276.5,6,    249.9,2,    20.00,   8.1395,2,    25.00,-999.000,1,-999.0000,1, -999.00,9,  30.3953,2,    1.21,2,    51.5,2,     3.4,   1.801,3,   79.99,2,    5.14,2,    4.90,  30.4024
33RO20100308,      A13.5,     118,          1,         23,      11716,2,20100415,       0833,      2.002,     -3.001,       5107,    39.4,  24.6327,  35.7113,2,  35.6842,2, 211.4000,2,   209.8,2,    1.21,2,    0.27,2,    0.01,2,    0.09,2,   1.906,2,   1.142,2,   0.8880,2,  2046.9,2,  2342.7,2,    349.1,2,    20.00,   8.0255,2,    25.00,-999.000,1,-999.0000,1, -999.00,9,  24.7015,2,    1.22,2,    46.7,2,     3.5,   0.803,3,   68.20,2,    5.13,2,   39.40,  24.6242
33RO20100308,      A13.5,     118,          1,         22,      11022,2,20100415,       0833,      2.002,     -3.001,       5107,    59.6,  18.7181,  35.9137,2,  35.8913,2, 124.8000,2,   121.2,2,    4.18,2,   13.54,2,    0.32,2,    0.98,2,   2.143,2,   1.230,2,   0.7440,2,  2165.3,2,  2353.4,6,    631.6,2,    20.00,   7.8119,2,    25.00,-999.000,1,-999.0000,1, -999.00,9,  18.7428,2,    0.41,2,    55.0,2,     2.8,   0.391,3,   54.00,2,   17.59,2,   59.60,  18.7075
33RO20100308,      A13.5,     118,          1,         21,      11010,2,20100415,       0833,      2.002,     -3.001,       5107,    79.8,  17.0856,  35.8092,2,  35.8029,2, 135.6000,2,   136.1,2,    3.36,2,   14.12,2,    0.12,2,    1.01,2,   2.206,2,   1.250,2,   0.7690,2,  2158.5,2,  2346.4,2,    617.8,2,    20.00,   7.8197,2,    25.00,-999.000,1,-999.0000,1, -999.00,9,  17.0867,2,    0.41,2,    44.4,2,     3.0,   0.428,3,   51.53,2,   17.00,2,   79.80,  17.0723
33RO20100308,      A13.5,     118,          1,         20,      11715,2,20100415,       0833,      2.002,     -3.001,       5107,   149.9,  15.0919,  35.5602,2,  35.5536,2,  85.5000,2,    84.6,2,    7.64,2,   22.23,2,    0.01,2,    1.46,2,   2.008,2,   1.109,2,   0.5420,2,  2198.4,2,  2330.4,2,    862.2,2,    20.00,   7.6901,2,    25.00,-999.000,1,-999.0000,1, -999.00,9,  15.0951,2,    0.07,2,    42.2,2,     3.4,   0.219,3,   48.70,2,   24.41,2,  149.90,  15.0690
33RO20100308,      A13.5,     118,          1,         19,      11007,2,20100415,       0833,      2.002,     -3.001,       5107,   220.3,  12.8874,  35.2755,3,  35.2592,2,  75.6000,2,    73.6,2,   10.03,2,   26.91,2,    0.00,2,    1.71,2,   1.705,2,   0.912,2,   0.3630,2,  2212.9,2,  2316.5,2,   1044.6,2,    20.00,   7.6136,2,    25.00,-999.000,1,-999.0000,1, -999.00,9,  12.8820,2,    0.13,2,    25.4,2,     2.9,   0.252,3,   45.96,2,   29.43,2,  220.30,  12.8572
33RO20100308,      A13.5,     118,          1,         18,      11710,2,20100415,       0833,      2.002,     -3.001,       5107,   349.4,   9.6680,  34.9034,2,  34.8958,2,  77.2000,2,    78.9,2,   14.47,2,   32.27,2,    0.00,2,    2.02,2,-999.000,5,-999.000,5,-999.0000,5,  2224.3,2,  2301.8,2,   1241.6,2,    20.00,   7.5413,2,    25.00,-999.000,1,-999.0000,1, -999.00,9,   9.6739,2,    0.14,2,   -15.4,2,     2.6,-999.000,5,   41.55,2,   33.42,2,  349.40,   9.6280
33RO20100308,      A13.5,     118,          1,         17,      11025,2,20100415,       0833,      2.002,     -3.001,       5107,   499.9,   7.1097,  34.6514,2,  34.6489,2, 100.4000,2,   100.8,2,   20.73,2,   35.13,2,    0.00,2,    2.28,2,   0.548,2,   0.272,2,   0.0620,2,  2226.5,2,  2295.6,2,   1303.2,2,    20.00,   7.5214,2,    25.00,-999.000,1,-999.0000,1, -999.00,9,   7.1140,2,    0.30,2,   -64.2,2,     3.2,   0.446,3,   40.34,2,   36.91,2,  499.90,   7.0617
33RO20100308,      A13.5,     118,          1,         16,      11709,2,20100415,       0833,      2.002,     -3.001,       5107,   650.2,   5.7084,  34.5489,2,  34.5485,2, 122.9000,2,   122.1,2,   25.74,2,   35.63,2,    0.00,2,    2.38,2,   0.257,2,   0.127,2,   0.0000,2,  2225.7,2,  2297.3,2,   1271.5,2,    20.00,   7.5299,2,    25.00,-999.000,1,-999.0000,1, -999.00,9,   5.7020,2,    0.33,2,   -94.0,2,     2.4,   0.365,3,   39.60,2,   37.41,2,  650.20,   5.6523
33RO20100308,      A13.5,     118,          1,         15,      11006,2,20100415,       0833,      2.002,     -3.001,       5107,   800.4,   4.8990,  34.5392,2,  34.5370,2, 141.9000,2,   141.2,2,   29.63,2,   34.74,2,    0.00,2,    2.35,2,-999.000,5,-999.000,5,-999.0000,5,  2223.1,2,  2300.7,2,   1209.5,2,    20.00,   7.5498,2,    25.00,-999.000,1,-999.0000,1, -999.00,9,   4.8990,2,    0.61,2,  -108.3,2,     2.4,-999.000,5,   39.02,2,   36.57,2,  800.40,   4.8340
33RO20100308,      A13.5,     118,          1,         14,      11708,2,20100415,       0833,      2.002,     -3.001,       5107,   949.9,   4.5903,  34.5922,2,  34.5934,2, 149.9000,2,   149.2,2,   30.57,2,   33.69,2,    0.00,2,    2.29,2,   0.065,2,   0.033,2,   0.0000,2,  2221.5,2,  2305.4,2,   1165.0,2,    20.00,   7.5651,2,    25.00,-999.000,1,-999.0000,1, -999.00,9,   4.5907,2,    0.49,2,  -113.4,2,     2.4,   0.182,3,   38.81,2,   35.31,2,  949.90,   4.5143
33RO20100308,      A13.5,     118,          1,         13,      11031,2,20100415,       0833,      2.002,     -3.001,       5107,  1099.9,   4.5664,  34.6901,2,  34.6921,2, 156.8000,2,   156.0,2,   29.04,2,   31.90,2,    0.00,2,    2.16,2,   0.026,2,   0.014,2,   0.0000,2,  2218.0,2,  2307.0,2,   1110.4,2,    20.00,   7.5849,2,    25.00,-999.000,1,-999.0000,1, -999.00,9,   4.5665,2,    0.37,2,  -116.7,2,     2.6,   0.099,3,   38.49,2,   33.50,2, 1099.90,   4.4772
33RO20100308,      A13.5,     118,          1,         12,      11027,2,20100415,       0833,      2.002,     -3.001,       5107,  1250.1,   4.5096,  34.8612,2,  34.8622,2, 187.4000,4,   194.8,2,   23.50,2,   26.71,2,    0.00,2,    1.80,2,   0.062,2,   0.031,2,   0.0000,2,  2200.1,2,  2312.2,2,   -999.0,9,  -999.00,   7.6501,2,    25.00,-999.000,1,-999.0000,1, -999.00,9,   4.5102,2,    0.51,2,  -103.8,2,     2.6,   0.196,3,   39.16,2,   28.30,2, 1250.10,   4.4071
33RO20100308,      A13.5,     118,          1,         11,      11707,2,20100415,       0833,      2.002,     -3.001,       5107,  1400.0,   4.4268,  34.9415,2,  34.9409,2, 213.2000,2,   213.3,2,   19.41,2,   23.18,2,    0.00,2,    1.54,2,   0.211,2,   0.103,2,   0.0000,2,  2184.6,2,  2313.7,2,    849.9,2,    20.00,   7.6919,2,    25.00,-999.000,1,-999.0000,1, -999.00,9,   4.4267,2,    0.66,2,   -90.6,2,     2.6,   0.531,3,   38.76,2,   24.73,2, 1400.00,   4.3112
33RO20100308,      A13.5,     118,          1,         10,      11003,2,20100415,       0833,      2.002,     -3.001,       5107,  1599.7,   4.0793,  34.9615,2,  34.9606,2, 226.5000,2,   226.7,2,   19.42,6,   21.76,6,    0.00,6,    1.44,6,   0.082,2,   0.043,2,   0.0000,2,  2177.7,2,  2313.1,2,    811.2,2,    20.00,   7.7120,2,    25.00,-999.000,1,-999.0000,1, -999.00,9,   4.0815,2,    0.73,2,   -88.6,2,     2.6,   0.332,3,   38.95,2,   23.08,2, 1599.70,   3.9490
33RO20100308,      A13.5,     118,          1,          9,      11706,2,20100415,       0833,      2.002,     -3.001,       5107,  1800.0,   3.8103,  34.9684,2,  34.9676,2, 238.0000,2,   236.6,2,   19.98,6,   20.76,6,    0.00,6,    1.37,6,   0.070,2,   0.036,2,   0.0000,2,  2173.1,6,  2313.6,2,   -999.0,9,  -999.00,   7.7259,2,    25.00,-999.000,9,-999.0000,1, -999.00,9,   3.8108,2,    0.81,2,   -98.1,2,     2.6,   0.332,3,   38.94,2,   22.70,2, 1800.00,   3.6647
33RO20100308,      A13.5,     118,          1,          8,      11033,2,20100415,       0833,      2.002,     -3.001,       5107,  2099.4,   3.4072,  34.9554,2,  34.9543,2, 239.0000,2,   240.1,2,   24.80,6,   20.90,6,    0.00,6,    1.39,6,   0.011,2,   0.007,2,   0.0000,2,  2176.4,2,  2319.0,2,    773.7,2,    20.00,   7.7298,2,    25.00,-999.000,1,-999.0000,1, -999.00,9,   3.4074,2, -999.00,9,  -999.0,9,  -999.0,   0.106,3,   39.06,2,   22.27,2, 2099.40,   3.2391
33RO20100308,      A13.5,     118,          1,          7,      11705,2,20100415,       0833,      2.002,     -3.001,       5107,  2400.6,   3.0806,  34.9393,2,  34.9401,2, 240.9000,2,   241.3,2,   29.69,6,   21.21,6,    0.00,6,    1.41,6,   0.010,2,   0.006,2,   0.0000,2,  2180.1,2,  2324.3,2,    772.7,2,    20.00,   7.7289,2,    25.00,-999.000,9,-999.0000,1, -999.00,9,   3.0820,2, -999.00,9,  -999.0,9,  -999.0,   0.087,3,   39.57,2,   22.50,2, 2400.60,   2.8889
33RO20100308,      A13.5,     118,          1,          6,      11029,2,20100415,       0833,      2.002,     -3.001,       5107,  2700.6,   2.8050,  34.9222,2,  34.9216,2, 240.0000,2,   240.6,2,   35.16,6,   21.69,6,    0.00,6,    1.44,6,   0.007,2,   0.005,2,   0.0000,2,  2186.1,2,  2332.3,2,   -999.0,9,  -999.00,   7.7255,2,    25.00,-999.000,1,-999.0000,1, -999.00,9,   2.8047,2, -999.00,9,  -999.0,9,  -999.0,   0.066,3,   40.18,2,   23.31,2, 2700.60,   2.5890
33RO20100308,      A13.5,     118,          1,          5,      11704,2,20100415,       0833,      2.002,     -3.001,       5107,  3100.7,   2.5943,  34.9070,2,  34.9054,2, 241.4000,2,   241.7,2,   39.15,6,   21.91,6,    0.00,6,    1.46,6,   0.016,6,   0.010,6,   0.0000,6,  2190.0,2,  2335.6,2,   -999.0,9,  -999.00,   7.7255,2,    25.00,-999.000,9,-999.0000,1, -999.00,9,   2.5954,2, -999.00,9,  -999.0,9,  -999.0,   0.115,3,   39.81,2,   23.20,2, 3100.70,   2.3420
33RO20100308,      A13.5,     118,          1,          4,      11030,2,20100415,       0833,      2.002,     -3.001,       5107,  3500.6,   2.4504,  34.8965,2,  34.8953,2, 242.2000,2,   242.7,2,   42.29,6,   22.10,6,    0.00,6,    1.47,6,   0.020,2,   0.012,2,   0.0000,2,  2193.3,2,  2338.5,2,    784.9,2,    20.00,   7.7265,2,    25.00,-999.000,1,-999.0000,1, -999.00,9,   2.4507,2, -999.00,9,  -999.0,9,  -999.0,   0.140,3,   38.95,2,   24.09,2, 3500.60,   2.1592
33RO20100308,      A13.5,     118,          1,          3,      11703,2,20100415,       0833,      2.002,     -3.001,       5107,  3898.3,   2.3771,  34.8893,2,  34.8880,2, 240.4000,2,   240.0,2,   45.77,6,   22.42,6,    0.00,6,    1.51,6,   0.012,2,   0.008,2,   0.0000,2,  2199.2,6,  2342.4,2,   -999.0,9,  -999.00,   7.7221,2,    25.00,-999.000,9,-999.0000,1, -999.00,9,   2.3768,2, -999.00,9,  -999.0,9,  -999.0,   0.097,3,   39.30,2,   24.82,2, 3898.30,   2.0438
33RO20100308,      A13.5,     118,          1,          2,      11702,2,20100415,       0833,      2.002,     -3.001,       5107,  4298.3,   2.2856,  34.8784,3,  34.8690,4, 239.5000,2,   239.2,2,   49.57,6,   22.81,6,    0.00,6,    1.54,6,   0.013,2,   0.009,2,   0.0000,2,  2203.4,2,  2349.7,2,   -999.0,9,  -999.00,   7.7198,2,    25.00,-999.000,1,-999.0000,1, -999.00,9,   2.2854,2, -999.00,9,  -999.0,9,  -999.0,   0.114,3,   40.18,2,   24.54,2, 4298.30,   1.9089
33RO20100308,      A13.5,     118,          1,          1,      11701,2,20100415,       0833,      2.002,     -3.001,       5107,  4701.9,   2.2068,  34.8660,2,  34.8652,2, 241.1000,2,   240.9,2,   52.49,6,   23.06,6,    0.01,6,    1.56,6,   0.031,2,   0.018,2,   0.0000,2,  2203.0,2,  -999.0,9,    796.8,2,    20.00,   7.7177,2,    25.00,-999.000,1,-999.0000,1, -999.00,9,   2.2066,2, -999.00,9,  -999.0,9,  -999.0,   0.210,3,   40.47,2,   25.30,2, 4701.90,   1.7843