BOTTLE,20130404CCHSIOCBG
EXPOCODE,SECT_ID,STNNBR,CASTNO,SAMPNO,BTLNBR,BTLNBR_FLAG_W,DATE,TIME,LATITUDE,LONGITUDE,DEPTH,CTDPRS,CTDTMP,CTDSAL,CTDSAL_FLAG_W,SALNTY,SALNTY_FLAG_W,CTDOXY,CTDOXY_FLAG_W,OXYGEN,OXYGEN_FLAG_W,SILCAT,SILCAT_FLAG_W,NITRAT,NITRAT_FLAG_W,NITRIT,NITRIT_FLAG_W,PHSPHT,PHSPHT_FLAG_W,CFC-11,CFC-11_FLAG_W,CFC-12,CFC-12_FLAG_W,SF6,SF6_FLAG_W,TCARBN,TCARBN_FLAG_W,ALKALI,ALKALI_FLAG_W,FCO2,FCO2_FLAG_W,FCO2TMP,PH_TOT,PH_TOT_FLAG_W,PH_TMP,TRITUM,TRITUM_FLAG_W,HELIUM,HELIUM_FLAG_W,DELHE3,DELHE3_FLAG_W,REFTMP,REFTMP_FLAG_W,DELC13,DELC13_FLAG_W,DELC14,DELC14_FLAG_W,C14ERR,CCL4,CCL4_FLAG_W,DOC,DOC_FLAG_W,TDN,TDN_FLAG_W,CTDRAW,THETA
,,,,,,,,,,,METERS,DBAR,ITS-90,PSS-78,,PSS-78,,UMOL/KG,,UMOL/KG,,UMOL/KG,,UMOL/KG,,UMOL/KG,,UMOL/KG,,PMOL/KG,,PMOL/KG,,FMOL/KG,,UMOL/KG,,UMOL/KG,,UATM,,DEG C,,,DEG C,TU,,NMOL/KG,,PERCNT,,DEG C,,/MILLE,,/MILLE,,/MILLE,PMOL/KG,,UMOL/KG,,UMOL/KG,,DBAR,DEG C
33RO20100308,      A13.5,      15,          1,         24,      11714,2,20100318,       0104,      -47.0,       0.97,       3967,     5.3,   7.1343,  33.8433,2,  33.8465,2, 296.0000,2,   298.0,2,    1.70,2,   18.66,2,    0.27,2,    1.35,2,   4.142,2,   2.378,2,   2.0410,2,  2102.2,6,  2266.3,6,    625.0,6,    20.00,   7.8039,2,    25.00,-999.000,9,-999.0000,9, -999.00,9,   7.1335,2,    1.84,2,   -22.3,2,     3.0,   5.501,3,   45.49,2,   23.18,2,    5.30,   7.1338
33RO20100308,      A13.5,      15,          1,         23,      11713,2,20100318,       0104,      -47.0,       0.97,       3967,    74.1,   7.0647,  33.8485,2,  33.8497,2, 297.2000,2,   296.2,2,    2.13,2,   18.77,2,    0.28,2,    1.37,2,   4.135,2,   2.374,2,   2.0060,2,  2103.8,2,  2267.4,2,    643.3,2,    20.00,   7.7998,2,    25.00,-999.000,9,-999.0000,9, -999.00,9,   7.0692,2,    1.82,2,   -23.4,2,     2.8,   5.477,3,   42.72,2,   23.43,2,   74.10,   7.0579
33RO20100308,      A13.5,      15,          1,         22,      11712,2,20100318,       0104,      -47.0,       0.97,       3967,   124.9,   4.4848,  34.0834,2,  34.0845,2, 281.7000,2,   282.8,2,   11.03,2,   25.23,2,    0.02,2,    1.75,2,   4.555,2,   2.562,2,   1.9750,2,  2147.7,2,  2277.4,2,    818.6,2,    20.00,   7.6991,2,    25.00,-999.000,9,-999.0000,9, -999.00,9,   4.4832,2,    1.29,2,   -11.7,2,     3.1,   5.571,3,   41.70,2,   29.40,2,  124.90,   4.4758
33RO20100308,      A13.5,      15,          1,         21,      11010,2,20100318,       0104,      -47.0,       0.97,       3967,   174.9,   3.8547,  34.0866,2,  34.0875,2, 280.9000,2,   282.3,2,   13.86,2,   26.47,2,    0.02,2,    1.82,2,   4.483,2,   2.488,2,   1.8300,2,  2152.9,2,  2271.0,2,    846.8,2,    20.00,   7.6865,2,    25.00,-999.000,9,-999.0000,9, -999.00,9,   3.8538,2,    1.27,2,   -19.6,2,     2.8,   5.410,3,   41.59,2,   30.26,2,  174.90,   3.8429
33RO20100308,      A13.5,      15,          1,         20,      11715,2,20100318,       0104,      -47.0,       0.97,       3967,   249.8,   3.5568,  34.1242,2,  34.1249,2, 267.6000,2,   267.3,2,   18.63,2,   28.14,2,    0.01,2,    1.93,2,   4.121,2,   2.249,2,   1.4700,2,  2165.8,2,  2279.8,2,    897.2,2,    20.00,   7.6634,2,    25.00,-999.000,9,-999.0000,9, -999.00,9,   3.5566,2,    1.16,2,   -33.0,2,     2.8,   4.913,3,   40.94,2,   30.48,2,  249.80,   3.5404
33RO20100308,      A13.5,      15,          1,         19,      11007,2,20100318,       0104,      -47.0,       0.97,       3967,   349.2,   3.1229,  34.1625,2,  34.1633,2, 248.3000,2,   250.5,2,   26.56,2,   30.05,2,    0.01,2,    2.06,2,   3.656,6,   1.941,6,   1.1830,6,  2182.5,2,  2285.4,2,    973.6,2,    20.00,   7.6343,2,    25.00,-999.000,9,-999.0000,9, -999.00,9,   3.1230,2,    1.05,2,   -54.8,2,     2.7,   4.410,3,   40.24,2,   32.67,2,  349.20,   3.1009
33RO20100308,      A13.5,      15,          1,         18,      11710,2,20100318,       0104,      -47.0,       0.97,       3967,   451.4,   2.8833,  34.2226,2,  34.2243,2, 231.0000,2,   231.3,2,   35.29,2,   31.63,2,    0.01,2,    2.18,2,   3.058,2,   1.578,2,   0.8950,2,  2198.7,2,  2295.1,2,   1035.6,2,    20.00,   7.6088,2,    25.00,-999.000,9,-999.0000,9, -999.00,9,   2.8806,2,    0.92,2,   -76.9,2,     2.6,   3.684,3,   39.27,2,   33.20,2,  451.40,   2.8553
33RO20100308,      A13.5,      15,          1,         17,      11025,2,20100318,       0104,      -47.0,       0.97,       3967,   549.3,   2.7345,  34.2848,2,  34.2859,2, 215.3000,2,   216.4,2,   43.55,2,   32.83,2,    0.00,2,    2.26,2,   2.500,2,   1.262,2,   0.6330,2,  2213.4,2,  2299.6,2,   1098.4,2,    20.00,   7.5881,2,    25.00,-999.000,9,-999.0000,9, -999.00,9,   2.7331,2,    0.77,2,   -88.2,2,     3.8,   3.037,3,   38.08,2,   34.47,2,  549.30,   2.7005
33RO20100308,      A13.5,      15,          1,         16,      11709,2,20100318,       0104,      -47.0,       0.97,       3967,   699.8,   2.7200,  34.4020,2,  34.4024,2, 190.5000,2,   190.6,2,   55.82,2,   33.92,2,    0.00,2,    2.34,2,   1.478,2,   0.719,2,   0.2630,2,  2231.7,2,  2315.8,2,   1163.5,2,    20.00,   7.5667,2,    25.00,-999.000,9,-999.0000,9, -999.00,9,   2.7202,2,    0.68,2,  -113.3,2,     2.5,   1.962,3,   38.37,2,   35.73,2,  699.80,   2.6758
33RO20100308,      A13.5,      15,          1,         15,      11006,2,20100318,       0104,      -47.0,       0.97,       3967,   849.9,   2.6044,  34.4826,2,  34.4843,2, 180.4000,2,   179.0,6,   63.98,2,   34.18,2,    0.00,2,    2.36,2,   0.969,2,   0.475,2,   0.2260,2,  2243.5,2,  2324.6,2,   1200.9,2,    20.00,   7.5590,2,    25.00,-999.000,9,-999.0000,9, -999.00,9,   2.6041,2,    0.58,2,  -129.0,2,     2.5,   1.369,3,   38.22,2,   36.06,2,  849.90,   2.5504
33RO20100308,      A13.5,      15,          1,         14,      11708,2,20100318,       0104,      -47.0,       0.97,       3967,  1001.6,   2.5368,  34.5599,2,  34.5635,2, 175.2000,2,   174.9,2,   69.48,2,   33.75,2,    0.00,2,    2.34,2,   0.621,2,   0.307,2,   0.0640,2,  2248.8,6,  2330.6,2,   1196.3,2,    20.00,   7.5613,2,    25.00,-999.000,9,-999.0000,9, -999.00,9,   2.5368,2,    0.54,2,  -136.5,2,     3.1,   0.953,3,   38.81,2,   35.69,2, 1001.60,   2.4723
33RO20100308,      A13.5,      15,          1,         13,      11031,2,20100318,       0104,      -47.0,       0.97,       3967,  1250.3,   2.4601,  34.6759,2,  34.6763,2, 178.3000,2,   179.5,2,   74.15,2,   32.01,2,    0.00,2,    2.21,2,   0.302,2,   0.146,2,   0.0520,2,  2248.3,2,  2337.7,2,   1120.8,2,    20.00,   7.5854,2,    25.00,-999.000,9,-999.0000,9, -999.00,9,   2.4593,2,    0.53,2,  -145.1,2,     2.8,   0.558,3,   38.27,2,   34.02,2, 1250.30,   2.3776
33RO20100308,      A13.5,      15,          1,         12,      11027,2,20100318,       0104,      -47.0,       0.97,       3967,  1400.5,   2.4533,  34.7198,2,  34.7224,2, 183.8000,4,   207.6,4,   72.85,6,   30.74,6,    0.01,6,    2.12,6,   0.215,2,   0.105,2,   0.0000,2,  2243.6,2,  2340.3,2,   1074.1,2,    20.00,   7.6021,2,    25.00,-999.000,9,-999.0000,9, -999.00,9,   2.4530,2,    0.60,2,  -141.4,2,     2.6,   0.422,3,   38.41,2,   32.25,2, 1400.50,   2.3592
33RO20100308,      A13.5,      15,          1,         11,      11707,2,20100318,       0104,      -47.0,       0.97,       3967,  1549.8,   2.4303,  34.7484,2,  34.7509,2, 191.2000,2,   192.8,2,   71.75,6,   29.81,6,    0.01,6,    2.05,6,   0.172,2,   0.082,2,   0.0000,2,  2239.9,2,  2342.6,2,   1037.3,2,    20.00,   7.6167,2,    25.00,-999.000,9,-999.0000,9, -999.00,9,   2.4297,2,    0.60,2,  -142.4,2,     3.2,   0.361,3,   38.94,2,   31.76,2, 1549.80,   2.3246
33RO20100308,      A13.5,      15,          1,         10,      11003,2,20100318,       0104,      -47.0,       0.97,       3967,  1700.7,   2.3136,  34.7595,2,  34.7587,2, 194.3000,2,   195.5,2,   74.46,2,   29.56,2,    0.00,2,    2.03,2,   0.162,2,   0.079,2,   0.0580,2,  2239.8,2,  2340.8,2,   1022.7,2,    20.00,   7.6222,2,    25.00,-999.000,9,-999.0000,9, -999.00,9,   2.3134,2,    0.61,2,  -146.4,2,     2.3,   0.345,3,   39.58,2,   30.92,2, 1700.70,   2.1971
33RO20100308,      A13.5,      15,          1,          9,      11706,2,20100318,       0104,      -47.0,       0.97,       3967,  1850.0,   2.2247,  34.7760,2,  34.7759,2, 201.2000,2,   201.0,2,   74.63,2,   28.92,2,    0.00,2,    1.98,2,   0.129,2,   0.063,2,   0.0490,2,  2235.9,2,  2343.7,2,    995.9,2,    20.00,   7.6323,2,    25.00,-999.000,9,-999.0000,9, -999.00,9,   2.2240,2,    0.65,2,  -143.6,2,     2.6,   0.292,3,   39.28,2,   30.50,2, 1850.00,   2.0970
33RO20100308,      A13.5,      15,          1,          8,      11033,2,20100318,       0104,      -47.0,       0.97,       3967,  2049.9,   2.0714,  34.7809,2,  34.7812,2, 205.3000,2,   205.4,2,   77.14,2,   28.51,2,    0.00,2,    1.97,2,   0.114,2,   0.055,2,   0.0270,2,  2235.1,2,  2346.0,2,    983.1,2,    20.00,   7.6386,2,    25.00,-999.000,9,-999.0000,9, -999.00,9,   2.0711,2,    0.74,2,  -147.9,2,     2.4,   0.246,3,   37.97,2,   30.84,2, 2049.90,   1.9291
33RO20100308,      A13.5,      15,          1,          7,      11705,2,20100318,       0104,      -47.0,       0.97,       3967,  2351.4,   1.8137,  34.7719,2,  34.7722,2, 207.5000,2,   207.1,2,   84.63,2,   29.04,2,    0.00,2,    2.00,2,   0.119,2,   0.058,2,   0.0000,2,  2239.1,2,  2349.6,2,    998.0,2,    20.00,   7.6369,2,    25.00,-999.000,9,-999.0000,9, -999.00,9,   1.8134,2,    0.66,2,  -148.1,2,     2.8,   0.244,3,   39.46,2,   30.97,2, 2351.40,   1.6496
33RO20100308,      A13.5,      15,          1,          6,      11029,2,20100318,       0104,      -47.0,       0.97,       3967,  2650.8,   1.4818,  34.7477,2,  34.7518,2, 206.9000,2,   205.8,2,   96.47,2,   30.20,2,    0.00,2,    2.08,2,   0.162,2,   0.079,2,   0.0000,2,  2247.9,2,  2354.4,2,   1023.5,2,    20.00,   7.6242,2,    25.00,-999.000,9,-999.0000,9, -999.00,9,   1.4813,2,    0.60,2,  -154.1,2,     2.4,   0.283,3,   39.42,2,   32.07,2, 2650.80,   1.2974
33RO20100308,      A13.5,      15,          1,          5,      11704,2,20100318,       0104,      -47.0,       0.97,       3967,  2950.6,   1.2591,  34.7352,2,  34.7361,2, 208.8000,2,   207.7,2,  103.19,2,   30.73,2,    0.00,2,    2.12,2,   0.195,2,   0.094,2,   0.0000,2,  2251.1,2,  2358.1,2,   1033.3,2,    20.00,   7.6203,2,    25.00,-999.000,9,-999.0000,9, -999.00,9,   1.2583,2,    0.63,2,  -158.1,2,     3.6,   0.333,3,   38.74,2,   32.38,2, 2950.60,   1.0519
33RO20100308,      A13.5,      15,          1,          4,      11030,2,20100318,       0104,      -47.0,       0.97,       3967,  3249.2,   0.9780,  34.7128,2,  34.7140,2, 210.1000,2,   208.2,6,  112.25,2,   31.59,2,    0.00,2,    2.19,2,   0.290,2,   0.139,2,   0.0000,2,  2256.2,2,  2357.5,2,   1059.5,2,    20.00,   7.6091,2,    25.00,-999.000,9,-999.0000,9, -999.00,9,   0.9776,2,    0.54,2,  -160.5,2,     2.6,   0.483,3,   39.28,2,   32.41,2, 3249.20,   0.7492
33RO20100308,      A13.5,      15,          1,          3,      11703,2,20100318,       0104,      -47.0,       0.97,       3967,  3550.4,   0.7761,  34.7008,2,  34.7009,2, 211.6000,2,   211.1,2,  118.99,6,   32.01,6,    0.00,6,    2.22,6,   0.338,2,   0.163,2,   0.0600,2,  2257.8,2,  2361.5,2,   1076.4,2,    20.00,   7.6054,2,    25.00,-999.000,9,-999.0000,9, -999.00,9,   0.7763,2,    0.55,2,  -155.7,2,     2.3,   0.537,3,   38.79,2,   32.98,2, 3550.40,   0.5232
33RO20100308,      A13.5,      15,          1,          2,      11702,2,20100318,       0104,      -47.0,       0.97,       3967,  3849.9,   0.6938,  34.6945,2,  34.6944,2, 212.9000,2,   212.9,2,  122.73,6,   32.24,6,    0.00,6,    2.24,6,   0.353,2,   0.168,2,   0.0670,2,  2259.1,2,  2359.2,2,   1080.6,2,    20.00,   7.6017,2,    25.00,-999.000,9,-999.0000,9, -999.00,9,   0.6927,2,    0.54,2,  -157.4,2,     2.4,   0.560,3,   39.28,2,   33.83,2, 3849.90,   0.4131
33RO20100308,      A13.5,      15,          1,          1,      11701,2,20100318,       0104,      -47.0,       0.97,       3967,  4021.6,   0.6520,  34.6908,2,  34.6909,2, 213.4000,2,   212.3,2,  125.47,6,   32.39,6,    0.01,6,    2.24,6,   0.378,2,   0.181,2,   0.0830,2,  2261.9,6,  2358.0,6,   1083.7,6,    20.00,   7.6015,2,    25.00,-999.000,9,-999.0000,9, -999.00,9,   0.6509,2,    0.49,2,  -155.9,2,     2.4,   0.579,3,   38.74,2,   34.22,2, 4021.60,   0.3548