BOTTLE,20130404CCHSIOCBG
EXPOCODE,SECT_ID,STNNBR,CASTNO,SAMPNO,BTLNBR,BTLNBR_FLAG_W,DATE,TIME,LATITUDE,LONGITUDE,DEPTH,CTDPRS,CTDTMP,CTDSAL,CTDSAL_FLAG_W,SALNTY,SALNTY_FLAG_W,CTDOXY,CTDOXY_FLAG_W,OXYGEN,OXYGEN_FLAG_W,SILCAT,SILCAT_FLAG_W,NITRAT,NITRAT_FLAG_W,NITRIT,NITRIT_FLAG_W,PHSPHT,PHSPHT_FLAG_W,CFC-11,CFC-11_FLAG_W,CFC-12,CFC-12_FLAG_W,SF6,SF6_FLAG_W,TCARBN,TCARBN_FLAG_W,ALKALI,ALKALI_FLAG_W,FCO2,FCO2_FLAG_W,FCO2TMP,PH_TOT,PH_TOT_FLAG_W,PH_TMP,TRITUM,TRITUM_FLAG_W,HELIUM,HELIUM_FLAG_W,DELHE3,DELHE3_FLAG_W,REFTMP,REFTMP_FLAG_W,DELC13,DELC13_FLAG_W,DELC14,DELC14_FLAG_W,C14ERR,CCL4,CCL4_FLAG_W,DOC,DOC_FLAG_W,TDN,TDN_FLAG_W,CTDRAW,THETA
,,,,,,,,,,,METERS,DBAR,ITS-90,PSS-78,,PSS-78,,UMOL/KG,,UMOL/KG,,UMOL/KG,,UMOL/KG,,UMOL/KG,,UMOL/KG,,PMOL/KG,,PMOL/KG,,FMOL/KG,,UMOL/KG,,UMOL/KG,,UATM,,DEG C,,,DEG C,TU,,NMOL/KG,,PERCNT,,DEG C,,/MILLE,,/MILLE,,/MILLE,PMOL/KG,,UMOL/KG,,UMOL/KG,,DBAR,DEG C
33RO20100308,      A13.5,      69,          1,         24,      11714,2,20100331,       2101,   -19.9998,     1.2595,       5526,     4.7,  23.9499,  36.3303,2,  36.3294,2, 210.7000,2,   212.5,2,    0.67,2,    0.00,2,    0.00,2,    0.23,2,   1.825,2,   1.130,2,   1.0530,2,  2083.5,6,  2392.8,6,    347.7,2,    20.00,   8.0347,2,    25.00,-999.000,9,-999.0000,9, -999.00,9,  23.9502,2,    1.47,2,    50.6,2,     3.0,   2.229,3,   68.00,2,    5.78,2,    4.70,  23.9489
33RO20100308,      A13.5,      69,          1,         23,      11713,2,20100331,       2101,   -19.9998,     1.2595,       5526,    40.2,  23.9338,  36.3277,2,  36.3096,2, 211.8000,2,   215.5,2,    0.72,2,    0.09,2,    0.00,2,    0.26,2,   1.850,2,   1.147,2,   1.1080,2,  2084.0,2,  2391.4,2,    348.3,2,    20.00,   8.0341,2,    25.00,-999.000,9,-999.0000,9, -999.00,9,  23.9137,2,    1.50,2,    44.5,2,     2.8,   2.107,3,   68.18,2,    4.52,2,   40.20,  23.9253
33RO20100308,      A13.5,      69,          1,         22,      11712,2,20100331,       2101,   -19.9998,     1.2595,       5526,    99.9,  18.6421,  35.8878,2,  35.8903,2, 228.4000,2,   229.7,2,    1.43,2,    0.13,2,    0.04,2,    0.26,2,   2.330,2,   1.402,2,   1.3140,2,  2089.0,2,  2359.4,2,    395.4,6,    20.00,   7.9837,2,    25.00,-999.000,9,-999.0000,9, -999.00,9,  18.6428,2,    1.27,2,    55.9,2,     2.9,   1.656,3,   58.26,2,    5.09,2,   99.90,  18.6245
33RO20100308,      A13.5,      69,          1,         21,      11010,2,20100331,       2101,   -19.9998,     1.2595,       5526,   150.3,  15.4308,  35.4661,2,  35.4566,2, 197.2000,2,   196.4,6,    3.14,2,    8.04,2,    0.02,2,    0.66,2,   2.660,6,   1.558,6,   1.2320,6,  2116.2,2,  2328.8,2,    525.7,2,    20.00,   7.8774,2,    25.00,-999.000,9,-999.0000,9, -999.00,9,  15.3965,2,    0.76,2,    56.0,2,     2.9,   0.763,3,   50.84,2,   11.69,2,  150.30,  15.4075
33RO20100308,      A13.5,      69,          1,         20,      11715,2,20100331,       2101,   -19.9998,     1.2595,       5526,   248.0,  12.2527,  35.0675,2,  35.0666,2, 182.2000,2,   182.4,2,    5.39,2,   15.14,2,    0.00,2,    1.07,2,   2.984,2,   1.652,2,   0.9850,2,  2144.2,2,  2310.7,2,    679.8,2,    20.00,   7.7751,2,    25.00,-999.000,9,-999.0000,9, -999.00,9,  12.2541,2,    0.82,2,    54.1,2,     2.9,   0.907,3,   48.32,2,   17.68,2,  248.00,  12.2198
33RO20100308,      A13.5,      69,          1,         19,      11007,2,20100331,       2101,   -19.9998,     1.2595,       5526,   349.7,   9.6557,  34.7706,2,  34.7730,2, 170.4000,2,   170.4,2,    9.80,2,   21.97,2,    0.00,2,    1.50,2,   2.852,2,   1.497,2,   0.6800,2,  2168.5,2,  2297.7,2,    845.9,2,    20.00,   7.6903,2,    25.00,-999.000,9,-999.0000,9, -999.00,9,   9.6820,2,    0.84,2,    40.6,2,     2.9,   1.149,3,   42.83,2,   23.66,2,  349.70,   9.6158
33RO20100308,      A13.5,      69,          1,         18,      11710,2,20100331,       2101,   -19.9998,     1.2595,       5526,   500.3,   6.6362,  34.5066,2,  34.5059,2, 157.5000,2,   157.2,2,   18.82,2,   30.52,2,    0.00,2,    2.05,2,   1.897,2,   0.943,2,   0.3160,2,  2199.7,2,  2293.5,2,   1082.1,2,    20.00,   7.5918,2,    25.00,-999.000,9,-999.0000,9, -999.00,9,   6.6419,2,    0.79,2,   -29.6,2,     2.8,   1.481,3,   40.02,2,   31.94,2,  500.30,   6.5901
33RO20100308,      A13.5,      69,          1,         17,      11025,2,20100331,       2101,   -19.9998,     1.2595,       5526,   650.1,   4.9509,  34.4352,2,  34.4356,2, 165.8000,2,   165.0,2,   27.93,2,   33.21,2,    0.00,2,    2.24,2,   0.756,2,   0.368,2,   0.0750,2,  2208.5,6,  2295.4,2,   1126.3,2,    20.00,   7.5762,2,    25.00,-999.000,9,-999.0000,9, -999.00,9,   4.9526,2,    0.81,2,   -79.5,2,     2.5,   1.052,3,   39.85,2,   34.49,2,  650.10,   4.8987
33RO20100308,      A13.5,      69,          1,         16,      11709,2,20100331,       2101,   -19.9998,     1.2595,       5526,   800.5,   4.1406,  34.4556,2,  34.4564,2, 167.4000,2,   167.0,2,   34.93,6,   33.88,6,    0.00,6,    2.29,6,   0.267,2,   0.134,2,   0.0000,2,  2217.3,2,  2303.1,2,   1149.2,2,    20.00,   7.5709,2,    25.00,-999.000,9,-999.0000,9, -999.00,9,   4.1420,2,    0.76,2,  -106.8,2,     2.6,   0.545,3,   39.54,2,   35.97,2,  800.50,   4.0804
33RO20100308,      A13.5,      69,          1,         15,      11006,2,20100331,       2101,   -19.9998,     1.2595,       5526,   998.9,   3.7798,  34.5430,2,  34.5413,2, 171.5000,2,   171.6,2,   38.49,6,   32.89,6,    0.00,6,    2.23,6,   0.085,2,   0.044,2,   0.0000,2,  2220.3,2,  2311.5,2,   1120.4,2,    20.00,   7.5832,2,    25.00,-999.000,9,-999.0000,9, -999.00,9,   3.7798,2,    0.75,2,  -116.0,2,     2.5,   0.257,3,   38.95,2,   34.38,2,  998.90,   3.7059
33RO20100308,      A13.5,      69,          1,         14,      11708,2,20100331,       2101,   -19.9998,     1.2595,       5526,  1200.0,   3.7308,  34.6793,2,  34.6776,2, 184.9000,2,   185.3,2,   35.94,2,   30.07,2,    0.00,2,    2.03,2,   0.034,2,   0.019,2,   0.0000,2,  2211.3,2,  2313.9,2,   1021.8,2,    20.00,   7.6177,2,    25.00,-999.000,9,-999.0000,9, -999.00,9,   3.7305,2,    0.40,2,  -126.3,2,     2.4,   0.139,3,   38.76,2,   32.19,2, 1200.00,   3.6403
33RO20100308,      A13.5,      69,          1,         13,      11031,2,20100331,       2101,   -19.9998,     1.2595,       5526,  1400.7,   3.6816,  34.7777,2,  34.7757,2, 199.5000,2,   199.2,2,   32.81,2,   27.50,2,    0.00,2,    1.85,2,   0.012,2,   0.008,2,   0.0000,2,  2202.2,2,  2319.4,2,    944.6,2,    20.00,   7.6489,2,    25.00,-999.000,9,-999.0000,9, -999.00,9,   3.6813,2,    0.55,2,  -120.7,2,     2.9,   0.085,3,   38.94,2,   29.18,2, 1400.70,   3.5742
33RO20100308,      A13.5,      69,          1,         12,      11027,2,20100331,       2101,   -19.9998,     1.2595,       5526,  1601.2,   3.5694,  34.8569,2,  34.8553,2, 216.8000,2,   217.1,2,   29.98,2,   24.86,2,    0.00,2,    1.66,2,   0.012,2,   0.008,2,   0.0000,2,  2191.0,2,  2323.6,2,    868.5,2,    20.00,   7.6828,2,    25.00,-999.000,9,-999.0000,9, -999.00,9,   3.5690,2,    0.60,2,  -120.1,2,     2.5,   0.091,3,   39.55,2,   25.73,2, 1601.20,   3.4454
33RO20100308,      A13.5,      69,          1,         11,      11707,2,20100331,       2101,   -19.9998,     1.2595,       5526,  1800.5,   3.3550,  34.8865,2,  34.8844,2, 228.0000,2,   228.7,2,   30.62,2,   23.49,2,    0.00,2,    1.57,2,   0.012,2,   0.008,2,   0.0000,2,  2186.3,2,  2327.8,2,    828.4,2,    20.00,   7.7012,2,    25.00,-999.000,9,-999.0000,9, -999.00,9,   3.3542,2,    0.71,2,  -108.9,2,     2.7,   0.103,3,   39.39,2,   25.34,2, 1800.50,   3.2157
33RO20100308,      A13.5,      69,          1,         10,      11003,2,20100331,       2101,   -19.9998,     1.2595,       5526,  2199.9,   2.9660,  34.9015,2,  34.9002,2, 238.6000,2,   238.9,2,   34.51,2,   22.49,2,    0.00,2,    1.50,2,   0.007,2,   0.005,2,   0.0000,2,  2184.9,2,  2328.4,2,    797.2,2,    20.00,   7.7175,2,    25.00,-999.000,9,-999.0000,9, -999.00,9,   2.9657,2, -999.00,9,  -999.0,9,  -999.0,   0.071,3,   39.74,2,   23.90,2, 2199.90,   2.7956
33RO20100308,      A13.5,      69,          1,          9,      11706,2,20100331,       2101,   -19.9998,     1.2595,       5526,  2499.4,   2.7329,  34.8953,2,  34.8941,2, 237.6000,2,   237.8,2,   39.61,2,   22.89,2,    0.00,2,    1.53,2,   0.004,2,   0.003,2,   0.0000,2,  2190.6,2,  2330.7,2,    806.3,2,    20.00,   7.7149,2,    25.00,-999.000,9,-999.0000,9, -999.00,9,   2.7329,2,    0.81,2,  -117.6,2,     2.4,   0.033,3,   39.41,2,   23.88,2, 2499.40,   2.5381
33RO20100308,      A13.5,      69,          1,          8,      11033,2,20100331,       2101,   -19.9998,     1.2595,       5526,  2900.5,   2.5457,  34.8901,2,  34.8887,2, 235.2000,2,   236.0,2,   44.89,2,   23.25,2,    0.00,2,    1.56,2,   0.002,2,   0.001,2,   0.0000,2,  2198.4,2,  2339.3,2,    814.0,2,    20.00,   7.7132,2,    25.00,-999.000,9,-999.0000,9, -999.00,9,   2.5453,2,    0.95,2,  -119.9,2,     2.6,   0.015,3,   39.06,2,   24.87,2, 2900.50,   2.3150
33RO20100308,      A13.5,      69,          1,          7,      11705,2,20100331,       2101,   -19.9998,     1.2595,       5526,  3300.5,   2.4428,  34.8894,2,  34.8879,2, 231.5000,2,   232.3,2,   48.63,2,   23.52,2,    0.00,2,    1.58,2,   0.002,2,   0.001,2,   0.0000,2,  2206.3,2,  2346.7,2,    811.8,2,    20.00,   7.7132,2,    25.00,-999.000,9,-999.0000,9, -999.00,9,   2.4422,2,    0.94,2,  -122.0,2,     2.5,   0.008,3,   39.19,2,   24.72,2, 3300.50,   2.1732
33RO20100308,      A13.5,      69,          1,          6,      11029,2,20100331,       2101,   -19.9998,     1.2595,       5526,  3702.1,   2.3939,  34.8898,2,  34.8890,2, 231.0000,2,   232.7,2,   50.18,2,   23.49,2,    0.00,2,    1.57,2,   0.002,6,   0.002,6,   0.0000,6,  2210.1,2,  2352.0,2,    807.4,2,    20.00,   7.7164,2,    25.00,-999.000,9,-999.0000,9, -999.00,9,   2.3936,2,    0.92,2,  -118.2,2,     3.1,   0.009,3,   39.89,2,   24.99,2, 3702.10,   2.0821
33RO20100308,      A13.5,      69,          1,          5,      11704,2,20100331,       2101,   -19.9998,     1.2595,       5526,  4100.9,   2.3900,  34.8884,2,  34.8864,2, 232.5000,2,   232.3,2,   50.85,6,   23.48,6,    0.00,6,    1.56,6,   0.005,2,   0.004,2,   0.0000,2,  2211.8,2,  2352.5,2,    803.0,2,    20.00,   7.7181,2,    25.00,-999.000,9,-999.0000,9, -999.00,9,   2.3899,2,    0.98,2,  -121.2,2,     2.6,   0.015,3,   39.99,2,   25.15,2, 4100.90,   2.0332
33RO20100308,      A13.5,      69,          1,          4,      11030,2,20100331,       2101,   -19.9998,     1.2595,       5526,  4499.0,   2.3997,  34.8858,2,  34.8840,2, 231.5000,2,   233.7,6,   51.37,2,   23.52,2,    0.00,2,    1.57,2,   0.003,2,   0.002,2,   0.0000,2,  -999.0,9,  2356.6,2,    800.7,2,    20.00,   7.7194,2,    25.00,-999.000,9,-999.0000,9, -999.00,9,   2.3994,2,    0.98,2,  -118.8,2,     2.4,   0.021,3,   39.75,2,   24.78,2, 4499.00,   1.9956
33RO20100308,      A13.5,      69,          1,          3,      11703,2,20100331,       2101,   -19.9998,     1.2595,       5526,  4899.6,   2.4198,  34.8830,2,  34.8806,2, 234.1000,2,   235.3,2,   51.80,2,   23.50,2,    0.00,2,    1.57,2,   0.004,2,   0.004,2,   0.0000,2,  2213.5,2,  2352.4,3,    797.8,2,    20.00,   7.7201,2,    25.00,-999.000,9,-999.0000,9, -999.00,9,   2.4194,2,    0.91,2,  -116.8,2,     2.6,   0.034,3,   39.54,2,   25.14,2, 4899.60,   1.9658
33RO20100308,      A13.5,      69,          1,          2,      11702,2,20100331,       2101,   -19.9998,     1.2595,       5526,  5300.0,   2.4602,  34.8818,2,  34.8798,2, 234.9000,2,   235.0,2,   52.17,6,   23.49,6,    0.00,6,    1.56,6,   0.010,2,   0.007,2,   0.0000,2,  2215.4,2,  2355.9,2,    796.6,6,    20.00,   7.7216,2,    25.00,-999.000,9,-999.0000,9, -999.00,9,   2.4598,2,    0.97,2,  -116.6,6,     1.9,   0.044,3,   40.03,2,   25.58,2, 5300.00,   1.9535
33RO20100308,      A13.5,      69,          1,          1,      11701,2,20100331,       2101,   -19.9998,     1.2595,       5526,  5605.5,   2.4958,  34.8807,2,  34.8782,2, 235.0000,2,   234.6,2,   52.26,6,   23.41,6,    0.00,6,    1.57,6,   0.008,2,   0.006,2,   0.0000,2,  2214.4,6,  2355.1,6,    796.5,2,    20.00,   7.7226,2,    25.00,-999.000,9,-999.0000,9, -999.00,9,   2.4954,2,    0.94,2,  -110.9,2,     2.6,   0.046,3,   40.16,2,   24.88,2, 5605.50,   1.9474