BOTTLE,20130404CCHSIOCBG
EXPOCODE,SECT_ID,STNNBR,CASTNO,SAMPNO,BTLNBR,BTLNBR_FLAG_W,DATE,TIME,LATITUDE,LONGITUDE,DEPTH,CTDPRS,CTDTMP,CTDSAL,CTDSAL_FLAG_W,SALNTY,SALNTY_FLAG_W,CTDOXY,CTDOXY_FLAG_W,OXYGEN,OXYGEN_FLAG_W,SILCAT,SILCAT_FLAG_W,NITRAT,NITRAT_FLAG_W,NITRIT,NITRIT_FLAG_W,PHSPHT,PHSPHT_FLAG_W,CFC-11,CFC-11_FLAG_W,CFC-12,CFC-12_FLAG_W,SF6,SF6_FLAG_W,TCARBN,TCARBN_FLAG_W,ALKALI,ALKALI_FLAG_W,FCO2,FCO2_FLAG_W,FCO2TMP,PH_TOT,PH_TOT_FLAG_W,PH_TMP,TRITUM,TRITUM_FLAG_W,HELIUM,HELIUM_FLAG_W,DELHE3,DELHE3_FLAG_W,REFTMP,REFTMP_FLAG_W,DELC13,DELC13_FLAG_W,DELC14,DELC14_FLAG_W,C14ERR,CCL4,CCL4_FLAG_W,DOC,DOC_FLAG_W,TDN,TDN_FLAG_W,CTDRAW,THETA
,,,,,,,,,,,METERS,DBAR,ITS-90,PSS-78,,PSS-78,,UMOL/KG,,UMOL/KG,,UMOL/KG,,UMOL/KG,,UMOL/KG,,UMOL/KG,,PMOL/KG,,PMOL/KG,,FMOL/KG,,UMOL/KG,,UMOL/KG,,UATM,,DEG C,,,DEG C,TU,,NMOL/KG,,PERCNT,,DEG C,,/MILLE,,/MILLE,,/MILLE,PMOL/KG,,UMOL/KG,,UMOL/KG,,DBAR,DEG C
33RO20100308,      A13.5,      43,          1,         24,      11714,2,20100325,       0216,   -32.9998,     0.9797,       4447,     5.6,  20.2995,  35.6389,2,  35.6429,2, 226.4000,2,   227.6,2,    1.26,2,    0.00,2,    0.00,2,    0.15,2,   2.176,2,   1.324,2,   1.3500,2,  2069.0,6,  2344.8,2,    383.6,2,    20.00,   7.9957,2,    25.00,-999.000,1,-999.0000,1, -999.00,9,  20.2991,2, -999.00,9,  -999.0,9,  -999.0,   2.514,3,   62.16,2,    4.29,2,    5.60,  20.2985
33RO20100308,      A13.5,      43,          1,         23,      11713,2,20100325,       0216,   -32.9998,     0.9797,       4447,    32.2,  20.3023,  35.6395,2,  35.6397,2, 227.2000,2,   227.8,2,    1.27,2,    0.00,2,    0.00,2,    0.15,2,   2.170,2,   1.315,2,   1.2650,2,  2068.4,2,  2343.4,2,    383.8,6,    20.00,   7.9963,2,    25.00,-999.000,1,-999.0000,1, -999.00,9,  20.3043,2, -999.00,9,  -999.0,9,  -999.0,   2.535,3,   61.43,2,    4.50,2,   32.20,  20.2963
33RO20100308,      A13.5,      43,          1,         22,      11712,2,20100325,       0216,   -32.9998,     0.9797,       4447,    76.3,  18.6114,  35.6199,2,  35.6202,2, 241.1000,2,   242.7,6,    1.57,2,    0.01,2,    0.00,2,    0.17,2,   2.397,6,   1.448,6,   1.3680,6,  2067.1,2,  2342.6,2,    385.3,2,    20.00,   7.9937,2,    25.00,-999.000,1,-999.0000,1, -999.00,9,  18.6113,2, -999.00,9,  -999.0,9,  -999.0,   2.066,3,   61.39,2,    4.04,2,   76.30,  18.5980
33RO20100308,      A13.5,      43,          1,         21,      11010,2,20100325,       0216,   -32.9998,     0.9797,       4447,    99.5,  17.0250,  35.5931,2,  35.5930,2, 242.2000,2,   242.7,2,    1.79,2,    0.13,2,    0.02,2,    0.21,2,   2.523,2,   1.517,2,   1.3610,2,  2072.8,2,  2338.2,2,    403.2,2,    20.00,   7.9788,2,    25.00,-999.000,1,-999.0000,1, -999.00,9,  17.0510,2, -999.00,9,  -999.0,9,  -999.0,   1.814,3,   57.96,2,    4.23,2,   99.50,  17.0085
33RO20100308,      A13.5,      43,          1,         20,      11715,2,20100325,       0216,   -32.9998,     0.9797,       4447,   201.1,  14.0977,  35.2983,2,  35.2948,2, 219.7000,2,   219.6,2,    2.75,2,    6.83,2,    0.01,2,    0.60,2,   2.817,2,   1.662,2,   1.3410,2,  2105.5,2,  2324.5,2,    513.6,2,    20.00,   7.8868,2,    25.00,-999.000,1,-999.0000,1, -999.00,9,  14.1020,2, -999.00,9,  -999.0,9,  -999.0,   1.273,3,   51.18,2,    9.65,2,  201.10,  14.0684
33RO20100308,      A13.5,      43,          1,         19,      11007,2,20100325,       0216,   -32.9998,     0.9797,       4447,   251.2,  13.3392,  35.2183,2,  35.2184,2, 222.4000,2,   217.7,2,    2.93,2,    8.34,2,    0.01,2,    0.69,2,   2.914,2,   1.701,2,   1.3970,2,  2113.0,2,  2319.5,2,    543.1,2,    20.00,   7.8645,2,    25.00,-999.000,1,-999.0000,1, -999.00,9,  13.3393,2, -999.00,9,  -999.0,9,  -999.0,   1.230,3,   48.82,2,   10.85,2,  251.20,  13.3039
33RO20100308,      A13.5,      43,          1,         18,      11710,2,20100325,       0216,   -32.9998,     0.9797,       4447,   300.5,  12.6162,  35.1230,2,  35.1218,2, 215.4000,2,   213.0,2,    3.91,2,   10.73,2,    0.00,2,    0.84,2,   3.009,2,   1.730,2,   1.2650,2,  2121.8,2,  2314.8,2,    583.7,2,    20.00,   7.8376,2,    25.00,-999.000,1,-999.0000,1, -999.00,9,  12.6174,2, -999.00,9,  -999.0,9,  -999.0,   1.190,3,   47.39,2,   12.71,2,  300.50,  12.5755
33RO20100308,      A13.5,      43,          1,         17,      11025,2,20100325,       0216,   -32.9998,     0.9797,       4447,   400.7,  11.1440,  34.9359,2,  34.9332,2, 223.2000,2,   222.6,2,    4.24,2,   12.87,2,    0.00,2,    0.98,2,   3.186,2,   1.811,2,   1.3070,2,  2124.2,2,  2305.2,2,    617.6,2,    20.00,   7.8160,2,    25.00,-999.000,1,-999.0000,1, -999.00,9,  11.1432,2, -999.00,9,  -999.0,9,  -999.0,   1.475,3,   46.53,2,   14.87,2,  400.70,  11.0938
33RO20100308,      A13.5,      43,          1,         16,      11709,2,20100325,       0216,   -32.9998,     0.9797,       4447,   500.4,   9.7890,  34.7640,2,  34.7675,2, 205.6000,2,   210.8,2,    8.17,2,   18.44,2,    0.00,2,    1.33,2,   3.125,2,   1.706,2,   1.0000,2,  2146.5,2,  2295.7,2,    731.3,2,    20.00,   7.7487,2,    25.00,-999.000,1,-999.0000,1, -999.00,9,   9.7993,2, -999.00,9,  -999.0,9,  -999.0,   1.522,3,   44.42,2,   20.11,2,  500.40,   9.7310
33RO20100308,      A13.5,      43,          1,         15,      11006,2,20100325,       0216,   -32.9998,     0.9797,       4447,   650.3,   7.1920,  34.4805,2,  34.4810,2, 208.6000,2,   208.3,2,   13.06,2,   24.45,2,    0.00,2,    1.72,2,   3.183,2,   1.677,2,   0.9540,2,  2163.5,2,  2287.3,2,    863.0,2,    20.00,   7.6836,2,    25.00,-999.000,1,-999.0000,1, -999.00,9,   7.1917,2, -999.00,9,  -999.0,9,  -999.0,   2.382,3,   41.98,2,   26.16,2,  650.30,   7.1287
33RO20100308,      A13.5,      43,          1,         14,      11708,2,20100325,       0216,   -32.9998,     0.9797,       4447,   799.9,   5.2809,  34.3162,2,  34.3166,2, 224.3000,2,   223.6,2,   18.16,2,   27.77,2,    0.00,2,    1.93,2,   3.225,2,   1.665,2,   0.8230,2,  2170.7,2,  2285.9,2,    922.8,2,    20.00,   7.6579,2,    25.00,-999.000,1,-999.0000,1, -999.00,9,   5.2795,2, -999.00,9,  -999.0,9,  -999.0,   3.070,3,   41.14,2,   29.73,2,  799.90,   5.2139
33RO20100308,      A13.5,      43,          1,         13,      11031,2,20100325,       0216,   -32.9998,     0.9797,       4447,   950.1,   4.0551,  34.2591,2,  34.2586,2, 229.4000,2,   230.0,2,   25.17,2,   29.95,2,    0.00,2,    2.06,2,   2.969,2,   1.492,2,   0.7200,2,  2180.5,2,  2290.7,2,    960.1,2,    20.00,   7.6395,2,    25.00,-999.000,1,-999.0000,1, -999.00,9,   4.0545,2, -999.00,9,  -999.0,9,  -999.0,   3.274,3,   40.65,2,   31.72,2,  950.10,   3.9835
33RO20100308,      A13.5,      43,          1,         12,      11027,2,20100325,       0216,   -32.9998,     0.9797,       4447,  1099.3,   3.5881,  34.3520,2,  34.3513,2, 203.1000,2,   203.0,2,   40.61,2,   31.76,2,    0.00,2,    2.23,2,   1.864,2,   0.905,2,   0.3490,2,  2209.1,2,  2306.4,2,   1056.0,2,    20.00,   7.6045,2,    25.00,-999.000,1,-999.0000,1, -999.00,9,   3.5872,2, -999.00,9,  -999.0,9,  -999.0,   2.250,3,   39.24,2,   33.75,2, 1099.30,   3.5079
33RO20100308,      A13.5,      43,          1,         11,      11707,2,20100325,       0216,   -32.9998,     0.9797,       4447,  1299.2,   3.2671,  34.5007,2,  34.4998,2, 180.8000,2,   180.5,2,   53.11,2,   32.71,2,    0.00,2,    2.31,2,   0.664,2,   0.322,2,   0.0990,2,  2229.7,2,  2319.5,2,   1118.8,2,    20.00,   7.5824,2,    25.00,-999.000,1,-999.0000,1, -999.00,9,   3.2663,2, -999.00,9,  -999.0,9,  -999.0,   0.978,3,   38.53,2,   34.41,2, 1299.20,   3.1732
33RO20100308,      A13.5,      43,          1,         10,      11003,2,20100325,       0216,   -32.9998,     0.9797,       4447,  1499.9,   2.9715,  34.6202,2,  34.6196,2, 183.5000,2,   183.9,2,   57.72,2,   31.48,2,    0.00,2,    2.21,2,   0.273,2,   0.132,2,   0.0000,2,  2231.7,2,  2329.6,2,   1081.4,2,    20.00,   7.5977,2,    25.00,-999.000,1,-999.0000,1, -999.00,9,   2.9707,2, -999.00,9,  -999.0,9,  -999.0,   0.483,3,   39.27,2,   33.22,2, 1499.90,   2.8639
33RO20100308,      A13.5,      43,          1,          9,      11706,2,20100325,       0216,   -32.9998,     0.9797,       4447,  1799.7,   2.8860,  34.7388,2,  34.7383,2, 197.5000,2,   197.4,2,   55.07,2,   29.10,2,    0.00,2,    2.01,2,   0.094,2,   0.043,2,   0.0000,2,  2222.2,2,  2331.6,2,    993.5,2,    20.00,   7.6320,2,    25.00,-999.000,9,-999.0000,1, -999.00,9,   2.8854,2, -999.00,9,  -999.0,9,  -999.0,   0.211,3,   39.38,2,   31.12,2, 1799.70,   2.7536
33RO20100308,      A13.5,      43,          1,          8,      11033,2,20100325,       0216,   -32.9998,     0.9797,       4447,  2101.2,   2.6940,  34.7998,2,  34.8009,2, 211.2000,2,   211.5,2,   54.38,2,   26.73,2,    0.00,2,    1.85,2,   0.046,2,   0.022,2,   0.0000,2,  2215.0,2,  2335.7,2,    923.8,2,    20.00,   7.6612,2,    25.00,-999.000,1,-999.0000,1, -999.00,9,   2.6935,2, -999.00,9,  -999.0,9,  -999.0,   0.131,3,   39.22,2,   28.47,2, 2101.20,   2.5374
33RO20100308,      A13.5,      43,          1,          7,      11705,2,20100325,       0216,   -32.9998,     0.9797,       4447,  2400.8,   2.5282,  34.8319,2,  34.8348,2, 222.1000,2,   222.1,2,   54.45,2,   25.35,2,    0.00,2,    1.76,2,   0.025,2,   0.013,2,   0.0000,2,  2210.2,2,  2336.7,2,    884.6,2,    20.00,   7.6804,2,    25.00,-999.000,9,-999.0000,1, -999.00,9,   2.5283,2, -999.00,9,  -999.0,9,  -999.0,   0.094,3,   39.97,2,   26.67,2, 2400.80,   2.3467
33RO20100308,      A13.5,      43,          1,          6,      11029,2,20100325,       0216,   -32.9998,     0.9797,       4447,  2799.6,   2.3853,  34.8536,2,  34.8540,2, 230.0000,2,   231.0,2,   54.17,2,   24.37,2,    0.00,2,    1.69,2,   0.013,2,   0.008,2,   0.0000,2,  2207.6,2,  2339.8,2,    845.0,2,    20.00,   7.6985,2,    25.00,-999.000,1,-999.0000,1, -999.00,9,   2.3852,2, -999.00,9,  -999.0,9,  -999.0,   0.060,3,   39.35,2,   25.81,2, 2799.60,   2.1682
33RO20100308,      A13.5,      43,          1,          5,      11704,2,20100325,       0216,   -32.9998,     0.9797,       4447,  3203.6,   2.2766,  34.8598,2,  34.8589,2, 231.5000,2,   232.3,2,   56.58,6,   24.46,6,    0.00,6,    1.67,6,   0.010,2,   0.006,2,   0.0000,2,  2207.8,2,  2346.7,2,    829.0,6,    20.00,   7.7042,2,    25.00,-999.000,9,-999.0000,1, -999.00,9,   2.2761,2, -999.00,9,  -999.0,9,  -999.0,   0.044,3,   39.56,2,   26.38,2, 3203.60,   2.0211
33RO20100308,      A13.5,      43,          1,          4,      11030,2,20100325,       0216,   -32.9998,     0.9797,       4447,  3600.4,   2.1756,  34.8583,2,  34.8592,2, 231.3000,2,   230.6,6,   60.54,6,   24.64,6,    0.00,6,    1.69,6,   0.013,2,   0.007,2,   0.0000,2,  2216.1,2,  2353.1,2,    827.7,2,    20.00,   7.7057,2,    25.00,-999.000,1,-999.0000,1, -999.00,9,   2.1773,2, -999.00,9,  -999.0,9,  -999.0,   0.041,3,   39.64,2,   26.42,2, 3600.40,   1.8807
33RO20100308,      A13.5,      43,          1,          3,      11703,2,20100325,       0216,   -32.9998,     0.9797,       4447,  3900.4,   1.7175,  34.8041,2,  34.8035,2, 224.0000,2,   223.7,2,   80.87,6,   27.19,6,    0.00,6,    1.88,6,   0.031,6,   0.015,6,   0.0000,6,  2232.3,2,  2358.2,2,    894.6,2,    20.00,   7.6743,2,    25.00,-999.000,9,-999.0000,1, -999.00,9,   1.7173,2, -999.00,9,  -999.0,9,  -999.0,   0.090,3,   39.74,2,   28.90,2, 3900.40,   1.4026
33RO20100308,      A13.5,      43,          1,          2,      11702,2,20100325,       0216,   -32.9998,     0.9797,       4447,  4201.5,   1.2275,  34.7513,2,  34.7527,2, 217.5000,2,   218.0,2,  101.26,6,   29.65,6,    0.01,6,    2.07,6,   0.058,2,   0.027,2,   0.0000,2,  2248.4,2,  2365.9,2,    966.2,2,    20.00,   7.6476,2,    25.00,-999.000,1,-999.0000,1, -999.00,9,   1.2271,2, -999.00,9,  -999.0,9,  -999.0,   0.151,3,   39.05,2,   31.10,2, 4201.50,   0.8939
33RO20100308,      A13.5,      43,          1,          1,      11701,2,20100325,       0216,   -32.9998,     0.9797,       4447,  4509.5,   1.1335,  34.7391,2,  34.7418,2, 217.1000,2,   216.4,2,  106.27,6,   30.39,6,    0.01,6,    2.12,6,   0.071,2,   0.036,2,   0.0000,2,  2253.9,6,  2373.4,2,    979.3,2,    20.00,   7.6411,2,    25.00,-999.000,1,-999.0000,1, -999.00,9,   1.1331,2, -999.00,9,  -999.0,9,  -999.0,   0.172,3,   38.92,2,   32.51,2, 4509.50,   0.7684