BOTTLE,20130404CCHSIOCBG
EXPOCODE,SECT_ID,STNNBR,CASTNO,SAMPNO,BTLNBR,BTLNBR_FLAG_W,DATE,TIME,LATITUDE,LONGITUDE,DEPTH,CTDPRS,CTDTMP,CTDSAL,CTDSAL_FLAG_W,SALNTY,SALNTY_FLAG_W,CTDOXY,CTDOXY_FLAG_W,OXYGEN,OXYGEN_FLAG_W,SILCAT,SILCAT_FLAG_W,NITRAT,NITRAT_FLAG_W,NITRIT,NITRIT_FLAG_W,PHSPHT,PHSPHT_FLAG_W,CFC-11,CFC-11_FLAG_W,CFC-12,CFC-12_FLAG_W,SF6,SF6_FLAG_W,TCARBN,TCARBN_FLAG_W,ALKALI,ALKALI_FLAG_W,FCO2,FCO2_FLAG_W,FCO2TMP,PH_TOT,PH_TOT_FLAG_W,PH_TMP,TRITUM,TRITUM_FLAG_W,HELIUM,HELIUM_FLAG_W,DELHE3,DELHE3_FLAG_W,REFTMP,REFTMP_FLAG_W,DELC13,DELC13_FLAG_W,DELC14,DELC14_FLAG_W,C14ERR,CCL4,CCL4_FLAG_W,DOC,DOC_FLAG_W,TDN,TDN_FLAG_W,CTDRAW,THETA
,,,,,,,,,,,METERS,DBAR,ITS-90,PSS-78,,PSS-78,,UMOL/KG,,UMOL/KG,,UMOL/KG,,UMOL/KG,,UMOL/KG,,UMOL/KG,,PMOL/KG,,PMOL/KG,,FMOL/KG,,UMOL/KG,,UMOL/KG,,UATM,,DEG C,,,DEG C,TU,,NMOL/KG,,PERCNT,,DEG C,,/MILLE,,/MILLE,,/MILLE,PMOL/KG,,UMOL/KG,,UMOL/KG,,DBAR,DEG C
33RO20100308,      A13.5,      45,          1,         24,      11714,2,20100325,       1455,   -31.9997,     1.2707,       4486,     4.4,  21.3248,  35.8313,2,  35.8305,2, 222.8000,2,   223.6,2,    1.99,2,    0.00,2,    0.00,2,    0.10,2,   2.073,2,   1.272,2,   1.2270,2,  2055.7,6,  2351.6,2,    351.0,2,    20.00,   8.0292,2,    25.00,-999.000,9,-999.0000,9, -999.00,9,  21.3225,2, -999.00,9,  -999.0,9,  -999.0,   2.973,3,   62.07,2,    4.76,2,    4.40,  21.3240
33RO20100308,      A13.5,      45,          1,         23,      11713,2,20100325,       1455,   -31.9997,     1.2707,       4486,    29.3,  21.3136,  35.8310,2,  35.8309,2, 223.2000,2,   223.8,2,    1.95,2,    0.00,2,    0.00,2,    0.10,2,   2.069,2,   1.266,2,   1.2370,2,  2055.9,2,  2352.7,2,    350.4,2,    20.00,   8.0280,2,    25.00,-999.000,9,-999.0000,9, -999.00,9,  21.3165,2, -999.00,9,  -999.0,9,  -999.0,   2.645,3,   63.21,2,    4.19,2,   29.30,  21.3079
33RO20100308,      A13.5,      45,          1,         22,      11712,2,20100325,       1455,   -31.9997,     1.2707,       4486,    91.4,  18.7058,  35.5970,2,  35.5979,2, 236.0000,2,   238.7,2,    2.65,2,    0.04,2,    0.00,2,    0.14,2,   2.330,6,   1.418,6,   1.2740,6,  2048.9,2,  2335.7,2,    360.2,6,    20.00,   8.0166,2,    25.00,-999.000,9,-999.0000,9, -999.00,9,  18.6727,2, -999.00,9,  -999.0,9,  -999.0,   1.928,3,   58.72,2,    4.78,2,   91.40,  18.6897
33RO20100308,      A13.5,      45,          1,         21,      11010,2,20100325,       1455,   -31.9997,     1.2707,       4486,   151.7,  16.7336,  35.5661,2,  35.5652,2, 226.8000,2,   220.0,2,    3.79,2,    3.39,2,    0.06,2,    0.37,2,   2.468,2,   1.493,2,   1.3030,2,  2078.6,2,  2333.0,2,    424.5,2,    20.00,   7.9577,2,    25.00,-999.000,9,-999.0000,9, -999.00,9,  16.7328,2, -999.00,9,  -999.0,9,  -999.0,   1.686,3,   53.66,2,    7.33,2,  151.70,  16.7088
33RO20100308,      A13.5,      45,          1,         20,      11715,2,20100325,       1455,   -31.9997,     1.2707,       4486,   225.3,  16.0728,  35.5686,2,  35.5677,2, 225.6000,2,   225.0,2,    3.64,2,    5.70,2,    0.01,2,    0.52,2,   0.000,4,   0.000,4,   0.0240,4,  2083.5,2,  2332.5,2,    431.4,2,    20.00,   7.9508,2,    25.00,-999.000,9,-999.0000,9, -999.00,9,  16.0746,2, -999.00,9,  -999.0,9,  -999.0,   0.002,4,   52.65,2,    8.31,2,  225.30,  16.0368
33RO20100308,      A13.5,      45,          1,         19,      11007,2,20100325,       1455,   -31.9997,     1.2707,       4486,   299.6,  14.7602,  35.3794,2,  35.3785,2, 221.1000,2,   220.5,6,    3.54,2,    5.67,2,    0.01,2,    0.53,2,   2.702,2,   1.610,2,   1.3390,2,  2098.6,2,  2326.9,2,    481.5,2,    20.00,   7.9095,2,    25.00,-999.000,9,-999.0000,9, -999.00,9,  14.7532,2, -999.00,9,  -999.0,9,  -999.0,   1.740,3,   49.67,2,    8.19,2,  299.60,  14.7150
33RO20100308,      A13.5,      45,          1,         18,      11710,2,20100325,       1455,   -31.9997,     1.2707,       4486,   401.1,  13.3839,  35.2142,2,  35.2146,2, 219.1000,2,   218.0,2,    4.23,2,    8.64,2,    0.01,2,    0.71,2,   2.896,2,   1.695,2,   1.2600,2,  2111.1,2,  2318.3,2,    534.2,2,    20.00,   7.8680,2,    25.00,-999.000,9,-999.0000,9, -999.00,9,  13.3848,2, -999.00,9,  -999.0,9,  -999.0,   1.728,3,   47.25,2,   10.49,2,  401.10,  13.3271
33RO20100308,      A13.5,      45,          1,         17,      11025,2,20100325,       1455,   -31.9997,     1.2707,       4486,   500.5,  11.6580,  34.9978,2,  34.9969,2, 215.6000,2,   214.5,2,    5.23,2,   12.75,2,    0.00,2,    0.97,2,   3.104,2,   1.763,2,   1.1880,2,  2127.4,2,  2308.3,2,    614.2,2,    20.00,   7.8159,2,    25.00,-999.000,9,-999.0000,9, -999.00,9,  11.6551,2, -999.00,9,  -999.0,9,  -999.0,   1.863,3,   44.00,2,   14.17,2,  500.50,  11.5931
33RO20100308,      A13.5,      45,          1,         16,      11709,2,20100325,       1455,   -31.9997,     1.2707,       4486,   602.5,  10.0949,  34.8020,2,  34.8008,2, 212.1000,2,   210.1,2,    7.65,2,   16.92,2,    0.00,2,    1.23,2,   3.139,2,   1.731,2,   1.0870,2,  2139.3,2,  2297.7,2,    693.1,2,    20.00,   7.7681,2,    25.00,-999.000,9,-999.0000,9, -999.00,9,  10.0944,2,    1.02,2,    22.6,2,     3.1,   2.175,3,   43.05,2,   18.47,2,  602.50,  10.0233
33RO20100308,      A13.5,      45,          1,         15,      11006,2,20100325,       1455,   -31.9997,     1.2707,       4486,   699.3,   8.1630,  34.5850,2,  34.5841,2, 207.2000,2,   206.3,2,   12.58,2,   21.91,2,    0.00,2,    1.56,2,   3.030,2,   1.629,2,   0.8290,2,  2156.9,2,  2292.8,2,    799.2,2,    20.00,   7.7113,2,    25.00,-999.000,9,-999.0000,9, -999.00,9,   8.1671,2,    1.03,2,    13.7,2,     3.4,   2.891,3,   42.10,2,   23.07,2,  699.30,   8.0895
33RO20100308,      A13.5,      45,          1,         14,      11708,2,20100325,       1455,   -31.9997,     1.2707,       4486,   849.6,   5.6173,  34.3602,2,  34.3607,2, 214.4000,2,   212.8,2,   19.56,2,   27.80,2,    0.00,2,    1.93,2,   2.996,2,   1.554,2,   0.7960,2,  2175.1,2,  2288.8,2,    930.3,2,    20.00,   7.6526,2,    25.00,-999.000,9,-999.0000,9, -999.00,9,   5.6185,2,    1.00,2,   -30.0,2,     2.7,   4.001,3,   40.19,2,   29.74,2,  849.60,   5.5436
33RO20100308,      A13.5,      45,          1,         13,      11031,2,20100325,       1455,   -31.9997,     1.2707,       4486,  1049.5,   4.2201,  34.3585,2,  34.3578,2, 199.1000,2,   199.3,2,   34.50,2,   31.30,2,    0.00,2,    2.19,2,   2.014,2,   0.988,2,   0.5220,2,  2200.8,2,  2298.2,2,   1040.5,2,    20.00,   7.6100,2,    25.00,-999.000,9,-999.0000,9, -999.00,9,   4.2191,2,    0.90,2,   -76.1,2,     2.5,   3.300,3,   38.52,2,   33.21,2, 1049.50,   4.1388
33RO20100308,      A13.5,      45,          1,         12,      11027,2,20100325,       1455,   -31.9997,     1.2707,       4486,  1250.4,   3.4952,  34.4438,2,  34.4428,2, 183.4000,2,   183.5,2,   49.38,2,   32.60,2,    0.00,2,    2.31,2,   1.031,2,   0.485,2,   0.1840,2,  2223.1,2,  2314.6,2,   1111.5,2,    20.00,   7.5846,2,    25.00,-999.000,9,-999.0000,9, -999.00,9,   3.4979,2,    0.86,2,  -109.9,2,     2.7,   2.064,3,   37.98,2,   33.86,2, 1250.40,   3.4032
33RO20100308,      A13.5,      45,          1,         11,      11707,2,20100325,       1455,   -31.9997,     1.2707,       4486,  1499.1,   3.0811,  34.6015,2,  34.6013,2, 181.2000,2,   181.1,2,   56.24,2,   31.43,2,    0.00,2,    2.22,2,   0.299,2,   0.139,2,   0.0000,2,  2230.9,6,  2326.7,6,   1089.7,2,    20.00,   7.5941,2,    25.00,-999.000,9,-999.0000,9, -999.00,9,   3.0808,2,    0.64,2,  -132.7,2,     2.5,   0.791,3,   37.65,2,   33.10,2, 1499.10,   2.9723
33RO20100308,      A13.5,      45,          1,         10,      11003,2,20100325,       1455,   -31.9997,     1.2707,       4486,  1800.1,   2.9467,  34.7212,2,  34.7202,2, 196.1000,2,   194.9,2,   54.02,2,   28.85,2,    0.00,2,    2.03,2,   0.113,2,   0.053,2,   0.0000,2,  2221.6,2,  2329.3,2,   1000.7,2,    20.00,   7.6286,2,    25.00,-999.000,9,-999.0000,9, -999.00,9,   2.9466,2,    0.67,2,  -131.9,2,     2.8,   0.363,3,   38.09,2,   30.29,2, 1800.10,   2.8134
33RO20100308,      A13.5,      45,          1,          9,      11706,2,20100325,       1455,   -31.9997,     1.2707,       4486,  2100.0,   2.7273,  34.8028,2,  34.8022,2, 212.4000,2,   212.3,2,   52.97,2,   26.48,2,    0.00,2,    1.84,2,   0.042,2,   0.020,2,   0.0000,2,  2210.9,2,  2333.5,2,    914.0,2,    20.00,   7.6645,2,    25.00,-999.000,9,-999.0000,9, -999.00,9,   2.7270,2,    0.85,2,  -122.7,2,     2.6,   0.188,3,   39.35,2,   28.03,2, 2100.00,   2.5703
33RO20100308,      A13.5,      45,          1,          8,      11033,2,20100325,       1455,   -31.9997,     1.2707,       4486,  2400.3,   2.5289,  34.8302,4,  34.8420,4, 220.8000,2,   222.0,2,   54.36,2,   25.53,2,    0.00,2,    1.75,2,   0.023,2,   0.011,2,   0.0000,2,  2208.2,2,  2336.9,2,    876.8,2,    20.00,   7.6809,2,    25.00,-999.000,9,-999.0000,9, -999.00,9,   2.5281,2,    0.91,2,  -127.5,2,     2.5,   0.140,3,   39.72,2,   27.00,2, 2400.30,   2.3474
33RO20100308,      A13.5,      45,          1,          7,      11705,2,20100325,       1455,   -31.9997,     1.2707,       4486,  2700.1,   2.4155,  34.8457,2,  34.8468,2, 226.6000,2,   227.7,2,   55.03,2,   24.70,2,    0.00,2,    1.71,2,   0.018,2,   0.010,2,   0.0000,2,  2206.8,2,  2338.6,2,    854.3,6,    20.00,   7.6925,2,    25.00,-999.000,9,-999.0000,9, -999.00,9,   2.4149,2,    0.90,2,  -127.8,2,     2.4,   0.112,3,   39.55,2,   26.35,2, 2700.10,   2.2075
33RO20100308,      A13.5,      45,          1,          6,      11029,2,20100325,       1455,   -31.9997,     1.2707,       4486,  3000.3,   2.3553,  34.8570,2,  34.8559,2, 230.4000,2,   231.8,2,   55.41,2,   24.28,2,    0.00,2,    1.67,2,   0.009,2,   0.007,2,   0.0000,2,  2205.8,2,  2342.5,2,    831.2,2,    20.00,   7.7022,2,    25.00,-999.000,9,-999.0000,9, -999.00,9,   2.3551,2,    0.98,2,  -121.5,2,     3.5,   0.070,3,   38.90,2,   26.41,2, 3000.30,   2.1188
33RO20100308,      A13.5,      45,          1,          5,      11704,2,20100325,       1455,   -31.9997,     1.2707,       4486,  3302.3,   2.3129,  34.8625,2,  34.8621,2, 232.7000,2,   232.3,2,   55.53,6,   24.11,6,    0.00,6,    1.65,6,   0.010,2,   0.006,2,   0.0000,2,  2207.8,2,  2344.5,2,    822.4,2,    20.00,   7.7073,2,    25.00,-999.000,9,-999.0000,9, -999.00,9,   2.3130,2,    0.93,2,  -119.9,2,     2.4,   0.062,3,   39.47,2,   25.92,2, 3302.30,   2.0463
33RO20100308,      A13.5,      45,          1,          4,      11030,2,20100325,       1455,   -31.9997,     1.2707,       4486,  3601.0,   2.2447,  34.8636,2,  34.8617,2, 231.5000,2,   231.7,6,   57.92,6,   24.37,6,    0.00,6,    1.66,6,   0.006,2,   0.005,2,   0.0000,2,  2211.8,2,  2351.4,2,    822.5,2,    20.00,   7.7091,2,    25.00,-999.000,9,-999.0000,9, -999.00,9,   2.2447,2,    0.93,2,  -122.7,2,     3.7,   0.040,3,   39.44,2,   25.77,2, 3601.00,   1.9480
33RO20100308,      A13.5,      45,          1,          3,      11703,2,20100325,       1455,   -31.9997,     1.2707,       4486,  3901.2,   2.0656,  34.8429,2,  34.8422,2, 228.9000,2,   228.4,2,   66.32,6,   25.21,6,    0.00,6,    1.74,6,   0.015,6,   0.010,6,   0.0190,6,  2220.0,2,  2355.2,2,    850.4,2,    20.00,   7.6980,2,    25.00,-999.000,9,-999.0000,9, -999.00,9,   2.0652,2,    0.84,2,  -131.7,2,     2.5,   0.068,3,   38.64,2,   26.60,2, 3901.20,   1.7408
33RO20100308,      A13.5,      45,          1,          2,      11702,4,20100325,       1455,   -31.9997,     1.2707,       4486,  4199.0,   1.5643,  34.7846,4,  34.8430,4, 221.6000,4,   228.5,4,   65.98,4,   24.98,4,    0.00,4,    1.74,4,   0.015,4,   0.008,4,   0.0160,4,  2219.1,4,  2355.4,3,    840.9,4,    20.00,   7.6986,3,    25.00,-999.000,9,-999.0000,9, -999.00,9,   1.5638,2, -999.00,9,  -999.0,9,  -999.0,   0.070,4,   39.14,2,   26.60,2, 4199.00,   1.2209
33RO20100308,      A13.5,      45,          1,          1,      11701,2,20100325,       1455,   -31.9997,     1.2707,       4486,  4549.2,   1.1618,  34.7406,2,  34.7404,2, 217.8000,2,   216.9,2,  105.42,6,   29.96,6,    0.00,6,    2.11,6,   0.069,2,   0.030,2,   0.0000,2,  2252.3,6,  2367.1,6,    978.7,2,    20.00,   7.6432,2,    25.00,-999.000,9,-999.0000,9, -999.00,9,   1.1607,2,    0.69,2,  -151.7,2,     2.5,   0.268,3,   38.85,2,   31.73,2, 4549.20,   0.7913