BOTTLE,20130404CCHSIOCBG
EXPOCODE,SECT_ID,STNNBR,CASTNO,SAMPNO,BTLNBR,BTLNBR_FLAG_W,DATE,TIME,LATITUDE,LONGITUDE,DEPTH,CTDPRS,CTDTMP,CTDSAL,CTDSAL_FLAG_W,SALNTY,SALNTY_FLAG_W,CTDOXY,CTDOXY_FLAG_W,OXYGEN,OXYGEN_FLAG_W,SILCAT,SILCAT_FLAG_W,NITRAT,NITRAT_FLAG_W,NITRIT,NITRIT_FLAG_W,PHSPHT,PHSPHT_FLAG_W,CFC-11,CFC-11_FLAG_W,CFC-12,CFC-12_FLAG_W,SF6,SF6_FLAG_W,TCARBN,TCARBN_FLAG_W,ALKALI,ALKALI_FLAG_W,FCO2,FCO2_FLAG_W,FCO2TMP,PH_TOT,PH_TOT_FLAG_W,PH_TMP,TRITUM,TRITUM_FLAG_W,HELIUM,HELIUM_FLAG_W,DELHE3,DELHE3_FLAG_W,REFTMP,REFTMP_FLAG_W,DELC13,DELC13_FLAG_W,DELC14,DELC14_FLAG_W,C14ERR,CCL4,CCL4_FLAG_W,DOC,DOC_FLAG_W,TDN,TDN_FLAG_W,CTDRAW,THETA
,,,,,,,,,,,METERS,DBAR,ITS-90,PSS-78,,PSS-78,,UMOL/KG,,UMOL/KG,,UMOL/KG,,UMOL/KG,,UMOL/KG,,UMOL/KG,,PMOL/KG,,PMOL/KG,,FMOL/KG,,UMOL/KG,,UMOL/KG,,UATM,,DEG C,,,DEG C,TU,,NMOL/KG,,PERCNT,,DEG C,,/MILLE,,/MILLE,,/MILLE,PMOL/KG,,UMOL/KG,,UMOL/KG,,DBAR,DEG C
33RO20100308,      A13.5,      34,          1,         24,      11714,2,20100322,       1733,   -37.4998,     0.9918,       5013,     5.3,  18.5633,  35.0573,2,  35.0571,2, 236.4000,2,   238.3,2,    0.66,2,    0.04,2,    0.00,2,    0.18,2,   2.368,2,   1.437,2,   1.3620,2,  2054.9,6,  2315.5,6,    400.2,2,    20.00,   7.9818,2,    25.00,-999.000,9,-999.0000,9, -999.00,9,  18.5590,2, -999.00,9,  -999.0,9,  -999.0,   2.751,3, -999.00,9, -999.00,9,    5.30,  18.5624
33RO20100308,      A13.5,      34,          1,         23,      11713,2,20100322,       1733,   -37.4998,     0.9918,       5013,    40.3,  18.0824,  35.1394,2,  35.1424,2, 238.0000,2,   239.2,2,    0.78,2,    0.05,2,    0.00,2,    0.18,2,   2.386,2,   1.446,2,   1.3720,2,  2058.6,2,  2319.7,2,    400.2,2,    20.00,   7.9811,2,    25.00,-999.000,9,-999.0000,9, -999.00,9,  18.0872,2, -999.00,9,  -999.0,9,  -999.0,   2.636,3, -999.00,9, -999.00,9,   40.30,  18.0755
33RO20100308,      A13.5,      34,          1,         22,      11712,2,20100322,       1733,   -37.4998,     0.9918,       5013,    80.1,  14.9645,  35.1976,2,  35.2023,2, 245.0000,2,   245.6,2,    1.14,2,    0.38,2,    0.18,2,    0.27,2,   2.750,2,   1.646,2,   1.4910,2,  2078.5,2,  2321.4,2,    443.6,6,    20.00,   7.9434,2,    25.00,-999.000,9,-999.0000,9, -999.00,9,  14.9702,2, -999.00,9,  -999.0,9,  -999.0,   2.282,3, -999.00,9, -999.00,9,   80.10,  14.9524
33RO20100308,      A13.5,      34,          1,         21,      11010,2,20100322,       1733,   -37.4998,     0.9918,       5013,   130.1,  13.7857,  35.1575,2,  35.1564,2, 229.1000,2,   231.5,2,    1.83,2,    5.24,2,    0.02,2,    0.52,2,   2.860,2,   1.699,2,   1.5160,2,  2098.2,2,  2317.1,2,    504.2,2,    20.00,   7.8978,2,    25.00,-999.000,9,-999.0000,9, -999.00,9,  13.7860,2, -999.00,9,  -999.0,9,  -999.0,   1.656,3, -999.00,9, -999.00,9,  130.10,  13.7671
33RO20100308,      A13.5,      34,          1,         20,      11715,2,20100322,       1733,   -37.4998,     0.9918,       5013,   189.8,  12.5773,  35.0345,2,  35.0425,2, 237.4000,2,   233.7,2,    2.05,2,    7.65,2,    0.01,2,    0.66,2,   3.027,2,   1.788,2,   1.5310,2,  2108.0,2,  2312.7,2,    538.0,2,    20.00,   7.8701,2,    25.00,-999.000,9,-999.0000,9, -999.00,9,  12.5787,2, -999.00,9,  -999.0,9,  -999.0,   1.891,3, -999.00,9, -999.00,9,  189.80,  12.5518
33RO20100308,      A13.5,      34,          1,         19,      11007,2,20100322,       1733,   -37.4998,     0.9918,       5013,   250.5,  12.1000,  35.0595,2,  35.0579,2, 224.4000,2,   224.3,6,    3.08,2,   10.39,2,    0.01,2,    0.81,2,   3.081,2,   1.792,2,   1.3750,2,  2118.8,2,  2312.5,2,    584.5,2,    20.00,   7.8434,2,    25.00,-999.000,9,-999.0000,9, -999.00,9,  12.0994,2, -999.00,9,  -999.0,9,  -999.0,   1.453,3, -999.00,9, -999.00,9,  250.50,  12.0670
33RO20100308,      A13.5,      34,          1,         18,      11710,2,20100322,       1733,   -37.4998,     0.9918,       5013,   399.8,   9.8860,  34.7669,2,  34.7664,2, 232.0000,2,   231.6,2,    4.38,6,   15.05,6,    0.00,6,    1.10,6,   3.363,2,   1.919,2,   1.3960,2,  2131.0,2,  2298.7,2,    660.5,2,    20.00,   7.7902,2,    25.00,-999.000,9,-999.0000,9, -999.00,9,   9.8959,2, -999.00,9,  -999.0,9,  -999.0,   1.964,3, -999.00,9, -999.00,9,  399.80,   9.8396
33RO20100308,      A13.5,      34,          1,         17,      11025,2,20100322,       1733,   -37.4998,     0.9918,       5013,   550.5,   7.7183,  34.5192,2,  34.5130,2, 221.4000,2,   220.2,2,    9.39,6,   22.14,6,    0.00,6,    1.55,6,   3.429,2,   1.855,2,   1.0680,2,  2152.6,2,  2288.2,2,    804.9,2,    20.00,   7.7151,2,    25.00,-999.000,9,-999.0000,9, -999.00,9,   7.7181,2, -999.00,9,  -999.0,9,  -999.0,   2.518,3, -999.00,9, -999.00,9,  550.50,   7.6629
33RO20100308,      A13.5,      34,          1,         16,      11709,2,20100322,       1733,   -37.4998,     0.9918,       5013,   699.6,   5.3698,  34.2802,2,  34.2801,2, 237.7000,2,   236.0,2,   13.94,2,   26.59,2,    0.00,2,    1.85,2,   3.691,2,   1.947,2,   1.0780,2,  2162.2,2,  2281.5,2,    888.1,2,    20.00,   7.6730,2,    25.00,-999.000,9,-999.0000,9, -999.00,9,   5.3780,2, -999.00,9,  -999.0,9,  -999.0,   3.362,3, -999.00,9, -999.00,9,  699.60,   5.3113
33RO20100308,      A13.5,      34,          1,         15,      11006,2,20100322,       1733,   -37.4998,     0.9918,       5013,   899.6,   4.0463,  34.2563,2,  34.2571,2, 230.5000,2,   230.7,2,   25.05,2,   29.64,2,    0.00,2,    2.06,2,   2.925,2,   1.483,2,   0.6710,2,  2181.3,2,  2290.5,2,    958.0,2,    20.00,   7.6433,2,    25.00,-999.000,9,-999.0000,9, -999.00,9,   4.0460,2, -999.00,9,  -999.0,9,  -999.0,   3.238,3, -999.00,9, -999.00,9,  899.60,   3.9790
33RO20100308,      A13.5,      34,          1,         14,      11708,2,20100322,       1733,   -37.4998,     0.9918,       5013,  1099.8,   3.4163,  34.3323,2,  34.3322,2, 209.2000,2,   209.3,2,   39.11,2,   31.89,2,    0.00,2,    2.23,2,-999.000,9,-999.000,9,-999.0000,9,  2204.9,2,  2302.7,2,   1043.0,2,    20.00,   7.6100,2,    25.00,-999.000,9,-999.0000,9, -999.00,9,   3.4179,2, -999.00,9,  -999.0,9,  -999.0,-999.000,9, -999.00,9, -999.00,9, 1099.80,   3.3375
33RO20100308,      A13.5,      34,          1,         13,      11031,2,20100322,       1733,   -37.4998,     0.9918,       5013,  1300.3,   3.0442,  34.4239,2,  34.4244,2, 194.1000,2,   193.7,2,   50.80,2,   32.86,2,    0.00,2,    2.30,2,   1.103,2,   0.529,2,   0.1620,2,  2222.1,2,  2314.6,2,   1099.9,2,    20.00,   7.5897,2,    25.00,-999.000,9,-999.0000,9, -999.00,9,   3.0440,2, -999.00,9,  -999.0,9,  -999.0,   1.510,3, -999.00,9, -999.00,9, 1300.30,   2.9526
33RO20100308,      A13.5,      34,          1,         12,      11027,2,20100322,       1733,   -37.4998,     0.9918,       5013,  1499.6,   2.8287,  34.5418,2,  34.5413,2, 185.0000,2,   185.2,2,   59.43,2,   32.53,2,    0.00,2,    2.28,2,-999.000,9,-999.000,9,-999.0000,9,  2234.3,6,  2323.0,2,   1113.5,2,    20.00,   7.5884,2,    25.00,-999.000,9,-999.0000,9, -999.00,9,   2.8278,2, -999.00,9,  -999.0,9,  -999.0,-999.000,9, -999.00,9, -999.00,9, 1499.60,   2.7229
33RO20100308,      A13.5,      34,          1,         11,      11707,2,20100322,       1733,   -37.4998,     0.9918,       5013,  1799.4,   2.7400,  34.6661,2,  34.6655,2, 186.3000,2,   186.5,2,   63.52,2,   31.07,2,    0.00,2,    2.17,2,   0.222,2,   0.108,2,   0.0650,2,  2235.5,2,  2333.3,2,   1067.8,2,    20.00,   7.6047,2,    25.00,-999.000,9,-999.0000,9, -999.00,9,   2.7395,2, -999.00,9,  -999.0,9,  -999.0,   0.436,3, -999.00,9, -999.00,9, 1799.40,   2.6098
33RO20100308,      A13.5,      34,          1,         10,      11003,2,20100322,       1733,   -37.4998,     0.9918,       5013,  2100.5,   2.6765,  34.7608,2,  34.7608,2, 198.9000,2,   199.3,2,   61.37,2,   28.57,2,    0.00,2,    1.99,2,-999.000,9,-999.000,9,-999.0000,9,  2226.1,2,  2336.0,2,    988.9,2,    20.00,   7.6379,2,    25.00,-999.000,9,-999.0000,9, -999.00,9,   2.6765,2, -999.00,9,  -999.0,9,  -999.0,-999.000,9, -999.00,9, -999.00,9, 2100.50,   2.5204
33RO20100308,      A13.5,      34,          1,          9,      11706,2,20100322,       1733,   -37.4998,     0.9918,       5013,  2399.1,   2.5869,  34.8132,2,  34.8133,2, 213.4000,2,   213.7,2,   57.70,2,   26.67,2,    0.00,2,    1.84,2,   0.034,2,   0.016,2,   0.0350,2,  2215.9,2,  2336.4,2,    921.0,2,    20.00,   7.6672,2,    25.00,-999.000,9,-999.0000,9, -999.00,9,   2.5869,2, -999.00,9,  -999.0,9,  -999.0,   0.105,3, -999.00,9, -999.00,9, 2399.10,   2.4046
33RO20100308,      A13.5,      34,          1,          8,      11033,2,20100322,       1733,   -37.4998,     0.9918,       5013,  2799.9,   2.4261,  34.8373,2,  34.8353,2, 222.3000,2,   223.0,2,   57.68,2,   25.49,2,    0.00,2,    1.76,2,-999.000,9,-999.000,9,-999.0000,9,  2212.3,2,  2339.3,2,    882.7,2,    20.00,   7.6855,2,    25.00,-999.000,9,-999.0000,9, -999.00,9,   2.4255,2, -999.00,9,  -999.0,9,  -999.0,-999.000,9, -999.00,9, -999.00,9, 2799.90,   2.2082
33RO20100308,      A13.5,      34,          1,          7,      11705,2,20100322,       1733,   -37.4998,     0.9918,       5013,  3000.2,   2.3415,  34.8400,2,  34.8407,2, 224.9000,2,   225.3,2,   59.34,6,   25.47,6,    0.00,6,    1.75,6,   0.015,6,   0.008,6,   0.0000,6,  2213.6,2,  2323.0,4,    864.2,6,    20.00,   7.6892,2,    25.00,-999.000,9,-999.0000,9, -999.00,9,   2.3410,2, -999.00,9,  -999.0,9,  -999.0,   0.051,3, -999.00,9, -999.00,9, 3000.20,   2.1054
33RO20100308,      A13.5,      34,          1,          6,      11029,2,20100322,       1733,   -37.4998,     0.9918,       5013,  3399.1,   2.1029,  34.8285,2,  34.8278,2, 224.3000,2,   225.0,2,   67.41,6,   26.10,6,    0.00,6,    1.80,6,   0.019,2,   0.009,2,   0.0000,2,  2221.4,2,  2349.3,2,    875.5,2,    20.00,   7.6869,2,    25.00,-999.000,9,-999.0000,9, -999.00,9,   2.1025,2, -999.00,9,  -999.0,9,  -999.0,   0.057,3, -999.00,9, -999.00,9, 3399.10,   1.8314
33RO20100308,      A13.5,      34,          1,          5,      11704,2,20100322,       1733,   -37.4998,     0.9918,       5013,  3799.9,   1.6459,  34.7859,2,  34.7855,2, 220.2000,2,   220.1,6,   85.78,6,   28.25,6,    0.00,6,    1.96,6,   0.037,2,   0.020,2,   0.0360,2,  2236.7,2,  2356.8,2,    925.0,2,    20.00,   7.6643,2,    25.00,-999.000,9,-999.0000,9, -999.00,9,   1.6454,2, -999.00,9,  -999.0,9,  -999.0,   0.097,3, -999.00,9, -999.00,9, 3799.90,   1.3439
33RO20100308,      A13.5,      34,          1,          4,      11030,2,20100322,       1733,   -37.4998,     0.9918,       5013,  4199.3,   1.2207,  34.7476,2,  34.7466,2, 217.8000,2,   217.1,2,  102.16,6,   29.98,6,    0.00,6,    2.09,6,   0.070,2,   0.034,2,   0.0000,2,  2249.1,2,  2363.3,2,    970.8,2,    20.00,   7.6466,2,    25.00,-999.000,9,-999.0000,9, -999.00,9,   1.2203,2, -999.00,9,  -999.0,9,  -999.0,   0.169,3, -999.00,9, -999.00,9, 4199.30,   0.8876
33RO20100308,      A13.5,      34,          1,          3,      11703,2,20100322,       1733,   -37.4998,     0.9918,       5013,  4599.5,   1.1302,  34.7360,2,  34.7359,2, 217.6000,2,   216.8,2,  106.85,6,   30.46,6,    0.00,6,    2.11,6,   0.081,2,   0.040,2,   0.0460,2,  2252.6,2,  2367.6,2,    981.4,2,    20.00,   7.6411,2,    25.00,-999.000,9,-999.0000,9, -999.00,9,   1.1295,2, -999.00,9,  -999.0,9,  -999.0,   0.191,3, -999.00,9, -999.00,9, 4599.50,   0.7550
33RO20100308,      A13.5,      34,          1,          2,      11702,2,20100322,       1733,   -37.4998,     0.9918,       5013,  4800.0,   1.1345,  34.7344,2,  34.7386,2, 217.4000,2,   217.7,2,  107.84,6,   30.55,6,    0.00,6,    2.13,6,   0.084,2,   0.041,2,   0.0410,2,  2253.5,2,  2366.6,2,    987.1,2,    20.00,   7.6403,2,    25.00,-999.000,9,-999.0000,9, -999.00,9,   1.1339,2, -999.00,9,  -999.0,9,  -999.0,   0.195,3, -999.00,9, -999.00,9, 4800.00,   0.7359
33RO20100308,      A13.5,      34,          1,          1,      11701,2,20100322,       1733,   -37.4998,     0.9918,       5013,  5094.9,   1.1565,  34.7328,2,  34.7343,2, 217.3000,2,   216.3,2,  108.25,6,   30.65,6,    0.00,6,    2.14,6,   0.084,2,   0.041,2,   0.0290,2,  2253.8,6,  2368.3,6,    989.5,2,    20.00,   7.6406,2,    25.00,-999.000,9,-999.0000,9, -999.00,9,   1.1559,2, -999.00,9,  -999.0,9,  -999.0,   0.196,3, -999.00,9, -999.00,9, 5094.90,   0.7220