BOTTLE,20130404CCHSIOCBG
EXPOCODE,SECT_ID,STNNBR,CASTNO,SAMPNO,BTLNBR,BTLNBR_FLAG_W,DATE,TIME,LATITUDE,LONGITUDE,DEPTH,CTDPRS,CTDTMP,CTDSAL,CTDSAL_FLAG_W,SALNTY,SALNTY_FLAG_W,CTDOXY,CTDOXY_FLAG_W,OXYGEN,OXYGEN_FLAG_W,SILCAT,SILCAT_FLAG_W,NITRAT,NITRAT_FLAG_W,NITRIT,NITRIT_FLAG_W,PHSPHT,PHSPHT_FLAG_W,CFC-11,CFC-11_FLAG_W,CFC-12,CFC-12_FLAG_W,SF6,SF6_FLAG_W,TCARBN,TCARBN_FLAG_W,ALKALI,ALKALI_FLAG_W,FCO2,FCO2_FLAG_W,FCO2TMP,PH_TOT,PH_TOT_FLAG_W,PH_TMP,TRITUM,TRITUM_FLAG_W,HELIUM,HELIUM_FLAG_W,DELHE3,DELHE3_FLAG_W,REFTMP,REFTMP_FLAG_W,DELC13,DELC13_FLAG_W,DELC14,DELC14_FLAG_W,C14ERR,CCL4,CCL4_FLAG_W,DOC,DOC_FLAG_W,TDN,TDN_FLAG_W,CTDRAW,THETA
,,,,,,,,,,,METERS,DBAR,ITS-90,PSS-78,,PSS-78,,UMOL/KG,,UMOL/KG,,UMOL/KG,,UMOL/KG,,UMOL/KG,,UMOL/KG,,PMOL/KG,,PMOL/KG,,FMOL/KG,,UMOL/KG,,UMOL/KG,,UATM,,DEG C,,,DEG C,TU,,NMOL/KG,,PERCNT,,DEG C,,/MILLE,,/MILLE,,/MILLE,PMOL/KG,,UMOL/KG,,UMOL/KG,,DBAR,DEG C
33RO20100308,      A13.5,     109,          1,         24,      11714,2,20100413,       0712,    -0.9992,     -3.001,       5122,     4.8,  28.8437,  34.8807,2,  34.8874,2, 195.7000,2,   195.7,2,    0.65,6,    0.14,6,    0.00,6,    0.02,6,   1.524,2,   0.962,2,   0.9700,2,  1961.9,2,  2288.3,2,    277.1,2,    20.00,   8.1029,2,    25.00,-999.000,1,-999.0000,1, -999.00,9,  28.8453,2,    1.23,2,    39.8,2,     3.0,   1.584,3,   71.78,2,    4.31,2,    4.80,  28.8426
33RO20100308,      A13.5,     109,          1,         23,      11716,2,20100413,       0712,    -0.9992,     -3.001,       5122,    75.1,  16.8825,  35.7578,2,  35.7547,2, 134.5000,2,   132.9,2,    4.89,2,   14.31,2,    0.10,2,    1.02,2,   2.177,2,   1.251,2,   0.8070,2,  2164.0,2,  2347.0,6,    636.5,2,    20.00,   7.8061,2,    25.00,-999.000,1,-999.0000,1, -999.00,9,  16.8861,2,    0.44,2,    39.2,2,     3.7,   0.502,3,   50.62,2,   18.56,2,   75.10,  16.8701
33RO20100308,      A13.5,     109,          1,         22,      11022,2,20100413,       0712,    -0.9992,     -3.001,       5122,   150.0,  15.0250,  35.5523,2,  35.5541,2, 135.6000,2,   135.1,2,    5.99,2,   16.39,2,    0.01,2,    1.13,2,   2.243,2,   1.266,2,   0.7570,2,  2166.9,6,  2333.0,6,   -999.0,9,  -999.00,   7.7796,2,    25.00,-999.000,1,-999.0000,1, -999.00,9,  15.0238,2,    0.40,2,    34.8,2,     2.8,   0.459,3,   47.41,2,   20.27,2,  150.00,  15.0022
33RO20100308,      A13.5,     109,          1,         21,      11010,2,20100413,       0712,    -0.9992,     -3.001,       5122,   199.7,  14.6993,  35.5085,2,  35.5054,2, 113.7000,2,   110.1,2,    6.98,2,   19.81,2,    0.01,2,    1.31,2,   2.156,2,   1.200,2,   0.6460,2,  2183.9,2,  2331.7,2,    781.0,2,    20.00,   7.7247,2,    25.00,-999.000,1,-999.0000,1, -999.00,9,  14.7079,2,    0.27,2,    47.0,2,     3.2,   0.348,3,   46.71,2,   24.64,2,  199.70,  14.6693
33RO20100308,      A13.5,     109,          1,         20,      11715,2,20100413,       0712,    -0.9992,     -3.001,       5122,   249.1,  12.1819,  35.1864,3,  35.1617,2,  78.3000,2,    78.3,2,   10.65,2,   27.66,2,    0.01,2,    1.75,2,   1.689,2,   0.901,2,   0.3680,2,  2215.4,2,  2312.3,2,   1075.3,2,    20.00,   7.6001,2,    25.00,-999.000,1,-999.0000,1, -999.00,9,  12.1882,2,    0.08,2,    15.2,2,     3.0,   0.287,3,   45.06,2,   30.46,2,  249.10,  12.1489
33RO20100308,      A13.5,     109,          1,         19,      11007,2,20100413,       0712,    -0.9992,     -3.001,       5122,   299.3,  10.6417,  35.0049,2,  35.0031,2,  84.6000,2,    83.7,2,   12.54,2,   29.74,2,    0.01,2,    1.85,2,   1.492,2,   0.780,2,   0.2480,2,  2217.7,2,  2305.3,2,   1139.0,2,    20.00,   7.5744,2,    25.00,-999.000,1,-999.0000,1, -999.00,9,  10.6463,2,   -0.03,2,    -5.1,2,     3.4,   0.363,3,   43.07,2,   31.78,2,  299.30,  10.6054
33RO20100308,      A13.5,     109,          1,         18,      11710,2,20100413,       0712,    -0.9992,     -3.001,       5122,   399.2,   9.0124,  34.8187,2,  34.8195,2,  88.2000,2,    87.8,2,   15.59,2,   32.78,2,    0.01,2,    2.05,2,   1.157,2,   0.595,2,   0.1940,2,  2224.5,2,  2300.6,2,   1246.9,2,    20.00,   7.5375,2,    25.00,-999.000,1,-999.0000,1, -999.00,9,   9.0124,2,    0.21,2,   -16.0,2,     2.8,   0.440,3,   41.22,2,   35.56,2,  399.20,   8.9686
33RO20100308,      A13.5,     109,          1,         17,      11025,2,20100413,       0712,    -0.9992,     -3.001,       5122,   500.2,   6.6833,  34.5676,2,  34.5709,2, 142.6000,2,   146.6,2,   20.21,2,   31.86,2,    0.00,2,    2.09,2,   1.188,2,   0.591,2,   0.1580,2,  2206.8,2,  2286.1,3,   1115.6,2,    20.00,   7.5808,2,    25.00,-999.000,1,-999.0000,1, -999.00,9,   6.6978,2,    0.46,2,   -49.4,2,     2.6,   0.953,3,   39.79,2,   34.44,2,  500.20,   6.6369
33RO20100308,      A13.5,     109,          1,         16,      11709,2,20100413,       0712,    -0.9992,     -3.001,       5122,   599.5,   5.9608,  34.5364,2,  34.5374,2, 134.1000,2,   134.2,2,   24.02,2,   34.37,2,    0.00,2,    2.27,2,   0.620,2,   0.307,2,   0.0450,2,  2218.1,2,  2294.4,2,   1204.4,2,    20.00,   7.5504,2,    25.00,-999.000,1,-999.0000,1, -999.00,9,   5.9637,2,    0.42,2,   -63.5,2,     2.8,   0.638,3,   39.22,2,   37.40,2,  599.50,   5.9081
33RO20100308,      A13.5,     109,          1,         15,      11006,2,20100413,       0712,    -0.9992,     -3.001,       5122,   700.5,   5.3051,  34.4986,2,  34.4985,2, 147.2000,2,   146.5,2,   26.97,2,   34.24,2,    0.00,2,    2.27,2,   0.527,2,   0.256,2,   0.0000,2,  2216.7,2,  2298.2,2,   1178.1,2,    20.00,   7.5590,2,    25.00,-999.000,1,-999.0000,1, -999.00,9,   5.3062,2,    0.46,2,   -87.5,2,     2.4,   0.660,3,   39.04,2,   37.33,2,  700.50,   5.2466
33RO20100308,      A13.5,     109,          1,         14,      11708,2,20100413,       0712,    -0.9992,     -3.001,       5122,   800.2,   4.8543,  34.5062,2,  34.5051,2, 150.7000,2,   150.3,2,   29.81,2,   34.36,2,    0.00,2,    2.30,2,   0.320,2,   0.156,2,   0.0000,2,  2219.0,2,  2299.9,2,   1178.8,2,    20.00,   7.5610,2,    25.00,-999.000,1,-999.0000,1, -999.00,9,   4.8543,2,    0.47,2,   -99.4,2,     2.6,   0.501,3,   38.84,2,   37.41,2,  800.20,   4.7897
33RO20100308,      A13.5,     109,          1,         13,      11031,2,20100413,       0712,    -0.9992,     -3.001,       5122,  1000.6,   4.4893,  34.5913,2,  34.5915,2, 155.5000,2,   155.5,2,   31.44,2,   33.39,2,    0.00,2,    2.24,2,   0.085,2,   0.043,2,   0.0000,2,  2220.5,2,  2306.1,2,   1147.4,2,    20.00,   7.5710,2,    25.00,-999.000,1,-999.0000,1, -999.00,9,   4.4890,2,    0.38,2,  -115.6,2,     2.9,   0.205,3,   39.57,2,   35.82,2, 1000.60,   4.4097
33RO20100308,      A13.5,     109,          1,         12,      11027,2,20100413,       0712,    -0.9992,     -3.001,       5122,  1200.0,   4.5219,  34.7104,2,  34.7113,2, 165.3000,2,   166.6,2,   28.62,2,   30.84,2,    0.00,2,    2.07,2,   0.054,2,   0.029,2,   0.0000,2,  2212.6,2,  2307.3,2,   1069.7,2,    20.00,   7.5999,2,    25.00,-999.000,1,-999.0000,1, -999.00,9,   4.5217,2,    0.51,2,  -108.9,2,     2.9,   0.152,3,   39.99,2,   32.71,2, 1200.00,   4.4241
33RO20100308,      A13.5,     109,          1,         11,      11707,2,20100413,       0712,    -0.9992,     -3.001,       5122,  1399.6,   4.3728,  34.9509,2,  34.9501,2, 219.9000,2,   219.0,2,   18.92,2,   22.42,2,    0.00,2,    1.48,2,   0.287,2,   0.140,2,   0.0000,2,  2182.1,2,  2314.4,2,    827.1,2,    20.00,   7.6998,2,    25.00,-999.000,1,-999.0000,1, -999.00,9,   4.3745,2,    0.93,2,   -69.8,2,     2.5,   0.590,3,   39.84,2,   24.19,2, 1399.60,   4.2578
33RO20100308,      A13.5,     109,          1,         10,      11003,2,20100413,       0712,    -0.9992,     -3.001,       5122,  1599.7,   4.1823,  34.9717,2,  34.9712,2, 232.3000,2,   233.3,2,   17.74,6,   20.78,6,    0.00,6,    1.38,2,   0.312,2,   0.153,2,   0.0000,2,  2174.8,2,  2313.2,2,    790.6,2,    20.00,   7.7165,2,    25.00,-999.000,1,-999.0000,1, -999.00,9,   4.1823,2,    1.14,2,   -71.8,2,     2.7,   0.673,3,   39.66,2,   23.00,2, 1599.70,   4.0507
33RO20100308,      A13.5,     109,          1,          9,      11706,2,20100413,       0712,    -0.9992,     -3.001,       5122,  1900.9,   3.6834,  34.9670,2,  34.9660,2, 242.6000,2,   243.5,2,   20.53,6,   20.14,6,    0.00,6,    1.34,6,   0.122,2,   0.062,2,   0.0000,2,  2171.9,2,  2314.8,6,   -999.0,9,  -999.00,   7.7297,2,    25.00,-999.000,9,-999.0000,1, -999.00,9,   3.6860,2,    1.06,2,   -77.0,2,     2.5,   0.381,3,   39.27,2,   21.99,2, 1900.90,   3.5300
33RO20100308,      A13.5,     109,          1,          8,      11033,2,20100413,       0712,    -0.9992,     -3.001,       5122,  2299.6,   3.1431,  34.9384,2,  34.9376,2, 241.0000,2,   240.8,2,   29.68,6,   21.07,6,    0.00,6,    1.41,6,   0.019,2,   0.010,2,   0.0000,2,  2181.3,2,  2325.4,2,    773.6,2,    20.00,   7.7270,2,    25.00,-999.000,1,-999.0000,1, -999.00,9,   3.1446,2, -999.00,9,  -999.0,9,  -999.0,   0.117,3,   39.98,2,   23.19,2, 2299.60,   2.9601
33RO20100308,      A13.5,     109,          1,          7,      11705,2,20100413,       0712,    -0.9992,     -3.001,       5122,  2700.4,   2.7618,  34.9157,2,  34.9158,2, 241.1000,2,   240.9,2,   37.20,6,   21.65,6,    0.00,6,    1.45,6,   0.014,2,   0.008,2,   0.0000,2,  2189.3,2,  2332.4,2,   -999.0,9,  -999.00,   7.7247,2,    25.00,-999.000,9,-999.0000,1, -999.00,9,   2.7617,2, -999.00,9,  -999.0,9,  -999.0,   0.091,3,   39.63,2,   23.63,2, 2700.40,   2.5467
33RO20100308,      A13.5,     109,          1,          6,      11029,2,20100413,       0712,    -0.9992,     -3.001,       5122,  3101.7,   2.5583,  34.9031,2,  34.9005,2, 239.7000,2,   240.8,2,   41.66,6,   21.97,6,    0.00,6,    1.48,6,   0.010,2,   0.006,2,   0.0000,2,  2192.7,2,  2338.0,2,   -999.0,9,  -999.00,   7.7237,2,    25.00,-999.000,1,-999.0000,1, -999.00,9,   2.5579,2, -999.00,9,  -999.0,9,  -999.0,   0.070,3,   40.14,2,   23.89,2, 3101.70,   2.3067
33RO20100308,      A13.5,     109,          1,          5,      11704,2,20100413,       0712,    -0.9992,     -3.001,       5122,  3499.5,   2.4256,  34.8931,2,  34.8918,2, 241.4000,2,   242.2,2,   44.48,6,   22.08,6,    0.00,6,    1.48,6,   0.020,2,   0.012,2,   0.0000,2,  2196.3,2,  2340.8,2,    785.2,2,    20.00,   7.7236,2,    25.00,-999.000,9,-999.0000,1, -999.00,9,   2.4256,2, -999.00,9,  -999.0,9,  -999.0,   0.116,3,   39.39,2,   23.90,2, 3499.50,   2.1351
33RO20100308,      A13.5,     109,          1,          4,      11030,2,20100413,       0712,    -0.9992,     -3.001,       5122,  3799.5,   2.3665,  34.8876,2,  34.8872,2, 242.3000,2,   242.6,2,   45.90,6,   22.13,6,    0.00,6,    1.49,6,   0.027,2,   0.014,2,   0.0000,2,  2197.3,2,  2342.9,2,   -999.0,9,  -999.00,   7.7227,2,    25.00,-999.000,1,-999.0000,1, -999.00,9,   2.3662,2, -999.00,9,  -999.0,9,  -999.0,   0.138,3,   39.19,2,   23.78,2, 3799.50,   2.0446
33RO20100308,      A13.5,     109,          1,          3,      11703,2,20100413,       0712,    -0.9992,     -3.001,       5122,  4099.5,   2.3130,  34.8811,2,  34.8801,2, 243.4000,2,   243.2,2,   48.01,6,   22.28,6,    0.00,6,    1.50,6,   0.031,2,   0.017,2,   0.0000,2,  2200.2,6,  2345.9,2,   -999.0,9,  -999.00,   7.7215,2,    25.00,-999.000,9,-999.0000,1, -999.00,9,   2.3127,2, -999.00,9,  -999.0,9,  -999.0,   0.168,3,   39.85,2,   24.11,2, 4099.50,   1.9586
33RO20100308,      A13.5,     109,          1,          2,      11702,2,20100413,       0712,    -0.9992,     -3.001,       5122,  4500.4,   2.2341,  34.8703,2,  34.8691,2, 242.2000,2,   242.8,2,   51.88,6,   22.70,6,    0.00,6,    1.53,6,   0.041,2,   0.022,2,   0.0200,3,  2201.4,2,  2347.3,2,    800.9,2,    20.00,   7.7184,2,    25.00,-999.000,1,-999.0000,1, -999.00,9,   2.2339,2, -999.00,9,  -999.0,9,  -999.0,   0.187,3,   39.82,2,   24.74,2, 4500.40,   1.8350
33RO20100308,      A13.5,     109,          1,          1,      11701,2,20100413,       0712,    -0.9992,     -3.001,       5122,  5186.8,   2.1842,  34.8570,2,  34.8564,2, 242.7000,2,   240.4,2,   56.45,6,   23.20,6,    0.00,6,    1.57,6,   0.078,2,   0.038,2,   0.0000,2,  2208.1,2,  2352.1,2,    809.2,2,    20.00,   7.7138,2,    25.00,-999.000,1,-999.0000,1, -999.00,9,   2.1842,2, -999.00,9,  -999.0,9,  -999.0,   0.296,3,   40.08,2,   25.72,2, 5186.80,   1.7019