BOTTLE,20130404CCHSIOCBG
EXPOCODE,SECT_ID,STNNBR,CASTNO,SAMPNO,BTLNBR,BTLNBR_FLAG_W,DATE,TIME,LATITUDE,LONGITUDE,DEPTH,CTDPRS,CTDTMP,CTDSAL,CTDSAL_FLAG_W,SALNTY,SALNTY_FLAG_W,CTDOXY,CTDOXY_FLAG_W,OXYGEN,OXYGEN_FLAG_W,SILCAT,SILCAT_FLAG_W,NITRAT,NITRAT_FLAG_W,NITRIT,NITRIT_FLAG_W,PHSPHT,PHSPHT_FLAG_W,CFC-11,CFC-11_FLAG_W,CFC-12,CFC-12_FLAG_W,SF6,SF6_FLAG_W,TCARBN,TCARBN_FLAG_W,ALKALI,ALKALI_FLAG_W,FCO2,FCO2_FLAG_W,FCO2TMP,PH_TOT,PH_TOT_FLAG_W,PH_TMP,TRITUM,TRITUM_FLAG_W,HELIUM,HELIUM_FLAG_W,DELHE3,DELHE3_FLAG_W,REFTMP,REFTMP_FLAG_W,DELC13,DELC13_FLAG_W,DELC14,DELC14_FLAG_W,C14ERR,CCL4,CCL4_FLAG_W,DOC,DOC_FLAG_W,TDN,TDN_FLAG_W,CTDRAW,THETA
,,,,,,,,,,,METERS,DBAR,ITS-90,PSS-78,,PSS-78,,UMOL/KG,,UMOL/KG,,UMOL/KG,,UMOL/KG,,UMOL/KG,,UMOL/KG,,PMOL/KG,,PMOL/KG,,FMOL/KG,,UMOL/KG,,UMOL/KG,,UATM,,DEG C,,,DEG C,TU,,NMOL/KG,,PERCNT,,DEG C,,/MILLE,,/MILLE,,/MILLE,PMOL/KG,,UMOL/KG,,UMOL/KG,,DBAR,DEG C
33RO20100308,      A13.5,      10,          1,         24,      11714,2,20100316,       1912,   -49.4993,     0.6255,       3892,     6.0,   6.4291,  33.8168,2,  33.8165,2, 304.3000,2,   301.2,6,    1.47,2,   18.92,2,    0.27,2,    1.39,2,   4.466,6,   2.471,6,   2.0520,6,  2108.5,6,  2272.3,6,    640.9,2,    20.00,   7.7965,2,    25.00,-999.000,9,-999.0000,9, -999.00,9,   6.4302,2, -999.00,9,  -999.0,9,  -999.0,   6.158,3, -999.00,9, -999.00,9,    6.00,   6.4286
33RO20100308,      A13.5,      10,          1,         23,      11713,2,20100316,       1912,   -49.4993,     0.6255,       3892,    31.1,   6.2966,  33.8200,2,  33.8195,2, 305.3000,2,   302.4,2,    1.78,2,   19.04,2,    0.27,2,    1.40,2,   4.500,2,   2.484,2,   2.1610,2,  2109.2,2,  2273.6,2,   -999.0,9,  -999.00,   7.7939,2,    25.00,-999.000,9,-999.0000,9, -999.00,9,   6.2892,2, -999.00,9,  -999.0,9,  -999.0,   6.038,3, -999.00,9, -999.00,9,   31.10,   6.2939
33RO20100308,      A13.5,      10,          1,         22,      11712,2,20100316,       1912,   -49.4993,     0.6255,       3892,    74.5,   5.7108,  33.8314,2,  33.8313,2, 306.1000,2,   305.8,2,    2.69,2,   19.57,2,    0.28,2,    1.44,2,   4.988,2,   2.738,2,   2.3100,2,  2118.3,2,  2276.8,2,    662.2,2,    20.00,   7.7838,2,    25.00,-999.000,9,-999.0000,9, -999.00,9,   5.7091,2, -999.00,9,  -999.0,9,  -999.0,   6.775,3, -999.00,9, -999.00,9,   74.50,   5.7048
33RO20100308,      A13.5,      10,          1,         21,      11010,2,20100316,       1912,   -49.4993,     0.6255,       3892,   100.9,   4.9817,  33.8712,2,  33.8658,2, 298.8000,2,   299.7,2,    5.67,2,   21.59,2,    0.28,2,    1.57,2,   4.815,2,   2.638,2,   2.1110,2,  2128.6,2,  2272.5,2,    721.6,2,    20.00,   7.7520,2,    25.00,-999.000,9,-999.0000,9, -999.00,9,   5.0132,2, -999.00,9,  -999.0,9,  -999.0,   6.253,3, -999.00,9, -999.00,9,  100.90,   4.9741
33RO20100308,      A13.5,      10,          1,         20,      11715,2,20100316,       1912,   -49.4993,     0.6255,       3892,   200.8,   3.0190,  34.0658,2,  34.0656,2, 272.2000,2,   274.8,2,   19.94,2,   28.57,2,    0.01,2,    1.96,2,   0.007,4,   0.000,4,   0.0250,4,  2168.4,2,  2281.9,2,    915.4,2,    20.00,   7.6577,2,    25.00,-999.000,9,-999.0000,9, -999.00,9,   3.0209,2, -999.00,9,  -999.0,9,  -999.0,   0.002,4, -999.00,9, -999.00,9,  200.80,   3.0068
33RO20100308,      A13.5,      10,          1,         19,      11007,2,20100316,       1912,   -49.4993,     0.6255,       3892,   300.2,   2.5439,  34.1609,2,  34.1595,2, 248.5000,2,   247.9,2,   31.74,2,   31.25,2,    0.01,2,    2.15,2,   3.773,2,   1.946,2,   1.2460,2,  2192.1,2,  2289.0,2,   1022.7,2,    20.00,   7.6170,2,    25.00,-999.000,9,-999.0000,9, -999.00,9,   2.5435,2, -999.00,9,  -999.0,9,  -999.0,   4.469,3, -999.00,9, -999.00,9,  300.20,   2.5265
33RO20100308,      A13.5,      10,          1,         18,      11710,2,20100316,       1912,   -49.4993,     0.6255,       3892,   400.2,   2.4895,  34.2573,2,  34.2562,2, 221.6000,2,   222.1,2,   42.81,6,   32.80,6,    0.01,6,    2.26,2,-999.000,9,-999.000,9,-999.0000,9,  2211.0,2,  2302.1,2,   1104.9,2,    20.00,   7.5877,2,    25.00,-999.000,9,-999.0000,9, -999.00,9,   2.4892,2, -999.00,9,  -999.0,9,  -999.0,-999.000,9, -999.00,9, -999.00,9,  400.20,   2.4660
33RO20100308,      A13.5,      10,          1,         17,      11025,2,20100316,       1912,   -49.4993,     0.6255,       3892,   500.0,   2.4757,  34.3581,2,  34.3560,2, 195.7000,2,   198.1,2,   54.31,6,   34.17,6,    0.01,6,    2.35,2,   2.036,2,   0.989,2,   0.5380,2,  2229.0,2,  2309.8,2,   1187.3,2,    20.00,   7.5608,2,    25.00,-999.000,9,-999.0000,9, -999.00,9,   2.4756,2, -999.00,9,  -999.0,9,  -999.0,   2.615,3, -999.00,9, -999.00,9,  500.00,   2.4460
33RO20100308,      A13.5,      10,          1,         16,      11709,2,20100316,       1912,   -49.4993,     0.6255,       3892,   600.8,   2.5109,  34.4249,2,  34.4220,2, 185.1000,2,   186.2,2,   60.41,2,   34.51,2,    0.00,2,    2.37,2,-999.000,9,-999.000,9,-999.0000,9,  2238.1,2,  2317.0,2,   1211.0,2,    20.00,   7.5555,2,    25.00,-999.000,9,-999.0000,9, -999.00,9,   2.5120,2, -999.00,9,  -999.0,9,  -999.0,-999.000,9, -999.00,9, -999.00,9,  600.80,   2.4744
33RO20100308,      A13.5,      10,          1,         15,      11006,2,20100316,       1912,   -49.4993,     0.6255,       3892,   698.7,   2.4769,  34.4940,2,  34.4911,2, 176.8000,2,   177.5,2,   66.69,2,   34.51,2,    0.00,2,    2.38,2,   1.002,2,   0.484,2,   0.2310,2,  2247.0,2,  2326.7,2,   -999.0,9,  -999.00,   7.5511,2,    25.00,-999.000,9,-999.0000,9, -999.00,9,   2.4761,2, -999.00,9,  -999.0,9,  -999.0,   1.402,3, -999.00,9, -999.00,9,  698.70,   2.4340
33RO20100308,      A13.5,      10,          1,         14,      11708,2,20100316,       1912,   -49.4993,     0.6255,       3892,   900.3,   2.4411,  34.5944,2,  34.5923,2, 174.1000,2,   174.2,2,   72.75,2,   33.62,2,    0.00,2,    2.31,2,-999.000,9,-999.000,9,-999.0000,9,  2252.8,6,  2334.7,6,   1182.1,2,    20.00,   7.5623,2,    25.00,-999.000,9,-999.0000,9, -999.00,9,   2.4406,2, -999.00,9,  -999.0,9,  -999.0,-999.000,9, -999.00,9, -999.00,9,  900.30,   2.3845
33RO20100308,      A13.5,      10,          1,         13,      11031,2,20100316,       1912,   -49.4993,     0.6255,       3892,  1100.6,   2.3288,  34.6683,2,  34.6680,2, 177.9000,4,   188.5,4,   77.23,2,   32.45,2,    0.00,2,    2.24,2,   0.354,2,   0.168,2,   0.0630,2,  2253.9,2,  2343.1,2,   -999.0,9,  -999.00,   7.5780,2,    25.00,-999.000,9,-999.0000,9, -999.00,9,   2.3288,2, -999.00,9,  -999.0,9,  -999.0,   0.587,3, -999.00,9, -999.00,9, 1100.60,   2.2587
33RO20100308,      A13.5,      10,          1,         12,      11027,2,20100316,       1912,   -49.4993,     0.6255,       3892,  1300.6,   2.3928,  34.7410,2,  34.7400,2, 191.3000,2,   190.2,2,   73.03,2,   30.22,2,    0.00,2,    2.08,2,-999.000,9,-999.000,9,-999.0000,9,  2243.9,2,  2345.2,2,   1038.6,2,    20.00,   7.6106,2,    25.00,-999.000,9,-999.0000,9, -999.00,9,   2.3918,2, -999.00,9,  -999.0,9,  -999.0,-999.000,9, -999.00,9, -999.00,9, 1300.60,   2.3070
33RO20100308,      A13.5,      10,          1,         11,      11707,2,20100316,       1912,   -49.4993,     0.6255,       3892,  1499.8,   2.3090,  34.7681,2,  34.7676,2, 197.0000,2,   197.2,2,   72.79,2,   29.21,2,    0.00,2,    2.00,2,-999.000,9,-999.000,9,-999.0000,9,  2239.3,2,  2345.9,2,   1009.1,2,    20.00,   7.6258,2,    25.00,-999.000,9,-999.0000,9, -999.00,9,   2.3085,2, -999.00,9,  -999.0,9,  -999.0,-999.000,9, -999.00,9, -999.00,9, 1499.80,   2.2086
33RO20100308,      A13.5,      10,          1,         10,      11003,2,20100316,       1912,   -49.4993,     0.6255,       3892,  1699.4,   2.1274,  34.7714,2,  34.7694,2, 199.9000,2,   200.5,2,   77.13,2,   29.16,2,    0.00,2,    2.01,2,-999.000,9,-999.000,9,-999.0000,9,  2239.1,2,  2346.6,2,   -999.0,9,  -999.00,   7.6291,2,    25.00,-999.000,9,-999.0000,9, -999.00,9,   2.1271,2, -999.00,9,  -999.0,9,  -999.0,-999.000,9, -999.00,9, -999.00,9, 1699.40,   2.0134
33RO20100308,      A13.5,      10,          1,          9,      11706,2,20100316,       1912,   -49.4993,     0.6255,       3892,  1899.7,   1.9754,  34.7701,2,  34.7697,2, 203.0000,2,   202.2,6,   81.00,2,   29.23,2,    0.00,2,    2.01,2,   0.141,2,   0.065,2,   0.0260,2,  2240.2,2,  2351.4,2,    999.5,2,    20.00,   7.6304,2,    25.00,-999.000,9,-999.0000,9, -999.00,9,   1.9746,2, -999.00,9,  -999.0,9,  -999.0,   0.275,3, -999.00,9, -999.00,9, 1899.70,   1.8472
33RO20100308,      A13.5,      10,          1,          8,      11033,2,20100316,       1912,   -49.4993,     0.6255,       3892,  2099.9,   1.7789,  34.7628,2,  34.7623,2, 208.0000,3,   203.5,2,   86.65,2,   29.54,2,    0.00,2,    2.03,2,-999.000,9,-999.000,9,-999.0000,9,  2243.4,2,  2347.9,2,   -999.0,9,  -999.00,   7.6282,2,    25.00,-999.000,9,-999.0000,9, -999.00,9,   1.7784,2, -999.00,9,  -999.0,9,  -999.0,-999.000,9, -999.00,9, -999.00,9, 2099.90,   1.6370
33RO20100308,      A13.5,      10,          1,          7,      11705,2,20100316,       1912,   -49.4993,     0.6255,       3892,  2299.9,   1.5552,  34.7489,2,  34.7485,2, 204.6000,2,   203.6,2,   93.84,2,   30.16,2,    0.00,2,    2.08,2,-999.000,9,-999.000,9,-999.0000,9,  2246.7,2,  2353.4,2,   1024.4,6,    20.00,   7.6222,2,    25.00,-999.000,9,-999.0000,9, -999.00,9,   1.5545,2, -999.00,9,  -999.0,9,  -999.0,-999.000,9, -999.00,9, -999.00,9, 2299.90,   1.4002
33RO20100308,      A13.5,      10,          1,          6,      11029,2,20100316,       1912,   -49.4993,     0.6255,       3892,  2500.2,   1.3981,  34.7418,2,  34.7410,2, 206.4000,2,   206.1,2,   98.31,2,   30.48,2,    0.00,2,    2.10,2,-999.000,9,-999.000,9,-999.0000,9,  2248.3,2,  2356.1,2,   -999.0,9,  -999.00,   7.6206,2,    25.00,-999.000,9,-999.0000,9, -999.00,9,   1.3977,2, -999.00,9,  -999.0,9,  -999.0,-999.000,9, -999.00,9, -999.00,9, 2500.20,   1.2286
33RO20100308,      A13.5,      10,          1,          5,      11704,2,20100316,       1912,   -49.4993,     0.6255,       3892,  2750.2,   1.2004,  34.7306,2,  34.7283,2, 207.5000,2,   207.1,2,  104.22,2,   30.91,2,    0.00,2,    2.13,2,   0.238,2,   0.112,2,   0.0000,2,  2251.7,2,  2354.5,2,   1040.4,2,    20.00,   7.6177,2,    25.00,-999.000,9,-999.0000,9, -999.00,9,   1.1999,2, -999.00,9,  -999.0,9,  -999.0,   0.389,3, -999.00,9, -999.00,9, 2750.20,   1.0128
33RO20100308,      A13.5,      10,          1,          4,      11030,2,20100316,       1912,   -49.4993,     0.6255,       3892,  2950.3,   1.0433,  34.7177,2,  34.7156,2, 208.6000,2,   207.5,2,  109.22,2,   31.33,2,    0.00,2,    2.17,2,-999.000,9,-999.000,9,-999.0000,9,  2254.9,2,  2355.8,2,   -999.0,9,  -999.00,   7.6108,2,    25.00,-999.000,9,-999.0000,9, -999.00,9,   1.0433,2, -999.00,9,  -999.0,9,  -999.0,-999.000,9, -999.00,9, -999.00,9, 2950.30,   0.8409
33RO20100308,      A13.5,      10,          1,          3,      11703,2,20100316,       1912,   -49.4993,     0.6255,       3892,  3251.9,   0.7827,  34.7009,2,  34.7001,2, 210.8000,2,   210.2,2,  116.86,6,   31.95,6,    0.00,6,    2.21,6,-999.000,9,-999.000,9,-999.0000,9,  2258.3,2,  2359.5,2,   1077.8,2,    20.00,   7.6038,2,    25.00,-999.000,9,-999.0000,9, -999.00,9,   0.7825,2, -999.00,9,  -999.0,9,  -999.0,-999.000,9, -999.00,9, -999.00,9, 3251.90,   0.5584
33RO20100308,      A13.5,      10,          1,          2,      11702,2,20100316,       1912,   -49.4993,     0.6255,       3892,  3600.0,   0.6141,  34.6909,2,  34.6888,2, 212.7000,2,   213.0,2,  122.82,6,   32.29,6,    0.00,6,    2.24,6,   0.414,2,   0.191,2,   0.0670,2,  2259.6,2,  2357.0,2,   -999.0,9,  -999.00,   7.5993,2,    25.00,-999.000,9,-999.0000,9, -999.00,9,   0.6136,2, -999.00,9,  -999.0,9,  -999.0,   0.640,3, -999.00,9, -999.00,9, 3600.00,   0.3606
33RO20100308,      A13.5,      10,          1,          1,      11701,2,20100316,       1912,   -49.4993,     0.6255,       3892,  3945.7,   0.5932,  34.6880,2,  34.6873,2, 214.4000,2,   213.1,2,  124.57,6,   32.38,6,    0.00,6,    2.25,6,   0.435,6,   0.201,6,   0.0000,2,  2262.4,6,  2360.3,6,   -999.0,9,  -999.00,   7.6016,2,    25.00,-999.000,9,-999.0000,9, -999.00,9,   0.5925,2, -999.00,9,  -999.0,9,  -999.0,   0.655,3, -999.00,9, -999.00,9, 3945.70,   0.3055