BOTTLE,20130404CCHSIOCBG
EXPOCODE,SECT_ID,STNNBR,CASTNO,SAMPNO,BTLNBR,BTLNBR_FLAG_W,DATE,TIME,LATITUDE,LONGITUDE,DEPTH,CTDPRS,CTDTMP,CTDSAL,CTDSAL_FLAG_W,SALNTY,SALNTY_FLAG_W,CTDOXY,CTDOXY_FLAG_W,OXYGEN,OXYGEN_FLAG_W,SILCAT,SILCAT_FLAG_W,NITRAT,NITRAT_FLAG_W,NITRIT,NITRIT_FLAG_W,PHSPHT,PHSPHT_FLAG_W,CFC-11,CFC-11_FLAG_W,CFC-12,CFC-12_FLAG_W,SF6,SF6_FLAG_W,TCARBN,TCARBN_FLAG_W,ALKALI,ALKALI_FLAG_W,FCO2,FCO2_FLAG_W,FCO2TMP,PH_TOT,PH_TOT_FLAG_W,PH_TMP,TRITUM,TRITUM_FLAG_W,HELIUM,HELIUM_FLAG_W,DELHE3,DELHE3_FLAG_W,REFTMP,REFTMP_FLAG_W,DELC13,DELC13_FLAG_W,DELC14,DELC14_FLAG_W,C14ERR,CCL4,CCL4_FLAG_W,DOC,DOC_FLAG_W,TDN,TDN_FLAG_W,CTDRAW,THETA
,,,,,,,,,,,METERS,DBAR,ITS-90,PSS-78,,PSS-78,,UMOL/KG,,UMOL/KG,,UMOL/KG,,UMOL/KG,,UMOL/KG,,UMOL/KG,,PMOL/KG,,PMOL/KG,,FMOL/KG,,UMOL/KG,,UMOL/KG,,UATM,,DEG C,,,DEG C,TU,,NMOL/KG,,PERCNT,,DEG C,,/MILLE,,/MILLE,,/MILLE,PMOL/KG,,UMOL/KG,,UMOL/KG,,DBAR,DEG C
33RO20100308,      A13.5,      41,          1,         24,      11714,2,20100324,       1343,      -34.0,     1.2187,       4660,     6.8,  20.9322,  35.7393,2,  35.7386,2, 224.8000,2,   224.6,6,    1.49,2,    0.00,2,    0.00,2,    0.14,2,   2.088,2,   1.278,2,   1.2640,2,  2071.0,6,  2349.6,6,    371.0,2,    20.00,   8.0088,2,    25.00,-999.000,9,-999.0000,9, -999.00,9,  20.9334,2,    1.47,2,    54.6,2,     2.9,   2.520,3,   62.96,2,    4.16,2,    6.80,  20.9309
33RO20100308,      A13.5,      41,          1,         23,      11713,2,20100324,       1343,      -34.0,     1.2187,       4660,    30.3,  21.0050,  35.8472,2,  35.8454,2, 224.1000,2,   224.3,2,    1.67,2,    0.00,2,    0.00,2,    0.14,2,   2.065,2,   1.275,2,   1.2250,2,  2074.3,2,  2356.3,2,    370.4,6,    20.00,   8.0104,2,    25.00,-999.000,9,-999.0000,9, -999.00,9,  21.0045,2,    1.36,2,    47.6,2,     3.0,   2.415,3,   63.20,2,    4.14,2,   30.30,  20.9992
33RO20100308,      A13.5,      41,          1,         22,      11712,2,20100324,       1343,      -34.0,     1.2187,       4660,    60.8,  19.3059,  35.6833,2,  35.6845,2, 239.8000,2,   242.4,2,    1.78,2,    0.00,2,    0.00,2,    0.15,2,   2.426,6,   1.462,6,   1.3860,2,  2069.2,2,  2345.0,2,    374.2,2,    20.00,   8.0037,2,    25.00,-999.000,9,-999.0000,9, -999.00,9,  19.3235,2,    1.35,2,    52.0,2,     2.8,   1.916,3,   62.66,2,    3.98,2,   60.80,  19.2949
33RO20100308,      A13.5,      41,          1,         21,      11010,2,20100324,       1343,      -34.0,     1.2187,       4660,    92.4,  17.6063,  35.6448,2,  35.6435,2, 245.5000,2,   245.8,2,    1.99,2,    0.03,2,    0.00,2,    0.18,2,   2.471,2,   1.495,2,   1.3850,2,  2074.4,2,  2342.4,2,    392.2,2,    20.00,   7.9903,2,    25.00,-999.000,9,-999.0000,9, -999.00,9,  17.6006,2,    1.25,2,    49.1,2,     3.2,   1.908,3,   60.27,2,    4.21,2,   92.40,  17.5906
33RO20100308,      A13.5,      41,          1,         20,      11715,2,20100324,       1343,      -34.0,     1.2187,       4660,   124.7,  16.5649,  35.5960,2,  35.5964,2, 233.4000,2,   231.7,2,    2.26,2,    1.44,2,    0.25,2,    0.30,2,   2.516,2,   1.525,2,   1.3980,2,  2087.5,2,  2339.8,2,    425.9,2,    20.00,   7.9591,2,    25.00,-999.000,9,-999.0000,9, -999.00,9,  16.5527,2,    1.11,2,    49.6,2,     3.6,   1.646,3,   55.02,2,    4.97,2,  124.70,  16.5446
33RO20100308,      A13.5,      41,          1,         19,      11007,2,20100324,       1343,      -34.0,     1.2187,       4660,   177.1,  15.4936,  35.4933,2,  35.5022,2, 224.1000,2,   222.4,2,    2.41,2,    4.00,2,    0.01,2,    0.42,2,   2.578,2,   1.611,2,  -0.0030,4,  2098.2,2,  2335.3,2,   -999.0,9,  -999.00,   7.9301,2,    25.00,-999.000,9,-999.0000,9, -999.00,9,  15.5094,2,    1.06,2,    55.2,2,     2.8,   0.972,3,   52.27,2,    7.48,2,  177.10,  15.4661
33RO20100308,      A13.5,      41,          1,         18,      11710,2,20100324,       1343,      -34.0,     1.2187,       4660,   250.9,  13.9930,  35.2906,2,  35.2927,2, 209.7000,2,   209.0,2,    3.67,2,    8.43,2,    0.01,2,    0.69,2,   2.804,2,   1.646,2,   1.2650,2,  2117.4,2,  2322.3,2,    543.8,2,    20.00,   7.8688,2,    25.00,-999.000,9,-999.0000,9, -999.00,9,  13.9988,2,    0.93,2,    51.4,2,     3.0,   1.053,3,   48.41,2,   10.35,2,  250.90,  13.9566
33RO20100308,      A13.5,      41,          1,         17,      11025,2,20100324,       1343,      -34.0,     1.2187,       4660,   324.2,  12.8067,  35.1803,2,  35.1790,2, 221.8000,2,   220.2,2,    2.78,2,    9.28,2,    0.00,2,    0.74,2,   3.073,2,   1.767,2,   2.1300,4,  2122.7,2,  2319.8,2,   -999.0,9,  -999.00,   7.8555,2,    25.00,-999.000,9,-999.0000,9, -999.00,9,  12.8059,2,    1.21,2,    55.3,2,     3.0,   1.104,3,   46.95,2,   11.17,2,  324.20,  12.7623
33RO20100308,      A13.5,      41,          1,         16,      11709,2,20100324,       1343,      -34.0,     1.2187,       4660,   450.6,  10.9628,  34.9233,2,  34.9227,2, 219.0000,2,   216.3,2,    4.93,2,   14.10,2,    0.00,2,    1.04,2,   3.274,2,   1.827,2,  -0.7080,4,  2135.8,2,  2306.2,2,    645.5,2,    20.00,   7.8005,2,    25.00,-999.000,9,-999.0000,9, -999.00,9,  10.9644,2,    1.09,2,    43.0,2,     3.2,   1.257,3,   45.25,2,   15.82,2,  450.60,  10.9068
33RO20100308,      A13.5,      41,          1,         15,      11006,2,20100324,       1343,      -34.0,     1.2187,       4660,   550.3,   8.9502,  34.6630,2,  34.6634,2, 210.7000,2,   206.6,2,    9.07,2,   20.06,2,    0.00,2,    1.43,2,   3.283,2,   1.762,2,   0.8850,4,  2155.5,2,  2294.9,2,   -999.0,9,  -999.00,   7.7295,2,    25.00,-999.000,9,-999.0000,9, -999.00,9,   8.9529,2,    1.04,2,    27.1,2,     3.0,   1.627,3,   43.55,2,   21.82,2,  550.30,   8.8897
33RO20100308,      A13.5,      41,          1,         14,      11708,2,20100324,       1343,      -34.0,     1.2187,       4660,   700.8,   6.5626,  34.4225,2,  34.4241,2, 211.7000,2,   211.1,2,   14.57,2,   25.85,2,    0.00,2,    1.78,2,   3.270,2,   1.689,2,   0.2950,4,  2171.2,2,  2288.7,2,    885.5,2,    20.00,   7.6727,2,    25.00,-999.000,9,-999.0000,9, -999.00,9,   6.5671,2,    1.20,2,    -2.4,2,     2.7,   2.314,3,   41.32,2,   27.85,2,  700.80,   6.4975
33RO20100308,      A13.5,      41,          1,         13,      11031,2,20100324,       1343,      -34.0,     1.2187,       4660,   949.4,   4.0243,  34.2822,2,  34.2824,2, 223.3000,2,   222.9,2,   27.71,2,   30.58,2,    0.00,2,    2.11,2,   2.740,2,   1.381,2,   0.7770,4,  2189.7,2,  2292.9,2,   -999.0,9,  -999.00,   7.6322,2,    25.00,-999.000,9,-999.0000,9, -999.00,9,   4.0235,2,    1.02,2,   -53.0,2,     2.8,   2.728,3,   40.62,2,   32.07,2,  949.40,   3.9530
33RO20100308,      A13.5,      41,          1,         12,      11027,2,20100324,       1343,      -34.0,     1.2187,       4660,  1100.5,   3.6414,  34.3631,2,  34.3633,2, 201.4000,2,   200.1,2,   39.92,2,   32.31,2,    0.00,2,    2.25,2,   1.784,2,   0.876,2,   0.8750,4,  2210.9,2,  2306.4,2,   1059.1,2,    20.00,   7.6027,2,    25.00,-999.000,9,-999.0000,9, -999.00,9,   3.6438,2,    0.86,2,   -81.4,2,     2.6,   1.921,3,   38.64,2,   34.18,2, 1100.50,   3.5606
33RO20100308,      A13.5,      41,          1,         11,      11707,2,20100324,       1343,      -34.0,     1.2187,       4660,  1302.0,   3.2819,  34.4982,2,  34.4982,2, 180.0000,2,   179.8,2,   53.03,2,   33.34,2,    0.00,2,    2.32,2,   0.702,2,   0.326,2,   5.2670,4,  2231.4,2,  2320.8,2,   1119.8,2,    20.00,   7.5817,2,    25.00,-999.000,9,-999.0000,9, -999.00,9,   3.2820,2,    0.71,2,  -114.6,2,     2.4,   0.863,3,   38.51,2,   35.12,2, 1302.00,   3.1876
33RO20100308,      A13.5,      41,          1,         10,      11003,2,20100324,       1343,      -34.0,     1.2187,       4660,  1501.9,   2.8507,  34.5712,2,  34.5702,2, 184.8000,2,   184.9,2,   59.07,2,   32.54,2,    0.00,2,    2.26,2,   0.478,2,   0.212,2,   3.9130,4,  2235.4,2,  2327.0,6,   -999.0,9,  -999.00,   7.5896,2,    25.00,-999.000,9,-999.0000,9, -999.00,9,   2.8511,2,    0.66,2,  -124.4,2,     2.5,   0.634,3,   39.11,2,   34.24,2, 1501.90,   2.7444
33RO20100308,      A13.5,      41,          1,          9,      11706,2,20100324,       1343,      -34.0,     1.2187,       4660,  1702.3,   2.8772,  34.6794,2,-999.0000,9, 189.6000,2,   189.7,2,   57.74,2,   30.66,2,    0.00,2,    2.12,2,   0.202,2,   0.087,2,   0.1610,2,  2229.4,2,  2330.2,2,   1041.0,2,    20.00,   7.6130,2,    25.00,-999.000,9,-999.0000,9, -999.00,9,   2.8751,2,    0.67,2,  -131.4,2,     2.5,   0.410,3,   38.25,2,   32.60,2, 1702.30,   2.7535
33RO20100308,      A13.5,      41,          1,          8,      11033,2,20100324,       1343,      -34.0,     1.2187,       4660,  2000.8,   2.7265,  34.7669,2,  34.7666,2, 203.2000,2,   202.7,2,   57.33,2,   28.26,2,    0.00,2,    1.95,2,   0.084,2,   0.036,2,   0.0000,2,  2222.6,2,  2333.5,2,   -999.0,9,  -999.00,   7.6426,2,    25.00,-999.000,9,-999.0000,9, -999.00,9,   2.7259,2,    0.71,2,  -129.6,2,     2.5,   0.211,3,   38.86,2,   30.44,2, 2000.80,   2.5785
33RO20100308,      A13.5,      41,          1,          7,      11705,2,20100324,       1343,      -34.0,     1.2187,       4660,  2303.2,   2.6321,  34.8194,2,  34.8178,2, 214.9000,2,   215.2,2,   54.90,2,   26.38,2,    0.00,2,    1.82,2,   0.038,6,   0.016,6,   0.0000,2,  2214.5,2,  2335.3,2,    905.1,2,    20.00,   7.6692,2,    25.00,-999.000,9,-999.0000,9, -999.00,9,   2.6325,2,    0.32,3,  -125.6,2,     3.2,   0.119,3,   39.26,2,   28.42,2, 2303.20,   2.4579
33RO20100308,      A13.5,      41,          1,          6,      11029,2,20100324,       1343,      -34.0,     1.2187,       4660,  2701.2,   2.4185,  34.8418,2,  34.8414,2, 224.5000,2,   225.4,2,   56.58,2,   25.33,2,    0.00,2,    1.75,2,-999.000,5,-999.000,5,-999.0000,5,  2210.6,2,  2335.5,2,   -999.0,9,  -999.00,   7.6869,2,    25.00,-999.000,9,-999.0000,9, -999.00,9,   2.4184,2,    0.86,2,  -128.3,2,     2.7,-999.000,5,   39.56,2,   26.92,2, 2701.20,   2.2104
33RO20100308,      A13.5,      41,          1,          5,      11704,2,20100324,       1343,      -34.0,     1.2187,       4660,  3101.4,   2.2635,  34.8476,2,  34.8471,2, 227.5000,2,   227.9,2,   59.56,6,   25.07,6,    0.00,6,    1.72,6,   0.014,2,   0.006,2,   0.0000,2,  2213.4,2,  2345.1,2,    849.7,2,    20.00,   7.6935,2,    25.00,-999.000,9,-999.0000,9, -999.00,9,   2.2628,2,    0.89,2,  -129.3,2,     2.5,   0.055,3,   39.83,2,   26.81,2, 3101.40,   2.0188
33RO20100308,      A13.5,      41,          1,          4,      11030,9,20100324,       1343,      -34.0,     1.2187,       4660,  3501.0,   2.0426,  34.8350,2,-999.0000,9, 226.9000,2,  -999.0,9, -999.00,9, -999.00,9, -999.00,9, -999.00,9,-999.000,9,-999.000,9,-999.0000,9,  -999.0,9,  -999.0,9,   -999.0,9,  -999.00,-999.0000,9,  -999.00,-999.000,9,-999.0000,9, -999.00,9,   2.0424,2, -999.00,9,  -999.0,9,  -999.0,-999.000,9, -999.00,9, -999.00,9, 3501.00,   1.7618
33RO20100308,      A13.5,      41,          1,          3,      11703,2,20100324,       1343,      -34.0,     1.2187,       4660,  3904.1,   1.4523,  34.7739,2,  34.7734,2, 218.8000,2,   219.2,2,   91.99,6,   28.92,6,    0.00,6,    2.00,6,   0.048,2,   0.020,2,   0.0330,4,  2242.8,2,  2362.2,2,    942.1,2,    20.00,   7.6559,2,    25.00,-999.000,9,-999.0000,9, -999.00,9,   1.4537,2,    0.68,2,  -149.6,2,     2.4,   0.098,3,   39.87,2,   30.06,2, 3904.10,   1.1445
33RO20100308,      A13.5,      41,          1,          2,      11702,2,20100324,       1343,      -34.0,     1.2187,       4660,  4303.3,   1.1353,  34.7430,2,  34.7416,2, 217.6000,2,   216.9,6,  104.88,6,   30.37,6,    0.00,6,    2.10,6,   0.069,2,   0.029,2,  -0.5060,4,  2252.2,2,  2366.2,2,   -999.0,9,  -999.00,   7.6417,2,    25.00,-999.000,9,-999.0000,9, -999.00,9,   1.1350,2,    0.62,2,  -156.2,2,     3.4,   0.132,3,   39.04,2,   32.25,2, 4303.30,   0.7933
33RO20100308,      A13.5,      41,          1,          1,      11701,2,20100324,       1343,      -34.0,     1.2187,       4660,  4721.8,   1.1059,  34.7357,2,  34.7357,2, 218.0000,2,   215.9,2,  108.03,6,   30.69,6,    0.01,6,    2.13,6,   0.093,2,   0.040,2,  -0.4940,4,  2256.7,6,  2368.9,6,    987.5,2,    20.00,   7.6391,2,    25.00,-999.000,9,-999.0000,9, -999.00,9,   1.1060,2,    0.58,2,  -149.2,2,     2.4,   0.162,3,   38.11,2,   32.28,2, 4721.80,   0.7174