BOTTLE,20130404CCHSIOCBG
EXPOCODE,SECT_ID,STNNBR,CASTNO,SAMPNO,BTLNBR,BTLNBR_FLAG_W,DATE,TIME,LATITUDE,LONGITUDE,DEPTH,CTDPRS,CTDTMP,CTDSAL,CTDSAL_FLAG_W,SALNTY,SALNTY_FLAG_W,CTDOXY,CTDOXY_FLAG_W,OXYGEN,OXYGEN_FLAG_W,SILCAT,SILCAT_FLAG_W,NITRAT,NITRAT_FLAG_W,NITRIT,NITRIT_FLAG_W,PHSPHT,PHSPHT_FLAG_W,CFC-11,CFC-11_FLAG_W,CFC-12,CFC-12_FLAG_W,SF6,SF6_FLAG_W,TCARBN,TCARBN_FLAG_W,ALKALI,ALKALI_FLAG_W,FCO2,FCO2_FLAG_W,FCO2TMP,PH_TOT,PH_TOT_FLAG_W,PH_TMP,TRITUM,TRITUM_FLAG_W,HELIUM,HELIUM_FLAG_W,DELHE3,DELHE3_FLAG_W,REFTMP,REFTMP_FLAG_W,DELC13,DELC13_FLAG_W,DELC14,DELC14_FLAG_W,C14ERR,CCL4,CCL4_FLAG_W,DOC,DOC_FLAG_W,TDN,TDN_FLAG_W,CTDRAW,THETA
,,,,,,,,,,,METERS,DBAR,ITS-90,PSS-78,,PSS-78,,UMOL/KG,,UMOL/KG,,UMOL/KG,,UMOL/KG,,UMOL/KG,,UMOL/KG,,PMOL/KG,,PMOL/KG,,FMOL/KG,,UMOL/KG,,UMOL/KG,,UATM,,DEG C,,,DEG C,TU,,NMOL/KG,,PERCNT,,DEG C,,/MILLE,,/MILLE,,/MILLE,PMOL/KG,,UMOL/KG,,UMOL/KG,,DBAR,DEG C
33RO20100308,      A13.5,      63,          1,         24,      11714,2,20100330,       0325,      -23.0,     1.4432,       4953,     5.7,  23.2456,  36.0903,2,  36.0950,2, 215.9000,2,   215.4,2,    1.29,2,    0.01,2,    0.00,2,    0.22,2,   1.892,2,   1.165,2,   1.1750,2,  2075.9,6,  2373.2,6,    357.2,2,    20.00,   8.0281,2,    25.00,-999.000,9,-999.0000,9, -999.00,9,  23.2436,2,    1.50,2,    50.8,2,     3.0,   2.198,3,   66.26,2,    5.10,2,    5.70,  23.2444
33RO20100308,      A13.5,      63,          1,         23,      11713,2,20100330,       0325,      -23.0,     1.4432,       4953,    60.6,  19.0935,  35.7744,2,  35.7706,2, 247.8000,2,   246.7,2,    1.74,2,    0.03,2,    0.00,2,    0.20,2,   2.402,2,   1.441,2,   1.3390,2,  2069.3,2,  2350.2,2,    373.8,6,    20.00,   8.0060,2,    25.00,-999.000,9,-999.0000,9, -999.00,9,  19.0928,2,    1.43,2,    50.3,2,     3.3,   1.801,3,   61.22,2,    4.74,2,   60.60,  19.0826
33RO20100308,      A13.5,      63,          1,         22,      11712,2,20100330,       0325,      -23.0,     1.4432,       4953,   119.7,  16.9180,  35.6426,2,  35.6410,2, 219.5000,2,   218.6,2,    2.45,2,    2.56,2,    0.27,2,    0.38,2,   2.529,6,   1.498,6,   1.3650,6,  2092.4,2,  2339.8,2,    438.9,2,    20.00,   7.9467,2,    25.00,-999.000,9,-999.0000,9, -999.00,9,  16.9174,2,    1.14,2,    55.4,2,     3.0,   1.306,3,   54.29,2,    7.18,2,  119.70,  16.8983
33RO20100308,      A13.5,      63,          1,         21,      11010,2,20100330,       0325,      -23.0,     1.4432,       4953,   198.8,  13.7066,  35.2404,2,  35.2367,2, 176.7000,3,   192.6,2,    4.16,2,   11.04,2,    0.01,2,    0.84,2,   2.898,2,   1.652,2,   1.2740,2,  2128.1,2,  2315.0,2,    598.9,2,    20.00,   7.8295,2,    25.00,-999.000,9,-999.0000,9, -999.00,9,  13.7065,2,    0.85,2,    63.1,2,     3.0,   0.881,3,   46.98,2,   14.69,2,  198.80,  13.6782
33RO20100308,      A13.5,      63,          1,         20,      11715,2,20100330,       0325,      -23.0,     1.4432,       4953,   299.8,  11.2997,  34.9582,2,  34.9598,2, 177.5000,2,   171.0,2,    7.13,2,   18.38,2,    0.00,2,    1.27,2,   2.989,2,   1.628,2,   1.0150,2,  2158.7,2,  2303.2,2,    766.6,2,    20.00,   7.7290,2,    25.00,-999.000,9,-999.0000,9, -999.00,9,  11.3060,2,    0.79,2,    48.1,2,     2.8,   0.978,3,   45.08,2,   20.52,2,  299.80,  11.2619
33RO20100308,      A13.5,      63,          1,         19,      11007,2,20100330,       0325,      -23.0,     1.4432,       4953,   448.6,   8.6289,  34.7157,2,  34.7152,2,  87.1000,2,    87.8,2,   16.23,2,   32.85,2,    0.00,2,    2.17,2,   1.731,2,   0.891,2,   0.4000,2,  2227.7,2,  2290.5,2,   1353.8,2,    20.00,   7.5036,2,    25.00,-999.000,9,-999.0000,9, -999.00,9,   8.6300,2,    0.43,3,    -8.8,2,     2.7,   0.831,3,   42.24,2,   34.58,2,  448.60,   8.5808
33RO20100308,      A13.5,      63,          1,         18,      11710,2,20100330,       0325,      -23.0,     1.4432,       4953,   599.6,   6.1091,  34.4835,2,  34.4839,2, 142.8000,2,   144.4,2,   22.01,2,   33.03,2,    0.00,2,    2.22,2,   1.496,2,   0.739,2,   0.2280,2,  2211.1,2,  2287.6,2,   1194.7,2,    20.00,   7.5553,2,    25.00,-999.000,9,-999.0000,9, -999.00,9,   6.1125,2,    0.75,2,   -45.9,2,     2.6,   1.354,3,   41.04,2,   34.45,2,  599.60,   6.0558
33RO20100308,      A13.5,      63,          1,         17,      11025,2,20100330,       0325,      -23.0,     1.4432,       4953,   748.4,   4.9811,  34.4568,2,  34.4553,2, 142.5000,2,   144.1,2,   29.38,2,   35.07,2,    0.00,2,    2.37,2,   0.421,2,   0.208,2,   0.0510,2,  2220.7,2,  2294.9,2,   1237.2,6,    20.00,   7.5400,2,    25.00,-999.000,9,-999.0000,9, -999.00,9,   4.9841,2,    0.75,2,   -91.6,2,     2.6,   0.661,3,   39.89,2,   36.80,2,  748.40,   4.9203
33RO20100308,      A13.5,      63,          1,         16,      11709,2,20100330,       0325,      -23.0,     1.4432,       4953,   899.5,   4.2585,  34.4591,2,  34.4596,2, 157.8000,2,   158.6,6,   34.92,2,   34.56,2,    0.00,2,    2.36,2,   0.217,2,   0.111,2,   0.0310,2,  2219.6,2,  2300.5,2,   1178.9,2,    20.00,   7.5580,2,    25.00,-999.000,9,-999.0000,9, -999.00,9,   4.2587,2,    0.78,2,  -110.9,2,     2.4,   0.489,3,   39.79,2,   36.30,2,  899.50,   4.1894
33RO20100308,      A13.5,      63,          1,         15,      11006,2,20100330,       0325,      -23.0,     1.4432,       4953,  1151.0,   3.7488,  34.5587,2,  34.5590,2, 174.6000,2,   175.4,2,   39.25,2,   32.33,2,    0.00,2,    2.22,2,   0.093,2,   0.049,2,   0.0000,2,  2216.9,2,  2309.5,6,   1091.1,2,    20.00,   7.5910,2,    25.00,-999.000,9,-999.0000,9, -999.00,9,   3.7487,2,    0.77,2,  -123.3,2,     3.0,   0.296,3,   39.74,2,   33.38,2, 1151.00,   3.6625
33RO20100308,      A13.5,      63,          1,         14,      11708,2,20100330,       0325,      -23.0,     1.4432,       4953,  1300.0,   3.7227,  34.6550,2,  34.6549,2, 182.7000,2,   182.9,2,   37.59,2,   30.54,2,    0.00,2,    2.09,2,   0.041,2,   0.022,2,   0.0000,2,  2212.9,2,  2312.1,2,   1034.3,2,    20.00,   7.6131,2,    25.00,-999.000,9,-999.0000,9, -999.00,9,   3.7222,2,    0.77,2,  -125.2,2,     2.4,   0.174,3,   39.89,2,   32.35,2, 1300.00,   3.6238
33RO20100308,      A13.5,      63,          1,         13,      11031,2,20100330,       0325,      -23.0,     1.4432,       4953,  1448.8,   3.6694,  34.7428,2,  34.7422,2, 194.4000,2,   195.2,2,   35.41,2,   28.25,2,    0.00,2,    1.93,2,   0.023,2,   0.014,2,   0.0000,2,  2205.0,2,  2313.7,2,    964.8,2,    20.00,   7.6402,2,    25.00,-999.000,9,-999.0000,9, -999.00,9,   3.6691,2,    0.84,2,  -117.1,2,     3.0,   0.127,3,   39.60,2,   29.48,2, 1448.80,   3.5580
33RO20100308,      A13.5,      63,          1,         12,      11027,2,20100330,       0325,      -23.0,     1.4432,       4953,  1600.2,   3.5514,  34.8046,2,  34.8036,2, 205.8000,2,   206.2,2,   34.20,2,   26.50,2,    0.00,2,    1.81,2,   0.012,2,   0.008,2,   0.0000,2,  2200.0,2,  2317.6,2,    914.9,2,    20.00,   7.6632,2,    25.00,-999.000,9,-999.0000,9, -999.00,9,   3.5514,2,    0.89,2,  -115.0,2,     3.4,   0.093,3,   39.15,2,   28.26,2, 1600.20,   3.4278
33RO20100308,      A13.5,      63,          1,         11,      11707,2,20100330,       0325,      -23.0,     1.4432,       4953,  1800.7,   3.3966,  34.8601,2,  34.8597,2, 219.4000,2,   219.7,2,   32.81,2,   24.56,2,    0.00,2,    1.66,2,   0.007,2,   0.005,2,   0.0000,2,  2191.4,2,  2320.0,2,    860.8,2,    20.00,   7.6874,2,    25.00,-999.000,9,-999.0000,9, -999.00,9,   3.3967,2,    0.97,2,  -111.4,2,     3.1,   0.075,3,   39.38,2,   25.58,2, 1800.70,   3.2568
33RO20100308,      A13.5,      63,          1,         10,      11003,2,20100330,       0325,      -23.0,     1.4432,       4953,  1999.1,   3.2366,  34.8856,2,  34.8849,2, 229.4000,2,   229.8,6,   32.84,2,   23.36,2,    0.00,2,    1.58,2,   0.008,2,   0.007,2,   0.0000,2,  2186.8,2,  2320.4,2,    826.1,2,    20.00,   7.7043,2,    25.00,-999.000,9,-999.0000,9, -999.00,9,   3.2366,2,    1.06,2,  -113.0,2,     2.6,   0.079,3,   39.15,2,   24.77,2, 1999.10,   3.0807
33RO20100308,      A13.5,      63,          1,          9,      11706,2,20100330,       0325,      -23.0,     1.4432,       4953,  2201.3,   3.0193,  34.8895,2,  34.8888,2, 233.8000,2,   235.1,2,   35.71,2,   23.01,2,    0.00,2,    1.55,2,   0.004,2,   0.003,2,   0.0000,2,  2186.7,2,  2327.1,2,    814.6,2,    20.00,   7.7124,2,    25.00,-999.000,9,-999.0000,9, -999.00,9,   3.0195,2, -999.00,9,  -999.0,9,  -999.0,   0.056,3,   39.40,2,   24.56,2, 2201.30,   2.8479
33RO20100308,      A13.5,      63,          1,          8,      11033,2,20100330,       0325,      -23.0,     1.4432,       4953,  2399.3,   2.7928,  34.8800,2,  34.8791,2, 235.3000,2,   236.2,2,   40.47,2,   23.24,2,    0.00,2,    1.57,2,   0.005,2,   0.004,2,   0.0000,2,  2190.2,2,  2329.1,2,    810.3,2,    20.00,   7.7131,2,    25.00,-999.000,9,-999.0000,9, -999.00,9,   2.7929,2, -999.00,9,  -999.0,9,  -999.0,   0.045,3,   39.21,2,   24.60,2, 2399.30,   2.6066
33RO20100308,      A13.5,      63,          1,          7,      11705,2,20100330,       0325,      -23.0,     1.4432,       4953,  2598.4,   2.6047,  34.8706,2,  34.8708,2, 235.6000,2,   236.0,2,   45.11,2,   23.56,2,    0.00,2,    1.60,2,   0.003,2,   0.002,2,   0.0000,2,  2195.1,2,  2332.0,2,    815.2,2,    20.00,   7.7093,2,    25.00,-999.000,9,-999.0000,9, -999.00,9,   2.6042,2, -999.00,9,  -999.0,9,  -999.0,   0.032,3,   39.37,2,   24.70,2, 2598.40,   2.4028
33RO20100308,      A13.5,      63,          1,          6,      11029,2,20100330,       0325,      -23.0,     1.4432,       4953,  3000.7,   2.4499,  34.8734,3,  34.8834,4, 237.5000,2,   237.7,2,   48.44,2,   23.52,2,    0.00,2,    1.60,2,   0.087,4,   0.242,4,   3.2470,4,  2198.3,2,  2334.4,2,    806.4,2,    20.00,   7.7133,2,    25.00,-999.000,9,-999.0000,9, -999.00,9,   2.4496,2, -999.00,9,  -999.0,9,  -999.0,   0.029,3,   39.14,2,   24.68,2, 3000.70,   2.2112
33RO20100308,      A13.5,      63,          1,          5,      11704,2,20100330,       0325,      -23.0,     1.4432,       4953,  3400.4,   2.3813,  34.8840,2,  34.8834,2, 233.2000,2,   233.7,2,   50.49,6,   23.49,6,    0.00,6,    1.58,6,   0.003,2,   0.002,2,   0.0000,2,  2206.2,2,  2349.0,2,    803.0,2,    20.00,   7.7178,2,    25.00,-999.000,9,-999.0000,9, -999.00,9,   2.3811,2, -999.00,9,  -999.0,9,  -999.0,   0.011,3,   39.37,2,   24.69,2, 3400.40,   2.1026
33RO20100308,      A13.5,      63,          1,          4,      11030,2,20100330,       0325,      -23.0,     1.4432,       4953,  3799.7,   2.3634,  34.8876,2,  34.8871,2, 232.1000,2,   232.8,2,   51.55,6,   23.47,6,    0.00,6,    1.58,6,   1.603,4,   3.476,4,  38.0810,4,  2210.9,2,  2351.6,2,    800.6,2,    20.00,   7.7199,2,    25.00,-999.000,9,-999.0000,9, -999.00,9,   2.3634,2, -999.00,9,  -999.0,9,  -999.0,   0.666,4,   39.16,2,   25.01,2, 3799.70,   2.0416
33RO20100308,      A13.5,      63,          1,          3,      11703,2,20100330,       0325,      -23.0,     1.4432,       4953,  4199.2,   2.3719,  34.8861,2,  34.8853,2, 233.0000,2,   232.9,2,   52.15,6,   23.47,6,    0.00,6,    1.58,6,   0.003,2,   0.003,2,   0.0000,2,  2212.3,2,  2352.2,2,    797.5,2,    20.00,   7.7210,2,    25.00,-999.000,9,-999.0000,9, -999.00,9,   2.3714,2, -999.00,9,  -999.0,9,  -999.0,   0.044,3,   39.71,2,   25.25,2, 4199.20,   2.0042
33RO20100308,      A13.5,      63,          1,          2,      11702,2,20100330,       0325,      -23.0,     1.4432,       4953,  4598.6,   2.3973,  34.8842,2,  34.8836,2, 233.8000,2,   233.5,2,   52.60,6,   23.50,6,    0.00,6,    1.58,6,   0.004,2,   0.005,2,   0.0000,2,  2214.6,2,  2357.2,2,    794.1,2,    20.00,   7.7226,2,    25.00,-999.000,9,-999.0000,9, -999.00,9,   2.3968,2, -999.00,9,  -999.0,9,  -999.0,   0.023,3,   39.83,2,   25.09,2, 4598.60,   1.9812
33RO20100308,      A13.5,      63,          1,          1,      11701,2,20100330,       0325,      -23.0,     1.4432,       4953,  5035.3,   2.4384,  34.8828,2,  34.8835,2, 234.1000,2,   233.8,2,   52.81,6,   23.46,6,    0.00,6,    1.58,6,   1.745,4,   3.794,4,  39.1030,4,  2215.1,6,  2358.5,6,    795.0,2,    20.00,   7.7235,2,    25.00,-999.000,9,-999.0000,9, -999.00,9,   2.4381,2, -999.00,9,  -999.0,9,  -999.0,   0.744,4,   39.69,2,   25.35,2, 5035.30,   1.9666