BOTTLE,20130404CCHSIOCBG
EXPOCODE,SECT_ID,STNNBR,CASTNO,SAMPNO,BTLNBR,BTLNBR_FLAG_W,DATE,TIME,LATITUDE,LONGITUDE,DEPTH,CTDPRS,CTDTMP,CTDSAL,CTDSAL_FLAG_W,SALNTY,SALNTY_FLAG_W,CTDOXY,CTDOXY_FLAG_W,OXYGEN,OXYGEN_FLAG_W,SILCAT,SILCAT_FLAG_W,NITRAT,NITRAT_FLAG_W,NITRIT,NITRIT_FLAG_W,PHSPHT,PHSPHT_FLAG_W,CFC-11,CFC-11_FLAG_W,CFC-12,CFC-12_FLAG_W,SF6,SF6_FLAG_W,TCARBN,TCARBN_FLAG_W,ALKALI,ALKALI_FLAG_W,FCO2,FCO2_FLAG_W,FCO2TMP,PH_TOT,PH_TOT_FLAG_W,PH_TMP,TRITUM,TRITUM_FLAG_W,HELIUM,HELIUM_FLAG_W,DELHE3,DELHE3_FLAG_W,REFTMP,REFTMP_FLAG_W,DELC13,DELC13_FLAG_W,DELC14,DELC14_FLAG_W,C14ERR,CCL4,CCL4_FLAG_W,DOC,DOC_FLAG_W,TDN,TDN_FLAG_W,CTDRAW,THETA
,,,,,,,,,,,METERS,DBAR,ITS-90,PSS-78,,PSS-78,,UMOL/KG,,UMOL/KG,,UMOL/KG,,UMOL/KG,,UMOL/KG,,UMOL/KG,,PMOL/KG,,PMOL/KG,,FMOL/KG,,UMOL/KG,,UMOL/KG,,UATM,,DEG C,,,DEG C,TU,,NMOL/KG,,PERCNT,,DEG C,,/MILLE,,/MILLE,,/MILLE,PMOL/KG,,UMOL/KG,,UMOL/KG,,DBAR,DEG C
33RO20100308,      A13.5,      12,          1,         24,      11714,2,20100317,       0705,   -48.5007,     0.7618,       4071,     5.3,   6.2410,  33.7982,2,  33.7997,2, 303.6000,2,   302.5,2,    3.23,2,   19.36,2,    0.25,2,    1.41,2,   4.438,2,   2.494,2,   2.1200,2,  2110.0,6,  2271.0,6,    656.2,2,    20.00,   7.7890,2,    25.00,-999.000,9,-999.0000,9, -999.00,9,   6.2404,2,    1.81,2,   -47.5,2,     2.6,  -0.003,4, -999.00,9, -999.00,9,    5.30,   6.2406
33RO20100308,      A13.5,      12,          1,         23,      11713,2,20100317,       0705,   -48.5007,     0.7618,       4071,    74.4,   5.9093,  33.8223,2,  33.8248,2, 299.2000,2,   299.6,2,    4.07,2,   19.82,2,    0.29,2,    1.47,2,   4.519,2,   2.527,2,   2.2160,2,  2114.3,2,  2273.6,2,    669.5,6,    20.00,   7.7775,2,    25.00,-999.000,9,-999.0000,9, -999.00,9,   5.9558,2,    1.76,2,   -40.7,2,     3.4,   5.478,3, -999.00,9, -999.00,9,   74.40,   5.9032
33RO20100308,      A13.5,      12,          1,         22,      11712,2,20100317,       0705,   -48.5007,     0.7618,       4071,   100.3,   4.4818,  33.8998,2,  33.9000,2, 296.1000,2,   296.9,2,    9.63,2,   23.69,2,    0.23,2,    1.67,2,   4.823,6,   2.671,6,   2.2400,6,  2135.1,2,  2270.3,2,    767.3,2,    20.00,   7.7246,2,    25.00,-999.000,9,-999.0000,9, -999.00,9,   4.4885,2,    1.50,2,   -35.5,2,     2.9,   6.181,3, -999.00,9, -999.00,9,  100.30,   4.4746
33RO20100308,      A13.5,      12,          1,         21,      11010,2,20100317,       0705,   -48.5007,     0.7618,       4071,   150.5,   3.2545,  33.9749,2,  33.9725,2, 296.2000,2,   295.2,2,   15.96,2,   26.49,2,    0.02,2,    1.83,2,   4.889,2,   2.668,2,   2.0700,2,  2152.5,2,  2275.0,2,    849.3,2,    20.00,   7.6881,2,    25.00,-999.000,9,-999.0000,9, -999.00,9,   3.2543,2, -999.00,9,  -999.0,9,  -999.0,   6.085,3, -999.00,9, -999.00,9,  150.50,   3.2451
33RO20100308,      A13.5,      12,          1,         20,      11715,2,20100317,       0705,   -48.5007,     0.7618,       4071,   199.2,   2.9423,  34.0411,2,  34.0447,2, 278.9000,2,   279.1,6,   20.51,2,   28.36,2,    0.01,2,    1.95,2,   4.543,2,   2.461,2,   1.7440,2,  2164.9,2,  2279.9,2,    904.5,2,    20.00,   7.6617,2,    25.00,-999.000,9,-999.0000,9, -999.00,9,   2.9438,2,    1.14,2,   -46.9,2,     2.7,   0.003,4, -999.00,9, -999.00,9,  199.20,   2.9303
33RO20100308,      A13.5,      12,          1,         19,      11007,2,20100317,       0705,   -48.5007,     0.7618,       4071,   250.5,   2.7842,  34.1044,2,  34.1046,2, 263.2000,2,   263.0,2,   25.82,2,   29.98,2,    0.01,2,    2.06,2,   4.191,2,   2.215,2,   1.5070,2,  2177.8,2,  2283.4,2,    960.3,2,    20.00,   7.6373,2,    25.00,-999.000,9,-999.0000,9, -999.00,9,   2.7840,2,    1.03,2,   -51.0,2,     3.1,   4.947,3, -999.00,9, -999.00,9,  250.50,   2.7693
33RO20100308,      A13.5,      12,          1,         18,      11710,2,20100317,       0705,   -48.5007,     0.7618,       4071,   350.5,   2.5344,  34.1937,2,  34.1969,2, 237.1000,2,   239.2,2,   36.65,2,   31.91,2,    0.01,2,    2.19,2,   3.418,2,   1.763,2,   1.0410,2,  2197.3,2,  2292.4,2,   1045.0,2,    20.00,   7.6069,2,    25.00,-999.000,9,-999.0000,9, -999.00,9,   2.5330,2,    0.88,2,   -63.2,2,     3.3,  -0.006,4, -999.00,9, -999.00,9,  350.50,   2.5139
33RO20100308,      A13.5,      12,          1,         17,      11025,2,20100317,       0705,   -48.5007,     0.7618,       4071,   450.3,   2.5407,  34.2726,2,  34.2748,2, 217.3000,2,   217.5,2,   45.58,2,   33.14,2,    0.01,2,    2.28,2,   2.727,2,   1.360,2,   0.7110,2,  2213.3,2,  2301.6,2,   1114.7,2,    20.00,   7.5841,2,    25.00,-999.000,9,-999.0000,9, -999.00,9,   2.5401,2,    0.82,2,   -94.1,2,     2.6,   3.361,3, -999.00,9, -999.00,9,  450.30,   2.5139
33RO20100308,      A13.5,      12,          1,         16,      11709,2,20100317,       0705,   -48.5007,     0.7618,       4071,   548.9,   2.5631,  34.3493,2,  34.3517,2, 199.6000,2,   199.1,2,   53.95,2,   34.02,2,    0.00,2,    2.34,2,   2.029,2,   0.998,2,   0.4410,2,  2227.4,2,  2308.2,2,   1164.8,2,    20.00,   7.5669,2,    25.00,-999.000,9,-999.0000,9, -999.00,9,   2.5624,2,    0.71,2,  -114.0,2,     2.6,   2.490,3, -999.00,9, -999.00,9,  548.90,   2.5298
33RO20100308,      A13.5,      12,          1,         15,      11006,2,20100317,       0705,   -48.5007,     0.7618,       4071,   649.8,   2.5574,  34.4370,2,  34.4401,2, 183.4000,2,   183.4,2,   62.79,2,   34.45,2,    0.00,2,    2.38,2,   1.310,2,   0.639,2,   0.2780,2,  2239.7,2,  2321.1,2,   1200.8,2,    20.00,   7.5552,2,    25.00,-999.000,9,-999.0000,9, -999.00,9,   2.5570,2,    0.63,2,  -129.1,2,     2.6,   1.760,3, -999.00,9, -999.00,9,  649.80,   2.5174
33RO20100308,      A13.5,      12,          1,         14,      11708,2,20100317,       0705,   -48.5007,     0.7618,       4071,   750.4,   2.5362,  34.4946,2,  34.4969,2, 177.7000,2,   177.3,2,   67.59,2,   34.40,2,    0.00,2,    2.38,2,   0.951,2,   0.466,2,   0.2040,2,  2245.5,2,  2325.1,2,   1205.8,6,    20.00,   7.5552,2,    25.00,-999.000,9,-999.0000,9, -999.00,9,   2.5355,2,    0.62,2,  -131.7,2,     2.5,   1.352,3, -999.00,9, -999.00,9,  750.40,   2.4895
33RO20100308,      A13.5,      12,          1,         13,      11031,2,20100317,       0705,   -48.5007,     0.7618,       4071,   849.7,   2.4791,  34.5472,2,  34.5469,2, 174.2000,2,   184.0,4,   71.67,2,   34.20,2,    0.00,2,    2.37,2,   0.711,2,   0.352,2,   0.1880,2,  2249.9,2,  2332.3,2,   1207.3,2,    20.00,   7.5549,2,    25.00,-999.000,9,-999.0000,9, -999.00,9,   2.4790,2,    0.52,2,  -131.9,2,     2.9,   1.078,3, -999.00,9, -999.00,9,  849.70,   2.4258
33RO20100308,      A13.5,      12,          1,         12,      11027,2,20100317,       0705,   -48.5007,     0.7618,       4071,  1000.7,   2.4841,  34.6156,2,  34.6164,2, 175.0000,2,   174.2,2,   74.05,2,   33.24,2,    0.00,2,    2.30,2,   0.450,2,   0.220,2,   0.1120,2,  2249.8,2,  2336.9,2,   1169.8,2,    20.00,   7.5685,2,    25.00,-999.000,9,-999.0000,9, -999.00,9,   2.4833,2,    0.62,2,  -139.2,2,     4.1,   0.723,3, -999.00,9, -999.00,9, 1000.70,   2.4200
33RO20100308,      A13.5,      12,          1,         11,      11707,2,20100317,       0705,   -48.5007,     0.7618,       4071,  1199.8,   2.4155,  34.6764,2,  34.6777,2, 180.1000,2,   178.4,2,   77.07,2,   32.12,2,    0.00,2,    2.22,2,   0.312,2,   0.153,2,   0.0000,2,  2249.2,2,  2338.7,2,   1128.3,2,    20.00,   7.5840,2,    25.00,-999.000,9,-999.0000,9, -999.00,9,   2.4148,2,    0.55,2,  -140.6,2,     2.4,   0.558,3, -999.00,9, -999.00,9, 1199.80,   2.3373
33RO20100308,      A13.5,      12,          1,         10,      11003,2,20100317,       0705,   -48.5007,     0.7618,       4071,  1399.8,   2.3041,  34.7212,2,  34.7222,2, 185.4000,2,   185.8,2,   79.01,2,   31.16,2,    0.00,2,    2.15,2,   0.231,2,   0.113,2,   0.0700,2,  2247.6,2,  2344.0,2,   1089.6,2,    20.00,   7.5989,2,    25.00,-999.000,9,-999.0000,9, -999.00,9,   2.3036,2,    0.51,2,  -146.6,2,     2.5,   0.421,3, -999.00,9, -999.00,9, 1399.80,   2.2117
33RO20100308,      A13.5,      12,          1,          9,      11706,2,20100317,       0705,   -48.5007,     0.7618,       4071,  1700.3,   2.1457,  34.7610,2,  34.7612,2, 196.2000,2,   196.5,2,   80.19,2,   29.75,2,    0.00,2,    2.04,2,   0.161,2,   0.079,2,   0.0000,2,  2241.0,2,  2346.5,2,   1027.0,2,    20.00,   7.6210,2,    25.00,-999.000,9,-999.0000,9, -999.00,9,   2.1463,2,    0.63,2,  -146.0,2,     3.9,   0.336,3, -999.00,9, -999.00,9, 1700.30,   2.0314
33RO20100308,      A13.5,      12,          1,          8,      11033,2,20100317,       0705,   -48.5007,     0.7618,       4071,  1999.9,   1.8898,  34.7674,2,  34.7676,2, 201.2000,2,   202.7,2,   85.17,2,   29.47,2,    0.00,2,    2.02,2,   0.141,2,   0.070,2,   0.0420,2,  2241.1,2,  2347.5,2,   1007.1,2,    20.00,   7.6302,2,    25.00,-999.000,9,-999.0000,9, -999.00,9,   1.8893,2,    0.61,2,  -148.0,2,     2.8,   0.266,3, -999.00,9, -999.00,9, 1999.90,   1.7546
33RO20100308,      A13.5,      12,          1,          7,      11705,2,20100317,       0705,   -48.5007,     0.7618,       4071,  2299.2,   1.4919,  34.7430,2,  34.7429,2, 200.7000,2,   202.7,2,   98.04,2,   30.62,2,    0.00,2,    2.10,2,  -0.002,4,   0.001,4,   0.0000,2,  2247.8,2,  2354.5,2,   1030.4,2,    20.00,   7.6183,2,    25.00,-999.000,9,-999.0000,9, -999.00,9,   1.4910,2,    0.56,2,  -150.3,2,     2.4,  -0.002,4, -999.00,9, -999.00,9, 2299.20,   1.3381
33RO20100308,      A13.5,      12,          1,          6,      11029,2,20100317,       0705,   -48.5007,     0.7618,       4071,  2599.3,   1.2962,  34.7374,2,  34.7372,2, 205.9000,2,   206.6,2,  102.17,2,   30.75,2,    0.00,2,    2.12,2,   0.195,2,   0.094,2,   0.0400,2,  2251.1,2,  2356.4,2,   1030.3,2,    20.00,   7.6203,2,    25.00,-999.000,9,-999.0000,9, -999.00,9,   1.2961,2,    0.56,2,  -160.7,2,     2.4,   0.324,3, -999.00,9, -999.00,9, 2599.30,   1.1200
33RO20100308,      A13.5,      12,          1,          5,      11704,2,20100317,       0705,   -48.5007,     0.7618,       4071,  2900.3,   1.1031,  34.7232,2,  34.7245,2, 206.0000,2,   207.2,2,  107.43,2,   31.39,2,    0.00,2,    2.16,2,  -0.001,4,   0.000,2,   0.0000,2,  2254.1,2,  2356.9,2,   1050.2,2,    20.00,   7.6141,2,    25.00,-999.000,9,-999.0000,9, -999.00,9,   1.1027,2,    0.52,2,  -153.1,2,     2.5,  -0.001,4, -999.00,9, -999.00,9, 2900.30,   0.9040
33RO20100308,      A13.5,      12,          1,          4,      11030,2,20100317,       0705,   -48.5007,     0.7618,       4071,  3199.1,   0.8633,  34.7072,2,  34.7074,2, 208.1000,2,   208.7,2,  115.14,6,   31.94,6,    0.00,6,    2.20,6,   0.310,2,   0.147,2,   0.0710,3,  2257.8,2,  2359.6,2,   1071.4,2,    20.00,   7.6074,2,    25.00,-999.000,9,-999.0000,9, -999.00,9,   0.8626,2,    0.53,2,  -156.2,2,     3.0,   0.488,3, -999.00,9, -999.00,9, 3199.10,   0.6420
33RO20100308,      A13.5,      12,          1,          3,      11703,2,20100317,       0705,   -48.5007,     0.7618,       4071,  3500.3,   0.7346,  34.6998,2,  34.6996,2, 210.5000,2,   211.4,2,  120.59,6,   32.23,6,    0.00,6,    2.23,6,   0.324,6,   0.152,6,   0.0780,3,  2259.0,2,  2359.1,2,   1072.2,2,    20.00,   7.6053,2,    25.00,-999.000,9,-999.0000,9, -999.00,9,   0.7340,2,    0.50,2,  -159.0,2,     3.4,   0.540,3, -999.00,9, -999.00,9, 3500.30,   0.4877
33RO20100308,      A13.5,      12,          1,          2,      11702,2,20100317,       0705,   -48.5007,     0.7618,       4071,  3799.8,   0.6669,  34.6934,2,-999.0000,9, 212.0000,2,   210.8,6, -999.00,9, -999.00,9, -999.00,9, -999.00,9,   0.362,2,   0.168,2,   0.0390,2,  2259.8,2,  2358.7,2,   1083.3,2,    20.00,   7.6020,2,    25.00,-999.000,9,-999.0000,9, -999.00,9,   0.6663,2,    0.50,2,  -163.9,2,     2.7,   0.563,3, -999.00,9, -999.00,9, 3799.80,   0.3920
33RO20100308,      A13.5,      12,          1,          1,      11701,2,20100317,       0705,   -48.5007,     0.7618,       4071,  4131.4,   0.6493,  34.6900,2,  34.6905,2, 212.3000,2,   211.4,2,  124.26,2,   32.60,6,    0.01,6,    2.26,6,   0.386,2,   0.182,2,   0.0000,2,  2262.7,6,  2361.8,6,   1088.5,2,    20.00,   7.6012,2,    25.00,-999.000,9,-999.0000,9, -999.00,9,   0.6486,2,    0.44,2,  -156.7,2,     2.5,   0.586,3, -999.00,9, -999.00,9, 4131.40,   0.3407