BOTTLE,20130404CCHSIOCBG
EXPOCODE,SECT_ID,STNNBR,CASTNO,SAMPNO,BTLNBR,BTLNBR_FLAG_W,DATE,TIME,LATITUDE,LONGITUDE,DEPTH,CTDPRS,CTDTMP,CTDSAL,CTDSAL_FLAG_W,SALNTY,SALNTY_FLAG_W,CTDOXY,CTDOXY_FLAG_W,OXYGEN,OXYGEN_FLAG_W,SILCAT,SILCAT_FLAG_W,NITRAT,NITRAT_FLAG_W,NITRIT,NITRIT_FLAG_W,PHSPHT,PHSPHT_FLAG_W,CFC-11,CFC-11_FLAG_W,CFC-12,CFC-12_FLAG_W,SF6,SF6_FLAG_W,TCARBN,TCARBN_FLAG_W,ALKALI,ALKALI_FLAG_W,FCO2,FCO2_FLAG_W,FCO2TMP,PH_TOT,PH_TOT_FLAG_W,PH_TMP,TRITUM,TRITUM_FLAG_W,HELIUM,HELIUM_FLAG_W,DELHE3,DELHE3_FLAG_W,REFTMP,REFTMP_FLAG_W,DELC13,DELC13_FLAG_W,DELC14,DELC14_FLAG_W,C14ERR,CCL4,CCL4_FLAG_W,DOC,DOC_FLAG_W,TDN,TDN_FLAG_W,CTDRAW,THETA
,,,,,,,,,,,METERS,DBAR,ITS-90,PSS-78,,PSS-78,,UMOL/KG,,UMOL/KG,,UMOL/KG,,UMOL/KG,,UMOL/KG,,UMOL/KG,,PMOL/KG,,PMOL/KG,,FMOL/KG,,UMOL/KG,,UMOL/KG,,UATM,,DEG C,,,DEG C,TU,,NMOL/KG,,PERCNT,,DEG C,,/MILLE,,/MILLE,,/MILLE,PMOL/KG,,UMOL/KG,,UMOL/KG,,DBAR,DEG C
33RO20100308,      A13.5,      74,          1,         24,      11714,2,20100402,       2019,      -17.5,     1.1422,       4963,     5.1,  24.7709,  36.5833,2,  36.5839,2, 207.8000,2,   209.5,2,    0.51,2,    0.01,2,    0.00,2,    0.20,2,   1.762,6,   1.094,6,   1.1130,6,  2080.2,6,  2403.2,6,    327.8,2,    20.00,   8.0569,2,    25.00,-999.000,9,-999.0000,9, -999.00,9,-999.0000,9, -999.00,9,  -999.0,9,  -999.0,   2.106,3, -999.00,9, -999.00,9,    5.10,  24.7698
33RO20100308,      A13.5,      74,          1,         23,      11713,2,20100402,       2019,      -17.5,     1.1422,       4963,    40.5,  24.7762,  36.5832,2,  36.6132,2, 208.6000,2,   209.3,2,    0.58,2,    0.06,2,    0.00,2,    0.20,2,   1.758,2,   1.092,2,   1.0800,2,  2082.9,2,  2407.6,2,    328.1,2,    20.00,   8.0569,2,    25.00,-999.000,9,-999.0000,9, -999.00,9,-999.0000,9, -999.00,9,  -999.0,9,  -999.0,   2.089,3, -999.00,9, -999.00,9,   40.50,  24.7674
33RO20100308,      A13.5,      74,          1,         22,      11712,2,20100402,       2019,      -17.5,     1.1422,       4963,    74.8,  18.3541,  35.8296,2,  35.8314,2, 203.7000,2,   202.0,2,    1.78,2,    8.52,2,    0.52,2,    0.80,2,   2.382,2,   1.419,2,   1.3350,2,  2132.1,2,  2352.0,2,    523.7,6,    20.00,   7.8832,2,    25.00,-999.000,9,-999.0000,9, -999.00,9,-999.0000,9, -999.00,9,  -999.0,9,  -999.0,   1.234,3, -999.00,9, -999.00,9,   74.80,  18.3410
33RO20100308,      A13.5,      74,          1,         21,      11010,2,20100402,       2019,      -17.5,     1.1422,       4963,   100.5,  16.4230,  35.6493,2,  35.6398,2, 141.6000,2,   140.0,2,    3.84,2,   19.51,2,    0.10,2,    1.34,2,   2.444,2,   1.425,2,   1.2050,2,  2188.3,2,  2335.3,2,    796.2,2,    20.00,   7.7192,2,    25.00,-999.000,9,-999.0000,9, -999.00,9,-999.0000,9, -999.00,9,  -999.0,9,  -999.0,   0.868,3, -999.00,9, -999.00,9,  100.50,  16.4068
33RO20100308,      A13.5,      74,          1,         20,      11715,2,20100402,       2019,      -17.5,     1.1422,       4963,   150.5,  13.4783,  35.3038,2,  35.3014,2,  37.1000,2,    39.3,2,    8.83,2,   29.04,2,    0.01,2,    1.85,2,-999.000,5,-999.000,5,-999.0000,5,  2240.4,2,  2311.1,2,   1286.0,2,    20.00,   7.5289,2,    25.00,-999.000,9,-999.0000,9, -999.00,9,-999.0000,9, -999.00,9,  -999.0,9,  -999.0,-999.000,5, -999.00,9, -999.00,9,  150.50,  13.4571
33RO20100308,      A13.5,      74,          1,         19,      11007,2,20100402,       2019,      -17.5,     1.1422,       4963,   200.0,  11.8954,  35.0894,2,  35.0900,2,  71.0000,2,    76.2,2,    9.68,2,   27.41,2,    0.01,2,    1.77,2,   2.260,2,   1.215,2,   0.6330,2,  2217.1,2,  2306.9,2,   1157.2,2,    20.00,   7.5677,2,    25.00,-999.000,9,-999.0000,9, -999.00,9,-999.0000,9, -999.00,9,  -999.0,9,  -999.0,   0.487,3, -999.00,9, -999.00,9,  200.00,  11.8694
33RO20100308,      A13.5,      74,          1,         18,      11710,2,20100402,       2019,      -17.5,     1.1422,       4963,   250.1,  10.9869,  34.9942,2,  34.9958,2,  66.9000,2,    65.8,2,   11.41,2,   30.20,2,    0.00,2,    1.94,2,   1.852,2,   0.979,2,   0.4420,2,  2228.7,2,  2302.5,2,   1276.2,2,    20.00,   7.5310,2,    25.00,-999.000,9,-999.0000,9, -999.00,9,-999.0000,9, -999.00,9,  -999.0,9,  -999.0,   0.436,3, -999.00,9, -999.00,9,  250.10,  10.9560
33RO20100308,      A13.5,      74,          1,         17,      11025,2,20100402,       2019,      -17.5,     1.1422,       4963,   300.3,  10.1722,  34.9120,2,  34.9101,2,  53.9000,2,    51.6,6,   13.92,2,   33.40,2,    0.00,2,    2.14,2,   1.449,2,   0.759,2,   0.3320,2,  2242.2,2,  2301.7,2,   1432.9,2,    20.00,   7.4811,2,    25.00,-999.000,9,-999.0000,9, -999.00,9,-999.0000,9, -999.00,9,  -999.0,9,  -999.0,   0.417,3, -999.00,9, -999.00,9,  300.30,  10.1368
33RO20100308,      A13.5,      74,          1,         16,      11709,2,20100402,       2019,      -17.5,     1.1422,       4963,   350.4,   9.2611,  34.8264,2,  34.8269,2,  42.4000,2,    43.1,2,   16.21,2,   36.19,2,    0.00,2,    2.31,2,   0.975,2,   0.507,2,   0.2010,2,  2252.0,2,  2297.3,6,   1565.1,6,    20.00,   7.4428,2,    25.00,-999.000,9,-999.0000,9, -999.00,9,-999.0000,9, -999.00,9,  -999.0,9,  -999.0,   0.354,3, -999.00,9, -999.00,9,  350.40,   9.2221
33RO20100308,      A13.5,      74,          1,         15,      11006,2,20100402,       2019,      -17.5,     1.1422,       4963,   449.7,   7.9663,  34.7022,2,  34.7015,2,  52.7000,2,    50.6,2,   19.34,2,   38.43,2,    0.00,2,    2.46,2,   0.597,2,   0.304,2,   0.0970,2,  2253.6,6,  2296.3,2,   1638.6,2,    20.00,   7.4270,2,    25.00,-999.000,9,-999.0000,9, -999.00,9,-999.0000,9, -999.00,9,  -999.0,9,  -999.0,   0.330,3, -999.00,9, -999.00,9,  449.70,   7.9204
33RO20100308,      A13.5,      74,          1,         14,      11708,2,20100402,       2019,      -17.5,     1.1422,       4963,   600.1,   6.0158,  34.5371,2,  34.5383,2,  88.4000,2,    92.4,2,   25.31,2,   38.33,2,    0.00,2,    2.51,2,   0.262,2,   0.136,2,   0.0000,2,  2242.2,2,  2297.4,2,   1492.7,2,    20.00,   7.4643,2,    25.00,-999.000,9,-999.0000,9, -999.00,9,-999.0000,9, -999.00,9,  -999.0,9,  -999.0,   0.337,3, -999.00,9, -999.00,9,  600.10,   5.9628
33RO20100308,      A13.5,      74,          1,         13,      11031,2,20100402,       2019,      -17.5,     1.1422,       4963,   800.5,   4.7288,  34.4807,2,  34.4801,2, 126.1000,2,   126.3,2,   32.62,2,   37.17,2,    0.00,2,    2.49,2,   0.088,2,   0.047,2,   0.0000,2,  2236.3,2,  2301.7,2,   1350.2,2,    20.00,   7.5060,2,    25.00,-999.000,9,-999.0000,9, -999.00,9,-999.0000,9, -999.00,9,  -999.0,9,  -999.0,   0.226,3, -999.00,9, -999.00,9,  800.50,   4.6650
33RO20100308,      A13.5,      74,          1,         12,      11027,2,20100402,       2019,      -17.5,     1.1422,       4963,  1099.6,   3.8295,  34.5907,2,  34.5906,2, 159.6000,2,   158.9,2,   38.78,2,   33.55,2,    0.00,2,    2.28,2,-999.000,9,-999.000,9,-999.0000,9,  2228.9,2,  2313.8,2,   1174.2,2,    20.00,   7.5646,2,    25.00,-999.000,9,-999.0000,9, -999.00,9,-999.0000,9, -999.00,9,  -999.0,9,  -999.0,-999.000,9, -999.00,9, -999.00,9, 1099.60,   3.7468
33RO20100308,      A13.5,      74,          1,         11,      11707,2,20100402,       2019,      -17.5,     1.1422,       4963,  1399.8,   3.6648,  34.7875,2,  34.7889,2, 190.7000,2,   191.7,2,   33.57,2,   28.26,2,    0.00,2,    1.90,2,   0.002,2,   0.002,2,   0.0000,2,  2208.6,2,  2318.2,2,    978.9,2,    20.00,   7.6371,4,    25.00,-999.000,9,-999.0000,9, -999.00,9,-999.0000,9, -999.00,9,  -999.0,9,  -999.0,   0.020,3, -999.00,9, -999.00,9, 1399.80,   3.5576
33RO20100308,      A13.5,      74,          1,         10,      11003,2,20100402,       2019,      -17.5,     1.1422,       4963,  1700.4,   3.5306,  34.8846,2,  34.8855,2, 218.0000,2,   218.9,2,   29.20,2,   24.31,2,    0.00,2,    1.62,2,-999.000,5,-999.000,5,-999.0000,5,  2190.8,2,  2322.3,2,    859.5,2,    20.00,   7.6893,2,    25.00,-999.000,9,-999.0000,9, -999.00,9,-999.0000,9, -999.00,9,  -999.0,9,  -999.0,-999.000,5, -999.00,9, -999.00,9, 1700.40,   3.3980
33RO20100308,      A13.5,      74,          1,          9,      11706,2,20100402,       2019,      -17.5,     1.1422,       4963,  2000.5,   3.2557,  34.9077,2,  34.9092,2, 228.6000,2,   229.0,2,   31.30,2,   23.21,2,    0.00,2,    1.54,2,-999.000,9,-999.000,9,-999.0000,9,  2187.8,2,  2324.9,2,    825.9,2,    20.00,   7.7063,2,    25.00,-999.000,9,-999.0000,9, -999.00,9,-999.0000,9, -999.00,9,  -999.0,9,  -999.0,-999.000,9, -999.00,9, -999.00,9, 2000.50,   3.0994
33RO20100308,      A13.5,      74,          1,          8,      11033,2,20100402,       2019,      -17.5,     1.1422,       4963,  2299.8,   3.0204,  34.9103,2,  34.9109,2, 232.3000,2,   232.3,6,   34.84,2,   22.94,2,    0.00,2,    1.53,2,   0.001,2,   0.000,2,   0.0000,2,  2187.8,2,  2327.7,2,    807.6,2,    20.00,   7.7101,2,    25.00,-999.000,9,-999.0000,9, -999.00,9,-999.0000,9, -999.00,9,  -999.0,9,  -999.0,   0.013,3, -999.00,9, -999.00,9, 2299.80,   2.8396
33RO20100308,      A13.5,      74,          1,          7,      11705,2,20100402,       2019,      -17.5,     1.1422,       4963,  2600.9,   2.8002,  34.9052,2,  34.9057,2, 232.0000,2,   232.1,2,   39.65,2,   23.12,2,    0.00,2,    1.54,2,   0.001,6,   0.000,6,   0.0000,6,  2194.2,2,  2335.6,2,    809.9,2,    20.00,   7.7102,2,    25.00,-999.000,9,-999.0000,9, -999.00,9,-999.0000,9, -999.00,9,  -999.0,9,  -999.0,   0.012,3, -999.00,9, -999.00,9, 2600.90,   2.5942
33RO20100308,      A13.5,      74,          1,          6,      11029,2,20100402,       2019,      -17.5,     1.1422,       4963,  2999.9,   2.5747,  34.8971,2,  34.8977,2, 229.0000,2,   229.7,2,   46.28,2,   23.53,2,    0.00,2,    1.58,2,-999.000,9,-999.000,9,-999.0000,9,  2204.5,2,  2344.0,2,    819.8,2,    20.00,   7.7070,2,    25.00,-999.000,9,-999.0000,9, -999.00,9,-999.0000,9, -999.00,9,  -999.0,9,  -999.0,-999.000,9, -999.00,9, -999.00,9, 2999.90,   2.3333
33RO20100308,      A13.5,      74,          1,          5,      11704,2,20100402,       2019,      -17.5,     1.1422,       4963,  3400.6,   2.4560,  34.8916,2,  34.8913,2, 228.5000,2,   229.3,2,   49.97,6,   23.72,6,    0.00,6,    1.58,6,   0.005,2,   0.003,2,   0.0000,2,  2210.7,2,  2349.1,2,    817.9,2,    20.00,   7.7099,2,    25.00,-999.000,9,-999.0000,9, -999.00,9,-999.0000,9, -999.00,9,  -999.0,9,  -999.0,   0.005,3, -999.00,9, -999.00,9, 3400.60,   2.1754
33RO20100308,      A13.5,      74,          1,          4,      11030,2,20100402,       2019,      -17.5,     1.1422,       4963,  3799.8,   2.3921,  34.8898,2,  34.8889,2, 231.6000,2,   232.1,2,   50.95,6,   23.54,6,    0.00,6,    1.57,6,   0.001,2,   0.002,2,   0.0000,2,  2211.5,2,  2354.7,2,    805.6,2,    20.00,   7.7143,2,    25.00,-999.000,9,-999.0000,9, -999.00,9,-999.0000,9, -999.00,9,  -999.0,9,  -999.0,   0.013,3, -999.00,9, -999.00,9, 3799.80,   2.0695
33RO20100308,      A13.5,      74,          1,          3,      11703,2,20100402,       2019,      -17.5,     1.1422,       4963,  4200.6,   2.3868,  34.8874,2,  34.8877,2, 232.5000,2,   228.5,4,   51.68,6,   23.52,6,    0.00,6,    1.57,6,-999.000,9,-999.000,9,-999.0000,9,  2212.1,2,  2356.0,2,    803.0,2,    20.00,   7.7171,2,    25.00,-999.000,9,-999.0000,9, -999.00,9,-999.0000,9, -999.00,9,  -999.0,9,  -999.0,-999.000,9, -999.00,9, -999.00,9, 4200.60,   2.0185
33RO20100308,      A13.5,      74,          1,          2,      11702,2,20100402,       2019,      -17.5,     1.1422,       4963,  4599.4,   2.4008,  34.8850,2,  34.8883,2, 234.1000,2,   233.3,2,   52.22,6,   23.48,6,    0.00,6,    1.57,6,   0.003,2,   0.004,2,   0.0000,2,  2212.9,2,  2357.7,2,    802.1,2,    20.00,   7.7178,2,    25.00,-999.000,9,-999.0000,9, -999.00,9,-999.0000,9, -999.00,9,  -999.0,9,  -999.0,   0.021,3, -999.00,9, -999.00,9, 4599.40,   1.9845
33RO20100308,      A13.5,      74,          1,          1,      11701,2,20100402,       2019,      -17.5,     1.1422,       4963,  5031.3,   2.4171,  34.8809,2,  34.8842,2, 235.8000,2,   234.7,2,   52.70,6,   23.41,6,    0.00,6,    1.56,6,   0.004,2,   0.004,2,   0.0000,2,  2214.5,6,  2356.6,6,    800.5,2,    20.00,   7.7201,2,    25.00,-999.000,9,-999.0000,9, -999.00,9,-999.0000,9, -999.00,9,  -999.0,9,  -999.0,   0.051,3, -999.00,9, -999.00,9, 5031.30,   1.9465