BOTTLE,20130404CCHSIOCBG
EXPOCODE,SECT_ID,STNNBR,CASTNO,SAMPNO,BTLNBR,BTLNBR_FLAG_W,DATE,TIME,LATITUDE,LONGITUDE,DEPTH,CTDPRS,CTDTMP,CTDSAL,CTDSAL_FLAG_W,SALNTY,SALNTY_FLAG_W,CTDOXY,CTDOXY_FLAG_W,OXYGEN,OXYGEN_FLAG_W,SILCAT,SILCAT_FLAG_W,NITRAT,NITRAT_FLAG_W,NITRIT,NITRIT_FLAG_W,PHSPHT,PHSPHT_FLAG_W,CFC-11,CFC-11_FLAG_W,CFC-12,CFC-12_FLAG_W,SF6,SF6_FLAG_W,TCARBN,TCARBN_FLAG_W,ALKALI,ALKALI_FLAG_W,FCO2,FCO2_FLAG_W,FCO2TMP,PH_TOT,PH_TOT_FLAG_W,PH_TMP,TRITUM,TRITUM_FLAG_W,HELIUM,HELIUM_FLAG_W,DELHE3,DELHE3_FLAG_W,REFTMP,REFTMP_FLAG_W,DELC13,DELC13_FLAG_W,DELC14,DELC14_FLAG_W,C14ERR,CCL4,CCL4_FLAG_W,DOC,DOC_FLAG_W,TDN,TDN_FLAG_W,CTDRAW,THETA
,,,,,,,,,,,METERS,DBAR,ITS-90,PSS-78,,PSS-78,,UMOL/KG,,UMOL/KG,,UMOL/KG,,UMOL/KG,,UMOL/KG,,UMOL/KG,,PMOL/KG,,PMOL/KG,,FMOL/KG,,UMOL/KG,,UMOL/KG,,UATM,,DEG C,,,DEG C,TU,,NMOL/KG,,PERCNT,,DEG C,,/MILLE,,/MILLE,,/MILLE,PMOL/KG,,UMOL/KG,,UMOL/KG,,DBAR,DEG C
33RO20100308,      A13.5,      92,          1,         24,      11714,2,20100408,       2210,     -8.498,    -0.2857,       5083,     5.3,  28.5476,  35.8408,2,  35.8425,2, 196.6000,2,   197.7,2,    0.72,6,    0.05,6,    0.00,6,    0.08,6,   0.197,4,   0.119,4,   0.0360,4,  2018.4,6,  2357.9,2,    293.4,2,    20.00,   8.0906,2,    25.00,-999.000,9,-999.0000,9, -999.00,9,-999.0000,9, -999.00,9,  -999.0,9,  -999.0,   0.229,4, -999.00,9, -999.00,9,    5.30,  28.5463
33RO20100308,      A13.5,      92,          1,         23,      11716,2,20100408,       2210,     -8.498,    -0.2857,       5083,    60.3,  20.3152,  36.1035,2,  36.0857,2, 215.5000,4,   194.9,2,    2.50,2,    4.18,2,    0.09,2,    0.48,2,   2.011,2,   1.193,2,   0.8940,2,  2106.3,2,  2373.1,6,    424.0,2,    20.00,   7.9576,2,    25.00,-999.000,9,-999.0000,9, -999.00,9,-999.0000,9, -999.00,9,  -999.0,9,  -999.0,   0.782,3, -999.00,9, -999.00,9,   60.30,  20.3039
33RO20100308,      A13.5,      92,          1,         22,      11022,2,20100408,       2210,     -8.498,    -0.2857,       5083,   100.3,  14.3822,  35.4571,2,  35.4523,2,  87.8000,2,    87.0,6,    7.07,2,   22.65,2,    0.06,2,    1.49,2,   2.032,2,   1.131,2,   0.5940,2,  2198.7,2,  2321.8,6,    891.3,2,    20.00,   7.6692,2,    25.00,-999.000,9,-999.0000,9, -999.00,9,-999.0000,9, -999.00,9,  -999.0,9,  -999.0,   0.352,3, -999.00,9, -999.00,9,  100.30,  14.3674
33RO20100308,      A13.5,      92,          1,         21,      11010,2,20100408,       2210,     -8.498,    -0.2857,       5083,   200.9,  11.9916,  35.1562,2,  35.1545,2,  83.4000,2,    83.2,2,   10.16,2,   26.62,2,    0.01,2,    1.72,2,   1.745,6,   0.937,6,   0.3740,6,  2207.7,2,  2311.3,2,   1036.0,2,    20.00,   7.6115,2,    25.00,-999.000,9,-999.0000,9, -999.00,9,-999.0000,9, -999.00,9,  -999.0,9,  -999.0,   0.320,3, -999.00,9, -999.00,9,  200.90,  11.9654
33RO20100308,      A13.5,      92,          1,         20,      11715,2,20100408,       2210,     -8.498,    -0.2857,       5083,   300.6,  10.5406,  34.9841,2,  34.9827,2,  64.8000,2,    65.1,2,   12.88,2,   31.20,2,    0.00,2,    1.99,2,   1.242,2,   0.654,2,   0.2190,2,  2225.1,2,  2302.0,2,   1246.8,2,    20.00,   7.5392,2,    25.00,-999.000,9,-999.0000,9, -999.00,9,-999.0000,9, -999.00,9,  -999.0,9,  -999.0,   0.281,3, -999.00,9, -999.00,9,  300.60,  10.5044
33RO20100308,      A13.5,      92,          1,         19,      11007,2,20100408,       2210,     -8.498,    -0.2857,       5083,   400.5,   9.2906,  34.8510,2,  34.8525,2,  51.2000,2,    51.7,2,   15.82,2,   35.17,2,    0.00,2,    2.23,2,   0.673,2,   0.351,2,   0.0590,2,  2240.1,2,  2295.0,2,   1446.0,2,    20.00,   7.4781,2,    25.00,-999.000,9,-999.0000,9, -999.00,9,-999.0000,9, -999.00,9,  -999.0,9,  -999.0,   0.222,3, -999.00,9, -999.00,9,  400.50,   9.2458
33RO20100308,      A13.5,      92,          1,         18,      11710,2,20100408,       2210,     -8.498,    -0.2857,       5083,   500.3,   8.0112,  34.7271,2,  34.7250,2,  49.9000,2,    50.6,2,   19.29,2,   38.06,2,    0.00,2,    2.43,2,-999.000,5,-999.000,5,-999.0000,5,  2247.9,6,  2292.4,2,   1607.2,2,    20.00,   7.4420,2,    25.00,-999.000,9,-999.0000,9, -999.00,9,-999.0000,9, -999.00,9,  -999.0,9,  -999.0,-999.000,5, -999.00,9, -999.00,9,  500.30,   7.9597
33RO20100308,      A13.5,      92,          1,         17,      11025,2,20100408,       2210,     -8.498,    -0.2857,       5083,   601.5,   6.6612,  34.6111,2,  34.6116,2,  63.1000,2,    64.2,2,   23.33,2,   39.56,2,    0.00,2,    2.57,2,   0.104,2,   0.058,2,   0.0000,2,  2249.4,2,  2289.1,2,   1635.5,2,    20.00,   7.4342,2,    25.00,-999.000,9,-999.0000,9, -999.00,9,-999.0000,9, -999.00,9,  -999.0,9,  -999.0,   0.157,3, -999.00,9, -999.00,9,  601.50,   6.6051
33RO20100308,      A13.5,      92,          1,         16,      11709,2,20100408,       2210,     -8.498,    -0.2857,       5083,   700.2,   5.4868,  34.5265,2,  34.5274,2,  98.8000,2,    99.1,2,   27.67,2,   38.16,2,    0.00,2,    2.53,2,   0.061,2,   0.035,2,   0.0000,2,  2237.6,2,  2291.2,6,   1455.6,6,    20.00,   7.4768,2,    25.00,-999.000,9,-999.0000,9, -999.00,9,-999.0000,9, -999.00,9,  -999.0,9,  -999.0,   0.164,3, -999.00,9, -999.00,9,  700.20,   5.4273
33RO20100308,      A13.5,      92,          1,         15,      11006,2,20100408,       2210,     -8.498,    -0.2857,       5083,   799.8,   4.9207,  34.5047,2,  34.5037,2, 120.4000,2,   120.3,2,   30.71,2,   36.89,2,    0.00,2,    2.48,2,   0.046,2,   0.026,2,   0.0000,2,  2230.5,2,  2294.5,2,   1349.8,2,    20.00,   7.5075,2,    25.00,-999.000,9,-999.0000,9, -999.00,9,-999.0000,9, -999.00,9,  -999.0,9,  -999.0,   0.156,3, -999.00,9, -999.00,9,  799.80,   4.8557
33RO20100308,      A13.5,      92,          1,         14,      11708,2,20100408,       2210,     -8.498,    -0.2857,       5083,   900.6,   4.5326,  34.5181,2,  34.5185,2, 133.7000,2,   135.0,2,   32.98,2,   35.73,2,    0.00,2,    2.42,2,   0.027,2,   0.015,2,   0.0000,2,  2228.3,2,  2300.2,2,   1286.7,2,    20.00,   7.5281,2,    25.00,-999.000,9,-999.0000,9, -999.00,9,-999.0000,9, -999.00,9,  -999.0,9,  -999.0,   0.116,3, -999.00,9, -999.00,9,  900.60,   4.4614
33RO20100308,      A13.5,      92,          1,         13,      11031,2,20100408,       2210,     -8.498,    -0.2857,       5083,  1000.1,   4.3266,  34.5690,2,  34.5688,2, 143.4000,2,   143.9,2,   33.72,2,   34.46,2,    0.00,2,    2.35,2,   0.017,2,   0.011,2,   0.0000,2,  2225.8,2,  2302.7,2,   1234.6,2,    20.00,   7.5458,2,    25.00,-999.000,9,-999.0000,9, -999.00,9,-999.0000,9, -999.00,9,  -999.0,9,  -999.0,   0.075,3, -999.00,9, -999.00,9, 1000.10,   4.2483
33RO20100308,      A13.5,      92,          1,         12,      11027,2,20100408,       2210,     -8.498,    -0.2857,       5083,  1099.8,   4.1905,  34.6411,2,  34.6420,2, 154.6000,2,   155.2,2,   33.08,2,   32.57,2,    0.00,2,    2.22,2,   0.009,2,   0.005,2,   0.0000,2,  2221.7,2,  2304.8,2,   1161.1,2,    20.00,   7.5682,2,    25.00,-999.000,9,-999.0000,9, -999.00,9,-999.0000,9, -999.00,9,  -999.0,9,  -999.0,   0.047,3, -999.00,9, -999.00,9, 1099.80,   4.1046
33RO20100308,      A13.5,      92,          1,         11,      11707,2,20100408,       2210,     -8.498,    -0.2857,       5083,  1301.3,   4.0837,  34.7833,2,  34.7845,2, 180.2000,2,   180.2,2,   29.04,2,   28.47,2,    0.00,2,    1.94,2,   0.009,2,   0.006,2,   0.0000,2,  2204.9,2,  2309.5,2,   1009.0,2,    20.00,   7.6238,2,    25.00,-999.000,9,-999.0000,9, -999.00,9,-999.0000,9, -999.00,9,  -999.0,9,  -999.0,   0.049,3, -999.00,9, -999.00,9, 1301.30,   3.9809
33RO20100308,      A13.5,      92,          1,         10,      11003,2,20100408,       2210,     -8.498,    -0.2857,       5083,  1500.1,   3.9343,  34.8900,2,  34.8899,2, 209.3000,2,   208.8,2,   25.07,2,   24.53,2,    0.00,2,    1.66,2,   0.014,2,   0.008,2,   0.0000,2,  2188.3,2,  2313.8,2,    882.7,2,    20.00,-999.0000,5,  -999.00,-999.000,9,-999.0000,9, -999.00,9,-999.0000,9, -999.00,9,  -999.0,9,  -999.0,   0.091,3, -999.00,9, -999.00,9, 1500.10,   3.8150
33RO20100308,      A13.5,      92,          1,          9,      11706,2,20100408,       2210,     -8.498,    -0.2857,       5083,  1800.6,   3.6351,  34.9337,2,  34.9332,2, 227.9000,2,   227.5,2,   25.08,2,   22.29,2,    0.00,2,    1.50,2,   0.013,2,   0.009,2,   0.0000,2,  2179.4,2,  2317.1,2,    819.5,2,    20.00,   7.7073,2,    25.00,-999.000,9,-999.0000,9, -999.00,9,-999.0000,9, -999.00,9,  -999.0,9,  -999.0,   0.097,3, -999.00,9, -999.00,9, 1800.60,   3.4919
33RO20100308,      A13.5,      92,          1,          8,      11033,2,20100408,       2210,     -8.498,    -0.2857,       5083,  2200.6,   3.1832,  34.9301,2,  34.9302,2, 233.0000,2,   232.3,2,   31.48,2,   22.08,2,    0.00,2,    1.49,2,-999.000,9,-999.000,9,-999.0000,9,  2183.5,2,  2323.0,2,    811.2,2,    20.00,   7.7125,2,    25.00,-999.000,9,-999.0000,9, -999.00,9,-999.0000,9, -999.00,9,  -999.0,9,  -999.0,-999.000,9, -999.00,9, -999.00,9, 2200.60,   3.0091
33RO20100308,      A13.5,      92,          1,          7,      11705,2,20100408,       2210,     -8.498,    -0.2857,       5083,  2600.0,   2.8342,  34.9172,2,  34.9179,2, 232.7000,2,   232.6,2,   38.41,6,   22.42,6,    0.00,6,    1.51,6,   0.003,2,   0.002,2,   0.0000,2,  2190.9,2,  2331.0,2,    804.5,2,    20.00,   7.7131,2,    25.00,-999.000,9,-999.0000,9, -999.00,9,-999.0000,9, -999.00,9,  -999.0,9,  -999.0,   0.016,3, -999.00,9, -999.00,9, 2600.00,   2.6276
33RO20100308,      A13.5,      92,          1,          6,      11029,2,20100408,       2210,     -8.498,    -0.2857,       5083,  2999.5,   2.6212,  34.9039,2,  34.9044,2, 235.9000,2,   236.2,2,   43.02,6,   22.52,6,    0.00,6,    1.52,6,-999.000,9,-999.000,9,-999.0000,9,  2194.6,2,  2338.8,2,    798.5,2,    20.00,   7.7179,2,    25.00,-999.000,9,-999.0000,9, -999.00,9,-999.0000,9, -999.00,9,  -999.0,9,  -999.0,-999.000,9, -999.00,9, -999.00,9, 2999.50,   2.3788
33RO20100308,      A13.5,      92,          1,          5,      11704,2,20100408,       2210,     -8.498,    -0.2857,       5083,  3400.0,   2.4720,  34.8944,2,  34.8942,2, 235.6000,2,   234.9,2,   47.08,6,   22.84,6,    0.00,6,    1.54,6,   0.004,2,   0.003,2,   0.0000,2,  2199.3,2,  2343.8,2,    797.3,2,    20.00,   7.7174,2,    25.00,-999.000,9,-999.0000,9, -999.00,9,-999.0000,9, -999.00,9,  -999.0,9,  -999.0,   0.027,3, -999.00,9, -999.00,9, 3400.00,   2.1911
33RO20100308,      A13.5,      92,          1,          4,      11030,2,20100408,       2210,     -8.498,    -0.2857,       5083,  3798.6,   2.3922,  34.8885,2,  34.8883,2, 234.5000,2,   233.9,2,   50.19,6,   23.05,6,    0.00,6,    1.55,6,-999.000,9,-999.000,9,-999.0000,9,  2204.8,2,  2347.3,2,    802.5,2,    20.00,   7.7119,2,    25.00,-999.000,9,-999.0000,9, -999.00,9,-999.0000,9, -999.00,9,  -999.0,9,  -999.0,-999.000,9, -999.00,9, -999.00,9, 3798.60,   2.0697
33RO20100308,      A13.5,      92,          1,          3,      11703,2,20100408,       2210,     -8.498,    -0.2857,       5083,  4200.9,   2.3528,  34.8827,2,  34.8821,2, 236.0000,2,   235.5,6,   51.54,6,   23.08,6,    0.00,6,    1.56,6,   0.008,2,   0.007,2,   0.0000,2,  2205.4,2,  2351.7,2,    801.3,2,    20.00,   7.7172,2,    25.00,-999.000,9,-999.0000,9, -999.00,9,-999.0000,9, -999.00,9,  -999.0,9,  -999.0,   0.055,3, -999.00,9, -999.00,9, 4200.90,   1.9855
33RO20100308,      A13.5,      92,          1,          2,      11702,2,20100408,       2210,     -8.498,    -0.2857,       5083,  4602.0,   2.3635,  34.8800,2,  34.8799,2, 235.0000,2,   235.8,2,   52.53,6,   23.14,6,    0.00,6,    1.56,6,-999.000,9,-999.000,9,-999.0000,9,  2207.6,2,  2352.0,2,    802.6,6,    20.00,   7.7177,2,    25.00,-999.000,9,-999.0000,9, -999.00,9,-999.0000,9, -999.00,9,  -999.0,9,  -999.0,-999.000,9, -999.00,9, -999.00,9, 4602.00,   1.9481
33RO20100308,      A13.5,      92,          1,          1,      11701,2,20100408,       2210,     -8.498,    -0.2857,       5083,  5152.5,   2.3966,  34.8763,2,  34.8764,2, 237.7000,2,   236.5,2,   53.01,6,   23.14,6,    0.00,6,    1.56,6,   0.015,2,   0.011,2,   0.0000,2,  2208.7,6,  2351.7,2,    802.6,2,    20.00,   7.7182,2,    25.00,-999.000,9,-999.0000,9, -999.00,9,-999.0000,9, -999.00,9,  -999.0,9,  -999.0,   0.089,3, -999.00,9, -999.00,9, 5152.50,   1.9113