BOTTLE,20130404CCHSIOCBG
EXPOCODE,SECT_ID,STNNBR,CASTNO,SAMPNO,BTLNBR,BTLNBR_FLAG_W,DATE,TIME,LATITUDE,LONGITUDE,DEPTH,CTDPRS,CTDTMP,CTDSAL,CTDSAL_FLAG_W,SALNTY,SALNTY_FLAG_W,CTDOXY,CTDOXY_FLAG_W,OXYGEN,OXYGEN_FLAG_W,SILCAT,SILCAT_FLAG_W,NITRAT,NITRAT_FLAG_W,NITRIT,NITRIT_FLAG_W,PHSPHT,PHSPHT_FLAG_W,CFC-11,CFC-11_FLAG_W,CFC-12,CFC-12_FLAG_W,SF6,SF6_FLAG_W,TCARBN,TCARBN_FLAG_W,ALKALI,ALKALI_FLAG_W,FCO2,FCO2_FLAG_W,FCO2TMP,PH_TOT,PH_TOT_FLAG_W,PH_TMP,TRITUM,TRITUM_FLAG_W,HELIUM,HELIUM_FLAG_W,DELHE3,DELHE3_FLAG_W,REFTMP,REFTMP_FLAG_W,DELC13,DELC13_FLAG_W,DELC14,DELC14_FLAG_W,C14ERR,CCL4,CCL4_FLAG_W,DOC,DOC_FLAG_W,TDN,TDN_FLAG_W,CTDRAW,THETA
,,,,,,,,,,,METERS,DBAR,ITS-90,PSS-78,,PSS-78,,UMOL/KG,,UMOL/KG,,UMOL/KG,,UMOL/KG,,UMOL/KG,,UMOL/KG,,PMOL/KG,,PMOL/KG,,FMOL/KG,,UMOL/KG,,UMOL/KG,,UATM,,DEG C,,,DEG C,TU,,NMOL/KG,,PERCNT,,DEG C,,/MILLE,,/MILLE,,/MILLE,PMOL/KG,,UMOL/KG,,UMOL/KG,,DBAR,DEG C
33RO20100308,      A13.5,      30,          1,         24,      11714,2,20100321,       1555,      -39.5,      0.979,       5092,     6.0,  15.8409,  34.6488,2,  34.6480,2, 258.7000,2,   258.1,2,    0.65,2,    0.96,2,    0.05,2,    0.30,2,   2.732,6,   1.637,6,   1.5280,6,  2050.4,6,  2300.1,2,    416.6,2,    20.00,   7.9653,2,    25.00,-999.000,9,-999.0000,9, -999.00,9,  15.8437,2, -999.00,9,  -999.0,9,  -999.0,   2.870,3, -999.00,9, -999.00,9,    6.00,  15.8400
33RO20100308,      A13.5,      30,          1,         23,      11713,2,20100321,       1555,      -39.5,      0.979,       5092,    50.2,  14.5477,  34.6206,2,  34.6166,2, 250.1000,2,   249.4,6,    0.72,2,    2.68,2,    0.22,2,    0.47,2,   2.859,2,   1.702,2,   1.5520,2,  2071.0,2,  2296.7,2,    466.9,6,    20.00,   7.9207,2,    25.00,-999.000,9,-999.0000,9, -999.00,9,  14.5476,2, -999.00,9,  -999.0,9,  -999.0,   2.816,3, -999.00,9, -999.00,9,   50.20,  14.5403
33RO20100308,      A13.5,      30,          1,         22,      11712,2,20100321,       1555,      -39.5,      0.979,       5092,   100.9,  11.8176,  34.8407,2,  34.8473,2, 249.1000,2,   249.1,2,    2.05,2,    7.88,2,    0.01,2,    0.70,2,   3.160,2,   1.862,2,   1.6510,2,  2100.9,2,  2302.6,2,    537.8,2,    20.00,   7.8666,2,    25.00,-999.000,9,-999.0000,9, -999.00,9,  11.8180,2, -999.00,9,  -999.0,9,  -999.0,   2.143,3, -999.00,9, -999.00,9,  100.90,  11.8046
33RO20100308,      A13.5,      30,          1,         21,      11010,2,20100321,       1555,      -39.5,      0.979,       5092,   150.2,  11.7744,  34.9168,2,  34.9045,2, 247.3000,2,   247.6,2,    2.51,2,    8.39,2,    0.02,2,    0.72,2,   3.143,2,   1.852,2,   1.6160,2,  2104.5,2,  2304.6,2,    551.8,2,    20.00,   7.8637,2,    25.00,-999.000,9,-999.0000,9, -999.00,9,  11.7782,2, -999.00,9,  -999.0,9,  -999.0,   1.942,3, -999.00,9, -999.00,9,  150.20,  11.7551
33RO20100308,      A13.5,      30,          1,         20,      11715,2,20100321,       1555,      -39.5,      0.979,       5092,   300.9,   9.3243,  34.6758,2,  34.6744,2, 222.6000,2,   225.0,2,    6.27,2,   17.11,2,    0.01,2,    1.23,2,   3.364,2,   1.889,2,   1.3070,2,  2138.1,2,  2294.2,2,    704.3,2,    20.00,   7.7614,2,    25.00,-999.000,9,-999.0000,9, -999.00,9,   9.3233,2, -999.00,9,  -999.0,9,  -999.0,   2.039,3, -999.00,9, -999.00,9,  300.90,   9.2908
33RO20100308,      A13.5,      30,          1,         19,      11007,2,20100321,       1555,      -39.5,      0.979,       5092,   450.0,   6.8521,  34.4127,2,  34.4137,2, 228.1000,2,   225.1,2,   10.82,2,   23.62,2,    0.00,2,    1.65,2,   3.551,2,   1.921,2,   1.1500,2,  2156.6,2,  2285.1,2,    839.2,2,    20.00,   7.6938,2,    25.00,-999.000,9,-999.0000,9, -999.00,9,   6.8517,2, -999.00,9,  -999.0,9,  -999.0,   2.827,3, -999.00,9, -999.00,9,  450.00,   6.8101
33RO20100308,      A13.5,      30,          1,         18,      11710,2,20100321,       1555,      -39.5,      0.979,       5092,   594.7,   4.8693,  34.2395,2,  34.2389,2, 239.9000,2,   239.8,2,   15.77,2,   27.38,2,    0.00,2,    1.90,2,-999.000,9,-999.000,9,-999.0000,9,  2166.8,2,  2281.9,2,    905.0,2,    20.00,   7.6623,2,    25.00,-999.000,9,-999.0000,9, -999.00,9,   4.8696,2, -999.00,9,  -999.0,9,  -999.0,-999.000,9, -999.00,9, -999.00,9,  594.70,   4.8224
33RO20100308,      A13.5,      30,          1,         17,      11025,2,20100321,       1555,      -39.5,      0.979,       5092,   601.0,   4.8249,  34.2369,2,  34.2367,2, 240.2000,2,   240.0,2,   15.98,6,   27.43,6,    0.00,6,    1.90,6,   3.714,2,   1.959,2,   1.0220,2,  2166.3,2,  2282.3,2,    909.5,2,    20.00,   7.6626,2,    25.00,-999.000,9,-999.0000,9, -999.00,9,   4.8247,2, -999.00,9,  -999.0,9,  -999.0,   3.537,3, -999.00,9, -999.00,9,  601.00,   4.7776
33RO20100308,      A13.5,      30,          1,         16,      11709,2,20100321,       1555,      -39.5,      0.979,       5092,   800.6,   3.6292,  34.2584,2,  34.2595,2, 224.2000,2,   226.2,2,   30.40,2,   30.48,2,    0.00,2,    2.13,2,-999.000,9,-999.000,9,-999.0000,9,  2190.9,2,  2292.3,2,    997.8,2,    20.00,   7.6261,2,    25.00,-999.000,9,-999.0000,9, -999.00,9,   3.6306,2, -999.00,9,  -999.0,9,  -999.0,-999.000,9, -999.00,9, -999.00,9,  800.60,   3.5725
33RO20100308,      A13.5,      30,          1,         15,      11006,2,20100321,       1555,      -39.5,      0.979,       5092,  1000.4,   3.1296,  34.3577,2,  34.3581,2, 202.0000,2,   201.2,2,   46.03,2,   32.59,2,    0.00,2,    2.28,2,   1.706,2,   0.831,2,   0.3640,2,  2216.3,2,  2307.8,2,   1097.0,2,    20.00,   7.5905,2,    25.00,-999.000,9,-999.0000,9, -999.00,9,   3.1289,2, -999.00,9,  -999.0,9,  -999.0,   2.039,3, -999.00,9, -999.00,9, 1000.40,   3.0609
33RO20100308,      A13.5,      30,          1,         14,      11708,2,20100321,       1555,      -39.5,      0.979,       5092,  1199.7,   2.9474,  34.4701,2,  34.4696,2, 185.1000,2,   183.7,2,   57.74,2,   33.34,2,    0.00,2,    2.34,2,-999.000,9,-999.000,9,-999.0000,9,  2234.1,2,  2321.7,2,   1142.9,2,    20.00,   7.5789,4,    25.00,-999.000,9,-999.0000,9, -999.00,9,   2.9469,2, -999.00,9,  -999.0,9,  -999.0,-999.000,9, -999.00,9, -999.00,9, 1199.70,   2.8646
33RO20100308,      A13.5,      30,          1,         13,      11031,2,20100321,       1555,      -39.5,      0.979,       5092,  1399.6,   2.8060,  34.5841,2,  34.5843,2, 179.0000,2,   178.1,2,   64.54,2,   32.66,2,    0.00,2,    2.29,2,   0.394,2,   0.193,2,   0.0530,2,  2240.6,6,  2331.1,6,   1132.5,2,    20.00,   7.5799,2,    25.00,-999.000,9,-999.0000,9, -999.00,9,   2.8056,2, -999.00,9,  -999.0,9,  -999.0,   0.649,3, -999.00,9, -999.00,9, 1399.60,   2.7085
33RO20100308,      A13.5,      30,          1,         12,      11027,2,20100321,       1555,      -39.5,      0.979,       5092,  1599.2,   2.7465,  34.6693,2,  34.6689,2, 183.6000,2,   182.4,2,   65.50,2,   31.32,2,    0.00,2,    2.18,2,-999.000,9,-999.000,9,-999.0000,9,  2239.0,2,  2336.0,2,   1081.8,2,    20.00,   7.5977,2,    25.00,-999.000,9,-999.0000,9, -999.00,9,   2.7459,2, -999.00,9,  -999.0,9,  -999.0,-999.000,9, -999.00,9, -999.00,9, 1599.20,   2.6331
33RO20100308,      A13.5,      30,          1,         11,      11707,2,20100321,       1555,      -39.5,      0.979,       5092,  1900.0,   2.7303,  34.7729,2,  34.7721,2, 201.7000,2,   200.4,2,   58.75,2,   28.11,2,    0.00,2,    1.95,2,   0.069,2,   0.034,2,   0.0200,2,  2223.7,2,  2335.8,2,    973.5,2,    20.00,   7.6417,2,    25.00,-999.000,9,-999.0000,9, -999.00,9,   2.7298,2, -999.00,9,  -999.0,9,  -999.0,   0.167,3, -999.00,9, -999.00,9, 1900.00,   2.5912
33RO20100308,      A13.5,      30,          1,         10,      11003,2,20100321,       1555,      -39.5,      0.979,       5092,  2198.2,   2.6403,  34.8179,2,  34.8176,2, 214.6000,2,   213.6,2,   55.56,2,   26.41,2,    0.00,2,    1.83,2,-999.000,9,-999.000,9,-999.0000,9,  2214.0,2,  2336.0,2,    913.9,2,    20.00,   7.6673,2,    25.00,-999.000,9,-999.0000,9, -999.00,9,   2.6403,2, -999.00,9,  -999.0,9,  -999.0,-999.000,9, -999.00,9, -999.00,9, 2198.20,   2.4757
33RO20100308,      A13.5,      30,          1,          9,      11706,2,20100321,       1555,      -39.5,      0.979,       5092,  2500.1,   2.4914,  34.8336,2,  34.8334,2, 221.8000,2,   220.2,2,   56.80,2,   25.70,2,    0.00,2,    1.77,2,   0.023,2,   0.010,2,   0.0000,2,  2211.0,2,  2338.6,2,    891.3,2,    20.00,   7.6780,2,    25.00,-999.000,9,-999.0000,9, -999.00,9,   2.4909,2, -999.00,9,  -999.0,9,  -999.0,   0.071,3, -999.00,9, -999.00,9, 2500.10,   2.3012
33RO20100308,      A13.5,      30,          1,          8,      11033,2,20100321,       1555,      -39.5,      0.979,       5092,  2800.8,   2.3732,  34.8404,2,  34.8406,2, 225.1000,2,   224.2,2,   58.40,2,   25.40,2,    0.00,2,    1.75,2,-999.000,9,-999.000,9,-999.0000,9,  2211.2,2,  2341.1,2,    876.1,2,    20.00,   7.6872,2,    25.00,-999.000,9,-999.0000,9, -999.00,9,   2.3729,2, -999.00,9,  -999.0,9,  -999.0,-999.000,9, -999.00,9, -999.00,9, 2800.80,   2.1563
33RO20100308,      A13.5,      30,          1,          7,      11705,2,20100321,       1555,      -39.5,      0.979,       5092,  3100.7,   2.2549,  34.8406,2,  34.8445,2, 226.8000,2,   226.2,2,   61.27,2,   25.42,2,    0.00,2,    1.75,2,   0.016,2,   0.008,2,   0.0000,2,  2214.3,2,  2345.2,2,    863.1,6,    20.00,   7.6898,2,    25.00,-999.000,9,-999.0000,9, -999.00,9,   2.2546,2, -999.00,9,  -999.0,9,  -999.0,   0.058,3, -999.00,9, -999.00,9, 3100.70,   2.0106
33RO20100308,      A13.5,      30,          1,          6,      11029,2,20100321,       1555,      -39.5,      0.979,       5092,  3400.5,   2.0661,  34.8280,2,  34.8282,2, 225.3000,2,   225.5,2,   67.99,2,   25.98,2,    0.00,2,    1.79,2,-999.000,9,-999.000,9,-999.0000,9,  2220.5,2,  2350.1,2,    874.6,2,    20.00,   7.6846,2,    25.00,-999.000,9,-999.0000,9, -999.00,9,   2.0659,2, -999.00,9,  -999.0,9,  -999.0,-999.000,9, -999.00,9, -999.00,9, 3400.50,   1.7953
33RO20100308,      A13.5,      30,          1,          5,      11704,2,20100321,       1555,      -39.5,      0.979,       5092,  3600.5,   1.8595,  34.8086,2,  34.8078,2, 222.9000,2,   222.9,2,   76.61,6,   26.98,6,    0.00,6,    1.88,6,   0.027,2,   0.014,2,   0.0000,2,  2228.5,2,  2353.5,2,    895.9,2,    20.00,   7.6747,2,    25.00,-999.000,9,-999.0000,9, -999.00,9,   1.8612,2, -999.00,9,  -999.0,9,  -999.0,   0.147,3, -999.00,9, -999.00,9, 3600.50,   1.5730
33RO20100308,      A13.5,      30,          1,          4,      11030,2,20100321,       1555,      -39.5,      0.979,       5092,  3999.6,   1.3855,  34.7632,2,  34.7619,2, 219.0000,2,   218.3,2,   95.64,6,   29.17,6,    0.00,6,    2.03,6,-999.000,9,-999.000,9,-999.0000,9,  2243.5,2,  2360.2,2,    954.4,2,    20.00,   7.6528,2,    25.00,-999.000,9,-999.0000,9, -999.00,9,   1.3850,2, -999.00,9,  -999.0,9,  -999.0,-999.000,9, -999.00,9, -999.00,9, 3999.60,   1.0693
33RO20100308,      A13.5,      30,          1,          3,      11703,2,20100321,       1555,      -39.5,      0.979,       5092,  4399.6,   1.1569,  34.7412,2,  34.7407,2, 217.7000,2,   217.4,2,  105.14,6,   30.25,6,    0.00,6,    2.11,6,   0.072,2,   0.036,2,   0.0530,2,  2251.3,2,  2365.3,2,    972.0,2,    20.00,   7.6411,2,    25.00,-999.000,9,-999.0000,9, -999.00,9,   1.1565,2, -999.00,9,  -999.0,9,  -999.0,   0.184,3, -999.00,9, -999.00,9, 4399.60,   0.8035
33RO20100308,      A13.5,      30,          1,          2,      11702,2,20100321,       1555,      -39.5,      0.979,       5092,  4799.4,   1.1228,  34.7340,2,  34.7332,2, 217.6000,2,   216.8,6,  108.18,6,   30.56,6,    0.00,6,    2.13,6,   0.082,2,   0.039,2,   0.0000,2,  2252.5,2,  2368.2,2,    986.4,2,    20.00,   7.6384,2,    25.00,-999.000,9,-999.0000,9, -999.00,9,   1.1223,2, -999.00,9,  -999.0,9,  -999.0,   0.205,3, -999.00,9, -999.00,9, 4799.40,   0.7247
33RO20100308,      A13.5,      30,          1,          1,      11701,2,20100321,       1555,      -39.5,      0.979,       5092,  5171.8,   1.1477,  34.7309,2,  34.7316,2, 217.5000,2,   216.1,2,  109.17,6,   30.63,6,    0.00,6,    2.14,6,   0.104,2,   0.050,2,   0.0000,2,  2255.1,6,  2367.1,6,    992.9,2,    20.00,   7.6378,2,    25.00,-999.000,9,-999.0000,9, -999.00,9,   1.1468,2, -999.00,9,  -999.0,9,  -999.0,   0.234,3, -999.00,9, -999.00,9, 5171.80,   0.7042