BOTTLE,20130404CCHSIOCBG
EXPOCODE,SECT_ID,STNNBR,CASTNO,SAMPNO,BTLNBR,BTLNBR_FLAG_W,DATE,TIME,LATITUDE,LONGITUDE,DEPTH,CTDPRS,CTDTMP,CTDSAL,CTDSAL_FLAG_W,SALNTY,SALNTY_FLAG_W,CTDOXY,CTDOXY_FLAG_W,OXYGEN,OXYGEN_FLAG_W,SILCAT,SILCAT_FLAG_W,NITRAT,NITRAT_FLAG_W,NITRIT,NITRIT_FLAG_W,PHSPHT,PHSPHT_FLAG_W,CFC-11,CFC-11_FLAG_W,CFC-12,CFC-12_FLAG_W,SF6,SF6_FLAG_W,TCARBN,TCARBN_FLAG_W,ALKALI,ALKALI_FLAG_W,FCO2,FCO2_FLAG_W,FCO2TMP,PH_TOT,PH_TOT_FLAG_W,PH_TMP,TRITUM,TRITUM_FLAG_W,HELIUM,HELIUM_FLAG_W,DELHE3,DELHE3_FLAG_W,REFTMP,REFTMP_FLAG_W,DELC13,DELC13_FLAG_W,DELC14,DELC14_FLAG_W,C14ERR,CCL4,CCL4_FLAG_W,DOC,DOC_FLAG_W,TDN,TDN_FLAG_W,CTDRAW,THETA
,,,,,,,,,,,METERS,DBAR,ITS-90,PSS-78,,PSS-78,,UMOL/KG,,UMOL/KG,,UMOL/KG,,UMOL/KG,,UMOL/KG,,UMOL/KG,,PMOL/KG,,PMOL/KG,,FMOL/KG,,UMOL/KG,,UMOL/KG,,UATM,,DEG C,,,DEG C,TU,,NMOL/KG,,PERCNT,,DEG C,,/MILLE,,/MILLE,,/MILLE,PMOL/KG,,UMOL/KG,,UMOL/KG,,DBAR,DEG C
33RO20100308,      A13.5,       5,          1,         24,      11714,2,20100315,       1327,   -52.0087,      0.338,       3071,     4.9,   3.2675,  33.6923,2,  33.6922,2, 326.0000,2,   325.8,2,    7.68,2,   21.97,2,    0.28,2,    1.39,2,   5.327,2,   2.896,2,   2.5370,2,  2132.7,6,  2282.2,6,    717.8,2,    20.00,   7.7534,2,    25.00,-999.000,9,-999.0000,9, -999.00,9,   3.2663,2, -999.00,9,  -999.0,9,  -999.0,   6.733,3,   45.42,2,   26.23,2,    4.90,   3.2672
33RO20100308,      A13.5,       5,          1,         23,      11713,2,20100315,       1327,   -52.0087,      0.338,       3071,    19.8,   3.2671,  33.6926,2,  33.6923,2, 326.7000,2,   325.9,2,    7.69,2,   21.94,2,    0.29,2,    1.39,2,   5.366,2,   2.894,2,   2.5640,2,  2132.8,2,  2276.1,2,    709.6,2,    20.00,   7.7525,2,    25.00,-999.000,9,-999.0000,9, -999.00,9,   3.2662,2, -999.00,9,  -999.0,9,  -999.0,   6.827,3,   45.31,2,   24.34,2,   19.80,   3.2659
33RO20100308,      A13.5,       5,          1,         22,      11712,2,20100315,       1327,   -52.0087,      0.338,       3071,    60.5,   3.2608,  33.6925,2,  33.6907,2, 326.0000,2,   325.1,2,    7.65,2,   22.02,2,    0.28,2,    1.41,2,   5.333,2,   2.900,6,   2.5140,6,  2133.1,2,  2275.7,2,    725.9,2,    20.00,   7.7526,2,    25.00,-999.000,9,-999.0000,9, -999.00,9,   3.2594,2, -999.00,9,  -999.0,9,  -999.0,   6.588,3,   42.83,2,   24.46,2,   60.50,   3.2571
33RO20100308,      A13.5,       5,          1,         21,      11010,2,20100315,       1327,   -52.0087,      0.338,       3071,   114.6,   1.3959,  33.8441,2,  33.8471,2, 311.6000,2,   311.5,2,   29.04,2,   26.49,2,    0.17,2,    1.94,2,   5.510,2,   2.947,2,   2.5180,2,  2168.6,2,  2283.0,2,    894.3,2,    20.00,   7.6654,2,    25.00,-999.000,9,-999.0000,9, -999.00,9,   1.3892,2, -999.00,9,  -999.0,9,  -999.0,   6.725,3,   41.34,2,   29.04,2,  114.60,   1.3906
33RO20100308,      A13.5,       5,          1,         20,      11715,2,20100315,       1327,   -52.0087,      0.338,       3071,   145.8,   0.5574,  34.0262,2,  34.0258,2, 279.9000,2,   280.8,2,   50.19,2,   30.90,2,    0.03,2,    2.16,2,   4.751,2,   2.478,2,   2.0920,2,  2199.9,2,  2293.8,2,   1049.4,6,    20.00,   7.6046,2,    25.00,-999.000,9,-999.0000,9, -999.00,9,   0.5561,2, -999.00,9,  -999.0,9,  -999.0,   5.803,3,   40.80,2,   32.93,2,  145.80,   0.5516
33RO20100308,      A13.5,       5,          1,         19,      11007,2,20100315,       1327,   -52.0087,      0.338,       3071,   174.8,   0.7233,  34.1517,2,  34.1506,2, 254.4000,2,   254.6,6,   57.58,2,   32.40,2,    0.02,2,    2.27,2,   3.981,2,   2.080,2,   1.5970,2,  2215.4,2,  2302.0,2,   1131.8,2,    20.00,   7.5782,2,    25.00,-999.000,9,-999.0000,9, -999.00,9,   0.7221,2, -999.00,9,  -999.0,9,  -999.0,   4.762,3,   40.06,2,   34.15,2,  174.80,   0.7160
33RO20100308,      A13.5,       5,          1,         18,      11710,2,20100315,       1327,   -52.0087,      0.338,       3071,   211.3,   1.0520,  34.2886,2,  34.2803,2, 225.6000,2,   226.7,2,   65.59,2,   33.75,2,    0.01,2,    2.37,2,   3.162,2,   1.615,2,   1.1900,2,  2230.9,2,  2311.3,2,   1205.0,2,    20.00,   7.5549,2,    25.00,-999.000,9,-999.0000,9, -999.00,9,   1.0438,2, -999.00,9,  -999.0,9,  -999.0,   3.730,3,   39.61,2,   35.64,2,  211.30,   1.0424
33RO20100308,      A13.5,       5,          1,         17,      11023,2,20100315,       1327,   -52.0087,      0.338,       3071,   240.2,   1.4385,  34.4008,2,  34.3993,2, 203.5000,2,   200.0,2,   72.08,2,   34.82,2,    0.01,2,    2.43,2,   2.039,3,   1.142,2,   0.8220,2,  2243.9,2,  2317.5,2,   1260.7,2,    20.00,   7.5372,2,    25.00,-999.000,9,-999.0000,9, -999.00,9,   1.4392,2, -999.00,9,  -999.0,9,  -999.0,   1.587,3,   39.75,2,   37.05,2,  240.20,   1.4268
33RO20100308,      A13.5,       5,          1,         16,      11709,2,20100315,       1327,   -52.0087,      0.338,       3071,   300.0,   1.7684,  34.5060,2,  34.5025,2, 180.5000,2,   180.3,2,   78.30,2,   35.20,2,    0.01,2,    2.46,2,-999.000,5,-999.000,5,-999.0000,5,  2253.7,2,  2326.4,2,   1286.8,2,    20.00,   7.5297,2,    25.00,-999.000,9,-999.0000,9, -999.00,9,   1.7656,2, -999.00,9,  -999.0,9,  -999.0,-999.000,5,   39.96,2,   36.82,2,  300.00,   1.7527
33RO20100308,      A13.5,       5,          1,         15,      11006,2,20100315,       1327,   -52.0087,      0.338,       3071,   400.2,   1.8823,  34.5906,2,  34.5889,2, 175.1000,2,   176.1,2,   83.77,2,   34.48,2,    0.01,2,    2.41,2,   0.877,2,   0.452,2,   0.2830,2,  2257.7,6,  2335.6,6,   1252.9,2,    20.00,   7.5413,2,    25.00,-999.000,9,-999.0000,9, -999.00,9,   1.8815,2, -999.00,9,  -999.0,9,  -999.0,   0.742,3,   39.47,2,   37.25,2,  400.20,   1.8606
33RO20100308,      A13.5,       5,          1,         14,      11708,2,20100315,       1327,   -52.0087,      0.338,       3071,   502.0,   1.8326,  34.6275,2,  34.6256,2, 177.2000,2,   176.1,2,   86.87,2,   33.92,2,    0.01,2,    2.39,2,   0.748,2,   0.377,2,   0.1840,2,  2259.1,2,  2339.6,2,   1224.7,2,    20.00,   7.5514,2,    25.00,-999.000,9,-999.0000,9, -999.00,9,   1.8320,2, -999.00,9,  -999.0,9,  -999.0,   0.671,3,   38.86,2,   35.76,2,  502.00,   1.8051
33RO20100308,      A13.5,       5,          1,         13,      11031,2,20100315,       1327,   -52.0087,      0.338,       3071,   600.4,   1.8130,  34.6663,2,  34.6654,2, 179.5000,2,   179.3,2,   89.15,2,   33.08,2,    0.00,2,    2.31,2,   0.372,3,   0.280,2,   0.2370,2,  2257.9,2,  2343.9,2,   1184.8,2,    20.00,   7.5652,2,    25.00,-999.000,9,-999.0000,9, -999.00,9,   1.8125,2, -999.00,9,  -999.0,9,  -999.0,   0.436,3,   39.57,2,   34.69,2,  600.40,   1.7797
33RO20100308,      A13.5,       5,          1,         12,      11027,2,20100315,       1327,   -52.0087,      0.338,       3071,   699.5,   1.7937,  34.6911,2,  34.6896,2, 182.6000,4,   203.3,4,   90.46,2,   32.57,2,    0.01,2,    2.27,2,   0.430,2,   0.228,2,   0.1060,2,  2255.5,2,  2347.1,2,   1150.0,2,    20.00,   7.5770,2,    25.00,-999.000,9,-999.0000,9, -999.00,9,   1.7934,2, -999.00,9,  -999.0,9,  -999.0,   0.371,3,   40.03,2,   34.36,2,  699.50,   1.7544
33RO20100308,      A13.5,       5,          1,         11,      11707,2,20100315,       1327,   -52.0087,      0.338,       3071,   800.4,   1.7304,  34.7092,2,  34.7073,2, 186.9000,2,   188.0,2,   91.66,2,   32.05,2,    0.00,2,    2.23,2,   0.340,2,   0.202,2,   0.0800,2,  2252.9,2,  2348.6,2,   1125.8,2,    20.00,   7.5885,2,    25.00,-999.000,9,-999.0000,9, -999.00,9,   1.7297,2, -999.00,9,  -999.0,9,  -999.0,   0.312,3,   39.70,2,   34.28,2,  800.40,   1.6851
33RO20100308,      A13.5,       5,          1,         10,      11003,2,20100315,       1327,   -52.0087,      0.338,       3071,   902.4,   1.6504,  34.7195,2,  34.7179,2, 190.2000,2,   191.1,2,   93.30,2,   31.59,2,    0.01,2,    2.21,2,   0.267,3,   0.179,2,   0.0700,2,  2251.9,2,  2348.9,2,   1105.9,2,    20.00,   7.5956,2,    25.00,-999.000,9,-999.0000,9, -999.00,9,   1.6501,2, -999.00,9,  -999.0,9,  -999.0,   0.300,3,   39.82,2,   33.22,2,  902.40,   1.5991
33RO20100308,      A13.5,       5,          1,          9,      11706,2,20100315,       1327,   -52.0087,      0.338,       3071,  1050.6,   1.5362,  34.7258,2,  34.7245,2, 195.0000,2,   194.9,2,   95.68,2,   31.31,2,    0.00,2,    2.19,2,   0.324,2,   0.164,2,   0.0830,2,  2250.4,2,  2350.6,2,   1082.1,2,    20.00,   7.6018,2,    25.00,-999.000,9,-999.0000,9, -999.00,9,   1.5361,2, -999.00,9,  -999.0,9,  -999.0,   0.322,3,   39.84,2,   32.91,2, 1050.60,   1.4762
33RO20100308,      A13.5,       5,          1,          8,      11033,2,20100315,       1327,   -52.0087,      0.338,       3071,  1250.7,   1.3593,  34.7234,2,  34.7196,2, 197.2000,2,   198.3,6,  100.30,6,   31.39,6,    0.00,6,    2.18,6,   0.325,2,   0.159,2,   0.0360,2,  2251.8,2,  2352.4,2,   1078.9,2,    20.00,   7.6034,2,    25.00,-999.000,9,-999.0000,9, -999.00,9,   1.3594,2, -999.00,9,  -999.0,9,  -999.0,   0.338,3,   39.44,2,   33.37,2, 1250.70,   1.2875
33RO20100308,      A13.5,       5,          1,          7,      11705,9,20100315,       1327,   -52.0087,      0.338,       3071,  1450.1,   1.1774,  34.7175,2,-999.0000,9, 200.3000,2,  -999.0,9, -999.00,9, -999.00,9, -999.00,9, -999.00,9,-999.000,9,-999.000,9,-999.0000,9,  -999.0,9,  -999.0,9,   -999.0,9,  -999.00,-999.0000,9,  -999.00,-999.000,9,-999.0000,9, -999.00,9,   1.1767,2, -999.00,9,  -999.0,9,  -999.0,-999.000,9, -999.00,9, -999.00,9, 1450.10,   1.0939
33RO20100308,      A13.5,       5,          1,          6,      11029,9,20100315,       1327,   -52.0087,      0.338,       3071,  1701.5,   0.9501,  34.7094,2,-999.0000,9, 203.5000,2,  -999.0,9, -999.00,9, -999.00,9, -999.00,9, -999.00,9,-999.000,9,-999.000,9,-999.0000,9,  -999.0,9,  -999.0,9,   -999.0,9,  -999.00,-999.0000,9,  -999.00,-999.000,9,-999.0000,9, -999.00,9,   0.9485,2, -999.00,9,  -999.0,9,  -999.0,-999.000,9, -999.00,9, -999.00,9, 1701.50,   0.8516
33RO20100308,      A13.5,       5,          1,          5,      11704,2,20100315,       1327,   -52.0087,      0.338,       3071,  2002.0,   0.7252,  34.6995,2,  34.6981,2, 206.6000,2,   206.9,2,  117.92,6,   32.20,6,    0.01,6,    2.26,6,   0.373,2,   0.171,2,   0.0000,2,  2256.6,2,  2357.0,2,   1091.9,2,    20.00,   7.5983,2,    25.00,-999.000,9,-999.0000,9, -999.00,9,   0.7248,2, -999.00,9,  -999.0,9,  -999.0,   0.416,3,   39.64,2,   33.99,2, 2002.00,   0.6079
33RO20100308,      A13.5,       5,          1,          4,      11030,2,20100315,       1327,   -52.0087,      0.338,       3071,  2300.6,   0.5824,  34.6931,2,  34.6917,2, 209.7000,2,   209.7,2,  123.98,6,   32.48,6,    0.00,6,    2.27,6,   0.386,2,   0.176,2,   0.0400,2,  2257.7,2,  2356.6,2,   1096.9,2,    20.00,   7.5962,2,    25.00,-999.000,9,-999.0000,9, -999.00,9,   0.5821,2, -999.00,9,  -999.0,9,  -999.0,   0.442,3,   39.35,2,   34.23,2, 2300.60,   0.4446
33RO20100308,      A13.5,       5,          1,          3,      11703,2,20100315,       1327,   -52.0087,      0.338,       3071,  2600.4,   0.5027,  34.6884,2,  34.6866,2, 210.9000,2,   210.6,2,  130.28,6,   32.62,6,    0.00,6,    2.28,6,   0.392,2,   0.178,6,   0.0000,2,  2259.1,2,  2357.3,2,   1100.9,6,    20.00,   7.5949,2,    25.00,-999.000,9,-999.0000,9, -999.00,9,   0.5020,2, -999.00,9,  -999.0,9,  -999.0,   0.335,3,   39.26,2,   34.01,2, 2600.40,   0.3422
33RO20100308,      A13.5,       5,          1,          2,      11702,2,20100315,       1327,   -52.0087,      0.338,       3071,  2801.3,   0.4848,  34.6869,2,  34.6873,2, 211.6000,2,   210.7,2,  134.55,6,   32.66,6,    0.01,6,    2.29,6,   0.396,2,   0.182,2,   0.0000,2,  2259.9,2,  2354.4,2,   1106.8,2,    20.00,   7.5932,2,    25.00,-999.000,9,-999.0000,9, -999.00,9,   0.4840,2, -999.00,9,  -999.0,9,  -999.0,   0.434,3,   38.94,2,   33.92,2, 2801.30,   0.3077
33RO20100308,      A13.5,       5,          1,          1,      11701,2,20100315,       1327,   -52.0087,      0.338,       3071,  3086.9,   0.4957,  34.6863,2,  34.6863,2, 210.9000,2,   210.5,2,  138.52,6,   32.74,6,    0.01,6,    2.29,6,   0.402,2,   0.179,2,   0.0200,2,  2261.6,6,  2360.4,6,   1117.3,2,    20.00,   7.5930,2,    25.00,-999.000,9,-999.0000,9, -999.00,9,   0.4952,2, -999.00,9,  -999.0,9,  -999.0,   0.459,3,   39.89,2,   34.14,2, 3086.90,   0.2933