BOTTLE,20130404CCHSIOCBG
EXPOCODE,SECT_ID,STNNBR,CASTNO,SAMPNO,BTLNBR,BTLNBR_FLAG_W,DATE,TIME,LATITUDE,LONGITUDE,DEPTH,CTDPRS,CTDTMP,CTDSAL,CTDSAL_FLAG_W,SALNTY,SALNTY_FLAG_W,CTDOXY,CTDOXY_FLAG_W,OXYGEN,OXYGEN_FLAG_W,SILCAT,SILCAT_FLAG_W,NITRAT,NITRAT_FLAG_W,NITRIT,NITRIT_FLAG_W,PHSPHT,PHSPHT_FLAG_W,CFC-11,CFC-11_FLAG_W,CFC-12,CFC-12_FLAG_W,SF6,SF6_FLAG_W,TCARBN,TCARBN_FLAG_W,ALKALI,ALKALI_FLAG_W,FCO2,FCO2_FLAG_W,FCO2TMP,PH_TOT,PH_TOT_FLAG_W,PH_TMP,TRITUM,TRITUM_FLAG_W,HELIUM,HELIUM_FLAG_W,DELHE3,DELHE3_FLAG_W,REFTMP,REFTMP_FLAG_W,DELC13,DELC13_FLAG_W,DELC14,DELC14_FLAG_W,C14ERR,CCL4,CCL4_FLAG_W,DOC,DOC_FLAG_W,TDN,TDN_FLAG_W,CTDRAW,THETA
,,,,,,,,,,,METERS,DBAR,ITS-90,PSS-78,,PSS-78,,UMOL/KG,,UMOL/KG,,UMOL/KG,,UMOL/KG,,UMOL/KG,,UMOL/KG,,PMOL/KG,,PMOL/KG,,FMOL/KG,,UMOL/KG,,UMOL/KG,,UATM,,DEG C,,,DEG C,TU,,NMOL/KG,,PERCNT,,DEG C,,/MILLE,,/MILLE,,/MILLE,PMOL/KG,,UMOL/KG,,UMOL/KG,,DBAR,DEG C
33RO20100308,      A13.5,      77,          1,         24,      11714,2,20100403,       1833,      -16.0,     1.0017,       5191,     6.1,  25.1071,  36.7646,2,  36.7646,2, 204.8000,2,   208.1,2,    0.89,2,    0.04,2,    0.00,2,    0.16,2,   1.730,2,   1.083,2,   1.0840,2,  2088.6,6,  2411.4,6,    325.1,2,    20.00,   8.0613,2,    25.00,-999.000,9,-999.0000,9, -999.00,9,-999.0000,9,    1.33,2,    41.2,2,     3.0,   2.017,3,   77.49,2,    5.53,2,    6.10,  25.1058
33RO20100308,      A13.5,      77,          1,         23,      11713,2,20100403,       1833,      -16.0,     1.0017,       5191,    75.2,  18.9901,  35.8925,2,  35.8994,2, 235.5000,2,   231.3,2,    1.41,2,    1.29,2,    0.21,2,    0.40,2,   2.309,6,   1.392,6,   1.2800,6,  2096.8,2,  2357.7,2,    411.5,2,    20.00,   7.9734,2,    25.00,-999.000,9,-999.0000,9, -999.00,9,-999.0000,9,    1.47,2,    48.9,2,     2.9,   1.584,3,   61.48,2,    6.13,2,   75.20,  18.9766
33RO20100308,      A13.5,      77,          1,         22,      11712,2,20100403,       1833,      -16.0,     1.0017,       5191,   149.9,  14.0378,  35.4190,2,  35.3886,2,  76.3000,2,    65.8,2,    7.17,2,   25.39,2,    0.02,2,    1.66,2,   2.254,2,   1.260,2,   0.7460,2,  2220.3,2,  2317.5,2,   1072.8,6,    20.00,   7.6025,2,    25.00,-999.000,9,-999.0000,9, -999.00,9,-999.0000,9,    0.27,2,    48.2,2,     3.5,   0.379,3,   50.46,2,   29.13,2,  149.90,  14.0161
33RO20100308,      A13.5,      77,          1,         21,      11010,2,20100403,       1833,      -16.0,     1.0017,       5191,   250.3,  11.3466,  35.0626,2,  35.0618,2,  43.0000,2,    40.4,2,   11.81,2,   32.07,2,    0.00,2,    2.06,2,   1.494,2,   0.797,2,   0.3770,2,  2242.2,6,  2302.9,2,   1390.0,2,    20.00,   7.4935,2,    25.00,-999.000,9,-999.0000,9, -999.00,9,-999.0000,9,    0.18,2,    21.3,2,     2.9,   0.255,3,   46.12,2,   34.39,2,  250.30,  11.3150
33RO20100308,      A13.5,      77,          1,         20,      11715,2,20100403,       1833,      -16.0,     1.0017,       5191,   350.2,   9.1845,  34.8318,2,  34.8368,2,  56.8000,2,    55.7,2,   15.80,2,   34.76,2,    0.00,2,    2.24,2,   0.766,2,   0.398,2,   0.1740,2,  2243.5,2,  2297.0,2,   1438.3,2,    20.00,   7.4786,2,    25.00,-999.000,9,-999.0000,9, -999.00,9,-999.0000,9,    0.47,2,   -31.4,2,     2.7,   0.252,3,   43.36,2,   36.19,2,  350.20,   9.1457
33RO20100308,      A13.5,      77,          1,         19,      11007,2,20100403,       1833,      -16.0,     1.0017,       5191,   449.9,   7.8213,  34.6940,2,  34.6918,2,  73.4000,2,    74.1,2,   18.98,2,   36.03,2,    0.00,2,    2.34,2,   0.461,2,   0.238,2,   0.1100,2,  2241.7,2,  2291.2,6,   1434.3,2,    20.00,   7.4798,2,    25.00,-999.000,9,-999.0000,9, -999.00,9,-999.0000,9,    0.53,2,   -53.2,2,     3.5,   0.306,3,   42.02,2,   37.11,2,  449.90,   7.7758
33RO20100308,      A13.5,      77,          1,         18,      11710,2,20100403,       1833,      -16.0,     1.0017,       5191,   549.1,   6.6881,  34.5956,2,  34.5960,2,  81.5000,2,    81.7,2,   22.59,2,   37.91,2,    0.00,2,    2.48,2,   0.229,2,   0.123,2,   0.0000,2,  2244.7,2,  2290.4,2,   1492.0,2,    20.00,   7.4637,2,    25.00,-999.000,9,-999.0000,9, -999.00,9,-999.0000,9,    0.49,2,   -81.3,2,     2.6,   0.272,3,   41.20,2,   38.96,2,  549.10,   6.6370
33RO20100308,      A13.5,      77,          1,         17,      11025,2,20100403,       1833,      -16.0,     1.0017,       5191,   649.9,   5.8622,  34.5377,2,  34.5345,2,  88.6000,2,    90.0,2,   26.32,2,   38.82,2,    0.00,2,    2.57,2,   0.124,2,   0.066,2,   0.0560,2,  2244.4,2,  2293.8,2,   1515.5,2,    20.00,   7.4585,2,    25.00,-999.000,9,-999.0000,9, -999.00,9,-999.0000,9,    0.68,2,  -107.9,2,     2.7,   0.226,3,   40.48,2,   39.85,2,  649.90,   5.8054
33RO20100308,      A13.5,      77,          1,         16,      11709,2,20100403,       1833,      -16.0,     1.0017,       5191,   750.7,   5.0710,  34.4979,2,  34.4985,2, 106.9000,2,   107.4,2,   30.61,2,   38.34,2,    0.00,2,    2.57,2,   0.062,2,   0.034,2,   0.0000,2,  2242.5,2,  2295.0,2,   1448.0,2,    20.00,   7.4774,2,    25.00,-999.000,9,-999.0000,9, -999.00,9,-999.0000,9,    0.59,2,  -100.0,2,     2.6,   0.158,3,   39.31,2,   39.99,2,  750.70,   5.0094
33RO20100308,      A13.5,      77,          1,         15,      11006,2,20100403,       1833,      -16.0,     1.0017,       5191,   899.9,   4.3173,  34.5069,2,  34.5067,2, 133.8000,2,   133.7,2,   35.59,2,   36.37,2,    0.00,2,    2.48,2,   0.029,2,   0.018,2,   0.0000,2,  2237.4,2,  2299.9,2,   1324.3,6,    20.00,   7.5161,2,    25.00,-999.000,9,-999.0000,9, -999.00,9,-999.0000,9,    0.54,2,   -91.2,2,     2.6,   0.106,3,   39.46,2,   37.63,2,  899.90,   4.2477
33RO20100308,      A13.5,      77,          1,         14,      11708,2,20100403,       1833,      -16.0,     1.0017,       5191,  1100.5,   3.8257,  34.5988,2,  34.5987,2, 161.9000,2,   162.3,6,   38.22,2,   32.90,2,    0.00,2,    2.26,2,   0.016,2,   0.010,2,   0.0000,2,  2227.4,2,  2308.0,2,   1146.2,2,    20.00,   7.5719,2,    25.00,-999.000,9,-999.0000,9, -999.00,9,-999.0000,9,    0.80,2,  -111.6,2,     2.9,   0.081,3,   38.94,2,   34.71,2, 1100.50,   3.7429
33RO20100308,      A13.5,      77,          1,         13,      11031,2,20100403,       1833,      -16.0,     1.0017,       5191,  1300.6,   3.7205,  34.7444,2,  34.7449,2, 181.1000,2,   182.4,2,   34.66,2,   29.31,2,    0.00,2,    2.00,2,   0.005,2,   0.004,2,   0.0260,2,  2216.2,2,  2314.8,2,   1018.8,2,    20.00,   7.6197,2,    25.00,-999.000,9,-999.0000,9, -999.00,9,-999.0000,9,    0.80,2,  -115.8,2,     2.4,   0.031,3,   39.74,2,   30.55,2, 1300.60,   3.6214
33RO20100308,      A13.5,      77,          1,         12,      11027,2,20100403,       1833,      -16.0,     1.0017,       5191,  1499.6,   3.6456,  34.8462,2,  34.8472,2, 203.2000,2,   204.2,2,   30.24,2,   25.96,2,    0.00,2,    1.76,2,   0.006,2,   0.005,2,   0.0340,2,  2201.4,2,  2316.0,2,    909.2,2,    20.00,   7.6648,2,    25.00,-999.000,9,-999.0000,9, -999.00,9,-999.0000,9,    0.88,2,  -108.1,2,     2.8,   0.033,3,   40.15,2,   27.23,2, 1499.60,   3.5297
33RO20100308,      A13.5,      77,          1,         11,      11707,2,20100403,       1833,      -16.0,     1.0017,       5191,  1700.3,   3.5457,  34.8944,2,  34.8964,2, 216.6000,2,   217.8,6,   28.61,2,   24.09,2,    0.00,2,    1.62,2,   0.007,2,   0.005,2,   0.0000,2,  2193.1,2,  2316.6,2,    854.4,2,    20.00,   7.6887,2,    25.00,-999.000,9,-999.0000,9, -999.00,9,-999.0000,9,    1.07,2,   -96.2,2,     2.5,   0.043,3,   40.12,2,   26.48,2, 1700.30,   3.4129
33RO20100308,      A13.5,      77,          1,         10,      11003,2,20100403,       1833,      -16.0,     1.0017,       5191,  1899.4,   3.3568,  34.9084,2,  34.9089,2, 223.2000,2,   225.0,2,   30.17,2,   23.29,2,    0.00,2,    1.57,2,   0.003,2,   0.002,2,   0.0000,2,  2191.0,2,  2317.9,2,    829.3,2,    20.00,   7.7011,2,    25.00,-999.000,9,-999.0000,9, -999.00,9,-999.0000,9,    0.97,2,  -108.2,2,     2.4,   0.031,3,   40.60,2,   24.56,2, 1899.40,   3.2083
33RO20100308,      A13.5,      77,          1,          9,      11706,2,20100403,       1833,      -16.0,     1.0017,       5191,  2199.2,   3.1158,  34.9135,2,  34.9129,2, 229.5000,2,   230.3,2,   33.43,2,   22.93,2,    0.00,2,    1.54,2,   0.002,2,   0.001,2,   0.0000,2,  2191.7,2,  2324.7,2,    811.5,2,    20.00,   7.7079,2,    25.00,-999.000,9,-999.0000,9, -999.00,9,-999.0000,9,    1.03,2,  -104.1,2,     2.6,   0.016,3,   40.58,2,   24.82,2, 2199.20,   2.9430
33RO20100308,      A13.5,      77,          1,          8,      11033,2,20100403,       1833,      -16.0,     1.0017,       5191,  2500.2,   2.8728,  34.9078,2,  34.9074,2, 231.1000,2,   231.1,2,   38.26,2,   22.94,2,    0.00,2,    1.55,2,   0.003,2,   0.003,2,   0.0490,3,  2195.1,2,  2326.5,6,    819.5,2,    20.00,   7.7085,2,    25.00,-999.000,9,-999.0000,9, -999.00,9,-999.0000,9, -999.00,9,  -999.0,9,  -999.0,   0.012,3,   40.35,2,   24.66,2, 2500.20,   2.6753
33RO20100308,      A13.5,      77,          1,          7,      11705,2,20100403,       1833,      -16.0,     1.0017,       5191,  2800.2,   2.6641,  34.9014,2,  34.9009,2, 231.4000,2,   229.2,2,   43.36,2,   23.22,2,    0.00,2,    1.57,2,   0.002,2,   0.001,2,   0.0000,2,  2202.1,2,  2338.3,2,    824.3,2,    20.00,   7.7085,2,    25.00,-999.000,9,-999.0000,9, -999.00,9,-999.0000,9, -999.00,9,  -999.0,9,  -999.0,   0.007,3,   40.11,2,   25.18,2, 2800.20,   2.4410
33RO20100308,      A13.5,      77,          1,          6,      11029,2,20100403,       1833,      -16.0,     1.0017,       5191,  3200.2,   2.4771,  34.8926,2,  34.8916,2, 228.9000,2,   228.9,2,   49.29,2,   23.60,2,    0.00,2,    1.60,2,   0.002,3,   0.002,3,   0.0330,3,  2209.9,2,  2346.3,2,    820.1,2,    20.00,   7.7098,2,    25.00,-999.000,9,-999.0000,9, -999.00,9,-999.0000,9, -999.00,9,  -999.0,9,  -999.0,   0.004,3,   39.85,2,   25.69,2, 3200.20,   2.2172
33RO20100308,      A13.5,      77,          1,          5,      11704,2,20100403,       1833,      -16.0,     1.0017,       5191,  3600.9,   2.3865,  34.8905,2,  34.8895,2, 230.5000,2,   230.1,2,   51.15,6,   23.51,6,    0.00,6,    1.58,6,   0.002,6,   0.002,6,   0.0000,6,  2212.8,2,  2352.0,2,    810.0,2,    20.00,   7.7141,2,    25.00,-999.000,9,-999.0000,9, -999.00,9,-999.0000,9, -999.00,9,  -999.0,9,  -999.0,   0.009,3,   39.61,2,   24.82,2, 3600.90,   2.0860
33RO20100308,      A13.5,      77,          1,          4,      11030,2,20100403,       1833,      -16.0,     1.0017,       5191,  4000.5,   2.3674,  34.8880,2,  34.8872,2, 232.4000,2,   232.2,2,   51.73,6,   23.38,6,    0.00,6,    1.58,6,   0.002,2,   0.002,2,   0.0000,2,  2212.7,2,  2353.0,2,    804.7,2,    20.00,   7.7173,2,    25.00,-999.000,9,-999.0000,9, -999.00,9,-999.0000,9, -999.00,9,  -999.0,9,  -999.0,   0.016,3,   39.33,2,   25.45,2, 4000.50,   2.0228
33RO20100308,      A13.5,      77,          1,          3,      11703,2,20100403,       1833,      -16.0,     1.0017,       5191,  4400.8,   2.3812,  34.8856,2,  34.8844,2, 232.6000,2,   233.5,2,   52.26,6,   23.39,6,    0.00,6,    1.57,6,   0.003,2,   0.002,2,   0.0000,2,  2212.4,2,  2354.9,6,    803.7,2,    20.00,   7.7169,2,    25.00,-999.000,9,-999.0000,9, -999.00,9,-999.0000,9, -999.00,9,  -999.0,9,  -999.0,   0.022,3,   39.81,2,   25.46,2, 4400.80,   1.9895
33RO20100308,      A13.5,      77,          1,          2,      11702,2,20100403,       1833,      -16.0,     1.0017,       5191,  4800.6,   2.3976,  34.8823,2,  34.8818,2, 234.2000,2,   234.6,2,   52.69,6,   23.37,6,    0.00,6,    1.59,6,   0.005,2,   0.004,2,   0.0000,2,  2212.3,2,  2354.9,2,    800.6,2,    20.00,   7.7188,2,    25.00,-999.000,9,-999.0000,9, -999.00,9,-999.0000,9, -999.00,9,  -999.0,9,  -999.0,   0.040,3,   40.03,2,   24.88,2, 4800.60,   1.9567
33RO20100308,      A13.5,      77,          1,          1,      11701,2,20100403,       1833,      -16.0,     1.0017,       5191,  5268.1,   2.4322,  34.8791,2,  34.8782,2, 234.5000,2,   234.9,2,   53.04,6,   23.36,6,    0.00,6,    1.57,6,   0.007,2,   0.006,2,   0.0000,2,  2214.1,6,  2358.2,2,    798.5,2,    20.00,   7.7200,2,    25.00,-999.000,9,-999.0000,9, -999.00,9,-999.0000,9, -999.00,9,  -999.0,9,  -999.0,   0.056,3,   40.51,2,   25.19,2, 5268.10,   1.9307