BOTTLE,20130404CCHSIOCBG
EXPOCODE,SECT_ID,STNNBR,CASTNO,SAMPNO,BTLNBR,BTLNBR_FLAG_W,DATE,TIME,LATITUDE,LONGITUDE,DEPTH,CTDPRS,CTDTMP,CTDSAL,CTDSAL_FLAG_W,SALNTY,SALNTY_FLAG_W,CTDOXY,CTDOXY_FLAG_W,OXYGEN,OXYGEN_FLAG_W,SILCAT,SILCAT_FLAG_W,NITRAT,NITRAT_FLAG_W,NITRIT,NITRIT_FLAG_W,PHSPHT,PHSPHT_FLAG_W,CFC-11,CFC-11_FLAG_W,CFC-12,CFC-12_FLAG_W,SF6,SF6_FLAG_W,TCARBN,TCARBN_FLAG_W,ALKALI,ALKALI_FLAG_W,FCO2,FCO2_FLAG_W,FCO2TMP,PH_TOT,PH_TOT_FLAG_W,PH_TMP,TRITUM,TRITUM_FLAG_W,HELIUM,HELIUM_FLAG_W,DELHE3,DELHE3_FLAG_W,REFTMP,REFTMP_FLAG_W,DELC13,DELC13_FLAG_W,DELC14,DELC14_FLAG_W,C14ERR,CCL4,CCL4_FLAG_W,DOC,DOC_FLAG_W,TDN,TDN_FLAG_W,CTDRAW,THETA
,,,,,,,,,,,METERS,DBAR,ITS-90,PSS-78,,PSS-78,,UMOL/KG,,UMOL/KG,,UMOL/KG,,UMOL/KG,,UMOL/KG,,UMOL/KG,,PMOL/KG,,PMOL/KG,,FMOL/KG,,UMOL/KG,,UMOL/KG,,UATM,,DEG C,,,DEG C,TU,,NMOL/KG,,PERCNT,,DEG C,,/MILLE,,/MILLE,,/MILLE,PMOL/KG,,UMOL/KG,,UMOL/KG,,DBAR,DEG C
33RO20100308,      A13.5,     107,          1,         24,      11714,2,20100412,       2020,     -1.666,    -3.0018,       5086,     6.0,  28.7741,  35.0373,2,  35.0494,2, 197.5000,2,   197.3,2,    0.58,6,    0.07,6,    0.00,6,    0.03,6,   1.551,2,   0.981,2,   0.9660,2,  1973.4,6,  2297.6,2,    284.8,2,    20.00,   8.0959,2,    25.00,-999.000,9,-999.0000,9, -999.00,9,  28.7729,2, -999.00,9,  -999.0,9,  -999.0,   1.716,3,   69.86,2,    4.80,2,    6.00,  28.7727
33RO20100308,      A13.5,     107,          1,         23,      11716,2,20100412,       2020,     -1.666,    -3.0018,       5086,    30.1,  27.7018,  35.6570,2,  35.6586,2, 200.8000,2,   203.4,2,    0.86,2,    0.28,2,    0.00,2,    0.07,2,   1.672,2,   1.041,2,   0.9860,2,  2021.3,2,  2339.3,6,    309.4,2,    20.00,   8.0686,2,    25.00,-999.000,9,-999.0000,9, -999.00,9,  27.5343,2, -999.00,9,  -999.0,9,  -999.0,   1.388,3,   66.50,2,    5.27,2,   30.10,  27.6948
33RO20100308,      A13.5,     107,          1,         22,      11022,2,20100412,       2020,     -1.666,    -3.0018,       5086,    59.7,  16.2547,  35.7049,2,  35.7067,2, 139.7000,2,   138.9,6,    4.97,2,   14.56,2,    0.07,2,    1.03,2,   2.259,2,   1.281,2,   0.8170,2,  2160.2,2,  2341.0,6,    634.1,2,    20.00,   7.8077,2,    25.00,-999.000,9,-999.0000,9, -999.00,9,  16.2398,2, -999.00,9,  -999.0,9,  -999.0,   0.584,3,   56.84,2,   18.25,2,   59.70,  16.2451
33RO20100308,      A13.5,     107,          1,         21,      11010,2,20100412,       2020,     -1.666,    -3.0018,       5086,   100.7,  15.7086,  35.6547,2,  35.6534,2, 117.5000,2,   116.8,2,    6.17,2,   17.85,2,    0.02,2,    1.21,2,   2.201,2,   1.244,2,   0.7380,2,  -999.0,9,  -999.0,9,   -999.0,9,  -999.00,-999.0000,9,  -999.00,-999.000,9,-999.0000,9, -999.00,9,  15.7078,2, -999.00,9,  -999.0,9,  -999.0,   0.367,3, -999.00,9, -999.00,9,  100.70,  15.6928
33RO20100308,      A13.5,     107,          1,         20,      11715,2,20100412,       2020,     -1.666,    -3.0018,       5086,   149.7,  15.1356,  35.5756,2,  35.5752,2, 100.9000,2,    99.9,2,    6.77,2,   20.57,2,    0.01,2,    1.35,2,   2.189,2,   1.224,2,   0.6610,2,  2189.9,2,  2334.0,2,    801.1,2,    20.00,   7.7141,2,    25.00,-999.000,9,-999.0000,9, -999.00,9,  15.1448,2, -999.00,9,  -999.0,9,  -999.0,   0.311,3,   48.92,2,   23.47,2,  149.70,  15.1127
33RO20100308,      A13.5,     107,          1,         19,      11007,2,20100412,       2020,     -1.666,    -3.0018,       5086,   250.2,  11.9879,  35.1570,2,  35.1508,2,  80.6000,2,    79.4,2,   10.63,2,   27.53,2,    0.01,2,    1.74,2,   1.703,2,   0.912,2,   0.3480,2,  2212.1,2,  2310.6,2,   1067.4,6,    20.00,   7.6000,2,    25.00,-999.000,9,-999.0000,9, -999.00,9,  11.9857,2, -999.00,9,  -999.0,9,  -999.0,   0.316,3,   43.30,2,   28.67,2,  250.20,  11.9551
33RO20100308,      A13.5,     107,          1,         18,      11710,2,20100412,       2020,     -1.666,    -3.0018,       5086,   350.1,   9.8366,  34.9095,2,  34.9068,2,  62.5000,2,    64.6,2,   14.66,2,   33.15,2,    0.00,2,    2.09,2,   1.119,2,   0.583,2,   0.1790,2,  2232.3,6,  2300.3,2,   1332.1,2,    20.00,   7.5110,2,    25.00,-999.000,9,-999.0000,9, -999.00,9,   9.8369,2, -999.00,9,  -999.0,9,  -999.0,   0.326,3,   42.16,2,   35.06,2,  350.10,   9.7961
33RO20100308,      A13.5,     107,          1,         17,      11025,2,20100412,       2020,     -1.666,    -3.0018,       5086,   499.7,   6.7556,  34.5724,2,  34.5725,2, 142.7000,2,   143.1,2,   20.14,2,   31.55,2,    0.00,2,    2.09,2,-999.000,9,-999.000,9,-999.0000,9,  2203.7,2,  2293.3,2,   1116.3,2,    20.00,   7.5822,2,    25.00,-999.000,9,-999.0000,9, -999.00,9,   6.7552,2, -999.00,9,  -999.0,9,  -999.0,-999.000,9,   41.56,2,   32.59,2,  499.70,   6.7090
33RO20100308,      A13.5,     107,          1,         16,      11709,2,20100412,       2020,     -1.666,    -3.0018,       5086,   649.8,   5.4205,  34.4880,2,  34.4897,2, 151.0000,2,   150.6,2,   26.32,2,   33.71,2,    0.00,2,    2.25,2,   0.712,2,   0.343,2,   0.0650,2,  2209.9,2,  2295.5,2,   1156.5,2,    20.00,   7.5662,2,    25.00,-999.000,9,-999.0000,9, -999.00,9,   5.4200,2, -999.00,9,  -999.0,9,  -999.0,   0.901,3,   40.92,2,   35.70,2,  649.80,   5.3659
33RO20100308,      A13.5,     107,          1,         15,      11006,2,20100412,       2020,     -1.666,    -3.0018,       5086,   800.1,   4.7363,  34.5035,2,  34.5026,2, 151.3000,2,   152.4,2,   31.10,2,   34.36,2,    0.00,2,    2.32,2,-999.000,9,-999.000,9,-999.0000,9,  2216.4,2,  2297.3,6,   1177.7,2,    20.00,   7.5602,2,    25.00,-999.000,9,-999.0000,9, -999.00,9,   4.7301,2, -999.00,9,  -999.0,9,  -999.0,-999.000,9,   39.36,2,   36.26,2,  800.10,   4.6724
33RO20100308,      A13.5,     107,          1,         14,      11708,2,20100412,       2020,     -1.666,    -3.0018,       5086,  1000.8,   4.4997,  34.6370,2,  34.6367,2, 156.4000,2,   157.4,2,   30.85,2,   32.61,2,    0.00,2,    2.21,2,   0.059,2,   0.030,2,   0.0000,2,  2216.5,2,  2304.1,2,   1123.9,2,    20.00,   7.5780,2,    25.00,-999.000,9,-999.0000,9, -999.00,9,   4.9953,3, -999.00,9,  -999.0,9,  -999.0,   0.175,3,   39.48,2,   33.77,2, 1000.80,   4.4199
33RO20100308,      A13.5,     107,          1,         13,      11031,2,20100412,       2020,     -1.666,    -3.0018,       5086,  1200.6,   4.4838,  34.7478,2,  34.7475,2, 170.6000,2,   171.6,2,   27.86,2,   29.85,2,    0.00,2,    2.02,2,-999.000,9,-999.000,9,-999.0000,9,  2207.8,2,  2305.1,2,   1036.3,2,    20.00,   7.6125,2,    25.00,-999.000,9,-999.0000,9, -999.00,9,   4.4833,2, -999.00,9,  -999.0,9,  -999.0,-999.000,9,   39.34,2,   31.14,2, 1200.60,   4.3862
33RO20100308,      A13.5,     107,          1,         12,      11027,2,20100412,       2020,     -1.666,    -3.0018,       5086,  1400.8,   4.3494,  34.9518,2,  34.9515,2, 219.9000,2,   220.3,2,   19.02,2,   22.36,2,    0.00,2,    1.49,2,-999.000,9,-999.000,9,-999.0000,9,  2180.1,2,  2312.5,2,   -999.0,9,  -999.00,   7.7008,2,    25.00,-999.000,9,-999.0000,9, -999.00,9,   4.3500,2, -999.00,9,  -999.0,9,  -999.0,-999.000,9,   40.59,2,   24.13,2, 1400.80,   4.2345
33RO20100308,      A13.5,     107,          1,         11,      11707,2,20100412,       2020,     -1.666,    -3.0018,       5086,  1599.3,   4.2152,  34.9694,2,  34.9688,2, 230.7000,2,   231.7,2,   17.96,2,   21.04,2,    0.00,2,    1.41,2,   0.297,2,   0.143,2,   0.0000,2,  2173.7,2,  2310.9,2,    797.7,2,    20.00,   7.7151,2,    25.00,-999.000,9,-999.0000,9, -999.00,9,   4.2154,2, -999.00,9,  -999.0,9,  -999.0,   0.706,3,   40.98,2,   22.32,2, 1599.30,   4.0833
33RO20100308,      A13.5,     107,          1,         10,      11003,2,20100412,       2020,     -1.666,    -3.0018,       5086,  1898.7,   3.8681,  34.9730,2,  34.9722,2, 243.8000,2,   243.9,2,   18.47,2,   19.94,2,    0.00,2,    1.33,2,   0.295,2,   0.143,2,   0.0000,2,  2170.1,2,  2314.8,2,   -999.0,9,  -999.00,   7.7287,2,    25.00,-999.000,9,-999.0000,9, -999.00,9,   3.8695,2, -999.00,9,  -999.0,9,  -999.0,   0.735,3,   40.87,2,   21.76,2, 1898.70,   3.7123
33RO20100308,      A13.5,     107,          1,          9,      11706,2,20100412,       2020,     -1.666,    -3.0018,       5086,  2201.5,   3.3218,  34.9515,2,  34.9512,2, 246.4000,2,   246.2,2,   25.60,2,   20.43,2,    0.00,2,    1.37,2,-999.000,9,-999.000,9,-999.0000,9,  2174.7,2,  2318.8,2,    765.2,2,    20.00,   7.7334,2,    25.00,-999.000,9,-999.0000,9, -999.00,9,   3.3219,2, -999.00,9,  -999.0,9,  -999.0,-999.000,9,   40.29,2,   22.37,2, 2201.50,   3.1453
33RO20100308,      A13.5,     107,          1,          8,      11033,2,20100412,       2020,     -1.666,    -3.0018,       5086,  2501.0,   2.9461,  34.9264,2,  34.9260,2, 240.3000,2,   240.3,2,   34.15,2,   21.62,2,    0.00,2,    1.45,2,-999.000,9,-999.000,9,-999.0000,9,  2185.5,2,  2329.8,6,   -999.0,9,  -999.00,   7.7248,2,    25.00,-999.000,9,-999.0000,9, -999.00,9,   2.9451,2, -999.00,9,  -999.0,9,  -999.0,-999.000,9,   40.04,2,   23.30,2, 2501.00,   2.7471
33RO20100308,      A13.5,     107,          1,          7,      11705,2,20100412,       2020,     -1.666,    -3.0018,       5086,  2799.7,   2.7106,  34.9123,2,  34.9124,2, 238.4000,2,   238.5,2,   39.55,6,   21.89,6,    0.00,6,    1.49,2,-999.000,9,-999.000,9,-999.0000,9,  2193.5,2,  -999.0,9,    793.6,2,    20.00,   7.7221,2,    25.00,-999.000,9,-999.0000,9, -999.00,9,   2.7102,2, -999.00,9,  -999.0,9,  -999.0,-999.000,9,   39.96,2,   23.23,2, 2799.70,   2.4866
33RO20100308,      A13.5,     107,          1,          6,      11029,2,20100412,       2020,     -1.666,    -3.0018,       5086,  3098.2,   2.5545,  34.9015,2,  34.9005,2, 241.2000,2,   240.6,2,   42.70,6,   22.10,6,    0.00,6,    1.49,6,   0.012,2,   0.007,2,   0.0000,2,  2194.4,2,  2346.6,3,   -999.0,9,  -999.00,   7.7268,2,    25.00,-999.000,9,-999.0000,9, -999.00,9,   2.5547,2, -999.00,9,  -999.0,9,  -999.0,   0.083,3,   39.82,2,   23.63,2, 3098.20,   2.3034
33RO20100308,      A13.5,     107,          1,          5,      11704,2,20100412,       2020,     -1.666,    -3.0018,       5086,  3500.2,   2.4323,  34.8932,2,  34.8926,2, 240.7000,2,   240.5,2,   45.72,6,   22.29,6,    0.00,6,    1.50,6,-999.000,9,-999.000,9,-999.0000,9,  2196.9,2,  2340.5,2,    798.4,2,    20.00,   7.7217,2,    25.00,-999.000,9,-999.0000,9, -999.00,9,   2.4322,2, -999.00,9,  -999.0,9,  -999.0,-999.000,9,   39.61,2,   23.27,2, 3500.20,   2.1416
33RO20100308,      A13.5,     107,          1,          4,      11030,2,20100412,       2020,     -1.666,    -3.0018,       5086,  3899.1,   2.3494,  34.8850,2,  34.8838,2, 242.5000,2,   242.4,2,   47.47,6,   22.14,6,    0.00,6,    1.51,6,-999.000,9,-999.000,9,-999.0000,9,  2197.4,2,  2341.4,2,   -999.0,9,  -999.00,   7.7211,2,    25.00,-999.000,9,-999.0000,9, -999.00,9,   2.3493,2, -999.00,9,  -999.0,9,  -999.0,-999.000,9,   39.46,2,   23.27,2, 3899.10,   2.0168
33RO20100308,      A13.5,     107,          1,          3,      11703,2,20100412,       2020,     -1.666,    -3.0018,       5086,  4299.9,   2.2514,  34.8735,2,  34.8729,2, 242.7000,2,   242.9,6,   51.04,6,   22.48,6,    0.00,6,    1.53,6,-999.000,9,-999.000,9,-999.0000,9,  2201.2,2,  2346.1,2,    794.0,2,    20.00,   7.7199,2,    25.00,-999.000,9,-999.0000,9, -999.00,9,   2.2511,2, -999.00,9,  -999.0,9,  -999.0,-999.000,9,   40.31,2,   23.90,2, 4299.90,   1.8756
33RO20100308,      A13.5,     107,          1,          2,      11702,2,20100412,       2020,     -1.666,    -3.0018,       5086,  4699.8,   2.1957,  34.8639,2,  34.8637,2, 240.7000,2,   241.7,2,   54.86,6,   22.91,6,    0.00,6,    1.56,6,-999.000,9,-999.000,9,-999.0000,9,  2206.3,2,  2348.6,2,   -999.0,9,  -999.00,   7.7161,2,    25.00,-999.000,9,-999.0000,9, -999.00,9,   2.1954,2, -999.00,9,  -999.0,9,  -999.0,-999.000,9,   39.99,2,   24.31,2, 4699.80,   1.7738
33RO20100308,      A13.5,     107,          1,          1,      11701,2,20100412,       2020,     -1.666,    -3.0018,       5086,  5150.8,   2.1972,  34.8587,2,  34.8582,2, 241.8000,2,   241.0,2,   56.59,6,   23.14,6,    0.00,6,    1.58,6,   0.067,2,   0.035,2,   0.0000,2,  2208.9,6,  2352.1,2,    809.0,2,    20.00,   7.7155,2,    25.00,-999.000,9,-999.0000,9, -999.00,9,   2.1970,2, -999.00,9,  -999.0,9,  -999.0,   0.270,3,   40.23,2,   24.71,2, 5150.80,   1.7190