BOTTLE,20130404CCHSIOCBG
EXPOCODE,SECT_ID,STNNBR,CASTNO,SAMPNO,BTLNBR,BTLNBR_FLAG_W,DATE,TIME,LATITUDE,LONGITUDE,DEPTH,CTDPRS,CTDTMP,CTDSAL,CTDSAL_FLAG_W,SALNTY,SALNTY_FLAG_W,CTDOXY,CTDOXY_FLAG_W,OXYGEN,OXYGEN_FLAG_W,SILCAT,SILCAT_FLAG_W,NITRAT,NITRAT_FLAG_W,NITRIT,NITRIT_FLAG_W,PHSPHT,PHSPHT_FLAG_W,CFC-11,CFC-11_FLAG_W,CFC-12,CFC-12_FLAG_W,SF6,SF6_FLAG_W,TCARBN,TCARBN_FLAG_W,ALKALI,ALKALI_FLAG_W,FCO2,FCO2_FLAG_W,FCO2TMP,PH_TOT,PH_TOT_FLAG_W,PH_TMP,TRITUM,TRITUM_FLAG_W,HELIUM,HELIUM_FLAG_W,DELHE3,DELHE3_FLAG_W,REFTMP,REFTMP_FLAG_W,DELC13,DELC13_FLAG_W,DELC14,DELC14_FLAG_W,C14ERR,CCL4,CCL4_FLAG_W,DOC,DOC_FLAG_W,TDN,TDN_FLAG_W,CTDRAW,THETA
,,,,,,,,,,,METERS,DBAR,ITS-90,PSS-78,,PSS-78,,UMOL/KG,,UMOL/KG,,UMOL/KG,,UMOL/KG,,UMOL/KG,,UMOL/KG,,PMOL/KG,,PMOL/KG,,FMOL/KG,,UMOL/KG,,UMOL/KG,,UATM,,DEG C,,,DEG C,TU,,NMOL/KG,,PERCNT,,DEG C,,/MILLE,,/MILLE,,/MILLE,PMOL/KG,,UMOL/KG,,UMOL/KG,,DBAR,DEG C
33RO20100308,      A13.5,      37,          1,         24,      11714,2,20100323,       1210,   -35.9998,     1.0085,       4973,     5.6,  20.5713,  35.8070,2,  35.8077,2, 225.8000,2,   226.8,2,    1.78,2,    0.00,2,    0.00,2,    0.15,2,   2.125,2,   1.302,2,   1.3120,2,  2071.1,6,  2353.5,2,    376.6,2,    20.00,   8.0065,2,    25.00,-999.000,1,-999.0000,1, -999.00,9,  20.5698,2, -999.00,9,  -999.0,9,  -999.0,   2.369,3,   63.47,2,    4.46,2,    5.60,  20.5702
33RO20100308,      A13.5,      37,          1,         23,      11713,2,20100323,       1210,   -35.9998,     1.0085,       4973,    59.9,  19.4396,  35.6766,2,  35.6944,2, 237.1000,2,   238.7,2,    1.78,2,    0.00,2,    0.00,2,    0.16,2,   2.288,2,   1.389,2,   1.2760,2,  2068.1,2,  2347.9,6,    378.7,2,    20.00,   7.9999,2,    25.00,-999.000,1,-999.0000,1, -999.00,9,  19.4763,2, -999.00,9,  -999.0,9,  -999.0,   2.174,3,   62.69,2,    4.91,2,   59.90,  19.4287
33RO20100308,      A13.5,      37,          1,         22,      11712,2,20100323,       1210,   -35.9998,     1.0085,       4973,   100.5,  16.9630,  35.6255,2,  35.6242,2, 240.6000,2,   240.4,2,    1.99,2,    0.19,2,    0.03,2,    0.23,2,   2.517,6,   1.518,6,   1.3530,6,  2078.4,2,  2343.7,2,    407.7,2,    20.00,   7.9775,2,    25.00,-999.000,1,-999.0000,1, -999.00,9,  16.9644,2, -999.00,9,  -999.0,9,  -999.0,   1.738,3,   57.53,2,    4.38,2,  100.50,  16.9464
33RO20100308,      A13.5,      37,          1,         21,      11010,2,20100323,       1210,   -35.9998,     1.0085,       4973,   150.1,  15.6524,  35.5140,2,  35.5119,2, 222.7000,2,   221.7,2,    2.69,2,    4.20,2,    0.02,2,    0.44,2,   2.609,2,   1.563,2,   1.3490,2,  2094.4,2,  2335.1,2,    458.0,2,    20.00,   7.9293,2,    25.00,-999.000,1,-999.0000,1, -999.00,9,  15.6604,2, -999.00,9,  -999.0,9,  -999.0,   1.194,3,   55.89,2,    7.95,2,  150.10,  15.6289
33RO20100308,      A13.5,      37,          1,         20,      11715,2,20100323,       1210,   -35.9998,     1.0085,       4973,   250.4,  13.4644,  35.2253,2,  35.2258,2, 214.0000,2,   213.3,2,    3.66,2,    8.93,2,    0.01,2,    0.73,2,   2.894,2,   1.690,2,   1.3180,2,  2115.9,2,  2319.6,2,    549.7,6,    20.00,   7.8609,2,    25.00,-999.000,1,-999.0000,1, -999.00,9,  13.4654,2, -999.00,9,  -999.0,9,  -999.0,   1.101,3,   50.22,2,   11.92,2,  250.40,  13.4290
33RO20100308,      A13.5,      37,          1,         19,      11007,2,20100323,       1210,   -35.9998,     1.0085,       4973,   350.3,  12.3916,  35.1390,2,  35.1374,2, 221.9000,2,   221.5,2,    3.25,2,   10.31,2,    0.00,2,    0.81,2,   3.047,2,   1.765,2,   1.3340,2,  2121.7,2,  2317.7,2,    578.4,2,    20.00,   7.8460,2,    25.00,-999.000,1,-999.0000,1, -999.00,9,  12.3979,2, -999.00,9,  -999.0,9,  -999.0,   1.232,3,   47.39,2,   12.86,2,  350.30,  12.3446
33RO20100308,      A13.5,      37,          1,         18,      11710,2,20100323,       1210,   -35.9998,     1.0085,       4973,   449.3,  10.8294,  34.9151,2,  34.9181,2, 224.5000,2,   223.6,2,    4.29,2,   13.50,2,    0.00,2,    1.00,2,   3.221,2,   1.828,2,   1.3330,2,  2129.7,2,  2306.9,2,    629.7,2,    20.00,   7.8073,2,    25.00,-999.000,1,-999.0000,1, -999.00,9,  10.8416,2, -999.00,9,  -999.0,9,  -999.0,   1.555,3,   46.28,2,   15.19,2,  449.30,  10.7740
33RO20100308,      A13.5,      37,          1,         17,      11025,2,20100323,       1210,   -35.9998,     1.0085,       4973,   600.6,   8.0308,  34.5522,2,  34.5516,2, 217.1000,2,   217.0,2,    8.90,2,   21.44,2,    0.00,2,    1.51,2,   3.393,2,   1.832,2,   1.0780,2,  2151.4,2,  2290.5,2,    793.6,2,    20.00,   7.7183,2,    25.00,-999.000,1,-999.0000,1, -999.00,9,   8.0315,2, -999.00,9,  -999.0,9,  -999.0,   2.295,3,   42.67,2,   23.38,2,  600.60,   7.9687
33RO20100308,      A13.5,      37,          1,         16,      11709,2,20100323,       1210,   -35.9998,     1.0085,       4973,   750.8,   5.2788,  34.2922,2,-999.0000,9, 226.6000,2,   231.4,6,   15.73,2,   26.95,2,    0.00,2,    1.90,2,   3.489,2,   1.812,2,   0.9840,2,  2165.2,2,  -999.0,5,    903.5,2,    20.00,   7.6646,2,    25.00,-999.000,1,-999.0000,1, -999.00,9,   5.2785,2,    0.87,2,   -20.3,2,     2.7,   3.282,3,   39.41,2,   28.44,2,  750.80,   5.2162
33RO20100308,      A13.5,      37,          1,         15,      11006,2,20100323,       1210,   -35.9998,     1.0085,       4973,   899.9,   4.3362,  34.2755,2,  34.2754,2, 227.9000,2,   226.3,2,   24.00,2,   29.23,2,    0.00,2,    2.04,2,   2.923,2,   1.484,2,   0.6940,2,  2179.2,2,  2294.1,2,    956.0,2,    20.00,   7.6424,2,    25.00,-999.000,1,-999.0000,1, -999.00,9,   4.3353,2,    1.13,2,   -42.3,2,     2.9,   3.106,3,   38.85,2,   31.25,2,  899.90,   4.2668
33RO20100308,      A13.5,      37,          1,         14,      11708,2,20100323,       1210,   -35.9998,     1.0085,       4973,  1099.9,   3.5322,  34.3278,2,-999.0000,9, 212.1000,2,   210.5,2,   37.34,2,   31.69,2,    0.00,2,    2.20,2,   1.965,2,   0.960,2,   0.4250,2,  2200.7,2,  2302.4,2,   1035.4,2,    20.00,   7.6109,2,    25.00,-999.000,1,-999.0000,1, -999.00,9,   3.5317,2,    0.91,2,   -80.1,2,     2.8,   2.361,3,   38.91,2,   32.95,2, 1099.90,   3.4524
33RO20100308,      A13.5,      37,          1,         13,      11031,2,20100323,       1210,   -35.9998,     1.0085,       4973,  1300.2,   3.0778,  34.4188,2,  34.4184,2, 195.2000,2,   194.3,2,   49.71,2,   32.87,2,    0.00,2,    2.30,2,   1.142,2,   0.546,2,   0.2100,2,  2220.9,2,  2316.5,2,   1101.8,2,    20.00,   7.5880,2,    25.00,-999.000,1,-999.0000,1, -999.00,9,   3.0774,2,    0.81,2,  -108.0,2,     3.4,   1.567,3,   38.78,2,   34.38,2, 1300.20,   2.9859
33RO20100308,      A13.5,      37,          1,         12,      11027,2,20100323,       1210,   -35.9998,     1.0085,       4973,  1500.9,   2.9139,  34.5463,2,-999.0000,9, 181.0000,2,   180.4,2,   61.00,2,   32.98,2,    0.00,2,    2.30,2,   0.503,2,   0.245,2,   0.1380,2,  2236.3,6,  2329.3,6,   1127.8,2,    20.00,   7.5801,2,    25.00,-999.000,1,-999.0000,1, -999.00,9,   2.9138,2,    0.65,2,  -130.6,2,     2.6,   0.807,3,   39.07,2,   34.58,2, 1500.90,   2.8070
33RO20100308,      A13.5,      37,          1,         11,      11707,2,20100323,       1210,   -35.9998,     1.0085,       4973,  1701.0,   2.8387,  34.6527,2,  34.6513,2, 186.9000,2,   186.8,2,   60.27,2,   31.08,2,    0.00,2,    2.17,2,   0.218,2,   0.106,2,   0.0420,2,  2231.6,2,  2333.0,2,   1061.8,2,    20.00,   7.6040,2,    25.00,-999.000,1,-999.0000,1, -999.00,9,   2.8383,2,    0.68,2,  -130.9,2,     2.6,   0.415,3,   39.37,2,   32.29,2, 1701.00,   2.7157
33RO20100308,      A13.5,      37,          1,         10,      11003,2,20100323,       1210,   -35.9998,     1.0085,       4973,  1900.0,   2.7850,  34.7303,2,  34.7302,2, 196.8000,2,   196.8,2,   58.25,2,   29.15,2,    0.00,2,    2.02,2,   0.107,2,   0.052,2,   0.0000,2,  2226.0,2,  2334.2,2,   1000.4,2,    20.00,   7.6295,2,    25.00,-999.000,1,-999.0000,1, -999.00,9,   2.7852,2,    0.76,2,  -127.3,2,     2.7,   0.239,3,   38.66,2,   30.55,2, 1900.00,   2.6452
33RO20100308,      A13.5,      37,          1,          9,      11706,2,20100323,       1210,   -35.9998,     1.0085,       4973,  2219.4,   2.6857,  34.8015,2,  34.7998,2, 211.1000,2,   211.1,6,   55.48,2,   26.98,2,    0.00,2,    1.87,2,   0.042,2,   0.021,2,   0.0220,2,  2215.5,2,  2337.6,2,    931.2,2,    20.00,   7.6598,2,    25.00,-999.000,9,-999.0000,1, -999.00,9,   2.6854,2,    0.81,2,  -126.7,2,     2.5,   0.129,3,   38.80,2,   28.26,2, 2219.40,   2.5185
33RO20100308,      A13.5,      37,          1,          8,      11033,2,20100323,       1210,   -35.9998,     1.0085,       4973,  2500.5,   2.5469,  34.8254,2,  34.8248,2, 219.8000,2,   219.7,2,   55.98,2,   25.92,2,    0.00,2,    1.78,2,   0.028,2,   0.014,2,   0.0000,2,  2211.5,2,  2337.5,2,    887.6,2,    20.00,   7.6758,2,    25.00,-999.000,1,-999.0000,1, -999.00,9,   2.5464,2,    0.88,2,  -127.8,2,     2.7,   0.104,3,   39.13,2,   27.26,2, 2500.50,   2.3557
33RO20100308,      A13.5,      37,          1,          7,      11705,2,20100323,       1210,   -35.9998,     1.0085,       4973,  2800.0,   2.4201,  34.8388,2,  34.8373,2, 225.1000,2,   225.1,2,   56.88,2,   25.29,2,    0.00,2,    1.75,2,   0.018,6,   0.009,6,   0.0000,6,  2210.2,2,  2340.5,2,    868.3,2,    20.00,   7.6856,2,    25.00,-999.000,9,-999.0000,1, -999.00,9,   2.4194,2,    0.85,2,  -123.1,2,     2.7,   0.081,3,   39.96,2,   27.26,2, 2800.00,   2.2023
33RO20100308,      A13.5,      37,          1,          6,      11029,2,20100323,       1210,   -35.9998,     1.0085,       4973,  3098.6,   2.3082,  34.8420,2,  34.8421,2, 228.0000,2,   227.6,2,   59.51,2,   25.12,2,    0.00,2,    1.73,2,   0.016,2,   0.010,2,   0.0000,2,  2212.0,2,  2344.1,2,    856.8,2,    20.00,   7.6901,2,    25.00,-999.000,1,-999.0000,1, -999.00,9,   2.3076,2,    0.88,2,  -129.9,2,     2.4,   0.064,3,   40.15,2,   26.61,2, 3098.60,   2.0629
33RO20100308,      A13.5,      37,          1,          5,      11704,2,20100323,       1210,   -35.9998,     1.0085,       4973,  3399.3,   2.1670,  34.8382,2,  34.8380,2, 228.2000,2,   227.5,2,   63.65,6,   25.51,6,    0.00,6,    1.75,6,   0.014,2,   0.008,2,   0.0000,2,  2215.2,2,  2348.8,2,    857.7,2,    20.00,   7.6909,2,    25.00,-999.000,9,-999.0000,1, -999.00,9,   2.1664,2,    0.80,2,  -130.9,2,     2.3,   0.055,3,   39.58,2,   27.25,2, 3399.30,   1.8939
33RO20100308,      A13.5,      37,          1,          4,      11030,2,20100323,       1210,   -35.9998,     1.0085,       4973,  3800.2,   1.7161,  34.7970,2,  34.7973,2, 221.8000,2,   222.4,2,   81.85,6,   27.69,6,    0.00,6,    1.91,6,   0.032,2,   0.016,2,   0.0000,2,  2232.1,2,  2357.1,2,    905.8,6,    20.00,   7.6690,2,    25.00,-999.000,1,-999.0000,1, -999.00,9,   1.7154,2,    0.72,2,  -138.5,2,     2.6,   0.096,3,   39.96,2,   29.52,2, 3800.20,   1.4121
33RO20100308,      A13.5,      37,          1,          3,      11703,2,20100323,       1210,   -35.9998,     1.0085,       4973,  4200.0,   1.2313,  34.7490,2,  34.7489,2, 217.7000,2,   217.7,2,  101.53,6,   29.96,6,    0.00,6,    2.08,6,   0.059,2,   0.031,2,   0.0310,4,  2248.3,2,  2366.6,2,    979.8,2,    20.00,   7.6450,2,    25.00,-999.000,9,-999.0000,1, -999.00,9,   1.2313,2,    0.64,2,  -161.5,2,     2.2,   0.155,3,   38.62,2,   31.78,2, 4200.00,   0.8978
33RO20100308,      A13.5,      37,          1,          2,      11702,2,20100323,       1210,   -35.9998,     1.0085,       4973,  4600.7,   1.1293,  34.7364,2,  34.7363,2, 217.4000,2,   217.1,2,  106.97,6,   30.59,6,    0.00,6,    2.13,6,   0.083,2,   0.043,2,   0.0380,2,  2252.4,2,  2369.2,2,    981.3,2,    20.00,   7.6390,2,    25.00,-999.000,1,-999.0000,1, -999.00,9,   1.1287,2,    0.60,2,  -153.8,2,     2.6,   0.201,3,   39.26,2,   32.00,2, 4600.70,   0.7540
33RO20100308,      A13.5,      37,          1,          1,      11701,2,20100323,       1210,   -35.9998,     1.0085,       4973,  5051.3,   1.1453,  34.7324,2,  34.7340,2, 217.3000,2,   216.6,2,  108.45,6,   30.77,6,    0.00,6,    2.14,6,   0.083,2,   0.040,2,   0.0000,2,  2254.3,6,  2370.2,6,    988.5,2,    20.00,   7.6381,2,    25.00,-999.000,1,-999.0000,1, -999.00,9,   1.1444,2,    0.58,2,  -153.5,2,     2.6,   0.203,3,   38.71,2,   32.93,2, 5051.30,   0.7165