BOTTLE,20130404CCHSIOCBG
EXPOCODE,SECT_ID,STNNBR,CASTNO,SAMPNO,BTLNBR,BTLNBR_FLAG_W,DATE,TIME,LATITUDE,LONGITUDE,DEPTH,CTDPRS,CTDTMP,CTDSAL,CTDSAL_FLAG_W,SALNTY,SALNTY_FLAG_W,CTDOXY,CTDOXY_FLAG_W,OXYGEN,OXYGEN_FLAG_W,SILCAT,SILCAT_FLAG_W,NITRAT,NITRAT_FLAG_W,NITRIT,NITRIT_FLAG_W,PHSPHT,PHSPHT_FLAG_W,CFC-11,CFC-11_FLAG_W,CFC-12,CFC-12_FLAG_W,SF6,SF6_FLAG_W,TCARBN,TCARBN_FLAG_W,ALKALI,ALKALI_FLAG_W,FCO2,FCO2_FLAG_W,FCO2TMP,PH_TOT,PH_TOT_FLAG_W,PH_TMP,TRITUM,TRITUM_FLAG_W,HELIUM,HELIUM_FLAG_W,DELHE3,DELHE3_FLAG_W,REFTMP,REFTMP_FLAG_W,DELC13,DELC13_FLAG_W,DELC14,DELC14_FLAG_W,C14ERR,CCL4,CCL4_FLAG_W,DOC,DOC_FLAG_W,TDN,TDN_FLAG_W,CTDRAW,THETA
,,,,,,,,,,,METERS,DBAR,ITS-90,PSS-78,,PSS-78,,UMOL/KG,,UMOL/KG,,UMOL/KG,,UMOL/KG,,UMOL/KG,,UMOL/KG,,PMOL/KG,,PMOL/KG,,FMOL/KG,,UMOL/KG,,UMOL/KG,,UATM,,DEG C,,,DEG C,TU,,NMOL/KG,,PERCNT,,DEG C,,/MILLE,,/MILLE,,/MILLE,PMOL/KG,,UMOL/KG,,UMOL/KG,,DBAR,DEG C
33RO20100308,      A13.5,      46,          1,         24,      11714,2,20100325,       2107,   -31.5017,      1.416,       4438,     5.8,  20.6863,  35.8206,2,  35.8258,2, 227.4000,2,   228.3,2,    5.60,4,    0.00,2,    0.00,2,    0.11,2,   2.110,2,   1.291,2,   1.2950,2,  2056.0,6,  2347.8,6,   -999.0,9,  -999.00,   8.0240,2,    25.00,-999.000,9,-999.0000,9, -999.00,9,  20.6918,2, -999.00,9,  -999.0,9,  -999.0,   3.085,3, -999.00,9, -999.00,9,    5.80,  20.6852
33RO20100308,      A13.5,      46,          1,         23,      11713,2,20100325,       2107,   -31.5017,      1.416,       4438,    49.2,  16.6475,  35.5783,2,  35.5795,2, 246.7000,2,   243.5,2,    7.07,4,    2.01,2,    0.21,2,    0.28,2,   2.664,3,   1.972,3,   7.5780,4,  2065.3,2,  2332.3,2,   -999.0,9,  -999.00,   7.9851,2,    25.00,-999.000,9,-999.0000,9, -999.00,9,  16.6484,2, -999.00,9,  -999.0,9,  -999.0,   1.937,3, -999.00,9, -999.00,9,   49.20,  16.6395
33RO20100308,      A13.5,      46,          1,         22,      11712,2,20100325,       2107,   -31.5017,      1.416,       4438,    99.8,  16.2405,  35.5748,2,  35.5741,2, 225.6000,2,   226.8,2,    7.48,4,    4.34,2,    0.03,2,    0.39,2,   2.494,2,   1.508,2,   1.3470,2,  2077.6,2,  2331.0,2,   -999.0,9,  -999.00,   7.9579,2,    25.00,-999.000,9,-999.0000,9, -999.00,9,  16.2414,2, -999.00,9,  -999.0,9,  -999.0,   1.474,3, -999.00,9, -999.00,9,   99.80,  16.2245
33RO20100308,      A13.5,      46,          1,         21,      11010,2,20100325,       2107,   -31.5017,      1.416,       4438,   149.1,  16.1715,  35.5697,2,  35.5685,2, 227.4000,2,   227.9,2,    7.34,4,    4.24,2,    0.02,2,    0.39,2,   2.497,2,   1.513,2,   1.4100,2,  2076.1,2,  2334.1,2,   -999.0,9,  -999.00,   7.9583,2,    25.00,-999.000,9,-999.0000,9, -999.00,9,  16.1698,2, -999.00,9,  -999.0,9,  -999.0,   1.518,3, -999.00,9, -999.00,9,  149.10,  16.1476
33RO20100308,      A13.5,      46,          1,         20,      11715,2,20100325,       2107,   -31.5017,      1.416,       4438,   200.6,  16.0723,  35.5581,2,  35.5579,2, 227.6000,2,   227.9,2,    7.27,4,    4.30,2,    0.01,2,    0.40,2,   2.507,6,   1.518,6,   1.3390,6,  2078.6,2,  2332.6,2,   -999.0,9,  -999.00,   7.9557,2,    25.00,-999.000,9,-999.0000,9, -999.00,9,  16.0713,2, -999.00,9,  -999.0,9,  -999.0,   1.571,3, -999.00,9, -999.00,9,  200.60,  16.0403
33RO20100308,      A13.5,      46,          1,         19,      11007,2,20100325,       2107,   -31.5017,      1.416,       4438,   250.7,  15.8294,  35.5358,2,  35.5357,2, 226.9000,2,   226.7,2,    7.24,4,    4.74,2,    0.01,2,    0.44,2,   0.003,4,   0.001,4,   0.0300,4,  2081.7,2,  2327.6,2,   -999.0,9,  -999.00,   7.9489,2,    25.00,-999.000,9,-999.0000,9, -999.00,9,  15.8284,2, -999.00,9,  -999.0,9,  -999.0,  -0.013,4, -999.00,9, -999.00,9,  250.70,  15.7898
33RO20100308,      A13.5,      46,          1,         18,      11710,2,20100325,       2107,   -31.5017,      1.416,       4438,   350.1,  15.5768,  35.5096,2,  35.5110,2, 225.6000,2,   226.1,6,    7.30,4,    5.14,2,    0.01,2,    0.47,2,   2.546,2,   1.532,2,   1.3230,2,  2085.1,2,  2329.0,2,   -999.0,9,  -999.00,   7.9415,2,    25.00,-999.000,9,-999.0000,9, -999.00,9,  15.5786,2, -999.00,9,  -999.0,9,  -999.0,   1.598,3, -999.00,9, -999.00,9,  350.10,  15.5219
33RO20100308,      A13.5,      46,          1,         17,      11025,2,20100325,       2107,   -31.5017,      1.416,       4438,   450.4,  14.4276,  35.3514,2,  35.3543,2, 214.5000,2,   214.6,2,    7.86,4,    7.75,2,    0.01,2,    0.64,2,   2.720,2,   1.597,2,   1.2720,2,  2104.1,2,  2321.8,2,   -999.0,9,  -999.00,   7.8937,2,    25.00,-999.000,9,-999.0000,9, -999.00,9,  14.4218,2, -999.00,9,  -999.0,9,  -999.0,   1.304,3, -999.00,9, -999.00,9,  450.40,  14.3604
33RO20100308,      A13.5,      46,          1,         16,      11709,2,20100325,       2107,   -31.5017,      1.416,       4438,   601.1,  12.1264,  35.0692,2,  35.0697,2, 214.8000,2,   215.6,2,    8.48,4,   11.90,2,    0.00,2,    0.91,2,   3.045,2,   1.707,2,   1.0830,2,  2122.8,2,  2312.0,2,   -999.0,9,  -999.00,   7.8313,2,    25.00,-999.000,9,-999.0000,9, -999.00,9,  12.1251,2, -999.00,9,  -999.0,9,  -999.0,   1.569,3, -999.00,9, -999.00,9,  601.10,  12.0461
33RO20100308,      A13.5,      46,          1,         15,      11006,2,20100325,       2107,   -31.5017,      1.416,       4438,   750.0,   9.2792,  34.7033,2,  34.7055,2, 209.9000,2,   211.8,2,   12.28,4,   18.76,2,    0.00,2,    1.35,2,   3.145,2,   1.733,2,   1.4390,4,  2146.0,2,  2295.2,2,   -999.0,9,  -999.00,   7.7479,2,    25.00,-999.000,9,-999.0000,9, -999.00,9,   9.2785,2, -999.00,9,  -999.0,9,  -999.0,   2.225,3, -999.00,9, -999.00,9,  750.00,   9.1939
33RO20100308,      A13.5,      46,          1,         14,      11708,2,20100325,       2107,   -31.5017,      1.416,       4438,   900.1,   6.0719,  34.3913,2,  34.3917,2, 211.8000,2,   212.0,2,   20.79,4,   26.63,2,    0.00,2,    1.86,2,   3.172,2,   2.012,3,   7.0670,4,  2172.4,2,  2291.1,2,   -999.0,9,  -999.00,   7.6610,2,    25.00,-999.000,9,-999.0000,9, -999.00,9,   6.0718,2, -999.00,9,  -999.0,9,  -999.0,   3.407,3, -999.00,9, -999.00,9,  900.10,   5.9904
33RO20100308,      A13.5,      46,          1,         13,      11031,2,20100325,       2107,   -31.5017,      1.416,       4438,  1099.8,   4.1776,  34.3356,2,  34.3358,2, 206.7000,2,   207.6,2,   35.19,4,   30.74,2,    0.00,2,    2.15,2,-999.000,9,-999.000,9,-999.0000,9,  2197.1,2,  2292.8,2,   -999.0,9,  -999.00,   7.6179,2,    25.00,-999.000,9,-999.0000,9, -999.00,9,   4.1769,2, -999.00,9,  -999.0,9,  -999.0,-999.000,9, -999.00,9, -999.00,9, 1099.80,   4.0924
33RO20100308,      A13.5,      46,          1,         12,      11027,2,20100325,       2107,   -31.5017,      1.416,       4438,  1300.3,   3.4846,  34.4543,2,  34.4537,2, 181.2000,2,   182.6,2,   52.41,4,   32.93,2,    0.00,2,    2.30,2,   0.973,2,   0.461,2,   0.1510,2,  2225.4,6,  2315.1,6,   -999.0,9,  -999.00,   7.5842,2,    25.00,-999.000,9,-999.0000,9, -999.00,9,   3.4838,2, -999.00,9,  -999.0,9,  -999.0,   1.753,3, -999.00,9, -999.00,9, 1300.30,   3.3885
33RO20100308,      A13.5,      46,          1,         11,      11707,2,20100325,       2107,   -31.5017,      1.416,       4438,  1499.8,   3.1091,  34.5699,2,  34.5707,2, 181.7000,2,   182.2,2,   57.17,4,   32.05,2,    0.00,2,    2.23,2,   0.395,2,   0.186,2,   0.0560,2,  2231.2,2,  2325.0,2,   -999.0,9,  -999.00,   7.5913,2,    25.00,-999.000,9,-999.0000,9, -999.00,9,   3.1093,2, -999.00,9,  -999.0,9,  -999.0,   0.848,3, -999.00,9, -999.00,9, 1499.80,   3.0000
33RO20100308,      A13.5,      46,          1,         10,      11003,2,20100325,       2107,   -31.5017,      1.416,       4438,  1751.6,   3.0001,  34.7019,2,  34.7007,2, 193.0000,2,   192.6,2,   55.81,4,   29.28,2,    0.00,2,    2.04,2,   0.137,2,   0.063,2,   0.0380,2,  2224.3,2,  2327.4,2,   -999.0,9,  -999.00,   7.6221,2,    25.00,-999.000,9,-999.0000,9, -999.00,9,   2.9997,2, -999.00,9,  -999.0,9,  -999.0,   0.379,3, -999.00,9, -999.00,9, 1751.60,   2.8704
33RO20100308,      A13.5,      46,          1,          9,      11706,2,20100325,       2107,   -31.5017,      1.416,       4438,  1999.3,   2.8276,  34.7880,2,  34.7882,2, 208.0000,2,   208.4,2,   53.93,4,   26.77,2,    0.00,2,    1.86,2,-999.000,9,-999.000,9,-999.0000,9,  2214.0,2,  2332.7,2,   -999.0,9,  -999.00,   7.6567,2,    25.00,-999.000,9,-999.0000,9, -999.00,9,   2.8276,2, -999.00,9,  -999.0,9,  -999.0,-999.000,9, -999.00,9, -999.00,9, 1999.30,   2.6782
33RO20100308,      A13.5,      46,          1,          8,      11033,2,20100325,       2107,   -31.5017,      1.416,       4438,  2300.4,   2.5741,  34.8245,2,  34.8234,2, 218.9000,2,   220.3,2,   55.72,4,   25.36,2,    0.00,2,    1.76,2,   0.032,2,   0.014,2,   0.0280,2,  2210.0,2,  2334.1,2,   -999.0,9,  -999.00,   7.6784,2,    25.00,-999.000,9,-999.0000,9, -999.00,9,   2.5738,2, -999.00,9,  -999.0,9,  -999.0,   0.135,3, -999.00,9, -999.00,9, 2300.40,   2.4012
33RO20100308,      A13.5,      46,          1,          7,      11705,2,20100325,       2107,   -31.5017,      1.416,       4438,  2601.6,   2.4293,  34.8477,2,  34.8474,2, 227.3000,2,   228.5,2,   55.74,4,   24.58,2,    0.00,2,    1.70,2,   0.015,2,   0.008,2,   0.0000,2,  2206.9,2,  2338.8,2,   -999.0,9,  -999.00,   7.6936,2,    25.00,-999.000,9,-999.0000,9, -999.00,9,   2.4286,2, -999.00,9,  -999.0,9,  -999.0,   0.081,3, -999.00,9, -999.00,9, 2601.60,   2.2306
33RO20100308,      A13.5,      46,          1,          6,      11029,2,20100325,       2107,   -31.5017,      1.416,       4438,  2900.5,   2.3519,  34.8572,2,  34.8566,2, 230.5000,2,   232.1,6,   56.21,4,   24.16,2,    0.00,2,    1.66,2,   0.010,2,   0.006,2,   0.0000,2,  2207.1,2,  2341.8,2,   -999.0,9,  -999.00,   7.7024,2,    25.00,-999.000,9,-999.0000,9, -999.00,9,   2.3513,2, -999.00,9,  -999.0,9,  -999.0,   0.062,3, -999.00,9, -999.00,9, 2900.50,   2.1255
33RO20100308,      A13.5,      46,          1,          5,      11704,2,20100325,       2107,   -31.5017,      1.416,       4438,  3199.5,   2.3012,  34.8654,2,  34.8644,2, 231.5000,2,   233.1,2,   57.82,4,   24.00,6,    0.00,6,    1.63,6,   0.025,3,   0.041,3,   0.4700,3,  2208.5,2,  2346.7,2,   -999.0,9,  -999.00,   7.7094,2,    25.00,-999.000,9,-999.0000,9, -999.00,9,   2.3006,2, -999.00,9,  -999.0,9,  -999.0,   0.079,3, -999.00,9, -999.00,9, 3199.50,   2.0456
33RO20100308,      A13.5,      46,          1,          4,      11030,2,20100325,       2107,   -31.5017,      1.416,       4438,  3501.9,   2.2673,  34.8711,2,  34.8712,2, 231.8000,2,   232.3,2,   58.73,4,   23.87,6,    0.00,6,    1.63,6,   0.007,6,   0.005,6,   0.0000,6,  2214.1,2,  2354.5,2,   -999.0,9,  -999.00,   7.7145,2,    25.00,-999.000,9,-999.0000,9, -999.00,9,   2.2670,2, -999.00,9,  -999.0,9,  -999.0,   0.038,3, -999.00,9, -999.00,9, 3501.90,   1.9806
33RO20100308,      A13.5,      46,          1,          3,      11703,2,20100325,       2107,   -31.5017,      1.416,       4438,  3801.1,   2.1025,  34.8488,2,  34.8492,2, 229.4000,2,   230.2,2,   66.41,4,   25.09,6,    0.00,6,    1.72,6,   0.015,2,   0.009,2,   0.0360,2,  2219.5,2,  2352.0,2,   -999.0,9,  -999.00,   7.7010,2,    25.00,-999.000,9,-999.0000,9, -999.00,9,   2.1017,2, -999.00,9,  -999.0,9,  -999.0,   0.062,3, -999.00,9, -999.00,9, 3801.10,   1.7877
33RO20100308,      A13.5,      46,          1,          2,      11702,2,20100325,       2107,   -31.5017,      1.416,       4438,  4098.9,   1.5586,  34.7857,2,  34.7859,2, 222.2000,2,   221.6,2,   88.55,4,   28.01,2,    0.00,2,    1.95,2,   0.038,2,   0.018,2,   0.0000,2,  2238.8,2,  2358.5,2,   -999.0,9,  -999.00,   7.6661,2,    25.00,-999.000,9,-999.0000,9, -999.00,9,   1.5593,2, -999.00,9,  -999.0,9,  -999.0,   0.135,3, -999.00,9, -999.00,9, 4098.90,   1.2265
33RO20100308,      A13.5,      46,          1,          1,      11701,2,20100325,       2107,   -31.5017,      1.416,       4438,  4503.3,   1.1984,  34.7447,2,  34.7442,2, 217.5000,2,   216.8,2,  104.28,4,   29.99,2,    0.01,2,    2.09,2,   0.062,2,   0.030,2,   0.0000,2,  2253.2,6,  2364.0,6,   -999.0,9,  -999.00,   7.6453,2,    25.00,-999.000,9,-999.0000,9, -999.00,9,   1.1971,2, -999.00,9,  -999.0,9,  -999.0,   0.206,3, -999.00,9, -999.00,9, 4503.30,   0.8320