BOTTLE,20130404CCHSIOCBG
EXPOCODE,SECT_ID,STNNBR,CASTNO,SAMPNO,BTLNBR,BTLNBR_FLAG_W,DATE,TIME,LATITUDE,LONGITUDE,DEPTH,CTDPRS,CTDTMP,CTDSAL,CTDSAL_FLAG_W,SALNTY,SALNTY_FLAG_W,CTDOXY,CTDOXY_FLAG_W,OXYGEN,OXYGEN_FLAG_W,SILCAT,SILCAT_FLAG_W,NITRAT,NITRAT_FLAG_W,NITRIT,NITRIT_FLAG_W,PHSPHT,PHSPHT_FLAG_W,CFC-11,CFC-11_FLAG_W,CFC-12,CFC-12_FLAG_W,SF6,SF6_FLAG_W,TCARBN,TCARBN_FLAG_W,ALKALI,ALKALI_FLAG_W,FCO2,FCO2_FLAG_W,FCO2TMP,PH_TOT,PH_TOT_FLAG_W,PH_TMP,TRITUM,TRITUM_FLAG_W,HELIUM,HELIUM_FLAG_W,DELHE3,DELHE3_FLAG_W,REFTMP,REFTMP_FLAG_W,DELC13,DELC13_FLAG_W,DELC14,DELC14_FLAG_W,C14ERR,CCL4,CCL4_FLAG_W,DOC,DOC_FLAG_W,TDN,TDN_FLAG_W,CTDRAW,THETA
,,,,,,,,,,,METERS,DBAR,ITS-90,PSS-78,,PSS-78,,UMOL/KG,,UMOL/KG,,UMOL/KG,,UMOL/KG,,UMOL/KG,,UMOL/KG,,PMOL/KG,,PMOL/KG,,FMOL/KG,,UMOL/KG,,UMOL/KG,,UATM,,DEG C,,,DEG C,TU,,NMOL/KG,,PERCNT,,DEG C,,/MILLE,,/MILLE,,/MILLE,PMOL/KG,,UMOL/KG,,UMOL/KG,,DBAR,DEG C
33RO20100308,      A13.5,     105,          1,         24,      11714,2,20100412,       0924,    -2.3333,    -3.0007,       4957,     4.8,  28.8068,  35.1561,2,  35.1594,2, 196.5000,2,   197.0,2,    0.75,6,    0.03,6,    0.00,6,    0.06,3,   1.528,2,   0.978,2,   0.9560,2,  1980.8,6,  2306.3,2,    288.2,2,    20.00,   8.0926,2,    25.00,-999.000,9,-999.0000,9, -999.00,9,  28.7957,2,    1.52,2,    45.7,2,     3.2,-999.000,5,   69.76,2,    4.70,2,    4.80,  28.8056
33RO20100308,      A13.5,     105,          1,         23,      11716,2,20100412,       0924,    -2.3333,    -3.0007,       4957,    24.6,  28.2352,  35.4394,2,  35.4744,2, 199.2000,2,   200.5,2,    0.91,2,    0.22,2,    0.00,2,    0.10,3,   1.579,2,   1.004,2,   0.9960,2,  2004.7,2,  2326.2,6,    299.5,2,    20.00,   8.0786,2,    25.00,-999.000,9,-999.0000,9, -999.00,9,  28.2370,2,    1.51,2,    60.4,2,     2.9,-999.000,5,   69.41,2,    4.64,2,   24.60,  28.2294
33RO20100308,      A13.5,     105,          1,         22,      11022,2,20100412,       0924,    -2.3333,    -3.0007,       4957,    49.9,  16.9500,  35.7736,2,  35.7623,2, 146.2000,2,   144.7,6,    4.75,2,   13.25,2,    0.12,2,    0.99,3,   2.188,6,   1.279,6,   0.8290,6,  2152.4,2,  2347.3,2,   -999.0,9,  -999.00,   7.8284,2,    25.00,-999.000,9,-999.0000,9, -999.00,9,  16.9405,2,    0.81,2,    53.4,2,     3.9,-999.000,5,   51.76,2,   16.64,2,   49.90,  16.9418
33RO20100308,      A13.5,     105,          1,         21,      11010,2,20100412,       0924,    -2.3333,    -3.0007,       4957,   100.2,  16.1365,  35.7028,2,  35.7029,2, 143.7000,2,   142.5,2,    5.23,2,   14.25,2,    0.02,2,    1.04,3,   2.218,2,   1.288,2,   0.8610,2,  2156.7,2,  2344.1,2,    623.1,2,    20.00,   7.8140,2,    25.00,-999.000,9,-999.0000,9, -999.00,9,  16.1369,2,    0.75,2,    56.5,2,     2.9,-999.000,5,   49.52,2,   16.77,2,  100.20,  16.1205
33RO20100308,      A13.5,     105,          1,         20,      11715,2,20100412,       0924,    -2.3333,    -3.0007,       4957,   150.1,  15.8678,  35.6758,2,  35.6766,2, 129.3000,2,   130.4,2,    5.75,2,   16.01,2,    0.01,2,    1.14,3,   2.197,2,   1.271,2,   0.8070,2,  2165.8,2,  2341.5,2,    663.8,2,    20.00,   7.7887,2,    25.00,-999.000,9,-999.0000,9, -999.00,9,  15.8674,2,    0.75,2,    53.4,2,     3.9,-999.000,5,   48.34,2,   18.39,2,  150.10,  15.8441
33RO20100308,      A13.5,     105,          1,         19,      11007,2,20100412,       0924,    -2.3333,    -3.0007,       4957,   200.5,  15.0703,  35.5598,2,  35.5583,2,  84.3000,2,    83.9,2,    7.45,2,   22.13,2,    0.01,2,    1.47,3,   2.054,2,   1.171,2,   0.6730,2,  2197.0,2,  2329.4,2,    864.8,6,    20.00,   7.6843,2,    25.00,-999.000,9,-999.0000,9, -999.00,9,  15.0689,2,    0.39,2,    58.2,2,     3.0,-999.000,5,   46.60,2,   23.98,2,  200.50,  15.0397
33RO20100308,      A13.5,     105,          1,         18,      11710,2,20100412,       0924,    -2.3333,    -3.0007,       4957,   330.8,   9.9429,  34.9296,2,  34.9264,2,  49.4000,2,    49.8,2,   15.17,2,   34.49,2,    0.00,2,    2.19,3,   0.968,6,   0.513,6,   0.1420,6,  2240.5,6,  2301.9,2,   1421.6,2,    20.00,   7.4829,2,    25.00,-999.000,9,-999.0000,9, -999.00,9,   9.9440,2,    0.25,2,    -3.9,2,     3.0,-999.000,5,   44.07,2,   36.96,2,  330.80,   9.9044
33RO20100308,      A13.5,     105,          1,         17,      11025,2,20100412,       0924,    -2.3333,    -3.0007,       4957,   500.6,   6.7612,  34.5888,2,  34.5907,2, 125.2000,2,   125.5,2,   20.83,2,   33.16,2,    0.00,2,    2.21,3,   0.885,2,   0.447,2,   0.1210,2,  2212.2,2,  2292.8,3,   1200.1,2,    20.00,   7.5516,2,    25.00,-999.000,9,-999.0000,9, -999.00,9,   6.7653,2,    0.68,2,   -55.0,2,     2.5,-999.000,5,   42.31,2,   35.49,2,  500.60,   6.7145
33RO20100308,      A13.5,     105,          1,         16,      11709,2,20100412,       0924,    -2.3333,    -3.0007,       4957,   650.0,   5.4598,  34.4965,2,  34.4998,2, 144.4000,2,   142.8,2,   26.17,2,   34.02,2,    0.00,2,    2.32,3,   0.614,2,   0.305,2,   0.0000,2,  2212.5,2,  2295.8,2,   1186.4,2,    20.00,   7.5535,2,    25.00,-999.000,9,-999.0000,9, -999.00,9,   5.4598,2,    0.73,2,   -77.6,2,     2.6,-999.000,5,   41.00,2,   35.70,2,  650.00,   5.4050
33RO20100308,      A13.5,     105,          1,         15,      11006,2,20100412,       0924,    -2.3333,    -3.0007,       4957,   750.4,   5.0241,  34.4906,2,  34.4939,2, 145.0000,2,   140.9,2,   29.33,2,   34.89,2,    0.00,2,    2.40,3,   0.299,2,   0.152,2,   0.0000,2,  2218.6,2,  2297.7,2,   1223.0,2,    20.00,   7.5427,2,    25.00,-999.000,9,-999.0000,9, -999.00,9,   5.0229,2,    0.71,2,   -90.1,2,     2.8,-999.000,5,   40.35,2,   36.71,2,  750.40,   4.9628
33RO20100308,      A13.5,     105,          1,         14,      11708,2,20100412,       0924,    -2.3333,    -3.0007,       4957,   899.9,   4.4739,  34.5420,2,  34.5446,2, 156.1000,2,   155.3,2,   32.38,2,   33.61,2,    0.00,2,    2.32,3,   0.156,2,   0.081,2,   0.0000,2,  2217.9,2,  2303.6,2,   -999.0,9,  -999.00,   7.5661,2,    25.00,-999.000,9,-999.0000,9, -999.00,9,   4.4737,2,    0.71,2,  -105.4,2,     2.4,-999.000,5,   40.24,2,   35.83,2,  899.90,   4.4031
33RO20100308,      A13.5,     105,          1,         13,      11031,2,20100412,       0924,    -2.3333,    -3.0007,       4957,  1100.6,   4.4970,  34.6408,2,  34.6418,2, 159.7000,2,   159.7,2,   30.71,2,   32.17,2,    0.00,2,    2.21,3,   0.068,2,   0.036,2,   0.0000,2,  2215.6,2,  2306.5,2,   1111.2,2,    20.00,   7.5835,2,    25.00,-999.000,9,-999.0000,9, -999.00,9,   4.4968,2,    0.72,2,  -105.4,2,     2.4,-999.000,5,   40.44,2,   34.20,2, 1100.60,   4.4085
33RO20100308,      A13.5,     105,          1,         12,      11027,2,20100412,       0924,    -2.3333,    -3.0007,       4957,  1249.7,   4.4758,  34.8248,2,  34.8259,2, 183.3000,2,   183.0,2,   25.37,2,   27.64,2,    0.00,2,    1.88,3,-999.000,9,-999.000,9,-999.0000,9,  2200.7,2,  2311.5,2,    969.6,2,    20.00,   7.6367,2,    25.00,-999.000,9,-999.0000,9, -999.00,9,   4.4768,2,    0.83,2,   -88.1,2,     3.4,-999.000,9,   39.79,2,   29.75,2, 1249.70,   4.3737
33RO20100308,      A13.5,     105,          1,         11,      11707,2,20100412,       0924,    -2.3333,    -3.0007,       4957,  1400.1,   4.3735,  34.9463,2,  34.9473,2, 218.6000,2,   217.8,2,   19.48,2,   22.75,2,    0.00,2,    1.53,3,-999.000,9,-999.000,9,-999.0000,9,  2180.1,2,  2314.3,2,   -999.0,9,  -999.00,   7.6964,2,    25.00,-999.000,9,-999.0000,9, -999.00,9,   4.3755,2,    0.92,2,   -79.1,2,     2.6,-999.000,9,   40.06,2,   23.94,2, 1400.10,   4.2584
33RO20100308,      A13.5,     105,          1,         10,      11003,2,20100412,       0924,    -2.3333,    -3.0007,       4957,  1600.0,   4.2230,  34.9690,2,  34.9705,2, 230.8000,2,   231.0,2,   18.01,6,   21.18,6,    0.00,6,    1.43,3,   0.300,2,   0.149,2,   0.0000,2,  2173.4,2,  2313.2,2,   -999.0,9,  -999.00,   7.7152,2,    25.00,-999.000,9,-999.0000,9, -999.00,9,   4.2220,2,    0.98,2,   -76.4,2,     2.9,-999.000,5,   39.84,2,   22.14,2, 1600.00,   4.0909
33RO20100308,      A13.5,     105,          1,          9,      11706,2,20100412,       0924,    -2.3333,    -3.0007,       4957,  1899.7,   3.7671,  34.9697,2,  34.9720,2, 244.5000,2,   244.4,2,   19.54,6,   20.14,6,    0.00,6,    1.35,3,-999.000,9,-999.000,9,-999.0000,9,  2168.6,2,  2315.6,2,    767.2,2,    20.00,   7.7294,2,    25.00,-999.000,9,-999.0000,9, -999.00,9,   3.7694,2,    1.06,2,   -87.7,2,     2.6,-999.000,9,   40.18,2,   20.78,2, 1899.70,   3.6126
33RO20100308,      A13.5,     105,          1,          8,      11033,2,20100412,       0924,    -2.3333,    -3.0007,       4957,  2201.0,   3.2831,  34.9442,2,  34.9457,2, 240.6000,2,   241.2,2,   27.68,6,   21.10,6,    0.00,6,    1.43,3,-999.000,9,-999.000,9,-999.0000,9,  2178.5,2,  2323.3,2,   -999.0,9,  -999.00,   7.7261,2,    25.00,-999.000,9,-999.0000,9, -999.00,9,   3.2835,2, -999.00,9,  -999.0,9,  -999.0,-999.000,9,   40.16,2,   22.08,2, 2201.00,   3.1073
33RO20100308,      A13.5,     105,          1,          7,      11705,2,20100412,       0924,    -2.3333,    -3.0007,       4957,  2499.7,   2.9304,  34.9243,2,  34.9276,2, 237.1000,2,   238.7,2,   34.84,6,   21.78,6,    0.00,6,    1.47,3,   0.008,2,   0.005,2,   0.0000,2,  2187.0,2,  2327.6,2,   -999.0,9,  -999.00,   7.7227,2,    25.00,-999.000,9,-999.0000,9, -999.00,9,   2.9300,2, -999.00,9,  -999.0,9,  -999.0,-999.000,5,   39.82,2,   23.09,2, 2499.70,   2.7318
33RO20100308,      A13.5,     105,          1,          6,      11029,2,20100412,       0924,    -2.3333,    -3.0007,       4957,  2899.1,   2.6659,  34.9081,2,  34.9101,2, 237.3000,2,   238.2,2,   40.90,6,   22.27,6,    0.00,6,    1.51,3,-999.000,9,-999.000,9,-999.0000,9,  2193.4,2,  2336.3,2,    792.8,2,    20.00,   7.7211,2,    25.00,-999.000,9,-999.0000,9, -999.00,9,   2.6653,2, -999.00,9,  -999.0,9,  -999.0,-999.000,9,   40.58,2,   23.40,2, 2899.10,   2.4328
33RO20100308,      A13.5,     105,          1,          5,      11704,2,20100412,       0924,    -2.3333,    -3.0007,       4957,  3200.5,   2.5232,  34.8992,2,  34.9003,2, 239.9000,2,   240.8,2,   43.26,6,   22.17,6,    0.00,6,    1.52,3,-999.000,9,-999.000,9,-999.0000,9,  2195.6,2,  2339.2,2,   -999.0,9,  -999.00,   7.7225,2,    25.00,-999.000,9,-999.0000,9, -999.00,9,   2.5232,2, -999.00,9,  -999.0,9,  -999.0,-999.000,9,   40.44,2,   23.92,2, 3200.50,   2.2622
33RO20100308,      A13.5,     105,          1,          4,      11030,2,20100412,       0924,    -2.3333,    -3.0007,       4957,  3599.5,   2.4031,  34.8901,2,  34.8916,2, 240.5000,2,   240.5,2,   46.30,6,   22.30,6,    0.00,6,    1.53,3,   0.014,2,   0.009,2,   0.0000,2,  2196.5,2,  2341.4,2,   -999.0,9,  -999.00,   7.7210,2,    25.00,-999.000,9,-999.0000,9, -999.00,9,   2.4029,2, -999.00,9,  -999.0,9,  -999.0,-999.000,5,   40.64,2,   23.73,2, 3599.50,   2.1023
33RO20100308,      A13.5,     105,          1,          3,      11703,2,20100412,       0924,    -2.3333,    -3.0007,       4957,  3999.8,   2.3359,  34.8828,2,  34.8843,2, 242.8000,2,   242.5,6,   48.09,6,   22.34,6,    0.00,6,    1.54,3,-999.000,9,-999.000,9,-999.0000,9,  2197.6,2,  2343.9,2,    796.3,2,    20.00,   7.7210,2,    25.00,-999.000,9,-999.0000,9, -999.00,9,   2.3357,2, -999.00,9,  -999.0,9,  -999.0,-999.000,9,   39.33,2,   24.25,2, 3999.80,   1.9923
33RO20100308,      A13.5,     105,          1,          2,      11702,2,20100412,       0924,    -2.3333,    -3.0007,       4957,  4400.2,   2.2329,  34.8705,2,  34.8731,2, 242.3000,2,   242.8,2,   52.06,6,   22.69,6,    0.00,6,    1.57,3,-999.000,9,-999.000,9,-999.0000,9,  2200.8,2,  2346.2,2,   -999.0,9,  -999.00,   7.7187,2,    25.00,-999.000,9,-999.0000,9, -999.00,9,   2.2328,2, -999.00,9,  -999.0,9,  -999.0,-999.000,9,   39.68,2,   24.37,2, 4400.20,   1.8458
33RO20100308,      A13.5,     105,          1,          1,      11701,2,20100412,       0924,    -2.3333,    -3.0007,       4957,  5025.6,   2.1899,  34.8594,2,  34.8620,2, 242.9000,2,   241.2,2,   55.84,6,   23.05,6,    0.00,6,    1.60,3,   0.060,2,   0.033,2,   0.0000,2,  2206.2,6,  2349.4,2,    813.0,2,    20.00,   7.7139,2,    25.00,-999.000,9,-999.0000,9, -999.00,9,   2.1896,2, -999.00,9,  -999.0,9,  -999.0,-999.000,5,   39.17,2,   24.67,2, 5025.60,   1.7278