BOTTLE,20130404CCHSIOCBG
EXPOCODE,SECT_ID,STNNBR,CASTNO,SAMPNO,BTLNBR,BTLNBR_FLAG_W,DATE,TIME,LATITUDE,LONGITUDE,DEPTH,CTDPRS,CTDTMP,CTDSAL,CTDSAL_FLAG_W,SALNTY,SALNTY_FLAG_W,CTDOXY,CTDOXY_FLAG_W,OXYGEN,OXYGEN_FLAG_W,SILCAT,SILCAT_FLAG_W,NITRAT,NITRAT_FLAG_W,NITRIT,NITRIT_FLAG_W,PHSPHT,PHSPHT_FLAG_W,CFC-11,CFC-11_FLAG_W,CFC-12,CFC-12_FLAG_W,SF6,SF6_FLAG_W,TCARBN,TCARBN_FLAG_W,ALKALI,ALKALI_FLAG_W,FCO2,FCO2_FLAG_W,FCO2TMP,PH_TOT,PH_TOT_FLAG_W,PH_TMP,TRITUM,TRITUM_FLAG_W,HELIUM,HELIUM_FLAG_W,DELHE3,DELHE3_FLAG_W,REFTMP,REFTMP_FLAG_W,DELC13,DELC13_FLAG_W,DELC14,DELC14_FLAG_W,C14ERR,CCL4,CCL4_FLAG_W,DOC,DOC_FLAG_W,TDN,TDN_FLAG_W,CTDRAW,THETA
,,,,,,,,,,,METERS,DBAR,ITS-90,PSS-78,,PSS-78,,UMOL/KG,,UMOL/KG,,UMOL/KG,,UMOL/KG,,UMOL/KG,,UMOL/KG,,PMOL/KG,,PMOL/KG,,FMOL/KG,,UMOL/KG,,UMOL/KG,,UATM,,DEG C,,,DEG C,TU,,NMOL/KG,,PERCNT,,DEG C,,/MILLE,,/MILLE,,/MILLE,PMOL/KG,,UMOL/KG,,UMOL/KG,,DBAR,DEG C
33RO20100308,      A13.5,      83,          1,         24,      11714,2,20100406,       0825,   -12.9998,      0.925,       5509,     5.3,  26.4608,  36.6675,2,  36.6682,2, 200.3000,2,   201.2,2,    0.87,6,    0.01,6,    0.00,6,    0.13,6,   1.615,2,   1.023,2,   1.0140,2,  2073.2,6,  2406.6,2,    314.3,2,    20.00,   8.0713,2,    25.00,-999.000,9,-999.0000,9, -999.00,9,-999.0000,9, -999.00,9,  -999.0,9,  -999.0,   1.890,3,   76.99,2,    5.04,2,    5.30,  26.4596
33RO20100308,      A13.5,      83,          1,         23,      11716,2,20100406,       0825,   -12.9998,      0.925,       5509,    64.5,  21.1510,  36.4392,2,  36.4485,2, 246.0000,2,   243.5,2,    1.07,2,    0.33,2,    0.01,2,    0.22,2,   2.131,2,   1.302,2,   1.1780,2,  2088.7,2,  2391.7,6,    354.6,6,    20.00,   8.0279,2,    25.00,-999.000,9,-999.0000,9, -999.00,9,-999.0000,9, -999.00,9,  -999.0,9,  -999.0,   1.319,3,   70.64,2,    5.45,2,   64.50,  21.1385
33RO20100308,      A13.5,      83,          1,         22,      11022,2,20100406,       0825,   -12.9998,      0.925,       5509,   199.6,  11.7631,  35.1175,2,  35.1154,2,  51.2000,2,    54.7,2,   10.37,2,   30.02,2,    0.01,2,    1.92,2,   1.678,6,   0.902,6,   0.3660,6,  2228.8,2,  2305.1,6,   1253.8,2,    20.00,   7.5341,2,    25.00,-999.000,9,-999.0000,9, -999.00,9,-999.0000,9, -999.00,9,  -999.0,9,  -999.0,   0.283,3,   47.72,2,   32.75,2,  199.60,  11.7374
33RO20100308,      A13.5,      83,          1,         21,      11010,2,20100406,       0825,   -12.9998,      0.925,       5509,   200.3,  11.7575,  35.1167,2,  35.1134,2,  51.3000,2,    52.2,2,   10.44,2,   30.10,2,    0.01,2,    1.92,2,   1.657,2,   0.895,2,   0.3610,2,  2230.0,2,  2303.2,2,   1264.7,2,    20.00,   7.5335,2,    25.00,-999.000,9,-999.0000,9, -999.00,9,-999.0000,9, -999.00,9,  -999.0,9,  -999.0,   0.261,3,   47.48,2,   32.81,2,  200.30,  11.7317
33RO20100308,      A13.5,      83,          1,         20,      11715,2,20100406,       0825,   -12.9998,      0.925,       5509,   299.6,  10.0544,  34.9293,2,  34.9326,2,  50.4000,2,    50.4,2,   13.78,2,   33.47,2,    0.01,2,    2.13,2,   0.980,2,   0.517,2,   0.1150,2,  2239.8,6,  2300.3,2,   1419.0,2,    20.00,   7.4907,2,    25.00,-999.000,9,-999.0000,9, -999.00,9,-999.0000,9, -999.00,9,  -999.0,9,  -999.0,   0.226,3,   44.78,2,   35.04,2,  299.60,  10.0194
33RO20100308,      A13.5,      83,          1,         19,      11007,9,20100406,       0825,   -12.9998,      0.925,       5509,   400.1,   8.6111,  34.7807,2,-999.0000,9,  54.8000,2,  -999.0,9, -999.00,9, -999.00,9, -999.00,9, -999.00,9,-999.000,9,-999.000,9,-999.0000,9,  -999.0,9,  -999.0,9,   -999.0,9,  -999.00,-999.0000,9,  -999.00,-999.000,9,-999.0000,9, -999.00,9,-999.0000,9, -999.00,9,  -999.0,9,  -999.0,-999.000,9, -999.00,9, -999.00,9,  400.10,   8.5684
33RO20100308,      A13.5,      83,          1,         18,      11710,2,20100406,       0825,   -12.9998,      0.925,       5509,   498.6,   7.2434,  34.6474,2,  34.6473,2,  76.5000,2,    77.1,6,   20.43,2,   36.90,2,    0.00,2,    2.38,2,   0.289,2,   0.152,2,   0.0000,2,  2238.5,2,  2294.2,2,   1457.5,2,    20.00,   7.4736,2,    25.00,-999.000,9,-999.0000,9, -999.00,9,-999.0000,9, -999.00,9,  -999.0,9,  -999.0,   0.270,3,   42.59,2,   38.66,2,  498.60,   7.1950
33RO20100308,      A13.5,      83,          1,         17,      11025,2,20100406,       0825,   -12.9998,      0.925,       5509,   599.7,   6.1618,  34.5559,2,  34.5557,2,  96.8000,2,    96.7,2,   23.92,2,   37.20,2,    0.00,2,    2.43,2,   0.182,2,   0.097,2,   0.0000,2,  2236.2,2,  2293.7,2,   1418.7,2,    20.00,   7.4849,2,    25.00,-999.000,9,-999.0000,9, -999.00,9,-999.0000,9, -999.00,9,  -999.0,9,  -999.0,   0.272,3,   41.39,2,   38.64,2,  599.70,   6.1082
33RO20100308,      A13.5,      83,          1,         16,      11709,2,20100406,       0825,   -12.9998,      0.925,       5509,   700.2,   5.2942,  34.5048,2,  34.5066,2, 111.6000,2,   112.4,2,   28.11,2,   37.30,2,    0.00,2,    2.48,2,   0.091,2,   0.050,2,   0.0000,2,  2234.5,2,  2294.5,2,   1384.4,2,    20.00,   7.4957,2,    25.00,-999.000,9,-999.0000,9, -999.00,9,-999.0000,9, -999.00,9,  -999.0,9,  -999.0,   0.215,3,   40.04,2,   38.75,2,  700.20,   5.2358
33RO20100308,      A13.5,      83,          1,         15,      11006,2,20100406,       0825,   -12.9998,      0.925,       5509,   799.7,   4.7179,  34.4976,2,  34.4983,2, 123.1000,2,   122.9,2,   31.84,2,   37.07,2,    0.00,2,    2.48,2,   0.032,2,   0.019,2,   0.0060,2,  2234.7,2,  2298.0,2,   1354.3,2,    20.00,   7.5052,2,    25.00,-999.000,9,-999.0000,9, -999.00,9,-999.0000,9, -999.00,9,  -999.0,9,  -999.0,   0.121,3,   39.13,2,   38.30,2,  799.70,   4.6542
33RO20100308,      A13.5,      83,          1,         14,      11708,2,20100406,       0825,   -12.9998,      0.925,       5509,  1000.3,   4.0597,  34.5824,2,  34.5831,2, 148.7000,2,   149.1,2,   35.44,2,   34.03,2,    0.00,2,    2.31,2,   0.024,3,   0.035,3,   0.3460,4,  2228.8,2,  2307.0,2,   1215.1,2,    20.00,   7.5514,2,    25.00,-999.000,9,-999.0000,9, -999.00,9,-999.0000,9, -999.00,9,  -999.0,9,  -999.0,   0.060,3,   39.37,2,   35.24,2, 1000.30,   3.9834
33RO20100308,      A13.5,      83,          1,         13,      11031,2,20100406,       0825,   -12.9998,      0.925,       5509,  1199.3,   3.8985,  34.7177,2,  34.7175,2, 165.5000,2,   165.7,2,   33.64,2,   30.82,2,    0.00,2,    2.10,2,   0.002,2,   0.002,2,   0.0000,2,  2220.8,2,  2314.2,2,   1110.9,2,    20.00,   7.5888,2,    25.00,-999.000,9,-999.0000,9, -999.00,9,-999.0000,9, -999.00,9,  -999.0,9,  -999.0,   0.014,3,   40.12,2,   32.77,2, 1199.30,   3.8065
33RO20100308,      A13.5,      83,          1,         12,      11027,2,20100406,       0825,   -12.9998,      0.925,       5509,  1399.5,   3.7987,  34.8254,2,  34.8250,2, 188.2000,2,   187.8,2,   30.09,2,   27.36,2,    0.00,2,    1.85,2,   0.003,2,   0.003,2,   0.0000,2,  2205.2,2,  2313.9,2,    975.3,2,    20.00,   7.6363,2,    25.00,-999.000,9,-999.0000,9, -999.00,9,-999.0000,9, -999.00,9,  -999.0,9,  -999.0,   0.015,3,   40.02,2,   28.52,2, 1399.50,   3.6900
33RO20100308,      A13.5,      83,          1,         11,      11707,2,20100406,       0825,   -12.9998,      0.925,       5509,  1699.6,   3.6209,  34.9066,2,  34.9062,2, 211.8000,2,   211.0,2,   27.68,2,   24.13,2,    0.00,2,    1.62,2,   0.004,2,   0.003,2,   0.0000,2,  2192.8,2,  2318.9,2,    873.6,2,    20.00,   7.6809,2,    25.00,-999.000,9,-999.0000,9, -999.00,9,-999.0000,9, -999.00,9,  -999.0,9,  -999.0,   0.018,3,   40.37,2,   26.15,2, 1699.60,   3.4872
33RO20100308,      A13.5,      83,          1,         10,      11003,2,20100406,       0825,   -12.9998,      0.925,       5509,  1999.6,   3.3573,  34.9246,2,  34.9244,2, 221.8000,2,   220.4,2,   30.13,2,   23.14,2,    0.00,2,    1.55,2,   0.003,2,   0.002,2,   0.0000,2,  2192.4,2,  2321.9,2,    846.3,2,    20.00,   7.6958,2,    25.00,-999.000,9,-999.0000,9, -999.00,9,-999.0000,9, -999.00,9,  -999.0,9,  -999.0,   0.010,3,   40.02,2,   24.61,2, 1999.60,   3.1995
33RO20100308,      A13.5,      83,          1,          9,      11706,2,20100406,       0825,   -12.9998,      0.925,       5509,  2299.9,   3.0900,  34.9217,2,  34.9216,2, 228.2000,2,   226.9,2,   33.90,2,   22.82,2,    0.00,2,    1.52,2,   0.003,2,   0.002,2,   0.0000,2,  2192.7,2,  2327.2,2,    828.6,2,    20.00,   7.7044,2,    25.00,-999.000,9,-999.0000,9, -999.00,9,-999.0000,9, -999.00,9,  -999.0,9,  -999.0,   0.014,3,   39.79,2,   24.72,2, 2299.90,   2.9080
33RO20100308,      A13.5,      83,          1,          8,      11033,2,20100406,       0825,   -12.9998,      0.925,       5509,  2600.4,   2.8492,  34.9119,2,  34.9124,2, 233.4000,2,   231.3,2,   38.08,2,   22.71,2,    0.00,2,    1.51,2,   0.003,2,   0.002,2,   0.0000,2,  2195.6,2,  2332.0,2,    807.3,6,    20.00,   7.7127,2,    25.00,-999.000,9,-999.0000,9, -999.00,9,-999.0000,9, -999.00,9,  -999.0,9,  -999.0,   0.010,3,   40.13,2,   24.73,2, 2600.40,   2.6423
33RO20100308,      A13.5,      83,          1,          7,      11705,2,20100406,       0825,   -12.9998,      0.925,       5509,  3000.1,   2.6108,  34.9013,2,  34.9016,2, 230.9000,2,   229.9,6,   44.41,6,   23.16,6,    0.00,6,    1.54,6,   0.002,2,   0.001,2,   0.0000,2,  2204.8,2,  2338.5,2,    815.4,2,    20.00,   7.7094,2,    25.00,-999.000,9,-999.0000,9, -999.00,9,-999.0000,9, -999.00,9,  -999.0,9,  -999.0,   0.008,3,   39.82,2,   25.02,2, 3000.10,   2.3686
33RO20100308,      A13.5,      83,          1,          6,      11029,2,20100406,       0825,   -12.9998,      0.925,       5509,  3400.6,   2.4219,  34.8920,2,  34.8933,2, 228.8000,2,   227.5,2,   50.34,6,   23.51,6,    0.00,6,    1.57,6,   0.003,2,   0.002,2,   0.0000,2,  2213.4,2,  2350.3,2,    817.7,2,    20.00,   7.7107,2,    25.00,-999.000,9,-999.0000,9, -999.00,9,-999.0000,9, -999.00,9,  -999.0,9,  -999.0,   0.009,3,   39.75,2,   24.92,2, 3400.60,   2.1421
33RO20100308,      A13.5,      83,          1,          5,      11704,2,20100406,       0825,   -12.9998,      0.925,       5509,  3798.5,   2.3597,  34.8879,2,  34.8910,2, 233.0000,3,   228.5,3,   50.70,4,   23.51,4,    0.00,4,    1.57,4,   0.003,6,   0.002,6,   0.0000,6,  2212.9,2,  2353.2,2,    811.5,2,    20.00,   7.7130,2,    25.00,-999.000,9,-999.0000,9, -999.00,9,-999.0000,9, -999.00,9,  -999.0,9,  -999.0,   0.009,3,   39.07,2,   25.71,2, 3798.50,   2.0381
33RO20100308,      A13.5,      83,          1,          4,      11030,2,20100406,       0825,   -12.9998,      0.925,       5509,  4200.4,   2.3602,  34.8858,2,  34.8864,2, 232.7000,2,   231.4,2,   51.93,6,   23.38,6,    0.00,6,    1.56,6,   0.003,2,   0.003,2,   0.0000,2,  2211.9,2,  2353.8,2,    803.5,2,    20.00,   7.7190,2,    25.00,-999.000,9,-999.0000,9, -999.00,9,-999.0000,9, -999.00,9,  -999.0,9,  -999.0,   0.027,3,   39.65,2,   24.54,2, 4200.40,   1.9927
33RO20100308,      A13.5,      83,          1,          3,      11703,2,20100406,       0825,   -12.9998,      0.925,       5509,  4600.2,   2.3777,  34.8831,2,  34.8836,2, 233.1000,2,   232.5,2,   52.42,6,   23.35,6,    0.00,6,    1.56,6,   0.005,2,   0.005,2,   0.0000,2,  2213.3,2,  2356.9,2,    802.7,2,    20.00,   7.7183,2,    25.00,-999.000,9,-999.0000,9, -999.00,9,-999.0000,9, -999.00,9,  -999.0,9,  -999.0,   0.034,3,   39.67,2,   24.84,2, 4600.20,   1.9620
33RO20100308,      A13.5,      83,          1,          2,      11702,9,20100406,       0825,   -12.9998,      0.925,       5509,  5000.1,   2.4023,  34.8804,2,-999.0000,9, 234.8000,2,  -999.0,9, -999.00,9, -999.00,9, -999.00,9, -999.00,9,-999.000,9,-999.000,9,-999.0000,9,  -999.0,9,  -999.0,9,   -999.0,9,  -999.00,-999.0000,9,  -999.00,-999.000,9,-999.0000,9, -999.00,9,-999.0000,9, -999.00,9,  -999.0,9,  -999.0,-999.000,9, -999.00,9, -999.00,9, 5000.10,   1.9362
33RO20100308,      A13.5,      83,          1,          1,      11701,2,20100406,       0825,   -12.9998,      0.925,       5509,  5578.4,   2.4521,  34.8765,2,  34.8765,2, 237.5000,2,   235.6,2,   52.69,6,   23.26,6,    0.00,6,    1.55,6,   0.012,2,   0.008,2,   0.0000,2,  2211.8,6,  2352.5,2,    801.7,2,    20.00,   7.7193,2,    25.00,-999.000,9,-999.0000,9, -999.00,9,-999.0000,9, -999.00,9,  -999.0,9,  -999.0,   0.075,3,   40.33,2,   25.37,2, 5578.40,   1.9090