BOTTLE,20130404CCHSIOCBG
EXPOCODE,SECT_ID,STNNBR,CASTNO,SAMPNO,BTLNBR,BTLNBR_FLAG_W,DATE,TIME,LATITUDE,LONGITUDE,DEPTH,CTDPRS,CTDTMP,CTDSAL,CTDSAL_FLAG_W,SALNTY,SALNTY_FLAG_W,CTDOXY,CTDOXY_FLAG_W,OXYGEN,OXYGEN_FLAG_W,SILCAT,SILCAT_FLAG_W,NITRAT,NITRAT_FLAG_W,NITRIT,NITRIT_FLAG_W,PHSPHT,PHSPHT_FLAG_W,CFC-11,CFC-11_FLAG_W,CFC-12,CFC-12_FLAG_W,SF6,SF6_FLAG_W,TCARBN,TCARBN_FLAG_W,ALKALI,ALKALI_FLAG_W,FCO2,FCO2_FLAG_W,FCO2TMP,PH_TOT,PH_TOT_FLAG_W,PH_TMP,TRITUM,TRITUM_FLAG_W,HELIUM,HELIUM_FLAG_W,DELHE3,DELHE3_FLAG_W,REFTMP,REFTMP_FLAG_W,DELC13,DELC13_FLAG_W,DELC14,DELC14_FLAG_W,C14ERR,CCL4,CCL4_FLAG_W,DOC,DOC_FLAG_W,TDN,TDN_FLAG_W,CTDRAW,THETA
,,,,,,,,,,,METERS,DBAR,ITS-90,PSS-78,,PSS-78,,UMOL/KG,,UMOL/KG,,UMOL/KG,,UMOL/KG,,UMOL/KG,,UMOL/KG,,PMOL/KG,,PMOL/KG,,FMOL/KG,,UMOL/KG,,UMOL/KG,,UATM,,DEG C,,,DEG C,TU,,NMOL/KG,,PERCNT,,DEG C,,/MILLE,,/MILLE,,/MILLE,PMOL/KG,,UMOL/KG,,UMOL/KG,,DBAR,DEG C
33RO20100308,      A13.5,      70,          1,         24,      11714,2,20100401,       0355,      -19.5,     1.2415,       5517,     5.5,  23.9767,  36.3244,2,  36.3258,2, 211.0000,2,   211.4,2,    0.42,2,    0.01,2,    0.00,2,    0.21,2,   1.825,2,   1.133,2,   1.1110,2,  2079.7,6,  2388.5,2,    339.8,2,    20.00,   8.0417,2,    25.00,-999.000,9,-999.0000,9, -999.00,9,  23.9773,2, -999.00,9,  -999.0,9,  -999.0,   2.255,3, -999.00,9, -999.00,9,    5.50,  23.9755
33RO20100308,      A13.5,      70,          1,         23,      11713,2,20100401,       0355,      -19.5,     1.2415,       5517,    50.4,  20.6488,  36.0259,2,  36.0297,2, 239.9000,2,   239.8,2,    0.92,2,    0.05,2,    0.00,2,    0.22,2,   2.253,2,   1.355,2,   1.2620,2,  2081.4,2,  2344.7,3,    362.1,6,    20.00,   8.0161,2,    25.00,-999.000,9,-999.0000,9, -999.00,9,  20.6647,2, -999.00,9,  -999.0,9,  -999.0,   2.032,3, -999.00,9, -999.00,9,   50.40,  20.6392
33RO20100308,      A13.5,      70,          1,         22,      11712,2,20100401,       0355,      -19.5,     1.2415,       5517,   126.2,  18.5937,  35.9514,2,  35.9496,2, 215.6000,2,   213.4,2,    1.42,2,    2.32,2,    0.36,2,    0.41,2,   2.335,6,   1.400,6,   1.2690,6,  2105.6,2,  2361.0,2,    422.7,2,    20.00,   7.9587,2,    25.00,-999.000,9,-999.0000,9, -999.00,9,  18.6096,2, -999.00,9,  -999.0,9,  -999.0,   1.755,3, -999.00,9, -999.00,9,  126.20,  18.5714
33RO20100308,      A13.5,      70,          1,         21,      11010,2,20100401,       0355,      -19.5,     1.2415,       5517,   199.4,  13.9141,  35.2650,2,  35.2690,2, 190.9000,2,   190.5,2,    3.89,2,   10.81,2,    0.01,2,    0.82,2,   2.859,2,   1.635,2,   1.1740,2,  2131.4,2,  2315.9,2,    588.2,2,    20.00,   7.8318,2,    25.00,-999.000,9,-999.0000,9, -999.00,9,  13.9430,2, -999.00,9,  -999.0,9,  -999.0,   0.801,3, -999.00,9, -999.00,9,  199.40,  13.8853
33RO20100308,      A13.5,      70,          1,         20,      11715,2,20100401,       0355,      -19.5,     1.2415,       5517,   300.8,  11.1057,  34.9376,2,  34.9382,2, 173.0000,2,   171.2,6,    7.22,2,   18.77,2,    0.00,2,    1.30,2,   3.062,2,   1.808,3,   3.7730,4,  2162.0,2,  2300.0,2,    771.3,2,    20.00,   7.7269,2,    25.00,-999.000,9,-999.0000,9, -999.00,9,  11.1067,2, -999.00,9,  -999.0,9,  -999.0,   1.111,3, -999.00,9, -999.00,9,  300.80,  11.0682
33RO20100308,      A13.5,      70,          1,         19,      11007,2,20100401,       0355,      -19.5,     1.2415,       5517,   399.3,   8.7601,  34.6746,2,  34.6752,2, 170.5000,2,   170.9,2,   11.94,2,   24.03,2,    0.00,2,    1.64,2,   2.747,2,   1.412,2,   0.6360,2,  2176.6,2,  2293.2,2,   -999.0,9,  -999.00,   7.6685,2,    25.00,-999.000,9,-999.0000,9, -999.00,9,   8.7481,2, -999.00,9,  -999.0,9,  -999.0,   1.521,3, -999.00,9, -999.00,9,  399.30,   8.7171
33RO20100308,      A13.5,      70,          1,         18,      11710,2,20100401,       0355,      -19.5,     1.2415,       5517,   499.8,   6.7234,  34.5105,2,  34.5124,2, 158.6000,2,   159.0,2,   18.41,2,   29.94,2,    0.00,2,    2.02,2,   2.016,2,   1.000,2,   0.3420,2,  2201.1,2,  2291.2,2,   1071.5,2,    20.00,   7.5986,2,    25.00,-999.000,9,-999.0000,9, -999.00,9,   6.7215,2, -999.00,9,  -999.0,9,  -999.0,   1.577,3, -999.00,9, -999.00,9,  499.80,   6.6770
33RO20100308,      A13.5,      70,          1,         17,      11025,2,20100401,       0355,      -19.5,     1.2415,       5517,   599.8,   5.5685,  34.4558,2,  34.4573,2, 155.4000,2,   155.4,2,   24.50,2,   32.76,2,    0.00,2,    2.21,2,   1.138,2,   0.555,2,   0.1700,2,  2211.4,6,  2293.1,2,   -999.0,9,  -999.00,   7.5697,2,    25.00,-999.000,9,-999.0000,9, -999.00,9,   5.5682,2, -999.00,9,  -999.0,9,  -999.0,   1.216,3, -999.00,9, -999.00,9,  599.80,   5.5177
33RO20100308,      A13.5,      70,          1,         16,      11709,2,20100401,       0355,      -19.5,     1.2415,       5517,   699.8,   4.6968,  34.4369,2,  34.4390,2, 161.1000,2,   160.4,2,   30.53,2,   33.81,2,    0.00,2,    2.29,2,   0.555,2,   0.270,2,   0.0420,2,  2218.4,2,  2298.2,2,   1157.8,2,    20.00,   7.5658,2,    25.00,-999.000,9,-999.0000,9, -999.00,9,   4.6964,2, -999.00,9,  -999.0,9,  -999.0,   0.843,3, -999.00,9, -999.00,9,  699.80,   4.6417
33RO20100308,      A13.5,      70,          1,         15,      11006,2,20100401,       0355,      -19.5,     1.2415,       5517,   849.9,   4.0045,  34.4745,2,  34.4755,2, 165.8000,2,   166.9,2,   36.96,2,   33.65,2,    0.00,2,    2.30,2,   0.192,2,   0.097,2,   0.0000,2,  2224.1,2,  2305.5,2,   -999.0,9,  -999.00,   7.5720,2,    25.00,-999.000,9,-999.0000,9, -999.00,9,   4.0053,2, -999.00,9,  -999.0,9,  -999.0,   0.465,3, -999.00,9, -999.00,9,  849.90,   3.9412
33RO20100308,      A13.5,      70,          1,         14,      11708,2,20100401,       0355,      -19.5,     1.2415,       5517,  1001.2,   3.7675,  34.5516,2,  34.5544,2, 171.7000,2,   172.4,2,   38.95,2,   32.56,2,    0.00,2,    2.23,2,-999.000,9,-999.000,9,-999.0000,9,  2222.4,2,  2311.4,2,   1108.8,2,    20.00,   7.5865,2,    25.00,-999.000,9,-999.0000,9, -999.00,9,   3.7671,2, -999.00,9,  -999.0,9,  -999.0,-999.000,9, -999.00,9, -999.00,9, 1001.20,   3.6934
33RO20100308,      A13.5,      70,          1,         13,      11031,2,20100401,       0355,      -19.5,     1.2415,       5517,  1300.0,   3.7246,  34.7398,2,  34.7403,2, 191.8000,2,   191.2,2,   34.14,6,   28.50,6,    0.00,6,    1.93,6,-999.000,9,-999.000,9,-999.0000,9,  2211.1,2,  2315.2,2,   -999.0,9,  -999.00,   7.6355,2,    25.00,-999.000,9,-999.0000,9, -999.00,9,   3.7245,2, -999.00,9,  -999.0,9,  -999.0,-999.000,9, -999.00,9, -999.00,9, 1300.00,   3.6255
33RO20100308,      A13.5,      70,          1,         12,      11027,2,20100401,       0355,      -19.5,     1.2415,       5517,  1600.2,   3.6223,  34.8578,2,  34.8571,2, 214.8000,2,   214.1,2,   29.53,6,   24.88,6,    0.00,6,    1.67,6,   0.010,2,   0.007,2,   0.0000,2,  2195.2,2,  2315.7,2,    872.3,6,    20.00,   7.6815,2,    25.00,-999.000,9,-999.0000,9, -999.00,9,   3.6223,2, -999.00,9,  -999.0,9,  -999.0,   0.083,3, -999.00,9, -999.00,9, 1600.20,   3.4977
33RO20100308,      A13.5,      70,          1,         11,      11707,2,20100401,       0355,      -19.5,     1.2415,       5517,  1900.2,   3.2635,  34.8976,2,  34.8961,2, 232.3000,2,   231.8,2,   31.25,2,   22.87,2,    0.00,2,    1.54,2,   0.013,3,   0.009,3,   0.0000,2,  2189.5,2,  2322.9,2,    812.2,2,    20.00,   7.7096,2,    25.00,-999.000,9,-999.0000,9, -999.00,9,   3.2634,2, -999.00,9,  -999.0,9,  -999.0,   0.099,3, -999.00,9, -999.00,9, 1900.20,   3.1163
33RO20100308,      A13.5,      70,          1,         10,      11003,2,20100401,       0355,      -19.5,     1.2415,       5517,  2200.5,   2.9932,  34.9059,2,  34.9048,2, 237.3000,2,   237.9,2,   34.39,2,   22.46,2,    0.00,2,    1.50,2,   0.006,2,   0.004,2,   0.0000,2,  2189.3,2,  2327.0,2,    800.0,2,    20.00,   7.7173,2,    25.00,-999.000,9,-999.0000,9, -999.00,9,   2.9930,2, -999.00,9,  -999.0,9,  -999.0,   0.061,3, -999.00,9, -999.00,9, 2200.50,   2.8223
33RO20100308,      A13.5,      70,          1,          9,      11706,2,20100401,       0355,      -19.5,     1.2415,       5517,  2500.9,   2.7381,  34.8943,2,  34.8944,2, 237.2000,2,   238.4,2,   39.99,2,   22.77,2,    0.00,2,    1.53,2,   0.003,2,   0.002,2,   0.0000,2,  2194.1,2,  2329.8,2,    805.6,2,    20.00,   7.7173,2,    25.00,-999.000,9,-999.0000,9, -999.00,9,   2.7377,2, -999.00,9,  -999.0,9,  -999.0,   0.041,3, -999.00,9, -999.00,9, 2500.90,   2.5430
33RO20100308,      A13.5,      70,          1,          8,      11033,2,20100401,       0355,      -19.5,     1.2415,       5517,  2801.0,   2.5817,  34.8923,2,  34.8914,2, 233.2000,2,   234.6,2,   44.53,2,   23.15,2,    0.00,2,    1.56,2,   0.002,2,   0.001,2,   0.0000,2,  2200.1,2,  2337.4,2,    807.5,2,    20.00,   7.7137,2,    25.00,-999.000,9,-999.0000,9, -999.00,9,   2.5817,2, -999.00,9,  -999.0,9,  -999.0,   0.008,3, -999.00,9, -999.00,9, 2801.00,   2.3603
33RO20100308,      A13.5,      70,          1,          7,      11705,2,20100401,       0355,      -19.5,     1.2415,       5517,  3100.9,   2.4968,  34.8904,2,  34.8898,2, 232.3000,2,   233.7,2,   47.36,2,   23.33,2,    0.00,2,    1.58,2,   0.002,2,   0.000,2,   0.0000,2,  2205.3,2,  2341.6,2,    810.6,2,    20.00,   7.7129,2,    25.00,-999.000,9,-999.0000,9, -999.00,9,   2.4968,2, -999.00,9,  -999.0,9,  -999.0,   0.003,3, -999.00,9, -999.00,9, 3100.90,   2.2468
33RO20100308,      A13.5,      70,          1,          6,      11029,2,20100401,       0355,      -19.5,     1.2415,       5517,  3399.2,   2.4300,  34.8903,2,  34.8884,2, 231.1000,2,   232.1,2,   49.53,2,   23.44,2,    0.00,2,    1.58,2,   0.003,2,   0.003,3,   0.0000,2,  2210.1,2,  2348.0,2,    808.9,2,    20.00,   7.7144,2,    25.00,-999.000,9,-999.0000,9, -999.00,9,   2.4301,2, -999.00,9,  -999.0,9,  -999.0,   0.004,3, -999.00,9, -999.00,9, 3399.20,   2.1502
33RO20100308,      A13.5,      70,          1,          5,      11704,2,20100401,       0355,      -19.5,     1.2415,       5517,  3800.6,   2.3915,  34.8896,2,  34.8881,2, 231.6000,2,   232.6,6,   50.74,6,   23.40,6,    0.00,6,    1.56,6,   0.002,2,   0.001,2,   0.0000,2,  2213.5,2,  2352.1,2,    804.9,2,    20.00,   7.7175,2,    25.00,-999.000,9,-999.0000,9, -999.00,9,   2.3915,2, -999.00,9,  -999.0,9,  -999.0,   0.004,3, -999.00,9, -999.00,9, 3800.60,   2.0688
33RO20100308,      A13.5,      70,          1,          4,      11030,2,20100401,       0355,      -19.5,     1.2415,       5517,  4200.9,   2.3852,  34.8870,2,  34.8854,2, 233.2000,2,   232.7,2,   51.54,6,   23.37,6,    0.00,6,    1.57,6,   0.002,2,   0.002,2,   0.0000,2,  2214.4,2,  2354.3,2,    800.8,2,    20.00,   7.7190,2,    25.00,-999.000,9,-999.0000,9, -999.00,9,   2.3848,2, -999.00,9,  -999.0,9,  -999.0,   0.013,3, -999.00,9, -999.00,9, 4200.90,   2.0169
33RO20100308,      A13.5,      70,          1,          3,      11703,2,20100401,       0355,      -19.5,     1.2415,       5517,  4599.5,   2.4068,  34.8853,2,  34.8842,2, 231.7000,2,   233.9,2,   52.16,6,   23.37,6,    0.00,6,    1.57,6,   0.002,2,   0.002,2,   0.0000,2,  2215.7,2,  2355.5,2,    799.8,2,    20.00,   7.7194,2,    25.00,-999.000,9,-999.0000,9, -999.00,9,   2.4062,2, -999.00,9,  -999.0,9,  -999.0,   0.017,3, -999.00,9, -999.00,9, 4599.50,   1.9903
33RO20100308,      A13.5,      70,          1,          2,      11702,2,20100401,       0355,      -19.5,     1.2415,       5517,  5000.0,   2.4320,  34.8828,2,  34.8812,2, 233.8000,2,   233.9,2,   52.54,2,   23.36,2,    0.00,2,    1.57,2,   0.003,2,   0.003,2,   0.0000,2,  2214.9,2,  2356.9,2,    796.8,2,    20.00,   7.7210,2,    25.00,-999.000,9,-999.0000,9, -999.00,9,   2.4314,2, -999.00,9,  -999.0,9,  -999.0,   0.030,3, -999.00,9, -999.00,9, 5000.00,   1.9649
33RO20100308,      A13.5,      70,          1,          1,      11701,2,20100401,       0355,      -19.5,     1.2415,       5517,  5595.1,   2.5022,  34.8816,2,  34.8802,2, 234.9000,2,   234.0,2,   52.67,2,   23.36,2,    0.00,2,    1.57,2,   0.003,2,   0.004,2,   0.0000,2,  2217.1,6,  2356.9,2,    797.0,2,    20.00,   7.7216,2,    25.00,-999.000,9,-999.0000,9, -999.00,9,   2.5017,2, -999.00,9,  -999.0,9,  -999.0,   0.039,3, -999.00,9, -999.00,9, 5595.10,   1.9550