BOTTLE,20130404CCHSIOCBG
EXPOCODE,SECT_ID,STNNBR,CASTNO,SAMPNO,BTLNBR,BTLNBR_FLAG_W,DATE,TIME,LATITUDE,LONGITUDE,DEPTH,CTDPRS,CTDTMP,CTDSAL,CTDSAL_FLAG_W,SALNTY,SALNTY_FLAG_W,CTDOXY,CTDOXY_FLAG_W,OXYGEN,OXYGEN_FLAG_W,SILCAT,SILCAT_FLAG_W,NITRAT,NITRAT_FLAG_W,NITRIT,NITRIT_FLAG_W,PHSPHT,PHSPHT_FLAG_W,CFC-11,CFC-11_FLAG_W,CFC-12,CFC-12_FLAG_W,SF6,SF6_FLAG_W,TCARBN,TCARBN_FLAG_W,ALKALI,ALKALI_FLAG_W,FCO2,FCO2_FLAG_W,FCO2TMP,PH_TOT,PH_TOT_FLAG_W,PH_TMP,TRITUM,TRITUM_FLAG_W,HELIUM,HELIUM_FLAG_W,DELHE3,DELHE3_FLAG_W,REFTMP,REFTMP_FLAG_W,DELC13,DELC13_FLAG_W,DELC14,DELC14_FLAG_W,C14ERR,CCL4,CCL4_FLAG_W,DOC,DOC_FLAG_W,TDN,TDN_FLAG_W,CTDRAW,THETA
,,,,,,,,,,,METERS,DBAR,ITS-90,PSS-78,,PSS-78,,UMOL/KG,,UMOL/KG,,UMOL/KG,,UMOL/KG,,UMOL/KG,,UMOL/KG,,PMOL/KG,,PMOL/KG,,FMOL/KG,,UMOL/KG,,UMOL/KG,,UATM,,DEG C,,,DEG C,TU,,NMOL/KG,,PERCNT,,DEG C,,/MILLE,,/MILLE,,/MILLE,PMOL/KG,,UMOL/KG,,UMOL/KG,,DBAR,DEG C
33RO20100308,      A13.5,     106,          1,         24,      11714,2,20100412,       1449,    -1.9998,       -3.0,       5041,     4.7,  28.8653,  35.1682,2,  35.1798,2, 196.4000,2,   197.9,2,    0.60,6,    0.08,6,    0.00,6,    0.03,6,   1.556,2,   0.984,2,   0.9550,2,  1983.3,2,  2306.2,2,    289.1,2,    20.00,   8.0919,2,    25.00,-999.000,1,-999.0000,1, -999.00,9,  28.8676,2, -999.00,9,  -999.0,9,  -999.0,   1.715,3, -999.00,9, -999.00,9,    4.70,  28.8642
33RO20100308,      A13.5,     106,          1,         23,      11716,2,20100412,       1449,    -1.9998,       -3.0,       5041,    34.8,  26.0522,  35.7363,2,  35.7566,2, 209.3000,2,   211.4,2,    1.03,2,    0.29,2,    0.01,2,    0.13,2,   1.781,2,   1.087,2,   0.9450,2,  2040.1,2,  2348.3,2,    331.4,2,    20.00,   8.0484,2,    25.00,-999.000,1,-999.0000,1, -999.00,9,  26.0873,2, -999.00,9,  -999.0,9,  -999.0,   1.118,3, -999.00,9, -999.00,9,   34.80,  26.0444
33RO20100308,      A13.5,     106,          1,         22,      11022,2,20100412,       1449,    -1.9998,       -3.0,       5041,    70.7,  16.3380,  35.7268,2,  35.7246,2, 143.4000,2,   141.2,2,    5.00,2,   14.18,2,    0.03,2,    1.00,2,   2.270,2,   1.293,2,   0.8560,2,  2157.5,2,  2344.5,6,    622.2,2,    20.00,   7.8167,2,    25.00,-999.000,1,-999.0000,1, -999.00,9,  16.3368,2, -999.00,9,  -999.0,9,  -999.0,   0.514,3, -999.00,9, -999.00,9,   70.70,  16.3266
33RO20100308,      A13.5,     106,          1,         21,      11010,2,20100412,       1449,    -1.9998,       -3.0,       5041,   124.3,  15.8791,  35.6741,2,  35.6722,2, 128.0000,2,   130.1,2,    5.55,2,   16.59,2,    0.02,2,    1.13,2,   2.236,2,   1.270,2,   0.7740,2,  2168.5,2,  2342.1,2,    668.9,2,    20.00,   7.7871,2,    25.00,-999.000,1,-999.0000,1, -999.00,9,  15.8801,2, -999.00,9,  -999.0,9,  -999.0,   0.451,3, -999.00,9, -999.00,9,  124.30,  15.8595
33RO20100308,      A13.5,     106,          1,         20,      11715,2,20100412,       1449,    -1.9998,       -3.0,       5041,   225.2,  14.1696,  35.4319,2,  35.4207,2,  73.3000,2,    72.3,2,    8.45,2,   24.70,2,    0.01,2,    1.57,2,   1.967,2,   1.073,2,   0.4690,2,  2211.4,2,  2322.9,2,    968.1,2,    20.00,   7.6381,2,    25.00,-999.000,1,-999.0000,1, -999.00,9,  14.1729,2, -999.00,9,  -999.0,9,  -999.0,   0.229,3, -999.00,9, -999.00,9,  225.20,  14.1366
33RO20100308,      A13.5,     106,          1,         19,      11007,4,20100412,       1449,    -1.9998,       -3.0,       5041,   325.0,   9.7957,  34.9071,4,  35.7408,4,  65.9000,4,   145.2,4,    4.81,4,   13.70,4,    0.05,4,    0.97,4,   2.260,4,   1.295,4,   0.8410,4,  2157.9,4,  2347.9,4,    610.0,4,    20.00,   7.8248,4,    25.00,-999.000,1,-999.0000,1, -999.00,9,   9.7917,2, -999.00,9,  -999.0,9,  -999.0,   0.526,4, -999.00,9, -999.00,9,  325.00,   9.7583
33RO20100308,      A13.5,     106,          1,         18,      11710,2,20100412,       1449,    -1.9998,       -3.0,       5041,   424.7,   7.9615,  34.7079,2,  34.7034,2,  93.2000,2,    94.8,2,   18.14,2,   34.82,2,    0.01,2,    2.20,2,   0.925,2,   0.468,2,   0.1320,2,  2226.4,2,  2295.2,2,   1307.6,2,    20.00,   7.5188,2,    25.00,-999.000,1,-999.0000,1, -999.00,9,   7.9705,2, -999.00,9,  -999.0,9,  -999.0,   0.545,3, -999.00,9, -999.00,9,  424.70,   7.9182
33RO20100308,      A13.5,     106,          1,         17,      11025,2,20100412,       1449,    -1.9998,       -3.0,       5041,   524.6,   6.5568,  34.5617,2,  34.5646,2, 140.7000,2,   138.5,2,   20.89,2,   32.82,2,    0.00,2,    2.15,2,   1.056,2,   0.523,2,   0.1350,2,  2210.0,2,  2294.8,2,   1146.6,2,    20.00,   7.5701,2,    25.00,-999.000,1,-999.0000,1, -999.00,9,   6.5773,2, -999.00,9,  -999.0,9,  -999.0,   0.924,3, -999.00,9, -999.00,9,  524.60,   6.5086
33RO20100308,      A13.5,     106,          1,         16,      11709,2,20100412,       1449,    -1.9998,       -3.0,       5041,   599.7,   5.9248,  34.5154,2,  34.5164,2, 143.4000,2,   142.9,2,   23.59,2,   33.59,2,    0.00,2,    2.22,2,   0.860,2,   0.423,2,   0.1000,2,  2211.8,2,  2293.8,2,   1166.4,2,    20.00,   7.5635,2,    25.00,-999.000,1,-999.0000,1, -999.00,9,   5.9261,2, -999.00,9,  -999.0,9,  -999.0,   0.905,3, -999.00,9, -999.00,9,  599.70,   5.8723
33RO20100308,      A13.5,     106,          1,         15,      11006,2,20100412,       1449,    -1.9998,       -3.0,       5041,   690.2,   5.2530,  34.4875,2,  34.4864,2, 147.1000,2,   146.5,2,   27.44,2,   34.74,2,    0.00,2,    2.31,2,   0.551,2,   0.266,2,   0.0000,2,  2216.2,2,  2295.4,2,   1187.1,2,    20.00,   7.5545,2,    25.00,-999.000,1,-999.0000,1, -999.00,9,   5.2548,2, -999.00,9,  -999.0,9,  -999.0,   0.730,3, -999.00,9, -999.00,9,  690.20,   5.1957
33RO20100308,      A13.5,     106,          1,         14,      11708,2,20100412,       1449,    -1.9998,       -3.0,       5041,   899.1,   4.5758,  34.5604,2,  34.5591,2, 150.6000,2,   149.9,2,   31.73,2,   34.44,2,    0.00,2,    2.31,2,   0.101,2,   0.052,2,   0.0000,2,  2222.3,2,  2302.7,2,   1175.0,2,    20.00,   7.5606,2,    25.00,-999.000,1,-999.0000,1, -999.00,9,   4.5769,2, -999.00,9,  -999.0,9,  -999.0,   0.239,3, -999.00,9, -999.00,9,  899.10,   4.5044
33RO20100308,      A13.5,     106,          1,         13,      11031,2,20100412,       1449,    -1.9998,       -3.0,       5041,  1101.7,   4.5118,  34.6535,2,  34.6527,2, 160.4000,2,   159.9,2,   30.28,2,   32.40,2,    0.00,2,    2.17,2,   0.066,2,   0.034,2,   0.0000,2,  2216.7,2,  2307.3,2,   1104.8,2,    20.00,   7.5883,2,    25.00,-999.000,1,-999.0000,1, -999.00,9,   4.5117,2, -999.00,9,  -999.0,9,  -999.0,   0.183,3, -999.00,9, -999.00,9, 1101.70,   4.4230
33RO20100308,      A13.5,     106,          1,         12,      11027,2,20100412,       1449,    -1.9998,       -3.0,       5041,  1300.0,   4.4672,  34.8795,2,  34.8811,2, 196.6000,2,   196.9,2,   22.74,2,   25.76,2,    0.00,2,    1.71,2,   0.127,2,   0.064,2,   0.0000,2,  2194.3,2,  2311.7,2,    911.2,2,    20.00,   7.6628,2,    25.00,-999.000,1,-999.0000,1, -999.00,9,   4.4651,2, -999.00,9,  -999.0,9,  -999.0,   0.316,3, -999.00,9, -999.00,9, 1300.00,   4.3605
33RO20100308,      A13.5,     106,          1,         11,      11707,2,20100412,       1449,    -1.9998,       -3.0,       5041,  1500.0,   4.2759,  34.9617,2,  34.9603,2, 226.9000,2,   226.1,2,   18.47,2,   21.82,2,    0.00,2,    1.44,2,   0.266,2,   0.130,2,   0.0000,2,  2177.5,2,  2313.6,2,    814.6,2,    20.00,   7.7079,2,    25.00,-999.000,1,-999.0000,1, -999.00,9,   4.2761,2, -999.00,9,  -999.0,9,  -999.0,   0.624,3, -999.00,9, -999.00,9, 1500.00,   4.1526
33RO20100308,      A13.5,     106,          1,         10,      11003,2,20100412,       1449,    -1.9998,       -3.0,       5041,  1799.6,   3.9344,  34.9746,2,  34.9742,2, 241.8000,2,   241.6,2,   18.26,6,   20.08,6,    0.00,6,    1.33,6,   0.255,2,   0.126,2,   0.0000,2,  2170.5,2,  2314.1,2,    775.9,2,    20.00,   7.7278,2,    25.00,-999.000,1,-999.0000,1, -999.00,9,   3.9343,2, -999.00,9,  -999.0,9,  -999.0,   0.649,3, -999.00,9, -999.00,9, 1799.60,   3.7871
33RO20100308,      A13.5,     106,          1,          9,      11706,2,20100412,       1449,    -1.9998,       -3.0,       5041,  2098.6,   3.4355,  34.9578,2,  34.9563,2, 246.6000,2,   245.3,2,   23.61,6,   20.27,6,    0.00,6,    1.35,6,   0.087,2,   0.045,2,   0.0000,2,  2173.4,2,  2319.7,3,    761.6,2,    20.00,   7.7325,2,    25.00,-999.000,9,-999.0000,1, -999.00,9,   3.4366,2, -999.00,9,  -999.0,9,  -999.0,   0.332,3, -999.00,9, -999.00,9, 2098.60,   3.2670
33RO20100308,      A13.5,     106,          1,          8,      11033,2,20100412,       1449,    -1.9998,       -3.0,       5041,  2399.6,   3.0838,  34.9339,2,  34.9329,2, 240.4000,2,   239.5,2,   31.45,6,   21.32,6,    0.00,6,    1.43,6,   0.018,2,   0.013,2,   0.0000,2,  2182.8,2,  2325.3,2,    777.4,2,    20.00,   7.7243,2,    25.00,-999.000,1,-999.0000,1, -999.00,9,   3.0832,2, -999.00,9,  -999.0,9,  -999.0,   0.112,3, -999.00,9, -999.00,9, 2399.60,   2.8922
33RO20100308,      A13.5,     106,          1,          7,      11705,2,20100412,       1449,    -1.9998,       -3.0,       5041,  2700.2,   2.7420,  34.9139,2,  34.9131,2, 237.9000,2,   237.3,2,   39.08,6,   22.04,6,    0.00,6,    1.48,6,   0.003,2,   0.003,2,   0.0000,2,  2192.0,2,  2333.8,2,    786.8,2,    20.00,   7.7208,2,    25.00,-999.000,9,-999.0000,1, -999.00,9,   2.7419,2, -999.00,9,  -999.0,9,  -999.0,   0.039,3, -999.00,9, -999.00,9, 2700.20,   2.5273
33RO20100308,      A13.5,     106,          1,          6,      11029,2,20100412,       1449,    -1.9998,       -3.0,       5041,  2999.2,   2.5991,  34.9051,2,  34.9039,2, 239.0000,2,   238.7,2,   41.94,6,   22.13,6,    0.00,6,    1.49,6,   0.006,2,   0.004,2,   0.0000,2,  2194.1,2,  2336.8,2,    785.4,2,    20.00,   7.7222,2,    25.00,-999.000,1,-999.0000,1, -999.00,9,   2.5987,2, -999.00,9,  -999.0,9,  -999.0,   0.053,3, -999.00,9, -999.00,9, 2999.20,   2.3572
33RO20100308,      A13.5,     106,          1,          5,      11704,4,20100412,       1449,    -1.9998,       -3.0,       5041,  3398.7,   2.4631,  34.8958,4,  35.1687,4, 239.2000,2,  -999.0,9,    0.55,4,    0.02,4,    0.00,4,    0.02,4,   1.555,4,   0.981,4,   1.0170,4,  -999.0,9,  -999.0,5,   -999.0,9,  -999.00,-999.0000,9,  -999.00,-999.000,9,-999.0000,1, -999.00,9,   2.4630,2, -999.00,9,  -999.0,9,  -999.0,   1.751,4, -999.00,9, -999.00,9, 3398.70,   2.1825
33RO20100308,      A13.5,     106,          1,          4,      11030,2,20100412,       1449,    -1.9998,       -3.0,       5041,  3801.5,   2.3593,  34.8859,2,  34.8847,2, 240.9000,2,   241.9,2,   47.62,6,   22.29,6,    0.00,6,    1.51,6,   0.020,2,   0.013,2,   0.0000,2,  2199.0,2,  2342.1,3,    789.5,2,    20.00,   7.7217,2,    25.00,-999.000,1,-999.0000,1, -999.00,9,   2.3587,2, -999.00,9,  -999.0,9,  -999.0,   0.130,3, -999.00,9, -999.00,9, 3801.50,   2.0374
33RO20100308,      A13.5,     106,          1,          3,      11703,2,20100412,       1449,    -1.9998,       -3.0,       5041,  4198.3,   2.2758,  34.8763,2,  34.8750,2, 243.2000,2,   243.0,2,   50.31,6,   22.41,6,    0.00,6,    1.53,6,   0.035,2,   0.020,2,   0.0000,2,  2200.9,2,  2343.4,2,    794.1,2,    20.00,   7.7194,2,    25.00,-999.000,9,-999.0000,1, -999.00,9,   2.2757,2, -999.00,9,  -999.0,9,  -999.0,   0.192,3, -999.00,9, -999.00,9, 4198.30,   1.9111
33RO20100308,      A13.5,     106,          1,          2,      11702,2,20100412,       1449,    -1.9998,       -3.0,       5041,  4600.2,   2.2007,  34.8657,2,  34.8644,2, 241.7000,2,   242.4,2,   54.13,6,   22.86,6,    0.00,6,    1.56,6,   0.045,2,   0.025,2,   0.0000,2,  2206.6,2,  2347.3,2,    802.6,2,    20.00,   7.7154,2,    25.00,-999.000,1,-999.0000,1, -999.00,9,   2.2005,2, -999.00,9,  -999.0,9,  -999.0,   0.228,3, -999.00,9, -999.00,9, 4600.20,   1.7907
33RO20100308,      A13.5,     106,          1,          1,      11701,2,20100412,       1449,    -1.9998,       -3.0,       5041,  5116.3,   2.2032,  34.8595,2,  34.8575,2, 243.2000,2,   241.6,2,   56.08,6,   22.97,6,    0.00,6,    1.57,6,   0.063,2,   0.033,2,   0.0000,2,  2209.0,2,  2346.0,2,    808.8,2,    20.00,   7.7125,2,    25.00,-999.000,1,-999.0000,1, -999.00,9,   2.2029,2, -999.00,9,  -999.0,9,  -999.0,   0.278,3, -999.00,9, -999.00,9, 5116.30,   1.7292