BOTTLE,20130404CCHSIOCBG
EXPOCODE,SECT_ID,STNNBR,CASTNO,SAMPNO,BTLNBR,BTLNBR_FLAG_W,DATE,TIME,LATITUDE,LONGITUDE,DEPTH,CTDPRS,CTDTMP,CTDSAL,CTDSAL_FLAG_W,SALNTY,SALNTY_FLAG_W,CTDOXY,CTDOXY_FLAG_W,OXYGEN,OXYGEN_FLAG_W,SILCAT,SILCAT_FLAG_W,NITRAT,NITRAT_FLAG_W,NITRIT,NITRIT_FLAG_W,PHSPHT,PHSPHT_FLAG_W,CFC-11,CFC-11_FLAG_W,CFC-12,CFC-12_FLAG_W,SF6,SF6_FLAG_W,TCARBN,TCARBN_FLAG_W,ALKALI,ALKALI_FLAG_W,FCO2,FCO2_FLAG_W,FCO2TMP,PH_TOT,PH_TOT_FLAG_W,PH_TMP,TRITUM,TRITUM_FLAG_W,HELIUM,HELIUM_FLAG_W,DELHE3,DELHE3_FLAG_W,REFTMP,REFTMP_FLAG_W,DELC13,DELC13_FLAG_W,DELC14,DELC14_FLAG_W,C14ERR,CCL4,CCL4_FLAG_W,DOC,DOC_FLAG_W,TDN,TDN_FLAG_W,CTDRAW,THETA
,,,,,,,,,,,METERS,DBAR,ITS-90,PSS-78,,PSS-78,,UMOL/KG,,UMOL/KG,,UMOL/KG,,UMOL/KG,,UMOL/KG,,UMOL/KG,,PMOL/KG,,PMOL/KG,,FMOL/KG,,UMOL/KG,,UMOL/KG,,UATM,,DEG C,,,DEG C,TU,,NMOL/KG,,PERCNT,,DEG C,,/MILLE,,/MILLE,,/MILLE,PMOL/KG,,UMOL/KG,,UMOL/KG,,DBAR,DEG C
33RO20100308,      A13.5,       8,          1,         24,      11714,2,20100316,       0640,   -50.5002,     0.4855,       3616,     4.9,   4.5510,  33.7990,2,  33.7991,2, 313.5000,2,   314.9,2,    7.48,2,   20.23,2,    0.24,2,    1.49,2,   5.001,2,   2.724,2,   2.3990,2,  2127.2,6,  2284.9,6,    682.4,2,    20.00,   7.7757,2,    25.00,-999.000,9,-999.0000,9, -999.00,9,   4.5496,2, -999.00,9,  -999.0,9,  -999.0,   6.683,3, -999.00,9, -999.00,9,    4.90,   4.5507
33RO20100308,      A13.5,       8,          1,         23,      11713,2,20100316,       0640,   -50.5002,     0.4855,       3616,    79.0,   3.8695,  33.8707,2,  33.8736,2, 303.2000,2,   303.2,2,   11.95,2,   22.31,2,    0.30,2,    1.69,2,   5.141,2,   2.773,2,   2.3410,2,  2143.3,2,  2285.3,2,    757.0,6,    20.00,   7.7312,2,    25.00,-999.000,9,-999.0000,9, -999.00,9,   3.8639,2, -999.00,9,  -999.0,9,  -999.0,   6.638,3, -999.00,9, -999.00,9,   79.00,   3.8642
33RO20100308,      A13.5,       8,          1,         22,      11712,2,20100316,       0640,   -50.5002,     0.4855,       3616,   124.1,   2.3357,  34.0142,2,  34.0158,2, 286.7000,2,   284.5,2,   25.23,2,   28.95,2,    0.03,2,    2.01,2,   4.877,6,   2.578,6,   1.9830,6,  2170.3,2,  2284.2,2,    928.2,2,    20.00,   7.6524,2,    25.00,-999.000,9,-999.0000,9, -999.00,9,   2.3339,2, -999.00,9,  -999.0,9,  -999.0,   5.977,3, -999.00,9, -999.00,9,  124.10,   2.3289
33RO20100308,      A13.5,       8,          1,         21,      11010,2,20100316,       0640,   -50.5002,     0.4855,       3616,   175.5,   2.0316,  34.1084,2,  34.1094,2, 265.2000,2,   263.4,2,   33.86,2,   31.00,2,    0.01,2,    2.15,2,   4.262,2,   2.234,2,   1.6200,2,  2188.5,2,  2287.7,2,   1009.9,2,    20.00,   7.6192,2,    25.00,-999.000,9,-999.0000,9, -999.00,9,   2.0284,2, -999.00,9,  -999.0,9,  -999.0,   5.252,3, -999.00,9, -999.00,9,  175.50,   2.0223
33RO20100308,      A13.5,       8,          1,         20,      11715,2,20100316,       0640,   -50.5002,     0.4855,       3616,   223.7,   2.2161,  34.2159,2,  34.2144,2, 233.8000,2,   234.5,2,   42.47,2,   32.55,2,    0.01,2,    2.26,2,   3.349,2,   1.700,2,   1.0080,2,  2205.5,2,  2296.7,2,   1096.5,2,    20.00,   7.5916,2,    25.00,-999.000,9,-999.0000,9, -999.00,9,   2.2197,2, -999.00,9,  -999.0,9,  -999.0,   4.114,3, -999.00,9, -999.00,9,  223.70,   2.2038
33RO20100308,      A13.5,       8,          1,         19,      11007,2,20100316,       0640,   -50.5002,     0.4855,       3616,   299.6,   2.3211,  34.3028,2,  34.3024,2, 211.5000,2,   210.8,6,   51.60,2,   33.87,2,    0.01,2,    2.34,2,   2.539,2,   1.265,2,   0.7900,2,  2220.8,2,  2304.9,2,   1162.1,2,    20.00,   7.5690,2,    25.00,-999.000,9,-999.0000,9, -999.00,9,   2.3206,2, -999.00,9,  -999.0,9,  -999.0,   3.179,3, -999.00,9, -999.00,9,  299.60,   2.3042
33RO20100308,      A13.5,       8,          1,         18,      11710,2,20100316,       0640,   -50.5002,     0.4855,       3616,   399.8,   2.2839,  34.3841,2,  34.3853,2, 193.4000,2,   193.5,2,   60.92,2,   34.57,2,    0.02,2,    2.39,2,   1.899,2,   0.934,2,   0.4600,2,  2234.4,2,  2314.5,2,   1209.9,2,    20.00,   7.5527,2,    25.00,-999.000,9,-999.0000,9, -999.00,9,   2.2833,2, -999.00,9,  -999.0,9,  -999.0,   2.446,3, -999.00,9, -999.00,9,  399.80,   2.2610
33RO20100308,      A13.5,       8,          1,         17,      11023,3,20100316,       0640,   -50.5002,     0.4855,       3616,   501.0,   2.3462,  34.4887,2,-999.0000,9, 178.3000,2,  -999.0,9, -999.00,9, -999.00,9, -999.00,9, -999.00,9,-999.000,9,-999.000,9,-999.0000,9,  -999.0,9,  -999.0,9,   -999.0,9,  -999.00,-999.0000,9,  -999.00,-999.000,9,-999.0000,9, -999.00,9,   2.3457,2, -999.00,9,  -999.0,9,  -999.0,-999.000,9, -999.00,9, -999.00,9,  501.00,   2.3168
33RO20100308,      A13.5,       8,          1,         16,      11709,2,20100316,       0640,   -50.5002,     0.4855,       3616,   599.8,   2.3533,  34.5398,2,  34.5399,2, 174.4000,2,   174.0,2,   73.16,2,   34.45,2,    0.01,2,    2.41,2,   0.826,2,   0.401,2,   0.2100,2,  2250.7,6,  2331.9,6,   1224.1,2,    20.00,   7.5504,2,    25.00,-999.000,9,-999.0000,9, -999.00,9,   2.3535,2, -999.00,9,  -999.0,9,  -999.0,   1.209,3, -999.00,9, -999.00,9,  599.80,   2.3175
33RO20100308,      A13.5,       8,          1,         15,      11006,2,20100316,       0640,   -50.5002,     0.4855,       3616,   750.9,   2.3609,  34.6273,2,  34.6266,2, 174.2000,2,   174.1,2,   76.24,2,   33.35,2,    0.01,2,    2.33,2,   0.462,2,   0.224,2,   0.1190,2,  2251.1,2,  2339.8,2,   1178.2,2,    20.00,   7.5660,2,    25.00,-999.000,9,-999.0000,9, -999.00,9,   2.3609,2, -999.00,9,  -999.0,9,  -999.0,   0.747,3, -999.00,9, -999.00,9,  750.90,   2.3150
33RO20100308,      A13.5,       8,          1,         14,      11708,2,20100316,       0640,   -50.5002,     0.4855,       3616,   899.5,   2.3121,  34.6735,2,  34.6728,2, 178.3000,2,   178.1,2,   77.08,2,   32.37,2,    0.00,2,    2.23,2,   0.341,2,   0.164,2,   0.0750,2,  2249.2,2,  2341.8,2,   1142.1,2,    20.00,   7.5787,2,    25.00,-999.000,9,-999.0000,9, -999.00,9,   2.3122,2, -999.00,9,  -999.0,9,  -999.0,   0.580,3, -999.00,9, -999.00,9,  899.50,   2.2563
33RO20100308,      A13.5,       8,          1,         13,      11031,2,20100316,       0640,   -50.5002,     0.4855,       3616,  1102.3,   2.1563,  34.7111,2,  34.7113,2, 183.9000,2,   184.0,2,   81.36,6,   31.59,6,    0.00,6,    2.20,6,   0.281,2,   0.136,2,   0.0800,2,  2249.5,2,  2344.3,2,   1110.1,2,    20.00,   7.5928,2,    25.00,-999.000,9,-999.0000,9, -999.00,9,   2.1556,2, -999.00,9,  -999.0,9,  -999.0,   0.464,3, -999.00,9, -999.00,9, 1102.30,   2.0875
33RO20100308,      A13.5,       8,          1,         12,      11027,2,20100316,       0640,   -50.5002,     0.4855,       3616,  1299.8,   2.0609,  34.7458,2,  34.7460,2, 192.7000,4,   214.6,4,   81.04,6,   30.45,6,    0.01,6,    2.12,6,   0.215,2,   0.108,2,   0.0570,2,  2241.2,2,  2348.1,2,   1056.7,2,    20.00,   7.6118,2,    25.00,-999.000,9,-999.0000,9, -999.00,9,   2.0603,2, -999.00,9,  -999.0,9,  -999.0,   0.382,3, -999.00,9, -999.00,9, 1299.80,   1.9785
33RO20100308,      A13.5,       8,          1,         11,      11707,2,20100316,       0640,   -50.5002,     0.4855,       3616,  1501.5,   1.9476,  34.7606,2,  34.7605,2, 198.1000,2,   198.8,2,   81.36,2,   29.70,2,    0.01,2,    2.06,2,  -0.004,4,   0.000,4,   0.0900,4,  2242.2,2,  2350.0,2,   1025.1,2,    20.00,   7.6226,2,    25.00,-999.000,9,-999.0000,9, -999.00,9,   1.9462,2, -999.00,9,  -999.0,9,  -999.0,   0.338,4, -999.00,9, -999.00,9, 1501.50,   1.8513
33RO20100308,      A13.5,       8,          1,         10,      11003,2,20100316,       0640,   -50.5002,     0.4855,       3616,  1699.1,   1.6763,  34.7486,2,  34.7488,2, 199.2000,2,   200.3,2,   89.38,2,   30.49,2,    0.00,2,    2.14,4,   0.191,2,   0.094,2,   0.0450,2,  2246.7,2,  2350.0,2,   1034.3,2,    20.00,   7.6179,2,    25.00,-999.000,9,-999.0000,9, -999.00,9,   1.6764,2, -999.00,9,  -999.0,9,  -999.0,   0.346,3, -999.00,9, -999.00,9, 1699.10,   1.5683
33RO20100308,      A13.5,       8,          1,          9,      11706,2,20100316,       0640,   -50.5002,     0.4855,       3616,  1899.7,   1.4607,  34.7438,2,  34.7422,2, 203.3000,2,   203.5,2,   94.96,2,   30.52,2,    0.00,2,    2.10,2,   0.183,2,   0.090,2,   0.0380,2,  2248.6,2,  2353.7,2,   1034.6,2,    20.00,   7.6177,2,    25.00,-999.000,9,-999.0000,9, -999.00,9,   1.4601,2, -999.00,9,  -999.0,9,  -999.0,   0.335,3, -999.00,9, -999.00,9, 1899.70,   1.3401
33RO20100308,      A13.5,       8,          1,          8,      11033,2,20100316,       0640,   -50.5002,     0.4855,       3616,  2101.0,   1.3484,  34.7429,2,  34.7428,2, 206.4000,2,   206.9,2,   98.62,6,   30.45,6,    0.00,6,    2.11,6,   0.183,2,   0.089,2,   0.0170,2,  2248.6,2,  2357.7,2,   1025.1,2,    20.00,   7.6222,2,    25.00,-999.000,9,-999.0000,9, -999.00,9,   1.3475,2, -999.00,9,  -999.0,9,  -999.0,   0.334,3, -999.00,9, -999.00,9, 2101.00,   1.2134
33RO20100308,      A13.5,       8,          1,          7,      11705,2,20100316,       0640,   -50.5002,     0.4855,       3616,  2298.8,   1.1950,  34.7298,2,  34.7292,2, 206.5000,2,   206.3,2,  102.85,2,   31.05,2,    0.00,2,    2.16,2,   0.234,2,   0.111,2,   0.0000,2,  2251.6,2,  2357.3,2,   1047.2,2,    20.00,   7.6144,2,    25.00,-999.000,9,-999.0000,9, -999.00,9,   1.1949,2, -999.00,9,  -999.0,9,  -999.0,   0.414,3, -999.00,9, -999.00,9, 2298.80,   1.0464
33RO20100308,      A13.5,       8,          1,          6,      11029,2,20100316,       0640,   -50.5002,     0.4855,       3616,  2499.7,   1.0230,  34.7171,2,  34.7178,2, 207.4000,2,   207.2,2,  107.79,2,   31.45,2,    0.00,2,    2.18,2,   0.282,2,   0.134,2,   0.0000,2,  2255.0,2,  2359.7,2,   1054.2,2,    20.00,   7.6087,2,    25.00,-999.000,9,-999.0000,9, -999.00,9,   1.0223,2, -999.00,9,  -999.0,9,  -999.0,   0.457,3, -999.00,9, -999.00,9, 2499.70,   0.8608
33RO20100308,      A13.5,       8,          1,          5,      11704,2,20100316,       0640,   -50.5002,     0.4855,       3616,  2701.8,   0.9023,  34.7092,2,  34.7090,2, 209.3000,2,   207.7,2,  112.02,2,   32.05,2,    0.00,2,    2.25,2,   0.326,2,   0.152,2,   0.0790,2,  2257.1,2,  2359.5,2,   1077.0,6,    20.00,   7.6055,2,    25.00,-999.000,9,-999.0000,9, -999.00,9,   0.9019,2, -999.00,9,  -999.0,9,  -999.0,   0.526,3, -999.00,9, -999.00,9, 2701.80,   0.7251
33RO20100308,      A13.5,       8,          1,          4,      11030,2,20100316,       0640,   -50.5002,     0.4855,       3616,  2894.6,   0.7672,  34.7007,3,  34.7078,4, 210.3000,2,   208.1,3,  112.01,3,   31.94,2,    0.00,2,    2.26,2,   0.327,2,   0.154,2,   0.0370,2,  2257.0,2,  2359.3,2,   1075.1,2,    20.00,   7.6050,2,    25.00,-999.000,9,-999.0000,9, -999.00,9,   0.7666,2, -999.00,9,  -999.0,9,  -999.0,   0.538,3, -999.00,9, -999.00,9, 2894.60,   0.5759
33RO20100308,      A13.5,       8,          1,          3,      11703,2,20100316,       0640,   -50.5002,     0.4855,       3616,  3150.1,   0.6541,  34.6960,2,  34.6964,2, 212.7000,2,   211.6,2,  121.57,6,   32.26,6,    0.01,6,    2.30,6,   0.361,6,   0.169,6,   0.0240,6,  2259.4,2,  2359.7,2,   1084.1,2,    20.00,   7.6021,2,    25.00,-999.000,9,-999.0000,9, -999.00,9,   0.6535,2, -999.00,9,  -999.0,9,  -999.0,   0.583,3, -999.00,9, -999.00,9, 3150.10,   0.4423
33RO20100308,      A13.5,       8,          1,          2,      11702,2,20100316,       0640,   -50.5002,     0.4855,       3616,  3399.9,   0.5852,  34.6909,2,  34.6916,2, 213.5000,2,   213.0,2,  124.97,6,   32.46,6,    0.00,6,    2.28,6,   0.394,2,   0.181,2,   0.0750,2,  2258.6,2,  2359.9,2,   1088.8,2,    20.00,   7.6001,2,    25.00,-999.000,9,-999.0000,9, -999.00,9,   0.5843,2, -999.00,9,  -999.0,9,  -999.0,   0.667,3, -999.00,9, -999.00,9, 3399.90,   0.3517
33RO20100308,      A13.5,       8,          1,          1,      11701,2,20100316,       0640,   -50.5002,     0.4855,       3616,  3659.3,   0.5678,  34.6884,2,  34.6879,2, 214.1000,2,   214.0,2,  125.87,6,   32.74,6,    0.01,6,    2.32,6,   0.416,2,   0.192,2,   0.0590,2,  2260.3,6,  2359.6,6,   1090.1,2,    20.00,   7.5996,2,    25.00,-999.000,9,-999.0000,9, -999.00,9,   0.5672,2, -999.00,9,  -999.0,9,  -999.0,   0.653,3, -999.00,9, -999.00,9, 3659.30,   0.3097