BOTTLE,20130404CCHSIOCBG
EXPOCODE,SECT_ID,STNNBR,CASTNO,SAMPNO,BTLNBR,BTLNBR_FLAG_W,DATE,TIME,LATITUDE,LONGITUDE,DEPTH,CTDPRS,CTDTMP,CTDSAL,CTDSAL_FLAG_W,SALNTY,SALNTY_FLAG_W,CTDOXY,CTDOXY_FLAG_W,OXYGEN,OXYGEN_FLAG_W,SILCAT,SILCAT_FLAG_W,NITRAT,NITRAT_FLAG_W,NITRIT,NITRIT_FLAG_W,PHSPHT,PHSPHT_FLAG_W,CFC-11,CFC-11_FLAG_W,CFC-12,CFC-12_FLAG_W,SF6,SF6_FLAG_W,TCARBN,TCARBN_FLAG_W,ALKALI,ALKALI_FLAG_W,FCO2,FCO2_FLAG_W,FCO2TMP,PH_TOT,PH_TOT_FLAG_W,PH_TMP,TRITUM,TRITUM_FLAG_W,HELIUM,HELIUM_FLAG_W,DELHE3,DELHE3_FLAG_W,REFTMP,REFTMP_FLAG_W,DELC13,DELC13_FLAG_W,DELC14,DELC14_FLAG_W,C14ERR,CCL4,CCL4_FLAG_W,DOC,DOC_FLAG_W,TDN,TDN_FLAG_W,CTDRAW,THETA
,,,,,,,,,,,METERS,DBAR,ITS-90,PSS-78,,PSS-78,,UMOL/KG,,UMOL/KG,,UMOL/KG,,UMOL/KG,,UMOL/KG,,UMOL/KG,,PMOL/KG,,PMOL/KG,,FMOL/KG,,UMOL/KG,,UMOL/KG,,UATM,,DEG C,,,DEG C,TU,,NMOL/KG,,PERCNT,,DEG C,,/MILLE,,/MILLE,,/MILLE,PMOL/KG,,UMOL/KG,,UMOL/KG,,DBAR,DEG C
33RO20100308,      A13.5,     100,          1,         24,      11714,2,20100411,       0327,       -4.5,    -3.0002,       4879,     5.4,  28.5991,  35.5678,2,  35.5729,2, 196.4000,2,   197.1,2,    0.85,6,    0.22,6,    0.00,6,    0.05,6,   1.538,2,   0.971,2,   0.9600,2,  2008.0,6,  2336.3,2,    296.7,2,    20.00,   8.0870,2,    25.00,-999.000,9,-999.0000,9, -999.00,9,-999.0000,9, -999.00,9,  -999.0,9,  -999.0,   1.673,3, -999.00,9, -999.00,9,    5.40,  28.5978
33RO20100308,      A13.5,     100,          1,         23,      11716,2,20100411,       0327,       -4.5,    -3.0002,       4879,    40.1,  20.7492,  35.7891,2,  35.7900,2, 207.1000,3,   191.6,2,    2.54,2,    4.21,2,    0.09,2,    0.50,2,-999.000,9,-999.000,9,-999.0000,9,  2109.4,2,  2353.5,6,    455.8,2,    20.00,   7.9343,2,    25.00,-999.000,9,-999.0000,9, -999.00,9,-999.0000,9, -999.00,9,  -999.0,9,  -999.0,-999.000,9, -999.00,9, -999.00,9,   40.10,  20.7416
33RO20100308,      A13.5,     100,          1,         22,      11022,2,20100411,       0327,       -4.5,    -3.0002,       4879,    70.3,  16.1182,  35.6260,2,  35.6236,2, 115.0000,2,   112.9,2,    5.45,2,   17.46,2,    0.38,2,    1.20,2,   2.149,2,   1.215,2,   0.7160,2,  2179.0,2,  2336.3,2,    733.6,2,    20.00,   7.7541,2,    25.00,-999.000,9,-999.0000,9, -999.00,9,-999.0000,9, -999.00,9,  -999.0,9,  -999.0,   0.450,3, -999.00,9, -999.00,9,   70.30,  16.1070
33RO20100308,      A13.5,     100,          1,         21,      11010,2,20100411,       0327,       -4.5,    -3.0002,       4879,    99.7,  14.8869,  35.5129,2,  35.5100,2, 101.6000,2,   100.0,2,    6.55,2,   20.61,2,    0.03,2,    1.35,2,   2.155,2,   1.201,2,   0.6980,2,  2191.8,2,  2328.2,2,    827.4,2,    20.00,   7.7056,2,    25.00,-999.000,9,-999.0000,9, -999.00,9,-999.0000,9, -999.00,9,  -999.0,9,  -999.0,   0.380,3, -999.00,9, -999.00,9,   99.70,  14.8719
33RO20100308,      A13.5,     100,          1,         20,      11715,2,20100411,       0327,       -4.5,    -3.0002,       4879,   149.7,  14.1343,  35.4324,2,  35.4283,2,  96.9000,2,    96.6,2,    7.34,2,   21.86,2,    0.01,2,    1.43,2,-999.000,9,-999.000,9,-999.0000,9,  2196.0,2,  2325.3,2,    865.1,2,    20.00,   7.6843,2,    25.00,-999.000,9,-999.0000,9, -999.00,9,-999.0000,9, -999.00,9,  -999.0,9,  -999.0,-999.000,9, -999.00,9, -999.00,9,  149.70,  14.1125
33RO20100308,      A13.5,     100,          1,         19,      11007,2,20100411,       0327,       -4.5,    -3.0002,       4879,   174.8,  13.8859,  35.4016,2,  35.3983,2,  92.9000,2,    91.6,2,    7.82,2,   23.10,2,    0.01,2,    1.47,2,   2.077,2,   1.138,2,   0.5870,2,  2199.5,2,  2321.7,2,    898.6,2,    20.00,   7.6702,2,    25.00,-999.000,9,-999.0000,9, -999.00,9,-999.0000,9, -999.00,9,  -999.0,9,  -999.0,   0.297,3, -999.00,9, -999.00,9,  174.80,  13.8607
33RO20100308,      A13.5,     100,          1,         18,      11710,2,20100411,       0327,       -4.5,    -3.0002,       4879,   249.4,  12.2761,  35.1911,2,  35.1891,2,  85.6000,2,    85.9,2,    9.78,2,   25.94,2,    0.01,2,    1.65,2,   1.832,2,   0.980,2,   0.3940,2,  2207.3,2,  2311.1,2,   1010.7,2,    20.00,   7.6218,2,    25.00,-999.000,9,-999.0000,9, -999.00,9,-999.0000,9, -999.00,9,  -999.0,9,  -999.0,   0.312,3, -999.00,9, -999.00,9,  249.40,  12.2429
33RO20100308,      A13.5,     100,          1,         17,      11025,2,20100411,       0327,       -4.5,    -3.0002,       4879,   324.1,  10.0556,  34.9341,2,  34.9336,2,  48.9000,2,    50.2,2,   14.55,2,   33.96,2,    0.00,2,    2.12,2,   0.995,6,   0.517,6,   0.1410,6,  2240.7,6,  2296.4,2,   1406.4,2,    20.00,   7.4880,2,    25.00,-999.000,9,-999.0000,9, -999.00,9,-999.0000,9, -999.00,9,  -999.0,9,  -999.0,   0.227,3, -999.00,9, -999.00,9,  324.10,  10.0176
33RO20100308,      A13.5,     100,          1,         16,      11709,2,20100411,       0327,       -4.5,    -3.0002,       4879,   400.3,   8.6002,  34.7778,2,  34.7812,2,  74.8000,2,    75.8,2,   16.90,2,   34.55,2,    0.00,2,    2.16,2,   0.916,2,   0.466,2,   0.1240,2,  2232.7,2,  2297.5,2,   1352.9,6,    20.00,   7.5021,2,    25.00,-999.000,9,-999.0000,9, -999.00,9,-999.0000,9, -999.00,9,  -999.0,9,  -999.0,   0.378,3, -999.00,9, -999.00,9,  400.30,   8.5575
33RO20100308,      A13.5,     100,          1,         15,      11006,2,20100411,       0327,       -4.5,    -3.0002,       4879,   549.1,   6.6591,  34.5855,2,  34.5840,2, 113.1000,2,   113.9,6,   21.55,2,   34.66,2,    0.00,2,    2.24,2,   0.734,2,   0.364,2,   0.1110,2,  2223.0,2,  2289.9,2,   1281.7,2,    20.00,   7.5263,2,    25.00,-999.000,9,-999.0000,9, -999.00,9,-999.0000,9, -999.00,9,  -999.0,9,  -999.0,   0.602,3, -999.00,9, -999.00,9,  549.10,   6.6081
33RO20100308,      A13.5,     100,          1,         14,      11708,2,20100411,       0327,       -4.5,    -3.0002,       4879,   699.2,   5.4464,  34.5038,2,  34.5025,2, 131.8000,2,   132.0,2,   26.71,2,   35.15,2,    0.00,2,    2.33,2,-999.000,9,-999.000,9,-999.0000,9,  2223.3,2,  2292.2,2,   1259.9,2,    20.00,   7.5336,2,    25.00,-999.000,9,-999.0000,9, -999.00,9,-999.0000,9, -999.00,9,  -999.0,9,  -999.0,-999.000,9, -999.00,9, -999.00,9,  699.20,   5.3873
33RO20100308,      A13.5,     100,          1,         13,      11031,2,20100411,       0327,       -4.5,    -3.0002,       4879,   849.8,   4.7102,  34.5187,2,  34.5174,2, 135.3000,2,   135.0,2,   31.94,2,   35.50,2,    0.00,2,    2.38,2,   0.068,2,   0.037,2,   0.0000,2,  2229.7,2,  2296.5,2,   1273.4,2,    20.00,   7.5290,2,    25.00,-999.000,9,-999.0000,9, -999.00,9,-999.0000,9, -999.00,9,  -999.0,9,  -999.0,   0.161,3, -999.00,9, -999.00,9,  849.80,   4.6422
33RO20100308,      A13.5,     100,          1,         12,      11027,2,20100411,       0327,       -4.5,    -3.0002,       4879,  1001.0,   4.3310,  34.6092,2,  34.6081,2, 148.8000,2,   150.1,2,   32.91,2,   33.39,2,    0.00,2,    2.26,2,-999.000,9,-999.000,9,-999.0000,9,  2226.5,2,  2307.0,2,   1188.6,2,    20.00,   7.5586,2,    25.00,-999.000,9,-999.0000,9, -999.00,9,-999.0000,9, -999.00,9,  -999.0,9,  -999.0,-999.000,9, -999.00,9, -999.00,9, 1001.00,   4.2525
33RO20100308,      A13.5,     100,          1,         11,      11707,2,20100411,       0327,       -4.5,    -3.0002,       4879,  1249.8,   4.3626,  34.8379,2,  34.8366,2, 186.9000,2,   187.7,2,   25.19,2,   27.24,2,    0.00,2,    1.80,2,-999.000,9,-999.000,9,-999.0000,9,  2201.4,2,  2310.4,2,    958.6,2,    20.00,   7.6424,2,    25.00,-999.000,9,-999.0000,9, -999.00,9,-999.0000,9, -999.00,9,  -999.0,9,  -999.0,-999.000,9, -999.00,9, -999.00,9, 1249.80,   4.2616
33RO20100308,      A13.5,     100,          1,         10,      11003,2,20100411,       0327,       -4.5,    -3.0002,       4879,  1499.5,   4.1364,  34.9342,2,  34.9337,2, 217.5000,2,   218.6,6,   21.18,2,   22.78,2,    0.00,2,    1.52,2,-999.000,5,-999.000,5,-999.0000,5,  2182.9,2,  2313.7,2,    840.3,2,    20.00,   7.6943,2,    25.00,-999.000,9,-999.0000,9, -999.00,9,-999.0000,9, -999.00,9,  -999.0,9,  -999.0,-999.000,5, -999.00,9, -999.00,9, 1499.50,   4.0148
33RO20100308,      A13.5,     100,          1,          9,      11706,2,20100411,       0327,       -4.5,    -3.0002,       4879,  1799.3,   3.7664,  34.9618,2,  34.9615,2, 238.0000,2,   239.5,2,   20.72,2,   20.38,2,    0.00,2,    1.36,2,-999.000,9,-999.000,9,-999.0000,9,  2173.2,2,  2315.3,2,    778.2,2,    20.00,   7.7252,2,    25.00,-999.000,9,-999.0000,9, -999.00,9,-999.0000,9, -999.00,9,  -999.0,9,  -999.0,-999.000,9, -999.00,9, -999.00,9, 1799.30,   3.6214
33RO20100308,      A13.5,     100,          1,          8,      11033,2,20100411,       0327,       -4.5,    -3.0002,       4879,  2099.8,   3.3103,  34.9559,4,  34.9449,2, 241.3000,2,   241.3,2,   26.98,2,   20.84,2,    0.00,2,    1.39,2,-999.000,9,-999.000,9,-999.0000,9,  2178.6,2,  2320.8,2,    777.6,2,    20.00,-999.0000,5,  -999.00,-999.000,9,-999.0000,9, -999.00,9,-999.0000,9, -999.00,9,  -999.0,9,  -999.0,-999.000,9, -999.00,9, -999.00,9, 2099.80,   3.1436
33RO20100308,      A13.5,     100,          1,          7,      11705,2,20100411,       0327,       -4.5,    -3.0002,       4879,  2497.1,   2.9182,  34.9217,2,  34.9216,2, 238.6000,2,   239.4,2,   35.19,6,   21.68,6,    0.00,6,    1.44,2,   0.009,2,   0.006,2,   0.0000,2,  2187.2,2,  2330.5,2,    790.1,2,    20.00,   7.7240,2,    25.00,-999.000,9,-999.0000,9, -999.00,9,-999.0000,9, -999.00,9,  -999.0,9,  -999.0,   0.068,3, -999.00,9, -999.00,9, 2497.10,   2.7201
33RO20100308,      A13.5,     100,          1,          6,      11029,2,20100411,       0327,       -4.5,    -3.0002,       4879,  2900.5,   2.6630,  34.9073,2,  34.9066,2, 236.4000,2,   237.8,2,   41.17,6,   22.16,6,    0.00,6,    1.47,6,-999.000,9,-999.000,9,-999.0000,9,  2194.5,2,  2338.3,2,    798.0,2,    20.00,   7.7213,2,    25.00,-999.000,9,-999.0000,9, -999.00,9,-999.0000,9, -999.00,9,  -999.0,9,  -999.0,-999.000,9, -999.00,9, -999.00,9, 2900.50,   2.4298
33RO20100308,      A13.5,     100,          1,          5,      11704,2,20100411,       0327,       -4.5,    -3.0002,       4879,  3299.3,   2.5041,  34.8963,2,  34.8962,2, 237.3000,2,   237.7,2,   45.35,6,   22.46,6,    0.00,6,    1.49,6,-999.000,9,-999.000,9,-999.0000,9,  2199.7,2,  2341.1,2,    795.4,2,    20.00,   7.7213,2,    25.00,-999.000,9,-999.0000,9, -999.00,9,-999.0000,9, -999.00,9,  -999.0,9,  -999.0,-999.000,9, -999.00,9, -999.00,9, 3299.30,   2.2331
33RO20100308,      A13.5,     100,          1,          4,      11030,2,20100411,       0327,       -4.5,    -3.0002,       4879,  3698.2,   2.4165,  34.8903,2,  34.8896,2, 238.1000,2,   238.5,2,   47.55,6,   22.56,6,    0.00,6,    1.50,6,   0.008,2,   0.005,2,   0.0000,2,  2202.0,2,  2345.6,2,    795.7,6,    20.00,   7.7192,2,    25.00,-999.000,9,-999.0000,9, -999.00,9,-999.0000,9, -999.00,9,  -999.0,9,  -999.0,   0.053,3, -999.00,9, -999.00,9, 3698.20,   2.1046
33RO20100308,      A13.5,     100,          1,          3,      11703,2,20100411,       0327,       -4.5,    -3.0002,       4879,  4098.6,   2.3434,  34.8821,2,  34.8826,2, 239.5000,2,   239.2,2,   49.87,6,   22.88,6,    0.00,6,    1.51,6,-999.000,9,-999.000,9,-999.0000,9,  2204.5,2,  2346.1,2,    799.2,2,    20.00,   7.7185,2,    25.00,-999.000,9,-999.0000,9, -999.00,9,-999.0000,9, -999.00,9,  -999.0,9,  -999.0,-999.000,9, -999.00,9, -999.00,9, 4098.60,   1.9883
33RO20100308,      A13.5,     100,          1,          2,      11702,2,20100411,       0327,       -4.5,    -3.0002,       4879,  4499.8,   2.2654,  34.8719,2,  34.8716,2, 241.6000,2,   241.9,2,   52.40,6,   23.02,6,    0.00,6,    1.52,6,-999.000,9,-999.000,9,-999.0000,9,  2205.5,2,  2348.0,4,    800.2,2,    20.00,   7.7173,2,    25.00,-999.000,9,-999.0000,9, -999.00,9,-999.0000,9, -999.00,9,  -999.0,9,  -999.0,-999.000,9, -999.00,9, -999.00,9, 4499.80,   1.8654
33RO20100308,      A13.5,     100,          1,          1,      11701,2,20100411,       0327,       -4.5,    -3.0002,       4879,  4946.4,   2.2586,  34.8664,2,  34.8658,2, 243.4000,2,   241.9,2,   53.72,6,   22.86,6,    0.00,6,    1.53,6,   0.045,2,   0.025,2,   0.0000,2,  2207.5,6,  2346.1,2,    802.5,2,    20.00,   7.7166,2,    25.00,-999.000,9,-999.0000,9, -999.00,9,-999.0000,9, -999.00,9,  -999.0,9,  -999.0,   0.180,3, -999.00,9, -999.00,9, 4946.40,   1.8041