BOTTLE,20130404CCHSIOCBG
EXPOCODE,SECT_ID,STNNBR,CASTNO,SAMPNO,BTLNBR,BTLNBR_FLAG_W,DATE,TIME,LATITUDE,LONGITUDE,DEPTH,CTDPRS,CTDTMP,CTDSAL,CTDSAL_FLAG_W,SALNTY,SALNTY_FLAG_W,CTDOXY,CTDOXY_FLAG_W,OXYGEN,OXYGEN_FLAG_W,SILCAT,SILCAT_FLAG_W,NITRAT,NITRAT_FLAG_W,NITRIT,NITRIT_FLAG_W,PHSPHT,PHSPHT_FLAG_W,CFC-11,CFC-11_FLAG_W,CFC-12,CFC-12_FLAG_W,SF6,SF6_FLAG_W,TCARBN,TCARBN_FLAG_W,ALKALI,ALKALI_FLAG_W,FCO2,FCO2_FLAG_W,FCO2TMP,PH_TOT,PH_TOT_FLAG_W,PH_TMP,TRITUM,TRITUM_FLAG_W,HELIUM,HELIUM_FLAG_W,DELHE3,DELHE3_FLAG_W,REFTMP,REFTMP_FLAG_W,DELC13,DELC13_FLAG_W,DELC14,DELC14_FLAG_W,C14ERR,CCL4,CCL4_FLAG_W,DOC,DOC_FLAG_W,TDN,TDN_FLAG_W,CTDRAW,THETA
,,,,,,,,,,,METERS,DBAR,ITS-90,PSS-78,,PSS-78,,UMOL/KG,,UMOL/KG,,UMOL/KG,,UMOL/KG,,UMOL/KG,,UMOL/KG,,PMOL/KG,,PMOL/KG,,FMOL/KG,,UMOL/KG,,UMOL/KG,,UATM,,DEG C,,,DEG C,TU,,NMOL/KG,,PERCNT,,DEG C,,/MILLE,,/MILLE,,/MILLE,PMOL/KG,,UMOL/KG,,UMOL/KG,,DBAR,DEG C
33RO20100308,      A13.5,      53,          1,         24,      11714,2,20100327,       1402,   -27.9995,      1.719,       4380,     5.6,  23.1592,  36.0950,2,  36.0935,2, 215.4000,2,   216.4,6,    2.29,2,    0.02,2,    0.00,2,    0.18,2,   1.898,2,   1.179,2,   1.1500,2,  2081.5,2,  2370.9,6,    362.4,2,    20.00,   8.0219,2,    25.00,-999.000,9,-999.0000,9, -999.00,9,  23.0818,2, -999.00,9,  -999.0,9,  -999.0,   2.440,3,   64.38,2,    4.01,2,    5.60,  23.1580
33RO20100308,      A13.5,      53,          1,         23,      11713,2,20100327,       1402,   -27.9995,      1.719,       4380,    74.2,  18.1369,  35.5971,2,  35.5874,2, 245.8000,2,   247.3,2,    2.66,2,    0.04,2,    0.00,2,    0.20,2,   2.450,2,   1.491,2,   1.4380,2,  2071.9,2,  2339.7,2,    385.2,2,    20.00,   7.9953,2,    25.00,-999.000,9,-999.0000,9, -999.00,9,  18.1402,2, -999.00,9,  -999.0,9,  -999.0,   2.076,3,   58.80,2,    4.38,2,   74.20,  18.1241
33RO20100308,      A13.5,      53,          1,         22,      11712,2,20100327,       1402,   -27.9995,      1.719,       4380,   124.7,  15.6820,  35.5032,2,  35.4995,2, 224.7000,2,   227.0,2,    3.01,2,    3.07,2,    0.13,2,    0.39,2,   2.590,6,   1.568,6,   1.3900,6,  2097.1,2,  2332.2,2,    448.6,6,    20.00,   7.9951,3,    25.00,-999.000,9,-999.0000,9, -999.00,9,  15.6864,2, -999.00,9,  -999.0,9,  -999.0,   1.628,3,   53.34,2,    7.41,2,  124.70,  15.6625
33RO20100308,      A13.5,      53,          1,         21,      11010,2,20100327,       1402,   -27.9995,      1.719,       4380,   200.3,  13.6065,  35.2343,2,  35.2334,2, 220.3000,2,   220.3,2,    3.78,2,    7.56,2,    0.01,2,    0.65,2,   2.837,2,   1.688,2,   1.3630,2,  2115.8,2,  2319.3,2,    526.2,2,    20.00,   7.8771,2,    25.00,-999.000,9,-999.0000,9, -999.00,9,  13.6072,2, -999.00,9,  -999.0,9,  -999.0,   1.443,3,   48.68,2,   10.65,2,  200.30,  13.5780
33RO20100308,      A13.5,      53,          1,         20,      11715,2,20100327,       1402,   -27.9995,      1.719,       4380,   299.5,  11.7423,  35.0111,2,  35.0132,2, 215.0000,2,   214.5,2,    5.38,2,   12.50,2,    0.00,2,    0.95,2,   3.053,2,   1.753,2,   1.2200,2,  2134.8,2,  2308.1,2,    607.8,2,    20.00,   7.8185,2,    25.00,-999.000,9,-999.0000,9, -999.00,9,  11.7403,2, -999.00,9,  -999.0,9,  -999.0,   1.408,3,   43.92,2,   14.81,2,  299.50,  11.7036
33RO20100308,      A13.5,      53,          1,         19,      11007,2,20100327,       1402,   -27.9995,      1.719,       4380,   400.0,   9.9277,  34.7874,2,  34.7855,2, 189.8000,2,   189.2,2,    9.92,2,   19.31,2,    0.00,2,    1.39,2,   2.988,2,   1.650,2,   0.9350,2,  -999.0,9,  2296.3,2,    765.8,6,    20.00,   7.7261,2,    25.00,-999.000,9,-999.0000,9, -999.00,9,   9.9251,2, -999.00,9,  -999.0,9,  -999.0,   1.496,3,   43.37,2,   21.79,2,  400.00,   9.8811
33RO20100308,      A13.5,      53,          1,         18,      11710,2,20100327,       1402,   -27.9995,      1.719,       4380,   499.2,   8.0623,  34.5805,2,  34.5801,2, 203.9000,2,   194.1,2,   13.75,2,   23.37,2,    0.00,2,    1.65,2,   2.934,2,   1.577,2,   0.8230,2,  -999.0,9,  2291.7,2,    850.5,2,    20.00,   7.6873,2,    25.00,-999.000,9,-999.0000,9, -999.00,9,   8.0596,2, -999.00,9,  -999.0,9,  -999.0,   2.088,3,   41.93,2,   24.94,2,  499.20,   8.0109
33RO20100308,      A13.5,      53,          1,         17,      11025,2,20100327,       1402,   -27.9995,      1.719,       4380,   699.9,   4.9781,  34.3482,2,  34.3481,2, 207.9000,2,   207.6,2,   25.59,2,   29.45,2,    0.00,2,    2.05,2,   2.586,2,   1.329,2,   0.5630,2,  -999.0,9,  2293.2,2,    969.8,2,    20.00,   7.6324,2,    25.00,-999.000,9,-999.0000,9, -999.00,9,   4.9773,2, -999.00,9,  -999.0,9,  -999.0,   2.842,3,   40.47,2,   31.04,2,  699.90,   4.9216
33RO20100308,      A13.5,      53,          1,         16,      11709,2,20100327,       1402,   -27.9995,      1.719,       4380,   899.3,   3.8335,  34.3926,2,  34.3945,2, 191.5000,2,   190.8,2,   41.97,2,   32.33,2,    0.00,2,    2.26,2,   1.497,2,   0.727,2,   0.3080,2,  -999.0,9,  2305.5,2,   1071.4,2,    20.00,   7.5947,2,    25.00,-999.000,9,-999.0000,9, -999.00,9,   3.8326,2, -999.00,9,  -999.0,9,  -999.0,   2.017,3,   40.19,2,   33.79,2,  899.30,   3.7675
33RO20100308,      A13.5,      53,          1,         15,      11006,2,20100327,       1402,   -27.9995,      1.719,       4380,  1098.7,   3.3665,  34.5224,2,  34.5238,2, 177.3000,2,   176.7,2,   51.74,2,   32.90,2,    0.00,2,    2.30,2,   0.462,2,   0.227,2,   0.1190,2,  2231.2,2,  2319.4,2,   1112.4,2,    20.00,   7.5820,2,    25.00,-999.000,9,-999.0000,9, -999.00,9,   3.3639,2, -999.00,9,  -999.0,9,  -999.0,   0.794,3,   39.85,2,   34.34,2, 1098.70,   3.2879
33RO20100308,      A13.5,      53,          1,         14,      11708,2,20100327,       1402,   -27.9995,      1.719,       4380,  1300.1,   3.2101,  34.6594,2,  34.6614,2, 185.1000,2,   184.7,2,   50.59,2,   30.65,2,    0.00,2,    2.13,2,   0.136,2,   0.067,2,   0.0450,2,  -999.0,9,  2323.0,6,   1041.5,2,    20.00,   7.6095,2,    25.00,-999.000,9,-999.0000,9, -999.00,9,   3.2098,2, -999.00,9,  -999.0,9,  -999.0,   0.301,3,   38.69,2,   32.42,2, 1300.10,   3.1163
33RO20100308,      A13.5,      53,          1,         13,      11031,2,20100327,       1402,   -27.9995,      1.719,       4380,  1500.4,   3.1332,  34.7568,2,  34.7571,2, 198.0000,2,   198.1,2,   47.42,2,   28.15,2,    0.00,2,    1.95,2,-999.000,5,-999.000,5,-999.0000,5,  -999.0,9,  2324.1,2,    964.7,2,    20.00,   7.6418,2,    25.00,-999.000,9,-999.0000,9, -999.00,9,   3.1323,2, -999.00,9,  -999.0,9,  -999.0,-999.000,5,   38.52,2,   29.94,2, 1500.40,   3.0233
33RO20100308,      A13.5,      53,          1,         12,      11027,2,20100327,       1402,   -27.9995,      1.719,       4380,  1700.3,   3.0630,  34.8099,2,  34.8100,2, 209.5000,2,   209.9,2,   44.81,2,   26.38,2,    0.00,2,    1.82,2,   0.026,2,   0.014,2,   0.0000,2,  -999.0,9,  2325.9,2,    910.4,2,    20.00,   7.6652,2,    25.00,-999.000,9,-999.0000,9, -999.00,9,   3.0641,2, -999.00,9,  -999.0,9,  -999.0,   0.096,3,   37.84,2,   27.65,2, 1700.30,   2.9367
33RO20100308,      A13.5,      53,          1,         11,      11707,2,20100327,       1402,   -27.9995,      1.719,       4380,  1899.5,   2.8804,  34.8338,2,  34.8332,2, 217.0000,2,   217.9,2,   46.27,2,   25.45,2,    0.00,2,    1.75,2,   0.016,2,   0.009,2,   0.0000,2,  2208.8,2,  2328.4,2,    880.0,2,    20.00,   7.6798,2,    25.00,-999.000,9,-999.0000,9, -999.00,9,   2.8802,2, -999.00,9,  -999.0,9,  -999.0,   0.075,3,   38.51,2,   26.97,2, 1899.50,   2.7390
33RO20100308,      A13.5,      53,          1,         10,      11003,2,20100327,       1402,   -27.9995,      1.719,       4380,  2100.2,   2.7122,  34.8430,2,  34.8430,2, 221.4000,2,   221.8,2,   48.98,2,   25.06,2,    0.00,2,    1.73,2,   0.014,2,   0.009,2,   0.0000,2,  2211.2,2,  2332.4,2,    867.9,2,    20.00,   7.6856,2,    25.00,-999.000,9,-999.0000,9, -999.00,9,   2.7122,2, -999.00,9,  -999.0,9,  -999.0,   0.064,3,   38.23,2,   27.08,2, 2100.20,   2.5553
33RO20100308,      A13.5,      53,          1,          9,      11706,2,20100327,       1402,   -27.9995,      1.719,       4380,  2299.2,   2.5509,  34.8448,2,  34.8455,2, 225.0000,2,   225.0,2,   51.85,2,   24.89,2,    0.00,2,    1.72,2,   0.012,2,   0.007,2,   0.0000,2,  2208.6,2,  2332.6,2,    858.6,2,    20.00,   7.6903,2,    25.00,-999.000,9,-999.0000,9, -999.00,9,   2.5509,2, -999.00,9,  -999.0,9,  -999.0,   0.056,3,   38.18,2,   26.56,2, 2299.20,   2.3784
33RO20100308,      A13.5,      53,          1,          8,      11033,2,20100327,       1402,   -27.9995,      1.719,       4380,  2500.3,   2.4394,  34.8516,2,  34.8517,2, 227.3000,2,   228.8,2,   53.26,2,   24.62,2,    0.00,2,    1.69,2,   0.008,2,   0.006,2,   0.0250,2,  2208.4,2,  2338.3,2,    848.6,2,    20.00,   7.6972,2,    25.00,-999.000,9,-999.0000,9, -999.00,9,   2.4390,2, -999.00,9,  -999.0,9,  -999.0,   0.046,3,   38.47,2,   25.72,2, 2500.30,   2.2501
33RO20100308,      A13.5,      53,          1,          7,      11705,2,20100327,       1402,   -27.9995,      1.719,       4380,  2699.8,   2.3750,  34.8599,2,  34.8608,2, 230.7000,2,   231.7,2,   53.45,2,   24.24,2,    0.00,2,    1.67,2,   0.006,6,   0.006,6,   0.0200,6,  2208.4,2,  2338.3,2,    834.2,2,    20.00,   7.7036,2,    25.00,-999.000,9,-999.0000,9, -999.00,9,   2.3745,2, -999.00,9,  -999.0,9,  -999.0,   0.037,3,   38.13,2,   25.44,2, 2699.80,   2.1678
33RO20100308,      A13.5,      53,          1,          6,      11029,2,20100327,       1402,   -27.9995,      1.719,       4380,  2899.6,   2.3401,  34.8670,2,  34.8679,2, 232.5000,2,   233.3,2,   53.36,2,   23.92,2,    0.00,2,    1.65,2,   0.003,2,   0.003,2,   0.0000,2,  2208.7,2,  2343.4,2,    817.2,2,    20.00,   7.7094,2,    25.00,-999.000,9,-999.0000,9, -999.00,9,   2.3395,2, -999.00,9,  -999.0,9,  -999.0,   0.025,3,   39.34,2,   25.98,2, 2899.60,   2.1140
33RO20100308,      A13.5,      53,          1,          5,      11704,2,20100327,       1402,   -27.9995,      1.719,       4380,  3201.2,   2.3137,  34.8751,2,  34.8764,2, 232.9000,2,   233.3,2,   53.51,6,   23.70,6,    0.00,6,    1.62,6,   0.002,2,   0.002,2,   0.0000,2,  2211.1,2,  2347.1,2,    807.4,2,    20.00,   7.7173,2,    25.00,-999.000,9,-999.0000,9, -999.00,9,   2.3132,2, -999.00,9,  -999.0,9,  -999.0,   0.015,3,   39.80,2,   25.61,2, 3201.20,   2.0575
33RO20100308,      A13.5,      53,          1,          4,      11030,2,20100327,       1402,   -27.9995,      1.719,       4380,  3500.1,   2.3084,  34.8813,2,  34.8813,2, 232.0000,2,   232.3,2,   53.78,6,   23.62,6,    0.00,6,    1.61,6,   0.003,2,   0.003,2,   0.0000,2,  2214.4,2,  2353.5,2,    799.1,2,    20.00,   7.7187,2,    25.00,-999.000,9,-999.0000,9, -999.00,9,   2.3079,2, -999.00,9,  -999.0,9,  -999.0,   0.012,3,   38.94,2,   25.56,2, 3500.10,   2.0208
33RO20100308,      A13.5,      53,          1,          3,      11703,2,20100327,       1402,   -27.9995,      1.719,       4380,  3800.0,   2.3201,  34.8831,2,  34.8833,2, 231.4000,2,   231.5,2,   54.14,6,   23.60,6,    0.00,6,    1.61,6,   0.002,2,   0.003,2,   0.0000,2,  2214.6,2,  2356.1,2,    796.0,2,    20.00,   7.7206,2,    25.00,-999.000,9,-999.0000,9, -999.00,9,   2.3196,2, -999.00,9,  -999.0,9,  -999.0,   0.011,3,   39.71,2,   25.58,2, 3800.00,   1.9994
33RO20100308,      A13.5,      53,          1,          2,      11702,2,20100327,       1402,   -27.9995,      1.719,       4380,  4100.8,   2.3504,  34.8840,2,  34.8843,2, 232.0000,2,   231.4,2,   54.16,6,   23.58,6,    0.00,6,    1.61,6,   0.002,2,   0.003,2,   0.0000,2,  2216.0,2,  2359.1,2,    796.5,2,    20.00,   7.7223,2,    25.00,-999.000,9,-999.0000,9, -999.00,9,   2.3494,2, -999.00,9,  -999.0,9,  -999.0,   0.010,3,   40.56,2,   25.37,2, 4100.80,   1.9948
33RO20100308,      A13.5,      53,          1,          1,      11701,2,20100327,       1402,   -27.9995,      1.719,       4380,  4437.4,   2.3932,  34.8851,2,  34.8857,2, 231.3000,2,   231.2,6,   53.81,6,   23.52,6,    0.00,6,    1.61,6,   0.002,2,   0.003,2,   0.0000,2,  2216.6,6,  2358.8,6,    794.7,2,    20.00,   7.7225,2,    25.00,-999.000,9,-999.0000,9, -999.00,9,   2.3923,2, -999.00,9,  -999.0,9,  -999.0,   0.012,3,   40.75,2,   25.25,2, 4437.40,   1.9967