BOTTLE,20130404CCHSIOCBG
EXPOCODE,SECT_ID,STNNBR,CASTNO,SAMPNO,BTLNBR,BTLNBR_FLAG_W,DATE,TIME,LATITUDE,LONGITUDE,DEPTH,CTDPRS,CTDTMP,CTDSAL,CTDSAL_FLAG_W,SALNTY,SALNTY_FLAG_W,CTDOXY,CTDOXY_FLAG_W,OXYGEN,OXYGEN_FLAG_W,SILCAT,SILCAT_FLAG_W,NITRAT,NITRAT_FLAG_W,NITRIT,NITRIT_FLAG_W,PHSPHT,PHSPHT_FLAG_W,CFC-11,CFC-11_FLAG_W,CFC-12,CFC-12_FLAG_W,SF6,SF6_FLAG_W,TCARBN,TCARBN_FLAG_W,ALKALI,ALKALI_FLAG_W,FCO2,FCO2_FLAG_W,FCO2TMP,PH_TOT,PH_TOT_FLAG_W,PH_TMP,TRITUM,TRITUM_FLAG_W,HELIUM,HELIUM_FLAG_W,DELHE3,DELHE3_FLAG_W,REFTMP,REFTMP_FLAG_W,DELC13,DELC13_FLAG_W,DELC14,DELC14_FLAG_W,C14ERR,CCL4,CCL4_FLAG_W,DOC,DOC_FLAG_W,TDN,TDN_FLAG_W,CTDRAW,THETA
,,,,,,,,,,,METERS,DBAR,ITS-90,PSS-78,,PSS-78,,UMOL/KG,,UMOL/KG,,UMOL/KG,,UMOL/KG,,UMOL/KG,,UMOL/KG,,PMOL/KG,,PMOL/KG,,FMOL/KG,,UMOL/KG,,UMOL/KG,,UATM,,DEG C,,,DEG C,TU,,NMOL/KG,,PERCNT,,DEG C,,/MILLE,,/MILLE,,/MILLE,PMOL/KG,,UMOL/KG,,UMOL/KG,,DBAR,DEG C
33RO20100308,      A13.5,      82,          2,         24,      11714,2,20100406,       0250,   -13.5005,      0.941,       5552,     5.6,  26.2054,  36.8343,2,  36.8400,2, 201.1000,2,   201.6,2,    0.70,6,    0.03,6,    0.00,6,    0.16,6,   1.628,2,   1.028,2,   1.0440,2,  2084.2,6,  2417.7,2,    319.7,2,    20.00,   8.0688,2,    25.00,-999.000,9,-999.0000,9, -999.00,9,-999.0000,9, -999.00,9,  -999.0,9,  -999.0,   1.983,3, -999.00,9, -999.00,9,    5.60,  26.2041
33RO20100308,      A13.5,      82,          2,         23,      11716,2,20100406,       0250,   -13.5005,      0.941,       5552,    30.1,  26.1266,  36.8277,4,  36.7481,2, 204.0000,2,   211.5,2,    0.64,2,    0.14,2,    0.00,2,    0.18,2,   1.700,2,   1.063,2,   1.0570,2,  2083.3,2,  2411.1,6,    326.9,2,    20.00,   8.0632,2,    25.00,-999.000,9,-999.0000,9, -999.00,9,-999.0000,9, -999.00,9,  -999.0,9,  -999.0,   1.862,3, -999.00,9, -999.00,9,   30.10,  26.1198
33RO20100308,      A13.5,      82,          2,         22,      11022,2,20100406,       0250,   -13.5005,      0.941,       5552,    60.5,  19.0178,  36.2010,2,  36.1985,2, 180.0000,2,   180.2,2,    2.28,2,    9.24,2,    0.49,2,    0.78,2,   2.218,6,   1.327,6,   1.1090,6,  2146.1,2,  2374.8,6,    519.1,2,    20.00,   7.8904,2,    25.00,-999.000,9,-999.0000,9, -999.00,9,-999.0000,9, -999.00,9,  -999.0,9,  -999.0,   1.312,3, -999.00,9, -999.00,9,   60.50,  19.0069
33RO20100308,      A13.5,      82,          2,         21,      11010,2,20100406,       0250,   -13.5005,      0.941,       5552,    90.0,  14.9560,  35.5110,2,  35.5110,2,  54.8000,2,    49.1,2,    6.84,2,   28.81,2,    0.06,2,    1.90,2,   2.155,2,   1.231,2,   0.7530,2,  2246.7,2,  2317.0,2,   1299.3,2,    20.00,   7.5274,2,    25.00,-999.000,9,-999.0000,9, -999.00,9,-999.0000,9, -999.00,9,  -999.0,9,  -999.0,   0.394,3, -999.00,9, -999.00,9,   90.00,  14.9424
33RO20100308,      A13.5,      82,          2,         20,      11715,2,20100406,       0250,   -13.5005,      0.941,       5552,   119.8,  14.0367,  35.4017,2,  35.4038,2,  19.8000,2,    18.1,2,    8.86,6,   30.89,6,    0.02,6,    1.97,6,   1.977,2,   1.094,2,   0.4930,2,  2253.4,2,  2313.9,2,   1424.4,2,    20.00,   7.4918,2,    25.00,-999.000,9,-999.0000,9, -999.00,9,-999.0000,9, -999.00,9,  -999.0,9,  -999.0,   0.194,3, -999.00,9, -999.00,9,  119.80,  14.0193
33RO20100308,      A13.5,      82,          2,         19,      11007,2,20100406,       0250,   -13.5005,      0.941,       5552,   149.4,  13.3719,  35.3363,2,  35.3349,2,  36.3000,2,    33.0,6,    8.73,2,   29.59,2,    0.01,2,    1.88,2,   1.901,2,   1.043,2,   0.5350,2,  2240.2,2,  2311.2,2,   1283.1,2,    20.00,   7.5302,2,    25.00,-999.000,9,-999.0000,9, -999.00,9,-999.0000,9, -999.00,9,  -999.0,9,  -999.0,   0.229,3, -999.00,9, -999.00,9,  149.40,  13.3509
33RO20100308,      A13.5,      82,          2,         18,      11710,2,20100406,       0250,   -13.5005,      0.941,       5552,   201.3,  12.0542,  35.1750,2,  35.1769,2,  48.8000,2,    48.0,2,   10.29,2,   29.99,2,    0.01,2,    1.91,2,   1.557,2,   0.837,2,   0.3210,2,  2234.5,2,  2311.1,2,   1252.7,2,    20.00,   7.5392,2,    25.00,-999.000,9,-999.0000,9, -999.00,9,-999.0000,9, -999.00,9,  -999.0,9,  -999.0,   0.212,3, -999.00,9, -999.00,9,  201.30,  12.0278
33RO20100308,      A13.5,      82,          2,         17,      11025,2,20100406,       0250,   -13.5005,      0.941,       5552,   250.3,  11.0859,  35.0523,2,  35.0510,2,  20.9000,2,    21.4,2,   13.06,2,   34.39,2,    0.00,2,    2.18,2,   1.104,2,   0.587,2,   0.1400,2,  2252.6,6,  2303.6,2,   1542.2,2,    20.00,   7.4532,2,    25.00,-999.000,9,-999.0000,9, -999.00,9,-999.0000,9, -999.00,9,  -999.0,9,  -999.0,   0.152,3, -999.00,9, -999.00,9,  250.30,  11.0548
33RO20100308,      A13.5,      82,          2,         16,      11709,2,20100406,       0250,   -13.5005,      0.941,       5552,   299.0,  10.4058,  34.9755,2,  34.9757,2,  25.6000,2,    30.0,2,   13.91,2,   34.84,2,    0.00,2,    2.20,2,   0.865,2,   0.457,2,   0.0780,2,  2252.8,2,  2297.1,2,   1522.0,2,    20.00,   7.4576,2,    25.00,-999.000,9,-999.0000,9, -999.00,9,-999.0000,9, -999.00,9,  -999.0,9,  -999.0,   0.147,3, -999.00,9, -999.00,9,  299.00,  10.3700
33RO20100308,      A13.5,      82,          2,         15,      11006,2,20100406,       0250,   -13.5005,      0.941,       5552,   350.7,   9.5217,  34.8782,2,  34.8760,2,  33.2000,2,    33.5,2,   15.63,2,   36.36,2,    0.00,2,    2.30,2,   0.590,2,   0.310,2,   0.0640,2,  2251.6,2,  2295.0,2,   1588.8,2,    20.00,   7.4412,2,    25.00,-999.000,9,-999.0000,9, -999.00,9,-999.0000,9, -999.00,9,  -999.0,9,  -999.0,   0.149,3, -999.00,9, -999.00,9,  350.70,   9.4820
33RO20100308,      A13.5,      82,          2,         14,      11708,2,20100406,       0250,   -13.5005,      0.941,       5552,   400.4,   8.7877,  34.8027,2,  34.8008,2,  33.7000,2,    34.5,2,   17.38,2,   37.64,2,    0.00,2,    2.39,2,   0.379,2,   0.201,2,   0.0490,2,  2254.6,2,  2293.5,2,   1651.7,2,    20.00,   7.4254,2,    25.00,-999.000,9,-999.0000,9, -999.00,9,-999.0000,9, -999.00,9,  -999.0,9,  -999.0,   0.137,3, -999.00,9, -999.00,9,  400.40,   8.7444
33RO20100308,      A13.5,      82,          2,         13,      11031,2,20100406,       0250,   -13.5005,      0.941,       5552,   449.2,   7.9788,  34.7226,2,  34.7226,2,  44.8000,2,    44.9,2,   19.11,2,   38.37,2,    0.00,2,    2.46,2,   0.266,2,   0.144,2,   0.0230,2,  2254.1,2,  2291.5,2,   1658.4,2,    20.00,   7.4250,2,    25.00,-999.000,9,-999.0000,9, -999.00,9,-999.0000,9, -999.00,9,  -999.0,9,  -999.0,   0.155,3, -999.00,9, -999.00,9,  449.20,   7.9328
33RO20100308,      A13.5,      82,          2,         12,      11027,2,20100406,       0250,   -13.5005,      0.941,       5552,   549.9,   6.7869,  34.6134,2,  34.6140,2,  69.8000,2,    69.8,2,   22.19,2,   38.16,2,    0.00,2,    2.50,2,   0.160,2,   0.089,2,   0.0000,2,  2246.2,2,  2290.9,2,   1573.2,2,    20.00,   7.4440,2,    25.00,-999.000,9,-999.0000,9, -999.00,9,-999.0000,9, -999.00,9,  -999.0,9,  -999.0,   0.194,3, -999.00,9, -999.00,9,  549.90,   6.7353
33RO20100308,      A13.5,      82,          2,         11,      11707,2,20100406,       0250,   -13.5005,      0.941,       5552,   650.9,   5.8188,  34.5356,2,  34.5372,2,  95.3000,2,    94.0,2,   25.58,2,   37.40,2,    0.00,2,    2.51,2,   0.108,2,   0.059,2,   0.0000,2,  2238.9,2,  2292.8,2,   1471.2,2,    20.00,   7.4704,2,    25.00,-999.000,9,-999.0000,9, -999.00,9,-999.0000,9, -999.00,9,  -999.0,9,  -999.0,   0.215,3, -999.00,9, -999.00,9,  650.90,   5.7621
33RO20100308,      A13.5,      82,          2,         10,      11003,2,20100406,       0250,   -13.5005,      0.941,       5552,   749.8,   5.1334,  34.4994,2,  34.4983,2, 109.8000,2,   110.8,2,   29.27,6,   37.85,2,    0.00,6,    2.50,6,   0.059,2,   0.033,2,   0.0000,2,  2237.4,2,  2294.7,2,   1408.4,2,    20.00,   7.4873,2,    25.00,-999.000,9,-999.0000,9, -999.00,9,-999.0000,9, -999.00,9,  -999.0,9,  -999.0,   0.171,3, -999.00,9, -999.00,9,  749.80,   5.0715
33RO20100308,      A13.5,      82,          2,          9,      11706,2,20100406,       0250,   -13.5005,      0.941,       5552,   850.8,   4.6156,  34.4966,2,  34.4972,2, 127.0000,2,   126.9,2,   32.48,2,   37.55,2,    0.00,2,    2.47,2,   0.031,2,   0.019,2,   0.0000,2,  2233.0,2,  2299.6,2,   1336.8,2,    20.00,   7.5093,2,    25.00,-999.000,9,-999.0000,9, -999.00,9,-999.0000,9, -999.00,9,  -999.0,9,  -999.0,   0.126,3, -999.00,9, -999.00,9,  850.80,   4.5481
33RO20100308,      A13.5,      82,          2,          8,      11033,2,20100406,       0250,   -13.5005,      0.941,       5552,   949.9,   4.2619,  34.5282,2,  34.5288,2, 140.8000,2,   141.0,2,   34.63,2,   36.00,2,    0.00,2,    2.39,2,   0.016,2,   0.010,2,   0.0000,2,  2228.2,2,  2300.5,2,   1262.4,2,    20.00,   7.5339,2,    25.00,-999.000,9,-999.0000,9, -999.00,9,-999.0000,9, -999.00,9,  -999.0,9,  -999.0,   0.083,3, -999.00,9, -999.00,9,  949.90,   4.1884
33RO20100308,      A13.5,      82,          2,          7,      11705,2,20100406,       0250,   -13.5005,      0.941,       5552,  1050.8,   4.0564,  34.5913,2,  34.5930,2, 149.3000,2,   149.5,2,   35.32,2,   34.62,2,    0.00,2,    2.30,2,   0.007,2,   0.006,2,   0.0000,2,  2226.4,2,  2307.3,2,   1209.4,2,    20.00,   7.5514,2,    25.00,-999.000,9,-999.0000,9, -999.00,9,-999.0000,9, -999.00,9,  -999.0,9,  -999.0,   0.043,3, -999.00,9, -999.00,9, 1050.80,   3.9759
33RO20100308,      A13.5,      82,          2,          6,      11029,2,20100406,       0250,   -13.5005,      0.941,       5552,  1150.3,   3.9427,  34.6566,2,  34.6591,2, 159.6000,2,   159.8,6,   34.77,2,   32.70,2,    0.00,2,    2.18,2,   0.004,2,   0.004,2,   0.0000,2,  2222.3,2,  2310.6,2,   1145.7,2,    20.00,   7.5742,2,    25.00,-999.000,9,-999.0000,9, -999.00,9,-999.0000,9, -999.00,9,  -999.0,9,  -999.0,   0.026,3, -999.00,9, -999.00,9, 1150.30,   3.8546
33RO20100308,      A13.5,      82,          2,          5,      11704,4,20100406,       0250,   -13.5005,      0.941,       5552,  1250.2,   3.8676,  34.7220,4,  34.8783,4, 169.7000,4,    33.2,4,   15.62,4,   37.15,4,    0.00,4,    2.29,4,   0.590,4,   0.309,4,   0.0840,4,  -999.0,9,  -999.0,9,   -999.0,9,  -999.00,   7.4375,4,    25.00,-999.000,9,-999.0000,9, -999.00,9,-999.0000,9, -999.00,9,  -999.0,9,  -999.0,   0.140,4, -999.00,9, -999.00,9, 1250.20,   3.7715
33RO20100308,      A13.5,      82,          2,          4,      11030,2,20100406,       0250,   -13.5005,      0.941,       5552,  1349.8,   3.8011,  34.7713,2,  34.7718,2, 181.1000,2,   181.5,2,   32.21,6,   29.25,2,    0.00,6,    1.95,6,   0.003,2,   0.003,2,   0.0000,2,  2209.7,2,  2315.6,2,   1022.3,2,    20.00,   7.6206,2,    25.00,-999.000,9,-999.0000,9, -999.00,9,-999.0000,9, -999.00,9,  -999.0,9,  -999.0,   0.021,3, -999.00,9, -999.00,9, 1349.80,   3.6969
33RO20100308,      A13.5,      82,          2,          3,      11703,2,20100406,       0250,   -13.5005,      0.941,       5552,  1451.2,   3.7767,  34.8320,2,  34.8330,2, 192.3000,2,   192.6,2,   29.77,6,   27.32,2,    0.00,6,    1.82,6,   0.002,2,   0.003,2,   0.0000,2,  2201.9,2,  2314.4,2,    964.0,2,    20.00,   7.6447,2,    25.00,-999.000,9,-999.0000,9, -999.00,9,-999.0000,9, -999.00,9,  -999.0,9,  -999.0,   0.020,3, -999.00,9, -999.00,9, 1451.20,   3.6637
33RO20100308,      A13.5,      82,          2,          2,      11702,2,20100406,       0250,   -13.5005,      0.941,       5552,  1551.1,   3.7129,  34.8693,2,  34.8696,2, 203.6000,2,   203.9,2,   28.32,6,   25.72,2,    0.00,6,    1.71,6,   0.003,2,   0.002,2,   0.0000,2,  2194.0,2,  2314.1,2,    902.8,2,    20.00,   7.6669,2,    25.00,-999.000,9,-999.0000,9, -999.00,9,-999.0000,9, -999.00,9,  -999.0,9,  -999.0,   0.030,3, -999.00,9, -999.00,9, 1551.10,   3.5916
33RO20100308,      A13.5,      82,          2,          1,      11701,2,20100406,       0250,   -13.5005,      0.941,       5552,  1699.5,   3.6030,  34.9009,2,  34.9011,2, 214.1000,2,   214.2,2,   27.76,2,   24.34,2,    0.00,2,    1.61,2,   0.004,2,   0.004,2,   0.0000,2,  2190.9,6,  2314.8,2,    864.1,2,    20.00,   7.6840,2,    25.00,-999.000,9,-999.0000,9, -999.00,9,-999.0000,9, -999.00,9,  -999.0,9,  -999.0,   0.031,3, -999.00,9, -999.00,9, 1699.50,   3.4696