BOTTLE,20130404CCHSIOCBG
EXPOCODE,SECT_ID,STNNBR,CASTNO,SAMPNO,BTLNBR,BTLNBR_FLAG_W,DATE,TIME,LATITUDE,LONGITUDE,DEPTH,CTDPRS,CTDTMP,CTDSAL,CTDSAL_FLAG_W,SALNTY,SALNTY_FLAG_W,CTDOXY,CTDOXY_FLAG_W,OXYGEN,OXYGEN_FLAG_W,SILCAT,SILCAT_FLAG_W,NITRAT,NITRAT_FLAG_W,NITRIT,NITRIT_FLAG_W,PHSPHT,PHSPHT_FLAG_W,CFC-11,CFC-11_FLAG_W,CFC-12,CFC-12_FLAG_W,SF6,SF6_FLAG_W,TCARBN,TCARBN_FLAG_W,ALKALI,ALKALI_FLAG_W,FCO2,FCO2_FLAG_W,FCO2TMP,PH_TOT,PH_TOT_FLAG_W,PH_TMP,TRITUM,TRITUM_FLAG_W,HELIUM,HELIUM_FLAG_W,DELHE3,DELHE3_FLAG_W,REFTMP,REFTMP_FLAG_W,DELC13,DELC13_FLAG_W,DELC14,DELC14_FLAG_W,C14ERR,CCL4,CCL4_FLAG_W,DOC,DOC_FLAG_W,TDN,TDN_FLAG_W,CTDRAW,THETA
,,,,,,,,,,,METERS,DBAR,ITS-90,PSS-78,,PSS-78,,UMOL/KG,,UMOL/KG,,UMOL/KG,,UMOL/KG,,UMOL/KG,,UMOL/KG,,PMOL/KG,,PMOL/KG,,FMOL/KG,,UMOL/KG,,UMOL/KG,,UATM,,DEG C,,,DEG C,TU,,NMOL/KG,,PERCNT,,DEG C,,/MILLE,,/MILLE,,/MILLE,PMOL/KG,,UMOL/KG,,UMOL/KG,,DBAR,DEG C
33RO20100308,      A13.5,      73,          1,         24,      11714,2,20100402,       1318,      -18.0,     1.1748,       5212,     6.1,  24.5081,  36.5579,2,  36.5640,2, 210.0000,2,   210.4,2,    0.40,2,    0.03,2,    0.00,2,    0.21,2,   1.779,2,   1.113,2,   1.1040,2,  2077.7,6,  2401.8,2,    331.3,2,    20.00,   8.0542,2,    25.00,-999.000,1,-999.0000,1, -999.00,9,-999.0000,9,    1.62,2,    66.2,2,     3.1,   2.106,3,   74.74,2,    5.09,2,    6.10,  24.5068
33RO20100308,      A13.5,      73,          1,         23,      11713,2,20100402,       1318,      -18.0,     1.1748,       5212,    40.3,  20.7626,  35.9176,2,  35.9200,2, 256.1000,2,   255.7,2,    0.63,2,    0.07,2,    0.00,2,    0.27,2,   2.279,2,   1.374,2,   1.3130,2,  2066.5,2,  2363.2,6,    360.1,2,    20.00,   8.0183,2,    25.00,-999.000,1,-999.0000,1, -999.00,9,-999.0000,9,    1.57,2,    53.8,2,     2.9,   1.547,3,   66.87,2,    5.10,2,   40.30,  20.7549
33RO20100308,      A13.5,      73,          1,         22,      11712,2,20100402,       1318,      -18.0,     1.1748,       5212,   100.0,  16.9844,  35.6992,2,  35.7000,2, 203.2000,2,   201.0,2,    2.34,2,    5.65,2,    0.10,2,    0.55,2,   2.490,6,   1.481,6,   1.2720,6,  2107.7,2,  2345.4,2,    474.4,6,    20.00,   7.9151,2,    25.00,-999.000,1,-999.0000,1, -999.00,9,-999.0000,9,    0.93,2,    60.8,2,     2.9,   1.227,3,   52.89,2,    9.75,2,  100.00,  16.9679
33RO20100308,      A13.5,      73,          1,         21,      11010,2,20100402,       1318,      -18.0,     1.1748,       5212,   201.3,  12.9491,  35.2386,2,  35.2375,2,  47.7000,2,    40.2,2,    9.77,2,   29.64,2,    0.01,2,    1.90,2,   2.089,2,   1.143,2,   0.6190,2,  2236.1,2,  2312.5,2,   1303.8,2,    20.00,   7.5183,2,    25.00,-999.000,1,-999.0000,1, -999.00,9,-999.0000,9,    0.09,2,    45.1,2,     2.9,   0.298,3,   46.11,2,   33.23,2,  201.30,  12.9214
33RO20100308,      A13.5,      73,          1,         20,      11715,2,20100402,       1318,      -18.0,     1.1748,       5212,   249.9,  12.3177,  35.1780,2,  35.1796,2,  27.7000,2,    26.8,2,   10.76,2,   32.02,2,    0.01,2,    2.04,2,   1.792,2,   0.971,2,   0.4510,2,  2244.7,2,  2309.4,2,   1419.5,2,    20.00,   7.4834,2,    25.00,-999.000,1,-999.0000,1, -999.00,9,-999.0000,9,    0.06,2,    34.2,2,     3.1,   0.243,3,   45.23,2,   34.46,2,  249.90,  12.2844
33RO20100308,      A13.5,      73,          1,         19,      11007,2,20100402,       1318,      -18.0,     1.1748,       5212,   300.6,  11.3884,  35.0631,2,-999.0000,9,  31.6000,2,    31.1,2, -999.00,9, -999.00,9, -999.00,9, -999.00,9,   1.589,2,   0.847,2,   0.3460,2,  2245.3,2,  -999.0,5,   1473.8,6,    20.00,   7.4711,4,    25.00,-999.000,1,-999.0000,1, -999.00,9,-999.0000,9,    0.09,2,    17.5,2,     2.8,   0.273,3,   44.33,2,   35.77,2,  300.60,  11.3503
33RO20100308,      A13.5,      73,          1,         18,      11710,2,20100402,       1318,      -18.0,     1.1748,       5212,   349.7,  10.4151,  34.9635,2,-999.0000,9,  23.2000,2,    22.5,6, -999.00,9, -999.00,9, -999.00,9, -999.00,9,   1.020,2,   0.540,2,   0.1820,2,  2254.2,6,  2304.4,2,   1628.5,2,    20.00,   7.4327,4,    25.00,-999.000,9,-999.0000,1, -999.00,9,-999.0000,9,    0.09,2,   -17.6,2,     2.8,   0.205,3,   43.53,2,   37.47,2,  349.70,  10.3732
33RO20100308,      A13.5,      73,          1,         17,      11025,2,20100402,       1318,      -18.0,     1.1748,       5212,   400.5,   9.2711,  34.8308,2,  34.8305,2,  68.3000,4,    40.9,2,   16.26,2,   36.40,2,    0.00,2,    2.33,2,   0.879,2,   0.458,2,   0.1550,2,  2249.9,2,  2298.2,6,   1600.6,2,    20.00,   7.4397,2,    25.00,-999.000,1,-999.0000,1, -999.00,9,-999.0000,9,    0.24,2,   -28.9,2,     2.8,   0.289,3,   42.71,2,   38.04,2,  400.50,   9.2264
33RO20100308,      A13.5,      73,          1,         16,      11709,2,20100402,       1318,      -18.0,     1.1748,       5212,   500.1,   7.6480,  34.6720,2,-999.0000,9,  68.2000,2,    67.3,2,   19.58,2,   37.28,2,    0.00,2,    2.40,2,-999.000,5,-999.000,5,-999.0000,5,  2242.1,2,  2295.3,2,   1525.0,2,    20.00,   7.4570,2,    25.00,-999.000,1,-999.0000,1, -999.00,9,-999.0000,9,    0.38,2,   -66.7,2,     3.1,-999.000,5,   41.09,2,   38.96,2,  500.10,   7.5979
33RO20100308,      A13.5,      73,          1,         15,      11006,2,20100402,       1318,      -18.0,     1.1748,       5212,   599.9,   6.4676,  34.5696,2,  34.5706,2,  90.4000,2,    91.0,2,   23.11,2,   37.49,2,    0.00,2,    2.46,2,   0.322,2,   0.167,2,   0.0530,2,  2235.1,2,  2295.3,2,   1455.2,2,    20.00,   7.4749,2,    25.00,-999.000,1,-999.0000,1, -999.00,9,-999.0000,9,    0.48,6,   -79.7,6,     1.8,   0.348,3,   39.13,2,   39.00,2,  599.90,   6.4126
33RO20100308,      A13.5,      73,          1,         14,      11708,2,20100402,       1318,      -18.0,     1.1748,       5212,   700.2,   5.6039,  34.5096,2,-999.0000,9, 104.5000,2,   103.4,2,   27.06,2,   38.00,2,    0.00,2,    2.51,2,   0.209,2,   0.111,2,   0.0490,2,  2235.5,2,  2298.7,2,   1445.0,2,    20.00,   7.4790,4,    25.00,-999.000,1,-999.0000,1, -999.00,9,-999.0000,9,    0.57,2,   -95.0,2,     3.4,   0.323,3,   38.64,2,   39.27,2,  700.20,   5.5438
33RO20100308,      A13.5,      73,          1,         13,      11031,2,20100402,       1318,      -18.0,     1.1748,       5212,   900.1,   4.3887,  34.4848,2,  34.4867,2, 138.9000,2,   138.8,2,   34.66,2,   36.16,2,    0.00,2,    2.45,2,   0.056,2,   0.032,2,   0.0000,2,  2228.3,2,  2304.0,2,   1289.0,2,    20.00,   7.5252,2,    25.00,-999.000,1,-999.0000,1, -999.00,9,-999.0000,9,    0.69,2,  -117.0,2,     2.5,   0.191,3,   38.14,2,   37.63,2,  900.10,   4.3186
33RO20100308,      A13.5,      73,          1,         12,      11027,2,20100402,       1318,      -18.0,     1.1748,       5212,  1200.0,   3.7532,  34.6359,2,  34.6386,2, 166.8000,2,   167.8,2,   38.35,2,   32.08,2,    0.00,2,    2.19,2,   0.013,2,   0.008,2,   0.0000,2,  2220.1,2,  2316.6,2,   1114.8,2,    20.00,   7.5842,2,    25.00,-999.000,1,-999.0000,1, -999.00,9,-999.0000,9,    0.73,2,  -123.2,2,     3.1,   0.070,3,   38.30,2,   34.26,2, 1200.00,   3.6626
33RO20100308,      A13.5,      73,          1,         11,      11707,2,20100402,       1318,      -18.0,     1.1748,       5212,  1499.9,   3.6474,  34.8151,2,  34.8170,2, 198.8000,2,   200.3,2,   31.98,2,   26.82,2,    0.00,2,    1.81,2,   0.004,2,   0.003,2,   0.0000,2,  2197.5,2,  2320.1,2,    932.2,2,    20.00,   7.6570,2,    25.00,-999.000,1,-999.0000,1, -999.00,9,-999.0000,9,    0.88,2,  -110.5,2,     2.7,   0.036,3,   39.25,2,   28.49,2, 1499.90,   3.5316
33RO20100308,      A13.5,      73,          1,         10,      11003,2,20100402,       1318,      -18.0,     1.1748,       5212,  1800.4,   3.4402,  34.8959,2,  34.8985,2, 219.5000,2,   222.3,2,   29.63,2,   23.81,2,    0.00,2,    1.60,2,   0.005,2,   0.004,2,   0.0000,2,  2185.7,2,  2321.1,2,    844.5,2,    20.00,   7.6956,2,    25.00,-999.000,1,-999.0000,1, -999.00,9,-999.0000,9,    1.01,2,  -110.6,2,     3.3,   0.040,3,   39.85,2,   25.96,2, 1800.40,   3.2997
33RO20100308,      A13.5,      73,          1,          9,      11706,2,20100402,       1318,      -18.0,     1.1748,       5212,  2101.5,   3.1707,  34.9103,2,  34.9113,2, 229.1000,2,   230.0,2,   32.44,2,   23.01,2,    0.00,2,    1.54,2,   0.003,2,   0.004,2,   0.0000,2,  2184.9,2,  2325.7,2,    823.2,2,    20.00,   7.7068,2,    25.00,-999.000,9,-999.0000,1, -999.00,9,-999.0000,9,    0.97,2,  -109.6,2,     2.8,   0.022,3,   39.67,2,   24.86,2, 2101.50,   3.0062
33RO20100308,      A13.5,      73,          1,          8,      11033,2,20100402,       1318,      -18.0,     1.1748,       5212,  2398.9,   2.9507,  34.9085,2,  34.9096,2, 232.1000,2,   233.3,2,   36.14,6,   22.89,6,    0.00,6,    1.54,6,   0.002,2,   0.002,2,   0.0000,2,  2187.7,2,  2331.3,2,    806.8,2,    20.00,   7.7130,2,    25.00,-999.000,1,-999.0000,1, -999.00,9,-999.0000,9, -999.00,9,  -999.0,9,  -999.0,   0.012,3,   39.35,2,   24.51,2, 2398.90,   2.7616
33RO20100308,      A13.5,      73,          1,          7,      11705,2,20100402,       1318,      -18.0,     1.1748,       5212,  2801.4,   2.6856,  34.9000,2,  34.9009,2, 230.8000,2,   230.6,6,   42.73,6,   23.25,6,    0.00,6,    1.56,6,   0.002,2,   0.001,2,   0.0000,2,  2196.0,2,  2338.5,2,    813.9,2,    20.00,   7.7093,2,    25.00,-999.000,9,-999.0000,1, -999.00,9,-999.0000,9, -999.00,9,  -999.0,9,  -999.0,   0.008,3,   39.37,2,   25.03,2, 2801.40,   2.4620
33RO20100308,      A13.5,      73,          1,          6,      11029,2,20100402,       1318,      -18.0,     1.1748,       5212,  3199.9,   2.5216,  34.8938,2,  34.8933,2, 227.8000,2,   229.2,2,   48.16,6,   23.61,6,    0.00,6,    1.59,6,   0.002,2,   0.002,2,   0.0000,2,  2204.7,2,  2347.4,2,    820.1,2,    20.00,   7.7078,2,    25.00,-999.000,1,-999.0000,1, -999.00,9,-999.0000,9, -999.00,9,  -999.0,9,  -999.0,   0.003,3,   39.31,2,   25.39,2, 3199.90,   2.2607
33RO20100308,      A13.5,      73,          1,          5,      11704,2,20100402,       1318,      -18.0,     1.1748,       5212,  3599.9,   2.4229,  34.8910,2,  34.8916,2, 228.1000,2,   229.2,2,   50.86,6,   23.67,6,    0.00,6,    1.59,6,   0.002,2,   0.002,2,   0.0000,2,  2211.8,2,  2354.3,2,    812.3,2,    20.00,   7.7119,2,    25.00,-999.000,9,-999.0000,1, -999.00,9,-999.0000,9, -999.00,9,  -999.0,9,  -999.0,   0.002,3,   39.63,2,   24.78,2, 3599.90,   2.1216
33RO20100308,      A13.5,      73,          1,          4,      11030,2,20100402,       1318,      -18.0,     1.1748,       5212,  4000.2,   2.3954,  34.8889,2,  34.8897,2, 229.9000,2,   231.7,2,   51.31,6,   23.50,6,    0.00,6,    1.58,6,   0.002,2,   0.002,2,   0.0000,2,  2209.9,2,  2353.8,2,    805.8,2,    20.00,   7.7158,2,    25.00,-999.000,1,-999.0000,1, -999.00,9,-999.0000,9, -999.00,9,  -999.0,9,  -999.0,   0.013,3,   38.86,2,   25.43,2, 4000.20,   2.0500
33RO20100308,      A13.5,      73,          1,          3,      11703,2,20100402,       1318,      -18.0,     1.1748,       5212,  4399.9,   2.3974,  34.8867,2,  34.8866,2, 232.3000,2,   232.8,2,   51.95,6,   23.50,6,    0.00,6,    1.58,6,   0.003,2,   0.003,2,   0.0000,2,  2210.7,2,  2357.2,2,    804.0,2,    20.00,   7.7180,2,    25.00,-999.000,9,-999.0000,1, -999.00,9,-999.0000,9, -999.00,9,  -999.0,9,  -999.0,   0.016,3,   40.07,2,   24.72,2, 4399.90,   2.0053
33RO20100308,      A13.5,      73,          1,          2,      11702,2,20100402,       1318,      -18.0,     1.1748,       5212,  4799.7,   2.4162,  34.8838,2,  34.8836,2, 234.1000,2,   233.8,2,   52.28,6,   23.44,6,    0.00,6,    1.57,6,   0.004,2,   0.004,2,   0.0000,2,  2210.6,2,  2355.9,6,    801.7,2,    20.00,   7.7181,2,    25.00,-999.000,1,-999.0000,1, -999.00,9,-999.0000,9, -999.00,9,  -999.0,9,  -999.0,   0.036,3,   39.35,2,   24.80,2, 4799.70,   1.9748
33RO20100308,      A13.5,      73,          1,          1,      11701,2,20100402,       1318,      -18.0,     1.1748,       5212,  5278.6,   2.4407,  34.8797,2,  34.8810,2, 234.5000,2,   234.6,2,   52.83,6,   23.43,6,    0.00,6,    1.57,6,   0.007,2,   0.007,2,   0.0000,2,  2211.5,6,  2358.9,2,    799.3,2,    20.00,   7.7192,2,    25.00,-999.000,1,-999.0000,1, -999.00,9,-999.0000,9, -999.00,9,  -999.0,9,  -999.0,   0.047,3,   39.34,2,   25.26,2, 5278.60,   1.9375