BOTTLE,20130404CCHSIOCBG
EXPOCODE,SECT_ID,STNNBR,CASTNO,SAMPNO,BTLNBR,BTLNBR_FLAG_W,DATE,TIME,LATITUDE,LONGITUDE,DEPTH,CTDPRS,CTDTMP,CTDSAL,CTDSAL_FLAG_W,SALNTY,SALNTY_FLAG_W,CTDOXY,CTDOXY_FLAG_W,OXYGEN,OXYGEN_FLAG_W,SILCAT,SILCAT_FLAG_W,NITRAT,NITRAT_FLAG_W,NITRIT,NITRIT_FLAG_W,PHSPHT,PHSPHT_FLAG_W,CFC-11,CFC-11_FLAG_W,CFC-12,CFC-12_FLAG_W,SF6,SF6_FLAG_W,TCARBN,TCARBN_FLAG_W,ALKALI,ALKALI_FLAG_W,FCO2,FCO2_FLAG_W,FCO2TMP,PH_TOT,PH_TOT_FLAG_W,PH_TMP,TRITUM,TRITUM_FLAG_W,HELIUM,HELIUM_FLAG_W,DELHE3,DELHE3_FLAG_W,REFTMP,REFTMP_FLAG_W,DELC13,DELC13_FLAG_W,DELC14,DELC14_FLAG_W,C14ERR,CCL4,CCL4_FLAG_W,DOC,DOC_FLAG_W,TDN,TDN_FLAG_W,CTDRAW,THETA
,,,,,,,,,,,METERS,DBAR,ITS-90,PSS-78,,PSS-78,,UMOL/KG,,UMOL/KG,,UMOL/KG,,UMOL/KG,,UMOL/KG,,UMOL/KG,,PMOL/KG,,PMOL/KG,,FMOL/KG,,UMOL/KG,,UMOL/KG,,UATM,,DEG C,,,DEG C,TU,,NMOL/KG,,PERCNT,,DEG C,,/MILLE,,/MILLE,,/MILLE,PMOL/KG,,UMOL/KG,,UMOL/KG,,DBAR,DEG C
33RO20100308,      A13.5,      99,          1,         24,      11714,2,20100410,       2119,    -4.9997,    -3.0003,       4764,     5.1,  28.8222,  35.6502,2,  35.6523,2, 196.1000,2,   197.1,2,    0.88,6,    0.12,6,    0.00,6,    0.07,6,   1.523,2,   0.965,2,   0.9450,2,  2013.0,6,  2342.1,6,    298.8,2,    20.00,   8.0854,2,    25.00,-999.000,9,-999.0000,9, -999.00,9,-999.0000,9,    1.57,2,    50.0,2,     2.3,   1.741,3,   73.51,2,    4.86,2,    5.10,  28.8210
33RO20100308,      A13.5,      99,          1,         23,      11716,2,20100410,       2119,    -4.9997,    -3.0003,       4764,    40.3,  23.6675,  36.0143,2,  35.9959,2, 222.8000,2,   216.6,2,    1.80,2,    0.62,2,    0.01,2,    0.24,2,   1.914,2,   1.153,2,   0.9870,2,  2075.6,2,  2365.9,6,    364.5,2,    20.00,   8.0161,2,    25.00,-999.000,9,-999.0000,9, -999.00,9,-999.0000,9,    1.48,2,    47.7,2,     2.4,   0.852,3,   67.42,2,    5.88,2,   40.30,  23.6591
33RO20100308,      A13.5,      99,          1,         22,      11022,2,20100410,       2119,    -4.9997,    -3.0003,       4764,    80.2,  16.8071,  35.7119,2,  35.6811,2, 124.4000,2,   121.3,2,    5.11,2,   16.09,2,    0.42,2,    1.14,2,   2.125,2,   1.209,2,   0.7040,2,  2171.1,2,  2342.5,6,    687.5,6,    20.00,   7.7751,2,    25.00,-999.000,9,-999.0000,9, -999.00,9,-999.0000,9,    0.67,2,    48.8,6,     5.6,   0.507,3,   51.40,2,   18.79,2,   80.20,  16.7939
33RO20100308,      A13.5,      99,          1,         21,      11010,2,20100410,       2119,    -4.9997,    -3.0003,       4764,   123.2,  13.6372,  35.3668,2,  35.3598,2, 104.0000,2,    96.6,2,    8.07,2,   22.73,2,    0.01,2,    1.49,2,   2.077,2,   1.135,2,   0.5580,2,  2193.6,2,  2321.6,2,    884.0,2,    20.00,   7.6731,2,    25.00,-999.000,9,-999.0000,9, -999.00,9,-999.0000,9,    0.44,2,    38.4,2,     3.2,   0.340,3,   48.31,2,   25.81,2,  123.20,  13.6197
33RO20100308,      A13.5,      99,          1,         20,      11715,2,20100410,       2119,    -4.9997,    -3.0003,       4764,   199.8,  12.5665,  35.2260,2,  35.2245,2,  88.8000,2,    89.7,2,    9.45,2,   25.00,2,    0.01,2,    1.63,2,   1.892,6,   1.020,6,   0.4890,6,  2202.4,2,  2314.7,2,    970.4,2,    20.00,   7.6345,2,    25.00,-999.000,9,-999.0000,9, -999.00,9,-999.0000,9,    0.45,2,    46.6,2,     2.7,   0.321,3,   44.52,2,   27.02,2,  199.80,  12.5396
33RO20100308,      A13.5,      99,          1,         19,      11007,2,20100410,       2119,    -4.9997,    -3.0003,       4764,   274.8,  11.2803,  35.0641,2,  35.0613,2,  91.4000,2,    90.6,2,   11.10,2,   27.11,2,    0.00,2,    1.75,2,   1.735,2,   0.957,2,   1.0150,3,  2207.5,2,  2308.2,2,   1058.8,2,    20.00,   7.6035,2,    25.00,-999.000,9,-999.0000,9, -999.00,9,-999.0000,9,    0.49,2,    22.9,2,     2.9,   0.400,3,   44.09,2,   29.40,2,  274.80,  11.2457
33RO20100308,      A13.5,      99,          1,         18,      11710,2,20100410,       2119,    -4.9997,    -3.0003,       4764,   348.6,  10.4642,  34.9663,2,  34.9654,2,  87.1000,2,    87.9,2,   12.44,2,   29.80,3,    0.00,2,    1.86,2,   1.526,2,   0.825,2,   0.7640,3,  2213.8,2,  2303.3,2,   1121.7,2,    20.00,   7.5755,2,    25.00,-999.000,9,-999.0000,9, -999.00,9,-999.0000,9,    0.50,2,    18.6,2,     3.1,   0.412,3,   42.84,2,   31.04,2,  348.60,  10.4223
33RO20100308,      A13.5,      99,          1,         17,      11025,2,20100410,       2119,    -4.9997,    -3.0003,       4764,   425.6,   8.8646,  34.8037,2,  34.8014,2,  68.9000,2,    68.9,2,   16.60,2,   34.60,2,    0.00,2,    2.18,2,   0.877,2,   0.447,2,   0.1030,2,  2234.5,6,  2294.9,2,   1380.3,2,    20.00,   7.4932,2,    25.00,-999.000,9,-999.0000,9, -999.00,9,-999.0000,9,    0.38,2,   -18.7,2,     2.7,   0.343,3,   41.19,2,   37.00,2,  425.60,   8.8183
33RO20100308,      A13.5,      99,          1,         16,      11709,2,20100410,       2119,    -4.9997,    -3.0003,       4764,   500.8,   7.7865,  34.6971,2,  34.6967,2,  74.1000,2,    72.7,6,   19.42,2,   36.62,2,    0.00,2,    2.33,2,   0.552,2,   0.281,2,   0.0790,2,  2238.3,2,  2292.5,2,   1453.4,2,    20.00,   7.4731,2,    25.00,-999.000,9,-999.0000,9, -999.00,9,-999.0000,9,    0.43,2,   -48.9,2,     3.2,   0.341,3,   40.39,2,   38.53,2,  500.80,   7.7358
33RO20100308,      A13.5,      99,          1,         15,      11006,2,20100410,       2119,    -4.9997,    -3.0003,       4764,   649.7,   5.8180,  34.5332,2,  34.5334,2, 112.1000,2,   109.6,2,   25.62,6,   36.84,6,    0.00,6,    2.42,6,   0.260,2,   0.130,2,   0.0000,2,  2230.3,2,  2289.5,2,   1352.2,2,    20.00,   7.5022,2,    25.00,-999.000,9,-999.0000,9, -999.00,9,-999.0000,9,    0.63,2,   -80.2,2,     1.9,   0.359,3,   39.39,2,   39.29,2,  649.70,   5.7614
33RO20100308,      A13.5,      99,          1,         14,      11708,2,20100410,       2119,    -4.9997,    -3.0003,       4764,   800.4,   4.8058,  34.4945,2,  34.4939,2, 142.1000,2,   142.7,2,   30.67,6,   35.14,6,    0.00,6,    2.36,6,   0.208,2,   0.102,2,   0.0000,2,  2220.9,2,  2296.8,6,   1232.1,6,    20.00,   7.5418,2,    25.00,-999.000,9,-999.0000,9, -999.00,9,-999.0000,9,    0.73,2,   -97.3,2,     1.9,   0.378,3,   39.24,2,   36.82,2,  800.40,   4.7415
33RO20100308,      A13.5,      99,          1,         13,      11031,2,20100410,       2119,    -4.9997,    -3.0003,       4764,   999.4,   4.3700,  34.5926,2,  34.5915,2, 148.1000,2,   149.3,2,   32.83,2,   33.62,2,    0.00,2,    2.30,2,   0.025,2,   0.014,2,   0.0000,2,  2224.3,2,  2303.3,2,   1194.4,2,    20.00,   7.5561,2,    25.00,-999.000,9,-999.0000,9, -999.00,9,-999.0000,9,    0.70,2,  -115.2,2,     3.0,   0.094,3,   38.66,2,   35.51,2,  999.40,   4.2914
33RO20100308,      A13.5,      99,          1,         12,      11027,2,20100410,       2119,    -4.9997,    -3.0003,       4764,  1199.9,   4.2319,  34.7798,2,  34.7795,2, 175.6000,2,   177.1,2,   28.15,2,   28.99,2,    0.00,2,    1.95,2,   0.018,2,   0.010,2,   0.0000,2,  2208.4,2,  2310.2,2,   1015.6,2,    20.00,   7.6195,2,    25.00,-999.000,9,-999.0000,9, -999.00,9,-999.0000,9,    0.79,2,  -109.9,2,     2.7,   0.079,3,   38.36,2,   31.05,2, 1199.90,   4.1366
33RO20100308,      A13.5,      99,          1,         11,      11707,2,20100410,       2119,    -4.9997,    -3.0003,       4764,  1400.5,   4.1585,  34.8959,2,  34.8961,2, 204.6000,2,   206.2,2,   23.13,2,   24.62,2,    0.00,2,    1.65,2,   0.049,2,   0.026,2,   0.0000,2,  2189.5,2,  2311.2,2,    882.4,2,    20.00,   7.6747,2,    25.00,-999.000,9,-999.0000,9, -999.00,9,-999.0000,9,    0.88,2,   -95.5,2,     2.8,   0.187,3,   39.27,2,   25.78,2, 1400.50,   4.0458
33RO20100308,      A13.5,      99,          1,         10,      11003,2,20100410,       2119,    -4.9997,    -3.0003,       4764,  1599.6,   3.9224,  34.9409,2,  34.9406,2, 226.1000,2,   227.7,2,   21.63,2,   22.13,2,    0.00,2,    1.47,2,   0.068,2,   0.036,2,   0.0000,2,  2178.5,2,  2316.2,2,    813.6,2,    20.00,   7.7087,2,    25.00,-999.000,9,-999.0000,9, -999.00,9,-999.0000,9,    0.99,2,   -88.7,2,     3.1,   0.262,3,   38.63,2,   23.74,2, 1599.60,   3.7940
33RO20100308,      A13.5,      99,          1,          9,      11706,2,20100410,       2119,    -4.9997,    -3.0003,       4764,  1799.5,   3.7294,  34.9541,2,  34.9538,2, 235.5000,2,   236.3,2,   21.96,2,   21.05,2,    0.00,2,    1.41,2,   0.041,2,   0.021,2,   0.0000,2,  2173.9,2,  2317.6,2,    788.4,2,    20.00,   7.7203,2,    25.00,-999.000,9,-999.0000,9, -999.00,9,-999.0000,9,    0.96,2,   -88.5,2,     2.6,   0.179,3,   39.06,2,   22.26,2, 1799.50,   3.5849
33RO20100308,      A13.5,      99,          1,          8,      11033,2,20100410,       2119,    -4.9997,    -3.0003,       4764,  1999.7,   3.4223,  34.9470,2,  34.9473,2, 239.1000,2,   240.4,2,   25.57,2,   20.88,2,    0.00,2,    1.40,2,   0.040,2,   0.021,2,   0.0000,2,  2175.5,2,  2319.6,2,    782.3,2,    20.00,   7.7253,2,    25.00,-999.000,9,-999.0000,9, -999.00,9,-999.0000,9,    1.01,2,   -88.0,2,     2.6,   0.191,3,   38.88,2,   22.55,2, 1999.70,   3.2634
33RO20100308,      A13.5,      99,          1,          7,      11705,2,20100410,       2119,    -4.9997,    -3.0003,       4764,  2301.4,   3.1043,  34.9322,2,  34.9323,2, 238.2000,2,   239.8,2,   31.41,6,   21.48,6,    0.00,6,    1.44,2,   0.014,2,   0.008,2,   0.0000,2,  2182.0,2,  2324.9,2,    788.5,2,    20.00,   7.7245,2,    25.00,-999.000,9,-999.0000,9, -999.00,9,-999.0000,9,    1.02,2,  -100.0,2,     2.6,   0.094,3,   39.87,2,   22.47,2, 2301.40,   2.9218
33RO20100308,      A13.5,      99,          1,          6,      11029,2,20100410,       2119,    -4.9997,    -3.0003,       4764,  2499.7,   2.9027,  34.9211,2,  34.9191,2, 237.7000,2,   238.9,2,   35.60,6,   21.67,6,    0.00,6,    1.46,6,   0.010,2,   0.005,2,   0.0000,2,  2187.2,2,  2332.0,2,    787.2,2,    20.00,   7.7239,2,    25.00,-999.000,9,-999.0000,9, -999.00,9,-999.0000,9,    1.01,2,   -99.8,2,     2.8,   0.066,3,   39.18,2,   23.04,2, 2499.70,   2.7046
33RO20100308,      A13.5,      99,          1,          5,      11704,2,20100410,       2119,    -4.9997,    -3.0003,       4764,  2800.2,   2.7189,  34.9103,2,  34.9106,2, 237.5000,2,   238.3,2,   39.94,6,   22.26,6,    0.00,6,    1.48,6,   0.005,2,   0.004,2,   0.0000,2,  2192.2,2,  2233.6,4,    791.0,2,    20.00,   7.7209,2,    25.00,-999.000,9,-999.0000,9, -999.00,9,-999.0000,9,    0.95,2,  -107.2,2,     3.3,   0.042,3,   39.19,2,   23.55,2, 2800.20,   2.4947
33RO20100308,      A13.5,      99,          1,          4,      11030,2,20100410,       2119,    -4.9997,    -3.0003,       4764,  3100.2,   2.5746,  34.9009,2,  34.8986,2, 236.4000,2,   237.4,2,   43.55,6,   22.54,6,    0.00,6,    1.50,6,   0.004,2,   0.003,2,   0.0000,2,  2196.7,2,  2342.0,2,    793.5,2,    20.00,   7.7202,2,    25.00,-999.000,9,-999.0000,9, -999.00,9,-999.0000,9,    0.94,2,  -111.5,2,     2.5,   0.031,3,   38.83,2,   24.08,2, 3100.20,   2.3229
33RO20100308,      A13.5,      99,          1,          3,      11703,2,20100410,       2119,    -4.9997,    -3.0003,       4764,  3999.3,   2.3775,  34.8853,2,  34.8843,2, 238.7000,2,   239.3,2,   49.09,6,   22.52,6,    0.00,6,    1.53,6,   0.014,2,   0.010,2,   0.0000,2,  2202.5,2,  2346.0,2,    796.9,2,    20.00,   7.7191,2,    25.00,-999.000,9,-999.0000,9, -999.00,9,-999.0000,9,    0.93,2,  -115.9,2,     2.4,   0.089,3,   38.46,2,   24.28,2, 3999.30,   2.0328
33RO20100308,      A13.5,      99,          1,          2,      11702,2,20100410,       2119,    -4.9997,    -3.0003,       4764,  4381.1,   2.2901,  34.8752,2,  34.8730,2, 240.6000,2,   241.0,2,   51.63,6,   22.86,6,    0.00,6,    1.54,6,   0.028,2,   0.016,2,   0.0000,2,  2204.4,2,  2345.7,2,    799.4,2,    20.00,   7.7189,2,    25.00,-999.000,9,-999.0000,9, -999.00,9,-999.0000,9,    0.90,2,  -110.8,2,     3.0,   0.144,3,   39.85,2,   24.44,2, 4381.10,   1.9035
33RO20100308,      A13.5,      99,          1,          1,      11701,2,20100410,       2119,    -4.9997,    -3.0003,       4764,  4833.0,   2.2804,  34.8695,2,  34.8679,2, 241.6000,2,   241.1,2,   53.00,6,   22.90,6,    0.00,6,    1.55,6,   0.045,2,   0.024,2,   0.0000,2,  2204.7,6,  2345.6,2,    801.6,2,    20.00,   7.7180,2,    25.00,-999.000,9,-999.0000,9, -999.00,9,-999.0000,9,    0.90,2,  -117.3,2,     2.4,   0.203,3,   39.61,2,   24.46,2, 4833.00,   1.8393