BOTTLE,20130404CCHSIOCBG
EXPOCODE,SECT_ID,STNNBR,CASTNO,SAMPNO,BTLNBR,BTLNBR_FLAG_W,DATE,TIME,LATITUDE,LONGITUDE,DEPTH,CTDPRS,CTDTMP,CTDSAL,CTDSAL_FLAG_W,SALNTY,SALNTY_FLAG_W,CTDOXY,CTDOXY_FLAG_W,OXYGEN,OXYGEN_FLAG_W,SILCAT,SILCAT_FLAG_W,NITRAT,NITRAT_FLAG_W,NITRIT,NITRIT_FLAG_W,PHSPHT,PHSPHT_FLAG_W,CFC-11,CFC-11_FLAG_W,CFC-12,CFC-12_FLAG_W,SF6,SF6_FLAG_W,TCARBN,TCARBN_FLAG_W,ALKALI,ALKALI_FLAG_W,FCO2,FCO2_FLAG_W,FCO2TMP,PH_TOT,PH_TOT_FLAG_W,PH_TMP,TRITUM,TRITUM_FLAG_W,HELIUM,HELIUM_FLAG_W,DELHE3,DELHE3_FLAG_W,REFTMP,REFTMP_FLAG_W,DELC13,DELC13_FLAG_W,DELC14,DELC14_FLAG_W,C14ERR,CCL4,CCL4_FLAG_W,DOC,DOC_FLAG_W,TDN,TDN_FLAG_W,CTDRAW,THETA
,,,,,,,,,,,METERS,DBAR,ITS-90,PSS-78,,PSS-78,,UMOL/KG,,UMOL/KG,,UMOL/KG,,UMOL/KG,,UMOL/KG,,UMOL/KG,,PMOL/KG,,PMOL/KG,,FMOL/KG,,UMOL/KG,,UMOL/KG,,UATM,,DEG C,,,DEG C,TU,,NMOL/KG,,PERCNT,,DEG C,,/MILLE,,/MILLE,,/MILLE,PMOL/KG,,UMOL/KG,,UMOL/KG,,DBAR,DEG C
33RO20100308,      A13.5,      42,          1,         24,      11714,2,20100324,       2007,   -33.4998,     1.0998,       4695,     6.4,  20.6927,  35.6668,2,  35.6658,2, 225.0000,2,   226.7,2,    1.37,2,    0.01,2,    0.00,2,    0.15,2,   2.123,2,   1.291,2,   1.1890,2,  2065.1,6,  2345.7,6,    375.6,2,    20.00,   8.0049,2,    25.00,-999.000,9,-999.0000,9, -999.00,9,  20.6922,2, -999.00,9,  -999.0,9,  -999.0,   2.519,3, -999.00,9, -999.00,9,    6.40,  20.6915
33RO20100308,      A13.5,      42,          1,         23,      11713,2,20100324,       2007,   -33.4998,     1.0998,       4695,    25.0,  20.6793,  35.6656,2,  35.6658,2, 225.7000,2,   227.0,6,    1.37,2,    0.01,2,    0.00,2,    0.15,2,   2.122,2,   1.295,2,   1.2610,2,  2064.3,2,  2346.6,2,    374.4,2,    20.00,   8.0041,2,    25.00,-999.000,9,-999.0000,9, -999.00,9,  20.6788,2, -999.00,9,  -999.0,9,  -999.0,   2.588,3, -999.00,9, -999.00,9,   25.00,  20.6746
33RO20100308,      A13.5,      42,          1,         22,      11712,2,20100324,       2007,   -33.4998,     1.0998,       4695,    72.0,  17.5428,  35.5861,2,  35.5868,2, 246.5000,2,   244.7,2,    2.11,2,    0.13,2,    0.01,2,    0.19,2,   2.493,6,   1.493,6,   1.3740,6,  2065.5,2,  2339.3,2,    388.6,2,    20.00,   7.9913,2,    25.00,-999.000,9,-999.0000,9, -999.00,9,  17.5129,3, -999.00,9,  -999.0,9,  -999.0,   1.893,3, -999.00,9, -999.00,9,   72.00,  17.5306
33RO20100308,      A13.5,      42,          1,         21,      11010,2,20100324,       2007,   -33.4998,     1.0998,       4695,   100.9,  16.2662,  35.5635,2,  35.5560,2, 231.0000,2,   227.4,2,    2.65,2,    2.38,2,    0.09,2,    0.35,2,-999.000,9,-999.000,9,-999.0000,9,  2083.3,2,  2337.0,2,    431.0,2,    20.00,   7.9522,2,    25.00,-999.000,9,-999.0000,9, -999.00,9,  16.2608,2, -999.00,9,  -999.0,9,  -999.0,-999.000,9, -999.00,9, -999.00,9,  100.90,  16.2500
33RO20100308,      A13.5,      42,          1,         20,      11715,2,20100324,       2007,   -33.4998,     1.0998,       4695,   150.9,  15.2174,  35.4517,2,  35.4535,2, 221.7000,2,   223.5,2,    2.69,2,    4.47,2,    0.01,2,    0.46,2,   2.656,2,   1.580,3,   1.3630,2,  2094.7,2,  2330.9,2,   -999.0,9,  -999.00,   7.9233,2,    25.00,-999.000,9,-999.0000,9, -999.00,9,  15.2197,2, -999.00,9,  -999.0,9,  -999.0,   1.359,3, -999.00,9, -999.00,9,  150.90,  15.1943
33RO20100308,      A13.5,      42,          1,         19,      11007,2,20100324,       2007,   -33.4998,     1.0998,       4695,   254.3,  13.3963,  35.2200,2,  35.2220,2, 215.3000,2,   216.7,2,    3.64,2,    8.73,2,    0.01,2,    0.72,2,-999.000,9,-999.000,9,-999.0000,9,  2111.2,2,  2173.1,4,    545.4,2,    20.00,   7.8643,2,    25.00,-999.000,9,-999.0000,9, -999.00,9,  13.4021,2, -999.00,9,  -999.0,9,  -999.0,-999.000,9, -999.00,9, -999.00,9,  254.30,  13.3605
33RO20100308,      A13.5,      42,          1,         18,      11710,2,20100324,       2007,   -33.4998,     1.0998,       4695,   350.2,  12.1001,  35.0844,2,  35.0867,2, 219.8000,2,   220.2,2,    3.55,2,   10.91,2,    0.00,2,    0.85,2,   3.099,2,   1.772,2,   1.2720,2,  2122.4,2,  2315.4,2,    584.6,2,    20.00,   7.8368,2,    25.00,-999.000,9,-999.0000,9, -999.00,9,  12.1022,2, -999.00,9,  -999.0,9,  -999.0,   1.375,3, -999.00,9, -999.00,9,  350.20,  12.0538
33RO20100308,      A13.5,      42,          1,         17,      11025,2,20100324,       2007,   -33.4998,     1.0998,       4695,   450.0,  10.1108,  34.8006,2,  34.8008,2, 212.3000,2,   211.8,2,    6.81,2,   16.68,2,    0.00,2,    1.21,2,-999.000,9,-999.000,9,-999.0000,9,  2138.8,2,  2301.2,2,   -999.0,9,  -999.00,   7.7687,2,    25.00,-999.000,9,-999.0000,9, -999.00,9,  10.1172,2, -999.00,9,  -999.0,9,  -999.0,-999.000,9, -999.00,9, -999.00,9,  450.00,  10.0577
33RO20100308,      A13.5,      42,          1,         16,      11709,2,20100324,       2007,   -33.4998,     1.0998,       4695,   601.0,   7.3214,  34.4975,2,  34.4990,2, 203.9000,2,   204.5,2,   13.58,2,   24.22,2,    0.00,2,    1.71,2,   3.110,2,   1.635,2,   0.8840,2,  2164.9,2,  2291.5,2,    859.9,2,    20.00,   7.6831,2,    25.00,-999.000,9,-999.0000,9, -999.00,9,   7.3257,2, -999.00,9,  -999.0,9,  -999.0,   2.345,3, -999.00,9, -999.00,9,  601.00,   7.2625
33RO20100308,      A13.5,      42,          1,         15,      11006,2,20100324,       2007,   -33.4998,     1.0998,       4695,   748.5,   5.7389,  34.3782,2,  34.3780,2, 209.4000,2,   209.0,2,   19.83,2,   27.69,2,    0.00,2,    1.94,2,-999.000,9,-999.000,9,-999.0000,9,  2177.5,2,  2288.2,2,    933.5,2,    20.00,   7.6506,2,    25.00,-999.000,9,-999.0000,9, -999.00,9,   5.7301,2, -999.00,9,  -999.0,9,  -999.0,-999.000,9, -999.00,9, -999.00,9,  748.50,   5.6738
33RO20100308,      A13.5,      42,          1,         14,      11708,2,20100324,       2007,   -33.4998,     1.0998,       4695,   902.2,   4.4049,  34.3126,2,  34.3117,2, 216.3000,2,   216.2,2,   27.28,2,   30.00,2,    0.00,2,    2.09,2,   2.644,4,   1.317,4,   0.5830,4,  2186.4,2,  2292.6,2,   -999.0,9,  -999.00,   7.6325,2,    25.00,-999.000,9,-999.0000,9, -999.00,9,   4.4016,2, -999.00,9,  -999.0,9,  -999.0,   3.099,4, -999.00,9, -999.00,9,  902.20,   4.3348
33RO20100308,      A13.5,      42,          1,         13,      11031,2,20100324,       2007,   -33.4998,     1.0998,       4695,  1000.7,   3.9728,  34.3442,2,  34.3440,2, 203.5000,2,   204.2,2,   35.10,2,   31.01,2,    0.00,2,    2.19,2,-999.000,9,-999.000,9,-999.0000,9,  2200.2,2,  2302.0,2,   1038.3,2,    20.00,   7.6105,2,    25.00,-999.000,9,-999.0000,9, -999.00,9,   3.9727,2, -999.00,9,  -999.0,9,  -999.0,-999.000,9, -999.00,9, -999.00,9, 1000.70,   3.8975
33RO20100308,      A13.5,      42,          1,         12,      11027,2,20100324,       2007,   -33.4998,     1.0998,       4695,  1201.6,   3.4492,  34.4542,2,  34.4538,2, 182.5000,2,   183.1,2,   49.32,2,   32.60,2,    0.00,2,    2.32,2,   0.932,2,   0.445,2,   0.1270,2,  2224.1,2,  2313.6,2,   1122.5,2,    20.00,   7.5832,2,    25.00,-999.000,9,-999.0000,9, -999.00,9,   3.4494,2, -999.00,9,  -999.0,9,  -999.0,   1.356,3, -999.00,9, -999.00,9, 1201.60,   3.3616
33RO20100308,      A13.5,      42,          1,         11,      11707,2,20100324,       2007,   -33.4998,     1.0998,       4695,  1401.6,   3.1336,  34.5501,2,  34.5497,2, 179.7000,2,   180.6,2,   55.71,2,   32.52,2,    0.00,2,    2.29,2,-999.000,9,-999.000,9,-999.0000,9,  2231.1,6,  2326.2,2,   1110.4,2,    20.00,   7.5848,2,    25.00,-999.000,9,-999.0000,9, -999.00,9,   3.1330,2, -999.00,9,  -999.0,9,  -999.0,-999.000,9, -999.00,9, -999.00,9, 1401.60,   3.0325
33RO20100308,      A13.5,      42,          1,         10,      11003,2,20100324,       2007,   -33.4998,     1.0998,       4695,  1599.8,   2.8534,  34.6201,2,  34.6206,2, 185.4000,2,   186.3,2,   59.43,2,   31.42,2,    0.00,2,    2.21,2,   0.289,2,   0.139,2,   0.0830,2,  2231.4,2,  2329.8,2,   -999.0,9,  -999.00,   7.5978,2,    25.00,-999.000,9,-999.0000,9, -999.00,9,   2.8507,2, -999.00,9,  -999.0,9,  -999.0,   0.530,3, -999.00,9, -999.00,9, 1599.80,   2.7388
33RO20100308,      A13.5,      42,          1,          9,      11706,2,20100324,       2007,   -33.4998,     1.0998,       4695,  1901.6,   2.8029,  34.7430,2,  34.7428,2, 197.2000,2,   197.5,2,   57.68,2,   28.67,2,    0.00,2,    2.01,2,-999.000,9,-999.000,9,-999.0000,9,  2223.2,2,  2334.8,2,    991.7,2,    20.00,   7.6323,2,    25.00,-999.000,9,-999.0000,9, -999.00,9,   2.8027,2, -999.00,9,  -999.0,9,  -999.0,-999.000,9, -999.00,9, -999.00,9, 1901.60,   2.6627
33RO20100308,      A13.5,      42,          1,          8,      11033,2,20100324,       2007,   -33.4998,     1.0998,       4695,  2200.8,   2.6941,  34.8129,2,  34.8128,2, 213.1000,2,   214.0,2,   53.82,2,   26.18,2,    0.00,2,    1.83,2,   0.038,2,   0.019,2,   0.0000,2,  2212.7,2,  2336.1,2,   -999.0,9,  -999.00,   7.6657,2,    25.00,-999.000,9,-999.0000,9, -999.00,9,   2.6936,2, -999.00,9,  -999.0,9,  -999.0,   0.115,3, -999.00,9, -999.00,9, 2200.80,   2.5284
33RO20100308,      A13.5,      42,          1,          7,      11705,2,20100324,       2007,   -33.4998,     1.0998,       4695,  2599.8,   2.4834,  34.8390,2,  34.8402,2, 223.6000,2,   224.3,2,   55.16,2,   25.18,2,    0.00,2,    1.75,2,-999.000,9,-999.000,9,-999.0000,9,  2208.5,2,  2339.1,2,    871.0,2,    20.00,   7.6851,2,    25.00,-999.000,9,-999.0000,9, -999.00,9,   2.4831,2, -999.00,9,  -999.0,9,  -999.0,-999.000,9, -999.00,9, -999.00,9, 2599.80,   2.2838
33RO20100308,      A13.5,      42,          1,          6,      11029,2,20100324,       2007,   -33.4998,     1.0998,       4695,  3002.5,   2.3149,  34.8510,2,  34.8512,2, 229.8000,2,   230.7,2,   57.15,2,   24.60,2,    0.00,2,    1.71,2,   0.015,2,   0.008,2,   0.0000,2,  2207.6,2,  2341.8,2,   -999.0,9,  -999.00,   7.6962,2,    25.00,-999.000,9,-999.0000,9, -999.00,9,   2.3148,2, -999.00,9,  -999.0,9,  -999.0,   0.066,3, -999.00,9, -999.00,9, 3002.50,   2.0791
33RO20100308,      A13.5,      42,          1,          5,      11704,2,20100324,       2007,   -33.4998,     1.0998,       4695,  3400.5,   2.1886,  34.8529,2,  34.8528,2, 229.5000,2,   230.6,2,   60.75,6,   24.97,6,    0.00,6,    1.71,6,   0.013,2,   0.007,2,   0.0000,2,  2213.6,2,  2349.4,2,    839.8,2,    20.00,   7.7006,2,    25.00,-999.000,9,-999.0000,9, -999.00,9,   2.1879,2, -999.00,9,  -999.0,9,  -999.0,   0.048,3, -999.00,9, -999.00,9, 3400.50,   1.9147
33RO20100308,      A13.5,      42,          1,          4,      11030,2,20100324,       2007,   -33.4998,     1.0998,       4695,  3701.3,   1.9194,  34.8249,2,  34.8245,2, 225.5000,2,   226.2,2,   72.67,6,   26.26,6,    0.00,6,    1.81,6,   0.022,2,   0.011,2,   0.0000,2,  2224.1,2,  2354.7,2,   -999.0,9,  -999.00,   7.6846,2,    25.00,-999.000,9,-999.0000,9, -999.00,9,   1.9183,2, -999.00,9,  -999.0,9,  -999.0,   0.067,3, -999.00,9, -999.00,9, 3701.30,   1.6205
33RO20100308,      A13.5,      42,          1,          3,      11703,2,20100324,       2007,   -33.4998,     1.0998,       4695,  4103.5,   1.2817,  34.7583,2,  34.7593,2, 218.5000,2,   218.9,6,   98.94,6,   29.42,6,    0.00,6,    2.05,6,   0.055,6,   0.026,6,   0.0000,6,  2246.3,2,  2365.2,2,    957.2,2,    20.00,   7.6502,2,    25.00,-999.000,9,-999.0000,9, -999.00,9,   1.2813,2, -999.00,9,  -999.0,9,  -999.0,   0.150,3, -999.00,9, -999.00,9, 4103.50,   0.9572
33RO20100308,      A13.5,      42,          1,          2,      11702,2,20100324,       2007,   -33.4998,     1.0998,       4695,  4502.9,   1.1295,  34.7395,2,  34.7397,2, 217.5000,2,   217.0,2,  106.32,6,   30.27,6,    0.00,6,    2.12,6,   0.070,2,   0.033,2,   0.0000,2,  2251.8,2,  2366.0,2,   -999.0,9,  -999.00,   7.6392,2,    25.00,-999.000,9,-999.0000,9, -999.00,9,   1.1286,2, -999.00,9,  -999.0,9,  -999.0,   0.182,3, -999.00,9, -999.00,9, 4502.90,   0.7653
33RO20100308,      A13.5,      42,          1,          1,      11701,2,20100324,       2007,   -33.4998,     1.0998,       4695,  4761.4,   1.1247,  34.7361,2,  34.7373,2, 217.2000,2,   216.4,2,  107.74,6,   30.42,6,    0.01,6,    2.13,6,   0.078,2,   0.037,2,   0.0000,2,  2253.4,6,  2367.7,6,    985.5,2,    20.00,   7.6384,2,    25.00,-999.000,9,-999.0000,9, -999.00,9,   1.1240,2, -999.00,9,  -999.0,9,  -999.0,   0.190,3, -999.00,9, -999.00,9, 4761.40,   0.7309