BOTTLE,20130404CCHSIOCBG
EXPOCODE,SECT_ID,STNNBR,CASTNO,SAMPNO,BTLNBR,BTLNBR_FLAG_W,DATE,TIME,LATITUDE,LONGITUDE,DEPTH,CTDPRS,CTDTMP,CTDSAL,CTDSAL_FLAG_W,SALNTY,SALNTY_FLAG_W,CTDOXY,CTDOXY_FLAG_W,OXYGEN,OXYGEN_FLAG_W,SILCAT,SILCAT_FLAG_W,NITRAT,NITRAT_FLAG_W,NITRIT,NITRIT_FLAG_W,PHSPHT,PHSPHT_FLAG_W,CFC-11,CFC-11_FLAG_W,CFC-12,CFC-12_FLAG_W,SF6,SF6_FLAG_W,TCARBN,TCARBN_FLAG_W,ALKALI,ALKALI_FLAG_W,FCO2,FCO2_FLAG_W,FCO2TMP,PH_TOT,PH_TOT_FLAG_W,PH_TMP,TRITUM,TRITUM_FLAG_W,HELIUM,HELIUM_FLAG_W,DELHE3,DELHE3_FLAG_W,REFTMP,REFTMP_FLAG_W,DELC13,DELC13_FLAG_W,DELC14,DELC14_FLAG_W,C14ERR,CCL4,CCL4_FLAG_W,DOC,DOC_FLAG_W,TDN,TDN_FLAG_W,CTDRAW,THETA
,,,,,,,,,,,METERS,DBAR,ITS-90,PSS-78,,PSS-78,,UMOL/KG,,UMOL/KG,,UMOL/KG,,UMOL/KG,,UMOL/KG,,UMOL/KG,,PMOL/KG,,PMOL/KG,,FMOL/KG,,UMOL/KG,,UMOL/KG,,UATM,,DEG C,,,DEG C,TU,,NMOL/KG,,PERCNT,,DEG C,,/MILLE,,/MILLE,,/MILLE,PMOL/KG,,UMOL/KG,,UMOL/KG,,DBAR,DEG C
33RO20100308,      A13.5,     122,          1,         24,      11714,2,20100416,       0653,     3.3103,    -2.9995,       4739,     5.2,  30.2789,  34.9709,2,  34.9740,2, 192.8000,2,   192.5,2,    0.63,6,    0.07,6,    0.00,6,    0.01,6,   1.409,2,   0.923,2,   0.9870,2,  1936.3,6,  2289.9,6,    250.8,2,    20.00,   8.1397,2,    25.00,-999.000,9,-999.0000,9, -999.00,9,-999.0000,9, -999.00,9,  -999.0,9,  -999.0,-999.000,5, -999.00,9, -999.00,9,    5.20,  30.2776
33RO20100308,      A13.5,     122,          1,         23,      11716,2,20100416,       0653,     3.3103,    -2.9995,       4739,    49.7,  22.1640,  35.7919,2,  35.8212,2, 202.0000,2,   187.3,6,    1.04,2,    0.40,2,    0.01,2,    0.28,2,   1.958,2,   1.188,2,   0.9770,2,  2098.3,2,  2356.6,6,    428.4,2,    20.00,   7.9564,2,    25.00,-999.000,9,-999.0000,9, -999.00,9,-999.0000,9, -999.00,9,  -999.0,9,  -999.0,-999.000,5, -999.00,9, -999.00,9,   49.70,  22.1541
33RO20100308,      A13.5,     122,          1,         22,      11022,2,20100416,       0653,     3.3103,    -2.9995,       4739,   100.0,  16.4449,  35.7425,2,  35.7399,2, 105.3000,2,   104.1,2,    5.41,2,   18.38,2,    0.02,2,    1.23,2,   2.123,2,   1.226,2,   0.7050,2,  2181.8,2,  2343.6,2,    731.9,2,    20.00,   7.7522,2,    25.00,-999.000,9,-999.0000,9, -999.00,9,  16.4373,2, -999.00,9,  -999.0,9,  -999.0,-999.000,5, -999.00,9, -999.00,9,  100.00,  16.4287
33RO20100308,      A13.5,     122,          1,         21,      11010,2,20100416,       0653,     3.3103,    -2.9995,       4739,   199.9,  14.5543,  35.4862,2,  35.4852,2,  76.2000,2,    74.8,2,    8.01,2,   23.99,2,    0.01,2,    1.55,2,   1.868,2,   1.052,2,   0.5200,2,  2205.4,2,  2327.0,2,    924.7,2,    20.00,   7.6590,2,    25.00,-999.000,9,-999.0000,9, -999.00,9,  14.5569,2, -999.00,9,  -999.0,9,  -999.0,-999.000,5, -999.00,9, -999.00,9,  199.90,  14.5245
33RO20100308,      A13.5,     122,          1,         20,      11715,2,20100416,       0653,     3.3103,    -2.9995,       4739,   299.7,  10.9290,  35.0591,2,  35.0536,2,  51.9000,2,    52.1,2,   13.31,2,   32.45,2,    0.00,2,    2.03,2,   1.107,6,   0.598,6,   0.1780,6,  2233.6,2,  2307.4,2,   1297.6,2,    20.00,   7.5230,2,    25.00,-999.000,9,-999.0000,9, -999.00,9,  10.9364,2, -999.00,9,  -999.0,9,  -999.0,-999.000,5, -999.00,9, -999.00,9,  299.70,  10.8920
33RO20100308,      A13.5,     122,          1,         19,      11007,2,20100416,       0653,     3.3103,    -2.9995,       4739,   399.9,   8.5821,  34.8007,2,  34.7936,2,  73.1000,2,    73.6,2,   17.35,2,   34.84,2,    0.00,2,    2.21,2,   0.710,2,   0.372,2,   0.0780,2,  2233.2,2,  2298.6,2,   1366.5,6,    20.00,   7.5024,2,    25.00,-999.000,9,-999.0000,9, -999.00,9,   8.5750,2, -999.00,9,  -999.0,9,  -999.0,-999.000,5, -999.00,9, -999.00,9,  399.90,   8.5395
33RO20100308,      A13.5,     122,          1,         18,      11710,2,20100416,       0653,     3.3103,    -2.9995,       4739,   499.7,   7.4117,  34.6873,2,  34.6755,2,  84.0000,2,    83.8,2,   20.55,2,   36.00,2,    0.00,2,    2.33,2,-999.000,9,-999.000,9,-999.0000,9,  2235.2,2,  2295.9,2,   1383.8,2,    20.00,   7.4948,2,    25.00,-999.000,9,-999.0000,9, -999.00,9,   7.4135,2, -999.00,9,  -999.0,9,  -999.0,-999.000,9, -999.00,9, -999.00,9,  499.70,   7.3626
33RO20100308,      A13.5,     122,          1,         17,      11025,2,20100416,       0653,     3.3103,    -2.9995,       4739,   600.2,   6.3976,  34.6043,2,  34.6005,2, 100.8000,2,   102.0,2,   23.74,2,   36.15,2,    0.00,2,    2.39,2,   0.235,2,   0.124,2,   0.0000,2,  2231.0,2,  2296.2,2,   1345.0,2,    20.00,   7.5059,2,    25.00,-999.000,9,-999.0000,9, -999.00,9,   6.3983,2, -999.00,9,  -999.0,9,  -999.0,-999.000,5, -999.00,9, -999.00,9,  600.20,   6.3428
33RO20100308,      A13.5,     122,          1,         16,      11709,2,20100416,       0653,     3.3103,    -2.9995,       4739,   700.2,   5.5786,  34.5504,2,  34.5504,2, 121.8000,2,   120.5,2,   26.68,2,   35.80,2,    0.00,2,    2.39,2,-999.000,9,-999.000,9,-999.0000,9,  2227.5,2,  2297.8,2,   1291.7,2,    20.00,   7.5248,2,    25.00,-999.000,9,-999.0000,9, -999.00,9,   5.5779,2, -999.00,9,  -999.0,9,  -999.0,-999.000,9, -999.00,9, -999.00,9,  700.20,   5.5186
33RO20100308,      A13.5,     122,          1,         15,      11006,2,20100416,       0653,     3.3103,    -2.9995,       4739,   799.1,   4.9779,  34.5476,2,  34.5462,2, 135.8000,2,   133.9,2,   29.45,2,   35.10,2,    0.00,2,    2.37,2,   0.093,2,   0.047,2,   0.0000,2,  2224.7,2,  2300.5,2,   1239.3,2,    20.00,   7.5405,2,    25.00,-999.000,9,-999.0000,9, -999.00,9,   4.9770,2, -999.00,9,  -999.0,9,  -999.0,-999.000,5, -999.00,9, -999.00,9,  799.10,   4.9126
33RO20100308,      A13.5,     122,          1,         14,      11708,2,20100416,       0653,     3.3103,    -2.9995,       4739,  1000.2,   4.6122,  34.6434,2,  34.6389,2, 148.3000,2,   146.8,2,   29.91,2,   32.99,2,    0.00,2,    2.24,2,-999.000,9,-999.000,9,-999.0000,9,  2222.1,2,  2306.4,2,   1159.0,2,    20.00,   7.5668,2,    25.00,-999.000,9,-999.0000,9, -999.00,9,   4.6120,2, -999.00,9,  -999.0,9,  -999.0,-999.000,9, -999.00,9, -999.00,9, 1000.20,   4.5316
33RO20100308,      A13.5,     122,          1,         13,      11031,2,20100416,       0653,     3.3103,    -2.9995,       4739,  1200.2,   4.5205,  34.7946,2,  34.7946,2, 171.5000,2,   172.1,2,   26.07,2,   29.02,2,    0.00,2,    1.96,2,   0.026,2,   0.014,2,   0.0000,2,  2207.9,2,  2310.3,2,   1018.4,2,    20.00,   7.6201,2,    25.00,-999.000,9,-999.0000,9, -999.00,9,   4.5204,2, -999.00,9,  -999.0,9,  -999.0,-999.000,5, -999.00,9, -999.00,9, 1200.20,   4.4226
33RO20100308,      A13.5,     122,          1,         12,      11027,2,20100416,       0653,     3.3103,    -2.9995,       4739,  1400.0,   4.3384,  34.9010,2,  34.8983,2, 199.6000,2,   200.8,2,   22.33,2,   25.06,2,    0.00,2,    1.67,2,-999.000,9,-999.000,9,-999.0000,9,  2191.1,2,  2313.7,2,    899.4,2,    20.00,   7.6705,2,    25.00,-999.000,9,-999.0000,9, -999.00,9,   4.3380,2, -999.00,9,  -999.0,9,  -999.0,-999.000,9, -999.00,9, -999.00,9, 1400.00,   4.2238
33RO20100308,      A13.5,     122,          1,         11,      11707,2,20100416,       0653,     3.3103,    -2.9995,       4739,  1600.3,   4.0133,  34.9523,4,  34.9397,4, 222.5000,2,   219.6,2,   20.85,6,   22.27,6,    0.00,6,    1.49,2,-999.000,9,-999.000,9,-999.0000,9,  2180.4,2,  2314.4,2,    820.0,2,    20.00,   7.7050,2,    25.00,-999.000,9,-999.0000,9, -999.00,9,   4.0135,2, -999.00,9,  -999.0,9,  -999.0,-999.000,9, -999.00,9, -999.00,9, 1600.30,   3.8838
33RO20100308,      A13.5,     122,          1,         10,      11003,2,20100416,       0653,     3.3103,    -2.9995,       4739,  1799.8,   3.7641,  34.9612,2,  34.9600,2, 232.0000,2,   232.7,2,   21.55,6,   21.33,6,    0.00,6,    1.42,6,   0.019,6,   0.013,6,   0.0000,6,  2175.3,2,  2318.2,2,    793.8,2,    20.00,-999.0000,5,  -999.00,-999.000,9,-999.0000,9, -999.00,9,   3.7643,2, -999.00,9,  -999.0,9,  -999.0,-999.000,5, -999.00,9, -999.00,9, 1799.80,   3.6191
33RO20100308,      A13.5,     122,          1,          9,      11706,2,20100416,       0653,     3.3103,    -2.9995,       4739,  2000.1,   3.5115,  34.9587,2,  34.9578,2, 238.5000,2,   239.4,2,   23.36,6,   20.88,6,    0.00,6,    1.39,6,-999.000,9,-999.000,9,-999.0000,9,  2174.4,2,  2318.7,2,    780.0,2,    20.00,   7.7264,2,    25.00,-999.000,9,-999.0000,9, -999.00,9,   3.5102,2, -999.00,9,  -999.0,9,  -999.0,-999.000,9, -999.00,9, -999.00,9, 2000.10,   3.3512
33RO20100308,      A13.5,     122,          1,          8,      11033,2,20100416,       0653,     3.3103,    -2.9995,       4739,  2200.4,   3.2987,  34.9500,2,  34.9485,2, 239.2000,2,   239.8,2,   26.59,6,   21.00,6,    0.00,6,    1.40,6,-999.000,9,-999.000,9,-999.0000,9,  2177.2,2,  2323.8,2,    779.5,2,    20.00,   7.7266,2,    25.00,-999.000,9,-999.0000,9, -999.00,9,   3.2983,2, -999.00,9,  -999.0,9,  -999.0,-999.000,9, -999.00,9, -999.00,9, 2200.40,   3.1226
33RO20100308,      A13.5,     122,          1,          7,      11705,2,20100416,       0653,     3.3103,    -2.9995,       4739,  2500.4,   2.9950,  34.9340,2,  34.9321,2, 239.1000,2,   239.5,2,   31.97,6,   21.39,6,    0.00,6,    1.43,6,   0.006,2,   0.005,2,   0.0000,2,  2183.1,2,  2328.7,2,    778.0,2,    20.00,   7.7261,2,    25.00,-999.000,9,-999.0000,9, -999.00,9,   2.9955,2, -999.00,9,  -999.0,9,  -999.0,-999.000,5, -999.00,9, -999.00,9, 2500.40,   2.7951
33RO20100308,      A13.5,     122,          1,          6,      11029,2,20100416,       0653,     3.3103,    -2.9995,       4739,  2799.5,   2.7618,  34.9195,2,  34.9179,2, 236.0000,2,   237.1,2,   37.58,6,   21.91,6,    0.00,6,    1.47,6,-999.000,9,-999.000,9,-999.0000,9,  2190.1,2,  2334.9,2,    785.2,2,    20.00,   7.7223,2,    25.00,-999.000,9,-999.0000,9, -999.00,9,   2.7620,2, -999.00,9,  -999.0,9,  -999.0,-999.000,9, -999.00,9, -999.00,9, 2799.50,   2.5367
33RO20100308,      A13.5,     122,          1,          5,      11704,2,20100416,       0653,     3.3103,    -2.9995,       4739,  3199.0,   2.5514,  34.9059,2,  34.9031,2, 236.3000,2,   236.8,2,   42.26,6,   22.24,6,    0.00,6,    1.50,6,   0.001,2,   0.003,2,   0.0000,2,  2196.3,2,  2340.8,2,    791.1,2,    20.00,   7.7219,2,    25.00,-999.000,9,-999.0000,9, -999.00,9,   2.5512,2, -999.00,9,  -999.0,9,  -999.0,-999.000,5, -999.00,9, -999.00,9, 3199.00,   2.2898
33RO20100308,      A13.5,     122,          1,          4,      11030,9,20100416,       0653,     3.3103,    -2.9995,       4739,  3599.4,   2.4276,  34.8956,2,-999.0000,9, 236.2000,2,  -999.0,9, -999.00,9, -999.00,9, -999.00,9, -999.00,9,-999.000,9,-999.000,9,-999.0000,9,  -999.0,9,  -999.0,9,   -999.0,9,  -999.00,-999.0000,9,  -999.00,-999.000,9,-999.0000,9, -999.00,9,   2.4273,2, -999.00,9,  -999.0,9,  -999.0,-999.000,9, -999.00,9, -999.00,9, 3599.40,   2.1262
33RO20100308,      A13.5,     122,          1,          3,      11703,2,20100416,       0653,     3.3103,    -2.9995,       4739,  3999.3,   2.3571,  34.8871,2,  34.8846,2, 237.0000,2,   236.9,2,   48.30,6,   22.73,6,    0.00,6,    1.53,6,   0.004,2,   0.004,2,   0.0000,2,  2203.8,2,  2358.4,2,    797.2,2,    20.00,   7.7195,2,    25.00,-999.000,9,-999.0000,9, -999.00,9,   2.3564,2, -999.00,9,  -999.0,9,  -999.0,-999.000,5, -999.00,9, -999.00,9, 3999.30,   2.0129
33RO20100308,      A13.5,     122,          1,          2,      11702,2,20100416,       0653,     3.3103,    -2.9995,       4739,  4399.4,   2.2897,  34.8773,2,  34.8754,2, 235.5000,2,   236.3,6,   51.53,6,   23.08,6,    0.00,6,    1.55,6,-999.000,9,-999.000,9,-999.0000,9,  2208.5,2,  2353.0,2,    800.9,2,    20.00,   7.7186,2,    25.00,-999.000,9,-999.0000,9, -999.00,9,   2.2893,2, -999.00,9,  -999.0,9,  -999.0,-999.000,9, -999.00,9, -999.00,9, 4399.40,   1.9009
33RO20100308,      A13.5,     122,          1,          1,      11701,2,20100416,       0653,     3.3103,    -2.9995,       4739,  4791.2,   2.2389,  34.8673,2,  34.8687,2, 233.1000,2,   232.8,2,   55.95,6,   23.63,6,    0.00,6,    1.59,6,   0.016,2,   0.011,2,   0.0000,2,  2217.9,6,  2365.4,2,    811.2,2,    20.00,   7.7144,2,    25.00,-999.000,9,-999.0000,9, -999.00,9,   2.2384,2, -999.00,9,  -999.0,9,  -999.0,-999.000,5, -999.00,9, -999.00,9, 4791.20,   1.8044