BOTTLE,20130404CCHSIOCBG
EXPOCODE,SECT_ID,STNNBR,CASTNO,SAMPNO,BTLNBR,BTLNBR_FLAG_W,DATE,TIME,LATITUDE,LONGITUDE,DEPTH,CTDPRS,CTDTMP,CTDSAL,CTDSAL_FLAG_W,SALNTY,SALNTY_FLAG_W,CTDOXY,CTDOXY_FLAG_W,OXYGEN,OXYGEN_FLAG_W,SILCAT,SILCAT_FLAG_W,NITRAT,NITRAT_FLAG_W,NITRIT,NITRIT_FLAG_W,PHSPHT,PHSPHT_FLAG_W,CFC-11,CFC-11_FLAG_W,CFC-12,CFC-12_FLAG_W,SF6,SF6_FLAG_W,TCARBN,TCARBN_FLAG_W,ALKALI,ALKALI_FLAG_W,FCO2,FCO2_FLAG_W,FCO2TMP,PH_TOT,PH_TOT_FLAG_W,PH_TMP,TRITUM,TRITUM_FLAG_W,HELIUM,HELIUM_FLAG_W,DELHE3,DELHE3_FLAG_W,REFTMP,REFTMP_FLAG_W,DELC13,DELC13_FLAG_W,DELC14,DELC14_FLAG_W,C14ERR,CCL4,CCL4_FLAG_W,DOC,DOC_FLAG_W,TDN,TDN_FLAG_W,CTDRAW,THETA
,,,,,,,,,,,METERS,DBAR,ITS-90,PSS-78,,PSS-78,,UMOL/KG,,UMOL/KG,,UMOL/KG,,UMOL/KG,,UMOL/KG,,UMOL/KG,,PMOL/KG,,PMOL/KG,,FMOL/KG,,UMOL/KG,,UMOL/KG,,UATM,,DEG C,,,DEG C,TU,,NMOL/KG,,PERCNT,,DEG C,,/MILLE,,/MILLE,,/MILLE,PMOL/KG,,UMOL/KG,,UMOL/KG,,DBAR,DEG C
33RO20100308,      A13.5,      29,          1,         24,      11714,2,20100321,       0931,   -39.9998,     0.9828,       4935,     5.0,  15.5213,  34.6344,2,  34.6333,2, 253.4000,2,   256.1,6,    0.68,2,    1.01,2,    0.05,2,    0.30,2,   2.721,2,   1.629,2,   1.5100,2,  2054.2,6,  2298.5,6,    421.4,2,    20.00,   7.9618,2,    25.00,-999.000,9,-999.0000,9, -999.00,9,  15.5202,2, -999.00,9,  -999.0,9,  -999.0,   2.852,3,   57.21,2,    5.99,2,    5.00,  15.5205
33RO20100308,      A13.5,      29,          1,         23,      11713,2,20100321,       0931,   -39.9998,     0.9828,       4935,    54.8,  14.2900,  34.5970,2,  34.5962,2, 252.5000,2,   251.9,2,    0.79,2,    3.09,2,    0.16,2,    0.48,2,   2.889,2,   1.725,2,   1.5680,2,  2073.6,2,  2296.4,2,   -999.0,9,  -999.00,   7.9231,2,    25.00,-999.000,9,-999.0000,9, -999.00,9,  14.2899,2, -999.00,9,  -999.0,9,  -999.0,   2.940,3,   55.26,2,    8.54,2,   54.80,  14.2820
33RO20100308,      A13.5,      29,          1,         22,      11712,2,20100321,       0931,   -39.9998,     0.9828,       4935,   124.9,  12.1058,  34.9679,2,  34.9658,2, 248.4000,2,   246.4,2,    2.53,2,    7.76,2,    0.01,2,    0.68,2,   3.092,6,   1.827,6,   1.5770,6,  2104.1,2,  2307.0,2,    531.7,2,    20.00,   7.8722,2,    25.00,-999.000,9,-999.0000,9, -999.00,9,  12.1052,2, -999.00,9,  -999.0,9,  -999.0,   1.830,3,   50.26,2,   11.88,2,  124.90,  12.0895
33RO20100308,      A13.5,      29,          1,         21,      11010,2,20100321,       0931,   -39.9998,     0.9828,       4935,   251.1,   9.4600,  34.6654,2,  34.6649,2, 237.3000,2,   236.0,2,    4.46,2,   15.43,2,    0.01,2,    1.13,2,   3.469,2,   1.979,2,   1.5170,2,  2132.3,2,  2293.0,2,    681.5,2,    20.00,   7.7788,2,    25.00,-999.000,9,-999.0000,9, -999.00,9,   9.4555,2, -999.00,9,  -999.0,9,  -999.0,   2.197,3,   45.72,2,   18.27,2,  251.10,   9.4319
33RO20100308,      A13.5,      29,          1,         20,      11715,2,20100321,       0931,   -39.9998,     0.9828,       4935,   350.9,   8.1971,  34.5458,2,  34.5443,2, 230.3000,2,   229.2,2,    7.41,2,   19.64,2,    0.01,2,    1.39,2,   3.520,2,   1.954,2,   1.3460,2,  2146.2,2,  2288.1,2,    757.8,2,    20.00,   7.7358,2,    25.00,-999.000,9,-999.0000,9, -999.00,9,   8.1976,2, -999.00,9,  -999.0,9,  -999.0,   2.479,3,   42.86,2,   22.03,2,  350.90,   8.1609
33RO20100308,      A13.5,      29,          1,         19,      11007,2,20100321,       0931,   -39.9998,     0.9828,       4935,   449.8,   6.6015,  34.3738,2,  34.3734,2, 231.5000,2,   232.6,2,    9.95,2,   23.61,2,    0.00,2,    1.65,2,   3.736,2,   2.026,2,   1.3020,2,  2156.6,2,  2282.4,2,    839.9,2,    20.00,   7.6947,2,    25.00,-999.000,9,-999.0000,9, -999.00,9,   6.5999,2, -999.00,9,  -999.0,9,  -999.0,   3.087,3,   41.84,2,   25.93,2,  449.80,   6.5604
33RO20100308,      A13.5,      29,          1,         18,      11710,2,20100321,       0931,   -39.9998,     0.9828,       4935,   550.4,   5.6048,  34.3289,2,  34.3328,2, 221.7000,2,   223.7,2,   16.84,2,   26.70,2,    0.00,2,    1.87,2,   3.339,2,   1.759,2,   0.9090,2,  2170.3,2,  2285.4,2,    898.4,2,    20.00,   7.6649,2,    25.00,-999.000,9,-999.0000,9, -999.00,9,   5.6385,2, -999.00,9,  -999.0,9,  -999.0,   2.987,3,   41.10,2,   28.06,2,  550.40,   5.5583
33RO20100308,      A13.5,      29,          1,         17,      11025,2,20100321,       0931,   -39.9998,     0.9828,       4935,   650.1,   4.6637,  34.2747,2,  34.2739,2, 232.0000,2,   229.8,2,   21.25,2,   28.37,2,    0.00,2,    1.98,2,   3.232,2,   1.675,2,   0.8420,2,  2178.2,2,  2287.0,2,    931.6,2,    20.00,   7.6527,2,    25.00,-999.000,9,-999.0000,9, -999.00,9,   4.6631,2, -999.00,9,  -999.0,9,  -999.0,   3.161,3,   39.98,2,   29.82,2,  650.10,   4.6131
33RO20100308,      A13.5,      29,          1,         16,      11709,2,20100321,       0931,   -39.9998,     0.9828,       4935,   751.3,   4.2943,  34.3056,2,  34.3036,2, 219.5000,2,   219.0,2,   28.49,2,   29.79,2,    0.00,2,    2.09,2,   2.695,2,   1.370,2,   0.6090,2,  2189.7,2,  2294.1,2,    973.7,2,    20.00,   7.6348,2,    25.00,-999.000,9,-999.0000,9, -999.00,9,   4.2937,2, -999.00,9,  -999.0,9,  -999.0,   2.792,3,   40.30,2,   31.11,2,  751.30,   4.2374
33RO20100308,      A13.5,      29,          1,         15,      11006,2,20100321,       0931,   -39.9998,     0.9828,       4935,   900.0,   3.5368,  34.3098,2,  34.3090,2, 214.4000,2,   213.0,2,   36.75,2,   31.43,2,    0.00,2,    2.21,2,   2.237,2,   1.110,2,   0.4770,2,  2202.5,2,  2299.0,2,   1039.2,2,    20.00,   7.6131,2,    25.00,-999.000,9,-999.0000,9, -999.00,9,   3.5381,2, -999.00,9,  -999.0,9,  -999.0,   2.501,3,   40.32,2,   32.99,2,  900.00,   3.4729
33RO20100308,      A13.5,      29,          1,         14,      11708,2,20100321,       0931,   -39.9998,     0.9828,       4935,  1099.7,   3.1271,  34.4421,2,  34.4394,2, 187.0000,2,   185.9,2,   54.19,2,   33.32,2,    0.00,2,    2.34,2,   1.075,2,   0.518,2,   0.1700,2,  2231.3,2,  2317.4,2,   1126.3,2,    20.00,   7.5808,2,    25.00,-999.000,9,-999.0000,9, -999.00,9,   3.1257,2, -999.00,9,  -999.0,9,  -999.0,   1.475,3,   39.62,2,   34.71,2, 1099.70,   3.0506
33RO20100308,      A13.5,      29,          1,         13,      11031,2,20100321,       0931,   -39.9998,     0.9828,       4935,  1299.0,   2.9313,  34.5788,2,  34.5775,2, 177.0000,2,   176.3,2,   63.56,2,   32.65,2,    0.00,2,    2.30,2,   0.414,2,   0.202,2,   0.1130,2,  2242.8,6,  2326.1,6,   1134.9,2,    20.00,   7.5814,2,    25.00,-999.000,9,-999.0000,9, -999.00,9,   2.9308,2, -999.00,9,  -999.0,9,  -999.0,   0.695,3,   39.36,2,   34.72,2, 1299.00,   2.8406
33RO20100308,      A13.5,      29,          1,         12,      11027,2,20100321,       0931,   -39.9998,     0.9828,       4935,  1500.6,   2.8635,  34.6853,2,  34.6836,2, 182.6000,2,   183.7,2,   62.78,2,   30.84,2,    0.00,2,    2.16,2,   0.168,2,   0.082,2,   0.0620,2,  2237.1,2,  2334.3,2,   1065.5,2,    20.00,   7.6053,2,    25.00,-999.000,9,-999.0000,9, -999.00,9,   2.8631,2, -999.00,9,  -999.0,9,  -999.0,   0.348,3,   39.43,2,   32.69,2, 1500.60,   2.7569
33RO20100308,      A13.5,      29,          1,         11,      11707,2,20100321,       0931,   -39.9998,     0.9828,       4935,  1699.6,   2.8313,  34.7266,2,  34.7250,2, 189.7000,2,   190.5,2,   60.64,2,   29.71,2,    0.00,2,    2.08,2,   0.109,2,   0.053,2,   0.0270,2,  2231.0,2,  2333.8,2,   1018.3,2,    20.00,   7.6214,2,    25.00,-999.000,9,-999.0000,9, -999.00,9,   2.8307,2, -999.00,9,  -999.0,9,  -999.0,   0.240,3,   39.28,2,   31.25,2, 1699.60,   2.7083
33RO20100308,      A13.5,      29,          1,         10,      11003,2,20100321,       0931,   -39.9998,     0.9828,       4935,  1899.9,   2.8094,  34.7618,2,  34.7604,2, 197.1000,2,   197.5,2,   58.04,2,   28.56,2,    0.00,2,    1.99,2,   0.073,2,   0.034,2,   0.0000,2,  2225.7,2,  2334.6,2,   -999.0,9,  -999.00,   7.6367,2,    25.00,-999.000,9,-999.0000,9, -999.00,9,   2.8090,2, -999.00,9,  -999.0,9,  -999.0,   0.179,3,   39.11,2,   29.99,2, 1899.90,   2.6692
33RO20100308,      A13.5,      29,          1,          9,      11706,2,20100321,       0931,   -39.9998,     0.9828,       4935,  2101.4,   2.7457,  34.8000,2,  34.7985,2, 206.7000,2,   207.3,2,   55.53,2,   27.17,2,    0.00,2,    1.89,2,   0.043,2,   0.021,2,   0.0000,2,  2218.8,2,  2334.8,2,    937.3,2,    20.00,   7.6559,2,    25.00,-999.000,9,-999.0000,9, -999.00,9,   2.7453,2, -999.00,9,  -999.0,9,  -999.0,   0.121,3,   38.98,2,   28.32,2, 2101.40,   2.5883
33RO20100308,      A13.5,      29,          1,          8,      11033,2,20100321,       0931,   -39.9998,     0.9828,       4935,  2399.3,   2.5952,  34.8292,2,  34.8274,2, 217.8000,2,   217.6,2,   55.05,2,   25.99,2,    0.00,2,    1.80,2,   0.025,2,   0.013,2,   0.0000,2,  2213.2,2,  2337.9,2,   -999.0,9,  -999.00,   7.6747,2,    25.00,-999.000,9,-999.0000,9, -999.00,9,   2.5947,2,    0.82,2,  -112.2,2,     2.5,   0.078,3,   39.42,2,   27.22,2, 2399.30,   2.4127
33RO20100308,      A13.5,      29,          1,          7,      11705,2,20100321,       0931,   -39.9998,     0.9828,       4935,  2700.4,   2.4512,  34.8389,2,  34.8375,2, 223.4000,2,   222.6,2,   56.88,2,   25.55,2,    0.00,2,    1.76,2,   0.016,2,   0.009,2,   0.0000,2,  2213.3,2,  2338.5,2,    871.7,6,    20.00,   7.6843,2,    25.00,-999.000,9,-999.0000,9, -999.00,9,   2.4511,2,    0.83,2,  -112.1,2,     2.6,   0.061,3,   39.72,2,   27.77,2, 2700.40,   2.2425
33RO20100308,      A13.5,      29,          1,          6,      11029,2,20100321,       0931,   -39.9998,     0.9828,       4935,  3100.4,   2.3132,  34.8406,2,  34.8387,2, 226.3000,2,   225.4,2,   60.13,2,   25.48,2,    0.00,2,    1.76,2,   0.014,2,   0.008,2,   0.0000,2,  2214.4,2,  2342.9,2,   -999.0,9,  -999.00,   7.6877,2,    25.00,-999.000,9,-999.0000,9, -999.00,9,   2.3134,2,    0.79,2,  -116.3,2,     2.9,   0.052,3,   39.24,2,   27.37,2, 3100.40,   2.0676
33RO20100308,      A13.5,      29,          1,          5,      11704,2,20100321,       0931,   -39.9998,     0.9828,       4935,  3500.2,   2.0929,  34.8294,2,  34.8285,2, 226.3000,2,   225.2,2,   67.55,6,   26.01,6,    0.00,6,    1.80,2,   0.019,2,   0.010,2,   0.0000,2,  2221.0,2,  2347.7,2,    877.6,2,    20.00,   7.6866,2,    25.00,-999.000,9,-999.0000,9, -999.00,9,   2.0921,2,    0.81,2,  -127.3,2,     2.5,   0.061,3,   39.21,2,   28.11,2, 3500.20,   1.8110
33RO20100308,      A13.5,      29,          1,          4,      11030,2,20100321,       0931,   -39.9998,     0.9828,       4935,  3900.7,   1.6320,  34.7844,2,  34.7838,2, 222.3000,2,   220.1,2,   86.37,6,   28.15,6,    0.00,6,    1.96,6,   0.045,2,   0.022,2,   0.0000,2,  2237.2,2,  2357.0,2,   -999.0,9,  -999.00,   7.6616,2,    25.00,-999.000,9,-999.0000,9, -999.00,9,   1.6316,2,    0.69,2,  -138.2,2,     2.3,   0.119,3,   39.02,2,   30.32,2, 3900.70,   1.3195
33RO20100308,      A13.5,      29,          1,          3,      11703,2,20100321,       0931,   -39.9998,     0.9828,       4935,  4298.8,   1.2409,  34.7484,2,  34.7474,2, 219.4000,2,   217.7,2,  101.87,6,   29.86,6,    0.00,6,    2.09,6,   0.071,2,   0.034,2,   0.0000,2,  2249.3,2,  2362.8,2,    975.2,2,    20.00,   7.6451,2,    25.00,-999.000,9,-999.0000,9, -999.00,9,   1.2405,2,    0.62,2,  -152.2,2,     2.3,   0.180,3,   38.71,2,   31.88,2, 4298.80,   0.8961
33RO20100308,      A13.5,      29,          1,          2,      11702,2,20100321,       0931,   -39.9998,     0.9828,       4935,  4699.5,   1.1256,  34.7348,2,  34.7343,2, 218.3000,2,   217.1,2,  107.60,6,   30.48,6,    0.00,6,    2.13,6,   0.092,2,   0.045,2,   0.0000,2,  2254.1,2,  2365.8,2,    990.5,2,    20.00,   7.6386,2,    25.00,-999.000,9,-999.0000,9, -999.00,9,   1.1250,2,    0.59,2,  -151.2,2,     2.6,   0.222,3,   38.46,2,   32.60,2, 4699.50,   0.7390
33RO20100308,      A13.5,      29,          1,          1,      11701,2,20100321,       0931,   -39.9998,     0.9828,       4935,  5008.2,   1.1231,  34.7307,2,  34.7314,2, 217.8000,2,   218.6,6,  109.42,6,   30.71,6,    0.00,6,    2.15,6,   0.107,2,   0.050,2,   0.0000,2,  2256.0,6,  2366.9,6,    995.5,2,    20.00,   7.6374,2,    25.00,-999.000,9,-999.0000,9, -999.00,9,   1.1224,2,    0.57,2,  -156.4,2,     2.3,   0.245,3,   38.70,2,   32.59,2, 5008.20,   0.7003