BOTTLE,20130404CCHSIOCBG
EXPOCODE,SECT_ID,STNNBR,CASTNO,SAMPNO,BTLNBR,BTLNBR_FLAG_W,DATE,TIME,LATITUDE,LONGITUDE,DEPTH,CTDPRS,CTDTMP,CTDSAL,CTDSAL_FLAG_W,SALNTY,SALNTY_FLAG_W,CTDOXY,CTDOXY_FLAG_W,OXYGEN,OXYGEN_FLAG_W,SILCAT,SILCAT_FLAG_W,NITRAT,NITRAT_FLAG_W,NITRIT,NITRIT_FLAG_W,PHSPHT,PHSPHT_FLAG_W,CFC-11,CFC-11_FLAG_W,CFC-12,CFC-12_FLAG_W,SF6,SF6_FLAG_W,TCARBN,TCARBN_FLAG_W,ALKALI,ALKALI_FLAG_W,FCO2,FCO2_FLAG_W,FCO2TMP,PH_TOT,PH_TOT_FLAG_W,PH_TMP,TRITUM,TRITUM_FLAG_W,HELIUM,HELIUM_FLAG_W,DELHE3,DELHE3_FLAG_W,REFTMP,REFTMP_FLAG_W,DELC13,DELC13_FLAG_W,DELC14,DELC14_FLAG_W,C14ERR,CCL4,CCL4_FLAG_W,DOC,DOC_FLAG_W,TDN,TDN_FLAG_W,CTDRAW,THETA
,,,,,,,,,,,METERS,DBAR,ITS-90,PSS-78,,PSS-78,,UMOL/KG,,UMOL/KG,,UMOL/KG,,UMOL/KG,,UMOL/KG,,UMOL/KG,,PMOL/KG,,PMOL/KG,,FMOL/KG,,UMOL/KG,,UMOL/KG,,UATM,,DEG C,,,DEG C,TU,,NMOL/KG,,PERCNT,,DEG C,,/MILLE,,/MILLE,,/MILLE,PMOL/KG,,UMOL/KG,,UMOL/KG,,DBAR,DEG C
33RO20100308,      A13.5,      20,          1,         24,      11714,2,20100319,       0643,    -44.501,     1.3153,       4281,     4.9,  11.5562,  34.4915,2,  34.4936,2, 270.1000,2,   271.9,2,    0.72,2,    7.56,2,    0.18,2,    0.73,2,   3.198,2,   1.925,2,   1.7470,2,  2077.8,6,  2288.8,6,    506.7,2,    20.00,   7.8886,2,    25.00,-999.000,9,-999.0000,9, -999.00,9,  11.5553,2, -999.00,9,  -999.0,9,  -999.0,   0.000,4, -999.00,9, -999.00,9,    4.90,  11.5556
33RO20100308,      A13.5,      20,          1,         23,      11713,2,20100319,       0643,    -44.501,     1.3153,       4281,    80.0,  11.2686,  34.5022,2,  34.5034,2, 267.6000,2,   268.2,2,    0.85,2,    7.72,2,    0.20,2,    0.76,2,   3.296,2,   1.945,2,   1.8270,2,  2082.5,2,  2292.6,2,    514.6,6,    20.00,   7.8809,2,    25.00,-999.000,9,-999.0000,9, -999.00,9,  11.2664,2, -999.00,9,  -999.0,9,  -999.0,   3.840,3, -999.00,9, -999.00,9,   80.00,  11.2587
33RO20100308,      A13.5,      20,          1,         22,      11712,2,20100319,       0643,    -44.501,     1.3153,       4281,   125.5,  10.5492,  34.5227,2,  34.5272,2, 260.5000,2,   261.5,2,    1.58,2,   10.12,2,    0.34,2,    0.88,2,-999.000,9,-999.000,9,-999.0000,9,  2096.4,2,  2292.2,2,    561.1,2,    20.00,   7.8474,2,    25.00,-999.000,9,-999.0000,9, -999.00,9,  10.5509,2, -999.00,9,  -999.0,9,  -999.0,-999.000,9, -999.00,9, -999.00,9,  125.50,  10.5343
33RO20100308,      A13.5,      20,          1,         21,      11010,2,20100319,       0643,    -44.501,     1.3153,       4281,   176.6,   9.4986,  34.6066,2,  34.6080,2, 254.7000,2,   254.5,2,    3.11,2,   13.23,2,    0.02,2,    1.01,2,   3.549,2,   2.050,2,   1.7360,2,  2115.6,2,  2292.6,2,    630.7,2,    20.00,   7.8058,2,    25.00,-999.000,9,-999.0000,9, -999.00,9,   9.4984,2, -999.00,9,  -999.0,9,  -999.0,   2.961,3, -999.00,9, -999.00,9,  176.60,   9.4789
33RO20100308,      A13.5,      20,          1,         20,      11715,2,20100319,       0643,    -44.501,     1.3153,       4281,   250.1,   8.6377,  34.5703,2,  34.5632,2, 254.7000,2,   248.8,6,    4.57,2,   16.44,2,    0.01,2,    1.20,2,-999.000,9,-999.000,9,-999.0000,9,  2128.6,2,  2288.9,2,    684.5,2,    20.00,   7.7706,2,    25.00,-999.000,9,-999.0000,9, -999.00,9,   8.6465,2, -999.00,9,  -999.0,9,  -999.0,-999.000,9, -999.00,9, -999.00,9,  250.10,   8.6113
33RO20100308,      A13.5,      20,          1,         19,      11007,2,20100319,       0643,    -44.501,     1.3153,       4281,   349.2,   7.2579,  34.4318,2,  34.4328,2, 237.0000,2,   237.5,2,    7.33,2,   21.23,2,    0.01,2,    1.49,2,   3.759,2,   2.087,2,   1.4250,2,  2144.3,2,  2282.5,2,    787.7,2,    20.00,   7.7185,2,    25.00,-999.000,9,-999.0000,9, -999.00,9,   7.2560,2, -999.00,9,  -999.0,9,  -999.0,   3.071,3, -999.00,9, -999.00,9,  349.20,   7.2244
33RO20100308,      A13.5,      20,          1,         18,      11710,2,20100319,       0643,    -44.501,     1.3153,       4281,   449.2,   5.9964,  34.3073,2,  34.3067,2, 241.0000,2,   240.2,2,   10.13,2,   24.52,2,    0.01,2,    1.71,2,-999.000,9,-999.000,9,-999.0000,9,  2153.3,2,  2278.9,2,    845.7,2,    20.00,   7.6887,2,    25.00,-999.000,9,-999.0000,9, -999.00,9,   5.9942,2, -999.00,9,  -999.0,9,  -999.0,-999.000,9, -999.00,9, -999.00,9,  449.20,   5.9575
33RO20100308,      A13.5,      20,          1,         17,      11025,2,20100319,       0643,    -44.501,     1.3153,       4281,   649.9,   4.3051,  34.2065,2,  34.2087,2, 243.3000,2,   244.4,2,   18.28,2,   28.11,2,    0.00,2,    1.95,2,   3.655,2,   1.927,2,   1.0280,2,  2167.1,2,  2283.3,2,    921.1,2,    20.00,   7.6568,2,    25.00,-999.000,9,-999.0000,9, -999.00,9,   4.3038,2, -999.00,9,  -999.0,9,  -999.0,   3.888,3, -999.00,9, -999.00,9,  649.90,   4.2564
33RO20100308,      A13.5,      20,          1,         16,      11709,2,20100319,       0643,    -44.501,     1.3153,       4281,   850.1,   3.6557,  34.2304,2,  34.2320,2, 233.8000,2,   233.2,2,   27.38,2,   30.12,2,    0.00,2,    2.09,2,-999.000,9,-999.000,9,-999.0000,9,  2183.7,2,  2290.0,2,    970.7,2,    20.00,   7.6316,2,    25.00,-999.000,9,-999.0000,9, -999.00,9,   3.6558,2, -999.00,9,  -999.0,9,  -999.0,-999.000,9, -999.00,9, -999.00,9,  850.10,   3.5950
33RO20100308,      A13.5,      20,          1,         15,      11006,2,20100319,       0643,    -44.501,     1.3153,       4281,  1049.4,   3.1835,  34.3085,2,  34.3106,2, 212.2000,2,   210.6,2,   40.66,2,   32.17,2,    0.00,2,    2.24,2,   2.122,2,   1.044,2,   0.4450,2,  2205.5,2,  2302.5,2,   1069.2,2,    20.00,   7.5991,4,    25.00,-999.000,9,-999.0000,9, -999.00,9,   3.1828,2, -999.00,9,  -999.0,9,  -999.0,   2.497,3, -999.00,9, -999.00,9, 1049.40,   3.1107
33RO20100308,      A13.5,      20,          1,         14,      11708,2,20100319,       0643,    -44.501,     1.3153,       4281,  1249.8,   2.8787,  34.4237,2,  34.4243,2, 189.4000,2,   189.4,2,   54.46,2,   33.39,2,    0.00,2,    2.32,2,-999.000,9,-999.000,9,-999.0000,9,  2227.2,2,  2316.1,2,   1140.5,6,    20.00,   7.5754,2,    25.00,-999.000,9,-999.0000,9, -999.00,9,   2.8780,2, -999.00,9,  -999.0,9,  -999.0,-999.000,9, -999.00,9, -999.00,9, 1249.80,   2.7927
33RO20100308,      A13.5,      20,          1,         13,      11031,2,20100319,       0643,    -44.501,     1.3153,       4281,  1450.5,   2.7842,  34.5354,2,  34.5377,2, 181.2000,2,   179.5,2,   62.55,2,   33.15,2,    0.00,2,    2.31,2,   0.573,2,   0.289,2,   0.1060,2,  2237.4,2,  2327.5,2,   1150.9,2,    20.00,   7.5742,2,    25.00,-999.000,9,-999.0000,9, -999.00,9,   2.7834,2, -999.00,9,  -999.0,9,  -999.0,   0.768,3, -999.00,9, -999.00,9, 1450.50,   2.6830
33RO20100308,      A13.5,      20,          1,         12,      11027,2,20100319,       0643,    -44.501,     1.3153,       4281,  1650.0,   2.7247,  34.6385,2,  34.6419,2, 179.4000,2,   180.7,2,   65.95,2,   31.83,2,    0.00,2,    2.22,2,-999.000,9,-999.000,9,-999.0000,9,  2237.3,2,  2333.4,2,   1110.7,2,    20.00,   7.5892,2,    25.00,-999.000,9,-999.0000,9, -999.00,9,   2.7240,2, -999.00,9,  -999.0,9,  -999.0,-999.000,9, -999.00,9, -999.00,9, 1650.00,   2.6075
33RO20100308,      A13.5,      20,          1,         11,      11707,2,20100319,       0643,    -44.501,     1.3153,       4281,  1850.5,   2.6844,  34.7000,2,  34.6999,2, 184.8000,2,   186.3,2,   66.36,2,   30.59,2,    0.00,2,    2.13,2,   0.214,2,   0.103,2,   0.0000,2,  2234.2,2,  2334.2,2,   1068.2,2,    20.00,   7.6049,2,    25.00,-999.000,9,-999.0000,9, -999.00,9,   2.6840,2, -999.00,9,  -999.0,9,  -999.0,   0.422,3, -999.00,9, -999.00,9, 1850.50,   2.5504
33RO20100308,      A13.5,      20,          1,         10,      11003,2,20100319,       0643,    -44.501,     1.3153,       4281,  2050.3,   2.6389,  34.7389,2,  34.7392,2, 191.8000,2,   192.4,2,   66.44,2,   29.57,2,    0.00,2,    2.06,2,-999.000,9,-999.000,9,-999.0000,9,  2230.3,2,  2336.6,2,   1035.9,2,    20.00,   7.6176,2,    25.00,-999.000,9,-999.0000,9, -999.00,9,   2.6379,2, -999.00,9,  -999.0,9,  -999.0,-999.000,9, -999.00,9, -999.00,9, 2050.30,   2.4879
33RO20100308,      A13.5,      20,          1,          9,      11706,2,20100319,       0643,    -44.501,     1.3153,       4281,  2350.9,   2.4822,  34.7826,2,  34.7820,2, 203.5000,2,   203.4,2,   66.30,2,   28.07,2,    0.00,2,    1.95,2,   0.098,2,   0.047,2,   0.0000,2,  2224.7,2,  2340.8,2,    979.7,2,    20.00,   7.6420,2,    25.00,-999.000,9,-999.0000,9, -999.00,9,   2.4817,2, -999.00,9,  -999.0,9,  -999.0,   0.253,3, -999.00,9, -999.00,9, 2350.90,   2.3063
33RO20100308,      A13.5,      20,          1,          8,      11033,2,20100319,       0643,    -44.501,     1.3153,       4281,  2649.7,   2.2929,  34.7975,2,  34.7986,2, 209.7000,2,   210.2,2,   69.22,2,   27.46,2,    0.00,2,    1.92,2,-999.000,9,-999.000,9,-999.0000,9,  2223.4,2,  2342.1,2,    948.7,2,    20.00,   7.6515,2,    25.00,-999.000,9,-999.0000,9, -999.00,9,   2.2926,2, -999.00,9,  -999.0,9,  -999.0,-999.000,9, -999.00,9, -999.00,9, 2649.70,   2.0924
33RO20100308,      A13.5,      20,          1,          7,      11705,2,20100319,       0643,    -44.501,     1.3153,       4281,  2948.5,   1.9668,  34.7771,2,  34.7772,2, 206.9000,2,   207.7,2,   81.61,2,   28.70,2,    0.00,2,    2.00,2,   0.113,2,   0.055,2,   0.0000,2,  2232.8,2,  2349.0,2,    977.7,2,    20.00,   7.6380,2,    25.00,-999.000,9,-999.0000,9, -999.00,9,   1.9662,2, -999.00,9,  -999.0,9,  -999.0,   0.247,3, -999.00,9, -999.00,9, 2948.50,   1.7443
33RO20100308,      A13.5,      20,          1,          6,      11029,4,20100319,       0643,    -44.501,     1.3153,       4281,  3249.8,   1.6702,  34.7601,4,  34.4698,4, 207.7000,4,   185.7,4,   58.13,4,   33.47,4,    0.01,4,    2.33,4,-999.000,9,-999.000,9,-999.0000,9,  2230.9,4,  2321.1,4,   1140.5,4,    20.00,   7.5726,4,    25.00,-999.000,9,-999.0000,9, -999.00,9,   1.6700,2, -999.00,9,  -999.0,9,  -999.0,-999.000,9, -999.00,9, -999.00,9, 3249.80,   1.4247
33RO20100308,      A13.5,      20,          1,          5,      11704,2,20100319,       0643,    -44.501,     1.3153,       4281,  3549.3,   1.4325,  34.7481,2,  34.7482,2, 209.7000,2,   209.5,2,   98.40,6,   30.07,6,    0.01,6,    2.08,6,   0.152,2,   0.075,2,   0.0790,3,  2244.6,2,  2356.0,2,    997.8,2,    20.00,   7.6296,2,    25.00,-999.000,9,-999.0000,9, -999.00,9,   1.4319,2, -999.00,9,  -999.0,9,  -999.0,   0.299,3, -999.00,9, -999.00,9, 3549.30,   1.1626
33RO20100308,      A13.5,      20,          1,          4,      11030,2,20100319,       0643,    -44.501,     1.3153,       4281,  3850.0,   1.2562,  34.7372,2,  34.7374,2, 211.4000,2,   211.6,2,  104.22,6,   30.53,6,    0.00,6,    2.12,6,-999.000,9,-999.000,9,-999.0000,9,  2248.9,2,  2359.1,2,   1013.0,2,    20.00,   7.6269,2,    25.00,-999.000,9,-999.0000,9, -999.00,9,   1.2556,2, -999.00,9,  -999.0,9,  -999.0,-999.000,9, -999.00,9, -999.00,9, 3850.00,   0.9598
33RO20100308,      A13.5,      20,          1,          3,      11703,2,20100319,       0643,    -44.501,     1.3153,       4281,  4148.5,   1.0849,  34.7261,2,  34.7264,2, 212.8000,2,   213.0,2,  110.09,6,   30.95,6,    0.00,6,    2.15,6,   0.188,6,   0.089,6,   0.0300,2,  2252.9,2,  2361.9,2,   1017.9,2,    20.00,   7.6248,2,    25.00,-999.000,9,-999.0000,9, -999.00,9,   1.0840,2, -999.00,9,  -999.0,9,  -999.0,   0.386,3, -999.00,9, -999.00,9, 4148.50,   0.7614
33RO20100308,      A13.5,      20,          1,          2,      11702,2,20100319,       0643,    -44.501,     1.3153,       4281,  4249.7,   0.9920,  34.7179,2,  34.7169,2, 212.5000,2,   212.8,2,  113.90,6,   31.25,6,    0.00,6,    2.18,6,-999.000,9,-999.000,9,-999.0000,9,  2255.2,2,  2364.0,2,   1033.3,2,    20.00,   7.6210,2,    25.00,-999.000,9,-999.0000,9, -999.00,9,   0.9925,2, -999.00,9,  -999.0,9,  -999.0,-999.000,9, -999.00,9, -999.00,9, 4249.70,   0.6603
33RO20100308,      A13.5,      20,          1,          1,      11701,2,20100319,       0643,    -44.501,     1.3153,       4281,  4371.0,   0.9070,  34.7088,2,  34.7111,2, 212.4000,2,   211.6,2,  117.79,2,   31.74,2,    0.01,2,    2.21,2,   0.265,2,   0.128,2,   0.0800,3,  2257.8,6,  2363.9,6,   1049.3,2,    20.00,   7.6145,2,    25.00,-999.000,9,-999.0000,9, -999.00,9,   0.9057,2, -999.00,9,  -999.0,9,  -999.0,   0.492,3, -999.00,9, -999.00,9, 4371.00,   0.5646