BOTTLE,20130404CCHSIOCBG
EXPOCODE,SECT_ID,STNNBR,CASTNO,SAMPNO,BTLNBR,BTLNBR_FLAG_W,DATE,TIME,LATITUDE,LONGITUDE,DEPTH,CTDPRS,CTDTMP,CTDSAL,CTDSAL_FLAG_W,SALNTY,SALNTY_FLAG_W,CTDOXY,CTDOXY_FLAG_W,OXYGEN,OXYGEN_FLAG_W,SILCAT,SILCAT_FLAG_W,NITRAT,NITRAT_FLAG_W,NITRIT,NITRIT_FLAG_W,PHSPHT,PHSPHT_FLAG_W,CFC-11,CFC-11_FLAG_W,CFC-12,CFC-12_FLAG_W,SF6,SF6_FLAG_W,TCARBN,TCARBN_FLAG_W,ALKALI,ALKALI_FLAG_W,FCO2,FCO2_FLAG_W,FCO2TMP,PH_TOT,PH_TOT_FLAG_W,PH_TMP,TRITUM,TRITUM_FLAG_W,HELIUM,HELIUM_FLAG_W,DELHE3,DELHE3_FLAG_W,REFTMP,REFTMP_FLAG_W,DELC13,DELC13_FLAG_W,DELC14,DELC14_FLAG_W,C14ERR,CCL4,CCL4_FLAG_W,DOC,DOC_FLAG_W,TDN,TDN_FLAG_W,CTDRAW,THETA
,,,,,,,,,,,METERS,DBAR,ITS-90,PSS-78,,PSS-78,,UMOL/KG,,UMOL/KG,,UMOL/KG,,UMOL/KG,,UMOL/KG,,UMOL/KG,,PMOL/KG,,PMOL/KG,,FMOL/KG,,UMOL/KG,,UMOL/KG,,UATM,,DEG C,,,DEG C,TU,,NMOL/KG,,PERCNT,,DEG C,,/MILLE,,/MILLE,,/MILLE,PMOL/KG,,UMOL/KG,,UMOL/KG,,DBAR,DEG C
33RO20100308,      A13.5,      59,          1,         24,      11714,2,20100329,       0207,   -24.9998,     1.5498,       4574,     5.6,  23.1054,  36.1568,2,  36.1574,2, 213.8000,2,   215.3,2,    1.77,2,    0.01,2,    0.00,2,    0.17,2,   1.927,2,   1.176,2,   1.1960,2,  2079.6,6,  2376.3,6,    359.1,2,    20.00,   8.0237,2,    25.00,-999.000,9,-999.0000,9, -999.00,9,  23.1057,2,    1.20,2,    50.9,2,     3.0,   2.465,3,   66.32,2,    4.53,2,    5.60,  23.1042
33RO20100308,      A13.5,      59,          1,         23,      11713,2,20100329,       0207,   -24.9998,     1.5498,       4574,    60.2,  20.4916,  35.8404,2,  35.8430,2, 246.3000,2,  -999.0,9,    1.64,2,    0.07,2,    0.00,2,    0.19,2,   2.365,2,   1.408,2,   1.3490,2,  2069.4,2,  2356.7,2,    366.1,6,    20.00,   8.0131,2,    25.00,-999.000,9,-999.0000,9, -999.00,9,  20.4852,2,    1.34,2,    46.4,2,     3.0,   2.142,3,   64.76,2,    4.42,2,   60.20,  20.4802
33RO20100308,      A13.5,      59,          1,         22,      11712,2,20100329,       0207,   -24.9998,     1.5498,       4574,   118.2,  16.9722,  35.6760,2,  35.6723,2, 225.2000,2,  -999.0,9,    2.23,2,    1.03,2,    0.21,2,    0.29,2,   2.537,6,   1.493,6,   1.3560,6,  2084.6,2,  2341.1,2,    414.3,2,    20.00,   7.9663,2,    25.00,-999.000,9,-999.0000,9, -999.00,9,  16.9726,2,   -0.15,4,    45.0,2,     3.0,   1.879,3,   53.72,2,    5.84,2,  118.20,  16.9527
33RO20100308,      A13.5,      59,          1,         21,      11010,2,20100329,       0207,   -24.9998,     1.5498,       4574,   179.3,  15.9934,  35.5940,2,  35.5906,2, 223.4000,2,  -999.0,9,    2.48,2,    3.59,2,    0.02,2,    0.40,2,   2.634,2,   1.538,2,   1.3620,2,  2093.5,2,  2336.6,2,    448.1,2,    20.00,   7.9385,2,    25.00,-999.000,9,-999.0000,9, -999.00,9,  15.9941,2,    0.96,2,    54.8,2,     3.5,   1.525,3,   51.68,2,    7.78,2,  179.30,  15.9649
33RO20100308,      A13.5,      59,          1,         20,      11715,2,20100329,       0207,   -24.9998,     1.5498,       4574,   220.4,  14.6546,  35.3702,2,  35.3675,2, 199.5000,2,  -999.0,9,    3.60,2,    8.55,2,    0.01,2,    0.69,2,   2.790,2,   1.606,2,   1.2710,2,  2116.1,2,  2321.3,2,    538.4,2,    20.00,   7.8687,2,    25.00,-999.000,9,-999.0000,9, -999.00,9,  14.6617,2,    0.91,2,    57.2,2,     3.0,   0.940,3,   50.72,2,   11.76,2,  220.40,  14.6216
33RO20100308,      A13.5,      59,          1,         19,      11007,2,20100329,       0207,   -24.9998,     1.5498,       4574,   259.5,  13.6382,  35.2351,2,  35.2351,2, 202.7000,2,  -999.0,9,    4.00,2,   10.18,2,    0.01,2,    0.80,2,   2.933,2,   1.660,2,   1.2550,2,  2122.8,2,  2316.0,2,    576.1,2,    20.00,   7.8432,2,    25.00,-999.000,9,-999.0000,9, -999.00,9,  13.6369,2,    0.89,2,    56.2,2,     2.8,   1.075,3,   46.52,2,   12.55,2,  259.50,  13.6012
33RO20100308,      A13.5,      59,          1,         18,      11710,2,20100329,       0207,   -24.9998,     1.5498,       4574,   300.3,  12.7227,  35.1256,2,  35.1237,2, 187.5000,2,   189.4,2,    4.88,2,   13.28,2,    0.00,2,    0.98,2,   3.007,2,   1.675,2,   1.1910,2,  2136.9,2,  2311.3,2,    641.7,2,    20.00,   7.7997,2,    25.00,-999.000,9,-999.0000,9, -999.00,9,  12.7219,2,    0.86,2,    53.9,2,     3.9,   1.107,3,   45.36,2,   15.46,2,  300.30,  12.6818
33RO20100308,      A13.5,      59,          1,         17,      11025,2,20100329,       0207,   -24.9998,     1.5498,       4574,   399.3,  10.8645,  34.9004,2,  34.8980,2, 184.7000,2,   182.7,2,    7.47,2,   18.15,2,    0.00,2,    1.29,2,   3.081,2,   1.645,2,   0.9930,2,  2154.0,2,  2300.7,2,    743.0,2,    20.00,   7.7414,2,    25.00,-999.000,9,-999.0000,9, -999.00,9,  10.8680,2,    0.89,2,    40.9,2,     3.1,   1.198,3,   43.37,2,   19.53,2,  399.30,  10.8153
33RO20100308,      A13.5,      59,          1,         16,      11709,2,20100329,       0207,   -24.9998,     1.5498,       4574,   500.4,   8.7168,  34.6571,2,  34.6556,2, 181.6000,2,   181.1,2,   12.15,2,   23.30,2,    0.00,2,    1.62,2,   2.933,2,   1.506,2,   0.7940,2,  2170.0,2,  2292.1,2,    856.1,2,    20.00,   7.6832,2,    25.00,-999.000,9,-999.0000,9, -999.00,9,   8.7106,2,    0.95,2,    22.2,2,     2.8,   1.681,3,   40.82,2,   24.93,2,  500.40,   8.6628
33RO20100308,      A13.5,      59,          1,         15,      11006,2,20100329,       0207,   -24.9998,     1.5498,       4574,   699.6,   5.3395,  34.3829,2,  34.3835,2, 191.9000,2,   190.6,2,   23.11,2,   30.44,2,    0.00,2,    2.09,2,   2.385,2,   1.170,2,   0.4840,2,  2191.5,2,  2291.7,2,   1016.1,2,    20.00,   7.6151,2,    25.00,-999.000,9,-999.0000,9, -999.00,9,   5.3400,2,    0.95,2,   -44.1,2,     2.7,   2.449,3,   40.37,2,   31.89,2,  699.60,   5.2810
33RO20100308,      A13.5,      59,          1,         14,      11708,2,20100329,       0207,   -24.9998,     1.5498,       4574,   899.3,   4.0821,  34.4090,2,  34.4093,2, 178.9000,2,   191.1,4,   36.99,6,   33.28,6,    0.00,6,    2.29,6,   0.982,2,   0.476,2,   0.2620,2,  2213.5,2,  2300.3,2,   1108.9,2,    20.00,   7.5830,2,    25.00,-999.000,9,-999.0000,9, -999.00,9,   4.0825,2,    0.84,2,   -89.9,2,     2.6,   1.391,3,   40.05,2,   34.69,2,  899.30,   4.0143
33RO20100308,      A13.5,      59,          1,         13,      11031,2,20100329,       0207,   -24.9998,     1.5498,       4574,  1099.7,   3.5409,  34.5350,2,  34.5345,2, 178.4000,2,   182.1,4,   44.24,6,   32.58,6,    0.00,6,    2.25,6,   0.228,2,   0.112,2,   0.0610,2,  2221.3,2,  2312.1,2,   1087.5,2,    20.00,   7.5912,2,    25.00,-999.000,9,-999.0000,9, -999.00,9,   3.5399,2,    0.75,2,  -122.7,2,     2.5,   0.515,3,   38.36,2,   34.82,2, 1099.70,   3.4607
33RO20100308,      A13.5,      59,          1,         12,      11027,2,20100329,       0207,   -24.9998,     1.5498,       4574,  1299.6,   3.4974,  34.6707,2,  34.6724,2, 187.2000,2,   186.6,6,   41.15,2,   30.09,2,    0.00,2,    2.07,2,   0.046,2,   0.024,2,   0.0000,2,  2214.2,2,  2316.7,2,   1012.2,2,    20.00,   7.6200,2,    25.00,-999.000,9,-999.0000,9, -999.00,9,   3.4972,2,    0.79,2,  -121.0,2,     2.4,   0.167,3,   37.59,2,   32.18,2, 1299.60,   3.4008
33RO20100308,      A13.5,      59,          1,         11,      11707,2,20100329,       0207,   -24.9998,     1.5498,       4574,  1500.7,   3.3846,  34.7641,2,  34.7666,2, 200.9000,2,   200.7,2,   39.16,2,   27.63,2,    0.00,2,    1.89,2,   0.023,3,   0.021,3,   0.1700,4,  2206.0,2,  2321.7,2,    941.9,2,    20.00,   7.6509,2,    25.00,-999.000,9,-999.0000,9, -999.00,9,   3.3841,2,    0.83,2,  -121.0,2,     2.5,   0.101,3,   38.03,2,   29.63,2, 1500.70,   3.2718
33RO20100308,      A13.5,      59,          1,         10,      11003,2,20100329,       0207,   -24.9998,     1.5498,       4574,  1699.7,   3.2504,  34.8170,2,  34.8165,2, 213.7000,2,   213.2,2,   38.44,2,   25.92,2,    0.00,2,    1.77,2,   0.012,2,   0.007,2,   0.0420,2,  2199.1,2,  2319.2,6,    893.4,2,    20.00,   7.6734,2,    25.00,-999.000,9,-999.0000,9, -999.00,9,   3.2506,2,    0.88,2,  -116.2,2,     2.4,   0.084,3,   39.24,2,   27.68,2, 1699.70,   3.1217
33RO20100308,      A13.5,      59,          1,          9,      11706,2,20100329,       0207,   -24.9998,     1.5498,       4574,  1900.0,   3.0483,  34.8494,2,  34.8488,2, 224.1000,2,   223.5,2,   39.19,2,   24.61,2,    0.00,2,    1.68,2,   0.010,2,   0.007,2,   0.0000,2,  2195.0,2,  2325.5,2,    848.2,2,    20.00,   7.6908,2,    25.00,-999.000,9,-999.0000,9, -999.00,9,   3.0486,2,    0.90,2,  -118.5,2,     2.5,   0.086,3,   39.34,2,   25.75,2, 1900.00,   2.9044
33RO20100308,      A13.5,      59,          1,          8,      11033,2,20100329,       0207,   -24.9998,     1.5498,       4574,  2150.3,   2.7934,  34.8615,2,  34.8602,2, 230.8000,2,   230.0,2,   42.41,6,   24.05,6,    0.00,6,    1.63,6,   0.005,2,   0.005,2,   0.0000,2,  2194.4,2,  2326.4,6,    829.3,2,    20.00,   7.7012,2,    25.00,-999.000,9,-999.0000,9, -999.00,9,   2.7929,2,    0.92,2,  -114.1,2,     2.6,   0.067,3,   39.20,2,   25.23,2, 2150.30,   2.6305
33RO20100308,      A13.5,      59,          1,          7,      11705,2,20100329,       0207,   -24.9998,     1.5498,       4574,  2450.5,   2.5954,  34.8644,2,  34.8637,2, 234.3000,2,   233.7,2,   45.80,6,   23.86,6,    0.00,6,    1.62,6,   0.002,2,   0.002,2,   0.0000,2,  2195.7,2,  2333.8,2,    818.8,2,    20.00,   7.7059,2,    25.00,-999.000,9,-999.0000,9, -999.00,9,   2.5954,2,    0.92,2,  -118.3,2,     2.6,   0.038,3,   38.78,2,   24.87,2, 2450.50,   2.4079
33RO20100308,      A13.5,      59,          1,          6,      11029,2,20100329,       0207,   -24.9998,     1.5498,       4574,  2749.6,   2.4789,  34.8679,2,  34.8670,2, 236.2000,2,   236.0,6,   47.97,6,   23.72,6,    0.00,6,    1.61,6,   0.001,2,   0.002,2,   0.0000,2,  2197.3,2,  2335.9,2,    810.3,2,    20.00,   7.7101,2,    25.00,-999.000,9,-999.0000,9, -999.00,9,   2.4787,2,    1.11,2,  -118.0,2,     2.6,   0.026,3,   38.52,2,   25.18,2, 2749.60,   2.2647
33RO20100308,      A13.5,      59,          1,          5,      11704,2,20100329,       0207,   -24.9998,     1.5498,       4574,  3000.9,   2.4063,  34.8720,2,  34.8710,2, 235.5000,2,   235.3,2,   49.67,2,   23.73,2,    0.00,2,    1.61,2,   0.001,2,   0.001,2,   0.0000,2,  2200.1,2,  2341.5,2,    812.6,2,    20.00,   7.7136,2,    25.00,-999.000,9,-999.0000,9, -999.00,9,   2.4060,2,    0.93,2,  -114.5,2,     2.8,   0.015,3,   37.97,2,   25.48,2, 3000.90,   2.1686
33RO20100308,      A13.5,      59,          1,          4,      11030,2,20100329,       0207,   -24.9998,     1.5498,       4574,  3400.4,   2.3610,  34.8787,2,  34.8777,2, 234.1000,2,   233.4,2,   51.36,6,   23.67,6,    0.00,6,    1.60,6,   0.001,2,   0.002,2,   0.0000,2,  2206.8,2,  2348.6,2,    808.8,2,    20.00,   7.7168,2,    25.00,-999.000,9,-999.0000,9, -999.00,9,   2.3603,2,    1.08,2,  -117.3,2,     2.6,   0.011,3,   38.50,2,   25.42,2, 3400.40,   2.0828
33RO20100308,      A13.5,      59,          1,          3,      11703,2,20100329,       0207,   -24.9998,     1.5498,       4574,  3799.7,   2.3444,  34.8846,2,  34.8832,2, 231.6000,2,   231.8,2,   52.25,6,   23.67,6,    0.00,6,    1.60,6,   0.001,2,   0.002,2,   0.0000,6,  2213.1,2,  2356.5,2,    796.4,2,    20.00,   7.7207,2,    25.00,-999.000,9,-999.0000,9, -999.00,9,   2.3440,2,    0.89,2,  -121.2,2,     2.5,   0.008,3,   39.31,2,   25.12,2, 3799.70,   2.0231
33RO20100308,      A13.5,      59,          1,          2,      11702,2,20100329,       0207,   -24.9998,     1.5498,       4574,  4200.6,   2.3652,  34.8847,2,  34.8835,2, 232.3000,2,   231.7,2,   52.55,2,   23.61,2,    0.00,2,    1.60,2,   0.002,2,   0.004,2,   0.0000,2,  2213.8,2,  2356.7,2,    795.9,6,    20.00,   7.7230,2,    25.00,-999.000,9,-999.0000,9, -999.00,9,   2.3647,2,    0.93,2,  -110.8,2,     3.5,   0.014,3,   40.85,2,   25.41,2, 4200.60,   1.9976
33RO20100308,      A13.5,      59,          1,          1,      11701,2,20100329,       0207,   -24.9998,     1.5498,       4574,  4562.7,   2.4019,  34.8844,2,  34.8838,2, 232.5000,2,   231.8,2,   52.67,2,   23.62,2,    0.00,2,    1.60,2,   0.002,2,   0.004,2,   0.0000,2,  2215.8,6,  2359.7,6,    793.7,2,    20.00,   7.7234,2,    25.00,-999.000,9,-999.0000,9, -999.00,9,   2.4013,2,    0.88,2,  -120.5,2,     2.6,   0.015,3,   40.78,2,   25.32,2, 4562.70,   1.9900