BOTTLE,20130404CCHSIOCBG
EXPOCODE,SECT_ID,STNNBR,CASTNO,SAMPNO,BTLNBR,BTLNBR_FLAG_W,DATE,TIME,LATITUDE,LONGITUDE,DEPTH,CTDPRS,CTDTMP,CTDSAL,CTDSAL_FLAG_W,SALNTY,SALNTY_FLAG_W,CTDOXY,CTDOXY_FLAG_W,OXYGEN,OXYGEN_FLAG_W,SILCAT,SILCAT_FLAG_W,NITRAT,NITRAT_FLAG_W,NITRIT,NITRIT_FLAG_W,PHSPHT,PHSPHT_FLAG_W,CFC-11,CFC-11_FLAG_W,CFC-12,CFC-12_FLAG_W,SF6,SF6_FLAG_W,TCARBN,TCARBN_FLAG_W,ALKALI,ALKALI_FLAG_W,FCO2,FCO2_FLAG_W,FCO2TMP,PH_TOT,PH_TOT_FLAG_W,PH_TMP,TRITUM,TRITUM_FLAG_W,HELIUM,HELIUM_FLAG_W,DELHE3,DELHE3_FLAG_W,REFTMP,REFTMP_FLAG_W,DELC13,DELC13_FLAG_W,DELC14,DELC14_FLAG_W,C14ERR,CCL4,CCL4_FLAG_W,DOC,DOC_FLAG_W,TDN,TDN_FLAG_W,CTDRAW,THETA
,,,,,,,,,,,METERS,DBAR,ITS-90,PSS-78,,PSS-78,,UMOL/KG,,UMOL/KG,,UMOL/KG,,UMOL/KG,,UMOL/KG,,UMOL/KG,,PMOL/KG,,PMOL/KG,,FMOL/KG,,UMOL/KG,,UMOL/KG,,UATM,,DEG C,,,DEG C,TU,,NMOL/KG,,PERCNT,,DEG C,,/MILLE,,/MILLE,,/MILLE,PMOL/KG,,UMOL/KG,,UMOL/KG,,DBAR,DEG C
33RO20100308,      A13.5,     115,          1,         24,      11714,2,20100414,       1616,     0.9997,    -3.0003,       5126,     5.6,  30.2827,  34.2099,2,  34.2134,2, 194.8000,2,   194.6,2,    0.57,6,    0.07,6,    0.00,6,    0.00,6,   1.454,2,   0.930,2,   0.9760,2,  1912.8,2,  -999.0,9,    259.4,2,    20.00,   8.1235,2,    25.00,-999.000,1,-999.0000,1, -999.00,9,  30.3365,2,    1.57,2,    55.4,2,     3.1,   1.652,3,   74.00,2,    5.95,2,    5.60,  30.2813
33RO20100308,      A13.5,     115,          1,         23,      11716,2,20100414,       1616,     0.9997,    -3.0003,       5126,    30.5,  26.1306,  35.3774,2,  35.3910,2, 206.6000,2,   206.6,2,    1.09,2,    0.35,2,    0.01,2,    0.09,2,   1.796,2,   1.090,2,   0.9020,2,  2021.9,2,  2327.0,2,    327.8,2,    20.00,   8.0479,2,    25.00,-999.000,1,-999.0000,1, -999.00,9,  26.1582,2,    1.51,2,    50.0,2,     2.8,   0.942,3,   66.96,2,    5.31,2,   30.50,  26.1238
33RO20100308,      A13.5,     115,          1,         22,      11022,2,20100414,       1616,     0.9997,    -3.0003,       5126,    60.3,  18.1173,  35.7891,2,  35.7879,2, 126.5000,2,   126.2,2,    3.68,2,   13.29,2,    0.44,2,    0.96,2,   2.134,2,   1.227,2,   0.8050,2,  2160.8,2,  2345.9,6,   -999.0,9,  -999.00,   7.8099,2,    25.00,-999.000,1,-999.0000,1, -999.00,9,  18.1206,2,    0.73,2,    49.3,2,     2.8,   0.421,3,   53.34,2,   17.26,2,   60.30,  18.1069
33RO20100308,      A13.5,     115,          1,         21,      11010,2,20100414,       1616,     0.9997,    -3.0003,       5126,   110.2,  15.3683,  35.6089,2,  35.6047,2, 120.8000,2,   120.1,2,    6.24,2,   18.01,2,    0.02,2,    1.21,2,   2.076,2,   1.161,2,   0.6920,2,  2173.5,2,  2337.3,2,    721.8,2,    20.00,   7.7591,2,    25.00,-999.000,1,-999.0000,1, -999.00,9,  15.3740,2,    0.64,2,    45.2,2,     3.5,   0.360,3,   49.27,2,   21.94,2,  110.20,  15.3513
33RO20100308,      A13.5,     115,          1,         20,      11715,2,20100414,       1616,     0.9997,    -3.0003,       5126,   174.5,  14.9899,  35.5541,2,  35.5522,2, 123.0000,2,   121.6,2,    6.53,2,   18.35,2,    0.01,2,    1.23,2,   2.191,2,   1.226,2,   0.6920,2,  2174.5,2,  2334.8,2,    728.3,2,    20.00,   7.7545,2,    25.00,-999.000,1,-999.0000,1, -999.00,9,  14.9874,2,    0.62,2,    43.6,2,     3.0,   0.387,3,   47.72,2,   21.52,2,  174.50,  14.9634
33RO20100308,      A13.5,     115,          1,         19,      11007,2,20100414,       1616,     0.9997,    -3.0003,       5126,   224.3,  13.6985,  35.3738,2,  35.3741,2,  73.7000,2,    74.1,2,    9.30,2,   25.51,2,    0.01,2,    1.63,2,   1.784,2,   0.975,2,   0.4230,2,  2207.1,2,  2323.0,2,    985.4,2,    20.00,   7.6361,2,    25.00,-999.000,1,-999.0000,1, -999.00,9,  13.7028,2,    0.38,2,    36.0,2,     3.0,   0.214,3,   46.01,2,   27.83,2,  224.30,  13.6664
33RO20100308,      A13.5,     115,          1,         18,      11710,2,20100414,       1616,     0.9997,    -3.0003,       5126,   300.6,  10.5659,  34.9993,2,-999.0000,9,  85.4000,2,    85.3,2,   12.60,2,   29.71,2,    0.00,2,    1.87,2,   0.575,4,   0.774,2,   0.3200,2,  2214.4,2,  2306.1,2,   1140.2,2,    20.00,   7.5764,2,    25.00,-999.000,1,-999.0000,1, -999.00,9,  10.5700,2,    0.46,2,    -2.7,2,     2.8,   0.081,4,   44.02,2,   30.99,2,  300.60,  10.5296
33RO20100308,      A13.5,     115,          1,         17,      11025,2,20100414,       1616,     0.9997,    -3.0003,       5126,   399.5,   9.1810,  34.8402,2,  34.8394,2,  88.7000,2,    89.2,2,   15.14,2,   32.13,2,    0.00,2,    2.03,2,   1.197,2,   0.619,2,   0.1860,2,  2218.7,2,  2299.7,2,   1223.9,2,    20.00,   7.5444,2,    25.00,-999.000,1,-999.0000,1, -999.00,9,   9.1969,2,    0.54,2,   -26.4,2,     2.9,   0.440,3,   43.23,2,   34.06,2,  399.50,   9.1366
33RO20100308,      A13.5,     115,          1,         16,      11709,2,20100414,       1616,     0.9997,    -3.0003,       5126,   549.4,   6.3273,  34.5748,2,  34.5775,2, 126.4000,2,   124.3,2,   22.91,2,   34.34,2,    0.00,2,    2.27,2,   0.586,2,   0.292,2,   0.0630,2,  2216.2,2,  2294.5,2,   1228.2,2,    20.00,   7.5438,2,    25.00,-999.000,1,-999.0000,1, -999.00,9,   6.3348,2,    0.71,2,   -78.9,2,     2.9,   0.564,3,   40.32,2,   35.92,2,  549.40,   6.2777
33RO20100308,      A13.5,     115,          1,         15,      11006,2,20100414,       1616,     0.9997,    -3.0003,       5126,   699.5,   5.3895,  34.5084,2,  34.5100,2, 144.6000,2,   143.8,2,   26.94,2,   34.25,2,    0.00,2,    2.29,2,   0.474,2,   0.232,2,   0.0300,2,  2215.3,2,  2298.2,2,   1185.7,2,    20.00,   7.5560,2,    25.00,-999.000,1,-999.0000,1, -999.00,9,   5.3867,2,    0.77,2,   -88.6,2,     2.7,   0.612,3,   39.93,2,   35.75,2,  699.50,   5.3306
33RO20100308,      A13.5,     115,          1,         14,      11708,2,20100414,       1616,     0.9997,    -3.0003,       5126,   851.0,   4.7445,  34.5484,2,  34.5487,2, 147.3000,2,   146.8,2,   30.68,2,   34.24,2,    0.00,2,    2.31,2,   0.157,2,   0.080,2,   0.0180,2,  2219.5,2,  2300.8,6,   1182.0,2,    20.00,   7.5586,2,    25.00,-999.000,1,-999.0000,1, -999.00,9,   4.7439,2,    0.74,2,  -110.7,2,     3.3,   0.307,3,   39.57,2,   36.06,2,  851.00,   4.6761
33RO20100308,      A13.5,     115,          1,         13,      11031,2,20100414,       1616,     0.9997,    -3.0003,       5126,   999.1,   4.5608,  34.6248,2,  34.6246,2, 150.8000,2,   151.7,2,   30.94,2,   33.18,2,    0.00,2,    2.24,2,   0.037,2,   0.021,2,   0.0000,2,  2221.1,2,  2307.0,6,   1149.3,2,    20.00,   7.5687,2,    25.00,-999.000,1,-999.0000,1, -999.00,9,   4.5656,2,    0.70,2,  -118.4,2,     1.8,   0.121,3,   39.25,2,   35.56,2,  999.10,   4.4807
33RO20100308,      A13.5,     115,          1,         12,      11027,2,20100414,       1616,     0.9997,    -3.0003,       5126,  1200.3,   4.5793,  34.7687,2,  34.7669,2, 169.2000,2,   169.3,2,   27.06,2,   29.78,2,    0.00,2,    2.00,2,   0.045,2,   0.025,2,   0.0300,2,  2209.6,2,  2308.3,2,   1033.8,2,    20.00,   7.6126,2,    25.00,-999.000,1,-999.0000,1, -999.00,9,   4.5795,2,    0.79,2,  -104.9,2,     2.1,   0.139,3,   39.94,2,   31.29,2, 1200.30,   4.4809
33RO20100308,      A13.5,     115,          1,         11,      11707,2,20100414,       1616,     0.9997,    -3.0003,       5126,  1396.9,   4.3878,  34.9375,2,  34.9375,2, 213.1000,2,   212.5,2,   20.10,2,   23.46,2,    0.00,2,    1.56,2,   0.150,2,   0.077,2,   0.0530,2,  2184.4,2,  2314.3,2,    852.7,2,    20.00,   7.6903,2,    25.00,-999.000,1,-999.0000,1, -999.00,9,   4.3879,2,    0.93,2,   -85.8,2,     2.1,   0.397,3,   40.46,2,   25.12,2, 1396.90,   4.2729
33RO20100308,      A13.5,     115,          1,         10,      11003,2,20100414,       1616,     0.9997,    -3.0003,       5126,  1599.0,   4.1715,  34.9728,2,  34.9733,2, 233.8000,2,   233.7,2,   17.70,6,   20.94,6,    0.00,6,    1.38,2,   0.320,2,   0.157,2,   0.0430,2,  2173.7,2,  2313.9,2,    795.6,2,    20.00,   7.7181,2,    25.00,-999.000,1,-999.0000,1, -999.00,9,   4.1713,2,    1.06,2,   -76.0,2,     2.2,   0.719,3,   39.44,2,   22.70,2, 1599.00,   4.0401
33RO20100308,      A13.5,     115,          1,          9,      11706,2,20100414,       1616,     0.9997,    -3.0003,       5126,  1799.4,   3.9434,  34.9740,2,  34.9742,2, 240.2000,2,   240.1,2,   18.46,6,   20.43,6,    0.00,6,    1.35,6,   0.200,2,   0.101,2,   0.0000,2,  2171.3,2,  2315.5,2,   -999.0,9,  -999.00,   7.7254,2,    25.00,-999.000,9,-999.0000,1, -999.00,9,   3.9434,2,    1.02,2,   -80.3,2,     2.1,   0.544,3,   39.37,2,   21.59,2, 1799.40,   3.7960
33RO20100308,      A13.5,     115,          1,          8,      11033,2,20100414,       1616,     0.9997,    -3.0003,       5126,  2199.4,   3.4026,  34.9574,2,  34.9575,2, 246.6000,2,   246.0,2,   23.81,6,   20.30,6,    0.00,6,    1.34,6,   0.087,2,   0.046,2,   0.0000,2,  2173.1,2,  2318.5,2,    759.1,2,    20.00,   7.7344,2,    25.00,-999.000,1,-999.0000,1, -999.00,9,   3.4020,2, -999.00,9,  -999.0,9,  -999.0,   0.303,3,   39.98,2,   21.82,2, 2199.40,   3.2249
33RO20100308,      A13.5,     115,          1,          7,      11705,2,20100414,       1616,     0.9997,    -3.0003,       5126,  2600.4,   2.8726,  34.9264,2,  34.9271,2, 243.3000,2,   242.4,2,   33.85,6,   21.38,6,    0.00,6,    1.42,6,   0.015,2,   0.012,2,   0.0000,2,  2184.8,2,  2325.8,2,   -999.0,9,  -999.00,   7.7290,2,    25.00,-999.000,9,-999.0000,1, -999.00,9,   2.8731,2, -999.00,9,  -999.0,9,  -999.0,   0.075,3,   39.98,2,   23.54,2, 2600.40,   2.6652
33RO20100308,      A13.5,     115,          1,          6,      11029,2,20100414,       1616,     0.9997,    -3.0003,       5126,  2999.5,   2.6011,  34.9073,2,  34.9074,2, 241.6000,2,   241.7,2,   40.40,6,   21.99,6,    0.00,6,    1.47,6,   0.010,2,   0.006,2,   0.0000,2,  2191.2,2,  2335.1,2,    781.8,2,    20.00,   7.7253,2,    25.00,-999.000,1,-999.0000,1, -999.00,9,   2.6008,2, -999.00,9,  -999.0,9,  -999.0,   0.059,3,   39.53,2,   23.12,2, 2999.50,   2.3591
33RO20100308,      A13.5,     115,          1,          5,      11704,2,20100414,       1616,     0.9997,    -3.0003,       5126,  3399.6,   2.4773,  34.8984,2,  34.8980,2, 243.2000,2,   243.3,2,   42.51,6,   22.00,6,    0.00,6,    1.48,6,   0.025,2,   0.015,2,   0.0000,2,  2192.6,2,  2338.9,2,   -999.0,9,  -999.00,   7.7251,2,    25.00,-999.000,9,-999.0000,1, -999.00,9,   2.4772,2, -999.00,9,  -999.0,9,  -999.0,   0.106,3,   40.54,2,   23.89,2, 3399.60,   2.1963
33RO20100308,      A13.5,     115,          1,          4,      11030,2,20100414,       1616,     0.9997,    -3.0003,       5126,  3800.5,   2.3863,  34.8900,2,  34.8903,2, 242.4000,2,   241.8,2,   46.01,6,   22.26,6,    0.00,6,    1.50,6,   0.018,2,   0.011,2,   0.0100,2,  2196.2,2,  2339.3,2,   -999.0,9,  -999.00,   7.7235,2,    25.00,-999.000,1,-999.0000,1, -999.00,9,   2.3864,2, -999.00,9,  -999.0,9,  -999.0,   0.077,3,   39.81,2,   24.18,2, 3800.50,   2.0638
33RO20100308,      A13.5,     115,          1,          3,      11703,2,20100414,       1616,     0.9997,    -3.0003,       5126,  4200.2,   2.3147,  34.8812,2,  34.8813,2, 242.6000,2,   242.0,2,   48.91,6,   22.52,6,    0.00,6,    1.52,6,   0.027,6,   0.015,6,   0.0000,6,  2198.4,2,  2344.3,6,    792.1,2,    20.00,   7.7206,2,    25.00,-999.000,9,-999.0000,1, -999.00,9,   2.3146,2, -999.00,9,  -999.0,9,  -999.0,   0.100,3,   39.83,2,   24.19,2, 4200.20,   1.9486
33RO20100308,      A13.5,     115,          1,          2,      11702,2,20100414,       1616,     0.9997,    -3.0003,       5126,  4600.9,   2.2445,  34.8704,2,  34.8705,2, 241.6000,2,   241.4,2,   52.51,6,   22.91,6,    0.00,6,    1.55,6,   0.033,2,   0.019,2,   0.0000,2,  2202.3,2,  2347.3,2,   -999.0,9,  -999.00,   7.7179,2,    25.00,-999.000,1,-999.0000,1, -999.00,9,   2.2441,2, -999.00,9,  -999.0,9,  -999.0,   0.127,3,   39.51,2,   24.71,2, 4600.90,   1.8330
33RO20100308,      A13.5,     115,          1,          1,      11701,2,20100414,       1616,     0.9997,    -3.0003,       5126,  5192.3,   2.1980,  34.8578,2,  34.8578,2, 238.1000,2,   237.9,2,   57.88,6,   23.55,6,    0.00,6,    1.59,6,   0.052,2,   0.029,2,   0.0000,2,  2212.2,2,  2356.0,2,    812.2,2,    20.00,   7.7158,2,    25.00,-999.000,1,-999.0000,1, -999.00,9,   2.1978,2, -999.00,9,  -999.0,9,  -999.0,   0.184,3,   40.74,2,   24.92,2, 5192.30,   1.7145