BOTTLE,20130404CCHSIOCBG
EXPOCODE,SECT_ID,STNNBR,CASTNO,SAMPNO,BTLNBR,BTLNBR_FLAG_W,DATE,TIME,LATITUDE,LONGITUDE,DEPTH,CTDPRS,CTDTMP,CTDSAL,CTDSAL_FLAG_W,SALNTY,SALNTY_FLAG_W,CTDOXY,CTDOXY_FLAG_W,OXYGEN,OXYGEN_FLAG_W,SILCAT,SILCAT_FLAG_W,NITRAT,NITRAT_FLAG_W,NITRIT,NITRIT_FLAG_W,PHSPHT,PHSPHT_FLAG_W,CFC-11,CFC-11_FLAG_W,CFC-12,CFC-12_FLAG_W,SF6,SF6_FLAG_W,TCARBN,TCARBN_FLAG_W,ALKALI,ALKALI_FLAG_W,FCO2,FCO2_FLAG_W,FCO2TMP,PH_TOT,PH_TOT_FLAG_W,PH_TMP,TRITUM,TRITUM_FLAG_W,HELIUM,HELIUM_FLAG_W,DELHE3,DELHE3_FLAG_W,REFTMP,REFTMP_FLAG_W,DELC13,DELC13_FLAG_W,DELC14,DELC14_FLAG_W,C14ERR,CCL4,CCL4_FLAG_W,DOC,DOC_FLAG_W,TDN,TDN_FLAG_W,CTDRAW,THETA
,,,,,,,,,,,METERS,DBAR,ITS-90,PSS-78,,PSS-78,,UMOL/KG,,UMOL/KG,,UMOL/KG,,UMOL/KG,,UMOL/KG,,UMOL/KG,,PMOL/KG,,PMOL/KG,,FMOL/KG,,UMOL/KG,,UMOL/KG,,UATM,,DEG C,,,DEG C,TU,,NMOL/KG,,PERCNT,,DEG C,,/MILLE,,/MILLE,,/MILLE,PMOL/KG,,UMOL/KG,,UMOL/KG,,DBAR,DEG C
33RO20100308,      A13.5,       6,          1,         24,      11714,2,20100315,       1938,   -51.5002,     0.3478,       2406,     6.0,   3.9911,  33.7283,2,  33.7277,2, 319.6000,2,   319.7,2,    6.96,2,   21.16,2,    0.27,2,    1.51,2,   5.172,2,   2.799,2,   2.2770,2,  2132.4,6,  2279.2,6,    699.5,2,    20.00,   7.7621,2,    25.00,-999.000,9,-999.0000,9, -999.00,9,   3.9904,2, -999.00,9,  -999.0,9,  -999.0,   6.874,3, -999.00,9, -999.00,9,    6.00,   3.9907
33RO20100308,      A13.5,       6,          1,         23,      11713,2,20100315,       1938,   -51.5002,     0.3478,       2406,    41.0,   3.9901,  33.7287,2,  33.7291,2, 317.5000,2,   319.6,2,    6.97,6,   21.16,6,    0.26,6,    1.50,6,   5.248,2,   2.800,2,   2.4110,2,  2131.6,2,  2276.5,2,   -999.0,9,  -999.00,   7.7619,2,    25.00,-999.000,9,-999.0000,9, -999.00,9,   3.9899,2, -999.00,9,  -999.0,9,  -999.0,   6.882,3, -999.00,9, -999.00,9,   41.00,   3.9874
33RO20100308,      A13.5,       6,          1,         22,      11712,2,20100315,       1938,   -51.5002,     0.3478,       2406,    69.5,   3.9820,  33.7285,2,  33.7285,2, 318.3000,2,   318.6,2,    6.92,6,   21.16,6,    0.26,6,    1.49,6,   5.199,2,   2.790,2,   2.3040,2,  2131.6,2,  2275.7,2,    698.3,2,    20.00,   7.7609,2,    25.00,-999.000,9,-999.0000,9, -999.00,9,   3.9814,2, -999.00,9,  -999.0,9,  -999.0,   6.747,3, -999.00,9, -999.00,9,   69.50,   3.9773
33RO20100308,      A13.5,       6,          1,         21,      11010,2,20100315,       1938,   -51.5002,     0.3478,       2406,    99.4,   3.9727,  33.7277,2,  33.7304,2, 319.3000,2,   319.0,2,    7.25,2,   21.33,2,    0.27,2,    1.59,2,   5.213,2,   2.796,2,   2.3730,2,  2132.7,2,  -999.0,5,    704.3,2,    20.00,   7.7593,2,    25.00,-999.000,9,-999.0000,9, -999.00,9,   3.9739,2, -999.00,9,  -999.0,9,  -999.0,   6.696,3, -999.00,9, -999.00,9,   99.40,   3.9660
33RO20100308,      A13.5,       6,          1,         20,      11715,2,20100315,       1938,   -51.5002,     0.3478,       2406,   130.1,   1.6141,  33.9054,2,  33.9129,2, 306.9000,2,   307.8,2,   26.16,2,   27.43,2,    0.12,2,    1.99,2,   5.345,6,   2.860,6,   2.2700,6,  2173.2,2,  2293.5,2,    900.5,2,    20.00,   7.6611,2,    25.00,-999.000,9,-999.0000,9, -999.00,9,   1.6172,2, -999.00,9,  -999.0,9,  -999.0,   6.858,3, -999.00,9, -999.00,9,  130.10,   1.6078
33RO20100308,      A13.5,       6,          1,         19,      11007,2,20100315,       1938,   -51.5002,     0.3478,       2406,   160.1,   1.1010,  34.0146,2,  34.0181,2, 287.6000,2,   286.6,2,   36.52,2,   30.33,2,    0.03,2,    2.18,2,   4.999,2,   2.607,2,   1.9990,2,  2191.0,2,  2294.7,2,   1009.3,2,    20.00,   7.6213,2,    25.00,-999.000,9,-999.0000,9, -999.00,9,   1.1004,2, -999.00,9,  -999.0,9,  -999.0,   5.714,3, -999.00,9, -999.00,9,  160.10,   1.0938
33RO20100308,      A13.5,       6,          1,         18,      11710,2,20100315,       1938,   -51.5002,     0.3478,       2406,   192.3,   1.3985,  34.1715,2,  34.1704,2, 249.6000,2,   247.1,6,   47.85,2,   32.73,2,    0.02,2,    2.32,2,   3.904,2,   1.994,2,   1.3530,2,  2213.0,2,  2298.7,2,   1122.0,2,    20.00,   7.5799,2,    25.00,-999.000,9,-999.0000,9, -999.00,9,   1.3978,2, -999.00,9,  -999.0,9,  -999.0,   4.602,3, -999.00,9, -999.00,9,  192.30,   1.3893
33RO20100308,      A13.5,       6,          1,         17,      11023,2,20100315,       1938,   -51.5002,     0.3478,       2406,   220.8,   1.6858,  34.2993,2,  34.2945,2, 213.8000,2,   215.1,2,   58.01,2,   34.48,2,    0.02,2,    2.43,2,   2.910,2,   1.467,2,   0.9880,2,  2232.0,2,  2308.4,2,   1212.7,2,    20.00,   7.5503,2,    25.00,-999.000,9,-999.0000,9, -999.00,9,   1.6796,2, -999.00,9,  -999.0,9,  -999.0,   3.500,3, -999.00,9, -999.00,9,  220.80,   1.6746
33RO20100308,      A13.5,       6,          1,         16,      11709,2,20100315,       1938,   -51.5002,     0.3478,       2406,   250.2,   1.8372,  34.3684,2,  34.3671,2, 198.0000,2,   198.2,2,   63.89,2,   35.12,2,    0.02,2,    2.53,3,   2.326,2,   1.148,2,   0.7500,2,  2240.8,2,  2313.1,2,   1250.0,2,    20.00,   7.5393,2,    25.00,-999.000,9,-999.0000,9, -999.00,9,   1.8363,2, -999.00,9,  -999.0,9,  -999.0,   2.758,3, -999.00,9, -999.00,9,  250.20,   1.8241
33RO20100308,      A13.5,       6,          1,         15,      11006,9,20100315,       1938,   -51.5002,     0.3478,       2406,   350.9,   2.0557,  34.4938,2,-999.0000,9, 177.1000,2,  -999.0,9, -999.00,9, -999.00,9, -999.00,9, -999.00,9,-999.000,9,-999.000,9,-999.0000,9,  -999.0,9,  -999.0,9,   -999.0,9,  -999.00,-999.0000,9,  -999.00,-999.000,9,-999.0000,9, -999.00,9,   2.0555,2, -999.00,9,  -999.0,9,  -999.0,-999.000,9, -999.00,9, -999.00,9,  350.90,   2.0364
33RO20100308,      A13.5,       6,          1,         14,      11708,2,20100315,       1938,   -51.5002,     0.3478,       2406,   449.0,   2.1437,  34.5695,2,  34.5646,2, 173.0000,2,   172.3,2,   77.73,2,   34.72,2,    0.01,2,    2.44,2,   0.826,3,   0.403,3,   0.1560,2,  2257.8,2,  2332.4,2,   1237.2,6,    20.00,   7.5434,2,    25.00,-999.000,9,-999.0000,9, -999.00,9,   2.1431,2, -999.00,9,  -999.0,9,  -999.0,   1.010,3, -999.00,9, -999.00,9,  449.00,   2.1182
33RO20100308,      A13.5,       6,          1,         13,      11031,2,20100315,       1938,   -51.5002,     0.3478,       2406,   551.0,   2.1037,  34.6197,2,  34.6188,2, 173.8000,2,   172.8,2,   81.33,2,   34.01,2,    0.01,2,    2.40,2,   0.611,2,   0.301,2,   0.1590,2,  2260.4,6,  2339.8,2,   -999.0,9,  -999.00,   7.5539,2,    25.00,-999.000,9,-999.0000,9, -999.00,9,   2.1034,2, -999.00,9,  -999.0,9,  -999.0,   0.743,3, -999.00,9, -999.00,9,  551.00,   2.0721
33RO20100308,      A13.5,       6,          1,         12,      11027,2,20100315,       1938,   -51.5002,     0.3478,       2406,   650.3,   2.1055,  34.6634,2,  34.6619,2, 177.5000,3,   197.2,4,   82.66,2,   33.24,2,    0.02,2,    2.46,3,-999.000,5,-999.000,5,-999.0000,5,  2258.3,2,  2342.8,2,   1160.9,2,    20.00,   7.5705,2,    25.00,-999.000,9,-999.0000,9, -999.00,9,   2.1049,2, -999.00,9,  -999.0,9,  -999.0,-999.000,5, -999.00,9, -999.00,9,  650.30,   2.0676
33RO20100308,      A13.5,       6,          1,         11,      11707,2,20100315,       1938,   -51.5002,     0.3478,       2406,   749.8,   2.1650,  34.6993,2,  34.6979,2, 179.7000,2,   181.9,2,   80.87,2,   31.97,2,    0.01,2,    2.24,2,   0.317,2,   0.154,2,   0.0720,2,  2254.0,2,  2342.8,2,   1112.7,2,    20.00,   7.5875,2,    25.00,-999.000,9,-999.0000,9, -999.00,9,   2.1645,2, -999.00,9,  -999.0,9,  -999.0,   0.441,3, -999.00,9, -999.00,9,  749.80,   2.1203
33RO20100308,      A13.5,       6,          1,         10,      11003,2,20100315,       1938,   -51.5002,     0.3478,       2406,   849.3,   2.1997,  34.7241,2,  34.7228,2, 186.4000,2,   186.5,2,   79.08,2,   31.07,2,    0.00,2,    2.17,2,   0.248,2,   0.119,2,   0.0000,2,  2249.5,2,  2344.2,2,   -999.0,9,  -999.00,   7.5997,2,    25.00,-999.000,9,-999.0000,9, -999.00,9,   2.1994,2, -999.00,9,  -999.0,9,  -999.0,   0.368,3, -999.00,9, -999.00,9,  849.30,   2.1481
33RO20100308,      A13.5,       6,          1,          9,      11706,2,20100315,       1938,   -51.5002,     0.3478,       2406,   951.4,   2.0984,  34.7434,2,  34.7426,2, 192.4000,2,   192.1,2,   80.59,2,   30.43,2,    0.01,2,    2.13,2,   0.208,2,   0.099,2,   0.0000,2,  2246.0,2,  2343.8,2,   1049.5,2,    20.00,   7.6105,2,    25.00,-999.000,9,-999.0000,9, -999.00,9,   2.0980,2, -999.00,9,  -999.0,9,  -999.0,   0.328,3, -999.00,9, -999.00,9,  951.40,   2.0405
33RO20100308,      A13.5,       6,          1,          8,      11033,2,20100315,       1938,   -51.5002,     0.3478,       2406,  1150.3,   1.9885,  34.7567,2,  34.7556,2, 197.0000,2,   197.2,2,   82.37,2,   30.14,2,    0.01,2,    2.13,2,   0.178,2,   0.084,2,   0.0000,2,  2244.9,2,  2346.9,2,   -999.0,9,  -999.00,   7.6195,2,    25.00,-999.000,9,-999.0000,9, -999.00,9,   1.9879,2, -999.00,9,  -999.0,9,  -999.0,   0.263,3, -999.00,9, -999.00,9, 1150.30,   1.9176
33RO20100308,      A13.5,       6,          1,          7,      11705,2,20100315,       1938,   -51.5002,     0.3478,       2406,  1351.5,   1.7634,  34.7523,2,  34.7513,2, 200.6000,2,   199.6,2,   88.06,2,   30.15,2,    0.00,2,    2.11,2,   0.189,2,   0.092,2,   0.0000,2,  2247.7,2,  2347.4,2,   1022.8,2,    20.00,   7.6199,2,    25.00,-999.000,9,-999.0000,9, -999.00,9,   1.7632,2, -999.00,9,  -999.0,9,  -999.0,   0.278,3, -999.00,9, -999.00,9, 1351.50,   1.6803
33RO20100308,      A13.5,       6,          1,          6,      11029,2,20100315,       1938,   -51.5002,     0.3478,       2406,  1551.4,   1.5514,  34.7467,2,  34.7455,2, 202.2000,2,   202.2,6,   93.77,6,   30.54,6,    0.01,6,    2.14,6,   0.192,2,   0.091,2,   0.0000,2,  2249.4,2,  2352.7,2,   -999.0,9,  -999.00,   7.6196,2,    25.00,-999.000,9,-999.0000,9, -999.00,9,   1.5511,2, -999.00,9,  -999.0,9,  -999.0,   0.271,3, -999.00,9, -999.00,9, 1551.40,   1.4561
33RO20100308,      A13.5,       6,          1,          5,      11704,2,20100315,       1938,   -51.5002,     0.3478,       2406,  1850.3,   1.3182,  34.7345,2,  34.7333,2, 204.5000,2,   203.4,2,  100.76,6,   30.86,6,    0.01,6,    2.16,6,   0.224,2,   0.106,2,   0.0000,2,  2252.5,2,  2356.4,2,   1044.7,2,    20.00,   7.6144,2,    25.00,-999.000,9,-999.0000,9, -999.00,9,   1.3178,2, -999.00,9,  -999.0,9,  -999.0,   0.296,3, -999.00,9, -999.00,9, 1850.30,   1.2035
33RO20100308,      A13.5,       6,          1,          4,      11030,2,20100315,       1938,   -51.5002,     0.3478,       2406,  2150.6,   1.1137,  34.7216,2,  34.7207,2, 206.1000,2,   205.1,2,  107.00,2,   31.46,2,    0.00,2,    2.19,2,   0.294,6,   0.139,6,   0.0000,6,  2255.5,2,  2350.3,3,   -999.0,9,  -999.00,   7.6091,2,    25.00,-999.000,9,-999.0000,9, -999.00,9,   1.1135,2, -999.00,9,  -999.0,9,  -999.0,   0.352,3, -999.00,9, -999.00,9, 2150.60,   0.9786
33RO20100308,      A13.5,       6,          1,          3,      11703,2,20100315,       1938,   -51.5002,     0.3478,       2406,  2250.9,   1.0469,  34.7179,2,  34.7168,2, 206.0000,2,   206.9,2,  109.05,2,   31.56,2,    0.01,2,    2.22,2,   0.295,2,   0.138,2,   0.0750,2,  2256.4,2,  2358.7,2,   1062.0,2,    20.00,   7.6083,2,    25.00,-999.000,9,-999.0000,9, -999.00,9,   1.0461,2, -999.00,9,  -999.0,9,  -999.0,   0.344,3, -999.00,9, -999.00,9, 2250.90,   0.9049
33RO20100308,      A13.5,       6,          1,          2,      11702,2,20100315,       1938,   -51.5002,     0.3478,       2406,  2350.0,   1.0137,  34.7150,2,  34.7121,2, 206.3000,2,   206.1,2,  110.58,6,   31.73,6,    0.01,6,    2.22,6,   0.303,2,   0.143,2,   0.0000,2,  2258.0,2,  2357.0,2,   -999.0,9,  -999.00,   7.6073,2,    25.00,-999.000,9,-999.0000,9, -999.00,9,   1.0132,2, -999.00,9,  -999.0,9,  -999.0,   0.357,3, -999.00,9, -999.00,9, 2350.00,   0.8641
33RO20100308,      A13.5,       6,          1,          1,      11701,2,20100315,       1938,   -51.5002,     0.3478,       2406,  2423.2,   0.9411,  34.7105,2,  34.7094,2, 206.6000,2,   206.9,2,  113.03,6,   31.85,6,    0.01,6,    2.23,6,   0.332,2,   0.154,2,   0.0000,2,  2260.0,6,  2358.0,6,   -999.0,9,  -999.00,   7.6038,2,    25.00,-999.000,9,-999.0000,9, -999.00,9,   0.9404,2, -999.00,9,  -999.0,9,  -999.0,   0.375,3, -999.00,9, -999.00,9, 2423.20,   0.7868