BOTTLE,20130404CCHSIOCBG
EXPOCODE,SECT_ID,STNNBR,CASTNO,SAMPNO,BTLNBR,BTLNBR_FLAG_W,DATE,TIME,LATITUDE,LONGITUDE,DEPTH,CTDPRS,CTDTMP,CTDSAL,CTDSAL_FLAG_W,SALNTY,SALNTY_FLAG_W,CTDOXY,CTDOXY_FLAG_W,OXYGEN,OXYGEN_FLAG_W,SILCAT,SILCAT_FLAG_W,NITRAT,NITRAT_FLAG_W,NITRIT,NITRIT_FLAG_W,PHSPHT,PHSPHT_FLAG_W,CFC-11,CFC-11_FLAG_W,CFC-12,CFC-12_FLAG_W,SF6,SF6_FLAG_W,TCARBN,TCARBN_FLAG_W,ALKALI,ALKALI_FLAG_W,FCO2,FCO2_FLAG_W,FCO2TMP,PH_TOT,PH_TOT_FLAG_W,PH_TMP,TRITUM,TRITUM_FLAG_W,HELIUM,HELIUM_FLAG_W,DELHE3,DELHE3_FLAG_W,REFTMP,REFTMP_FLAG_W,DELC13,DELC13_FLAG_W,DELC14,DELC14_FLAG_W,C14ERR,CCL4,CCL4_FLAG_W,DOC,DOC_FLAG_W,TDN,TDN_FLAG_W,CTDRAW,THETA
,,,,,,,,,,,METERS,DBAR,ITS-90,PSS-78,,PSS-78,,UMOL/KG,,UMOL/KG,,UMOL/KG,,UMOL/KG,,UMOL/KG,,UMOL/KG,,PMOL/KG,,PMOL/KG,,FMOL/KG,,UMOL/KG,,UMOL/KG,,UATM,,DEG C,,,DEG C,TU,,NMOL/KG,,PERCNT,,DEG C,,/MILLE,,/MILLE,,/MILLE,PMOL/KG,,UMOL/KG,,UMOL/KG,,DBAR,DEG C
33RO20100308,      A13.5,      80,          1,         24,      11714,2,20100405,       0926,   -14.5002,     0.9798,       5667,     5.3,  25.2076,  36.7786,2,  36.7851,2, 206.1000,2,   207.1,2,    0.70,6,    0.05,6,    0.00,6,    0.15,6,   1.716,2,   1.074,2,   1.0370,2,  2085.2,6,  2415.8,2,    326.1,2,    20.00,   8.0624,2,    25.00,-999.000,9,-999.0000,9, -999.00,9,-999.0000,9, -999.00,9,  -999.0,9,  -999.0,   1.968,3, -999.00,9, -999.00,9,    5.30,  25.2064
33RO20100308,      A13.5,      80,          1,         23,      11713,2,20100405,       0926,   -14.5002,     0.9798,       5667,    39.6,  25.0450,  36.7625,2,  36.7592,2, 209.2000,2,   209.3,2,    0.72,2,    0.14,2,    0.00,2,    0.17,2,   1.737,2,   1.087,2,   1.1720,2,  2085.3,2,  2413.7,6,    325.2,2,    20.00,   8.0611,2,    25.00,-999.000,9,-999.0000,9, -999.00,9,-999.0000,9, -999.00,9,  -999.0,9,  -999.0,   1.922,3, -999.00,9, -999.00,9,   39.60,  25.0364
33RO20100308,      A13.5,      80,          1,         22,      11712,2,20100405,       0926,   -14.5002,     0.9798,       5667,    80.6,  19.6287,  36.3361,2,  36.3108,2, 195.4000,2,   191.5,6,    2.06,2,    6.32,2,    0.68,2,    0.61,2,   2.182,6,   1.314,6,   1.1980,6,  2133.3,2,  2379.7,2,    466.7,2,    20.00,   7.9288,2,    25.00,-999.000,9,-999.0000,9, -999.00,9,-999.0000,9, -999.00,9,  -999.0,9,  -999.0,   1.420,3, -999.00,9, -999.00,9,   80.60,  19.6139
33RO20100308,      A13.5,      80,          1,         21,      11010,2,20100405,       0926,   -14.5002,     0.9798,       5667,   179.2,  12.1131,  35.1369,2,  35.1346,2,  72.5000,2,    70.9,2,    9.13,2,   27.56,2,    0.01,2,    1.77,2,   2.053,2,   1.115,2,   0.5610,2,  2217.7,2,  2307.9,2,   1137.4,2,    20.00,   7.5724,2,    25.00,-999.000,9,-999.0000,9, -999.00,9,-999.0000,9, -999.00,9,  -999.0,9,  -999.0,   0.357,3, -999.00,9, -999.00,9,  179.20,  12.0896
33RO20100308,      A13.5,      80,          1,         20,      11715,2,20100405,       0926,   -14.5002,     0.9798,       5667,   350.1,   9.3085,  34.8543,2,  34.8517,2,  46.5000,2,    46.3,2,   15.82,2,   35.65,2,    0.00,2,    2.25,2,   0.622,2,   0.325,2,   0.0530,2,  2245.2,6,  2296.1,2,   1486.5,2,    20.00,   7.4648,2,    25.00,-999.000,9,-999.0000,9, -999.00,9,-999.0000,9, -999.00,9,  -999.0,9,  -999.0,   0.183,3, -999.00,9, -999.00,9,  350.10,   9.2694
33RO20100308,      A13.5,      80,          1,         19,      11007,2,20100405,       0926,   -14.5002,     0.9798,       5667,   499.9,   7.6044,  34.6846,2,  34.6845,2,  62.5000,2,    61.3,2,   19.90,2,   37.66,2,    0.00,2,    2.42,2,   0.261,2,   0.138,2,   0.0000,2,  2245.6,2,  2293.8,2,   1539.2,2,    20.00,   7.4505,2,    25.00,-999.000,9,-999.0000,9, -999.00,9,-999.0000,9, -999.00,9,  -999.0,9,  -999.0,   0.203,3, -999.00,9, -999.00,9,  499.90,   7.5545
33RO20100308,      A13.5,      80,          1,         18,      11710,2,20100405,       0926,   -14.5002,     0.9798,       5667,   700.2,   5.6618,  34.5203,2,  34.5200,2, 108.2000,2,   108.3,2,   26.17,2,   36.92,2,    0.00,2,    2.45,2,   0.155,2,   0.081,2,   0.0000,2,  2232.2,2,  2290.7,2,   1389.5,6,    20.00,   7.4944,2,    25.00,-999.000,9,-999.0000,9, -999.00,9,-999.0000,9, -999.00,9,  -999.0,9,  -999.0,   0.297,3, -999.00,9, -999.00,9,  700.20,   5.6014
33RO20100308,      A13.5,      80,          1,         17,      11025,2,20100405,       0926,   -14.5002,     0.9798,       5667,   900.6,   4.5704,  34.4977,2,  34.4998,2, 132.0000,2,   131.2,2,   32.88,2,   36.25,2,    0.00,2,    2.45,2,   0.038,2,   0.022,2,   0.0000,2,  2231.9,2,  2299.2,2,   1306.5,2,    20.00,   7.5195,2,    25.00,-999.000,9,-999.0000,9, -999.00,9,-999.0000,9, -999.00,9,  -999.0,9,  -999.0,   0.150,3, -999.00,9, -999.00,9,  900.60,   4.4990
33RO20100308,      A13.5,      80,          1,         16,      11709,2,20100405,       0926,   -14.5002,     0.9798,       5667,  1099.9,   3.9981,  34.5941,2,  34.5960,2, 152.8000,2,   152.4,2,   36.15,2,   33.60,2,    0.00,2,    2.29,2,   0.009,2,   0.006,2,   0.0000,2,  2227.7,2,  2307.6,2,   1192.4,2,    20.00,   7.5571,2,    25.00,-999.000,9,-999.0000,9, -999.00,9,-999.0000,9, -999.00,9,  -999.0,9,  -999.0,   0.055,3, -999.00,9, -999.00,9, 1099.90,   3.9139
33RO20100308,      A13.5,      80,          1,         15,      11006,2,20100405,       0926,   -14.5002,     0.9798,       5667,  1300.0,   3.8188,  34.7344,2,  34.7327,2, 175.1000,2,   174.6,2,   33.85,2,   29.87,2,    0.00,2,    2.04,2,   0.004,2,   0.002,2,   0.0000,2,  2215.5,2,  2315.0,2,   1062.6,2,    20.00,   7.6056,2,    25.00,-999.000,9,-999.0000,9, -999.00,9,-999.0000,9, -999.00,9,  -999.0,9,  -999.0,   0.025,3, -999.00,9, -999.00,9, 1300.00,   3.7188
33RO20100308,      A13.5,      80,          1,         14,      11708,2,20100405,       0926,   -14.5002,     0.9798,       5667,  1500.5,   3.7188,  34.8482,2,  34.8483,2, 199.1000,2,   199.3,2,   29.58,2,   26.12,2,    0.00,2,    1.77,2,   0.003,2,   0.002,2,   0.0000,2,  2198.6,2,  2316.4,2,    934.9,2,    20.00,   7.6566,2,    25.00,-999.000,9,-999.0000,9, -999.00,9,-999.0000,9, -999.00,9,  -999.0,9,  -999.0,   0.027,3, -999.00,9, -999.00,9, 1500.50,   3.6020
33RO20100308,      A13.5,      80,          1,         13,      11031,2,20100405,       0926,   -14.5002,     0.9798,       5667,  1700.0,   3.5768,  34.8993,2,  34.8990,2, 214.5000,2,   215.6,2,   28.17,2,   23.97,2,    0.00,2,    1.61,2,   0.006,2,   0.005,2,   0.0000,2,  2190.6,2,  2319.7,2,    862.4,2,    20.00,   7.6860,2,    25.00,-999.000,9,-999.0000,9, -999.00,9,-999.0000,9, -999.00,9,  -999.0,9,  -999.0,   0.041,3, -999.00,9, -999.00,9, 1700.00,   3.4437
33RO20100308,      A13.5,      80,          1,         12,      11027,2,20100405,       0926,   -14.5002,     0.9798,       5667,  1897.6,   3.3890,  34.9147,2,  34.9146,2, 220.0000,2,   220.8,2,   29.85,2,   23.33,2,    0.00,2,    1.56,2,   0.002,2,   0.002,2,   0.0000,2,  2189.0,2,  2321.7,2,    841.2,2,    20.00,   7.6957,2,    25.00,-999.000,9,-999.0000,9, -999.00,9,-999.0000,9, -999.00,9,  -999.0,9,  -999.0,   0.020,3, -999.00,9, -999.00,9, 1897.60,   3.2402
33RO20100308,      A13.5,      80,          1,         11,      11707,2,20100405,       0926,   -14.5002,     0.9798,       5667,  2100.2,   3.2014,  34.9185,2,  34.9178,2, 226.3000,2,   227.0,2,   32.09,2,   22.80,2,    0.00,2,    1.53,2,   0.003,2,   0.002,2,   0.0000,2,  2189.0,2,  2323.8,2,    821.0,2,    20.00,   7.7059,2,    25.00,-999.000,9,-999.0000,9, -999.00,9,-999.0000,9, -999.00,9,  -999.0,9,  -999.0,   0.024,3, -999.00,9, -999.00,9, 2100.20,   3.0365
33RO20100308,      A13.5,      80,          1,         10,      11003,2,20100405,       0926,   -14.5002,     0.9798,       5667,  2301.1,   3.0513,  34.9170,2,  34.9165,2, 229.3000,2,   231.1,2,   34.39,2,   22.67,2,    0.00,2,    1.52,2,-999.000,5,-999.000,5,-999.0000,5,  2189.2,2,  2327.9,2,    814.1,2,    20.00,   7.7101,2,    25.00,-999.000,9,-999.0000,9, -999.00,9,-999.0000,9, -999.00,9,  -999.0,9,  -999.0,-999.000,5, -999.00,9, -999.00,9, 2301.10,   2.8698
33RO20100308,      A13.5,      80,          1,          9,      11706,2,20100405,       0926,   -14.5002,     0.9798,       5667,  2501.3,   2.9175,  34.9132,2,  34.9118,2, 229.7000,2,   231.2,2,   36.98,2,   22.77,2,    0.00,2,    1.52,2,   0.000,2,   0.000,2,   0.0000,2,  2191.3,2,  2330.6,6,    816.3,2,    20.00,   7.7108,2,    25.00,-999.000,9,-999.0000,9, -999.00,9,-999.0000,9, -999.00,9,  -999.0,9,  -999.0,  -0.003,4, -999.00,9, -999.00,9, 2501.30,   2.7190
33RO20100308,      A13.5,      80,          1,          8,      11033,2,20100405,       0926,   -14.5002,     0.9798,       5667,  2900.0,   2.6457,  34.9023,2,  34.9007,2, 229.1000,2,   230.5,2,   43.62,2,   23.18,2,    0.00,2,    1.55,2,   0.002,2,   0.001,2,   0.0000,2,  2199.5,2,  2339.0,2,    821.7,2,    20.00,   7.7100,2,    25.00,-999.000,9,-999.0000,9, -999.00,9,-999.0000,9, -999.00,9,  -999.0,9,  -999.0,   0.006,3, -999.00,9, -999.00,9, 2900.00,   2.4129
33RO20100308,      A13.5,      80,          1,          7,      11705,2,20100405,       0926,   -14.5002,     0.9798,       5667,  3300.8,   2.4712,  34.8946,2,  34.8952,2, 227.7000,2,   229.0,2,   48.97,2,   23.45,2,    0.00,2,    1.57,2,   0.003,2,   0.003,2,   0.0000,2,  2209.3,2,  2347.7,2,    816.9,2,    20.00,   7.7109,2,    25.00,-999.000,9,-999.0000,9, -999.00,9,-999.0000,9, -999.00,9,  -999.0,9,  -999.0,   0.008,3, -999.00,9, -999.00,9, 3300.80,   2.2009
33RO20100308,      A13.5,      80,          1,          6,      11029,2,20100405,       0926,   -14.5002,     0.9798,       5667,  3700.2,   2.3912,  34.8904,2,  34.8889,2, 229.4000,2,   230.6,2,   50.88,6,   23.40,6,    0.00,6,    1.56,6,   0.003,2,   0.002,2,   0.0000,2,  2212.3,2,  2353.7,2,    810.2,2,    20.00,   7.7153,2,    25.00,-999.000,9,-999.0000,9, -999.00,9,-999.0000,9, -999.00,9,  -999.0,9,  -999.0,   0.011,3, -999.00,9, -999.00,9, 3700.20,   2.0797
33RO20100308,      A13.5,      80,          1,          5,      11704,2,20100405,       0926,   -14.5002,     0.9798,       5667,  4099.7,   2.3762,  34.8881,2,  34.8870,2, 230.5000,2,   231.6,2,   51.63,6,   23.36,6,    0.00,6,    1.56,6,   0.003,6,   0.002,6,   0.0000,6,  2211.7,2,  2357.4,2,    803.8,2,    20.00,   7.7170,2,    25.00,-999.000,9,-999.0000,9, -999.00,9,-999.0000,9, -999.00,9,  -999.0,9,  -999.0,   0.016,3, -999.00,9, -999.00,9, 4099.70,   2.0199
33RO20100308,      A13.5,      80,          1,          4,      11030,2,20100405,       0926,   -14.5002,     0.9798,       5667,  4501.6,   2.3872,  34.8854,2,  34.8843,2, 230.6000,2,   232.3,2,   52.21,6,   23.37,6,    0.00,6,    1.56,6,   0.004,2,   0.004,2,   0.0000,2,  2213.4,2,  2356.8,2,    803.4,2,    20.00,   7.7175,2,    25.00,-999.000,9,-999.0000,9, -999.00,9,-999.0000,9, -999.00,9,  -999.0,9,  -999.0,   0.027,3, -999.00,9, -999.00,9, 4501.60,   1.9832
33RO20100308,      A13.5,      80,          1,          3,      11703,2,20100405,       0926,   -14.5002,     0.9798,       5667,  4899.8,   2.4055,  34.8823,2,  34.8805,2, 233.3000,2,   234.2,6,   52.61,6,   23.33,6,    0.00,6,    1.55,6,   0.006,2,   0.005,2,   0.0000,2,  2213.1,2,  2356.6,2,    801.6,6,    20.00,   7.7182,2,    25.00,-999.000,9,-999.0000,9, -999.00,9,-999.0000,9, -999.00,9,  -999.0,9,  -999.0,   0.038,3, -999.00,9, -999.00,9, 4899.80,   1.9519
33RO20100308,      A13.5,      80,          1,          2,      11702,2,20100405,       0926,   -14.5002,     0.9798,       5667,  5301.0,   2.4323,  34.8791,2,  34.8779,2, 234.6000,2,   235.0,2,   52.79,6,   23.28,6,    0.00,6,    1.56,6,   0.008,2,   0.006,2,   0.0000,2,  2212.0,2,  2358.1,2,    800.2,2,    20.00,   7.7187,2,    25.00,-999.000,9,-999.0000,9, -999.00,9,-999.0000,9, -999.00,9,  -999.0,9,  -999.0,   0.059,3, -999.00,9, -999.00,9, 5301.00,   1.9265
33RO20100308,      A13.5,      80,          1,          1,      11701,2,20100405,       0926,   -14.5002,     0.9798,       5667,  5757.4,   2.4919,  34.8781,2,  34.8813,2, 235.1000,2,   234.7,2,   52.94,6,   23.30,6,    0.00,6,    1.55,6,   0.008,2,   0.006,2,   0.0000,2,  2212.4,6,  2357.2,2,    804.5,2,    20.00,   7.7196,2,    25.00,-999.000,9,-999.0000,9, -999.00,9,-999.0000,9, -999.00,9,  -999.0,9,  -999.0,   0.061,3, -999.00,9, -999.00,9, 5757.40,   1.9232