BOTTLE,20130404CCHSIOCBG
EXPOCODE,SECT_ID,STNNBR,CASTNO,SAMPNO,BTLNBR,BTLNBR_FLAG_W,DATE,TIME,LATITUDE,LONGITUDE,DEPTH,CTDPRS,CTDTMP,CTDSAL,CTDSAL_FLAG_W,SALNTY,SALNTY_FLAG_W,CTDOXY,CTDOXY_FLAG_W,OXYGEN,OXYGEN_FLAG_W,SILCAT,SILCAT_FLAG_W,NITRAT,NITRAT_FLAG_W,NITRIT,NITRIT_FLAG_W,PHSPHT,PHSPHT_FLAG_W,CFC-11,CFC-11_FLAG_W,CFC-12,CFC-12_FLAG_W,SF6,SF6_FLAG_W,TCARBN,TCARBN_FLAG_W,ALKALI,ALKALI_FLAG_W,FCO2,FCO2_FLAG_W,FCO2TMP,PH_TOT,PH_TOT_FLAG_W,PH_TMP,TRITUM,TRITUM_FLAG_W,HELIUM,HELIUM_FLAG_W,DELHE3,DELHE3_FLAG_W,REFTMP,REFTMP_FLAG_W,DELC13,DELC13_FLAG_W,DELC14,DELC14_FLAG_W,C14ERR,CCL4,CCL4_FLAG_W,DOC,DOC_FLAG_W,TDN,TDN_FLAG_W,CTDRAW,THETA
,,,,,,,,,,,METERS,DBAR,ITS-90,PSS-78,,PSS-78,,UMOL/KG,,UMOL/KG,,UMOL/KG,,UMOL/KG,,UMOL/KG,,UMOL/KG,,PMOL/KG,,PMOL/KG,,FMOL/KG,,UMOL/KG,,UMOL/KG,,UATM,,DEG C,,,DEG C,TU,,NMOL/KG,,PERCNT,,DEG C,,/MILLE,,/MILLE,,/MILLE,PMOL/KG,,UMOL/KG,,UMOL/KG,,DBAR,DEG C
33RO20100308,      A13.5,     121,          1,         24,      11714,2,20100416,       0102,     3.0002,    -2.9995,       4978,     5.3,  30.4861,  34.8826,2,  34.8834,2, 191.3000,2,   192.0,6,    0.64,6,    0.05,6,    0.00,6,    0.00,6,   1.435,2,   0.916,2,   0.9610,2,  1934.1,6,  2283.5,2,    249.4,2,    20.00,   8.1389,2,    25.00,-999.000,9,-999.0000,9, -999.00,9,  30.4905,2, -999.00,9,  -999.0,9,  -999.0,   1.859,3,   78.33,2,    5.56,2,    5.30,  30.4848
33RO20100308,      A13.5,     121,          1,         23,      11716,2,20100416,       0102,     3.0002,    -2.9995,       4978,    30.1,  30.4562,  35.0528,2,  35.0694,2, 192.4000,2,   192.7,2,    0.66,2,    0.21,2,    0.00,2,    0.01,2,   1.448,2,   0.916,2,   1.0330,2,  1944.8,2,  2292.1,6,    252.0,2,    20.00,   8.1376,2,    25.00,-999.000,9,-999.0000,9, -999.00,9,  30.4650,2, -999.00,9,  -999.0,9,  -999.0,   1.812,3,   73.20,2,    4.98,2,   30.10,  30.4487
33RO20100308,      A13.5,     121,          1,         22,      11022,2,20100416,       0102,     3.0002,    -2.9995,       4978,    75.6,  18.6326,  35.8566,2,  35.8376,2, 140.2000,2,   131.6,2,    3.81,2,   13.32,2,    0.14,2,    0.94,2,   2.175,2,   1.237,2,   0.7520,2,  2157.0,2,  2348.7,6,    600.9,2,    20.00,   7.8284,2,    25.00,-999.000,9,-999.0000,9, -999.00,9,  18.6629,2, -999.00,9,  -999.0,9,  -999.0,   0.554,3,   54.98,2,   16.46,2,   75.60,  18.6193
33RO20100308,      A13.5,     121,          1,         21,      11010,2,20100416,       0102,     3.0002,    -2.9995,       4978,   125.1,  15.9171,  35.6770,2,  35.6713,2, 116.1000,2,   116.2,2,    5.78,2,   17.85,2,    0.02,2,    1.20,2,   2.185,6,   1.212,6,   0.6860,6,  2176.9,2,  2337.9,2,    710.7,2,    20.00,   7.7630,2,    25.00,-999.000,9,-999.0000,9, -999.00,9,  15.9221,2, -999.00,9,  -999.0,9,  -999.0,   0.404,3,   48.10,2,   20.41,2,  125.10,  15.8973
33RO20100308,      A13.5,     121,          1,         20,      11715,2,20100416,       0102,     3.0002,    -2.9995,       4978,   175.2,  15.1642,  35.5768,2,  35.5723,2, 104.5000,2,   103.4,2,    6.72,2,   20.13,2,    0.01,2,    1.33,2,   2.141,2,   1.183,2,   0.6430,2,  2186.6,2,  2335.3,2,    784.2,2,    20.00,   7.7267,2,    25.00,-999.000,9,-999.0000,9, -999.00,9,  15.1643,2, -999.00,9,  -999.0,9,  -999.0,   0.312,3,   46.71,2,   22.94,2,  175.20,  15.1374
33RO20100308,      A13.5,     121,          1,         19,      11007,2,20100416,       0102,     3.0002,    -2.9995,       4978,   225.5,  13.9825,  35.4132,2,  35.4126,2,  88.3000,2,    87.9,2,    8.11,2,   23.46,2,    0.01,2,    1.51,2,   1.969,2,   1.065,2,   0.4630,2,  2200.1,2,  2320.5,2,    904.0,2,    20.00,   7.6694,2,    25.00,-999.000,9,-999.0000,9, -999.00,9,  13.9913,2, -999.00,9,  -999.0,9,  -999.0,   0.285,3,   43.60,2,   24.98,2,  225.50,  13.9498
33RO20100308,      A13.5,     121,          1,         18,      11710,2,20100416,       0102,     3.0002,    -2.9995,       4978,   349.7,   9.8061,  34.9324,2,  34.9259,2,  62.1000,2,    62.0,2,   15.08,2,   33.61,2,    0.00,2,    2.10,2,   0.967,2,   0.501,2,   0.1170,2,  2234.3,2,  2303.5,2,   1347.7,2,    20.00,   7.5112,2,    25.00,-999.000,9,-999.0000,9, -999.00,9,   9.8046,2, -999.00,9,  -999.0,9,  -999.0,   0.251,3,   41.95,2,   35.19,2,  349.70,   9.7657
33RO20100308,      A13.5,     121,          1,         17,      11025,2,20100416,       0102,     3.0002,    -2.9995,       4978,   474.5,   7.6792,  34.7078,2,  34.7064,2,  87.3000,2,    88.0,2,   19.72,2,   35.27,2,    0.00,2,    2.27,2,   0.567,2,   0.285,2,   0.0580,2,  2231.0,2,  2293.8,3,   1360.5,2,    20.00,   7.5078,2,    25.00,-999.000,9,-999.0000,9, -999.00,9,   7.6960,2, -999.00,9,  -999.0,9,  -999.0,   0.364,3,   41.22,2,   36.80,2,  474.50,   7.6317
33RO20100308,      A13.5,     121,          1,         16,      11709,2,20100416,       0102,     3.0002,    -2.9995,       4978,   599.7,   6.3928,  34.6059,2,  34.6026,2, 100.2000,2,   101.6,2,   24.16,2,   36.39,2,    0.00,2,    2.40,2,   0.246,2,   0.125,2,   0.0000,2,  2232.3,2,  2296.7,2,   1358.0,2,    20.00,   7.5040,2,    25.00,-999.000,9,-999.0000,9, -999.00,9,   6.3973,2, -999.00,9,  -999.0,9,  -999.0,   0.285,3,   40.73,2,   38.37,2,  599.70,   6.3381
33RO20100308,      A13.5,     121,          1,         15,      11006,2,20100416,       0102,     3.0002,    -2.9995,       4978,   747.1,   5.2121,  34.5428,2,  34.5414,2, 130.2000,2,   129.8,2,   28.75,2,   35.32,2,    0.00,2,    2.38,2,   0.140,2,   0.068,2,   0.0000,2,  2225.9,2,  2297.5,2,   1257.3,2,    20.00,   7.5346,2,    25.00,-999.000,9,-999.0000,9, -999.00,9,   5.2171,2, -999.00,9,  -999.0,9,  -999.0,   0.273,3,   39.93,2,   36.85,2,  747.10,   5.1500
33RO20100308,      A13.5,     121,          1,         14,      11708,2,20100416,       0102,     3.0002,    -2.9995,       4978,   900.0,   4.6846,  34.5727,2,  34.5717,2, 145.0000,2,   143.4,2,   30.99,2,   34.27,2,    0.00,2,    2.32,2,   0.052,2,   0.028,2,   0.0000,2,  2223.3,2,  2304.3,2,   1194.5,2,    20.00,   7.5545,2,    25.00,-999.000,9,-999.0000,9, -999.00,9,   4.6843,2, -999.00,9,  -999.0,9,  -999.0,   0.111,3,   39.58,2,   35.56,2,  900.00,   4.6123
33RO20100308,      A13.5,     121,          1,         13,      11031,2,20100416,       0102,     3.0002,    -2.9995,       4978,  1000.5,   4.5773,  34.6363,2,  34.6343,2, 153.6000,2,   153.1,2,   30.22,2,   32.77,2,    0.00,2,    2.21,2,   0.049,2,   0.028,2,   0.0000,2,  2219.2,2,  2303.4,2,   1137.1,6,    20.00,   7.5751,2,    25.00,-999.000,9,-999.0000,9, -999.00,9,   4.5768,2, -999.00,9,  -999.0,9,  -999.0,   0.157,3,   39.66,2,   34.39,2, 1000.50,   4.4969
33RO20100308,      A13.5,     121,          1,         12,      11027,2,20100416,       0102,     3.0002,    -2.9995,       4978,  1199.8,   4.5190,  34.7890,2,  34.7872,2, 171.6000,2,   171.2,2,   26.73,2,   29.18,2,    0.00,2,    1.96,2,   0.026,2,   0.014,2,   0.0000,2,  2208.6,2,  2309.5,2,   1022.5,2,    20.00,   7.6187,2,    25.00,-999.000,9,-999.0000,9, -999.00,9,   4.5186,2, -999.00,9,  -999.0,9,  -999.0,   0.067,3,   40.03,2,   30.48,2, 1199.80,   4.4211
33RO20100308,      A13.5,     121,          1,         11,      11707,2,20100416,       0102,     3.0002,    -2.9995,       4978,  1400.2,   4.3466,  34.9066,2,  34.9042,2, 201.0000,2,   200.8,2,   22.42,2,   24.88,2,    0.00,2,    1.65,2,   0.048,2,   0.024,2,   0.0000,2,  2192.3,2,  2302.9,3,    895.1,2,    20.00,   7.6714,2,    25.00,-999.000,9,-999.0000,9, -999.00,9,   4.3477,2, -999.00,9,  -999.0,9,  -999.0,   0.182,3,   40.33,2,   26.62,2, 1400.20,   4.2319
33RO20100308,      A13.5,     121,          1,         10,      11003,2,20100416,       0102,     3.0002,    -2.9995,       4978,  1600.1,   4.0087,  34.9523,2,  34.9509,2, 222.7000,2,   222.8,2,   21.27,6,   22.26,6,    0.00,6,    1.48,6,   0.028,2,   0.017,2,   0.0000,2,  2182.8,2,  2315.7,2,    822.9,2,    20.00,   7.7048,2,    25.00,-999.000,9,-999.0000,9, -999.00,9,   4.0088,2, -999.00,9,  -999.0,9,  -999.0,   0.112,3,   39.84,2,   23.70,2, 1600.10,   3.8792
33RO20100308,      A13.5,     121,          1,          9,      11706,2,20100416,       0102,     3.0002,    -2.9995,       4978,  1799.8,   3.7746,  34.9611,2,  34.9595,2, 232.3000,2,   232.5,2,   21.80,6,   21.39,6,    0.00,6,    1.42,6,   0.020,2,   0.014,2,   0.0000,2,  2177.5,2,  2317.1,2,    789.1,2,    20.00,   7.7176,2,    25.00,-999.000,9,-999.0000,9, -999.00,9,   3.7745,2, -999.00,9,  -999.0,9,  -999.0,   0.144,3,   40.28,2,   23.75,2, 1799.80,   3.6295
33RO20100308,      A13.5,     121,          1,          8,      11033,2,20100416,       0102,     3.0002,    -2.9995,       4978,  2199.8,   3.3351,  34.9529,2,  34.9506,2, 242.4000,2,   242.0,2,   25.51,6,   20.76,6,    0.00,6,    1.38,6,   0.025,2,   0.014,2,   0.0000,2,  2175.8,2,  2321.4,2,    764.0,2,    20.00,   7.7302,2,    25.00,-999.000,9,-999.0000,9, -999.00,9,   3.3354,2, -999.00,9,  -999.0,9,  -999.0,   0.106,3,   40.28,2,   22.44,2, 2199.80,   3.1585
33RO20100308,      A13.5,     121,          1,          7,      11705,2,20100416,       0102,     3.0002,    -2.9995,       4978,  2599.9,   2.9097,  34.9287,2,  34.9276,2, 237.7000,2,   237.9,2,   34.50,6,   21.56,6,    0.00,6,    1.44,6,   0.005,2,   0.005,2,   0.0000,2,  2187.5,2,  2330.7,6,    781.4,2,    20.00,   7.7249,2,    25.00,-999.000,9,-999.0000,9, -999.00,9,   2.9096,2, -999.00,9,  -999.0,9,  -999.0,   0.041,3,   40.87,2,   23.66,2, 2599.90,   2.7016
33RO20100308,      A13.5,     121,          1,          6,      11029,2,20100416,       0102,     3.0002,    -2.9995,       4978,  3000.2,   2.6521,  34.9121,2,  34.9096,2, 238.1000,2,   238.4,2,   39.88,6,   22.01,6,    0.00,6,    1.47,6,   0.003,2,   0.002,2,   0.0000,2,  2192.7,2,  2339.1,2,    784.1,2,    20.00,   7.7238,2,    25.00,-999.000,9,-999.0000,9, -999.00,9,   2.6518,2, -999.00,9,  -999.0,9,  -999.0,   0.025,3,   40.71,2,   23.95,2, 3000.20,   2.4089
33RO20100308,      A13.5,     121,          1,          5,      11704,2,20100416,       0102,     3.0002,    -2.9995,       4978,  3400.5,   2.4891,  34.9009,2,  34.8978,2, 235.7000,2,   235.5,2,   44.98,6,   22.42,6,    0.00,6,    1.51,6,   0.003,6,   0.004,6,   0.0000,6,  2200.2,2,  2343.5,2,    795.2,2,    20.00,   7.7197,2,    25.00,-999.000,9,-999.0000,9, -999.00,9,   2.4889,2, -999.00,9,  -999.0,9,  -999.0,   0.025,3,   39.51,2,   24.08,2, 3400.50,   2.2077
33RO20100308,      A13.5,     121,          1,          4,      11030,2,20100416,       0102,     3.0002,    -2.9995,       4978,  3800.6,   2.3936,  34.8915,2,  34.8891,2, 236.6000,2,   236.5,2,   47.20,6,   22.56,6,    0.00,6,    1.52,6,   0.005,2,   0.004,2,   0.0000,2,  2202.0,2,  2347.2,2,    794.1,2,    20.00,   7.7197,2,    25.00,-999.000,9,-999.0000,9, -999.00,9,   2.3936,2, -999.00,9,  -999.0,9,  -999.0,   0.029,3,   39.94,2,   24.31,2, 3800.60,   2.0709
33RO20100308,      A13.5,     121,          1,          3,      11703,2,20100416,       0102,     3.0002,    -2.9995,       4978,  4200.7,   2.3192,  34.8820,2,  34.8788,2, 236.2000,2,   236.4,2,   50.79,6,   22.94,6,    0.00,6,    1.54,6,   0.007,2,   0.008,2,   0.0000,2,  2207.3,2,  2347.9,2,    801.9,2,    20.00,   7.7191,2,    25.00,-999.000,9,-999.0000,9, -999.00,9,   2.3190,2, -999.00,9,  -999.0,9,  -999.0,   0.052,3,   40.02,2,   24.22,2, 4200.70,   1.9529
33RO20100308,      A13.5,     121,          1,          2,      11702,4,20100416,       0102,     3.0002,    -2.9995,       4978,  4599.4,   2.2530,  34.8715,4,  34.9235,4, 234.3000,4,    61.7,4, -999.00,9, -999.00,9, -999.00,9, -999.00,9,   0.956,4,   0.504,4,   0.1410,4,  -999.0,9,  -999.0,9,   -999.0,9,  -999.00,   7.5051,4,    25.00,-999.000,9,-999.0000,9, -999.00,9,   2.2527,2, -999.00,9,  -999.0,9,  -999.0,   0.171,4, -999.00,9, -999.00,9, 4599.40,   1.8414
33RO20100308,      A13.5,     121,          1,          1,      11701,2,20100416,       0102,     3.0002,    -2.9995,       4978,  5017.0,   2.2062,  34.8607,2,  34.8609,2, 233.0000,2,   231.3,6,   59.22,6,   23.92,6,    0.00,6,    1.61,6,   0.028,2,   0.018,2,   0.0000,2,  2223.1,6,  2363.3,2,    818.7,2,    20.00,   7.7132,2,    25.00,-999.000,9,-999.0000,9, -999.00,9,   2.2060,2, -999.00,9,  -999.0,9,  -999.0,   0.141,3,   40.12,2,   25.01,2, 5017.00,   1.7447