BOTTLE,20130404CCHSIOCBG
EXPOCODE,SECT_ID,STNNBR,CASTNO,SAMPNO,BTLNBR,BTLNBR_FLAG_W,DATE,TIME,LATITUDE,LONGITUDE,DEPTH,CTDPRS,CTDTMP,CTDSAL,CTDSAL_FLAG_W,SALNTY,SALNTY_FLAG_W,CTDOXY,CTDOXY_FLAG_W,OXYGEN,OXYGEN_FLAG_W,SILCAT,SILCAT_FLAG_W,NITRAT,NITRAT_FLAG_W,NITRIT,NITRIT_FLAG_W,PHSPHT,PHSPHT_FLAG_W,CFC-11,CFC-11_FLAG_W,CFC-12,CFC-12_FLAG_W,SF6,SF6_FLAG_W,TCARBN,TCARBN_FLAG_W,ALKALI,ALKALI_FLAG_W,FCO2,FCO2_FLAG_W,FCO2TMP,PH_TOT,PH_TOT_FLAG_W,PH_TMP,TRITUM,TRITUM_FLAG_W,HELIUM,HELIUM_FLAG_W,DELHE3,DELHE3_FLAG_W,REFTMP,REFTMP_FLAG_W,DELC13,DELC13_FLAG_W,DELC14,DELC14_FLAG_W,C14ERR,CCL4,CCL4_FLAG_W,DOC,DOC_FLAG_W,TDN,TDN_FLAG_W,CTDRAW,THETA
,,,,,,,,,,,METERS,DBAR,ITS-90,PSS-78,,PSS-78,,UMOL/KG,,UMOL/KG,,UMOL/KG,,UMOL/KG,,UMOL/KG,,UMOL/KG,,PMOL/KG,,PMOL/KG,,FMOL/KG,,UMOL/KG,,UMOL/KG,,UATM,,DEG C,,,DEG C,TU,,NMOL/KG,,PERCNT,,DEG C,,/MILLE,,/MILLE,,/MILLE,PMOL/KG,,UMOL/KG,,UMOL/KG,,DBAR,DEG C
33RO20100308,      A13.5,      66,          1,         24,      11714,2,20100330,       2329,      -21.5,     1.3543,       5514,     5.0,  23.4766,  36.1358,2,  36.1360,2, 212.9000,2,   213.8,6,    0.48,2,    0.01,2,    0.00,2,    0.29,2,   1.860,2,   1.148,2,   1.1480,2,  2071.3,6,  2373.7,6,    344.7,2,    20.00,   8.0372,2,    25.00,-999.000,9,-999.0000,9, -999.00,9,  23.4761,2, -999.00,9,  -999.0,9,  -999.0,   2.155,3, -999.00,9, -999.00,9,    5.00,  23.4756
33RO20100308,      A13.5,      66,          1,         23,      11713,2,20100330,       2329,      -21.5,     1.3543,       5514,    49.9,  19.5226,  35.7648,2,  35.7650,2, 247.5000,2,   247.6,2,    1.69,2,    0.03,2,    0.00,2,    0.19,2,-999.000,9,-999.000,9,-999.0000,9,  2067.6,2,  2351.5,2,    373.1,6,    20.00,   8.0069,2,    25.00,-999.000,9,-999.0000,9, -999.00,9,  19.5072,3, -999.00,9,  -999.0,9,  -999.0,-999.000,9, -999.00,9, -999.00,9,   49.90,  19.5135
33RO20100308,      A13.5,      66,          1,         22,      11712,2,20100330,       2329,      -21.5,     1.3543,       5514,    89.6,  16.9399,  35.6218,2,  35.6287,2, 223.8000,2,   221.4,2,    2.26,2,    2.71,2,    0.14,2,    0.40,2,   2.514,6,   1.493,6,   1.3340,6,  2092.8,2,  2338.4,2,    440.9,2,    20.00,   7.9436,2,    25.00,-999.000,9,-999.0000,9, -999.00,9,  16.9258,2, -999.00,9,  -999.0,9,  -999.0,   1.403,3, -999.00,9, -999.00,9,   89.60,  16.9251
33RO20100308,      A13.5,      66,          1,         21,      11010,2,20100330,       2329,      -21.5,     1.3543,       5514,   150.6,  14.5434,  35.3643,2,  35.3658,2, 206.6000,2,   206.0,2,    3.42,2,    7.89,2,    0.01,2,    0.65,2,   2.787,2,   1.607,2,   1.3230,2,  2111.1,2,  2321.8,2,    533.4,2,    20.00,   7.8765,2,    25.00,-999.000,9,-999.0000,9, -999.00,9,  14.5487,2, -999.00,9,  -999.0,9,  -999.0,   0.938,3, -999.00,9, -999.00,9,  150.60,  14.5210
33RO20100308,      A13.5,      66,          1,         20,      11715,2,20100330,       2329,      -21.5,     1.3543,       5514,   252.1,  11.9984,  35.0433,2,  35.0441,2, 180.4000,2,   180.6,2,    5.74,2,   15.85,2,    0.00,2,    1.12,2,   2.988,2,   1.655,2,   1.0420,2,  2147.5,2,  2304.3,2,    710.4,2,    20.00,   7.7638,2,    25.00,-999.000,9,-999.0000,9, -999.00,9,  11.9990,2, -999.00,9,  -999.0,9,  -999.0,   1.033,3, -999.00,9, -999.00,9,  252.10,  11.9654
33RO20100308,      A13.5,      66,          1,         19,      11007,2,20100330,       2329,      -21.5,     1.3543,       5514,   349.1,   9.9452,  34.8087,2,  34.8072,2, 152.9000,2,   148.1,2,   10.22,2,   23.67,2,    0.00,2,    1.61,2,   2.741,2,   1.448,2,   0.7060,2,  2181.1,2,  2295.6,2,    930.1,2,    20.00,   7.6523,2,    25.00,-999.000,9,-999.0000,9, -999.00,9,   9.9361,2, -999.00,9,  -999.0,9,  -999.0,   1.099,3, -999.00,9, -999.00,9,  349.10,   9.9046
33RO20100308,      A13.5,      66,          1,         18,      11710,2,20100330,       2329,      -21.5,     1.3543,       5514,   499.3,   7.0720,  34.5622,2,  34.5646,2, 128.8000,2,   126.2,2,   18.71,2,   32.60,2,    0.00,2,    2.17,2,   1.602,2,   0.804,2,   0.2640,2,  2214.1,2,  2291.0,2,   1220.8,2,    20.00,   7.5444,2,    25.00,-999.000,9,-999.0000,9, -999.00,9,   7.0764,2, -999.00,9,  -999.0,9,  -999.0,   1.167,3, -999.00,9, -999.00,9,  499.30,   7.0243
33RO20100308,      A13.5,      66,          1,         17,      11025,2,20100330,       2329,      -21.5,     1.3543,       5514,   649.5,   5.4034,  34.4730,2,  34.4758,2, 133.9000,2,   134.7,2,   26.41,2,   35.15,2,    0.00,2,    2.35,2,   0.562,2,   0.277,2,   0.0000,2,  2221.6,2,  2294.8,2,   1259.4,6,    20.00,   7.5312,2,    25.00,-999.000,9,-999.0000,9, -999.00,9,   5.4009,2, -999.00,9,  -999.0,9,  -999.0,   0.739,3, -999.00,9, -999.00,9,  649.50,   5.3490
33RO20100308,      A13.5,      66,          1,         16,      11709,2,20100330,       2329,      -21.5,     1.3543,       5514,   801.9,   4.3745,  34.4505,2,  34.4503,2, 161.3000,2,   158.4,2,   33.60,2,   34.36,2,    0.00,2,    2.34,2,   0.292,2,   0.146,2,   0.0000,2,  2218.9,2,  2299.2,2,   1189.3,2,    20.00,   7.5576,2,    25.00,-999.000,9,-999.0000,9, -999.00,9,   4.3746,2, -999.00,9,  -999.0,9,  -999.0,   0.607,3, -999.00,9, -999.00,9,  801.90,   4.3128
33RO20100308,      A13.5,      66,          1,         15,      11006,2,20100330,       2329,      -21.5,     1.3543,       5514,   951.6,   3.9190,  34.5006,2,  34.5018,2, 166.5000,2,   166.8,2,   37.74,2,   33.46,2,    0.00,2,    2.29,2,   0.121,2,   0.066,2,   0.0780,2,  2219.3,2,  2305.2,2,   1142.7,2,    20.00,   7.5721,2,    25.00,-999.000,9,-999.0000,9, -999.00,9,   3.9188,2, -999.00,9,  -999.0,9,  -999.0,   0.369,3, -999.00,9, -999.00,9,  951.60,   3.8479
33RO20100308,      A13.5,      66,          1,         14,      11708,2,20100330,       2329,      -21.5,     1.3543,       5514,  1099.8,   3.7244,  34.5817,2,  34.5840,2, 175.5000,2,   175.5,2,   39.03,2,   31.90,2,    0.00,2,    2.19,2,-999.000,9,-999.000,9,-999.0000,9,  2217.8,2,  2309.2,2,   1085.4,2,    20.00,   7.5920,2,    25.00,-999.000,9,-999.0000,9, -999.00,9,   3.7242,2, -999.00,9,  -999.0,9,  -999.0,-999.000,9, -999.00,9, -999.00,9, 1099.80,   3.6425
33RO20100308,      A13.5,      66,          1,         13,      11031,2,20100330,       2329,      -21.5,     1.3543,       5514,  1302.1,   3.6681,  34.7154,2,  34.7163,2, 189.0000,2,   189.8,2,   36.26,2,   29.00,2,    0.00,2,    1.98,2,   0.022,2,   0.012,2,   0.0000,2,  2209.0,2,  2318.4,2,    992.0,2,    20.00,   7.6278,2,    25.00,-999.000,9,-999.0000,9, -999.00,9,   3.6679,2, -999.00,9,  -999.0,9,  -999.0,   0.119,3, -999.00,9, -999.00,9, 1302.10,   3.5695
33RO20100308,      A13.5,      66,          1,         12,      11027,2,20100330,       2329,      -21.5,     1.3543,       5514,  1501.0,   3.5421,  34.7990,2,  34.7978,2, 204.0000,2,   204.9,2,   34.32,2,   26.59,2,    0.00,2,    1.81,2,-999.000,9,-999.000,9,-999.0000,9,  2200.0,2,  2316.4,3,    919.1,2,    20.00,   7.6583,2,    25.00,-999.000,9,-999.0000,9, -999.00,9,   3.5428,2, -999.00,9,  -999.0,9,  -999.0,-999.000,9, -999.00,9, -999.00,9, 1501.00,   3.4274
33RO20100308,      A13.5,      66,          1,         11,      11707,2,20100330,       2329,      -21.5,     1.3543,       5514,  1700.4,   3.3615,  34.8507,2,  34.8536,2, 221.1000,2,   221.0,2,   33.57,2,   24.48,2,    0.00,2,    1.66,2,-999.000,5,-999.000,5,-999.0000,5,  2192.2,2,  2323.7,2,    858.4,2,    20.00,   7.6870,2,    25.00,-999.000,9,-999.0000,9, -999.00,9,   3.3613,2, -999.00,9,  -999.0,9,  -999.0,-999.000,5, -999.00,9, -999.00,9, 1700.40,   3.2312
33RO20100308,      A13.5,      66,          1,         10,      11003,2,20100330,       2329,      -21.5,     1.3543,       5514,  1999.9,   3.1027,  34.8973,2,  34.8971,2, 236.3000,2,   236.7,2,   33.03,2,   22.51,2,    0.00,2,    1.52,2,-999.000,9,-999.000,9,-999.0000,9,  2183.4,2,  2327.4,2,    806.9,2,    20.00,   7.7140,2,    25.00,-999.000,9,-999.0000,9, -999.00,9,   3.1030,2, -999.00,9,  -999.0,9,  -999.0,-999.000,9, -999.00,9, -999.00,9, 1999.90,   2.9487
33RO20100308,      A13.5,      66,          1,          9,      11706,2,20100330,       2329,      -21.5,     1.3543,       5514,  2299.7,   2.8328,  34.8939,2,  34.8959,2, 238.6000,2,   239.6,2,   37.72,2,   22.51,2,    0.00,2,    1.52,2,   0.005,2,   0.004,2,   0.0000,2,  2187.3,2,  2330.1,2,    802.8,2,    20.00,   7.7170,2,    25.00,-999.000,9,-999.0000,9, -999.00,9,   2.8330,2, -999.00,9,  -999.0,9,  -999.0,   0.066,3, -999.00,9, -999.00,9, 2299.70,   2.6553
33RO20100308,      A13.5,      66,          1,          8,      11033,2,20100330,       2329,      -21.5,     1.3543,       5514,  2700.6,   2.6098,  34.8906,2,  34.8904,2, 236.7000,2,   236.8,2,   43.35,2,   22.86,2,    0.00,2,    1.55,2,-999.000,9,-999.000,9,-999.0000,9,  2194.3,2,  2334.1,2,    804.4,2,    20.00,   7.7142,2,    25.00,-999.000,9,-999.0000,9, -999.00,9,   2.6094,2, -999.00,9,  -999.0,9,  -999.0,-999.000,9, -999.00,9, -999.00,9, 2700.60,   2.3977
33RO20100308,      A13.5,      66,          1,          7,      11705,2,20100330,       2329,      -21.5,     1.3543,       5514,  3101.5,   2.4856,  34.8888,2,  34.8905,2, 234.5000,2,   234.6,2,   47.36,6,   23.28,6,    0.00,6,    1.57,6,   0.002,2,   0.003,2,   0.0000,2,  2201.5,2,  2340.7,2,    808.9,2,    20.00,   7.7126,2,    25.00,-999.000,9,-999.0000,9, -999.00,9,   2.4856,2, -999.00,9,  -999.0,9,  -999.0,   0.011,3, -999.00,9, -999.00,9, 3101.50,   2.2358
33RO20100308,      A13.5,      66,          1,          6,      11029,2,20100330,       2329,      -21.5,     1.3543,       5514,  3499.7,   2.4117,  34.8894,2,  34.8896,2, 231.3000,2,   232.4,2,   50.05,2,   23.35,2,    0.00,2,    1.58,2,-999.000,9,-999.000,9,-999.0000,9,  2209.0,2,  2347.9,2,    807.7,2,    20.00,   7.7141,2,    25.00,-999.000,9,-999.0000,9, -999.00,9,   2.4113,2, -999.00,9,  -999.0,9,  -999.0,-999.000,9, -999.00,9, -999.00,9, 3499.70,   2.1216
33RO20100308,      A13.5,      66,          1,          5,      11704,2,20100330,       2329,      -21.5,     1.3543,       5514,  3901.2,   2.3921,  34.8888,2,  34.8882,2, 232.3000,2,   232.8,2,   51.00,2,   23.35,2,    0.00,2,    1.58,2,-999.000,9,-999.000,9,-999.0000,9,  2211.7,2,  2350.2,2,    803.7,2,    20.00,   7.7175,2,    25.00,-999.000,9,-999.0000,9, -999.00,9,   2.3918,2, -999.00,9,  -999.0,9,  -999.0,-999.000,9, -999.00,9, -999.00,9, 3901.20,   2.0581
33RO20100308,      A13.5,      66,          1,          4,      11030,2,20100330,       2329,      -21.5,     1.3543,       5514,  4299.8,   2.3933,  34.8868,2,  34.8860,2, 232.4000,2,   233.2,2,   51.71,2,   23.34,2,    0.00,2,    1.58,2,   0.008,2,   0.015,3,   0.1890,4,  2212.1,2,  2355.5,2,    799.5,2,    20.00,   7.7195,2,    25.00,-999.000,9,-999.0000,9, -999.00,9,   2.3933,2, -999.00,9,  -999.0,9,  -999.0,   0.023,3, -999.00,9, -999.00,9, 4299.80,   2.0132
33RO20100308,      A13.5,      66,          1,          3,      11703,2,20100330,       2329,      -21.5,     1.3543,       5514,  4699.5,   2.4145,  34.8847,2,  34.8840,2, 233.3000,2,   234.1,2,   52.28,6,   23.39,6,    0.00,6,    1.57,6,-999.000,9,-999.000,9,-999.0000,9,  2214.3,2,  2358.8,2,    798.0,2,    20.00,   7.7189,2,    25.00,-999.000,9,-999.0000,9, -999.00,9,   2.4142,2, -999.00,9,  -999.0,9,  -999.0,-999.000,9, -999.00,9, -999.00,9, 4699.50,   1.9855
33RO20100308,      A13.5,      66,          1,          2,      11702,2,20100330,       2329,      -21.5,     1.3543,       5514,  5100.4,   2.4471,  34.8829,2,  34.8819,2, 234.9000,2,   234.4,2,   52.63,6,   23.41,6,    0.00,6,    1.58,6,-999.000,9,-999.000,9,-999.0000,9,  2214.4,2,  2360.1,2,    797.6,2,    20.00,   7.7214,2,    25.00,-999.000,9,-999.0000,9, -999.00,9,   2.4468,2, -999.00,9,  -999.0,9,  -999.0,-999.000,9, -999.00,9, -999.00,9, 5100.40,   1.9667
33RO20100308,      A13.5,      66,          1,          1,      11701,2,20100330,       2329,      -21.5,     1.3543,       5514,  5591.2,   2.5031,  34.8815,2,  34.8814,2, 235.4000,2,   233.9,6,   52.83,6,   23.49,6,    0.00,6,    1.58,6,   0.004,2,   0.005,2,   0.0000,2,  2215.2,6,  2358.3,6,    795.2,2,    20.00,   7.7222,2,    25.00,-999.000,9,-999.0000,9, -999.00,9,   2.5025,2, -999.00,9,  -999.0,9,  -999.0,   0.037,3, -999.00,9, -999.00,9, 5591.20,   1.9563