BOTTLE,20130404CCHSIOCBG
EXPOCODE,SECT_ID,STNNBR,CASTNO,SAMPNO,BTLNBR,BTLNBR_FLAG_W,DATE,TIME,LATITUDE,LONGITUDE,DEPTH,CTDPRS,CTDTMP,CTDSAL,CTDSAL_FLAG_W,SALNTY,SALNTY_FLAG_W,CTDOXY,CTDOXY_FLAG_W,OXYGEN,OXYGEN_FLAG_W,SILCAT,SILCAT_FLAG_W,NITRAT,NITRAT_FLAG_W,NITRIT,NITRIT_FLAG_W,PHSPHT,PHSPHT_FLAG_W,CFC-11,CFC-11_FLAG_W,CFC-12,CFC-12_FLAG_W,SF6,SF6_FLAG_W,TCARBN,TCARBN_FLAG_W,ALKALI,ALKALI_FLAG_W,FCO2,FCO2_FLAG_W,FCO2TMP,PH_TOT,PH_TOT_FLAG_W,PH_TMP,TRITUM,TRITUM_FLAG_W,HELIUM,HELIUM_FLAG_W,DELHE3,DELHE3_FLAG_W,REFTMP,REFTMP_FLAG_W,DELC13,DELC13_FLAG_W,DELC14,DELC14_FLAG_W,C14ERR,CCL4,CCL4_FLAG_W,DOC,DOC_FLAG_W,TDN,TDN_FLAG_W,CTDRAW,THETA
,,,,,,,,,,,METERS,DBAR,ITS-90,PSS-78,,PSS-78,,UMOL/KG,,UMOL/KG,,UMOL/KG,,UMOL/KG,,UMOL/KG,,UMOL/KG,,PMOL/KG,,PMOL/KG,,FMOL/KG,,UMOL/KG,,UMOL/KG,,UATM,,DEG C,,,DEG C,TU,,NMOL/KG,,PERCNT,,DEG C,,/MILLE,,/MILLE,,/MILLE,PMOL/KG,,UMOL/KG,,UMOL/KG,,DBAR,DEG C
33RO20100308,      A13.5,      32,          1,         24,      11714,2,20100322,       0447,      -38.5,     0.9792,       5204,     5.3,  16.2059,  34.6221,2,  34.6229,2, 258.5000,2,   257.8,2,    0.56,2,    0.63,2,    0.04,2,    0.28,2,   2.645,2,   1.608,2,   1.4520,2,  2046.0,6,  2299.1,6,    412.9,2,    20.00,   7.9748,2,    25.00,-999.000,9,-999.0000,9, -999.00,9,  16.2065,2, -999.00,9,  -999.0,9,  -999.0,-999.000,5, -999.00,9, -999.00,9,    5.30,  16.2051
33RO20100308,      A13.5,      32,          1,         23,      11713,2,20100322,       0447,      -38.5,     0.9792,       5204,    50.0,  14.3015,  34.6024,2,  34.6043,2, 250.7000,2,   250.4,2,    0.74,2,    2.80,2,    0.13,2,    0.48,2,-999.000,9,-999.000,9,-999.0000,9,  2070.8,2,  2296.8,2,    463.1,6,    20.00,   7.9229,2,    25.00,-999.000,9,-999.0000,9, -999.00,9,  14.2782,2, -999.00,9,  -999.0,9,  -999.0,-999.000,9, -999.00,9, -999.00,9,   50.00,  14.2942
33RO20100308,      A13.5,      32,          1,         22,      11712,2,20100322,       0447,      -38.5,     0.9792,       5204,    99.8,  11.6851,  34.6620,2,  34.6651,2, 251.5000,2,   251.5,2,    1.61,2,    8.04,2,    0.13,2,    0.73,2,   3.184,6,   1.900,6,   1.7050,6,  2097.8,2,  2293.8,2,    549.4,2,    20.00,   7.8591,2,    25.00,-999.000,9,-999.0000,9, -999.00,9,  11.6855,2, -999.00,9,  -999.0,9,  -999.0,-999.000,5, -999.00,9, -999.00,9,   99.80,  11.6724
33RO20100308,      A13.5,      32,          1,         21,      11010,2,20100322,       0447,      -38.5,     0.9792,       5204,   150.2,  11.1077,  34.7606,2,  34.7587,2, 252.4000,2,   252.3,6,    2.21,2,    9.28,2,    0.01,2,    0.79,2,   3.236,2,   1.927,2,   1.6730,2,  2105.4,2,  2298.2,2,    566.6,2,    20.00,   7.8495,2,    25.00,-999.000,9,-999.0000,9, -999.00,9,  11.1077,2, -999.00,9,  -999.0,9,  -999.0,-999.000,5, -999.00,9, -999.00,9,  150.20,  11.0892
33RO20100308,      A13.5,      32,          1,         20,      11715,2,20100322,       0447,      -38.5,     0.9792,       5204,   250.3,   9.8089,  34.6902,2,  34.6924,2, 240.6000,2,   240.9,2,    3.76,2,   13.94,2,    0.01,2,    1.05,2,   3.327,2,   1.937,2,   1.5810,2,  2125.0,2,  2294.6,2,    645.5,2,    20.00,   7.7974,2,    25.00,-999.000,9,-999.0000,9, -999.00,9,   9.8079,2, -999.00,9,  -999.0,9,  -999.0,-999.000,5, -999.00,9, -999.00,9,  250.30,   9.7802
33RO20100308,      A13.5,      32,          1,         19,      11007,2,20100322,       0447,      -38.5,     0.9792,       5204,   349.2,   8.4041,  34.5537,2,  34.5552,2, 239.6000,2,   238.9,2,    5.53,2,   18.00,2,    0.01,2,    1.29,2,   3.580,2,   2.050,2,   1.5380,2,  2137.8,2,  2288.4,2,    724.3,2,    20.00,   7.7507,2,    25.00,-999.000,9,-999.0000,9, -999.00,9,   8.4101,2, -999.00,9,  -999.0,9,  -999.0,-999.000,5, -999.00,9, -999.00,9,  349.20,   8.3676
33RO20100308,      A13.5,      32,          1,         18,      11710,2,20100322,       0447,      -38.5,     0.9792,       5204,   449.9,   6.8616,  34.4035,2,  34.4034,2, 229.8000,2,   228.0,2,   10.05,2,   23.51,2,    0.00,2,    1.64,2,-999.000,9,-999.000,9,-999.0000,9,  2156.8,2,  2283.5,2,    832.0,2,    20.00,   7.6955,2,    25.00,-999.000,9,-999.0000,9, -999.00,9,   6.8615,2, -999.00,9,  -999.0,9,  -999.0,-999.000,9, -999.00,9, -999.00,9,  449.90,   6.8196
33RO20100308,      A13.5,      32,          1,         17,      11025,2,20100322,       0447,      -38.5,     0.9792,       5204,   599.8,   5.0378,  34.2510,2,  34.2512,2, 234.6000,2,   237.7,2,   15.31,2,   27.14,2,    0.00,2,    1.88,2,   3.665,2,   1.954,2,   1.1140,2,  2165.1,2,  2282.2,2,    906.4,2,    20.00,   7.6636,2,    25.00,-999.000,9,-999.0000,9, -999.00,9,   5.0354,2, -999.00,9,  -999.0,9,  -999.0,-999.000,5, -999.00,9, -999.00,9,  599.80,   4.9896
33RO20100308,      A13.5,      32,          1,         16,      11709,2,20100322,       0447,      -38.5,     0.9792,       5204,   750.5,   4.1788,  34.2342,2,  34.2329,2, 238.4000,2,   237.4,2,   22.10,6,   28.95,6,    0.00,6,    2.02,6,-999.000,9,-999.000,9,-999.0000,9,  2175.5,2,  2286.2,2,    940.0,2,    20.00,   7.6475,2,    25.00,-999.000,9,-999.0000,9, -999.00,9,   4.1778,2, -999.00,9,  -999.0,9,  -999.0,-999.000,9, -999.00,9, -999.00,9,  750.50,   4.1227
33RO20100308,      A13.5,      32,          1,         15,      11006,2,20100322,       0447,      -38.5,     0.9792,       5204,   899.2,   3.6326,  34.2611,2,  34.2632,2, 226.5000,2,   226.6,2,   30.15,6,   30.61,6,    0.00,6,    2.13,6,   2.698,2,   1.366,2,   0.6200,2,  2190.4,2,  2293.6,2,   1001.5,2,    20.00,   7.6277,2,    25.00,-999.000,9,-999.0000,9, -999.00,9,   3.6344,2, -999.00,9,  -999.0,9,  -999.0,   3.520,3, -999.00,9, -999.00,9,  899.20,   3.5682
33RO20100308,      A13.5,      32,          1,         14,      11708,2,20100322,       0447,      -38.5,     0.9792,       5204,  1050.5,   3.2280,  34.3197,2,  34.3203,2, 210.7000,2,   211.1,2,   40.77,2,   32.06,2,    0.00,2,    2.24,2,-999.000,9,-999.000,9,-999.0000,9,  2204.4,2,  2303.6,2,   1068.2,2,    20.00,   7.6026,2,    25.00,-999.000,9,-999.0000,9, -999.00,9,   3.2272,2, -999.00,9,  -999.0,9,  -999.0,-999.000,9, -999.00,9, -999.00,9, 1050.50,   3.1547
33RO20100308,      A13.5,      32,          1,         13,      11031,2,20100322,       0447,      -38.5,     0.9792,       5204,  1200.2,   3.0261,  34.4091,2,  34.4113,2, 193.4000,2,   194.2,2,   50.95,2,   32.99,2,    0.00,2,    2.30,2,   1.250,2,   0.604,2,   0.2750,2,  2223.4,2,  2315.1,2,   1115.1,2,    20.00,   7.5845,2,    25.00,-999.000,9,-999.0000,9, -999.00,9,   3.0254,2, -999.00,9,  -999.0,9,  -999.0,   1.939,3, -999.00,9, -999.00,9, 1200.20,   2.9427
33RO20100308,      A13.5,      32,          1,         12,      11027,2,20100322,       0447,      -38.5,     0.9792,       5204,  1399.9,   2.8437,  34.5231,2,  34.5242,2, 183.2000,2,   183.2,2,   59.81,2,   32.95,2,    0.00,2,    2.30,2,-999.000,9,-999.000,9,-999.0000,9,  2234.9,2,  2325.4,2,   1128.5,2,    20.00,   7.5803,2,    25.00,-999.000,9,-999.0000,9, -999.00,9,   2.8430,2, -999.00,9,  -999.0,9,  -999.0,-999.000,9, -999.00,9, -999.00,9, 1399.90,   2.7459
33RO20100308,      A13.5,      32,          1,         11,      11707,2,20100322,       0447,      -38.5,     0.9792,       5204,  1599.3,   2.7612,  34.6321,2,  34.6326,2, 181.2000,2,   181.6,2,   64.42,2,   31.74,2,    0.00,2,    2.22,2,   0.282,2,   0.140,2,   0.0430,2,  2237.6,2,  2334.0,2,   1095.9,2,    20.00,   7.5927,2,    25.00,-999.000,9,-999.0000,9, -999.00,9,   2.7609,2, -999.00,9,  -999.0,9,  -999.0,   0.586,3, -999.00,9, -999.00,9, 1599.30,   2.6478
33RO20100308,      A13.5,      32,          1,         10,      11003,2,20100322,       0447,      -38.5,     0.9792,       5204,  1899.3,   2.6972,  34.7379,2,  34.7377,2, 194.3000,2,   195.7,2,   62.07,2,   29.25,2,    0.00,2,    2.03,2,-999.000,9,-999.000,9,-999.0000,9,  2228.9,2,  2337.9,2,   1006.0,2,    20.00,   7.6270,2,    25.00,-999.000,9,-999.0000,9, -999.00,9,   2.6970,2, -999.00,9,  -999.0,9,  -999.0,-999.000,9, -999.00,9, -999.00,9, 1899.30,   2.5587
33RO20100308,      A13.5,      32,          1,          9,      11706,2,20100322,       0447,      -38.5,     0.9792,       5204,  2199.8,   2.6074,  34.8010,2,  34.8011,2, 208.5000,2,   210.2,2,   58.55,2,   27.15,2,    0.00,2,    1.88,2,   0.045,2,   0.022,2,   0.0000,2,  2217.3,2,  2337.2,2,    937.3,2,    20.00,   7.6572,2,    25.00,-999.000,9,-999.0000,9, -999.00,9,   2.6069,2, -999.00,9,  -999.0,9,  -999.0,   0.149,3, -999.00,9, -999.00,9, 2199.80,   2.4432
33RO20100308,      A13.5,      32,          1,          8,      11033,2,20100322,       0447,      -38.5,     0.9792,       5204,  2499.7,   2.5055,  34.8270,2,  34.8271,2, 218.1000,2,   218.6,2,   57.35,2,   25.93,2,    0.00,2,    1.79,2,-999.000,9,-999.000,9,-999.0000,9,  2212.0,2,  2337.9,2,    895.9,2,    20.00,   7.6758,2,    25.00,-999.000,9,-999.0000,9, -999.00,9,   2.5059,2, -999.00,9,  -999.0,9,  -999.0,-999.000,9, -999.00,9, -999.00,9, 2499.70,   2.3151
33RO20100308,      A13.5,      32,          1,          7,      11705,2,20100322,       0447,      -38.5,     0.9792,       5204,  2900.0,   2.3631,  34.8391,2,  34.8423,2, 224.2000,2,   224.8,2,   58.94,2,   25.44,2,    0.00,2,    1.76,2,   0.015,2,   0.008,2,   0.0000,2,  2210.9,2,  2342.8,2,    877.0,2,    20.00,   7.6856,2,    25.00,-999.000,9,-999.0000,9, -999.00,9,   2.3629,2, -999.00,9,  -999.0,9,  -999.0,   0.062,3, -999.00,9, -999.00,9, 2900.00,   2.1366
33RO20100308,      A13.5,      32,          1,          6,      11029,2,20100322,       0447,      -38.5,     0.9792,       5204,  3300.1,   2.1691,  34.8357,2,  34.8366,2, 226.1000,2,   226.6,2,   64.38,2,   25.62,2,    0.00,2,    1.77,2,-999.000,9,-999.000,9,-999.0000,9,  2215.6,2,  2345.0,2,    869.5,2,    20.00,   7.6872,2,    25.00,-999.000,9,-999.0000,9, -999.00,9,   2.1693,2, -999.00,9,  -999.0,9,  -999.0,-999.000,9, -999.00,9, -999.00,9, 3300.10,   1.9063
33RO20100308,      A13.5,      32,          1,          5,      11704,2,20100322,       0447,      -38.5,     0.9792,       5204,  3699.8,   1.7519,  34.7971,2,  34.7963,2, 220.9000,2,   221.9,2,   81.25,6,   27.51,6,    0.00,6,    1.91,6,   0.032,2,   0.016,2,   0.0000,2,  2232.2,2,  2356.6,2,    913.3,2,    20.00,   7.6689,2,    25.00,-999.000,9,-999.0000,9, -999.00,9,   1.7529,2, -999.00,9,  -999.0,9,  -999.0,   0.101,3, -999.00,9, -999.00,9, 3699.80,   1.4577
33RO20100308,      A13.5,      32,          1,          4,      11030,2,20100322,       0447,      -38.5,     0.9792,       5204,  4099.4,   1.2985,  34.7553,2,  34.7546,2, 217.7000,2,   218.7,6,   98.92,6,   29.54,6,    0.00,6,    2.05,6,-999.000,9,-999.000,9,-999.0000,9,  2246.3,2,  2362.7,2,    956.0,2,    20.00,   7.6478,2,    25.00,-999.000,9,-999.0000,9, -999.00,9,   1.2978,2, -999.00,9,  -999.0,9,  -999.0,-999.000,9, -999.00,9, -999.00,9, 4099.40,   0.9740
33RO20100308,      A13.5,      32,          1,          3,      11703,2,20100322,       0447,      -38.5,     0.9792,       5204,  4499.0,   1.1335,  34.7377,2,  34.7392,2, 217.3000,2,   218.1,2,  106.25,6,   30.37,6,    0.00,6,    2.11,6,   0.075,6,   0.037,6,   0.0090,6,  2251.9,2,  2365.2,2,    976.3,2,    20.00,   7.6398,2,    25.00,-999.000,9,-999.0000,9, -999.00,9,   1.1329,2, -999.00,9,  -999.0,9,  -999.0,   0.211,3, -999.00,9, -999.00,9, 4499.00,   0.7696
33RO20100308,      A13.5,      32,          1,          2,      11702,2,20100322,       0447,      -38.5,     0.9792,       5204,  4899.6,   1.1373,  34.7337,2,  34.7329,2, 217.9000,2,   217.4,2,  107.86,6,   30.51,6,    0.00,6,    2.13,6,-999.000,9,-999.000,9,-999.0000,9,  2253.7,2,  2364.8,2,    980.3,6,    20.00,   7.6388,2,    25.00,-999.000,9,-999.0000,9, -999.00,9,   1.1370,2, -999.00,9,  -999.0,9,  -999.0,-999.000,9, -999.00,9, -999.00,9, 4899.60,   0.7269
33RO20100308,      A13.5,      32,          1,          1,      11701,2,20100322,       0447,      -38.5,     0.9792,       5204,  5275.2,   1.1758,  34.7324,2,  34.7334,2, 217.4000,2,   218.5,2,  108.34,6,   30.59,6,    0.01,6,    2.14,6,   0.086,2,   0.043,2,   0.0120,2,  2255.1,6,  2369.7,6,    978.3,2,    20.00,   7.6387,2,    25.00,-999.000,9,-999.0000,9, -999.00,9,   1.1751,2, -999.00,9,  -999.0,9,  -999.0,   0.222,3, -999.00,9, -999.00,9, 5275.20,   0.7186