BOTTLE,20130404CCHSIOCBG
EXPOCODE,SECT_ID,STNNBR,CASTNO,SAMPNO,BTLNBR,BTLNBR_FLAG_W,DATE,TIME,LATITUDE,LONGITUDE,DEPTH,CTDPRS,CTDTMP,CTDSAL,CTDSAL_FLAG_W,SALNTY,SALNTY_FLAG_W,CTDOXY,CTDOXY_FLAG_W,OXYGEN,OXYGEN_FLAG_W,SILCAT,SILCAT_FLAG_W,NITRAT,NITRAT_FLAG_W,NITRIT,NITRIT_FLAG_W,PHSPHT,PHSPHT_FLAG_W,CFC-11,CFC-11_FLAG_W,CFC-12,CFC-12_FLAG_W,SF6,SF6_FLAG_W,TCARBN,TCARBN_FLAG_W,ALKALI,ALKALI_FLAG_W,FCO2,FCO2_FLAG_W,FCO2TMP,PH_TOT,PH_TOT_FLAG_W,PH_TMP,TRITUM,TRITUM_FLAG_W,HELIUM,HELIUM_FLAG_W,DELHE3,DELHE3_FLAG_W,REFTMP,REFTMP_FLAG_W,DELC13,DELC13_FLAG_W,DELC14,DELC14_FLAG_W,C14ERR,CCL4,CCL4_FLAG_W,DOC,DOC_FLAG_W,TDN,TDN_FLAG_W,CTDRAW,THETA
,,,,,,,,,,,METERS,DBAR,ITS-90,PSS-78,,PSS-78,,UMOL/KG,,UMOL/KG,,UMOL/KG,,UMOL/KG,,UMOL/KG,,UMOL/KG,,PMOL/KG,,PMOL/KG,,FMOL/KG,,UMOL/KG,,UMOL/KG,,UATM,,DEG C,,,DEG C,TU,,NMOL/KG,,PERCNT,,DEG C,,/MILLE,,/MILLE,,/MILLE,PMOL/KG,,UMOL/KG,,UMOL/KG,,DBAR,DEG C
33RO20100308,      A13.5,      19,          1,         24,      11714,2,20100319,       0042,      -45.0,      1.247,       4578,     5.0,  10.3722,  34.1046,2,  34.1047,2, 284.2000,2,   281.9,2,    1.54,2,   12.32,2,    0.21,2,    0.95,2,   3.408,2,   2.060,2,   1.7930,2,  2077.8,6,  2277.5,6,    532.5,2,    20.00,   7.8668,2,    25.00,-999.000,9,-999.0000,9, -999.00,9,  10.3713,2,    2.00,2,     1.1,2,     2.9,-999.000,5,   51.67,2,   16.54,2,    5.00,  10.3716
33RO20100308,      A13.5,      19,          1,         23,      11713,2,20100319,       0042,      -45.0,      1.247,       4578,    49.8,   9.9339,  34.0927,2,  34.0935,2, 281.8000,2,   279.9,2,    1.55,2,   12.99,2,    0.22,2,    1.02,2,   3.478,2,   2.092,2,   1.7590,2,  2082.4,2,  2274.2,2,    545.2,6,    20.00,   7.8575,2,    25.00,-999.000,9,-999.0000,9, -999.00,9,   9.9419,2,    1.02,3,    -3.2,2,     2.9,-999.000,5,   51.39,2,   16.72,2,   49.80,   9.9283
33RO20100308,      A13.5,      19,          1,         22,      11712,2,20100319,       0042,      -45.0,      1.247,       4578,   101.2,   9.4988,  34.5506,2,  34.5479,2, 260.1000,2,   259.5,2,    2.88,2,   14.24,2,    0.06,2,    1.07,2,   3.477,6,   2.062,6,   1.8040,6,  2115.1,2,  2293.2,2,    612.7,2,    20.00,   7.8124,2,    25.00,-999.000,9,-999.0000,9, -999.00,9,   9.5012,2,    1.65,2,    19.3,2,     2.8,-999.000,5,   50.54,2,   17.15,2,  101.20,   9.4876
33RO20100308,      A13.5,      19,          1,         21,      11010,2,20100319,       0042,      -45.0,      1.247,       4578,   151.2,   8.5898,  34.5902,2,  34.5941,2, 257.9000,2,   256.8,2,    4.41,2,   16.00,2,    0.02,2,    1.16,2,   3.447,2,   2.013,2,   1.6960,2,  2125.7,2,  2291.3,2,    659.0,2,    20.00,   7.7868,2,    25.00,-999.000,9,-999.0000,9, -999.00,9,   8.5908,2,    1.26,2,    18.6,2,     3.1,-999.000,5,   48.10,2,   18.76,2,  151.20,   8.5740
33RO20100308,      A13.5,      19,          1,         20,      11715,2,20100319,       0042,      -45.0,      1.247,       4578,   200.4,   7.6792,  34.4783,2,  34.4737,2, 258.8000,2,   258.7,6,    5.42,2,   18.41,2,    0.02,2,    1.31,2,   3.665,2,   2.135,2,   1.6980,2,  2132.0,2,  2281.9,2,    698.8,2,    20.00,   7.7615,2,    25.00,-999.000,9,-999.0000,9, -999.00,9,   7.6777,2,    1.27,2,    14.2,2,     2.8,-999.000,5,   44.77,2,   20.47,2,  200.40,   7.6595
33RO20100308,      A13.5,      19,          1,         19,      11007,2,20100319,       0042,      -45.0,      1.247,       4578,   299.6,   6.0655,  34.3003,2,  34.2988,2, 250.0000,2,   249.5,2,    8.81,2,   23.56,2,    0.01,2,    1.63,2,   3.834,2,   2.199,2,   1.4720,2,  2148.3,2,  2279.3,2,    813.2,2,    20.00,   7.7032,2,    25.00,-999.000,9,-999.0000,9, -999.00,9,   6.0642,2,    1.19,2,     1.5,2,     2.8,-999.000,5,   42.96,2,   24.92,2,  299.60,   6.0397
33RO20100308,      A13.5,      19,          1,         18,      11710,2,20100319,       0042,      -45.0,      1.247,       4578,   399.8,   4.8867,  34.1960,2,  34.1947,2, 254.8000,2,   255.3,2,   11.90,2,   26.14,2,    0.01,2,    1.79,2,   3.947,2,   2.225,2,   1.3680,2,  2154.6,2,  2277.1,2,    861.7,2,    20.00,   7.6803,2,    25.00,-999.000,9,-999.0000,9, -999.00,9,   4.8858,2,    1.17,2,   -12.0,2,     2.6,-999.000,5,   41.14,2,   27.23,2,  399.80,   4.8557
33RO20100308,      A13.5,      19,          1,         17,      11025,4,20100319,       0042,      -45.0,      1.247,       4578,   500.5,   4.2787,  34.1770,4,  34.2260,4, 253.4000,4,   210.4,4,   25.34,4,   28.89,4,    0.00,4,    1.98,4,   0.233,4,   0.114,4,   0.0820,4,  2185.3,4,  2292.9,3,   1041.2,4,    20.00,   7.6100,2,    25.00,-999.000,9,-999.0000,9, -999.00,9,   4.2780,2, -999.00,9,  -999.0,9,  -999.0,-999.000,5,   41.25,2,   30.89,2,  500.50,   4.2419
33RO20100308,      A13.5,      19,          1,         16,      11709,2,20100319,       0042,      -45.0,      1.247,       4578,   649.9,   3.7406,  34.2013,2,  34.2008,2, 241.2000,2,   242.1,2,   23.52,6,   29.48,6,    0.00,6,    2.02,6,   3.290,2,   1.767,2,   0.9860,2,  2178.6,2,  2287.8,2,    954.5,2,    20.00,   7.6422,2,    25.00,-999.000,9,-999.0000,9, -999.00,9,   3.7403,2,    1.07,2,   -44.6,2,     2.7,-999.000,5,   40.61,2,   31.61,2,  649.90,   3.6948
33RO20100308,      A13.5,      19,          1,         15,      11006,2,20100319,       0042,      -45.0,      1.247,       4578,   799.7,   3.2079,  34.2573,2,  34.2563,2, 222.3000,2,   223.3,2,   35.10,2,   31.55,2,    0.00,2,    2.17,2,   2.589,2,   1.342,2,   0.6910,2,  2199.8,2,  2296.4,2,   1039.3,2,    20.00,   7.6100,2,    25.00,-999.000,9,-999.0000,9, -999.00,9,   3.2072,2,    0.92,2,   -75.1,2,     2.6,-999.000,5,   40.06,2,   32.69,2,  799.70,   3.1539
33RO20100308,      A13.5,      19,          1,         14,      11708,2,20100319,       0042,      -45.0,      1.247,       4578,   999.8,   2.9468,  34.3627,2,  34.3627,2, 199.2000,2,   198.9,2,   48.90,2,   33.22,2,    0.00,2,    2.30,2,   1.602,2,   0.800,2,   0.3460,2,  2221.1,2,  2310.1,2,   1118.7,2,    20.00,   7.5820,2,    25.00,-999.000,9,-999.0000,9, -999.00,9,   2.9461,2,    0.73,2,  -103.1,2,     2.4,-999.000,5,   39.81,2,   34.52,2,  999.80,   2.8796
33RO20100308,      A13.5,      19,          1,         13,      11031,2,20100319,       0042,      -45.0,      1.247,       4578,  1199.4,   2.7873,  34.4808,2,  34.4808,2, 182.8000,2,   182.7,2,   59.82,2,   33.61,2,    0.00,2,    2.32,2,   0.819,2,   0.413,2,   0.1880,2,  2236.6,2,  2319.6,2,   1156.6,2,    20.00,   7.5703,2,    25.00,-999.000,9,-999.0000,9, -999.00,9,   2.7861,2,    0.62,2,  -121.4,2,     2.5,-999.000,5,   39.45,2,   34.88,2, 1199.40,   2.7060
33RO20100308,      A13.5,      19,          1,         12,      11027,2,20100319,       0042,      -45.0,      1.247,       4578,  1400.2,   2.7165,  34.5805,2,  34.5806,2, 178.0000,2,   177.3,2,   65.54,2,   32.84,2,    0.00,2,    2.28,2,   0.455,2,   0.230,2,   0.0960,2,  2243.5,2,  2332.0,2,   1147.7,2,    20.00,   7.5744,2,    25.00,-999.000,9,-999.0000,9, -999.00,9,   2.7155,2,    0.55,2,  -129.4,2,     2.4,-999.000,5,   39.27,2,   34.78,2, 1400.20,   2.6199
33RO20100308,      A13.5,      19,          1,         11,      11707,2,20100319,       0042,      -45.0,      1.247,       4578,  1599.7,   2.7165,  34.6649,2,  34.6647,2, 181.7000,2,   181.3,2,   66.32,2,   31.50,2,    0.00,2,    2.17,2,   0.263,2,   0.132,2,   0.0300,2,  2242.4,2,  2335.4,2,   1095.6,2,    20.00,   7.5938,2,    25.00,-999.000,9,-999.0000,9, -999.00,9,   2.7158,2,    0.68,2,  -137.1,6,     1.7,-999.000,5,   39.16,2,   33.14,2, 1599.70,   2.6035
33RO20100308,      A13.5,      19,          1,         10,      11003,2,20100319,       0042,      -45.0,      1.247,       4578,  1800.1,   2.6465,  34.7307,2,  34.7298,2, 190.1000,2,   191.4,2,   66.14,2,   29.80,2,    0.00,2,    2.06,2,   0.168,2,   0.085,2,   0.0730,2,  2236.9,2,  2335.7,2,   1038.9,2,    20.00,   7.6148,2,    25.00,-999.000,9,-999.0000,9, -999.00,9,   2.6457,2,    0.65,2,  -134.8,2,     2.7,-999.000,5,   39.38,2,   32.06,2, 1800.10,   2.5173
33RO20100308,      A13.5,      19,          1,          9,      11706,2,20100319,       0042,      -45.0,      1.247,       4578,  2099.0,   2.5468,  34.7711,2,  34.7701,2, 199.6000,2,   200.1,2,   66.02,2,   28.60,2,    0.00,2,    1.96,2,   0.121,2,   0.058,2,   0.0000,2,  2232.5,2,  2339.4,2,    997.0,2,    20.00,   7.6342,2,    25.00,-999.000,9,-999.0000,9, -999.00,9,   2.5465,2, -999.00,9,  -999.0,9,  -999.0,-999.000,5,   39.43,2,   30.70,2, 2099.00,   2.3928
33RO20100308,      A13.5,      19,          1,          8,      11033,2,20100319,       0042,      -45.0,      1.247,       4578,  2400.5,   2.3209,  34.7908,2,  34.7901,2, 206.7000,2,   206.1,2,   70.35,2,   28.02,2,    0.01,2,    1.92,2,   0.094,2,   0.048,2,   0.0000,2,  2231.2,2,  2341.3,2,    974.3,2,    20.00,   7.6439,2,    25.00,-999.000,9,-999.0000,9, -999.00,9,   2.3203,2,    0.72,2,  -143.2,2,     2.7,-999.000,5,   38.90,2,   29.51,2, 2400.50,   2.1433
33RO20100308,      A13.5,      19,          1,          7,      11705,2,20100319,       0042,      -45.0,      1.247,       4578,  2700.4,   2.0915,  34.7899,2,  34.7889,2, 209.7000,2,   210.7,2,   75.97,2,   28.14,2,    0.00,2,    1.93,2,   0.089,2,   0.044,2,   0.0000,2,  2233.5,2,  2347.4,2,    958.6,2,    20.00,   7.6471,2,    25.00,-999.000,9,-999.0000,9, -999.00,9,   2.0907,2,    0.69,2,  -147.2,2,     2.4,-999.000,5,   39.23,2,   29.90,2, 2700.40,   1.8902
33RO20100308,      A13.5,      19,          1,          6,      11029,2,20100319,       0042,      -45.0,      1.247,       4578,  3000.4,   1.8829,  34.7900,2,  34.7893,2, 214.5000,2,   214.9,2,   79.76,2,   28.01,2,    0.00,2,    1.92,2,   0.075,2,   0.039,2,   0.0000,2,  2233.7,2,  2350.6,2,    942.8,2,    20.00,   7.6526,2,    25.00,-999.000,9,-999.0000,9, -999.00,9,   1.8823,2,    0.68,2,  -154.3,2,     2.4,-999.000,5,   39.05,2,   30.45,2, 3000.40,   1.6570
33RO20100308,      A13.5,      19,          1,          5,      11704,2,20100319,       0042,      -45.0,      1.247,       4578,  3300.5,   1.5626,  34.7685,2,  34.7680,2, 213.7000,2,   214.1,2,   91.01,6,   29.12,6,    0.00,6,    2.00,6,   0.091,2,   0.045,2,   0.0000,2,  2242.4,2,  2355.8,2,    967.0,2,    20.00,   7.6444,2,    25.00,-999.000,9,-999.0000,9, -999.00,9,   1.5630,2,    0.79,3,  -151.8,2,     2.5,-999.000,5,   39.07,2,   31.55,2, 3300.50,   1.3145
33RO20100308,      A13.5,      19,          1,          4,      11030,2,20100319,       0042,      -45.0,      1.247,       4578,  3599.5,   1.3126,  34.7469,2,  34.7456,2, 212.7000,2,   212.4,2,  100.87,6,   30.13,6,    0.00,6,    2.07,6,   0.125,2,   0.063,2,   0.0000,2,  2249.1,2,  2359.1,2,    990.5,2,    20.00,   7.6348,2,    25.00,-999.000,9,-999.0000,9, -999.00,9,   1.3121,2,    0.62,2,  -159.4,2,     2.6,-999.000,5,   39.13,2,   31.79,2, 3599.50,   1.0406
33RO20100308,      A13.5,      19,          1,          3,      11703,2,20100319,       0042,      -45.0,      1.247,       4578,  3900.4,   1.0930,  34.7278,2,  34.7272,2, 212.2000,2,   213.0,6,  109.40,6,   30.99,6,    0.00,6,    2.13,6,   0.175,6,   0.087,6,   0.0320,6,  2255.5,2,  2362.2,2,   1019.6,2,    20.00,   7.6249,2,    25.00,-999.000,9,-999.0000,9, -999.00,9,   1.0928,2,    0.62,2,  -159.9,2,     2.9,-999.000,5,   39.65,2,   32.09,2, 3900.40,   0.7958
33RO20100308,      A13.5,      19,          1,          2,      11702,2,20100319,       0042,      -45.0,      1.247,       4578,  4200.4,   0.9452,  34.7165,2,  34.7149,2, 213.8000,2,   213.2,2,  114.94,2,   31.45,2,    0.01,2,    2.17,2,   0.202,2,   0.099,2,   0.0890,2,  2259.1,2,  2363.7,2,   1027.3,6,    20.00,   7.6214,2,    25.00,-999.000,9,-999.0000,9, -999.00,9,   0.9444,2,    0.57,2,  -162.1,2,     2.4,-999.000,5,   39.96,2,   33.04,2, 4200.40,   0.6203
33RO20100308,      A13.5,      19,          1,          1,      11701,2,20100319,       0042,      -45.0,      1.247,       4578,  4649.5,   0.8571,  34.7018,2,  34.7018,2, 212.6000,2,   212.1,2,  120.97,2,   32.11,2,    0.01,2,    2.22,2,   0.283,2,   0.140,2,   0.0790,2,  2260.7,6,  2364.1,6,   1059.6,2,    20.00,   7.6094,2,    25.00,-999.000,9,-999.0000,9, -999.00,9,   0.8564,2,    0.51,2,  -158.6,2,     2.4,-999.000,5,   40.20,2,   33.34,2, 4649.50,   0.4851