BOTTLE,20130404CCHSIOCBG
EXPOCODE,SECT_ID,STNNBR,CASTNO,SAMPNO,BTLNBR,BTLNBR_FLAG_W,DATE,TIME,LATITUDE,LONGITUDE,DEPTH,CTDPRS,CTDTMP,CTDSAL,CTDSAL_FLAG_W,SALNTY,SALNTY_FLAG_W,CTDOXY,CTDOXY_FLAG_W,OXYGEN,OXYGEN_FLAG_W,SILCAT,SILCAT_FLAG_W,NITRAT,NITRAT_FLAG_W,NITRIT,NITRIT_FLAG_W,PHSPHT,PHSPHT_FLAG_W,CFC-11,CFC-11_FLAG_W,CFC-12,CFC-12_FLAG_W,SF6,SF6_FLAG_W,TCARBN,TCARBN_FLAG_W,ALKALI,ALKALI_FLAG_W,FCO2,FCO2_FLAG_W,FCO2TMP,PH_TOT,PH_TOT_FLAG_W,PH_TMP,TRITUM,TRITUM_FLAG_W,HELIUM,HELIUM_FLAG_W,DELHE3,DELHE3_FLAG_W,REFTMP,REFTMP_FLAG_W,DELC13,DELC13_FLAG_W,DELC14,DELC14_FLAG_W,C14ERR,CCL4,CCL4_FLAG_W,DOC,DOC_FLAG_W,TDN,TDN_FLAG_W,CTDRAW,THETA
,,,,,,,,,,,METERS,DBAR,ITS-90,PSS-78,,PSS-78,,UMOL/KG,,UMOL/KG,,UMOL/KG,,UMOL/KG,,UMOL/KG,,UMOL/KG,,PMOL/KG,,PMOL/KG,,FMOL/KG,,UMOL/KG,,UMOL/KG,,UATM,,DEG C,,,DEG C,TU,,NMOL/KG,,PERCNT,,DEG C,,/MILLE,,/MILLE,,/MILLE,PMOL/KG,,UMOL/KG,,UMOL/KG,,DBAR,DEG C
33RO20100308,      A13.5,      75,          1,         24,      11714,2,20100403,       0308,   -16.9998,     1.1082,       5515,     5.3,  24.6889,  36.5971,2,  36.5993,2, 208.5000,2,   208.8,2,    0.54,2,    0.10,2,    0.00,2,    0.20,2,   1.761,2,   1.095,2,   1.0990,2,  2079.1,6,  2403.4,6,    332.1,2,    20.00,   8.0560,2,    25.00,-999.000,9,-999.0000,9, -999.00,9,-999.0000,9, -999.00,9,  -999.0,9,  -999.0,   2.029,3, -999.00,9, -999.00,9,    5.30,  24.6878
33RO20100308,      A13.5,      75,          1,         23,      11713,2,20100403,       0308,   -16.9998,     1.1082,       5515,   100.5,  16.2421,  35.6658,2,  35.6601,2,  88.7000,2,    99.6,2,    4.92,2,   23.47,2,    0.12,2,    1.55,2,   2.280,2,   1.316,2,   1.0200,2,  2211.0,2,  2332.8,2,    946.6,2,    20.00,   7.6527,2,    25.00,-999.000,9,-999.0000,9, -999.00,9,-999.0000,9, -999.00,9,  -999.0,9,  -999.0,   0.676,3,   52.28,2,   26.70,2,  100.50,  16.2260
33RO20100308,      A13.5,      75,          1,         22,      11712,2,20100403,       0308,   -16.9998,     1.1082,       5515,   200.6,  11.7937,  35.0922,2,  35.0945,2,  67.5000,2,    66.4,2,   10.24,2,   28.68,2,    0.01,2,    1.83,2,   2.112,6,   1.129,6,   0.5680,6,  2221.4,2,  2305.4,2,   1187.3,2,    20.00,   7.5535,2,    25.00,-999.000,9,-999.0000,9, -999.00,9,-999.0000,9, -999.00,9,  -999.0,9,  -999.0,   0.444,3,   45.44,2,   31.51,2,  200.60,  11.7678
33RO20100308,      A13.5,      75,          1,         21,      11010,2,20100403,       0308,   -16.9998,     1.1082,       5515,   249.7,  10.6948,  34.9661,2,  34.9647,2,  57.6000,2,    61.2,2,   12.36,2,   31.28,2,    0.00,2,    1.99,2,   1.714,2,   0.899,2,   0.3890,2,  2230.6,2,  2297.2,2,   1315.0,2,    20.00,   7.5145,2,    25.00,-999.000,9,-999.0000,9, -999.00,9,-999.0000,9, -999.00,9,  -999.0,9,  -999.0,   0.429,3,   44.66,2,   33.25,2,  249.70,  10.6645
33RO20100308,      A13.5,      75,          1,         20,      11715,2,20100403,       0308,   -16.9998,     1.1082,       5515,   299.9,   9.5595,  34.8537,2,  34.8509,2,  41.6000,2,    44.5,2,   15.43,2,   35.38,2,    0.00,2,    2.25,2,   1.114,2,   0.578,2,   0.2380,2,  2247.2,2,  2296.1,2,   1535.1,2,    20.00,   7.4507,2,    25.00,-999.000,9,-999.0000,9, -999.00,9,-999.0000,9, -999.00,9,  -999.0,9,  -999.0,   0.360,3,   42.41,2,   37.03,2,  299.90,   9.5255
33RO20100308,      A13.5,      75,          1,         19,      11007,2,20100403,       0308,   -16.9998,     1.1082,       5515,   350.4,   8.7587,  34.7826,2,  34.7828,2,  31.4000,2,    33.2,2,   17.89,2,   38.19,2,    0.00,2,    2.43,2,   0.699,2,   0.359,2,   0.1370,2,  2257.9,2,  2292.9,2,   1695.3,6,    20.00,   7.4113,2,    25.00,-999.000,9,-999.0000,9, -999.00,9,-999.0000,9, -999.00,9,  -999.0,9,  -999.0,   0.262,3,   41.81,2,   39.64,2,  350.40,   8.7210
33RO20100308,      A13.5,      75,          1,         18,      11710,2,20100403,       0308,   -16.9998,     1.1082,       5515,   400.3,   7.9513,  34.7039,2,  34.7057,2,  54.4000,2,    49.6,2,   19.47,2,   38.41,2,    0.00,2,    2.45,2,   0.520,2,   0.268,2,   0.0570,2,  2252.6,6,  2290.4,6,   1632.9,2,    20.00,   7.4263,2,    25.00,-999.000,9,-999.0000,9, -999.00,9,-999.0000,9, -999.00,9,  -999.0,9,  -999.0,   0.275,3,   40.96,2,   39.78,2,  400.30,   7.9106
33RO20100308,      A13.5,      75,          1,         17,      11025,2,20100403,       0308,   -16.9998,     1.1082,       5515,   500.5,   6.6338,  34.5849,2,  34.5852,2,  81.6000,2,    84.4,2,   22.68,2,   37.74,2,    0.00,2,    2.45,2,   0.349,2,   0.181,2,   0.0970,2,  2240.2,2,  2293.1,2,   1479.8,2,    20.00,   7.4691,2,    25.00,-999.000,9,-999.0000,9, -999.00,9,-999.0000,9, -999.00,9,  -999.0,9,  -999.0,   0.337,3,   40.06,2,   39.10,2,  500.50,   6.5876
33RO20100308,      A13.5,      75,          1,         16,      11709,2,20100403,       0308,   -16.9998,     1.1082,       5515,   699.8,   5.0416,  34.4778,2,  34.4824,2, 129.2000,2,   128.8,6,   29.52,2,   36.46,2,    0.00,2,    2.42,2,   0.161,2,   0.085,2,   0.0000,2,  2228.1,2,  2294.5,2,   1308.1,2,    20.00,   7.5182,2,    25.00,-999.000,9,-999.0000,9, -999.00,9,-999.0000,9, -999.00,9,  -999.0,9,  -999.0,   0.345,3,   39.53,2,   37.58,2,  699.80,   4.9846
33RO20100308,      A13.5,      75,          1,         15,      11006,2,20100403,       0308,   -16.9998,     1.1082,       5515,   900.5,   4.1811,  34.4970,2,  34.4970,2, 145.5000,2,   145.7,2,   36.43,2,   35.60,2,    0.00,2,    2.39,2,   0.059,2,   0.032,2,   0.0000,2,  2230.6,2,  2304.0,2,   1252.1,2,    20.00,   7.5373,2,    25.00,-999.000,9,-999.0000,9, -999.00,9,-999.0000,9, -999.00,9,  -999.0,9,  -999.0,   0.190,3,   39.18,2,   37.04,2,  900.50,   4.1124
33RO20100308,      A13.5,      75,          1,         14,      11708,2,20100403,       0308,   -16.9998,     1.1082,       5515,  1101.2,   3.7992,  34.5977,2,  34.5979,2, 163.9000,2,   163.6,2,   38.60,2,   33.00,2,    0.00,2,    2.23,2,   0.024,2,   0.015,2,   0.0000,2,  2224.1,2,  2310.7,2,   1136.8,2,    20.00,   7.5739,2,    25.00,-999.000,9,-999.0000,9, -999.00,9,-999.0000,9, -999.00,9,  -999.0,9,  -999.0,   0.099,3,   39.43,2,   35.14,2, 1101.20,   3.7166
33RO20100308,      A13.5,      75,          1,         13,      11031,2,20100403,       0308,   -16.9998,     1.1082,       5515,  1300.1,   3.6988,  34.7366,2,  34.7370,2, 180.6000,2,   180.8,2,   35.63,2,   29.72,2,    0.00,2,    2.00,2,   0.003,2,   0.003,2,   0.0360,2,  2213.2,2,  2316.7,2,   1028.4,2,    20.00,   7.6141,2,    25.00,-999.000,9,-999.0000,9, -999.00,9,-999.0000,9, -999.00,9,  -999.0,9,  -999.0,   0.032,3,   39.31,2,   31.26,2, 1300.10,   3.6000
33RO20100308,      A13.5,      75,          1,         12,      11027,2,20100403,       0308,   -16.9998,     1.1082,       5515,  1500.6,   3.6408,  34.8305,2,  34.8295,2, 203.2000,2,   201.9,2,   31.29,2,   26.46,2,    0.00,2,    1.77,2,   0.002,2,   0.002,2,   0.0000,2,  2198.4,2,  2318.6,2,    918.9,2,    20.00,   7.6604,4,    25.00,-999.000,9,-999.0000,9, -999.00,9,-999.0000,9, -999.00,9,  -999.0,9,  -999.0,   0.034,3,   39.11,2,   28.24,2, 1500.60,   3.5249
33RO20100308,      A13.5,      75,          1,         11,      11707,2,20100403,       0308,   -16.9998,     1.1082,       5515,  1699.4,   3.4963,  34.8869,2,  34.8862,2, 220.0000,2,   219.4,2,   29.55,2,   24.18,2,    0.00,2,    1.60,2,   0.003,2,   0.004,2,   0.0000,2,  2188.0,2,  2320.3,2,    850.3,2,    20.00,   7.6918,2,    25.00,-999.000,9,-999.0000,9, -999.00,9,-999.0000,9, -999.00,9,  -999.0,9,  -999.0,   0.050,3,   39.35,2,   26.17,2, 1699.40,   3.3643
33RO20100308,      A13.5,      75,          1,         10,      11003,2,20100403,       0308,   -16.9998,     1.1082,       5515,  1900.4,   3.3337,  34.9087,2,  34.9090,2, 227.1000,2,   226.9,2,   30.34,6,   23.23,6,    0.00,6,    1.54,6,   0.003,2,   0.003,2,   0.0000,2,  2186.1,2,  2322.4,2,    825.5,2,    20.00,   7.7047,2,    25.00,-999.000,9,-999.0000,9, -999.00,9,-999.0000,9, -999.00,9,  -999.0,9,  -999.0,   0.041,3,   40.07,2,   24.72,2, 1900.40,   3.1855
33RO20100308,      A13.5,      75,          1,          9,      11706,2,20100403,       0308,   -16.9998,     1.1082,       5515,  2299.8,   3.0174,  34.9120,2,  34.9124,2, 231.8000,2,   231.4,6,   35.13,6,   22.99,6,    0.00,6,    1.52,6,   0.001,2,   0.002,2,   0.0000,2,  2188.1,2,  2328.3,2,    816.7,2,    20.00,   7.7103,2,    25.00,-999.000,9,-999.0000,9, -999.00,9,-999.0000,9, -999.00,9,  -999.0,9,  -999.0,   0.017,3,   39.85,2,   24.69,2, 2299.80,   2.8366
33RO20100308,      A13.5,      75,          1,          8,      11033,2,20100403,       0308,   -16.9998,     1.1082,       5515,  2700.4,   2.7370,  34.9042,2,  34.9038,2, 230.6000,2,   231.1,2,   41.57,6,   23.26,6,    0.00,6,    1.54,6,   0.001,2,   0.002,2,   0.0000,2,  2196.4,2,  2335.4,2,    822.5,2,    20.00,   7.7095,2,    25.00,-999.000,9,-999.0000,9, -999.00,9,-999.0000,9, -999.00,9,  -999.0,9,  -999.0,   0.007,3,   38.22,2,   25.28,2, 2700.40,   2.5224
33RO20100308,      A13.5,      75,          1,          7,      11705,2,20100403,       0308,   -16.9998,     1.1082,       5515,  3100.2,   2.5386,  34.8955,2,  34.8958,2, 229.1000,2,   228.9,2,   47.65,2,   23.67,2,    0.00,2,    1.58,2,   0.001,2,   0.002,2,   0.0340,2,  2205.6,2,  2344.3,2,    821.4,2,    20.00,   7.7062,2,    25.00,-999.000,9,-999.0000,9, -999.00,9,-999.0000,9, -999.00,9,  -999.0,9,  -999.0,   0.006,3,   38.11,2,   25.66,2, 3100.20,   2.2877
33RO20100308,      A13.5,      75,          1,          6,      11029,2,20100403,       0308,   -16.9998,     1.1082,       5515,  3500.1,   2.4207,  34.8916,2,  34.8922,2, 230.6000,2,   230.4,2,   50.51,2,   23.64,2,    0.00,2,    1.58,2,   0.003,2,   0.004,2,   0.0370,2,  2210.4,2,  2350.3,2,    813.3,2,    20.00,   7.7120,2,    25.00,-999.000,9,-999.0000,9, -999.00,9,-999.0000,9, -999.00,9,  -999.0,9,  -999.0,   0.011,3,   38.68,2,   24.90,2, 3500.10,   2.1303
33RO20100308,      A13.5,      75,          1,          5,      11704,2,20100403,       0308,   -16.9998,     1.1082,       5515,  3900.2,   2.3926,  34.8895,2,  34.8893,2, 231.1000,2,   231.9,2,   51.37,2,   23.62,2,    0.00,2,    1.57,2,   0.004,2,   0.003,2,   0.0000,2,  2209.8,2,  2351.7,2,    805.8,2,    20.00,   7.7154,2,    25.00,-999.000,9,-999.0000,9, -999.00,9,-999.0000,9, -999.00,9,  -999.0,9,  -999.0,   0.016,3,   39.98,2,   25.83,2, 3900.20,   2.0587
33RO20100308,      A13.5,      75,          1,          4,      11030,2,20100403,       0308,   -16.9998,     1.1082,       5515,  4300.1,   2.3904,  34.8873,2,  34.8861,2, 232.6000,2,   232.5,2,   51.96,2,   23.59,2,    0.00,2,    1.57,2,   0.003,2,   0.004,2,   0.0000,2,  2209.9,2,  2353.8,2,    802.6,2,    20.00,   7.7170,2,    25.00,-999.000,9,-999.0000,9, -999.00,9,-999.0000,9, -999.00,9,  -999.0,9,  -999.0,   0.020,3,   40.26,2,   25.47,2, 4300.10,   2.0103
33RO20100308,      A13.5,      75,          1,          3,      11703,2,20100403,       0308,   -16.9998,     1.1082,       5515,  4699.4,   2.4032,  34.8838,2,  34.8829,2, 233.9000,2,   234.0,2,   52.38,2,   23.56,2,    0.00,2,    1.56,2,   0.003,6,   0.003,6,   0.0000,6,  2210.2,2,  2355.9,2,    801.8,6,    20.00,   7.7178,2,    25.00,-999.000,9,-999.0000,9, -999.00,9,-999.0000,9, -999.00,9,  -999.0,9,  -999.0,   0.035,3,   40.49,2,   25.42,2, 4699.40,   1.9746
33RO20100308,      A13.5,      75,          1,          2,      11702,2,20100403,       0308,   -16.9998,     1.1082,       5515,  5101.1,   2.4202,  34.8804,2,  34.8797,2, 234.3000,2,   235.8,2,   52.85,6,   23.46,6,    0.00,6,    1.55,6,   0.008,2,   0.006,2,   0.0000,2,  2210.6,2,  2356.5,2,    799.5,2,    20.00,   7.7184,2,    25.00,-999.000,9,-999.0000,9, -999.00,9,-999.0000,9, -999.00,9,  -999.0,9,  -999.0,   0.054,3,   40.27,2,   25.62,2, 5101.10,   1.9406
33RO20100308,      A13.5,      75,          1,          1,      11701,2,20100403,       0308,   -16.9998,     1.1082,       5515,  5587.0,   2.4806,  34.8795,2,  34.8798,2, 235.1000,2,   234.6,2,   53.07,6,   23.45,6,    0.00,6,    1.55,6,   0.012,2,   0.009,2,   0.0240,2,  2212.7,6,  2357.6,6,    798.9,2,    20.00,   7.7200,2,    25.00,-999.000,9,-999.0000,9, -999.00,9,-999.0000,9, -999.00,9,  -999.0,9,  -999.0,   0.062,3,   39.60,2,   25.45,2, 5587.00,   1.9353