BOTTLE,20130404CCHSIOCBG
EXPOCODE,SECT_ID,STNNBR,CASTNO,SAMPNO,BTLNBR,BTLNBR_FLAG_W,DATE,TIME,LATITUDE,LONGITUDE,DEPTH,CTDPRS,CTDTMP,CTDSAL,CTDSAL_FLAG_W,SALNTY,SALNTY_FLAG_W,CTDOXY,CTDOXY_FLAG_W,OXYGEN,OXYGEN_FLAG_W,SILCAT,SILCAT_FLAG_W,NITRAT,NITRAT_FLAG_W,NITRIT,NITRIT_FLAG_W,PHSPHT,PHSPHT_FLAG_W,CFC-11,CFC-11_FLAG_W,CFC-12,CFC-12_FLAG_W,SF6,SF6_FLAG_W,TCARBN,TCARBN_FLAG_W,ALKALI,ALKALI_FLAG_W,FCO2,FCO2_FLAG_W,FCO2TMP,PH_TOT,PH_TOT_FLAG_W,PH_TMP,TRITUM,TRITUM_FLAG_W,HELIUM,HELIUM_FLAG_W,DELHE3,DELHE3_FLAG_W,REFTMP,REFTMP_FLAG_W,DELC13,DELC13_FLAG_W,DELC14,DELC14_FLAG_W,C14ERR,CCL4,CCL4_FLAG_W,DOC,DOC_FLAG_W,TDN,TDN_FLAG_W,CTDRAW,THETA
,,,,,,,,,,,METERS,DBAR,ITS-90,PSS-78,,PSS-78,,UMOL/KG,,UMOL/KG,,UMOL/KG,,UMOL/KG,,UMOL/KG,,UMOL/KG,,PMOL/KG,,PMOL/KG,,FMOL/KG,,UMOL/KG,,UMOL/KG,,UATM,,DEG C,,,DEG C,TU,,NMOL/KG,,PERCNT,,DEG C,,/MILLE,,/MILLE,,/MILLE,PMOL/KG,,UMOL/KG,,UMOL/KG,,DBAR,DEG C
33RO20100308,      A13.5,      94,          1,         24,      11714,2,20100409,       1210,    -7.5007,    -1.1495,       4433,     5.2,  28.7841,  35.7454,2,  35.7526,2, 194.6000,2,   196.3,2,    0.94,6,    0.05,6,    0.00,6,    0.10,6,   1.509,2,   0.969,2,   0.9890,2,  2017.7,6,  2350.7,2,    296.6,2,    20.00,   8.0892,2,    25.00,-999.000,9,-999.0000,9, -999.00,9,-999.0000,9, -999.00,9,  -999.0,9,  -999.0,   1.719,3, -999.00,9, -999.00,9,    5.20,  28.7829
33RO20100308,      A13.5,      94,          1,         23,      11716,2,20100409,       1210,    -7.5007,    -1.1495,       4433,    40.4,  23.9494,  36.0610,2,  36.0366,2, 221.7000,2,   219.9,2,    1.95,2,    0.74,2,    0.02,2,    0.25,2,   1.888,2,   1.140,2,   0.9390,2,  2073.3,2,  2368.1,6,    355.6,2,    20.00,   8.0265,2,    25.00,-999.000,9,-999.0000,9, -999.00,9,-999.0000,9, -999.00,9,  -999.0,9,  -999.0,   0.911,3, -999.00,9, -999.00,9,   40.40,  23.9409
33RO20100308,      A13.5,      94,          1,         22,      11022,2,20100409,       1210,    -7.5007,    -1.1495,       4433,    69.9,  16.2405,  35.6456,2,  35.6341,2,  99.0000,2,    94.1,2,    5.94,2,   19.54,2,    0.44,2,    1.35,2,   2.116,2,   1.195,2,   0.6550,2,  2190.8,2,  2335.9,2,    797.4,6,    20.00,   7.7168,2,    25.00,-999.000,9,-999.0000,9, -999.00,9,-999.0000,9, -999.00,9,  -999.0,9,  -999.0,   0.330,3, -999.00,9, -999.00,9,   69.90,  16.2293
33RO20100308,      A13.5,      94,          1,         21,      11010,2,20100409,       1210,    -7.5007,    -1.1495,       4433,   100.2,  14.6943,  35.5062,2,  35.5031,2,  81.7000,2,    77.4,2,    7.72,2,   23.22,2,    0.02,2,    1.53,2,   2.075,2,   1.155,2,   0.5940,2,  2205.5,2,  2325.9,2,    918.1,2,    20.00,   7.6618,2,    25.00,-999.000,9,-999.0000,9, -999.00,9,-999.0000,9, -999.00,9,  -999.0,9,  -999.0,   0.236,3, -999.00,9, -999.00,9,  100.20,  14.6793
33RO20100308,      A13.5,      94,          1,         20,      11715,2,20100409,       1210,    -7.5007,    -1.1495,       4433,   150.8,  13.6296,  35.3668,2,  35.3631,2,  89.2000,2,    89.0,6,    8.42,2,   23.54,2,    0.01,2,    1.55,2,   2.019,6,   1.110,6,   0.5460,6,  2201.6,2,  2322.7,2,    924.1,2,    20.00,   7.6597,2,    25.00,-999.000,9,-999.0000,9, -999.00,9,-999.0000,9, -999.00,9,  -999.0,9,  -999.0,   0.283,3, -999.00,9, -999.00,9,  150.80,  13.6082
33RO20100308,      A13.5,      94,          1,         19,      11007,2,20100409,       1210,    -7.5007,    -1.1495,       4433,   200.3,  12.6035,  35.2328,2,  35.2326,2,  85.5000,2,    85.5,2,    9.70,2,   25.49,2,    0.01,2,    1.66,2,   1.866,2,   1.012,2,   0.4690,2,  2206.1,2,  2314.8,2,    997.1,2,    20.00,   7.6280,2,    25.00,-999.000,9,-999.0000,9, -999.00,9,-999.0000,9, -999.00,9,  -999.0,9,  -999.0,   0.281,3, -999.00,9, -999.00,9,  200.30,  12.5764
33RO20100308,      A13.5,      94,          1,         18,      11710,2,20100409,       1210,    -7.5007,    -1.1495,       4433,   250.3,  11.7513,  35.1270,2,  35.1270,2,  76.5000,2,    75.0,2,   11.18,2,   28.13,2,    0.01,2,    1.81,2,   1.633,2,   0.875,2,   0.3930,2,  2215.1,2,  2308.4,2,   1107.3,2,    20.00,   7.5865,2,    25.00,-999.000,9,-999.0000,9, -999.00,9,-999.0000,9, -999.00,9,  -999.0,9,  -999.0,   0.266,3, -999.00,9, -999.00,9,  250.30,  11.7190
33RO20100308,      A13.5,      94,          1,         17,      11025,2,20100409,       1210,    -7.5007,    -1.1495,       4433,   300.5,  11.1906,  35.0578,2,  35.0549,2,  75.5000,2,    74.7,2,   12.00,2,   29.21,2,    0.00,2,    1.87,2,   1.520,2,   0.807,2,   0.2980,2,  2219.3,2,  2306.1,2,   1155.8,2,    20.00,   7.5695,2,    25.00,-999.000,9,-999.0000,9, -999.00,9,-999.0000,9, -999.00,9,  -999.0,9,  -999.0,   0.276,3, -999.00,9, -999.00,9,  300.50,  11.1529
33RO20100308,      A13.5,      94,          1,         16,      11709,2,20100409,       1210,    -7.5007,    -1.1495,       4433,   349.9,  10.6320,  34.9952,2,  34.9922,2,  58.3000,2,    58.0,2,   13.51,2,   32.05,2,    0.00,2,    2.03,2,   1.219,2,   0.645,2,   0.1910,2,  2232.6,2,  2303.7,2,   1308.4,2,    20.00,   7.5229,2,    25.00,-999.000,9,-999.0000,9, -999.00,9,-999.0000,9, -999.00,9,  -999.0,9,  -999.0,   0.228,3, -999.00,9, -999.00,9,  349.90,  10.5895
33RO20100308,      A13.5,      94,          1,         15,      11006,2,20100409,       1210,    -7.5007,    -1.1495,       4433,   449.8,   8.5753,  34.7843,2,  34.7814,2,  44.4000,2,    45.0,2,   18.59,2,   37.76,2,    0.00,2,    2.40,2,   0.462,2,   0.242,2,   0.0000,2,  2253.0,2,  2295.4,2,   1586.2,2,    20.00,   7.4381,2,    25.00,-999.000,9,-999.0000,9, -999.00,9,-999.0000,9, -999.00,9,  -999.0,9,  -999.0,   0.172,3, -999.00,9, -999.00,9,  449.80,   8.5273
33RO20100308,      A13.5,      94,          1,         14,      11708,2,20100409,       1210,    -7.5007,    -1.1495,       4433,   550.1,   6.7498,  34.6147,2,  34.6144,2,  76.2000,2,    76.4,2,   23.16,2,   38.40,2,    0.00,2,    2.51,2,   0.232,2,   0.121,2,   0.0000,2,  2244.2,2,  2288.0,2,   1519.1,6,    20.00,   7.4570,2,    25.00,-999.000,9,-999.0000,9, -999.00,9,-999.0000,9, -999.00,9,  -999.0,9,  -999.0,   0.218,3, -999.00,9, -999.00,9,  550.10,   6.6983
33RO20100308,      A13.5,      94,          1,         13,      11031,2,20100409,       1210,    -7.5007,    -1.1495,       4433,   649.2,   5.7844,  34.5433,2,  34.5427,2,  94.5000,2,    95.4,2,   26.89,2,   38.42,2,    0.00,2,    2.55,2,-999.000,9,-999.000,9,-999.0000,9,  2241.1,2,  2295.8,2,   1463.6,2,    20.00,   7.4719,2,    25.00,-999.000,9,-999.0000,9, -999.00,9,-999.0000,9, -999.00,9,  -999.0,9,  -999.0,-999.000,9, -999.00,9, -999.00,9,  649.20,   5.7280
33RO20100308,      A13.5,      94,          1,         12,      11027,2,20100409,       1210,    -7.5007,    -1.1495,       4433,   751.1,   5.1084,  34.5126,2,  34.5127,2, 110.3000,2,   112.4,2,   30.38,2,   37.75,2,    0.00,2,    2.54,2,-999.000,9,-999.000,9,-999.0000,9,  2237.0,2,  2298.3,2,   1399.0,2,    20.00,   7.4910,2,    25.00,-999.000,9,-999.0000,9, -999.00,9,-999.0000,9, -999.00,9,  -999.0,9,  -999.0,-999.000,9, -999.00,9, -999.00,9,  751.10,   5.0465
33RO20100308,      A13.5,      94,          1,         11,      11707,2,20100409,       1210,    -7.5007,    -1.1495,       4433,   850.4,   4.6631,  34.5133,2,  34.5138,2, 130.2000,2,   131.3,2,   32.77,2,   36.24,2,    0.00,2,    2.46,2,   0.045,2,   0.025,2,   0.0000,2,  2231.2,2,  2299.2,2,   1297.5,2,    20.00,   7.5208,2,    25.00,-999.000,9,-999.0000,9, -999.00,9,-999.0000,9, -999.00,9,  -999.0,9,  -999.0,   0.137,3, -999.00,9, -999.00,9,  850.40,   4.5953
33RO20100308,      A13.5,      94,          1,         10,      11003,2,20100409,       1210,    -7.5007,    -1.1495,       4433,  1000.3,   4.2810,  34.5964,2,  34.5974,2, 147.6000,2,   148.2,2,   34.00,2,   34.09,2,    0.00,2,    2.33,2,-999.000,9,-999.000,9,-999.0000,9,  2225.8,2,  2307.7,2,   1204.6,2,    20.00,   7.5538,2,    25.00,-999.000,9,-999.0000,9, -999.00,9,-999.0000,9, -999.00,9,  -999.0,9,  -999.0,-999.000,9, -999.00,9, -999.00,9, 1000.30,   4.2030
33RO20100308,      A13.5,      94,          1,          9,      11706,2,20100409,       1210,    -7.5007,    -1.1495,       4433,  1298.8,   4.1372,  34.8216,2,  34.8216,2, 187.3000,2,   187.9,2,   27.47,2,   27.52,2,    0.00,2,    1.86,2,-999.000,9,-999.000,9,-999.0000,9,  2201.7,2,  2313.3,2,    975.1,2,    20.00,   7.6390,2,    25.00,-999.000,9,-999.0000,9, -999.00,9,-999.0000,9, -999.00,9,  -999.0,9,  -999.0,-999.000,9, -999.00,9, -999.00,9, 1298.80,   4.0340
33RO20100308,      A13.5,      94,          1,          8,      11033,3,20100409,       1210,    -7.5007,    -1.1495,       4433,  1600.4,   3.9075,  34.9231,2,  34.9235,2, 218.6000,2,   219.5,2,   23.68,2,   23.18,2,    0.00,2,    1.56,2,   0.032,2,   0.019,2,   0.0000,2,  -999.0,9,  -999.0,9,   -999.0,9,  -999.00,-999.0000,9,  -999.00,-999.000,9,-999.0000,9, -999.00,9,-999.0000,9, -999.00,9,  -999.0,9,  -999.0,   0.148,3, -999.00,9, -999.00,9, 1600.40,   3.7793
33RO20100308,      A13.5,      94,          1,          7,      11705,2,20100409,       1210,    -7.5007,    -1.1495,       4433,  1900.1,   3.5298,  34.9395,2,  34.9397,2, 231.9000,2,   231.8,2,   26.01,6,   21.92,6,    0.00,6,    1.47,2,-999.000,9,-999.000,9,-999.0000,9,  2178.8,2,  2321.3,2,    803.0,2,    20.00,   7.7148,2,    25.00,-999.000,9,-999.0000,9, -999.00,9,-999.0000,9, -999.00,9,  -999.0,9,  -999.0,-999.000,9, -999.00,9, -999.00,9, 1900.10,   3.3787
33RO20100308,      A13.5,      94,          1,          6,      11029,2,20100409,       1210,    -7.5007,    -1.1495,       4433,  2300.4,   3.1219,  34.9289,2,  34.9288,2, 235.5000,2,   237.5,2,   32.32,6,   21.88,6,    0.00,6,    1.47,6,-999.000,9,-999.000,9,-999.0000,9,  2183.1,2,  2325.6,2,    788.3,2,    20.00,   7.7219,2,    25.00,-999.000,9,-999.0000,9, -999.00,9,-999.0000,9, -999.00,9,  -999.0,9,  -999.0,-999.000,9, -999.00,9, -999.00,9, 2300.40,   2.9392
33RO20100308,      A13.5,      94,          1,          5,      11704,2,20100409,       1210,    -7.5007,    -1.1495,       4433,  2700.3,   2.8035,  34.9131,2,  34.9128,2, 233.2000,2,   235.4,6,   39.41,6,   22.44,6,    0.00,6,    1.51,6,   0.005,2,   0.003,2,   0.0000,2,  2191.7,2,  2333.7,2,    796.3,2,    20.00,   7.7177,2,    25.00,-999.000,9,-999.0000,9, -999.00,9,-999.0000,9, -999.00,9,  -999.0,9,  -999.0,   0.029,3, -999.00,9, -999.00,9, 2700.30,   2.5875
33RO20100308,      A13.5,      94,          1,          4,      11030,2,20100409,       1210,    -7.5007,    -1.1495,       4433,  3099.8,   2.5611,  34.8997,2,  34.8997,2, 234.6000,2,   235.7,2,   44.96,6,   22.76,6,    0.00,6,    1.54,6,-999.000,9,-999.000,9,-999.0000,9,  2199.0,2,  2339.7,2,    798.8,2,    20.00,   7.7177,2,    25.00,-999.000,9,-999.0000,9, -999.00,9,-999.0000,9, -999.00,9,  -999.0,9,  -999.0,-999.000,9, -999.00,9, -999.00,9, 3099.80,   2.3097
33RO20100308,      A13.5,      94,          1,          3,      11703,2,20100409,       1210,    -7.5007,    -1.1495,       4433,  3500.6,   2.4132,  34.8906,2,  34.8901,2, 234.9000,2,   235.7,2,   49.03,6,   23.03,6,    0.00,6,    1.56,6,   0.005,2,   0.004,2,   0.0000,2,  2203.2,2,  2347.8,2,    801.2,2,    20.00,   7.7174,2,    25.00,-999.000,9,-999.0000,9, -999.00,9,-999.0000,9, -999.00,9,  -999.0,9,  -999.0,   0.037,3, -999.00,9, -999.00,9, 3500.60,   2.1229
33RO20100308,      A13.5,      94,          1,          2,      11702,2,20100409,       1210,    -7.5007,    -1.1495,       4433,  3899.5,   2.3498,  34.8840,2,  34.8833,2, 235.8000,2,   233.3,3,   51.09,6,   23.12,6,    0.00,6,    1.56,6,-999.000,9,-999.000,9,-999.0000,9,  2206.9,2,  2350.2,2,    804.3,2,    20.00,   7.7186,2,    25.00,-999.000,9,-999.0000,9, -999.00,9,-999.0000,9, -999.00,9,  -999.0,9,  -999.0,-999.000,9, -999.00,9, -999.00,9, 3899.50,   2.0172
33RO20100308,      A13.5,      94,          1,          1,      11701,2,20100409,       1210,    -7.5007,    -1.1495,       4433,  4486.9,   2.3580,  34.8795,2,  34.8800,2, 237.2000,2,   235.8,2,   52.78,6,   23.25,6,    0.00,6,    1.57,6,   0.009,2,   0.007,2,   0.0000,2,  2210.7,6,  2352.2,2,    803.5,2,    20.00,   7.7183,2,    25.00,-999.000,9,-999.0000,9, -999.00,9,-999.0000,9, -999.00,9,  -999.0,9,  -999.0,   0.069,3, -999.00,9, -999.00,9, 4486.90,   1.9567