BOTTLE,20130404CCHSIOCBG
EXPOCODE,SECT_ID,STNNBR,CASTNO,SAMPNO,BTLNBR,BTLNBR_FLAG_W,DATE,TIME,LATITUDE,LONGITUDE,DEPTH,CTDPRS,CTDTMP,CTDSAL,CTDSAL_FLAG_W,SALNTY,SALNTY_FLAG_W,CTDOXY,CTDOXY_FLAG_W,OXYGEN,OXYGEN_FLAG_W,SILCAT,SILCAT_FLAG_W,NITRAT,NITRAT_FLAG_W,NITRIT,NITRIT_FLAG_W,PHSPHT,PHSPHT_FLAG_W,CFC-11,CFC-11_FLAG_W,CFC-12,CFC-12_FLAG_W,SF6,SF6_FLAG_W,TCARBN,TCARBN_FLAG_W,ALKALI,ALKALI_FLAG_W,FCO2,FCO2_FLAG_W,FCO2TMP,PH_TOT,PH_TOT_FLAG_W,PH_TMP,TRITUM,TRITUM_FLAG_W,HELIUM,HELIUM_FLAG_W,DELHE3,DELHE3_FLAG_W,REFTMP,REFTMP_FLAG_W,DELC13,DELC13_FLAG_W,DELC14,DELC14_FLAG_W,C14ERR,CCL4,CCL4_FLAG_W,DOC,DOC_FLAG_W,TDN,TDN_FLAG_W,CTDRAW,THETA
,,,,,,,,,,,METERS,DBAR,ITS-90,PSS-78,,PSS-78,,UMOL/KG,,UMOL/KG,,UMOL/KG,,UMOL/KG,,UMOL/KG,,UMOL/KG,,PMOL/KG,,PMOL/KG,,FMOL/KG,,UMOL/KG,,UMOL/KG,,UATM,,DEG C,,,DEG C,TU,,NMOL/KG,,PERCNT,,DEG C,,/MILLE,,/MILLE,,/MILLE,PMOL/KG,,UMOL/KG,,UMOL/KG,,DBAR,DEG C
33RO20100308,      A13.5,      61,          1,         24,      11714,2,20100329,       1420,      -24.0,     1.5007,       5075,     5.9,  23.5129,  36.0414,2,  36.0413,2, 212.6000,2,   214.0,2,    0.76,2,    0.00,2,    0.00,2,    0.28,2,   1.854,2,   1.149,2,   1.1690,2,  2069.8,6,  2372.4,6,    348.1,2,    20.00,   8.0338,2,    25.00,-999.000,9,-999.0000,9, -999.00,9,  23.5133,2, -999.00,9,  -999.0,9,  -999.0,   2.167,3,   67.66,2,    4.58,2,    5.90,  23.5117
33RO20100308,      A13.5,      61,          1,         23,      11713,2,20100329,       1420,      -24.0,     1.5007,       5075,    30.1,  23.5092,  36.0398,2,  36.0403,2, 213.1000,2,   214.2,2,    0.77,2,    0.00,2,    0.00,2,    0.28,2,   1.850,2,   1.149,2,   1.1710,2,  2068.6,2,  2372.1,2,    347.0,2,    20.00,   8.0339,2,    25.00,-999.000,9,-999.0000,9, -999.00,9,  23.5052,2, -999.00,9,  -999.0,9,  -999.0,   2.195,3,   67.00,2,    4.14,2,   30.10,  23.5029
33RO20100308,      A13.5,      61,          1,         22,      11712,2,20100329,       1420,      -24.0,     1.5007,       5075,    70.5,  18.9366,  35.8349,2,  35.8312,2, 246.1000,2,   245.7,2,    1.80,2,    0.01,2,    0.00,2,    0.18,2,   2.407,6,   1.436,6,   1.3730,6,  2069.6,2,  2353.1,2,    373.9,2,    20.00,   8.0067,2,    25.00,-999.000,9,-999.0000,9, -999.00,9,  18.9454,2, -999.00,9,  -999.0,9,  -999.0,   1.957,3,   64.49,2,    3.60,2,   70.50,  18.9240
33RO20100308,      A13.5,      61,          1,         21,      11010,2,20100329,       1420,      -24.0,     1.5007,       5075,   100.0,  17.4634,  35.7349,2,  35.7296,2, 240.5000,2,   239.5,2,    1.94,2,    0.02,2,    0.01,2,    0.21,2,   2.477,2,   1.473,2,   1.4010,2,  2076.7,2,  2347.9,2,    394.4,2,    20.00,   7.9851,2,    25.00,-999.000,9,-999.0000,9, -999.00,9,  17.4741,2, -999.00,9,  -999.0,9,  -999.0,   1.724,3,   56.08,2,    3.66,2,  100.00,  17.4465
33RO20100308,      A13.5,      61,          1,         20,      11715,2,20100329,       1420,      -24.0,     1.5007,       5075,   125.1,  16.5262,  35.6676,2,  35.6679,2, 229.6000,2,   230.4,2,    2.08,2,    1.46,2,    0.20,2,    0.30,2,   2.543,2,   1.512,2,   1.3530,2,  2086.2,2,  2342.6,2,    426.7,2,    20.00,   7.9605,2,    25.00,-999.000,9,-999.0000,9, -999.00,9,  16.5352,2, -999.00,9,  -999.0,9,  -999.0,   1.657,3,   55.12,2,    5.00,2,  125.10,  16.5059
33RO20100308,      A13.5,      61,          1,         19,      11007,2,20100329,       1420,      -24.0,     1.5007,       5075,   149.1,  16.0437,  35.6064,2,  35.6024,2, 225.3000,2,   225.0,2,    2.29,2,    3.12,2,    0.05,2,    0.38,2,   2.598,2,   1.533,2,   1.4230,2,  2092.8,2,  2337.5,2,    445.5,2,    20.00,   7.9416,2,    25.00,-999.000,9,-999.0000,9, -999.00,9,  16.0263,2, -999.00,9,  -999.0,9,  -999.0,   1.455,3,   53.98,2,    5.68,2,  149.10,  16.0200
33RO20100308,      A13.5,      61,          1,         18,      11710,2,20100329,       1420,      -24.0,     1.5007,       5075,   299.3,  12.0982,  35.0509,2,  35.0419,2, 215.0000,2,   213.8,2,    4.58,2,   12.14,2,    0.00,2,    0.91,2,   3.120,2,   1.736,2,   1.2170,2,  2129.7,2,  2310.0,2,    611.1,2,    20.00,   7.8240,2,    25.00,-999.000,9,-999.0000,9, -999.00,9,  12.0800,2, -999.00,9,  -999.0,9,  -999.0,   1.252,3,   46.24,2,   13.89,2,  299.30,  12.0588
33RO20100308,      A13.5,      61,          1,         17,      11025,2,20100329,       1420,      -24.0,     1.5007,       5075,   449.7,   8.6847,  34.6489,2,  34.6503,2, 192.0000,2,   191.4,6,   11.55,2,   22.33,2,    0.00,2,    1.56,2,   3.009,2,   1.564,2,   0.7840,2,  2164.3,6,  2294.2,2,    832.5,2,    20.00,   7.6994,2,    25.00,-999.000,9,-999.0000,9, -999.00,9,   8.6919,2, -999.00,9,  -999.0,9,  -999.0,   1.671,3,   43.62,2,   24.29,2,  449.70,   8.6364
33RO20100308,      A13.5,      61,          1,         16,      11709,2,20100329,       1420,      -24.0,     1.5007,       5075,   599.5,   6.3080,  34.4655,2,  34.4651,2, 166.4000,2,   170.0,2,   19.87,2,   30.27,2,    0.00,2,    2.05,2,   2.167,2,   1.075,2,   0.4070,2,  2195.3,2,  2290.7,2,   1052.0,6,    20.00,   7.6038,2,    25.00,-999.000,9,-999.0000,9, -999.00,9,   6.3060,2, -999.00,9,  -999.0,9,  -999.0,   1.782,3,   40.41,2,   31.89,2,  599.50,   6.2538
33RO20100308,      A13.5,      61,          1,         15,      11006,2,20100329,       1420,      -24.0,     1.5007,       5075,   801.0,   4.3771,  34.4041,2,  34.4041,2, 174.2000,2,   175.9,2,   33.47,2,   33.25,2,    0.00,2,    2.28,2,   1.053,2,   0.512,2,   0.0000,2,  2212.6,2,  2299.5,6,   1112.0,2,    20.00,   7.5820,2,    25.00,-999.000,9,-999.0000,9, -999.00,9,   4.3806,2, -999.00,9,  -999.0,9,  -999.0,   1.376,3,   39.09,2,   34.46,2,  801.00,   4.3155
33RO20100308,      A13.5,      61,          1,         14,      11708,2,20100329,       1420,      -24.0,     1.5007,       5075,  1100.0,   3.6066,  34.5539,2,  34.5545,2, 176.5000,2,   176.9,2,   42.69,2,   32.43,2,    0.00,2,    2.23,2,   0.150,2,   0.075,2,   0.0650,2,  -999.0,9,  -999.0,9,   -999.0,9,  -999.00,   7.5900,2,    25.00,-999.000,9,-999.0000,9, -999.00,9,   3.6063,2, -999.00,9,  -999.0,9,  -999.0,   0.383,3,   39.07,2,   34.42,2, 1100.00,   3.5258
33RO20100308,      A13.5,      61,          1,         13,      11031,2,20100329,       1420,      -24.0,     1.5007,       5075,  1400.8,   3.5156,  34.7309,2,  34.7305,2, 194.2000,2,   194.3,2,   38.60,2,   28.76,2,    0.00,2,    1.97,2,   0.022,2,   0.012,2,   0.0000,2,  2210.4,2,  2317.8,2,    972.7,2,    20.00,   7.6367,2,    25.00,-999.000,9,-999.0000,9, -999.00,9,   3.5152,2, -999.00,9,  -999.0,9,  -999.0,   0.099,3,   37.90,2,   30.80,2, 1400.80,   3.4100
33RO20100308,      A13.5,      61,          1,         12,      11027,2,20100329,       1420,      -24.0,     1.5007,       5075,  1699.6,   3.3599,  34.8356,2,  34.8358,2, 214.9000,2,   215.5,2,   35.29,2,   25.44,2,    0.00,2,    1.73,2,   0.009,2,   0.006,2,   0.0000,2,  2198.6,2,  2321.6,2,    876.2,2,    20.00,   7.6790,2,    25.00,-999.000,9,-999.0000,9, -999.00,9,   3.3603,2, -999.00,9,  -999.0,9,  -999.0,   0.078,3,   37.96,2,   26.99,2, 1699.60,   3.2297
33RO20100308,      A13.5,      61,          1,         11,      11707,2,20100329,       1420,      -24.0,     1.5007,       5075,  1998.3,   3.1275,  34.8790,2,  34.8789,2, 229.8000,2,   230.4,2,   35.15,2,   23.58,2,    0.00,2,    1.59,2,   0.007,2,   0.005,2,   0.0990,2,  2190.8,2,  2323.4,2,    824.0,2,    20.00,   7.7046,2,    25.00,-999.000,9,-999.0000,9, -999.00,9,   3.1268,2, -999.00,9,  -999.0,9,  -999.0,   0.074,3,   38.65,2,   24.82,2, 1998.30,   2.9734
33RO20100308,      A13.5,      61,          1,          8,      11033,2,20100329,       1420,      -24.0,     1.5007,       5075,  2299.3,   2.8458,  34.8770,2,  34.8771,2, 234.9000,2,   234.6,6,   40.07,2,   23.45,2,    0.00,2,    1.59,2,   0.004,2,   0.004,2,   0.0000,2,  2194.8,2,  2329.1,2,    821.1,2,    20.00,   7.7084,2,    25.00,-999.000,9,-999.0000,9, -999.00,9,   2.8456,2, -999.00,9,  -999.0,9,  -999.0,   0.059,3,   38.92,2,   25.53,2, 2299.30,   2.6681
33RO20100308,      A13.5,      61,          1,         10,      11003,2,20100329,       1420,      -24.0,     1.5007,       5075,  2399.2,   2.7287,  34.8716,2,  34.8716,2, 234.7000,2,   235.1,2,   42.72,2,   23.60,2,    0.00,2,    1.60,2,   0.004,2,   0.003,2,   0.0650,3,  2197.5,2,  2329.6,2,    818.9,2,    20.00,   7.7079,2,    25.00,-999.000,9,-999.0000,9, -999.00,9,   2.7283,2, -999.00,9,  -999.0,9,  -999.0,   0.054,3,   38.60,2,   24.85,2, 2399.20,   2.5436
33RO20100308,      A13.5,      61,          1,          7,      11705,2,20100329,       1420,      -24.0,     1.5007,       5075,  2601.4,   2.5976,  34.8674,2,  34.8682,2, 236.4000,2,   235.9,2,   45.86,2,   23.72,2,    0.00,2,    1.61,2,   0.008,6,   0.005,6,   0.0000,6,  2190.9,2,  2331.4,2,    816.7,2,    20.00,   7.7078,2,    25.00,-999.000,9,-999.0000,9, -999.00,9,   2.5974,2, -999.00,9,  -999.0,9,  -999.0,   0.055,3,   39.29,2,   24.83,2, 2601.40,   2.3956
33RO20100308,      A13.5,      61,          1,          9,      11706,2,20100329,       1420,      -24.0,     1.5007,       5075,  2766.0,   2.5189,  34.8680,2,  34.8683,2, 236.0000,2,   236.7,2,   47.38,2,   23.69,2,    0.00,2,    1.61,2,   0.003,2,   0.002,2,   0.0560,2,  2195.4,2,  2334.4,2,    820.1,2,    20.00,   7.7100,2,    25.00,-999.000,9,-999.0000,9, -999.00,9,   2.5185,2, -999.00,9,  -999.0,9,  -999.0,   0.032,3,   38.82,2,   25.34,2, 2766.00,   2.3023
33RO20100308,      A13.5,      61,          1,          6,      11029,2,20100329,       1420,      -24.0,     1.5007,       5075,  2999.1,   2.4584,  34.8706,2,  34.8711,2, 236.7000,2,   238.1,2,   48.91,2,   23.69,2,    0.00,2,    1.61,2,   0.002,2,   0.002,2,   0.0000,2,  2198.6,2,  2339.5,2,    810.0,2,    20.00,   7.7120,2,    25.00,-999.000,9,-999.0000,9, -999.00,9,   2.4581,2, -999.00,9,  -999.0,9,  -999.0,   0.024,3,   39.02,2,   24.84,2, 2999.10,   2.2197
33RO20100308,      A13.5,      61,          1,          5,      11704,2,20100329,       1420,      -24.0,     1.5007,       5075,  3399.2,   2.3943,  34.8785,2,  34.8785,2, 235.0000,2,   234.7,2,   50.86,2,   23.67,2,    0.00,2,    1.61,2,   0.001,2,   0.002,2,   0.0840,3,  2205.6,2,  2345.9,2,    803.5,2,    20.00,   7.7159,2,    25.00,-999.000,9,-999.0000,9, -999.00,9,   2.3936,2, -999.00,9,  -999.0,9,  -999.0,   0.013,3,   39.32,2,   25.39,2, 3399.20,   2.1154
33RO20100308,      A13.5,      61,          1,          4,      11030,2,20100329,       1420,      -24.0,     1.5007,       5075,  3799.3,   2.3691,  34.8843,2,  34.8840,2, 231.9000,2,   232.9,2,   52.00,6,   23.61,6,    0.00,6,    1.59,6,   0.002,2,   0.002,2,   0.0540,2,  2211.3,2,  2353.6,2,    799.7,2,    20.00,   7.7193,2,    25.00,-999.000,9,-999.0000,9, -999.00,9,   2.3687,2, -999.00,9,  -999.0,9,  -999.0,   0.011,3,   38.70,2,   24.90,2, 3799.30,   2.0472
33RO20100308,      A13.5,      61,          1,          3,      11703,2,20100329,       1420,      -24.0,     1.5007,       5075,  4201.0,   2.3778,  34.8856,2,  34.8852,2, 231.7000,2,   232.5,2,   52.53,6,   23.55,6,    0.00,6,    1.59,6,   0.002,2,   0.003,2,   0.0540,2,  2214.0,2,  2355.8,2,    795.8,6,    20.00,   7.7223,2,    25.00,-999.000,9,-999.0000,9, -999.00,9,   2.3776,2, -999.00,9,  -999.0,9,  -999.0,   0.015,3,   38.93,2,   25.52,2, 4201.00,   2.0098
33RO20100308,      A13.5,      61,          1,          2,      11702,2,20100329,       1420,      -24.0,     1.5007,       5075,  4601.2,   2.4078,  34.8850,2,  34.8844,2, 232.4000,2,   232.8,2,   52.74,6,   23.55,6,    0.01,6,    1.59,6,   0.001,2,   0.002,2,   0.0000,2,  2214.7,2,  2357.9,2,    794.4,2,    20.00,   7.7233,2,    25.00,-999.000,9,-999.0000,9, -999.00,9,   2.4073,2, -999.00,9,  -999.0,9,  -999.0,   0.019,3,   39.72,2,   24.86,2, 4601.20,   1.9911
33RO20100308,      A13.5,      61,          1,          1,      11701,2,20100329,       1420,      -24.0,     1.5007,       5075,  5135.4,   2.4630,  34.8838,2,  34.8835,2, 233.3000,2,   233.2,2,   52.96,6,   23.55,6,    0.01,6,    1.59,6,   0.003,2,   0.004,2,   0.0000,2,  2217.1,6,  2357.6,6,    794.4,2,    20.00,   7.7247,2,    25.00,-999.000,9,-999.0000,9, -999.00,9,   2.4626,2, -999.00,9,  -999.0,9,  -999.0,   0.032,3,   40.46,2,   25.24,2, 5135.40,   1.9775