BOTTLE,20130404CCHSIOCBG
EXPOCODE,SECT_ID,STNNBR,CASTNO,SAMPNO,BTLNBR,BTLNBR_FLAG_W,DATE,TIME,LATITUDE,LONGITUDE,DEPTH,CTDPRS,CTDTMP,CTDSAL,CTDSAL_FLAG_W,SALNTY,SALNTY_FLAG_W,CTDOXY,CTDOXY_FLAG_W,OXYGEN,OXYGEN_FLAG_W,SILCAT,SILCAT_FLAG_W,NITRAT,NITRAT_FLAG_W,NITRIT,NITRIT_FLAG_W,PHSPHT,PHSPHT_FLAG_W,CFC-11,CFC-11_FLAG_W,CFC-12,CFC-12_FLAG_W,SF6,SF6_FLAG_W,TCARBN,TCARBN_FLAG_W,ALKALI,ALKALI_FLAG_W,FCO2,FCO2_FLAG_W,FCO2TMP,PH_TOT,PH_TOT_FLAG_W,PH_TMP,TRITUM,TRITUM_FLAG_W,HELIUM,HELIUM_FLAG_W,DELHE3,DELHE3_FLAG_W,REFTMP,REFTMP_FLAG_W,DELC13,DELC13_FLAG_W,DELC14,DELC14_FLAG_W,C14ERR,CCL4,CCL4_FLAG_W,DOC,DOC_FLAG_W,TDN,TDN_FLAG_W,CTDRAW,THETA
,,,,,,,,,,,METERS,DBAR,ITS-90,PSS-78,,PSS-78,,UMOL/KG,,UMOL/KG,,UMOL/KG,,UMOL/KG,,UMOL/KG,,UMOL/KG,,PMOL/KG,,PMOL/KG,,FMOL/KG,,UMOL/KG,,UMOL/KG,,UATM,,DEG C,,,DEG C,TU,,NMOL/KG,,PERCNT,,DEG C,,/MILLE,,/MILLE,,/MILLE,PMOL/KG,,UMOL/KG,,UMOL/KG,,DBAR,DEG C
33RO20100308,      A13.5,      96,          1,         24,      11714,2,20100410,       0100,    -6.4998,    -1.9735,       4222,     5.3,  28.8139,  35.6212,2,  35.6230,2, 195.6000,2,   196.4,2,    0.64,6,    0.04,6,    0.00,6,    0.08,6,   1.509,2,   0.961,2,   0.9840,2,  2011.2,6,  2341.7,2,    294.6,2,    20.00,   8.0902,2,    25.00,-999.000,9,-999.0000,9, -999.00,9,-999.0000,9, -999.00,9,  -999.0,9,  -999.0,   1.708,3, -999.00,9, -999.00,9,    5.30,  28.8126
33RO20100308,      A13.5,      96,          1,         23,      11716,2,20100410,       0100,    -6.4998,    -1.9735,       4222,    40.6,  26.2779,  36.1379,2,  36.1310,2, 214.9000,2,   215.1,2,    1.32,2,    0.17,2,    0.00,2,    0.16,2,   1.748,2,   1.082,2,   1.0200,2,  2057.7,2,  2374.0,6,    326.2,2,    20.00,   8.0553,2,    25.00,-999.000,9,-999.0000,9, -999.00,9,-999.0000,9, -999.00,9,  -999.0,9,  -999.0,   1.190,3, -999.00,9, -999.00,9,   40.60,  26.2687
33RO20100308,      A13.5,      96,          1,         22,      11022,2,20100410,       0100,    -6.4998,    -1.9735,       4222,    89.9,  15.4873,  35.5789,2,  35.5738,2, 101.0000,2,   100.0,2,    6.16,2,   20.04,2,    0.10,2,    1.34,2,   2.055,2,   1.161,2,   0.6950,2,  2188.1,2,  2333.4,2,   -999.0,9,  -999.00,   7.7183,2,    25.00,-999.000,9,-999.0000,9, -999.00,9,-999.0000,9, -999.00,9,  -999.0,9,  -999.0,   0.397,3, -999.00,9, -999.00,9,   89.90,  15.4734
33RO20100308,      A13.5,      96,          1,         21,      11010,2,20100410,       0100,    -6.4998,    -1.9735,       4222,   150.2,  12.2872,  35.2006,2,  35.1985,2, 100.0000,2,    99.1,2,    9.27,2,   24.56,2,    0.01,2,    1.60,2,-999.000,9,-999.000,9,-999.0000,9,  2198.2,2,  2312.4,2,    948.8,2,    20.00,   7.6483,2,    25.00,-999.000,9,-999.0000,9, -999.00,9,-999.0000,9, -999.00,9,  -999.0,9,  -999.0,-999.000,9, -999.00,9, -999.00,9,  150.20,  12.2673
33RO20100308,      A13.5,      96,          1,         20,      11715,2,20100410,       0100,    -6.4998,    -1.9735,       4222,   200.3,  11.5482,  35.1016,2,  35.1034,2,  92.1000,2,    91.4,2,   10.71,6,   26.74,6,    0.01,6,    1.73,6,   1.736,2,   0.928,2,   0.3510,2,  2208.1,2,  2310.4,2,   1037.4,2,    20.00,   7.6136,2,    25.00,-999.000,9,-999.0000,9, -999.00,9,-999.0000,9, -999.00,9,  -999.0,9,  -999.0,   0.350,3, -999.00,9, -999.00,9,  200.30,  11.5227
33RO20100308,      A13.5,      96,          1,         19,      11007,2,20100410,       0100,    -6.4998,    -1.9735,       4222,   250.6,  10.9672,  35.0318,2,  35.0308,2,  77.1000,2,    76.2,2,   12.23,6,   29.39,6,    0.00,6,    1.87,6,-999.000,9,-999.000,9,-999.0000,9,  2219.8,2,  2303.4,2,   -999.0,9,  -999.00,   7.5682,2,    25.00,-999.000,9,-999.0000,9, -999.00,9,-999.0000,9, -999.00,9,  -999.0,9,  -999.0,-999.000,9, -999.00,9, -999.00,9,  250.60,  10.9363
33RO20100308,      A13.5,      96,          1,         18,      11710,2,20100410,       0100,    -6.4998,    -1.9735,       4222,   300.0,  10.2785,  34.9544,2,  34.9588,2,  65.1000,2,    65.2,6,   13.77,2,   32.04,2,    0.00,2,    2.02,2,   1.209,2,   0.638,2,   0.2220,2,  2231.2,2,  2299.3,2,   1286.6,2,    20.00,   7.5256,2,    25.00,-999.000,9,-999.0000,9, -999.00,9,-999.0000,9, -999.00,9,  -999.0,9,  -999.0,   0.278,3, -999.00,9, -999.00,9,  300.00,  10.2429
33RO20100308,      A13.5,      96,          1,         17,      11025,2,20100410,       0100,    -6.4998,    -1.9735,       4222,   350.9,   9.5784,  34.8779,2,  34.8757,2,  59.8000,2,    61.0,2,   15.33,2,   34.08,2,    0.00,2,    2.14,2,-999.000,9,-999.000,9,-999.0000,9,  2236.5,2,  2297.4,2,   1384.7,2,    20.00,   7.4963,2,    25.00,-999.000,9,-999.0000,9, -999.00,9,-999.0000,9, -999.00,9,  -999.0,9,  -999.0,-999.000,9, -999.00,9, -999.00,9,  350.90,   9.5385
33RO20100308,      A13.5,      96,          1,         16,      11709,2,20100410,       0100,    -6.4998,    -1.9735,       4222,   400.4,   8.9602,  34.8156,2,  34.8150,2,  55.1000,2,    55.3,2,   16.89,2,   35.84,2,    0.00,2,    2.25,2,   0.698,2,   0.360,2,   0.1220,2,  2243.7,2,  2294.4,2,   1470.3,2,    20.00,   7.4717,2,    25.00,-999.000,9,-999.0000,9, -999.00,9,-999.0000,9, -999.00,9,  -999.0,9,  -999.0,   0.243,3, -999.00,9, -999.00,9,  400.40,   8.9164
33RO20100308,      A13.5,      96,          1,         15,      11006,2,20100410,       0100,    -6.4998,    -1.9735,       4222,   450.6,   8.2277,  34.7500,2,  34.7481,2,  47.7000,2,    48.0,2,   19.24,2,   38.04,2,    0.00,2,    2.41,2,   0.398,2,   0.206,2,   0.0580,2,  2252.8,6,  2291.7,2,   -999.0,9,  -999.00,   7.4377,2,    25.00,-999.000,9,-999.0000,9, -999.00,9,-999.0000,9, -999.00,9,  -999.0,9,  -999.0,   0.183,3, -999.00,9, -999.00,9,  450.60,   8.1807
33RO20100308,      A13.5,      96,          1,         14,      11708,2,20100410,       0100,    -6.4998,    -1.9735,       4222,   549.0,   7.0805,  34.6450,2,  34.6450,2,  66.9000,2,    67.4,2,   22.17,2,   38.46,2,    0.00,2,    2.48,2,   0.246,2,   0.130,2,   0.0000,2,  2248.4,2,  2288.0,2,   1560.5,2,    20.00,   7.4473,2,    25.00,-999.000,9,-999.0000,9, -999.00,9,-999.0000,9, -999.00,9,  -999.0,9,  -999.0,   0.209,3, -999.00,9, -999.00,9,  549.00,   7.0277
33RO20100308,      A13.5,      96,          1,         13,      11031,2,20100410,       0100,    -6.4998,    -1.9735,       4222,   700.7,   5.3466,  34.5138,2,  34.5136,2, 113.3000,2,   113.2,2,   28.43,2,   37.25,2,    0.00,2,    2.48,2,-999.000,9,-999.000,9,-999.0000,9,  2234.8,2,  2295.0,2,   1376.7,2,    20.00,   7.4972,2,    25.00,-999.000,9,-999.0000,9, -999.00,9,-999.0000,9, -999.00,9,  -999.0,9,  -999.0,-999.000,9, -999.00,9, -999.00,9,  700.70,   5.2879
33RO20100308,      A13.5,      96,          1,         12,      11027,2,20100410,       0100,    -6.4998,    -1.9735,       4222,   951.6,   4.3577,  34.5662,2,  34.5667,2, 146.1000,2,   146.8,2,   33.60,2,   34.39,2,    0.00,2,    2.33,2,   0.029,2,   0.018,2,   0.0000,2,  2228.0,2,  2301.2,2,   1213.0,2,    20.00,   7.5502,2,    25.00,-999.000,9,-999.0000,9, -999.00,9,-999.0000,9, -999.00,9,  -999.0,9,  -999.0,   0.108,3, -999.00,9, -999.00,9,  951.60,   4.2833
33RO20100308,      A13.5,      96,          1,         11,      11707,2,20100410,       0100,    -6.4998,    -1.9735,       4222,  1100.1,   4.2294,  34.6796,2,  34.6791,2, 161.4000,2,   161.9,2,   31.72,2,   31.63,2,    0.00,2,    2.15,2,-999.000,9,-999.000,9,-999.0000,9,  2221.1,2,  2304.8,2,   1114.7,2,    20.00,   7.5839,2,    25.00,-999.000,9,-999.0000,9, -999.00,9,-999.0000,9, -999.00,9,  -999.0,9,  -999.0,-999.000,9, -999.00,9, -999.00,9, 1100.10,   4.1431
33RO20100308,      A13.5,      96,          1,         10,      11003,2,20100410,       0100,    -6.4998,    -1.9735,       4222,  1300.4,   4.1358,  34.8252,2,  34.8264,2, 189.5000,2,   190.7,2,   26.87,2,   27.16,2,    0.00,2,    1.83,2,   0.016,2,   0.010,2,   0.0000,2,  2201.0,2,  2312.2,2,   -999.0,9,  -999.00,   7.6436,2,    25.00,-999.000,9,-999.0000,9, -999.00,9,-999.0000,9, -999.00,9,  -999.0,9,  -999.0,   0.087,3, -999.00,9, -999.00,9, 1300.40,   4.0325
33RO20100308,      A13.5,      96,          1,          9,      11706,2,20100410,       0100,    -6.4998,    -1.9735,       4222,  1501.2,   4.0118,  34.9169,2,  34.9155,2, 216.2000,2,   215.9,2,   23.06,2,   23.54,2,    0.00,2,    1.58,2,-999.000,9,-999.000,9,-999.0000,9,  2185.4,2,  2311.7,2,    855.1,2,    20.00,   7.6898,2,    25.00,-999.000,9,-999.0000,9, -999.00,9,-999.0000,9, -999.00,9,  -999.0,9,  -999.0,-999.000,9, -999.00,9, -999.00,9, 1501.20,   3.8915
33RO20100308,      A13.5,      96,          1,          8,      11033,2,20100410,       0100,    -6.4998,    -1.9735,       4222,  1700.2,   3.8010,  34.9435,2,  34.9431,2, 228.9000,2,   229.3,2,   22.82,2,   22.02,2,    0.00,2,    1.47,2,-999.000,9,-999.000,9,-999.0000,9,  2178.8,2,  2312.8,6,   -999.0,9,  -999.00,   7.7112,2,    25.00,-999.000,9,-999.0000,9, -999.00,9,-999.0000,9, -999.00,9,  -999.0,9,  -999.0,-999.000,9, -999.00,9, -999.00,9, 1700.20,   3.6649
33RO20100308,      A13.5,      96,          1,          7,      11705,2,20100410,       0100,    -6.4998,    -1.9735,       4222,  1899.1,   3.5461,  34.9457,2,  34.9460,2, 235.4000,2,   235.9,6,   24.95,6,   21.47,6,    0.00,6,    1.43,2,   0.030,2,   0.017,2,   0.0000,2,  2177.8,2,  2315.2,2,    788.4,2,    20.00,   7.7195,2,    25.00,-999.000,9,-999.0000,9, -999.00,9,-999.0000,9, -999.00,9,  -999.0,9,  -999.0,   0.161,3, -999.00,9, -999.00,9, 1899.10,   3.3949
33RO20100308,      A13.5,      96,          1,          6,      11029,2,20100410,       0100,    -6.4998,    -1.9735,       4222,  2200.5,   3.2152,  34.9345,2,  34.9345,2, 237.8000,2,   238.0,2,   30.18,6,   21.64,6,    0.00,6,    1.44,6,-999.000,9,-999.000,9,-999.0000,9,  2181.2,2,  2322.2,2,   -999.0,9,  -999.00,   7.7216,2,    25.00,-999.000,9,-999.0000,9, -999.00,9,-999.0000,9, -999.00,9,  -999.0,9,  -999.0,-999.000,9, -999.00,9, -999.00,9, 2200.50,   3.0405
33RO20100308,      A13.5,      96,          1,          5,      11704,2,20100410,       0100,    -6.4998,    -1.9735,       4222,  2600.1,   2.8747,  34.9178,2,  34.9179,2, 236.7000,2,   237.6,2,   37.25,6,   22.18,6,    0.00,6,    1.48,6,-999.000,9,-999.000,9,-999.0000,9,  2189.5,2,  2330.4,2,    791.9,2,    20.00,   7.7202,2,    25.00,-999.000,9,-999.0000,9, -999.00,9,-999.0000,9, -999.00,9,  -999.0,9,  -999.0,-999.000,9, -999.00,9, -999.00,9, 2600.10,   2.6673
33RO20100308,      A13.5,      96,          1,          4,      11030,2,20100410,       0100,    -6.4998,    -1.9735,       4222,  3000.8,   2.5884,  34.9016,2,  34.9031,2, 236.0000,2,   236.7,2,   43.59,6,   22.58,6,    0.00,6,    1.51,6,   0.003,2,   0.003,2,   0.0000,2,  2196.2,2,  2339.4,2,   -999.0,9,  -999.00,   7.7195,2,    25.00,-999.000,9,-999.0000,9, -999.00,9,-999.0000,9, -999.00,9,  -999.0,9,  -999.0,   0.033,3, -999.00,9, -999.00,9, 3000.80,   2.3466
33RO20100308,      A13.5,      96,          1,          3,      11703,2,20100410,       0100,    -6.4998,    -1.9735,       4222,  3400.2,   2.4438,  34.8919,2,  34.8929,2, 237.6000,2,   237.6,2,   47.14,2,   22.78,2,    0.00,2,    1.53,2,-999.000,9,-999.000,9,-999.0000,9,  2200.6,2,  2342.1,6,    795.5,2,    20.00,   7.7193,2,    25.00,-999.000,9,-999.0000,9, -999.00,9,-999.0000,9, -999.00,9,  -999.0,9,  -999.0,-999.000,9, -999.00,9, -999.00,9, 3400.20,   2.1636
33RO20100308,      A13.5,      96,          1,          2,      11702,2,20100410,       0100,    -6.4998,    -1.9735,       4222,  3800.3,   2.3677,  34.8859,2,  34.8864,2, 238.3000,2,   238.1,2,   49.39,2,   22.88,2,    0.00,2,    1.54,2,-999.000,9,-999.000,9,-999.0000,9,  2203.1,2,  2345.5,2,   -999.0,9,  -999.00,   7.7190,2,    25.00,-999.000,9,-999.0000,9, -999.00,9,-999.0000,9, -999.00,9,  -999.0,9,  -999.0,-999.000,9, -999.00,9, -999.00,9, 3800.30,   2.0457
33RO20100308,      A13.5,      96,          1,          1,      11701,2,20100410,       0100,    -6.4998,    -1.9735,       4222,  4219.6,   2.3485,  34.8804,2,  34.8804,2, 238.0000,2,   238.1,2,   51.06,6,   22.98,6,    0.00,6,    1.54,6,   0.014,2,   0.010,2,   0.0000,2,  2205.8,6,  2346.3,2,    801.4,2,    20.00,   7.7186,2,    25.00,-999.000,9,-999.0000,9, -999.00,9,-999.0000,9, -999.00,9,  -999.0,9,  -999.0,   0.093,3, -999.00,9, -999.00,9, 4219.60,   1.9792