BOTTLE,20130404CCHSIOCBG
EXPOCODE,SECT_ID,STNNBR,CASTNO,SAMPNO,BTLNBR,BTLNBR_FLAG_W,DATE,TIME,LATITUDE,LONGITUDE,DEPTH,CTDPRS,CTDTMP,CTDSAL,CTDSAL_FLAG_W,SALNTY,SALNTY_FLAG_W,CTDOXY,CTDOXY_FLAG_W,OXYGEN,OXYGEN_FLAG_W,SILCAT,SILCAT_FLAG_W,NITRAT,NITRAT_FLAG_W,NITRIT,NITRIT_FLAG_W,PHSPHT,PHSPHT_FLAG_W,CFC-11,CFC-11_FLAG_W,CFC-12,CFC-12_FLAG_W,SF6,SF6_FLAG_W,TCARBN,TCARBN_FLAG_W,ALKALI,ALKALI_FLAG_W,FCO2,FCO2_FLAG_W,FCO2TMP,PH_TOT,PH_TOT_FLAG_W,PH_TMP,TRITUM,TRITUM_FLAG_W,HELIUM,HELIUM_FLAG_W,DELHE3,DELHE3_FLAG_W,REFTMP,REFTMP_FLAG_W,DELC13,DELC13_FLAG_W,DELC14,DELC14_FLAG_W,C14ERR,CCL4,CCL4_FLAG_W,DOC,DOC_FLAG_W,TDN,TDN_FLAG_W,CTDRAW,THETA
,,,,,,,,,,,METERS,DBAR,ITS-90,PSS-78,,PSS-78,,UMOL/KG,,UMOL/KG,,UMOL/KG,,UMOL/KG,,UMOL/KG,,UMOL/KG,,PMOL/KG,,PMOL/KG,,FMOL/KG,,UMOL/KG,,UMOL/KG,,UATM,,DEG C,,,DEG C,TU,,NMOL/KG,,PERCNT,,DEG C,,/MILLE,,/MILLE,,/MILLE,PMOL/KG,,UMOL/KG,,UMOL/KG,,DBAR,DEG C
33RO20100308,      A13.5,      54,          1,         24,      11714,2,20100327,       1953,   -27.4998,      1.689,       4534,     5.8,  22.9986,  36.0800,2,  36.0829,2, 216.1000,2,   216.6,2,    1.41,2,    0.00,2,    0.00,2,    0.17,2,   1.908,2,   1.189,2,   1.1600,2,  2074.7,6,  2369.4,6,    360.4,2,    20.00,   8.0220,2,    25.00,-999.000,9,-999.0000,9, -999.00,9,  23.0001,2, -999.00,9,  -999.0,9,  -999.0,   2.377,3, -999.00,9, -999.00,9,    5.80,  22.9974
33RO20100308,      A13.5,      54,          1,         23,      11713,2,20100327,       1953,   -27.4998,      1.689,       4534,    60.1,  22.1445,  35.9695,3,  35.9103,2, 222.8000,2,   229.6,6,    1.52,2,    0.02,2,    0.00,2,    0.18,2,   2.088,2,   1.289,2,   1.2680,2,  2066.6,2,  2360.1,2,    363.4,2,    20.00,   8.0164,2,    25.00,-999.000,9,-999.0000,9, -999.00,9,  21.9086,3, -999.00,9,  -999.0,9,  -999.0,   2.237,3, -999.00,9, -999.00,9,   60.10,  22.1325
33RO20100308,      A13.5,      54,          1,         22,      11712,2,20100327,       1953,   -27.4998,      1.689,       4534,   101.0,  16.4869,  35.4948,2,  35.4943,2, 240.6000,2,   237.6,2,    1.87,2,    0.79,2,    0.09,2,    0.27,2,   2.556,2,   1.553,2,   1.4250,2,  2073.0,2,  2331.0,2,    415.9,2,    20.00,   7.9663,2,    25.00,-999.000,9,-999.0000,9, -999.00,9,  16.4945,2, -999.00,9,  -999.0,9,  -999.0,   1.569,3, -999.00,9, -999.00,9,  101.00,  16.4706
33RO20100308,      A13.5,      54,          1,         21,      11010,2,20100327,       1953,   -27.4998,      1.689,       4534,   175.6,  13.9018,  35.2449,2,  35.2350,2, 221.6000,2,   207.2,3,    3.78,2,    9.29,2,    0.01,2,    0.75,2,   2.799,2,   1.664,2,   1.3080,2,  2112.7,2,  2317.7,2,    551.2,2,    20.00,   7.8590,2,    25.00,-999.000,9,-999.0000,9, -999.00,9,  13.9021,2, -999.00,9,  -999.0,9,  -999.0,   1.060,3, -999.00,9, -999.00,9,  175.60,  13.8765
33RO20100308,      A13.5,      54,          1,         20,      11715,2,20100327,       1953,   -27.4998,      1.689,       4534,   299.7,  11.6066,  34.9934,2,  34.9869,2, 215.1000,2,   213.6,2,    4.57,2,   13.04,2,    0.00,2,    0.98,2,   3.085,2,   1.757,2,   1.1920,2,  2124.2,2,  2305.4,2,   -999.0,9,  -999.00,   7.8128,2,    25.00,-999.000,9,-999.0000,9, -999.00,9,  11.6081,2, -999.00,9,  -999.0,9,  -999.0,   1.495,3, -999.00,9, -999.00,9,  299.70,  11.5682
33RO20100308,      A13.5,      54,          1,         19,      11007,2,20100327,       1953,   -27.4998,      1.689,       4534,   449.8,   8.5777,  34.6123,2,  34.6103,2, 215.1000,2,   213.9,2,    8.25,2,   20.18,2,    0.00,2,    1.43,2,   3.252,2,   1.791,2,   1.0980,2,  2145.1,2,  2290.8,2,    761.5,2,    20.00,   7.7297,2,    25.00,-999.000,9,-999.0000,9, -999.00,9,   8.5852,2, -999.00,9,  -999.0,9,  -999.0,   2.395,3, -999.00,9, -999.00,9,  449.80,   8.5298
33RO20100308,      A13.5,      54,          1,         18,      11710,2,20100327,       1953,   -27.4998,      1.689,       4534,   600.6,   5.9461,  34.3936,2,  34.3957,2, 207.2000,2,   207.6,2,   18.21,2,   27.34,2,    0.00,2,    1.90,2,   2.908,2,   1.518,2,   0.7190,2,  2172.7,2,  2286.7,2,    921.5,2,    20.00,   7.6537,2,    25.00,-999.000,9,-999.0000,9, -999.00,9,   5.9448,2, -999.00,9,  -999.0,9,  -999.0,   2.997,3, -999.00,9, -999.00,9,  600.60,   5.8935
33RO20100308,      A13.5,      54,          1,         17,      11025,2,20100327,       1953,   -27.4998,      1.689,       4534,   799.7,   4.2751,  34.3625,2,  34.3624,2, 198.1000,2,   197.7,2,   32.99,2,   31.45,2,    0.00,2,    2.19,2,   1.964,2,   0.975,2,   0.4470,2,  2198.1,2,  2295.8,2,   -999.0,9,  -999.00,   7.6085,2,    25.00,-999.000,9,-999.0000,9, -999.00,9,   4.2786,2, -999.00,9,  -999.0,9,  -999.0,   2.589,3, -999.00,9, -999.00,9,  799.70,   4.2143
33RO20100308,      A13.5,      54,          1,         16,      11709,2,20100327,       1953,   -27.4998,      1.689,       4534,   999.8,   3.4639,  34.4655,2,  34.4668,2, 180.3000,2,   180.2,2,   49.14,6,   33.06,6,    0.00,6,    2.31,6,   0.823,2,   0.399,2,   0.1360,2,  2222.5,2,  2312.2,6,   1107.7,2,    20.00,   7.5822,2,    25.00,-999.000,9,-999.0000,9, -999.00,9,   3.4634,2, -999.00,9,  -999.0,9,  -999.0,   1.339,3, -999.00,9, -999.00,9,  999.80,   3.3925
33RO20100308,      A13.5,      54,          1,         15,      11006,2,20100327,       1953,   -27.4998,      1.689,       4534,  1200.6,   3.1844,  34.5916,2,  34.5951,2, 179.2000,2,   179.2,2,   53.25,6,   31.96,6,    0.00,6,    2.23,6,   0.271,2,   0.133,2,   0.0640,2,  2229.4,6,  2321.3,3,   1087.0,2,    20.00,   7.5925,2,    25.00,-999.000,9,-999.0000,9, -999.00,9,   3.1840,2, -999.00,9,  -999.0,9,  -999.0,   0.560,3, -999.00,9, -999.00,9, 1200.60,   3.0991
33RO20100308,      A13.5,      54,          1,         14,      11708,2,20100327,       1953,   -27.4998,      1.689,       4534,  1400.7,   3.1685,  34.7219,2,  34.7218,2, 191.9000,2,   192.1,2,   47.83,2,   29.18,2,    0.00,2,    2.02,2,   0.081,2,   0.038,2,   0.0000,2,  2216.4,2,  2323.9,3,   -999.0,9,  -999.00,   7.6275,2,    25.00,-999.000,9,-999.0000,9, -999.00,9,   3.1682,2, -999.00,9,  -999.0,9,  -999.0,   0.215,3, -999.00,9, -999.00,9, 1400.70,   3.0667
33RO20100308,      A13.5,      54,          1,         13,      11031,2,20100327,       1953,   -27.4998,      1.689,       4534,  1600.1,   3.0918,  34.7933,2,  34.7924,2, 205.5000,2,   205.8,2,   44.69,2,   27.01,2,    0.00,2,    1.86,2,-999.000,9,-999.000,9,-999.0000,9,  2209.2,2,  2324.5,3,    928.2,2,    20.00,   7.6563,2,    25.00,-999.000,9,-999.0000,9, -999.00,9,   3.0934,2, -999.00,9,  -999.0,9,  -999.0,-999.000,9, -999.00,9, -999.00,9, 1600.10,   2.9738
33RO20100308,      A13.5,      54,          1,         12,      11027,2,20100327,       1953,   -27.4998,      1.689,       4534,  1799.9,   2.9992,  34.8366,2,  34.8363,2, 217.8000,2,   218.1,2,   41.98,2,   25.24,2,    0.00,2,    1.73,2,   0.014,2,   0.008,2,   0.0270,2,  2200.9,2,  2328.9,3,    871.8,2,    20.00,   7.6809,2,    25.00,-999.000,9,-999.0000,9, -999.00,9,   2.9989,2, -999.00,9,  -999.0,9,  -999.0,   0.079,3, -999.00,9, -999.00,9, 1799.90,   2.8649
33RO20100308,      A13.5,      54,          1,         11,      11707,2,20100327,       1953,   -27.4998,      1.689,       4534,  1999.7,   2.7683,  34.8416,2,  34.8407,2, 222.3000,2,   222.2,2,   46.06,2,   25.00,2,    0.00,2,    1.72,2,-999.000,9,-999.000,9,-999.0000,9,  2202.7,2,  2328.7,2,    864.9,2,    20.00,   7.6871,2,    25.00,-999.000,9,-999.0000,9, -999.00,9,   2.7683,2, -999.00,9,  -999.0,9,  -999.0,-999.000,9, -999.00,9, -999.00,9, 1999.70,   2.6195
33RO20100308,      A13.5,      54,          1,         10,      11003,2,20100327,       1953,   -27.4998,      1.689,       4534,  2200.3,   2.5666,  34.8451,2,  34.8450,2, 223.9000,2,   225.6,2,   50.21,2,   24.88,2,    0.00,2,    1.71,2,   0.010,2,   0.006,2,   0.0000,2,  2205.6,2,  2330.7,2,   -999.0,9,  -999.00,   7.6907,2,    25.00,-999.000,9,-999.0000,9, -999.00,9,   2.5662,2, -999.00,9,  -999.0,9,  -999.0,   0.053,3, -999.00,9, -999.00,9, 2200.30,   2.4029
33RO20100308,      A13.5,      54,          1,          9,      11706,2,20100327,       1953,   -27.4998,      1.689,       4534,  2400.5,   2.4837,  34.8542,2,  34.8539,2, 229.4000,2,   230.3,2,   49.91,2,   24.33,2,    0.00,2,    1.67,2,-999.000,9,-999.000,9,-999.0000,9,  2201.8,2,  2335.3,2,    840.6,2,    20.00,   7.7002,2,    25.00,-999.000,9,-999.0000,9, -999.00,9,   2.4841,2, -999.00,9,  -999.0,9,  -999.0,-999.000,9, -999.00,9, -999.00,9, 2400.50,   2.3029
33RO20100308,      A13.5,      54,          1,          8,      11033,2,20100327,       1953,   -27.4998,      1.689,       4534,  2600.0,   2.4049,  34.8597,2,  34.8582,2, 231.3000,2,   231.6,2,   51.40,2,   24.14,2,    0.00,2,    1.66,2,   0.004,2,   0.005,2,   0.0000,2,  2204.7,2,  2335.0,2,   -999.0,9,  -999.00,   7.7038,2,    25.00,-999.000,9,-999.0000,9, -999.00,9,   2.4045,2, -999.00,9,  -999.0,9,  -999.0,   0.027,3, -999.00,9, -999.00,9, 2600.00,   2.2067
33RO20100308,      A13.5,      54,          1,          7,      11705,2,20100327,       1953,   -27.4998,      1.689,       4534,  2794.9,   2.3596,  34.8649,2,  34.8644,2, 232.8000,2,   233.3,2,   52.07,2,   23.98,2,    0.00,2,    1.65,2,   0.004,2,   0.004,2,   0.0000,2,  2204.6,2,  2339.1,2,    819.6,2,    20.00,   7.7079,2,    25.00,-999.000,9,-999.0000,9, -999.00,9,   2.3590,2, -999.00,9,  -999.0,9,  -999.0,   0.024,3, -999.00,9, -999.00,9, 2794.90,   2.1434
33RO20100308,      A13.5,      54,          1,          6,      11029,9,20100327,       1953,   -27.4998,      1.689,       4534,  3099.0,   2.3246,  34.8754,2,-999.0000,9, 233.1000,2,  -999.0,9, -999.00,9, -999.00,9, -999.00,9, -999.00,9,-999.000,9,-999.000,9,-999.0000,9,  -999.0,9,  -999.0,9,   -999.0,9,  -999.00,-999.0000,9,  -999.00,-999.000,9,-999.0000,9, -999.00,9,   2.3245,2, -999.00,9,  -999.0,9,  -999.0,-999.000,9, -999.00,9, -999.00,9, 3099.00,   2.0787
33RO20100308,      A13.5,      54,          1,          5,      11704,2,20100327,       1953,   -27.4998,      1.689,       4534,  3399.9,   2.3083,  34.8805,2,  34.8801,2, 232.6000,2,   232.6,2,   52.78,2,   23.61,2,    0.00,2,    1.61,2,-999.000,9,-999.000,9,-999.0000,9,  2210.5,2,  2351.8,2,    802.5,2,    20.00,   7.7185,2,    25.00,-999.000,9,-999.0000,9, -999.00,9,   2.3080,2, -999.00,9,  -999.0,9,  -999.0,-999.000,9, -999.00,9, -999.00,9, 3399.90,   2.0314
33RO20100308,      A13.5,      54,          1,          4,      11030,2,20100327,       1953,   -27.4998,      1.689,       4534,  3700.2,   2.3179,  34.8835,2,  34.8829,2, 231.4000,2,   231.8,2,   52.89,6,   23.56,6,    0.00,6,    1.60,6,   0.002,6,   0.004,6,   0.0240,6,  2213.5,2,  2355.5,2,   -999.0,9,  -999.00,   7.7212,2,    25.00,-999.000,9,-999.0000,9, -999.00,9,   2.3174,2, -999.00,9,  -999.0,9,  -999.0,   0.009,3, -999.00,9, -999.00,9, 3700.20,   2.0083
33RO20100308,      A13.5,      54,          1,          3,      11703,2,20100327,       1953,   -27.4998,      1.689,       4534,  4000.4,   2.3419,  34.8846,2,  34.8839,2, 231.8000,2,   232.0,2,   52.94,6,   23.52,6,    0.00,6,    1.60,6,-999.000,9,-999.000,9,-999.0000,9,  2215.2,2,  2353.3,3,    797.0,2,    20.00,   7.7225,2,    25.00,-999.000,9,-999.0000,9, -999.00,9,   2.3415,2, -999.00,9,  -999.0,9,  -999.0,-999.000,9, -999.00,9, -999.00,9, 4000.40,   1.9980
33RO20100308,      A13.5,      54,          1,          2,      11702,2,20100327,       1953,   -27.4998,      1.689,       4534,  4300.4,   2.3753,  34.8853,2,  34.8837,2, 231.1000,2,   231.3,2,   52.79,2,   23.53,2,    0.00,2,    1.60,2,   0.004,2,   0.004,2,   0.0140,2,  2214.8,2,  2359.7,2,   -999.0,9,  -999.00,   7.7236,2,    25.00,-999.000,9,-999.0000,9, -999.00,9,   2.3749,2, -999.00,9,  -999.0,9,  -999.0,   0.014,3, -999.00,9, -999.00,9, 4300.40,   1.9957
33RO20100308,      A13.5,      54,          1,          1,      11701,2,20100327,       1953,   -27.4998,      1.689,       4534,  4579.8,   2.4087,  34.8854,2,  34.8850,2, 231.6000,2,   230.9,6,   52.67,2,   23.46,2,    0.00,2,    1.60,2,   0.003,2,   0.006,2,   0.0000,2,  2216.0,6,  2360.2,6,    797.0,2,    20.00,   7.7240,2,    25.00,-999.000,9,-999.0000,9, -999.00,9,   2.4080,2, -999.00,9,  -999.0,9,  -999.0,   0.015,3, -999.00,9, -999.00,9, 4579.80,   1.9945