BOTTLE,20130404CCHSIOCBG
EXPOCODE,SECT_ID,STNNBR,CASTNO,SAMPNO,BTLNBR,BTLNBR_FLAG_W,DATE,TIME,LATITUDE,LONGITUDE,DEPTH,CTDPRS,CTDTMP,CTDSAL,CTDSAL_FLAG_W,SALNTY,SALNTY_FLAG_W,CTDOXY,CTDOXY_FLAG_W,OXYGEN,OXYGEN_FLAG_W,SILCAT,SILCAT_FLAG_W,NITRAT,NITRAT_FLAG_W,NITRIT,NITRIT_FLAG_W,PHSPHT,PHSPHT_FLAG_W,CFC-11,CFC-11_FLAG_W,CFC-12,CFC-12_FLAG_W,SF6,SF6_FLAG_W,TCARBN,TCARBN_FLAG_W,ALKALI,ALKALI_FLAG_W,FCO2,FCO2_FLAG_W,FCO2TMP,PH_TOT,PH_TOT_FLAG_W,PH_TMP,TRITUM,TRITUM_FLAG_W,HELIUM,HELIUM_FLAG_W,DELHE3,DELHE3_FLAG_W,REFTMP,REFTMP_FLAG_W,DELC13,DELC13_FLAG_W,DELC14,DELC14_FLAG_W,C14ERR,CCL4,CCL4_FLAG_W,DOC,DOC_FLAG_W,TDN,TDN_FLAG_W,CTDRAW,THETA
,,,,,,,,,,,METERS,DBAR,ITS-90,PSS-78,,PSS-78,,UMOL/KG,,UMOL/KG,,UMOL/KG,,UMOL/KG,,UMOL/KG,,UMOL/KG,,PMOL/KG,,PMOL/KG,,FMOL/KG,,UMOL/KG,,UMOL/KG,,UATM,,DEG C,,,DEG C,TU,,NMOL/KG,,PERCNT,,DEG C,,/MILLE,,/MILLE,,/MILLE,PMOL/KG,,UMOL/KG,,UMOL/KG,,DBAR,DEG C
33RO20100308,      A13.5,      33,          1,         24,      11714,2,20100322,       1114,   -37.9998,     0.9838,       4776,     5.6,  17.7616,  34.8606,2,  34.8619,2, 248.4000,2,   243.4,2,    2.24,2,    0.00,2,    0.00,2,    0.21,2,   2.465,2,   1.494,2,   1.4220,2,  2047.8,6,  2307.2,6,    403.4,2,    20.00,   7.9798,2,    25.00,-999.000,9,-999.0000,9, -999.00,9,  17.7784,2,    1.89,2,    48.8,2,     3.4,   2.717,3,   59.74,2,    4.26,2,    5.60,  17.7606
33RO20100308,      A13.5,      33,          1,         23,      11713,2,20100322,       1114,   -37.9998,     0.9838,       4776,    24.9,  17.6164,  34.8785,2,  34.8852,2, 250.9000,2,   242.5,2,    2.28,2,    0.04,2,    0.00,2,    0.21,2,   2.458,2,   1.487,2,   1.4160,2,  2050.1,2,  2307.6,2,    400.2,6,    20.00,   7.9780,2,    25.00,-999.000,9,-999.0000,9, -999.00,9,  17.6197,2,    1.86,2,    44.8,2,     3.0,   2.703,3,   56.57,2,    4.93,2,   24.90,  17.6122
33RO20100308,      A13.5,      33,          1,         22,      11712,2,20100322,       1114,   -37.9998,     0.9838,       4776,    75.7,  13.5312,  34.9367,2,  34.9308,2, 238.2000,2,   238.3,2,    3.00,2,    4.47,2,    0.05,2,    0.50,2,   2.934,2,   1.752,2,   1.5330,2,  2090.8,2,  2306.8,2,    502.8,2,    20.00,   7.8923,2,    25.00,-999.000,9,-999.0000,9, -999.00,9,  13.5317,2,    1.39,2,    50.3,2,     3.0,   1.989,3,   51.36,2,    7.95,2,   75.70,  13.5206
33RO20100308,      A13.5,      33,          1,         21,      11010,2,20100322,       1114,   -37.9998,     0.9838,       4776,   150.4,  12.5925,  35.0906,2,  35.0886,2, 232.3000,2,   232.3,2,    4.05,2,    7.99,2,    0.02,2,    0.68,2,   3.023,2,   1.788,2,   1.4840,2,  2110.6,2,  2315.1,2,    547.6,2,    20.00,   7.8658,2,    25.00,-999.000,9,-999.0000,9, -999.00,9,  12.5927,2,    1.17,2,    54.4,2,     4.2,   1.768,3,   49.39,2,   11.34,2,  150.40,  12.5723
33RO20100308,      A13.5,      33,          1,         20,      11715,2,20100322,       1114,   -37.9998,     0.9838,       4776,   250.3,  11.3901,  34.9874,2,  34.9856,2, 223.8000,2,   223.0,6,    5.59,2,   12.20,2,    0.01,2,    0.92,2,   3.158,2,   1.812,2,   1.2860,2,  2125.7,2,  2309.8,2,    609.8,2,    20.00,   7.8219,4,    25.00,-999.000,9,-999.0000,9, -999.00,9,  11.3864,2,    1.12,2,    29.6,2,     3.0,   1.462,3,   46.16,2,   14.35,2,  250.30,  11.3585
33RO20100308,      A13.5,      33,          1,         19,      11007,9,20100322,       1114,   -37.9998,     0.9838,       4776,   349.8,   9.8021,  34.7675,2,-999.0000,9, 225.1000,2,  -999.0,9, -999.00,9, -999.00,9, -999.00,9, -999.00,9,-999.000,9,-999.000,9,-999.0000,9,  -999.0,9,  -999.0,9,   -999.0,9,  -999.00,-999.0000,9,  -999.00,-999.000,9,-999.0000,9, -999.00,9,   9.8065,2, -999.00,9,  -999.0,9,  -999.0,-999.000,9, -999.00,9, -999.00,9,  349.80,   9.7618
33RO20100308,      A13.5,      33,          1,         18,      11710,2,20100322,       1114,   -37.9998,     0.9838,       4776,   449.8,   8.0500,  34.5416,2,  34.5411,2, 233.4000,2,   233.6,2,    8.75,2,   19.53,2,    0.00,2,    1.40,2,   3.612,2,   2.007,2,   1.3550,2,  2142.4,2,  2289.8,2,    753.9,2,    20.00,   7.7385,2,    25.00,-999.000,9,-999.0000,9, -999.00,9,   8.0512,2,    1.15,2,    20.8,2,     3.8,   2.577,3,   41.87,2,   22.14,2,  449.80,   8.0039
33RO20100308,      A13.5,      33,          1,         17,      11025,2,20100322,       1114,   -37.9998,     0.9838,       4776,   599.9,   5.8111,  34.3098,2,  34.3101,2, 235.1000,2,   235.4,2,   13.85,2,   25.41,2,    0.00,2,    1.78,2,   3.786,2,   2.020,2,   1.1960,2,  2158.2,2,  2282.4,2,    871.2,2,    20.00,   7.6794,2,    25.00,-999.000,9,-999.0000,9, -999.00,9,   5.8117,2,    1.11,2,    -2.6,2,     3.7,   3.259,3,   40.20,2,   27.77,2,  599.90,   5.7593
33RO20100308,      A13.5,      33,          1,         16,      11709,2,20100322,       1114,   -37.9998,     0.9838,       4776,   749.9,   4.4017,  34.2215,2,  34.2222,2, 241.8000,2,   242.1,2,   20.40,2,   28.13,2,    0.00,2,    1.97,2,   3.578,2,   1.867,2,   0.9860,2,  2168.4,2,  2284.5,2,    917.0,2,    20.00,   7.6558,2,    25.00,-999.000,9,-999.0000,9, -999.00,9,   4.4021,2,    1.10,2,   -30.0,2,     2.8,   3.499,3,   39.36,2,   30.24,2,  749.90,   4.3444
33RO20100308,      A13.5,      33,          1,         15,      11006,2,20100322,       1114,   -37.9998,     0.9838,       4776,   874.2,   3.8519,  34.2328,2,  34.2333,2, 234.6000,2,   234.5,2,   27.14,2,   29.65,2,    0.00,2,    2.08,2,   3.095,2,   1.591,2,   0.7460,2,  2180.1,2,  2289.4,2,    958.4,2,    20.00,   7.6393,2,    25.00,-999.000,9,-999.0000,9, -999.00,9,   3.8511,2,    0.90,2,   -47.5,2,     3.1,   3.258,3,   39.09,2,   31.38,2,  874.20,   3.7880
33RO20100308,      A13.5,      33,          1,         14,      11708,2,20100322,       1114,   -37.9998,     0.9838,       4776,   999.5,   3.4919,  34.2846,2,  34.2860,2, 220.0000,2,   220.0,2,   35.98,2,   31.13,2,    0.00,2,    2.18,2,   2.379,2,   1.188,2,   0.4970,2,  2194.8,2,  2297.5,2,   1017.6,2,    20.00,   7.6180,2,    25.00,-999.000,9,-999.0000,9, -999.00,9,   3.4904,2,    0.86,2,   -68.5,2,     4.1,   2.679,3,   38.60,2,   33.18,2,  999.50,   3.4206
33RO20100308,      A13.5,      33,          1,         13,      11031,2,20100322,       1114,   -37.9998,     0.9838,       4776,  1101.4,   3.3119,  34.3434,2,  34.3448,2, 207.2000,2,   207.3,2,   42.95,2,   31.94,2,    0.00,2,    2.24,2,   1.745,2,   0.847,2,   0.3190,2,  2207.4,2,  2305.2,2,   1055.4,2,    20.00,   7.6048,2,    25.00,-999.000,9,-999.0000,9, -999.00,9,   3.3111,2,    0.84,2,   -79.6,2,     3.5,   2.076,3,   37.97,2,   33.39,2, 1101.40,   3.2339
33RO20100308,      A13.5,      33,          1,         12,      11027,2,20100322,       1114,   -37.9998,     0.9838,       4776,  1198.7,   3.1556,  34.3798,2,  34.3803,2, 200.8000,2,   200.6,2,   47.91,2,   32.34,2,    0.00,2,    2.28,2,   1.432,2,   0.691,2,   0.2700,2,  2215.3,2,  2310.1,2,   1085.5,2,    20.00,   7.5949,2,    25.00,-999.000,9,-999.0000,9, -999.00,9,   3.1544,2,    1.61,4,   -92.0,2,     2.8,   1.802,3,   37.84,2,   33.95,2, 1198.70,   3.0712
33RO20100308,      A13.5,      33,          1,         11,      11707,2,20100322,       1114,   -37.9998,     0.9838,       4776,  1399.9,   2.8845,  34.5017,2,  34.5036,2, 187.4000,2,   187.7,2,   58.42,6,   32.57,6,    0.00,6,    2.28,6,   0.693,6,   0.337,6,   0.1330,6,  2230.8,2,  2322.4,2,   1117.0,2,    20.00,   7.5854,2,    25.00,-999.000,9,-999.0000,9, -999.00,9,   2.8850,2,    0.75,2,  -112.2,2,     2.5,   1.020,3,   38.17,2,   34.12,2, 1399.90,   2.7863
33RO20100308,      A13.5,      33,          1,         10,      11003,2,20100322,       1114,   -37.9998,     0.9838,       4776,  1599.8,   2.7756,  34.6004,2,  34.6010,2, 182.9000,2,   183.3,2,   63.82,6,   31.94,6,    0.00,6,    2.24,6,   0.361,2,   0.177,2,   0.0740,2,  2235.5,6,  2330.1,6,   1108.9,2,    20.00,   7.5888,2,    25.00,-999.000,9,-999.0000,9, -999.00,9,   2.7760,2,    0.65,2,  -128.1,2,     2.5,   0.598,3,   38.58,2,   33.43,2, 1599.80,   2.6620
33RO20100308,      A13.5,      33,          1,          9,      11706,2,20100322,       1114,   -37.9998,     0.9838,       4776,  1899.9,   2.7156,  34.7150,2,  34.7144,2, 190.4000,2,   191.0,2,   64.54,6,   29.94,6,    0.00,6,    2.08,6,   0.135,2,   0.065,2,   0.0460,2,  2231.0,2,  2335.0,2,   1043.1,2,    20.00,   7.6163,2,    25.00,-999.000,9,-999.0000,9, -999.00,9,   2.7150,2,    0.64,2,  -132.6,2,     2.4,   0.282,3,   38.40,2,   31.45,2, 1899.90,   2.5769
33RO20100308,      A13.5,      33,          1,          8,      11033,2,20100322,       1114,   -37.9998,     0.9838,       4776,  2199.9,   2.6422,  34.7894,2,  34.7908,2, 205.0000,2,   206.3,2,   60.82,6,   27.62,6,    0.00,6,    1.92,6,   0.054,2,   0.027,2,   0.0000,2,  2219.2,2,  2338.0,2,    949.4,2,    20.00,   7.6512,2,    25.00,-999.000,9,-999.0000,9, -999.00,9,   2.6414,2,    0.80,2,  -128.2,2,     2.4,   0.165,3,   39.42,2,   29.06,2, 2199.90,   2.4775
33RO20100308,      A13.5,      33,          1,          7,      11705,2,20100322,       1114,   -37.9998,     0.9838,       4776,  2499.7,   2.5332,  34.8242,2,  34.8247,2, 215.8000,2,   217.4,2,   58.73,6,   26.14,6,    0.00,6,    1.81,6,   0.026,2,   0.012,2,   0.0000,2,  2214.3,2,  2337.7,2,    896.4,2,    20.00,   7.6725,2,    25.00,-999.000,9,-999.0000,9, -999.00,9,   2.5325,2,    0.78,2,  -128.4,2,     2.4,   0.084,3,   38.11,2,   27.30,2, 2499.70,   2.3423
33RO20100308,      A13.5,      33,          1,          6,      11029,2,20100322,       1114,   -37.9998,     0.9838,       4776,  2800.7,   2.4314,  34.8382,2,  34.8389,2, 222.7000,2,   223.6,2,   58.74,6,   25.43,6,    0.00,6,    1.78,6,   0.017,2,   0.008,2,   0.0000,2,  2211.1,2,  2340.8,2,    870.9,2,    20.00,   7.6855,2,    25.00,-999.000,9,-999.0000,9, -999.00,9,   2.4313,2,    0.81,2,  -124.1,2,     3.4,   0.058,3,   39.38,2,   26.86,2, 2800.70,   2.2133
33RO20100308,      A13.5,      33,          1,          5,      11704,2,20100322,       1114,   -37.9998,     0.9838,       4776,  3199.8,   2.2714,  34.8405,2,  34.8409,2, 225.8000,2,   226.4,6,   62.09,6,   25.34,6,    0.00,6,    1.75,6,   0.014,2,   0.006,2,   0.0040,2,  2213.2,2,  2342.9,2,    859.5,6,    20.00,   7.6896,2,    25.00,-999.000,9,-999.0000,9, -999.00,9,   2.2708,2,    0.82,2,  -136.2,2,     2.5,   0.050,3,   38.77,2,   26.73,2, 3199.80,   2.0165
33RO20100308,      A13.5,      33,          1,          4,      11030,4,20100322,       1114,   -37.9998,     0.9838,       4776,  3599.0,   1.9954,  34.8196,4,  34.8638,4, 223.4000,4,   243.5,4,    2.18,4,    0.00,4,    0.00,4,    0.21,4,-999.000,5,-999.000,5,-999.0000,5,  -999.0,9,  -999.0,9,   -999.0,9,  -999.00,-999.0000,9,  -999.00,-999.000,9,-999.0000,9, -999.00,9,   1.9955,2, -999.00,9,  -999.0,9,  -999.0,-999.000,5, -999.00,9, -999.00,9, 3599.00,   1.7055
33RO20100308,      A13.5,      33,          1,          3,      11703,2,20100322,       1114,   -37.9998,     0.9838,       4776,  3999.5,   1.4545,  34.7688,2,  34.7690,2, 218.5000,2,   219.1,2,   94.04,6,   28.87,6,    0.00,6,    2.03,6,   0.046,6,   0.023,6,   0.0050,6,  2240.7,2,  2360.1,2,    949.5,2,    20.00,   7.6574,2,    25.00,-999.000,9,-999.0000,9, -999.00,9,   1.4544,2,    0.66,2,  -144.9,2,     2.9,   0.131,3,   38.01,2,   30.06,2, 3999.50,   1.1363
33RO20100308,      A13.5,      33,          1,          2,      11702,2,20100322,       1114,   -37.9998,     0.9838,       4776,  4400.4,   1.1487,  34.7397,2,  34.7399,2, 217.6000,2,   217.5,6,  106.10,6,   30.16,6,    0.00,6,    2.11,6,   0.072,2,   0.035,2,   0.0000,2,  2253.6,2,  2366.0,2,    980.0,2,    20.00,   7.6418,2,    25.00,-999.000,9,-999.0000,9, -999.00,9,   1.1479,2,    0.62,2,  -156.0,2,     2.3,   0.193,3,   37.89,2,   31.60,2, 4400.40,   0.7954
33RO20100308,      A13.5,      33,          1,          1,      11701,2,20100322,       1114,   -37.9998,     0.9838,       4776,  4843.9,   1.1304,  34.7333,2,  34.7360,2, 217.0000,2,   216.7,2,  108.86,6,   30.47,6,    0.00,6,    2.14,2,   0.085,2,   0.042,2,   0.0140,2,  2253.4,6,  2367.8,6,    988.7,2,    20.00,   7.6395,2,    25.00,-999.000,9,-999.0000,9, -999.00,9,   1.1296,2,    0.56,2,  -153.0,2,     2.4,   0.218,3,   39.17,2,   31.93,2, 4843.90,   0.7268