BOTTLE,20130404CCHSIOCBG
EXPOCODE,SECT_ID,STNNBR,CASTNO,SAMPNO,BTLNBR,BTLNBR_FLAG_W,DATE,TIME,LATITUDE,LONGITUDE,DEPTH,CTDPRS,CTDTMP,CTDSAL,CTDSAL_FLAG_W,SALNTY,SALNTY_FLAG_W,CTDOXY,CTDOXY_FLAG_W,OXYGEN,OXYGEN_FLAG_W,SILCAT,SILCAT_FLAG_W,NITRAT,NITRAT_FLAG_W,NITRIT,NITRIT_FLAG_W,PHSPHT,PHSPHT_FLAG_W,CFC-11,CFC-11_FLAG_W,CFC-12,CFC-12_FLAG_W,SF6,SF6_FLAG_W,TCARBN,TCARBN_FLAG_W,ALKALI,ALKALI_FLAG_W,FCO2,FCO2_FLAG_W,FCO2TMP,PH_TOT,PH_TOT_FLAG_W,PH_TMP,TRITUM,TRITUM_FLAG_W,HELIUM,HELIUM_FLAG_W,DELHE3,DELHE3_FLAG_W,REFTMP,REFTMP_FLAG_W,DELC13,DELC13_FLAG_W,DELC14,DELC14_FLAG_W,C14ERR,CCL4,CCL4_FLAG_W,DOC,DOC_FLAG_W,TDN,TDN_FLAG_W,CTDRAW,THETA
,,,,,,,,,,,METERS,DBAR,ITS-90,PSS-78,,PSS-78,,UMOL/KG,,UMOL/KG,,UMOL/KG,,UMOL/KG,,UMOL/KG,,UMOL/KG,,PMOL/KG,,PMOL/KG,,FMOL/KG,,UMOL/KG,,UMOL/KG,,UATM,,DEG C,,,DEG C,TU,,NMOL/KG,,PERCNT,,DEG C,,/MILLE,,/MILLE,,/MILLE,PMOL/KG,,UMOL/KG,,UMOL/KG,,DBAR,DEG C
33RO20100308,      A13.5,      35,          1,         24,      11714,2,20100322,       2344,   -37.0005,     1.0002,       4963,     4.8,  19.1991,  35.1832,2,  35.1822,2, 234.3000,2,   234.4,2,    0.77,2,    0.00,2,    0.00,2,    0.17,2,   2.294,2,   1.396,2,   1.2890,2,  2059.0,6,  2322.7,6,    398.4,2,    20.00,   7.9823,2,    25.00,-999.000,9,-999.0000,9, -999.00,9,  19.1988,2, -999.00,9,  -999.0,9,  -999.0,   2.608,3,   62.06,2,    3.67,2,    4.80,  19.1982
33RO20100308,      A13.5,      35,          1,         23,      11713,2,20100322,       2344,   -37.0005,     1.0002,       4963,    50.0,  18.1082,  35.1720,2,  35.1639,2, 240.3000,2,   243.5,2,    0.85,2,    0.01,2,    0.00,2,    0.18,2,   2.456,2,   1.473,2,   1.3710,2,  2059.7,2,  2320.0,2,    403.4,2,    20.00,   7.9749,2,    25.00,-999.000,9,-999.0000,9, -999.00,9,  18.1148,2, -999.00,9,  -999.0,9,  -999.0,   2.439,3,   62.75,2,    4.63,2,   50.00,  18.0996
33RO20100308,      A13.5,      35,          1,         22,      11712,2,20100322,       2344,   -37.0005,     1.0002,       4963,    75.0,  15.5198,  35.1339,2,  35.1089,2, 252.3000,2,   250.2,2,    0.98,2,    0.60,2,    0.13,2,    0.28,2,   2.769,6,   1.668,6,   1.4710,2,  2075.6,2,  2316.5,2,    446.9,2,    20.00,   7.9433,2,    25.00,-999.000,9,-999.0000,9, -999.00,9,  15.5503,2, -999.00,9,  -999.0,9,  -999.0,   2.244,3,   57.77,2,    5.57,2,   75.00,  15.5082
33RO20100308,      A13.5,      35,          1,         21,      11010,2,20100322,       2344,   -37.0005,     1.0002,       4963,   100.0,  13.8586,  35.0733,2,  35.0783,2, 238.8000,2,   238.2,2,    1.41,2,    4.29,2,    0.05,2,    0.48,2,   2.921,2,   1.765,2,   1.9920,4,  2093.6,2,  2314.1,2,    494.3,2,    20.00,   7.9006,2,    25.00,-999.000,9,-999.0000,9, -999.00,9,  13.8605,2, -999.00,9,  -999.0,9,  -999.0,   2.064,3,   55.93,2,    8.30,2,  100.00,  13.8443
33RO20100308,      A13.5,      35,          1,         20,      11715,2,20100322,       2344,   -37.0005,     1.0002,       4963,   199.7,  12.5131,  35.1094,2,  35.1126,2, 220.9000,2,   224.7,2,    2.76,2,    9.28,2,    0.01,2,    0.75,2,   3.026,2,   1.763,2,   1.4130,2,  2117.2,2,  2316.2,2,    561.7,6,    20.00,   7.8547,2,    25.00,-999.000,9,-999.0000,9, -999.00,9,  12.5139,2, -999.00,9,  -999.0,9,  -999.0,   1.433,3,   49.74,2,   12.01,2,  199.70,  12.4863
33RO20100308,      A13.5,      35,          1,         19,      11007,2,20100322,       2344,   -37.0005,     1.0002,       4963,   299.6,  11.1536,  34.9476,2,  34.9482,2, 221.8000,2,   223.3,2,    4.04,2,   12.86,2,    0.00,2,    0.97,2,   3.175,2,   1.810,2,   1.3420,2,  2128.4,2,  2306.0,2,    621.2,2,    20.00,   7.8146,2,    25.00,-999.000,9,-999.0000,9, -999.00,9,  11.1534,2, -999.00,9,  -999.0,9,  -999.0,   1.454,3,   46.33,2,   14.96,2,  299.60,  11.1162
33RO20100308,      A13.5,      35,          1,         18,      11710,2,20100322,       2344,   -37.0005,     1.0002,       4963,   399.4,   9.6993,  34.7589,2,  34.7584,2, 218.6000,2,   219.4,6,    6.05,2,   16.94,2,    0.00,2,    1.22,2,   3.276,2,   1.814,2,   1.1680,2,  2139.0,2,  2299.1,2,    690.8,2,    20.00,   7.7680,2,    25.00,-999.000,9,-999.0000,9, -999.00,9,   9.7000,2, -999.00,9,  -999.0,9,  -999.0,   1.745,3,   44.76,2,   19.26,2,  399.40,   9.6535
33RO20100308,      A13.5,      35,          1,         17,      11025,2,20100322,       2344,   -37.0005,     1.0002,       4963,   550.8,   7.2092,  34.4663,2,  34.4647,2, 215.9000,2,   217.1,2,   11.00,2,   23.69,2,    0.00,2,    1.66,2,   3.386,2,   1.807,2,   1.0200,2,  2158.3,2,  2286.6,2,    836.2,2,    20.00,   7.6936,2,    25.00,-999.000,9,-999.0000,9, -999.00,9,   7.2086,2, -999.00,9,  -999.0,9,  -999.0,   2.499,3,   43.69,2,   25.72,2,  550.80,   7.1559
33RO20100308,      A13.5,      35,          1,         16,      11709,2,20100322,       2344,   -37.0005,     1.0002,       4963,   700.0,   5.4168,  34.3117,2,  34.3116,2, 226.6000,2,   227.5,2,   16.14,2,   26.93,2,    0.00,2,    1.89,2,   3.369,2,   1.751,2,   0.8540,2,  2167.2,2,  2283.9,2,    896.2,2,    20.00,   7.6643,2,    25.00,-999.000,9,-999.0000,9, -999.00,9,   5.4199,2, -999.00,9,  -999.0,9,  -999.0,   3.065,3,   41.58,2,   28.55,2,  700.00,   5.3580
33RO20100308,      A13.5,      35,          1,         15,      11006,2,20100322,       2344,   -37.0005,     1.0002,       4963,   850.1,   4.2490,  34.2654,2,  34.2665,2, 228.9000,2,   229.0,2,   23.99,2,   29.38,2,    0.00,2,    2.06,2,   2.967,2,   1.513,2,   0.7020,2,  2179.7,2,  2289.6,2,    950.0,2,    20.00,   7.6439,2,    25.00,-999.000,9,-999.0000,9, -999.00,9,   4.2535,2, -999.00,9,  -999.0,9,  -999.0,   3.103,3,   39.21,2,   31.14,2,  850.10,   4.1843
33RO20100308,      A13.5,      35,          1,         14,      11708,2,20100322,       2344,   -37.0005,     1.0002,       4963,  1000.6,   3.7162,  34.3134,2,  34.3085,2, 216.1000,2,   214.6,2,   34.87,2,   31.23,2,    0.00,2,    2.19,2,   2.258,2,   1.122,2,   0.4310,2,  2198.1,2,  2298.3,2,   1018.8,2,    20.00,   7.6163,2,    25.00,-999.000,9,-999.0000,9, -999.00,9,   3.7223,2, -999.00,9,  -999.0,9,  -999.0,   2.580,3,   39.17,2,   33.22,2, 1000.60,   3.6430
33RO20100308,      A13.5,      35,          1,         13,      11031,2,20100322,       2344,   -37.0005,     1.0002,       4963,  1199.7,   3.2215,  34.3998,2,  34.3993,2, 194.0000,2,   195.0,2,   48.45,2,   32.85,2,    0.00,2,    2.31,2,   1.325,2,   0.636,2,   0.2320,2,  2219.4,2,  2312.6,2,   1099.9,2,    20.00,   7.5884,2,    25.00,-999.000,9,-999.0000,9, -999.00,9,   3.2245,2, -999.00,9,  -999.0,9,  -999.0,   1.707,3,   38.61,2,   34.35,2, 1199.70,   3.1363
33RO20100308,      A13.5,      35,          1,         12,      11027,2,20100322,       2344,   -37.0005,     1.0002,       4963,  1399.9,   2.8983,  34.4932,2,  34.4939,2, 188.3000,2,   188.6,2,   55.95,2,   32.70,2,    0.00,2,    2.30,2,   0.732,2,   0.352,2,   0.1210,2,  2228.7,2,  2322.3,2,   1116.7,2,    20.00,   7.5847,2,    25.00,-999.000,9,-999.0000,9, -999.00,9,   2.8977,2, -999.00,9,  -999.0,9,  -999.0,   1.089,3,   38.32,2,   34.50,2, 1399.90,   2.8000
33RO20100308,      A13.5,      35,          1,         11,      11707,2,20100322,       2344,   -37.0005,     1.0002,       4963,  1599.5,   2.7862,  34.5983,2,  34.5982,2, 186.3000,2,   185.7,2,   61.00,2,   31.78,2,    0.00,2,    2.23,2,   0.373,2,   0.182,2,   0.0690,2,  2233.4,2,  2328.5,2,   1089.7,2,    20.00,   7.5931,2,    25.00,-999.000,9,-999.0000,9, -999.00,9,   2.7859,2, -999.00,9,  -999.0,9,  -999.0,   0.633,3,   39.43,2,   33.62,2, 1599.50,   2.6725
33RO20100308,      A13.5,      35,          1,         10,      11003,2,20100322,       2344,   -37.0005,     1.0002,       4963,  1794.6,   2.7361,  34.6751,2,  34.6752,2, 189.4000,2,   189.6,2,   62.36,2,   30.64,2,    0.00,2,    2.14,2,   0.207,2,   0.101,2,   0.0600,2,  2232.1,2,  2333.8,2,   1051.7,2,    20.00,   7.6078,2,    25.00,-999.000,9,-999.0000,9, -999.00,9,   2.7356,2, -999.00,9,  -999.0,9,  -999.0,   0.392,3,   39.38,2,   32.26,2, 1794.60,   2.6063
33RO20100308,      A13.5,      35,          1,          9,      11706,2,20100322,       2344,   -37.0005,     1.0002,       4963,  2000.0,   2.6916,  34.7403,2,  34.7415,2, 196.2000,2,   195.9,2,   62.18,2,   29.28,2,    0.00,2,    2.04,2,   0.111,2,   0.054,2,   0.0000,2,  2227.4,2,  2336.3,2,   1001.8,2,    20.00,   7.6265,2,    25.00,-999.000,9,-999.0000,9, -999.00,9,   2.6910,2, -999.00,9,  -999.0,9,  -999.0,   0.240,3,   39.51,2,   30.85,2, 2000.00,   2.5443
33RO20100308,      A13.5,      35,          1,          8,      11033,2,20100322,       2344,   -37.0005,     1.0002,       4963,  2299.9,   2.6169,  34.8013,2,  34.8019,2, 209.7000,2,   210.1,2,   58.54,2,   27.17,2,    0.00,2,    1.89,2,   0.046,2,   0.022,2,   0.0000,2,  2217.7,2,  2336.8,2,    930.2,2,    20.00,   7.6572,2,    25.00,-999.000,9,-999.0000,9, -999.00,9,   2.6167,2, -999.00,9,  -999.0,9,  -999.0,   0.124,3,   39.32,2,   28.39,2, 2299.90,   2.4434
33RO20100308,      A13.5,      35,          1,          7,      11705,2,20100322,       2344,   -37.0005,     1.0002,       4963,  2598.7,   2.4809,  34.8283,2,  34.8282,2, 219.0000,2,   219.5,6,   57.90,2,   25.83,2,    0.00,2,    1.79,2,-999.000,5,-999.000,5,-999.0000,5,  2212.8,2,  2339.1,2,    889.9,2,    20.00,   7.6750,2,    25.00,-999.000,9,-999.0000,9, -999.00,9,   2.4808,2, -999.00,9,  -999.0,9,  -999.0,-999.000,5,   39.12,2,   27.35,2, 2598.70,   2.2815
33RO20100308,      A13.5,      35,          1,          6,      11029,2,20100322,       2344,   -37.0005,     1.0002,       4963,  2899.1,   2.3749,  34.8399,2,  34.8402,2, 224.3000,2,   226.1,2,   58.24,2,   25.42,2,    0.00,2,    1.75,2,   0.019,2,   0.014,2,   0.0430,2,  2209.7,2,  2342.3,2,    868.1,2,    20.00,   7.6859,2,    25.00,-999.000,9,-999.0000,9, -999.00,9,   2.3746,2, -999.00,9,  -999.0,9,  -999.0,   0.068,3,   38.32,2,   27.01,2, 2899.10,   2.1482
33RO20100308,      A13.5,      35,          1,          5,      11704,2,20100322,       2344,   -37.0005,     1.0002,       4963,  3099.5,   2.2714,  34.8387,2,  34.8396,2, 224.4000,2,   225.9,2,   60.99,6,   25.42,6,    0.00,6,    1.75,6,   0.016,2,   0.007,2,   0.0000,2,  2212.4,2,  2344.5,2,    873.5,2,    20.00,   7.6868,2,    25.00,-999.000,9,-999.0000,9, -999.00,9,   2.2707,2, -999.00,9,  -999.0,9,  -999.0,   0.058,3,   38.63,2,   26.82,2, 3099.50,   2.0268
33RO20100308,      A13.5,      35,          1,          4,      11030,2,20100322,       2344,   -37.0005,     1.0002,       4963,  3499.7,   1.9661,  34.8165,2,  34.8169,2, 222.9000,2,   223.3,2,   72.89,6,   26.66,6,    0.00,6,    1.85,6,   0.025,2,   0.012,2,   0.0000,2,  2224.3,2,  2353.0,2,    898.3,2,    20.00,   7.6782,2,    25.00,-999.000,9,-999.0000,9, -999.00,9,   1.9656,2, -999.00,9,  -999.0,9,  -999.0,   0.069,3,   38.92,2,   28.27,2, 3499.70,   1.6875
33RO20100308,      A13.5,      35,          1,          3,      11703,2,20100322,       2344,   -37.0005,     1.0002,       4963,  4299.3,   1.1558,  34.7415,2,  34.7412,2, 217.3000,2,   217.4,2,  104.65,6,   30.04,6,    0.00,6,    2.11,6,   0.072,2,   0.035,2,   0.0000,2,  2249.6,2,  2366.4,2,    978.7,2,    20.00,   7.6406,2,    25.00,-999.000,9,-999.0000,9, -999.00,9,   1.1551,2, -999.00,9,  -999.0,9,  -999.0,   0.174,3,   39.63,2,   32.09,2, 4299.30,   0.8136
33RO20100308,      A13.5,      35,          1,          2,      11702,2,20100322,       2344,   -37.0005,     1.0002,       4963,  4700.7,   1.1211,  34.7345,2,  34.7349,2, 217.9000,2,   217.2,2,  107.80,6,   30.47,6,    0.00,6,    2.13,6,   0.086,2,   0.042,2,   0.0000,2,  2252.8,2,  2366.8,2,    989.8,6,    20.00,   7.6390,2,    25.00,-999.000,9,-999.0000,9, -999.00,9,   1.1208,2, -999.00,9,  -999.0,9,  -999.0,   0.199,3,   38.49,2,   32.24,2, 4700.70,   0.7345
33RO20100308,      A13.5,      35,          1,          1,      11701,2,20100322,       2344,   -37.0005,     1.0002,       4963,  5026.5,   1.1448,  34.7327,2,  34.7333,2, 216.5000,2,   216.5,2,  108.25,6,   30.49,6,    0.00,6,    2.14,6,   0.087,2,   0.041,2,   0.0600,2,  2253.9,6,  2369.0,6,    988.0,2,    20.00,   7.6389,2,    25.00,-999.000,9,-999.0000,9, -999.00,9,   1.1440,2, -999.00,9,  -999.0,9,  -999.0,   0.200,3,   38.64,2,   32.26,2, 5026.50,   0.7190