BOTTLE,20130404CCHSIOCBG
EXPOCODE,SECT_ID,STNNBR,CASTNO,SAMPNO,BTLNBR,BTLNBR_FLAG_W,DATE,TIME,LATITUDE,LONGITUDE,DEPTH,CTDPRS,CTDTMP,CTDSAL,CTDSAL_FLAG_W,SALNTY,SALNTY_FLAG_W,CTDOXY,CTDOXY_FLAG_W,OXYGEN,OXYGEN_FLAG_W,SILCAT,SILCAT_FLAG_W,NITRAT,NITRAT_FLAG_W,NITRIT,NITRIT_FLAG_W,PHSPHT,PHSPHT_FLAG_W,CFC-11,CFC-11_FLAG_W,CFC-12,CFC-12_FLAG_W,SF6,SF6_FLAG_W,TCARBN,TCARBN_FLAG_W,ALKALI,ALKALI_FLAG_W,FCO2,FCO2_FLAG_W,FCO2TMP,PH_TOT,PH_TOT_FLAG_W,PH_TMP,TRITUM,TRITUM_FLAG_W,HELIUM,HELIUM_FLAG_W,DELHE3,DELHE3_FLAG_W,REFTMP,REFTMP_FLAG_W,DELC13,DELC13_FLAG_W,DELC14,DELC14_FLAG_W,C14ERR,CCL4,CCL4_FLAG_W,DOC,DOC_FLAG_W,TDN,TDN_FLAG_W,CTDRAW,THETA
,,,,,,,,,,,METERS,DBAR,ITS-90,PSS-78,,PSS-78,,UMOL/KG,,UMOL/KG,,UMOL/KG,,UMOL/KG,,UMOL/KG,,UMOL/KG,,PMOL/KG,,PMOL/KG,,FMOL/KG,,UMOL/KG,,UMOL/KG,,UATM,,DEG C,,,DEG C,TU,,NMOL/KG,,PERCNT,,DEG C,,/MILLE,,/MILLE,,/MILLE,PMOL/KG,,UMOL/KG,,UMOL/KG,,DBAR,DEG C
33RO20100308,      A13.5,      68,          1,         24,      11714,2,20100331,       1400,      -20.5,     1.2915,       5521,     5.8,  23.9340,  36.3362,2,  36.3360,2, 212.1000,2,   212.3,2,    0.55,2,    0.01,2,    0.00,2,    0.21,2,   1.826,2,   1.133,2,   1.1220,2,  2078.8,6,  2391.4,6,    344.4,2,    20.00,   8.0385,2,    25.00,-999.000,9,-999.0000,9, -999.00,9,-999.0000,9, -999.00,9,  -999.0,9,  -999.0,   2.159,3, -999.00,9, -999.00,9,    5.80,  23.9328
33RO20100308,      A13.5,      68,          1,         23,      11713,2,20100331,       1400,      -20.5,     1.2915,       5521,    30.4,  23.9122,  36.3330,4,  35.9450,2, 212.3000,2,   212.5,2,    0.56,2,    0.02,2,    0.00,2,    0.22,2,   1.821,2,   1.133,2,   1.1060,2,  2078.0,2,  2391.8,2,    343.7,2,    20.00,   8.0372,2,    25.00,-999.000,9,-999.0000,9, -999.00,9,-999.0000,9, -999.00,9,  -999.0,9,  -999.0,   2.070,3, -999.00,9, -999.00,9,   30.40,  23.9058
33RO20100308,      A13.5,      68,          1,         22,      11712,2,20100331,       1400,      -20.5,     1.2915,       5521,    59.9,  20.2141,  35.9430,4,  36.3321,2, 243.2000,2,   242.6,6,    1.22,2,    0.04,2,    0.00,2,    0.21,2,   2.290,6,   1.385,6,   1.2790,6,  2074.1,2,  2365.9,2,    368.7,2,    20.00,   8.0117,2,    25.00,-999.000,9,-999.0000,9, -999.00,9,-999.0000,9, -999.00,9,  -999.0,9,  -999.0,   1.862,3, -999.00,9, -999.00,9,   59.90,  20.2029
33RO20100308,      A13.5,      68,          1,         21,      11010,2,20100331,       1400,      -20.5,     1.2915,       5521,    99.9,  17.9917,  35.7949,2,  35.7952,2, 222.2000,2,   221.8,2,    1.64,2,    1.64,2,    0.23,2,    0.37,2,   2.409,2,   1.438,2,   1.3500,2,  2093.5,2,  2355.5,2,    420.7,2,    20.00,   7.9609,2,    25.00,-999.000,9,-999.0000,9, -999.00,9,-999.0000,9, -999.00,9,  -999.0,9,  -999.0,   1.668,3, -999.00,9, -999.00,9,   99.90,  17.9745
33RO20100308,      A13.5,      68,          1,         20,      11715,2,20100331,       1400,      -20.5,     1.2915,       5521,   201.1,  13.1439,  35.1714,2,  35.1672,2, 170.7000,2,   169.2,2,    4.90,2,   14.97,2,    0.00,2,    1.07,2,   2.859,2,   1.610,2,   1.0380,2,  2146.8,2,  2312.8,2,    679.9,6,    20.00,   7.7737,2,    25.00,-999.000,9,-999.0000,9, -999.00,9,-999.0000,9, -999.00,9,  -999.0,9,  -999.0,   0.693,3, -999.00,9, -999.00,9,  201.10,  13.1160
33RO20100308,      A13.5,      68,          1,         19,      11007,2,20100331,       1400,      -20.5,     1.2915,       5521,   301.0,  10.7252,  34.8958,2,  34.8975,2, 165.2000,2,   164.2,2,    7.96,2,   20.44,2,    0.00,2,    1.39,2,   2.870,2,   1.534,2,   0.8050,2,  2164.9,2,  2300.8,2,    812.5,2,    20.00,   7.7071,2,    25.00,-999.000,9,-999.0000,9, -999.00,9,-999.0000,9, -999.00,9,  -999.0,9,  -999.0,   0.925,3, -999.00,9, -999.00,9,  301.00,  10.6885
33RO20100308,      A13.5,      68,          1,         18,      11710,2,20100331,       1400,      -20.5,     1.2915,       5521,   449.7,   7.4189,  34.5657,2,  34.5670,2, 153.7000,2,   153.3,2,   16.30,2,   29.21,2,    0.00,2,    1.96,2,   2.179,2,   1.098,2,   0.4640,2,  2193.2,2,  2292.3,6,   1042.9,2,    20.00,   7.6042,2,    25.00,-999.000,9,-999.0000,9, -999.00,9,-999.0000,9, -999.00,9,  -999.0,9,  -999.0,   1.354,3, -999.00,9, -999.00,9,  449.70,   7.3749
33RO20100308,      A13.5,      68,          1,         17,      11025,2,20100331,       1400,      -20.5,     1.2915,       5521,   600.0,   5.4934,  34.4566,2,  34.4576,2, 151.0000,2,   150.6,2,   25.00,2,   33.77,2,    0.00,2,    2.27,2,   1.007,2,   0.493,2,   0.2160,2,  2211.1,6,  2295.4,2,   1172.2,2,    20.00,   7.5588,2,    25.00,-999.000,9,-999.0000,9, -999.00,9,-999.0000,9, -999.00,9,  -999.0,9,  -999.0,   1.074,3, -999.00,9, -999.00,9,  600.00,   5.4429
33RO20100308,      A13.5,      68,          1,         16,      11709,2,20100331,       1400,      -20.5,     1.2915,       5521,   749.8,   4.3540,  34.4385,2,  34.4395,2, 166.8000,2,   166.3,2,   33.14,2,   33.94,2,    0.00,2,    2.31,2,   0.414,2,   0.205,2,   0.0000,2,  2213.0,2,  2300.8,2,   1148.1,6,    20.00,   7.5719,2,    25.00,-999.000,9,-999.0000,9, -999.00,9,-999.0000,9, -999.00,9,  -999.0,9,  -999.0,   0.717,3, -999.00,9, -999.00,9,  749.80,   4.2967
33RO20100308,      A13.5,      68,          1,         15,      11006,2,20100331,       1400,      -20.5,     1.2915,       5521,   901.8,   3.9123,  34.4892,2,  34.4904,2, 169.0000,2,   169.0,2,   37.76,2,   33.67,2,    0.00,2,    2.30,2,   0.164,2,   0.086,2,   0.0000,2,  2219.4,2,  2307.6,2,   1133.4,2,    20.00,   7.5758,2,    25.00,-999.000,9,-999.0000,9, -999.00,9,-999.0000,9, -999.00,9,  -999.0,9,  -999.0,   0.408,3, -999.00,9, -999.00,9,  901.80,   3.8454
33RO20100308,      A13.5,      68,          1,         14,      11708,2,20100331,       1400,      -20.5,     1.2915,       5521,  1100.3,   3.7170,  34.6087,2,  34.6083,2, 176.0000,2,   175.1,2,   38.58,2,   31.93,2,    0.00,2,    2.18,2,   0.043,2,   0.023,2,   0.0270,2,  2218.3,2,  2314.1,2,   1081.2,2,    20.00,   7.5959,2,    25.00,-999.000,9,-999.0000,9, -999.00,9,-999.0000,9, -999.00,9,  -999.0,9,  -999.0,   0.164,3, -999.00,9, -999.00,9, 1100.30,   3.6351
33RO20100308,      A13.5,      68,          1,         13,      11031,2,20100331,       1400,      -20.5,     1.2915,       5521,  1299.8,   3.7012,  34.7321,2,  34.7319,2, 190.1000,2,   190.3,2,   34.80,2,   29.02,2,    0.00,2,    1.97,2,-999.000,9,-999.000,9,-999.0000,9,  2207.0,2,  2317.2,2,    986.3,2,    20.00,   7.6320,2,    25.00,-999.000,9,-999.0000,9, -999.00,9,-999.0000,9, -999.00,9,  -999.0,9,  -999.0,-999.000,9, -999.00,9, -999.00,9, 1299.80,   3.6024
33RO20100308,      A13.5,      68,          1,         12,      11027,2,20100331,       1400,      -20.5,     1.2915,       5521,  1501.7,   3.6082,  34.8212,2,  34.8202,2, 208.5000,2,   207.7,2,   31.85,2,   26.21,2,    0.00,2,    1.77,2,   0.012,2,   0.007,2,   0.0000,2,  2196.0,2,  2315.6,3,    896.9,2,    20.00,   7.6673,2,    25.00,-999.000,9,-999.0000,9, -999.00,9,-999.0000,9, -999.00,9,  -999.0,9,  -999.0,   0.091,3, -999.00,9, -999.00,9, 1501.70,   3.4926
33RO20100308,      A13.5,      68,          1,         11,      11707,2,20100331,       1400,      -20.5,     1.2915,       5521,  1701.1,   3.4192,  34.8750,2,  34.8739,2, 223.7000,2,   223.0,2,   30.94,2,   24.09,2,    0.00,2,    1.62,2,-999.000,9,-999.000,9,-999.0000,9,  2186.8,2,  2320.0,2,    842.6,2,    20.00,   7.6947,2,    25.00,-999.000,9,-999.0000,9, -999.00,9,-999.0000,9, -999.00,9,  -999.0,9,  -999.0,-999.000,9, -999.00,9, -999.00,9, 1701.10,   3.2880
33RO20100308,      A13.5,      68,          1,         10,      11003,2,20100331,       1400,      -20.5,     1.2915,       5521,  2100.2,   3.0560,  34.9045,2,  34.9042,2, 238.2000,2,   238.0,2,   33.18,2,   22.52,2,    0.00,2,    1.52,2,-999.000,9,-999.000,9,-999.0000,9,  2181.5,2,  2325.4,2,    800.5,2,    20.00,   7.7167,2,    25.00,-999.000,9,-999.0000,9, -999.00,9,-999.0000,9, -999.00,9,  -999.0,9,  -999.0,-999.000,9, -999.00,9, -999.00,9, 2100.20,   2.8935
33RO20100308,      A13.5,      68,          1,          9,      11706,2,20100331,       1400,      -20.5,     1.2915,       5521,  2401.0,   2.8137,  34.8975,2,  34.8973,2, 238.6000,2,   238.6,2,   38.06,2,   22.75,2,    0.00,2,    1.53,2,   0.005,2,   0.005,2,   0.0000,2,  2186.4,2,  2329.5,2,    803.5,2,    20.00,   7.7175,2,    25.00,-999.000,9,-999.0000,9, -999.00,9,-999.0000,9, -999.00,9,  -999.0,9,  -999.0,   0.048,3, -999.00,9, -999.00,9, 2401.00,   2.6269
33RO20100308,      A13.5,      68,          1,          8,      11033,2,20100331,       1400,      -20.5,     1.2915,       5521,  2802.6,   2.6160,  34.8916,2,  34.8920,2, 237.5000,2,   235.8,2,   43.38,2,   23.20,2,    0.00,2,    1.57,2,-999.000,9,-999.000,9,-999.0000,9,  2194.4,2,  2335.3,2,    805.1,2,    20.00,   7.7143,2,    25.00,-999.000,9,-999.0000,9, -999.00,9,-999.0000,9, -999.00,9,  -999.0,9,  -999.0,-999.000,9, -999.00,9, -999.00,9, 2802.60,   2.3937
33RO20100308,      A13.5,      68,          1,          7,      11705,2,20100331,       1400,      -20.5,     1.2915,       5521,  3201.4,   2.4899,  34.8905,2,  34.8898,2, 233.2000,2,   231.4,2,   47.76,6,   23.56,6,    0.00,6,    1.58,6,-999.000,9,-999.000,9,-999.0000,9,  2202.8,2,  2341.9,2,    811.1,2,    20.00,   7.7121,2,    25.00,-999.000,9,-999.0000,9, -999.00,9,-999.0000,9, -999.00,9,  -999.0,9,  -999.0,-999.000,9, -999.00,9, -999.00,9, 3201.40,   2.2296
33RO20100308,      A13.5,      68,          1,          6,      11029,2,20100331,       1400,      -20.5,     1.2915,       5521,  3601.1,   2.4196,  34.8901,2,  34.8897,2, 231.2000,2,   231.3,2,   50.10,6,   23.68,6,    0.00,6,    1.59,6,   0.002,2,   0.002,2,   0.0000,2,  2207.8,2,  2349.7,2,    808.4,2,    20.00,   7.7145,2,    25.00,-999.000,9,-999.0000,9, -999.00,9,-999.0000,9, -999.00,9,  -999.0,9,  -999.0,   0.007,3, -999.00,9, -999.00,9, 3601.10,   2.1182
33RO20100308,      A13.5,      68,          1,          5,      11704,2,20100331,       1400,      -20.5,     1.2915,       5521,  4000.8,   2.3959,  34.8890,2,  34.8878,2, 232.0000,2,   232.2,2,   51.01,6,   23.61,6,    0.00,6,    1.59,6,-999.000,9,-999.000,9,-999.0000,9,  2209.3,2,  2352.0,2,    803.1,2,    20.00,   7.7163,2,    25.00,-999.000,9,-999.0000,9, -999.00,9,-999.0000,9, -999.00,9,  -999.0,9,  -999.0,-999.000,9, -999.00,9, -999.00,9, 4000.80,   2.0505
33RO20100308,      A13.5,      68,          1,          4,      11030,2,20100331,       1400,      -20.5,     1.2915,       5521,  4400.8,   2.3997,  34.8868,2,  34.8864,2, 232.1000,2,   231.5,2,   52.02,6,   23.64,6,    0.00,6,    1.59,6,-999.000,9,-999.000,9,-999.0000,9,  2212.2,2,  2356.1,2,    800.8,2,    20.00,   7.7186,2,    25.00,-999.000,9,-999.0000,9, -999.00,9,-999.0000,9, -999.00,9,  -999.0,9,  -999.0,-999.000,9, -999.00,9, -999.00,9, 4400.80,   2.0074
33RO20100308,      A13.5,      68,          1,          3,      11703,2,20100331,       1400,      -20.5,     1.2915,       5521,  4700.4,   2.4154,  34.8850,2,  34.8839,2, 232.7000,2,   233.4,6,   52.06,6,   23.56,6,    0.00,6,    1.58,6,   0.004,2,   0.005,2,   0.0410,3,  2211.6,2,  2355.7,2,    798.4,2,    20.00,   7.7191,2,    25.00,-999.000,9,-999.0000,9, -999.00,9,-999.0000,9, -999.00,9,  -999.0,9,  -999.0,   0.021,3, -999.00,9, -999.00,9, 4700.40,   1.9863
33RO20100308,      A13.5,      68,          1,          2,      11702,2,20100331,       1400,      -20.5,     1.2915,       5521,  5100.2,   2.4445,  34.8829,2,  34.8826,2, 234.4000,2,   233.9,2,   52.33,6,   23.55,6,    0.00,6,    1.58,6,   0.003,2,   0.004,2,   0.0000,2,  2213.2,2,  2356.7,2,    796.7,2,    20.00,   7.7186,2,    25.00,-999.000,9,-999.0000,9, -999.00,9,-999.0000,9, -999.00,9,  -999.0,9,  -999.0,   0.030,3, -999.00,9, -999.00,9, 5100.20,   1.9642
33RO20100308,      A13.5,      68,          1,          1,      11701,2,20100331,       1400,      -20.5,     1.2915,       5521,  5604.5,   2.5037,  34.8816,2,  34.8851,2, 234.8000,2,   233.7,2,   52.57,6,   23.53,6,    0.00,6,    1.58,6,   0.005,2,   0.005,2,   0.0000,2,  2213.7,6,  2360.2,6,    794.2,2,    20.00,   7.7223,2,    25.00,-999.000,9,-999.0000,9, -999.00,9,-999.0000,9, -999.00,9,  -999.0,9,  -999.0,   0.036,3, -999.00,9, -999.00,9, 5604.50,   1.9551