BOTTLE,20130404CCHSIOCBG
EXPOCODE,SECT_ID,STNNBR,CASTNO,SAMPNO,BTLNBR,BTLNBR_FLAG_W,DATE,TIME,LATITUDE,LONGITUDE,DEPTH,CTDPRS,CTDTMP,CTDSAL,CTDSAL_FLAG_W,SALNTY,SALNTY_FLAG_W,CTDOXY,CTDOXY_FLAG_W,OXYGEN,OXYGEN_FLAG_W,SILCAT,SILCAT_FLAG_W,NITRAT,NITRAT_FLAG_W,NITRIT,NITRIT_FLAG_W,PHSPHT,PHSPHT_FLAG_W,CFC-11,CFC-11_FLAG_W,CFC-12,CFC-12_FLAG_W,SF6,SF6_FLAG_W,TCARBN,TCARBN_FLAG_W,ALKALI,ALKALI_FLAG_W,FCO2,FCO2_FLAG_W,FCO2TMP,PH_TOT,PH_TOT_FLAG_W,PH_TMP,TRITUM,TRITUM_FLAG_W,HELIUM,HELIUM_FLAG_W,DELHE3,DELHE3_FLAG_W,REFTMP,REFTMP_FLAG_W,DELC13,DELC13_FLAG_W,DELC14,DELC14_FLAG_W,C14ERR,CCL4,CCL4_FLAG_W,DOC,DOC_FLAG_W,TDN,TDN_FLAG_W,CTDRAW,THETA
,,,,,,,,,,,METERS,DBAR,ITS-90,PSS-78,,PSS-78,,UMOL/KG,,UMOL/KG,,UMOL/KG,,UMOL/KG,,UMOL/KG,,UMOL/KG,,PMOL/KG,,PMOL/KG,,FMOL/KG,,UMOL/KG,,UMOL/KG,,UATM,,DEG C,,,DEG C,TU,,NMOL/KG,,PERCNT,,DEG C,,/MILLE,,/MILLE,,/MILLE,PMOL/KG,,UMOL/KG,,UMOL/KG,,DBAR,DEG C
33RO20100308,      A13.5,      39,          1,         24,      11714,2,20100324,       0051,   -34.9998,     1.0927,       4881,     5.5,  19.4836,  35.2665,2,  35.2686,2, 231.7000,2,   232.9,2,    0.71,2,    0.00,2,    0.00,2,    0.16,2,   2.277,2,   1.383,2,   1.2870,2,  2061.3,6,  2326.3,6,    395.5,2,    20.00,   7.9842,2,    25.00,-999.000,9,-999.0000,9, -999.00,9,  19.4813,2, -999.00,9,  -999.0,9,  -999.0,   2.607,3,   64.22,2,    3.85,2,    5.50,  19.4826
33RO20100308,      A13.5,      39,          1,         23,      11713,2,20100324,       0051,   -34.9998,     1.0927,       4881,    30.0,  19.3937,  35.2453,2,  35.2376,2, 232.4000,2,   235.1,2,    0.70,2,    0.01,2,    0.00,2,    0.17,2,   2.309,6,   1.392,6,   1.3200,6,  2058.5,2,  2323.7,2,    394.1,6,    20.00,   7.9833,2,    25.00,-999.000,9,-999.0000,9, -999.00,9,  19.4085,2, -999.00,9,  -999.0,9,  -999.0,   2.591,3,   63.22,2,    4.17,2,   30.00,  19.3883
33RO20100308,      A13.5,      39,          1,         22,      11712,2,20100324,       0051,   -34.9998,     1.0927,       4881,    75.2,  16.0587,  35.1143,2,  35.1177,2, 243.7000,2,   244.5,2,    0.73,2,    0.14,2,    0.09,2,    0.24,2,   2.687,2,   1.627,2,   1.9390,4,  2070.4,2,  2319.8,2,    428.3,2,    20.00,   7.9512,2,    25.00,-999.000,9,-999.0000,9, -999.00,9,  15.9945,2, -999.00,9,  -999.0,9,  -999.0,   2.356,3,   57.10,2,    4.32,2,   75.20,  16.0468
33RO20100308,      A13.5,      39,          1,         21,      11010,2,20100324,       0051,   -34.9998,     1.0927,       4881,   100.5,  15.1429,  35.3084,2,  35.3101,2, 239.6000,2,   239.4,2,    1.12,2,    1.26,2,    0.23,2,    0.31,2,   2.731,2,   1.626,2,   1.4650,2,  2088.0,2,  2326.8,2,    449.0,2,    20.00,   7.9342,2,    25.00,-999.000,9,-999.0000,9, -999.00,9,  15.1421,2, -999.00,9,  -999.0,9,  -999.0,   2.087,3,   54.79,2,    5.32,2,  100.50,  15.1276
33RO20100308,      A13.5,      39,          1,         20,      11715,2,20100324,       0051,   -34.9998,     1.0927,       4881,   200.8,  13.5460,  35.2283,2,  35.2277,2, 231.5000,2,   226.7,2,    1.95,2,    6.56,2,    0.01,2,    0.59,2,   2.913,2,   1.708,2,   1.4010,2,  2109.1,2,  2322.6,2,    518.8,2,    20.00,   7.8826,2,    25.00,-999.000,9,-999.0000,9, -999.00,9,  13.5523,2, -999.00,9,  -999.0,9,  -999.0,   1.566,3,   50.13,2,    9.47,2,  200.80,  13.5176
33RO20100308,      A13.5,      39,          1,         19,      11007,2,20100324,       0051,   -34.9998,     1.0927,       4881,   299.8,  12.3744,  35.1217,2,  35.1215,2, 227.7000,2,   226.5,2,    2.83,2,    9.69,2,    0.01,2,    0.76,2,   3.024,2,   1.757,2,   1.3780,2,  2119.4,2,  2316.0,2,    570.3,2,    20.00,   7.8531,2,    25.00,-999.000,9,-999.0000,9, -999.00,9,  12.3690,2, -999.00,9,  -999.0,9,  -999.0,   1.397,3,   48.35,2,   12.40,2,  299.80,  12.3343
33RO20100308,      A13.5,      39,          1,         18,      11710,2,20100324,       0051,   -34.9998,     1.0927,       4881,   549.8,   8.5684,  34.6195,2,  34.6193,2, 209.3000,2,   213.0,2,    8.79,2,   20.58,2,    0.00,2,    1.45,2,   3.274,2,   1.773,2,   1.0190,2,  2151.2,2,  2294.3,2,    768.5,2,    20.00,   7.7260,2,    25.00,-999.000,9,-999.0000,9, -999.00,9,   8.5685,2, -999.00,9,  -999.0,9,  -999.0,   2.037,3,   44.60,2,   23.46,2,  549.80,   8.5095
33RO20100308,      A13.5,      39,          1,         17,      11025,2,20100324,       0051,   -34.9998,     1.0927,       4881,   700.3,   5.9581,  34.3744,2,  34.3740,2, 215.7000,2,   214.7,2,   16.86,2,   26.83,2,    0.00,2,    1.87,2,   3.158,2,   1.625,2,   0.8260,2,  2171.7,2,  2288.2,2,    913.1,2,    20.00,   7.6606,2,    25.00,-999.000,9,-999.0000,9, -999.00,9,   5.9664,2, -999.00,9,  -999.0,9,  -999.0,   2.821,3,   39.90,2,   29.37,2,  700.30,   5.8963
33RO20100308,      A13.5,      39,          1,         16,      11709,2,20100324,       0051,   -34.9998,     1.0927,       4881,   951.3,   4.1490,  34.3282,2,  34.3269,2, 210.1000,2,   209.5,2,   31.44,2,   30.72,2,    0.00,2,    2.14,2,   2.279,2,   1.124,2,   0.4890,2,  2195.7,2,  2299.3,2,   1011.1,2,    20.00,   7.6177,2,    25.00,-999.000,9,-999.0000,9, -999.00,9,   4.1496,2, -999.00,9,  -999.0,9,  -999.0,   2.576,3,   38.71,2,   32.67,2,  951.30,   4.0765
33RO20100308,      A13.5,      39,          1,         15,      11006,2,20100324,       0051,   -34.9998,     1.0927,       4881,  1101.5,   3.7267,  34.3929,2,  34.3923,2, 192.6000,2,   192.2,2,   42.55,2,   32.22,2,    0.00,2,    2.26,2,   1.475,2,   0.706,2,   0.2110,2,  2214.4,2,  2308.4,2,   -999.0,5,    20.00,   7.5939,2,    25.00,-999.000,9,-999.0000,9, -999.00,9,   3.7280,2, -999.00,9,  -999.0,9,  -999.0,   1.835,3,   39.19,2,   34.01,2, 1101.50,   3.6450
33RO20100308,      A13.5,      39,          1,         14,      11708,2,20100324,       0051,   -34.9998,     1.0927,       4881,  1349.7,   3.1266,  34.5151,2,  34.5153,2, 182.5000,2,   182.4,6,   55.38,6,   32.71,6,    0.00,6,    2.29,6,   0.604,2,   0.287,2,   0.1340,2,  2230.7,2,  2323.6,2,   1112.7,2,    20.00,   7.5838,2,    25.00,-999.000,9,-999.0000,9, -999.00,9,   3.1276,2, -999.00,9,  -999.0,9,  -999.0,   0.939,3,   39.02,2,   34.13,2, 1349.70,   3.0299
33RO20100308,      A13.5,      39,          1,         13,      11031,2,20100324,       0051,   -34.9998,     1.0927,       4881,  1499.4,   2.9456,  34.5882,2,  34.5879,2, 182.2000,2,   183.4,2,   58.98,6,   32.00,6,    0.01,6,    2.23,6,   0.363,2,   0.174,2,   0.0000,2,  2234.6,2,  2329.7,2,   1087.6,2,    20.00,   7.5910,2,    25.00,-999.000,9,-999.0000,9, -999.00,9,   2.9455,2, -999.00,9,  -999.0,9,  -999.0,   0.629,3,   38.80,2,   33.84,2, 1499.40,   2.8384
33RO20100308,      A13.5,      39,          1,         12,      11027,2,20100324,       0051,   -34.9998,     1.0927,       4881,  1651.0,   2.8663,  34.6444,2,  34.6462,2, 186.4000,2,   186.3,2,   60.15,6,   31.18,6,    0.00,6,    2.17,6,   0.235,2,   0.113,2,   0.0000,2,  2233.3,2,  2333.3,2,   1065.1,6,    20.00,   7.6013,2,    25.00,-999.000,9,-999.0000,9, -999.00,9,   2.8658,2, -999.00,9,  -999.0,9,  -999.0,   0.452,3,   39.12,2,   32.89,2, 1651.00,   2.7472
33RO20100308,      A13.5,      39,          1,         11,      11707,2,20100324,       0051,   -34.9998,     1.0927,       4881,  1799.8,   2.7988,  34.7036,2,  34.7033,2, 193.6000,2,   193.7,6,   59.14,2,   29.83,2,    0.00,2,    2.07,2,   0.147,2,   0.069,2,   0.0000,2,  2229.4,2,  2333.4,2,   1017.9,2,    20.00,   7.6197,2,    25.00,-999.000,9,-999.0000,9, -999.00,9,   2.7985,2, -999.00,9,  -999.0,9,  -999.0,   0.312,3,   39.94,2,   31.74,2, 1799.80,   2.6676
33RO20100308,      A13.5,      39,          1,         10,      11003,2,20100324,       0051,   -34.9998,     1.0927,       4881,  2000.9,   2.7374,  34.7686,2,  34.7687,2, 203.8000,2,   205.0,2,   55.88,2,   27.95,2,    0.00,2,    1.93,2,   0.074,2,   0.035,2,   0.0000,2,  2221.3,2,  2335.9,2,    955.1,2,    20.00,   7.6441,2,    25.00,-999.000,9,-999.0000,9, -999.00,9,   2.7370,2, -999.00,9,  -999.0,9,  -999.0,   0.193,3,   39.77,2,   29.97,2, 2000.90,   2.5892
33RO20100308,      A13.5,      39,          1,          9,      11706,2,20100324,       0051,   -34.9998,     1.0927,       4881,  2201.3,   2.6556,  34.8007,2,  34.8018,2, 212.7000,2,   212.6,2,   55.65,2,   26.87,2,    0.00,2,    1.85,2,   0.047,2,   0.022,2,   0.0000,2,  2218.1,2,  2336.1,2,    926.5,2,    20.00,   7.6589,2,    25.00,-999.000,9,-999.0000,9, -999.00,9,   2.6558,2, -999.00,9,  -999.0,9,  -999.0,   0.146,3,   40.15,2,   28.51,2, 2201.30,   2.4905
33RO20100308,      A13.5,      39,          1,          8,      11033,2,20100324,       0051,   -34.9998,     1.0927,       4881,  2400.5,   2.5639,  34.8215,2,  34.8252,2, 219.8000,2,   218.3,2,   55.22,2,   26.15,2,    0.00,2,    1.80,2,   0.032,2,   0.016,2,   0.0000,2,  2213.8,2,  2339.2,2,    891.1,2,    20.00,   7.6723,2,    25.00,-999.000,9,-999.0000,9, -999.00,9,   2.5636,2, -999.00,9,  -999.0,9,  -999.0,   0.117,3,   39.81,2,   27.47,2, 2400.50,   2.3818
33RO20100308,      A13.5,      39,          1,          7,      11705,2,20100324,       0051,   -34.9998,     1.0927,       4881,  2700.9,   2.4477,  34.8410,2,  34.8406,2, 226.5000,2,   225.5,2,   55.17,2,   25.29,2,    0.01,2,    1.74,2,   0.018,2,   0.009,2,   0.0170,2,  2211.0,2,  2340.9,2,    865.0,2,    20.00,   7.6846,2,    25.00,-999.000,9,-999.0000,9, -999.00,9,   2.4472,2, -999.00,9,  -999.0,9,  -999.0,   0.077,3,   39.78,2,   27.15,2, 2700.90,   2.2390
33RO20100308,      A13.5,      39,          1,          6,      11029,2,20100324,       0051,   -34.9998,     1.0927,       4881,  3001.6,   2.3316,  34.8479,2,  34.8480,2, 228.6000,2,   229.5,2,   56.70,2,   24.83,2,    0.00,2,    1.71,2,   0.016,2,   0.008,2,   0.0000,2,  2210.0,2,  2342.3,2,    846.0,2,    20.00,   7.6920,2,    25.00,-999.000,9,-999.0000,9, -999.00,9,   2.3309,2, -999.00,9,  -999.0,9,  -999.0,   0.071,3,   39.06,2,   26.62,2, 3001.60,   2.0955
33RO20100308,      A13.5,      39,          1,          5,      11704,2,20100324,       0051,   -34.9998,     1.0927,       4881,  3400.2,   2.2075,  34.8508,2,  34.8513,2, 230.2000,2,   230.6,2,   60.23,6,   24.77,6,    0.01,6,    1.69,6,   0.011,2,   0.006,2,   0.0130,2,  2214.6,2,  2350.0,2,    839.8,2,    20.00,   7.6979,2,    25.00,-999.000,9,-999.0000,9, -999.00,9,   2.2070,2, -999.00,9,  -999.0,9,  -999.0,   0.052,3,   39.58,2,   26.43,2, 3400.20,   1.9332
33RO20100308,      A13.5,      39,          1,          4,      11030,2,20100324,       0051,   -34.9998,     1.0927,       4881,  3800.2,   1.7935,  34.8075,2,  34.8064,2, 225.5000,2,   224.2,2,   78.11,6,   26.92,6,    0.00,6,    1.86,6,   0.030,2,   0.015,2,   0.0000,2,  2230.1,2,  2358.3,2,    895.9,2,    20.00,   7.6745,2,    25.00,-999.000,9,-999.0000,9, -999.00,9,   1.7929,2, -999.00,9,  -999.0,9,  -999.0,   0.101,3,   39.19,2,   27.98,2, 3800.20,   1.4874
33RO20100308,      A13.5,      39,          1,          3,      11703,2,20100324,       0051,   -34.9998,     1.0927,       4881,  4201.2,   1.2123,  34.7484,2,  34.7521,2, 218.3000,2,   218.1,2,  101.93,6,   29.76,6,    0.01,6,    2.07,6,   0.061,6,   0.029,6,   0.0000,6,  2249.8,2,  2367.2,2,    970.2,2,    20.00,   7.6437,2,    25.00,-999.000,9,-999.0000,9, -999.00,9,   1.2119,2, -999.00,9,  -999.0,9,  -999.0,   0.197,3,   39.21,2,   30.72,2, 4201.20,   0.8792
33RO20100308,      A13.5,      39,          1,          2,      11702,2,20100324,       0051,   -34.9998,     1.0927,       4881,  4599.6,   1.1413,  34.7378,2,  34.7385,2, 218.0000,2,   216.9,2,  105.99,6,   30.28,6,    0.01,6,    2.11,6,   0.071,2,   0.034,2,   0.0000,2,  2252.6,2,  2368.1,2,    981.1,2,    20.00,   7.6386,2,    25.00,-999.000,9,-999.0000,9, -999.00,9,   1.1410,2, -999.00,9,  -999.0,9,  -999.0,   0.194,3,   38.95,2,   32.17,2, 4599.60,   0.7657
33RO20100308,      A13.5,      39,          1,          1,      11701,2,20100324,       0051,   -34.9998,     1.0927,       4881,  4953.5,   1.1443,  34.7339,2,  34.7336,2, 218.0000,2,   216.2,2,  108.44,6,   30.53,6,    0.01,6,    2.12,6,   0.079,2,   0.038,2,   0.0000,2,  2256.2,6,  2370.7,6,    985.3,2,    20.00,   7.6373,2,    25.00,-999.000,9,-999.0000,9, -999.00,9,   1.1437,2, -999.00,9,  -999.0,9,  -999.0,   0.216,3,   39.12,2,   32.51,2, 4953.50,   0.7272