BOTTLE,20130404CCHSIOCBG
EXPOCODE,SECT_ID,STNNBR,CASTNO,SAMPNO,BTLNBR,BTLNBR_FLAG_W,DATE,TIME,LATITUDE,LONGITUDE,DEPTH,CTDPRS,CTDTMP,CTDSAL,CTDSAL_FLAG_W,SALNTY,SALNTY_FLAG_W,CTDOXY,CTDOXY_FLAG_W,OXYGEN,OXYGEN_FLAG_W,SILCAT,SILCAT_FLAG_W,NITRAT,NITRAT_FLAG_W,NITRIT,NITRIT_FLAG_W,PHSPHT,PHSPHT_FLAG_W,CFC-11,CFC-11_FLAG_W,CFC-12,CFC-12_FLAG_W,SF6,SF6_FLAG_W,TCARBN,TCARBN_FLAG_W,ALKALI,ALKALI_FLAG_W,FCO2,FCO2_FLAG_W,FCO2TMP,PH_TOT,PH_TOT_FLAG_W,PH_TMP,TRITUM,TRITUM_FLAG_W,HELIUM,HELIUM_FLAG_W,DELHE3,DELHE3_FLAG_W,REFTMP,REFTMP_FLAG_W,DELC13,DELC13_FLAG_W,DELC14,DELC14_FLAG_W,C14ERR,CCL4,CCL4_FLAG_W,DOC,DOC_FLAG_W,TDN,TDN_FLAG_W,CTDRAW,THETA
,,,,,,,,,,,METERS,DBAR,ITS-90,PSS-78,,PSS-78,,UMOL/KG,,UMOL/KG,,UMOL/KG,,UMOL/KG,,UMOL/KG,,UMOL/KG,,PMOL/KG,,PMOL/KG,,FMOL/KG,,UMOL/KG,,UMOL/KG,,UATM,,DEG C,,,DEG C,TU,,NMOL/KG,,PERCNT,,DEG C,,/MILLE,,/MILLE,,/MILLE,PMOL/KG,,UMOL/KG,,UMOL/KG,,DBAR,DEG C
33RO20100308,      A13.5,      31,          1,         24,      11714,2,20100321,       2214,   -39.0003,     0.9758,       5092,     5.4,  15.7797,  34.6306,2,  34.6347,2, 258.6000,2,   259.0,2,    0.30,2,    0.98,2,    0.05,2,    0.30,2,   2.716,2,   1.627,2,   1.5780,2,  2049.1,6,  2299.6,6,    412.4,2,    20.00,   7.9651,2,    25.00,-999.000,1,-999.0000,1, -999.00,9,  15.7880,2, -999.00,9,  -999.0,9,  -999.0,   2.825,3,   57.45,2,    5.15,2,    5.40,  15.7789
33RO20100308,      A13.5,      31,          1,         23,      11713,2,20100321,       2214,   -39.0003,     0.9758,       5092,    30.1,  15.3790,  34.6188,2,-999.0000,9, 258.0000,2,   256.1,2,    0.29,2,    1.43,2,    0.06,2,    0.34,2,   2.736,2,   1.646,2,   1.5090,2,  2053.2,2,  2298.3,2,    426.3,6,    20.00,   7.9545,2,    25.00,-999.000,1,-999.0000,1, -999.00,9,  15.3858,2, -999.00,9,  -999.0,9,  -999.0,   2.756,3,   56.81,2,    5.28,2,   30.10,  15.3744
33RO20100308,      A13.5,      31,          1,         22,      11712,2,20100321,       2214,   -39.0003,     0.9758,       5092,    70.1,  13.9090,  34.6137,2,  34.6197,2, 249.1000,2,   248.9,6,    0.54,2,    3.35,2,    0.27,2,    0.53,2,   2.836,6,   1.694,6,   1.5360,6,  2075.5,2,  2297.7,2,    480.3,2,    20.00,   7.9081,2,    25.00,-999.000,1,-999.0000,1, -999.00,9,  14.0120,2, -999.00,9,  -999.0,9,  -999.0,   2.842,3,   51.93,2,    8.60,2,   70.10,  13.8990
33RO20100308,      A13.5,      31,          1,         21,      11010,2,20100321,       2214,   -39.0003,     0.9758,       5092,   124.7,  11.2185,  34.7307,2,  34.7309,2, 251.3000,2,   246.0,3,    1.69,2,    8.98,2,    0.02,2,    0.76,2,   3.266,2,   1.924,2,   1.7160,2,  2102.7,2,  2296.3,2,    564.1,2,    20.00,   7.8526,2,    25.00,-999.000,1,-999.0000,1, -999.00,9,  11.2176,2, -999.00,9,  -999.0,9,  -999.0,   2.366,3,   50.38,2,   11.53,2,  124.70,  11.2030
33RO20100308,      A13.5,      31,          1,         20,      11715,2,20100321,       2214,   -39.0003,     0.9758,       5092,   200.4,  10.0794,  34.6478,2,  34.6483,2, 253.4000,2,   252.0,2,    2.41,2,   11.88,2,    0.01,2,    0.93,2,   3.425,2,   1.994,2,   1.6730,2,  2113.3,2,  2292.8,2,    605.9,2,    20.00,   7.8182,2,    25.00,-999.000,1,-999.0000,1, -999.00,9,  10.0781,2, -999.00,9,  -999.0,9,  -999.0,   2.519,3,   46.73,2,   14.12,2,  200.40,  10.0561
33RO20100308,      A13.5,      31,          1,         19,      11007,2,20100321,       2214,   -39.0003,     0.9758,       5092,   350.3,   8.4170,  34.5589,2,  34.5612,2, 237.1000,2,   235.3,2,    5.73,2,   18.44,2,    0.01,2,    1.31,2,   3.589,2,   2.015,2,   1.4520,2,  2139.8,2,  2289.3,2,    735.7,2,    20.00,   7.7450,2,    25.00,-999.000,1,-999.0000,1, -999.00,9,   8.4141,2, -999.00,9,  -999.0,9,  -999.0,   2.600,3,   43.75,2,   21.03,2,  350.30,   8.3803
33RO20100308,      A13.5,      31,          1,         18,      11710,2,20100321,       2214,   -39.0003,     0.9758,       5092,   499.9,   6.2837,  34.3433,2,  34.3441,2, 230.3000,2,   232.1,2,   10.48,6,   24.63,6,    0.01,6,    1.70,6,   3.751,2,   2.024,2,   1.2490,2,  2157.0,2,  2289.6,3,    854.7,2,    20.00,   7.6831,2,    25.00,-999.000,1,-999.0000,1, -999.00,9,   6.2849,2, -999.00,9,  -999.0,9,  -999.0,   3.232,3,   41.11,2,   26.37,2,  499.90,   6.2391
33RO20100308,      A13.5,      31,          1,         17,      11025,2,20100321,       2214,   -39.0003,     0.9758,       5092,   649.6,   4.6898,  34.2291,2,  34.2293,2, 241.8000,2,   241.6,2,   16.05,6,   27.69,6,    0.00,6,    1.91,6,   3.692,2,   1.938,2,   1.0480,2,  2166.3,2,  2281.7,2,   -999.0,9,  -999.00,   7.6595,2,    25.00,-999.000,1,-999.0000,1, -999.00,9,   4.6903,2, -999.00,9,  -999.0,9,  -999.0,   3.576,3,   40.60,2,   30.67,2,  649.60,   4.6392
33RO20100308,      A13.5,      31,          1,         16,      11709,2,20100321,       2214,   -39.0003,     0.9758,       5092,   799.9,   4.0176,  34.2513,2,  34.2567,2, 230.4000,2,   231.2,2,   25.30,2,   29.69,2,    0.00,2,    2.06,2,   3.006,2,   1.559,2,   0.7900,2,  2181.4,2,  2291.0,2,    975.1,2,    20.00,   7.6385,2,    25.00,-999.000,1,-999.0000,1, -999.00,9,   4.0170,2, -999.00,9,  -999.0,9,  -999.0,   3.030,3,   39.18,2,   31.84,2,  799.90,   3.9585
33RO20100308,      A13.5,      31,          1,         15,      11006,2,20100321,       2214,   -39.0003,     0.9758,       5092,   950.5,   3.6146,  34.3184,2,  34.3184,2, 212.7000,2,   211.6,2,   36.87,2,   31.53,2,    0.00,2,    2.20,2,   2.027,2,   1.004,2,   0.4140,2,  2200.8,2,  2300.7,2,   -999.0,9,  -999.00,   7.6119,2,    25.00,-999.000,1,-999.0000,1, -999.00,9,   3.6123,2, -999.00,9,  -999.0,9,  -999.0,   2.211,3,   38.63,2,   33.84,2,  950.50,   3.5462
33RO20100308,      A13.5,      31,          1,         14,      11708,2,20100321,       2214,   -39.0003,     0.9758,       5092,  1099.4,   3.1701,  34.3780,2,  34.3787,2, 197.0000,2,   197.2,2,   47.62,2,   32.90,2,    0.00,2,    2.30,2,   1.517,2,   0.751,2,   0.2940,2,  2218.5,2,  2311.0,2,   1109.0,2,    20.00,   7.5872,2,    25.00,-999.000,1,-999.0000,1, -999.00,9,   3.1685,2, -999.00,9,  -999.0,9,  -999.0,   1.736,3,   37.60,2,   35.09,2, 1099.40,   3.0934
33RO20100308,      A13.5,      31,          1,         13,      11031,2,20100321,       2214,   -39.0003,     0.9758,       5092,  1250.2,   3.0015,  34.4745,2,  34.4743,2, 182.1000,2,   182.5,2,   57.56,2,   33.43,2,    0.00,2,    2.34,2,   0.822,2,   0.412,2,   0.1470,2,  2233.2,6,  2320.9,6,   -999.0,9,  -999.00,   7.5757,2,    25.00,-999.000,1,-999.0000,1, -999.00,9,   3.0005,2, -999.00,9,  -999.0,9,  -999.0,   1.019,3,   38.25,2,   35.16,2, 1250.20,   2.9142
33RO20100308,      A13.5,      31,          1,         12,      11027,2,20100321,       2214,   -39.0003,     0.9758,       5092,  1400.4,   2.8242,  34.5572,2,  34.5568,2, 177.8000,2,   179.0,2,   63.35,2,   33.07,2,    0.00,2,    2.31,2,   0.470,2,   0.237,2,   0.1080,2,  2239.5,2,  2329.1,2,   1138.9,2,    20.00,   7.5754,2,    25.00,-999.000,1,-999.0000,1, -999.00,9,   2.8239,2, -999.00,9,  -999.0,9,  -999.0,   0.660,3,   38.69,2,   34.78,2, 1400.40,   2.7265
33RO20100308,      A13.5,      31,          1,         11,      11707,2,20100321,       2214,   -39.0003,     0.9758,       5092,  1650.7,   2.7550,  34.6737,2,  34.6738,2, 183.1000,2,   183.7,2,   65.17,6,   31.22,6,    0.00,6,    2.17,6,   0.193,2,   0.095,2,   0.0000,2,  2237.4,2,  2336.0,2,   1081.0,2,    20.00,   7.5981,2,    25.00,-999.000,9,-999.0000,1, -999.00,9,   2.7542,2, -999.00,9,  -999.0,9,  -999.0,   0.345,3,   38.00,2,   33.25,2, 1650.70,   2.6372
33RO20100308,      A13.5,      31,          1,         10,      11003,2,20100321,       2214,   -39.0003,     0.9758,       5092,  1799.8,   2.7254,  34.7331,2,  34.7328,2, 191.4000,4,   171.9,4,   62.77,6,   29.63,6,    0.00,6,    2.05,6,   0.115,2,   0.056,2,   0.0430,2,  2230.5,2,  2337.0,2,   -999.0,9,  -999.00,   7.6195,2,    25.00,-999.000,1,-999.0000,1, -999.00,9,   2.7249,2, -999.00,9,  -999.0,9,  -999.0,   0.228,3,   38.78,2,   31.17,2, 1799.80,   2.5952
33RO20100308,      A13.5,      31,          1,          9,      11706,2,20100321,       2214,   -39.0003,     0.9758,       5092,  2099.9,   2.6331,  34.8114,2,  34.8107,2, 210.1000,2,   211.5,2,   56.45,2,   26.82,2,    0.00,2,    1.85,2,   0.044,2,   0.023,2,   0.0000,2,  2214.4,2,  2337.1,2,    917.9,2,    20.00,   7.6622,2,    25.00,-999.000,9,-999.0000,1, -999.00,9,   2.6327,2, -999.00,9,  -999.0,9,  -999.0,   0.104,3,   38.69,2,   28.53,2, 2099.90,   2.4775
33RO20100308,      A13.5,      31,          1,          8,      11033,2,20100321,       2214,   -39.0003,     0.9758,       5092,  2400.1,   2.5138,  34.8309,2,  34.8328,2, 217.6000,2,   219.5,2,   56.35,2,   25.87,2,    0.00,2,    1.79,2,   0.026,2,   0.014,2,   0.0000,2,  2211.7,2,  2336.9,2,   -999.0,9,  -999.00,   7.6757,2,    25.00,-999.000,1,-999.0000,1, -999.00,9,   2.5131,2, -999.00,9,  -999.0,9,  -999.0,   0.067,3,   37.89,2,   27.66,2, 2400.10,   2.3326
33RO20100308,      A13.5,      31,          1,          7,      11705,2,20100321,       2214,   -39.0003,     0.9758,       5092,  2698.9,   2.4415,  34.8365,2,  34.8376,2, 220.6000,4,   201.2,4,   57.34,2,   25.67,2,    0.00,2,    1.76,2,   0.020,2,   0.011,2,   0.0000,2,  2210.9,2,  2341.1,2,    879.8,6,    20.00,   7.6823,2,    25.00,-999.000,9,-999.0000,1, -999.00,9,   2.4406,2, -999.00,9,  -999.0,9,  -999.0,   0.063,3,   39.20,2,   27.64,2, 2698.90,   2.2332
33RO20100308,      A13.5,      31,          1,          6,      11029,2,20100321,       2214,   -39.0003,     0.9758,       5092,  3100.7,   2.2596,  34.8407,2,  34.8409,2, 226.1000,2,   226.6,2,   60.74,2,   25.46,2,    0.00,2,    1.75,2,   0.014,2,   0.007,2,   0.0000,2,  2212.6,2,  2345.5,2,   -999.0,9,  -999.00,   7.6898,2,    25.00,-999.000,1,-999.0000,1, -999.00,9,   2.2591,2, -999.00,9,  -999.0,9,  -999.0,   0.049,3,   38.31,2,   26.67,2, 3100.70,   2.0151
33RO20100308,      A13.5,      31,          1,          5,      11704,2,20100321,       2214,   -39.0003,     0.9758,       5092,  3501.0,   1.9455,  34.8168,2,  34.8169,2, 222.6000,2,   225.0,2,   72.96,6,   26.67,6,    0.00,6,    1.83,6,   0.023,2,   0.012,2,   0.0000,2,  2223.4,2,  2352.0,2,    885.7,2,    20.00,   7.6772,2,    25.00,-999.000,9,-999.0000,1, -999.00,9,   1.9448,2, -999.00,9,  -999.0,9,  -999.0,   0.062,3,   38.71,2,   28.54,2, 3501.00,   1.6673
33RO20100308,      A13.5,      31,          1,          4,      11030,2,20100321,       2214,   -39.0003,     0.9758,       5092,  3899.2,   1.5148,  34.7748,2,  34.7739,2, 219.2000,2,   220.8,2,   90.72,6,   28.79,6,    0.01,6,    2.00,6,   0.043,2,   0.022,2,   0.0000,2,  2238.8,2,  2360.9,2,   -999.0,9,  -999.00,   7.6576,2,    25.00,-999.000,1,-999.0000,1, -999.00,9,   1.5146,2, -999.00,9,  -999.0,9,  -999.0,   0.095,3,   38.75,2,   30.56,2, 3899.20,   1.2058
33RO20100308,      A13.5,      31,          1,          3,      11703,2,20100321,       2214,   -39.0003,     0.9758,       5092,  4301.0,   1.1885,  34.7444,2,  34.7438,2, 217.4000,2,   218.8,6,  103.50,6,   30.15,6,    0.00,6,    2.09,6,   0.064,6,   0.031,6,   0.0190,6,  2248.6,2,  2364.9,2,    975.6,2,    20.00,   7.6425,2,    25.00,-999.000,9,-999.0000,1, -999.00,9,   1.1878,2, -999.00,9,  -999.0,9,  -999.0,   0.171,3,   38.08,2,   31.62,2, 4301.00,   0.8451
33RO20100308,      A13.5,      31,          1,          2,      11702,2,20100321,       2214,   -39.0003,     0.9758,       5092,  4699.6,   1.1234,  34.7348,2,  34.7369,2, 216.9000,2,   218.0,2,  107.48,6,   30.47,6,    0.01,6,    2.12,6,   0.059,4,   0.033,4,   0.0000,2,  2251.8,2,  2367.9,2,   -999.0,9,  -999.00,   7.6393,2,    25.00,-999.000,1,-999.0000,1, -999.00,9,   1.1229,2, -999.00,9,  -999.0,9,  -999.0,   0.119,4,   38.53,2,   32.49,2, 4699.60,   0.7369
33RO20100308,      A13.5,      31,          1,          1,      11701,2,20100321,       2214,   -39.0003,     0.9758,       5092,  5163.8,   1.1580,  34.7322,2,  34.7324,2, 216.8000,2,   216.7,2,  108.62,6,   30.62,6,    0.00,6,    2.13,6,   0.089,2,   0.044,2,   0.0000,2,  2253.7,6,  2369.4,6,    989.9,2,    20.00,   7.6406,2,    25.00,-999.000,1,-999.0000,1, -999.00,9,   1.1573,2, -999.00,9,  -999.0,9,  -999.0,   0.194,3,   38.31,2,   32.29,2, 5163.80,   0.7151