BOTTLE,20130404CCHSIOCBG
EXPOCODE,SECT_ID,STNNBR,CASTNO,SAMPNO,BTLNBR,BTLNBR_FLAG_W,DATE,TIME,LATITUDE,LONGITUDE,DEPTH,CTDPRS,CTDTMP,CTDSAL,CTDSAL_FLAG_W,SALNTY,SALNTY_FLAG_W,CTDOXY,CTDOXY_FLAG_W,OXYGEN,OXYGEN_FLAG_W,SILCAT,SILCAT_FLAG_W,NITRAT,NITRAT_FLAG_W,NITRIT,NITRIT_FLAG_W,PHSPHT,PHSPHT_FLAG_W,CFC-11,CFC-11_FLAG_W,CFC-12,CFC-12_FLAG_W,SF6,SF6_FLAG_W,TCARBN,TCARBN_FLAG_W,ALKALI,ALKALI_FLAG_W,FCO2,FCO2_FLAG_W,FCO2TMP,PH_TOT,PH_TOT_FLAG_W,PH_TMP,TRITUM,TRITUM_FLAG_W,HELIUM,HELIUM_FLAG_W,DELHE3,DELHE3_FLAG_W,REFTMP,REFTMP_FLAG_W,DELC13,DELC13_FLAG_W,DELC14,DELC14_FLAG_W,C14ERR,CCL4,CCL4_FLAG_W,DOC,DOC_FLAG_W,TDN,TDN_FLAG_W,CTDRAW,THETA
,,,,,,,,,,,METERS,DBAR,ITS-90,PSS-78,,PSS-78,,UMOL/KG,,UMOL/KG,,UMOL/KG,,UMOL/KG,,UMOL/KG,,UMOL/KG,,PMOL/KG,,PMOL/KG,,FMOL/KG,,UMOL/KG,,UMOL/KG,,UATM,,DEG C,,,DEG C,TU,,NMOL/KG,,PERCNT,,DEG C,,/MILLE,,/MILLE,,/MILLE,PMOL/KG,,UMOL/KG,,UMOL/KG,,DBAR,DEG C
33RO20100308,      A13.5,      24,          1,         24,      11714,2,20100320,       0627,   -42.4137,     1.2892,       3771,     4.8,  12.4523,  34.5297,2,  34.5296,2, 266.9000,2,   268.3,2,    0.70,2,    5.78,2,    0.16,2,    0.59,2,   3.172,2,   1.858,2,   1.6990,2,  2073.8,6,  2290.3,6,    482.4,2,    20.00,-999.0000,5,  -999.00,-999.000,9,-999.0000,9, -999.00,9,  12.4527,2, -999.00,9,  -999.0,9,  -999.0,   3.873,3, -999.00,9, -999.00,9,    4.80,  12.4517
33RO20100308,      A13.5,      24,          1,         23,      11713,2,20100320,       0627,   -42.4137,     1.2892,       3771,    59.1,  11.8875,  34.5481,2,  34.5475,2, 260.5000,2,   262.8,2,    0.82,2,    6.29,2,    0.23,2,    0.64,2,-999.000,9,-999.000,9,-999.0000,9,  2081.5,2,  2292.9,2,    504.5,6,    20.00,   7.8898,2,    25.00,-999.000,9,-999.0000,9, -999.00,9,  11.8867,2, -999.00,9,  -999.0,9,  -999.0,-999.000,9, -999.00,9, -999.00,9,   59.10,  11.8799
33RO20100308,      A13.5,      24,          1,         22,      11712,2,20100320,       0627,   -42.4137,     1.2892,       3771,    79.5,  11.3082,  34.5426,2,  34.5447,2, 257.7000,2,   258.6,6,    1.06,2,    8.20,2,    0.32,2,    0.75,2,   3.293,6,   1.921,6,   1.7060,6,  2090.7,2,  2288.7,2,    541.5,2,    20.00,   7.8666,2,    25.00,-999.000,9,-999.0000,9, -999.00,9,  11.3013,2, -999.00,9,  -999.0,9,  -999.0,   3.527,3, -999.00,9, -999.00,9,   79.50,  11.2983
33RO20100308,      A13.5,      24,          1,         21,      11010,2,20100320,       0627,   -42.4137,     1.2892,       3771,   100.3,  10.1908,  34.5708,2,  34.5705,2, 255.6000,2,   256.6,2,    1.88,2,   11.29,2,    0.04,2,    0.90,2,-999.000,9,-999.000,9,-999.0000,9,  2105.7,2,  2289.2,2,    590.2,2,    20.00,   7.8277,2,    25.00,-999.000,9,-999.0000,9, -999.00,9,  10.1890,2, -999.00,9,  -999.0,9,  -999.0,-999.000,9, -999.00,9, -999.00,9,  100.30,  10.1791
33RO20100308,      A13.5,      24,          1,         20,      11715,2,20100320,       0627,   -42.4137,     1.2892,       3771,   139.7,   9.4144,  34.5619,2,  34.5619,2, 257.5000,2,   257.7,2,    2.43,2,   12.82,2,    0.02,2,    0.98,2,   3.582,2,   2.070,2,   1.6730,2,  2114.7,2,  2288.4,2,    626.0,2,    20.00,   7.8103,2,    25.00,-999.000,9,-999.0000,9, -999.00,9,   9.4146,2, -999.00,9,  -999.0,9,  -999.0,   3.138,3, -999.00,9, -999.00,9,  139.70,   9.3989
33RO20100308,      A13.5,      24,          1,         19,      11007,2,20100320,       0627,   -42.4137,     1.2892,       3771,   200.5,   9.1537,  34.5955,2,  34.5948,2, 253.5000,2,   254.1,2,    3.08,2,   14.08,2,    0.02,2,    1.05,2,-999.000,9,-999.000,9,-999.0000,9,  2120.9,2,  2290.6,2,    643.2,2,    20.00,   7.7968,2,    25.00,-999.000,9,-999.0000,9, -999.00,9,   9.1538,2, -999.00,9,  -999.0,9,  -999.0,-999.000,9, -999.00,9, -999.00,9,  200.50,   9.1318
33RO20100308,      A13.5,      24,          1,         18,      11710,2,20100320,       0627,   -42.4137,     1.2892,       3771,   300.1,   8.0278,  34.5012,2,  34.4998,2, 246.3000,2,   246.1,2,    5.06,2,   18.26,2,    0.01,2,    1.29,2,   3.720,2,   2.099,2,   1.6080,2,  2134.6,2,  2284.8,2,    724.3,2,    20.00,   7.7519,2,    25.00,-999.000,9,-999.0000,9, -999.00,9,   8.0261,2, -999.00,9,  -999.0,9,  -999.0,   3.045,3, -999.00,9, -999.00,9,  300.10,   7.9974
33RO20100308,      A13.5,      24,          1,         17,      11025,2,20100320,       0627,   -42.4137,     1.2892,       3771,   399.1,   6.5448,  34.3590,2,  34.3592,2, 235.7000,2,   236.8,2,    8.26,2,   23.18,2,    0.01,2,    1.59,2,-999.000,9,-999.000,9,-999.0000,9,  2150.8,2,  2280.3,2,    821.9,2,    20.00,   7.6986,2,    25.00,-999.000,9,-999.0000,9, -999.00,9,   6.5445,2, -999.00,9,  -999.0,9,  -999.0,-999.000,9, -999.00,9, -999.00,9,  399.10,   6.5086
33RO20100308,      A13.5,      24,          1,         16,      11709,2,20100320,       0627,   -42.4137,     1.2892,       3771,   499.9,   5.3801,  34.2734,2,  34.2744,2, 235.9000,2,   235.5,2,   12.91,2,   26.29,2,    0.00,2,    1.80,2,   3.744,2,   2.002,2,   1.1590,2,  2161.4,2,  2279.4,6,    887.0,2,    20.00,   7.6682,2,    25.00,-999.000,9,-999.0000,9, -999.00,9,   5.3793,2, -999.00,9,  -999.0,9,  -999.0,   3.553,3, -999.00,9, -999.00,9,  499.90,   5.3390
33RO20100308,      A13.5,      24,          1,         15,      11006,2,20100320,       0627,   -42.4137,     1.2892,       3771,   650.9,   4.1932,  34.1990,2,  34.1992,2, 245.1000,2,   238.2,2,   16.83,2,   28.11,2,    0.00,2,    1.93,2,-999.000,9,-999.000,9,-999.0000,9,  2169.3,2,  2282.7,2,    917.1,2,    20.00,   7.6568,2,    25.00,-999.000,9,-999.0000,9, -999.00,9,   4.1925,2, -999.00,9,  -999.0,9,  -999.0,-999.000,9, -999.00,9, -999.00,9,  650.90,   4.1450
33RO20100308,      A13.5,      24,          1,         14,      11708,2,20100320,       0627,   -42.4137,     1.2892,       3771,   799.4,   3.8249,  34.2622,2,  34.2623,2, 221.4000,2,   225.8,2,   23.74,2,   30.03,2,    0.00,2,    2.07,2,   2.879,2,   1.471,2,   0.7040,2,  2187.7,2,  2292.1,2,    990.0,2,    20.00,   7.6298,2,    25.00,-999.000,9,-999.0000,9, -999.00,9,   3.8265,2, -999.00,9,  -999.0,9,  -999.0,   3.227,3, -999.00,9, -999.00,9,  799.40,   3.7670
33RO20100308,      A13.5,      24,          1,         13,      11031,2,20100320,       0627,   -42.4137,     1.2892,       3771,  1000.3,   3.1346,  34.3320,2,  34.3325,2, 204.3000,2,   205.8,2,   43.08,6,   32.29,6,    0.01,6,    2.22,6,-999.000,9,-999.000,9,-999.0000,9,  2209.4,2,  2304.5,2,   1083.2,2,    20.00,   7.5948,2,    25.00,-999.000,9,-999.0000,9, -999.00,9,   3.1340,2, -999.00,9,  -999.0,9,  -999.0,-999.000,9, -999.00,9, -999.00,9, 1000.30,   3.0659
33RO20100308,      A13.5,      24,          1,         12,      11027,2,20100320,       0627,   -42.4137,     1.2892,       3771,  1198.7,   2.8895,  34.4267,2,  34.4266,2, 190.2000,2,   189.6,2,   53.74,6,   33.20,6,    0.00,6,    2.28,6,   1.151,2,   0.553,2,   0.2010,2,  2227.2,2,  2314.1,2,   1143.1,2,    20.00,   7.5772,2,    25.00,-999.000,9,-999.0000,9, -999.00,9,   2.8890,2, -999.00,9,  -999.0,9,  -999.0,   1.591,3, -999.00,9, -999.00,9, 1198.70,   2.8074
33RO20100308,      A13.5,      24,          1,         11,      11707,2,20100320,       0627,   -42.4137,     1.2892,       3771,  1402.1,   2.7820,  34.5383,2,  34.5378,2, 179.6000,2,   179.0,2,   62.29,6,   33.05,6,    0.01,6,    2.28,6,   0.592,2,   0.290,2,   0.1100,2,  2239.3,2,  2325.6,2,   1156.2,2,    20.00,   7.5745,2,    25.00,-999.000,9,-999.0000,9, -999.00,9,   2.7815,2, -999.00,9,  -999.0,9,  -999.0,   0.913,3, -999.00,9, -999.00,9, 1402.10,   2.6847
33RO20100308,      A13.5,      24,          1,         10,      11003,9,20100320,       0627,   -42.4137,     1.2892,       3771,  1599.0,   2.7253,  34.6330,2,-999.0000,9, 182.0000,2,  -999.0,9, -999.00,9, -999.00,9, -999.00,9, -999.00,9,-999.000,9,-999.000,9,-999.0000,9,  -999.0,9,  -999.0,9,   -999.0,9,  -999.00,-999.0000,9,  -999.00,-999.000,9,-999.0000,9, -999.00,9,   2.7248,2, -999.00,9,  -999.0,9,  -999.0,-999.000,9, -999.00,9, -999.00,9, 1599.00,   2.6123
33RO20100308,      A13.5,      24,          1,          9,      11706,2,20100320,       0627,   -42.4137,     1.2892,       3771,  1800.6,   2.6913,  34.6927,2,  34.6916,2, 186.3000,2,   187.0,2,   38.75,4,   30.59,2,    0.00,2,    2.10,2,   0.210,2,   0.101,2,   0.0000,2,  2235.0,2,  2334.6,2,   1066.7,2,    20.00,   7.6047,2,    25.00,-999.000,9,-999.0000,9, -999.00,9,   2.6910,2, -999.00,9,  -999.0,9,  -999.0,   0.405,3, -999.00,9, -999.00,9, 1800.60,   2.5616
33RO20100308,      A13.5,      24,          1,          8,      11033,2,20100320,       0627,   -42.4137,     1.2892,       3771,  2000.2,   2.6363,  34.7403,2,  34.7393,2, 193.8000,2,   193.8,2,   64.71,2,   29.34,2,    0.00,2,    2.01,2,   0.148,2,   0.072,2,   0.0000,2,  2231.7,2,  2336.4,2,   1011.6,2,    20.00,   7.6226,2,    25.00,-999.000,9,-999.0000,9, -999.00,9,   2.6358,2, -999.00,9,  -999.0,9,  -999.0,   0.316,3, -999.00,9, -999.00,9, 2000.20,   2.4898
33RO20100308,      A13.5,      24,          1,          7,      11705,2,20100320,       0627,   -42.4137,     1.2892,       3771,  2199.4,   2.5418,  34.7759,2,  34.7760,2, 201.6000,2,   202.0,2,   64.61,6,   28.15,6,    0.00,6,    1.92,6,   0.099,2,   0.048,2,   0.0000,2,  2227.0,2,  2338.2,2,    975.4,6,    20.00,   7.6408,2,    25.00,-999.000,9,-999.0000,9, -999.00,9,   2.5409,2, -999.00,9,  -999.0,9,  -999.0,   0.246,3, -999.00,9, -999.00,9, 2199.40,   2.3788
33RO20100308,      A13.5,      24,          1,          6,      11029,2,20100320,       0627,   -42.4137,     1.2892,       3771,  2399.7,   2.4496,  34.7937,2,  34.7924,2, 206.8000,2,   207.6,2,   64.95,6,   27.51,6,    0.00,6,    1.88,6,   0.078,2,   0.038,2,   0.0000,2,  2224.2,2,  2339.7,2,    950.4,2,    20.00,   7.6499,2,    25.00,-999.000,9,-999.0000,9, -999.00,9,   2.4496,2, -999.00,9,  -999.0,9,  -999.0,   0.198,3, -999.00,9, -999.00,9, 2399.70,   2.2698
33RO20100308,      A13.5,      24,          1,          5,      11704,2,20100320,       0627,   -42.4137,     1.2892,       3771,  2598.9,   2.3649,  34.8044,2,  34.8038,2, 211.9000,2,   212.1,2,   65.94,2,   27.13,2,    0.01,2,    1.86,2,   0.062,2,   0.031,2,   0.0000,2,  2222.8,2,  2339.8,2,    923.1,2,    20.00,   7.6590,2,    25.00,-999.000,9,-999.0000,9, -999.00,9,   2.3644,2, -999.00,9,  -999.0,9,  -999.0,   0.168,3, -999.00,9, -999.00,9, 2598.90,   2.1678
33RO20100308,      A13.5,      24,          1,          4,      11030,9,20100320,       0627,   -42.4137,     1.2892,       3771,  2800.5,   2.2515,  34.8092,2,-999.0000,9, 215.3000,2,  -999.0,9, -999.00,9, -999.00,9, -999.00,9, -999.00,9,-999.000,9,-999.000,9,-999.0000,9,  -999.0,9,  -999.0,9,   -999.0,9,  -999.00,-999.0000,9,  -999.00,-999.000,9,-999.0000,9, -999.00,9,   2.2514,2, -999.00,9,  -999.0,9,  -999.0,-999.000,9, -999.00,9, -999.00,9, 2800.50,   2.0372
33RO20100308,      A13.5,      24,          1,          3,      11703,2,20100320,       0627,   -42.4137,     1.2892,       3771,  3099.4,   2.0071,  34.7995,2,-999.0000,9, 215.5000,2,   216.1,6,   75.52,2,   27.39,2,    0.00,2,    1.88,2,   0.064,6,   0.032,6,   0.0000,6,  2228.6,2,  2347.7,2,    932.8,2,    20.00,   7.6589,2,    25.00,-999.000,9,-999.0000,9, -999.00,9,   2.0078,2, -999.00,9,  -999.0,9,  -999.0,   0.149,3, -999.00,9, -999.00,9, 3099.40,   1.7687
33RO20100308,      A13.5,      24,          1,          2,      11702,9,20100320,       0627,   -42.4137,     1.2892,       3771,  3399.0,   1.7365,  34.7798,2,-999.0000,9, 214.1000,2,  -999.0,9, -999.00,9, -999.00,9, -999.00,9, -999.00,9,-999.000,9,-999.000,9,-999.0000,9,  -999.0,9,  -999.0,9,   -999.0,9,  -999.00,-999.0000,9,  -999.00,-999.000,9,-999.0000,9, -999.00,9,   1.7358,2, -999.00,9,  -999.0,9,  -999.0,-999.000,9, -999.00,9, -999.00,9, 3399.00,   1.4742
33RO20100308,      A13.5,      24,          1,          1,      11701,2,20100320,       0627,   -42.4137,     1.2892,       3771,  3821.9,   1.3377,  34.7502,2,-999.0000,9, 213.4000,2,   213.6,2,  100.05,2,   29.73,2,    0.01,2,    2.05,2,   0.108,2,   0.052,2,   0.0580,2,  2248.7,6,  2361.3,6,    979.3,2,    20.00,   7.6402,2,    25.00,-999.000,9,-999.0000,9, -999.00,9,   1.3369,2, -999.00,9,  -999.0,9,  -999.0,   0.218,3, -999.00,9, -999.00,9, 3821.90,   1.0419