BOTTLE,20130404CCHSIOCBG
EXPOCODE,SECT_ID,STNNBR,CASTNO,SAMPNO,BTLNBR,BTLNBR_FLAG_W,DATE,TIME,LATITUDE,LONGITUDE,DEPTH,CTDPRS,CTDTMP,CTDSAL,CTDSAL_FLAG_W,SALNTY,SALNTY_FLAG_W,CTDOXY,CTDOXY_FLAG_W,OXYGEN,OXYGEN_FLAG_W,SILCAT,SILCAT_FLAG_W,NITRAT,NITRAT_FLAG_W,NITRIT,NITRIT_FLAG_W,PHSPHT,PHSPHT_FLAG_W,CFC-11,CFC-11_FLAG_W,CFC-12,CFC-12_FLAG_W,SF6,SF6_FLAG_W,TCARBN,TCARBN_FLAG_W,ALKALI,ALKALI_FLAG_W,FCO2,FCO2_FLAG_W,FCO2TMP,PH_TOT,PH_TOT_FLAG_W,PH_TMP,TRITUM,TRITUM_FLAG_W,HELIUM,HELIUM_FLAG_W,DELHE3,DELHE3_FLAG_W,REFTMP,REFTMP_FLAG_W,DELC13,DELC13_FLAG_W,DELC14,DELC14_FLAG_W,C14ERR,CCL4,CCL4_FLAG_W,DOC,DOC_FLAG_W,TDN,TDN_FLAG_W,CTDRAW,THETA
,,,,,,,,,,,METERS,DBAR,ITS-90,PSS-78,,PSS-78,,UMOL/KG,,UMOL/KG,,UMOL/KG,,UMOL/KG,,UMOL/KG,,UMOL/KG,,PMOL/KG,,PMOL/KG,,FMOL/KG,,UMOL/KG,,UMOL/KG,,UATM,,DEG C,,,DEG C,TU,,NMOL/KG,,PERCNT,,DEG C,,/MILLE,,/MILLE,,/MILLE,PMOL/KG,,UMOL/KG,,UMOL/KG,,DBAR,DEG C
33RO20100308,      A13.5,      36,          1,         24,      11714,2,20100323,       0601,   -36.4992,     1.0047,       5031,     5.4,  19.7421,  35.4001,2,  35.4021,2, 227.7000,2,   229.9,2,    0.93,2,    0.00,2,    0.00,2,    0.15,2,   2.217,2,   1.353,2,   1.2650,2,  2062.5,6,  2333.7,6,    390.8,2,    20.00,   7.9907,2,    25.00,-999.000,9,-999.0000,9, -999.00,9,  19.7415,2, -999.00,9,  -999.0,9,  -999.0,   2.507,3, -999.00,9, -999.00,9,    5.40,  19.7411
33RO20100308,      A13.5,      36,          1,         23,      11713,2,20100323,       0601,   -36.4992,     1.0047,       5031,    39.7,  19.9320,  35.4995,2,  35.5080,2, 227.8000,2,   229.1,2,    1.03,2,    0.00,2,    0.00,2,    0.16,2,   2.198,2,   1.342,2,   1.2840,2,  2065.5,2,  2337.6,2,    386.4,6,    20.00,   7.9918,2,    25.00,-999.000,9,-999.0000,9, -999.00,9,  19.9317,2, -999.00,9,  -999.0,9,  -999.0,   2.457,3, -999.00,9, -999.00,9,   39.70,  19.9247
33RO20100308,      A13.5,      36,          1,         22,      11712,2,20100323,       0601,   -36.4992,     1.0047,       5031,    80.2,  16.7904,  35.5160,2,  35.5096,2, 240.3000,2,   246.9,2,    1.39,2,    0.04,2,    0.00,2,    0.19,2,   2.562,6,   1.541,6,   1.3870,6,  2073.7,2,  2336.1,2,    404.9,2,    20.00,   7.9749,2,    25.00,-999.000,9,-999.0000,9, -999.00,9,  16.7904,2, -999.00,9,  -999.0,9,  -999.0,   1.873,3, -999.00,9, -999.00,9,   80.20,  16.7773
33RO20100308,      A13.5,      36,          1,         21,      11010,2,20100323,       0601,   -36.4992,     1.0047,       5031,   151.0,  14.7462,  35.3451,2,  35.3427,2, 221.9000,2,   227.5,2,    1.64,2,    4.00,2,    0.03,2,    0.44,2,   2.747,2,   1.638,2,   1.4570,2,  2097.6,2,  2326.9,2,    479.2,2,    20.00,   7.9131,2,    25.00,-999.000,9,-999.0000,9, -999.00,9,  14.7456,2, -999.00,9,  -999.0,9,  -999.0,   1.602,3, -999.00,9, -999.00,9,  151.00,  14.7236
33RO20100308,      A13.5,      36,          1,         20,      11715,2,20100323,       0601,   -36.4992,     1.0047,       5031,   250.4,  13.0624,  35.1723,2,  35.1698,2, 216.2000,2,   215.5,2,    3.27,2,    9.31,2,    0.01,2,    0.76,2,   2.950,2,   1.727,2,   1.2540,2,  2118.1,2,  2315.8,2,    562.0,2,    20.00,   7.8534,2,    25.00,-999.000,9,-999.0000,9, -999.00,9,  13.0622,2, -999.00,9,  -999.0,9,  -999.0,   1.226,3, -999.00,9, -999.00,9,  250.40,  13.0277
33RO20100308,      A13.5,      36,          1,         19,      11007,2,20100323,       0601,   -36.4992,     1.0047,       5031,   325.4,  12.4285,  35.1418,2,  35.1418,2, 222.3000,2,   220.0,2,    3.08,2,   10.05,2,    0.00,2,    0.79,2,   3.036,2,   1.756,2,   1.3030,2,  2120.3,2,  2317.7,2,    568.4,2,    20.00,   7.8462,2,    25.00,-999.000,9,-999.0000,9, -999.00,9,  12.4267,2, -999.00,9,  -999.0,9,  -999.0,   1.225,3, -999.00,9, -999.00,9,  325.40,  12.3848
33RO20100308,      A13.5,      36,          1,         18,      11710,2,20100323,       0601,   -36.4992,     1.0047,       5031,   500.4,   9.3539,  34.7165,2,  34.7184,2, 200.5000,2,   198.5,2,    9.52,2,   19.72,2,    0.00,2,    1.41,2,   3.074,2,   1.673,2,   0.9090,2,  2152.6,2,  2296.1,2,    772.5,2,    20.00,   7.7276,2,    25.00,-999.000,9,-999.0000,9, -999.00,9,   9.3592,2, -999.00,9,  -999.0,9,  -999.0,   1.537,3, -999.00,9, -999.00,9,  500.40,   9.2975
33RO20100308,      A13.5,      36,          1,         17,      11025,2,20100323,       0601,   -36.4992,     1.0047,       5031,   649.7,   6.7929,  34.4431,2,  34.4401,2, 208.3000,2,   210.2,6,   14.18,2,   25.13,2,    0.00,2,    1.75,2,   3.166,2,   1.658,2,   0.8650,2,  2166.2,2,  2288.2,2,    873.9,2,    20.00,   7.6746,2,    25.00,-999.000,9,-999.0000,9, -999.00,9,   6.7615,2, -999.00,9,  -999.0,9,  -999.0,   2.442,3, -999.00,9, -999.00,9,  649.70,   6.7316
33RO20100308,      A13.5,      36,          1,         16,      11709,2,20100323,       0601,   -36.4992,     1.0047,       5031,   799.7,   5.0245,  34.3247,2,  34.3262,2, 216.3000,2,   216.2,2,   22.20,2,   28.46,2,    0.00,2,    2.00,2,   2.875,2,   1.471,2,   0.6930,2,  2179.5,2,  2290.8,2,    951.5,2,    20.00,   7.6437,2,    25.00,-999.000,9,-999.0000,9, -999.00,9,   5.0157,2, -999.00,9,  -999.0,9,  -999.0,   2.807,3, -999.00,9, -999.00,9,  799.70,   4.9591
33RO20100308,      A13.5,      36,          1,         15,      11006,2,20100323,       0601,   -36.4992,     1.0047,       5031,  1000.7,   3.7254,  34.3010,2,  34.2997,2, 217.2000,2,   216.9,2,   32.70,2,   30.58,2,    0.00,2,    2.15,2,   2.308,2,   1.142,2,   0.4790,2,  2194.9,2,  2297.7,2,   1009.2,2,    20.00,   7.6199,2,    25.00,-999.000,9,-999.0000,9, -999.00,9,   3.7259,2, -999.00,9,  -999.0,9,  -999.0,   2.610,3, -999.00,9, -999.00,9, 1000.70,   3.6521
33RO20100308,      A13.5,      36,          1,         14,      11708,2,20100323,       0601,   -36.4992,     1.0047,       5031,  1199.6,   3.1613,  34.3829,2,  34.3822,2, 198.9000,2,   199.5,2,   46.12,2,   32.35,2,    0.00,2,    2.28,2,   1.428,2,   0.687,2,   0.2780,2,  2216.6,2,  2311.9,2,   1094.6,2,    20.00,   7.5926,2,    25.00,-999.000,9,-999.0000,9, -999.00,9,   3.1625,2, -999.00,9,  -999.0,9,  -999.0,   1.805,3, -999.00,9, -999.00,9, 1199.60,   3.0767
33RO20100308,      A13.5,      36,          1,         13,      11031,2,20100323,       0601,   -36.4992,     1.0047,       5031,  1399.7,   2.9199,  34.5059,2,  34.5056,2, 187.6000,2,   188.4,2,   55.69,2,   32.29,2,    0.00,2,    2.27,2,   0.672,2,   0.323,2,   0.1130,2,  2228.6,2,  2320.9,2,   1113.9,2,    20.00,   7.5877,2,    25.00,-999.000,9,-999.0000,9, -999.00,9,   2.9195,2, -999.00,9,  -999.0,9,  -999.0,   1.019,3, -999.00,9, -999.00,9, 1399.70,   2.8214
33RO20100308,      A13.5,      36,          1,         12,      11027,2,20100323,       0601,   -36.4992,     1.0047,       5031,  1599.1,   2.8164,  34.6059,2,  34.6053,2, 187.4000,2,   187.1,2,   59.12,2,   31.29,2,    0.00,2,    2.20,2,   0.331,2,   0.162,2,   0.0770,2,  2231.7,2,  2328.3,2,   1076.0,2,    20.00,   7.5985,2,    25.00,-999.000,9,-999.0000,9, -999.00,9,   2.8159,2, -999.00,9,  -999.0,9,  -999.0,   0.586,3, -999.00,9, -999.00,9, 1599.10,   2.7024
33RO20100308,      A13.5,      36,          1,         11,      11707,2,20100323,       0601,   -36.4992,     1.0047,       5031,  1799.1,   2.7649,  34.6897,2,  34.6869,2, 190.4000,2,   191.4,2,   60.33,2,   29.94,2,    0.00,2,    2.09,2,   0.173,2,   0.084,2,   0.0440,2,  2229.1,2,  2335.2,2,   1033.4,2,    20.00,   7.6149,2,    25.00,-999.000,9,-999.0000,9, -999.00,9,   2.7647,2, -999.00,9,  -999.0,9,  -999.0,   0.396,3, -999.00,9, -999.00,9, 1799.10,   2.6343
33RO20100308,      A13.5,      36,          1,         10,      11003,2,20100323,       0601,   -36.4992,     1.0047,       5031,  2100.6,   2.6866,  34.7695,2,  34.7691,2, 202.6000,2,   203.8,2,   58.50,2,   27.73,2,    0.00,2,    1.93,2,   0.078,2,   0.039,2,   0.0390,2,  2220.9,2,  2335.5,2,    967.7,2,    20.00,   7.6424,2,    25.00,-999.000,9,-999.0000,9, -999.00,9,   2.6853,2, -999.00,9,  -999.0,9,  -999.0,   0.222,3, -999.00,9, -999.00,9, 2100.60,   2.5303
33RO20100308,      A13.5,      36,          1,          9,      11706,2,20100323,       0601,   -36.4992,     1.0047,       5031,  2399.9,   2.5702,  34.8151,2,  34.8145,2, 215.2000,2,   216.4,2,   56.80,2,   26.22,2,    0.00,2,    1.81,2,   0.037,2,   0.019,2,   0.0000,2,  2214.1,2,  2337.6,2,    908.9,2,    20.00,   7.6678,2,    25.00,-999.000,9,-999.0000,9, -999.00,9,   2.5701,2, -999.00,9,  -999.0,9,  -999.0,   0.134,3, -999.00,9, -999.00,9, 2399.90,   2.3881
33RO20100308,      A13.5,      36,          1,          8,      11033,2,20100323,       0601,   -36.4992,     1.0047,       5031,  2699.4,   2.4399,  34.8344,2,  34.8334,2, 223.5000,2,   223.0,6,   57.23,2,   25.42,2,    0.00,2,    1.75,2,   0.022,2,   0.011,2,   0.0000,2,  2210.1,2,  2338.3,2,    878.5,2,    20.00,   7.6812,2,    25.00,-999.000,9,-999.0000,9, -999.00,9,   2.4402,2, -999.00,9,  -999.0,9,  -999.0,   0.089,3, -999.00,9, -999.00,9, 2699.40,   2.2316
33RO20100308,      A13.5,      36,          1,          7,      11705,2,20100323,       0601,   -36.4992,     1.0047,       5031,  2998.9,   2.3361,  34.8419,2,  34.8449,2, 227.9000,2,   227.1,2,   58.44,2,   25.03,2,    0.00,2,    1.73,2,   0.015,6,   0.008,6,   0.0140,6,  2209.9,2,  2341.9,2,    866.6,2,    20.00,   7.6893,2,    25.00,-999.000,9,-999.0000,9, -999.00,9,   2.3356,2, -999.00,9,  -999.0,9,  -999.0,   0.073,3, -999.00,9, -999.00,9, 2998.90,   2.1003
33RO20100308,      A13.5,      36,          1,          6,      11029,2,20100323,       0601,   -36.4992,     1.0047,       5031,  3299.3,   2.2225,  34.8435,2,  34.8435,2, 230.1000,2,   229.2,2,   60.92,6,   25.00,6,    0.00,6,    1.72,6,   0.013,2,   0.007,2,   0.0000,2,  2212.7,2,  2346.2,2,    860.6,2,    20.00,   7.6928,2,    25.00,-999.000,9,-999.0000,9, -999.00,9,   2.2228,2, -999.00,9,  -999.0,9,  -999.0,   0.061,3, -999.00,9, -999.00,9, 3299.30,   1.9585
33RO20100308,      A13.5,      36,          1,          5,      11704,2,20100323,       0601,   -36.4992,     1.0047,       5031,  3600.1,   1.9834,  34.8251,2,  34.8246,2, 226.5000,2,   226.1,2,   70.40,6,   26.12,6,    0.00,6,    1.80,6,   0.020,2,   0.010,2,   0.0000,2,  2222.3,2,  2353.9,2,    873.6,6,    20.00,   7.6846,2,    25.00,-999.000,9,-999.0000,9, -999.00,9,   1.9832,2, -999.00,9,  -999.0,9,  -999.0,   0.066,3, -999.00,9, -999.00,9, 3600.10,   1.6937
33RO20100308,      A13.5,      36,          1,          4,      11030,9,20100323,       0601,   -36.4992,     1.0047,       5031,  4000.0,   1.4179,  34.7672,2,-999.0000,9, 219.4000,2,  -999.0,9, -999.00,9, -999.00,9, -999.00,9, -999.00,9,-999.000,9,-999.000,9,-999.0000,9,  -999.0,9,  -999.0,9,   -999.0,9,  -999.00,-999.0000,9,  -999.00,-999.000,9,-999.0000,9, -999.00,9,   1.4177,2, -999.00,9,  -999.0,9,  -999.0,-999.000,9, -999.00,9, -999.00,9, 4000.00,   1.1007
33RO20100308,      A13.5,      36,          1,          3,      11703,2,20100323,       0601,   -36.4992,     1.0047,       5031,  4399.1,   1.1392,  34.7391,2,  34.7389,2, 217.3000,2,   217.1,2,  105.44,6,   30.13,6,    0.01,6,    2.11,6,   0.075,2,   0.036,2,   0.0340,2,  2251.3,2,  2366.8,2,    984.8,2,    20.00,   7.6400,2,    25.00,-999.000,9,-999.0000,9, -999.00,9,   1.1386,2, -999.00,9,  -999.0,9,  -999.0,   0.202,3, -999.00,9, -999.00,9, 4399.10,   0.7864
33RO20100308,      A13.5,      36,          1,          2,      11702,2,20100323,       0601,   -36.4992,     1.0047,       5031,  4800.0,   1.1258,  34.7336,2,  34.7332,2, 218.1000,2,   216.6,2,  107.45,6,   30.35,6,    0.00,6,    2.12,6,   0.084,2,   0.042,2,   0.0000,2,  2253.2,2,  2367.7,2,    986.7,2,    20.00,   7.6377,2,    25.00,-999.000,9,-999.0000,9, -999.00,9,   1.1251,2, -999.00,9,  -999.0,9,  -999.0,   0.224,3, -999.00,9, -999.00,9, 4800.00,   0.7275
33RO20100308,      A13.5,      36,          1,          1,      11701,2,20100323,       0601,   -36.4992,     1.0047,       5031,  5101.4,   1.1558,  34.7327,2,  34.7325,2, 217.4000,2,   216.2,2,  108.31,6,   30.55,6,    0.01,6,    2.14,6,   0.084,2,   0.040,2,   0.0280,2,  2253.5,6,  2368.0,6,    988.4,2,    20.00,   7.6384,2,    25.00,-999.000,9,-999.0000,9, -999.00,9,   1.1551,2, -999.00,9,  -999.0,9,  -999.0,   0.213,3, -999.00,9, -999.00,9, 5101.40,   0.7206