BOTTLE,20130404CCHSIOCBG
EXPOCODE,SECT_ID,STNNBR,CASTNO,SAMPNO,BTLNBR,BTLNBR_FLAG_W,DATE,TIME,LATITUDE,LONGITUDE,DEPTH,CTDPRS,CTDTMP,CTDSAL,CTDSAL_FLAG_W,SALNTY,SALNTY_FLAG_W,CTDOXY,CTDOXY_FLAG_W,OXYGEN,OXYGEN_FLAG_W,SILCAT,SILCAT_FLAG_W,NITRAT,NITRAT_FLAG_W,NITRIT,NITRIT_FLAG_W,PHSPHT,PHSPHT_FLAG_W,CFC-11,CFC-11_FLAG_W,CFC-12,CFC-12_FLAG_W,SF6,SF6_FLAG_W,TCARBN,TCARBN_FLAG_W,ALKALI,ALKALI_FLAG_W,FCO2,FCO2_FLAG_W,FCO2TMP,PH_TOT,PH_TOT_FLAG_W,PH_TMP,TRITUM,TRITUM_FLAG_W,HELIUM,HELIUM_FLAG_W,DELHE3,DELHE3_FLAG_W,REFTMP,REFTMP_FLAG_W,DELC13,DELC13_FLAG_W,DELC14,DELC14_FLAG_W,C14ERR,CCL4,CCL4_FLAG_W,DOC,DOC_FLAG_W,TDN,TDN_FLAG_W,CTDRAW,THETA
,,,,,,,,,,,METERS,DBAR,ITS-90,PSS-78,,PSS-78,,UMOL/KG,,UMOL/KG,,UMOL/KG,,UMOL/KG,,UMOL/KG,,UMOL/KG,,PMOL/KG,,PMOL/KG,,FMOL/KG,,UMOL/KG,,UMOL/KG,,UATM,,DEG C,,,DEG C,TU,,NMOL/KG,,PERCNT,,DEG C,,/MILLE,,/MILLE,,/MILLE,PMOL/KG,,UMOL/KG,,UMOL/KG,,DBAR,DEG C
33RO20100308,      A13.5,      22,          1,         24,      11714,2,20100319,       1836,   -43.5007,     1.3413,       4391,     7.3,  12.1296,  34.4850,2,  34.4852,2, 272.7000,2,   271.9,2,    0.76,2,    6.66,2,    0.16,2,    0.66,2,   3.267,2,   1.915,2,   1.7580,2,  2076.2,6,  2290.6,6,    494.8,2,    20.00,   7.9027,2,    25.00,-999.000,9,-999.0000,9, -999.00,9,  12.1321,2, -999.00,9,  -999.0,9,  -999.0,   4.035,3, -999.00,9, -999.00,9,    7.30,  12.1286
33RO20100308,      A13.5,      22,          1,         23,      11713,2,20100319,       1836,   -43.5007,     1.3413,       4391,    69.9,  11.2640,  34.4663,2,  34.4655,2, 267.6000,2,   269.1,2,    0.84,2,    8.06,2,    0.21,2,    0.76,2,-999.000,9,-999.000,9,-999.0000,9,  2086.0,2,  2289.8,2,    514.7,6,    20.00,   7.8814,2,    25.00,-999.000,9,-999.0000,9, -999.00,9,  11.2588,2, -999.00,9,  -999.0,9,  -999.0,-999.000,9, -999.00,9, -999.00,9,   69.90,  11.2553
33RO20100308,      A13.5,      22,          1,         22,      11712,2,20100319,       1836,   -43.5007,     1.3413,       4391,    99.2,  10.7043,  34.4898,2,  34.5067,2, 263.4000,2,   262.8,2,    1.50,2,   10.06,2,    0.31,2,    0.87,2,   3.430,6,   1.989,6,   1.7650,6,  2099.6,2,  2288.9,2,    558.9,2,    20.00,   7.8538,2,    25.00,-999.000,9,-999.0000,9, -999.00,9,  10.6933,2, -999.00,9,  -999.0,9,  -999.0,   3.831,3, -999.00,9, -999.00,9,   99.20,  10.6924
33RO20100308,      A13.5,      22,          1,         21,      11010,2,20100319,       1836,   -43.5007,     1.3413,       4391,   199.5,   8.9939,  34.6187,2,  34.6169,2, 256.4000,2,   257.1,2,    3.85,2,   14.49,2,    0.02,2,    1.09,2,-999.000,9,-999.000,9,-999.0000,9,  2125.5,2,  2291.6,2,    651.1,2,    20.00,   7.7951,2,    25.00,-999.000,9,-999.0000,9, -999.00,9,   8.9901,2, -999.00,9,  -999.0,9,  -999.0,-999.000,9, -999.00,9, -999.00,9,  199.50,   8.9723
33RO20100308,      A13.5,      22,          1,         20,      11715,2,20100319,       1836,   -43.5007,     1.3413,       4391,   299.6,   7.8215,  34.4809,2,  34.4827,2, 242.6000,2,   242.7,2,    5.96,2,   19.11,2,    0.01,2,    1.35,2,   3.751,2,   2.104,2,   1.5380,2,  2140.4,2,  2284.4,2,    741.7,2,    20.00,   7.7439,2,    25.00,-999.000,9,-999.0000,9, -999.00,9,   7.8319,2, -999.00,9,  -999.0,9,  -999.0,   3.128,3, -999.00,9, -999.00,9,  299.60,   7.7916
33RO20100308,      A13.5,      22,          1,         19,      11007,2,20100319,       1836,   -43.5007,     1.3413,       4391,   399.5,   6.3551,  34.3408,2,  34.3399,2, 236.9000,2,   237.6,2,    9.38,2,   23.85,2,    0.01,2,    1.65,2,-999.000,9,-999.000,9,-999.0000,9,  2155.3,2,  2280.2,2,    837.2,2,    20.00,   7.6929,2,    25.00,-999.000,9,-999.0000,9, -999.00,9,   6.3563,2, -999.00,9,  -999.0,9,  -999.0,-999.000,9, -999.00,9, -999.00,9,  399.50,   6.3195
33RO20100308,      A13.5,      22,          1,         18,      11710,2,20100319,       1836,   -43.5007,     1.3413,       4391,   499.6,   5.1155,  34.2269,2,  34.2241,2, 248.9000,2,   247.4,6,   12.28,2,   26.16,2,    0.01,2,    1.81,2,   4.034,2,   2.154,2,   1.3240,2,  2158.6,2,  2276.5,2,    875.1,2,    20.00,   7.6749,2,    25.00,-999.000,9,-999.0000,9, -999.00,9,   5.1171,2, -999.00,9,  -999.0,9,  -999.0,   4.185,3, -999.00,9, -999.00,9,  499.60,   5.0755
33RO20100308,      A13.5,      22,          1,         17,      11025,2,20100319,       1836,   -43.5007,     1.3413,       4391,   600.3,   4.7290,  34.2194,2,  34.2169,2, 244.2000,2,   243.6,2,   15.45,2,   27.30,2,    0.01,2,    1.89,2,-999.000,9,-999.000,9,-999.0000,9,  2166.0,2,  2283.2,2,    910.7,2,    20.00,   7.6625,2,    25.00,-999.000,9,-999.0000,9, -999.00,9,   4.7300,2, -999.00,9,  -999.0,9,  -999.0,-999.000,9, -999.00,9, -999.00,9,  600.30,   4.6823
33RO20100308,      A13.5,      22,          1,         16,      11709,2,20100319,       1836,   -43.5007,     1.3413,       4391,   750.2,   4.3076,  34.2684,2,  34.2693,2, 233.5000,2,   227.7,2,   24.78,2,   29.28,2,    0.00,2,    2.03,2,   3.114,2,   1.581,2,   0.8190,2,  2182.6,2,  2290.6,2,    957.6,2,    20.00,   7.6413,2,    25.00,-999.000,9,-999.0000,9, -999.00,9,   4.3052,2,    1.04,2,   -43.6,2,     2.7,   3.457,3, -999.00,9, -999.00,9,  750.20,   4.2508
33RO20100308,      A13.5,      22,          1,         15,      11006,2,20100319,       1836,   -43.5007,     1.3413,       4391,   899.7,   3.6993,  34.3097,2,  34.3089,2, 223.8000,2,   213.4,2,   35.44,2,   31.28,2,    0.00,2,    2.17,2,-999.000,9,-999.000,9,-999.0000,9,  2200.2,2,  2298.2,2,   1029.9,2,    20.00,   7.6148,2,    25.00,-999.000,9,-999.0000,9, -999.00,9,   3.7015,2,    0.90,2,   -73.1,2,     2.5,-999.000,9, -999.00,9, -999.00,9,  899.70,   3.6343
33RO20100308,      A13.5,      22,          1,         14,      11708,2,20100319,       1836,   -43.5007,     1.3413,       4391,  1099.6,   3.1133,  34.3816,2,  34.3806,2, 194.9000,2,   196.0,2,   48.85,2,   33.03,2,    0.00,2,    2.29,2,   1.546,2,   0.744,2,   0.3230,2,  2221.4,2,  2311.1,2,   1108.9,2,    20.00,   7.5856,2,    25.00,-999.000,9,-999.0000,9, -999.00,9,   3.1128,2,    0.75,2,  -106.2,2,     2.6,   1.984,3, -999.00,9, -999.00,9, 1099.60,   3.0370
33RO20100308,      A13.5,      22,          1,         13,      11031,2,20100319,       1836,   -43.5007,     1.3413,       4391,  1299.8,   2.8498,  34.4801,2,  34.4820,2, 184.0000,2,   183.5,2,   59.16,2,   33.52,2,    0.00,2,    2.33,2,-999.000,9,-999.000,9,-999.0000,9,  2237.0,2,  2321.4,2,   1146.9,2,    20.00,   7.5736,2,    25.00,-999.000,9,-999.0000,9, -999.00,9,   2.8488,2,    0.62,2,  -133.6,2,     2.4,-999.000,9, -999.00,9, -999.00,9, 1299.80,   2.7601
33RO20100308,      A13.5,      22,          1,         12,      11027,2,20100319,       1836,   -43.5007,     1.3413,       4391,  1500.3,   2.7325,  34.5955,2,  34.5949,2, 178.9000,2,   179.8,2,   65.03,2,   32.66,2,    0.00,2,    2.27,2,   0.404,2,   0.192,2,   0.0000,2,  2242.5,2,  2332.0,2,   1127.7,2,    20.00,   7.5801,2,    25.00,-999.000,9,-999.0000,9, -999.00,9,   2.7318,2,    0.59,2,  -141.6,2,     2.4,   0.711,3, -999.00,9, -999.00,9, 1500.30,   2.6277
33RO20100308,      A13.5,      22,          1,         11,      11707,2,20100319,       1836,   -43.5007,     1.3413,       4391,  1699.8,   2.6911,  34.6749,2,  34.6734,2, 182.1000,2,   183.5,2,   66.71,2,   31.30,2,    0.00,2,    2.16,2,-999.000,9,-999.000,9,-999.0000,9,  2241.2,2,  2335.3,2,   1086.4,2,    20.00,   7.5958,2,    25.00,-999.000,9,-999.0000,9, -999.00,9,   2.6904,2,    0.59,2,  -138.8,2,     2.6,-999.000,9, -999.00,9, -999.00,9, 1699.80,   2.5700
33RO20100308,      A13.5,      22,          1,         10,      11003,2,20100319,       1836,   -43.5007,     1.3413,       4391,  1901.2,   2.6404,  34.7256,2,  34.7249,2, 188.8000,2,   190.7,2,   66.53,2,   29.90,2,    0.00,2,    2.08,2,-999.000,5,-999.000,5,-999.0000,5,  2236.6,2,  2337.9,2,   1042.2,2,    20.00,   7.6138,2,    25.00,-999.000,9,-999.0000,9, -999.00,9,   2.6402,2,    0.61,2,  -138.9,2,     2.5,-999.000,5, -999.00,9, -999.00,9, 1901.20,   2.5026
33RO20100308,      A13.5,      22,          1,          9,      11706,2,20100319,       1836,   -43.5007,     1.3413,       4391,  2099.6,   2.5754,  34.7630,2,  34.7625,2, 197.2000,2,   198.3,2,   65.57,2,   28.79,2,    0.00,2,    1.99,2,-999.000,9,-999.000,9,-999.0000,9,  2231.8,2,  2338.2,2,    999.1,2,    20.00,   7.6316,2,    25.00,-999.000,9,-999.0000,9, -999.00,9,   2.5753,2,    0.70,2,  -140.0,2,     2.4,-999.000,9, -999.00,9, -999.00,9, 2099.60,   2.4209
33RO20100308,      A13.5,      22,          1,          8,      11033,2,20100319,       1836,   -43.5007,     1.3413,       4391,  2399.7,   2.4091,  34.7964,2,  34.7955,2, 207.9000,2,   208.7,6,   66.10,2,   27.57,2,    0.00,2,    1.90,2,   0.081,2,   0.037,2,   0.0000,2,  2226.7,2,  2341.9,2,    955.7,2,    20.00,   7.6512,2,    25.00,-999.000,9,-999.0000,9, -999.00,9,   2.4090,2,    0.75,2,  -138.3,2,     2.6,   0.213,3, -999.00,9, -999.00,9, 2399.70,   2.2300
33RO20100308,      A13.5,      22,          1,          7,      11705,2,20100319,       1836,   -43.5007,     1.3413,       4391,  2700.8,   2.2803,  34.8100,2,  34.8097,2, 215.0000,2,   215.1,2,   66.92,2,   26.90,2,    0.00,2,    1.86,2,-999.000,9,-999.000,9,-999.0000,9,  2223.7,2,  2341.9,2,    918.1,6,    20.00,   7.6622,2,    25.00,-999.000,9,-999.0000,9, -999.00,9,   2.2795,2,    0.79,2,  -140.0,2,     2.9,-999.000,9, -999.00,9, -999.00,9, 2700.80,   2.0751
33RO20100308,      A13.5,      22,          1,          6,      11029,2,20100319,       1836,   -43.5007,     1.3413,       4391,  2999.5,   2.0358,  34.8018,2,  34.8012,2, 216.1000,2,   216.2,2,   74.34,2,   27.44,2,    0.00,2,    1.89,2,   0.065,2,   0.031,2,   0.0000,2,  2229.5,2,  2348.4,2,    928.0,2,    20.00,   7.6603,2,    25.00,-999.000,9,-999.0000,9, -999.00,9,   2.0350,2,    0.73,2,  -138.6,2,     2.5,   0.166,3, -999.00,9, -999.00,9, 2999.50,   1.8066
33RO20100308,      A13.5,      22,          1,          5,      11704,2,20100319,       1836,   -43.5007,     1.3413,       4391,  3299.9,   1.7729,  34.7876,2,  34.7873,2, 215.7000,2,   216.8,2,   82.90,6,   28.08,6,    0.00,6,    1.94,6,-999.000,9,-999.000,9,-999.0000,9,  2234.6,2,  2352.2,2,    933.0,2,    20.00,   7.6550,4,    25.00,-999.000,9,-999.0000,9, -999.00,9,   1.7731,2,    0.72,2,  -148.9,2,     3.5,-999.000,9, -999.00,9, -999.00,9, 3299.90,   1.5198
33RO20100308,      A13.5,      22,          1,          4,      11030,2,20100319,       1836,   -43.5007,     1.3413,       4391,  3601.1,   1.4667,  34.7594,2,  34.7594,2, 213.0000,2,   213.5,2,   95.16,6,   29.44,6,    0.00,6,    2.04,6,   0.111,2,   0.052,2,   0.0000,2,  2245.1,2,  2358.7,2,    974.4,2,    20.00,   7.6417,2,    25.00,-999.000,9,-999.0000,9, -999.00,9,   1.4666,2,    0.63,2,  -151.8,2,     3.0,   0.215,3, -999.00,9, -999.00,9, 3601.10,   1.1905
33RO20100308,      A13.5,      22,          1,          3,      11703,2,20100319,       1836,   -43.5007,     1.3413,       4391,  3899.4,   1.2648,  34.7441,2,  34.7440,2, 213.6000,2,   213.8,2,  102.59,6,   30.07,6,    0.00,6,    2.09,6,-999.000,9,-999.000,9,-999.0000,9,  2250.5,2,  2360.8,2,    985.0,2,    20.00,   7.6364,2,    25.00,-999.000,9,-999.0000,9, -999.00,9,   1.2637,2,    0.64,2,  -149.9,2,     2.4,-999.000,9, -999.00,9, -999.00,9, 3899.40,   0.9628
33RO20100308,      A13.5,      22,          1,          2,      11702,2,20100319,       1836,   -43.5007,     1.3413,       4391,  4201.3,   1.0996,  34.7289,2,  34.7288,2, 213.3000,2,   213.3,2,  109.75,6,   30.85,6,    0.00,6,    2.14,6,-999.000,9,-999.000,9,-999.0000,9,  2255.2,2,  2365.2,2,   1011.8,2,    20.00,   7.6279,2,    25.00,-999.000,9,-999.0000,9, -999.00,9,   1.0993,2,    0.56,2,  -156.6,2,     2.6,-999.000,9, -999.00,9, -999.00,9, 4201.30,   0.7699
33RO20100308,      A13.5,      22,          1,          1,      11701,2,20100319,       1836,   -43.5007,     1.3413,       4391,  4475.1,   1.0077,  34.7187,2,  34.7190,2, 214.1000,2,   212.6,2,  114.49,6,   31.32,6,    0.00,6,    2.17,6,   0.206,2,   0.095,2,   0.0000,2,  2258.7,6,  2365.6,6,   1025.5,2,    20.00,   7.6244,2,    25.00,-999.000,9,-999.0000,9, -999.00,9,   1.0067,2,    0.50,2,  -156.8,2,     2.4,   0.379,3, -999.00,9, -999.00,9, 4475.10,   0.6506