BOTTLE,20130404CCHSIOCBG
EXPOCODE,SECT_ID,STNNBR,CASTNO,SAMPNO,BTLNBR,BTLNBR_FLAG_W,DATE,TIME,LATITUDE,LONGITUDE,DEPTH,CTDPRS,CTDTMP,CTDSAL,CTDSAL_FLAG_W,SALNTY,SALNTY_FLAG_W,CTDOXY,CTDOXY_FLAG_W,OXYGEN,OXYGEN_FLAG_W,SILCAT,SILCAT_FLAG_W,NITRAT,NITRAT_FLAG_W,NITRIT,NITRIT_FLAG_W,PHSPHT,PHSPHT_FLAG_W,CFC-11,CFC-11_FLAG_W,CFC-12,CFC-12_FLAG_W,SF6,SF6_FLAG_W,TCARBN,TCARBN_FLAG_W,ALKALI,ALKALI_FLAG_W,FCO2,FCO2_FLAG_W,FCO2TMP,PH_TOT,PH_TOT_FLAG_W,PH_TMP,TRITUM,TRITUM_FLAG_W,HELIUM,HELIUM_FLAG_W,DELHE3,DELHE3_FLAG_W,REFTMP,REFTMP_FLAG_W,DELC13,DELC13_FLAG_W,DELC14,DELC14_FLAG_W,C14ERR,CCL4,CCL4_FLAG_W,DOC,DOC_FLAG_W,TDN,TDN_FLAG_W,CTDRAW,THETA
,,,,,,,,,,,METERS,DBAR,ITS-90,PSS-78,,PSS-78,,UMOL/KG,,UMOL/KG,,UMOL/KG,,UMOL/KG,,UMOL/KG,,UMOL/KG,,PMOL/KG,,PMOL/KG,,FMOL/KG,,UMOL/KG,,UMOL/KG,,UATM,,DEG C,,,DEG C,TU,,NMOL/KG,,PERCNT,,DEG C,,/MILLE,,/MILLE,,/MILLE,PMOL/KG,,UMOL/KG,,UMOL/KG,,DBAR,DEG C
33RO20100308,      A13.5,      72,          3,         24,      11714,2,20100402,       0709,      -18.5,        1.2,       5245,     5.3,  24.2549,  36.3470,2,  36.3483,2, 209.0000,2,   210.1,2,    0.49,2,    0.02,2,    0.00,2,    0.20,2,   1.760,2,   1.117,2,   1.1130,2,  2070.6,6,  2394.5,6,    328.1,2,    20.00,   8.0564,2,    25.00,-999.000,9,-999.0000,9, -999.00,9,-999.0000,9, -999.00,9,  -999.0,9,  -999.0,-999.000,5, -999.00,9, -999.00,9,    5.30,  24.2538
33RO20100308,      A13.5,      72,          3,         23,      11713,2,20100402,       0709,      -18.5,        1.2,       5245,    50.1,  23.6341,  36.2647,2,  36.2797,2, 215.7000,2,   215.8,2,    0.57,2,    0.07,2,    0.00,2,    0.22,2,   1.829,2,   1.157,2,   1.1620,2,  2069.9,2,  2386.9,2,    333.2,2,    20.00,   8.0490,2,    25.00,-999.000,9,-999.0000,9, -999.00,9,-999.0000,9, -999.00,9,  -999.0,9,  -999.0,-999.000,5, -999.00,9, -999.00,9,   50.10,  23.6236
33RO20100308,      A13.5,      72,          3,         22,      11712,2,20100402,       0709,      -18.5,        1.2,       5245,    99.8,  17.8119,  35.8161,2,  35.8091,2, 193.8000,2,   191.5,2,    1.91,2,   10.69,2,    0.31,2,    0.88,2,   2.356,2,   1.436,2,   1.3060,2,  2139.6,2,  2349.4,2,    558.6,6,    20.00,   7.8564,2,    25.00,-999.000,9,-999.0000,9, -999.00,9,-999.0000,9, -999.00,9,  -999.0,9,  -999.0,-999.000,5, -999.00,9, -999.00,9,   99.80,  17.7948
33RO20100308,      A13.5,      72,          3,         21,      11010,2,20100402,       0709,      -18.5,        1.2,       5245,   124.9,  15.7753,  35.5492,2,  35.5499,2, 174.8000,2,   171.9,2,    3.40,2,   11.54,2,    0.05,2,    0.87,2,   2.523,2,   1.508,2,   1.2620,2,  2139.4,2,  2333.3,2,    594.3,2,    20.00,   7.8315,2,    25.00,-999.000,9,-999.0000,9, -999.00,9,-999.0000,9, -999.00,9,  -999.0,9,  -999.0,-999.000,5, -999.00,9, -999.00,9,  124.90,  15.7557
33RO20100308,      A13.5,      72,          3,         20,      11715,2,20100402,       0709,      -18.5,        1.2,       5245,   149.6,  14.5508,  35.3747,2,  35.3696,2, 131.8000,2,   132.0,2,    5.06,2,   17.47,2,    0.01,2,    1.20,2,   2.541,2,   1.492,2,   1.0770,2,  2171.2,2,  2320.6,2,    770.5,2,    20.00,   7.7293,2,    25.00,-999.000,9,-999.0000,9, -999.00,9,-999.0000,9, -999.00,9,  -999.0,9,  -999.0,-999.000,5, -999.00,9, -999.00,9,  149.60,  14.5286
33RO20100308,      A13.5,      72,          3,         19,      11007,2,20100402,       0709,      -18.5,        1.2,       5245,   175.3,  13.6526,  35.3014,2,  35.2988,2,  61.6000,2,    62.4,2,    7.91,2,   26.28,2,    0.01,2,    1.70,2,   2.264,2,   1.297,2,   0.7540,2,  2222.0,2,  2312.6,2,   1145.6,2,    20.00,   7.5737,2,    25.00,-999.000,9,-999.0000,9, -999.00,9,-999.0000,9, -999.00,9,  -999.0,9,  -999.0,-999.000,5, -999.00,9, -999.00,9,  175.30,  13.6276
33RO20100308,      A13.5,      72,          3,         18,      11710,2,20100402,       0709,      -18.5,        1.2,       5245,   200.9,  13.1856,  35.2705,2,  35.2670,2,  40.6000,2,    39.7,2,    9.14,2,   29.20,2,    0.01,2,    1.85,2,   2.058,6,   1.157,6,   0.6240,6,  2237.1,2,  2311.4,2,   1295.2,2,    20.00,   7.5265,2,    25.00,-999.000,9,-999.0000,9, -999.00,9,-999.0000,9, -999.00,9,  -999.0,9,  -999.0,-999.000,5, -999.00,9, -999.00,9,  200.90,  13.1576
33RO20100308,      A13.5,      72,          3,         17,      11025,2,20100402,       0709,      -18.5,        1.2,       5245,   249.5,  12.0148,  35.1137,2,  35.1165,2,  48.1000,2,    46.6,2,   12.15,2,   29.80,2,    0.01,2,    1.95,2,   2.007,2,   1.118,2,   0.5280,2,  2238.4,6,  2306.3,6,   1362.8,2,    20.00,   7.5073,2,    25.00,-999.000,9,-999.0000,9, -999.00,9,-999.0000,9, -999.00,9,  -999.0,9,  -999.0,-999.000,5, -999.00,9, -999.00,9,  249.50,  11.9821
33RO20100308,      A13.5,      72,          3,         16,      11709,2,20100402,       0709,      -18.5,        1.2,       5245,   301.1,  11.0983,  35.0244,2,  35.0250,2,  47.2000,2,    43.7,2,   12.30,2,   32.18,2,    0.00,2,    2.05,2,   1.529,2,   0.831,2,   0.2830,2,  2242.8,2,  2302.0,2,   1421.8,2,    20.00,   7.4925,2,    25.00,-999.000,9,-999.0000,9, -999.00,9,-999.0000,9, -999.00,9,  -999.0,9,  -999.0,-999.000,5, -999.00,9, -999.00,9,  301.10,  11.0608
33RO20100308,      A13.5,      72,          3,         15,      11006,2,20100402,       0709,      -18.5,        1.2,       5245,   349.6,   9.9827,  34.8848,2,  34.8865,2,  71.5000,2,    62.6,2,   13.73,2,   32.29,2,    0.00,2,    2.07,2,   1.459,2,   0.781,2,   0.2760,2,  2234.3,2,  2302.0,2,   1363.2,2,    20.00,   7.5027,2,    25.00,-999.000,9,-999.0000,9, -999.00,9,-999.0000,9, -999.00,9,  -999.0,9,  -999.0,-999.000,5, -999.00,9, -999.00,9,  349.60,   9.9419
33RO20100308,      A13.5,      72,          3,         14,      11708,2,20100402,       0709,      -18.5,        1.2,       5245,   400.6,   9.2466,  34.8331,2,  34.8244,2,  27.6000,2,    30.2,2,   17.06,2,   37.52,2,    0.00,2,    2.39,2,   0.748,6,   0.402,6,   0.1070,6,  2258.8,6,  2297.8,2,   1691.5,2,    20.00,   7.4158,2,    25.00,-999.000,9,-999.0000,9, -999.00,9,-999.0000,9, -999.00,9,  -999.0,9,  -999.0,-999.000,5, -999.00,9, -999.00,9,  400.60,   9.2019
33RO20100308,      A13.5,      72,          3,         13,      11031,2,20100402,       0709,      -18.5,        1.2,       5245,   449.8,   8.5181,  34.7526,2,  34.7509,2,  40.7000,2,    45.2,2,   18.02,2,   37.53,2,    0.00,2,    2.39,2,   0.715,2,   0.377,2,   0.0850,2,  2253.9,2,  2296.2,2,   1629.8,6,    20.00,   7.4304,2,    25.00,-999.000,9,-999.0000,9, -999.00,9,-999.0000,9, -999.00,9,  -999.0,9,  -999.0,-999.000,5, -999.00,9, -999.00,9,  449.80,   8.4703
33RO20100308,      A13.5,      72,          3,         12,      11027,2,20100402,       0709,      -18.5,        1.2,       5245,   499.9,   7.8672,  34.6934,2,  34.6922,2,  48.9000,2,    49.4,2,   19.78,2,   38.59,2,    0.00,2,    2.47,2,   0.537,2,   0.284,2,   0.0590,2,  2256.0,2,  2294.4,2,   1661.1,2,    20.00,   7.4212,2,    25.00,-999.000,9,-999.0000,9, -999.00,9,-999.0000,9, -999.00,9,  -999.0,9,  -999.0,-999.000,5, -999.00,9, -999.00,9,  499.90,   7.8163
33RO20100308,      A13.5,      72,          3,         11,      11707,2,20100402,       0709,      -18.5,        1.2,       5245,   549.5,   6.9942,  34.6086,2,  34.6094,2,  73.2000,2,    76.1,2,   21.63,2,   37.71,2,    0.00,2,    2.44,2,   0.500,2,   0.263,2,   0.0420,2,  2246.5,2,  2294.6,2,   1526.2,2,    20.00,   7.4556,2,    25.00,-999.000,9,-999.0000,9, -999.00,9,-999.0000,9, -999.00,9,  -999.0,9,  -999.0,-999.000,5, -999.00,9, -999.00,9,  549.50,   6.9418
33RO20100308,      A13.5,      72,          3,         10,      11003,2,20100402,       0709,      -18.5,        1.2,       5245,   600.6,   6.3767,  34.5588,2,  34.5582,2,  99.4000,2,    99.7,2,   23.20,2,   36.62,2,    0.00,2,    2.39,2,   0.347,2,   0.185,2,   0.0180,2,  2234.5,2,  2294.9,2,   1406.5,2,    20.00,   7.4909,2,    25.00,-999.000,9,-999.0000,9, -999.00,9,-999.0000,9, -999.00,9,  -999.0,9,  -999.0,-999.000,5, -999.00,9, -999.00,9,  600.60,   6.3220
33RO20100308,      A13.5,      72,          3,          9,      11706,2,20100402,       0709,      -18.5,        1.2,       5245,   650.4,   5.7510,  34.5120,2,  34.5108,2, 113.9000,2,   113.4,2,   25.75,2,   36.60,2,    0.00,2,    2.40,2,   0.281,2,   0.150,2,   0.0000,2,  2231.4,2,  2296.2,2,   1365.4,2,    20.00,   7.5021,2,    25.00,-999.000,9,-999.0000,9, -999.00,9,-999.0000,9, -999.00,9,  -999.0,9,  -999.0,-999.000,5, -999.00,9, -999.00,9,  650.40,   5.6947
33RO20100308,      A13.5,      72,          3,          8,      11033,2,20100402,       0709,      -18.5,        1.2,       5245,   699.4,   5.2990,  34.4895,2,  34.4903,2, 118.5000,2,   118.5,2,   28.20,2,   36.86,2,    0.00,2,    2.44,2,   0.186,2,   0.102,2,   0.0000,2,  2232.2,2,  2296.5,2,   1355.0,2,    20.00,   7.5033,2,    25.00,-999.000,9,-999.0000,9, -999.00,9,-999.0000,9, -999.00,9,  -999.0,9,  -999.0,-999.000,5, -999.00,9, -999.00,9,  699.40,   5.2407
33RO20100308,      A13.5,      72,          3,          7,      11705,2,20100402,       0709,      -18.5,        1.2,       5245,   750.1,   4.9539,  34.4718,2,  34.4728,2, 136.0000,2,   135.3,2,   29.82,6,   35.85,6,    0.00,6,    2.38,6,   0.172,2,   0.094,2,   0.0000,2,  2225.6,2,  2299.0,2,   1274.9,2,    20.00,   7.5289,2,    25.00,-999.000,9,-999.0000,9, -999.00,9,-999.0000,9, -999.00,9,  -999.0,9,  -999.0,-999.000,5, -999.00,9, -999.00,9,  750.10,   4.8931
33RO20100308,      A13.5,      72,          3,          6,      11029,2,20100402,       0709,      -18.5,        1.2,       5245,   800.5,   4.6288,  34.4676,2,  34.4703,2, 142.7000,2,   142.6,2,   32.14,6,   35.59,6,    0.00,6,    2.38,6,   0.135,2,   0.074,2,   0.0000,2,  2224.9,2,  2300.6,2,   1249.4,2,    20.00,   7.5359,2,    25.00,-999.000,9,-999.0000,9, -999.00,9,-999.0000,9, -999.00,9,  -999.0,9,  -999.0,-999.000,5, -999.00,9, -999.00,9,  800.50,   4.5656
33RO20100308,      A13.5,      72,          3,          5,      11704,2,20100402,       0709,      -18.5,        1.2,       5245,   898.8,   4.2317,  34.4871,2,  34.4872,2, 150.5000,2,   150.4,6,   35.29,6,   34.97,6,    0.00,6,    2.35,6,   0.067,2,   0.038,2,   0.0000,2,  2224.5,2,  2305.8,2,   1217.7,2,    20.00,   7.5479,2,    25.00,-999.000,9,-999.0000,9, -999.00,9,-999.0000,9, -999.00,9,  -999.0,9,  -999.0,-999.000,5, -999.00,9, -999.00,9,  898.80,   4.1628
33RO20100308,      A13.5,      72,          3,          4,      11030,2,20100402,       0709,      -18.5,        1.2,       5245,   998.6,   3.9164,  34.5275,2,  34.5279,2, 160.7000,2,   160.5,2,   38.06,6,   33.85,6,    0.00,6,    2.29,6,   0.052,2,   0.029,2,   0.0000,2,  2223.5,2,  2311.0,2,   1166.6,2,    20.00,   7.5640,2,    25.00,-999.000,9,-999.0000,9, -999.00,9,-999.0000,9, -999.00,9,  -999.0,9,  -999.0,-999.000,5, -999.00,9, -999.00,9,  998.60,   3.8414
33RO20100308,      A13.5,      72,          3,          3,      11703,2,20100402,       0709,      -18.5,        1.2,       5245,  1099.4,   3.8045,  34.5883,2,  34.5889,2, 165.6000,2,   167.0,2,   38.43,6,   32.72,6,    0.00,6,    2.21,6,   0.023,2,   0.014,2,   0.0000,2,  2221.8,2,  2314.1,2,   1127.8,2,    20.00,   7.5788,2,    25.00,-999.000,9,-999.0000,9, -999.00,9,-999.0000,9, -999.00,9,  -999.0,9,  -999.0,-999.000,5, -999.00,9, -999.00,9, 1099.40,   3.7220
33RO20100308,      A13.5,      72,          3,          2,      11702,2,20100402,       0709,      -18.5,        1.2,       5245,  1298.4,   3.6797,  34.7083,2,  34.7100,2, 176.8000,2,   177.3,6,   37.28,6,   30.20,6,    0.00,6,    2.05,6,   0.008,2,   0.004,2,   0.0090,2,  2216.4,2,  2317.1,2,   1050.6,2,    20.00,   7.6056,2,    25.00,-999.000,9,-999.0000,9, -999.00,9,-999.0000,9, -999.00,9,  -999.0,9,  -999.0,-999.000,5, -999.00,9, -999.00,9, 1298.40,   3.5813
33RO20100308,      A13.5,      72,          3,          1,      11701,2,20100402,       0709,      -18.5,        1.2,       5245,  1500.0,   3.6307,  34.8097,2,  34.8105,2, 197.4000,2,   198.7,2,   32.79,6,   27.11,6,    0.00,6,    1.82,6,   0.002,2,   0.001,2,   0.0000,2,  2202.1,2,  2320.4,6,    942.3,2,    20.00,   7.6508,2,    25.00,-999.000,9,-999.0000,9, -999.00,9,-999.0000,9, -999.00,9,  -999.0,9,  -999.0,-999.000,5, -999.00,9, -999.00,9, 1500.00,   3.5151