BOTTLE,20130404CCHSIOCBG
EXPOCODE,SECT_ID,STNNBR,CASTNO,SAMPNO,BTLNBR,BTLNBR_FLAG_W,DATE,TIME,LATITUDE,LONGITUDE,DEPTH,CTDPRS,CTDTMP,CTDSAL,CTDSAL_FLAG_W,SALNTY,SALNTY_FLAG_W,CTDOXY,CTDOXY_FLAG_W,OXYGEN,OXYGEN_FLAG_W,SILCAT,SILCAT_FLAG_W,NITRAT,NITRAT_FLAG_W,NITRIT,NITRIT_FLAG_W,PHSPHT,PHSPHT_FLAG_W,CFC-11,CFC-11_FLAG_W,CFC-12,CFC-12_FLAG_W,SF6,SF6_FLAG_W,TCARBN,TCARBN_FLAG_W,ALKALI,ALKALI_FLAG_W,FCO2,FCO2_FLAG_W,FCO2TMP,PH_TOT,PH_TOT_FLAG_W,PH_TMP,TRITUM,TRITUM_FLAG_W,HELIUM,HELIUM_FLAG_W,DELHE3,DELHE3_FLAG_W,REFTMP,REFTMP_FLAG_W,DELC13,DELC13_FLAG_W,DELC14,DELC14_FLAG_W,C14ERR,CCL4,CCL4_FLAG_W,DOC,DOC_FLAG_W,TDN,TDN_FLAG_W,CTDRAW,THETA
,,,,,,,,,,,METERS,DBAR,ITS-90,PSS-78,,PSS-78,,UMOL/KG,,UMOL/KG,,UMOL/KG,,UMOL/KG,,UMOL/KG,,UMOL/KG,,PMOL/KG,,PMOL/KG,,FMOL/KG,,UMOL/KG,,UMOL/KG,,UATM,,DEG C,,,DEG C,TU,,NMOL/KG,,PERCNT,,DEG C,,/MILLE,,/MILLE,,/MILLE,PMOL/KG,,UMOL/KG,,UMOL/KG,,DBAR,DEG C
33RO20100308,      A13.5,      16,          1,         24,      11714,2,20100318,       0656,   -46.4998,     1.0397,       3980,     4.7,   7.2070,  33.7870,2,  33.7888,2, 297.7000,2,   298.7,2,    2.97,2,   18.74,2,    0.24,2,    1.33,2,   4.153,2,   2.390,2,   2.0950,2,  2097.7,6,  2262.2,6,    631.9,2,    20.00,   7.8034,2,    25.00,-999.000,9,-999.0000,9, -999.00,9,   7.2045,2, -999.00,9,  -999.0,9,  -999.0,   5.055,3, -999.00,9, -999.00,9,    4.70,   7.2066
33RO20100308,      A13.5,      16,          1,         23,      11713,2,20100318,       0656,   -46.4998,     1.0397,       3980,    49.7,   7.1972,  33.7873,2,  33.7888,2, 298.8000,2,   298.8,2,    3.12,2,   18.72,2,    0.24,2,    1.33,2,   4.147,2,   2.381,2,   2.0360,2,  2098.8,2,  2263.0,2,    629.1,6,    20.00,   7.8033,2,    25.00,-999.000,9,-999.0000,9, -999.00,9,   7.1989,2, -999.00,9,  -999.0,9,  -999.0,   5.077,3, -999.00,9, -999.00,9,   49.70,   7.1926
33RO20100308,      A13.5,      16,          1,         22,      11712,2,20100318,       0656,   -46.4998,     1.0397,       3980,   100.0,   6.1546,  33.8141,2,  33.8163,2, 297.6000,2,   298.0,2,    3.51,2,   19.48,2,    0.27,2,    1.43,2,   4.338,6,   2.484,6,   2.1980,6,  2112.3,2,  2268.9,2,    666.6,2,    20.00,   7.7807,2,    25.00,-999.000,9,-999.0000,9, -999.00,9,   6.1547,2, -999.00,9,  -999.0,9,  -999.0,   5.386,3, -999.00,9, -999.00,9,  100.00,   6.1461
33RO20100308,      A13.5,      16,          1,         21,      11010,2,20100318,       0656,   -46.4998,     1.0397,       3980,   150.1,   3.6936,  34.0012,2,  34.0028,2, 294.2000,2,   293.0,2,   12.40,2,   25.61,2,    0.02,2,    1.76,2,   4.471,2,   2.511,2,   1.9570,2,  2148.1,2,  2273.8,2,    836.4,2,    20.00,   7.6977,2,    25.00,-999.000,9,-999.0000,9, -999.00,9,   3.6909,2, -999.00,9,  -999.0,9,  -999.0,   5.101,3, -999.00,9, -999.00,9,  150.10,   3.6837
33RO20100308,      A13.5,      16,          1,         20,      11715,2,20100318,       0656,   -46.4998,     1.0397,       3980,   249.0,   3.3219,  34.1145,2,  34.1158,2, 264.6000,2,   265.1,6,   20.27,2,   28.67,2,    0.01,2,    1.97,2,   4.098,2,   2.241,2,   1.5850,2,  2168.5,2,  2281.3,2,    924.5,2,    20.00,   7.6535,2,    25.00,-999.000,9,-999.0000,9, -999.00,9,   3.3194,2, -999.00,9,  -999.0,9,  -999.0,   4.499,3, -999.00,9, -999.00,9,  249.00,   3.3060
33RO20100308,      A13.5,      16,          1,         19,      11007,2,20100318,       0656,   -46.4998,     1.0397,       3980,   350.4,   2.8556,  34.1676,2,  34.1704,2, 247.5000,2,   246.4,2,   29.61,2,   30.73,2,    0.01,2,    2.11,2,   3.572,2,   1.888,2,   1.2090,2,  2187.1,2,  2287.2,2,   1000.2,2,    20.00,   7.6234,2,    25.00,-999.000,9,-999.0000,9, -999.00,9,   2.8552,2, -999.00,9,  -999.0,9,  -999.0,   3.975,3, -999.00,9, -999.00,9,  350.40,   2.8342
33RO20100308,      A13.5,      16,          1,         18,      11710,2,20100318,       0656,   -46.4998,     1.0397,       3980,   449.5,   2.7152,  34.2276,2,  34.2260,2, 230.1000,2,   229.6,2,   37.30,2,   31.99,2,    0.01,2,    2.19,2,   3.032,2,   1.565,2,   0.9710,2,  2201.9,2,  2293.0,2,   1055.6,2,    20.00,   7.6039,2,    25.00,-999.000,9,-999.0000,9, -999.00,9,   2.7197,2, -999.00,9,  -999.0,9,  -999.0,   3.430,3, -999.00,9, -999.00,9,  449.50,   2.6879
33RO20100308,      A13.5,      16,          1,         17,      11025,2,20100318,       0656,   -46.4998,     1.0397,       3980,   550.0,   2.5971,  34.2982,2,  34.3022,2, 211.6000,2,   210.7,2,   46.78,2,   33.28,2,    0.00,2,    2.29,2,   2.423,2,   1.224,2,   0.6730,2,  2217.6,2,  2305.3,2,   1130.5,2,    20.00,   7.5789,2,    25.00,-999.000,9,-999.0000,9, -999.00,9,   2.5954,2, -999.00,9,  -999.0,9,  -999.0,   2.812,3, -999.00,9, -999.00,9,  550.00,   2.5637
33RO20100308,      A13.5,      16,          1,         16,      11709,2,20100318,       0656,   -46.4998,     1.0397,       3980,   700.0,   2.5865,  34.4101,2,  34.4108,2, 188.3000,2,   187.4,2,   58.66,2,   34.22,2,    0.00,2,    2.36,2,   1.495,2,   0.732,2,   0.4140,2,  2235.8,2,  2314.7,2,   1190.8,2,    20.00,   7.5602,2,    25.00,-999.000,9,-999.0000,9, -999.00,9,   2.5859,2, -999.00,9,  -999.0,9,  -999.0,   1.880,3, -999.00,9, -999.00,9,  700.00,   2.5430
33RO20100308,      A13.5,      16,          1,         15,      11006,2,20100318,       0656,   -46.4998,     1.0397,       3980,   850.5,   2.5822,  34.5142,2,  34.5160,2, 176.7000,2,   176.4,2,   66.41,2,   33.99,2,    0.00,2,    2.35,2,   0.794,2,   0.389,2,   0.1750,2,  2244.7,6,  2327.0,6,   1191.5,2,    20.00,   7.5596,2,    25.00,-999.000,9,-999.0000,9, -999.00,9,   2.5817,2, -999.00,9,  -999.0,9,  -999.0,   1.122,3, -999.00,9, -999.00,9,  850.50,   2.5282
33RO20100308,      A13.5,      16,          1,         14,      11708,2,20100318,       0656,   -46.4998,     1.0397,       3980,   999.0,   2.5214,  34.5825,2,  34.5849,2, 174.6000,2,   174.0,2,   70.71,2,   33.46,2,    0.00,2,    2.30,2,   0.538,2,   0.262,2,   0.1090,2,  2248.4,2,  2334.1,2,   1182.4,2,    20.00,   7.5640,2,    25.00,-999.000,9,-999.0000,9, -999.00,9,   2.5210,2, -999.00,9,  -999.0,9,  -999.0,   0.850,3, -999.00,9, -999.00,9,  999.00,   2.4572
33RO20100308,      A13.5,      16,          1,         13,      11031,2,20100318,       0656,   -46.4998,     1.0397,       3980,  1149.1,   2.4933,  34.6583,2,  34.6588,2, 178.3000,4,   188.6,4,   72.83,2,   32.32,2,    0.00,2,    2.22,2,   0.336,2,   0.162,2,   0.1020,2,  2248.8,2,  2337.6,2,   1136.2,2,    20.00,   7.5810,2,    25.00,-999.000,9,-999.0000,9, -999.00,9,   2.4935,2, -999.00,9,  -999.0,9,  -999.0,   0.579,3, -999.00,9, -999.00,9, 1149.10,   2.4182
33RO20100308,      A13.5,      16,          1,         12,      11027,2,20100318,       0656,   -46.4998,     1.0397,       3980,  1299.6,   2.4061,  34.6960,2,  34.6970,2, 181.4000,2,   181.1,2,   75.10,2,   31.53,2,    0.00,2,    2.17,2,   0.273,2,   0.134,2,   0.1060,2,  2248.0,2,  2339.3,2,   1110.0,2,    20.00,   7.5906,2,    25.00,-999.000,9,-999.0000,9, -999.00,9,   2.4055,2, -999.00,9,  -999.0,9,  -999.0,   0.476,3, -999.00,9, -999.00,9, 1299.60,   2.3204
33RO20100308,      A13.5,      16,          1,         11,      11707,2,20100318,       0656,   -46.4998,     1.0397,       3980,  1450.1,   2.4110,  34.7355,2,  34.7354,2, 189.2000,2,   188.5,2,   73.28,2,   30.38,2,    0.00,2,    2.09,2,   0.192,2,   0.093,2,   0.0580,2,  2242.7,2,  2344.0,2,   1051.9,2,    20.00,   7.6094,2,    25.00,-999.000,9,-999.0000,9, -999.00,9,   2.4102,2, -999.00,9,  -999.0,9,  -999.0,   0.373,3, -999.00,9, -999.00,9, 1450.10,   2.3135
33RO20100308,      A13.5,      16,          1,         10,      11003,2,20100318,       0656,   -46.4998,     1.0397,       3980,  1601.9,   2.2991,  34.7548,2,  34.7554,2, 192.9000,2,   194.3,2,   75.43,2,   29.83,2,    0.00,2,    2.04,2,   0.168,2,   0.080,2,   0.0380,2,  2241.4,2,  2343.3,2,   1029.0,2,    20.00,   7.6186,2,    25.00,-999.000,9,-999.0000,9, -999.00,9,   2.2988,2, -999.00,9,  -999.0,9,  -999.0,   0.331,3, -999.00,9, -999.00,9, 1601.90,   2.1908
33RO20100308,      A13.5,      16,          1,          9,      11706,2,20100318,       0656,   -46.4998,     1.0397,       3980,  1749.7,   2.2198,  34.7707,2,  34.7707,2, 198.7000,2,   199.5,2,   75.32,2,   29.21,2,    0.00,2,    2.01,2,   0.139,2,   0.067,2,   0.0000,2,  2237.9,2,  2343.1,2,   1005.6,2,    20.00,   7.6304,2,    25.00,-999.000,9,-999.0000,9, -999.00,9,   2.2194,2, -999.00,9,  -999.0,9,  -999.0,   0.287,3, -999.00,9, -999.00,9, 1749.70,   2.1005
33RO20100308,      A13.5,      16,          1,          8,      11033,2,20100318,       0656,   -46.4998,     1.0397,       3980,  1900.3,   2.1001,  34.7752,2,  34.7759,2, 202.4000,2,   202.3,2,   77.52,2,   28.93,2,    0.00,2,    1.98,2,   0.128,2,   0.064,2,   0.0660,2,  2237.7,2,  2345.3,2,    992.3,2,    20.00,   7.6341,2,    25.00,-999.000,9,-999.0000,9, -999.00,9,   2.0999,2, -999.00,9,  -999.0,9,  -999.0,   0.263,3, -999.00,9, -999.00,9, 1900.30,   1.9700
33RO20100308,      A13.5,      16,          1,          7,      11705,2,20100318,       0656,   -46.4998,     1.0397,       3980,  2200.1,   1.8609,  34.7700,2,  34.7720,2, 205.3000,2,   205.0,2,   83.94,2,   29.28,2,    0.00,2,    2.00,2,   0.130,2,   0.065,2,   0.0690,3,  2240.8,2,  2349.3,2,    999.1,2,    20.00,   7.6338,2,    25.00,-999.000,9,-999.0000,9, -999.00,9,   1.8611,2, -999.00,9,  -999.0,9,  -999.0,   0.253,3, -999.00,9, -999.00,9, 2200.10,   1.7092
33RO20100308,      A13.5,      16,          1,          6,      11029,2,20100318,       0656,   -46.4998,     1.0397,       3980,  2500.5,   1.5603,  34.7540,2,  34.7547,2, 205.6000,2,   205.8,6,   93.41,6,   29.91,6,    0.00,6,    2.05,6,   0.149,2,   0.073,2,   0.0520,2,  2247.1,2,  2351.3,2,   1012.4,2,    20.00,   7.6280,2,    25.00,-999.000,9,-999.0000,9, -999.00,9,   1.5602,2, -999.00,9,  -999.0,9,  -999.0,   0.269,3, -999.00,9, -999.00,9, 2500.50,   1.3877
33RO20100308,      A13.5,      16,          1,          5,      11704,2,20100318,       0656,   -46.4998,     1.0397,       3980,  2798.8,   1.3398,  34.7406,2,  34.7406,2, 206.9000,2,   207.8,2,  100.44,6,   30.54,6,    0.00,6,    2.10,6,   0.180,2,   0.085,2,   0.0000,2,  2251.2,2,  2355.9,2,   1031.5,2,    20.00,   7.6241,2,    25.00,-999.000,9,-999.0000,9, -999.00,9,   1.3394,2, -999.00,9,  -999.0,9,  -999.0,   0.307,3, -999.00,9, -999.00,9, 2798.80,   1.1448
33RO20100308,      A13.5,      16,          1,          4,      11030,9,20100318,       0656,   -46.4998,     1.0397,       3980,  3099.8,   1.1337,  34.7277,2,-999.0000,9, 208.0000,2,  -999.0,9, -999.00,9, -999.00,9, -999.00,9, -999.00,9,-999.000,9,-999.000,9,-999.0000,9,  -999.0,9,  -999.0,9,   -999.0,9,  -999.00,-999.0000,9,  -999.00,-999.000,9,-999.0000,9, -999.00,9,   1.1332,2, -999.00,9,  -999.0,9,  -999.0,-999.000,9, -999.00,9, -999.00,9, 3099.80,   0.9154
33RO20100308,      A13.5,      16,          1,          3,      11703,2,20100318,       0656,   -46.4998,     1.0397,       3980,  3400.2,   0.9401,  34.7161,2,  34.7166,2, 210.7000,2,   211.2,2,  113.16,6,   31.48,6,    0.01,6,    2.17,6,   0.248,6,   0.118,6,   0.0380,2,  2257.5,2,  2359.1,2,   1048.6,6,    20.00,   7.6161,2,    25.00,-999.000,9,-999.0000,9, -999.00,9,   0.9393,2, -999.00,9,  -999.0,9,  -999.0,   0.410,3, -999.00,9, -999.00,9, 3400.20,   0.6976
33RO20100308,      A13.5,      16,          1,          2,      11702,9,20100318,       0656,   -46.4998,     1.0397,       3980,  3699.5,   0.7847,  34.7022,2,-999.0000,9, 211.6000,2,  -999.0,9, -999.00,9, -999.00,9, -999.00,9, -999.00,9,-999.000,9,-999.000,9,-999.0000,9,  -999.0,9,  -999.0,9,   -999.0,9,  -999.00,-999.0000,9,  -999.00,-999.000,9,-999.0000,9, -999.00,9,   0.7839,2, -999.00,9,  -999.0,9,  -999.0,-999.000,9, -999.00,9, -999.00,9, 3699.50,   0.5167
33RO20100308,      A13.5,      16,          1,          1,      11701,2,20100318,       0656,   -46.4998,     1.0397,       3980,  4028.2,   0.6887,  34.6933,2,  34.6960,2, 213.3000,2,   210.8,2,  125.85,2,   32.33,6,    0.01,6,    2.23,6,   0.353,2,   0.167,2,   0.0870,3,  2264.7,6,  2362.5,6,   1083.9,2,    20.00,   7.6038,2,    25.00,-999.000,9,-999.0000,9, -999.00,9,   0.6877,2, -999.00,9,  -999.0,9,  -999.0,   0.557,3, -999.00,9, -999.00,9, 4028.20,   0.3897