BOTTLE,20130404CCHSIOCBG
EXPOCODE,SECT_ID,STNNBR,CASTNO,SAMPNO,BTLNBR,BTLNBR_FLAG_W,DATE,TIME,LATITUDE,LONGITUDE,DEPTH,CTDPRS,CTDTMP,CTDSAL,CTDSAL_FLAG_W,SALNTY,SALNTY_FLAG_W,CTDOXY,CTDOXY_FLAG_W,OXYGEN,OXYGEN_FLAG_W,SILCAT,SILCAT_FLAG_W,NITRAT,NITRAT_FLAG_W,NITRIT,NITRIT_FLAG_W,PHSPHT,PHSPHT_FLAG_W,CFC-11,CFC-11_FLAG_W,CFC-12,CFC-12_FLAG_W,SF6,SF6_FLAG_W,TCARBN,TCARBN_FLAG_W,ALKALI,ALKALI_FLAG_W,FCO2,FCO2_FLAG_W,FCO2TMP,PH_TOT,PH_TOT_FLAG_W,PH_TMP,TRITUM,TRITUM_FLAG_W,HELIUM,HELIUM_FLAG_W,DELHE3,DELHE3_FLAG_W,REFTMP,REFTMP_FLAG_W,DELC13,DELC13_FLAG_W,DELC14,DELC14_FLAG_W,C14ERR,CCL4,CCL4_FLAG_W,DOC,DOC_FLAG_W,TDN,TDN_FLAG_W,CTDRAW,THETA
,,,,,,,,,,,METERS,DBAR,ITS-90,PSS-78,,PSS-78,,UMOL/KG,,UMOL/KG,,UMOL/KG,,UMOL/KG,,UMOL/KG,,UMOL/KG,,PMOL/KG,,PMOL/KG,,FMOL/KG,,UMOL/KG,,UMOL/KG,,UATM,,DEG C,,,DEG C,TU,,NMOL/KG,,PERCNT,,DEG C,,/MILLE,,/MILLE,,/MILLE,PMOL/KG,,UMOL/KG,,UMOL/KG,,DBAR,DEG C
33RO20100308,      A13.5,      48,          1,         24,      11714,2,20100326,       0918,   -30.5015,     1.6967,       4148,     5.4,  21.4030,  35.7962,2,  35.7992,2, 222.1000,2,   223.1,2,    1.76,2,    0.01,2,    0.00,2,    0.11,2,   1.994,2,   1.261,2,   1.1740,2,  2058.7,6,  2350.4,6,    355.8,2,    20.00,   8.0243,2,    25.00,-999.000,9,-999.0000,9, -999.00,9,  21.4065,2, -999.00,9,  -999.0,9,  -999.0,-999.000,5, -999.00,9, -999.00,9,    5.40,  21.4019
33RO20100308,      A13.5,      48,          1,         23,      11713,2,20100326,       0918,   -30.5015,     1.6967,       4148,    29.3,  21.2578,  35.7816,2,  35.7815,2, 222.7000,2,   223.9,2,    1.79,2,    0.02,2,    0.00,2,    0.11,2,-999.000,9,-999.000,9,-999.0000,9,  2057.6,2,  2350.8,2,    353.4,6,    20.00,   8.0252,2,    25.00,-999.000,9,-999.0000,9, -999.00,9,  21.2569,2, -999.00,9,  -999.0,9,  -999.0,-999.000,9, -999.00,9, -999.00,9,   29.30,  21.2521
33RO20100308,      A13.5,      48,          1,         22,      11712,2,20100326,       0918,   -30.5015,     1.6967,       4148,    89.9,  16.8705,  35.5580,2,  35.5587,2, 221.1000,2,   221.6,2,    3.38,2,    2.73,2,    0.08,2,    0.34,2,   2.392,2,   1.487,2,   1.2940,2,  2079.4,2,  2333.3,2,    420.6,2,    20.00,   7.9603,2,    25.00,-999.000,9,-999.0000,9, -999.00,9,  16.8725,2, -999.00,9,  -999.0,9,  -999.0,-999.000,5, -999.00,9, -999.00,9,   89.90,  16.8557
33RO20100308,      A13.5,      48,          1,         21,      11010,2,20100326,       0918,   -30.5015,     1.6967,       4148,   150.9,  15.2821,  35.4469,2,  35.4487,2, 219.0000,2,   216.3,2,    3.65,2,    5.30,2,    0.01,2,    0.50,2,-999.000,9,-999.000,9,-999.0000,9,  2098.2,2,  2329.4,2,    473.2,2,    20.00,   7.9175,2,    25.00,-999.000,9,-999.0000,9, -999.00,9,  15.2858,2, -999.00,9,  -999.0,9,  -999.0,-999.000,9, -999.00,9, -999.00,9,  150.90,  15.2589
33RO20100308,      A13.5,      48,          1,         20,      11715,2,20100326,       0918,   -30.5015,     1.6967,       4148,   225.8,  14.1781,  35.2969,2,  35.2979,2, 220.1000,2,   220.0,2,    3.48,2,    6.63,2,    0.01,2,    0.59,2,   2.691,6,   1.645,6,   1.3190,6,  2103.9,2,  2322.6,2,    507.4,2,    20.00,   7.8910,2,    25.00,-999.000,9,-999.0000,9, -999.00,9,  14.1775,2, -999.00,9,  -999.0,9,  -999.0,-999.000,5, -999.00,9, -999.00,9,  225.80,  14.1451
33RO20100308,      A13.5,      48,          1,         19,      11007,2,20100326,       0918,   -30.5015,     1.6967,       4148,   299.8,  12.8420,  35.1464,2,  35.1483,2, 219.3000,2,   218.0,2,    3.94,2,    9.55,2,    0.00,2,    0.77,2,   2.872,2,   1.724,2,   1.2800,2,  2117.8,2,  2314.0,2,    564.9,2,    20.00,   7.8526,2,    25.00,-999.000,9,-999.0000,9, -999.00,9,  12.8387,2, -999.00,9,  -999.0,9,  -999.0,-999.000,5, -999.00,9, -999.00,9,  299.80,  12.8009
33RO20100308,      A13.5,      48,          1,         18,      11710,2,20100326,       0918,   -30.5015,     1.6967,       4148,   401.3,  10.9933,  34.9127,2,  34.9138,2, 205.8000,2,   206.9,2,    6.30,2,   15.09,2,    0.00,2,    1.11,2,   3.076,2,   1.747,2,   1.0820,2,  2137.5,2,  2303.5,2,    668.2,2,    20.00,   7.7861,2,    25.00,-999.000,9,-999.0000,9, -999.00,9,  10.9925,2, -999.00,9,  -999.0,9,  -999.0,   1.749,3, -999.00,9, -999.00,9,  401.30,  10.9434
33RO20100308,      A13.5,      48,          1,         17,      11025,2,20100326,       0918,   -30.5015,     1.6967,       4148,   500.4,   9.2011,  34.6967,2,  34.6989,2, 198.8000,2,   207.0,4,    9.47,2,   19.24,2,    0.00,2,    1.38,2,   3.008,2,   1.693,2,   0.9620,2,  2150.0,2,  2290.1,2,    749.1,2,    20.00,   7.7396,2,    25.00,-999.000,9,-999.0000,9, -999.00,9,   9.2027,2, -999.00,9,  -999.0,9,  -999.0,-999.000,5, -999.00,9, -999.00,9,  500.40,   9.1453
33RO20100308,      A13.5,      48,          1,         16,      11709,2,20100326,       0918,   -30.5015,     1.6967,       4148,   600.0,   7.5255,  34.5220,2,  34.5222,2, 204.1000,2,   202.5,6,   14.07,2,   23.91,2,    0.00,2,    1.69,2,   3.004,2,   1.611,2,   0.8250,2,  2165.3,2,  2290.1,2,    856.8,2,    20.00,   7.6860,2,    25.00,-999.000,9,-999.0000,9, -999.00,9,   7.5245,2, -999.00,9,  -999.0,9,  -999.0,   2.938,3, -999.00,9, -999.00,9,  600.00,   7.4657
33RO20100308,      A13.5,      48,          1,         15,      11006,2,20100326,       0918,   -30.5015,     1.6967,       4148,   700.7,   5.7923,  34.3792,2,  34.3786,2, 209.1000,2,   207.6,2,   19.62,2,   27.60,2,    0.00,2,    1.93,2,   2.823,2,   1.512,2,   0.7270,2,  2180.1,2,  2288.5,2,    943.6,6,    20.00,   7.6491,2,    25.00,-999.000,9,-999.0000,9, -999.00,9,   5.7905,2, -999.00,9,  -999.0,9,  -999.0,-999.000,5, -999.00,9, -999.00,9,  700.70,   5.7313
33RO20100308,      A13.5,      48,          1,         14,      11708,2,20100326,       0918,   -30.5015,     1.6967,       4148,   849.5,   4.4533,  34.3270,2,  34.3271,2, 213.8000,2,   212.0,2,   28.92,2,   29.82,2,    0.00,2,    2.10,2,   2.489,2,   1.270,2,   0.5170,2,  2191.3,2,  2294.9,2,    986.9,2,    20.00,   7.6293,2,    25.00,-999.000,9,-999.0000,9, -999.00,9,   4.4527,2, -999.00,9,  -999.0,9,  -999.0,   3.600,3, -999.00,9, -999.00,9,  849.50,   4.3873
33RO20100308,      A13.5,      48,          1,         13,      11031,2,20100326,       0918,   -30.5015,     1.6967,       4148,  1050.3,   3.6243,  34.4081,2,  34.4081,2, 189.1000,2,   189.8,2,   45.63,2,   32.40,2,    0.00,2,    2.29,2,   1.311,2,   0.650,2,   0.2630,2,  2219.7,2,  2311.3,2,   1089.5,2,    20.00,   7.5914,2,    25.00,-999.000,9,-999.0000,9, -999.00,9,   3.6241,2, -999.00,9,  -999.0,9,  -999.0,-999.000,5, -999.00,9, -999.00,9, 1050.30,   3.5476
33RO20100308,      A13.5,      48,          1,         12,      11027,2,20100326,       0918,   -30.5015,     1.6967,       4148,  1250.8,   3.1738,  34.5588,2,  34.5593,2, 177.8000,2,   177.6,2,   55.90,2,   32.37,2,    0.00,2,    2.29,2,-999.000,9,-999.000,9,-999.0000,9,  2234.3,6,  2323.8,2,   1110.5,2,    20.00,   7.5860,2,    25.00,-999.000,9,-999.0000,9, -999.00,9,   3.1734,2, -999.00,9,  -999.0,9,  -999.0,-999.000,9, -999.00,9, -999.00,9, 1250.80,   3.0846
33RO20100308,      A13.5,      48,          1,         11,      11707,2,20100326,       0918,   -30.5015,     1.6967,       4148,  1450.7,   3.0600,  34.6683,2,  34.6684,2, 185.5000,2,   185.5,2,   54.42,2,   30.64,2,    0.00,2,    2.14,2,   0.160,2,   0.080,2,   0.0000,2,  2226.8,2,  2328.2,2,   1046.8,2,    20.00,   7.6095,2,    25.00,-999.000,9,-999.0000,9, -999.00,9,   3.0599,2, -999.00,9,  -999.0,9,  -999.0,-999.000,5, -999.00,9, -999.00,9, 1450.70,   2.9553
33RO20100308,      A13.5,      48,          1,         10,      11003,2,20100326,       0918,   -30.5015,     1.6967,       4148,  1649.5,   3.0066,  34.7278,2,  34.7283,2, 194.4000,2,   194.6,2,   52.37,2,   28.85,2,    0.00,2,    2.02,2,-999.000,9,-999.000,9,-999.0000,9,  2221.9,2,  2329.2,2,    994.7,2,    20.00,   7.6295,2,    25.00,-999.000,9,-999.0000,9, -999.00,9,   3.0069,2, -999.00,9,  -999.0,9,  -999.0,-999.000,9, -999.00,9, -999.00,9, 1649.50,   2.8856
33RO20100308,      A13.5,      48,          1,          9,      11706,2,20100326,       0918,   -30.5015,     1.6967,       4148,  1901.2,   2.9759,  34.7882,2,  34.7884,2, 205.8000,2,   205.9,2,   48.94,2,   27.00,2,    0.00,2,    1.88,2,   0.049,2,   0.025,2,   0.0600,2,  2213.1,2,  2329.7,2,    936.2,2,    20.00,   7.6558,2,    25.00,-999.000,9,-999.0000,9, -999.00,9,   2.9761,2, -999.00,9,  -999.0,9,  -999.0,-999.000,5, -999.00,9, -999.00,9, 1901.20,   2.8331
33RO20100308,      A13.5,      48,          1,          8,      11033,2,20100326,       0918,   -30.5015,     1.6967,       4148,  2199.7,   2.7465,  34.8182,2,  34.8183,2, 215.9000,2,   215.6,6,   51.20,2,   25.96,2,    0.00,2,    1.80,2,-999.000,9,-999.000,9,-999.0000,9,  2210.3,2,  2332.8,2,    899.1,2,    20.00,   7.6725,2,    25.00,-999.000,9,-999.0000,9, -999.00,9,   2.7458,2, -999.00,9,  -999.0,9,  -999.0,-999.000,9, -999.00,9, -999.00,9, 2199.70,   2.5800
33RO20100308,      A13.5,      48,          1,          7,      11705,2,20100326,       0918,   -30.5015,     1.6967,       4148,  2500.9,   2.5402,  34.8377,2,  34.8377,2, 224.1000,2,   223.6,2,   53.40,2,   25.10,2,    0.00,2,    1.74,2,   0.016,2,   0.010,2,   0.0000,2,  2209.1,2,  2335.6,2,    868.5,2,    20.00,   7.6858,2,    25.00,-999.000,9,-999.0000,9, -999.00,9,   2.5396,2, -999.00,9,  -999.0,9,  -999.0,-999.000,5, -999.00,9, -999.00,9, 2500.90,   2.3490
33RO20100308,      A13.5,      48,          1,          6,      11029,2,20100326,       0918,   -30.5015,     1.6967,       4148,  2799.9,   2.3965,  34.8529,2,  34.8548,2, 229.5000,2,   230.0,2,   54.41,2,   24.49,2,    0.00,2,    1.70,2,-999.000,9,-999.000,9,-999.0000,9,  2208.0,2,  2339.3,2,    838.3,2,    20.00,   7.6987,2,    25.00,-999.000,9,-999.0000,9, -999.00,9,   2.3962,2, -999.00,9,  -999.0,9,  -999.0,-999.000,9, -999.00,9, -999.00,9, 2799.90,   2.1791
33RO20100308,      A13.5,      48,          1,          5,      11704,2,20100326,       0918,   -30.5015,     1.6967,       4148,  3101.2,   2.3181,  34.8640,2,  34.8642,2, 233.3000,2,   232.9,2,   54.74,6,   24.13,6,    0.00,6,    1.65,6,   0.004,2,   0.004,2,   0.0000,2,  2208.6,2,  2344.3,2,    819.2,2,    20.00,   7.7083,2,    25.00,-999.000,9,-999.0000,9, -999.00,9,   2.3174,2, -999.00,9,  -999.0,9,  -999.0,-999.000,5, -999.00,9, -999.00,9, 3101.20,   2.0722
33RO20100308,      A13.5,      48,          1,          4,      11030,2,20100326,       0918,   -30.5015,     1.6967,       4148,  3400.7,   2.2676,  34.8670,2,  34.8665,2, 232.8000,2,   232.1,2,   56.35,6,   24.09,6,    0.00,6,    1.65,6,-999.000,9,-999.000,9,-999.0000,9,  2211.3,2,  2349.1,2,    813.5,2,    20.00,   7.7113,2,    25.00,-999.000,9,-999.0000,9, -999.00,9,   2.2670,2, -999.00,9,  -999.0,9,  -999.0,-999.000,9, -999.00,9, -999.00,9, 3400.70,   1.9917
33RO20100308,      A13.5,      48,          1,          3,      11703,2,20100326,       0918,   -30.5015,     1.6967,       4148,  3700.4,   2.2431,  34.8656,2,  34.8654,2, 232.3000,2,   231.5,2,   58.10,6,   24.21,6,    0.00,6,    1.67,6,   0.009,2,   0.006,2,   0.0000,2,  2216.0,2,  2351.5,2,    814.3,2,    20.00,   7.7101,2,    25.00,-999.000,9,-999.0000,9, -999.00,9,   2.2429,2, -999.00,9,  -999.0,9,  -999.0,   0.039,3, -999.00,9, -999.00,9, 3700.40,   1.9356
33RO20100308,      A13.5,      48,          1,          2,      11702,2,20100326,       0918,   -30.5015,     1.6967,       4148,  4000.8,   1.8961,  34.8233,2,  34.8240,2, 226.7000,2,   226.2,2,   73.85,6,   26.24,6,    0.00,6,    1.82,6,-999.000,9,-999.000,9,-999.0000,9,  2228.4,2,  2357.2,2,    868.7,2,    20.00,   7.6874,2,    25.00,-999.000,9,-999.0000,9, -999.00,9,   1.8964,2, -999.00,9,  -999.0,9,  -999.0,-999.000,9, -999.00,9, -999.00,9, 4000.80,   1.5650
33RO20100308,      A13.5,      48,          1,          1,      11701,2,20100326,       0918,   -30.5015,     1.6967,       4148,  4198.5,   1.4485,  34.7737,2,  34.7732,2, 221.8000,2,   219.8,2,   92.79,6,   28.60,6,    0.00,6,    2.00,6,   0.044,2,   0.022,2,   0.0000,2,  2243.4,6,  2361.9,6,    932.6,2,    20.00,   7.6599,2,    25.00,-999.000,9,-999.0000,9, -999.00,9,   1.4471,2, -999.00,9,  -999.0,9,  -999.0,-999.000,5, -999.00,9, -999.00,9, 4198.50,   1.1086