BOTTLE,20130404CCHSIOCBG
EXPOCODE,SECT_ID,STNNBR,CASTNO,SAMPNO,BTLNBR,BTLNBR_FLAG_W,DATE,TIME,LATITUDE,LONGITUDE,DEPTH,CTDPRS,CTDTMP,CTDSAL,CTDSAL_FLAG_W,SALNTY,SALNTY_FLAG_W,CTDOXY,CTDOXY_FLAG_W,OXYGEN,OXYGEN_FLAG_W,SILCAT,SILCAT_FLAG_W,NITRAT,NITRAT_FLAG_W,NITRIT,NITRIT_FLAG_W,PHSPHT,PHSPHT_FLAG_W,CFC-11,CFC-11_FLAG_W,CFC-12,CFC-12_FLAG_W,SF6,SF6_FLAG_W,TCARBN,TCARBN_FLAG_W,ALKALI,ALKALI_FLAG_W,FCO2,FCO2_FLAG_W,FCO2TMP,PH_TOT,PH_TOT_FLAG_W,PH_TMP,TRITUM,TRITUM_FLAG_W,HELIUM,HELIUM_FLAG_W,DELHE3,DELHE3_FLAG_W,REFTMP,REFTMP_FLAG_W,DELC13,DELC13_FLAG_W,DELC14,DELC14_FLAG_W,C14ERR,CCL4,CCL4_FLAG_W,DOC,DOC_FLAG_W,TDN,TDN_FLAG_W,CTDRAW,THETA
,,,,,,,,,,,METERS,DBAR,ITS-90,PSS-78,,PSS-78,,UMOL/KG,,UMOL/KG,,UMOL/KG,,UMOL/KG,,UMOL/KG,,UMOL/KG,,PMOL/KG,,PMOL/KG,,FMOL/KG,,UMOL/KG,,UMOL/KG,,UATM,,DEG C,,,DEG C,TU,,NMOL/KG,,PERCNT,,DEG C,,/MILLE,,/MILLE,,/MILLE,PMOL/KG,,UMOL/KG,,UMOL/KG,,DBAR,DEG C
33RO20100308,      A13.5,      86,          1,         24,      11714,2,20100407,       0403,   -11.4998,     0.8465,       5597,     5.1,  27.4384,  36.5212,2,  36.5235,2, 196.4000,2,   199.3,2,    0.65,6,    0.04,6,    0.00,6,    0.13,6,   1.535,2,   0.999,2,   0.9950,2,  2061.1,6,  2398.9,2,    310.6,2,    20.00,   8.0773,2,    25.00,-999.000,9,-999.0000,9, -999.00,9,-999.0000,9, -999.00,9,  -999.0,9,  -999.0,-999.000,5, -999.00,9, -999.00,9,    5.10,  27.4372
33RO20100308,      A13.5,      86,          1,         23,      11716,2,20100407,       0403,   -11.4998,     0.8465,       5597,    50.1,  25.2433,  36.5940,2,  36.5825,2, 224.8000,2,   224.2,2,    0.72,2,    0.14,2,    0.00,2,    0.16,2,   1.842,2,   1.154,2,   1.0690,2,  2076.0,2,  2402.8,6,    324.4,2,    20.00,   8.0584,2,    25.00,-999.000,9,-999.0000,9, -999.00,9,-999.0000,9, -999.00,9,  -999.0,9,  -999.0,-999.000,5, -999.00,9, -999.00,9,   50.10,  25.2323
33RO20100308,      A13.5,      86,          1,         22,      11022,2,20100407,       0403,   -11.4998,     0.8465,       5597,    99.8,  15.3059,  35.6096,2,  35.6177,2,  84.8000,2,    85.4,2,    5.42,2,   21.43,2,    0.46,2,    1.42,2,   1.997,6,   1.158,6,   0.6880,6,  2197.9,2,  2332.7,3,    851.9,6,    20.00,   7.6894,2,    25.00,-999.000,9,-999.0000,9, -999.00,9,-999.0000,9, -999.00,9,  -999.0,9,  -999.0,-999.000,5, -999.00,9, -999.00,9,   99.80,  15.2905
33RO20100308,      A13.5,      86,          1,         21,      11010,2,20100407,       0403,   -11.4998,     0.8465,       5597,   150.7,  12.5798,  35.2486,2,  35.2440,2,  60.2000,2,    59.2,2,    9.18,2,   28.40,2,    0.01,2,    1.79,2,   1.673,2,   0.922,2,   0.4380,2,  2221.1,2,  2312.0,2,   1134.2,2,    20.00,   7.5759,2,    25.00,-999.000,9,-999.0000,9, -999.00,9,-999.0000,9, -999.00,9,  -999.0,9,  -999.0,-999.000,5, -999.00,9, -999.00,9,  150.70,  12.5595
33RO20100308,      A13.5,      86,          1,         20,      11715,2,20100407,       0403,   -11.4998,     0.8465,       5597,   198.9,  11.5955,  35.1163,2,  35.1149,2,  58.5000,2,    57.8,2,   11.03,2,   30.19,2,    0.01,2,    1.90,2,   1.411,2,   0.763,2,   0.3090,2,  2226.1,2,  2305.0,2,   1209.6,2,    20.00,   7.5487,2,    25.00,-999.000,9,-999.0000,9, -999.00,9,-999.0000,9, -999.00,9,  -999.0,9,  -999.0,-999.000,5, -999.00,9, -999.00,9,  198.90,  11.5701
33RO20100308,      A13.5,      86,          1,         19,      11007,2,20100407,       0403,   -11.4998,     0.8465,       5597,   249.0,  10.8361,  35.0238,2,  35.0244,2,  56.4000,2,    57.4,2,   12.23,2,   31.63,2,    0.00,2,    1.98,2,   1.199,2,   0.642,2,   0.1920,2,  2229.2,2,  2302.0,2,   1274.2,2,    20.00,   7.5285,2,    25.00,-999.000,9,-999.0000,9, -999.00,9,-999.0000,9, -999.00,9,  -999.0,9,  -999.0,-999.000,5, -999.00,9, -999.00,9,  249.00,  10.8056
33RO20100308,      A13.5,      86,          1,         18,      11710,2,20100407,       0403,   -11.4998,     0.8465,       5597,   325.2,   9.8498,  34.9147,2,  34.9167,2,  41.5000,2,    40.6,2,   14.72,2,   35.29,2,    0.00,2,    2.21,2,   0.703,2,   0.374,2,   0.0530,2,  2243.3,2,  2299.3,2,   1484.5,2,    20.00,   7.4687,2,    25.00,-999.000,9,-999.0000,9, -999.00,9,-999.0000,9, -999.00,9,  -999.0,9,  -999.0,-999.000,5, -999.00,9, -999.00,9,  325.20,   9.8122
33RO20100308,      A13.5,      86,          1,         17,      11025,2,20100407,       0403,   -11.4998,     0.8465,       5597,   401.2,   8.6812,  34.7980,2,  34.8025,2,  21.8000,2,    24.1,2,   18.06,2,   39.52,2,    0.00,2,    2.48,2,   0.288,2,   0.160,2,   0.0000,2,  2260.9,6,  2294.4,6,   1764.9,2,    20.00,   7.3993,2,    25.00,-999.000,9,-999.0000,9, -999.00,9,-999.0000,9, -999.00,9,  -999.0,9,  -999.0,-999.000,5, -999.00,9, -999.00,9,  401.20,   8.6381
33RO20100308,      A13.5,      86,          1,         16,      11709,2,20100407,       0403,   -11.4998,     0.8465,       5597,   501.8,   7.1494,  34.6497,2,  34.6530,2,  50.5000,2,    54.3,6,   21.31,2,   39.81,2,    0.00,2,    2.54,2,   0.152,2,   0.086,2,   0.0000,2,  2250.8,2,  2292.3,2,   1664.9,2,    20.00,   7.4227,2,    25.00,-999.000,9,-999.0000,9, -999.00,9,-999.0000,9, -999.00,9,  -999.0,9,  -999.0,-999.000,5, -999.00,9, -999.00,9,  501.80,   7.1011
33RO20100308,      A13.5,      86,          1,         15,      11006,2,20100407,       0403,   -11.4998,     0.8465,       5597,   699.7,   5.3378,  34.5206,2,  34.5201,2,  95.2000,2,    96.9,2,   28.43,2,   39.17,2,    0.00,2,    2.57,2,   0.043,2,   0.026,2,   0.0000,2,  2240.3,2,  2289.6,2,   1489.2,6,    20.00,   7.4650,2,    25.00,-999.000,9,-999.0000,9, -999.00,9,-999.0000,9, -999.00,9,  -999.0,9,  -999.0,-999.000,5, -999.00,9, -999.00,9,  699.70,   5.2792
33RO20100308,      A13.5,      86,          1,         14,      11708,2,20100407,       0403,   -11.4998,     0.8465,       5597,   898.6,   4.4145,  34.5266,2,  34.5263,2, 134.4000,2,   135.0,2,   33.32,2,   36.07,2,    0.00,2,    2.42,2,   0.020,2,   0.012,2,   0.0000,2,  2228.8,2,  2301.7,2,   1288.9,2,    20.00,   7.5256,2,    25.00,-999.000,9,-999.0000,9, -999.00,9,-999.0000,9, -999.00,9,  -999.0,9,  -999.0,-999.000,5, -999.00,9, -999.00,9,  898.60,   4.3443
33RO20100308,      A13.5,      86,          1,         13,      11031,2,20100407,       0403,   -11.4998,     0.8465,       5597,  1201.7,   3.9642,  34.7131,2,  34.7121,2, 168.7000,2,   169.5,2,   32.32,2,   30.88,2,    0.00,2,    2.08,2,   0.006,2,   0.004,2,   0.0000,2,  2214.1,2,  2311.9,2,   1082.8,2,    20.00,   7.5965,2,    25.00,-999.000,9,-999.0000,9, -999.00,9,-999.0000,9, -999.00,9,  -999.0,9,  -999.0,-999.000,5, -999.00,9, -999.00,9, 1201.70,   3.8714
33RO20100308,      A13.5,      86,          1,         12,      11027,2,20100407,       0403,   -11.4998,     0.8465,       5597,  1500.2,   3.8401,  34.8994,2,  34.9038,2, 210.5000,2,   212.8,2,   24.83,2,   24.34,2,    0.00,2,    1.62,2,   0.013,2,   0.009,2,   0.0000,2,  2187.0,2,  2316.7,2,    870.1,2,    20.00,   7.6838,2,    25.00,-999.000,9,-999.0000,9, -999.00,9,-999.0000,9, -999.00,9,  -999.0,9,  -999.0,-999.000,5, -999.00,9, -999.00,9, 1500.20,   3.7218
33RO20100308,      A13.5,      86,          1,         11,      11707,2,20100407,       0403,   -11.4998,     0.8465,       5597,  1800.8,   3.5619,  34.9219,2,  34.9220,2, 219.8000,2,   221.8,2,   26.67,2,   23.34,2,    0.00,2,    1.55,2,   0.005,2,   0.004,2,   0.0000,2,  2183.9,2,  2320.0,2,    839.5,2,    20.00,   7.6978,2,    25.00,-999.000,9,-999.0000,9, -999.00,9,-999.0000,9, -999.00,9,  -999.0,9,  -999.0,-999.000,5, -999.00,9, -999.00,9, 1800.80,   3.4197
33RO20100308,      A13.5,      86,          1,         10,      11003,2,20100407,       0403,   -11.4998,     0.8465,       5597,  2099.2,   3.2688,  34.9275,2,  34.9270,2, 230.1000,2,   231.5,2,   29.79,2,   22.51,2,    0.00,2,    1.49,2,   0.006,2,   0.005,2,   0.0000,2,  2181.8,2,  2324.2,2,    811.5,2,    20.00,   7.7124,2,    25.00,-999.000,9,-999.0000,9, -999.00,9,-999.0000,9, -999.00,9,  -999.0,9,  -999.0,-999.000,5, -999.00,9, -999.00,9, 2099.20,   3.1029
33RO20100308,      A13.5,      86,          1,          9,      11706,2,20100407,       0403,   -11.4998,     0.8465,       5597,  2398.8,   3.0287,  34.9221,2,  34.9227,2, 230.0000,2,   231.2,6,   34.29,2,   22.73,2,    0.00,2,    1.50,2,   0.004,2,   0.003,2,   0.0000,2,  2187.5,2,  2329.6,2,    815.8,2,    20.00,   7.7125,2,    25.00,-999.000,9,-999.0000,9, -999.00,9,-999.0000,9, -999.00,9,  -999.0,9,  -999.0,-999.000,5, -999.00,9, -999.00,9, 2398.80,   2.8382
33RO20100308,      A13.5,      86,          1,          8,      11033,2,20100407,       0403,   -11.4998,     0.8465,       5597,  2698.9,   2.8126,  34.9125,2,  34.9117,2, 230.3000,2,   232.5,2,   38.81,2,   22.86,2,    0.00,2,    1.51,2,   0.002,2,   0.002,2,   0.0000,2,  2191.4,2,  2334.0,2,    806.5,2,    20.00,   7.7138,2,    25.00,-999.000,9,-999.0000,9, -999.00,9,-999.0000,9, -999.00,9,  -999.0,9,  -999.0,-999.000,5, -999.00,9, -999.00,9, 2698.90,   2.5966
33RO20100308,      A13.5,      86,          1,          7,      11705,2,20100407,       0403,   -11.4998,     0.8465,       5597,  3099.8,   2.5734,  34.8985,2,  34.8983,2, 231.9000,2,   233.0,2,   44.71,2,   23.22,2,    0.00,2,    1.54,2,   0.001,2,   0.001,2,   0.0000,2,  2197.7,2,  2342.3,2,    807.0,2,    20.00,   7.7143,2,    25.00,-999.000,9,-999.0000,9, -999.00,9,-999.0000,9, -999.00,9,  -999.0,9,  -999.0,-999.000,5, -999.00,9, -999.00,9, 3099.80,   2.3217
33RO20100308,      A13.5,      86,          1,          6,      11029,2,20100407,       0403,   -11.4998,     0.8465,       5597,  3499.3,   2.4234,  34.8925,2,  34.8929,2, 228.8000,2,   230.5,2,   49.46,2,   23.57,2,    0.00,2,    1.56,2,   0.004,2,   0.003,2,   0.0000,2,  2208.0,2,  2351.1,2,    810.6,2,    20.00,   7.7159,2,    25.00,-999.000,9,-999.0000,9, -999.00,9,-999.0000,9, -999.00,9,  -999.0,9,  -999.0,-999.000,5, -999.00,9, -999.00,9, 3499.30,   2.1330
33RO20100308,      A13.5,      86,          1,          5,      11704,2,20100407,       0403,   -11.4998,     0.8465,       5597,  3898.6,   2.3587,  34.8881,2,  34.8867,2, 229.9000,2,   231.5,2,   51.51,6,   23.52,6,    0.00,6,    1.56,6,   0.003,6,   0.003,6,   0.0000,6,  2209.3,2,  2355.1,2,    805.8,2,    20.00,   7.7158,2,    25.00,-999.000,9,-999.0000,9, -999.00,9,-999.0000,9, -999.00,9,  -999.0,9,  -999.0,-999.000,5, -999.00,9, -999.00,9, 3898.60,   2.0259
33RO20100308,      A13.5,      86,          1,          4,      11030,2,20100407,       0403,   -11.4998,     0.8465,       5597,  4299.4,   2.3592,  34.8849,2,  34.8873,2, 230.7000,2,   231.5,2,   52.14,6,   23.49,6,    0.00,6,    1.56,6,   0.003,2,   0.004,2,   0.0000,2,  2211.7,2,  2357.9,2,    804.5,2,    20.00,   7.7158,2,    25.00,-999.000,9,-999.0000,9, -999.00,9,-999.0000,9, -999.00,9,  -999.0,9,  -999.0,-999.000,5, -999.00,9, -999.00,9, 4299.40,   1.9801
33RO20100308,      A13.5,      86,          1,          3,      11703,2,20100407,       0403,   -11.4998,     0.8465,       5597,  4699.6,   2.3770,  34.8822,2,  34.8813,2, 231.5000,2,   232.9,2,   52.47,6,   23.44,6,    0.00,6,    1.55,6,   0.004,2,   0.005,2,   0.0000,2,  2211.6,2,  2358.8,2,    802.4,2,    20.00,   7.7189,2,    25.00,-999.000,9,-999.0000,9, -999.00,9,-999.0000,9, -999.00,9,  -999.0,9,  -999.0,-999.000,5, -999.00,9, -999.00,9, 4699.60,   1.9492
33RO20100308,      A13.5,      86,          1,          2,      11702,2,20100407,       0403,   -11.4998,     0.8465,       5597,  5098.4,   2.4004,  34.8788,2,  34.8815,2, 234.9000,2,   233.5,2,   52.45,6,   23.43,6,    0.00,6,    1.56,6,   0.004,2,   0.004,2,   0.0000,2,  2212.4,2,  2357.3,2,    802.4,2,    20.00,   7.7191,2,    25.00,-999.000,9,-999.0000,9, -999.00,9,-999.0000,9, -999.00,9,  -999.0,9,  -999.0,-999.000,5, -999.00,9, -999.00,9, 5098.40,   1.9218
33RO20100308,      A13.5,      86,          1,          1,      11701,2,20100407,       0403,   -11.4998,     0.8465,       5597,  5680.6,   2.4571,  34.8755,2,  34.8750,2, 237.6000,2,   237.4,2,   52.46,6,   23.22,6,    0.00,6,    1.55,6,   0.017,2,   0.011,2,   0.0000,2,  2207.9,6,  2351.8,2,    798.1,2,    20.00,   7.7179,2,    25.00,-999.000,9,-999.0000,9, -999.00,9,-999.0000,9, -999.00,9,  -999.0,9,  -999.0,-999.000,5, -999.00,9, -999.00,9, 5680.60,   1.9001