BOTTLE,20130404CCHSIOCBG
EXPOCODE,SECT_ID,STNNBR,CASTNO,SAMPNO,BTLNBR,BTLNBR_FLAG_W,DATE,TIME,LATITUDE,LONGITUDE,DEPTH,CTDPRS,CTDTMP,CTDSAL,CTDSAL_FLAG_W,SALNTY,SALNTY_FLAG_W,CTDOXY,CTDOXY_FLAG_W,OXYGEN,OXYGEN_FLAG_W,SILCAT,SILCAT_FLAG_W,NITRAT,NITRAT_FLAG_W,NITRIT,NITRIT_FLAG_W,PHSPHT,PHSPHT_FLAG_W,CFC-11,CFC-11_FLAG_W,CFC-12,CFC-12_FLAG_W,SF6,SF6_FLAG_W,TCARBN,TCARBN_FLAG_W,ALKALI,ALKALI_FLAG_W,FCO2,FCO2_FLAG_W,FCO2TMP,PH_TOT,PH_TOT_FLAG_W,PH_TMP,TRITUM,TRITUM_FLAG_W,HELIUM,HELIUM_FLAG_W,DELHE3,DELHE3_FLAG_W,REFTMP,REFTMP_FLAG_W,DELC13,DELC13_FLAG_W,DELC14,DELC14_FLAG_W,C14ERR,CCL4,CCL4_FLAG_W,DOC,DOC_FLAG_W,TDN,TDN_FLAG_W,CTDRAW,THETA
,,,,,,,,,,,METERS,DBAR,ITS-90,PSS-78,,PSS-78,,UMOL/KG,,UMOL/KG,,UMOL/KG,,UMOL/KG,,UMOL/KG,,UMOL/KG,,PMOL/KG,,PMOL/KG,,FMOL/KG,,UMOL/KG,,UMOL/KG,,UATM,,DEG C,,,DEG C,TU,,NMOL/KG,,PERCNT,,DEG C,,/MILLE,,/MILLE,,/MILLE,PMOL/KG,,UMOL/KG,,UMOL/KG,,DBAR,DEG C
33RO20100308,      A13.5,       7,          1,         24,      11714,2,20100316,       0055,      -51.0,      0.416,       2042,     5.3,   4.4140,  33.7834,2,  33.7837,2, 315.0000,2,   315.3,2,    6.74,2,   20.53,2,    0.22,2,    1.47,2,   5.055,2,   2.730,2,   2.1930,2,  2128.0,6,  2283.6,6,    690.1,2,    20.00,   7.7708,2,    25.00,-999.000,1,-999.0000,1, -999.00,9,   4.4133,2, -999.00,9,  -999.0,9,  -999.0,   6.896,3,   46.54,2,   25.43,2,    5.30,   4.4136
33RO20100308,      A13.5,       7,          1,         23,      11713,2,20100316,       0055,      -51.0,      0.416,       2042,    25.0,   4.4154,  33.7839,2,  33.7859,2, 314.9000,2,   315.1,2,    6.80,2,   20.54,2,    0.22,2,    1.49,2,   5.052,2,   2.734,2,   2.2730,2,  2127.7,2,  2282.0,2,    686.0,2,    20.00,   7.7709,2,    25.00,-999.000,1,-999.0000,1, -999.00,9,   4.4146,2,    1.77,2,   -73.5,2,     2.9,   6.830,3,   47.01,2,   25.62,2,   25.00,   4.4136
33RO20100308,      A13.5,       7,          1,         22,      11712,2,20100316,       0055,      -51.0,      0.416,       2042,    50.3,   4.4170,  33.7841,2,  33.7831,2, 315.3000,2,   315.5,2,    6.88,2,   20.68,2,    0.22,2,    1.51,2,-999.000,9,-999.000,9,-999.0000,9,  2128.3,2,  2282.7,2,    683.4,6,    20.00,   7.7698,2,    25.00,-999.000,9,-999.0000,9, -999.00,9,   4.4169,2, -999.00,9,  -999.0,9,  -999.0,-999.000,9,   45.68,2,   26.01,2,   50.30,   4.4135
33RO20100308,      A13.5,       7,          1,         21,      11010,2,20100316,       0055,      -51.0,      0.416,       2042,    98.9,   3.6701,  33.8573,2,  33.8650,2, 299.8000,4,   339.5,4,   13.87,2,   22.84,2,    0.23,2,    1.70,2,   5.211,2,   2.795,2,   2.2210,2,  2145.3,2,  2284.5,2,    757.5,2,    20.00,   7.7283,2,    25.00,-999.000,1,-999.0000,1, -999.00,9,   3.6324,3,    1.53,2,   -66.1,2,     2.7,   6.690,3,   43.81,2,   27.18,2,   98.90,   3.6637
33RO20100308,      A13.5,       7,          1,         20,      11715,2,20100316,       0055,      -51.0,      0.416,       2042,   149.4,   1.6070,  34.0526,2,  34.0556,2, 282.7000,2,   282.5,2,   34.93,2,   30.21,2,    0.04,2,    2.09,2,-999.000,9,-999.000,9,-999.0000,9,  2185.6,2,  2287.3,2,    982.0,2,    20.00,   7.6281,2,    25.00,-999.000,9,-999.0000,9, -999.00,9,   1.6065,2,    1.05,2,   -72.5,2,     2.7,-999.000,9,   40.49,2,   33.91,2,  149.40,   1.5997
33RO20100308,      A13.5,       7,          1,         19,      11007,2,20100316,       0055,      -51.0,      0.416,       2042,   199.5,   1.7114,  34.1811,2,-999.0000,9, 245.5000,2,   246.1,2,   45.01,2,   32.78,2,    0.03,2,    2.27,2,   3.848,2,   1.976,2,   1.3470,2,  2206.8,2,  2302.2,2,   1079.7,2,    20.00,   7.5898,2,    25.00,-999.000,1,-999.0000,1, -999.00,9,   1.7121,2,    0.82,2,   -95.4,2,     2.5,   4.787,3,   40.82,2,   35.40,2,  199.50,   1.7013
33RO20100308,      A13.5,       7,          1,         18,      11710,2,20100316,       0055,      -51.0,      0.416,       2042,   300.7,   2.0535,  34.3398,2,  34.3411,2, 203.6000,2,   206.2,2,   58.63,2,   34.53,2,    0.01,2,    2.39,2,   2.381,2,   1.183,2,   0.6730,2,  2230.6,2,  2312.5,2,   1211.0,2,    20.00,   7.5510,2,    25.00,-999.000,1,-999.0000,1, -999.00,9,   2.0523,2, -999.00,9,  -999.0,9,  -999.0,   3.024,3,   40.58,2,   37.42,2,  300.70,   2.0371
33RO20100308,      A13.5,       7,          1,         17,      11023,3,20100316,       0055,      -51.0,      0.416,       2042,   399.2,   2.1701,  34.4557,2,  34.4571,2, 182.3000,2,  -999.0,9, -999.00,9, -999.00,9, -999.00,9, -999.00,9,-999.000,9,-999.000,9,-999.0000,9,  -999.0,9,  -999.0,9,   -999.0,9,  -999.00,-999.0000,9,  -999.00,-999.000,9,-999.0000,9, -999.00,9,   2.1710,2, -999.00,9,  -999.0,9,  -999.0,-999.000,9, -999.00,9, -999.00,9,  399.20,   2.1476
33RO20100308,      A13.5,       7,          1,         16,      11709,2,20100316,       0055,      -51.0,      0.416,       2042,   500.0,   2.1492,  34.5080,2,  34.5092,2, 177.2000,2,   176.1,2,   74.07,2,   34.96,2,    0.02,2,    2.43,2,-999.000,9,-999.000,9,-999.0000,9,  2251.4,2,  2331.6,2,   1260.7,2,    20.00,   7.5388,2,    25.00,-999.000,9,-999.0000,9, -999.00,9,   2.1485,2,    0.41,2,  -128.6,2,     2.4,-999.000,9,   40.46,2,   37.38,2,  500.00,   2.1206
33RO20100308,      A13.5,       7,          1,         15,      11006,2,20100316,       0055,      -51.0,      0.416,       2042,   600.6,   2.2111,  34.5786,2,  34.5784,2, 173.3000,2,   172.9,2,   77.98,2,   34.35,2,    0.01,2,    2.38,2,   0.728,2,   0.353,2,   0.1820,2,  2254.8,2,  2333.5,2,   1228.1,2,    20.00,   7.5487,2,    25.00,-999.000,1,-999.0000,1, -999.00,9,   2.2106,2,    0.44,2,  -142.3,2,     2.6,   1.076,3,   40.25,2,   37.08,2,  600.60,   2.1759
33RO20100308,      A13.5,       7,          1,         14,      11708,2,20100316,       0055,      -51.0,      0.416,       2042,   699.6,   2.1971,  34.6266,2,  34.6265,2, 174.1000,2,   173.3,2,   80.42,6,   33.68,6,    0.01,6,    2.34,2,-999.000,9,-999.000,9,-999.0000,9,  2255.6,2,  2336.0,2,   1197.7,2,    20.00,   7.5602,2,    25.00,-999.000,9,-999.0000,9, -999.00,9,   2.1967,2,    0.42,2,  -149.6,2,     2.4,-999.000,9,   39.39,2,   35.70,2,  699.60,   2.1556
33RO20100308,      A13.5,       7,          1,         13,      11031,2,20100316,       0055,      -51.0,      0.416,       2042,   800.5,   2.1724,  34.6636,2,  34.6640,2, 176.8000,2,   187.4,4,   81.86,6,   32.92,6,    0.00,6,    2.28,6,   0.408,2,   0.198,2,   0.1970,3,  2251.5,2,  2341.4,2,   1163.8,2,    20.00,   7.5711,2,    25.00,-999.000,1,-999.0000,1, -999.00,9,   2.1718,2,    0.41,2,  -151.8,2,     2.4,   0.647,3,   39.19,2,   34.62,2,  800.50,   2.1243
33RO20100308,      A13.5,       7,          1,         12,      11027,2,20100316,       0055,      -51.0,      0.416,       2042,   899.8,   2.0938,  34.6937,2,  34.6935,2, 180.3000,2,   180.8,2,   83.98,2,   32.18,2,    0.00,2,    2.24,2,-999.000,9,-999.000,9,-999.0000,9,  2251.6,2,  2345.0,2,   1130.9,2,    20.00,   7.5823,2,    25.00,-999.000,9,-999.0000,9, -999.00,9,   2.0932,2,    0.53,2,  -148.4,2,     2.5,-999.000,9,   39.13,2,   34.15,2,  899.80,   2.0395
33RO20100308,      A13.5,       7,          1,         11,      11707,2,20100316,       0055,      -51.0,      0.416,       2042,  1001.6,   1.9838,  34.7056,2,  34.7052,2, 183.9000,2,   183.5,2,   86.58,2,   31.90,2,    0.01,2,    2.22,2,   0.335,2,   0.165,2,   0.1180,3,  2252.0,2,  2344.6,2,   1114.5,2,    20.00,   7.5890,2,    25.00,-999.000,1,-999.0000,1, -999.00,9,   1.9831,2,    0.52,2,  -161.0,2,     2.9,   0.539,3,   38.53,2,   33.70,2, 1001.60,   1.9234
33RO20100308,      A13.5,       7,          1,         10,      11003,2,20100316,       0055,      -51.0,      0.416,       2042,  1100.3,   1.9749,  34.7241,2,  34.7238,2, 188.8000,2,   188.8,2,   86.08,2,   31.19,2,    0.00,2,    2.17,2,-999.000,9,-999.000,9,-999.0000,9,  2250.1,2,  2342.0,2,   1087.9,2,    20.00,   7.5991,2,    25.00,-999.000,9,-999.0000,9, -999.00,9,   1.9747,2,    0.51,2,  -161.1,2,     2.7,-999.000,9,   39.09,2,   33.21,2, 1100.30,   1.9077
33RO20100308,      A13.5,       7,          1,          9,      11706,2,20100316,       0055,      -51.0,      0.416,       2042,  1198.8,   1.9173,  34.7404,2,  34.7413,2, 192.5000,2,   193.2,2,   86.48,2,   30.72,2,    0.01,2,    2.15,2,   0.235,2,   0.114,2,   0.0420,2,  2246.1,2,  2348.8,2,   1066.4,2,    20.00,-999.0000,5,  -999.00,-999.000,1,-999.0000,1, -999.00,9,   1.9166,2,    0.45,2,  -155.2,2,     2.4,   0.405,3,   39.20,2,   32.93,2, 1198.80,   1.8437
33RO20100308,      A13.5,       7,          1,          8,      11033,2,20100316,       0055,      -51.0,      0.416,       2042,  1300.3,   1.7993,  34.7396,2,  34.7399,2, 195.2000,2,   195.9,2,   89.57,2,   30.78,2,    0.01,2,    2.14,2,-999.000,9,-999.000,9,-999.0000,9,  2247.1,2,  2350.4,2,   1058.7,2,    20.00,   7.6090,2,    25.00,-999.000,9,-999.0000,9, -999.00,9,   1.7985,2,    0.55,2,  -159.1,2,     2.3,-999.000,9,   39.19,2,   32.15,2, 1300.30,   1.7196
33RO20100308,      A13.5,       7,          1,          7,      11705,2,20100316,       0055,      -51.0,      0.416,       2042,  1401.2,   1.7193,  34.7452,2,  34.7478,2, 197.3000,2,   198.0,2,   91.00,2,   30.59,2,    0.00,2,    2.13,2,   0.216,2,   0.107,2,   0.0630,2,  2246.6,2,  2352.3,2,   1041.7,2,    20.00,   7.6149,2,    25.00,-999.000,1,-999.0000,1, -999.00,9,   1.7191,2, -999.00,9,  -999.0,9,  -999.0,   0.365,3,   39.77,2,   32.46,2, 1401.20,   1.6331
33RO20100308,      A13.5,       7,          1,          6,      11029,2,20100316,       0055,      -51.0,      0.416,       2042,  1499.7,   1.6399,  34.7451,2,  34.7452,2, 200.1000,2,   200.1,2,   92.87,2,   30.50,2,    0.00,2,    2.13,2,-999.000,9,-999.000,9,-999.0000,9,  2245.4,2,  2353.0,2,   1040.6,2,    20.00,   7.6163,2,    25.00,-999.000,9,-999.0000,9, -999.00,9,   1.6396,2,    0.57,2,  -159.6,2,     2.5,-999.000,9,   40.10,2,   31.78,2, 1499.70,   1.5474
33RO20100308,      A13.5,       7,          1,          5,      11704,2,20100316,       0055,      -51.0,      0.416,       2042,  1600.6,   1.5034,  34.7407,2,-999.0000,9, 201.5000,2,   201.5,2,   96.76,2,   30.66,2,    0.02,2,    2.08,3,-999.000,9,-999.000,9,-999.0000,9,  2247.8,2,  2351.4,2,   1043.7,2,    20.00,   7.6155,2,    25.00,-999.000,9,-999.0000,9, -999.00,9,   1.5043,2, -999.00,9,  -999.0,9,  -999.0,-999.000,9,   39.94,2,   32.03,2, 1600.60,   1.4051
33RO20100308,      A13.5,       7,          1,          4,      11030,2,20100316,       0055,      -51.0,      0.416,       2042,  1699.5,   1.3269,  34.7302,2,  34.7302,2, 202.0000,2,   201.3,2,  101.59,6,   31.05,6,    0.00,6,    2.15,6,   0.248,2,   0.121,2,   0.0000,2,  2251.1,2,  2356.7,2,   1055.1,2,    20.00,   7.6109,2,    25.00,-999.000,1,-999.0000,1, -999.00,9,   1.3270,2, -999.00,9,  -999.0,9,  -999.0,   0.406,3,   39.75,2,   32.32,2, 1699.50,   1.2235
33RO20100308,      A13.5,       7,          1,          3,      11703,2,20100316,       0055,      -51.0,      0.416,       2042,  1801.8,   1.2437,  34.7276,2,  34.7291,2, 203.7000,2,   203.2,6,  103.99,6,   31.14,6,    0.01,6,    2.16,6,-999.000,9,-999.000,9,-999.0000,9,  2251.4,2,  2356.2,2,   1057.8,6,    20.00,   7.6101,2,    25.00,-999.000,9,-999.0000,9, -999.00,9,   1.2437,2, -999.00,9,  -999.0,9,  -999.0,-999.000,9,   40.20,2,   32.26,2, 1801.80,   1.1338
33RO20100308,      A13.5,       7,          1,          2,      11702,2,20100316,       0055,      -51.0,      0.416,       2042,  1902.0,   1.1471,  34.7230,2,  34.7215,2, 204.8000,2,   204.3,2,  106.67,2,   31.35,6,    0.01,6,    2.17,6,-999.000,9,-999.000,9,-999.0000,9,  2251.8,2,  2354.2,2,   1063.8,2,    20.00,   7.6096,2,    25.00,-999.000,9,-999.0000,9, -999.00,9,   1.1463,2, -999.00,9,  -999.0,9,  -999.0,-999.000,9,   40.10,2,   32.49,2, 1902.00,   1.0309
33RO20100308,      A13.5,       7,          1,          1,      11701,2,20100316,       0055,      -51.0,      0.416,       2042,  2046.5,   1.0453,  34.7176,2,  34.7174,2, 207.0000,2,   207.3,2,  110.71,6,   31.57,6,    0.01,6,    2.18,6,   0.289,2,   0.139,2,   0.0430,2,  2254.2,6,  2357.0,2,   1060.5,2,    20.00,   7.6072,2,    25.00,-999.000,1,-999.0000,1, -999.00,9,   1.0445,2, -999.00,9,  -999.0,9,  -999.0,   0.458,3,   39.73,2,   32.52,2, 2046.50,   0.9196