BOTTLE,20130404CCHSIOCBG
EXPOCODE,SECT_ID,STNNBR,CASTNO,SAMPNO,BTLNBR,BTLNBR_FLAG_W,DATE,TIME,LATITUDE,LONGITUDE,DEPTH,CTDPRS,CTDTMP,CTDSAL,CTDSAL_FLAG_W,SALNTY,SALNTY_FLAG_W,CTDOXY,CTDOXY_FLAG_W,OXYGEN,OXYGEN_FLAG_W,SILCAT,SILCAT_FLAG_W,NITRAT,NITRAT_FLAG_W,NITRIT,NITRIT_FLAG_W,PHSPHT,PHSPHT_FLAG_W,CFC-11,CFC-11_FLAG_W,CFC-12,CFC-12_FLAG_W,SF6,SF6_FLAG_W,TCARBN,TCARBN_FLAG_W,ALKALI,ALKALI_FLAG_W,FCO2,FCO2_FLAG_W,FCO2TMP,PH_TOT,PH_TOT_FLAG_W,PH_TMP,TRITUM,TRITUM_FLAG_W,HELIUM,HELIUM_FLAG_W,DELHE3,DELHE3_FLAG_W,REFTMP,REFTMP_FLAG_W,DELC13,DELC13_FLAG_W,DELC14,DELC14_FLAG_W,C14ERR,CCL4,CCL4_FLAG_W,DOC,DOC_FLAG_W,TDN,TDN_FLAG_W,CTDRAW,THETA
,,,,,,,,,,,METERS,DBAR,ITS-90,PSS-78,,PSS-78,,UMOL/KG,,UMOL/KG,,UMOL/KG,,UMOL/KG,,UMOL/KG,,UMOL/KG,,PMOL/KG,,PMOL/KG,,FMOL/KG,,UMOL/KG,,UMOL/KG,,UATM,,DEG C,,,DEG C,TU,,NMOL/KG,,PERCNT,,DEG C,,/MILLE,,/MILLE,,/MILLE,PMOL/KG,,UMOL/KG,,UMOL/KG,,DBAR,DEG C
33RO20100308,      A13.5,      21,          1,         24,      11714,2,20100319,       1239,   -44.0002,       1.35,       4251,     5.1,  11.8724,  34.5148,2,  34.5151,2, 274.2000,2,   274.8,2,    0.56,2,    6.51,2,    0.17,2,    0.64,2,   3.240,2,   1.907,2,   1.7450,2,  2076.1,6,  2292.3,6,    486.2,2,    20.00,   7.9034,2,    25.00,-999.000,1,-999.0000,1, -999.00,9,  11.8718,2, -999.00,9,  -999.0,9,  -999.0,   3.839,3,   51.30,2,   10.70,2,    5.10,  11.8717
33RO20100308,      A13.5,      21,          1,         23,      11713,2,20100319,       1239,   -44.0002,       1.35,       4251,    50.5,  11.3492,  34.4724,2,  34.4710,2, 271.1000,2,   272.6,2,    0.85,2,    7.81,2,    0.18,2,    0.73,2,   3.294,2,   1.941,2,   1.7180,2,  2083.5,2,  2288.8,2,    502.6,2,    20.00,   7.8880,2,    25.00,-999.000,1,-999.0000,1, -999.00,9,  11.3492,2, -999.00,9,  -999.0,9,  -999.0,   3.900,3,   47.76,2,   11.67,2,   50.50,  11.3429
33RO20100308,      A13.5,      21,          1,         22,      11712,2,20100319,       1239,   -44.0002,       1.35,       4251,   101.0,  10.7967,  34.4585,2,  34.4631,2, 265.1000,2,   264.9,2,    1.27,2,    9.48,2,    0.39,2,    0.84,2,   3.371,2,   1.975,2,   1.7140,2,  2095.1,2,  2287.4,2,    551.0,2,    20.00,   7.8589,2,    25.00,-999.000,1,-999.0000,1, -999.00,9,  10.8082,2, -999.00,9,  -999.0,9,  -999.0,   3.695,3,   47.54,2,   13.30,2,  101.00,  10.7845
33RO20100308,      A13.5,      21,          1,         21,      11010,2,20100319,       1239,   -44.0002,       1.35,       4251,   199.7,   9.1467,  34.6103,2,  34.6083,2, 251.3000,2,   255.7,2,    3.95,2,   14.55,2,    0.02,2,    1.08,2,   3.589,2,   2.095,2,   1.8460,2,  2123.8,2,  2288.7,2,    638.3,2,    20.00,   7.7967,2,    25.00,-999.000,1,-999.0000,1, -999.00,9,   9.1488,2, -999.00,9,  -999.0,9,  -999.0,   3.072,3,   44.65,2,   16.17,2,  199.70,   9.1249
33RO20100308,      A13.5,      21,          1,         20,      11715,2,20100319,       1239,   -44.0002,       1.35,       4251,   300.3,   8.1388,  34.5143,2,  34.5132,2, 247.3000,2,   247.4,2,    5.66,2,   18.05,2,    0.01,2,    1.28,2,   3.674,2,   2.089,2,   1.5700,2,  2136.3,2,  2286.3,2,    721.8,2,    20.00,   7.7570,2,    25.00,-999.000,1,-999.0000,1, -999.00,9,   8.1396,2, -999.00,9,  -999.0,9,  -999.0,   3.016,3,   44.40,2,   19.77,2,  300.30,   8.1081
33RO20100308,      A13.5,      21,          1,         19,      11007,2,20100319,       1239,   -44.0002,       1.35,       4251,   400.1,   6.9361,  34.3971,2,  34.3970,2, 237.7000,2,   237.4,6,    8.19,2,   22.31,2,    0.01,2,    1.54,2,   3.770,2,   2.095,2,   1.4560,2,  2150.8,2,  2281.3,2,   -999.0,9,  -999.00,   7.7089,2,    25.00,-999.000,1,-999.0000,1, -999.00,9,   6.9359,2, -999.00,9,  -999.0,9,  -999.0,   3.162,3,   40.90,2,   23.67,2,  400.10,   6.8986
33RO20100308,      A13.5,      21,          1,         18,      11710,2,20100319,       1239,   -44.0002,       1.35,       4251,   600.3,   4.7589,  34.2326,2,  34.2323,2, 238.9000,2,   240.1,2,   16.36,2,   27.56,2,    0.00,2,    1.90,2,   3.688,2,   1.961,2,   1.0700,2,  2166.9,2,  2282.8,2,    913.7,6,    20.00,   7.6602,2,    25.00,-999.000,1,-999.0000,1, -999.00,9,   4.7581,2, -999.00,9,  -999.0,9,  -999.0,   3.708,3,   39.60,2,   29.20,2,  600.30,   4.7120
33RO20100308,      A13.5,      21,          1,         17,      11025,2,20100319,       1239,   -44.0002,       1.35,       4251,   799.9,   3.8026,  34.2374,2,  34.2366,2, 224.4000,2,   232.4,3,   26.67,2,   29.95,2,    0.00,2,    2.06,2,   3.061,2,   1.578,2,   0.7810,2,  2183.3,2,  2290.9,2,   -999.0,9,  -999.00,   7.6345,2,    25.00,-999.000,1,-999.0000,1, -999.00,9,   3.8035,2, -999.00,9,  -999.0,9,  -999.0,   3.341,3,   39.28,2,   32.24,2,  799.90,   3.7449
33RO20100308,      A13.5,      21,          1,         16,      11709,2,20100319,       1239,   -44.0002,       1.35,       4251,  1001.1,   3.4054,  34.3254,2,  34.3270,2, 208.8000,2,   207.8,2,   40.41,2,   32.09,2,    0.00,2,    2.22,2,   2.089,2,   1.031,2,   0.4510,2,  2206.8,2,  2303.8,2,   1049.7,2,    20.00,   7.6022,2,    25.00,-999.000,1,-999.0000,1, -999.00,9,   3.4048,2, -999.00,9,  -999.0,9,  -999.0,   2.447,3,   38.18,2,   33.97,2, 1001.10,   3.3346
33RO20100308,      A13.5,      21,          1,         15,      11006,2,20100319,       1239,   -44.0002,       1.35,       4251,  1198.2,   3.0306,  34.4084,2,  34.4094,2, 192.9000,2,   190.6,2,   52.39,2,   33.32,2,    0.00,2,    2.31,2,   1.294,2,   0.627,2,   0.2320,2,  2226.1,2,  2315.2,2,   -999.0,9,  -999.00,   7.5799,2,    25.00,-999.000,1,-999.0000,1, -999.00,9,   3.0293,2, -999.00,9,  -999.0,9,  -999.0,   1.691,3,   38.10,2,   35.34,2, 1198.20,   2.9473
33RO20100308,      A13.5,      21,          1,         14,      11708,2,20100319,       1239,   -44.0002,       1.35,       4251,  1399.5,   2.8550,  34.5211,2,  34.5214,2, 180.6000,2,   179.4,2,   61.79,2,   33.37,2,    0.00,2,    2.31,2,   0.659,2,   0.321,2,   0.1130,2,  2235.8,6,  2326.9,2,   1139.8,2,    20.00,   7.5732,2,    25.00,-999.000,1,-999.0000,1, -999.00,9,   2.8543,2, -999.00,9,  -999.0,9,  -999.0,   0.988,3,   37.77,2,   35.39,2, 1399.50,   2.7571
33RO20100308,      A13.5,      21,          1,         13,      11031,2,20100319,       1239,   -44.0002,       1.35,       4251,  1600.5,   2.7355,  34.6071,2,  34.6074,2, 180.6000,2,   180.0,2,   65.06,2,   32.37,2,    0.00,2,    2.24,2,   0.382,2,   0.186,2,   0.0460,2,  2238.9,2,  2332.2,6,   -999.0,9,  -999.00,   7.5835,2,    25.00,-999.000,1,-999.0000,1, -999.00,9,   2.7348,2, -999.00,9,  -999.0,9,  -999.0,   0.632,3,   37.87,2,   34.15,2, 1600.50,   2.6223
33RO20100308,      A13.5,      21,          1,         12,      11027,2,20100319,       1239,   -44.0002,       1.35,       4251,  1999.4,   2.6442,  34.7373,2,  34.7373,2, 192.6000,2,   192.8,2,   65.61,2,   29.65,2,    0.00,2,    2.04,2,   0.147,2,   0.071,2,   0.0000,2,  2231.6,2,  2336.9,2,   1020.2,2,    20.00,   7.6194,2,    25.00,-999.000,1,-999.0000,1, -999.00,9,   2.6436,2, -999.00,9,  -999.0,9,  -999.0,   0.306,3,   38.42,2,   31.09,2, 1999.40,   2.4977
33RO20100308,      A13.5,      21,          1,         11,      11707,2,20100319,       1239,   -44.0002,       1.35,       4251,  2198.9,   2.5475,  34.7723,2,  34.7727,2, 200.0000,2,   201.2,2,   66.07,6,   28.60,6,    0.00,6,    1.96,6,   0.109,2,   0.052,2,   0.0000,2,  2226.6,2,  2340.0,2,    982.2,2,    20.00,   7.6354,2,    25.00,-999.000,1,-999.0000,1, -999.00,9,   2.5471,2, -999.00,9,  -999.0,9,  -999.0,   0.247,3,   38.36,2,   30.52,2, 2198.90,   2.3845
33RO20100308,      A13.5,      21,          1,         10,      11003,2,20100319,       1239,   -44.0002,       1.35,       4251,  2400.1,   2.4001,  34.7874,2,  34.7874,2, 204.9000,2,   205.0,2,   68.55,6,   28.10,6,    0.00,6,    1.93,6,   0.099,2,   0.047,2,   0.0610,2,  2226.6,2,  2342.7,2,   -999.0,9,  -999.00,   7.6432,2,    25.00,-999.000,1,-999.0000,1, -999.00,9,   2.3998,2, -999.00,9,  -999.0,9,  -999.0,   0.220,3,   38.11,2,   30.09,2, 2400.10,   2.2211
33RO20100308,      A13.5,      21,          1,          9,      11706,2,20100319,       1239,   -44.0002,       1.35,       4251,  2600.2,   2.2646,  34.7954,2,  34.7946,2, 209.6000,2,   209.2,2,   70.69,6,   27.76,6,    0.00,6,    1.91,6,   0.084,2,   0.042,2,   0.0000,2,  2226.8,2,  2343.4,2,    948.8,2,    20.00,   7.6504,2,    25.00,-999.000,9,-999.0000,1, -999.00,9,   2.2638,2, -999.00,9,  -999.0,9,  -999.0,   0.202,3,   38.38,2,   29.41,2, 2600.20,   2.0694
33RO20100308,      A13.5,      21,          1,          8,      11033,2,20100319,       1239,   -44.0002,       1.35,       4251,  2799.9,   2.1410,  34.7976,2,  34.7980,2, 210.6000,2,   212.2,2,   73.10,6,   27.64,6,    0.00,6,    1.90,6,   0.078,2,   0.038,2,   0.0000,2,  2226.2,2,  2345.3,2,   -999.0,9,  -999.00,   7.6539,2,    25.00,-999.000,1,-999.0000,1, -999.00,9,   2.1403,2, -999.00,9,  -999.0,9,  -999.0,   0.179,3,   38.39,2,   29.39,2, 2799.90,   1.9291
33RO20100308,      A13.5,      21,          1,          7,      11705,2,20100319,       1239,   -44.0002,       1.35,       4251,  3000.0,   1.9295,  34.7820,2,  34.7820,2, 210.1000,2,   209.9,6,   81.26,3,   28.48,3,    0.00,3,    1.96,3,   0.100,2,   0.047,2,   0.0000,2,  2233.3,2,  2348.3,2,    966.2,2,    20.00,   7.6446,2,    25.00,-999.000,9,-999.0000,1, -999.00,9,   1.9286,2, -999.00,9,  -999.0,9,  -999.0,   0.205,3,   38.30,2,   30.32,2, 3000.00,   1.7027
33RO20100308,      A13.5,      21,          1,          6,      11029,2,20100319,       1239,   -44.0002,       1.35,       4251,  3200.7,   1.7742,  34.7803,2,  34.7807,2, 212.5000,2,   213.5,2,   84.62,2,   28.52,2,    0.00,2,    1.97,2,   0.090,2,   0.046,2,   0.0000,2,  2234.6,2,  2351.6,2,   -999.0,9,  -999.00,   7.6481,2,    25.00,-999.000,1,-999.0000,1, -999.00,9,   1.7740,2, -999.00,9,  -999.0,9,  -999.0,   0.185,3,   38.31,2,   30.10,2, 3200.70,   1.5311
33RO20100308,      A13.5,      21,          1,          5,      11704,2,20100319,       1239,   -44.0002,       1.35,       4251,  3399.8,   1.6040,  34.7671,2,  34.7669,2, 212.5000,2,   212.3,2,   91.02,2,   29.12,2,    0.01,2,    2.01,2,   0.105,2,   0.049,2,   0.0000,2,  2240.3,2,  2354.1,2,    966.0,2,    20.00,   7.6424,2,    25.00,-999.000,9,-999.0000,1, -999.00,9,   1.6028,2, -999.00,9,  -999.0,9,  -999.0,   0.209,3,   38.25,2,   30.94,2, 3399.80,   1.3449
33RO20100308,      A13.5,      21,          1,          4,      11030,2,20100319,       1239,   -44.0002,       1.35,       4251,  3599.9,   1.4532,  34.7537,2,  34.7537,2, 212.4000,2,   211.5,2,   96.92,2,   29.81,2,    0.01,2,    2.06,2,   0.126,2,   0.060,2,   0.0000,2,  2243.7,2,  2354.8,2,   -999.0,9,  -999.00,   7.6354,2,    25.00,-999.000,1,-999.0000,1, -999.00,9,   1.4520,2, -999.00,9,  -999.0,9,  -999.0,   0.237,3,   38.05,2,   31.60,2, 3599.90,   1.1775
33RO20100308,      A13.5,      21,          1,          3,      11703,2,20100319,       1239,   -44.0002,       1.35,       4251,  3800.5,   1.3323,  34.7487,2,  34.7489,2, 213.4000,2,   213.6,2,  100.31,2,   29.97,2,    0.01,2,    2.07,2,   0.119,2,   0.057,2,   0.0000,2,  2245.9,2,  2360.1,2,    991.5,2,    20.00,   7.6364,2,    25.00,-999.000,9,-999.0000,1, -999.00,9,   1.3316,2, -999.00,9,  -999.0,9,  -999.0,   0.231,3,   38.72,2,   31.66,2, 3800.50,   1.0389
33RO20100308,      A13.5,      21,          1,          2,      11702,2,20100319,       1239,   -44.0002,       1.35,       4251,  4000.4,   1.2274,  34.7412,2,  34.7413,2, 214.2000,2,   213.9,2,  104.03,2,   30.25,2,    0.01,2,    2.09,2,   0.122,2,   0.057,2,   0.0000,2,  2248.6,2,  2361.3,2,   -999.0,9,  -999.00,   7.6337,2,    25.00,-999.000,1,-999.0000,1, -999.00,9,   1.2269,2, -999.00,9,  -999.0,9,  -999.0,   0.244,3,   38.33,2,   32.25,2, 4000.40,   0.9157
33RO20100308,      A13.5,      21,          1,          1,      11701,2,20100319,       1239,   -44.0002,       1.35,       4251,  4311.0,   1.0327,  34.7241,2,  34.7256,2, 215.3000,2,   213.4,2,  112.10,2,   31.09,2,    0.01,2,    2.15,2,-999.000,5,-999.000,5,-999.0000,5,  2254.9,6,  2365.0,2,   1013.0,2,    20.00,   7.6274,2,    25.00,-999.000,1,-999.0000,1, -999.00,9,   1.0317,2, -999.00,9,  -999.0,9,  -999.0,-999.000,5,   38.96,2,   33.21,2, 4311.00,   0.6930