BOTTLE,20130404CCHSIOCBG
EXPOCODE,SECT_ID,STNNBR,CASTNO,SAMPNO,BTLNBR,BTLNBR_FLAG_W,DATE,TIME,LATITUDE,LONGITUDE,DEPTH,CTDPRS,CTDTMP,CTDSAL,CTDSAL_FLAG_W,SALNTY,SALNTY_FLAG_W,CTDOXY,CTDOXY_FLAG_W,OXYGEN,OXYGEN_FLAG_W,SILCAT,SILCAT_FLAG_W,NITRAT,NITRAT_FLAG_W,NITRIT,NITRIT_FLAG_W,PHSPHT,PHSPHT_FLAG_W,CFC-11,CFC-11_FLAG_W,CFC-12,CFC-12_FLAG_W,SF6,SF6_FLAG_W,TCARBN,TCARBN_FLAG_W,ALKALI,ALKALI_FLAG_W,FCO2,FCO2_FLAG_W,FCO2TMP,PH_TOT,PH_TOT_FLAG_W,PH_TMP,TRITUM,TRITUM_FLAG_W,HELIUM,HELIUM_FLAG_W,DELHE3,DELHE3_FLAG_W,REFTMP,REFTMP_FLAG_W,DELC13,DELC13_FLAG_W,DELC14,DELC14_FLAG_W,C14ERR,CCL4,CCL4_FLAG_W,DOC,DOC_FLAG_W,TDN,TDN_FLAG_W,CTDRAW,THETA
,,,,,,,,,,,METERS,DBAR,ITS-90,PSS-78,,PSS-78,,UMOL/KG,,UMOL/KG,,UMOL/KG,,UMOL/KG,,UMOL/KG,,UMOL/KG,,PMOL/KG,,PMOL/KG,,FMOL/KG,,UMOL/KG,,UMOL/KG,,UATM,,DEG C,,,DEG C,TU,,NMOL/KG,,PERCNT,,DEG C,,/MILLE,,/MILLE,,/MILLE,PMOL/KG,,UMOL/KG,,UMOL/KG,,DBAR,DEG C
33RO20100308,      A13.5,     126,          1,         24,      11714,2,20100417,       0156,     4.1715,    -2.9995,       2508,     5.1,  30.1383,  34.8121,2,  34.8122,2, 193.1000,2,   194.4,2,    0.80,6,    0.06,6,    0.00,6,    0.01,6,   1.442,2,   0.933,2,   1.0130,2,  1926.1,6,  2275.5,2,    246.1,2,    20.00,   8.1427,2,    25.00,-999.000,9,-999.0000,9, -999.00,9,  30.1422,2, -999.00,9,  -999.0,9,  -999.0,   1.364,3, -999.00,9, -999.00,9,    5.10,  30.1370
33RO20100308,      A13.5,     126,          1,         23,      11716,2,20100417,       0156,     4.1715,    -2.9995,       2508,    29.2,  28.5775,  35.3264,3,  35.3810,2, 207.1000,2,   205.3,2,    1.00,2,    0.22,2,    0.00,2,    0.06,2,   1.706,2,   1.053,2,   0.9340,2,  2002.8,2,  2321.0,6,    302.8,2,    20.00,   8.0719,2,    25.00,-999.000,9,-999.0000,9, -999.00,9,  28.5852,2, -999.00,9,  -999.0,9,  -999.0,   0.844,3, -999.00,9, -999.00,9,   29.20,  28.5705
33RO20100308,      A13.5,     126,          1,         22,      11022,2,20100417,       0156,     4.1715,    -2.9995,       2508,    70.4,  18.1069,  35.8399,2,  35.8392,2, 130.5000,2,   118.6,2,    4.27,2,   14.60,2,    0.37,2,    1.03,2,   2.136,2,   1.237,2,   0.8020,2,  2166.5,2,  2347.3,6,   -999.0,9,  -999.00,   7.8032,2,    25.00,-999.000,9,-999.0000,9, -999.00,9,  18.1120,2, -999.00,9,  -999.0,9,  -999.0,   0.333,3, -999.00,9, -999.00,9,   70.40,  18.0947
33RO20100308,      A13.5,     126,          1,         21,      11010,2,20100417,       0156,     4.1715,    -2.9995,       2508,   100.6,  16.9151,  35.7873,2,  35.7811,2, 106.4000,2,   108.9,2,    5.15,2,   17.47,2,    0.04,2,    1.17,2,   2.180,2,   1.245,2,   0.7910,2,  2178.6,2,  2344.0,2,   -999.0,9,  -999.00,   7.7677,2,    25.00,-999.000,9,-999.0000,9, -999.00,9,  16.9142,2, -999.00,9,  -999.0,9,  -999.0,   0.303,3, -999.00,9, -999.00,9,  100.60,  16.8985
33RO20100308,      A13.5,     126,          1,         20,      11715,2,20100417,       0156,     4.1715,    -2.9995,       2508,   150.5,  15.5475,  35.6239,2,  35.6085,2,  94.4000,2,    91.7,2,    6.97,2,   21.13,2,    0.01,2,    1.38,2,   2.062,6,   1.163,6,   0.6620,6,  2192.5,2,  2329.4,2,    809.3,2,    20.00,   7.7096,2,    25.00,-999.000,9,-999.0000,9, -999.00,9,  15.5463,2, -999.00,9,  -999.0,9,  -999.0,   0.186,3, -999.00,9, -999.00,9,  150.50,  15.5241
33RO20100308,      A13.5,     126,          1,         19,      11007,2,20100417,       0156,     4.1715,    -2.9995,       2508,   200.3,  14.4728,  35.4762,2,  35.4664,2,  73.6000,2,    73.6,6,    8.53,2,   24.54,2,    0.01,2,    1.58,2,   1.890,2,   1.049,2,   0.5700,2,  2207.6,2,  2323.0,2,    934.1,2,    20.00,   7.6514,2,    25.00,-999.000,9,-999.0000,9, -999.00,9,  14.4725,2, -999.00,9,  -999.0,9,  -999.0,   0.165,3, -999.00,9, -999.00,9,  200.30,  14.4431
33RO20100308,      A13.5,     126,          1,         18,      11710,2,20100417,       0156,     4.1715,    -2.9995,       2508,   249.8,  12.9232,  35.2791,2,  35.2744,2,  59.1000,2,    58.0,2,   10.69,2,   28.65,2,    0.00,2,    1.80,2,   1.537,2,   0.836,2,   0.3870,2,  2223.5,2,  2314.2,2,   -999.0,9,  -999.00,   7.5816,2,    25.00,-999.000,9,-999.0000,9, -999.00,9,  12.9244,2, -999.00,9,  -999.0,9,  -999.0,   0.140,3, -999.00,9, -999.00,9,  249.80,  12.8888
33RO20100308,      A13.5,     126,          1,         17,      11025,2,20100417,       0156,     4.1715,    -2.9995,       2508,   300.4,  11.2846,  35.1000,2,  35.0967,2,  50.5000,2,    51.6,2,   13.27,6,   31.90,6,    0.01,6,    1.99,6,   1.177,2,   0.636,2,   0.2320,2,  2233.7,2,  2307.7,2,   -999.0,9,  -999.00,   7.5299,2,    25.00,-999.000,9,-999.0000,9, -999.00,9,  11.2942,2, -999.00,9,  -999.0,9,  -999.0,   0.135,3, -999.00,9, -999.00,9,  300.40,  11.2467
33RO20100308,      A13.5,     126,          1,         16,      11709,2,20100417,       0156,     4.1715,    -2.9995,       2508,   350.0,  10.0372,  34.9597,2,  34.9531,2,  57.1000,2,    58.0,2,   15.05,6,   33.43,6,    0.00,6,    2.09,6,   0.978,2,   0.516,2,   0.2350,2,  2235.6,2,  2297.2,2,   1332.6,2,    20.00,   7.5105,2,    25.00,-999.000,9,-999.0000,9, -999.00,9,  10.0170,2, -999.00,9,  -999.0,9,  -999.0,   0.178,3, -999.00,9, -999.00,9,  350.00,   9.9962
33RO20100308,      A13.5,     126,          1,         15,      11006,2,20100417,       0156,     4.1715,    -2.9995,       2508,   399.5,   8.4360,  34.7883,2,  34.7857,2,  73.5000,2,    73.9,2,   18.27,2,   35.19,2,    0.00,2,    2.23,2,   0.681,2,   0.351,2,   0.1870,2,  2234.8,2,  2298.2,2,   1371.2,2,    20.00,   7.4992,2,    25.00,-999.000,9,-999.0000,9, -999.00,9,   8.4475,2, -999.00,9,  -999.0,9,  -999.0,   0.220,3, -999.00,9, -999.00,9,  399.50,   8.3939
33RO20100308,      A13.5,     126,          1,         14,      11708,2,20100417,       0156,     4.1715,    -2.9995,       2508,   449.8,   7.8232,  34.7287,2,  34.7282,2,  76.0000,3,    56.9,4,   19.88,2,   36.09,2,    0.01,2,    2.30,2,-999.000,9,-999.000,9,-999.0000,9,  2235.9,2,  2292.4,2,   -999.0,9,  -999.00,   7.4892,2,    25.00,-999.000,9,-999.0000,9, -999.00,9,   7.8316,2, -999.00,9,  -999.0,9,  -999.0,-999.000,9, -999.00,9, -999.00,9,  449.80,   7.7777
33RO20100308,      A13.5,     126,          1,         13,      11031,2,20100417,       0156,     4.1715,    -2.9995,       2508,   500.1,   7.3505,  34.6832,2,  34.6828,2,  84.3000,2,    83.9,2,   21.14,2,   36.37,2,    0.00,2,    2.34,2,   0.387,2,   0.200,2,   0.0000,2,  2234.7,2,  2298.6,2,   -999.0,9,  -999.00,   7.4933,2,    25.00,-999.000,9,-999.0000,9, -999.00,9,   7.3488,2, -999.00,9,  -999.0,9,  -999.0,   0.204,3, -999.00,9, -999.00,9,  500.10,   7.3015
33RO20100308,      A13.5,     126,          1,         12,      11027,2,20100417,       0156,     4.1715,    -2.9995,       2508,   599.4,   6.2565,  34.5985,2,  34.5971,2, 101.9000,2,   101.8,2,   24.63,2,   36.54,2,    0.00,2,    2.40,2,-999.000,9,-999.000,9,-999.0000,9,  2231.4,2,  2294.7,2,   1357.7,2,    20.00,   7.5016,2,    25.00,-999.000,9,-999.0000,9, -999.00,9,   6.2639,2, -999.00,9,  -999.0,9,  -999.0,-999.000,9, -999.00,9, -999.00,9,  599.40,   6.2024
33RO20100308,      A13.5,     126,          1,         11,      11707,2,20100417,       0156,     4.1715,    -2.9995,       2508,   700.0,   5.4610,  34.5572,2,  34.5568,2, 123.1000,2,   122.7,2,   27.64,2,   35.83,2,    0.00,2,    2.39,2,   0.154,2,   0.079,2,   0.0000,2,  2227.1,2,  2296.8,2,   1280.4,2,    20.00,   7.5265,2,    25.00,-999.000,9,-999.0000,9, -999.00,9,   5.4599,2, -999.00,9,  -999.0,9,  -999.0,   0.197,3, -999.00,9, -999.00,9,  700.00,   5.4017
33RO20100308,      A13.5,     126,          1,         10,      11003,2,20100417,       0156,     4.1715,    -2.9995,       2508,   900.4,   4.7739,  34.5922,2,  34.5930,2, 138.5000,2,   139.5,2,   30.76,6,   34.48,6,    0.00,6,    2.33,2,-999.000,9,-999.000,9,-999.0000,9,  2225.6,2,  2302.6,2,   -999.0,9,  -999.00,   7.5492,2,    25.00,-999.000,9,-999.0000,9, -999.00,9,   4.7739,2, -999.00,9,  -999.0,9,  -999.0,-999.000,9, -999.00,9, -999.00,9,  900.40,   4.7010
33RO20100308,      A13.5,     126,          1,          9,      11706,2,20100417,       0156,     4.1715,    -2.9995,       2508,  1100.1,   4.5396,  34.7188,2,  34.7200,2, 158.3000,2,   159.8,2,   29.05,6,   31.28,6,    0.00,6,    2.11,6,   0.020,2,   0.012,2,   0.0000,2,  2215.2,2,  2305.7,2,   -999.0,9,  -999.00,   7.5908,2,    25.00,-999.000,9,-999.0000,9, -999.00,9,   4.5390,2, -999.00,9,  -999.0,9,  -999.0,   0.055,3, -999.00,9, -999.00,9, 1100.10,   4.4506
33RO20100308,      A13.5,     126,          1,          8,      11033,2,20100417,       0156,     4.1715,    -2.9995,       2508,  1300.0,   4.5112,  34.8556,2,  34.8543,2, 186.9000,2,   186.6,6,   24.04,6,   26.99,6,    0.00,6,    1.80,6,-999.000,9,-999.000,9,-999.0000,9,  2199.7,2,  2309.8,2,   -999.0,9,  -999.00,   7.6471,2,    25.00,-999.000,9,-999.0000,9, -999.00,9,   4.5111,2, -999.00,9,  -999.0,9,  -999.0,-999.000,9, -999.00,9, -999.00,9, 1300.00,   4.4041
33RO20100308,      A13.5,     126,          1,          7,      11705,2,20100417,       0156,     4.1715,    -2.9995,       2508,  1500.0,   4.1479,  34.9372,2,  34.9363,2, 215.4000,2,   215.0,2,   21.71,6,   23.38,6,    0.00,6,    1.56,6,   0.030,2,   0.017,2,   0.0000,2,  2183.5,2,  2315.2,2,    848.2,2,    20.00,   7.6917,2,    25.00,-999.000,9,-999.0000,9, -999.00,9,   4.1486,2, -999.00,9,  -999.0,9,  -999.0,   0.122,3, -999.00,9, -999.00,9, 1500.00,   4.0261
33RO20100308,      A13.5,     126,          1,          6,      11029,2,20100417,       0156,     4.1715,    -2.9995,       2508,  1699.7,   3.9342,  34.9558,2,  34.9536,2, 226.3000,2,   226.3,2,   21.52,6,   22.06,6,    0.00,6,    1.47,6,-999.000,9,-999.000,9,-999.0000,9,  2176.8,2,  2314.7,2,    813.5,2,    20.00,   7.7092,2,    25.00,-999.000,9,-999.0000,9, -999.00,9,   3.9349,2, -999.00,9,  -999.0,9,  -999.0,-999.000,9, -999.00,9, -999.00,9, 1699.70,   3.7964
33RO20100308,      A13.5,     126,          1,          4,      11030,4,20100417,       0156,     4.1715,    -2.9995,       2508,  1899.9,   3.6686,  34.9600,3,  34.9531,4, 234.3000,4,   225.4,4,   21.33,4,   22.20,4,    0.00,4,    1.47,4,-999.000,9,-999.000,9,-999.0000,9,  -999.0,9,  2316.3,2,   -999.0,9,  -999.00,   7.7075,2,    25.00,-999.000,9,-999.0000,9, -999.00,9,   3.6684,2, -999.00,9,  -999.0,9,  -999.0,-999.000,9, -999.00,9, -999.00,9, 1899.90,   3.5155
33RO20100308,      A13.5,     126,          1,          5,      11704,2,20100417,       0156,     4.1715,    -2.9995,       2508,  1899.7,   3.6698,  34.9602,2,  34.9584,2, 234.4000,2,   235.4,2,   22.83,6,   21.28,6,    0.00,6,    1.41,6,   0.018,2,   0.012,2,   0.0000,2,  2174.2,2,  2317.7,2,   -999.0,9,  -999.00,   7.7227,2,    25.00,-999.000,9,-999.0000,9, -999.00,9,   3.6692,2, -999.00,9,  -999.0,9,  -999.0,   0.098,3, -999.00,9, -999.00,9, 1899.70,   3.5167
33RO20100308,      A13.5,     126,          1,          3,      11703,2,20100417,       0156,     4.1715,    -2.9995,       2508,  2100.0,   3.3949,  34.9531,2,  34.9520,2, 237.9000,2,   238.9,2,   26.06,6,   21.17,6,    0.00,6,    1.41,6,   0.012,2,   0.007,2,   0.0000,2,  2176.0,2,  2320.6,2,   -999.0,9,  -999.00,   7.7248,2,    25.00,-999.000,9,-999.0000,9, -999.00,9,   3.3948,2, -999.00,9,  -999.0,9,  -999.0,   0.067,3, -999.00,9, -999.00,9, 2100.00,   3.2269
33RO20100308,      A13.5,     126,          1,          2,      11702,2,20100417,       0156,     4.1715,    -2.9995,       2508,  2300.2,   3.1003,  34.9395,2,  34.9384,2, 238.7000,2,   239.5,2,   30.75,6,   21.30,6,    0.00,6,    1.42,6,   0.008,2,   0.005,2,   0.0000,2,  2180.3,2,  2325.5,2,    782.1,2,    20.00,   7.7255,2,    25.00,-999.000,9,-999.0000,9, -999.00,9,   3.1000,2, -999.00,9,  -999.0,9,  -999.0,   0.044,3, -999.00,9, -999.00,9, 2300.20,   2.9180
33RO20100308,      A13.5,     126,          1,          1,      11701,2,20100417,       0156,     4.1715,    -2.9995,       2508,  2519.1,   2.9099,  34.9285,2,  34.9281,2, 237.4000,2,   238.6,2,   34.84,6,   21.63,6,    0.00,6,    1.45,6,   0.005,2,   0.005,2,   0.0000,2,  2186.4,6,  2330.8,2,    789.6,2,    20.00,   7.7237,2,    25.00,-999.000,9,-999.0000,9, -999.00,9,   2.9092,2, -999.00,9,  -999.0,9,  -999.0,   0.032,3, -999.00,9, -999.00,9, 2519.10,   2.7098