BOTTLE,20130404CCHSIOCBG
EXPOCODE,SECT_ID,STNNBR,CASTNO,SAMPNO,BTLNBR,BTLNBR_FLAG_W,DATE,TIME,LATITUDE,LONGITUDE,DEPTH,CTDPRS,CTDTMP,CTDSAL,CTDSAL_FLAG_W,SALNTY,SALNTY_FLAG_W,CTDOXY,CTDOXY_FLAG_W,OXYGEN,OXYGEN_FLAG_W,SILCAT,SILCAT_FLAG_W,NITRAT,NITRAT_FLAG_W,NITRIT,NITRIT_FLAG_W,PHSPHT,PHSPHT_FLAG_W,CFC-11,CFC-11_FLAG_W,CFC-12,CFC-12_FLAG_W,SF6,SF6_FLAG_W,TCARBN,TCARBN_FLAG_W,ALKALI,ALKALI_FLAG_W,FCO2,FCO2_FLAG_W,FCO2TMP,PH_TOT,PH_TOT_FLAG_W,PH_TMP,TRITUM,TRITUM_FLAG_W,HELIUM,HELIUM_FLAG_W,DELHE3,DELHE3_FLAG_W,REFTMP,REFTMP_FLAG_W,DELC13,DELC13_FLAG_W,DELC14,DELC14_FLAG_W,C14ERR,CCL4,CCL4_FLAG_W,DOC,DOC_FLAG_W,TDN,TDN_FLAG_W,CTDRAW,THETA
,,,,,,,,,,,METERS,DBAR,ITS-90,PSS-78,,PSS-78,,UMOL/KG,,UMOL/KG,,UMOL/KG,,UMOL/KG,,UMOL/KG,,UMOL/KG,,PMOL/KG,,PMOL/KG,,FMOL/KG,,UMOL/KG,,UMOL/KG,,UATM,,DEG C,,,DEG C,TU,,NMOL/KG,,PERCNT,,DEG C,,/MILLE,,/MILLE,,/MILLE,PMOL/KG,,UMOL/KG,,UMOL/KG,,DBAR,DEG C
33RO20100308,      A13.5,      11,          1,         24,      11714,2,20100317,       0101,   -48.9998,     0.6928,       3904,     5.1,   5.6885,  33.7987,2,  33.8041,2, 307.2000,2,   307.0,2,    3.79,2,   19.92,2,    0.25,2,    1.43,2,   4.590,2,   2.548,2,   2.1160,2,  2116.5,6,  2275.3,6,    667.3,2,    20.00,   7.7794,2,    25.00,-999.000,9,-999.0000,9, -999.00,9,   5.6879,2, -999.00,9,  -999.0,9,  -999.0,   6.316,3,   45.45,2,   25.06,2,    5.10,   5.6881
33RO20100308,      A13.5,      11,          1,         23,      11713,2,20100317,       0101,   -48.9998,     0.6928,       3904,    84.5,   5.5651,  33.8064,2,  33.8088,2, 305.2000,2,   305.1,2,    3.94,2,   20.04,2,    0.27,2,    1.47,2,   4.640,2,   2.564,2,   2.2560,2,  2118.9,2,  2274.7,2,    677.7,6,    20.00,   7.7751,2,    25.00,-999.000,9,-999.0000,9, -999.00,9,   5.5750,2, -999.00,9,  -999.0,9,  -999.0,   6.366,3,   43.24,2,   25.58,2,   84.50,   5.5583
33RO20100308,      A13.5,      11,          1,         22,      11712,2,20100317,       0101,   -48.9998,     0.6928,       3904,   135.1,   3.5999,  33.9737,2,  33.9749,2, 296.7000,2,   297.4,2,   12.36,6,   25.57,6,    0.03,6,    1.76,6,   4.928,6,   2.690,6,   2.1800,6,  2146.7,2,  2270.2,2,    820.2,2,    20.00,   7.6998,2,    25.00,-999.000,9,-999.0000,9, -999.00,9,   3.5998,2, -999.00,9,  -999.0,9,  -999.0,   6.355,3,   42.48,2,   29.18,2,  135.10,   3.5911
33RO20100308,      A13.5,      11,          1,         21,      11010,2,20100317,       0101,   -48.9998,     0.6928,       3904,   179.6,   3.2399,  34.0602,2,  34.0671,2, 280.1000,2,   276.3,2,   17.67,2,   27.96,2,    0.01,2,    1.92,2,   4.499,2,   2.423,2,   1.7280,2,  2162.8,2,  2280.1,2,    892.8,2,    20.00,   7.6655,2,    25.00,-999.000,9,-999.0000,9, -999.00,9,   3.2399,2, -999.00,9,  -999.0,9,  -999.0,   5.585,3,   41.81,2,   32.05,2,  179.60,   3.2287
33RO20100308,      A13.5,      11,          1,         20,      11715,2,20100317,       0101,   -48.9998,     0.6928,       3904,   249.2,   2.9364,  34.1347,2,  34.1363,2, 258.2000,2,   257.3,2,   25.29,2,   30.11,2,    0.01,2,    2.07,2,   3.998,2,   2.082,2,   1.3670,2,  2180.9,2,  2285.7,2,    968.3,2,    20.00,   7.6353,2,    25.00,-999.000,9,-999.0000,9, -999.00,9,   2.9372,2, -999.00,9,  -999.0,9,  -999.0,   4.870,3,   40.46,2,   33.32,2,  249.20,   2.9213
33RO20100308,      A13.5,      11,          1,         19,      11007,2,20100317,       0101,   -48.9998,     0.6928,       3904,   300.3,   2.6535,  34.1490,2,  34.1509,2, 251.6000,2,   251.3,2,   29.36,6,   30.92,6,    0.01,6,    2.12,6,   3.835,2,   1.998,2,   1.3320,2,  2188.3,2,  2287.8,2,    998.6,2,    20.00,   7.6222,2,    25.00,-999.000,9,-999.0000,9, -999.00,9,   2.6530,2, -999.00,9,  -999.0,9,  -999.0,   4.653,3,   39.31,2,   33.56,2,  300.30,   2.6358
33RO20100308,      A13.5,      11,          1,         18,      11710,2,20100317,       0101,   -48.9998,     0.6928,       3904,   399.8,   2.5470,  34.2377,2,  34.2377,2, 228.9000,2,   227.3,6,   39.69,6,   32.42,6,    0.00,6,    2.24,6,   3.050,2,   1.531,2,   0.8720,2,  2206.8,2,  2298.9,2,   1085.6,2,    20.00,   7.5957,2,    25.00,-999.000,9,-999.0000,9, -999.00,9,   2.5465,2, -999.00,9,  -999.0,9,  -999.0,   3.814,3,   39.53,2,   34.23,2,  399.80,   2.5234
33RO20100308,      A13.5,      11,          1,         17,      11025,2,20100317,       0101,   -48.9998,     0.6928,       3904,   500.8,   2.5937,  34.3218,2,  34.3217,2, 205.3000,2,   205.4,2,   48.99,6,   33.68,6,    0.01,6,    2.32,6,   2.274,2,   1.112,2,   0.5400,2,  2222.8,2,  2308.3,2,   1152.0,2,    20.00,   7.5731,2,    25.00,-999.000,9,-999.0000,9, -999.00,9,   2.5931,2, -999.00,9,  -999.0,9,  -999.0,   3.028,3,   39.25,2,   35.18,2,  500.80,   2.5635
33RO20100308,      A13.5,      11,          1,         16,      11709,2,20100317,       0101,   -48.9998,     0.6928,       3904,   600.3,   2.5887,  34.4041,2,  34.4038,2, 188.3000,2,   188.9,2,   57.39,2,   34.22,2,    0.00,2,    2.36,2,   1.548,2,   0.760,2,   0.2860,2,  2235.3,2,  2314.2,2,   1187.1,2,    20.00,   7.5593,2,    25.00,-999.000,9,-999.0000,9, -999.00,9,   2.5882,2, -999.00,9,  -999.0,9,  -999.0,   2.037,3,   39.38,2,   35.98,2,  600.30,   2.5519
33RO20100308,      A13.5,      11,          1,         15,      11006,2,20100317,       0101,   -48.9998,     0.6928,       3904,   700.2,   2.4881,  34.4708,2,  34.4709,2, 178.2000,2,   178.8,2,   64.75,2,   34.59,2,    0.00,2,    2.38,2,   1.132,2,   0.551,2,   0.3030,2,  2244.8,2,  2322.7,2,   1218.1,2,    20.00,   7.5505,2,    25.00,-999.000,9,-999.0000,9, -999.00,9,   2.4878,2, -999.00,9,  -999.0,9,  -999.0,   1.568,3,   39.45,2,   36.32,2,  700.20,   2.4451
33RO20100308,      A13.5,      11,          1,         14,      11708,2,20100317,       0101,   -48.9998,     0.6928,       3904,   800.5,   2.4856,  34.5209,2,  34.5239,2, 174.4000,2,   175.2,2,   68.21,2,   34.38,2,    0.00,2,    2.37,2,   0.830,2,   0.408,2,   0.1520,2,  2249.1,2,  2327.2,2,   1213.3,2,    20.00,   7.5522,2,    25.00,-999.000,9,-999.0000,9, -999.00,9,   2.4851,2, -999.00,9,  -999.0,9,  -999.0,   1.213,3,   38.80,2,   36.46,2,  800.50,   2.4357
33RO20100308,      A13.5,      11,          1,         13,      11031,2,20100317,       0101,   -48.9998,     0.6928,       3904,   899.9,   2.4961,  34.5752,2,  34.5771,2, 173.9000,2,   174.2,2,   70.43,2,   33.64,2,    0.00,2,    2.32,2,   0.577,2,   0.275,2,   0.1690,2,  2249.8,2,  2334.3,2,   1185.4,2,    20.00,   7.5615,2,    25.00,-999.000,9,-999.0000,9, -999.00,9,   2.4959,2, -999.00,9,  -999.0,9,  -999.0,   0.901,3,   39.34,2,   35.28,2,  899.90,   2.4392
33RO20100308,      A13.5,      11,          1,         12,      11027,2,20100317,       0101,   -48.9998,     0.6928,       3904,  1100.1,   2.4251,  34.6555,2,  34.6564,2, 175.9000,4,   196.8,4,   74.54,2,   32.56,2,    0.00,2,    2.24,2,   0.356,2,   0.171,2,   0.1080,2,  2249.2,2,  2339.2,2,   1146.9,2,    20.00,   7.5769,2,    25.00,-999.000,9,-999.0000,9, -999.00,9,   2.4243,2, -999.00,9,  -999.0,9,  -999.0,   0.591,3,   38.83,2,   34.32,2, 1100.10,   2.3542
33RO20100308,      A13.5,      11,          1,         11,      11707,2,20100317,       0101,   -48.9998,     0.6928,       3904,  1300.0,   2.4061,  34.7163,2,  34.7155,2, 184.8000,2,   185.6,2,   74.15,2,   30.94,2,    0.00,2,    2.12,2,   0.235,2,   0.113,2,   0.0000,2,  2244.4,2,  2340.1,2,   1087.1,2,    20.00,   7.6000,2,    25.00,-999.000,9,-999.0000,9, -999.00,9,   2.4055,2, -999.00,9,  -999.0,9,  -999.0,   0.442,3,   39.49,2,   33.00,2, 1300.00,   2.3203
33RO20100308,      A13.5,      11,          1,         10,      11003,2,20100317,       0101,   -48.9998,     0.6928,       3904,  1499.3,   2.3222,  34.7529,2,  34.7533,2, 192.5000,2,   193.2,2,   74.23,2,   29.84,2,    0.00,2,    2.05,2,   0.170,2,   0.082,2,   0.0000,2,  2240.6,2,  2341.7,2,   1039.4,2,    20.00,   7.6167,2,    25.00,-999.000,9,-999.0000,9, -999.00,9,   2.3217,2, -999.00,9,  -999.0,9,  -999.0,   0.342,3,   38.67,2,   31.44,2, 1499.30,   2.2218
33RO20100308,      A13.5,      11,          1,          9,      11706,2,20100317,       0101,   -48.9998,     0.6928,       3904,  1799.5,   2.0978,  34.7688,2,  34.7689,2, 199.9000,2,   199.6,2,   78.27,2,   29.34,2,    0.00,2,    2.01,2,-999.000,5,-999.000,5,-999.0000,5,  2238.3,2,  2347.0,2,   1018.5,2,    20.00,   7.6274,2,    25.00,-999.000,9,-999.0000,9, -999.00,9,   2.0974,2, -999.00,9,  -999.0,9,  -999.0,-999.000,5,   38.90,2,   31.38,2, 1799.50,   1.9761
33RO20100308,      A13.5,      11,          1,          8,      11033,2,20100317,       0101,   -48.9998,     0.6928,       3904,  2099.3,   1.8315,  34.7676,2,  34.7673,2, 204.8000,2,   204.5,2,   84.52,2,   29.36,2,    0.00,2,    2.02,2,   0.134,2,   0.065,2,   0.0000,2,  2239.9,2,  2349.4,2,   1002.3,2,    20.00,   7.6323,2,    25.00,-999.000,9,-999.0000,9, -999.00,9,   1.8312,2, -999.00,9,  -999.0,9,  -999.0,   0.262,3,   38.54,2,   31.08,2, 2099.30,   1.6888
33RO20100308,      A13.5,      11,          1,          7,      11705,2,20100317,       0101,   -48.9998,     0.6928,       3904,  2399.7,   1.5066,  34.7487,2,  34.7488,2, 205.0000,2,   205.8,2,   94.94,2,   30.17,2,    0.00,2,    2.08,2,   0.175,2,   0.082,2,   0.0000,2,  2247.1,2,  2352.7,2,   1019.3,2,    20.00,   7.6242,2,    25.00,-999.000,9,-999.0000,9, -999.00,9,   1.5065,2, -999.00,9,  -999.0,9,  -999.0,   0.305,3,   38.66,2,   31.47,2, 2399.70,   1.3439
33RO20100308,      A13.5,      11,          1,          6,      11029,4,20100317,       0101,   -48.9998,     0.6928,       3904,  2700.2,   1.2265,  34.7289,4,  34.7723,4, 205.7000,2,   204.1,2,   80.94,4,   29.12,4,    0.00,4,    2.00,4,   0.128,3,   0.062,3,   0.0000,2,  2237.7,4,  2347.2,4,    994.8,4,    20.00,   7.6338,2,    25.00,-999.000,9,-999.0000,9, -999.00,9,   1.2265,2, -999.00,9,  -999.0,9,  -999.0,   0.262,3,   39.85,2,   30.40,2, 2700.20,   1.0428
33RO20100308,      A13.5,      11,          1,          5,      11704,2,20100317,       0101,   -48.9998,     0.6928,       3904,  2999.3,   0.9235,  34.7071,2,  34.7062,2, 207.4000,2,   206.3,2,  112.80,2,   31.88,2,    0.00,2,    2.20,2,   0.341,3,   0.164,3,   0.0000,2,  2257.3,2,  2358.1,2,   1075.4,6,    20.00,   7.6038,2,    25.00,-999.000,9,-999.0000,9, -999.00,9,   0.9231,2, -999.00,9,  -999.0,9,  -999.0,   0.525,3,   40.06,2,   33.27,2, 2999.30,   0.7193
33RO20100308,      A13.5,      11,          1,          4,      11030,9,20100317,       0101,   -48.9998,     0.6928,       3904,  3300.7,   0.7133,  34.6965,2,-999.0000,9, 210.3000,2,  -999.0,9, -999.00,9, -999.00,9, -999.00,9, -999.00,9,-999.000,9,-999.000,9,-999.0000,9,  -999.0,9,  -999.0,9,   -999.0,9,  -999.00,-999.0000,9,  -999.00,-999.000,9,-999.0000,9, -999.00,9,   0.7127,2, -999.00,9,  -999.0,9,  -999.0,-999.000,9, -999.00,9, -999.00,9, 3300.70,   0.4860
33RO20100308,      A13.5,      11,          1,          3,      11703,2,20100317,       0101,   -48.9998,     0.6928,       3904,  3601.0,   0.6240,  34.6919,2,  34.6921,2, 212.2000,2,   212.0,2,  123.71,6,   32.40,6,    0.00,6,    2.24,6,   0.381,6,   0.178,6,   0.0280,6,  2259.8,2,  2357.5,2,   1081.6,2,    20.00,   7.6007,2,    25.00,-999.000,9,-999.0000,9, -999.00,9,   0.6234,2, -999.00,9,  -999.0,9,  -999.0,   0.602,3,   39.21,2,   33.90,2, 3601.00,   0.3701
33RO20100308,      A13.5,      11,          1,          2,      11702,2,20100317,       0101,   -48.9998,     0.6928,       3904,  3749.5,   0.5863,  34.6890,2,  34.6893,2, 212.5000,4,   206.4,4,  125.58,6,   32.50,6,    0.01,6,    2.25,6,   0.403,2,   0.191,2,   0.0000,2,  2260.5,2,  2357.3,2,   1089.5,2,    20.00,   7.5997,2,    25.00,-999.000,9,-999.0000,9, -999.00,9,   0.5856,2, -999.00,9,  -999.0,9,  -999.0,   0.629,3,   39.25,2,   33.77,2, 3749.50,   0.3187
33RO20100308,      A13.5,      11,          1,          1,      11701,2,20100317,       0101,   -48.9998,     0.6928,       3904,  3937.6,   0.5580,  34.6862,2,  34.6902,2, 214.1000,2,   214.3,2,  125.88,6,   32.57,6,    0.01,6,    2.25,6,   0.435,2,   0.201,2,   0.0500,2,  2261.1,6,  2360.0,6,   1086.2,2,    20.00,   7.5996,2,    25.00,-999.000,9,-999.0000,9, -999.00,9,   0.5569,2, -999.00,9,  -999.0,9,  -999.0,   0.679,3,   39.39,2,   33.87,2, 3937.60,   0.2722