BOTTLE,20130404CCHSIOCBG
EXPOCODE,SECT_ID,STNNBR,CASTNO,SAMPNO,BTLNBR,BTLNBR_FLAG_W,DATE,TIME,LATITUDE,LONGITUDE,DEPTH,CTDPRS,CTDTMP,CTDSAL,CTDSAL_FLAG_W,SALNTY,SALNTY_FLAG_W,CTDOXY,CTDOXY_FLAG_W,OXYGEN,OXYGEN_FLAG_W,SILCAT,SILCAT_FLAG_W,NITRAT,NITRAT_FLAG_W,NITRIT,NITRIT_FLAG_W,PHSPHT,PHSPHT_FLAG_W,CFC-11,CFC-11_FLAG_W,CFC-12,CFC-12_FLAG_W,SF6,SF6_FLAG_W,TCARBN,TCARBN_FLAG_W,ALKALI,ALKALI_FLAG_W,FCO2,FCO2_FLAG_W,FCO2TMP,PH_TOT,PH_TOT_FLAG_W,PH_TMP,TRITUM,TRITUM_FLAG_W,HELIUM,HELIUM_FLAG_W,DELHE3,DELHE3_FLAG_W,REFTMP,REFTMP_FLAG_W,DELC13,DELC13_FLAG_W,DELC14,DELC14_FLAG_W,C14ERR,CCL4,CCL4_FLAG_W,DOC,DOC_FLAG_W,TDN,TDN_FLAG_W,CTDRAW,THETA
,,,,,,,,,,,METERS,DBAR,ITS-90,PSS-78,,PSS-78,,UMOL/KG,,UMOL/KG,,UMOL/KG,,UMOL/KG,,UMOL/KG,,UMOL/KG,,PMOL/KG,,PMOL/KG,,FMOL/KG,,UMOL/KG,,UMOL/KG,,UATM,,DEG C,,,DEG C,TU,,NMOL/KG,,PERCNT,,DEG C,,/MILLE,,/MILLE,,/MILLE,PMOL/KG,,UMOL/KG,,UMOL/KG,,DBAR,DEG C
33RO20100308,      A13.5,      13,          1,         24,      11714,2,20100317,       1301,      -48.0,     0.8313,       4326,     5.6,   6.7171,  33.7959,2,  33.7956,2, 300.1000,2,   300.9,2,    1.65,2,   18.86,2,    0.26,2,    1.37,2,   4.284,2,   2.442,2,   2.0630,2,  2102.9,6,  2268.3,6,    627.1,2,    20.00,   7.8020,2,    25.00,-999.000,1,-999.0000,1, -999.00,9,   6.7170,2, -999.00,9,  -999.0,9,  -999.0,   5.656,3,   45.58,2,   22.66,2,    5.60,   6.7166
33RO20100308,      A13.5,      13,          1,         23,      11713,2,20100317,       1301,      -48.0,     0.8313,       4326,    30.6,   6.6975,  33.7959,2,  33.7969,2, 301.1000,2,   301.3,2,    1.64,2,   18.82,2,    0.26,2,    1.36,2,   4.288,2,   2.438,2,   2.0460,2,  2104.4,2,  2263.8,2,    625.0,2,    20.00,   7.8012,2,    25.00,-999.000,1,-999.0000,1, -999.00,9,   6.6956,2, -999.00,9,  -999.0,9,  -999.0,   5.751,3,   45.57,2,   22.99,2,   30.60,   6.6948
33RO20100308,      A13.5,      13,          1,         22,      11712,2,20100317,       1301,      -48.0,     0.8313,       4326,    60.3,   6.2012,  33.8006,2,  33.8023,2, 300.1000,2,   301.6,2,    1.65,2,   18.93,2,    0.26,2,    1.41,2,   4.417,6,   2.496,6,   2.1910,6,  2111.8,2,  2272.6,2,    638.1,6,    20.00,   7.7937,2,    25.00,-999.000,1,-999.0000,1, -999.00,9,   6.2048,2, -999.00,9,  -999.0,9,  -999.0,   5.897,3,   44.76,2,   22.82,2,   60.30,   6.1961
33RO20100308,      A13.5,      13,          1,         21,      11010,2,20100317,       1301,      -48.0,     0.8313,       4326,   100.1,   5.0145,  33.8458,2,  33.8487,2, 300.6000,2,   301.2,2,    5.07,2,   20.89,2,    0.35,2,    1.58,2,   4.726,2,   2.655,2,   2.2280,2,  2128.3,2,  2278.6,2,    710.2,2,    20.00,   7.7574,2,    25.00,-999.000,1,-999.0000,1, -999.00,9,   5.0115,2, -999.00,9,  -999.0,9,  -999.0,   6.061,3,   44.07,2,   23.70,2,  100.10,   5.0069
33RO20100308,      A13.5,      13,          1,         20,      11715,2,20100317,       1301,      -48.0,     0.8313,       4326,   199.0,   3.0495,  34.0694,2,  34.0699,2, 271.9000,2,   273.5,2,   20.26,2,   28.70,2,    0.01,2,    1.98,2,   4.378,2,   2.380,2,   1.6400,2,  2167.6,2,  2280.5,2,    911.5,2,    20.00,   7.6573,2,    25.00,-999.000,1,-999.0000,1, -999.00,9,   3.0490,2, -999.00,9,  -999.0,9,  -999.0,   5.253,3,   42.26,2,   31.52,2,  199.00,   3.0373
33RO20100308,      A13.5,      13,          1,         19,      11007,2,20100317,       1301,      -48.0,     0.8313,       4326,   299.9,   2.7939,  34.1543,2,-999.0000,9, 249.8000,2,   250.9,2,   28.96,2,   30.74,2,    0.01,2,    2.12,2,   3.746,2,   1.980,2,   1.2190,2,  2184.7,2,  2286.6,2,    995.2,2,    20.00,   7.6268,2,    25.00,-999.000,1,-999.0000,1, -999.00,9,   2.7941,2, -999.00,9,  -999.0,9,  -999.0,   4.483,3,   41.21,2,   33.59,2,  299.90,   2.7759
33RO20100308,      A13.5,      13,          1,         18,      11710,2,20100317,       1301,      -48.0,     0.8313,       4326,   400.5,   2.5499,  34.2270,2,  34.2276,2, 229.3000,2,   229.9,2,   39.22,2,   32.43,2,    0.01,2,    2.23,2,   3.089,2,   1.586,2,   0.8920,2,  2203.7,2,  2297.6,2,   1073.5,2,    20.00,   7.5978,2,    25.00,-999.000,1,-999.0000,1, -999.00,9,   2.5494,2, -999.00,9,  -999.0,9,  -999.0,   3.715,3,   40.59,2,   34.36,2,  400.50,   2.5263
33RO20100308,      A13.5,      13,          1,         17,      11025,2,20100317,       1301,      -48.0,     0.8313,       4326,   500.0,   2.5360,  34.2923,2,  34.2931,2, 212.7000,2,   212.6,2,   46.85,2,   33.39,2,    0.00,2,    2.31,2,   2.521,2,   1.262,2,   0.6980,2,  2216.2,2,  2306.2,2,   1137.0,2,    20.00,   7.5778,2,    25.00,-999.000,1,-999.0000,1, -999.00,9,   2.5363,2, -999.00,9,  -999.0,9,  -999.0,   3.195,3,   39.65,2,   35.53,2,  500.00,   2.5061
33RO20100308,      A13.5,      13,          1,         16,      11709,2,20100317,       1301,      -48.0,     0.8313,       4326,   600.7,   2.4945,  34.3761,2,  34.3741,2, 193.5000,2,   193.7,2,   56.29,2,   34.41,2,    0.00,2,    2.38,2,   1.845,2,   0.909,2,   0.4080,2,  2230.1,2,  2314.1,2,   1195.5,2,    20.00,   7.5579,2,    25.00,-999.000,1,-999.0000,1, -999.00,9,   2.4949,2, -999.00,9,  -999.0,9,  -999.0,   2.349,3,   38.98,2,   36.41,2,  600.70,   2.4582
33RO20100308,      A13.5,      13,          1,         15,      11006,2,20100317,       1301,      -48.0,     0.8313,       4326,   700.2,   2.5461,  34.4636,2,  34.4614,2, 180.4000,2,   180.4,6,   63.86,2,   34.54,2,    0.00,2,    2.39,2,   1.138,2,   0.559,2,   0.2570,2,  2241.0,2,  2326.0,2,   1203.5,2,    20.00,   7.5538,2,    25.00,-999.000,1,-999.0000,1, -999.00,9,   2.5454,2, -999.00,9,  -999.0,9,  -999.0,   1.571,3,   38.22,2,   35.58,2,  700.20,   2.5028
33RO20100308,      A13.5,      13,          1,         14,      11708,2,20100317,       1301,      -48.0,     0.8313,       4326,   899.7,   2.5275,  34.5781,2,  34.5773,2, 173.8000,2,   174.2,2,   70.47,2,   33.67,2,    0.00,2,    2.34,2,   0.559,2,   0.274,2,   0.0900,2,  2247.4,6,  2332.6,6,   1181.5,2,    20.00,   7.5628,2,    25.00,-999.000,1,-999.0000,1, -999.00,9,   2.5270,2, -999.00,9,  -999.0,9,  -999.0,   0.865,3,   38.35,2,   35.41,2,  899.70,   2.4703
33RO20100308,      A13.5,      13,          1,         13,      11031,2,20100317,       1301,      -48.0,     0.8313,       4326,  1099.4,   2.4745,  34.6521,2,  34.6520,2, 176.6000,4,   188.0,4,   73.55,2,   32.59,2,    0.00,2,    2.25,2,   0.356,2,   0.172,2,   0.0000,2,  2247.8,2,  2339.3,2,   1139.0,2,    20.00,   7.5773,2,    25.00,-999.000,1,-999.0000,1, -999.00,9,   2.4746,2, -999.00,9,  -999.0,9,  -999.0,   0.603,3,   38.02,2,   33.84,2, 1099.40,   2.4032
33RO20100308,      A13.5,      13,          1,         12,      11027,2,20100317,       1301,      -48.0,     0.8313,       4326,  1300.1,   2.3959,  34.7067,2,  34.7060,2, 183.2000,2,   183.0,2,   75.21,2,   31.42,2,    0.00,2,    2.17,2,   0.253,2,   0.124,2,   0.0580,2,  2245.2,2,  2341.2,2,   1094.5,2,    20.00,   7.5949,2,    25.00,-999.000,1,-999.0000,1, -999.00,9,   2.3965,2, -999.00,9,  -999.0,9,  -999.0,   0.454,3,   38.00,2,   33.44,2, 1300.10,   2.3102
33RO20100308,      A13.5,      13,          1,         11,      11707,2,20100317,       1301,      -48.0,     0.8313,       4326,  1600.4,   2.3064,  34.7630,2,  34.7631,2, 195.4000,2,   195.8,2,   74.13,2,   29.54,2,    0.00,2,    2.03,2,   0.152,2,   0.073,2,   0.0000,2,  2236.9,2,  2344.5,2,   1021.0,2,    20.00,   7.6234,2,    25.00,-999.000,1,-999.0000,1, -999.00,9,   2.3053,2, -999.00,9,  -999.0,9,  -999.0,   0.322,3,   39.09,2,   31.29,2, 1600.40,   2.1981
33RO20100308,      A13.5,      13,          1,         10,      11003,2,20100317,       1301,      -48.0,     0.8313,       4326,  1900.0,   2.0482,  34.7753,2,  34.7751,2, 202.8000,2,   203.0,6,   78.88,2,   29.12,2,    0.00,2,    2.01,2,   0.126,2,   0.060,2,   0.0000,2,  2236.4,2,  2347.0,2,    991.5,2,    20.00,   7.6337,2,    25.00,-999.000,1,-999.0000,1, -999.00,9,   2.0485,2, -999.00,9,  -999.0,9,  -999.0,   0.264,3,   38.07,2,   30.57,2, 1900.00,   1.9189
33RO20100308,      A13.5,      13,          1,          9,      11706,2,20100317,       1301,      -48.0,     0.8313,       4326,  2200.5,   1.8135,  34.7756,2,  34.7753,2, 206.9000,2,   208.4,2,   83.68,2,   28.91,2,    0.00,2,    2.00,2,   0.113,2,   0.054,2,   0.0000,2,  2237.4,2,  2350.1,2,    990.0,2,    20.00,   7.6389,2,    25.00,-999.000,1,-999.0000,1, -999.00,9,   1.8136,2, -999.00,9,  -999.0,9,  -999.0,   0.235,3,   39.24,2,   30.68,2, 2200.50,   1.6625
33RO20100308,      A13.5,      13,          1,          8,      11033,2,20100317,       1301,      -48.0,     0.8313,       4326,  2500.9,   1.4063,  34.7374,2,  34.7368,2, 202.7000,2,   203.1,2,   99.61,2,   30.83,2,    0.00,2,    2.13,2,   0.209,2,   0.104,2,   0.0610,3,  2250.2,2,  2354.9,2,   1042.1,2,    20.00,   7.6156,2,    25.00,-999.000,1,-999.0000,1, -999.00,9,   1.4060,2, -999.00,9,  -999.0,9,  -999.0,   0.354,3,   39.37,2,   32.88,2, 2500.90,   1.2367
33RO20100308,      A13.5,      13,          1,          7,      11705,2,20100317,       1301,      -48.0,     0.8313,       4326,  2800.1,   1.1989,  34.7281,2,  34.7282,2, 205.2000,2,   206.1,2,  105.22,2,   31.10,2,    0.00,2,    2.15,2,   0.231,2,   0.111,2,   0.0560,3,  2252.6,2,  2356.6,2,   1042.4,6,    20.00,   7.6152,2,    25.00,-999.000,9,-999.0000,1, -999.00,9,   1.1983,2, -999.00,9,  -999.0,9,  -999.0,   0.383,3,   38.37,2,   32.81,2, 2800.10,   1.0068
33RO20100308,      A13.5,      13,          1,          6,      11029,2,20100317,       1301,      -48.0,     0.8313,       4326,  3100.7,   0.9852,  34.7119,2,  34.7113,2, 206.9000,2,   207.4,2,  112.28,2,   31.79,2,    0.00,2,    2.20,2,   0.312,2,   0.152,2,   0.1010,2,  2255.4,2,  2357.8,2,   1066.4,2,    20.00,   7.6071,2,    25.00,-999.000,1,-999.0000,1, -999.00,9,   0.9845,2, -999.00,9,  -999.0,9,  -999.0,   0.494,3,   38.65,2,   34.14,2, 3100.70,   0.7702
33RO20100308,      A13.5,      13,          1,          5,      11704,2,20100317,       1301,      -48.0,     0.8313,       4326,  3400.2,   0.7527,  34.6997,2,  34.6999,2, 209.8000,2,   210.4,2,  119.35,2,   32.20,2,    0.00,2,    2.22,2,   0.350,2,   0.164,2,   0.0000,2,  2258.7,2,  2354.5,2,   1072.7,2,    20.00,   7.6032,2,    25.00,-999.000,9,-999.0000,1, -999.00,9,   0.7525,2, -999.00,9,  -999.0,9,  -999.0,   0.569,3,   38.79,2,   34.77,2, 3400.20,   0.5150
33RO20100308,      A13.5,      13,          1,          4,      11030,2,20100317,       1301,      -48.0,     0.8313,       4326,  3701.7,   0.6643,  34.6938,3,  34.6992,4, 211.1000,2,   209.9,2,  119.22,6,   32.19,6,    0.00,6,    2.23,6,   0.348,2,   0.167,2,   0.1120,2,  2258.2,2,  2361.0,2,   1079.1,2,    20.00,   7.6032,2,    25.00,-999.000,1,-999.0000,1, -999.00,9,   0.6640,2, -999.00,9,  -999.0,9,  -999.0,   0.545,3,   39.49,2,   34.81,2, 3701.70,   0.3994
33RO20100308,      A13.5,      13,          1,          3,      11703,2,20100317,       1301,      -48.0,     0.8313,       4326,  3999.8,   0.6483,  34.6910,2,  34.6908,2, 212.1000,2,   212.2,2,  125.30,6,   32.45,6,    0.00,6,    2.25,6,   0.387,6,   0.183,6,   0.0000,2,  2260.3,2,  2361.0,2,   1085.5,2,    20.00,   7.6015,2,    25.00,-999.000,9,-999.0000,1, -999.00,9,   0.6478,2, -999.00,9,  -999.0,9,  -999.0,   0.610,3,   38.93,2,   34.24,2, 3999.80,   0.3535
33RO20100308,      A13.5,      13,          1,          2,      11702,2,20100317,       1301,      -48.0,     0.8313,       4326,  4300.1,   0.6533,  34.6891,2,  34.6926,4, 212.7000,2,   212.3,2,  124.10,6,   32.41,6,    0.00,6,    2.25,6,   0.374,2,   0.178,2,   0.0480,2,  2258.5,2,  2359.3,2,   1083.1,2,    20.00,   7.6017,2,    25.00,-999.000,1,-999.0000,1, -999.00,9,   0.6527,2, -999.00,9,  -999.0,9,  -999.0,   0.591,3,   38.77,2,   35.03,2, 4300.10,   0.3265
33RO20100308,      A13.5,      13,          1,          1,      11701,2,20100317,       1301,      -48.0,     0.8313,       4326,  4384.3,   0.6548,  34.6887,2,  34.6889,2, 213.5000,2,   212.4,2,  126.44,6,   32.58,6,    0.01,6,    2.26,6,   0.400,2,   0.188,2,   0.0000,2,  2260.7,6,  2359.4,6,   1082.9,2,    20.00,   7.6005,2,    25.00,-999.000,1,-999.0000,1, -999.00,9,   0.6540,2, -999.00,9,  -999.0,9,  -999.0,   0.622,3,   38.36,2,   35.08,2, 4384.30,   0.3189