BOTTLE,20130404CCHSIOCBG
EXPOCODE,SECT_ID,STNNBR,CASTNO,SAMPNO,BTLNBR,BTLNBR_FLAG_W,DATE,TIME,LATITUDE,LONGITUDE,DEPTH,CTDPRS,CTDTMP,CTDSAL,CTDSAL_FLAG_W,SALNTY,SALNTY_FLAG_W,CTDOXY,CTDOXY_FLAG_W,OXYGEN,OXYGEN_FLAG_W,SILCAT,SILCAT_FLAG_W,NITRAT,NITRAT_FLAG_W,NITRIT,NITRIT_FLAG_W,PHSPHT,PHSPHT_FLAG_W,CFC-11,CFC-11_FLAG_W,CFC-12,CFC-12_FLAG_W,SF6,SF6_FLAG_W,TCARBN,TCARBN_FLAG_W,ALKALI,ALKALI_FLAG_W,FCO2,FCO2_FLAG_W,FCO2TMP,PH_TOT,PH_TOT_FLAG_W,PH_TMP,TRITUM,TRITUM_FLAG_W,HELIUM,HELIUM_FLAG_W,DELHE3,DELHE3_FLAG_W,REFTMP,REFTMP_FLAG_W,DELC13,DELC13_FLAG_W,DELC14,DELC14_FLAG_W,C14ERR,CCL4,CCL4_FLAG_W,DOC,DOC_FLAG_W,TDN,TDN_FLAG_W,CTDRAW,THETA
,,,,,,,,,,,METERS,DBAR,ITS-90,PSS-78,,PSS-78,,UMOL/KG,,UMOL/KG,,UMOL/KG,,UMOL/KG,,UMOL/KG,,UMOL/KG,,PMOL/KG,,PMOL/KG,,FMOL/KG,,UMOL/KG,,UMOL/KG,,UATM,,DEG C,,,DEG C,TU,,NMOL/KG,,PERCNT,,DEG C,,/MILLE,,/MILLE,,/MILLE,PMOL/KG,,UMOL/KG,,UMOL/KG,,DBAR,DEG C
33RO20100308,      A13.5,      52,          1,         24,      11714,2,20100327,       0819,   -28.4998,     1.7513,       4172,     5.1,  21.9719,  35.7861,2,  35.7865,2, 219.5000,2,   220.7,2,    1.79,2,    0.00,2,    0.00,2,    0.14,2,   2.007,2,   1.232,2,   1.2170,2,  2066.6,6,  2351.1,6,    365.0,2,    20.00,   8.0136,2,    25.00,-999.000,9,-999.0000,9, -999.00,9,  21.9755,2, -999.00,9,  -999.0,9,  -999.0,   2.717,3, -999.00,9, -999.00,9,    5.10,  21.9709
33RO20100308,      A13.5,      52,          1,         23,      11713,2,20100327,       0819,   -28.4998,     1.7513,       4172,    40.0,  21.7818,  35.7690,2,  35.7449,2, 221.8000,2,   225.8,2,    1.84,2,    0.00,2,    0.00,2,    0.14,2,-999.000,9,-999.000,9,-999.0000,9,  2064.4,2,  2348.2,2,    365.3,6,    20.00,   8.0131,2,    25.00,-999.000,9,-999.0000,9, -999.00,9,  21.7893,2, -999.00,9,  -999.0,9,  -999.0,-999.000,9, -999.00,9, -999.00,9,   40.00,  21.7739
33RO20100308,      A13.5,      52,          1,         22,      11712,2,20100327,       0819,   -28.4998,     1.7513,       4172,    64.8,  17.8776,  35.5175,2,  35.5110,2, 248.0000,2,   248.1,2,    2.16,2,    0.05,2,    0.00,2,    0.19,2,   2.498,6,   1.513,6,   1.4390,6,  2064.3,2,  2334.0,2,    385.1,2,    20.00,   7.9910,2,    25.00,-999.000,9,-999.0000,9, -999.00,9,  17.8802,2, -999.00,9,  -999.0,9,  -999.0,   2.211,3, -999.00,9, -999.00,9,   64.80,  17.8665
33RO20100308,      A13.5,      52,          1,         21,      11010,2,20100327,       0819,   -28.4998,     1.7513,       4172,   109.6,  15.7760,  35.4988,2,  35.4954,2, 228.8000,2,   228.6,2,    2.81,2,    2.72,2,    0.16,2,    0.37,2,   2.585,2,   1.552,2,   1.3490,2,  2088.0,2,  2332.6,2,    438.9,2,    20.00,   7.9436,2,    25.00,-999.000,9,-999.0000,9, -999.00,9,  15.7792,2, -999.00,9,  -999.0,9,  -999.0,   1.745,3, -999.00,9, -999.00,9,  109.60,  15.7588
33RO20100308,      A13.5,      52,          1,         20,      11715,2,20100327,       0819,   -28.4998,     1.7513,       4172,   224.7,  13.5504,  35.2278,2,  35.2246,2, 213.0000,2,   215.9,2,    3.91,2,    8.41,2,    0.01,2,    0.69,2,   2.851,2,   1.678,2,   1.3170,2,  2113.4,2,  2316.8,2,    536.4,2,    20.00,   7.8673,2,    25.00,-999.000,9,-999.0000,9, -999.00,9,  13.5527,2, -999.00,9,  -999.0,9,  -999.0,   1.407,3, -999.00,9, -999.00,9,  224.70,  13.5185
33RO20100308,      A13.5,      52,          1,         19,      11007,2,20100327,       0819,   -28.4998,     1.7513,       4172,   349.7,  11.1705,  34.9387,2,  34.9362,2, 213.6000,2,   211.9,2,    5.90,2,   14.13,2,    0.00,2,    1.04,2,   3.092,2,   1.753,2,   1.1850,2,  2132.7,2,  2304.2,2,    637.0,2,    20.00,   7.7993,2,    25.00,-999.000,9,-999.0000,9, -999.00,9,  11.1763,2, -999.00,9,  -999.0,9,  -999.0,   1.600,3, -999.00,9, -999.00,9,  349.70,  11.1267
33RO20100308,      A13.5,      52,          1,         18,      11710,2,20100327,       0819,   -28.4998,     1.7513,       4172,   449.9,   9.5117,  34.7270,2,  34.7268,2, 210.1000,2,   210.0,2,    8.19,2,   18.24,2,    0.00,2,    1.30,2,   3.156,2,   1.750,2,   1.1080,2,  2146.0,2,  2295.1,2,    723.3,2,    20.00,   7.7498,2,    25.00,-999.000,9,-999.0000,9, -999.00,9,   9.5132,2, -999.00,9,  -999.0,9,  -999.0,   2.024,3, -999.00,9, -999.00,9,  449.90,   9.4606
33RO20100308,      A13.5,      52,          1,         17,      11025,2,20100327,       0819,   -28.4998,     1.7513,       4172,   599.1,   6.6711,  34.4436,2,  34.4516,2, 207.9000,2,   207.0,2,   16.21,2,   25.74,2,    0.00,2,    1.78,2,   3.022,2,   1.591,2,   0.8460,2,  2171.3,2,  2288.5,2,    886.8,2,    20.00,   7.6696,2,    25.00,-999.000,9,-999.0000,9, -999.00,9,   6.6669,2, -999.00,9,  -999.0,9,  -999.0,   2.921,3, -999.00,9, -999.00,9,  599.10,   6.6153
33RO20100308,      A13.5,      52,          1,         16,      11709,2,20100327,       0819,   -28.4998,     1.7513,       4172,   748.8,   4.8295,  34.3429,2,  34.3431,2, 208.6000,2,   208.5,2,   26.13,2,   29.60,2,    0.00,2,    2.05,2,   2.563,2,   1.299,2,   0.6130,2,  2189.1,2,  2291.1,2,    980.2,2,    20.00,   7.6327,2,    25.00,-999.000,9,-999.0000,9, -999.00,9,   4.8294,2, -999.00,9,  -999.0,9,  -999.0,   3.193,3, -999.00,9, -999.00,9,  748.80,   4.7696
33RO20100308,      A13.5,      52,          1,         15,      11006,2,20100327,       0819,   -28.4998,     1.7513,       4172,   999.6,   3.5962,  34.4332,2,  34.4336,2, 183.6000,2,   184.2,2,   46.86,2,   32.86,2,    0.00,2,    2.29,2,   1.083,2,   0.523,2,   0.2240,2,  2224.2,2,  2310.6,2,   1101.9,6,    20.00,   7.5861,2,    25.00,-999.000,9,-999.0000,9, -999.00,9,   3.5963,2, -999.00,9,  -999.0,9,  -999.0,   1.710,3, -999.00,9, -999.00,9,  999.60,   3.5238
33RO20100308,      A13.5,      52,          1,         14,      11708,2,20100327,       0819,   -28.4998,     1.7513,       4172,  1199.7,   3.2092,  34.5605,2,  34.5609,2, 177.2000,2,   177.7,2,   54.54,2,   32.45,2,    0.00,2,    2.26,2,-999.000,9,-999.000,9,-999.0000,9,  2234.2,6,  2322.1,6,   1110.7,2,    20.00,   7.5864,2,    25.00,-999.000,9,-999.0000,9, -999.00,9,   3.2089,2, -999.00,9,  -999.0,9,  -999.0,-999.000,9, -999.00,9, -999.00,9, 1199.70,   3.1238
33RO20100308,      A13.5,      52,          1,         13,      11031,2,20100327,       0819,   -28.4998,     1.7513,       4172,  1400.7,   3.1297,  34.6907,2,  34.6934,2, 187.9000,2,   188.4,6,   51.24,2,   29.93,2,    0.00,2,    2.07,2,   0.117,2,   0.057,2,   0.0350,2,  2225.0,2,  2325.1,2,   1025.6,2,    20.00,   7.6170,2,    25.00,-999.000,9,-999.0000,9, -999.00,9,   3.1289,2, -999.00,9,  -999.0,9,  -999.0,   0.287,3, -999.00,9, -999.00,9, 1400.70,   3.0284
33RO20100308,      A13.5,      52,          1,         12,      11027,2,20100327,       0819,   -28.4998,     1.7513,       4172,  1600.1,   3.1138,  34.7704,2,  34.7702,2, 200.4000,2,   200.3,6,   46.77,2,   27.66,2,    0.00,2,    1.90,2,-999.000,9,-999.000,9,-999.0000,9,  2213.7,2,  2324.8,2,    953.8,2,    20.00,   7.6463,2,    25.00,-999.000,9,-999.0000,9, -999.00,9,   3.1137,2, -999.00,9,  -999.0,9,  -999.0,-999.000,9, -999.00,9, -999.00,9, 1600.10,   2.9956
33RO20100308,      A13.5,      52,          1,         11,      11707,2,20100327,       0819,   -28.4998,     1.7513,       4172,  1801.0,   3.0244,  34.8205,2,  34.8200,2, 212.8000,2,   212.4,2,   44.44,2,   25.96,2,    0.00,2,    1.77,2,   0.025,2,   0.013,2,   0.0000,2,  2206.2,2,  2327.2,2,    901.9,2,    20.00,   7.6701,2,    25.00,-999.000,9,-999.0000,9, -999.00,9,   3.0240,2, -999.00,9,  -999.0,9,  -999.0,   0.097,3, -999.00,9, -999.00,9, 1801.00,   2.8897
33RO20100308,      A13.5,      52,          1,         10,      11003,2,20100327,       0819,   -28.4998,     1.7513,       4172,  1998.4,   2.8467,  34.8391,2,  34.8386,2, 220.3000,2,   220.4,2,   45.92,2,   25.14,2,    0.00,2,    1.72,2,-999.000,9,-999.000,9,-999.0000,9,  2204.0,2,  2328.9,2,    875.5,2,    20.00,   7.6836,2,    25.00,-999.000,9,-999.0000,9, -999.00,9,   2.8466,2, -999.00,9,  -999.0,9,  -999.0,-999.000,9, -999.00,9, -999.00,9, 1998.40,   2.6969
33RO20100308,      A13.5,      52,          1,          9,      11706,2,20100327,       0819,   -28.4998,     1.7513,       4172,  2199.7,   2.6236,  34.8402,2,  34.8382,2, 222.6000,2,   223.0,2,   50.50,2,   25.08,2,    0.00,2,    1.72,2,   0.016,2,   0.009,2,   0.0480,2,  2206.7,2,  2333.5,2,    863.2,2,    20.00,   7.6861,2,    25.00,-999.000,9,-999.0000,9, -999.00,9,   2.6248,2, -999.00,9,  -999.0,9,  -999.0,   0.076,3, -999.00,9, -999.00,9, 2199.70,   2.4590
33RO20100308,      A13.5,      52,          1,          8,      11033,2,20100327,       0819,   -28.4998,     1.7513,       4172,  2399.7,   2.4788,  34.8454,2,  34.8448,2, 225.6000,2,   226.2,2,   52.94,2,   24.86,2,    0.00,2,    1.70,2,-999.000,9,-999.000,9,-999.0000,9,  2208.2,2,  2334.4,2,    853.9,2,    20.00,   7.6905,2,    25.00,-999.000,9,-999.0000,9, -999.00,9,   2.4784,2, -999.00,9,  -999.0,9,  -999.0,-999.000,9, -999.00,9, -999.00,9, 2399.70,   2.2982
33RO20100308,      A13.5,      52,          1,          7,      11705,2,20100327,       0819,   -28.4998,     1.7513,       4172,  2600.1,   2.4009,  34.8530,2,  34.8525,2, 228.8000,2,   229.4,2,   53.58,6,   24.48,6,    0.00,6,    1.67,6,   0.009,2,   0.006,2,   0.0000,2,  2206.9,2,  2337.6,2,    837.8,2,    20.00,   7.6983,2,    25.00,-999.000,9,-999.0000,9, -999.00,9,   2.4008,2, -999.00,9,  -999.0,9,  -999.0,   0.064,3, -999.00,9, -999.00,9, 2600.10,   2.2028
33RO20100308,      A13.5,      52,          1,          6,      11029,2,20100327,       0819,   -28.4998,     1.7513,       4172,  2799.4,   2.3514,  34.8607,2,  34.8603,2, 231.6000,2,   232.2,2,   53.67,6,   24.17,6,    0.00,6,    1.65,6,-999.000,9,-999.000,9,-999.0000,9,  2206.4,2,  2339.6,2,    825.6,2,    20.00,   7.7043,2,    25.00,-999.000,9,-999.0000,9, -999.00,9,   2.3507,2, -999.00,9,  -999.0,9,  -999.0,-999.000,9, -999.00,9, -999.00,9, 2799.40,   2.1350
33RO20100308,      A13.5,      52,          1,          5,      11704,2,20100327,       0819,   -28.4998,     1.7513,       4172,  3000.2,   2.3126,  34.8675,2,  34.8668,2, 232.6000,2,   233.0,2,   53.93,6,   23.93,6,    0.00,6,    1.63,6,   0.005,2,   0.004,2,   0.0000,2,  2206.9,2,  2344.3,2,    818.9,2,    20.00,   7.7097,2,    25.00,-999.000,9,-999.0000,9, -999.00,9,   2.3123,2, -999.00,9,  -999.0,9,  -999.0,   0.044,3, -999.00,9, -999.00,9, 3000.20,   2.0770
33RO20100308,      A13.5,      52,          1,          4,      11030,2,20100327,       0819,   -28.4998,     1.7513,       4172,  3300.2,   2.3047,  34.8773,2,  34.8789,2, 232.5000,2,   232.5,2,   53.50,6,   23.69,6,    0.00,6,    1.61,6,-999.000,9,-999.000,9,-999.0000,9,  2210.9,2,  2350.1,2,    807.3,2,    20.00,   7.7163,2,    25.00,-999.000,9,-999.0000,9, -999.00,9,   2.3042,2, -999.00,9,  -999.0,9,  -999.0,-999.000,9, -999.00,9, -999.00,9, 3300.20,   2.0384
33RO20100308,      A13.5,      52,          1,          3,      11703,2,20100327,       0819,   -28.4998,     1.7513,       4172,  3599.7,   2.3023,  34.8807,2,  34.8832,2, 231.9000,2,   232.0,2,   53.98,6,   23.66,6,    0.00,6,    1.61,6,   0.003,2,   0.004,2,   0.0580,2,  2212.9,2,  2353.5,2,    806.4,2,    20.00,   7.7189,2,    25.00,-999.000,9,-999.0000,9, -999.00,9,   2.3019,2, -999.00,9,  -999.0,9,  -999.0,   0.017,3, -999.00,9, -999.00,9, 3599.70,   2.0041
33RO20100308,      A13.5,      52,          1,          2,      11702,9,20100327,       0819,   -28.4998,     1.7513,       4172,  3896.0,   2.3228,  34.8818,2,-999.0000,9, 232.0000,2,  -999.0,9, -999.00,9, -999.00,9, -999.00,9, -999.00,9,-999.000,9,-999.000,9,-999.0000,9,  -999.0,9,  -999.0,9,   -999.0,9,  -999.00,-999.0000,9,  -999.00,-999.000,9,-999.0000,9, -999.00,9,   2.3221,2, -999.00,9,  -999.0,9,  -999.0,-999.000,9, -999.00,9, -999.00,9, 3896.00,   1.9913
33RO20100308,      A13.5,      52,          1,          1,      11701,2,20100327,       0819,   -28.4998,     1.7513,       4172,  4229.1,   2.3641,  34.8836,2,  34.8836,2, 231.2000,2,   231.1,2,   53.80,6,   23.60,6,    0.00,6,    1.61,6,   0.005,2,   0.004,2,   0.0440,2,  2216.7,6,  2359.6,6,    804.3,2,    20.00,   7.7208,2,    25.00,-999.000,9,-999.0000,9, -999.00,9,   2.3634,2, -999.00,9,  -999.0,9,  -999.0,   0.015,3, -999.00,9, -999.00,9, 4229.10,   1.9932