BOTTLE,20130404CCHSIOCBG
EXPOCODE,SECT_ID,STNNBR,CASTNO,SAMPNO,BTLNBR,BTLNBR_FLAG_W,DATE,TIME,LATITUDE,LONGITUDE,DEPTH,CTDPRS,CTDTMP,CTDSAL,CTDSAL_FLAG_W,SALNTY,SALNTY_FLAG_W,CTDOXY,CTDOXY_FLAG_W,OXYGEN,OXYGEN_FLAG_W,SILCAT,SILCAT_FLAG_W,NITRAT,NITRAT_FLAG_W,NITRIT,NITRIT_FLAG_W,PHSPHT,PHSPHT_FLAG_W,CFC-11,CFC-11_FLAG_W,CFC-12,CFC-12_FLAG_W,SF6,SF6_FLAG_W,TCARBN,TCARBN_FLAG_W,ALKALI,ALKALI_FLAG_W,FCO2,FCO2_FLAG_W,FCO2TMP,PH_TOT,PH_TOT_FLAG_W,PH_TMP,TRITUM,TRITUM_FLAG_W,HELIUM,HELIUM_FLAG_W,DELHE3,DELHE3_FLAG_W,REFTMP,REFTMP_FLAG_W,DELC13,DELC13_FLAG_W,DELC14,DELC14_FLAG_W,C14ERR,CCL4,CCL4_FLAG_W,DOC,DOC_FLAG_W,TDN,TDN_FLAG_W,CTDRAW,THETA
,,,,,,,,,,,METERS,DBAR,ITS-90,PSS-78,,PSS-78,,UMOL/KG,,UMOL/KG,,UMOL/KG,,UMOL/KG,,UMOL/KG,,UMOL/KG,,PMOL/KG,,PMOL/KG,,FMOL/KG,,UMOL/KG,,UMOL/KG,,UATM,,DEG C,,,DEG C,TU,,NMOL/KG,,PERCNT,,DEG C,,/MILLE,,/MILLE,,/MILLE,PMOL/KG,,UMOL/KG,,UMOL/KG,,DBAR,DEG C
33RO20100308,      A13.5,     108,          1,         24,      11714,2,20100413,       0145,    -1.3337,       -3.0,       5040,     5.1,  28.6919,  35.0989,2,  35.1169,2, 197.1000,2,   197.2,2,    0.93,6,    0.11,6,    0.00,6,    0.04,6,   1.557,2,   0.987,2,   0.9820,2,  1975.8,6,  2301.2,2,    284.2,2,    20.00,   8.0947,2,    25.00,-999.000,9,-999.0000,9, -999.00,9,  28.6895,2, -999.00,9,  -999.0,9,  -999.0,   1.696,3, -999.00,9, -999.00,9,    5.10,  28.6907
33RO20100308,      A13.5,     108,          1,         23,      11716,2,20100413,       0145,    -1.3337,       -3.0,       5040,    40.5,  24.0392,  35.8879,2,  35.8940,2, 212.7000,2,   211.5,2,    1.34,2,    0.42,2,    0.01,2,    0.20,2,   1.871,2,   1.128,2,   0.8960,2,  2062.4,2,  2355.5,6,    355.5,6,    20.00,   8.0232,2,    25.00,-999.000,9,-999.0000,9, -999.00,9,  24.1740,3, -999.00,9,  -999.0,9,  -999.0,   0.906,3, -999.00,9, -999.00,9,   40.50,  24.0306
33RO20100308,      A13.5,     108,          1,         22,      11022,2,20100413,       0145,    -1.3337,       -3.0,       5040,    79.6,  15.8564,  35.6594,2,  35.6561,2, 139.8000,2,   138.4,2,    5.62,2,   15.24,2,    0.04,2,    1.06,2,   2.253,2,   1.282,2,   0.8190,2,  2161.0,2,  2341.8,2,    644.9,2,    20.00,   7.8005,2,    25.00,-999.000,9,-999.0000,9, -999.00,9,  15.8607,2, -999.00,9,  -999.0,9,  -999.0,   0.547,3, -999.00,9, -999.00,9,   79.60,  15.8439
33RO20100308,      A13.5,     108,          1,         21,      11010,2,20100413,       0145,    -1.3337,       -3.0,       5040,   119.4,  15.4156,  35.6132,2,  35.6108,2, 126.1000,2,   127.9,6,    6.35,2,   17.05,2,    0.02,2,    1.15,2,   2.227,2,   1.255,2,   0.7410,2,  2169.3,2,  2333.1,2,    690.9,2,    20.00,   7.7737,2,    25.00,-999.000,9,-999.0000,9, -999.00,9,  15.4180,2, -999.00,9,  -999.0,9,  -999.0,   0.441,3, -999.00,9, -999.00,9,  119.40,  15.3971
33RO20100308,      A13.5,     108,          1,         20,      11715,2,20100413,       0145,    -1.3337,       -3.0,       5040,   170.0,  14.9453,  35.5456,2,  35.5419,2, 122.4000,2,   116.3,2,    7.03,2,   19.11,2,    0.01,2,    1.26,2,   2.182,6,   1.221,6,   0.6790,6,  2177.7,2,  2314.2,6,    748.1,2,    20.00,   7.7429,2,    25.00,-999.000,9,-999.0000,9, -999.00,9,  14.9398,2, -999.00,9,  -999.0,9,  -999.0,   0.387,3, -999.00,9, -999.00,9,  170.00,  14.9195
33RO20100308,      A13.5,     108,          1,         19,      11007,2,20100413,       0145,    -1.3337,       -3.0,       5040,   250.0,  12.0579,  35.1679,2,  35.1692,2,  79.9000,2,    79.7,2,   10.75,2,   27.41,2,    0.01,2,    1.73,2,   1.726,2,   0.929,2,   0.3710,2,  2210.8,2,  2308.7,2,   1060.9,2,    20.00,   7.6034,2,    25.00,-999.000,9,-999.0000,9, -999.00,9,  12.0737,2, -999.00,9,  -999.0,9,  -999.0,   0.312,3, -999.00,9, -999.00,9,  250.00,  12.0250
33RO20100308,      A13.5,     108,          1,         18,      11710,2,20100413,       0145,    -1.3337,       -3.0,       5040,   299.8,  10.6790,  35.0068,2,  35.0087,2,  85.7000,2,    85.2,2,   12.77,2,   29.58,2,    0.00,2,    1.85,2,   1.510,2,   0.801,2,   0.2880,2,  2215.2,6,  2296.8,2,   1133.2,2,    20.00,   7.5785,2,    25.00,-999.000,9,-999.0000,9, -999.00,9,  10.6777,2, -999.00,9,  -999.0,9,  -999.0,   0.398,3, -999.00,9, -999.00,9,  299.80,  10.6425
33RO20100308,      A13.5,     108,          1,         17,      11025,2,20100413,       0145,    -1.3337,       -3.0,       5040,   349.7,   9.8224,  34.9088,2,  34.9057,2,  88.1000,2,    88.0,2,   14.28,2,   31.16,2,    0.01,2,    1.95,2,   1.350,2,   0.707,2,   0.2310,2,  2216.9,2,  2299.5,2,   1181.7,2,    20.00,   7.5594,2,    25.00,-999.000,9,-999.0000,9, -999.00,9,   9.8226,2, -999.00,9,  -999.0,9,  -999.0,   0.441,3, -999.00,9, -999.00,9,  349.70,   9.7820
33RO20100308,      A13.5,     108,          1,         16,      11709,2,20100413,       0145,    -1.3337,       -3.0,       5040,   399.9,   9.0810,  34.8259,2,  34.8142,2,  80.1000,2,    81.7,2,   16.23,2,   33.50,2,    0.00,2,    2.10,2,   1.084,2,   0.561,2,   0.1350,2,  2225.4,2,  2291.1,2,   1293.0,2,    20.00,   7.5232,2,    25.00,-999.000,9,-999.0000,9, -999.00,9,   9.0818,2, -999.00,9,  -999.0,9,  -999.0,   0.441,3, -999.00,9, -999.00,9,  399.90,   9.0369
33RO20100308,      A13.5,     108,          1,         15,      11006,2,20100413,       0145,    -1.3337,       -3.0,       5040,   550.4,   6.0424,  34.5230,2,  34.5235,2, 146.0000,2,   145.9,2,   23.22,2,   32.89,2,    0.00,2,    2.17,2,   0.936,2,   0.460,2,   0.0980,2,  2207.4,2,  2297.4,2,   1139.0,2,    20.00,   7.5720,2,    25.00,-999.000,9,-999.0000,9, -999.00,9,   6.0427,2, -999.00,9,  -999.0,9,  -999.0,   0.952,3, -999.00,9, -999.00,9,  550.40,   5.9939
33RO20100308,      A13.5,     108,          1,         14,      11708,2,20100413,       0145,    -1.3337,       -3.0,       5040,   699.5,   5.2534,  34.4949,2,  34.4954,2, 148.2000,2,   148.4,2,   27.56,2,   34.18,2,    0.00,2,    2.28,2,   0.542,2,   0.263,2,   0.0000,2,  2213.8,2,  2298.5,2,   1168.7,2,    20.00,   7.5603,2,    25.00,-999.000,9,-999.0000,9, -999.00,9,   5.2541,2, -999.00,9,  -999.0,9,  -999.0,   0.731,3, -999.00,9, -999.00,9,  699.50,   5.1953
33RO20100308,      A13.5,     108,          1,         13,      11031,2,20100413,       0145,    -1.3337,       -3.0,       5040,   899.5,   4.6485,  34.5491,2,  34.5518,2, 146.4000,2,   147.6,2,   31.66,2,   34.51,2,    0.00,2,    2.32,2,   0.098,2,   0.050,2,   0.0000,2,  2222.4,2,  2308.9,2,   1190.8,2,    20.00,   7.5553,2,    25.00,-999.000,9,-999.0000,9, -999.00,9,   4.6471,2, -999.00,9,  -999.0,9,  -999.0,   0.234,3, -999.00,9, -999.00,9,  899.50,   4.5766
33RO20100308,      A13.5,     108,          1,         12,      11027,2,20100413,       0145,    -1.3337,       -3.0,       5040,  1100.8,   4.5147,  34.6737,2,  34.6764,2, 160.4000,2,   161.8,2,   29.94,2,   31.80,2,    0.00,2,    2.14,2,   0.056,2,   0.030,2,   0.0000,2,  2215.6,2,  2309.5,2,   1095.8,2,    20.00,   7.5895,2,    25.00,-999.000,9,-999.0000,9, -999.00,9,   4.5146,2, -999.00,9,  -999.0,9,  -999.0,   0.165,3, -999.00,9, -999.00,9, 1100.80,   4.4259
33RO20100308,      A13.5,     108,          1,         11,      11707,2,20100413,       0145,    -1.3337,       -3.0,       5040,  1300.3,   4.4237,  34.8662,2,  34.8685,2, 191.8000,2,   193.9,2,   23.76,2,   26.25,2,    0.00,2,    1.75,2,-999.000,9,-999.000,9,-999.0000,9,  2197.3,2,  2309.5,2,    930.5,2,    20.00,   7.6559,2,    25.00,-999.000,9,-999.0000,9, -999.00,9,   4.4240,2, -999.00,9,  -999.0,9,  -999.0,-999.000,9, -999.00,9, -999.00,9, 1300.30,   4.3174
33RO20100308,      A13.5,     108,          1,         10,      11003,2,20100413,       0145,    -1.3337,       -3.0,       5040,  1500.5,   4.2602,  34.9647,2,  34.9658,2, 227.0000,2,   228.4,2,   18.39,2,   21.62,2,    0.00,2,    1.43,2,-999.000,9,-999.000,9,-999.0000,9,  2175.7,2,  2313.9,2,    810.5,2,    20.00,   7.7106,2,    25.00,-999.000,9,-999.0000,9, -999.00,9,   4.2610,2, -999.00,9,  -999.0,9,  -999.0,-999.000,9, -999.00,9, -999.00,9, 1500.50,   4.1370
33RO20100308,      A13.5,     108,          1,          9,      11706,2,20100413,       0145,    -1.3337,       -3.0,       5040,  1800.1,   3.9649,  34.9744,2,  34.9742,2, 240.4000,2,   240.5,2,   18.57,2,   20.47,2,    0.00,2,    1.35,2,   0.231,2,   0.113,2,   0.0000,2,  2169.8,2,  2311.6,2,    771.5,2,    20.00,   7.7272,2,    25.00,-999.000,9,-999.0000,9, -999.00,9,   3.9650,2, -999.00,9,  -999.0,9,  -999.0,   0.619,3, -999.00,9, -999.00,9, 1800.10,   3.8171
33RO20100308,      A13.5,     108,          1,          8,      11033,2,20100413,       0145,    -1.3337,       -3.0,       5040,  2200.2,   3.3136,  34.9502,2,  34.9506,2, 243.7000,2,   244.9,2,   26.12,6,   20.63,6,    0.00,6,    1.38,2,   0.057,2,   0.029,2,   0.0000,2,  2175.0,2,  2321.2,2,    764.9,2,    20.00,   7.7307,2,    25.00,-999.000,9,-999.0000,9, -999.00,9,   3.3159,2, -999.00,9,  -999.0,9,  -999.0,   0.250,3, -999.00,9, -999.00,9, 2200.20,   3.1373
33RO20100308,      A13.5,     108,          1,          7,      11705,2,20100413,       0145,    -1.3337,       -3.0,       5040,  2600.7,   2.8284,  34.9197,2,  34.9214,2, 240.1000,2,   241.6,2,   36.25,6,   21.75,6,    0.00,6,    1.44,6,   0.017,2,   0.009,2,   0.0000,2,  2186.2,2,  2328.8,2,    778.6,2,    20.00,   7.7255,2,    25.00,-999.000,9,-999.0000,9, -999.00,9,   2.8281,2, -999.00,9,  -999.0,9,  -999.0,   0.099,3, -999.00,9, -999.00,9, 2600.70,   2.6218
33RO20100308,      A13.5,     108,          1,          6,      11029,2,20100413,       0145,    -1.3337,       -3.0,       5040,  3001.4,   2.5871,  34.9040,2,  34.9056,2, 238.9000,2,   241.6,2,   41.84,6,   22.27,6,    0.00,6,    1.49,6,-999.000,9,-999.000,9,-999.0000,9,  2192.7,2,  2337.5,2,    783.8,2,    20.00,   7.7228,2,    25.00,-999.000,9,-999.0000,9, -999.00,9,   2.5868,2, -999.00,9,  -999.0,9,  -999.0,-999.000,9, -999.00,9, -999.00,9, 3001.40,   2.3452
33RO20100308,      A13.5,     108,          1,          5,      11704,2,20100413,       0145,    -1.3337,       -3.0,       5040,  3400.3,   2.4711,  34.8961,2,  34.8992,2, 240.2000,2,   241.5,6,   44.23,6,   22.35,6,    0.00,6,    1.49,6,-999.000,9,-999.000,9,-999.0000,9,  2195.1,2,  2339.8,6,    785.2,2,    20.00,   7.7237,2,    25.00,-999.000,9,-999.0000,9, -999.00,9,   2.4709,2, -999.00,9,  -999.0,9,  -999.0,-999.000,9, -999.00,9, -999.00,9, 3400.30,   2.1902
33RO20100308,      A13.5,     108,          1,          4,      11030,9,20100413,       0145,    -1.3337,       -3.0,       5040,  3799.6,   2.3784,  34.8881,2,-999.0000,9, 242.3000,2,  -999.0,9, -999.00,9, -999.00,9, -999.00,9, -999.00,9,-999.000,9,-999.000,9,-999.0000,9,  -999.0,9,  -999.0,9,   -999.0,9,  -999.00,-999.0000,9,  -999.00,-999.000,9,-999.0000,9, -999.00,9,   2.3782,2, -999.00,9,  -999.0,9,  -999.0,-999.000,9, -999.00,9, -999.00,9, 3799.60,   2.0562
33RO20100308,      A13.5,     108,          1,          3,      11703,2,20100413,       0145,    -1.3337,       -3.0,       5040,  4200.7,   2.3013,  34.8788,2,  34.8774,2, 243.8000,2,   243.6,2,   49.06,6,   22.56,6,    0.00,6,    1.51,6,-999.000,9,-999.000,9,-999.0000,9,  2198.9,2,  2341.1,2,    790.6,2,    20.00,   7.7201,2,    25.00,-999.000,9,-999.0000,9, -999.00,9,   2.3012,2, -999.00,9,  -999.0,9,  -999.0,-999.000,9, -999.00,9, -999.00,9, 4200.70,   1.9355
33RO20100308,      A13.5,     108,          1,          2,      11702,2,20100413,       0145,    -1.3337,       -3.0,       5040,  4600.8,   2.2235,  34.8678,2,  34.8676,2, 241.8000,2,   243.1,2,   52.82,6,   22.94,6,    0.00,6,    1.54,6,-999.000,9,-999.000,9,-999.0000,9,  2202.8,2,  2342.9,2,    799.8,2,    20.00,   7.7174,2,    25.00,-999.000,9,-999.0000,9, -999.00,9,   2.2229,2, -999.00,9,  -999.0,9,  -999.0,-999.000,9, -999.00,9, -999.00,9, 4600.80,   1.8127
33RO20100308,      A13.5,     108,          1,          1,      11701,2,20100413,       0145,    -1.3337,       -3.0,       5040,  5098.4,   2.1903,  34.8584,2,  34.8581,2, 241.6000,2,   241.2,2,   56.33,6,   23.35,6,    0.00,6,    1.57,6,-999.000,9,-999.000,9,-999.0000,9,  2209.4,6,  2349.5,2,    807.6,2,    20.00,   7.7137,2,    25.00,-999.000,9,-999.0000,9, -999.00,9,   2.1898,2, -999.00,9,  -999.0,9,  -999.0,-999.000,9, -999.00,9, -999.00,9, 5098.40,   1.7190