BOTTLE,20130404CCHSIOCBG
EXPOCODE,SECT_ID,STNNBR,CASTNO,SAMPNO,BTLNBR,BTLNBR_FLAG_W,DATE,TIME,LATITUDE,LONGITUDE,DEPTH,CTDPRS,CTDTMP,CTDSAL,CTDSAL_FLAG_W,SALNTY,SALNTY_FLAG_W,CTDOXY,CTDOXY_FLAG_W,OXYGEN,OXYGEN_FLAG_W,SILCAT,SILCAT_FLAG_W,NITRAT,NITRAT_FLAG_W,NITRIT,NITRIT_FLAG_W,PHSPHT,PHSPHT_FLAG_W,CFC-11,CFC-11_FLAG_W,CFC-12,CFC-12_FLAG_W,SF6,SF6_FLAG_W,TCARBN,TCARBN_FLAG_W,ALKALI,ALKALI_FLAG_W,FCO2,FCO2_FLAG_W,FCO2TMP,PH_TOT,PH_TOT_FLAG_W,PH_TMP,TRITUM,TRITUM_FLAG_W,HELIUM,HELIUM_FLAG_W,DELHE3,DELHE3_FLAG_W,REFTMP,REFTMP_FLAG_W,DELC13,DELC13_FLAG_W,DELC14,DELC14_FLAG_W,C14ERR,CCL4,CCL4_FLAG_W,DOC,DOC_FLAG_W,TDN,TDN_FLAG_W,CTDRAW,THETA
,,,,,,,,,,,METERS,DBAR,ITS-90,PSS-78,,PSS-78,,UMOL/KG,,UMOL/KG,,UMOL/KG,,UMOL/KG,,UMOL/KG,,UMOL/KG,,PMOL/KG,,PMOL/KG,,FMOL/KG,,UMOL/KG,,UMOL/KG,,UATM,,DEG C,,,DEG C,TU,,NMOL/KG,,PERCNT,,DEG C,,/MILLE,,/MILLE,,/MILLE,PMOL/KG,,UMOL/KG,,UMOL/KG,,DBAR,DEG C
33RO20100308,      A13.5,      79,          3,         24,      11714,2,20100405,       0229,      -15.0,        1.0,       5413,     5.5,  25.0104,  36.7540,2,  36.7559,2, 209.3000,2,   209.1,2,    0.70,6,    0.01,6,    0.00,6,    0.16,6,   1.519,3,   0.950,3,   0.9150,3,  2084.2,6,  2412.9,2,    329.5,2,    20.00,   8.0614,2,    25.00,-999.000,9,-999.0000,9, -999.00,9,-999.0000,9,    1.68,2,    56.4,2,     3.0,   1.716,3,   72.09,2,    5.24,2,    5.50,  25.0092
33RO20100308,      A13.5,      79,          3,         23,      11713,2,20100405,       0229,      -15.0,        1.0,       5413,    40.1,  21.8642,  36.2873,2,  36.2805,2, 254.9000,2,   255.0,6,    0.90,2,    0.10,2,    0.01,2,    0.25,2,   2.136,2,   1.313,2,   1.1450,2,  2077.7,2,  2379.3,6,    351.7,2,    20.00,   8.0346,2,    25.00,-999.000,9,-999.0000,9, -999.00,9,-999.0000,9,    1.64,2,    49.3,2,     2.9,   1.367,3,   70.73,2,    5.49,2,   40.10,  21.8563
33RO20100308,      A13.5,      79,          3,         22,      11712,2,20100405,       0229,      -15.0,        1.0,       5413,    79.5,  18.9194,  36.1701,2,  36.1639,2, 182.7000,2,   181.4,2,    2.41,2,    7.69,2,    0.46,2,    0.70,2,   2.147,2,   1.282,2,   1.0610,2,  2137.5,2,  2370.4,6,    491.4,6,    20.00,   7.9049,2,    25.00,-999.000,9,-999.0000,9, -999.00,9,-999.0000,9,    1.06,2,    49.8,2,     3.0,   1.178,3,   58.62,2,   11.55,2,   79.50,  18.9052
33RO20100308,      A13.5,      79,          3,         21,      11010,2,20100405,       0229,      -15.0,        1.0,       5413,   149.4,  13.6364,  35.3493,2,  35.3554,2,  86.7000,2,    81.5,2,    6.77,2,   24.01,2,    0.02,2,    1.55,2,   2.296,2,   1.291,2,   0.7910,2,  2205.1,2,  2312.9,2,    986.0,2,    20.00,   7.6326,2,    25.00,-999.000,9,-999.0000,9, -999.00,9,-999.0000,9,    0.34,2,    45.8,2,     3.2,   0.390,3,   47.17,2,   27.42,2,  149.40,  13.6152
33RO20100308,      A13.5,      79,          3,         20,      11715,2,20100405,       0229,      -15.0,        1.0,       5413,   209.9,  11.8427,  35.1169,2,  35.1172,2,  62.7000,2,    62.7,2,   10.01,2,   29.07,2,    0.01,2,    1.86,2,   1.818,2,   0.987,2,   0.4230,2,  2222.5,2,  2303.8,2,   1198.7,2,    20.00,   7.5528,2,    25.00,-999.000,9,-999.0000,9, -999.00,9,-999.0000,9,    0.36,2,    23.8,2,     2.8,   0.296,3,   45.08,2,   31.52,2,  209.90,  11.8155
33RO20100308,      A13.5,      79,          3,         19,      11007,2,20100405,       0229,      -15.0,        1.0,       5413,   270.1,  10.7044,  34.9977,2,  34.9979,2,  52.7000,2,    52.4,2,   12.54,2,   32.30,2,    0.01,2,    2.05,2,   1.267,2,   0.674,2,   0.2280,2,  2233.4,6,  2301.3,2,   1343.8,2,    20.00,   7.5077,2,    25.00,-999.000,9,-999.0000,9, -999.00,9,-999.0000,9,    0.36,2,     2.2,2,     2.9,   0.249,3,   43.48,2,   34.03,2,  270.10,  10.6716
33RO20100308,      A13.5,      79,          3,         18,      11710,2,20100405,       0229,      -15.0,        1.0,       5413,   350.4,   9.3687,  34.8575,2,  34.8592,2,  54.7000,2,    54.0,2,   15.38,2,   34.77,2,    0.00,2,    2.20,2,   0.726,2,   0.380,2,   0.0740,2,  2238.5,2,  2296.1,2,   1439.7,2,    20.00,   7.4847,2,    25.00,-999.000,9,-999.0000,9, -999.00,9,-999.0000,9,    0.37,2,   -32.1,2,     2.8,   0.215,3,   42.30,2,   36.45,2,  350.40,   9.3294
33RO20100308,      A13.5,      79,          3,         17,      11025,2,20100405,       0229,      -15.0,        1.0,       5413,   400.3,   8.5675,  34.7755,2,  34.7752,2,  62.7000,2,    60.0,2,   17.18,2,   35.93,2,    0.00,2,    2.28,2,   0.507,2,   0.267,2,   0.0470,2,  2237.8,2,  2294.6,6,   1457.3,6,    20.00,   7.4749,2,    25.00,-999.000,9,-999.0000,9, -999.00,9,-999.0000,9,    0.38,2,   -51.6,2,     2.7,   0.218,3,   41.63,2,   37.42,2,  400.30,   8.5249
33RO20100308,      A13.5,      79,          3,         16,      11709,2,20100405,       0229,      -15.0,        1.0,       5413,   499.3,   7.3419,  34.6575,2,  34.6614,2,  73.2000,2,    73.1,2,   20.39,2,   37.45,2,    0.00,2,    2.39,2,   0.287,2,   0.151,2,   0.0000,2,  2238.7,2,  2291.5,2,   1489.7,2,    20.00,   7.4669,2,    25.00,-999.000,9,-999.0000,9, -999.00,9,-999.0000,9,    0.46,2,   -78.8,2,     2.7,   0.238,3,   40.66,2,   39.07,2,  499.30,   7.2931
33RO20100308,      A13.5,      79,          3,         15,      11006,2,20100405,       0229,      -15.0,        1.0,       5413,   701.2,   5.5629,  34.5171,2,  34.5195,2, 108.5000,2,   108.8,2,   27.01,2,   37.65,2,    0.00,2,    2.46,2,   0.124,2,   0.067,2,   0.0000,2,  2232.6,2,  2293.8,2,   1394.8,2,    20.00,   7.4925,2,    25.00,-999.000,9,-999.0000,9, -999.00,9,-999.0000,9,    0.59,2,  -105.6,2,     3.8,   0.248,3,   39.88,2,   38.98,2,  701.20,   5.5030
33RO20100308,      A13.5,      79,          3,         14,      11708,2,20100405,       0229,      -15.0,        1.0,       5413,   900.1,   4.3868,  34.5031,2,  34.5032,2, 133.8000,2,   132.9,2,   34.64,2,   36.58,2,    0.00,2,    2.45,2,   0.023,2,   0.014,2,   0.0000,2,  2231.1,2,  2297.8,2,   1310.2,2,    20.00,   7.5188,2,    25.00,-999.000,9,-999.0000,9, -999.00,9,-999.0000,9,    0.65,2,  -126.7,2,     2.4,   0.105,3,   39.58,2,   37.94,2,  900.10,   4.3167
33RO20100308,      A13.5,      79,          3,         13,      11031,2,20100405,       0229,      -15.0,        1.0,       5413,  1099.2,   3.9268,  34.6065,2,  34.6051,2, 153.7000,2,   154.1,2,   37.03,2,   33.66,2,    0.00,2,    2.28,2,   0.007,2,   0.005,2,   0.0000,2,  2225.3,2,  2257.0,4,   1188.7,2,    20.00,   7.5580,2,    25.00,-999.000,9,-999.0000,9, -999.00,9,-999.0000,9,    0.68,2,  -125.0,2,     2.5,   0.043,3,   39.36,2,   35.61,2, 1099.20,   3.8432
33RO20100308,      A13.5,      79,          3,         12,      11027,2,20100405,       0229,      -15.0,        1.0,       5413,  1300.9,   3.7750,  34.7488,2,  34.7466,2, 174.6000,2,   174.5,2,   34.61,2,   30.02,2,    0.00,2,    2.04,2,   0.002,2,   0.002,2,   0.0000,2,  2214.3,2,  2311.8,2,   1062.5,2,    20.00,   7.6050,2,    25.00,-999.000,9,-999.0000,9, -999.00,9,-999.0000,9,    0.73,2,  -122.4,2,     2.4,   0.016,3,   38.89,2,   31.84,2, 1300.90,   3.6753
33RO20100308,      A13.5,      79,          3,         11,      11707,2,20100405,       0229,      -15.0,        1.0,       5413,  1601.8,   3.6550,  34.8771,2,  34.8758,2, 206.2000,2,   206.1,2,   29.04,2,   25.41,2,    0.00,2,    1.70,2,   0.003,2,   0.002,2,   0.0000,2,  2194.0,2,  2314.7,2,    904.4,2,    20.00,   7.6703,2,    25.00,-999.000,9,-999.0000,9, -999.00,9,-999.0000,9,    0.90,2,  -107.8,2,     2.6,   0.020,3,   39.43,2,   27.25,2, 1601.80,   3.5298
33RO20100308,      A13.5,      79,          3,         10,      11003,2,20100405,       0229,      -15.0,        1.0,       5413,  1899.7,   3.4324,  34.9135,2,  34.9135,2, 220.6000,2,   219.9,2,   29.58,2,   23.73,2,    0.00,2,    1.58,2,   0.003,2,   0.003,2,   0.0000,2,  2188.5,2,  2318.7,2,    851.9,2,    20.00,   7.6939,2,    25.00,-999.000,9,-999.0000,9, -999.00,9,-999.0000,9,    0.91,2,  -110.5,2,     2.9,   0.020,3,   39.58,2,   25.33,2, 1899.70,   3.2828
33RO20100308,      A13.5,      79,          3,          9,      11706,2,20100405,       0229,      -15.0,        1.0,       5413,  2198.4,   3.1568,  34.9185,2,  34.9170,2, 227.5000,2,   227.3,2,   33.19,2,   23.18,2,    0.00,2,    1.55,2,   0.002,2,   0.001,2,   0.0000,2,  2189.4,2,  2323.2,2,    823.0,2,    20.00,   7.7045,2,    25.00,-999.000,9,-999.0000,9, -999.00,9,-999.0000,9,    0.93,2,  -112.1,2,     2.7,   0.013,3,   39.86,2,   24.64,2, 2198.40,   2.9834
33RO20100308,      A13.5,      79,          3,          8,      11033,2,20100405,       0229,      -15.0,        1.0,       5413,  2500.0,   2.9060,  34.9119,2,  34.9126,2, 231.5000,2,   231.1,2,   37.56,2,   22.99,2,    0.00,2,    1.54,2,   0.003,2,   0.002,2,   0.0000,2,  2191.0,2,  2330.0,2,    812.8,2,    20.00,   7.7102,2,    25.00,-999.000,9,-999.0000,9, -999.00,9,-999.0000,9,    0.97,2,  -121.6,2,     2.9,   0.010,3,   39.43,2,   24.37,2, 2500.00,   2.7079
33RO20100308,      A13.5,      79,          3,          7,      11705,2,20100405,       0229,      -15.0,        1.0,       5413,  2800.1,   2.7046,  34.9044,3,  34.9096,4, 233.1000,2,   232.7,2,   41.99,2,   23.12,2,    0.00,2,    1.54,2,   0.004,2,   0.003,2,   0.0000,2,  2195.8,2,  2335.3,2,    809.8,2,    20.00,   7.7121,2,    25.00,-999.000,9,-999.0000,9, -999.00,9,-999.0000,9,    0.95,2,  -123.6,2,     2.4,   0.010,3,   39.21,2,   24.23,2, 2800.10,   2.4807
33RO20100308,      A13.5,      79,          3,          6,      11029,2,20100405,       0229,      -15.0,        1.0,       5413,  3100.0,   2.5632,  34.8986,2,  34.8973,2, 230.4000,2,   229.6,2,   46.67,6,   23.40,6,    0.00,6,    1.57,6,   0.002,2,   0.002,2,   0.0000,2,  2203.8,2,  2342.1,2,    818.6,2,    20.00,   7.7086,2,    25.00,-999.000,9,-999.0000,9, -999.00,9,-999.0000,9,    0.90,2,  -128.5,2,     2.5,   0.007,3,   40.05,2,   24.88,2, 3100.00,   2.3117
33RO20100308,      A13.5,      79,          3,          5,      11704,2,20100405,       0229,      -15.0,        1.0,       5413,  3500.8,   2.4288,  34.8919,2,  34.8903,2, 228.7000,2,   229.2,2,   51.00,6,   23.63,6,    0.00,6,    1.59,6,   0.002,2,   0.001,2,   0.0000,2,  2211.1,2,  2352.8,2,    815.5,2,    20.00,   7.7115,2,    25.00,-999.000,9,-999.0000,9, -999.00,9,-999.0000,9,    0.88,2,  -126.2,2,     2.5,   0.007,3,   40.35,2,   25.28,2, 3500.80,   2.1381
33RO20100308,      A13.5,      79,          3,          4,      11030,9,20100405,       0229,      -15.0,        1.0,       5413,  3900.1,   2.3807,  34.8894,2,-999.0000,9, 231.3000,2,  -999.0,9, -999.00,9, -999.00,9, -999.00,9, -999.00,9,-999.000,9,-999.000,9,-999.0000,9,  -999.0,9,  -999.0,9,   -999.0,9,  -999.00,-999.0000,9,  -999.00,-999.000,9,-999.0000,9, -999.00,9,-999.0000,9, -999.00,9,  -999.0,9,  -999.0,-999.000,9, -999.00,9, -999.00,9, 3900.10,   2.0471
33RO20100308,      A13.5,      79,          3,          3,      11703,2,20100405,       0229,      -15.0,        1.0,       5413,  4300.0,   2.3769,  34.8861,2,  34.8848,2, 232.3000,2,   232.9,2,   52.28,6,   23.40,6,    0.00,6,    1.56,6,   0.004,2,   0.003,2,   0.0000,2,  2212.4,2,  2355.7,2,    804.1,2,    20.00,   7.7173,2,    25.00,-999.000,9,-999.0000,9, -999.00,9,-999.0000,9,    0.87,2,  -121.3,2,     2.8,   0.022,3,   40.59,2,   25.11,2, 4300.00,   1.9972
33RO20100308,      A13.5,      79,          3,          2,      11702,2,20100405,       0229,      -15.0,        1.0,       5413,  4800.8,   2.3955,  34.8819,2,  34.8812,2, 233.9000,2,   234.8,6,   52.60,6,   23.33,6,    0.00,6,    1.56,6,   0.005,2,   0.004,2,   0.0000,2,  2211.7,2,  2354.5,2,    802.9,2,    20.00,   7.7186,2,    25.00,-999.000,9,-999.0000,9, -999.00,9,-999.0000,9,    0.87,2,  -117.0,2,     2.5,   0.042,3,   40.33,2,   25.17,2, 4800.80,   1.9546
33RO20100308,      A13.5,      79,          3,          1,      11701,2,20100405,       0229,      -15.0,        1.0,       5413,  5495.3,   2.4554,  34.8784,2,  34.8768,2, 235.5000,2,   235.8,2,   53.14,6,   23.31,6,    0.00,6,    1.55,6,   0.008,2,   0.006,2,   0.0000,2,  2211.2,6,  2355.7,2,    802.5,2,    20.00,   7.7186,2,    25.00,-999.000,9,-999.0000,9, -999.00,9,-999.0000,9,    0.97,2,  -124.4,6,     5.9,   0.059,3,   40.42,2,   25.42,2, 5495.30,   1.9232