BOTTLE,20130404CCHSIOCBG
EXPOCODE,SECT_ID,STNNBR,CASTNO,SAMPNO,BTLNBR,BTLNBR_FLAG_W,DATE,TIME,LATITUDE,LONGITUDE,DEPTH,CTDPRS,CTDTMP,CTDSAL,CTDSAL_FLAG_W,SALNTY,SALNTY_FLAG_W,CTDOXY,CTDOXY_FLAG_W,OXYGEN,OXYGEN_FLAG_W,SILCAT,SILCAT_FLAG_W,NITRAT,NITRAT_FLAG_W,NITRIT,NITRIT_FLAG_W,PHSPHT,PHSPHT_FLAG_W,CFC-11,CFC-11_FLAG_W,CFC-12,CFC-12_FLAG_W,SF6,SF6_FLAG_W,TCARBN,TCARBN_FLAG_W,ALKALI,ALKALI_FLAG_W,FCO2,FCO2_FLAG_W,FCO2TMP,PH_TOT,PH_TOT_FLAG_W,PH_TMP,TRITUM,TRITUM_FLAG_W,HELIUM,HELIUM_FLAG_W,DELHE3,DELHE3_FLAG_W,REFTMP,REFTMP_FLAG_W,DELC13,DELC13_FLAG_W,DELC14,DELC14_FLAG_W,C14ERR,CCL4,CCL4_FLAG_W,DOC,DOC_FLAG_W,TDN,TDN_FLAG_W,CTDRAW,THETA
,,,,,,,,,,,METERS,DBAR,ITS-90,PSS-78,,PSS-78,,UMOL/KG,,UMOL/KG,,UMOL/KG,,UMOL/KG,,UMOL/KG,,UMOL/KG,,PMOL/KG,,PMOL/KG,,FMOL/KG,,UMOL/KG,,UMOL/KG,,UATM,,DEG C,,,DEG C,TU,,NMOL/KG,,PERCNT,,DEG C,,/MILLE,,/MILLE,,/MILLE,PMOL/KG,,UMOL/KG,,UMOL/KG,,DBAR,DEG C
33RO20100308,      A13.5,      38,          1,         24,      11714,2,20100323,       1832,   -35.4997,     1.0507,       4904,     6.4,  20.0707,  35.4980,2,  35.4984,2, 228.8000,2,   230.2,2,    0.97,2,    0.00,2,    0.00,2,    0.16,2,   2.201,2,   1.335,2,   1.2930,2,  2067.8,6,  2339.0,2,    388.1,2,    20.00,   7.9903,2,    25.00,-999.000,9,-999.0000,9, -999.00,9,  20.0646,2, -999.00,9,  -999.0,9,  -999.0,   2.533,3, -999.00,9, -999.00,9,    6.40,  20.0695
33RO20100308,      A13.5,      38,          1,         23,      11713,2,20100323,       1832,   -35.4997,     1.0507,       4904,    30.5,  19.9599,  35.4696,2,  35.4494,2, 230.0000,2,   231.8,2,    0.93,2,    0.00,2,    0.00,2,    0.16,2,-999.000,9,-999.000,9,-999.0000,9,  2066.4,2,  2337.1,2,    388.4,6,    20.00,   7.9888,2,    25.00,-999.000,9,-999.0000,9, -999.00,9,  19.9543,2, -999.00,9,  -999.0,9,  -999.0,-999.000,9, -999.00,9, -999.00,9,   30.50,  19.9543
33RO20100308,      A13.5,      38,          1,         22,      11712,2,20100323,       1832,   -35.4997,     1.0507,       4904,    75.1,  16.0302,  35.3307,2,  35.3314,2, 248.8000,2,   249.2,2,    0.94,2,    0.06,2,    0.01,2,    0.20,2,-999.000,9,-999.000,9,-999.0000,9,  2073.0,2,  2329.8,2,    415.6,2,    20.00,   7.9610,2,    25.00,-999.000,9,-999.0000,9, -999.00,9,  16.0359,2, -999.00,9,  -999.0,9,  -999.0,-999.000,9, -999.00,9, -999.00,9,   75.10,  16.0183
33RO20100308,      A13.5,      38,          1,         21,      11010,2,20100323,       1832,   -35.4997,     1.0507,       4904,   101.2,  15.2159,  35.4116,2,  35.4105,2, 228.0000,2,   228.0,2,    1.99,2,    3.38,2,    0.08,2,    0.41,2,   2.687,6,   1.597,6,   1.3580,6,  2094.7,2,  2331.7,2,    468.3,2,    20.00,   7.9260,2,    25.00,-999.000,9,-999.0000,9, -999.00,9,  15.2257,2, -999.00,9,  -999.0,9,  -999.0,   1.604,3, -999.00,9, -999.00,9,  101.20,  15.2004
33RO20100308,      A13.5,      38,          1,         20,      11715,2,20100323,       1832,   -35.4997,     1.0507,       4904,   200.2,  13.5526,  35.2359,2,  35.2358,2, 216.9000,2,   215.6,2,    3.27,2,    8.29,2,    0.01,2,    0.69,2,-999.000,9,-999.000,9,-999.0000,9,  2114.2,2,  2320.0,2,    541.9,2,    20.00,   7.8662,2,    25.00,-999.000,9,-999.0000,9, -999.00,9,  13.5520,2, -999.00,9,  -999.0,9,  -999.0,-999.000,9, -999.00,9, -999.00,9,  200.20,  13.5242
33RO20100308,      A13.5,      38,          1,         19,      11007,2,20100323,       1832,   -35.4997,     1.0507,       4904,   299.2,  12.1153,  35.0680,2,  35.0666,2, 216.2000,2,   216.1,2,    3.96,2,   11.38,2,    0.00,2,    0.88,2,   3.064,2,   1.754,2,   1.2900,2,  2124.7,2,  2311.4,2,    598.6,2,    20.00,   7.8296,2,    25.00,-999.000,9,-999.0000,9, -999.00,9,  12.1147,2, -999.00,9,  -999.0,9,  -999.0,   1.239,3, -999.00,9, -999.00,9,  299.20,  12.0758
33RO20100308,      A13.5,      38,          1,         18,      11710,2,20100323,       1832,   -35.4997,     1.0507,       4904,   399.9,  10.4602,  34.8489,2,  34.8476,2, 211.2000,2,   210.1,2,    6.37,2,   15.95,2,    0.00,2,    1.17,2,-999.000,9,-999.000,9,-999.0000,9,  2138.5,2,  2302.2,2,    680.3,2,    20.00,   7.7748,2,    25.00,-999.000,9,-999.0000,9, -999.00,9,  10.4581,2, -999.00,9,  -999.0,9,  -999.0,-999.000,9, -999.00,9, -999.00,9,  399.90,  10.4121
33RO20100308,      A13.5,      38,          1,         17,      11025,2,20100323,       1832,   -35.4997,     1.0507,       4904,   651.2,   6.1562,  34.3611,2,  34.3617,2, 226.0000,2,   226.2,2,   12.40,2,   25.17,2,    0.00,2,    1.76,2,   3.522,2,   1.849,2,   1.0170,2,  2161.3,2,  2285.1,2,    867.9,2,    20.00,   7.6805,2,    25.00,-999.000,9,-999.0000,9, -999.00,9,   6.1573,2, -999.00,9,  -999.0,9,  -999.0,   3.058,3, -999.00,9, -999.00,9,  651.20,   6.0980
33RO20100308,      A13.5,      38,          1,         16,      11709,2,20100323,       1832,   -35.4997,     1.0507,       4904,   799.6,   4.6376,  34.2682,2,  34.2677,2, 231.1000,2,   232.0,2,   19.59,2,   28.23,2,    0.00,2,    1.96,2,-999.000,9,-999.000,9,-999.0000,9,  2173.4,2,  2287.5,2,    926.5,2,    20.00,   7.6534,2,    25.00,-999.000,9,-999.0000,9, -999.00,9,   4.6370,2, -999.00,9,  -999.0,9,  -999.0,-999.000,9, -999.00,9, -999.00,9,  799.60,   4.5747
33RO20100308,      A13.5,      38,          1,         15,      11006,2,20100323,       1832,   -35.4997,     1.0507,       4904,  1000.4,   4.0362,  34.3565,2,  34.3573,2, 199.6000,2,   200.1,6,   35.31,2,   31.39,2,    0.00,2,    2.20,2,   1.927,2,   0.942,2,   0.3220,2,  2204.1,2,  2301.0,2,   1052.1,2,    20.00,   7.6077,2,    25.00,-999.000,9,-999.0000,9, -999.00,9,   4.0358,2, -999.00,9,  -999.0,9,  -999.0,   2.264,3, -999.00,9, -999.00,9, 1000.40,   3.9605
33RO20100308,      A13.5,      38,          1,         14,      11708,2,20100323,       1832,   -35.4997,     1.0507,       4904,  1201.1,   3.5296,  34.4404,2,  34.4398,2, 182.8000,2,   184.8,2,   47.32,2,   32.81,2,    0.00,2,    2.31,2,-999.000,9,-999.000,9,-999.0000,9,  2223.4,6,  2313.9,2,   1116.7,2,    20.00,   7.5840,2,    25.00,-999.000,9,-999.0000,9, -999.00,9,   3.5296,2, -999.00,9,  -999.0,9,  -999.0,-999.000,9, -999.00,9, -999.00,9, 1201.10,   3.4414
33RO20100308,      A13.5,      38,          1,         13,      11031,2,20100323,       1832,   -35.4997,     1.0507,       4904,  1399.9,   3.1060,  34.5298,2,  34.5298,2, 182.0000,2,   181.9,2,   55.65,2,   32.49,2,    0.00,2,    2.29,2,   0.536,2,   0.262,2,   0.0640,2,  2232.6,2,  2323.2,2,   1106.2,2,    20.00,   7.5841,2,    25.00,-999.000,9,-999.0000,9, -999.00,9,   3.1055,2, -999.00,9,  -999.0,9,  -999.0,   0.847,3, -999.00,9, -999.00,9, 1399.90,   3.0054
33RO20100308,      A13.5,      38,          1,         12,      11027,2,20100323,       1832,   -35.4997,     1.0507,       4904,  1600.2,   3.0154,  34.6325,2,  34.6319,2, 185.5000,2,   185.2,2,   55.73,2,   31.00,2,    0.00,2,    2.18,2,-999.000,9,-999.000,9,-999.0000,9,  2231.8,2,  2329.1,2,   1068.2,2,    20.00,   7.6016,2,    25.00,-999.000,9,-999.0000,9, -999.00,9,   3.0150,2, -999.00,9,  -999.0,9,  -999.0,-999.000,9, -999.00,9, -999.00,9, 1600.20,   2.8988
33RO20100308,      A13.5,      38,          1,         11,      11707,2,20100323,       1832,   -35.4997,     1.0507,       4904,  1850.4,   2.7889,  34.7127,2,  34.7120,2, 194.7000,2,   194.1,2,   58.69,2,   29.40,2,    0.00,2,    2.05,2,   0.130,2,   0.062,2,   0.0000,2,  2227.8,2,  2333.5,2,   1016.1,2,    20.00,   7.6228,2,    25.00,-999.000,9,-999.0000,9, -999.00,9,   2.7885,2, -999.00,9,  -999.0,9,  -999.0,   0.285,3, -999.00,9, -999.00,9, 1850.40,   2.6535
33RO20100308,      A13.5,      38,          1,         10,      11003,2,20100323,       1832,   -35.4997,     1.0507,       4904,  2099.7,   2.6984,  34.7809,2,  34.7791,2, 206.7000,2,   206.8,2,   56.44,2,   27.37,2,    0.00,2,    1.90,2,-999.000,9,-999.000,9,-999.0000,9,  2219.5,2,  2336.2,2,    949.3,2,    20.00,   7.6504,2,    25.00,-999.000,9,-999.0000,9, -999.00,9,   2.6980,2, -999.00,9,  -999.0,9,  -999.0,-999.000,9, -999.00,9, -999.00,9, 2099.70,   2.5419
33RO20100308,      A13.5,      38,          1,          9,      11706,2,20100323,       1832,   -35.4997,     1.0507,       4904,  2299.9,   2.6323,  34.8169,2,  34.8147,2, 215.1000,2,   215.9,2,   54.56,2,   26.06,2,    0.00,2,    1.81,2,   0.032,2,   0.016,2,   0.0000,2,  2213.8,2,  2335.6,2,    903.8,2,    20.00,   7.6692,2,    25.00,-999.000,9,-999.0000,9, -999.00,9,   2.6316,2, -999.00,9,  -999.0,9,  -999.0,   0.103,3, -999.00,9, -999.00,9, 2299.90,   2.4584
33RO20100308,      A13.5,      38,          1,          8,      11033,2,20100323,       1832,   -35.4997,     1.0507,       4904,  2598.5,   2.4836,  34.8363,2,  34.8360,2, 222.6000,2,   223.3,2,   55.52,2,   25.21,2,    0.00,2,    1.75,2,-999.000,9,-999.000,9,-999.0000,9,  2210.9,2,  2339.6,2,    875.4,2,    20.00,   7.6816,2,    25.00,-999.000,9,-999.0000,9, -999.00,9,   2.4833,2, -999.00,9,  -999.0,9,  -999.0,-999.000,9, -999.00,9, -999.00,9, 2598.50,   2.2842
33RO20100308,      A13.5,      38,          1,          7,      11705,2,20100323,       1832,   -35.4997,     1.0507,       4904,  2900.1,   2.3435,  34.8425,2,  34.8434,2, 226.8000,2,   227.0,2,   57.70,2,   25.00,2,    0.00,2,    1.74,2,-999.000,5,-999.000,5,-999.0000,5,  2211.9,2,  2342.6,2,    868.3,2,    20.00,   7.6897,2,    25.00,-999.000,9,-999.0000,9, -999.00,9,   2.3437,2, -999.00,9,  -999.0,9,  -999.0,-999.000,5, -999.00,9, -999.00,9, 2900.10,   2.1174
33RO20100308,      A13.5,      38,          1,          6,      11029,2,20100323,       1832,   -35.4997,     1.0507,       4904,  3200.1,   2.2440,  34.8464,2,  34.8463,2, 229.3000,2,   229.8,6,   59.71,2,   24.92,2,    0.00,2,    1.73,2,-999.000,9,-999.000,9,-999.0000,9,  2212.5,2,  2345.4,2,    857.9,2,    20.00,   7.6952,2,    25.00,-999.000,9,-999.0000,9, -999.00,9,   2.2437,2, -999.00,9,  -999.0,9,  -999.0,-999.000,9, -999.00,9, -999.00,9, 3200.10,   1.9897
33RO20100308,      A13.5,      38,          1,          5,      11704,2,20100323,       1832,   -35.4997,     1.0507,       4904,  3600.9,   2.0198,  34.8323,2,  34.8319,2, 227.9000,2,   227.9,2,   68.00,6,   25.76,6,    0.00,6,    1.77,6,   0.019,2,   0.010,2,   0.0000,2,  2221.1,2,  2353.1,2,    861.8,6,    20.00,   7.6895,2,    25.00,-999.000,9,-999.0000,9, -999.00,9,   2.0198,2, -999.00,9,  -999.0,9,  -999.0,   0.063,3, -999.00,9, -999.00,9, 3600.90,   1.7290
33RO20100308,      A13.5,      38,          1,          4,      11030,2,20100323,       1832,   -35.4997,     1.0507,       4904,  3999.2,   1.4244,  34.7681,2,  34.7684,2, 219.1000,2,   219.2,2,   93.67,6,   28.85,6,    0.00,6,    2.00,6,-999.000,9,-999.000,9,-999.0000,9,  2242.7,2,  2362.2,2,    946.5,2,    20.00,   7.6539,2,    25.00,-999.000,9,-999.0000,9, -999.00,9,   1.4235,2, -999.00,9,  -999.0,9,  -999.0,-999.000,9, -999.00,9, -999.00,9, 3999.20,   1.1071
33RO20100308,      A13.5,      38,          1,          3,      11703,2,20100323,       1832,   -35.4997,     1.0507,       4904,  4399.8,   1.1561,  34.7415,2,  34.7419,2, 217.6000,2,   217.2,2,  104.60,6,   30.07,6,    0.00,6,    2.10,6,   0.122,4,   0.164,4,   1.8070,4,  2253.4,2,  2368.1,2,    976.3,2,    20.00,   7.6414,2,    25.00,-999.000,9,-999.0000,9, -999.00,9,   1.1559,2, -999.00,9,  -999.0,9,  -999.0,   0.190,4, -999.00,9, -999.00,9, 4399.80,   0.8027
33RO20100308,      A13.5,      38,          1,          2,      11702,2,20100323,       1832,   -35.4997,     1.0507,       4904,  4797.6,   1.1240,  34.7341,2,  34.7348,2, 218.6000,2,   216.8,2,  107.85,6,   30.41,6,    0.00,6,    2.12,6,-999.000,9,-999.000,9,-999.0000,9,  2255.1,2,  2369.2,6,    983.3,2,    20.00,   7.6382,2,    25.00,-999.000,9,-999.0000,9, -999.00,9,   1.1236,2, -999.00,9,  -999.0,9,  -999.0,-999.000,9, -999.00,9, -999.00,9, 4797.60,   0.7260
33RO20100308,      A13.5,      38,          1,          1,      11701,2,20100323,       1832,   -35.4997,     1.0507,       4904,  4979.8,   1.1373,  34.7328,2,  34.7334,2, 217.2000,2,   216.1,2,  108.26,6,   30.54,6,    0.00,6,    2.13,6,   0.081,2,   0.039,2,   0.0000,2,  2256.9,6,  2370.9,2,    985.7,2,    20.00,   7.6407,2,    25.00,-999.000,9,-999.0000,9, -999.00,9,   1.1364,2, -999.00,9,  -999.0,9,  -999.0,   0.192,3, -999.00,9, -999.00,9, 4979.80,   0.7173