BOTTLE,20130404CCHSIOCBG
EXPOCODE,SECT_ID,STNNBR,CASTNO,SAMPNO,BTLNBR,BTLNBR_FLAG_W,DATE,TIME,LATITUDE,LONGITUDE,DEPTH,CTDPRS,CTDTMP,CTDSAL,CTDSAL_FLAG_W,SALNTY,SALNTY_FLAG_W,CTDOXY,CTDOXY_FLAG_W,OXYGEN,OXYGEN_FLAG_W,SILCAT,SILCAT_FLAG_W,NITRAT,NITRAT_FLAG_W,NITRIT,NITRIT_FLAG_W,PHSPHT,PHSPHT_FLAG_W,CFC-11,CFC-11_FLAG_W,CFC-12,CFC-12_FLAG_W,SF6,SF6_FLAG_W,TCARBN,TCARBN_FLAG_W,ALKALI,ALKALI_FLAG_W,FCO2,FCO2_FLAG_W,FCO2TMP,PH_TOT,PH_TOT_FLAG_W,PH_TMP,TRITUM,TRITUM_FLAG_W,HELIUM,HELIUM_FLAG_W,DELHE3,DELHE3_FLAG_W,REFTMP,REFTMP_FLAG_W,DELC13,DELC13_FLAG_W,DELC14,DELC14_FLAG_W,C14ERR,CCL4,CCL4_FLAG_W,DOC,DOC_FLAG_W,TDN,TDN_FLAG_W,CTDRAW,THETA
,,,,,,,,,,,METERS,DBAR,ITS-90,PSS-78,,PSS-78,,UMOL/KG,,UMOL/KG,,UMOL/KG,,UMOL/KG,,UMOL/KG,,UMOL/KG,,PMOL/KG,,PMOL/KG,,FMOL/KG,,UMOL/KG,,UMOL/KG,,UATM,,DEG C,,,DEG C,TU,,NMOL/KG,,PERCNT,,DEG C,,/MILLE,,/MILLE,,/MILLE,PMOL/KG,,UMOL/KG,,UMOL/KG,,DBAR,DEG C
33RO20100308,      A13.5,      81,          1,         24,      11714,2,20100405,       1557,      -14.0,     0.9582,       5515,     6.0,  25.2652,  36.7652,2,  36.7657,2, 205.6000,2,   207.4,2,    0.56,2,    0.09,2,    0.00,2,    0.17,2,   1.710,2,   1.077,2,   1.0690,2,  2082.9,2,  2414.3,2,    325.2,2,    20.00,   8.0643,2,    25.00,-999.000,1,-999.0000,1, -999.00,9,-999.0000,9, -999.00,9,  -999.0,9,  -999.0,   1.905,3,   77.47,2,    5.40,2,    6.00,  25.2639
33RO20100308,      A13.5,      81,          1,         23,      11713,2,20100405,       1557,      -14.0,     0.9582,       5515,    70.2,  19.6176,  36.3186,2,  36.2968,2, 205.0000,2,   196.2,2,    1.87,2,    5.74,2,    0.57,2,    0.59,2,   2.182,2,   1.318,2,   1.1810,2,  2129.7,2,  2381.1,2,    452.8,2,    20.00,   7.9366,2,    25.00,-999.000,1,-999.0000,1, -999.00,9,-999.0000,9, -999.00,9,  -999.0,9,  -999.0,   1.390,3,   63.54,2,    9.93,2,   70.20,  19.6047
33RO20100308,      A13.5,      81,          1,         22,      11712,2,20100405,       1557,      -14.0,     0.9582,       5515,    99.5,  15.2751,  35.6081,2,  35.5876,2, 113.2000,2,   112.1,2,    4.91,2,   18.85,2,    0.12,2,    1.28,2,   2.329,2,   1.340,2,   0.8850,2,  2184.6,2,  2332.6,2,    782.6,2,    20.00,   7.7265,2,    25.00,-999.000,1,-999.0000,1, -999.00,9,-999.0000,9, -999.00,9,  -999.0,9,  -999.0,   0.616,3,   52.31,2,   22.46,2,   99.50,  15.2598
33RO20100308,      A13.5,      81,          1,         21,      11010,2,20100405,       1557,      -14.0,     0.9582,       5515,   149.1,  13.2077,  35.3216,2,  35.3247,2,  45.5000,2,    44.4,2,    8.19,2,   28.55,2,    0.01,2,    1.82,2,   1.963,2,   1.086,2,   0.5690,2,  2231.4,2,  2313.8,2,   1205.1,2,    20.00,   7.5518,2,    25.00,-999.000,1,-999.0000,1, -999.00,9,-999.0000,9, -999.00,9,  -999.0,9,  -999.0,   0.262,3,   48.58,2,   30.93,2,  149.10,  13.1869
33RO20100308,      A13.5,      81,          1,         20,      11715,2,20100405,       1557,      -14.0,     0.9582,       5515,   246.1,  11.0979,  35.0498,2,  35.0504,2,  44.6000,2,    46.1,2,   11.93,2,   31.99,2,    0.00,2,    2.05,2,   1.294,2,   0.693,2,   0.2860,2,  2237.6,2,  2305.2,2,   1334.5,2,    20.00,   7.5071,2,    25.00,-999.000,1,-999.0000,1, -999.00,9,-999.0000,9, -999.00,9,  -999.0,9,  -999.0,   0.214,3,   45.12,2,   33.93,2,  246.10,  11.0673
33RO20100308,      A13.5,      81,          1,         19,      11007,2,20100405,       1557,      -14.0,     0.9582,       5515,   399.8,   8.8311,  34.8042,2,  34.8011,2,  53.3000,2,    54.2,2,   16.69,2,   35.87,2,    0.00,2,    2.28,2,   0.503,2,   0.265,2,   0.0920,2,  2242.9,2,  2297.0,2,   1464.4,2,    20.00,   7.4680,2,    25.00,-999.000,1,-999.0000,1, -999.00,9,-999.0000,9, -999.00,9,  -999.0,9,  -999.0,   0.189,3,   42.23,2,   36.94,2,  399.80,   8.7878
33RO20100308,      A13.5,      81,          1,         18,      11710,2,20100405,       1557,      -14.0,     0.9582,       5515,   549.5,   6.9145,  34.6161,2,  34.6166,2,  84.0000,2,    83.7,2,   21.32,2,   36.83,2,    0.00,2,    2.39,2,   0.269,2,   0.140,2,   0.0000,2,  2237.2,2,  2289.3,2,   1429.2,2,    20.00,   7.4774,2,    25.00,-999.000,1,-999.0000,1, -999.00,9,-999.0000,9, -999.00,9,  -999.0,9,  -999.0,   0.277,3,   40.84,2,   38.04,2,  549.50,   6.8624
33RO20100308,      A13.5,      81,          1,         17,      11025,2,20100405,       1557,      -14.0,     0.9582,       5515,   749.8,   5.0950,  34.4980,2,  34.4995,2, 111.0000,2,   112.1,2,   29.64,2,   37.63,2,    0.00,2,    2.51,2,   0.060,2,   0.034,2,   0.0000,2,  2237.9,2,  2294.5,2,   1391.0,2,    20.00,   7.4897,2,    25.00,-999.000,1,-999.0000,1, -999.00,9,-999.0000,9, -999.00,9,  -999.0,9,  -999.0,   0.170,3,   40.28,2,   38.95,2,  749.80,   5.0333
33RO20100308,      A13.5,      81,          1,         16,      11709,2,20100405,       1557,      -14.0,     0.9582,       5515,   950.5,   4.2664,  34.5278,2,  34.5281,2, 139.3000,2,   139.9,2,   34.81,2,   35.41,2,    0.00,2,    2.40,2,   0.018,2,   0.013,2,   0.0000,2,  2230.9,2,  2303.4,2,   1261.2,2,    20.00,   7.5316,2,    25.00,-999.000,1,-999.0000,1, -999.00,9,-999.0000,9, -999.00,9,  -999.0,9,  -999.0,   0.084,3,   38.42,2,   37.23,2,  950.50,   4.1928
33RO20100308,      A13.5,      81,          1,         15,      11006,2,20100405,       1557,      -14.0,     0.9582,       5515,  1150.2,   3.9111,  34.6505,2,  34.6509,2, 159.8000,2,   160.5,2,   35.45,2,   32.18,2,    0.00,2,    2.20,2,   0.004,2,   0.003,2,   0.0160,2,  2224.1,2,  2309.6,2,   1134.7,2,    20.00,   7.5746,2,    25.00,-999.000,1,-999.0000,1, -999.00,9,-999.0000,9, -999.00,9,  -999.0,9,  -999.0,   0.030,3,   38.87,2,   33.41,2, 1150.20,   3.8233
33RO20100308,      A13.5,      81,          1,         14,      11708,2,20100405,       1557,      -14.0,     0.9582,       5515,  1351.0,   3.7739,  34.7854,2,  34.7853,2, 183.9000,2,   185.5,2,   31.89,2,   28.24,2,    0.00,2,    1.93,2,   0.002,2,   0.002,2,   0.0000,2,  2208.9,2,  2315.6,2,    992.0,2,    20.00,   7.6287,2,    25.00,-999.000,1,-999.0000,1, -999.00,9,-999.0000,9, -999.00,9,  -999.0,9,  -999.0,   0.021,3,   40.28,2,   29.84,2, 1351.00,   3.6698
33RO20100308,      A13.5,      81,          1,         13,      11031,2,20100405,       1557,      -14.0,     0.9582,       5515,  1549.7,   3.6783,  34.8699,2,  34.8708,2, 204.9000,2,   207.1,2,   28.63,2,   25.20,2,    0.00,2,    1.71,2,   0.003,2,   0.003,2,   0.0000,2,  2195.8,2,  2317.1,2,    893.6,2,    20.00,   7.6703,2,    25.00,-999.000,1,-999.0000,1, -999.00,9,-999.0000,9, -999.00,9,  -999.0,9,  -999.0,   0.032,3,   40.44,2,   26.43,2, 1549.70,   3.5575
33RO20100308,      A13.5,      81,          1,         12,      11027,2,20100405,       1557,      -14.0,     0.9582,       5515,  1747.1,   3.5430,  34.9025,2,  34.9028,2, 213.9000,2,   215.8,2,   28.47,2,   23.95,2,    0.00,2,    1.62,2,   0.002,2,   0.003,2,   0.0000,2,  2191.1,2,  2320.1,2,    862.2,2,    20.00,   7.6864,2,    25.00,-999.000,1,-999.0000,1, -999.00,9,-999.0000,9, -999.00,9,  -999.0,9,  -999.0,   0.025,3,   40.29,2,   25.41,2, 1747.10,   3.4060
33RO20100308,      A13.5,      81,          1,         11,      11707,2,20100405,       1557,      -14.0,     0.9582,       5515,  1950.0,   3.3698,  34.9160,2,  34.9156,2, 221.5000,2,   223.5,2,   29.84,2,   23.20,2,    0.00,2,    1.56,2,   0.004,2,   0.003,2,   0.0620,4,  2189.9,2,  2320.0,2,    836.7,2,    20.00,   7.6998,2,    25.00,-999.000,1,-999.0000,1, -999.00,9,-999.0000,9, -999.00,9,  -999.0,9,  -999.0,   0.028,3,   39.80,2,   24.80,2, 1950.00,   3.2164
33RO20100308,      A13.5,      81,          1,         10,      11003,2,20100405,       1557,      -14.0,     0.9582,       5515,  2198.9,   3.1573,  34.9182,2,  34.9185,2, 225.9000,2,   227.4,2,   32.82,2,   22.88,2,    0.00,2,    1.54,2,   0.002,2,   0.001,2,   0.0000,2,  2189.8,2,  2324.8,6,    825.1,2,    20.00,   7.7053,2,    25.00,-999.000,1,-999.0000,1, -999.00,9,-999.0000,9, -999.00,9,  -999.0,9,  -999.0,   0.015,3,   39.84,2,   24.54,2, 2198.90,   2.9838
33RO20100308,      A13.5,      81,          1,          9,      11706,2,20100405,       1557,      -14.0,     0.9582,       5515,  2450.1,   2.9333,  34.9129,2,  34.9123,2, 228.3000,2,   229.9,2,   36.82,2,   22.91,2,    0.00,2,    1.54,2,   0.002,2,   0.002,2,   0.0140,3,  2193.4,2,  2326.9,2,    819.1,2,    20.00,   7.7087,2,    25.00,-999.000,9,-999.0000,1, -999.00,9,-999.0000,9, -999.00,9,  -999.0,9,  -999.0,   0.008,3,   39.67,2,   24.49,2, 2450.10,   2.7395
33RO20100308,      A13.5,      81,          1,          8,      11033,2,20100405,       1557,      -14.0,     0.9582,       5515,  2698.6,   2.7594,  34.9068,2,  34.9063,2, 228.7000,2,   230.7,2,   40.73,2,   23.06,2,    0.00,2,    1.55,2,   0.001,2,   0.002,2,   0.0000,2,  2196.4,2,  2332.2,2,    815.6,2,    20.00,   7.7100,2,    25.00,-999.000,1,-999.0000,1, -999.00,9,-999.0000,9, -999.00,9,  -999.0,9,  -999.0,   0.004,3,   39.45,2,   24.60,2, 2698.60,   2.5445
33RO20100308,      A13.5,      81,          1,          7,      11705,2,20100405,       1557,      -14.0,     0.9582,       5515,  3099.9,   2.5479,  34.8970,3,  34.8897,4, 226.6000,2,   228.5,2,   47.14,6,   23.39,6,    0.00,6,    1.58,6,   0.001,2,   0.002,2,   0.0000,2,  2205.6,2,  2344.7,2,    820.6,2,    20.00,   7.7073,2,    25.00,-999.000,9,-999.0000,1, -999.00,9,-999.0000,9, -999.00,9,  -999.0,9,  -999.0,   0.002,3,   38.49,2,   25.06,2, 3099.90,   2.2968
33RO20100308,      A13.5,      81,          1,          6,      11029,2,20100405,       1557,      -14.0,     0.9582,       5515,  3500.6,   2.4015,  34.8905,2,  34.8874,2, 227.1000,2,   228.1,2,   51.24,6,   23.59,6,    0.00,6,    1.59,6,   0.002,2,   0.002,2,   0.0000,2,  2212.7,2,  2350.5,2,    814.3,2,    20.00,   7.7127,2,    25.00,-999.000,1,-999.0000,1, -999.00,9,-999.0000,9, -999.00,9,  -999.0,9,  -999.0,   0.005,3,   38.50,2,   24.76,2, 3500.60,   2.1115
33RO20100308,      A13.5,      81,          1,          5,      11704,2,20100405,       1557,      -14.0,     0.9582,       5515,  3902.4,   2.3630,  34.8885,2,  34.8850,2, 230.0000,2,   232.0,2,   51.53,6,   23.39,6,    0.00,6,    1.57,6,   0.002,4,   0.002,4,   0.0500,4,  2211.3,2,  2352.3,2,    805.3,2,    20.00,   7.7162,2,    25.00,-999.000,9,-999.0000,1, -999.00,9,-999.0000,9, -999.00,9,  -999.0,9,  -999.0,   0.011,4,   38.25,2,   24.77,2, 3902.40,   2.0297
33RO20100308,      A13.5,      81,          1,          4,      11030,2,20100405,       1557,      -14.0,     0.9582,       5515,  4300.7,   2.3690,  34.8859,2,  34.8814,2, 230.2000,2,   232.3,2,   52.19,6,   23.40,6,    0.00,6,    1.57,6,   0.002,2,   0.002,2,   0.0000,2,  2211.9,2,  2356.0,2,    803.1,2,    20.00,   7.7168,2,    25.00,-999.000,1,-999.0000,1, -999.00,9,-999.0000,9, -999.00,9,  -999.0,9,  -999.0,   0.017,3,   39.90,2,   25.08,2, 4300.70,   1.9895
33RO20100308,      A13.5,      81,          1,          3,      11703,2,20100405,       1557,      -14.0,     0.9582,       5515,  4700.3,   2.3862,  34.8826,2,  34.8792,2, 231.8000,2,   233.1,2,   52.63,6,   23.38,6,    0.00,6,    1.57,6,   0.003,2,   0.004,2,   0.0000,2,  2210.8,2,  2356.3,2,    802.3,2,    20.00,   7.7186,2,    25.00,-999.000,9,-999.0000,1, -999.00,9,-999.0000,9, -999.00,9,  -999.0,9,  -999.0,   0.031,3,   40.29,2,   24.60,2, 4700.30,   1.9580
33RO20100308,      A13.5,      81,          1,          2,      11702,2,20100405,       1557,      -14.0,     0.9582,       5515,  5098.9,   2.4113,  34.8798,2,  34.8778,2, 233.8000,2,   234.7,2,   52.89,6,   23.32,6,    0.00,6,    1.57,6,   0.006,2,   0.005,2,   0.0000,2,  2211.2,2,  2356.5,2,    800.5,2,    20.00,   7.7191,2,    25.00,-999.000,1,-999.0000,1, -999.00,9,-999.0000,9, -999.00,9,  -999.0,9,  -999.0,   0.048,3,   40.00,2,   24.92,2, 5098.90,   1.9323
33RO20100308,      A13.5,      81,          1,          1,      11701,2,20100405,       1557,      -14.0,     0.9582,       5515,  5605.0,   2.4697,  34.8782,2,  34.8784,2, 234.2000,2,   235.3,2,   53.04,6,   23.33,6,    0.00,6,    1.57,6,   0.007,2,   0.006,2,   0.0000,2,  2211.3,2,  2356.6,2,    799.3,2,    20.00,   7.7198,2,    25.00,-999.000,1,-999.0000,1, -999.00,9,-999.0000,9, -999.00,9,  -999.0,9,  -999.0,   0.058,3,   39.80,2,   25.25,2, 5605.00,   1.9223