BOTTLE,20130404CCHSIOCBG
EXPOCODE,SECT_ID,STNNBR,CASTNO,SAMPNO,BTLNBR,BTLNBR_FLAG_W,DATE,TIME,LATITUDE,LONGITUDE,DEPTH,CTDPRS,CTDTMP,CTDSAL,CTDSAL_FLAG_W,SALNTY,SALNTY_FLAG_W,CTDOXY,CTDOXY_FLAG_W,OXYGEN,OXYGEN_FLAG_W,SILCAT,SILCAT_FLAG_W,NITRAT,NITRAT_FLAG_W,NITRIT,NITRIT_FLAG_W,PHSPHT,PHSPHT_FLAG_W,CFC-11,CFC-11_FLAG_W,CFC-12,CFC-12_FLAG_W,SF6,SF6_FLAG_W,TCARBN,TCARBN_FLAG_W,ALKALI,ALKALI_FLAG_W,FCO2,FCO2_FLAG_W,FCO2TMP,PH_TOT,PH_TOT_FLAG_W,PH_TMP,TRITUM,TRITUM_FLAG_W,HELIUM,HELIUM_FLAG_W,DELHE3,DELHE3_FLAG_W,REFTMP,REFTMP_FLAG_W,DELC13,DELC13_FLAG_W,DELC14,DELC14_FLAG_W,C14ERR,CCL4,CCL4_FLAG_W,DOC,DOC_FLAG_W,TDN,TDN_FLAG_W,CTDRAW,THETA
,,,,,,,,,,,METERS,DBAR,ITS-90,PSS-78,,PSS-78,,UMOL/KG,,UMOL/KG,,UMOL/KG,,UMOL/KG,,UMOL/KG,,UMOL/KG,,PMOL/KG,,PMOL/KG,,FMOL/KG,,UMOL/KG,,UMOL/KG,,UATM,,DEG C,,,DEG C,TU,,NMOL/KG,,PERCNT,,DEG C,,/MILLE,,/MILLE,,/MILLE,PMOL/KG,,UMOL/KG,,UMOL/KG,,DBAR,DEG C
33RO20100308,      A13.5,      71,          1,         24,      11714,2,20100401,       1053,      -19.0,     1.2248,       5518,     5.9,  24.2302,  36.4139,2,  36.4153,2, 210.4000,2,   211.3,2,    0.38,2,    0.03,2,    0.00,2,    0.21,2,   1.806,2,   1.125,2,   1.0910,2,  2074.4,6,  2394.8,2,    332.2,2,    20.00,   8.0523,2,    25.00,-999.000,9,-999.0000,9, -999.00,9,  24.2263,2, -999.00,9,  -999.0,9,  -999.0,   2.039,3,   73.36,2,    4.69,2,    5.90,  24.2290
33RO20100308,      A13.5,      71,          1,         23,      11713,2,20100401,       1053,      -19.0,     1.2248,       5518,    76.0,  18.8671,  35.8562,2,  35.8593,2, 235.8000,2,   238.4,2,    1.13,2,    0.69,2,    0.08,2,    0.39,2,   2.339,2,   1.408,2,   1.2860,2,  2089.6,2,  2354.9,2,    408.1,2,    20.00,   7.9735,2,    25.00,-999.000,9,-999.0000,9, -999.00,9,  18.8614,2, -999.00,9,  -999.0,9,  -999.0,   1.536,3,   61.70,2,    4.95,2,   76.00,  18.8536
33RO20100308,      A13.5,      71,          1,         22,      11712,2,20100401,       1053,      -19.0,     1.2248,       5518,   150.2,  15.3468,  35.4888,2,  35.4880,2, 147.1000,2,   145.3,2,    4.16,2,   16.97,2,    0.01,2,    1.23,2,   2.544,6,   1.482,6,   1.1520,6,  2170.4,2,  2327.5,2,    740.4,6,    20.00,   7.7435,2,    25.00,-999.000,9,-999.0000,9, -999.00,9,  15.3710,2, -999.00,9,  -999.0,9,  -999.0,   0.631,3,   51.21,2,   21.18,2,  150.20,  15.3236
33RO20100308,      A13.5,      71,          1,         21,      11010,2,20100401,       1053,      -19.0,     1.2248,       5518,   249.6,  12.2317,  35.0700,2,  35.0690,2, 167.3000,2,   166.1,2,    5.96,2,   17.06,2,    0.00,2,    1.19,2,   2.896,2,   1.591,2,   0.9600,2,  2153.6,2,  2306.6,2,    734.9,2,    20.00,   7.7459,2,    25.00,-999.000,9,-999.0000,9, -999.00,9,  12.2346,2, -999.00,9,  -999.0,9,  -999.0,   0.769,3,   44.66,2,   19.94,2,  249.60,  12.1986
33RO20100308,      A13.5,      71,          1,         20,      11715,2,20100401,       1053,      -19.0,     1.2248,       5518,   350.1,   9.9714,  34.8164,2,  34.8148,2, 150.4000,2,   149.9,2,   10.15,2,   23.52,2,    0.00,2,    1.60,2,   2.672,2,   1.403,2,   0.6500,2,  2176.5,2,  2297.3,2,    907.5,2,    20.00,   7.6618,2,    25.00,-999.000,9,-999.0000,9, -999.00,9,   9.9628,2, -999.00,9,  -999.0,9,  -999.0,   1.001,3,   43.07,2,   24.74,2,  350.10,   9.9306
33RO20100308,      A13.5,      71,          1,         19,      11007,2,20100401,       1053,      -19.0,     1.2248,       5518,   449.6,   7.5907,  34.5923,2,  34.5908,2, 134.8000,2,   139.7,6,   16.73,2,   30.17,2,    0.00,2,    2.02,2,   1.969,2,   0.993,2,   0.3650,2,  2198.8,2,  2291.2,2,   1112.8,2,    20.00,   7.5820,2,    25.00,-999.000,9,-999.0000,9, -999.00,9,   7.5922,2, -999.00,9,  -999.0,9,  -999.0,   1.250,3,   42.48,2,   31.64,2,  449.60,   7.5461
33RO20100308,      A13.5,      71,          1,         18,      11710,2,20100401,       1053,      -19.0,     1.2248,       5518,   549.7,   6.2420,  34.5097,2,  34.5083,2, 130.7000,2,   132.3,2,   22.13,2,   34.05,2,    0.00,2,    2.27,2,   1.134,2,   0.561,2,   0.1860,2,  2215.8,6,  2291.7,2,   1241.1,2,    20.00,   7.5411,2,    25.00,-999.000,9,-999.0000,9, -999.00,9,   6.2438,2, -999.00,9,  -999.0,9,  -999.0,   1.011,3,   41.83,2,   35.60,2,  549.70,   6.1928
33RO20100308,      A13.5,      71,          1,         17,      11025,2,20100401,       1053,      -19.0,     1.2248,       5518,   650.0,   5.2749,  34.4692,2,  34.4683,2, 138.1000,2,   136.6,2,   27.48,2,   35.42,2,    0.00,2,    2.38,2,   0.490,2,   0.242,2,   0.0260,2,  2219.6,2,  2294.4,2,   1258.6,6,    20.00,   7.5337,2,    25.00,-999.000,9,-999.0000,9, -999.00,9,   5.2732,2, -999.00,9,  -999.0,9,  -999.0,   0.665,3,   40.85,2,   36.81,2,  650.00,   5.2211
33RO20100308,      A13.5,      71,          1,         16,      11709,2,20100401,       1053,      -19.0,     1.2248,       5518,   749.8,   4.6151,  34.4615,2,  34.4614,2, 146.1000,2,   146.1,2,   31.97,2,   35.43,2,    0.00,2,    2.39,2,   0.192,2,   0.100,2,   0.0160,2,  2220.7,2,  2300.2,2,   1228.2,2,    20.00,   7.5421,2,    25.00,-999.000,9,-999.0000,9, -999.00,9,   4.6145,2, -999.00,9,  -999.0,9,  -999.0,   0.430,3,   39.95,2,   36.83,2,  749.80,   4.5563
33RO20100308,      A13.5,      71,          1,         15,      11006,2,20100401,       1053,      -19.0,     1.2248,       5518,   900.4,   4.0621,  34.5029,2,  34.5036,2, 156.1000,2,   155.9,2,   36.76,2,   34.47,2,    0.00,2,    2.36,2,   0.066,2,   0.036,2,   0.0000,2,  2221.8,2,  2304.9,2,   1190.1,2,    20.00,   7.5571,2,    25.00,-999.000,9,-999.0000,9, -999.00,9,   4.0622,2, -999.00,9,  -999.0,9,  -999.0,   0.234,3,   39.92,2,   36.19,2,  900.40,   3.9942
33RO20100308,      A13.5,      71,          1,         14,      11708,2,20100401,       1053,      -19.0,     1.2248,       5518,  1100.2,   3.7687,  34.6140,2,  34.6133,2, 175.6000,2,   172.1,2,   37.98,2,   32.08,2,    0.00,2,    2.19,2,   0.027,2,   0.015,2,   0.0000,2,  2216.8,2,  2311.4,2,   1092.3,2,    20.00,   7.5926,2,    25.00,-999.000,9,-999.0000,9, -999.00,9,   3.7709,2, -999.00,9,  -999.0,9,  -999.0,   0.133,3,   39.78,2,   33.88,2, 1100.20,   3.6864
33RO20100308,      A13.5,      71,          1,         13,      11031,2,20100401,       1053,      -19.0,     1.2248,       5518,  1299.9,   3.6921,  34.7434,2,  34.7422,2, 189.8000,2,   189.8,2,   34.73,2,   28.90,2,    0.00,2,    1.97,2,   0.009,2,   0.005,2,   0.0000,2,  2206.9,2,  2316.6,2,    987.1,2,    20.00,   7.6316,2,    25.00,-999.000,9,-999.0000,9, -999.00,9,   3.6920,2, -999.00,9,  -999.0,9,  -999.0,   0.068,3,   39.20,2,   29.63,2, 1299.90,   3.5934
33RO20100308,      A13.5,      71,          1,         12,      11027,2,20100401,       1053,      -19.0,     1.2248,       5518,  1501.1,   3.6131,  34.8296,2,  34.8287,2, 203.5000,2,   203.4,2,   31.89,2,   26.61,2,    0.00,2,    1.80,2,   0.003,3,   0.002,3,   0.0000,2,  2199.2,2,  2319.0,2,    925.9,2,    20.00,   7.6574,2,    25.00,-999.000,9,-999.0000,9, -999.00,9,   3.6126,2, -999.00,9,  -999.0,9,  -999.0,   0.033,3,   39.15,2,   27.93,2, 1501.10,   3.4975
33RO20100308,      A13.5,      71,          1,         11,      11707,2,20100401,       1053,      -19.0,     1.2248,       5518,  1799.6,   3.3687,  34.8965,2,  34.8958,2, 226.0000,2,   226.7,2,   30.23,2,   23.49,2,    0.00,2,    1.58,2,   0.007,2,   0.006,2,   0.0000,2,  2186.4,2,  2320.1,2,    828.3,2,    20.00,   7.7023,2,    25.00,-999.000,9,-999.0000,9, -999.00,9,   3.3686,2, -999.00,9,  -999.0,9,  -999.0,   0.064,3,   39.26,2,   25.17,2, 1799.60,   3.2292
33RO20100308,      A13.5,      71,          1,         10,      11003,2,20100401,       1053,      -19.0,     1.2248,       5518,  2100.5,   3.1139,  34.9079,2,  34.9077,2, 232.8000,2,   233.8,2,   32.93,2,   22.84,2,    0.00,2,    1.53,2,   0.004,2,   0.003,2,   0.0000,2,  2185.4,2,  2324.7,2,    810.3,2,    20.00,   7.7119,2,    25.00,-999.000,9,-999.0000,9, -999.00,9,   3.1133,2, -999.00,9,  -999.0,9,  -999.0,   0.055,3,   39.14,2,   24.27,2, 2100.50,   2.9504
33RO20100308,      A13.5,      71,          1,          9,      11706,2,20100401,       1053,      -19.0,     1.2248,       5518,  2400.5,   2.8813,  34.9040,2,  34.9039,2, 235.0000,2,   235.6,2,   37.21,2,   22.88,2,    0.00,2,    1.54,2,   0.003,2,   0.002,2,   0.0000,2,  2190.0,2,  2328.8,2,    808.9,2,    20.00,   7.7142,2,    25.00,-999.000,9,-999.0000,9, -999.00,9,   2.8813,2, -999.00,9,  -999.0,9,  -999.0,   0.030,3,   39.43,2,   24.31,2, 2400.50,   2.6933
33RO20100308,      A13.5,      71,          1,          8,      11033,2,20100401,       1053,      -19.0,     1.2248,       5518,  2799.9,   2.6205,  34.8958,2,  34.8950,2, 232.3000,2,   233.9,2,   43.92,2,   23.30,2,    0.00,2,    1.58,2,   0.003,6,   0.002,6,   0.0000,6,  2198.3,2,  2336.2,2,    810.9,2,    20.00,   7.7103,2,    25.00,-999.000,9,-999.0000,9, -999.00,9,   2.6204,2, -999.00,9,  -999.0,9,  -999.0,   0.012,3,   38.98,2,   24.79,2, 2799.90,   2.3984
33RO20100308,      A13.5,      71,          1,          7,      11705,2,20100401,       1053,      -19.0,     1.2248,       5518,  3200.1,   2.4983,  34.8918,2,  34.8916,2, 231.7000,2,   231.7,2,   47.99,6,   23.57,6,    0.00,2,    1.59,6,   0.002,2,   0.001,2,   0.0000,2,  2206.0,2,  2343.8,2,    813.6,2,    20.00,   7.7110,2,    25.00,-999.000,9,-999.0000,9, -999.00,9,   2.4982,2, -999.00,9,  -999.0,9,  -999.0,   0.009,3,   39.03,2,   25.05,2, 3200.10,   2.2379
33RO20100308,      A13.5,      71,          1,          6,      11029,2,20100401,       1053,      -19.0,     1.2248,       5518,  3601.6,   2.4264,  34.8905,2,  34.8901,2, 231.6000,2,   231.2,6,   50.32,6,   23.65,6,    0.00,2,    1.59,6,   0.002,2,   0.001,2,   0.0000,2,  2210.1,2,  2350.8,2,    808.9,2,    20.00,   7.7146,2,    25.00,-999.000,9,-999.0000,9, -999.00,9,   2.4262,2, -999.00,9,  -999.0,9,  -999.0,   0.008,3,   39.48,2,   25.34,2, 3601.60,   2.1248
33RO20100308,      A13.5,      71,          1,          5,      11704,2,20100401,       1053,      -19.0,     1.2248,       5518,  4001.8,   2.3905,  34.8887,2,  34.8877,2, 233.1000,2,   232.7,2,   51.31,6,   23.55,6,    0.00,2,    1.58,6,   0.002,2,   0.002,2,   0.0290,2,  2211.1,2,  2352.7,2,    802.7,2,    20.00,   7.7177,2,    25.00,-999.000,9,-999.0000,9, -999.00,9,   2.3901,2, -999.00,9,  -999.0,9,  -999.0,   0.013,3,   39.61,2,   25.86,2, 4001.80,   2.0451
33RO20100308,      A13.5,      71,          1,          4,      11030,2,20100401,       1053,      -19.0,     1.2248,       5518,  4399.7,   2.4004,  34.8866,2,  34.8855,2, 233.7000,2,   233.1,2,   51.90,6,   23.55,6,    0.00,2,    1.58,6,   0.003,3,   0.003,2,   0.0000,2,  2211.6,2,  2355.8,2,    798.9,2,    20.00,   7.7188,2,    25.00,-999.000,9,-999.0000,9, -999.00,9,   2.4000,2, -999.00,9,  -999.0,9,  -999.0,   0.019,3,   39.14,2,   25.45,2, 4399.70,   2.0082
33RO20100308,      A13.5,      71,          1,          3,      11703,2,20100401,       1053,      -19.0,     1.2248,       5518,  4799.0,   2.4209,  34.8843,2,  34.8833,2, 234.3000,2,   233.8,2,   52.45,6,   23.50,6,    0.00,2,    1.58,6,   0.003,2,   0.003,2,   0.0000,2,  2211.6,2,  2356.4,2,    798.0,2,    20.00,   7.7203,2,    25.00,-999.000,9,-999.0000,9, -999.00,9,   2.4206,2, -999.00,9,  -999.0,9,  -999.0,   0.028,3,   40.58,2,   25.59,2, 4799.00,   1.9794
33RO20100308,      A13.5,      71,          1,          2,      11702,2,20100401,       1053,      -19.0,     1.2248,       5518,  5198.7,   2.4491,  34.8819,2,  34.8808,2, 235.5000,2,   234.5,2,   52.81,6,   23.52,6,    0.00,2,    1.58,6,   0.004,2,   0.004,2,   0.0000,2,  2213.3,2,  2357.7,2,    797.1,2,    20.00,   7.7206,2,    25.00,-999.000,9,-999.0000,9, -999.00,9,   2.4487,2, -999.00,9,  -999.0,9,  -999.0,   0.041,3,   40.62,2,   25.51,2, 5198.70,   1.9559
33RO20100308,      A13.5,      71,          1,          1,      11701,2,20100401,       1053,      -19.0,     1.2248,       5518,  5602.8,   2.5005,  34.8812,2,  34.8812,2, 235.8000,2,   234.8,2,   52.80,6,   23.47,6,    0.00,2,    1.58,6,   0.004,2,   0.004,2,   0.0000,2,  2213.3,6,  2357.0,2,    798.7,2,    20.00,   7.7213,2,    25.00,-999.000,9,-999.0000,9, -999.00,9,   2.4998,2, -999.00,9,  -999.0,9,  -999.0,   0.043,3,   40.80,2,   24.92,2, 5602.80,   1.9523
33RO20100308,      A13.5,      72,          1,         10,      11003,2,20100401,       1809,      -18.5,        1.2,       5259,  1899.7,   3.3644,  34.9028,2,  34.9056,2, 227.6000,2,   225.6,2,   29.52,2,   23.42,2,    0.00,2,    1.55,2,   0.004,2,   0.004,2,   0.0000,2,  2188.3,2,  2317.6,2,    830.1,2,    20.00,   7.7013,2,    25.00,-999.000,9,-999.0000,9, -999.00,9,   3.3648,2, -999.00,9,  -999.0,9,  -999.0,   0.036,3, -999.00,9, -999.00,9, 1899.70,   3.2158
33RO20100308,      A13.5,      72,          1,          9,      11706,2,20100401,       1809,      -18.5,        1.2,       5259,  2200.9,   3.0836,  34.9109,2,  34.9114,2, 232.2000,2,   231.6,2,   32.99,2,   22.87,2,    0.00,2,    1.52,2,   0.002,2,   0.001,2,   0.0000,2,  2189.4,2,  2324.0,2,    814.1,2,    20.00,   7.7091,2,    25.00,-999.000,9,-999.0000,9, -999.00,9,   3.0843,2, -999.00,9,  -999.0,9,  -999.0,   0.020,3, -999.00,9, -999.00,9, 2200.90,   2.9111
33RO20100308,      A13.5,      72,          1,          8,      11033,2,20100401,       1809,      -18.5,        1.2,       5259,  2500.8,   2.8636,  34.9064,2,  34.9093,2, 233.5000,2,   232.5,2,   37.29,2,   22.94,2,    0.00,2,    1.53,2,   0.004,2,   0.002,2,   0.0000,2,  2193.0,2,  2333.1,2,    808.4,2,    20.00,   7.7125,2,    25.00,-999.000,9,-999.0000,9, -999.00,9,   2.8637,2, -999.00,9,  -999.0,9,  -999.0,   0.013,3, -999.00,9, -999.00,9, 2500.80,   2.6662
33RO20100308,      A13.5,      72,          1,          7,      11705,2,20100401,       1809,      -18.5,        1.2,       5259,  2901.2,   2.6285,  34.8993,4,  34.9102,4, 230.8000,2,   231.0,6,   43.52,2,   23.33,2,    0.00,2,    1.56,2,   0.002,2,   0.001,2,   0.0000,2,  2201.7,2,  2339.0,2,    816.0,2,    20.00,   7.7096,2,    25.00,-999.000,9,-999.0000,9, -999.00,9,   2.6287,2, -999.00,9,  -999.0,9,  -999.0,   0.004,3, -999.00,9, -999.00,9, 2901.20,   2.3960
33RO20100308,      A13.5,      72,          1,          6,      11029,2,20100401,       1809,      -18.5,        1.2,       5259,  3300.7,   2.4891,  34.8943,2,  34.8969,2, 228.5000,2,   229.5,2,   48.00,2,   23.50,2,    0.00,2,    1.58,2,   0.001,2,   0.002,2,   0.0000,2,  2210.5,2,  2351.1,2,    817.0,2,    20.00,   7.7098,2,    25.00,-999.000,9,-999.0000,9, -999.00,9,   2.4889,2, -999.00,9,  -999.0,9,  -999.0,   0.003,3, -999.00,9, -999.00,9, 3300.70,   2.2183
33RO20100308,      A13.5,      72,          1,          5,      11704,2,20100401,       1809,      -18.5,        1.2,       5259,  3700.1,   2.4154,  34.8912,2,  34.8911,2, 230.6000,2,   230.2,2,   49.91,6,   23.52,6,    0.00,6,    1.57,6,   0.004,2,   0.004,2,   0.0000,2,  2212.8,2,  2355.7,2,    810.2,2,    20.00,   7.7137,2,    25.00,-999.000,9,-999.0000,9, -999.00,9,   2.4153,2, -999.00,9,  -999.0,9,  -999.0,   0.010,3, -999.00,9, -999.00,9, 3700.10,   2.1033
33RO20100308,      A13.5,      72,          1,          4,      11030,2,20100401,       1809,      -18.5,        1.2,       5259,  4100.2,   2.3944,  34.8887,2,  34.8890,2, 232.3000,2,   231.9,2,   50.48,6,   23.44,6,    0.00,6,    1.56,6,   0.001,2,   0.002,2,   0.0000,2,  2212.9,2,  2351.0,4,    804.2,2,    20.00,   7.7166,2,    25.00,-999.000,9,-999.0000,9, -999.00,9,   2.3941,2, -999.00,9,  -999.0,9,  -999.0,   0.012,3, -999.00,9, -999.00,9, 4100.20,   2.0376
33RO20100308,      A13.5,      72,          1,          3,      11703,2,20100401,       1809,      -18.5,        1.2,       5259,  4500.5,   2.4016,  34.8857,2,  34.8855,2, 233.1000,2,   234.0,2,   51.09,6,   23.38,6,    0.00,6,    1.56,6,   0.002,6,   0.002,6,   0.0000,2,  2213.3,2,  2355.1,2,    799.2,2,    20.00,   7.7188,2,    25.00,-999.000,9,-999.0000,9, -999.00,9,   2.4013,2, -999.00,9,  -999.0,9,  -999.0,   0.022,3, -999.00,9, -999.00,9, 4500.50,   1.9973
33RO20100308,      A13.5,      72,          1,          2,      11702,2,20100401,       1809,      -18.5,        1.2,       5259,  4899.1,   2.4162,  34.8824,2,  34.8819,2, 234.8000,2,   234.8,2,   51.55,6,   23.40,6,    0.00,6,    1.55,6,   0.004,2,   0.004,2,   0.0000,2,  2213.3,2,  2359.3,3,    797.9,2,    20.00,   7.7204,2,    25.00,-999.000,9,-999.0000,9, -999.00,9,   2.4160,2, -999.00,9,  -999.0,9,  -999.0,   0.037,3, -999.00,9, -999.00,9, 4899.10,   1.9623
33RO20100308,      A13.5,      72,          1,          1,      11701,2,20100401,       1809,      -18.5,        1.2,       5259,  5318.8,   2.4490,  34.8801,2,  34.8816,2, 236.3000,2,   234.7,2,   52.05,6,   23.37,6,    0.00,6,    1.56,6,   0.005,2,   0.005,2,   0.0000,2,  2214.4,6,  2352.8,6,    798.6,2,    20.00,   7.7195,2,    25.00,-999.000,9,-999.0000,9, -999.00,9,   2.4484,2, -999.00,9,  -999.0,9,  -999.0,   0.054,3, -999.00,9, -999.00,9, 5318.80,   1.9403