BOTTLE,20130404CCHSIOCBG
EXPOCODE,SECT_ID,STNNBR,CASTNO,SAMPNO,BTLNBR,BTLNBR_FLAG_W,DATE,TIME,LATITUDE,LONGITUDE,DEPTH,CTDPRS,CTDTMP,CTDSAL,CTDSAL_FLAG_W,SALNTY,SALNTY_FLAG_W,CTDOXY,CTDOXY_FLAG_W,OXYGEN,OXYGEN_FLAG_W,SILCAT,SILCAT_FLAG_W,NITRAT,NITRAT_FLAG_W,NITRIT,NITRIT_FLAG_W,PHSPHT,PHSPHT_FLAG_W,CFC-11,CFC-11_FLAG_W,CFC-12,CFC-12_FLAG_W,SF6,SF6_FLAG_W,TCARBN,TCARBN_FLAG_W,ALKALI,ALKALI_FLAG_W,FCO2,FCO2_FLAG_W,FCO2TMP,PH_TOT,PH_TOT_FLAG_W,PH_TMP,TRITUM,TRITUM_FLAG_W,HELIUM,HELIUM_FLAG_W,DELHE3,DELHE3_FLAG_W,REFTMP,REFTMP_FLAG_W,DELC13,DELC13_FLAG_W,DELC14,DELC14_FLAG_W,C14ERR,CCL4,CCL4_FLAG_W,DOC,DOC_FLAG_W,TDN,TDN_FLAG_W,CTDRAW,THETA
,,,,,,,,,,,METERS,DBAR,ITS-90,PSS-78,,PSS-78,,UMOL/KG,,UMOL/KG,,UMOL/KG,,UMOL/KG,,UMOL/KG,,UMOL/KG,,PMOL/KG,,PMOL/KG,,FMOL/KG,,UMOL/KG,,UMOL/KG,,UATM,,DEG C,,,DEG C,TU,,NMOL/KG,,PERCNT,,DEG C,,/MILLE,,/MILLE,,/MILLE,PMOL/KG,,UMOL/KG,,UMOL/KG,,DBAR,DEG C
33RO20100308,      A13.5,     129,          1,         24,      11714,2,20100417,       1243,     4.7108,       -3.0,        292,     5.6,  29.6275,  34.8033,2,  34.8048,2, 195.3000,2,   195.9,2,    1.52,2,    0.01,2,    0.00,2,    0.03,2,   1.499,2,   0.958,2,   0.8910,2,  1953.6,6,  2281.5,2,    277.1,2,    20.00,   8.1034,2,    25.00,-999.000,9,-999.0000,9, -999.00,9,  29.6285,2, -999.00,9,  -999.0,9,  -999.0,-999.000,5,   72.27,2,    5.31,2,    5.60,  29.6261
33RO20100308,      A13.5,     129,          1,         23,      11716,2,20100417,       1243,     4.7108,       -3.0,        292,    15.4,  29.5240,  34.8106,3,  34.8651,2, 195.7000,2,   199.0,2,    1.58,2,    0.00,2,    0.00,2,    0.03,2,-999.000,9,-999.000,9,-999.0000,9,  1967.3,2,  2289.9,2,    289.2,2,    20.00,   8.0864,2,    25.00,-999.000,9,-999.0000,9, -999.00,9,  29.5234,2, -999.00,9,  -999.0,9,  -999.0,-999.000,9,   72.10,2,    5.59,2,   15.40,  29.5202
33RO20100308,      A13.5,     129,          1,         22,      11022,2,20100417,       1243,     4.7108,       -3.0,        292,    40.4,  19.8225,  35.8411,2,  35.8545,2, 173.2000,3,   155.5,4,    2.56,2,    6.14,2,    0.39,2,    0.61,2,   2.036,2,   1.196,2,   0.7400,2,  2139.5,2,  2355.6,2,    531.3,2,    20.00,   7.8780,2,    25.00,-999.000,9,-999.0000,9, -999.00,9,  19.8319,2, -999.00,9,  -999.0,9,  -999.0,-999.000,5,   56.12,2,   11.41,2,   40.40,  19.8151
33RO20100308,      A13.5,     129,          1,         21,      11010,2,20100417,       1243,     4.7108,       -3.0,        292,    60.4,  18.4419,  35.8420,2,  35.8373,2, 127.3000,2,   124.2,2,    3.95,2,   13.37,2,    0.14,2,    0.94,2,   2.103,2,   1.227,2,   0.7900,2,  2163.7,2,  2349.9,2,    627.7,2,    20.00,   7.8135,2,    25.00,-999.000,9,-999.0000,9, -999.00,9,  18.4308,2, -999.00,9,  -999.0,9,  -999.0,-999.000,5,   51.09,2,   17.80,2,   60.40,  18.4313
33RO20100308,      A13.5,     129,          1,         20,      11715,2,20100417,       1243,     4.7108,       -3.0,        292,   100.2,  16.5980,  35.7353,2,  35.7341,2,  95.6000,2,    95.6,2,    6.30,2,   18.44,2,    0.03,2,    1.27,2,   2.063,2,   1.190,2,   0.6200,2,  2189.4,2,  2342.4,2,    760.8,2,    20.00,   7.7384,2,    25.00,-999.000,9,-999.0000,9, -999.00,9,  16.6109,2, -999.00,9,  -999.0,9,  -999.0,-999.000,5,   50.63,2,   23.05,2,  100.20,  16.5817
33RO20100308,      A13.5,     129,          1,         19,      11007,2,20100417,       1243,     4.7108,       -3.0,        292,   150.7,  15.6185,  35.6257,2,  35.6221,2,  86.6000,2,    86.7,2,    7.37,2,   20.62,2,    0.02,2,    1.39,2,-999.000,9,-999.000,9,-999.0000,9,  2197.8,2,  2336.9,2,    833.3,2,    20.00,   7.7035,2,    25.00,-999.000,9,-999.0000,9, -999.00,9,  15.2288,3, -999.00,9,  -999.0,9,  -999.0,-999.000,9,   48.05,2,   24.05,2,  150.70,  15.5950
33RO20100308,      A13.5,     129,          1,         18,      11710,2,20100417,       1243,     4.7108,       -3.0,        292,   225.3,  13.8700,  35.4091,2,  35.4031,2,  66.3000,2,    67.0,2,    9.71,2,   25.25,2,    0.01,2,    1.65,2,   1.682,2,   0.941,2,   0.4550,2,  2216.5,2,  2323.6,2,   1003.1,2,    20.00,   7.6251,2,    25.00,-999.000,9,-999.0000,9, -999.00,9,  13.8974,2, -999.00,9,  -999.0,9,  -999.0,-999.000,5,   44.96,2,   28.85,2,  225.30,  13.8375
33RO20100308,      A13.5,     129,          1,         17,      11025,2,20100417,       1243,     4.7108,       -3.0,        292,   272.1,  11.4594,  35.1185,2,  35.1285,2,  55.4000,2,    53.8,2,   13.13,2,   30.35,2,    0.01,2,    1.94,2,   1.213,6,   0.659,6,   0.1590,6,  2232.9,2,  2312.6,2,   1244.3,2,    20.00,   7.5419,2,    25.00,-999.000,9,-999.0000,9, -999.00,9,  11.4245,2, -999.00,9,  -999.0,9,  -999.0,-999.000,5,   42.27,2,   31.96,2,  272.10,  11.4248