BOTTLE,20130404CCHSIOCBG
EXPOCODE,SECT_ID,STNNBR,CASTNO,SAMPNO,BTLNBR,BTLNBR_FLAG_W,DATE,TIME,LATITUDE,LONGITUDE,DEPTH,CTDPRS,CTDTMP,CTDSAL,CTDSAL_FLAG_W,SALNTY,SALNTY_FLAG_W,CTDOXY,CTDOXY_FLAG_W,OXYGEN,OXYGEN_FLAG_W,SILCAT,SILCAT_FLAG_W,NITRAT,NITRAT_FLAG_W,NITRIT,NITRIT_FLAG_W,PHSPHT,PHSPHT_FLAG_W,CFC-11,CFC-11_FLAG_W,CFC-12,CFC-12_FLAG_W,SF6,SF6_FLAG_W,TCARBN,TCARBN_FLAG_W,ALKALI,ALKALI_FLAG_W,FCO2,FCO2_FLAG_W,FCO2TMP,PH_TOT,PH_TOT_FLAG_W,PH_TMP,TRITUM,TRITUM_FLAG_W,HELIUM,HELIUM_FLAG_W,DELHE3,DELHE3_FLAG_W,REFTMP,REFTMP_FLAG_W,DELC13,DELC13_FLAG_W,DELC14,DELC14_FLAG_W,C14ERR,CCL4,CCL4_FLAG_W,DOC,DOC_FLAG_W,TDN,TDN_FLAG_W,CTDRAW,THETA
,,,,,,,,,,,METERS,DBAR,ITS-90,PSS-78,,PSS-78,,UMOL/KG,,UMOL/KG,,UMOL/KG,,UMOL/KG,,UMOL/KG,,UMOL/KG,,PMOL/KG,,PMOL/KG,,FMOL/KG,,UMOL/KG,,UMOL/KG,,UATM,,DEG C,,,DEG C,TU,,NMOL/KG,,PERCNT,,DEG C,,/MILLE,,/MILLE,,/MILLE,PMOL/KG,,UMOL/KG,,UMOL/KG,,DBAR,DEG C
33RO20100308,      A13.5,      17,          1,         24,      11714,2,20100318,       1245,      -46.0,     1.1085,       4381,     6.0,   7.6247,  33.8698,2,  33.8701,2, 296.8000,2,   297.1,6,    2.03,2,   18.33,2,    0.27,2,    1.34,2,   4.062,2,   2.339,2,   2.0880,2,  2100.5,6,  2266.9,6,    617.9,2,    20.00,   7.8078,2,    25.00,-999.000,1,-999.0000,1, -999.00,9,   7.6292,2,    1.85,2,   -26.8,2,     2.7,   4.948,3,   47.59,2,   23.28,2,    6.00,   7.6241
33RO20100308,      A13.5,      17,          1,         23,      11713,2,20100318,       1245,      -46.0,     1.1085,       4381,    50.4,   7.4422,  33.8893,2,  33.8894,2, 296.3000,2,   294.1,2,    1.83,2,   18.21,2,    0.25,2,    1.35,2,   4.051,2,   2.348,2,   2.0180,2,  2102.7,2,  2265.7,2,    637.5,3,    20.00,   7.8062,2,    25.00,-999.000,1,-999.0000,1, -999.00,9,   7.4417,2,    1.82,2,   -21.0,2,     3.6,   4.956,3,   46.97,2,   22.98,2,   50.40,   7.4374
33RO20100308,      A13.5,      17,          1,         22,      11712,2,20100318,       1245,      -46.0,     1.1085,       4381,    74.5,   7.4094,  33.8969,2,  33.8979,2, 294.7000,2,   292.2,2,    1.94,2,   18.23,2,    0.25,2,    1.37,2,   4.057,6,   2.339,6,   2.0070,6,  2104.6,2,  2266.6,2,    626.5,6,    20.00,   7.8023,2,    25.00,-999.000,1,-999.0000,1, -999.00,9,   7.4072,2,    1.76,2,   -25.8,2,     2.7,   4.956,3,   46.97,2,   23.36,2,   74.50,   7.4024
33RO20100308,      A13.5,      17,          1,         21,      11010,2,20100318,       1245,      -46.0,     1.1085,       4381,   124.3,   5.0146,  34.0870,2,  34.0836,2, 284.8000,2,   283.9,2,    9.08,2,   23.97,2,    0.03,2,    1.68,2,   4.470,2,   2.536,2,   2.0340,2,  2140.5,2,  2271.8,2,    791.0,2,    20.00,   7.7129,2,    25.00,-999.000,1,-999.0000,1, -999.00,9,   5.0113,2,    1.29,2,   -22.4,2,     3.4,   5.090,3,   45.88,2,   25.14,2,  124.30,   5.0051
33RO20100308,      A13.5,      17,          1,         20,      11715,2,20100318,       1245,      -46.0,     1.1085,       4381,   174.6,   4.3183,  34.1122,2,  34.1124,2, 279.4000,2,   278.2,2,   11.86,2,   25.61,2,    0.01,2,    1.78,2,   4.423,2,   2.469,2,   1.9010,2,  2152.4,2,  2275.1,2,    838.5,2,    20.00,   7.6924,2,    25.00,-999.000,1,-999.0000,1, -999.00,9,   4.3164,2,    1.23,2,   -18.2,2,     2.6,   4.846,3,   43.93,2,   28.12,2,  174.60,   4.3059
33RO20100308,      A13.5,      17,          1,         19,      11007,2,20100318,       1245,      -46.0,     1.1085,       4381,   250.3,   3.9401,  34.1348,2,  34.1346,2, 265.3000,2,   264.1,2,   16.23,2,   27.55,2,    0.01,2,    1.90,2,   4.129,2,   2.275,2,   1.5720,2,  2162.7,2,  2277.8,2,    889.4,2,    20.00,   7.6678,2,    25.00,-999.000,1,-999.0000,1, -999.00,9,   3.9394,2,    1.15,2,   -35.0,2,     2.6,   4.422,3,   41.76,2,   30.22,2,  250.30,   3.9229
33RO20100308,      A13.5,      17,          1,         18,      11710,2,20100318,       1245,      -46.0,     1.1085,       4381,   351.1,   3.3931,  34.1629,2,  34.1626,2, 249.0000,2,   250.0,2,   23.96,2,   29.58,2,    0.01,2,    2.04,2,   3.684,2,   1.963,2,   1.1590,2,  2178.6,2,  2284.7,2,    965.7,2,    20.00,   7.6400,2,    25.00,-999.000,1,-999.0000,1, -999.00,9,   3.3929,2,    1.02,2,   -49.4,2,     3.2,   3.976,3,   41.48,2,   32.28,2,  351.10,   3.3702
33RO20100308,      A13.5,      17,          1,         17,      11025,2,20100318,       1245,      -46.0,     1.1085,       4381,   500.3,   3.0228,  34.2222,2,  34.2222,2, 230.8000,2,   231.0,2,   33.71,2,   31.49,2,    0.00,2,    2.18,2,   3.056,2,   1.579,2,   0.9080,2,  2196.3,2,  2292.7,2,   1033.1,2,    20.00,   7.6109,2,    25.00,-999.000,1,-999.0000,1, -999.00,9,   3.0224,2,    0.95,2,   -77.0,2,     2.6,   3.342,3,   40.14,2,   33.60,2,  500.30,   2.9910
33RO20100308,      A13.5,      17,          1,         16,      11709,2,20100318,       1245,      -46.0,     1.1085,       4381,   649.7,   2.7786,  34.3181,2,  34.3184,2, 209.1000,2,   207.2,2,   46.63,2,   33.14,2,    0.00,2,    2.29,2,   2.185,2,   1.087,2,   0.5340,2,  2217.7,2,  2301.9,2,   1119.8,2,    20.00,   7.5809,2,    25.00,-999.000,1,-999.0000,1, -999.00,9,   2.7777,2,    0.79,2,  -100.0,2,     2.6,   2.479,3,   40.57,2,   34.54,2,  649.70,   2.7376
33RO20100308,      A13.5,      17,          1,         15,      11006,2,20100318,       1245,      -46.0,     1.1085,       4381,   800.1,   2.6672,  34.4208,2,  34.4202,2, 187.8000,2,   186.7,2,   58.32,2,   34.06,2,    0.00,2,    2.37,2,   1.357,2,   0.667,2,   0.3060,2,  2235.6,2,  2316.9,2,   1177.5,2,    20.00,   7.5625,2,    25.00,-999.000,1,-999.0000,1, -999.00,9,   2.6666,2,    0.68,2,  -126.7,2,     2.4,   1.631,3,   40.00,2,   35.32,2,  800.10,   2.6163
33RO20100308,      A13.5,      17,          1,         14,      11708,2,20100318,       1245,      -46.0,     1.1085,       4381,  1000.6,   2.6092,  34.5419,2,-999.0000,9, 176.7000,2,   175.9,2,   66.95,2,   33.77,2,    0.00,2,    2.34,2,   0.655,2,   0.323,2,   0.1240,2,  2246.4,2,  2329.2,2,   1174.5,2,    20.00,   7.5624,2,    25.00,-999.000,1,-999.0000,1, -999.00,9,   2.6084,2,    0.69,2,  -133.7,2,     2.7,   0.910,3,   37.92,2,   35.42,2, 1000.60,   2.5442
33RO20100308,      A13.5,      17,          1,         13,      11031,2,20100318,       1245,      -46.0,     1.1085,       4381,  1199.2,   2.5214,  34.6274,2,  34.6275,2, 176.4000,2,   176.0,2,   72.13,2,   32.85,2,    0.00,2,    2.29,2,   0.401,2,   0.200,2,   0.0630,2,  2248.9,6,  2335.5,6,   1150.2,2,    20.00,   7.5726,2,    25.00,-999.000,1,-999.0000,1, -999.00,9,   2.5197,2,    0.48,2,  -135.5,2,     3.4,   0.605,3,   37.72,2,   35.22,2, 1199.20,   2.4423
33RO20100308,      A13.5,      17,          1,         12,      11027,2,20100318,       1245,      -46.0,     1.1085,       4381,  1399.8,   2.4818,  34.7035,2,  34.7036,2, 183.2000,2,   183.3,2,   72.80,2,   31.20,2,    0.00,2,    2.16,2,   0.242,2,   0.119,2,   0.0620,2,  2244.9,2,  2339.7,2,   1087.5,2,    20.00,   7.5952,2,    25.00,-999.000,1,-999.0000,1, -999.00,9,   2.4815,2,    0.58,2,  -146.6,2,     2.3,   0.407,3,   39.44,2,   33.06,2, 1399.80,   2.3875
33RO20100308,      A13.5,      17,          1,         11,      11707,2,20100318,       1245,      -46.0,     1.1085,       4381,  1599.5,   2.4332,  34.7468,2,  34.7464,2, 192.1000,2,   191.7,2,   71.95,2,   29.88,2,    0.00,2,    2.07,2,   0.168,2,   0.083,2,   0.0000,2,  2240.5,2,  2341.6,2,   1033.9,2,    20.00,   7.6154,2,    25.00,-999.000,1,-999.0000,1, -999.00,9,   2.4326,2,    0.63,2,  -143.4,2,     2.5,   0.311,3,   39.11,2,   31.52,2, 1599.50,   2.3235
33RO20100308,      A13.5,      17,          1,         10,      11003,2,20100318,       1245,      -46.0,     1.1085,       4381,  1799.4,   2.3205,  34.7664,2,  34.7679,2, 196.6000,2,   196.8,2,   73.39,2,   29.22,2,    0.00,2,    2.02,2,   0.148,2,   0.073,2,   0.0320,2,  2238.1,2,  2343.4,2,   1019.6,2,    20.00,   7.6262,2,    25.00,-999.000,1,-999.0000,1, -999.00,9,   2.3201,2,    0.67,2,  -142.5,2,     2.3,   0.279,3,   38.20,2,   31.29,2, 1799.40,   2.1957
33RO20100308,      A13.5,      17,          1,          9,      11706,2,20100318,       1245,      -46.0,     1.1085,       4381,  2099.7,   2.0437,  34.7756,2,  34.7743,2, 203.3000,2,   203.2,2,   79.13,2,   28.93,2,    0.00,2,    1.99,2,   0.123,2,   0.060,2,   0.0320,2,  2238.1,2,  2345.2,2,    999.6,2,    20.00,   7.6343,2,    25.00,-999.000,9,-999.0000,9, -999.00,9,   2.0424,2,    0.63,2,  -143.4,2,     2.7,   0.224,3,   37.93,2,   30.52,2, 2099.70,   1.8976
33RO20100308,      A13.5,      17,          1,          8,      11033,2,20100318,       1245,      -46.0,     1.1085,       4381,  2299.1,   1.8732,  34.7720,2,  34.7714,2, 204.7000,2,   205.3,2,   83.52,2,   29.11,2,    0.00,2,    2.01,2,   0.130,2,   0.063,2,   0.0240,2,  2240.2,2,  2349.5,2,    993.9,2,    20.00,   7.6334,2,    25.00,-999.000,1,-999.0000,1, -999.00,9,   1.8728,2,    0.62,2,  -145.6,2,     2.6,   0.231,3,   37.85,2,   30.42,2, 2299.10,   1.7126
33RO20100308,      A13.5,      17,          1,          7,      11705,2,20100318,       1245,      -46.0,     1.1085,       4381,  2600.5,   1.5378,  34.7480,2,  34.7475,2, 203.7000,2,   203.8,2,   95.47,2,   30.27,2,    0.00,2,    2.10,2,   0.165,2,   0.081,2,   0.0250,2,  2248.2,2,  2354.3,2,   1020.7,6,    20.00,   7.6227,2,    25.00,-999.000,9,-999.0000,9, -999.00,9,   1.5377,2,    0.58,2,  -155.9,2,     2.3,   0.263,3,   38.14,2,   31.44,2, 2600.50,   1.3568
33RO20100308,      A13.5,      17,          1,          6,      11029,2,20100318,       1245,      -46.0,     1.1085,       4381,  2900.2,   1.3089,  34.7355,2,  34.7343,2, 205.2000,2,   206.2,2,  102.30,2,   30.76,2,    0.00,2,    2.13,2,   0.196,2,   0.095,2,   0.0000,2,  2250.9,2,  2355.5,2,   1033.6,2,    20.00,   7.6184,2,    25.00,-999.000,1,-999.0000,1, -999.00,9,   1.3084,2,    0.56,2,  -157.0,2,     2.4,   0.300,3,   39.08,2,   32.65,2, 2900.20,   1.1053
33RO20100308,      A13.5,      17,          1,          5,      11704,2,20100318,       1245,      -46.0,     1.1085,       4381,  3200.8,   1.1307,  34.7246,2,  34.7248,2, 207.5000,2,   207.4,2,  107.46,6,   31.08,6,    0.00,6,    2.15,6,   0.233,2,   0.113,2,   0.0300,2,  2253.7,2,  2356.3,2,   1043.8,2,    20.00,   7.6147,2,    25.00,-999.000,9,-999.0000,9, -999.00,9,   1.1304,2,    0.54,2,  -155.6,2,     2.4,   0.355,3,   38.39,2,   33.05,2, 3200.80,   0.9028
33RO20100308,      A13.5,      17,          1,          4,      11030,2,20100318,       1245,      -46.0,     1.1085,       4381,  3500.7,   0.8715,  34.7068,2,  34.7054,2, 209.8000,2,   209.5,2,  115.92,6,   31.77,6,    0.00,6,    2.21,6,   0.308,2,   0.148,2,   0.0710,3,  2258.0,2,  2358.5,2,   1063.1,2,    20.00,   7.6067,2,    25.00,-999.000,1,-999.0000,1, -999.00,9,   0.8707,2,    0.51,2,  -160.7,2,     2.3,   0.447,3,   38.16,2,   33.32,2, 3500.70,   0.6210
33RO20100308,      A13.5,      17,          1,          3,      11703,2,20100318,       1245,      -46.0,     1.1085,       4381,  3799.4,   0.7653,  34.6994,2,  34.6997,2, 211.8000,2,   211.0,2,  120.71,6,   32.06,6,    0.00,6,    2.23,6,   0.330,2,   0.159,2,   0.0650,3,  2259.6,2,  2359.3,2,   1079.3,2,    20.00,   7.6049,2,    25.00,-999.000,9,-999.0000,9, -999.00,9,   0.7645,2,    0.47,2,  -158.4,2,     2.6,   0.474,3,   38.23,2,   33.34,2, 3799.40,   0.4877
33RO20100308,      A13.5,      17,          1,          2,      11702,4,20100318,       1245,      -46.0,     1.1085,       4381,  4099.8,   0.7292,  34.6958,4,  33.9281,4, 212.4000,4,   287.9,4,    3.40,4,   19.55,4,    0.31,4,    1.47,4,   4.307,4,   2.457,4,   2.1420,4,  2112.8,4,  2269.7,4,   -999.0,9,  -999.00,   7.7651,4,    25.00,-999.000,1,-999.0000,1, -999.00,9,   0.7286,2, -999.00,9,  -999.0,9,  -999.0,   5.038,4,   47.55,4,   23.95,4, 4099.80,   0.4215
33RO20100308,      A13.5,      17,          1,          1,      11701,2,20100318,       1245,      -46.0,     1.1085,       4381,  4445.5,   0.7252,  34.6926,2,  34.6930,2, 213.9000,2,   211.3,6,  125.45,6,   32.32,6,    0.00,6,    2.25,6,   0.352,2,   0.171,2,   0.0460,2,  2262.9,6,  2361.0,6,   1085.4,2,    20.00,   7.6029,2,    25.00,-999.000,1,-999.0000,1, -999.00,9,   0.7242,2,    0.49,2,  -164.5,2,     3.1,   0.501,3,   38.80,2,   33.68,2, 4445.50,   0.3803