BOTTLE,20130404CCHSIOCBG
EXPOCODE,SECT_ID,STNNBR,CASTNO,SAMPNO,BTLNBR,BTLNBR_FLAG_W,DATE,TIME,LATITUDE,LONGITUDE,DEPTH,CTDPRS,CTDTMP,CTDSAL,CTDSAL_FLAG_W,SALNTY,SALNTY_FLAG_W,CTDOXY,CTDOXY_FLAG_W,OXYGEN,OXYGEN_FLAG_W,SILCAT,SILCAT_FLAG_W,NITRAT,NITRAT_FLAG_W,NITRIT,NITRIT_FLAG_W,PHSPHT,PHSPHT_FLAG_W,CFC-11,CFC-11_FLAG_W,CFC-12,CFC-12_FLAG_W,SF6,SF6_FLAG_W,TCARBN,TCARBN_FLAG_W,ALKALI,ALKALI_FLAG_W,FCO2,FCO2_FLAG_W,FCO2TMP,PH_TOT,PH_TOT_FLAG_W,PH_TMP,TRITUM,TRITUM_FLAG_W,HELIUM,HELIUM_FLAG_W,DELHE3,DELHE3_FLAG_W,REFTMP,REFTMP_FLAG_W,DELC13,DELC13_FLAG_W,DELC14,DELC14_FLAG_W,C14ERR,CCL4,CCL4_FLAG_W,DOC,DOC_FLAG_W,TDN,TDN_FLAG_W,CTDRAW,THETA
,,,,,,,,,,,METERS,DBAR,ITS-90,PSS-78,,PSS-78,,UMOL/KG,,UMOL/KG,,UMOL/KG,,UMOL/KG,,UMOL/KG,,UMOL/KG,,PMOL/KG,,PMOL/KG,,FMOL/KG,,UMOL/KG,,UMOL/KG,,UATM,,DEG C,,,DEG C,TU,,NMOL/KG,,PERCNT,,DEG C,,/MILLE,,/MILLE,,/MILLE,PMOL/KG,,UMOL/KG,,UMOL/KG,,DBAR,DEG C
33RO20100308,      A13.5,      47,          1,         24,      11714,2,20100326,       0309,      -31.0,     1.5643,       4425,     6.0,  21.4013,  35.8491,2,  35.8489,2, 223.6000,2,   223.7,2,    1.29,2,    0.00,2,    0.00,2,    0.09,2,   2.046,2,   1.260,2,   1.2440,2,  2057.8,6,  2353.0,6,    350.7,2,    20.00,   8.0283,2,    25.00,-999.000,9,-999.0000,9, -999.00,9,  21.3998,2, -999.00,9,  -999.0,9,  -999.0,   2.658,3,   62.46,2,    4.02,2,    6.00,  21.4001
33RO20100308,      A13.5,      47,          1,         23,      11713,2,20100326,       0309,      -31.0,     1.5643,       4425,    49.8,  20.9120,  35.7824,2,  35.8040,2, 228.2000,2,   228.2,2,    1.38,2,    0.02,2,    0.00,2,    0.10,2,   2.098,2,   1.285,2,   1.2550,2,  2055.3,2,  2345.5,2,    350.0,2,    20.00,   8.0273,2,    25.00,-999.000,9,-999.0000,9, -999.00,9,  21.1086,3, -999.00,9,  -999.0,9,  -999.0,   2.691,3,   62.50,2,    4.12,2,   49.80,  20.9025
33RO20100308,      A13.5,      47,          1,         22,      11712,2,20100326,       0309,      -31.0,     1.5643,       4425,   100.1,  16.6602,  35.5914,2,  35.5946,2, 235.4000,2,   236.0,2,    2.67,2,    1.27,2,    0.46,2,    0.28,2,   2.491,6,   1.507,6,   1.3440,6,  2072.5,2,  2335.9,2,    404.5,2,    20.00,   7.9765,2,    25.00,-999.000,9,-999.0000,9, -999.00,9,  16.6587,2, -999.00,9,  -999.0,9,  -999.0,   2.162,3,   57.68,2,    5.69,2,  100.10,  16.6439
33RO20100308,      A13.5,      47,          1,         21,      11010,2,20100326,       0309,      -31.0,     1.5643,       4425,   201.6,  16.1925,  35.5702,2,  35.5693,2, 228.9000,2,   228.9,2,    3.29,2,    4.05,2,    0.01,2,    0.38,2,   2.493,2,   1.512,2,   1.3710,2,  2078.5,2,  2329.6,2,    419.4,2,    20.00,   7.9617,2,    25.00,-999.000,9,-999.0000,9, -999.00,9,  16.1872,2, -999.00,9,  -999.0,9,  -999.0,   1.383,3,   52.85,2,    7.54,2,  201.60,  16.1602
33RO20100308,      A13.5,      47,          1,         20,      11715,2,20100326,       0309,      -31.0,     1.5643,       4425,   299.6,  15.5101,  35.4943,2,  35.4964,2, 223.8000,2,   224.3,2,    3.41,2,    5.20,2,    0.01,2,    0.47,2,   2.562,2,   1.538,2,   1.3310,2,  2090.3,2,  2329.0,2,    448.8,6,    20.00,   7.9370,2,    25.00,-999.000,9,-999.0000,9, -999.00,9,  15.5075,2, -999.00,9,  -999.0,9,  -999.0,   1.433,3,   50.80,2,    7.83,2,  299.60,  15.4634
33RO20100308,      A13.5,      47,          1,         19,      11007,2,20100326,       0309,      -31.0,     1.5643,       4425,   400.0,  13.7057,  35.2566,2,  35.2570,2, 217.6000,2,   217.9,2,    4.01,2,    8.51,2,    0.01,2,    0.69,2,   2.835,2,   1.651,2,   1.2500,2,  2109.9,2,  2317.6,2,    526.9,2,    20.00,   7.8777,2,    25.00,-999.000,9,-999.0000,9, -999.00,9,  13.7037,2, -999.00,9,  -999.0,9,  -999.0,   1.436,3,   47.85,2,   10.39,2,  400.00,  13.6482
33RO20100308,      A13.5,      47,          1,         18,      11710,2,20100326,       0309,      -31.0,     1.5643,       4425,   599.1,  10.3104,  34.8255,2,  34.8253,2, 213.9000,2,   213.9,2,    6.40,2,   16.12,2,    0.00,2,    1.17,2,   3.165,2,   1.747,2,   1.0620,2,  2137.7,2,  2300.1,2,   -999.0,9,  -999.00,   7.7783,2,    25.00,-999.000,9,-999.0000,9, -999.00,9,  10.3191,2, -999.00,9,  -999.0,9,  -999.0,   1.887,3,   43.93,2,   17.37,2,  599.10,  10.2383
33RO20100308,      A13.5,      47,          1,         17,      11025,2,20100326,       0309,      -31.0,     1.5643,       4425,   798.0,   6.6535,  34.4388,2,  34.4384,2, 209.4000,2,   210.3,6,   15.33,2,   25.38,2,    0.00,2,    1.77,2,   3.057,2,   1.614,2,   0.7890,2,  2176.2,2,  2288.5,2,    876.5,2,    20.00,   7.6743,2,    25.00,-999.000,9,-999.0000,9, -999.00,9,   6.6536,2, -999.00,9,  -999.0,9,  -999.0,   3.104,3,   42.04,2,   26.66,2,  798.00,   6.5783
33RO20100308,      A13.5,      47,          1,         16,      11709,2,20100326,       0309,      -31.0,     1.5643,       4425,   999.1,   4.3248,  34.3415,2,  34.3419,2, 206.5000,2,   206.9,2,   31.13,2,   30.45,2,    0.00,2,    2.14,2,   2.269,2,   1.126,2,   0.4890,2,  2197.3,2,  2296.9,2,   1007.5,2,    20.00,   7.6199,2,    25.00,-999.000,9,-999.0000,9, -999.00,9,   4.3263,2, -999.00,9,  -999.0,9,  -999.0,   3.165,3,   40.53,2,   31.74,2,  999.10,   4.2470
33RO20100308,      A13.5,      47,          1,         15,      11006,2,20100326,       0309,      -31.0,     1.5643,       4425,  1197.1,   3.6258,  34.4276,2,  34.4274,2, 186.0000,2,   185.9,2,   45.99,2,   32.60,2,    0.00,2,    2.29,2,   1.186,2,   0.565,2,   0.2290,2,  2221.6,2,  2310.5,2,   1099.6,2,    20.00,   7.5877,2,    25.00,-999.000,9,-999.0000,9, -999.00,9,   3.6262,2, -999.00,9,  -999.0,9,  -999.0,   1.971,3,   38.46,2,   34.56,2, 1197.10,   3.5370
33RO20100308,      A13.5,      47,          1,         14,      11708,2,20100326,       0309,      -31.0,     1.5643,       4425,  1400.3,   3.1555,  34.5658,2,  34.5645,2, 178.5000,2,   178.5,2,   55.38,2,   32.31,2,    0.00,2,    2.26,2,   0.395,2,   0.190,2,   0.0900,2,  2234.0,2,  2324.2,2,   -999.0,9,  -999.00,   7.5869,2,    25.00,-999.000,9,-999.0000,9, -999.00,9,   3.1540,2, -999.00,9,  -999.0,9,  -999.0,   0.827,3,   39.34,2,   34.20,2, 1400.30,   3.0542
33RO20100308,      A13.5,      47,          1,         13,      11031,2,20100326,       0309,      -31.0,     1.5643,       4425,  1598.4,   3.0325,  34.6721,2,  34.6719,2, 188.1000,2,   187.8,2,   54.03,2,   30.35,2,    0.00,2,    2.11,2,   0.171,2,   0.082,2,   0.0610,2,  2228.7,2,  2327.1,2,   1043.5,2,    20.00,   7.6114,2,    25.00,-999.000,9,-999.0000,9, -999.00,9,   3.0321,2, -999.00,9,  -999.0,9,  -999.0,   0.424,3,   39.11,2,   31.56,2, 1598.40,   2.9157
33RO20100308,      A13.5,      47,          1,         12,      11027,2,20100326,       0309,      -31.0,     1.5643,       4425,  1798.7,   3.0264,  34.7462,2,  34.7470,2, 197.0000,2,   198.0,2,   49.87,2,   28.22,2,    0.00,2,    1.96,2,   0.078,2,   0.037,2,   0.0000,2,  2221.0,2,  2327.6,2,    980.5,2,    20.00,   7.6375,2,    25.00,-999.000,9,-999.0000,9, -999.00,9,   3.0244,2, -999.00,9,  -999.0,9,  -999.0,   0.226,3,   38.60,2,   29.29,2, 1798.70,   2.8921
33RO20100308,      A13.5,      47,          1,         11,      11707,2,20100326,       0309,      -31.0,     1.5643,       4425,  1998.9,   2.9026,  34.7873,2,  34.7883,2, 206.8000,2,   207.7,2,   49.63,2,   26.97,2,    0.00,2,    1.87,2,   0.049,2,   0.024,2,   0.0000,2,  2214.7,2,  2329.3,2,    932.0,2,    20.00,   7.6561,2,    25.00,-999.000,9,-999.0000,9, -999.00,9,   2.9023,2, -999.00,9,  -999.0,9,  -999.0,   0.168,3,   39.29,2,   28.68,2, 1998.90,   2.7521
33RO20100308,      A13.5,      47,          1,         10,      11003,2,20100326,       0309,      -31.0,     1.5643,       4425,  2200.6,   2.7929,  34.8104,2,  34.8106,2, 214.6000,2,   213.8,2,   50.20,2,   26.19,2,    0.00,2,    1.81,2,   0.035,2,   0.017,2,   0.0000,2,  2211.8,2,  2332.1,2,   -999.0,9,  -999.00,   7.6677,2,    25.00,-999.000,9,-999.0000,9, -999.00,9,   2.7927,2, -999.00,9,  -999.0,9,  -999.0,   0.137,3,   38.42,2,   28.19,2, 2200.60,   2.6256
33RO20100308,      A13.5,      47,          1,          9,      11706,2,20100326,       0309,      -31.0,     1.5643,       4425,  2399.5,   2.6229,  34.8256,2,  34.8250,2, 219.9000,2,   220.1,2,   52.19,6,   25.65,6,    0.00,6,    1.75,6,   0.025,2,   0.013,2,   0.0000,2,  2210.5,2,  2332.5,2,    884.1,2,    20.00,   7.6779,2,    25.00,-999.000,9,-999.0000,9, -999.00,9,   2.6225,2, -999.00,9,  -999.0,9,  -999.0,   0.115,3,   39.76,2,   27.43,2, 2399.50,   2.4399
33RO20100308,      A13.5,      47,          1,          8,      11033,2,20100326,       0309,      -31.0,     1.5643,       4425,  2599.6,   2.4968,  34.8380,2,  34.8370,2, 224.5000,2,   224.9,2,   53.56,2,   25.04,2,    0.00,2,    1.73,2,   0.020,2,   0.011,2,   0.0420,2,  2210.0,2,  2338.4,2,   -999.0,9,  -999.00,   7.6864,2,    25.00,-999.000,9,-999.0000,9, -999.00,9,   2.4964,2, -999.00,9,  -999.0,9,  -999.0,   0.106,3,   39.09,2,   26.65,2, 2599.60,   2.2970
33RO20100308,      A13.5,      47,          1,          7,      11705,2,20100326,       0309,      -31.0,     1.5643,       4425,  2799.3,   2.4367,  34.8483,2,  34.8477,2, 228.2000,2,   228.6,6,   53.31,2,   24.71,2,    0.00,2,    1.69,2,   0.012,2,   0.007,2,   0.0000,2,  2208.9,2,  2339.6,2,    844.6,2,    20.00,   7.6944,2,    25.00,-999.000,9,-999.0000,9, -999.00,9,   2.4363,2, -999.00,9,  -999.0,9,  -999.0,   0.078,3,   39.11,2,   26.84,2, 2799.30,   2.2186
33RO20100308,      A13.5,      47,          1,          6,      11029,2,20100326,       0309,      -31.0,     1.5643,       4425,  2999.9,   2.3756,  34.8566,2,  34.8557,2, 231.5000,2,   232.2,2,   53.58,2,   24.52,2,    0.00,2,    1.67,2,   0.009,2,   0.007,2,   0.0000,2,  2207.8,2,  2340.8,2,    832.9,2,    20.00,   7.7022,2,    25.00,-999.000,9,-999.0000,9, -999.00,9,   2.3752,2, -999.00,9,  -999.0,9,  -999.0,   0.057,3,   38.93,2,   26.03,2, 2999.90,   2.1387
33RO20100308,      A13.5,      47,          1,          5,      11704,2,20100326,       0309,      -31.0,     1.5643,       4425,  3299.9,   2.3182,  34.8672,2,  34.8661,2, 233.5000,2,   233.8,2,   53.71,2,   23.96,2,    0.00,2,    1.64,2,   0.003,2,   0.004,2,   0.0000,2,  2210.4,2,  2344.2,2,    815.9,2,    20.00,   7.7103,2,    25.00,-999.000,9,-999.0000,9, -999.00,9,   2.3176,2, -999.00,9,  -999.0,9,  -999.0,   0.034,3,   39.08,2,   25.01,2, 3299.90,   2.0517
33RO20100308,      A13.5,      47,          1,          4,      11030,2,20100326,       0309,      -31.0,     1.5643,       4425,  3602.5,   2.2810,  34.8713,2,  34.8705,2, 232.3000,2,   232.4,2,   54.94,2,   23.86,2,    0.00,2,    1.64,2,   0.004,2,   0.004,2,   0.0120,2,  2214.5,2,  2353.7,2,   -999.0,9,  -999.00,   7.7140,2,    25.00,-999.000,9,-999.0000,9, -999.00,9,   2.2804,2, -999.00,9,  -999.0,9,  -999.0,   0.026,3,   38.99,2,   25.72,2, 3602.50,   1.9831
33RO20100308,      A13.5,      47,          1,          3,      11703,2,20100326,       0309,      -31.0,     1.5643,       4425,  3900.5,   2.0920,  34.8462,2,  34.8457,2, 229.8000,2,   229.2,2,   64.24,6,   25.04,6,    0.00,6,    1.72,6,   0.013,6,   0.009,6,   0.0200,6,  2221.4,2,  2355.3,2,    840.4,2,    20.00,   7.7004,2,    25.00,-999.000,9,-999.0000,9, -999.00,9,   2.0913,2, -999.00,9,  -999.0,9,  -999.0,   0.055,3,   38.87,2,   26.49,2, 3900.50,   1.7665
33RO20100308,      A13.5,      47,          1,          2,      11702,2,20100326,       0309,      -31.0,     1.5643,       4425,  4200.6,   1.3884,  34.7670,2,  34.7655,2, 219.6000,2,   220.2,2,   94.41,6,   28.85,6,    0.00,6,    2.00,6,   0.048,2,   0.023,2,   0.0000,2,  2245.7,2,  2361.7,2,    942.7,2,    20.00,   7.6566,2,    25.00,-999.000,9,-999.0000,9, -999.00,9,   1.3874,2, -999.00,9,  -999.0,9,  -999.0,   0.166,3,   38.28,2,   29.91,2, 4200.60,   1.0501
33RO20100308,      A13.5,      47,          1,          1,      11701,2,20100326,       0309,      -31.0,     1.5643,       4425,  4491.7,   1.1843,  34.7436,2,  34.7429,2, 219.3000,2,   217.9,2,  103.74,6,   29.98,6,    0.00,6,    2.08,6,   0.063,2,   0.031,2,   0.0000,2,  2253.9,6,  2364.8,2,    973.8,2,    20.00,   7.6457,2,    25.00,-999.000,9,-999.0000,9, -999.00,9,   1.1839,2, -999.00,9,  -999.0,9,  -999.0,   0.206,3,   37.89,2,   31.58,2, 4491.70,   0.8196