BOTTLE,20130404CCHSIOCBG
EXPOCODE,SECT_ID,STNNBR,CASTNO,SAMPNO,BTLNBR,BTLNBR_FLAG_W,DATE,TIME,LATITUDE,LONGITUDE,DEPTH,CTDPRS,CTDTMP,CTDSAL,CTDSAL_FLAG_W,SALNTY,SALNTY_FLAG_W,CTDOXY,CTDOXY_FLAG_W,OXYGEN,OXYGEN_FLAG_W,SILCAT,SILCAT_FLAG_W,NITRAT,NITRAT_FLAG_W,NITRIT,NITRIT_FLAG_W,PHSPHT,PHSPHT_FLAG_W,CFC-11,CFC-11_FLAG_W,CFC-12,CFC-12_FLAG_W,SF6,SF6_FLAG_W,TCARBN,TCARBN_FLAG_W,ALKALI,ALKALI_FLAG_W,FCO2,FCO2_FLAG_W,FCO2TMP,PH_TOT,PH_TOT_FLAG_W,PH_TMP,TRITUM,TRITUM_FLAG_W,HELIUM,HELIUM_FLAG_W,DELHE3,DELHE3_FLAG_W,REFTMP,REFTMP_FLAG_W,DELC13,DELC13_FLAG_W,DELC14,DELC14_FLAG_W,C14ERR,CCL4,CCL4_FLAG_W,DOC,DOC_FLAG_W,TDN,TDN_FLAG_W,CTDRAW,THETA
,,,,,,,,,,,METERS,DBAR,ITS-90,PSS-78,,PSS-78,,UMOL/KG,,UMOL/KG,,UMOL/KG,,UMOL/KG,,UMOL/KG,,UMOL/KG,,PMOL/KG,,PMOL/KG,,FMOL/KG,,UMOL/KG,,UMOL/KG,,UATM,,DEG C,,,DEG C,TU,,NMOL/KG,,PERCNT,,DEG C,,/MILLE,,/MILLE,,/MILLE,PMOL/KG,,UMOL/KG,,UMOL/KG,,DBAR,DEG C
33RO20100308,      A13.5,      87,          1,         24,      11714,2,20100407,       1055,      -11.0,     0.8257,       5637,     5.1,  27.6762,  36.4216,2,  36.4231,2, 197.6000,2,   197.5,2,    0.99,6,    0.01,6,    0.00,6,    0.12,6,   1.549,2,   0.987,2,   0.9810,2,  2057.4,6,  -999.0,5,    309.2,2,    20.00,   8.0802,2,    25.00,-999.000,9,-999.0000,9, -999.00,9,-999.0000,9, -999.00,9,  -999.0,9,  -999.0,   1.848,3,   78.99,2,    5.28,2,    5.10,  27.6750
33RO20100308,      A13.5,      87,          1,         23,      11716,2,20100407,       1055,      -11.0,     0.8257,       5637,    50.9,  22.8423,  36.4348,2,  36.4343,2, 241.0000,2,   239.8,2,    1.25,2,    0.13,2,    0.00,2,    0.16,2,   2.042,2,   1.246,2,   1.0730,2,  2073.8,2,  2394.0,6,    333.2,2,    20.00,   8.0493,2,    25.00,-999.000,9,-999.0000,9, -999.00,9,-999.0000,9, -999.00,9,  -999.0,9,  -999.0,   1.269,3,   71.18,2,    5.89,2,   50.90,  22.8319
33RO20100308,      A13.5,      87,          1,         22,      11022,2,20100407,       1055,      -11.0,     0.8257,       5637,    66.7,  18.2746,  36.0279,2,  36.0194,2, 152.1000,2,   150.2,2,    3.48,2,   11.82,2,    0.38,2,    0.89,2,   2.115,6,   1.246,6,   0.9440,6,  2155.2,2,  2363.4,2,    568.0,6,    20.00,   7.8511,2,    25.00,-999.000,9,-999.0000,9, -999.00,9,-999.0000,9, -999.00,9,  -999.0,9,  -999.0,   0.871,3,   61.61,2,   16.44,2,   66.70,  18.2630
33RO20100308,      A13.5,      87,          1,         21,      11010,2,20100407,       1055,      -11.0,     0.8257,       5637,   100.2,  14.0899,  35.4465,2,  35.4484,2,  75.0000,2,    71.6,2,    7.29,2,   24.62,2,    0.11,2,    1.58,2,   2.009,2,   1.124,2,   0.5990,2,  2210.1,2,  2323.7,2,    978.8,2,    20.00,   7.6339,2,    25.00,-999.000,9,-999.0000,9, -999.00,9,-999.0000,9, -999.00,9,  -999.0,9,  -999.0,   0.367,3,   47.15,2,   27.61,2,  100.20,  14.0753
33RO20100308,      A13.5,      87,          1,         20,      11715,2,20100407,       1055,      -11.0,     0.8257,       5637,   149.9,  12.4486,  35.2226,2,  35.2269,2,  61.5000,2,    60.8,2,    9.94,2,   28.18,2,    0.01,2,    1.79,2,   1.692,2,   0.915,2,   0.3510,2,  2220.9,2,  2313.4,2,   1128.8,2,    20.00,   7.5767,2,    25.00,-999.000,9,-999.0000,9, -999.00,9,-999.0000,9, -999.00,9,  -999.0,9,  -999.0,   0.233,3,   46.30,2,   30.96,2,  149.90,  12.4285
33RO20100308,      A13.5,      87,          1,         19,      11007,2,20100407,       1055,      -11.0,     0.8257,       5637,   199.9,  11.5179,  35.1054,2,  35.1080,2,  60.5000,2,    59.9,2,   11.43,2,   29.88,2,    0.00,2,    1.89,2,   1.455,2,   0.774,2,   0.2830,2,  2225.5,2,  2308.8,2,   1198.4,2,    20.00,   7.5531,2,    25.00,-999.000,9,-999.0000,9, -999.00,9,-999.0000,9, -999.00,9,  -999.0,9,  -999.0,   0.236,3,   45.88,2,   32.52,2,  199.90,  11.4925
33RO20100308,      A13.5,      87,          1,         18,      11710,2,20100407,       1055,      -11.0,     0.8257,       5637,   303.0,  10.1735,  34.9498,2,  34.9513,2,  35.5000,2,    36.4,2,   14.65,2,   34.87,2,    0.00,2,    2.19,2,   0.808,2,   0.426,2,   0.1100,2,  2247.1,2,  2300.3,2,   1477.3,2,    20.00,   7.4674,2,    25.00,-999.000,9,-999.0000,9, -999.00,9,-999.0000,9, -999.00,9,  -999.0,9,  -999.0,   0.164,3,   43.18,2,   36.38,2,  303.00,  10.1378
33RO20100308,      A13.5,      87,          1,         17,      11025,2,20100407,       1055,      -11.0,     0.8257,       5637,   398.8,   8.8575,  34.8134,2,  34.8140,2,  26.0000,2,    28.8,2,   17.98,2,   38.45,2,    0.00,2,    2.43,2,   0.343,2,   0.185,2,   0.0000,2,  2258.4,6,  2295.0,2,   1697.1,2,    20.00,   7.4138,2,    25.00,-999.000,9,-999.0000,9, -999.00,9,-999.0000,9, -999.00,9,  -999.0,9,  -999.0,   0.111,3,   42.41,2,   40.37,2,  398.80,   8.8142
33RO20100308,      A13.5,      87,          1,         16,      11709,2,20100407,       1055,      -11.0,     0.8257,       5637,   601.9,   6.1520,  34.5726,2,  34.5747,2,  69.2000,2,    69.4,2,   25.36,2,   40.12,2,    0.00,2,    2.62,2,   0.068,2,   0.043,2,   0.0000,2,  2252.9,2,  2292.7,2,   1631.3,6,    20.00,   7.4278,2,    25.00,-999.000,9,-999.0000,9, -999.00,9,-999.0000,9, -999.00,9,  -999.0,9,  -999.0,   0.122,3,   39.99,2,   41.87,2,  601.90,   6.0982
33RO20100308,      A13.5,      87,          1,         15,      11006,2,20100407,       1055,      -11.0,     0.8257,       5637,   801.1,   4.6885,  34.5098,2,  34.5111,2, 122.8000,2,   122.5,6,   32.31,2,   36.93,2,    0.00,2,    2.49,2,   0.024,2,   0.014,2,   0.0000,2,  2236.2,2,  2299.3,2,   1357.5,2,    20.00,   7.5044,2,    25.00,-999.000,9,-999.0000,9, -999.00,9,-999.0000,9, -999.00,9,  -999.0,9,  -999.0,   0.094,3,   39.98,2,   38.58,2,  801.10,   4.6248
33RO20100308,      A13.5,      87,          1,         14,      11708,2,20100407,       1055,      -11.0,     0.8257,       5637,  1001.9,   4.2159,  34.5925,2,  34.5929,2, 147.4000,2,   146.8,2,   34.01,2,   34.00,2,    0.00,2,    2.31,2,   0.008,2,   0.006,2,   0.0000,2,  2228.2,2,  2306.8,6,   1213.9,2,    20.00,   7.5499,2,    25.00,-999.000,9,-999.0000,9, -999.00,9,-999.0000,9, -999.00,9,  -999.0,9,  -999.0,   0.049,3,   39.42,2,   35.91,2, 1001.90,   4.1383
33RO20100308,      A13.5,      87,          1,         13,      11031,2,20100407,       1055,      -11.0,     0.8257,       5637,  1300.3,   4.0055,  34.7925,2,  34.7938,2, 185.9000,2,   184.8,2,   29.15,2,   28.20,2,    0.00,2,    1.90,2,   0.006,2,   0.005,2,   0.0000,2,  2205.4,2,  2314.0,2,    991.7,2,    20.00,   7.6310,2,    25.00,-999.000,9,-999.0000,9, -999.00,9,-999.0000,9, -999.00,9,  -999.0,9,  -999.0,   0.048,3,   39.62,2,   29.49,2, 1300.30,   3.9035
33RO20100308,      A13.5,      87,          1,         12,      11027,2,20100407,       1055,      -11.0,     0.8257,       5637,  1600.6,   3.7616,  34.9022,2,  34.9023,2, 213.1000,2,   212.1,2,   26.11,2,   24.19,2,    0.00,2,    1.62,2,   0.014,2,   0.009,2,   0.0000,2,  2189.5,2,  2317.6,2,    870.1,2,    20.00,   7.6840,2,    25.00,-999.000,9,-999.0000,9, -999.00,9,-999.0000,9, -999.00,9,  -999.0,9,  -999.0,   0.062,3,   39.76,2,   25.68,2, 1600.60,   3.6352
33RO20100308,      A13.5,      87,          1,         11,      11707,2,20100407,       1055,      -11.0,     0.8257,       5637,  1899.5,   3.4847,  34.9292,2,  34.9296,2, 228.7000,2,   227.4,2,   27.13,2,   22.53,2,    0.00,2,    1.50,2,   0.009,2,   0.007,2,   0.0000,2,  2183.6,2,  2320.4,2,    816.7,2,    20.00,   7.7074,2,    25.00,-999.000,9,-999.0000,9, -999.00,9,-999.0000,9, -999.00,9,  -999.0,9,  -999.0,   0.065,3,   40.03,2,   24.22,2, 1899.50,   3.3343
33RO20100308,      A13.5,      87,          1,         10,      11003,2,20100407,       1055,      -11.0,     0.8257,       5637,  2201.3,   3.2030,  34.9262,2,  34.9277,2, 233.8000,2,   232.1,6,   31.17,2,   22.30,2,    0.00,2,    1.49,2,   0.005,2,   0.004,2,   0.0000,2,  2186.1,2,  2324.7,2,    808.1,2,    20.00,   7.7144,2,    25.00,-999.000,9,-999.0000,9, -999.00,9,-999.0000,9, -999.00,9,  -999.0,9,  -999.0,   0.047,3,   39.71,2,   23.78,2, 2201.30,   3.0285
33RO20100308,      A13.5,      87,          1,          9,      11706,2,20100407,       1055,      -11.0,     0.8257,       5637,  2499.9,   2.9480,  34.9191,2,  34.9196,2, 233.0000,2,   232.5,2,   36.00,2,   22.50,2,    0.00,2,    1.50,2,   0.002,2,   0.002,2,   0.0000,2,  2189.7,2,  2330.3,2,    811.4,2,    20.00,   7.7152,2,    25.00,-999.000,9,-999.0000,9, -999.00,9,-999.0000,9, -999.00,9,  -999.0,9,  -999.0,   0.020,3,   39.81,2,   24.26,2, 2499.90,   2.7491
33RO20100308,      A13.5,      87,          1,          8,      11033,2,20100407,       1055,      -11.0,     0.8257,       5637,  2902.0,   2.7047,  34.9058,2,  34.9060,2, 233.8000,2,   232.9,2,   41.57,6,   22.81,6,    0.00,6,    1.52,6,   0.001,2,   0.001,2,   0.0000,2,  2196.2,2,  2338.1,2,    803.5,2,    20.00,   7.7157,2,    25.00,-999.000,9,-999.0000,9, -999.00,9,-999.0000,9, -999.00,9,  -999.0,9,  -999.0,   0.014,3,   39.52,2,   24.55,2, 2902.00,   2.4705
33RO20100308,      A13.5,      87,          1,          7,      11705,2,20100407,       1055,      -11.0,     0.8257,       5637,  3300.7,   2.4902,  34.8952,2,  34.8958,2, 228.7000,2,   228.5,2,   48.49,6,   23.49,6,    0.00,6,    1.57,6,   0.003,2,   0.003,2,   0.0000,2,  2209.1,2,  2346.9,2,    816.6,2,    20.00,   7.7103,2,    25.00,-999.000,9,-999.0000,9, -999.00,9,-999.0000,9, -999.00,9,  -999.0,9,  -999.0,   0.009,3,   40.83,2,   25.27,2, 3300.70,   2.2194
33RO20100308,      A13.5,      87,          1,          6,      11029,2,20100407,       1055,      -11.0,     0.8257,       5637,  3702.3,   2.3710,  34.8894,2,  34.8889,2, 231.4000,2,   230.3,2,   51.25,6,   23.42,6,    0.00,6,    1.57,6,   0.003,2,   0.003,2,   0.0000,2,  2211.6,2,  2355.3,2,    807.4,2,    20.00,   7.7139,2,    25.00,-999.000,9,-999.0000,9, -999.00,9,-999.0000,9, -999.00,9,  -999.0,9,  -999.0,   0.018,3,   40.75,2,   24.85,2, 3702.30,   2.0598
33RO20100308,      A13.5,      87,          1,          5,      11704,2,20100407,       1055,      -11.0,     0.8257,       5637,  4102.6,   2.3522,  34.8860,2,  34.8861,2, 231.7000,2,   231.3,2,   52.14,6,   23.43,6,    0.00,6,    1.57,6,   0.003,6,   0.004,6,   0.0000,6,  2212.7,2,  2356.5,2,    803.7,2,    20.00,   7.7163,2,    25.00,-999.000,9,-999.0000,9, -999.00,9,-999.0000,9, -999.00,9,  -999.0,9,  -999.0,   0.026,3,   40.84,2,   25.45,2, 4102.60,   1.9963
33RO20100308,      A13.5,      87,          1,          4,      11030,2,20100407,       1055,      -11.0,     0.8257,       5637,  4499.7,   2.3648,  34.8830,2,  34.8835,2, 232.6000,2,   231.5,2,   52.71,6,   23.44,6,    0.00,6,    1.56,6,   0.007,2,   0.007,2,   0.0000,2,  2213.3,2,  2358.0,2,    802.4,2,    20.00,   7.7180,2,    25.00,-999.000,9,-999.0000,9, -999.00,9,-999.0000,9, -999.00,9,  -999.0,9,  -999.0,   0.039,3,   40.77,2,   25.14,2, 4499.70,   1.9617
33RO20100308,      A13.5,      87,          1,          3,      11703,2,20100407,       1055,      -11.0,     0.8257,       5637,  4900.1,   2.3846,  34.8799,2,  34.8802,2, 235.2000,2,   234.0,2,   52.80,6,   23.36,6,    0.00,6,    1.56,6,   0.007,2,   0.005,2,   0.0000,2,  2211.3,2,  2356.4,2,    801.2,2,    20.00,   7.7185,2,    25.00,-999.000,9,-999.0000,9, -999.00,9,-999.0000,9, -999.00,9,  -999.0,9,  -999.0,   0.050,3,   39.97,2,   24.81,2, 4900.10,   1.9317
33RO20100308,      A13.5,      87,          1,          2,      11702,2,20100407,       1055,      -11.0,     0.8257,       5637,  5301.3,   2.4137,  34.8771,2,  34.8774,2, 238.2000,2,   236.0,2,   52.84,6,   23.31,6,    0.00,6,    1.56,6,   0.010,2,   0.009,2,   0.0000,2,  2209.9,2,  2355.4,2,    800.9,2,    20.00,   7.7186,2,    25.00,-999.000,9,-999.0000,9, -999.00,9,-999.0000,9, -999.00,9,  -999.0,9,  -999.0,   0.077,3,   40.14,2,   25.01,2, 5301.30,   1.9085
33RO20100308,      A13.5,      87,          1,          1,      11701,2,20100407,       1055,      -11.0,     0.8257,       5637,  5707.9,   2.4630,  34.8759,2,  34.8809,4, 238.8000,2,   235.6,2,   52.98,6,   23.27,6,    0.00,6,    1.55,6,   0.013,2,   0.008,2,   0.0000,2,  2210.0,6,  2353.7,2,    802.3,2,    20.00,   7.7190,2,    25.00,-999.000,9,-999.0000,9, -999.00,9,-999.0000,9, -999.00,9,  -999.0,9,  -999.0,   0.093,3,   40.39,2,   24.84,2, 5707.90,   1.9021