BOTTLE,20130404CCHSIOCBG
EXPOCODE,SECT_ID,STNNBR,CASTNO,SAMPNO,BTLNBR,BTLNBR_FLAG_W,DATE,TIME,LATITUDE,LONGITUDE,DEPTH,CTDPRS,CTDTMP,CTDSAL,CTDSAL_FLAG_W,SALNTY,SALNTY_FLAG_W,CTDOXY,CTDOXY_FLAG_W,OXYGEN,OXYGEN_FLAG_W,SILCAT,SILCAT_FLAG_W,NITRAT,NITRAT_FLAG_W,NITRIT,NITRIT_FLAG_W,PHSPHT,PHSPHT_FLAG_W,CFC-11,CFC-11_FLAG_W,CFC-12,CFC-12_FLAG_W,SF6,SF6_FLAG_W,TCARBN,TCARBN_FLAG_W,ALKALI,ALKALI_FLAG_W,FCO2,FCO2_FLAG_W,FCO2TMP,PH_TOT,PH_TOT_FLAG_W,PH_TMP,TRITUM,TRITUM_FLAG_W,HELIUM,HELIUM_FLAG_W,DELHE3,DELHE3_FLAG_W,REFTMP,REFTMP_FLAG_W,DELC13,DELC13_FLAG_W,DELC14,DELC14_FLAG_W,C14ERR,CCL4,CCL4_FLAG_W,DOC,DOC_FLAG_W,TDN,TDN_FLAG_W,CTDRAW,THETA
,,,,,,,,,,,METERS,DBAR,ITS-90,PSS-78,,PSS-78,,UMOL/KG,,UMOL/KG,,UMOL/KG,,UMOL/KG,,UMOL/KG,,UMOL/KG,,PMOL/KG,,PMOL/KG,,FMOL/KG,,UMOL/KG,,UMOL/KG,,UATM,,DEG C,,,DEG C,TU,,NMOL/KG,,PERCNT,,DEG C,,/MILLE,,/MILLE,,/MILLE,PMOL/KG,,UMOL/KG,,UMOL/KG,,DBAR,DEG C
33RO20100308,      A13.5,      65,          1,         24,      11714,2,20100330,       1648,   -22.0007,     1.3858,       5275,     5.7,  23.4174,  35.6849,4,  36.0838,2, 213.2000,2,   213.9,2,    1.18,2,    0.01,2,    0.00,2,    0.24,2,   1.852,2,   1.148,2,   1.1090,2,  2072.7,6,  2373.4,2,    353.5,2,    20.00,   8.0294,2,    25.00,-999.000,1,-999.0000,1, -999.00,9,  23.4176,2, -999.00,9,  -999.0,9,  -999.0,   2.172,3,   64.99,2,    4.85,2,    5.70,  23.4162
33RO20100308,      A13.5,      65,          1,         23,      11713,2,20100330,       1648,   -22.0007,     1.3858,       5275,    70.8,  18.3939,  35.3736,4,  35.7597,2, 249.2000,2,   237.6,2,    1.65,2,    0.28,2,    0.08,2,    0.28,2,   2.411,2,   1.441,2,   1.3060,2,  2081.2,2,  2351.7,6,    397.9,2,    20.00,   7.9823,2,    25.00,-999.000,1,-999.0000,1, -999.00,9,  18.4019,2, -999.00,9,  -999.0,9,  -999.0,   1.714,3,   55.19,2,    4.89,2,   70.80,  18.3816
33RO20100308,      A13.5,      65,          1,         22,      11712,2,20100330,       1648,   -22.0007,     1.3858,       5275,    98.6,  17.4517,  35.2977,4,  35.6902,2, 245.4000,3,   228.0,2,    2.10,2,    0.96,2,    0.12,2,    0.32,2,   2.465,2,   1.470,2,   1.3690,2,  2087.8,2,  2345.1,2,    418.0,6,    20.00,   7.9639,2,    25.00,-999.000,1,-999.0000,1, -999.00,9,  17.4611,2, -999.00,9,  -999.0,9,  -999.0,   1.596,3,   54.50,2,    5.43,2,   98.60,  17.4351
33RO20100308,      A13.5,      65,          1,         21,      11010,2,20100330,       1648,   -22.0007,     1.3858,       5275,   199.9,  13.7729,  35.2608,2,  35.2639,2, 197.1000,2,   198.2,2,    4.08,2,   10.32,2,    0.01,2,    0.80,2,   2.864,6,   1.646,6,   1.2160,6,  2124.5,2,  2319.2,2,    579.3,2,    20.00,   7.8418,2,    25.00,-999.000,1,-999.0000,1, -999.00,9,  13.7479,2, -999.00,9,  -999.0,9,  -999.0,   0.903,3,   49.29,2,   14.75,2,  199.90,  13.7442
33RO20100308,      A13.5,      65,          1,         20,      11715,2,20100330,       1648,   -22.0007,     1.3858,       5275,   300.3,  11.1496,  34.9366,2,  34.9342,2, 190.1000,2,   187.2,2,    7.04,2,   17.05,2,    0.00,2,    1.22,2,   3.048,2,   1.667,2,   0.9970,2,  2149.8,2,  2303.8,2,    719.2,2,    20.00,   7.7541,2,    25.00,-999.000,1,-999.0000,1, -999.00,9,  11.1487,2, -999.00,9,  -999.0,9,  -999.0,   1.154,3,   45.17,2,   20.06,2,  300.30,  11.1121
33RO20100308,      A13.5,      65,          1,         19,      11007,2,20100330,       1648,   -22.0007,     1.3858,       5275,   399.6,   9.2428,  34.7770,2,  34.7801,2,  81.2000,2,    79.8,2,   15.12,2,   32.41,2,    0.00,2,    2.14,2,   1.837,2,   0.959,2,   0.4210,2,  2229.9,6,  2294.8,2,   1359.2,2,    20.00,   7.4993,2,    25.00,-999.000,1,-999.0000,1, -999.00,9,   9.2491,2, -999.00,9,  -999.0,9,  -999.0,   0.748,3,   43.51,2,   33.70,2,  399.60,   9.1983
33RO20100308,      A13.5,      65,          1,         18,      11710,2,20100330,       1648,   -22.0007,     1.3858,       5275,   499.1,   7.4179,  34.6234,2,  34.6236,2,  85.3000,2,    83.4,2,   20.01,2,   36.32,2,    0.00,2,    2.39,2,   1.046,2,   0.529,2,   0.1650,2,  2239.0,2,  2291.8,6,   1469.1,2,    20.00,   7.4691,2,    25.00,-999.000,1,-999.0000,1, -999.00,9,   7.4157,2, -999.00,9,  -999.0,9,  -999.0,   0.694,3,   40.57,2,   37.78,2,  499.10,   7.3688
33RO20100308,      A13.5,      65,          1,         17,      11025,2,20100330,       1648,   -22.0007,     1.3858,       5275,   599.8,   6.2307,  34.5317,2,  34.5327,2, 107.2000,2,   105.7,2,   23.80,2,   36.65,2,    0.00,2,    2.43,2,   0.727,2,   0.366,2,   0.0380,2,  2233.3,2,  2293.4,2,   1402.6,2,    20.00,   7.4882,2,    25.00,-999.000,1,-999.0000,1, -999.00,9,   6.2273,2, -999.00,9,  -999.0,9,  -999.0,   0.673,3,   39.86,2,   37.91,2,  599.80,   6.1768
33RO20100308,      A13.5,      65,          1,         16,      11709,2,20100330,       1648,   -22.0007,     1.3858,       5275,   699.5,   5.3791,  34.4837,2,  34.4847,2, 123.9000,2,   122.2,2,   27.89,2,   36.61,2,    0.00,2,    2.45,2,   0.412,2,   0.208,2,   0.0000,2,  2230.4,2,  2295.6,2,   1354.8,2,    20.00,   7.5050,2,    25.00,-999.000,1,-999.0000,1, -999.00,9,   5.3783,2, -999.00,9,  -999.0,9,  -999.0,   0.556,3,   39.00,2,   37.82,2,  699.50,   5.3203
33RO20100308,      A13.5,      65,          1,         15,      11006,2,20100330,       1648,   -22.0007,     1.3858,       5275,   799.0,   4.8049,  34.4638,2,  34.4656,2, 135.7000,2,   136.6,2,   31.43,2,   36.12,2,    0.00,2,    2.44,2,   0.275,2,   0.140,2,   0.0390,2,  2227.8,2,  2298.4,2,   1282.2,2,    20.00,   7.5229,2,    25.00,-999.000,1,-999.0000,1, -999.00,9,   4.8054,2, -999.00,9,  -999.0,9,  -999.0,   0.479,3,   38.62,2,   38.00,2,  799.00,   4.7407
33RO20100308,      A13.5,      65,          1,         14,      11708,2,20100330,       1648,   -22.0007,     1.3858,       5275,   899.3,   4.2880,  34.4648,2,  34.4675,2, 151.9000,2,   152.6,6,   35.39,2,   35.06,2,    0.00,2,    2.38,2,   0.223,2,   0.114,2,   0.0560,2,  2225.0,2,  2300.5,2,   1216.3,2,    20.00,   7.5462,2,    25.00,-999.000,1,-999.0000,1, -999.00,9,   4.2889,2, -999.00,9,  -999.0,9,  -999.0,   0.451,3,   38.43,2,   36.92,2,  899.30,   4.2187
33RO20100308,      A13.5,      65,          1,         13,      11031,2,20100330,       1648,   -22.0007,     1.3858,       5275,   999.1,   3.9015,  34.4880,2,  34.4908,2, 170.8000,2,   170.2,2,   38.30,2,   33.56,2,    0.00,2,    2.29,2,   0.182,2,   0.094,2,   0.0600,2,  2218.8,2,  2305.9,2,   1129.8,2,    20.00,   7.5757,2,    25.00,-999.000,1,-999.0000,1, -999.00,9,   3.8975,2, -999.00,9,  -999.0,9,  -999.0,   0.447,3,   38.08,2,   34.34,2,  999.10,   3.8267
33RO20100308,      A13.5,      65,          1,         12,      11027,2,20100330,       1648,   -22.0007,     1.3858,       5275,  1399.5,   3.6421,  34.7404,2,  34.7426,2, 191.8000,2,   193.4,6,   36.02,2,   28.58,2,    0.00,2,    1.94,2,   0.019,2,   0.012,2,   0.0000,2,  2206.2,2,  2315.1,2,    971.8,2,    20.00,   7.6361,2,    25.00,-999.000,1,-999.0000,1, -999.00,9,   3.6414,2, -999.00,9,  -999.0,9,  -999.0,   0.102,3,   38.23,2,   29.74,2, 1399.50,   3.5353
33RO20100308,      A13.5,      65,          1,         11,      11707,2,20100330,       1648,   -22.0007,     1.3858,       5275,  1600.2,   3.5330,  34.8230,2,  34.8237,2, 210.0000,2,   211.0,2,   33.43,2,   25.88,2,    0.00,2,    1.75,2,   0.019,2,   0.014,2,   0.0000,2,  2195.1,2,  2317.4,2,    892.5,2,    20.00,   7.6711,2,    25.00,-999.000,1,-999.0000,1, -999.00,9,   3.5329,2, -999.00,9,  -999.0,9,  -999.0,   0.112,3,   38.47,2,   27.04,2, 1600.20,   3.4096
33RO20100308,      A13.5,      65,          1,         10,      11003,2,20100330,       1648,   -22.0007,     1.3858,       5275,  1800.6,   3.3142,  34.8694,2,  34.8699,2, 223.8000,2,   224.2,2,   33.24,2,   24.11,2,    0.00,2,    1.63,2,   0.010,2,   0.007,2,   0.0000,2,  2188.9,2,  2316.2,3,    843.5,2,    20.00,   7.6939,2,    25.00,-999.000,1,-999.0000,1, -999.00,9,   3.3141,2, -999.00,9,  -999.0,9,  -999.0,   0.085,3,   38.16,2,   26.27,2, 1800.60,   3.1755
33RO20100308,      A13.5,      65,          1,          9,      11706,2,20100330,       1648,   -22.0007,     1.3858,       5275,  2099.7,   3.0421,  34.8918,2,  34.8917,2, 234.7000,2,   235.0,2,   35.13,2,   23.01,2,    0.00,2,    1.55,2,   0.004,2,   0.004,2,   0.0000,2,  2185.4,2,  2322.7,2,    812.5,2,    20.00,   7.7119,2,    25.00,-999.000,9,-999.0000,1, -999.00,9,   3.0425,2, -999.00,9,  -999.0,9,  -999.0,   0.058,3,   38.55,2,   24.26,2, 2099.70,   2.8799
33RO20100308,      A13.5,      65,          1,          8,      11033,2,20100330,       1648,   -22.0007,     1.3858,       5275,  2399.1,   2.7217,  34.8769,2,  34.8770,2, 235.9000,2,   236.0,2,   42.22,2,   23.32,2,    0.00,2,    1.58,2,   0.004,2,   0.003,2,   0.0560,2,  2190.8,2,  2332.2,2,    817.8,2,    20.00,   7.7109,2,    25.00,-999.000,1,-999.0000,1, -999.00,9,   2.7216,2, -999.00,9,  -999.0,9,  -999.0,   0.038,3,   38.99,2,   24.48,2, 2399.10,   2.5368
33RO20100308,      A13.5,      65,          1,          7,      11705,2,20100330,       1648,   -22.0007,     1.3858,       5275,  2801.9,   2.5012,  34.8762,2,  34.8773,2, 237.1000,2,   238.2,2,   46.77,6,   23.40,6,    0.00,6,    1.59,2,   0.001,2,   0.002,2,   0.0000,2,  2195.8,2,  2334.8,2,    806.3,2,    20.00,   7.7130,2,    25.00,-999.000,9,-999.0000,1, -999.00,9,   2.5008,2, -999.00,9,  -999.0,9,  -999.0,   0.018,3,   38.99,2,   25.37,2, 2801.90,   2.2814
33RO20100308,      A13.5,      65,          1,          6,      11029,2,20100330,       1648,   -22.0007,     1.3858,       5275,  3198.6,   2.4153,  34.8805,2,  34.8798,2, 235.9000,2,   236.3,2,   49.44,6,   23.51,6,    0.00,6,    1.58,6,-999.000,5,-999.000,5,-999.0000,5,  2201.7,2,  2346.4,2,    804.4,2,    20.00,   7.7152,2,    25.00,-999.000,1,-999.0000,1, -999.00,9,   2.4151,2, -999.00,9,  -999.0,9,  -999.0,-999.000,5,   39.15,2,   25.02,2, 3198.60,   2.1571
33RO20100308,      A13.5,      65,          1,          5,      11704,2,20100330,       1648,   -22.0007,     1.3858,       5275,  3598.9,   2.3773,  34.8880,2,  34.8870,2, 232.0000,2,   231.9,2,   51.19,6,   23.63,6,    0.00,6,    1.59,6,   0.002,2,   0.001,2,   0.0000,2,  2210.1,2,  2350.8,2,    803.6,2,    20.00,   7.7155,2,    25.00,-999.000,9,-999.0000,1, -999.00,9,   2.3768,2, -999.00,9,  -999.0,9,  -999.0,   0.009,3,   39.05,2,   25.22,2, 3598.90,   2.0773
33RO20100308,      A13.5,      65,          1,          4,      11030,4,20100330,       1648,   -22.0007,     1.3858,       5275,  3999.8,   2.3693,  34.8874,3,  34.8788,4, 232.5000,4,   237.5,4,   48.47,4,   23.47,4,    0.00,4,    1.59,4,   0.002,6,   0.002,6,   0.0000,6,  2198.7,4,  2338.6,4,    803.2,4,    20.00,   7.7147,2,    25.00,-999.000,1,-999.0000,1, -999.00,9,   2.3690,2, -999.00,9,  -999.0,9,  -999.0,   0.012,3,   39.04,2,   24.80,2, 3999.80,   2.0247
33RO20100308,      A13.5,      65,          1,          3,      11703,2,20100330,       1648,   -22.0007,     1.3858,       5275,  4398.4,   2.3891,  34.8858,2,  34.8848,2, 232.8000,2,   233.4,2,   52.46,6,   23.53,6,    0.00,6,    1.58,6,   0.002,2,   0.003,2,   0.0000,2,  2211.9,2,  2357.0,2,    794.8,2,    20.00,   7.7206,2,    25.00,-999.000,9,-999.0000,1, -999.00,9,   2.3888,2, -999.00,9,  -999.0,9,  -999.0,   0.014,3,   39.00,2,   24.71,2, 4398.40,   1.9974
33RO20100308,      A13.5,      65,          1,          2,      11702,2,20100330,       1648,   -22.0007,     1.3858,       5275,  4798.1,   2.4152,  34.8837,2,  34.8816,2, 234.5000,2,   233.7,2,   52.77,6,   23.51,6,    0.00,6,    1.58,6,   0.002,2,   0.004,2,   0.0000,2,  2213.6,2,  2356.3,6,    796.4,6,    20.00,   7.7210,2,    25.00,-999.000,1,-999.0000,1, -999.00,9,   2.4147,2, -999.00,9,  -999.0,9,  -999.0,   0.025,3,   39.52,2,   24.88,2, 4798.10,   1.9740
33RO20100308,      A13.5,      65,          1,          1,      11701,2,20100330,       1648,   -22.0007,     1.3858,       5275,  5351.8,   2.4786,  34.8825,2,  34.8819,2, 234.1000,2,   234.1,2,   52.99,6,   23.54,6,    0.00,6,    1.58,6,   0.006,2,   0.006,2,   0.0000,2,  2215.1,6,  2360.7,2,    796.4,2,    20.00,   7.7224,2,    25.00,-999.000,1,-999.0000,1, -999.00,9,   2.4782,2, -999.00,9,  -999.0,9,  -999.0,   0.034,3,   39.20,2,   25.44,2, 5351.80,   1.9645