BOTTLE,20130404CCHSIOCBG
EXPOCODE,SECT_ID,STNNBR,CASTNO,SAMPNO,BTLNBR,BTLNBR_FLAG_W,DATE,TIME,LATITUDE,LONGITUDE,DEPTH,CTDPRS,CTDTMP,CTDSAL,CTDSAL_FLAG_W,SALNTY,SALNTY_FLAG_W,CTDOXY,CTDOXY_FLAG_W,OXYGEN,OXYGEN_FLAG_W,SILCAT,SILCAT_FLAG_W,NITRAT,NITRAT_FLAG_W,NITRIT,NITRIT_FLAG_W,PHSPHT,PHSPHT_FLAG_W,CFC-11,CFC-11_FLAG_W,CFC-12,CFC-12_FLAG_W,SF6,SF6_FLAG_W,TCARBN,TCARBN_FLAG_W,ALKALI,ALKALI_FLAG_W,FCO2,FCO2_FLAG_W,FCO2TMP,PH_TOT,PH_TOT_FLAG_W,PH_TMP,TRITUM,TRITUM_FLAG_W,HELIUM,HELIUM_FLAG_W,DELHE3,DELHE3_FLAG_W,REFTMP,REFTMP_FLAG_W,DELC13,DELC13_FLAG_W,DELC14,DELC14_FLAG_W,C14ERR,CCL4,CCL4_FLAG_W,DOC,DOC_FLAG_W,TDN,TDN_FLAG_W,CTDRAW,THETA
,,,,,,,,,,,METERS,DBAR,ITS-90,PSS-78,,PSS-78,,UMOL/KG,,UMOL/KG,,UMOL/KG,,UMOL/KG,,UMOL/KG,,UMOL/KG,,PMOL/KG,,PMOL/KG,,FMOL/KG,,UMOL/KG,,UMOL/KG,,UATM,,DEG C,,,DEG C,TU,,NMOL/KG,,PERCNT,,DEG C,,/MILLE,,/MILLE,,/MILLE,PMOL/KG,,UMOL/KG,,UMOL/KG,,DBAR,DEG C
33RO20100308,      A13.5,     111,          1,         24,      11714,2,20100413,       1810,    -0.3333,    -3.0005,       5139,     5.6,  29.2831,  34.6536,2,  34.7035,2, 196.5000,2,   196.9,2,    0.50,6,    0.06,6,    0.00,6,    0.02,6,   1.524,2,   0.972,2,   0.9530,2,  1949.7,6,  2275.6,2,    274.4,2,    20.00,   8.1069,2,    25.00,-999.000,9,-999.0000,9, -999.00,9,  29.2409,2, -999.00,9,  -999.0,9,  -999.0,   1.609,3,   74.41,2,    5.31,2,    5.60,  29.2817
33RO20100308,      A13.5,     111,          1,         23,      11716,2,20100413,       1810,    -0.3333,    -3.0005,       5139,    25.6,  25.6720,  35.8799,2,  35.8633,2, 203.8000,2,   203.1,2,    0.88,2,    0.23,2,    0.01,2,    0.10,2,   1.770,2,   1.087,2,   0.9360,2,  2044.2,2,  2352.0,6,    330.1,2,    20.00,   8.0499,2,    25.00,-999.000,9,-999.0000,9, -999.00,9,  25.7124,2, -999.00,9,  -999.0,9,  -999.0,   1.068,3,   68.25,2,    5.02,2,   25.60,  25.6663
33RO20100308,      A13.5,     111,          1,         22,      11022,2,20100413,       1810,    -0.3333,    -3.0005,       5139,    57.7,  18.2973,  35.9639,2,  35.9740,2, 161.1000,2,   160.7,2,    3.41,2,    9.23,2,    0.31,2,    0.75,2,   2.176,2,   1.271,2,   0.8860,2,  2139.5,2,  2358.2,2,   -999.0,9,  -999.00,   7.8854,2,    25.00,-999.000,9,-999.0000,9, -999.00,9,  18.3076,2, -999.00,9,  -999.0,9,  -999.0,   0.645,3,   51.94,2,   12.56,2,   57.70,  18.2872
33RO20100308,      A13.5,     111,          1,         21,      11010,2,20100413,       1810,    -0.3333,    -3.0005,       5139,   100.6,  15.8483,  35.6562,2,  35.6527,2, 159.1000,2,   157.4,2,    4.79,2,   12.81,2,    0.03,2,    0.94,2,   2.324,2,   1.324,2,   0.8380,2,  2148.4,2,  2338.6,2,    597.0,2,    20.00,   7.8323,2,    25.00,-999.000,9,-999.0000,9, -999.00,9,  15.8511,2, -999.00,9,  -999.0,9,  -999.0,   0.603,3,   46.00,2,   15.29,2,  100.60,  15.8324
33RO20100308,      A13.5,     111,          1,         20,      11715,2,20100413,       1810,    -0.3333,    -3.0005,       5139,   200.6,  14.1095,  35.4212,2,  35.4139,2,  97.4000,2,    95.2,2,    7.99,2,   22.36,2,    0.01,2,    1.46,2,   2.005,2,   1.107,2,   0.5710,2,  2195.4,2,  2320.6,2,    873.2,2,    20.00,   7.6822,2,    25.00,-999.000,9,-999.0000,9, -999.00,9,  14.0218,2, -999.00,9,  -999.0,9,  -999.0,   0.296,3,   43.88,2,   24.43,2,  200.60,  14.0802
33RO20100308,      A13.5,     111,          1,         19,      11007,2,20100413,       1810,    -0.3333,    -3.0005,       5139,   300.6,  10.3922,  34.9796,2,  34.9781,2,  80.6000,2,    77.9,6,   13.03,2,   30.36,2,    0.01,2,    1.92,2,   1.394,2,   0.730,2,   0.2560,2,  2220.1,6,  2303.9,2,   1194.6,2,    20.00,   7.5573,2,    25.00,-999.000,9,-999.0000,9, -999.00,9,  10.3934,2, -999.00,9,  -999.0,9,  -999.0,   0.340,3,   41.76,2,   31.95,2,  300.60,  10.3563
33RO20100308,      A13.5,     111,          1,         18,      11710,2,20100413,       1810,    -0.3333,    -3.0005,       5139,   399.4,   8.9272,  34.8118,2,  34.8130,2,  88.0000,2,    87.7,2,   15.70,2,   32.32,2,    0.00,2,    2.06,2,   1.140,2,   0.586,2,   0.1580,2,  2222.1,2,  2297.5,2,   1260.4,2,    20.00,   7.5346,2,    25.00,-999.000,9,-999.0000,9, -999.00,9,   8.9590,2, -999.00,9,  -999.0,9,  -999.0,   0.435,3,   40.31,2,   33.63,2,  399.40,   8.8836
33RO20100308,      A13.5,     111,          1,         17,      11025,2,20100413,       1810,    -0.3333,    -3.0005,       5139,   500.6,   6.9745,  34.6170,2,  34.6171,2, 121.4000,2,   120.2,2,   20.25,2,   33.02,2,    0.00,2,    2.17,2,   0.860,2,   0.431,2,   0.1050,2,  2215.5,2,  2295.4,2,   1210.7,2,    20.00,   7.5473,2,    25.00,-999.000,9,-999.0000,9, -999.00,9,   6.9755,2, -999.00,9,  -999.0,9,  -999.0,   0.618,3,   40.00,2,   35.40,2,  500.60,   6.9270
33RO20100308,      A13.5,     111,          1,         16,      11709,2,20100413,       1810,    -0.3333,    -3.0005,       5139,   601.0,   6.0107,  34.5426,2,  34.5442,2, 130.5000,2,   130.8,2,   23.79,2,   33.93,2,    0.00,2,    2.27,2,   0.588,2,   0.294,2,   0.0000,2,  2217.0,2,  2292.3,2,   1216.2,2,    20.00,   7.5453,2,    25.00,-999.000,9,-999.0000,9, -999.00,9,   6.0159,2, -999.00,9,  -999.0,9,  -999.0,   0.570,3,   39.61,2,   35.71,2,  601.00,   5.9577
33RO20100308,      A13.5,     111,          1,         15,      11006,2,20100413,       1810,    -0.3333,    -3.0005,       5139,   700.5,   5.1283,  34.5052,2,  34.5060,2, 145.7000,2,   145.8,2,   28.33,2,   33.96,2,    0.00,2,    2.31,2,   0.381,2,   0.189,2,   0.0680,2,  2217.3,2,  2294.7,2,   1188.6,2,    20.00,   7.5560,2,    25.00,-999.000,9,-999.0000,9, -999.00,9,   5.1250,2, -999.00,9,  -999.0,9,  -999.0,   0.515,3,   39.78,2,   35.71,2,  700.50,   5.0708
33RO20100308,      A13.5,     111,          1,         14,      11708,2,20100413,       1810,    -0.3333,    -3.0005,       5139,   800.3,   4.8474,  34.5224,2,  34.5222,2, 145.3000,2,   145.5,2,   30.15,2,   34.16,2,    0.00,2,    2.33,2,   0.198,2,   0.101,2,   0.0000,2,  2220.0,2,  2298.7,2,   1197.8,2,    20.00,   7.5528,2,    25.00,-999.000,9,-999.0000,9, -999.00,9,   4.8480,2, -999.00,9,  -999.0,9,  -999.0,   0.335,3,   39.51,2,   35.77,2,  800.30,   4.7828
33RO20100308,      A13.5,     111,          1,         13,      11031,2,20100413,       1810,    -0.3333,    -3.0005,       5139,  1000.4,   4.5035,  34.5907,2,  34.5931,2, 154.1000,2,   153.4,2,   31.51,2,   33.11,2,    0.00,2,    2.26,2,   0.073,2,   0.039,2,   0.0000,2,  2219.3,2,  2305.8,6,   1150.8,2,    20.00,   7.5684,2,    25.00,-999.000,9,-999.0000,9, -999.00,9,   4.5036,2, -999.00,9,  -999.0,9,  -999.0,   0.181,3,   39.97,2,   34.46,2, 1000.40,   4.4238
33RO20100308,      A13.5,     111,          1,         12,      11027,2,20100413,       1810,    -0.3333,    -3.0005,       5139,  1200.5,   4.5336,  34.7623,2,  34.7632,2, 171.7000,2,   171.5,2,   27.08,2,   29.33,2,    0.00,2,    2.00,2,-999.000,9,-999.000,9,-999.0000,9,  2206.9,2,  2308.5,2,   1027.5,2,    20.00,   7.6159,2,    25.00,-999.000,9,-999.0000,9, -999.00,9,   4.5334,2, -999.00,9,  -999.0,9,  -999.0,-999.000,9,   39.41,2,   30.44,2, 1200.50,   4.4356
33RO20100308,      A13.5,     111,          1,         11,      11707,2,20100413,       1810,    -0.3333,    -3.0005,       5139,  1500.7,   4.1893,  34.9642,2,  34.9636,2, 228.8000,2,   227.4,2,   18.70,2,   21.51,2,    0.00,2,    1.44,2,   0.199,6,   0.101,6,   0.0000,6,  2175.3,2,  2313.8,2,    808.2,2,    20.00,   7.7111,2,    25.00,-999.000,9,-999.0000,9, -999.00,9,   4.1894,2, -999.00,9,  -999.0,9,  -999.0,   0.516,3,   39.68,2,   22.04,2, 1500.70,   4.0669
33RO20100308,      A13.5,     111,          1,         10,      11003,2,20100413,       1810,    -0.3333,    -3.0005,       5139,  1799.9,   3.9260,  34.9740,2,  34.9745,2, 240.3000,2,   240.9,2,   18.39,6,   20.13,6,    0.00,6,    1.34,2,   0.207,2,   0.105,2,   0.0000,2,  2169.6,2,  2316.0,6,   -999.0,9,  -999.00,   7.7268,2,    25.00,-999.000,9,-999.0000,9, -999.00,9,   3.9259,2, -999.00,9,  -999.0,9,  -999.0,   0.529,3,   39.83,2,   21.78,2, 1799.90,   3.7788
33RO20100308,      A13.5,     111,          1,          9,      11706,2,20100413,       1810,    -0.3333,    -3.0005,       5139,  2098.7,   3.3703,  34.9563,2,  34.9560,2, 246.5000,2,   246.3,2,   24.03,6,   20.11,6,    0.00,6,    1.35,2,   0.089,2,   0.048,2,   0.0000,2,  2172.8,2,  2321.9,2,    765.8,2,    20.00,   7.7342,2,    25.00,-999.000,9,-999.0000,9, -999.00,9,   3.3707,2, -999.00,9,  -999.0,9,  -999.0,   0.303,3,   39.76,2,   21.44,2, 2098.70,   3.2028
33RO20100308,      A13.5,     111,          1,          8,      11033,2,20100413,       1810,    -0.3333,    -3.0005,       5139,  2400.3,   3.0364,  34.9354,2,  34.9357,2, 242.2000,2,   242.1,2,   31.15,6,   21.03,6,    0.00,6,    1.41,6,-999.000,9,-999.000,9,-999.0000,9,  2181.1,2,  2324.2,2,   -999.0,9,  -999.00,   7.7291,2,    25.00,-999.000,9,-999.0000,9, -999.00,9,   3.0364,2, -999.00,9,  -999.0,9,  -999.0,-999.000,9,   39.81,2,   21.95,2, 2400.30,   2.8455
33RO20100308,      A13.5,     111,          1,          7,      11705,2,20100413,       1810,    -0.3333,    -3.0005,       5139,  2798.8,   2.6929,  34.9126,2,  34.9129,2, 242.1000,2,   242.2,2,   38.14,6,   21.69,6,    0.00,6,    1.45,6,-999.000,9,-999.000,9,-999.0000,9,  2188.2,2,  2334.7,2,    779.4,2,    20.00,   7.7257,2,    25.00,-999.000,9,-999.0000,9, -999.00,9,   2.6928,2, -999.00,9,  -999.0,9,  -999.0,-999.000,9,   39.87,2,   22.77,2, 2798.80,   2.4693
33RO20100308,      A13.5,     111,          1,          6,      11029,2,20100413,       1810,    -0.3333,    -3.0005,       5139,  3189.3,   2.5237,  34.9015,2,  34.9010,2, 240.4000,2,   241.6,2,   42.19,6,   22.02,6,    0.00,6,    1.48,6,-999.000,9,-999.000,9,-999.0000,9,  2192.9,2,  2337.4,2,   -999.0,9,  -999.00,   7.7239,2,    25.00,-999.000,9,-999.0000,9, -999.00,9,   2.5236,2, -999.00,9,  -999.0,9,  -999.0,-999.000,9,   39.88,2,   23.85,2, 3189.30,   2.2638
33RO20100308,      A13.5,     111,          1,          5,      11704,2,20100413,       1810,    -0.3333,    -3.0005,       5139,  3597.6,   2.4051,  34.8920,2,  34.8920,2, 241.4000,2,   242.7,2,   44.80,6,   22.12,6,    0.00,6,    1.49,6,-999.000,9,-999.000,9,-999.0000,9,  2193.6,2,  2343.3,2,    785.6,2,    20.00,   7.7241,2,    25.00,-999.000,9,-999.0000,9, -999.00,9,   2.4058,2, -999.00,9,  -999.0,9,  -999.0,-999.000,9,   38.97,2,   23.12,2, 3597.60,   2.1045
33RO20100308,      A13.5,     111,          1,          4,      11030,4,20100413,       1810,    -0.3333,    -3.0005,       5139,  3999.9,   2.3126,  34.8821,4,  34.7626,4, 242.1000,4,   172.3,4,   27.17,4,   29.44,4,    0.00,4,    1.99,4,-999.000,9,-999.000,9,-999.0000,9,  -999.0,9,  -999.0,9,   -999.0,9,  -999.00,-999.0000,9,  -999.00,-999.000,9,-999.0000,9, -999.00,9,   2.3125,2, -999.00,9,  -999.0,9,  -999.0,-999.000,9, -999.00,9, -999.00,9, 3999.90,   1.9696
33RO20100308,      A13.5,     111,          1,          3,      11703,2,20100413,       1810,    -0.3333,    -3.0005,       5139,  4398.9,   2.2594,  34.8739,2,  34.8731,2, 241.5000,2,   242.1,2,   51.20,6,   22.72,6,    0.00,6,    1.54,6,-999.000,9,-999.000,9,-999.0000,9,  2201.5,2,  2346.7,3,    796.6,2,    20.00,   7.7185,2,    25.00,-999.000,9,-999.0000,9, -999.00,9,   2.2591,2, -999.00,9,  -999.0,9,  -999.0,-999.000,9,   39.86,2,   24.55,2, 4398.90,   1.8716
33RO20100308,      A13.5,     111,          1,          2,      11702,2,20100413,       1810,    -0.3333,    -3.0005,       5139,  4800.6,   2.2053,  34.8640,2,  34.8639,2, 240.7000,2,   240.9,2,   54.78,6,   23.10,6,    0.00,6,    1.56,6,-999.000,9,-999.000,9,-999.0000,9,  2206.2,2,  2352.3,2,   -999.0,9,  -999.00,   7.7160,2,    25.00,-999.000,9,-999.0000,9, -999.00,9,   2.2050,2, -999.00,9,  -999.0,9,  -999.0,-999.000,9,   39.76,2,   24.83,2, 4800.60,   1.7707
33RO20100308,      A13.5,     111,          1,          1,      11701,2,20100413,       1810,    -0.3333,    -3.0005,       5139,  5207.5,   2.1807,  34.8564,2,  34.8572,2, 242.7000,2,   240.6,2,   56.77,6,   23.21,6,    0.00,6,    1.58,6,-999.000,9,-999.000,9,-999.0000,9,  2208.9,6,  2351.0,2,    810.9,2,    20.00,   7.7144,2,    25.00,-999.000,9,-999.0000,9, -999.00,9,   2.1800,2, -999.00,9,  -999.0,9,  -999.0,-999.000,9,   39.60,2,   25.15,2, 5207.50,   1.6959