BOTTLE,20130404CCHSIOCBG
EXPOCODE,SECT_ID,STNNBR,CASTNO,SAMPNO,BTLNBR,BTLNBR_FLAG_W,DATE,TIME,LATITUDE,LONGITUDE,DEPTH,CTDPRS,CTDTMP,CTDSAL,CTDSAL_FLAG_W,SALNTY,SALNTY_FLAG_W,CTDOXY,CTDOXY_FLAG_W,OXYGEN,OXYGEN_FLAG_W,SILCAT,SILCAT_FLAG_W,NITRAT,NITRAT_FLAG_W,NITRIT,NITRIT_FLAG_W,PHSPHT,PHSPHT_FLAG_W,CFC-11,CFC-11_FLAG_W,CFC-12,CFC-12_FLAG_W,SF6,SF6_FLAG_W,TCARBN,TCARBN_FLAG_W,ALKALI,ALKALI_FLAG_W,FCO2,FCO2_FLAG_W,FCO2TMP,PH_TOT,PH_TOT_FLAG_W,PH_TMP,TRITUM,TRITUM_FLAG_W,HELIUM,HELIUM_FLAG_W,DELHE3,DELHE3_FLAG_W,REFTMP,REFTMP_FLAG_W,DELC13,DELC13_FLAG_W,DELC14,DELC14_FLAG_W,C14ERR,CCL4,CCL4_FLAG_W,DOC,DOC_FLAG_W,TDN,TDN_FLAG_W,CTDRAW,THETA
,,,,,,,,,,,METERS,DBAR,ITS-90,PSS-78,,PSS-78,,UMOL/KG,,UMOL/KG,,UMOL/KG,,UMOL/KG,,UMOL/KG,,UMOL/KG,,PMOL/KG,,PMOL/KG,,FMOL/KG,,UMOL/KG,,UMOL/KG,,UATM,,DEG C,,,DEG C,TU,,NMOL/KG,,PERCNT,,DEG C,,/MILLE,,/MILLE,,/MILLE,PMOL/KG,,UMOL/KG,,UMOL/KG,,DBAR,DEG C
33RO20100308,      A13.5,      98,          1,         24,      11714,2,20100410,       1449,    -5.4998,    -2.8468,       5198,     4.9,  28.9471,  35.7513,2,  35.7522,2, 195.9000,2,   199.2,2,    0.90,6,    0.04,6,    0.00,6,    0.08,6,   1.517,6,   0.962,6,   0.9830,6,  2019.2,6,  2354.7,2,    297.4,2,    20.00,   8.0874,2,    25.00,-999.000,9,-999.0000,9, -999.00,9,-999.0000,9, -999.00,9,  -999.0,9,  -999.0,   1.727,3, -999.00,9, -999.00,9,    4.90,  28.9459
33RO20100308,      A13.5,      98,          1,         23,      11716,2,20100410,       1449,    -5.4998,    -2.8468,       5198,    24.9,  28.8994,  35.7594,2,  35.7710,2, 196.3000,2,   197.0,2,    0.95,2,    0.13,2,    0.00,2,    0.10,2,   1.517,2,   0.958,2,   0.8940,2,  2021.0,2,  2352.4,6,    296.8,2,    20.00,   8.0864,2,    25.00,-999.000,9,-999.0000,9, -999.00,9,-999.0000,9, -999.00,9,  -999.0,9,  -999.0,   1.661,3, -999.00,9, -999.00,9,   24.90,  28.8934
33RO20100308,      A13.5,      98,          1,         22,      11022,2,20100410,       1449,    -5.4998,    -2.8468,       5198,    60.6,  21.8431,  35.9275,2,  35.9268,2, 205.1000,2,   199.5,2,    2.47,2,    2.13,2,    0.07,2,    0.40,2,   1.970,2,   1.165,2,   0.9040,2,  2095.0,2,  2364.8,6,    409.6,6,    20.00,   7.9716,2,    25.00,-999.000,9,-999.0000,9, -999.00,9,-999.0000,9, -999.00,9,  -999.0,9,  -999.0,   0.689,3, -999.00,9, -999.00,9,   60.60,  21.8311
33RO20100308,      A13.5,      98,          1,         21,      11010,2,20100410,       1449,    -5.4998,    -2.8468,       5198,    99.4,  15.6879,  35.6185,2,  35.6183,2, 116.6000,2,   114.9,2,    5.84,2,   17.99,2,    0.05,2,    1.25,2,   2.104,2,   1.187,2,   0.7190,2,  2178.2,2,  2337.4,2,    732.6,2,    20.00,   7.7525,2,    25.00,-999.000,9,-999.0000,9, -999.00,9,-999.0000,9, -999.00,9,  -999.0,9,  -999.0,   0.444,3, -999.00,9, -999.00,9,   99.40,  15.6723
33RO20100308,      A13.5,      98,          1,         20,      11715,2,20100410,       1449,    -5.4998,    -2.8468,       5198,   148.0,  12.5391,  35.2187,2,  35.2190,2, 132.6000,2,   130.2,2,    8.26,2,   20.66,2,    0.01,2,    1.42,2,   2.192,2,   1.187,2,   0.6370,2,  2178.7,2,  2319.2,2,    804.6,2,    20.00,   7.7117,2,    25.00,-999.000,9,-999.0000,9, -999.00,9,-999.0000,9, -999.00,9,  -999.0,9,  -999.0,   0.540,3, -999.00,9, -999.00,9,  148.00,  12.5192
33RO20100308,      A13.5,      98,          1,         19,      11007,2,20100410,       1449,    -5.4998,    -2.8468,       5198,   271.7,  10.7186,  34.9974,2,  34.9952,2,  88.5000,2,    87.7,2,   12.33,2,   28.81,2,    0.01,2,    1.85,2,   1.558,2,   0.818,2,   0.2860,2,  2213.0,2,  2305.4,2,   1102.9,2,    20.00,   7.5831,2,    25.00,-999.000,9,-999.0000,9, -999.00,9,-999.0000,9, -999.00,9,  -999.0,9,  -999.0,   0.368,3, -999.00,9, -999.00,9,  271.70,  10.6855
33RO20100308,      A13.5,      98,          1,         18,      11710,2,20100410,       1449,    -5.4998,    -2.8468,       5198,   400.1,   8.8419,  34.8041,2,  34.8034,2,  55.5000,2,    56.5,2,   17.34,2,   36.12,2,    0.00,2,    2.28,2,   0.675,6,   0.349,6,   0.0430,6,  2243.3,2,  2298.6,2,   1466.8,2,    20.00,   7.4686,2,    25.00,-999.000,9,-999.0000,9, -999.00,9,-999.0000,9, -999.00,9,  -999.0,9,  -999.0,   0.236,3, -999.00,9, -999.00,9,  400.10,   8.7985
33RO20100308,      A13.5,      98,          1,         17,      11025,2,20100410,       1449,    -5.4998,    -2.8468,       5198,   524.3,   6.9436,  34.6321,2,  34.6340,2,  69.2000,2,    69.7,6,   22.59,2,   38.63,2,    0.00,2,    2.50,2,   0.204,2,   0.107,2,   0.0000,2,  2246.5,2,  2294.4,2,   1536.1,2,    20.00,   7.4486,2,    25.00,-999.000,9,-999.0000,9, -999.00,9,-999.0000,9, -999.00,9,  -999.0,9,  -999.0,   0.191,3, -999.00,9, -999.00,9,  524.30,   6.8938
33RO20100308,      A13.5,      98,          1,         16,      11709,2,20100410,       1449,    -5.4998,    -2.8468,       5198,   650.1,   5.5456,  34.5178,2,  34.5190,2, 115.5000,2,   116.5,2,   27.13,2,   36.60,2,    0.00,2,    2.45,2,   0.218,2,   0.110,2,   0.0000,2,  2230.2,2,  2295.9,2,   1330.7,2,    20.00,   7.5079,2,    25.00,-999.000,9,-999.0000,9, -999.00,9,-999.0000,9, -999.00,9,  -999.0,9,  -999.0,   0.321,3, -999.00,9, -999.00,9,  650.10,   5.4903
33RO20100308,      A13.5,      98,          1,         15,      11006,2,20100410,       1449,    -5.4998,    -2.8468,       5198,   774.2,   4.8693,  34.4992,2,  34.4993,2, 135.0000,2,   133.9,2,   31.04,2,   35.87,2,    0.00,2,    2.42,2,   0.143,2,   0.072,2,   0.0000,2,  2227.8,2,  2298.7,2,   1272.3,2,    20.00,   7.5281,2,    25.00,-999.000,9,-999.0000,9, -999.00,9,-999.0000,9, -999.00,9,  -999.0,9,  -999.0,   0.288,3, -999.00,9, -999.00,9,  774.20,   4.8068
33RO20100308,      A13.5,      98,          1,         14,      11708,2,20100410,       1449,    -5.4998,    -2.8468,       5198,   900.0,   4.5522,  34.5327,2,  34.5348,2, 138.0000,2,   138.4,2,   33.23,2,   35.40,2,    0.00,2,    2.42,2,-999.000,9,-999.000,9,-999.0000,9,  2229.3,2,  2302.3,2,   1261.6,2,    20.00,   7.5339,2,    25.00,-999.000,9,-999.0000,9, -999.00,9,-999.0000,9, -999.00,9,  -999.0,9,  -999.0,-999.000,9, -999.00,9, -999.00,9,  900.00,   4.4809
33RO20100308,      A13.5,      98,          1,         13,      11031,2,20100410,       1449,    -5.4998,    -2.8468,       5198,  1100.2,   4.2890,  34.6822,2,  34.6848,2, 158.7000,2,   158.9,2,   31.76,2,   31.83,2,    0.00,2,    2.18,2,   0.013,2,   0.008,2,   0.0000,2,  2219.4,2,  2312.4,2,   1118.3,2,    20.00,   7.5805,2,    25.00,-999.000,9,-999.0000,9, -999.00,9,-999.0000,9, -999.00,9,  -999.0,9,  -999.0,   0.063,3, -999.00,9, -999.00,9, 1100.20,   4.2022
33RO20100308,      A13.5,      98,          1,         12,      11027,2,20100410,       1449,    -5.4998,    -2.8468,       5198,  1299.8,   4.2177,  34.8292,2,  34.8301,2, 188.2000,2,   188.3,2,   26.59,2,   27.24,2,    0.00,2,    1.85,2,-999.000,9,-999.000,9,-999.0000,9,  2200.7,2,  2312.7,2,    960.4,2,    20.00,   7.6419,2,    25.00,-999.000,9,-999.0000,9, -999.00,9,-999.0000,9, -999.00,9,  -999.0,9,  -999.0,-999.000,9, -999.00,9, -999.00,9, 1299.80,   4.1136
33RO20100308,      A13.5,      98,          1,         11,      11707,2,20100410,       1449,    -5.4998,    -2.8468,       5198,  1501.2,   4.0378,  34.9150,2,  34.9151,2, 213.7000,2,   214.9,2,   23.13,2,   23.62,2,    0.00,2,    1.60,2,   0.045,2,   0.025,2,   0.0000,2,  2185.8,2,  2315.2,2,    853.6,2,    20.00,   7.6887,2,    25.00,-999.000,9,-999.0000,9, -999.00,9,-999.0000,9, -999.00,9,  -999.0,9,  -999.0,   0.182,3, -999.00,9, -999.00,9, 1501.20,   3.9172
33RO20100308,      A13.5,      98,          1,         10,      11003,2,20100410,       1449,    -5.4998,    -2.8468,       5198,  1701.7,   3.8335,  34.9459,2,  34.9458,2, 230.7000,2,   229.8,2,   22.40,2,   21.86,2,    0.00,2,    1.47,2,-999.000,9,-999.000,9,-999.0000,9,  2177.7,2,  2317.6,2,    806.6,2,    20.00,   7.7114,2,    25.00,-999.000,9,-999.0000,9, -999.00,9,-999.0000,9, -999.00,9,  -999.0,9,  -999.0,-999.000,9, -999.00,9, -999.00,9, 1701.70,   3.6968
33RO20100308,      A13.5,      98,          1,          9,      11706,2,20100410,       1449,    -5.4998,    -2.8468,       5198,  1899.9,   3.5423,  34.9484,2,  34.9482,2, 237.7000,2,   238.1,2,   24.66,2,   21.21,2,    0.00,2,    1.43,2,   0.042,2,   0.023,2,   0.0000,2,  2176.0,2,  2320.3,2,    788.8,2,    20.00,   7.7233,2,    25.00,-999.000,9,-999.0000,9, -999.00,9,-999.0000,9, -999.00,9,  -999.0,9,  -999.0,   0.209,3, -999.00,9, -999.00,9, 1899.90,   3.3910
33RO20100308,      A13.5,      98,          1,          8,      11033,2,20100410,       1449,    -5.4998,    -2.8468,       5198,  2299.5,   3.1006,  34.9316,2,  34.9306,2, 239.1000,2,   240.4,6,   31.89,2,   21.47,2,    0.00,2,    1.45,2,-999.000,9,-999.000,9,-999.0000,9,  2182.0,2,  2325.4,2,    787.8,2,    20.00,   7.7249,2,    25.00,-999.000,9,-999.0000,9, -999.00,9,-999.0000,9, -999.00,9,  -999.0,9,  -999.0,-999.000,9, -999.00,9, -999.00,9, 2299.50,   2.9184
33RO20100308,      A13.5,      98,          1,          7,      11705,2,20100410,       1449,    -5.4998,    -2.8468,       5198,  2700.5,   2.7370,  34.9100,2,  34.9097,2, 237.4000,2,   237.9,2,   40.05,6,   22.24,6,    0.00,6,    1.51,2,   0.005,2,   0.004,2,   0.0000,2,  2191.3,2,  2332.5,2,    792.1,2,    20.00,   7.7212,2,    25.00,-999.000,9,-999.0000,9, -999.00,9,-999.0000,9, -999.00,9,  -999.0,9,  -999.0,   0.039,3, -999.00,9, -999.00,9, 2700.50,   2.5224
33RO20100308,      A13.5,      98,          1,          6,      11029,2,20100410,       1449,    -5.4998,    -2.8468,       5198,  3100.2,   2.5713,  34.9010,2,  34.8993,2, 237.6000,2,   237.7,2,   44.07,6,   22.53,6,    0.00,6,    1.52,6,-999.000,9,-999.000,9,-999.0000,9,  2195.9,2,  2341.1,2,    794.6,2,    20.00,   7.7198,2,    25.00,-999.000,9,-999.0000,9, -999.00,9,-999.0000,9, -999.00,9,  -999.0,9,  -999.0,-999.000,9, -999.00,9, -999.00,9, 3100.20,   2.3196
33RO20100308,      A13.5,      98,          1,          5,      11704,2,20100410,       1449,    -5.4998,    -2.8468,       5198,  3500.0,   2.4352,  34.8925,2,  34.8920,2, 237.6000,2,   237.7,2,   47.30,6,   22.68,6,    0.00,6,    1.53,6,   0.005,2,   0.004,2,   0.0000,2,  2200.1,2,  2344.8,2,    794.2,2,    20.00,   7.7192,2,    25.00,-999.000,9,-999.0000,9, -999.00,9,-999.0000,9, -999.00,9,  -999.0,9,  -999.0,   0.042,3, -999.00,9, -999.00,9, 3500.00,   2.1444
33RO20100308,      A13.5,      98,          1,          4,      11030,2,20100410,       1449,    -5.4998,    -2.8468,       5198,  3900.4,   2.3847,  34.8870,2,  34.8861,2, 238.0000,2,   238.3,2,   49.36,6,   22.80,6,    0.00,6,    1.54,6,-999.000,9,-999.000,9,-999.0000,9,  2202.3,2,  2347.4,2,    797.8,2,    20.00,   7.7182,2,    25.00,-999.000,9,-999.0000,9, -999.00,9,-999.0000,9, -999.00,9,  -999.0,9,  -999.0,-999.000,9, -999.00,9, -999.00,9, 3900.40,   2.0510
33RO20100308,      A13.5,      98,          1,          3,      11703,2,20100410,       1449,    -5.4998,    -2.8468,       5198,  4300.4,   2.3022,  34.8769,2,  34.8763,2, 240.4000,2,   241.6,2,   51.86,6,   22.94,6,    0.00,6,    1.55,6,   0.025,2,   0.015,2,   0.0000,2,  2204.0,2,  2346.3,4,    796.6,2,    20.00,   7.7174,2,    25.00,-999.000,9,-999.0000,9, -999.00,9,-999.0000,9, -999.00,9,  -999.0,9,  -999.0,   0.130,3, -999.00,9, -999.00,9, 4300.40,   1.9248
33RO20100308,      A13.5,      98,          1,          2,      11702,2,20100410,       1449,    -5.4998,    -2.8468,       5198,  4701.3,   2.2814,  34.8713,3,  34.8766,4, 240.2000,2,   241.1,2,   53.21,6,   22.99,6,    0.00,6,    1.56,6,-999.000,9,-999.000,9,-999.0000,9,  2204.6,2,  2347.2,2,    801.4,6,    20.00,   7.7168,2,    25.00,-999.000,9,-999.0000,9, -999.00,9,-999.0000,9, -999.00,9,  -999.0,9,  -999.0,-999.000,9, -999.00,9, -999.00,9, 4701.30,   1.8565
33RO20100308,      A13.5,      98,          1,          1,      11701,2,20100410,       1449,    -5.4998,    -2.8468,       5198,  5275.3,   2.3400,  34.8694,2,  34.8692,2, 241.5000,2,   241.9,2,   53.61,6,   23.00,6,    0.00,6,    1.56,6,   0.037,2,   0.020,2,   0.0000,2,  2205.9,6,  2347.7,6,    805.7,2,    20.00,   7.7169,2,    25.00,-999.000,9,-999.0000,9, -999.00,9,-999.0000,9, -999.00,9,  -999.0,9,  -999.0,   0.167,3, -999.00,9, -999.00,9, 5275.30,   1.8408