BOTTLE,20130404CCHSIOCBG
EXPOCODE,SECT_ID,STNNBR,CASTNO,SAMPNO,BTLNBR,BTLNBR_FLAG_W,DATE,TIME,LATITUDE,LONGITUDE,DEPTH,CTDPRS,CTDTMP,CTDSAL,CTDSAL_FLAG_W,SALNTY,SALNTY_FLAG_W,CTDOXY,CTDOXY_FLAG_W,OXYGEN,OXYGEN_FLAG_W,SILCAT,SILCAT_FLAG_W,NITRAT,NITRAT_FLAG_W,NITRIT,NITRIT_FLAG_W,PHSPHT,PHSPHT_FLAG_W,CFC-11,CFC-11_FLAG_W,CFC-12,CFC-12_FLAG_W,SF6,SF6_FLAG_W,TCARBN,TCARBN_FLAG_W,ALKALI,ALKALI_FLAG_W,FCO2,FCO2_FLAG_W,FCO2TMP,PH_TOT,PH_TOT_FLAG_W,PH_TMP,TRITUM,TRITUM_FLAG_W,HELIUM,HELIUM_FLAG_W,DELHE3,DELHE3_FLAG_W,REFTMP,REFTMP_FLAG_W,DELC13,DELC13_FLAG_W,DELC14,DELC14_FLAG_W,C14ERR,CCL4,CCL4_FLAG_W,DOC,DOC_FLAG_W,TDN,TDN_FLAG_W,CTDRAW,THETA
,,,,,,,,,,,METERS,DBAR,ITS-90,PSS-78,,PSS-78,,UMOL/KG,,UMOL/KG,,UMOL/KG,,UMOL/KG,,UMOL/KG,,UMOL/KG,,PMOL/KG,,PMOL/KG,,FMOL/KG,,UMOL/KG,,UMOL/KG,,UATM,,DEG C,,,DEG C,TU,,NMOL/KG,,PERCNT,,DEG C,,/MILLE,,/MILLE,,/MILLE,PMOL/KG,,UMOL/KG,,UMOL/KG,,DBAR,DEG C
33RO20100308,      A13.5,     114,          1,         24,      11714,2,20100414,       1059,     0.6652,     -3.001,       5125,     5.5,  29.8917,  34.1975,2,  34.1991,2, 193.9000,2,   194.6,2,    0.59,6,    0.08,6,    0.00,6,    0.00,6,   1.465,2,   0.936,2,   1.0050,2,  1914.7,6,  2244.7,2,    261.2,2,    20.00,   8.1195,2,    25.00,-999.000,9,-999.0000,9, -999.00,9,  29.8555,2, -999.00,9,  -999.0,9,  -999.0,   1.624,3, -999.00,9, -999.00,9,    5.50,  29.8903
33RO20100308,      A13.5,     114,          1,         23,      11716,2,20100414,       1059,     0.6652,     -3.001,       5125,    41.6,  23.1111,  35.9514,2,  35.9314,2, 194.6000,2,   196.0,2,    1.39,2,    1.13,2,    0.08,2,    0.21,2,   1.912,2,   1.150,2,   0.9090,2,  2074.2,2,  2357.5,6,    373.4,2,    20.00,   8.0046,2,    25.00,-999.000,9,-999.0000,9, -999.00,9,  23.1106,2, -999.00,9,  -999.0,9,  -999.0,   0.776,3, -999.00,9, -999.00,9,   41.60,  23.1025
33RO20100308,      A13.5,     114,          1,         22,      11022,2,20100414,       1059,     0.6652,     -3.001,       5125,    74.4,  18.2067,  35.8807,2,  35.8546,2, 147.4000,2,   140.0,2,    4.18,2,   12.62,2,    0.23,2,    0.89,2,   2.148,2,   1.244,2,   0.8070,2,  2149.5,2,  -999.0,5,    583.7,2,    20.00,   7.8415,2,    25.00,-999.000,9,-999.0000,9, -999.00,9,  18.1991,2, -999.00,9,  -999.0,9,  -999.0,   0.511,3, -999.00,9, -999.00,9,   74.40,  18.1938
33RO20100308,      A13.5,     114,          1,         21,      11010,2,20100414,       1059,     0.6652,     -3.001,       5125,   124.0,  15.0963,  35.5615,2,  35.5607,2, 139.0000,2,   137.0,2,    5.89,2,   16.38,2,    0.01,2,    1.13,2,   2.258,2,   1.270,2,   0.7520,2,  2165.1,2,  2336.0,2,    676.3,2,    20.00,   7.7840,2,    25.00,-999.000,9,-999.0000,9, -999.00,9,  15.0948,2, -999.00,9,  -999.0,9,  -999.0,   0.432,3, -999.00,9, -999.00,9,  124.00,  15.0774
33RO20100308,      A13.5,     114,          1,         20,      11715,2,20100414,       1059,     0.6652,     -3.001,       5125,   172.3,  14.6113,  35.4988,2,  35.4988,2, 114.6000,2,   114.4,2,    6.88,2,   19.59,2,    0.01,2,    1.30,2,   2.142,2,   1.193,2,   0.7020,2,  2181.2,2,  2332.4,2,    768.4,2,    20.00,   7.7320,2,    25.00,-999.000,9,-999.0000,9, -999.00,9,  14.6110,2, -999.00,9,  -999.0,9,  -999.0,   0.329,3, -999.00,9, -999.00,9,  172.30,  14.5856
33RO20100308,      A13.5,     114,          1,         19,      11007,2,20100414,       1059,     0.6652,     -3.001,       5125,   225.4,  13.2369,  35.3139,2,  35.3072,2,  72.0000,2,    72.7,2,    9.83,2,   26.50,2,    0.01,2,    1.69,2,   1.709,2,   0.928,2,   0.3660,2,  2212.5,6,  2319.1,2,   1021.0,2,    20.00,   7.6199,2,    25.00,-999.000,9,-999.0000,9, -999.00,9,  13.2047,2, -999.00,9,  -999.0,9,  -999.0,   0.186,3, -999.00,9, -999.00,9,  225.40,  13.2054
33RO20100308,      A13.5,     114,          1,         18,      11710,2,20100414,       1059,     0.6652,     -3.001,       5125,   300.2,  10.2551,  34.9644,2,  34.9659,2,  87.6000,2,    87.0,2,   13.03,2,   30.03,2,    0.01,2,    1.88,2,   1.435,6,   0.752,6,   0.2490,6,  2217.0,2,  2305.4,2,   1147.7,2,    20.00,   7.5734,2,    25.00,-999.000,9,-999.0000,9, -999.00,9,  10.2606,2, -999.00,9,  -999.0,9,  -999.0,   0.349,3, -999.00,9, -999.00,9,  300.20,  10.2195
33RO20100308,      A13.5,     114,          1,         17,      11025,2,20100414,       1059,     0.6652,     -3.001,       5125,   400.6,   8.7666,  34.7940,2,  34.7936,2,  92.8000,2,    92.4,6,   16.09,2,   32.64,2,    0.00,2,    2.06,2,   1.118,2,   0.573,2,   0.1530,2,  2221.8,2,  2298.4,2,   1245.6,2,    20.00,   7.5405,2,    25.00,-999.000,9,-999.0000,9, -999.00,9,   8.7680,2, -999.00,9,  -999.0,9,  -999.0,   0.443,3, -999.00,9, -999.00,9,  400.60,   8.7234
33RO20100308,      A13.5,     114,          1,         16,      11709,2,20100414,       1059,     0.6652,     -3.001,       5125,   550.7,   6.4891,  34.5859,2,  34.5854,2, 122.2000,2,   122.2,2,   22.39,2,   34.17,2,    0.00,2,    2.24,2,   0.638,2,   0.317,2,   0.0790,2,  2218.4,2,  2296.7,2,   1222.6,2,    20.00,   7.5451,2,    25.00,-999.000,9,-999.0000,9, -999.00,9,   6.4931,2, -999.00,9,  -999.0,9,  -999.0,   0.534,3, -999.00,9, -999.00,9,  550.70,   6.4387
33RO20100308,      A13.5,     114,          1,         15,      11006,2,20100414,       1059,     0.6652,     -3.001,       5125,   700.3,   5.3298,  34.5090,2,  34.5094,2, 142.0000,2,   141.8,2,   27.59,2,   34.51,2,    0.00,2,    2.31,2,   0.409,2,   0.201,2,   0.0350,2,  2219.0,2,  2297.2,2,   1199.9,2,    20.00,   7.5524,2,    25.00,-999.000,9,-999.0000,9, -999.00,9,   5.3258,2, -999.00,9,  -999.0,9,  -999.0,   0.518,3, -999.00,9, -999.00,9,  700.30,   5.2712
33RO20100308,      A13.5,     114,          1,         14,      11708,2,20100414,       1059,     0.6652,     -3.001,       5125,   900.9,   4.6834,  34.5513,2,  34.5530,2, 149.7000,2,   148.9,2,   31.13,2,   34.11,2,    0.00,2,    2.32,2,   0.139,2,   0.070,2,   0.0000,2,  2221.3,2,  2303.5,2,   1177.2,2,    20.00,   7.5602,2,    25.00,-999.000,9,-999.0000,9, -999.00,9,   4.6837,2, -999.00,9,  -999.0,9,  -999.0,   0.266,3, -999.00,9, -999.00,9,  900.90,   4.6111
33RO20100308,      A13.5,     114,          1,         13,      11031,2,20100414,       1059,     0.6652,     -3.001,       5125,  1099.3,   4.5389,  34.6949,2,  34.6958,2, 163.0000,2,   162.6,2,   29.16,2,   31.32,2,    0.00,2,    2.12,2,-999.000,9,-999.000,9,-999.0000,9,  2214.8,2,  2307.3,2,   1082.0,2,    20.00,   7.5943,2,    25.00,-999.000,9,-999.0000,9, -999.00,9,   4.5389,2, -999.00,9,  -999.0,9,  -999.0,-999.000,9, -999.00,9, -999.00,9, 1099.30,   4.4500
33RO20100308,      A13.5,     114,          1,         12,      11027,2,20100414,       1059,     0.6652,     -3.001,       5125,  1301.7,   4.5053,  34.8975,2,  34.8983,2, 200.0000,2,   199.1,2,   21.89,2,   25.09,2,    0.00,2,    1.67,2,-999.000,9,-999.000,9,-999.0000,9,  2192.6,2,  2313.6,2,    898.3,2,    20.00,   7.6684,2,    25.00,-999.000,9,-999.0000,9, -999.00,9,   4.5050,2, -999.00,9,  -999.0,9,  -999.0,-999.000,9, -999.00,9, -999.00,9, 1301.70,   4.3980
33RO20100308,      A13.5,     114,          1,         11,      11707,2,20100414,       1059,     0.6652,     -3.001,       5125,  1496.8,   4.2294,  34.9620,2,  34.9636,2, 227.4000,2,   226.0,2,   18.71,2,   21.73,2,    0.00,2,    1.45,2,   0.208,2,   0.104,2,   0.0000,2,  2178.0,2,  2313.6,2,    810.4,2,    20.00,   7.7093,2,    25.00,-999.000,9,-999.0000,9, -999.00,9,   4.2292,2, -999.00,9,  -999.0,9,  -999.0,   0.486,3, -999.00,9, -999.00,9, 1496.80,   4.1069
33RO20100308,      A13.5,     114,          1,         10,      11003,2,20100414,       1059,     0.6652,     -3.001,       5125,  1700.9,   3.9995,  34.9753,2,  34.9761,2, 240.5000,2,   239.7,2,   17.90,6,   20.29,6,    0.00,6,    1.34,6,   0.291,2,   0.144,2,   0.0000,2,  2170.7,2,  2315.3,2,    779.1,2,    20.00,   7.7257,2,    25.00,-999.000,9,-999.0000,9, -999.00,9,   4.0000,2, -999.00,9,  -999.0,9,  -999.0,   0.675,3, -999.00,9, -999.00,9, 1700.90,   3.8607
33RO20100308,      A13.5,     114,          1,          9,      11706,2,20100414,       1059,     0.6652,     -3.001,       5125,  2101.1,   3.4162,  34.9592,2,  34.9603,2, 248.5000,2,   247.4,6,   23.10,6,   20.09,6,    0.00,6,    1.33,6,   0.119,2,   0.061,2,   0.0000,2,  2172.6,2,  2318.5,2,    763.0,2,    20.00,   7.7363,2,    25.00,-999.000,9,-999.0000,9, -999.00,9,   3.4165,2, -999.00,9,  -999.0,9,  -999.0,   0.372,3, -999.00,9, -999.00,9, 2101.10,   3.2478
33RO20100308,      A13.5,     114,          1,          8,      11033,2,20100414,       1059,     0.6652,     -3.001,       5125,  2499.5,   2.9739,  34.9319,4,  34.9141,4, 243.6000,2,   243.1,2,   32.26,6,   21.22,6,    0.00,6,    1.41,6,-999.000,9,-999.000,9,-999.0000,9,  2182.7,2,  2329.4,6,    770.0,2,    20.00,   7.7296,2,    25.00,-999.000,9,-999.0000,9, -999.00,9,   2.9741,2, -999.00,9,  -999.0,9,  -999.0,-999.000,9, -999.00,9, -999.00,9, 2499.50,   2.7745
33RO20100308,      A13.5,     114,          1,          7,      11705,2,20100414,       1059,     0.6652,     -3.001,       5125,  2900.4,   2.6773,  34.9128,2,  34.9132,2, 242.6000,2,   242.9,2,   38.35,6,   21.74,6,    0.00,6,    1.45,6,-999.000,9,-999.000,9,-999.0000,9,  2189.1,2,  2333.3,2,    775.8,2,    20.00,   7.7269,2,    25.00,-999.000,9,-999.0000,9, -999.00,9,   2.6784,2, -999.00,9,  -999.0,9,  -999.0,-999.000,9, -999.00,9, -999.00,9, 2900.40,   2.4438
33RO20100308,      A13.5,     114,          1,          6,      11029,2,20100414,       1059,     0.6652,     -3.001,       5125,  3300.5,   2.4921,  34.8996,2,  34.9003,2, 242.4000,2,   242.8,2,   42.57,6,   22.07,6,    0.00,6,    1.48,6,-999.000,9,-999.000,9,-999.0000,9,  2193.6,2,  2339.2,2,    781.8,2,    20.00,   7.7255,2,    25.00,-999.000,9,-999.0000,9, -999.00,9,   2.4920,2, -999.00,9,  -999.0,9,  -999.0,-999.000,9, -999.00,9, -999.00,9, 3300.50,   2.2213
33RO20100308,      A13.5,     114,          1,          5,      11704,2,20100414,       1059,     0.6652,     -3.001,       5125,  3699.2,   2.3975,  34.8917,2,  34.8937,2, 242.6000,2,   242.0,2,   45.46,6,   22.21,6,    0.00,6,    1.49,6,-999.000,9,-999.000,9,-999.0000,9,  2197.4,2,  2341.0,2,    784.6,2,    20.00,   7.7232,2,    25.00,-999.000,9,-999.0000,9, -999.00,9,   2.3977,2, -999.00,9,  -999.0,9,  -999.0,-999.000,9, -999.00,9, -999.00,9, 3699.20,   2.0859
33RO20100308,      A13.5,     114,          1,          4,      11030,2,20100414,       1059,     0.6652,     -3.001,       5125,  4100.4,   2.3156,  34.8816,2,  34.8830,2, 242.8000,2,   243.0,2,   48.49,6,   22.51,6,    0.00,6,    1.51,6,-999.000,9,-999.000,9,-999.0000,9,  2200.3,2,  2344.9,2,    788.6,2,    20.00,   7.7223,2,    25.00,-999.000,9,-999.0000,9, -999.00,9,   2.3151,2, -999.00,9,  -999.0,9,  -999.0,-999.000,9, -999.00,9, -999.00,9, 4100.40,   1.9610
33RO20100308,      A13.5,     114,          1,          3,      11703,2,20100414,       1059,     0.6652,     -3.001,       5125,  4499.3,   2.2461,  34.8714,2,  34.8722,2, 240.8000,2,   240.9,2,   52.71,6,   23.01,6,    0.00,6,    1.54,6,-999.000,9,-999.000,9,-999.0000,9,  2206.0,2,  2347.4,2,    796.5,2,    20.00,   7.7189,2,    25.00,-999.000,9,-999.0000,9, -999.00,9,   2.2456,2, -999.00,9,  -999.0,9,  -999.0,-999.000,9, -999.00,9, -999.00,9, 4499.30,   1.8468
33RO20100308,      A13.5,     114,          1,          2,      11702,2,20100414,       1059,     0.6652,     -3.001,       5125,  4900.9,   2.1988,  34.8624,2,  34.8629,2, 239.5000,2,   239.5,2,   56.24,6,   23.42,6,    0.00,6,    1.57,6,-999.000,9,-999.000,9,-999.0000,9,  2210.5,2,  2354.5,2,    798.8,2,    20.00,   7.7150,2,    25.00,-999.000,9,-999.0000,9, -999.00,9,   2.1986,2, -999.00,9,  -999.0,9,  -999.0,-999.000,9, -999.00,9, -999.00,9, 4900.90,   1.7520
33RO20100308,      A13.5,     114,          1,          1,      11701,2,20100414,       1059,     0.6652,     -3.001,       5125,  5189.3,   2.1840,  34.8565,2,  34.8568,2, 240.7000,2,   239.1,2,   58.08,6,   23.60,6,    0.00,6,    1.59,6,-999.000,9,-999.000,9,-999.0000,9,  2213.7,6,  2355.3,2,    811.3,2,    20.00,   7.7142,2,    25.00,-999.000,9,-999.0000,9, -999.00,9,   2.1838,2, -999.00,9,  -999.0,9,  -999.0,-999.000,9, -999.00,9, -999.00,9, 5189.30,   1.7014