BOTTLE,20130404CCHSIOCBG
EXPOCODE,SECT_ID,STNNBR,CASTNO,SAMPNO,BTLNBR,BTLNBR_FLAG_W,DATE,TIME,LATITUDE,LONGITUDE,DEPTH,CTDPRS,CTDTMP,CTDSAL,CTDSAL_FLAG_W,SALNTY,SALNTY_FLAG_W,CTDOXY,CTDOXY_FLAG_W,OXYGEN,OXYGEN_FLAG_W,SILCAT,SILCAT_FLAG_W,NITRAT,NITRAT_FLAG_W,NITRIT,NITRIT_FLAG_W,PHSPHT,PHSPHT_FLAG_W,CFC-11,CFC-11_FLAG_W,CFC-12,CFC-12_FLAG_W,SF6,SF6_FLAG_W,TCARBN,TCARBN_FLAG_W,ALKALI,ALKALI_FLAG_W,FCO2,FCO2_FLAG_W,FCO2TMP,PH_TOT,PH_TOT_FLAG_W,PH_TMP,TRITUM,TRITUM_FLAG_W,HELIUM,HELIUM_FLAG_W,DELHE3,DELHE3_FLAG_W,REFTMP,REFTMP_FLAG_W,DELC13,DELC13_FLAG_W,DELC14,DELC14_FLAG_W,C14ERR,CCL4,CCL4_FLAG_W,DOC,DOC_FLAG_W,TDN,TDN_FLAG_W,CTDRAW,THETA
,,,,,,,,,,,METERS,DBAR,ITS-90,PSS-78,,PSS-78,,UMOL/KG,,UMOL/KG,,UMOL/KG,,UMOL/KG,,UMOL/KG,,UMOL/KG,,PMOL/KG,,PMOL/KG,,FMOL/KG,,UMOL/KG,,UMOL/KG,,UATM,,DEG C,,,DEG C,TU,,NMOL/KG,,PERCNT,,DEG C,,/MILLE,,/MILLE,,/MILLE,PMOL/KG,,UMOL/KG,,UMOL/KG,,DBAR,DEG C
33RO20100308,      A13.5,      23,          1,         24,      11714,2,20100320,       0118,   -42.8333,     1.3312,       3658,     4.8,  11.6356,  34.3815,2,  34.3824,2, 272.0000,2,   274.6,2,    1.16,2,    8.81,2,    0.18,2,    0.77,2,   3.329,2,   1.954,2,   1.7820,2,  2075.7,6,  2285.5,6,    501.4,2,    20.00,   7.8915,2,    25.00,-999.000,9,-999.0000,9, -999.00,9,  11.6394,2, -999.00,9,  -999.0,9,  -999.0,   4.050,3,   49.05,2,   12.94,2,    4.80,  11.6350
33RO20100308,      A13.5,      23,          1,         23,      11713,2,20100320,       0118,   -42.8333,     1.3312,       3658,    40.4,  11.1456,  34.3760,2,  34.3759,2, 274.9000,2,   275.0,2,    1.32,2,    9.36,2,    0.19,2,    0.80,2,   3.363,2,   1.988,2,   1.7760,2,  2077.7,2,  2285.8,2,    508.5,6,    20.00,   7.8858,2,    25.00,-999.000,9,-999.0000,9, -999.00,9,  11.1433,2, -999.00,9,  -999.0,9,  -999.0,   4.010,3,   47.32,2,   12.63,2,   40.40,  11.1407
33RO20100308,      A13.5,      23,          1,         22,      11712,2,20100320,       0118,   -42.8333,     1.3312,       3658,    90.5,  10.9453,  34.4998,2,  34.5042,2, 262.3000,2,   260.8,2,    1.62,2,    9.64,2,    0.29,2,    0.83,2,   3.383,6,   1.969,6,   1.7810,6,  2093.7,2,  2289.2,2,    546.7,2,    20.00,   7.8594,2,    25.00,-999.000,9,-999.0000,9, -999.00,9,  10.9470,2, -999.00,9,  -999.0,9,  -999.0,   3.595,3,   45.60,2,   13.28,2,   90.50,  10.9343
33RO20100308,      A13.5,      23,          1,         21,      11010,2,20100320,       0118,   -42.8333,     1.3312,       3658,   149.3,   9.4549,  34.5862,2,  34.5851,2, 255.9000,2,   256.3,2,    3.03,2,   13.06,2,    0.02,2,    0.99,2,   3.566,2,   2.074,2,   1.7280,2,  2115.1,2,  2288.2,2,    622.6,2,    20.00,   7.8098,2,    25.00,-999.000,9,-999.0000,9, -999.00,9,   9.4516,2, -999.00,9,  -999.0,9,  -999.0,   3.131,3,   44.62,2,   15.46,2,  149.30,   9.4383
33RO20100308,      A13.5,      23,          1,         20,      11715,2,20100320,       0118,   -42.8333,     1.3312,       3658,   199.8,   9.1319,  34.5960,2,  34.5950,2, 253.1000,2,   254.5,2,    3.70,2,   14.33,2,    0.02,2,    1.06,2,   3.609,2,   2.098,2,   1.8200,2,  2119.2,2,  2290.0,2,    641.3,2,    20.00,   7.7967,2,    25.00,-999.000,9,-999.0000,9, -999.00,9,   9.1312,2, -999.00,9,  -999.0,9,  -999.0,   3.045,3,   43.65,2,   16.97,2,  199.80,   9.1101
33RO20100308,      A13.5,      23,          1,         19,      11007,2,20100320,       0118,   -42.8333,     1.3312,       3658,   300.0,   8.2322,  34.5219,2,  34.5209,2, 254.9000,2,   252.2,2,    5.04,2,   17.18,2,    0.01,2,    1.23,2,   3.736,2,   2.115,2,   1.6890,2,  2128.4,2,  2286.3,2,    690.9,2,    20.00,   7.7689,2,    25.00,-999.000,9,-999.0000,9, -999.00,9,   8.2308,2, -999.00,9,  -999.0,9,  -999.0,   3.285,3,   42.53,2,   19.41,2,  300.00,   8.2013
33RO20100308,      A13.5,      23,          1,         18,      11710,2,20100320,       0118,   -42.8333,     1.3312,       3658,   400.0,   6.7385,  34.3734,2,  34.3743,2, 241.3000,2,   242.0,2,    8.40,2,   22.35,2,    0.01,2,    1.54,2,   3.826,2,   2.129,2,   1.4850,2,  2145.9,2,  2282.3,2,    792.6,2,    20.00,   7.7130,2,    25.00,-999.000,9,-999.0000,9, -999.00,9,   6.7446,2, -999.00,9,  -999.0,9,  -999.0,   3.434,3,   41.79,2,   24.13,2,  400.00,   6.7017
33RO20100308,      A13.5,      23,          1,         17,      11025,2,20100320,       0118,   -42.8333,     1.3312,       3658,   500.5,   5.2408,  34.2547,2,  34.2522,2, 243.7000,2,   241.4,6,   13.58,2,   26.42,2,    0.01,2,    1.81,2,   3.834,2,   2.064,2,   1.2020,2,  2158.9,2,  2280.6,2,    882.0,2,    20.00,   7.6714,2,    25.00,-999.000,9,-999.0000,9, -999.00,9,   5.2433,2, -999.00,9,  -999.0,9,  -999.0,   3.791,3,   41.25,2,   27.97,2,  500.50,   5.2002
33RO20100308,      A13.5,      23,          1,         16,      11709,2,20100320,       0118,   -42.8333,     1.3312,       3658,   649.6,   4.2269,  34.2122,2,  34.2116,2, 237.7000,2,   242.1,2,   19.79,2,   28.48,2,    0.00,2,    1.95,2,   3.573,2,   1.870,2,   1.0770,2,  2168.3,2,  2284.1,2,    921.6,2,    20.00,   7.6545,2,    25.00,-999.000,9,-999.0000,9, -999.00,9,   4.2255,2, -999.00,9,  -999.0,9,  -999.0,   3.826,3,   39.94,2,   29.89,2,  649.60,   4.1786
33RO20100308,      A13.5,      23,          1,         15,      11006,2,20100320,       0118,   -42.8333,     1.3312,       3658,   800.3,   3.7765,  34.2326,2,  34.2332,2, 231.0000,2,   233.5,2,   26.47,2,   29.98,2,    0.00,2,    2.05,2,   3.137,2,   1.601,2,   0.8300,2,  2183.2,2,  2287.8,2,    970.1,2,    20.00,   7.6359,2,    25.00,-999.000,9,-999.0000,9, -999.00,9,   3.7747,2, -999.00,9,  -999.0,9,  -999.0,   3.595,3,   39.20,2,   32.48,2,  800.30,   3.7189
33RO20100308,      A13.5,      23,          1,         14,      11708,2,20100320,       0118,   -42.8333,     1.3312,       3658,   950.8,   3.5350,  34.3097,2,  34.3079,2, 213.0000,2,   212.2,2,   37.22,2,   31.58,2,    0.00,2,    2.17,2,   2.324,2,   1.149,2,   0.4970,2,  2203.1,2,  2296.8,2,   1037.5,2,    20.00,   7.6103,2,    25.00,-999.000,9,-999.0000,9, -999.00,9,   3.5348,2, -999.00,9,  -999.0,9,  -999.0,   2.797,3,   39.02,2,   33.37,2,  950.80,   3.4671
33RO20100308,      A13.5,      23,          1,         13,      11031,2,20100320,       0118,   -42.8333,     1.3312,       3658,  1100.0,   3.1476,  34.3516,2,  34.3521,2, 201.8000,2,   201.7,2,   45.55,2,   32.69,2,    0.00,2,    2.24,2,   1.787,2,   0.862,2,   0.4290,2,  2214.1,2,  2307.4,2,   1090.9,2,    20.00,   7.5921,2,    25.00,-999.000,9,-999.0000,9, -999.00,9,   3.1475,2, -999.00,9,  -999.0,9,  -999.0,   2.242,3,   39.03,2,   35.32,2, 1100.00,   3.0711
33RO20100308,      A13.5,      23,          1,         12,      11027,2,20100320,       0118,   -42.8333,     1.3312,       3658,  1299.7,   2.9278,  34.4458,2,  34.4463,2, 187.6000,2,   186.2,2,   55.88,2,   33.36,2,    0.00,2,    2.31,2,   1.060,2,   0.505,2,   0.2210,2,  2230.5,2,  2318.4,2,   1141.8,2,    20.00,   7.5751,2,    25.00,-999.000,9,-999.0000,9, -999.00,9,   2.9287,2, -999.00,9,  -999.0,9,  -999.0,   1.502,3,   39.68,2,   35.12,2, 1299.70,   2.8374
33RO20100308,      A13.5,      23,          1,         11,      11707,2,20100320,       0118,   -42.8333,     1.3312,       3658,  1500.6,   2.7724,  34.5571,2,  34.5574,2, 179.1000,2,   179.4,2,   63.33,2,   33.03,2,    0.00,2,    2.27,2,   0.542,2,   0.258,2,   0.1290,2,  2238.8,2,  2331.0,2,    488.6,4,    20.00,   7.5771,2,    25.00,-999.000,9,-999.0000,9, -999.00,9,   2.7719,2, -999.00,9,  -999.0,9,  -999.0,   0.879,3,   39.21,2,   34.67,2, 1500.60,   2.6672
33RO20100308,      A13.5,      23,          1,         10,      11003,2,20100320,       0118,   -42.8333,     1.3312,       3658,  1700.3,   2.7204,  34.6462,2,  34.6463,2, 181.7000,2,   181.7,2,   65.67,2,   31.76,2,    0.00,2,    2.18,2,   0.305,2,   0.143,2,   0.1330,2,  2238.9,2,  2331.4,2,   1104.4,2,    20.00,   7.5919,2,    25.00,-999.000,9,-999.0000,9, -999.00,9,   2.7198,2, -999.00,9,  -999.0,9,  -999.0,   0.571,3,   38.76,2,   33.23,2, 1700.30,   2.5990
33RO20100308,      A13.5,      23,          1,          9,      11706,2,20100320,       0118,   -42.8333,     1.3312,       3658,  1899.9,   2.6653,  34.7155,2,  34.7141,2, 189.5000,2,   189.6,2,   65.79,2,   30.19,2,    0.00,2,    2.06,2,   0.181,2,   0.085,2,   0.0000,2,  2233.3,2,  2335.3,2,   1053.5,2,    20.00,   7.6108,2,    25.00,-999.000,9,-999.0000,9, -999.00,9,   2.6649,2, -999.00,9,  -999.0,9,  -999.0,   0.375,3,   39.30,2,   31.78,2, 1899.90,   2.5273
33RO20100308,      A13.5,      23,          1,          8,      11033,2,20100320,       0118,   -42.8333,     1.3312,       3658,  2099.9,   2.5954,  34.7571,2,  34.7570,2, 197.1000,2,   197.4,2,   65.22,2,   28.98,2,    0.00,2,    1.98,2,   0.126,2,   0.060,2,   0.0000,2,  2228.8,2,  2339.0,2,   1009.0,2,    20.00,   7.6306,2,    25.00,-999.000,9,-999.0000,9, -999.00,9,   2.5950,2, -999.00,9,  -999.0,9,  -999.0,   0.292,3,   39.28,2,   30.64,2, 2099.90,   2.4406
33RO20100308,      A13.5,      23,          1,          7,      11705,2,20100320,       0118,   -42.8333,     1.3312,       3658,  2300.7,   2.4920,  34.7844,2,  34.7846,2, 204.6000,2,   204.1,2,   65.43,2,   28.03,2,    0.00,2,    1.91,2,   0.095,2,   0.044,2,   0.0000,2,  2226.2,2,  2339.7,2,    965.1,2,    20.00,   7.6446,2,    25.00,-999.000,9,-999.0000,9, -999.00,9,   2.4914,2, -999.00,9,  -999.0,9,  -999.0,   0.228,3,   38.61,2,   30.07,2, 2300.70,   2.3206
33RO20100308,      A13.5,      23,          1,          6,      11029,2,20100320,       0118,   -42.8333,     1.3312,       3658,  2499.0,   2.3615,  34.8004,2,  34.8000,2, 210.5000,2,   210.4,2,   66.59,2,   27.40,2,    0.00,2,    1.87,2,   0.073,2,   0.035,2,   0.0000,2,  2222.9,2,  2343.3,6,    939.4,2,    20.00,   7.6543,2,    25.00,-999.000,9,-999.0000,9, -999.00,9,   2.3612,2, -999.00,9,  -999.0,9,  -999.0,   0.188,3,   38.31,2,   29.13,2, 2499.00,   2.1740
33RO20100308,      A13.5,      23,          1,          5,      11704,2,20100320,       0118,   -42.8333,     1.3312,       3658,  2701.2,   2.2587,  34.8076,2,  34.8066,2, 214.6000,2,   214.2,6,   67.61,6,   26.99,6,    0.00,6,    1.84,6,   0.062,2,   0.032,2,   0.0000,2,  2221.6,2,  2341.9,2,    923.7,2,    20.00,   7.6612,2,    25.00,-999.000,9,-999.0000,9, -999.00,9,   2.2582,2, -999.00,9,  -999.0,9,  -999.0,   0.166,3,   39.77,2,   28.50,2, 2701.20,   2.0539
33RO20100308,      A13.5,      23,          1,          4,      11030,2,20100320,       0118,   -42.8333,     1.3312,       3658,  2900.3,   2.0969,  34.8069,2,  34.8054,2, 216.1000,2,   216.5,2,   71.54,6,   27.19,6,    0.00,6,    1.85,6,   0.062,2,   0.027,2,   0.0000,2,  2222.1,2,  2344.1,2,    919.1,2,    20.00,   7.6646,2,    25.00,-999.000,9,-999.0000,9, -999.00,9,   2.0960,2, -999.00,9,  -999.0,9,  -999.0,   0.156,3,   39.53,2,   28.75,2, 2900.30,   1.8761
33RO20100308,      A13.5,      23,          1,          3,      11703,2,20100320,       0118,   -42.8333,     1.3312,       3658,  3149.8,   1.8615,  34.7932,2,  34.7921,2, 216.1000,2,   216.4,2,   79.53,6,   27.88,6,    0.00,6,    1.90,6,   0.067,6,   0.032,6,   0.0000,6,  2228.7,2,  2351.7,6,    931.1,2,    20.00,   7.6585,2,    25.00,-999.000,9,-999.0000,9, -999.00,9,   1.8609,2, -999.00,9,  -999.0,9,  -999.0,   0.153,3,   39.49,2,   28.94,2, 3149.80,   1.6214
33RO20100308,      A13.5,      23,          1,          2,      11702,2,20100320,       0118,   -42.8333,     1.3312,       3658,  3400.2,   1.6407,  34.7737,2,  34.7731,2, 214.2000,2,   215.0,2,   88.36,6,   28.78,6,    0.00,6,    1.97,6,   0.093,2,   0.042,2,   0.0000,2,  2236.9,2,  2353.5,6,    959.4,6,    20.00,   7.6483,2,    25.00,-999.000,9,-999.0000,9, -999.00,9,   1.6401,2, -999.00,9,  -999.0,9,  -999.0,   0.194,3,   39.20,2,   30.92,2, 3400.20,   1.3807
33RO20100308,      A13.5,      23,          1,          1,      11701,2,20100320,       0118,   -42.8333,     1.3312,       3658,  3712.7,   1.4095,  34.7552,2,  34.7550,2, 213.9000,2,   213.2,2,   97.29,6,   29.63,6,    0.01,6,    2.03,6,   0.308,4,   0.657,4,   8.0230,4,  2244.6,6,  2360.0,6,    980.9,2,    20.00,   7.6405,2,    25.00,-999.000,9,-999.0000,9, -999.00,9,   1.4086,2, -999.00,9,  -999.0,9,  -999.0,   0.241,4,   39.05,2,   30.76,2, 3712.70,   1.1232