BOTTLE,20130404CCHSIOCBG
EXPOCODE,SECT_ID,STNNBR,CASTNO,SAMPNO,BTLNBR,BTLNBR_FLAG_W,DATE,TIME,LATITUDE,LONGITUDE,DEPTH,CTDPRS,CTDTMP,CTDSAL,CTDSAL_FLAG_W,SALNTY,SALNTY_FLAG_W,CTDOXY,CTDOXY_FLAG_W,OXYGEN,OXYGEN_FLAG_W,SILCAT,SILCAT_FLAG_W,NITRAT,NITRAT_FLAG_W,NITRIT,NITRIT_FLAG_W,PHSPHT,PHSPHT_FLAG_W,CFC-11,CFC-11_FLAG_W,CFC-12,CFC-12_FLAG_W,SF6,SF6_FLAG_W,TCARBN,TCARBN_FLAG_W,ALKALI,ALKALI_FLAG_W,FCO2,FCO2_FLAG_W,FCO2TMP,PH_TOT,PH_TOT_FLAG_W,PH_TMP,TRITUM,TRITUM_FLAG_W,HELIUM,HELIUM_FLAG_W,DELHE3,DELHE3_FLAG_W,REFTMP,REFTMP_FLAG_W,DELC13,DELC13_FLAG_W,DELC14,DELC14_FLAG_W,C14ERR,CCL4,CCL4_FLAG_W,DOC,DOC_FLAG_W,TDN,TDN_FLAG_W,CTDRAW,THETA
,,,,,,,,,,,METERS,DBAR,ITS-90,PSS-78,,PSS-78,,UMOL/KG,,UMOL/KG,,UMOL/KG,,UMOL/KG,,UMOL/KG,,UMOL/KG,,PMOL/KG,,PMOL/KG,,FMOL/KG,,UMOL/KG,,UMOL/KG,,UATM,,DEG C,,,DEG C,TU,,NMOL/KG,,PERCNT,,DEG C,,/MILLE,,/MILLE,,/MILLE,PMOL/KG,,UMOL/KG,,UMOL/KG,,DBAR,DEG C
33RO20100308,      A13.5,      76,          1,         24,      11714,2,20100403,       1100,   -16.4997,     1.0555,       5679,     5.7,  24.8057,  36.5917,2,  36.5972,2, 208.5000,2,   208.8,2,    0.71,2,    0.08,2,    0.00,2,    0.19,2,   1.763,2,   1.099,2,   1.0430,2,  2082.1,6,  2403.7,6,    332.8,2,    20.00,   8.0519,2,    25.00,-999.000,9,-999.0000,9, -999.00,9,-999.0000,9, -999.00,9,  -999.0,9,  -999.0,   2.062,3, -999.00,9, -999.00,9,    5.70,  24.8045
33RO20100308,      A13.5,      76,          1,         23,      11713,2,20100403,       1100,   -16.4997,     1.0555,       5679,   101.2,  17.3001,  35.7917,2,  35.7868,2, 186.8000,2,   187.2,2,    2.61,2,    8.57,2,    0.08,2,    0.71,2,   2.451,2,   1.451,2,   1.2420,2,  2125.4,2,  2348.3,2,    523.2,2,    20.00,   7.8836,2,    25.00,-999.000,9,-999.0000,9, -999.00,9,-999.0000,9, -999.00,9,  -999.0,9,  -999.0,   1.002,3, -999.00,9, -999.00,9,  101.20,  17.2831
33RO20100308,      A13.5,      76,          1,         22,      11712,2,20100403,       1100,   -16.4997,     1.0555,       5679,   199.7,  12.6756,  35.1564,2,  35.1550,2, 117.2000,2,   115.9,2,    7.05,2,   21.74,2,    0.01,2,    1.44,2,   2.590,6,   1.421,6,   0.8230,6,  2183.3,2,  2309.8,2,    896.7,6,    20.00,   7.6669,2,    25.00,-999.000,9,-999.0000,9, -999.00,9,-999.0000,9, -999.00,9,  -999.0,9,  -999.0,   0.530,3, -999.00,9, -999.00,9,  199.70,  12.6485
33RO20100308,      A13.5,      76,          1,         21,      11010,2,20100403,       1100,   -16.4997,     1.0555,       5679,   299.9,  10.4197,  34.9203,2,  34.9119,2,  84.2000,2,    80.5,2,   12.21,2,   29.81,2,    0.00,2,    1.93,2,   1.804,2,   0.944,2,   0.4270,2,  2217.8,2,  2299.0,2,   1216.9,2,    20.00,   7.5478,4,    25.00,-999.000,9,-999.0000,9, -999.00,9,-999.0000,9, -999.00,9,  -999.0,9,  -999.0,   0.525,3, -999.00,9, -999.00,9,  299.90,  10.3838
33RO20100308,      A13.5,      76,          1,         20,      11715,2,20100403,       1100,   -16.4997,     1.0555,       5679,   399.8,   8.4198,  34.7371,2,  34.7372,2,  62.9000,2,    61.8,2,   17.55,2,   35.91,2,    0.00,2,    2.31,2,   0.852,2,   0.434,2,   0.1420,2,  2241.2,2,  2293.7,2,   1491.8,2,    20.00,   7.4633,2,    25.00,-999.000,9,-999.0000,9, -999.00,9,-999.0000,9, -999.00,9,  -999.0,9,  -999.0,   0.395,3, -999.00,9, -999.00,9,  399.80,   8.3777
33RO20100308,      A13.5,      76,          1,         19,      11007,2,20100403,       1100,   -16.4997,     1.0555,       5679,   500.2,   6.9792,  34.6070,2,  34.6078,2,  90.6000,2,    85.9,2,   21.23,2,   36.73,2,    0.00,2,    2.39,2,   0.501,2,   0.253,2,   0.1560,2,  2234.6,2,  2291.5,2,   1438.2,6,    20.00,   7.4785,2,    25.00,-999.000,9,-999.0000,9, -999.00,9,-999.0000,9, -999.00,9,  -999.0,9,  -999.0,   0.412,3, -999.00,9, -999.00,9,  500.20,   6.9317
33RO20100308,      A13.5,      76,          1,         18,      11710,2,20100403,       1100,   -16.4997,     1.0555,       5679,   600.5,   5.7996,  34.5160,2,  34.5153,2, 112.6000,2,   112.8,2,   25.45,2,   36.60,2,    0.00,2,    2.42,2,   0.288,2,   0.147,2,   0.1260,2,  2230.9,2,  2294.2,2,   1358.4,2,    20.00,   7.5024,2,    25.00,-999.000,9,-999.0000,9, -999.00,9,-999.0000,9, -999.00,9,  -999.0,9,  -999.0,   0.417,3, -999.00,9, -999.00,9,  600.50,   5.7476
33RO20100308,      A13.5,      76,          1,         17,      11025,2,20100403,       1100,   -16.4997,     1.0555,       5679,   700.0,   5.0491,  34.4811,2,  34.4811,2, 127.1000,2,   125.8,2,   29.59,2,   36.66,2,    0.00,2,    2.45,2,   0.138,2,   0.073,2,   0.0000,2,  2228.7,2,  2297.0,2,   1329.0,2,    20.00,   7.5138,2,    25.00,-999.000,9,-999.0000,9, -999.00,9,-999.0000,9, -999.00,9,  -999.0,9,  -999.0,   0.297,3, -999.00,9, -999.00,9,  700.00,   4.9921
33RO20100308,      A13.5,      76,          1,         16,      11709,2,20100403,       1100,   -16.4997,     1.0555,       5679,   800.5,   4.5472,  34.4770,2,  34.4791,2, 140.9000,2,   140.3,2,   32.96,2,   35.83,2,    0.00,2,    2.42,2,   0.085,2,   0.046,2,   0.0000,2,  2227.7,2,  2300.3,2,   1261.9,2,    20.00,   7.5328,2,    25.00,-999.000,9,-999.0000,9, -999.00,9,-999.0000,9, -999.00,9,  -999.0,9,  -999.0,   0.260,3, -999.00,9, -999.00,9,  800.50,   4.4845
33RO20100308,      A13.5,      76,          1,         15,      11006,2,20100403,       1100,   -16.4997,     1.0555,       5679,  1000.3,   3.9284,  34.5407,2,  34.5438,2, 161.1000,2,   159.2,6,   37.75,2,   33.82,2,    0.00,2,    2.30,2,   0.036,2,   0.020,2,   0.0370,2,  2224.2,2,  2309.0,2,   1167.2,2,    20.00,   7.5646,2,    25.00,-999.000,9,-999.0000,9, -999.00,9,-999.0000,9, -999.00,9,  -999.0,9,  -999.0,   0.154,3, -999.00,9, -999.00,9, 1000.30,   3.8532
33RO20100308,      A13.5,      76,          1,         14,      11708,2,20100403,       1100,   -16.4997,     1.0555,       5679,  1200.7,   3.7560,  34.6690,2,  34.6693,2, 173.3000,2,   172.2,2,   37.03,2,   31.20,2,    0.00,2,    2.12,2,   0.009,2,   0.006,2,   0.0350,2,  2219.0,2,  2314.4,2,   1080.5,2,    20.00,   7.5952,2,    25.00,-999.000,9,-999.0000,9, -999.00,9,-999.0000,9, -999.00,9,  -999.0,9,  -999.0,   0.054,3, -999.00,9, -999.00,9, 1200.70,   3.6653
33RO20100308,      A13.5,      76,          1,         13,      11031,2,20100403,       1100,   -16.4997,     1.0555,       5679,  1400.8,   3.6807,  34.8010,2,  34.8017,2, 194.9000,2,   194.0,2,   32.38,2,   27.54,2,    0.00,2,    1.87,2,   0.003,2,   0.002,2,   0.0000,2,  2205.1,2,  2318.1,2,    957.9,2,    20.00,   7.6441,2,    25.00,-999.000,9,-999.0000,9, -999.00,9,-999.0000,9, -999.00,9,  -999.0,9,  -999.0,   0.028,3, -999.00,9, -999.00,9, 1400.80,   3.5732
33RO20100308,      A13.5,      76,          1,         12,      11027,2,20100403,       1100,   -16.4997,     1.0555,       5679,  1699.7,   3.5149,  34.8956,2,  34.8956,2, 218.2000,2,   218.2,2,   28.96,2,   24.06,2,    0.00,2,    1.61,2,   0.004,2,   0.002,2,   0.0750,3,  2190.4,2,  2319.6,2,    853.5,2,    20.00,   7.6908,4,    25.00,-999.000,9,-999.0000,9, -999.00,9,-999.0000,9, -999.00,9,  -999.0,9,  -999.0,   0.034,3, -999.00,9, -999.00,9, 1699.70,   3.3826
33RO20100308,      A13.5,      76,          1,         11,      11707,2,20100403,       1100,   -16.4997,     1.0555,       5679,  1999.8,   3.2893,  34.9134,2,  34.9131,2, 226.6000,2,   226.1,2,   30.96,2,   23.17,2,    0.00,2,    1.55,2,   0.003,2,   0.002,2,   0.0000,2,  2187.4,2,  2322.6,2,    827.7,2,    20.00,   7.7031,2,    25.00,-999.000,9,-999.0000,9, -999.00,9,-999.0000,9, -999.00,9,  -999.0,9,  -999.0,   0.023,3, -999.00,9, -999.00,9, 1999.80,   3.1325
33RO20100308,      A13.5,      76,          1,         10,      11003,2,20100403,       1100,   -16.4997,     1.0555,       5679,  2301.4,   3.0271,  34.9131,2,  34.9126,2, 230.1000,2,   230.4,6,   35.03,2,   22.93,2,    0.00,2,    1.54,2,   0.003,2,   0.002,2,   0.0000,2,  2188.4,2,  2328.0,2,    818.1,2,    20.00,   7.7091,2,    25.00,-999.000,9,-999.0000,9, -999.00,9,-999.0000,9, -999.00,9,  -999.0,9,  -999.0,   0.014,3, -999.00,9, -999.00,9, 2301.40,   2.8460
33RO20100308,      A13.5,      76,          1,          9,      11706,2,20100403,       1100,   -16.4997,     1.0555,       5679,  2599.8,   2.8173,  34.9074,2,  34.9067,2, 231.1000,2,   231.0,2,   39.46,2,   23.02,2,    0.00,2,    1.55,2,   0.003,2,   0.001,2,   0.0000,2,  2193.1,2,  2332.8,2,    821.3,2,    20.00,   7.7101,2,    25.00,-999.000,9,-999.0000,9, -999.00,9,-999.0000,9, -999.00,9,  -999.0,9,  -999.0,   0.009,3, -999.00,9, -999.00,9, 2599.80,   2.6111
33RO20100308,      A13.5,      76,          1,          8,      11033,2,20100403,       1100,   -16.4997,     1.0555,       5679,  2900.9,   2.6342,  34.8996,2,  34.8994,2, 229.3000,2,   230.0,2,   44.58,2,   23.35,2,    0.00,2,    1.57,2,   0.002,2,   0.001,2,   0.0000,2,  2200.7,2,  2337.8,2,    819.0,2,    20.00,   7.7083,2,    25.00,-999.000,9,-999.0000,9, -999.00,9,-999.0000,9, -999.00,9,  -999.0,9,  -999.0,   0.007,3, -999.00,9, -999.00,9, 2900.90,   2.4016
33RO20100308,      A13.5,      76,          1,          7,      11705,2,20100403,       1100,   -16.4997,     1.0555,       5679,  3301.0,   2.4602,  34.8913,2,  34.8916,2, 227.7000,2,   227.8,2,   49.63,6,   23.56,6,    0.00,6,    1.58,6,   0.002,2,   0.001,2,   0.0000,2,  2207.7,2,  2348.4,2,    817.5,2,    20.00,   7.7102,2,    25.00,-999.000,9,-999.0000,9, -999.00,9,-999.0000,9, -999.00,9,  -999.0,9,  -999.0,   0.007,3, -999.00,9, -999.00,9, 3301.00,   2.1901
33RO20100308,      A13.5,      76,          1,          6,      11029,2,20100403,       1100,   -16.4997,     1.0555,       5679,  3700.7,   2.3899,  34.8902,2,  34.8898,2, 229.6000,2,   230.8,2,   50.95,6,   23.49,6,    0.00,6,    1.57,6,   0.004,2,   0.005,2,   0.0000,2,  2210.4,2,  2353.3,2,    806.8,2,    20.00,   7.7155,2,    25.00,-999.000,9,-999.0000,9, -999.00,9,-999.0000,9, -999.00,9,  -999.0,9,  -999.0,   0.012,3, -999.00,9, -999.00,9, 3700.70,   2.0784
33RO20100308,      A13.5,      76,          1,          5,      11704,2,20100403,       1100,   -16.4997,     1.0555,       5679,  4100.2,   2.3774,  34.8877,2,  34.8869,2, 231.2000,2,   231.7,2,   51.64,6,   23.43,6,    0.00,6,    1.57,6,   0.004,2,   0.003,2,   0.0000,2,  2211.8,2,  2354.1,2,    803.0,2,    20.00,   7.7166,2,    25.00,-999.000,9,-999.0000,9, -999.00,9,-999.0000,9, -999.00,9,  -999.0,9,  -999.0,   0.021,3, -999.00,9, -999.00,9, 4100.20,   2.0211
33RO20100308,      A13.5,      76,          1,          4,      11030,2,20100403,       1100,   -16.4997,     1.0555,       5679,  4500.6,   2.3893,  34.8854,2,  34.8854,2, 231.9000,2,   233.1,2,   52.22,6,   23.42,6,    0.00,6,    1.57,6,   0.003,2,   0.002,2,   0.0000,2,  2211.3,2,  2355.6,2,    802.1,2,    20.00,   7.7178,2,    25.00,-999.000,9,-999.0000,9, -999.00,9,-999.0000,9, -999.00,9,  -999.0,9,  -999.0,   0.024,3, -999.00,9, -999.00,9, 4500.60,   1.9853
33RO20100308,      A13.5,      76,          1,          3,      11703,2,20100403,       1100,   -16.4997,     1.0555,       5679,  4899.6,   2.4064,  34.8824,2,  34.8819,2, 233.2000,2,   233.9,2,   52.71,6,   23.38,6,    0.00,6,    1.56,6,   0.005,2,   0.004,2,   0.0000,2,  2211.4,2,  2356.4,2,    800.8,2,    20.00,   7.7197,2,    25.00,-999.000,9,-999.0000,9, -999.00,9,-999.0000,9, -999.00,9,  -999.0,9,  -999.0,   0.036,3, -999.00,9, -999.00,9, 4899.60,   1.9528
33RO20100308,      A13.5,      76,          1,          2,      11702,2,20100403,       1100,   -16.4997,     1.0555,       5679,  5300.5,   2.4407,  34.8800,2,  34.8797,2, 234.3000,2,   234.6,2,   53.03,6,   23.38,6,    0.00,6,    1.56,6,   0.006,2,   0.005,2,   0.0000,2,  2212.0,2,  2358.6,2,    798.6,2,    20.00,   7.7205,4,    25.00,-999.000,9,-999.0000,9, -999.00,9,-999.0000,9, -999.00,9,  -999.0,9,  -999.0,   0.050,3, -999.00,9, -999.00,9, 5300.50,   1.9346
33RO20100308,      A13.5,      76,          1,          1,      11701,2,20100403,       1100,   -16.4997,     1.0555,       5679,  5772.8,   2.5040,  34.8794,2,  34.8809,2, 234.5000,2,   235.0,2,   53.09,6,   23.37,6,    0.00,6,    1.56,6,   0.008,6,   0.005,6,   0.0000,6,  2213.0,6,  2357.4,6,    799.7,2,    20.00,   7.7210,2,    25.00,-999.000,9,-999.0000,9, -999.00,9,-999.0000,9, -999.00,9,  -999.0,9,  -999.0,   0.056,3, -999.00,9, -999.00,9, 5772.80,   1.9327