BOTTLE,20130404CCHSIOCBG
EXPOCODE,SECT_ID,STNNBR,CASTNO,SAMPNO,BTLNBR,BTLNBR_FLAG_W,DATE,TIME,LATITUDE,LONGITUDE,DEPTH,CTDPRS,CTDTMP,CTDSAL,CTDSAL_FLAG_W,SALNTY,SALNTY_FLAG_W,CTDOXY,CTDOXY_FLAG_W,OXYGEN,OXYGEN_FLAG_W,SILCAT,SILCAT_FLAG_W,NITRAT,NITRAT_FLAG_W,NITRIT,NITRIT_FLAG_W,PHSPHT,PHSPHT_FLAG_W,CFC-11,CFC-11_FLAG_W,CFC-12,CFC-12_FLAG_W,SF6,SF6_FLAG_W,TCARBN,TCARBN_FLAG_W,ALKALI,ALKALI_FLAG_W,FCO2,FCO2_FLAG_W,FCO2TMP,PH_TOT,PH_TOT_FLAG_W,PH_TMP,TRITUM,TRITUM_FLAG_W,HELIUM,HELIUM_FLAG_W,DELHE3,DELHE3_FLAG_W,REFTMP,REFTMP_FLAG_W,DELC13,DELC13_FLAG_W,DELC14,DELC14_FLAG_W,C14ERR,CCL4,CCL4_FLAG_W,DOC,DOC_FLAG_W,TDN,TDN_FLAG_W,CTDRAW,THETA
,,,,,,,,,,,METERS,DBAR,ITS-90,PSS-78,,PSS-78,,UMOL/KG,,UMOL/KG,,UMOL/KG,,UMOL/KG,,UMOL/KG,,UMOL/KG,,PMOL/KG,,PMOL/KG,,FMOL/KG,,UMOL/KG,,UMOL/KG,,UATM,,DEG C,,,DEG C,TU,,NMOL/KG,,PERCNT,,DEG C,,/MILLE,,/MILLE,,/MILLE,PMOL/KG,,UMOL/KG,,UMOL/KG,,DBAR,DEG C
33RO20100308,      A13.5,      27,          1,         24,      11714,2,20100320,       2112,   -40.9995,     0.9717,       4603,     6.3,  13.4321,  34.5324,2,  34.5328,2, 263.9000,2,   264.4,2,    0.68,2,    5.08,2,    0.13,2,    0.57,2,   3.080,2,   1.808,2,   1.5740,2,  2071.7,6,  2292.7,6,    473.0,2,    20.00,   7.9144,2,    25.00,-999.000,9,-999.0000,9, -999.00,9,  13.4385,2, -999.00,9,  -999.0,9,  -999.0,   3.791,3,   57.07,2,    9.43,2,    6.30,  13.4312
33RO20100308,      A13.5,      27,          1,         23,      11713,2,20100320,       2112,   -40.9995,     0.9717,       4603,    51.5,  12.5551,  34.5328,2,  34.5328,2, 265.5000,2,   263.4,2,    0.72,2,    5.39,2,    0.13,2,    0.60,2,   3.149,2,   1.828,2,   1.6040,2,  2075.9,2,  2291.8,2,    485.5,6,    20.00,   7.9037,4,    25.00,-999.000,9,-999.0000,9, -999.00,9,  12.5555,2, -999.00,9,  -999.0,9,  -999.0,   3.745,3,   56.24,2,   11.07,2,   51.50,  12.5483
33RO20100308,      A13.5,      27,          1,         22,      11712,2,20100320,       2112,   -40.9995,     0.9717,       4603,   110.3,  10.8932,  34.6997,2,  34.6972,2, 251.1000,2,   252.3,2,    2.01,2,    9.59,2,    0.02,2,    0.80,2,   3.360,2,   1.951,2,   1.6170,2,  2106.4,2,  2293.7,2,    571.2,2,    20.00,   7.8432,2,    25.00,-999.000,9,-999.0000,9, -999.00,9,  10.8981,2, -999.00,9,  -999.0,9,  -999.0,   2.665,3,   49.90,2,   13.13,2,  110.30,  10.8798
33RO20100308,      A13.5,      27,          1,         21,      11010,2,20100320,       2112,   -40.9995,     0.9717,       4603,   151.1,  10.0391,  34.6413,2,  34.6408,2, 251.5000,2,   252.3,2,    2.57,2,   11.68,2,    0.02,2,    0.92,2,   3.461,6,   2.000,6,   1.6740,6,  2115.1,2,  2291.4,2,    611.5,2,    20.00,   7.8202,2,    25.00,-999.000,9,-999.0000,9, -999.00,9,  10.0391,2, -999.00,9,  -999.0,9,  -999.0,   2.695,3,   45.26,2,   15.04,2,  151.10,  10.0216
33RO20100308,      A13.5,      27,          1,         20,      11715,2,20100320,       2112,   -40.9995,     0.9717,       4603,   250.6,   9.0104,  34.6122,2,  34.6123,2, 238.1000,2,   240.1,2,    4.47,2,   16.13,2,    0.01,2,    1.17,2,   3.584,2,   2.032,2,   1.5380,2,  2132.7,2,  2288.4,2,    687.9,2,    20.00,   7.7710,2,    25.00,-999.000,9,-999.0000,9, -999.00,9,   8.9983,2, -999.00,9,  -999.0,9,  -999.0,   2.665,3,   44.44,2,   18.64,2,  250.60,   8.9832
33RO20100308,      A13.5,      27,          1,         19,      11007,2,20100320,       2112,   -40.9995,     0.9717,       4603,   352.2,   7.6560,  34.4706,2,  34.4714,2, 236.0000,2,   236.9,2,    6.70,2,   20.19,2,    0.00,2,    1.42,2,   3.748,2,   2.073,2,   1.3410,2,  2144.9,2,  2276.7,2,    767.5,2,    20.00,   7.7290,2,    25.00,-999.000,9,-999.0000,9, -999.00,9,   7.6610,2, -999.00,9,  -999.0,9,  -999.0,   3.046,3,   43.80,2,   22.50,2,  352.20,   7.6212
33RO20100308,      A13.5,      27,          1,         18,      11710,2,20100320,       2112,   -40.9995,     0.9717,       4603,   449.0,   6.2848,  34.3391,2,  34.3395,2, 232.0000,2,   233.5,2,    9.94,2,   24.27,2,    0.01,2,    1.68,2,   3.823,2,   2.056,2,   1.2730,2,  2156.4,2,  2279.0,2,    844.5,2,    20.00,   7.6881,2,    25.00,-999.000,9,-999.0000,9, -999.00,9,   6.2876,2, -999.00,9,  -999.0,9,  -999.0,   3.417,3,   41.40,2,   26.10,2,  449.00,   6.2449
33RO20100308,      A13.5,      27,          1,         17,      11025,2,20100320,       2112,   -40.9995,     0.9717,       4603,   600.3,   4.7572,  34.2323,2,  34.2319,2, 239.3000,2,   239.5,2,   16.14,2,   27.45,2,    0.00,2,    1.90,2,   3.737,2,   1.969,2,   1.1260,2,  2167.4,2,  2280.8,2,    910.3,2,    20.00,   7.6601,2,    25.00,-999.000,9,-999.0000,9, -999.00,9,   4.7570,2, -999.00,9,  -999.0,9,  -999.0,   3.826,3,   41.32,2,   28.99,2,  600.30,   4.7103
33RO20100308,      A13.5,      27,          1,         16,      11709,2,20100320,       2112,   -40.9995,     0.9717,       4603,   751.0,   4.0953,  34.2245,2,  34.2248,2, 236.8000,2,   237.0,2,   22.03,2,   28.99,2,    0.00,2,    2.01,2,   3.396,2,   1.758,2,   0.8810,2,  2177.4,2,  2284.2,2,    947.3,2,    20.00,   7.6460,2,    25.00,-999.000,9,-999.0000,9, -999.00,9,   4.0971,2, -999.00,9,  -999.0,9,  -999.0,   3.788,3,   41.07,2,   30.59,2,  751.00,   4.0397
33RO20100308,      A13.5,      27,          1,         15,      11006,2,20100320,       2112,   -40.9995,     0.9717,       4603,   900.3,   3.5079,  34.2647,2,  34.2650,2, 223.2000,2,   222.9,2,   32.35,2,   30.88,2,    0.00,2,    2.14,2,   2.687,2,   1.348,2,   0.5680,2,  2194.8,2,  2295.9,2,   1012.2,2,    20.00,   7.6198,2,    25.00,-999.000,9,-999.0000,9, -999.00,9,   3.5065,2, -999.00,9,  -999.0,9,  -999.0,   3.219,3,   40.29,2,   31.88,2,  900.30,   3.4443
33RO20100308,      A13.5,      27,          1,         14,      11708,2,20100320,       2112,   -40.9995,     0.9717,       4603,  1051.4,   3.2153,  34.3421,2,  34.3429,2, 202.7000,2,   204.7,2,   43.45,2,   32.36,2,    0.00,2,    2.25,2,   1.876,2,   0.913,2,   0.3800,2,  2212.8,2,  2294.1,3,   1081.8,2,    20.00,   7.5957,2,    25.00,-999.000,9,-999.0000,9, -999.00,9,   3.2148,2, -999.00,9,  -999.0,9,  -999.0,   2.375,3,   39.88,2,   33.82,2, 1051.40,   3.1420
33RO20100308,      A13.5,      27,          1,         13,      11031,2,20100320,       2112,   -40.9995,     0.9717,       4603,  1199.8,   3.0174,  34.4229,2,  34.4221,2, 189.0000,2,   188.9,6,   53.38,2,   33.30,2,    0.00,2,    2.33,2,-999.000,9,-999.000,9,-999.0000,9,  2227.4,2,  2317.1,2,   1128.2,2,    20.00,   7.5786,2,    25.00,-999.000,9,-999.0000,9, -999.00,9,   3.0179,2, -999.00,9,  -999.0,9,  -999.0,-999.000,9,   39.96,2,   35.03,2, 1199.80,   2.9341
33RO20100308,      A13.5,      27,          1,         12,      11027,2,20100320,       2112,   -40.9995,     0.9717,       4603,  1499.2,   2.8036,  34.5878,2,  34.5887,2, 177.4000,2,   178.3,2,   64.42,2,   32.77,2,    0.00,2,    2.28,2,   0.401,2,   0.193,2,   0.0000,2,  2240.5,6,  2330.2,6,   1132.3,2,    20.00,   7.5798,2,    25.00,-999.000,9,-999.0000,9, -999.00,9,   2.8032,2, -999.00,9,  -999.0,9,  -999.0,   0.702,3,   39.14,2,   34.53,2, 1499.20,   2.6980
33RO20100308,      A13.5,      27,          1,         11,      11707,2,20100320,       2112,   -40.9995,     0.9717,       4603,  1800.4,   2.6947,  34.7046,2,  34.7049,2, 186.6000,2,   188.0,6,   64.97,2,   30.48,2,    0.00,2,    2.10,2,-999.000,9,-999.000,9,-999.0000,9,  2235.3,2,  2336.0,2,   1053.2,2,    20.00,   7.6079,2,    25.00,-999.000,9,-999.0000,9, -999.00,9,   2.6942,2, -999.00,9,  -999.0,9,  -999.0,-999.000,9,   39.35,2,   32.68,2, 1800.40,   2.5649
33RO20100308,      A13.5,      27,          1,         10,      11003,2,20100320,       2112,   -40.9995,     0.9717,       4603,  2101.7,   2.6142,  34.7788,2,  34.7776,2, 201.3000,2,   202.3,2,   61.81,2,   28.21,2,    0.00,2,    1.94,2,   0.080,2,   0.037,2,   0.0000,2,  2224.5,2,  2337.6,2,    972.0,2,    20.00,   7.6417,2,    25.00,-999.000,9,-999.0000,9, -999.00,9,   2.6136,2, -999.00,9,  -999.0,9,  -999.0,   0.207,3,   39.17,2,   29.85,2, 2101.70,   2.4589
33RO20100308,      A13.5,      27,          1,          9,      11706,2,20100320,       2112,   -40.9995,     0.9717,       4603,  2400.6,   2.4963,  34.8119,2,  34.8110,2, 211.7000,2,   212.5,2,   60.31,2,   26.83,2,    0.00,2,    1.84,2,-999.000,9,-999.000,9,-999.0000,9,  2217.7,2,  2336.6,2,    926.6,2,    20.00,   7.6624,2,    25.00,-999.000,9,-999.0000,9, -999.00,9,   2.4958,2, -999.00,9,  -999.0,9,  -999.0,-999.000,9,   39.33,2,   28.97,2, 2400.60,   2.3155
33RO20100308,      A13.5,      27,          1,          8,      11033,2,20100320,       2112,   -40.9995,     0.9717,       4603,  2699.8,   2.3812,  34.8264,2,  34.8266,2, 219.3000,2,   218.9,2,   60.80,2,   26.16,2,    0.00,2,    1.79,2,   0.034,2,   0.017,2,   0.0000,2,  2215.1,2,  2340.0,2,    896.2,2,    20.00,   7.6743,2,    25.00,-999.000,9,-999.0000,9, -999.00,9,   2.3809,2, -999.00,9,  -999.0,9,  -999.0,   0.105,3,   39.34,2,   28.49,2, 2699.80,   2.1740
33RO20100308,      A13.5,      27,          1,          7,      11705,2,20100320,       2112,   -40.9995,     0.9717,       4603,  3000.4,   2.2310,  34.8311,2,  34.8305,2, 222.8000,2,   222.7,2,   63.58,2,   25.99,2,    0.00,2,    1.78,2,-999.000,9,-999.000,9,-999.0000,9,  2216.7,2,  2340.4,2,    881.9,6,    20.00,   7.6804,2,    25.00,-999.000,9,-999.0000,9, -999.00,9,   2.2303,2, -999.00,9,  -999.0,9,  -999.0,-999.000,9,   39.14,2,   27.59,2, 3000.40,   1.9973
33RO20100308,      A13.5,      27,          1,          6,      11029,2,20100320,       2112,   -40.9995,     0.9717,       4603,  3300.9,   2.0182,  34.8204,2,  34.8194,2, 221.5000,2,   223.0,2,   70.59,2,   26.55,2,    0.00,2,    1.82,2,   0.032,2,   0.015,2,   0.0000,2,  2223.0,2,  2349.5,2,    889.7,2,    20.00,   7.6774,2,    25.00,-999.000,9,-999.0000,9, -999.00,9,   2.0176,2, -999.00,9,  -999.0,9,  -999.0,   0.089,3,   39.10,2,   27.76,2, 3300.90,   1.7590
33RO20100308,      A13.5,      27,          1,          5,      11704,2,20100320,       2112,   -40.9995,     0.9717,       4603,  3501.7,   1.7958,  34.7991,2,  34.7986,2, 219.8000,2,   219.7,2,   79.56,6,   27.49,6,    0.01,6,    1.89,6,   0.042,2,   0.020,2,   0.0000,2,  2230.0,2,  2350.8,2,    911.7,2,    20.00,   7.6667,2,    25.00,-999.000,9,-999.0000,9, -999.00,9,   1.7954,2, -999.00,9,  -999.0,9,  -999.0,   0.112,3,   39.56,2,   28.79,2, 3501.70,   1.5213
33RO20100308,      A13.5,      27,          1,          4,      11030,2,20100320,       2112,   -40.9995,     0.9717,       4603,  3799.4,   1.4236,  34.7660,2,  34.7653,2, 217.6000,2,   217.8,2,   93.72,6,   29.01,6,    0.01,6,    2.01,6,   0.065,2,   0.031,2,   0.0000,2,  2242.2,2,  2357.9,2,    957.8,2,    20.00,   7.6506,2,    25.00,-999.000,9,-999.0000,9, -999.00,9,   1.4230,2, -999.00,9,  -999.0,9,  -999.0,   0.169,3,   39.29,2,   30.75,2, 3799.40,   1.1278
33RO20100308,      A13.5,      27,          1,          3,      11703,2,20100320,       2112,   -40.9995,     0.9717,       4603,  4103.2,   1.1513,  34.7423,2,  34.7413,2, 216.7000,2,   216.5,2,  104.10,6,   30.16,6,    0.01,6,    2.09,6,   0.083,2,   0.039,2,   0.0000,2,  2249.4,2,  2364.4,2,    983.6,2,    20.00,   7.6408,2,    25.00,-999.000,9,-999.0000,9, -999.00,9,   1.1508,2, -999.00,9,  -999.0,9,  -999.0,   0.219,3,   39.43,2,   32.10,2, 4103.20,   0.8307
33RO20100308,      A13.5,      27,          1,          2,      11702,2,20100320,       2112,   -40.9995,     0.9717,       4603,  4401.0,   1.0872,  34.7342,2,  34.7342,2, 216.9000,2,   216.4,2,  107.71,6,   30.55,6,    0.00,6,    2.12,6,   0.100,6,   0.047,6,   0.0000,6,  2252.4,2,  2367.2,2,    993.7,2,    20.00,   7.6367,2,    25.00,-999.000,9,-999.0000,9, -999.00,9,   1.0865,2, -999.00,9,  -999.0,9,  -999.0,   0.246,3,   39.75,2,   31.93,2, 4401.00,   0.7358
33RO20100308,      A13.5,      27,          1,          1,      11701,2,20100320,       2112,   -40.9995,     0.9717,       4603,  4667.6,   1.0763,  34.7291,2,  34.7289,2, 216.8000,2,   214.7,2,  110.23,6,   30.83,6,    0.01,6,    2.14,6,   0.120,2,   0.056,2,   0.0000,2,  2256.6,6,  2367.9,6,    997.0,2,    20.00,   7.6343,2,    25.00,-999.000,9,-999.0000,9, -999.00,9,   1.0761,2, -999.00,9,  -999.0,9,  -999.0,   0.268,3,   39.30,2,   31.75,2, 4667.60,   0.6950