BOTTLE,20130404CCHSIOCBG
EXPOCODE,SECT_ID,STNNBR,CASTNO,SAMPNO,BTLNBR,BTLNBR_FLAG_W,DATE,TIME,LATITUDE,LONGITUDE,DEPTH,CTDPRS,CTDTMP,CTDSAL,CTDSAL_FLAG_W,SALNTY,SALNTY_FLAG_W,CTDOXY,CTDOXY_FLAG_W,OXYGEN,OXYGEN_FLAG_W,SILCAT,SILCAT_FLAG_W,NITRAT,NITRAT_FLAG_W,NITRIT,NITRIT_FLAG_W,PHSPHT,PHSPHT_FLAG_W,CFC-11,CFC-11_FLAG_W,CFC-12,CFC-12_FLAG_W,SF6,SF6_FLAG_W,TCARBN,TCARBN_FLAG_W,ALKALI,ALKALI_FLAG_W,FCO2,FCO2_FLAG_W,FCO2TMP,PH_TOT,PH_TOT_FLAG_W,PH_TMP,TRITUM,TRITUM_FLAG_W,HELIUM,HELIUM_FLAG_W,DELHE3,DELHE3_FLAG_W,REFTMP,REFTMP_FLAG_W,DELC13,DELC13_FLAG_W,DELC14,DELC14_FLAG_W,C14ERR,CCL4,CCL4_FLAG_W,DOC,DOC_FLAG_W,TDN,TDN_FLAG_W,CTDRAW,THETA
,,,,,,,,,,,METERS,DBAR,ITS-90,PSS-78,,PSS-78,,UMOL/KG,,UMOL/KG,,UMOL/KG,,UMOL/KG,,UMOL/KG,,UMOL/KG,,PMOL/KG,,PMOL/KG,,FMOL/KG,,UMOL/KG,,UMOL/KG,,UATM,,DEG C,,,DEG C,TU,,NMOL/KG,,PERCNT,,DEG C,,/MILLE,,/MILLE,,/MILLE,PMOL/KG,,UMOL/KG,,UMOL/KG,,DBAR,DEG C
33RO20100308,      A13.5,     123,          1,         24,      11714,2,20100416,       1210,     3.4032,    -3.0005,       3914,     5.6,  30.4576,  34.9687,2,  34.9737,2, 191.7000,2,   192.2,2,    0.98,6,    0.21,6,    0.00,6,    0.01,6,   1.406,2,   0.923,2,   1.0350,2,  1938.3,6,  2289.6,6,    252.0,2,    20.00,   8.1399,2,    25.00,-999.000,9,-999.0000,9, -999.00,9,  30.4588,2,    1.61,2,    51.4,2,     3.0,-999.000,5,   71.09,2,    5.58,2,    5.60,  30.4562
33RO20100308,      A13.5,     123,          1,         23,      11716,2,20100416,       1210,     3.4032,    -3.0005,       3914,    75.3,  18.5720,  35.8929,2,  35.8899,2, 106.6000,2,   108.4,2,    4.53,2,   14.89,2,    0.31,2,    1.06,2,   2.071,6,   1.222,6,   0.8180,6,  2174.7,2,  2350.6,6,    672.6,2,    20.00,   7.7911,2,    25.00,-999.000,9,-999.0000,9, -999.00,9,  18.5744,2,    0.62,2,    46.8,2,     2.6,-999.000,5,   51.07,2,   19.13,2,   75.30,  18.5587
33RO20100308,      A13.5,     123,          1,         22,      11022,2,20100416,       1210,     3.4032,    -3.0005,       3914,   149.7,  15.6696,  35.6433,2,  35.6403,2,  95.2000,2,    95.1,6,    6.84,2,   20.49,2,    0.01,2,    1.35,2,   2.076,2,   1.188,2,   0.6120,2,  2190.7,2,  2337.1,6,    801.2,2,    20.00,   7.7213,2,    25.00,-999.000,9,-999.0000,9, -999.00,9,  15.6700,2,    0.48,2,    42.8,2,     2.0,-999.000,5,   46.61,2,   22.75,2,  149.70,  15.6462
33RO20100308,      A13.5,     123,          1,         21,      11010,2,20100416,       1210,     3.4032,    -3.0005,       3914,   224.9,  13.8429,  35.3922,2,  35.3874,2,  65.9000,2,    64.2,2,    9.56,2,   26.60,2,    0.01,2,    1.69,2,   1.693,2,   0.945,2,   0.3730,2,  2214.4,2,  2321.5,2,   1038.0,2,    20.00,   7.6181,2,    25.00,-999.000,9,-999.0000,9, -999.00,9,  13.8414,2,    0.30,2,    28.4,2,     2.4,-999.000,5,   44.59,2,   28.42,2,  224.90,  13.8105
33RO20100308,      A13.5,     123,          1,         20,      11715,2,20100416,       1210,     3.4032,    -3.0005,       3914,   300.0,  10.6774,  35.0286,2,  35.0248,2,  52.7000,2,    53.6,2,   13.92,2,   33.16,2,    0.00,2,    2.06,2,   1.069,2,   0.575,2,   0.1840,2,  2235.1,2,  2306.1,2,   1310.4,6,    20.00,   7.5197,2,    25.00,-999.000,9,-999.0000,9, -999.00,9,  10.6532,2,    0.33,2,   -12.3,2,     2.3,-999.000,5,   42.29,2,   35.22,2,  300.00,  10.6409
33RO20100308,      A13.5,     123,          1,         19,      11007,2,20100416,       1210,     3.4032,    -3.0005,       3914,   372.2,   8.9033,  34.8320,2,  34.8306,2,  70.0000,2,    69.9,2,   16.76,2,   35.12,2,    0.00,2,    2.19,2,   0.782,2,   0.409,2,   0.1360,2,  2233.6,2,  2298.7,2,   1350.6,2,    20.00,   7.5042,2,    25.00,-999.000,9,-999.0000,9, -999.00,9,   8.9041,2,    0.42,2,   -34.7,2,     2.1,-999.000,5,   41.54,2,   37.45,2,  372.20,   8.8628
33RO20100308,      A13.5,     123,          1,         18,      11710,2,20100416,       1210,     3.4032,    -3.0005,       3914,   450.2,   7.7918,  34.7188,2,  34.7164,2,  84.8000,2,    84.1,2,   19.38,2,   36.17,2,    0.00,2,    2.28,2,   0.561,2,   0.293,2,   0.0620,2,  2230.8,2,  -999.0,9,   1349.7,2,    20.00,   7.5046,2,    25.00,-999.000,9,-999.0000,9, -999.00,9,   7.7950,2,    0.51,2,   -54.4,2,     2.2,-999.000,5,   40.92,2,   37.80,2,  450.20,   7.7464
33RO20100308,      A13.5,     123,          1,         17,      11025,2,20100416,       1210,     3.4032,    -3.0005,       3914,   526.3,   7.0457,  34.6561,2,  34.6548,2,  89.3000,2,    89.4,2,   21.81,2,   37.08,2,    0.00,2,    2.38,2,   0.318,2,   0.168,2,   0.0000,2,  2230.8,2,  2295.9,2,   1378.3,2,    20.00,   7.4956,2,    25.00,-999.000,9,-999.0000,9, -999.00,9,   7.0452,2,    0.49,2,   -70.5,2,     1.9,-999.000,5,   40.16,2,   39.24,2,  526.30,   6.9953
33RO20100308,      A13.5,     123,          1,         16,      11709,2,20100416,       1210,     3.4032,    -3.0005,       3914,   600.2,   6.4057,  34.6051,2,  34.6032,2, 101.9000,2,   102.3,2,   23.73,2,   36.99,2,    0.00,2,    2.41,2,   0.252,2,   0.133,2,   0.0000,2,  2228.5,2,  2295.7,2,   1343.0,2,    20.00,   7.5066,2,    25.00,-999.000,9,-999.0000,9, -999.00,9,   6.4097,2,    0.56,2,   -83.6,2,     2.0,-999.000,5,   39.71,2,   38.89,2,  600.20,   6.3509
33RO20100308,      A13.5,     123,          1,         15,      11006,2,20100416,       1210,     3.4032,    -3.0005,       3914,   700.2,   5.6137,  34.5496,2,  34.5495,2, 121.1000,2,   121.2,2,   26.61,2,   36.56,2,    0.00,2,    2.42,2,   0.184,2,   0.096,2,   0.0000,2,  2223.9,2,  2297.5,2,   1289.9,2,    20.00,   7.5239,2,    25.00,-999.000,9,-999.0000,9, -999.00,9,   5.6142,2,    0.63,2,   -93.2,2,     1.8,-999.000,5,   39.12,2,   38.64,2,  700.20,   5.5535
33RO20100308,      A13.5,     123,          1,         14,      11708,2,20100416,       1210,     3.4032,    -3.0005,       3914,   800.9,   4.9863,  34.5432,2,  34.5450,2, 136.6000,2,   135.9,2,   29.41,2,   35.72,2,    0.00,2,    2.39,2,-999.000,9,-999.000,9,-999.0000,9,  2222.1,2,  2300.2,2,   1237.1,2,    20.00,   7.5436,2,    25.00,-999.000,9,-999.0000,9, -999.00,9,   4.9862,2,    0.65,2,  -105.4,2,     2.6,-999.000,9,   38.61,2,   37.50,2,  800.90,   4.9207
33RO20100308,      A13.5,     123,          1,         13,      11031,2,20100416,       1210,     3.4032,    -3.0005,       3914,   899.3,   4.7106,  34.5836,2,  34.5845,2, 142.8000,2,   144.0,2,   30.36,2,   34.78,2,    0.00,2,    2.34,2,   0.058,2,   0.032,2,   0.0000,2,  2221.5,2,  2303.3,2,   1194.1,2,    20.00,   7.5561,2,    25.00,-999.000,9,-999.0000,9, -999.00,9,   4.7105,2,    0.69,2,  -106.1,2,     2.5,-999.000,5,   39.07,2,   36.56,2,  899.30,   4.6382
33RO20100308,      A13.5,     123,          1,         12,      11027,2,20100416,       1210,     3.4032,    -3.0005,       3914,  1000.2,   4.6004,  34.6439,2,  34.6449,2, 148.7000,2,   148.7,2,   30.01,2,   33.63,2,    0.00,2,    2.25,2,-999.000,9,-999.000,9,-999.0000,9,  2220.9,2,  2306.2,2,   1157.2,2,    20.00,   7.5695,2,    25.00,-999.000,9,-999.0000,9, -999.00,9,   4.6004,2,    0.72,2,  -106.8,2,     2.5,-999.000,9,   38.46,2,   35.66,2, 1000.20,   4.5199
33RO20100308,      A13.5,     123,          1,         11,      11707,2,20100416,       1210,     3.4032,    -3.0005,       3914,  1100.1,   4.5386,  34.7146,2,  34.7182,2, 161.0000,2,   160.5,2,   28.24,2,   31.54,2,    0.00,2,    2.11,2,-999.000,9,-999.000,9,-999.0000,9,  2213.2,2,  2308.8,2,   1085.9,2,    20.00,   7.5950,2,    25.00,-999.000,9,-999.0000,9, -999.00,9,   4.5385,2,    0.71,2,  -106.8,2,     2.9,-999.000,9,   39.18,2,   33.80,2, 1100.10,   4.4496
33RO20100308,      A13.5,     123,          1,         10,      11003,2,20100416,       1210,     3.4032,    -3.0005,       3914,  1199.3,   4.5378,  34.7915,2,  34.7931,2, 170.9000,2,   171.6,2,   26.15,6,   29.27,6,    0.00,6,    1.97,2,   0.029,2,   0.016,2,   0.0000,2,  2205.8,2,  2310.9,2,   1025.4,2,    20.00,   7.6191,2,    25.00,-999.000,9,-999.0000,9, -999.00,9,   4.5370,2,    0.78,2,  -100.1,2,     3.2,-999.000,5,   40.11,2,   31.20,2, 1199.30,   4.4398
33RO20100308,      A13.5,     123,          1,          9,      11706,2,20100416,       1210,     3.4032,    -3.0005,       3914,  1400.5,   4.3423,  34.8989,2,  34.8997,2, 199.5000,2,   198.9,2,   22.61,6,   25.31,6,    0.00,6,    1.69,6,-999.000,9,-999.000,9,-999.0000,9,  2191.0,2,  2314.9,2,    896.7,2,    20.00,   7.6690,2,    25.00,-999.000,9,-999.0000,9, -999.00,9,   4.3426,2,    0.88,2,   -88.9,2,     2.5,-999.000,9,   39.68,2,   27.07,2, 1400.50,   4.2276
33RO20100308,      A13.5,     123,          1,          8,      11033,2,20100416,       1210,     3.4032,    -3.0005,       3914,  1701.3,   3.9215,  34.9575,2,  34.9583,2, 227.4000,2,   226.6,2,   21.04,6,   22.03,6,    0.00,6,    1.47,6,   0.025,2,   0.016,2,   0.0000,2,  2176.5,2,  2315.4,2,    807.3,2,    20.00,   7.7110,2,    25.00,-999.000,9,-999.0000,9, -999.00,9,   3.9210,2,    1.00,2,   -88.2,2,     3.6,-999.000,5,   40.50,2,   24.16,2, 1701.30,   3.7837
33RO20100308,      A13.5,     123,          1,          7,      11705,2,20100416,       1210,     3.4032,    -3.0005,       3914,  2000.7,   3.5320,  34.9583,2,  34.9593,2, 237.1000,2,   237.3,2,   23.67,6,   21.20,6,    0.00,6,    1.40,6,-999.000,9,-999.000,9,-999.0000,9,  2174.6,2,  2319.9,2,    776.8,2,    20.00,   7.7249,2,    25.00,-999.000,9,-999.0000,9, -999.00,9,   3.5331,2,    1.01,2,   -88.9,2,     2.7,-999.000,9,   40.79,2,   22.93,2, 2000.70,   3.3714
33RO20100308,      A13.5,     123,          1,          6,      11029,2,20100416,       1210,     3.4032,    -3.0005,       3914,  2300.3,   3.2218,  34.9458,2,  34.9470,2, 238.7000,2,   239.0,2,   28.15,6,   21.35,6,    0.00,6,    1.45,6,   0.008,2,   0.006,2,   0.0000,2,  2178.4,2,  2323.1,2,    775.2,2,    20.00,   7.7258,2,    25.00,-999.000,9,-999.0000,9, -999.00,9,   3.2217,2,    1.03,2,   -99.7,2,     2.6,-999.000,5,   39.05,2,   22.48,2, 2300.30,   3.0374
33RO20100308,      A13.5,     123,          1,          5,      11704,2,20100416,       1210,     3.4032,    -3.0005,       3914,  2600.4,   2.8911,  34.9275,2,  34.9279,2, 238.3000,2,   238.3,6,   34.10,6,   21.73,6,    0.00,6,    1.45,6,-999.000,9,-999.000,9,-999.0000,9,  2184.5,2,  2331.9,2,    781.1,2,    20.00,   7.7242,2,    25.00,-999.000,9,-999.0000,9, -999.00,9,   2.8913,2,    0.99,2,  -112.0,2,     2.6,-999.000,9,   40.86,2,   23.65,2, 2600.40,   2.6833
33RO20100308,      A13.5,     123,          1,          4,      11030,4,20100416,       1210,     3.4032,    -3.0005,       3914,  2899.8,   2.6941,  34.9150,2,-999.0000,9, 237.7000,4,    70.2,4, -999.00,9, -999.00,9, -999.00,9, -999.00,9,-999.000,5,-999.000,5,-999.0000,5,  -999.0,9,  -999.0,9,   -999.0,9,  -999.00,-999.0000,9,  -999.00,-999.000,9,-999.0000,9, -999.00,9,   2.6938,2, -999.00,9,  -999.0,9,  -999.0,-999.000,5, -999.00,9, -999.00,9, 2899.80,   2.4603
33RO20100308,      A13.5,     123,          1,          3,      11703,2,20100416,       1210,     3.4032,    -3.0005,       3914,  3200.2,   2.5627,  34.9060,2,  34.9065,2, 235.5000,2,   236.4,2,   41.86,6,   22.37,6,    0.00,6,    1.50,6,-999.000,9,-999.000,9,-999.0000,9,  2194.6,2,  2339.3,2,    791.0,2,    20.00,   7.7218,2,    25.00,-999.000,9,-999.0000,9, -999.00,9,   2.5636,2,    0.93,2,  -115.4,2,     2.9,-999.000,9,   40.77,2,   24.40,2, 3200.20,   2.3008
33RO20100308,      A13.5,     123,          1,          2,      11702,2,20100416,       1210,     3.4032,    -3.0005,       3914,  3500.0,   2.4631,  34.8983,2,  34.8982,2, 237.1000,2,   237.6,2,   44.15,6,   22.51,6,    0.00,6,    1.51,6,   0.002,2,   0.004,2,   0.0000,2,  2197.0,2,  2344.0,2,    792.6,2,    20.00,   7.7210,2,    25.00,-999.000,9,-999.0000,9, -999.00,9,   2.4628,2,    1.01,2,  -116.9,2,     2.6,-999.000,5,   39.70,2,   24.45,2, 3500.00,   2.1716
33RO20100308,      A13.5,     123,          1,          1,      11701,2,20100416,       1210,     3.4032,    -3.0005,       3914,  3956.1,   2.3575,  34.8868,2,  34.8888,2, 237.9000,2,   237.3,2,   47.36,6,   22.75,6,    0.00,6,    1.53,6,   0.019,2,   0.013,2,   0.0000,2,  2202.9,6,  2345.8,2,    795.9,2,    20.00,   7.7197,2,    25.00,-999.000,9,-999.0000,9, -999.00,9,   2.3570,2,    0.94,2,  -114.1,2,     2.6,-999.000,5,   40.96,2,   25.02,2, 3956.10,   2.0182