BOTTLE,20130404CCHSIOCBG
EXPOCODE,SECT_ID,STNNBR,CASTNO,SAMPNO,BTLNBR,BTLNBR_FLAG_W,DATE,TIME,LATITUDE,LONGITUDE,DEPTH,CTDPRS,CTDTMP,CTDSAL,CTDSAL_FLAG_W,SALNTY,SALNTY_FLAG_W,CTDOXY,CTDOXY_FLAG_W,OXYGEN,OXYGEN_FLAG_W,SILCAT,SILCAT_FLAG_W,NITRAT,NITRAT_FLAG_W,NITRIT,NITRIT_FLAG_W,PHSPHT,PHSPHT_FLAG_W,CFC-11,CFC-11_FLAG_W,CFC-12,CFC-12_FLAG_W,SF6,SF6_FLAG_W,TCARBN,TCARBN_FLAG_W,ALKALI,ALKALI_FLAG_W,FCO2,FCO2_FLAG_W,FCO2TMP,PH_TOT,PH_TOT_FLAG_W,PH_TMP,TRITUM,TRITUM_FLAG_W,HELIUM,HELIUM_FLAG_W,DELHE3,DELHE3_FLAG_W,REFTMP,REFTMP_FLAG_W,DELC13,DELC13_FLAG_W,DELC14,DELC14_FLAG_W,C14ERR,CCL4,CCL4_FLAG_W,DOC,DOC_FLAG_W,TDN,TDN_FLAG_W,CTDRAW,THETA
,,,,,,,,,,,METERS,DBAR,ITS-90,PSS-78,,PSS-78,,UMOL/KG,,UMOL/KG,,UMOL/KG,,UMOL/KG,,UMOL/KG,,UMOL/KG,,PMOL/KG,,PMOL/KG,,FMOL/KG,,UMOL/KG,,UMOL/KG,,UATM,,DEG C,,,DEG C,TU,,NMOL/KG,,PERCNT,,DEG C,,/MILLE,,/MILLE,,/MILLE,PMOL/KG,,UMOL/KG,,UMOL/KG,,DBAR,DEG C
33RO20100308,      A13.5,     120,          1,         24,      11714,2,20100415,       1913,     2.6673,    -2.9998,       5008,     5.3,  30.4384,  34.7508,2,  34.7644,2, 192.4000,2,   192.3,2,    1.19,3,    0.13,6,    0.00,6,    0.00,6,   1.448,2,   0.915,2,   0.9620,2,  1926.3,6,  2275.9,2,    248.2,2,    20.00,   8.1388,2,    25.00,-999.000,9,-999.0000,9, -999.00,9,  30.4435,2, -999.00,9,  -999.0,9,  -999.0,   1.823,3, -999.00,9, -999.00,9,    5.30,  30.4371
33RO20100308,      A13.5,     120,          1,         23,      11716,2,20100415,       1913,     2.6673,    -2.9998,       5008,    60.2,  19.6577,  35.8888,2,  35.8830,2, 135.3000,2,   135.6,2,    3.55,3,    9.45,2,    0.31,2,    0.78,2,   2.125,2,   1.220,2,   0.8190,2,  2149.2,2,  2352.4,6,    571.0,2,    20.00,   7.8491,2,    25.00,-999.000,9,-999.0000,9, -999.00,9,  19.6510,2, -999.00,9,  -999.0,9,  -999.0,   0.477,3, -999.00,9, -999.00,9,   60.20,  19.6467
33RO20100308,      A13.5,     120,          1,         22,      11022,2,20100415,       1913,     2.6673,    -2.9998,       5008,   100.6,  16.2550,  35.7175,2,  35.7042,2, 115.3000,2,   113.1,2,    6.33,3,   17.82,2,    0.03,2,    1.19,2,   2.188,2,   1.229,2,   0.7590,2,  2176.5,2,  2342.4,6,   -999.0,9,  -999.00,   7.7637,2,    25.00,-999.000,9,-999.0000,9, -999.00,9,  16.2568,2, -999.00,9,  -999.0,9,  -999.0,   0.356,3, -999.00,9, -999.00,9,  100.60,  16.2388
33RO20100308,      A13.5,     120,          1,         21,      11010,2,20100415,       1913,     2.6673,    -2.9998,       5008,   174.5,  14.9787,  35.5503,2,  35.5490,2, 106.5000,2,   105.8,2,    7.42,3,   20.25,2,    0.01,2,    1.35,2,   2.131,2,   1.181,2,   0.6410,2,  2185.9,2,  2330.5,2,    781.9,2,    20.00,   7.7253,2,    25.00,-999.000,9,-999.0000,9, -999.00,9,  14.9789,2, -999.00,9,  -999.0,9,  -999.0,   0.326,3, -999.00,9, -999.00,9,  174.50,  14.9522
33RO20100308,      A13.5,     120,          1,         20,      11715,2,20100415,       1913,     2.6673,    -2.9998,       5008,   249.5,  12.4413,  35.2215,2,  35.2152,2,  67.4000,2,    69.8,2,   11.26,3,   28.14,2,    0.01,2,    1.77,2,   1.593,2,   0.853,2,   0.3590,2,  2219.1,2,  2316.5,2,   1089.9,2,    20.00,   7.5927,2,    25.00,-999.000,9,-999.0000,9, -999.00,9,  12.4319,2, -999.00,9,  -999.0,9,  -999.0,   0.249,3, -999.00,9, -999.00,9,  249.50,  12.4078
33RO20100308,      A13.5,     120,          1,         19,      11007,2,20100415,       1913,     2.6673,    -2.9998,       5008,   324.9,   9.9032,  34.9436,2,  34.9440,2,  59.8000,2,    59.8,2,   15.61,3,   33.61,2,    0.00,2,    2.10,2,   0.991,2,   0.514,2,   0.1240,2,  2236.1,2,  2298.2,2,   1337.2,2,    20.00,   7.5115,2,    25.00,-999.000,9,-999.0000,9, -999.00,9,   9.9133,2, -999.00,9,  -999.0,9,  -999.0,   0.239,3, -999.00,9, -999.00,9,  324.90,   9.8655
33RO20100308,      A13.5,     120,          1,         18,      11710,2,20100415,       1913,     2.6673,    -2.9998,       5008,   400.2,   8.5321,  34.7747,2,  34.7770,2, 106.7000,2,   106.0,2,   16.55,3,   31.60,2,    0.00,2,    2.01,2,   1.201,4,   0.608,4,   0.1790,4,  2214.1,2,  2296.7,2,   1170.1,2,    20.00,   7.5641,2,    25.00,-999.000,9,-999.0000,9, -999.00,9,   8.5436,2, -999.00,9,  -999.0,9,  -999.0,   0.583,4, -999.00,9, -999.00,9,  400.20,   8.4896
33RO20100308,      A13.5,     120,          1,         17,      11025,2,20100415,       1913,     2.6673,    -2.9998,       5008,   500.0,   7.2162,  34.6544,2,  34.6527,2, 103.8000,2,   103.5,2,   20.90,3,   34.74,2,    0.00,2,    2.25,2,   0.622,2,   0.310,2,   0.0000,2,  2224.8,2,  2289.0,3,   1282.3,2,    20.00,   7.5267,2,    25.00,-999.000,9,-999.0000,9, -999.00,9,   7.2195,2, -999.00,9,  -999.0,9,  -999.0,   0.467,3, -999.00,9, -999.00,9,  500.00,   7.1678
33RO20100308,      A13.5,     120,          1,         16,      11709,2,20100415,       1913,     2.6673,    -2.9998,       5008,   649.6,   5.8524,  34.5559,2,  34.5553,2, 119.7000,2,   120.2,2,   26.10,3,   35.71,2,    0.00,2,    2.37,2,   0.272,2,   0.140,2,   0.0000,2,  2225.5,2,  2297.6,2,   1288.7,2,    20.00,   7.5267,2,    25.00,-999.000,9,-999.0000,9, -999.00,9,   5.8482,2, -999.00,9,  -999.0,9,  -999.0,   0.367,3, -999.00,9, -999.00,9,  649.60,   5.7956
33RO20100308,      A13.5,     120,          1,         15,      11006,2,20100415,       1913,     2.6673,    -2.9998,       5008,   800.5,   4.9206,  34.5584,2,  34.5582,2, 135.6000,2,   134.1,2,   30.84,3,   35.06,2,    0.00,2,    2.37,2,   0.082,2,   0.041,2,   0.0000,2,  2225.8,2,  2299.6,2,   -999.0,9,  -999.00,   7.5427,2,    25.00,-999.000,9,-999.0000,9, -999.00,9,   4.9207,2, -999.00,9,  -999.0,9,  -999.0,   0.183,3, -999.00,9, -999.00,9,  800.50,   4.8555
33RO20100308,      A13.5,     120,          1,         14,      11708,2,20100415,       1913,     2.6673,    -2.9998,       5008,   949.7,   4.6090,  34.6047,2,  34.6048,2, 148.8000,2,   148.9,2,   31.38,3,   33.63,2,    0.00,2,    2.28,2,   0.054,2,   0.030,2,   0.0000,2,  2220.7,2,  2304.7,2,   1163.8,2,    20.00,   7.5652,2,    25.00,-999.000,9,-999.0000,9, -999.00,9,   4.6089,2, -999.00,9,  -999.0,9,  -999.0,   0.159,3, -999.00,9, -999.00,9,  949.70,   4.5329
33RO20100308,      A13.5,     120,          1,         13,      11031,2,20100415,       1913,     2.6673,    -2.9998,       5008,  1099.5,   4.5667,  34.6833,2,  34.6834,2, 154.3000,2,   155.0,6,   30.34,3,   32.13,2,    0.00,2,    2.18,2,   0.021,2,   0.014,2,   0.0000,2,  2218.0,2,  2310.3,2,   1120.3,2,    20.00,   7.5807,2,    25.00,-999.000,9,-999.0000,9, -999.00,9,   4.5671,2, -999.00,9,  -999.0,9,  -999.0,   0.086,3, -999.00,9, -999.00,9, 1099.50,   4.4776
33RO20100308,      A13.5,     120,          1,         12,      11027,2,20100415,       1913,     2.6673,    -2.9998,       5008,  1299.9,   4.5000,  34.8683,2,  34.8687,2, 189.4000,2,   189.6,6,   24.15,3,   26.59,2,    0.00,2,    1.77,2,   0.067,2,   0.033,2,   0.0000,2,  2196.9,2,  2314.6,2,    933.8,2,    20.00,   7.6522,2,    25.00,-999.000,9,-999.0000,9, -999.00,9,   4.4998,2, -999.00,9,  -999.0,9,  -999.0,   0.209,3, -999.00,9, -999.00,9, 1299.90,   4.3930
33RO20100308,      A13.5,     120,          1,         11,      11707,2,20100415,       1913,     2.6673,    -2.9998,       5008,  1500.5,   4.1693,  34.9418,2,  34.9417,2, 216.8000,2,   216.0,2,   21.58,3,   23.17,2,    0.00,2,    1.54,2,   0.058,2,   0.030,2,   0.0000,2,  2182.4,2,  2314.3,2,   -999.0,9,  -999.00,   7.6945,2,    25.00,-999.000,9,-999.0000,9, -999.00,9,   4.1691,2, -999.00,9,  -999.0,9,  -999.0,   0.229,3, -999.00,9, -999.00,9, 1500.50,   4.0472
33RO20100308,      A13.5,     120,          1,         10,      11003,2,20100415,       1913,     2.6673,    -2.9998,       5008,  1700.0,   3.9357,  34.9624,2,  34.9624,2, 230.3000,2,   230.4,2,   20.96,3,   21.60,6,    0.00,6,    1.43,6,   0.057,2,   0.031,2,   0.0000,2,  2174.9,2,  2315.0,2,    796.2,2,    20.00,   7.7148,2,    25.00,-999.000,9,-999.0000,9, -999.00,9,   3.9357,2, -999.00,9,  -999.0,9,  -999.0,   0.252,3, -999.00,9, -999.00,9, 1700.00,   3.7978
33RO20100308,      A13.5,     120,          1,          9,      11706,2,20100415,       1913,     2.6673,    -2.9998,       5008,  1899.2,   3.6462,  34.9620,2,  34.9622,2, 236.8000,2,   237.0,2,   23.03,3,   21.07,6,    0.00,6,    1.40,6,   0.032,2,   0.018,2,   0.0000,2,  2174.2,2,  2317.5,3,   -999.0,9,  -999.00,   7.7245,2,    25.00,-999.000,9,-999.0000,9, -999.00,9,   3.6464,2, -999.00,9,  -999.0,9,  -999.0,   0.176,3, -999.00,9, -999.00,9, 1899.20,   3.4935
33RO20100308,      A13.5,     120,          1,          8,      11033,2,20100415,       1913,     2.6673,    -2.9998,       5008,  2300.4,   3.2103,  34.9461,2,  34.9459,2, 241.3000,2,   241.4,2,   28.68,3,   21.13,6,    0.00,6,    1.40,6,   0.017,2,   0.011,2,   0.0000,2,  2178.0,2,  2325.4,2,    771.9,2,    20.00,   7.7281,2,    25.00,-999.000,9,-999.0000,9, -999.00,9,   3.2113,2, -999.00,9,  -999.0,9,  -999.0,   0.109,3, -999.00,9, -999.00,9, 2300.40,   3.0261
33RO20100308,      A13.5,     120,          1,          7,      11705,2,20100415,       1913,     2.6673,    -2.9998,       5008,  2702.2,   2.8214,  34.9234,2,  34.9233,2, 237.8000,2,   238.1,2,   36.99,3,   21.88,6,    0.00,6,    1.46,6,   0.004,2,   0.003,2,   0.0000,2,  2188.7,2,  2333.2,2,   -999.0,9,  -999.00,   7.7242,2,    25.00,-999.000,9,-999.0000,9, -999.00,9,   2.8218,2, -999.00,9,  -999.0,9,  -999.0,   0.035,3, -999.00,9, -999.00,9, 2702.20,   2.6049
33RO20100308,      A13.5,     120,          1,          6,      11029,2,20100415,       1913,     2.6673,    -2.9998,       5008,  3099.9,   2.6087,  34.9094,2,  34.9090,2, 236.3000,2,   237.2,2,   42.00,3,   22.26,6,    0.00,6,    1.49,6,   0.003,2,   0.003,2,   0.0000,2,  2194.7,2,  2339.3,2,    792.9,2,    20.00,   7.7221,2,    25.00,-999.000,9,-999.0000,9, -999.00,9,   2.6082,2, -999.00,9,  -999.0,9,  -999.0,   0.030,3, -999.00,9, -999.00,9, 3099.90,   2.3562
33RO20100308,      A13.5,     120,          1,          5,      11704,2,20100415,       1913,     2.6673,    -2.9998,       5008,  3499.5,   2.4634,  34.8986,2,  34.8982,2, 234.3000,2,   235.2,2,   46.52,3,   22.59,6,    0.00,6,    1.52,6,   0.005,2,   0.005,2,   0.0000,2,  2201.7,2,  2344.3,2,   -999.0,9,  -999.00,   7.7208,2,    25.00,-999.000,9,-999.0000,9, -999.00,9,   2.4632,2, -999.00,9,  -999.0,9,  -999.0,   0.032,3, -999.00,9, -999.00,9, 3499.50,   2.1720
33RO20100308,      A13.5,     120,          1,          4,      11030,2,20100415,       1913,     2.6673,    -2.9998,       5008,  3900.2,   2.3705,  34.8890,2,  34.8883,2, 237.7000,2,   238.5,2,   48.35,3,   22.67,6,    0.00,6,    1.52,6,   0.008,2,   0.007,2,   0.0000,2,  2202.0,2,  2347.6,2,   -999.0,9,  -999.00,   7.7210,2,    25.00,-999.000,9,-999.0000,9, -999.00,9,   2.3704,2, -999.00,9,  -999.0,9,  -999.0,   0.061,3, -999.00,9, -999.00,9, 3900.20,   2.0372
33RO20100308,      A13.5,     120,          1,          3,      11703,2,20100415,       1913,     2.6673,    -2.9998,       5008,  4300.7,   2.2948,  34.8789,2,  34.8785,2, 238.0000,2,   238.3,2,   51.55,3,   23.01,6,    0.00,6,    1.55,6,   0.016,2,   0.011,2,   0.0000,2,  2205.7,2,  2346.4,2,    801.2,2,    20.00,   7.7200,2,    25.00,-999.000,9,-999.0000,9, -999.00,9,   2.2948,2, -999.00,9,  -999.0,9,  -999.0,   0.089,3, -999.00,9, -999.00,9, 4300.70,   1.9175
33RO20100308,      A13.5,     120,          1,          2,      11702,2,20100415,       1913,     2.6673,    -2.9998,       5008,  4699.8,   2.2323,  34.8680,2,  34.8675,2, 231.6000,2,   231.8,2,   57.69,3,   23.80,6,    0.00,6,    1.60,6,   0.018,6,   0.007,3,   0.0000,6,  2220.2,2,  2363.5,2,   -999.0,9,  -999.00,   7.7158,2,    25.00,-999.000,9,-999.0000,9, -999.00,9,   2.2321,2, -999.00,9,  -999.0,9,  -999.0,   0.072,3, -999.00,9, -999.00,9, 4699.80,   1.8092
33RO20100308,      A13.5,     120,          1,          1,      11701,2,20100415,       1913,     2.6673,    -2.9998,       5008,  5068.2,   2.1989,  34.8591,2,  34.8591,2, 237.9000,2,   236.3,2,   58.31,3,   23.70,6,    0.01,6,    1.59,6,   0.045,2,   0.024,2,   0.0000,2,  2216.6,6,  2355.9,2,    813.9,2,    20.00,   7.7153,2,    25.00,-999.000,9,-999.0000,9, -999.00,9,   2.1983,2, -999.00,9,  -999.0,9,  -999.0,   0.208,3, -999.00,9, -999.00,9, 5068.20,   1.7312