BOTTLE,20130404CCHSIOCBG
EXPOCODE,SECT_ID,STNNBR,CASTNO,SAMPNO,BTLNBR,BTLNBR_FLAG_W,DATE,TIME,LATITUDE,LONGITUDE,DEPTH,CTDPRS,CTDTMP,CTDSAL,CTDSAL_FLAG_W,SALNTY,SALNTY_FLAG_W,CTDOXY,CTDOXY_FLAG_W,OXYGEN,OXYGEN_FLAG_W,SILCAT,SILCAT_FLAG_W,NITRAT,NITRAT_FLAG_W,NITRIT,NITRIT_FLAG_W,PHSPHT,PHSPHT_FLAG_W,CFC-11,CFC-11_FLAG_W,CFC-12,CFC-12_FLAG_W,SF6,SF6_FLAG_W,TCARBN,TCARBN_FLAG_W,ALKALI,ALKALI_FLAG_W,FCO2,FCO2_FLAG_W,FCO2TMP,PH_TOT,PH_TOT_FLAG_W,PH_TMP,TRITUM,TRITUM_FLAG_W,HELIUM,HELIUM_FLAG_W,DELHE3,DELHE3_FLAG_W,REFTMP,REFTMP_FLAG_W,DELC13,DELC13_FLAG_W,DELC14,DELC14_FLAG_W,C14ERR,CCL4,CCL4_FLAG_W,DOC,DOC_FLAG_W,TDN,TDN_FLAG_W,CTDRAW,THETA
,,,,,,,,,,,METERS,DBAR,ITS-90,PSS-78,,PSS-78,,UMOL/KG,,UMOL/KG,,UMOL/KG,,UMOL/KG,,UMOL/KG,,UMOL/KG,,PMOL/KG,,PMOL/KG,,FMOL/KG,,UMOL/KG,,UMOL/KG,,UATM,,DEG C,,,DEG C,TU,,NMOL/KG,,PERCNT,,DEG C,,/MILLE,,/MILLE,,/MILLE,PMOL/KG,,UMOL/KG,,UMOL/KG,,DBAR,DEG C
33RO20100308,      A13.5,      55,          1,         24,      11714,2,20100328,       0144,   -26.9998,       1.66,       4677,     5.3,  22.0660,  35.7855,2,  35.7852,2, 219.4000,2,   220.6,2,    1.51,2,    0.01,2,    0.00,2,    0.14,2,   1.998,2,   1.234,2,   1.1910,2,  2064.8,6,  2347.7,6,    365.4,2,    20.00,   8.0146,2,    25.00,-999.000,9,-999.0000,9, -999.00,9,  22.0642,2,    1.47,2,    39.5,2,     3.3,   2.636,3,   68.19,2,    4.85,2,    5.30,  22.0649
33RO20100308,      A13.5,      55,          1,         23,      11713,2,20100328,       0144,   -26.9998,       1.66,       4677,    43.3,  20.8294,  35.6853,2,  35.6801,2, 233.4000,2,   235.6,6,    1.62,2,    0.04,2,    0.00,2,    0.15,2,   2.211,2,   1.354,2,   1.2740,2,  2061.2,2,  2342.8,2,    365.3,6,    20.00,   8.0120,2,    25.00,-999.000,9,-999.0000,9, -999.00,9,  20.9160,2,    1.43,2,    42.8,2,     2.8,   2.261,3,   59.79,2,    4.51,2,   43.30,  20.8212
33RO20100308,      A13.5,      55,          1,         22,      11712,2,20100328,       0144,   -26.9998,       1.66,       4677,    99.0,  15.8636,  35.4994,2,  35.4973,2, 230.5000,2,   228.0,2,    2.50,2,    2.85,2,    0.18,2,    0.37,2,   2.574,6,   1.554,6,   1.4020,6,  2087.8,2,  2329.7,2,    441.6,2,    20.00,   7.9420,2,    25.00,-999.000,9,-999.0000,9, -999.00,9,  15.8689,2,    1.12,2,    40.5,2,     3.0,   1.531,3,   53.74,2,    6.43,2,   99.00,  15.8480
33RO20100308,      A13.5,      55,          1,         21,      11010,2,20100328,       0144,   -26.9998,       1.66,       4677,   150.3,  14.7482,  35.3757,2,  35.3733,2, 223.8000,2,   221.3,2,    2.76,2,    5.46,2,    0.02,2,    0.52,2,   2.683,2,   1.615,2,   1.3650,2,  2100.6,2,  2322.6,2,    483.7,2,    20.00,   7.9064,2,    25.00,-999.000,9,-999.0000,9, -999.00,9,  14.7485,2,    1.08,2,    40.1,2,     3.9,   1.352,3,   49.86,2,    8.56,2,  150.30,  14.7257
33RO20100308,      A13.5,      55,          1,         20,      11715,2,20100328,       0144,   -26.9998,       1.66,       4677,   298.8,  11.7268,  35.0088,2,  35.0112,2, 217.5000,2,   217.5,2,    4.12,2,   12.02,2,    0.00,2,    0.91,2,   3.078,2,   1.777,2,   1.2230,2,  2124.9,2,  2304.5,2,    604.2,2,    20.00,   7.8222,2,    25.00,-999.000,9,-999.0000,9, -999.00,9,  11.7268,2,    1.13,2,    40.7,2,     3.6,   1.441,3,   43.14,2,   14.86,2,  298.80,  11.6882
33RO20100308,      A13.5,      55,          1,         19,      11007,2,20100328,       0144,   -26.9998,       1.66,       4677,   450.2,   8.9679,  34.6733,2,  34.6715,2, 196.3000,2,   196.8,2,   10.27,2,   20.82,2,    0.00,2,    1.47,2,   3.029,2,   1.650,2,   0.9560,2,  2156.0,2,  2293.4,2,    789.6,2,    20.00,   7.7145,2,    25.00,-999.000,9,-999.0000,9, -999.00,9,   8.9601,2,    1.04,2,    22.3,2,     3.0,   1.913,3,   41.03,2,   22.71,2,  450.20,   8.9186
33RO20100308,      A13.5,      55,          1,         18,      11710,2,20100328,       0144,   -26.9998,       1.66,       4677,   600.3,   6.1764,  34.4004,2,  34.3973,2, 212.5000,2,   211.2,2,   16.93,2,   26.57,2,    0.00,2,    1.84,2,   3.004,2,   1.570,2,   0.7380,2,  2170.2,2,  2283.0,2,    903.2,2,    20.00,   7.6617,2,    25.00,-999.000,9,-999.0000,9, -999.00,9,   6.1754,2,    1.59,3,   -24.6,2,     2.7,   2.858,3,   39.72,2,   27.89,2,  600.30,   6.1228
33RO20100308,      A13.5,      55,          1,         17,      11025,2,20100328,       0144,   -26.9998,       1.66,       4677,   750.4,   4.5244,  34.3329,2,  34.3335,2, 209.7000,2,   208.8,2,   28.18,2,   30.15,2,    0.00,2,    2.09,2,   2.437,2,   1.221,2,   0.5760,2,  2190.7,2,  2293.9,2,    992.0,2,    20.00,   7.6256,2,    25.00,-999.000,9,-999.0000,9, -999.00,9,   4.5244,2,    0.99,2,   -58.2,2,     2.7,   3.082,3,   39.12,2,   31.60,2,  750.40,   4.4662
33RO20100308,      A13.5,      55,          1,         16,      11709,2,20100328,       0144,   -26.9998,       1.66,       4677,   949.7,   3.6051,  34.4339,2,  34.4313,2, 183.8000,2,   184.5,2,   45.81,2,   32.75,2,    0.00,2,    2.29,2,   1.093,2,   0.529,2,   0.2200,2,  2220.5,2,  2304.2,2,   1112.0,2,    20.00,   7.5862,2,    25.00,-999.000,9,-999.0000,9, -999.00,9,   3.6120,2,    0.73,2,  -110.5,2,     3.1,   1.528,3,   38.57,2,   34.03,2,  949.70,   3.5366
33RO20100308,      A13.5,      55,          1,         15,      11006,2,20100328,       0144,   -26.9998,       1.66,       4677,  1149.6,   3.2924,  34.5719,2,  34.5738,2, 177.3000,2,   178.0,2,   51.06,2,   32.09,2,    0.00,2,    2.24,2,   0.290,2,   0.130,2,   0.0900,2,  2228.0,2,  2319.3,2,   1101.9,6,    20.00,   7.5874,2,    25.00,-999.000,9,-999.0000,9, -999.00,9,   3.2921,2,    0.77,2,  -124.2,2,     2.5,   0.602,3,   38.64,2,   34.19,2, 1149.60,   3.2103
33RO20100308,      A13.5,      55,          1,         14,      11708,2,20100328,       0144,   -26.9998,       1.66,       4677,  1300.3,   3.1419,  34.6504,2,  34.6494,2, 184.5000,2,   184.4,2,   51.80,2,   30.73,2,    0.00,2,    2.14,2,   0.163,2,   0.079,2,   0.0340,2,  2224.5,2,  2321.7,2,   1061.3,2,    20.00,   7.6060,2,    25.00,-999.000,9,-999.0000,9, -999.00,9,   3.1421,2,    0.71,2,  -137.0,2,     3.1,   0.343,3,   39.31,2,   31.89,2, 1300.30,   3.0488
33RO20100308,      A13.5,      55,          1,         13,      11031,2,20100328,       0144,   -26.9998,       1.66,       4677,  1500.7,   3.1437,  34.7599,2,  34.7606,2, 200.5000,2,   200.3,2,   45.43,2,   27.69,2,    0.00,2,    1.91,2,   0.040,2,   0.014,3,   0.0580,2,  2211.7,2,  2322.9,2,    955.5,2,    20.00,   7.6451,2,    25.00,-999.000,9,-999.0000,9, -999.00,9,   3.1438,2,    0.81,2,  -127.3,2,     2.7,  -0.005,4,   39.46,2,   29.64,2, 1500.70,   3.0337
33RO20100308,      A13.5,      55,          1,         12,      11027,2,20100328,       0144,   -26.9998,       1.66,       4677,  1700.3,   3.0354,  34.8155,2,  34.8158,2, 213.0000,2,   214.3,2,   43.23,2,   25.85,2,    0.00,2,    1.77,2,   0.018,2,   0.009,2,   0.0230,2,  2202.6,2,  2322.0,2,    895.3,2,    20.00,   7.6716,2,    25.00,-999.000,9,-999.0000,9, -999.00,9,   3.0358,2,    0.89,2,  -120.4,2,     2.4,   0.085,3,   39.89,2,   27.06,2, 1700.30,   2.9094
33RO20100308,      A13.5,      55,          1,         11,      11707,2,20100328,       0144,   -26.9998,       1.66,       4677,  1899.4,   2.8747,  34.8435,2,  34.8431,2, 222.3000,2,   223.9,2,   43.20,2,   24.65,2,    0.00,2,    1.69,2,   0.005,2,   0.004,2,   0.0000,2,  2197.4,2,  2325.1,2,    857.1,2,    20.00,   7.6906,2,    25.00,-999.000,9,-999.0000,9, -999.00,9,   2.8749,2,    1.02,2,  -128.3,2,     2.4,   0.060,3,   39.38,2,   26.39,2, 1899.40,   2.7333
33RO20100308,      A13.5,      55,          1,         10,      11003,9,20100328,       0144,   -26.9998,       1.66,       4677,  2100.0,   2.6814,  34.8473,2,-999.0000,9, 226.2000,2,  -999.0,9, -999.00,9, -999.00,9, -999.00,9, -999.00,9,-999.000,9,-999.000,9,-999.0000,9,  -999.0,9,  -999.0,9,   -999.0,9,  -999.00,-999.0000,9,  -999.00,-999.000,9,-999.0000,9, -999.00,9,   2.6814,2, -999.00,9,  -999.0,9,  -999.0,-999.000,9, -999.00,9, -999.00,9, 2100.00,   2.5249
33RO20100308,      A13.5,      55,          1,          9,      11706,2,20100328,       0144,   -26.9998,       1.66,       4677,  2299.9,   2.5453,  34.8513,3,  34.8568,4, 228.2000,2,   229.2,2,   49.09,2,   24.32,2,    0.00,2,    1.67,2,   0.003,2,   0.003,2,   0.0150,2,  2200.5,2,  2332.4,2,    843.2,2,    20.00,   7.6970,2,    25.00,-999.000,9,-999.0000,9, -999.00,9,   2.5446,2,    0.94,2,  -130.2,2,     2.5,   0.035,3,   39.03,2,   26.26,2, 2299.90,   2.3728
33RO20100308,      A13.5,      55,          1,          8,      11033,2,20100328,       0144,   -26.9998,       1.66,       4677,  2599.4,   2.4298,  34.8622,2,  34.8621,2, 232.7000,2,   233.3,2,   50.19,2,   23.84,2,    0.00,2,    1.63,2,   0.002,2,   0.003,2,   0.0430,2,  2201.0,2,  2336.1,2,    829.5,2,    20.00,   7.7061,2,    25.00,-999.000,9,-999.0000,9, -999.00,9,   2.4295,2,    0.98,2,  -125.8,2,     2.6,   0.024,3,   38.57,2,   25.18,2, 2599.40,   2.2312
33RO20100308,      A13.5,      55,          1,          7,      11705,2,20100328,       0144,   -26.9998,       1.66,       4677,  2899.9,   2.3606,  34.8720,2,  34.8721,2, 233.4000,2,   234.4,2,   51.12,6,   23.55,6,    0.00,6,    1.61,6,   0.002,2,   0.002,2,   0.0000,2,  2203.6,2,  2342.5,2,    816.6,2,    20.00,   7.7119,2,    25.00,-999.000,9,-999.0000,9, -999.00,9,   2.3601,2, -999.00,9,  -999.0,9,  -999.0,   0.018,3,   39.32,2,   24.87,2, 2899.90,   2.1340
33RO20100308,      A13.5,      55,          1,          6,      11029,2,20100328,       0144,   -26.9998,       1.66,       4677,  3200.0,   2.3229,  34.8796,2,  34.8792,2, 232.9000,2,   233.5,2,   51.94,6,   23.72,6,    0.00,6,    1.62,6,   0.003,2,   0.004,2,   0.0420,2,  2208.7,2,  2348.8,2,    801.7,2,    20.00,   7.7180,2,    25.00,-999.000,9,-999.0000,9, -999.00,9,   2.3223,2, -999.00,9,  -999.0,9,  -999.0,   0.012,3,   39.06,2,   25.35,2, 3200.00,   2.0666
33RO20100308,      A13.5,      55,          1,          5,      11704,2,20100328,       0144,   -26.9998,       1.66,       4677,  3500.2,   2.3143,  34.8831,2,  34.8826,2, 232.0000,2,   232.1,2,   52.43,2,   23.36,2,    0.00,2,    1.59,2,   0.002,2,   0.002,2,   0.0000,2,  2211.9,2,  2354.2,2,    797.9,2,    20.00,   7.7201,2,    25.00,-999.000,9,-999.0000,9, -999.00,9,   2.3138,2, -999.00,9,  -999.0,9,  -999.0,   0.011,3,   39.28,2,   25.31,2, 3500.20,   2.0266
33RO20100308,      A13.5,      55,          1,          4,      11030,2,20100328,       0144,   -26.9998,       1.66,       4677,  3799.1,   2.3285,  34.8845,2,  34.8836,2, 231.5000,2,   231.6,2,   52.69,2,   23.32,2,    0.00,2,    1.59,2,   0.002,2,   0.002,2,   0.0000,2,  2213.4,2,  2358.3,2,    796.9,2,    20.00,   7.7217,2,    25.00,-999.000,9,-999.0000,9, -999.00,9,   2.3280,2, -999.00,9,  -999.0,9,  -999.0,   0.011,3,   39.90,2,   24.70,2, 3799.10,   2.0077
33RO20100308,      A13.5,      55,          1,          3,      11703,2,20100328,       0144,   -26.9998,       1.66,       4677,  4099.8,   2.3538,  34.8851,2,  34.8837,2, 231.8000,2,   232.3,2,   52.75,6,   23.28,6,    0.00,6,    1.59,6,   0.002,2,   0.003,2,   0.0000,2,  2214.0,2,  2358.2,2,    795.1,2,    20.00,   7.7222,2,    25.00,-999.000,9,-999.0000,9, -999.00,9,   2.3533,2, -999.00,9,  -999.0,9,  -999.0,   0.012,3,   40.88,2,   24.29,2, 4099.80,   1.9982
33RO20100308,      A13.5,      55,          1,          2,      11702,2,20100328,       0144,   -26.9998,       1.66,       4677,  4399.9,   2.3851,  34.8853,2,  34.8826,4, 233.3000,2,   233.4,6,   51.89,6,   23.44,6,    0.00,6,    1.60,6,   0.002,2,   0.002,2,   0.0000,2,  2208.8,3,  2351.7,3,    801.5,2,    20.00,   7.7165,2,    25.00,-999.000,9,-999.0000,9, -999.00,9,   2.3843,2, -999.00,9,  -999.0,9,  -999.0,   0.012,3,   40.78,2,   25.06,2, 4399.90,   1.9934
33RO20100308,      A13.5,      55,          1,          1,      11701,2,20100328,       0144,   -26.9998,       1.66,       4677,  4729.5,   2.4229,  34.8850,2,  34.8846,2, 232.1000,2,   232.4,2,   52.70,2,   23.33,2,    0.00,2,    1.59,2,   0.002,2,   0.003,2,   0.0000,2,  2215.4,6,  2359.6,6,    794.0,2,    20.00,   7.7237,2,    25.00,-999.000,9,-999.0000,9, -999.00,9,   2.4224,2, -999.00,9,  -999.0,9,  -999.0,   0.015,3,   40.73,2,   24.83,2, 4729.50,   1.9899