BOTTLE,20130404CCHSIOCBG
EXPOCODE,SECT_ID,STNNBR,CASTNO,SAMPNO,BTLNBR,BTLNBR_FLAG_W,DATE,TIME,LATITUDE,LONGITUDE,DEPTH,CTDPRS,CTDTMP,CTDSAL,CTDSAL_FLAG_W,SALNTY,SALNTY_FLAG_W,CTDOXY,CTDOXY_FLAG_W,OXYGEN,OXYGEN_FLAG_W,SILCAT,SILCAT_FLAG_W,NITRAT,NITRAT_FLAG_W,NITRIT,NITRIT_FLAG_W,PHSPHT,PHSPHT_FLAG_W,CFC-11,CFC-11_FLAG_W,CFC-12,CFC-12_FLAG_W,SF6,SF6_FLAG_W,TCARBN,TCARBN_FLAG_W,ALKALI,ALKALI_FLAG_W,FCO2,FCO2_FLAG_W,FCO2TMP,PH_TOT,PH_TOT_FLAG_W,PH_TMP,TRITUM,TRITUM_FLAG_W,HELIUM,HELIUM_FLAG_W,DELHE3,DELHE3_FLAG_W,REFTMP,REFTMP_FLAG_W,DELC13,DELC13_FLAG_W,DELC14,DELC14_FLAG_W,C14ERR,CCL4,CCL4_FLAG_W,DOC,DOC_FLAG_W,TDN,TDN_FLAG_W,CTDRAW,THETA
,,,,,,,,,,,METERS,DBAR,ITS-90,PSS-78,,PSS-78,,UMOL/KG,,UMOL/KG,,UMOL/KG,,UMOL/KG,,UMOL/KG,,UMOL/KG,,PMOL/KG,,PMOL/KG,,FMOL/KG,,UMOL/KG,,UMOL/KG,,UATM,,DEG C,,,DEG C,TU,,NMOL/KG,,PERCNT,,DEG C,,/MILLE,,/MILLE,,/MILLE,PMOL/KG,,UMOL/KG,,UMOL/KG,,DBAR,DEG C
33RO20100308,      A13.5,      25,          1,         22,      11712,2,20100320,       1051,   -41.9993,     1.1497,        906,     5.2,  12.2852,  34.4858,2,  34.4901,2, 271.2000,2,  -999.0,9,    0.81,2,    6.54,2,    0.15,2,    0.63,2,-999.000,9,-999.000,9,-999.0000,9,  2073.5,6,  2290.1,2,   -999.0,9,  -999.00,   7.9052,2,    25.00,-999.000,9,-999.0000,9, -999.00,9,-999.0000,9,    1.87,2,    48.8,2,     3.0,-999.000,9,   51.99,2,   10.54,2,    5.20,  12.2845
33RO20100308,      A13.5,      25,          1,         21,      11010,2,20100320,       1051,   -41.9993,     1.1497,        906,     5.1,  12.2860,  34.4858,2,  34.4868,2, 271.2000,2,   272.5,2,    0.85,2,    6.53,2,    0.15,2,    0.63,2,   3.211,2,   1.880,2,   1.6410,2,  2073.2,2,  2290.2,2,    482.8,6,    20.00,   7.9041,2,    25.00,-999.000,1,-999.0000,1, -999.00,9,  12.2847,2, -999.00,9,  -999.0,9,  -999.0,   3.978,3,   52.78,2,   10.47,2,    5.10,  12.2853
33RO20100308,      A13.5,      25,          1,         20,      11715,2,20100320,       1051,   -41.9993,     1.1497,        906,    24.8,  12.1252,  34.4814,2,  34.4819,2, 272.4000,2,   273.2,2,    0.77,2,    6.58,2,    0.16,2,    0.65,2,-999.000,9,-999.000,9,-999.0000,9,  2073.1,2,  2290.7,2,   -999.0,9,  -999.00,   7.9038,2,    25.00,-999.000,9,-999.0000,9, -999.00,9,  12.1476,2, -999.00,9,  -999.0,9,  -999.0,-999.000,9,   52.69,2,   10.73,2,   24.80,  12.1220
33RO20100308,      A13.5,      25,          1,         19,      11007,2,20100320,       1051,   -41.9993,     1.1497,        906,    49.7,  11.7188,  34.4951,2,  34.4962,2, 266.1000,2,   266.3,2,    0.91,2,    6.85,2,    0.19,2,    0.68,2,   3.239,2,   1.895,2,   1.5910,2,  2079.8,2,  2290.7,2,    502.9,2,    20.00,   7.8903,2,    25.00,-999.000,1,-999.0000,1, -999.00,9,  11.7193,2,    1.73,2,    38.7,2,     3.5,   3.877,3,   52.31,2,   11.27,2,   49.70,  11.7125
33RO20100308,      A13.5,      25,          1,         17,      11025,2,20100320,       1051,   -41.9993,     1.1497,        906,    74.6,  11.6306,  34.5132,2,  34.5139,2, 262.9000,2,   263.3,6,    0.95,2,    7.10,2,    0.25,2,    0.71,2,   3.248,2,   1.902,2,   1.6430,2,  2084.1,2,  2291.6,2,   -999.0,9,  -999.00,   7.8826,2,    25.00,-999.000,1,-999.0000,1, -999.00,9,  11.6330,2, -999.00,9,  -999.0,9,  -999.0,   3.837,3,   51.50,2,   11.31,2,   74.60,  11.6212
33RO20100308,      A13.5,      25,          1,         18,      11710,2,20100320,       1051,   -41.9993,     1.1497,        906,    74.3,  11.6347,  34.5127,2,  34.5133,2, 263.0000,2,  -999.0,9,    0.95,2,    7.08,2,    0.25,2,    0.71,2,   3.246,2,   1.897,2,   1.6930,2,  -999.0,9,  -999.0,9,   -999.0,9,  -999.00,-999.0000,9,  -999.00,-999.000,1,-999.0000,1, -999.00,9,-999.0000,9, -999.00,9,  -999.0,9,  -999.0,   3.855,3,   51.69,2,   11.40,2,   74.30,  11.6253
33RO20100308,      A13.5,      25,          1,         16,      11709,2,20100320,       1051,   -41.9993,     1.1497,        906,   100.8,  11.1258,  34.5290,2,  34.5300,2, 262.0000,2,   260.8,2,    1.24,2,    8.60,2,    0.35,2,    0.79,2,   3.317,2,   1.939,2,   1.6390,2,  2091.2,2,  2291.4,2,    537.5,2,    20.00,   7.8659,2,    25.00,-999.000,1,-999.0000,1, -999.00,9,  11.1609,2, -999.00,9,  -999.0,9,  -999.0,   3.765,3,   51.61,2,   13.74,2,  100.80,  11.1134
33RO20100308,      A13.5,      25,          1,         15,      11006,2,20100320,       1051,   -41.9993,     1.1497,        906,   150.6,   9.8549,  34.5810,2,  34.5820,2, 257.9000,2,   256.6,2,    2.57,2,   12.51,2,    0.04,2,    0.97,2,   3.520,2,   2.036,2,   1.7690,2,  2111.2,2,  2290.3,2,    606.2,2,    20.00,   7.8215,2,    25.00,-999.000,1,-999.0000,1, -999.00,9,   9.8562,2,    1.39,2,    46.1,2,     3.6,   3.417,3,   48.41,2,   15.32,2,  150.60,   9.8377
33RO20100308,      A13.5,      25,          1,         14,      11708,2,20100320,       1051,   -41.9993,     1.1497,        906,   200.4,   9.0311,  34.6031,2,  34.6027,2, 257.9000,2,   257.8,2,    3.86,2,   14.63,2,    0.02,2,    1.09,2,   3.654,2,   2.093,2,   1.7460,2,  2121.6,2,  2290.8,2,    640.7,2,    20.00,   7.7992,2,    25.00,-999.000,1,-999.0000,1, -999.00,9,   9.0317,2, -999.00,9,  -999.0,9,  -999.0,   3.355,3,   46.06,2,   17.48,2,  200.40,   9.0094
33RO20100308,      A13.5,      25,          1,         13,      11031,2,20100320,       1051,   -41.9993,     1.1497,        906,   249.5,   8.1832,  34.5144,2,  34.5133,2, 254.5000,2,   254.5,2,    5.09,2,   17.33,2,    0.01,2,    1.25,2,   3.733,2,   2.122,2,   1.6450,2,  2131.1,2,  2287.0,2,    693.5,2,    20.00,   7.7699,2,    25.00,-999.000,1,-999.0000,1, -999.00,9,   8.1938,2,    1.23,2,    35.0,2,     3.0,   3.374,3,   44.01,2,   19.63,2,  249.50,   8.1577
33RO20100308,      A13.5,      25,          1,         12,      11027,2,20100320,       1051,   -41.9993,     1.1497,        906,   350.1,   6.9675,  34.3967,2,  34.3971,2, 239.5000,2,   240.2,2,    8.20,2,   21.97,2,    0.01,2,    1.53,2,   3.779,2,   2.082,2,   1.4560,2,  2147.8,2,  2281.4,2,    787.3,2,    20.00,   7.7175,2,    25.00,-999.000,1,-999.0000,1, -999.00,9,   6.9684,2, -999.00,9,  -999.0,9,  -999.0,   3.376,3,   42.09,2,   24.12,2,  350.10,   6.9347
33RO20100308,      A13.5,      25,          1,         11,      11707,2,20100320,       1051,   -41.9993,     1.1497,        906,   399.6,   6.4402,  34.3655,2,  34.3655,2, 235.3000,2,   230.9,2,   10.91,2,   24.18,2,    0.01,2,    1.67,2,   3.675,2,   1.987,2,   1.2490,2,  2156.2,2,  2282.4,3,    840.1,2,    20.00,   7.6911,2,    25.00,-999.000,1,-999.0000,1, -999.00,9,   6.4445,2,    1.25,2,    14.8,2,     2.8,   3.410,3,   42.15,2,   26.43,2,  399.60,   6.4043
33RO20100308,      A13.5,      25,          1,          9,      11706,2,20100320,       1051,   -41.9993,     1.1497,        906,   451.0,   5.9758,  34.3434,2,  34.3417,2, 227.9000,2,   225.8,2,   13.81,2,   25.74,2,    0.00,2,    1.78,2,-999.000,9,-999.000,9,-999.0000,9,  2163.3,2,  2282.9,3,    876.0,2,    20.00,   7.6738,2,    25.00,-999.000,9,-999.0000,9, -999.00,9,   5.9780,2, -999.00,9,  -999.0,9,  -999.0,-999.000,9,   41.00,2,   27.29,2,  451.00,   5.9367
33RO20100308,      A13.5,      25,          1,         10,      11003,2,20100320,       1051,   -41.9993,     1.1497,        906,   451.0,   5.9785,  34.3439,2,  34.3422,2, 227.9000,2,  -999.0,9,   13.78,2,   25.80,2,    0.00,2,    1.78,2,   3.543,2,   1.884,2,   1.0510,2,  -999.0,9,  -999.0,9,   -999.0,9,  -999.00,   7.6733,2,    25.00,-999.000,1,-999.0000,1, -999.00,9,-999.0000,9, -999.00,9,  -999.0,9,  -999.0,   3.471,3,   41.24,2,   26.98,2,  451.00,   5.9394
33RO20100308,      A13.5,      25,          1,          8,      11033,2,20100320,       1051,   -41.9993,     1.1497,        906,   500.3,   5.1031,  34.2418,2,  34.2423,2, 241.4000,2,   242.1,2,   13.46,2,   26.64,2,    0.00,2,    1.83,2,   3.865,2,   2.045,2,   1.2530,2,  2161.2,2,  2278.9,2,    889.4,2,    20.00,   7.6702,2,    25.00,-999.000,1,-999.0000,1, -999.00,9,   5.1026,2,    1.22,2,    -1.9,2,     2.7,   4.051,3,   40.90,2,   28.36,2,  500.30,   5.0630
33RO20100308,      A13.5,      25,          1,          7,      11705,2,20100320,       1051,   -41.9993,     1.1497,        906,   600.5,   4.4803,  34.2332,2,  34.2364,2, 239.3000,2,   238.2,2,   18.99,2,   28.20,2,    0.00,2,    1.94,2,-999.000,9,-999.000,9,-999.0000,9,  2171.2,2,  2283.2,2,    923.2,2,    20.00,   7.6552,2,    25.00,-999.000,9,-999.0000,9, -999.00,9,   4.4781,2, -999.00,9,  -999.0,9,  -999.0,-999.000,9,   40.31,2,   30.04,2,  600.50,   4.4347
33RO20100308,      A13.5,      25,          1,          6,      11029,2,20100320,       1051,   -41.9993,     1.1497,        906,   700.3,   4.0037,  34.2156,2,  34.2161,2, 219.0000,3,   238.8,2,   21.85,2,   29.03,2,    0.00,2,    2.00,2,   3.395,2,   1.764,2,   0.9050,2,  2174.7,2,  2284.5,2,   -999.0,9,  -999.00,   7.6468,2,    25.00,-999.000,1,-999.0000,1, -999.00,9,   4.0089,2,    1.10,2,   -35.4,2,     3.1,   3.769,3,   39.98,2,   30.99,2,  700.30,   3.9526
33RO20100308,      A13.5,      25,          1,          4,      11030,2,20100320,       1051,   -41.9993,     1.1497,        906,   800.5,   3.8392,  34.2422,2,  34.2438,2, 230.9000,2,   230.9,6,   26.39,6,   29.92,6,    0.01,6,    2.06,6,   3.072,2,   1.555,2,   0.7940,2,  -999.0,9,  -999.0,9,   -999.0,9,  -999.00,-999.0000,9,  -999.00,-999.000,1,-999.0000,1, -999.00,9,   3.8396,2, -999.00,9,  -999.0,9,  -999.0,   3.566,3,   39.85,2,   31.86,2,  800.50,   3.7812
33RO20100308,      A13.5,      25,          1,          5,      11704,2,20100320,       1051,   -41.9993,     1.1497,        906,   799.6,   3.8397,  34.2422,2,  34.2425,2, 230.9000,2,  -999.0,9,   26.38,6,   29.88,6,    0.00,6,    2.06,6,-999.000,9,-999.000,9,-999.0000,9,  2182.8,2,  2288.9,2,    970.3,2,    20.00,   7.6346,2,    25.00,-999.000,9,-999.0000,9, -999.00,9,-999.0000,9, -999.00,9,  -999.0,9,  -999.0,-999.000,9,   40.24,2,   31.48,2,  799.60,   3.7817
33RO20100308,      A13.5,      25,          1,          3,      11703,2,20100320,       1051,   -41.9993,     1.1497,        906,   849.8,   3.7452,  34.2514,2,  34.2518,2, 228.0000,2,   228.1,2,   28.27,6,   30.30,6,    0.01,6,    2.08,6,   2.947,2,   1.492,2,   0.7420,2,  2185.8,2,  2289.4,2,    980.5,2,    20.00,   7.6304,2,    25.00,-999.000,1,-999.0000,1, -999.00,9,   3.7450,2, -999.00,9,  -999.0,9,  -999.0,   3.412,3,   40.35,2,   32.36,2,  849.80,   3.6839
33RO20100308,      A13.5,      25,          1,          1,      11701,2,20100320,       1051,   -41.9993,     1.1497,        906,   893.3,   3.6565,  34.2612,2,  34.2607,2, 224.6000,2,   225.3,2,   30.27,6,   30.62,6,    0.01,6,    2.11,6,   2.811,6,   1.416,6,   0.6870,6,  2189.8,2,  2293.2,2,   -999.0,9,  -999.00,   7.6247,2,    25.00,-999.000,1,-999.0000,1, -999.00,9,   3.6560,2, -999.00,9,  -999.0,9,  -999.0,   3.281,3,   40.29,2,   31.83,2,  893.30,   3.5924
33RO20100308,      A13.5,      25,          1,          2,      11702,2,20100320,       1051,   -41.9993,     1.1497,        906,   892.8,   3.6562,  34.2611,2,  34.2593,2, 224.6000,2,  -999.0,9,   30.05,6,   30.61,6,    0.01,6,    2.10,6,-999.000,9,-999.000,9,-999.0000,9,  2189.0,2,  2293.3,2,    994.5,6,    20.00,   7.6262,2,    25.00,-999.000,9,-999.0000,9, -999.00,9,-999.0000,9,    1.03,2,   -54.8,2,     2.6,-999.000,9,   40.15,2,   32.07,2,  892.80,   3.5921