BOTTLE,20130404CCHSIOCBG
EXPOCODE,SECT_ID,STNNBR,CASTNO,SAMPNO,BTLNBR,BTLNBR_FLAG_W,DATE,TIME,LATITUDE,LONGITUDE,DEPTH,CTDPRS,CTDTMP,CTDSAL,CTDSAL_FLAG_W,SALNTY,SALNTY_FLAG_W,CTDOXY,CTDOXY_FLAG_W,OXYGEN,OXYGEN_FLAG_W,SILCAT,SILCAT_FLAG_W,NITRAT,NITRAT_FLAG_W,NITRIT,NITRIT_FLAG_W,PHSPHT,PHSPHT_FLAG_W,CFC-11,CFC-11_FLAG_W,CFC-12,CFC-12_FLAG_W,SF6,SF6_FLAG_W,TCARBN,TCARBN_FLAG_W,ALKALI,ALKALI_FLAG_W,FCO2,FCO2_FLAG_W,FCO2TMP,PH_TOT,PH_TOT_FLAG_W,PH_TMP,TRITUM,TRITUM_FLAG_W,HELIUM,HELIUM_FLAG_W,DELHE3,DELHE3_FLAG_W,REFTMP,REFTMP_FLAG_W,DELC13,DELC13_FLAG_W,DELC14,DELC14_FLAG_W,C14ERR,CCL4,CCL4_FLAG_W,DOC,DOC_FLAG_W,TDN,TDN_FLAG_W,CTDRAW,THETA
,,,,,,,,,,,METERS,DBAR,ITS-90,PSS-78,,PSS-78,,UMOL/KG,,UMOL/KG,,UMOL/KG,,UMOL/KG,,UMOL/KG,,UMOL/KG,,PMOL/KG,,PMOL/KG,,FMOL/KG,,UMOL/KG,,UMOL/KG,,UATM,,DEG C,,,DEG C,TU,,NMOL/KG,,PERCNT,,DEG C,,/MILLE,,/MILLE,,/MILLE,PMOL/KG,,UMOL/KG,,UMOL/KG,,DBAR,DEG C
33RO20100308,      A13.5,      90,          1,         24,      11714,2,20100408,       0739,    -9.5005,     0.5573,       5107,     5.1,  28.0463,  36.4661,2,  36.4680,2, 197.6000,2,   197.0,6,    0.83,6,    0.02,6,    0.00,6,    0.11,6,   1.528,2,   0.974,2,   0.9950,2,  2059.0,6,  2395.4,2,    309.0,2,    20.00,   8.0788,2,    25.00,-999.000,9,-999.0000,9, -999.00,9,-999.0000,9, -999.00,9,  -999.0,9,  -999.0,   1.784,3, -999.00,9, -999.00,9,    5.10,  28.0451
33RO20100308,      A13.5,      90,          1,         23,      11716,2,20100408,       0739,    -9.5005,     0.5573,       5107,    39.7,  27.8623,  36.4536,4,  36.3674,2, 200.2000,2,   205.9,2,    1.01,2,    0.12,2,    0.00,2,    0.14,2,   1.642,2,   1.028,2,   0.9580,2,  2061.0,2,  2390.4,2,    315.5,2,    20.00,   8.0692,2,    25.00,-999.000,9,-999.0000,9, -999.00,9,-999.0000,9, -999.00,9,  -999.0,9,  -999.0,   1.539,3, -999.00,9, -999.00,9,   39.70,  27.8529
33RO20100308,      A13.5,      90,          1,         22,      11022,2,20100408,       0739,    -9.5005,     0.5573,       5107,    70.3,  17.1522,  35.6952,2,  35.7236,2, 115.8000,2,   116.8,2,    4.54,2,   15.43,2,    0.47,2,    1.11,2,   2.029,6,   1.163,6,   0.7190,6,  2172.2,2,  2344.1,6,    682.2,2,    20.00,   7.7796,2,    25.00,-999.000,9,-999.0000,9, -999.00,9,-999.0000,9, -999.00,9,  -999.0,9,  -999.0,   0.430,3, -999.00,9, -999.00,9,   70.30,  17.1405
33RO20100308,      A13.5,      90,          1,         21,      11010,2,20100408,       0739,    -9.5005,     0.5573,       5107,    99.4,  13.8855,  35.3984,2,  35.3950,2,  79.7000,2,    80.2,2,    7.77,2,   24.05,2,    0.02,2,    1.55,2,   2.002,2,   1.099,2,   0.5640,2,  2206.2,2,  2322.6,2,    956.5,2,    20.00,   7.6489,2,    25.00,-999.000,9,-999.0000,9, -999.00,9,-999.0000,9, -999.00,9,  -999.0,9,  -999.0,   0.296,3, -999.00,9, -999.00,9,   99.40,  13.8712
33RO20100308,      A13.5,      90,          1,         20,      11715,2,20100408,       0739,    -9.5005,     0.5573,       5107,   200.8,  12.0052,  35.1589,2,  35.1586,2,  83.0000,2,    82.8,2,   10.05,2,   26.69,2,    0.01,2,    1.71,2,   1.745,2,   0.938,2,   0.3760,2,  2212.0,2,  2312.4,2,   1054.2,2,    20.00,   7.6112,2,    25.00,-999.000,9,-999.0000,9, -999.00,9,-999.0000,9, -999.00,9,  -999.0,9,  -999.0,   0.309,3, -999.00,9, -999.00,9,  200.80,  11.9789
33RO20100308,      A13.5,      90,          1,         19,      11007,2,20100408,       0739,    -9.5005,     0.5573,       5107,   299.9,  10.4672,  34.9791,2,  34.9783,2,  50.8000,2,    50.2,2,   13.63,2,   33.03,2,    0.00,2,    2.06,2,   1.084,2,   0.569,2,   0.1700,2,  2239.4,2,  2302.9,2,   1363.6,2,    20.00,   7.5016,2,    25.00,-999.000,9,-999.0000,9, -999.00,9,-999.0000,9, -999.00,9,  -999.0,9,  -999.0,   0.217,3, -999.00,9, -999.00,9,  299.90,  10.4312
33RO20100308,      A13.5,      90,          1,         18,      11710,2,20100408,       0739,    -9.5005,     0.5573,       5107,   400.0,   9.4048,  34.8632,2,  34.8667,2,  49.7000,2,    49.7,2,   15.53,2,   35.23,2,    0.00,2,    2.20,2,   0.693,2,   0.360,2,   0.1130,2,  2243.6,2,  2298.4,2,   1454.5,6,    20.00,   7.4751,2,    25.00,-999.000,9,-999.0000,9, -999.00,9,-999.0000,9, -999.00,9,  -999.0,9,  -999.0,   0.197,3, -999.00,9, -999.00,9,  400.00,   9.3597
33RO20100308,      A13.5,      90,          1,         17,      11025,2,20100408,       0739,    -9.5005,     0.5573,       5107,   500.1,   8.0521,  34.7320,2,  34.7345,2,  48.0000,2,    49.1,2,   19.01,2,   38.16,2,    0.00,2,    2.41,2,   0.281,2,   0.149,2,   0.0000,2,  2252.3,6,  2294.8,2,   1600.3,2,    20.00,   7.4381,2,    25.00,-999.000,9,-999.0000,9, -999.00,9,-999.0000,9, -999.00,9,  -999.0,9,  -999.0,   0.158,3, -999.00,9, -999.00,9,  500.10,   8.0005
33RO20100308,      A13.5,      90,          1,         16,      11709,2,20100408,       0739,    -9.5005,     0.5573,       5107,   700.5,   5.6108,  34.5344,2,  34.5370,2,  94.1000,2,    94.5,2,   26.93,2,   38.55,2,    0.00,2,    2.53,2,   0.068,2,   0.039,2,   0.0000,2,  2243.0,2,  2294.2,2,   1484.3,2,    20.00,   7.4333,4,    25.00,-999.000,9,-999.0000,9, -999.00,9,-999.0000,9, -999.00,9,  -999.0,9,  -999.0,   0.153,3, -999.00,9, -999.00,9,  700.50,   5.5506
33RO20100308,      A13.5,      90,          1,         15,      11006,2,20100408,       0739,    -9.5005,     0.5573,       5107,   901.0,   4.4568,  34.5271,2,  34.5266,2, 135.8000,2,   136.2,2,   33.12,2,   35.62,2,    0.00,2,    2.40,2,   0.021,2,   0.013,2,   0.0000,2,  2232.4,2,  2303.6,2,   1284.4,2,    20.00,   7.5273,2,    25.00,-999.000,9,-999.0000,9, -999.00,9,-999.0000,9, -999.00,9,  -999.0,9,  -999.0,   0.101,3, -999.00,9, -999.00,9,  901.00,   4.3861
33RO20100308,      A13.5,      90,          1,         14,      11708,2,20100408,       0739,    -9.5005,     0.5573,       5107,  1099.6,   4.1868,  34.6505,2,  34.6501,2, 155.8000,2,   155.4,2,   32.58,2,   32.49,2,    0.00,2,    2.20,2,   0.007,2,   0.005,2,   0.0000,2,  2223.9,2,  2309.2,2,   1151.8,2,    20.00,   7.5694,2,    25.00,-999.000,9,-999.0000,9, -999.00,9,-999.0000,9, -999.00,9,  -999.0,9,  -999.0,   0.045,3, -999.00,9, -999.00,9, 1099.60,   4.1009
33RO20100308,      A13.5,      90,          1,         13,      11031,2,20100408,       0739,    -9.5005,     0.5573,       5107,  1301.1,   4.0323,  34.7986,2,  34.7995,2, 183.2000,2,   183.3,2,   28.58,2,   28.11,2,    0.00,2,    1.89,2,   0.006,2,   0.004,2,   0.0180,3,  2208.0,2,  2314.3,2,    996.8,2,    20.00,   7.6293,2,    25.00,-999.000,9,-999.0000,9, -999.00,9,-999.0000,9, -999.00,9,  -999.0,9,  -999.0,   0.047,3, -999.00,9, -999.00,9, 1301.10,   3.9300
33RO20100308,      A13.5,      90,          1,         12,      11027,2,20100408,       0739,    -9.5005,     0.5573,       5107,  1499.6,   3.9360,  34.8901,2,  34.8916,2, 208.3000,2,   208.2,2,   24.79,2,   24.61,2,    0.00,2,    1.64,2,   0.011,2,   0.007,2,   0.0000,2,  2192.4,2,  2315.5,2,    883.9,2,    20.00,   7.6757,2,    25.00,-999.000,9,-999.0000,9, -999.00,9,-999.0000,9, -999.00,9,  -999.0,9,  -999.0,   0.086,3, -999.00,9, -999.00,9, 1499.60,   3.8167
33RO20100308,      A13.5,      90,          1,         11,      11707,2,20100408,       0739,    -9.5005,     0.5573,       5107,  1700.0,   3.7492,  34.9284,2,  34.9296,2, 223.4000,2,   222.9,2,   24.03,2,   22.72,2,    0.00,2,    1.51,2,   0.012,2,   0.008,2,   0.0000,2,  2184.7,2,  2317.5,2,    828.0,2,    20.00,   7.7009,2,    25.00,-999.000,9,-999.0000,9, -999.00,9,-999.0000,9, -999.00,9,  -999.0,9,  -999.0,   0.103,3, -999.00,9, -999.00,9, 1700.00,   3.6138
33RO20100308,      A13.5,      90,          1,         10,      11003,2,20100408,       0739,    -9.5005,     0.5573,       5107,  1900.7,   3.5242,  34.9342,2,  34.9356,2, 230.2000,2,   229.6,2,   25.96,2,   22.12,2,    0.00,2,    1.47,2,   0.011,2,   0.007,2,   0.0000,2,  2183.2,2,  2321.5,2,    809.8,2,    20.00,   7.7103,2,    25.00,-999.000,9,-999.0000,9, -999.00,9,-999.0000,9, -999.00,9,  -999.0,9,  -999.0,   0.083,3, -999.00,9, -999.00,9, 1900.70,   3.3732
33RO20100308,      A13.5,      90,          1,          9,      11706,2,20100408,       0739,    -9.5005,     0.5573,       5107,  2099.6,   3.2919,  34.9294,2,  34.9299,2, 229.9000,2,   230.9,2,   29.62,2,   22.17,2,    0.00,2,    1.48,2,   0.005,2,   0.004,2,   0.0000,2,  2187.0,2,  2324.6,2,    810.9,2,    20.00,   7.7121,2,    25.00,-999.000,9,-999.0000,9, -999.00,9,-999.0000,9, -999.00,9,  -999.0,9,  -999.0,   0.050,3, -999.00,9, -999.00,9, 2099.60,   3.1256
33RO20100308,      A13.5,      90,          1,          8,      11033,2,20100408,       0739,    -9.5005,     0.5573,       5107,  2399.3,   3.0208,  34.9216,2,  34.9222,2, 232.5000,2,   234.0,2,   34.17,2,   22.23,2,    0.00,2,    1.48,2,   0.004,2,   0.003,2,   0.0000,2,  2191.7,2,  2328.9,2,    804.4,2,    20.00,   7.7152,2,    25.00,-999.000,9,-999.0000,9, -999.00,9,-999.0000,9, -999.00,9,  -999.0,9,  -999.0,   0.035,3, -999.00,9, -999.00,9, 2399.30,   2.8304
33RO20100308,      A13.5,      90,          1,          7,      11705,2,20100408,       0739,    -9.5005,     0.5573,       5107,  2700.8,   2.8224,  34.9152,2,  34.9150,2, 231.7000,2,   232.1,2,   38.66,6,   22.49,6,    0.00,6,    1.50,6,   0.002,2,   0.002,2,   0.0000,2,  2197.1,2,  2335.4,2,    805.0,2,    20.00,   7.7135,2,    25.00,-999.000,9,-999.0000,9, -999.00,9,-999.0000,9, -999.00,9,  -999.0,9,  -999.0,   0.017,3, -999.00,9, -999.00,9, 2700.80,   2.6060
33RO20100308,      A13.5,      90,          1,          6,      11029,2,20100408,       0739,    -9.5005,     0.5573,       5107,  3000.3,   2.6381,  34.9045,2,  34.9068,2, 233.5000,2,   234.0,2,   42.70,6,   22.69,6,    0.00,6,    1.51,6,   0.002,2,   0.002,2,   0.0000,2,  2200.4,2,  2340.2,2,    802.7,2,    20.00,   7.7151,2,    25.00,-999.000,9,-999.0000,9, -999.00,9,-999.0000,9, -999.00,9,  -999.0,9,  -999.0,   0.014,3, -999.00,9, -999.00,9, 3000.30,   2.3952
33RO20100308,      A13.5,      90,          1,          5,      11704,2,20100408,       0739,    -9.5005,     0.5573,       5107,  3399.0,   2.4626,  34.8950,2,  34.8954,2, 231.2000,4,   238.2,4,   47.82,6,   23.06,6,    0.00,6,    1.54,6,   0.004,6,   0.002,6,   0.0000,6,  2207.6,2,  2348.4,2,    805.1,6,    20.00,   7.7138,2,    25.00,-999.000,9,-999.0000,9, -999.00,9,-999.0000,9, -999.00,9,  -999.0,9,  -999.0,   0.021,3, -999.00,9, -999.00,9, 3399.00,   2.1820
33RO20100308,      A13.5,      90,          1,          4,      11030,2,20100408,       0739,    -9.5005,     0.5573,       5107,  3801.2,   2.3743,  34.8892,2,  34.8903,2, 229.8000,4,   235.5,4,   51.51,6,   23.33,6,    0.00,6,    1.56,6,   0.003,2,   0.003,2,   0.0000,2,  2214.2,2,  2358.1,2,    809.2,2,    20.00,   7.7144,2,    25.00,-999.000,9,-999.0000,9, -999.00,9,-999.0000,9, -999.00,9,  -999.0,9,  -999.0,   0.018,3, -999.00,9, -999.00,9, 3801.20,   2.0520
33RO20100308,      A13.5,      90,          1,          3,      11703,2,20100408,       0739,    -9.5005,     0.5573,       5107,  4200.5,   2.3555,  34.8850,2,  34.8857,2, 232.3000,4,   237.4,4,   52.14,6,   23.26,6,    0.00,6,    1.56,6,   0.004,2,   0.004,2,   0.0000,2,  2214.8,2,  2359.2,2,    805.8,2,    20.00,   7.7178,2,    25.00,-999.000,9,-999.0000,9, -999.00,9,-999.0000,9, -999.00,9,  -999.0,9,  -999.0,   0.032,3, -999.00,9, -999.00,9, 4200.50,   1.9882
33RO20100308,      A13.5,      90,          1,          2,      11702,2,20100408,       0739,    -9.5005,     0.5573,       5107,  4599.3,   2.3552,  34.8806,2,  34.8802,2, 233.6000,2,   236.1,4,   52.54,6,   23.21,6,    0.00,6,    1.55,6,   0.007,2,   0.005,2,   0.0000,2,  2214.3,2,  2358.0,2,    802.5,2,    20.00,   7.7189,2,    25.00,-999.000,9,-999.0000,9, -999.00,9,-999.0000,9, -999.00,9,  -999.0,9,  -999.0,   0.052,3, -999.00,9, -999.00,9, 4599.30,   1.9404
33RO20100308,      A13.5,      90,          1,          1,      11701,2,20100408,       0739,    -9.5005,     0.5573,       5107,  5177.7,   2.3947,  34.8762,2,  34.8760,2, 237.2000,4,   231.7,4,   52.58,6,   23.11,6,    0.00,6,    1.55,6,   0.011,2,   0.008,2,   0.0000,2,  2211.4,6,  2353.6,2,    803.1,2,    20.00,   7.7185,2,    25.00,-999.000,9,-999.0000,9, -999.00,9,-999.0000,9, -999.00,9,  -999.0,9,  -999.0,   0.092,3, -999.00,9, -999.00,9, 5177.70,   1.9062