BOTTLE,20130404CCHSIOCBG
EXPOCODE,SECT_ID,STNNBR,CASTNO,SAMPNO,BTLNBR,BTLNBR_FLAG_W,DATE,TIME,LATITUDE,LONGITUDE,DEPTH,CTDPRS,CTDTMP,CTDSAL,CTDSAL_FLAG_W,SALNTY,SALNTY_FLAG_W,CTDOXY,CTDOXY_FLAG_W,OXYGEN,OXYGEN_FLAG_W,SILCAT,SILCAT_FLAG_W,NITRAT,NITRAT_FLAG_W,NITRIT,NITRIT_FLAG_W,PHSPHT,PHSPHT_FLAG_W,CFC-11,CFC-11_FLAG_W,CFC-12,CFC-12_FLAG_W,SF6,SF6_FLAG_W,TCARBN,TCARBN_FLAG_W,ALKALI,ALKALI_FLAG_W,FCO2,FCO2_FLAG_W,FCO2TMP,PH_TOT,PH_TOT_FLAG_W,PH_TMP,TRITUM,TRITUM_FLAG_W,HELIUM,HELIUM_FLAG_W,DELHE3,DELHE3_FLAG_W,REFTMP,REFTMP_FLAG_W,DELC13,DELC13_FLAG_W,DELC14,DELC14_FLAG_W,C14ERR,CCL4,CCL4_FLAG_W,DOC,DOC_FLAG_W,TDN,TDN_FLAG_W,CTDRAW,THETA
,,,,,,,,,,,METERS,DBAR,ITS-90,PSS-78,,PSS-78,,UMOL/KG,,UMOL/KG,,UMOL/KG,,UMOL/KG,,UMOL/KG,,UMOL/KG,,PMOL/KG,,PMOL/KG,,FMOL/KG,,UMOL/KG,,UMOL/KG,,UATM,,DEG C,,,DEG C,TU,,NMOL/KG,,PERCNT,,DEG C,,/MILLE,,/MILLE,,/MILLE,PMOL/KG,,UMOL/KG,,UMOL/KG,,DBAR,DEG C
33RO20100308,      A13.5,      85,          1,         24,      11714,2,20100406,       2127,      -12.0,     0.8662,       5621,     4.8,  27.1788,  36.7289,2,  36.7297,2, 198.0000,2,   205.5,2,    0.72,6,    0.03,6,    0.00,6,    0.14,6,   1.577,2,   0.998,2,   0.9870,2,  2076.0,6,  2413.0,2,    312.7,2,    20.00,   8.0745,2,    25.00,-999.000,9,-999.0000,9, -999.00,9,-999.0000,9,    1.59,2,    46.9,2,     3.4,   1.979,3,   72.49,2,    5.29,2,    4.80,  27.1777
33RO20100308,      A13.5,      85,          1,         23,      11716,2,20100406,       2127,      -12.0,     0.8662,       5621,    30.8,  27.1833,  36.7273,2,  36.7298,2, 198.6000,2,   198.9,2,    0.73,2,    0.12,2,    0.00,2,    0.15,2,   1.579,2,   0.998,2,   0.9930,2,  2075.9,2,  2412.6,6,    311.4,2,    20.00,   8.0739,2,    25.00,-999.000,9,-999.0000,9, -999.00,9,-999.0000,9,    1.62,2,    46.1,2,     2.9,   1.983,3,   72.64,2,    5.09,2,   30.80,  27.1762
33RO20100308,      A13.5,      85,          1,         22,      11022,2,20100406,       2127,      -12.0,     0.8662,       5621,    67.3,  17.8253,  35.9205,2,  35.9129,2, 145.7000,2,   136.3,2,    3.63,2,   13.65,2,    0.32,2,    1.00,2,   2.111,2,   1.224,2,   0.8510,2,  2165.9,2,  2355.8,6,    612.9,2,    20.00,   7.8203,2,    25.00,-999.000,9,-999.0000,9, -999.00,9,-999.0000,9,    0.77,2,    46.5,2,     3.0,   0.800,3,   57.43,2,   17.75,2,   67.30,  17.8138
33RO20100308,      A13.5,      85,          1,         21,      11010,2,20100406,       2127,      -12.0,     0.8662,       5621,   101.2,  14.1377,  35.4321,2,  35.4310,2,  54.7000,2,    50.5,2,    8.32,2,   26.79,2,    0.04,2,    1.71,2,   1.920,2,   1.051,2,   0.4580,2,  2225.0,2,  2319.6,2,   1083.7,2,    20.00,   7.5930,2,    25.00,-999.000,9,-999.0000,9, -999.00,9,-999.0000,9,    0.21,2,    31.5,2,     3.0,   0.221,3,   45.81,2,   29.66,2,  101.20,  14.1230
33RO20100308,      A13.5,      85,          1,         20,      11715,2,20100406,       2127,      -12.0,     0.8662,       5621,   201.7,  11.6938,  35.1251,2,  35.1253,2,  49.6000,2,    50.8,2,   11.24,2,   30.54,2,    0.01,2,    1.93,2,   1.418,6,   0.752,6,   0.3430,6,  2232.4,2,  2306.4,2,   1253.2,2,    20.00,   7.5360,2,    25.00,-999.000,9,-999.0000,9, -999.00,9,-999.0000,9,    0.19,2,    10.3,2,     2.7,   0.215,3,   43.48,2,   33.25,2,  201.70,  11.6679
33RO20100308,      A13.5,      85,          1,         19,      11007,2,20100406,       2127,      -12.0,     0.8662,       5621,   301.1,  10.3212,  34.9679,2,  34.9672,2,  30.7000,2,    31.1,2,   14.11,2,   35.08,2,    0.00,2,    2.20,2,   0.801,2,   0.423,2,   0.0680,2,  2249.4,6,  2299.8,2,   1502.7,2,    20.00,   7.4610,2,    25.00,-999.000,9,-999.0000,9, -999.00,9,-999.0000,9,    0.21,2,   -17.0,6,     2.0,   0.159,3,   42.85,2,   37.17,2,  301.10,  10.2854
33RO20100308,      A13.5,      85,          1,         18,      11710,2,20100406,       2127,      -12.0,     0.8662,       5621,   400.5,   8.8379,  34.8117,2,  34.8108,2,  33.9000,2,    30.7,2,   17.40,2,   38.22,2,    0.00,2,    2.41,2,   0.361,2,   0.195,2,   0.0500,2,  2258.9,2,  2293.7,2,   1667.1,2,    20.00,   7.4287,2,    25.00,-999.000,9,-999.0000,9, -999.00,9,-999.0000,9,    0.23,2,   -51.8,6,     1.9,   0.135,3,   42.15,2,   40.11,2,  400.50,   8.7944
33RO20100308,      A13.5,      85,          1,         17,      11025,2,20100406,       2127,      -12.0,     0.8662,       5621,   498.7,   7.5403,  34.6891,2,  34.6874,2,  33.5000,2,    33.1,6,   21.03,2,   40.97,2,    0.00,2,    2.62,2,   0.140,2,   0.079,2,   0.0000,2,  2266.3,2,  2290.6,2,   1808.1,2,    20.00,   7.3873,2,    25.00,-999.000,9,-999.0000,9, -999.00,9,-999.0000,9,    0.23,2,   -80.5,2,     3.2,   0.119,3,   41.34,2,   42.62,2,  498.70,   7.4908
33RO20100308,      A13.5,      85,          1,         16,      11709,2,20100406,       2127,      -12.0,     0.8662,       5621,   649.3,   5.7768,  34.5469,2,  34.5485,2,  81.9000,2,    78.3,2,   26.30,2,   39.83,2,    0.00,2,    2.61,2,   0.052,2,   0.030,2,   0.0000,2,  2251.4,2,  2289.6,2,   1594.9,6,    20.00,   7.4389,2,    25.00,-999.000,9,-999.0000,9, -999.00,9,-999.0000,9,    0.42,2,   -96.3,2,     2.6,   0.134,3,   40.26,2,   41.43,2,  649.30,   5.7204
33RO20100308,      A13.5,      85,          1,         15,      11006,2,20100406,       2127,      -12.0,     0.8662,       5621,   801.0,   4.7421,  34.5062,2,  34.5046,2, 119.5000,2,   120.7,2,   31.48,2,   37.22,2,    0.00,2,    2.49,2,   0.026,2,   0.017,2,   0.0000,2,  2238.1,2,  2298.0,6,   1353.8,2,    20.00,   7.5003,2,    25.00,-999.000,9,-999.0000,9, -999.00,9,-999.0000,9,    0.60,2,  -120.6,2,     2.4,   0.108,3,   38.77,2,   39.14,2,  801.00,   4.6781
33RO20100308,      A13.5,      85,          1,         14,      11708,2,20100406,       2127,      -12.0,     0.8662,       5621,  1101.1,   4.0443,  34.6555,2,  34.6553,2, 157.8000,2,   157.2,2,   33.39,2,   32.44,2,    0.00,2,    2.20,2,   0.005,2,   0.003,2,   0.0000,2,  2225.2,2,  2308.7,2,   1148.9,2,    20.00,   7.5703,2,    25.00,-999.000,9,-999.0000,9, -999.00,9,-999.0000,9,    0.74,2,  -119.5,6,     1.9,   0.030,3,   38.80,2,   33.68,2, 1101.10,   3.9595
33RO20100308,      A13.5,      85,          1,         13,      11031,2,20100406,       2127,      -12.0,     0.8662,       5621,  1399.9,   3.8343,  34.8307,2,  34.8306,2, 190.5000,2,   189.5,2,   29.09,2,   27.23,2,    0.00,2,    1.84,2,   0.003,2,   0.003,2,   0.0000,2,  2204.6,2,  2318.3,2,    966.7,2,    20.00,   7.6392,2,    25.00,-999.000,9,-999.0000,9, -999.00,9,-999.0000,9,    0.81,2,  -107.1,2,     3.0,   0.023,3,   39.71,2,   29.16,2, 1399.90,   3.7252
33RO20100308,      A13.5,      85,          1,         12,      11027,2,20100406,       2127,      -12.0,     0.8662,       5621,  1699.4,   3.6592,  34.9135,2,  34.9134,2, 211.1000,2,   211.3,2,   26.90,2,   24.00,2,    0.00,2,    1.61,2,   0.004,2,   0.004,2,   0.0000,2,  2193.4,2,  2318.9,2,    873.0,2,    20.00,   7.6809,2,    25.00,-999.000,9,-999.0000,9, -999.00,9,-999.0000,9,    0.91,2,  -105.6,2,     2.5,   0.021,3,   39.44,2,   25.18,2, 1699.40,   3.5250
33RO20100308,      A13.5,      85,          1,         11,      11707,2,20100406,       2127,      -12.0,     0.8662,       5621,  2000.1,   3.3221,  34.9230,2,  34.9235,2, 226.4000,2,   225.9,2,   29.42,2,   22.76,2,    0.00,2,    1.52,2,   0.003,2,   0.003,2,   0.0000,2,  2187.5,2,  2324.8,2,    822.2,2,    20.00,   7.7054,2,    25.00,-999.000,9,-999.0000,9, -999.00,9,-999.0000,9,    0.97,2,  -114.4,2,     2.8,   0.034,3,   39.62,2,   24.05,2, 2000.10,   3.1648
33RO20100308,      A13.5,      85,          1,         10,      11003,2,20100406,       2127,      -12.0,     0.8662,       5621,  2299.9,   3.0791,  34.9238,2,  34.9231,2, 229.1000,2,   229.2,2,   33.34,2,   22.57,2,    0.00,2,    1.51,2,   0.002,2,   0.001,2,   0.0000,2,  2189.8,2,  2328.6,2,    815.8,2,    20.00,   7.7101,2,    25.00,-999.000,9,-999.0000,9, -999.00,9,-999.0000,9,    0.94,2,  -119.8,2,     2.6,   0.015,3,   39.43,2,   23.64,2, 2299.90,   2.8972
33RO20100308,      A13.5,      85,          1,          9,      11706,2,20100406,       2127,      -12.0,     0.8662,       5621,  2599.2,   2.8924,  34.9168,3,  34.9222,2, 230.8000,2,   231.0,2,   37.08,2,   22.66,2,    0.00,2,    1.52,2,   0.002,2,   0.003,2,   0.0000,2,  2192.9,2,  2330.2,2,    812.4,2,    20.00,   7.7117,2,    25.00,-999.000,9,-999.0000,9, -999.00,9,-999.0000,9,    0.66,3,  -120.4,2,     3.1,   0.013,3,   38.55,2,   24.31,2, 2599.20,   2.6848
33RO20100308,      A13.5,      85,          1,          8,      11033,2,20100406,       2127,      -12.0,     0.8662,       5621,  2900.0,   2.6736,  34.9025,2,  34.9016,2, 234.6000,2,   234.0,6,   41.54,2,   22.81,2,    0.00,2,    1.52,2,   0.002,2,   0.001,2,   0.0000,2,  2196.5,2,  2337.5,2,    805.6,2,    20.00,   7.7161,2,    25.00,-999.000,9,-999.0000,9, -999.00,9,-999.0000,9, -999.00,9,  -999.0,9,  -999.0,   0.016,3,   38.73,2,   24.62,2, 2900.00,   2.4402
33RO20100308,      A13.5,      85,          1,          7,      11705,2,20100406,       2127,      -12.0,     0.8662,       5621,  3301.3,   2.4735,  34.8943,2,  34.8934,2, 229.5000,2,   230.0,2,   47.99,2,   23.41,2,    0.00,2,    1.57,2,   0.002,2,   0.001,2,   0.0000,2,  2208.2,2,  2347.9,2,    823.1,2,    20.00,   7.7104,2,    25.00,-999.000,9,-999.0000,9, -999.00,9,-999.0000,9, -999.00,9,  -999.0,9,  -999.0,   0.011,3,   39.15,2,   25.24,2, 3301.30,   2.2030
33RO20100308,      A13.5,      85,          1,          6,      11029,2,20100406,       2127,      -12.0,     0.8662,       5621,  3699.3,   2.3662,  34.8893,2,  34.8883,2, 229.9000,2,   230.1,2,   50.74,2,   23.43,2,    0.00,2,    1.57,2,   0.002,2,   0.001,2,   0.0000,2,  2212.5,2,  2352.8,2,    819.2,2,    20.00,   7.7143,2,    25.00,-999.000,9,-999.0000,9, -999.00,9,-999.0000,9, -999.00,9,  -999.0,9,  -999.0,   0.019,3,   38.73,2,   25.24,2, 3699.30,   2.0554
33RO20100308,      A13.5,      85,          1,          5,      11704,2,20100406,       2127,      -12.0,     0.8662,       5621,  4101.7,   2.3531,  34.8860,2,  34.8864,2, 231.1000,2,   231.7,2,   51.55,6,   23.40,6,    0.00,6,    1.56,6,   0.004,6,   0.004,2,   0.0000,6,  2212.9,2,  2355.7,2,    806.7,2,    20.00,   7.7170,2,    25.00,-999.000,9,-999.0000,9, -999.00,9,-999.0000,9, -999.00,9,  -999.0,9,  -999.0,   0.023,3,   38.64,2,   24.74,2, 4101.70,   1.9973
33RO20100308,      A13.5,      85,          1,          4,      11030,2,20100406,       2127,      -12.0,     0.8662,       5621,  4501.2,   2.3673,  34.8835,2,  34.8816,2, 231.8000,2,   232.4,2,   51.96,6,   23.39,6,    0.00,6,    1.56,6,   0.005,2,   0.005,2,   0.0000,2,  2213.4,2,  2356.7,2,    803.3,2,    20.00,   7.7173,2,    25.00,-999.000,9,-999.0000,9, -999.00,9,-999.0000,9, -999.00,9,  -999.0,9,  -999.0,   0.030,3,   38.72,2,   24.65,2, 4501.20,   1.9640
33RO20100308,      A13.5,      85,          1,          3,      11703,2,20100406,       2127,      -12.0,     0.8662,       5621,  4901.7,   2.3894,  34.8805,2,  34.8800,2, 234.1000,2,   236.5,3,   52.19,6,   23.34,6,    0.00,6,    1.55,6,   0.005,2,   0.005,2,   0.0000,2,  2211.9,2,  2357.7,2,    801.7,2,    20.00,   7.7184,2,    25.00,-999.000,9,-999.0000,9, -999.00,9,-999.0000,9, -999.00,9,  -999.0,9,  -999.0,   0.041,3,   39.06,2,   25.05,2, 4901.70,   1.9361
33RO20100308,      A13.5,      85,          1,          2,      11702,2,20100406,       2127,      -12.0,     0.8662,       5621,  5299.4,   2.4167,  34.8774,2,  34.8770,2, 236.9000,2,   236.2,2,   52.29,6,   23.26,6,    0.00,6,    1.55,6,   0.012,2,   0.010,2,   0.0180,2,  2211.6,2,  2354.4,2,    802.5,6,    20.00,   7.7187,2,    25.00,-999.000,9,-999.0000,9, -999.00,9,-999.0000,9, -999.00,9,  -999.0,9,  -999.0,   0.076,3,   39.27,2,   25.12,2, 5299.40,   1.9116
33RO20100308,      A13.5,      85,          1,          1,      11701,2,20100406,       2127,      -12.0,     0.8662,       5621,  5703.9,   2.4644,  34.8758,2,  34.8742,2, 237.2000,2,   237.5,2,   52.36,6,   23.23,6,    0.00,6,    1.55,6,   0.011,2,   0.008,2,   0.0000,2,  2211.1,6,  2352.5,2,    800.8,2,    20.00,   7.7187,2,    25.00,-999.000,9,-999.0000,9, -999.00,9,-999.0000,9, -999.00,9,  -999.0,9,  -999.0,   0.087,3,   38.91,2,   24.86,2, 5703.90,   1.9039