BOTTLE,20221103CCHSIOENA
EXPOCODE,SECT_ID,STNNBR,CASTNO,SAMPNO,BTLNBR,BTLNBR_FLAG_W,DATE,TIME,LATITUDE,LONGITUDE,DEPTH,CTDPRS,CTDTMP,REFTMP,REFTMP_FLAG_W,CTDSAL,SALNTY,SALNTY_FLAG_W,CTDOXY,OXYGEN,OXYGEN_FLAG_W,DELO18,DELO18_FLAG_W
 , , , , , , , , , , , ,DBAR,ITS-90,ITS-90, ,PSS-78,PSS-78, ,UMOL/KG,UMOL/KG, ,/MILLE,
74JC20171121,SR1b,12,1,3,3,2,20171127,1839,-64.74164,-63.45345,252,249.5,0.7081,0.706,2,34.5353,34.5406,2,208.4,208.8,2,0.057558224,2
74JC20171121,SR1b,12,1,4,4,2,20171127,1839,-64.74164,-63.45345,252,249.5,0.7074,0.7053,2,34.536,-999,9,208.5,-999,9,-999,9
74JC20171121,SR1b,12,1,5,5,2,20171127,1839,-64.74164,-63.45345,252,218.6,0.6826,0.6791,2,34.5292,-999,9,210.9,-999,9,0.018096588,6
74JC20171121,SR1b,12,1,6,6,2,20171127,1839,-64.74164,-63.45345,252,177.9,0.5698,0.5656,2,34.502,34.5006,2,216.8,222,2,0.052052742,2
74JC20171121,SR1b,12,1,7,7,2,20171127,1839,-64.74164,-63.45345,252,147.8,0.3725,0.376,2,34.4568,-999,9,226.4,-999,9,-0.041765917,2
74JC20171121,SR1b,12,1,8,8,2,20171127,1839,-64.74164,-63.45345,252,147.8,0.3776,0.3667,2,34.4577,-999,9,226.2,-999,9,-999,9
74JC20171121,SR1b,12,1,9,9,2,20171127,1839,-64.74164,-63.45345,252,117.6,0.1375,0.1298,2,34.3789,-999,9,242,-999,9,-0.046977161,2
74JC20171121,SR1b,12,1,10,10,2,20171127,1839,-64.74164,-63.45345,252,92.5,0.0341,0.0491,2,34.3357,34.3479,2,249.4,253.5,2,-0.100152672,2
74JC20171121,SR1b,12,1,11,11,2,20171127,1839,-64.74164,-63.45345,252,67.3,-0.5298,-0.5526,2,34.1542,-999,9,279.3,-999,9,-0.193607145,2
74JC20171121,SR1b,12,1,12,12,2,20171127,1839,-64.74164,-63.45345,252,42.2,-0.6695,-0.6697,2,33.8952,-999,9,337.8,-999,9,-0.249784328,2
74JC20171121,SR1b,12,1,13,13,2,20171127,1839,-64.74164,-63.45345,252,32.2,-0.6542,-0.6579,2,33.8432,-999,9,351.7,-999,9,-999,9
74JC20171121,SR1b,12,1,14,14,2,20171127,1839,-64.74164,-63.45345,252,32.2,-0.6495,-0.6514,2,33.8476,33.8803,2,351.2,353.1,2,-0.291582568,2
74JC20171121,SR1b,12,1,15,15,2,20171127,1839,-64.74164,-63.45345,252,19,-0.7169,-0.7366,2,33.7855,-999,9,359.3,-999,9,-0.246590637,2
74JC20171121,SR1b,12,1,16,16,2,20171127,1839,-64.74164,-63.45345,252,10,-0.7022,-0.7049,2,33.7193,-999,9,364.5,-999,9,-0.314441134,2
74JC20171121,SR1b,12,1,17,17,2,20171127,1839,-64.74164,-63.45345,252,2.8,-0.2409,-0.2186,2,33.6386,-999,9,358,-999,9,-0.343922779,6
74JC20171121,SR1b,12,1,18,18,2,20171127,1839,-64.74164,-63.45345,252,2.8,-0.3689,-0.3473,2,33.6654,-999,9,361.5,-999,9,-999,9
74JC20171121,SR1b,13,1,1,1,2,20171130,545,-61.59982,-64.49754,3707,1011.9,1.7226,1.7222,2,34.7261,-999,9,180.2,-999,9,-999,9
74JC20171121,SR1b,13,1,2,2,2,20171130,545,-61.59982,-64.49754,3707,1010.3,1.7232,1.7214,2,34.7261,-999,9,180.3,-999,9,-999,9
74JC20171121,SR1b,13,1,3,3,2,20171130,545,-61.59982,-64.49754,3707,1011.8,1.7237,1.722,2,34.7259,34.7264,2,180.5,187.5,2,-999,9
74JC20171121,SR1b,13,1,4,4,2,20171130,545,-61.59982,-64.49754,3707,806.1,1.9012,1.905,2,34.7137,34.7001,2,175.3,-999,9,-999,9
74JC20171121,SR1b,13,1,5,5,2,20171130,545,-61.59982,-64.49754,3707,605.8,2.0477,2.0465,2,34.6838,-999,9,170.9,176.4,2,-999,9
74JC20171121,SR1b,13,1,6,6,2,20171130,545,-61.59982,-64.49754,3707,403.2,2.1259,2.1243,2,34.6222,-999,9,167.5,172.3,2,-999,9
74JC20171121,SR1b,13,1,7,7,2,20171130,545,-61.59982,-64.49754,3707,303.6,2.1408,2.1381,2,34.5688,34.5667,2,168.9,173.5,2,-999,9
74JC20171121,SR1b,13,1,8,8,2,20171130,545,-61.59982,-64.49754,3707,203,1.9629,1.9537,2,34.4469,34.4501,2,184.8,-999,9,-999,9
74JC20171121,SR1b,13,1,9,9,2,20171130,545,-61.59982,-64.49754,3707,153.3,1.4218,1.4101,2,34.3249,-999,9,212.5,-999,9,-999,9
74JC20171121,SR1b,13,1,10,10,2,20171130,545,-61.59982,-64.49754,3707,122.7,0.1348,0.1037,2,34.1341,-999,9,259.2,-999,9,-999,9
74JC20171121,SR1b,13,1,11,11,2,20171130,545,-61.59982,-64.49754,3707,102.8,-0.8329,-0.8784,2,33.9953,-999,9,293.4,-999,9,-999,9
74JC20171121,SR1b,13,1,12,12,2,20171130,545,-61.59982,-64.49754,3707,82.7,-1.3678,-1.38,2,33.9271,-999,9,310.8,-999,9,-999,9
74JC20171121,SR1b,13,1,13,13,2,20171130,545,-61.59982,-64.49754,3707,61.9,-1.6289,-1.6304,2,33.8642,-999,9,326.3,-999,9,-999,9
74JC20171121,SR1b,13,1,14,14,2,20171130,545,-61.59982,-64.49754,3707,40.8,-0.7773,-0.7429,2,33.7429,-999,9,354.3,-999,9,-999,9
74JC20171121,SR1b,13,1,15,15,2,20171130,545,-61.59982,-64.49754,3707,30.7,-0.7091,-0.7107,2,33.7377,33.6889,2,356.1,361.4,2,-999,9
74JC20171121,SR1b,13,1,16,16,2,20171130,545,-61.59982,-64.49754,3707,19.9,-0.7053,-0.7081,2,33.7376,33.7377,2,354.5,361.1,2,-999,9
74JC20171121,SR1b,13,1,17,17,2,20171130,545,-61.59982,-64.49754,3707,9.7,-0.7032,-0.7031,2,33.7378,-999,9,354.5,-999,9,-999,9
74JC20171121,SR1b,13,1,18,18,2,20171130,545,-61.59982,-64.49754,3707,10,-0.6993,-0.7011,2,33.7378,-999,9,354.8,-999,9,-999,9
74JC20171121,SR1b,14,1,1,1,2,20171201,254,-61.60003,-64.69981,3763,1012.1,1.7442,1.7381,2,34.7271,34.7294,2,187.9,-999,9,-999,9
74JC20171121,SR1b,14,1,2,2,7,20171201,254,-61.60003,-64.69981,3763,1010.4,1.7422,1.7387,2,34.7273,33.7326,3,187.4,360.4,3,-999,9
74JC20171121,SR1b,14,1,3,3,2,20171201,254,-61.60003,-64.69981,3763,62.7,-1.4151,-1.3868,2,33.8098,33.8215,2,349,345.6,2,-999,9
74JC20171121,SR1b,14,1,4,4,2,20171201,254,-61.60003,-64.69981,3763,42.9,-0.6931,-0.6839,2,33.7307,33.7356,2,361.8,360,2,-999,9
74JC20171121,SR1b,14,1,5,5,2,20171201,254,-61.60003,-64.69981,3763,32.4,-0.6222,-0.6125,2,33.7315,33.7309,2,362.1,360.2,2,-999,9
74JC20171121,SR1b,14,1,6,6,2,20171201,254,-61.60003,-64.69981,3763,22.7,-0.5884,-0.5934,2,33.7304,33.7322,2,361.7,361,2,-999,9
74JC20171121,SR1b,15,1,1,1,2,20171201,518,-61.59997,-64.29984,3719,1012.7,1.6797,1.6727,2,34.7259,-999,9,187.8,-999,9,-999,9
74JC20171121,SR1b,15,1,2,2,2,20171201,518,-61.59997,-64.29984,3719,1011.6,1.6777,1.6723,2,34.7258,34.7247,2,187.8,187.5,2,-999,9
74JC20171121,SR1b,15,1,3,3,2,20171201,518,-61.59997,-64.29984,3719,103.6,0.0374,-0.025,2,34.11,34.1053,2,271.3,270.9,2,-999,9
74JC20171121,SR1b,15,1,4,4,2,20171201,518,-61.59997,-64.29984,3719,53.5,-0.7755,-0.7658,2,33.7448,33.7502,2,360.4,356.4,2,-999,9
74JC20171121,SR1b,15,1,5,5,2,20171201,518,-61.59997,-64.29984,3719,28.9,-0.6197,-0.6156,2,33.736,33.7388,2,363.9,361.9,2,-999,9
74JC20171121,SR1b,15,1,6,6,2,20171201,518,-61.59997,-64.29984,3719,13.5,-0.6141,-0.6173,2,33.7356,33.7366,2,363.3,361.8,2,-999,9
74JC20171121,SR1b,16,1,1,1,2,20171202,56,-61.60001,-64.49991,3706,1012,1.664,1.6613,2,34.7284,34.73,2,189,189.2,2,-999,9
74JC20171121,SR1b,16,1,2,2,2,20171202,56,-61.60001,-64.49991,3706,808.4,1.8867,1.884,2,34.7176,34.72,2,183.1,183.5,2,-999,9
74JC20171121,SR1b,16,1,3,3,2,20171202,56,-61.60001,-64.49991,3706,606.3,2.0236,2.0223,2,34.6944,34.7031,2,177.8,177.8,2,-999,9
74JC20171121,SR1b,16,1,4,4,2,20171202,56,-61.60001,-64.49991,3706,456.2,2.1048,2.1017,2,34.6507,34.6494,2,173.4,173.1,2,-999,9
74JC20171121,SR1b,16,1,5,5,2,20171202,56,-61.60001,-64.49991,3706,306.7,2.1298,2.1256,2,34.5704,34.5683,2,174.2,173.1,2,-999,9
74JC20171121,SR1b,16,1,6,6,2,20171202,56,-61.60001,-64.49991,3706,44.2,-0.7353,-0.733,2,33.7372,33.7443,2,361.4,359.3,2,-999,9
74JC20171121,SR1b,17,1,1,1,2,20171202,519,-61.3667,-63.53325,3548,1014.8,1.6208,1.618,2,34.7269,33.7776,3,189.3,188.8,2,-999,9
74JC20171121,SR1b,17,1,2,2,2,20171202,519,-61.3667,-63.53325,3548,558.7,1.9954,1.994,2,34.6897,34.6895,2,177.5,177,2,-999,9
74JC20171121,SR1b,17,1,3,3,2,20171202,519,-61.3667,-63.53325,3548,305,2.1307,2.1259,2,34.6232,34.6231,2,172.9,172.1,2,-999,9
74JC20171121,SR1b,17,1,4,4,2,20171202,519,-61.3667,-63.53325,3548,183.2,1.9603,1.9549,2,34.4766,34.4762,2,185.2,184.9,2,-999,9
74JC20171121,SR1b,17,1,5,5,2,20171202,519,-61.3667,-63.53325,3548,94.5,-0.8139,-0.8389,2,33.9937,33.9974,2,302.8,300.7,2,-999,9
74JC20171121,SR1b,17,1,6,6,2,20171202,519,-61.3667,-63.53325,3548,44.1,-0.596,-0.5528,2,33.7294,33.737,2,358.1,355.6,2,-999,9
74JC20171121,SR1b,18,1,20,20,2,20171203,416,-63.79986,-66.49951,3194,810.1,1.5127,1.5099,2,34.7288,34.7299,2,190.7,190.6,2,-999,9
74JC20171121,SR1b,18,1,21,21,2,20171203,416,-63.79986,-66.49951,3194,507.8,1.8247,1.8214,2,34.7217,34.7225,2,184.4,183.5,2,-999,9
74JC20171121,SR1b,18,1,22,22,2,20171203,416,-63.79986,-66.49951,3194,154.8,1.9283,1.9265,2,34.5599,34.5604,2,176.9,175.6,2,-999,9
74JC20171121,SR1b,18,1,23,23,2,20171203,416,-63.79986,-66.49951,3194,62.9,-1.4232,-1.4751,2,34.0141,34.0124,2,304.2,303.1,2,-999,9
74JC20171121,SR1b,18,1,24,24,2,20171203,416,-63.79986,-66.49951,3194,34.5,-0.9066,-0.9071,2,33.7855,33.7876,2,349.9,349.1,2,-999,9
74JC20171121,SR1b,19,1,1,1,2,20171210,1116,-66.65002,-69.90001,356,351.9,1.3722,1.3677,2,34.7141,34.715,2,181.9,182,2,-999,9
74JC20171121,SR1b,19,1,2,2,2,20171210,1116,-66.65002,-69.90001,356,352.3,1.3712,1.3679,2,34.7142,-999,9,181.9,-999,9,-999,9
74JC20171121,SR1b,19,1,3,3,2,20171210,1116,-66.65002,-69.90001,356,283.3,1.4078,1.406,2,34.6948,34.6956,2,179.2,176.3,2,-999,9
74JC20171121,SR1b,19,1,4,4,2,20171210,1116,-66.65002,-69.90001,356,163,1.1102,1.0975,2,34.5878,34.5896,2,182.7,182.5,2,-999,9
74JC20171121,SR1b,19,1,5,5,2,20171210,1116,-66.65002,-69.90001,356,162.1,1.1071,1.0961,2,34.587,-999,9,182.9,-999,9,-999,9
74JC20171121,SR1b,19,1,6,6,2,20171210,1116,-66.65002,-69.90001,356,41.3,-1.443,-1.4436,2,33.7736,33.8561,2,330.9,315.8,3,-999,9
74JC20171121,SR1b,19,1,7,7,2,20171210,1116,-66.65002,-69.90001,356,20.9,-1.4249,-1.4271,2,33.7641,33.7745,2,333.9,333,2,-999,9
74JC20171121,SR1b,19,1,8,8,2,20171210,1116,-66.65002,-69.90001,356,5.9,-1.4219,-1.4229,2,33.7631,33.7648,2,334,335.3,2,-999,9
74JC20171121,SR1b,19,1,9,9,2,20171210,1116,-66.65002,-69.90001,356,6.4,-1.4208,-1.4231,2,33.763,-999,9,334.2,-999,9,-999,9
74JC20171121,SR1b,20,1,1,1,2,20171210,1310,-66.70993,-70.13842,476,472.4,1.1671,1.164,2,34.7231,34.7243,2,194.4,195.3,2,-999,9
74JC20171121,SR1b,20,1,2,2,2,20171210,1310,-66.70993,-70.13842,476,472.3,1.1675,1.1644,2,34.723,-999,9,194.6,-999,9,-999,9
74JC20171121,SR1b,20,1,3,3,2,20171210,1310,-66.70993,-70.13842,476,384.8,1.3598,1.3666,2,34.7145,34.7162,2,179,179.8,2,-999,9
74JC20171121,SR1b,20,1,4,4,2,20171210,1310,-66.70993,-70.13842,476,343.7,1.4886,1.5077,2,34.7176,-999,9,182.4,-999,9,-999,9
74JC20171121,SR1b,20,1,5,5,2,20171210,1310,-66.70993,-70.13842,476,343.1,1.5075,1.5244,2,34.7194,34.7179,2,183.1,183.9,2,0.156406963,2
74JC20171121,SR1b,20,1,6,6,2,20171210,1310,-66.70993,-70.13842,476,142.8,0.9229,0.9323,2,34.5484,34.5596,2,183.9,183.1,2,-999,9
74JC20171121,SR1b,20,1,7,7,2,20171210,1310,-66.70993,-70.13842,476,142.5,0.9306,0.9233,2,34.5509,-999,9,184,-999,9,-999,9
74JC20171121,SR1b,20,1,8,8,2,20171210,1310,-66.70993,-70.13842,476,41.7,-1.3977,-1.3971,2,33.776,33.7845,2,329.5,328.8,2,-999,9
74JC20171121,SR1b,20,1,9,9,2,20171210,1310,-66.70993,-70.13842,476,41.5,-1.3935,-1.3971,2,33.7752,-999,9,329.9,-999,9,-999,9
74JC20171121,SR1b,20,1,10,10,2,20171210,1310,-66.70993,-70.13842,476,21.2,-1.3865,-1.3877,2,33.7728,33.7728,2,330.4,331.6,2,-999,9
74JC20171121,SR1b,20,1,11,11,2,20171210,1310,-66.70993,-70.13842,476,6,-1.3667,-1.3692,2,33.7719,-999,9,330.9,-999,9,-999,9
74JC20171121,SR1b,21,1,1,1,2,20171210,1501,-66.78243,-70.48287,611,611.3,1.1587,1.1547,2,34.7212,-999,9,192.7,193.3,2,0.12353695,2
74JC20171121,SR1b,21,1,2,2,2,20171210,1501,-66.78243,-70.48287,611,610.9,1.1582,1.1547,2,34.7211,-999,9,192.6,-999,9,-999,9
74JC20171121,SR1b,21,1,3,3,2,20171210,1501,-66.78243,-70.48287,611,404.6,1.3972,1.3948,2,34.7066,-999,9,178,178.6,2,0.164252611,2
74JC20171121,SR1b,21,1,4,4,2,20171210,1501,-66.78243,-70.48287,611,172.6,1.2752,1.2612,2,34.6307,-999,9,176.2,-999,9,-999,9
74JC20171121,SR1b,21,1,5,5,2,20171210,1501,-66.78243,-70.48287,611,76.6,-1.4961,-1.6126,2,34.0454,-999,9,281,-999,9,-999,9
74JC20171121,SR1b,21,1,6,6,2,20171210,1501,-66.78243,-70.48287,611,20.6,-1.5377,-1.5388,2,33.8055,-999,9,322.1,323.3,2,-999,9
74JC20171121,SR1b,21,1,7,7,2,20171210,1501,-66.78243,-70.48287,611,5.1,-1.4855,-1.4851,2,33.7992,-999,9,324.6,-999,9,-999,9
74JC20171121,SR1b,21,1,8,8,2,20171210,1501,-66.78243,-70.48287,611,5.1,-1.4807,-1.4827,2,33.7986,-999,9,324.6,326.4,2,-0.274141522,2
74JC20171121,SR1b,22,1,1,1,2,20171210,1656,-66.85089,-70.77375,508,505.5,1.3345,1.3337,2,34.7129,34.7226,2,179.1,-999,9,-999,9
74JC20171121,SR1b,22,1,2,2,2,20171210,1656,-66.85089,-70.77375,508,505.1,1.3313,1.3312,2,34.7131,34.7142,2,179.2,178.6,2,0.133350879,6
74JC20171121,SR1b,22,1,3,3,2,20171210,1656,-66.85089,-70.77375,508,354,1.3968,1.3929,2,34.6993,34.7078,2,178.8,178.6,2,-999,9
74JC20171121,SR1b,22,1,4,4,2,20171210,1656,-66.85089,-70.77375,508,182,1.299,1.2845,2,34.6402,-999,9,176.6,-999,9,-999,9
74JC20171121,SR1b,22,1,5,5,2,20171210,1656,-66.85089,-70.77375,508,181.8,1.2904,1.2817,2,34.6371,34.6403,2,176.7,176.5,2,-999,9
74JC20171121,SR1b,22,1,6,6,2,20171210,1656,-66.85089,-70.77375,508,76.1,-1.7524,-1.7757,2,33.996,33.8115,3,278.1,-999,9,-0.247149382,2
74JC20171121,SR1b,22,1,7,7,2,20171210,1656,-66.85089,-70.77375,508,76.5,-1.7653,-1.7787,2,33.9936,34.0082,2,278.4,277.2,2,-999,9
74JC20171121,SR1b,22,1,8,8,2,20171210,1656,-66.85089,-70.77375,508,30.4,-1.479,-1.4767,2,33.794,33.8016,2,317.5,317.9,2,-999,9
74JC20171121,SR1b,22,1,9,9,2,20171210,1656,-66.85089,-70.77375,508,6,-1.4249,-1.4213,2,33.7909,33.7947,2,318.6,319.8,2,-0.282063452,2
74JC20171121,SR1b,22,1,10,10,2,20171210,1656,-66.85089,-70.77375,508,5.6,-1.4197,-1.4137,2,33.7909,-999,9,319.1,-999,9,-999,9
74JC20171121,SR1b,23,1,1,1,2,20171210,1911,-66.94414,-71.0521,476,471.9,1.336,1.3323,2,34.7156,-999,9,177.2,-999,9,-999,9
74JC20171121,SR1b,23,1,2,2,2,20171210,1911,-66.94414,-71.0521,476,472.9,1.335,1.332,2,34.7158,34.717,2,177.2,177,2,0.087547937,2
74JC20171121,SR1b,23,1,3,3,2,20171210,1911,-66.94414,-71.0521,476,353.6,1.4188,1.4179,2,34.7068,34.7073,2,178,178.1,2,-999,9
74JC20171121,SR1b,23,1,4,4,2,20171210,1911,-66.94414,-71.0521,476,202.8,1.437,1.4293,2,34.6673,34.6676,2,175.9,176.8,2,0.132113948,2
74JC20171121,SR1b,23,1,5,5,2,20171210,1911,-66.94414,-71.0521,476,152.2,1.2129,1.2074,2,34.613,-999,9,177,-999,9,-999,9
74JC20171121,SR1b,23,1,6,6,2,20171210,1911,-66.94414,-71.0521,476,61.4,-1.646,-1.6967,2,33.9181,-999,9,277.9,-999,9,-999,9
74JC20171121,SR1b,23,1,7,7,2,20171210,1911,-66.94414,-71.0521,476,61.9,-1.7215,-1.7219,2,33.8974,33.9274,2,279.8,-999,9,-0.245237063,2
74JC20171121,SR1b,23,1,8,8,2,20171210,1911,-66.94414,-71.0521,476,6.4,-1.2699,-1.2534,2,33.7976,33.8029,2,323.7,322.5,2,-0.36207025,2
74JC20171121,SR1b,23,1,9,9,2,20171210,1911,-66.94414,-71.0521,476,6.5,-1.2584,-1.2568,2,33.7973,-999,9,324.4,-999,9,-999,9
74JC20171121,SR1b,24,1,1,1,2,20171211,1847,-66.9745,-70.33668,631,628.1,1.176,1.1734,2,34.721,-999,9,192.3,-999,9,-999,9
74JC20171121,SR1b,24,1,2,2,2,20171211,1847,-66.9745,-70.33668,631,628,1.1756,1.1731,2,34.7209,34.7221,2,192.5,193.2,2,0.099542091,6
74JC20171121,SR1b,24,1,3,3,2,20171211,1847,-66.9745,-70.33668,631,454.9,1.3636,1.3624,2,34.7127,34.7131,2,179.5,180,2,-999,9
74JC20171121,SR1b,24,1,4,4,2,20171211,1847,-66.9745,-70.33668,631,303.9,1.4423,1.4439,2,34.6963,34.6961,2,177.3,177.7,2,-999,9
74JC20171121,SR1b,24,1,5,5,2,20171211,1847,-66.9745,-70.33668,631,152.7,1.1386,1.0967,2,34.5955,34.6008,2,178.1,178.5,2,-999,9
74JC20171121,SR1b,24,1,6,6,2,20171211,1847,-66.9745,-70.33668,631,152.9,1.0716,1.0637,2,34.5831,-999,9,179.2,-999,9,-999,9
74JC20171121,SR1b,24,1,7,7,2,20171211,1847,-66.9745,-70.33668,631,71.9,-1.7808,-1.7989,2,33.8939,-999,9,297.2,-999,9,-0.390106113,6
74JC20171121,SR1b,24,1,8,8,2,20171211,1847,-66.9745,-70.33668,631,41.8,-1.7077,-1.7108,2,33.8467,33.852,2,312.7,312,2,-999,9
74JC20171121,SR1b,24,1,9,9,2,20171211,1847,-66.9745,-70.33668,631,3.4,-1.35,-1.3287,2,33.8327,-999,9,318,-999,9,-0.37996843,6
74JC20171121,SR1b,29,1,1,1,2,20171215,1214,-60.79964,-54.7425,2546,2574.4,0.0783,0.0755,2,34.6658,34.6652,2,226.6,246.5,3,0.021920384,2
74JC20171121,SR1b,29,1,2,2,2,20171215,1214,-60.79964,-54.7425,2546,2574.4,0.078,0.0753,2,34.6658,-999,9,226.7,-999,9,-999,9
74JC20171121,SR1b,29,1,3,3,2,20171215,1214,-60.79964,-54.7425,2546,2128.3,0.1272,0.1246,2,34.6697,34.6687,2,223.7,224.9,2,0.044482214,2
74JC20171121,SR1b,29,1,4,4,2,20171215,1214,-60.79964,-54.7425,2546,2128.8,0.1259,0.1237,2,34.6696,-999,9,224.1,-999,9,-999,9
74JC20171121,SR1b,29,1,5,5,2,20171215,1214,-60.79964,-54.7425,2546,1619.2,0.4109,0.4085,2,34.6916,34.6911,2,213.4,214.8,2,0.056080511,2
74JC20171121,SR1b,29,1,6,6,2,20171215,1214,-60.79964,-54.7425,2546,1618.1,0.4107,0.4087,2,34.6917,-999,9,213.5,-999,9,-999,9
74JC20171121,SR1b,29,1,7,7,2,20171215,1214,-60.79964,-54.7425,2546,729.4,1.3134,1.3384,2,34.7177,34.7179,2,195,195.3,2,0.053681295,2
74JC20171121,SR1b,29,1,8,8,2,20171215,1214,-60.79964,-54.7425,2546,678.4,1.4163,1.415,2,34.7257,-999,9,192.2,-999,9,-999,9
74JC20171121,SR1b,29,1,9,9,2,20171215,1214,-60.79964,-54.7425,2546,675.8,1.4161,1.4235,2,34.7258,34.7273,2,192.4,192.9,2,0.020873878,2
74JC20171121,SR1b,29,1,10,10,2,20171215,1214,-60.79964,-54.7425,2546,577.3,1.1545,1.151,2,34.6825,-999,9,203.2,-999,9,-999,9
74JC20171121,SR1b,29,1,11,11,2,20171215,1214,-60.79964,-54.7425,2546,574.5,1.1573,1.17,2,34.6828,34.6813,2,203.1,204.3,2,0.025411833,2
74JC20171121,SR1b,29,1,12,12,2,20171215,1214,-60.79964,-54.7425,2546,559.2,1.2053,1.2105,2,34.6868,-999,9,201.3,-999,9,-999,9
74JC20171121,SR1b,29,1,13,13,2,20171215,1214,-60.79964,-54.7425,2546,517.2,1.445,1.4484,2,34.7026,34.7,2,193,193.9,2,0.144961644,6
74JC20171121,SR1b,29,1,14,14,2,20171215,1214,-60.79964,-54.7425,2546,510.1,1.4589,1.4723,2,34.7035,-999,9,192.4,-999,9,-999,9
74JC20171121,SR1b,29,1,15,15,2,20171215,1214,-60.79964,-54.7425,2546,313.4,0.8043,0.7813,2,34.5772,34.5755,2,224.9,226.5,2,-0.033216537,2
74JC20171121,SR1b,29,1,16,16,2,20171215,1214,-60.79964,-54.7425,2546,114.1,-0.5124,-0.507,2,34.3564,34.3558,2,311.9,312.5,2,-0.049998979,2
74JC20171121,SR1b,29,1,17,17,2,20171215,1214,-60.79964,-54.7425,2546,111.7,-0.5108,-0.4912,2,34.3555,-999,9,312.1,-999,9,-999,9
74JC20171121,SR1b,29,1,18,18,2,20171215,1214,-60.79964,-54.7425,2546,18.5,-0.0811,-0.08,2,34.2708,34.2697,2,334.5,335.9,2,-0.155598285,2
74JC20171121,SR1b,29,1,19,19,2,20171215,1214,-60.79964,-54.7425,2546,17.9,-0.0788,-0.078,2,34.2702,-999,9,335,-999,9,-999,9
74JC20171121,SR1b,30,1,1,1,2,20171215,1704,-60.40296,-54.98571,3458,3509.6,-0.0485,-0.0511,2,34.6565,34.6553,2,233.9,233.1,2,-0.020646973,2
74JC20171121,SR1b,30,1,2,2,2,20171215,1704,-60.40296,-54.98571,3458,3198.7,0.0579,0.0559,2,34.6617,34.6599,2,229.5,231.3,2,-0.072412593,2
74JC20171121,SR1b,30,1,3,3,2,20171215,1704,-60.40296,-54.98571,3458,2788.9,0.1702,0.1681,2,34.6699,34.6691,2,224.2,226.4,2,0.012098583,6
74JC20171121,SR1b,30,1,4,4,2,20171215,1704,-60.40296,-54.98571,3458,2352.2,0.4177,0.4127,2,34.6916,34.6902,2,213.8,215.3,2,0.008325126,2
74JC20171121,SR1b,30,1,5,5,2,20171215,1704,-60.40296,-54.98571,3458,1771.8,0.7923,0.7904,2,34.7125,34.7119,2,203.4,204.9,2,-0.010001448,2
74JC20171121,SR1b,30,1,6,6,2,20171215,1704,-60.40296,-54.98571,3458,1143.8,1.2375,1.236,2,34.7261,34.7256,2,195.6,196.4,2,0.040055435,2
74JC20171121,SR1b,30,1,7,7,2,20171215,1704,-60.40296,-54.98571,3458,505.6,1.8685,1.8667,2,34.7183,34.7166,2,182.8,182.4,2,0.015245846,2
74JC20171121,SR1b,30,1,8,8,2,20171215,1704,-60.40296,-54.98571,3458,265.3,2.0602,2.059,2,34.659,34.6568,2,174.2,173.6,2,0.101389393,2
74JC20171121,SR1b,30,1,9,9,2,20171215,1704,-60.40296,-54.98571,3458,69.2,-0.1203,-0.115,2,34.1781,34.1827,2,272.6,270.2,2,-0.095132525,2
74JC20171121,SR1b,30,1,10,10,2,20171215,1704,-60.40296,-54.98571,3458,33.7,-0.1067,-0.1122,2,33.8692,34.1846,3,352.8,352.9,2,-0.217569721,2