BOTTLE,20221103CCHSIOENA
EXPOCODE,SECT_ID,STNNBR,CASTNO,SAMPNO,BTLNBR,BTLNBR_FLAG_W,DATE,TIME,LATITUDE,LONGITUDE,DEPTH,CTDPRS,CTDTMP,REFTMP,REFTMP_FLAG_W,CTDSAL,SALNTY,SALNTY_FLAG_W,CTDOXY,OXYGEN,OXYGEN_FLAG_W,DELO18,DELO18_FLAG_W
 , , , , , , , , , , , ,DBAR,ITS-90,ITS-90, ,PSS-78,PSS-78, ,UMOL/KG,UMOL/KG, ,/MILLE,
74JC20171121,SR1b,38,1,1,1,2,20171217,1141,-57.09606,-57.02278,3978,4040.8,0.6149,0.6144,2,34.6891,34.6896,2,216.5,215.9,2,0.050059292,2
74JC20171121,SR1b,38,1,2,2,2,20171217,1141,-57.09606,-57.02278,3978,3989,0.6318,0.6301,2,34.6908,34.6915,2,215.7,214,2,0.09265578,2
74JC20171121,SR1b,38,1,3,3,2,20171217,1141,-57.09606,-57.02278,3978,3833.4,0.632,0.6317,2,34.6917,34.6919,2,214.8,213.2,2,0.003740929,2
74JC20171121,SR1b,38,1,4,4,2,20171217,1141,-57.09606,-57.02278,3978,3517.1,0.8324,0.8318,2,34.7052,34.7056,2,207.6,207,2,0.01167905,2
74JC20171121,SR1b,38,1,5,5,2,20171217,1141,-57.09606,-57.02278,3978,3302.7,0.8959,0.8945,2,34.7104,34.7103,2,205.3,204.5,2,0.06944855,6
74JC20171121,SR1b,38,1,6,6,2,20171217,1141,-57.09606,-57.02278,3978,3221.2,0.9049,0.9038,2,34.7109,34.7101,2,205,204.4,2,0.112824638,2
74JC20171121,SR1b,38,1,7,7,2,20171217,1141,-57.09606,-57.02278,3978,3139.8,0.9268,0.9257,2,34.7111,34.7117,2,204.6,204.2,2,0.103004943,2
74JC20171121,SR1b,38,1,8,8,2,20171217,1141,-57.09606,-57.02278,3978,2842.6,1.0168,1.0159,2,34.7145,34.7154,2,202,-999,9,0.121206761,2
74JC20171121,SR1b,38,1,9,9,2,20171217,1141,-57.09606,-57.02278,3978,2792.5,1.0411,1.0402,2,34.7154,34.7153,2,201.7,201.6,2,0.115396536,2
74JC20171121,SR1b,38,1,10,10,2,20171217,1141,-57.09606,-57.02278,3978,2742,1.0669,1.0659,2,34.7164,34.7163,2,201.1,-999,9,0.048304631,2
74JC20171121,SR1b,38,1,11,11,4,20171217,1141,-57.09606,-57.02278,3978,2639.2,1.1228,1.1219,2,34.718,34.7185,2,200,199.9,2,0.041466817,3
74JC20171121,SR1b,38,1,12,12,2,20171217,1141,-57.09606,-57.02278,3978,2343.6,1.2887,1.2888,2,34.7224,34.7234,2,196.3,196.3,2,0.120477083,2
74JC20171121,SR1b,38,1,13,13,2,20171217,1141,-57.09606,-57.02278,3978,1865.4,1.6283,1.631,2,34.7201,34.7218,2,187.1,186.9,2,0.168955424,2
74JC20171121,SR1b,38,1,14,14,2,20171217,1141,-57.09606,-57.02278,3978,1630.3,1.7689,1.7743,2,34.7076,34.7073,2,177.8,177.4,2,0.132297792,2
74JC20171121,SR1b,38,1,15,15,2,20171217,1141,-57.09606,-57.02278,3978,1456.6,1.9033,1.9028,2,34.7009,34.7014,2,175.2,175.2,2,0.106496838,6
74JC20171121,SR1b,38,1,16,16,2,20171217,1141,-57.09606,-57.02278,3978,1178.9,2.1369,2.1375,2,34.6826,34.6818,2,176.5,176.5,2,0.183293025,2
74JC20171121,SR1b,38,1,17,17,2,20171217,1141,-57.09606,-57.02278,3978,935.2,2.3185,2.3178,2,34.6143,34.6147,2,171.8,171.4,2,0.188822176,2
74JC20171121,SR1b,38,1,18,18,2,20171217,1141,-57.09606,-57.02278,3978,445.3,2.8025,2.8014,2,34.3559,34.3566,2,197.9,197.4,2,-0.058047903,2
74JC20171121,SR1b,38,1,19,19,4,20171217,1141,-57.09606,-57.02278,3978,336.3,2.7753,2.7743,2,34.2616,-999,9,222.2,-999,9,-999,9
74JC20171121,SR1b,38,1,20,20,2,20171217,1141,-57.09606,-57.02278,3978,158.3,1.5079,1.4882,2,34.0161,34.0155,2,314.7,315.2,2,-0.082102318,2
74JC20171121,SR1b,38,1,21,21,2,20171217,1141,-57.09606,-57.02278,3978,118.1,1.7039,1.6937,2,34.0168,34.0157,2,315.4,314.6,2,-0.119502268,2
74JC20171121,SR1b,38,1,22,22,2,20171217,1141,-57.09606,-57.02278,3978,78.5,2.3557,2.3205,2,33.9361,33.9312,2,328.8,329.6,2,-0.090469983,2
74JC20171121,SR1b,38,1,23,23,2,20171217,1141,-57.09606,-57.02278,3978,57.1,2.2644,2.2634,2,33.8821,33.883,2,338.4,338.5,2,-0.121932964,2
74JC20171121,SR1b,38,1,24,24,2,20171217,1141,-57.09606,-57.02278,3978,13.8,2.7292,2.7588,2,33.8524,33.852,2,338.2,338.9,2,-0.400891866,2
74JC20171121,SR1b,39,1,1,1,2,20171217,1657,-56.78314,-57.23105,-999,3074.6,1.0805,1.0795,2,34.7139,34.7144,2,202.3,201.4,2,-0.173043039,2
74JC20171121,SR1b,39,1,2,2,2,20171217,1657,-56.78314,-57.23105,-999,3074.4,1.0802,1.0795,2,34.7138,-999,9,202,-999,9,-999,9
74JC20171121,SR1b,39,1,3,3,2,20171217,1657,-56.78314,-57.23105,-999,2942.4,1.161,1.1644,2,34.7173,34.7175,2,200.2,198.9,2,-0.069129446,6
74JC20171121,SR1b,39,1,4,4,2,20171217,1657,-56.78314,-57.23105,-999,2789.9,1.2939,1.2935,2,34.7196,34.7207,2,197.5,195.5,2,-0.028667868,2
74JC20171121,SR1b,39,1,5,5,2,20171217,1657,-56.78314,-57.23105,-999,2788.8,1.2942,1.2952,2,34.7198,-999,9,197.3,-999,9,-999,9
74JC20171121,SR1b,39,1,6,6,2,20171217,1657,-56.78314,-57.23105,-999,2432,1.6199,1.6209,2,34.7209,34.7212,2,188.8,187.3,2,-0.039436595,2
74JC20171121,SR1b,39,1,7,7,2,20171217,1657,-56.78314,-57.23105,-999,2432.4,1.6212,1.6221,2,34.7208,-999,9,188.8,-999,9,-999,9
74JC20171121,SR1b,39,1,8,8,2,20171217,1657,-56.78314,-57.23105,-999,1771.2,2.0095,2.0084,2,34.6925,34.6927,2,174.1,172.7,2,0.00563513,2
74JC20171121,SR1b,39,1,9,9,2,20171217,1657,-56.78314,-57.23105,-999,1059.2,2.4883,2.488,2,34.573,34.576,2,160.8,159.4,2,0.052797668,2
74JC20171121,SR1b,39,1,10,10,2,20171217,1657,-56.78314,-57.23105,-999,359.3,2.8747,2.8812,2,34.1466,34.1474,2,268.1,267.1,2,-0.008209509,2
74JC20171121,SR1b,39,1,11,11,2,20171217,1657,-56.78314,-57.23105,-999,359.6,2.8676,2.8835,2,34.1467,-999,9,268.2,-999,9,-999,9
74JC20171121,SR1b,39,1,12,12,2,20171217,1657,-56.78314,-57.23105,-999,184.2,3.5971,3.5981,2,34.1329,34.1324,2,288.8,287.7,2,0.018205157,2
74JC20171121,SR1b,39,1,13,13,2,20171217,1657,-56.78314,-57.23105,-999,184.9,3.5968,3.5961,2,34.1332,-999,9,288.8,-999,9,-999,9
74JC20171121,SR1b,39,1,14,14,2,20171217,1657,-56.78314,-57.23105,-999,64.4,5.288,5.2993,2,34.1267,34.1261,2,309.6,310.3,2,-0.014618066,2
74JC20171121,SR1b,39,1,15,15,2,20171217,1657,-56.78314,-57.23105,-999,64.5,5.2751,5.3133,2,34.1288,-999,9,309.1,-999,9,-999,9
74JC20171121,SR1b,39,1,16,16,2,20171217,1657,-56.78314,-57.23105,-999,19.7,5.7465,5.7487,2,34.1159,34.1167,2,313.6,313.3,2,-0.172151811,2
74JC20171121,SR1b,39,1,17,17,2,20171217,1657,-56.78314,-57.23105,-999,19.7,5.7481,5.7468,2,34.1157,-999,9,314.2,-999,9,-999,9
74JC20171121,SR1b,40,1,1,1,2,20171217,2129,-56.46225,-57.4171,3694,3750.1,1.0071,1.0059,2,34.7091,34.7095,2,205.9,204.7,2,-0.068907731,2
74JC20171121,SR1b,40,1,2,2,2,20171217,2129,-56.46225,-57.4171,3694,3249.6,1.2433,1.2464,2,34.7175,34.7182,2,199.2,198.7,2,-0.049886542,6
74JC20171121,SR1b,40,1,3,3,2,20171217,2129,-56.46225,-57.4171,3694,2840.5,1.491,1.4903,2,34.7206,34.7205,2,192.9,192.8,2,-0.045510712,2
74JC20171121,SR1b,40,1,4,4,2,20171217,2129,-56.46225,-57.4171,3694,2331.7,1.8734,1.8729,2,34.7048,34.7052,2,177.8,177.5,2,0.068769951,2
74JC20171121,SR1b,40,1,5,5,2,20171217,2129,-56.46225,-57.4171,3694,2024.5,1.9702,1.9695,2,34.6915,34.691,2,172.4,171.8,2,0.028148817,2
74JC20171121,SR1b,40,1,6,6,2,20171217,2129,-56.46225,-57.4171,3694,1760.3,2.0703,2.0693,2,34.678,34.6783,2,170,169.6,2,0.073882155,2
74JC20171121,SR1b,40,1,7,7,2,20171217,2129,-56.46225,-57.4171,3694,1313.7,2.3945,2.395,2,34.6051,34.6049,2,165.9,165.3,2,0.180814567,2
74JC20171121,SR1b,40,1,8,8,2,20171217,2129,-56.46225,-57.4171,3694,646.4,3.109,3.1391,2,34.232,34.233,2,233.3,233.7,2,0.086489991,2
74JC20171121,SR1b,40,1,9,9,2,20171217,2129,-56.46225,-57.4171,3694,406,3.8968,3.8955,2,34.1694,34.2093,2,273.2,273.2,2,0.070697973,2
74JC20171121,SR1b,40,1,10,10,2,20171217,2129,-56.46225,-57.4171,3694,130,5.047,5.0458,2,34.1855,34.185,2,292.2,291.8,2,0.068382765,2
74JC20171121,SR1b,40,1,11,11,2,20171217,2129,-56.46225,-57.4171,3694,49.9,5.3861,5.389,2,34.1608,34.1597,2,297.3,296.7,2,0.198134066,2
74JC20171121,SR1b,40,1,12,12,2,20171217,2129,-56.46225,-57.4171,3694,30.3,5.7634,5.7589,2,34.1513,34.1476,2,308,308.8,2,0.042013117,6
74JC20171121,SR1b,41,1,1,1,2,20171218,221,-56.14995,-57.62433,3394,3445.9,1.2842,1.278,2,34.7179,34.7176,2,198.9,198.3,2,0.074512659,2
74JC20171121,SR1b,41,1,2,2,2,20171218,221,-56.14995,-57.62433,3394,3446.8,1.2815,1.2831,2,34.7178,-999,9,198.8,-999,9,-999,9
74JC20171121,SR1b,41,1,3,3,2,20171218,221,-56.14995,-57.62433,3394,3079.3,1.433,1.4327,2,34.7209,34.721,2,194.8,193.9,2,0.081266676,2
74JC20171121,SR1b,41,1,4,4,2,20171218,221,-56.14995,-57.62433,3394,3080.2,1.4334,1.4326,2,34.7208,-999,9,194.7,-999,9,-999,9
74JC20171121,SR1b,41,1,5,5,2,20171218,221,-56.14995,-57.62433,3394,2793,1.6938,1.6978,2,34.7199,34.7212,2,187.8,191.8,2,0.130346594,2
74JC20171121,SR1b,41,1,6,6,2,20171218,221,-56.14995,-57.62433,3394,2078.3,2.0998,2.1002,2,34.684,34.6845,2,172,171.1,2,0.189465218,2
74JC20171121,SR1b,41,1,7,7,2,20171218,221,-56.14995,-57.62433,3394,1774.1,2.2222,2.2229,2,34.6442,34.6451,2,160.5,159,2,0.203643407,2
74JC20171121,SR1b,41,1,8,8,2,20171218,221,-56.14995,-57.62433,3394,1775,2.2228,2.223,2,34.6442,-999,9,160.8,-999,9,-999,9
74JC20171121,SR1b,41,1,9,9,2,20171218,221,-56.14995,-57.62433,3394,1217,2.8013,2.8031,2,34.4806,34.4826,2,169.6,168.1,2,0.012243976,2
74JC20171121,SR1b,41,1,10,10,2,20171218,221,-56.14995,-57.62433,3394,533.9,4.0193,4.0192,2,34.1682,34.1701,2,275.9,275.6,2,-0.054684446,6
74JC20171121,SR1b,41,1,11,11,2,20171218,221,-56.14995,-57.62433,3394,532.6,4.0221,4.0959,2,34.1686,-999,9,275.5,-999,9,-999,9
74JC20171121,SR1b,41,1,12,12,2,20171218,221,-56.14995,-57.62433,3394,103.2,5.4995,5.5022,2,34.1622,34.1614,2,304.3,302.2,2,-0.038075332,6
74JC20171121,SR1b,41,1,13,13,2,20171218,221,-56.14995,-57.62433,3394,57.2,5.6215,5.6456,2,34.1568,34.1566,2,307.5,305.9,2,-0.056776708,2
74JC20171121,SR1b,41,1,14,14,2,20171218,221,-56.14995,-57.62433,3394,56.8,5.6469,5.6693,2,34.1569,-999,9,308.5,-999,9,-999,9
74JC20171121,SR1b,41,1,15,15,2,20171218,221,-56.14995,-57.62433,3394,29.4,5.9724,5.9677,2,34.1544,34.1602,2,315.7,313.7,2,-0.047034166,2
74JC20171121,SR1b,41,1,16,16,2,20171218,221,-56.14995,-57.62433,3394,29,5.9811,5.9834,2,34.1547,-999,9,318.1,-999,9,-999,9
74JC20171121,SR1b,41,1,17,17,2,20171218,221,-56.14995,-57.62433,3394,12.8,5.9806,5.9794,2,34.1544,-999,9,314.4,-999,9,-999,9
74JC20171121,SR1b,42,1,1,1,2,20171218,724,-55.83338,-57.82026,4740,4829.5,0.4879,0.4873,2,34.6741,34.6755,2,223.7,221.8,2,-0.069429506,2
74JC20171121,SR1b,42,1,2,2,2,20171218,724,-55.83338,-57.82026,4740,4778.2,0.4851,0.4861,2,34.6744,34.6754,2,223.7,220.4,2,0.036091708,2
74JC20171121,SR1b,42,1,3,3,2,20171218,724,-55.83338,-57.82026,4740,4398.4,0.7278,0.7272,2,34.6913,34.6917,2,215.1,212.3,2,0.034721447,2
74JC20171121,SR1b,42,1,4,4,2,20171218,724,-55.83338,-57.82026,4740,3958,0.9105,0.9097,2,34.7038,34.7048,2,207.7,206.1,2,0.147127309,2
74JC20171121,SR1b,42,1,5,5,2,20171218,724,-55.83338,-57.82026,4740,3219.8,1.5132,1.514,2,34.7211,34.7218,2,192.8,191.7,2,0.274762172,2
74JC20171121,SR1b,42,1,6,6,2,20171218,724,-55.83338,-57.82026,4740,2820.9,1.7524,1.7541,2,34.717,34.7174,2,184.8,184.2,2,0.054228272,6
74JC20171121,SR1b,42,1,7,7,2,20171218,724,-55.83338,-57.82026,4740,2433.1,2.0069,2.0059,2,34.6955,34.6968,2,173.3,-999,9,0.135982326,6
74JC20171121,SR1b,42,1,8,8,2,20171218,724,-55.83338,-57.82026,4740,2320.5,2.0817,2.0829,2,34.6924,34.6939,2,174.3,-999,9,-0.118135481,2
74JC20171121,SR1b,42,1,9,9,2,20171218,724,-55.83338,-57.82026,4740,1877.3,2.3425,2.3449,2,34.6242,34.6253,2,161.5,-999,9,-0.113809958,2
74JC20171121,SR1b,42,1,10,10,2,20171218,724,-55.83338,-57.82026,4740,1435,2.6975,2.6985,2,34.5122,-999,9,168.8,-999,9,-999,9
74JC20171121,SR1b,42,1,11,11,2,20171218,724,-55.83338,-57.82026,4740,989.4,3.466,3.4659,2,34.2908,34.2955,2,212.5,-999,9,-0.090270457,2
74JC20171121,SR1b,42,1,12,12,2,20171218,724,-55.83338,-57.82026,4740,706,4.1223,4.134,2,34.1786,34.1818,2,268,-999,9,-0.128661806,2
74JC20171121,SR1b,42,1,13,13,2,20171218,724,-55.83338,-57.82026,4740,296.6,5.1534,5.1535,2,34.1657,34.1659,2,290,-999,9,0.028401156,2
74JC20171121,SR1b,42,1,14,14,2,20171218,724,-55.83338,-57.82026,4740,107.6,6.0512,6.0947,2,34.0372,34.0372,2,304.3,-999,9,-0.033035127,2
74JC20171121,SR1b,42,1,15,15,2,20171218,724,-55.83338,-57.82026,4740,72.6,6.2475,6.25,2,34.0235,34.0234,2,306.4,-999,9,0.029399702,2
74JC20171121,SR1b,42,1,16,16,2,20171218,724,-55.83338,-57.82026,4740,15.1,7.037,7.0363,2,33.919,33.9206,2,307.5,-999,9,0.058592499,2
74JC20171121,SR1b,43,1,1,1,2,20171218,1734,-55.5166,-57.98332,4215,4285.3,0.6705,-999,9,34.6883,34.6904,2,216.3,-999,9,0.146865386,2
74JC20171121,SR1b,43,1,2,2,2,20171218,1734,-55.5166,-57.98332,4215,4285.9,0.6717,-999,9,34.6886,-999,9,215.6,-999,9,-999,9
74JC20171121,SR1b,43,1,3,3,2,20171218,1734,-55.5166,-57.98332,4215,3657.5,1.2232,-999,9,34.7161,34.7174,2,200.1,-999,9,0.059556954,6
74JC20171121,SR1b,43,1,4,4,2,20171218,1734,-55.5166,-57.98332,4215,3146.9,1.6097,-999,9,34.7213,-999,9,190.5,-999,9,-999,9
74JC20171121,SR1b,43,1,5,5,2,20171218,1734,-55.5166,-57.98332,4215,3148.6,1.6105,-999,9,34.7213,34.7219,2,190.7,-999,9,0.133195441,2
74JC20171121,SR1b,43,1,6,6,2,20171218,1734,-55.5166,-57.98332,4215,2787.6,1.8398,-999,9,34.7128,34.7146,2,181.5,-999,9,0.241253761,2
74JC20171121,SR1b,43,1,7,7,2,20171218,1734,-55.5166,-57.98332,4215,1843.6,2.4708,-999,9,34.5934,34.5952,2,164.5,-999,9,0.235627105,2
74JC20171121,SR1b,43,1,8,8,2,20171218,1734,-55.5166,-57.98332,4215,1773.5,2.5055,-999,9,34.582,34.5846,2,164,-999,9,-0.157996429,2
74JC20171121,SR1b,43,1,9,9,2,20171218,1734,-55.5166,-57.98332,4215,1773.6,2.5031,-999,9,34.5827,-999,9,164.1,-999,9,-999,9
74JC20171121,SR1b,43,1,10,10,2,20171218,1734,-55.5166,-57.98332,4215,1215.8,3.2932,-999,9,34.343,34.3482,2,198,-999,9,-0.213275013,2
74JC20171121,SR1b,43,1,11,11,2,20171218,1734,-55.5166,-57.98332,4215,811.3,4.2534,-999,9,34.1757,34.1653,2,270.7,-999,9,-0.164871165,2
74JC20171121,SR1b,43,1,12,12,2,20171218,1734,-55.5166,-57.98332,4215,408.2,5.0982,-999,9,34.1556,34.1605,2,288.2,-999,9,-0.158923779,2
74JC20171121,SR1b,43,1,13,13,2,20171218,1734,-55.5166,-57.98332,4215,257.1,5.4511,-999,9,34.0507,34.0514,2,296,-999,9,-0.139208401,2
74JC20171121,SR1b,43,1,14,14,2,20171218,1734,-55.5166,-57.98332,4215,256,5.4495,-999,9,34.0513,-999,9,295.9,-999,9,-999,9
74JC20171121,SR1b,43,1,15,15,2,20171218,1734,-55.5166,-57.98332,4215,65.9,7.26,-999,9,33.5467,33.5545,2,296.1,-999,9,-0.233695174,6
74JC20171121,SR1b,43,1,16,16,2,20171218,1734,-55.5166,-57.98332,4215,65.3,7.2553,-999,9,33.5484,-999,9,296,-999,9,-999,9
74JC20171121,SR1b,43,1,17,17,2,20171218,1734,-55.5166,-57.98332,4215,15.9,7.5143,-999,9,33.5247,33.5251,2,304.6,-999,9,-0.174636,2
74JC20171121,SR1b,43,1,18,18,2,20171218,1734,-55.5166,-57.98332,4215,14.6,7.5122,-999,9,33.5247,-999,9,304.1,-999,9,-999,9