BOTTLE,20221103CCHSIOENA
EXPOCODE,SECT_ID,STNNBR,CASTNO,SAMPNO,BTLNBR,BTLNBR_FLAG_W,DATE,TIME,LATITUDE,LONGITUDE,DEPTH,CTDPRS,CTDTMP,REFTMP,REFTMP_FLAG_W,CTDSAL,SALNTY,SALNTY_FLAG_W,CTDOXY,OXYGEN,OXYGEN_FLAG_W,DELO18,DELO18_FLAG_W
 , , , , , , , , , , , ,DBAR,ITS-90,ITS-90, ,PSS-78,PSS-78, ,UMOL/KG,UMOL/KG, ,/MILLE,
74JC20171121,SR1b,31,1,1,1,2,20171215,2215,-59.99978,-55.23792,3500,3552.9,-0.0625,-0.0653,2,34.6556,34.655,2,234.9,237.4,2,-0.015760007,2
74JC20171121,SR1b,31,1,2,2,2,20171215,2215,-59.99978,-55.23792,3500,3550.6,-0.0631,-0.0656,2,34.6556,-999,9,234.9,-999,9,-999,9
74JC20171121,SR1b,31,1,3,3,2,20171215,2215,-59.99978,-55.23792,3500,2836,0.2586,0.2567,2,34.676,34.6747,2,221.2,221.5,2,-0.133131264,2
74JC20171121,SR1b,31,1,4,4,2,20171215,2215,-59.99978,-55.23792,3500,2480.6,0.472,0.4705,2,34.6929,34.6927,2,213.2,232.2,3,-0.09097379,2
74JC20171121,SR1b,31,1,5,5,2,20171215,2215,-59.99978,-55.23792,3500,2474,0.473,0.4716,2,34.6928,-999,9,213.1,-999,9,-999,9
74JC20171121,SR1b,31,1,6,6,2,20171215,2215,-59.99978,-55.23792,3500,2021.6,0.7414,0.7392,2,34.7084,34.7075,2,205.2,205.5,2,-0.04975343,2
74JC20171121,SR1b,31,1,7,7,2,20171215,2215,-59.99978,-55.23792,3500,1515.1,1.0342,1.0336,2,34.7193,34.7186,2,200,199.6,2,-0.028316113,2
74JC20171121,SR1b,31,1,8,8,2,20171215,2215,-59.99978,-55.23792,3500,1008.4,1.4299,1.4286,2,34.7276,34.7271,2,192,192.1,2,0.065843091,2
74JC20171121,SR1b,31,1,9,9,2,20171215,2215,-59.99978,-55.23792,3500,1004.5,1.4333,1.4349,2,34.7278,-999,9,192.1,-999,9,-999,9
74JC20171121,SR1b,31,1,10,10,2,20171215,2215,-59.99978,-55.23792,3500,349,2.0269,2.024,2,34.6666,34.6633,2,175.5,175,2,0.085945634,2
74JC20171121,SR1b,31,1,11,11,2,20171215,2215,-59.99978,-55.23792,3500,208.1,1.9436,1.9439,2,34.58,34.5758,2,177.5,176.9,2,0.086534616,2
74JC20171121,SR1b,31,1,12,12,2,20171215,2215,-59.99978,-55.23792,3500,201.2,1.9552,1.9189,2,34.5805,-999,9,177.6,-999,9,-999,9
74JC20171121,SR1b,31,1,13,13,2,20171215,2215,-59.99978,-55.23792,3500,62.1,-0.4092,-0.4307,2,34.0709,34.0795,2,307.9,306.5,2,-0.124796037,2
74JC20171121,SR1b,31,1,14,14,2,20171215,2215,-59.99978,-55.23792,3500,59.2,-0.4276,-0.5097,2,34.0631,-999,9,314.3,-999,9,-999,9
74JC20171121,SR1b,31,1,15,15,2,20171215,2215,-59.99978,-55.23792,3500,17.3,0.3075,0.2938,2,33.885,33.8838,2,352.6,354,2,-0.16237755,2
74JC20171121,SR1b,31,1,16,16,2,20171215,2215,-59.99978,-55.23792,3500,17.8,0.2948,0.2964,2,33.8843,-999,9,352.6,-999,9,-999,9
74JC20171121,SR1b,32,1,1,1,3,20171216,358,-59.50046,-55.54826,3708,3766.4,0.0605,0.0577,2,34.6599,34.6583,2,231.6,231.4,2,-0.064672009,3
74JC20171121,SR1b,32,1,2,2,2,20171216,358,-59.50046,-55.54826,3708,3718.4,0.0615,0.0601,2,34.6601,34.6571,2,231.2,230.7,2,0.006771915,2
74JC20171121,SR1b,32,1,3,3,2,20171216,358,-59.50046,-55.54826,3708,3434.5,0.1889,0.1883,2,34.6683,34.6663,2,225.6,225.9,2,-0.004428912,6
74JC20171121,SR1b,32,1,4,4,2,20171216,358,-59.50046,-55.54826,3708,3178.8,0.2788,0.2757,2,34.6756,34.6754,2,222.1,221.9,2,0.048089822,2
74JC20171121,SR1b,32,1,5,5,2,20171216,358,-59.50046,-55.54826,3708,3026.9,0.3701,0.368,2,34.6835,34.681,2,218.2,218.6,2,0.035553946,2
74JC20171121,SR1b,32,1,6,6,2,20171216,358,-59.50046,-55.54826,3708,2772.7,0.5505,0.5482,2,34.6998,34.6972,2,211,211.1,2,0.198357126,2
74JC20171121,SR1b,32,1,7,7,2,20171216,358,-59.50046,-55.54826,3708,2620.1,0.6239,0.6217,2,34.7028,34.6999,2,208.7,209.6,2,0.119386888,2
74JC20171121,SR1b,32,1,8,8,2,20171216,358,-59.50046,-55.54826,3708,2316.6,0.7248,0.7229,2,34.7072,34.7054,2,206.2,207.1,2,0.140072828,2
74JC20171121,SR1b,32,1,9,9,2,20171216,358,-59.50046,-55.54826,3708,2013.5,0.8894,0.8879,2,34.7137,34.7122,2,202.8,203.3,2,0.139362957,2
74JC20171121,SR1b,32,1,10,10,2,20171216,358,-59.50046,-55.54826,3708,1810.6,0.9886,0.9876,2,34.7174,34.7154,2,200.4,201.1,2,0.199335416,2
74JC20171121,SR1b,32,1,11,11,2,20171216,358,-59.50046,-55.54826,3708,1608.8,1.1562,1.1578,2,34.7219,34.7214,2,198,198.1,2,0.110907725,2
74JC20171121,SR1b,32,1,12,12,2,20171216,358,-59.50046,-55.54826,3708,1458.6,1.3185,1.3172,2,34.7267,34.725,2,194.7,195.1,2,0.140201712,2
74JC20171121,SR1b,32,1,13,13,2,20171216,358,-59.50046,-55.54826,3708,1207.5,1.529,1.5274,2,34.7287,34.7267,2,190.8,191,2,0.167171349,6
74JC20171121,SR1b,32,1,14,14,2,20171216,358,-59.50046,-55.54826,3708,1057,1.6373,1.6354,2,34.7279,34.7265,2,188.6,188.9,2,0.195844671,2
74JC20171121,SR1b,32,1,15,15,2,20171216,358,-59.50046,-55.54826,3708,705.1,1.944,1.9428,2,34.7078,34.7066,2,180.4,179.8,2,0.223213108,2
74JC20171121,SR1b,32,1,16,16,2,20171216,358,-59.50046,-55.54826,3708,606,2.0201,2.0187,2,34.6927,34.6934,2,177.5,177.3,2,0.356035053,2
74JC20171121,SR1b,32,1,17,17,2,20171216,358,-59.50046,-55.54826,3708,456.4,2.1222,2.1209,2,34.6405,34.6404,2,173.1,172.3,2,0.261487679,2
74JC20171121,SR1b,32,1,18,18,2,20171216,358,-59.50046,-55.54826,3708,305.6,2.1658,2.1643,2,34.5743,34.5736,2,173.3,172.8,2,0.272162885,2
74JC20171121,SR1b,32,1,19,19,2,20171216,358,-59.50046,-55.54826,3708,254.8,2.1456,2.1402,2,34.5406,34.5602,2,175.6,175.4,2,0.17929095,2
74JC20171121,SR1b,32,1,20,20,2,20171216,358,-59.50046,-55.54826,3708,125,1.2646,1.2682,2,34.2721,34.2706,2,228.9,228.4,2,0.090074846,2
74JC20171121,SR1b,32,1,21,21,2,20171216,358,-59.50046,-55.54826,3708,105.7,0.7855,0.7691,2,34.1866,34.1853,2,252.3,252.1,2,-0.044604683,2
74JC20171121,SR1b,32,1,22,22,2,20171216,358,-59.50046,-55.54826,3708,54.4,0.4339,0.4465,2,33.8724,33.8921,2,351.9,351.1,2,-0.224928586,2
74JC20171121,SR1b,32,1,23,23,3,20171216,358,-59.50046,-55.54826,3708,29,0.7109,0.7081,2,33.8333,33.8345,2,349.6,349.4,2,-0.071259415,3
74JC20171121,SR1b,32,1,24,24,2,20171216,358,-59.50046,-55.54826,3708,8.3,0.7079,0.7021,2,33.8334,33.8345,2,348,349.7,2,-0.163102017,2
74JC20171121,SR1b,33,1,1,1,2,20171216,1021,-58.99971,-55.8577,3775,3835.4,0.066,0.0637,2,34.6595,-999,9,231.6,-999,9,-999,9
74JC20171121,SR1b,33,1,2,2,2,20171216,1021,-58.99971,-55.8577,3775,3835.1,0.0612,0.0664,2,34.6592,34.6803,2,231.6,232.5,2,-0.041711876,2
74JC20171121,SR1b,33,1,3,3,2,20171216,1021,-58.99971,-55.8577,3775,3835.3,0.0642,0.0676,2,34.6594,34.6594,2,231.9,-999,9,-999,9
74JC20171121,SR1b,33,1,4,4,2,20171216,1021,-58.99971,-55.8577,3775,3784.4,0.0669,0.0652,2,34.6598,-999,9,231.6,232,2,0.005153918,2
74JC20171121,SR1b,33,1,5,5,2,20171216,1021,-58.99971,-55.8577,3775,3655.6,0.0545,0.0529,2,34.6598,34.6648,2,231.2,231.4,2,0.009516157,2
74JC20171121,SR1b,33,1,6,6,2,20171216,1021,-58.99971,-55.8577,3775,3654.8,0.0548,0.0529,2,34.6598,-999,9,231.4,-999,9,-999,9
74JC20171121,SR1b,33,1,7,7,2,20171216,1021,-58.99971,-55.8577,3775,3429.2,0.0979,0.0968,2,34.663,34.6649,2,229,229,2,0.10645485,2
74JC20171121,SR1b,33,1,8,8,2,20171216,1021,-58.99971,-55.8577,3775,2837.1,0.3242,0.3224,2,34.6803,34.6871,2,219.2,219.6,2,0.123047209,2
74JC20171121,SR1b,33,1,9,9,2,20171216,1021,-58.99971,-55.8577,3775,2155.1,0.6288,0.627,2,34.6957,34.6954,2,210.3,210.8,2,0.166194158,2
74JC20171121,SR1b,33,1,10,10,2,20171216,1021,-58.99971,-55.8577,3775,1556.5,1.0524,1.0473,2,34.7121,34.7129,2,201.4,201.4,2,0.221645514,2
74JC20171121,SR1b,33,1,11,11,2,20171216,1021,-58.99971,-55.8577,3775,960.5,1.5727,1.5701,2,34.7238,34.7242,2,190.2,189.7,2,0.272307537,2
74JC20171121,SR1b,33,1,12,12,2,20171216,1021,-58.99971,-55.8577,3775,275.2,2.0445,2.0425,2,34.6025,34.6024,2,174,174,2,0.134799243,6
74JC20171121,SR1b,33,1,13,13,2,20171216,1021,-58.99971,-55.8577,3775,269.6,2.0453,2.0488,2,34.6017,-999,9,174.3,-999,9,-999,9
74JC20171121,SR1b,33,1,14,14,2,20171216,1021,-58.99971,-55.8577,3775,133.9,-0.2399,-0.2456,2,34.0998,34.1007,2,289.6,289.8,2,-0.102865073,2
74JC20171121,SR1b,33,1,15,15,2,20171216,1021,-58.99971,-55.8577,3775,130.9,-0.2318,-0.2791,2,34.101,-999,9,289.8,-999,9,-999,9
74JC20171121,SR1b,33,1,16,16,2,20171216,1021,-58.99971,-55.8577,3775,43.3,0.7151,0.7135,2,33.9041,33.9041,2,352.5,352.6,2,-0.233875518,2
74JC20171121,SR1b,33,1,17,17,2,20171216,1021,-58.99971,-55.8577,3775,13.3,0.6978,0.6987,2,33.8873,33.8866,2,352.6,352.7,2,-0.137573444,2
74JC20171121,SR1b,33,1,18,18,2,20171216,1021,-58.99971,-55.8577,3775,13.1,0.7029,0.7023,2,33.8882,-999,9,352.7,-999,9,-999,9
74JC20171121,SR1b,34,1,1,1,2,20171216,1559,-58.52656,-56.14821,3775,3834.4,0.0902,0.088,2,34.66,34.6584,2,230.7,231.1,2,0.103844255,2
74JC20171121,SR1b,34,1,2,2,2,20171216,1559,-58.52656,-56.14821,3775,3658.9,0.2006,0.1993,2,34.6669,34.6668,2,226.7,226.2,2,-0.12377063,2
74JC20171121,SR1b,34,1,3,3,2,20171216,1559,-58.52656,-56.14821,3775,3504.2,0.2743,0.2737,2,34.6725,34.6708,2,223.6,222.7,2,-0.081383885,2
74JC20171121,SR1b,34,1,4,4,2,20171216,1559,-58.52656,-56.14821,3775,3351.9,0.3593,0.3594,2,34.6805,34.6822,2,220.1,219.3,2,-0.026751014,2
74JC20171121,SR1b,34,1,5,5,2,20171216,1559,-58.52656,-56.14821,3775,3125.6,0.5031,0.5036,2,34.6942,34.6947,2,213.8,213.6,2,0.012256374,2
74JC20171121,SR1b,34,1,6,6,2,20171216,1559,-58.52656,-56.14821,3775,2941.9,0.5584,0.557,2,34.6991,34.6981,2,211.3,-999,9,-0.019863856,2
74JC20171121,SR1b,34,1,7,7,2,20171216,1559,-58.52656,-56.14821,3775,2808.9,0.5929,0.5916,2,34.7015,34.7006,2,210.1,210.2,2,0.087200055,6
74JC20171121,SR1b,34,1,8,8,2,20171216,1559,-58.52656,-56.14821,3775,2585.1,0.686,0.6857,2,34.7033,34.6951,2,208.5,209,2,0.150531982,2
74JC20171121,SR1b,34,1,9,9,2,20171216,1559,-58.52656,-56.14821,3775,2433.7,0.7699,0.7692,2,34.7085,34.7071,2,205.7,206.2,2,0.071211678,2
74JC20171121,SR1b,34,1,10,10,2,20171216,1559,-58.52656,-56.14821,3775,2330.7,0.827,0.8262,2,34.711,34.7133,2,204.8,204.7,2,0.10680364,2
74JC20171121,SR1b,34,1,11,11,2,20171216,1559,-58.52656,-56.14821,3775,2177.9,0.9421,0.942,2,34.7148,34.7152,2,202.5,202.8,2,0.110231713,2
74JC20171121,SR1b,34,1,12,12,2,20171216,1559,-58.52656,-56.14821,3775,2025.2,1.0441,1.0428,2,34.7183,34.7191,2,200.5,-999,9,0.11480049,2
74JC20171121,SR1b,34,1,13,13,2,20171216,1559,-58.52656,-56.14821,3775,1820.8,1.1611,1.1617,2,34.7211,34.7212,2,198,198.2,2,-0.00627076,2
74JC20171121,SR1b,34,1,14,14,2,20171216,1559,-58.52656,-56.14821,3775,1577.4,1.3598,1.3605,2,34.724,34.7229,2,194.4,194.6,2,0.046323835,2
74JC20171121,SR1b,34,1,15,15,2,20171216,1559,-58.52656,-56.14821,3775,1416.6,1.5287,1.5275,2,34.7273,34.7266,2,190.7,190.8,2,0.077575535,2
74JC20171121,SR1b,34,1,16,16,2,20171216,1559,-58.52656,-56.14821,3775,1212.6,1.7144,1.7146,2,34.7273,34.7268,2,187.6,-999,9,0.07512012,2
74JC20171121,SR1b,34,1,17,17,2,20171216,1559,-58.52656,-56.14821,3775,959.8,1.9316,1.9325,2,34.7127,34.7157,2,181.8,181.6,2,0.236763602,6
74JC20171121,SR1b,34,1,18,18,2,20171216,1559,-58.52656,-56.14821,3775,808.9,2.0557,2.055,2,34.6884,34.6885,2,177.1,176.8,2,0.157370837,2
74JC20171121,SR1b,34,1,19,19,2,20171216,1559,-58.52656,-56.14821,3775,567.5,2.2675,2.2675,2,34.6139,34.6136,2,171.9,171.7,2,0.18778,2
74JC20171121,SR1b,34,1,20,20,2,20171216,1559,-58.52656,-56.14821,3775,476,2.3418,2.3393,2,34.5686,34.5685,2,172.1,171.5,2,0.171390634,2
74JC20171121,SR1b,34,1,21,21,2,20171216,1559,-58.52656,-56.14821,3775,304.6,2.3554,2.3532,2,34.4204,34.4178,2,186.6,-999,9,0.120523425,2
74JC20171121,SR1b,34,1,22,22,2,20171216,1559,-58.52656,-56.14821,3775,98.3,-0.5298,-0.526,2,33.8816,33.8807,2,335.7,336.4,2,-0.18489591,2
74JC20171121,SR1b,34,1,23,23,2,20171216,1559,-58.52656,-56.14821,3775,73.8,0.7231,0.8042,2,33.7977,33.7983,2,348.8,349.9,2,-0.298113514,2
74JC20171121,SR1b,34,1,24,24,2,20171216,1559,-58.52656,-56.14821,3775,18.3,1.146,1.1464,2,33.7911,33.7911,2,349.9,350.6,2,-0.372189782,2
74JC20171121,SR1b,35,1,1,1,2,20171216,2143,-58.0497,-56.44647,3966,4031.9,0.1398,0.1379,2,34.6614,34.6604,2,230.4,230.6,2,-0.109555905,2
74JC20171121,SR1b,35,1,2,2,2,20171216,2143,-58.0497,-56.44647,3966,4032.5,0.1396,0.1379,2,34.6613,-999,9,229.7,-999,9,-999,9
74JC20171121,SR1b,35,1,3,3,2,20171216,2143,-58.0497,-56.44647,3966,3998.6,0.1358,0.134,2,34.6612,34.6608,2,230.1,230.6,2,-0.156429917,2
74JC20171121,SR1b,35,1,4,4,2,20171216,2143,-58.0497,-56.44647,3966,3991.6,0.1351,0.1343,2,34.6612,-999,9,230.7,-999,9,-999,9
74JC20171121,SR1b,35,1,5,5,2,20171216,2143,-58.0497,-56.44647,3966,3167.8,0.4781,0.483,2,34.6876,34.6854,2,215.9,216.4,2,-0.044853395,2
74JC20171121,SR1b,35,1,6,6,2,20171216,2143,-58.0497,-56.44647,3966,2791.1,0.6974,0.6954,2,34.702,34.6996,2,209.1,-999,9,-0.051240691,6
74JC20171121,SR1b,35,1,7,7,2,20171216,2143,-58.0497,-56.44647,3966,2786.9,0.6967,0.6962,2,34.702,-999,9,209.3,-999,9,-999,9
74JC20171121,SR1b,35,1,8,8,2,20171216,2143,-58.0497,-56.44647,3966,2230.5,0.9678,0.967,2,34.714,34.7123,2,202.2,202.2,2,0.107894773,2
74JC20171121,SR1b,35,1,9,9,2,20171216,2143,-58.0497,-56.44647,3966,1772.3,1.2794,1.2786,2,34.7247,34.7205,2,195.8,-999,9,0.14063536,2
74JC20171121,SR1b,35,1,10,10,2,20171216,2143,-58.0497,-56.44647,3966,1418.2,1.5351,1.5336,2,34.7256,34.722,2,190.1,189.9,2,0.177215254,2
74JC20171121,SR1b,35,1,11,11,2,20171216,2143,-58.0497,-56.44647,3966,582.6,2.1582,2.1571,2,34.6238,34.6226,2,172.8,172.1,2,0.127965741,2
74JC20171121,SR1b,35,1,12,12,2,20171216,2143,-58.0497,-56.44647,3966,541.6,2.1916,2.1933,2,34.6111,-999,9,172.6,-999,9,-999,9
74JC20171121,SR1b,35,1,13,13,2,20171216,2143,-58.0497,-56.44647,3966,279.9,2.2683,2.263,2,34.4164,34.4148,2,188.9,188.3,2,0.182608152,2
74JC20171121,SR1b,35,1,14,14,2,20171216,2143,-58.0497,-56.44647,3966,249.3,2.1527,2.1486,2,34.3767,-999,9,197.1,-999,9,-999,9
74JC20171121,SR1b,35,1,15,15,2,20171216,2143,-58.0497,-56.44647,3966,124.1,-0.5444,-0.569,2,33.9327,33.9287,2,326,326,2,-0.090469688,2
74JC20171121,SR1b,35,1,16,16,2,20171216,2143,-58.0497,-56.44647,3966,69.2,0.859,0.8701,2,33.804,33.7988,2,349.2,349.8,2,-0.155983394,2
74JC20171121,SR1b,35,1,17,17,2,20171216,2143,-58.0497,-56.44647,3966,68.9,0.8302,0.8184,2,33.8041,-999,9,349.4,-999,9,-999,9
74JC20171121,SR1b,35,1,18,18,2,20171216,2143,-58.0497,-56.44647,3966,13.5,1.1337,1.1357,2,33.8036,33.8012,2,347,348.3,2,-0.146607182,2
74JC20171121,SR1b,35,1,19,19,2,20171216,2143,-58.0497,-56.44647,3966,13.4,1.1143,1.1055,2,33.8041,-999,9,347.2,-999,9,-999,9
74JC20171121,SR1b,36,1,1,1,2,20171217,228,-57.73315,-56.64399,3476,3529,0.2265,0.2245,2,34.6686,34.6677,2,226.1,226.2,2,0.065886248,2
74JC20171121,SR1b,36,1,2,2,2,20171217,228,-57.73315,-56.64399,3476,3365.6,0.2756,0.2756,2,34.6723,34.6718,2,223.5,223.5,2,0.09987386,2
74JC20171121,SR1b,36,1,3,3,2,20171217,228,-57.73315,-56.64399,3476,3212,0.346,0.3465,2,34.678,34.6777,2,220.4,223.9,2,0.062307014,6
74JC20171121,SR1b,36,1,4,4,2,20171217,228,-57.73315,-56.64399,3476,2955.9,0.4948,0.4954,2,34.6881,34.6871,2,215.4,215,2,0.070923616,2
74JC20171121,SR1b,36,1,5,5,2,20171217,228,-57.73315,-56.64399,3476,2824.3,0.5857,0.5855,2,34.6954,34.6929,2,212.2,211.9,2,0.087001201,2
74JC20171121,SR1b,36,1,6,6,2,20171217,228,-57.73315,-56.64399,3476,2670.7,0.6665,0.6684,2,34.7001,34.6967,2,209.8,-999,9,0.007417657,2
74JC20171121,SR1b,36,1,7,7,2,20171217,228,-57.73315,-56.64399,3476,2527.1,0.7454,0.7454,2,34.7041,34.7012,2,207.6,207.5,2,0.019933901,2
74JC20171121,SR1b,36,1,8,8,2,20171217,228,-57.73315,-56.64399,3476,2375.6,0.8132,0.8113,2,34.707,34.7064,2,205.9,206.4,2,0.029951171,2
74JC20171121,SR1b,36,1,9,9,2,20171217,228,-57.73315,-56.64399,3476,2232.1,0.8895,0.8904,2,34.7105,34.7096,2,204,204.1,2,0.058617441,2
74JC20171121,SR1b,36,1,10,10,2,20171217,228,-57.73315,-56.64399,3476,2059.7,0.9917,0.9962,2,34.7139,34.7092,2,201.8,202.2,2,0.039545809,2
74JC20171121,SR1b,36,1,11,11,2,20171217,228,-57.73315,-56.64399,3476,1805.1,1.1725,1.1728,2,34.7199,34.7173,2,198.5,-999,9,0.086059125,6
74JC20171121,SR1b,36,1,12,12,2,20171217,228,-57.73315,-56.64399,3476,1662.9,1.2655,1.2653,2,34.7225,34.7168,2,196.2,196.3,2,0.03919107,2
74JC20171121,SR1b,36,1,13,13,2,20171217,228,-57.73315,-56.64399,3476,1521.5,1.3694,1.3684,2,34.7245,34.7244,2,194.1,194.6,2,0.118909211,2
74JC20171121,SR1b,36,1,14,14,2,20171217,228,-57.73315,-56.64399,3476,1379.1,1.4931,1.4935,2,34.7262,34.7253,2,191.6,192.1,2,0.117395836,2
74JC20171121,SR1b,36,1,15,15,2,20171217,228,-57.73315,-56.64399,3476,1195.6,1.6627,1.6619,2,34.7248,34.7232,2,188.1,188.1,2,0.129169775,2
74JC20171121,SR1b,36,1,16,16,2,20171217,228,-57.73315,-56.64399,3476,1044.3,1.7921,1.7918,2,34.7208,34.7206,2,185,185.1,2,0.115805499,2
74JC20171121,SR1b,36,1,17,17,2,20171217,228,-57.73315,-56.64399,3476,892.5,1.9152,1.9153,2,34.7118,34.7058,2,181.8,-999,9,0.058287297,2
74JC20171121,SR1b,36,1,18,18,2,20171217,228,-57.73315,-56.64399,3476,710.9,2.0227,2.0255,2,34.6873,34.686,2,178,177.8,2,0.027284088,2
74JC20171121,SR1b,36,1,19,19,4,20171217,228,-57.73315,-56.64399,3476,559.4,2.0799,2.0784,2,34.6394,34.6385,2,173.7,-999,9,0.071397065,3
74JC20171121,SR1b,36,1,20,20,2,20171217,228,-57.73315,-56.64399,3476,408.1,2.0891,2.0856,2,34.5619,34.5565,2,175.9,175.3,2,-0.006427052,2
74JC20171121,SR1b,36,1,21,21,2,20171217,228,-57.73315,-56.64399,3476,227,1.6042,1.592,2,34.3122,34.3101,2,216.5,215.7,2,-0.012136499,6
74JC20171121,SR1b,36,1,22,22,2,20171217,228,-57.73315,-56.64399,3476,115.8,-0.5705,-0.5575,2,33.8987,33.9044,2,340.1,-999,9,-0.154964253,2
74JC20171121,SR1b,36,1,23,23,2,20171217,228,-57.73315,-56.64399,3476,86.1,-0.3155,-0.1968,2,33.8526,33.8496,2,349.7,349.5,2,-0.203240507,2
74JC20171121,SR1b,36,1,24,24,2,20171217,228,-57.73315,-56.64399,3476,25.4,1.1245,1.1325,2,33.8006,33.7961,2,350.2,350,2,-0.227358331,2
74JC20171121,SR1b,37,1,1,1,2,20171217,711,-57.416,-56.83978,3462,3516.3,0.5387,0.5358,2,34.6904,34.69,2,215.6,215.5,2,0.018974791,2
74JC20171121,SR1b,37,1,2,2,2,20171217,711,-57.416,-56.83978,3462,3515.3,0.5367,0.544,2,34.6902,-999,9,215.4,-999,9,-999,9
74JC20171121,SR1b,37,1,3,3,2,20171217,711,-57.416,-56.83978,3462,3465.7,0.5596,0.5586,2,34.692,34.6918,2,214.8,213.9,2,0.029835342,2
74JC20171121,SR1b,37,1,4,4,2,20171217,711,-57.416,-56.83978,3462,3464.5,0.5597,0.5582,2,34.692,-999,9,214.5,-999,9,-999,9
74JC20171121,SR1b,37,1,5,5,2,20171217,711,-57.416,-56.83978,3462,3308.5,0.6322,0.6365,2,34.698,34.6958,2,211.7,211.4,2,0.086323197,2
74JC20171121,SR1b,37,1,6,6,2,20171217,711,-57.416,-56.83978,3462,3308.1,0.6354,0.6415,2,34.6983,-999,9,211.5,-999,9,-999,9
74JC20171121,SR1b,37,1,7,7,2,20171217,711,-57.416,-56.83978,3462,2737,0.7699,0.7687,2,34.7076,34.7059,2,206.3,206.2,2,0.127747249,2
74JC20171121,SR1b,37,1,8,8,2,20171217,711,-57.416,-56.83978,3462,1443.2,1.5635,1.5632,2,34.727,34.7273,2,190.7,190.2,2,0.222381235,2
74JC20171121,SR1b,37,1,9,9,2,20171217,711,-57.416,-56.83978,3462,1109.1,1.8457,1.8445,2,34.7199,34.7194,2,184.7,184,2,0.234392372,2
74JC20171121,SR1b,37,1,10,10,2,20171217,711,-57.416,-56.83978,3462,524,2.2722,2.2705,2,34.5893,34.5901,2,172.5,171.6,2,0.190586504,6
74JC20171121,SR1b,37,1,11,11,2,20171217,711,-57.416,-56.83978,3462,313.8,2.2824,2.2817,2,34.4363,34.4357,2,185.9,184.7,2,0.205417132,6
74JC20171121,SR1b,37,1,12,12,2,20171217,711,-57.416,-56.83978,3462,314.2,2.2823,2.2816,2,34.4362,-999,9,185.8,-999,9,-999,9
74JC20171121,SR1b,37,1,13,13,2,20171217,711,-57.416,-56.83978,3462,250,2.0403,2.0377,2,34.3469,34.346,2,204.2,203.6,2,0.130029175,2
74JC20171121,SR1b,37,1,14,14,2,20171217,711,-57.416,-56.83978,3462,116.4,-1.1123,-1.1228,2,33.8885,33.8871,2,335.1,335.1,2,-0.174535824,2
74JC20171121,SR1b,37,1,15,15,2,20171217,711,-57.416,-56.83978,3462,116.3,-1.1025,-1.1189,2,33.8908,-999,9,333.5,-999,9,-999,9
74JC20171121,SR1b,37,1,16,16,2,20171217,711,-57.416,-56.83978,3462,66.8,0.2053,0.2794,2,33.7781,33.7799,2,353.6,353,2,-0.207877399,2
74JC20171121,SR1b,37,1,17,17,2,20171217,711,-57.416,-56.83978,3462,66.8,0.2139,0.256,2,33.779,-999,9,353.3,-999,9,-999,9
74JC20171121,SR1b,37,1,18,18,2,20171217,711,-57.416,-56.83978,3462,15.9,1.1515,1.1607,2,33.7917,33.7924,2,348,349.3,2,-0.193451809,2
74JC20171121,SR1b,37,1,19,19,2,20171217,711,-57.416,-56.83978,3462,16.2,1.1578,1.154,2,33.7922,-999,9,348.5,-999,9,-999,9