BOTTLE,20221103CCHSIOENA
# changed SBE35 and SBE35_FLAG_W to REFTMP and REFTMP_FLAG_W
# BOTTLE,20221024CCHSIOENA 
# BOTTLE,20200115OCPNOCYLF
#SHIP: James Clark Ross
#Cruise JR17001; SR1B
#Region: Western Antarctic Peninsula and Drake Passage
#EXPOCODE: 74JC20171121
#DATES: 20171121 - 20161221
#Chief Scientist: D. Barnes, BAS
#Supported by NERC National Capability NE/N018095/1 (ORCHESTRA) and NERC/CONICYT NE/P003087/1 (ICEBERGS)
#44 stations with 24-place rosette
#CTD: Who - Y. Firing; Status - final
#Notes: Includes CTDSAL, CTDOXY, SBE35 (REFTMP)
#The CTD PRS;  TMP;  SAL; OXY data are all calibrated and good.
# DEPTH_TYPE   : COR
#Salinity: Who - Y. Firing; Status - final
#Notes: 
#Oxygen: Who - Y. Firing; Status - final
#Notes:
#DELO18: Who - M. Leng, M. Meredith; Status - final
#Notes:
#These data should be acknowledged with: ""Data were collected and made publicly available by the International Global Ship-based Hydrographic Investigations Program (GO-SHIP; http://www.go-ship.org/) with National Capability funding from the UK Natural Environment Research Council to the National Oceanography Centre.""",,,,,,,,,,,,,,,,,,,,,,,
EXPOCODE,SECT_ID,STNNBR,CASTNO,SAMPNO,BTLNBR,BTLNBR_FLAG_W,DATE,TIME,LATITUDE,LONGITUDE,DEPTH,CTDPRS,CTDTMP,REFTMP,REFTMP_FLAG_W,CTDSAL,SALNTY,SALNTY_FLAG_W,CTDOXY,OXYGEN,OXYGEN_FLAG_W,DELO18,DELO18_FLAG_W
 , , , , , , , , , , , ,DBAR,ITS-90,ITS-90, ,PSS-78,PSS-78, ,UMOL/KG,UMOL/KG, ,/MILLE,
74JC20171121,SR1b,2,1,1,1,2,20171124,937,-62.20379,-58.73148,78,71.5,-1.1267,-1.1242,2,34.1823,34.1757,2,307.9,-999,9,-0.324966425,2
74JC20171121,SR1b,2,1,2,2,2,20171124,937,-62.20379,-58.73148,78,71.5,-1.1005,-1.0978,2,34.1792,-999,9,307.8,-999,9,-999,9
74JC20171121,SR1b,2,1,3,3,2,20171124,937,-62.20379,-58.73148,78,68,-1.096,-1.1004,2,34.1772,34.1744,2,306.9,-999,9,-0.385020349,2
74JC20171121,SR1b,2,1,4,4,2,20171124,937,-62.20379,-58.73148,78,63,-1.0634,-1.0655,2,34.1743,-999,9,307.6,-999,9,-0.313633238,2
74JC20171121,SR1b,2,1,5,5,2,20171124,937,-62.20379,-58.73148,78,58,-1.0314,-1.0387,2,34.1709,-999,9,308.4,-999,9,-0.304316809,2
74JC20171121,SR1b,2,1,6,6,2,20171124,937,-62.20379,-58.73148,78,47.9,-0.9406,-0.9698,2,34.1546,34.1651,2,312,312.5,2,-0.301631558,2
74JC20171121,SR1b,2,1,7,7,2,20171124,937,-62.20379,-58.73148,78,37.8,-0.8754,-0.8814,2,34.1466,-999,9,318.2,-999,9,-0.331517917,2
74JC20171121,SR1b,2,1,8,8,2,20171124,937,-62.20379,-58.73148,78,27.6,-0.8511,-0.8521,2,34.1403,-999,9,320.1,-999,9,-0.271667844,2
74JC20171121,SR1b,2,1,9,9,2,20171124,937,-62.20379,-58.73148,78,22.8,-0.8483,-0.8526,2,34.1324,34.137,2,316.7,320.8,2,-0.298949061,2
74JC20171121,SR1b,2,1,10,10,2,20171124,937,-62.20379,-58.73148,78,14.6,-0.8421,-0.841,2,34.0978,34.1219,2,315.8,-999,9,-0.279219571,2
74JC20171121,SR1b,2,1,11,11,2,20171124,937,-62.20379,-58.73148,78,10.6,-0.8351,-0.7929,2,34.0374,-999,9,317.6,-999,9,-0.310725462,6
74JC20171121,SR1b,2,1,12,12,2,20171124,937,-62.20379,-58.73148,78,6.7,-0.7079,-0.6438,2,33.9546,-999,9,320,-999,9,-0.397052407,2
74JC20171121,SR1b,2,1,13,13,2,20171124,937,-62.20379,-58.73148,78,2.8,-0.6479,-0.7435,2,33.9254,33.9266,2,321,324.1,2,-0.401679231,2
74JC20171121,SR1b,2,1,14,14,2,20171124,937,-62.20379,-58.73148,78,2.7,-0.7204,-0.7411,2,33.9662,33.927,2,319.6,-999,9,-999,9
74JC20171121,SR1b,3,1,1,1,2,20171124,1120,-62.20588,-58.73986,118,114.3,-1.7558,-1.7756,2,34.286,34.255,2,318.6,-999,9,-0.318559535,2
74JC20171121,SR1b,3,1,2,2,4,20171124,1120,-62.20588,-58.73986,118,110.8,-1.7725,-1.774,2,34.291,-999,9,318.4,-999,9,-0.317277366,2
74JC20171121,SR1b,3,1,3,3,2,20171124,1120,-62.20588,-58.73986,118,102.6,-1.7676,-1.7705,2,34.2882,34.288,2,318.7,320.5,2,-999,9
74JC20171121,SR1b,3,1,4,4,2,20171124,1120,-62.20588,-58.73986,118,96.5,-1.7619,-1.7614,2,34.2863,-999,9,319.2,-999,9,-0.334786583,2
74JC20171121,SR1b,3,1,5,5,2,20171124,1120,-62.20588,-58.73986,118,87.4,-1.6717,-1.6277,2,34.2662,-999,9,317.5,-999,9,-0.345772643,2
74JC20171121,SR1b,3,1,6,6,2,20171124,1120,-62.20588,-58.73986,118,72.5,-1.2585,-1.1573,2,34.2056,-999,9,309.4,-999,9,-0.31255431,2
74JC20171121,SR1b,3,1,7,7,2,20171124,1120,-62.20588,-58.73986,118,62.3,-1.071,-1.0512,2,34.1704,-999,9,308.6,-999,9,-0.236929051,2
74JC20171121,SR1b,3,1,8,8,2,20171124,1120,-62.20588,-58.73986,118,47.4,-0.9367,-0.8814,2,34.1581,-999,9,314.9,-999,9,-0.233331303,2
74JC20171121,SR1b,3,1,9,9,2,20171124,1120,-62.20588,-58.73986,118,37.1,-0.8307,-0.8484,2,34.1408,34.1517,2,322,320.9,2,-0.250045667,6
74JC20171121,SR1b,3,1,10,10,2,20171124,1120,-62.20588,-58.73986,118,27.3,-0.7785,-0.7946,2,34.1354,-999,9,327.9,-999,9,-0.170680789,2
74JC20171121,SR1b,3,1,11,11,2,20171124,1120,-62.20588,-58.73986,118,16.9,-0.8236,-0.8303,2,34.0838,34.0914,2,316.7,319.7,2,-0.224610934,2
74JC20171121,SR1b,3,1,12,12,2,20171124,1120,-62.20588,-58.73986,118,12,-0.7951,-0.7206,2,34.0758,-999,9,317.8,-999,9,-0.212786448,2
74JC20171121,SR1b,3,1,13,13,4,20171124,1120,-62.20588,-58.73986,118,4.8,-0.6728,-0.591,2,34.0292,34.046,2,320.8,-999,9,-0.199395349,3
74JC20171121,SR1b,4,1,1,1,2,20171124,1235,-62.20815,-58.74787,109,105.3,-1.7321,-1.7676,2,34.2842,34.2336,2,312.4,316.9,2,-0.224034585,2
74JC20171121,SR1b,4,1,2,2,2,20171124,1235,-62.20815,-58.74787,109,98.6,-1.7499,-1.7446,2,34.2806,-999,9,312.4,-999,9,-0.228358008,2
74JC20171121,SR1b,4,1,3,3,2,20171124,1235,-62.20815,-58.74787,109,91.6,-1.7254,-1.5517,2,34.2741,-999,9,312.5,-999,9,-0.234958495,2
74JC20171121,SR1b,4,1,4,4,2,20171124,1235,-62.20815,-58.74787,109,83.5,-1.5939,-1.4098,2,34.246,34.2543,2,309.6,-999,9,-0.208752798,2
74JC20171121,SR1b,4,1,5,5,2,20171124,1235,-62.20815,-58.74787,109,71.5,-1.2163,-1.1936,2,34.1732,34.2042,2,302.7,312.2,2,-0.229500432,2
74JC20171121,SR1b,4,1,6,6,2,20171124,1235,-62.20815,-58.74787,109,55.1,-1.0394,-0.9963,2,34.1677,34.1759,2,302.5,310.8,2,-0.241201345,6
74JC20171121,SR1b,4,1,7,7,2,20171124,1235,-62.20815,-58.74787,109,41.1,-0.8183,-0.8357,2,34.1372,-999,9,318,-999,9,-0.207741346,2
74JC20171121,SR1b,4,1,8,8,2,20171124,1235,-62.20815,-58.74787,109,31.2,-0.7736,-0.7899,2,34.1273,34.1353,2,320.4,-999,9,-0.179613815,2
74JC20171121,SR1b,4,1,9,9,2,20171124,1235,-62.20815,-58.74787,109,18.2,-0.7547,-0.7605,2,34.1145,-999,9,317.6,-999,9,-0.205251451,2
74JC20171121,SR1b,4,1,10,10,2,20171124,1235,-62.20815,-58.74787,109,8.1,-0.4085,-0.3452,2,33.9362,-999,9,319.4,-999,9,-0.238501271,2
74JC20171121,SR1b,4,1,11,11,2,20171124,1235,-62.20815,-58.74787,109,4.1,-0.341,-0.3368,2,33.9008,33.9769,2,321.2,328.8,2,-0.26657472,2
74JC20171121,SR1b,4,1,12,12,2,20171124,1235,-62.20815,-58.74787,109,2.1,-0.3417,-0.3377,2,33.9026,-999,9,320.3,-999,9,-0.256649009,2
74JC20171121,SR1b,4,1,13,13,2,20171124,1235,-62.20815,-58.74787,109,2.1,-0.3404,-0.3372,2,33.9022,-999,9,320.7,-999,9,-999,9
74JC20171121,SR1b,5,1,1,1,2,20171124,1354,-62.21273,-58.7689,105,94.8,-1.0624,-1.0621,2,34.1857,34.1826,2,309.5,311.8,2,-0.177691193,2
74JC20171121,SR1b,5,1,2,2,4,20171124,1354,-62.21273,-58.7689,105,86.6,-1.0232,-1.0127,2,34.1796,-999,9,310.6,-999,9,-0.174930171,2
74JC20171121,SR1b,5,1,3,3,2,20171124,1354,-62.21273,-58.7689,105,77.6,-0.9578,-0.9558,2,34.166,-999,9,313.9,-999,9,-0.193925487,3
74JC20171121,SR1b,5,1,4,4,2,20171124,1354,-62.21273,-58.7689,105,67.4,-0.9429,-0.9425,2,34.1651,-999,9,314.4,-999,9,-0.268204739,6
74JC20171121,SR1b,5,1,5,5,2,20171124,1354,-62.21273,-58.7689,105,57.1,-0.8633,-0.8623,2,34.1506,34.1642,2,320.9,-999,9,-0.2390997,2
74JC20171121,SR1b,5,1,6,6,2,20171124,1354,-62.21273,-58.7689,105,47.2,-0.8135,-0.7836,2,34.1454,-999,9,327.9,-999,9,-0.217030519,2
74JC20171121,SR1b,5,1,7,7,2,20171124,1354,-62.21273,-58.7689,105,37,-0.6416,-0.6006,2,34.1211,-999,9,335.7,-999,9,-0.281637168,2
74JC20171121,SR1b,5,1,8,8,2,20171124,1354,-62.21273,-58.7689,105,27.2,-0.4925,-0.5346,2,34.1148,34.1172,2,339.3,340.4,2,-0.332749899,2
74JC20171121,SR1b,5,1,9,9,2,20171124,1354,-62.21273,-58.7689,105,16.9,-0.4257,-0.4357,2,34.0732,-999,9,333.8,-999,9,-0.296308534,2
74JC20171121,SR1b,5,1,10,10,2,20171124,1354,-62.21273,-58.7689,105,8.9,-0.3125,-0.316,2,33.913,-999,9,329.3,-999,9,-0.32039232,2
74JC20171121,SR1b,5,1,11,11,2,20171124,1354,-62.21273,-58.7689,105,5.9,-0.3122,-0.3146,2,33.9197,-999,9,329.6,-999,9,-0.263013565,2
74JC20171121,SR1b,5,1,12,12,2,20171124,1354,-62.21273,-58.7689,105,2.1,-0.3122,-0.3037,2,33.9191,33.9513,2,329.3,332.4,2,-0.398404256,2
74JC20171121,SR1b,6,1,1,1,2,20171124,1509,-62.21762,-58.7892,99,94,-1.0459,-1.0529,2,34.1831,34.1708,2,309.5,314.6,2,-0.311999063,2
74JC20171121,SR1b,6,1,2,2,2,20171124,1509,-62.21762,-58.7892,99,94.1,-1.0477,-1.052,2,34.1835,-999,9,309.4,-999,9,-999,9
74JC20171121,SR1b,6,1,3,3,2,20171124,1509,-62.21762,-58.7892,99,91.7,-1.0469,-1.0537,2,34.1831,-999,9,309.5,-999,9,-0.245859677,6
74JC20171121,SR1b,6,1,4,4,2,20171124,1509,-62.21762,-58.7892,99,79.5,-1.0314,-1.0348,2,34.1805,-999,9,309.9,-999,9,-0.326326415,2
74JC20171121,SR1b,6,1,5,5,2,20171124,1509,-62.21762,-58.7892,99,66.6,-0.985,-0.9555,2,34.1731,-999,9,312.3,-999,9,-999,9
74JC20171121,SR1b,6,1,6,6,2,20171124,1509,-62.21762,-58.7892,99,66.6,-0.9585,-0.9484,2,34.1689,-999,9,313.7,-999,9,-999,9
74JC20171121,SR1b,6,1,7,7,2,20171124,1509,-62.21762,-58.7892,99,54.4,-0.9124,-0.9134,2,34.16,34.1665,2,317.6,317,2,-0.326810094,2
74JC20171121,SR1b,6,1,8,8,2,20171124,1509,-62.21762,-58.7892,99,42.5,-0.9014,-0.9007,2,34.159,-999,9,318,-999,9,-0.273107608,2
74JC20171121,SR1b,6,1,9,9,2,20171124,1509,-62.21762,-58.7892,99,27.2,-0.7104,-0.5931,2,34.1329,-999,9,331.8,-999,9,-999,9
74JC20171121,SR1b,6,1,10,10,2,20171124,1509,-62.21762,-58.7892,99,27.3,-0.6594,-0.6526,2,34.1251,34.1351,2,334.6,332.9,2,-0.276943705,2
74JC20171121,SR1b,6,1,11,11,2,20171124,1509,-62.21762,-58.7892,99,23.2,-0.4612,-0.4482,2,34.1008,-999,9,337.8,-999,9,-0.25244661,2
74JC20171121,SR1b,6,1,12,12,2,20171124,1509,-62.21762,-58.7892,99,17.9,-0.4127,-0.4281,2,34.0818,-999,9,337.5,-999,9,-0.244018778,2
74JC20171121,SR1b,6,1,13,13,2,20171124,1509,-62.21762,-58.7892,99,11,-0.2842,-0.3096,2,34.0309,-999,9,334.6,-999,9,-0.380709343,2
74JC20171121,SR1b,6,1,14,14,2,20171124,1509,-62.21762,-58.7892,99,6.9,-0.2743,-0.2706,2,34.0305,-999,9,334.5,-999,9,-0.419300959,2
74JC20171121,SR1b,6,1,15,15,2,20171124,1509,-62.21762,-58.7892,99,4.1,-0.267,-0.2687,2,34.0305,34.0438,2,334.9,336.8,2,-999,9
74JC20171121,SR1b,6,1,16,16,2,20171124,1509,-62.21762,-58.7892,99,4.1,-0.2614,-0.2641,2,34.0307,-999,9,335.1,-999,9,-0.389114487,6
74JC20171121,SR1b,7,1,2,2,2,20171127,1316,-64.70347,-63.45032,278,277.7,0.329,0.3245,2,34.4403,34.4866,2,235.2,236.1,2,-0.063547156,2
74JC20171121,SR1b,7,1,3,3,2,20171127,1316,-64.70347,-63.45032,278,277.7,0.329,0.3236,2,34.4389,-999,9,235.1,-999,9,-999,9
74JC20171121,SR1b,7,1,4,4,2,20171127,1316,-64.70347,-63.45032,278,268,0.3282,0.3215,2,34.4397,-999,9,235,-999,9,-0.101906018,2
74JC20171121,SR1b,7,1,5,5,2,20171127,1316,-64.70347,-63.45032,278,222.8,0.2736,0.266,2,34.427,34.4308,2,237.7,237.2,2,-0.108609271,3
74JC20171121,SR1b,7,1,6,6,2,20171127,1316,-64.70347,-63.45032,278,222.9,0.2754,0.2648,2,34.4274,-999,9,237.7,-999,9,-999,9
74JC20171121,SR1b,7,1,7,7,2,20171127,1316,-64.70347,-63.45032,278,187.3,0.2406,0.2351,2,34.4189,-999,9,239.4,-999,9,-0.132785445,2
74JC20171121,SR1b,7,1,8,8,2,20171127,1316,-64.70347,-63.45032,278,147,0.1625,0.139,2,34.3945,-999,9,241.1,-999,9,-0.12214771,2
74JC20171121,SR1b,7,1,9,9,2,20171127,1316,-64.70347,-63.45032,278,117.1,-0.0155,-0.0108,2,34.3484,-999,9,248,-999,9,-0.119873276,2
74JC20171121,SR1b,7,1,10,10,2,20171127,1316,-64.70347,-63.45032,278,83.6,-0.1448,-0.1761,2,34.3019,-999,9,252.5,-999,9,-0.145429899,2
74JC20171121,SR1b,7,1,11,11,2,20171127,1316,-64.70347,-63.45032,278,43.3,-0.8691,-0.8322,2,33.9899,-999,9,318.1,-999,9,-0.151008528,2
74JC20171121,SR1b,7,1,12,12,2,20171127,1316,-64.70347,-63.45032,278,43.3,-0.8968,-0.8776,2,33.902,-999,9,339.5,-999,9,-999,9
74JC20171121,SR1b,7,1,13,13,2,20171127,1316,-64.70347,-63.45032,278,30.4,-0.676,-0.661,2,33.8676,33.9048,2,349.9,-999,9,-0.210321073,2
74JC20171121,SR1b,7,1,14,14,2,20171127,1316,-64.70347,-63.45032,278,19.2,-0.6813,-0.678,2,33.7983,33.8271,2,359.3,355.2,2,-0.251381723,6
74JC20171121,SR1b,7,1,15,15,2,20171127,1316,-64.70347,-63.45032,278,9.3,-0.6735,-0.6775,2,33.7753,-999,9,360.7,360.7,2,-0.280375456,2
74JC20171121,SR1b,7,1,16,16,2,20171127,1316,-64.70347,-63.45032,278,2.4,-0.6345,-0.6342,2,33.7512,-999,9,363,-999,9,-0.243283253,2
74JC20171121,SR1b,7,1,17,17,2,20171127,1316,-64.70347,-63.45032,278,2.4,-0.6068,-0.5875,2,33.745,-999,9,362.5,-999,9,-999,9
74JC20171121,SR1b,9,1,2,2,2,20171127,1501,-64.71106,-63.4547,277,275.9,0.3298,0.3282,2,34.4401,-999,9,228.3,-999,9,-0.000622486,2
74JC20171121,SR1b,9,1,3,3,2,20171127,1501,-64.71106,-63.4547,277,275.9,0.3304,0.3286,2,34.4403,-999,9,228.2,-999,9,-999,9
74JC20171121,SR1b,9,1,4,4,2,20171127,1501,-64.71106,-63.4547,277,239.4,0.3205,0.3179,2,34.4375,34.4446,2,229.6,235.2,2,-0.003693108,2
74JC20171121,SR1b,9,1,5,5,2,20171127,1501,-64.71106,-63.4547,277,212.4,0.2914,0.2909,2,34.43,-999,9,231,-999,9,-0.013935068,2
74JC20171121,SR1b,9,1,6,6,2,20171127,1501,-64.71106,-63.4547,277,172,0.2326,0.229,2,34.4141,34.4176,2,234.1,239.6,2,-0.041418534,2
74JC20171121,SR1b,9,1,7,7,2,20171127,1501,-64.71106,-63.4547,277,136.8,0.1087,0.1059,2,34.373,-999,9,237.8,-999,9,-0.018751711,2
74JC20171121,SR1b,9,1,8,8,2,20171127,1501,-64.71106,-63.4547,277,136.8,0.1087,0.1056,2,34.3724,-999,9,237.6,-999,9,-999,9
74JC20171121,SR1b,9,1,9,9,2,20171127,1501,-64.71106,-63.4547,277,116.4,0.0362,-0.0017,2,34.3437,34.3598,2,238,243.8,2,-0.01811032,2
74JC20171121,SR1b,9,1,10,10,2,20171127,1501,-64.71106,-63.4547,277,86.5,-0.1342,-0.1864,2,34.3035,-999,9,245.5,-999,9,-0.036558764,2
74JC20171121,SR1b,9,1,11,11,2,20171127,1501,-64.71106,-63.4547,277,46.1,-0.8628,-0.7481,2,33.9376,-999,9,324.2,-999,9,-0.188931964,6
74JC20171121,SR1b,9,1,12,12,2,20171127,1501,-64.71106,-63.4547,277,46.1,-0.7629,-0.6864,2,33.8932,-999,9,334.6,-999,9,-999,9
74JC20171121,SR1b,9,1,13,13,2,20171127,1501,-64.71106,-63.4547,277,29,-0.6742,-0.6755,2,33.8422,-999,9,346.1,-999,9,-0.225132754,2
74JC20171121,SR1b,9,1,14,14,2,20171127,1501,-64.71106,-63.4547,277,20,-0.6816,-0.6777,2,33.8317,33.8411,2,348.6,356.4,2,-0.245843171,2
74JC20171121,SR1b,9,1,15,15,2,20171127,1501,-64.71106,-63.4547,277,10,-0.6688,-0.6703,2,33.7973,-999,9,354.8,-999,9,-0.244706533,2
74JC20171121,SR1b,9,1,16,16,2,20171127,1501,-64.71106,-63.4547,277,2.8,-0.6581,-0.6518,2,33.7877,-999,9,355.7,-999,9,-0.253006453,2
74JC20171121,SR1b,9,1,17,17,2,20171127,1501,-64.71106,-63.4547,277,2.8,-0.652,-0.6507,2,33.7821,-999,9,355.9,-999,9,-999,9
74JC20171121,SR1b,10,1,3,3,2,20171127,1619,-64.71836,-63.45801,299,297.9,0.336,0.3306,2,34.4416,34.4424,2,234.6,233.8,2,-0.000438195,2
74JC20171121,SR1b,10,1,4,4,2,20171127,1619,-64.71836,-63.45801,299,297.9,0.3355,0.3306,2,34.442,-999,9,234.6,-999,9,-999,9
74JC20171121,SR1b,10,1,5,5,2,20171127,1619,-64.71836,-63.45801,299,283.2,0.3349,0.33,2,34.4418,-999,9,234.8,-999,9,-0.004112173,2
74JC20171121,SR1b,10,1,6,6,2,20171127,1619,-64.71836,-63.45801,299,268,0.3285,0.3243,2,34.4401,-999,9,235,-999,9,-0.060181099,2
74JC20171121,SR1b,10,1,7,7,2,20171127,1619,-64.71836,-63.45801,299,247.8,0.3211,0.3161,2,34.4386,34.4411,2,235.6,235,2,0.00478894,2
74JC20171121,SR1b,10,1,8,8,2,20171127,1619,-64.71836,-63.45801,299,192.4,0.2357,0.2283,2,34.4168,-999,9,240.1,-999,9,-0.034167579,2
74JC20171121,SR1b,10,1,9,9,2,20171127,1619,-64.71836,-63.45801,299,192.4,0.259,0.2323,2,34.4234,-999,9,238.4,-999,9,-999,9
74JC20171121,SR1b,10,1,10,10,2,20171127,1619,-64.71836,-63.45801,299,121.8,0.0739,0.0281,2,34.3721,34.3742,2,248.9,248.1,2,-0.08513451,6
74JC20171121,SR1b,10,1,11,11,2,20171127,1619,-64.71836,-63.45801,299,96.7,-0.0172,-0.0277,2,34.33,-999,9,248.1,-999,9,-0.041174321,2
74JC20171121,SR1b,10,1,12,12,2,20171127,1619,-64.71836,-63.45801,299,51,-0.7991,-0.7342,2,34.0337,-999,9,313.5,-999,9,-0.245380517,2
74JC20171121,SR1b,10,1,13,13,2,20171127,1619,-64.71836,-63.45801,299,51,-0.9079,-0.8868,2,33.9671,-999,9,326.8,-999,9,-999,9
74JC20171121,SR1b,10,1,14,14,2,20171127,1619,-64.71836,-63.45801,299,31.3,-0.641,-0.6517,2,33.8396,33.8852,2,357.9,346.9,3,-0.348452678,2
74JC20171121,SR1b,10,1,15,15,2,20171127,1619,-64.71836,-63.45801,299,22.4,-0.6406,-0.6505,2,33.8278,-999,9,364.4,-999,9,-0.278318883,2
74JC20171121,SR1b,10,1,16,16,2,20171127,1619,-64.71836,-63.45801,299,9.3,-0.6307,-0.6246,2,33.8148,-999,9,367.6,-999,9,-0.254705152,2
74JC20171121,SR1b,10,1,17,17,2,20171127,1619,-64.71836,-63.45801,299,2.3,-0.5627,-0.5409,2,33.7695,-999,9,367.7,-999,9,-0.251556455,2
74JC20171121,SR1b,10,1,18,18,2,20171127,1619,-64.71836,-63.45801,299,2.3,-0.5593,-0.548,2,33.7675,-999,9,367.8,-999,9,-999,9
74JC20171121,SR1b,11,1,3,3,2,20171127,1727,-64.72616,-63.45239,248,246.8,0.2885,0.2866,2,34.4305,34.4356,2,230.7,236.5,2,-0.010681178,2
74JC20171121,SR1b,11,1,4,4,2,20171127,1727,-64.72616,-63.45239,248,246.8,0.2889,0.2861,2,34.43,-999,9,230.4,-999,9,-999,9
74JC20171121,SR1b,11,1,5,5,2,20171127,1727,-64.72616,-63.45239,248,222.8,0.2867,0.2842,2,34.4301,34.4324,2,230.5,236.4,2,-0.050374958,2
74JC20171121,SR1b,11,1,6,6,2,20171127,1727,-64.72616,-63.45239,248,182.3,0.2024,0.199,2,34.4123,-999,9,234,-999,9,0.007481302,2
74JC20171121,SR1b,11,1,7,7,2,20171127,1727,-64.72616,-63.45239,248,152,0.1802,0.1768,2,34.404,-999,9,235.9,-999,9,-999,9
74JC20171121,SR1b,11,1,8,8,2,20171127,1727,-64.72616,-63.45239,248,152,0.1803,0.1774,2,34.4042,34.4112,2,235.8,240.6,2,-0.03878812,6
74JC20171121,SR1b,11,1,9,9,2,20171127,1727,-64.72616,-63.45239,248,112.1,0.0605,0.0376,2,34.3645,-999,9,243,-999,9,-0.057728944,2
74JC20171121,SR1b,11,1,10,10,2,20171127,1727,-64.72616,-63.45239,248,91.8,-0.0684,-0.0935,2,34.3177,-999,9,242.8,-999,9,-0.084303776,2
74JC20171121,SR1b,11,1,11,11,2,20171127,1727,-64.72616,-63.45239,248,61.5,-0.5217,-0.7218,2,34.1579,-999,9,279.8,-999,9,-0.138582394,2
74JC20171121,SR1b,11,1,12,12,2,20171127,1727,-64.72616,-63.45239,248,46.5,-0.8494,-0.8669,2,34.0141,-999,9,308.1,-999,9,-0.231802624,2
74JC20171121,SR1b,11,1,13,13,2,20171127,1727,-64.72616,-63.45239,248,46.5,-0.7998,-0.8124,2,33.9568,-999,9,319.8,-999,9,-999,9
74JC20171121,SR1b,11,1,14,14,2,20171127,1727,-64.72616,-63.45239,248,36.4,-0.7565,-0.7381,2,33.9246,-999,9,328,-999,9,-0.304250192,2
74JC20171121,SR1b,11,1,15,15,2,20171127,1727,-64.72616,-63.45239,248,24.3,-0.6898,-0.6922,2,33.8419,33.8692,2,347.1,-999,9,-0.276305165,2
74JC20171121,SR1b,11,1,16,16,2,20171127,1727,-64.72616,-63.45239,248,11.5,-0.6225,-0.5693,2,33.7728,-999,9,357.4,363,2,-0.283772203,2
74JC20171121,SR1b,11,1,18,18,2,20171127,1727,-64.72616,-63.45239,248,4.2,-0.4764,-0.4331,2,33.7353,-999,9,357,-999,9,-0.285893074,2
74JC20171121,SR1b,11,1,19,19,2,20171127,1727,-64.72616,-63.45239,248,4.2,-0.1252,-0.3789,2,33.6948,-999,9,357.3,-999,9,-999,9