BOTTLE,20221103CCHSIOENA
EXPOCODE,SECT_ID,STNNBR,CASTNO,SAMPNO,DATE,BTL_DATE,TIME,BTL_TIME,LATITUDE,LONGITUDE,DEPTH,CTDPRS,CTDTMP,REFTMP,REFTMP_FLAG_W,CTDSAL,CTDSAL_FLAG_W,SALNTY,SALNTY_FLAG_W,CTDOXY,CTDOXY_FLAG_W,OXYGEN,OXYGEN_FLAG_W
 , , , , , , , , , , ,METERS,DBAR,ITS-90,ITS-90, ,PSS-78, ,PSS-78, ,UMOL/KG, ,UMOL/KG, 
74EQ20140423,RAPID, 10,1, 2,20140513,20140513,1808,1530, 25.14235, -52.01141,5496,5577.3, 2.1325,-999.0000, 9,34.8533,2,34.8528,2, 249.3,2, 249.5,2
74EQ20140423,RAPID, 10,1, 4,20140513,20140513,1808,1546, 25.14235, -52.01141,5496,5392.6, 2.1291,-999.0000, 9,34.8557,2,34.8553,2, 251.2,2, 250.0,2
74EQ20140423,RAPID, 10,1, 6,20140513,20140513,1808,1556, 25.14235, -52.01141,5496,5187.1, 2.1318,-999.0000, 9,34.8590,2,34.8592,2, 252.1,2, 251.3,2
74EQ20140423,RAPID, 10,1, 8,20140513,20140513,1808,1605, 25.14235, -52.01141,5496,4980.7, 2.1397,-999.0000, 9,34.8627,2,34.8619,2, 252.5,2, 251.7,2
74EQ20140423,RAPID, 10,1,10,20140513,20140513,1808,1622, 25.14235, -52.01141,5496,4262.2, 2.2272,-999.0000, 9,34.8801,2,34.8792,2, 254.2,2, 200.6,4
74EQ20140423,RAPID, 10,1,12,20140513,20140513,1808,1635, 25.14235, -52.01141,5496,3749.9, 2.4020,-999.0000, 9,34.8993,2,34.8989,2, 253.8,2, 253.7,2
74EQ20140423,RAPID, 10,1,14,20140513,20140513,1808,1708, 25.14235, -52.01141,5496,2118.2, 3.7387,-999.0000, 9,35.0146,2,35.0150,2, 248.1,2, 246.7,2
74EQ20140423,RAPID, 10,1,16,20140513,20140513,1808,1727, 25.14235, -52.01141,5496,1307.8, 5.4658,-999.0000, 9,35.0483,2,-999.0000,9, 209.1,2,-999.0,9
74EQ20140423,RAPID, 10,1,18,20140513,20140513,1808,1735, 25.14235, -52.01141,5496,1206.7, 5.7572,-999.0000, 9,35.0161,2,35.0161,2, 188.2,2, 189.3,2
74EQ20140423,RAPID, 10,1,20,20140513,20140513,1808,1742, 25.14235, -52.01141,5496,1105.6, 6.1136,-999.0000, 9,34.9770,2,34.9767,2, 166.0,2, 166.9,2
74EQ20140423,RAPID, 10,1,22,20140513,20140513,1808,1757, 25.14235, -52.01141,5496, 601.8,12.9260,-999.0000, 9,35.7323,2,35.7342,2, 158.6,2, 159.1,2
74EQ20140423,RAPID, 10,1,24,20140513,20140513,1808,1808, 25.14235, -52.01141,5496, 300.3,17.6988,-999.0000, 9,36.5008,2,36.5017,2, 193.3,2, 193.5,2
74EQ20140423,RAPID, 11,1, 2,20140514,20140514,2316,2111, 24.21640, -49.73340,5144,3544.1, 2.4294,-999.0000, 9,34.9025,2,34.9031,2, 252.7,2, 253.1,2
74EQ20140423,RAPID, 11,1, 4,20140514,20140514,2316,2125, 24.21640, -49.73340,5144,3034.8, 2.7281,-999.0000, 9,34.9300,2,34.9302,2, 250.9,2, 250.9,2
74EQ20140423,RAPID, 11,1, 6,20140514,20140514,2316,2138, 24.21640, -49.73340,5144,2576.4, 2.9918,-999.0000, 9,34.9532,2,34.9539,2, 250.6,2, 250.2,2
74EQ20140423,RAPID, 11,1, 8,20140514,20140514,2316,2150, 24.21640, -49.73340,5144,2220.6, 3.3394,-999.0000, 9,34.9817,2,34.9823,2, 250.3,2, 249.5,2
74EQ20140423,RAPID, 11,1,10,20140514,20140514,2316,2159, 24.21640, -49.73340,5144,2017.8, 3.6669,-999.0000, 9,35.0095,2,35.0097,2, 248.2,2, 247.4,2
74EQ20140423,RAPID, 11,1,12,20140514,20140514,2316,2210, 24.21640, -49.73340,5144,1713.2, 4.3253,-999.0000, 9,35.0565,2,35.0569,2, 242.2,2, 242.6,2
74EQ20140423,RAPID, 11,1,14,20140514,20140514,2316,2219, 24.21640, -49.73340,5144,1511.0, 4.7233,-999.0000, 9,35.0627,2,35.0687,3, 236.1,2, 234.7,2
74EQ20140423,RAPID, 11,1,16,20140514,20140514,2316,2238, 24.21640, -49.73340,5144, 703.7,10.8368,-999.0000, 9,35.4634,2,35.4569,2, 151.0,2, 151.3,2
74EQ20140423,RAPID, 11,1,18,20140514,20140514,2316,2248, 24.21640, -49.73340,5144, 503.2,14.1171,-999.0000, 9,35.8953,2,35.8983,2, 171.3,2, 171.6,2
74EQ20140423,RAPID, 11,1,20,20140514,20140514,2316,2255, 24.21640, -49.73340,5144, 402.6,15.9956,-999.0000, 9,36.2061,2,36.2070,2, 183.3,2, 183.6,2
74EQ20140423,RAPID, 11,1,22,20140514,20140514,2316,2307, 24.21640, -49.73340,5144, 100.9,23.1518,-999.0000, 9,37.3938,2,37.3932,2, 212.3,2, 209.9,2
74EQ20140423,RAPID, 11,1,24,20140514,20140514,2316,2316, 24.21640, -49.73340,5144,  10.9,24.5902,-999.0000, 9,37.4776,2,37.4768,2, 212.0,2, 213.7,2
74EQ20140423,RAPID, 12,1, 2,20140518,20140517,0145,2310, 23.89898, -41.07797,5323,5406.6, 2.4406,-999.0000, 9,34.8823,2,34.8825,2, 246.7,2,-999.0,9
74EQ20140423,RAPID, 12,1, 4,20140518,20140517,0145,2331, 23.89898, -41.07797,5323,4471.2, 2.3933,-999.0000, 9,34.8899,2,34.8898,2, 246.6,2,-999.0,9
74EQ20140423,RAPID, 12,1, 6,20140518,20140517,0145,2346, 23.89898, -41.07797,5323,3960.8, 2.4344,-999.0000, 9,34.8999,2,34.8998,2, 246.5,2,-999.0,9
74EQ20140423,RAPID, 12,1, 8,20140518,20140518,0145,0000, 23.89898, -41.07797,5323,3448.4, 2.5974,-999.0000, 9,34.9198,2,34.9197,2, 244.7,2,-999.0,9
74EQ20140423,RAPID, 12,1,10,20140518,20140518,0145,0014, 23.89898, -41.07797,5323,2938.5, 2.8840,-999.0000, 9,34.9477,2,34.9475,2, 242.9,2,-999.0,9
74EQ20140423,RAPID, 12,1,12,20140518,20140518,0145,0028, 23.89898, -41.07797,5323,2430.9, 3.2965,-999.0000, 9,34.9811,2,34.9813,2, 242.9,2,-999.0,9
74EQ20140423,RAPID, 12,1,14,20140518,20140518,0145,0044, 23.89898, -41.07797,5323,1821.2, 4.2047,-999.0000, 9,35.0315,2,35.0318,2, 235.8,2,-999.0,9
74EQ20140423,RAPID, 12,1,16,20140518,20140518,0145,0056, 23.89898, -41.07797,5323,1416.3, 5.0967,-999.0000, 9,35.0408,2,35.0406,2, 209.4,2,-999.0,9
74EQ20140423,RAPID, 12,1,18,20140518,20140518,0145,0112, 23.89898, -41.07797,5323, 809.8, 8.8683,-999.0000, 9,35.2602,2,35.2607,2, 145.2,2,-999.0,9
74EQ20140423,RAPID, 12,1,20,20140518,20140518,0145,0123, 23.89898, -41.07797,5323, 508.9,13.9212,-999.0000, 9,35.8847,2,35.8843,2, 181.4,2,-999.0,9
74EQ20140423,RAPID, 12,1,22,20140518,20140518,0145,0135, 23.89898, -41.07797,5323, 106.1,23.0830,-999.0000, 9,37.4700,2,37.4693,2, 214.0,2,-999.0,9
74EQ20140423,RAPID, 12,1,24,20140518,20140518,0145,0145, 23.89898, -41.07797,5323,  16.4,24.0027,-999.0000, 9,37.5253,2,37.5243,2, 213.7,2,-999.0,9
74EQ20140423,RAPID, 13,1, 2,20140518,20140518,2319,2047, 23.89845, -41.07441,5331,5424.6, 2.4424,-999.0000, 9,34.8824,2,34.8815,2, 246.4,2,-999.0,9
74EQ20140423,RAPID, 13,1, 4,20140518,20140518,2319,2108, 23.89845, -41.07441,5331,4469.9, 2.3950,-999.0000, 9,34.8902,2,34.8894,2, 246.7,2,-999.0,9
74EQ20140423,RAPID, 13,1, 6,20140518,20140518,2319,2122, 23.89845, -41.07441,5331,3957.6, 2.4406,-999.0000, 9,34.9007,2,34.8996,2, 246.1,2,-999.0,9
74EQ20140423,RAPID, 13,1, 8,20140518,20140518,2319,2136, 23.89845, -41.07441,5331,3446.5, 2.6082,-999.0000, 9,34.9209,2,34.9199,2, 244.6,2,-999.0,9
74EQ20140423,RAPID, 13,1,10,20140518,20140518,2319,2150, 23.89845, -41.07441,5331,2934.9, 2.8648,-999.0000, 9,34.9463,2,34.9459,2, 242.6,2,-999.0,9
74EQ20140423,RAPID, 13,1,12,20140518,20140518,2319,2204, 23.89845, -41.07441,5331,2427.5, 3.2875,-999.0000, 9,34.9806,2,34.9802,2, 242.8,2,-999.0,9
74EQ20140423,RAPID, 13,1,14,20140518,20140518,2319,2219, 23.89845, -41.07441,5331,1818.6, 4.1349,-999.0000, 9,35.0284,2,35.0283,2, 236.3,2,-999.0,9
74EQ20140423,RAPID, 13,1,16,20140518,20140518,2319,2232, 23.89845, -41.07441,5331,1414.6, 5.0558,-999.0000, 9,35.0451,2,35.0449,2, 211.4,2,-999.0,9
74EQ20140423,RAPID, 13,1,18,20140518,20140518,2319,2247, 23.89845, -41.07441,5331, 809.1, 8.7286,-999.0000, 9,35.2468,2,35.2478,2, 145.8,2,-999.0,9
74EQ20140423,RAPID, 13,1,20,20140518,20140518,2319,2258, 23.89845, -41.07441,5331, 507.7,13.3593,-999.0000, 9,35.8038,2,35.8047,2, 168.0,2,-999.0,9
74EQ20140423,RAPID, 13,1,22,20140518,20140518,2319,2310, 23.89845, -41.07441,5331, 105.9,23.1047,-999.0000, 9,37.4632,2,-999.0000,9, 214.4,2,-999.0,9
74EQ20140423,RAPID, 13,1,24,20140518,20140518,2319,2319, 23.89845, -41.07441,5331,  15.6,24.2732,-999.0000, 9,37.5446,2,37.5432,2, 212.7,2,-999.0,9
74EQ20140423,RAPID, 14,1, 2,20140524,20140524,2154,1925, 23.79909, -24.11626,5097,5161.0, 2.4355,-999.0000, 9,34.8861,2,34.8859,2, 244.0,2,-999.0,9
74EQ20140423,RAPID, 14,1, 4,20140524,20140524,2154,1942, 23.79909, -24.11626,5097,4464.2, 2.3684,-999.0000, 9,34.8891,2,34.8885,2, 244.7,2,-999.0,9
74EQ20140423,RAPID, 14,1, 6,20140524,20140524,2154,1956, 23.79909, -24.11626,5097,3951.7, 2.4160,-999.0000, 9,34.8995,2,34.8991,2, 245.4,2,-999.0,9
74EQ20140423,RAPID, 14,1, 8,20140524,20140524,2154,2010, 23.79909, -24.11626,5097,3441.6, 2.5290,-999.0000, 9,34.9152,2,34.9141,2, 245.7,2,-999.0,9
74EQ20140423,RAPID, 14,1,10,20140524,20140524,2154,2023, 23.79909, -24.11626,5097,2930.3, 2.7689,-999.0000, 9,34.9415,2,34.9409,2, 244.9,2,-999.0,9
74EQ20140423,RAPID, 14,1,12,20140524,20140524,2154,2037, 23.79909, -24.11626,5097,2420.8, 3.3139,-999.0000, 9,34.9945,2,34.9944,2, 241.4,2,-999.0,9
74EQ20140423,RAPID, 14,1,14,20140524,20140524,2154,2052, 23.79909, -24.11626,5097,1812.4, 4.4120,-999.0000, 9,35.0931,2,35.0933,2, 220.9,2,-999.0,9
74EQ20140423,RAPID, 14,1,16,20140524,20140524,2154,2105, 23.79909, -24.11626,5097,1407.7, 5.8625,-999.0000, 9,35.2081,2,35.2071,2, 190.6,2,-999.0,9
74EQ20140423,RAPID, 14,1,18,20140524,20140524,2154,2120, 23.79909, -24.11626,5097, 802.1, 8.4071,-999.0000, 9,35.2126,2,35.2132,2, 123.1,2,-999.0,9
74EQ20140423,RAPID, 14,1,20,20140524,20140524,2154,2131, 23.79909, -24.11626,5097, 500.6,12.6077,-999.0000, 9,35.7124,2,35.7143,2, 159.6,2,-999.0,9
74EQ20140423,RAPID, 14,1,22,20140524,20140524,2154,2144, 23.79909, -24.11626,5097,  98.8,19.9153,-999.0000, 9,36.9790,2,36.9781,2, 219.1,2,-999.0,9
74EQ20140423,RAPID, 14,1,24,20140524,20140524,2154,2154, 23.79909, -24.11626,5097,   9.0,21.7449,-999.0000, 9,36.9931,2,36.9925,2, 220.9,2,-999.0,9
74EQ20140423,RAPID, 15,1, 2,20140526,20140526,1724,1503, 24.89728, -21.24852,4472,4516.2, 2.3920,-999.0000, 9,34.8894,2,34.9144,3, 242.4,2,-999.0,9
74EQ20140423,RAPID, 15,1, 4,20140526,20140526,1724,1510, 24.89728, -21.24852,4472,4466.9, 2.3878,-999.0000, 9,34.8898,2,34.8902,2, 242.7,2,-999.0,9
74EQ20140423,RAPID, 15,1, 6,20140526,20140526,1724,1525, 24.89728, -21.24852,4472,3954.1, 2.4087,-999.0000, 9,34.8980,2,34.8992,2, 241.6,2,-999.0,9
74EQ20140423,RAPID, 15,1, 8,20140526,20140526,1724,1539, 24.89728, -21.24852,4472,3443.6, 2.5620,-999.0000, 9,34.9172,2,34.9169,2, 237.8,2,-999.0,9
74EQ20140423,RAPID, 15,1,10,20140526,20140526,1724,1553, 24.89728, -21.24852,4472,2934.0, 2.8860,-999.0000, 9,34.9486,2,34.9502,2, 236.0,2,-999.0,9
74EQ20140423,RAPID, 15,1,12,20140526,20140526,1724,1607, 24.89728, -21.24852,4472,2425.4, 3.3925,-999.0000, 9,34.9988,2,34.9977,2, 230.5,2,-999.0,9
74EQ20140423,RAPID, 15,1,14,20140526,20140526,1724,1623, 24.89728, -21.24852,4472,1816.7, 4.4761,-999.0000, 9,35.1039,2,35.1036,2, 216.0,2,-999.0,9
74EQ20140423,RAPID, 15,1,16,20140526,20140526,1724,1635, 24.89728, -21.24852,4472,1410.9, 5.9031,-999.0000, 9,35.2302,2,35.2308,2, 191.1,2,-999.0,9
74EQ20140423,RAPID, 15,1,18,20140526,20140526,1724,1651, 24.89728, -21.24852,4472, 805.6, 8.3206,-999.0000, 9,35.2122,2,35.2107,2, 124.0,2,-999.0,9
74EQ20140423,RAPID, 15,1,20,20140526,20140526,1724,1702, 24.89728, -21.24852,4472, 503.5,12.1648,-999.0000, 9,35.6564,2,35.6588,2, 156.9,2,-999.0,9
74EQ20140423,RAPID, 15,1,22,20140526,20140526,1724,1714, 24.89728, -21.24852,4472, 100.4,19.4812,-999.0000, 9,36.9493,2,36.9483,2, 213.5,2,-999.0,9
74EQ20140423,RAPID, 15,1,24,20140526,20140526,1724,1724, 24.89728, -21.24852,4472,  10.7,21.1932,-999.0000, 9,36.6978,2,36.6969,2, 226.7,2,-999.0,9
74EQ20140423,RAPID, 23,1, 2,20140602,20140602,0616,0615, 28.45438, -15.66658,3542,3564.9, 2.5515,-999.0000, 9,34.9147,2,-999.0000,9, 237.4,2,-999.0,9
74EQ20140423,RAPID, 23,1, 4,20140602,20140602,0616,0615, 28.45438, -15.66658,3542,3565.0, 2.5516,-999.0000, 9,34.9147,2,-999.0000,9, 237.4,2,-999.0,9
74EQ20140423,RAPID, 23,1, 6,20140602,20140602,0616,0615, 28.45438, -15.66658,3542,3565.1, 2.5516,-999.0000, 9,34.9148,2,-999.0000,9, 237.7,2,-999.0,9
74EQ20140423,RAPID, 23,1, 8,20140602,20140602,0616,0615, 28.45438, -15.66658,3542,3564.8, 2.5516,-999.0000, 9,34.9148,2,-999.0000,9, 237.4,2,-999.0,9
74EQ20140423,RAPID, 23,1,10,20140602,20140602,0616,0615, 28.45438, -15.66658,3542,3564.7, 2.5518,-999.0000, 9,34.9147,2,-999.0000,9, 237.7,2,-999.0,9
74EQ20140423,RAPID, 23,1,12,20140602,20140602,0616,0616, 28.45438, -15.66658,3542,3565.5, 2.5519,-999.0000, 9,34.9147,2,-999.0000,9, 237.6,2,-999.0,9
74EQ20140423,RAPID, 23,1,14,20140602,20140602,0616,0616, 28.45438, -15.66658,3542,3564.2, 2.5518,-999.0000, 9,34.9147,2,-999.0000,9, 237.4,2,-999.0,9
74EQ20140423,RAPID, 23,1,16,20140602,20140602,0616,0616, 28.45438, -15.66658,3542,3565.5, 2.5520,-999.0000, 9,34.9147,2,-999.0000,9, 237.6,2,-999.0,9
74EQ20140423,RAPID, 23,1,18,20140602,20140602,0616,0616, 28.45438, -15.66658,3542,3565.1, 2.5520,-999.0000, 9,34.9147,2,-999.0000,9, 237.7,2,-999.0,9
74EQ20140423,RAPID, 23,1,20,20140602,20140602,0616,0616, 28.45438, -15.66658,3542,3563.9, 2.5521,-999.0000, 9,34.9146,2,-999.0000,9, 237.6,2,-999.0,9
74EQ20140423,RAPID, 23,1,22,20140602,20140602,0616,0616, 28.45438, -15.66658,3542,3565.9, 2.5522,-999.0000, 9,34.9147,2,-999.0000,9, 237.9,2,-999.0,9
74EQ20140423,RAPID, 23,1,24,20140602,20140602,0616,0616, 28.45438, -15.66658,3542,3564.4, 2.5522,-999.0000, 9,34.9147,2,-999.0000,9, 237.5,2,-999.0,9
74EQ20140423,RAPID, 24,1, 2,20140602,20140602,1000,0958, 28.45529, -15.66612,3542,3566.5, 2.5507,-999.0000, 9,34.9145,2,-999.0000,9, 237.3,2,-999.0,9
74EQ20140423,RAPID, 24,1, 4,20140602,20140602,1000,0958, 28.45529, -15.66612,3542,3566.4, 2.5504,-999.0000, 9,34.9146,2,-999.0000,9, 237.1,2,-999.0,9
74EQ20140423,RAPID, 24,1, 6,20140602,20140602,1000,0958, 28.45529, -15.66612,3542,3566.0, 2.5503,-999.0000, 9,34.9146,2,-999.0000,9, 237.3,2,-999.0,9
74EQ20140423,RAPID, 24,1, 8,20140602,20140602,1000,0958, 28.45529, -15.66612,3542,3566.5, 2.5503,-999.0000, 9,34.9146,2,-999.0000,9, 237.2,2,-999.0,9
74EQ20140423,RAPID, 24,1,10,20140602,20140602,1000,0959, 28.45529, -15.66612,3542,3567.1, 2.5504,-999.0000, 9,34.9145,2,-999.0000,9, 237.3,2,-999.0,9
74EQ20140423,RAPID, 24,1,12,20140602,20140602,1000,0959, 28.45529, -15.66612,3542,3566.2, 2.5504,-999.0000, 9,34.9145,2,-999.0000,9, 237.5,2,-999.0,9
74EQ20140423,RAPID, 24,1,14,20140602,20140602,1000,0959, 28.45529, -15.66612,3542,3566.8, 2.5504,-999.0000, 9,34.9145,2,-999.0000,9, 237.7,2,-999.0,9
74EQ20140423,RAPID, 24,1,16,20140602,20140602,1000,0959, 28.45529, -15.66612,3542,3566.1, 2.5503,-999.0000, 9,34.9146,2,-999.0000,9, 237.3,2,-999.0,9
74EQ20140423,RAPID, 24,1,18,20140602,20140602,1000,0959, 28.45529, -15.66612,3542,3566.5, 2.5503,-999.0000, 9,34.9145,2,-999.0000,9, 237.4,2,-999.0,9
74EQ20140423,RAPID, 24,1,20,20140602,20140602,1000,0959, 28.45529, -15.66612,3542,3566.6, 2.5503,-999.0000, 9,34.9145,2,-999.0000,9, 237.3,2,-999.0,9
74EQ20140423,RAPID, 24,1,22,20140602,20140602,1000,0959, 28.45529, -15.66612,3542,3566.2, 2.5504,-999.0000, 9,34.9145,2,-999.0000,9, 237.3,2,-999.0,9
74EQ20140423,RAPID, 24,1,24,20140602,20140602,1000,1000, 28.45529, -15.66612,3542,3566.7, 2.5504,-999.0000, 9,34.9146,2,-999.0000,9, 237.2,2,-999.0,9