BOTTLE,20221103CCHSIOENA
# changed SBE35 and SBE35_FLAG_W to REFTMP and REFTMP_FLAG_W
# BOTTLE,20221018CCHSIOENA
# SBE35 flags changed from 9.0000 to 9
# changed TIME to BTL_TIME
# changed DATE to BTL_DATE
# set TIME to deepest bottle
# set DATE to the date of the deepest bottle
# BOTTLE,20220308OCPNOCYLF
#SHIP: Discovery
#Cruise JC103; RAPID
#Region: North Atlantic (subtropical)
#EXPOCODE: 74EQ20140423
#DATES: 20140423 - 20140603
#Chief Scientist: D. Smeed, NOC
#Supported by grants from the UK Natural Environment Research Council for the RAPID-AMOC program and the ACSIS program (grant no. NE/N018044/1).
#25 stations with 12-place rosette
#CTD: Who - B. King; Status - final
#Notes: Includes CTDTMP, CTDSAL, CTDOXY
#The CTD PRS; TMP data are all good.
#The CTD SAL; OXY data are all calibrated and good.
#Salinity: Who - G. MacCarthy; Status - final
#Oxygen: Who - D. Rayner; Status - final
EXPOCODE,SECT_ID,STNNBR,CASTNO,SAMPNO,DATE,BTL_DATE,TIME,BTL_TIME,LATITUDE,LONGITUDE,DEPTH,CTDPRS,CTDTMP,REFTMP,REFTMP_FLAG_W,CTDSAL,CTDSAL_FLAG_W,SALNTY,SALNTY_FLAG_W,CTDOXY,CTDOXY_FLAG_W,OXYGEN,OXYGEN_FLAG_W
 , , , , , , , , , , ,METERS,DBAR,ITS-90,ITS-90, ,PSS-78, ,PSS-78, ,UMOL/KG, ,UMOL/KG, 
74EQ20140423,RAPID,  0,1, 2,20140426,20140426,2255,2254, 21.79209, -70.39995,-999, 601.4,13.5130,-999.0000, 9,35.7656,2,-999.0000,9, 149.8,2,-999.0,9
74EQ20140423,RAPID,  0,1, 4,20140426,20140426,2255,2254, 21.79209, -70.39995,-999, 601.7,13.5059,-999.0000, 9,35.7647,2,-999.0000,9, 150.0,2,-999.0,9
74EQ20140423,RAPID,  0,1, 6,20140426,20140426,2255,2255, 21.79209, -70.39995,-999, 601.3,13.5097,-999.0000, 9,35.7649,2,-999.0000,9, 150.1,2,-999.0,9
74EQ20140423,RAPID,  0,1, 8,20140426,20140426,2255,2255, 21.79209, -70.39995,-999, 601.3,13.5072,-999.0000, 9,35.7647,2,-999.0000,9, 150.1,2,-999.0,9
74EQ20140423,RAPID,  0,1,10,20140426,20140426,2255,2255, 21.79209, -70.39995,-999, 601.5,13.5044,-999.0000, 9,35.7641,2,-999.0000,9, 149.7,2,-999.0,9
74EQ20140423,RAPID,  0,1,12,20140426,20140426,2255,2255, 21.79209, -70.39995,-999, 602.1,13.4968,-999.0000, 9,35.7634,2,-999.0000,9, 150.1,2,-999.0,9
74EQ20140423,RAPID,  0,1,14,20140426,20140426,2255,2255, 21.79209, -70.39995,-999, 601.6,13.5083,-999.0000, 9,35.7652,2,-999.0000,9, 149.8,2,-999.0,9
74EQ20140423,RAPID,  0,1,16,20140426,20140426,2255,2255, 21.79209, -70.39995,-999, 600.7,13.5183,-999.0000, 9,35.7661,2,-999.0000,9, 149.7,2,-999.0,9
74EQ20140423,RAPID,  0,1,18,20140426,20140426,2255,2255, 21.79209, -70.39995,-999, 601.5,13.5067,-999.0000, 9,35.7643,2,-999.0000,9, 149.7,2,-999.0,9
74EQ20140423,RAPID,  0,1,20,20140426,20140426,2255,2255, 21.79209, -70.39995,-999, 602.0,13.5047,-999.0000, 9,35.7646,2,-999.0000,9, 149.7,2,-999.0,9
74EQ20140423,RAPID,  0,1,22,20140426,20140426,2255,2255, 21.79209, -70.39995,-999, 601.6,13.5111,-999.0000, 9,35.7653,2,-999.0000,9, 150.1,2,-999.0,9
74EQ20140423,RAPID,  0,1,24,20140426,20140426,2255,2255, 21.79209, -70.39995,-999, 601.9,13.5099,-999.0000, 9,35.7650,2,-999.0000,9, 149.5,2,-999.0,9
74EQ20140423,RAPID,  1,1, 2,20140427,20140427,0637,0352, 22.02021, -70.76645,5491,4877.9, 2.2748,-999.0000, 9,34.8821,2,34.8817,2, 261.6,2, 260.1,2
74EQ20140423,RAPID,  1,1, 4,20140427,20140427,0637,0408, 22.02021, -70.76645,5491,4469.5, 2.2758,-999.0000, 9,34.8874,2,34.8863,2, 264.8,2, 263.4,2
74EQ20140423,RAPID,  1,1, 6,20140427,20140427,0637,0424, 22.02021, -70.76645,5491,3957.0, 2.2914,-999.0000, 9,34.8933,2,34.8905,2, 266.5,2, 265.3,2
74EQ20140423,RAPID,  1,1, 8,20140427,20140427,0637,0440, 22.02021, -70.76645,5491,3445.6, 2.3964,-999.0000, 9,34.9032,2,34.9023,2, 268.2,2, 267.2,2
74EQ20140423,RAPID,  1,1,10,20140427,20140427,0637,0456, 22.02021, -70.76645,5491,2937.1, 2.6879,-999.0000, 9,34.9226,2,34.9219,2, 266.1,2, 265.0,2
74EQ20140423,RAPID,  1,1,12,20140427,20140427,0637,0512, 22.02021, -70.76645,5491,2428.5, 3.0573,-999.0000, 9,34.9449,2,34.9452,2, 262.9,2, 261.9,2
74EQ20140423,RAPID,  1,1,14,20140427,20140427,0637,0528, 22.02021, -70.76645,5491,1921.4, 3.4740,-999.0000, 9,34.9625,2,34.9623,2, 261.4,2, 260.8,2
74EQ20140423,RAPID,  1,1,16,20140427,20140427,0637,0540, 22.02021, -70.76645,5491,1616.4, 4.0226,-999.0000, 9,34.9841,2,34.9841,2, 257.6,2, 256.8,2
74EQ20140423,RAPID,  1,1,18,20140427,20140427,0637,0600, 22.02021, -70.76645,5491, 909.2, 8.3779,-999.0000, 9,35.0719,2,35.0704,2, 136.4,2, 135.0,2
74EQ20140423,RAPID,  1,1,20,20140427,20140427,0637,0613, 22.02021, -70.76645,5491, 506.5,15.6634,-999.0000, 9,36.1246,2,36.1262,2, 164.6,2, 164.0,2
74EQ20140423,RAPID,  1,1,22,20140427,20140427,0637,0625, 22.02021, -70.76645,5491, 203.9,21.6922,-999.0000, 9,36.9106,2,36.9109,2, 184.9,2, 184.3,2
74EQ20140423,RAPID,  1,1,24,20140427,20140427,0637,0637, 22.02021, -70.76645,5491,  13.8,26.5200,-999.0000, 9,36.1931,2,36.1791,2, 203.4,2, 205.0,2
74EQ20140423,RAPID,  2,1, 2,20140427,20140427,1244,1012, 22.14248, -70.96350,5420,4876.9, 2.2821,-999.0000, 9,34.8830,2,34.8836,2, 262.2,2, 261.3,2
74EQ20140423,RAPID,  2,1, 4,20140427,20140427,1244,1025, 22.14248, -70.96350,5420,4465.9, 2.2799,-999.0000, 9,34.8878,2,34.8878,2, 265.1,2, 263.4,2
74EQ20140423,RAPID,  2,1, 6,20140427,20140427,1244,1040, 22.14248, -70.96350,5420,3952.0, 2.2833,-999.0000, 9,34.8928,2,34.8922,2, 265.9,2, 265.5,2
74EQ20140423,RAPID,  2,1, 8,20140427,20140427,1244,1055, 22.14248, -70.96350,5420,3439.6, 2.3948,-999.0000, 9,34.9037,2,34.9034,2, 267.2,2, 267.5,2
74EQ20140423,RAPID,  2,1,10,20140427,20140427,1244,1109, 22.14248, -70.96350,5420,2929.2, 2.6810,-999.0000, 9,34.9215,2,34.9219,2, 267.1,2, 266.3,2
74EQ20140423,RAPID,  2,1,12,20140427,20140427,1244,1124, 22.14248, -70.96350,5420,2419.5, 3.1254,-999.0000, 9,34.9480,2,34.9477,2, 262.6,2, 262.2,2
74EQ20140423,RAPID,  2,1,14,20140427,20140427,1244,1139, 22.14248, -70.96350,5420,1910.8, 3.6762,-999.0000, 9,34.9674,2,34.9680,2, 261.7,2, 261.4,2
74EQ20140423,RAPID,  2,1,16,20140427,20140427,1244,1154, 22.14248, -70.96350,5420,1405.0, 4.6901,-999.0000, 9,35.0230,2,-999.0000,9, 245.1,2, 243.8,2
74EQ20140423,RAPID,  2,1,18,20140427,20140427,1244,1210, 22.14248, -70.96350,5420, 900.1, 8.3285,-999.0000, 9,35.0625,2,35.0629,2, 135.3,2, 134.3,2
74EQ20140423,RAPID,  2,1,20,20140427,20140427,1244,1222, 22.14248, -70.96350,5420, 498.0,15.9187,-999.0000, 9,36.1744,2,36.1750,2, 170.1,2, 170.4,2
74EQ20140423,RAPID,  2,1,22,20140427,20140427,1244,1232, 22.14248, -70.96350,5420, 197.9,22.3542,-999.0000, 9,36.9806,2,36.9817,2, 186.2,2, 186.5,2
74EQ20140423,RAPID,  2,1,24,20140427,20140427,1244,1244, 22.14248, -70.96350,5420,   7.9,26.7506,-999.0000, 9,36.1760,2,36.1769,2, 202.8,2, 208.1,2
74EQ20140423,RAPID,  3,1, 2,20140430,20140430,0632,0408, 27.10462, -76.61251,4101,4055.9, 2.3180,-999.0000, 9,34.8936,2,34.8953,2, 265.3,2, 276.6,4
74EQ20140423,RAPID,  3,1, 4,20140430,20140430,0632,0416, 27.10462, -76.61251,4101,3953.8, 2.3272,-999.0000, 9,34.8952,2,34.8951,2, 266.2,2, 266.8,2
74EQ20140423,RAPID,  3,1, 6,20140430,20140430,0632,0431, 27.10462, -76.61251,4101,3443.7, 2.4874,-999.0000, 9,34.9075,2,34.9077,2, 268.9,2, 268.6,2
74EQ20140423,RAPID,  3,1, 8,20140430,20140430,0632,0441, 27.10462, -76.61251,4101,3238.8, 2.6104,-999.0000, 9,34.9153,2,34.9151,2, 268.2,2, 268.4,2
74EQ20140423,RAPID,  3,1,10,20140430,20140430,0632,0453, 27.10462, -76.61251,4101,2933.2, 2.8630,-999.0000, 9,34.9302,2,34.9305,2, 265.5,2, 265.3,2
74EQ20140423,RAPID,  3,1,12,20140430,20140430,0632,0508, 27.10462, -76.61251,4101,2424.4, 3.3166,-999.0000, 9,34.9524,2,34.9526,2, 262.7,2, 262.8,2
74EQ20140423,RAPID,  3,1,14,20140430,20140430,0632,0523, 27.10462, -76.61251,4101,1917.2, 3.8166,-999.0000, 9,34.9713,2,34.9719,2, 260.0,2, 259.6,2
74EQ20140423,RAPID,  3,1,16,20140430,20140430,0632,0538, 27.10462, -76.61251,4101,1410.4, 4.2975,-999.0000, 9,34.9937,2,34.9943,2, 253.8,2, 254.3,2
74EQ20140423,RAPID,  3,1,18,20140430,20140430,0632,0554, 27.10462, -76.61251,4101, 904.2, 7.3977,-999.0000, 9,35.0892,2,35.0893,2, 163.7,2, 163.9,2
74EQ20140423,RAPID,  3,1,20,20140430,20140430,0632,0608, 27.10462, -76.61251,4101, 501.4,15.8577,-999.0000, 9,36.1600,2,36.1600,2, 173.1,2, 173.5,2
74EQ20140423,RAPID,  3,1,22,20140430,20140430,0632,0619, 27.10462, -76.61251,4101, 201.0,19.6278,-999.0000, 9,36.6431,2,36.6439,2, 189.8,2, 190.2,2
74EQ20140423,RAPID,  3,1,24,20140430,20140430,0632,0632, 27.10462, -76.61251,4101,  10.7,25.6563,-999.0000, 9,36.5354,2,36.5336,2, 205.4,2, 206.4,2
74EQ20140423,RAPID,  4,1, 2,20140502,20140502,0604,0127, 26.53649, -75.70390,4651,4723.3, 2.2276,-999.0000, 9,34.8793,2,34.8791,2, 259.6,2, 257.8,2
74EQ20140423,RAPID,  4,1, 4,20140502,20140502,0604,0138, 26.53649, -75.70390,4651,4467.3, 2.2525,-999.0000, 9,34.8853,2,34.8852,2, 263.2,2, 261.9,2
74EQ20140423,RAPID,  4,1, 6,20140502,20140502,0604,0152, 26.53649, -75.70390,4651,3954.8, 2.2819,-999.0000, 9,34.8922,2,34.8919,2, 266.7,2, 264.8,2
74EQ20140423,RAPID,  4,1, 8,20140502,20140502,0604,0232, 26.53649, -75.70390,4651,3443.1, 2.4189,-999.0000, 9,34.9043,2,34.9044,2, 267.8,2, 266.8,2
74EQ20140423,RAPID,  4,1,10,20140502,20140502,0604,0247, 26.53649, -75.70390,4651,2933.7, 2.7493,-999.0000, 9,34.9238,2,34.9243,2, 266.1,2, 265.3,2
74EQ20140423,RAPID,  4,1,12,20140502,20140502,0604,0302, 26.53649, -75.70390,4651,2425.1, 3.2069,-999.0000, 9,34.9459,2,34.9464,2, 263.1,2, 263.3,2
74EQ20140423,RAPID,  4,1,14,20140502,20140502,0604,0343, 26.53649, -75.70390,4651,1815.9, 3.8414,-999.0000, 9,34.9709,2,34.9716,2, 259.5,2, 259.3,2
74EQ20140423,RAPID,  4,1,16,20140502,20140502,0604,0356, 26.53649, -75.70390,4651,1410.7, 4.6119,-999.0000, 9,35.0169,2,35.0179,2, 245.9,2, 246.7,2
74EQ20140423,RAPID,  4,1,18,20140502,20140502,0604,0437, 26.53649, -75.70390,4651, 804.4,10.6585,-999.0000, 9,35.3616,2,35.3628,2, 138.0,2, 138.2,2
74EQ20140423,RAPID,  4,1,20,20140502,20140502,0604,0449, 26.53649, -75.70390,4651, 502.2,17.0663,-999.0000, 9,36.3769,2,36.3788,2, 187.0,2, 186.7,2
74EQ20140423,RAPID,  4,1,22,20140502,20140502,0604,0528, 26.53649, -75.70390,4651, 100.8,24.2405,-999.0000, 9,36.6372,2,36.6404,2, 208.2,2, 206.1,2
74EQ20140423,RAPID,  4,1,24,20140502,20140502,0604,0604, 26.53649, -75.70390,4651,  10.4,26.8354,-999.0000, 9,36.3072,2,36.3063,2, 203.2,2, 204.8,2
74EQ20140423,RAPID,  5,1, 2,20140502,20140502,0302,0034, 26.53648, -75.70389,4706,4748.5, 2.2019,-999.0000, 9,34.8757,2,34.8766,2, 256.0,2, 257.4,2
74EQ20140423,RAPID,  5,1, 4,20140502,20140502,0302,0045, 26.53648, -75.70389,4706,4466.5, 2.2584,-999.0000, 9,34.8859,2,34.8852,2, 262.7,2, 263.5,2
74EQ20140423,RAPID,  5,1, 6,20140502,20140502,0302,0100, 26.53648, -75.70389,4706,3954.5, 2.2847,-999.0000, 9,34.8927,2,34.8928,2, 266.6,2, 266.7,2
74EQ20140423,RAPID,  5,1, 8,20140502,20140502,0302,0115, 26.53648, -75.70389,4706,3442.3, 2.4169,-999.0000, 9,34.9043,2,34.9045,2, 269.1,2, 268.7,2
74EQ20140423,RAPID,  5,1,10,20140502,20140502,0302,0129, 26.53648, -75.70389,4706,2932.3, 2.7311,-999.0000, 9,34.9235,2,34.9232,2, 267.0,2, 267.0,2
74EQ20140423,RAPID,  5,1,12,20140502,20140502,0302,0144, 26.53648, -75.70389,4706,2424.1, 3.2172,-999.0000, 9,34.9498,2,34.9495,2, 263.1,2, 263.2,2
74EQ20140423,RAPID,  5,1,14,20140502,20140502,0302,0200, 26.53648, -75.70389,4706,1814.7, 3.8541,-999.0000, 9,34.9723,2,34.9727,2, 261.7,2, 261.4,2
74EQ20140423,RAPID,  5,1,16,20140502,20140502,0302,0213, 26.53648, -75.70389,4706,1408.9, 4.6147,-999.0000, 9,35.0154,2,35.0157,2, 247.1,2, 247.4,2
74EQ20140423,RAPID,  5,1,18,20140502,20140502,0302,0229, 26.53648, -75.70389,4706, 802.4,10.9948,-999.0000, 9,35.4132,2,35.4127,2, 141.2,2, 140.9,2
74EQ20140423,RAPID,  5,1,20,20140502,20140502,0302,0240, 26.53648, -75.70389,4706, 500.6,16.9476,-999.0000, 9,36.3548,2,36.3556,2, 184.8,2, 185.0,2
74EQ20140423,RAPID,  5,1,22,20140502,20140502,0302,0253, 26.53648, -75.70389,4706,  99.6,24.3801,-999.0000, 9,36.6693,2,36.6671,2, 208.7,2, 207.7,2
74EQ20140423,RAPID,  5,1,24,20140502,20140502,0302,0302, 26.53648, -75.70389,4706,   9.8,26.5863,-999.0000, 9,36.4681,2,36.4671,2, 203.9,2, 204.0,2
74EQ20140423,RAPID,  6,1, 2,20140503,20140503,0315,0105, 26.54633, -76.74074,3565,3546.7, 2.4765,-999.0000, 9,34.9067,2,34.9066,2, 268.8,2, 268.4,2
74EQ20140423,RAPID,  6,1, 4,20140503,20140503,0315,0118, 26.54633, -76.74074,3565,3138.3, 2.6990,-999.0000, 9,34.9203,2,34.9200,2, 268.2,2, 268.0,2
74EQ20140423,RAPID,  6,1, 6,20140503,20140503,0315,0132, 26.54633, -76.74074,3565,2729.4, 3.0037,-999.0000, 9,34.9380,2,34.9385,2, 265.1,2, 265.3,2
74EQ20140423,RAPID,  6,1, 8,20140503,20140503,0315,0146, 26.54633, -76.74074,3565,2320.9, 3.3661,-999.0000, 9,34.9535,2,34.9535,2, 263.8,2, 263.7,2
74EQ20140423,RAPID,  6,1,10,20140503,20140503,0315,0159, 26.54633, -76.74074,3565,1914.1, 3.7896,-999.0000, 9,34.9701,2,34.9700,2, 261.8,2, 262.0,2
74EQ20140423,RAPID,  6,1,12,20140503,20140503,0315,0210, 26.54633, -76.74074,3565,1610.3, 3.9335,-999.0000, 9,34.9784,2,34.9785,2, 260.3,2, 259.3,2
74EQ20140423,RAPID,  6,1,14,20140503,20140503,0315,0221, 26.54633, -76.74074,3565,1306.8, 4.4945,-999.0000, 9,35.0134,2,35.0137,2, 250.5,2, 250.3,2
74EQ20140423,RAPID,  6,1,16,20140503,20140503,0315,0232, 26.54633, -76.74074,3565,1002.9, 5.9514,-999.0000, 9,35.0738,2,35.0743,2, 209.3,2, 209.1,2
74EQ20140423,RAPID,  6,1,18,20140503,20140503,0315,0241, 26.54633, -76.74074,3565, 801.7, 9.3259,-999.0000, 9,35.2172,2,35.2190,2, 140.8,2, 140.5,2
74EQ20140423,RAPID,  6,1,20,20140503,20140503,0315,0252, 26.54633, -76.74074,3565, 500.6,16.0870,-999.0000, 9,36.2020,2,36.2019,2, 174.4,2, 174.6,2
74EQ20140423,RAPID,  6,1,22,20140503,20140503,0315,0305, 26.54633, -76.74074,3565,  99.7,23.8662,-999.0000, 9,36.6691,2,36.6666,2, 210.7,2, 212.6,2
74EQ20140423,RAPID,  6,1,24,20140503,20140503,0315,0315, 26.54633, -76.74074,3565,   9.9,26.2777,-999.0000, 9,36.4511,2,36.4509,2, 204.7,2, 211.7,2
74EQ20140423,RAPID,  7,1, 2,20140504,20140504,0433,0212, 26.54665, -76.70369,3860,3902.5, 2.4079,-999.0000, 9,34.9007,2,34.9013,2, 267.6,2, 267.3,2
74EQ20140423,RAPID,  7,1, 4,20140504,20140504,0433,0228, 26.54665, -76.70369,3860,3342.0, 2.6525,-999.0000, 9,34.9175,2,34.9176,2, 268.1,2, 267.5,2
74EQ20140423,RAPID,  7,1, 6,20140504,20140504,0433,0242, 26.54665, -76.70369,3860,2831.7, 2.9753,-999.0000, 9,34.9356,2,34.9353,2, 265.7,2, 265.6,2
74EQ20140423,RAPID,  7,1, 7,20140504,20140504,0433,0256, 26.54665, -76.70369,3860,2323.5, 3.3606,-999.0000, 9,34.9513,2,-999.0000,9, 264.3,2,-999.0,9
74EQ20140423,RAPID,  7,1, 8,20140504,20140504,0433,0310, 26.54665, -76.70369,3860,1917.2, 3.7080,-999.0000, 9,34.9679,2,34.9679,2, 262.2,2, 261.9,2
74EQ20140423,RAPID,  7,1,10,20140504,20140504,0433,0320, 26.54665, -76.70369,3860,1815.3, 3.8279,-999.0000, 9,34.9722,2,34.9723,2, 261.3,2, 260.5,2
74EQ20140423,RAPID,  7,1,12,20140504,20140504,0433,0329, 26.54665, -76.70369,3860,1613.4, 3.9466,-999.0000, 9,34.9734,2,34.9734,2, 260.8,2, 260.6,2
74EQ20140423,RAPID,  7,1,14,20140504,20140504,0433,0340, 26.54665, -76.70369,3860,1310.5, 4.5594,-999.0000, 9,35.0166,2,35.0169,2, 249.0,2, 249.5,2
74EQ20140423,RAPID,  7,1,16,20140504,20140504,0433,0351, 26.54665, -76.70369,3860,1007.1, 6.0723,-999.0000, 9,35.0691,2,35.0693,2, 205.5,2, 206.0,2
74EQ20140423,RAPID,  7,1,18,20140504,20140504,0433,0400, 26.54665, -76.70369,3860, 805.8, 9.3084,-999.0000, 9,35.2187,2,35.2226,2, 141.6,2, 141.9,2
74EQ20140423,RAPID,  7,1,20,20140504,20140504,0433,0411, 26.54665, -76.70369,3860, 503.8,16.4589,-999.0000, 9,36.2677,2,36.2693,2, 180.4,2, 180.8,2
74EQ20140423,RAPID,  7,1,22,20140504,20140504,0433,0424, 26.54665, -76.70369,3860, 102.1,23.9005,-999.0000, 9,36.6923,2,36.6910,2, 209.9,2, 206.1,2
74EQ20140423,RAPID,  7,1,24,20140504,20140504,0433,0433, 26.54665, -76.70369,3860,  11.3,26.1152,-999.0000, 9,36.5317,2,36.5294,2, 205.1,2, 206.0,2
74EQ20140423,RAPID,  8,1, 2,20140505,20140505,2306,2049, 26.49227, -76.67625,4581,4620.9, 2.3120,-999.0000, 9,34.8888,2,34.8890,2, 263.8,2, 264.7,2
74EQ20140423,RAPID,  8,1, 4,20140505,20140505,2306,2058, 26.49227, -76.67625,4581,4468.0, 2.3215,-999.0000, 9,34.8909,2,34.8903,2, 265.6,2, 265.7,2
74EQ20140423,RAPID,  8,1, 6,20140505,20140505,2306,2112, 26.49227, -76.67625,4581,3956.3, 2.4232,-999.0000, 9,34.9011,2,34.9008,2, 269.0,2, 268.8,2
74EQ20140423,RAPID,  8,1, 8,20140505,20140505,2306,2126, 26.49227, -76.67625,4581,3445.1, 2.6536,-999.0000, 9,34.9163,2,34.9162,2, 269.4,2, 268.9,2
74EQ20140423,RAPID,  8,1,10,20140505,20140505,2306,2139, 26.49227, -76.67625,4581,2935.1, 2.9289,-999.0000, 9,34.9309,2,34.9306,2, 267.6,2, 266.9,2
74EQ20140423,RAPID,  8,1,12,20140505,20140505,2306,2152, 26.49227, -76.67625,4581,2427.1, 3.2610,-999.0000, 9,34.9492,2,34.9492,2, 264.5,2, 264.1,2
74EQ20140423,RAPID,  8,1,14,20140505,20140505,2306,2207, 26.49227, -76.67625,4581,1819.0, 3.8094,-999.0000, 9,34.9726,2,34.9734,2, 262.2,2, 260.7,2
74EQ20140423,RAPID,  8,1,16,20140505,20140505,2306,2219, 26.49227, -76.67625,4581,1414.8, 4.3159,-999.0000, 9,34.9944,2,34.9943,2, 255.1,2, 254.6,2
74EQ20140423,RAPID,  8,1,18,20140505,20140505,2306,2234, 26.49227, -76.67625,4581, 809.0, 8.9625,-999.0000, 9,35.1854,2,35.1863,2, 144.0,2, 142.9,2
74EQ20140423,RAPID,  8,1,20,20140505,20140505,2306,2245, 26.49227, -76.67625,4581, 507.3,15.7693,-999.0000, 9,36.1411,2,36.1446,2, 174.4,2, 174.1,2
74EQ20140423,RAPID,  8,1,22,20140505,20140505,2306,2257, 26.49227, -76.67625,4581, 105.7,23.4614,-999.0000, 9,36.6381,2,36.6369,2, 205.5,2, 203.8,2
74EQ20140423,RAPID,  8,1,24,20140505,20140505,2306,2306, 26.49227, -76.67625,4581,  15.5,26.3393,-999.0000, 9,36.4571,2,36.4558,2, 204.7,2, 204.4,2
74EQ20140423,RAPID,  9,1, 2,20140508,20140508,1344,1110, 26.51188, -70.54231,5490,5574.1, 2.1265,-999.0000, 9,34.8537,2,34.8540,2, 249.0,2, 249.8,2
74EQ20140423,RAPID,  9,1, 4,20140508,20140508,1344,1119, 26.51188, -70.54231,5490,5388.9, 2.1990,-999.0000, 9,34.8659,2,34.8660,2, 254.5,2, 254.5,2
74EQ20140423,RAPID,  9,1, 6,20140508,20140508,1344,1129, 26.51188, -70.54231,5490,5183.3, 2.2531,-999.0000, 9,34.8758,2,34.8759,2, 258.5,2, 258.7,2
74EQ20140423,RAPID,  9,1, 8,20140508,20140508,1344,1138, 26.51188, -70.54231,5490,4977.4, 2.2752,-999.0000, 9,34.8812,2,-999.0000,9, 261.3,2,-999.0,9
74EQ20140423,RAPID,  9,1,10,20140508,20140508,1344,1156, 26.51188, -70.54231,5490,4258.3, 2.3006,-999.0000, 9,34.8918,2,34.8912,2, 266.6,2, 266.3,2
74EQ20140423,RAPID,  9,1,12,20140508,20140508,1344,1210, 26.51188, -70.54231,5490,3746.6, 2.3671,-999.0000, 9,34.9000,2,34.8993,2, 268.7,2, 267.8,2
74EQ20140423,RAPID,  9,1,14,20140508,20140508,1344,1243, 26.51188, -70.54231,5490,2117.1, 3.4295,-999.0000, 9,34.9661,2,34.9660,2, 262.1,2, 261.1,2
74EQ20140423,RAPID,  9,1,16,20140508,20140508,1344,1303, 26.51188, -70.54231,5490,1307.5, 4.9934,-999.0000, 9,35.0650,2,35.0654,2, 237.5,2, 236.7,2
74EQ20140423,RAPID,  9,1,18,20140508,20140508,1344,1311, 26.51188, -70.54231,5490,1206.1, 5.3656,-999.0000, 9,35.0786,2,35.0784,2, 226.4,2, 227.5,2
74EQ20140423,RAPID,  9,1,20,20140508,20140508,1344,1319, 26.51188, -70.54231,5490,1105.2, 5.7717,-999.0000, 9,35.0827,2,35.0829,2, 214.6,2, 214.8,2
74EQ20140423,RAPID,  9,1,22,20140508,20140508,1344,1333, 26.51188, -70.54231,5490, 601.5,14.5921,-999.0000, 9,35.9401,2,35.9408,2, 168.2,2, 168.0,2
74EQ20140423,RAPID,  9,1,24,20140508,20140508,1344,1344, 26.51188, -70.54231,5490, 300.5,18.2500,-999.0000, 9,36.5535,2,36.5524,2, 194.9,2, 194.6,2