BOTTLE,20221031CCHSIOENA
EXPOCODE,SECT_ID,STNNBR,CASTNO,SAMPNO,BTLNBR,BTLNBR_FLAG_W,DATE,TIME,LATITUDE,LONGITUDE,DEPTH,CTDPRS,CTDTMP,CTDSAL,CTDSAL_FLAG_W,SALNTY,SALNTY_FLAG_W
,,,,,,,,,,,METERS,DBAR,ITS-90,PSS-78,,PSS-78,
  74JC20001121, SR01b,    24,  1,      1,      1,2,20001127,0755,-60.0045, -55.3185, 3499,   3551.6,  -0.0529,  34.6616,2,  34.6603,2
  74JC20001121, SR01b,    24,  1,      2,      2,2,20001127,0755,-60.0045, -55.3185, 3499,   3170.8,   0.0471,  34.6664,2,  34.6652,2
  74JC20001121, SR01b,    24,  1,      3,      3,2,20001127,0755,-60.0045, -55.3185, 3499,   2656.8,   0.3549,  34.6889,2,  34.6888,2
  74JC20001121, SR01b,    24,  1,      4,      4,2,20001127,0755,-60.0045, -55.3185, 3499,   2144.4,   0.6075,  34.7040,2,  34.7037,2
  74JC20001121, SR01b,    24,  1,      5,      5,2,20001127,0755,-60.0045, -55.3185, 3499,   1888.4,   0.7655,  34.7069,2,  34.7064,2
  74JC20001121, SR01b,    24,  1,      6,      6,2,20001127,0755,-60.0045, -55.3185, 3499,   1632.8,   0.9959,  34.7195,2,  34.7190,2
  74JC20001121, SR01b,    24,  1,      7,      7,2,20001127,0755,-60.0045, -55.3185, 3499,   1021.1,   1.4336,  34.7194,2,  34.7219,2
  74JC20001121, SR01b,    24,  1,      8,      8,2,20001127,0755,-60.0045, -55.3185, 3499,    766.7,   1.7779,  34.7231,2,  34.7221,2
  74JC20001121, SR01b,    24,  1,      9,      9,2,20001127,0755,-60.0045, -55.3185, 3499,    513.0,   1.8903,  34.6803,2,  34.6807,2
  74JC20001121, SR01b,    24,  1,     10,     10,2,20001127,0755,-60.0045, -55.3185, 3499,    259.5,   1.8557,  34.5522,2,  34.5520,2
  74JC20001121, SR01b,    24,  1,     11,     11,2,20001127,0755,-60.0045, -55.3185, 3499,    107.6,  -0.8507,  33.9738,2,  33.9814,2
  74JC20001121, SR01b,    24,  1,     12,     12,2,20001127,0755,-60.0045, -55.3185, 3499,     16.3,  -0.0526,  33.9059,2,  33.9082,2
  74JC20001121, SR01b,    25,  1,      1,      1,2,20001127,1228,-60.3375, -55.0773, 3438,   3488.0,  -0.0006,  34.6635,2,  34.6625,2
  74JC20001121, SR01b,    25,  1,      2,      2,2,20001127,1228,-60.3375, -55.0773, 3438,   3171.4,   0.1237,  34.6706,2,  34.6703,2
  74JC20001121, SR01b,    25,  1,      3,      3,2,20001127,1228,-60.3375, -55.0773, 3438,   2657.6,   0.3770,  34.6901,2,  34.6899,2
  74JC20001121, SR01b,    25,  1,      4,      4,2,20001127,1228,-60.3375, -55.0773, 3438,   2145.1,   0.6646,  34.7067,2,  34.7068,2
  74JC20001121, SR01b,    25,  1,      5,      5,2,20001127,1228,-60.3375, -55.0773, 3438,   1889.4,   0.8012,  34.7114,2,  34.7121,2
  74JC20001121, SR01b,    25,  1,      6,      6,2,20001127,1228,-60.3375, -55.0773, 3438,   1634.2,   0.9751,  34.7175,2,  34.7182,2
  74JC20001121, SR01b,    25,  1,      7,      7,2,20001127,1228,-60.3375, -55.0773, 3438,   1022.5,   1.4830,  34.7220,2,  34.7219,2
  74JC20001121, SR01b,    25,  1,      8,      8,2,20001127,1228,-60.3375, -55.0773, 3438,    768.3,   1.7306,  34.7176,2,  34.7172,2
  74JC20001121, SR01b,    25,  1,      9,      9,2,20001127,1228,-60.3375, -55.0773, 3438,    513.6,   2.0141,  34.6810,2,  34.6803,2
  74JC20001121, SR01b,    25,  1,     10,     10,2,20001127,1228,-60.3375, -55.0773, 3438,    260.6,   2.0789,  34.5626,2,  34.5603,2
  74JC20001121, SR01b,    25,  1,     11,     11,2,20001127,1228,-60.3375, -55.0773, 3438,    108.5,  -0.5676,  34.0105,2,  34.0158,2
  74JC20001121, SR01b,    25,  1,     12,     12,2,20001127,1228,-60.3375, -55.0773, 3438,     17.7,  -0.1180,  33.8875,2,  33.8914,2
  74JC20001121, SR01b,    26,  1,      1,      1,2,20001127,1950,-60.6750, -54.8118, 3109,   3149.8,  -0.0484,  34.6624,2,  34.6615,2
  74JC20001121, SR01b,    26,  1,      2,      2,2,20001127,1950,-60.6750, -54.8118, 3109,   2913.7,  -0.0303,  34.6643,2,  34.6633,2
  74JC20001121, SR01b,    26,  1,      3,      3,2,20001127,1950,-60.6750, -54.8118, 3109,   2656.9,   0.0478,  34.6693,2,  34.6688,2
  74JC20001121, SR01b,    26,  1,      4,      4,2,20001127,1950,-60.6750, -54.8118, 3109,   2144.4,   0.3024,  34.6879,2,  34.6880,2
  74JC20001121, SR01b,    26,  1,      5,      5,2,20001127,1950,-60.6750, -54.8118, 3109,   1888.2,   0.3479,  34.6886,2,  34.6888,2
  74JC20001121, SR01b,    26,  1,      6,      6,2,20001127,1950,-60.6750, -54.8118, 3109,   1632.5,   0.4909,  34.6964,2,  34.6960,2
  74JC20001121, SR01b,    26,  1,      7,      7,2,20001127,1950,-60.6750, -54.8118, 3109,   1020.7,   0.8766,  34.6982,2,  34.7005,2
  74JC20001121, SR01b,    26,  1,      8,      8,2,20001127,1950,-60.6750, -54.8118, 3109,    766.3,   0.8762,  34.6671,2,  34.6658,2
  74JC20001121, SR01b,    26,  1,      9,      9,2,20001127,1950,-60.6750, -54.8118, 3109,    512.1,   1.6266,  34.7143,2,  34.7137,2
  74JC20001121, SR01b,    26,  1,     10,     10,2,20001127,1950,-60.6750, -54.8118, 3109,    259.0,   0.7211,  34.5353,2,  34.5322,2
  74JC20001121, SR01b,    26,  1,     11,     11,2,20001127,1950,-60.6750, -54.8118, 3109,    107.1,  -0.4126,  34.3563,2,  34.3600,2
  74JC20001121, SR01b,    26,  1,     12,     12,2,20001127,1950,-60.6750, -54.8118, 3109,     15.5,  -0.1169,  34.2054,2,  34.2076,2
  74JC20001121, SR01b,    27,  1,      1,      1,2,20001127,2300,-60.7997, -54.7195, 2599,   2629.9,   0.0823,  34.6705,2,  34.6703,2
  74JC20001121, SR01b,    27,  1,      2,      2,2,20001127,2300,-60.7997, -54.7195, 2599,   2143.8,   0.2743,  34.6831,2,  34.6831,2
  74JC20001121, SR01b,    27,  1,      3,      3,2,20001127,2300,-60.7997, -54.7195, 2599,   1887.8,   0.3527,  34.6868,2,  34.6868,2
  74JC20001121, SR01b,    27,  1,      4,      4,2,20001127,2300,-60.7997, -54.7195, 2599,   1632.0,   0.4250,  34.6840,2,  34.6841,2
  74JC20001121, SR01b,    27,  1,      5,      5,2,20001127,2300,-60.7997, -54.7195, 2599,   1325.9,   0.5911,  34.6872,2,  34.6878,2
  74JC20001121, SR01b,    27,  1,      6,      6,2,20001127,2300,-60.7997, -54.7195, 2599,   1020.3,   0.8985,  34.7040,2,  34.7035,2
  74JC20001121, SR01b,    27,  1,      7,      7,2,20001127,2300,-60.7997, -54.7195, 2599,    766.7,   1.2456,  34.7178,2,  34.7180,2
  74JC20001121, SR01b,    27,  1,      8,      8,2,20001127,2300,-60.7997, -54.7195, 2599,    512.9,   1.3961,  34.6970,2,  34.6966,2
  74JC20001121, SR01b,    27,  1,      9,      9,2,20001127,2300,-60.7997, -54.7195, 2599,    259.5,   0.5076,  34.5468,2,  34.5475,2
  74JC20001121, SR01b,    27,  1,     10,     10,2,20001127,2300,-60.7997, -54.7195, 2599,    107.6,   0.5995,  34.4068,2,  34.4066,2
  74JC20001121, SR01b,    27,  1,     11,     11,2,20001127,2300,-60.7997, -54.7195, 2599,     56.9,  -0.1097,  34.2240,2,  34.2230,2
  74JC20001121, SR01b,    27,  1,     12,     12,2,20001127,2300,-60.7997, -54.7195, 2599,     16.0,  -0.0879,  34.1143,2,  34.1167,2
  74JC20001121, SR01b,    28,  1,      1,      1,2,20001128,0116,-60.8335, -54.7228, 1694,   1623.7,   0.4968,  34.6812,2,  34.6819,2
  74JC20001121, SR01b,    28,  1,      2,      2,2,20001128,0116,-60.8335, -54.7228, 1694,   1526.8,   0.4995,  34.6805,2,  34.6805,2
  74JC20001121, SR01b,    28,  1,      3,      3,2,20001128,0116,-60.8335, -54.7228, 1694,   1424.7,   0.5266,  34.6798,2,  34.6799,2
  74JC20001121, SR01b,    28,  1,      4,      4,2,20001128,0116,-60.8335, -54.7228, 1694,   1271.5,   0.6569,  34.6922,2,  34.6911,2
  74JC20001121, SR01b,    28,  1,      5,      5,2,20001128,0116,-60.8335, -54.7228, 1694,   1017.5,   0.6641,  34.6846,2,  34.6837,2
  74JC20001121, SR01b,    28,  1,      6,      6,2,20001128,0116,-60.8335, -54.7228, 1694,   1017.6,   0.6778,  34.6859,2,  34.6854,2
  74JC20001121, SR01b,    28,  1,      7,      7,2,20001128,0116,-60.8335, -54.7228, 1694,    764.3,   1.0092,  34.6969,2,  34.6951,2
  74JC20001121, SR01b,    28,  1,      8,      8,2,20001128,0116,-60.8335, -54.7228, 1694,    510.6,   1.5381,  34.7197,2,  34.7182,2
  74JC20001121, SR01b,    28,  1,      9,      9,2,20001128,0116,-60.8335, -54.7228, 1694,    256.9,   1.1540,  34.6092,2,  34.6121,2
  74JC20001121, SR01b,    28,  1,     10,     10,2,20001128,0116,-60.8335, -54.7228, 1694,    105.2,   0.2039,  34.4181,2,  34.4187,2
  74JC20001121, SR01b,    28,  1,     11,     11,2,20001128,0116,-60.8335, -54.7228, 1694,     54.5,   0.0790,  34.3405,2,  34.3421,2
  74JC20001121, SR01b,    28,  1,     12,     12,2,20001128,0116,-60.8335, -54.7228, 1694,     13.8,  -0.2057,  34.1183,2,  34.1224,2
  74JC20001121, SR01b,    29,  1,      1,      1,2,20001128,0256,-60.8498, -54.7117, 1027,   1029.3,   0.6145,  34.6815,2,  34.6805,2
  74JC20001121, SR01b,    29,  1,      2,      2,2,20001128,0256,-60.8498, -54.7117, 1027,    917.5,   0.6923,  34.6880,2,  34.6860,2
  74JC20001121, SR01b,    29,  1,      3,      3,2,20001128,0256,-60.8498, -54.7117, 1027,    815.8,   0.8252,  34.6939,2,  34.6935,2
  74JC20001121, SR01b,    29,  1,      4,      4,2,20001128,0256,-60.8498, -54.7117, 1027,    714.6,   0.5713,  34.6645,2,  34.6615,2
  74JC20001121, SR01b,    29,  1,      5,      5,2,20001128,0256,-60.8498, -54.7117, 1027,    613.0,   0.6556,  34.6671,2,  34.6676,2
  74JC20001121, SR01b,    29,  1,      6,      6,2,20001128,0256,-60.8498, -54.7117, 1027,    511.5,   1.0398,  34.6952,2,  34.6935,2
  74JC20001121, SR01b,    29,  1,      7,      7,2,20001128,0256,-60.8498, -54.7117, 1027,    409.7,   1.3698,  34.7053,2,  34.7056,2
  74JC20001121, SR01b,    29,  1,      8,      8,2,20001128,0256,-60.8498, -54.7117, 1027,    308.4,  -0.0013,  34.5159,2,  34.5564,2
  74JC20001121, SR01b,    29,  1,      9,      9,2,20001128,0256,-60.8498, -54.7117, 1027,    206.9,  -0.5614,  34.4351,2,  34.4378,2
  74JC20001121, SR01b,    29,  1,     10,     10,2,20001128,0256,-60.8498, -54.7117, 1027,    105.3,  -0.3028,  34.4040,2,  34.4046,2
  74JC20001121, SR01b,    29,  1,     11,     11,2,20001128,0256,-60.8498, -54.7117, 1027,     55.3,  -0.3050,  34.3582,2,  34.3619,2
  74JC20001121, SR01b,    29,  1,     12,     12,2,20001128,0256,-60.8498, -54.7117, 1027,     14.2,  -0.1223,  34.1986,2,  34.1988,2
  74JC20001121, SR01b,    30,  1,      1,      1,2,20001128,0454,-60.9815, -54.6202,  586,    583.3,  -0.4272,  34.5687,2,  34.5670,2
  74JC20001121, SR01b,    30,  1,      2,      2,2,20001128,0454,-60.9815, -54.6202,  586,    407.7,  -0.5990,  34.4816,2,  34.4817,2
  74JC20001121, SR01b,    30,  1,      3,      3,2,20001128,0454,-60.9815, -54.6202,  586,    255.4,  -0.4951,  34.4539,2,  34.4544,2
  74JC20001121, SR01b,    30,  1,      4,      4,2,20001128,0454,-60.9815, -54.6202,  586,    103.7,  -0.3601,  34.3901,2,  34.3921,2
  74JC20001121, SR01b,    30,  1,      5,      5,2,20001128,0454,-60.9815, -54.6202,  586,     54.5,  -0.3751,  34.3574,2,  34.3580,2
  74JC20001121, SR01b,    30,  1,      6,      6,2,20001128,0454,-60.9815, -54.6202,  586,     13.7,  -0.4008,  34.3355,2,  34.3343,2
  74JC20001121, SR01b,    31,  1,      1,      1,2,20001128,0625,-61.0520, -54.6028,  382,    376.1,  -0.3327,  34.5305,2,  34.5307,2
  74JC20001121, SR01b,    31,  1,      2,      2,2,20001128,0625,-61.0520, -54.6028,  382,    308.2,  -0.3137,  34.5208,2,  34.5205,2
  74JC20001121, SR01b,    31,  1,      3,      3,2,20001128,0625,-61.0520, -54.6028,  382,    206.6,  -0.2462,  34.4682,2,  34.4685,2
  74JC20001121, SR01b,    31,  1,      4,      4,2,20001128,0625,-61.0520, -54.6028,  382,    105.5,  -0.2023,  34.3753,2,  34.3756,2
  74JC20001121, SR01b,    31,  1,      5,      5,2,20001128,0625,-61.0520, -54.6028,  382,     54.6,  -0.1649,  34.3476,2,  34.3504,2
  74JC20001121, SR01b,    31,  1,      6,      6,2,20001128,0625,-61.0520, -54.6028,  382,     13.4,  -0.1764,  34.3178,2,  34.3145,2
  74JC20001121, SR01b,    32,  1,      1,      1,2,20001202,1625,-67.5773, -68.1305,  325,    324.0,   1.1408,  34.6501,2,  34.6260,2
  74JC20001121, SR01b,    32,  1,      2,      2,2,20001202,1625,-67.5773, -68.1305,  325,    307.1,   1.1220,  34.6454,2,  34.6236,2
  74JC20001121, SR01b,    32,  1,      3,      3,2,20001202,1625,-67.5773, -68.1305,  325,    256.4,   1.0378,  34.6100,2,  34.5958,2
  74JC20001121, SR01b,    32,  1,      4,      4,2,20001202,1625,-67.5773, -68.1305,  325,    205.6,   0.6741,  34.4788,2,  34.4760,2
  74JC20001121, SR01b,    32,  1,      5,      5,2,20001202,1625,-67.5773, -68.1305,  325,    154.9,   0.0323,  34.2594,2,  34.2747,2
  74JC20001121, SR01b,    32,  1,      6,      6,2,20001202,1625,-67.5773, -68.1305,  325,    129.6,  -0.2605,  34.1636,2,  34.1719,2
  74JC20001121, SR01b,    32,  1,      7,      7,2,20001202,1625,-67.5773, -68.1305,  325,    104.0,  -0.5250,  34.0897,2,  34.0960,2
  74JC20001121, SR01b,    32,  1,      8,      8,2,20001202,1625,-67.5773, -68.1305,  325,     78.0,  -0.6687,  34.0373,2,  34.0535,2
  74JC20001121, SR01b,    32,  1,      9,      9,2,20001202,1625,-67.5773, -68.1305,  325,     58.6,  -0.8709,  33.9786,2,  33.9962,2
  74JC20001121, SR01b,    32,  1,     10,     10,2,20001202,1625,-67.5773, -68.1305,  325,     38.3,  -1.0269,  33.9101,2,  33.9548,2
  74JC20001121, SR01b,    32,  1,     11,     11,2,20001202,1625,-67.5773, -68.1305,  325,     28.2,  -1.0735,  33.8910,2,  33.8920,2
  74JC20001121, SR01b,    32,  1,     12,     12,2,20001202,1625,-67.5773, -68.1305,  325,      8.0,  -1.4404,  33.5075,2,  33.7849,2
  74JC20001121, SR01b,    33,  1,      1,      1,2,20001209,1239,-60.2090, -61.1743, 3945,   4009.5,   0.4804,  34.7023,2,  34.6956,2
  74JC20001121, SR01b,    33,  1,      2,      2,2,20001209,1239,-60.2090, -61.1743, 3945,   3682.6,   0.4815,  34.7004,2,  34.6982,2
  74JC20001121, SR01b,    33,  1,      3,      3,2,20001209,1239,-60.2090, -61.1743, 3945,   3168.2,   0.5441,  34.7018,2,  34.7045,2
  74JC20001121, SR01b,    33,  1,      4,      4,2,20001209,1239,-60.2090, -61.1743, 3945,   2654.5,   0.7199,  34.7057,2,  34.6572,2
  74JC20001121, SR01b,    33,  1,      5,      5,2,20001209,1239,-60.2090, -61.1743, 3945,   2141.3,   1.0517,  34.7162,2,  34.7196,2
  74JC20001121, SR01b,    33,  1,      6,      6,2,20001209,1239,-60.2090, -61.1743, 3945,   1630.7,   1.3835,  34.7261,2,  34.7278,2
  74JC20001121, SR01b,    33,  1,      7,      7,2,20001209,1239,-60.2090, -61.1743, 3945,   1019.2,   1.8963,  34.7171,2,  34.7162,2
  74JC20001121, SR01b,    33,  1,      8,      8,2,20001209,1239,-60.2090, -61.1743, 3945,    764.5,   2.1020,  34.6727,2,  34.6721,2
  74JC20001121, SR01b,    33,  1,      9,      9,2,20001209,1239,-60.2090, -61.1743, 3945,    510.8,   2.1594,  34.5795,2,  34.5822,2
  74JC20001121, SR01b,    33,  1,     10,     10,2,20001209,1239,-60.2090, -61.1743, 3945,    257.2,   1.9171,  34.3222,2,  34.3108,2
  74JC20001121, SR01b,    33,  1,     11,     11,2,20001209,1239,-60.2090, -61.1743, 3945,    105.5,  -0.9572,  33.8161,2,  33.9096,2
  74JC20001121, SR01b,    33,  1,     12,     12,2,20001209,1239,-60.2090, -61.1743, 3945,     14.5,   0.3866,  33.6828,2,  33.7485,2
  74JC20001121, SR01b,    34,  1,      1,      1,2,20001209,1801,-59.9307, -61.0700, 4175,   4149.1,   0.4750,  34.6970,2,  34.6943,2
  74JC20001121, SR01b,    34,  1,      2,      2,2,20001209,1801,-59.9307, -61.0700, 4175,   4098.0,   0.4715,  34.6998,2,  34.6947,2
  74JC20001121, SR01b,    34,  1,      3,      3,2,20001209,1801,-59.9307, -61.0700, 4175,   3685.0,   0.5125,  34.6986,2,  34.7015,2
  74JC20001121, SR01b,    34,  1,      4,      4,2,20001209,1801,-59.9307, -61.0700, 4175,   3170.1,   0.5866,  34.6940,2,-999.0000,9
  74JC20001121, SR01b,    34,  1,      5,      5,2,20001209,1801,-59.9307, -61.0700, 4175,   3170.1,   0.5880,  34.6965,2,  34.7064,2
  74JC20001121, SR01b,    34,  1,      6,      6,2,20001209,1801,-59.9307, -61.0700, 4175,   2656.2,   0.7728,  34.7135,2,  34.7113,2
  74JC20001121, SR01b,    34,  1,      7,      7,2,20001209,1801,-59.9307, -61.0700, 4175,   2143.9,   1.0934,  34.7630,2,-999.0000,9
  74JC20001121, SR01b,    34,  1,      8,      8,2,20001209,1801,-59.9307, -61.0700, 4175,   1632.7,   1.4308,  34.8101,2,  34.7280,2
  74JC20001121, SR01b,    34,  1,      9,      9,2,20001209,1801,-59.9307, -61.0700, 4175,   1020.9,   1.9092,  34.8548,2,  34.7141,2
  74JC20001121, SR01b,    34,  1,     10,     10,2,20001209,1801,-59.9307, -61.0700, 4175,    512.5,   2.1498,  34.7050,2,-999.0000,9
  74JC20001121, SR01b,    34,  1,     11,     11,2,20001209,1801,-59.9307, -61.0700, 4175,    258.8,   1.7597,  34.3581,2,  34.3551,2
  74JC20001121, SR01b,    34,  1,     12,     12,2,20001209,1801,-59.9307, -61.0700, 4175,     15.8,   0.4371,  33.3554,2,-999.0000,9