BOTTLE,20221031CCHSIOENA
EXPOCODE,SECT_ID,STNNBR,CASTNO,SAMPNO,BTLNBR,BTLNBR_FLAG_W,DATE,TIME,LATITUDE,LONGITUDE,DEPTH,CTDPRS,CTDTMP,CTDSAL,CTDSAL_FLAG_W,SALNTY,SALNTY_FLAG_W
,,,,,,,,,,,METERS,DBAR,ITS-90,PSS-78,,PSS-78,
  74JC20001121, SR01b,    12,  1,      1,      1,2,20001124,1539,-56.1290, -57.6747, 3702,   3758.6,   0.3487,  34.6803,2,  34.6801,2
  74JC20001121, SR01b,    12,  1,      2,      2,2,20001124,1539,-56.1290, -57.6747, 3702,   3683.8,   0.5888,  34.6942,2,  34.6925,2
  74JC20001121, SR01b,    12,  1,      3,      3,2,20001124,1539,-56.1290, -57.6747, 3702,   3168.9,   1.2249,  34.7197,2,  34.7200,2
  74JC20001121, SR01b,    12,  1,      4,      4,2,20001124,1539,-56.1290, -57.6747, 3702,   3169.0,   1.2261,  34.7196,2,  34.7198,2
  74JC20001121, SR01b,    12,  1,      5,      5,2,20001124,1539,-56.1290, -57.6747, 3702,   2655.4,   1.6382,  34.7231,2,  34.7231,2
  74JC20001121, SR01b,    12,  1,      6,      6,2,20001124,1539,-56.1290, -57.6747, 3702,   2142.6,   1.8975,  34.7081,2,  34.7084,2
  74JC20001121, SR01b,    12,  1,      7,      7,2,20001124,1539,-56.1290, -57.6747, 3702,   1631.5,   2.1307,  34.6744,2,  34.6748,2
  74JC20001121, SR01b,    12,  1,      8,      8,2,20001124,1539,-56.1290, -57.6747, 3702,   1020.3,   2.5737,  34.4924,2,  34.4932,2
  74JC20001121, SR01b,    12,  1,      9,      9,2,20001124,1539,-56.1290, -57.6747, 3702,    765.7,   2.5081,  34.3323,2,  34.3349,2
  74JC20001121, SR01b,    12,  1,     10,     10,2,20001124,1539,-56.1290, -57.6747, 3702,    512.0,   2.6047,  34.1744,2,  34.1741,2
  74JC20001121, SR01b,    12,  1,     11,     11,2,20001124,1539,-56.1290, -57.6747, 3702,    258.7,   2.9804,  34.1097,2,  34.1105,2
  74JC20001121, SR01b,    12,  1,     12,     12,2,20001124,1539,-56.1290, -57.6747, 3702,     16.5,   4.7763,  34.1316,2,  34.1310,2
  74JC20001121, SR01b,    13,  1,      1,      1,2,20001124,2035,-56.4620, -57.5148, 3585,   3637.5,   0.8676,  34.7080,2,  34.7076,2
  74JC20001121, SR01b,    13,  1,      2,      2,2,20001124,2035,-56.4620, -57.5148, 3585,   3637.5,   0.8676,  34.7080,2,  34.7072,2
  74JC20001121, SR01b,    13,  1,      3,      3,2,20001124,2035,-56.4620, -57.5148, 3585,   3169.6,   1.0205,  34.7145,2,  34.7143,2
  74JC20001121, SR01b,    13,  1,      4,      4,2,20001124,2035,-56.4620, -57.5148, 3585,   2656.2,   1.4874,  34.7239,2,  34.7234,2
  74JC20001121, SR01b,    13,  1,      5,      5,2,20001124,2035,-56.4620, -57.5148, 3585,   2143.8,   1.8423,  34.7123,2,-999.0000,9
  74JC20001121, SR01b,    13,  1,      6,      6,2,20001124,2035,-56.4620, -57.5148, 3585,   1887.8,   1.9736,  34.6999,2,  34.6994,2
  74JC20001121, SR01b,    13,  1,      7,      7,2,20001124,2035,-56.4620, -57.5148, 3585,   1632.6,   2.1356,  34.6728,2,  34.6727,2
  74JC20001121, SR01b,    13,  1,      8,      8,2,20001124,2035,-56.4620, -57.5148, 3585,   1021.1,   2.5103,  34.5345,2,  34.5348,2
  74JC20001121, SR01b,    13,  1,      9,      9,2,20001124,2035,-56.4620, -57.5148, 3585,    766.7,   2.6491,  34.4534,2,  34.4536,2
  74JC20001121, SR01b,    13,  1,     10,     10,2,20001124,2035,-56.4620, -57.5148, 3585,    513.0,   2.8778,  34.2629,2,  34.2638,2
  74JC20001121, SR01b,    13,  1,     11,     11,2,20001124,2035,-56.4620, -57.5148, 3585,    259.7,   2.5935,  34.0816,2,  34.0831,2
  74JC20001121, SR01b,    13,  1,     12,     12,2,20001124,2035,-56.4620, -57.5148, 3585,     17.2,   4.5019,  34.1269,2,  34.1256,2
  74JC20001121, SR01b,    14,  1,      1,      1,2,20001125,0042,-56.7848, -57.3085, 3547,   2571.7,   1.5128,  34.7227,2,  34.7229,2
  74JC20001121, SR01b,    14,  1,      2,      2,2,20001125,0042,-56.7848, -57.3085, 3547,   2141.5,   1.7345,  34.7177,2,  34.7180,2
  74JC20001121, SR01b,    14,  1,      3,      3,2,20001125,0042,-56.7848, -57.3085, 3547,   1886.1,   1.9100,  34.7060,2,  34.7060,2
  74JC20001121, SR01b,    14,  1,      4,      4,2,20001125,0042,-56.7848, -57.3085, 3547,   1630.8,   2.0558,  34.6867,2,  34.6868,2
  74JC20001121, SR01b,    14,  1,      5,      5,2,20001125,0042,-56.7848, -57.3085, 3547,   1630.9,   2.0562,  34.6868,2,-999.0000,9
  74JC20001121, SR01b,    14,  1,      6,      6,2,20001125,0042,-56.7848, -57.3085, 3547,   1324.6,   2.2385,  34.6414,2,  34.6417,2
  74JC20001121, SR01b,    14,  1,      7,      7,2,20001125,0042,-56.7848, -57.3085, 3547,   1018.9,   2.4242,  34.5574,2,  34.5583,2
  74JC20001121, SR01b,    14,  1,      8,      8,2,20001125,0042,-56.7848, -57.3085, 3547,    764.8,   2.6122,  34.4446,2,  34.4450,2
  74JC20001121, SR01b,    14,  1,      9,      9,2,20001125,0042,-56.7848, -57.3085, 3547,    510.5,   2.7103,  34.2676,2,  34.2655,2
  74JC20001121, SR01b,    14,  1,     10,     10,2,20001125,0042,-56.7848, -57.3085, 3547,    257.1,   2.2939,  34.0866,2,  34.0862,2
  74JC20001121, SR01b,    14,  1,     11,     11,2,20001125,0042,-56.7848, -57.3085, 3547,    105.4,   2.9599,  34.0665,2,  34.0713,2
  74JC20001121, SR01b,    14,  1,     12,     12,2,20001125,0042,-56.7848, -57.3085, 3547,     13.7,   4.4126,  34.1063,2,  34.1060,2
  74JC20001121, SR01b,    15,  1,      1,      1,2,20001125,0520,-57.0910, -57.1220, 4399,   4473.8,   0.3612,  34.6787,2,  34.6766,2
  74JC20001121, SR01b,    15,  1,      2,      2,2,20001125,0520,-57.0910, -57.1220, 4399,   4096.8,   0.3712,  34.6809,2,  34.6799,2
  74JC20001121, SR01b,    15,  1,      3,      3,2,20001125,0520,-57.0910, -57.1220, 4399,   3683.3,   0.7714,  34.7052,2,  34.7029,2
  74JC20001121, SR01b,    15,  1,      4,      4,2,20001125,0520,-57.0910, -57.1220, 4399,   3169.1,   1.0384,  34.7155,2,  34.7155,2
  74JC20001121, SR01b,    15,  1,      5,      5,2,20001125,0520,-57.0910, -57.1220, 4399,   3169.0,   1.0415,  34.7161,2,-999.0000,9
  74JC20001121, SR01b,    15,  1,      6,      6,2,20001125,0520,-57.0910, -57.1220, 4399,   2655.7,   1.3984,  34.7233,2,  34.7233,2
  74JC20001121, SR01b,    15,  1,      7,      7,2,20001125,0520,-57.0910, -57.1220, 4399,   2143.5,   1.7640,  34.7184,2,  34.7180,2
  74JC20001121, SR01b,    15,  1,      8,      8,2,20001125,0520,-57.0910, -57.1220, 4399,   1632.2,   2.0640,  34.6868,2,  34.6870,2
  74JC20001121, SR01b,    15,  1,      9,      9,2,20001125,0520,-57.0910, -57.1220, 4399,   1020.7,   2.4344,  34.5491,2,  34.5519,2
  74JC20001121, SR01b,    15,  1,     10,     10,2,20001125,0520,-57.0910, -57.1220, 4399,    512.5,   2.8479,  34.2748,2,  34.2771,2
  74JC20001121, SR01b,    15,  1,     11,     11,2,20001125,0520,-57.0910, -57.1220, 4399,    259.2,   2.3930,  34.0838,2,  34.0845,2
  74JC20001121, SR01b,    15,  1,     12,     12,2,20001125,0520,-57.0910, -57.1220, 4399,     15.9,   4.1490,  34.1247,2,  34.1240,2
  74JC20001121, SR01b,    16,  1,      1,      1,2,20001125,1010,-57.4302, -56.9288, 3967,   4032.4,   0.4579,  34.6869,2,  34.6858,2
  74JC20001121, SR01b,    16,  1,      2,      2,2,20001125,1010,-57.4302, -56.9288, 3967,   3682.0,   0.5959,  34.7013,2,  34.6947,2
  74JC20001121, SR01b,    16,  1,      3,      3,2,20001125,1010,-57.4302, -56.9288, 3967,   3167.2,   0.9231,  34.7846,2,  34.7113,2
  74JC20001121, SR01b,    16,  1,      4,      4,2,20001125,1010,-57.4302, -56.9288, 3967,   2653.4,   1.2418,  34.8092,2,  34.7208,2
  74JC20001121, SR01b,    16,  1,      5,      5,2,20001125,1010,-57.4302, -56.9288, 3967,   2653.3,   1.2451,  34.8092,2,  34.7211,2
  74JC20001121, SR01b,    16,  1,      6,      6,2,20001125,1010,-57.4302, -56.9288, 3967,   2140.6,   1.6280,  34.7228,2,  34.7229,2
  74JC20001121, SR01b,    16,  1,      7,      7,2,20001125,1010,-57.4302, -56.9288, 3967,   1628.4,   1.9766,  34.6973,2,  34.6982,2
  74JC20001121, SR01b,    16,  1,      8,      8,2,20001125,1010,-57.4302, -56.9288, 3967,   1016.9,   2.3953,  34.5832,2,  34.5840,2
  74JC20001121, SR01b,    16,  1,      9,      9,2,20001125,1010,-57.4302, -56.9288, 3967,    762.5,   2.5980,  34.4811,2,  34.4848,2
  74JC20001121, SR01b,    16,  1,     10,     10,2,20001125,1010,-57.4302, -56.9288, 3967,    509.2,   2.7818,  34.3124,2,  34.3178,2
  74JC20001121, SR01b,    16,  1,     11,     11,2,20001125,1010,-57.4302, -56.9288, 3967,    256.4,   2.2830,  34.0833,2,  34.0893,2
  74JC20001121, SR01b,    16,  1,     12,     12,2,20001125,1010,-57.4302, -56.9288, 3967,     13.9,   3.6172,  34.0716,2,  34.0764,2
  74JC20001121, SR01b,    17,  1,      1,      1,2,20001125,1503,-57.7343, -56.6760, 3431,   3478.7,   0.6698,  34.7003,2,  34.7005,2
  74JC20001121, SR01b,    17,  1,      2,      2,2,20001125,1503,-57.7343, -56.6760, 3431,   3156.2,   0.7705,  34.7079,2,  34.7076,2
  74JC20001121, SR01b,    17,  1,      3,      3,2,20001125,1503,-57.7343, -56.6760, 3431,   2639.9,   0.9813,  34.7170,2,  34.7172,2
  74JC20001121, SR01b,    17,  1,      4,      4,2,20001125,1503,-57.7343, -56.6760, 3431,   1869.1,   1.4734,  34.7256,2,  34.7255,2
  74JC20001121, SR01b,    17,  1,      5,      5,2,20001125,1503,-57.7343, -56.6760, 3431,   1615.3,   1.6727,  34.7255,2,  34.7259,2
  74JC20001121, SR01b,    17,  1,      6,      6,2,20001125,1503,-57.7343, -56.6760, 3431,   1010.6,   2.1401,  34.6733,2,  34.6735,2
  74JC20001121, SR01b,    17,  1,      7,      7,2,20001125,1503,-57.7343, -56.6760, 3431,   1011.2,   2.1408,  34.6730,2,  34.6733,2
  74JC20001121, SR01b,    17,  1,      8,      8,2,20001125,1503,-57.7343, -56.6760, 3431,    760.5,   2.2979,  34.6004,2,  34.6003,2
  74JC20001121, SR01b,    17,  1,      9,      9,2,20001125,1503,-57.7343, -56.6760, 3431,    510.3,   2.4407,  34.4699,2,  34.4693,2
  74JC20001121, SR01b,    17,  1,     10,     10,2,20001125,1503,-57.7343, -56.6760, 3431,    258.8,   2.1619,  34.2304,2,-999.0000,9
  74JC20001121, SR01b,    17,  1,     11,     11,2,20001125,1503,-57.7343, -56.6760, 3431,    107.5,   0.5166,  33.9339,2,-999.0000,9
  74JC20001121, SR01b,    17,  1,     12,     12,2,20001125,1503,-57.7343, -56.6760, 3431,     17.1,   0.8738,  33.7702,2,  33.7753,2
  74JC20001121, SR01b,    18,  1,      1,      1,2,20001125,1925,-58.0497, -56.5392, 4014,   4068.2,   0.0909,  34.6650,2,  34.6644,2
  74JC20001121, SR01b,    18,  1,      2,      2,2,20001125,1925,-58.0497, -56.5392, 4014,      7.4,  -0.7238,   0.0000,2,  34.6640,3
  74JC20001121, SR01b,    18,  1,      3,      3,2,20001125,1925,-58.0497, -56.5392, 4014,   3682.7,   0.2252,  34.6746,2,  34.6737,2
  74JC20001121, SR01b,    18,  1,      4,      4,2,20001125,1925,-58.0497, -56.5392, 4014,   3168.1,   0.4554,  34.6924,2,  34.6921,2
  74JC20001121, SR01b,    18,  1,      5,      5,2,20001125,1925,-58.0497, -56.5392, 4014,   2656.1,   0.6818,  34.7057,2,  34.7064,2
  74JC20001121, SR01b,    18,  1,      6,      6,2,20001125,1925,-58.0497, -56.5392, 4014,   2144.9,   0.9843,  34.7153,2,  34.7155,2
  74JC20001121, SR01b,    18,  1,      7,      7,2,20001125,1925,-58.0497, -56.5392, 4014,   1632.5,   1.3657,  34.7243,2,  34.7243,2
  74JC20001121, SR01b,    18,  1,      8,      8,2,20001125,1925,-58.0497, -56.5392, 4014,   1021.6,   1.8743,  34.7167,2,  34.7172,2
  74JC20001121, SR01b,    18,  1,      9,      9,2,20001125,1925,-58.0497, -56.5392, 4014,    766.2,   2.0672,  34.6796,2,  34.6797,2
  74JC20001121, SR01b,    18,  1,     10,     10,2,20001125,1925,-58.0497, -56.5392, 4014,    513.1,   2.1683,  34.5998,2,  34.6007,2
  74JC20001121, SR01b,    18,  1,     11,     11,2,20001125,1925,-58.0497, -56.5392, 4014,    260.1,   1.8723,  34.3742,2,  34.3733,2
  74JC20001121, SR01b,    18,  1,     12,     12,2,20001125,1925,-58.0497, -56.5392, 4014,     17.4,   0.2217,  33.8269,2,  33.8324,2
  74JC20001121, SR01b,    19,  1,      1,      1,2,20001126,0245,-58.3673, -56.3518, 3820,   3880.2,   0.0272,  34.6609,2,  34.6623,2
  74JC20001121, SR01b,    19,  1,      2,      2,2,20001126,0245,-58.3673, -56.3518, 3820,   3686.8,   0.1211,  34.6671,2,  34.6670,2
  74JC20001121, SR01b,    19,  1,      3,      3,2,20001126,0245,-58.3673, -56.3518, 3820,   3171.9,   0.3835,  34.6875,2,  34.6872,2
  74JC20001121, SR01b,    19,  1,      4,      4,2,20001126,0245,-58.3673, -56.3518, 3820,   2657.8,   0.6703,  34.7066,2,  34.7066,2
  74JC20001121, SR01b,    19,  1,      5,      5,2,20001126,0245,-58.3673, -56.3518, 3820,   2145.3,   0.8939,  34.7148,2,  34.7143,2
  74JC20001121, SR01b,    19,  1,      6,      6,2,20001126,0245,-58.3673, -56.3518, 3820,   1634.0,   1.2632,  34.7255,2,  34.7245,2
  74JC20001121, SR01b,    19,  1,      7,      7,2,20001126,0245,-58.3673, -56.3518, 3820,   1022.1,   1.7416,  34.7179,2,  34.7164,2
  74JC20001121, SR01b,    19,  1,      8,      8,2,20001126,0245,-58.3673, -56.3518, 3820,    767.8,   2.0097,  34.6961,2,  34.6951,2
  74JC20001121, SR01b,    19,  1,      9,      9,2,20001126,0245,-58.3673, -56.3518, 3820,    513.8,   2.1311,  34.6436,2,  34.6415,2
  74JC20001121, SR01b,    19,  1,     10,     10,2,20001126,0245,-58.3673, -56.3518, 3820,    260.1,   2.0016,  34.4676,2,  34.4691,2
  74JC20001121, SR01b,    19,  1,     11,     11,2,20001126,0245,-58.3673, -56.3518, 3820,    108.5,  -0.6364,  33.9369,2,  33.9401,2
  74JC20001121, SR01b,    19,  1,     12,     12,2,20001126,0245,-58.3673, -56.3518, 3820,     58.0,  -0.3155,  33.8945,2,  33.9000,2
  74JC20001121, SR01b,    20,  1,      1,      1,2,20001126,1257,-58.6885, -56.1553, 3782,   3844.8,  -0.0144,  34.6611,2,  34.6603,2
  74JC20001121, SR01b,    20,  1,      2,      2,2,20001126,1257,-58.6885, -56.1553, 3782,   3685.2,   0.0102,  34.6629,2,-999.0000,9
  74JC20001121, SR01b,    20,  1,      3,      3,2,20001126,1257,-58.6885, -56.1553, 3782,   3170.2,   0.1685,  34.6736,2,  34.6731,2
  74JC20001121, SR01b,    20,  1,      4,      4,2,20001126,1257,-58.6885, -56.1553, 3782,   2656.7,   0.4987,  34.6984,2,  34.6982,2
  74JC20001121, SR01b,    20,  1,      5,      5,2,20001126,1257,-58.6885, -56.1553, 3782,   2144.2,   0.7640,  34.7068,2,  34.7066,2
  74JC20001121, SR01b,    20,  1,      6,      6,2,20001126,1257,-58.6885, -56.1553, 3782,   1633.0,   1.1758,  34.7246,2,  34.7241,2
  74JC20001121, SR01b,    20,  1,      7,      7,2,20001126,1257,-58.6885, -56.1553, 3782,   1021.4,   1.6467,  34.7278,2,  34.7272,2
  74JC20001121, SR01b,    20,  1,      8,      8,2,20001126,1257,-58.6885, -56.1553, 3782,    766.9,   1.8351,  34.7132,2,  34.7133,2
  74JC20001121, SR01b,    20,  1,      9,      9,2,20001126,1257,-58.6885, -56.1553, 3782,    513.1,   2.0119,  34.6672,2,  34.6664,2
  74JC20001121, SR01b,    20,  1,     10,     10,2,20001126,1257,-58.6885, -56.1553, 3782,    259.7,   1.2177,  34.4376,2,  34.4383,2
  74JC20001121, SR01b,    20,  1,     11,     11,2,20001126,1257,-58.6885, -56.1553, 3782,     57.5,  -0.1136,  33.8752,2,  33.8783,2
  74JC20001121, SR01b,    20,  1,     12,     12,2,20001126,1257,-58.6885, -56.1553, 3782,     17.1,  -0.0856,  33.8745,2,  33.8777,2
  74JC20001121, SR01b,    21,  1,      1,      1,2,20001126,1730,-58.9975, -55.9627, 3772,   3834.9,  -0.0889,  34.6632,2,  34.6589,2
  74JC20001121, SR01b,    21,  1,      2,      2,2,20001126,1730,-58.9975, -55.9627, 3772,   3685.6,  -0.0135,  34.6650,2,  34.6621,2
  74JC20001121, SR01b,    21,  1,      3,      3,2,20001126,1730,-58.9975, -55.9627, 3772,   3170.7,   0.1621,  34.6713,2,  34.6723,2
  74JC20001121, SR01b,    21,  1,      4,      4,2,20001126,1730,-58.9975, -55.9627, 3772,   2451.3,  -0.8408,   3.4671,2,  34.6803,3
  74JC20001121, SR01b,    21,  1,      5,      5,2,20001126,1730,-58.9975, -55.9627, 3772,   2657.1,   0.4884,  34.6969,2,  34.6970,2
  74JC20001121, SR01b,    21,  1,      6,      6,2,20001126,1730,-58.9975, -55.9627, 3772,   2144.9,   0.7371,  34.7062,2,  34.7092,2
  74JC20001121, SR01b,    21,  1,      7,      7,2,20001126,1730,-58.9975, -55.9627, 3772,   1633.7,   1.0979,  34.7202,2,  34.7217,2
  74JC20001121, SR01b,    21,  1,      8,      8,2,20001126,1730,-58.9975, -55.9627, 3772,   1021.7,   1.5476,  34.7215,2,  34.7223,2
  74JC20001121, SR01b,    21,  1,      9,      9,2,20001126,1730,-58.9975, -55.9627, 3772,    766.8,   1.8226,  34.7176,2,  34.7152,2
  74JC20001121, SR01b,    21,  1,     10,     10,2,20001126,1730,-58.9975, -55.9627, 3772,    512.9,   1.9505,  34.6685,2,-999.0000,9
  74JC20001121, SR01b,    21,  1,     11,     11,2,20001126,1730,-58.9975, -55.9627, 3772,    259.3,   2.1069,  34.5752,2,  34.5760,2
  74JC20001121, SR01b,    21,  1,     12,     12,2,20001126,1730,-58.9975, -55.9627, 3772,     16.7,  -0.2154,  33.8525,2,  33.9350,2
  74JC20001121, SR01b,    22,  1,      1,      1,2,20001126,2219,-59.3175, -55.7113, 3724,   3782.2,  -0.0120,  34.6601,2,  34.6599,2
  74JC20001121, SR01b,    22,  1,      2,      2,2,20001126,2219,-59.3175, -55.7113, 3724,   3684.7,   0.0119,  34.6606,2,  34.6631,2
  74JC20001121, SR01b,    22,  1,      3,      3,2,20001126,2219,-59.3175, -55.7113, 3724,   3169.5,   0.1728,  34.6821,2,  34.6750,2
  74JC20001121, SR01b,    22,  1,      4,      4,2,20001126,2219,-59.3175, -55.7113, 3724,   2655.9,   0.5034,  34.6946,2,  34.6978,2
  74JC20001121, SR01b,    22,  1,      5,      5,2,20001126,2219,-59.3175, -55.7113, 3724,   2143.1,   0.8284,  34.7106,2,  34.7135,2
  74JC20001121, SR01b,    22,  1,      6,      6,2,20001126,2219,-59.3175, -55.7113, 3724,   1632.0,   1.1996,  34.7240,2,  34.7243,2
  74JC20001121, SR01b,    22,  1,      7,      7,2,20001126,2219,-59.3175, -55.7113, 3724,   1020.3,   1.7114,  34.7262,2,  34.7264,2
  74JC20001121, SR01b,    22,  1,      8,      8,2,20001126,2219,-59.3175, -55.7113, 3724,    766.5,   1.9356,  34.7096,2,  34.7086,2
  74JC20001121, SR01b,    22,  1,      9,      9,2,20001126,2219,-59.3175, -55.7113, 3724,    512.8,   2.0835,  34.6488,2,  34.6474,2
  74JC20001121, SR01b,    22,  1,     10,     10,2,20001126,2219,-59.3175, -55.7113, 3724,    259.2,   1.7194,  34.4366,2,  34.4513,2
  74JC20001121, SR01b,    22,  1,     11,     11,2,20001126,2219,-59.3175, -55.7113, 3724,    107.4,  -0.6795,  33.8962,2,  33.9804,2
  74JC20001121, SR01b,    22,  1,     12,     12,2,20001126,2219,-59.3175, -55.7113, 3724,     16.2,  -0.0398,  33.7934,2,  33.8640,2
  74JC20001121, SR01b,    23,  1,      1,      1,2,20001127,0302,-59.6505, -55.5192, 3680,   3737.6,   0.0235,  34.6630,2,  34.6629,2
  74JC20001121, SR01b,    23,  1,      2,      2,2,20001127,0302,-59.6505, -55.5192, 3680,   3473.4,   0.1162,  34.6696,2,  34.6691,2
  74JC20001121, SR01b,    23,  1,      3,      3,2,20001127,0302,-59.6505, -55.5192, 3680,   3165.3,   0.2485,  34.6786,2,  34.6788,2
  74JC20001121, SR01b,    23,  1,      4,      4,2,20001127,0302,-59.6505, -55.5192, 3680,   2654.3,   0.5869,  34.7014,2,  34.7015,2
  74JC20001121, SR01b,    23,  1,      5,      5,2,20001127,0302,-59.6505, -55.5192, 3680,   2142.9,   0.8189,  34.7112,2,  34.7113,2
  74JC20001121, SR01b,    23,  1,      6,      6,2,20001127,0302,-59.6505, -55.5192, 3680,   1633.7,   1.1469,  34.7201,2,  34.7200,2
  74JC20001121, SR01b,    23,  1,      7,      7,2,20001127,0302,-59.6505, -55.5192, 3680,   1021.7,   1.7333,  34.7255,2,  34.7251,2
  74JC20001121, SR01b,    23,  1,      8,      8,2,20001127,0302,-59.6505, -55.5192, 3680,    767.9,   1.9360,  34.7090,2,  34.7088,2
  74JC20001121, SR01b,    23,  1,      9,      9,2,20001127,0302,-59.6505, -55.5192, 3680,    514.5,   2.1058,  34.6529,2,  34.6517,2
  74JC20001121, SR01b,    23,  1,     10,     10,2,20001127,0302,-59.6505, -55.5192, 3680,    261.0,   2.0375,  34.5072,2,  34.5073,2
  74JC20001121, SR01b,    23,  1,     11,     11,2,20001127,0302,-59.6505, -55.5192, 3680,    109.3,  -0.3774,  33.9994,2,  34.0070,2
  74JC20001121, SR01b,    23,  1,     12,     12,2,20001127,0302,-59.6505, -55.5192, 3680,     17.8,   0.2135,  33.8110,2,  33.8134,2