BOTTLE,20221031CCHSIOENA
# file in as received processed into dataset
# BOTTLE,20170920PRINUNIVRMK
# BOTTLE,20170705OCPNOCYLF 
# SHIP: James Clark Ross 
# Cruise JR55; SR1b_2000 
# Region: Drake Passage 
# EXPOCODE: 74JC20001121 
# DATES: 20001121 - 20001214 
# Chief Scientist: S. Cunningham, SOC 
# Supported by NERC National Capability 
# 34 stations with 24-place rosette 
# CTD: Who - B. King; Status - final 
# Notes: CTD PRS; TMP; SAL are calibrated and good 
# s: Who - Salinity; Status - final 
# The bottom depth for station 1 taken as max sample pressure+10 
# These data should be acknowledged with: "Data were collected and made publicly available by WOCE/CLIVAR with National Capability funding from the UK Natural Environment Research Council to the National Oceanography Centre Southampton." 
EXPOCODE,SECT_ID,STNNBR,CASTNO,SAMPNO,BTLNBR,BTLNBR_FLAG_W,DATE,TIME,LATITUDE,LONGITUDE,DEPTH,CTDPRS,CTDTMP,CTDSAL,CTDSAL_FLAG_W,SALNTY,SALNTY_FLAG_W
,,,,,,,,,,,METERS,DBAR,ITS-90,PSS-78,,PSS-78,
  74JC20001121, SR01b,     1,  1,      1,      1,2,20001122,2228,-55.0587, -58.2973, 1740,   1730.4,   2.4432,  34.5815,2,  34.5852,2
  74JC20001121, SR01b,     1,  1,      2,      2,2,20001122,2228,-55.0587, -58.2973, 1740,   1730.5,   2.4433,  34.5817,2,  34.5826,2
  74JC20001121, SR01b,     1,  1,      3,      3,2,20001122,2228,-55.0587, -58.2973, 1740,   1730.3,   2.4426,  34.5816,2,  34.5822,2
  74JC20001121, SR01b,     1,  1,      4,      4,2,20001122,2228,-55.0587, -58.2973, 1740,   1730.5,   2.4427,  34.5820,2,  34.5830,2
  74JC20001121, SR01b,     1,  1,      5,      5,2,20001122,2228,-55.0587, -58.2973, 1740,   1730.2,   2.4426,  34.5817,2,-999.0000,9
  74JC20001121, SR01b,     1,  1,      6,      6,2,20001122,2228,-55.0587, -58.2973, 1740,   1730.4,   2.4430,  34.5821,2,  34.5822,2
  74JC20001121, SR01b,     1,  1,      7,      7,2,20001122,2228,-55.0587, -58.2973, 1740,   1016.7,   3.1516,  34.2924,2,  34.2924,2
  74JC20001121, SR01b,     1,  1,      8,      8,2,20001122,2228,-55.0587, -58.2973, 1740,   1017.1,   3.1528,  34.2927,2,  34.2908,2
  74JC20001121, SR01b,     1,  1,      9,      9,2,20001122,2228,-55.0587, -58.2973, 1740,   1017.0,   3.1472,  34.2926,2,  34.2918,2
  74JC20001121, SR01b,     1,  1,     10,     10,2,20001122,2228,-55.0587, -58.2973, 1740,   1016.7,   3.1275,  34.2907,2,-999.0000,9
  74JC20001121, SR01b,     1,  1,     11,     11,2,20001122,2228,-55.0587, -58.2973, 1740,   1016.5,   3.1371,  34.2932,2,-999.0000,9
  74JC20001121, SR01b,     1,  1,     12,     12,2,20001122,2228,-55.0587, -58.2973, 1740,   1016.7,   3.1413,  34.2944,2,  34.2912,2
  74JC20001121, SR01b,     2,  1,      1,      1,2,20001123,0539,-54.6543, -58.5593,  233,    220.7,   4.7403,  34.1451,2,  34.1450,2
  74JC20001121, SR01b,     2,  1,      2,      2,2,20001123,0539,-54.6543, -58.5593,  233,    220.7,   4.7395,  34.1450,2,-999.0000,9
  74JC20001121, SR01b,     2,  1,      3,      3,2,20001123,0539,-54.6543, -58.5593,  233,    184.8,   4.8140,  34.1417,2,  34.1420,2
  74JC20001121, SR01b,     2,  1,      4,      4,2,20001123,0539,-54.6543, -58.5593,  233,    184.7,   4.8149,  34.1417,2,-999.0000,9
  74JC20001121, SR01b,     2,  1,      5,      5,2,20001123,0539,-54.6543, -58.5593,  233,    145.2,   4.8294,  34.1416,2,  34.1410,2
  74JC20001121, SR01b,     2,  1,      6,      6,2,20001123,0539,-54.6543, -58.5593,  233,    144.8,   4.8270,  34.1413,2,-999.0000,9
  74JC20001121, SR01b,     2,  1,      7,      7,2,20001123,0539,-54.6543, -58.5593,  233,    104.3,   4.8693,  34.1393,2,  34.1400,2
  74JC20001121, SR01b,     2,  1,      8,      8,2,20001123,0539,-54.6543, -58.5593,  233,    104.3,   4.8692,  34.1393,2,-999.0000,9
  74JC20001121, SR01b,     2,  1,      9,      9,2,20001123,0539,-54.6543, -58.5593,  233,     53.9,   4.9269,  34.1372,2,  34.1370,2
  74JC20001121, SR01b,     2,  1,     10,     10,2,20001123,0539,-54.6543, -58.5593,  233,     54.0,   4.9275,  34.1373,2,-999.0000,9
  74JC20001121, SR01b,     2,  1,     11,     11,2,20001123,0539,-54.6543, -58.5593,  233,     13.1,   5.2074,  34.1322,2,-999.0000,9
  74JC20001121, SR01b,     2,  1,     12,     12,2,20001123,0539,-54.6543, -58.5593,  233,     13.2,   5.2089,  34.1313,2,  34.1310,2
  74JC20001121, SR01b,     3,  1,      1,      1,2,20001123,0818,-54.9223, -58.3617,  615,    604.0,   3.7494,  34.1627,2,  34.1650,2
  74JC20001121, SR01b,     3,  1,      2,      2,2,20001123,0818,-54.9223, -58.3617,  615,    507.7,   4.1453,  34.1629,2,  34.1630,2
  74JC20001121, SR01b,     3,  1,      3,      3,2,20001123,0818,-54.9223, -58.3617,  615,    406.3,   4.3943,  34.1600,2,  34.1600,2
  74JC20001121, SR01b,     3,  1,      4,      4,2,20001123,0818,-54.9223, -58.3617,  615,    304.9,   4.5534,  34.1559,2,  34.1560,2
  74JC20001121, SR01b,     3,  1,      5,      5,2,20001123,0818,-54.9223, -58.3617,  615,    255.0,   4.5979,  34.1530,2,  34.1530,2
  74JC20001121, SR01b,     3,  1,      6,      6,2,20001123,0818,-54.9223, -58.3617,  615,    203.6,   4.6771,  34.1443,2,  34.1440,2
  74JC20001121, SR01b,     3,  1,      7,      7,2,20001123,0818,-54.9223, -58.3617,  615,    153.3,   4.7430,  34.1408,2,  34.1420,2
  74JC20001121, SR01b,     3,  1,      8,      8,2,20001123,0818,-54.9223, -58.3617,  615,    102.4,   5.0487,  34.1345,2,  34.1340,2
  74JC20001121, SR01b,     3,  1,      9,      9,2,20001123,0818,-54.9223, -58.3617,  615,     52.1,   5.3358,  34.1308,2,  34.1300,2
  74JC20001121, SR01b,     3,  1,     10,     10,2,20001123,0818,-54.9223, -58.3617,  615,     52.0,   5.3549,  34.1298,2,-999.0000,9
  74JC20001121, SR01b,     3,  1,     11,     11,2,20001123,0818,-54.9223, -58.3617,  615,     52.0,   5.3559,  34.1293,2,-999.0000,9
  74JC20001121, SR01b,     3,  1,     12,     12,2,20001123,0818,-54.9223, -58.3617,  615,     11.1,   5.5140,  34.1184,2,  34.1180,2
  74JC20001121, SR01b,     4,  1,      1,      1,2,20001123,0944,-54.9437, -58.3877, 1054,   1048.2,   3.1330,  34.2846,2,  34.2840,2
  74JC20001121, SR01b,     4,  1,      2,      2,2,20001123,0944,-54.9437, -58.3877, 1054,    916.4,   3.1449,  34.1979,2,  34.1990,2
  74JC20001121, SR01b,     4,  1,      3,      3,2,20001123,0944,-54.9437, -58.3877, 1054,    712.9,   3.6696,  34.1684,2,  34.1680,2
  74JC20001121, SR01b,     4,  1,      4,      4,2,20001123,0944,-54.9437, -58.3877, 1054,    510.3,   4.1996,  34.1618,2,  34.1620,2
  74JC20001121, SR01b,     4,  1,      5,      5,2,20001123,0944,-54.9437, -58.3877, 1054,    408.3,   4.3856,  34.1626,2,  34.1620,2
  74JC20001121, SR01b,     4,  1,      6,      6,2,20001123,0944,-54.9437, -58.3877, 1054,    307.4,   4.5148,  34.1611,2,  34.1600,2
  74JC20001121, SR01b,     4,  1,      7,      7,2,20001123,0944,-54.9437, -58.3877, 1054,    206.1,   4.6639,  34.1524,2,  34.1710,2
  74JC20001121, SR01b,     4,  1,      8,      8,2,20001123,0944,-54.9437, -58.3877, 1054,    105.0,   4.9255,  34.1404,2,  34.1410,2
  74JC20001121, SR01b,     4,  1,      9,      9,2,20001123,0944,-54.9437, -58.3877, 1054,     54.3,   5.1525,  34.1379,2,  34.1220,2
  74JC20001121, SR01b,     4,  1,     10,     10,2,20001123,0944,-54.9437, -58.3877, 1054,     54.3,   5.1591,  34.1374,2,-999.0000,9
  74JC20001121, SR01b,     4,  1,     11,     11,2,20001123,0944,-54.9437, -58.3877, 1054,     54.4,   5.1577,  34.1376,2,-999.0000,9
  74JC20001121, SR01b,     4,  1,     12,     12,2,20001123,0944,-54.9437, -58.3877, 1054,     13.8,   5.5185,  34.1235,2,  34.9980,2
  74JC20001121, SR01b,     5,  1,      1,      1,2,20001123,1146,-54.9608, -58.3682, 1581,   1584.7,   2.5662,  34.5298,2,  34.5307,2
  74JC20001121, SR01b,     5,  1,      2,      2,2,20001123,1146,-54.9608, -58.3682, 1581,   1274.1,   2.9142,  34.3872,2,-999.0000,9
  74JC20001121, SR01b,     5,  1,      3,      3,2,20001123,1146,-54.9608, -58.3682, 1581,   1274.0,   2.9148,  34.3872,2,  34.3878,2
  74JC20001121, SR01b,     5,  1,      4,      4,2,20001123,1146,-54.9608, -58.3682, 1581,   1019.5,   3.1590,  34.2536,2,  34.2550,2
  74JC20001121, SR01b,     5,  1,      5,      5,2,20001123,1146,-54.9608, -58.3682, 1581,    765.2,   3.6180,  34.1687,2,  34.1692,2
  74JC20001121, SR01b,     5,  1,      6,      6,2,20001123,1146,-54.9608, -58.3682, 1581,    511.4,   4.1395,  34.1637,2,  34.1643,2
  74JC20001121, SR01b,     5,  1,      7,      7,2,20001123,1146,-54.9608, -58.3682, 1581,    257.9,   4.7468,  34.1748,2,  34.1741,2
  74JC20001121, SR01b,     5,  1,      8,      8,2,20001123,1146,-54.9608, -58.3682, 1581,    106.0,   4.9470,  34.1516,2,  34.1510,2
  74JC20001121, SR01b,     5,  1,      9,      9,2,20001123,1146,-54.9608, -58.3682, 1581,     55.6,   5.3035,  34.1321,2,  34.1232,2
  74JC20001121, SR01b,     5,  1,     10,     10,2,20001123,1146,-54.9608, -58.3682, 1581,     55.5,   5.3943,  34.1219,2,  34.1212,2
  74JC20001121, SR01b,     5,  1,     11,     11,2,20001123,1146,-54.9608, -58.3682, 1581,     15.1,   5.5622,  34.1204,2,  34.1185,2
  74JC20001121, SR01b,     5,  1,     12,     12,2,20001123,1146,-54.9608, -58.3682, 1581,     14.9,   5.5642,  34.1193,2,  34.1185,2
  74JC20001121, SR01b,     6,  1,      1,      1,2,20001123,1444,-55.0697, -58.2898, 2068,   2089.4,   2.2933,  34.6326,2,  34.6340,2
  74JC20001121, SR01b,     6,  1,      2,      2,2,20001123,1444,-55.0697, -58.2898, 2068,   1834.5,   2.4235,  34.5908,2,  34.5901,2
  74JC20001121, SR01b,     6,  1,      3,      3,2,20001123,1444,-55.0697, -58.2898, 2068,   1834.5,   2.4268,  34.5899,2,  34.5893,2
  74JC20001121, SR01b,     6,  1,      4,      4,2,20001123,1444,-55.0697, -58.2898, 2068,   1528.1,   2.6379,  34.5011,2,  34.5005,2
  74JC20001121, SR01b,     6,  1,      5,      5,2,20001123,1444,-55.0697, -58.2898, 2068,   1273.1,   2.8906,  34.3808,2,  34.3809,2
  74JC20001121, SR01b,     6,  1,      6,      6,2,20001123,1444,-55.0697, -58.2898, 2068,   1018.4,   3.1637,  34.2684,2,  34.2689,2
  74JC20001121, SR01b,     6,  1,      7,      7,2,20001123,1444,-55.0697, -58.2898, 2068,    764.4,   3.6572,  34.1564,2,  34.1569,2
  74JC20001121, SR01b,     6,  1,      8,      8,2,20001123,1444,-55.0697, -58.2898, 2068,    510.3,   4.1430,  34.1605,2,  34.1610,2
  74JC20001121, SR01b,     6,  1,      9,      9,2,20001123,1444,-55.0697, -58.2898, 2068,    257.1,   4.7076,  34.1705,2,  34.1706,2
  74JC20001121, SR01b,     6,  1,     10,     10,2,20001123,1444,-55.0697, -58.2898, 2068,    105.4,   5.0062,  34.1437,2,  34.1453,2
  74JC20001121, SR01b,     6,  1,     11,     11,2,20001123,1444,-55.0697, -58.2898, 2068,     54.6,   5.3155,  34.1227,2,  34.1214,2
  74JC20001121, SR01b,     6,  1,     12,     12,2,20001123,1444,-55.0697, -58.2898, 2068,     14.3,   5.5438,  34.1166,2,  34.1152,2
  74JC20001121, SR01b,     7,  1,      1,      1,2,20001123,1731,-55.1212, -58.2578, 2514,   2543.3,   1.9268,  34.7067,2,  34.7068,2
  74JC20001121, SR01b,     7,  1,      2,      2,2,20001123,1731,-55.1212, -58.2578, 2514,   2141.1,   2.2206,  34.6602,2,  34.6595,2
  74JC20001121, SR01b,     7,  1,      3,      3,2,20001123,1731,-55.1212, -58.2578, 2514,   2141.3,   2.2195,  34.6597,2,  34.6595,2
  74JC20001121, SR01b,     7,  1,      4,      4,2,20001123,1731,-55.1212, -58.2578, 2514,   1885.1,   2.3448,  34.6205,2,  34.6209,2
  74JC20001121, SR01b,     7,  1,      5,      5,2,20001123,1731,-55.1212, -58.2578, 2514,   1630.7,   2.4932,  34.5500,2,  34.5493,2
  74JC20001121, SR01b,     7,  1,      6,      6,2,20001123,1731,-55.1212, -58.2578, 2514,   1324.5,   2.7532,  34.4278,2,  34.4285,2
  74JC20001121, SR01b,     7,  1,      7,      7,2,20001123,1731,-55.1212, -58.2578, 2514,   1019.3,   3.1668,  34.2666,2,  34.2679,2
  74JC20001121, SR01b,     7,  1,      8,      8,2,20001123,1731,-55.1212, -58.2578, 2514,    765.1,   3.3785,  34.1464,2,  34.1473,2
  74JC20001121, SR01b,     7,  1,      9,      9,2,20001123,1731,-55.1212, -58.2578, 2514,    511.3,   4.0275,  34.1478,2,  34.1486,2
  74JC20001121, SR01b,     7,  1,     10,     10,2,20001123,1731,-55.1212, -58.2578, 2514,    258.0,   4.6815,  34.1715,2,  34.1708,2
  74JC20001121, SR01b,     7,  1,     11,     11,2,20001123,1731,-55.1212, -58.2578, 2514,    104.7,   5.0126,  34.1538,2,  34.1528,2
  74JC20001121, SR01b,     7,  1,     12,     12,2,20001123,1731,-55.1212, -58.2578, 2514,     15.5,   5.6110,  34.1247,2,  34.1234,2
  74JC20001121, SR01b,     8,  1,      1,      1,2,20001123,2034,-55.1700, -58.2338, 2977,   3018.6,   1.5075,  34.7210,2,  34.7202,2
  74JC20001121, SR01b,     8,  1,      2,      2,2,20001123,2034,-55.1700, -58.2338, 2977,   2652.0,   1.8330,  34.7107,2,  34.7109,2
  74JC20001121, SR01b,     8,  1,      3,      3,2,20001123,2034,-55.1700, -58.2338, 2977,   2652.1,   1.8338,  34.7105,2,  34.7106,2
  74JC20001121, SR01b,     8,  1,      4,      4,2,20001123,2034,-55.1700, -58.2338, 2977,   2140.8,   2.1993,  34.6646,2,-999.0000,9
  74JC20001121, SR01b,     8,  1,      5,      5,2,20001123,2034,-55.1700, -58.2338, 2977,   1884.2,   2.3579,  34.6155,2,  34.6156,2
  74JC20001121, SR01b,     8,  1,      6,      6,2,20001123,2034,-55.1700, -58.2338, 2977,   1629.1,   2.4964,  34.5493,2,  34.5495,2
  74JC20001121, SR01b,     8,  1,      7,      7,2,20001123,2034,-55.1700, -58.2338, 2977,   1019.8,   3.0753,  34.3192,2,  34.3190,3
  74JC20001121, SR01b,     8,  1,      8,      8,2,20001123,2034,-55.1700, -58.2338, 2977,    764.5,   3.4241,  34.1670,2,-999.0000,9
  74JC20001121, SR01b,     8,  1,      9,      9,2,20001123,2034,-55.1700, -58.2338, 2977,    511.1,   4.0911,  34.1576,2,  34.1582,2
  74JC20001121, SR01b,     8,  1,     10,     10,2,20001123,2034,-55.1700, -58.2338, 2977,    258.1,   4.6904,  34.1736,2,  34.1733,2
  74JC20001121, SR01b,     8,  1,     11,     11,2,20001123,2034,-55.1700, -58.2338, 2977,    106.4,   4.9220,  34.1584,2,  34.1582,2
  74JC20001121, SR01b,     8,  1,     12,     12,2,20001123,2034,-55.1700, -58.2338, 2977,     15.5,   5.5485,  34.1225,2,  34.1209,2
  74JC20001121, SR01b,     9,  1,      1,      1,2,20001123,2355,-55.2143, -58.2285, 3752,   3802.4,   1.0550,  34.7132,2,  34.7133,2
  74JC20001121, SR01b,     9,  1,      2,      2,2,20001123,2355,-55.2143, -58.2285, 3752,   3679.5,   1.1180,  34.7155,2,  34.7149,2
  74JC20001121, SR01b,     9,  1,      3,      3,2,20001123,2355,-55.2143, -58.2285, 3752,   3679.6,   1.1178,  34.7153,2,  34.7149,2
  74JC20001121, SR01b,     9,  1,      4,      4,2,20001123,2355,-55.2143, -58.2285, 3752,   3165.6,   1.4457,  34.7220,2,  34.7221,2
  74JC20001121, SR01b,     9,  1,      5,      5,2,20001123,2355,-55.2143, -58.2285, 3752,   2652.6,   1.9291,  34.7101,2,  34.7096,2
  74JC20001121, SR01b,     9,  1,      6,      6,2,20001123,2355,-55.2143, -58.2285, 3752,   2139.6,   2.2249,  34.6611,2,  34.6615,2
  74JC20001121, SR01b,     9,  1,      7,      7,2,20001123,2355,-55.2143, -58.2285, 3752,   1628.4,   2.4871,  34.5546,2,  34.5552,2
  74JC20001121, SR01b,     9,  1,      8,      8,2,20001123,2355,-55.2143, -58.2285, 3752,   1015.5,   3.0429,  34.3334,2,  34.3353,2
  74JC20001121, SR01b,     9,  1,      9,      9,2,20001123,2355,-55.2143, -58.2285, 3752,    760.0,   3.2588,  34.1670,2,  34.1682,2
  74JC20001121, SR01b,     9,  1,     10,     10,2,20001123,2355,-55.2143, -58.2285, 3752,    507.2,   3.9946,  34.1511,2,  34.1508,2
  74JC20001121, SR01b,     9,  1,     11,     11,2,20001123,2355,-55.2143, -58.2285, 3752,    256.5,   4.6848,  34.1757,2,  34.1745,2
  74JC20001121, SR01b,     9,  1,     12,     12,2,20001123,2355,-55.2143, -58.2285, 3752,     15.5,   5.5321,  34.1197,2,  34.1183,2
  74JC20001121, SR01b,    10,  1,      1,      1,2,20001124,0511,-55.5237, -57.9875, 4226,   4297.3,   0.3273,  34.6764,2,  34.6758,2
  74JC20001121, SR01b,    10,  1,      2,      2,2,20001124,0511,-55.5237, -57.9875, 4226,   4071.4,   0.6376,  34.6938,2,  34.6931,2
  74JC20001121, SR01b,    10,  1,      3,      3,2,20001124,0511,-55.5237, -57.9875, 4226,   4071.2,   0.6385,  34.6938,2,-999.0000,9
  74JC20001121, SR01b,    10,  1,      4,      4,2,20001124,0511,-55.5237, -57.9875, 4226,   3658.9,   0.9797,  34.7124,2,  34.7117,2
  74JC20001121, SR01b,    10,  1,      5,      5,2,20001124,0511,-55.5237, -57.9875, 4226,   3151.0,   1.3207,  34.7216,2,  34.7217,2
  74JC20001121, SR01b,    10,  1,      6,      6,2,20001124,0511,-55.5237, -57.9875, 4226,   2642.9,   1.7301,  34.7200,2,  34.7200,2
  74JC20001121, SR01b,    10,  1,      7,      7,2,20001124,0511,-55.5237, -57.9875, 4226,   2137.8,   2.0611,  34.6934,2,  34.6937,2
  74JC20001121, SR01b,    10,  1,      8,      8,2,20001124,0511,-55.5237, -57.9875, 4226,   1633.0,   2.2958,  34.6286,2,  34.6291,2
  74JC20001121, SR01b,    10,  1,      9,      9,2,20001124,0511,-55.5237, -57.9875, 4226,   1021.4,   2.7549,  34.4528,2,  34.4536,2
  74JC20001121, SR01b,    10,  1,     10,     10,2,20001124,0511,-55.5237, -57.9875, 4226,    513.3,   2.8986,  34.1310,2,  34.1316,2
  74JC20001121, SR01b,    10,  1,     11,     11,2,20001124,0511,-55.5237, -57.9875, 4226,    209.2,   3.7690,  34.1350,2,  34.1363,2
  74JC20001121, SR01b,    10,  1,     12,     12,2,20001124,0511,-55.5237, -57.9875, 4226,     16.5,   4.9978,  34.1441,2,  34.1428,2
  74JC20001121, SR01b,    11,  1,      1,      1,2,20001124,1053,-55.8210, -57.8675, 4652,   4737.3,   0.3036,  34.6720,2,  34.6707,2
  74JC20001121, SR01b,    11,  1,      2,      2,2,20001124,1053,-55.8210, -57.8675, 4652,   4096.3,   0.4498,  34.6838,2,  34.6830,2
  74JC20001121, SR01b,    11,  1,      3,      3,2,20001124,1053,-55.8210, -57.8675, 4652,   4096.2,   0.4499,  34.6839,2,-999.0000,9
  74JC20001121, SR01b,    11,  1,      4,      4,2,20001124,1053,-55.8210, -57.8675, 4652,   3683.2,   0.7749,  34.7035,2,  34.7017,2
  74JC20001121, SR01b,    11,  1,      5,      5,2,20001124,1053,-55.8210, -57.8675, 4652,   3168.8,   1.1216,  34.7165,2,  34.7168,2
  74JC20001121, SR01b,    11,  1,      6,      6,2,20001124,1053,-55.8210, -57.8675, 4652,   2655.1,   1.5880,  34.7216,2,  34.7213,2
  74JC20001121, SR01b,    11,  1,      7,      7,2,20001124,1053,-55.8210, -57.8675, 4652,   2142.9,   1.9463,  34.7057,2,  34.7062,2
  74JC20001121, SR01b,    11,  1,      8,      8,2,20001124,1053,-55.8210, -57.8675, 4652,   1632.0,   2.2041,  34.6599,2,  34.6609,2
  74JC20001121, SR01b,    11,  1,      9,      9,2,20001124,1053,-55.8210, -57.8675, 4652,   1020.5,   2.5999,  34.4746,2,  34.4758,2
  74JC20001121, SR01b,    11,  1,     10,     10,2,20001124,1053,-55.8210, -57.8675, 4652,    512.2,   2.8693,  34.1734,2,  34.1753,2
  74JC20001121, SR01b,    11,  1,     11,     11,2,20001124,1053,-55.8210, -57.8675, 4652,    258.9,   3.5912,  34.1545,2,  34.1545,2
  74JC20001121, SR01b,    11,  1,     12,     12,2,20001124,1053,-55.8210, -57.8675, 4652,     16.3,   4.9691,  34.1397,2,  34.1393,2