BOTTLE,20221031CCHSIOENA
# file in as received processed into dataset
# BOTTLE,20170705OCPNOCYLF
#SHIP: James Clark Ross
#Cruise JR67; SR1b
#Region: Drake Passage
#EXPOCODE: 74JC20011119
#DATES: 20011119 - 20011217
#Chief Scientist: S. Bacon, SOC
#Supported by NERC National Capability
#34 stations with 24-place rosette
#CTD: Who - B. King; Status - final
#Notes: CTD PRS; TMP; SAL are calibrated and good
#s: Who - Salinity; Status - final
#s: Who -  ; Status - final
#These data should be acknowledged with: "Data were collected and made publicly available by WOCE/CLIVAR with National Capability funding from the UK Natural Environment Research Council to the National Oceanography Centre Southampton."
EXPOCODE,SECT_ID,STNNBR,CASTNO,SAMPNO,BTLNBR,BTLNBR_FLAG_W,DATE,TIME,LATITUDE,LONGITUDE,DEPTH,CTDPRS,CTDTMP,CTDSAL,SALNTY,SALNTY_FLAG_W
 , , , , , , , , , , , , DBAR,ITS-90,PSS-78,PSS-78, 
74JC20011119,SR1b,1,1,1,1,2,20011120,0816, -53.42013, -57.98737,  2097, 2074.0, 2.2303,34.6460,34.6460,2
74JC20011119,SR1b,1,1,2,2,2,20011120,0816, -53.42013, -57.98737,  2097, 2073.8, 2.2312,34.6458,34.6447,2
74JC20011119,SR1b,1,1,3,3,2,20011120,0816, -53.42013, -57.98737,  2097, 2073.4, 2.2312,34.6459,34.6453,2
74JC20011119,SR1b,1,1,4,4,2,20011120,0816, -53.42013, -57.98737,  2097, 2073.7, 2.2310,34.6459,34.6457,2
74JC20011119,SR1b,1,1,5,5,2,20011120,0816, -53.42013, -57.98737,  2097, 2074.1, 2.2304,34.6460,-999.0000,9
74JC20011119,SR1b,1,1,6,6,2,20011120,0816, -53.42013, -57.98737,  2097, 2074.1, 2.2299,34.6461,34.6464,2
74JC20011119,SR1b,1,1,7,7,2,20011120,0816, -53.42013, -57.98737,  2097, 2073.3, 2.2310,34.6459,34.6457,2
74JC20011119,SR1b,1,1,8,8,2,20011120,0816, -53.42013, -57.98737,  2097, 2073.5, 2.2310,34.6460,34.6457,2
74JC20011119,SR1b,1,1,9,9,2,20011120,0816, -53.42013, -57.98737,  2097, 2073.7, 2.2306,34.6460,34.6460,2
74JC20011119,SR1b,1,1,10,10,2,20011120,0816, -53.42013, -57.98737,  2097, 2073.5, 2.2302,34.6461,34.6443,2
74JC20011119,SR1b,1,1,11,11,2,20011120,0816, -53.42013, -57.98737,  2097, 2073.8, 2.2296,34.6462,34.6429,2
74JC20011119,SR1b,1,1,12,12,2,20011120,0816, -53.42013, -57.98737,  2097, 2073.5, 2.2307,34.6460,34.6449,2
74JC20011119,SR1b,2,1,1,1,2,20011120,1622, -54.65440, -58.55930,   233,  224.0, 4.8562,34.1363,-999.0000,9
74JC20011119,SR1b,2,1,2,2,2,20011120,1622, -54.65440, -58.55930,   233,  223.7, 4.8507,34.1366,34.1376,2
74JC20011119,SR1b,2,1,3,3,2,20011120,1622, -54.65440, -58.55930,   233,  202.3, 4.9912,34.1311,34.1319,2
74JC20011119,SR1b,2,1,4,4,2,20011120,1622, -54.65440, -58.55930,   233,  151.7, 5.0785,34.1296,34.1311,2
74JC20011119,SR1b,2,1,5,5,2,20011120,1622, -54.65440, -58.55930,   233,  151.7, 5.0753,34.1298,-999.0000,9
74JC20011119,SR1b,2,1,6,6,2,20011120,1622, -54.65440, -58.55930,   233,  101.0, 5.2512,34.1289,34.1289,2
74JC20011119,SR1b,2,1,7,7,2,20011120,1622, -54.65440, -58.55930,   233,   50.4, 5.3262,34.1287,34.1285,2
74JC20011119,SR1b,2,1,8,8,2,20011120,1622, -54.65440, -58.55930,   233,   20.0, 5.3993,34.1285,34.1289,2
74JC20011119,SR1b,2,1,9,9,2,20011120,1622, -54.65440, -58.55930,   233,    2.6, 5.4664,34.1285,34.1301,2
74JC20011119,SR1b,3,1,1,1,2,20011120,1904, -54.92160, -58.36080,   620,  615.8, 4.2163,34.1480,-999.0000,9
74JC20011119,SR1b,3,1,2,2,2,20011120,1904, -54.92160, -58.36080,   620,  615.8, 4.2145,34.1480,34.1483,2
74JC20011119,SR1b,3,1,3,3,2,20011120,1904, -54.92160, -58.36080,   620,  508.4, 4.2079,34.1487,34.1485,2
74JC20011119,SR1b,3,1,4,4,2,20011120,1904, -54.92160, -58.36080,   620,  356.5, 4.4083,34.1525,34.1526,2
74JC20011119,SR1b,3,1,5,5,2,20011120,1904, -54.92160, -58.36080,   620,  356.7, 4.4076,34.1526,-999.0000,9
74JC20011119,SR1b,3,1,6,6,2,20011120,1904, -54.92160, -58.36080,   620,  205.4, 4.7360,34.1518,34.1523,2
74JC20011119,SR1b,3,1,7,7,2,20011120,1904, -54.92160, -58.36080,   620,  103.8, 4.8687,34.1497,34.1485,2
74JC20011119,SR1b,3,1,8,8,2,20011120,1904, -54.92160, -58.36080,   620,   53.7, 5.4507,34.1164,34.1181,2
74JC20011119,SR1b,3,1,9,9,2,20011120,1904, -54.92160, -58.36080,   620,   28.2, 5.4709,34.1157,34.1172,2
74JC20011119,SR1b,3,1,10,10,2,20011120,1904, -54.92160, -58.36080,   620,    5.1, 5.4979,34.1157,34.1189,2
74JC20011119,SR1b,4,1,1,1,2,20011120,2046, -54.94380, -58.36450,  1218, 1222.6, 2.7997,34.4198,34.4190,2
74JC20011119,SR1b,4,1,2,2,2,20011120,2046, -54.94380, -58.36450,  1218, 1014.6, 3.2019,34.2629,34.2650,2
74JC20011119,SR1b,4,1,3,3,2,20011120,2046, -54.94380, -58.36450,  1218,  812.0, 3.6301,34.1523,34.1507,2
74JC20011119,SR1b,4,1,4,4,2,20011120,2046, -54.94380, -58.36450,  1218,  608.3, 3.8367,34.1498,34.2085,2
74JC20011119,SR1b,4,1,5,5,2,20011120,2046, -54.94380, -58.36450,  1218,  608.5, 3.8367,34.1498,-999.0000,9
74JC20011119,SR1b,4,1,6,6,2,20011120,2046, -54.94380, -58.36450,  1218,  405.7, 4.3424,34.1515,34.1550,2
74JC20011119,SR1b,4,1,7,7,2,20011120,2046, -54.94380, -58.36450,  1218,  203.7, 4.5761,34.1551,34.1562,2
74JC20011119,SR1b,4,1,8,8,2,20011120,2046, -54.94380, -58.36450,  1218,  102.6, 4.9256,34.1422,34.1440,2
74JC20011119,SR1b,4,1,9,9,2,20011120,2046, -54.94380, -58.36450,  1218,   52.1, 5.4562,34.1196,34.1201,2
74JC20011119,SR1b,4,1,10,10,2,20011120,2046, -54.94380, -58.36450,  1218,    3.9, 5.5339,34.1186,34.1215,2
74JC20011119,SR1b,5,1,1,1,2,20011120,2237, -54.96090, -58.36790,  1583, 1589.8, 2.5664,34.5265,34.5227,2
74JC20011119,SR1b,5,1,2,2,2,20011120,2237, -54.96090, -58.36790,  1583, 1422.6, 2.6785,34.4704,34.4689,2
74JC20011119,SR1b,5,1,3,3,2,20011120,2237, -54.96090, -58.36790,  1583, 1218.5, 2.8963,34.3829,34.3861,2
74JC20011119,SR1b,5,1,4,4,2,20011120,2237, -54.96090, -58.36790,  1583, 1015.4, 3.1769,34.2741,34.3841,2
74JC20011119,SR1b,5,1,5,5,2,20011120,2237, -54.96090, -58.36790,  1583, 1015.3, 3.1777,34.2732,-999.0000,9
74JC20011119,SR1b,5,1,6,6,2,20011120,2237, -54.96090, -58.36790,  1583,  811.6, 3.4398,34.1602,34.1585,2
74JC20011119,SR1b,5,1,7,7,2,20011120,2237, -54.96090, -58.36790,  1583,  608.5, 3.7659,34.1547,34.1548,2
74JC20011119,SR1b,5,1,8,8,2,20011120,2237, -54.96090, -58.36790,  1583,  406.1, 4.2830,34.1437,34.1456,2
74JC20011119,SR1b,5,1,9,9,2,20011120,2237, -54.96090, -58.36790,  1583,  203.4, 4.5485,34.1557,34.1566,2
74JC20011119,SR1b,5,1,10,10,2,20011120,2237, -54.96090, -58.36790,  1583,  103.3, 4.7119,34.1457,34.1456,2
74JC20011119,SR1b,5,1,11,11,2,20011120,2237, -54.96090, -58.36790,  1583,   52.2, 5.4844,34.1154,34.1158,2
74JC20011119,SR1b,5,1,12,12,2,20011120,2237, -54.96090, -58.36790,  1583,    4.2, 5.4920,34.1162,34.1162,2
74JC20011119,SR1b,6,1,1,1,2,20011121,0117, -55.06970, -58.28980,  2068, 2085.1, 2.2678,34.6449,34.6398,2
74JC20011119,SR1b,6,1,2,2,2,20011121,0117, -55.06970, -58.28980,  2068, 1779.4, 2.4371,34.5844,34.5840,2
74JC20011119,SR1b,6,1,3,3,2,20011121,0117, -55.06970, -58.28980,  2068, 1524.4, 2.5156,34.5470,34.5459,2
74JC20011119,SR1b,6,1,4,4,2,20011121,0117, -55.06970, -58.28980,  2068, 1270.5, 2.7165,34.4170,34.5093,2
74JC20011119,SR1b,6,1,5,5,2,20011121,0117, -55.06970, -58.28980,  2068, 1016.0, 2.9561,34.2948,-999.0000,9
74JC20011119,SR1b,6,1,6,6,2,20011121,0117, -55.06970, -58.28980,  2068,  761.6, 3.4589,34.1883,34.1875,2
74JC20011119,SR1b,6,1,7,7,2,20011121,0117, -55.06970, -58.28980,  2068,  508.1, 4.1695,34.1574,-999.0000,9
74JC20011119,SR1b,6,1,8,8,2,20011121,0117, -55.06970, -58.28980,  2068,  255.1, 4.5493,34.1604,34.1609,2
74JC20011119,SR1b,6,1,9,9,2,20011121,0117, -55.06970, -58.28980,  2068,  103.1, 4.7342,34.1495,34.1487,2
74JC20011119,SR1b,6,1,10,10,2,20011121,0117, -55.06970, -58.28980,  2068,   52.9, 5.4414,34.1297,34.1283,2
74JC20011119,SR1b,6,1,11,11,2,20011121,0117, -55.06970, -58.28980,  2068,   27.6, 5.5431,34.1267,34.1266,2
74JC20011119,SR1b,6,1,12,12,2,20011121,0117, -55.06970, -58.28980,  2068,    3.5, 5.5394,34.1269,34.1244,2
74JC20011119,SR1b,7,1,1,1,2,20011121,0359, -55.12130, -58.25760,  2517, 2542.8, 2.0326,34.6960,34.6967,2
74JC20011119,SR1b,7,1,2,2,2,20011121,0359, -55.12130, -58.25760,  2517, 2037.3, 2.2655,34.6514,34.6512,2
74JC20011119,SR1b,7,1,3,3,2,20011121,0359, -55.12130, -58.25760,  2517, 1526.0, 2.5650,34.5251,34.5247,2
74JC20011119,SR1b,7,1,4,4,2,20011121,0359, -55.12130, -58.25760,  2517, 1017.0, 3.0805,34.3005,34.4430,2
74JC20011119,SR1b,7,1,5,5,2,20011121,0359, -55.12130, -58.25760,  2517, 1017.3, 3.0806,34.3004,-999.0000,9
74JC20011119,SR1b,7,1,6,6,2,20011121,0359, -55.12130, -58.25760,  2517,  762.7, 3.0504,34.1557,34.1566,2
74JC20011119,SR1b,7,1,7,7,2,20011121,0359, -55.12130, -58.25760,  2517,  508.8, 3.8966,34.1405,34.1403,2
74JC20011119,SR1b,7,1,8,8,2,20011121,0359, -55.12130, -58.25760,  2517,  256.4, 4.4730,34.1541,34.1540,2
74JC20011119,SR1b,7,1,9,9,2,20011121,0359, -55.12130, -58.25760,  2517,  104.7, 4.7118,34.1491,34.1499,2
74JC20011119,SR1b,7,1,10,10,2,20011121,0359, -55.12130, -58.25760,  2517,   54.0, 5.3419,34.1336,34.1332,2
74JC20011119,SR1b,7,1,11,11,2,20011121,0359, -55.12130, -58.25760,  2517,   28.7, 5.5373,34.1197,34.1223,2
74JC20011119,SR1b,7,1,12,12,2,20011121,0359, -55.12130, -58.25760,  2517,    4.8, 5.5292,34.1197,34.1232,2
74JC20011119,SR1b,8,1,1,1,2,20011121,0701, -55.17000, -58.23340,  2985, 3025.7, 1.4961,34.7202,34.7180,2
74JC20011119,SR1b,8,1,2,2,2,20011121,0701, -55.17000, -58.23340,  2985, 2549.1, 2.0233,34.7005,34.6997,2
74JC20011119,SR1b,8,1,3,3,2,20011121,0701, -55.17000, -58.23340,  2985, 2037.6, 2.2851,34.6493,34.6488,2
74JC20011119,SR1b,8,1,4,4,2,20011121,0701, -55.17000, -58.23340,  2985, 1527.0, 2.5601,34.5214,34.6431,2
74JC20011119,SR1b,8,1,5,5,2,20011121,0701, -55.17000, -58.23340,  2985, 1527.1, 2.5617,34.5203,-999.0000,9
74JC20011119,SR1b,8,1,6,6,2,20011121,0701, -55.17000, -58.23340,  2985, 1018.2, 3.0859,34.3226,34.3221,2
74JC20011119,SR1b,8,1,7,7,2,20011121,0701, -55.17000, -58.23340,  2985,  762.5, 3.0502,34.1653,34.1642,2
74JC20011119,SR1b,8,1,8,8,2,20011121,0701, -55.17000, -58.23340,  2985,  508.3, 3.6405,34.1300,34.1291,2
74JC20011119,SR1b,8,1,9,9,2,20011121,0701, -55.17000, -58.23340,  2985,  256.5, 4.2418,34.1424,34.1426,2
74JC20011119,SR1b,8,1,10,10,2,20011121,0701, -55.17000, -58.23340,  2985,  104.8, 4.6580,34.1371,34.1366,2
74JC20011119,SR1b,8,1,11,11,2,20011121,0701, -55.17000, -58.23340,  2985,   53.9, 5.2646,34.1218,34.1293,2
74JC20011119,SR1b,8,1,12,12,2,20011121,0701, -55.17000, -58.23340,  2985,    4.6, 5.5297,34.0888,34.0891,2
74JC20011119,SR1b,9,1,1,1,2,20011121,1022, -55.21440, -58.22840,  3771, 3826.4, 0.8650,34.7045,34.7022,2
74JC20011119,SR1b,9,1,2,2,2,20011121,1022, -55.21440, -58.22840,  3771, 3064.8, 1.5152,34.7194,34.7178,2
74JC20011119,SR1b,9,1,3,3,2,20011121,1022, -55.21440, -58.22840,  3771, 2551.7, 2.0758,34.6958,34.6928,2
74JC20011119,SR1b,9,1,4,4,2,20011121,1022, -55.21440, -58.22840,  3771, 2039.7, 2.2760,34.6531,34.6684,2
74JC20011119,SR1b,9,1,5,5,2,20011121,1022, -55.21440, -58.22840,  3771, 2038.7, 2.2764,34.6530,-999.0000,9
74JC20011119,SR1b,9,1,6,6,2,20011121,1022, -55.21440, -58.22840,  3771, 1529.5, 2.5425,34.5247,34.5235,2
74JC20011119,SR1b,9,1,7,7,2,20011121,1022, -55.21440, -58.22840,  3771, 1020.7, 3.0368,34.2980,34.2966,2
74JC20011119,SR1b,9,1,8,8,2,20011121,1022, -55.21440, -58.22840,  3771,  513.0, 3.3790,34.1132,34.1130,2
74JC20011119,SR1b,9,1,9,9,2,20011121,1022, -55.21440, -58.22840,  3771,  260.3, 4.0576,34.1230,34.1221,2
74JC20011119,SR1b,9,1,10,10,2,20011121,1022, -55.21440, -58.22840,  3771,  108.2, 4.4391,34.1262,34.1240,2
74JC20011119,SR1b,9,1,11,11,2,20011121,1022, -55.21440, -58.22840,  3771,   58.1, 4.9004,34.1312,34.1301,2
74JC20011119,SR1b,9,1,12,12,2,20011121,1022, -55.21440, -58.22840,  3771,    2.9, 5.2641,34.1325,34.1315,2
74JC20011119,SR1b,11,1,1,1,2,20011121,2037, -55.82650, -57.85960,  4684, 4766.2, 0.3460,34.6727,34.6692,2
74JC20011119,SR1b,11,1,2,2,2,20011121,2037, -55.82650, -57.85960,  4684, 4091.3, 1.0895,34.7125,34.7089,2
74JC20011119,SR1b,11,1,3,3,2,20011121,2037, -55.82650, -57.85960,  4684, 3064.0, 1.6891,34.7213,34.7191,2
74JC20011119,SR1b,11,1,4,4,2,20011121,2037, -55.82650, -57.85960,  4684, 2553.8, 2.0348,34.7040,34.7019,2
74JC20011119,SR1b,11,1,5,5,2,20011121,2037, -55.82650, -57.85960,  4684, 2041.1, 2.3222,34.6378,-999.0000,9
74JC20011119,SR1b,11,1,6,6,2,20011121,2037, -55.82650, -57.85960,  4684, 2040.1, 2.3249,34.6371,34.6350,2
74JC20011119,SR1b,11,1,7,7,2,20011121,2037, -55.82650, -57.85960,  4684, 1530.3, 2.8607,34.4263,34.4253,2
74JC20011119,SR1b,11,1,8,8,2,20011121,2037, -55.82650, -57.85960,  4684, 1021.7, 3.2946,34.2900,34.2868,2
74JC20011119,SR1b,11,1,9,9,2,20011121,2037, -55.82650, -57.85960,  4684,  514.5, 3.9252,34.1651,34.1636,2
74JC20011119,SR1b,11,1,10,10,2,20011121,2037, -55.82650, -57.85960,  4684,  262.3, 4.4786,34.1566,34.1554,2
74JC20011119,SR1b,11,1,11,11,2,20011121,2037, -55.82650, -57.85960,  4684,  110.4, 4.8609,34.1457,34.1452,2
74JC20011119,SR1b,11,1,12,12,2,20011121,2037, -55.82650, -57.85960,  4684,   19.7, 5.5453,34.1283,34.1283,2
74JC20011119,SR1b,12,1,1,1,2,20011122,0139, -56.13070, -57.65030,  3637, 3693.6, 1.0915,34.7139,34.7107,2
74JC20011119,SR1b,12,1,2,2,2,20011122,0139, -56.13070, -57.65030,  3637, 3058.4, 1.4817,34.7225,34.7201,2
74JC20011119,SR1b,12,1,3,3,2,20011122,0139, -56.13070, -57.65030,  3637, 2548.5, 1.8751,34.7125,34.7101,2
74JC20011119,SR1b,12,1,4,4,2,20011122,0139, -56.13070, -57.65030,  3637, 2038.2, 2.1728,34.6734,34.6708,2
74JC20011119,SR1b,12,1,5,5,2,20011122,0139, -56.13070, -57.65030,  3637, 1528.0, 2.5284,34.5433,-999.0000,9
74JC20011119,SR1b,12,1,6,6,2,20011122,0139, -56.13070, -57.65030,  3637, 1527.9, 2.5282,34.5434,34.5390,2
74JC20011119,SR1b,12,1,7,7,2,20011122,0139, -56.13070, -57.65030,  3637, 1019.1, 3.1498,34.3281,34.3280,2
74JC20011119,SR1b,12,1,8,8,2,20011122,0139, -56.13070, -57.65030,  3637,  764.4, 3.4446,34.2174,34.2150,2
74JC20011119,SR1b,12,1,9,9,2,20011122,0139, -56.13070, -57.65030,  3637,  509.2, 3.7879,34.1459,34.1438,2
74JC20011119,SR1b,12,1,10,10,2,20011122,0139, -56.13070, -57.65030,  3637,  258.5, 4.4405,34.1543,34.1491,2
74JC20011119,SR1b,12,1,11,11,2,20011122,0139, -56.13070, -57.65030,  3637,  106.8, 4.8033,34.1348,34.1311,2
74JC20011119,SR1b,12,1,12,12,2,20011122,0139, -56.13070, -57.65030,  3637,   15.9, 5.4395,34.1265,34.1248,2
74JC20011119,SR1b,13,1,1,1,2,20011122,0712, -56.46240, -57.49260,  3577, 3626.1, 0.9419,34.7094,34.7054,2
74JC20011119,SR1b,13,1,2,2,2,20011122,0712, -56.46240, -57.49260,  3577, 3057.6, 1.1930,34.7182,34.7148,2
74JC20011119,SR1b,13,1,3,3,2,20011122,0712, -56.46240, -57.49260,  3577, 2547.9, 1.6126,34.7231,34.7203,2
74JC20011119,SR1b,13,1,4,4,2,20011122,0712, -56.46240, -57.49260,  3577, 2036.5, 1.9896,34.7012,34.6971,2
74JC20011119,SR1b,13,1,5,5,2,20011122,0712, -56.46240, -57.49260,  3577, 2036.9, 1.9899,34.7011,-999.0000,9
74JC20011119,SR1b,13,1,6,6,2,20011122,0712, -56.46240, -57.49260,  3577, 1526.6, 2.3540,34.6105,34.6077,2
74JC20011119,SR1b,13,1,7,7,2,20011122,0712, -56.46240, -57.49260,  3577, 1018.9, 2.6031,34.5086,34.5060,2
74JC20011119,SR1b,13,1,8,8,2,20011122,0712, -56.46240, -57.49260,  3577,  512.3, 2.5512,34.2037,34.2032,2
74JC20011119,SR1b,13,1,9,9,2,20011122,0712, -56.46240, -57.49260,  3577,  258.6, 3.2559,34.1156,34.1136,2
74JC20011119,SR1b,13,1,10,10,2,20011122,0712, -56.46240, -57.49260,  3577,  106.8, 4.0474,34.1081,34.1062,2
74JC20011119,SR1b,13,1,11,11,2,20011122,0712, -56.46240, -57.49260,  3577,   56.7, 4.7585,34.1181,34.1160,2
74JC20011119,SR1b,13,1,12,12,2,20011122,0712, -56.46240, -57.49260,  3577,   16.4, 4.8476,34.1195,34.1181,2
74JC20011119,SR1b,14,1,1,1,2,20011122,1135, -56.78030, -57.27140,  2902, 2917.5, 0.9145,34.7101,34.7093,2
74JC20011119,SR1b,14,1,2,2,2,20011122,1135, -56.78030, -57.27140,  2902, 2516.2, 1.3809,34.7222,34.7211,2
74JC20011119,SR1b,14,1,3,3,2,20011122,1135, -56.78030, -57.27140,  2902, 2011.6, 1.6775,34.7232,34.7225,2
74JC20011119,SR1b,14,1,4,4,2,20011122,1135, -56.78030, -57.27140,  2902, 1518.7, 2.0240,34.6922,34.6910,2
74JC20011119,SR1b,14,1,5,5,2,20011122,1135, -56.78030, -57.27140,  2902, 1519.1, 2.0218,34.6928,-999.0000,9
74JC20011119,SR1b,14,1,6,6,2,20011122,1135, -56.78030, -57.27140,  2902, 1017.0, 2.3781,34.5805,34.5806,2
74JC20011119,SR1b,14,1,7,7,2,20011122,1135, -56.78030, -57.27140,  2902,  763.5, 2.4860,34.4631,34.4648,2
74JC20011119,SR1b,14,1,8,8,2,20011122,1135, -56.78030, -57.27140,  2902,  509.6, 2.6453,34.3030,34.3036,2
74JC20011119,SR1b,14,1,9,9,2,20011122,1135, -56.78030, -57.27140,  2902,  312.2, 1.2370,33.9979,33.9972,2
74JC20011119,SR1b,14,1,10,10,2,20011122,1135, -56.78030, -57.27140,  2902,  105.1, 2.7314,34.0507,34.0519,2
74JC20011119,SR1b,14,1,11,11,2,20011122,1135, -56.78030, -57.27140,  2902,   54.7, 3.3308,34.0391,34.0405,2
74JC20011119,SR1b,14,1,12,12,2,20011122,1135, -56.78030, -57.27140,  2902,   14.2, 3.3830,34.0345,34.0343,2
74JC20011119,SR1b,15,1,1,1,2,20011122,1609, -57.08540, -57.10610,  4415, 4486.5, 0.3030,34.6726,34.6706,2
74JC20011119,SR1b,15,1,2,2,2,20011122,1609, -57.08540, -57.10610,  4415, 4074.4, 0.3879,34.6806,34.6787,2
74JC20011119,SR1b,15,1,3,3,2,20011122,1609, -57.08540, -57.10610,  4415, 3057.3, 0.7571,34.7051,34.7050,2
74JC20011119,SR1b,15,1,4,4,2,20011122,1609, -57.08540, -57.10610,  4415, 2553.5, 0.9686,34.7128,34.7131,2
74JC20011119,SR1b,15,1,5,5,2,20011122,1609, -57.08540, -57.10610,  4415, 2553.7, 0.9675,34.7128,-999.0000,9
74JC20011119,SR1b,15,1,6,6,2,20011122,1609, -57.08540, -57.10610,  4415, 2041.3, 1.2125,34.7176,34.7176,2
74JC20011119,SR1b,15,1,7,7,2,20011122,1609, -57.08540, -57.10610,  4415, 1525.8, 1.5022,34.7137,34.7144,2
74JC20011119,SR1b,15,1,8,8,2,20011122,1609, -57.08540, -57.10610,  4415, 1018.3, 1.8963,34.6809,34.6802,2
74JC20011119,SR1b,15,1,9,9,2,20011122,1609, -57.08540, -57.10610,  4415,  512.0, 2.0726,34.5205,34.5215,2
74JC20011119,SR1b,15,1,10,10,2,20011122,1609, -57.08540, -57.10610,  4415,  208.1,-0.5810,34.0219,34.0251,2
74JC20011119,SR1b,15,1,11,11,2,20011122,1609, -57.08540, -57.10610,  4415,  106.6,-0.4138,33.8671,33.8658,2
74JC20011119,SR1b,15,1,12,12,2,20011122,1609, -57.08540, -57.10610,  4415,   16.0, 0.3461,33.8145,33.8153,2
74JC20011119,SR1b,16,1,1,1,2,20011122,2117, -57.42770, -56.93220,  3972, 4035.5, 0.2286,34.6714,34.6706,2
74JC20011119,SR1b,16,1,2,2,2,20011122,2117, -57.42770, -56.93220,  3972, 3582.3, 0.2755,34.6767,34.6763,2
74JC20011119,SR1b,16,1,3,3,2,20011122,2117, -57.42770, -56.93220,  3972, 3067.1, 0.6211,34.6995,34.7005,2
74JC20011119,SR1b,16,1,4,4,2,20011122,2117, -57.42770, -56.93220,  3972, 2553.8, 0.8658,34.7090,34.7097,2
74JC20011119,SR1b,16,1,5,5,2,20011122,2117, -57.42770, -56.93220,  3972, 2554.2, 0.8666,34.7090,-999.0000,9
74JC20011119,SR1b,16,1,6,6,2,20011122,2117, -57.42770, -56.93220,  3972, 2041.5, 1.1533,34.7194,34.7237,2
74JC20011119,SR1b,16,1,7,7,2,20011122,2117, -57.42770, -56.93220,  3972, 1530.1, 1.5369,34.7224,34.7243,2
74JC20011119,SR1b,16,1,8,8,2,20011122,2117, -57.42770, -56.93220,  3972, 1020.9, 1.8998,34.7072,34.7101,2
74JC20011119,SR1b,16,1,9,9,2,20011122,2117, -57.42770, -56.93220,  3972,  512.8, 2.1443,34.5858,34.5901,2
74JC20011119,SR1b,16,1,10,10,2,20011122,2117, -57.42770, -56.93220,  3972,  208.7, 1.2103,34.2544,34.2601,2
74JC20011119,SR1b,16,1,11,11,2,20011122,2117, -57.42770, -56.93220,  3972,  107.7,-0.6009,33.9044,33.9124,2
74JC20011119,SR1b,16,1,12,12,2,20011122,2117, -57.42770, -56.93220,  3972,   16.8, 0.4720,33.8206,33.8255,2