BOTTLE,20221031CCHSIOENA
EXPOCODE,SECT_ID,STNNBR,CASTNO,SAMPNO,BTLNBR,BTLNBR_FLAG_W,DATE,TIME,LATITUDE,LONGITUDE,DEPTH,CTDPRS,CTDTMP,CTDSAL,SALNTY,SALNTY_FLAG_W
 , , , , , , , , , , , , DBAR,ITS-90,PSS-78,PSS-78, 
74JC20011119,SR1b,17,1,1,1,2,20011123,0154, -57.73440, -56.67700,  3425, 3472.0, 0.2178,34.6741,34.6737,2
74JC20011119,SR1b,17,1,2,2,2,20011123,0154, -57.73440, -56.67700,  3425, 3065.8, 0.5590,34.6963,34.6948,2
74JC20011119,SR1b,17,1,3,3,2,20011123,0154, -57.73440, -56.67700,  3425, 2552.5, 0.8533,34.7099,34.7095,2
74JC20011119,SR1b,17,1,4,4,2,20011123,0154, -57.73440, -56.67700,  3425, 2039.5, 1.1401,34.7207,34.7215,2
74JC20011119,SR1b,17,1,5,5,2,20011123,0154, -57.73440, -56.67700,  3425, 2039.9, 1.1418,34.7207,-999.0000,9
74JC20011119,SR1b,17,1,6,6,2,20011123,0154, -57.73440, -56.67700,  3425, 1528.6, 1.5332,34.7251,34.7250,2
74JC20011119,SR1b,17,1,7,7,2,20011123,0154, -57.73440, -56.67700,  3425, 1018.8, 1.9290,34.7101,34.7117,2
74JC20011119,SR1b,17,1,8,8,2,20011123,0154, -57.73440, -56.67700,  3425,  764.6, 2.0987,34.6700,34.6710,2
74JC20011119,SR1b,17,1,9,9,2,20011123,0154, -57.73440, -56.67700,  3425,  510.7, 2.1453,34.5804,34.5816,2
74JC20011119,SR1b,17,1,10,10,2,20011123,0154, -57.73440, -56.67700,  3425,  257.2, 1.6942,34.3869,34.3902,2
74JC20011119,SR1b,17,1,11,11,2,20011123,0154, -57.73440, -56.67700,  3425,  105.8,-0.5740,33.8762,33.8774,2
74JC20011119,SR1b,17,1,12,12,2,20011123,0154, -57.73440, -56.67700,  3425,   14.6, 0.5734,33.8205,33.8200,2
74JC20011119,SR1b,18,1,1,1,2,20011123,0636, -58.04450, -56.53770,  4016, 4081.1, 0.0396,34.6613,34.6622,2
74JC20011119,SR1b,18,1,2,2,2,20011123,0636, -58.04450, -56.53770,  4016, 3581.2, 0.2235,34.6706,34.6714,2
74JC20011119,SR1b,18,1,3,3,2,20011123,0636, -58.04450, -56.53770,  4016, 3066.9, 0.4419,34.6838,34.6851,2
74JC20011119,SR1b,18,1,4,4,2,20011123,0636, -58.04450, -56.53770,  4016, 2552.7, 0.7359,34.7021,34.7015,2
74JC20011119,SR1b,18,1,5,5,2,20011123,0636, -58.04450, -56.53770,  4016, 2552.5, 0.7356,34.7020,-999.0000,9
74JC20011119,SR1b,18,1,6,6,2,20011123,0636, -58.04450, -56.53770,  4016, 2038.7, 1.0476,34.7171,34.7190,2
74JC20011119,SR1b,18,1,7,7,2,20011123,0636, -58.04450, -56.53770,  4016, 1530.4, 1.3755,34.7214,34.7237,2
74JC20011119,SR1b,18,1,8,8,2,20011123,0636, -58.04450, -56.53770,  4016, 1019.5, 1.8580,34.7097,34.7117,2
74JC20011119,SR1b,18,1,9,9,2,20011123,0636, -58.04450, -56.53770,  4016,  512.6, 2.1364,34.5812,34.5832,2
74JC20011119,SR1b,18,1,10,10,2,20011123,0636, -58.04450, -56.53770,  4016,  107.4,-0.0652,33.8470,33.8504,2
74JC20011119,SR1b,18,1,11,11,2,20011123,0636, -58.04450, -56.53770,  4016,   56.4, 0.3847,33.8293,33.8308,2
74JC20011119,SR1b,18,1,12,12,2,20011123,0636, -58.04450, -56.53770,  4016,   16.4, 0.4656,33.8273,33.8284,2
74JC20011119,SR1b,19,1,1,1,2,20011123,1111, -58.36740, -56.35130,  3821, 3879.3, 0.0443,34.6624,34.6633,2
74JC20011119,SR1b,19,1,2,2,2,20011123,1111, -58.36740, -56.35130,  3821, 3579.6, 0.1190,34.6678,34.6682,2
74JC20011119,SR1b,19,1,3,3,2,20011123,1111, -58.36740, -56.35130,  3821, 3065.7, 0.3086,34.6811,34.6826,2
74JC20011119,SR1b,19,1,4,4,2,20011123,1111, -58.36740, -56.35130,  3821, 2552.2, 0.6271,34.7025,34.7034,2
74JC20011119,SR1b,19,1,5,5,2,20011123,1111, -58.36740, -56.35130,  3821, 2552.0, 0.6276,34.7025,-999.0000,9
74JC20011119,SR1b,19,1,6,6,2,20011123,1111, -58.36740, -56.35130,  3821, 2040.7, 0.8955,34.7099,34.7113,2
74JC20011119,SR1b,19,1,7,7,2,20011123,1111, -58.36740, -56.35130,  3821, 1529.7, 1.2644,34.7211,34.7235,2
74JC20011119,SR1b,19,1,8,8,2,20011123,1111, -58.36740, -56.35130,  3821, 1020.9, 1.6010,34.7105,34.7125,2
74JC20011119,SR1b,19,1,9,9,2,20011123,1111, -58.36740, -56.35130,  3821,  514.2, 1.8457,34.6232,34.6225,2
74JC20011119,SR1b,19,1,10,10,2,20011123,1111, -58.36740, -56.35130,  3821,  109.0,-0.4208,33.9590,33.9604,2
74JC20011119,SR1b,19,1,11,11,2,20011123,1111, -58.36740, -56.35130,  3821,   58.5, 0.1791,33.9045,33.9052,2
74JC20011119,SR1b,19,1,12,12,2,20011123,1111, -58.36740, -56.35130,  3821,   18.0, 0.5373,33.8564,33.8619,2
74JC20011119,SR1b,20,1,1,1,2,20011123,1553, -58.68760, -56.15480,  3778, 3837.3, 0.0957,34.6651,34.6624,2
74JC20011119,SR1b,20,1,2,2,2,20011123,1553, -58.68760, -56.15480,  3778, 3570.5, 0.1046,34.6670,34.6643,2
74JC20011119,SR1b,20,1,3,3,2,20011123,1553, -58.68760, -56.15480,  3778, 3055.5, 0.2543,34.6783,34.6761,2
74JC20011119,SR1b,20,1,4,4,2,20011123,1553, -58.68760, -56.15480,  3778, 2544.7, 0.5474,34.6999,34.6981,2
74JC20011119,SR1b,20,1,5,5,2,20011123,1553, -58.68760, -56.15480,  3778, 2544.5, 0.5482,34.6998,-999.0000,9
74JC20011119,SR1b,20,1,6,6,2,20011123,1553, -58.68760, -56.15480,  3778, 1956.6, 0.9472,34.7124,34.7095,2
74JC20011119,SR1b,20,1,7,7,2,20011123,1553, -58.68760, -56.15480,  3778, 1526.5, 1.3003,34.7245,34.7217,2
74JC20011119,SR1b,20,1,8,8,2,20011123,1553, -58.68760, -56.15480,  3778, 1018.8, 1.7441,34.7215,34.7209,2
74JC20011119,SR1b,20,1,9,9,2,20011123,1553, -58.68760, -56.15480,  3778,  511.5, 2.1371,34.6428,34.6415,2
74JC20011119,SR1b,20,1,10,10,2,20011123,1553, -58.68760, -56.15480,  3778,  106.8,-0.7367,33.9290,33.9602,2
74JC20011119,SR1b,20,1,11,11,2,20011123,1553, -58.68760, -56.15480,  3778,   55.7, 0.0375,33.8853,33.8825,2
74JC20011119,SR1b,20,1,12,12,2,20011123,1553, -58.68760, -56.15480,  3778,   15.3, 0.0543,33.8717,33.8723,2
74JC20011119,SR1b,21,1,1,1,2,20011123,2112, -58.99670, -55.96180,  3770, 3829.0, 0.0448,34.6629,34.6604,2
74JC20011119,SR1b,21,1,2,2,2,20011123,2112, -58.99670, -55.96180,  3770, 3582.0, 0.1059,34.6669,34.6643,2
74JC20011119,SR1b,21,1,3,3,2,20011123,2112, -58.99670, -55.96180,  3770, 3067.3, 0.2665,34.6789,34.6769,2
74JC20011119,SR1b,21,1,4,4,2,20011123,2112, -58.99670, -55.96180,  3770, 2553.2, 0.5723,34.7002,34.6991,2
74JC20011119,SR1b,21,1,5,5,2,20011123,2112, -58.99670, -55.96180,  3770, 2553.3, 0.5725,34.7002,-999.0000,9
74JC20011119,SR1b,21,1,6,6,2,20011123,2112, -58.99670, -55.96180,  3770, 2040.7, 0.7969,34.7094,34.7079,2
74JC20011119,SR1b,21,1,7,7,2,20011123,2112, -58.99670, -55.96180,  3770, 1529.7, 1.1785,34.7225,34.7209,2
74JC20011119,SR1b,21,1,8,8,2,20011123,2112, -58.99670, -55.96180,  3770, 1020.1, 1.4347,34.7066,34.7056,2
74JC20011119,SR1b,21,1,9,9,2,20011123,2112, -58.99670, -55.96180,  3770,  512.2, 1.9643,34.6628,34.6616,2
74JC20011119,SR1b,21,1,10,10,2,20011123,2112, -58.99670, -55.96180,  3770,  106.9,-0.4752,34.0487,34.0501,2
74JC20011119,SR1b,21,1,11,11,2,20011123,2112, -58.99670, -55.96180,  3770,   56.2, 0.2440,33.9732,33.9722,2
74JC20011119,SR1b,21,1,12,12,2,20011123,2112, -58.99670, -55.96180,  3770,   15.8, 0.4928,33.9700,33.9681,2
74JC20011119,SR1b,22,1,1,1,2,20011124,0155, -59.31660, -55.71150,  3724, 3782.7, 0.0162,34.6618,34.6614,2
74JC20011119,SR1b,22,1,2,2,2,20011124,0155, -59.31660, -55.71150,  3724, 3582.4, 0.0633,34.6649,34.6649,2
74JC20011119,SR1b,22,1,3,3,2,20011124,0155, -59.31660, -55.71150,  3724, 3067.6, 0.2136,34.6723,34.6706,2
74JC20011119,SR1b,22,1,4,4,2,20011124,0155, -59.31660, -55.71150,  3724, 2554.0, 0.5696,34.6973,34.6977,2
74JC20011119,SR1b,22,1,5,5,2,20011124,0155, -59.31660, -55.71150,  3724, 2040.9, 0.8213,34.7098,-999.0000,9
74JC20011119,SR1b,22,1,6,6,2,20011124,0155, -59.31660, -55.71150,  3724, 2040.9, 0.8213,34.7098,34.7095,2
74JC20011119,SR1b,22,1,7,7,2,20011124,0155, -59.31660, -55.71150,  3724, 1530.2, 1.1474,34.7178,34.7184,2
74JC20011119,SR1b,22,1,8,8,2,20011124,0155, -59.31660, -55.71150,  3724, 1020.7, 1.6125,34.7269,34.7278,2
74JC20011119,SR1b,22,1,9,9,2,20011124,0155, -59.31660, -55.71150,  3724,  512.7, 1.9884,34.6772,34.6781,2
74JC20011119,SR1b,22,1,10,10,2,20011124,0155, -59.31660, -55.71150,  3724,  107.6,-0.4051,34.0814,34.0793,2
74JC20011119,SR1b,22,1,11,11,2,20011124,0155, -59.31660, -55.71150,  3724,   56.9, 0.2964,33.9495,33.9491,2
74JC20011119,SR1b,22,1,12,12,2,20011124,0155, -59.31660, -55.71150,  3724,   15.6, 0.4456,33.9481,33.9489,2
74JC20011119,SR1b,23,1,1,1,2,20011124,0633, -59.65660, -55.50490,  3683, 3740.7,-0.0243,34.6603,34.6588,2
74JC20011119,SR1b,23,1,2,2,2,20011124,0633, -59.65660, -55.50490,  3683, 3568.1, 0.0232,34.6630,34.6590,2
74JC20011119,SR1b,23,1,3,3,2,20011124,0633, -59.65660, -55.50490,  3683, 3049.5, 0.1500,34.6712,34.6681,2
74JC20011119,SR1b,23,1,4,4,2,20011124,0633, -59.65660, -55.50490,  3683, 2536.9, 0.3898,34.6890,34.6897,2
74JC20011119,SR1b,23,1,5,5,2,20011124,0633, -59.65660, -55.50490,  3683, 2519.8, 0.4341,34.6933,-999.0000,9
74JC20011119,SR1b,23,1,6,6,2,20011124,0633, -59.65660, -55.50490,  3683, 2029.0, 0.6645,34.6980,34.6967,2
74JC20011119,SR1b,23,1,7,7,2,20011124,0633, -59.65660, -55.50490,  3683, 1526.4, 1.1305,34.7189,34.7191,2
74JC20011119,SR1b,23,1,8,8,2,20011124,0633, -59.65660, -55.50490,  3683, 1018.5, 1.5306,34.7247,34.7247,2
74JC20011119,SR1b,23,1,9,9,2,20011124,0633, -59.65660, -55.50490,  3683,  511.4, 1.6330,34.6563,34.6574,2
74JC20011119,SR1b,23,1,10,10,2,20011124,0633, -59.65660, -55.50490,  3683,  106.0,-0.0273,34.1650,34.1668,2
74JC20011119,SR1b,23,1,11,11,2,20011124,0633, -59.65660, -55.50490,  3683,   47.3,-0.2412,33.9611,33.9581,2
74JC20011119,SR1b,23,1,12,12,2,20011124,0633, -59.65660, -55.50490,  3683,   15.4,-0.0842,33.9638,33.9637,2
74JC20011119,SR1b,24,1,1,1,2,20011124,1056, -60.00360, -55.31830,  3499, 3551.9,-0.0732,34.6593,34.6582,2
74JC20011119,SR1b,24,1,2,2,2,20011124,1056, -60.00360, -55.31830,  3499, 3068.5, 0.0528,34.6651,34.6639,2
74JC20011119,SR1b,24,1,3,3,2,20011124,1056, -60.00360, -55.31830,  3499, 2554.6, 0.2441,34.6748,34.6741,2
74JC20011119,SR1b,24,1,4,4,2,20011124,1056, -60.00360, -55.31830,  3499, 2042.4, 0.6373,34.7020,34.7022,2
74JC20011119,SR1b,24,1,5,5,2,20011124,1056, -60.00360, -55.31830,  3499, 2042.0, 0.6377,34.7020,-999.0000,9
74JC20011119,SR1b,24,1,6,6,2,20011124,1056, -60.00360, -55.31830,  3499, 1530.9, 1.0189,34.7161,34.7164,2
74JC20011119,SR1b,24,1,7,7,2,20011124,1056, -60.00360, -55.31830,  3499, 1021.2, 1.4878,34.7285,34.7294,2
74JC20011119,SR1b,24,1,8,8,2,20011124,1056, -60.00360, -55.31830,  3499,  512.8, 1.7466,34.6752,34.6759,2
74JC20011119,SR1b,24,1,9,9,2,20011124,1056, -60.00360, -55.31830,  3499,  259.6, 1.7305,34.5504,34.5504,2
74JC20011119,SR1b,24,1,10,10,2,20011124,1056, -60.00360, -55.31830,  3499,  107.7,-0.4437,34.1229,34.1262,2
74JC20011119,SR1b,24,1,11,11,2,20011124,1056, -60.00360, -55.31830,  3499,   56.9,-0.3351,33.9943,33.9941,2
74JC20011119,SR1b,24,1,12,12,2,20011124,1056, -60.00360, -55.31830,  3499,   16.4,-0.1891,33.9872,33.9876,2
74JC20011119,SR1b,26,1,1,1,2,20011124,2008, -60.67540, -54.81290,  3105, 3147.0,-0.0181,34.6631,34.6622,2
74JC20011119,SR1b,26,1,2,2,2,20011124,2008, -60.67540, -54.81290,  3105, 2550.9, 0.0590,34.6695,34.6681,2
74JC20011119,SR1b,26,1,3,3,2,20011124,2008, -60.67540, -54.81290,  3105, 2039.6, 0.2766,34.6853,34.6848,2
74JC20011119,SR1b,26,1,4,4,2,20011124,2008, -60.67540, -54.81290,  3105, 1529.0, 0.6699,34.7095,34.7089,2
74JC20011119,SR1b,26,1,5,5,2,20011124,2008, -60.67540, -54.81290,  3105, 1019.3, 1.0861,34.7221,-999.0000,9
74JC20011119,SR1b,26,1,6,6,2,20011124,2008, -60.67540, -54.81290,  3105, 1018.0, 1.0910,34.7223,34.7223,2
74JC20011119,SR1b,26,1,7,7,2,20011124,2008, -60.67540, -54.81290,  3105,  765.3, 1.0930,34.7057,34.7062,2
74JC20011119,SR1b,26,1,8,8,2,20011124,2008, -60.67540, -54.81290,  3105,  511.6, 1.6740,34.7202,34.7184,2
74JC20011119,SR1b,26,1,9,9,2,20011124,2008, -60.67540, -54.81290,  3105,  258.2, 0.5720,34.4797,34.4805,2
74JC20011119,SR1b,26,1,10,10,2,20011124,2008, -60.67540, -54.81290,  3105,  106.4,-0.5095,34.2151,34.2146,2
74JC20011119,SR1b,26,1,11,11,2,20011124,2008, -60.67540, -54.81290,  3105,   55.7,-0.1110,34.1190,34.1221,2
74JC20011119,SR1b,26,1,12,12,2,20011124,2008, -60.67540, -54.81290,  3105,   15.3, 0.0966,34.0552,34.0574,2
74JC20011119,SR1b,27,1,1,1,2,20011124,2322, -60.79310, -54.72340,  2501, 2541.5,-0.0121,34.6657,34.6649,2
74JC20011119,SR1b,27,1,2,2,2,20011124,2322, -60.79310, -54.72340,  2501, 2039.6, 0.1784,34.6783,34.6773,2
74JC20011119,SR1b,27,1,3,3,2,20011124,2322, -60.79310, -54.72340,  2501, 1528.4, 0.5315,34.7014,34.7013,2
74JC20011119,SR1b,27,1,4,4,2,20011124,2322, -60.79310, -54.72340,  2501, 1018.2, 0.7997,34.6984,34.6985,2
74JC20011119,SR1b,27,1,5,5,2,20011124,2322, -60.79310, -54.72340,  2501,  764.0, 0.8125,34.6701,-999.0000,9
74JC20011119,SR1b,27,1,6,6,2,20011124,2322, -60.79310, -54.72340,  2501,  764.0, 0.8113,34.6699,34.6706,2
74JC20011119,SR1b,27,1,7,7,2,20011124,2322, -60.79310, -54.72340,  2501,  509.7, 0.9744,34.6475,34.6462,2
74JC20011119,SR1b,27,1,8,8,2,20011124,2322, -60.79310, -54.72340,  2501,  256.7, 0.6152,34.4763,34.4801,2
74JC20011119,SR1b,27,1,9,9,2,20011124,2322, -60.79310, -54.72340,  2501,  104.6, 0.0546,34.2923,34.2921,2
74JC20011119,SR1b,27,1,10,10,2,20011124,2322, -60.79310, -54.72340,  2501,   54.4,-0.0328,34.2512,34.2511,2
74JC20011119,SR1b,27,1,11,11,2,20011124,2322, -60.79310, -54.72340,  2501,   28.8,-0.1257,34.2195,34.2077,2
74JC20011119,SR1b,27,1,12,12,2,20011124,2322, -60.79310, -54.72340,  2501,   13.8,-0.2459,34.1375,34.1793,2
74JC20011119,SR1b,28,1,1,1,2,20011125,0127, -60.83450, -54.72510,  1610, 1608.6, 0.2891,34.6826,34.6834,2
74JC20011119,SR1b,28,1,2,2,2,20011125,0127, -60.83450, -54.72510,  1610, 1323.2, 0.4922,34.6846,34.6857,2
74JC20011119,SR1b,28,1,3,3,2,20011125,0127, -60.83450, -54.72510,  1610, 1017.0, 0.7485,34.6977,34.6975,2
74JC20011119,SR1b,28,1,4,4,2,20011125,0127, -60.83450, -54.72510,  1610,  763.3, 0.9555,34.6948,34.6954,2
74JC20011119,SR1b,28,1,5,5,2,20011125,0127, -60.83450, -54.72510,  1610,  763.2, 0.9363,34.6920,-999.0000,9
74JC20011119,SR1b,28,1,6,6,2,20011125,0127, -60.83450, -54.72510,  1610,  509.1, 1.3399,34.6853,34.6855,2
74JC20011119,SR1b,28,1,7,7,2,20011125,0127, -60.83450, -54.72510,  1610,  255.5,-0.0739,34.3996,34.4073,2
74JC20011119,SR1b,28,1,8,8,2,20011125,0127, -60.83450, -54.72510,  1610,  103.6,-0.0350,34.3156,34.3176,2
74JC20011119,SR1b,28,1,9,9,2,20011125,0127, -60.83450, -54.72510,  1610,   53.2, 0.0834,34.2879,34.2891,2
74JC20011119,SR1b,28,1,10,10,2,20011125,0127, -60.83450, -54.72510,  1610,   12.7, 0.1789,34.2803,34.2809,2
74JC20011119,SR1b,29,1,1,1,2,20011125,0302, -60.84910, -54.71220,  1040, 1043.9, 0.0688,34.6249,34.6244,2
74JC20011119,SR1b,29,1,2,2,2,20011125,0302, -60.84910, -54.71220,  1040,  764.4, 1.0727,34.7153,34.7125,2
74JC20011119,SR1b,29,1,3,3,2,20011125,0302, -60.84910, -54.71220,  1040,  510.3, 0.9712,34.6459,34.6515,2
74JC20011119,SR1b,29,1,4,4,2,20011125,0302, -60.84910, -54.71220,  1040,  256.7,-0.1198,34.4205,34.4198,2
74JC20011119,SR1b,29,1,5,5,2,20011125,0302, -60.84910, -54.71220,  1040,  256.4,-0.1204,34.4203,-999.0000,9
74JC20011119,SR1b,29,1,6,6,2,20011125,0302, -60.84910, -54.71220,  1040,  104.4,-0.0379,34.3452,34.3441,2
74JC20011119,SR1b,29,1,7,7,2,20011125,0302, -60.84910, -54.71220,  1040,   54.3, 0.0525,34.3004,34.3005,2
74JC20011119,SR1b,29,1,8,8,2,20011125,0302, -60.84910, -54.71220,  1040,   13.8, 0.1510,34.2841,34.2850,2
74JC20011119,SR1b,30,1,1,1,2,20011125,0451, -60.98070, -54.61900,   584,  580.4,-0.5016,34.5617,34.5622,2
74JC20011119,SR1b,30,1,2,2,2,20011125,0451, -60.98070, -54.61900,   584,  407.6,-0.2675,34.5383,34.5400,2
74JC20011119,SR1b,30,1,3,3,2,20011125,0451, -60.98070, -54.61900,   584,  255.8,-0.0201,34.4505,34.4510,2
74JC20011119,SR1b,30,1,4,4,2,20011125,0451, -60.98070, -54.61900,   584,  103.8, 0.0248,34.3101,34.3091,2
74JC20011119,SR1b,30,1,5,5,2,20011125,0451, -60.98070, -54.61900,   584,   53.1, 0.0218,34.2967,-999.0000,9
74JC20011119,SR1b,30,1,6,6,2,20011125,0451, -60.98070, -54.61900,   584,   12.8, 0.1432,34.2734,34.2730,2
74JC20011119,SR1b,31,1,1,1,2,20011125,0608, -61.05030, -54.60560,   393,  386.0,-0.1208,34.5313,34.5129,2
74JC20011119,SR1b,31,1,2,2,2,20011125,0608, -61.05030, -54.60560,   393,  305.4, 0.0004,34.4367,34.4363,2
74JC20011119,SR1b,31,1,3,3,2,20011125,0608, -61.05030, -54.60560,   393,  203.7, 0.0092,34.3359,34.3376,2
74JC20011119,SR1b,31,1,4,4,2,20011125,0608, -61.05030, -54.60560,   393,  102.9, 0.0498,34.2871,34.2872,2
74JC20011119,SR1b,31,1,5,5,2,20011125,0608, -61.05030, -54.60560,   393,   52.3, 0.1180,34.2610,-999.0000,9
74JC20011119,SR1b,31,1,6,6,2,20011125,0608, -61.05030, -54.60560,   393,   52.3, 0.1152,34.2609,34.2615,2
74JC20011119,SR1b,31,1,7,7,2,20011125,0608, -61.05030, -54.60560,   393,   11.8, 0.2372,34.2513,34.2517,2