BOTTLE,20221024CCHSIOENA
# BOTTLE,20170705OCPNOCYLF
#SHIP: James Clark Ross
#Cruise JR81; SR1b
#Region: Drake Passage
#EXPOCODE: 74JC20021218
#DATES: 20021218 - 20030102
#Chief Scientist: S. Bacon, SOC
#Supported by NERC National Capability
#32 stations with 24-place rosette
#CTD: Who - B. King; Status - final
#Notes: CTD PRS; TMP; SAL are calibrated and good
#s: Who - Salinity; Status - final
#s: Who -  ; Status - final
#These data should be acknowledged with: "Data were collected and made publicly available by WOCE/CLIVAR with National Capability funding from the UK Natural Environment Research Council to the National Oceanography Centre Southampton."
EXPOCODE,SECT_ID,STNNBR,CASTNO,SAMPNO,BTLNBR,BTLNBR_FLAG_W,DATE,TIME,LATITUDE,LONGITUDE,DEPTH,CTDPRS,CTDTMP,CTDSAL,SALNTY,SALNTY_FLAG_W
 , , , , , , , , , , , , DBAR,ITS-90,PSS-78,PSS-78, 
74JC20021218,SR1b,1,1,1,1,2,20021221,1452, -62.78050, -67.04660,  3422, 3472.2, 0.4840,34.7040,34.7062,2
74JC20021218,SR1b,1,1,2,2,2,20021221,1452, -62.78050, -67.04660,  3422, 3471.8, 0.4841,34.7041,-999.0000,9
74JC20021218,SR1b,1,1,3,3,2,20021221,1452, -62.78050, -67.04660,  3422, 3471.8, 0.4840,34.7040,-999.0000,9
74JC20021218,SR1b,1,1,4,4,2,20021221,1452, -62.78050, -67.04660,  3422, 3058.0, 0.4970,34.7046,34.7072,2
74JC20021218,SR1b,1,1,5,5,2,20021221,1452, -62.78050, -67.04660,  3422, 2034.2, 1.0313,34.7180,34.7207,2
74JC20021218,SR1b,1,1,6,6,2,20021221,1452, -62.78050, -67.04660,  3422, 1524.5, 1.4131,34.7275,34.7296,2
74JC20021218,SR1b,1,1,7,7,2,20021221,1452, -62.78050, -67.04660,  3422, 1016.7, 1.8211,34.7238,34.7264,2
74JC20021218,SR1b,1,1,8,8,2,20021221,1452, -62.78050, -67.04660,  3422,  508.5, 2.1520,34.6412,34.6431,2
74JC20021218,SR1b,1,1,9,9,2,20021221,1452, -62.78050, -67.04660,  3422,  257.0, 1.9348,34.4788,34.4813,2
74JC20021218,SR1b,1,1,10,10,2,20021221,1452, -62.78050, -67.04660,  3422,  105.3, 0.0735,34.1252,34.1297,2
74JC20021218,SR1b,1,1,11,11,2,20021221,1452, -62.78050, -67.04660,  3422,   54.9,-1.2245,33.8368,33.8220,2
74JC20021218,SR1b,1,1,12,12,2,20021221,1452, -62.78050, -67.04660,  3422,    7.5, 0.3805,33.7400,33.7445,2
74JC20021218,SR1b,2,1,1,1,2,20021222,2020, -67.58220, -68.13500,   374,  371.6, 1.2216,34.6423,34.6441,2
74JC20021218,SR1b,2,1,2,2,2,20021222,2020, -67.58220, -68.13500,   374,  303.7, 1.1810,34.6299,-999.0000,9
74JC20021218,SR1b,2,1,3,3,2,20021222,2020, -67.58220, -68.13500,   374,  303.7, 1.1829,34.6306,-999.0000,9
74JC20021218,SR1b,2,1,4,4,2,20021222,2020, -67.58220, -68.13500,   374,  303.7, 1.1812,34.6299,34.6323,2
74JC20021218,SR1b,2,1,5,5,2,20021222,2020, -67.58220, -68.13500,   374,  253.1, 1.0905,34.5995,34.6052,2
74JC20021218,SR1b,2,1,6,6,2,20021222,2020, -67.58220, -68.13500,   374,  202.4, 0.8687,34.5286,34.5296,2
74JC20021218,SR1b,2,1,7,7,2,20021222,2020, -67.58220, -68.13500,   374,  152.2, 0.2454,34.3352,34.3403,2
74JC20021218,SR1b,2,1,8,8,2,20021222,2020, -67.58220, -68.13500,   374,  101.5,-0.6927,34.0431,34.1289,2
74JC20021218,SR1b,2,1,9,9,2,20021222,2020, -67.58220, -68.13500,   374,   76.0,-1.1622,33.8037,33.8281,2
74JC20021218,SR1b,2,1,10,10,2,20021222,2020, -67.58220, -68.13500,   374,   50.9,-1.3920,33.7148,33.7257,2
74JC20021218,SR1b,2,1,11,11,2,20021222,2020, -67.58220, -68.13500,   374,   25.6,-1.4126,33.6755,33.6874,2
74JC20021218,SR1b,2,1,12,12,2,20021222,2020, -67.58220, -68.13500,   374,   10.5,-1.3135,33.6413,33.6590,2
74JC20021218,SR1b,3,1,1,1,2,20021227,1145, -61.05000, -54.58750,   352,  352.6,-0.3387,34.4655,34.4659,2
74JC20021218,SR1b,3,1,2,2,2,20021227,1145, -61.05000, -54.58750,   352,  304.5,-0.3476,34.4677,-999.0000,9
74JC20021218,SR1b,3,1,3,3,2,20021227,1145, -61.05000, -54.58750,   352,  304.4,-0.3486,34.4666,-999.0000,9
74JC20021218,SR1b,3,1,4,4,2,20021227,1145, -61.05000, -54.58750,   352,  304.6,-0.3487,34.4655,34.4632,2
74JC20021218,SR1b,3,1,5,5,2,20021227,1145, -61.05000, -54.58750,   352,  253.8,-0.3498,34.4524,34.4491,2
74JC20021218,SR1b,3,1,6,6,2,20021227,1145, -61.05000, -54.58750,   352,  203.1,-0.4188,34.4119,34.4071,2
74JC20021218,SR1b,3,1,7,7,2,20021227,1145, -61.05000, -54.58750,   352,  152.8,-0.3261,34.4038,34.3970,2
74JC20021218,SR1b,3,1,8,8,2,20021227,1145, -61.05000, -54.58750,   352,  102.1,-0.4450,34.3811,34.3813,2
74JC20021218,SR1b,3,1,9,9,2,20021227,1145, -61.05000, -54.58750,   352,   51.5,-0.4206,34.3625,34.3580,2
74JC20021218,SR1b,3,1,10,10,2,20021227,1145, -61.05000, -54.58750,   352,   26.4,-0.3414,34.3502,34.3501,2
74JC20021218,SR1b,3,1,11,11,2,20021227,1145, -61.05000, -54.58750,   352,   11.2,-0.3001,34.3327,34.3354,2
74JC20021218,SR1b,3,1,12,12,2,20021227,1145, -61.05000, -54.58750,   352,    4.2,-0.2799,34.3322,34.3278,2
74JC20021218,SR1b,4,1,1,1,2,20021227,1316, -60.98100, -54.63010,   577,  577.1,-0.0376,34.6241,34.5908,2
74JC20021218,SR1b,4,1,2,2,2,20021227,1316, -60.98100, -54.63010,   577,  507.4,-0.4447,34.5632,-999.0000,9
74JC20021218,SR1b,4,1,3,3,2,20021227,1316, -60.98100, -54.63010,   577,  507.5,-0.4435,34.5637,-999.0000,9
74JC20021218,SR1b,4,1,4,4,2,20021227,1316, -60.98100, -54.63010,   577,  507.2,-0.4458,34.5624,34.5588,2
74JC20021218,SR1b,4,1,5,5,2,20021227,1316, -60.98100, -54.63010,   577,  405.9,-0.5732,34.5258,34.5209,2
74JC20021218,SR1b,4,1,6,6,2,20021227,1316, -60.98100, -54.63010,   577,  304.6,-0.6039,34.4876,34.4850,2
74JC20021218,SR1b,4,1,7,7,2,20021227,1316, -60.98100, -54.63010,   577,  203.4,-0.5698,34.4416,34.4373,2
74JC20021218,SR1b,4,1,8,8,2,20021227,1316, -60.98100, -54.63010,   577,  102.4,-0.2698,34.4092,34.4076,2
74JC20021218,SR1b,4,1,9,9,2,20021227,1316, -60.98100, -54.63010,   577,   51.3,-0.2411,34.3835,34.3855,2
74JC20021218,SR1b,4,1,10,10,2,20021227,1316, -60.98100, -54.63010,   577,   26.3,-0.0959,34.3512,34.3494,2
74JC20021218,SR1b,4,1,11,11,2,20021227,1316, -60.98100, -54.63010,   577,   11.1,-0.0559,34.3472,34.3490,2
74JC20021218,SR1b,4,1,12,12,2,20021227,1316, -60.98100, -54.63010,   577,    4.0, 0.0817,34.3363,34.3378,2
74JC20021218,SR1b,5,1,1,1,2,20021227,1513, -60.85030, -54.71060,   956,  992.9, 0.3050,34.6669,34.6673,2
74JC20021218,SR1b,5,1,2,2,2,20021227,1513, -60.85030, -54.71060,   956,  811.6, 0.4151,34.6673,-999.0000,9
74JC20021218,SR1b,5,1,3,3,2,20021227,1513, -60.85030, -54.71060,   956,  811.7, 0.4151,34.6672,-999.0000,9
74JC20021218,SR1b,5,1,4,4,2,20021227,1513, -60.85030, -54.71060,   956,  811.7, 0.4143,34.6671,34.6653,2
74JC20021218,SR1b,5,1,5,5,2,20021227,1513, -60.85030, -54.71060,   956,  608.5, 0.4804,34.6442,34.6464,2
74JC20021218,SR1b,5,1,6,6,2,20021227,1513, -60.85030, -54.71060,   956,  405.2,-0.6203,34.5090,34.5029,2
74JC20021218,SR1b,5,1,7,7,2,20021227,1513, -60.85030, -54.71060,   956,  203.1,-0.4861,34.4024,34.4018,2
74JC20021218,SR1b,5,1,8,8,2,20021227,1513, -60.85030, -54.71060,   956,  102.1,-0.3285,34.3738,34.3735,2
74JC20021218,SR1b,5,1,9,9,2,20021227,1513, -60.85030, -54.71060,   956,   51.2,-0.2113,34.3428,34.3435,2
74JC20021218,SR1b,5,1,10,10,2,20021227,1513, -60.85030, -54.71060,   956,   26.5,-0.1153,34.3140,34.3174,2
74JC20021218,SR1b,5,1,11,11,2,20021227,1513, -60.85030, -54.71060,   956,   11.1, 0.1159,34.2782,34.2783,2
74JC20021218,SR1b,5,1,12,12,2,20021227,1513, -60.85030, -54.71060,   956,    3.8, 0.5634,34.1810,34.1913,2
74JC20021218,SR1b,6,1,1,1,2,20021227,1731, -60.83300, -54.72160,  1631, 1790.5, 0.1553,34.6672,34.6612,2
74JC20021218,SR1b,6,1,2,2,2,20021227,1731, -60.83300, -54.72160,  1631, 1118.9, 0.5120,34.6855,-999.0000,9
74JC20021218,SR1b,6,1,3,3,2,20021227,1731, -60.83300, -54.72160,  1631, 1119.0, 0.5109,34.6854,-999.0000,9
74JC20021218,SR1b,6,1,4,4,2,20021227,1731, -60.83300, -54.72160,  1631, 1119.1, 0.5101,34.6855,34.6824,2
74JC20021218,SR1b,6,1,5,5,2,20021227,1731, -60.83300, -54.72160,  1631,  813.8, 0.5098,34.6670,34.6655,2
74JC20021218,SR1b,6,1,6,6,2,20021227,1731, -60.83300, -54.72160,  1631,  509.1,-0.3828,34.5568,34.5576,2
74JC20021218,SR1b,6,1,7,7,2,20021227,1731, -60.83300, -54.72160,  1631,  255.8,-0.4640,34.4355,34.4312,2
74JC20021218,SR1b,6,1,8,8,2,20021227,1731, -60.83300, -54.72160,  1631,  104.2,-0.3325,34.3767,34.3753,2
74JC20021218,SR1b,6,1,9,9,2,20021227,1731, -60.83300, -54.72160,  1631,   53.5,-0.2141,34.3386,34.3417,2
74JC20021218,SR1b,6,1,10,10,2,20021227,1731, -60.83300, -54.72160,  1631,   28.6,-0.1337,34.3218,34.3242,2
74JC20021218,SR1b,6,1,11,11,2,20021227,1731, -60.83300, -54.72160,  1631,   13.2, 0.0672,34.2817,34.2832,2
74JC20021218,SR1b,6,1,12,12,2,20021227,1731, -60.83300, -54.72160,  1631,    6.1, 0.6170,34.1527,34.1870,2
74JC20021218,SR1b,7,1,1,1,2,20021227,1947, -60.79930, -54.74240,  1643, 2613.8,-0.0066,34.6636,34.6637,2
74JC20021218,SR1b,7,1,2,2,2,20021227,1947, -60.79930, -54.74240,  1643, 2038.6, 0.1105,34.6703,-999.0000,9
74JC20021218,SR1b,7,1,3,3,2,20021227,1947, -60.79930, -54.74240,  1643, 2038.6, 0.1112,34.6704,-999.0000,9
74JC20021218,SR1b,7,1,4,4,2,20021227,1947, -60.79930, -54.74240,  1643, 2038.8, 0.1111,34.6704,34.6688,2
74JC20021218,SR1b,7,1,5,5,2,20021227,1947, -60.79930, -54.74240,  1643, 1528.2, 0.2355,34.6722,34.6704,2
74JC20021218,SR1b,7,1,6,6,2,20021227,1947, -60.79930, -54.74240,  1643, 1018.4, 0.7394,34.7007,34.6706,2
74JC20021218,SR1b,7,1,7,7,2,20021227,1947, -60.79930, -54.74240,  1643,  510.6,-0.0402,34.5687,34.5692,2
74JC20021218,SR1b,7,1,8,8,2,20021227,1947, -60.79930, -54.74240,  1643,  257.2,-0.4203,34.4215,34.4214,2
74JC20021218,SR1b,7,1,9,9,2,20021227,1947, -60.79930, -54.74240,  1643,  105.3,-0.2585,34.3486,34.3470,2
74JC20021218,SR1b,7,1,10,10,2,20021227,1947, -60.79930, -54.74240,  1643,   54.8,-0.0443,34.3165,34.3168,2
74JC20021218,SR1b,7,1,11,11,2,20021227,1947, -60.79930, -54.74240,  1643,   29.9, 0.1375,34.2697,34.2829,2
74JC20021218,SR1b,7,1,12,12,2,20021227,1947, -60.79930, -54.74240,  1643,    7.5, 0.6469,34.0200,34.0294,2
74JC20021218,SR1b,8,1,1,1,2,20021227,2300, -60.66320, -54.80660,  3064, 3119.8,-0.0836,34.6591,34.6570,2
74JC20021218,SR1b,8,1,2,2,2,20021227,2300, -60.66320, -54.80660,  3064, 2543.2, 0.0899,34.6695,-999.0000,9
74JC20021218,SR1b,8,1,3,3,2,20021227,2300, -60.66320, -54.80660,  3064, 2543.2, 0.0889,34.6694,-999.0000,9
74JC20021218,SR1b,8,1,4,4,2,20021227,2300, -60.66320, -54.80660,  3064, 2543.5, 0.0885,34.6694,34.6684,2
74JC20021218,SR1b,8,1,5,5,2,20021227,2300, -60.66320, -54.80660,  3064, 1521.3, 0.7896,34.7111,34.7099,2
74JC20021218,SR1b,8,1,6,6,2,20021227,2300, -60.66320, -54.80660,  3064,  758.5, 1.5540,34.7281,34.7278,2
74JC20021218,SR1b,8,1,7,7,2,20021227,2300, -60.66320, -54.80660,  3064,  408.0, 1.9632,34.6910,34.6889,2
74JC20021218,SR1b,8,1,8,8,2,20021227,2300, -60.66320, -54.80660,  3064,  207.2, 1.8378,34.5744,34.5686,2
74JC20021218,SR1b,8,1,9,9,2,20021227,2300, -60.66320, -54.80660,  3064,  106.2,-0.0932,34.2315,34.2426,2
74JC20021218,SR1b,8,1,10,10,2,20021227,2300, -60.66320, -54.80660,  3064,   30.4, 0.2180,33.9303,33.9306,2
74JC20021218,SR1b,8,1,11,11,2,20021227,2300, -60.66320, -54.80660,  3064,   15.5, 0.3642,33.9126,33.9165,2
74JC20021218,SR1b,8,1,12,12,2,20021227,2300, -60.66320, -54.80660,  3064,    1.6, 0.6595,33.8695,33.8694,2
74JC20021218,SR1b,9,1,1,1,2,20021228,0323, -60.33570, -55.03840,  3441, 3495.4,-0.0344,34.6596,34.6602,2
74JC20021218,SR1b,9,1,2,2,2,20021228,0323, -60.33570, -55.03840,  3441, 3064.3, 0.0869,34.6654,-999.0000,9
74JC20021218,SR1b,9,1,3,3,2,20021228,0323, -60.33570, -55.03840,  3441, 3064.2, 0.0880,34.6656,-999.0000,9
74JC20021218,SR1b,9,1,4,4,2,20021228,0323, -60.33570, -55.03840,  3441, 3064.2, 0.0883,34.6657,34.6653,2
74JC20021218,SR1b,9,1,5,5,2,20021228,0323, -60.33570, -55.03840,  3441, 2039.0, 0.5664,34.6958,34.6956,2
74JC20021218,SR1b,9,1,6,6,2,20021228,0323, -60.33570, -55.03840,  3441, 1019.4, 1.3603,34.7258,34.7254,2
74JC20021218,SR1b,9,1,7,7,2,20021228,0323, -60.33570, -55.03840,  3441,  511.6, 1.8889,34.7097,34.7105,2
74JC20021218,SR1b,9,1,8,8,2,20021228,0323, -60.33570, -55.03840,  3441,  258.0, 1.9890,34.6201,34.6231,2
74JC20021218,SR1b,9,1,9,9,2,20021228,0323, -60.33570, -55.03840,  3441,  156.9, 1.5851,34.4797,34.4840,2
74JC20021218,SR1b,9,1,10,10,2,20021228,0323, -60.33570, -55.03840,  3441,   55.9, 0.5177,34.0165,34.0168,2
74JC20021218,SR1b,9,1,11,11,2,20021228,0323, -60.33570, -55.03840,  3441,   15.8, 1.1511,33.9395,33.9496,2
74JC20021218,SR1b,9,1,12,12,2,20021228,0323, -60.33570, -55.03840,  3441,    0.7, 1.2628,33.9378,33.9397,2
74JC20021218,SR1b,10,1,1,1,2,20021228,0803, -59.99240, -55.24340,  3502, 3551.9, 0.0328,34.6621,34.6624,2
74JC20021218,SR1b,10,1,2,2,2,20021228,0803, -59.99240, -55.24340,  3502, 2544.7, 0.3739,34.6836,-999.0000,9
74JC20021218,SR1b,10,1,3,3,2,20021228,0803, -59.99240, -55.24340,  3502, 2545.2, 0.3762,34.6846,-999.0000,9
74JC20021218,SR1b,10,1,4,4,2,20021228,0803, -59.99240, -55.24340,  3502, 2546.4, 0.3771,34.6849,34.6859,2
74JC20021218,SR1b,10,1,5,5,2,20021228,0803, -59.99240, -55.24340,  3502, 1519.0, 0.9287,34.6981,34.6983,2
74JC20021218,SR1b,10,1,6,6,2,20021228,0803, -59.99240, -55.24340,  3502,  763.6, 1.6857,34.7090,34.7101,2
74JC20021218,SR1b,10,1,7,7,2,20021228,0803, -59.99240, -55.24340,  3502,  414.2, 2.0452,34.6456,34.6470,2
74JC20021218,SR1b,10,1,8,8,2,20021228,0803, -59.99240, -55.24340,  3502,  212.7, 1.9278,34.5094,34.5117,2
74JC20021218,SR1b,10,1,9,9,2,20021228,0803, -59.99240, -55.24340,  3502,  111.8, 0.6170,34.2499,34.2536,2
74JC20021218,SR1b,10,1,10,10,2,20021228,0803, -59.99240, -55.24340,  3502,   35.7, 0.6268,33.9307,33.9400,2
74JC20021218,SR1b,10,1,11,11,2,20021228,0803, -59.99240, -55.24340,  3502,   21.3, 1.3497,33.8745,33.8737,2
74JC20021218,SR1b,10,1,12,12,2,20021228,0803, -59.99240, -55.24340,  3502,    1.8, 1.4502,33.8667,-999.0000,9
74JC20021218,SR1b,11,1,1,1,2,20021228,1333, -59.66630, -55.44540,  3673, 3731.3,-0.0270,34.6589,34.6580,2
74JC20021218,SR1b,11,1,2,2,2,20021228,1333, -59.66630, -55.44540,  3673, 3063.9, 0.1710,34.6703,-999.0000,9
74JC20021218,SR1b,11,1,3,3,2,20021228,1333, -59.66630, -55.44540,  3673, 3063.9, 0.1709,34.6703,-999.0000,9
74JC20021218,SR1b,11,1,4,4,2,20021228,1333, -59.66630, -55.44540,  3673, 3064.0, 0.1696,34.6703,34.6665,2
74JC20021218,SR1b,11,1,5,5,2,20021228,1333, -59.66630, -55.44540,  3673, 2038.8, 0.5977,34.6916,34.6920,2
74JC20021218,SR1b,11,1,6,6,2,20021228,1333, -59.66630, -55.44540,  3673, 1019.1, 1.4163,34.7185,34.7180,2
74JC20021218,SR1b,11,1,7,7,2,20021228,1333, -59.66630, -55.44540,  3673,  511.5, 1.9443,34.6751,34.6741,2
74JC20021218,SR1b,11,1,8,8,2,20021228,1333, -59.66630, -55.44540,  3673,  258.1, 1.6596,34.5185,34.5190,2
74JC20021218,SR1b,11,1,9,9,2,20021228,1333, -59.66630, -55.44540,  3673,  157.1, 0.6727,34.2950,34.2952,2
74JC20021218,SR1b,11,1,10,10,2,20021228,1333, -59.66630, -55.44540,  3673,   56.2, 0.1754,33.9380,33.9418,2
74JC20021218,SR1b,11,1,11,11,2,20021228,1333, -59.66630, -55.44540,  3673,   15.6, 1.0051,33.9237,33.9230,2
74JC20021218,SR1b,11,1,12,12,2,20021228,1333, -59.66630, -55.44540,  3673,    7.9, 1.0118,33.9237,33.9234,2
74JC20021218,SR1b,12,1,1,1,2,20021228,1848, -59.33330, -55.65090,  3754, 3812.1,-0.1559,34.6544,34.6525,2
74JC20021218,SR1b,12,1,2,2,2,20021228,1848, -59.33330, -55.65090,  3754, 2546.6, 0.2123,34.6682,-999.0000,9
74JC20021218,SR1b,12,1,3,3,2,20021228,1848, -59.33330, -55.65090,  3754, 2546.7, 0.2122,34.6683,-999.0000,9
74JC20021218,SR1b,12,1,4,4,2,20021228,1848, -59.33330, -55.65090,  3754, 2546.7, 0.2123,34.6682,34.6661,2
74JC20021218,SR1b,12,1,5,5,2,20021228,1848, -59.33330, -55.65090,  3754, 1527.1, 0.9948,34.7153,34.7148,2
74JC20021218,SR1b,12,1,6,6,2,20021228,1848, -59.33330, -55.65090,  3754,  764.9, 1.3186,34.6783,34.6794,2
74JC20021218,SR1b,12,1,7,7,2,20021228,1848, -59.33330, -55.65090,  3754,  410.1, 1.8889,34.6707,34.6700,2
74JC20021218,SR1b,12,1,8,8,2,20021228,1848, -59.33330, -55.65090,  3754,  207.7, 1.5458,34.5286,34.5276,2
74JC20021218,SR1b,12,1,9,9,2,20021228,1848, -59.33330, -55.65090,  3754,  106.9, 0.2125,34.2451,34.2413,2
74JC20021218,SR1b,12,1,10,10,2,20021228,1848, -59.33330, -55.65090,  3754,   31.3, 1.2613,33.9400,33.9512,2
74JC20021218,SR1b,12,1,11,11,2,20021228,1848, -59.33330, -55.65090,  3754,   16.1, 1.3247,33.9380,33.9377,2
74JC20021218,SR1b,12,1,12,12,2,20021228,1848, -59.33330, -55.65090,  3754,    8.1, 1.3306,33.9378,33.9373,2
74JC20021218,SR1b,13,1,1,1,2,20021228,2317, -58.99980, -55.86980,  3774, 3833.4,-0.1723,34.6540,34.6535,2
74JC20021218,SR1b,13,1,2,2,2,20021228,2317, -58.99980, -55.86980,  3774, 3060.6, 0.0456,34.6638,-999.0000,9
74JC20021218,SR1b,13,1,3,3,2,20021228,2317, -58.99980, -55.86980,  3774, 3060.6, 0.0452,34.6639,-999.0000,9
74JC20021218,SR1b,13,1,4,4,2,20021228,2317, -58.99980, -55.86980,  3774, 3061.0, 0.0452,34.6637,34.6641,2
74JC20021218,SR1b,13,1,5,5,2,20021228,2317, -58.99980, -55.86980,  3774, 2037.2, 0.5650,34.6900,34.6891,2
74JC20021218,SR1b,13,1,6,6,2,20021228,2317, -58.99980, -55.86980,  3774, 1016.1, 1.4253,34.7217,34.7211,2
74JC20021218,SR1b,13,1,7,7,2,20021228,2317, -58.99980, -55.86980,  3774,  510.0, 1.8292,34.6805,34.6818,2
74JC20021218,SR1b,13,1,8,8,2,20021228,2317, -58.99980, -55.86980,  3774,  257.3, 1.9639,34.5653,34.5641,2
74JC20021218,SR1b,13,1,9,9,2,20021228,2317, -58.99980, -55.86980,  3774,  157.3, 1.4228,34.4285,34.4279,2
74JC20021218,SR1b,13,1,10,10,2,20021228,2317, -58.99980, -55.86980,  3774,   55.8,-0.1579,34.0911,34.1038,2
74JC20021218,SR1b,13,1,11,11,2,20021228,2317, -58.99980, -55.86980,  3774,   15.7, 1.4245,33.9289,33.9303,2
74JC20021218,SR1b,13,1,12,12,2,20021228,2317, -58.99980, -55.86980,  3774,    1.7, 1.4583,33.9281,33.9261,2
74JC20021218,SR1b,14,1,1,1,2,20021229,0339, -58.68230, -56.05480,  3752, 3814.3,-0.1093,34.6560,34.6541,2
74JC20021218,SR1b,14,1,2,2,2,20021229,0339, -58.68230, -56.05480,  3752, 2548.2, 0.3351,34.6832,-999.0000,9
74JC20021218,SR1b,14,1,3,3,2,20021229,0339, -58.68230, -56.05480,  3752, 2548.3, 0.3351,34.6832,-999.0000,9
74JC20021218,SR1b,14,1,4,4,2,20021229,0339, -58.68230, -56.05480,  3752, 2548.2, 0.3355,34.6834,34.6820,2
74JC20021218,SR1b,14,1,5,5,2,20021229,0339, -58.68230, -56.05480,  3752, 1527.1, 0.8938,34.7081,34.7091,2
74JC20021218,SR1b,14,1,6,6,2,20021229,0339, -58.68230, -56.05480,  3752,  764.4, 1.4131,34.7055,34.7044,2
74JC20021218,SR1b,14,1,7,7,2,20021229,0339, -58.68230, -56.05480,  3752,  409.4, 1.4128,34.6267,34.6262,2
74JC20021218,SR1b,14,1,8,8,2,20021229,0339, -58.68230, -56.05480,  3752,  207.1, 1.1945,34.4942,34.4921,2
74JC20021218,SR1b,14,1,9,9,2,20021229,0339, -58.68230, -56.05480,  3752,  106.0, 0.1443,34.2293,34.2291,2
74JC20021218,SR1b,14,1,10,10,2,20021229,0339, -58.68230, -56.05480,  3752,   30.6, 0.9819,33.9151,33.9154,2
74JC20021218,SR1b,14,1,11,11,2,20021229,0339, -58.68230, -56.05480,  3752,   15.3, 1.0465,33.9120,33.9115,2
74JC20021218,SR1b,14,1,12,12,2,20021229,0339, -58.68230, -56.05480,  3752,    1.1, 1.0487,33.9119,33.9118,2
74JC20021218,SR1b,15,1,1,1,2,20021229,0809, -58.36670, -56.25000,  3888, 3954.9, 0.0846,34.6626,34.6608,2
74JC20021218,SR1b,15,1,2,2,2,20021229,0809, -58.36670, -56.25000,  3888, 3063.8, 0.2740,34.6767,-999.0000,9
74JC20021218,SR1b,15,1,3,3,2,20021229,0809, -58.36670, -56.25000,  3888, 3063.9, 0.2739,34.6768,-999.0000,9
74JC20021218,SR1b,15,1,4,4,2,20021229,0809, -58.36670, -56.25000,  3888, 3063.9, 0.2737,34.6767,34.6747,2
74JC20021218,SR1b,15,1,5,5,2,20021229,0809, -58.36670, -56.25000,  3888, 2039.0, 0.8193,34.7057,34.7054,2
74JC20021218,SR1b,15,1,6,6,2,20021229,0809, -58.36670, -56.25000,  3888, 1019.9, 1.5041,34.7084,34.7079,2
74JC20021218,SR1b,15,1,7,7,2,20021229,0809, -58.36670, -56.25000,  3888,  511.7, 1.8769,34.6588,34.6567,2
74JC20021218,SR1b,15,1,8,8,2,20021229,0809, -58.36670, -56.25000,  3888,  258.3, 1.7514,34.5085,34.5060,2
74JC20021218,SR1b,15,1,9,9,2,20021229,0809, -58.36670, -56.25000,  3888,  157.6, 0.9434,34.3035,34.3052,2
74JC20021218,SR1b,15,1,10,10,2,20021229,0809, -58.36670, -56.25000,  3888,   57.1, 0.2107,33.9079,33.9097,2
74JC20021218,SR1b,15,1,11,11,2,20021229,0809, -58.36670, -56.25000,  3888,   16.2, 2.0511,33.8650,33.8643,2
74JC20021218,SR1b,15,1,12,12,2,20021229,0809, -58.36670, -56.25000,  3888,    1.3, 2.0530,33.8655,33.8643,2