BOTTLE,20221024CCHSIOENA
EXPOCODE,SECT_ID,STNNBR,CASTNO,SAMPNO,BTLNBR,BTLNBR_FLAG_W,DATE,TIME,LATITUDE,LONGITUDE,DEPTH,CTDPRS,CTDTMP,CTDSAL,SALNTY,SALNTY_FLAG_W
 , , , , , , , , , , , , DBAR,ITS-90,PSS-78,PSS-78, 
74JC20021218,SR1b,16,1,1,1,2,20021229,1818, -58.05000, -56.44610,  3954, 4029.3, 0.1015,34.6627,34.6618,2
74JC20021218,SR1b,16,1,2,2,2,20021229,1818, -58.05000, -56.44610,  3954, 2549.0, 0.6271,34.6984,-999.0000,9
74JC20021218,SR1b,16,1,3,3,2,20021229,1818, -58.05000, -56.44610,  3954, 2549.0, 0.6262,34.6984,-999.0000,9
74JC20021218,SR1b,16,1,4,4,2,20021229,1818, -58.05000, -56.44610,  3954, 2548.9, 0.6252,34.6983,34.6967,2
74JC20021218,SR1b,16,1,5,5,2,20021229,1818, -58.05000, -56.44610,  3954, 1527.3, 1.3152,34.7226,34.7205,2
74JC20021218,SR1b,16,1,6,6,2,20021229,1818, -58.05000, -56.44610,  3954,  763.9, 1.9391,34.7083,34.7072,2
74JC20021218,SR1b,16,1,7,7,2,20021229,1818, -58.05000, -56.44610,  3954,  408.9, 1.9819,34.5932,34.5922,2
74JC20021218,SR1b,16,1,8,8,2,20021229,1818, -58.05000, -56.44610,  3954,  206.7, 1.1181,34.3379,34.3388,2
74JC20021218,SR1b,16,1,9,9,2,20021229,1818, -58.05000, -56.44610,  3954,  106.1,-0.0922,34.0374,34.0396,2
74JC20021218,SR1b,16,1,10,10,2,20021229,1818, -58.05000, -56.44610,  3954,   30.3, 1.9397,33.8735,33.8746,2
74JC20021218,SR1b,16,1,11,11,2,20021229,1818, -58.05000, -56.44610,  3954,   14.8, 2.0628,33.8680,33.8666,2
74JC20021218,SR1b,16,1,12,12,2,20021229,1818, -58.05000, -56.44610,  3954,    6.2, 2.1681,33.8647,33.8631,2
74JC20021218,SR1b,17,1,1,1,2,20021229,2253, -57.73330, -56.64290,  3460, 3521.1,-0.0112,34.6604,34.6602,2
74JC20021218,SR1b,17,1,2,2,2,20021229,2253, -57.73330, -56.64290,  3460, 3060.7, 0.1875,34.6721,-999.0000,9
74JC20021218,SR1b,17,1,3,3,2,20021229,2253, -57.73330, -56.64290,  3460, 3060.9, 0.1873,34.6722,-999.0000,9
74JC20021218,SR1b,17,1,4,4,2,20021229,2253, -57.73330, -56.64290,  3460, 3060.9, 0.1873,34.6720,34.6720,2
74JC20021218,SR1b,17,1,5,5,2,20021229,2253, -57.73330, -56.64290,  3460, 2036.2, 0.7865,34.7010,34.7013,2
74JC20021218,SR1b,17,1,6,6,2,20021229,2253, -57.73330, -56.64290,  3460, 1016.6, 1.6787,34.7209,34.7213,2
74JC20021218,SR1b,17,1,7,7,2,20021229,2253, -57.73330, -56.64290,  3460,  509.6, 1.8657,34.6206,34.6207,2
74JC20021218,SR1b,17,1,8,8,2,20021229,2253, -57.73330, -56.64290,  3460,  256.9, 1.9563,34.4838,34.4850,2
74JC20021218,SR1b,17,1,9,9,2,20021229,2253, -57.73330, -56.64290,  3460,  155.7, 0.8910,34.2742,34.2750,2
74JC20021218,SR1b,17,1,10,10,2,20021229,2253, -57.73330, -56.64290,  3460,   55.8, 0.6537,33.9011,33.9046,2
74JC20021218,SR1b,17,1,11,11,2,20021229,2253, -57.73330, -56.64290,  3460,   14.9, 2.2452,33.8607,33.8611,2
74JC20021218,SR1b,17,1,12,12,2,20021229,2253, -57.73330, -56.64290,  3460,    1.5, 2.8492,33.8603,33.8615,2
74JC20021218,SR1b,18,1,1,1,2,20021230,0310, -57.41430, -56.82830,  3474, 3539.3, 0.3025,34.6774,34.6771,2
74JC20021218,SR1b,18,1,2,2,2,20021230,0310, -57.41430, -56.82830,  3474, 2548.1, 0.8095,34.7048,-999.0000,9
74JC20021218,SR1b,18,1,3,3,2,20021230,0310, -57.41430, -56.82830,  3474, 2548.5, 0.8073,34.7047,-999.0000,9
74JC20021218,SR1b,18,1,4,4,2,20021230,0310, -57.41430, -56.82830,  3474, 2548.7, 0.8062,34.7045,34.7036,2
74JC20021218,SR1b,18,1,5,5,2,20021230,0310, -57.41430, -56.82830,  3474, 1527.1, 1.4913,34.7252,34.7250,2
74JC20021218,SR1b,18,1,6,6,2,20021230,0310, -57.41430, -56.82830,  3474,  763.3, 2.1077,34.6729,34.6728,2
74JC20021218,SR1b,18,1,7,7,2,20021230,0310, -57.41430, -56.82830,  3474,  408.3, 2.0378,34.5187,34.5213,2
74JC20021218,SR1b,18,1,8,8,2,20021230,0310, -57.41430, -56.82830,  3474,  206.3, 1.0059,34.2273,34.2279,2
74JC20021218,SR1b,18,1,9,9,2,20021230,0310, -57.41430, -56.82830,  3474,  104.8,-0.7648,33.8929,33.8958,2
74JC20021218,SR1b,18,1,10,10,2,20021230,0310, -57.41430, -56.82830,  3474,   29.4, 1.5976,33.7970,33.8038,2
74JC20021218,SR1b,18,1,11,11,2,20021230,0310, -57.41430, -56.82830,  3474,   14.2, 2.0977,33.8057,33.8044,2
74JC20021218,SR1b,18,1,12,12,2,20021230,0310, -57.41430, -56.82830,  3474,    3.2, 2.4729,33.8027,33.8036,2
74JC20021218,SR1b,19,1,1,1,2,20021230,0815, -57.11210, -57.01050,  3661, 3789.1, 0.3526,34.6790,34.6789,2
74JC20021218,SR1b,19,1,2,2,2,20021230,0815, -57.11210, -57.01050,  3661, 3021.5, 0.7725,34.7043,-999.0000,9
74JC20021218,SR1b,19,1,3,3,2,20021230,0815, -57.11210, -57.01050,  3661, 3021.6, 0.7714,34.7043,-999.0000,9
74JC20021218,SR1b,19,1,4,4,2,20021230,0815, -57.11210, -57.01050,  3661, 3022.1, 0.7709,34.7045,34.7040,2
74JC20021218,SR1b,19,1,5,5,2,20021230,0815, -57.11210, -57.01050,  3661, 2014.5, 1.2415,34.7212,34.7205,2
74JC20021218,SR1b,19,1,6,6,2,20021230,0815, -57.11210, -57.01050,  3661, 1015.7, 1.9672,34.6818,34.6804,2
74JC20021218,SR1b,19,1,7,7,2,20021230,0815, -57.11210, -57.01050,  3661,  510.4, 2.0252,34.4970,34.4981,2
74JC20021218,SR1b,19,1,8,8,2,20021230,0815, -57.11210, -57.01050,  3661,  256.9, 1.7916,34.2814,34.2821,2
74JC20021218,SR1b,19,1,9,9,2,20021230,0815, -57.11210, -57.01050,  3661,  156.5,-0.0614,33.9683,33.9739,2
74JC20021218,SR1b,19,1,10,10,2,20021230,0815, -57.11210, -57.01050,  3661,   55.6, 0.9124,33.7880,33.7848,2
74JC20021218,SR1b,19,1,11,11,2,20021230,0815, -57.11210, -57.01050,  3661,   15.2, 2.2816,33.7563,33.7554,2
74JC20021218,SR1b,19,1,12,12,2,20021230,0815, -57.11210, -57.01050,  3661,    1.9, 2.7623,33.7651,33.7639,2
74JC20021218,SR1b,20,1,1,1,2,20021230,1317, -56.79500, -57.20650,  3203, 3335.3, 0.6876,34.6981,34.6950,2
74JC20021218,SR1b,20,1,2,2,2,20021230,1317, -56.79500, -57.20650,  3203, 2532.3, 1.2314,34.7194,-999.0000,9
74JC20021218,SR1b,20,1,3,3,2,20021230,1317, -56.79500, -57.20650,  3203, 2532.2, 1.2293,34.7193,-999.0000,9
74JC20021218,SR1b,20,1,4,4,2,20021230,1317, -56.79500, -57.20650,  3203, 2532.2, 1.2268,34.7194,34.7199,2
74JC20021218,SR1b,20,1,5,5,2,20021230,1317, -56.79500, -57.20650,  3203, 1517.4, 1.9421,34.7049,34.7052,2
74JC20021218,SR1b,20,1,6,6,2,20021230,1317, -56.79500, -57.20650,  3203,  760.0, 2.4800,34.5369,34.5376,2
74JC20021218,SR1b,20,1,7,7,2,20021230,1317, -56.79500, -57.20650,  3203,  406.1, 2.8229,34.3140,34.3140,2
74JC20021218,SR1b,20,1,8,8,2,20021230,1317, -56.79500, -57.20650,  3203,  206.3, 2.5770,34.1152,34.1148,2
74JC20021218,SR1b,20,1,9,9,2,20021230,1317, -56.79500, -57.20650,  3203,  105.8, 3.3892,34.1168,34.1156,2
74JC20021218,SR1b,20,1,10,10,2,20021230,1317, -56.79500, -57.20650,  3203,   30.2, 4.3311,33.9860,33.9963,2
74JC20021218,SR1b,20,1,11,11,2,20021230,1317, -56.79500, -57.20650,  3203,   15.2, 6.0241,34.0576,34.0543,2
74JC20021218,SR1b,20,1,12,12,2,20021230,1317, -56.79500, -57.20650,  3203,    5.9, 6.0526,34.0570,34.0572,2
74JC20021218,SR1b,21,1,1,1,2,20021230,1754, -56.47440, -57.42260,  3885, 3966.5, 0.5143,34.6857,34.6859,2
74JC20021218,SR1b,21,1,2,2,2,20021230,1754, -56.47440, -57.42260,  3885, 3055.9, 1.0528,34.7146,-999.0000,9
74JC20021218,SR1b,21,1,3,3,2,20021230,1754, -56.47440, -57.42260,  3885, 3056.3, 1.0535,34.7148,-999.0000,9
74JC20021218,SR1b,21,1,4,4,2,20021230,1754, -56.47440, -57.42260,  3885, 3056.5, 1.0548,34.7148,34.7146,2
74JC20021218,SR1b,21,1,5,5,2,20021230,1754, -56.47440, -57.42260,  3885, 2036.5, 1.6781,34.7197,34.7203,2
74JC20021218,SR1b,21,1,6,6,2,20021230,1754, -56.47440, -57.42260,  3885, 1019.2, 2.3516,34.5907,34.5906,2
74JC20021218,SR1b,21,1,7,7,2,20021230,1754, -56.47440, -57.42260,  3885,  511.0, 2.6992,34.3077,34.3097,2
74JC20021218,SR1b,21,1,8,8,2,20021230,1754, -56.47440, -57.42260,  3885,  258.6, 2.7984,34.1161,34.1178,2
74JC20021218,SR1b,21,1,9,9,2,20021230,1754, -56.47440, -57.42260,  3885,  157.4, 3.3981,34.1209,34.1219,2
74JC20021218,SR1b,21,1,10,10,2,20021230,1754, -56.47440, -57.42260,  3885,   56.5, 4.4170,34.1144,34.3121,2
74JC20021218,SR1b,21,1,11,11,2,20021230,1754, -56.47440, -57.42260,  3885,   16.6, 6.2397,34.0982,34.1003,2
74JC20021218,SR1b,21,1,12,12,2,20021230,1754, -56.47440, -57.42260,  3885,    8.1, 6.2453,34.0997,34.1015,2
74JC20021218,SR1b,22,1,1,1,2,20021230,2246, -56.15910, -57.63260,  3383, 3448.7, 0.5159,34.6882,34.6893,2
74JC20021218,SR1b,22,1,2,2,2,20021230,2246, -56.15910, -57.63260,  3383, 3431.9, 0.5357,34.6894,-999.0000,9
74JC20021218,SR1b,22,1,3,3,2,20021230,2246, -56.15910, -57.63260,  3383, 3429.1, 0.5413,34.6897,-999.0000,9
74JC20021218,SR1b,22,1,4,4,2,20021230,2246, -56.15910, -57.63260,  3383, 2527.6, 1.2580,34.7204,34.7225,2
74JC20021218,SR1b,22,1,5,5,2,20021230,2246, -56.15910, -57.63260,  3383, 1519.5, 2.0267,34.7025,34.7034,2
74JC20021218,SR1b,22,1,6,6,2,20021230,2246, -56.15910, -57.63260,  3383,  762.9, 2.4686,34.5237,34.5243,2
74JC20021218,SR1b,22,1,7,7,2,20021230,2246, -56.15910, -57.63260,  3383,  406.3, 2.0209,34.2473,34.2509,2
74JC20021218,SR1b,22,1,8,8,2,20021230,2246, -56.15910, -57.63260,  3383,  205.9, 1.7556,34.0656,34.0721,2
74JC20021218,SR1b,22,1,9,9,2,20021230,2246, -56.15910, -57.63260,  3383,  105.1, 2.1118,34.0196,34.0278,2
74JC20021218,SR1b,22,1,10,10,2,20021230,2246, -56.15910, -57.63260,  3383,   29.4, 3.5202,34.0092,34.0027,2
74JC20021218,SR1b,22,1,11,11,2,20021230,2246, -56.15910, -57.63260,  3383,   14.1, 4.4415,33.9449,33.9639,2
74JC20021218,SR1b,22,1,12,12,2,20021230,2246, -56.15910, -57.63260,  3383,    1.6, 5.0613,33.9770,33.9790,2
74JC20021218,SR1b,23,1,1,1,2,20021231,0329, -55.84000, -57.80350,  4775, 4844.2, 0.2751,34.6671,34.6682,2
74JC20021218,SR1b,23,1,2,2,2,20021231,0329, -55.84000, -57.80350,  4775, 3572.8, 0.7108,34.6990,-999.0000,9
74JC20021218,SR1b,23,1,3,3,2,20021231,0329, -55.84000, -57.80350,  4775, 3572.7, 0.7100,34.6990,-999.0000,9
74JC20021218,SR1b,23,1,4,4,2,20021231,0329, -55.84000, -57.80350,  4775, 3572.6, 0.7112,34.6990,34.6975,2
74JC20021218,SR1b,23,1,5,5,2,20021231,0329, -55.84000, -57.80350,  4775, 2037.2, 1.6528,34.7255,34.7247,2
74JC20021218,SR1b,23,1,6,6,2,20021231,0329, -55.84000, -57.80350,  4775, 1020.1, 2.2334,34.6145,34.6134,2
74JC20021218,SR1b,23,1,7,7,2,20021231,0329, -55.84000, -57.80350,  4775,  511.9, 2.5552,34.4133,34.4122,2
74JC20021218,SR1b,23,1,8,8,2,20021231,0329, -55.84000, -57.80350,  4775,  259.5, 1.8188,34.1627,34.1607,2
74JC20021218,SR1b,23,1,9,9,2,20021231,0329, -55.84000, -57.80350,  4775,  157.6, 0.6759,33.9765,33.9761,2
74JC20021218,SR1b,23,1,10,10,2,20021231,0329, -55.84000, -57.80350,  4775,   56.7, 1.4540,33.8067,33.8116,2
74JC20021218,SR1b,23,1,11,11,2,20021231,0329, -55.84000, -57.80350,  4775,   17.0, 2.7204,33.7849,33.7862,2
74JC20021218,SR1b,23,1,12,12,2,20021231,0329, -55.84000, -57.80350,  4775,    1.6, 2.7117,33.7824,33.7836,2
74JC20021218,SR1b,24,1,1,1,2,20021231,0904, -55.51300, -57.98090,  4201, 4275.4, 0.5653,34.6870,34.6850,2
74JC20021218,SR1b,24,1,2,2,2,20021231,0904, -55.51300, -57.98090,  4201, 3547.9, 0.9028,34.7082,-999.0000,9
74JC20021218,SR1b,24,1,3,3,2,20021231,0904, -55.51300, -57.98090,  4201, 3548.7, 0.9025,34.7084,-999.0000,9
74JC20021218,SR1b,24,1,4,4,2,20021231,0904, -55.51300, -57.98090,  4201, 3549.0, 0.9028,34.7082,34.7070,2
74JC20021218,SR1b,24,1,5,5,2,20021231,0904, -55.51300, -57.98090,  4201, 2535.6, 1.4862,34.7235,34.7243,2
74JC20021218,SR1b,24,1,6,6,2,20021231,0904, -55.51300, -57.98090,  4201, 1521.8, 2.1828,34.6627,34.6625,2
74JC20021218,SR1b,24,1,7,7,2,20021231,0904, -55.51300, -57.98090,  4201,  761.0, 2.6168,34.3534,34.3529,2
74JC20021218,SR1b,24,1,8,8,2,20021231,0904, -55.51300, -57.98090,  4201,  402.8, 2.7347,34.1137,34.1085,2
74JC20021218,SR1b,24,1,9,9,2,20021231,0904, -55.51300, -57.98090,  4201,  206.7, 3.7594,34.1262,34.1272,2
74JC20021218,SR1b,24,1,10,10,2,20021231,0904, -55.51300, -57.98090,  4201,  107.8, 4.2959,34.1094,34.1221,2
74JC20021218,SR1b,24,1,11,11,2,20021231,0904, -55.51300, -57.98090,  4201,   31.9, 6.0223,34.0777,34.0807,2
74JC20021218,SR1b,24,1,12,12,2,20021231,0904, -55.51300, -57.98090,  4201,    2.4, 6.1441,34.0782,34.0803,2
74JC20021218,SR1b,25,1,1,1,2,20021231,1347, -55.21430, -58.17360,  3861, 3964.9, 1.0102,34.7100,34.7117,2
74JC20021218,SR1b,25,1,2,2,2,20021231,1347, -55.21430, -58.17360,  3861, 3056.6, 1.4816,34.7226,-999.0000,9
74JC20021218,SR1b,25,1,3,3,2,20021231,1347, -55.21430, -58.17360,  3861, 3057.3, 1.4805,34.7226,-999.0000,9
74JC20021218,SR1b,25,1,4,4,2,20021231,1347, -55.21430, -58.17360,  3861, 3057.7, 1.4798,34.7227,34.7231,2
74JC20021218,SR1b,25,1,5,5,2,20021231,1347, -55.21430, -58.17360,  3861, 2030.5, 2.1238,34.6891,34.6891,2
74JC20021218,SR1b,25,1,6,6,2,20021231,1347, -55.21430, -58.17360,  3861, 1017.3, 2.7177,34.4251,34.4255,2
74JC20021218,SR1b,25,1,7,7,2,20021231,1347, -55.21430, -58.17360,  3861,  509.9, 3.4154,34.1463,34.1460,2
74JC20021218,SR1b,25,1,8,8,2,20021231,1347, -55.21430, -58.17360,  3861,  256.7, 4.4755,34.1558,34.1383,2
74JC20021218,SR1b,25,1,9,9,2,20021231,1347, -55.21430, -58.17360,  3861,  155.5, 4.7912,34.1602,34.1611,2
74JC20021218,SR1b,25,1,10,10,2,20021231,1347, -55.21430, -58.17360,  3861,   55.6, 5.3092,34.1133,34.1152,2
74JC20021218,SR1b,25,1,11,11,2,20021231,1347, -55.21430, -58.17360,  3861,   15.2, 6.0023,34.0840,34.0864,2
74JC20021218,SR1b,25,1,12,12,2,20021231,1347, -55.21430, -58.17360,  3861,    5.4, 6.0495,34.0838,34.0866,2
74JC20021218,SR1b,26,1,1,1,2,20021231,2148, -55.16800, -58.20230,  2920, 2984.4, 1.6437,34.7217,34.7235,2
74JC20021218,SR1b,26,1,2,2,2,20021231,2148, -55.16800, -58.20230,  2920, 2543.8, 1.8302,34.7190,-999.0000,9
74JC20021218,SR1b,26,1,3,3,2,20021231,2148, -55.16800, -58.20230,  2920, 2543.8, 1.8306,34.7191,-999.0000,9
74JC20021218,SR1b,26,1,4,4,2,20021231,2148, -55.16800, -58.20230,  2920, 2544.2, 1.8304,34.7190,34.7203,2
74JC20021218,SR1b,26,1,5,5,2,20021231,2148, -55.16800, -58.20230,  2920, 1525.2, 2.3712,34.6041,34.6052,2
74JC20021218,SR1b,26,1,6,6,2,20021231,2148, -55.16800, -58.20230,  2920,  762.6, 3.0674,34.2777,34.2793,2
74JC20021218,SR1b,26,1,7,7,2,20021231,2148, -55.16800, -58.20230,  2920,  407.9, 3.6692,34.1612,34.1666,2
74JC20021218,SR1b,26,1,8,8,2,20021231,2148, -55.16800, -58.20230,  2920,  205.4, 4.4746,34.1502,34.1513,2
74JC20021218,SR1b,26,1,9,9,2,20021231,2148, -55.16800, -58.20230,  2920,  104.8, 4.8742,34.1435,34.1460,2
74JC20021218,SR1b,26,1,10,10,2,20021231,2148, -55.16800, -58.20230,  2920,   29.7, 6.0457,34.0864,34.0884,2
74JC20021218,SR1b,26,1,11,11,2,20021231,2148, -55.16800, -58.20230,  2920,   14.1, 6.2102,34.0848,34.0874,2
74JC20021218,SR1b,26,1,12,12,2,20021231,2148, -55.16800, -58.20230,  2920,    5.2, 6.2141,34.0850,34.0866,2
74JC20021218,SR1b,27,1,1,1,2,20030101,0054, -55.11910, -58.24000,  2511, 1862.5, 2.1939,34.6665,-999.0000,9
74JC20021218,SR1b,27,1,2,2,2,20030101,0054, -55.11910, -58.24000,  2511, 2548.4, 1.9263,34.7096,-999.0000,9
74JC20021218,SR1b,27,1,3,3,2,20030101,0054, -55.11910, -58.24000,  2511, 2548.6, 1.9267,34.7098,-999.0000,9
74JC20021218,SR1b,27,1,4,4,2,20030101,0054, -55.11910, -58.24000,  2511, 2548.7, 1.9275,34.7096,34.7115,2
74JC20021218,SR1b,27,1,5,5,2,20030101,0054, -55.11910, -58.24000,  2511, 2033.8, 2.1423,34.6788,34.6791,2
74JC20021218,SR1b,27,1,6,6,2,20030101,0054, -55.11910, -58.24000,  2511, 1009.4, 2.6460,34.3914,34.3908,2
74JC20021218,SR1b,27,1,7,7,2,20030101,0054, -55.11910, -58.24000,  2511,  507.9, 3.3955,34.1535,34.1552,2
74JC20021218,SR1b,27,1,8,8,2,20030101,0054, -55.11910, -58.24000,  2511,  255.2, 4.3766,34.1594,34.1611,2
74JC20021218,SR1b,27,1,9,9,2,20030101,0054, -55.11910, -58.24000,  2511,  154.9, 4.6266,34.1606,34.1605,2
74JC20021218,SR1b,27,1,10,10,2,20030101,0054, -55.11910, -58.24000,  2511,   53.8, 5.3738,34.1081,34.1138,2
74JC20021218,SR1b,27,1,11,11,2,20030101,0054, -55.11910, -58.24000,  2511,   13.6, 6.1511,34.0883,34.0899,2
74JC20021218,SR1b,27,1,12,12,2,20030101,0054, -55.11910, -58.24000,  2511,    1.5, 6.1539,34.0885,34.0895,2
74JC20021218,SR1b,28,1,1,1,2,20030101,0304, -55.06990, -58.27760,  2028, 2071.3, 2.1963,34.6685,34.6682,2
74JC20021218,SR1b,28,1,2,2,2,20030101,0304, -55.06990, -58.27760,  2028, 1525.6, 2.4037,34.5949,-999.0000,9
74JC20021218,SR1b,28,1,3,3,2,20030101,0304, -55.06990, -58.27760,  2028, 1525.5, 2.4049,34.5944,-999.0000,9
74JC20021218,SR1b,28,1,4,4,2,20030101,0304, -55.06990, -58.27760,  2028, 1525.5, 2.4061,34.5939,34.5942,2
74JC20021218,SR1b,28,1,5,5,2,20030101,0304, -55.06990, -58.27760,  2028, 1014.5, 2.7027,34.3869,34.3851,2
74JC20021218,SR1b,28,1,6,6,2,20030101,0304, -55.06990, -58.27760,  2028,  762.8, 2.6197,34.1810,34.1811,2
74JC20021218,SR1b,28,1,7,7,2,20030101,0304, -55.06990, -58.27760,  2028,  408.6, 3.5437,34.1393,34.1415,2
74JC20021218,SR1b,28,1,8,8,2,20030101,0304, -55.06990, -58.27760,  2028,  205.9, 4.5521,34.1601,34.1603,2
74JC20021218,SR1b,28,1,9,9,2,20030101,0304, -55.06990, -58.27760,  2028,  104.7, 4.7766,34.1577,34.1583,2
74JC20021218,SR1b,28,1,10,10,2,20030101,0304, -55.06990, -58.27760,  2028,   29.5, 6.1289,34.0753,34.0776,2
74JC20021218,SR1b,28,1,11,11,2,20030101,0304, -55.06990, -58.27760,  2028,   13.8, 6.1567,34.0763,34.0768,2
74JC20021218,SR1b,28,1,12,12,2,20030101,0304, -55.06990, -58.27760,  2028,    1.7, 6.1579,34.0761,34.0772,2
74JC20021218,SR1b,29,1,1,1,2,20030101,0526, -54.96450, -58.34450,  1584, 1597.8, 2.5693,34.5117,34.5111,2
74JC20021218,SR1b,29,1,2,2,2,20030101,0526, -54.96450, -58.34450,  1584, 1253.4, 2.7134,34.4219,-999.0000,9
74JC20021218,SR1b,29,1,3,3,2,20030101,0526, -54.96450, -58.34450,  1584, 1253.2, 2.7117,34.4227,-999.0000,9
74JC20021218,SR1b,29,1,4,4,2,20030101,0526, -54.96450, -58.34450,  1584, 1252.5, 2.7088,34.4238,34.4243,2
74JC20021218,SR1b,29,1,5,5,2,20030101,0526, -54.96450, -58.34450,  1584, 1002.0, 2.8330,34.3558,34.3560,2
74JC20021218,SR1b,29,1,6,6,2,20030101,0526, -54.96450, -58.34450,  1584,  758.1, 3.2264,34.2307,34.2313,2
74JC20021218,SR1b,29,1,7,7,2,20030101,0526, -54.96450, -58.34450,  1584,  507.1, 3.3596,34.2112,34.2121,2
74JC20021218,SR1b,29,1,8,8,2,20030101,0526, -54.96450, -58.34450,  1584,  253.9, 4.2333,34.1400,34.1415,2
74JC20021218,SR1b,29,1,9,9,2,20030101,0526, -54.96450, -58.34450,  1584,  153.0, 4.7720,34.1610,34.1632,2
74JC20021218,SR1b,29,1,10,10,2,20030101,0526, -54.96450, -58.34450,  1584,   51.4, 5.8220,34.1016,34.1064,2
74JC20021218,SR1b,29,1,11,11,2,20030101,0526, -54.96450, -58.34450,  1584,   11.5, 6.0658,34.0941,34.0946,2
74JC20021218,SR1b,29,1,12,12,2,20030101,0526, -54.96450, -58.34450,  1584,    1.7, 6.0783,34.0933,34.0946,2
74JC20021218,SR1b,30,1,1,1,2,20030101,0707, -54.94470, -58.35350,  1250, 1263.1, 2.6842,34.4359,34.4365,2
74JC20021218,SR1b,30,1,2,2,2,20030101,0707, -54.94470, -58.35350,  1250,  993.9, 2.8289,34.3327,-999.0000,9
74JC20021218,SR1b,30,1,3,3,2,20030101,0707, -54.94470, -58.35350,  1250,  995.1, 2.8320,34.3320,-999.0000,9
74JC20021218,SR1b,30,1,4,4,2,20030101,0707, -54.94470, -58.35350,  1250,  996.5, 2.8232,34.3305,34.3303,2
74JC20021218,SR1b,30,1,5,5,2,20030101,0707, -54.94470, -58.35350,  1250,  805.2, 3.2904,34.2248,34.2252,2
74JC20021218,SR1b,30,1,6,6,2,20030101,0707, -54.94470, -58.35350,  1250,  405.4, 3.5991,34.1865,34.1873,2
74JC20021218,SR1b,30,1,7,7,2,20030101,0707, -54.94470, -58.35350,  1250,  203.2, 4.2012,34.1563,34.1570,2
74JC20021218,SR1b,30,1,8,8,2,20030101,0707, -54.94470, -58.35350,  1250,  102.2, 4.7117,34.1581,34.1593,2
74JC20021218,SR1b,30,1,9,9,2,20030101,0707, -54.94470, -58.35350,  1250,   51.8, 4.9578,34.1406,34.1440,2
74JC20021218,SR1b,30,1,10,10,2,20030101,0707, -54.94470, -58.35350,  1250,   26.6, 5.8976,34.1007,34.1025,2
74JC20021218,SR1b,30,1,11,11,2,20030101,0707, -54.94470, -58.35350,  1250,   11.4, 6.0796,34.0912,34.0938,2
74JC20021218,SR1b,30,1,12,12,2,20030101,0707, -54.94470, -58.35350,  1250,    1.8, 6.1167,34.0893,34.0907,2