BOTTLE,20221024CCHSIOENA
EXPOCODE,SECT_ID,STNNBR,CASTNO,SAMPNO,BTLNBR,BTLNBR_FLAG_W,DATE,TIME,LATITUDE,LONGITUDE,DEPTH,CTDPRS,CTDTMP,CTDSAL,SALNTY,SALNTY_FLAG_W
 , , , , , , , , , , , , DBAR,ITS-90,PSS-78,PSS-78, 
74JC20021218,SR1b,31,1,1,1,2,20030101,0838, -54.92300, -58.37800,   557,  570.8, 3.5140,34.1814,34.1817,2
74JC20021218,SR1b,31,1,2,2,2,20030101,0838, -54.92300, -58.37800,   557,  505.7, 4.0013,34.1580,-999.0000,9
74JC20021218,SR1b,31,1,3,3,2,20030101,0838, -54.92300, -58.37800,   557,  506.1, 4.0096,34.1581,-999.0000,9
74JC20021218,SR1b,31,1,4,4,2,20030101,0838, -54.92300, -58.37800,   557,  506.6, 4.0482,34.1580,34.1597,2
74JC20021218,SR1b,31,1,5,5,2,20030101,0838, -54.92300, -58.37800,   557,  404.8, 4.7788,34.1559,34.1575,2
74JC20021218,SR1b,31,1,6,6,2,20030101,0838, -54.92300, -58.37800,   557,  299.6, 5.0039,34.1390,34.1399,2
74JC20021218,SR1b,31,1,7,7,2,20030101,0838, -54.92300, -58.37800,   557,  199.7, 4.7359,34.1580,34.1579,2
74JC20021218,SR1b,31,1,8,8,2,20030101,0838, -54.92300, -58.37800,   557,  102.7, 4.6335,34.1616,34.1628,2
74JC20021218,SR1b,31,1,9,9,2,20030101,0838, -54.92300, -58.37800,   557,   52.0, 5.3534,34.1159,34.1232,2
74JC20021218,SR1b,31,1,10,10,2,20030101,0838, -54.92300, -58.37800,   557,   27.1, 5.9788,34.0961,34.1062,2
74JC20021218,SR1b,31,1,11,11,2,20030101,0838, -54.92300, -58.37800,   557,   11.9, 6.3658,34.0793,34.0811,2
74JC20021218,SR1b,31,1,12,12,2,20030101,0838, -54.92300, -58.37800,   557,    0.9, 6.3781,34.0788,34.0805,2
74JC20021218,SR1b,32,1,1,1,2,20030101,1236, -54.66660, -58.54380,   379,  384.4, 4.5657,34.1529,34.1528,2
74JC20021218,SR1b,32,1,2,2,2,20030101,1236, -54.66660, -58.54380,   379,  304.4, 4.8902,34.1430,-999.0000,9
74JC20021218,SR1b,32,1,3,3,2,20030101,1236, -54.66660, -58.54380,   379,  304.4, 4.8851,34.1432,-999.0000,9
74JC20021218,SR1b,32,1,4,4,2,20030101,1236, -54.66660, -58.54380,   379,  304.5, 4.8832,34.1434,34.1442,2
74JC20021218,SR1b,32,1,5,5,2,20030101,1236, -54.66660, -58.54380,   379,  254.0, 4.9433,34.1387,34.1393,2
74JC20021218,SR1b,32,1,6,6,2,20030101,1236, -54.66660, -58.54380,   379,  202.9, 5.0398,34.1309,34.1325,2
74JC20021218,SR1b,32,1,7,7,2,20030101,1236, -54.66660, -58.54380,   379,  152.8, 5.1075,34.1246,34.1260,2
74JC20021218,SR1b,32,1,8,8,2,20030101,1236, -54.66660, -58.54380,   379,  102.3, 5.1497,34.1185,34.1195,2
74JC20021218,SR1b,32,1,9,9,2,20030101,1236, -54.66660, -58.54380,   379,   52.0, 5.8984,34.0731,34.0782,2
74JC20021218,SR1b,32,1,10,10,2,20030101,1236, -54.66660, -58.54380,   379,   26.4, 6.5598,34.0336,34.0401,2
74JC20021218,SR1b,32,1,11,11,2,20030101,1236, -54.66660, -58.54380,   379,   11.1, 6.7300,34.0293,34.0317,2
74JC20021218,SR1b,32,1,12,12,2,20030101,1236, -54.66660, -58.54380,   379,    2.4, 6.7901,34.0260,34.0286,2