BOTTLE,20221024CCHSIOENA
EXPOCODE,SECT_ID,STNNBR,CASTNO,SAMPNO,BTLNBR,BTLNBR_FLAG_W,DATE,TIME,LATITUDE,LONGITUDE,DEPTH,CTDPRS,CTDTMP,CTDSAL,CTDSAL_FLAG_W,SALNTY,SALNTY_FLAG_W,CTDOXY,CTDOXY_FLAG_W,OXYGEN,OXYGEN_FLAG_W,BTL_DATE,BTL_TIME
,,,,,,,,,,,METERS,DBAR,ITS-90,PSS-78,,PSS-78,,UMOL/KG,,UMOL/KG,,,
74EQ20151017  ,RAPID      ,9       ,  1,19         ,19         ,2,20151105,1911, 23.32292,-32.36830,     5836,    757.6,   9.5055,  35.3357,2,  35.3360,2,    129.8,2,    130.3,2,20151105,1911
74EQ20151017  ,RAPID      ,9       ,  1,17         ,17         ,2,20151105,1911, 23.32292,-32.36830,     5836,   1264.1,   6.0084,  35.1260,2,  35.1266,2,    180.4,2,    180.2,6,20151105,1857
74EQ20151017  ,RAPID      ,9       ,  1,15         ,15         ,2,20151105,1911, 23.32292,-32.36830,     5836,   1670.7,   4.8404,  35.1088,2,  35.1086,2,    213.2,2,    213.6,2,20151105,1844
74EQ20151017  ,RAPID      ,9       ,  1,13         ,13         ,2,20151105,1911, 23.32292,-32.36830,     5836,   2284.3,   3.5683,  35.0133,2,  35.0134,2,    235.2,2,    236.0,6,20151105,1828
74EQ20151017  ,RAPID      ,9       ,  1,11         ,11         ,2,20151105,1911, 23.32292,-32.36830,     5836,   2640.0,   3.1034,  34.9723,2,  34.9726,2,    239.4,2,    240.3,2,20151105,1816
74EQ20151017  ,RAPID      ,9       ,  1,9          ,9          ,2,20151105,1911, 23.32292,-32.36830,     5836,   3049.4,   2.7388,  34.9370,2,  34.9382,2,    239.7,2,    240.5,6,20151106,1804
74EQ20151017  ,RAPID      ,9       ,  1,7          ,7          ,2,20151105,1911, 23.32292,-32.36830,     5836,   3462.8,   2.5357,  34.9156,2,  34.9160,2,    241.2,2,    241.7,3,20151106,1750
74EQ20151017  ,RAPID      ,9       ,  1,5          ,5          ,2,20151105,1911, 23.32292,-32.36830,     5836,   4284.1,   2.3848,  34.8928,2,  34.8933,2,    242.4,2,    242.0,3,20151106,1731
74EQ20151017  ,RAPID      ,9       ,  1,3          ,3          ,2,20151105,1911, 23.32292,-32.36830,     5836,   5111.5,   2.3979,  34.8835,2,  34.8838,2,    244.3,2,    242.1,3,20151106,1711
74EQ20151017  ,RAPID      ,9       ,  1,1          ,1          ,2,20151105,1911, 23.32292,-32.36830,     5836,   5892.3,   2.4868,  34.8814,2,  34.8782,2,    245.7,2,    243.2,6,20151106,1652
74EQ20151017  ,RAPID      ,10      ,  1,23         ,23         ,2,20151108,0124, 23.90216,-41.06802,     5516,    329.7,  16.6984,  36.3511,2,  36.3529,2,    182.0,2,    181.3,6,20151108,0124
74EQ20151017  ,RAPID      ,10      ,  1,21         ,21         ,2,20151108,0124, 23.90216,-41.06802,     5516,    913.4,   7.5562,  35.1447,2,  35.1418,2,    152.9,2,    153.6,6,20151108,0109
74EQ20151017  ,RAPID      ,10      ,  1,19         ,19         ,2,20151108,0124, 23.90216,-41.06802,     5516,   1115.0,   6.0533,  35.0480,2,  35.0477,2,    177.3,2,    178.3,2,20151108,0059
74EQ20151017  ,RAPID      ,10      ,  1,17         ,17         ,2,20151108,0124, 23.90216,-41.06802,     5516,   1417.6,   5.0478,  35.0580,2,  35.0572,2,    210.1,2,    211.3,2,20151108,0048
74EQ20151017  ,RAPID      ,10      ,  1,15         ,15         ,2,20151108,0124, 23.90216,-41.06802,     5516,   1825.3,   4.1181,  35.0319,2,  35.0316,2,    232.4,2,    233.5,3,20151108,0035
74EQ20151017  ,RAPID      ,10      ,  1,13         ,13         ,2,20151108,0124, 23.90216,-41.06802,     5516,   2133.0,   3.6821,  35.0071,2,  35.0072,2,    239.1,2,    240.1,3,20151108,0024
74EQ20151017  ,RAPID      ,10      ,  1,11         ,11         ,2,20151108,0124, 23.90216,-41.06802,     5516,   2897.1,   2.8925,  34.9488,2,  34.9489,2,    239.8,2,    241.7,3,20151109,0004
74EQ20151017  ,RAPID      ,10      ,  1,9          ,9          ,2,20151108,0124, 23.90216,-41.06802,     5516,   3361.0,   2.6457,  34.9250,2,  34.9249,2,    240.9,2,    242.4,3,20151108,2350
74EQ20151017  ,RAPID      ,10      ,  1,7          ,7          ,2,20151108,0124, 23.90216,-41.06802,     5516,   3770.7,   2.4820,  34.9063,2,  34.9062,2,    242.6,2,    244.4,3,20151108,2337
74EQ20151017  ,RAPID      ,10      ,  1,5          ,5          ,2,20151108,0124, 23.90216,-41.06802,     5516,   4079.5,   2.4017,  34.8956,2,  34.8961,2,    243.7,2,    244.3,2,20151108,2325
74EQ20151017  ,RAPID      ,10      ,  1,3          ,3          ,2,20151108,0124, 23.90216,-41.06802,     5516,   4804.3,   2.3894,  34.8859,2,  34.8862,2,    244.9,2,    244.1,3,20151108,2308
74EQ20151017  ,RAPID      ,10      ,  1,1          ,1          ,2,20151108,0124, 23.90216,-41.06802,     5516,   5569.4,   2.4566,  34.8826,2,  34.8810,2,    245.1,2,    244.5,2,20151108,2249
74EQ20151017  ,RAPID      ,12      ,  1,17         ,17         ,2,20151113,0036, 24.18461,-49.76889,     5180,     27.3,  27.0820,  37.3603,2,     -999,9,    200.1,2,    199.4,6,20151113,0036
74EQ20151017  ,RAPID      ,12      ,  1,19         ,19         ,2,20151113,0036, 24.18461,-49.76889,     5180,     27.4,  27.0822,  37.3601,2,     -999,9,    200.2,2,     -999,9,20151113,0036
74EQ20151017  ,RAPID      ,12      ,  1,13         ,13         ,2,20151113,0036, 24.18461,-49.76889,     5180,     52.4,  27.0644,  37.3616,2,     -999,9,    200.5,2,    199.5,2,20151113,0034
74EQ20151017  ,RAPID      ,12      ,  1,15         ,15         ,2,20151113,0036, 24.18461,-49.76889,     5180,     52.8,  27.0655,  37.3616,2,     -999,9,    200.4,2,     -999,9,20151113,0034
74EQ20151017  ,RAPID      ,12      ,  1,9          ,9          ,2,20151113,0036, 24.18461,-49.76889,     5180,     77.2,  24.6310,  37.2455,2,     -999,9,    225.6,2,    224.8,2,20151113,0032
74EQ20151017  ,RAPID      ,12      ,  1,11         ,11         ,2,20151113,0036, 24.18461,-49.76889,     5180,     78.0,  24.5771,  37.2438,2,     -999,9,    224.7,2,     -999,9,20151113,0032
74EQ20151017  ,RAPID      ,12      ,  1,5          ,5          ,2,20151113,0036, 24.18461,-49.76889,     5180,    103.1,  23.3613,  37.1798,2,     -999,9,    220.1,2,    218.3,2,20151113,0030
74EQ20151017  ,RAPID      ,12      ,  1,7          ,7          ,2,20151113,0036, 24.18461,-49.76889,     5180,    103.4,  23.3754,  37.1789,2,     -999,9,    219.3,2,     -999,9,20151113,0030
74EQ20151017  ,RAPID      ,12      ,  1,3          ,3          ,2,20151113,0036, 24.18461,-49.76889,     5180,    128.1,  22.2817,  37.1275,2,     -999,9,    205.9,2,     -999,9,20151113,0028
74EQ20151017  ,RAPID      ,12      ,  1,1          ,1          ,2,20151113,0036, 24.18461,-49.76889,     5180,    128.2,  22.2822,  37.1276,2,     -999,9,    206.3,2,    205.8,6,20151113,0028
74EQ20151017  ,RAPID      ,13      ,  1,23         ,23         ,2,20151113,0519, 24.18466,-49.76885,     5169,    204.1,  19.3419,  36.7610,2,  36.7637,2,    183.5,2,    185.0,6,20151113,0519
74EQ20151017  ,RAPID      ,13      ,  1,21         ,21         ,2,20151113,0519, 24.18466,-49.76885,     5169,    508.0,  14.0225,  35.8932,2,  35.8932,2,    166.8,2,    166.1,2,20151113,0508
74EQ20151017  ,RAPID      ,13      ,  1,19         ,19         ,2,20151113,0519, 24.18466,-49.76885,     5169,    814.6,   8.7216,  35.2034,2,  35.2039,2,    144.5,2,    143.2,2,20151113,0457
74EQ20151017  ,RAPID      ,13      ,  1,17         ,17         ,2,20151113,0519, 24.18466,-49.76885,     5169,   1219.2,   5.5891,  35.0389,2,  35.0385,2,    200.3,2,    199.3,3,20151113,0444
74EQ20151017  ,RAPID      ,13      ,  1,15         ,15         ,2,20151113,0519, 24.18466,-49.76885,     5169,   1524.9,   4.7126,  35.0554,2,  35.0539,2,    233.8,2,    232.4,2,20151113,0433
74EQ20151017  ,RAPID      ,13      ,  1,13         ,13         ,2,20151113,0519, 24.18466,-49.76885,     5169,   2038.6,   3.6234,  35.0049,2,  35.0037,2,    245.3,2,    244.2,6,20151114,0418
74EQ20151017  ,RAPID      ,13      ,  1,11         ,11         ,2,20151113,0519, 24.18466,-49.76885,     5169,   2549.4,   3.0274,  34.9568,2,  34.9556,2,    247.6,2,    242.6,2,20151114,0404
74EQ20151017  ,RAPID      ,13      ,  1,9          ,9          ,2,20151113,0519, 24.18466,-49.76885,     5169,   3063.3,   2.7424,  34.9311,2,  34.9317,2,    248.2,2,    248.0,6,20151114,0349
74EQ20151017  ,RAPID      ,13      ,  1,7          ,7          ,2,20151113,0519, 24.18466,-49.76885,     5169,   3322.4,   2.5590,  34.9151,2,  34.9142,2,    250.0,2,    249.8,3,20151114,0338
74EQ20151017  ,RAPID      ,13      ,  1,5          ,5          ,2,20151113,0519, 24.18466,-49.76885,     5169,   3578.7,   2.4070,  34.9002,2,  34.8998,2,    250.2,2,    249.3,3,20151114,0328
74EQ20151017  ,RAPID      ,13      ,  1,3          ,3          ,2,20151113,0519, 24.18466,-49.76885,     5169,   3836.3,   2.3038,  34.8898,2,  34.8892,2,    250.9,2,    250.7,3,20151114,0317
74EQ20151017  ,RAPID      ,13      ,  1,1          ,1          ,2,20151113,0519, 24.18466,-49.76885,     5169,   4095.9,   2.2451,  34.8832,2,  34.8830,2,    251.0,2,    250.6,2,20151114,0306
74EQ20151017  ,RAPID      ,14      ,  1,23         ,23         ,2,20151117,1917, 26.38933,-69.10366,     5522,     12.0,  26.7880,  36.5912,2,  36.5902,2,    200.1,2,    200.4,3,20151117,1917
74EQ20151017  ,RAPID      ,14      ,  1,21         ,21         ,2,20151117,1917, 26.38933,-69.10366,     5522,    102.4,  20.9217,  36.5974,2,  36.5979,2,    215.3,2,    216.4,2,20151117,1855
74EQ20151017  ,RAPID      ,14      ,  1,19         ,19         ,2,20151117,1917, 26.38933,-69.10366,     5522,    204.0,  19.1810,  36.5594,2,  36.5599,2,    202.9,2,    203.9,2,20151117,1832
74EQ20151017  ,RAPID      ,14      ,  1,17         ,17         ,2,20151117,1917, 26.38933,-69.10366,     5522,    406.0,  17.6572,  36.4718,2,  36.4736,2,    189.3,2,    190.9,6,20151118,1808
74EQ20151017  ,RAPID      ,14      ,  1,15         ,15         ,2,20151117,1917, 26.38933,-69.10366,     5522,    609.8,  14.1066,  35.8664,2,  35.8682,2,    166.4,2,    166.9,2,20151118,1743
74EQ20151017  ,RAPID      ,14      ,  1,13         ,13         ,2,20151117,1917, 26.38933,-69.10366,     5522,    814.4,   9.2327,  35.2254,2,  35.2256,2,    143.9,2,    144.4,2,20151118,1719
74EQ20151017  ,RAPID      ,14      ,  1,11         ,11         ,2,20151117,1917, 26.38933,-69.10366,     5522,   1117.7,   5.8899,  35.0842,2,  35.0855,2,    206.7,2,    206.9,2,20151118,1653
74EQ20151017  ,RAPID      ,14      ,  1,9          ,9          ,2,20151117,1917, 26.38933,-69.10366,     5522,   1423.8,   4.7294,  35.0462,2,  35.0462,2,    241.3,2,    242.1,2,20151118,1626
74EQ20151017  ,RAPID      ,14      ,  1,7          ,7          ,2,20151117,1917, 26.38933,-69.10366,     5522,   1832.4,   3.8610,  34.9928,2,  34.9937,2,    255.4,2,    255.8,2,20151118,1559
74EQ20151017  ,RAPID      ,14      ,  1,5          ,5          ,2,20151117,1917, 26.38933,-69.10366,     5522,   2344.9,   3.3347,  34.9747,2,  34.9752,2,    253.5,2,    252.9,2,20151118,1530
74EQ20151017  ,RAPID      ,14      ,  1,3          ,3          ,2,20151117,1917, 26.38933,-69.10366,     5522,   2959.8,   2.8318,  34.9362,2,  34.9371,2,    257.2,2,    257.4,2,20151118,1459
74EQ20151017  ,RAPID      ,14      ,  1,1          ,1          ,2,20151117,1917, 26.38933,-69.10366,     5522,   3580.2,   2.4619,  34.9073,2,  34.9101,2,    265.1,2,    264.6,6,20151118,1428
74EQ20151017  ,RAPID      ,15      ,  1,23         ,23         ,2,20151118,1910, 26.49137,-70.53594,     5492,     10.3,  26.1628,  36.5251,2,  36.5247,2,    202.2,2,    202.8,2,20151118,1910
74EQ20151017  ,RAPID      ,15      ,  1,21         ,21         ,2,20151118,1910, 26.49137,-70.53594,     5492,    608.9,  13.8706,  35.8300,2,  35.8317,2,    157.7,2,    158.0,6,20151118,1853
74EQ20151017  ,RAPID      ,15      ,  1,19         ,19         ,2,20151118,1910, 26.49137,-70.53594,     5492,   1117.2,   5.9430,  35.0733,2,  35.0726,2,    204.2,2,    204.6,2,20151118,1838
74EQ20151017  ,RAPID      ,15      ,  1,17         ,17         ,2,20151118,1910, 26.49137,-70.53594,     5492,   1829.9,   3.8527,  34.9929,2,  34.9936,2,    255.4,2,    256.5,2,20151118,1820
74EQ20151017  ,RAPID      ,15      ,  1,15         ,15         ,2,20151118,1910, 26.49137,-70.53594,     5492,   2344.1,   3.2385,  34.9569,2,  34.9565,2,    259.4,2,    260.0,3,20151119,1805
74EQ20151017  ,RAPID      ,15      ,  1,13         ,13         ,2,20151118,1910, 26.49137,-70.53594,     5492,   2959.0,   2.7568,  34.9286,2,  34.9279,2,    261.6,2,    263.0,2,20151119,1748
74EQ20151017  ,RAPID      ,15      ,  1,11         ,11         ,2,20151118,1910, 26.49137,-70.53594,     5492,   3785.3,   2.3609,  34.9003,2,  34.9003,2,    264.2,2,    265.8,2,20151119,1729
74EQ20151017  ,RAPID      ,15      ,  1,9          ,9          ,2,20151118,1910, 26.49137,-70.53594,     5492,   4406.8,   2.2860,  34.8897,2,  34.8903,2,    262.5,2,    260.9,6,20151119,1713
74EQ20151017  ,RAPID      ,15      ,  1,7          ,7          ,2,20151118,1910, 26.49137,-70.53594,     5492,   4820.8,   2.2675,  34.8830,2,  34.8824,2,    259.6,2,    260.3,2,20151119,1700
74EQ20151017  ,RAPID      ,15      ,  1,5          ,5          ,2,20151118,1910, 26.49137,-70.53594,     5492,   5237.0,   2.1804,  34.8674,2,  34.8666,2,    254.3,2,    253.8,6,20151119,1647
74EQ20151017  ,RAPID      ,15      ,  1,3          ,3          ,2,20151118,1910, 26.49137,-70.53594,     5492,   5445.0,   2.1194,  34.8567,2,  34.8560,2,    250.8,2,    251.0,2,20151119,1637
74EQ20151017  ,RAPID      ,15      ,  1,1          ,1          ,2,20151118,1910, 26.49137,-70.53594,     5492,   5551.6,   2.0970,  34.8518,2,  34.8521,2,    248.7,2,    248.8,6,20151119,1629
74EQ20151017  ,RAPID      ,16      ,  1,23         ,23         ,2,20151118,2305, 26.49138,-70.53592,     5493,     52.5,  24.6022,  36.6823,2,     -999,9,    206.1,2,     -999,9,20151118,2305
74EQ20151017  ,RAPID      ,16      ,  1,21         ,21         ,2,20151118,2305, 26.49138,-70.53592,     5493,    153.8,  19.9032,  36.6043,2,     -999,9,    197.9,2,     -999,9,20151118,2257
74EQ20151017  ,RAPID      ,16      ,  1,19         ,19         ,2,20151118,2305, 26.49138,-70.53592,     5493,    255.0,  18.7880,  36.5693,2,     -999,9,    194.5,2,     -999,9,20151118,2249
74EQ20151017  ,RAPID      ,16      ,  1,17         ,17         ,2,20151118,2305, 26.49138,-70.53592,     5493,    407.1,  17.6463,  36.4757,2,     -999,9,    188.1,2,     -999,9,20151118,2240
74EQ20151017  ,RAPID      ,16      ,  1,15         ,15         ,2,20151118,2305, 26.49138,-70.53592,     5493,    593.7,  14.7720,  35.9779,2,     -999,9,    163.5,2,     -999,9,20151118,2231
74EQ20151017  ,RAPID      ,16      ,  1,13         ,13         ,2,20151118,2305, 26.49138,-70.53592,     5493,    815.1,   9.4880,  35.2321,2,     -999,9,    139.0,2,     -999,9,20151118,2220
74EQ20151017  ,RAPID      ,16      ,  1,11         ,11         ,2,20151118,2305, 26.49138,-70.53592,     5493,   1017.3,   6.7178,  35.0796,2,     -999,9,    181.7,2,     -999,9,20151118,2210
74EQ20151017  ,RAPID      ,16      ,  1,9          ,9          ,2,20151118,2305, 26.49138,-70.53592,     5493,   1118.7,   5.8992,  35.0735,2,     -999,9,    207.7,2,     -999,9,20151119,2202
74EQ20151017  ,RAPID      ,16      ,  1,7          ,7          ,2,20151118,2305, 26.49138,-70.53592,     5493,   1220.0,   5.3227,  35.0616,2,     -999,9,    227.3,2,     -999,9,20151119,2153
74EQ20151017  ,RAPID      ,16      ,  1,5          ,5          ,2,20151118,2305, 26.49138,-70.53592,     5493,   1321.0,   4.8387,  35.0432,2,     -999,9,    241.7,2,     -999,9,20151119,2145
74EQ20151017  ,RAPID      ,16      ,  1,3          ,3          ,2,20151118,2305, 26.49138,-70.53592,     5493,   1424.1,   4.5438,  35.0286,2,     -999,9,    247.6,2,     -999,9,20151119,2136
74EQ20151017  ,RAPID      ,16      ,  1,1          ,1          ,2,20151118,2305, 26.49138,-70.53592,     5493,   1527.5,   4.3045,  35.0150,2,     -999,9,    251.5,2,     -999,9,20151119,2128
74EQ20151017  ,RAPID      ,17      ,  1,11         ,11         ,2,20151120,0056, 26.50985,-70.50870,     5491,   3063.2,   2.6755,  34.9227,2,  34.9220,2,    262.5,2,     -999,9,20151120,0056
74EQ20151017  ,RAPID      ,17      ,  1,9          ,9          ,2,20151120,0056, 26.50985,-70.50870,     5491,   3579.3,   2.4180,  34.9052,2,  34.9048,2,    264.2,2,     -999,9,20151120,0041
74EQ20151017  ,RAPID      ,17      ,  1,7          ,7          ,2,20151120,0056, 26.50985,-70.50870,     5491,   4096.8,   2.3108,  34.8944,2,  34.8947,2,    263.3,2,     -999,9,20151120,0027
74EQ20151017  ,RAPID      ,17      ,  1,5          ,5          ,2,20151120,0056, 26.50985,-70.50870,     5491,   4616.4,   2.2810,  34.8871,2,  34.8865,2,    260.9,2,     -999,9,20151120,0012
74EQ20151017  ,RAPID      ,17      ,  1,3          ,3          ,2,20151120,0056, 26.50985,-70.50870,     5491,   5134.6,   2.1995,  34.8711,2,  34.8721,2,    253.9,2,     -999,9,20151119,2357
74EQ20151017  ,RAPID      ,17      ,  1,1          ,1          ,2,20151120,0056, 26.50985,-70.50870,     5491,   5561.4,   2.0997,  34.8519,2,  34.8518,2,    247.4,2,     -999,9,20151120,2343
74EQ20151017  ,RAPID      ,18      ,  1,23         ,23         ,2,20151122,0904, 26.48705,-75.72591,     4700,     11.0,  26.8844,  36.3803,2,     -999,9,    197.4,2,    197.5,2,20151122,0904
74EQ20151017  ,RAPID      ,18      ,  1,21         ,21         ,2,20151122,0904, 26.48705,-75.72591,     4700,     51.5,  26.8984,  36.3794,2,     -999,9,    198.2,2,    197.6,2,20151122,0857
74EQ20151017  ,RAPID      ,18      ,  1,19         ,19         ,2,20151122,0904, 26.48705,-75.72591,     4700,    405.3,  18.1380,  36.5410,2,     -999,9,    186.6,2,    182.5,2,20151122,0843
74EQ20151017  ,RAPID      ,18      ,  1,17         ,17         ,2,20151122,0904, 26.48705,-75.72591,     4700,    813.2,  10.5138,  35.3470,2,     -999,9,    139.0,2,    138.6,2,20151122,0830
74EQ20151017  ,RAPID      ,18      ,  1,15         ,15         ,2,20151122,0904, 26.48705,-75.72591,     4700,   1116.7,   5.5562,  35.0647,2,     -999,9,    220.1,2,    219.6,2,20151122,0819
74EQ20151017  ,RAPID      ,18      ,  1,13         ,13         ,2,20151122,0904, 26.48705,-75.72591,     4700,   1524.7,   4.2577,  35.0029,2,     -999,9,    253.1,2,    252.3,2,20151122,0805
74EQ20151017  ,RAPID      ,18      ,  1,11         ,11         ,2,20151122,0904, 26.48705,-75.72591,     4700,   2037.2,   3.5584,  34.9662,2,     -999,9,    260.4,2,    260.3,2,20151123,0750
74EQ20151017  ,RAPID      ,18      ,  1,9          ,9          ,2,20151122,0904, 26.48705,-75.72591,     4700,   2343.7,   3.2382,  34.9550,2,     -999,9,    260.0,2,    260.2,2,20151123,0739
74EQ20151017  ,RAPID      ,18      ,  1,7          ,7          ,2,20151122,0904, 26.48705,-75.72591,     4700,   2959.1,   2.6682,  34.9211,2,     -999,9,    264.6,2,    266.2,6,20151123,0723
74EQ20151017  ,RAPID      ,18      ,  1,5          ,5          ,2,20151122,0904, 26.48705,-75.72591,     4700,   3680.1,   2.3043,  34.8964,2,     -999,9,    265.3,2,    266.3,2,20151123,0705
74EQ20151017  ,RAPID      ,18      ,  1,3          ,3          ,2,20151122,0904, 26.48705,-75.72591,     4700,   4198.1,   2.2450,  34.8877,2,     -999,9,    261.5,2,    262.9,6,20151123,0650
74EQ20151017  ,RAPID      ,18      ,  1,1          ,1          ,2,20151122,0904, 26.48705,-75.72591,     4700,   4717.4,   2.2137,  34.8782,2,     -999,9,    255.6,2,    256.7,6,20151123,0636