BOTTLE,20221024CCHSIOENA
# changed OXYGEN fill value flag from 4 to 5 in 30 instances
# changed DATE and TIME to BTL_DATE and BTL_TIME
# set DATE to the date of the deepest bottle
# set TIME to the time of the deepest bottle
# added LATITUDE and LONGITUDE for each station according to CTD files
# BOTTLE,20221024CCHHYDRO
# BOTTLE,20220308OCPNOCYLF
#SHIP: Discovery
#Cruise DY039; RAPID
#Region: North Atlantic (subtropical)
#EXPOCODE: 74EQ20151017
#DATES: 20151007 - 20151201
#Chief Scientist: D. R. Rayner, NOC
#Supported by grants from the UK Natural Environment Research Council for the RAPID-AMOC program and the ACSIS program (grant no. NE/N018044/1).
#25 stations with 12-place rosette
#CTD: Who - B. King; Status - final
#Notes: Includes CTDTMP, CTDSAL, CTDOXY
#The CTD PRS; TMP data are all good.
#The CTD SAL; OXY data are all calibrated and good.
#Salinity: Who - G. McCarthy; Status - final
#Oxygen: Who - S. Fowell; Status - final
EXPOCODE,SECT_ID,STNNBR,CASTNO,SAMPNO,BTLNBR,BTLNBR_FLAG_W,DATE,TIME,LATITUDE,LONGITUDE,DEPTH,CTDPRS,CTDTMP,CTDSAL,CTDSAL_FLAG_W,SALNTY,SALNTY_FLAG_W,CTDOXY,CTDOXY_FLAG_W,OXYGEN,OXYGEN_FLAG_W,BTL_DATE,BTL_TIME
,,,,,,,,,,,METERS,DBAR,ITS-90,PSS-78,,PSS-78,,UMOL/KG,,UMOL/KG,,,
74EQ20151017  ,RAPID      ,1       ,  1,23         ,23         ,2,20151021,1908, 36.05237,-12.98731,     4366,      9.3,  21.5202,  36.5232,2,  36.5220,2,    220.0,2,     -999,9,20151021,1908
74EQ20151017  ,RAPID      ,1       ,  1,21         ,21         ,2,20151021,1908, 36.05237,-12.98731,     4366,     50.8,  21.3856,  36.5183,2,  36.5185,2,    221.0,2,     -999,9,20151021,1902
74EQ20151017  ,RAPID      ,1       ,  1,19         ,19         ,2,20151021,1908, 36.05237,-12.98731,     4366,    152.4,  14.3550,  36.0321,2,  36.0316,2,    222.9,2,     -999,9,20151021,1854
74EQ20151017  ,RAPID      ,1       ,  1,17         ,17         ,2,20151021,1908, 36.05237,-12.98731,     4366,    403.5,  12.1368,  35.6938,2,  35.6935,4,    202.9,2,     -999,9,20151021,1843
74EQ20151017  ,RAPID      ,1       ,  1,15         ,15         ,2,20151021,1908, 36.05237,-12.98731,     4366,    708.5,  11.2386,  35.8660,2,  35.8715,4,    178.6,2,     -999,9,20151021,1833
74EQ20151017  ,RAPID      ,1       ,  1,13         ,13         ,2,20151021,1908, 36.05237,-12.98731,     4366,   1113.2,  11.1191,  36.2543,2,  36.2517,2,    184.0,2,     -999,9,20151021,1820
74EQ20151017  ,RAPID      ,1       ,  1,11         ,11         ,2,20151021,1908, 36.05237,-12.98731,     4366,   1518.8,   7.2064,  35.5812,2,  35.5807,2,    215.8,2,     -999,9,20151022,1807
74EQ20151017  ,RAPID      ,1       ,  1,9          ,9          ,2,20151021,1908, 36.05237,-12.98731,     4366,   1926.4,   4.6670,  35.1689,2,  35.1689,2,    244.4,2,     -999,9,20151022,1755
74EQ20151017  ,RAPID      ,1       ,  1,7          ,7          ,2,20151021,1908, 36.05237,-12.98731,     4366,   2335.9,   3.6094,  35.0339,2,  35.0335,2,    248.4,2,     -999,9,20151022,1742
74EQ20151017  ,RAPID      ,1       ,  1,5          ,5          ,2,20151021,1908, 36.05237,-12.98731,     4366,   2743.4,   3.0388,  34.9712,2,  34.9702,2,    247.4,2,     -999,9,20151022,1729
74EQ20151017  ,RAPID      ,1       ,  1,3          ,3          ,2,20151021,1908, 36.05237,-12.98731,     4366,   3155.0,   2.7231,  34.9373,2,  34.9373,2,    245.1,2,     -999,9,20151022,1716
74EQ20151017  ,RAPID      ,1       ,  1,1          ,1          ,2,20151021,1908, 36.05237,-12.98731,     4366,   3566.6,   2.5039,  34.9120,2,  34.9125,2,    243.3,2,     -999,9,20151022,1702
74EQ20151017  ,RAPID      ,2       ,  1,23         ,23         ,2,20151022,0829, 34.75080,-12.58522,     3524,     11.8,  21.5306,  36.4936,2,     -999,9,    219.6,2,     -999,9,20151022,0829
74EQ20151017  ,RAPID      ,2       ,  1,21         ,21         ,2,20151022,0829, 34.75080,-12.58522,     3524,     52.0,  21.2395,  36.5015,2,  36.4934,3,    222.2,2,     -999,9,20151022,0822
74EQ20151017  ,RAPID      ,2       ,  1,19         ,19         ,2,20151022,0829, 34.75080,-12.58522,     3524,    152.5,  14.1670,  35.9967,2,  36.5020,4,    224.1,2,     -999,9,20151022,0814
74EQ20151017  ,RAPID      ,2       ,  1,15         ,15         ,2,20151022,0829, 34.75080,-12.58522,     3524,    404.9,  12.0944,  35.6856,2,  35.6867,2,    205.4,2,     -999,9,20151022,0801
74EQ20151017  ,RAPID      ,2       ,  1,17         ,17         ,2,20151022,0829, 34.75080,-12.58522,     3524,    405.1,  12.0975,  35.6857,2,  35.9968,4,    205.1,2,     -999,9,20151022,0803
74EQ20151017  ,RAPID      ,2       ,  1,14         ,14         ,2,20151022,0829, 34.75080,-12.58522,     3524,    708.9,  11.5928,  36.0039,2,     -999,9,    181.6,2,     -999,9,20151022,0752
74EQ20151017  ,RAPID      ,2       ,  1,13         ,13         ,2,20151022,0829, 34.75080,-12.58522,     3524,   1114.6,   9.8242,  35.9373,2,  35.9338,2,    185.1,2,     -999,9,20151022,0739
74EQ20151017  ,RAPID      ,2       ,  1,11         ,11         ,2,20151022,0829, 34.75080,-12.58522,     3524,   1519.7,   7.0982,  35.5576,2,  35.5568,2,    215.0,2,     -999,9,20151023,0726
74EQ20151017  ,RAPID      ,2       ,  1,9          ,9          ,2,20151022,0829, 34.75080,-12.58522,     3524,   1928.0,   4.7415,  35.1851,2,  35.1847,2,    241.5,2,     -999,9,20151023,0713
74EQ20151017  ,RAPID      ,2       ,  1,7          ,7          ,2,20151022,0829, 34.75080,-12.58522,     3524,   2336.3,   3.7045,  35.0479,2,  35.0477,2,    246.5,2,     -999,9,20151023,0700
74EQ20151017  ,RAPID      ,2       ,  1,5          ,5          ,2,20151022,0829, 34.75080,-12.58522,     3524,   2744.5,   3.0601,  34.9740,2,  34.9734,2,    246.8,2,     -999,9,20151023,0647
74EQ20151017  ,RAPID      ,2       ,  1,3          ,3          ,2,20151022,0829, 34.75080,-12.58522,     3524,   3154.2,   2.6758,  34.9327,2,  34.9320,2,    244.8,2,     -999,9,20151023,0634
74EQ20151017  ,RAPID      ,2       ,  1,1          ,1          ,2,20151022,0829, 34.75080,-12.58522,     3524,   3567.5,   2.5169,  34.9133,2,  34.9126,2,    243.1,2,     -999,9,20151023,0621
74EQ20151017  ,RAPID      ,3       ,  1,23         ,23         ,2,20151026,2027, 28.61844,-15.50042,     3522,      9.7,  24.0608,  36.7656,2,  36.7649,2,    212.6,2,    210.6,2,20151026,2027
74EQ20151017  ,RAPID      ,3       ,  1,21         ,21         ,2,20151026,2027, 28.61844,-15.50042,     3522,     60.5,  20.5300,  36.5948,2,  36.5973,2,    233.7,2,    229.4,6,20151026,2021
74EQ20151017  ,RAPID      ,3       ,  1,19         ,19         ,2,20151026,2027, 28.61844,-15.50042,     3522,    151.2,  16.4771,  36.4073,2,  36.4154,4,    214.2,2,    212.2,2,20151026,2013
74EQ20151017  ,RAPID      ,3       ,  1,17         ,17         ,2,20151026,2027, 28.61844,-15.50042,     3522,    402.8,  13.3055,  35.8299,2,  35.8320,2,    175.0,2,     -999,5,20151026,2002
74EQ20151017  ,RAPID      ,3       ,  1,15         ,15         ,2,20151026,2027, 28.61844,-15.50042,     3522,    809.3,   8.8480,  35.3030,2,  35.3031,2,    133.4,2,     -999,1,20151026,1950
74EQ20151017  ,RAPID      ,3       ,  1,13         ,13         ,2,20151026,2027, 28.61844,-15.50042,     3522,   1112.3,   7.3300,  35.3071,2,  35.3070,2,    165.3,2,    162.1,2,20151026,1939
74EQ20151017  ,RAPID      ,3       ,  1,11         ,11         ,2,20151026,2027, 28.61844,-15.50042,     3522,   1518.1,   6.1183,  35.3372,2,  35.3366,2,    209.5,2,    182.9,3,20151027,1926
74EQ20151017  ,RAPID      ,3       ,  1,9          ,9          ,2,20151026,2027, 28.61844,-15.50042,     3522,   1924.5,   4.9294,  35.1962,2,  35.1963,2,    224.9,2,    221.2,6,20151027,1913
74EQ20151017  ,RAPID      ,3       ,  1,7          ,7          ,2,20151026,2027, 28.61844,-15.50042,     3522,   2334.1,   3.7429,  35.0496,2,  35.0492,2,    232.8,2,    228.6,3,20151027,1901
74EQ20151017  ,RAPID      ,3       ,  1,5          ,5          ,2,20151026,2027, 28.61844,-15.50042,     3522,   2741.1,   3.0718,  34.9737,2,  34.9742,2,    236.0,2,    233.2,2,20151027,1848
74EQ20151017  ,RAPID      ,3       ,  1,3          ,3          ,2,20151026,2027, 28.61844,-15.50042,     3522,   3150.5,   2.7277,  34.9360,2,  34.9354,2,    237.9,2,    235.6,2,20151027,1835
74EQ20151017  ,RAPID      ,3       ,  1,1          ,1          ,2,20151026,2027, 28.61844,-15.50042,     3522,   3564.0,   2.5549,  34.9154,2,  34.9150,2,    238.4,2,    236.5,2,20151027,1822
74EQ20151017  ,RAPID      ,4       ,  1,23         ,23         ,2,20151031,0232, 24.95218,-21.21922,     4480,     99.7,  20.8177,  36.6143,2,  36.6143,2,    210.7,2,    220.1,6,20151031,0232
74EQ20151017  ,RAPID      ,4       ,  1,21         ,21         ,2,20151031,0232, 24.95218,-21.21922,     4480,    403.2,  13.8303,  35.8966,2,  35.8961,2,    162.0,2,    180.1,3,20151031,0205
74EQ20151017  ,RAPID      ,4       ,  1,19         ,19         ,2,20151031,0232, 24.95218,-21.21922,     4480,    756.9,   8.9512,  35.2755,2,  35.2752,2,    121.5,2,    122.1,2,20151031,0138
74EQ20151017  ,RAPID      ,4       ,  1,17         ,17         ,2,20151031,0232, 24.95218,-21.21922,     4480,   1314.3,   6.2654,  35.2374,2,  35.2376,2,    181.8,2,    191.2,6,20151101,0107
74EQ20151017  ,RAPID      ,4       ,  1,15         ,15         ,2,20151031,0232, 24.95218,-21.21922,     4480,   2027.5,   3.9646,  35.0560,2,  35.0560,2,    221.6,2,    239.9,3,20151101,0034
74EQ20151017  ,RAPID      ,4       ,  1,13         ,13         ,2,20151031,0232, 24.95218,-21.21922,     4480,   2537.2,   3.2370,  34.9843,2,  34.9845,2,    230.4,2,    231.2,2,20151101,0004
74EQ20151017  ,RAPID      ,4       ,  1,11         ,11         ,2,20151031,0232, 24.95218,-21.21922,     4480,   3048.5,   2.7724,  34.9389,2,  34.9394,2,    234.7,2,    243.4,6,20151031,2334
74EQ20151017  ,RAPID      ,4       ,  1,9          ,9          ,2,20151031,0232, 24.95218,-21.21922,     4480,   3563.0,   2.5013,  34.9111,2,  34.9111,2,    238.2,2,    255.1,3,20151031,2305
74EQ20151017  ,RAPID      ,4       ,  1,7          ,7          ,2,20151031,0232, 24.95218,-21.21922,     4480,   3817.6,   2.4284,  34.9019,2,  34.9041,2,    241.3,2,    240.8,2,20151031,2239
74EQ20151017  ,RAPID      ,4       ,  1,5          ,5          ,2,20151031,0232, 24.95218,-21.21922,     4480,   4077.8,   2.3849,  34.8953,2,  34.8957,2,    244.3,2,    259.7,3,20151031,2214
74EQ20151017  ,RAPID      ,4       ,  1,3          ,3          ,2,20151031,0232, 24.95218,-21.21922,     4480,   4333.7,   2.3736,  34.8909,2,  34.8913,2,    244.9,2,    242.8,2,20151031,2148
74EQ20151017  ,RAPID      ,4       ,  1,1          ,1          ,2,20151031,0232, 24.95218,-21.21922,     4480,   4542.6,   2.3882,  34.8895,2,  34.8897,2,    244.9,2,    249.9,6,20151031,2122
74EQ20151017  ,RAPID      ,5       ,  1,21         ,21         ,2,20151101,2022, 23.83593,-24.17819,     5108,     50.6,  23.7906,  37.0237,2,  37.1213,4,    227.5,2,    225.5,6,20151101,2022
74EQ20151017  ,RAPID      ,5       ,  1,23         ,23         ,2,20151101,2022, 23.83593,-24.17819,     5108,     52.2,  23.4708,  36.9854,2,     -999,9,    234.0,2,     -999,9,20151101,2022
74EQ20151017  ,RAPID      ,5       ,  1,19         ,19         ,2,20151101,2022, 23.83593,-24.17819,     5108,    101.6,  19.2881,  36.8440,2,     -999,9,    214.1,2,     -999,9,20151101,2000
74EQ20151017  ,RAPID      ,5       ,  1,17         ,17         ,2,20151101,2022, 23.83593,-24.17819,     5108,    101.9,  19.3365,  36.8633,2,  36.8125,2,    214.0,2,    218.3,2,20151101,2000
74EQ20151017  ,RAPID      ,5       ,  1,13         ,13         ,2,20151101,2022, 23.83593,-24.17819,     5108,    252.2,  16.7415,  36.3825,2,  36.3836,2,    195.4,2,    199.1,6,20151101,1935
74EQ20151017  ,RAPID      ,5       ,  1,15         ,15         ,2,20151101,2022, 23.83593,-24.17819,     5108,    252.4,  16.7410,  36.3823,2,     -999,9,    195.8,2,     -999,9,20151101,1935
74EQ20151017  ,RAPID      ,5       ,  1,9          ,9          ,2,20151101,2022, 23.83593,-24.17819,     5108,    502.7,  12.3425,  35.6842,2,  35.6846,2,    170.1,2,    172.1,2,20151102,1909
74EQ20151017  ,RAPID      ,5       ,  1,11         ,11         ,2,20151101,2022, 23.83593,-24.17819,     5108,    506.3,  12.3224,  35.6807,2,     -999,9,    169.4,2,     -999,9,20151102,1909
74EQ20151017  ,RAPID      ,5       ,  1,5          ,5          ,2,20151101,2022, 23.83593,-24.17819,     5108,    758.4,   9.4030,  35.3659,2,  35.3669,2,    142.5,2,    143.1,6,20151102,1843
74EQ20151017  ,RAPID      ,5       ,  1,7          ,7          ,2,20151101,2022, 23.83593,-24.17819,     5108,    759.9,   9.3930,  35.3649,2,     -999,9,    142.1,2,     -999,9,20151102,1843
74EQ20151017  ,RAPID      ,5       ,  1,3          ,3          ,2,20151101,2022, 23.83593,-24.17819,     5108,   1013.0,   6.8108,  35.1499,2,     -999,9,    161.2,2,     -999,9,20151102,1817
74EQ20151017  ,RAPID      ,5       ,  1,1          ,1          ,2,20151101,2022, 23.83593,-24.17819,     5108,   1013.7,   6.8105,  35.1500,2,  35.1511,2,    160.8,2,    161.3,2,20151102,1817
74EQ20151017  ,RAPID      ,6       ,  1,23         ,23         ,2,20151102,0205, 23.83592,-24.17818,     5108,     99.3,  19.5549,  36.9291,2,  36.9270,2,    212.2,2,     -999,5,20151102,0205
74EQ20151017  ,RAPID      ,6       ,  1,21         ,21         ,2,20151102,0205, 23.83592,-24.17818,     5108,    605.7,  11.0301,  35.5321,2,  35.5326,2,    156.4,2,     -999,5,20151102,0151
74EQ20151017  ,RAPID      ,6       ,  1,19         ,19         ,2,20151102,0205, 23.83592,-24.17818,     5108,    757.3,   9.1652,  35.3418,2,  35.3420,2,    141.9,2,     -999,5,20151102,0143
74EQ20151017  ,RAPID      ,6       ,  1,17         ,17         ,2,20151102,0205, 23.83592,-24.17818,     5108,   1264.5,   6.1643,  35.2226,2,  35.2223,2,    186.1,2,     -999,5,20151102,0128
74EQ20151017  ,RAPID      ,6       ,  1,15         ,15         ,2,20151102,0205, 23.83592,-24.17818,     5108,   1670.2,   4.6535,  35.1085,2,  35.1083,2,    215.2,2,     -999,5,20151102,0116
74EQ20151017  ,RAPID      ,6       ,  1,13         ,13         ,2,20151102,0205, 23.83592,-24.17818,     5108,   2283.8,   3.4788,  35.0105,2,  35.0100,2,    238.4,2,     -999,5,20151103,0100
74EQ20151017  ,RAPID      ,6       ,  1,11         ,11         ,2,20151102,0205, 23.83592,-24.17818,     5108,   2638.4,   3.0208,  34.9668,2,  34.9658,2,    244.2,2,     -999,5,20151103,0048
74EQ20151017  ,RAPID      ,6       ,  1,9          ,9          ,2,20151102,0205, 23.83592,-24.17818,     5108,   3051.2,   2.6805,  34.9332,2,  34.9320,2,    242.9,2,     -999,5,20151103,0035
74EQ20151017  ,RAPID      ,6       ,  1,7          ,7          ,2,20151102,0205, 23.83592,-24.17818,     5108,   3460.8,   2.5009,  34.9129,2,  34.9121,2,    244.6,2,     -999,5,20151103,0022
74EQ20151017  ,RAPID      ,6       ,  1,5          ,5          ,2,20151102,0205, 23.83592,-24.17818,     5108,   4077.7,   2.3817,  34.8949,2,  34.8943,2,    244.3,2,     -999,5,20151103,0006
74EQ20151017  ,RAPID      ,6       ,  1,3          ,3          ,2,20151102,0205, 23.83592,-24.17818,     5108,   4596.1,   2.3731,  34.8879,2,  34.8875,2,    244.8,2,     -999,5,20151102,2351
74EQ20151017  ,RAPID      ,6       ,  1,1          ,1          ,2,20151102,0205, 23.83592,-24.17818,     5108,   5161.1,   2.4326,  34.8865,2,  34.8846,2,    244.4,2,     -999,5,20151102,2333
74EQ20151017  ,RAPID      ,7       ,  1,23         ,23         ,2,20151103,0004, 23.80789,-24.14447,     5099,    101.5,  19.2274,  36.8439,2,  36.8509,3,    213.3,2,     -999,5,20151103,0004
74EQ20151017  ,RAPID      ,7       ,  1,21         ,21         ,2,20151103,0004, 23.80789,-24.14447,     5099,    605.4,  11.0570,  35.5318,2,  35.5324,2,    154.6,2,     -999,5,20151102,2349
74EQ20151017  ,RAPID      ,7       ,  1,19         ,19         ,2,20151103,0004, 23.80789,-24.14447,     5099,    757.4,   9.1292,  35.3361,2,  35.3361,2,    141.6,2,     -999,5,20151102,2341
74EQ20151017  ,RAPID      ,7       ,  1,17         ,17         ,2,20151103,0004, 23.80789,-24.14447,     5099,   1263.6,   6.1963,  35.2216,2,  35.2218,2,    186.5,2,     -999,5,20151102,2326
74EQ20151017  ,RAPID      ,7       ,  1,15         ,15         ,2,20151103,0004, 23.80789,-24.14447,     5099,   1670.0,   4.6347,  35.1071,2,  35.1073,2,    215.4,2,     -999,5,20151102,2313
74EQ20151017  ,RAPID      ,7       ,  1,13         ,13         ,2,20151103,0004, 23.80789,-24.14447,     5099,   2281.7,   3.4846,  35.0117,2,  35.0118,2,    238.6,2,     -999,5,20151103,2257
74EQ20151017  ,RAPID      ,7       ,  1,11         ,11         ,2,20151103,0004, 23.80789,-24.14447,     5099,   2637.7,   3.0149,  34.9663,2,  34.9660,2,    244.0,2,     -999,5,20151103,2245
74EQ20151017  ,RAPID      ,7       ,  1,9          ,9          ,2,20151103,0004, 23.80789,-24.14447,     5099,   3049.2,   2.6633,  34.9316,2,  34.9306,2,    243.7,2,     -999,5,20151103,2232
74EQ20151017  ,RAPID      ,7       ,  1,7          ,7          ,2,20151103,0004, 23.80789,-24.14447,     5099,   3462.4,   2.4874,  34.9113,2,  34.9104,2,    243.7,2,     -999,5,20151103,2217
74EQ20151017  ,RAPID      ,7       ,  1,5          ,5          ,2,20151103,0004, 23.80789,-24.14447,     5099,   4077.8,   2.3705,  34.8939,2,  34.8914,2,    243.9,2,     -999,5,20151103,2201
74EQ20151017  ,RAPID      ,7       ,  1,3          ,3          ,2,20151103,0004, 23.80789,-24.14447,     5099,   4596.6,   2.3697,  34.8873,2,  34.8870,2,    243.6,2,     -999,5,20151103,2147
74EQ20151017  ,RAPID      ,7       ,  1,1          ,1          ,2,20151103,0004, 23.80789,-24.14447,     5099,   5162.7,   2.4313,  34.8862,2,  34.8863,2,    243.3,2,     -999,5,20151103,2131
74EQ20151017  ,RAPID      ,8       ,  1,19         ,19         ,2,20151103,1813, 23.79803,-24.15968,     5121,     26.9,  25.6142,  37.2712,2,     -999,9,    205.3,2,     -999,9,20151103,1813
74EQ20151017  ,RAPID      ,8       ,  1,17         ,17         ,2,20151103,1813, 23.79803,-24.15968,     5121,     27.3,  25.6124,  37.2712,2,     -999,9,    205.1,2,     -999,5,20151103,1813
74EQ20151017  ,RAPID      ,8       ,  1,15         ,15         ,2,20151103,1813, 23.79803,-24.15968,     5121,     52.0,  24.2075,  37.0812,2,     -999,9,    226.3,2,     -999,9,20151103,1811
74EQ20151017  ,RAPID      ,8       ,  1,13         ,13         ,2,20151103,1813, 23.79803,-24.15968,     5121,     52.9,  23.8242,  37.0325,2,     -999,9,    229.3,2,     -999,5,20151103,1811
74EQ20151017  ,RAPID      ,8       ,  1,11         ,11         ,2,20151103,1813, 23.79803,-24.15968,     5121,     76.8,  20.1892,  36.7901,2,     -999,9,    233.6,2,     -999,9,20151103,1810
74EQ20151017  ,RAPID      ,8       ,  1,9          ,9          ,2,20151103,1813, 23.79803,-24.15968,     5121,     77.6,  20.1693,  36.7910,2,     -999,9,    234.1,2,     -999,5,20151103,1809
74EQ20151017  ,RAPID      ,8       ,  1,7          ,7          ,2,20151103,1813, 23.79803,-24.15968,     5121,    101.8,  19.1419,  36.7925,2,     -999,9,    214.2,2,     -999,9,20151103,1808
74EQ20151017  ,RAPID      ,8       ,  1,5          ,5          ,2,20151103,1813, 23.79803,-24.15968,     5121,    102.5,  19.1311,  36.7934,2,     -999,9,    213.3,2,     -999,5,20151103,1808
74EQ20151017  ,RAPID      ,8       ,  1,1          ,1          ,2,20151103,1813, 23.79803,-24.15968,     5121,    126.6,  18.9116,  36.7994,2,     -999,9,    208.5,2,     -999,5,20151103,1805
74EQ20151017  ,RAPID      ,8       ,  1,3          ,3          ,2,20151103,1813, 23.79803,-24.15968,     5121,    127.6,  18.9021,  36.7977,2,     -999,9,    208.2,2,     -999,9,20151103,1805