BOTTLE,20221024CCHSIOENA
EXPOCODE,SECT_ID,STNNBR,CASTNO,SAMPNO,BTLNBR,BTLNBR_FLAG_W,DATE,TIME,LATITUDE,LONGITUDE,DEPTH,CTDPRS,CTDTMP,CTDSAL,CTDSAL_FLAG_W,SALNTY,SALNTY_FLAG_W,CTDOXY,CTDOXY_FLAG_W,OXYGEN,OXYGEN_FLAG_W,BTL_DATE,BTL_TIME
,,,,,,,,,,,METERS,DBAR,ITS-90,PSS-78,,PSS-78,,UMOL/KG,,UMOL/KG,,,
74EQ20151017  ,RAPID      ,19      ,  1,23         ,23         ,2,20151123,0459, 26.47515,-75.71876,     4698,     11.8,  26.8330,  36.3822,2,  36.3821,2,    197.7,2,    196.0,2,20151123,0459
74EQ20151017  ,RAPID      ,19      ,  1,21         ,21         ,2,20151123,0459, 26.47515,-75.71876,     4698,     51.3,  26.8524,  36.3836,2,  36.3845,2,    198.2,2,    196.1,2,20151123,0452
74EQ20151017  ,RAPID      ,19      ,  1,19         ,19         ,2,20151123,0459, 26.47515,-75.71876,     4698,    406.1,  18.1922,  36.5413,2,  36.5408,2,    186.7,2,    184.5,6,20151123,0438
74EQ20151017  ,RAPID      ,19      ,  1,17         ,17         ,2,20151123,0459, 26.47515,-75.71876,     4698,    813.9,  10.4750,  35.3408,2,  35.3399,2,    138.0,2,    136.1,3,20151123,0425
74EQ20151017  ,RAPID      ,19      ,  1,15         ,15         ,2,20151123,0459, 26.47515,-75.71876,     4698,   1118.5,   5.4935,  35.0588,2,  35.0605,2,    223.3,2,    220.6,2,20151123,0414
74EQ20151017  ,RAPID      ,19      ,  1,13         ,13         ,2,20151123,0459, 26.47515,-75.71876,     4698,   1524.9,   4.2060,  34.9952,2,  34.9958,2,    254.1,2,    251.0,2,20151123,0401
74EQ20151017  ,RAPID      ,19      ,  1,11         ,11         ,2,20151123,0459, 26.47515,-75.71876,     4698,   2037.2,   3.5341,  34.9624,2,  34.9622,2,    261.1,2,    258.2,6,20151124,0346
74EQ20151017  ,RAPID      ,19      ,  1,9          ,9          ,2,20151123,0459, 26.47515,-75.71876,     4698,   2344.1,   3.2477,  34.9569,2,  34.9568,2,    259.1,2,    256.9,2,20151124,0335
74EQ20151017  ,RAPID      ,19      ,  1,7          ,7          ,2,20151123,0459, 26.47515,-75.71876,     4698,   2959.9,   2.6741,  34.9211,2,  34.9202,2,    264.8,2,    182.7,3,20151124,0319
74EQ20151017  ,RAPID      ,19      ,  1,5          ,5          ,2,20151123,0459, 26.47515,-75.71876,     4698,   3680.9,   2.3015,  34.8962,2,  34.8978,2,    264.7,2,    260.5,6,20151124,0302
74EQ20151017  ,RAPID      ,19      ,  1,3          ,3          ,2,20151123,0459, 26.47515,-75.71876,     4698,   4198.3,   2.2430,  34.8876,2,  34.8876,2,    261.5,2,    265.2,2,20151124,0247
74EQ20151017  ,RAPID      ,19      ,  1,1          ,1          ,2,20151123,0459, 26.47515,-75.71876,     4698,   4717.9,   2.2373,  34.8809,2,  34.8817,2,    257.1,2,    256.0,6,20151124,0233
74EQ20151017  ,RAPID      ,20      ,  1,23         ,23         ,2,20151124,0640, 26.48417,-76.63152,     4716,     11.8,  26.7611,  36.3524,2,  36.3529,2,    197.6,2,    192.5,2,20151124,0640
74EQ20151017  ,RAPID      ,20      ,  1,21         ,21         ,2,20151124,0640, 26.48417,-76.63152,     4716,     52.6,  26.7675,  36.3520,2,  36.3518,2,    197.8,2,    196.3,2,20151124,0618
74EQ20151017  ,RAPID      ,20      ,  1,19         ,19         ,2,20151124,0640, 26.48417,-76.63152,     4716,    405.1,  17.7295,  36.4861,2,  36.4855,2,    186.6,2,    186.3,6,20151124,0549
74EQ20151017  ,RAPID      ,20      ,  1,17         ,17         ,2,20151124,0640, 26.48417,-76.63152,     4716,    812.5,   8.8837,  35.1453,2,  35.1445,2,    135.5,2,    135.4,2,20151125,0521
74EQ20151017  ,RAPID      ,20      ,  1,15         ,15         ,2,20151124,0640, 26.48417,-76.63152,     4716,   1117.7,   5.6684,  35.0651,2,  35.0658,2,    215.2,2,    214.9,6,20151125,0455
74EQ20151017  ,RAPID      ,20      ,  1,13         ,13         ,2,20151124,0640, 26.48417,-76.63152,     4716,   1524.6,   4.0867,  34.9819,2,  34.9830,2,    253.5,2,    253.8,2,20151125,0427
74EQ20151017  ,RAPID      ,20      ,  1,11         ,11         ,2,20151124,0640, 26.48417,-76.63152,     4716,   2038.5,   3.6642,  34.9653,2,  34.9651,2,    258.6,2,    258.1,2,20151125,0357
74EQ20151017  ,RAPID      ,20      ,  1,9          ,9          ,2,20151124,0640, 26.48417,-76.63152,     4716,   2343.2,   3.3909,  34.9514,2,  34.9517,2,    260.6,2,    259.8,2,20151125,0331
74EQ20151017  ,RAPID      ,20      ,  1,7          ,7          ,2,20151124,0640, 26.48417,-76.63152,     4716,   2958.1,   2.8721,  34.9321,2,  34.9327,2,    261.9,2,    270.1,6,20151125,0300
74EQ20151017  ,RAPID      ,20      ,  1,5          ,5          ,2,20151124,0640, 26.48417,-76.63152,     4716,   3576.4,   2.5461,  34.9106,2,  34.9111,2,    266.1,2,    264.6,2,20151125,0229
74EQ20151017  ,RAPID      ,20      ,  1,3          ,3          ,2,20151124,0640, 26.48417,-76.63152,     4716,   4197.3,   2.3443,  34.8949,2,  34.8952,2,    264.8,2,    262.5,6,20151125,0157
74EQ20151017  ,RAPID      ,20      ,  1,1          ,1          ,2,20151124,0640, 26.48417,-76.63152,     4716,   4715.8,   2.2931,  34.8866,2,  34.8874,2,    261.0,2,    259.7,2,20151125,0128
74EQ20151017  ,RAPID      ,21      ,  1,23         ,23         ,2,20151125,0455, 26.45848,-76.64904,     4713,     50.8,  26.6476,  36.3981,2,  36.3976,2,    197.6,2,    200.7,6,20151125,0455
74EQ20151017  ,RAPID      ,21      ,  1,21         ,21         ,2,20151125,0455, 26.45848,-76.64904,     4713,    404.6,  17.7576,  36.4989,2,  36.5005,2,    185.7,2,    186.1,2,20151125,0441
74EQ20151017  ,RAPID      ,21      ,  1,19         ,19         ,2,20151125,0455, 26.45848,-76.64904,     4713,   1319.6,   4.5557,  35.0134,2,  35.0143,2,    245.9,2,    247.5,2,20151125,0420
74EQ20151017  ,RAPID      ,21      ,  1,17         ,17         ,2,20151125,0455, 26.45848,-76.64904,     4713,   1421.0,   4.2385,  34.9894,2,  34.9888,2,    253.2,2,    253.8,2,20151125,0413
74EQ20151017  ,RAPID      ,21      ,  1,15         ,15         ,2,20151125,0455, 26.45848,-76.64904,     4713,   1522.9,   4.0964,  34.9832,2,  34.9832,2,    255.0,2,    256.1,2,20151125,0405
74EQ20151017  ,RAPID      ,21      ,  1,13         ,13         ,2,20151125,0455, 26.45848,-76.64904,     4713,   1625.4,   3.9817,  34.9757,2,  34.9757,2,    257.1,2,    257.8,2,20151125,0357
74EQ20151017  ,RAPID      ,21      ,  1,11         ,11         ,2,20151125,0455, 26.45848,-76.64904,     4713,   1727.5,   3.8994,  34.9722,2,  34.9720,2,    258.2,2,    259.0,6,20151126,0349
74EQ20151017  ,RAPID      ,21      ,  1,9          ,9          ,2,20151125,0455, 26.45848,-76.64904,     4713,   1830.3,   3.8021,  34.9701,2,  34.9714,2,    259.3,2,    259.4,2,20151126,0341
74EQ20151017  ,RAPID      ,21      ,  1,7          ,7          ,2,20151125,0455, 26.45848,-76.64904,     4713,   2956.5,   2.8788,  34.9312,2,  34.9316,2,    263.6,2,    245.3,3,20151126,0317
74EQ20151017  ,RAPID      ,21      ,  1,5          ,5          ,2,20151125,0455, 26.45848,-76.64904,     4713,   3576.1,   2.4844,  34.9073,2,  34.9073,2,    266.2,2,    260.9,2,20151126,0301
74EQ20151017  ,RAPID      ,21      ,  1,3          ,3          ,2,20151125,0455, 26.45848,-76.64904,     4713,   4196.6,   2.3328,  34.8940,2,  34.8941,2,    264.0,2,    267.2,6,20151126,0245
74EQ20151017  ,RAPID      ,21      ,  1,1          ,1          ,2,20151125,0455, 26.45848,-76.64904,     4713,   4715.6,   2.2823,  34.8855,2,  34.8858,2,    259.9,2,    261.1,6,20151126,0231
74EQ20151017  ,RAPID      ,22      ,  1,19         ,19         ,2,20151129,1540, 26.49491,-76.82085,     1409,     26.7,  26.6327,  36.5722,2,     -999,9,    197.6,2,     -999,9,20151129,1540
74EQ20151017  ,RAPID      ,22      ,  1,17         ,17         ,2,20151129,1540, 26.49491,-76.82085,     1409,     26.9,  26.6324,  36.5721,2,     -999,9,    197.4,2,    198.5,6,20151129,1540
74EQ20151017  ,RAPID      ,22      ,  1,13         ,13         ,2,20151129,1540, 26.49491,-76.82085,     1409,    402.7,  17.7975,  36.5056,2,     -999,9,    183.7,2,    184.1,2,20151129,1509
74EQ20151017  ,RAPID      ,22      ,  1,15         ,15         ,2,20151129,1540, 26.49491,-76.82085,     1409,    403.0,  17.7970,  36.5056,2,     -999,9,    183.6,2,     -999,9,20151129,1509
74EQ20151017  ,RAPID      ,22      ,  1,9          ,9          ,2,20151129,1540, 26.49491,-76.82085,     1409,    808.0,   8.2001,  35.1290,2,     -999,9,    149.9,2,    149.2,2,20151129,1440
74EQ20151017  ,RAPID      ,22      ,  1,11         ,11         ,2,20151129,1540, 26.49491,-76.82085,     1409,    809.7,   8.2062,  35.1302,2,     -999,9,    149.4,2,     -999,9,20151129,1440
74EQ20151017  ,RAPID      ,22      ,  1,5          ,5          ,2,20151129,1540, 26.49491,-76.82085,     1409,   1113.2,   5.1870,  35.0427,2,     -999,9,    230.4,2,    229.8,2,20151130,1412
74EQ20151017  ,RAPID      ,22      ,  1,7          ,7          ,2,20151129,1540, 26.49491,-76.82085,     1409,   1113.2,   5.1875,  35.0429,2,     -999,9,    230.9,2,     -999,9,20151130,1412
74EQ20151017  ,RAPID      ,22      ,  1,1          ,1          ,2,20151129,1540, 26.49491,-76.82085,     1409,   1399.8,   4.5075,  35.0091,2,     -999,9,    248.1,2,    247.3,6,20151130,1345
74EQ20151017  ,RAPID      ,22      ,  1,3          ,3          ,2,20151129,1540, 26.49491,-76.82085,     1409,   1400.8,   4.5061,  35.0090,2,     -999,9,    248.1,2,     -999,9,20151130,1345
74EQ20151017  ,RAPID      ,23      ,  1,23         ,23         ,2,20151130,0723, 26.51656,-76.73610,     3909,     10.8,  26.1811,  36.4454,2,     -999,9,    198.4,2,     -999,9,20151130,0723
74EQ20151017  ,RAPID      ,23      ,  1,21         ,21         ,2,20151130,0723, 26.51656,-76.73610,     3909,    101.7,  26.2037,  36.4615,2,     -999,9,    198.7,2,     -999,9,20151130,0658
74EQ20151017  ,RAPID      ,23      ,  1,19         ,19         ,2,20151130,0723, 26.51656,-76.73610,     3909,    403.5,  17.7363,  36.4951,2,     -999,9,    185.9,2,     -999,9,20151130,0633
74EQ20151017  ,RAPID      ,23      ,  1,17         ,17         ,2,20151130,0723, 26.51656,-76.73610,     3909,    707.2,  10.7016,  35.3621,2,     -999,9,    134.1,2,     -999,9,20151201,0607
74EQ20151017  ,RAPID      ,23      ,  1,15         ,15         ,2,20151130,0723, 26.51656,-76.73610,     3909,   1114.1,   5.0764,  35.0415,2,     -999,9,    233.1,2,     -999,9,20151201,0539
74EQ20151017  ,RAPID      ,23      ,  1,13         ,13         ,2,20151130,0723, 26.51656,-76.73610,     3909,   1522.6,   4.0588,  34.9846,2,     -999,9,    253.9,2,     -999,9,20151201,0511
74EQ20151017  ,RAPID      ,23      ,  1,11         ,11         ,2,20151130,0723, 26.51656,-76.73610,     3909,   1931.7,   3.7569,  34.9669,2,     -999,9,    257.8,2,     -999,9,20151201,0443
74EQ20151017  ,RAPID      ,23      ,  1,9          ,9          ,2,20151130,0723, 26.51656,-76.73610,     3909,   2341.6,   3.4200,  34.9535,2,     -999,9,    260.7,2,     -999,9,20151201,0415
74EQ20151017  ,RAPID      ,23      ,  1,7          ,7          ,2,20151130,0723, 26.51656,-76.73610,     3909,   2752.2,   3.0033,  34.9367,2,     -999,9,    262.8,2,     -999,9,20151201,0347
74EQ20151017  ,RAPID      ,23      ,  1,5          ,5          ,2,20151130,0723, 26.51656,-76.73610,     3909,   3164.9,   2.6444,  34.9178,2,     -999,9,    265.6,2,     -999,9,20151201,0319
74EQ20151017  ,RAPID      ,23      ,  1,3          ,3          ,2,20151130,0723, 26.51656,-76.73610,     3909,   3575.7,   2.4280,  34.9043,2,     -999,9,    266.4,2,     -999,9,20151201,0251
74EQ20151017  ,RAPID      ,23      ,  1,1          ,1          ,2,20151130,0723, 26.51656,-76.73610,     3909,   3887.3,   2.3557,  34.8980,2,     -999,9,    264.8,2,     -999,9,20151201,0225
74EQ20151017  ,RAPID      ,24      ,  1,21         ,21         ,2,20151130,1936, 26.49895,-76.80536,     1429,     28.0,  26.3002,  36.4804,2,     -999,9,    199.5,2,    198.5,2,20151130,1936
74EQ20151017  ,RAPID      ,24      ,  1,23         ,23         ,2,20151130,1936, 26.49895,-76.80536,     1429,     28.0,  26.2979,  36.4798,2,     -999,9,    199.9,2,     -999,9,20151130,1936
74EQ20151017  ,RAPID      ,24      ,  1,19         ,19         ,2,20151130,1936, 26.49895,-76.80536,     1429,     43.2,  26.2788,  36.4797,2,     -999,9,    200.0,2,     -999,9,20151130,1935
74EQ20151017  ,RAPID      ,24      ,  1,17         ,17         ,2,20151130,1936, 26.49895,-76.80536,     1429,     53.3,  26.2525,  36.4730,2,     -999,9,    200.2,2,    197.3,6,20151130,1934
74EQ20151017  ,RAPID      ,24      ,  1,13         ,13         ,2,20151130,1936, 26.49895,-76.80536,     1429,     78.1,  26.2211,  36.4643,2,     -999,9,    200.0,2,    199.7,2,20151130,1932
74EQ20151017  ,RAPID      ,24      ,  1,15         ,15         ,2,20151130,1936, 26.49895,-76.80536,     1429,     78.5,  26.2211,  36.4644,2,     -999,9,    199.8,2,     -999,9,20151130,1932
74EQ20151017  ,RAPID      ,24      ,  1,11         ,11         ,2,20151130,1936, 26.49895,-76.80536,     1429,    103.4,  26.2259,  36.4661,2,     -999,9,    199.9,2,     -999,9,20151130,1930
74EQ20151017  ,RAPID      ,24      ,  1,9          ,9          ,2,20151130,1936, 26.49895,-76.80536,     1429,    104.1,  26.2260,  36.4661,2,     -999,9,    199.3,2,    199.1,2,20151130,1930
74EQ20151017  ,RAPID      ,24      ,  1,7          ,7          ,2,20151130,1936, 26.49895,-76.80536,     1429,    128.7,  24.6285,  36.7020,2,     -999,9,    207.4,2,     -999,9,20151130,1927
74EQ20151017  ,RAPID      ,24      ,  1,5          ,5          ,2,20151130,1936, 26.49895,-76.80536,     1429,    128.9,  24.6279,  36.7018,2,     -999,9,    208.4,2,    206.8,2,20151130,1927
74EQ20151017  ,RAPID      ,24      ,  1,3          ,3          ,2,20151130,1936, 26.49895,-76.80536,     1429,    179.0,  21.9841,  36.6867,2,     -999,9,    199.2,2,     -999,9,20151130,1925
74EQ20151017  ,RAPID      ,24      ,  1,1          ,1          ,2,20151130,1936, 26.49895,-76.80536,     1429,    179.9,  21.9849,  36.6869,2,     -999,9,    199.2,2,    198.5,6,20151130,1925
74EQ20151017  ,RAPID      ,25      ,  1,23         ,23         ,2,20151201,0043, 26.51151,-76.71072,     4195,     11.4,  26.1182,  36.4496,2,     -999,9,    199.9,2,     -999,9,20151201,0043
74EQ20151017  ,RAPID      ,25      ,  1,21         ,21         ,2,20151201,0043, 26.51151,-76.71072,     4195,    102.4,  26.0577,  36.4645,2,     -999,9,    200.1,2,     -999,9,20151201,0035
74EQ20151017  ,RAPID      ,25      ,  1,19         ,19         ,2,20151201,0043, 26.51151,-76.71072,     4195,    404.1,  17.6890,  36.4840,2,     -999,9,    184.5,2,     -999,9,20151201,0024
74EQ20151017  ,RAPID      ,25      ,  1,17         ,17         ,2,20151201,0043, 26.51151,-76.71072,     4195,    709.4,  10.5136,  35.3456,2,     -999,9,    137.1,2,     -999,9,20151201,0014
74EQ20151017  ,RAPID      ,25      ,  1,15         ,15         ,2,20151201,0043, 26.51151,-76.71072,     4195,   1116.8,   5.0399,  35.0379,2,     -999,9,    236.7,2,     -999,9,20151201,0001
74EQ20151017  ,RAPID      ,25      ,  1,13         ,13         ,2,20151201,0043, 26.51151,-76.71072,     4195,   1524.3,   4.0605,  34.9846,2,     -999,9,    256.4,2,     -999,9,20151130,2347
74EQ20151017  ,RAPID      ,25      ,  1,11         ,11         ,2,20151201,0043, 26.51151,-76.71072,     4195,   1933.7,   3.7592,  34.9672,2,     -999,9,    259.5,2,     -999,9,20151201,2334
74EQ20151017  ,RAPID      ,25      ,  1,9          ,9          ,2,20151201,0043, 26.51151,-76.71072,     4195,   2342.4,   3.4356,  34.9525,2,     -999,9,    261.7,2,     -999,9,20151201,2322
74EQ20151017  ,RAPID      ,25      ,  1,7          ,7          ,2,20151201,0043, 26.51151,-76.71072,     4195,   2752.6,   3.0231,  34.9402,2,     -999,9,    261.9,2,     -999,9,20151201,2309
74EQ20151017  ,RAPID      ,25      ,  1,5          ,5          ,2,20151201,0043, 26.51151,-76.71072,     4195,   3164.8,   2.6546,  34.9183,2,     -999,9,    265.7,2,     -999,9,20151201,2256
74EQ20151017  ,RAPID      ,25      ,  1,3          ,3          ,2,20151201,0043, 26.51151,-76.71072,     4195,   3576.5,   2.4058,  34.9028,2,     -999,9,    265.4,2,     -999,9,20151201,2244
74EQ20151017  ,RAPID      ,25      ,  1,1          ,1          ,2,20151201,0043, 26.51151,-76.71072,     4195,   3886.8,   2.3462,  34.8975,2,     -999,9,    264.7,2,     -999,9,20151201,2233