BOTTLE,20221013CCHSIOENA
EXPOCODE,SECT_ID,STNNBR,CASTNO,SAMPNO,BTLNBR,BTLNBR_FLAG_W,DATE,TIME,LATITUDE,LONGITUDE,DEPTH,CTDPRS,CTDTMP,CTDSAL,SALNTY,SALNTY_FLAG_W
 , , , , , , , , , , , , DBAR,ITS-90,PSS-78,PSS-78, 
74JC20031201,SR1b,30,1,1,1,2,20031215,1347, -54.94367, -58.37183,  1126, 1145.1, 3.1415,34.3546,34.3507,2
74JC20031201,SR1b,30,1,2,2,2,20031215,1347, -54.94367, -58.37183,  1126, 1145.2, 3.1417,34.3546,-999.0000,9
74JC20031201,SR1b,30,1,3,3,2,20031215,1347, -54.94367, -58.37183,  1126, 1145.1, 3.1450,34.3540,-999.0000,9
74JC20031201,SR1b,30,1,4,4,2,20031215,1347, -54.94367, -58.37183,  1126, 1145.1, 3.1453,34.3538,34.3511,2
74JC20031201,SR1b,30,1,5,5,2,20031215,1347, -54.94367, -58.37183,  1126, 1145.1, 3.1446,34.3539,34.3492,2
74JC20031201,SR1b,30,1,6,6,2,20031215,1347, -54.94367, -58.37183,  1126, 1016.2, 3.4208,34.2937,34.2936,2
74JC20031201,SR1b,30,1,7,7,2,20031215,1347, -54.94367, -58.37183,  1126,  508.3, 4.5995,34.1401,34.1399,2
74JC20031201,SR1b,30,1,8,8,2,20031215,1347, -54.94367, -58.37183,  1126,  255.3, 4.9396,34.1277,34.1272,2
74JC20031201,SR1b,30,1,9,9,2,20031215,1347, -54.94367, -58.37183,  1126,  154.3, 5.2327,34.0936,34.0944,2
74JC20031201,SR1b,30,1,10,10,2,20031215,1347, -54.94367, -58.37183,  1126,   53.2, 5.8047,34.0162,34.0225,2
74JC20031201,SR1b,30,1,11,11,2,20031215,1347, -54.94367, -58.37183,  1126,   28.4, 6.4518,33.9273,33.9583,2
74JC20031201,SR1b,30,1,12,12,2,20031215,1347, -54.94367, -58.37183,  1126,    7.9, 6.8302,33.8777,33.8838,2
74JC20031201,SR1b,31,1,1,1,2,20031215,1501, -54.92233, -58.38500,   527,  520.4, 4.6298,34.1418,34.1399,2
74JC20031201,SR1b,31,1,2,2,2,20031215,1501, -54.92233, -58.38500,   527,  520.4, 4.6298,34.1418,-999.0000,9
74JC20031201,SR1b,31,1,3,3,2,20031215,1501, -54.92233, -58.38500,   527,  520.5, 4.6298,34.1418,-999.0000,9
74JC20031201,SR1b,31,1,4,4,2,20031215,1501, -54.92233, -58.38500,   527,  520.4, 4.6298,34.1418,34.1409,2
74JC20031201,SR1b,31,1,5,5,2,20031215,1501, -54.92233, -58.38500,   527,  520.3, 4.6299,34.1418,34.1411,2
74JC20031201,SR1b,31,1,6,6,2,20031215,1501, -54.92233, -58.38500,   527,  520.4, 4.6299,34.1418,34.1413,2
74JC20031201,SR1b,31,1,7,7,2,20031215,1501, -54.92233, -58.38500,   527,  508.1, 4.6295,34.1417,34.1409,2
74JC20031201,SR1b,31,1,8,8,2,20031215,1501, -54.92233, -58.38500,   527,  254.5, 5.0427,34.1336,34.1523,2
74JC20031201,SR1b,31,1,9,9,2,20031215,1501, -54.92233, -58.38500,   527,  153.5, 5.0683,34.1101,34.1111,2
74JC20031201,SR1b,31,1,10,10,2,20031215,1501, -54.92233, -58.38500,   527,   52.6, 6.0259,34.0669,34.0678,2
74JC20031201,SR1b,31,1,11,11,2,20031215,1501, -54.92233, -58.38500,   527,   27.1, 5.9745,33.9819,33.9951,2
74JC20031201,SR1b,31,1,12,12,2,20031215,1501, -54.92233, -58.38500,   527,    7.0, 6.7312,33.8776,33.8919,2
74JC20031201,SR1b,32,1,1,1,2,20031215,1704, -54.66567, -58.54467,   379,  369.0, 5.1013,34.1061,34.1056,2
74JC20031201,SR1b,32,1,2,2,2,20031215,1704, -54.66567, -58.54467,   379,  369.1, 5.1002,34.1062,-999.0000,9
74JC20031201,SR1b,32,1,3,3,2,20031215,1704, -54.66567, -58.54467,   379,  369.0, 5.1006,34.1062,-999.0000,9
74JC20031201,SR1b,32,1,4,4,2,20031215,1704, -54.66567, -58.54467,   379,  369.0, 5.1007,34.1063,34.1058,2
74JC20031201,SR1b,32,1,5,5,2,20031215,1704, -54.66567, -58.54467,   379,  369.0, 5.1008,34.1063,34.1048,2
74JC20031201,SR1b,32,1,6,6,2,20031215,1704, -54.66567, -58.54467,   379,  369.0, 5.1004,34.1063,34.1048,2
74JC20031201,SR1b,32,1,7,7,2,20031215,1704, -54.66567, -58.54467,   379,  369.0, 5.1004,34.1064,34.1058,2
74JC20031201,SR1b,32,1,8,8,2,20031215,1704, -54.66567, -58.54467,   379,  253.5, 5.3456,34.0861,34.0862,2
74JC20031201,SR1b,32,1,9,9,2,20031215,1704, -54.66567, -58.54467,   379,  152.3, 5.5344,34.0692,34.0684,2
74JC20031201,SR1b,32,1,10,10,2,20031215,1704, -54.66567, -58.54467,   379,   51.3, 5.9371,34.0622,34.0613,2
74JC20031201,SR1b,32,1,11,11,2,20031215,1704, -54.66567, -58.54467,   379,   26.8, 6.3195,34.0588,34.0586,2
74JC20031201,SR1b,32,1,12,12,2,20031215,1704, -54.66567, -58.54467,   379,    6.2, 6.4637,34.0557,34.0556,2