BOTTLE,20221013CCHSIOENA
# date/time for station 1 corrected according to cruise report
# BOTTLE,20170705OCPNOCYLF
#SHIP: James Clark Ross
#Cruise JR94; SR1b
#Region: Drake Passage
#EXPOCODE: 74JC20031201
#DATES: 20031201 - 20031215
#Chief Scientist: B. King, SOC
#Supported by NERC National Capability
#32 stations with 24-place rosette
#CTD: Who - B. King; Status - final
#Notes: CTD PRS; TMP; SAL are calibrated and good
#s: Who - Salinity; Status - final
#s: Who -  ; Status - final
#These data should be acknowledged with: "Data were collected and made publicly available by WOCE/CLIVAR with National Capability funding from the UK Natural Environment Research Council to the National Oceanography Centre Southampton."
EXPOCODE,SECT_ID,STNNBR,CASTNO,SAMPNO,BTLNBR,BTLNBR_FLAG_W,DATE,TIME,LATITUDE,LONGITUDE,DEPTH,CTDPRS,CTDTMP,CTDSAL,SALNTY,SALNTY_FLAG_W
 , , , , , , , , , , , , DBAR,ITS-90,PSS-78,PSS-78, 
74JC20031201,SR1b,1,1,1,1,2,20031201,1350, -59.02500, -61.16650,  3618, 3720.9, 0.5185,34.6997,34.6995,2
74JC20031201,SR1b,1,1,2,2,2,20031201,1350, -59.02500, -61.16650,  3618, 3371.0, 0.5355,34.7032,-999.0000,9
74JC20031201,SR1b,1,1,3,3,2,20031201,1350, -59.02500, -61.16650,  3618, 3371.1, 0.5357,34.7032,-999.0000,9
74JC20031201,SR1b,1,1,4,4,2,20031201,1350, -59.02500, -61.16650,  3618, 3371.2, 0.5356,34.7031,34.7022,2
74JC20031201,SR1b,1,1,5,5,2,20031201,1350, -59.02500, -61.16650,  3618, 2035.4, 1.1437,34.7224,34.7211,2
74JC20031201,SR1b,1,1,6,6,2,20031201,1350, -59.02500, -61.16650,  3618, 1524.1, 1.4505,34.7294,34.7286,2
74JC20031201,SR1b,1,1,7,7,2,20031201,1350, -59.02500, -61.16650,  3618, 1015.1, 1.8485,34.7207,34.7203,2
74JC20031201,SR1b,1,1,8,8,2,20031201,1350, -59.02500, -61.16650,  3618,  709.9, 2.0475,34.6865,34.6850,2
74JC20031201,SR1b,1,1,9,9,2,20031201,1350, -59.02500, -61.16650,  3618,  304.5, 1.9273,34.4840,34.4848,2
74JC20031201,SR1b,1,1,10,10,2,20031201,1350, -59.02500, -61.16650,  3618,  153.8,-0.5781,34.0025,34.0282,2
74JC20031201,SR1b,1,1,11,11,2,20031201,1350, -59.02500, -61.16650,  3618,   52.7,-0.0081,33.7883,33.7691,2
74JC20031201,SR1b,1,1,12,12,2,20031201,1350, -59.02500, -61.16650,  3618,   13.1, 0.7587,33.7692,33.7680,2
74JC20031201,SR1b,2,1,1,1,2,20031206,1754, -67.58867, -68.14717,   339,  326.0, 1.1226,34.6126,-999.0000,9
74JC20031201,SR1b,2,1,2,2,2,20031206,1754, -67.58867, -68.14717,   339,  326.0, 1.1212,34.6127,-999.0000,9
74JC20031201,SR1b,2,1,3,3,2,20031206,1754, -67.58867, -68.14717,   339,  326.0, 1.1216,34.6124,-999.0000,9
74JC20031201,SR1b,2,1,4,4,2,20031206,1754, -67.58867, -68.14717,   339,  326.0, 1.1219,34.6121,33.7157,2
74JC20031201,SR1b,2,1,5,5,2,20031206,1754, -67.58867, -68.14717,   339,  305.4, 1.0914,34.6022,34.6064,2
74JC20031201,SR1b,2,1,6,6,2,20031206,1754, -67.58867, -68.14717,   339,  234.3, 1.0238,34.5809,34.5832,2
74JC20031201,SR1b,2,1,7,7,2,20031206,1754, -67.58867, -68.14717,   339,  153.1, 0.0075,34.2826,34.3413,2
74JC20031201,SR1b,2,1,8,8,2,20031206,1754, -67.58867, -68.14717,   339,  102.7,-1.3996,33.9220,33.9494,2
74JC20031201,SR1b,2,1,9,9,2,20031206,1754, -67.58867, -68.14717,   339,   82.7,-1.4797,33.8781,33.8850,2
74JC20031201,SR1b,2,1,10,10,2,20031206,1754, -67.58867, -68.14717,   339,   52.4,-1.0489,33.8211,33.8308,2
74JC20031201,SR1b,2,1,11,11,2,20031206,1754, -67.58867, -68.14717,   339,   27.1,-0.7447,33.7970,33.8138,2
74JC20031201,SR1b,2,1,12,12,2,20031206,1754, -67.58867, -68.14717,   339,   12.1,-0.7112,33.7643,33.7815,2
74JC20031201,SR1b,3,1,1,1,2,20031211,1607, -60.92850, -55.17467,   370,  370.3,-0.5059,34.4204,34.4212,2
74JC20031201,SR1b,3,1,2,2,2,20031211,1607, -60.92850, -55.17467,   370,  253.6,-0.4585,34.3455,-999.0000,9
74JC20031201,SR1b,3,1,3,3,2,20031211,1607, -60.92850, -55.17467,   370,  253.7,-0.4586,34.3458,-999.0000,9
74JC20031201,SR1b,3,1,4,4,2,20031211,1607, -60.92850, -55.17467,   370,  253.6,-0.4585,34.3453,34.3448,2
74JC20031201,SR1b,3,1,5,5,2,20031211,1607, -60.92850, -55.17467,   370,  253.6,-0.4586,34.3428,34.3443,2
74JC20031201,SR1b,3,1,6,6,2,20031211,1607, -60.92850, -55.17467,   370,  253.7,-0.4589,34.3409,34.3447,2
74JC20031201,SR1b,3,1,7,7,2,20031211,1607, -60.92850, -55.17467,   370,  253.7,-0.4593,34.3418,-999.0000,9
74JC20031201,SR1b,3,1,8,8,2,20031211,1607, -60.92850, -55.17467,   370,  253.6,-0.4594,34.3451,-999.0000,9
74JC20031201,SR1b,3,1,9,9,2,20031211,1607, -60.92850, -55.17467,   370,  152.6,-0.4577,34.3379,34.3499,2
74JC20031201,SR1b,3,1,10,10,2,20031211,1607, -60.92850, -55.17467,   370,   51.5,-0.4032,34.2839,34.2862,2
74JC20031201,SR1b,3,1,11,11,2,20031211,1607, -60.92850, -55.17467,   370,   26.1,-0.4007,34.2801,34.2803,2
74JC20031201,SR1b,3,1,12,12,2,20031211,1607, -60.92850, -55.17467,   370,    6.5,-0.3914,34.2617,34.2681,2
74JC20031201,SR1b,4,1,1,1,2,20031211,1731, -60.88250, -54.93617,   779,  780.6, 0.3973,34.6628,34.6627,2
74JC20031201,SR1b,4,1,2,2,2,20031211,1731, -60.88250, -54.93617,   779,  780.6, 0.3974,34.6629,-999.0000,9
74JC20031201,SR1b,4,1,3,3,2,20031211,1731, -60.88250, -54.93617,   779,  780.5, 0.3970,34.6629,-999.0000,9
74JC20031201,SR1b,4,1,4,4,2,20031211,1731, -60.88250, -54.93617,   779,  508.0,-0.6439,34.5165,34.5170,2
74JC20031201,SR1b,4,1,5,5,2,20031211,1731, -60.88250, -54.93617,   779,  507.9,-0.6438,34.5166,34.5172,2
74JC20031201,SR1b,4,1,6,6,2,20031211,1731, -60.88250, -54.93617,   779,  508.1,-0.6441,34.5166,34.5172,2
74JC20031201,SR1b,4,1,7,7,2,20031211,1731, -60.88250, -54.93617,   779,  508.0,-0.6440,34.5167,34.5170,2
74JC20031201,SR1b,4,1,8,8,2,20031211,1731, -60.88250, -54.93617,   779,  254.6,-0.6486,34.3427,34.3441,2
74JC20031201,SR1b,4,1,9,9,2,20031211,1731, -60.88250, -54.93617,   779,  153.7,-0.5308,34.3264,34.3268,2
74JC20031201,SR1b,4,1,10,10,2,20031211,1731, -60.88250, -54.93617,   779,   52.7,-0.4143,34.2802,34.2872,2
74JC20031201,SR1b,4,1,11,11,2,20031211,1731, -60.88250, -54.93617,   779,   27.7,-0.4117,34.2575,34.2664,2
74JC20031201,SR1b,4,1,12,12,2,20031211,1731, -60.88250, -54.93617,   779,    7.3,-0.3740,34.2124,34.2272,2
74JC20031201,SR1b,5,1,1,1,2,20031211,1907, -60.85000, -54.70783,   954,  957.6, 0.2514,34.6498,34.6512,2
74JC20031201,SR1b,5,1,2,2,2,20031211,1907, -60.85000, -54.70783,   954,  957.5, 0.2514,34.6499,-999.0000,9
74JC20031201,SR1b,5,1,3,3,2,20031211,1907, -60.85000, -54.70783,   954,  957.4, 0.2513,34.6498,-999.0000,9
74JC20031201,SR1b,5,1,4,4,2,20031211,1907, -60.85000, -54.70783,   954,  507.5,-0.1877,34.5728,34.5751,2
74JC20031201,SR1b,5,1,5,5,2,20031211,1907, -60.85000, -54.70783,   954,  507.5,-0.1870,34.5731,34.5739,2
74JC20031201,SR1b,5,1,6,6,2,20031211,1907, -60.85000, -54.70783,   954,  507.4,-0.1868,34.5731,34.5741,2
74JC20031201,SR1b,5,1,7,7,2,20031211,1907, -60.85000, -54.70783,   954,  507.5,-0.1871,34.5729,34.5755,2
74JC20031201,SR1b,5,1,8,8,2,20031211,1907, -60.85000, -54.70783,   954,  254.8,-0.5775,34.4430,34.4438,2
74JC20031201,SR1b,5,1,9,9,2,20031211,1907, -60.85000, -54.70783,   954,  153.7,-0.5252,34.3977,34.4023,2
74JC20031201,SR1b,5,1,10,10,2,20031211,1907, -60.85000, -54.70783,   954,   52.7,-0.5176,34.2637,34.2676,2
74JC20031201,SR1b,5,1,11,11,2,20031211,1907, -60.85000, -54.70783,   954,   27.7,-0.5271,34.2334,34.2438,2
74JC20031201,SR1b,5,1,12,12,2,20031211,1907, -60.85000, -54.70783,   954,    7.7,-0.5615,34.2027,34.2124,2
74JC20031201,SR1b,6,1,1,1,2,20031211,2048, -60.83317, -54.71100,  1651, 1674.9, 0.1968,34.6732,34.6741,2
74JC20031201,SR1b,6,1,2,2,2,20031211,2048, -60.83317, -54.71100,  1651, 1674.8, 0.1970,34.6732,-999.0000,9
74JC20031201,SR1b,6,1,3,3,2,20031211,2048, -60.83317, -54.71100,  1651, 1674.8, 0.1976,34.6731,-999.0000,9
74JC20031201,SR1b,6,1,4,4,2,20031211,2048, -60.83317, -54.71100,  1651, 1017.5, 0.3146,34.6539,34.6557,2
74JC20031201,SR1b,6,1,5,5,2,20031211,2048, -60.83317, -54.71100,  1651, 1017.4, 0.3146,34.6539,34.6553,2
74JC20031201,SR1b,6,1,6,6,2,20031211,2048, -60.83317, -54.71100,  1651, 1017.3, 0.3146,34.6539,34.6551,2
74JC20031201,SR1b,6,1,7,7,2,20031211,2048, -60.83317, -54.71100,  1651,  509.1, 0.8106,34.6472,34.6486,2
74JC20031201,SR1b,6,1,8,8,2,20031211,2048, -60.83317, -54.71100,  1651,  256.0,-0.4427,34.4611,34.4691,2
74JC20031201,SR1b,6,1,9,9,2,20031211,2048, -60.83317, -54.71100,  1651,  154.7,-0.5009,34.3628,34.3656,2
74JC20031201,SR1b,6,1,10,10,2,20031211,2048, -60.83317, -54.71100,  1651,   53.8,-0.4688,34.2757,34.2766,2
74JC20031201,SR1b,6,1,11,11,2,20031211,2048, -60.83317, -54.71100,  1651,   28.3,-0.4969,34.2554,34.2615,2
74JC20031201,SR1b,6,1,12,12,2,20031211,2048, -60.83317, -54.71100,  1651,    8.5,-0.5808,34.2117,34.2266,2
74JC20031201,SR1b,7,1,1,1,2,20031211,2312, -60.80283, -54.74483,  2592, 2641.2, 0.0171,34.6661,34.6661,2
74JC20031201,SR1b,7,1,2,2,2,20031211,2312, -60.80283, -54.74483,  2592, 2641.3, 0.0167,34.6659,-999.0000,9
74JC20031201,SR1b,7,1,3,3,2,20031211,2312, -60.80283, -54.74483,  2592, 2641.3, 0.0166,34.6660,-999.0000,9
74JC20031201,SR1b,7,1,4,4,2,20031211,2312, -60.80283, -54.74483,  2592, 2037.3, 0.1920,34.6793,34.6779,2
74JC20031201,SR1b,7,1,5,5,2,20031211,2312, -60.80283, -54.74483,  2592, 1017.4, 0.5581,34.6719,34.6718,2
74JC20031201,SR1b,7,1,6,6,2,20031211,2312, -60.80283, -54.74483,  2592,  508.9, 0.8480,34.6408,34.6398,2
74JC20031201,SR1b,7,1,7,7,2,20031211,2312, -60.80283, -54.74483,  2592,  255.8,-0.2302,34.4532,34.4536,2
74JC20031201,SR1b,7,1,8,8,2,20031211,2312, -60.80283, -54.74483,  2592,  154.3,-0.4341,34.3518,34.3525,2
74JC20031201,SR1b,7,1,9,9,2,20031211,2312, -60.80283, -54.74483,  2592,   53.4,-0.5044,34.2445,34.2634,2
74JC20031201,SR1b,7,1,10,10,2,20031211,2312, -60.80283, -54.74483,  2592,   28.0,-0.4888,34.1823,34.1824,2
74JC20031201,SR1b,7,1,11,11,2,20031211,2312, -60.80283, -54.74483,  2592,    7.9,-0.4499,34.1206,34.1407,2
74JC20031201,SR1b,7,1,12,12,2,20031211,2312, -60.80283, -54.74483,  2592,    7.9,-0.4491,34.1232,-999.0000,9
74JC20031201,SR1b,8,1,1,1,2,20031212,0208, -60.66267, -54.81200,  3033, 3118.0, 0.0047,34.6637,34.6629,2
74JC20031201,SR1b,8,1,2,2,2,20031212,0208, -60.66267, -54.81200,  3033, 3117.6, 0.0048,34.6637,-999.0000,9
74JC20031201,SR1b,8,1,3,3,2,20031212,0208, -60.66267, -54.81200,  3033, 3117.6, 0.0048,34.6636,-999.0000,9
74JC20031201,SR1b,8,1,4,4,2,20031212,0208, -60.66267, -54.81200,  3033, 2843.8, 0.0072,34.6649,34.7013,2
74JC20031201,SR1b,8,1,5,5,2,20031212,0208, -60.66267, -54.81200,  3033, 2026.3, 0.2227,34.6808,34.6794,2
74JC20031201,SR1b,8,1,6,6,2,20031212,0208, -60.66267, -54.81200,  3033, 1010.0, 0.8155,34.7009,34.6995,2
74JC20031201,SR1b,8,1,7,7,2,20031212,0208, -60.66267, -54.81200,  3033,  509.1, 0.6339,34.6037,34.6016,2
74JC20031201,SR1b,8,1,8,8,2,20031212,0208, -60.66267, -54.81200,  3033,  256.5,-0.5804,34.3814,34.3811,2
74JC20031201,SR1b,8,1,9,9,2,20031212,0208, -60.66267, -54.81200,  3033,  155.7,-0.5742,34.3220,34.3262,2
74JC20031201,SR1b,8,1,10,10,2,20031212,0208, -60.66267, -54.81200,  3033,   54.1,-0.4311,34.2403,34.2434,2
74JC20031201,SR1b,8,1,11,11,2,20031212,0208, -60.66267, -54.81200,  3033,   28.6,-0.2730,34.1760,34.1907,2
74JC20031201,SR1b,8,1,12,12,2,20031212,0208, -60.66267, -54.81200,  3033,    9.1,-0.1938,34.1083,34.1095,2
74JC20031201,SR1b,9,1,1,1,2,20031212,0605, -60.33383, -55.03567,  3385, 3488.2,-0.0123,34.6619,34.6612,2
74JC20031201,SR1b,9,1,2,2,2,20031212,0605, -60.33383, -55.03567,  3385, 3488.1,-0.0124,34.6619,-999.0000,9
74JC20031201,SR1b,9,1,3,3,2,20031212,0605, -60.33383, -55.03567,  3385, 3488.1,-0.0124,34.6618,-999.0000,9
74JC20031201,SR1b,9,1,4,4,2,20031212,0605, -60.33383, -55.03567,  3385, 3057.9, 0.1652,34.6710,34.6692,2
74JC20031201,SR1b,9,1,5,5,2,20031212,0605, -60.33383, -55.03567,  3385, 2035.4, 0.6400,34.7008,34.6993,2
74JC20031201,SR1b,9,1,6,6,2,20031212,0605, -60.33383, -55.03567,  3385, 1016.1, 1.5149,34.7289,34.7284,2
74JC20031201,SR1b,9,1,7,7,2,20031212,0605, -60.33383, -55.03567,  3385,  509.4, 1.9638,34.6989,34.6987,2
74JC20031201,SR1b,9,1,8,8,2,20031212,0605, -60.33383, -55.03567,  3385,  256.0, 2.0235,34.6090,34.6083,2
74JC20031201,SR1b,9,1,9,9,2,20031212,0605, -60.33383, -55.03567,  3385,  155.2, 1.6655,34.4418,34.4459,2
74JC20031201,SR1b,9,1,10,10,2,20031212,0605, -60.33383, -55.03567,  3385,   53.7,-0.4421,33.9784,33.9957,2
74JC20031201,SR1b,9,1,11,11,2,20031212,0605, -60.33383, -55.03567,  3385,   28.9,-0.0561,33.9125,33.9371,2
74JC20031201,SR1b,9,1,12,12,2,20031212,0605, -60.33383, -55.03567,  3385,    9.1,-0.0931,33.8665,33.8848,2
74JC20031201,SR1b,10,1,1,1,2,20031212,1015, -59.99767, -55.24467,  3444, 3547.4,-0.0863,34.6591,34.6574,2
74JC20031201,SR1b,10,1,2,2,2,20031212,1015, -59.99767, -55.24467,  3444, 3547.4,-0.0863,34.6592,-999.0000,9
74JC20031201,SR1b,10,1,3,3,2,20031212,1015, -59.99767, -55.24467,  3444, 3547.4,-0.0861,34.6591,-999.0000,9
74JC20031201,SR1b,10,1,4,4,2,20031212,1015, -59.99767, -55.24467,  3444, 3061.9, 0.0593,34.6662,34.6661,2
74JC20031201,SR1b,10,1,5,5,2,20031212,1015, -59.99767, -55.24467,  3444, 2035.3, 0.5089,34.6973,34.6967,2
74JC20031201,SR1b,10,1,6,6,2,20031212,1015, -59.99767, -55.24467,  3444, 1016.1, 1.2554,34.7169,34.7162,2
74JC20031201,SR1b,10,1,7,7,2,20031212,1015, -59.99767, -55.24467,  3444,  511.3, 1.8828,34.6989,34.6960,2
74JC20031201,SR1b,10,1,8,8,2,20031212,1015, -59.99767, -55.24467,  3444,  257.4, 1.4053,34.5342,34.5347,2
74JC20031201,SR1b,10,1,9,9,2,20031212,1015, -59.99767, -55.24467,  3444,  156.9, 1.1471,34.4090,34.4098,2
74JC20031201,SR1b,10,1,10,10,2,20031212,1015, -59.99767, -55.24467,  3444,   55.2,-0.1027,34.0421,34.0576,2
74JC20031201,SR1b,10,1,11,11,2,20031212,1015, -59.99767, -55.24467,  3444,   30.5, 0.1235,33.9735,33.9810,2
74JC20031201,SR1b,10,1,12,12,2,20031212,1015, -59.99767, -55.24467,  3444,   10.8, 0.1831,33.9625,33.9651,2
74JC20031201,SR1b,11,1,1,1,2,20031212,1428, -59.65833, -55.42817,  3617, 3729.5,-0.0381,34.6601,34.6596,2
74JC20031201,SR1b,11,1,2,2,2,20031212,1428, -59.65833, -55.42817,  3617, 3729.4,-0.0380,34.6601,-999.0000,9
74JC20031201,SR1b,11,1,3,3,2,20031212,1428, -59.65833, -55.42817,  3617, 3729.4,-0.0380,34.6601,-999.0000,9
74JC20031201,SR1b,11,1,4,4,2,20031212,1428, -59.65833, -55.42817,  3617, 3064.7, 0.0775,34.6674,34.6677,2
74JC20031201,SR1b,11,1,5,5,2,20031212,1428, -59.65833, -55.42817,  3617, 2038.5, 0.3775,34.6863,34.6867,2
74JC20031201,SR1b,11,1,6,6,2,20031212,1428, -59.65833, -55.42817,  3617, 1018.3, 0.2638,34.6253,34.6252,2
74JC20031201,SR1b,11,1,7,7,2,20031212,1428, -59.65833, -55.42817,  3617,  510.1,-0.1592,34.4790,34.4789,2
74JC20031201,SR1b,11,1,8,8,2,20031212,1428, -59.65833, -55.42817,  3617,  256.9,-0.3107,34.3742,34.3759,2
74JC20031201,SR1b,11,1,9,9,2,20031212,1428, -59.65833, -55.42817,  3617,  156.3,-0.2780,34.3118,34.3138,2
74JC20031201,SR1b,11,1,10,10,2,20031212,1428, -59.65833, -55.42817,  3617,   55.3,-0.0399,34.1760,34.1889,2
74JC20031201,SR1b,11,1,11,11,2,20031212,1428, -59.65833, -55.42817,  3617,   29.9, 0.2280,34.0847,34.0962,2
74JC20031201,SR1b,11,1,12,12,2,20031212,1428, -59.65833, -55.42817,  3617,    9.9, 0.3103,34.0703,34.0729,2
74JC20031201,SR1b,12,1,1,1,2,20031212,1843, -59.33350, -55.64950,  3694, 3810.1,-0.0417,34.6599,34.6594,2
74JC20031201,SR1b,12,1,2,2,2,20031212,1843, -59.33350, -55.64950,  3694, 3810.5,-0.0416,34.6600,-999.0000,9
74JC20031201,SR1b,12,1,3,3,2,20031212,1843, -59.33350, -55.64950,  3694, 3810.4,-0.0418,34.6599,-999.0000,9
74JC20031201,SR1b,12,1,4,4,2,20031212,1843, -59.33350, -55.64950,  3694, 3043.9, 0.2299,34.6765,34.6755,2
74JC20031201,SR1b,12,1,5,5,2,20031212,1843, -59.33350, -55.64950,  3694, 2019.9, 0.6554,34.6946,34.6936,2
74JC20031201,SR1b,12,1,6,6,2,20031212,1843, -59.33350, -55.64950,  3694, 1004.8, 1.2612,34.6994,34.6993,2
74JC20031201,SR1b,12,1,7,7,2,20031212,1843, -59.33350, -55.64950,  3694,  503.8, 1.4771,34.6110,34.6103,2
74JC20031201,SR1b,12,1,8,8,2,20031212,1843, -59.33350, -55.64950,  3694,  255.3, 1.5156,34.5276,34.5223,2
74JC20031201,SR1b,12,1,9,9,2,20031212,1843, -59.33350, -55.64950,  3694,  155.6, 0.0008,34.2669,34.2664,2
74JC20031201,SR1b,12,1,10,10,2,20031212,1843, -59.33350, -55.64950,  3694,   55.3,-0.2467,33.9659,33.9688,2
74JC20031201,SR1b,12,1,11,11,2,20031212,1843, -59.33350, -55.64950,  3694,   30.6, 0.5852,33.8997,33.9071,2
74JC20031201,SR1b,12,1,12,12,2,20031212,1843, -59.33350, -55.64950,  3694,   10.2, 0.6549,33.8962,33.8852,2
74JC20031201,SR1b,13,1,1,1,2,20031212,2306, -59.00100, -55.85550,  3709, 3828.0,-0.0173,34.6606,34.6594,2
74JC20031201,SR1b,13,1,2,2,2,20031212,2306, -59.00100, -55.85550,  3709, 3828.0,-0.0174,34.6606,-999.0000,9
74JC20031201,SR1b,13,1,3,3,2,20031212,2306, -59.00100, -55.85550,  3709, 3828.2,-0.0178,34.6606,-999.0000,9
74JC20031201,SR1b,13,1,4,4,2,20031212,2306, -59.00100, -55.85550,  3709, 3064.6, 0.2040,34.6710,34.6706,2
74JC20031201,SR1b,13,1,5,5,2,20031212,2306, -59.00100, -55.85550,  3709, 2038.7, 0.9184,34.7124,34.7121,2
74JC20031201,SR1b,13,1,6,6,2,20031212,2306, -59.00100, -55.85550,  3709, 1018.7, 1.7453,34.7193,34.7186,2
74JC20031201,SR1b,13,1,7,7,2,20031212,2306, -59.00100, -55.85550,  3709,  510.6, 2.1500,34.6480,34.6478,2
74JC20031201,SR1b,13,1,8,8,2,20031212,2306, -59.00100, -55.85550,  3709,  257.1, 2.0654,34.4680,34.4707,2
74JC20031201,SR1b,13,1,9,9,2,20031212,2306, -59.00100, -55.85550,  3709,  156.5, 1.5578,34.3037,34.3156,2
74JC20031201,SR1b,13,1,10,10,2,20031212,2306, -59.00100, -55.85550,  3709,   55.2,-0.5304,33.8250,33.8410,2
74JC20031201,SR1b,13,1,11,11,2,20031212,2306, -59.00100, -55.85550,  3709,   29.7,-0.2510,33.7861,33.7887,2
74JC20031201,SR1b,13,1,12,12,2,20031212,2306, -59.00100, -55.85550,  3709,   10.2, 0.5968,33.7689,33.7693,2
74JC20031201,SR1b,14,1,1,1,2,20031213,0317, -58.68483, -56.05867,  3687, 3804.0, 0.0040,34.6614,34.6614,2
74JC20031201,SR1b,14,1,2,2,2,20031213,0317, -58.68483, -56.05867,  3687, 3804.0, 0.0040,34.6614,-999.0000,9
74JC20031201,SR1b,14,1,3,3,2,20031213,0317, -58.68483, -56.05867,  3687, 3804.1, 0.0040,34.6614,-999.0000,9
74JC20031201,SR1b,14,1,4,4,2,20031213,0317, -58.68483, -56.05867,  3687, 3064.1, 0.3284,34.6803,34.6800,2
74JC20031201,SR1b,14,1,5,5,2,20031213,0317, -58.68483, -56.05867,  3687, 2038.1, 0.9673,34.7147,34.7144,2
74JC20031201,SR1b,14,1,6,6,2,20031213,0317, -58.68483, -56.05867,  3687, 1018.3, 1.7604,34.7168,34.7170,2
74JC20031201,SR1b,14,1,7,7,2,20031213,0317, -58.68483, -56.05867,  3687,  509.5, 2.1340,34.6608,34.6602,2
74JC20031201,SR1b,14,1,8,8,2,20031213,0317, -58.68483, -56.05867,  3687,  255.9, 1.5976,34.4266,34.4290,2
74JC20031201,SR1b,14,1,9,9,2,20031213,0317, -58.68483, -56.05867,  3687,  155.4, 0.0668,34.1278,34.1528,2
74JC20031201,SR1b,14,1,10,10,2,20031213,0317, -58.68483, -56.05867,  3687,   54.2, 0.5359,33.8222,33.8304,2
74JC20031201,SR1b,14,1,11,11,2,20031213,0317, -58.68483, -56.05867,  3687,   28.9, 1.4852,33.7684,33.7952,2
74JC20031201,SR1b,14,1,12,12,2,20031213,0317, -58.68483, -56.05867,  3687,    9.0, 1.7273,33.7608,33.7676,2