BOTTLE,20221013CCHSIOENA
EXPOCODE,SECT_ID,STNNBR,CASTNO,SAMPNO,BTLNBR,BTLNBR_FLAG_W,DATE,TIME,LATITUDE,LONGITUDE,DEPTH,CTDPRS,CTDTMP,CTDSAL,SALNTY,SALNTY_FLAG_W
 , , , , , , , , , , , , DBAR,ITS-90,PSS-78,PSS-78, 
74JC20031201,SR1b,15,1,1,1,2,20031213,0721, -58.36800, -56.26167,  3797, 3921.0, 0.0064,34.6612,34.6606,2
74JC20031201,SR1b,15,1,2,2,2,20031213,0721, -58.36800, -56.26167,  3797, 3921.3, 0.0063,34.6612,-999.0000,9
74JC20031201,SR1b,15,1,3,3,2,20031213,0721, -58.36800, -56.26167,  3797, 3921.5, 0.0064,34.6612,-999.0000,9
74JC20031201,SR1b,15,1,4,4,2,20031213,0721, -58.36800, -56.26167,  3797, 3063.5, 0.3610,34.6845,34.6842,2
74JC20031201,SR1b,15,1,5,5,2,20031213,0721, -58.36800, -56.26167,  3797, 2037.5, 0.9188,34.7100,34.7089,2
74JC20031201,SR1b,15,1,6,6,2,20031213,0721, -58.36800, -56.26167,  3797, 1017.0, 1.7078,34.7178,34.7178,2
74JC20031201,SR1b,15,1,7,7,2,20031213,0721, -58.36800, -56.26167,  3797,  511.1, 1.9889,34.6484,34.6470,2
74JC20031201,SR1b,15,1,8,8,2,20031213,0721, -58.36800, -56.26167,  3797,  257.0, 1.9955,34.5142,34.5201,2
74JC20031201,SR1b,15,1,9,9,2,20031213,0721, -58.36800, -56.26167,  3797,  156.3, 1.0384,34.3068,34.3217,2
74JC20031201,SR1b,15,1,10,10,2,20031213,0721, -58.36800, -56.26167,  3797,   55.7,-0.3660,33.8926,33.9075,2
74JC20031201,SR1b,15,1,11,11,2,20031213,0721, -58.36800, -56.26167,  3797,   30.7, 0.6120,33.8111,33.8316,2
74JC20031201,SR1b,15,1,12,12,2,20031213,0721, -58.36800, -56.26167,  3797,   10.4, 1.3714,33.7870,33.7958,2
74JC20031201,SR1b,16,1,1,1,2,20031213,1131, -58.04417, -56.43383,  3909, 4039.9,-0.0137,34.6600,34.6594,2
74JC20031201,SR1b,16,1,2,2,2,20031213,1131, -58.04417, -56.43383,  3909, 4039.9,-0.0137,34.6600,-999.0000,9
74JC20031201,SR1b,16,1,3,3,2,20031213,1131, -58.04417, -56.43383,  3909, 4039.8,-0.0138,34.6600,-999.0000,9
74JC20031201,SR1b,16,1,4,4,2,20031213,1131, -58.04417, -56.43383,  3909, 3062.8, 0.3617,34.6818,34.6816,2
74JC20031201,SR1b,16,1,5,5,2,20031213,1131, -58.04417, -56.43383,  3909, 2036.2, 0.8598,34.7000,34.6999,2
74JC20031201,SR1b,16,1,6,6,2,20031213,1131, -58.04417, -56.43383,  3909, 1016.7, 1.6431,34.7176,34.7176,2
74JC20031201,SR1b,16,1,7,7,2,20031213,1131, -58.04417, -56.43383,  3909,  507.5, 2.0220,34.6495,34.6492,2
74JC20031201,SR1b,16,1,8,8,2,20031213,1131, -58.04417, -56.43383,  3909,  255.8, 1.7327,34.4931,34.5017,2
74JC20031201,SR1b,16,1,9,9,2,20031213,1131, -58.04417, -56.43383,  3909,  156.0, 0.4637,34.2328,34.2346,2
74JC20031201,SR1b,16,1,10,10,2,20031213,1131, -58.04417, -56.43383,  3909,   55.7, 0.2812,33.8534,33.8570,2
74JC20031201,SR1b,16,1,11,11,2,20031213,1131, -58.04417, -56.43383,  3909,   31.4, 0.7216,33.8230,33.8308,2
74JC20031201,SR1b,16,1,12,12,2,20031213,1131, -58.04417, -56.43383,  3909,   11.2, 1.2618,33.8080,33.8120,2
74JC20031201,SR1b,17,1,1,1,2,20031213,1547, -57.73450, -56.62650,  3455, 3540.5, 0.6599,34.6984,34.6983,2
74JC20031201,SR1b,17,1,2,2,2,20031213,1547, -57.73450, -56.62650,  3455, 3541.1, 0.6601,34.6984,-999.0000,9
74JC20031201,SR1b,17,1,3,3,2,20031213,1547, -57.73450, -56.62650,  3455, 3540.9, 0.6601,34.6984,-999.0000,9
74JC20031201,SR1b,17,1,4,4,2,20031213,1547, -57.73450, -56.62650,  3455, 3059.6, 0.8727,34.7099,34.7089,2
74JC20031201,SR1b,17,1,5,5,2,20031213,1547, -57.73450, -56.62650,  3455, 2038.3, 1.3607,34.7238,34.7237,2
74JC20031201,SR1b,17,1,6,6,2,20031213,1547, -57.73450, -56.62650,  3455, 1019.3, 2.1663,34.6677,34.6677,2
74JC20031201,SR1b,17,1,7,7,2,20031213,1547, -57.73450, -56.62650,  3455,  510.5, 2.2690,34.4451,34.4459,2
74JC20031201,SR1b,17,1,8,8,2,20031213,1547, -57.73450, -56.62650,  3455,  257.2, 2.0299,34.2063,34.2042,2
74JC20031201,SR1b,17,1,9,9,2,20031213,1547, -57.73450, -56.62650,  3455,  156.4, 0.9054,33.9548,33.9714,2
74JC20031201,SR1b,17,1,10,10,2,20031213,1547, -57.73450, -56.62650,  3455,   56.4, 1.6069,33.8429,33.8492,2
74JC20031201,SR1b,17,1,11,11,2,20031213,1547, -57.73450, -56.62650,  3455,   30.9, 2.6409,33.8381,33.8376,2
74JC20031201,SR1b,17,1,12,12,2,20031213,1547, -57.73450, -56.62650,  3455,   11.2, 2.6890,33.8389,33.8398,2
74JC20031201,SR1b,18,1,1,1,2,20031213,2010, -57.42283, -56.80983,  3773, 3893.1, 0.4973,34.6858,34.6859,2
74JC20031201,SR1b,18,1,2,2,2,20031213,2010, -57.42283, -56.80983,  3773, 3893.2, 0.4969,34.6858,-999.0000,9
74JC20031201,SR1b,18,1,3,3,2,20031213,2010, -57.42283, -56.80983,  3773, 3893.2, 0.4975,34.6858,-999.0000,9
74JC20031201,SR1b,18,1,4,4,2,20031213,2010, -57.42283, -56.80983,  3773, 3052.7, 0.9125,34.7103,34.7091,2
74JC20031201,SR1b,18,1,5,5,2,20031213,2010, -57.42283, -56.80983,  3773, 2028.2, 1.8188,34.7129,34.7131,2
74JC20031201,SR1b,18,1,6,6,2,20031213,2010, -57.42283, -56.80983,  3773, 1017.3, 2.3933,34.5717,34.5712,2
74JC20031201,SR1b,18,1,7,7,2,20031213,2010, -57.42283, -56.80983,  3773,  510.1, 2.9809,34.3071,34.3068,2
74JC20031201,SR1b,18,1,8,8,2,20031213,2010, -57.42283, -56.80983,  3773,  256.7, 3.2641,34.1222,34.1219,2
74JC20031201,SR1b,18,1,9,9,2,20031213,2010, -57.42283, -56.80983,  3773,  154.8, 3.5153,34.0658,34.0674,2
74JC20031201,SR1b,18,1,10,10,2,20031213,2010, -57.42283, -56.80983,  3773,   54.2, 4.5073,34.0416,34.0570,2
74JC20031201,SR1b,18,1,11,11,2,20031213,2010, -57.42283, -56.80983,  3773,   29.4, 5.1630,34.0763,34.0691,2
74JC20031201,SR1b,18,1,12,12,2,20031213,2010, -57.42283, -56.80983,  3773,    9.5, 5.3125,34.0829,34.0801,2
74JC20031201,SR1b,19,1,1,1,2,20031214,0043, -57.10117, -57.03650,  4117, 4252.3, 0.5150,34.6845,34.6842,2
74JC20031201,SR1b,19,1,2,2,2,20031214,0043, -57.10117, -57.03650,  4117, 4252.2, 0.5148,34.6844,-999.0000,9
74JC20031201,SR1b,19,1,3,3,2,20031214,0043, -57.10117, -57.03650,  4117, 4252.1, 0.5148,34.6844,-999.0000,9
74JC20031201,SR1b,19,1,4,4,2,20031214,0043, -57.10117, -57.03650,  4117, 4094.1, 0.5022,34.6848,34.6846,2
74JC20031201,SR1b,19,1,5,5,2,20031214,0043, -57.10117, -57.03650,  4117, 3064.4, 1.0400,34.7147,34.7144,2
74JC20031201,SR1b,19,1,6,6,2,20031214,0043, -57.10117, -57.03650,  4117, 2038.2, 1.9016,34.7133,34.7133,2
74JC20031201,SR1b,19,1,7,7,2,20031214,0043, -57.10117, -57.03650,  4117, 1017.9, 2.6136,34.5239,34.5233,2
74JC20031201,SR1b,19,1,8,8,2,20031214,0043, -57.10117, -57.03650,  4117,  510.1, 3.4515,34.2388,34.2421,2
74JC20031201,SR1b,19,1,9,9,2,20031214,0043, -57.10117, -57.03650,  4117,  206.5, 4.0612,34.0954,34.0946,2
74JC20031201,SR1b,19,1,10,10,2,20031214,0043, -57.10117, -57.03650,  4117,   55.0, 4.7887,34.1003,34.1015,2
74JC20031201,SR1b,19,1,11,11,2,20031214,0043, -57.10117, -57.03650,  4117,   30.1, 5.0086,34.0971,34.0991,2
74JC20031201,SR1b,19,1,12,12,2,20031214,0043, -57.10117, -57.03650,  4117,   10.2, 5.1132,34.0474,34.0505,2
74JC20031201,SR1b,20,1,1,1,2,20031214,0457, -56.78500, -57.23233,  3013, 3089.5, 0.9623,34.7119,34.7107,2
74JC20031201,SR1b,20,1,2,2,2,20031214,0457, -56.78500, -57.23233,  3013, 3089.5, 0.9623,34.7118,-999.0000,9
74JC20031201,SR1b,20,1,3,3,2,20031214,0457, -56.78500, -57.23233,  3013, 3089.5, 0.9620,34.7119,-999.0000,9
74JC20031201,SR1b,20,1,4,4,2,20031214,0457, -56.78500, -57.23233,  3013, 2550.5, 1.5157,34.7245,34.7243,2
74JC20031201,SR1b,20,1,5,5,2,20031214,0457, -56.78500, -57.23233,  3013, 2038.5, 1.9458,34.7022,34.7020,2
74JC20031201,SR1b,20,1,6,6,2,20031214,0457, -56.78500, -57.23233,  3013, 1018.3, 2.5485,34.4988,34.4983,2
74JC20031201,SR1b,20,1,7,7,2,20031214,0457, -56.78500, -57.23233,  3013,  509.7, 3.5753,34.2549,34.2552,2
74JC20031201,SR1b,20,1,8,8,2,20031214,0457, -56.78500, -57.23233,  3013,  256.9, 4.0519,34.1225,34.1221,2
74JC20031201,SR1b,20,1,9,9,2,20031214,0457, -56.78500, -57.23233,  3013,  156.4, 4.4001,34.1256,34.1252,2
74JC20031201,SR1b,20,1,10,10,2,20031214,0457, -56.78500, -57.23233,  3013,   55.7, 4.7989,34.0898,34.0915,2
74JC20031201,SR1b,20,1,11,11,2,20031214,0457, -56.78500, -57.23233,  3013,   30.5, 5.4345,34.1019,34.0960,2
74JC20031201,SR1b,20,1,12,12,2,20031214,0457, -56.78500, -57.23233,  3013,   10.7, 5.7364,34.0753,34.0770,2
74JC20031201,SR1b,21,1,1,1,2,20031214,0900, -56.46617, -57.42117,  3698, 3823.0, 0.7949,34.7014,34.7017,2
74JC20031201,SR1b,21,1,2,2,2,20031214,0900, -56.46617, -57.42117,  3698, 3822.9, 0.7941,34.7014,-999.0000,9
74JC20031201,SR1b,21,1,3,3,2,20031214,0900, -56.46617, -57.42117,  3698, 3823.0, 0.7938,34.7015,-999.0000,9
74JC20031201,SR1b,21,1,4,4,2,20031214,0900, -56.46617, -57.42117,  3698, 3063.4, 1.1709,34.7187,34.7182,2
74JC20031201,SR1b,21,1,5,5,2,20031214,0900, -56.46617, -57.42117,  3698, 2038.1, 1.8980,34.7052,34.7048,2
74JC20031201,SR1b,21,1,6,6,2,20031214,0900, -56.46617, -57.42117,  3698, 1019.1, 2.4763,34.5009,34.5011,2
74JC20031201,SR1b,21,1,7,7,2,20031214,0900, -56.46617, -57.42117,  3698,  510.8, 2.8455,34.2321,34.2317,2
74JC20031201,SR1b,21,1,8,8,2,20031214,0900, -56.46617, -57.42117,  3698,  257.2, 2.3500,34.0062,34.0178,2
74JC20031201,SR1b,21,1,9,9,2,20031214,0900, -56.46617, -57.42117,  3698,  156.7, 3.1665,34.0392,34.0405,2
74JC20031201,SR1b,21,1,10,10,2,20031214,0900, -56.46617, -57.42117,  3698,   55.4, 3.8635,34.0038,34.0068,2
74JC20031201,SR1b,21,1,11,11,2,20031214,0900, -56.46617, -57.42117,  3698,   30.6, 4.6917,34.0155,33.9214,2
74JC20031201,SR1b,21,1,12,12,2,20031214,0900, -56.46617, -57.42117,  3698,   10.3, 4.8915,34.0136,34.0139,2
74JC20031201,SR1b,22,1,1,1,2,20031214,1322, -56.14167, -57.61150,  3345, 3447.6, 1.1958,34.7186,34.7760,2
74JC20031201,SR1b,22,1,2,2,2,20031214,1322, -56.14167, -57.61150,  3345, 3447.7, 1.1966,34.7186,-999.0000,9
74JC20031201,SR1b,22,1,3,3,2,20031214,1322, -56.14167, -57.61150,  3345, 3447.6, 1.1996,34.7187,-999.0000,9
74JC20031201,SR1b,22,1,4,4,2,20031214,1322, -56.14167, -57.61150,  3345, 3054.2, 1.4855,34.7241,34.7239,2
74JC20031201,SR1b,22,1,5,5,2,20031214,1322, -56.14167, -57.61150,  3345, 2033.2, 2.0604,34.6955,34.6997,2
74JC20031201,SR1b,22,1,6,6,2,20031214,1322, -56.14167, -57.61150,  3345, 1014.8, 2.6902,34.4229,34.4231,2
74JC20031201,SR1b,22,1,7,7,2,20031214,1322, -56.14167, -57.61150,  3345,  507.9, 3.1804,34.1561,34.1579,2
74JC20031201,SR1b,22,1,8,8,2,20031214,1322, -56.14167, -57.61150,  3345,  255.0, 3.6428,34.0755,34.0770,2
74JC20031201,SR1b,22,1,9,9,2,20031214,1322, -56.14167, -57.61150,  3345,  154.1, 4.0142,34.0794,34.0821,2
74JC20031201,SR1b,22,1,10,10,2,20031214,1322, -56.14167, -57.61150,  3345,   53.0, 4.8411,34.0569,34.0586,2
74JC20031201,SR1b,22,1,11,11,2,20031214,1322, -56.14167, -57.61150,  3345,   27.8, 4.8114,34.0400,34.0382,2
74JC20031201,SR1b,22,1,12,12,2,20031214,1322, -56.14167, -57.61150,  3345,    8.1, 5.8630,34.0693,34.0699,2
74JC20031201,SR1b,23,1,1,1,2,20031214,1745, -55.83317, -57.82083,  4642, 4824.7, 0.3931,34.6748,34.6749,2
74JC20031201,SR1b,23,1,2,2,2,20031214,1745, -55.83317, -57.82083,  4642, 4824.5, 0.3935,34.6749,-999.0000,9
74JC20031201,SR1b,23,1,3,3,2,20031214,1745, -55.83317, -57.82083,  4642, 4824.6, 0.3940,34.6749,-999.0000,9
74JC20031201,SR1b,23,1,4,4,2,20031214,1745, -55.83317, -57.82083,  4642, 4091.8, 0.8216,34.7016,34.7017,2
74JC20031201,SR1b,23,1,5,5,2,20031214,1745, -55.83317, -57.82083,  4642, 3061.0, 1.6051,34.7250,34.7245,2
74JC20031201,SR1b,23,1,6,6,2,20031214,1745, -55.83317, -57.82083,  4642, 2035.1, 2.2157,34.6710,34.6708,2
74JC20031201,SR1b,23,1,7,7,2,20031214,1745, -55.83317, -57.82083,  4642, 1014.8, 3.2672,34.3131,34.3140,2
74JC20031201,SR1b,23,1,8,8,2,20031214,1745, -55.83317, -57.82083,  4642,  508.8, 4.7434,34.1592,34.1603,2
74JC20031201,SR1b,23,1,9,9,2,20031214,1745, -55.83317, -57.82083,  4642,  205.8, 5.1076,34.1369,34.1383,2
74JC20031201,SR1b,23,1,10,10,2,20031214,1745, -55.83317, -57.82083,  4642,   54.5, 5.8787,34.0293,34.0305,2
74JC20031201,SR1b,23,1,11,11,2,20031214,1745, -55.83317, -57.82083,  4642,   29.8, 6.0712,34.0211,34.0213,2
74JC20031201,SR1b,23,1,12,12,2,20031214,1745, -55.83317, -57.82083,  4642,    9.5, 6.2948,33.9803,33.9888,2
74JC20031201,SR1b,24,1,1,1,2,20031214,2232, -55.51517, -58.01483,  4139, 4288.4, 0.4808,34.6828,34.6820,2
74JC20031201,SR1b,24,1,2,2,2,20031214,2232, -55.51517, -58.01483,  4139, 4288.4, 0.4808,34.6827,-999.0000,9
74JC20031201,SR1b,24,1,3,3,2,20031214,2232, -55.51517, -58.01483,  4139, 4288.5, 0.4758,34.6824,-999.0000,9
74JC20031201,SR1b,24,1,4,4,2,20031214,2232, -55.51517, -58.01483,  4139, 4092.6, 0.8676,34.7037,34.7030,2
74JC20031201,SR1b,24,1,5,5,2,20031214,2232, -55.51517, -58.01483,  4139, 3061.8, 1.6761,34.7225,34.7219,2
74JC20031201,SR1b,24,1,6,6,2,20031214,2232, -55.51517, -58.01483,  4139, 2036.9, 2.2398,34.6536,34.6525,2
74JC20031201,SR1b,24,1,7,7,2,20031214,2232, -55.51517, -58.01483,  4139, 1017.7, 3.0774,34.3411,34.3409,2
74JC20031201,SR1b,24,1,8,8,2,20031214,2232, -55.51517, -58.01483,  4139,  509.4, 4.4300,34.1466,34.1442,2
74JC20031201,SR1b,24,1,9,9,2,20031214,2232, -55.51517, -58.01483,  4139,  205.6, 4.9226,34.1507,34.1519,2
74JC20031201,SR1b,24,1,10,10,2,20031214,2232, -55.51517, -58.01483,  4139,   54.3, 5.4709,34.1303,34.1305,2
74JC20031201,SR1b,24,1,11,11,2,20031214,2232, -55.51517, -58.01483,  4139,   28.6, 5.5501,34.1271,34.1270,2
74JC20031201,SR1b,24,1,12,12,2,20031214,2232, -55.51517, -58.01483,  4139,    8.6, 5.8343,34.1137,34.1152,2
74JC20031201,SR1b,25,1,1,1,2,20031215,0244, -55.20550, -58.20233,  3698, 3812.0, 0.9596,34.7091,34.7085,2
74JC20031201,SR1b,25,1,2,2,2,20031215,0244, -55.20550, -58.20233,  3698, 3812.2, 0.9584,34.7091,-999.0000,9
74JC20031201,SR1b,25,1,3,3,2,20031215,0244, -55.20550, -58.20233,  3698, 3812.0, 0.9576,34.7090,-999.0000,9
74JC20031201,SR1b,25,1,4,4,2,20031215,0244, -55.20550, -58.20233,  3698, 3050.8, 1.7187,34.7224,34.7219,2
74JC20031201,SR1b,25,1,5,5,2,20031215,0244, -55.20550, -58.20233,  3698, 2035.6, 2.2382,34.6514,34.7095,2
74JC20031201,SR1b,25,1,6,6,2,20031215,0244, -55.20550, -58.20233,  3698, 1017.4, 3.3502,34.3042,34.3031,2
74JC20031201,SR1b,25,1,7,7,2,20031215,0244, -55.20550, -58.20233,  3698,  509.4, 4.8262,34.1631,34.1626,2
74JC20031201,SR1b,25,1,8,8,2,20031215,0244, -55.20550, -58.20233,  3698,  256.4, 5.0741,34.1320,34.1315,2
74JC20031201,SR1b,25,1,9,9,2,20031215,0244, -55.20550, -58.20233,  3698,  155.5, 5.3601,34.0688,34.0737,2
74JC20031201,SR1b,25,1,10,10,2,20031215,0244, -55.20550, -58.20233,  3698,   54.9, 6.2293,33.9194,33.9214,2
74JC20031201,SR1b,25,1,11,11,2,20031215,0244, -55.20550, -58.20233,  3698,   29.8, 6.3282,33.9005,33.9040,2
74JC20031201,SR1b,25,1,12,12,2,20031215,0244, -55.20550, -58.20233,  3698,   10.0, 7.0109,33.8300,33.8376,2
74JC20031201,SR1b,26,1,1,1,2,20031215,0524, -55.17033, -58.22517,  2946, 3012.8, 1.7483,34.7204,34.7203,2
74JC20031201,SR1b,26,1,2,2,2,20031215,0524, -55.17033, -58.22517,  2946, 3012.8, 1.7481,34.7205,-999.0000,9
74JC20031201,SR1b,26,1,3,3,2,20031215,0524, -55.17033, -58.22517,  2946, 3012.7, 1.7483,34.7204,-999.0000,9
74JC20031201,SR1b,26,1,4,4,2,20031215,0524, -55.17033, -58.22517,  2946, 2548.3, 2.0327,34.6940,34.6942,2
74JC20031201,SR1b,26,1,5,5,2,20031215,0524, -55.17033, -58.22517,  2946, 2036.0, 2.2608,34.6477,34.6476,2
74JC20031201,SR1b,26,1,6,6,2,20031215,0524, -55.17033, -58.22517,  2946, 1015.3, 3.4905,34.2933,34.2946,2
74JC20031201,SR1b,26,1,7,7,2,20031215,0524, -55.17033, -58.22517,  2946,  508.5, 4.7916,34.1614,34.1605,2
74JC20031201,SR1b,26,1,8,8,2,20031215,0524, -55.17033, -58.22517,  2946,  256.6, 5.1473,34.1198,34.1209,2
74JC20031201,SR1b,26,1,9,9,2,20031215,0524, -55.17033, -58.22517,  2946,  155.9, 5.5675,34.0276,34.0421,2
74JC20031201,SR1b,26,1,10,10,2,20031215,0524, -55.17033, -58.22517,  2946,   54.5, 6.2523,33.8926,33.8979,2
74JC20031201,SR1b,26,1,11,11,2,20031215,0524, -55.17033, -58.22517,  2946,   29.3, 6.8902,33.8186,33.8206,2
74JC20031201,SR1b,26,1,12,12,2,20031215,0524, -55.17033, -58.22517,  2946,    8.9, 7.1054,33.8178,33.8181,2
74JC20031201,SR1b,27,1,1,1,2,20031215,0739, -55.12233, -58.26233,  2487, 2545.8, 1.9763,34.7019,34.7017,2
74JC20031201,SR1b,27,1,2,2,2,20031215,0739, -55.12233, -58.26233,  2487, 2546.0, 1.9733,34.7022,-999.0000,9
74JC20031201,SR1b,27,1,3,3,2,20031215,0739, -55.12233, -58.26233,  2487, 2545.9, 1.9734,34.7021,-999.0000,9
74JC20031201,SR1b,27,1,4,4,2,20031215,0739, -55.12233, -58.26233,  2487, 2037.2, 2.3140,34.6430,34.6437,2
74JC20031201,SR1b,27,1,5,5,2,20031215,0739, -55.12233, -58.26233,  2487, 1016.9, 3.4358,34.2959,34.2954,2
74JC20031201,SR1b,27,1,6,6,2,20031215,0739, -55.12233, -58.26233,  2487,  509.4, 4.7101,34.1504,34.1511,2
74JC20031201,SR1b,27,1,7,7,2,20031215,0739, -55.12233, -58.26233,  2487,  256.6, 5.2215,34.1067,34.1081,2
74JC20031201,SR1b,27,1,8,8,2,20031215,0739, -55.12233, -58.26233,  2487,  156.0, 5.6978,33.9993,34.0006,2
74JC20031201,SR1b,27,1,9,9,2,20031215,0739, -55.12233, -58.26233,  2487,   54.8, 6.1969,33.8984,33.9040,2
74JC20031201,SR1b,27,1,10,10,2,20031215,0739, -55.12233, -58.26233,  2487,   29.6, 6.8223,33.8188,33.8253,2
74JC20031201,SR1b,27,1,11,11,2,20031215,0739, -55.12233, -58.26233,  2487,    8.9, 7.0812,33.8179,33.8189,2
74JC20031201,SR1b,27,1,12,12,2,20031215,0739, -55.12233, -58.26233,  2487,    8.9, 7.0841,33.8179,-999.0000,9
74JC20031201,SR1b,28,1,1,1,2,20031215,0956, -55.06967, -58.29350,  2045, 2082.6, 2.2300,34.6547,34.6537,2
74JC20031201,SR1b,28,1,2,2,2,20031215,0956, -55.06967, -58.29350,  2045, 2082.6, 2.2297,34.6547,-999.0000,9
74JC20031201,SR1b,28,1,3,3,2,20031215,0956, -55.06967, -58.29350,  2045, 2082.6, 2.2297,34.6547,-999.0000,9
74JC20031201,SR1b,28,1,4,4,2,20031215,0956, -55.06967, -58.29350,  2045, 1526.1, 2.6164,34.5230,34.5229,2
74JC20031201,SR1b,28,1,5,5,2,20031215,0956, -55.06967, -58.29350,  2045, 1017.3, 3.5569,34.2781,34.2776,2
74JC20031201,SR1b,28,1,6,6,2,20031215,0956, -55.06967, -58.29350,  2045,  509.6, 4.7948,34.1531,34.1523,2
74JC20031201,SR1b,28,1,7,7,2,20031215,0956, -55.06967, -58.29350,  2045,  256.0, 5.1396,34.1144,34.1152,2
74JC20031201,SR1b,28,1,8,8,2,20031215,0956, -55.06967, -58.29350,  2045,  154.9, 5.4917,34.0518,34.0548,2
74JC20031201,SR1b,28,1,9,9,2,20031215,0956, -55.06967, -58.29350,  2045,   54.3, 6.1235,33.9193,33.9291,2
74JC20031201,SR1b,28,1,10,10,2,20031215,0956, -55.06967, -58.29350,  2045,   29.1, 6.8545,33.8139,33.8359,2
74JC20031201,SR1b,28,1,11,11,2,20031215,0956, -55.06967, -58.29350,  2045,    9.4, 7.0474,33.8142,33.8134,2
74JC20031201,SR1b,28,1,12,12,2,20031215,0956, -55.06967, -58.29350,  2045,    9.4, 7.0494,33.8141,-999.0000,9
74JC20031201,SR1b,29,1,1,1,2,20031215,1207, -54.96100, -58.36117,  1577, 1610.8, 2.4772,34.5725,34.5714,2
74JC20031201,SR1b,29,1,2,2,2,20031215,1207, -54.96100, -58.36117,  1577, 1610.7, 2.4770,34.5726,-999.0000,9
74JC20031201,SR1b,29,1,3,3,2,20031215,1207, -54.96100, -58.36117,  1577, 1610.8, 2.4770,34.5726,-999.0000,9
74JC20031201,SR1b,29,1,4,4,2,20031215,1207, -54.96100, -58.36117,  1577, 1610.7, 2.4770,34.5726,34.5716,2
74JC20031201,SR1b,29,1,5,5,2,20031215,1207, -54.96100, -58.36117,  1577, 1610.7, 2.4767,34.5727,34.5714,2
74JC20031201,SR1b,29,1,6,6,2,20031215,1207, -54.96100, -58.36117,  1577, 1016.2, 3.3316,34.2991,34.2987,2
74JC20031201,SR1b,29,1,7,7,2,20031215,1207, -54.96100, -58.36117,  1577,  508.8, 4.6876,34.1504,34.1495,2
74JC20031201,SR1b,29,1,8,8,2,20031215,1207, -54.96100, -58.36117,  1577,  256.1, 5.1059,34.1356,34.1352,2
74JC20031201,SR1b,29,1,9,9,2,20031215,1207, -54.96100, -58.36117,  1577,  154.6, 5.2628,34.0907,34.0903,2
74JC20031201,SR1b,29,1,10,10,2,20031215,1207, -54.96100, -58.36117,  1577,   53.5, 6.2313,34.0032,34.0086,2
74JC20031201,SR1b,29,1,11,11,2,20031215,1207, -54.96100, -58.36117,  1577,   28.8, 6.7569,33.8744,33.8768,2
74JC20031201,SR1b,29,1,12,12,2,20031215,1207, -54.96100, -58.36117,  1577,    8.7, 6.8506,33.8783,33.8780,2