BOTTLE,20221012CCHSIOENA
EXPOCODE,SECT_ID,STNNBR,CASTNO,SAMPNO,BTLNBR,BTLNBR_FLAG_W,DATE,TIME,LATITUDE,LONGITUDE,DEPTH,CTDPRS,CTDTMP,CTDTMP_FLAG_W,SBE35,SBE35_FLAG_W,CTDSAL,CTDSAL_FLAG_W,SALNTY,SALNTY_FLAG_W,CTDOXY,CTDOXY_FLAG_W,OXYGEN,OXYGEN_FLAG_W,SILCAT,SILCAT_FLAG_W,NO2+NO3,NO2+NO3_FLAG_W,PHSPHT,PHSPHT_FLAG_W,ALKALI,ALKALI_FLAG_W,TCARBN,TCARBN_FLAG_W,DELC14,DELC14_FLAG_W,DELC13,DELC13_FLAG_W
 , , , , , , , , , , , ,DBAR,ITS-90, ,ITS-90, ,PSS-78, ,PSS-78, ,UMOL/KG, ,UMOL/KG, ,UMOL/KG, ,UMOL/KG, ,UMOL/KG, ,UMOL/KG, ,UMOL/KG, ,/MILLE, ,/MILLE, 
740H20200119,A05_24N,128,1,11,3044,2,20200226,1356,  26.81853, -16.78486,  3626,  3669.6,  2.4502,2,  2.4499,2, 34.9024,2, 34.9029,2,   236.7,2,   235.2,2,   46.02,2,   22.40,2,    1.51,2,  2357.4,6,  2209.3,6, -999.00,9, -999.00,9
740H20200119,A05_24N,128,1,12,3045,2,20200226,1356,  26.81853, -16.78486,  3626,  3296.7,  2.6329,2,  2.6323,2, 34.9218,2, 34.9217,2,   232.4,2,   232.1,2,   42.70,2,   22.32,2,    1.50,2,  2354.8,2,  2210.5,2, -999.00,9, -999.00,9
740H20200119,A05_24N,128,1,13,3046,2,20200226,1356,  26.81853, -16.78486,  3626,  2789.0,  2.9437,2,  2.9498,2, 34.9536,2, 34.9538,2,   230.5,2,   230.0,2,   37.63,2,   21.95,2,    1.49,2,  2350.8,2,  2201.0,2, -999.00,9, -999.00,9
740H20200119,A05_24N,128,1,14,7131,2,20200226,1356,  26.81853, -16.78486,  3626,  2277.5,  3.5949,2,  3.5813,2, 35.0176,2, 35.0168,2,   224.3,2,   223.8,2,   31.20,2,   21.74,2,    1.47,2,  2338.0,2,  2196.8,2, -999.00,9, -999.00,9
740H20200119,A05_24N,128,1,15,3048,2,20200226,1356,  26.81853, -16.78486,  3626,  1772.3,  4.6395,2,  4.6422,2, 35.1235,2, 35.1233,2,   213.2,2,   213.5,2,   24.39,2,   21.64,2,    1.44,2,  2334.7,2,  2191.7,2, -999.00,9, -999.00,9
740H20200119,A05_24N,128,1,16,3049,2,20200226,1356,  26.81853, -16.78486,  3626,  1517.8,  5.6174,2,  5.6175,2, 35.2271,2, 35.2254,2,   201.2,2,   201.6,2,   21.02,2,   21.55,2,    1.43,2,  2335.8,2,  2195.9,2, -999.00,9, -999.00,9
740H20200119,A05_24N,128,1,17,3050,2,20200226,1356,  26.81853, -16.78486,  3626,  1314.4,  6.5242,2,  6.5503,2, 35.3047,2, 35.3056,2,   186.6,2,   186.2,2,   18.68,2,   21.97,2,    1.45,2,  2336.6,2,  2199.6,2, -999.00,9, -999.00,9
740H20200119,A05_24N,128,1,18,3051,2,20200226,1356,  26.81853, -16.78486,  3626,  1162.1,  7.0201,2,  7.0892,2, 35.3044,2, 35.3053,2,   172.1,2,   171.7,2,   18.14,2,   23.17,2,    1.51,2,  2336.0,2,  2203.1,2, -999.00,9, -999.00,9
740H20200119,A05_24N,128,1,19,3052,2,20200226,1356,  26.81853, -16.78486,  3626,  1060.7,  7.3249,2,  7.3625,2, 35.2829,2, 35.2837,2,   160.9,2,   160.0,2,   18.04,2,   24.29,2,    1.58,2,  2333.6,6,  2206.7,6, -999.00,9, -999.00,9
740H20200119,A05_24N,128,1,20,3053,2,20200226,1356,  26.81853, -16.78486,  3626,   958.5,  7.5184,2,  7.5570,2, 35.2176,2, 35.2127,2,   146.1,2,   145.4,2,   18.51,2,   26.05,2,    1.71,2,  2326.3,2,  2211.2,2, -999.00,9, -999.00,9
740H20200119,A05_24N,128,1,21,3054,2,20200226,1356,  26.81853, -16.78486,  3626,   857.6,  8.4277,2,  8.4495,2, 35.3016,2, 35.3002,2,   141.0,2,   140.5,2,   16.33,2,   25.25,2,    1.62,2,  2330.1,6,  2209.7,6, -999.00,9, -999.00,9
740H20200119,A05_24N,128,1,22,3055,2,20200226,1356,  26.81853, -16.78486,  3626,   756.1,  9.1881,2,  9.1910,2, 35.3554,2, 35.3404,2,   137.1,2,   135.3,2,   14.70,2,   25.02,2,    1.57,2,  2331.3,6,  2204.3,6, -999.00,9, -999.00,9
740H20200119,A05_24N,128,1,23,3056,2,20200226,1356,  26.81853, -16.78486,  3626,   655.9, 10.2727,2, 10.2669,2, 35.4639,2, 35.4541,2,   144.8,2,   143.6,2,   11.68,2,   22.37,2,    1.38,2,  -999.0,9,  -999.0,9, -999.00,9, -999.00,9
740H20200119,A05_24N,128,1,24,3057,2,20200226,1356,  26.81853, -16.78486,  3626,   605.5, 10.8505,2, 10.8954,2, 35.5122,2, 35.5044,2,   146.2,2,   145.1,2,   10.18,2,   21.24,2,    1.30,2,  2333.4,6,  2195.2,6, -999.00,9, -999.00,9
740H20200119,A05_24N,128,1,1,3034,2,20200226,1356,  26.81853, -16.78486,  3626,   504.2, 11.9710,2, 11.9625,2, 35.6422,2, 35.6400,2,   164.9,2,   165.1,2,    6.88,2,   17.06,2,    1.02,2,  2337.4,6,  2181.3,6, -999.00,9, -999.00,9
740H20200119,A05_24N,128,1,2,3035,2,20200226,1356,  26.81853, -16.78486,  3626,   403.4, 12.9853,2, 13.0330,2, 35.7655,2, 35.7586,2,   174.2,2,   175.0,2,    5.11,2,   14.31,2,    0.84,2,  2344.6,2,  2171.3,2, -999.00,9, -999.00,9
740H20200119,A05_24N,128,1,3,3036,2,20200226,1356,  26.81853, -16.78486,  3626,   302.6, 14.2666,2, 14.2245,2, 35.9448,2, 35.9188,2,   183.5,2,   182.0,2,    3.72,2,   11.54,2,    0.67,2,  2352.7,2,  2169.4,2, -999.00,9, -999.00,9
740H20200119,A05_24N,128,1,4,3037,2,20200226,1356,  26.81853, -16.78486,  3626,   201.7, 16.4333,2, 16.5103,2, 36.2852,2, 36.2635,2,   192.8,2,   192.0,2,    1.92,2,    6.90,2,    0.41,2,  2373.0,2,  2151.9,2, -999.00,9, -999.00,9
740H20200119,A05_24N,128,1,5,6409,2,20200226,1356,  26.81853, -16.78486,  3626,   176.6, 16.9910,2, 17.0594,2, 36.3731,2, 36.3485,2,   193.4,2,   193.3,2,    1.67,2,    6.04,2,    0.35,2,  2379.5,6,  2150.0,6, -999.00,9, -999.00,9
740H20200119,A05_24N,128,1,6,6410,2,20200226,1356,  26.81853, -16.78486,  3626,   126.5, 18.3346,2, 18.4070,2, 36.6040,2, 36.5846,2,   206.0,2,   205.4,2,    0.93,2,    3.14,2,    0.20,2,  2391.9,2,  2140.1,2, -999.00,9, -999.00,9
740H20200119,A05_24N,128,1,7,6411,2,20200226,1356,  26.81853, -16.78486,  3626,    90.8, 18.6985,2, 18.6978,2, 36.6780,2, 36.6791,2,   227.7,2,   229.6,2,    0.47,2,    0.50,2,    0.09,2,  2401.7,2,  2127.6,2, -999.00,9, -999.00,9
740H20200119,A05_24N,128,1,8,6412,2,20200226,1356,  26.81853, -16.78486,  3626,    70.5, 18.8446,2, 18.8564,2, 36.7008,2, 36.7022,2,   229.3,2,   230.5,2,    0.38,2,    0.37,2,    0.08,2,  2403.1,2,  2126.9,2, -999.00,9, -999.00,9
740H20200119,A05_24N,128,1,9,6413,2,20200226,1356,  26.81853, -16.78486,  3626,    40.8, 19.2759,2, 19.3417,2, 36.7750,2, 36.7833,2,   229.3,2,   230.0,2,    0.27,2,    0.32,2,    0.05,2,  2409.0,2,  2124.8,2, -999.00,9, -999.00,9
740H20200119,A05_24N,128,1,10,6414,2,20200226,1356,  26.81853, -16.78486,  3626,     5.3, 19.5761,2, 19.5768,2, 36.8254,2, 36.8274,2,   229.3,2,   231.1,2,    0.26,2,    0.26,2,    0.03,2,  2410.4,2,  2126.9,2, -999.00,9, -999.00,9
740H20200119,A05_24N,129,1,11,3044,2,20200226,2113,  27.04947, -16.11740,  3486,  3527.4,  2.5261,2,  2.5258,2, 34.9100,2, 34.9098,2,   231.6,2,   230.5,2,   46.14,2,   22.47,2,    1.54,2,  2359.7,6,  2215.7,6, -999.00,9, -999.00,9
740H20200119,A05_24N,129,1,12,3045,2,20200226,2113,  27.04947, -16.11740,  3486,  3043.6,  2.7006,2,  2.7080,2, 34.9288,2, 34.9271,2,   230.3,2,   229.6,2,   42.10,2,   22.11,2,    1.52,2,  2355.1,2,  2212.2,2, -999.00,9, -999.00,9
740H20200119,A05_24N,129,1,13,3046,2,20200226,2113,  27.04947, -16.11740,  3486,  2537.1,  3.2466,2,  3.2500,2, 34.9809,2, 34.9801,2,   226.7,2,   226.5,2,   35.01,2,   21.77,2,    1.50,2,  2343.5,2,  2201.4,2, -999.00,9, -999.00,9
740H20200119,A05_24N,129,1,14,7131,2,20200226,2113,  27.04947, -16.11740,  3486,  2026.6,  4.1744,2,  4.2091,2, 35.0803,2, 35.0822,2,   220.2,2,   220.4,2,   26.82,2,   21.27,2,    1.44,2,  2337.0,6,  2192.1,6, -999.00,9, -999.00,9
740H20200119,A05_24N,129,1,15,3048,2,20200226,2113,  27.04947, -16.11740,  3486,  1644.4,  5.3493,2,  5.3720,2, 35.2087,2, 35.2045,2,   207.1,2,   207.0,2,   21.60,2,   21.17,2,    1.42,2,  2336.6,2,  2195.3,2, -999.00,9, -999.00,9
740H20200119,A05_24N,129,1,16,3049,2,20200226,2113,  27.04947, -16.11740,  3486,  1517.8,  5.8696,2,  5.8758,2, 35.2468,2, 35.2409,2,   196.6,2,   196.7,2,   20.52,2,   21.70,2,    1.45,2,  2336.1,2,  2197.0,2, -999.00,9, -999.00,9
740H20200119,A05_24N,129,1,17,3050,2,20200226,2113,  27.04947, -16.11740,  3486,  1416.0,  6.2530,2,  6.2589,2, 35.2700,2, 35.2668,2,   188.2,2,   188.5,2,   19.51,2,   22.07,2,    1.48,2,  2335.2,6,  2200.2,6, -999.00,9, -999.00,9
740H20200119,A05_24N,129,1,18,3051,2,20200226,2113,  27.04947, -16.11740,  3486,  1213.2,  6.9868,2,  6.9865,2, 35.2752,2, 35.2816,2,   168.7,2,   169.0,2,   18.24,2,   23.50,2,    1.56,2,  2333.2,2,  2202.4,2, -999.00,9, -999.00,9
740H20200119,A05_24N,129,1,19,3052,2,20200226,2113,  27.04947, -16.11740,  3486,  1111.4,  7.1002,2,  7.1066,2, 35.2095,2, 35.2138,2,   155.1,2,   155.7,2,   18.74,2,   25.15,2,    1.67,2,  2327.6,2,  2209.2,2, -999.00,9, -999.00,9
740H20200119,A05_24N,129,1,20,3053,2,20200226,2113,  27.04947, -16.11740,  3486,  1010.1,  7.4601,2,  7.4749,2, 35.1967,2, 35.1910,2,   143.9,2,   143.5,2,   18.65,2,   26.18,2,    1.74,2,  2326.3,6,  2211.3,6, -999.00,9, -999.00,9
740H20200119,A05_24N,129,1,21,3054,2,20200226,2113,  27.04947, -16.11740,  3486,   908.5,  7.9782,2,  7.9954,2, 35.1916,2, 35.1873,2,   129.4,2,   129.9,2,   17.97,2,   27.11,2,    1.79,2,  2322.9,2,  2216.3,2, -999.00,9, -999.00,9
740H20200119,A05_24N,129,1,22,3055,2,20200226,2113,  27.04947, -16.11740,  3486,   823.6,  8.6231,2,  8.6509,2, 35.2309,2, 35.2248,2,   120.7,2,   119.9,2,   16.68,2,   27.28,2,    1.78,2,  2321.7,6,  2215.5,6, -999.00,9, -999.00,9
740H20200119,A05_24N,129,1,23,3056,2,20200226,2113,  27.04947, -16.11740,  3486,   705.7,  9.7675,2,  9.7851,2, 35.3629,2, 35.3599,2,   124.7,2,   124.4,2,   13.38,2,   24.82,2,    1.58,2,  2327.3,2,  2210.2,2, -999.00,9, -999.00,9
740H20200119,A05_24N,129,1,24,3057,2,20200226,2113,  27.04947, -16.11740,  3486,   605.2, 10.9452,2, 10.9509,2, 35.4993,2, 35.4939,2,   134.9,2,   134.1,2,   10.35,2,   21.81,2,    1.37,2,  2331.3,2,  2200.1,2, -999.00,9, -999.00,9
740H20200119,A05_24N,129,1,1,3034,2,20200226,2113,  27.04947, -16.11740,  3486,   503.8, 12.0212,2, 12.0400,2, 35.6263,2, 35.6084,2,   146.5,2,   142.4,2,    8.00,2,   19.35,2,    1.19,2,  2335.1,6,  2194.4,6, -999.00,9, -999.00,9
740H20200119,A05_24N,129,1,2,3035,2,20200226,2113,  27.04947, -16.11740,  3486,   402.7, 13.3748,2, 13.3917,2, 35.8130,2, 35.8033,2,   167.5,2,   166.5,2,    5.02,2,   14.27,2,    0.87,2,  2344.4,2,  2175.1,2, -999.00,9, -999.00,9
740H20200119,A05_24N,129,1,3,3036,2,20200226,2113,  27.04947, -16.11740,  3486,   320.2, 14.3939,2, 14.4317,2, 35.9373,2, 35.9354,2,   145.2,2,   149.0,2,    4.73,2,   14.48,2,    0.87,2,  2350.8,2,  2184.1,2, -999.00,9, -999.00,9
740H20200119,A05_24N,129,1,4,3037,2,20200226,2113,  27.04947, -16.11740,  3486,   201.2, 17.3641,2, 17.3774,2, 36.4191,2, 36.3852,2,   186.8,2,   190.5,2,    1.61,2,    5.96,2,    0.38,2,  2378.9,2,  2149.0,2, -999.00,9, -999.00,9
740H20200119,A05_24N,129,1,5,6409,2,20200226,2113,  27.04947, -16.11740,  3486,   150.7, 18.6848,2, 18.6937,2, 36.6774,2, 36.6624,2,   217.7,2,   217.3,2,    0.53,2,    1.71,2,    0.15,2,  2399.1,2,  2135.5,2, -999.00,9, -999.00,9
740H20200119,A05_24N,129,1,6,6410,2,20200226,2113,  27.04947, -16.11740,  3486,   107.8, 18.9325,2, 18.9336,2, 36.7314,2, 36.7308,2,   227.0,2,   228.8,2,    0.18,2,    0.37,2,    0.08,2,  2403.3,2,  2124.8,2, -999.00,9, -999.00,9
740H20200119,A05_24N,129,1,7,6411,2,20200226,2113,  27.04947, -16.11740,  3486,    75.8, 18.9577,2, 18.9588,2, 36.7371,2, 36.7369,2,   226.7,2,   228.2,2,    0.20,2,    0.38,2,    0.07,2,  2404.5,2,  2127.5,2, -999.00,9, -999.00,9
740H20200119,A05_24N,129,1,8,6412,2,20200226,2113,  27.04947, -16.11740,  3486,    51.0, 19.0797,2, 19.0806,2, 36.7544,2, 36.7529,2,   228.7,2,   229.7,2,    0.12,2,    0.43,2,    0.06,2,  2403.4,2,  2123.3,2, -999.00,9, -999.00,9
740H20200119,A05_24N,129,1,9,6413,2,20200226,2113,  27.04947, -16.11740,  3486,    25.3, 19.1203,2, 19.1257,2, 36.7550,2, 36.7543,2,   229.9,2,   231.2,2,    0.12,2,    0.37,2,    0.05,2,  2407.1,2,  2124.8,2, -999.00,9, -999.00,9
740H20200119,A05_24N,129,1,10,6414,2,20200226,2113,  27.04947, -16.11740,  3486,     5.5, 19.1213,2, 19.1200,2, 36.7554,2, 36.7549,2,   230.9,2,   231.6,2,    0.15,2,    0.36,2,    0.06,2,  2407.3,2,  2122.0,2, -999.00,9, -999.00,9
740H20200119,A05_24N,130,1,11,3044,2,20200227,0318,  27.23293, -15.60019,  3151,  3185.6,  2.6792,2,  2.6795,2, 34.9258,2, 34.9255,2,   230.2,2,   228.5,2,   42.44,2,   21.75,2,    1.52,2,  2354.7,6,  2213.2,6, -999.00,9, -999.00,9
740H20200119,A05_24N,130,1,12,3045,2,20200227,0318,  27.23293, -15.60019,  3151,  2786.7,  2.9713,2,  2.9832,2, 34.9537,2, 34.9536,2,   228.3,2,   227.6,2,   37.81,2,   21.60,2,    1.50,2,  2344.5,2,  2205.0,2, -999.00,9, -999.00,9
740H20200119,A05_24N,130,1,13,3046,2,20200227,0318,  27.23293, -15.60019,  3151,  2280.9,  3.5005,2,  3.4908,2, 35.0053,2, 35.0040,2,   223.5,2,   223.6,2,   32.33,2,   21.26,2,    1.48,2,  2341.2,2,  2200.0,2, -999.00,9, -999.00,9
740H20200119,A05_24N,130,1,14,7131,2,20200227,0318,  27.23293, -15.60019,  3151,  1771.9,  4.6704,2,  4.6621,2, 35.1155,2, 35.1146,2,   209.2,2,   209.6,2,   24.90,2,   21.43,2,    1.47,2,  2332.7,6,  2199.3,6, -999.00,9, -999.00,9
740H20200119,A05_24N,130,1,15,3048,2,20200227,0318,  27.23293, -15.60019,  3151,  1518.0,  5.5454,2,  5.5409,2, 35.1951,2, 35.1948,2,   196.2,2,   196.6,2,   21.66,2,   21.79,2,    1.48,2,  2335.3,6,  2199.2,6, -999.00,9, -999.00,9
740H20200119,A05_24N,130,1,16,3049,2,20200227,0318,  27.23293, -15.60019,  3151,  1315.0,  6.5573,2,  6.5604,2, 35.2777,2, 35.2836,2,   180.1,2,   181.2,2,   18.89,2,   22.20,2,    1.49,2,  2337.2,2,  2203.1,2, -999.00,9, -999.00,9
740H20200119,A05_24N,130,1,17,3050,2,20200227,0318,  27.23293, -15.60019,  3151,  1162.7,  7.2384,2,  7.2403,2, 35.3002,2, 35.2985,2,   165.8,2,   165.7,2,   17.99,2,   23.32,2,    1.54,2,  2332.4,2,  2205.2,2, -999.00,9, -999.00,9
740H20200119,A05_24N,130,1,18,3051,2,20200227,0318,  27.23293, -15.60019,  3151,  1061.3,  7.3359,2,  7.3020,2, 35.2576,2, 35.2506,2,   155.5,2,   154.8,2,   18.30,2,   24.60,2,    1.63,2,  2331.5,2,  2210.9,2, -999.00,9, -999.00,9
740H20200119,A05_24N,130,1,19,3052,2,20200227,0318,  27.23293, -15.60019,  3151,   960.4,  8.0011,2,  8.0060,2, 35.2848,2, 35.2847,2,   146.1,2,   146.3,2,   17.02,2,   24.76,2,    1.63,2,  -999.0,9,  -999.0,9, -999.00,9, -999.00,9
740H20200119,A05_24N,130,1,20,3053,2,20200227,0318,  27.23293, -15.60019,  3151,   859.1,  8.4607,2,  8.4531,2, 35.2697,2, 35.2732,2,   134.2,2,   134.9,2,   16.42,2,   25.57,2,    1.66,2,  2327.9,2,  2212.4,2, -999.00,9, -999.00,9
740H20200119,A05_24N,130,1,21,3054,2,20200227,0318,  27.23293, -15.60019,  3151,   757.7,  9.0558,2,  9.0831,2, 35.3063,2, 35.3014,2,   129.4,2,   129.1,2,   15.05,2,   25.64,2,    1.64,2,  2327.0,6,  2210.5,6, -999.00,9, -999.00,9
740H20200119,A05_24N,130,1,22,3055,2,20200227,0318,  27.23293, -15.60019,  3151,   656.4, 10.2033,2, 10.2582,2, 35.4257,2, 35.4237,2,   133.9,2,   133.5,2,   11.92,2,   23.32,2,    1.46,2,  2330.3,2,  2204.9,2, -999.00,9, -999.00,9
740H20200119,A05_24N,130,1,23,3056,2,20200227,0318,  27.23293, -15.60019,  3151,   606.2, 11.0298,2, 11.0486,2, 35.5232,2, 35.5166,2,   143.6,2,   142.9,2,    9.65,2,   20.94,2,    1.29,2,  2333.7,2,  2197.5,2, -999.00,9, -999.00,9
740H20200119,A05_24N,130,1,24,3057,2,20200227,0318,  27.23293, -15.60019,  3151,   505.2, 11.9982,2, 12.0700,2, 35.6392,2, 35.6341,2,   160.3,2,   160.1,2,    7.01,2,   17.51,2,    1.05,2,  2337.1,2,  2183.0,2, -999.00,9, -999.00,9
740H20200119,A05_24N,130,1,1,3034,2,20200227,0318,  27.23293, -15.60019,  3151,   454.6, 12.4860,2, 12.4774,2, 35.6856,2, 35.6877,2,   148.6,2,   156.0,2,    6.36,2,   17.11,2,    1.02,2,  2341.8,2,  2185.0,2, -999.00,9, -999.00,9
740H20200119,A05_24N,130,1,2,3035,2,20200227,0318,  27.23293, -15.60019,  3151,   404.0, 13.1651,2, 13.2021,2, 35.7706,2, 35.7489,2,   146.1,2,   146.4,2,    6.22,2,   17.10,2,    1.03,2,  2341.8,6,  2186.8,6, -999.00,9, -999.00,9
740H20200119,A05_24N,130,1,3,3036,2,20200227,0318,  27.23293, -15.60019,  3151,   303.1, 14.5072,2, 14.5333,2, 35.9250,2, 35.9289,2,   124.5,2,   132.5,2,    5.36,2,   16.41,2,    0.97,2,  2350.0,2,  2193.7,3, -999.00,9, -999.00,9
740H20200119,A05_24N,130,1,4,3037,2,20200227,0318,  27.23293, -15.60019,  3151,   202.5, 16.9203,2, 16.9744,2, 36.3680,2, 36.3413,2,   195.2,2,   195.2,2,    1.53,2,    5.89,2,    0.35,2,  2378.3,2,  2147.3,2, -999.00,9, -999.00,9
740H20200119,A05_24N,130,1,5,6409,2,20200227,0318,  27.23293, -15.60019,  3151,   102.0, 19.1567,2, 19.1662,2, 36.7626,2, 36.7623,2,   226.2,2,   227.0,2,    0.16,2,    0.48,2,    0.07,2,  2407.3,2,  2130.5,2, -999.00,9, -999.00,9
740H20200119,A05_24N,130,1,6,6410,2,20200227,0318,  27.23293, -15.60019,  3151,    41.5, 19.2295,2, 19.2249,2, 36.7749,2, 36.7744,2,   228.4,2,   229.4,2,    0.14,2,    0.43,2,    0.05,2,  2406.7,2,  2125.1,2, -999.00,9, -999.00,9
740H20200119,A05_24N,130,1,7,6411,2,20200227,0318,  27.23293, -15.60019,  3151,    41.5, 19.2286,2, 19.2290,2, 36.7749,2,-999.0000,9,   228.4,2,  -999.0,9, -999.00,9, -999.00,9, -999.00,9,  -999.0,9,  -999.0,9, -999.00,9, -999.00,9
740H20200119,A05_24N,130,1,8,6412,2,20200227,0318,  27.23293, -15.60019,  3151,    41.6, 19.2287,2,-999.0000,9, 36.7749,2,-999.0000,9,   228.4,2,  -999.0,9, -999.00,9, -999.00,9, -999.00,9,  -999.0,9,  -999.0,9, -999.00,9, -999.00,9
740H20200119,A05_24N,130,1,9,6413,2,20200227,0318,  27.23293, -15.60019,  3151,    41.8, 19.2282,2, 19.2300,2, 36.7749,2,-999.0000,9,   227.8,2,  -999.0,9, -999.00,9, -999.00,9, -999.00,9,  -999.0,9,  -999.0,9, -999.00,9, -999.00,9
740H20200119,A05_24N,130,1,10,6414,2,20200227,0318,  27.23293, -15.60019,  3151,     6.2, 19.2223,2, 19.2180,2, 36.7751,2, 36.7747,2,   228.7,2,   230.0,2,    0.20,2,    0.40,2,    0.06,2,  2408.8,6,  2127.2,6, -999.00,9, -999.00,9