BOTTLE,20221012CCHSIOENA
EXPOCODE,SECT_ID,STNNBR,CASTNO,SAMPNO,BTLNBR,BTLNBR_FLAG_W,DATE,TIME,LATITUDE,LONGITUDE,DEPTH,CTDPRS,CTDTMP,CTDTMP_FLAG_W,SBE35,SBE35_FLAG_W,CTDSAL,CTDSAL_FLAG_W,SALNTY,SALNTY_FLAG_W,CTDOXY,CTDOXY_FLAG_W,OXYGEN,OXYGEN_FLAG_W,SILCAT,SILCAT_FLAG_W,NO2+NO3,NO2+NO3_FLAG_W,PHSPHT,PHSPHT_FLAG_W,ALKALI,ALKALI_FLAG_W,TCARBN,TCARBN_FLAG_W,DELC14,DELC14_FLAG_W,DELC13,DELC13_FLAG_W
 , , , , , , , , , , , ,DBAR,ITS-90, ,ITS-90, ,PSS-78, ,PSS-78, ,UMOL/KG, ,UMOL/KG, ,UMOL/KG, ,UMOL/KG, ,UMOL/KG, ,UMOL/KG, ,UMOL/KG, ,/MILLE, ,/MILLE, 
740H20200119,A05_24N,116,1,11,3044,2,20200222,1545,  24.49974, -25.76662,  5334,  5423.0,  2.4601,2,  2.4600,2, 34.8846,2, 34.8837,2,   245.4,2,   244.0,2,   47.06,2,   22.05,2,    1.50,2,  2350.1,6,  2202.6,6, -999.00,9, -999.00,9
740H20200119,A05_24N,116,1,12,3045,2,20200222,1545,  24.49974, -25.76662,  5334,  4836.2,  2.3929,2,  2.3927,2, 34.8860,2, 34.8853,2,   245.5,2,   244.7,2,   46.95,2,   21.99,2,    1.50,2,  2348.1,2,  2204.8,2, -999.00,9, -999.00,9
740H20200119,A05_24N,116,1,13,3046,2,20200222,1545,  24.49974, -25.76662,  5334,  4322.7,  2.3846,2,  2.3836,2, 34.8919,2, 34.8908,2,   245.6,2,   244.5,2,   45.45,2,   21.87,2,    1.49,2,  2344.1,2,  2201.9,2, -999.00,9, -999.00,9
740H20200119,A05_24N,116,1,14,7131,2,20200222,1545,  24.49974, -25.76662,  5334,  3810.8,  2.4480,2,  2.4480,2, 34.9033,2, 34.9022,2,   245.4,2,   244.7,2,   42.64,2,   21.59,2,    1.47,2,  2344.4,2,  2198.7,2, -999.00,9, -999.00,9
740H20200119,A05_24N,116,1,15,3048,2,20200222,1545,  24.49974, -25.76662,  5334,  3295.2,  2.5968,2,  2.5986,2, 34.9222,2, 34.9210,2,   245.7,2,   244.5,2,   38.25,2,   21.03,2,    1.42,2,  2338.1,2,  2193.9,2, -999.00,9, -999.00,9
740H20200119,A05_24N,116,1,16,3049,2,20200222,1545,  24.49974, -25.76662,  5334,  2786.8,  2.9081,2,  2.9127,2, 34.9543,2, 34.9527,2,   245.6,2,   244.8,2,   32.14,2,   20.38,2,    1.37,2,  2335.3,2,  2187.6,2, -999.00,9, -999.00,9
740H20200119,A05_24N,116,1,17,3050,2,20200222,1545,  24.49974, -25.76662,  5334,  2274.6,  3.5963,2,  3.6143,2, 35.0212,2, 35.0222,2,   239.5,2,   238.4,2,   25.08,2,   20.06,2,    1.34,2,  2328.1,6,  2179.3,6, -999.00,9, -999.00,9
740H20200119,A05_24N,116,1,18,3051,2,20200222,1545,  24.49974, -25.76662,  5334,  1768.2,  4.8386,2,  4.8383,2, 35.1424,2, 35.1421,2,   217.8,2,   217.5,2,   20.42,2,   20.75,2,    1.38,2,  -999.0,9,  2186.7,2, -999.00,9, -999.00,9
740H20200119,A05_24N,116,1,19,3052,2,20200222,1545,  24.49974, -25.76662,  5334,  1513.3,  5.7211,2,  5.7740,2, 35.2048,2, 35.2009,2,   197.6,2,   197.5,2,   18.85,2,   21.93,2,    1.46,2,  2329.1,2,  2190.1,2, -999.00,9, -999.00,9
740H20200119,A05_24N,116,1,20,3053,2,20200222,1545,  24.49974, -25.76662,  5334,  1309.5,  6.1839,2,  6.1873,2, 35.1793,2, 35.1792,2,   182.6,2,   182.1,2,   18.10,2,   23.42,2,    1.53,2,  2322.5,2,  2197.0,2, -999.00,9, -999.00,9
740H20200119,A05_24N,116,1,21,3054,2,20200222,1545,  24.49974, -25.76662,  5334,  1157.3,  6.6335,2,  6.6295,2, 35.1558,2, 35.1573,2,   162.5,2,   162.9,2,   18.75,2,   25.23,2,    1.64,2,  2322.1,6,  2206.0,6, -999.00,9, -999.00,9
740H20200119,A05_24N,116,1,22,3055,2,20200222,1545,  24.49974, -25.76662,  5334,  1060.7,  6.8322,2,  6.8166,2, 35.1043,2, 35.1040,2,   150.6,2,   150.5,2,   19.23,2,   26.71,2,    1.74,2,  2316.4,2,  2206.9,2, -999.00,9, -999.00,9
740H20200119,A05_24N,116,1,23,3056,2,20200222,1545,  24.49974, -25.76662,  5334,   959.6,  7.5027,2,  7.4963,2, 35.1481,2, 35.1429,2,   138.4,2,   138.1,2,   18.37,2,   27.31,2,    1.76,2,  2318.2,2,  2212.1,2, -999.00,9, -999.00,9
740H20200119,A05_24N,116,1,24,3057,2,20200222,1545,  24.49974, -25.76662,  5334,   858.2,  8.2619,2,  8.2484,2, 35.1999,2, 35.1954,2,   126.6,2,   126.8,2,   16.88,2,   27.44,2,    1.75,2,  2319.5,6,  2213.8,6, -999.00,9, -999.00,9
740H20200119,A05_24N,116,1,1,3034,2,20200222,1545,  24.49974, -25.76662,  5334,   757.3,  9.2958,2,  9.3054,2, 35.2985,2, 35.2919,2,   125.8,2,   124.9,2,   14.35,2,   26.00,2,    1.63,2,  2321.4,2,  2208.8,2, -999.00,9, -999.00,9
740H20200119,A05_24N,116,1,2,3035,2,20200222,1545,  24.49974, -25.76662,  5334,   656.0, 10.5772,2, 10.5844,2, 35.4479,2, 35.4458,2,   129.3,2,   129.9,2,   11.01,2,   23.26,2,    1.43,2,  2324.8,6,  2201.7,6, -999.00,9, -999.00,9
740H20200119,A05_24N,116,1,3,3036,2,20200222,1545,  24.49974, -25.76662,  5334,   504.2, 12.6444,2, 12.6461,2, 35.7142,2, 35.7005,2,   157.6,2,   156.2,2,    6.18,2,   16.96,2,    1.00,2,  2336.9,2,  2181.0,2, -999.00,9, -999.00,9
740H20200119,A05_24N,116,1,4,3037,2,20200222,1545,  24.49974, -25.76662,  5334,   377.7, 14.4032,2, 14.4799,2, 35.9522,2, 35.9498,2,   161.0,2,   160.8,2,    4.16,2,   13.29,2,    0.76,2,  2351.6,6,  2174.3,6, -999.00,9, -999.00,9
740H20200119,A05_24N,116,1,5,6409,2,20200222,1545,  24.49974, -25.76662,  5334,   251.3, 17.1596,2, 17.1880,2, 36.3950,2, 36.3595,2,   188.5,2,   189.2,2,    1.78,2,    6.31,2,    0.35,2,  2377.0,2,  2143.4,2, -999.00,9, -999.00,9
740H20200119,A05_24N,116,1,6,6410,2,20200222,1545,  24.49974, -25.76662,  5334,   150.6, 20.3768,2, 20.4317,2, 37.0111,2, 37.0037,2,   211.3,2,   208.5,2,    0.60,2,    0.89,2,    0.05,2,  -999.0,9,  2127.0,2, -999.00,9, -999.00,9
740H20200119,A05_24N,116,1,7,6411,2,20200222,1545,  24.49974, -25.76662,  5334,   100.4, 21.4041,2, 21.4084,2, 37.1954,2, 37.1967,2,   217.5,2,   217.8,2,    0.42,2,    0.06,2,    0.02,2,  2430.3,2,  2124.9,2, -999.00,9, -999.00,9
740H20200119,A05_24N,116,1,8,6412,2,20200222,1545,  24.49974, -25.76662,  5334,    75.5, 21.4053,2, 21.4023,2, 37.1951,2, 37.1958,2,   217.8,2,   218.3,2,    0.46,2,    0.06,2,    0.03,2,  -999.0,9,  2128.5,2, -999.00,9, -999.00,9
740H20200119,A05_24N,116,1,9,6413,2,20200222,1545,  24.49974, -25.76662,  5334,    34.7, 21.4068,2, 21.4039,2, 37.1950,2, 37.1959,2,   218.4,2,   218.7,2,    0.57,2,    0.06,2,    0.03,2,  2431.2,2,  2125.3,2, -999.00,9, -999.00,9
740H20200119,A05_24N,116,1,10,6414,2,20200222,1545,  24.49974, -25.76662,  5334,     4.8, 21.4607,2, 21.4580,2, 37.1965,2, 37.1979,2,   218.1,2,   219.1,2,    0.57,2,    0.08,2,    0.03,2,  2434.9,2,  2128.2,2, -999.00,9, -999.00,9
740H20200119,A05_24N,117,1,11,3044,2,20200223,0106,  24.49994, -24.78297,  5211,  5298.5,  2.4497,2,  2.4494,2, 34.8853,2, 34.8847,2,   245.7,2,   244.2,2,   47.36,2,   22.33,2,    1.50,2,  2352.3,6,  2205.3,6, -999.00,9, -999.00,9
740H20200119,A05_24N,117,1,12,3045,2,20200223,0106,  24.49994, -24.78297,  5211,  4572.2,  2.3778,2,  2.3777,2, 34.8879,2, 34.8875,2,   245.5,2,   244.3,2,   46.65,2,   22.02,2,    1.49,2,  2346.2,2,  2204.1,2, -999.00,9, -999.00,9
740H20200119,A05_24N,117,1,13,3046,2,20200223,0106,  24.49994, -24.78297,  5211,  4065.1,  2.4030,2,  2.4024,2, 34.8963,2, 34.8960,2,   245.7,2,   244.9,2,   44.69,2,   21.84,2,    1.49,2,  2344.6,6,  2199.4,6, -999.00,9, -999.00,9
740H20200119,A05_24N,117,1,14,7131,2,20200223,0106,  24.49994, -24.78297,  5211,  3554.8,  2.4991,2,  2.4989,2, 34.9107,2, 34.9103,2,   245.2,2,   245.1,2,   41.38,2,   21.43,2,    1.46,2,  2340.0,2,  2194.8,2, -999.00,9, -999.00,9
740H20200119,A05_24N,117,1,15,3048,2,20200223,0106,  24.49994, -24.78297,  5211,  3045.3,  2.7328,2,  2.7359,2, 34.9369,2, 34.9363,2,   245.6,2,   244.3,2,   35.77,2,   20.78,2,    1.41,2,  2336.6,6,  2191.5,6, -999.00,9, -999.00,9
740H20200119,A05_24N,117,1,16,3049,2,20200223,0106,  24.49994, -24.78297,  5211,  2532.0,  3.2504,2,  3.2502,2, 34.9873,2, 34.9855,2,   242.9,2,   242.3,2,   28.60,2,   20.24,2,    1.36,2,  2330.2,2,  2182.6,2, -999.00,9, -999.00,9
740H20200119,A05_24N,117,1,17,3050,2,20200223,0106,  24.49994, -24.78297,  5211,  2020.8,  4.1092,2,  4.1068,2, 35.0665,2, 35.0667,2,   230.4,2,   229.5,2,   22.83,2,   20.59,2,    1.38,2,  2325.1,6,  2181.1,6, -999.00,9, -999.00,9
740H20200119,A05_24N,117,1,18,3051,2,20200223,0106,  24.49994, -24.78297,  5211,  1639.7,  5.1581,2,  5.1598,2, 35.1556,2, 35.1517,2,   210.6,2,   210.1,2,   19.83,2,   21.41,2,    1.42,2,  2330.6,2,  2185.9,2, -999.00,9, -999.00,9
740H20200119,A05_24N,117,1,19,3052,2,20200223,0106,  24.49994, -24.78297,  5211,  1415.0,  5.9091,2,  5.9165,2, 35.1968,2, 35.1964,2,   193.9,2,   194.2,2,   18.30,2,   22.38,2,    1.48,2,  2325.9,2,  2193.2,2, -999.00,9, -999.00,9
740H20200119,A05_24N,117,1,20,3053,2,20200223,0106,  24.49994, -24.78297,  5211,  1214.0,  6.4048,2,  6.4100,2, 35.1509,2, 35.1607,2,   170.3,2,   169.1,2,   19.07,2,   24.78,2,    1.63,2,  2324.2,6,  2202.0,6, -999.00,9, -999.00,9
740H20200119,A05_24N,117,1,21,3054,2,20200223,0106,  24.49994, -24.78297,  5211,  1111.8,  6.6619,2,  6.6637,2, 35.1096,2, 35.1088,2,   159.3,2,   159.4,2,   19.14,2,   25.95,2,    1.71,2,  2318.6,2,  2204.4,2, -999.00,9, -999.00,9
740H20200119,A05_24N,117,1,22,3055,2,20200223,0106,  24.49994, -24.78297,  5211,  1010.0,  7.2384,2,  7.2794,2, 35.1320,2, 35.1276,2,   144.9,2,   145.0,2,   18.87,2,   26.88,2,    1.75,2,  2318.4,2,  2208.2,6, -999.00,9, -999.00,9
740H20200119,A05_24N,117,1,23,3056,2,20200223,0106,  24.49994, -24.78297,  5211,   908.8,  7.9014,2,  7.9280,2, 35.1686,2, 35.1657,2,   132.8,2,   132.2,2,   17.85,2,   27.41,2,    1.78,2,  2319.1,2,  2210.4,2, -999.00,9, -999.00,9
740H20200119,A05_24N,117,1,24,3057,2,20200223,0106,  24.49994, -24.78297,  5211,   807.0,  8.8453,2,  8.8415,2, 35.2489,2, 35.2409,2,   123.0,2,   121.8,2,   15.93,2,   27.33,2,    1.74,2,  2326.3,2,  2209.9,2, -999.00,9, -999.00,9
740H20200119,A05_24N,117,1,1,3034,2,20200223,0106,  24.49994, -24.78297,  5211,   706.2,  9.8105,2, 10.0001,2, 35.3419,2, 35.3474,2,   121.2,2,   120.7,2,   13.20,2,   25.71,2,    1.59,2,  2321.2,2,  2209.9,2, -999.00,9, -999.00,9
740H20200119,A05_24N,117,1,2,3035,2,20200223,0106,  24.49994, -24.78297,  5211,   605.0, 11.4557,2, 11.4943,2, 35.5429,2, 35.5319,2,   128.4,2,   128.1,2,    9.72,2,   22.49,2,    1.36,2,  2326.2,2,  2203.0,2, -999.00,9, -999.00,9
740H20200119,A05_24N,117,1,3,3036,2,20200223,0106,  24.49994, -24.78297,  5211,   503.8, 12.6489,2, 12.7169,2, 35.6779,2, 35.6660,2,   119.9,2,   119.2,2,    7.90,2,   21.23,2,    1.25,2,  2335.3,2,  2204.9,2, -999.00,9, -999.00,9
740H20200119,A05_24N,117,1,4,3037,2,20200223,0106,  24.49994, -24.78297,  5211,   277.3, 17.6379,2, 17.6344,2, 36.5018,2, 36.4928,2,   193.7,2,   193.0,2,    1.51,2,    5.24,2,    0.35,2,  -999.0,9,  2153.4,2, -999.00,9, -999.00,9
740H20200119,A05_24N,117,1,5,6409,2,20200223,0106,  24.49994, -24.78297,  5211,   101.0, 20.9637,2, 20.9603,2, 37.0038,2, 37.0018,2,   219.5,2,   219.4,2,    0.47,2,    0.15,2,    0.04,2,  2416.8,2,  2131.1,2, -999.00,9, -999.00,9
740H20200119,A05_24N,117,1,6,6410,2,20200223,0106,  24.49994, -24.78297,  5211,    40.4, 20.9701,2, 20.9697,2, 37.0070,2,-999.0000,9,   220.8,2,  -999.0,9, -999.00,9, -999.00,9, -999.00,9,  -999.0,9,  -999.0,9, -999.00,9, -999.00,9
740H20200119,A05_24N,117,1,7,6411,2,20200223,0106,  24.49994, -24.78297,  5211,    40.5, 20.9692,2, 20.9694,2, 37.0070,2,-999.0000,9,   221.2,2,  -999.0,9, -999.00,9, -999.00,9, -999.00,9,  -999.0,9,  -999.0,9, -999.00,9, -999.00,9
740H20200119,A05_24N,117,1,8,6412,2,20200223,0106,  24.49994, -24.78297,  5211,    40.4, 20.9687,2,-999.0000,9, 37.0071,2,-999.0000,9,   220.6,2,  -999.0,9, -999.00,9, -999.00,9, -999.00,9,  -999.0,9,  -999.0,9, -999.00,9, -999.00,9
740H20200119,A05_24N,117,1,9,6413,2,20200223,0106,  24.49994, -24.78297,  5211,    40.2, 20.9681,2,-999.0000,9, 37.0071,2, 37.0082,2,   220.1,2,   219.2,2,    0.49,2,    0.09,2,    0.04,2,  2419.8,2,  2128.0,2, -999.00,9, -999.00,9
740H20200119,A05_24N,117,1,10,6414,2,20200223,0106,  24.49994, -24.78297,  5211,     5.8, 20.9546,2, 20.9547,2, 37.0077,2, 37.0091,2,   220.6,2,   220.6,2,    0.54,2,    0.09,2,    0.03,2,  2417.9,2,  2129.2,2, -999.00,9, -999.00,9
740H20200119,A05_24N,118,1,11,3044,2,20200223,1013,  24.49974, -23.80002,  5064,  5146.4,  2.4365,2,  2.4362,2, 34.8859,2, 34.8855,2,   245.5,2,   244.6,2,   47.32,2,   22.12,2,    1.50,2,  2349.9,6,  2204.0,6, -999.00,9, -999.00,9
740H20200119,A05_24N,118,1,12,3045,2,20200223,1013,  24.49974, -23.80002,  5064,  4834.6,  2.3977,2,  2.3974,2, 34.8860,2, 34.8866,2,   245.3,2,   243.8,2,   47.34,2,   22.14,2,    1.51,2,  2352.1,2,  2203.7,2, -999.00,9, -999.00,9
740H20200119,A05_24N,118,1,13,3046,2,20200223,1013,  24.49974, -23.80002,  5064,  4322.4,  2.3716,2,  2.3718,2, 34.8902,2, 34.8893,2,   245.7,2,   245.1,2,   46.41,2,   21.97,2,    1.50,2,  2344.6,2,  2200.2,2, -999.00,9, -999.00,9
740H20200119,A05_24N,118,1,14,7131,2,20200223,1013,  24.49974, -23.80002,  5064,  3811.9,  2.4465,2,  2.4471,2, 34.9032,2, 34.9029,2,   245.0,2,   244.0,2,   43.50,2,   21.77,2,    1.49,2,  2344.9,6,  2197.3,6, -999.00,9, -999.00,9
740H20200119,A05_24N,118,1,15,3048,2,20200223,1013,  24.49974, -23.80002,  5064,  3297.9,  2.6523,2,  2.6524,2, 34.9273,2, 34.9274,2,   243.2,2,   242.2,2,   38.62,2,   21.32,2,    1.44,2,  2344.9,2,  2196.3,2, -999.00,9, -999.00,9
740H20200119,A05_24N,118,1,16,3049,2,20200223,1013,  24.49974, -23.80002,  5064,  2784.9,  3.0145,2,  3.0174,2, 34.9621,2, 34.9612,2,   238.5,2,   238.0,2,   33.13,2,   21.12,2,    1.42,2,  2336.3,2,  2193.9,2, -999.00,9, -999.00,9
740H20200119,A05_24N,118,1,17,3050,2,20200223,1013,  24.49974, -23.80002,  5064,  2278.4,  3.6783,2,  3.6813,2, 35.0237,2, 35.0228,2,   228.0,2,   227.3,2,   28.27,2,   21.39,2,    1.44,2,  2333.5,6,  2188.6,6, -999.00,9, -999.00,9
740H20200119,A05_24N,118,1,18,3051,2,20200223,1013,  24.49974, -23.80002,  5064,  1768.3,  4.7032,2,  4.7063,2, 35.1113,2, 35.1126,2,   211.8,2,   211.4,2,   22.40,2,   21.88,2,    1.46,2,  2328.5,2,  2190.8,2, -999.00,9, -999.00,9
740H20200119,A05_24N,118,1,19,3052,2,20200223,1013,  24.49974, -23.80002,  5064,  1513.9,  5.5842,2,  5.5928,2, 35.1751,2, 35.1729,2,   195.2,2,   194.8,2,   19.81,2,   22.68,2,    1.49,2,  2328.5,2,  2192.7,2, -999.00,9, -999.00,9
740H20200119,A05_24N,118,1,20,3053,2,20200223,1013,  24.49974, -23.80002,  5064,  1311.2,  6.1697,2,  6.1735,2, 35.1560,2, 35.1587,2,   178.3,2,   177.8,2,   18.71,2,   24.19,2,    1.58,2,  2324.3,6,  2199.3,6, -999.00,9, -999.00,9
740H20200119,A05_24N,118,1,21,3054,2,20200223,1013,  24.49974, -23.80002,  5064,  1159.2,  6.3376,2,  6.3368,2, 35.0748,2, 35.0810,2,   162.6,2,   162.7,2,   19.56,2,   26.17,2,    1.71,2,  2320.4,2,  2202.7,2, -999.00,9, -999.00,9
740H20200119,A05_24N,118,1,22,3055,2,20200223,1013,  24.49974, -23.80002,  5064,  1057.7,  6.7868,2,  6.8152,2, 35.0781,2, 35.0788,2,   147.6,2,   146.8,2,   19.85,2,   27.60,2,    1.81,2,  2318.5,2,  2209.7,2, -999.00,9, -999.00,9
740H20200119,A05_24N,118,1,23,3056,2,20200223,1013,  24.49974, -23.80002,  5064,   956.3,  7.3276,2,  7.3283,2, 35.0961,2, 35.0913,2,   131.6,2,   131.3,2,   19.62,2,   28.80,2,    1.87,2,  2318.7,2,  2213.4,2, -999.00,9, -999.00,9
740H20200119,A05_24N,118,1,24,3057,2,20200223,1013,  24.49974, -23.80002,  5064,   855.4,  7.7268,2,  7.7327,2, 35.0828,2, 35.0791,2,   114.0,2,   114.1,2,   19.42,2,   30.47,2,    1.94,2,  2315.3,6,  2221.6,6, -999.00,9, -999.00,9
740H20200119,A05_24N,118,1,1,3034,2,20200223,1013,  24.49974, -23.80002,  5064,   753.6,  8.8477,2,  8.8611,2, 35.2033,2, 35.2038,2,   106.4,2,   107.4,2,   16.54,2,   29.31,2,    1.84,2,  2318.1,2,  2220.0,2, -999.00,9, -999.00,9
740H20200119,A05_24N,118,1,2,3035,2,20200223,1013,  24.49974, -23.80002,  5064,   652.5, 10.2949,2, 10.3222,2, 35.3958,2, 35.3812,2,   115.3,2,   114.3,2,   12.93,2,   26.13,2,    1.59,2,  2325.0,2,  2210.3,2, -999.00,9, -999.00,9
740H20200119,A05_24N,118,1,3,3036,2,20200223,1013,  24.49974, -23.80002,  5064,   506.3, 12.2719,2, 12.2954,2, 35.6542,2, 35.6400,2,   137.6,2,   136.3,2,    7.97,2,   20.10,2,    1.19,2,  2335.2,6,  2194.7,6, -999.00,9, -999.00,9
740H20200119,A05_24N,118,1,4,3037,2,20200223,1013,  24.49974, -23.80002,  5064,   303.9, 15.5917,2, 15.5948,2, 36.1372,2, 36.1140,2,   188.0,2,   184.6,2,    2.93,2,    9.22,2,    0.54,2,  2363.6,2,  2153.6,2, -999.00,9, -999.00,9
740H20200119,A05_24N,118,1,5,6409,2,20200223,1013,  24.49974, -23.80002,  5064,   203.8, 17.4595,2, 17.4596,2, 36.3860,2, 36.3587,2,   151.0,2,   146.6,2,    3.18,2,   11.11,4,    0.68,4,  2375.4,2,  2178.4,2, -999.00,9, -999.00,9
740H20200119,A05_24N,118,1,6,6410,2,20200223,1013,  24.49974, -23.80002,  5064,   153.0, 19.7384,2, 19.7752,2, 36.8423,2, 36.8020,2,   203.4,2,   201.3,2,    0.96,2,    2.16,2,    0.16,2,  2403.6,2,  2139.3,2, -999.00,9, -999.00,9
740H20200119,A05_24N,118,1,7,6411,2,20200223,1013,  24.49974, -23.80002,  5064,    77.8, 20.9751,2, 20.9747,2, 37.0354,2, 37.0371,2,   219.7,2,   220.6,2,    0.63,2,    0.11,2,    0.06,2,  2422.5,2,  2127.4,2, -999.00,9, -999.00,9
740H20200119,A05_24N,118,1,8,6412,2,20200223,1013,  24.49974, -23.80002,  5064,    52.2, 20.9742,2, 20.9730,2, 37.0361,2, 37.0374,2,   220.4,2,   221.0,2,    0.63,2,    0.11,2,    0.06,2,  2423.2,2,  2125.7,2, -999.00,9, -999.00,9
740H20200119,A05_24N,118,1,9,6413,2,20200223,1013,  24.49974, -23.80002,  5064,    27.2, 20.9767,2, 20.9739,2, 37.0357,2, 37.0372,2,   220.4,2,   220.3,2,    0.63,2,    0.11,2,    0.06,2,  2424.2,2,  2128.6,2, -999.00,9, -999.00,9
740H20200119,A05_24N,118,1,10,6414,2,20200223,1013,  24.49974, -23.80002,  5064,     7.0, 20.9817,2, 20.9806,2, 37.0354,2, 37.0375,2,   220.7,2,   220.9,2,    0.67,2,    0.12,2,    0.05,2,  2423.7,2,  2125.6,2, -999.00,9, -999.00,9