BOTTLE,20221012CCHSIOENA
EXPOCODE,SECT_ID,STNNBR,CASTNO,SAMPNO,BTLNBR,BTLNBR_FLAG_W,DATE,TIME,LATITUDE,LONGITUDE,DEPTH,CTDPRS,CTDTMP,CTDTMP_FLAG_W,SBE35,SBE35_FLAG_W,CTDSAL,CTDSAL_FLAG_W,SALNTY,SALNTY_FLAG_W,CTDOXY,CTDOXY_FLAG_W,OXYGEN,OXYGEN_FLAG_W,SILCAT,SILCAT_FLAG_W,NO2+NO3,NO2+NO3_FLAG_W,PHSPHT,PHSPHT_FLAG_W,ALKALI,ALKALI_FLAG_W,TCARBN,TCARBN_FLAG_W,DELC14,DELC14_FLAG_W,DELC13,DELC13_FLAG_W
 , , , , , , , , , , , ,DBAR,ITS-90, ,ITS-90, ,PSS-78, ,PSS-78, ,UMOL/KG, ,UMOL/KG, ,UMOL/KG, ,UMOL/KG, ,UMOL/KG, ,UMOL/KG, ,UMOL/KG, ,/MILLE, ,/MILLE, 
740H20200119,A05_24N,65,1,11,3044,2,20200204,2330,  24.50070, -58.86728,  5889,  5999.7,  2.0817,2,  2.0799,4, 34.8406,2, 34.8403,2,   248.3,2,   249.6,2,   58.90,2,   22.92,2,    1.57,2,  2344.4,6,  2208.7,6, -999.00,9, -999.00,9
740H20200119,A05_24N,65,1,12,3045,2,20200204,2330,  24.50070, -58.86728,  5889,  5895.2,  2.0676,2,  2.0675,2, 34.8407,2, 34.8402,2,   248.2,2,   248.9,2,   58.91,2,   22.99,2,    1.58,2,  2348.2,2,  2207.6,2, -999.00,9, -999.00,9
740H20200119,A05_24N,65,1,13,3046,2,20200204,2330,  24.50070, -58.86728,  5889,  5373.6,  2.0421,2,  2.0430,4, 34.8468,2, 34.8470,2,   250.0,2,   251.1,2,   56.18,2,   22.60,2,    1.54,2,  2342.1,2,  2205.0,2, -999.00,9, -999.00,9
740H20200119,A05_24N,65,1,14,7131,2,20200204,2330,  24.50070, -58.86728,  5889,  4853.3,  2.2080,2,  2.2114,4, 34.8748,2, 34.8736,2,   258.0,2,   258.6,2,   42.18,2,   20.63,2,    1.40,2,  2336.3,6,  2190.1,6, -999.00,9, -999.00,9
740H20200119,A05_24N,65,1,15,3048,2,20200204,2330,  24.50070, -58.86728,  5889,  4334.5,  2.2808,2,  2.2845,4, 34.8880,2, 34.8880,2,   262.8,2,   264.0,2,   34.47,2,   19.54,2,    1.32,2,  2327.1,2,  2180.4,2, -999.00,9, -999.00,9
740H20200119,A05_24N,65,1,16,3049,2,20200204,2330,  24.50070, -58.86728,  5889,  3817.1,  2.3596,2,  2.3721,4, 34.8984,2, 34.8982,2,   263.1,2,   263.8,2,   32.45,2,   19.33,2,    1.30,2,  2325.7,2,  2180.1,2, -999.00,9, -999.00,9
740H20200119,A05_24N,65,1,17,3050,2,20200204,2330,  24.50070, -58.86728,  5889,  3301.1,  2.5855,2,  2.5934,2, 34.9174,2, 34.9178,2,   258.4,2,   252.6,4,   31.61,2,   19.68,2,    1.32,2,  2326.8,2,  2178.4,2, -999.00,9, -999.00,9
740H20200119,A05_24N,65,1,18,3051,2,20200204,2330,  24.50070, -58.86728,  5889,  2787.5,  2.8854,2,  2.9108,4, 34.9434,2, 34.9438,2,   252.7,2,   253.2,2,   30.20,2,   20.04,2,    1.34,2,  2327.0,2,  2181.4,2, -999.00,9, -999.00,9
740H20200119,A05_24N,65,1,19,3052,2,20200204,2330,  24.50070, -58.86728,  5889,  2274.3,  3.3289,2,  3.3491,4, 34.9762,2, 34.9757,2,   254.6,2,   255.0,2,   22.51,2,   19.21,2,    1.26,2,  2320.8,2,  2173.9,2, -999.00,9, -999.00,9
740H20200119,A05_24N,65,1,20,3053,2,20200204,2330,  24.50070, -58.86728,  5889,  1768.0,  3.9712,2,  4.0226,4, 35.0106,2, 35.0111,2,   253.6,2,   253.9,2,   15.86,2,   18.54,2,    1.21,2,  2313.4,6,  2169.6,6, -999.00,9, -999.00,9
740H20200119,A05_24N,65,1,21,3054,2,20200204,2330,  24.50070, -58.86728,  5889,  1517.5,  4.4423,2,  4.5216,4, 35.0327,2, 35.0326,2,   248.0,2,   248.9,2,   13.72,2,   18.61,2,    1.21,2,  2311.6,2,  2171.6,2, -999.00,9, -999.00,9
740H20200119,A05_24N,65,1,22,3055,2,20200204,2330,  24.50070, -58.86728,  5889,  1314.4,  4.9410,2,  5.0821,4, 35.0484,2, 35.0463,2,   236.8,2,   238.4,2,   13.24,2,   19.16,2,    1.25,2,  2312.2,2,  2175.9,2, -999.00,9, -999.00,9
740H20200119,A05_24N,65,1,23,3056,2,20200204,2330,  24.50070, -58.86728,  5889,  1162.1,  5.5650,2,  5.7315,4, 35.0544,2, 35.0557,2,   214.0,2,   215.7,2,   14.63,2,   20.93,2,    1.37,2,  2313.8,6,  2179.9,6, -999.00,9, -999.00,9
740H20200119,A05_24N,65,1,24,3057,2,20200204,2330,  24.50070, -58.86728,  5889,  1060.5,  6.1326,2,  6.2930,4, 35.0402,2, 35.0439,2,   188.8,2,   192.5,2,   16.52,2,   23.15,2,    1.52,2,  2313.5,2,  2191.7,2, -999.00,9, -999.00,9
740H20200119,A05_24N,65,1,1,3034,2,20200204,2330,  24.50070, -58.86728,  5889,   959.2,  6.7610,2,  7.1012,4, 35.0208,2, 35.0208,2,   163.0,2,   166.5,2,   18.39,2,   25.89,2,    1.69,2,  2318.4,2,  2203.1,2, -999.00,9, -999.00,9
740H20200119,A05_24N,65,1,2,3035,2,20200204,2330,  24.50070, -58.86728,  5889,   807.6,  8.8181,2,  9.2551,4, 35.1834,2, 35.1704,2,   143.2,2,   146.2,2,   15.38,2,   25.61,2,    1.61,2,  2314.9,2,  2198.9,2, -999.00,9, -999.00,9
740H20200119,A05_24N,65,1,3,3036,2,20200204,2330,  24.50070, -58.86728,  5889,   756.8,  9.6762,2, 10.3546,4, 35.2805,2, 35.2827,2,   142.7,2,   145.7,2,   13.10,2,   24.12,2,    1.49,2,  2322.0,6,  2194.9,6, -999.00,9, -999.00,9
740H20200119,A05_24N,65,1,4,3037,2,20200204,2330,  24.50070, -58.86728,  5889,   655.1, 11.8266,2, 12.4482,4, 35.5471,2, 35.5334,2,   149.9,2,   152.3,2,    8.99,2,   20.04,2,    1.19,2,  2333.1,2,  2182.8,2, -999.00,9, -999.00,9
740H20200119,A05_24N,65,1,5,3038,2,20200204,2330,  24.50070, -58.86728,  5889,   504.1, 15.1983,2, 15.8140,4, 36.0485,2, 36.0348,2,   174.3,2,   176.6,2,    3.84,2,   11.89,2,    0.64,2,  2358.1,2,  2155.0,2, -999.00,9, -999.00,9
740H20200119,A05_24N,65,1,6,6410,2,20200204,2330,  24.50070, -58.86728,  5889,   301.5, 18.5602,2, 18.8591,4, 36.5702,2, 36.5668,2,   199.0,2,   198.7,2,    1.21,2,    4.24,2,    0.17,2,  2392.3,2,  2125.4,2, -999.00,9, -999.00,9
740H20200119,A05_24N,65,1,7,6411,2,20200204,2330,  24.50070, -58.86728,  5889,   151.1, 20.9486,2, 21.9876,4, 36.8469,2, 36.8286,2,   199.7,2,   198.1,2,    0.53,2,    0.62,2,    0.00,2,  2405.4,2,  2115.4,2, -999.00,9, -999.00,9
740H20200119,A05_24N,65,1,8,6412,2,20200204,2330,  24.50070, -58.86728,  5889,   125.7, 22.4782,2,-999.0000,9, 37.0260,2, 37.0102,2,   209.4,2,   207.2,2,    0.45,2,    0.20,2,   -0.01,2,  2417.6,6,  2104.3,6, -999.00,9, -999.00,9
740H20200119,A05_24N,65,1,9,6413,2,20200204,2330,  24.50070, -58.86728,  5889,    75.5, 24.5723,2, 24.5658,2, 36.9644,2, 36.9616,2,   211.3,2,   209.1,2,    0.91,2,    0.17,2,    0.00,2,  2413.0,2,  2068.5,2, -999.00,9, -999.00,9
740H20200119,A05_24N,65,1,10,3043,2,20200204,2330,  24.50070, -58.86728,  5889,    10.2, 24.9465,2, 23.7600,4, 36.6426,2, 36.6438,2,   210.0,2,   207.6,2,    1.28,2,    0.18,2,    0.00,2,  2400.1,2,  2050.2,2, -999.00,9, -999.00,9
740H20200119,A05_24N,66,1,11,3044,2,20200205,0818,  24.49983, -58.13349,  5827,  5934.4,  2.0740,2,  2.0706,4, 34.8409,2, 34.8417,2,   249.2,2,   247.8,2,   58.93,2,   23.05,2,    1.58,2,  2344.5,6,  2206.5,6, -999.00,9, -999.00,9
740H20200119,A05_24N,66,1,12,3045,2,20200205,0818,  24.49983, -58.13349,  5827,  5634.5,  2.0334,2,  2.0332,2, 34.8411,2, 34.8410,2,   248.5,2,   248.4,2,   58.45,2,   23.12,2,    1.57,2,  2343.3,2,  2204.0,2, -999.00,9, -999.00,9
740H20200119,A05_24N,66,1,13,3046,2,20200205,0818,  24.49983, -58.13349,  5827,  5113.6,  2.0434,2,  2.0455,4, 34.8507,2, 34.8503,2,   251.3,2,   250.4,2,   53.99,2,   22.53,2,    1.52,2,  2340.2,2,  2202.7,2, -999.00,9, -999.00,9
740H20200119,A05_24N,66,1,14,7131,2,20200205,0818,  24.49983, -58.13349,  5827,  4594.4,  2.2152,2,  2.2166,4, 34.8790,2, 34.8792,2,   259.5,2,   259.3,2,   40.32,2,   20.40,2,    1.38,2,  2331.7,6,  2188.6,6, -999.00,9, -999.00,9
740H20200119,A05_24N,66,1,15,3048,2,20200205,0818,  24.49983, -58.13349,  5827,  4076.2,  2.2957,2,  2.2994,4, 34.8920,2, 34.8974,2,   262.5,2,   262.7,2,   34.22,2,   19.55,2,    1.32,2,  2325.4,2,  2182.3,2, -999.00,9, -999.00,9
740H20200119,A05_24N,66,1,16,3049,2,20200205,0818,  24.49983, -58.13349,  5827,  3559.7,  2.4691,2,  2.4739,4, 34.9071,2, 34.9075,2,   258.8,2,   258.4,2,   34.25,2,   20.02,2,    1.34,2,  2325.8,2,  2179.8,2, -999.00,9, -999.00,9
740H20200119,A05_24N,66,1,17,3050,2,20200205,0818,  24.49983, -58.13349,  5827,  3045.1,  2.7388,2,  2.7390,2, 34.9303,2, 34.9306,2,   254.7,2,   254.3,2,   32.11,2,   20.12,2,    1.35,2,  2326.1,6,  2179.4,6, -999.00,9, -999.00,9
740H20200119,A05_24N,66,1,18,3051,2,20200205,0818,  24.49983, -58.13349,  5827,  2531.7,  3.0732,2,  3.0868,4, 34.9594,2, 34.9594,2,   253.0,2,   252.5,2,   27.44,2,   19.73,2,    1.31,2,  2321.9,2,  2177.1,2, -999.00,9, -999.00,9
740H20200119,A05_24N,66,1,19,3052,2,20200205,0818,  24.49983, -58.13349,  5827,  2019.3,  3.5785,2,  3.6025,4, 34.9943,2, 34.9950,2,   254.0,2,   253.1,2,   20.12,2,   18.95,2,    1.25,2,  2318.6,2,  2171.0,2, -999.00,9, -999.00,9
740H20200119,A05_24N,66,1,20,3053,2,20200205,0818,  24.49983, -58.13349,  5827,  1642.0,  4.2817,2,  4.3583,4, 35.0380,2, 35.0388,2,   247.7,2,   247.3,2,   15.50,2,   18.83,2,    1.23,2,  2312.7,2,  2170.1,2, -999.00,9, -999.00,9
740H20200119,A05_24N,66,1,21,3054,2,20200205,0818,  24.49983, -58.13349,  5827,  1412.2,  4.8609,2,  4.8988,4, 35.0568,2, 35.0576,2,   237.5,2,   237.5,2,   13.91,2,   19.26,2,    1.26,2,  2312.0,2,  2175.9,2, -999.00,9, -999.00,9
740H20200119,A05_24N,66,1,22,3055,2,20200205,0818,  24.49983, -58.13349,  5827,  1209.1,  5.5578,2,  5.6113,4, 35.0556,2, 35.0564,2,   212.4,2,   212.3,2,   15.25,2,   21.15,2,    1.39,2,  2313.2,2,  2182.4,2, -999.00,9, -999.00,9
740H20200119,A05_24N,66,1,23,3056,2,20200205,0818,  24.49983, -58.13349,  5827,  1107.5,  5.9187,2,  5.9829,4, 35.0379,2, 35.0392,2,   194.2,2,   195.1,2,   16.80,2,   22.91,2,    1.50,2,  -999.0,9,  2189.3,2, -999.00,9, -999.00,9
740H20200119,A05_24N,66,1,24,3057,2,20200205,0818,  24.49983, -58.13349,  5827,  1006.1,  6.6338,2,  6.6939,4, 35.0481,2, 35.0477,2,   170.7,2,   171.2,2,   17.82,2,   25.07,2,    1.63,2,  2313.8,6,  2194.5,6, -999.00,9, -999.00,9
740H20200119,A05_24N,66,1,1,3034,2,20200205,0818,  24.49983, -58.13349,  5827,   904.5,  7.5845,2,  7.7845,4, 35.0753,2, 35.0764,2,   150.3,2,   151.0,2,   17.61,2,   26.37,2,    1.69,2,  2317.6,6,  2203.5,6, -999.00,9, -999.00,9
740H20200119,A05_24N,66,1,2,3035,2,20200205,0818,  24.49983, -58.13349,  5827,   803.6,  9.1537,2,  9.2687,4, 35.2299,2,-999.0000,9,   143.0,2,   143.4,2,   14.36,2,   24.77,2,    1.55,2,  2320.8,2,  2198.0,2, -999.00,9, -999.00,9
740H20200119,A05_24N,66,1,3,3036,2,20200205,0818,  24.49983, -58.13349,  5827,   702.4, 11.1844,2, 11.6410,4, 35.4856,2, 35.4735,2,   150.1,2,   149.0,2,    9.83,2,   20.84,2,    1.25,2,  2330.3,2,  2186.1,2, -999.00,9, -999.00,9
740H20200119,A05_24N,66,1,4,3037,2,20200205,0818,  24.49983, -58.13349,  5827,   600.8, 12.7613,2, 13.1874,4, 35.6739,2, 35.6903,2,   164.9,2,   166.2,2,    6.57,2,   16.18,2,    0.96,2,  2340.5,2,  2171.3,2, -999.00,9, -999.00,9
740H20200119,A05_24N,66,1,5,3038,2,20200205,0818,  24.49983, -58.13349,  5827,   399.1, 17.1442,2, 17.3118,4, 36.3637,2, 36.3554,2,   182.9,2,   182.1,2,    2.04,2,    7.66,2,    0.38,2,  2375.5,2,  2145.8,2, -999.00,9, -999.00,9
740H20200119,A05_24N,66,1,6,6410,2,20200205,0818,  24.49983, -58.13349,  5827,   197.2, 19.8134,2, 20.5231,4, 36.7107,2, 36.7013,2,   195.4,2,   195.0,2,    0.64,2,    1.66,2,    0.02,2,  2395.7,2,  2121.2,2, -999.00,9, -999.00,9
740H20200119,A05_24N,66,1,7,6411,2,20200205,0818,  24.49983, -58.13349,  5827,   121.3, 23.6791,2, 23.6933,2, 37.1353,2, 37.1310,2,   211.0,2,   208.7,2,    0.43,2,    0.10,2,   -0.01,2,  2424.2,2,  2100.9,2, -999.00,9, -999.00,9
740H20200119,A05_24N,66,1,8,6412,2,20200205,0818,  24.49983, -58.13349,  5827,    76.2, 24.7307,2, 24.7285,4, 36.9432,2, 36.9255,2,   210.7,2,   208.6,2,    0.82,2,    0.09,2,   -0.01,2,  2413.5,2,  2066.6,2, -999.00,9, -999.00,9
740H20200119,A05_24N,66,1,9,6413,2,20200205,0818,  24.49983, -58.13349,  5827,    51.1, 24.7029,2, 24.7029,2, 36.7861,2, 36.7866,2,   209.5,2,   208.9,2,    1.01,2,    0.10,2,   -0.01,2,  2406.6,2,  2058.7,2, -999.00,9, -999.00,9
740H20200119,A05_24N,66,1,10,3043,2,20200205,0818,  24.49983, -58.13349,  5827,     5.4, 24.6920,2,-999.0000,9, 36.7852,2, 36.7856,2,   209.5,2,   208.1,2,    1.01,2,    0.10,2,   -0.01,2,  2404.8,6,  2060.3,6, -999.00,9, -999.00,9
740H20200119,A05_24N,67,1,11,3044,2,20200205,1727,  24.49946, -57.39570,  6277,  6398.4,  2.1361,2,  2.1358,4, 34.8404,2, 34.8409,2,   249.2,2,   249.6,2,   58.56,2,   22.83,2,    1.57,2,  2343.3,6,  2208.8,6, -999.00,9, -999.00,9
740H20200119,A05_24N,67,1,12,3045,2,20200205,1727,  24.49946, -57.39570,  6277,  5872.6,  2.0628,2,  2.0628,2, 34.8407,2, 34.8403,2,   248.5,2,   250.3,2,   58.38,2,   22.85,2,    1.57,2,  2343.3,2,  2206.0,2, -999.00,9, -999.00,9
740H20200119,A05_24N,67,1,13,3046,2,20200205,1727,  24.49946, -57.39570,  6277,  5356.5,  2.0219,2,  2.0235,4, 34.8445,2, 34.8440,2,   249.5,2,   251.4,2,   56.58,2,   22.71,2,    1.56,2,  2343.2,2,  2204.1,2, -999.00,9, -999.00,9
740H20200119,A05_24N,67,1,14,7131,2,20200205,1727,  24.49946, -57.39570,  6277,  4839.0,  2.1560,2,  2.1612,4, 34.8685,2, 34.8678,2,   255.9,2,   257.9,2,   45.55,2,   20.97,2,    1.44,2,  2335.0,2,  2192.4,2, -999.00,9, -999.00,9
740H20200119,A05_24N,67,1,15,3048,2,20200205,1727,  24.49946, -57.39570,  6277,  4325.3,  2.2668,2,  2.2727,4, 34.8857,2, 34.8851,2,   259.5,2,   261.3,2,   38.73,2,   20.02,2,    1.37,2,  2331.2,2,  2186.8,2, -999.00,9, -999.00,9
740H20200119,A05_24N,67,1,16,3049,2,20200205,1727,  24.49946, -57.39570,  6277,  3813.3,  2.3990,2,  2.4143,4, 34.8992,2,-999.0000,9,   257.4,2,   258.2,2,   37.56,2,   20.22,2,    1.37,2,  2330.1,6,  2183.5,6, -999.00,9, -999.00,9
740H20200119,A05_24N,67,1,17,3050,2,20200205,1727,  24.49946, -57.39570,  6277,  3299.2,  2.6516,2,  2.6521,2, 34.9223,2, 34.9214,2,   256.9,2,   258.2,2,   32.23,2,   19.77,2,    1.34,2,  2325.1,2,  2178.4,2, -999.00,9, -999.00,9
740H20200119,A05_24N,67,1,18,3051,2,20200205,1727,  24.49946, -57.39570,  6277,  2788.5,  2.9327,2,  2.9557,4, 34.9468,2, 34.9469,2,   253.5,2,   254.6,2,   29.20,2,   19.82,2,    1.33,2,  2325.5,6,  2177.8,6, -999.00,9, -999.00,9
740H20200119,A05_24N,67,1,19,3052,2,20200205,1727,  24.49946, -57.39570,  6277,  2278.6,  3.3749,2,  3.4197,4, 34.9807,2, 34.9805,2,   254.3,2,   255.0,2,   22.48,2,   19.11,2,    1.27,2,  2319.4,2,  2172.2,2, -999.00,9, -999.00,9
740H20200119,A05_24N,67,1,20,3053,2,20200205,1727,  24.49946, -57.39570,  6277,  1770.3,  4.0509,2,  4.1073,4, 35.0138,2, 35.0136,2,   252.4,2,   253.6,2,   15.63,2,   18.66,2,    1.22,2,  2311.6,2,  2167.7,2, -999.00,9, -999.00,9
740H20200119,A05_24N,67,1,21,3054,2,20200205,1727,  24.49946, -57.39570,  6277,  1515.7,  4.5450,2,  4.6247,4, 35.0293,2, 35.0293,2,   245.2,2,   247.0,2,   13.68,2,   18.84,2,    1.23,2,  2312.2,6,  2172.7,6, -999.00,9, -999.00,9
740H20200119,A05_24N,67,1,22,3055,2,20200205,1727,  24.49946, -57.39570,  6277,  1313.3,  5.0959,2,  5.2098,4, 35.0466,2, 35.0461,2,   229.4,2,   230.2,2,   14.03,2,   19.97,2,    1.30,2,  2311.8,2,  -999.0,9, -999.00,9, -999.00,9
740H20200119,A05_24N,67,1,23,3056,2,20200205,1727,  24.49946, -57.39570,  6277,  1162.0,  5.7118,2,  5.8363,4, 35.0469,2, 35.0465,2,   204.5,2,   207.1,2,   15.75,2,   21.98,2,    1.44,2,  2316.9,2,  2185.6,2, -999.00,9, -999.00,9
740H20200119,A05_24N,67,1,24,3057,2,20200205,1727,  24.49946, -57.39570,  6277,  1060.1,  6.1710,2,  6.3384,4, 35.0219,2, 35.0220,2,   181.1,2,   185.2,2,   17.63,2,   24.33,2,    1.59,2,  2313.4,2,  2191.2,2, -999.00,9, -999.00,9
740H20200119,A05_24N,67,1,1,3034,2,20200205,1727,  24.49946, -57.39570,  6277,   958.5,  6.6810,2,  7.0871,4, 34.9965,2, 34.9946,2,   159.7,2,   162.3,2,   19.07,2,   26.66,2,    1.74,2,  2312.5,2,  2201.4,2, -999.00,9, -999.00,9
740H20200119,A05_24N,67,1,2,3035,2,20200205,1727,  24.49946, -57.39570,  6277,   807.1,  8.6791,2,  9.3350,4, 35.1635,2, 35.1620,2,   141.4,2,   146.1,2,   15.54,2,   25.85,2,    1.63,2,  2318.5,6,  2202.0,6, -999.00,9, -999.00,9
740H20200119,A05_24N,67,1,3,3036,2,20200205,1727,  24.49946, -57.39570,  6277,   655.1, 12.0379,2, 12.7354,4, 35.5996,2, 35.5904,2,   154.4,2,   159.1,2,    8.07,2,   18.82,2,    1.12,2,  2332.6,2,  2177.7,2, -999.00,9, -999.00,9
740H20200119,A05_24N,67,1,4,3037,2,20200205,1727,  24.49946, -57.39570,  6277,   504.4, 14.9299,2, 15.5611,4, 36.0134,2, 36.0116,2,   172.6,2,   176.1,2,    3.89,2,   12.16,2,    0.67,2,  2357.3,2,  2161.1,2, -999.00,9, -999.00,9
740H20200119,A05_24N,67,1,5,3038,2,20200205,1727,  24.49946, -57.39570,  6277,   303.3, 18.3767,2, 19.0016,4, 36.5488,2, 36.5455,2,   192.8,2,   193.9,2,    1.26,2,    4.74,2,    0.20,2,  2384.7,2,  2130.7,2, -999.00,9, -999.00,9
740H20200119,A05_24N,67,1,6,6410,2,20200205,1727,  24.49946, -57.39570,  6277,   202.9, 20.3818,2, 21.4421,4, 36.8550,2, 36.8553,2,   190.5,2,   191.1,2,    0.58,2,    1.38,2,    0.04,2,  2408.0,2,  2132.7,2, -999.00,9, -999.00,9
740H20200119,A05_24N,67,1,7,6411,2,20200205,1727,  24.49946, -57.39570,  6277,   132.3, 23.5239,2, 24.1145,4, 37.2652,2, 37.2690,2,   210.8,2,   210.4,2,    0.41,2,    0.01,2,    0.00,2,  2432.0,6,  2104.7,6, -999.00,9, -999.00,9
740H20200119,A05_24N,67,1,8,6412,2,20200205,1727,  24.49946, -57.39570,  6277,   102.4, 24.3621,2,-999.0000,9, 37.3427,2, 37.3443,2,   210.1,2,   208.8,2,    0.60,2,    0.00,2,    0.00,2,  2440.7,2,  2092.8,2, -999.00,9, -999.00,9
740H20200119,A05_24N,67,1,9,6413,2,20200205,1727,  24.49946, -57.39570,  6277,    52.8, 24.3190,2, 24.3155,2, 37.1579,2, 37.1583,2,   210.4,2,   210.0,2,    0.77,2,   -0.01,2,    0.00,2,  2428.3,2,  2079.1,2, -999.00,9, -999.00,9
740H20200119,A05_24N,67,1,10,3043,2,20200205,1727,  24.49946, -57.39570,  6277,     6.9, 24.5296,2, 24.4357,4, 36.9188,2, 36.9205,2,   210.8,2,   210.1,2,    0.96,2,    0.00,2,    0.00,2,  2418.2,2,  2069.4,2, -999.00,9, -999.00,9