BOTTLE,20221012CCHSIOENA
EXPOCODE,SECT_ID,STNNBR,CASTNO,SAMPNO,BTLNBR,BTLNBR_FLAG_W,DATE,TIME,LATITUDE,LONGITUDE,DEPTH,CTDPRS,CTDTMP,CTDTMP_FLAG_W,SBE35,SBE35_FLAG_W,CTDSAL,CTDSAL_FLAG_W,SALNTY,SALNTY_FLAG_W,CTDOXY,CTDOXY_FLAG_W,OXYGEN,OXYGEN_FLAG_W,SILCAT,SILCAT_FLAG_W,NO2+NO3,NO2+NO3_FLAG_W,PHSPHT,PHSPHT_FLAG_W,ALKALI,ALKALI_FLAG_W,TCARBN,TCARBN_FLAG_W,DELC14,DELC14_FLAG_W,DELC13,DELC13_FLAG_W
 , , , , , , , , , , , ,DBAR,ITS-90, ,ITS-90, ,PSS-78, ,PSS-78, ,UMOL/KG, ,UMOL/KG, ,UMOL/KG, ,UMOL/KG, ,UMOL/KG, ,UMOL/KG, ,UMOL/KG, ,/MILLE, ,/MILLE, 
740H20200119,A05_24N,113,1,11,3044,2,20200221,0843,  24.49896, -28.71811,  5668,  5769.4,  2.4939,2,  2.4937,2, 34.8832,2, 34.8818,2,   246.1,2,   245.1,2,   47.89,2,   22.27,2,    1.51,2,  2351.8,2,  2205.0,6, -999.00,9, -999.00,9
740H20200119,A05_24N,113,1,12,3045,2,20200221,0843,  24.49896, -28.71811,  5668,  5625.8,  2.4760,2,  2.4757,2, 34.8834,2, 34.8820,2,   245.2,2,   244.5,2,   47.87,2,   22.21,2,    1.51,2,  2740.5,4,  2204.8,2, -999.00,9, -999.00,9
740H20200119,A05_24N,113,1,13,3046,2,20200221,0843,  24.49896, -28.71811,  5668,  5095.9,  2.4105,2,  2.4105,2, 34.8842,2, 34.8835,2,   245.6,2,   244.4,2,   47.68,2,   22.21,2,    1.51,2,  2346.4,2,  2204.7,2, -999.00,9, -999.00,9
740H20200119,A05_24N,113,1,14,7131,2,20200221,0843,  24.49896, -28.71811,  5668,  4577.2,  2.3756,2,  2.3755,2, 34.8879,2, 34.8875,2,   245.1,2,   244.6,2,   46.96,2,   22.14,2,    1.50,2,  2349.9,2,  2200.7,2, -999.00,9, -999.00,9
740H20200119,A05_24N,113,1,15,3048,2,20200221,0843,  24.49896, -28.71811,  5668,  4060.3,  2.4124,2,  2.4120,2, 34.8978,2, 34.8973,2,   245.1,2,   244.3,2,   44.54,2,   21.85,2,    1.48,2,  2345.1,2,  2197.2,2, -999.00,9, -999.00,9
740H20200119,A05_24N,113,1,16,3049,2,20200221,0843,  24.49896, -28.71811,  5668,  3555.5,  2.5156,2,  2.5141,2, 34.9129,2, 34.9117,2,   245.2,2,   244.8,2,   41.22,2,   21.51,2,    1.45,2,  2344.7,2,  2195.4,2, -999.00,9, -999.00,9
740H20200119,A05_24N,113,1,17,3050,2,20200221,0843,  24.49896, -28.71811,  5668,  3040.9,  2.7621,2,  2.7666,2, 34.9397,2, 34.9396,2,   245.2,2,   244.2,2,   35.40,2,   20.83,2,    1.40,2,  2336.8,2,  2192.9,2, -999.00,9, -999.00,9
740H20200119,A05_24N,113,1,18,3051,2,20200221,0843,  24.49896, -28.71811,  5668,  2528.2,  3.2845,2,  3.2844,2, 34.9891,2, 34.9884,2,   242.4,2,   241.8,2,   28.25,2,   20.35,2,    1.37,2,  2330.4,2,  2183.7,2, -999.00,9, -999.00,9
740H20200119,A05_24N,113,1,19,3052,2,20200221,0843,  24.49896, -28.71811,  5668,  2022.3,  4.0351,2,  4.0311,2, 35.0538,2, 35.0531,2,   232.5,2,   231.6,2,   22.75,2,   20.53,2,    1.37,2,  2322.8,2,  2179.9,2, -999.00,9, -999.00,9
740H20200119,A05_24N,113,1,20,3053,2,20200221,0843,  24.49896, -28.71811,  5668,  1639.7,  4.8985,2,  4.9081,2, 35.1204,2, 35.1199,2,   216.5,2,   216.4,2,   19.59,2,   21.17,2,    1.40,2,  2324.6,2,  2184.2,2, -999.00,9, -999.00,9
740H20200119,A05_24N,113,1,21,3054,2,20200221,0843,  24.49896, -28.71811,  5668,  1415.6,  5.5398,2,  5.5397,2, 35.1401,2, 35.1388,2,   201.9,2,   202.0,2,   18.13,2,   22.13,2,    1.46,2,  -999.0,9,  -999.0,9, -999.00,9, -999.00,9
740H20200119,A05_24N,113,1,22,3055,2,20200221,0843,  24.49896, -28.71811,  5668,  1212.1,  6.1747,2,  6.1787,2, 35.1391,2, 35.1386,2,   181.1,2,   180.9,2,   18.33,2,   24.02,2,    1.57,2,  2324.5,2,  2194.9,2, -999.00,9, -999.00,9
740H20200119,A05_24N,113,1,23,3056,2,20200221,0843,  24.49896, -28.71811,  5668,  1110.5,  6.6338,2,  6.6401,2, 35.1368,2, 35.1354,2,   164.3,2,   166.0,2,   18.68,2,   25.35,2,    1.64,2,  2321.4,6,  2194.8,6, -999.00,9, -999.00,9
740H20200119,A05_24N,113,1,24,3057,2,20200221,0843,  24.49896, -28.71811,  5668,  1009.0,  7.0549,2,  7.0129,2, 35.1321,2, 35.1321,2,   146.3,2,   147.9,2,   19.15,2,   26.99,2,    1.75,2,  2323.1,6,  2209.4,6, -999.00,9, -999.00,9
740H20200119,A05_24N,113,1,1,3034,2,20200221,0843,  24.49896, -28.71811,  5668,   907.1,  7.6585,2,  7.7088,2, 35.1671,2, 35.1651,2,   140.4,2,   139.9,2,   17.84,2,   27.00,2,    1.73,2,  2319.4,6,  2210.1,6, -999.00,9, -999.00,9
740H20200119,A05_24N,113,1,2,3035,2,20200221,0843,  24.49896, -28.71811,  5668,   805.9,  8.5330,2,  8.6166,2, 35.2322,2, 35.2313,2,   128.5,2,   127.8,2,   16.09,2,   26.97,2,    1.70,2,  2320.7,6,  2212.0,6, -999.00,9, -999.00,9
740H20200119,A05_24N,113,1,3,3036,2,20200221,0843,  24.49896, -28.71811,  5668,   704.2,  9.7985,2,  9.8344,2, 35.3618,2, 35.3607,2,   127.2,2,   127.3,2,   12.95,2,   24.96,2,    1.53,2,  2333.9,2,  2207.0,2, -999.00,9, -999.00,9
740H20200119,A05_24N,113,1,4,3037,2,20200221,0843,  24.49896, -28.71811,  5668,   603.1, 11.3193,2, 11.3225,2, 35.5444,2, 35.5315,2,   141.9,2,   140.7,2,    9.13,2,   21.03,2,    1.25,2,  2333.5,2,  2195.8,2, -999.00,9, -999.00,9
740H20200119,A05_24N,113,1,5,6409,2,20200221,0843,  24.49896, -28.71811,  5668,   376.6, 14.8323,2, 14.7677,2, 36.0161,2, 36.0040,2,   164.4,2,   165.2,2,    3.89,2,   12.35,2,    0.70,2,  2354.8,2,  2169.2,2, -999.00,9, -999.00,9
740H20200119,A05_24N,113,1,6,6410,2,20200221,0843,  24.49896, -28.71811,  5668,   300.8, 15.8703,2, 15.8988,2, 36.1737,2, 36.1808,2,   161.0,2,   161.4,2,    3.21,2,   11.04,2,    0.62,2,  2364.9,2,  2167.4,2, -999.00,9, -999.00,9
740H20200119,A05_24N,113,1,7,6411,2,20200221,0843,  24.49896, -28.71811,  5668,   174.2, 18.9950,2, 19.0102,2, 36.7228,2, 36.6927,2,   195.7,2,   195.2,2,    1.01,2,    3.18,2,    0.14,2,  2395.1,2,  2141.1,2, -999.00,9, -999.00,9
740H20200119,A05_24N,113,1,8,6412,2,20200221,0843,  24.49896, -28.71811,  5668,   108.6, 21.7117,2, 21.6799,2, 37.3042,2, 37.1951,2,   215.8,2,   212.4,2,    0.48,2,    0.60,2,    0.01,2,  2431.2,2,  2130.4,2, -999.00,9, -999.00,9
740H20200119,A05_24N,113,1,9,6413,2,20200221,0843,  24.49896, -28.71811,  5668,    48.7, 21.7416,2, 21.7375,2, 37.3152,2, 37.3158,2,   217.0,2,   217.3,2,    0.43,2,    0.08,2,   -0.02,2,  2435.0,2,  2129.1,2, -999.00,9, -999.00,9
740H20200119,A05_24N,113,1,10,6414,2,20200221,0843,  24.49896, -28.71811,  5668,     7.9, 21.7328,2, 21.7235,2, 37.3159,2, 37.3167,2,   216.7,2,   217.1,2,    0.46,2,    0.08,2,   -0.01,2,  2439.2,2,  2130.0,2, -999.00,9, -999.00,9
740H20200119,A05_24N,114,1,11,3044,2,20200221,1908,  24.49982, -27.73333,  5605,  5704.3,  2.4894,2,  2.4891,2, 34.8836,2, 34.8826,2,   245.4,2,   244.8,2,   47.81,2,   22.17,2,    1.51,2,  2350.6,6,  2204.1,6, -999.00,9, -999.00,9
740H20200119,A05_24N,114,1,12,3045,2,20200221,1908,  24.49982, -27.73333,  5605,  5087.9,  2.4133,2,  2.4129,2, 34.8846,2, 34.8840,2,   245.6,2,   244.1,2,   47.63,2,   22.15,2,    1.51,2,  2354.7,2,  2203.4,2, -999.00,9, -999.00,9
740H20200119,A05_24N,114,1,13,3046,2,20200221,1908,  24.49982, -27.73333,  5605,  4584.6,  2.3753,2,  2.3751,2, 34.8877,2, 34.8870,2,   245.4,2,   244.6,2,   47.16,2,   22.09,2,    1.51,2,  2345.1,2,  2200.1,2, -999.00,9, -999.00,9
740H20200119,A05_24N,114,1,14,7131,2,20200221,1908,  24.49982, -27.73333,  5605,  4063.0,  2.3919,2,  2.3914,2, 34.8958,2, 34.8946,2,   245.2,2,   244.0,2,   45.09,2,   21.97,2,    1.50,2,  2345.3,6,  2197.4,6, -999.00,9, -999.00,9
740H20200119,A05_24N,114,1,15,3048,2,20200221,1908,  24.49982, -27.73333,  5605,  3548.0,  2.4926,2,  2.4924,2, 34.9105,2, 34.9086,2,   245.1,2,   244.8,2,   41.51,2,   21.59,2,    1.48,2,  2345.9,2,  2197.8,2, -999.00,9, -999.00,9
740H20200119,A05_24N,114,1,16,3049,2,20200221,1908,  24.49982, -27.73333,  5605,  3039.1,  2.7200,2,  2.7255,2, 34.9358,2, 34.9350,2,   244.6,2,   243.6,2,   36.38,2,   21.03,2,    1.43,2,  2336.5,2,  2192.0,2, -999.00,9, -999.00,9
740H20200119,A05_24N,114,1,17,3050,2,20200221,1908,  24.49982, -27.73333,  5605,  2531.2,  3.1800,2,  3.1858,2, 34.9804,2, 34.9801,2,   242.7,2,   242.1,2,   29.37,2,   20.39,2,    1.40,2,  2334.4,6,  2185.2,6, -999.00,9, -999.00,9
740H20200119,A05_24N,114,1,18,3051,2,20200221,1908,  24.49982, -27.73333,  5605,  2020.0,  3.9239,2,  3.9281,2, 35.0430,2, 35.0424,2,   232.8,2,   231.4,2,   23.65,2,   20.67,2,    1.40,2,  2326.7,2,  2183.1,2, -999.00,9, -999.00,9
740H20200119,A05_24N,114,1,19,3052,2,20200221,1908,  24.49982, -27.73333,  5605,  1642.1,  5.0494,2,  5.0608,2, 35.1408,2, 35.1397,2,   211.3,2,   210.9,2,   20.01,2,   21.43,2,    1.44,2,  2328.1,6,  2185.1,6, -999.00,9, -999.00,9
740H20200119,A05_24N,114,1,20,3053,4,20200221,1908,  24.49982, -27.73333,  5605,  1408.1,  5.8937,2,  5.9036,2, 35.2053,2,-999.0000,9,   198.7,2,  -999.0,5, -999.00,9, -999.00,9, -999.00,9,  -999.0,9,  -999.0,9, -999.00,9, -999.00,9
740H20200119,A05_24N,114,1,21,3054,2,20200221,1908,  24.49982, -27.73333,  5605,  1209.8,  6.5471,2,  6.5427,2, 35.2090,2, 35.2092,2,   179.1,2,   178.4,2,   17.77,2,   23.53,2,    1.55,2,  2327.6,6,  2197.4,6, -999.00,9, -999.00,9
740H20200119,A05_24N,114,1,22,3055,2,20200221,1908,  24.49982, -27.73333,  5605,  1114.2,  6.9788,2,  6.9721,2, 35.2113,2, 35.2117,2,   166.3,2,   165.9,2,   17.98,2,   24.59,2,    1.61,2,  2329.3,2,  2204.6,2, -999.00,9, -999.00,9
740H20200119,A05_24N,114,1,23,3056,2,20200221,1908,  24.49982, -27.73333,  5605,  1007.9,  6.9968,2,  7.0041,2, 35.1192,2, 35.1165,2,   153.5,2,   153.0,2,   18.72,2,   26.36,2,    1.73,2,  2322.7,4,  2201.4,6, -999.00,9, -999.00,9
740H20200119,A05_24N,114,1,24,3057,2,20200221,1908,  24.49982, -27.73333,  5605,   905.8,  7.6906,2,  7.6912,2, 35.1679,2, 35.1654,2,   144.6,2,   143.6,2,   17.50,2,   26.45,2,    1.72,2,  2319.0,2,  2204.3,2, -999.00,9, -999.00,9
740H20200119,A05_24N,114,1,1,3034,2,20200221,1908,  24.49982, -27.73333,  5605,   809.6,  8.5059,2,  8.4739,2, 35.2261,2, 35.2218,2,   127.2,2,   130.2,2,   16.33,2,   26.73,2,    1.71,2,  2321.4,6,  2209.2,6, -999.00,9, -999.00,9
740H20200119,A05_24N,114,1,2,3035,2,20200221,1908,  24.49982, -27.73333,  5605,   708.7,  9.9622,2,  9.9849,2, 35.3969,2, 35.3807,2,   134.7,2,   133.0,2,   12.45,2,   24.03,2,    1.50,2,  2327.4,2,  2204.5,2, -999.00,9, -999.00,9
740H20200119,A05_24N,114,1,3,3036,2,20200221,1908,  24.49982, -27.73333,  5605,   607.2, 11.2868,2, 11.2910,2, 35.5560,2, 35.5427,2,   157.2,2,   153.7,2,    8.73,2,   19.47,2,    1.19,2,  2334.1,6,  2186.6,6, -999.00,9, -999.00,9
740H20200119,A05_24N,114,1,4,3037,2,20200221,1908,  24.49982, -27.73333,  5605,   380.2, 14.5828,2, 14.6754,2, 35.9723,2, 35.9761,2,   175.7,2,   176.7,2,    3.71,2,   11.37,2,    0.67,2,  2355.5,2,  -999.0,9, -999.00,9, -999.00,9
740H20200119,A05_24N,114,1,5,6409,2,20200221,1908,  24.49982, -27.73333,  5605,   253.9, 17.8255,2, 17.9019,2, 36.5241,2, 36.4851,2,   188.7,2,   188.4,2,    1.59,2,    5.55,2,    0.31,2,  2390.7,2,  2149.0,2, -999.00,9, -999.00,9
740H20200119,A05_24N,114,1,6,6410,2,20200221,1908,  24.49982, -27.73333,  5605,   177.8, 19.6589,2, 19.6738,2, 36.8489,2, 36.8113,2,   201.6,2,   199.3,2,    0.81,2,    2.10,2,    0.12,2,  2407.3,2,  2135.6,2, -999.00,9, -999.00,9
740H20200119,A05_24N,114,1,7,6411,2,20200221,1908,  24.49982, -27.73333,  5605,   122.4, 21.7471,2, 21.7516,2, 37.2986,2, 37.2981,2,   215.4,2,   215.3,2,    0.55,2,    0.10,2,    0.03,2,  2443.2,2,  2129.2,2, -999.00,9, -999.00,9
740H20200119,A05_24N,114,1,8,6412,2,20200221,1908,  24.49982, -27.73333,  5605,    62.4, 21.7429,2, 21.7380,2, 37.2905,2, 37.2885,2,   216.4,2,   217.1,2,    0.56,2,    0.05,2,    0.04,2,  2442.1,6,  2124.4,6, -999.00,9, -999.00,9
740H20200119,A05_24N,114,1,9,6413,2,20200221,1908,  24.49982, -27.73333,  5605,    41.9, 21.7416,2, 21.7367,2, 37.2769,2, 37.2772,2,   217.4,2,   217.6,2,    0.56,2,    0.06,2,    0.04,2,  2443.4,2,  2128.7,2, -999.00,9, -999.00,9
740H20200119,A05_24N,114,1,10,6414,2,20200221,1908,  24.49982, -27.73333,  5605,     7.0, 21.7242,2, 21.7236,2, 37.2731,2, 37.2734,2,   217.6,2,   217.9,2,    0.68,2,    0.06,2,    0.04,2,  2436.9,2,  2136.8,6, -999.00,9, -999.00,9
740H20200119,A05_24N,115,1,11,3044,2,20200222,0544,  24.49965, -26.75052,  5464,  5559.6,  2.4727,2,  2.4725,2, 34.8839,2, 34.8839,2,   245.5,2,   244.2,2,   48.08,2,   22.22,2,    1.51,2,  -999.0,9,  2203.4,6, -999.00,1, -999.00,1
740H20200119,A05_24N,115,1,12,3045,2,20200222,0544,  24.49965, -26.75052,  5464,  5086.2,  2.4148,2,  2.4145,2, 34.8847,2, 34.8844,2,   246.0,2,   244.1,2,   47.44,2,   22.15,2,    1.51,2,  2354.9,6,  2200.1,6, -999.00,1, -999.00,1
740H20200119,A05_24N,115,1,13,3046,2,20200222,0544,  24.49965, -26.75052,  5464,  4582.1,  2.3726,2,  2.3723,2, 34.8875,2, 34.8867,2,   245.6,2,   244.4,2,   46.67,2,   22.04,2,    1.50,2,  2349.9,2,  2205.4,2, -999.00,1, -999.00,1
740H20200119,A05_24N,115,1,14,7131,2,20200222,0544,  24.49965, -26.75052,  5464,  4058.7,  2.4013,2,  2.4012,2, 34.8966,2, 34.8964,2,   245.3,2,   245.6,2,   44.52,2,   21.75,2,    1.49,2,  2349.2,2,  2196.8,2, -999.00,1, -999.00,1
740H20200119,A05_24N,115,1,15,3048,2,20200222,0544,  24.49965, -26.75052,  5464,  3548.4,  2.5010,2,  2.5017,2, 34.9112,2, 34.9116,2,   245.2,2,   244.6,2,   41.17,2,   21.37,2,    1.46,2,  2340.9,6,  2194.2,6, -999.00,1, -999.00,1
740H20200119,A05_24N,115,1,16,3049,2,20200222,0544,  24.49965, -26.75052,  5464,  3038.4,  2.7235,2,  2.7285,2, 34.9356,2, 34.9365,2,   245.3,2,   244.5,2,   36.00,2,   20.80,2,    1.42,2,  2344.3,2,  2190.1,2, -999.00,1, -999.00,1
740H20200119,A05_24N,115,1,17,3050,2,20200222,0544,  24.49965, -26.75052,  5464,  2525.5,  3.2411,2,  3.2419,2, 34.9860,2, 34.9856,2,   243.0,2,   241.8,2,   28.42,2,   20.08,2,    1.37,2,  2332.6,2,  2184.3,2, -999.00,1, -999.00,1
740H20200119,A05_24N,115,1,18,3051,2,20200222,0544,  24.49965, -26.75052,  5464,  2013.3,  4.1115,2,  4.1119,2, 35.0672,2, 35.0670,2,   230.8,2,   229.7,2,   22.84,2,   20.41,2,    1.37,2,  2330.4,2,  2182.2,2, -999.00,1, -999.00,1
740H20200119,A05_24N,115,1,19,3052,2,20200222,0544,  24.49965, -26.75052,  5464,  1635.5,  4.9818,2,  4.9872,2, 35.1319,2, 35.1315,2,   214.2,2,   213.4,2,   19.46,2,   21.27,2,    1.43,2,  2326.4,2,  2187.8,2, -999.00,1, -999.00,1
740H20200119,A05_24N,115,1,20,3053,2,20200222,0544,  24.49965, -26.75052,  5464,  1411.1,  6.5565,2,  6.5655,2, 35.3279,2, 35.3166,2,   192.0,2,   192.2,2,   16.79,2,   21.34,2,    1.40,2,  2338.5,2,  2193.6,2, -999.00,1, -999.00,1
740H20200119,A05_24N,115,1,21,3054,2,20200222,0544,  24.49965, -26.75052,  5464,  1208.0,  7.9835,2,  7.9993,2, 35.5236,2, 35.5258,2,   177.3,2,   176.2,2,   14.80,2,   20.98,2,    1.36,2,  2349.2,2,  2205.2,2, -999.00,1, -999.00,1
740H20200119,A05_24N,115,1,22,3055,2,20200222,0544,  24.49965, -26.75052,  5464,  1106.0,  9.1748,2,  9.1824,2, 35.7403,2, 35.7395,2,   173.6,2,   173.1,2,   12.93,3,   19.54,3,    1.24,3,  -999.0,9,  -999.0,9, -999.00,9, -999.00,9
740H20200119,A05_24N,115,1,23,3056,2,20200222,0544,  24.49965, -26.75052,  5464,  1003.9,  8.3830,2,  8.3907,2, 35.4610,2, 35.4596,2,   163.8,2,   163.0,2,   14.99,2,   22.29,2,    1.44,2,  2351.3,6,  2207.6,6, -999.00,1, -999.00,1
740H20200119,A05_24N,115,1,24,3057,2,20200222,0544,  24.49965, -26.75052,  5464,   908.5,  8.5477,2,  8.5647,2, 35.3847,2, 35.3840,2,   153.3,2,   152.9,2,   15.03,2,   23.48,2,    1.50,2,  2339.8,6,  2206.8,6, -999.00,1, -999.00,1
740H20200119,A05_24N,115,1,1,3034,2,20200222,0544,  24.49965, -26.75052,  5464,   807.6,  9.3163,2,  9.3192,2, 35.4185,2, 35.4174,2,   146.9,2,   146.6,2,   13.53,2,   23.13,2,    1.47,2,  2336.0,6,  2202.9,6, -999.00,1, -999.00,1
740H20200119,A05_24N,115,1,2,3035,2,20200222,0544,  24.49965, -26.75052,  5464,   706.2, 10.2149,2, 10.2221,2, 35.4518,2, 35.4518,2,   145.6,2,   145.7,2,   11.19,2,   21.92,2,    1.36,2,  2330.4,2,  2200.4,2, -999.00,1, -999.00,1
740H20200119,A05_24N,115,1,3,3036,2,20200222,0544,  24.49965, -26.75052,  5464,   605.3, 11.4649,2, 11.5031,2, 35.5794,2, 35.5808,2,   160.7,2,   160.8,2,    7.64,2,   18.23,2,    1.09,2,  2338.2,2,  2185.1,2, -999.00,1, -999.00,1
740H20200119,A05_24N,115,1,4,3037,2,20200222,0544,  24.49965, -26.75052,  5464,   402.8, 14.0820,2, 14.1072,2, 35.9080,2, 35.8983,2,   175.1,2,   176.0,2,    4.01,2,   12.48,2,    0.72,2,  2351.7,2,  2164.8,2, -999.00,1, -999.00,1
740H20200119,A05_24N,115,1,5,6409,2,20200222,0544,  24.49965, -26.75052,  5464,   302.1, 15.8047,2, 15.9139,2, 36.1649,2, 36.1731,2,   170.8,2,   170.9,2,    2.92,2,   10.06,2,    0.58,2,  2366.3,6,  2162.3,6, -999.00,9, -999.00,9
740H20200119,A05_24N,115,1,6,6410,2,20200222,0544,  24.49965, -26.75052,  5464,   252.0, 16.6275,2, 16.5856,2, 36.2707,2, 36.2523,2,   151.6,2,   152.2,2,    3.16,2,   11.28,2,    0.66,2,  2369.3,2,  2173.4,2, -999.00,1, -999.00,1
740H20200119,A05_24N,115,1,7,6411,2,20200222,0544,  24.49965, -26.75052,  5464,   151.4, 20.3558,2, 20.5185,2, 36.9922,2, 36.9117,2,   207.6,2,   206.4,2,    0.71,2,    1.19,2,    0.07,2,  2416.2,2,  2137.2,2, -999.00,1, -999.00,1
740H20200119,A05_24N,115,1,8,6412,2,20200222,0544,  24.49965, -26.75052,  5464,   100.0, 21.5610,2, 21.5628,2, 37.2561,2, 37.2432,2,   217.1,2,   217.2,2,    0.57,2,    0.12,2,    0.02,2,  2434.4,2,  2129.0,2, -999.00,1, -999.00,1
740H20200119,A05_24N,115,1,9,6413,2,20200222,0544,  24.49965, -26.75052,  5464,    50.6, 21.5548,2, 21.5529,2, 37.2568,2, 37.2567,2,   217.3,2,   217.5,2,    0.47,2,    0.06,2,    0.02,2,  2438.8,2,  2128.7,2, -999.00,1, -999.00,1
740H20200119,A05_24N,115,1,10,6414,2,20200222,0544,  24.49965, -26.75052,  5464,     5.0, 21.5453,2, 21.5434,2, 37.2569,2, 37.2578,2,   217.1,2,   218.3,2,    0.60,2,    0.08,2,    0.02,2,  2432.7,2,  2128.4,2, -999.00,1, -999.00,1