BOTTLE,20221012CCHSIOENA
# changed flag for OXYGEN fill value from 2 to 9 at station 62, cast 1, sample 3
# changed flag for SALNTY data value from 5 to 4 at station 15, cast 1, sample 17
# BOTTLE,20200303OCPNOCBAK
#SHIP: James Cook
#Cruise JC191; A05 24N
#Region: North Atlantic
#EXPOCODE: 740H20200119
#DATES: 20200119 - 20200301
#Chief Scientist: A. Sanchez Franks, NOC
#CTD: Who - B. KING; Status - final
#Notes: Includes CTDSAL, CTDOXY
#The CTD PRS;  TMP;  SAL; OXY data are all calibrated and good.
#Salinity: Who - K. Grayson/B. King; Status - final
#Oxygen and Nutrients: Who - E. Mawji; Status - end of cruise
#DIC and Talk: Who - P. Brown; Status - end of cruise 
#The A05 section consists of stations [2:13] [14:20 22:24 26:27 29:94 96:130 132:135] 
#Notes:
#These data should be acknowledged with: "Data were collected and made publicly available by the international Global Ship-based Hydrographic Investigations Program (GO-SHIP; http://www.go-ship.org/) with funding from the UK Natural Environment Research Council to the National Oceanography Centre."
EXPOCODE,SECT_ID,STNNBR,CASTNO,SAMPNO,BTLNBR,BTLNBR_FLAG_W,DATE,TIME,LATITUDE,LONGITUDE,DEPTH,CTDPRS,CTDTMP,CTDTMP_FLAG_W,SBE35,SBE35_FLAG_W,CTDSAL,CTDSAL_FLAG_W,SALNTY,SALNTY_FLAG_W,CTDOXY,CTDOXY_FLAG_W,OXYGEN,OXYGEN_FLAG_W,SILCAT,SILCAT_FLAG_W,NO2+NO3,NO2+NO3_FLAG_W,PHSPHT,PHSPHT_FLAG_W,ALKALI,ALKALI_FLAG_W,TCARBN,TCARBN_FLAG_W,DELC14,DELC14_FLAG_W,DELC13,DELC13_FLAG_W
 , , , , , , , , , , , ,DBAR,ITS-90, ,ITS-90, ,PSS-78, ,PSS-78, ,UMOL/KG, ,UMOL/KG, ,UMOL/KG, ,UMOL/KG, ,UMOL/KG, ,UMOL/KG, ,UMOL/KG, ,/MILLE, ,/MILLE, 
740H20200119,A05_24N,1,1,1,5977,2,20200120,0002,  26.43345, -78.66697,   762,   709.2, 10.4880,2,-999.0000,9, 35.3037,2, 35.3202,2,   126.9,2,  -999.0,9,   12.72,2,   23.97,2,    1.50,2,  -999.0,9,  -999.0,9, -999.00,9, -999.00,9
740H20200119,A05_24N,1,1,2,6406,2,20200120,0002,  26.43345, -78.66697,   762,   709.3, 10.4896,2,-999.0000,9, 35.3064,2, 35.3149,2,   126.9,2,  -999.0,9,   12.82,2,   24.24,2,    1.52,2,  -999.0,9,  -999.0,9, -999.00,9, -999.00,9
740H20200119,A05_24N,1,1,3,6407,2,20200120,0002,  26.43345, -78.66697,   762,   507.3, 15.3135,2,-999.0000,9, 36.0653,2, 36.0598,2,   164.2,2,  -999.0,9,    4.03,2,   12.18,2,    0.68,2,  -999.0,9,  -999.0,9, -999.00,9, -999.00,9
740H20200119,A05_24N,1,1,4,6408,2,20200120,0002,  26.43345, -78.66697,   762,   507.3, 15.3335,2,-999.0000,9, 36.0671,2, 36.0618,2,   163.9,2,  -999.0,9,    4.01,2,   12.19,2,    0.68,2,  -999.0,9,  -999.0,9, -999.00,9, -999.00,9
740H20200119,A05_24N,1,1,5,6409,2,20200120,0002,  26.43345, -78.66697,   762,   255.0, 19.7609,2,-999.0000,9, 36.6928,2, 36.6877,2,   191.8,2,  -999.0,9,    0.67,2,    2.49,2,    0.10,2,  -999.0,9,  -999.0,9, -999.00,9, -999.00,9
740H20200119,A05_24N,1,1,6,6410,2,20200120,0002,  26.43345, -78.66697,   762,   255.0, 19.7596,2,-999.0000,9, 36.6928,2, 36.6925,2,   191.4,2,  -999.0,9,    0.64,2,    2.42,2,    0.09,2,  2405.2,2,  -999.0,9, -999.00,9, -999.00,9
740H20200119,A05_24N,1,1,7,6411,2,20200120,0002,  26.43345, -78.66697,   762,   204.9, 21.0228,2,-999.0000,9, 36.7831,2, 36.6924,2,   186.9,2,  -999.0,9,    0.53,2,    1.78,2,    0.06,2,  2398.4,2,  2119.5,2, -999.00,9, -999.00,9
740H20200119,A05_24N,1,1,8,6412,2,20200120,0002,  26.43345, -78.66697,   762,   204.9, 21.0266,2,-999.0000,9, 36.7836,2, 36.7800,2,   187.1,2,  -999.0,9,    0.57,2,    1.80,2,    0.07,2,  -999.0,9,  -999.0,9, -999.00,9, -999.00,9
740H20200119,A05_24N,1,1,9,6413,2,20200120,0002,  26.43345, -78.66697,   762,   179.8, 21.7308,2,-999.0000,9, 36.8040,2, 36.7739,2,   188.0,2,  -999.0,9,    0.50,2,    1.57,2,    0.08,2,  -999.0,9,  -999.0,9, -999.00,9, -999.00,9
740H20200119,A05_24N,1,1,10,6414,2,20200120,0002,  26.43345, -78.66697,   762,   179.8, 21.7379,2,-999.0000,9, 36.8035,2, 36.8034,2,   188.0,2,  -999.0,9,    0.52,2,    1.59,2,    0.07,2,  -999.0,9,  -999.0,9, -999.00,9, -999.00,9
740H20200119,A05_24N,1,1,11,6415,2,20200120,0002,  26.43345, -78.66697,   762,   154.8, 23.8419,2,-999.0000,9, 36.7951,2, 36.8026,2,   187.7,2,  -999.0,9,    0.52,2,    1.18,2,    0.03,2,  2401.6,2,  2096.8,2, -999.00,9, -999.00,9
740H20200119,A05_24N,1,1,12,6416,2,20200120,0002,  26.43345, -78.66697,   762,   154.8, 23.8236,2,-999.0000,9, 36.7951,2, 36.8012,2,   188.5,2,  -999.0,9,    0.55,2,    1.20,2,    0.04,2,  -999.0,9,  -999.0,9, -999.00,9, -999.00,9
740H20200119,A05_24N,1,1,13,6417,2,20200120,0002,  26.43345, -78.66697,   762,   129.7, 24.7860,2,-999.0000,9, 36.7198,2, 36.7217,2,   194.6,2,  -999.0,9,    0.57,2,    0.66,2,    0.01,2,  -999.0,9,  -999.0,9, -999.00,9, -999.00,9
740H20200119,A05_24N,1,1,14,6418,2,20200120,0002,  26.43345, -78.66697,   762,   129.7, 24.7631,2,-999.0000,9, 36.7256,2, 36.7170,2,   194.7,2,  -999.0,9,    0.58,2,    0.64,2,    0.03,2,  -999.0,9,  -999.0,9, -999.00,9, -999.00,9
740H20200119,A05_24N,1,1,15,6419,2,20200120,0002,  26.43345, -78.66697,   762,   114.6, 25.0689,2,-999.0000,9, 36.6596,2, 36.6724,2,   197.7,2,  -999.0,9,    0.61,2,    0.46,2,    0.03,2,  -999.0,9,  -999.0,9, -999.00,9, -999.00,9
740H20200119,A05_24N,1,1,16,6420,2,20200120,0002,  26.43345, -78.66697,   762,   114.6, 25.0736,2,-999.0000,9, 36.6589,2, 36.6621,2,   197.9,2,  -999.0,9,    0.71,2,    0.46,2,    0.04,2,  -999.0,9,  -999.0,9, -999.00,9, -999.00,9
740H20200119,A05_24N,1,1,17,1122,2,20200120,0002,  26.43345, -78.66697,   762,    79.6, 25.2465,2,-999.0000,9, 36.6188,2, 36.6217,2,   202.2,2,  -999.0,9,    0.64,2,    0.18,2,    0.00,2,  2383.4,2,  2060.1,2, -999.00,9, -999.00,9
740H20200119,A05_24N,1,1,18,1098,2,20200120,0002,  26.43345, -78.66697,   762,    79.6, 25.2442,2,-999.0000,9, 36.6195,2, 36.6217,2,   202.1,2,  -999.0,9,    0.72,2,    0.19,2,    0.02,2,  -999.0,9,  -999.0,9, -999.00,9, -999.00,9
740H20200119,A05_24N,1,1,19,6692,2,20200120,0002,  26.43345, -78.66697,   762,    54.3, 25.2473,2,-999.0000,9, 36.6175,2, 36.6203,2,   202.2,2,  -999.0,9,    0.69,2,    0.16,2,    0.01,2,  -999.0,9,  -999.0,9, -999.00,9, -999.00,9
740H20200119,A05_24N,1,1,20,6428,2,20200120,0002,  26.43345, -78.66697,   762,    54.3, 25.2465,2,-999.0000,9, 36.6176,2, 36.6200,2,   203.2,2,  -999.0,9,    0.65,2,    0.17,2,    0.01,2,  -999.0,9,  -999.0,9, -999.00,9, -999.00,9
740H20200119,A05_24N,1,1,21,6425,2,20200120,0002,  26.43345, -78.66697,   762,    28.9, 25.2426,2,-999.0000,9, 36.6178,2, 36.6193,2,   203.7,2,  -999.0,9,    0.66,2,    0.17,2,    0.01,2,  2387.1,6,  2061.7,6, -999.00,9, -999.00,9
740H20200119,A05_24N,1,1,22,6426,2,20200120,0002,  26.43345, -78.66697,   762,    28.9, 25.2428,2,-999.0000,9, 36.6177,2, 36.6196,2,   203.9,2,  -999.0,9,    0.70,2,    0.17,2,    0.02,2,  -999.0,9,  -999.0,9, -999.00,9, -999.00,9
740H20200119,A05_24N,1,1,23,6427,2,20200120,0002,  26.43345, -78.66697,   762,     9.1, 25.2392,2,-999.0000,9, 36.6175,2, 36.6188,2,   203.7,2,  -999.0,9,    0.74,2,    0.16,2,    0.02,2,  2389.8,2,  2064.1,2, -999.00,9, -999.00,9
740H20200119,A05_24N,1,1,24,1086,2,20200120,0002,  26.43345, -78.66697,   762,     9.0, 25.2393,2,-999.0000,9, 36.6176,2, 36.6204,2,   203.3,2,  -999.0,9,    0.83,2,    0.16,2,    0.02,2,  -999.0,9,  -999.0,9, -999.00,9, -999.00,9
740H20200119,A05_24N,2,1,1,5977,2,20200120,1419,  26.99971, -80.00114,    37,    32.7, 24.3782,2,-999.0000,9, 36.2523,2, 36.2549,2,   196.3,2,   198.9,2,    1.73,2,    1.60,2,    0.10,2,  2400.8,6,  2106.3,6, -999.00,9, -999.00,9
740H20200119,A05_24N,2,1,2,6406,2,20200120,1419,  26.99971, -80.00114,    37,    32.9, 24.3782,2,-999.0000,9, 36.2521,2,-999.0000,9,   196.0,2,  -999.0,9, -999.00,9, -999.00,9, -999.00,9,  -999.0,9,  -999.0,9, -999.00,9, -999.00,9
740H20200119,A05_24N,2,1,3,6407,2,20200120,1419,  26.99971, -80.00114,    37,    32.6, 24.3857,2,-999.0000,9, 36.2531,2,-999.0000,9,   197.3,2,  -999.0,9, -999.00,9, -999.00,9, -999.00,9,  2328.6,3,  2171.1,4, -999.00,9, -999.00,9
740H20200119,A05_24N,2,1,4,6408,2,20200120,1419,  26.99971, -80.00114,    37,    32.0, 24.4295,2,-999.0000,9, 36.2563,2,-999.0000,9,   196.9,2,  -999.0,9, -999.00,9, -999.00,9, -999.00,9,  -999.0,9,  -999.0,9, -999.00,9, -999.00,9
740H20200119,A05_24N,2,1,5,6409,4,20200120,1419,  26.99971, -80.00114,    37,    31.1, 24.4523,2,-999.0000,9, 36.2568,2,-999.0000,9,   197.2,2,  -999.0,9, -999.00,9, -999.00,9, -999.00,9,  -999.0,9,  -999.0,9, -999.00,9, -999.00,9
740H20200119,A05_24N,2,1,6,6410,2,20200120,1419,  26.99971, -80.00114,    37,    30.9, 24.4698,2,-999.0000,9, 36.2574,2, 36.2548,2,   197.3,2,   199.3,2,    1.71,2,    1.54,2,    0.08,2,  2376.1,6,  2067.0,6, -999.00,9, -999.00,9
740H20200119,A05_24N,2,1,7,6411,2,20200120,1419,  26.99971, -80.00114,    37,    31.0, 24.4449,2,-999.0000,9, 36.2551,2,-999.0000,9,   196.6,2,  -999.0,9, -999.00,9, -999.00,9, -999.00,9,  2468.9,3,  2182.9,4, -999.00,9, -999.00,9
740H20200119,A05_24N,2,1,8,6412,2,20200120,1419,  26.99971, -80.00114,    37,    31.3, 24.4060,2,-999.0000,9, 36.2550,2,-999.0000,9,   196.3,2,  -999.0,9, -999.00,9, -999.00,9, -999.00,9,  -999.0,9,  -999.0,9, -999.00,9, -999.00,9
740H20200119,A05_24N,2,1,9,6413,2,20200120,1419,  26.99971, -80.00114,    37,    31.1, 24.4232,2,-999.0000,9, 36.2544,2,-999.0000,9,   197.4,2,  -999.0,9, -999.00,9, -999.00,9, -999.00,9,  2445.9,3,  -999.0,9, -999.00,9, -999.00,9
740H20200119,A05_24N,2,1,10,6414,2,20200120,1419,  26.99971, -80.00114,    37,    26.3, 24.6714,2,-999.0000,9, 36.2701,2, 36.2711,2,   198.0,2,   200.8,2,    1.49,2,    1.15,2,    0.07,2,  2378.3,6,  2061.8,6, -999.00,9, -999.00,9
740H20200119,A05_24N,2,1,11,6415,2,20200120,1419,  26.99971, -80.00114,    37,    26.3, 24.6493,2,-999.0000,9, 36.2687,2,-999.0000,9,   198.7,2,  -999.0,9, -999.00,9, -999.00,9, -999.00,9,  -999.0,9,  -999.0,9, -999.00,9, -999.00,9
740H20200119,A05_24N,2,1,12,6416,2,20200120,1419,  26.99971, -80.00114,    37,    26.2, 24.6502,2,-999.0000,9, 36.2690,2,-999.0000,9,   198.4,2,  -999.0,9, -999.00,9, -999.00,9, -999.00,9,  -999.0,9,  -999.0,9, -999.00,9, -999.00,9
740H20200119,A05_24N,2,1,13,6417,2,20200120,1419,  26.99971, -80.00114,    37,    25.9, 24.6596,2,-999.0000,9, 36.2699,2,-999.0000,9,   198.6,2,  -999.0,9, -999.00,9, -999.00,9, -999.00,9,  -999.0,9,  -999.0,9, -999.00,9, -999.00,9
740H20200119,A05_24N,2,1,14,6418,2,20200120,1419,  26.99971, -80.00114,    37,    26.1, 24.6657,2,-999.0000,9, 36.2695,2,-999.0000,9,   197.7,2,  -999.0,9, -999.00,9, -999.00,9, -999.00,9,  -999.0,9,  -999.0,9, -999.00,9, -999.00,9
740H20200119,A05_24N,2,1,15,6419,2,20200120,1419,  26.99971, -80.00114,    37,    10.8, 24.8074,2,-999.0000,9, 36.2789,2, 36.2802,2,   199.0,2,   202.0,2,    1.41,2,    0.90,2,    0.05,2,  2378.6,6,  2061.7,6, -999.00,9, -999.00,9
740H20200119,A05_24N,2,1,16,6420,2,20200120,1419,  26.99971, -80.00114,    37,    10.8, 24.8072,2,-999.0000,9, 36.2789,2,-999.0000,9,   199.7,2,  -999.0,9, -999.00,9, -999.00,9, -999.00,9,  -999.0,9,  -999.0,9, -999.00,9, -999.00,9
740H20200119,A05_24N,2,1,17,1122,2,20200120,1419,  26.99971, -80.00114,    37,    11.2, 24.8080,2,-999.0000,9, 36.2792,2,-999.0000,9,   199.3,2,  -999.0,9, -999.00,9, -999.00,9, -999.00,9,  -999.0,9,  -999.0,9, -999.00,9, -999.00,9
740H20200119,A05_24N,2,1,18,1098,2,20200120,1419,  26.99971, -80.00114,    37,    11.3, 24.8090,2,-999.0000,9, 36.2790,2,-999.0000,9,   200.4,2,  -999.0,9, -999.00,9, -999.00,9, -999.00,9,  -999.0,9,  -999.0,9, -999.00,9, -999.00,9
740H20200119,A05_24N,2,1,19,6692,2,20200120,1419,  26.99971, -80.00114,    37,    11.0, 24.8086,2,-999.0000,9, 36.2790,2,-999.0000,9,   199.6,2,  -999.0,9, -999.00,9, -999.00,9, -999.00,9,  -999.0,9,  -999.0,9, -999.00,9, -999.00,9
740H20200119,A05_24N,2,1,20,6428,2,20200120,1419,  26.99971, -80.00114,    37,     5.9, 24.8006,2,-999.0000,9, 36.2791,2, 36.2801,2,   200.1,2,   202.4,2,    1.45,2,    0.89,2,    0.05,2,  2377.6,6,  2062.4,6, -999.00,9, -999.00,9
740H20200119,A05_24N,2,1,21,6425,2,20200120,1419,  26.99971, -80.00114,    37,     5.9, 24.8007,2,-999.0000,9, 36.2792,2,-999.0000,9,   200.1,2,  -999.0,9, -999.00,9, -999.00,9, -999.00,9,  -999.0,9,  -999.0,9, -999.00,9, -999.00,9
740H20200119,A05_24N,2,1,22,6426,2,20200120,1419,  26.99971, -80.00114,    37,     5.9, 24.8013,2,-999.0000,9, 36.2792,2,-999.0000,9,   199.7,2,  -999.0,9, -999.00,9, -999.00,9, -999.00,9,  -999.0,9,  -999.0,9, -999.00,9, -999.00,9
740H20200119,A05_24N,2,1,23,6427,2,20200120,1419,  26.99971, -80.00114,    37,     6.3, 24.7961,2,-999.0000,9, 36.2790,2,-999.0000,9,   199.6,2,  -999.0,9, -999.00,9, -999.00,9, -999.00,9,  -999.0,9,  -999.0,9, -999.00,9, -999.00,9
740H20200119,A05_24N,2,1,24,1086,2,20200120,1419,  26.99971, -80.00114,    37,     6.0, 24.7989,2,-999.0000,9, 36.2789,2,-999.0000,9,   200.5,2,  -999.0,9, -999.00,9, -999.00,9, -999.00,9,  -999.0,9,  -999.0,9, -999.00,9, -999.00,9
740H20200119,A05_24N,3,1,1,5977,2,20200120,1545,  27.00551, -79.98828,    65,    57.7, 23.9599,2,-999.0000,9, 36.2299,2,-999.0000,9,   194.3,2,  -999.0,9, -999.00,9, -999.00,9, -999.00,9,  2373.0,6,  2075.5,6, -999.00,9, -999.00,9
740H20200119,A05_24N,3,1,2,6406,2,20200120,1545,  27.00551, -79.98828,    65,    58.2, 23.9831,2,-999.0000,9, 36.2315,2,-999.0000,9,   193.6,2,  -999.0,9, -999.00,9, -999.00,9, -999.00,9,  -999.0,9,  -999.0,9, -999.00,9, -999.00,9
740H20200119,A05_24N,3,1,3,6407,2,20200120,1545,  27.00551, -79.98828,    65,    57.8, 23.9663,2,-999.0000,9, 36.2308,2,-999.0000,9,   194.0,2,  -999.0,9, -999.00,9, -999.00,9, -999.00,9,  -999.0,9,  -999.0,9, -999.00,9, -999.00,9
740H20200119,A05_24N,3,1,4,6408,2,20200120,1545,  27.00551, -79.98828,    65,    57.6, 23.9927,2,-999.0000,9, 36.2316,2, 36.2244,2,   193.6,2,   192.7,2,    2.15,2,    2.54,2,    0.15,2,  2376.8,6,  2073.8,6, -999.00,9, -999.00,9
740H20200119,A05_24N,3,1,5,6409,2,20200120,1545,  27.00551, -79.98828,    65,    58.1, 23.8909,2,-999.0000,9, 36.2294,2,-999.0000,9,   194.1,2,  -999.0,9, -999.00,9, -999.00,9, -999.00,9,  -999.0,9,  -999.0,9, -999.00,9, -999.00,9
740H20200119,A05_24N,3,1,6,6410,2,20200120,1545,  27.00551, -79.98828,    65,    56.6, 24.0647,2,-999.0000,9, 36.2353,2, 36.2376,2,   194.9,2,   197.0,2,    1.92,2,    2.09,2,    0.12,2,  2375.4,6,  2070.8,6, -999.00,9, -999.00,9
740H20200119,A05_24N,3,1,7,6411,2,20200120,1545,  27.00551, -79.98828,    65,    56.1, 24.0737,2,-999.0000,9, 36.2360,2,-999.0000,9,   194.6,2,  -999.0,9, -999.00,9, -999.00,9, -999.00,9,  -999.0,9,  -999.0,9, -999.00,9, -999.00,9
740H20200119,A05_24N,3,1,8,6412,2,20200120,1545,  27.00551, -79.98828,    65,    56.3, 24.0744,2,-999.0000,9, 36.2361,2,-999.0000,9,   195.1,2,  -999.0,9, -999.00,9, -999.00,9, -999.00,9,  -999.0,9,  -999.0,9, -999.00,9, -999.00,9
740H20200119,A05_24N,3,1,9,6413,2,20200120,1545,  27.00551, -79.98828,    65,    51.4, 24.3692,2,-999.0000,9, 36.2527,2, 36.2516,2,   196.5,2,   198.5,2,    1.73,2,    1.66,2,    0.10,2,  2377.0,6,  2066.8,6, -999.00,9, -999.00,9
740H20200119,A05_24N,3,1,10,6414,2,20200120,1545,  27.00551, -79.98828,    65,    51.5, 24.3604,2,-999.0000,9, 36.2517,2,-999.0000,9,   196.7,2,  -999.0,9, -999.00,9, -999.00,9, -999.00,9,  -999.0,9,  -999.0,9, -999.00,9, -999.00,9
740H20200119,A05_24N,3,1,11,6415,2,20200120,1545,  27.00551, -79.98828,    65,    51.7, 24.3636,2,-999.0000,9, 36.2519,2,-999.0000,9,   196.4,2,  -999.0,9, -999.00,9, -999.00,9, -999.00,9,  -999.0,9,  -999.0,9, -999.00,9, -999.00,9
740H20200119,A05_24N,3,1,12,6416,2,20200120,1545,  27.00551, -79.98828,    65,    35.7, 24.8751,2,-999.0000,9, 36.2747,2, 36.2771,2,   199.7,2,  -999.0,5,    1.38,2,    1.00,2,    0.05,2,  2376.8,6,  2058.8,6, -999.00,9, -999.00,9
740H20200119,A05_24N,3,1,13,6417,2,20200120,1545,  27.00551, -79.98828,    65,    36.6, 24.8430,2,-999.0000,9, 36.2750,2,-999.0000,9,   199.4,2,  -999.0,9, -999.00,9, -999.00,9, -999.00,9,  -999.0,9,  -999.0,9, -999.00,9, -999.00,9
740H20200119,A05_24N,3,1,14,6418,2,20200120,1545,  27.00551, -79.98828,    65,    36.1, 24.8623,2,-999.0000,9, 36.2763,2,-999.0000,9,   199.1,2,  -999.0,9, -999.00,9, -999.00,9, -999.00,9,  -999.0,9,  -999.0,9, -999.00,9, -999.00,9
740H20200119,A05_24N,3,1,15,6419,2,20200120,1545,  27.00551, -79.98828,    65,    25.8, 25.1538,2,-999.0000,9, 36.2842,2, 36.2854,2,   200.4,2,   202.5,2,    1.27,2,    0.72,2,    0.03,2,  2380.7,2,  2058.7,2, -999.00,9, -999.00,9
740H20200119,A05_24N,3,1,16,6420,2,20200120,1545,  27.00551, -79.98828,    65,    25.9, 25.1479,2,-999.0000,9, 36.2839,2,-999.0000,9,   200.2,2,  -999.0,9, -999.00,9, -999.00,9, -999.00,9,  -999.0,9,  -999.0,9, -999.00,9, -999.00,9
740H20200119,A05_24N,3,1,17,1122,2,20200120,1545,  27.00551, -79.98828,    65,    26.5, 25.1499,2,-999.0000,9, 36.2841,2,-999.0000,9,   200.5,2,  -999.0,9, -999.00,9, -999.00,9, -999.00,9,  -999.0,9,  -999.0,9, -999.00,9, -999.00,9
740H20200119,A05_24N,3,1,18,1098,2,20200120,1545,  27.00551, -79.98828,    65,    11.1, 25.5751,2,-999.0000,9, 36.3006,2,-999.0000,9,   201.5,2,  -999.0,9, -999.00,9, -999.00,9, -999.00,9,  -999.0,9,  -999.0,9, -999.00,9, -999.00,9
740H20200119,A05_24N,3,1,19,6692,2,20200120,1545,  27.00551, -79.98828,    65,    11.0, 25.5741,2,-999.0000,9, 36.3006,2, 36.2992,2,   201.5,2,   203.9,2,    1.13,2,    0.36,2,    0.02,2,  2375.4,6,  2048.6,6, -999.00,9, -999.00,9
740H20200119,A05_24N,3,1,20,6428,2,20200120,1545,  27.00551, -79.98828,    65,    10.4, 25.5860,2,-999.0000,9, 36.3009,2,-999.0000,9,   201.1,2,  -999.0,9, -999.00,9, -999.00,9, -999.00,9,  -999.0,9,  -999.0,9, -999.00,9, -999.00,9
740H20200119,A05_24N,3,1,21,6425,2,20200120,1545,  27.00551, -79.98828,    65,    11.0, 25.5810,2,-999.0000,9, 36.3006,2,-999.0000,9,   201.8,2,  -999.0,9, -999.00,9, -999.00,9, -999.00,9,  -999.0,9,  -999.0,9, -999.00,9, -999.00,9
740H20200119,A05_24N,3,1,22,6426,2,20200120,1545,  27.00551, -79.98828,    65,     6.0, 25.5899,2,-999.0000,9, 36.3016,2, 36.3031,2,   201.6,2,   204.5,2,    1.12,2,    0.30,2,    0.02,2,  2375.9,6,  2048.8,6, -999.00,9, -999.00,9
740H20200119,A05_24N,3,1,23,6427,2,20200120,1545,  27.00551, -79.98828,    65,     5.9, 25.5904,2,-999.0000,9, 36.3015,2,-999.0000,9,   202.2,2,  -999.0,9, -999.00,9, -999.00,9, -999.00,9,  -999.0,9,  -999.0,9, -999.00,9, -999.00,9
740H20200119,A05_24N,3,1,24,1086,2,20200120,1545,  27.00551, -79.98828,    65,     6.0, 25.5906,2,-999.0000,9, 36.3015,2,-999.0000,9,   202.1,2,  -999.0,9, -999.00,9, -999.00,9, -999.00,9,  -999.0,9,  -999.0,9, -999.00,9, -999.00,9