BOTTLE,20221012CCHSIOENA
EXPOCODE,SECT_ID,STNNBR,CASTNO,SAMPNO,BTLNBR,BTLNBR_FLAG_W,DATE,TIME,LATITUDE,LONGITUDE,DEPTH,CTDPRS,CTDTMP,CTDTMP_FLAG_W,SBE35,SBE35_FLAG_W,CTDSAL,CTDSAL_FLAG_W,SALNTY,SALNTY_FLAG_W,CTDOXY,CTDOXY_FLAG_W,OXYGEN,OXYGEN_FLAG_W,SILCAT,SILCAT_FLAG_W,NO2+NO3,NO2+NO3_FLAG_W,PHSPHT,PHSPHT_FLAG_W,ALKALI,ALKALI_FLAG_W,TCARBN,TCARBN_FLAG_W,DELC14,DELC14_FLAG_W,DELC13,DELC13_FLAG_W
 , , , , , , , , , , , ,DBAR,ITS-90, ,ITS-90, ,PSS-78, ,PSS-78, ,UMOL/KG, ,UMOL/KG, ,UMOL/KG, ,UMOL/KG, ,UMOL/KG, ,UMOL/KG, ,UMOL/KG, ,/MILLE, ,/MILLE, 
740H20200119,A05_24N,119,1,11,3044,2,20200223,1855,  24.73348, -22.81591,  4894,  4971.1,  2.4194,2,  2.4191,2, 34.8860,2, 34.8867,2,   244.9,2,   244.6,2,   47.53,2,   22.37,2,    1.50,2,  2351.1,6,  2204.1,6, -999.00,1, -999.00,1
740H20200119,A05_24N,119,1,12,3045,2,20200223,1855,  24.73348, -22.81591,  4894,  4590.7,  2.3776,2,  2.3774,2, 34.8869,2, 34.8876,2,   244.7,2,   244.6,2,   47.28,2,   22.32,2,    1.50,2,  2349.0,2,  2201.0,2, -999.00,1, -999.00,1
740H20200119,A05_24N,119,1,13,3046,2,20200223,1855,  24.73348, -22.81591,  4894,  4074.7,  2.3832,2,  2.3838,2, 34.8942,2, 34.8952,2,   245.5,2,   244.6,2,   45.45,2,   22.11,2,    1.49,2,  2275.9,4,  2201.0,2, -999.00,1, -999.00,1
740H20200119,A05_24N,119,1,14,7131,2,20200223,1855,  24.73348, -22.81591,  4894,  3559.9,  2.5105,2,  2.5101,2, 34.9120,2, 34.9127,2,   243.7,2,   243.2,2,   42.07,2,   21.77,2,    1.46,2,  2342.9,2,  2193.0,2, -999.00,1, -999.00,1
740H20200119,A05_24N,119,1,15,3048,2,20200223,1855,  24.73348, -22.81591,  4894,  3046.6,  2.7875,2,  2.7885,2, 34.9399,2, 34.9388,2,   239.6,2,   239.2,2,   37.25,2,   21.44,2,    1.45,2,  2345.9,2,  2197.1,2, -999.00,1, -999.00,1
740H20200119,A05_24N,119,1,16,3049,2,20200223,1855,  24.73348, -22.81591,  4894,  2534.5,  3.3592,2,  3.3607,2, 34.9956,2, 34.9967,2,   239.5,2,   238.9,2,   28.55,2,   20.64,2,    1.38,2,  2330.8,6,  2185.3,6, -999.00,1, -999.00,1
740H20200119,A05_24N,119,1,17,3050,2,20200223,1855,  24.73348, -22.81591,  4894,  2024.3,  4.0715,2,  4.0704,2, 35.0582,2, 35.0579,2,   226.2,2,   225.9,2,   24.67,2,   21.28,2,    1.42,2,  2327.3,2,  2184.7,2, -999.00,1, -999.00,1
740H20200119,A05_24N,119,1,18,3051,2,20200223,1855,  24.73348, -22.81591,  4894,  1642.3,  5.1626,2,  5.1626,2, 35.1549,2, 35.1542,2,   205.4,2,   205.5,2,   21.15,2,   22.12,2,    1.46,2,  2331.3,2,  2192.0,2, -999.00,1, -999.00,1
740H20200119,A05_24N,119,1,19,3052,2,20200223,1855,  24.73348, -22.81591,  4894,  1413.5,  5.8185,2,  5.8185,2, 35.1732,2, 35.1747,2,   190.2,2,   189.8,2,   19.34,2,   23.25,2,    1.51,2,  2327.1,6,  2191.8,6, -999.00,1, -999.00,1
740H20200119,A05_24N,119,1,20,3053,2,20200223,1855,  24.73348, -22.81591,  4894,  1210.6,  6.4184,2,  6.4145,2, 35.1341,2, 35.1401,2,   166.8,2,   167.1,2,   19.35,2,   25.52,2,    1.65,2,  2321.4,2,  2201.5,2, -999.00,1, -999.00,1
740H20200119,A05_24N,119,1,21,3054,2,20200223,1855,  24.73348, -22.81591,  4894,  1109.0,  6.5549,2,  6.5555,2, 35.0817,2, 35.0828,2,   152.6,2,   152.8,2,   20.32,2,   27.34,2,    1.77,2,  2321.4,2,  2208.7,2, -999.00,9, -999.00,9
740H20200119,A05_24N,119,1,22,3055,2,20200223,1855,  24.73348, -22.81591,  4894,  1007.8,  7.0543,2,  7.0555,2, 35.1034,2, 35.1016,2,   141.1,2,   141.5,2,   19.98,2,   28.02,2,    1.81,2,  -999.0,9,  -999.0,9, -999.00,1, -999.00,1
740H20200119,A05_24N,119,1,23,3056,2,20200223,1855,  24.73348, -22.81591,  4894,   906.4,  7.7046,2,  7.7079,2, 35.1354,2, 35.1249,2,   129.3,2,   129.8,2,   19.12,2,   28.65,2,    1.83,2,  2319.9,2,  2214.4,2, -999.00,1, -999.00,1
740H20200119,A05_24N,119,1,24,3057,2,20200223,1855,  24.73348, -22.81591,  4894,   805.4,  8.3199,2,  8.3150,2, 35.1545,2, 35.1669,2,   112.6,2,   116.0,2,   17.79,2,   29.16,2,    1.84,2,  2318.0,6,  2218.0,6, -999.00,1, -999.00,1
740H20200119,A05_24N,119,1,1,3034,2,20200223,1855,  24.73348, -22.81591,  4894,   754.5,  8.6529,2,  8.7054,2, 35.1748,2, 35.1612,2,   102.9,2,   102.1,2,   17.82,2,   30.52,2,    1.91,2,  2318.1,6,  2224.3,6, -999.00,9, -999.00,9
740H20200119,A05_24N,119,1,2,3035,2,20200223,1855,  24.73348, -22.81591,  4894,   703.7,  9.5498,2,  9.5608,2, 35.2907,2, 35.2757,2,   107.8,2,   107.0,2,   15.18,2,   28.52,2,    1.75,2,  2320.1,2,  2216.7,2, -999.00,1, -999.00,1
740H20200119,A05_24N,119,1,3,3036,2,20200223,1855,  24.73348, -22.81591,  4894,   602.7, 11.0691,2, 11.0877,2, 35.4864,2, 35.4764,2,   119.5,2,   120.4,2,   10.99,2,   24.35,2,    1.47,2,  2327.6,6,  2209.4,6, -999.00,1, -999.00,1
740H20200119,A05_24N,119,1,4,3037,2,20200223,1855,  24.73348, -22.81591,  4894,   400.5, 14.2954,2, 14.3218,2, 35.9399,2, 35.9232,2,   171.5,2,   169.7,2,    4.49,2,   13.23,2,    0.77,2,  2353.0,2,  2173.1,2, -999.00,1, -999.00,1
740H20200119,A05_24N,119,1,5,6409,2,20200223,1855,  24.73348, -22.81591,  4894,   370.7, 14.7683,2, 14.7788,2, 36.0139,2, 36.0052,2,   173.9,2,   178.2,2,    3.77,2,   11.39,2,    0.67,2,  2355.3,2,  2163.1,2, -999.00,1, -999.00,1
740H20200119,A05_24N,119,1,6,6410,2,20200223,1855,  24.73348, -22.81591,  4894,   340.6, 15.3189,2, 15.3266,2, 36.0994,2, 36.0912,2,   168.6,2,   169.5,2,    3.60,2,   11.24,2,    0.67,2,  2361.0,2,  2165.6,2, -999.00,9, -999.00,9
740H20200119,A05_24N,119,1,7,6411,2,20200223,1855,  24.73348, -22.81591,  4894,   199.2, 18.6795,2, 18.6992,2, 36.6541,2, 36.6462,2,   194.5,2,   195.4,2,    1.17,2,    3.68,2,    0.24,2,  2395.5,2,  2148.3,2, -999.00,1, -999.00,1
740H20200119,A05_24N,119,1,8,6412,2,20200223,1855,  24.73348, -22.81591,  4894,    99.9, 20.8203,2, 20.8284,2, 36.9587,2, 36.9589,2,   221.4,2,   222.5,2,    0.46,2,    0.12,2,    0.08,2,  2419.3,2,  2125.2,2, -999.00,1, -999.00,1
740H20200119,A05_24N,119,1,9,6413,2,20200223,1855,  24.73348, -22.81591,  4894,    48.4, 21.0557,2, 21.0557,2, 36.9945,2, 36.9964,2,   221.0,2,   221.3,2,    0.54,2,    0.09,2,    0.06,2,  2415.4,2,  2126.1,2, -999.00,1, -999.00,1
740H20200119,A05_24N,119,1,10,6414,2,20200223,1855,  24.73348, -22.81591,  4894,     8.4, 21.1823,2, 21.1737,2, 36.9921,2, 36.9926,2,   220.8,2,   221.4,2,    0.60,2,    0.10,2,    0.06,2,  2418.7,2,  2123.9,2, -999.00,1, -999.00,1
740H20200119,A05_24N,120,1,11,3044,2,20200224,0234,  24.98129, -22.15155,  4771,  4845.2,  2.4085,2,  2.4083,2, 34.8865,2, 34.8860,2,   245.1,2,   244.2,2,   47.47,2,   22.39,2,    1.50,2,  2351.9,6,  2204.9,6, -999.00,9, -999.00,9
740H20200119,A05_24N,120,1,12,3045,2,20200224,0234,  24.98129, -22.15155,  4771,  4322.6,  2.3648,2,  2.3647,2, 34.8889,2, 34.8886,2,   244.8,2,   244.9,2,   47.44,2,   22.41,2,    1.50,2,  2341.1,6,  2197.1,6, -999.00,9, -999.00,9
740H20200119,A05_24N,120,1,13,3046,2,20200224,0234,  24.98129, -22.15155,  4771,  3811.5,  2.4173,2,  2.4175,2, 34.9004,2, 34.9001,2,   244.4,2,   244.2,2,   45.20,2,   22.06,2,    1.49,2,  2347.3,2,  2200.8,2, -999.00,9, -999.00,9
740H20200119,A05_24N,120,1,14,7131,2,20200224,0234,  24.98129, -22.15155,  4771,  3297.0,  2.6156,2,  2.6132,2, 34.9237,2, 34.9221,2,   241.9,2,   241.7,2,   40.83,2,   21.75,2,    1.46,2,  2344.8,2,  2197.8,2, -999.00,9, -999.00,9
740H20200119,A05_24N,120,1,15,3048,2,20200224,0234,  24.98129, -22.15155,  4771,  2784.2,  2.9663,2,  2.9705,2, 34.9588,2, 34.9581,2,   241.3,2,   240.9,2,   33.81,2,   21.11,2,    1.41,2,  2338.0,6,  2190.1,6, -999.00,9, -999.00,9
740H20200119,A05_24N,120,1,16,3049,2,20200224,0234,  24.98129, -22.15155,  4771,  2277.6,  3.5569,2,  3.5563,2, 35.0128,2, 35.0121,2,   234.2,2,   234.9,2,   27.75,2,   21.07,2,    1.40,2,  2332.1,2,  2185.3,2, -999.00,9, -999.00,9
740H20200119,A05_24N,120,1,17,3050,2,20200224,0234,  24.98129, -22.15155,  4771,  1772.6,  4.5723,2,  4.5485,2, 35.1068,2, 35.1049,2,   216.4,2,   217.1,2,   23.15,2,   21.70,2,    1.44,2,  2327.8,2,  2189.3,2, -999.00,9, -999.00,9
740H20200119,A05_24N,120,1,18,3051,2,20200224,0234,  24.98129, -22.15155,  4771,  1518.0,  5.4546,2,  5.4657,2, 35.1829,2, 35.1816,2,   199.5,2,   199.5,2,   21.03,2,   22.42,2,    1.47,2,  2332.5,2,  2195.4,2, -999.00,9, -999.00,9
740H20200119,A05_24N,120,1,19,3052,2,20200224,0234,  24.98129, -22.15155,  4771,  1314.9,  6.4208,2,  6.4379,2, 35.2626,2, 35.2656,2,   183.3,2,   183.4,2,   19.21,2,   23.05,2,    1.50,2,  2331.8,2,  2198.7,2, -999.00,9, -999.00,9
740H20200119,A05_24N,120,1,20,3053,2,20200224,0234,  24.98129, -22.15155,  4771,  1162.8,  6.8784,2,  6.8990,2, 35.2385,2, 35.2378,2,   166.6,2,   167.4,2,   18.99,2,   24.70,2,    1.60,2,  2329.8,2,  2205.5,2, -999.00,9, -999.00,9
740H20200119,A05_24N,120,1,21,3054,2,20200224,0234,  24.98129, -22.15155,  4771,  1061.3,  7.0786,2,  7.0873,2, 35.1942,2, 35.1937,2,   155.3,2,   155.8,2,   19.26,2,   26.17,2,    1.68,2,  2325.6,2,  2208.3,2, -999.00,9, -999.00,9
740H20200119,A05_24N,120,1,22,3055,2,20200224,0234,  24.98129, -22.15155,  4771,   959.6,  7.5243,2,  7.5084,2, 35.1762,2, 35.1775,2,   142.6,2,   143.0,2,   18.67,2,   27.17,2,    1.73,2,  2324.4,2,  2212.2,2, -999.00,9, -999.00,9
740H20200119,A05_24N,120,1,23,3056,2,20200224,0234,  24.98129, -22.15155,  4771,   858.1,  8.1491,2,  8.1976,2, 35.2140,2, 35.2133,2,   134.6,2,   133.9,2,   17.35,2,   27.26,2,    1.72,2,  2323.1,2,  2209.6,2, -999.00,9, -999.00,9
740H20200119,A05_24N,120,1,24,3057,2,20200224,0234,  24.98129, -22.15155,  4771,   757.0,  9.3854,2,  9.4030,2, 35.3356,2, 35.3250,2,   132.1,2,   133.2,2,   14.49,2,   25.68,2,    1.59,2,  2324.2,6,  2206.3,6, -999.00,9, -999.00,9
740H20200119,A05_24N,120,1,1,3034,2,20200224,0234,  24.98129, -22.15155,  4771,   656.2, 10.4538,2, 10.5010,2, 35.4453,2, 35.4414,2,   131.7,2,   133.7,2,   11.79,2,   23.76,2,    1.45,2,  2328.1,2,  2202.9,2, -999.00,9, -999.00,9
740H20200119,A05_24N,120,1,2,3035,2,20200224,0234,  24.98129, -22.15155,  4771,   479.0, 12.7648,2, 12.7572,2, 35.7316,2, 35.7168,2,   165.5,2,   166.1,2,    6.12,2,   16.20,2,    0.97,2,  2339.7,2,  2177.0,2, -999.00,9, -999.00,9
740H20200119,A05_24N,120,1,3,3036,2,20200224,0234,  24.98129, -22.15155,  4771,   377.6, 13.9076,2, 13.9364,2, 35.8734,2, 35.8725,2,   148.0,2,   151.5,2,    5.43,2,   15.75,2,    0.93,2,  2349.6,2,  2184.0,2, -999.00,9, -999.00,9
740H20200119,A05_24N,120,1,4,3037,2,20200224,0234,  24.98129, -22.15155,  4771,   201.9, 17.1168,2, 17.2515,2, 36.3972,2, 36.4007,2,   189.7,2,   190.4,2,    1.88,2,    6.14,2,    0.36,2,  2377.3,2,  2144.3,2, -999.00,9, -999.00,9
740H20200119,A05_24N,120,1,5,6409,2,20200224,0234,  24.98129, -22.15155,  4771,   131.4, 19.2970,2, 19.3072,2, 36.7275,2, 36.6889,2,   197.9,2,   196.3,2,    1.11,2,    3.51,2,    0.23,2,  2398.9,2,  2147.1,2, -999.00,9, -999.00,9
740H20200119,A05_24N,120,1,6,6410,2,20200224,0234,  24.98129, -22.15155,  4771,   101.5, 20.8939,2, 20.9067,2, 37.0080,2, 36.9632,2,   219.0,2,   216.2,2,    0.67,2,    0.72,2,    0.10,2,  2414.1,2,  2129.2,2, -999.00,9, -999.00,9
740H20200119,A05_24N,120,1,7,6411,2,20200224,0234,  24.98129, -22.15155,  4771,    80.9, 20.9380,2, 20.9334,2, 37.0186,2, 37.0200,2,   219.8,2,   221.2,2,    0.58,2,    0.17,2,    0.07,2,  2422.5,6,  2128.1,6, -999.00,9, -999.00,9
740H20200119,A05_24N,120,1,8,6412,2,20200224,0234,  24.98129, -22.15155,  4771,    50.7, 20.9490,2, 20.9460,2, 37.0222,2, 37.0236,2,   221.1,2,   222.4,2,    0.60,2,    0.10,2,    0.06,2,  2418.9,2,  2121.5,2, -999.00,9, -999.00,9
740H20200119,A05_24N,120,1,9,6413,2,20200224,0234,  24.98129, -22.15155,  4771,    25.6, 20.9620,2, 20.9613,2, 37.0237,2, 37.0247,2,   222.0,2,   224.1,2,    0.62,2,    0.10,2,    0.06,2,  2424.0,2,  2127.5,2, -999.00,9, -999.00,9
740H20200119,A05_24N,120,1,10,6414,2,20200224,0234,  24.98129, -22.15155,  4771,     5.4, 20.9624,2, 20.9609,2, 37.0239,2, 37.0255,2,   221.5,2,   223.7,2,    0.68,2,    0.09,2,    0.06,2,  2418.5,6,  2130.9,6, -999.00,9, -999.00,9
740H20200119,A05_24N,121,1,11,3044,2,20200224,1025,  25.21614, -21.48467,  4585,  4653.5,  2.4000,2,  2.3995,2, 34.8881,2, 34.8890,2,   245.1,2,   244.2,2,   46.50,2,   22.06,2,    1.50,2,  2350.0,6,  2197.9,6, -999.00,9, -999.00,9
740H20200119,A05_24N,121,1,12,3045,2,20200224,1025,  25.21614, -21.48467,  4585,  4063.9,  2.3791,2,  2.3792,2, 34.8935,2, 34.8950,2,   244.9,2,   244.0,2,   45.34,2,   21.92,2,    1.50,2,  2346.4,2,  2202.7,2, -999.00,9, -999.00,9
740H20200119,A05_24N,121,1,13,3046,2,20200224,1025,  25.21614, -21.48467,  4585,  3553.4,  2.5248,2,  2.5247,2, 34.9133,2, 34.9131,2,   243.5,2,   242.9,2,   45.51,2,   21.92,4,    1.50,4,  2347.1,2,  2184.4,4, -999.00,9, -999.00,9
740H20200119,A05_24N,121,1,14,7131,2,20200224,1025,  25.21614, -21.48467,  4585,  3043.6,  2.7863,2,  2.7868,2, 34.9411,2, 34.9409,2,   242.3,2,   242.1,2,   35.70,2,   21.02,2,    1.43,2,  2340.2,2,  2195.1,2, -999.00,9, -999.00,9
740H20200119,A05_24N,121,1,15,3048,2,20200224,1025,  25.21614, -21.48467,  4585,  2531.0,  3.2860,2,  3.2862,2, 34.9871,2, 34.9873,2,   233.3,2,   233.6,2,   30.94,2,   21.15,2,    1.43,2,  2337.7,2,  2177.1,4, -999.00,9, -999.00,9
740H20200119,A05_24N,121,1,16,3049,2,20200224,1025,  25.21614, -21.48467,  4585,  2018.9,  3.9512,2,  3.9635,2, 35.0500,2, 35.0498,2,   225.0,2,   225.0,2,   25.85,2,   21.24,2,    1.44,2,  2327.2,2,  2188.4,2, -999.00,9, -999.00,9
740H20200119,A05_24N,121,1,17,3050,2,20200224,1025,  25.21614, -21.48467,  4585,  1641.8,  4.9897,2,  4.9930,2, 35.1465,2, 35.1458,2,   208.8,2,   207.7,2,   21.47,2,   21.67,2,    1.45,2,  2328.4,2,  2192.0,2, -999.00,9, -999.00,9
740H20200119,A05_24N,121,1,18,3051,2,20200224,1025,  25.21614, -21.48467,  4585,  1413.0,  5.7569,2,  5.7591,2, 35.1993,2, 35.1978,2,   193.4,2,   193.4,2,   19.51,2,   22.59,2,    1.49,2,  2333.6,2,  2178.3,4, -999.00,9, -999.00,9
740H20200119,A05_24N,121,1,19,3052,2,20200224,1025,  25.21614, -21.48467,  4585,  1209.5,  6.6001,2,  6.6124,2, 35.2285,2, 35.2279,2,   174.1,2,   174.6,2,   18.41,2,   23.92,2,    1.56,2,  2328.8,2,  2199.9,2, -999.00,9, -999.00,9
740H20200119,A05_24N,121,1,20,3053,2,20200224,1025,  25.21614, -21.48467,  4585,  1108.4,  6.8888,2,  6.8888,2, 35.2091,2, 35.2163,2,   163.5,2,   163.6,2,   18.47,2,   24.98,2,    1.63,2,  2327.0,2,  2209.3,2, -999.00,9, -999.00,9
740H20200119,A05_24N,121,1,21,3054,2,20200224,1025,  25.21614, -21.48467,  4585,  1006.9,  7.2714,2,  7.2861,2, 35.2075,2, 35.2058,2,   151.6,2,   151.3,2,   18.29,2,   26.07,2,    1.69,2,  2325.4,2,  2207.9,2, -999.00,9, -999.00,9
740H20200119,A05_24N,121,1,22,3055,2,20200224,1025,  25.21614, -21.48467,  4585,   910.9,  7.8352,2,  7.8215,2, 35.2202,2, 35.2217,2,   140.2,2,   140.1,2,   17.55,2,   26.63,2,    1.75,2,  2327.6,2,  2213.1,2, -999.00,9, -999.00,9
740H20200119,A05_24N,121,1,23,3056,2,20200224,1025,  25.21614, -21.48467,  4585,   809.3,  8.6189,2,  8.5957,2, 35.2659,2, 35.2601,2,   130.2,2,   130.8,2,   16.13,2,   26.72,2,    1.69,2,  2325.0,2,  2212.4,2, -999.00,9, -999.00,9
740H20200119,A05_24N,121,1,24,3057,2,20200224,1025,  25.21614, -21.48467,  4585,   708.2,  9.6883,2,  9.6804,2, 35.3567,2, 35.3542,2,   124.9,2,   125.8,2,   13.62,2,   25.55,2,    1.58,2,  2327.0,6,  2203.4,6, -999.00,9, -999.00,9
740H20200119,A05_24N,121,1,1,3034,2,20200224,1025,  25.21614, -21.48467,  4585,   607.1, 10.9389,2, 10.9067,2, 35.5047,2, 35.4978,2,   139.5,2,   138.6,2,   10.15,2,   22.02,2,    1.33,2,  2329.7,6,  2200.4,6, -999.00,9, -999.00,9
740H20200119,A05_24N,121,1,2,3035,2,20200224,1025,  25.21614, -21.48467,  4585,   505.8, 12.3979,2, 12.4064,2, 35.6847,2, 35.6772,2,   161.6,2,   161.3,2,    6.51,2,   17.08,2,    1.01,2,  2338.6,2,  2182.9,2, -999.00,9, -999.00,9
740H20200119,A05_24N,121,1,3,3036,2,20200224,1025,  25.21614, -21.48467,  4585,   404.9, 13.7987,2, 13.8056,2, 35.8684,2, 35.8529,2,   172.9,2,   174.6,2,    4.49,2,   13.25,2,    0.77,2,  2345.5,2,  2169.7,2, -999.00,9, -999.00,9
740H20200119,A05_24N,121,1,4,3037,2,20200224,1025,  25.21614, -21.48467,  4585,   303.9, 15.2964,2, 15.3269,2, 36.0825,2, 36.0629,2,   191.6,2,   191.6,2,    2.85,2,    9.03,2,    0.51,2,  2361.5,2,  2154.0,2, -999.00,9, -999.00,9
740H20200119,A05_24N,121,1,5,6409,2,20200224,1025,  25.21614, -21.48467,  4585,   203.9, 17.6810,2, 17.6710,2, 36.4960,2, 36.4717,2,   196.0,2,   195.9,2,    1.43,2,    4.84,2,    0.26,2,  2384.2,2,  2147.2,2, -999.00,9, -999.00,9
740H20200119,A05_24N,121,1,6,6410,2,20200224,1025,  25.21614, -21.48467,  4585,   153.7, 19.1624,2, 19.1246,2, 36.7423,2, 36.7342,2,   204.1,2,   196.9,3,    0.74,2,    1.62,2,    0.07,2,  2403.7,2,  2137.8,2, -999.00,9, -999.00,9
740H20200119,A05_24N,121,1,7,6411,2,20200224,1025,  25.21614, -21.48467,  4585,   103.2, 20.6945,2, 20.6880,2, 37.0633,2, 37.0684,2,   220.6,2,   221.2,2,    0.51,2,    0.15,2,    0.01,2,  2421.2,2,  2133.2,2, -999.00,9, -999.00,9
740H20200119,A05_24N,121,1,8,6412,2,20200224,1025,  25.21614, -21.48467,  4585,    53.1, 20.7615,2, 20.7620,2, 37.0853,2, 37.0872,2,   221.0,2,   221.8,2,    0.50,2,    0.11,2,    0.02,2,  2427.8,6,  2128.7,6, -999.00,9, -999.00,9
740H20200119,A05_24N,121,1,9,6413,2,20200224,1025,  25.21614, -21.48467,  4585,    27.9, 20.7843,2, 20.7824,2, 37.0899,2, 37.0903,2,   220.8,2,   222.7,2,    0.51,2,    0.11,2,    0.01,2,  2424.4,2,  2127.1,2, -999.00,9, -999.00,9
740H20200119,A05_24N,121,1,10,6414,2,20200224,1025,  25.21614, -21.48467,  4585,     7.8, 20.7862,2, 20.7855,2, 37.0900,2, 37.0908,2,   220.8,2,   222.5,2,    0.56,2,    0.09,2,    0.02,2,  2428.1,2,  2130.9,2, -999.00,9, -999.00,9