BOTTLE,20221012CCHSIOENA
EXPOCODE,SECT_ID,STNNBR,CASTNO,SAMPNO,BTLNBR,BTLNBR_FLAG_W,DATE,TIME,LATITUDE,LONGITUDE,DEPTH,CTDPRS,CTDTMP,CTDTMP_FLAG_W,SBE35,SBE35_FLAG_W,CTDSAL,CTDSAL_FLAG_W,SALNTY,SALNTY_FLAG_W,CTDOXY,CTDOXY_FLAG_W,OXYGEN,OXYGEN_FLAG_W,SILCAT,SILCAT_FLAG_W,NO2+NO3,NO2+NO3_FLAG_W,PHSPHT,PHSPHT_FLAG_W,ALKALI,ALKALI_FLAG_W,TCARBN,TCARBN_FLAG_W,DELC14,DELC14_FLAG_W,DELC13,DELC13_FLAG_W
 , , , , , , , , , , , ,DBAR,ITS-90, ,ITS-90, ,PSS-78, ,PSS-78, ,UMOL/KG, ,UMOL/KG, ,UMOL/KG, ,UMOL/KG, ,UMOL/KG, ,UMOL/KG, ,UMOL/KG, ,/MILLE, ,/MILLE, 
740H20200119,A05_24N,89,1,11,3044,2,20200213,0527,  23.63558, -44.73547,  4416,  4480.0,  2.4088,2,  2.4085,2, 34.8904,2, 34.8916,2,   253.6,2,   251.8,2,   42.99,2,   20.61,2,    1.42,2,  2337.8,6,  2193.4,6, -999.00,9, -999.00,9
740H20200119,A05_24N,89,1,12,3045,2,20200213,0527,  23.63558, -44.73547,  4416,  4321.8,  2.3952,2,  2.4017,2, 34.8909,2, 34.8916,2,   253.2,2,   252.2,2,   42.92,2,   20.57,2,    1.42,2,  2334.7,2,  2192.9,2, -999.00,9, -999.00,9
740H20200119,A05_24N,89,1,13,3046,2,20200213,0527,  23.63558, -44.73547,  4416,  3811.8,  2.4454,2,  2.4460,2, 34.9000,2, 34.9001,2,   251.7,2,   250.7,2,   41.61,2,   20.63,2,    1.42,2,  2337.1,2,  2191.8,2, -999.00,9, -999.00,9
740H20200119,A05_24N,89,1,14,7131,2,20200213,0527,  23.63558, -44.73547,  4416,  3298.0,  2.6265,2,  2.6266,2, 34.9209,2, 34.9211,2,   247.3,2,   246.0,2,   38.96,2,   20.77,2,    1.41,2,  2338.9,6,  2193.3,6, -999.00,9, -999.00,9
740H20200119,A05_24N,89,1,15,3048,2,20200213,0527,  23.63558, -44.73547,  4416,  2784.4,  2.8372,2,  2.8409,2, 34.9429,2, 34.9433,2,   246.6,2,   245.8,2,   34.39,2,   20.43,2,    1.38,2,  2333.1,6,  2188.7,6, -999.00,9, -999.00,9
740H20200119,A05_24N,89,1,16,3049,2,20200213,0527,  23.63558, -44.73547,  4416,  2277.4,  3.4055,2,  3.4086,2, 34.9890,2, 34.9890,2,   246.4,2,   245.8,2,   25.77,2,   19.65,2,    1.31,2,  2326.0,2,  2179.5,2, -999.00,9, -999.00,9
740H20200119,A05_24N,89,1,17,3050,2,20200213,0527,  23.63558, -44.73547,  4416,  1771.5,  4.4762,2,  4.5151,2, 35.0698,2, 35.0707,2,   237.2,2,   236.0,2,   17.83,2,   19.39,2,    1.27,2,  2319.2,2,  2178.4,2, -999.00,9, -999.00,9
740H20200119,A05_24N,89,1,18,3051,2,20200213,0527,  23.63558, -44.73547,  4416,  1517.5,  5.0043,2,  5.0131,2, 35.0708,2, 35.0708,2,   223.9,2,   223.6,2,   16.28,2,   20.30,2,    1.32,2,  2330.4,2,  2177.1,2, -999.00,9, -999.00,9
740H20200119,A05_24N,89,1,19,3052,2,20200213,0527,  23.63558, -44.73547,  4416,  1313.7,  5.5538,2,  5.5549,2, 35.0400,2, 35.0420,2,   200.6,2,   201.0,2,   17.03,2,   22.47,2,    1.46,2,  2315.7,2,  2188.0,2, -999.00,9, -999.00,9
740H20200119,A05_24N,89,1,20,3053,2,20200213,0527,  23.63558, -44.73547,  4416,  1161.1,  5.8572,2,  5.8664,2, 34.9846,2, 34.9847,2,   177.9,2,   177.0,2,   19.31,2,   25.30,2,    1.64,2,  2312.5,2,  2196.2,2, -999.00,9, -999.00,9
740H20200119,A05_24N,89,1,21,3054,2,20200213,0527,  23.63558, -44.73547,  4416,   958.7,  7.4097,2,  7.4128,2, 35.0746,2, 35.0715,2,   145.5,2,   144.7,2,   18.51,2,   27.39,2,    1.73,2,  2317.1,2,  2207.4,2, -999.00,9, -999.00,9
740H20200119,A05_24N,89,1,22,3055,2,20200213,0527,  23.63558, -44.73547,  4416,   857.4,  8.6154,2,  8.7499,2, 35.2145,2, 35.2133,2,   142.3,2,   141.4,2,   15.44,2,   25.79,2,    1.59,2,  2315.7,6,  2202.4,6, -999.00,9, -999.00,9
740H20200119,A05_24N,89,1,23,3056,2,20200213,0527,  23.63558, -44.73547,  4416,   755.7, 10.4143,2, 10.4136,2, 35.4331,2, 35.4236,2,   148.0,2,   146.8,2,   10.99,2,   22.33,2,    1.33,2,  2328.0,2,  2189.5,2, -999.00,9, -999.00,9
740H20200119,A05_24N,89,1,24,3057,2,20200213,0527,  23.63558, -44.73547,  4416,   654.5, 11.7245,2, 11.7405,2, 35.5798,2, 35.5781,2,   146.6,2,   147.8,2,    8.20,2,   20.03,2,    1.15,2,  2334.2,2,  2185.3,2, -999.00,9, -999.00,9
740H20200119,A05_24N,89,1,1,3034,2,20200213,0527,  23.63558, -44.73547,  4416,   502.8, 13.7127,2, 13.7412,2, 35.8397,2, 35.8287,2,   148.3,2,   149.8,2,    5.39,2,   16.52,2,    0.91,2,  2343.5,2,  2178.9,2, -999.00,9, -999.00,9
740H20200119,A05_24N,89,1,2,3035,2,20200213,0527,  23.63558, -44.73547,  4416,   300.7, 18.0885,2, 18.1057,2, 36.5502,2, 36.5153,2,   175.4,2,   173.5,2,    1.72,2,    7.42,2,    0.36,2,  2382.2,6,  2155.0,6, -999.00,9, -999.00,9
740H20200119,A05_24N,89,1,3,3036,2,20200213,0527,  23.63558, -44.73547,  4416,   200.2, 21.0561,2, 21.1338,2, 37.0864,2, 37.0563,2,   188.8,2,   186.9,2,    0.56,2,    2.17,2,    0.08,2,  2418.5,2,  2145.2,2, -999.00,9, -999.00,9
740H20200119,A05_24N,89,1,4,3037,2,20200213,0527,  23.63558, -44.73547,  4416,   149.4, 23.7155,2, 23.7338,2, 37.4958,2, 37.4263,2,   208.3,2,   205.1,2,    0.36,2,    0.33,2,    0.00,2,  2444.9,2,  2123.3,2, -999.00,9, -999.00,9
740H20200119,A05_24N,89,1,5,3038,2,20200213,0527,  23.63558, -44.73547,  4416,    79.0, 23.9341,2, 23.9348,2, 37.5293,2, 37.5294,2,   207.8,2,   207.9,2,    0.39,2,    0.20,2,   -0.01,2,  2451.0,2,  2116.6,2, -999.00,9, -999.00,9
740H20200119,A05_24N,89,1,6,6410,2,20200213,0527,  23.63558, -44.73547,  4416,    38.9, 23.9328,2, 23.9295,2, 37.5298,2,-999.0000,9,   208.3,2,  -999.0,9, -999.00,9, -999.00,9, -999.00,9,  -999.0,9,  -999.0,9, -999.00,9, -999.00,9
740H20200119,A05_24N,89,1,7,6411,2,20200213,0527,  23.63558, -44.73547,  4416,    38.8, 23.9324,2,-999.0000,9, 37.5299,2,-999.0000,9,   208.3,2,  -999.0,9, -999.00,9, -999.00,9, -999.00,9,  -999.0,9,  -999.0,9, -999.00,9, -999.00,9
740H20200119,A05_24N,89,1,8,6412,2,20200213,0527,  23.63558, -44.73547,  4416,    38.8, 23.9310,2, 23.9314,2, 37.5294,2,-999.0000,9,   208.1,2,  -999.0,9, -999.00,9, -999.00,9, -999.00,9,  -999.0,9,  -999.0,9, -999.00,9, -999.00,9
740H20200119,A05_24N,89,1,9,6413,2,20200213,0527,  23.63558, -44.73547,  4416,    38.5, 23.9327,2,-999.0000,9, 37.5299,2, 37.5300,2,   207.5,2,   207.4,2,    0.43,2,    0.19,2,    0.00,2,  2451.6,2,  2114.4,2, -999.00,9, -999.00,9
740H20200119,A05_24N,89,1,10,3043,2,20200213,0527,  23.63558, -44.73547,  4416,     5.5, 23.9281,2, 23.9230,2, 37.5304,2, 37.5305,2,   208.3,2,   208.0,2,    0.45,2,    0.22,2,    0.00,2,  2451.2,6,  2114.6,6, -999.00,9, -999.00,9
740H20200119,A05_24N,90,1,11,3044,2,20200213,1215,  23.53503, -44.20860,  4932,  5012.3,  2.5247,2,  2.5243,2, 34.8946,2, 34.8959,2,   253.0,2,   251.6,2,   41.61,2,   21.35,2,    1.42,2,  2335.5,2,  2192.4,6, -999.00,9, -999.00,9
740H20200119,A05_24N,90,1,12,3045,2,20200213,1215,  23.53503, -44.20860,  4932,  4576.8,  2.4754,2,  2.4751,2, 34.8951,2, 34.8947,2,   252.6,2,   251.2,2,   41.41,2,   21.17,2,    1.42,2,  2334.6,2,  2192.1,2, -999.00,9, -999.00,9
740H20200119,A05_24N,90,1,13,3046,2,20200213,1215,  23.53503, -44.20860,  4932,  4065.5,  2.4926,2,  2.4926,2, 34.9014,2, 34.9013,2,   251.7,2,   250.5,2,   40.55,2,   21.21,2,    1.41,2,  2338.9,6,  2193.7,6, -999.00,9, -999.00,9
740H20200119,A05_24N,90,1,14,7131,2,20200213,1215,  23.53503, -44.20860,  4932,  3554.6,  2.5978,2,  2.5978,2, 34.9156,2, 34.9159,2,   248.4,2,   247.5,2,   38.85,2,   21.24,2,    1.41,2,  2338.5,2,  2191.6,2, -999.00,9, -999.00,9
740H20200119,A05_24N,90,1,15,3048,2,20200213,1215,  23.53503, -44.20860,  4932,  3041.2,  2.6977,2,  2.6984,2, 34.9293,2, 34.9294,2,   247.1,2,   246.0,2,   36.50,2,   21.05,2,    1.41,2,  2336.6,2,  2191.4,2, -999.00,9, -999.00,9
740H20200119,A05_24N,90,1,16,3049,2,20200213,1215,  23.53503, -44.20860,  4932,  2533.6,  3.1056,2,  3.1032,2, 34.9649,2, 34.9636,2,   247.3,2,   246.3,2,   29.35,2,   20.34,2,    1.34,2,  2328.4,6,  2183.2,6, -999.00,9, -999.00,9
740H20200119,A05_24N,90,1,17,3050,2,20200213,1215,  23.53503, -44.20860,  4932,  2022.1,  3.8905,2,  3.8870,2, 35.0269,2, 35.0267,2,   244.0,2,   243.4,2,   21.17,2,   19.61,2,    1.28,2,  2323.8,2,  2178.4,2, -999.00,9, -999.00,9
740H20200119,A05_24N,90,1,18,3051,2,20200213,1215,  23.53503, -44.20860,  4932,  1645.0,  4.6551,2,  4.6650,2, 35.0483,2, 35.0479,2,   233.4,2,   232.3,2,   16.38,2,   20.01,2,    1.31,2,  2331.6,2,  2187.4,2, -999.00,9, -999.00,9
740H20200119,A05_24N,90,1,19,3052,2,20200213,1215,  23.53503, -44.20860,  4932,  1416.2,  5.1653,2,  5.1681,2, 35.0425,2, 35.0420,2,   215.4,2,   214.9,2,   16.58,2,   21.49,2,    1.40,2,  2318.7,2,  2184.5,2, -999.00,9, -999.00,9
740H20200119,A05_24N,90,1,20,3053,2,20200213,1215,  23.53503, -44.20860,  4932,  1212.8,  5.7542,2,  5.7524,2, 35.0107,2, 35.0109,2,   181.3,2,   180.2,2,   19.43,2,   25.10,2,    1.63,2,  2315.6,2,  2199.6,2, -999.00,9, -999.00,9
740H20200119,A05_24N,90,1,21,3054,2,20200213,1215,  23.53503, -44.20860,  4932,  1111.2,  6.2720,2,  6.2743,2, 35.0278,2, 35.0263,2,   166.9,2,   167.0,2,   19.43,2,   25.20,2,    1.64,2,  2315.9,6,  2203.0,6, -999.00,9, -999.00,9
740H20200119,A05_24N,90,1,22,3055,2,20200213,1215,  23.53503, -44.20860,  4932,   907.8,  8.0539,2,  8.0860,2, 35.1542,2, 35.1499,2,   143.5,2,   142.1,2,   16.92,2,   26.55,2,    1.67,2,  2324.3,2,  2206.8,2, -999.00,9, -999.00,9
740H20200119,A05_24N,90,1,23,3056,2,20200213,1215,  23.53503, -44.20860,  4932,   806.8,  9.5635,2,  9.5995,2, 35.3220,2, 35.3083,2,   138.7,2,   137.2,2,   13.52,2,   24.67,2,    1.52,2,  2321.6,2,  2203.5,2, -999.00,9, -999.00,9
740H20200119,A05_24N,90,1,24,3057,2,20200213,1215,  23.53503, -44.20860,  4932,   654.8, 11.6647,2, 11.6785,2, 35.5706,2, 35.5617,2,   137.3,2,   137.4,2,    8.71,2,   21.04,2,    1.23,2,  2333.8,6,  2193.8,6, -999.00,9, -999.00,9
740H20200119,A05_24N,90,1,1,3034,2,20200213,1215,  23.53503, -44.20860,  4932,   503.3, 13.6609,2, 13.6816,2, 35.8417,2, 35.8336,2,   146.1,2,   144.8,2,    5.56,2,   16.65,2,    0.95,2,  2345.7,2,  2181.6,2, -999.00,9, -999.00,9
740H20200119,A05_24N,90,1,2,3035,2,20200213,1215,  23.53503, -44.20860,  4932,   401.7, 15.4521,2, 15.4664,2, 36.1016,2, 36.0885,2,   155.1,2,   154.1,2,    3.81,2,   12.94,2,    0.73,2,  2361.6,2,  2173.4,2, -999.00,9, -999.00,9
740H20200119,A05_24N,90,1,3,3036,2,20200213,1215,  23.53503, -44.20860,  4932,   300.4, 18.0840,2, 18.1132,2, 36.5471,2, 36.4948,2,   178.1,2,   173.4,2,    1.93,2,    7.45,2,    0.39,2,  2384.6,2,  2153.9,2, -999.00,9, -999.00,9
740H20200119,A05_24N,90,1,4,3037,2,20200213,1215,  23.53503, -44.20860,  4932,   199.9, 20.8162,2, 20.9090,2, 36.9950,2, 36.9604,2,   196.4,2,   194.4,2,    0.67,2,    1.50,2,    0.04,2,  2413.6,2,  2134.6,2, -999.00,9, -999.00,9
740H20200119,A05_24N,90,1,5,3038,2,20200213,1215,  23.53503, -44.20860,  4932,   149.5, 23.4874,2, 23.5118,2, 37.4815,2, 37.4733,2,   209.4,2,   208.7,2,    0.51,2,    0.23,2,    0.00,2,  2446.5,2,  2119.4,2, -999.00,9, -999.00,9
740H20200119,A05_24N,90,1,6,6410,2,20200213,1215,  23.53503, -44.20860,  4932,    99.8, 23.5303,2, 23.5305,2, 37.4898,2, 37.4892,2,   209.9,2,   209.6,2,    0.53,2,    0.20,2,   -0.01,2,  2448.2,2,  2118.7,2, -999.00,9, -999.00,9
740H20200119,A05_24N,90,1,7,6411,2,20200213,1215,  23.53503, -44.20860,  4932,    74.6, 23.5272,2, 23.5255,2, 37.4908,2, 37.4909,2,   210.5,2,   211.1,2,    0.53,2,    0.20,2,    0.00,2,  2447.5,2,  2116.6,2, -999.00,9, -999.00,9
740H20200119,A05_24N,90,1,8,6412,4,20200213,1215,  23.53503, -44.20860,  4932,    49.1, 23.5276,2, 23.5276,2, 37.4911,2,-999.0000,9,   210.2,2,  -999.0,5, -999.00,9, -999.00,9, -999.00,9,  -999.0,9,  -999.0,9, -999.00,9, -999.00,9
740H20200119,A05_24N,90,1,9,6413,2,20200213,1215,  23.53503, -44.20860,  4932,    23.5, 23.5345,2, 23.5378,2, 37.4904,2, 37.4904,2,   210.7,2,   210.3,2,    0.56,2,    0.21,2,    0.00,2,  2448.8,2,  2116.9,2, -999.00,9, -999.00,9
740H20200119,A05_24N,90,1,10,3043,2,20200213,1215,  23.53503, -44.20860,  4932,     6.7, 23.5382,2, 23.5357,2, 37.4902,2, 37.4915,2,   210.3,2,   211.2,2,    0.54,2,    0.20,2,   -0.01,2,  2449.1,6,  2117.6,6, -999.00,9, -999.00,9
740H20200119,A05_24N,91,1,11,3044,2,20200213,1918,  23.44995, -43.67238,  4861,  4943.2,  2.4806,2,  2.4803,2, 34.8912,2, 34.8905,2,   250.8,2,   250.5,2,   43.34,2,   21.42,2,    1.44,2,  2339.4,6,  2195.3,6, -999.00,9, -999.00,9
740H20200119,A05_24N,91,1,12,3045,2,20200213,1918,  23.44995, -43.67238,  4861,  4856.1,  2.4910,2,  2.4906,2, 34.8932,2, 34.8926,2,   251.2,2,   251.1,2,   42.52,2,   21.25,2,    1.43,2,  2340.5,2,  2188.7,2, -999.00,9, -999.00,9
740H20200119,A05_24N,91,1,13,3046,2,20200213,1918,  23.44995, -43.67238,  4861,  4338.1,  2.4685,2,  2.4681,2, 34.8969,2, 34.8967,2,   252.0,2,   251.4,2,   41.50,2,   21.16,2,    1.41,2,  2337.5,2,  2193.5,2, -999.00,9, -999.00,9
740H20200119,A05_24N,91,1,14,7131,2,20200213,1918,  23.44995, -43.67238,  4861,  3822.2,  2.5173,2,  2.5169,2, 34.9060,2, 34.9063,2,   249.7,2,   250.3,2,   40.21,2,   21.11,2,    1.42,2,  2336.6,2,  2189.8,2, -999.00,9, -999.00,9
740H20200119,A05_24N,91,1,15,3048,2,20200213,1918,  23.44995, -43.67238,  4861,  3297.1,  2.6646,2,  2.6645,2, 34.9234,2, 34.9232,2,   248.1,2,   248.7,2,   37.36,2,   20.96,2,    1.40,2,  -999.0,9,  2190.1,6, -999.00,9, -999.00,9
740H20200119,A05_24N,91,1,16,3049,2,20200213,1918,  23.44995, -43.67238,  4861,  2783.5,  2.8677,2,  2.8673,2, 34.9452,2, 34.9448,2,   246.8,2,   247.1,2,   33.43,2,   20.69,2,    1.39,2,  2317.8,2,  2174.6,2, -999.00,9, -999.00,9
740H20200119,A05_24N,91,1,17,3050,2,20200213,1918,  23.44995, -43.67238,  4861,  2271.4,  3.5138,2,  3.5170,2, 34.9975,2, 34.9983,2,   247.1,2,   246.9,2,   24.35,2,   19.68,2,    1.30,2,  2324.7,2,  2176.1,2, -999.00,9, -999.00,9
740H20200119,A05_24N,91,1,18,3051,2,20200213,1918,  23.44995, -43.67238,  4861,  1765.1,  4.4970,2,  4.4979,2, 35.0570,2, 35.0575,2,   235.6,2,   236.3,2,   17.46,2,   19.83,2,    1.29,2,  2317.5,6,  2175.6,6, -999.00,9, -999.00,9
740H20200119,A05_24N,91,1,19,3052,2,20200213,1918,  23.44995, -43.67238,  4861,  1516.0,  5.0017,2,  5.0020,2, 35.0530,2, 35.0535,2,   222.6,2,   223.9,2,   16.04,2,   20.81,2,    1.35,2,  2318.1,2,  2178.4,2, -999.00,9, -999.00,9
740H20200119,A05_24N,91,1,20,3053,2,20200213,1918,  23.44995, -43.67238,  4861,  1312.3,  5.4488,2,  5.4591,2, 35.0103,2, 35.0106,2,   191.9,2,   193.8,2,   18.63,2,   24.13,2,    1.56,2,  2314.9,2,  2186.1,2, -999.00,9, -999.00,9
740H20200119,A05_24N,91,1,21,3054,2,20200213,1918,  23.44995, -43.67238,  4861,  1160.0,  6.1520,2,  6.1650,2, 35.0095,2, 35.0121,2,   165.8,2,   169.0,2,   19.75,2,   26.52,2,    1.72,2,  2317.0,2,  2201.6,6, -999.00,9, -999.00,9
740H20200119,A05_24N,91,1,22,3055,2,20200213,1918,  23.44995, -43.67238,  4861,  1058.5,  6.5941,2,  6.6070,2, 35.0374,2, 35.0394,2,   154.6,2,   157.6,2,   19.56,2,   27.14,2,    1.76,2,  2317.0,2,  2205.6,2, -999.00,9, -999.00,9
740H20200119,A05_24N,91,1,23,3056,2,20200213,1918,  23.44995, -43.67238,  4861,   957.2,  7.2516,2,  7.2702,2, 35.0642,2, 35.0616,2,   142.7,2,   147.8,2,   18.98,2,   27.75,2,    1.78,2,  2316.8,2,  2206.8,2, -999.00,9, -999.00,9
740H20200119,A05_24N,91,1,24,3057,2,20200213,1918,  23.44995, -43.67238,  4861,   855.5,  8.2760,2,  8.2796,2, 35.1692,2, 35.1589,2,   133.6,2,   138.5,2,   16.91,2,   27.24,2,    1.73,2,  2318.4,2,  2203.9,2, -999.00,9, -999.00,9
740H20200119,A05_24N,91,1,1,3034,2,20200213,1918,  23.44995, -43.67238,  4861,   754.5,  9.5501,2,  9.6075,2, 35.3138,2, 35.3067,2,   130.0,2,   135.2,2,   13.74,2,   25.49,2,    1.57,2,  2325.2,6,  2205.9,6, -999.00,9, -999.00,9
740H20200119,A05_24N,91,1,2,3035,2,20200213,1918,  23.44995, -43.67238,  4861,   653.2, 11.1470,2, 11.1644,2, 35.5178,2, 35.5073,2,   144.2,2,   147.9,2,    9.48,2,   21.06,2,    1.26,2,  2331.4,2,  2191.3,2, -999.00,9, -999.00,9
740H20200119,A05_24N,91,1,3,3036,2,20200213,1918,  23.44995, -43.67238,  4861,   501.8, 13.9380,2, 13.9508,2, 35.8842,2, 35.8740,2,   169.1,2,   171.1,2,    4.62,2,   13.74,2,    0.78,2,  2348.1,2,  2167.5,2, -999.00,9, -999.00,9
740H20200119,A05_24N,91,1,4,3037,2,20200213,1918,  23.44995, -43.67238,  4861,   300.0, 17.3285,2, 17.3586,2, 36.3972,2, 36.3830,2,   188.0,2,   188.1,2,    1.92,2,    6.77,2,    0.34,2,  2373.5,2,  2140.4,2, -999.00,9, -999.00,9
740H20200119,A05_24N,91,1,5,3038,2,20200213,1918,  23.44995, -43.67238,  4861,   198.4, 19.4296,2, 19.4421,2, 36.7586,2, 36.7362,2,   194.3,2,   194.4,2,    0.93,2,    2.87,2,    0.12,2,  2399.6,6,  2133.4,6, -999.00,9, -999.00,9
740H20200119,A05_24N,91,1,6,6410,2,20200213,1918,  23.44995, -43.67238,  4861,   163.5, 20.4151,2, 20.4416,2, 36.9037,2, 36.8817,2,   198.6,2,   198.1,2,    0.63,2,    1.31,2,    0.03,2,  2406.5,2,  2132.9,2, -999.00,9, -999.00,9
740H20200119,A05_24N,91,1,7,6411,2,20200213,1918,  23.44995, -43.67238,  4861,   113.6, 23.3046,2, 23.3091,2, 37.4788,2, 37.4803,2,   210.8,2,   210.8,2,    0.58,2,    0.20,2,    0.00,2,  2448.5,2,  2114.9,2, -999.00,9, -999.00,9
740H20200119,A05_24N,91,1,8,6412,2,20200213,1918,  23.44995, -43.67238,  4861,    72.5, 23.3170,2, 23.3134,2, 37.4820,2, 37.4825,2,   211.7,2,   210.9,2,    0.53,2,    0.21,2,    0.00,2,  2445.1,2,  2116.9,2, -999.00,9, -999.00,9
740H20200119,A05_24N,91,1,9,6413,2,20200213,1918,  23.44995, -43.67238,  4861,    48.3, 23.3221,2, 23.3181,2, 37.4824,2, 37.4826,2,   211.5,2,   211.3,2,    0.55,2,    0.20,2,    0.00,2,  2448.0,2,  2117.2,2, -999.00,9, -999.00,9
740H20200119,A05_24N,91,1,10,3043,2,20200213,1918,  23.44995, -43.67238,  4861,     6.9, 23.3678,2, 23.3694,4, 37.4844,2, 37.4842,2,   211.8,2,   210.7,2,    0.56,2,    0.20,2,    0.00,2,  2445.7,2,  2116.7,2, -999.00,9, -999.00,9