BOTTLE,20221012CCHSIOENA
EXPOCODE,SECT_ID,STNNBR,CASTNO,SAMPNO,BTLNBR,BTLNBR_FLAG_W,DATE,TIME,LATITUDE,LONGITUDE,DEPTH,CTDPRS,CTDTMP,CTDTMP_FLAG_W,SBE35,SBE35_FLAG_W,CTDSAL,CTDSAL_FLAG_W,SALNTY,SALNTY_FLAG_W,CTDOXY,CTDOXY_FLAG_W,OXYGEN,OXYGEN_FLAG_W,SILCAT,SILCAT_FLAG_W,NO2+NO3,NO2+NO3_FLAG_W,PHSPHT,PHSPHT_FLAG_W,ALKALI,ALKALI_FLAG_W,TCARBN,TCARBN_FLAG_W,DELC14,DELC14_FLAG_W,DELC13,DELC13_FLAG_W
 , , , , , , , , , , , ,DBAR,ITS-90, ,ITS-90, ,PSS-78, ,PSS-78, ,UMOL/KG, ,UMOL/KG, ,UMOL/KG, ,UMOL/KG, ,UMOL/KG, ,UMOL/KG, ,UMOL/KG, ,/MILLE, ,/MILLE, 
740H20200119,A05_24N,83,1,11,3044,2,20200211,1136,  24.06625, -47.94288,  5282,  5372.0,  2.1818,2,  2.1816,2, 34.8610,2, 34.8630,2,   252.9,2,   251.3,2,   50.37,2,   21.97,2,    1.50,2,  2341.2,6,  2197.1,6, -999.00,9, -999.00,9
740H20200119,A05_24N,83,1,12,3045,2,20200211,1136,  24.06625, -47.94288,  5282,  4835.5,  2.1239,2,  2.1234,2, 34.8623,2, 34.8615,2,   252.9,2,   251.7,2,   50.13,2,   21.89,2,    1.50,2,  2338.9,2,  2197.4,2, -999.00,9, -999.00,9
740H20200119,A05_24N,83,1,13,3046,2,20200211,1136,  24.06625, -47.94288,  5282,  4321.9,  2.1943,2,  2.1941,2, 34.8750,2, 34.8751,2,   254.1,2,   253.1,2,   45.78,2,   21.33,2,    1.45,2,  2336.5,2,  2193.3,2, -999.00,9, -999.00,9
740H20200119,A05_24N,83,1,14,7131,2,20200211,1136,  24.06625, -47.94288,  5282,  3810.4,  2.3972,2,  2.3977,2, 34.8969,2, 34.8967,2,   253.9,2,   253.0,2,   40.58,2,   20.81,2,    1.41,2,  2337.0,6,  2187.2,6, -999.00,9, -999.00,9
740H20200119,A05_24N,83,1,15,3048,2,20200211,1136,  24.06625, -47.94288,  5282,  3295.0,  2.5668,2,  2.5675,2, 34.9140,2, 34.9143,2,   251.7,2,   250.8,2,   38.09,2,   20.67,2,    1.40,2,  2332.4,6,  2185.2,6, -999.00,9, -999.00,9
740H20200119,A05_24N,83,1,16,3049,2,20200211,1136,  24.06625, -47.94288,  5282,  2781.4,  2.9056,2,  2.9071,2, 34.9444,2, 34.9442,2,   250.3,2,   248.6,2,   32.17,2,   20.25,2,    1.36,2,  2332.4,2,  2179.8,2, -999.00,9, -999.00,9
740H20200119,A05_24N,83,1,17,3050,2,20200211,1136,  24.06625, -47.94288,  5282,  2279.6,  3.3899,2,  3.3922,2, 34.9866,2, 34.9852,2,   248.0,2,   246.9,2,   25.61,2,   19.69,2,    1.31,2,  2324.0,2,  2177.9,2, -999.00,9, -999.00,9
740H20200119,A05_24N,83,1,18,3051,2,20200211,1136,  24.06625, -47.94288,  5282,  1769.2,  4.3448,2,  4.3520,2, 35.0431,2, 35.0434,2,   242.9,2,   241.5,2,   16.42,2,   19.21,2,    1.25,2,  2317.3,2,  2167.9,2, -999.00,9, -999.00,9
740H20200119,A05_24N,83,1,19,3052,2,20200211,1136,  24.06625, -47.94288,  5282,  1514.1,  4.8577,2,  4.8752,2, 35.0494,2, 35.0495,2,   231.1,2,   230.8,2,   14.92,2,   19.98,2,    1.29,2,  2313.2,2,  2174.1,2, -999.00,9, -999.00,9
740H20200119,A05_24N,83,1,20,3053,2,20200211,1136,  24.06625, -47.94288,  5282,  1310.9,  5.3891,2,  5.3930,2, 35.0243,2, 35.0249,2,   205.0,2,   204.7,2,   16.79,2,   22.35,2,    1.47,2,  2315.5,6,  2183.4,6, -999.00,9, -999.00,9
740H20200119,A05_24N,83,1,21,3054,2,20200211,1136,  24.06625, -47.94288,  5282,  1158.4,  5.8193,2,  5.8096,2, 34.9851,2, 34.9879,2,   181.0,2,   182.0,2,   18.68,2,   24.72,2,    1.63,2,  2313.3,2,  2194.9,2, -999.00,9, -999.00,9
740H20200119,A05_24N,83,1,22,3055,2,20200211,1136,  24.06625, -47.94288,  5282,  1062.0,  6.1008,2,  6.1455,2, 34.9661,2, 34.9655,2,   166.5,2,   165.1,2,   19.94,2,   26.56,2,    1.75,2,  2311.3,2,  2201.3,2, -999.00,9, -999.00,9
740H20200119,A05_24N,83,1,23,3056,2,20200211,1136,  24.06625, -47.94288,  5282,   960.7,  6.9641,2,  6.9772,2, 35.0133,2, 35.0117,2,   149.2,2,   148.5,2,   19.35,2,   27.37,2,    1.78,2,  2314.5,2,  2204.4,2, -999.00,9, -999.00,9
740H20200119,A05_24N,83,1,24,3057,2,20200211,1136,  24.06625, -47.94288,  5282,   859.4,  8.2105,2,  8.2189,2, 35.1509,2, 35.1403,2,   141.6,2,   141.0,2,   16.76,2,   26.33,2,    1.68,2,  2317.4,6,  2202.1,6, -999.00,9, -999.00,9
740H20200119,A05_24N,83,1,1,3034,2,20200211,1136,  24.06625, -47.94288,  5282,   757.9,  9.5337,2,  9.5108,2, 35.3143,2, 35.3068,2,   142.2,2,   141.4,2,   13.33,2,   23.90,2,    1.49,2,  2323.2,6,  2195.7,6, -999.00,9, -999.00,9
740H20200119,A05_24N,83,1,2,3035,2,20200211,1136,  24.06625, -47.94288,  5282,   656.6, 11.3432,2, 11.4038,2, 35.5442,2, 35.5339,2,   157.5,2,   156.5,2,    8.71,2,   19.16,2,    1.16,2,  2333.1,2,  2184.9,2, -999.00,9, -999.00,9
740H20200119,A05_24N,83,1,3,3036,2,20200211,1136,  24.06625, -47.94288,  5282,   505.0, 14.1174,2, 14.1229,2, 35.9049,2, 35.8908,2,   178.9,2,   178.3,2,    4.24,2,   12.43,2,    0.71,2,  2350.7,2,  2158.0,2, -999.00,9, -999.00,9
740H20200119,A05_24N,83,1,4,3037,2,20200211,1136,  24.06625, -47.94288,  5282,   378.8, 16.1891,2, 16.2238,2, 36.2127,2, 36.2058,2,   181.1,2,   181.3,2,    2.55,2,    8.99,2,    0.49,2,  2366.7,2,  2153.7,2, -999.00,9, -999.00,9
740H20200119,A05_24N,83,1,5,3038,2,20200211,1136,  24.06625, -47.94288,  5282,   252.8, 18.2272,2, 18.3509,2, 36.5521,2, 36.5460,2,   186.9,2,   186.3,2,    1.29,2,    5.33,2,    0.24,2,  2387.3,2,  2137.9,2, -999.00,9, -999.00,9
740H20200119,A05_24N,83,1,6,6410,2,20200211,1136,  24.06625, -47.94288,  5282,   177.0, 20.3303,2, 20.2918,2, 36.9144,2, 36.8876,2,   194.4,2,   193.8,2,    0.57,2,    1.66,2,    0.04,2,  2409.1,2,  2135.3,2, -999.00,9, -999.00,9
740H20200119,A05_24N,83,1,7,6411,2,20200211,1136,  24.06625, -47.94288,  5282,   151.9, 21.0479,2, 21.0712,2, 37.0260,2, 37.0098,2,   197.8,2,   196.7,2,    0.46,2,    1.02,2,    0.02,2,  2415.6,2,  2130.3,2, -999.00,9, -999.00,9
740H20200119,A05_24N,83,1,8,6412,2,20200211,1136,  24.06625, -47.94288,  5282,    82.0, 23.5650,2, 23.5755,2, 37.5078,2, 37.5095,2,   210.0,2,   208.9,2,    0.32,2,    0.24,2,   -0.01,2,  2448.0,2,  2119.5,2, -999.00,9, -999.00,9
740H20200119,A05_24N,83,1,9,6413,2,20200211,1136,  24.06625, -47.94288,  5282,    50.2, 23.7062,2, 23.7404,2, 37.5284,2, 37.5349,2,   209.3,2,   213.1,2,    0.37,2,    0.26,2,    0.00,2,  2450.9,2,  2113.6,2, -999.00,9, -999.00,9
740H20200119,A05_24N,83,1,10,3043,2,20200211,1136,  24.06625, -47.94288,  5282,     7.7, 23.8216,2, 23.8202,2, 37.5519,2, 37.5522,2,   209.3,2,   208.7,2,    0.45,2,    0.24,2,   -0.01,2,  2451.3,2,  2116.1,2, -999.00,9, -999.00,9
740H20200119,A05_24N,84,1,11,3044,2,20200211,1838,  23.97527, -47.40886,  4568,  4636.4,  2.1552,2,  2.1546,2, 34.8674,2, 34.8670,2,   253.1,2,   253.2,2,   48.67,2,   21.70,2,    1.49,2,  2338.8,6,  2196.0,6, -999.00,9, -999.00,9
740H20200119,A05_24N,84,1,12,3045,2,20200211,1838,  23.97527, -47.40886,  4568,  4059.3,  2.2414,2,  2.2410,2, 34.8815,2, 34.8808,2,   254.0,2,   254.3,2,   43.94,2,   21.29,2,    1.45,2,  2333.9,2,  2191.7,2, -999.00,9, -999.00,9
740H20200119,A05_24N,84,1,13,3046,2,20200211,1838,  23.97527, -47.40886,  4568,  3549.4,  2.4840,2,  2.4837,2, 34.9052,2, 34.9046,2,   252.2,2,   252.8,2,   39.52,2,   20.85,2,    1.42,2,  2335.9,2,  2186.3,2, -999.00,9, -999.00,9
740H20200119,A05_24N,84,1,14,7131,2,20200211,1838,  23.97527, -47.40886,  4568,  3038.4,  2.7656,2,  2.7661,2, 34.9326,2, 34.9321,2,   249.1,2,   249.9,2,   34.90,2,   20.61,2,    1.41,2,  2329.8,2,  2184.4,2, -999.00,9, -999.00,9
740H20200119,A05_24N,84,1,15,3048,2,20200211,1838,  23.97527, -47.40886,  4568,  2529.3,  3.0803,2,  3.0811,2, 34.9598,2, 34.9591,2,   248.5,2,   250.2,2,   29.43,2,   20.08,2,    1.36,2,  2328.8,6,  2177.3,6, -999.00,9, -999.00,9
740H20200119,A05_24N,84,1,16,3049,2,20200211,1838,  23.97527, -47.40886,  4568,  2020.8,  3.7071,2,  3.7124,2, 35.0036,2, 35.0040,2,   245.0,2,   245.5,2,   22.18,2,   19.65,2,    1.32,2,  2323.3,2,  2170.9,2, -999.00,9, -999.00,9
740H20200119,A05_24N,84,1,17,3050,2,20200211,1838,  23.97527, -47.40886,  4568,  1638.0,  4.4489,2,  4.4495,2, 35.0389,2, 35.0388,2,   237.5,2,   238.4,2,   16.73,2,   19.64,2,    1.32,2,  2313.1,2,  2173.2,2, -999.00,9, -999.00,9
740H20200119,A05_24N,84,1,18,3051,2,20200211,1838,  23.97527, -47.40886,  4568,  1414.1,  5.0204,2,  5.0207,2, 35.0420,2, 35.0418,2,   222.3,2,   223.3,2,   15.85,2,   20.72,2,    1.38,2,  2312.5,6,  2177.3,6, -999.00,9, -999.00,9
740H20200119,A05_24N,84,1,19,3052,2,20200211,1838,  23.97527, -47.40886,  4568,  1210.6,  5.8208,2,  5.8225,2, 35.0550,2, 35.0573,2,   192.3,2,   194.1,2,   17.49,2,   23.11,2,    1.53,2,  2319.0,2,  2185.9,2, -999.00,9, -999.00,9
740H20200119,A05_24N,84,1,20,3053,2,20200211,1838,  23.97527, -47.40886,  4568,  1108.8,  6.1804,2,  6.1871,2, 35.0185,2, 35.0183,2,   173.0,2,   189.4,4,   18.94,2,   25.29,2,    1.68,2,  2314.8,2,  2196.4,2, -999.00,9, -999.00,9
740H20200119,A05_24N,84,1,21,3054,2,20200211,1838,  23.97527, -47.40886,  4568,  1007.2,  6.8722,2,  6.8834,2, 35.0546,2, 35.0519,2,   159.0,2,   163.2,2,   18.67,2,   26.07,2,    1.72,2,  2318.1,2,  2202.3,2, -999.00,9, -999.00,9
740H20200119,A05_24N,84,1,22,3055,2,20200211,1838,  23.97527, -47.40886,  4568,   906.4,  7.9167,2,  7.9443,2, 35.1325,2, 35.1262,2,   144.6,2,   147.9,2,   17.34,2,   26.20,2,    1.71,2,  2317.5,2,  2202.9,2, -999.00,9, -999.00,9
740H20200119,A05_24N,84,1,23,3056,2,20200211,1838,  23.97527, -47.40886,  4568,   804.6,  9.1519,2,  9.1590,2, 35.2716,2, 35.2686,2,   142.1,2,   145.0,2,   14.38,2,   24.42,2,    1.56,2,  2321.2,6,  2197.4,6, -999.00,9, -999.00,9
740H20200119,A05_24N,84,1,24,3057,2,20200211,1838,  23.97527, -47.40886,  4568,   703.6, 10.7708,2, 10.7889,2, 35.4783,2, 35.4690,2,   151.4,2,   155.2,2,   10.20,2,   20.74,2,    1.29,2,  2330.4,2,  2182.3,2, -999.00,9, -999.00,9
740H20200119,A05_24N,84,1,1,3034,2,20200211,1838,  23.97527, -47.40886,  4568,   602.4, 12.3980,2, 12.4021,2, 35.6801,2, 35.6727,2,   170.6,2,   171.9,2,    6.34,2,   15.86,2,    0.97,2,  2337.5,6,  2170.5,6, -999.00,9, -999.00,9
740H20200119,A05_24N,84,1,2,3035,2,20200211,1838,  23.97527, -47.40886,  4568,   400.4, 16.0561,2, 16.0692,2, 36.1913,2, 36.1715,2,   181.7,2,   183.4,2,    2.81,2,    8.90,2,    0.51,2,  2367.3,2,  2146.7,2, -999.00,9, -999.00,9
740H20200119,A05_24N,84,1,3,3036,2,20200211,1838,  23.97527, -47.40886,  4568,   299.1, 17.5234,2, 17.5209,2, 36.4244,2, 36.4203,2,   189.1,2,   190.4,2,    1.73,2,    5.79,2,    0.30,2,  2380.6,2,  2138.8,2, -999.00,9, -999.00,9
740H20200119,A05_24N,84,1,4,3037,2,20200211,1838,  23.97527, -47.40886,  4568,   198.4, 19.9964,2, 20.0124,2, 36.8473,2, 36.8171,2,   192.8,2,   193.4,2,    0.77,2,    1.76,2,    0.07,2,  2407.0,2,  2129.9,2, -999.00,9, -999.00,9
740H20200119,A05_24N,84,1,5,3038,2,20200211,1838,  23.97527, -47.40886,  4568,   147.6, 22.3917,2, 23.1225,2, 37.2512,2,-999.0000,9,   202.1,2,   201.7,2,    0.48,2,    0.22,2,    0.00,2,  2427.5,2,  2124.2,2, -999.00,9, -999.00,9
740H20200119,A05_24N,84,1,6,6410,2,20200211,1838,  23.97527, -47.40886,  4568,    97.9, 23.6691,2, 23.6643,2, 37.5314,2, 37.5310,2,   209.9,2,   208.7,2,    0.45,2,   -0.23,2,    0.01,2,  2452.0,2,  2116.2,2, -999.00,9, -999.00,9
740H20200119,A05_24N,84,1,7,6411,2,20200211,1838,  23.97527, -47.40886,  4568,    78.5, 23.6693,2, 23.6659,2, 37.5313,2, 37.5315,2,   209.7,2,   208.9,2,    0.47,2,   -0.23,2,   -0.01,2,  2449.0,2,  2113.7,2, -999.00,9, -999.00,9
740H20200119,A05_24N,84,1,8,6412,4,20200211,1838,  23.97527, -47.40886,  4568,    52.4, 23.6660,2, 23.6628,2, 37.5309,2,-999.0000,9,   210.0,2,  -999.0,5, -999.00,9, -999.00,9, -999.00,9,  -999.0,9,  -999.0,9, -999.00,9, -999.00,9
740H20200119,A05_24N,84,1,9,6413,2,20200211,1838,  23.97527, -47.40886,  4568,    27.6, 23.6699,2, 23.6675,2, 37.5310,2, 37.5308,2,   209.9,2,   209.1,2,    0.48,2,   -0.23,2,   -0.01,2,  2450.0,2,  2112.5,2, -999.00,9, -999.00,9
740H20200119,A05_24N,84,1,10,3043,2,20200211,1838,  23.97527, -47.40886,  4568,     6.9, 23.6944,2, 23.7073,2, 37.5313,2, 37.5315,2,   210.8,2,   209.3,2,    0.50,2,   -0.05,2,    0.00,2,  2452.3,2,  2113.1,2, -999.00,9, -999.00,9
740H20200119,A05_24N,85,1,11,3044,2,20200212,0139,  23.89938, -46.87576,  4862,  4940.2,  2.2952,2,  2.2950,2, 34.8768,2, 34.8786,2,   254.7,2,   252.9,2,   45.33,2,   21.21,2,    1.45,2,  2336.6,6,  2194.3,6, -999.00,9, -999.00,9
740H20200119,A05_24N,85,1,12,3045,2,20200212,0139,  23.89938, -46.87576,  4862,  4838.6,  2.2832,2,  2.2824,2, 34.8767,2, 34.8767,2,   254.2,2,   252.5,2,   45.38,2,   21.11,2,    1.45,2,  2338.2,2,  2191.9,2, -999.00,9, -999.00,9
740H20200119,A05_24N,85,1,13,3046,2,20200212,0139,  23.89938, -46.87576,  4862,  4320.1,  2.2451,2,  2.2453,2, 34.8790,2, 34.8795,2,   253.9,2,   253.1,2,   44.80,2,   21.04,2,    1.45,2,  2334.8,2,  2192.2,2, -999.00,9, -999.00,9
740H20200119,A05_24N,85,1,14,7131,2,20200212,0139,  23.89938, -46.87576,  4862,  3813.8,  2.3757,2,  2.3755,2, 34.8942,2, 34.8954,2,   253.2,2,   252.1,2,   41.59,2,   20.80,2,    1.42,2,  2332.0,2,  2191.0,2, -999.00,9, -999.00,9
740H20200119,A05_24N,85,1,15,3048,2,20200212,0139,  23.89938, -46.87576,  4862,  3299.0,  2.6057,2,  2.6109,2, 34.9173,2, 34.9178,2,   251.4,2,   250.5,2,   37.23,2,   20.61,2,    1.39,2,  2333.9,2,  2186.3,2, -999.00,9, -999.00,9
740H20200119,A05_24N,85,1,16,3049,2,20200212,0139,  23.89938, -46.87576,  4862,  2784.2,  2.8954,2,  2.8960,2, 34.9422,2, 34.9421,2,   250.4,2,   249.2,2,   32.30,2,   20.21,2,    1.36,2,  2326.1,2,  2183.1,2, -999.00,9, -999.00,9
740H20200119,A05_24N,85,1,17,3050,2,20200212,0139,  23.89938, -46.87576,  4862,  2282.7,  3.3432,2,  3.3483,2, 34.9845,2, 34.9855,2,   247.0,2,   245.8,2,   26.32,2,   19.78,2,    1.33,2,  2326.8,2,  2177.5,2, -999.00,9, -999.00,9
740H20200119,A05_24N,85,1,18,3051,2,20200212,0139,  23.89938, -46.87576,  4862,  1772.2,  4.3129,2,  4.3131,2, 35.0506,2, 35.0514,2,   237.4,2,   236.5,2,   18.76,2,   19.69,2,    1.30,2,  2318.5,6,  2176.0,6, -999.00,9, -999.00,9
740H20200119,A05_24N,85,1,19,3052,2,20200212,0139,  23.89938, -46.87576,  4862,  1517.4,  5.0617,2,  5.0663,2, 35.0964,2, 35.0967,2,   222.1,2,   221.4,2,   16.80,2,   20.49,2,    1.36,2,  2316.3,2,  2179.8,2, -999.00,9, -999.00,9
740H20200119,A05_24N,85,1,20,3053,2,20200212,0139,  23.89938, -46.87576,  4862,  1313.5,  5.4350,2,  5.4559,2, 35.0575,2, 35.0573,2,   206.6,2,   205.3,2,   16.90,2,   22.09,2,    1.47,2,  2316.5,2,  2183.7,2, -999.00,9, -999.00,9
740H20200119,A05_24N,85,1,21,3054,2,20200212,0139,  23.89938, -46.87576,  4862,  1161.5,  5.9340,2,  5.9521,2, 35.0188,2, 35.0187,2,   181.4,2,   180.3,2,   18.74,2,   24.74,2,    1.64,2,  2313.2,2,  2197.4,2, -999.00,9, -999.00,9
740H20200119,A05_24N,85,1,22,3055,2,20200212,0139,  23.89938, -46.87576,  4862,  1059.7,  6.1648,2,  6.1724,2, 35.0032,2, 35.0042,2,   170.1,2,   169.6,2,   19.42,2,   25.89,2,    1.71,2,  2314.8,6,  2197.5,6, -999.00,9, -999.00,9
740H20200119,A05_24N,85,1,23,3056,2,20200212,0139,  23.89938, -46.87576,  4862,   958.2,  7.1280,2,  7.1572,2, 35.0542,2, 35.0471,2,   151.7,2,   151.9,2,   18.73,2,   26.96,2,    1.76,2,  2312.4,2,  2204.5,2, -999.00,9, -999.00,9
740H20200119,A05_24N,85,1,24,3057,2,20200212,0139,  23.89938, -46.87576,  4862,   857.1,  8.1503,2,  8.1768,2, 35.1528,2, 35.1426,2,   142.6,2,   142.3,2,   16.75,2,   26.39,2,    1.69,2,  2319.9,2,  2203.2,2, -999.00,9, -999.00,9
740H20200119,A05_24N,85,1,1,3034,2,20200212,0139,  23.89938, -46.87576,  4862,   755.9,  9.3323,2,  9.2935,2, 35.2943,2, 35.2767,2,   141.7,2,   140.5,2,   14.01,2,   24.63,2,    1.55,2,  2320.1,2,  2196.8,6, -999.00,9, -999.00,9
740H20200119,A05_24N,85,1,2,3035,2,20200212,0139,  23.89938, -46.87576,  4862,   654.9, 11.4291,2, 11.4363,2, 35.5636,2, 35.5474,2,   161.0,2,   159.0,2,    8.40,2,   18.83,2,    1.15,2,  2333.2,2,  2178.6,2, -999.00,9, -999.00,9
740H20200119,A05_24N,85,1,3,3036,2,20200212,0139,  23.89938, -46.87576,  4862,   503.1, 13.7238,2, 13.7640,2, 35.8544,2, 35.8401,2,   175.5,2,   175.2,2,    4.62,2,   13.22,2,    0.78,2,  2344.9,2,  2163.0,2, -999.00,9, -999.00,9
740H20200119,A05_24N,85,1,4,3037,2,20200212,0139,  23.89938, -46.87576,  4862,   376.7, 16.1878,2, 16.2144,2, 36.2249,2, 36.2224,2,   174.8,2,   175.2,2,    2.70,2,    9.24,2,    0.53,2,  2369.6,2,  2152.5,2, -999.00,9, -999.00,9
740H20200119,A05_24N,85,1,5,3038,2,20200212,0139,  23.89938, -46.87576,  4862,   301.1, 17.5699,2, 17.5927,2, 36.4458,2, 36.4347,2,   182.5,2,   181.4,2,    1.84,2,    6.68,2,    0.36,2,  2378.2,2,  2144.4,2, -999.00,9, -999.00,9
740H20200119,A05_24N,85,1,6,6410,2,20200212,0139,  23.89938, -46.87576,  4862,   250.8, 18.7879,2, 18.8516,2, 36.6732,2, 36.6592,2,   178.9,2,   178.8,2,    1.36,2,    5.29,2,    0.28,2,  2394.3,2,  2144.8,2, -999.00,9, -999.00,9
740H20200119,A05_24N,85,1,7,6411,2,20200212,0139,  23.89938, -46.87576,  4862,   175.3, 21.0946,2, 21.0962,2, 37.0823,2, 37.0617,2,   188.0,2,   185.9,2,    0.69,2,    1.93,2,    0.11,2,  2417.5,2,  2145.6,2, -999.00,9, -999.00,9
740H20200119,A05_24N,85,1,8,6412,2,20200212,0139,  23.89938, -46.87576,  4862,   100.1, 23.5592,2, 23.5589,2, 37.5061,2, 37.5066,2,   209.9,2,   208.8,2,    0.47,2,   -0.15,2,    0.00,2,  2447.3,2,  2114.4,2, -999.00,9, -999.00,9
740H20200119,A05_24N,85,1,9,6413,2,20200212,0139,  23.89938, -46.87576,  4862,    50.0, 23.6068,2, 23.6081,2, 37.5189,2, 37.5199,2,   210.4,2,   209.4,2,    0.48,2,   -0.15,2,   -0.01,2,  2447.4,2,  2112.3,2, -999.00,9, -999.00,9
740H20200119,A05_24N,85,1,10,3043,2,20200212,0139,  23.89938, -46.87576,  4862,     5.4, 23.7001,2, 23.6975,2, 37.5350,2, 37.5353,2,   209.8,2,   211.1,2,    0.46,2,   -0.14,2,   -0.01,2,  2450.3,6,  2114.5,6, -999.00,9, -999.00,9