BOTTLE,20221012CCHSIOENA
EXPOCODE,SECT_ID,STNNBR,CASTNO,SAMPNO,BTLNBR,BTLNBR_FLAG_W,DATE,TIME,LATITUDE,LONGITUDE,DEPTH,CTDPRS,CTDTMP,CTDTMP_FLAG_W,SBE35,SBE35_FLAG_W,CTDSAL,CTDSAL_FLAG_W,SALNTY,SALNTY_FLAG_W,CTDOXY,CTDOXY_FLAG_W,OXYGEN,OXYGEN_FLAG_W,SILCAT,SILCAT_FLAG_W,NO2+NO3,NO2+NO3_FLAG_W,PHSPHT,PHSPHT_FLAG_W,ALKALI,ALKALI_FLAG_W,TCARBN,TCARBN_FLAG_W,DELC14,DELC14_FLAG_W,DELC13,DELC13_FLAG_W
 , , , , , , , , , , , ,DBAR,ITS-90, ,ITS-90, ,PSS-78, ,PSS-78, ,UMOL/KG, ,UMOL/KG, ,UMOL/KG, ,UMOL/KG, ,UMOL/KG, ,UMOL/KG, ,UMOL/KG, ,/MILLE, ,/MILLE, 
740H20200119,A05_24N,74,1,11,3044,2,20200208,1304,  25.11032, -52.66803,  5731,  5835.7,  2.1224,2,  2.1208,4, 34.8478,2, 34.8487,2,   250.4,2,   250.9,2,   54.36,2,   21.93,3,    1.47,3,  2343.1,6,  2205.3,6, -999.00,1, -999.00,1
740H20200119,A05_24N,74,1,12,3045,2,20200208,1304,  25.11032, -52.66803,  5731,  5607.2,  2.1214,2,  2.1218,2, 34.8512,2, 34.8521,2,   250.8,2,   250.5,2,   53.10,2,   21.67,3,    1.46,3,  2342.4,2,  2204.5,2, -999.00,9, -999.00,9
740H20200119,A05_24N,74,1,13,3046,2,20200208,1304,  25.11032, -52.66803,  5731,  5091.8,  2.1243,2,  2.1249,4, 34.8592,2, 34.8598,2,   251.8,2,   252.2,2,   50.46,2,   21.43,3,    1.43,3,  2343.2,2,  2201.7,2, -999.00,9, -999.00,9
740H20200119,A05_24N,74,1,14,7131,2,20200208,1304,  25.11032, -52.66803,  5731,  4578.4,  2.1405,2,  2.1468,4, 34.8678,2, 34.8677,2,   253.2,2,   254.4,2,   47.23,2,   21.09,3,    1.39,3,  2339.4,2,  2196.9,2, -999.00,1, -999.00,1
740H20200119,A05_24N,74,1,15,3048,2,20200208,1304,  25.11032, -52.66803,  5731,  4065.9,  2.2557,2,  2.2638,4, 34.8837,2, 34.8836,2,   254.4,2,   255.0,2,   42.43,2,   20.42,3,    1.34,3,  2339.0,6,  2193.0,6, -999.00,9, -999.00,9
740H20200119,A05_24N,74,1,16,3049,2,20200208,1304,  25.11032, -52.66803,  5731,  3550.2,  2.4502,2,  2.4665,4, 34.9041,2, 34.9039,2,   253.7,2,   254.3,2,   38.15,2,   20.08,3,    1.30,3,  2336.6,2,  2189.8,2, -999.00,1, -999.00,1
740H20200119,A05_24N,74,1,17,3050,2,20200208,1304,  25.11032, -52.66803,  5731,  3041.4,  2.7612,2,  2.7611,2, 34.9318,2, 34.9320,2,   251.9,2,   252.5,2,   33.35,2,   19.79,3,    1.27,3,  2332.0,2,  2186.1,2, -999.00,1, -999.00,1
740H20200119,A05_24N,74,1,18,3051,2,20200208,1304,  25.11032, -52.66803,  5731,  2533.4,  3.0775,2,  3.1033,4, 34.9600,2, 34.9615,2,   250.8,2,   252.1,2,   28.24,2,   19.30,3,    1.23,3,  2328.9,6,  2183.4,6, -999.00,1, -999.00,1
740H20200119,A05_24N,74,1,19,3052,2,20200208,1304,  25.11032, -52.66803,  5731,  2021.4,  3.7458,2,  3.7895,4, 35.0184,2, 35.0182,2,   248.2,2,   249.0,2,   20.95,2,   18.74,3,    1.17,3,  2322.2,2,  2176.6,2, -999.00,1, -999.00,1
740H20200119,A05_24N,74,1,20,3053,2,20200208,1304,  25.11032, -52.66803,  5731,  1638.7,  4.8076,2,  4.8540,4, 35.1080,2, 35.1071,2,   235.2,2,   236.2,2,   15.96,2,   18.82,3,    1.16,3,  2322.1,2,  2178.0,2, -999.00,1, -999.00,1
740H20200119,A05_24N,74,1,21,3054,2,20200208,1304,  25.11032, -52.66803,  5731,  1415.0,  5.4989,2,  5.5351,4, 35.1328,2, 35.1335,2,   219.7,2,   221.5,2,   14.87,2,   19.73,3,    1.21,3,  2319.7,6,  2180.4,6, -999.00,1, -999.00,1
740H20200119,A05_24N,74,1,22,3055,2,20200208,1304,  25.11032, -52.66803,  5731,  1211.1,  5.9504,2,  6.0161,4, 35.0838,2, 35.0891,2,   198.5,2,   201.6,2,   15.66,2,   21.69,3,    1.33,3,  2318.5,2,  2188.2,2, -999.00,9, -999.00,9
740H20200119,A05_24N,74,1,23,3056,2,20200208,1304,  25.11032, -52.66803,  5731,  1109.7,  6.2677,2,  6.3510,4, 35.0390,2, 35.0436,2,   180.2,2,   182.7,2,   17.10,2,   23.69,3,    1.45,3,  2317.1,2,  2192.8,2, -999.00,1, -999.00,1
740H20200119,A05_24N,74,1,24,3057,2,20200208,1304,  25.11032, -52.66803,  5731,  1008.5,  6.8481,2,  7.2453,4, 35.0283,2, 35.0256,2,   158.5,2,   163.3,2,   18.30,2,   25.82,3,    1.56,3,  2316.0,6,  2204.2,6, -999.00,1, -999.00,1
740H20200119,A05_24N,74,1,1,3034,2,20200208,1304,  25.11032, -52.66803,  5731,   907.1,  8.0181,2,  8.1716,4, 35.1479,2, 35.1444,2,   148.5,2,   152.8,2,   16.42,2,   25.37,3,    1.50,3,  2319.9,2,  2203.1,2, -999.00,1, -999.00,1
740H20200119,A05_24N,74,1,2,3035,2,20200208,1304,  25.11032, -52.66803,  5731,   805.5,  9.0505,2,  9.6991,4, 35.2035,2, 35.1881,2,   140.8,2,   144.1,2,   14.76,2,   25.10,3,    1.45,3,  2319.8,6,  2196.7,6, -999.00,9, -999.00,9
740H20200119,A05_24N,74,1,3,3036,2,20200208,1304,  25.11032, -52.66803,  5731,   704.3, 11.1000,2, 11.8336,4, 35.4668,2, 35.4509,2,   145.8,2,   150.6,2,   10.08,2,   21.35,3,    1.17,3,  2328.9,2,  2182.3,6, -999.00,1, -999.00,1
740H20200119,A05_24N,74,1,4,3037,2,20200208,1304,  25.11032, -52.66803,  5731,   602.9, 12.9582,2, 13.4886,4, 35.7335,2, 35.7193,2,   159.0,2,   161.7,2,    6.37,2,   16.72,3,    0.88,3,  2341.5,2,  2176.3,2, -999.00,1, -999.00,1
740H20200119,A05_24N,74,1,5,3038,2,20200208,1304,  25.11032, -52.66803,  5731,   400.4, 16.7459,2, 17.3161,4, 36.2994,2, 36.2845,2,   184.4,2,   187.0,2,    2.27,2,    8.04,3,    0.36,3,  2372.9,2,  2141.6,6, -999.00,1, -999.00,1
740H20200119,A05_24N,74,1,6,6410,2,20200208,1304,  25.11032, -52.66803,  5731,   304.4, 18.2875,2, 18.6354,4, 36.5482,2, 36.5437,2,   202.3,2,   202.5,2,    1.22,2,    4.23,3,    0.15,3,  2386.1,2,  2113.2,2, -999.00,1, -999.00,1
740H20200119,A05_24N,74,1,7,6411,2,20200208,1304,  25.11032, -52.66803,  5731,   204.2, 19.1842,2, 19.9617,4, 36.6590,2, 36.6562,2,   197.5,2,   197.9,2,    0.85,2,    2.73,3,    0.06,3,  2394.7,2,  2121.1,6, -999.00,1, -999.00,1
740H20200119,A05_24N,74,1,8,6412,2,20200208,1304,  25.11032, -52.66803,  5731,   153.8, 20.6944,2, 22.2351,4, 36.8735,2, 36.8692,2,   199.7,2,   200.2,2,    0.54,2,    0.59,3,   -0.01,3,  2420.9,6,  2118.7,2, -999.00,1, -999.00,1
740H20200119,A05_24N,74,1,9,6413,2,20200208,1304,  25.11032, -52.66803,  5731,    53.3, 23.2908,2, 23.2866,2, 37.3323,2, 37.3337,2,   212.6,2,   211.4,2,    0.53,2,    0.09,3,   -0.02,3,  2438.9,2,  2101.6,2, -999.00,1, -999.00,1
740H20200119,A05_24N,74,1,10,3043,2,20200208,1304,  25.11032, -52.66803,  5731,     8.6, 23.2714,2,-999.0000,9, 37.3135,2, 37.3143,2,   212.5,2,   211.8,2,    0.56,2,    0.08,3,   -0.02,3,  2437.1,2,  2096.6,2, -999.00,1, -999.00,1
740H20200119,A05_24N,75,1,11,3044,2,20200208,2106,  25.12512, -52.16757,  5949,  6059.8,  2.1825,2,  2.1821,2, 34.8510,2, 34.8513,2,   250.7,2,   251.8,2,   54.37,2,   22.77,2,    1.53,2,  2343.1,6,  2205.0,6, -999.00,9, -999.00,9
740H20200119,A05_24N,75,1,12,3045,2,20200208,2106,  25.12512, -52.16757,  5949,  5897.8,  2.1604,2,  2.1600,2, 34.8511,2, 34.8516,2,   251.1,2,   252.2,2,   54.46,2,   22.72,2,    1.53,2,  2342.5,2,  2206.6,2, -999.00,9, -999.00,9
740H20200119,A05_24N,75,1,13,3046,2,20200208,2106,  25.12512, -52.16757,  5949,  5376.5,  2.1044,2,  2.1046,2, 34.8529,2, 34.8533,2,   250.8,2,   252.3,2,   53.82,2,   22.72,2,    1.52,2,  2343.8,2,  2203.4,2, -999.00,9, -999.00,9
740H20200119,A05_24N,75,1,14,7131,2,20200208,2106,  25.12512, -52.16757,  5949,  4830.1,  2.1564,2,  2.1559,2, 34.8663,2, 34.8666,2,   253.1,2,   254.0,2,   48.55,2,   22.10,2,    1.49,2,  2339.4,2,  2199.5,2, -999.00,9, -999.00,9
740H20200119,A05_24N,75,1,15,3048,2,20200208,2106,  25.12512, -52.16757,  5949,  4316.3,  2.1895,2,  2.1882,2, 34.8753,2, 34.8754,2,   254.0,2,   254.8,2,   45.34,2,   21.68,2,    1.45,2,  2337.6,6,  2195.4,6, -999.00,9, -999.00,9
740H20200119,A05_24N,75,1,16,3049,2,20200208,2106,  25.12512, -52.16757,  5949,  3809.9,  2.3125,2,  2.3122,2, 34.8910,2, 34.8915,2,   254.2,2,   255.2,2,   41.23,2,   21.17,2,    1.42,2,  2335.6,2,  2192.2,2, -999.00,9, -999.00,9
740H20200119,A05_24N,75,1,17,3050,2,20200208,2106,  25.12512, -52.16757,  5949,  2781.3,  2.9520,2,  2.9545,2, 34.9481,2, 34.9486,2,   251.5,2,   252.5,2,   30.45,2,   20.26,2,    1.33,2,  2332.2,6,  2184.4,6, -999.00,9, -999.00,9
740H20200119,A05_24N,75,1,18,3051,2,20200208,2106,  25.12512, -52.16757,  5949,  2273.8,  3.3623,2,  3.3654,2, 34.9840,2, 34.9843,2,   250.8,2,   251.9,2,   24.52,2,   19.60,2,    1.28,2,  2323.4,2,  2179.5,2, -999.00,9, -999.00,9
740H20200119,A05_24N,75,1,19,3052,2,20200208,2106,  25.12512, -52.16757,  5949,  1767.8,  4.2990,2,  4.2951,2, 35.0653,2, 35.0647,2,   242.7,2,   244.2,2,   17.71,2,   19.27,2,    1.24,2,  2322.2,2,  2175.3,2, -999.00,9, -999.00,9
740H20200119,A05_24N,75,1,20,3053,2,20200208,2106,  25.12512, -52.16757,  5949,  1512.2,  5.0547,2,  5.0566,2, 35.1139,2, 35.1133,2,   230.0,2,   231.6,2,   15.32,2,   19.67,2,    1.26,2,  2319.4,6,  2179.5,6, -999.00,9, -999.00,9
740H20200119,A05_24N,75,1,21,3054,2,20200208,2106,  25.12512, -52.16757,  5949,  1308.8,  5.6683,2,  5.6680,2, 35.1251,2, 35.1255,2,   212.9,2,   215.3,2,   15.25,2,   20.95,2,    1.34,2,  2319.3,2,  2185.2,2, -999.00,9, -999.00,9
740H20200119,A05_24N,75,1,22,3055,2,20200208,2106,  25.12512, -52.16757,  5949,  1157.0,  6.1008,2,  6.1450,2, 35.0800,2, 35.0817,2,   192.1,2,   194.3,2,   16.44,2,   23.01,2,    1.48,2,  2318.2,2,  2194.1,2, -999.00,9, -999.00,9
740H20200119,A05_24N,75,1,23,3056,2,20200208,2106,  25.12512, -52.16757,  5949,  1060.7,  6.4107,2,  6.4171,2, 35.0206,2, 35.0226,2,   171.7,2,   174.5,2,   18.13,2,   25.31,2,    1.63,2,  2315.0,2,  2199.3,2, -999.00,9, -999.00,9
740H20200119,A05_24N,75,1,24,3057,2,20200208,2106,  25.12512, -52.16757,  5949,   958.7,  7.3693,2,  7.4316,2, 35.0549,2, 35.0450,2,   149.5,2,   152.9,2,   18.41,2,   27.01,2,    1.73,2,  2316.6,6,  2204.4,6, -999.00,9, -999.00,9
740H20200119,A05_24N,75,1,1,3034,2,20200208,2106,  25.12512, -52.16757,  5949,   806.8,  9.2555,2,  9.2600,2, 35.2357,2, 35.2273,2,   141.7,2,   145.0,2,   14.31,2,   24.90,2,    1.54,2,  2321.5,2,  2197.2,2, -999.00,9, -999.00,9
740H20200119,A05_24N,75,1,2,3035,2,20200208,2106,  25.12512, -52.16757,  5949,   756.5, 10.3461,2, 10.2712,2, 35.3732,2, 35.3524,2,   145.3,2,   148.8,2,   11.98,2,   22.86,2,    1.40,2,  2326.0,6,  2190.9,6, -999.00,9, -999.00,9
740H20200119,A05_24N,75,1,3,3036,2,20200208,2106,  25.12512, -52.16757,  5949,   604.7, 13.3709,2, 13.3806,2, 35.7873,2, 35.7734,2,   166.8,2,   169.0,2,    5.84,2,   15.27,2,    0.88,2,  2345.0,2,  2167.1,2, -999.00,9, -999.00,9
740H20200119,A05_24N,75,1,4,3037,2,20200208,2106,  25.12512, -52.16757,  5949,   503.5, 15.0825,2, 15.0854,2, 36.0234,2, 36.0071,2,   180.9,2,   182.0,2,    3.80,2,   11.21,2,    0.62,2,  2358.5,2,  2152.9,2, -999.00,9, -999.00,9
740H20200119,A05_24N,75,1,5,3038,2,20200208,2106,  25.12512, -52.16757,  5949,   377.1, 17.2168,2, 17.2293,2, 36.3665,2, 36.3510,2,   187.7,2,   188.2,2,    2.19,2,    7.23,2,    0.36,2,  2376.3,2,  2139.7,2, -999.00,9, -999.00,9
740H20200119,A05_24N,75,1,6,6410,2,20200208,2106,  25.12512, -52.16757,  5949,   200.8, 19.4389,2, 19.4960,2, 36.6882,2, 36.6809,2,   194.9,2,   197.1,2,    0.92,2,    2.52,2,    0.07,2,  2393.0,2,  2124.4,2, -999.00,9, -999.00,9
740H20200119,A05_24N,75,1,7,6411,2,20200208,2106,  25.12512, -52.16757,  5949,   140.0, 22.3696,2, 22.4392,2, 37.0792,2, 37.0490,2,   212.2,2,   210.9,2,    0.64,2,    0.22,2,   -0.01,2,  2419.6,2,  2102.8,2, -999.00,9, -999.00,9
740H20200119,A05_24N,75,1,8,6412,2,20200208,2106,  25.12512, -52.16757,  5949,    99.2, 22.8906,2, 22.8933,2, 37.1859,2, 37.1719,2,   214.0,2,   213.7,2,    0.69,2,    0.17,2,    0.02,2,  2428.4,2,  2095.9,2, -999.00,9, -999.00,9
740H20200119,A05_24N,75,1,9,6413,2,20200208,2106,  25.12512, -52.16757,  5949,    48.9, 22.8418,2, 22.8397,2, 37.1599,2, 37.1602,2,   214.9,2,   213.8,2,    0.71,2,    0.18,2,    0.00,2,  2427.2,2,  2095.2,2, -999.00,9, -999.00,9
740H20200119,A05_24N,75,1,10,3043,2,20200208,2106,  25.12512, -52.16757,  5949,     8.2, 22.9384,2, 22.9375,2, 37.1942,2, 37.1960,2,   214.4,2,   213.9,2,    0.76,2,    0.17,2,    0.00,2,  2430.0,2,  2097.1,2, -999.00,9, -999.00,9
740H20200119,A05_24N,76,1,11,3044,2,20200209,0518,  25.02195, -51.66699,  5523,  5620.1,  2.1457,2,  2.1454,2, 34.8536,2, 34.8528,2,   251.2,2,   250.0,2,   53.26,2,   22.33,2,    1.51,2,  2343.2,6,  2205.7,6, -999.00,9, -999.00,9
740H20200119,A05_24N,76,1,12,3045,2,20200209,0518,  25.02195, -51.66699,  5523,  5089.3,  2.1096,2,  2.1099,2, 34.8576,2, 34.8574,2,   251.4,2,   251.1,2,   51.79,2,   22.15,2,    1.50,2,  2341.1,2,  2202.7,2, -999.00,9, -999.00,9
740H20200119,A05_24N,76,1,13,3046,2,20200209,0518,  25.02195, -51.66699,  5523,  4575.6,  2.1353,2,  2.1355,2, 34.8671,2, 34.8672,2,   253.0,2,   252.7,2,   48.43,2,   21.70,2,    1.46,2,  2340.2,2,  2196.8,2, -999.00,9, -999.00,9
740H20200119,A05_24N,76,1,14,7131,2,20200209,0518,  25.02195, -51.66699,  5523,  4062.7,  2.2168,2,  2.2151,2, 34.8802,2, 34.8802,2,   254.1,2,   253.8,2,   44.61,2,   21.27,2,    1.43,2,  2335.7,2,  2194.4,2, -999.00,9, -999.00,9
740H20200119,A05_24N,76,1,15,3048,2,20200209,0518,  25.02195, -51.66699,  5523,  3551.9,  2.4190,2,  2.4219,2, 34.9022,2, 34.9021,2,   254.6,2,   253.8,2,   39.23,2,   20.71,2,    1.38,2,  2334.9,2,  2184.2,2, -999.00,9, -999.00,9
740H20200119,A05_24N,76,1,16,3049,2,20200209,0518,  25.02195, -51.66699,  5523,  3042.5,  2.7161,2,  2.7161,2, 34.9287,2, 34.9281,2,   252.2,2,   251.1,2,   34.76,2,   20.55,2,    1.36,2,  2329.8,2,  2187.1,2, -999.00,9, -999.00,9
740H20200119,A05_24N,76,1,17,3050,2,20200209,0518,  25.02195, -51.66699,  5523,  2534.9,  3.0317,2,  3.0370,2, 34.9563,2, 34.9567,2,   251.5,2,   250.5,2,   29.05,2,   20.06,2,    1.31,2,  2328.3,6,  2181.2,6, -999.00,9, -999.00,9
740H20200119,A05_24N,76,1,18,3051,2,20200209,0518,  25.02195, -51.66699,  5523,  2022.7,  3.6811,2,  3.6766,2, 35.0146,2, 35.0133,2,   248.9,2,   248.1,2,   21.85,2,   19.45,2,    1.26,2,  2321.7,2,  2178.3,2, -999.00,9, -999.00,9
740H20200119,A05_24N,76,1,19,3052,2,20200209,0518,  25.02195, -51.66699,  5523,  1640.1,  4.6404,2,  4.6294,2, 35.0963,2, 35.0947,2,   238.3,2,   237.5,2,   16.69,2,   19.38,2,    1.25,2,  2321.3,2,  2174.8,2, -999.00,9, -999.00,9
740H20200119,A05_24N,76,1,20,3053,2,20200209,0518,  25.02195, -51.66699,  5523,  1410.7,  5.3501,2,  5.3535,2, 35.1333,2, 35.1337,2,   226.5,2,   226.5,2,   14.65,2,   19.77,2,    1.27,2,  2319.4,2,  2179.3,2, -999.00,9, -999.00,9
740H20200119,A05_24N,76,1,21,3054,2,20200209,0518,  25.02195, -51.66699,  5523,  1207.1,  5.8598,2,  5.8942,2, 35.1064,2, 35.1070,2,   204.2,2,   203.9,2,   15.71,2,   21.84,2,    1.40,2,  2316.5,2,  2195.5,2, -999.00,9, -999.00,9
740H20200119,A05_24N,76,1,22,3055,2,20200209,0518,  25.02195, -51.66699,  5523,  1106.1,  6.4004,2,  6.4388,2, 35.0968,2, 35.0968,2,   186.1,2,   186.3,2,   16.43,2,   23.35,2,    1.50,2,  2317.5,2,  2195.2,2, -999.00,9, -999.00,9
740H20200119,A05_24N,76,1,23,3056,2,20200209,0518,  25.02195, -51.66699,  5523,  1009.8,  7.2086,2,  7.1970,2, 35.1139,2, 35.1145,2,   163.6,2,   164.2,2,   17.03,2,   25.06,2,    1.60,2,  2319.8,2,  2199.5,2, -999.00,9, -999.00,9
740H20200119,A05_24N,76,1,24,3057,2,20200209,0518,  25.02195, -51.66699,  5523,   908.6,  8.2638,2,  8.2892,2, 35.1817,2, 35.1760,2,   151.4,2,   150.0,2,   15.78,2,   25.22,2,    1.59,2,  2321.2,6,  2201.4,6, -999.00,9, -999.00,9
740H20200119,A05_24N,76,1,1,3034,2,20200209,0518,  25.02195, -51.66699,  5523,   806.7,  9.7248,2,  9.7307,2, 35.3519,2, 35.3462,2,   152.0,2,   150.9,2,   12.40,2,   22.66,2,    1.40,2,  2328.8,2,  2194.5,2, -999.00,9, -999.00,9
740H20200119,A05_24N,76,1,2,3035,2,20200209,0518,  25.02195, -51.66699,  5523,   705.9, 11.1431,2, 11.0618,2, 35.4849,2, 35.4768,2,   150.2,2,   151.6,2,    9.74,2,   20.47,2,    1.23,2,  2325.8,6,  2194.6,6, -999.00,9, -999.00,9
740H20200119,A05_24N,76,1,3,3036,2,20200209,0518,  25.02195, -51.66699,  5523,   604.1, 12.8977,2, 12.9213,2, 35.7335,2, 35.7132,2,   174.3,2,   171.4,2,    5.96,2,   15.34,2,    0.89,2,  -999.0,9,  -999.0,9, -999.00,9, -999.00,9
740H20200119,A05_24N,76,1,4,3037,2,20200209,0518,  25.02195, -51.66699,  5523,   402.3, 16.5367,2, 16.5796,2, 36.2630,2, 36.2381,2,   183.9,2,   183.3,2,    2.59,2,    8.52,2,    0.44,2,  2355.1,6,  2158.8,6, -999.00,9, -999.00,9
740H20200119,A05_24N,76,1,5,3038,2,20200209,0518,  25.02195, -51.66699,  5523,   301.9, 18.1422,2, 18.1674,2, 36.5246,2, 36.5127,2,   188.2,2,   186.9,2,    1.50,2,    5.48,2,    0.24,2,  2384.7,6,  2139.9,6, -999.00,9, -999.00,9
740H20200119,A05_24N,76,1,6,6410,2,20200209,0518,  25.02195, -51.66699,  5523,   200.8, 19.2598,2, 19.2759,2, 36.6776,2, 36.6671,2,   197.0,2,   195.5,2,    0.93,2,    2.75,2,    0.07,2,  2395.1,2,  2127.0,2, -999.00,9, -999.00,9
740H20200119,A05_24N,76,1,7,6411,2,20200209,0518,  25.02195, -51.66699,  5523,   129.7, 23.1321,2, 23.2313,2, 37.3681,2, 37.2206,2,   210.2,2,   207.5,2,    0.55,2,    0.22,2,   -0.02,2,  2431.0,2,  2115.3,2, -999.00,9, -999.00,9
740H20200119,A05_24N,76,1,8,6412,2,20200209,0518,  25.02195, -51.66699,  5523,    74.5, 23.2872,2, 23.2878,2, 37.4044,2, 37.4045,2,   211.2,2,   210.6,2,    0.58,2,    0.13,2,   -0.03,2,  2444.4,2,  2107.0,2, -999.00,9, -999.00,9
740H20200119,A05_24N,76,1,9,6413,2,20200209,0518,  25.02195, -51.66699,  5523,    49.3, 23.2901,2, 23.2892,2, 37.4039,2, 37.4036,2,   211.5,2,   210.7,2,    0.59,2,    0.14,2,   -0.02,2,  2436.3,2,  2108.8,2, -999.00,9, -999.00,9
740H20200119,A05_24N,76,1,10,3043,2,20200209,0518,  25.02195, -51.66699,  5523,     3.6, 23.1917,2, 23.1901,2, 37.3219,2, 37.3219,2,   212.2,2,   211.5,2,    0.65,2,    0.13,2,   -0.02,2,  2440.3,6,  2102.7,6, -999.00,9, -999.00,9