BOTTLE,20221012CCHSIOENA
EXPOCODE,SECT_ID,STNNBR,CASTNO,SAMPNO,BTLNBR,BTLNBR_FLAG_W,DATE,TIME,LATITUDE,LONGITUDE,DEPTH,CTDPRS,CTDTMP,CTDTMP_FLAG_W,SBE35,SBE35_FLAG_W,CTDSAL,CTDSAL_FLAG_W,SALNTY,SALNTY_FLAG_W,CTDOXY,CTDOXY_FLAG_W,OXYGEN,OXYGEN_FLAG_W,SILCAT,SILCAT_FLAG_W,NO2+NO3,NO2+NO3_FLAG_W,PHSPHT,PHSPHT_FLAG_W,ALKALI,ALKALI_FLAG_W,TCARBN,TCARBN_FLAG_W,DELC14,DELC14_FLAG_W,DELC13,DELC13_FLAG_W
 , , , , , , , , , , , ,DBAR,ITS-90, ,ITS-90, ,PSS-78, ,PSS-78, ,UMOL/KG, ,UMOL/KG, ,UMOL/KG, ,UMOL/KG, ,UMOL/KG, ,UMOL/KG, ,UMOL/KG, ,/MILLE, ,/MILLE, 
740H20200119,A05_24N,107,1,11,3044,2,20200219,0154,  24.50002, -33.19999,  5428,  5520.1,  2.4313,2,  2.4310,2, 34.8802,2, 34.8799,2,   246.8,2,   244.9,2,   48.57,2,   22.11,2,    1.51,2,  2346.7,6,  2201.9,6, -999.00,9, -999.00,9
740H20200119,A05_24N,107,1,12,3045,2,20200219,0154,  24.50002, -33.19999,  5428,  5090.6,  2.3933,2,  2.3929,2, 34.8824,2, 34.8817,2,   246.2,2,   244.4,2,   48.39,2,   22.08,2,    1.51,2,  2347.0,2,  2199.6,2, -999.00,9, -999.00,9
740H20200119,A05_24N,107,1,13,3046,2,20200219,0154,  24.50002, -33.19999,  5428,  4577.2,  2.3830,2,  2.3821,2, 34.8881,2, 34.8880,2,   245.1,2,   243.7,2,   47.31,2,   22.08,2,    1.50,2,  2348.2,2,  2200.6,2, -999.00,9, -999.00,9
740H20200119,A05_24N,107,1,14,7131,2,20200219,0154,  24.50002, -33.19999,  5428,  4065.5,  2.4120,2,  2.4120,2, 34.8968,2, 34.8962,2,   244.9,2,   243.4,2,   45.05,2,   21.87,2,    1.49,2,  2349.7,2,  2206.1,2, -999.00,9, -999.00,9
740H20200119,A05_24N,107,1,15,3048,2,20200219,0154,  24.50002, -33.19999,  5428,  3555.2,  2.5020,2,  2.5033,2, 34.9106,2, 34.9108,2,   244.5,2,   243.6,2,   41.93,2,   21.64,2,    1.47,2,  2350.4,2,  2201.5,2, -999.00,9, -999.00,9
740H20200119,A05_24N,107,1,16,3049,2,20200219,0154,  24.50002, -33.19999,  5428,  3045.5,  2.7428,2,  2.7434,2, 34.9376,2, 34.9377,2,   244.4,2,   243.4,2,   36.35,2,   21.09,2,    1.43,2,  2336.6,6,  2189.4,6, -999.00,9, -999.00,9
740H20200119,A05_24N,107,1,17,3050,2,20200219,0154,  24.50002, -33.19999,  5428,  2840.3,  2.9017,2,  2.9171,2, 34.9540,2, 34.9541,2,   244.2,2,   242.8,2,   33.27,2,   20.78,2,    1.40,2,  2336.0,6,  2189.4,6, -999.00,9, -999.00,9
740H20200119,A05_24N,107,1,18,3051,2,20200219,0154,  24.50002, -33.19999,  5428,  2532.6,  3.2403,2,  3.2319,2, 34.9848,2, 34.9834,2,   241.8,2,   240.5,2,   29.22,2,   20.63,2,    1.38,2,  2331.0,2,  2184.2,2, -999.00,9, -999.00,9
740H20200119,A05_24N,107,1,19,3052,2,20200219,0154,  24.50002, -33.19999,  5428,  2020.9,  3.9305,2,  3.9399,2, 35.0405,2, 35.0403,2,   233.2,2,   232.1,2,   23.42,2,   20.79,2,    1.38,2,  2324.8,2,  2181.3,2, -999.00,9, -999.00,9
740H20200119,A05_24N,107,1,20,3053,2,20200219,0154,  24.50002, -33.19999,  5428,  1638.3,  4.8973,2,  4.8929,2, 35.1151,2, 35.1134,2,   216.0,2,   215.5,2,   19.79,2,   21.50,2,    1.41,2,  2322.4,2,  2180.7,2, -999.00,9, -999.00,9
740H20200119,A05_24N,107,1,21,3054,2,20200219,0154,  24.50002, -33.19999,  5428,  1414.8,  5.4621,2,  5.4472,2, 35.1397,2, 35.1393,2,   204.4,2,   203.6,2,   18.37,2,   22.15,2,    1.45,2,  2323.4,2,  2187.8,2, -999.00,9, -999.00,9
740H20200119,A05_24N,107,1,22,3055,2,20200219,0154,  24.50002, -33.19999,  5428,  1211.3,  6.1855,2,  6.1982,2, 35.1477,2, 35.1468,2,   185.6,2,   185.6,2,   17.90,2,   23.60,2,    1.53,2,  2322.0,2,  2192.5,2, -999.00,9, -999.00,9
740H20200119,A05_24N,107,1,23,3056,2,20200219,0154,  24.50002, -33.19999,  5428,  1109.5,  6.6247,2,  6.6309,2, 35.1487,2, 35.1454,2,   171.5,2,   171.9,2,   18.23,2,   24.77,2,    1.61,2,  2322.8,6,  2197.8,6, -999.00,9, -999.00,9
740H20200119,A05_24N,107,1,24,3057,2,20200219,0154,  24.50002, -33.19999,  5428,  1007.9,  7.3209,2,  7.3347,2, 35.1879,2, 35.1868,2,   155.4,2,   155.6,2,   18.04,2,   25.77,2,    1.66,2,  2322.5,2,  2201.5,2, -999.00,9, -999.00,9
740H20200119,A05_24N,107,1,1,3034,2,20200219,0154,  24.50002, -33.19999,  5428,   907.8,  8.2280,2,  8.2343,2, 35.2646,2, 35.2612,2,   145.8,2,   145.1,2,   16.50,2,   25.64,2,    1.63,2,  2326.3,2,  2204.7,2, -999.00,9, -999.00,9
740H20200119,A05_24N,107,1,2,3035,2,20200219,0154,  24.50002, -33.19999,  5428,   806.6,  9.1764,2,  9.1880,2, 35.3420,2, 35.3362,2,   140.8,2,   140.0,2,   14.34,2,   24.76,2,    1.55,2,  2327.1,6,  2201.0,6, -999.00,9, -999.00,9
740H20200119,A05_24N,107,1,3,3036,2,20200219,0154,  24.50002, -33.19999,  5428,   705.2, 10.2028,2, 10.2338,2, 35.4403,2, 35.4410,2,   144.6,2,   144.1,2,   11.42,2,   22.53,2,    1.38,2,  2328.3,2,  2194.5,2, -999.00,9, -999.00,9
740H20200119,A05_24N,107,1,4,3037,2,20200219,0154,  24.50002, -33.19999,  5428,   605.0, 11.5463,2, 11.6297,2, 35.5860,2, 35.5854,2,   157.1,2,   156.4,2,    8.05,2,   18.97,2,    1.13,2,  -999.0,9,  2184.6,2, -999.00,9, -999.00,9
740H20200119,A05_24N,107,1,5,6409,2,20200219,0154,  24.50002, -33.19999,  5428,   403.5, 14.1894,2, 14.2646,2, 35.9277,2, 35.9253,2,   175.1,2,   176.0,2,    4.13,2,   12.36,2,    0.72,2,  2351.6,6,  2162.3,6, -999.00,9, -999.00,9
740H20200119,A05_24N,107,1,6,6410,2,20200219,0154,  24.50002, -33.19999,  5428,   201.7, 18.1700,2, 18.1916,2, 36.5761,2, 36.5633,2,   192.3,2,   192.4,2,    1.44,2,    4.63,2,    0.24,2,  2390.7,2,  2139.2,2, -999.00,9, -999.00,9
740H20200119,A05_24N,107,1,7,6411,2,20200219,0154,  24.50002, -33.19999,  5428,   151.3, 19.7190,2, 19.9290,2, 36.8716,2, 36.8760,2,   197.1,2,   197.0,2,    0.91,2,    1.74,2,    0.09,2,  2409.6,2,  2139.1,2, -999.00,9, -999.00,9
740H20200119,A05_24N,107,1,8,6412,2,20200219,0154,  24.50002, -33.19999,  5428,    99.2, 22.5790,2, 22.5794,2, 37.4759,2, 37.4215,3,   213.4,2,   212.0,2,    0.72,2,    0.18,2,    0.02,2,  2444.2,2,  2127.5,2, -999.00,9, -999.00,9
740H20200119,A05_24N,107,1,9,6413,2,20200219,0154,  24.50002, -33.19999,  5428,    51.1, 22.5694,2, 22.5651,2, 37.4768,2, 37.4774,2,   214.2,2,   213.4,2,    0.69,2,    0.10,2,    0.02,2,  2449.1,2,  2125.2,2, -999.00,9, -999.00,9
740H20200119,A05_24N,107,1,10,6414,2,20200219,0154,  24.50002, -33.19999,  5428,     4.5, 22.5546,2, 22.5530,2, 37.4771,2, 37.4781,2,   213.7,2,   213.2,2,    0.74,2,    0.09,2,    0.02,2,  2476.5,4,  2123.3,2, -999.00,9, -999.00,9
740H20200119,A05_24N,108,1,11,3044,2,20200219,1045,  24.49970, -32.50024,  5916,  6026.5,  2.4986,2,  2.4983,2, 34.8799,2, 34.8800,2,   247.2,2,   245.4,2,   48.11,2,   22.10,2,    1.50,2,  2347.5,6,  2203.1,6, -999.00,9, -999.00,9
740H20200119,A05_24N,108,1,12,3045,2,20200219,1045,  24.49970, -32.50024,  5916,  5867.5,  2.4758,2,  2.4756,2, 34.8798,2, 34.8796,2,   247.2,2,   245.0,2,   48.19,2,   22.10,2,    1.50,2,  2347.1,6,  2202.4,6, -999.00,9, -999.00,9
740H20200119,A05_24N,108,1,13,3046,2,20200219,1045,  24.49970, -32.50024,  5916,  5347.1,  2.4188,2,  2.4185,2, 34.8814,2, 34.8813,2,   246.2,2,   244.7,2,   48.02,2,   22.11,2,    1.51,2,  2347.3,6,  2202.2,6, -999.00,9, -999.00,9
740H20200119,A05_24N,108,1,14,7131,2,20200219,1045,  24.49970, -32.50024,  5916,  4832.7,  2.3913,2,  2.3917,2, 34.8856,2, 34.8856,2,   245.5,2,   244.1,2,   47.24,2,   22.07,2,    1.51,2,  2348.9,6,  2205.4,6, -999.00,9, -999.00,9
740H20200119,A05_24N,108,1,15,3048,2,20200219,1045,  24.49970, -32.50024,  5916,  4319.4,  2.3969,2,  2.3957,2, 34.8927,2, 34.8927,2,   245.0,2,   243.3,2,   45.72,2,   21.94,2,    1.49,2,  2347.8,2,  2199.3,2, -999.00,9, -999.00,9
740H20200119,A05_24N,108,1,16,3049,2,20200219,1045,  24.49970, -32.50024,  5916,  3807.8,  2.4618,2,  2.4597,2, 34.9049,2, 34.9045,2,   245.0,2,   243.9,2,   43.00,2,   21.66,2,    1.47,2,  2344.8,2,  2198.2,2, -999.00,9, -999.00,9
740H20200119,A05_24N,108,1,17,3050,2,20200219,1045,  24.49970, -32.50024,  5916,  3297.8,  2.6021,2,  2.6009,2, 34.9233,2, 34.9247,2,   245.0,2,   243.2,2,   38.98,2,   21.22,2,    1.45,2,  2341.6,6,  2193.2,6, -999.00,9, -999.00,9
740H20200119,A05_24N,108,1,18,3051,2,20200219,1045,  24.49970, -32.50024,  5916,  2783.2,  2.9596,2,  2.9650,2, 34.9590,2, 34.9596,2,   244.1,2,   242.8,2,   32.25,2,   20.54,2,    1.41,2,  2334.7,2,  2192.2,2, -999.00,9, -999.00,9
740H20200119,A05_24N,108,1,19,3052,2,20200219,1045,  24.49970, -32.50024,  5916,  2276.6,  3.5438,2,  3.5510,2, 35.0101,2, 35.0107,2,   238.4,2,   237.5,2,   25.90,2,   20.47,2,    1.39,2,  2327.9,2,  2180.2,2, -999.00,9, -999.00,9
740H20200119,A05_24N,108,1,20,3053,2,20200219,1045,  24.49970, -32.50024,  5916,  1765.7,  4.4449,2,  4.4470,2, 35.0765,2, 35.0778,2,   224.1,2,   223.2,2,   20.89,2,   20.95,2,    1.41,2,  2322.9,2,  2184.6,2, -999.00,9, -999.00,9
740H20200119,A05_24N,108,1,21,3054,2,20200219,1045,  24.49970, -32.50024,  5916,  1515.6,  5.1971,2,  5.1940,2, 35.1237,2, 35.1234,2,   209.3,2,   209.2,2,   18.67,2,   21.55,2,    1.44,2,  2326.0,2,  2187.0,2, -999.00,9, -999.00,9
740H20200119,A05_24N,108,1,22,3055,2,20200219,1045,  24.49970, -32.50024,  5916,  1312.7,  5.6965,2,  5.7127,2, 35.1333,2, 35.1306,2,   195.8,2,   195.7,2,   18.06,2,   22.48,2,    1.49,2,  2321.7,2,  -999.0,9, -999.00,9, -999.00,9
740H20200119,A05_24N,108,1,23,3056,2,20200219,1045,  24.49970, -32.50024,  5916,  1160.3,  6.3037,2,  6.3099,2, 35.1335,2, 35.1351,2,   179.7,2,   179.0,2,   17.93,2,   23.78,2,    1.57,2,  2322.0,2,  2196.0,2, -999.00,9, -999.00,9
740H20200119,A05_24N,108,1,24,3057,2,20200219,1045,  24.49970, -32.50024,  5916,  1058.9,  6.6832,2,  6.6716,2, 35.1262,2, 35.1255,2,   167.4,2,   167.0,2,   18.18,2,   24.78,2,    1.64,2,  2321.3,2,  2203.4,2, -999.00,9, -999.00,9
740H20200119,A05_24N,108,1,1,3034,2,20200219,1045,  24.49970, -32.50024,  5916,   906.9,  7.7795,2,  7.7262,2, 35.1853,2, 35.1800,2,   149.1,2,   148.6,2,   17.04,2,   25.45,2,    1.66,2,  2322.8,6,  2202.9,6, -999.00,9, -999.00,9
740H20200119,A05_24N,108,1,2,3035,2,20200219,1045,  24.49970, -32.50024,  5916,   754.8,  9.7243,2,  9.6637,2, 35.3899,2, 35.3780,2,   142.5,2,   141.5,2,   12.92,2,   23.34,2,    1.48,2,  2326.7,2,  2205.6,2, -999.00,9, -999.00,9
740H20200119,A05_24N,108,1,3,3036,2,20200219,1045,  24.49970, -32.50024,  5916,   653.4, 11.0334,2, 11.0351,2, 35.5160,2, 35.5072,2,   144.3,2,   144.9,2,    9.56,2,   20.84,2,    1.27,2,  2331.6,2,  2190.3,2, -999.00,9, -999.00,9
740H20200119,A05_24N,108,1,4,3037,2,20200219,1045,  24.49970, -32.50024,  5916,   502.2, 12.9864,2, 13.0027,2, 35.7588,2, 35.7433,2,   163.4,2,   162.5,2,    5.67,2,   15.71,2,    0.93,2,  2342.0,2,  2178.3,2, -999.00,9, -999.00,9
740H20200119,A05_24N,108,1,5,6409,2,20200219,1045,  24.49970, -32.50024,  5916,   380.8, 14.5870,2, 14.6179,2, 35.9842,2, 35.9784,2,   167.8,2,   167.7,2,    3.93,2,   12.31,2,    0.72,2,  2366.1,2,  2165.4,2, -999.00,9, -999.00,9
740H20200119,A05_24N,108,1,6,6410,2,20200219,1045,  24.49970, -32.50024,  5916,   193.9, 18.9493,2, 19.0303,2, 36.7220,2, 36.7043,2,   193.4,2,   193.3,2,    1.00,2,    3.26,2,    0.16,2,  2399.2,2,  2145.1,2, -999.00,9, -999.00,9
740H20200119,A05_24N,108,1,7,6411,2,20200219,1045,  24.49970, -32.50024,  5916,   148.4, 22.1169,2, 22.1482,2, 37.3689,2, 37.2517,2,   212.6,2,   209.1,2,    0.56,2,    0.48,2,    0.02,2,  2433.8,2,  2130.2,2, -999.00,9, -999.00,9
740H20200119,A05_24N,108,1,8,6412,2,20200219,1045,  24.49970, -32.50024,  5916,   103.8, 22.2424,2, 22.2410,2, 37.4013,2, 37.4014,2,   213.3,2,   213.6,2,    0.56,2,    0.08,2,    0.01,2,  2444.4,2,  2129.7,2, -999.00,9, -999.00,9
740H20200119,A05_24N,108,1,9,6413,2,20200219,1045,  24.49970, -32.50024,  5916,    53.3, 22.2433,2, 22.2416,2, 37.4047,2, 37.4061,2,   214.6,2,   214.3,2,    0.57,2,    0.06,2,    0.01,2,  2444.8,2,  2125.6,2, -999.00,9, -999.00,9
740H20200119,A05_24N,108,1,10,6414,2,20200219,1045,  24.49970, -32.50024,  5916,     8.6, 22.2468,2, 22.2474,2, 37.4061,2, 37.4075,2,   214.1,2,   214.5,2,    0.58,2,    0.06,2,    0.00,2,  2445.0,2,  2127.9,2, -999.00,9, -999.00,9
740H20200119,A05_24N,109,1,11,3044,2,20200219,1937,  24.49994, -31.80004,  5967,  6076.6,  2.5173,2,  2.5169,2, 34.8809,2, 34.8808,2,   246.8,2,   249.7,2,   48.32,2,   22.43,2,    1.51,2,  2348.2,6,  2204.7,6, -999.00,1, -999.00,1
740H20200119,A05_24N,109,1,12,3045,2,20200219,1937,  24.49994, -31.80004,  5967,  5628.4,  2.4568,2,  2.4566,2, 34.8814,2, 34.8824,2,   245.7,2,   246.5,2,   48.29,2,   22.33,2,    1.51,2,  2348.5,2,  2204.4,2, -999.00,1, -999.00,1
740H20200119,A05_24N,109,1,13,3046,2,20200219,1937,  24.49994, -31.80004,  5967,  5088.3,  2.4007,2,  2.4004,2, 34.8832,2, 34.8825,2,   245.5,2,   246.5,2,   47.99,2,   22.36,2,    1.51,2,  2348.7,2,  2204.7,2, -999.00,1, -999.00,1
740H20200119,A05_24N,109,1,14,7131,2,20200219,1937,  24.49994, -31.80004,  5967,  4580.1,  2.3846,2,  2.3844,2, 34.8884,2, 34.8885,2,   244.8,2,   246.1,2,   46.89,2,   22.25,2,    1.50,2,  2350.0,6,  2200.9,6, -999.00,1, -999.00,1
740H20200119,A05_24N,109,1,15,3048,2,20200219,1937,  24.49994, -31.80004,  5967,  4063.6,  2.4179,2,  2.4177,2, 34.8980,2, 34.8960,2,   244.7,2,   244.8,2,   44.61,2,   22.02,2,    1.49,2,  2345.4,2,  2202.6,2, -999.00,1, -999.00,1
740H20200119,A05_24N,109,1,16,3049,2,20200219,1937,  24.49994, -31.80004,  5967,  3547.6,  2.5257,2,  2.5256,2, 34.9139,2, 34.9139,2,   244.9,2,   245.1,2,   41.12,2,   21.64,2,    1.47,2,  2344.5,2,  2197.4,2, -999.00,1, -999.00,1
740H20200119,A05_24N,109,1,17,3050,2,20200219,1937,  24.49994, -31.80004,  5967,  3044.0,  2.7556,2,  2.7546,2, 34.9389,2, 34.9393,2,   244.5,2,   244.5,2,   35.99,2,   21.05,2,    1.43,2,  2338.6,6,  2195.4,6, -999.00,1, -999.00,1
740H20200119,A05_24N,109,1,18,3051,2,20200219,1937,  24.49994, -31.80004,  5967,  2531.0,  3.2690,2,  3.2715,2, 34.9850,2, 34.9855,2,   240.9,2,   241.1,2,   28.83,2,   20.66,2,    1.40,2,  2329.1,2,  2185.6,2, -999.00,1, -999.00,1
740H20200119,A05_24N,109,1,19,3052,2,20200219,1937,  24.49994, -31.80004,  5967,  2019.9,  3.9655,2,  3.9944,2, 35.0361,2, 35.0376,2,   232.1,2,   232.4,2,   22.96,2,   20.83,2,    1.40,2,  2323.6,6,  2183.0,6, -999.00,1, -999.00,1
740H20200119,A05_24N,109,1,20,3053,2,20200219,1937,  24.49994, -31.80004,  5967,  1642.9,  4.9328,2,  4.9225,2, 35.1141,2, 35.1156,2,   215.9,2,   218.8,2,   19.46,2,   21.25,2,    1.41,2,  2323.7,2,  2187.2,2, -999.00,1, -999.00,1
740H20200119,A05_24N,109,1,21,3054,2,20200219,1937,  24.49994, -31.80004,  5967,  1408.9,  5.6191,2,  5.6164,2, 35.1471,2, 35.1473,2,   199.9,2,   202.5,2,   18.18,2,   22.31,2,    1.47,2,  2322.1,2,  2190.0,2, -999.00,1, -999.00,1
740H20200119,A05_24N,109,1,22,3055,2,20200219,1937,  24.49994, -31.80004,  5967,  1205.7,  6.1424,2,  6.1462,2, 35.1276,2, 35.1286,2,   181.0,2,   185.2,2,   18.33,2,   24.08,2,    1.56,2,  2322.4,6,  2199.2,6, -999.00,1, -999.00,1
740H20200119,A05_24N,109,1,23,3056,2,20200219,1937,  24.49994, -31.80004,  5967,  1109.0,  6.4762,2,  6.4855,2, 35.1174,2, 35.1173,2,   168.6,2,   172.8,2,   18.60,2,   25.22,2,    1.64,2,  2322.3,2,  2205.7,2, -999.00,1, -999.00,1
740H20200119,A05_24N,109,1,24,3057,2,20200219,1937,  24.49994, -31.80004,  5967,  1007.6,  7.0321,2,  7.0407,2, 35.1266,2, 35.1260,2,   149.0,2,   153.3,2,   18.90,2,   26.85,2,    1.74,2,  2319.8,2,  2209.7,2, -999.00,1, -999.00,1
740H20200119,A05_24N,109,1,1,3034,2,20200219,1937,  24.49994, -31.80004,  5967,   906.4,  7.5798,2,  7.6002,2, 35.1361,2, 35.1336,2,   133.3,2,   149.9,3,   18.56,2,   28.09,2,    1.80,2,  2319.9,2,  2216.7,2, -999.00,1, -999.00,1
740H20200119,A05_24N,109,1,2,3035,2,20200219,1937,  24.49994, -31.80004,  5967,   804.7,  8.6566,2,  8.6648,2, 35.2420,2, 35.2346,2,   126.8,2,   131.8,2,   16.04,2,   27.17,2,    1.71,2,  2321.6,6,  2215.4,6, -999.00,1, -999.00,1
740H20200119,A05_24N,109,1,3,3036,2,20200219,1937,  24.49994, -31.80004,  5967,   703.7,  9.8919,2,  9.9229,2, 35.3851,2, 35.3741,2,   134.2,2,   138.4,2,   12.66,2,   24.44,2,    1.50,2,  2327.7,2,  2206.2,2, -999.00,1, -999.00,1
740H20200119,A05_24N,109,1,4,3037,2,20200219,1937,  24.49994, -31.80004,  5967,   602.4, 11.4060,2, 11.4237,2, 35.5574,2, 35.5446,2,   149.5,2,   149.7,2,    8.74,2,   20.39,2,    1.21,2,  2332.1,2,  2191.8,2, -999.00,1, -999.00,1
740H20200119,A05_24N,109,1,5,6409,2,20200219,1937,  24.49994, -31.80004,  5967,   375.0, 14.8198,2, 14.8286,2, 36.0156,2, 36.0064,2,   170.1,2,   175.9,2,    3.72,2,   11.88,2,    0.67,2,  2356.4,6,  2166.9,6, -999.00,1, -999.00,1
740H20200119,A05_24N,109,1,6,6410,2,20200219,1937,  24.49994, -31.80004,  5967,   254.2, 17.4392,2, 17.4517,2, 36.4405,2, 36.4266,2,   166.3,2,   167.9,2,    2.29,2,    8.79,2,    0.50,2,  2379.7,2,  2171.1,2, -999.00,1, -999.00,1
740H20200119,A05_24N,109,1,7,6411,2,20200219,1937,  24.49994, -31.80004,  5967,   173.2, 19.7546,2, 19.8041,2, 36.8792,2, 36.8637,2,   196.9,2,   197.6,2,    0.79,2,    1.77,2,    0.07,2,  2408.5,2,  2143.5,2, -999.00,1, -999.00,1
740H20200119,A05_24N,109,1,8,6412,2,20200219,1937,  24.49994, -31.80004,  5967,   102.7, 22.4601,2, 22.4633,2, 37.4664,2, 37.4598,2,   213.1,2,   213.6,2,    0.57,2,    0.06,2,    0.01,2,  2447.0,2,  2131.4,2, -999.00,1, -999.00,1
740H20200119,A05_24N,109,1,9,6413,2,20200219,1937,  24.49994, -31.80004,  5967,    53.4, 22.4815,2, 22.4813,2, 37.4636,2, 37.4644,2,   214.7,2,   213.9,2,    0.54,2,    0.06,2,    0.00,2,  2446.1,2,  2126.7,2, -999.00,1, -999.00,1
740H20200119,A05_24N,109,1,10,6414,2,20200219,1937,  24.49994, -31.80004,  5967,     8.1, 22.4695,2, 22.4706,2, 37.4638,2, 37.4649,2,   214.5,2,   213.9,2,    0.57,2,    0.08,2,    0.01,2,  2449.5,2,  2127.4,2, -999.00,1, -999.00,1