BOTTLE,20221012CCHSIOENA
EXPOCODE,SECT_ID,STNNBR,CASTNO,SAMPNO,BTLNBR,BTLNBR_FLAG_W,DATE,TIME,LATITUDE,LONGITUDE,DEPTH,CTDPRS,CTDTMP,CTDTMP_FLAG_W,SBE35,SBE35_FLAG_W,CTDSAL,CTDSAL_FLAG_W,SALNTY,SALNTY_FLAG_W,CTDOXY,CTDOXY_FLAG_W,OXYGEN,OXYGEN_FLAG_W,SILCAT,SILCAT_FLAG_W,NO2+NO3,NO2+NO3_FLAG_W,PHSPHT,PHSPHT_FLAG_W,ALKALI,ALKALI_FLAG_W,TCARBN,TCARBN_FLAG_W,DELC14,DELC14_FLAG_W,DELC13,DELC13_FLAG_W
 , , , , , , , , , , , ,DBAR,ITS-90, ,ITS-90, ,PSS-78, ,PSS-78, ,UMOL/KG, ,UMOL/KG, ,UMOL/KG, ,UMOL/KG, ,UMOL/KG, ,UMOL/KG, ,UMOL/KG, ,/MILLE, ,/MILLE, 
740H20200119,A05_24N,4,1,1,5977,2,20200120,1814,  27.01247, -79.93255,   148,   141.6, 12.0589,2,-999.0000,9, 35.5246,2, 35.5245,2,   122.3,2,   125.8,2,   11.68,2,   22.20,2,    1.37,2,  2335.8,2,  2198.4,2, -999.00,9, -999.00,9
740H20200119,A05_24N,4,1,2,6406,2,20200120,1814,  27.01247, -79.93255,   148,   141.8, 12.0572,2,-999.0000,9, 35.5244,2,-999.0000,9,   122.2,2,  -999.0,9, -999.00,9, -999.00,9, -999.00,9,  -999.0,9,  -999.0,9, -999.00,9, -999.00,9
740H20200119,A05_24N,4,1,3,6407,4,20200120,1814,  27.01247, -79.93255,   148,   132.2, 12.5080,2,-999.0000,9, 35.5870,2,-999.0000,9,   123.5,2,  -999.0,9, -999.00,9, -999.00,9, -999.00,9,  -999.0,9,  -999.0,9, -999.00,9, -999.00,9
740H20200119,A05_24N,4,1,4,6408,2,20200120,1814,  27.01247, -79.93255,   148,   132.1, 12.5078,2,-999.0000,9, 35.5869,2, 35.5871,2,   123.4,2,   126.8,2,   10.74,2,   21.46,2,    1.30,2,  2338.8,6,  2199.0,6, -999.00,9, -999.00,9
740H20200119,A05_24N,4,1,5,6409,2,20200120,1814,  27.01247, -79.93255,   148,   121.8, 12.6690,2,-999.0000,9, 35.6009,2, 35.6040,2,   123.9,2,   127.3,2,   10.53,2,   21.20,2,    1.29,2,  2336.5,2,  2195.2,2, -999.00,9, -999.00,9
740H20200119,A05_24N,4,1,6,6410,2,20200120,1814,  27.01247, -79.93255,   148,   122.3, 12.6157,2,-999.0000,9, 35.5995,2,-999.0000,9,   124.2,2,  -999.0,9, -999.00,9, -999.00,9, -999.00,9,  -999.0,9,  -999.0,9, -999.00,9, -999.00,9
740H20200119,A05_24N,4,1,7,6411,2,20200120,1814,  27.01247, -79.93255,   148,   102.5, 17.4102,2,-999.0000,9, 35.8921,2, 35.8951,2,   154.4,2,   154.0,2,    6.91,2,   12.66,2,    0.77,2,  2356.9,2,  2147.1,2, -999.00,9, -999.00,9
740H20200119,A05_24N,4,1,8,6412,2,20200120,1814,  27.01247, -79.93255,   148,   102.7, 17.4871,2,-999.0000,9, 35.8976,2,-999.0000,9,   154.2,2,  -999.0,9, -999.00,9, -999.00,9, -999.00,9,  -999.0,9,  -999.0,9, -999.00,9, -999.00,9
740H20200119,A05_24N,4,1,9,6413,2,20200120,1814,  27.01247, -79.93255,   148,    92.7, 21.2010,2,-999.0000,9, 36.1366,2, 36.1276,2,   175.8,2,   178.7,2,    3.88,2,    6.13,2,    0.36,2,  2367.9,2,  2107.2,2, -999.00,9, -999.00,9
740H20200119,A05_24N,4,1,10,6414,2,20200120,1814,  27.01247, -79.93255,   148,    93.1, 21.1571,2,-999.0000,9, 36.1305,2,-999.0000,9,   176.2,2,  -999.0,9, -999.00,9, -999.00,9, -999.00,9,  -999.0,9,  -999.0,9, -999.00,9, -999.00,9
740H20200119,A05_24N,4,1,11,6415,2,20200120,1814,  27.01247, -79.93255,   148,    72.3, 24.5374,2,-999.0000,9, 36.2849,2, 36.2822,2,   199.5,2,   202.2,2,    1.29,2,    0.48,2,    0.03,2,  2380.1,6,  2066.5,6, -999.00,9, -999.00,9
740H20200119,A05_24N,4,1,12,6416,2,20200120,1814,  27.01247, -79.93255,   148,    72.1, 24.5595,2,-999.0000,9, 36.2779,2,-999.0000,9,   199.2,2,  -999.0,9, -999.00,9, -999.00,9, -999.00,9,  -999.0,9,  -999.0,9, -999.00,9, -999.00,9
740H20200119,A05_24N,4,1,13,6417,2,20200120,1814,  27.01247, -79.93255,   148,    56.8, 25.2014,2,-999.0000,9, 36.3051,2, 36.3094,2,   199.9,2,   202.6,2,    1.07,2,    0.33,2,    0.02,2,  -999.0,9,  -999.0,9, -999.00,9, -999.00,9
740H20200119,A05_24N,4,1,14,6418,2,20200120,1814,  27.01247, -79.93255,   148,    57.2, 25.1987,2,-999.0000,9, 36.3048,2,-999.0000,9,   199.8,2,  -999.0,9, -999.00,9, -999.00,9, -999.00,9,  -999.0,9,  -999.0,9, -999.00,9, -999.00,9
740H20200119,A05_24N,4,1,15,6419,2,20200120,1814,  27.01247, -79.93255,   148,    42.3, 25.6436,2,-999.0000,9, 36.3186,2, 36.3203,2,   202.3,2,   204.6,2,    0.98,2,    0.14,2,    0.01,2,  2379.4,2,  2051.0,2, -999.00,9, -999.00,9
740H20200119,A05_24N,4,1,16,6420,4,20200120,1814,  27.01247, -79.93255,   148,    42.2, 25.6398,2,-999.0000,9, 36.3178,2,-999.0000,9,   202.6,2,  -999.0,9, -999.00,9, -999.00,9, -999.00,9,  -999.0,9,  -999.0,9, -999.00,9, -999.00,9
740H20200119,A05_24N,4,1,17,1122,2,20200120,1814,  27.01247, -79.93255,   148,    36.4, 25.9938,2,-999.0000,9, 36.3086,2, 36.3123,2,   202.1,2,   203.9,2,    0.97,2,    0.14,2,    0.01,2,  2378.5,2,  2045.3,2, -999.00,9, -999.00,9
740H20200119,A05_24N,4,1,18,1098,2,20200120,1814,  27.01247, -79.93255,   148,    35.6, 26.0043,2,-999.0000,9, 36.3087,2,-999.0000,9,   201.3,2,  -999.0,9, -999.00,9, -999.00,9, -999.00,9,  -999.0,9,  -999.0,9, -999.00,9, -999.00,9
740H20200119,A05_24N,4,1,19,6692,2,20200120,1814,  27.01247, -79.93255,   148,    25.8, 26.0831,2,-999.0000,9, 36.3063,2, 36.3082,2,   201.6,2,   203.9,2,    0.99,2,    0.15,2,    0.01,2,  2376.2,2,  2046.2,2, -999.00,9, -999.00,9
740H20200119,A05_24N,4,1,20,6428,2,20200120,1814,  27.01247, -79.93255,   148,    26.2, 26.0856,2,-999.0000,9, 36.3063,2,-999.0000,9,   201.4,2,  -999.0,9, -999.00,9, -999.00,9, -999.00,9,  -999.0,9,  -999.0,9, -999.00,9, -999.00,9
740H20200119,A05_24N,4,1,21,6425,2,20200120,1814,  27.01247, -79.93255,   148,    11.1, 26.0961,2,-999.0000,9, 36.3059,2, 36.3076,2,   201.2,2,   203.8,2,    1.01,2,    0.14,2,    0.01,2,  2374.8,2,  2043.1,2, -999.00,9, -999.00,9
740H20200119,A05_24N,4,1,22,6426,2,20200120,1814,  27.01247, -79.93255,   148,    10.8, 26.0948,2,-999.0000,9, 36.3059,2,-999.0000,9,   201.4,2,  -999.0,9, -999.00,9, -999.00,9, -999.00,9,  -999.0,9,  -999.0,9, -999.00,9, -999.00,9
740H20200119,A05_24N,4,1,23,6427,2,20200120,1814,  27.01247, -79.93255,   148,     6.8, 26.0977,2,-999.0000,9, 36.3061,2, 36.3085,2,   201.3,2,   204.2,2,    1.03,2,    0.14,2,    0.02,2,  2381.1,2,  2044.6,2, -999.00,9, -999.00,9
740H20200119,A05_24N,4,1,24,1086,2,20200120,1814,  27.01247, -79.93255,   148,     5.4, 26.0962,2,-999.0000,9, 36.3063,2,-999.0000,9,   201.3,2,  -999.0,9, -999.00,9, -999.00,9, -999.00,9,  -999.0,9,  -999.0,9, -999.00,9, -999.00,9
740H20200119,A05_24N,5,1,1,5977,2,20200120,2113,  27.01455, -79.86618,   267,   257.6,  7.9296,2,-999.0000,9, 34.9991,2, 34.9978,2,   126.3,2,   127.5,2,   19.74,2,   28.75,2,    1.87,2,  -999.0,9,  -999.0,9, -999.00,9, -999.00,9
740H20200119,A05_24N,5,1,2,6406,2,20200120,2113,  27.01455, -79.86618,   267,   257.3,  7.9290,2,-999.0000,9, 34.9990,2,-999.0000,9,   126.5,2,  -999.0,9, -999.00,9, -999.00,9, -999.00,9,  2315.0,6,  2212.2,6, -999.00,9, -999.00,9
740H20200119,A05_24N,5,1,3,6407,2,20200120,2113,  27.01455, -79.86618,   267,   245.0,  8.1116,2,-999.0000,9, 35.0215,2, 35.0192,2,   126.1,2,   127.1,2,   19.25,2,   28.53,2,    1.85,2,  2317.8,2,  2233.2,2, -999.00,9, -999.00,9
740H20200119,A05_24N,5,1,4,6408,4,20200120,2113,  27.01455, -79.86618,   267,   245.1,  8.1003,2,-999.0000,9, 35.0198,2,-999.0000,9,   126.0,2,  -999.0,9, -999.00,9, -999.00,9, -999.00,9,  -999.0,9,  -999.0,9, -999.00,9, -999.00,9
740H20200119,A05_24N,5,1,5,6409,2,20200120,2113,  27.01455, -79.86618,   267,   211.5,  9.8420,2,-999.0000,9, 35.2424,2, 35.2434,2,   124.6,2,   126.6,2,   15.60,2,   25.88,2,    1.63,2,  -999.0,9,  -999.0,9, -999.00,9, -999.00,9
740H20200119,A05_24N,5,1,6,6410,2,20200120,2113,  27.01455, -79.86618,   267,   212.0,  9.8443,2,-999.0000,9, 35.2429,2,-999.0000,9,   124.7,2,  -999.0,9, -999.00,9, -999.00,9, -999.00,9,  2326.4,2,  2225.7,2, -999.00,9, -999.00,9
740H20200119,A05_24N,5,1,7,6411,2,20200120,2113,  27.01455, -79.86618,   267,   177.5, 12.2709,2,-999.0000,9, 35.5612,2, 35.5643,2,   124.4,2,   126.5,2,   10.98,2,   21.75,2,    1.33,2,  -999.0,9,  -999.0,9, -999.00,9, -999.00,9
740H20200119,A05_24N,5,1,8,6412,2,20200120,2113,  27.01455, -79.86618,   267,   177.2, 12.2873,2,-999.0000,9, 35.5628,2,-999.0000,9,   124.3,2,  -999.0,9, -999.00,9, -999.00,9, -999.00,9,  2333.6,2,  2192.6,2, -999.00,9, -999.00,9
740H20200119,A05_24N,5,1,9,6413,2,20200120,2113,  27.01455, -79.86618,   267,   152.3, 14.8406,2,-999.0000,9, 35.8418,2, 35.8487,2,   132.9,2,   136.2,2,    8.27,2,   17.09,2,    1.02,2,  -999.0,9,  -999.0,9, -999.00,9, -999.00,9
740H20200119,A05_24N,5,1,10,6414,2,20200120,2113,  27.01455, -79.86618,   267,   152.2, 14.8463,2,-999.0000,9, 35.8407,2,-999.0000,9,   132.9,2,  -999.0,9, -999.00,9, -999.00,9, -999.00,9,  2351.1,6,  2187.2,6, -999.00,9, -999.00,9
740H20200119,A05_24N,5,1,11,6415,2,20200120,2113,  27.01455, -79.86618,   267,   128.2, 19.7739,2,-999.0000,9, 36.1796,2, 36.1903,2,   163.2,2,   167.0,2,    4.24,2,    7.84,2,    0.46,2,  -999.0,9,  -999.0,9, -999.00,9, -999.00,9
740H20200119,A05_24N,5,1,12,6416,2,20200120,2113,  27.01455, -79.86618,   267,   128.1, 19.7765,2,-999.0000,9, 36.1804,2,-999.0000,9,   163.0,2,  -999.0,9, -999.00,9, -999.00,9, -999.00,9,  2372.4,2,  2144.9,2, -999.00,9, -999.00,9
740H20200119,A05_24N,5,1,13,6417,2,20200120,2113,  27.01455, -79.86618,   267,   113.1, 22.2574,2,-999.0000,9, 36.2710,2, 36.2696,2,   187.7,2,   188.4,2,    2.76,2,    3.36,2,    0.20,2,  -999.0,9,  -999.0,9, -999.00,9, -999.00,9
740H20200119,A05_24N,5,1,14,6418,2,20200120,2113,  27.01455, -79.86618,   267,   113.4, 22.4856,2,-999.0000,9, 36.2623,2,-999.0000,9,   187.3,2,  -999.0,9, -999.00,9, -999.00,9, -999.00,9,  2361.7,3,  2082.0,2, -999.00,9, -999.00,9
740H20200119,A05_24N,5,1,15,6419,2,20200120,2113,  27.01455, -79.86618,   267,    93.3, 24.5967,2,-999.0000,9, 36.2827,2, 36.2805,2,   199.5,2,   202.2,2,    1.42,2,    0.38,2,    0.03,2,  -999.0,9,  -999.0,9, -999.00,9, -999.00,9
740H20200119,A05_24N,5,1,16,6420,2,20200120,2113,  27.01455, -79.86618,   267,    93.7, 24.5702,2,-999.0000,9, 36.2841,2,-999.0000,9,   199.0,2,  -999.0,9, -999.00,9, -999.00,9, -999.00,9,  2377.2,2,  2079.9,2, -999.00,9, -999.00,9
740H20200119,A05_24N,5,1,17,1122,2,20200120,2113,  27.01455, -79.86618,   267,    76.6, 25.1824,2,-999.0000,9, 36.3029,2, 36.3157,2,   199.8,2,   201.7,2,    1.17,2,    0.23,2,    0.01,2,  -999.0,9,  -999.0,9, -999.00,9, -999.00,9
740H20200119,A05_24N,5,1,18,1098,2,20200120,2113,  27.01455, -79.86618,   267,    76.4, 25.1822,2,-999.0000,9, 36.3031,2,-999.0000,9,   199.4,2,  -999.0,9, -999.00,9, -999.00,9, -999.00,9,  2373.0,2,  2053.8,2, -999.00,9, -999.00,9
740H20200119,A05_24N,5,1,19,6692,2,20200120,2113,  27.01455, -79.86618,   267,    52.6, 26.3405,2,-999.0000,9, 36.4309,2, 36.4306,2,   194.4,2,   198.2,2,    0.87,2,    0.23,2,    0.01,2,  2382.1,6,  2061.9,6, -999.00,9, -999.00,9
740H20200119,A05_24N,5,1,20,6428,4,20200120,2113,  27.01455, -79.86618,   267,    53.1, 26.3325,2,-999.0000,9, 36.4324,2,-999.0000,9,   195.2,2,  -999.0,9, -999.00,9, -999.00,9, -999.00,9,  -999.0,9,  -999.0,9, -999.00,9, -999.00,9
740H20200119,A05_24N,5,1,21,6425,2,20200120,2113,  27.01455, -79.86618,   267,    27.4, 26.4168,2,-999.0000,9, 36.4205,2, 36.4229,2,   198.0,2,   202.8,2,    0.89,2,    0.13,2,    0.01,2,  -999.0,9,  -999.0,9, -999.00,9, -999.00,9
740H20200119,A05_24N,5,1,22,6426,2,20200120,2113,  27.01455, -79.86618,   267,    27.4, 26.4173,2,-999.0000,9, 36.4204,2,-999.0000,9,   198.3,2,  -999.0,9, -999.00,9, -999.00,9, -999.00,9,  2379.7,2,  2064.9,2, -999.00,9, -999.00,9
740H20200119,A05_24N,5,1,23,6427,2,20200120,2113,  27.01455, -79.86618,   267,     7.7, 26.4102,2,-999.0000,9, 36.4210,2, 36.4225,2,   198.5,2,   201.0,2,    0.95,2,    0.13,2,    0.01,2,  2379.0,2,  2044.8,2, -999.00,9, -999.00,9
740H20200119,A05_24N,5,1,24,1086,4,20200120,2113,  27.01455, -79.86618,   267,     7.1, 26.4101,2,-999.0000,9, 36.4210,2,-999.0000,9,   198.1,2,  -999.0,9, -999.00,9, -999.00,9, -999.00,9,  -999.0,9,  -999.0,9, -999.00,9, -999.00,9
740H20200119,A05_24N,6,1,1,5977,2,20200121,0017,  27.01382, -79.78364,   389,   380.9,  7.4790,2,-999.0000,9, 34.9596,2,-999.0000,9,   129.0,2,   199.2,4, -999.00,9, -999.00,9, -999.00,9,  2314.4,2,  2210.4,6, -999.00,9, -999.00,9
740H20200119,A05_24N,6,1,2,6406,4,20200121,0017,  27.01382, -79.78364,   389,   381.5,  7.4785,2,-999.0000,9, 34.9592,2, 34.9584,4,   129.0,2,   131.7,4,   20.62,4,   29.22,4,    1.90,4,  2315.5,4,  2214.7,4, -999.00,9, -999.00,9
740H20200119,A05_24N,6,1,3,6407,2,20200121,0017,  27.01382, -79.78364,   389,   381.3,  7.4807,2,-999.0000,9, 34.9595,2,-999.0000,9,   128.8,2,  -999.0,9, -999.00,9, -999.00,9, -999.00,9,  2315.2,6,  2214.8,6, -999.00,9, -999.00,9
740H20200119,A05_24N,6,1,4,6408,2,20200121,0017,  27.01382, -79.78364,   389,   303.7,  9.6212,2,-999.0000,9, 35.1920,2, 35.1929,2,   122.2,2,   125.0,2,   15.64,2,   26.51,2,    1.67,2,  2321.1,2,  2209.5,2, -999.00,9, -999.00,9
740H20200119,A05_24N,6,1,5,6409,2,20200121,0017,  27.01382, -79.78364,   389,   304.3,  9.6165,2,-999.0000,9, 35.1911,2,-999.0000,9,   122.3,2,  -999.0,9, -999.00,9, -999.00,9, -999.00,9,  -999.0,9,  -999.0,9, -999.00,9, -999.00,9
740H20200119,A05_24N,6,1,6,6410,2,20200121,0017,  27.01382, -79.78364,   389,   304.6,  9.5914,2,-999.0000,9, 35.1880,2,-999.0000,9,   122.0,2,  -999.0,9, -999.00,9, -999.00,9, -999.00,9,  -999.0,9,  -999.0,9, -999.00,9, -999.00,9
740H20200119,A05_24N,6,1,7,6411,2,20200121,0017,  27.01382, -79.78364,   389,   274.7, 11.8884,2,-999.0000,9, 35.4916,2, 35.4934,2,   121.8,2,   124.9,2,   11.19,2,   22.67,2,    1.39,2,  2307.4,3,  2196.6,2, -999.00,9, -999.00,9
740H20200119,A05_24N,6,1,8,6412,2,20200121,0017,  27.01382, -79.78364,   389,   275.6, 11.9142,2,-999.0000,9, 35.4944,2,-999.0000,9,   121.7,2,  -999.0,9, -999.00,9, -999.00,9, -999.00,9,  -999.0,9,  -999.0,9, -999.00,9, -999.00,9
740H20200119,A05_24N,6,1,9,6413,2,20200121,0017,  27.01382, -79.78364,   389,   235.5, 14.1574,2,-999.0000,9, 35.8359,2, 35.8348,2,   127.0,2,   130.4,2,    7.65,2,   18.40,2,    1.07,2,  2348.9,2,  2190.8,2, -999.00,9, -999.00,9
740H20200119,A05_24N,6,1,10,6414,2,20200121,0017,  27.01382, -79.78364,   389,   235.2, 14.1624,2,-999.0000,9, 35.8371,2,-999.0000,9,   126.8,2,  -999.0,9, -999.00,9, -999.00,9, -999.00,9,  -999.0,9,  -999.0,9, -999.00,9, -999.00,9
740H20200119,A05_24N,6,1,11,6415,2,20200121,0017,  27.01382, -79.78364,   389,   175.2, 18.7915,2,-999.0000,9, 36.5146,2, 36.5214,2,   144.1,2,   148.9,2,    2.97,2,    9.25,2,    0.47,2,  2383.8,2,  2158.7,2, -999.00,9, -999.00,9
740H20200119,A05_24N,6,1,12,6416,2,20200121,0017,  27.01382, -79.78364,   389,   175.2, 18.8870,2,-999.0000,9, 36.5274,2,-999.0000,9,   144.5,2,  -999.0,9, -999.00,9, -999.00,9, -999.00,9,  -999.0,9,  -999.0,9, -999.00,9, -999.00,9
740H20200119,A05_24N,6,1,13,6417,2,20200121,0017,  27.01382, -79.78364,   389,   123.9, 23.5838,2,-999.0000,9, 36.2704,2, 36.2737,2,   203.9,2,   211.2,2,    0.94,2,    0.30,2,    0.02,2,  2392.5,6,  2070.5,6, -999.00,9, -999.00,9
740H20200119,A05_24N,6,1,14,6418,2,20200121,0017,  27.01382, -79.78364,   389,   123.4, 23.6179,2,-999.0000,9, 36.2731,2,-999.0000,9,   203.5,2,  -999.0,9, -999.00,9, -999.00,9, -999.00,9,  -999.0,9,  -999.0,9, -999.00,9, -999.00,9
740H20200119,A05_24N,6,1,15,6419,2,20200121,0017,  27.01382, -79.78364,   389,   104.5, 24.4403,2,-999.0000,9, 36.3561,2, 36.3581,2,   197.3,2,   203.6,2,    1.01,2,    0.50,2,    0.03,2,  2390.5,2,  2076.0,2, -999.00,9, -999.00,9
740H20200119,A05_24N,6,1,16,6420,4,20200121,0017,  27.01382, -79.78364,   389,   104.5, 24.3900,2,-999.0000,9, 36.3536,2,-999.0000,9,   196.7,2,  -999.0,9, -999.00,9, -999.00,9, -999.00,9,  -999.0,9,  -999.0,9, -999.00,9, -999.00,9
740H20200119,A05_24N,6,1,17,1122,2,20200121,0017,  27.01382, -79.78364,   389,    84.0, 25.0078,2,-999.0000,9, 36.3853,2, 36.3805,2,   192.8,2,   200.0,2,    0.99,2,    0.54,2,    0.02,2,  2388.9,2,  2067.1,2, -999.00,9, -999.00,9
740H20200119,A05_24N,6,1,18,1098,2,20200121,0017,  27.01382, -79.78364,   389,    84.5, 25.0023,2,-999.0000,9, 36.3840,2,-999.0000,9,   193.6,2,  -999.0,9, -999.00,9, -999.00,9, -999.00,9,  -999.0,9,  -999.0,9, -999.00,9, -999.00,9
740H20200119,A05_24N,6,1,19,6692,2,20200121,0017,  27.01382, -79.78364,   389,    43.7, 26.3763,2,-999.0000,9, 36.4307,2, 36.4330,2,   197.5,2,   204.5,2,    0.86,2,    0.15,2,    0.01,2,  2379.9,6,  2050.7,6, -999.00,9, -999.00,9
740H20200119,A05_24N,6,1,20,6428,4,20200121,0017,  27.01382, -79.78364,   389,    43.8, 26.3749,2,-999.0000,9, 36.4309,2,-999.0000,9,   197.4,2,  -999.0,9, -999.00,9, -999.00,9, -999.00,9,  -999.0,9,  2164.2,4, -999.00,9, -999.00,9
740H20200119,A05_24N,6,1,21,6425,2,20200121,0017,  27.01382, -79.78364,   389,    28.7, 26.3746,2,-999.0000,9, 36.4310,2, 36.4327,2,   197.5,2,   204.8,2,    0.90,2,    0.14,2,    0.02,2,  2379.5,2,  2044.4,2, -999.00,9, -999.00,9
740H20200119,A05_24N,6,1,22,6426,2,20200121,0017,  27.01382, -79.78364,   389,    28.9, 26.3738,2,-999.0000,9, 36.4310,2,-999.0000,9,   197.9,2,  -999.0,9, -999.00,9, -999.00,9, -999.00,9,  -999.0,9,  -999.0,9, -999.00,9, -999.00,9
740H20200119,A05_24N,6,1,23,6427,2,20200121,0017,  27.01382, -79.78364,   389,     9.3, 26.3646,2,-999.0000,9, 36.4314,2, 36.4333,2,   198.4,2,   203.6,2,    0.92,2,    0.14,2,    0.01,2,  2378.3,2,  2042.3,2, -999.00,9, -999.00,9
740H20200119,A05_24N,6,1,24,1086,2,20200121,0017,  27.01382, -79.78364,   389,     9.1, 26.3651,2,-999.0000,9, 36.4313,2,-999.0000,9,   197.2,2,  -999.0,9, -999.00,9, -999.00,9, -999.00,9,  -999.0,9,  -999.0,9, -999.00,9, -999.00,9