BOTTLE,20221012CCHSIOENA
EXPOCODE,SECT_ID,STNNBR,CASTNO,SAMPNO,BTLNBR,BTLNBR_FLAG_W,DATE,TIME,LATITUDE,LONGITUDE,DEPTH,CTDPRS,CTDTMP,CTDTMP_FLAG_W,SBE35,SBE35_FLAG_W,CTDSAL,CTDSAL_FLAG_W,SALNTY,SALNTY_FLAG_W,CTDOXY,CTDOXY_FLAG_W,OXYGEN,OXYGEN_FLAG_W,SILCAT,SILCAT_FLAG_W,NO2+NO3,NO2+NO3_FLAG_W,PHSPHT,PHSPHT_FLAG_W,ALKALI,ALKALI_FLAG_W,TCARBN,TCARBN_FLAG_W,DELC14,DELC14_FLAG_W,DELC13,DELC13_FLAG_W
 , , , , , , , , , , , ,DBAR,ITS-90, ,ITS-90, ,PSS-78, ,PSS-78, ,UMOL/KG, ,UMOL/KG, ,UMOL/KG, ,UMOL/KG, ,UMOL/KG, ,UMOL/KG, ,UMOL/KG, ,/MILLE, ,/MILLE, 
740H20200119,A05_24N,19,1,1,5977,2,20200123,1643,  26.49712, -76.76167,  3714,  3764.4,  2.3406,2,-999.0000,9, 34.8974,2, 34.8968,2,   267.6,2,   268.0,3,   26.66,2,   18.02,2,    1.21,2,  2323.9,2,  2173.6,6, -999.00,9, -999.00,9
740H20200119,A05_24N,19,1,2,6406,2,20200123,1643,  26.49712, -76.76167,  3714,  3765.2,  2.3394,2,-999.0000,9, 34.8973,2,-999.0000,9,   267.6,2,  -999.0,9, -999.00,9, -999.00,9, -999.00,9,  -999.0,9,  -999.0,9, -999.00,9, -999.00,9
740H20200119,A05_24N,19,1,3,6407,2,20200123,1643,  26.49712, -76.76167,  3714,  3555.5,  2.4601,2,-999.0000,9, 34.9056,2, 34.9051,2,   268.2,2,   270.8,3,   23.56,2,   17.63,2,    1.18,2,  2318.4,2,  2173.4,2, -999.00,9, -999.00,9
740H20200119,A05_24N,19,1,4,6408,2,20200123,1643,  26.49712, -76.76167,  3714,  3555.4,  2.4603,2,-999.0000,9, 34.9056,2,-999.0000,9,   268.3,2,  -999.0,9, -999.00,9, -999.00,9, -999.00,9,  -999.0,9,  -999.0,9, -999.00,9, -999.00,9
740H20200119,A05_24N,19,1,5,6409,2,20200123,1643,  26.49712, -76.76167,  3714,  3296.5,  2.7527,2,-999.0000,9, 34.9220,2, 34.9213,2,   266.7,2,   268.7,3,   20.90,2,   17.58,2,    1.18,2,  2314.1,2,  2163.2,2, -999.00,9, -999.00,9
740H20200119,A05_24N,19,1,6,6410,2,20200123,1643,  26.49712, -76.76167,  3714,  2788.6,  3.1364,2,-999.0000,9, 34.9434,2, 34.9425,2,   262.3,2,   265.3,3,   19.10,2,   17.88,2,    1.19,2,  2315.9,2,  2168.4,2, -999.00,9, -999.00,9
740H20200119,A05_24N,19,1,7,6411,2,20200123,1643,  26.49712, -76.76167,  3714,  2532.6,  3.2631,2,-999.0000,9, 34.9518,2, 34.9520,2,   261.1,2,   263.0,3,   18.53,2,   18.18,2,    1.20,2,  2314.6,2,  2159.5,2, -999.00,9, -999.00,9
740H20200119,A05_24N,19,1,8,6412,2,20200123,1643,  26.49712, -76.76167,  3714,  2275.3,  3.4441,2,-999.0000,9, 34.9602,2, 34.9596,2,   260.3,2,   262.8,3,   16.90,2,   18.10,2,    1.19,2,  2315.7,2,  2168.1,2, -999.00,9, -999.00,9
740H20200119,A05_24N,19,1,9,6413,2,20200123,1643,  26.49712, -76.76167,  3714,  2024.4,  3.6528,2,-999.0000,9, 34.9689,2, 34.9681,2,   259.1,2,   261.5,3,   15.30,2,   18.09,2,    1.18,2,  2311.5,2,  2162.4,2, -999.00,9, -999.00,9
740H20200119,A05_24N,19,1,10,6414,2,20200123,1643,  26.49712, -76.76167,  3714,  1768.1,  4.0118,2,-999.0000,9, 34.9870,2, 34.9867,2,   256.0,2,   258.5,3,   13.57,2,   18.08,2,    1.18,2,  2314.2,2,  2167.0,2, -999.00,9, -999.00,9
740H20200119,A05_24N,19,1,11,6415,2,20200123,1643,  26.49712, -76.76167,  3714,  1513.2,  4.2053,2,-999.0000,9, 34.9936,2, 34.9936,2,   253.2,2,   257.5,3,   13.00,2,   18.04,2,    1.17,2,  2310.3,2,  2161.9,2, -999.00,9, -999.00,9
740H20200119,A05_24N,19,1,12,6416,2,20200123,1643,  26.49712, -76.76167,  3714,  1258.0,  4.8124,2,-999.0000,9, 35.0315,2, 35.0327,2,   242.1,2,   243.9,3,   12.43,2,   18.53,2,    1.21,2,  2316.9,2,  2171.7,2, -999.00,9, -999.00,9
740H20200119,A05_24N,19,1,13,6417,2,20200123,1643,  26.49712, -76.76167,  3714,  1006.0,  6.1443,2,-999.0000,9, 35.0889,2, 35.0894,2,   205.5,2,   210.2,3,   13.55,2,   20.77,2,    1.35,2,  2315.6,6,  2183.0,6, -999.00,9, -999.00,9
740H20200119,A05_24N,19,1,14,6418,2,20200123,1643,  26.49712, -76.76167,  3714,   878.8,  7.7384,2,-999.0000,9, 35.1447,2, 35.1456,2,   169.1,2,   170.9,3,   14.30,2,   22.95,2,    1.48,2,  2318.7,2,  2186.3,2, -999.00,9, -999.00,9
740H20200119,A05_24N,19,1,15,6419,2,20200123,1643,  26.49712, -76.76167,  3714,   752.5,  9.6254,2,-999.0000,9, 35.2530,2, 35.2473,2,   141.8,2,   143.8,3,   13.65,2,   24.13,2,    1.51,2,  2325.2,2,  2194.7,2, -999.00,9, -999.00,9
740H20200119,A05_24N,19,1,16,6420,2,20200123,1643,  26.49712, -76.76167,  3714,   627.1, 12.6755,2,-999.0000,9, 35.6522,2, 35.6554,2,   146.1,2,   148.4,3,    7.81,2,   18.44,2,    1.09,2,  2340.3,2,  2173.8,2, -999.00,9, -999.00,9
740H20200119,A05_24N,19,1,17,1122,2,20200123,1643,  26.49712, -76.76167,  3714,   499.6, 16.0120,2,-999.0000,9, 36.1748,2, 36.1559,2,   165.8,2,   165.9,3,    3.52,2,   11.21,2,    0.62,2,  2367.2,2,  2157.1,2, -999.00,9, -999.00,9
740H20200119,A05_24N,19,1,18,1098,2,20200123,1643,  26.49712, -76.76167,  3714,   372.8, 18.3247,2,-999.0000,9, 36.5408,2, 36.5391,2,   184.1,2,   184.2,3,    1.50,2,    5.48,2,    0.24,2,  2385.5,2,  2131.1,2, -999.00,9, -999.00,9
740H20200119,A05_24N,19,1,19,6692,2,20200123,1643,  26.49712, -76.76167,  3714,   246.7, 19.5474,2,-999.0000,9, 36.6766,2, 36.6755,2,   193.3,2,   194.4,3,    0.90,2,    2.75,2,    0.09,2,  2397.4,2,  2118.1,2, -999.00,9, -999.00,9
740H20200119,A05_24N,19,1,20,6428,2,20200123,1643,  26.49712, -76.76167,  3714,   171.3, 21.1672,2,-999.0000,9, 36.7739,2, 36.7787,2,   196.2,2,   194.8,3,    0.62,2,    1.05,2,    0.02,2,  2401.5,2,  2105.7,2, -999.00,9, -999.00,9
740H20200119,A05_24N,19,1,21,6425,2,20200123,1643,  26.49712, -76.76167,  3714,   104.1, 24.0713,2,-999.0000,9, 36.8062,2, 36.8087,2,   207.9,2,   207.2,3,    0.73,2,    0.31,2,    0.00,2,  2404.4,6,  2065.9,6, -999.00,9, -999.00,9
740H20200119,A05_24N,19,1,22,6426,2,20200123,1643,  26.49712, -76.76167,  3714,   104.5, 24.0656,2,-999.0000,9, 36.8074,2,-999.0000,9,   207.7,2,  -999.0,9, -999.00,9, -999.00,9, -999.00,9,  -999.0,9,  -999.0,9, -999.00,9, -999.00,9
740H20200119,A05_24N,19,1,23,6427,2,20200123,1643,  26.49712, -76.76167,  3714,    44.3, 24.6453,2,-999.0000,9, 36.7463,2, 36.7517,2,   202.7,2,   201.9,3,    0.81,2,    0.28,2,    0.00,2,  2405.9,2,  2065.2,2, -999.00,9, -999.00,9
740H20200119,A05_24N,19,1,24,1086,2,20200123,1643,  26.49712, -76.76167,  3714,     4.8, 24.7963,2,-999.0000,9, 36.7444,2, 36.7470,2,   203.8,2,   207.1,3,    0.87,2,    0.29,2,    0.00,2,  -999.0,9,  -999.0,9, -999.00,9, -999.00,9
740H20200119,A05_24N,20,1,1,5977,4,20200123,2213,  26.49632, -76.68939,  4532,  4597.6,  2.2640,2,-999.0000,9, 34.8862,2, 34.9511,4,   261.2,2,   261.7,4,   19.21,4,   18.13,4,    1.21,4,  2324.7,4,  2171.2,4, -999.00,9, -999.00,9
740H20200119,A05_24N,20,1,2,6406,2,20200123,2213,  26.49632, -76.68939,  4532,  4597.5,  2.2635,2,-999.0000,9, 34.8863,2,-999.0000,9,   261.4,2,  -999.0,9, -999.00,9, -999.00,9, -999.00,9,  -999.0,9,  -999.0,9, -999.00,9, -999.00,9
740H20200119,A05_24N,20,1,3,6407,2,20200123,2213,  26.49632, -76.68939,  4532,  4075.6,  2.2762,2,-999.0000,9, 34.8908,2, 34.8891,2,   264.8,2,   266.1,3,   30.05,2,   18.44,2,    1.25,2,  2324.7,2,  2180.7,2, -999.00,9, -999.00,9
740H20200119,A05_24N,20,1,4,6408,2,20200123,2213,  26.49632, -76.68939,  4532,  3557.9,  2.4607,2,-999.0000,9, 34.9059,2, 34.9042,2,   267.4,2,   269.2,3,   23.77,2,   17.75,2,    1.19,2,  2315.6,6,  2161.7,6, -999.00,9, -999.00,9
740H20200119,A05_24N,20,1,5,6409,2,20200123,2213,  26.49632, -76.68939,  4532,  3042.3,  2.7837,2,-999.0000,9, 34.9246,2, 34.9242,2,   265.8,2,   267.4,3,   20.49,2,   17.69,2,    1.18,2,  2315.1,2,  2170.1,2, -999.00,9, -999.00,9
740H20200119,A05_24N,20,1,6,6410,2,20200123,2213,  26.49632, -76.68939,  4532,  2528.1,  3.2273,2,-999.0000,9, 34.9522,2, 34.9511,2,   260.1,2,   261.5,3,   19.16,2,   18.19,2,    1.20,2,  2312.7,2,  -999.0,9, -999.00,9, -999.00,9
740H20200119,A05_24N,20,1,7,6411,2,20200123,2213,  26.49632, -76.68939,  4532,  2011.4,  3.6584,2,-999.0000,9, 34.9681,2, 34.9681,2,   259.8,2,   260.9,3,   15.15,2,   17.88,2,    1.18,2,  2312.6,2,  2162.0,6, -999.00,9, -999.00,9
740H20200119,A05_24N,20,1,8,6412,2,20200123,2213,  26.49632, -76.68939,  4532,  1755.3,  3.8983,2,-999.0000,9, 34.9796,2, 34.9796,2,   257.4,2,   259.3,3,   13.89,2,   17.93,2,    1.17,2,  2312.5,2,  2170.8,2, -999.00,9, -999.00,9
740H20200119,A05_24N,20,1,9,6413,2,20200123,2213,  26.49632, -76.68939,  4532,  1501.3,  4.3156,2,-999.0000,9, 35.0005,2, 35.0017,2,   252.0,2,   253.1,3,   12.68,2,   18.00,2,    1.18,2,  2308.6,2,  2057.0,4, -999.00,9, -999.00,9
740H20200119,A05_24N,20,1,10,6414,2,20200123,2213,  26.49632, -76.68939,  4532,  1249.9,  4.8394,2,-999.0000,9, 35.0307,2, 35.0308,2,   241.5,2,   243.8,3,   12.35,2,   18.43,2,    1.20,2,  2312.5,2,  2065.3,4, -999.00,9, -999.00,9
740H20200119,A05_24N,20,1,11,6415,2,20200123,2213,  26.49632, -76.68939,  4532,   997.2,  6.4093,2,-999.0000,9, 35.1028,2, 35.1035,2,   199.0,2,   201.2,3,   13.68,2,   21.11,2,    1.37,2,  2318.3,6,  2187.7,6, -999.00,9, -999.00,9
740H20200119,A05_24N,20,1,12,6416,2,20200123,2213,  26.49632, -76.68939,  4532,   896.5,  7.6330,2,-999.0000,9, 35.0992,2, 35.1009,2,   160.2,2,   162.8,3,   15.70,2,   24.52,2,    1.57,2,  2315.8,2,  2074.6,4, -999.00,9, -999.00,9
740H20200119,A05_24N,20,1,13,6417,2,20200123,2213,  26.49632, -76.68939,  4532,   866.6,  7.9754,2,-999.0000,9, 35.1046,2, 35.1033,2,   151.6,2,   154.5,3,   16.01,2,   25.22,2,    1.61,2,  2317.2,2,  2201.2,2, -999.00,9, -999.00,9
740H20200119,A05_24N,20,1,14,6418,2,20200123,2213,  26.49632, -76.68939,  4532,   795.8,  9.1737,2,-999.0000,9, 35.1991,2, 35.1984,2,   139.4,2,   141.5,3,   14.57,2,   24.92,2,    1.57,2,  2320.1,2,  2208.3,2, -999.00,9, -999.00,9
740H20200119,A05_24N,20,1,15,6419,2,20200123,2213,  26.49632, -76.68939,  4532,   694.5, 11.4443,2,-999.0000,9, 35.4789,2, 35.4783,2,   140.3,2,   141.8,3,   10.06,2,   21.02,2,    1.29,2,  2330.5,6,  2182.7,6, -999.00,9, -999.00,9
740H20200119,A05_24N,20,1,16,6420,2,20200123,2213,  26.49632, -76.68939,  4532,   522.7, 15.6611,2,-999.0000,9, 36.1240,2, 36.1048,2,   163.9,2,   165.6,3,    3.84,2,   11.68,2,    0.65,2,  2362.0,2,  2150.1,2, -999.00,9, -999.00,9
740H20200119,A05_24N,20,1,17,1122,4,20200123,2213,  26.49632, -76.68939,  4532,   391.2, 18.2322,2,-999.0000,9, 36.5278,2, 36.7969,4,   181.9,2,   206.6,4,    0.71,4,    0.23,4,    0.00,4,  2413.4,4,  2067.7,4, -999.00,9, -999.00,9
740H20200119,A05_24N,20,1,18,1098,2,20200123,2213,  26.49632, -76.68939,  4532,   281.6, 19.2242,2,-999.0000,9, 36.6538,2, 36.6553,2,   198.2,2,   199.0,3,    0.98,2,    2.83,2,    0.10,2,  2392.9,2,  2110.7,2, -999.00,9, -999.00,9
740H20200119,A05_24N,20,1,19,6692,2,20200123,2213,  26.49632, -76.68939,  4532,   220.8, 19.7177,2,-999.0000,9, 36.6884,2, 36.6888,2,   194.5,2,   195.6,3,    0.77,2,    2.16,2,    0.05,2,  2399.1,2,  2119.7,2, -999.00,9, -999.00,9
740H20200119,A05_24N,20,1,20,6428,2,20200123,2213,  26.49632, -76.68939,  4532,   150.4, 21.6047,2,-999.0000,9, 36.8093,2, 36.8074,2,   190.5,2,   191.4,3,    0.65,2,    1.33,2,    0.03,2,  2403.4,6,  2108.6,6, -999.00,9, -999.00,9
740H20200119,A05_24N,20,1,21,6425,2,20200123,2213,  26.49632, -76.68939,  4532,   120.3, 23.3768,2,-999.0000,9, 36.7526,2, 36.7635,2,   202.1,2,   201.6,3,    0.65,2,    0.52,2,   -0.01,2,  2410.1,2,  2083.1,2, -999.00,9, -999.00,9
740H20200119,A05_24N,20,1,22,6426,2,20200123,2213,  26.49632, -76.68939,  4532,    98.7, 23.7069,2,-999.0000,9, 36.7469,2, 36.7453,2,   207.4,2,   207.1,3,    0.72,2,    0.23,2,    0.00,2,  2400.9,2,  2063.3,2, -999.00,9, -999.00,9
740H20200119,A05_24N,20,1,23,6427,2,20200123,2213,  26.49632, -76.68939,  4532,    65.4, 23.7120,2,-999.0000,9, 36.7420,2, 36.7433,2,   207.1,2,   207.5,3,    0.72,2,    0.23,2,   -0.01,2,  2401.1,6,  2064.9,6, -999.00,9, -999.00,9
740H20200119,A05_24N,20,1,24,1086,2,20200123,2213,  26.49632, -76.68939,  4532,     5.9, 24.1374,2,-999.0000,9, 36.7957,2, 36.7967,2,   206.1,2,   206.8,3,    0.79,2,    0.22,2,    0.00,2,  2406.2,2,  2067.3,2, -999.00,9, -999.00,9
740H20200119,A05_24N,21,1,1,5977,2,20200124,0300,  26.49596, -76.68965,  4026,  4078.6,  2.2680,2,-999.0000,9, 34.8902,2,-999.0000,9,   264.4,2,  -999.0,9, -999.00,9, -999.00,9, -999.00,9,  2321.4,6,  2180.5,6, -999.00,9, -999.00,9
740H20200119,A05_24N,21,1,2,6406,2,20200124,0300,  26.49596, -76.68965,  4026,  4077.9,  2.2682,2,-999.0000,9, 34.8902,2,-999.0000,9,   264.9,2,  -999.0,9, -999.00,9, -999.00,9, -999.00,9,  2322.2,6,  2180.3,6, -999.00,9, -999.00,9
740H20200119,A05_24N,21,1,3,6407,2,20200124,0300,  26.49596, -76.68965,  4026,  4078.1,  2.2680,2,-999.0000,9, 34.8901,2,-999.0000,9,   265.0,2,  -999.0,9, -999.00,9, -999.00,9, -999.00,9,  2312.5,6,  2180.6,6, -999.00,9, -999.00,9
740H20200119,A05_24N,21,1,4,6408,2,20200124,0300,  26.49596, -76.68965,  4026,  4078.4,  2.2677,2,-999.0000,9, 34.8902,2,-999.0000,9,   265.0,2,  -999.0,9, -999.00,9, -999.00,9, -999.00,9,  2304.0,6,  2178.4,6, -999.00,9, -999.00,9
740H20200119,A05_24N,21,1,5,6409,2,20200124,0300,  26.49596, -76.68965,  4026,  4078.9,  2.2675,2,-999.0000,9, 34.8902,2,-999.0000,9,   264.3,2,  -999.0,9, -999.00,9, -999.00,9, -999.00,9,  2322.4,6,  2179.3,6, -999.00,9, -999.00,9
740H20200119,A05_24N,21,1,6,6410,2,20200124,0300,  26.49596, -76.68965,  4026,  4078.8,  2.2680,2,-999.0000,9, 34.8902,2,-999.0000,9,   265.1,2,  -999.0,9, -999.00,9, -999.00,9, -999.00,9,  2322.7,6,  2179.8,6, -999.00,9, -999.00,9
740H20200119,A05_24N,21,1,7,6411,2,20200124,0300,  26.49596, -76.68965,  4026,  4078.7,  2.2679,2,-999.0000,9, 34.8902,2,-999.0000,9,   264.8,2,  -999.0,9, -999.00,9, -999.00,9, -999.00,9,  2322.9,6,  2177.7,6, -999.00,9, -999.00,9
740H20200119,A05_24N,21,1,8,6412,2,20200124,0300,  26.49596, -76.68965,  4026,  4078.4,  2.2671,2,-999.0000,9, 34.8901,2,-999.0000,9,   264.9,2,  -999.0,9, -999.00,9, -999.00,9, -999.00,9,  2322.2,6,  2182.5,6, -999.00,9, -999.00,9
740H20200119,A05_24N,21,1,9,6413,2,20200124,0300,  26.49596, -76.68965,  4026,  4078.6,  2.2671,2,-999.0000,9, 34.8900,2,-999.0000,9,   264.9,2,  -999.0,9, -999.00,9, -999.00,9, -999.00,9,  2321.1,6,  2177.4,6, -999.00,9, -999.00,9
740H20200119,A05_24N,21,1,10,6414,2,20200124,0300,  26.49596, -76.68965,  4026,  4078.7,  2.2672,2,-999.0000,9, 34.8901,2,-999.0000,9,   264.9,2,  -999.0,9, -999.00,9, -999.00,9, -999.00,9,  2309.9,6,  2177.5,6, -999.00,9, -999.00,9
740H20200119,A05_24N,21,1,11,6415,2,20200124,0300,  26.49596, -76.68965,  4026,  4079.0,  2.2666,2,-999.0000,9, 34.8901,2,-999.0000,9,   264.9,2,  -999.0,9, -999.00,9, -999.00,9, -999.00,9,  -999.0,9,  -999.0,9, -999.00,9, -999.00,9
740H20200119,A05_24N,21,1,12,6416,2,20200124,0300,  26.49596, -76.68965,  4026,  4078.7,  2.2671,2,-999.0000,9, 34.8901,2,-999.0000,9,   264.5,2,  -999.0,9, -999.00,9, -999.00,9, -999.00,9,  -999.0,9,  -999.0,9, -999.00,9, -999.00,9
740H20200119,A05_24N,21,1,13,6417,2,20200124,0300,  26.49596, -76.68965,  4026,  4078.9,  2.2671,2,-999.0000,9, 34.8901,2,-999.0000,9,   265.0,2,  -999.0,9, -999.00,9, -999.00,9, -999.00,9,  -999.0,9,  -999.0,9, -999.00,9, -999.00,9
740H20200119,A05_24N,21,1,14,6418,2,20200124,0300,  26.49596, -76.68965,  4026,  4078.8,  2.2673,2,-999.0000,9, 34.8902,2,-999.0000,9,   264.4,2,  -999.0,9, -999.00,9, -999.00,9, -999.00,9,  2323.5,2,  2179.7,2, -999.00,9, -999.00,9
740H20200119,A05_24N,21,1,15,6419,2,20200124,0300,  26.49596, -76.68965,  4026,  4078.5,  2.2671,2,-999.0000,9, 34.8901,2,-999.0000,9,   264.5,2,  -999.0,9, -999.00,9, -999.00,9, -999.00,9,  -999.0,9,  -999.0,9, -999.00,9, -999.00,9
740H20200119,A05_24N,21,1,16,6420,2,20200124,0300,  26.49596, -76.68965,  4026,  4078.6,  2.2675,2,-999.0000,9, 34.8901,2,-999.0000,9,   264.4,2,  -999.0,9, -999.00,9, -999.00,9, -999.00,9,  -999.0,9,  -999.0,9, -999.00,9, -999.00,9
740H20200119,A05_24N,21,1,17,1122,2,20200124,0300,  26.49596, -76.68965,  4026,  4078.6,  2.2675,2,-999.0000,9, 34.8901,2,-999.0000,9,   264.7,2,  -999.0,9, -999.00,9, -999.00,9, -999.00,9,  -999.0,9,  -999.0,9, -999.00,9, -999.00,9
740H20200119,A05_24N,21,1,18,1098,2,20200124,0300,  26.49596, -76.68965,  4026,  4078.7,  2.2676,2,-999.0000,9, 34.8901,2,-999.0000,9,   264.9,2,  -999.0,9, -999.00,9, -999.00,9, -999.00,9,  -999.0,9,  -999.0,9, -999.00,9, -999.00,9
740H20200119,A05_24N,21,1,19,6692,2,20200124,0300,  26.49596, -76.68965,  4026,  4079.0,  2.2677,2,-999.0000,9, 34.8901,2,-999.0000,9,   264.6,2,  -999.0,9, -999.00,9, -999.00,9, -999.00,9,  -999.0,9,  -999.0,9, -999.00,9, -999.00,9
740H20200119,A05_24N,21,1,20,6428,2,20200124,0300,  26.49596, -76.68965,  4026,  4078.9,  2.2676,2,-999.0000,9, 34.8901,2,-999.0000,9,   264.8,2,  -999.0,9, -999.00,9, -999.00,9, -999.00,9,  -999.0,9,  -999.0,9, -999.00,9, -999.00,9
740H20200119,A05_24N,21,1,21,6425,2,20200124,0300,  26.49596, -76.68965,  4026,  4078.9,  2.2678,2,-999.0000,9, 34.8901,2,-999.0000,9,   264.7,2,  -999.0,9, -999.00,9, -999.00,9, -999.00,9,  -999.0,9,  -999.0,9, -999.00,9, -999.00,9
740H20200119,A05_24N,21,1,22,6426,2,20200124,0300,  26.49596, -76.68965,  4026,  4079.1,  2.2679,2,-999.0000,9, 34.8902,2,-999.0000,9,   264.7,2,  -999.0,9, -999.00,9, -999.00,9, -999.00,9,  -999.0,9,  -999.0,9, -999.00,9, -999.00,9
740H20200119,A05_24N,21,1,23,6427,2,20200124,0300,  26.49596, -76.68965,  4026,  4078.3,  2.2680,2,-999.0000,9, 34.8901,2,-999.0000,9,   264.7,2,  -999.0,9, -999.00,9, -999.00,9, -999.00,9,  -999.0,9,  -999.0,9, -999.00,9, -999.00,9
740H20200119,A05_24N,21,1,24,1086,2,20200124,0300,  26.49596, -76.68965,  4026,  4078.1,  2.2679,2,-999.0000,9, 34.8902,2,-999.0000,9,   264.5,2,  -999.0,9, -999.00,9, -999.00,9, -999.00,9,  2317.3,2,  2171.3,2, -999.00,9, -999.00,9