BOTTLE,20221012CCHSIOENA
EXPOCODE,SECT_ID,STNNBR,CASTNO,SAMPNO,BTLNBR,BTLNBR_FLAG_W,DATE,TIME,LATITUDE,LONGITUDE,DEPTH,CTDPRS,CTDTMP,CTDTMP_FLAG_W,SBE35,SBE35_FLAG_W,CTDSAL,CTDSAL_FLAG_W,SALNTY,SALNTY_FLAG_W,CTDOXY,CTDOXY_FLAG_W,OXYGEN,OXYGEN_FLAG_W,SILCAT,SILCAT_FLAG_W,NO2+NO3,NO2+NO3_FLAG_W,PHSPHT,PHSPHT_FLAG_W,ALKALI,ALKALI_FLAG_W,TCARBN,TCARBN_FLAG_W,DELC14,DELC14_FLAG_W,DELC13,DELC13_FLAG_W
 , , , , , , , , , , , ,DBAR,ITS-90, ,ITS-90, ,PSS-78, ,PSS-78, ,UMOL/KG, ,UMOL/KG, ,UMOL/KG, ,UMOL/KG, ,UMOL/KG, ,UMOL/KG, ,UMOL/KG, ,/MILLE, ,/MILLE, 
740H20200119,A05_24N,122,1,11,3044,2,20200224,1805,  25.45016, -20.80008,  4435,  4500.8,  2.3907,2,  2.3903,2, 34.8888,2, 34.8892,2,   244.4,2,   243.7,2,   47.35,2,   22.39,2,    1.52,2,  2350.8,6,  2204.8,6, -999.00,9, -999.00,9
740H20200119,A05_24N,122,1,12,3045,2,20200224,1805,  25.45016, -20.80008,  4435,  4334.0,  2.3874,2,  2.3865,2, 34.8907,2, 34.8910,2,   244.0,2,   244.2,2,   47.02,2,   22.30,2,    1.51,2,  2350.6,2,  2204.5,2, -999.00,9, -999.00,9
740H20200119,A05_24N,122,1,13,3046,2,20200224,1805,  25.45016, -20.80008,  4435,  3817.4,  2.4464,2,  2.4468,2, 34.9021,2, 34.9020,2,   240.8,2,   240.3,2,   45.29,2,   22.24,2,    1.51,2,  2349.7,2,  2203.8,2, -999.00,9, -999.00,9
740H20200119,A05_24N,122,1,14,7131,2,20200224,1805,  25.45016, -20.80008,  4435,  3302.5,  2.6312,2,  2.6318,2, 34.9227,2, 34.9225,2,   235.8,2,   235.2,2,   41.89,2,   22.12,2,    1.50,2,  2347.5,6,  2205.3,6, -999.00,9, -999.00,9
740H20200119,A05_24N,122,1,15,3048,2,20200224,1805,  25.45016, -20.80008,  4435,  2789.4,  2.9752,2,  2.9805,2, 34.9553,2, 34.9545,2,   234.4,2,   234.0,2,   35.63,2,   21.74,2,    1.48,2,  2341.6,2,  2197.8,2, -999.00,9, -999.00,9
740H20200119,A05_24N,122,1,16,3049,2,20200224,1805,  25.45016, -20.80008,  4435,  2277.0,  3.5507,2,  3.5591,2, 35.0132,2, 35.0132,2,   228.6,2,   228.3,2,   29.76,2,   21.55,2,    1.46,2,  2333.2,2,  2191.0,2, -999.00,9, -999.00,9
740H20200119,A05_24N,122,1,17,3050,2,20200224,1805,  25.45016, -20.80008,  4435,  1766.0,  4.5729,2,  4.5703,2, 35.1150,2, 35.1139,2,   215.7,2,   216.2,2,   23.49,2,   21.58,2,    1.44,2,  2332.4,6,  2191.6,6, -999.00,9, -999.00,9
740H20200119,A05_24N,122,1,18,3051,2,20200224,1805,  25.45016, -20.80008,  4435,  1511.9,  5.4702,2,  5.4893,2, 35.1955,2, 35.1941,2,   202.3,2,   202.1,2,   20.29,2,   21.88,2,    1.46,2,  2331.6,2,  2194.4,2, -999.00,9, -999.00,9
740H20200119,A05_24N,122,1,19,3052,2,20200224,1805,  25.45016, -20.80008,  4435,  1313.0,  6.3128,2,  6.3163,2, 35.2445,2, 35.2405,2,   183.6,2,   183.6,2,   18.87,2,   23.00,2,    1.52,2,  2331.2,2,  2200.7,2, -999.00,9, -999.00,9
740H20200119,A05_24N,122,1,20,3053,2,20200224,1805,  25.45016, -20.80008,  4435,  1160.9,  6.8305,2,  6.8324,2, 35.2334,2, 35.2357,2,   167.6,2,   167.5,2,   18.57,2,   24.34,2,    1.60,2,  2329.2,6,  2205.0,6, -999.00,9, -999.00,9
740H20200119,A05_24N,122,1,21,3054,2,20200224,1805,  25.45016, -20.80008,  4435,  1059.6,  6.9577,2,  6.9632,2, 35.1819,2, 35.1834,2,   157.5,2,   157.3,2,   18.88,2,   25.60,2,    1.69,2,  2326.0,2,  2207.8,2, -999.00,9, -999.00,9
740H20200119,A05_24N,122,1,22,3055,2,20200224,1805,  25.45016, -20.80008,  4435,   958.0,  7.3392,2,  7.3656,2, 35.1623,2, 35.1599,2,   145.4,2,   145.4,2,   18.71,2,   26.59,2,    1.75,2,  2321.4,2,  2209.5,2, -999.00,9, -999.00,9
740H20200119,A05_24N,122,1,23,3056,2,20200224,1805,  25.45016, -20.80008,  4435,   856.2,  8.2135,2,  8.2219,2, 35.2260,2, 35.2227,2,   135.5,2,   135.4,2,   17.07,2,   26.57,2,    1.71,2,  2324.5,6,  2210.5,6, -999.00,9, -999.00,9
740H20200119,A05_24N,122,1,24,3057,2,20200224,1805,  25.45016, -20.80008,  4435,   755.2,  9.0990,2,  9.1118,2, 35.3048,2, 35.3004,2,   129.7,2,   129.1,2,   15.02,2,   25.96,2,    1.64,2,  2325.3,2,  2208.8,2, -999.00,9, -999.00,9
740H20200119,A05_24N,122,1,1,3034,2,20200224,1805,  25.45016, -20.80008,  4435,   653.7, 10.3481,2, 10.3486,2, 35.4350,2, 35.4314,2,   130.9,2,   130.9,2,   11.79,2,   23.66,2,    1.48,2,  2327.8,2,  2198.0,2, -999.00,9, -999.00,9
740H20200119,A05_24N,122,1,2,3035,2,20200224,1805,  25.45016, -20.80008,  4435,   502.3, 12.0912,2, 12.1116,2, 35.6501,2, 35.6303,2,   167.3,2,   160.9,2,    7.15,2,   17.63,2,    1.06,2,  2337.7,6,  2184.1,6, -999.00,9, -999.00,9
740H20200119,A05_24N,122,1,3,3036,2,20200224,1805,  25.45016, -20.80008,  4435,   375.5, 13.8639,2, 13.8619,2, 35.8802,2, 35.8624,2,   178.9,2,   178.6,2,    4.27,2,   12.51,2,    0.75,2,  2349.9,2,  2167.0,2, -999.00,9, -999.00,9
740H20200119,A05_24N,122,1,4,3037,2,20200224,1805,  25.45016, -20.80008,  4435,   249.3, 15.7542,2, 15.8518,2, 36.1650,2, 36.1459,2,   188.3,2,   188.4,2,    2.60,2,    8.44,2,    0.51,2,  2363.9,2,  2157.1,2, -999.00,9, -999.00,9
740H20200119,A05_24N,122,1,5,6409,2,20200224,1805,  25.45016, -20.80008,  4435,   173.8, 17.7750,2, 17.7926,2, 36.5008,2, 36.4827,2,   196.0,2,   196.5,2,    1.38,2,    4.57,2,    0.26,2,  2386.9,2,  2141.1,2, -999.00,9, -999.00,9
740H20200119,A05_24N,122,1,6,6410,2,20200224,1805,  25.45016, -20.80008,  4435,   128.8, 18.5626,2, 18.5614,2, 36.6385,2, 36.6314,2,   200.9,2,   202.1,2,    0.92,2,    2.72,2,    0.16,2,  2392.8,2,  2138.5,2, -999.00,9, -999.00,9
740H20200119,A05_24N,122,1,7,6411,2,20200224,1805,  25.45016, -20.80008,  4435,    84.6, 20.4777,2, 20.4846,2, 36.9679,2, 36.9671,2,   222.2,2,   223.0,2,    0.34,2,    0.24,2,    0.08,2,  2420.6,2,  2128.7,2, -999.00,9, -999.00,9
740H20200119,A05_24N,122,1,8,6412,2,20200224,1805,  25.45016, -20.80008,  4435,    58.2, 20.5339,2, 20.5353,2, 36.9841,2, 36.9841,2,   222.6,2,   223.3,2,    0.33,2,    0.19,2,    0.06,2,  2418.9,2,  2126.7,2, -999.00,9, -999.00,9
740H20200119,A05_24N,122,1,9,6413,2,20200224,1805,  25.45016, -20.80008,  4435,    29.1, 20.6035,2, 20.6040,2, 36.9969,2, 36.9978,2,   223.3,2,   224.4,2,    0.38,2,    0.18,2,    0.05,2,  2421.2,2,  2109.6,2, -999.00,9, -999.00,9
740H20200119,A05_24N,122,1,10,6414,2,20200224,1805,  25.45016, -20.80008,  4435,     3.2, 20.6054,2, 20.6046,2, 36.9981,2, 36.9992,2,   223.4,2,   224.8,2,    0.39,2,    0.18,2,    0.05,2,  2418.5,2,  2128.6,2, -999.00,9, -999.00,9
740H20200119,A05_24N,123,1,11,3044,2,20200225,0109,  25.65000, -20.25008,  4211,  4270.0,  2.3674,2,  2.3674,2, 34.8892,2, 34.8892,2,   244.7,2,   242.7,2,   47.05,2,   22.46,2,    1.50,2,  2351.0,6,  2204.9,6, -999.00,9, -999.00,9
740H20200119,A05_24N,123,1,12,3045,2,20200225,0109,  25.65000, -20.25008,  4211,  4057.2,  2.3664,2,  2.3659,2, 34.8916,2, 34.8921,2,   244.0,2,   242.3,2,   46.39,2,   22.41,2,    1.50,2,  2351.5,6,  2203.1,6, -999.00,9, -999.00,9
740H20200119,A05_24N,123,1,13,3046,2,20200225,0109,  25.65000, -20.25008,  4211,  3552.2,  2.4652,2,  2.4639,2, 34.9062,2, 34.9057,2,   237.7,2,   236.8,2,   44.55,2,   22.44,2,    1.50,2,  2353.9,6,  2208.2,6, -999.00,9, -999.00,9
740H20200119,A05_24N,123,1,14,7131,2,20200225,0109,  25.65000, -20.25008,  4211,  3043.2,  2.7365,2,  2.7380,2, 34.9337,2, 34.9327,2,   235.4,2,   234.3,2,   38.94,2,   21.93,2,    1.49,2,  2347.2,2,  2202.4,2, -999.00,9, -999.00,9
740H20200119,A05_24N,123,1,15,3048,2,20200225,0109,  25.65000, -20.25008,  4211,  2535.7,  3.1949,2,  3.2052,2, 34.9800,2, 34.9793,2,   233.3,2,   232.5,2,   32.87,2,   21.52,2,    1.45,2,  2339.9,2,  2195.2,2, -999.00,9, -999.00,9
740H20200119,A05_24N,123,1,16,3049,2,20200225,0109,  25.65000, -20.25008,  4211,  2024.6,  3.9718,2,  3.9721,2, 35.0554,2, 35.0551,2,   223.3,2,   223.3,2,   26.75,2,   21.49,2,    1.45,2,  2331.9,6,  2192.9,6, -999.00,9, -999.00,9
740H20200119,A05_24N,123,1,17,3050,2,20200225,0109,  25.65000, -20.25008,  4211,  1642.2,  4.9037,2,  4.9319,2, 35.1471,2, 35.1477,2,   210.1,2,   209.7,2,   22.34,2,   21.64,2,    1.45,2,  2331.1,2,  2194.5,2, -999.00,9, -999.00,9
740H20200119,A05_24N,123,1,18,3051,2,20200225,0109,  25.65000, -20.25008,  4211,  1412.9,  5.7931,2,  5.7924,2, 35.1964,2, 35.1947,2,   190.5,2,   191.1,2,   19.80,2,   22.78,2,    1.50,2,  2327.6,2,  2196.9,2, -999.00,9, -999.00,9
740H20200119,A05_24N,123,1,19,3052,2,20200225,0109,  25.65000, -20.25008,  4211,  1211.9,  6.4670,2,  6.4779,2, 35.1993,2, 35.1989,2,   172.2,2,   171.4,2,   18.92,2,   24.30,2,    1.60,2,  2327.3,2,  2203.6,2, -999.00,9, -999.00,9
740H20200119,A05_24N,123,1,20,3053,2,20200225,0109,  25.65000, -20.25008,  4211,  1110.7,  6.8702,2,  6.8688,2, 35.1973,2, 35.2004,2,   161.5,2,   160.8,2,   18.60,2,   25.17,2,    1.64,2,  2324.8,2,  2204.0,2, -999.00,9, -999.00,9
740H20200119,A05_24N,123,1,21,3054,2,20200225,0109,  25.65000, -20.25008,  4211,  1008.5,  7.2001,2,  7.2228,2, 35.1757,2, 35.1748,2,   149.1,2,   148.0,2,   18.54,2,   26.45,2,    1.72,2,  2323.4,6,  2209.1,6, -999.00,9, -999.00,9
740H20200119,A05_24N,123,1,22,3055,2,20200225,0109,  25.65000, -20.25008,  4211,   909.0,  7.7773,2,  7.7715,2, 35.1913,2, 35.1893,2,   136.5,2,   135.9,2,   17.75,2,   27.12,2,    1.74,2,  2320.9,6,  2213.4,6, -999.00,9, -999.00,9
740H20200119,A05_24N,123,1,23,3056,2,20200225,0109,  25.65000, -20.25008,  4211,   807.5,  8.6304,2,  8.6888,2, 35.2541,2, 35.2489,2,   128.7,2,   128.3,2,   15.87,2,   26.75,2,    1.70,2,  2323.5,2,  2213.7,2, -999.00,9, -999.00,9
740H20200119,A05_24N,123,1,24,3057,2,20200225,0109,  25.65000, -20.25008,  4211,   705.4,  9.7212,2,  9.7761,2, 35.3673,2, 35.3622,2,   128.5,2,   127.7,2,   13.18,2,   24.98,2,    1.55,2,  2326.3,2,  2208.3,2, -999.00,9, -999.00,9
740H20200119,A05_24N,123,1,1,3034,2,20200225,0109,  25.65000, -20.25008,  4211,   605.6, 11.0339,2, 11.0449,2, 35.5210,2, 35.5078,2,   143.5,2,   142.1,2,    9.69,2,   21.33,2,    1.30,2,  2331.0,2,  2195.0,2, -999.00,9, -999.00,9
740H20200119,A05_24N,123,1,2,3035,2,20200225,0109,  25.65000, -20.25008,  4211,   403.4, 13.6607,2, 13.6852,2, 35.8522,2, 35.8329,2,   175.0,2,   173.0,2,    4.57,2,   13.49,2,    0.79,2,  2347.3,2,  2171.0,2, -999.00,9, -999.00,9
740H20200119,A05_24N,123,1,3,3036,2,20200225,0109,  25.65000, -20.25008,  4211,   302.0, 15.1801,2, 15.1974,2, 36.0738,2, 36.0596,2,   187.3,2,   186.7,2,    2.88,2,    9.48,2,    0.55,2,  2360.2,2,  2156.1,2, -999.00,9, -999.00,9
740H20200119,A05_24N,123,1,4,3037,2,20200225,0109,  25.65000, -20.25008,  4211,   202.7, 17.4231,2, 17.4117,2, 36.4591,2, 36.4424,2,   192.9,2,   193.5,2,    1.43,2,    5.27,2,    0.31,2,  2382.2,2,  2147.8,2, -999.00,9, -999.00,9
740H20200119,A05_24N,123,1,5,6409,2,20200225,0109,  25.65000, -20.25008,  4211,   151.7, 18.6123,2, 18.5940,2, 36.6435,2, 36.5969,2,   198.1,2,   191.3,2,    1.23,2,    4.44,2,    0.26,2,  2392.7,2,  2151.1,2, -999.00,9, -999.00,9
740H20200119,A05_24N,123,1,6,6410,2,20200225,0109,  25.65000, -20.25008,  4211,   101.2, 20.4078,2, 20.4093,2, 37.0008,2, 36.9574,2,   221.9,2,   219.4,2,    0.48,2,    0.57,2,    0.06,2,  2416.0,2,  2131.8,2, -999.00,9, -999.00,9
740H20200119,A05_24N,123,1,7,6411,2,20200225,0109,  25.65000, -20.25008,  4211,    75.7, 20.4261,2, 20.4252,2, 37.0069,2, 37.0091,2,   221.7,2,   222.0,2,    0.43,2,    0.20,2,    0.04,2,  2420.9,2,  2131.4,2, -999.00,9, -999.00,9
740H20200119,A05_24N,123,1,8,6412,2,20200225,0109,  25.65000, -20.25008,  4211,    56.7, 20.4039,2, 20.4024,2, 36.9977,2, 36.9992,2,   224.3,2,   223.8,2,    0.38,2,    0.17,2,    0.04,2,  2418.9,2,  2127.8,2, -999.00,9, -999.00,9
740H20200119,A05_24N,123,1,9,6413,2,20200225,0109,  25.65000, -20.25008,  4211,    26.4, 20.3945,2, 20.3913,2, 36.9957,2, 36.9972,2,   224.6,2,   224.2,2,    0.38,2,    0.16,2,    0.03,2,  2421.1,2,  2129.0,2, -999.00,9, -999.00,9
740H20200119,A05_24N,123,1,10,6414,2,20200225,0109,  25.65000, -20.25008,  4211,     6.3, 20.3903,2, 20.3889,2, 36.9953,2, 36.9963,2,   224.5,2,   224.4,2,    0.42,2,    0.18,2,    0.03,2,  2417.8,2,  2126.4,2, -999.00,9, -999.00,9
740H20200119,A05_24N,124,1,11,3044,2,20200225,0900,  25.91657, -19.48405,  3784,  3831.4,  2.4034,2,  2.4031,2, 34.8968,2, 34.8974,2,   237.9,2,   236.6,2,   46.83,2,   22.64,2,    1.51,2,  2359.1,6,  2211.7,6, -999.00,9, -999.00,9
740H20200119,A05_24N,124,1,12,3045,2,20200225,0900,  25.91657, -19.48405,  3784,  3294.5,  2.6205,2,  2.6182,2, 34.9202,2, 34.9204,2,   231.2,2,   230.1,2,   42.86,2,   22.41,2,    1.50,2,  2353.8,2,  2213.3,2, -999.00,9, -999.00,9
740H20200119,A05_24N,124,1,13,3046,2,20200225,0900,  25.91657, -19.48405,  3784,  2786.4,  3.0306,2,  3.0263,2, 34.9618,2, 34.9605,2,   230.7,2,   229.8,2,   36.35,2,   21.78,2,    1.48,2,  2345.7,2,  2203.6,2, -999.00,9, -999.00,9
740H20200119,A05_24N,124,1,14,7131,2,20200225,0900,  25.91657, -19.48405,  3784,  2279.2,  3.7132,2,  3.7081,2, 35.0305,2, 35.0305,2,   223.8,2,   223.7,2,   30.11,2,   21.60,2,    1.45,2,  2335.7,6,  2197.1,6, -999.00,9, -999.00,9
740H20200119,A05_24N,124,1,15,3048,2,20200225,0900,  25.91657, -19.48405,  3784,  1768.2,  4.8640,2,  4.8538,2, 35.1396,2, 35.1404,2,   208.7,2,   209.8,2,   23.20,2,   21.87,2,    1.44,2,  2332.8,2,  2196.7,2, -999.00,9, -999.00,9
740H20200119,A05_24N,124,1,16,3049,2,20200225,0900,  25.91657, -19.48405,  3784,  1514.2,  5.7880,2,  5.8068,2, 35.2222,2, 35.2217,2,   194.6,2,   194.2,2,   20.21,2,   22.38,2,    1.45,2,  2335.8,2,  2196.3,2, -999.00,9, -999.00,9
740H20200119,A05_24N,124,1,17,3050,2,20200225,0900,  25.91657, -19.48405,  3784,  1311.1,  6.4870,2,  6.4900,2, 35.2473,2, 35.2473,2,   178.3,2,   177.9,2,   18.76,2,   23.45,2,    1.52,2,  2333.0,2,  2202.4,2, -999.00,9, -999.00,9
740H20200119,A05_24N,124,1,18,3051,2,20200225,0900,  25.91657, -19.48405,  3784,  1158.6,  6.9083,2,  6.8989,2, 35.2030,2, 35.2078,2,   159.6,2,   161.2,2,   18.62,2,   25.16,2,    1.62,2,  2329.1,2,  2207.2,2, -999.00,9, -999.00,9
740H20200119,A05_24N,124,1,19,3052,2,20200225,0900,  25.91657, -19.48405,  3784,  1062.3,  7.2214,2,  7.2714,2, 35.1987,2, 35.1961,2,   150.5,2,   150.8,2,   18.63,2,   26.11,2,    1.68,2,  2325.5,2,  2208.7,2, -999.00,9, -999.00,9
740H20200119,A05_24N,124,1,20,3053,2,20200225,0900,  25.91657, -19.48405,  3784,   960.8,  7.6964,2,  7.7540,2, 35.1642,2, 35.1530,2,   130.9,2,   129.9,2,   18.71,2,   28.14,2,    1.81,2,  2322.4,2,  2216.3,2, -999.00,9, -999.00,9
740H20200119,A05_24N,124,1,21,3054,2,20200225,0900,  25.91657, -19.48405,  3784,   859.7,  7.9266,2,  7.9211,2, 35.1158,2, 35.1196,2,   111.0,2,   110.9,2,   18.89,2,   30.01,2,    1.91,2,  2318.1,2,  2226.3,2, -999.00,9, -999.00,9
740H20200119,A05_24N,124,1,22,3055,2,20200225,0900,  25.91657, -19.48405,  3784,   783.8,  8.4875,2,  8.5349,2, 35.1603,2, 35.1531,2,   101.9,2,   101.6,2,   17.88,2,   30.26,2,    1.92,2,  2318.3,2,  2226.4,2, -999.00,9, -999.00,9
740H20200119,A05_24N,124,1,23,3056,2,20200225,0900,  25.91657, -19.48405,  3784,   657.4, 10.6234,2, 10.6852,2, 35.4607,2, 35.4483,2,   129.9,2,   128.9,2,   11.41,2,   23.70,2,    1.44,2,  2329.0,6,  2207.1,6, -999.00,9, -999.00,9
740H20200119,A05_24N,124,1,24,3057,2,20200225,0900,  25.91657, -19.48405,  3784,   606.5, 11.3795,2, 11.4447,2, 35.5567,2, 35.5407,2,   140.3,2,   138.3,2,    9.23,2,   21.34,2,    1.27,2,  2331.2,2,  2203.5,2, -999.00,9, -999.00,9
740H20200119,A05_24N,124,1,1,3034,2,20200225,0900,  25.91657, -19.48405,  3784,   505.1, 12.8734,2, 12.9165,2, 35.7460,2, 35.7344,2,   168.0,2,   167.5,2,    5.56,2,   15.54,2,    0.91,2,  2342.9,2,  2178.4,2, -999.00,9, -999.00,9
740H20200119,A05_24N,124,1,2,3035,2,20200225,0900,  25.91657, -19.48405,  3784,   454.4, 13.4374,2, 13.4342,2, 35.8231,2, 35.8147,2,   170.1,2,   169.6,2,    4.82,2,   14.25,2,    0.83,2,  2344.5,6,  2175.9,6, -999.00,9, -999.00,9
740H20200119,A05_24N,124,1,3,3036,2,20200225,0900,  25.91657, -19.48405,  3784,   354.1, 14.5861,2, 14.6009,2, 35.9574,2, 35.9512,2,   139.6,2,   141.0,2,    5.13,2,   15.59,2,    0.91,2,  2351.3,2,  2189.2,2, -999.00,9, -999.00,9
740H20200119,A05_24N,124,1,4,3037,2,20200225,0900,  25.91657, -19.48405,  3784,   303.5, 15.3165,2, 15.3232,2, 36.0616,2, 36.0498,2,   147.7,2,   147.1,2,    4.38,2,   13.81,2,    0.82,2,  2357.7,2,  2183.4,2, -999.00,9, -999.00,9
740H20200119,A05_24N,124,1,5,6409,2,20200225,0900,  25.91657, -19.48405,  3784,   202.4, 17.4150,2, 17.4341,2, 36.3872,2, 36.3690,2,   167.6,2,   168.4,2,    2.67,2,    8.91,2,    0.56,2,  2375.7,2,  2169.0,2, -999.00,9, -999.00,9
740H20200119,A05_24N,124,1,6,6410,2,20200225,0900,  25.91657, -19.48405,  3784,   101.2, 19.4495,2, 19.4558,2, 36.7857,2, 36.7859,2,   218.4,2,   219.6,2,    0.57,2,    1.16,2,    0.13,2,  2408.0,2,  2133.7,2, -999.00,9, -999.00,9
740H20200119,A05_24N,124,1,7,6411,2,20200225,0900,  25.91657, -19.48405,  3784,    76.7, 19.5565,2, 19.5618,2, 36.7946,2, 36.7943,2,   222.2,2,   222.8,2,    0.54,2,    0.80,2,    0.11,2,  2407.1,2,  2132.6,2, -999.00,9, -999.00,9
740H20200119,A05_24N,124,1,8,6412,2,20200225,0900,  25.91657, -19.48405,  3784,    51.5, 19.6316,2, 19.6334,2, 36.8142,2, 36.8151,2,   226.4,2,   227.5,2,    0.47,2,    0.21,2,    0.07,2,  2410.8,6,  2126.3,6, -999.00,9, -999.00,9
740H20200119,A05_24N,124,1,9,6413,2,20200225,0900,  25.91657, -19.48405,  3784,    26.2, 19.7112,2, 19.7141,2, 36.8087,2, 36.8099,2,   229.8,2,   229.9,2,    0.53,2,    0.17,2,    0.06,2,  2409.4,2,  2120.7,2, -999.00,9, -999.00,9
740H20200119,A05_24N,124,1,10,6414,2,20200225,0900,  25.91657, -19.48405,  3784,     8.3, 19.7389,2, 19.7326,2, 36.8034,2, 36.8047,2,   229.3,2,   230.1,2,    0.52,2,    0.19,2,    0.07,2,  2408.6,6,  2125.7,6, -999.00,9, -999.00,9