BOTTLE,20221012CCHSIOENA
EXPOCODE,SECT_ID,STNNBR,CASTNO,SAMPNO,BTLNBR,BTLNBR_FLAG_W,DATE,TIME,LATITUDE,LONGITUDE,DEPTH,CTDPRS,CTDTMP,CTDTMP_FLAG_W,SBE35,SBE35_FLAG_W,CTDSAL,CTDSAL_FLAG_W,SALNTY,SALNTY_FLAG_W,CTDOXY,CTDOXY_FLAG_W,OXYGEN,OXYGEN_FLAG_W,SILCAT,SILCAT_FLAG_W,NO2+NO3,NO2+NO3_FLAG_W,PHSPHT,PHSPHT_FLAG_W,ALKALI,ALKALI_FLAG_W,TCARBN,TCARBN_FLAG_W,DELC14,DELC14_FLAG_W,DELC13,DELC13_FLAG_W
 , , , , , , , , , , , ,DBAR,ITS-90, ,ITS-90, ,PSS-78, ,PSS-78, ,UMOL/KG, ,UMOL/KG, ,UMOL/KG, ,UMOL/KG, ,UMOL/KG, ,UMOL/KG, ,UMOL/KG, ,/MILLE, ,/MILLE, 
740H20200119,A05_24N,26,1,1,5977,2,20200124,2331,  26.49929, -76.30032,  4836,  4911.5,  2.1956,2,-999.0000,9, 34.8718,2,-999.0000,9,   255.8,2,   259.0,2,   42.46,2,   20.70,2,    1.40,2,  2337.0,6,  2201.2,2, -999.00,9, -999.00,9
740H20200119,A05_24N,26,1,2,6406,2,20200124,2331,  26.49929, -76.30032,  4836,  4590.6,  2.2449,2,-999.0000,9, 34.8827,2,-999.0000,9,   260.9,2,   265.4,2,   35.21,2,   19.45,2,    1.31,2,  2331.8,2,  2187.6,2, -999.00,9, -999.00,9
740H20200119,A05_24N,26,1,3,6407,2,20200124,2331,  26.49929, -76.30032,  4836,  4071.9,  2.2832,2,-999.0000,9, 34.8915,2,-999.0000,9,   265.2,2,   269.6,2,   29.40,2,   18.55,2,    1.24,2,  2322.3,2,  2180.7,2, -999.00,9, -999.00,9
740H20200119,A05_24N,26,1,4,6408,2,20200124,2331,  26.49929, -76.30032,  4836,  3554.3,  2.3856,2,-999.0000,9, 34.9016,2,-999.0000,9,   267.8,2,   272.1,2,   24.78,2,   17.87,2,    1.19,2,  2317.2,2,  2175.5,2, -999.00,9, -999.00,9
740H20200119,A05_24N,26,1,5,6409,2,20200124,2331,  26.49929, -76.30032,  4836,  3037.4,  2.6846,2,-999.0000,9, 34.9197,2,-999.0000,9,   266.7,2,   271.1,2,   21.11,2,   17.74,2,    1.17,2,  2311.5,2,  2170.3,2, -999.00,9, -999.00,9
740H20200119,A05_24N,26,1,6,6410,2,20200124,2331,  26.49929, -76.30032,  4836,  2523.0,  3.1545,2,-999.0000,9, 34.9461,2,-999.0000,9,   262.2,2,   265.7,2,   19.04,2,   18.15,2,    1.19,2,  2313.8,2,  2174.6,2, -999.00,9, -999.00,9
740H20200119,A05_24N,26,1,7,6411,2,20200124,2331,  26.49929, -76.30032,  4836,  2265.7,  3.4194,2,-999.0000,9, 34.9594,2,-999.0000,9,   260.5,2,   264.3,2,   17.25,2,   18.12,2,    1.19,2,  2309.8,2,  2157.6,2, -999.00,9, -999.00,9
740H20200119,A05_24N,26,1,8,6412,2,20200124,2331,  26.49929, -76.30032,  4836,  2010.4,  3.6311,2,-999.0000,9, 34.9660,2,-999.0000,9,   260.5,2,   264.2,2,   15.28,2,   18.00,2,    1.17,2,  2309.5,6,  2167.9,6, -999.00,9, -999.00,9
740H20200119,A05_24N,26,1,9,6413,2,20200124,2331,  26.49929, -76.30032,  4836,  1754.5,  3.9947,2,-999.0000,9, 34.9855,2,-999.0000,9,   256.4,2,   261.1,2,   13.62,2,   18.06,2,    1.18,2,  2309.1,2,  2169.0,2, -999.00,9, -999.00,9
740H20200119,A05_24N,26,1,10,6414,2,20200124,2331,  26.49929, -76.30032,  4836,  1499.8,  4.3485,2,-999.0000,9, 35.0012,2,-999.0000,9,   252.0,2,   255.9,2,   12.60,2,   18.18,2,    1.18,2,  2307.0,2,  2171.4,2, -999.00,9, -999.00,9
740H20200119,A05_24N,26,1,11,6415,2,20200124,2331,  26.49929, -76.30032,  4836,  1245.8,  5.0752,2,-999.0000,9, 35.0438,2,-999.0000,9,   234.9,2,   238.7,2,   12.65,2,   19.05,2,    1.23,2,  2311.6,2,  2178.4,2, -999.00,9, -999.00,9
740H20200119,A05_24N,26,1,12,6416,2,20200124,2331,  26.49929, -76.30032,  4836,   992.2,  6.9689,2,-999.0000,9, 35.0795,2,-999.0000,9,   174.7,2,   178.1,2,   15.78,2,   23.93,2,    1.52,2,  2314.8,2,  2192.1,2, -999.00,9, -999.00,9
740H20200119,A05_24N,26,1,13,6417,2,20200124,2331,  26.49929, -76.30032,  4836,   866.9,  8.7750,2,-999.0000,9, 35.1731,2,-999.0000,9,   144.8,2,   149.4,2,   14.79,2,   25.10,2,    1.57,2,  2323.9,2,  2203.2,2, -999.00,9, -999.00,9
740H20200119,A05_24N,26,1,14,6418,2,20200124,2331,  26.49929, -76.30032,  4836,   740.6, 11.3632,2,-999.0000,9, 35.4651,2,-999.0000,9,   143.6,2,   147.7,2,   10.01,2,   20.98,2,    1.27,2,  2330.2,2,  2185.6,2, -999.00,9, -999.00,9
740H20200119,A05_24N,26,1,15,6419,2,20200124,2331,  26.49929, -76.30032,  4836,   614.4, 14.2939,2,-999.0000,9, 35.8956,2,-999.0000,9,   158.8,2,   163.6,2,    5.20,2,   14.50,2,    0.83,2,  2356.1,6,  2173.0,6, -999.00,9, -999.00,9
740H20200119,A05_24N,26,1,16,6420,2,20200124,2331,  26.49929, -76.30032,  4836,   488.9, 17.0039,2,-999.0000,9, 36.3374,2,-999.0000,9,   174.3,2,   178.0,2,    2.73,2,    9.12,2,    0.48,2,  2371.5,2,  2144.4,2, -999.00,9, -999.00,9
740H20200119,A05_24N,26,1,17,1122,2,20200124,2331,  26.49929, -76.30032,  4836,   377.8, 18.5153,2,-999.0000,9, 36.5666,2,-999.0000,9,   189.6,2,   192.2,2,    1.35,2,    4.89,2,    0.21,2,  2387.8,2,  2134.4,2, -999.00,9, -999.00,9
740H20200119,A05_24N,26,1,18,1098,2,20200124,2331,  26.49929, -76.30032,  4836,   251.8, 19.3336,2,-999.0000,9, 36.6602,2,-999.0000,9,   196.1,2,   199.9,2,    0.84,2,    2.80,2,    0.09,2,  2392.8,2,  2115.3,2, -999.00,9, -999.00,9
740H20200119,A05_24N,26,1,19,6692,2,20200124,2331,  26.49929, -76.30032,  4836,   201.0, 20.0224,2,-999.0000,9, 36.7171,2,-999.0000,9,   190.4,2,   194.0,2,    0.70,2,    2.19,2,    0.06,2,  2399.6,2,  2115.6,2, -999.00,9, -999.00,9
740H20200119,A05_24N,26,1,20,6428,2,20200124,2331,  26.49929, -76.30032,  4836,   176.3, 20.5222,2,-999.0000,9, 36.7675,2,-999.0000,9,   187.6,2,   190.6,2,    0.64,2,    1.78,2,    0.04,2,  2400.2,2,  2122.9,2, -999.00,9, -999.00,9
740H20200119,A05_24N,26,1,21,6425,2,20200124,2331,  26.49929, -76.30032,  4836,   151.4, 21.5221,2,-999.0000,9, 36.8050,2,-999.0000,9,   192.1,2,   194.4,2,    0.60,2,    1.33,2,    0.03,2,  2406.0,2,  2109.9,2, -999.00,9, -999.00,9
740H20200119,A05_24N,26,1,22,6426,2,20200124,2331,  26.49929, -76.30032,  4836,   100.6, 23.4598,2,-999.0000,9, 36.7346,2,-999.0000,9,   207.4,2,   208.2,2,    0.64,2,    0.40,2,    0.00,2,  2396.9,2,  2072.6,2, -999.00,9, -999.00,9
740H20200119,A05_24N,26,1,23,6427,2,20200124,2331,  26.49929, -76.30032,  4836,    50.7, 23.5873,2,-999.0000,9, 36.7382,2,-999.0000,9,   208.3,2,   211.2,2,    0.69,2,    0.36,2,    0.00,2,  2401.2,2,  2064.1,2, -999.00,9, -999.00,9
740H20200119,A05_24N,26,1,24,1086,2,20200124,2331,  26.49929, -76.30032,  4836,     2.8, 23.8880,2,-999.0000,9, 36.7798,2,-999.0000,9,   207.0,2,   210.2,2,    0.77,2,    0.40,2,    0.00,2,  2400.1,6,  2063.9,6, -999.00,9, -999.00,9
740H20200119,A05_24N,27,1,1,5977,4,20200125,0436,  26.49717, -76.22712,  4816,  4891.2,  2.2010,2,-999.0000,9, 34.8728,2, 34.8869,4,   255.8,2,   266.2,4,   32.70,4,   18.92,4,    1.28,4,  2325.0,4,  2177.9,4, -999.00,9, -999.00,9
740H20200119,A05_24N,27,1,2,6406,2,20200125,0436,  26.49717, -76.22712,  4816,  4833.7,  2.2024,2,-999.0000,9, 34.8738,2, 34.8738,2,   256.0,2,   259.0,2,   41.11,2,   20.30,2,    1.38,2,  2324.1,6,  2189.7,2, -999.00,9, -999.00,9
740H20200119,A05_24N,27,1,3,6407,2,20200125,0436,  26.49717, -76.22712,  4816,  4314.1,  2.2445,2,-999.0000,9, 34.8859,2, 34.8859,2,   262.2,2,   266.2,2,   32.71,2,   18.93,2,    1.28,2,  2326.2,6,  2189.3,6, -999.00,9, -999.00,9
740H20200119,A05_24N,27,1,4,6408,2,20200125,0436,  26.49717, -76.22712,  4816,  3807.3,  2.3107,2,-999.0000,9, 34.8953,2, 34.8954,2,   266.5,2,   269.7,2,   27.18,2,   18.03,2,    1.21,2,  2321.6,6,  2186.8,6, -999.00,9, -999.00,9
740H20200119,A05_24N,27,1,5,6409,2,20200125,0436,  26.49717, -76.22712,  4816,  3290.4,  2.5038,2,-999.0000,9, 34.9094,2, 34.9074,2,   268.1,2,   271.8,2,   22.51,2,   17.47,2,    1.17,2,  2314.9,2,  2165.8,2, -999.00,9, -999.00,9
740H20200119,A05_24N,27,1,6,6410,2,20200125,0436,  26.49717, -76.22712,  4816,  2785.5,  2.8954,2,-999.0000,9, 34.9317,2, 34.9326,2,   264.5,2,   267.9,2,   20.01,2,   17.75,2,    1.18,2,  2318.4,2,  2171.0,2, -999.00,9, -999.00,9
740H20200119,A05_24N,27,1,7,6411,2,20200125,0436,  26.49717, -76.22712,  4816,  2527.3,  3.1758,2,-999.0000,9, 34.9465,2, 34.9466,2,   262.2,2,   265.6,2,   18.69,2,   17.81,2,    1.18,2,  2312.9,2,  2163.0,2, -999.00,9, -999.00,9
740H20200119,A05_24N,27,1,8,6412,2,20200125,0436,  26.49717, -76.22712,  4816,  2274.9,  3.3985,2,-999.0000,9, 34.9558,2, 34.9565,2,   261.3,2,   264.4,2,   16.94,2,   17.82,2,    1.18,2,  2313.0,2,  2169.6,2, -999.00,9, -999.00,9
740H20200119,A05_24N,27,1,9,6413,2,20200125,0436,  26.49717, -76.22712,  4816,  2017.3,  3.6693,2,-999.0000,9, 34.9710,2, 34.9710,2,   259.4,2,   262.2,2,   15.36,2,   17.85,2,    1.18,2,  2309.2,2,  2162.1,2, -999.00,9, -999.00,9
740H20200119,A05_24N,27,1,10,6414,2,20200125,0436,  26.49717, -76.22712,  4816,  1766.3,  3.9319,2,-999.0000,9, 34.9832,2, 34.9821,2,   257.0,2,   260.6,2,   13.94,2,   17.92,2,    1.18,2,  2308.9,2,  2173.3,2, -999.00,9, -999.00,9
740H20200119,A05_24N,27,1,11,6415,2,20200125,0436,  26.49717, -76.22712,  4816,  1517.2,  4.4287,2,-999.0000,9, 35.0255,2, 35.0254,2,   248.1,2,   251.2,2,   13.36,2,   18.28,2,    1.20,2,  2310.9,2,  2164.9,2, -999.00,9, -999.00,9
740H20200119,A05_24N,27,1,12,6416,2,20200125,0436,  26.49717, -76.22712,  4816,  1263.3,  5.0131,2,-999.0000,9, 35.0388,2, 35.0357,2,   237.1,2,   240.6,2,   12.46,2,   18.68,2,    1.21,2,  2312.1,2,  2183.2,2, -999.00,9, -999.00,9
740H20200119,A05_24N,27,1,13,6417,2,20200125,0436,  26.49717, -76.22712,  4816,  1009.3,  6.6579,2,-999.0000,9, 35.0810,2, 35.0819,2,   185.9,2,   187.6,2,   15.02,2,   22.60,2,    1.46,2,  2313.9,2,  2183.5,2, -999.00,9, -999.00,9
740H20200119,A05_24N,27,1,14,6418,2,20200125,0436,  26.49717, -76.22712,  4816,   882.2,  8.5112,2,-999.0000,9, 35.1571,2, 35.1558,2,   148.3,2,   148.9,2,   15.12,2,   24.86,2,    1.57,2,  2319.4,2,  2204.0,2, -999.00,9, -999.00,9
740H20200119,A05_24N,27,1,15,6419,2,20200125,0436,  26.49717, -76.22712,  4816,   755.5, 11.3284,2,-999.0000,9, 35.4535,2, 35.4411,2,   142.5,2,   143.1,2,   10.48,2,   21.51,2,    1.31,2,  2330.1,6,  2185.9,6, -999.00,9, -999.00,9
740H20200119,A05_24N,27,1,16,6420,2,20200125,0436,  26.49717, -76.22712,  4816,   628.5, 14.0019,2,-999.0000,9, 35.8597,2, 35.8003,2,   157.2,2,   156.4,2,    6.07,2,   15.77,2,    0.92,2,  2344.3,2,  2165.6,2, -999.00,9, -999.00,9
740H20200119,A05_24N,27,1,17,1122,2,20200125,0436,  26.49717, -76.22712,  4816,   502.2, 16.4295,2,-999.0000,9, 36.2389,2, 36.2110,2,   173.2,2,   173.5,2,    3.17,2,    9.91,2,    0.54,2,  2370.2,2,  2152.5,2, -999.00,9, -999.00,9
740H20200119,A05_24N,27,1,18,1098,2,20200125,0436,  26.49717, -76.22712,  4816,   375.8, 18.2277,2,-999.0000,9, 36.5239,2, 36.5211,2,   184.4,2,   185.9,2,    1.66,2,    5.47,2,    0.25,2,  2384.5,2,  2129.3,2, -999.00,9, -999.00,9
740H20200119,A05_24N,27,1,19,6692,2,20200125,0436,  26.49717, -76.22712,  4816,   249.7, 19.3320,2,-999.0000,9, 36.6618,2, 36.6637,2,   198.6,2,   200.8,2,    0.97,2,    2.49,2,    0.09,2,  2395.0,2,  2118.3,2, -999.00,9, -999.00,9
740H20200119,A05_24N,27,1,20,6428,2,20200125,0436,  26.49717, -76.22712,  4816,   173.7, 20.5576,2,-999.0000,9, 36.7529,2, 36.7447,2,   190.9,2,   191.9,2,    0.77,2,    1.44,2,    0.04,2,  2398.5,2,  2137.4,2, -999.00,9, -999.00,9
740H20200119,A05_24N,27,1,21,6425,2,20200125,0436,  26.49717, -76.22712,  4816,   148.3, 21.3769,2,-999.0000,9, 36.8000,2, 36.7991,2,   192.4,2,   191.7,2,    0.71,2,    1.06,2,    0.03,2,  2406.0,2,  2122.3,2, -999.00,9, -999.00,9
740H20200119,A05_24N,27,1,22,6426,2,20200125,0436,  26.49717, -76.22712,  4816,    98.0, 23.4704,2,-999.0000,9, 36.7420,2, 36.7576,2,   207.2,2,   207.5,2,    0.80,2,    0.20,2,    0.00,2,  2398.6,2,  -999.0,9, -999.00,9, -999.00,9
740H20200119,A05_24N,27,1,23,6427,2,20200125,0436,  26.49717, -76.22712,  4816,    48.6, 23.5270,2,-999.0000,9, 36.7408,2, 36.7429,2,   209.0,2,   211.4,2,    0.85,2,    0.05,2,    0.00,2,  2397.2,2,  2074.7,2, -999.00,9, -999.00,9
740H20200119,A05_24N,27,1,24,1086,2,20200125,0436,  26.49717, -76.22712,  4816,     4.5, 23.7369,2,-999.0000,9, 36.7725,2, 36.7721,2,   208.0,2,   211.1,2,    0.90,2,    0.05,2,    0.00,2,  2401.3,2,  1969.8,4, -999.00,9, -999.00,9
740H20200119,A05_24N,28,1,1,5977,2,20200125,0802,  26.50007, -76.15064,  4811,    42.1, 23.5849,2,-999.0000,9, 36.7485,2,-999.0000,9,   208.4,2,  -999.0,9, -999.00,9, -999.00,9, -999.00,9,  -999.0,9,  -999.0,9, -999.00,9, -999.00,9
740H20200119,A05_24N,28,1,2,6406,2,20200125,0802,  26.50007, -76.15064,  4811,    41.8, 23.5833,2,-999.0000,9, 36.7483,2,-999.0000,9,   207.3,2,  -999.0,9, -999.00,9, -999.00,9, -999.00,9,  -999.0,9,  -999.0,9, -999.00,9, -999.00,9
740H20200119,A05_24N,28,1,3,6407,2,20200125,0802,  26.50007, -76.15064,  4811,    42.0, 23.5822,2,-999.0000,9, 36.7480,2,-999.0000,9,   206.7,2,  -999.0,9, -999.00,9, -999.00,9, -999.00,9,  -999.0,9,  -999.0,9, -999.00,9, -999.00,9
740H20200119,A05_24N,28,1,4,6408,2,20200125,0802,  26.50007, -76.15064,  4811,    42.5, 23.5777,2,-999.0000,9, 36.7467,2,-999.0000,9,   207.9,2,  -999.0,9, -999.00,9, -999.00,9, -999.00,9,  -999.0,9,  -999.0,9, -999.00,9, -999.00,9
740H20200119,A05_24N,28,1,5,6409,2,20200125,0802,  26.50007, -76.15064,  4811,    42.8, 23.5774,2,-999.0000,9, 36.7467,2,-999.0000,9,   208.2,2,  -999.0,9, -999.00,9, -999.00,9, -999.00,9,  -999.0,9,  -999.0,9, -999.00,9, -999.00,9
740H20200119,A05_24N,28,1,6,6410,2,20200125,0802,  26.50007, -76.15064,  4811,    42.7, 23.5780,2,-999.0000,9, 36.7469,2,-999.0000,9,   208.5,2,  -999.0,9, -999.00,9, -999.00,9, -999.00,9,  -999.0,9,  -999.0,9, -999.00,9, -999.00,9
740H20200119,A05_24N,28,1,7,6411,2,20200125,0802,  26.50007, -76.15064,  4811,    42.4, 23.5766,2,-999.0000,9, 36.7464,2,-999.0000,9,   208.9,2,  -999.0,9, -999.00,9, -999.00,9, -999.00,9,  -999.0,9,  -999.0,9, -999.00,9, -999.00,9
740H20200119,A05_24N,28,1,8,6412,2,20200125,0802,  26.50007, -76.15064,  4811,    42.0, 23.5783,2,-999.0000,9, 36.7470,2,-999.0000,9,   208.4,2,  -999.0,9, -999.00,9, -999.00,9, -999.00,9,  -999.0,9,  -999.0,9, -999.00,9, -999.00,9
740H20200119,A05_24N,28,1,9,6413,2,20200125,0802,  26.50007, -76.15064,  4811,    42.1, 23.5780,2,-999.0000,9, 36.7469,2,-999.0000,9,   207.8,2,  -999.0,9, -999.00,9, -999.00,9, -999.00,9,  -999.0,9,  -999.0,9, -999.00,9, -999.00,9
740H20200119,A05_24N,28,1,10,6414,2,20200125,0802,  26.50007, -76.15064,  4811,    42.5, 23.5763,2,-999.0000,9, 36.7463,2,-999.0000,9,   208.2,2,  -999.0,9, -999.00,9, -999.00,9, -999.00,9,  -999.0,9,  -999.0,9, -999.00,9, -999.00,9
740H20200119,A05_24N,28,1,11,6415,2,20200125,0802,  26.50007, -76.15064,  4811,    42.7, 23.5749,2,-999.0000,9, 36.7463,2,-999.0000,9,   208.4,2,  -999.0,9, -999.00,9, -999.00,9, -999.00,9,  -999.0,9,  -999.0,9, -999.00,9, -999.00,9
740H20200119,A05_24N,28,1,12,6416,2,20200125,0802,  26.50007, -76.15064,  4811,    42.6, 23.5755,2,-999.0000,9, 36.7464,2,-999.0000,9,   207.9,2,  -999.0,9, -999.00,9, -999.00,9, -999.00,9,  -999.0,9,  -999.0,9, -999.00,9, -999.00,9
740H20200119,A05_24N,28,1,13,6417,2,20200125,0802,  26.50007, -76.15064,  4811,    42.2, 23.5784,2,-999.0000,9, 36.7470,2,-999.0000,9,   207.7,2,  -999.0,9, -999.00,9, -999.00,9, -999.00,9,  -999.0,9,  -999.0,9, -999.00,9, -999.00,9
740H20200119,A05_24N,28,1,14,6418,2,20200125,0802,  26.50007, -76.15064,  4811,    42.2, 23.5768,2,-999.0000,9, 36.7471,2,-999.0000,9,   208.8,2,  -999.0,9, -999.00,9, -999.00,9, -999.00,9,  -999.0,9,  -999.0,9, -999.00,9, -999.00,9
740H20200119,A05_24N,28,1,15,6419,2,20200125,0802,  26.50007, -76.15064,  4811,    42.3, 23.5792,2,-999.0000,9, 36.7474,2,-999.0000,9,   208.5,2,  -999.0,9, -999.00,9, -999.00,9, -999.00,9,  -999.0,9,  -999.0,9, -999.00,9, -999.00,9
740H20200119,A05_24N,28,1,16,6420,2,20200125,0802,  26.50007, -76.15064,  4811,    42.4, 23.5786,2,-999.0000,9, 36.7470,2,-999.0000,9,   207.8,2,  -999.0,9, -999.00,9, -999.00,9, -999.00,9,  -999.0,9,  -999.0,9, -999.00,9, -999.00,9
740H20200119,A05_24N,28,1,17,1122,2,20200125,0802,  26.50007, -76.15064,  4811,    42.3, 23.5804,2,-999.0000,9, 36.7476,2,-999.0000,9,   207.6,2,  -999.0,9, -999.00,9, -999.00,9, -999.00,9,  -999.0,9,  -999.0,9, -999.00,9, -999.00,9
740H20200119,A05_24N,28,1,18,1098,2,20200125,0802,  26.50007, -76.15064,  4811,    42.4, 23.5796,2,-999.0000,9, 36.7471,2,-999.0000,9,   208.1,2,  -999.0,9, -999.00,9, -999.00,9, -999.00,9,  -999.0,9,  -999.0,9, -999.00,9, -999.00,9
740H20200119,A05_24N,28,1,19,6692,2,20200125,0802,  26.50007, -76.15064,  4811,    42.6, 23.5767,2,-999.0000,9, 36.7465,2,-999.0000,9,   208.1,2,  -999.0,9, -999.00,9, -999.00,9, -999.00,9,  -999.0,9,  -999.0,9, -999.00,9, -999.00,9
740H20200119,A05_24N,28,1,20,6428,2,20200125,0802,  26.50007, -76.15064,  4811,    42.7, 23.5729,2,-999.0000,9, 36.7460,2,-999.0000,9,   208.5,2,  -999.0,9, -999.00,9, -999.00,9, -999.00,9,  -999.0,9,  -999.0,9, -999.00,9, -999.00,9
740H20200119,A05_24N,28,1,21,6425,2,20200125,0802,  26.50007, -76.15064,  4811,    42.6, 23.5755,2,-999.0000,9, 36.7466,2,-999.0000,9,   208.9,2,  -999.0,9, -999.00,9, -999.00,9, -999.00,9,  -999.0,9,  -999.0,9, -999.00,9, -999.00,9
740H20200119,A05_24N,28,1,22,6426,2,20200125,0802,  26.50007, -76.15064,  4811,    42.3, 23.5743,2,-999.0000,9, 36.7456,2,-999.0000,9,   208.5,2,  -999.0,9, -999.00,9, -999.00,9, -999.00,9,  -999.0,9,  -999.0,9, -999.00,9, -999.00,9
740H20200119,A05_24N,28,1,23,6427,2,20200125,0802,  26.50007, -76.15064,  4811,    42.0, 23.5725,2,-999.0000,9, 36.7453,2,-999.0000,9,   208.6,2,  -999.0,9, -999.00,9, -999.00,9, -999.00,9,  -999.0,9,  -999.0,9, -999.00,9, -999.00,9
740H20200119,A05_24N,28,1,24,1086,2,20200125,0802,  26.50007, -76.15064,  4811,    42.7, 23.5710,2,-999.0000,9, 36.7449,2,-999.0000,9,   208.5,2,  -999.0,9, -999.00,9, -999.00,9, -999.00,9,  -999.0,9,  -999.0,9, -999.00,9, -999.00,9