BOTTLE,20221012CCHSIOENA
EXPOCODE,SECT_ID,STNNBR,CASTNO,SAMPNO,BTLNBR,BTLNBR_FLAG_W,DATE,TIME,LATITUDE,LONGITUDE,DEPTH,CTDPRS,CTDTMP,CTDTMP_FLAG_W,SBE35,SBE35_FLAG_W,CTDSAL,CTDSAL_FLAG_W,SALNTY,SALNTY_FLAG_W,CTDOXY,CTDOXY_FLAG_W,OXYGEN,OXYGEN_FLAG_W,SILCAT,SILCAT_FLAG_W,NO2+NO3,NO2+NO3_FLAG_W,PHSPHT,PHSPHT_FLAG_W,ALKALI,ALKALI_FLAG_W,TCARBN,TCARBN_FLAG_W,DELC14,DELC14_FLAG_W,DELC13,DELC13_FLAG_W
 , , , , , , , , , , , ,DBAR,ITS-90, ,ITS-90, ,PSS-78, ,PSS-78, ,UMOL/KG, ,UMOL/KG, ,UMOL/KG, ,UMOL/KG, ,UMOL/KG, ,UMOL/KG, ,UMOL/KG, ,/MILLE, ,/MILLE, 
740H20200119,A05_24N,16,1,1,5977,2,20200123,0537,  26.51601, -76.82541,  1283,  1205.1,  4.8422,2,-999.0000,9, 35.0253,2,-999.0000,9,   241.1,2,  -999.0,9,   12.45,2,   18.68,2,    1.20,2,  -999.0,9,  -999.0,9, -999.00,9, -999.00,9
740H20200119,A05_24N,16,1,2,6406,2,20200123,0537,  26.51601, -76.82541,  1283,  1204.4,  4.8432,2,-999.0000,9, 35.0254,2, 35.0250,2,   240.8,2,  -999.0,9, -999.00,9, -999.00,9, -999.00,9,  2300.2,4,  2174.3,6, -999.00,9, -999.00,9
740H20200119,A05_24N,16,1,3,6407,2,20200123,0537,  26.51601, -76.82541,  1283,  1003.4,  6.6032,2,-999.0000,9, 35.0957,2, 35.0958,2,   191.5,2,  -999.0,9,   14.05,2,   21.84,2,    1.41,2,  2316.9,2,  2187.6,2, -999.00,9, -999.00,9
740H20200119,A05_24N,16,1,4,6408,4,20200123,0537,  26.51601, -76.82541,  1283,  1003.4,  6.6032,2,-999.0000,9, 35.0941,2,-999.0000,9,   191.5,2,  -999.0,9, -999.00,9, -999.00,9, -999.00,9,  -999.0,9,  -999.0,9, -999.00,9, -999.00,9
740H20200119,A05_24N,16,1,5,6409,2,20200123,0537,  26.51601, -76.82541,  1283,   881.9,  7.9946,2,-999.0000,9, 35.1585,2,-999.0000,9,   164.0,2,  -999.0,9, -999.00,9, -999.00,9, -999.00,9,  -999.0,9,  -999.0,9, -999.00,9, -999.00,9
740H20200119,A05_24N,16,1,6,6410,2,20200123,0537,  26.51601, -76.82541,  1283,   882.1,  7.9966,2,-999.0000,9, 35.1584,2, 35.1593,2,   164.0,2,  -999.0,9,   14.02,2,   23.16,2,    1.47,2,  2320.9,2,  2193.5,2, -999.00,9, -999.00,9
740H20200119,A05_24N,16,1,7,6411,2,20200123,0537,  26.51601, -76.82541,  1283,   757.2,  9.8519,2,-999.0000,9, 35.2768,2, 35.2672,2,   138.5,2,  -999.0,9,   13.22,2,   23.94,2,    1.49,2,  2321.6,2,  2193.6,2, -999.00,9, -999.00,9
740H20200119,A05_24N,16,1,8,6412,2,20200123,0537,  26.51601, -76.82541,  1283,   630.7, 13.0585,2,-999.0000,9, 35.7089,2, 35.6861,2,   148.9,2,  -999.0,9,    7.47,2,   17.74,2,    1.05,2,  2343.5,6,  2176.6,6, -999.00,9, -999.00,9
740H20200119,A05_24N,16,1,9,6413,2,20200123,0537,  26.51601, -76.82541,  1283,   630.5, 13.0489,2,-999.0000,9, 35.7080,2,-999.0000,9,   148.8,2,  -999.0,9, -999.00,9, -999.00,9, -999.00,9,  -999.0,9,  -999.0,9, -999.00,9, -999.00,9
740H20200119,A05_24N,16,1,10,6414,2,20200123,0537,  26.51601, -76.82541,  1283,   504.2, 16.2412,2,-999.0000,9, 36.2196,2, 36.2073,2,   167.6,2,  -999.0,9,    3.33,2,   10.28,2,    0.57,2,  2367.5,2,  2153.9,2, -999.00,9, -999.00,9
740H20200119,A05_24N,16,1,11,6415,2,20200123,0537,  26.51601, -76.82541,  1283,   504.1, 16.2299,2,-999.0000,9, 36.2193,2,-999.0000,9,   167.4,2,  -999.0,9, -999.00,9, -999.00,9, -999.00,9,  -999.0,9,  -999.0,9, -999.00,9, -999.00,9
740H20200119,A05_24N,16,1,12,6416,2,20200123,0537,  26.51601, -76.82541,  1283,   378.4, 18.4842,2,-999.0000,9, 36.5591,2, 36.5315,2,   187.1,2,  -999.0,9,    1.67,2,    5.21,2,    0.23,2,  2387.2,2,  2133.1,2, -999.00,9, -999.00,9
740H20200119,A05_24N,16,1,13,6417,2,20200123,0537,  26.51601, -76.82541,  1283,   378.1, 18.4782,2,-999.0000,9, 36.5594,2,-999.0000,9,   185.7,2,  -999.0,9, -999.00,9, -999.00,9, -999.00,9,  -999.0,9,  -999.0,9, -999.00,9, -999.00,9
740H20200119,A05_24N,16,1,14,6418,2,20200123,0537,  26.51601, -76.82541,  1283,   252.4, 19.7986,2,-999.0000,9, 36.7006,2, 36.7026,2,   188.9,2,  -999.0,9,    1.02,2,    2.31,2,    0.09,2,  2395.6,2,  2121.5,2, -999.00,9, -999.00,9
740H20200119,A05_24N,16,1,15,6419,2,20200123,0537,  26.51601, -76.82541,  1283,   201.7, 20.7870,2,-999.0000,9, 36.8037,2,-999.0000,9,   184.6,2,  -999.0,9, -999.00,9, -999.00,9, -999.00,9,  -999.0,9,  -999.0,9, -999.00,9, -999.00,9
740H20200119,A05_24N,16,1,16,6420,2,20200123,0537,  26.51601, -76.82541,  1283,   201.7, 20.8002,2,-999.0000,9, 36.8045,2, 36.7939,2,   184.6,2,  -999.0,9,    0.88,2,    1.55,2,    0.04,2,  2405.9,2,  2123.3,2, -999.00,9, -999.00,9
740H20200119,A05_24N,16,1,17,1122,2,20200123,0537,  26.51601, -76.82541,  1283,   151.7, 23.1697,2,-999.0000,9, 36.8697,2,-999.0000,9,   189.1,2,  -999.0,9, -999.00,9, -999.00,9, -999.00,9,  -999.0,9,  -999.0,9, -999.00,9, -999.00,9
740H20200119,A05_24N,16,1,18,1098,2,20200123,0537,  26.51601, -76.82541,  1283,   151.7, 23.1778,2,-999.0000,9, 36.8685,2, 36.8686,2,   188.5,2,  -999.0,9,    0.82,2,    0.74,2,    0.02,2,  2406.8,2,  2102.5,2, -999.00,9, -999.00,9
740H20200119,A05_24N,16,1,19,6692,2,20200123,0537,  26.51601, -76.82541,  1283,    41.6, 24.7883,2,-999.0000,9, 36.7423,2, 36.7442,2,   203.2,2,  -999.0,9,    0.99,2,    0.01,2,    0.00,2,  2403.3,2,  2063.9,2, -999.00,9, -999.00,9
740H20200119,A05_24N,16,1,20,6428,2,20200123,0537,  26.51601, -76.82541,  1283,    42.1, 24.7879,2,-999.0000,9, 36.7424,2,-999.0000,9,   203.4,2,  -999.0,9, -999.00,9, -999.00,9, -999.00,9,  -999.0,9,  -999.0,9, -999.00,9, -999.00,9
740H20200119,A05_24N,16,1,21,6425,2,20200123,0537,  26.51601, -76.82541,  1283,    40.8, 24.7878,2,-999.0000,9, 36.7423,2,-999.0000,9,   203.4,2,  -999.0,9, -999.00,9, -999.00,9, -999.00,9,  -999.0,9,  -999.0,9, -999.00,9, -999.00,9
740H20200119,A05_24N,16,1,22,6426,2,20200123,0537,  26.51601, -76.82541,  1283,    39.7, 24.7884,2,-999.0000,9, 36.7424,2,-999.0000,9,   203.8,2,  -999.0,9, -999.00,9, -999.00,9, -999.00,9,  -999.0,9,  -999.0,9, -999.00,9, -999.00,9
740H20200119,A05_24N,16,1,23,6427,2,20200123,0537,  26.51601, -76.82541,  1283,    41.5, 24.7880,2,-999.0000,9, 36.7425,2,-999.0000,9,   203.1,2,  -999.0,9, -999.00,9, -999.00,9, -999.00,9,  -999.0,9,  -999.0,9, -999.00,9, -999.00,9
740H20200119,A05_24N,16,1,24,1086,2,20200123,0537,  26.51601, -76.82541,  1283,    11.6, 24.7786,2,-999.0000,9, 36.7424,2, 36.7441,2,   201.8,2,  -999.0,9,    1.00,2,   -0.01,2,    0.00,2,  2398.6,6,  2062.5,6, -999.00,9, -999.00,9
740H20200119,A05_24N,17,1,1,5977,2,20200123,0848,  26.49813, -76.80121,  1609,  1455.1,  4.4132,2,-999.0000,9, 35.0028,2,-999.0000,9,   251.3,2,  -999.0,9, -999.00,9, -999.00,9, -999.00,9,  -999.0,9,  -999.0,9, -999.00,9, -999.00,9
740H20200119,A05_24N,17,1,2,6406,2,20200123,0848,  26.49813, -76.80121,  1609,  1455.0,  4.4123,2,-999.0000,9, 35.0026,2, 35.0028,2,   251.4,2,   250.2,3,   12.42,2,   18.01,2,    1.17,2,  2311.3,6,  2169.9,6, -999.00,9, -999.00,9
740H20200119,A05_24N,17,1,3,6407,2,20200123,0848,  26.49813, -76.80121,  1609,  1407.7,  4.4387,2,-999.0000,9, 35.0042,2,-999.0000,9,   250.6,2,  -999.0,9, -999.00,9, -999.00,9, -999.00,9,  -999.0,9,  -999.0,9, -999.00,9, -999.00,9
740H20200119,A05_24N,17,1,4,6408,2,20200123,0848,  26.49813, -76.80121,  1609,  1408.0,  4.4391,2,-999.0000,9, 35.0041,2, 35.0039,2,   250.5,2,   252.8,3,   12.45,2,   18.06,2,    1.18,2,  2309.3,6,  2166.8,6, -999.00,9, -999.00,9
740H20200119,A05_24N,17,1,5,6409,3,20200123,0848,  26.49813, -76.80121,  1609,  1253.1,  4.6806,2,-999.0000,9, 35.0176,2,-999.0000,9,   245.5,2,  -999.0,9, -999.00,9, -999.00,9, -999.00,9,  -999.0,9,  -999.0,9, -999.00,9, -999.00,9
740H20200119,A05_24N,17,1,6,6410,2,20200123,0848,  26.49813, -76.80121,  1609,  1253.2,  4.6814,2,-999.0000,9, 35.0177,2, 35.0167,2,   245.4,2,   246.8,3,   12.46,2,   18.33,2,    1.19,2,  2312.1,2,  2173.8,2, -999.00,9, -999.00,9
740H20200119,A05_24N,17,1,7,6411,2,20200123,0848,  26.49813, -76.80121,  1609,  1005.6,  6.1748,2,-999.0000,9, 35.0850,2,-999.0000,9,   203.5,2,  -999.0,9, -999.00,9, -999.00,9, -999.00,9,  -999.0,9,  -999.0,9, -999.00,9, -999.00,9
740H20200119,A05_24N,17,1,8,6412,2,20200123,0848,  26.49813, -76.80121,  1609,  1006.4,  6.1754,2,-999.0000,9, 35.0851,2, 35.0856,2,   203.4,2,   204.8,3,   13.71,2,   20.90,2,    1.37,2,  2314.2,2,  2178.4,2, -999.00,9, -999.00,9
740H20200119,A05_24N,17,1,9,6413,2,20200123,0848,  26.49813, -76.80121,  1609,   881.7,  7.5128,2,-999.0000,9, 35.1292,2, 35.1308,2,   171.4,2,   172.9,3,   14.36,2,   22.87,2,    1.48,2,  2319.7,2,  2193.6,2, -999.00,9, -999.00,9
740H20200119,A05_24N,17,1,10,6414,2,20200123,0848,  26.49813, -76.80121,  1609,   755.6, 10.3561,2,-999.0000,9, 35.3371,2, 35.3447,2,   140.4,2,   141.4,3,   11.99,2,   22.69,2,    1.41,2,  2326.3,6,  2196.7,2, -999.00,9, -999.00,9
740H20200119,A05_24N,17,1,11,6415,2,20200123,0848,  26.49813, -76.80121,  1609,   756.0, 10.3771,2,-999.0000,9, 35.3411,2,-999.0000,9,   140.4,2,  -999.0,9, -999.00,9, -999.00,9, -999.00,9,  -999.0,9,  -999.0,9, -999.00,9, -999.00,9
740H20200119,A05_24N,17,1,12,6416,2,20200123,0848,  26.49813, -76.80121,  1609,   629.1, 13.1284,2,-999.0000,9, 35.7163,2, 35.7080,2,   151.1,2,   151.7,3,    7.26,2,   17.21,2,    1.03,2,  2341.4,2,  2168.0,2, -999.00,9, -999.00,9
740H20200119,A05_24N,17,1,13,6417,2,20200123,0848,  26.49813, -76.80121,  1609,   628.7, 13.1113,2,-999.0000,9, 35.7136,2,-999.0000,9,   151.3,2,  -999.0,9, -999.00,9, -999.00,9, -999.00,9,  -999.0,9,  -999.0,9, -999.00,9, -999.00,9
740H20200119,A05_24N,17,1,14,6418,2,20200123,0848,  26.49813, -76.80121,  1609,   502.4, 16.1306,2,-999.0000,9, 36.2037,2, 36.1996,2,   166.6,2,   168.1,3,    3.41,2,   10.38,2,    0.58,2,  2370.7,2,  2155.2,2, -999.00,9, -999.00,9
740H20200119,A05_24N,17,1,15,6419,2,20200123,0848,  26.49813, -76.80121,  1609,   376.1, 18.2636,2,-999.0000,9, 36.5328,2,-999.0000,9,   184.1,2,  -999.0,9, -999.00,9, -999.00,9, -999.00,9,  -999.0,9,  -999.0,9, -999.00,9, -999.00,9
740H20200119,A05_24N,17,1,16,6420,2,20200123,0848,  26.49813, -76.80121,  1609,   376.2, 18.2994,2,-999.0000,9, 36.5366,2, 36.5173,2,   184.5,2,   184.5,3,    1.78,2,    5.51,2,    0.26,2,  2384.9,2,  2127.3,2, -999.00,9, -999.00,9
740H20200119,A05_24N,17,1,17,1122,2,20200123,0848,  26.49813, -76.80121,  1609,   250.6, 19.6094,2,-999.0000,9, 36.6830,2,-999.0000,9,   190.2,2,   192.0,3,    1.07,2,    2.47,2,    0.09,2,  2398.6,2,  2123.0,2, -999.00,9, -999.00,9
740H20200119,A05_24N,17,1,18,1098,2,20200123,0848,  26.49813, -76.80121,  1609,   174.7, 21.9154,2,-999.0000,9, 36.8838,2, 36.8780,2,   185.7,2,   186.6,3,    0.82,2,    1.05,2,    0.03,2,  2401.9,2,  2109.6,2, -999.00,9, -999.00,9
740H20200119,A05_24N,17,1,19,6692,2,20200123,0848,  26.49813, -76.80121,  1609,   174.7, 21.9330,2,-999.0000,9, 36.8816,2,-999.0000,9,   185.4,2,  -999.0,9, -999.00,9, -999.00,9, -999.00,9,  -999.0,9,  -999.0,9, -999.00,9, -999.00,9
740H20200119,A05_24N,17,1,20,6428,2,20200123,0848,  26.49813, -76.80121,  1609,   100.0, 24.7707,2,-999.0000,9, 36.7472,2, 36.7576,2,   203.0,2,   205.4,3,    0.95,2,    0.09,2,    0.00,2,  2403.1,2,  2066.5,2, -999.00,9, -999.00,9
740H20200119,A05_24N,17,1,21,6425,2,20200123,0848,  26.49813, -76.80121,  1609,    49.6, 24.7770,2,-999.0000,9, 36.7467,2,-999.0000,9,   203.1,2,  -999.0,9, -999.00,9, -999.00,9, -999.00,9,  -999.0,9,  -999.0,9, -999.00,9, -999.00,9
740H20200119,A05_24N,17,1,22,6426,2,20200123,0848,  26.49813, -76.80121,  1609,    49.7, 24.7769,2,-999.0000,9, 36.7468,2, 36.7490,2,   202.9,2,   208.8,3,    1.03,2,    0.00,2,    0.01,2,  2393.3,6,  2055.6,6, -999.00,9, -999.00,9
740H20200119,A05_24N,17,1,23,6427,2,20200123,0848,  26.49813, -76.80121,  1609,     3.8, 24.7567,2,-999.0000,9, 36.7475,2,-999.0000,9,   203.2,2,  -999.0,9, -999.00,9, -999.00,9, -999.00,9,  -999.0,9,  -999.0,9, -999.00,9, -999.00,9
740H20200119,A05_24N,17,1,24,1086,2,20200123,0848,  26.49813, -76.80121,  1609,     4.5, 24.7602,2,-999.0000,9, 36.7473,2, 36.7487,2,   203.8,2,   208.5,3,    1.04,2,   -0.01,2,    0.01,2,  2400.4,2,  2063.3,2, -999.00,9, -999.00,9
740H20200119,A05_24N,18,1,1,5977,2,20200123,1210,  26.49930, -76.78379,  2319,  2210.7,  3.6107,2,-999.0000,9, 34.9670,2,-999.0000,9,   260.0,2,  -999.0,9, -999.00,9, -999.00,9, -999.00,9,  -999.0,9,  -999.0,9, -999.00,9, -999.00,9
740H20200119,A05_24N,18,1,2,6406,2,20200123,1210,  26.49930, -76.78379,  2319,  2210.6,  3.6100,2,-999.0000,9, 34.9669,2, 34.9667,2,   260.1,2,   261.6,3,   15.56,2,   17.92,2,    1.18,2,  -999.0,9,  2156.8,2, -999.00,9, -999.00,9
740H20200119,A05_24N,18,1,3,6407,2,20200123,1210,  26.49930, -76.78379,  2319,  2117.7,  3.7243,2,-999.0000,9, 34.9732,2, 34.9729,2,   259.2,2,   260.9,3,   14.98,2,   17.93,2,    1.18,2,  2310.5,2,  2159.0,2, -999.00,9, -999.00,9
740H20200119,A05_24N,18,1,4,6408,4,20200123,1210,  26.49930, -76.78379,  2319,  2014.7,  3.7108,2,-999.0000,9, 34.9736,2,-999.0000,9,   258.9,2,  -999.0,9, -999.00,9, -999.00,9, -999.00,9,  -999.0,9,  -999.0,9, -999.00,9, -999.00,9
740H20200119,A05_24N,18,1,5,6409,2,20200123,1210,  26.49930, -76.78379,  2319,  2015.0,  3.7106,2,-999.0000,9, 34.9737,2, 34.9757,2,   258.6,2,   260.7,3,   15.03,2,   18.10,2,    1.17,2,  2314.7,2,  2168.5,2, -999.00,9, -999.00,9
740H20200119,A05_24N,18,1,6,6410,2,20200123,1210,  26.49930, -76.78379,  2319,  1860.8,  3.9003,2,-999.0000,9, 34.9813,2, 34.9817,2,   258.2,2,   259.5,3,   13.97,2,   17.91,2,    1.17,2,  2309.3,2,  2160.0,2, -999.00,9, -999.00,9
740H20200119,A05_24N,18,1,7,6411,2,20200123,1210,  26.49930, -76.78379,  2319,  1706.4,  4.0435,2,-999.0000,9, 34.9892,2,-999.0000,9,   255.8,2,  -999.0,9, -999.00,9, -999.00,9, -999.00,9,  -999.0,9,  -999.0,9, -999.00,9, -999.00,9
740H20200119,A05_24N,18,1,8,6412,2,20200123,1210,  26.49930, -76.78379,  2319,  1706.6,  4.0435,2,-999.0000,9, 34.9891,2, 34.9906,2,   256.3,2,   257.1,3,   13.44,2,   17.94,2,    1.18,2,  2313.1,2,  2161.1,2, -999.00,9, -999.00,9
740H20200119,A05_24N,18,1,9,6413,2,20200123,1210,  26.49930, -76.78379,  2319,  1501.3,  4.3986,2,-999.0000,9, 35.0013,2, 35.0034,2,   251.5,2,   254.7,3,   12.51,2,   17.98,2,    1.18,2,  2311.5,2,  2171.5,2, -999.00,9, -999.00,9
740H20200119,A05_24N,18,1,10,6414,2,20200123,1210,  26.49930, -76.78379,  2319,  1348.1,  4.4861,2,-999.0000,9, 35.0057,2,-999.0000,5,   249.7,2,   250.2,3,   12.49,2,   18.12,2,    1.18,2,  2310.1,6,  2167.6,6, -999.00,9, -999.00,9
740H20200119,A05_24N,18,1,11,6415,2,20200123,1210,  26.49930, -76.78379,  2319,  1098.7,  5.4705,2,-999.0000,9, 35.0610,2,-999.0000,9,   224.4,2,  -999.0,9, -999.00,9, -999.00,9, -999.00,9,  -999.0,9,  -999.0,9, -999.00,9, -999.00,9
740H20200119,A05_24N,18,1,12,6416,2,20200123,1210,  26.49930, -76.78379,  2319,  1099.0,  5.4722,2,-999.0000,9, 35.0613,2, 35.0657,2,   223.8,2,   224.9,3,   12.97,2,   19.46,2,    1.27,2,  2313.7,6,  2176.6,6, -999.00,9, -999.00,9
740H20200119,A05_24N,18,1,13,6417,2,20200123,1210,  26.49930, -76.78379,  2319,   852.8,  7.9228,2,-999.0000,9, 35.1381,2,-999.0000,9,   161.6,2,  -999.0,9, -999.00,9, -999.00,9, -999.00,9,  -999.0,9,  -999.0,9, -999.00,9, -999.00,9
740H20200119,A05_24N,18,1,14,6418,2,20200123,1210,  26.49930, -76.78379,  2319,   853.2,  7.9248,2,-999.0000,9, 35.1382,2, 35.1395,2,   161.8,2,   172.0,3,   14.77,2,   23.67,2,    1.51,2,  2319.4,6,  2192.9,6, -999.00,9, -999.00,9
740H20200119,A05_24N,18,1,15,6419,2,20200123,1210,  26.49930, -76.78379,  2319,   601.9, 14.0213,2,-999.0000,9, 35.8603,2,-999.0000,9,   153.9,2,  -999.0,9, -999.00,9, -999.00,9, -999.00,9,  -999.0,9,  -999.0,9, -999.00,9, -999.00,9
740H20200119,A05_24N,18,1,16,6420,2,20200123,1210,  26.49930, -76.78379,  2319,   602.3, 14.0356,2,-999.0000,9, 35.8635,2, 35.8603,2,   153.7,2,   154.2,3,    5.76,2,   15.20,2,    0.89,2,  2364.1,2,  2161.3,2, -999.00,9, -999.00,9
740H20200119,A05_24N,18,1,17,1122,2,20200123,1210,  26.49930, -76.78379,  2319,   400.9, 17.8902,2,-999.0000,9, 36.4806,2, 36.4827,2,   179.5,2,   180.2,3,    1.90,2,    6.25,2,    0.30,2,  2386.4,2,  2139.8,2, -999.00,9, -999.00,9
740H20200119,A05_24N,18,1,18,1098,2,20200123,1210,  26.49930, -76.78379,  2319,   299.3, 19.1550,2,-999.0000,9, 36.6437,2, 36.6459,2,   197.0,2,   197.4,3,    1.11,2,    2.82,2,    0.11,2,  2390.0,2,  2114.9,2, -999.00,9, -999.00,9
740H20200119,A05_24N,18,1,19,6692,2,20200123,1210,  26.49930, -76.78379,  2319,   173.5, 21.3176,2,-999.0000,9, 36.7836,2,-999.0000,9,   195.8,2,  -999.0,9, -999.00,9, -999.00,9, -999.00,9,  -999.0,9,  -999.0,9, -999.00,9, -999.00,9
740H20200119,A05_24N,18,1,20,6428,4,20200123,1210,  26.49930, -76.78379,  2319,   173.1, 21.3156,2,-999.0000,9, 36.7833,2, 36.7487,4,   196.7,2,   203.8,4,    0.92,4,    0.01,4,    0.00,4,  2403.6,4,  2062.3,4, -999.00,9, -999.00,9
740H20200119,A05_24N,18,1,21,6425,2,20200123,1210,  26.49930, -76.78379,  2319,    89.5, 24.7747,2,-999.0000,9, 36.7473,2,-999.0000,9,   202.5,2,  -999.0,9, -999.00,9, -999.00,9, -999.00,9,  -999.0,9,  -999.0,9, -999.00,9, -999.00,9
740H20200119,A05_24N,18,1,22,6426,2,20200123,1210,  26.49930, -76.78379,  2319,    89.4, 24.7626,2,-999.0000,9, 36.7472,2, 36.7491,2,   202.6,2,   203.0,3,    0.94,2,    0.04,2,    0.00,2,  2396.8,2,  2054.3,2, -999.00,9, -999.00,9
740H20200119,A05_24N,18,1,23,6427,2,20200123,1210,  26.49930, -76.78379,  2319,     8.3, 24.8063,2,-999.0000,9, 36.7475,2,-999.0000,9,   203.5,2,  -999.0,9, -999.00,9, -999.00,9, -999.00,9,  -999.0,9,  -999.0,9, -999.00,9, -999.00,9
740H20200119,A05_24N,18,1,24,1086,2,20200123,1210,  26.49930, -76.78379,  2319,     8.7, 24.8059,2,-999.0000,9, 36.7476,2, 36.7490,2,   203.2,2,   203.8,3,    0.98,2,    0.02,2,    0.00,2,  2402.1,2,  2060.9,2, -999.00,9, -999.00,9