BOTTLE,20221012CCHSIOENA
EXPOCODE,SECT_ID,STNNBR,CASTNO,SAMPNO,BTLNBR,BTLNBR_FLAG_W,DATE,TIME,LATITUDE,LONGITUDE,DEPTH,CTDPRS,CTDTMP,CTDTMP_FLAG_W,SBE35,SBE35_FLAG_W,CTDSAL,CTDSAL_FLAG_W,SALNTY,SALNTY_FLAG_W,CTDOXY,CTDOXY_FLAG_W,OXYGEN,OXYGEN_FLAG_W,SILCAT,SILCAT_FLAG_W,NO2+NO3,NO2+NO3_FLAG_W,PHSPHT,PHSPHT_FLAG_W,ALKALI,ALKALI_FLAG_W,TCARBN,TCARBN_FLAG_W,DELC14,DELC14_FLAG_W,DELC13,DELC13_FLAG_W
 , , , , , , , , , , , ,DBAR,ITS-90, ,ITS-90, ,PSS-78, ,PSS-78, ,UMOL/KG, ,UMOL/KG, ,UMOL/KG, ,UMOL/KG, ,UMOL/KG, ,UMOL/KG, ,UMOL/KG, ,/MILLE, ,/MILLE, 
740H20200119,A05_24N,92,1,11,3044,2,20200214,0229,  23.37314, -43.14160,  4819,  4895.3,  2.4150,2,  2.4149,2, 34.8861,2, 34.8852,2,   248.8,2,   246.5,2,   46.59,2,   21.90,2,    1.49,2,  2342.3,6,  2197.9,6, -999.00,1, -999.00,1
740H20200119,A05_24N,92,1,12,3045,2,20200214,0229,  23.37314, -43.14160,  4819,  4576.0,  2.3911,2,  2.3907,2, 34.8874,2, 34.8874,2,   248.7,2,   246.9,2,   45.90,2,   21.80,2,    1.48,2,  2342.6,2,  2199.8,2, -999.00,1, -999.00,1
740H20200119,A05_24N,92,1,13,3046,2,20200214,0229,  23.37314, -43.14160,  4819,  4068.7,  2.4536,2,  2.4533,2, 34.8984,2, 34.8986,2,   251.2,2,   249.8,2,   42.35,2,   21.17,2,    1.44,2,  2336.6,6,  2190.8,6, -999.00,1, -999.00,1
740H20200119,A05_24N,92,1,14,7131,2,20200214,0229,  23.37314, -43.14160,  4819,  3552.2,  2.5649,2,  2.5656,2, 34.9129,2, 34.9129,2,   248.9,2,   247.1,2,   40.17,2,   21.18,2,    1.43,2,  2336.2,2,  2188.8,2, -999.00,1, -999.00,1
740H20200119,A05_24N,92,1,15,3048,2,20200214,0229,  23.37314, -43.14160,  4819,  3042.8,  2.6853,2,  2.6854,2, 34.9271,2, 34.9274,2,   248.1,2,   246.8,2,   36.96,2,   20.95,2,    1.41,2,  2339.5,2,  2188.0,2, -999.00,1, -999.00,1
740H20200119,A05_24N,92,1,16,3049,2,20200214,0229,  23.37314, -43.14160,  4819,  2529.5,  3.0664,2,  3.0680,2, 34.9604,2, 34.9610,2,   247.6,2,   246.9,2,   29.85,2,   20.27,2,    1.35,2,  2328.0,6,  2180.1,6, -999.00,1, -999.00,1
740H20200119,A05_24N,92,1,17,3050,2,20200214,0229,  23.37314, -43.14160,  4819,  2022.6,  3.7947,2,  3.8119,2, 35.0138,2, 35.0143,2,   243.8,2,   242.7,2,   21.97,2,   19.80,2,    1.31,2,  2320.1,2,  2172.0,2, -999.00,1, -999.00,1
740H20200119,A05_24N,92,1,18,3051,2,20200214,0229,  23.37314, -43.14160,  4819,  1818.5,  4.3228,2,  4.3187,2, 35.0431,2, 35.0440,2,   236.7,2,   236.6,2,   18.40,2,   19.84,2,    1.30,2,  2320.0,2,  2176.5,2, -999.00,1, -999.00,1
740H20200119,A05_24N,92,1,19,3052,2,20200214,0229,  23.37314, -43.14160,  4819,  1639.7,  4.5977,2,  4.5953,2, 35.0454,2, 35.0458,2,   230.1,2,   229.4,2,   17.45,2,   20.41,2,    1.34,2,  2316.3,2,  2174.9,2, -999.00,1, -999.00,1
740H20200119,A05_24N,92,1,20,3053,2,20200214,0229,  23.37314, -43.14160,  4819,  1411.2,  5.0826,2,  5.1045,2, 35.0264,2, 35.0264,2,   210.3,2,   208.7,2,   17.61,2,   22.30,2,    1.46,2,  2324.0,2,  2186.0,2, -999.00,1, -999.00,1
740H20200119,A05_24N,92,1,21,3054,2,20200214,0229,  23.37314, -43.14160,  4819,  1208.1,  5.7231,2,  5.7252,2, 35.0163,2, 35.0163,2,   181.0,2,   180.3,2,   19.41,2,   25.06,2,    1.65,2,  2317.2,6,  2195.3,6, -999.00,1, -999.00,1
740H20200119,A05_24N,92,1,22,3055,2,20200214,0229,  23.37314, -43.14160,  4819,  1112.0,  6.0472,2,  6.0487,2, 35.0109,2, 35.0107,2,   168.8,2,   168.0,2,   19.87,2,   26.12,2,    1.71,2,  2314.3,2,  2197.2,2, -999.00,9, -999.00,9
740H20200119,A05_24N,92,1,23,3056,2,20200214,0229,  23.37314, -43.14160,  4819,  1009.9,  6.6302,2,  6.6437,2, 35.0314,2, 35.0289,2,   157.2,2,   155.8,2,   19.57,2,   26.83,2,    1.75,2,  2317.8,2,  2203.6,2, -999.00,1, -999.00,1
740H20200119,A05_24N,92,1,24,3057,2,20200214,0229,  23.37314, -43.14160,  4819,   908.5,  7.7708,2,  7.8279,2, 35.1288,2, 35.1251,2,   146.9,2,   146.5,2,   17.50,2,   26.25,2,    1.69,2,  2318.3,2,  2200.8,2, -999.00,1, -999.00,1
740H20200119,A05_24N,92,1,1,3034,2,20200214,0229,  23.37314, -43.14160,  4819,   807.6,  8.9882,2,  9.0558,2, 35.2677,2, 35.2624,2,   143.9,2,   142.8,2,   14.59,2,   24.58,2,    1.55,2,  2324.4,2,  2198.1,2, -999.00,1, -999.00,1
740H20200119,A05_24N,92,1,2,3035,2,20200214,0229,  23.37314, -43.14160,  4819,   706.0, 10.6290,2, 10.5954,2, 35.4649,2, 35.4604,2,   151.7,2,   150.8,2,   10.29,2,   20.88,2,    1.27,2,  2330.0,2,  2185.5,2, -999.00,9, -999.00,9
740H20200119,A05_24N,92,1,3,3036,2,20200214,0229,  23.37314, -43.14160,  4819,   605.1, 11.9278,2, 11.8712,2, 35.6207,2, 35.6131,2,   159.3,2,   158.7,2,    7.45,2,   17.96,2,    1.07,2,  2337.3,6,  2179.1,6, -999.00,1, -999.00,1
740H20200119,A05_24N,92,1,4,3037,2,20200214,0229,  23.37314, -43.14160,  4819,   504.0, 13.5142,2, 13.5720,2, 35.8256,2, 35.8124,2,   170.5,2,   168.4,2,    4.96,2,   14.35,2,    0.83,2,  2349.3,2,  2166.7,2, -999.00,1, -999.00,1
740H20200119,A05_24N,92,1,5,3038,2,20200214,0229,  23.37314, -43.14160,  4819,   403.1, 15.2379,2, 15.2848,2, 36.0656,2, 36.0562,2,   179.5,2,   178.2,2,    3.29,2,   10.69,2,    0.59,2,  2360.3,2,  2155.6,2, -999.00,1, -999.00,1
740H20200119,A05_24N,92,1,6,6410,2,20200214,0229,  23.37314, -43.14160,  4819,   352.7, 16.0503,2, 16.1930,2, 36.1951,2, 36.1934,2,   176.8,2,   176.7,2,    2.77,2,    9.53,2,    0.51,2,  2376.9,2,  2148.7,2, -999.00,1, -999.00,1
740H20200119,A05_24N,92,1,7,6411,2,20200214,0229,  23.37314, -43.14160,  4819,   201.4, 19.3565,2, 19.3520,2, 36.7283,2, 36.7207,2,   194.5,2,   194.1,2,    0.87,2,    2.80,2,    0.09,2,  2397.5,2,  2130.5,2, -999.00,1, -999.00,1
740H20200119,A05_24N,92,1,8,6412,2,20200214,0229,  23.37314, -43.14160,  4819,   100.3, 23.2520,2, 23.2501,2, 37.4635,2, 37.4612,2,   210.8,2,   210.5,2,    0.41,2,    0.24,2,   -0.01,2,  2445.0,2,  2113.7,2, -999.00,1, -999.00,1
740H20200119,A05_24N,92,1,9,6413,2,20200214,0229,  23.37314, -43.14160,  4819,    50.3, 23.2777,2, 23.2761,2, 37.4696,2, 37.4699,2,   212.2,2,   210.7,2,    0.44,2,    0.24,2,   -0.01,2,  2446.0,2,  2117.1,2, -999.00,1, -999.00,1
740H20200119,A05_24N,92,1,10,3043,2,20200214,0229,  23.37314, -43.14160,  4819,     5.3, 23.2692,2, 23.2653,2, 37.4703,2, 37.4711,2,   211.6,2,   210.9,2,    0.49,2,    0.25,2,   -0.01,2,  2441.8,2,  2115.9,2, -999.00,1, -999.00,1
740H20200119,A05_24N,93,1,11,3044,2,20200214,0943,  23.25036, -42.60057,  5400,  5489.5,  2.4762,2,  2.4759,2, 34.8844,2, 34.8850,2,   248.2,2,   246.2,2,   47.16,2,   22.10,2,    1.49,2,  2336.5,6,  2198.7,6, -999.00,9, -999.00,9
740H20200119,A05_24N,93,1,12,3045,2,20200214,0943,  23.25036, -42.60057,  5400,  5373.6,  2.4612,2,  2.4609,2, 34.8845,2, 34.8844,2,   248.3,2,   246.5,2,   47.22,2,   22.07,2,    1.49,2,  2347.7,6,  2199.4,6, -999.00,9, -999.00,9
740H20200119,A05_24N,93,1,13,3046,2,20200214,0943,  23.25036, -42.60057,  5400,  4832.8,  2.4099,2,  2.4094,2, 34.8863,2, 34.8859,2,   248.2,2,   247.1,2,   46.56,2,   22.02,2,    1.49,2,  2339.4,2,  2197.5,2, -999.00,9, -999.00,9
740H20200119,A05_24N,93,1,14,7131,2,20200214,0943,  23.25036, -42.60057,  5400,  4324.6,  2.4069,2,  2.4065,2, 34.8916,2, 34.8911,2,   250.1,2,   249.3,2,   44.10,2,   21.63,2,    1.46,2,  2339.0,2,  2195.0,2, -999.00,9, -999.00,9
740H20200119,A05_24N,93,1,15,3048,2,20200214,0943,  23.25036, -42.60057,  5400,  3807.3,  2.4818,2,  2.4816,2, 34.9038,2, 34.9035,2,   248.4,2,   247.1,2,   41.66,2,   21.51,2,    1.44,2,  2340.7,2,  2193.0,2, -999.00,9, -999.00,9
740H20200119,A05_24N,93,1,16,3049,2,20200214,0943,  23.25036, -42.60057,  5400,  3302.1,  2.6110,2,  2.6104,2, 34.9197,2, 34.9195,2,   247.6,2,   246.5,2,   38.54,2,   21.24,2,    1.42,2,  2338.4,6,  2192.3,6, -999.00,9, -999.00,9
740H20200119,A05_24N,93,1,17,3050,2,20200214,0943,  23.25036, -42.60057,  5400,  2787.9,  2.8923,2,  2.8931,2, 34.9464,2, 34.9458,2,   247.8,2,   246.4,2,   32.70,2,   20.61,2,    1.37,2,  2335.4,2,  2184.8,2, -999.00,9, -999.00,9
740H20200119,A05_24N,93,1,18,3051,2,20200214,0943,  23.25036, -42.60057,  5400,  2275.7,  3.4575,2,  3.4595,2, 34.9911,2, 34.9908,2,   247.2,2,   246.0,2,   24.86,2,   19.86,2,    1.32,2,  2325.0,2,  2177.5,2, -999.00,9, -999.00,9
740H20200119,A05_24N,93,1,19,3052,2,20200214,0943,  23.25036, -42.60057,  5400,  1764.8,  4.1721,2,  4.1753,2, 35.0143,2, 35.0150,2,   233.0,2,   232.1,2,   19.52,2,   20.68,2,    1.36,2,  2318.3,2,  2175.4,2, -999.00,9, -999.00,9
740H20200119,A05_24N,93,1,20,3053,2,20200214,0943,  23.25036, -42.60057,  5400,  1515.2,  4.7738,2,  4.7649,2, 35.0384,2, 35.0401,2,   216.1,2,   215.3,2,   18.46,2,   21.88,2,    1.44,2,  -999.0,9,  2183.4,2, -999.00,9, -999.00,9
740H20200119,A05_24N,93,1,21,3054,2,20200214,0943,  23.25036, -42.60057,  5400,  1312.6,  5.2783,2,  5.2742,2, 35.0275,2, 35.0286,2,   198.4,2,   198.0,2,   18.49,2,   23.38,2,    1.54,2,  2323.2,2,  2189.2,2, -999.00,9, -999.00,9
740H20200119,A05_24N,93,1,22,3055,2,20200214,0943,  23.25036, -42.60057,  5400,  1160.1,  5.7790,2,  5.7623,2, 35.0199,2, 35.0180,2,   180.7,2,   180.9,2,   19.16,2,   24.97,2,    1.64,2,  2317.5,2,  2195.0,2, -999.00,9, -999.00,9
740H20200119,A05_24N,93,1,23,3056,2,20200214,0943,  23.25036, -42.60057,  5400,  1058.4,  6.2462,2,  6.2503,2, 35.0374,2, 35.0370,2,   169.8,2,   168.9,2,   19.04,2,   25.67,2,    1.68,2,  2317.9,6,  2198.6,6, -999.00,9, -999.00,9
740H20200119,A05_24N,93,1,24,3057,2,20200214,0943,  23.25036, -42.60057,  5400,   956.9,  6.8365,2,  6.8347,2, 35.0539,2, 35.0539,2,   157.8,2,   156.5,2,   18.78,2,   26.38,2,    1.72,2,  2317.4,2,  2201.1,2, -999.00,9, -999.00,9
740H20200119,A05_24N,93,1,1,3034,2,20200214,0943,  23.25036, -42.60057,  5400,   855.8,  7.9341,2,  7.9363,2, 35.1513,2, 35.1415,2,   147.0,2,   146.8,2,   17.12,2,   26.02,2,    1.67,2,  2324.5,6,  2203.1,6, -999.00,9, -999.00,9
740H20200119,A05_24N,93,1,2,3035,2,20200214,0943,  23.25036, -42.60057,  5400,   754.5,  9.4259,2,  9.4335,2, 35.3193,2, 35.3059,2,   146.0,2,   145.4,2,   13.57,2,   23.77,2,    1.49,2,  2323.4,2,  2195.9,2, -999.00,9, -999.00,9
740H20200119,A05_24N,93,1,3,3036,2,20200214,0943,  23.25036, -42.60057,  5400,   653.5, 11.3435,2, 11.4020,2, 35.5439,2, 35.5348,2,   156.1,2,   155.0,2,    8.82,2,   19.51,2,    1.18,2,  2335.1,2,  2184.4,2, -999.00,9, -999.00,9
740H20200119,A05_24N,93,1,4,3037,2,20200214,0943,  23.25036, -42.60057,  5400,   501.8, 13.7553,2, 13.7556,2, 35.8610,2, 35.8487,2,   171.6,2,   171.6,2,    4.63,2,   13.72,2,    0.79,2,  2351.4,2,  2168.1,2, -999.00,9, -999.00,9
740H20200119,A05_24N,93,1,5,3038,2,20200214,0943,  23.25036, -42.60057,  5400,   401.0, 15.5250,2, 15.5617,2, 36.1144,2, 36.1035,2,   181.8,2,   181.5,2,    3.02,2,   10.05,2,    0.55,2,  2363.0,2,  2153.1,2, -999.00,9, -999.00,9
740H20200119,A05_24N,93,1,6,6410,2,20200214,0943,  23.25036, -42.60057,  5400,   300.2, 17.4534,2, 17.4765,2, 36.4226,2, 36.4057,2,   183.5,2,   183.8,2,    1.85,2,    6.97,2,    0.35,2,  2380.6,2,  2143.2,2, -999.00,9, -999.00,9
740H20200119,A05_24N,93,1,7,6411,2,20200214,0943,  23.25036, -42.60057,  5400,   174.0, 20.4152,2, 20.4845,2, 36.9331,2, 36.9392,2,   196.3,2,   197.5,2,    0.51,2,    1.33,2,    0.03,2,  2415.3,2,  2132.2,2, -999.00,9, -999.00,9
740H20200119,A05_24N,93,1,8,6412,2,20200214,0943,  23.25036, -42.60057,  5400,   133.4, 22.8905,2, 22.9631,2, 37.3909,2, 37.3904,2,   209.2,2,   209.1,2,    0.37,2,    0.34,2,   -0.01,2,  2442.5,2,  2121.2,2, -999.00,9, -999.00,9
740H20200119,A05_24N,93,1,9,6413,2,20200214,0943,  23.25036, -42.60057,  5400,    79.2, 23.3392,2, 23.3443,2, 37.4912,2, 37.4918,2,   211.5,2,   212.4,2,    0.40,2,    0.33,2,   -0.01,2,  2449.1,2,  2116.8,2, -999.00,9, -999.00,9
740H20200119,A05_24N,93,1,10,3043,2,20200214,0943,  23.25036, -42.60057,  5400,     8.0, 23.3505,2, 23.3503,2, 37.4930,2, 37.4940,2,   211.8,2,   211.9,2,    0.41,2,    0.30,2,   -0.01,2,  2448.6,2,  2117.3,2, -999.00,9, -999.00,9
740H20200119,A05_24N,94,1,11,3044,2,20200214,1752,  23.33359, -41.88366,  4499,  4566.0,  2.3823,2,  2.3817,2, 34.8866,2, 34.8864,2,   247.4,2,   247.8,2,   47.10,2,   22.09,2,    1.49,2,  2345.1,6,  2197.5,6, -999.00,9, -999.00,9
740H20200119,A05_24N,94,1,12,3045,2,20200214,1752,  23.33359, -41.88366,  4499,  4059.5,  2.4415,2,  2.4419,2, 34.8973,2, 34.8972,2,   248.3,2,   249.5,2,   43.95,2,   21.64,2,    1.47,2,  2340.4,2,  2195.6,2, -999.00,9, -999.00,9
740H20200119,A05_24N,94,1,13,3046,2,20200214,1752,  23.33359, -41.88366,  4499,  3554.4,  2.4992,2,  2.4979,2, 34.9074,2, 34.9076,2,   248.2,2,   248.3,2,   41.87,2,   21.44,2,    1.46,2,  2340.2,6,  2192.2,6, -999.00,9, -999.00,9
740H20200119,A05_24N,94,1,14,7131,2,20200214,1752,  23.33359, -41.88366,  4499,  3040.1,  2.6848,2,  2.6860,2, 34.9279,2, 34.9281,2,   247.5,2,   247.8,2,   37.66,2,   21.09,2,    1.43,2,  2337.3,2,  2188.6,2, -999.00,9, -999.00,9
740H20200119,A05_24N,94,1,15,3048,2,20200214,1752,  23.33359, -41.88366,  4499,  2527.1,  3.1273,2,  3.1347,2, 34.9652,2, 34.9652,2,   247.4,2,   248.1,2,   29.70,2,   20.30,2,    1.37,2,  2329.4,2,  2179.7,2, -999.00,9, -999.00,9
740H20200119,A05_24N,94,1,16,3049,2,20200214,1752,  23.33359, -41.88366,  4499,  2021.2,  3.7675,2,  3.7717,2, 34.9974,2, 34.9969,2,   239.5,2,   240.4,2,   22.66,2,   20.45,2,    1.37,2,  2319.1,6,  2174.8,6, -999.00,9, -999.00,9
740H20200119,A05_24N,94,1,17,3050,2,20200214,1752,  23.33359, -41.88366,  4499,  1638.8,  4.4709,2,  4.4729,2, 35.0268,2, 35.0274,2,   227.0,2,   230.4,2,   18.85,2,   20.98,2,    1.40,2,  2318.2,2,  2177.2,2, -999.00,9, -999.00,9
740H20200119,A05_24N,94,1,18,3051,2,20200214,1752,  23.33359, -41.88366,  4499,  1415.0,  5.0465,2,  5.0474,2, 35.0478,2, 35.0489,2,   216.0,2,   218.0,2,   17.31,2,   21.49,2,    1.43,2,  2318.5,2,  2179.7,2, -999.00,9, -999.00,9
740H20200119,A05_24N,94,1,19,3052,2,20200214,1752,  23.33359, -41.88366,  4499,  1212.0,  5.5386,2,  5.5388,2, 35.0341,2, 35.0347,2,   195.1,2,   197.6,2,   18.33,2,   23.43,2,    1.55,2,  2316.9,2,  2189.0,6, -999.00,9, -999.00,9
740H20200119,A05_24N,94,1,20,3053,2,20200214,1752,  23.33359, -41.88366,  4499,  1109.9,  5.8847,2,  5.9051,2, 35.0257,2, 35.0249,2,   181.6,2,   183.5,2,   19.07,2,   24.70,2,    1.63,2,  2316.7,2,  2196.2,2, -999.00,9, -999.00,9
740H20200119,A05_24N,94,1,21,3054,2,20200214,1752,  23.33359, -41.88366,  4499,  1008.8,  6.5475,2,  6.5704,2, 35.0499,2, 35.0484,2,   165.3,2,   169.1,2,   19.05,2,   25.76,2,    1.69,2,  2319.2,6,  2199.4,6, -999.00,9, -999.00,9
740H20200119,A05_24N,94,1,22,3055,2,20200214,1752,  23.33359, -41.88366,  4499,   907.4,  7.3849,2,  7.3704,2, 35.1006,2, 35.0953,2,   152.2,2,   155.0,2,   18.13,2,   26.25,2,    1.71,2,  2318.5,2,  2202.1,2, -999.00,9, -999.00,9
740H20200119,A05_24N,94,1,23,3056,2,20200214,1752,  23.33359, -41.88366,  4499,   806.2,  8.9333,2,  8.9343,2, 35.2666,2, 35.2525,2,   145.9,2,   149.4,2,   14.65,2,   24.58,2,    1.56,2,  2325.3,6,  2196.6,6, -999.00,9, -999.00,9
740H20200119,A05_24N,94,1,24,3057,2,20200214,1752,  23.33359, -41.88366,  4499,   704.7, 10.4806,2, 10.5166,2, 35.4534,2, 35.4471,2,   152.5,2,   155.8,2,   10.43,2,   21.12,2,    1.30,2,  2330.2,2,  2187.5,2, -999.00,9, -999.00,9
740H20200119,A05_24N,94,1,1,3034,2,20200214,1752,  23.33359, -41.88366,  4499,   603.6, 12.0846,2, 12.0916,2, 35.6437,2, 35.6345,2,   166.9,2,   168.7,2,    6.80,2,   17.02,2,    1.01,2,  2337.7,2,  2172.8,2, -999.00,9, -999.00,9
740H20200119,A05_24N,94,1,2,3035,2,20200214,1752,  23.33359, -41.88366,  4499,   401.5, 15.1480,2, 15.1629,2, 36.0605,2, 36.0375,2,   173.2,2,   176.1,2,    3.44,2,   11.53,2,    0.64,2,  2358.9,2,  2160.6,2, -999.00,9, -999.00,9
740H20200119,A05_24N,94,1,3,3036,2,20200214,1752,  23.33359, -41.88366,  4499,   378.4, 15.4660,2, 15.4493,2, 36.1088,2, 36.1054,2,   175.7,2,   178.3,2,    3.06,2,   10.55,2,    0.58,2,  2361.8,2,  2156.0,2, -999.00,9, -999.00,9
740H20200119,A05_24N,94,1,4,3037,2,20200214,1752,  23.33359, -41.88366,  4499,   250.1, 18.5167,2, 18.5287,2, 36.6147,2, 36.5753,2,   182.8,2,   182.5,2,    1.32,2,    5.97,2,    0.29,2,  2390.2,2,  2144.9,2, -999.00,9, -999.00,9
740H20200119,A05_24N,94,1,5,3038,2,20200214,1752,  23.33359, -41.88366,  4499,   174.6, 20.4283,2, 20.4605,2, 36.9145,2, 36.8679,2,   195.4,2,   195.0,2,    0.49,2,    1.84,2,    0.04,2,  2408.2,2,  2130.9,2, -999.00,9, -999.00,9
740H20200119,A05_24N,94,1,6,6410,2,20200214,1752,  23.33359, -41.88366,  4499,   129.3, 23.0963,2, 23.1335,2, 37.4506,2, 37.3496,2,   210.5,2,   208.0,2,    0.25,2,    0.38,2,   -0.01,2,  2440.7,2,  2121.7,2, -999.00,9, -999.00,9
740H20200119,A05_24N,94,1,7,6411,2,20200214,1752,  23.33359, -41.88366,  4499,    98.9, 23.3018,2, 23.3105,2, 37.4797,2, 37.4798,2,   211.6,2,   211.6,2,    0.27,2,    0.31,2,   -0.01,2,  2446.9,2,  2114.8,2, -999.00,9, -999.00,9
740H20200119,A05_24N,94,1,8,6412,2,20200214,1752,  23.33359, -41.88366,  4499,    73.6, 23.5114,2, 23.5194,2, 37.5051,2, 37.5055,2,   211.1,2,   210.7,2,    0.25,2,    0.31,2,   -0.02,2,  2450.5,2,  2115.5,2, -999.00,9, -999.00,9
740H20200119,A05_24N,94,1,9,6413,2,20200214,1752,  23.33359, -41.88366,  4499,    48.6, 23.5483,2, 23.5571,2, 37.5122,2, 37.5141,2,   210.4,2,   210.4,2,    0.29,2,    0.32,2,   -0.02,2,  2450.5,2,  2113.7,2, -999.00,9, -999.00,9
740H20200119,A05_24N,94,1,10,3043,2,20200214,1752,  23.33359, -41.88366,  4499,     5.5, 23.6412,2, 23.6385,2, 37.5267,2, 37.5272,2,   211.2,2,   210.6,2,    0.33,2,    0.31,2,   -0.01,2,  2454.1,2,  2113.1,2, -999.00,9, -999.00,9