BOTTLE,20221012CCHSIOENA
EXPOCODE,SECT_ID,STNNBR,CASTNO,SAMPNO,BTLNBR,BTLNBR_FLAG_W,DATE,TIME,LATITUDE,LONGITUDE,DEPTH,CTDPRS,CTDTMP,CTDTMP_FLAG_W,SBE35,SBE35_FLAG_W,CTDSAL,CTDSAL_FLAG_W,SALNTY,SALNTY_FLAG_W,CTDOXY,CTDOXY_FLAG_W,OXYGEN,OXYGEN_FLAG_W,SILCAT,SILCAT_FLAG_W,NO2+NO3,NO2+NO3_FLAG_W,PHSPHT,PHSPHT_FLAG_W,ALKALI,ALKALI_FLAG_W,TCARBN,TCARBN_FLAG_W,DELC14,DELC14_FLAG_W,DELC13,DELC13_FLAG_W
 , , , , , , , , , , , ,DBAR,ITS-90, ,ITS-90, ,PSS-78, ,PSS-78, ,UMOL/KG, ,UMOL/KG, ,UMOL/KG, ,UMOL/KG, ,UMOL/KG, ,UMOL/KG, ,UMOL/KG, ,/MILLE, ,/MILLE, 
740H20200119,A05_24N,131,1,1,3034,2,20200227,0802,  27.33304, -15.23365,  2845,  2027.0,  3.9568,2,  3.9569,2, 35.0498,2, 35.0509,2,   219.3,2,  -999.0,9, -999.00,9, -999.00,9, -999.00,9,  2334.2,6,  2196.6,6, -999.00,9, -999.00,9
740H20200119,A05_24N,131,1,2,3035,2,20200227,0802,  27.33304, -15.23365,  2845,  2027.0,  3.9549,2,  3.9562,2, 35.0496,2,-999.0000,9,   219.3,2,  -999.0,9, -999.00,9, -999.00,9, -999.00,9,  -999.0,9,  -999.0,9, -999.00,9, -999.00,9
740H20200119,A05_24N,131,1,3,3036,2,20200227,0802,  27.33304, -15.23365,  2845,  2027.0,  3.9549,2,  3.9555,2, 35.0497,2,-999.0000,9,   219.2,2,  -999.0,9, -999.00,9, -999.00,9, -999.00,9,  -999.0,9,  -999.0,9, -999.00,9, -999.00,9
740H20200119,A05_24N,131,1,4,3037,2,20200227,0802,  27.33304, -15.23365,  2845,  2027.1,  3.9547,2,  3.9552,2, 35.0496,2,-999.0000,9,   219.0,2,  -999.0,9, -999.00,9, -999.00,9, -999.00,9,  -999.0,9,  -999.0,9, -999.00,9, -999.00,9
740H20200119,A05_24N,131,1,5,6409,2,20200227,0802,  27.33304, -15.23365,  2845,  2027.1,  3.9542,2,  3.9556,2, 35.0495,2,-999.0000,9,   219.4,2,  -999.0,9, -999.00,9, -999.00,9, -999.00,9,  -999.0,9,  -999.0,9, -999.00,9, -999.00,9
740H20200119,A05_24N,131,1,6,6410,2,20200227,0802,  27.33304, -15.23365,  2845,  2027.1,  3.9544,2,  3.9561,2, 35.0497,2,-999.0000,9,   219.1,2,  -999.0,9, -999.00,9, -999.00,9, -999.00,9,  -999.0,9,  -999.0,9, -999.00,9, -999.00,9
740H20200119,A05_24N,131,1,7,6411,2,20200227,0802,  27.33304, -15.23365,  2845,  2027.1,  3.9543,2,  3.9566,2, 35.0491,2,-999.0000,9,   219.0,2,  -999.0,9, -999.00,9, -999.00,9, -999.00,9,  -999.0,9,  -999.0,9, -999.00,9, -999.00,9
740H20200119,A05_24N,131,1,8,6412,2,20200227,0802,  27.33304, -15.23365,  2845,  2027.1,  3.9547,2,  3.9566,2, 35.0494,2,-999.0000,9,   219.0,2,  -999.0,9, -999.00,9, -999.00,9, -999.00,9,  -999.0,9,  -999.0,9, -999.00,9, -999.00,9
740H20200119,A05_24N,131,1,9,6413,2,20200227,0802,  27.33304, -15.23365,  2845,  2027.0,  3.9545,2,  3.9562,2, 35.0495,2,-999.0000,9,   219.0,2,  -999.0,9, -999.00,9, -999.00,9, -999.00,9,  -999.0,9,  -999.0,9, -999.00,9, -999.00,9
740H20200119,A05_24N,131,1,10,6414,2,20200227,0802,  27.33304, -15.23365,  2845,  2027.2,  3.9553,2,  3.9558,2, 35.0497,2,-999.0000,9,   219.0,2,  -999.0,9, -999.00,9, -999.00,9, -999.00,9,  -999.0,9,  -999.0,9, -999.00,9, -999.00,9
740H20200119,A05_24N,131,1,11,3044,2,20200227,0802,  27.33304, -15.23365,  2845,  2027.1,  3.9552,2,  3.9564,2, 35.0495,2,-999.0000,9,   219.1,2,  -999.0,9, -999.00,9, -999.00,9, -999.00,9,  -999.0,9,  -999.0,9, -999.00,9, -999.00,9
740H20200119,A05_24N,131,1,12,3045,2,20200227,0802,  27.33304, -15.23365,  2845,  2027.0,  3.9558,2,  3.9563,2, 35.0495,2,-999.0000,9,   219.0,2,  -999.0,9, -999.00,9, -999.00,9, -999.00,9,  -999.0,9,  -999.0,9, -999.00,9, -999.00,9
740H20200119,A05_24N,131,1,13,3046,2,20200227,0802,  27.33304, -15.23365,  2845,  2027.1,  3.9567,2,  3.9560,2, 35.0499,2,-999.0000,9,   219.1,2,  -999.0,9, -999.00,9, -999.00,9, -999.00,9,  -999.0,9,  -999.0,9, -999.00,9, -999.00,9
740H20200119,A05_24N,131,1,14,7131,2,20200227,0802,  27.33304, -15.23365,  2845,  2027.2,  3.9576,2,  3.9556,2, 35.0497,2,-999.0000,9,   219.1,2,  -999.0,9, -999.00,9, -999.00,9, -999.00,9,  -999.0,9,  -999.0,9, -999.00,9, -999.00,9
740H20200119,A05_24N,131,1,15,3048,2,20200227,0802,  27.33304, -15.23365,  2845,  2027.1,  3.9587,2,  3.9571,2, 35.0500,2,-999.0000,9,   219.1,2,  -999.0,9, -999.00,9, -999.00,9, -999.00,9,  -999.0,9,  -999.0,9, -999.00,9, -999.00,9
740H20200119,A05_24N,131,1,16,3049,2,20200227,0802,  27.33304, -15.23365,  2845,  2027.2,  3.9598,2,  3.9573,2, 35.0501,2,-999.0000,9,   218.9,2,  -999.0,9, -999.00,9, -999.00,9, -999.00,9,  -999.0,9,  -999.0,9, -999.00,9, -999.00,9
740H20200119,A05_24N,131,1,17,3050,2,20200227,0802,  27.33304, -15.23365,  2845,  2027.1,  3.9623,2,  3.9581,2, 35.0496,2,-999.0000,9,   219.1,2,  -999.0,9, -999.00,9, -999.00,9, -999.00,9,  -999.0,9,  -999.0,9, -999.00,9, -999.00,9
740H20200119,A05_24N,131,1,18,3051,2,20200227,0802,  27.33304, -15.23365,  2845,  2027.1,  3.9617,2,  3.9585,2, 35.0500,2,-999.0000,9,   219.1,2,  -999.0,9, -999.00,9, -999.00,9, -999.00,9,  -999.0,9,  -999.0,9, -999.00,9, -999.00,9
740H20200119,A05_24N,131,1,19,3052,2,20200227,0802,  27.33304, -15.23365,  2845,  2027.1,  3.9642,2,  3.9583,2, 35.0500,2,-999.0000,9,   219.3,2,  -999.0,9, -999.00,9, -999.00,9, -999.00,9,  -999.0,9,  -999.0,9, -999.00,9, -999.00,9
740H20200119,A05_24N,131,1,20,3053,2,20200227,0802,  27.33304, -15.23365,  2845,  2027.1,  3.9654,2,  3.9611,2, 35.0505,2, 35.0504,2,   219.0,2,  -999.0,9, -999.00,9, -999.00,9, -999.00,9,  -999.0,9,  -999.0,9, -999.00,9, -999.00,9
740H20200119,A05_24N,131,1,21,3054,2,20200227,0802,  27.33304, -15.23365,  2845,  2027.2,  3.9648,2,  3.9625,2, 35.0505,2,-999.0000,9,   219.0,2,  -999.0,9, -999.00,9, -999.00,9, -999.00,9,  -999.0,9,  -999.0,9, -999.00,9, -999.00,9
740H20200119,A05_24N,131,1,22,3055,2,20200227,0802,  27.33304, -15.23365,  2845,  2027.2,  3.9654,2,  3.9603,2, 35.0505,2,-999.0000,9,   219.0,2,  -999.0,9, -999.00,9, -999.00,9, -999.00,9,  -999.0,9,  -999.0,9, -999.00,9, -999.00,9
740H20200119,A05_24N,131,1,23,3056,2,20200227,0802,  27.33304, -15.23365,  2845,  2027.2,  3.9673,2,  3.9620,2, 35.0513,2,-999.0000,9,   219.0,2,  -999.0,9, -999.00,9, -999.00,9, -999.00,9,  -999.0,9,  -999.0,9, -999.00,9, -999.00,9
740H20200119,A05_24N,131,1,24,3057,2,20200227,0802,  27.33304, -15.23365,  2845,  2027.2,  3.9675,2,  3.9632,2, 35.0508,2, 35.0521,2,   218.8,2,  -999.0,9, -999.00,9, -999.00,9, -999.00,9,  -999.0,9,  -999.0,9, -999.00,9, -999.00,9
740H20200119,A05_24N,132,1,11,3044,2,20200227,1219,  27.43362, -14.86702,  2593,  2616.3,  3.1807,2,-999.0000,9, 34.9732,2, 34.9735,2,   226.7,2,   226.0,2,   35.37,2,   22.23,2,    1.50,2,  2344.8,6,  2204.6,6, -999.00,1, -999.00,1
740H20200119,A05_24N,132,1,12,3045,2,20200227,1219,  27.43362, -14.86702,  2593,  2534.5,  3.2071,2,-999.0000,9, 34.9759,2, 34.9783,2,   227.0,2,   226.6,2,   34.79,2,   22.07,2,    1.49,2,  2339.5,2,  2203.8,2, -999.00,1, -999.00,1
740H20200119,A05_24N,132,1,13,3046,2,20200227,1219,  27.43362, -14.86702,  2593,  2030.1,  4.0704,2,-999.0000,9, 35.0653,2, 35.0661,2,   219.9,2,   220.1,2,   27.42,2,   21.76,2,    1.45,2,  2336.7,2,  2197.5,2, -999.00,1, -999.00,1
740H20200119,A05_24N,132,1,14,7131,2,20200227,1219,  27.43362, -14.86702,  2593,  1643.6,  5.2124,2,-999.0000,9, 35.1733,2, 35.1740,2,   203.8,2,   203.6,2,   22.48,2,   22.07,2,    1.46,2,  2331.0,2,  2196.2,2, -999.00,1, -999.00,1
740H20200119,A05_24N,132,1,15,3048,2,20200227,1219,  27.43362, -14.86702,  2593,  1420.3,  6.1480,2,-999.0000,9, 35.2515,2, 35.2485,2,   188.5,2,   188.6,2,   19.92,2,   22.63,2,    1.48,2,  2334.8,2,  2202.6,2, -999.00,1, -999.00,1
740H20200119,A05_24N,132,1,16,3049,2,20200227,1219,  27.43362, -14.86702,  2593,  1217.5,  6.8248,2,-999.0000,9, 35.2624,2, 35.2627,2,   169.8,2,   169.7,2,   18.81,2,   24.00,2,    1.56,2,  2329.6,6,  2205.8,6, -999.00,1, -999.00,1
740H20200119,A05_24N,132,1,17,3050,2,20200227,1219,  27.43362, -14.86702,  2593,  1115.9,  7.2030,2,-999.0000,9, 35.2541,2, 35.2549,2,   158.3,2,   157.9,2,   18.44,2,   25.00,2,    1.63,2,  2329.8,2,  2210.8,2, -999.00,1, -999.00,1
740H20200119,A05_24N,132,1,18,3051,2,20200227,1219,  27.43362, -14.86702,  2593,  1014.7,  7.0241,2,-999.0000,9, 35.1307,2, 35.1314,2,   140.6,2,   139.9,2,   20.00,2,   27.69,2,    1.82,2,  2322.8,2,  2217.3,2, -999.00,1, -999.00,1
740H20200119,A05_24N,132,1,19,3052,2,20200227,1219,  27.43362, -14.86702,  2593,   913.5,  7.6381,2,-999.0000,9, 35.1647,2, 35.1630,2,   132.0,2,   131.9,2,   18.84,2,   27.91,2,    1.81,2,  2322.7,2,  2217.6,2, -999.00,1, -999.00,1
740H20200119,A05_24N,132,1,20,3053,2,20200227,1219,  27.43362, -14.86702,  2593,   812.3,  8.5215,2,-999.0000,9, 35.2437,2, 35.2429,2,   128.0,2,   127.7,2,   16.64,2,   27.12,2,    1.73,2,  2323.1,6,  2215.7,6, -999.00,1, -999.00,1
740H20200119,A05_24N,132,1,21,3054,2,20200227,1219,  27.43362, -14.86702,  2593,   710.9,  9.3620,2,-999.0000,9, 35.3299,2, 35.3323,2,   126.8,2,   128.0,2,   14.24,2,   25.74,2,    1.61,2,  2328.0,2,  2213.1,2, -999.00,1, -999.00,1
740H20200119,A05_24N,132,1,22,3055,2,20200227,1219,  27.43362, -14.86702,  2593,   610.1, 10.4148,2,-999.0000,9, 35.4380,2, 35.4226,2,   129.7,2,   126.5,2,   11.79,2,   24.26,2,    1.49,2,  2323.5,2,  2207.1,2, -999.00,1, -999.00,1
740H20200119,A05_24N,132,1,23,3056,2,20200227,1219,  27.43362, -14.86702,  2593,   508.8, 11.5718,2,-999.0000,9, 35.5865,2, 35.5880,2,   150.5,2,   151.2,2,    8.20,2,   19.34,2,    1.16,2,  2335.5,2,  2192.9,2, -999.00,1, -999.00,1
740H20200119,A05_24N,132,1,24,3057,2,20200227,1219,  27.43362, -14.86702,  2593,   458.6, 12.0973,2,-999.0000,9, 35.6441,2, 35.6463,2,   152.2,2,   152.2,2,    7.19,2,   18.31,2,    1.09,2,  2340.6,6,  2189.6,6, -999.00,1, -999.00,1
740H20200119,A05_24N,132,1,1,3034,2,20200227,1219,  27.43362, -14.86702,  2593,   408.1, 12.5947,2,-999.0000,9, 35.7090,2, 35.6882,2,   166.2,2,   158.8,2,    6.45,2,   17.02,2,    1.01,2,  2338.4,6,  2184.7,6, -999.00,1, -999.00,1
740H20200119,A05_24N,132,1,2,3035,2,20200227,1219,  27.43362, -14.86702,  2593,   357.9, 12.9517,2,-999.0000,9, 35.7543,2, 35.7446,2,   157.9,2,   157.9,2,    6.06,2,   16.36,2,    0.98,2,  2340.7,2,  2181.4,2, -999.00,9, -999.00,9
740H20200119,A05_24N,132,1,3,3036,2,20200227,1219,  27.43362, -14.86702,  2593,   307.1, 13.5470,2,-999.0000,9, 35.8381,2, 35.8287,2,   162.0,2,   161.9,2,    5.22,2,   14.87,2,    0.88,2,  2347.8,2,  2180.0,2, -999.00,1, -999.00,1
740H20200119,A05_24N,132,1,4,3037,2,20200227,1219,  27.43362, -14.86702,  2593,   256.7, 14.0863,2,-999.0000,9, 35.9152,2, 35.9063,2,   170.6,2,   170.2,2,    4.25,2,   12.93,2,    0.76,2,  2350.5,6,  2173.0,6, -999.00,1, -999.00,1
740H20200119,A05_24N,132,1,5,6409,2,20200227,1219,  27.43362, -14.86702,  2593,   206.2, 14.8576,2,-999.0000,9, 36.0366,2, 36.0285,2,   181.1,2,   180.1,2,    3.24,2,   10.54,2,    0.63,2,  2357.4,2,  2164.5,2, -999.00,1, -999.00,1
740H20200119,A05_24N,132,1,6,6410,2,20200227,1219,  27.43362, -14.86702,  2593,   105.4, 16.9631,2,-999.0000,9, 36.3710,2, 36.3609,2,   202.5,2,   201.9,2,    1.80,2,    5.46,2,    0.36,2,  2379.8,2,  2151.0,2, -999.00,1, -999.00,1
740H20200119,A05_24N,132,1,7,6411,2,20200227,1219,  27.43362, -14.86702,  2593,    80.4, 17.3952,2,-999.0000,9, 36.4373,2, 36.4372,2,   212.2,2,   212.4,2,    1.41,2,    3.89,2,    0.27,2,  2383.5,2,  2142.8,2, -999.00,1, -999.00,1
740H20200119,A05_24N,132,1,8,6412,2,20200227,1219,  27.43362, -14.86702,  2593,    54.9, 18.1989,2,-999.0000,9, 36.5847,2, 36.5377,2,   229.1,2,   225.7,2,    0.96,2,    1.45,2,    0.16,2,  2393.0,2,  2134.7,2, -999.00,1, -999.00,1
740H20200119,A05_24N,132,1,9,6413,2,20200227,1219,  27.43362, -14.86702,  2593,    25.1, 18.2601,2,-999.0000,9, 36.5919,2, 36.5936,2,   235.1,2,   236.4,2,    0.80,2,    0.14,2,    0.07,2,  2393.0,2,  2126.0,2, -999.00,1, -999.00,1
740H20200119,A05_24N,132,1,10,6414,2,20200227,1219,  27.43362, -14.86702,  2593,    10.2, 18.3144,2,-999.0000,9, 36.5923,2, 36.5938,2,   235.4,2,   237.0,2,    0.47,2,    0.10,2,    0.07,2,  2396.6,2,  2124.9,2, -999.00,1, -999.00,1
740H20200119,A05_24N,133,1,11,3044,2,20200227,1758,  27.61676, -14.23345,  2037,  2051.0,  4.0833,2,  4.0827,2, 35.0597,2, 35.0614,2,   216.5,2,   216.2,2,   28.01,2,   21.88,2,    1.47,2,  2339.3,6,  2201.1,6, -999.00,9, -999.00,9
740H20200119,A05_24N,133,1,12,3045,2,20200227,1758,  27.61676, -14.23345,  2037,  1771.8,  4.5795,2,  4.5821,2, 35.1087,2, 35.1071,2,   210.9,2,   211.2,2,   25.23,2,   21.88,2,    1.46,2,  2353.7,4,  2198.9,2, -999.00,9, -999.00,9
740H20200119,A05_24N,133,1,13,3046,2,20200227,1758,  27.61676, -14.23345,  2037,  1518.1,  5.6117,2,  5.6779,2, 35.2098,2, 35.2133,2,   197.1,2,   197.1,2,   21.36,2,   22.06,2,    1.46,2,  2334.8,2,  2201.3,2, -999.00,9, -999.00,9
740H20200119,A05_24N,133,1,14,7131,2,20200227,1758,  27.61676, -14.23345,  2037,  1315.2,  6.8198,2,  6.8311,2, 35.3224,2, 35.3165,2,   181.5,2,   181.4,2,   18.26,2,   22.39,2,    1.46,2,  2335.9,6,  2206.7,6, -999.00,9, -999.00,9
740H20200119,A05_24N,133,1,15,3048,2,20200227,1758,  27.61676, -14.23345,  2037,  1162.7,  7.2600,2,  7.3059,2, 35.2981,2, 35.2991,2,   164.4,2,   164.2,2,   17.98,2,   23.87,2,    1.55,2,  2335.1,2,  2211.3,2, -999.00,9, -999.00,9
740H20200119,A05_24N,133,1,16,3049,2,20200227,1758,  27.61676, -14.23345,  2037,  1061.8,  7.4667,2,  7.4623,2, 35.2710,2, 35.2715,2,   154.9,2,   154.5,2,   18.03,2,   24.83,2,    1.61,2,  2330.6,2,  2214.6,2, -999.00,9, -999.00,9
740H20200119,A05_24N,133,1,17,3050,2,20200227,1758,  27.61676, -14.23345,  2037,   960.2,  7.6374,2,  7.6589,2, 35.2322,2, 35.2292,2,   143.9,2,   143.0,2,   18.16,2,   26.11,2,    1.69,2,  2327.6,2,  2216.8,2, -999.00,9, -999.00,9
740H20200119,A05_24N,133,1,18,3051,2,20200227,1758,  27.61676, -14.23345,  2037,   859.1,  8.1435,2,  8.1973,2, 35.2206,2, 35.2200,2,   129.7,2,   129.6,2,   17.34,2,   27.17,2,    1.74,2,  2324.8,6,  2217.6,6, -999.00,9, -999.00,9
740H20200119,A05_24N,133,1,19,3052,2,20200227,1758,  27.61676, -14.23345,  2037,   808.4,  8.5069,2,  8.5251,2, 35.2541,2, 35.2528,2,   127.6,2,   127.6,2,   16.44,2,   26.87,2,    1.70,2,  2324.4,2,  2217.6,2, -999.00,9, -999.00,9
740H20200119,A05_24N,133,1,20,3053,2,20200227,1758,  27.61676, -14.23345,  2037,   758.4,  8.9363,2,  8.9514,2, 35.2859,2, 35.2854,2,   124.3,2,   124.5,2,   15.50,2,   26.54,2,    1.67,2,  2327.9,2,  2220.4,2, -999.00,9, -999.00,9
740H20200119,A05_24N,133,1,21,3054,2,20200227,1758,  27.61676, -14.23345,  2037,   707.4,  9.4019,2,  9.4091,2, 35.3482,2, 35.3479,2,   129.7,2,   129.8,2,   13.92,2,   25.11,2,    1.57,2,  2327.0,6,  2213.5,2, -999.00,9, -999.00,9
740H20200119,A05_24N,133,1,22,3055,2,20200227,1758,  27.61676, -14.23345,  2037,   657.1,  9.8610,2,  9.8723,2, 35.3858,2, 35.3801,2,   128.2,2,   128.3,2,   13.07,2,   24.62,2,    1.52,2,  2330.3,2,  2214.5,2, -999.00,9, -999.00,9
740H20200119,A05_24N,133,1,23,3056,2,20200227,1758,  27.61676, -14.23345,  2037,   606.6, 10.2724,2, 10.2734,2, 35.4217,2, 35.4121,2,   127.7,2,   126.5,2,   12.30,2,   24.21,2,    1.49,2,  2329.2,2,  2212.7,2, -999.00,9, -999.00,9
740H20200119,A05_24N,133,1,24,3057,2,20200227,1758,  27.61676, -14.23345,  2037,   505.3, 11.4878,2, 11.5006,2, 35.5764,2, 35.5703,2,   147.3,2,   147.1,2,    8.71,2,   19.86,2,    1.19,2,  2333.1,2,  2195.8,2, -999.00,9, -999.00,9
740H20200119,A05_24N,133,1,1,3034,2,20200227,1758,  27.61676, -14.23345,  2037,   379.3, 12.9472,2, 12.9663,2, 35.7519,2, 35.7387,2,   153.5,2,   152.7,2,    6.38,2,   16.85,2,    1.01,2,  2343.5,2,  2180.1,2, -999.00,9, -999.00,9
740H20200119,A05_24N,133,1,2,3035,2,20200227,1758,  27.61676, -14.23345,  2037,   303.6, 14.1162,2, 14.1274,2, 35.9207,2, 35.9039,2,   171.6,2,   172.0,2,    4.28,2,   12.73,2,    0.76,2,  2351.1,2,  2173.4,2, -999.00,9, -999.00,9
740H20200119,A05_24N,133,1,3,3036,2,20200227,1758,  27.61676, -14.23345,  2037,   253.4, 14.6644,2, 14.6756,2, 36.0043,2, 35.9861,2,   183.3,2,   179.7,2,    3.50,2,   10.93,2,    0.66,2,  2355.7,2,  2167.2,2, -999.00,9, -999.00,9
740H20200119,A05_24N,133,1,4,3037,2,20200227,1758,  27.61676, -14.23345,  2037,   177.6, 15.9687,2, 15.9914,2, 36.2034,2, 36.1831,2,   194.7,2,   194.8,2,    2.08,2,    7.19,2,    0.47,2,  2366.6,2,  2156.3,2, -999.00,9, -999.00,9
740H20200119,A05_24N,133,1,5,6409,2,20200227,1758,  27.61676, -14.23345,  2037,   152.1, 16.6148,2, 16.6240,2, 36.3021,2, 36.2896,2,   195.6,2,   196.8,2,    1.80,2,    6.06,2,    0.40,2,  -999.0,9,  2156.3,2, -999.00,9, -999.00,9
740H20200119,A05_24N,133,1,6,6410,2,20200227,1758,  27.61676, -14.23345,  2037,   102.4, 17.5762,2, 17.5844,2, 36.4759,2, 36.4743,2,   216.6,2,   216.8,2,    1.34,2,    2.43,2,    0.21,2,  2384.3,2,  2142.9,2, -999.00,9, -999.00,9
740H20200119,A05_24N,133,1,7,6411,2,20200227,1758,  27.61676, -14.23345,  2037,    77.1, 18.0667,2, 18.0852,2, 36.5549,2, 36.5583,2,   229.5,2,   228.9,2,    1.04,2,    1.02,2,    0.16,2,  2392.6,2,  2135.4,2, -999.00,9, -999.00,9
740H20200119,A05_24N,133,1,8,6412,2,20200227,1758,  27.61676, -14.23345,  2037,    51.7, 18.2293,2, 18.2343,2, 36.5918,2, 36.5922,2,   231.9,2,   233.0,2,    1.00,2,    0.53,2,    0.12,2,  2393.5,2,  2126.7,2, -999.00,9, -999.00,9
740H20200119,A05_24N,133,1,9,6413,2,20200227,1758,  27.61676, -14.23345,  2037,    25.6, 18.2667,2, 18.2720,2, 36.5964,2, 36.5980,2,   236.3,2,   237.2,2,    0.99,2,    0.31,2,    0.10,2,  2397.0,2,  2129.7,2, -999.00,9, -999.00,9
740H20200119,A05_24N,133,1,10,6414,2,20200227,1758,  27.61676, -14.23345,  2037,     6.4, 18.4049,2, 18.4172,2, 36.5716,2, 36.5721,2,   237.3,2,   238.6,2,    1.04,2,    0.04,2,    0.08,2,  2391.9,2,  2125.8,2, -999.00,9, -999.00,9