BOTTLE,20221012CCHSIOENA
EXPOCODE,SECT_ID,STNNBR,CASTNO,SAMPNO,BTLNBR,BTLNBR_FLAG_W,DATE,TIME,LATITUDE,LONGITUDE,DEPTH,CTDPRS,CTDTMP,CTDTMP_FLAG_W,SBE35,SBE35_FLAG_W,CTDSAL,CTDSAL_FLAG_W,SALNTY,SALNTY_FLAG_W,CTDOXY,CTDOXY_FLAG_W,OXYGEN,OXYGEN_FLAG_W,SILCAT,SILCAT_FLAG_W,NO2+NO3,NO2+NO3_FLAG_W,PHSPHT,PHSPHT_FLAG_W,ALKALI,ALKALI_FLAG_W,TCARBN,TCARBN_FLAG_W,DELC14,DELC14_FLAG_W,DELC13,DELC13_FLAG_W
 , , , , , , , , , , , ,DBAR,ITS-90, ,ITS-90, ,PSS-78, ,PSS-78, ,UMOL/KG, ,UMOL/KG, ,UMOL/KG, ,UMOL/KG, ,UMOL/KG, ,UMOL/KG, ,UMOL/KG, ,/MILLE, ,/MILLE, 
740H20200119,A05_24N,47,1,11,3044,2,20200129,1856,  26.09981, -70.63320,  5504,  5599.3,  2.0950,2,  2.0948,2, 34.8496,2, 34.8492,2,   249.5,2,   250.2,2,   54.33,2,   22.60,2,    1.52,2,  2340.7,6,  2202.0,6, -999.00,9, -999.00,9
740H20200119,A05_24N,47,1,12,3045,2,20200129,1856,  26.09981, -70.63320,  5504,  5348.0,  2.1681,2,  2.1687,2, 34.8627,2, 34.8623,2,   253.3,2,   254.7,2,   47.63,2,   21.55,2,    1.46,2,  2336.8,2,  2195.5,2, -999.00,9, -999.00,9
740H20200119,A05_24N,47,1,13,3046,2,20200129,1856,  26.09981, -70.63320,  5504,  4833.1,  2.2775,2,  2.2776,2, 34.8829,2, 34.8822,2,   261.9,2,   262.6,2,   35.24,2,   19.50,2,    1.31,2,  2335.9,2,  2183.7,2, -999.00,9, -999.00,9
740H20200119,A05_24N,47,1,14,7131,2,20200129,1856,  26.09981, -70.63320,  5504,  4314.4,  2.3035,2,  2.3038,2, 34.8911,2, 34.8906,2,   265.4,2,   267.0,2,   30.53,2,   18.79,2,    1.26,2,  2320.6,2,  2174.1,2, -999.00,9, -999.00,9
740H20200119,A05_24N,47,1,15,3048,2,20200129,1856,  26.09981, -70.63320,  5504,  3549.8,  2.4536,2,  2.4539,2, 34.9062,2, 34.9052,2,   268.1,2,   268.9,2,   24.75,2,   18.01,2,    1.20,2,  2317.7,6,  2172.9,6, -999.00,9, -999.00,9
740H20200119,A05_24N,47,1,16,3049,2,20200129,1856,  26.09981, -70.63320,  5504,  3292.2,  2.5768,2,  2.5783,2, 34.9155,2, 34.9156,2,   265.5,2,   267.0,2,   24.86,2,   18.38,4,    1.23,4,  2317.5,2,  2174.7,2, -999.00,9, -999.00,9
740H20200119,A05_24N,47,1,17,3050,2,20200129,1856,  26.09981, -70.63320,  5504,  2783.6,  2.9100,2,  2.9110,2, 34.9370,2, 34.9362,2,   263.0,2,   263.6,2,   20.35,2,   18.37,2,    1.21,2,  2315.5,2,  2168.2,2, -999.00,9, -999.00,9
740H20200119,A05_24N,47,1,18,3051,2,20200129,1856,  26.09981, -70.63320,  5504,  2532.6,  3.0999,2,  3.1004,2, 34.9479,2, 34.9479,2,   262.3,2,   262.7,2,   20.36,2,   18.36,2,    1.22,2,  2314.7,2,  2168.8,2, -999.00,9, -999.00,9
740H20200119,A05_24N,47,1,19,3052,2,20200129,1856,  26.09981, -70.63320,  5504,  2021.1,  3.6322,2,  3.6329,2, 34.9805,2, 34.9811,2,   258.8,2,   259.3,2,   16.93,2,   18.39,2,    1.21,2,  2312.5,2,  2170.0,2, -999.00,9, -999.00,9
740H20200119,A05_24N,47,1,20,3053,2,20200129,1856,  26.09981, -70.63320,  5504,  1766.0,  3.9415,2,  3.9446,2, 34.9903,2, 34.9895,2,   257.6,2,   258.9,2,   14.25,2,   18.18,2,    1.19,2,  2308.9,6,  2164.1,6, -999.00,9, -999.00,9
740H20200119,A05_24N,47,1,21,3054,2,20200129,1856,  26.09981, -70.63320,  5504,  1511.6,  4.3414,2,  4.3409,2, 35.0135,2, 35.0125,2,   252.0,2,   253.6,2,   13.12,2,   18.34,2,    1.19,2,  2309.0,2,  2170.3,2, -999.00,9, -999.00,9
740H20200119,A05_24N,47,1,22,3055,2,20200129,1856,  26.09981, -70.63320,  5504,  1257.0,  5.1328,2,  5.0947,2, 35.0514,2, 35.0512,2,   234.1,2,   236.8,2,   12.82,2,   19.16,2,    1.25,2,  2310.1,2,  2176.0,2, -999.00,9, -999.00,9
740H20200119,A05_24N,47,1,23,3056,2,20200129,1856,  26.09981, -70.63320,  5504,  1003.6,  6.7401,2,  6.7691,2, 35.0552,2, 35.0552,2,   174.6,2,   177.7,2,   16.52,2,   24.30,2,    1.57,2,  2316.1,2,  2195.8,2, -999.00,9, -999.00,9
740H20200119,A05_24N,47,1,24,3057,2,20200129,1856,  26.09981, -70.63320,  5504,   876.6,  8.5977,2,  8.5897,2, 35.1554,2, 35.1500,2,   145.5,2,   150.1,2,   15.34,2,   25.33,2,    1.60,2,  2316.5,2,  2195.4,2, -999.00,9, -999.00,9
740H20200119,A05_24N,47,1,1,3034,2,20200129,1856,  26.09981, -70.63320,  5504,   755.3, 10.7112,2, 10.7653,2, 35.3931,2, 35.3765,2,   143.8,2,   148.2,2,   11.36,2,   22.45,2,    1.38,2,  2326.5,6,  2190.5,6, -999.00,9, -999.00,9
740H20200119,A05_24N,47,1,2,3035,2,20200129,1856,  26.09981, -70.63320,  5504,   629.0, 13.4908,2, 13.4103,2, 35.7803,2, 35.7654,2,   160.9,2,   162.7,2,    6.20,2,   15.83,2,    0.93,2,  2344.4,2,  2168.0,2, -999.00,9, -999.00,9
740H20200119,A05_24N,47,1,3,3036,2,20200129,1856,  26.09981, -70.63320,  5504,   502.4, 16.5107,2, 16.5402,2, 36.2591,2, 36.2285,2,   174.7,2,   175.8,2,    2.97,2,    9.78,2,    0.52,2,  2366.0,2,  2151.6,2, -999.00,9, -999.00,9
740H20200119,A05_24N,47,1,4,3037,2,20200129,1856,  26.09981, -70.63320,  5504,   376.2, 18.2689,2, 18.3370,2, 36.5325,2, 36.5263,2,   186.8,2,   188.0,2,    1.44,2,    5.47,2,    0.24,2,  2384.9,2,  2133.8,2, -999.00,9, -999.00,9
740H20200119,A05_24N,47,1,5,3038,2,20200129,1856,  26.09981, -70.63320,  5504,   250.2, 19.3403,2, 19.3435,2, 36.6644,2, 36.6619,2,   201.1,2,   201.4,2,    0.84,2,    2.61,2,    0.08,2,  2392.2,2,  2116.0,2, -999.00,9, -999.00,9
740H20200119,A05_24N,47,1,6,6410,2,20200129,1856,  26.09981, -70.63320,  5504,   174.5, 20.3532,2, 20.4065,2, 36.7366,2, 36.7217,2,   192.7,2,   194.5,2,    0.60,2,    1.63,2,    0.04,2,  2398.0,2,  2117.3,2, -999.00,9, -999.00,9
740H20200119,A05_24N,47,1,7,6411,2,20200129,1856,  26.09981, -70.63320,  5504,   129.1, 22.2923,2, 22.4402,2, 36.8732,2, 36.8717,2,   203.9,2,   203.2,2,    0.47,2,    0.32,2,    0.00,2,  2403.7,6,  2099.7,6, -999.00,9, -999.00,9
740H20200119,A05_24N,47,1,8,6412,2,20200129,1856,  26.09981, -70.63320,  5504,   104.0, 23.7035,2, 23.7098,2, 36.8909,2, 36.8906,2,   210.6,2,   209.5,2,    0.57,2,    0.16,2,    0.00,2,  2408.8,2,  2075.5,2, -999.00,9, -999.00,9
740H20200119,A05_24N,47,1,9,6413,2,20200129,1856,  26.09981, -70.63320,  5504,    48.8, 23.8879,2, 23.8885,2, 36.8794,2, 36.8796,2,   210.9,2,   210.0,2,    0.61,2,    0.15,2,    0.00,2,  2404.5,2,  2066.5,2, -999.00,9, -999.00,9
740H20200119,A05_24N,47,1,10,3043,2,20200129,1856,  26.09981, -70.63320,  5504,     3.6, 23.9386,2, 23.9327,2, 36.8610,2, 36.8619,2,   210.7,2,   209.7,2,    0.63,2,    0.16,2,    0.00,2,  2406.3,2,  2067.3,2, -999.00,9, -999.00,9
740H20200119,A05_24N,48,1,11,3044,2,20200130,0208,  25.69566, -70.26488,  5515,  5611.3,  2.1203,2,  2.1191,2, 34.8526,2, 34.8530,2,   250.3,2,   250.3,2,   52.58,2,   22.29,2,    1.51,2,  2340.2,6,  2203.8,6, -999.00,9, -999.00,9
740H20200119,A05_24N,48,1,12,3045,2,20200130,0208,  25.69566, -70.26488,  5515,  5087.1,  2.2605,2,  2.2612,2, 34.8773,2, 34.8773,2,   259.6,2,   260.3,2,   38.64,2,   19.96,2,    1.36,2,  2331.1,2,  2188.5,2, -999.00,9, -999.00,9
740H20200119,A05_24N,48,1,13,3046,2,20200130,0208,  25.69566, -70.26488,  5515,  4577.8,  2.2931,2,  2.2926,2, 34.8875,2, 34.8876,2,   264.4,2,   264.5,2,   32.45,2,   18.97,2,    1.28,2,  2325.8,2,  2183.5,2, -999.00,9, -999.00,9
740H20200119,A05_24N,48,1,14,7131,2,20200130,0208,  25.69566, -70.26488,  5515,  4064.2,  2.3247,2,  2.3245,2, 34.8945,2, 34.8946,2,   267.3,2,   267.9,2,   28.28,2,   18.26,2,    1.23,2,  2322.2,6,  2178.0,6, -999.00,9, -999.00,9
740H20200119,A05_24N,48,1,15,3048,2,20200130,0208,  25.69566, -70.26488,  5515,  3552.5,  2.4387,2,  2.4359,2, 34.9052,2, 34.9052,2,   268.3,2,   269.1,2,   24.84,2,   17.88,2,    1.20,2,  2317.8,2,  2176.0,2, -999.00,9, -999.00,9
740H20200119,A05_24N,48,1,16,3049,2,20200130,0208,  25.69566, -70.26488,  5515,  3042.2,  2.6897,2,  2.6893,2, 34.9220,2, 34.9215,2,   266.9,2,   267.3,2,   22.30,2,   17.86,2,    1.20,2,  2315.9,2,  2172.9,2, -999.00,9, -999.00,9
740H20200119,A05_24N,48,1,17,3050,2,20200130,0208,  25.69566, -70.26488,  5515,  2533.3,  3.0239,2,  3.0229,2, 34.9410,2, 34.9418,2,   264.5,2,   264.6,2,   19.80,2,   17.97,2,    1.20,2,  2313.2,6,  2167.6,6, -999.00,9, -999.00,9
740H20200119,A05_24N,48,1,18,3051,2,20200130,0208,  25.69566, -70.26488,  5515,  2276.8,  3.3119,2,  3.3113,2, 34.9652,2, 34.9642,2,   259.3,2,   259.6,2,   19.83,2,   18.46,2,    1.22,2,  2314.4,2,  2164.9,2, -999.00,9, -999.00,9
740H20200119,A05_24N,48,1,19,3052,2,20200130,0208,  25.69566, -70.26488,  5515,  2020.6,  3.5452,2,  3.5493,2, 34.9750,2, 34.9749,2,   259.9,2,   259.5,2,   17.08,2,   18.25,2,    1.20,2,  2313.9,2,  2168.6,2, -999.00,9, -999.00,9
740H20200119,A05_24N,48,1,20,3053,2,20200130,0208,  25.69566, -70.26488,  5515,  1520.7,  4.3079,2,  4.3178,2, 35.0145,2, 35.0147,2,   252.8,2,   252.8,2,   13.24,2,   18.27,2,    1.19,2,  2309.9,2,  2166.9,2, -999.00,9, -999.00,9
740H20200119,A05_24N,48,1,21,3054,2,20200130,0208,  25.69566, -70.26488,  5515,  1266.4,  5.0245,2,  5.0310,2, 35.0488,2, 35.0478,2,   237.9,2,   238.3,2,   12.68,2,   18.96,2,    1.23,2,  2313.4,2,  2176.0,2, -999.00,9, -999.00,9
740H20200119,A05_24N,48,1,22,3055,2,20200130,0208,  25.69566, -70.26488,  5515,  1013.2,  6.8279,2,  6.8434,2, 35.0726,2, 35.0719,2,   175.0,2,   175.7,2,   16.26,2,   24.05,2,    1.55,2,  2318.4,6,  2194.7,6, -999.00,9, -999.00,9
740H20200119,A05_24N,48,1,23,3056,2,20200130,0208,  25.69566, -70.26488,  5515,   886.5,  8.1837,2,  8.2225,2, 35.1081,2, 35.0982,2,   145.0,2,   145.3,2,   16.66,2,   26.35,2,    1.67,2,  2315.8,2,  2201.1,2, -999.00,9, -999.00,9
740H20200119,A05_24N,48,1,24,3057,2,20200130,0208,  25.69566, -70.26488,  5515,   759.9, 10.6149,2, 10.6185,2, 35.3840,2, 35.3777,2,   144.0,2,   142.9,2,   11.49,2,   22.42,2,    1.38,2,  2322.3,6,  2187.8,6, -999.00,9, -999.00,9
740H20200119,A05_24N,48,1,1,3034,2,20200130,0208,  25.69566, -70.26488,  5515,   502.1, 16.4563,2, 16.5985,2, 36.2501,2, 36.2224,2,   175.4,2,   174.3,2,    3.09,2,    9.68,2,    0.53,2,  2367.5,2,  2148.6,2, -999.00,9, -999.00,9
740H20200119,A05_24N,48,1,2,3035,2,20200130,0208,  25.69566, -70.26488,  5515,   376.3, 18.3512,2, 18.3655,2, 36.5413,2, 36.5257,2,   189.4,2,   187.2,2,    1.62,2,    5.25,2,    0.24,2,  2384.2,2,  2131.4,2, -999.00,9, -999.00,9
740H20200119,A05_24N,48,1,3,3036,2,20200130,0208,  25.69566, -70.26488,  5515,   250.3, 19.4344,2, 19.4493,2, 36.6685,2, 36.6625,2,   202.4,2,   201.1,2,    1.02,2,    2.32,2,    0.08,2,  2391.2,2,  2110.8,2, -999.00,9, -999.00,9
740H20200119,A05_24N,48,1,4,3037,2,20200130,0208,  25.69566, -70.26488,  5515,   174.6, 20.7762,2, 20.8077,2, 36.8007,2, 36.7664,2,   197.6,2,   194.1,2,    1.02,2,    2.33,2,    0.08,2,  2401.2,2,  2116.1,2, -999.00,9, -999.00,9
740H20200119,A05_24N,48,1,5,3038,2,20200130,0208,  25.69566, -70.26488,  5515,   119.6, 22.5328,2, 22.5565,2, 36.8576,2, 36.8642,2,   208.9,2,   205.4,2,    0.73,2,    0.20,2,    0.00,2,  2402.7,6,  2093.0,6, -999.00,9, -999.00,9
740H20200119,A05_24N,48,1,6,6410,2,20200130,0208,  25.69566, -70.26488,  5515,    38.8, 23.3190,2, 23.3138,2, 36.8729,2, 36.8731,2,   212.8,2,   211.8,2,    0.80,2,    0.06,2,    0.00,2,  2404.6,2,  2071.8,2, -999.00,9, -999.00,9
740H20200119,A05_24N,48,1,7,6411,2,20200130,0208,  25.69566, -70.26488,  5515,    38.4, 23.3171,2, 23.3166,2, 36.8732,2,-999.0000,9,   212.0,2,  -999.0,9, -999.00,9, -999.00,9, -999.00,9,  -999.0,9,  -999.0,9, -999.00,9, -999.00,9
740H20200119,A05_24N,48,1,8,6412,2,20200130,0208,  25.69566, -70.26488,  5515,    38.6, 23.3187,2, 23.3163,2, 36.8730,2,-999.0000,9,   212.5,2,  -999.0,9, -999.00,9, -999.00,9, -999.00,9,  -999.0,9,  -999.0,9, -999.00,9, -999.00,9
740H20200119,A05_24N,48,1,9,6413,2,20200130,0208,  25.69566, -70.26488,  5515,    38.3, 23.3190,2, 23.3202,2, 36.8731,2,-999.0000,9,   212.9,2,  -999.0,9, -999.00,9, -999.00,9, -999.00,9,  -999.0,9,  -999.0,9, -999.00,9, -999.00,9
740H20200119,A05_24N,48,1,10,3043,2,20200130,0208,  25.69566, -70.26488,  5515,     4.6, 23.3583,2, 23.3578,2, 36.8694,2, 36.8689,2,   212.2,2,   211.2,2,    0.81,2,    0.06,2,    0.00,2,  2401.6,2,  2068.1,2, -999.00,9, -999.00,9
740H20200119,A05_24N,49,1,11,3044,2,20200130,0932,  25.29987, -69.90000,  5503,  5599.8,  2.0998,2,  2.1020,2, 34.8501,2, 34.8509,2,   249.6,2,   251.0,2,   53.35,2,   22.56,2,    1.52,2,  2346.3,6,  2201.7,6, -999.00,9, -999.00,9
740H20200119,A05_24N,49,1,12,3045,2,20200130,0932,  25.29987, -69.90000,  5503,  5378.6,  2.2353,2,  2.2347,2, 34.8700,2, 34.8697,2,   256.5,2,   257.8,2,   43.06,2,   20.85,2,    1.41,2,  2336.2,6,  2191.2,6, -999.00,9, -999.00,9
740H20200119,A05_24N,49,1,13,3046,2,20200130,0932,  25.29987, -69.90000,  5503,  4858.0,  2.2883,2,  2.2877,2, 34.8836,2, 34.8830,2,   263.1,2,   263.7,2,   34.70,2,   19.39,2,    1.30,2,  2327.6,2,  2181.9,2, -999.00,9, -999.00,9
740H20200119,A05_24N,49,1,14,7131,2,20200130,0932,  25.29987, -69.90000,  5503,  4338.9,  2.2985,2,  2.2981,2, 34.8903,2, 34.8900,2,   266.0,2,   267.3,2,   30.59,2,   18.71,2,    1.26,2,  2323.9,2,  2179.4,2, -999.00,9, -999.00,9
740H20200119,A05_24N,49,1,15,3048,2,20200130,0932,  25.29987, -69.90000,  5503,  3821.6,  2.3635,2,  2.3632,2, 34.8990,2, 34.8988,2,   268.6,2,   269.4,2,   26.38,2,   18.09,2,    1.21,2,  2318.2,2,  2173.6,2, -999.00,9, -999.00,9
740H20200119,A05_24N,49,1,16,3049,2,20200130,0932,  25.29987, -69.90000,  5503,  3306.2,  2.5520,2,  2.5549,2, 34.9133,2, 34.9132,2,   267.7,2,   268.7,2,   23.82,2,   18.04,2,    1.20,2,  2317.8,2,  2171.6,2, -999.00,9, -999.00,9
740H20200119,A05_24N,49,1,17,3050,2,20200130,0932,  25.29987, -69.90000,  5503,  2792.5,  2.8936,2,  2.8975,2, 34.9362,2, 34.9367,2,   263.4,2,   264.2,2,   22.44,2,   18.38,2,    1.22,2,  -999.0,9,  2168.2,6, -999.00,9, -999.00,9
740H20200119,A05_24N,49,1,18,3051,2,20200130,0932,  25.29987, -69.90000,  5503,  2535.7,  3.1026,2,  3.1029,2, 34.9515,2, 34.9512,2,   260.5,2,   260.9,2,   21.56,2,   18.57,2,    1.23,2,  2315.1,2,  2168.5,2, -999.00,9, -999.00,9
740H20200119,A05_24N,49,1,19,3052,2,20200130,0932,  25.29987, -69.90000,  5503,  2279.5,  3.2902,2,  3.2890,2, 34.9583,2, 34.9579,2,   261.5,2,   262.2,2,   18.68,2,   18.21,2,    1.21,2,  2314.8,2,  2165.2,2, -999.00,9, -999.00,9
740H20200119,A05_24N,49,1,20,3053,2,20200130,0932,  25.29987, -69.90000,  5503,  2023.5,  3.5707,2,  3.5709,2, 34.9708,2, 34.9712,2,   261.1,2,   261.6,2,   16.37,2,   18.14,2,    1.20,2,  2311.4,2,  2167.4,2, -999.00,9, -999.00,9
740H20200119,A05_24N,49,1,21,3054,2,20200130,0932,  25.29987, -69.90000,  5503,  1768.0,  3.8886,2,  3.9081,2, 34.9874,2, 34.9875,2,   258.2,2,   259.3,2,   14.53,2,   18.19,2,    1.19,2,  2310.6,2,  2164.5,2, -999.00,9, -999.00,9
740H20200119,A05_24N,49,1,22,3055,2,20200130,0932,  25.29987, -69.90000,  5503,  1513.1,  4.3036,2,  4.3036,2, 35.0096,2, 35.0089,2,   251.9,2,   253.7,2,   13.30,2,   18.32,2,    1.19,2,  2308.7,2,  2170.1,2, -999.00,9, -999.00,9
740H20200119,A05_24N,49,1,23,3056,2,20200130,0932,  25.29987, -69.90000,  5503,  1259.2,  4.9548,2,  4.9547,2, 35.0397,2, 35.0391,2,   237.5,2,   239.0,2,   13.01,2,   19.06,2,    1.24,2,  2312.9,2,  2173.6,2, -999.00,9, -999.00,9
740H20200119,A05_24N,49,1,24,3057,2,20200130,0932,  25.29987, -69.90000,  5503,  1004.9,  6.5751,2,  6.5742,2, 35.0681,2, 35.0652,2,   183.8,2,   184.7,2,   15.77,2,   23.32,2,    1.50,2,  2315.9,2,  2187.6,2, -999.00,9, -999.00,9
740H20200119,A05_24N,49,1,1,3034,2,20200130,0932,  25.29987, -69.90000,  5503,   878.0,  8.0192,2,  8.0738,2, 35.1014,2, 35.0997,2,   147.7,2,   148.4,2,   16.38,2,   26.04,2,    1.65,2,  2313.0,2,  2198.8,2, -999.00,9, -999.00,9
740H20200119,A05_24N,49,1,2,3035,2,20200130,0932,  25.29987, -69.90000,  5503,   756.6, 10.2817,2, 10.3393,2, 35.3452,2, 35.3438,2,   143.2,2,   143.5,2,   11.92,2,   22.94,2,    1.41,2,  2324.5,6,  2190.1,6, -999.00,9, -999.00,9
740H20200119,A05_24N,49,1,3,3036,2,20200130,0932,  25.29987, -69.90000,  5503,   504.0, 16.0367,2, 16.0674,2, 36.1747,2, 36.1612,2,   175.6,2,   175.8,2,    3.36,2,   10.18,2,    0.56,2,  2367.1,2,  2149.3,2, -999.00,9, -999.00,9
740H20200119,A05_24N,49,1,4,3037,2,20200130,0932,  25.29987, -69.90000,  5503,   377.6, 18.2288,2, 18.2312,2, 36.5283,2, 36.5132,2,   192.3,2,   191.1,2,    1.66,2,    5.24,2,    0.24,2,  2382.0,2,  2130.4,2, -999.00,9, -999.00,9
740H20200119,A05_24N,49,1,5,3038,2,20200130,0932,  25.29987, -69.90000,  5503,   251.4, 19.1669,2, 19.1682,2, 36.6413,2, 36.6388,2,   201.5,2,   201.9,2,    1.05,2,    2.73,2,    0.10,2,  2394.4,2,  2117.3,2, -999.00,9, -999.00,9
740H20200119,A05_24N,49,1,6,6410,2,20200130,0932,  25.29987, -69.90000,  5503,   175.4, 19.8362,2, 19.8462,2, 36.6990,2, 36.6928,2,   196.0,2,   197.0,2,    0.84,2,    1.57,2,    0.04,2,  2395.8,2,  2116.2,2, -999.00,9, -999.00,9
740H20200119,A05_24N,49,1,7,6411,2,20200130,0932,  25.29987, -69.90000,  5503,   110.4, 22.6552,2, 22.6973,2, 36.8976,2, 36.8679,2,   206.2,2,   207.7,2,    0.63,2,    0.09,2,    0.01,2,  2408.3,2,  2099.7,2, -999.00,9, -999.00,9
740H20200119,A05_24N,49,1,8,6412,2,20200130,0932,  25.29987, -69.90000,  5503,    49.6, 24.1346,2, 24.1384,2, 36.8773,2, 36.8769,2,   208.9,2,   209.3,2,    0.85,2,    0.06,2,    0.00,2,  2407.6,2,  2064.8,2, -999.00,9, -999.00,9
740H20200119,A05_24N,49,1,9,6413,2,20200130,0932,  25.29987, -69.90000,  5503,    25.5, 24.3843,2, 24.3823,2, 36.8228,2, 36.8204,2,   209.7,2,   209.0,2,    0.94,2,    0.06,2,    0.00,2,  2404.5,2,  2059.8,2, -999.00,9, -999.00,9
740H20200119,A05_24N,49,1,10,3043,2,20200130,0932,  25.29987, -69.90000,  5503,     4.5, 24.3863,2, 24.3820,2, 36.8213,2, 36.8215,2,   208.5,2,   208.5,2,    0.96,2,    0.06,2,    0.00,2,  2403.9,2,  2061.2,2, -999.00,9, -999.00,9