BOTTLE,20221012CCHSIOENA
EXPOCODE,SECT_ID,STNNBR,CASTNO,SAMPNO,BTLNBR,BTLNBR_FLAG_W,DATE,TIME,LATITUDE,LONGITUDE,DEPTH,CTDPRS,CTDTMP,CTDTMP_FLAG_W,SBE35,SBE35_FLAG_W,CTDSAL,CTDSAL_FLAG_W,SALNTY,SALNTY_FLAG_W,CTDOXY,CTDOXY_FLAG_W,OXYGEN,OXYGEN_FLAG_W,SILCAT,SILCAT_FLAG_W,NO2+NO3,NO2+NO3_FLAG_W,PHSPHT,PHSPHT_FLAG_W,ALKALI,ALKALI_FLAG_W,TCARBN,TCARBN_FLAG_W,DELC14,DELC14_FLAG_W,DELC13,DELC13_FLAG_W
 , , , , , , , , , , , ,DBAR,ITS-90, ,ITS-90, ,PSS-78, ,PSS-78, ,UMOL/KG, ,UMOL/KG, ,UMOL/KG, ,UMOL/KG, ,UMOL/KG, ,UMOL/KG, ,UMOL/KG, ,/MILLE, ,/MILLE, 
740H20200119,A05_24N,29,1,1,5977,4,20200125,1045,  26.49939, -76.10147,  4807,  4880.7,  2.1809,2,-999.0000,9, 34.8707,2,-999.0000,9,   255.4,2,  -999.0,5, -999.00,9, -999.00,9, -999.00,9,  -999.0,9,  -999.0,9, -999.00,9, -999.00,9
740H20200119,A05_24N,29,1,2,6406,4,20200125,1045,  26.49939, -76.10147,  4807,  4591.4,  2.2419,2,-999.0000,9, 34.8823,2, 34.9429,4,   260.9,2,   265.9,4,   19.62,4,   18.07,4,    1.20,4,  2314.7,4,  2164.5,4, -999.00,9, -999.00,9
740H20200119,A05_24N,29,1,3,6407,2,20200125,1045,  26.49939, -76.10147,  4807,  4074.1,  2.2684,2,-999.0000,9, 34.8902,2, 34.8893,2,   265.1,2,   268.1,2,   29.88,2,   18.46,2,    1.24,2,  2322.6,2,  2177.4,2, -999.00,9, -999.00,9
740H20200119,A05_24N,29,1,4,6408,4,20200125,1045,  26.49939, -76.10147,  4807,  3557.5,  2.3622,2,-999.0000,9, 34.9001,2,-999.0000,9,   267.9,2,  -999.0,5, -999.00,9, -999.00,9, -999.00,9,  -999.0,9,  -999.0,9, -999.00,9, -999.00,9
740H20200119,A05_24N,29,1,5,6409,2,20200125,1045,  26.49939, -76.10147,  4807,  3041.9,  2.6610,2,-999.0000,9, 34.9190,2, 34.9160,2,   266.9,2,  -999.0,5,   21.60,2,   17.69,2,    1.18,2,  2313.5,6,  2167.6,6, -999.00,9, -999.00,9
740H20200119,A05_24N,29,1,6,6410,2,20200125,1045,  26.49939, -76.10147,  4807,  2528.0,  3.0924,2,-999.0000,9, 34.9445,2, 34.9440,2,   262.1,2,   264.8,2,   19.71,2,   18.02,2,    1.20,2,  2316.5,2,  2168.7,2, -999.00,9, -999.00,9
740H20200119,A05_24N,29,1,7,6411,2,20200125,1045,  26.49939, -76.10147,  4807,  2271.6,  3.3545,2,-999.0000,9, 34.9583,2, 34.9554,2,   260.9,2,   263.3,2,   17.88,2,   18.07,2,    1.20,2,  2310.5,2,  2162.5,2, -999.00,9, -999.00,9
740H20200119,A05_24N,29,1,8,6412,2,20200125,1045,  26.49939, -76.10147,  4807,  2015.6,  3.6429,2,-999.0000,9, 34.9697,2, 34.9682,2,   259.9,2,   262.6,2,   15.25,2,   17.89,2,    1.18,2,  2308.8,2,  2168.8,2, -999.00,9, -999.00,9
740H20200119,A05_24N,29,1,9,6413,2,20200125,1045,  26.49939, -76.10147,  4807,  1759.9,  3.9475,2,-999.0000,9, 34.9846,2, 34.9824,2,   257.1,2,   259.7,2,   13.99,2,   17.95,2,    1.18,2,  2309.2,6,  2164.3,6, -999.00,9, -999.00,9
740H20200119,A05_24N,29,1,10,6414,2,20200125,1045,  26.49939, -76.10147,  4807,  1504.5,  4.5503,2,-999.0000,9, 35.0359,2, 35.0349,2,   245.8,2,   248.4,2,   13.38,2,   18.39,2,    1.20,2,  2312.6,2,  2168.6,2, -999.00,9, -999.00,9
740H20200119,A05_24N,29,1,11,6415,2,20200125,1045,  26.49939, -76.10147,  4807,  1249.1,  5.1413,2,-999.0000,9, 35.0498,2, 35.0490,2,   233.4,2,   235.0,2,   12.87,2,   18.98,2,    1.24,2,  2313.1,6,  2178.7,6, -999.00,9, -999.00,9
740H20200119,A05_24N,29,1,12,6416,3,20200125,1045,  26.49939, -76.10147,  4807,   994.2,  7.0332,2,-999.0000,9, 35.0898,2, 35.0889,3,   175.4,2,   116.8,4,   15.46,3,   23.30,3,    1.50,3,  2315.2,3,  2189.8,3, -999.00,9, -999.00,9
740H20200119,A05_24N,29,1,13,6417,2,20200125,1045,  26.49939, -76.10147,  4807,   882.9,  8.6426,2,-999.0000,9, 35.1600,2, 35.1601,2,   145.7,2,   145.8,2,   15.18,2,   24.87,2,    1.58,2,  2317.2,2,  2192.0,2, -999.00,9, -999.00,9
740H20200119,A05_24N,29,1,14,6418,2,20200125,1045,  26.49939, -76.10147,  4807,   755.7, 11.0759,2,-999.0000,9, 35.4283,2, 35.4358,2,   141.6,2,   142.1,2,   10.68,2,   21.36,2,    1.32,2,  2328.7,2,  2191.1,2, -999.00,9, -999.00,9
740H20200119,A05_24N,29,1,15,6419,2,20200125,1045,  26.49939, -76.10147,  4807,   629.5, 14.1415,2,-999.0000,9, 35.8777,2, 35.8760,2,   158.4,2,   159.0,2,    5.56,2,   14.50,2,    0.85,2,  2348.7,2,  2162.7,2, -999.00,9, -999.00,9
740H20200119,A05_24N,29,1,16,6420,2,20200125,1045,  26.49939, -76.10147,  4807,   503.0, 16.6539,2,-999.0000,9, 36.2775,2, 36.2736,2,   174.1,2,   174.4,2,    2.99,2,    9.02,2,    0.51,2,  2372.7,2,  2151.9,2, -999.00,9, -999.00,9
740H20200119,A05_24N,29,1,17,1122,4,20200125,1045,  26.49939, -76.10147,  4807,   376.8, 18.4727,2,-999.0000,9, 36.5601,2,-999.0000,9,   189.2,2,  -999.0,5, -999.00,9, -999.00,9, -999.00,9,  -999.0,9,  -999.0,9, -999.00,9, -999.00,9
740H20200119,A05_24N,29,1,18,1098,2,20200125,1045,  26.49939, -76.10147,  4807,   250.8, 19.4138,2,-999.0000,9, 36.6673,2, 36.6663,2,   198.9,2,   200.0,2,    1.06,2,    2.32,2,    0.09,2,  2393.1,2,  2108.9,2, -999.00,9, -999.00,9
740H20200119,A05_24N,29,1,19,6692,4,20200125,1045,  26.49939, -76.10147,  4807,   175.9, 20.8003,2,-999.0000,9, 36.7925,2,-999.0000,9,   189.7,2,  -999.0,5, -999.00,9, -999.00,9, -999.00,9,  2393.1,4,  2118.8,4, -999.00,9, -999.00,9
740H20200119,A05_24N,29,1,20,6428,2,20200125,1045,  26.49939, -76.10147,  4807,   102.1, 23.5742,2,-999.0000,9, 36.7708,2, 36.7736,2,   209.3,2,   209.9,2,    0.91,2,    0.05,2,    0.01,2,  2398.3,2,  2064.7,2, -999.00,9, -999.00,9
740H20200119,A05_24N,29,1,21,6425,2,20200125,1045,  26.49939, -76.10147,  4807,    75.9, 23.6119,2,-999.0000,9, 36.7784,2, 36.7782,2,   209.3,2,   210.4,2,    0.92,2,    0.04,2,    0.00,2,  2399.5,2,  2073.3,2, -999.00,9, -999.00,9
740H20200119,A05_24N,29,1,22,6426,2,20200125,1045,  26.49939, -76.10147,  4807,    50.5, 23.6065,2,-999.0000,9, 36.7785,2, 36.7802,2,   209.3,2,   210.1,2,    0.93,2,    0.05,2,    0.00,2,  2397.2,2,  2065.3,2, -999.00,9, -999.00,9
740H20200119,A05_24N,29,1,23,6427,2,20200125,1045,  26.49939, -76.10147,  4807,    25.4, 23.6464,2,-999.0000,9, 36.7851,2, 36.7803,2,   208.9,2,   210.3,2,    0.98,2,    0.04,2,    0.00,2,  2400.3,2,  2069.7,2, -999.00,9, -999.00,9
740H20200119,A05_24N,29,1,24,1086,4,20200125,1045,  26.49939, -76.10147,  4807,     4.7, 23.6519,2,-999.0000,9, 36.7868,2,-999.0000,9,   209.3,2,  -999.0,5, -999.00,9, -999.00,9, -999.00,9,  -999.0,9,  -999.0,9, -999.00,9, -999.00,9
740H20200119,A05_24N,30,1,1,5977,2,20200125,1548,  26.48987, -75.91124,  4748,  4821.7,  2.1566,2,-999.0000,9, 34.8691,2, 34.8696,2,   255.0,2,   258.5,3,   43.95,2,   20.87,2,    1.42,2,  2337.4,6,  2192.2,6, -999.00,9, -999.00,9
740H20200119,A05_24N,30,1,2,6406,2,20200125,1548,  26.48987, -75.91124,  4748,  4821.5,  2.1566,2,-999.0000,9, 34.8691,2,-999.0000,9,   255.0,2,  -999.0,9, -999.00,9, -999.00,9, -999.00,9,  -999.0,9,  -999.0,9, -999.00,9, -999.00,9
740H20200119,A05_24N,30,1,3,6407,2,20200125,1548,  26.48987, -75.91124,  4748,  4307.7,  2.2570,2,-999.0000,9, 34.8872,2, 34.8873,2,   263.3,2,   266.7,2,   32.29,2,   18.89,2,    1.28,2,  2325.3,2,  2183.8,2, -999.00,9, -999.00,9
740H20200119,A05_24N,30,1,4,6408,2,20200125,1548,  26.48987, -75.91124,  4748,  3815.6,  2.2981,2,-999.0000,9, 34.8945,2, 34.8953,2,   266.4,2,   269.6,3,   27.99,2,   18.24,2,    1.23,2,  2320.6,2,  2176.5,2, -999.00,9, -999.00,9
740H20200119,A05_24N,30,1,5,6409,2,20200125,1548,  26.48987, -75.91124,  4748,  3286.2,  2.4660,2,-999.0000,9, 34.9076,2, 34.9059,2,   267.9,2,   271.6,2,   23.61,2,   17.68,2,    1.19,2,  2314.6,6,  2172.7,6, -999.00,9, -999.00,9
740H20200119,A05_24N,30,1,6,6410,2,20200125,1548,  26.48987, -75.91124,  4748,  2779.1,  2.8526,2,-999.0000,9, 34.9312,2, 34.9302,2,   263.9,2,   266.9,2,   21.50,2,   17.98,2,    1.20,2,  2313.1,2,  2165.7,2, -999.00,9, -999.00,9
740H20200119,A05_24N,30,1,7,6411,2,20200125,1548,  26.48987, -75.91124,  4748,  2529.7,  3.0912,2,-999.0000,9, 34.9443,2, 34.9453,2,   262.2,2,   266.1,2,   19.84,2,   18.05,2,    1.21,2,  2314.3,2,  2172.4,2, -999.00,9, -999.00,9
740H20200119,A05_24N,30,1,8,6412,2,20200125,1548,  26.48987, -75.91124,  4748,  2015.1,  3.6712,2,-999.0000,9, 34.9748,2, 34.9738,2,   259.4,2,   262.5,2,   15.99,2,   18.03,2,    1.19,2,  2311.1,2,  2164.8,2, -999.00,9, -999.00,9
740H20200119,A05_24N,30,1,9,6413,2,20200125,1548,  26.48987, -75.91124,  4748,  1771.3,  3.9559,2,-999.0000,9, 34.9828,2, 34.9834,2,   257.5,2,   260.8,2,   13.93,2,   17.95,2,    1.18,2,  2309.3,2,  2169.3,2, -999.00,9, -999.00,9
740H20200119,A05_24N,30,1,10,6414,2,20200125,1548,  26.48987, -75.91124,  4748,  1513.5,  4.3837,2,-999.0000,9, 35.0036,2, 35.0039,2,   251.6,2,   254.8,2,   12.79,2,   18.04,2,    1.19,2,  2307.8,2,  2169.2,2, -999.00,9, -999.00,9
740H20200119,A05_24N,30,1,11,6415,2,20200125,1548,  26.48987, -75.91124,  4748,  1259.4,  5.0457,2,-999.0000,9, 35.0401,2, 35.0391,2,   236.6,2,   241.2,2,   12.64,2,   18.75,2,    1.23,2,  2311.4,2,  2178.4,2, -999.00,9, -999.00,9
740H20200119,A05_24N,30,1,12,6416,2,20200125,1548,  26.48987, -75.91124,  4748,  1006.7,  6.8821,2,-999.0000,9, 35.0805,2, 35.0805,2,   177.4,2,   185.0,2,   15.53,2,   23.08,2,    1.50,2,  2314.5,2,  2189.7,2, -999.00,9, -999.00,9
740H20200119,A05_24N,30,1,13,6417,2,20200125,1548,  26.48987, -75.91124,  4748,   884.1,  8.5862,2,-999.0000,9, 35.1594,2, 35.1460,2,   147.3,2,   149.5,2,   15.53,2,   25.22,2,    1.59,2,  2319.8,6,  2201.0,6, -999.00,9, -999.00,9
740H20200119,A05_24N,30,1,14,6418,2,20200125,1548,  26.48987, -75.91124,  4748,   755.8, 11.1317,2,-999.0000,9, 35.4364,2,-999.0000,5,   141.3,2,   145.4,2,   10.68,2,   21.70,2,    1.32,2,  2327.7,2,  2186.9,2, -999.00,9, -999.00,9
740H20200119,A05_24N,30,1,15,6419,2,20200125,1548,  26.48987, -75.91124,  4748,   626.2, 14.3215,2,-999.0000,9, 35.8947,2, 35.8893,2,   161.1,2,   162.8,2,    5.50,2,   14.36,2,    0.83,2,  2349.4,2,  2162.0,2, -999.00,9, -999.00,9
740H20200119,A05_24N,30,1,16,6420,2,20200125,1548,  26.48987, -75.91124,  4748,   503.2, 16.9393,2,-999.0000,9, 36.3235,2, 36.2924,2,   175.5,2,   177.0,2,    2.93,2,    8.89,2,    0.47,2,  2376.2,2,  2143.2,2, -999.00,9, -999.00,9
740H20200119,A05_24N,30,1,17,1122,2,20200125,1548,  26.48987, -75.91124,  4748,   375.0, 18.6208,2,-999.0000,9, 36.5839,2, 36.5740,2,   196.5,2,   197.2,2,    1.51,2,    4.15,2,    0.18,2,  2388.1,6,  2122.8,6, -999.00,9, -999.00,9
740H20200119,A05_24N,30,1,18,1098,2,20200125,1548,  26.48987, -75.91124,  4748,   251.8, 19.4149,2,-999.0000,9, 36.6665,2, 36.6654,2,   199.6,2,   201.6,3,    1.09,2,    2.34,2,    0.08,2,  -999.0,9,  -999.0,9, -999.00,9, -999.00,9
740H20200119,A05_24N,30,1,19,6692,2,20200125,1548,  26.48987, -75.91124,  4748,   175.4, 20.3363,2,-999.0000,9, 36.7237,2, 36.7217,2,   194.2,2,   196.7,2,    0.89,2,    1.26,2,    0.03,2,  2402.5,2,  2117.1,2, -999.00,9, -999.00,9
740H20200119,A05_24N,30,1,20,6428,2,20200125,1548,  26.48987, -75.91124,  4748,    99.5, 23.4445,2,-999.0000,9, 36.7556,2, 36.7560,2,   208.8,2,   210.1,3,    0.93,2,    0.07,2,    0.01,2,  2399.0,6,  2068.7,6, -999.00,9, -999.00,9
740H20200119,A05_24N,30,1,21,6425,2,20200125,1548,  26.48987, -75.91124,  4748,    78.7, 23.5241,2,-999.0000,9, 36.7520,2, 36.7546,2,   208.7,2,   210.8,2,    0.96,2,    0.06,2,    0.00,2,  2398.2,2,  2065.6,2, -999.00,9, -999.00,9
740H20200119,A05_24N,30,1,22,6426,2,20200125,1548,  26.48987, -75.91124,  4748,    53.6, 23.6855,2,-999.0000,9, 36.7758,2, 36.7739,2,   208.8,2,   210.4,2,    0.97,2,    0.06,2,    0.00,2,  2400.3,2,  2063.5,2, -999.00,9, -999.00,9
740H20200119,A05_24N,30,1,23,6427,2,20200125,1548,  26.48987, -75.91124,  4748,    27.2, 23.8144,2,-999.0000,9, 36.8025,2, 36.8038,2,   208.1,2,   210.4,2,    0.96,2,    0.05,2,    0.00,2,  2401.1,2,  2068.3,2, -999.00,9, -999.00,9
740H20200119,A05_24N,30,1,24,1086,2,20200125,1548,  26.48987, -75.91124,  4748,     7.8, 23.8727,2,-999.0000,9, 36.8080,2, 36.8084,2,   208.6,2,   210.1,2,    0.98,2,    0.05,2,    0.00,2,  2405.6,2,  2071.6,2, -999.00,9, -999.00,9
740H20200119,A05_24N,31,1,11,3044,2,20200125,2115,  26.49657, -75.70927,  4691,  4763.4,  2.1534,2,-999.0000,9, 34.8696,2, 34.8698,2,   255.1,2,   258.2,2,   43.30,2,   21.00,2,    1.42,2,  2334.3,6,  2191.7,6, -999.00,9, -999.00,9
740H20200119,A05_24N,31,1,12,3045,4,20200125,2115,  26.49657, -75.70927,  4691,  4646.0,  2.1968,2,-999.0000,9, 34.8762,2, 35.3560,4,   257.8,2,   198.6,4,   11.92,4,   18.71,4,    1.17,4,  -999.0,9,  2177.9,4, -999.00,9, -999.00,9
740H20200119,A05_24N,31,1,13,3046,2,20200125,2115,  26.49657, -75.70927,  4691,  4074.5,  2.2536,2,-999.0000,9, 34.8892,2, 34.8900,2,   264.7,2,   268.3,2,   30.26,2,   18.76,2,    1.26,2,  2322.7,2,  2179.3,2, -999.00,9, -999.00,9
740H20200119,A05_24N,31,1,14,7131,2,20200125,2115,  26.49657, -75.70927,  4691,  3556.6,  2.3426,2,-999.0000,9, 34.8993,2, 34.8996,2,   267.7,2,   271.4,2,   25.20,2,   18.04,2,    1.20,2,  2318.7,6,  2173.1,6, -999.00,9, -999.00,9
740H20200119,A05_24N,31,1,15,3048,2,20200125,2115,  26.49657, -75.70927,  4691,  3039.1,  2.6401,2,-999.0000,9, 34.9178,2, 34.9180,2,   267.5,2,   271.3,2,   21.15,2,   17.80,2,    1.18,2,  2316.6,6,  2168.7,6, -999.00,9, -999.00,9
740H20200119,A05_24N,31,1,16,3049,2,20200125,2115,  26.49657, -75.70927,  4691,  2523.1,  3.0228,2,-999.0000,9, 34.9392,2,-999.0000,9,   263.6,2,  -999.0,5, -999.00,9, -999.00,9, -999.00,9,  -999.0,9,  -999.0,9, -999.00,9, -999.00,9
740H20200119,A05_24N,31,1,17,3050,2,20200125,2115,  26.49657, -75.70927,  4691,  2265.8,  3.3326,2,-999.0000,9, 34.9533,2, 34.9547,2,   261.9,2,   264.7,2,   17.03,2,   18.13,2,    1.19,2,  2311.1,2,  2164.1,2, -999.00,9, -999.00,9
740H20200119,A05_24N,31,1,18,3051,2,20200125,2115,  26.49657, -75.70927,  4691,  2008.8,  3.6120,2,-999.0000,9, 34.9659,2, 34.9671,2,   260.7,2,   263.7,2,   15.32,2,   18.13,2,    1.18,2,  2312.7,2,  2164.3,2, -999.00,9, -999.00,9
740H20200119,A05_24N,31,1,19,3052,2,20200125,2115,  26.49657, -75.70927,  4691,  1753.9,  3.9378,2,-999.0000,9, 34.9814,2, 34.9832,2,   257.5,2,   261.1,2,   13.73,2,   18.12,2,    1.18,2,  2308.7,2,  2165.8,2, -999.00,9, -999.00,9
740H20200119,A05_24N,31,1,20,3053,2,20200125,2115,  26.49657, -75.70927,  4691,  1499.7,  4.3524,2,-999.0000,9, 35.0073,2, 35.0099,2,   251.5,2,   253.8,2,   12.74,2,   18.36,2,    1.19,2,  2311.6,6,  2169.0,6, -999.00,9, -999.00,9
740H20200119,A05_24N,31,1,21,3054,2,20200125,2115,  26.49657, -75.70927,  4691,  1245.4,  5.0903,2,-999.0000,9, 35.0525,2, 35.0545,2,   233.6,2,   236.1,2,   12.96,2,   19.25,2,    1.25,2,  2318.3,2,  2173.1,2, -999.00,9, -999.00,9
740H20200119,A05_24N,31,1,22,3055,2,20200125,2115,  26.49657, -75.70927,  4691,   991.0,  6.7875,2,-999.0000,9, 35.0860,2, 35.0848,2,   181.9,2,   185.8,2,   15.02,2,   23.13,2,    1.49,2,  2316.1,2,  2190.2,2, -999.00,9, -999.00,9
740H20200119,A05_24N,31,1,23,3056,2,20200125,2115,  26.49657, -75.70927,  4691,   879.8,  8.4811,2,-999.0000,9, 35.1575,2, 35.1554,2,   150.1,2,   154.1,2,   14.66,2,   24.82,2,    1.57,2,  2316.1,2,  2197.4,2, -999.00,9, -999.00,9
740H20200119,A05_24N,31,1,24,3057,2,20200125,2115,  26.49657, -75.70927,  4691,   752.7, 11.2121,2,-999.0000,9, 35.4461,2, 35.4160,2,   142.9,2,   144.4,2,   10.87,2,   21.88,2,    1.34,2,  2326.0,2,  2183.0,2, -999.00,9, -999.00,9
740H20200119,A05_24N,31,1,1,3034,4,20200125,2115,  26.49657, -75.70927,  4691,   626.2, 14.2359,2,-999.0000,9, 35.8848,2,-999.0000,9,   162.9,2,  -999.0,5, -999.00,9, -999.00,9, -999.00,9,  -999.0,9,  -999.0,9, -999.00,9, -999.00,9
740H20200119,A05_24N,31,1,2,3035,2,20200125,2115,  26.49657, -75.70927,  4691,   499.7, 16.7328,2,-999.0000,9, 36.2869,2, 36.2624,2,   174.0,2,   176.4,2,    2.95,2,    9.32,2,    0.51,2,  2370.3,2,  2145.9,2, -999.00,9, -999.00,9
740H20200119,A05_24N,31,1,3,3036,2,20200125,2115,  26.49657, -75.70927,  4691,   373.8, 18.6031,2,-999.0000,9, 36.5784,2, 36.5672,2,   193.8,2,   194.4,2,    1.37,2,    4.29,2,    0.20,2,  2387.6,2,  2125.8,2, -999.00,9, -999.00,9
740H20200119,A05_24N,31,1,4,3037,2,20200125,2115,  26.49657, -75.70927,  4691,   253.4, 19.4344,2,-999.0000,9, 36.6678,2, 36.6666,2,   199.3,2,   201.0,2,    0.95,2,    2.35,2,    0.09,2,  2394.2,2,  2112.8,2, -999.00,9, -999.00,9
740H20200119,A05_24N,31,1,5,3038,2,20200125,2115,  26.49657, -75.70927,  4691,   178.1, 20.7214,2,-999.0000,9, 36.7763,2, 36.7587,2,   190.8,2,   193.4,2,    0.82,2,    0.96,2,    0.02,2,  2397.5,2,  2114.6,2, -999.00,9, -999.00,9
740H20200119,A05_24N,31,1,6,6410,2,20200125,2115,  26.49657, -75.70927,  4691,   102.7, 23.5344,2,-999.0000,9, 36.9304,2, 36.9288,2,   189.5,2,   190.7,2,    0.84,2,    0.72,2,    0.03,2,  2411.0,2,  2100.3,2, -999.00,9, -999.00,9
740H20200119,A05_24N,31,1,7,6411,2,20200125,2115,  26.49657, -75.70927,  4691,    72.6, 23.7903,2,-999.0000,9, 36.7818,2, 36.7889,2,   209.5,2,   209.2,2,    0.94,2,    0.08,2,    0.02,2,  2399.9,2,  2066.5,2, -999.00,9, -999.00,9
740H20200119,A05_24N,31,1,8,6412,2,20200125,2115,  26.49657, -75.70927,  4691,    47.7, 23.8213,2,-999.0000,9, 36.7827,2, 36.7851,2,   208.8,2,   209.6,2,    1.01,2,    0.04,2,    0.01,2,  2401.9,2,  2065.9,2, -999.00,9, -999.00,9
740H20200119,A05_24N,31,1,9,6413,2,20200125,2115,  26.49657, -75.70927,  4691,    22.9, 23.9048,2,-999.0000,9, 36.7736,2, 36.7751,2,   208.8,2,   209.9,2,    1.01,2,    0.05,2,    0.02,2,  2399.0,2,  2064.7,2, -999.00,9, -999.00,9
740H20200119,A05_24N,31,1,10,3043,2,20200125,2115,  26.49657, -75.70927,  4691,     4.5, 24.2062,2,-999.0000,9, 36.7810,2, 36.7827,2,   208.3,2,   208.4,2,    1.23,2,    0.04,2,    0.02,2,  2403.4,6,  2065.8,6, -999.00,9, -999.00,9