BOTTLE,20221012CCHSIOENA
EXPOCODE,SECT_ID,STNNBR,CASTNO,SAMPNO,BTLNBR,BTLNBR_FLAG_W,DATE,TIME,LATITUDE,LONGITUDE,DEPTH,CTDPRS,CTDTMP,CTDTMP_FLAG_W,SBE35,SBE35_FLAG_W,CTDSAL,CTDSAL_FLAG_W,SALNTY,SALNTY_FLAG_W,CTDOXY,CTDOXY_FLAG_W,OXYGEN,OXYGEN_FLAG_W,SILCAT,SILCAT_FLAG_W,NO2+NO3,NO2+NO3_FLAG_W,PHSPHT,PHSPHT_FLAG_W,ALKALI,ALKALI_FLAG_W,TCARBN,TCARBN_FLAG_W,DELC14,DELC14_FLAG_W,DELC13,DELC13_FLAG_W
 , , , , , , , , , , , ,DBAR,ITS-90, ,ITS-90, ,PSS-78, ,PSS-78, ,UMOL/KG, ,UMOL/KG, ,UMOL/KG, ,UMOL/KG, ,UMOL/KG, ,UMOL/KG, ,UMOL/KG, ,/MILLE, ,/MILLE, 
740H20200119,A05_24N,13,1,1,5977,2,20200121,2045,  27.00112, -79.16907,   374,   364.2, 17.6228,2,-999.0000,9, 36.4336,2, 36.4323,2,   176.7,2,   182.3,3,    2.20,2,    6.98,2,    0.33,2,  2382.2,6,  2141.8,6, -999.00,9, -999.00,9
740H20200119,A05_24N,13,1,2,6406,2,20200121,2045,  27.00112, -79.16907,   374,   364.1, 17.6226,2,-999.0000,9, 36.4335,2,-999.0000,9,   176.7,2,  -999.0,9, -999.00,9, -999.00,9, -999.00,9,  -999.0,9,  -999.0,9, -999.00,9, -999.00,9
740H20200119,A05_24N,13,1,3,6407,2,20200121,2045,  27.00112, -79.16907,   374,   329.0, 18.1270,2,-999.0000,9, 36.5076,2, 36.4983,2,   181.1,2,   186.3,3,    1.84,2,    5.84,2,    0.26,2,  2383.7,2,  2139.1,2, -999.00,9, -999.00,9
740H20200119,A05_24N,13,1,4,6408,2,20200121,2045,  27.00112, -79.16907,   374,   329.1, 18.1320,2,-999.0000,9, 36.5068,2,-999.0000,9,   181.2,2,  -999.0,9, -999.00,9, -999.00,9, -999.00,9,  -999.0,9,  -999.0,9, -999.00,9, -999.00,9
740H20200119,A05_24N,13,1,5,6409,2,20200121,2045,  27.00112, -79.16907,   374,   293.9, 18.6304,2,-999.0000,9, 36.5778,2, 36.5713,2,   186.8,2,   193.2,3,    1.46,2,    4.45,2,    0.18,2,  2396.3,6,  2129.8,6, -999.00,9, -999.00,9
740H20200119,A05_24N,13,1,6,6410,2,20200121,2045,  27.00112, -79.16907,   374,   293.9, 18.6251,2,-999.0000,9, 36.5775,2,-999.0000,9,   187.1,2,  -999.0,9, -999.00,9, -999.00,9, -999.00,9,  -999.0,9,  -999.0,9, -999.00,9, -999.00,9
740H20200119,A05_24N,13,1,7,6411,2,20200121,2045,  27.00112, -79.16907,   374,   253.7, 19.4111,2,-999.0000,9, 36.6623,2, 36.6637,2,   191.6,2,   196.5,3,    1.05,2,    2.64,2,    0.08,2,  2393.1,2,  2124.5,2, -999.00,9, -999.00,9
740H20200119,A05_24N,13,1,8,6412,2,20200121,2045,  27.00112, -79.16907,   374,   253.7, 19.3987,2,-999.0000,9, 36.6607,2,-999.0000,9,   191.8,2,  -999.0,9, -999.00,9, -999.00,9, -999.00,9,  -999.0,9,  -999.0,9, -999.00,9, -999.00,9
740H20200119,A05_24N,13,1,9,6413,2,20200121,2045,  27.00112, -79.16907,   374,   203.3, 20.5719,2,-999.0000,9, 36.7515,2, 36.7501,2,   187.6,2,   192.6,3,    0.86,2,    1.76,2,    0.04,2,  2401.9,6,  2118.2,6, -999.00,9, -999.00,9
740H20200119,A05_24N,13,1,10,6414,2,20200121,2045,  27.00112, -79.16907,   374,   203.2, 20.5821,2,-999.0000,9, 36.7516,2,-999.0000,9,   187.6,2,  -999.0,9, -999.00,9, -999.00,9, -999.00,9,  -999.0,9,  -999.0,9, -999.00,9, -999.00,9
740H20200119,A05_24N,13,1,11,6415,2,20200121,2045,  27.00112, -79.16907,   374,   153.1, 22.6426,2,-999.0000,9, 36.8203,2, 36.8189,2,   185.6,2,   190.1,3,    0.81,2,    1.19,2,    0.02,2,  2402.1,2,  2111.9,2, -999.00,9, -999.00,9
740H20200119,A05_24N,13,1,12,6416,2,20200121,2045,  27.00112, -79.16907,   374,   153.0, 22.7091,2,-999.0000,9, 36.8244,2,-999.0000,9,   186.3,2,  -999.0,9, -999.00,9, -999.00,9, -999.00,9,  -999.0,9,  -999.0,9, -999.00,9, -999.00,9
740H20200119,A05_24N,13,1,13,6417,2,20200121,2045,  27.00112, -79.16907,   374,   127.5, 24.4119,2,-999.0000,9, 36.7510,2, 36.7615,2,   189.2,2,   194.4,3,    0.86,2,    0.63,2,   -0.01,2,  2394.7,6,  2086.2,6, -999.00,9, -999.00,9
740H20200119,A05_24N,13,1,14,6418,2,20200121,2045,  27.00112, -79.16907,   374,   127.7, 24.4740,2,-999.0000,9, 36.7430,2,-999.0000,9,   190.8,2,  -999.0,9, -999.00,9, -999.00,9, -999.00,9,  -999.0,9,  -999.0,9, -999.00,9, -999.00,9
740H20200119,A05_24N,13,1,15,6419,2,20200121,2045,  27.00112, -79.16907,   374,   102.2, 24.7506,2,-999.0000,9, 36.5944,2, 36.5889,2,   198.2,2,   202.3,3,    0.87,2,    0.05,2,   -0.03,2,  2388.8,2,  2071.9,2, -999.00,9, -999.00,9
740H20200119,A05_24N,13,1,16,6420,2,20200121,2045,  27.00112, -79.16907,   374,   102.1, 24.7487,2,-999.0000,9, 36.5926,2,-999.0000,9,   198.2,2,  -999.0,9, -999.00,9, -999.00,9, -999.00,9,  -999.0,9,  -999.0,9, -999.00,9, -999.00,9
740H20200119,A05_24N,13,1,17,1122,2,20200121,2045,  27.00112, -79.16907,   374,    82.1, 24.8849,2,-999.0000,9, 36.6444,2,-999.0000,5,   197.8,2,   202.3,3,    0.86,2,    0.07,2,   -0.03,2,  2397.8,2,  2069.8,2, -999.00,9, -999.00,9
740H20200119,A05_24N,13,1,18,1098,2,20200121,2045,  27.00112, -79.16907,   374,    82.2, 24.8976,2,-999.0000,9, 36.6497,2,-999.0000,9,   198.9,2,  -999.0,9, -999.00,9, -999.00,9, -999.00,9,  -999.0,9,  -999.0,9, -999.00,9, -999.00,9
740H20200119,A05_24N,13,1,19,6692,2,20200121,2045,  27.00112, -79.16907,   374,    52.7, 24.9800,2,-999.0000,9, 36.6438,2, 36.6455,2,   201.0,2,   204.5,3,    0.85,2,   -0.07,2,   -0.03,2,  2390.5,6,  2064.4,6, -999.00,9, -999.00,9
740H20200119,A05_24N,13,1,20,6428,2,20200121,2045,  27.00112, -79.16907,   374,    52.1, 24.9795,2,-999.0000,9, 36.6436,2,-999.0000,9,   199.9,2,  -999.0,9, -999.00,9, -999.00,9, -999.00,9,  -999.0,9,  -999.0,9, -999.00,9, -999.00,9
740H20200119,A05_24N,13,1,21,6425,2,20200121,2045,  27.00112, -79.16907,   374,    27.4, 24.9040,2,-999.0000,9, 36.5821,2, 36.5748,2,   201.5,2,   206.0,3,    0.91,2,   -0.03,2,   -0.03,2,  2387.5,2,  2060.1,2, -999.00,9, -999.00,9
740H20200119,A05_24N,13,1,22,6426,2,20200121,2045,  27.00112, -79.16907,   374,    27.2, 24.8980,2,-999.0000,9, 36.5803,2,-999.0000,9,   201.6,2,  -999.0,9, -999.00,9, -999.00,9, -999.00,9,  -999.0,9,  -999.0,9, -999.00,9, -999.00,9
740H20200119,A05_24N,13,1,23,6427,2,20200121,2045,  27.00112, -79.16907,   374,     6.7, 24.8640,2,-999.0000,9, 36.5658,2, 36.5672,2,   201.8,2,   206.4,3,    0.94,2,   -0.01,2,   -0.03,2,  2391.3,2,  2067.0,2, -999.00,9, -999.00,9
740H20200119,A05_24N,13,1,24,1086,2,20200121,2045,  27.00112, -79.16907,   374,     6.8, 24.8659,2,-999.0000,9, 36.5664,2,-999.0000,9,   201.9,2,  -999.0,9, -999.00,9, -999.00,9, -999.00,9,  -999.0,9,  -999.0,9, -999.00,9, -999.00,9
740H20200119,A05_24N,14,1,1,5977,2,20200122,2348,  26.50072, -76.93138,   441,   371.9, 18.5308,2,-999.0000,9, 36.5693,2, 36.5881,2,   186.7,2,   193.6,3,    1.43,2,    4.11,2,    0.19,2,  2390.2,6,  2128.5,6, -999.00,9, -999.00,9
740H20200119,A05_24N,14,1,2,6406,2,20200122,2348,  26.50072, -76.93138,   441,   371.9, 18.5528,2,-999.0000,9, 36.5704,2,-999.0000,9,   186.5,2,  -999.0,9, -999.00,9, -999.00,9, -999.00,9,  -999.0,9,  -999.0,9, -999.00,9, -999.00,9
740H20200119,A05_24N,14,1,3,6407,2,20200122,2348,  26.50072, -76.93138,   441,   306.1, 19.2592,2,-999.0000,9, 36.6510,2, 36.6438,2,   194.0,2,   198.0,3,    1.20,2,    2.99,2,    0.12,2,  2393.2,2,  2119.2,2, -999.00,9, -999.00,9
740H20200119,A05_24N,14,1,4,6408,2,20200122,2348,  26.50072, -76.93138,   441,   306.2, 19.2238,2,-999.0000,9, 36.6470,2,-999.0000,9,   194.2,2,  -999.0,9, -999.00,9, -999.00,9, -999.00,9,  -999.0,9,  -999.0,9, -999.00,9, -999.00,9
740H20200119,A05_24N,14,1,5,6409,2,20200122,2348,  26.50072, -76.93138,   441,   255.6, 19.7289,2,-999.0000,9, 36.6932,2, 36.6893,2,   192.3,2,   196.3,3,    1.02,2,    2.23,2,    0.08,2,  2399.9,2,  2123.1,2, -999.00,9, -999.00,9
740H20200119,A05_24N,14,1,6,6410,2,20200122,2348,  26.50072, -76.93138,   441,   255.6, 19.7285,2,-999.0000,9, 36.6935,2,-999.0000,9,   192.5,2,  -999.0,9, -999.00,9, -999.00,9, -999.00,9,  -999.0,9,  -999.0,9, -999.00,9, -999.00,9
740H20200119,A05_24N,14,1,7,6411,2,20200122,2348,  26.50072, -76.93138,   441,   230.4, 20.1503,2,-999.0000,9, 36.7268,2, 36.7196,2,   189.0,2,   193.5,3,    0.98,2,    1.89,2,    0.06,2,  2398.0,2,  2120.4,2, -999.00,9, -999.00,9
740H20200119,A05_24N,14,1,8,6412,2,20200122,2348,  26.50072, -76.93138,   441,   230.2, 20.1516,2,-999.0000,9, 36.7267,2,-999.0000,9,   189.2,2,  -999.0,9, -999.00,9, -999.00,9, -999.00,9,  -999.0,9,  -999.0,9, -999.00,9, -999.00,9
740H20200119,A05_24N,14,1,9,6413,2,20200122,2348,  26.50072, -76.93138,   441,   195.0, 22.5063,2,-999.0000,9, 36.8309,2, 36.8263,2,   189.1,2,   192.7,3,    0.86,2,    1.08,2,    0.04,2,  2406.7,6,  2114.7,6, -999.00,9, -999.00,9
740H20200119,A05_24N,14,1,10,6414,2,20200122,2348,  26.50072, -76.93138,   441,   194.8, 22.4743,2,-999.0000,9, 36.8437,2,-999.0000,9,   188.4,2,  -999.0,9, -999.00,9, -999.00,9, -999.00,9,  -999.0,9,  -999.0,9, -999.00,9, -999.00,9
740H20200119,A05_24N,14,1,11,6415,2,20200122,2348,  26.50072, -76.93138,   441,   180.4, 23.8647,2,-999.0000,9, 36.8104,2, 36.8263,2,   195.0,2,   195.6,3,    0.84,2,    0.61,2,    0.02,2,  2408.4,2,  2097.9,2, -999.00,9, -999.00,9
740H20200119,A05_24N,14,1,12,6416,2,20200122,2348,  26.50072, -76.93138,   441,   180.4, 23.8506,2,-999.0000,9, 36.8117,2,-999.0000,9,   194.6,2,  -999.0,9, -999.00,9, -999.00,9, -999.00,9,  -999.0,9,  -999.0,9, -999.00,9, -999.00,9
740H20200119,A05_24N,14,1,13,6417,2,20200122,2348,  26.50072, -76.93138,   441,   154.7, 24.1357,2,-999.0000,9, 36.7707,2, 36.7810,2,   202.9,2,   203.1,3,    0.88,2,    0.17,2,    0.00,2,  2399.3,2,  2075.5,2, -999.00,9, -999.00,9
740H20200119,A05_24N,14,1,14,6418,2,20200122,2348,  26.50072, -76.93138,   441,   154.9, 24.1364,2,-999.0000,9, 36.7708,2,-999.0000,9,   203.5,2,  -999.0,9, -999.00,9, -999.00,9, -999.00,9,  -999.0,9,  -999.0,9, -999.00,9, -999.00,9
740H20200119,A05_24N,14,1,15,6419,2,20200122,2348,  26.50072, -76.93138,   441,   105.9, 24.5087,2,-999.0000,9, 36.7602,2, 36.7594,2,   204.1,2,   206.5,3,    0.90,2,    0.01,2,    0.00,2,  2402.7,2,  2087.6,2, -999.00,9, -999.00,9
740H20200119,A05_24N,14,1,16,6420,2,20200122,2348,  26.50072, -76.93138,   441,   107.3, 24.4947,2,-999.0000,9, 36.7598,2,-999.0000,9,   204.0,2,  -999.0,9, -999.00,9, -999.00,9, -999.00,9,  -999.0,9,  -999.0,9, -999.00,9, -999.00,9
740H20200119,A05_24N,14,1,17,1122,2,20200122,2348,  26.50072, -76.93138,   441,    79.9, 24.5659,2,-999.0000,9, 36.7560,2, 36.7572,2,   204.0,2,   205.9,3,    0.92,2,    0.00,2,    0.00,2,  2398.7,2,  2064.0,2, -999.00,9, -999.00,9
740H20200119,A05_24N,14,1,18,1098,2,20200122,2348,  26.50072, -76.93138,   441,    81.2, 24.5562,2,-999.0000,9, 36.7563,2,-999.0000,9,   204.2,2,  -999.0,9, -999.00,9, -999.00,9, -999.00,9,  -999.0,9,  -999.0,9, -999.00,9, -999.00,9
740H20200119,A05_24N,14,1,19,6692,2,20200122,2348,  26.50072, -76.93138,   441,    54.6, 24.6827,2,-999.0000,9, 36.7493,2, 36.7509,2,   203.7,2,   205.6,3,    0.95,2,    0.01,2,    0.00,2,  2403.0,2,  2068.6,2, -999.00,9, -999.00,9
740H20200119,A05_24N,14,1,20,6428,2,20200122,2348,  26.50072, -76.93138,   441,    55.0, 24.6894,2,-999.0000,9, 36.7488,2,-999.0000,9,   203.3,2,  -999.0,9, -999.00,9, -999.00,9, -999.00,9,  -999.0,9,  -999.0,9, -999.00,9, -999.00,9
740H20200119,A05_24N,14,1,21,6425,2,20200122,2348,  26.50072, -76.93138,   441,    29.7, 24.7288,2,-999.0000,9, 36.7454,2, 36.7465,2,   204.1,2,   205.6,3,    0.98,2,    0.02,2,    0.00,2,  2397.0,2,  2062.6,2, -999.00,9, -999.00,9
740H20200119,A05_24N,14,1,22,6426,2,20200122,2348,  26.50072, -76.93138,   441,    30.0, 24.7285,2,-999.0000,9, 36.7455,2,-999.0000,9,   203.5,2,  -999.0,9, -999.00,9, -999.00,9, -999.00,9,  -999.0,9,  -999.0,9, -999.00,9, -999.00,9
740H20200119,A05_24N,14,1,23,6427,2,20200122,2348,  26.50072, -76.93138,   441,     9.0, 24.7213,2,-999.0000,9, 36.7455,2, 36.7463,2,   202.8,2,   205.4,3,    1.03,2,    0.01,2,    0.00,2,  2400.8,2,  2070.9,2, -999.00,9, -999.00,9
740H20200119,A05_24N,14,1,24,1086,2,20200122,2348,  26.50072, -76.93138,   441,     9.0, 24.7205,2,-999.0000,9, 36.7455,2,-999.0000,9,   203.5,2,  -999.0,9, -999.00,9, -999.00,9, -999.00,9,  -999.0,9,  -999.0,9, -999.00,9, -999.00,9
740H20200119,A05_24N,15,1,1,5977,2,20200123,0254,  26.49962, -76.86578,    -9,  1208.4,  4.9481,2,-999.0000,9, 35.0311,2, 35.0310,2,   238.2,2,   244.1,3,   12.69,2,   18.79,2,    1.22,2,  2261.7,6,  2178.5,6, -999.00,9, -999.00,9
740H20200119,A05_24N,15,1,2,6406,2,20200123,0254,  26.49962, -76.86578,    -9,  1207.3,  4.9451,2,-999.0000,9, 35.0309,2,-999.0000,9,   237.8,2,  -999.0,9, -999.00,9, -999.00,9, -999.00,9,  -999.0,9,  -999.0,9, -999.00,9, -999.00,9
740H20200119,A05_24N,15,1,3,6407,2,20200123,0254,  26.49962, -76.86578,    -9,   910.9,  7.1974,2,-999.0000,9, 35.1084,2, 35.1079,2,   175.5,2,   180.3,3,   14.73,2,   22.82,2,    1.48,2,  2316.6,2,  2195.2,2, -999.00,9, -999.00,9
740H20200119,A05_24N,15,1,4,6408,2,20200123,0254,  26.49962, -76.86578,    -9,   911.2,  7.1961,2,-999.0000,9, 35.1089,2,-999.0000,9,   175.6,2,  -999.0,9, -999.00,9, -999.00,9, -999.00,9,  -999.0,9,  -999.0,9, -999.00,9, -999.00,9
740H20200119,A05_24N,15,1,5,6409,2,20200123,0254,  26.49962, -76.86578,    -9,   809.3,  8.8755,2,-999.0000,9, 35.1899,2, 35.1907,2,   145.5,2,   149.2,3,   14.55,2,   24.41,2,    1.55,2,  2324.7,2,  2197.6,2, -999.00,9, -999.00,9
740H20200119,A05_24N,15,1,6,6410,2,20200123,0254,  26.49962, -76.86578,    -9,   809.3,  8.8782,2,-999.0000,9, 35.1901,2,-999.0000,9,   145.5,2,  -999.0,9, -999.00,9, -999.00,9, -999.00,9,  -999.0,9,  -999.0,9, -999.00,9, -999.00,9
740H20200119,A05_24N,15,1,7,6411,2,20200123,0254,  26.49962, -76.86578,    -9,   727.9, 10.1245,2,-999.0000,9, 35.3198,2, 35.1913,4,   141.2,2,   145.4,3,   12.66,2,   23.09,2,    1.45,2,  2322.4,2,  2193.3,2, -999.00,9, -999.00,9
740H20200119,A05_24N,15,1,8,6412,2,20200123,0254,  26.49962, -76.86578,    -9,   727.5, 10.1049,2,-999.0000,9, 35.3170,2,-999.0000,9,   140.8,2,  -999.0,9, -999.00,9, -999.00,9, -999.00,9,  -999.0,9,  -999.0,9, -999.00,9, -999.00,9
740H20200119,A05_24N,15,1,9,6413,2,20200123,0254,  26.49962, -76.86578,    -9,   658.3, 12.1647,2,-999.0000,9, 35.5819,2, 35.5812,2,   145.9,2,   149.0,3,    8.86,2,   19.09,2,    1.16,2,  2345.1,2,  2182.7,2, -999.00,9, -999.00,9
740H20200119,A05_24N,15,1,10,6414,2,20200123,0254,  26.49962, -76.86578,    -9,   658.4, 12.1849,2,-999.0000,9, 35.5844,2,-999.0000,9,   146.0,2,  -999.0,9, -999.00,9, -999.00,9, -999.00,9,  -999.0,9,  -999.0,9, -999.00,9, -999.00,9
740H20200119,A05_24N,15,1,11,6415,2,20200123,0254,  26.49962, -76.86578,    -9,   406.1, 17.9671,2,-999.0000,9, 36.4915,2, 36.4886,2,   178.5,2,   181.8,3,    1.94,2,    6.26,2,    0.30,2,  2382.7,2,  2139.7,2, -999.00,9, -999.00,9
740H20200119,A05_24N,15,1,12,6416,2,20200123,0254,  26.49962, -76.86578,    -9,   405.5, 17.9808,2,-999.0000,9, 36.4937,2,-999.0000,9,   178.8,2,  -999.0,9, -999.00,9, -999.00,9, -999.00,9,  -999.0,9,  -999.0,9, -999.00,9, -999.00,9
740H20200119,A05_24N,15,1,13,6417,2,20200123,0254,  26.49962, -76.86578,    -9,   304.3, 19.2114,2,-999.0000,9, 36.6483,2, 36.6510,2,   194.1,2,   197.0,3,    1.13,2,    2.90,2,    0.11,2,  2395.4,6,  2118.8,6, -999.00,9, -999.00,9
740H20200119,A05_24N,15,1,14,6418,2,20200123,0254,  26.49962, -76.86578,    -9,   304.3, 19.2224,2,-999.0000,9, 36.6487,2,-999.0000,9,   194.1,2,  -999.0,9, -999.00,9, -999.00,9, -999.00,9,  -999.0,9,  -999.0,9, -999.00,9, -999.00,9
740H20200119,A05_24N,15,1,15,6419,2,20200123,0254,  26.49962, -76.86578,    -9,   223.0, 20.1082,2,-999.0000,9, 36.7230,2, 36.7275,2,   188.3,2,   190.7,3,    0.98,2,    1.91,2,    0.06,2,  2403.9,2,  2121.4,2, -999.00,9, -999.00,9
740H20200119,A05_24N,15,1,16,6420,2,20200123,0254,  26.49962, -76.86578,    -9,   223.0, 20.1419,2,-999.0000,9, 36.7258,2,-999.0000,9,   188.2,2,  -999.0,9, -999.00,9, -999.00,9, -999.00,9,  -999.0,9,  -999.0,9, -999.00,9, -999.00,9
740H20200119,A05_24N,15,1,17,1122,2,20200123,0254,  26.49962, -76.86578,    -9,   173.1, 22.5176,2,-999.0000,9, 36.8537,2, 36.8467,4,   187.4,2,   190.4,3,    0.77,2,    1.00,2,    0.03,2,  2405.9,2,  2107.8,2, -999.00,9, -999.00,9
740H20200119,A05_24N,15,1,18,1098,2,20200123,0254,  26.49962, -76.86578,    -9,   173.2, 22.6056,2,-999.0000,9, 36.8554,2,-999.0000,9,   188.1,2,  -999.0,9, -999.00,9, -999.00,9, -999.00,9,  -999.0,9,  -999.0,9, -999.00,9, -999.00,9
740H20200119,A05_24N,15,1,19,6692,2,20200123,0254,  26.49962, -76.86578,    -9,   142.1, 24.1885,2,-999.0000,9, 36.7699,2, 36.7765,2,   202.3,2,   203.9,3,    0.83,2,    0.11,2,    0.00,2,  2405.5,2,  2097.4,2, -999.00,9, -999.00,9
740H20200119,A05_24N,15,1,20,6428,2,20200123,0254,  26.49962, -76.86578,    -9,   141.9, 24.1838,2,-999.0000,9, 36.7703,2,-999.0000,9,   202.2,2,  -999.0,9, -999.00,9, -999.00,9, -999.00,9,  -999.0,9,  -999.0,9, -999.00,9, -999.00,9
740H20200119,A05_24N,15,1,21,6425,2,20200123,0254,  26.49962, -76.86578,    -9,   102.2, 24.6883,2,-999.0000,9, 36.7416,2, 36.7477,2,   203.1,2,   206.1,3,    0.93,2,    0.02,2,    0.00,2,  2397.5,2,  2062.4,2, -999.00,9, -999.00,9
740H20200119,A05_24N,15,1,22,6426,2,20200123,0254,  26.49962, -76.86578,    -9,   102.3, 24.6593,2,-999.0000,9, 36.7417,2,-999.0000,9,   202.6,2,  -999.0,9, -999.00,9, -999.00,9, -999.00,9,  -999.0,9,  -999.0,9, -999.00,9, -999.00,9
740H20200119,A05_24N,15,1,23,6427,2,20200123,0254,  26.49962, -76.86578,    -9,    12.0, 24.7805,2,-999.0000,9, 36.7401,2, 36.7415,2,   203.6,2,   204.7,3,    0.98,2,    0.01,2,    0.00,2,  2399.1,6,  2064.7,2, -999.00,9, -999.00,9
740H20200119,A05_24N,15,1,24,1086,2,20200123,0254,  26.49962, -76.86578,    -9,    11.9, 24.7808,2,-999.0000,9, 36.7401,2,-999.0000,9,   203.1,2,  -999.0,9, -999.00,9, -999.00,9, -999.00,9,  -999.0,9,  -999.0,9, -999.00,9, -999.00,9