BOTTLE,20221012CCHSIOENA
EXPOCODE,SECT_ID,STNNBR,CASTNO,SAMPNO,BTLNBR,BTLNBR_FLAG_W,DATE,TIME,LATITUDE,LONGITUDE,DEPTH,CTDPRS,CTDTMP,CTDTMP_FLAG_W,SBE35,SBE35_FLAG_W,CTDSAL,CTDSAL_FLAG_W,SALNTY,SALNTY_FLAG_W,CTDOXY,CTDOXY_FLAG_W,OXYGEN,OXYGEN_FLAG_W,SILCAT,SILCAT_FLAG_W,NO2+NO3,NO2+NO3_FLAG_W,PHSPHT,PHSPHT_FLAG_W,ALKALI,ALKALI_FLAG_W,TCARBN,TCARBN_FLAG_W,DELC14,DELC14_FLAG_W,DELC13,DELC13_FLAG_W
 , , , , , , , , , , , ,DBAR,ITS-90, ,ITS-90, ,PSS-78, ,PSS-78, ,UMOL/KG, ,UMOL/KG, ,UMOL/KG, ,UMOL/KG, ,UMOL/KG, ,UMOL/KG, ,UMOL/KG, ,/MILLE, ,/MILLE, 
740H20200119,A05_24N,59,1,11,3044,2,20200202,2003,  24.50045, -63.26507,  5803,  5907.2,  2.0869,2,  2.0867,2, 34.8430,2, 34.8448,2,   248.9,2,   249.0,2,   57.33,2,   23.02,2,    1.56,2,  2345.9,6,  2203.4,2, -999.00,9, -999.00,9
740H20200119,A05_24N,59,1,12,3045,2,20200202,2003,  24.50045, -63.26507,  5803,  5606.8,  2.0570,2,  2.0569,2, 34.8446,2, 34.8460,2,   249.3,2,   251.4,2,   56.43,2,   22.80,2,    1.56,2,  2340.7,2,  2204.3,2, -999.00,9, -999.00,9
740H20200119,A05_24N,59,1,13,3046,2,20200202,2003,  24.50045, -63.26507,  5803,  5086.6,  2.0899,2,  2.0909,2, 34.8573,2, 34.8594,2,   252.6,2,   253.9,2,   50.56,2,   21.94,2,    1.50,2,  2340.8,6,  2199.3,6, -999.00,9, -999.00,9
740H20200119,A05_24N,59,1,14,7131,2,20200202,2003,  24.50045, -63.26507,  5803,  4572.3,  2.2411,2,  2.2412,2, 34.8825,2, 34.8830,2,   260.8,2,   261.5,2,   37.39,2,   19.85,2,    1.34,2,  2331.1,2,  2166.2,3, -999.00,9, -999.00,9
740H20200119,A05_24N,59,1,15,3048,2,20200202,2003,  24.50045, -63.26507,  5803,  4059.4,  2.3184,2,  2.3186,2, 34.8941,2, 34.8946,2,   263.6,2,   263.5,2,   32.57,2,   19.17,4,    1.30,4,  2326.7,6,  2175.5,6, -999.00,9, -999.00,9
740H20200119,A05_24N,59,1,16,3049,2,20200202,2003,  24.50045, -63.26507,  5803,  3553.3,  2.4928,2,  2.4937,2, 34.9088,2, 34.9101,2,   256.5,2,   256.6,2,   35.77,2,   20.30,4,    1.37,4,  2333.3,2,  2181.9,2, -999.00,9, -999.00,9
740H20200119,A05_24N,59,1,17,3050,2,20200202,2003,  24.50045, -63.26507,  5803,  3038.4,  2.7883,2,  2.7882,2, 34.9349,2, 34.9351,2,   253.4,2,   254.0,2,   32.00,2,   20.10,2,    1.36,2,  2327.3,2,  2141.0,3, -999.00,9, -999.00,9
740H20200119,A05_24N,59,1,18,3051,2,20200202,2003,  24.50045, -63.26507,  5803,  2524.3,  3.0979,2,  3.0988,2, 34.9629,2, 34.9637,2,   251.0,2,   251.4,2,   28.32,2,   19.89,2,    1.33,2,  2327.8,6,  2175.3,6, -999.00,9, -999.00,9
740H20200119,A05_24N,59,1,19,3052,2,20200202,2003,  24.50045, -63.26507,  5803,  2017.7,  3.7088,2,  3.7125,2, 35.0102,2, 35.0109,2,   251.1,2,   251.3,2,   20.34,2,   19.03,2,    1.26,2,  2320.8,2,  2173.3,2, -999.00,9, -999.00,9
740H20200119,A05_24N,59,1,20,3053,2,20200202,2003,  24.50045, -63.26507,  5803,  1772.0,  4.3031,2,  4.3127,2, 35.0592,2, 35.0935,4,   244.5,2,   245.7,2,   16.90,2,   18.98,2,    1.24,2,  2320.8,2,  2163.5,2, -999.00,9, -999.00,9
740H20200119,A05_24N,59,1,21,3054,2,20200202,2003,  24.50045, -63.26507,  5803,  1517.3,  4.9999,2,  5.0089,2, 35.0928,2,-999.0000,9,   234.2,2,   236.3,2,   14.27,2,   19.28,2,    1.25,2,  2318.0,2,  2176.8,2, -999.00,9, -999.00,9
740H20200119,A05_24N,59,1,22,3055,2,20200202,2003,  24.50045, -63.26507,  5803,  1262.3,  5.7758,2,  5.7783,2, 35.0645,2, 35.0638,2,   209.1,2,   212.7,2,   14.29,2,   21.11,2,    1.37,2,  2317.6,2,  2179.3,2, -999.00,9, -999.00,9
740H20200119,A05_24N,59,1,23,3056,2,20200202,2003,  24.50045, -63.26507,  5803,  1008.6,  7.4081,2,  7.3664,2, 35.0434,2, 35.0394,2,   151.9,2,   155.6,2,   17.63,2,   26.61,2,    1.71,2,  2316.3,2,  2201.0,2, -999.00,9, -999.00,9
740H20200119,A05_24N,59,1,24,3057,2,20200202,2003,  24.50045, -63.26507,  5803,   881.7,  9.4628,2,  9.5347,2, 35.2498,2, 35.2268,2,   141.0,2,   145.5,2,   13.86,2,   24.81,2,    1.54,2,  2321.8,2,  2191.7,2, -999.00,9, -999.00,9
740H20200119,A05_24N,59,1,1,3034,2,20200202,2003,  24.50045, -63.26507,  5803,   754.8, 12.0302,2, 12.1171,2, 35.5729,2, 35.5639,2,   148.6,2,   152.7,2,    8.46,2,   19.54,2,    1.15,2,  2334.9,6,  2183.1,6, -999.00,9, -999.00,9
740H20200119,A05_24N,59,1,2,3035,2,20200202,2003,  24.50045, -63.26507,  5803,   628.9, 14.5747,2, 14.5774,2, 35.9682,2, 35.9527,2,   164.7,2,  -999.0,9,    4.41,2,   13.50,2,    0.76,2,  2356.2,2,  2166.2,2, -999.00,9, -999.00,9
740H20200119,A05_24N,59,1,3,3036,2,20200202,2003,  24.50045, -63.26507,  5803,   502.4, 16.9481,2, 16.9759,2, 36.3332,2, 36.3184,2,   178.2,2,   178.4,2,    2.41,2,    8.72,2,    0.45,2,  2376.2,2,  2148.4,2, -999.00,9, -999.00,9
740H20200119,A05_24N,59,1,4,3037,2,20200202,2003,  24.50045, -63.26507,  5803,   376.9, 18.5372,2, 18.5446,2, 36.5800,2, 36.5780,2,   207.1,2,   207.6,2,    1.08,2,    3.49,2,    0.15,2,  2390.8,2,  2118.9,2, -999.00,9, -999.00,9
740H20200119,A05_24N,59,1,5,3038,2,20200202,2003,  24.50045, -63.26507,  5803,   251.2, 19.3095,2, 19.3276,2, 36.6537,2, 36.6497,2,   203.0,2,   203.3,2,    0.80,2,    2.35,2,    0.07,2,  2390.3,2,  2115.9,2, -999.00,9, -999.00,9
740H20200119,A05_24N,59,1,6,6410,2,20200202,2003,  24.50045, -63.26507,  5803,   175.5, 20.6411,2, 20.6395,2, 36.8237,2, 36.8044,2,   196.2,2,   197.6,2,    0.58,2,    0.89,2,    0.01,2,  2403.3,2,  2117.9,2, -999.00,9, -999.00,9
740H20200119,A05_24N,59,1,7,6411,2,20200202,2003,  24.50045, -63.26507,  5803,   115.5, 23.0195,2, 23.0440,2, 37.1069,2, 37.1026,2,   209.8,2,   209.1,2,    0.55,2,    0.20,2,    0.00,2,  2427.0,6,  2100.6,6, -999.00,9, -999.00,9
740H20200119,A05_24N,59,1,8,6412,2,20200202,2003,  24.50045, -63.26507,  5803,    90.4, 23.9885,2, 24.1273,2, 37.0833,2, 37.0853,2,   212.4,2,   210.7,2,    0.63,2,    0.19,2,   -0.01,2,  2422.0,2,  2087.4,2, -999.00,9, -999.00,9
740H20200119,A05_24N,59,1,9,6413,2,20200202,2003,  24.50045, -63.26507,  5803,    50.1, 24.7402,2, 24.7381,2, 36.9468,2, 36.9489,2,   210.1,2,   208.8,2,    0.99,2,    0.19,2,   -0.01,2,  2416.9,2,  2039.2,3, -999.00,9, -999.00,9
740H20200119,A05_24N,59,1,10,3043,2,20200202,2003,  24.50045, -63.26507,  5803,     5.3, 24.8322,2, 24.8288,2, 36.8826,2, 36.8834,2,   208.8,2,   207.6,2,    1.02,2,    0.18,2,   -0.01,2,  2412.2,2,  2063.1,2, -999.00,9, -999.00,9
740H20200119,A05_24N,60,1,11,3044,2,20200203,0434,  24.49994, -62.53129,  5880,  5986.0,  2.0996,2,  2.0992,2, 34.8432,2, 34.8430,2,   249.2,2,   248.6,2,   57.48,2,   23.82,2,    1.56,2,  2343.2,6,  2203.9,6, -999.00,9, -999.00,9
740H20200119,A05_24N,60,1,12,3045,2,20200203,0434,  24.49994, -62.53129,  5880,  5604.2,  2.0736,2,  2.0743,2, 34.8470,2, 34.8467,2,   249.7,2,   249.6,2,   55.88,2,   23.68,2,    1.54,2,  2345.0,2,  2205.4,2, -999.00,9, -999.00,9
740H20200119,A05_24N,60,1,13,3046,2,20200203,0434,  24.49994, -62.53129,  5880,  5088.0,  2.1305,2,  2.1305,2, 34.8624,2, 34.8620,2,   254.8,2,   254.5,2,   48.33,2,   22.56,2,    1.47,2,  2340.2,2,  2191.7,2, -999.00,9, -999.00,9
740H20200119,A05_24N,60,1,14,7131,2,20200203,0434,  24.49994, -62.53129,  5880,  4573.8,  2.2619,2,  2.2622,2, 34.8847,2, 34.8843,2,   261.9,2,   262.2,2,   36.73,2,   20.66,2,    1.34,2,  2329.0,2,  2184.3,2, -999.00,9, -999.00,9
740H20200119,A05_24N,60,1,15,3048,2,20200203,0434,  24.49994, -62.53129,  5880,  4061.1,  2.3262,2,  2.3274,2, 34.8947,2, 34.8950,2,   263.3,2,   263.5,2,   33.01,2,   20.19,2,    1.30,2,  2327.3,2,  2177.4,2, -999.00,9, -999.00,9
740H20200119,A05_24N,60,1,16,3049,2,20200203,0434,  24.49994, -62.53129,  5880,  3549.7,  2.4892,2,  2.4919,2, 34.9094,2, 34.9091,2,   260.6,2,   260.4,2,   32.17,2,   19.26,2,    1.30,2,  2326.6,2,  2179.2,2, -999.00,9, -999.00,9
740H20200119,A05_24N,60,1,17,3050,2,20200203,0434,  24.49994, -62.53129,  5880,  3040.8,  2.7548,2,  2.7570,2, 34.9321,2, 34.9326,2,   256.1,2,   255.5,2,   30.71,2,   19.10,2,    1.34,2,  2327.5,6,  2178.2,6, -999.00,9, -999.00,9
740H20200119,A05_24N,60,1,18,3051,2,20200203,0434,  24.49994, -62.53129,  5880,  2532.5,  3.0959,2,  3.0980,2, 34.9593,2, 34.9587,2,   255.1,2,   254.6,2,   25.65,2,   18.81,2,    1.29,2,  2324.1,2,  2175.5,2, -999.00,9, -999.00,9
740H20200119,A05_24N,60,1,19,3052,2,20200203,0434,  24.49994, -62.53129,  5880,  2276.1,  3.3590,2,  3.3623,2, 34.9804,2, 34.9795,2,   253.9,2,   253.5,2,   23.07,2,   19.03,2,    1.28,2,  2321.2,2,  2172.4,2, -999.00,9, -999.00,9
740H20200119,A05_24N,60,1,20,3053,2,20200203,0434,  24.49994, -62.53129,  5880,  2020.0,  3.6465,2,  3.6521,2, 34.9935,2, 34.9934,2,   255.6,2,   255.2,2,   18.65,2,   18.51,2,    1.24,2,  2316.6,2,  2170.3,2, -999.00,9, -999.00,9
740H20200119,A05_24N,60,1,21,3054,2,20200203,0434,  24.49994, -62.53129,  5880,  1765.0,  4.0528,2,  4.0519,2, 35.0181,2, 35.0188,2,   252.7,2,   252.7,2,   15.78,2,   18.41,2,    1.22,2,  2313.6,2,  2167.4,2, -999.00,9, -999.00,9
740H20200119,A05_24N,60,1,22,3055,2,20200203,0434,  24.49994, -62.53129,  5880,  1515.1,  4.6123,2,  4.6174,2, 35.0488,2, 35.0483,2,   244.5,2,   249.5,2,   13.93,2,   18.67,2,    1.23,2,  -999.0,9,  -999.0,9, -999.00,9, -999.00,9
740H20200119,A05_24N,60,1,23,3056,2,20200203,0434,  24.49994, -62.53129,  5880,  1260.5,  5.3162,2,  5.3256,2, 35.0628,2, 35.0619,2,   225.6,2,   226.6,2,   13.68,2,   19.77,2,    1.30,2,  2313.3,6,  2173.8,6, -999.00,9, -999.00,9
740H20200119,A05_24N,60,1,24,3057,2,20200203,0434,  24.49994, -62.53129,  5880,  1090.9,  6.1856,2,  6.2597,4, 35.0558,2, 35.0565,2,   192.0,2,   191.9,2,   15.79,2,   22.67,2,    1.49,2,  2316.4,6,  2189.4,6, -999.00,9, -999.00,9
740H20200119,A05_24N,60,1,1,3034,2,20200203,0434,  24.49994, -62.53129,  5880,   878.9,  8.6439,2,  8.7254,2, 35.1947,2, 35.1863,2,   152.3,2,   152.8,2,   14.59,2,   24.22,2,    1.53,2,  2319.8,6,  2193.9,6, -999.00,9, -999.00,9
740H20200119,A05_24N,60,1,2,3035,2,20200203,0434,  24.49994, -62.53129,  5880,   757.7, 10.9031,2, 10.9135,2, 35.4318,2, 35.4196,2,   148.3,2,   147.2,2,   10.54,2,   21.36,2,    1.32,2,  2328.7,2,  2186.8,2, -999.00,9, -999.00,9
740H20200119,A05_24N,60,1,3,3036,2,20200203,0434,  24.49994, -62.53129,  5880,   630.3, 13.5829,2, 13.6015,2, 35.8005,2, 35.7810,2,   163.3,2,   162.9,2,    5.88,2,   15.36,2,    0.91,2,  2344.4,6,  2169.3,6, -999.00,9, -999.00,9
740H20200119,A05_24N,60,1,4,3037,2,20200203,0434,  24.49994, -62.53129,  5880,   504.0, 16.2730,2, 16.3064,2, 36.2249,2, 36.1844,2,   177.1,2,   177.1,2,    2.94,2,    9.80,2,    0.54,2,  2368.0,2,  2149.1,2, -999.00,9, -999.00,9
740H20200119,A05_24N,60,1,5,3038,2,20200203,0434,  24.49994, -62.53129,  5880,   377.2, 18.4016,2, 18.4367,2, 36.5639,2, 36.5520,2,   205.6,2,   202.4,2,    1.21,2,    4.03,2,    0.18,2,  2388.8,2,  2113.3,2, -999.00,9, -999.00,9
740H20200119,A05_24N,60,1,6,6410,2,20200203,0434,  24.49994, -62.53129,  5880,   250.8, 19.3303,2, 19.3648,2, 36.6560,2, 36.6515,2,   201.6,2,   200.3,2,    0.80,2,    2.41,2,    0.07,2,  2395.6,2,  2114.7,2, -999.00,9, -999.00,9
740H20200119,A05_24N,60,1,7,6411,2,20200203,0434,  24.49994, -62.53129,  5880,   175.3, 21.2751,2, 21.3703,2, 36.9175,2, 36.9144,2,   188.5,2,   191.1,2,    0.52,2,    0.89,2,    0.02,2,  2411.5,2,  2124.1,2, -999.00,9, -999.00,9
740H20200119,A05_24N,60,1,8,6412,2,20200203,0434,  24.49994, -62.53129,  5880,   100.2, 24.2417,2, 24.2808,2, 37.1629,2, 37.1551,2,   212.5,2,   211.3,2,    0.51,2,    0.16,2,    0.00,2,  2428.5,2,  2096.4,2, -999.00,9, -999.00,9
740H20200119,A05_24N,60,1,9,6413,2,20200203,0434,  24.49994, -62.53129,  5880,    48.8, 24.7715,2, 24.8041,2, 36.8731,2, 36.8583,2,   209.2,2,   208.6,2,    0.93,2,    0.15,2,    0.00,2,  2416.0,2,  2056.1,2, -999.00,9, -999.00,9
740H20200119,A05_24N,60,1,10,3043,2,20200203,0434,  24.49994, -62.53129,  5880,     4.4, 24.9152,2, 24.9048,2, 36.7765,2, 36.7654,2,   208.3,2,   203.5,2,    1.04,2,    0.16,2,   -0.01,2,  2405.5,2,  2054.0,2, -999.00,9, -999.00,9
740H20200119,A05_24N,61,1,11,3044,2,20200203,1306,  24.49999, -61.80063,  5775,  5880.2,  2.0868,2,  2.0847,4, 34.8435,2, 34.8434,2,   249.2,2,   248.9,2,   57.18,2,   22.69,2,    1.55,2,  2344.4,6,  2205.9,6, -999.00,9, -999.00,9
740H20200119,A05_24N,61,1,12,3045,2,20200203,1306,  24.49999, -61.80063,  5775,  5347.6,  2.1452,2,  2.1469,2, 34.8601,2, 34.8597,2,   254.2,2,   254.1,2,   48.84,2,   21.49,2,    1.47,2,  2341.1,2,  2199.0,2, -999.00,9, -999.00,9
740H20200119,A05_24N,61,1,13,3046,2,20200203,1306,  24.49999, -61.80063,  5775,  4832.5,  2.2674,2,  2.2712,4, 34.8820,2, 34.8813,2,   262.5,2,   257.7,3,   36.43,2,   19.48,2,    1.33,2,  2333.6,2,  2186.4,2, -999.00,9, -999.00,9
740H20200119,A05_24N,61,1,14,7131,2,20200203,1306,  24.49999, -61.80063,  5775,  4318.4,  2.2966,2,  2.2994,4, 34.8904,2, 34.8897,2,   266.1,2,   266.3,2,   31.19,2,   18.56,2,    1.27,2,  2324.2,2,  2180.3,2, -999.00,9, -999.00,9
740H20200119,A05_24N,61,1,15,3048,2,20200203,1306,  24.49999, -61.80063,  5775,  3806.9,  2.3639,2,  2.3709,4, 34.8992,2, 34.8989,2,   267.8,2,   284.7,4,   27.99,2,   18.20,2,    1.23,2,  2321.6,2,  2174.3,2, -999.00,9, -999.00,9
740H20200119,A05_24N,61,1,16,3049,2,20200203,1306,  24.49999, -61.80063,  5775,  3296.2,  2.5643,2,  2.5697,2, 34.9150,2, 34.9144,2,   265.9,2,   265.9,2,   26.08,2,   18.28,2,    1.24,2,  2319.4,6,  2173.4,6, -999.00,9, -999.00,9
740H20200119,A05_24N,61,1,17,3050,2,20200203,1306,  24.49999, -61.80063,  5775,  2782.3,  2.8827,2,  2.8972,4, 34.9381,2, 34.9380,2,   261.6,2,   261.6,2,   24.18,2,   18.49,2,    1.25,2,  2344.9,3,  2173.6,2, -999.00,9, -999.00,9
740H20200119,A05_24N,61,1,18,3051,2,20200203,1306,  24.49999, -61.80063,  5775,  2531.1,  3.0742,2,  3.0844,4, 34.9514,2, 34.9516,2,   260.4,2,   260.2,2,   22.59,2,   18.50,2,    1.24,2,  2318.2,2,  2171.9,2, -999.00,9, -999.00,9
740H20200119,A05_24N,61,1,19,3052,2,20200203,1306,  24.49999, -61.80063,  5775,  2274.6,  3.3179,2,  3.3350,4, 34.9679,2, 34.9673,2,   258.8,2,   258.2,2,   20.57,2,   18.54,2,    1.24,2,  2314.9,2,  2170.7,2, -999.00,9, -999.00,9
740H20200119,A05_24N,61,1,20,3053,2,20200203,1306,  24.49999, -61.80063,  5775,  2024.0,  3.5490,2,  3.5833,4, 34.9730,2, 34.9725,2,   260.6,2,   260.7,2,   17.05,2,   18.14,2,    1.20,2,  2312.9,2,  2167.5,2, -999.00,9, -999.00,9
740H20200119,A05_24N,61,1,21,3054,2,20200203,1306,  24.49999, -61.80063,  5775,  1768.3,  3.9258,2,  3.9721,4, 34.9948,2, 34.9916,2,   257.1,2,   257.9,2,   14.94,2,   18.15,2,    1.20,2,  2312.0,6,  2166.8,6, -999.00,9, -999.00,9
740H20200119,A05_24N,61,1,22,3055,2,20200203,1306,  24.49999, -61.80063,  5775,  1513.1,  4.3741,2,  4.4256,4, 35.0154,2, 35.0153,2,   250.9,2,   252.0,2,   13.32,2,   18.29,2,    1.20,2,  2309.3,2,  2165.0,2, -999.00,9, -999.00,9
740H20200119,A05_24N,61,1,23,3056,2,20200203,1306,  24.49999, -61.80063,  5775,  1259.0,  5.1385,2,  5.2175,4, 35.0466,2, 35.0461,2,   230.9,2,   231.9,2,   13.42,2,   19.50,2,    1.27,2,  2314.1,2,  2179.8,2, -999.00,9, -999.00,9
740H20200119,A05_24N,61,1,24,3057,2,20200203,1306,  24.49999, -61.80063,  5775,  1009.6,  6.4515,2,  6.6961,4, 35.0333,2, 35.0332,2,   177.4,2,   180.0,2,   17.16,2,   24.38,2,    1.58,2,  2314.5,6,  2195.9,6, -999.00,9, -999.00,9
740H20200119,A05_24N,61,1,1,3034,2,20200203,1306,  24.49999, -61.80063,  5775,   882.6,  8.0562,2,  8.2730,4, 35.1167,2, 35.1115,2,   147.4,2,   150.5,2,   16.54,2,   26.01,2,    1.65,2,  -999.0,9,  -999.0,9, -999.00,9, -999.00,9
740H20200119,A05_24N,61,1,2,3035,2,20200203,1306,  24.49999, -61.80063,  5775,   755.7, 10.2075,2, 10.7782,4, 35.3609,2, 35.3327,2,   146.8,2,   148.5,2,   12.18,2,   22.93,2,    1.42,2,  2325.0,6,  2189.1,2, -999.00,9, -999.00,9
740H20200119,A05_24N,61,1,3,3036,2,20200203,1306,  24.49999, -61.80063,  5775,   629.3, 12.9385,2, 13.5187,4, 35.7215,2, 35.7070,2,   162.0,2,   164.3,2,    6.49,2,   16.47,2,    0.97,2,  -999.0,9,  -999.0,9, -999.00,9, -999.00,9
740H20200119,A05_24N,61,1,4,3037,2,20200203,1306,  24.49999, -61.80063,  5775,   502.4, 15.5293,2, 15.9516,4, 36.1026,2, 36.0787,2,   175.8,2,   177.3,2,    3.54,2,   10.99,2,    0.61,2,  2360.5,2,  2153.7,2, -999.00,9, -999.00,9
740H20200119,A05_24N,61,1,5,3038,2,20200203,1306,  24.49999, -61.80063,  5775,   250.2, 19.0715,2, 19.2973,4, 36.6291,2, 36.6272,2,   199.5,2,   200.0,2,    0.94,2,    3.06,2,    0.11,2,  2393.2,2,  2120.5,2, -999.00,9, -999.00,9
740H20200119,A05_24N,61,1,6,6410,2,20200203,1306,  24.49999, -61.80063,  5775,   174.8, 20.0464,2, 20.7024,4, 36.7396,2, 36.7221,2,   192.3,2,   194.2,2,    0.70,2,    1.44,2,    0.02,2,  2398.7,2,  2122.5,2, -999.00,9, -999.00,9
740H20200119,A05_24N,61,1,7,6411,2,20200203,1306,  24.49999, -61.80063,  5775,   129.6, 21.6703,2, 22.5536,4, 36.9253,2, 36.9106,2,   202.5,2,   200.9,2,    0.55,2,    0.32,2,   -0.01,2,  2412.2,2,  2112.4,2, -999.00,9, -999.00,9
740H20200119,A05_24N,61,1,8,6412,2,20200203,1306,  24.49999, -61.80063,  5775,    99.0, 23.5044,2, 23.5524,2, 37.0716,2, 37.0578,2,   211.4,2,   211.1,2,    0.59,2,    0.17,2,   -0.01,2,  2421.5,2,  2093.5,2, -999.00,9, -999.00,9
740H20200119,A05_24N,61,1,9,6413,2,20200203,1306,  24.49999, -61.80063,  5775,    49.7, 24.0984,2, 24.1078,2, 37.0221,2, 37.0242,2,   210.3,2,   209.7,2,    0.80,2,    0.18,2,    0.00,2,  2419.6,6,  2073.8,6, -999.00,9, -999.00,9
740H20200119,A05_24N,61,1,10,3043,2,20200203,1306,  24.49999, -61.80063,  5775,     9.1, 24.4401,2,-999.0000,9, 36.9363,2, 36.9369,2,   209.9,2,   208.5,2,    0.99,2,    0.18,2,   -0.01,2,  2416.4,2,  2067.5,2, -999.00,9, -999.00,9