BOTTLE,20221012CCHSIOENA
EXPOCODE,SECT_ID,STNNBR,CASTNO,SAMPNO,BTLNBR,BTLNBR_FLAG_W,DATE,TIME,LATITUDE,LONGITUDE,DEPTH,CTDPRS,CTDTMP,CTDTMP_FLAG_W,SBE35,SBE35_FLAG_W,CTDSAL,CTDSAL_FLAG_W,SALNTY,SALNTY_FLAG_W,CTDOXY,CTDOXY_FLAG_W,OXYGEN,OXYGEN_FLAG_W,SILCAT,SILCAT_FLAG_W,NO2+NO3,NO2+NO3_FLAG_W,PHSPHT,PHSPHT_FLAG_W,ALKALI,ALKALI_FLAG_W,TCARBN,TCARBN_FLAG_W,DELC14,DELC14_FLAG_W,DELC13,DELC13_FLAG_W
 , , , , , , , , , , , ,DBAR,ITS-90, ,ITS-90, ,PSS-78, ,PSS-78, ,UMOL/KG, ,UMOL/KG, ,UMOL/KG, ,UMOL/KG, ,UMOL/KG, ,UMOL/KG, ,UMOL/KG, ,/MILLE, ,/MILLE, 
740H20200119,A05_24N,125,1,11,3044,2,20200225,1529,  26.13336, -18.91671,  3454,  3494.5,  2.4538,2,  2.4413,2, 34.9039,2, 34.9045,2,   233.7,2,   233.2,2,   45.93,2,   22.94,2,    1.54,2,  2361.3,2,  2210.0,6, -999.00,1, -999.00,1
740H20200119,A05_24N,125,1,12,3045,2,20200225,1529,  26.13336, -18.91671,  3454,  3037.8,  2.7321,2,  2.7346,2, 34.9320,2, 34.9319,2,   231.8,2,   231.6,2,   40.40,2,   22.29,2,    1.52,2,  2352.0,2,  2206.1,2, -999.00,1, -999.00,1
740H20200119,A05_24N,125,1,13,3046,2,20200225,1529,  26.13336, -18.91671,  3454,  2535.6,  3.2845,2,  3.2893,2, 34.9878,2, 34.9891,2,   228.4,2,   228.2,2,   33.66,2,   21.86,2,    1.50,2,  2341.1,2,  2198.2,2, -999.00,1, -999.00,1
740H20200119,A05_24N,125,1,14,7131,2,20200225,1529,  26.13336, -18.91671,  3454,  2023.9,  4.1604,2,  4.1635,2, 35.0767,2, 35.0772,2,   220.9,2,   221.6,2,   26.25,2,   21.69,2,    1.46,2,  2334.5,6,  2193.0,6, -999.00,1, -999.00,1
740H20200119,A05_24N,125,1,15,3048,2,20200225,1529,  26.13336, -18.91671,  3454,  1641.4,  5.3329,2,  5.3495,2, 35.1862,2, 35.1823,2,   203.3,2,   203.8,2,   21.35,2,   22.09,2,    1.48,2,  2334.5,2,  2194.1,2, -999.00,1, -999.00,1
740H20200119,A05_24N,125,1,16,3049,2,20200225,1529,  26.13336, -18.91671,  3454,  1411.9,  6.1714,2,  6.1749,2, 35.2306,2, 35.2307,2,   183.1,2,   183.6,2,   20.01,2,   23.38,2,    1.55,2,  2333.1,2,  2200.6,2, -999.00,1, -999.00,1
740H20200119,A05_24N,125,1,17,3050,2,20200225,1529,  26.13336, -18.91671,  3454,  1211.6,  6.9840,2,  6.9888,2, 35.2494,2, 35.2494,2,   164.0,2,   163.9,2,   18.73,2,   24.69,2,    1.63,2,  2333.8,6,  2205.6,6, -999.00,1, -999.00,1
740H20200119,A05_24N,125,1,18,3051,2,20200225,1529,  26.13336, -18.91671,  3454,  1110.1,  7.1486,2,  7.1372,2, 35.1894,2, 35.2076,2,   149.2,2,   151.2,2,   18.93,2,   26.13,2,    1.73,2,  2329.9,2,  2212.4,2, -999.00,9, -999.00,9
740H20200119,A05_24N,125,1,19,3052,2,20200225,1529,  26.13336, -18.91671,  3454,  1008.4,  7.3726,2,  7.3868,2, 35.1302,2, 35.1295,2,   131.6,2,   131.7,2,   19.68,2,   28.66,2,    1.88,2,  -999.0,9,  2218.3,2, -999.00,1, -999.00,1
740H20200119,A05_24N,125,1,20,3053,2,20200225,1529,  26.13336, -18.91671,  3454,   908.1,  7.9113,2,  7.9213,2, 35.1747,2, 35.1725,2,   127.3,2,   127.0,2,   18.24,2,   28.37,2,    1.84,2,  2323.6,2,  2215.9,2, -999.00,1, -999.00,1
740H20200119,A05_24N,125,1,21,3054,2,20200225,1529,  26.13336, -18.91671,  3454,   808.1,  8.8398,2,  8.8417,2, 35.2523,2, 35.2530,2,   119.2,2,   119.3,2,   16.02,2,   27.64,2,    1.78,2,  2324.6,6,  2216.5,6, -999.00,1, -999.00,1
740H20200119,A05_24N,125,1,22,3055,2,20200225,1529,  26.13336, -18.91671,  3454,   706.5,  9.9997,2, 10.0080,2, 35.3569,2, 35.3412,2,   111.9,2,   109.9,2,   13.71,2,   26.97,2,    1.70,2,  -999.0,9,  2218.8,2, -999.00,1, -999.00,1
740H20200119,A05_24N,125,1,23,3056,2,20200225,1529,  26.13336, -18.91671,  3454,   605.4, 10.9472,2, 10.9771,2, 35.4557,2, 35.4524,2,   107.2,2,   106.5,2,   11.57,2,   25.58,2,    1.58,2,  2330.3,2,  2218.8,2, -999.00,1, -999.00,1
740H20200119,A05_24N,125,1,24,3057,2,20200225,1529,  26.13336, -18.91671,  3454,   503.9, 12.2996,2, 12.3062,2, 35.6288,2, 35.6209,2,   113.0,2,   112.6,2,    8.93,2,   22.52,2,    1.38,2,  2336.4,2,  -999.0,9, -999.00,1, -999.00,1
740H20200119,A05_24N,125,1,1,3034,2,20200225,1529,  26.13336, -18.91671,  3454,   378.8, 14.5113,2, 14.5116,2, 35.9749,2, 35.9452,2,   176.2,2,   173.0,2,    3.95,2,   12.31,2,    0.74,2,  2354.2,6,  2168.9,6, -999.00,1, -999.00,1
740H20200119,A05_24N,125,1,2,3035,2,20200225,1529,  26.13336, -18.91671,  3454,   304.1, 15.6444,2, 15.6881,2, 36.1191,2, 36.1259,2,   154.9,2,   170.2,2,    3.27,2,   10.70,2,    0.64,2,  2368.4,2,  2169.9,2, -999.00,1, -999.00,1
740H20200119,A05_24N,125,1,3,3036,2,20200225,1529,  26.13336, -18.91671,  3454,   253.4, 17.3136,2, 17.4164,2, 36.3772,2, 36.3510,2,   171.2,2,   167.0,2,    2.72,2,    9.17,2,    0.57,2,  2377.4,2,  2171.3,2, -999.00,9, -999.00,9
740H20200119,A05_24N,125,1,4,3037,2,20200225,1529,  26.13336, -18.91671,  3454,   202.8, 18.6870,2, 18.6974,2, 36.6073,2, 36.6022,2,   203.8,2,   204.7,2,    1.20,2,    3.80,2,    0.28,2,  2396.9,2,  2146.2,2, -999.00,1, -999.00,1
740H20200119,A05_24N,125,1,5,6409,2,20200225,1529,  26.13336, -18.91671,  3454,   175.7, 19.1945,2, 19.2251,2, 36.7133,2, 36.6888,2,   213.9,2,   213.8,2,    0.82,2,    2.33,2,    0.20,2,  -999.0,9,  2140.8,6, -999.00,9, -999.00,9
740H20200119,A05_24N,125,1,6,6410,2,20200225,1529,  26.13336, -18.91671,  3454,   150.5, 19.6290,2, 19.6305,2, 36.8139,2, 36.7913,2,   222.9,2,   223.0,2,    0.54,2,    0.83,2,    0.10,2,  2409.7,2,  2131.5,2, -999.00,1, -999.00,1
740H20200119,A05_24N,125,1,7,6411,2,20200225,1529,  26.13336, -18.91671,  3454,   100.0, 19.6265,2, 19.6257,2, 36.8146,2, 36.8159,2,   224.4,2,   225.6,2,    0.49,2,    0.42,2,    0.08,2,  2409.2,2,  2129.9,2, -999.00,1, -999.00,1
740H20200119,A05_24N,125,1,8,6412,2,20200225,1529,  26.13336, -18.91671,  3454,    74.7, 19.6300,2, 19.6299,2, 36.8131,2, 36.8138,2,   226.8,2,   227.8,2,    0.48,2,    0.22,2,    0.07,2,  2410.1,2,  2129.4,2, -999.00,1, -999.00,1
740H20200119,A05_24N,125,1,9,6413,2,20200225,1529,  26.13336, -18.91671,  3454,    52.4, 19.6251,2, 19.6242,2, 36.8024,2, 36.8034,2,   229.3,2,   230.1,2,    0.49,2,    0.18,2,    0.06,2,  2408.6,2,  2129.0,2, -999.00,1, -999.00,1
740H20200119,A05_24N,125,1,10,6414,2,20200225,1529,  26.13336, -18.91671,  3454,     4.6, 19.7884,2, 19.7855,2, 36.7607,2, 36.7625,2,   230.6,2,   232.0,2,    0.51,2,    0.18,2,    0.07,2,  2409.1,2,  2124.3,2, -999.00,1, -999.00,1
740H20200119,A05_24N,126,1,11,3044,2,20200225,2305,  26.38353, -18.16598,  3610,  3654.6,  2.4344,2,  2.4320,2, 34.9011,2, 34.9011,2,   236.3,2,   235.4,2,   46.68,2,   22.56,2,    1.52,2,  2358.9,6,  2212.7,6, -999.00,9, -999.00,9
740H20200119,A05_24N,126,1,12,3045,2,20200225,2305,  26.38353, -18.16598,  3610,  3293.6,  2.6253,2,  2.6290,2, 34.9211,2, 34.9205,2,   232.1,2,   231.2,2,   42.93,2,   22.27,2,    1.51,2,  2356.6,2,  2209.0,2, -999.00,9, -999.00,9
740H20200119,A05_24N,126,1,13,3046,2,20200225,2305,  26.38353, -18.16598,  3610,  2786.1,  2.9581,2,  2.9566,2, 34.9542,2, 34.9537,2,   230.0,2,   229.6,2,   37.83,2,   21.88,2,    1.50,2,  2347.4,2,  2205.1,2, -999.00,9, -999.00,9
740H20200119,A05_24N,126,1,14,7131,2,20200225,2305,  26.38353, -18.16598,  3610,  2279.2,  3.6850,2,  3.6935,2, 35.0307,2, 35.0311,2,   225.6,2,   225.1,2,   30.43,2,   21.39,2,    1.45,2,  2341.0,6,  2192.5,6, -999.00,9, -999.00,9
740H20200119,A05_24N,126,1,15,3048,2,20200225,2305,  26.38353, -18.16598,  3610,  1768.9,  4.7348,2,  4.7402,2, 35.1374,2, 35.1363,2,   212.9,2,   213.3,2,   24.11,2,   21.46,2,    1.44,2,  2334.3,2,  2194.4,2, -999.00,9, -999.00,9
740H20200119,A05_24N,126,1,16,3049,2,20200225,2305,  26.38353, -18.16598,  3610,  1514.2,  5.6628,2,  5.6895,2, 35.2208,2, 35.2191,2,   198.5,2,   198.2,2,   20.84,2,   21.99,2,    1.45,2,  2335.7,2,  2197.3,2, -999.00,9, -999.00,9
740H20200119,A05_24N,126,1,17,3050,2,20200225,2305,  26.38353, -18.16598,  3610,  1311.0,  6.4839,2,  6.4969,2, 35.2617,2, 35.2603,2,   180.2,2,   179.6,2,   18.99,2,   23.09,2,    1.52,2,  2334.2,6,  2202.4,6, -999.00,9, -999.00,9
740H20200119,A05_24N,126,1,18,3051,2,20200225,2305,  26.38353, -18.16598,  3610,  1158.8,  7.0865,2,  7.1839,2, 35.2503,2, 35.2506,2,   162.0,2,   162.1,2,   18.30,2,   24.60,2,    1.60,2,  2444.3,4,  2198.7,2, -999.00,9, -999.00,9
740H20200119,A05_24N,126,1,19,3052,2,20200225,2305,  26.38353, -18.16598,  3610,  1057.5,  7.2733,2,  7.2730,2, 35.1988,2, 35.2011,2,   149.1,2,   149.1,2,   18.57,2,   26.07,2,    1.70,2,  2326.5,2,  2212.0,2, -999.00,9, -999.00,9
740H20200119,A05_24N,126,1,20,3053,2,20200225,2305,  26.38353, -18.16598,  3610,   961.0,  7.7028,2,  7.7356,2, 35.1909,2, 35.1901,2,   136.9,2,   136.3,2,   18.18,2,   27.00,2,    1.75,2,  2325.5,2,  2213.6,2, -999.00,9, -999.00,9
740H20200119,A05_24N,126,1,21,3054,2,20200225,2305,  26.38353, -18.16598,  3610,   860.0,  8.3742,2,  8.3900,2, 35.2265,2, 35.2263,2,   127.4,2,   127.8,2,   16.86,2,   27.04,2,    1.74,2,  2328.9,6,  2215.9,6, -999.00,9, -999.00,9
740H20200119,A05_24N,126,1,22,3055,2,20200225,2305,  26.38353, -18.16598,  3610,   758.4,  9.2794,2,  9.3841,2, 35.3180,2, 35.3093,2,   126.0,2,   125.2,2,   14.58,2,   25.94,2,    1.64,2,  2326.2,2,  2211.8,2, -999.00,9, -999.00,9
740H20200119,A05_24N,126,1,23,3056,2,20200225,2305,  26.38353, -18.16598,  3610,   657.4, 10.2568,2, 10.2482,2, 35.4112,2, 35.4069,2,   124.3,2,   124.3,2,   12.33,2,   24.47,2,    1.51,2,  2328.0,4,  2210.9,6, -999.00,9, -999.00,9
740H20200119,A05_24N,126,1,24,3057,2,20200225,2305,  26.38353, -18.16598,  3610,   606.7, 10.9098,2, 10.9489,2, 35.4856,2, 35.4795,2,   128.0,2,   128.7,2,   10.76,2,   22.95,2,    1.41,2,  2331.1,2,  2202.6,2, -999.00,9, -999.00,9
740H20200119,A05_24N,126,1,1,3034,2,20200225,2305,  26.38353, -18.16598,  3610,   505.5, 11.7681,2, 11.7780,2, 35.5910,2, 35.5858,2,   139.5,2,   139.4,2,    8.55,2,   20.30,2,    1.23,2,  2333.4,6,  2195.8,6, -999.00,9, -999.00,9
740H20200119,A05_24N,126,1,2,3035,2,20200225,2305,  26.38353, -18.16598,  3610,   379.2, 13.5431,2, 13.5947,2, 35.8224,2, 35.8120,2,   151.9,2,   152.4,2,    5.63,2,   15.98,2,    0.94,2,  2347.2,2,  2184.6,2, -999.00,9, -999.00,9
740H20200119,A05_24N,126,1,3,3036,2,20200225,2305,  26.38353, -18.16598,  3610,   303.5, 14.6485,2, 14.6822,2, 36.0021,2, 35.9737,2,   183.6,2,   182.3,2,    3.40,2,   10.97,2,    0.63,2,  2356.3,2,  2161.0,2, -999.00,9, -999.00,9
740H20200119,A05_24N,126,1,4,3037,2,20200225,2305,  26.38353, -18.16598,  3610,   252.9, 15.6358,2, 15.6609,2, 36.1512,2, 36.1399,2,   184.3,2,   185.2,2,    2.61,2,    8.89,2,    0.52,2,  2367.0,2,  2156.2,2, -999.00,9, -999.00,9
740H20200119,A05_24N,126,1,5,6409,2,20200225,2305,  26.38353, -18.16598,  3610,   177.5, 17.1772,2, 17.2151,2, 36.4156,2, 36.3921,2,   195.1,2,   194.5,2,    1.52,2,    5.59,2,    0.32,2,  2380.7,2,  2149.9,2, -999.00,9, -999.00,9
740H20200119,A05_24N,126,1,6,6410,2,20200225,2305,  26.38353, -18.16598,  3610,   101.9, 19.6869,2, 19.7002,2, 36.8289,2, 36.7679,2,   222.2,2,   220.9,2,    0.47,2,    1.18,2,    0.10,2,  2406.1,2,  2133.5,2, -999.00,9, -999.00,9
740H20200119,A05_24N,126,1,7,6411,2,20200225,2305,  26.38353, -18.16598,  3610,    77.1, 19.8287,2, 19.8263,2, 36.8568,2, 36.8566,2,   224.7,2,   226.3,2,    0.30,2,    0.29,2,    0.03,2,  2413.3,2,  2127.3,2, -999.00,9, -999.00,9
740H20200119,A05_24N,126,1,8,6412,2,20200225,2305,  26.38353, -18.16598,  3610,    52.1, 19.8357,2, 19.8369,2, 36.8427,2, 36.8429,2,   228.1,2,   228.9,2,    0.35,2,    0.25,2,    0.04,2,  2411.8,2,  2127.1,2, -999.00,9, -999.00,9
740H20200119,A05_24N,126,1,9,6413,2,20200225,2305,  26.38353, -18.16598,  3610,    27.0, 19.8391,2, 19.8285,2, 36.8395,2, 36.8386,2,   228.2,2,   229.7,2,    0.38,2,    0.27,2,    0.04,2,  2412.7,2,  2125.7,2, -999.00,9, -999.00,9
740H20200119,A05_24N,126,1,10,6414,2,20200225,2305,  26.38353, -18.16598,  3610,     6.4, 19.8299,2, 19.8261,2, 36.8368,2, 36.8371,2,   228.1,2,   229.5,2,    0.41,2,    0.27,2,    0.04,2,  2412.2,2,  2125.2,2, -999.00,9, -999.00,9
740H20200119,A05_24N,127,1,11,3044,2,20200226,0625,  26.59965, -17.46712,  3649,  3694.6,  2.4805,2,  2.4803,2, 34.9048,2, 34.9051,2,   234.9,2,   234.1,2,   45.87,2,   22.50,2,    1.54,2,  2358.8,6,  2211.7,6, -999.00,9, -999.00,9
740H20200119,A05_24N,127,1,12,3045,2,20200226,0625,  26.59965, -17.46712,  3649,  3560.7,  2.5043,2,  2.5036,2, 34.9084,2, 34.9086,2,   234.7,2,   233.6,2,   45.03,2,   22.46,2,    1.53,2,  2360.7,2,  2213.8,2, -999.00,9, -999.00,9
740H20200119,A05_24N,127,1,13,3046,2,20200226,0625,  26.59965, -17.46712,  3649,  3046.1,  2.7589,2,  2.7608,2, 34.9353,2, 34.9350,2,   232.1,2,   231.5,2,   40.14,2,   22.10,2,    1.50,2,  2351.9,2,  2208.7,2, -999.00,9, -999.00,9
740H20200119,A05_24N,127,1,14,7131,2,20200226,0625,  26.59965, -17.46712,  3649,  2533.6,  3.2725,2,  3.2760,2, 34.9873,2, 34.9879,2,   228.3,2,   228.4,2,   34.01,2,   21.65,2,    1.48,2,  2341.9,6,  2200.0,6, -999.00,9, -999.00,9
740H20200119,A05_24N,127,1,15,3048,2,20200226,0625,  26.59965, -17.46712,  3649,  2022.2,  4.1425,2,  4.1487,2, 35.0790,2, 35.0785,2,   220.8,2,   220.7,2,   27.19,2,   21.41,2,    1.45,2,  2337.6,6,  2196.4,6, -999.00,9, -999.00,9
740H20200119,A05_24N,127,1,16,3049,2,20200226,0625,  26.59965, -17.46712,  3649,  1639.7,  5.3766,2,  5.3657,2, 35.2093,2, 35.2087,2,   206.6,2,   206.8,2,   21.52,2,   21.26,2,    1.43,2,  2337.5,2,  2195.3,2, -999.00,9, -999.00,9
740H20200119,A05_24N,127,1,17,3050,2,20200226,0625,  26.59965, -17.46712,  3649,  1410.8,  6.2910,2,  6.2940,2, 35.2953,2, 35.2952,2,   192.1,2,   192.1,2,   19.25,2,   21.71,2,    1.44,2,  2338.0,2,  2202.1,2, -999.00,9, -999.00,9
740H20200119,A05_24N,127,1,18,3051,2,20200226,0625,  26.59965, -17.46712,  3649,  1207.6,  7.0241,2,  7.0282,2, 35.3004,2, 35.3068,2,   171.7,2,   172.1,2,   18.20,2,   23.17,2,    1.52,2,  2334.3,2,  2205.5,2, -999.00,9, -999.00,9
740H20200119,A05_24N,127,1,19,3052,2,20200226,0625,  26.59965, -17.46712,  3649,  1111.3,  7.3171,2,  7.3188,2, 35.2818,2, 35.2808,2,   161.4,2,   161.1,2,   18.01,2,   24.29,2,    1.58,2,  2334.3,6,  2204.3,6, -999.00,9, -999.00,9
740H20200119,A05_24N,127,1,20,3053,2,20200226,0625,  26.59965, -17.46712,  3649,  1010.3,  7.8466,2,  7.8416,2, 35.2906,2, 35.2913,2,   150.6,2,   151.1,2,   17.18,2,   24.83,2,    1.61,2,  2335.1,2,  2210.2,2, -999.00,9, -999.00,9
740H20200119,A05_24N,127,1,21,3054,2,20200226,0625,  26.59965, -17.46712,  3649,   908.7,  8.3296,2,  8.3290,2, 35.2951,2, 35.2938,2,   140.8,2,   141.9,2,   16.34,2,   25.27,2,    1.63,2,  2331.8,2,  2212.9,2, -999.00,9, -999.00,9
740H20200119,A05_24N,127,1,22,3055,2,20200226,0625,  26.59965, -17.46712,  3649,   807.7,  8.9120,2,  8.8813,2, 35.3388,2, 35.3368,2,   139.1,2,   139.6,2,   14.96,2,   24.72,2,    1.57,2,  2330.7,6,  2209.5,6, -999.00,9, -999.00,9
740H20200119,A05_24N,127,1,23,3056,2,20200226,0625,  26.59965, -17.46712,  3649,   706.3,  9.5683,2,  9.5700,2, 35.3699,2, 35.3709,2,   131.2,2,   132.0,2,   13.69,2,   24.60,2,    1.54,2,  2330.7,2,  2210.9,2, -999.00,9, -999.00,9
740H20200119,A05_24N,127,1,24,3057,2,20200226,0625,  26.59965, -17.46712,  3649,   605.1, 10.6072,2, 10.6282,2, 35.4849,2, 35.4799,2,   140.7,2,   140.7,2,   10.94,2,   21.99,2,    1.36,2,  2333.1,2,  2200.5,2, -999.00,9, -999.00,9
740H20200119,A05_24N,127,1,1,3034,2,20200226,0625,  26.59965, -17.46712,  3649,   503.8, 11.6527,2, 11.6910,2, 35.5923,2, 35.5769,2,   150.5,2,   148.6,2,    8.26,2,   19.48,2,    1.17,2,  2333.8,2,  2190.1,2, -999.00,9, -999.00,9
740H20200119,A05_24N,127,1,2,3035,2,20200226,0625,  26.59965, -17.46712,  3649,   403.2, 13.0165,2, 13.0470,2, 35.7660,2, 35.7542,2,   171.4,2,   171.6,2,    5.22,2,   14.70,2,    0.87,2,  2342.4,2,  2174.8,2, -999.00,9, -999.00,9
740H20200119,A05_24N,127,1,3,3036,2,20200226,0625,  26.59965, -17.46712,  3649,   302.1, 14.5346,2, 14.5619,2, 35.9839,2, 35.9583,2,   183.7,2,   183.0,2,    3.45,2,   10.90,2,    0.65,2,  2353.4,2,  2163.7,2, -999.00,9, -999.00,9
740H20200119,A05_24N,127,1,4,3037,2,20200226,0625,  26.59965, -17.46712,  3649,   201.4, 16.2391,2, 16.4268,2, 36.2585,2, 36.2426,2,   194.3,2,   195.5,2,    1.88,2,    6.65,2,    0.41,2,  2370.5,2,  2149.9,2, -999.00,9, -999.00,9
740H20200119,A05_24N,127,1,5,6409,2,20200226,0625,  26.59965, -17.46712,  3649,   150.8, 17.9365,2, 17.9525,2, 36.5100,2, 36.4892,2,   189.8,2,   193.8,2,    1.36,2,    4.82,2,    0.29,2,  2387.7,2,  2149.2,2, -999.00,9, -999.00,9
740H20200119,A05_24N,127,1,6,6410,2,20200226,0625,  26.59965, -17.46712,  3649,   100.3, 19.2242,2, 19.2272,2, 36.7545,2, 36.7463,2,   227.0,2,   226.2,2,    0.20,2,    0.62,2,    0.08,2,  2404.5,2,  2130.0,2, -999.00,9, -999.00,9
740H20200119,A05_24N,127,1,7,6411,2,20200226,0625,  26.59965, -17.46712,  3649,    75.1, 19.2534,2, 19.2517,2, 36.7618,2, 36.7624,2,   227.7,2,   228.8,2,    0.09,2,    0.35,2,    0.06,2,  2404.0,2,  2127.0,2, -999.00,9, -999.00,9
740H20200119,A05_24N,127,1,8,6412,2,20200226,0625,  26.59965, -17.46712,  3649,    50.2, 19.2756,2, 19.2706,2, 36.7696,2, 36.7690,2,   228.5,2,   229.3,2,    0.09,2,    0.30,2,    0.06,2,  2405.0,6,  2126.9,6, -999.00,9, -999.00,9
740H20200119,A05_24N,127,1,9,6413,2,20200226,0625,  26.59965, -17.46712,  3649,    25.1, 19.4039,2, 19.4051,2, 36.7759,2, 36.7772,2,   233.4,2,   234.0,2,   -0.03,2,    0.25,2,    0.07,2,  2409.2,2,  2122.2,2, -999.00,9, -999.00,9
740H20200119,A05_24N,127,1,10,6414,2,20200226,0625,  26.59965, -17.46712,  3649,     4.8, 19.4045,2, 19.4014,2, 36.7764,2, 36.7772,2,   233.0,2,   234.1,2,    0.01,2,    0.25,2,    0.04,2,  2406.3,2,  2119.0,2, -999.00,9, -999.00,9