BOTTLE,20221012CCHSIOENA
EXPOCODE,SECT_ID,STNNBR,CASTNO,SAMPNO,BTLNBR,BTLNBR_FLAG_W,DATE,TIME,LATITUDE,LONGITUDE,DEPTH,CTDPRS,CTDTMP,CTDTMP_FLAG_W,SBE35,SBE35_FLAG_W,CTDSAL,CTDSAL_FLAG_W,SALNTY,SALNTY_FLAG_W,CTDOXY,CTDOXY_FLAG_W,OXYGEN,OXYGEN_FLAG_W,SILCAT,SILCAT_FLAG_W,NO2+NO3,NO2+NO3_FLAG_W,PHSPHT,PHSPHT_FLAG_W,ALKALI,ALKALI_FLAG_W,TCARBN,TCARBN_FLAG_W,DELC14,DELC14_FLAG_W,DELC13,DELC13_FLAG_W
 , , , , , , , , , , , ,DBAR,ITS-90, ,ITS-90, ,PSS-78, ,PSS-78, ,UMOL/KG, ,UMOL/KG, ,UMOL/KG, ,UMOL/KG, ,UMOL/KG, ,UMOL/KG, ,UMOL/KG, ,/MILLE, ,/MILLE, 
740H20200119,A05_24N,10,1,1,5977,4,20200121,1235,  27.00530, -79.36550,   671,   674.2,  8.1135,2,-999.0000,9, 35.0092,2,-999.0000,9,   124.5,2,  -999.0,9, -999.00,9, -999.00,9, -999.00,9,  -999.0,9,  -999.0,9, -999.00,9, -999.00,9
740H20200119,A05_24N,10,1,2,6406,2,20200121,1235,  27.00530, -79.36550,   671,   673.9,  8.1377,2,-999.0000,9, 35.0108,2, 35.0080,2,   124.6,2,   125.8,2,   18.98,2,   28.68,2,    1.87,2,  2314.5,6,  2212.8,6, -999.00,9, -999.00,9
740H20200119,A05_24N,10,1,3,6407,4,20200121,1235,  27.00530, -79.36550,   671,   605.3, 10.1077,2,-999.0000,9, 35.2123,2,-999.0000,9,   117.8,2,  -999.0,9, -999.00,9, -999.00,9, -999.00,9,  -999.0,9,  -999.0,9, -999.00,9, -999.00,9
740H20200119,A05_24N,10,1,4,6408,2,20200121,1235,  27.00530, -79.36550,   671,   606.2, 10.0416,2,-999.0000,9, 35.2047,2, 35.2151,2,   117.7,2,   117.9,2,   14.21,2,   26.17,2,    1.65,2,  2319.1,2,  2206.7,2, -999.00,9, -999.00,9
740H20200119,A05_24N,10,1,5,6409,3,20200121,1235,  27.00530, -79.36550,   671,   555.4, 11.1197,2,-999.0000,9, 35.3627,2, 35.3618,3,   120.4,2,   122.0,3,   12.22,3,   24.04,3,    1.50,3,  2323.5,3,  2201.7,3, -999.00,9, -999.00,9
740H20200119,A05_24N,10,1,6,6410,2,20200121,1235,  27.00530, -79.36550,   671,   555.7, 11.1103,2,-999.0000,9, 35.3606,2,-999.0000,9,   119.9,2,  -999.0,9, -999.00,9, -999.00,9, -999.00,9,  -999.0,9,  -999.0,9, -999.00,9, -999.00,9
740H20200119,A05_24N,10,1,7,6411,2,20200121,1235,  27.00530, -79.36550,   671,   479.4, 13.3672,2,-999.0000,9, 35.7300,2, 35.7334,2,   135.7,2,   136.9,2,    7.85,2,   18.34,2,    1.09,2,  2343.3,2,  2185.8,2, -999.00,9, -999.00,9
740H20200119,A05_24N,10,1,8,6412,2,20200121,1235,  27.00530, -79.36550,   671,   479.1, 13.3843,2,-999.0000,9, 35.7327,2,-999.0000,9,   135.2,2,  -999.0,9, -999.00,9, -999.00,9, -999.00,9,  -999.0,9,  -999.0,9, -999.00,9, -999.00,9
740H20200119,A05_24N,10,1,9,6413,2,20200121,1235,  27.00530, -79.36550,   671,   379.7, 15.9248,2,-999.0000,9, 36.1686,2, 36.1572,2,   160.7,2,   162.0,2,    3.82,2,   11.47,2,    0.63,2,  2363.1,2,  2158.2,2, -999.00,9, -999.00,9
740H20200119,A05_24N,10,1,10,6414,2,20200121,1235,  27.00530, -79.36550,   671,   379.8, 15.9443,2,-999.0000,9, 36.1725,2,-999.0000,9,   160.2,2,  -999.0,9, -999.00,9, -999.00,9, -999.00,9,  -999.0,9,  -999.0,9, -999.00,9, -999.00,9
740H20200119,A05_24N,10,1,11,6415,2,20200121,1235,  27.00530, -79.36550,   671,   303.4, 18.0725,2,-999.0000,9, 36.4722,2, 36.4738,2,   150.4,2,   153.5,2,    2.92,2,    9.22,2,    0.47,2,  2382.9,2,  2162.5,2, -999.00,9, -999.00,9
740H20200119,A05_24N,10,1,12,6416,2,20200121,1235,  27.00530, -79.36550,   671,   303.1, 18.0664,2,-999.0000,9, 36.4718,2,-999.0000,9,   150.3,2,  -999.0,9, -999.00,9, -999.00,9, -999.00,9,  -999.0,9,  -999.0,9, -999.00,9, -999.00,9
740H20200119,A05_24N,10,1,13,6417,2,20200121,1235,  27.00530, -79.36550,   671,   228.3, 19.7887,2,-999.0000,9, 36.7023,2, 36.7068,2,   158.8,2,   160.7,2,    1.80,2,    5.67,2,    0.25,2,  2397.3,2,  2146.7,2, -999.00,9, -999.00,9
740H20200119,A05_24N,10,1,14,6418,2,20200121,1235,  27.00530, -79.36550,   671,   228.1, 19.7724,2,-999.0000,9, 36.6961,2,-999.0000,9,   159.4,2,  -999.0,9, -999.00,9, -999.00,9, -999.00,9,  -999.0,9,  -999.0,9, -999.00,9, -999.00,9
740H20200119,A05_24N,10,1,15,6419,2,20200121,1235,  27.00530, -79.36550,   671,   178.5, 22.2045,2,-999.0000,9, 36.9267,2, 36.9384,2,   171.4,2,   176.1,2,    0.99,2,    2.01,2,    0.07,2,  2410.7,2,  2127.5,2, -999.00,9, -999.00,9
740H20200119,A05_24N,10,1,16,6420,4,20200121,1235,  27.00530, -79.36550,   671,   178.1, 22.2512,2,-999.0000,9, 36.9332,2,-999.0000,9,   174.4,2,  -999.0,9, -999.00,9, -999.00,9, -999.00,9,  -999.0,9,  -999.0,9, -999.00,9, -999.00,9
740H20200119,A05_24N,10,1,17,1122,2,20200121,1235,  27.00530, -79.36550,   671,   128.0, 24.9821,2,-999.0000,9, 36.7760,2, 36.7745,2,   179.7,2,   182.2,2,    0.96,2,    1.16,2,    0.02,2,  2398.1,6,  2091.8,6, -999.00,9, -999.00,9
740H20200119,A05_24N,10,1,18,1098,2,20200121,1235,  27.00530, -79.36550,   671,   127.7, 25.0091,2,-999.0000,9, 36.7735,2,-999.0000,9,   179.5,2,  -999.0,9, -999.00,9, -999.00,9, -999.00,9,  -999.0,9,  -999.0,9, -999.00,9, -999.00,9
740H20200119,A05_24N,10,1,19,6692,2,20200121,1235,  27.00530, -79.36550,   671,    78.1, 25.9386,2,-999.0000,9, 36.5434,2, 36.5421,2,   197.0,2,   197.3,2,    0.96,2,    0.05,2,   -0.02,2,  2390.6,2,  2054.4,2, -999.00,9, -999.00,9
740H20200119,A05_24N,10,1,20,6428,4,20200121,1235,  27.00530, -79.36550,   671,    77.8, 25.9695,2,-999.0000,9, 36.5362,2,-999.0000,9,   196.9,2,  -999.0,9, -999.00,9, -999.00,9, -999.00,9,  -999.0,9,  -999.0,9, -999.00,9, -999.00,9
740H20200119,A05_24N,10,1,21,6425,2,20200121,1235,  27.00530, -79.36550,   671,    33.1, 25.9723,2,-999.0000,9, 36.5205,2, 36.5215,2,   198.4,2,   199.0,2,    1.01,2,   -0.04,2,   -0.02,2,  2385.6,2,  2056.4,2, -999.00,9, -999.00,9
740H20200119,A05_24N,10,1,22,6426,2,20200121,1235,  27.00530, -79.36550,   671,    33.1, 25.9733,2,-999.0000,9, 36.5207,2,-999.0000,9,   198.8,2,  -999.0,9, -999.00,9, -999.00,9, -999.00,9,  -999.0,9,  -999.0,9, -999.00,9, -999.00,9
740H20200119,A05_24N,10,1,23,6427,2,20200121,1235,  27.00530, -79.36550,   671,     7.5, 25.9660,2,-999.0000,9, 36.5213,2, 36.5219,2,   198.9,2,   198.8,2,    1.03,2,   -0.02,2,   -0.01,2,  2386.2,6,  2056.0,6, -999.00,9, -999.00,9
740H20200119,A05_24N,10,1,24,1086,4,20200121,1235,  27.00530, -79.36550,   671,     7.8, 25.9667,2,-999.0000,9, 36.5213,2,-999.0000,9,   198.4,2,  -999.0,9, -999.00,9, -999.00,9, -999.00,9,  -999.0,9,  -999.0,9, -999.00,9, -999.00,9
740H20200119,A05_24N,11,1,1,5977,2,20200121,1529,  27.00358, -79.28434,   617,   610.5, 10.2233,2,-999.0000,9, 35.2644,2,-999.0000,9,   124.4,2,  -999.0,9, -999.00,9, -999.00,9, -999.00,9,  -999.0,9,  -999.0,9, -999.00,9, -999.00,9
740H20200119,A05_24N,11,1,2,6406,2,20200121,1529,  27.00358, -79.28434,   617,   610.8, 10.2154,2,-999.0000,9, 35.2639,2, 35.2655,2,   124.2,2,   125.3,2,   14.06,2,   25.08,2,    1.58,2,  2324.1,6,  2203.3,6, -999.00,9, -999.00,9
740H20200119,A05_24N,11,1,3,6407,2,20200121,1529,  27.00358, -79.28434,   617,   554.3, 12.7933,2,-999.0000,9, 35.6438,2,-999.0000,9,   135.9,2,  -999.0,9, -999.00,9, -999.00,9, -999.00,9,  -999.0,9,  -999.0,9, -999.00,9, -999.00,9
740H20200119,A05_24N,11,1,4,6408,2,20200121,1529,  27.00358, -79.28434,   617,   555.3, 12.7928,2,-999.0000,9, 35.6440,2, 35.6429,2,   136.0,2,   137.1,2,    8.69,2,   19.28,2,    1.16,2,  2338.8,2,  2184.8,2, -999.00,9, -999.00,9
740H20200119,A05_24N,11,1,5,6409,2,20200121,1529,  27.00358, -79.28434,   617,   506.1, 14.0210,2,-999.0000,9, 35.8573,2,-999.0000,9,   155.6,2,  -999.0,9, -999.00,9, -999.00,9, -999.00,9,  -999.0,9,  -999.0,9, -999.00,9, -999.00,9
740H20200119,A05_24N,11,1,6,6410,2,20200121,1529,  27.00358, -79.28434,   617,   505.8, 14.0266,2,-999.0000,9, 35.8584,2, 35.8588,2,   155.5,2,   157.0,2,    5.92,2,   14.97,2,    0.87,2,  2349.8,2,  2165.9,2, -999.00,9, -999.00,9
740H20200119,A05_24N,11,1,7,6411,2,20200121,1529,  27.00358, -79.28434,   617,   455.5, 14.7469,2,-999.0000,9, 35.9725,2,-999.0000,9,   160.5,2,  -999.0,9, -999.00,9, -999.00,9, -999.00,9,  -999.0,9,  -999.0,9, -999.00,9, -999.00,9
740H20200119,A05_24N,11,1,8,6412,2,20200121,1529,  27.00358, -79.28434,   617,   456.2, 14.7819,2,-999.0000,9, 35.9780,2, 35.9764,2,   160.8,2,   162.3,2,    4.89,2,   13.23,2,    0.75,2,  2353.3,2,  2161.4,2, -999.00,9, -999.00,9
740H20200119,A05_24N,11,1,9,6413,2,20200121,1529,  27.00358, -79.28434,   617,   404.8, 16.1560,2,-999.0000,9, 36.1994,2,-999.0000,9,   165.0,2,  -999.0,9, -999.00,9, -999.00,9, -999.00,9,  -999.0,9,  -999.0,9, -999.00,9, -999.00,9
740H20200119,A05_24N,11,1,10,6414,2,20200121,1529,  27.00358, -79.28434,   617,   405.0, 16.1425,2,-999.0000,9, 36.1945,2, 36.1914,2,   164.8,2,   166.6,2,    3.61,2,   10.61,2,    0.57,2,  2370.2,2,  2156.7,2, -999.00,9, -999.00,9
740H20200119,A05_24N,11,1,11,6415,2,20200121,1529,  27.00358, -79.28434,   617,   323.9, 18.1258,2,-999.0000,9, 36.5025,2,-999.0000,9,   178.0,2,  -999.0,9, -999.00,9, -999.00,9, -999.00,9,  -999.0,9,  -999.0,9, -999.00,9, -999.00,9
740H20200119,A05_24N,11,1,12,6416,2,20200121,1529,  27.00358, -79.28434,   617,   324.3, 18.1256,2,-999.0000,9, 36.5026,2, 36.5070,2,   178.4,2,   180.4,2,    1.93,2,    5.98,2,    0.27,2,  2383.2,2,  2136.9,2, -999.00,9, -999.00,9
740H20200119,A05_24N,11,1,13,6417,2,20200121,1529,  27.00358, -79.28434,   617,   253.8, 19.1042,2,-999.0000,9, 36.6349,2,-999.0000,9,   192.3,2,  -999.0,9, -999.00,9, -999.00,9, -999.00,9,  -999.0,9,  -999.0,9, -999.00,9, -999.00,9
740H20200119,A05_24N,11,1,14,6418,2,20200121,1529,  27.00358, -79.28434,   617,   254.1, 19.1061,2,-999.0000,9, 36.6352,2, 36.6368,2,   192.8,2,   194.5,2,    1.19,2,    3.16,2,    0.11,2,  2396.1,2,  2120.9,2, -999.00,9, -999.00,9
740H20200119,A05_24N,11,1,15,6419,2,20200121,1529,  27.00358, -79.28434,   617,   193.8, 21.1730,2,-999.0000,9, 36.7971,2,-999.0000,9,   187.6,2,  -999.0,9, -999.00,9, -999.00,9, -999.00,9,  -999.0,9,  -999.0,9, -999.00,9, -999.00,9
740H20200119,A05_24N,11,1,16,6420,2,20200121,1529,  27.00358, -79.28434,   617,   193.6, 21.1875,2,-999.0000,9, 36.7975,2, 36.7960,2,   187.4,2,   188.3,2,    0.82,2,    1.36,2,    0.02,2,  2402.8,2,  2118.1,2, -999.00,9, -999.00,9
740H20200119,A05_24N,11,1,17,1122,2,20200121,1529,  27.00358, -79.28434,   617,   137.6, 24.3193,2,-999.0000,9, 36.7457,2,-999.0000,9,   190.4,2,  -999.0,9, -999.00,9, -999.00,9, -999.00,9,  -999.0,9,  -999.0,9, -999.00,9, -999.00,9
740H20200119,A05_24N,11,1,18,1098,2,20200121,1529,  27.00358, -79.28434,   617,   137.5, 24.3436,2,-999.0000,9, 36.7440,2, 36.7471,2,   190.5,2,   191.1,2,    0.80,2,    0.65,2,   -0.01,2,  2401.9,2,  2083.2,2, -999.00,9, -999.00,9
740H20200119,A05_24N,11,1,19,6692,2,20200121,1529,  27.00358, -79.28434,   617,    93.3, 25.0657,2,-999.0000,9, 36.6557,2,-999.0000,9,   199.3,2,  -999.0,9, -999.00,9, -999.00,9, -999.00,9,  -999.0,9,  -999.0,9, -999.00,9, -999.00,9
740H20200119,A05_24N,11,1,20,6428,2,20200121,1529,  27.00358, -79.28434,   617,    93.3, 25.0650,2,-999.0000,9, 36.6547,2, 36.6574,2,   199.6,2,   200.3,2,    0.86,2,    0.14,2,   -0.02,2,  2392.0,6,  2064.2,6, -999.00,9, -999.00,9
740H20200119,A05_24N,11,1,21,6425,2,20200121,1529,  27.00358, -79.28434,   617,    47.5, 25.7229,2,-999.0000,9, 36.5695,2,-999.0000,9,   199.2,2,  -999.0,9, -999.00,9, -999.00,9, -999.00,9,  -999.0,9,  -999.0,9, -999.00,9, -999.00,9
740H20200119,A05_24N,11,1,22,6426,2,20200121,1529,  27.00358, -79.28434,   617,    47.6, 25.7256,2,-999.0000,9, 36.5683,2, 36.5711,2,   199.8,2,   199.6,2,    1.00,2,   -0.03,2,   -0.02,2,  2389.3,6,  2059.6,6, -999.00,9, -999.00,9
740H20200119,A05_24N,11,1,23,6427,2,20200121,1529,  27.00358, -79.28434,   617,     7.7, 25.7277,2,-999.0000,9, 36.5658,2,-999.0000,9,   200.1,2,  -999.0,9, -999.00,9, -999.00,9, -999.00,9,  -999.0,9,  -999.0,9, -999.00,9, -999.00,9
740H20200119,A05_24N,11,1,24,1086,2,20200121,1529,  27.00358, -79.28434,   617,     8.0, 25.7280,2,-999.0000,9, 36.5659,2, 36.5674,2,   199.3,2,   200.3,2,    1.04,2,   -0.05,2,   -0.02,2,  2390.4,2,  2057.6,2, -999.00,9, -999.00,9
740H20200119,A05_24N,12,1,1,5977,2,20200121,1757,  27.00164, -79.20072,   483,   475.4, 15.0574,2,-999.0000,9, 36.0240,2, 36.0222,2,   162.2,2,   165.2,2,    4.50,2,   12.61,2,    0.70,2,  2359.3,6,  2160.3,6, -999.00,9, -999.00,9
740H20200119,A05_24N,12,1,2,6406,2,20200121,1757,  27.00164, -79.20072,   483,   475.3, 15.0549,2,-999.0000,9, 36.0242,2,-999.0000,9,   162.1,2,  -999.0,9, -999.00,9, -999.00,9, -999.00,9,  -999.0,9,  -999.0,9, -999.00,9, -999.00,9
740H20200119,A05_24N,12,1,3,6407,2,20200121,1757,  27.00164, -79.20072,   483,   384.3, 17.0924,2,-999.0000,9, 36.3521,2, 36.3322,2,   172.9,2,   174.9,2,    2.67,2,    8.44,2,    0.43,2,  2374.0,6,  2147.2,6, -999.00,9, -999.00,9
740H20200119,A05_24N,12,1,4,6408,4,20200121,1757,  27.00164, -79.20072,   483,   384.3, 17.0920,2,-999.0000,9, 36.3521,2,-999.0000,9,   173.0,2,  -999.0,9, -999.00,9, -999.00,9, -999.00,9,  -999.0,9,  -999.0,9, -999.00,9, -999.00,9
740H20200119,A05_24N,12,1,5,6409,2,20200121,1757,  27.00164, -79.20072,   483,   354.2, 17.5801,2,-999.0000,9, 36.4286,2, 36.4238,2,   176.4,2,   178.4,2,    2.22,2,    7.13,2,    0.34,2,  2385.7,2,  2139.8,2, -999.00,9, -999.00,9
740H20200119,A05_24N,12,1,6,6410,2,20200121,1757,  27.00164, -79.20072,   483,   354.0, 17.5667,2,-999.0000,9, 36.4245,2,-999.0000,9,   176.6,2,  -999.0,9, -999.00,9, -999.00,9, -999.00,9,  -999.0,9,  -999.0,9, -999.00,9, -999.00,9
740H20200119,A05_24N,12,1,7,6411,2,20200121,1757,  27.00164, -79.20072,   483,   313.3, 18.4551,2,-999.0000,9, 36.5541,2, 36.5457,2,   185.0,2,   186.5,2,    1.59,2,    4.94,2,    0.20,2,  2386.2,2,  2133.1,2, -999.00,9, -999.00,9
740H20200119,A05_24N,12,1,8,6412,2,20200121,1757,  27.00164, -79.20072,   483,   313.2, 18.4565,2,-999.0000,9, 36.5542,2,-999.0000,9,   185.6,2,  -999.0,9, -999.00,9, -999.00,9, -999.00,9,  -999.0,9,  -999.0,9, -999.00,9, -999.00,9
740H20200119,A05_24N,12,1,9,6413,2,20200121,1757,  27.00164, -79.20072,   483,   243.2, 19.7745,2,-999.0000,9, 36.6949,2, 36.6941,2,   186.9,2,   191.9,2,    0.99,2,    2.32,2,    0.06,2,  2397.5,6,  2122.8,6, -999.00,9, -999.00,9
740H20200119,A05_24N,12,1,10,6414,2,20200121,1757,  27.00164, -79.20072,   483,   243.5, 19.7856,2,-999.0000,9, 36.6952,2,-999.0000,9,   187.2,2,  -999.0,9, -999.00,9, -999.00,9, -999.00,9,  -999.0,9,  -999.0,9, -999.00,9, -999.00,9
740H20200119,A05_24N,12,1,11,6415,2,20200121,1757,  27.00164, -79.20072,   483,   172.9, 21.9637,2,-999.0000,9, 36.8365,2, 36.8274,2,   183.3,2,   185.8,2,    0.81,2,    1.51,2,    0.03,2,  2403.3,2,  2116.3,2, -999.00,9, -999.00,9
740H20200119,A05_24N,12,1,12,6416,2,20200121,1757,  27.00164, -79.20072,   483,   173.0, 21.9613,2,-999.0000,9, 36.8329,2,-999.0000,9,   183.7,2,  -999.0,9, -999.00,9, -999.00,9, -999.00,9,  -999.0,9,  -999.0,9, -999.00,9, -999.00,9
740H20200119,A05_24N,12,1,13,6417,2,20200121,1757,  27.00164, -79.20072,   483,   112.9, 25.0082,2,-999.0000,9, 36.7107,2, 36.7158,2,   193.9,2,   194.5,2,    0.81,2,    0.30,2,   -0.02,2,  2398.1,6,  2071.4,6, -999.00,9, -999.00,9
740H20200119,A05_24N,12,1,14,6418,2,20200121,1757,  27.00164, -79.20072,   483,   113.0, 25.0089,2,-999.0000,9, 36.7105,2,-999.0000,9,   194.4,2,  -999.0,9, -999.00,9, -999.00,9, -999.00,9,  -999.0,9,  -999.0,9, -999.00,9, -999.00,9
740H20200119,A05_24N,12,1,15,6419,2,20200121,1757,  27.00164, -79.20072,   483,    83.1, 25.1509,2,-999.0000,9, 36.6612,2, 36.6606,2,   197.3,2,   197.8,2,    0.85,2,    0.10,2,   -0.03,2,  2389.1,2,  2066.3,2, -999.00,9, -999.00,9
740H20200119,A05_24N,12,1,16,6420,2,20200121,1757,  27.00164, -79.20072,   483,    83.1, 25.1499,2,-999.0000,9, 36.6610,2,-999.0000,9,   196.9,2,  -999.0,9, -999.00,9, -999.00,9, -999.00,9,  -999.0,9,  -999.0,9, -999.00,9, -999.00,9
740H20200119,A05_24N,12,1,17,1122,2,20200121,1757,  27.00164, -79.20072,   483,    57.7, 25.1571,2,-999.0000,9, 36.6273,2, 36.6294,2,   201.4,2,   201.8,2,    0.83,2,   -0.15,2,   -0.03,2,  2390.2,6,  2058.9,6, -999.00,9, -999.00,9
740H20200119,A05_24N,12,1,18,1098,2,20200121,1757,  27.00164, -79.20072,   483,    57.7, 25.1571,2,-999.0000,9, 36.6271,2,-999.0000,9,   201.5,2,  -999.0,9, -999.00,9, -999.00,9, -999.00,9,  -999.0,9,  -999.0,9, -999.00,9, -999.00,9
740H20200119,A05_24N,12,1,19,6692,2,20200121,1757,  27.00164, -79.20072,   483,    37.6, 25.1694,2,-999.0000,9, 36.6124,2, 36.6125,2,   201.4,2,   202.2,2,    0.90,2,   -0.13,2,   -0.03,2,  2387.5,2,  2059.0,2, -999.00,9, -999.00,9
740H20200119,A05_24N,12,1,20,6428,2,20200121,1757,  27.00164, -79.20072,   483,    37.6, 25.1708,2,-999.0000,9, 36.6121,2,-999.0000,9,   201.3,2,  -999.0,9, -999.00,9, -999.00,9, -999.00,9,  -999.0,9,  -999.0,9, -999.00,9, -999.00,9
740H20200119,A05_24N,12,1,21,6425,2,20200121,1757,  27.00164, -79.20072,   483,    27.3, 25.2181,2,-999.0000,9, 36.5960,2, 36.5974,2,   201.3,2,   201.8,2,    0.89,2,   -0.14,2,   -0.03,2,  2389.2,6,  2061.1,6, -999.00,9, -999.00,9
740H20200119,A05_24N,12,1,22,6426,2,20200121,1757,  27.00164, -79.20072,   483,    27.5, 25.2178,2,-999.0000,9, 36.5962,2,-999.0000,9,   201.5,2,  -999.0,9, -999.00,9, -999.00,9, -999.00,9,  -999.0,9,  2063.7,2, -999.00,9, -999.00,9
740H20200119,A05_24N,12,1,23,6427,2,20200121,1757,  27.00164, -79.20072,   483,     7.3, 25.2364,2,-999.0000,9, 36.5856,2, 36.5867,2,   201.6,2,   201.8,2,    0.91,2,   -0.15,2,   -0.03,2,  2387.3,2,  2063.4,2, -999.00,9, -999.00,9
740H20200119,A05_24N,12,1,24,1086,2,20200121,1757,  27.00164, -79.20072,   483,     7.5, 25.2367,2,-999.0000,9, 36.5856,2,-999.0000,9,   201.8,2,  -999.0,9, -999.00,9, -999.00,9, -999.00,9,  -999.0,9,  -999.0,9, -999.00,9, -999.00,9