BOTTLE,20221012CCHSIOENA
EXPOCODE,SECT_ID,STNNBR,CASTNO,SAMPNO,BTLNBR,BTLNBR_FLAG_W,DATE,TIME,LATITUDE,LONGITUDE,DEPTH,CTDPRS,CTDTMP,CTDTMP_FLAG_W,SBE35,SBE35_FLAG_W,CTDSAL,CTDSAL_FLAG_W,SALNTY,SALNTY_FLAG_W,CTDOXY,CTDOXY_FLAG_W,OXYGEN,OXYGEN_FLAG_W,SILCAT,SILCAT_FLAG_W,NO2+NO3,NO2+NO3_FLAG_W,PHSPHT,PHSPHT_FLAG_W,ALKALI,ALKALI_FLAG_W,TCARBN,TCARBN_FLAG_W,DELC14,DELC14_FLAG_W,DELC13,DELC13_FLAG_W
 , , , , , , , , , , , ,DBAR,ITS-90, ,ITS-90, ,PSS-78, ,PSS-78, ,UMOL/KG, ,UMOL/KG, ,UMOL/KG, ,UMOL/KG, ,UMOL/KG, ,UMOL/KG, ,UMOL/KG, ,/MILLE, ,/MILLE, 
740H20200119,A05_24N,134,1,11,3044,2,20200227,2251,  27.78330, -13.76671,  1425,  1428.8,  6.1046,2,  6.1051,2, 35.2470,2, 35.2473,2,   187.7,2,   187.6,2,   20.50,2,   22.64,2,    1.49,2,  2335.1,6,  2203.5,6, -999.00,9, -999.00,9
740H20200119,A05_24N,134,1,12,3045,2,20200227,2251,  27.78330, -13.76671,  1425,  1316.1,  6.5529,2,  6.5165,2, 35.2725,2, 35.2668,2,   179.3,2,   180.4,2,   19.67,2,   23.04,2,    1.50,2,  2336.3,2,  2205.4,2, -999.00,9, -999.00,9
740H20200119,A05_24N,134,1,13,3046,2,20200227,2251,  27.78330, -13.76671,  1425,  1215.0,  7.1773,2,  7.1722,2, 35.3273,2, 35.3258,2,   171.3,2,   171.4,2,   18.09,2,   23.18,2,    1.50,2,  2338.0,2,  2206.0,2, -999.00,9, -999.00,9
740H20200119,A05_24N,134,1,14,7131,2,20200227,2251,  27.78330, -13.76671,  1425,  1113.5,  7.4766,2,  7.4868,2, 35.3255,2, 35.3274,2,   163.4,2,   164.1,2,   17.61,2,   23.71,2,    1.53,2,  2334.2,2,  2208.4,2, -999.00,9, -999.00,9
740H20200119,A05_24N,134,1,15,3048,2,20200227,2251,  27.78330, -13.76671,  1425,  1012.0,  7.7217,2,  7.7327,2, 35.2746,2, 35.2732,2,   149.2,2,   151.6,2,   17.75,2,   25.33,2,    1.62,2,  2332.6,6,  2212.2,6, -999.00,9, -999.00,9
740H20200119,A05_24N,134,1,16,3049,2,20200227,2251,  27.78330, -13.76671,  1425,   910.9,  8.4043,2,  8.3836,2, 35.3139,2, 35.3112,2,   142.7,2,   144.3,2,   16.50,2,   25.10,2,    1.60,2,  2332.4,2,  2212.6,2, -999.00,9, -999.00,9
740H20200119,A05_24N,134,1,17,3050,2,20200227,2251,  27.78330, -13.76671,  1425,   860.3,  8.7311,2,  8.7008,2, 35.3454,2, 35.3432,2,   141.5,2,   141.6,2,   15.70,2,   24.78,2,    1.56,2,  2332.5,2,  2210.1,2, -999.00,9, -999.00,9
740H20200119,A05_24N,134,1,18,3051,2,20200227,2251,  27.78330, -13.76671,  1425,   810.0,  8.7369,2,  8.7416,2, 35.2914,2, 35.2956,2,   131.1,2,   131.7,2,   15.93,2,   26.14,2,    1.65,2,  2328.3,6,  2214.3,6, -999.00,9, -999.00,9
740H20200119,A05_24N,134,1,19,3052,2,20200227,2251,  27.78330, -13.76671,  1425,   708.8,  9.7303,2,  9.7361,2, 35.4229,2, 35.4225,2,   140.8,2,   141.6,2,   13.05,2,   23.50,2,    1.45,2,  2333.4,2,  2207.9,2, -999.00,9, -999.00,9
740H20200119,A05_24N,134,1,20,3053,2,20200227,2251,  27.78330, -13.76671,  1425,   607.9, 10.6494,2, 10.6730,2, 35.5152,2, 35.5101,2,   151.3,2,   150.7,2,   10.39,2,   20.90,2,    1.27,2,  2336.5,2,  2197.3,2, -999.00,9, -999.00,9
740H20200119,A05_24N,134,1,21,3054,2,20200227,2251,  27.78330, -13.76671,  1425,   557.1, 11.1237,2, 11.1681,2, 35.5613,2, 35.5606,2,   159.6,2,   159.6,2,    8.89,2,   19.15,2,    1.15,2,  2336.4,2,  2191.3,2, -999.00,9, -999.00,9
740H20200119,A05_24N,134,1,22,3055,2,20200227,2251,  27.78330, -13.76671,  1425,   506.5, 11.5655,2, 11.5418,2, 35.6045,2, 35.6021,2,   166.9,2,   166.8,2,    7.62,2,   17.70,2,    1.06,2,  2339.1,6,  2186.4,6, -999.00,9, -999.00,9
740H20200119,A05_24N,134,1,23,3056,2,20200227,2251,  27.78330, -13.76671,  1425,   456.4, 11.8979,2, 11.9270,2, 35.6372,2, 35.6353,2,   168.7,2,   169.0,2,    6.93,2,   16.86,2,    1.01,2,  2339.4,2,  2176.7,2, -999.00,9, -999.00,9
740H20200119,A05_24N,134,1,24,3057,2,20200227,2251,  27.78330, -13.76671,  1425,   405.9, 12.3743,2, 12.3988,2, 35.6863,2, 35.6816,2,   185.1,2,   184.5,2,    5.41,2,   14.41,2,    0.85,2,  2342.1,2,  2173.8,2, -999.00,9, -999.00,9
740H20200119,A05_24N,134,1,1,3034,2,20200227,2251,  27.78330, -13.76671,  1425,   355.1, 12.6821,2, 12.6867,2, 35.7193,2, 35.7225,2,   185.2,2,   185.5,2,    5.00,2,   13.71,2,    0.81,2,  2342.1,2,  2174.0,2, -999.00,9, -999.00,9
740H20200119,A05_24N,134,1,2,3035,2,20200227,2251,  27.78330, -13.76671,  1425,   305.0, 13.4029,2, 13.4435,2, 35.8235,2, 35.8029,2,   183.9,2,   184.5,2,    4.46,2,   12.72,2,    0.75,2,  2345.8,2,  2169.9,2, -999.00,9, -999.00,9
740H20200119,A05_24N,134,1,3,3036,2,20200227,2251,  27.78330, -13.76671,  1425,   254.5, 14.0290,2, 14.0579,2, 35.9010,2, 35.8906,2,   190.2,2,   189.9,2,    3.64,2,   10.96,2,    0.65,2,  2355.1,2,  2164.5,2, -999.00,9, -999.00,9
740H20200119,A05_24N,134,1,4,3037,2,20200227,2251,  27.78330, -13.76671,  1425,   204.1, 14.5751,2, 14.6473,2, 35.9856,2, 35.9915,2,   189.9,2,   191.0,2,    3.07,2,    9.64,2,    0.60,2,  2356.3,2,  2162.0,2, -999.00,9, -999.00,9
740H20200119,A05_24N,134,1,5,6409,2,20200227,2251,  27.78330, -13.76671,  1425,   153.6, 15.5139,2, 15.5429,2, 36.1357,2, 36.1268,2,   182.9,2,   184.0,2,    2.93,2,    9.08,2,    0.58,2,  2365.5,2,  2165.9,2, -999.00,9, -999.00,9
740H20200119,A05_24N,134,1,6,6410,2,20200227,2251,  27.78330, -13.76671,  1425,   103.1, 16.6461,2, 16.6911,2, 36.3086,2, 36.2807,2,   198.7,2,   195.8,2,    2.46,2,    6.37,2,    0.43,2,  2373.3,2,  2156.6,2, -999.00,9, -999.00,9
740H20200119,A05_24N,134,1,7,6411,2,20200227,2251,  27.78330, -13.76671,  1425,    78.1, 17.3198,2, 17.1127,2, 36.4111,2, 36.3877,2,   214.5,2,   211.2,2,    1.71,2,    3.73,2,    0.30,2,  2382.7,2,  2147.6,2, -999.00,9, -999.00,9
740H20200119,A05_24N,134,1,8,6412,2,20200227,2251,  27.78330, -13.76671,  1425,    53.0, 17.9235,2, 17.9887,2, 36.5133,2, 36.4919,2,   228.8,2,   228.7,2,    1.20,2,    1.12,2,    0.15,2,  2384.8,2,  2130.7,2, -999.00,9, -999.00,9
740H20200119,A05_24N,134,1,9,6413,2,20200227,2251,  27.78330, -13.76671,  1425,    28.3, 18.0678,2, 18.0670,2, 36.5247,2, 36.5256,2,   235.9,2,   236.6,2,    1.04,2,    0.11,2,    0.09,2,  2393.9,2,  2126.8,2, -999.00,9, -999.00,9
740H20200119,A05_24N,134,1,10,6414,2,20200227,2251,  27.78330, -13.76671,  1425,     7.6, 18.1513,2, 18.1735,2, 36.5281,2, 36.5301,2,   237.2,2,   237.2,2,    1.10,2,    0.07,2,    0.09,2,  2388.3,2,  2123.0,2, -999.00,9, -999.00,9
740H20200119,A05_24N,135,1,11,3044,2,20200228,1622,  28.43094, -13.22759,   985,   985.9,  7.8842,2,  7.8813,2, 35.2978,2, 35.2951,2,   148.5,2,   148.3,2,   17.28,2,   25.39,2,    1.61,2,  2331.2,6,  2212.6,6, -999.00,9, -999.00,9
740H20200119,A05_24N,135,1,12,3045,2,20200228,1622,  28.43094, -13.22759,   985,   960.8,  7.9809,2,  7.9793,2, 35.2870,2, 35.2880,2,   144.8,2,   145.3,2,   17.19,2,   25.58,2,    1.62,2,  2328.4,2,  2212.8,2, -999.00,9, -999.00,9
740H20200119,A05_24N,135,1,13,3046,2,20200228,1622,  28.43094, -13.22759,   985,   859.5,  8.2950,2,  8.2952,2, 35.2774,2, 35.2776,2,   136.4,2,   136.4,2,   16.74,2,   26.17,2,    1.66,2,  2328.3,2,  2215.5,2, -999.00,9, -999.00,9
740H20200119,A05_24N,135,1,14,7131,2,20200228,1622,  28.43094, -13.22759,   985,   809.0,  8.6161,2,  8.6279,2, 35.2879,2, 35.2881,2,   131.9,2,   132.2,2,   16.13,2,   26.24,2,    1.65,2,  2330.4,6,  2216.0,6, -999.00,9, -999.00,9
740H20200119,A05_24N,135,1,15,3048,2,20200228,1622,  28.43094, -13.22759,   985,   758.7,  9.4313,2,  9.4333,2, 35.3708,2, 35.3666,2,   134.0,2,   134.0,2,   14.06,2,   24.78,2,    1.53,2,  2323.5,2,  2212.6,2, -999.00,9, -999.00,9
740H20200119,A05_24N,135,1,16,3049,2,20200228,1622,  28.43094, -13.22759,   985,   708.2,  9.5045,2,  9.5072,2, 35.3783,2, 35.3779,2,   134.6,2,   134.6,2,   13.76,2,   24.46,2,    1.51,2,  2330.8,2,  2209.8,2, -999.00,9, -999.00,9
740H20200119,A05_24N,135,1,17,3050,2,20200228,1622,  28.43094, -13.22759,   985,   655.9, 10.1753,2, 10.1817,2, 35.4638,2, 35.4540,2,   144.8,2,   143.5,2,   11.81,2,   22.46,2,    1.38,2,  2331.7,2,  2206.9,2, -999.00,9, -999.00,9
740H20200119,A05_24N,135,1,18,3051,2,20200228,1622,  28.43094, -13.22759,   985,   605.0, 10.6095,2, 10.6214,2, 35.5150,2, 35.5152,2,   153.6,2,   153.4,2,   10.10,2,   20.53,2,    1.26,2,  2335.0,2,  2195.8,2, -999.00,9, -999.00,9
740H20200119,A05_24N,135,1,19,3052,2,20200228,1622,  28.43094, -13.22759,   985,   554.9, 11.0342,2, 11.0639,2, 35.5534,2, 35.5529,2,   160.4,2,   160.4,2,    8.82,2,   19.08,2,    1.15,2,  2328.8,2,  2193.4,2, -999.00,9, -999.00,9
740H20200119,A05_24N,135,1,20,3053,2,20200228,1622,  28.43094, -13.22759,   985,   504.5, 11.5572,2, 11.5632,2, 35.6060,2, 35.6033,2,   174.4,2,   173.2,2,    7.06,2,   16.88,2,    1.01,2,  2337.5,6,  2181.7,6, -999.00,9, -999.00,9
740H20200119,A05_24N,135,1,21,3054,2,20200228,1622,  28.43094, -13.22759,   985,   454.1, 11.8590,2, 11.8557,2, 35.6323,2, 35.6319,2,   166.3,2,   167.9,2,    6.93,2,   16.94,2,    1.02,2,  2339.3,2,  2182.7,2, -999.00,9, -999.00,9
740H20200119,A05_24N,135,1,22,3055,2,20200228,1622,  28.43094, -13.22759,   985,   403.2, 12.3014,2, 12.3030,2, 35.6832,2, 35.6772,2,   171.6,2,   171.6,2,    6.11,2,   15.85,2,    0.93,2,  2339.2,2,  2179.0,2, -999.00,9, -999.00,9
740H20200119,A05_24N,135,1,23,3056,2,20200228,1622,  28.43094, -13.22759,   985,   378.3, 12.5917,2, 12.5922,2, 35.7176,2, 35.7136,2,   175.1,2,   174.8,2,    5.53,2,   14.97,2,    0.88,2,  2340.3,2,  2180.3,2, -999.00,9, -999.00,9
740H20200119,A05_24N,135,1,24,3057,2,20200228,1622,  28.43094, -13.22759,   985,   302.9, 13.5666,2, 13.5711,2, 35.8437,2, 35.8327,2,   178.6,2,   178.4,2,    4.34,2,   12.88,2,    0.76,2,  2347.6,2,  2168.4,2, -999.00,9, -999.00,9
740H20200119,A05_24N,135,1,1,3034,2,20200228,1622,  28.43094, -13.22759,   985,   252.4, 13.9997,2, 14.0040,2, 35.9039,2, 35.8986,2,   182.4,2,   181.7,2,    3.79,2,   11.72,2,    0.69,2,  2351.2,2,  2165.7,2, -999.00,9, -999.00,9
740H20200119,A05_24N,135,1,2,3035,2,20200228,1622,  28.43094, -13.22759,   985,   201.7, 14.7409,2, 14.7465,2, 36.0153,2, 36.0004,2,   181.2,2,   182.0,2,    3.34,2,   10.55,2,    0.63,2,  2358.7,2,  2164.7,2, -999.00,9, -999.00,9
740H20200119,A05_24N,135,1,3,3036,2,20200228,1622,  28.43094, -13.22759,   985,   176.6, 15.1676,2, 15.1833,2, 36.0835,2, 36.0708,2,   182.2,2,   182.1,2,    3.03,2,    9.74,2,    0.59,2,  2361.8,2,  2162.7,2, -999.00,9, -999.00,9
740H20200119,A05_24N,135,1,4,3037,2,20200228,1622,  28.43094, -13.22759,   985,   151.4, 15.8191,2, 15.8438,2, 36.1846,2, 36.1709,2,   185.4,2,   184.8,2,    2.61,2,    8.51,2,    0.53,2,  2368.3,2,  2163.0,2, -999.00,9, -999.00,9
740H20200119,A05_24N,135,1,5,6409,2,20200228,1622,  28.43094, -13.22759,   985,   126.1, 16.3107,2, 16.3205,2, 36.2549,2, 36.2453,2,   194.5,2,   193.9,2,    2.04,2,    6.75,2,    0.45,2,  2372.2,2,  2152.5,2, -999.00,9, -999.00,9
740H20200119,A05_24N,135,1,6,6410,2,20200228,1622,  28.43094, -13.22759,   985,   101.2, 16.8312,2, 16.8770,2, 36.3374,2, 36.3369,2,   201.8,2,   202.3,2,    1.59,2,    5.14,2,    0.36,2,  2380.7,2,  2150.0,2, -999.00,9, -999.00,9
740H20200119,A05_24N,135,1,7,6411,2,20200228,1622,  28.43094, -13.22759,   985,    66.5, 17.9357,2, 17.9315,2, 36.4753,2, 36.4778,2,   231.5,2,   231.8,2,    0.59,2,    0.79,2,    0.12,2,  2386.5,2,  2126.3,2, -999.00,9, -999.00,9
740H20200119,A05_24N,135,1,8,6412,2,20200228,1622,  28.43094, -13.22759,   985,    41.3, 18.0478,2, 18.0468,2, 36.4837,2, 36.4836,2,   236.6,2,   235.8,2,    0.54,2,    0.33,2,    0.09,2,  2391.0,2,  2125.9,2, -999.00,9, -999.00,9
740H20200119,A05_24N,135,1,9,6413,2,20200228,1622,  28.43094, -13.22759,   985,    24.9, 18.0796,2, 18.0863,2, 36.4890,2, 36.4907,2,   239.4,2,   239.2,2,    0.58,2,    0.20,2,    0.08,2,  2391.2,6,  2122.4,6, -999.00,9, -999.00,9
740H20200119,A05_24N,135,1,10,6414,2,20200228,1622,  28.43094, -13.22759,   985,     6.0, 18.1729,2, 18.2077,2, 36.4972,2, 36.4990,2,   239.6,2,   239.8,2,    0.55,2,    0.20,2,    0.07,2,  2390.2,2,  2121.1,2, -999.00,9, -999.00,9