BOTTLE,20221012CCHSIOENA
EXPOCODE,SECT_ID,STNNBR,CASTNO,SAMPNO,BTLNBR,BTLNBR_FLAG_W,DATE,TIME,LATITUDE,LONGITUDE,DEPTH,CTDPRS,CTDTMP,CTDTMP_FLAG_W,SBE35,SBE35_FLAG_W,CTDSAL,CTDSAL_FLAG_W,SALNTY,SALNTY_FLAG_W,CTDOXY,CTDOXY_FLAG_W,OXYGEN,OXYGEN_FLAG_W,SILCAT,SILCAT_FLAG_W,NO2+NO3,NO2+NO3_FLAG_W,PHSPHT,PHSPHT_FLAG_W,ALKALI,ALKALI_FLAG_W,TCARBN,TCARBN_FLAG_W,DELC14,DELC14_FLAG_W,DELC13,DELC13_FLAG_W
 , , , , , , , , , , , ,DBAR,ITS-90, ,ITS-90, ,PSS-78, ,PSS-78, ,UMOL/KG, ,UMOL/KG, ,UMOL/KG, ,UMOL/KG, ,UMOL/KG, ,UMOL/KG, ,UMOL/KG, ,/MILLE, ,/MILLE, 
740H20200119,A05_24N,56,1,11,3044,2,20200201,1900,  24.49980, -65.46771,  5556,  5654.6,  2.1059,2,  2.1053,2, 34.8500,2, 34.8500,2,   250.3,2,   247.7,2,   53.88,2,   22.47,2,    1.52,2,  2339.7,6,  2203.5,6, -999.00,9, -999.00,9
740H20200119,A05_24N,56,1,12,3045,2,20200201,1900,  24.49980, -65.46771,  5556,  5086.9,  2.1108,2,  2.1101,2, 34.8599,2, 34.8602,2,   253.2,2,   254.3,2,   54.05,2,   22.51,4,    1.53,4,  2335.3,2,  2200.0,2, -999.00,9, -999.00,9
740H20200119,A05_24N,56,1,13,3046,2,20200201,1900,  24.49980, -65.46771,  5556,  4571.2,  2.2380,2,  2.2367,2, 34.8824,2, 34.8821,2,   260.7,2,   261.3,2,   37.30,2,   19.86,2,    1.35,2,  2329.0,2,  2186.0,2, -999.00,9, -999.00,9
740H20200119,A05_24N,56,1,14,7131,2,20200201,1900,  24.49980, -65.46771,  5556,  4058.6,  2.3130,2,  2.3148,2, 34.8945,2, 34.8950,2,   264.6,2,   266.2,2,   31.22,2,   19.00,2,    1.28,2,  2318.9,2,  2179.3,2, -999.00,9, -999.00,9
740H20200119,A05_24N,56,1,15,3048,2,20200201,1900,  24.49980, -65.46771,  5556,  3547.6,  2.4553,2,  2.4607,2, 34.9074,2, 34.9102,2,   263.6,2,   263.4,2,   28.94,2,   18.89,2,    1.27,2,  2318.9,6,  2178.5,6, -999.00,9, -999.00,9
740H20200119,A05_24N,56,1,16,3049,2,20200201,1900,  24.49980, -65.46771,  5556,  3037.6,  2.7291,2,  2.7318,2, 34.9281,2, 34.9283,2,   261.1,2,   261.7,2,   26.58,2,   19.01,2,    1.27,2,  2320.1,2,  2183.7,2, -999.00,9, -999.00,9
740H20200119,A05_24N,56,1,17,3050,2,20200201,1900,  24.49980, -65.46771,  5556,  2524.2,  3.1351,2,  3.1356,2, 34.9615,2, 34.9609,2,   255.0,2,   255.4,2,   24.90,2,   19.34,2,    1.29,2,  2317.2,2,  2173.9,2, -999.00,9, -999.00,9
740H20200119,A05_24N,56,1,18,3051,2,20200201,1900,  24.49980, -65.46771,  5556,  2268.1,  3.3773,2,  3.3767,2, 34.9760,2, 34.9773,2,   256.3,2,   256.3,2,   21.03,2,   18.89,2,    1.25,2,  2323.5,2,  2174.7,2, -999.00,9, -999.00,9
740H20200119,A05_24N,56,1,19,3052,2,20200201,1900,  24.49980, -65.46771,  5556,  2012.6,  3.5679,2,  3.5713,2, 34.9776,2, 34.9773,2,   259.3,2,   259.1,2,   17.27,2,   18.42,2,    1.21,2,  2307.9,2,  2166.3,2, -999.00,9, -999.00,9
740H20200119,A05_24N,56,1,20,3053,2,20200201,1900,  24.49980, -65.46771,  5556,  1757.4,  3.9075,2,  3.9282,2, 34.9931,2, 34.9927,2,   257.2,2,   257.9,2,   14.81,2,   18.26,2,    1.19,2,  2312.7,6,  2169.2,6, -999.00,9, -999.00,9
740H20200119,A05_24N,56,1,21,3054,2,20200201,1900,  24.49980, -65.46771,  5556,  1502.3,  4.4421,2,  4.4631,2, 35.0247,2, 35.0257,2,   249.4,2,   249.9,2,   13.33,2,   18.53,2,    1.21,2,  2306.4,2,  2169.7,2, -999.00,9, -999.00,9
740H20200119,A05_24N,56,1,22,3055,2,20200201,1900,  24.49980, -65.46771,  5556,  1247.9,  5.1899,2,  5.1719,2, 35.0504,2, 35.0501,2,   230.6,2,   232.2,2,   13.27,2,   19.49,2,    1.27,2,  2311.0,2,  2176.1,2, -999.00,9, -999.00,9
740H20200119,A05_24N,56,1,23,3056,2,20200201,1900,  24.49980, -65.46771,  5556,  1009.0,  6.7120,2,  6.7216,2, 35.0630,2, 35.0638,2,   176.7,2,   179.8,2,   16.34,2,   23.93,2,    1.54,2,  2311.2,2,  2193.3,2, -999.00,9, -999.00,9
740H20200119,A05_24N,56,1,24,3057,2,20200201,1900,  24.49980, -65.46771,  5556,   882.7,  8.1594,2,  8.1741,2, 35.1129,2, 35.1094,2,   146.9,2,   148.9,2,   16.29,2,   25.94,2,    1.66,2,  2312.7,6,  2198.9,2, -999.00,9, -999.00,9
740H20200119,A05_24N,56,1,1,3034,2,20200201,1900,  24.49980, -65.46771,  5556,   805.9,  9.6064,2,  9.6034,2, 35.2633,2, 35.2503,2,   141.5,2,   144.6,2,   13.60,2,   24.32,2,    1.53,2,  2323.9,2,  2201.5,2, -999.00,9, -999.00,9
740H20200119,A05_24N,56,1,2,3035,2,20200201,1900,  24.49980, -65.46771,  5556,   756.1, 10.6085,2, 10.4696,2, 35.3886,2, 35.3644,2,   143.2,2,   146.6,2,   11.66,2,   22.64,2,    1.41,2,  2325.5,2,  2182.4,2, -999.00,9, -999.00,9
740H20200119,A05_24N,56,1,3,3036,2,20200201,1900,  24.49980, -65.46771,  5556,   628.9, 13.1574,2, 13.2073,2, 35.7498,2, 35.7315,2,   159.7,2,   160.9,2,    6.52,2,   16.48,2,    0.98,2,  2338.9,6,  2169.6,6, -999.00,9, -999.00,9
740H20200119,A05_24N,56,1,4,3037,2,20200201,1900,  24.49980, -65.46771,  5556,   502.8, 15.5570,2, 15.5970,2, 36.1225,2, 36.1229,2,   168.6,2,   172.1,2,    3.48,2,   11.30,2,    0.62,2,  2359.4,2,  2163.9,2, -999.00,9, -999.00,9
740H20200119,A05_24N,56,1,5,3038,2,20200201,1900,  24.49980, -65.46771,  5556,   377.0, 17.6562,2, 17.6840,2, 36.4472,2, 36.4380,2,   181.7,2,   182.0,2,    1.99,2,    7.01,2,    0.34,2,  2376.1,2,  2141.9,2, -999.00,9, -999.00,9
740H20200119,A05_24N,56,1,6,6410,2,20200201,1900,  24.49980, -65.46771,  5556,   250.4, 19.5806,2, 19.5986,2, 36.6895,2, 36.6745,2,   189.8,2,   191.6,2,    0.93,2,    2.69,2,    0.08,2,  2390.5,2,  2132.4,2, -999.00,9, -999.00,9
740H20200119,A05_24N,56,1,7,6411,2,20200201,1900,  24.49980, -65.46771,  5556,   174.8, 22.0399,2, 22.1076,2, 37.1155,2, 37.1066,2,   186.4,2,   186.4,2,    0.58,2,    1.01,2,    0.02,2,  2425.3,6,  2137.9,6, -999.00,9, -999.00,9
740H20200119,A05_24N,56,1,8,6412,2,20200201,1900,  24.49980, -65.46771,  5556,    98.7, 24.7835,2, 24.9303,2, 37.3300,2, 37.3058,2,   211.2,2,   206.2,2,    0.64,2,    0.26,2,    0.00,2,  2428.6,2,  2103.3,2, -999.00,9, -999.00,9
740H20200119,A05_24N,56,1,9,6413,2,20200201,1900,  24.49980, -65.46771,  5556,    49.1, 25.1109,2, 25.1083,2, 36.7903,2, 36.7903,2,   207.7,2,   206.5,2,    1.14,2,    0.22,2,    0.00,2,  2406.0,2,  2051.2,2, -999.00,9, -999.00,9
740H20200119,A05_24N,56,1,10,3043,2,20200201,1900,  24.49980, -65.46771,  5556,     5.3, 25.1662,2, 25.1651,2, 36.7762,2, 36.7767,2,   207.7,2,   206.7,2,    1.13,2,    0.22,2,    0.00,2,  2413.4,6,  2063.2,2, -999.00,9, -999.00,9
740H20200119,A05_24N,57,1,11,3044,2,20200202,0319,  24.49905, -64.73436,  5714,  5813.9,  2.0789,2,  2.0784,2, 34.8438,2, 34.8437,2,   248.1,2,   248.6,2,   57.17,2,   23.03,2,    1.56,2,  2344.2,6,  2206.0,6, -999.00,9, -999.00,9
740H20200119,A05_24N,57,1,12,3045,2,20200202,0319,  24.49905, -64.73436,  5714,  5344.6,  2.0576,2,  2.0566,2, 34.8494,2, 34.8499,2,   250.1,2,   250.2,2,   54.53,2,   22.58,2,    1.53,2,  2342.1,2,  2201.9,2, -999.00,9, -999.00,9
740H20200119,A05_24N,57,1,13,3046,2,20200202,0319,  24.49905, -64.73436,  5714,  4834.7,  2.1698,2,  2.1692,2, 34.8708,2, 34.8706,2,   256.7,2,   257.0,2,   43.92,2,   20.97,2,    1.42,2,  2334.2,2,  2190.4,2, -999.00,9, -999.00,9
740H20200119,A05_24N,57,1,14,7131,2,20200202,0319,  24.49905, -64.73436,  5714,  4321.2,  2.2856,2,  2.2872,2, 34.8899,2, 34.8899,2,   264.3,2,   264.5,2,   43.85,4,   21.11,4,    1.42,4,  2324.6,2,  2179.8,2, -999.00,9, -999.00,9
740H20200119,A05_24N,57,1,15,3048,2,20200202,0319,  24.49905, -64.73436,  5714,  3804.1,  2.3681,2,  2.3697,2, 34.9000,2, 34.9004,2,   264.6,2,   264.2,2,   30.66,2,   19.12,2,    1.29,2,  2333.8,2,  2175.7,2, -999.00,9, -999.00,9
740H20200119,A05_24N,57,1,16,3049,2,20200202,0319,  24.49905, -64.73436,  5714,  3293.4,  2.5990,2,  2.6004,2, 34.9190,2, 34.9188,2,   258.3,2,   258.4,2,   31.37,2,   19.80,4,    1.33,4,  2326.8,2,  2180.2,2, -999.00,9, -999.00,9
740H20200119,A05_24N,57,1,17,3050,2,20200202,0319,  24.49905, -64.73436,  5714,  2784.4,  2.8978,2,  2.9032,2, 34.9430,2, 34.9433,2,   256.8,2,   256.4,2,   27.21,2,   19.49,2,    1.30,2,  2324.7,2,  2173.2,2, -999.00,9, -999.00,9
740H20200119,A05_24N,57,1,18,3051,2,20200202,0319,  24.49905, -64.73436,  5714,  2533.3,  3.0981,2,  3.0973,2, 34.9613,2, 34.9613,2,   253.4,2,   252.7,2,   26.47,2,   19.65,2,    1.31,2,  2324.1,2,  2177.6,2, -999.00,9, -999.00,9
740H20200119,A05_24N,57,1,19,3052,2,20200202,0319,  24.49905, -64.73436,  5714,  2276.9,  3.3584,2,  3.3534,2, 34.9824,2, 34.9821,2,   252.7,2,   252.2,2,   23.51,2,   19.40,2,    1.28,2,  2324.5,2,  2171.9,2, -999.00,9, -999.00,9
740H20200119,A05_24N,57,1,20,3053,2,20200202,0319,  24.49905, -64.73436,  5714,  2020.9,  3.6377,2,  3.6403,2, 34.9927,2, 34.9952,2,   255.1,2,   254.4,2,   18.71,2,   18.87,2,    1.24,2,  2316.1,2,  2169.9,2, -999.00,9, -999.00,9
740H20200119,A05_24N,57,1,21,3054,2,20200202,0319,  24.49905, -64.73436,  5714,  1771.1,  3.9962,2,  3.9972,2, 35.0116,2, 35.0112,2,   253.7,2,   254.0,2,   15.42,2,   18.51,2,    1.21,2,  2314.0,2,  2166.9,2, -999.00,9, -999.00,9
740H20200119,A05_24N,57,1,22,3055,2,20200202,0319,  24.49905, -64.73436,  5714,  1515.8,  4.3713,2,  4.3835,2, 35.0201,2, 35.0204,2,   250.3,2,   250.8,2,   13.31,2,   18.53,2,    1.20,2,  2310.9,2,  2170.2,2, -999.00,9, -999.00,9
740H20200119,A05_24N,57,1,23,3056,2,20200202,0319,  24.49905, -64.73436,  5714,  1261.8,  5.1174,2,  5.1429,2, 35.0469,2, 35.0473,2,   232.6,2,   232.5,2,   13.14,2,   19.50,2,    1.27,2,  2311.0,2,  2176.6,2, -999.00,9, -999.00,9
740H20200119,A05_24N,57,1,24,3057,2,20200202,0319,  24.49905, -64.73436,  5714,  1007.6,  6.7013,2,  6.7581,2, 35.0711,2, 35.0705,2,   179.1,2,   177.3,2,   16.03,2,   23.90,2,    1.55,2,  2316.9,6,  2190.5,6, -999.00,9, -999.00,9
740H20200119,A05_24N,57,1,1,3034,2,20200202,0319,  24.49905, -64.73436,  5714,   880.9,  7.8295,2,  7.7916,2, 35.0777,2, 35.0810,2,   148.7,2,   149.1,2,   16.76,2,   26.25,2,    1.67,2,  2314.8,6,  2203.7,2, -999.00,9, -999.00,9
740H20200119,A05_24N,57,1,2,3035,2,20200202,0319,  24.49905, -64.73436,  5714,   754.2, 10.3004,2, 10.2869,2, 35.3508,2, 35.3299,2,   143.1,2,   141.6,2,   12.09,2,   23.29,2,    1.44,2,  2324.1,6,  2192.9,6, -999.00,9, -999.00,9
740H20200119,A05_24N,57,1,3,3036,2,20200202,0319,  24.49905, -64.73436,  5714,   628.1, 12.7806,2, 12.7864,2, 35.6942,2, 35.6821,2,   159.3,2,   157.8,2,    6.86,2,   17.19,2,    1.02,2,  2340.8,2,  2171.5,2, -999.00,9, -999.00,9
740H20200119,A05_24N,57,1,4,3037,2,20200202,0319,  24.49905, -64.73436,  5714,   501.3, 15.3288,2, 15.2223,2, 36.0784,2, 36.0569,2,   173.2,2,   172.1,2,    3.67,2,   11.64,2,    0.64,2,  2359.3,2,  2155.4,2, -999.00,9, -999.00,9
740H20200119,A05_24N,57,1,5,3038,2,20200202,0319,  24.49905, -64.73436,  5714,   375.0, 17.5693,2, 17.6259,2, 36.4342,2, 36.4249,2,   177.2,2,   176.5,2,    1.91,2,    7.59,2,    0.38,2,  2380.1,2,  2089.3,3, -999.00,9, -999.00,9
740H20200119,A05_24N,57,1,6,6410,2,20200202,0319,  24.49905, -64.73436,  5714,   248.6, 19.6862,2, 19.7165,2, 36.7542,2, 36.7162,2,   183.6,2,   184.4,2,    0.87,2,    3.34,2,    0.12,2,  2394.6,2,  2142.8,2, -999.00,9, -999.00,9
740H20200119,A05_24N,57,1,7,6411,2,20200202,0319,  24.49905, -64.73436,  5714,   173.0, 21.4825,2, 21.2941,2, 36.9319,2, 36.9027,2,   195.9,2,   191.8,2,    0.50,2,    0.82,2,    0.01,2,  2410.7,2,  2105.5,2, -999.00,9, -999.00,9
740H20200119,A05_24N,57,1,8,6412,2,20200202,0319,  24.49905, -64.73436,  5714,    97.7, 24.8953,2, 24.9002,2, 37.0873,2, 37.1212,2,   211.0,2,   211.4,2,    0.65,2,    0.20,2,    0.00,2,  2424.5,2,  2079.2,2, -999.00,9, -999.00,9
740H20200119,A05_24N,57,1,9,6413,2,20200202,0319,  24.49905, -64.73436,  5714,    47.2, 25.1110,2, 25.1069,2, 36.8676,2, 36.8675,2,   207.9,2,   207.6,2,    0.95,2,    0.20,2,    0.00,2,  2409.1,2,  2060.8,2, -999.00,9, -999.00,9
740H20200119,A05_24N,57,1,10,3043,2,20200202,0319,  24.49905, -64.73436,  5714,     5.4, 25.0871,2, 25.0826,2, 36.8620,2, 36.8620,2,   207.7,2,   207.0,2,    0.99,2,    0.21,2,    0.00,2,  2411.0,2,  2067.4,2, -999.00,9, -999.00,9
740H20200119,A05_24N,58,1,11,3044,2,20200202,1142,  24.50062, -63.99912,  5765,  5869.9,  2.0741,2,  2.0738,2, 34.8421,2, 34.8424,2,   248.9,2,   248.3,2,   57.16,2,   23.04,2,    1.56,2,  2343.4,6,  2203.9,6, -999.00,1, -999.00,1
740H20200119,A05_24N,58,1,12,3045,2,20200202,1142,  24.50062, -63.99912,  5765,  5639.6,  2.0469,2,  2.0464,2, 34.8428,2, 34.8432,2,   248.7,2,   248.4,2,   56.96,2,   23.04,2,    1.56,2,  2343.9,2,  2206.7,2, -999.00,1, -999.00,1
740H20200119,A05_24N,58,1,13,3046,2,20200202,1142,  24.50062, -63.99912,  5765,  5118.1,  2.0289,2,  2.0294,2, 34.8494,2, 34.8492,2,   250.5,2,   250.2,2,   54.04,2,   22.61,2,    1.52,2,  -999.0,9,  2201.6,2, -999.00,1, -999.00,1
740H20200119,A05_24N,58,1,14,7131,2,20200202,1142,  24.50062, -63.99912,  5765,  4598.7,  2.1741,2,  2.1762,2, 34.8736,2, 34.8738,2,   256.7,2,   256.5,2,   43.05,2,   20.94,2,    1.42,2,  2335.0,2,  2188.7,2, -999.00,1, -999.00,1
740H20200119,A05_24N,58,1,15,3048,2,20200202,1142,  24.50062, -63.99912,  5765,  4080.0,  2.2808,2,  2.2804,2, 34.8899,2, 34.8897,2,   260.0,2,   260.3,2,   36.58,2,   20.02,2,    1.35,2,  2328.7,6,  2170.0,6, -999.00,1, -999.00,1
740H20200119,A05_24N,58,1,16,3049,2,20200202,1142,  24.50062, -63.99912,  5765,  3563.8,  2.4488,2,  2.4525,2, 34.9060,2, 34.9070,2,   257.7,2,   257.3,2,   35.06,2,   20.12,2,    1.35,2,  2329.3,2,  2180.4,2, -999.00,1, -999.00,1
740H20200119,A05_24N,58,1,17,3050,2,20200202,1142,  24.50062, -63.99912,  5765,  3048.1,  2.7546,2,  2.7550,2, 34.9320,2, 34.9321,2,   255.1,2,   254.5,2,   31.10,2,   19.94,2,    1.33,2,  2327.6,2,  2180.2,2, -999.00,1, -999.00,1
740H20200119,A05_24N,58,1,18,3051,2,20200202,1142,  24.50062, -63.99912,  5765,  2534.4,  3.1045,2,  3.1051,2, 34.9632,2, 34.9639,2,   251.8,2,   251.6,2,   27.63,2,   19.84,2,    1.31,2,  2324.3,2,  2171.4,2, -999.00,1, -999.00,1
740H20200119,A05_24N,58,1,19,3052,2,20200202,1142,  24.50062, -63.99912,  5765,  2278.1,  3.3983,2,  3.3938,2, 34.9862,2, 34.9861,2,   251.6,2,   251.3,2,   23.81,2,   19.45,2,    1.28,2,  2321.3,2,  2175.8,2, -999.00,1, -999.00,1
740H20200119,A05_24N,58,1,20,3053,2,20200202,1142,  24.50062, -63.99912,  5765,  2022.1,  3.7355,2,  3.7537,2, 35.0094,2, 35.0104,2,   251.7,2,   250.8,2,   19.50,2,   19.00,2,    1.25,2,  2320.9,2,  2168.2,2, -999.00,1, -999.00,1
740H20200119,A05_24N,58,1,21,3054,2,20200202,1142,  24.50062, -63.99912,  5765,  1771.9,  4.0786,2,  4.0782,2, 35.0166,2, 35.0193,2,   252.9,2,   252.7,2,   15.28,2,   18.55,2,    1.22,2,  2315.9,2,  2168.5,2, -999.00,1, -999.00,1
740H20200119,A05_24N,58,1,22,3055,2,20200202,1142,  24.50062, -63.99912,  5765,  1517.3,  4.6241,2,  4.6248,2, 35.0395,2, 35.0401,2,   245.3,2,   253.7,2,   13.27,2,   18.69,2,    1.22,2,  2312.2,2,  2166.9,2, -999.00,1, -999.00,1
740H20200119,A05_24N,58,1,23,3056,2,20200202,1142,  24.50062, -63.99912,  5765,  1262.5,  5.3806,2,  5.3889,2, 35.0556,2, 35.0551,2,   224.3,2,   225.3,2,   13.52,2,   19.89,2,    1.30,2,  2312.6,2,  2179.9,2, -999.00,1, -999.00,1
740H20200119,A05_24N,58,1,24,3057,2,20200202,1142,  24.50062, -63.99912,  5765,  1008.7,  6.8709,2,  6.8969,2, 35.0253,2, 35.0276,2,   162.9,2,   163.3,2,   17.84,2,   25.68,2,    1.67,2,  2317.0,6,  2196.6,6, -999.00,1, -999.00,1
740H20200119,A05_24N,58,1,1,3034,2,20200202,1142,  24.50062, -63.99912,  5765,   881.8,  8.5296,2,  8.5568,2, 35.1400,2, 35.1315,2,   142.3,2,   141.9,2,   15.98,2,   26.08,2,    1.66,2,  2318.3,6,  2199.1,6, -999.00,1, -999.00,1
740H20200119,A05_24N,58,1,2,3035,2,20200202,1142,  24.50062, -63.99912,  5765,   755.3, 10.7784,2, 10.8286,2, 35.4103,2, 35.3950,2,   145.2,2,   143.6,2,   11.15,2,   22.15,2,    1.36,2,  2328.1,2,  2186.9,2, -999.00,1, -999.00,1
740H20200119,A05_24N,58,1,3,3036,2,20200202,1142,  24.50062, -63.99912,  5765,   507.8, 15.5783,2, 15.5699,2, 36.1181,2, 36.0915,2,   173.0,2,   172.9,2,    3.54,2,   11.14,2,    0.62,2,  2347.7,6,  2160.6,6, -999.00,1, -999.00,1
740H20200119,A05_24N,58,1,4,3037,2,20200202,1142,  24.50062, -63.99912,  5765,   382.1, 17.6524,2, 17.6579,2, 36.4449,2, 36.4363,2,   181.6,2,   180.8,2,    1.98,2,    7.02,2,    0.34,2,  2382.8,2,  2139.4,2, -999.00,1, -999.00,1
740H20200119,A05_24N,58,1,5,3038,2,20200202,1142,  24.50062, -63.99912,  5765,   256.6, 19.2434,2, 19.2662,2, 36.6564,2, 36.6476,2,   189.2,2,   189.4,2,    0.97,2,    3.40,2,    0.11,2,  2393.5,2,  2124.6,2, -999.00,1, -999.00,1
740H20200119,A05_24N,58,1,6,6410,2,20200202,1142,  24.50062, -63.99912,  5765,   155.7, 21.6526,2, 21.7859,2, 36.9835,2, 36.9683,2,   189.2,2,   186.9,2,    0.60,2,    0.90,2,    0.02,2,  2414.6,2,  2123.5,2, -999.00,1, -999.00,1
740H20200119,A05_24N,58,1,7,6411,2,20200202,1142,  24.50062, -63.99912,  5765,   130.3, 22.6638,2, 22.6797,2, 37.0848,2, 37.0827,2,   194.8,2,   194.7,2,    0.50,2,    0.45,2,    0.00,2,  2418.8,2,  2116.2,2, -999.00,9, -999.00,9
740H20200119,A05_24N,58,1,8,6412,2,20200202,1142,  24.50062, -63.99912,  5765,    75.5, 24.8193,2, 24.8414,2, 37.1946,2, 37.1828,2,   214.5,2,   212.7,2,    0.60,2,    0.20,2,    0.00,2,  2428.1,2,  2089.2,2, -999.00,1, -999.00,1
740H20200119,A05_24N,58,1,9,6413,2,20200202,1142,  24.50062, -63.99912,  5765,    50.5, 24.9368,2, 24.9368,2, 36.8985,2, 36.8915,2,   208.5,2,   207.5,2,    0.97,2,    0.19,2,   -0.01,2,  2410.2,2,  2062.7,2, -999.00,1, -999.00,1
740H20200119,A05_24N,58,1,10,3043,2,20200202,1142,  24.50062, -63.99912,  5765,    10.1, 25.2646,2, 25.2592,2, 36.7176,2, 36.7190,2,   207.1,2,   206.0,2,    1.15,2,    0.20,2,    0.00,2,  2402.1,2,  2053.7,2, -999.00,1, -999.00,1