BOTTLE,20221012CCHSIOENA
EXPOCODE,SECT_ID,STNNBR,CASTNO,SAMPNO,BTLNBR,BTLNBR_FLAG_W,DATE,TIME,LATITUDE,LONGITUDE,DEPTH,CTDPRS,CTDTMP,CTDTMP_FLAG_W,SBE35,SBE35_FLAG_W,CTDSAL,CTDSAL_FLAG_W,SALNTY,SALNTY_FLAG_W,CTDOXY,CTDOXY_FLAG_W,OXYGEN,OXYGEN_FLAG_W,SILCAT,SILCAT_FLAG_W,NO2+NO3,NO2+NO3_FLAG_W,PHSPHT,PHSPHT_FLAG_W,ALKALI,ALKALI_FLAG_W,TCARBN,TCARBN_FLAG_W,DELC14,DELC14_FLAG_W,DELC13,DELC13_FLAG_W
 , , , , , , , , , , , ,DBAR,ITS-90, ,ITS-90, ,PSS-78, ,PSS-78, ,UMOL/KG, ,UMOL/KG, ,UMOL/KG, ,UMOL/KG, ,UMOL/KG, ,UMOL/KG, ,UMOL/KG, ,/MILLE, ,/MILLE, 
740H20200119,A05_24N,41,1,11,3044,2,20200128,0339,  26.50077, -72.83934,  5144,  5229.2,  2.0820,2,  2.0816,2, 34.8537,2, 34.8541,2,   250.5,2,   250.7,2,   52.37,2,   22.18,2,    1.51,2,  2344.7,2,  2205.3,6, -999.00,9, -999.00,9
740H20200119,A05_24N,41,1,12,3045,2,20200128,0339,  26.50077, -72.83934,  5144,  4830.3,  2.2237,2,  2.2232,2, 34.8768,2, 34.8773,2,   259.0,2,   260.0,2,   39.12,2,   20.03,2,    1.36,2,  2329.4,2,  2189.2,2, -999.00,9, -999.00,9
740H20200119,A05_24N,41,1,13,3046,2,20200128,0339,  26.50077, -72.83934,  5144,  4316.5,  2.2608,2,  2.2606,2, 34.8876,2, 34.8876,2,   264.4,2,   265.0,2,   31.97,2,   18.84,2,    1.28,2,  2326.5,2,  2181.9,2, -999.00,9, -999.00,9
740H20200119,A05_24N,41,1,14,7131,2,20200128,0339,  26.50077, -72.83934,  5144,  3810.0,  2.3292,2,  2.3286,2, 34.8969,2, 34.8968,2,   267.9,2,   269.0,2,   27.08,2,   18.13,2,    1.22,2,  2319.5,2,  2177.8,2, -999.00,9, -999.00,9
740H20200119,A05_24N,41,1,15,3048,2,20200128,0339,  26.50077, -72.83934,  5144,  3295.0,  2.5051,2,  2.5063,2, 34.9105,2, 34.9108,2,   268.4,2,   268.9,2,   23.67,2,   17.92,2,    1.19,2,  2318.2,6,  2172.5,6, -999.00,9, -999.00,9
740H20200119,A05_24N,41,1,16,3049,2,20200128,0339,  26.50077, -72.83934,  5144,  2786.6,  2.7879,2,  2.7917,2, 34.9300,2, 34.9297,2,   264.2,2,   264.4,2,   22.59,2,   18.27,2,    1.22,2,  2317.0,2,  2169.7,2, -999.00,9, -999.00,9
740H20200119,A05_24N,41,1,17,3050,2,20200128,0339,  26.50077, -72.83934,  5144,  2530.5,  2.9795,2,  2.9795,2, 34.9439,2, 34.9438,2,   261.3,2,   261.4,2,   22.26,2,   18.54,2,    1.23,2,  2314.3,2,  2173.5,2, -999.00,9, -999.00,9
740H20200119,A05_24N,41,1,18,3051,2,20200128,0339,  26.50077, -72.83934,  5144,  2273.5,  3.1899,2,  3.1943,2, 34.9603,2, 34.9595,2,   258.7,2,   259.2,2,   21.15,2,   18.72,2,    1.23,2,  2320.2,2,  2176.2,2, -999.00,9, -999.00,9
740H20200119,A05_24N,41,1,19,3052,2,20200128,0339,  26.50077, -72.83934,  5144,  2023.6,  3.4820,2,  3.4834,2, 34.9801,2, 34.9798,2,   256.8,2,   257.3,2,   18.92,2,   18.73,2,    1.23,2,  2312.0,2,  2170.6,2, -999.00,9, -999.00,9
740H20200119,A05_24N,41,1,20,3053,2,20200128,0339,  26.50077, -72.83934,  5144,  1768.0,  3.9490,2,  3.9518,2, 35.0083,2, 35.0085,2,   253.8,2,   254.3,2,   15.63,2,   18.54,2,    1.21,2,  2315.7,2,  2167.6,2, -999.00,9, -999.00,9
740H20200119,A05_24N,41,1,21,3054,2,20200128,0339,  26.50077, -72.83934,  5144,  1513.9,  4.5718,2,  4.5718,2, 35.0433,2, 35.0435,2,   245.6,2,   246.1,2,   13.45,2,   18.76,2,    1.21,2,  2312.7,2,  2168.5,2, -999.00,9, -999.00,9
740H20200119,A05_24N,41,1,22,3055,2,20200128,0339,  26.50077, -72.83934,  5144,  1260.6,  5.2231,2,  5.2341,2, 35.0658,2, 35.0654,2,   230.3,2,   230.7,2,   13.04,2,   19.46,2,    1.25,2,  2310.4,2,  2178.8,2, -999.00,9, -999.00,9
740H20200119,A05_24N,41,1,23,3056,2,20200128,0339,  26.50077, -72.83934,  5144,  1007.0,  6.5560,2,  6.5819,2, 35.0844,2, 35.0830,2,   189.0,2,   189.8,2,   14.67,2,   22.41,2,    1.44,2,  2316.1,6,  2187.9,6, -999.00,9, -999.00,9
740H20200119,A05_24N,41,1,24,3057,2,20200128,0339,  26.50077, -72.83934,  5144,   880.7,  8.1545,2,  8.1647,2, 35.1534,2, 35.1506,2,   159.8,2,   159.5,2,   14.44,2,   23.88,2,    1.51,2,  2317.0,2,  2197.3,2, -999.00,9, -999.00,9
740H20200119,A05_24N,41,1,1,3034,2,20200128,0339,  26.50077, -72.83934,  5144,   803.8,  9.5470,2,  9.5772,2, 35.2513,2, 35.2407,2,   142.9,2,   143.0,2,   13.47,2,   24.21,2,    1.50,2,  2322.4,6,  2197.6,6, -999.00,9, -999.00,9
740H20200119,A05_24N,41,1,2,3035,2,20200128,0339,  26.50077, -72.83934,  5144,   758.8, 10.6839,2, 10.7171,2, 35.3855,2, 35.3609,2,   145.4,2,   144.1,2,   11.48,2,   22.34,2,    1.37,2,  2325.4,2,  2191.1,2, -999.00,9, -999.00,9
740H20200119,A05_24N,41,1,3,3036,2,20200128,0339,  26.50077, -72.83934,  5144,   632.1, 13.7698,2, 13.8147,2, 35.8083,2, 35.7807,2,   162.8,2,   161.4,2,    6.07,2,   15.52,2,    0.91,2,  2345.2,2,  2170.0,2, -999.00,9, -999.00,9
740H20200119,A05_24N,41,1,4,3037,2,20200128,0339,  26.50077, -72.83934,  5144,   505.5, 16.4075,2, 16.4312,2, 36.2434,2, 36.2187,2,   173.4,2,   173.5,2,    2.98,2,    9.89,2,    0.53,2,  2367.9,2,  2150.4,2, -999.00,9, -999.00,9
740H20200119,A05_24N,41,1,5,3038,2,20200128,0339,  26.50077, -72.83934,  5144,   380.0, 17.9666,2, 17.9743,2, 36.4879,2, 36.4795,2,   184.4,2,   184.0,2,    1.66,2,    6.19,2,    0.30,2,  2383.3,2,  2133.6,2, -999.00,9, -999.00,9
740H20200119,A05_24N,41,1,6,6410,2,20200128,0339,  26.50077, -72.83934,  5144,   253.1, 19.1990,2, 19.2092,2, 36.6469,2, 36.6425,2,   196.3,2,   197.6,2,    0.85,2,    2.99,2,    0.12,2,  2391.5,6,  2120.2,6, -999.00,9, -999.00,9
740H20200119,A05_24N,41,1,7,6411,2,20200128,0339,  26.50077, -72.83934,  5144,   177.7, 20.0251,2, 20.0348,2, 36.7227,2, 36.7189,2,   187.9,2,   188.1,2,    0.57,2,    1.57,2,    0.03,2,  2398.9,2,  2119.0,2, -999.00,9, -999.00,9
740H20200119,A05_24N,41,1,8,6412,2,20200128,0339,  26.50077, -72.83934,  5144,   102.0, 23.5067,2, 23.5254,2, 36.8843,2, 36.8818,2,   210.3,2,   210.1,2,    0.52,2,    0.12,2,    0.01,2,  2407.0,2,  2076.3,2, -999.00,9, -999.00,9
740H20200119,A05_24N,41,1,9,6413,2,20200128,0339,  26.50077, -72.83934,  5144,    51.4, 23.6716,2, 23.6717,2, 36.8730,2, 36.8732,2,   210.8,2,   210.6,2,    0.64,2,    0.12,2,    0.01,2,  2407.9,2,  2067.7,2, -999.00,9, -999.00,9
740H20200119,A05_24N,41,1,10,3043,2,20200128,0339,  26.50077, -72.83934,  5144,     6.6, 23.8015,2, 23.7950,2, 36.8089,2, 36.8092,2,   210.4,2,   209.5,2,    0.70,2,    0.13,2,    0.01,2,  2404.0,6,  2067.4,6, -999.00,9, -999.00,9
740H20200119,A05_24N,42,1,11,3044,2,20200128,1008,  26.50184, -72.46736,  5182,  5271.6,  2.0742,2,  2.0776,2, 34.8521,2, 34.8529,2,   250.1,2,   251.1,2,   52.28,2,   22.12,2,    1.51,2,  2342.9,6,  2198.4,6, -999.00,9, -999.00,9
740H20200119,A05_24N,42,1,12,3045,2,20200128,1008,  26.50184, -72.46736,  5182,  5115.2,  2.1641,2,  2.1639,2, 34.8656,2, 34.8657,2,   254.6,2,   255.3,2,   45.50,2,   21.08,2,    1.44,2,  2336.0,2,  2166.2,3, -999.00,9, -999.00,9
740H20200119,A05_24N,42,1,13,3046,2,20200128,1008,  26.50184, -72.46736,  5182,  4596.2,  2.2738,2,  2.2735,2, 34.8855,2, 34.8857,2,   263.4,2,   264.5,2,   33.32,2,   19.03,2,    1.29,2,  2329.7,6,  2183.2,6, -999.00,9, -999.00,9
740H20200119,A05_24N,42,1,14,7131,2,20200128,1008,  26.50184, -72.46736,  5182,  4078.5,  2.2958,2,  2.2957,2, 34.8925,2, 34.8928,2,   266.6,2,   267.6,2,   28.98,2,   18.34,2,    1.24,2,  2317.9,2,  2171.7,2, -999.00,9, -999.00,9
740H20200119,A05_24N,42,1,15,3048,2,20200128,1008,  26.50184, -72.46736,  5182,  3561.9,  2.4207,2,  2.4231,2, 34.9040,2, 34.9045,2,   269.1,2,   269.8,2,   24.62,2,   17.83,2,    1.19,2,  2318.7,2,  2171.3,2, -999.00,9, -999.00,9
740H20200119,A05_24N,42,1,16,3049,2,20200128,1008,  26.50184, -72.46736,  5182,  3047.5,  2.6790,2,  2.6788,2, 34.9215,2, 34.9216,2,   266.5,2,   267.7,2,   22.59,2,   17.92,2,    1.19,2,  2314.4,6,  2168.4,6, -999.00,9, -999.00,9
740H20200119,A05_24N,42,1,17,3050,2,20200128,1008,  26.50184, -72.46736,  5182,  2535.3,  3.0843,2,  3.0848,2, 34.9466,2, 34.9461,2,   262.5,2,   262.9,2,   20.19,2,   18.19,2,    1.20,2,  2316.5,2,  2168.0,2, -999.00,9, -999.00,9
740H20200119,A05_24N,42,1,18,3051,2,20200128,1008,  26.50184, -72.46736,  5182,  2279.4,  3.2650,2,  3.2675,2, 34.9557,2, 34.9558,2,   262.2,2,   262.6,2,   18.51,2,   18.07,2,    1.20,2,  2311.4,2,  2168.4,2, -999.00,9, -999.00,9
740H20200119,A05_24N,42,1,19,3052,2,20200128,1008,  26.50184, -72.46736,  5182,  2023.8,  3.5329,2,  3.5365,2, 34.9676,2, 34.9679,2,   261.4,2,   262.1,2,   16.28,2,   18.03,2,    1.19,2,  2311.8,6,  2165.9,6, -999.00,9, -999.00,9
740H20200119,A05_24N,42,1,20,3053,2,20200128,1008,  26.50184, -72.46736,  5182,  1768.1,  3.8545,2,  3.8573,2, 34.9850,2, 34.9821,2,   258.9,2,   259.6,2,   14.45,2,   18.01,2,    1.17,2,  2311.0,2,  2169.7,2, -999.00,9, -999.00,9
740H20200119,A05_24N,42,1,21,3054,2,20200128,1008,  26.50184, -72.46736,  5182,  1513.9,  4.2438,2,  4.2438,2, 35.0041,2, 35.0047,2,   253.8,2,   254.6,2,   13.05,2,   18.14,2,    1.18,2,  2308.3,2,  2168.2,2, -999.00,9, -999.00,9
740H20200119,A05_24N,42,1,22,3055,2,20200128,1008,  26.50184, -72.46736,  5182,  1259.3,  4.8292,2,  4.8405,2, 35.0361,2, 35.0350,2,   242.6,2,   243.9,2,   12.53,2,   18.58,2,    1.21,2,  -999.0,9,  -999.0,9, -999.00,9, -999.00,9
740H20200119,A05_24N,42,1,23,3056,2,20200128,1008,  26.50184, -72.46736,  5182,  1005.1,  6.2096,2,  6.2252,2, 35.0800,2, 35.0798,2,   200.4,2,   201.4,2,   14.23,2,   21.42,2,    1.39,2,  2312.7,2,  2184.7,2, -999.00,9, -999.00,9
740H20200119,A05_24N,42,1,24,3057,2,20200128,1008,  26.50184, -72.46736,  5182,   883.2,  7.7738,2,  7.8590,2, 35.1271,2, 35.1265,2,   162.8,2,   165.2,2,   14.87,2,   23.73,2,    1.52,2,  2316.8,2,  2193.9,2, -999.00,9, -999.00,9
740H20200119,A05_24N,42,1,1,3034,2,20200128,1008,  26.50184, -72.46736,  5182,   756.8, 10.6517,2, 10.6644,2, 35.3810,2, 35.3695,2,   143.7,2,   143.5,2,   11.47,2,   22.25,2,    1.38,2,  2326.8,6,  2191.0,6, -999.00,9, -999.00,9
740H20200119,A05_24N,42,1,2,3035,2,20200128,1008,  26.50184, -72.46736,  5182,   630.7, 13.3260,2, 13.4049,2, 35.7433,2, 35.7215,2,   158.6,2,   157.2,2,    6.81,2,   16.65,2,    0.98,2,  2338.9,2,  2150.6,4, -999.00,9, -999.00,9
740H20200119,A05_24N,42,1,3,3036,2,20200128,1008,  26.50184, -72.46736,  5182,   503.7, 16.0040,2, 16.0428,2, 36.1740,2, 36.1476,2,   173.6,2,   172.6,2,    3.39,2,   10.65,2,    0.58,2,  2366.3,2,  2151.5,2, -999.00,9, -999.00,9
740H20200119,A05_24N,42,1,4,3037,2,20200128,1008,  26.50184, -72.46736,  5182,   378.2, 17.7707,2, 17.7985,2, 36.4612,2, 36.4518,2,   181.2,2,   180.9,2,    1.90,2,    6.82,2,    0.32,2,  2378.9,6,  2138.1,6, -999.00,9, -999.00,9
740H20200119,A05_24N,42,1,5,3038,2,20200128,1008,  26.50184, -72.46736,  5182,   251.7, 19.0008,2, 19.0062,2, 36.6303,2, 36.6256,2,   189.1,2,   188.5,2,    1.06,2,    3.88,2,    0.14,2,  2393.3,2,  2129.2,2, -999.00,9, -999.00,9
740H20200119,A05_24N,42,1,6,6410,2,20200128,1008,  26.50184, -72.46736,  5182,   176.0, 19.9168,2, 19.9324,2, 36.7096,2, 36.7040,2,   198.4,2,   195.1,2,    0.65,2,    1.57,2,    0.03,2,  2395.4,2,  2121.6,2, -999.00,9, -999.00,9
740H20200119,A05_24N,42,1,7,6411,2,20200128,1008,  26.50184, -72.46736,  5182,   110.5, 21.5166,2, 21.5542,2, 36.8104,2, 36.8114,2,   199.2,2,   199.2,2,    0.54,2,    0.35,2,    0.00,2,  2404.1,2,  2110.0,2, -999.00,9, -999.00,9
740H20200119,A05_24N,42,1,8,6412,2,20200128,1008,  26.50184, -72.46736,  5182,    70.2, 23.6890,2, 23.6869,2, 36.8317,2, 36.8311,2,   210.3,2,   210.3,2,    0.68,2,    0.13,2,   -0.01,2,  2402.9,2,  2072.6,2, -999.00,9, -999.00,9
740H20200119,A05_24N,42,1,9,6413,2,20200128,1008,  26.50184, -72.46736,  5182,    25.2, 23.6883,2, 23.6849,2, 36.8333,2, 36.8334,2,   211.0,2,   210.4,2,    0.70,2,    0.13,2,   -0.01,2,  2406.4,2,  2067.5,2, -999.00,9, -999.00,9
740H20200119,A05_24N,42,1,10,3043,2,20200128,1008,  26.50184, -72.46736,  5182,     5.0, 23.6756,2, 23.6722,2, 36.8337,2, 36.8335,2,   210.8,2,   210.7,2,    0.75,2,    0.13,2,   -0.01,2,  2401.4,2,  2069.7,2, -999.00,9, -999.00,9
740H20200119,A05_24N,43,1,11,3044,2,20200128,1606,  26.50024, -72.09946,  5270,  5357.6,  2.0697,2,  2.0696,2, 34.8505,2, 34.8500,2,   249.7,2,   251.0,2,   53.86,2,   22.39,2,    1.52,2,  2343.1,6,  2204.1,6, -999.00,9, -999.00,9
740H20200119,A05_24N,43,1,12,3045,2,20200128,1606,  26.50024, -72.09946,  5270,  4837.5,  2.2582,2,  2.2579,2, 34.8807,2, 34.8802,2,   261.4,2,   262.0,2,   36.78,2,   19.68,2,    1.32,2,  2327.4,2,  2059.3,4, -999.00,9, -999.00,9
740H20200119,A05_24N,43,1,13,3046,2,20200128,1606,  26.50024, -72.09946,  5270,  4318.9,  2.2869,2,  2.2864,2, 34.8895,2, 34.8895,2,   265.2,2,   265.9,2,   31.17,2,   18.70,2,    1.26,2,  2328.3,2,  2179.7,2, -999.00,9, -999.00,9
740H20200119,A05_24N,43,1,14,7131,2,20200128,1606,  26.50024, -72.09946,  5270,  3807.8,  2.3500,2,  2.3495,2, 34.8981,2, 34.8984,2,   268.4,2,   269.6,2,   26.55,2,   18.06,2,    1.21,2,  2317.1,2,  2175.2,2, -999.00,9, -999.00,9
740H20200119,A05_24N,43,1,15,3048,2,20200128,1606,  26.50024, -72.09946,  5270,  3297.5,  2.5615,2,  2.5629,2, 34.9139,2, 34.9136,2,   267.1,2,   267.9,2,   23.97,2,   18.02,2,    1.20,2,  2319.9,2,  2172.0,2, -999.00,9, -999.00,9
740H20200119,A05_24N,43,1,16,3049,2,20200128,1606,  26.50024, -72.09946,  5270,  2784.2,  2.8854,2,  2.8855,2, 34.9356,2, 34.9351,2,   263.1,2,   263.9,2,   22.31,2,   18.30,2,    1.21,2,  2313.3,2,  2169.4,2, -999.00,9, -999.00,9
740H20200119,A05_24N,43,1,17,3050,2,20200128,1606,  26.50024, -72.09946,  5270,  2533.3,  3.0889,2,  3.0925,2, 34.9461,2, 34.9459,2,   263.0,2,   263.9,2,   20.11,2,   18.19,2,    1.20,2,  2317.9,2,  2168.2,2, -999.00,9, -999.00,9
740H20200119,A05_24N,43,1,18,3051,2,20200128,1606,  26.50024, -72.09946,  5270,  2277.6,  3.3048,2,  3.3063,2, 34.9559,2, 34.9555,2,   262.5,2,   263.6,2,   18.17,2,   18.11,2,    1.19,2,  2308.9,2,  2168.4,2, -999.00,9, -999.00,9
740H20200119,A05_24N,43,1,19,3052,2,20200128,1606,  26.50024, -72.09946,  5270,  2021.9,  3.5961,2,  3.6025,2, 34.9753,2, 34.9748,2,   259.7,2,   260.5,2,   16.62,2,   18.24,2,    1.19,2,  2314.8,2,  2166.8,2, -999.00,9, -999.00,9
740H20200119,A05_24N,43,1,20,3053,2,20200128,1606,  26.50024, -72.09946,  5270,  1766.3,  3.9203,2,  3.9194,2, 34.9902,2, 34.9909,2,   257.8,2,   258.9,2,   14.43,2,   18.21,2,    1.18,2,  2307.2,2,  2166.9,2, -999.00,9, -999.00,9
740H20200119,A05_24N,43,1,21,3054,2,20200128,1606,  26.50024, -72.09946,  5270,  1516.8,  4.3396,2,  4.3421,2, 35.0149,2, 35.0145,2,   251.6,2,   252.7,2,   13.07,2,   18.37,2,    1.19,2,  2313.8,2,  2171.3,2, -999.00,9, -999.00,9
740H20200119,A05_24N,43,1,22,3055,2,20200128,1606,  26.50024, -72.09946,  5270,  1262.6,  5.0232,2,  5.0193,2, 35.0554,2, 35.0545,2,   237.2,2,   239.2,2,   12.73,2,   19.07,2,    1.22,2,  2310.0,2,  2174.3,2, -999.00,9, -999.00,9
740H20200119,A05_24N,43,1,23,3056,2,20200128,1606,  26.50024, -72.09946,  5270,  1008.5,  6.6475,2,  6.6542,2, 35.0773,2, 35.0782,2,   183.2,2,   187.0,2,   15.28,2,   23.03,2,    1.48,2,  2318.2,6,  2189.9,6, -999.00,9, -999.00,9
740H20200119,A05_24N,43,1,24,3057,2,20200128,1606,  26.50024, -72.09946,  5270,   881.8,  7.9884,2,  8.0996,2, 35.1143,2, 35.1135,2,   152.1,2,   154.4,2,   15.86,2,   25.45,2,    1.61,2,  2314.3,2,  2040.6,4, -999.00,9, -999.00,9
740H20200119,A05_24N,43,1,1,3034,2,20200128,1606,  26.50024, -72.09946,  5270,   754.4, 10.4640,2, 10.5040,2, 35.3537,2, 35.3349,2,   142.6,2,   145.1,2,   11.95,2,   23.15,2,    1.42,2,  2321.8,2,  2086.8,4, -999.00,9, -999.00,9
740H20200119,A05_24N,43,1,2,3035,2,20200128,1606,  26.50024, -72.09946,  5270,   507.1, 16.1375,2, 16.1993,2, 36.1961,2, 36.1631,2,   172.4,2,   173.6,2,    3.33,2,   10.62,2,    0.57,2,  2366.5,2,  2159.4,2, -999.00,9, -999.00,9
740H20200119,A05_24N,43,1,3,3036,2,20200128,1606,  26.50024, -72.09946,  5270,   380.7, 18.1753,2, 18.1891,2, 36.5183,2, 36.5040,2,   184.9,2,   184.4,2,    1.67,2,    6.08,2,    0.27,2,  2382.8,2,  2134.0,2, -999.00,9, -999.00,9
740H20200119,A05_24N,43,1,4,3037,2,20200128,1606,  26.50024, -72.09946,  5270,   279.7, 19.0758,2, 19.0960,2, 36.6469,2, 36.6404,2,   204.1,2,   203.8,2,    0.93,2,    2.88,2,    0.10,2,  2392.6,6,  2116.8,2, -999.00,9, -999.00,9
740H20200119,A05_24N,43,1,5,3038,2,20200128,1606,  26.50024, -72.09946,  5270,   143.9, 20.6101,2, 20.6616,2, 36.7777,2, 36.7576,2,   188.8,2,   192.0,2,    0.60,2,    1.46,2,    0.03,2,  2396.9,2,  2047.0,4, -999.00,9, -999.00,9
740H20200119,A05_24N,43,1,6,6410,2,20200128,1606,  26.50024, -72.09946,  5270,   105.7, 22.0496,2, 22.0571,2, 36.8361,2, 36.8308,2,   206.1,2,   203.0,2,    0.48,2,    0.24,2,   -0.01,2,  2407.3,6,  2105.3,6, -999.00,9, -999.00,9
740H20200119,A05_24N,43,1,7,6411,2,20200128,1606,  26.50024, -72.09946,  5270,    90.1, 22.8032,2, 23.0034,2, 36.8502,2, 36.8486,2,   204.5,2,   204.6,2,    0.52,2,    0.15,2,   -0.01,2,  2403.0,2,  2042.9,3, -999.00,9, -999.00,9
740H20200119,A05_24N,43,1,8,6412,2,20200128,1606,  26.50024, -72.09946,  5270,    75.2, 23.6905,2, 23.7308,2, 36.8146,2, 36.8232,2,   209.1,2,   208.2,2,    0.62,2,    0.12,2,   -0.01,2,  2409.6,2,  2078.1,2, -999.00,9, -999.00,9
740H20200119,A05_24N,43,1,9,6413,2,20200128,1606,  26.50024, -72.09946,  5270,    50.1, 23.8788,2, 23.8833,2, 36.8143,2, 36.8156,2,   210.7,2,   209.4,2,    0.70,2,    0.13,2,   -0.01,2,  2400.1,2,  2034.3,3, -999.00,9, -999.00,9
740H20200119,A05_24N,43,1,10,3043,2,20200128,1606,  26.50024, -72.09946,  5270,     4.5, 23.9154,2, 23.9127,2, 36.8189,2, 36.8192,2,   210.0,2,   209.7,2,    0.77,2,    0.13,2,   -0.01,2,  2402.2,6,  2059.5,6, -999.00,9, -999.00,9