BOTTLE,20221012CCHSIOENA
EXPOCODE,SECT_ID,STNNBR,CASTNO,SAMPNO,BTLNBR,BTLNBR_FLAG_W,DATE,TIME,LATITUDE,LONGITUDE,DEPTH,CTDPRS,CTDTMP,CTDTMP_FLAG_W,SBE35,SBE35_FLAG_W,CTDSAL,CTDSAL_FLAG_W,SALNTY,SALNTY_FLAG_W,CTDOXY,CTDOXY_FLAG_W,OXYGEN,OXYGEN_FLAG_W,SILCAT,SILCAT_FLAG_W,NO2+NO3,NO2+NO3_FLAG_W,PHSPHT,PHSPHT_FLAG_W,ALKALI,ALKALI_FLAG_W,TCARBN,TCARBN_FLAG_W,DELC14,DELC14_FLAG_W,DELC13,DELC13_FLAG_W
 , , , , , , , , , , , ,DBAR,ITS-90, ,ITS-90, ,PSS-78, ,PSS-78, ,UMOL/KG, ,UMOL/KG, ,UMOL/KG, ,UMOL/KG, ,UMOL/KG, ,UMOL/KG, ,UMOL/KG, ,/MILLE, ,/MILLE, 
740H20200119,A05_24N,110,1,11,3044,2,20200220,0429,  24.50000, -31.10223,  5797,  5902.6,  2.4927,2,  2.4926,2, 34.8810,2, 34.8817,2,   247.3,2,   245.8,2,   48.48,2,   22.07,2,    1.51,2,  2347.2,6,  2203.7,6, -999.00,9, -999.00,9
740H20200119,A05_24N,110,1,12,3045,2,20200220,0429,  24.50000, -31.10223,  5797,  5346.6,  2.4236,2,  2.4233,2, 34.8819,2, 34.8824,2,   246.2,2,   245.3,2,   48.37,2,   22.11,2,    1.51,2,  2346.5,2,  2204.0,2, -999.00,9, -999.00,9
740H20200119,A05_24N,110,1,13,3046,2,20200220,0429,  24.50000, -31.10223,  5797,  4832.9,  2.3866,2,  2.3865,2, 34.8853,2, 34.8860,2,   245.4,2,   245.0,2,   47.59,2,   21.95,2,    1.51,2,  2349.8,2,  2200.3,2, -999.00,9, -999.00,9
740H20200119,A05_24N,110,1,14,7131,2,20200220,0429,  24.50000, -31.10223,  5797,  4319.6,  2.3982,2,  2.3980,2, 34.8931,2, 34.8934,2,   244.9,2,   244.6,2,   45.88,2,   21.85,2,    1.50,2,  2346.5,6,  2200.6,6, -999.00,9, -999.00,9
740H20200119,A05_24N,110,1,15,3048,2,20200220,0429,  24.50000, -31.10223,  5797,  3808.4,  2.4654,2,  2.4671,2, 34.9055,2, 34.9066,2,   245.0,2,   244.5,2,   43.07,2,   21.52,2,    1.48,2,  2344.4,6,  2198.8,6, -999.00,9, -999.00,9
740H20200119,A05_24N,110,1,16,3049,2,20200220,0429,  24.50000, -31.10223,  5797,  3298.9,  2.6127,2,  2.6144,2, 34.9241,2, 34.9246,2,   244.6,2,   244.0,2,   38.83,2,   20.98,2,    1.45,2,  2339.9,2,  2192.6,2, -999.00,9, -999.00,9
740H20200119,A05_24N,110,1,17,3050,2,20200220,0429,  24.50000, -31.10223,  5797,  2785.4,  2.9681,2,  2.9667,2, 34.9589,2, 34.9590,2,   243.7,2,   243.2,2,   32.51,2,   20.35,2,    1.41,2,  2335.5,2,  2190.7,2, -999.00,9, -999.00,9
740H20200119,A05_24N,110,1,18,3051,2,20200220,0429,  24.50000, -31.10223,  5797,  2274.1,  3.5919,2,  3.5966,2, 35.0128,2, 35.0137,2,   237.3,2,   236.3,2,   25.67,2,   20.27,2,    1.39,2,  2325.8,2,  2182.6,2, -999.00,9, -999.00,9
740H20200119,A05_24N,110,1,19,3052,2,20200220,0429,  24.50000, -31.10223,  5797,  1768.8,  4.5513,2,  4.5702,2, 35.0875,2, 35.0878,2,   223.1,2,   222.6,2,   20.41,2,   20.64,2,    1.40,2,  2323.6,2,  2185.6,2, -999.00,9, -999.00,9
740H20200119,A05_24N,110,1,20,3053,2,20200220,0429,  24.50000, -31.10223,  5797,  1514.1,  5.1317,2,  5.1540,2, 35.1075,2, 35.1080,2,   211.0,2,   210.3,2,   18.44,2,   21.31,2,    1.44,2,  2321.7,2,  2185.8,2, -999.00,9, -999.00,9
740H20200119,A05_24N,110,1,21,3054,2,20200220,0429,  24.50000, -31.10223,  5797,  1310.8,  5.7189,2,  5.7248,2, 35.0959,2, 35.0976,2,   190.2,2,   187.6,2,   18.33,2,   23.13,2,    1.54,2,  2320.5,2,  2197.4,2, -999.00,9, -999.00,9
740H20200119,A05_24N,110,1,22,3055,2,20200220,0429,  24.50000, -31.10223,  5797,  1158.0,  6.1921,2,  6.1930,2, 35.0886,2, 35.0893,2,   173.0,2,   172.9,2,   18.73,2,   24.61,2,    1.64,2,  2319.9,2,  2201.1,2, -999.00,9, -999.00,9
740H20200119,A05_24N,110,1,23,3056,2,20200220,0429,  24.50000, -31.10223,  5797,  1061.9,  6.7556,2,  6.7703,2, 35.1119,2, 35.1105,2,   160.1,2,   160.3,2,   18.47,2,   25.37,2,    1.68,2,  2320.7,2,  2206.0,2, -999.00,9, -999.00,9
740H20200119,A05_24N,110,1,24,3057,2,20200220,0429,  24.50000, -31.10223,  5797,   960.4,  7.2974,2,  7.3020,2, 35.1275,2, 35.1291,2,   139.2,2,   143.1,2,   18.44,2,   26.58,2,    1.75,2,  2320.6,6,  2210.8,6, -999.00,9, -999.00,9
740H20200119,A05_24N,110,1,1,3034,2,20200220,0429,  24.50000, -31.10223,  5797,   859.2,  8.0868,2,  8.1376,2, 35.1806,2, 35.1791,2,   137.6,2,   136.6,2,   16.82,2,   26.32,2,    1.70,2,  2321.6,2,  2210.2,2, -999.00,9, -999.00,9
740H20200119,A05_24N,110,1,2,3035,2,20200220,0429,  24.50000, -31.10223,  5797,   808.9,  8.5081,2,  8.5404,2, 35.2254,2, 35.2221,2,   136.0,2,   135.6,2,   15.78,2,   25.85,2,    1.66,2,  2326.9,6,  2202.4,6, -999.00,9, -999.00,9
740H20200119,A05_24N,110,1,3,3036,2,20200220,0429,  24.50000, -31.10223,  5797,   656.8, 10.8037,2, 10.7953,2, 35.4875,2, 35.4833,2,   146.0,2,   145.5,2,    9.92,2,   21.00,2,    1.29,2,  2329.7,2,  2193.4,2, -999.00,9, -999.00,9
740H20200119,A05_24N,110,1,4,3037,2,20200220,0429,  24.50000, -31.10223,  5797,   505.4, 12.8870,2, 12.9209,2, 35.7440,2, 35.7398,2,   161.8,2,   158.5,2,    5.73,2,   15.73,2,    0.93,2,  2340.4,2,  2176.6,2, -999.00,9, -999.00,9
740H20200119,A05_24N,110,1,5,6409,2,20200220,0429,  24.50000, -31.10223,  5797,   404.3, 14.1431,2, 14.1638,2, 35.9187,2, 35.9167,2,   165.1,2,   166.0,2,    4.33,2,   13.15,2,    0.77,2,  2349.3,6,  2173.3,6, -999.00,9, -999.00,9
740H20200119,A05_24N,110,1,6,6410,2,20200220,0429,  24.50000, -31.10223,  5797,   303.4, 15.8271,2, 15.8600,2, 36.1667,2, 36.1591,2,   170.5,2,   171.4,2,    3.04,2,   10.13,2,    0.59,2,  2365.6,2,  2161.4,2, -999.00,9, -999.00,9
740H20200119,A05_24N,110,1,7,6411,2,20200220,0429,  24.50000, -31.10223,  5797,   152.2, 21.3110,2, 21.4911,2, 37.2097,2, 37.1470,2,   206.8,2,   204.4,2,    0.56,2,    0.68,2,    0.04,2,  2425.6,2,  2137.5,2, -999.00,9, -999.00,9
740H20200119,A05_24N,110,1,8,6412,2,20200220,0429,  24.50000, -31.10223,  5797,   102.1, 22.3339,2, 22.3317,2, 37.4525,2, 37.4509,2,   214.1,2,   214.1,2,    0.44,2,   -0.03,2,    0.01,2,  2447.4,2,  2128.0,2, -999.00,9, -999.00,9
740H20200119,A05_24N,110,1,9,6413,2,20200220,0429,  24.50000, -31.10223,  5797,    77.1, 22.3382,2, 22.3369,2, 37.4538,2, 37.4547,2,   214.7,2,   214.4,2,    0.48,2,   -0.04,2,    0.00,2,  2446.7,2,  2130.4,2, -999.00,9, -999.00,9
740H20200119,A05_24N,110,1,10,6414,2,20200220,0429,  24.50000, -31.10223,  5797,     6.7, 22.4240,2, 22.4225,2, 37.4622,2, 37.4631,2,   214.8,2,   214.8,2,    0.51,2,   -0.03,2,    0.01,2,  2450.3,2,  2126.8,2, -999.00,9, -999.00,9
740H20200119,A05_24N,111,1,11,3044,2,20200220,1333,  24.50058, -30.39989,  5745,  5846.9,  2.4973,2,  2.4969,2, 34.8823,2, 34.8814,2,   246.3,2,   246.2,2,   47.72,2,   21.96,2,    1.51,2,  2349.8,6,  2202.4,6, -999.00,9, -999.00,9
740H20200119,A05_24N,111,1,12,3045,2,20200220,1333,  24.50058, -30.39989,  5745,  5607.9,  2.4648,2,  2.4644,2, 34.8825,2, 34.8820,2,   245.7,2,   246.5,2,   47.74,2,   21.96,2,    1.51,2,  2347.6,2,  2203.3,2, -999.00,9, -999.00,9
740H20200119,A05_24N,111,1,13,3046,2,20200220,1333,  24.50058, -30.39989,  5745,  5094.3,  2.4071,2,  2.4068,2, 34.8838,2, 34.8838,2,   245.6,2,   246.0,2,   47.57,2,   21.95,2,    1.51,2,  2349.5,2,  2204.1,2, -999.00,9, -999.00,9
740H20200119,A05_24N,111,1,14,7131,2,20200220,1333,  24.50058, -30.39989,  5745,  4581.2,  2.3769,2,  2.3766,2, 34.8879,2, 34.8871,2,   245.0,2,   245.0,2,   46.85,2,   21.87,2,    1.50,2,  2347.2,2,  2197.3,2, -999.00,9, -999.00,9
740H20200119,A05_24N,111,1,15,3048,2,20200220,1333,  24.50058, -30.39989,  5745,  4064.2,  2.4140,2,  2.4113,2, 34.8978,2, 34.8975,2,   245.1,2,   246.2,2,   44.48,2,   21.54,2,    1.49,2,  2344.9,2,  2198.5,2, -999.00,9, -999.00,9
740H20200119,A05_24N,111,1,16,3049,2,20200220,1333,  24.50058, -30.39989,  5745,  3553.4,  2.5227,2,  2.5253,2, 34.9134,2, 34.9137,2,   245.2,2,   245.9,2,   40.87,2,   21.14,2,    1.46,2,  2339.9,2,  2194.8,2, -999.00,9, -999.00,9
740H20200119,A05_24N,111,1,17,3050,2,20200220,1333,  24.50058, -30.39989,  5745,  3045.5,  2.7385,2,  2.7399,2, 34.9375,2, 34.9375,2,   244.8,2,   244.9,2,   35.83,2,   20.62,2,    1.41,2,  2337.3,6,  2189.7,6, -999.00,9, -999.00,9
740H20200119,A05_24N,111,1,18,3051,2,20200220,1333,  24.50058, -30.39989,  5745,  2532.9,  3.2198,2,  3.2269,2, 34.9830,2, 34.9834,2,   242.4,2,   243.0,2,   28.81,2,   20.09,2,    1.38,2,  2329.3,2,  2182.5,2, -999.00,9, -999.00,9
740H20200119,A05_24N,111,1,19,3052,2,20200220,1333,  24.50058, -30.39989,  5745,  2021.3,  4.0203,2,  4.0213,2, 35.0524,2, 35.0522,2,   232.4,2,   232.7,2,   22.70,2,   20.28,2,    1.38,2,  2322.1,2,  2179.4,2, -999.00,9, -999.00,9
740H20200119,A05_24N,111,1,20,3053,2,20200220,1333,  24.50058, -30.39989,  5745,  1640.6,  4.7653,2,  4.7721,2, 35.0952,2, 35.0946,2,   217.1,2,   218.5,2,   19.70,2,   21.09,2,    1.42,2,  2323.0,2,  2183.3,2, -999.00,9, -999.00,9
740H20200119,A05_24N,111,1,21,3054,2,20200220,1333,  24.50058, -30.39989,  5745,  1413.7,  5.3738,2,  5.3737,2, 35.1017,2, 35.1100,2,   201.3,2,   203.7,2,   18.45,2,   22.17,2,    1.48,2,  2319.9,6,  2187.6,6, -999.00,9, -999.00,9
740H20200119,A05_24N,111,1,22,3055,2,20200220,1333,  24.50058, -30.39989,  5745,  1211.6,  5.9923,2,  5.9845,2, 35.1054,2, 35.1066,2,   182.6,2,   184.9,2,   18.46,2,   23.73,2,    1.57,2,  2318.6,2,  2193.9,2, -999.00,9, -999.00,9
740H20200119,A05_24N,111,1,23,3056,2,20200220,1333,  24.50058, -30.39989,  5745,  1110.7,  6.1231,2,  6.1215,2, 35.0559,2, 35.0564,2,   168.4,2,   172.0,2,   19.66,2,   25.46,2,    1.70,2,  2317.6,2,  2201.8,2, -999.00,9, -999.00,9
740H20200119,A05_24N,111,1,24,3057,2,20200220,1333,  24.50058, -30.39989,  5745,  1009.3,  6.7589,2,  6.7524,2, 35.0876,2, 35.0816,2,   157.6,2,   160.8,2,   19.01,2,   26.07,2,    1.71,2,  2318.6,6,  2204.0,6, -999.00,9, -999.00,9
740H20200119,A05_24N,111,1,1,3034,2,20200220,1333,  24.50058, -30.39989,  5745,   907.4,  7.7652,2,  7.7689,2, 35.1670,2, 35.1652,2,   145.2,2,   149.0,2,   17.44,2,   26.04,2,    1.68,2,  2320.2,2,  2204.0,2, -999.00,9, -999.00,9
740H20200119,A05_24N,111,1,2,3035,2,20200220,1333,  24.50058, -30.39989,  5745,   787.1,  8.9244,2,  9.0514,2, 35.2750,2, 35.2818,2,   136.9,2,   143.8,2,   14.64,2,   25.06,2,    1.58,2,  2322.8,6,  2203.6,6, -999.00,9, -999.00,9
740H20200119,A05_24N,111,1,3,3036,2,20200220,1333,  24.50058, -30.39989,  5745,   706.1,  9.9667,2, 10.0423,2, 35.3867,2, 35.3841,2,   137.4,2,   140.6,2,   12.22,2,   23.55,2,    1.45,2,  2324.2,2,  2201.7,2, -999.00,9, -999.00,9
740H20200119,A05_24N,111,1,4,3037,2,20200220,1333,  24.50058, -30.39989,  5745,   605.6, 11.4105,2, 11.4502,2, 35.5550,2, 35.5452,2,   145.8,2,   148.2,2,    8.75,2,   20.36,2,    1.21,2,  2331.6,2,  2188.0,2, -999.00,9, -999.00,9
740H20200119,A05_24N,111,1,5,6409,2,20200220,1333,  24.50058, -30.39989,  5745,   377.2, 14.9847,2, 15.0492,2, 36.0465,2, 36.0304,2,   166.1,2,   169.3,2,    3.68,2,   12.01,2,    0.68,2,  2356.9,2,  2166.8,2, -999.00,9, -999.00,9
740H20200119,A05_24N,111,1,6,6410,2,20200220,1333,  24.50058, -30.39989,  5745,   282.8, 16.6344,2, 16.6586,2, 36.2945,2, 36.2678,2,   158.5,2,   158.6,2,    3.01,2,   10.93,2,    0.63,2,  2369.4,2,  2170.8,2, -999.00,9, -999.00,9
740H20200119,A05_24N,111,1,7,6411,2,20200220,1333,  24.50058, -30.39989,  5745,   202.2, 18.8019,2, 18.7280,2, 36.6906,2, 36.6654,2,   177.0,2,   178.4,2,    1.47,2,    5.96,2,    0.34,2,  2394.1,2,  2159.9,2, -999.00,9, -999.00,9
740H20200119,A05_24N,111,1,8,6412,2,20200220,1333,  24.50058, -30.39989,  5745,   102.2, 22.1999,2, 22.1976,2, 37.4425,2, 37.4253,2,   214.4,2,   213.8,2,    0.45,2,    0.04,2,    0.01,2,  2441.1,6,  2127.4,6, -999.00,9, -999.00,9
740H20200119,A05_24N,111,1,9,6413,2,20200220,1333,  24.50058, -30.39989,  5745,    52.0, 22.2564,2, 22.2538,2, 37.4516,2, 37.4534,2,   214.9,2,   214.8,2,    0.46,2,   -0.02,2,    0.01,2,  2443.4,2,  2124.8,2, -999.00,9, -999.00,9
740H20200119,A05_24N,111,1,10,6414,2,20200220,1333,  24.50058, -30.39989,  5745,     6.0, 22.3008,2, 22.2998,2, 37.4539,2,-999.0000,9,   214.5,2,   214.8,2,    0.50,2,   -0.02,2,    0.01,2,  2447.2,2,  2130.0,2, -999.00,9, -999.00,9
740H20200119,A05_24N,112,1,11,3044,2,20200220,2216,  24.50005, -29.70031,  5189,  5276.3,  2.4279,2,  2.4276,2, 34.8835,2, 34.8828,2,   245.8,2,   246.9,2,   48.08,2,   22.31,2,    1.51,2,  2347.7,6,  2203.7,6, -999.00,9, -999.00,9
740H20200119,A05_24N,112,1,12,3045,2,20200220,2216,  24.50005, -29.70031,  5189,  5094.5,  2.4063,2,  2.4058,2, 34.8838,2, 34.8838,2,   245.6,2,   245.9,2,   48.05,2,   22.26,2,    1.51,2,  2349.3,2,  2201.2,2, -999.00,9, -999.00,9
740H20200119,A05_24N,112,1,13,3046,2,20200220,2216,  24.50005, -29.70031,  5189,  4835.7,  2.3947,2,  2.3943,2, 34.8863,2, 34.8853,2,   245.2,2,   246.0,2,   47.56,2,   22.25,2,    1.51,2,  2348.5,2,  2203.1,2, -999.00,9, -999.00,9
740H20200119,A05_24N,112,1,14,7131,2,20200220,2216,  24.50005, -29.70031,  5189,  4323.9,  2.3966,2,  2.3965,2, 34.8930,2, 34.8924,2,   244.8,2,   153.9,4,   46.04,2,   22.09,2,    1.50,2,  2349.4,6,  2201.4,6, -999.00,9, -999.00,9
740H20200119,A05_24N,112,1,15,3048,2,20200220,2216,  24.50005, -29.70031,  5189,  3808.8,  2.4589,2,  2.4581,2, 34.9049,2, 34.9030,2,   245.3,2,   245.9,2,   43.29,2,   21.76,2,    1.49,2,  2343.9,2,  2196.3,2, -999.00,9, -999.00,9
740H20200119,A05_24N,112,1,16,3049,2,20200220,2216,  24.50005, -29.70031,  5189,  3294.7,  2.6223,2,  2.6211,2, 34.9248,2, 34.9249,2,   245.2,2,   246.1,2,   38.87,2,   21.25,2,    1.45,2,  2337.9,2,  2194.9,2, -999.00,9, -999.00,9
740H20200119,A05_24N,112,1,17,3050,2,20200220,2216,  24.50005, -29.70031,  5189,  2786.9,  2.9809,2,  2.9863,2, 34.9607,2, 34.9598,2,   245.2,2,   245.3,2,   32.02,2,   20.54,2,    1.40,2,  2330.9,6,  2187.4,6, -999.00,9, -999.00,9
740H20200119,A05_24N,112,1,18,3051,2,20200220,2216,  24.50005, -29.70031,  5189,  2275.3,  3.6457,2,  3.6614,2, 35.0241,2, 35.0251,2,   238.8,2,   239.3,2,   25.26,2,   20.31,2,    1.37,2,  2327.1,2,  2182.0,2, -999.00,9, -999.00,9
740H20200119,A05_24N,112,1,19,3052,2,20200220,2216,  24.50005, -29.70031,  5189,  1770.2,  4.7738,2,  4.7934,2, 35.1300,2, 35.1304,2,   219.9,2,   221.5,2,   20.59,2,   20.92,2,    1.41,2,  2324.7,2,  2184.9,2, -999.00,9, -999.00,9
740H20200119,A05_24N,112,1,20,3053,2,20200220,2216,  24.50005, -29.70031,  5189,  1515.0,  5.5642,2,  5.5655,2, 35.1768,2, 35.1756,2,   204.4,2,   205.0,2,   18.48,2,   21.70,2,    1.45,2,  2323.9,6,  2190.2,6, -999.00,9, -999.00,9
740H20200119,A05_24N,112,1,21,3054,2,20200220,2216,  24.50005, -29.70031,  5189,  1312.1,  5.9420,2,  5.9490,2, 35.1409,2, 35.1407,2,   189.6,2,   191.6,2,   18.27,2,   23.31,2,    1.54,2,  2322.4,2,  2193.0,2, -999.00,9, -999.00,9
740H20200119,A05_24N,112,1,22,3055,2,20200220,2216,  24.50005, -29.70031,  5189,  1159.8,  6.1957,2,  6.1859,2, 35.0756,2, 35.0754,2,   170.0,2,   172.8,2,   19.43,2,   25.62,2,    1.69,2,  2319.5,6,  2200.6,6, -999.00,9, -999.00,9
740H20200119,A05_24N,112,1,23,3056,2,20200220,2216,  24.50005, -29.70031,  5189,  1058.4,  6.6092,2,  6.6162,2, 35.0724,2, 35.0695,2,   157.7,2,   159.8,2,   19.50,2,   26.76,2,    1.76,2,  2316.5,2,  2201.9,2, -999.00,9, -999.00,9
740H20200119,A05_24N,112,1,24,3057,2,20200220,2216,  24.50005, -29.70031,  5189,   957.0,  7.2609,2,  7.2459,2, 35.1199,2, 35.1217,2,   149.6,2,  -999.0,9,   18.34,2,   26.57,2,    1.74,2,  2320.5,2,  2206.1,2, -999.00,9, -999.00,9
740H20200119,A05_24N,112,1,1,3034,2,20200220,2216,  24.50005, -29.70031,  5189,   855.8,  7.9910,2,  7.9826,2, 35.1598,2, 35.1546,2,   131.0,2,   135.0,2,   17.71,2,   27.70,2,    1.79,2,  2320.1,6,  2211.3,6, -999.00,9, -999.00,9
740H20200119,A05_24N,112,1,2,3035,2,20200220,2216,  24.50005, -29.70031,  5189,   754.7,  9.3668,2,  9.4453,2, 35.3089,2, 35.3032,2,   123.9,2,   128.4,2,   14.45,2,   26.22,2,    1.65,2,  2321.9,2,  2210.2,2, -999.00,9, -999.00,9
740H20200119,A05_24N,112,1,3,3036,2,20200220,2216,  24.50005, -29.70031,  5189,   653.9, 11.0401,2, 11.0507,2, 35.5256,2, 35.5173,2,   152.8,2,   155.1,2,    9.29,2,   20.24,2,    1.23,2,  2331.6,2,  2190.7,2, -999.00,9, -999.00,9
740H20200119,A05_24N,112,1,4,3037,2,20200220,2216,  24.50005, -29.70031,  5189,   502.1, 12.8220,2, 12.7981,2, 35.7280,2, 35.7204,2,   161.4,2,   173.1,2,    5.46,2,   15.06,2,    0.88,2,  2339.0,2,  2174.5,2, -999.00,9, -999.00,9
740H20200119,A05_24N,112,1,5,6409,2,20200220,2216,  24.50005, -29.70031,  5189,   254.9, 16.6077,2, 16.6953,2, 36.2904,2, 36.2897,2,   159.8,2,   162.8,2,    2.90,2,   10.29,2,    0.59,2,  2372.5,2,  2172.2,2, -999.00,9, -999.00,9
740H20200119,A05_24N,112,1,6,6410,2,20200220,2216,  24.50005, -29.70031,  5189,   179.0, 18.8948,2, 18.9280,4, 36.7221,2, 36.6727,2,   186.5,2,   187.8,2,    1.26,2,    4.53,2,    0.22,2,  2394.3,2,  2150.4,2, -999.00,9, -999.00,9
740H20200119,A05_24N,112,1,7,6411,2,20200220,2216,  24.50005, -29.70031,  5189,   128.9, 20.2309,2, 20.2495,2, 36.9616,2, 36.9505,2,   199.1,2,   199.2,2,    0.68,2,    1.95,2,    0.11,2,  2415.5,2,  2142.2,2, -999.00,9, -999.00,9
740H20200119,A05_24N,112,1,8,6412,2,20200220,2216,  24.50005, -29.70031,  5189,    93.5, 22.1963,2, 22.1879,2, 37.4223,2, 37.4245,2,   213.3,2,   213.8,2,    0.49,2,    0.10,2,   -0.01,2,  2442.4,2,  2128.6,2, -999.00,9, -999.00,9
740H20200119,A05_24N,112,1,9,6413,2,20200220,2216,  24.50005, -29.70031,  5189,    53.9, 22.4257,2, 22.4198,2, 37.4499,2, 37.4517,2,   214.6,2,   214.4,2,    0.52,2,    0.09,2,   -0.02,2,  2447.3,2,  2123.7,2, -999.00,9, -999.00,9
740H20200119,A05_24N,112,1,10,6414,2,20200220,2216,  24.50005, -29.70031,  5189,     8.1, 22.4199,2, 22.4194,2, 37.4500,2, 37.4520,2,   214.6,2,   214.5,2,    0.58,2,    0.08,2,   -0.02,2,  2445.9,2,  2125.6,2, -999.00,9, -999.00,9