BOTTLE,20221012CCHSIOENA
EXPOCODE,SECT_ID,STNNBR,CASTNO,SAMPNO,BTLNBR,BTLNBR_FLAG_W,DATE,TIME,LATITUDE,LONGITUDE,DEPTH,CTDPRS,CTDTMP,CTDTMP_FLAG_W,SBE35,SBE35_FLAG_W,CTDSAL,CTDSAL_FLAG_W,SALNTY,SALNTY_FLAG_W,CTDOXY,CTDOXY_FLAG_W,OXYGEN,OXYGEN_FLAG_W,SILCAT,SILCAT_FLAG_W,NO2+NO3,NO2+NO3_FLAG_W,PHSPHT,PHSPHT_FLAG_W,ALKALI,ALKALI_FLAG_W,TCARBN,TCARBN_FLAG_W,DELC14,DELC14_FLAG_W,DELC13,DELC13_FLAG_W
 , , , , , , , , , , , ,DBAR,ITS-90, ,ITS-90, ,PSS-78, ,PSS-78, ,UMOL/KG, ,UMOL/KG, ,UMOL/KG, ,UMOL/KG, ,UMOL/KG, ,UMOL/KG, ,UMOL/KG, ,/MILLE, ,/MILLE, 
740H20200119,A05_24N,38,1,11,3044,2,20200127,0926,  26.49989, -73.93345,  4669,  4744.1,  2.1255,2,-999.0000,9, 34.8663,2, 34.8664,2,   253.9,2,   256.6,2,   45.68,2,   21.13,2,    1.45,2,  2340.6,6,  2196.3,6, -999.00,1, -999.00,1
740H20200119,A05_24N,38,1,12,3045,2,20200127,0926,  26.49989, -73.93345,  4669,  4577.4,  2.1982,2,-999.0000,9, 34.8779,2, 34.8784,2,   259.0,2,   259.7,2,   38.57,2,   19.94,2,    1.36,2,  2332.4,2,  2190.5,2, -999.00,1, -999.00,1
740H20200119,A05_24N,38,1,13,3046,2,20200127,0926,  26.49989, -73.93345,  4669,  4318.0,  2.2287,2,-999.0000,9, 34.8845,2, 34.8843,2,   262.5,2,   264.2,2,   33.87,2,   19.15,2,    1.30,2,  2326.4,2,  2186.0,2, -999.00,1, -999.00,1
740H20200119,A05_24N,38,1,14,7131,2,20200127,0926,  26.49989, -73.93345,  4669,  3799.8,  2.2951,2,-999.0000,9, 34.8949,2, 34.8950,2,   267.5,2,   268.8,2,   27.74,2,   18.19,2,    1.23,2,  2322.6,6,  2176.1,6, -999.00,1, -999.00,1
740H20200119,A05_24N,38,1,15,3048,2,20200127,0926,  26.49989, -73.93345,  4669,  3287.6,  2.4942,2,-999.0000,9, 34.9099,2, 34.9093,2,   268.4,2,   269.1,2,   23.52,2,   17.78,2,    1.20,2,  2315.2,2,  2185.6,2, -999.00,1, -999.00,1
740H20200119,A05_24N,38,1,16,3049,2,20200127,0926,  26.49989, -73.93345,  4669,  2777.9,  2.8497,2,-999.0000,9, 34.9330,2, 34.9330,2,   263.6,2,   264.7,2,   22.11,2,   18.22,2,    1.22,2,  2316.0,6,  2169.9,6, -999.00,1, -999.00,1
740H20200119,A05_24N,38,1,17,3050,2,20200127,0926,  26.49989, -73.93345,  4669,  2531.6,  3.0609,2,-999.0000,9, 34.9466,2, 34.9463,2,   261.2,2,   262.2,2,   21.03,2,   18.32,2,    1.22,2,  2314.4,2,  2170.9,2, -999.00,1, -999.00,1
740H20200119,A05_24N,38,1,18,3051,2,20200127,0926,  26.49989, -73.93345,  4669,  2019.3,  3.5631,2,-999.0000,9, 34.9687,2, 34.9682,2,   260.8,2,   261.8,2,   16.27,2,   18.04,2,    1.19,2,  2313.4,2,  2164.2,2, -999.00,1, -999.00,1
740H20200119,A05_24N,38,1,19,3052,2,20200127,0926,  26.49989, -73.93345,  4669,  1763.8,  3.8476,2,-999.0000,9, 34.9815,2, 34.9814,2,   258.7,2,   260.1,2,   14.45,2,   18.02,2,    1.18,2,  2311.1,2,  2166.7,2, -999.00,1, -999.00,1
740H20200119,A05_24N,38,1,20,3053,2,20200127,0926,  26.49989, -73.93345,  4669,  1509.1,  4.3326,2,-999.0000,9, 35.0119,2, 35.0112,2,   251.9,2,   252.8,2,   13.04,2,   18.31,2,    1.19,2,  2312.1,2,  2170.3,2, -999.00,1, -999.00,1
740H20200119,A05_24N,38,1,21,3054,2,20200127,0926,  26.49989, -73.93345,  4669,  1255.1,  4.9583,2,-999.0000,9, 35.0429,2, 35.0429,2,   238.8,2,   239.4,2,   12.60,2,   18.93,2,    1.22,2,  2312.8,6,  2176.1,6, -999.00,1, -999.00,1
740H20200119,A05_24N,38,1,22,3055,2,20200127,0926,  26.49989, -73.93345,  4669,  1001.4,  6.7039,2,-999.0000,9, 35.1082,2, 35.1034,2,   189.4,2,   191.1,2,   14.17,2,   22.04,2,    1.42,2,  2320.0,2,  2188.4,2, -999.00,1, -999.00,1
740H20200119,A05_24N,38,1,23,3056,2,20200127,0926,  26.49989, -73.93345,  4669,   885.2,  8.4526,2,-999.0000,9, 35.1639,2, 35.1642,2,   153.0,2,   153.7,2,   14.48,2,   24.27,2,    1.53,2,  2316.8,2,  2197.0,2, -999.00,1, -999.00,1
740H20200119,A05_24N,38,1,24,3057,2,20200127,0926,  26.49989, -73.93345,  4669,   767.9, 10.5973,2,-999.0000,9, 35.3725,2, 35.3617,2,   146.3,2,   146.2,2,   11.45,2,   22.05,2,    1.36,2,  2326.4,6,  2189.9,6, -999.00,1, -999.00,1
740H20200119,A05_24N,38,1,1,3034,2,20200127,0926,  26.49989, -73.93345,  4669,   555.4, 15.4324,2,-999.0000,9, 36.0808,2, 36.0456,2,   168.9,2,   167.9,2,    4.17,2,   12.12,2,    0.67,2,  2358.1,2,  2159.2,2, -999.00,1, -999.00,1
740H20200119,A05_24N,38,1,2,3035,2,20200127,0926,  26.49989, -73.93345,  4669,   505.2, 16.4332,2,-999.0000,9, 36.2432,2, 36.2250,2,   171.9,2,   172.4,2,    3.16,2,    9.94,2,    0.53,2,  2370.6,2,  2149.7,2, -999.00,1, -999.00,1
740H20200119,A05_24N,38,1,3,3036,2,20200127,0926,  26.49989, -73.93345,  4669,   379.0, 18.4338,2,-999.0000,9, 36.5557,2, 36.5357,2,   189.1,2,   188.1,2,    1.56,2,    5.19,2,    0.22,2,  2385.9,6,  2133.9,6, -999.00,1, -999.00,1
740H20200119,A05_24N,38,1,4,3037,2,20200127,0926,  26.49989, -73.93345,  4669,   253.1, 19.3252,2,-999.0000,9, 36.6622,2, 36.6595,2,   199.4,2,   199.9,2,    0.99,2,    2.75,2,    0.09,2,  2393.3,2,  2116.0,2, -999.00,1, -999.00,1
740H20200119,A05_24N,38,1,5,3038,2,20200127,0926,  26.49989, -73.93345,  4669,   177.9, 20.0100,2,-999.0000,9, 36.7148,2, 36.7068,2,   192.2,2,   194.2,2,    0.84,2,    1.93,2,    0.05,2,  2395.5,2,  2119.5,2, -999.00,1, -999.00,1
740H20200119,A05_24N,38,1,6,6410,2,20200127,0926,  26.49989, -73.93345,  4669,   101.3, 22.5152,2,-999.0000,9, 36.8155,2, 36.8131,2,   203.6,2,   201.8,2,    0.69,2,    0.63,2,    0.01,2,  2404.0,2,  2094.1,2, -999.00,1, -999.00,1
740H20200119,A05_24N,38,1,7,6411,2,20200127,0926,  26.49989, -73.93345,  4669,    77.4, 22.8835,2,-999.0000,9, 36.7634,2, 36.7622,2,   200.9,2,   202.8,2,    0.75,2,    0.61,2,    0.01,2,  2399.8,2,  2086.5,2, -999.00,1, -999.00,1
740H20200119,A05_24N,38,1,8,6412,2,20200127,0926,  26.49989, -73.93345,  4669,    52.6, 23.1423,2,-999.0000,9, 36.7415,2, 36.7437,2,   210.9,2,   210.5,2,    0.80,2,    0.23,2,    0.00,2,  2400.2,2,  2070.1,2, -999.00,1, -999.00,1
740H20200119,A05_24N,38,1,9,6413,2,20200127,0926,  26.49989, -73.93345,  4669,    27.0, 23.1391,2,-999.0000,9, 36.7356,2, 36.7360,2,   209.6,2,   211.0,2,    0.82,2,    0.21,2,    0.00,2,  2397.2,2,  2071.5,2, -999.00,9, -999.00,9
740H20200119,A05_24N,38,1,10,3043,2,20200127,0926,  26.49989, -73.93345,  4669,     6.9, 23.1361,2,-999.0000,9, 36.7357,2, 36.7360,2,   210.6,2,   211.2,2,    0.85,2,    0.22,2,    0.00,2,  2398.9,2,  2069.6,2, -999.00,1, -999.00,1
740H20200119,A05_24N,39,1,11,3044,2,20200127,1506,  26.50092, -73.56687,  4915,  4994.6,  2.1429,2,-999.0000,9, 34.8649,2, 34.8648,2,   254.0,2,   255.2,2,   46.16,2,   21.11,2,    1.44,2,  2340.2,6,  2199.2,6, -999.00,9, -999.00,9
740H20200119,A05_24N,39,1,12,3045,2,20200127,1506,  26.50092, -73.56687,  4915,  4579.0,  2.2468,2,-999.0000,9, 34.8832,2, 34.8835,2,   262.3,2,   263.5,2,   34.56,2,   19.26,2,    1.30,2,  2327.3,2,  2182.9,2, -999.00,9, -999.00,9
740H20200119,A05_24N,39,1,13,3046,2,20200127,1506,  26.50092, -73.56687,  4915,  4060.4,  2.2934,2,-999.0000,9, 34.8925,2, 34.8929,2,   266.4,2,   267.9,2,   29.01,2,   18.40,2,    1.23,2,  2323.9,2,  2179.0,2, -999.00,9, -999.00,9
740H20200119,A05_24N,39,1,14,7131,2,20200127,1506,  26.50092, -73.56687,  4915,  3548.0,  2.3960,2,-999.0000,9, 34.9027,2, 34.9040,2,   268.5,2,   269.7,2,   24.79,2,   17.85,2,    1.19,2,  2316.4,2,  2176.5,2, -999.00,9, -999.00,9
740H20200119,A05_24N,39,1,15,3048,2,20200127,1506,  26.50092, -73.56687,  4915,  3038.0,  2.6973,2,-999.0000,9, 34.9233,2, 34.9227,2,   265.8,2,   266.5,2,   22.60,2,   18.02,2,    1.20,2,  2318.2,2,  2169.2,2, -999.00,9, -999.00,9
740H20200119,A05_24N,39,1,16,3049,2,20200127,1506,  26.50092, -73.56687,  4915,  2529.1,  3.0969,2,-999.0000,9, 34.9483,2, 34.9483,2,   261.5,2,   262.2,2,   20.43,2,   18.28,2,    1.20,2,  2316.5,6,  2170.0,6, -999.00,9, -999.00,9
740H20200119,A05_24N,39,1,17,3050,2,20200127,1506,  26.50092, -73.56687,  4915,  2278.5,  3.3506,2,-999.0000,9, 34.9660,2, 34.9664,2,   259.2,2,   260.5,2,   19.11,2,   18.39,2,    1.21,2,  2315.3,2,  2166.8,2, -999.00,9, -999.00,9
740H20200119,A05_24N,39,1,18,3051,2,20200127,1506,  26.50092, -73.56687,  4915,  2022.2,  3.6196,2,-999.0000,9, 34.9788,2, 34.9789,2,   258.8,2,   259.9,2,   16.69,2,   18.25,2,    1.20,2,  2310.3,2,  2169.7,2, -999.00,9, -999.00,9
740H20200119,A05_24N,39,1,19,3052,2,20200127,1506,  26.50092, -73.56687,  4915,  1767.0,  3.9307,2,-999.0000,9, 34.9896,2, 34.9896,2,   257.6,2,   258.5,2,   14.35,2,   18.04,2,    1.19,2,  2311.3,2,  2167.5,2, -999.00,9, -999.00,9
740H20200119,A05_24N,39,1,20,3053,2,20200127,1506,  26.50092, -73.56687,  4915,  1511.9,  4.2365,2,-999.0000,9, 35.0032,2, 35.0029,2,   254.2,2,   255.9,2,   13.08,2,   18.04,2,    1.18,2,  2309.1,6,  2169.9,6, -999.00,9, -999.00,9
740H20200119,A05_24N,39,1,21,3054,2,20200127,1506,  26.50092, -73.56687,  4915,  1262.5,  4.9300,2,-999.0000,9, 35.0432,2, 35.0440,2,   239.4,2,   240.7,2,   12.67,2,   18.70,2,    1.22,2,  2310.4,2,  2174.7,2, -999.00,9, -999.00,9
740H20200119,A05_24N,39,1,22,3055,2,20200127,1506,  26.50092, -73.56687,  4915,  1008.4,  6.4796,2,-999.0000,9, 35.1012,2, 35.1018,2,   196.1,2,   199.2,2,   13.98,2,   21.35,2,    1.39,2,  2316.3,6,  2186.1,6, -999.00,9, -999.00,9
740H20200119,A05_24N,39,1,23,3056,2,20200127,1506,  26.50092, -73.56687,  4915,   881.5,  8.2508,2,-999.0000,9, 35.1657,2, 35.1594,2,   160.1,2,   163.9,2,   14.21,2,   23.36,2,    1.49,2,  2317.9,2,  2191.6,2, -999.00,9, -999.00,9
740H20200119,A05_24N,39,1,24,3057,2,20200127,1506,  26.50092, -73.56687,  4915,   754.7, 11.1470,2,-999.0000,9, 35.4374,2, 35.4234,2,   148.5,2,   150.0,2,   10.54,2,   20.84,2,    1.30,2,  2330.4,2,  2188.3,2, -999.00,9, -999.00,9
740H20200119,A05_24N,39,1,1,3034,2,20200127,1506,  26.50092, -73.56687,  4915,   628.5, 13.8703,2,-999.0000,9, 35.8283,2, 35.7997,2,   161.1,2,   160.9,2,    6.07,2,   15.32,2,    0.91,2,  2346.9,2,  2170.0,2, -999.00,9, -999.00,9
740H20200119,A05_24N,39,1,2,3035,2,20200127,1506,  26.50092, -73.56687,  4915,   506.8, 16.3144,2,-999.0000,9, 36.2229,2, 36.1944,2,   173.4,2,   174.5,2,    3.23,2,   10.01,2,    0.55,2,  2368.8,2,  2148.7,2, -999.00,9, -999.00,9
740H20200119,A05_24N,39,1,3,3036,2,20200127,1506,  26.50092, -73.56687,  4915,   380.5, 18.2378,2,-999.0000,9, 36.5271,2, 36.5160,2,   187.6,2,   188.2,2,    1.65,2,    5.46,2,    0.25,2,  2383.5,2,  2130.6,2, -999.00,9, -999.00,9
740H20200119,A05_24N,39,1,4,3037,2,20200127,1506,  26.50092, -73.56687,  4915,   254.5, 19.2654,2,-999.0000,9, 36.6459,2, 36.6395,2,   196.2,2,   198.6,2,    1.02,2,    2.93,2,    0.11,2,  2395.3,2,  2116.7,2, -999.00,9, -999.00,9
740H20200119,A05_24N,39,1,5,3038,2,20200127,1506,  26.50092, -73.56687,  4915,   153.8, 21.1909,2,-999.0000,9, 36.8242,2, 36.8060,2,   193.2,2,   193.3,2,    0.63,2,    0.65,2,    0.02,2,  2402.7,2,  2117.7,2, -999.00,9, -999.00,9
740H20200119,A05_24N,39,1,6,6410,2,20200127,1506,  26.50092, -73.56687,  4915,   133.5, 22.3636,2,-999.0000,9, 36.8903,2, 36.8721,2,   205.0,2,   202.1,2,    0.60,2,    0.29,2,    0.01,2,  2408.0,2,  2101.2,2, -999.00,9, -999.00,9
740H20200119,A05_24N,39,1,7,6411,2,20200127,1506,  26.50092, -73.56687,  4915,   103.7, 23.7293,2,-999.0000,9, 36.8842,2, 36.8853,2,   210.4,2,   210.0,2,    0.73,2,    0.14,2,    0.00,2,  2408.8,6,  2071.5,6, -999.00,9, -999.00,9
740H20200119,A05_24N,39,1,8,6412,2,20200127,1506,  26.50092, -73.56687,  4915,    48.4, 23.7432,2,-999.0000,9, 36.8883,2, 36.8893,2,   210.5,2,   210.4,2,    0.73,2,    0.15,2,    0.01,2,  2405.6,2,  2072.3,2, -999.00,9, -999.00,9
740H20200119,A05_24N,39,1,9,6413,2,20200127,1506,  26.50092, -73.56687,  4915,    23.3, 23.7463,2,-999.0000,9, 36.8888,2, 36.8890,2,   210.2,2,   209.8,2,    0.70,2,    0.16,2,    0.01,2,  2412.2,2,  2066.2,2, -999.00,9, -999.00,9
740H20200119,A05_24N,39,1,10,3043,2,20200127,1506,  26.50092, -73.56687,  4915,     5.3, 23.7814,2,-999.0000,9, 36.8894,2, 36.8904,2,   209.7,2,   210.0,2,    0.67,2,    0.16,2,    0.00,2,  2411.9,2,  2071.4,2, -999.00,9, -999.00,9
740H20200119,A05_24N,40,1,11,3044,2,20200127,2122,  26.49956, -73.20074,  5045,  5127.1,  2.0954,2,-999.0000,9, 34.8569,2, 34.8571,2,   251.7,2,   254.0,2,   50.59,2,   21.92,2,    1.49,2,  2345.3,6,  2202.9,6, -999.00,9, -999.00,9
740H20200119,A05_24N,40,1,12,3045,2,20200127,2122,  26.49956, -73.20074,  5045,  4853.5,  2.2148,2,-999.0000,9, 34.8756,2, 34.8758,2,   258.3,2,   259.5,2,   40.27,2,   20.19,2,    1.37,2,  -999.0,9,  -999.0,9, -999.00,9, -999.00,9
740H20200119,A05_24N,40,1,13,3046,2,20200127,2122,  26.49956, -73.20074,  5045,  4335.2,  2.2648,2,-999.0000,9, 34.8877,2, 34.8880,2,   264.3,2,   266.0,2,   32.00,2,   18.84,2,    1.27,2,  2326.7,2,  2182.5,2, -999.00,9, -999.00,9
740H20200119,A05_24N,40,1,14,7131,2,20200127,2122,  26.49956, -73.20074,  5045,  3817.7,  2.3313,2,-999.0000,9, 34.8970,2, 34.8970,2,   267.9,2,   269.3,2,   26.99,2,   18.09,2,    1.22,2,  2315.5,2,  2179.1,2, -999.00,9, -999.00,9
740H20200119,A05_24N,40,1,15,3048,2,20200127,2122,  26.49956, -73.20074,  5045,  3405.6,  2.4661,2,-999.0000,9, 34.9075,2, 34.9078,2,   268.8,2,   269.3,2,   23.85,2,   17.79,2,    1.19,2,  2315.5,6,  2173.5,6, -999.00,9, -999.00,9
740H20200119,A05_24N,40,1,16,3049,2,20200127,2122,  26.49956, -73.20074,  5045,  3303.3,  2.5154,2,-999.0000,9, 34.9109,2, 34.9111,2,   268.7,2,   269.4,2,   23.43,2,   17.76,2,    1.19,2,  -999.0,9,  -999.0,9, -999.00,9, -999.00,9
740H20200119,A05_24N,40,1,17,3050,2,20200127,2122,  26.49956, -73.20074,  5045,  2789.2,  2.8527,2,-999.0000,9, 34.9336,2, 34.9346,2,   263.5,2,   264.4,2,   22.38,2,   18.25,2,    1.22,2,  2316.2,2,  2173.3,2, -999.00,9, -999.00,9
740H20200119,A05_24N,40,1,18,3051,2,20200127,2122,  26.49956, -73.20074,  5045,  2532.0,  3.0775,2,-999.0000,9, 34.9488,2, 34.9484,2,   260.7,2,   262.0,2,   21.18,2,   18.35,2,    1.22,2,  2316.7,2,  2170.1,2, -999.00,9, -999.00,9
740H20200119,A05_24N,40,1,19,3052,2,20200127,2122,  26.49956, -73.20074,  5045,  2275.6,  3.3154,2,-999.0000,9, 34.9620,2, 34.9613,2,   260.1,2,   261.3,2,   19.04,2,   18.23,2,    1.21,2,  2313.3,2,  2171.2,2, -999.00,9, -999.00,9
740H20200119,A05_24N,40,1,20,3053,2,20200127,2122,  26.49956, -73.20074,  5045,  2020.0,  3.5791,2,-999.0000,9, 34.9735,2, 34.9740,2,   259.8,2,   260.5,2,   16.63,2,   18.12,2,    1.20,2,  2311.9,2,  2170.3,2, -999.00,9, -999.00,9
740H20200119,A05_24N,40,1,21,3054,2,20200127,2122,  26.49956, -73.20074,  5045,  1765.0,  3.8594,2,-999.0000,9, 34.9836,2, 34.9830,2,   258.5,2,   259.4,2,   14.36,2,   18.02,2,    1.18,2,  2308.0,2,  2169.0,2, -999.00,9, -999.00,9
740H20200119,A05_24N,40,1,22,3055,2,20200127,2122,  26.49956, -73.20074,  5045,  1510.2,  4.2738,2,-999.0000,9, 35.0072,2, 35.0088,2,   253.1,2,   253.6,2,   13.24,2,   18.20,2,    1.19,2,  2310.3,2,  2170.2,2, -999.00,9, -999.00,9
740H20200119,A05_24N,40,1,23,3056,2,20200127,2122,  26.49956, -73.20074,  5045,  1255.7,  4.9569,2,-999.0000,9, 35.0466,2, 35.0463,2,   238.7,2,   240.0,2,   12.79,2,   18.80,2,    1.22,2,  2312.6,2,  2176.9,2, -999.00,9, -999.00,9
740H20200119,A05_24N,40,1,24,3057,2,20200127,2122,  26.49956, -73.20074,  5045,  1001.6,  6.5840,2,-999.0000,9, 35.0832,2, 35.0828,2,   187.2,2,   191.0,2,   14.99,2,   22.45,2,    1.45,2,  2317.5,6,  2190.4,6, -999.00,9, -999.00,9
740H20200119,A05_24N,40,1,1,3034,2,20200127,2122,  26.49956, -73.20074,  5045,   880.7,  8.3741,2,-999.0000,9, 35.1566,2, 35.1458,2,   153.9,2,   155.4,2,   15.05,2,   24.49,2,    1.54,2,  2277.4,3,  2200.6,2, -999.00,9, -999.00,9
740H20200119,A05_24N,40,1,2,3035,2,20200127,2122,  26.49956, -73.20074,  5045,   784.4, 10.3673,2,-999.0000,9, 35.3451,2, 35.3295,2,   142.0,2,   145.8,2,   12.10,2,   23.07,2,    1.42,2,  2323.8,6,  2193.0,6, -999.00,9, -999.00,9
740H20200119,A05_24N,40,1,3,3036,2,20200127,2122,  26.49956, -73.20074,  5045,   627.4, 13.8773,2,-999.0000,9, 35.8248,2, 35.8043,2,   163.6,2,   164.7,2,    5.96,2,   15.10,2,    0.88,2,  2345.0,2,  2172.6,2, -999.00,9, -999.00,9
740H20200119,A05_24N,40,1,4,3037,2,20200127,2122,  26.49956, -73.20074,  5045,   500.7, 16.6128,2,-999.0000,9, 36.2680,2, 36.2404,2,   174.8,2,   175.6,2,    3.02,2,    9.55,2,    0.51,2,  2368.4,2,  2149.8,2, -999.00,9, -999.00,9
740H20200119,A05_24N,40,1,5,3038,2,20200127,2122,  26.49956, -73.20074,  5045,   374.4, 18.2456,2,-999.0000,9, 36.5280,2, 36.5185,2,   188.1,2,   188.2,2,    1.61,2,    5.44,2,    0.25,2,  2382.2,2,  2133.8,2, -999.00,9, -999.00,9
740H20200119,A05_24N,40,1,6,6410,2,20200127,2122,  26.49956, -73.20074,  5045,   243.6, 19.3854,2,-999.0000,9, 36.6598,2, 36.6569,2,   198.7,2,   199.5,2,    0.94,2,    2.55,2,    0.08,2,  2393.3,2,  2115.8,2, -999.00,9, -999.00,9
740H20200119,A05_24N,40,1,7,6411,2,20200127,2122,  26.49956, -73.20074,  5045,   177.5, 20.3029,2,-999.0000,9, 36.7444,2, 36.7426,2,   190.4,2,   190.8,2,    0.74,2,    1.21,2,    0.02,2,  2397.3,2,  2122.2,2, -999.00,9, -999.00,9
740H20200119,A05_24N,40,1,8,6412,2,20200127,2122,  26.49956, -73.20074,  5045,   107.1, 22.7255,2,-999.0000,9, 36.8848,2, 36.8819,2,   207.4,2,   206.0,2,    0.63,2,    0.20,2,    0.01,2,  2405.8,6,  2099.1,6, -999.00,9, -999.00,9
740H20200119,A05_24N,40,1,9,6413,2,20200127,2122,  26.49956, -73.20074,  5045,    52.3, 23.7498,2,-999.0000,9, 36.8699,2, 36.8705,2,   210.9,2,   210.0,2,    0.79,2,    0.13,2,    0.00,2,  2408.5,2,  2067.2,2, -999.00,9, -999.00,9
740H20200119,A05_24N,40,1,10,3043,2,20200127,2122,  26.49956, -73.20074,  5045,     7.1, 23.8162,2,-999.0000,9, 36.8696,2, 36.8702,2,   210.7,2,   209.3,2,    0.84,2,    0.14,2,    0.00,2,  2407.0,6,  2073.7,6, -999.00,9, -999.00,9