BOTTLE,20221012CCHSIOENA
EXPOCODE,SECT_ID,STNNBR,CASTNO,SAMPNO,BTLNBR,BTLNBR_FLAG_W,DATE,TIME,LATITUDE,LONGITUDE,DEPTH,CTDPRS,CTDTMP,CTDTMP_FLAG_W,SBE35,SBE35_FLAG_W,CTDSAL,CTDSAL_FLAG_W,SALNTY,SALNTY_FLAG_W,CTDOXY,CTDOXY_FLAG_W,OXYGEN,OXYGEN_FLAG_W,SILCAT,SILCAT_FLAG_W,NO2+NO3,NO2+NO3_FLAG_W,PHSPHT,PHSPHT_FLAG_W,ALKALI,ALKALI_FLAG_W,TCARBN,TCARBN_FLAG_W,DELC14,DELC14_FLAG_W,DELC13,DELC13_FLAG_W
 , , , , , , , , , , , ,DBAR,ITS-90, ,ITS-90, ,PSS-78, ,PSS-78, ,UMOL/KG, ,UMOL/KG, ,UMOL/KG, ,UMOL/KG, ,UMOL/KG, ,UMOL/KG, ,UMOL/KG, ,/MILLE, ,/MILLE, 
740H20200119,A05_24N,86,1,11,3044,2,20200212,0843,  23.87389, -46.33457,  5038,  5123.8,  2.3294,2,  2.3292,2, 34.8775,2, 36.4149,4,   253.8,2,   252.0,2,   46.22,2,   21.29,2,    1.44,2,  2338.1,6,  2195.2,6, -999.00,9, -999.00,9
740H20200119,A05_24N,86,1,12,3045,2,20200212,0843,  23.87389, -46.33457,  5038,  4597.0,  2.2839,2,  2.2837,2, 34.8795,2, 34.8800,2,   252.9,2,   252.8,2,   45.36,2,   21.29,2,    1.44,2,  2333.8,2,  2196.0,2, -999.00,9, -999.00,9
740H20200119,A05_24N,86,1,13,3046,2,20200212,0843,  23.87389, -46.33457,  5038,  4059.1,  2.2846,2,  2.2849,2, 34.8847,2, 34.8855,2,   253.7,2,   253.0,2,   44.14,2,   21.24,2,    1.43,2,  2335.9,6,  2192.1,6, -999.00,9, -999.00,9
740H20200119,A05_24N,86,1,14,7131,2,20200212,0843,  23.87389, -46.33457,  5038,  3547.9,  2.5387,2,  2.5451,2, 34.9095,2, 34.9096,2,   251.4,2,   250.6,2,   39.38,2,   21.15,2,    1.41,2,  2334.9,2,  2190.7,2, -999.00,9, -999.00,9
740H20200119,A05_24N,86,1,15,3048,2,20200212,0843,  23.87389, -46.33457,  5038,  3037.7,  2.7427,2,  2.7466,2, 34.9297,2, 34.9303,2,   250.4,2,   249.0,2,   35.25,2,   20.83,2,    1.38,2,  2328.4,2,  2190.1,2, -999.00,9, -999.00,9
740H20200119,A05_24N,86,1,16,3049,2,20200212,0843,  23.87389, -46.33457,  5038,  2529.3,  3.1002,2,  3.1016,2, 34.9645,2, 34.9644,2,   247.1,2,   246.0,2,   29.66,2,   20.46,2,    1.35,2,  2325.9,2,  2183.8,2, -999.00,9, -999.00,9
740H20200119,A05_24N,86,1,17,3050,2,20200212,0843,  23.87389, -46.33457,  5038,  2022.8,  3.8084,2,  3.8086,2, 35.0196,2, 35.0216,2,   244.3,2,   242.8,2,   21.80,2,   19.91,2,    1.29,2,  2319.5,6,  2181.2,6, -999.00,9, -999.00,9
740H20200119,A05_24N,86,1,18,3051,2,20200212,0843,  23.87389, -46.33457,  5038,  1640.1,  4.7630,2,  4.7742,2, 35.0791,2, 35.0800,2,   230.8,2,   230.1,2,   16.88,2,   20.30,2,    1.30,2,  2319.3,2,  2176.6,2, -999.00,9, -999.00,9
740H20200119,A05_24N,86,1,19,3052,2,20200212,0843,  23.87389, -46.33457,  5038,  1411.2,  5.1732,2,  5.1772,2, 35.0540,2, 35.0554,2,   215.2,2,   214.9,2,   16.54,2,   21.35,2,    1.40,2,  2313.3,2,  2185.6,2, -999.00,9, -999.00,9
740H20200119,A05_24N,86,1,20,3053,2,20200212,0843,  23.87389, -46.33457,  5038,  1208.0,  5.7396,2,  5.7400,2, 35.0015,2, 35.0015,2,   183.1,2,   182.9,2,   18.94,2,   24.91,2,    1.62,2,  2315.5,2,  2195.4,2, -999.00,9, -999.00,9
740H20200119,A05_24N,86,1,21,3054,2,20200212,0843,  23.87389, -46.33457,  5038,  1111.8,  5.9598,2,  5.9755,2, 34.9959,2, 34.9951,2,   174.6,2,   174.0,2,   19.39,2,   25.73,2,    1.68,2,  2313.3,2,  -999.0,9, -999.00,9, -999.00,9
740H20200119,A05_24N,86,1,22,3055,2,20200212,0843,  23.87389, -46.33457,  5038,  1009.7,  6.5466,2,  6.5939,2, 35.0029,2, 35.0030,2,   156.1,2,   156.0,2,   19.87,2,   27.20,2,    1.75,2,  2314.5,6,  2205.2,6, -999.00,9, -999.00,9
740H20200119,A05_24N,86,1,23,3056,2,20200212,0843,  23.87389, -46.33457,  5038,   908.8,  7.6836,2,  7.6904,2, 35.1040,2, 35.1000,2,   144.3,2,   143.6,2,   17.92,2,   27.05,2,    1.73,2,  2315.5,2,  2204.7,2, -999.00,9, -999.00,9
740H20200119,A05_24N,86,1,24,3057,2,20200212,0843,  23.87389, -46.33457,  5038,   807.3,  8.7694,2,  8.8391,2, 35.2064,2, 35.1926,2,   140.6,2,   139.8,2,   15.72,2,   25.93,2,    1.63,2,  2320.0,6,  2200.9,6, -999.00,9, -999.00,9
740H20200119,A05_24N,86,1,1,3034,2,20200212,0843,  23.87389, -46.33457,  5038,   705.8, 10.6401,2, 10.6515,2, 35.4619,2, 35.4477,2,   150.3,2,   148.8,2,   10.58,2,   21.57,2,    1.30,2,  2324.8,2,  2189.4,2, -999.00,9, -999.00,9
740H20200119,A05_24N,86,1,2,3035,2,20200212,0843,  23.87389, -46.33457,  5038,   605.2, 12.1964,2, 12.2068,2, 35.6490,2, 35.6422,2,   156.5,2,   156.2,2,    7.16,2,   18.01,2,    1.05,2,  2336.8,2,  2179.5,2, -999.00,9, -999.00,9
740H20200119,A05_24N,86,1,3,3036,2,20200212,0843,  23.87389, -46.33457,  5038,   403.1, 15.5666,2, 15.5669,2, 36.1228,2, 36.1133,2,   177.4,2,   177.0,2,    3.14,2,   10.40,2,    0.58,2,  2361.0,6,  2157.1,6, -999.00,9, -999.00,9
740H20200119,A05_24N,86,1,4,3037,2,20200212,0843,  23.87389, -46.33457,  5038,   302.6, 17.3892,2, 17.4051,2, 36.4257,2, 36.4003,2,   172.2,2,   170.8,2,    2.20,2,    8.43,2,    0.45,2,  2377.9,2,  2154.6,2, -999.00,9, -999.00,9
740H20200119,A05_24N,86,1,5,3038,2,20200212,0843,  23.87389, -46.33457,  5038,   201.6, 19.3610,2, 19.3652,2, 36.7881,2, 36.7555,2,   176.8,2,   177.0,2,    1.24,2,    5.10,2,    0.26,2,  2369.2,3,  2149.9,2, -999.00,9, -999.00,9
740H20200119,A05_24N,86,1,6,6410,2,20200212,0843,  23.87389, -46.33457,  5038,   176.6, 19.9036,2, 19.9176,2, 36.8873,2, 36.8741,2,   178.9,2,   178.7,2,    1.05,2,    4.18,2,    0.20,2,  2405.1,2,  2150.5,2, -999.00,9, -999.00,9
740H20200119,A05_24N,86,1,7,6411,2,20200212,0843,  23.87389, -46.33457,  5038,   130.9, 21.4191,2, 21.4807,2, 37.1347,2, 37.1245,2,   188.1,2,   187.1,2,    0.63,2,    1.83,2,    0.09,2,  2420.2,2,  2146.1,2, -999.00,9, -999.00,9
740H20200119,A05_24N,86,1,8,6412,2,20200212,0843,  23.87389, -46.33457,  5038,   100.6, 23.7370,2, 23.7958,2, 37.5211,2, 37.4968,2,   207.0,2,   205.6,2,    0.48,2,    0.31,2,    0.00,2,  2447.0,2,  2117.8,2, -999.00,9, -999.00,9
740H20200119,A05_24N,86,1,9,6413,2,20200212,0843,  23.87389, -46.33457,  5038,    50.8, 23.8117,2, 23.8120,2, 37.5379,2, 37.5385,2,   208.8,2,   208.1,2,    0.51,2,    0.20,2,    0.00,2,  2447.5,2,  2114.8,2, -999.00,9, -999.00,9
740H20200119,A05_24N,86,1,10,3043,2,20200212,0843,  23.87389, -46.33457,  5038,     5.3, 23.7942,2, 23.7984,2, 37.5375,2, 37.5380,2,   209.5,2,   208.6,2,    0.53,2,    0.21,2,    0.00,2,  2450.9,2,  2115.7,2, -999.00,9, -999.00,9
740H20200119,A05_24N,87,1,11,3044,2,20200212,1543,  23.76762, -45.80233,  4564,  4634.8,  2.3199,2,  2.3197,2, 34.8818,2, 34.8827,2,   253.4,2,   253.5,2,   44.46,2,   21.18,2,    1.44,2,  2335.7,6,  2192.0,6, -999.00,9, -999.00,9
740H20200119,A05_24N,87,1,12,3045,2,20200212,1543,  23.76762, -45.80233,  4564,  4319.6,  2.2891,2,  2.2890,2, 34.8824,2, 34.8824,2,   253.6,2,   253.3,2,   44.39,2,   21.15,2,    1.44,2,  2336.9,2,  2194.1,2, -999.00,9, -999.00,9
740H20200119,A05_24N,87,1,13,3046,2,20200212,1543,  23.76762, -45.80233,  4564,  3808.2,  2.4224,2,  2.4232,2, 34.8979,2, 34.8976,2,   252.8,2,   252.7,2,   41.17,2,   20.94,2,    1.42,2,  2333.3,6,  2189.6,6, -999.00,9, -999.00,9
740H20200119,A05_24N,87,1,14,7131,2,20200212,1543,  23.76762, -45.80233,  4564,  3293.2,  2.6491,2,  2.6545,2, 34.9218,2, 34.9225,2,   248.6,2,   248.6,2,   37.79,2,   20.85,2,    1.41,2,  2336.0,2,  2187.7,2, -999.00,9, -999.00,9
740H20200119,A05_24N,87,1,15,3048,2,20200212,1543,  23.76762, -45.80233,  4564,  2784.7,  2.8455,2,  2.8500,2, 34.9412,2, 34.9411,2,   248.5,2,   248.1,2,   33.52,2,   20.41,2,    1.37,2,  2327.5,2,  2186.9,2, -999.00,9, -999.00,9
740H20200119,A05_24N,87,1,16,3049,2,20200212,1543,  23.76762, -45.80233,  4564,  2277.0,  3.4120,2,  3.4135,2, 34.9897,2, 34.9896,2,   246.5,2,   246.7,2,   25.78,2,   19.75,2,    1.32,2,  -999.0,9,  -999.0,9, -999.00,9, -999.00,9
740H20200119,A05_24N,87,1,17,3050,2,20200212,1543,  23.76762, -45.80233,  4564,  1771.6,  4.4069,2,  4.4442,2, 35.0654,2, 35.0652,2,   237.1,2,   237.9,2,   18.31,2,   19.53,2,    1.29,2,  2320.9,2,  2175.5,2, -999.00,9, -999.00,9
740H20200119,A05_24N,87,1,18,3051,2,20200212,1543,  23.76762, -45.80233,  4564,  1517.1,  4.9857,2,  4.9891,2, 35.0719,2, 35.0729,2,   223.5,2,   224.3,2,   16.61,2,   20.47,2,    1.35,2,  2321.5,6,  2179.0,6, -999.00,9, -999.00,9
740H20200119,A05_24N,87,1,19,3052,2,20200212,1543,  23.76762, -45.80233,  4564,  1313.8,  5.4553,2,  5.4757,2, 35.0331,2, 35.0338,2,   202.0,2,   203.6,2,   17.31,2,   22.67,2,    1.49,2,  2313.9,2,  2187.2,2, -999.00,9, -999.00,9
740H20200119,A05_24N,87,1,20,3053,2,20200212,1543,  23.76762, -45.80233,  4564,  1160.9,  5.9648,2,  5.9708,2, 35.0149,2, 35.0157,2,   179.7,2,   182.5,2,   18.70,2,   24.86,2,    1.62,2,  2315.6,2,  2193.6,2, -999.00,9, -999.00,9
740H20200119,A05_24N,87,1,21,3054,2,20200212,1543,  23.76762, -45.80233,  4564,  1059.2,  6.4323,2,  6.4457,2, 35.0102,2, 35.0093,2,   162.7,2,   164.3,2,   19.57,2,   26.64,2,    1.73,2,  2313.8,2,  2202.7,2, -999.00,9, -999.00,9
740H20200119,A05_24N,87,1,22,3055,2,20200212,1543,  23.76762, -45.80233,  4564,   958.3,  6.9944,2,  7.0134,2, 35.0360,2, 35.0308,2,   149.2,2,   153.4,2,   19.42,2,   27.51,2,    1.78,2,  2315.7,2,  2205.2,2, -999.00,9, -999.00,9
740H20200119,A05_24N,87,1,23,3056,2,20200212,1543,  23.76762, -45.80233,  4564,   856.4,  8.1861,2,  8.2347,2, 35.1543,2, 35.1489,2,   141.3,2,   144.1,2,   16.86,2,   26.52,2,    1.68,2,  2319.1,2,  2201.8,2, -999.00,9, -999.00,9
740H20200119,A05_24N,87,1,24,3057,2,20200212,1543,  23.76762, -45.80233,  4564,   755.5,  9.8037,2,  9.8497,2, 35.3696,2, 35.3483,2,   146.7,2,   149.3,2,   12.78,2,   23.31,2,    1.45,2,  2323.0,6,  2200.2,6, -999.00,9, -999.00,9
740H20200119,A05_24N,87,1,1,3034,2,20200212,1543,  23.76762, -45.80233,  4564,   654.2, 11.4413,2, 11.4607,2, 35.5549,2, 35.5461,2,   149.7,2,   152.1,2,    8.84,2,   19.99,2,    1.21,2,  2330.8,6,  2184.6,2, -999.00,9, -999.00,9
740H20200119,A05_24N,87,1,2,3035,2,20200212,1543,  23.76762, -45.80233,  4564,   502.6, 13.7224,2, 13.7519,2, 35.8539,2, 35.8460,2,   168.0,2,   170.5,2,    4.84,2,   14.07,2,    0.83,2,  2347.2,2,  2171.0,2, -999.00,9, -999.00,9
740H20200119,A05_24N,87,1,3,3036,2,20200212,1543,  23.76762, -45.80233,  4564,   376.4, 15.5653,2, 15.6100,2, 36.1244,2, 36.1153,2,   177.7,2,   178.6,2,    3.20,2,   10.38,2,    0.59,2,  2359.8,2,  2153.6,2, -999.00,9, -999.00,9
740H20200119,A05_24N,87,1,4,3037,2,20200212,1543,  23.76762, -45.80233,  4564,   250.3, 18.4404,2, 18.5139,2, 36.6059,2, 36.5901,2,   179.7,2,   180.5,2,    1.54,2,    5.99,2,    0.31,2,  2389.6,2,  -999.0,9, -999.00,9, -999.00,9
740H20200119,A05_24N,87,1,5,3038,2,20200212,1543,  23.76762, -45.80233,  4564,   174.2, 20.5383,2, 20.5340,2, 36.9793,2, 36.9749,2,   188.0,2,   188.7,2,    0.74,2,    2.21,2,    0.10,2,  2410.6,2,  2156.4,2, -999.00,9, -999.00,9
740H20200119,A05_24N,87,1,6,6410,2,20200212,1543,  23.76762, -45.80233,  4564,   149.4, 21.4122,2, 21.4617,2, 37.1261,2, 37.0932,2,   192.4,2,   191.9,2,    0.63,2,    1.58,2,    0.07,2,  2421.1,2,  2142.0,2, -999.00,9, -999.00,9
740H20200119,A05_24N,87,1,7,6411,2,20200212,1543,  23.76762, -45.80233,  4564,    99.0, 23.9245,2, 23.9237,2, 37.5393,2, 37.5415,2,   207.6,2,   207.2,2,    0.51,2,    0.20,2,    0.02,2,  2446.3,2,  2116.3,2, -999.00,9, -999.00,9
740H20200119,A05_24N,87,1,8,6412,4,20200212,1543,  23.76762, -45.80233,  4564,    74.6, 23.9721,2, 23.9667,2, 37.5452,2,-999.0000,9,   209.1,2,  -999.0,5, -999.00,9, -999.00,9, -999.00,9,  -999.0,9,  -999.0,9, -999.00,9, -999.00,9
740H20200119,A05_24N,87,1,9,6413,2,20200212,1543,  23.76762, -45.80233,  4564,    49.1, 23.9678,2, 23.9635,2, 37.5312,2, 37.5310,2,   209.2,2,   326.1,4,    0.52,2,    0.20,2,    0.01,2,  2450.2,2,  2114.0,2, -999.00,9, -999.00,9
740H20200119,A05_24N,87,1,10,3043,2,20200212,1543,  23.76762, -45.80233,  4564,     6.3, 24.0301,2, 24.0342,2, 37.5357,2, 37.5364,2,   209.3,2,   208.6,2,    0.50,2,    0.20,2,    0.01,2,  2451.0,2,  2114.5,2, -999.00,9, -999.00,9
740H20200119,A05_24N,88,1,11,3044,2,20200212,2228,  23.73242, -45.26874,  4540,  4604.0,  2.3480,2,  2.3477,2, 34.8843,2, 34.8842,2,   254.5,2,   253.5,2,   43.96,2,   20.71,2,    1.42,2,  2337.0,6,  2192.4,6, -999.00,9, -999.00,9
740H20200119,A05_24N,88,1,12,3045,2,20200212,2228,  23.73242, -45.26874,  4540,  4080.9,  2.3015,2,  2.3016,2, 34.8856,2, 34.8863,2,   253.1,2,   253.4,2,   43.60,2,   20.70,2,    1.42,2,  2332.4,2,  2190.5,2, -999.00,9, -999.00,9
740H20200119,A05_24N,88,1,13,3046,2,20200212,2228,  23.73242, -45.26874,  4540,  3564.4,  2.6224,2,  2.6241,2, 34.9165,2, 34.9162,2,   249.6,2,   250.5,2,   38.38,2,   20.54,2,    1.40,2,  2337.0,6,  2190.9,6, -999.00,9, -999.00,9
740H20200119,A05_24N,88,1,14,7131,2,20200212,2228,  23.73242, -45.26874,  4540,  3050.3,  2.7050,2,  2.7066,2, 34.9292,2, 34.9291,2,   247.7,2,   247.7,2,   36.48,2,   20.48,2,    1.39,2,  2332.5,2,  2190.3,2, -999.00,9, -999.00,9
740H20200119,A05_24N,88,1,15,3048,2,20200212,2228,  23.73242, -45.26874,  4540,  2485.8,  3.0693,2,  3.0691,2, 34.9625,2, 34.9621,2,   248.3,2,   248.4,2,   29.38,2,   19.71,2,    1.34,2,  2327.4,6,  2182.5,6, -999.00,9, -999.00,9
740H20200119,A05_24N,88,1,16,3049,2,20200212,2228,  23.73242, -45.26874,  4540,  2025.0,  3.8088,2,  3.8055,2, 35.0192,2, 35.0193,2,   243.9,2,   244.9,2,   21.79,2,   19.24,2,    1.29,2,  2322.3,2,  2174.8,2, -999.00,9, -999.00,9
740H20200119,A05_24N,88,1,17,3050,2,20200212,2228,  23.73242, -45.26874,  4540,  1642.9,  4.7883,2,  4.7958,2, 35.0697,2, 35.0707,2,   229.1,2,   230.1,2,   16.72,2,   19.33,2,    1.30,2,  2315.4,2,  2177.3,2, -999.00,9, -999.00,9
740H20200119,A05_24N,88,1,18,3051,2,20200212,2228,  23.73242, -45.26874,  4540,  1413.1,  5.2876,2,  5.2954,2, 35.0418,2, 35.0432,2,   210.4,2,   212.2,2,   16.58,2,   21.05,2,    1.40,2,  2314.9,2,  2184.0,2, -999.00,9, -999.00,9
740H20200119,A05_24N,88,1,19,3052,2,20200212,2228,  23.73242, -45.26874,  4540,  1210.1,  5.7415,2,  5.7521,2, 35.0082,2, 35.0085,2,   185.4,2,   187.6,2,   18.67,2,   23.67,2,    1.59,2,  2312.3,6,  2193.0,6, -999.00,9, -999.00,9
740H20200119,A05_24N,88,1,20,3053,2,20200212,2228,  23.73242, -45.26874,  4540,  1108.5,  5.9921,2,  5.9929,2, 34.9790,2, 34.9787,2,   169.2,2,   171.8,2,   20.07,2,   25.49,2,    1.71,2,  2314.8,2,  2203.1,2, -999.00,9, -999.00,9
740H20200119,A05_24N,88,1,21,3054,2,20200212,2228,  23.73242, -45.26874,  4540,  1007.2,  6.7644,2,  6.7773,2, 35.0055,2, 35.0020,2,   150.7,2,   156.0,2,   19.90,2,   26.96,2,    1.77,2,  2311.7,2,  2205.4,2, -999.00,9, -999.00,9
740H20200119,A05_24N,88,1,22,3055,2,20200212,2228,  23.73242, -45.26874,  4540,   906.2,  7.5534,2,  7.5551,2, 35.0858,2, 35.0844,2,   143.6,2,   148.7,2,   18.02,2,   26.78,2,    1.72,2,  2315.7,2,  2208.7,2, -999.00,9, -999.00,9
740H20200119,A05_24N,88,1,23,3056,2,20200212,2228,  23.73242, -45.26874,  4540,   830.2,  8.5657,2,  8.6142,2, 35.1983,2, 35.2007,2,   140.8,2,   144.9,2,   15.51,2,   25.48,2,    1.60,2,  2319.9,6,  2204.2,6, -999.00,9, -999.00,9
740H20200119,A05_24N,88,1,24,3057,2,20200212,2228,  23.73242, -45.26874,  4540,   703.3, 11.1317,2, 11.1777,2, 35.5133,2, 35.4921,2,   146.6,2,   148.7,2,    9.58,2,   20.88,2,    1.25,2,  2327.9,2,  2189.7,2, -999.00,9, -999.00,9
740H20200119,A05_24N,88,1,1,3034,2,20200212,2228,  23.73242, -45.26874,  4540,   607.3, 12.2215,2, 12.2353,2, 35.6525,2, 35.6479,2,   157.5,2,   159.6,2,    6.85,2,   17.78,2,    1.03,2,  2334.8,6,  2179.8,6, -999.00,9, -999.00,9
740H20200119,A05_24N,88,1,2,3035,2,20200212,2228,  23.73242, -45.26874,  4540,   505.9, 13.6123,2, 13.6700,2, 35.8394,2, 35.8250,2,   166.0,2,   167.2,2,    4.90,2,   14.76,2,    0.83,2,  2346.5,2,  2171.1,2, -999.00,9, -999.00,9
740H20200119,A05_24N,88,1,3,3036,2,20200212,2228,  23.73242, -45.26874,  4540,   445.1, 14.3567,2, 14.3662,2, 35.9320,2, 35.9290,2,   149.7,2,   155.5,2,    4.59,2,   14.90,2,    0.83,2,  2348.6,2,  2173.7,2, -999.00,9, -999.00,9
740H20200119,A05_24N,88,1,4,3037,2,20200212,2228,  23.73242, -45.26874,  4540,   304.3, 16.9656,2, 17.0336,2, 36.3488,2, 36.3421,2,   177.8,2,   179.3,2,    2.10,2,    8.18,2,    0.42,2,  2272.5,4,  2150.3,2, -999.00,9, -999.00,9
740H20200119,A05_24N,88,1,5,3038,2,20200212,2228,  23.73242, -45.26874,  4540,   203.5, 19.6306,2, 19.6523,2, 36.7950,2, 36.7605,2,   188.3,2,   190.1,2,    0.81,2,    3.08,2,    0.11,2,  2398.4,2,  2135.4,2, -999.00,9, -999.00,9
740H20200119,A05_24N,88,1,6,6410,2,20200212,2228,  23.73242, -45.26874,  4540,   127.8, 22.2060,2, 22.5788,2, 37.1674,2, 37.1476,2,   199.1,2,   197.6,2,    0.41,2,    0.74,2,    0.01,2,  2425.9,2,  2128.9,2, -999.00,9, -999.00,9
740H20200119,A05_24N,88,1,7,6411,2,20200212,2228,  23.73242, -45.26874,  4540,   102.4, 24.0439,2, 24.0578,2, 37.5351,2, 37.5244,2,   208.6,2,   207.5,2,    0.42,2,    0.19,2,   -0.01,2,  2447.2,2,  2109.3,2, -999.00,9, -999.00,9
740H20200119,A05_24N,88,1,8,6412,2,20200212,2228,  23.73242, -45.26874,  4540,    82.3, 24.0712,2, 24.0705,2, 37.5401,2, 37.5406,2,   208.7,2,   208.1,2,    0.46,2,    0.19,2,   -0.01,2,  2450.5,2,  2110.9,2, -999.00,9, -999.00,9
740H20200119,A05_24N,88,1,9,6413,2,20200212,2228,  23.73242, -45.26874,  4540,    53.4, 24.0941,2, 24.0920,2, 37.5318,2, 37.5313,2,   209.9,2,   208.3,2,    0.49,2,    0.20,2,    0.00,2,  2449.0,2,  2109.9,2, -999.00,9, -999.00,9
740H20200119,A05_24N,88,1,10,3043,2,20200212,2228,  23.73242, -45.26874,  4540,     6.9, 24.1287,2, 24.1267,2, 37.5337,2, 37.5337,2,   209.1,2,   208.5,2,    0.54,2,    0.20,2,    0.01,2,  2450.0,2,  2109.1,2, -999.00,9, -999.00,9