BOTTLE,20221012CCHSIOENA
EXPOCODE,SECT_ID,STNNBR,CASTNO,SAMPNO,BTLNBR,BTLNBR_FLAG_W,DATE,TIME,LATITUDE,LONGITUDE,DEPTH,CTDPRS,CTDTMP,CTDTMP_FLAG_W,SBE35,SBE35_FLAG_W,CTDSAL,CTDSAL_FLAG_W,SALNTY,SALNTY_FLAG_W,CTDOXY,CTDOXY_FLAG_W,OXYGEN,OXYGEN_FLAG_W,SILCAT,SILCAT_FLAG_W,NO2+NO3,NO2+NO3_FLAG_W,PHSPHT,PHSPHT_FLAG_W,ALKALI,ALKALI_FLAG_W,TCARBN,TCARBN_FLAG_W,DELC14,DELC14_FLAG_W,DELC13,DELC13_FLAG_W
 , , , , , , , , , , , ,DBAR,ITS-90, ,ITS-90, ,PSS-78, ,PSS-78, ,UMOL/KG, ,UMOL/KG, ,UMOL/KG, ,UMOL/KG, ,UMOL/KG, ,UMOL/KG, ,UMOL/KG, ,/MILLE, ,/MILLE, 
740H20200119,A05_24N,35,1,11,3044,2,20200126,1733,  26.50068, -74.80107,  4537,  4606.3,  2.1152,2,-999.0000,9, 34.8671,2, 34.8674,2,   254.1,2,   254.7,2,   45.06,2,   21.28,2,    1.43,2,  2317.9,4,  2197.5,6, -999.00,9, -999.00,9
740H20200119,A05_24N,35,1,12,3045,2,20200126,1733,  26.50068, -74.80107,  4537,  4316.0,  2.2105,2,-999.0000,9, 34.8828,2, 34.8832,2,   261.6,2,   262.6,2,   34.47,2,   19.45,2,    1.31,2,  2333.4,2,  2187.5,2, -999.00,9, -999.00,9
740H20200119,A05_24N,35,1,13,3046,2,20200126,1733,  26.50068, -74.80107,  4537,  4062.7,  2.2299,2,-999.0000,9, 34.8876,2, 34.8886,2,   264.2,2,   264.7,2,   31.20,2,   18.93,2,    1.26,2,  2270.9,4,  2172.1,2, -999.00,9, -999.00,9
740H20200119,A05_24N,35,1,14,7131,2,20200126,1733,  26.50068, -74.80107,  4537,  3551.6,  2.3513,2,-999.0000,9, 34.9003,2, 34.9005,2,   268.4,2,   269.3,2,   25.22,2,   18.06,2,    1.20,2,  2321.6,6,  2175.4,6, -999.00,9, -999.00,9
740H20200119,A05_24N,35,1,15,3048,2,20200126,1733,  26.50068, -74.80107,  4537,  3037.0,  2.6338,2,-999.0000,9, 34.9181,2, 34.9182,2,   268.1,2,   268.8,2,   21.15,2,   17.77,2,    1.18,2,  2311.8,2,  2167.3,6, -999.00,9, -999.00,9
740H20200119,A05_24N,35,1,16,3049,2,20200126,1733,  26.50068, -74.80107,  4537,  2528.4,  3.0444,2,-999.0000,9, 34.9415,2, 34.9421,2,   263.7,2,   264.0,2,   19.22,2,   18.09,2,    1.19,2,  2315.1,2,  2172.9,2, -999.00,9, -999.00,9
740H20200119,A05_24N,35,1,17,3050,2,20200126,1733,  26.50068, -74.80107,  4537,  2277.4,  3.3015,2,-999.0000,9, 34.9524,2, 34.9524,2,   262.8,2,   263.3,2,   17.38,2,   18.08,2,    1.18,2,  -999.0,9,  -999.0,9, -999.00,9, -999.00,9
740H20200119,A05_24N,35,1,18,3051,2,20200126,1733,  26.50068, -74.80107,  4537,  2022.0,  3.5875,2,-999.0000,9, 34.9651,2, 34.9651,2,   261.3,2,   262.3,2,   15.38,2,   18.07,2,    1.18,2,  2313.1,2,  2167.9,2, -999.00,9, -999.00,9
740H20200119,A05_24N,35,1,19,3052,2,20200126,1733,  26.50068, -74.80107,  4537,  1771.3,  3.8922,2,-999.0000,9, 34.9798,2, 34.9793,2,   258.7,2,   259.2,2,   13.81,2,   18.06,2,    1.18,2,  2310.2,2,  2167.7,2, -999.00,9, -999.00,9
740H20200119,A05_24N,35,1,20,3053,2,20200126,1733,  26.50068, -74.80107,  4537,  1516.1,  4.2362,2,-999.0000,9, 34.9976,2, 34.9973,2,   255.0,2,   255.3,2,   12.65,2,   18.13,2,    1.17,2,  2311.4,2,  2172.3,2, -999.00,9, -999.00,9
740H20200119,A05_24N,35,1,21,3054,2,20200126,1733,  26.50068, -74.80107,  4537,  1261.8,  5.0387,2,-999.0000,9, 35.0541,2, 35.0536,2,   235.4,2,   236.2,2,   12.84,2,   19.12,2,    1.23,2,  2312.8,2,  2173.3,2, -999.00,9, -999.00,9
740H20200119,A05_24N,35,1,22,3055,2,20200126,1733,  26.50068, -74.80107,  4537,  1006.7,  6.7257,2,-999.0000,9, 35.0779,2, 35.0810,2,   182.5,2,   184.1,2,   15.20,2,   23.16,2,    1.49,2,  2322.1,6,  2195.5,2, -999.00,9, -999.00,9
740H20200119,A05_24N,35,1,23,3056,2,20200126,1733,  26.50068, -74.80107,  4537,   883.0,  8.7975,2,-999.0000,9, 35.1848,2, 35.1776,2,   147.2,2,   152.0,2,   14.54,2,   24.72,2,    1.55,2,  2311.2,2,  2195.8,2, -999.00,9, -999.00,9
740H20200119,A05_24N,35,1,24,3057,2,20200126,1733,  26.50068, -74.80107,  4537,   755.3, 11.4777,2,-999.0000,9, 35.4842,2, 35.4729,2,   143.2,2,   146.0,2,    9.95,2,   21.04,2,    1.27,2,  2325.8,6,  2189.3,6, -999.00,9, -999.00,9
740H20200119,A05_24N,35,1,1,3034,4,20200126,1733,  26.50068, -74.80107,  4537,   629.6, 14.3354,2,-999.0000,9, 35.8935,2,-999.0000,9,   162.3,2,  -999.0,5, -999.00,9, -999.00,9, -999.00,9,  -999.0,9,  -999.0,9, -999.00,9, -999.00,9
740H20200119,A05_24N,35,1,2,3035,2,20200126,1733,  26.50068, -74.80107,  4537,   504.8, 16.9441,2,-999.0000,9, 36.3225,2, 36.3028,2,   175.1,2,   177.2,2,    2.72,2,    8.79,2,    0.46,2,  2373.9,2,  2146.6,2, -999.00,9, -999.00,9
740H20200119,A05_24N,35,1,3,3036,2,20200126,1733,  26.50068, -74.80107,  4537,   377.7, 18.6799,2,-999.0000,9, 36.5891,2, 36.5818,2,   192.3,2,   192.5,2,    1.33,2,    4.32,2,    0.19,2,  2389.0,2,  2125.8,2, -999.00,9, -999.00,9
740H20200119,A05_24N,35,1,4,3037,2,20200126,1733,  26.50068, -74.80107,  4537,   253.0, 19.5864,2,-999.0000,9, 36.6809,2, 36.6761,2,   196.3,2,   197.5,2,    0.90,2,    2.30,2,    0.08,2,  2397.2,2,  2119.3,2, -999.00,9, -999.00,9
740H20200119,A05_24N,35,1,5,3038,2,20200126,1733,  26.50068, -74.80107,  4537,   177.3, 20.9894,2,-999.0000,9, 36.7844,2, 36.7736,2,   190.9,2,   192.2,2,    0.71,2,    1.34,2,    0.03,2,  2400.4,2,  2115.0,2, -999.00,9, -999.00,9
740H20200119,A05_24N,35,1,6,6410,2,20200126,1733,  26.50068, -74.80107,  4537,   147.2, 22.4018,2,-999.0000,9, 36.7959,2, 36.7978,2,   201.4,2,   197.7,2,    0.69,2,    0.65,2,    0.01,2,  2407.1,2,  2104.2,2, -999.00,9, -999.00,9
740H20200119,A05_24N,35,1,7,6411,2,20200126,1733,  26.50068, -74.80107,  4537,   126.4, 23.1474,2,-999.0000,9, 36.7663,2, 36.7789,2,   208.2,2,   207.0,2,    0.66,2,    0.08,2,   -0.01,2,  2402.7,2,  2078.0,2, -999.00,9, -999.00,9
740H20200119,A05_24N,35,1,8,6412,2,20200126,1733,  26.50068, -74.80107,  4537,   101.9, 23.6158,2,-999.0000,9, 36.8209,2, 36.8211,2,   209.6,2,   209.7,2,    0.74,2,    0.02,2,   -0.01,2,  2410.1,6,  2067.9,6, -999.00,9, -999.00,9
740H20200119,A05_24N,35,1,9,6413,2,20200126,1733,  26.50068, -74.80107,  4537,    57.2, 23.6186,2,-999.0000,9, 36.8226,2, 36.8237,2,   209.9,2,   209.7,2,    0.76,2,    0.03,2,   -0.01,2,  2402.9,2,  2066.3,2, -999.00,9, -999.00,9
740H20200119,A05_24N,35,1,10,3043,2,20200126,1733,  26.50068, -74.80107,  4537,     6.7, 23.8188,2,-999.0000,9, 36.8481,2, 36.8492,2,   209.8,2,   209.3,2,    0.80,2,    0.02,2,   -0.01,2,  2404.8,2,  2067.5,2, -999.00,9, -999.00,9
740H20200119,A05_24N,36,1,11,3044,2,20200126,2249,  26.49968, -74.51728,  4496,  4562.3,  2.1350,2,-999.0000,9, 34.8702,2, 34.8704,2,   254.7,2,   256.5,2,   43.46,2,   20.83,2,    1.42,2,  -999.0,9,  2194.4,6, -999.00,9, -999.00,9
740H20200119,A05_24N,36,1,12,3045,2,20200126,2249,  26.49968, -74.51728,  4496,  4335.1,  2.1901,2,-999.0000,9, 34.8801,2, 34.8807,2,   259.9,2,   261.8,2,   36.83,2,   19.70,2,    1.33,2,  -999.0,9,  -999.0,9, -999.00,9, -999.00,9
740H20200119,A05_24N,36,1,13,3046,2,20200126,2249,  26.49968, -74.51728,  4496,  3818.3,  2.2606,2,-999.0000,9, 34.8921,2, 34.8925,2,   266.2,2,   268.2,2,   28.54,2,   18.41,2,    1.23,2,  2321.6,2,  2175.1,2, -999.00,9, -999.00,9
740H20200119,A05_24N,36,1,14,7131,2,20200126,2249,  26.49968, -74.51728,  4496,  3303.3,  2.4353,2,-999.0000,9, 34.9064,2, 34.9064,2,   268.1,2,   270.2,2,   23.57,2,   17.83,2,    1.18,2,  2317.4,6,  2175.1,6, -999.00,9, -999.00,9
740H20200119,A05_24N,36,1,15,3048,2,20200126,2249,  26.49968, -74.51728,  4496,  2789.6,  2.8209,2,-999.0000,9, 34.9291,2, 34.9292,2,   265.4,2,   267.1,2,   20.57,2,   17.86,2,    1.18,2,  2318.2,2,  2176.5,2, -999.00,9, -999.00,9
740H20200119,A05_24N,36,1,16,3049,2,20200126,2249,  26.49968, -74.51728,  4496,  2533.0,  3.0364,2,-999.0000,9, 34.9423,2, 34.9426,2,   262.5,2,   264.6,2,   19.77,2,   18.06,2,    1.19,2,  -999.0,9,  2172.8,2, -999.00,9, -999.00,9
740H20200119,A05_24N,36,1,17,3050,2,20200126,2249,  26.49968, -74.51728,  4496,  2277.6,  3.2968,2,-999.0000,9, 34.9570,2, 34.9568,2,   260.8,2,   262.7,2,   18.22,2,   18.14,2,    1.18,2,  2316.6,2,  2169.6,2, -999.00,9, -999.00,9
740H20200119,A05_24N,36,1,18,3051,2,20200126,2249,  26.49968, -74.51728,  4496,  2021.8,  3.6164,2,-999.0000,9, 34.9811,2, 34.9812,2,   257.2,2,   259.2,2,   16.89,2,   18.31,2,    1.19,2,  -999.0,9,  -999.0,9, -999.00,9, -999.00,9
740H20200119,A05_24N,36,1,19,3052,2,20200126,2249,  26.49968, -74.51728,  4496,  1766.2,  3.9061,2,-999.0000,9, 34.9861,2, 34.9855,2,   257.1,2,   259.1,2,   14.10,2,   18.03,2,    1.17,2,  2312.4,2,  2170.5,2, -999.00,9, -999.00,9
740H20200119,A05_24N,36,1,20,3053,2,20200126,2249,  26.49968, -74.51728,  4496,  1511.6,  4.4147,2,-999.0000,9, 35.0292,2, 35.0287,2,   248.4,2,   250.2,2,   13.42,2,   18.38,2,    1.19,2,  2315.5,2,  2172.4,2, -999.00,9, -999.00,9
740H20200119,A05_24N,36,1,21,3054,2,20200126,2249,  26.49968, -74.51728,  4496,  1256.6,  4.9764,2,-999.0000,9, 35.0414,2, 35.0401,2,   238.3,2,   241.2,2,   12.50,2,   18.76,2,    1.21,2,  2313.8,2,  2177.9,2, -999.00,9, -999.00,9
740H20200119,A05_24N,36,1,22,3055,2,20200126,2249,  26.49968, -74.51728,  4496,  1002.8,  6.8679,2,-999.0000,9, 35.0991,2, 35.0943,2,   183.2,2,   187.7,2,   14.64,2,   22.48,2,    1.45,2,  2273.1,4,  2190.6,2, -999.00,9, -999.00,9
740H20200119,A05_24N,36,1,23,3056,2,20200126,2249,  26.49968, -74.51728,  4496,   880.8,  8.6055,2,-999.0000,9, 35.1770,2, 35.1740,2,   151.9,2,   154.6,2,   14.44,2,   24.07,2,    1.52,2,  2320.9,2,  2202.1,2, -999.00,9, -999.00,9
740H20200119,A05_24N,36,1,24,3057,2,20200126,2249,  26.49968, -74.51728,  4496,   804.6, 10.3415,2,-999.0000,9, 35.3390,2, 35.3309,2,   140.7,2,   143.5,2,   12.14,2,   22.93,2,    1.42,2,  2326.6,6,  2188.1,2, -999.00,9, -999.00,9
740H20200119,A05_24N,36,1,1,3034,2,20200126,2249,  26.49968, -74.51728,  4496,   749.1, 11.3022,2,-999.0000,9, 35.4579,2, 35.4408,2,   143.4,2,   146.9,2,   10.50,2,   21.39,2,    1.30,2,  2331.8,2,  2191.5,2, -999.00,9, -999.00,9
740H20200119,A05_24N,36,1,2,3035,2,20200126,2249,  26.49968, -74.51728,  4496,   627.3, 14.1079,2,-999.0000,9, 35.8596,2, 35.8374,2,   163.8,2,   165.1,2,    5.73,2,   14.65,2,    0.84,2,  2347.3,2,  2161.3,2, -999.00,9, -999.00,9
740H20200119,A05_24N,36,1,3,3036,2,20200126,2249,  26.49968, -74.51728,  4496,   495.9, 17.0639,2,-999.0000,9, 36.3391,2, 36.3137,2,   177.0,2,   178.9,2,    2.75,2,    8.60,2,    0.44,2,  2376.4,2,  2150.8,2, -999.00,9, -999.00,9
740H20200119,A05_24N,36,1,4,3037,2,20200126,2249,  26.49968, -74.51728,  4496,   374.0, 18.6268,2,-999.0000,9, 36.5824,2, 36.5780,2,   192.0,2,   193.3,2,    1.44,2,    4.40,2,    0.18,2,  -999.0,9,  -999.0,9, -999.00,9, -999.00,9
740H20200119,A05_24N,36,1,5,3038,2,20200126,2249,  26.49968, -74.51728,  4496,   247.9, 19.5622,2,-999.0000,9, 36.6773,2, 36.6753,2,   195.7,2,   197.8,2,    1.01,2,    2.49,2,    0.07,2,  2398.8,6,  2119.9,6, -999.00,9, -999.00,9
740H20200119,A05_24N,36,1,6,6410,2,20200126,2249,  26.49968, -74.51728,  4496,   177.8, 20.7976,2,-999.0000,9, 36.7674,2, 36.7633,2,   191.0,2,   191.7,2,    0.87,2,    1.56,2,    0.03,2,  2393.9,6,  2123.7,2, -999.00,9, -999.00,9
740H20200119,A05_24N,36,1,7,6411,2,20200126,2249,  26.49968, -74.51728,  4496,   101.6, 23.2234,2,-999.0000,9, 36.7333,2, 36.7312,2,   210.8,2,   211.0,2,    0.92,2,    0.23,2,   -0.01,2,  2399.1,2,  2074.3,2, -999.00,9, -999.00,9
740H20200119,A05_24N,36,1,8,6412,2,20200126,2249,  26.49968, -74.51728,  4496,    81.7, 23.3939,2,-999.0000,9, 36.7594,2, 36.7580,2,   209.9,2,   210.2,2,    0.94,2,    0.24,2,    0.00,2,  2398.2,2,  2067.4,2, -999.00,9, -999.00,9
740H20200119,A05_24N,36,1,9,6413,2,20200126,2249,  26.49968, -74.51728,  4496,    51.7, 23.3775,2,-999.0000,9, 36.7413,2, 36.7421,2,   210.3,2,   209.8,2,    0.97,2,    0.24,2,    0.00,2,  2403.2,2,  2072.4,2, -999.00,9, -999.00,9
740H20200119,A05_24N,36,1,10,3043,2,20200126,2249,  26.49968, -74.51728,  4496,     6.5, 23.4650,2,-999.0000,9, 36.7443,2, 36.7448,2,   211.1,2,   210.7,2,    1.01,2,    0.24,2,    0.00,2,  2398.4,2,  2062.6,6, -999.00,9, -999.00,9
740H20200119,A05_24N,37,1,11,3044,2,20200127,0403,  26.49909, -74.23570,  4544,  4612.7,  2.1102,2,-999.0000,9, 34.8661,2, 34.8663,2,   253.8,2,   254.2,2,   45.20,2,   21.19,2,    1.44,2,  2341.2,6,  2199.7,6, -999.00,9, -999.00,9
740H20200119,A05_24N,37,1,12,3045,2,20200127,0403,  26.49909, -74.23570,  4544,  4062.8,  2.2415,2,-999.0000,9, 34.8885,2, 34.8882,2,   265.0,2,   266.1,2,   30.80,2,   18.75,2,    1.26,2,  2324.4,2,  2182.4,2, -999.00,9, -999.00,9
740H20200119,A05_24N,37,1,13,3046,2,20200127,0403,  26.49909, -74.23570,  4544,  3545.5,  2.3582,2,-999.0000,9, 34.9006,2, 34.9006,2,   268.0,2,   269.6,2,   25.26,2,   17.99,2,    1.20,2,  2318.8,2,  2170.8,2, -999.00,9, -999.00,9
740H20200119,A05_24N,37,1,14,7131,2,20200127,0403,  26.49909, -74.23570,  4544,  3245.4,  2.4783,2,-999.0000,9, 34.9092,2, 34.9097,2,   268.4,2,   269.0,2,   23.41,2,   17.88,2,    1.18,2,  2316.5,6,  2172.8,6, -999.00,9, -999.00,9
740H20200119,A05_24N,37,1,15,3048,2,20200127,0403,  26.49909, -74.23570,  4544,  3039.8,  2.6421,2,-999.0000,9, 34.9197,2, 34.9193,2,   266.1,2,   266.7,2,   23.07,2,   18.08,2,    1.20,2,  2319.2,2,  2170.6,2, -999.00,9, -999.00,9
740H20200119,A05_24N,37,1,16,3049,2,20200127,0403,  26.49909, -74.23570,  4544,  2526.9,  3.0438,2,-999.0000,9, 34.9454,2, 34.9452,2,   261.4,2,   262.2,2,   20.94,2,   18.38,2,    1.22,2,  2316.5,2,  2169.5,2, -999.00,9, -999.00,9
740H20200119,A05_24N,37,1,17,3050,2,20200127,0403,  26.49909, -74.23570,  4544,  2276.1,  3.3054,2,-999.0000,9, 34.9628,2, 34.9626,2,   259.1,2,   260.3,2,   19.42,2,   18.46,2,    1.22,2,  2315.3,2,  2169.9,2, -999.00,9, -999.00,9
740H20200119,A05_24N,37,1,18,3051,2,20200127,0403,  26.49909, -74.23570,  4544,  2020.7,  3.5722,2,-999.0000,9, 34.9784,2, 34.9788,2,   257.9,2,   258.7,2,   17.17,2,   18.36,2,    1.21,2,  2313.6,6,  2170.1,6, -999.00,9, -999.00,9
740H20200119,A05_24N,37,1,19,3052,2,20200127,0403,  26.49909, -74.23570,  4544,  1770.8,  3.8901,2,-999.0000,9, 34.9949,2, 34.9944,2,   256.0,2,   256.7,2,   15.00,2,   18.26,2,    1.19,2,  2312.4,2,  2167.1,2, -999.00,9, -999.00,9
740H20200119,A05_24N,37,1,20,3053,2,20200127,0403,  26.49909, -74.23570,  4544,  1515.7,  4.4384,2,-999.0000,9, 35.0376,2, 35.0362,2,   247.0,2,   248.3,2,   13.79,2,   18.54,2,    1.21,2,  2311.5,2,  2170.0,2, -999.00,9, -999.00,9
740H20200119,A05_24N,37,1,21,3054,2,20200127,0403,  26.49909, -74.23570,  4544,  1261.4,  4.9295,2,-999.0000,9, 35.0420,2, 35.0414,2,   239.7,2,   240.0,2,   12.59,2,   18.76,2,    1.22,2,  2311.7,2,  2175.4,2, -999.00,9, -999.00,9
740H20200119,A05_24N,37,1,22,3055,2,20200127,0403,  26.49909, -74.23570,  4544,  1007.7,  6.5582,2,-999.0000,9, 35.0844,2, 35.0855,2,   190.5,2,   191.3,2,   14.52,2,   22.12,2,    1.44,2,  2315.1,2,  2188.2,2, -999.00,9, -999.00,9
740H20200119,A05_24N,37,1,23,3056,2,20200127,0403,  26.49909, -74.23570,  4544,   881.0,  8.7027,2,-999.0000,9, 35.1909,2, 35.1791,2,   153.2,2,   155.3,2,   14.22,2,   23.82,2,    1.51,2,  2318.2,2,  2201.1,2, -999.00,9, -999.00,9
740H20200119,A05_24N,37,1,24,3057,2,20200127,0403,  26.49909, -74.23570,  4544,   830.0,  9.3351,2,-999.0000,9, 35.2388,2, 35.2389,2,   147.0,2,   146.4,2,   13.53,2,   23.78,2,    1.49,2,  2320.2,6,  2196.7,6, -999.00,9, -999.00,9
740H20200119,A05_24N,37,1,1,3034,2,20200127,0403,  26.49909, -74.23570,  4544,   754.1, 11.0235,2,-999.0000,9, 35.4239,2, 35.4108,2,   143.1,2,   143.0,2,   10.93,2,   21.85,2,    1.35,2,  2327.4,2,  2187.0,2, -999.00,9, -999.00,9
740H20200119,A05_24N,37,1,2,3035,2,20200127,0403,  26.49909, -74.23570,  4544,   627.7, 13.9138,2,-999.0000,9, 35.8307,2, 35.8321,2,   159.7,2,   159.9,2,    5.88,2,   15.12,2,    0.89,2,  2348.4,2,  2167.4,2, -999.00,9, -999.00,9
740H20200119,A05_24N,37,1,3,3036,2,20200127,0403,  26.49909, -74.23570,  4544,   506.3, 16.2794,2,-999.0000,9, 36.2030,2, 36.1811,2,   174.4,2,   173.6,2,    3.36,2,   10.17,2,    0.56,2,  2363.3,2,  2149.6,2, -999.00,9, -999.00,9
740H20200119,A05_24N,37,1,4,3037,2,20200127,0403,  26.49909, -74.23570,  4544,   379.9, 18.2272,2,-999.0000,9, 36.5278,2, 36.5220,2,   189.8,2,   189.6,2,    1.64,2,    5.32,2,    0.24,2,  2385.9,2,  2133.4,2, -999.00,9, -999.00,9
740H20200119,A05_24N,37,1,5,3038,2,20200127,0403,  26.49909, -74.23570,  4544,   254.1, 19.3447,2,-999.0000,9, 36.6647,2, 36.6609,2,   200.5,2,   201.1,2,    1.02,2,    2.68,2,    0.10,2,  2392.4,2,  2114.4,2, -999.00,9, -999.00,9
740H20200119,A05_24N,37,1,6,6410,2,20200127,0403,  26.49909, -74.23570,  4544,   178.4, 20.2583,2,-999.0000,9, 36.7366,2, 36.7200,2,   191.3,2,   192.8,2,    0.82,2,    1.83,2,    0.04,2,  2398.5,2,  2122.5,2, -999.00,9, -999.00,9
740H20200119,A05_24N,37,1,7,6411,2,20200127,0403,  26.49909, -74.23570,  4544,   116.5, 22.9016,2,-999.0000,9, 36.8683,2, 36.8744,2,   211.3,2,   209.9,2,    0.64,2,    0.26,2,    0.00,2,  2409.4,6,  2092.5,6, -999.00,9, -999.00,9
740H20200119,A05_24N,37,1,8,6412,2,20200127,0403,  26.49909, -74.23570,  4544,   103.2, 23.1378,2,-999.0000,9, 36.7540,2, 36.7698,2,   210.9,2,   210.5,2,    0.80,2,    0.24,2,    0.00,2,  2398.7,2,  2071.1,2, -999.00,9, -999.00,9
740H20200119,A05_24N,37,1,9,6413,2,20200127,0403,  26.49909, -74.23570,  4544,    53.0, 23.7175,2,-999.0000,9, 36.8381,2, 36.8390,2,   210.0,2,   210.5,2,    0.79,2,    0.23,2,    0.00,2,  2405.1,2,  2069.8,2, -999.00,9, -999.00,9
740H20200119,A05_24N,37,1,10,3043,2,20200127,0403,  26.49909, -74.23570,  4544,     4.6, 23.7077,2,-999.0000,9, 36.8396,2, 36.8401,2,   210.2,2,   210.1,2,    0.81,2,    0.23,2,    0.00,2,  2403.9,6,  2068.2,6, -999.00,9, -999.00,9