BOTTLE,20221012CCHSIOENA
EXPOCODE,SECT_ID,STNNBR,CASTNO,SAMPNO,BTLNBR,BTLNBR_FLAG_W,DATE,TIME,LATITUDE,LONGITUDE,DEPTH,CTDPRS,CTDTMP,CTDTMP_FLAG_W,SBE35,SBE35_FLAG_W,CTDSAL,CTDSAL_FLAG_W,SALNTY,SALNTY_FLAG_W,CTDOXY,CTDOXY_FLAG_W,OXYGEN,OXYGEN_FLAG_W,SILCAT,SILCAT_FLAG_W,NO2+NO3,NO2+NO3_FLAG_W,PHSPHT,PHSPHT_FLAG_W,ALKALI,ALKALI_FLAG_W,TCARBN,TCARBN_FLAG_W,DELC14,DELC14_FLAG_W,DELC13,DELC13_FLAG_W
 , , , , , , , , , , , ,DBAR,ITS-90, ,ITS-90, ,PSS-78, ,PSS-78, ,UMOL/KG, ,UMOL/KG, ,UMOL/KG, ,UMOL/KG, ,UMOL/KG, ,UMOL/KG, ,UMOL/KG, ,/MILLE, ,/MILLE, 
740H20200119,A05_24N,95,1,11,6415,2,20200214,2333,  23.40022, -41.46703,  4953,  2023.1,  3.8115,2,  3.8090,2, 35.0069,2,-999.0000,9,   241.1,2,  -999.0,9, -999.00,9, -999.00,9, -999.00,9,  2332.4,6,  2175.7,6, -999.00,9, -999.00,9
740H20200119,A05_24N,95,1,12,6416,2,20200214,2333,  23.40022, -41.46703,  4953,  2023.1,  3.8103,2,  3.8112,2, 35.0070,2,-999.0000,9,   241.2,2,  -999.0,9, -999.00,9, -999.00,9, -999.00,9,  -999.0,9,  2177.0,6, -999.00,9, -999.00,9
740H20200119,A05_24N,95,1,13,6417,2,20200214,2333,  23.40022, -41.46703,  4953,  2023.2,  3.8108,2,-999.0000,9, 35.0070,2,-999.0000,9,   241.2,2,  -999.0,9, -999.00,9, -999.00,9, -999.00,9,  2318.8,6,  2175.3,6, -999.00,9, -999.00,9
740H20200119,A05_24N,95,1,14,6418,2,20200214,2333,  23.40022, -41.46703,  4953,  2023.2,  3.8104,2,-999.0000,9, 35.0069,2,-999.0000,9,   241.1,2,  -999.0,9, -999.00,9, -999.00,9, -999.00,9,  2332.8,6,  2175.3,6, -999.00,9, -999.00,9
740H20200119,A05_24N,95,1,15,6419,2,20200214,2333,  23.40022, -41.46703,  4953,  2023.1,  3.8101,2,-999.0000,9, 35.0069,2, 35.0070,2,   241.4,2,  -999.0,9, -999.00,9, -999.00,9, -999.00,9,  2322.9,6,  2176.5,6, -999.00,9, -999.00,9
740H20200119,A05_24N,95,1,16,6420,2,20200214,2333,  23.40022, -41.46703,  4953,  2023.1,  3.8101,2,-999.0000,9, 35.0070,2,-999.0000,9,   241.3,2,  -999.0,9, -999.00,9, -999.00,9, -999.00,9,  2323.8,6,  2174.2,6, -999.00,9, -999.00,9
740H20200119,A05_24N,95,1,17,1122,2,20200214,2333,  23.40022, -41.46703,  4953,  2023.2,  3.8100,2,  3.8123,2, 35.0071,2, 35.0075,2,   241.0,2,  -999.0,9, -999.00,9, -999.00,9, -999.00,9,  2321.3,6,  2175.0,6, -999.00,9, -999.00,9
740H20200119,A05_24N,95,1,18,1098,2,20200214,2333,  23.40022, -41.46703,  4953,  2023.1,  3.8100,2,-999.0000,9, 35.0070,2,-999.0000,9,   241.0,2,  -999.0,9, -999.00,9, -999.00,9, -999.00,9,  2319.4,6,  2176.5,6, -999.00,9, -999.00,9
740H20200119,A05_24N,95,1,19,6692,2,20200214,2333,  23.40022, -41.46703,  4953,  2023.1,  3.8101,2,-999.0000,9, 35.0070,2, 35.0100,2,   241.3,2,  -999.0,9, -999.00,9, -999.00,9, -999.00,9,  2343.4,6,  2180.0,6, -999.00,9, -999.00,9
740H20200119,A05_24N,95,1,20,6428,2,20200214,2333,  23.40022, -41.46703,  4953,  2023.2,  3.8100,2,-999.0000,9, 35.0069,2,-999.0000,9,   241.5,2,  -999.0,9, -999.00,9, -999.00,9, -999.00,9,  2320.8,6,  2176.1,6, -999.00,9, -999.00,9
740H20200119,A05_24N,95,1,21,6425,2,20200214,2333,  23.40022, -41.46703,  4953,  2023.0,  3.8101,2,-999.0000,9, 35.0069,2,-999.0000,9,   241.3,2,  -999.0,9, -999.00,9, -999.00,9, -999.00,9,  -999.0,9,  -999.0,9, -999.00,9, -999.00,9
740H20200119,A05_24N,95,1,22,6426,2,20200214,2333,  23.40022, -41.46703,  4953,  2023.1,  3.8100,2,  3.8121,2, 35.0071,2,-999.0000,9,   241.4,2,  -999.0,9, -999.00,9, -999.00,9, -999.00,9,  -999.0,9,  -999.0,9, -999.00,9, -999.00,9
740H20200119,A05_24N,95,1,23,6427,2,20200214,2333,  23.40022, -41.46703,  4953,    40.0, 23.7045,2, 23.6885,2, 37.5328,2,-999.0000,9,   210.4,2,  -999.0,9, -999.00,9, -999.00,9, -999.00,9,  -999.0,9,  -999.0,9, -999.00,9, -999.00,9
740H20200119,A05_24N,95,1,24,1086,2,20200214,2333,  23.40022, -41.46703,  4953,    39.8, 23.6999,2, 23.7015,2, 37.5330,2,-999.0000,9,   209.9,2,  -999.0,9, -999.00,9, -999.00,9, -999.00,9,  -999.0,9,  -999.0,9, -999.00,9, -999.00,9
740H20200119,A05_24N,95,1,1,5977,2,20200214,2333,  23.40022, -41.46703,  4953,    40.5, 23.7051,2,-999.0000,9, 37.5331,2,-999.0000,9,   210.8,2,  -999.0,9, -999.00,9, -999.00,9, -999.00,9,  -999.0,9,  -999.0,9, -999.00,9, -999.00,9
740H20200119,A05_24N,95,1,2,6406,2,20200214,2333,  23.40022, -41.46703,  4953,    40.0, 23.7047,2,-999.0000,9, 37.5330,2,-999.0000,9,   210.6,2,  -999.0,9, -999.00,9, -999.00,9, -999.00,9,  -999.0,9,  -999.0,9, -999.00,9, -999.00,9
740H20200119,A05_24N,95,1,3,6407,2,20200214,2333,  23.40022, -41.46703,  4953,    39.9, 23.7042,2, 23.6874,2, 37.5329,2,-999.0000,9,   210.1,2,  -999.0,9, -999.00,9, -999.00,9, -999.00,9,  -999.0,9,  -999.0,9, -999.00,9, -999.00,9
740H20200119,A05_24N,95,1,4,6408,2,20200214,2333,  23.40022, -41.46703,  4953,    40.0, 23.7041,2,-999.0000,9, 37.5329,2,-999.0000,9,   210.5,2,  -999.0,9, -999.00,9, -999.00,9, -999.00,9,  -999.0,9,  -999.0,9, -999.00,9, -999.00,9
740H20200119,A05_24N,95,1,5,6409,2,20200214,2333,  23.40022, -41.46703,  4953,    39.6, 23.7036,2,-999.0000,9, 37.5330,2,-999.0000,9,   210.0,2,  -999.0,9, -999.00,9, -999.00,9, -999.00,9,  -999.0,9,  -999.0,9, -999.00,9, -999.00,9
740H20200119,A05_24N,95,1,6,6410,2,20200214,2333,  23.40022, -41.46703,  4953,    40.3, 23.7029,2,-999.0000,9, 37.5329,2,-999.0000,9,   210.5,2,  -999.0,9, -999.00,9, -999.00,9, -999.00,9,  -999.0,9,  -999.0,9, -999.00,9, -999.00,9
740H20200119,A05_24N,95,1,7,6411,2,20200214,2333,  23.40022, -41.46703,  4953,    39.8, 23.7025,2,-999.0000,9, 37.5331,2,-999.0000,9,   210.9,2,  -999.0,9, -999.00,9, -999.00,9, -999.00,9,  -999.0,9,  -999.0,9, -999.00,9, -999.00,9
740H20200119,A05_24N,95,1,8,6412,2,20200214,2333,  23.40022, -41.46703,  4953,    40.2, 23.7020,2, 23.7032,2, 37.5327,2,-999.0000,9,   210.4,2,  -999.0,9, -999.00,9, -999.00,9, -999.00,9,  -999.0,9,  -999.0,9, -999.00,9, -999.00,9
740H20200119,A05_24N,95,1,9,6413,2,20200214,2333,  23.40022, -41.46703,  4953,    39.9, 23.7023,2,-999.0000,9, 37.5331,2,-999.0000,9,   210.3,2,  -999.0,9, -999.00,9, -999.00,9, -999.00,9,  -999.0,9,  -999.0,9, -999.00,9, -999.00,9
740H20200119,A05_24N,95,1,10,6414,2,20200214,2333,  23.40022, -41.46703,  4953,    40.0, 23.7029,2,-999.0000,9, 37.5332,2,-999.0000,9,   210.1,2,  -999.0,9, -999.00,9, -999.00,9, -999.00,9,  -999.0,9,  -999.0,9, -999.00,9, -999.00,9
740H20200119,A05_24N,96,1,11,3044,2,20200215,0444,  23.44992, -41.05007,  4880,  4954.8,  2.3754,2,  2.3754,2, 34.8815,2, 34.8819,2,   248.0,2,   246.4,2,   47.60,2,   22.21,2,    1.49,2,  2344.4,6,  2197.5,6, -999.00,9, -999.00,9
740H20200119,A05_24N,96,1,12,3045,2,20200215,0444,  23.44992, -41.05007,  4880,  4833.4,  2.3661,2,  2.3656,2, 34.8822,2, 34.8822,2,   247.8,2,   246.0,2,   47.69,2,   22.23,2,    1.48,2,  2345.8,2,  2200.5,2, -999.00,9, -999.00,9
740H20200119,A05_24N,96,1,13,3046,2,20200215,0444,  23.44992, -41.05007,  4880,  4316.6,  2.3598,2,  2.3598,2, 34.8878,2, 34.8882,2,   247.0,2,   245.7,2,   46.60,2,   22.10,2,    1.49,2,  2344.2,2,  2197.5,2, -999.00,9, -999.00,9
740H20200119,A05_24N,96,1,14,7131,2,20200215,0444,  23.44992, -41.05007,  4880,  3806.4,  2.4328,2,  2.4306,2, 34.9003,2, 34.9016,2,   246.5,2,   245.2,2,   43.91,2,   21.91,2,    1.47,2,  2344.6,6,  2194.4,6, -999.00,9, -999.00,9
740H20200119,A05_24N,96,1,15,3048,4,20200215,0444,  23.44992, -41.05007,  4880,  3297.2,  2.6004,2,  2.5992,2, 34.9195,2,-999.0000,9,   246.7,2,  -999.0,5, -999.00,9, -999.00,9, -999.00,9,  -999.0,9,  -999.0,9, -999.00,9, -999.00,9
740H20200119,A05_24N,96,1,16,3049,2,20200215,0444,  23.44992, -41.05007,  4880,  2784.3,  2.9038,2,  2.9038,2, 34.9471,2, 34.9470,2,   247.4,2,   246.0,2,   33.45,2,   20.81,2,    1.39,2,  2334.6,6,  2184.9,6, -999.00,9, -999.00,9
740H20200119,A05_24N,96,1,17,3050,2,20200215,0444,  23.44992, -41.05007,  4880,  2277.8,  3.3784,2,  3.3923,2, 34.9853,2, 34.9867,2,   247.0,2,   246.1,2,   26.10,2,   20.14,2,    1.33,2,  2323.7,2,  2176.2,2, -999.00,9, -999.00,9
740H20200119,A05_24N,96,1,18,3051,2,20200215,0444,  23.44992, -41.05007,  4880,  1767.5,  4.0953,2,  4.0952,2, 35.0195,2, 35.0313,3,   235.2,2,   234.5,2,   20.43,2,   20.73,2,    1.37,2,  2319.3,2,  2176.8,2, -999.00,9, -999.00,9
740H20200119,A05_24N,96,1,19,3052,2,20200215,0444,  23.44992, -41.05007,  4880,  1517.9,  4.6181,2,  4.6185,2, 35.0329,2, 35.0329,2,   222.7,2,   222.8,2,   18.48,2,   21.45,2,    1.41,2,  2317.0,2,  2177.1,2, -999.00,9, -999.00,9
740H20200119,A05_24N,96,1,20,3053,2,20200215,0444,  23.44992, -41.05007,  4880,  1315.0,  5.2249,2,  5.2258,2, 35.0309,2, 35.0313,2,   202.7,2,   202.3,2,   18.37,2,   23.16,2,    1.52,2,  2317.0,2,  2182.9,2, -999.00,9, -999.00,9
740H20200119,A05_24N,96,1,21,3054,2,20200215,0444,  23.44992, -41.05007,  4880,  1162.5,  5.6550,2,  5.6779,2, 35.0311,2, 35.0323,2,   185.8,2,   184.7,2,   19.17,2,   24.74,2,    1.62,2,  2316.4,2,  2190.2,2, -999.00,9, -999.00,9
740H20200119,A05_24N,96,1,22,3055,2,20200215,0444,  23.44992, -41.05007,  4880,  1060.8,  6.2175,2,  6.2199,2, 35.0415,2, 35.0414,2,   170.8,2,   170.3,2,   19.28,2,   25.82,2,    1.68,2,  2318.6,6,  2202.5,6, -999.00,9, -999.00,9
740H20200119,A05_24N,96,1,23,3056,2,20200215,0444,  23.44992, -41.05007,  4880,   959.9,  6.9779,2,  6.9770,2, 35.0968,2, 35.0934,2,   161.7,2,   163.0,2,   18.26,2,   25.81,2,    1.67,2,  2319.1,2,  2200.2,2, -999.00,9, -999.00,9
740H20200119,A05_24N,96,1,24,3057,2,20200215,0444,  23.44992, -41.05007,  4880,   833.0,  8.7009,2,  8.7882,2, 35.2615,2, 35.2455,2,   150.6,2,   150.5,2,   15.25,2,   24.57,2,    1.55,2,  2324.0,2,  2197.6,2, -999.00,9, -999.00,9
740H20200119,A05_24N,96,1,1,3034,2,20200215,0444,  23.44992, -41.05007,  4880,   757.0,  9.9281,2,  9.9631,2, 35.4014,2, 35.4000,2,   153.9,2,   155.8,2,   11.87,2,   21.88,2,    1.36,2,  2328.6,6,  2186.2,6, -999.00,9, -999.00,9
740H20200119,A05_24N,96,1,2,3035,2,20200215,0444,  23.44992, -41.05007,  4880,   655.7, 11.4037,2, 11.3974,2, 35.5620,2, 35.5443,2,   161.3,2,   154.7,3,    8.82,2,   18.98,2,    1.16,2,  2334.1,2,  2184.1,2, -999.00,9, -999.00,9
740H20200119,A05_24N,96,1,3,3036,2,20200215,0444,  23.44992, -41.05007,  4880,   503.8, 13.3414,2, 13.3774,2, 35.8026,2, 35.8049,2,   172.9,2,   174.7,2,    5.28,2,   14.11,2,    0.84,2,  2346.3,2,  2167.3,2, -999.00,9, -999.00,9
740H20200119,A05_24N,96,1,4,3037,2,20200215,0444,  23.44992, -41.05007,  4880,   402.6, 15.2096,2, 15.2243,2, 36.0642,2, 36.0527,2,   177.9,2,   183.3,2,    3.68,2,   10.76,2,    0.62,2,  -999.0,9,  -999.0,9, -999.00,9, -999.00,9
740H20200119,A05_24N,96,1,5,3038,2,20200215,0444,  23.44992, -41.05007,  4880,   301.9, 16.8621,2, 16.8779,2, 36.3247,2, 36.3123,2,   178.7,2,   177.6,2,    2.58,2,    8.24,2,    0.45,2,  2373.9,2,  2148.1,2, -999.00,9, -999.00,9
740H20200119,A05_24N,96,1,6,6410,2,20200215,0444,  23.44992, -41.05007,  4880,   166.2, 19.4792,2, 19.5333,2, 36.7401,2, 36.7408,2,   194.4,2,   189.0,3,    1.10,2,    2.38,2,    0.09,2,  2401.3,2,  2124.9,2, -999.00,9, -999.00,9
740H20200119,A05_24N,96,1,7,6411,2,20200215,0444,  23.44992, -41.05007,  4880,   125.4, 21.2989,2, 21.5127,2, 37.0824,2, 37.0446,2,   197.7,2,   199.7,2,    0.79,2,    0.94,2,    0.04,2,  2417.8,2,  2128.4,2, -999.00,9, -999.00,9
740H20200119,A05_24N,96,1,8,6412,2,20200215,0444,  23.44992, -41.05007,  4880,    74.7, 23.3479,2, 23.3433,2, 37.4810,2, 37.4764,2,   211.4,2,   207.2,3,    0.70,2,    0.26,2,    0.00,2,  2449.5,2,  2114.9,2, -999.00,9, -999.00,9
740H20200119,A05_24N,96,1,9,6413,2,20200215,0444,  23.44992, -41.05007,  4880,    25.1, 23.3449,2, 23.3349,2, 37.4825,2, 37.4831,2,   211.1,2,   210.5,2,    0.67,2,    0.25,2,    0.00,2,  2445.1,2,  2117.9,2, -999.00,9, -999.00,9
740H20200119,A05_24N,96,1,10,3043,2,20200215,0444,  23.44992, -41.05007,  4880,     4.3, 23.3317,2, 23.3304,2, 37.4833,2, 37.4832,2,   211.4,2,   217.5,3,    0.70,2,    0.25,2,    0.00,2,  2446.9,6,  2114.8,6, -999.00,9, -999.00,9
740H20200119,A05_24N,97,1,11,3044,2,20200215,1258,  23.57964, -40.33331,  5895,  6003.1,  2.5060,2,  2.5057,2, 34.8806,2, 34.8806,2,   248.3,2,   247.8,2,   47.66,2,   22.46,2,    1.50,2,  2345.0,6,  2201.5,6, -999.00,9, -999.00,9
740H20200119,A05_24N,97,1,12,3045,2,20200215,1258,  23.57964, -40.33331,  5895,  5605.0,  2.4512,2,  2.4509,2, 34.8808,2, 34.8808,2,   247.6,2,   247.8,2,   47.54,2,   22.41,2,    1.50,2,  2343.5,2,  2198.6,2, -999.00,9, -999.00,9
740H20200119,A05_24N,97,1,13,3046,2,20200215,1258,  23.57964, -40.33331,  5895,  5089.3,  2.3947,2,  2.3941,2, 34.8821,2, 34.8821,2,   247.5,2,   247.3,2,   47.24,2,   22.38,2,    1.50,2,  2345.6,2,  2199.8,2, -999.00,9, -999.00,9
740H20200119,A05_24N,97,1,14,7131,2,20200215,1258,  23.57964, -40.33331,  5895,  4575.6,  2.3841,2,  2.3841,2, 34.8874,2, 34.8874,2,   246.9,2,   247.3,2,   46.03,2,   22.23,2,    1.49,2,  2343.7,2,  2198.1,2, -999.00,9, -999.00,9
740H20200119,A05_24N,97,1,15,3048,4,20200215,1258,  23.57964, -40.33331,  5895,  4063.3,  2.4078,2,  2.4087,2, 34.8956,2,-999.0000,9,   246.6,2,  -999.0,5, -999.00,9, -999.00,9, -999.00,9,  -999.0,9,  -999.0,9, -999.00,9, -999.00,9
740H20200119,A05_24N,97,1,16,3049,2,20200215,1258,  23.57964, -40.33331,  5895,  3551.9,  2.5470,2,  2.5478,2, 34.9138,2, 34.9142,2,   245.4,2,   246.4,2,   40.56,2,   21.80,2,    1.46,2,  2342.8,2,  2198.7,2, -999.00,9, -999.00,9
740H20200119,A05_24N,97,1,17,3050,2,20200215,1258,  23.57964, -40.33331,  5895,  3043.1,  2.7852,2,  2.7817,2, 34.9375,2, 34.9379,2,   245.1,2,   245.5,2,   35.52,2,   21.26,2,    1.42,2,  2336.7,6,  2189.7,6, -999.00,9, -999.00,9
740H20200119,A05_24N,97,1,18,3051,2,20200215,1258,  23.57964, -40.33331,  5895,  2529.4,  3.1458,2,  3.1519,2, 34.9641,2, 34.9649,2,   246.0,2,   246.3,2,   29.15,2,   20.65,2,    1.38,2,  2328.3,6,  2182.4,6, -999.00,9, -999.00,9
740H20200119,A05_24N,97,1,19,3052,2,20200215,1258,  23.57964, -40.33331,  5895,  2018.3,  3.7259,2,  3.7218,2, 35.0028,2, 35.0029,2,   241.0,2,   241.2,2,   23.06,2,   20.53,2,    1.36,2,  2320.8,2,  2171.9,2, -999.00,9, -999.00,9
740H20200119,A05_24N,97,1,20,3053,2,20200215,1258,  23.57964, -40.33331,  5895,  1640.0,  4.4625,2,  4.4553,2, 35.0398,2, 35.0395,2,   226.1,2,   227.8,2,   19.32,2,   21.23,2,    1.40,2,  2319.4,2,  2182.4,2, -999.00,9, -999.00,9
740H20200119,A05_24N,97,1,21,3054,2,20200215,1258,  23.57964, -40.33331,  5895,  1410.5,  5.0167,2,  5.0229,2, 35.0496,2, 35.0496,2,   210.7,2,   212.6,2,   18.32,2,   22.39,2,    1.47,2,  2318.6,2,  2183.0,2, -999.00,9, -999.00,9
740H20200119,A05_24N,97,1,22,3055,2,20200215,1258,  23.57964, -40.33331,  5895,  1213.2,  5.4259,2,  5.4616,2, 35.0336,2, 35.0337,2,   196.0,2,   197.1,2,   18.52,2,   23.67,2,    1.56,2,  2316.1,6,  2186.7,6, -999.00,9, -999.00,9
740H20200119,A05_24N,97,1,23,3056,2,20200215,1258,  23.57964, -40.33331,  5895,  1111.5,  5.7970,2,  5.7957,2, 35.0279,2, 35.0287,2,   183.0,2,   186.5,2,   18.95,2,   24.70,2,    1.63,2,  2316.7,2,  2196.5,2, -999.00,9, -999.00,9
740H20200119,A05_24N,97,1,24,3057,2,20200215,1258,  23.57964, -40.33331,  5895,  1010.2,  6.4750,2,  6.4893,2, 35.0522,2, 35.0434,2,   166.8,2,   171.4,2,   19.03,2,   25.76,2,    1.69,2,  2317.7,6,  2201.6,6, -999.00,9, -999.00,9
740H20200119,A05_24N,97,1,1,3034,2,20200215,1258,  23.57964, -40.33331,  5895,   908.6,  7.2420,2,  7.2721,2, 35.0865,2, 35.0807,2,   153.2,2,   156.2,2,   18.40,2,   26.38,2,    1.71,2,  2318.7,2,  2203.7,2, -999.00,9, -999.00,9
740H20200119,A05_24N,97,1,2,3035,2,20200215,1258,  23.57964, -40.33331,  5895,   807.2,  8.5946,2,  8.6410,2, 35.2541,2, 35.2394,2,   151.4,2,   155.1,2,   15.33,2,   24.46,2,    1.55,2,  2323.4,2,  2194.5,2, -999.00,9, -999.00,9
740H20200119,A05_24N,97,1,3,3036,2,20200215,1258,  23.57964, -40.33331,  5895,   706.2, 10.2747,2, 10.3084,2, 35.4285,2, 35.4202,2,   157.0,2,   160.3,2,   11.00,2,   21.10,2,    1.30,2,  2330.6,2,  2185.4,2, -999.00,9, -999.00,9
740H20200119,A05_24N,97,1,4,3037,2,20200215,1258,  23.57964, -40.33331,  5895,   503.7, 13.4745,2, 13.4976,2, 35.8191,2, 35.8197,2,   171.0,2,   174.2,2,    5.00,2,   14.07,2,    0.81,2,  2346.9,2,  2165.8,2, -999.00,9, -999.00,9
740H20200119,A05_24N,97,1,5,3038,2,20200215,1258,  23.57964, -40.33331,  5895,   251.4, 18.2054,2, 18.2576,2, 36.5405,2, 36.5227,2,   190.7,2,   191.4,2,    1.56,2,    5.17,2,    0.25,2,  2386.3,2,  2134.0,2, -999.00,9, -999.00,9
740H20200119,A05_24N,97,1,6,6410,2,20200215,1258,  23.57964, -40.33331,  5895,   175.6, 19.9666,2, 20.0059,2, 36.8518,2, 36.8276,2,   196.4,2,   197.3,2,    0.83,2,    1.92,2,    0.07,2,  2408.4,2,  2130.7,2, -999.00,9, -999.00,9
740H20200119,A05_24N,97,1,7,6411,2,20200215,1258,  23.57964, -40.33331,  5895,   125.0, 22.7664,2, 23.0254,2, 37.3754,2, 37.3363,2,   209.0,2,   207.4,2,    0.58,2,    0.33,2,    0.00,2,  2437.0,2,  2121.0,2, -999.00,9, -999.00,9
740H20200119,A05_24N,97,1,8,6412,2,20200215,1258,  23.57964, -40.33331,  5895,   110.0, 23.1968,2, 23.1948,2, 37.4700,2, 37.4518,2,   210.8,2,   209.5,2,    0.58,2,    0.26,2,    0.00,2,  2447.0,2,  2116.0,2, -999.00,9, -999.00,9
740H20200119,A05_24N,97,1,9,6413,2,20200215,1258,  23.57964, -40.33331,  5895,    49.2, 23.3059,2, 23.2952,2, 37.4955,2, 37.4962,2,   211.5,2,   211.0,2,    0.58,2,    0.24,2,    0.00,2,  2448.8,2,  2115.3,2, -999.00,9, -999.00,9
740H20200119,A05_24N,97,1,10,3043,2,20200215,1258,  23.57964, -40.33331,  5895,     5.1, 23.3254,2, 23.3203,2, 37.4983,2, 37.4989,2,   211.1,2,   210.6,2,    0.60,2,    0.24,2,   -0.00,2,  2450.6,6,  2117.1,6, -999.00,9, -999.00,9