BOTTLE,20221012CCHSIOENA
EXPOCODE,SECT_ID,STNNBR,CASTNO,SAMPNO,BTLNBR,BTLNBR_FLAG_W,DATE,TIME,LATITUDE,LONGITUDE,DEPTH,CTDPRS,CTDTMP,CTDTMP_FLAG_W,SBE35,SBE35_FLAG_W,CTDSAL,CTDSAL_FLAG_W,SALNTY,SALNTY_FLAG_W,CTDOXY,CTDOXY_FLAG_W,OXYGEN,OXYGEN_FLAG_W,SILCAT,SILCAT_FLAG_W,NO2+NO3,NO2+NO3_FLAG_W,PHSPHT,PHSPHT_FLAG_W,ALKALI,ALKALI_FLAG_W,TCARBN,TCARBN_FLAG_W,DELC14,DELC14_FLAG_W,DELC13,DELC13_FLAG_W
 , , , , , , , , , , , ,DBAR,ITS-90, ,ITS-90, ,PSS-78, ,PSS-78, ,UMOL/KG, ,UMOL/KG, ,UMOL/KG, ,UMOL/KG, ,UMOL/KG, ,UMOL/KG, ,UMOL/KG, ,/MILLE, ,/MILLE, 
740H20200119,A05_24N,44,1,11,3044,2,20200128,2218,  26.50024, -71.73191,  5375,  5467.0,  2.0904,2,  2.0899,2, 34.8514,2, 34.8511,2,   249.7,2,   251.1,2,   52.87,2,   22.35,2,    1.51,2,  2344.6,6,  2204.2,6, -999.00,9, -999.00,9
740H20200119,A05_24N,44,1,12,3045,2,20200128,2218,  26.50024, -71.73191,  5375,  5118.0,  2.1856,2,  2.1857,2, 34.8683,2, 34.8677,2,   255.2,2,   256.5,2,   44.37,2,   20.94,2,    1.42,2,  2328.2,2,  2195.4,2, -999.00,9, -999.00,9
740H20200119,A05_24N,44,1,13,3046,2,20200128,2218,  26.50024, -71.73191,  5375,  4597.8,  2.2721,2,  2.2734,2, 34.8853,2, 34.8852,2,   263.1,2,   265.6,2,   32.89,2,   18.96,2,    1.28,2,  2328.9,2,  2189.1,2, -999.00,9, -999.00,9
740H20200119,A05_24N,44,1,14,7131,2,20200128,2218,  26.50024, -71.73191,  5375,  4080.8,  2.3107,2,  2.3098,2, 34.8934,2, 34.8933,2,   266.5,2,   268.2,2,   28.54,2,   18.30,2,    1.23,2,  2316.4,2,  2176.3,2, -999.00,9, -999.00,9
740H20200119,A05_24N,44,1,15,3048,2,20200128,2218,  26.50024, -71.73191,  5375,  3462.2,  2.4671,2,  2.4674,2, 34.9072,2, 34.9075,2,   268.5,2,   269.9,2,   23.87,2,   17.86,2,    1.19,2,  2316.2,6,  2172.4,6, -999.00,9, -999.00,9
740H20200119,A05_24N,44,1,16,3049,2,20200128,2218,  26.50024, -71.73191,  5375,  3051.0,  2.6899,2,  2.6925,2, 34.9216,2, 34.9219,2,   266.4,2,   267.6,2,   22.05,2,   17.93,2,    1.19,2,  2317.8,2,  2169.3,2, -999.00,9, -999.00,9
740H20200119,A05_24N,44,1,17,3050,2,20200128,2218,  26.50024, -71.73191,  5375,  2537.7,  3.0926,2,  3.0982,2, 34.9499,2, 34.9500,2,   260.5,2,   261.8,2,   21.10,2,   18.36,2,    1.22,2,  2313.7,2,  2170.3,2, -999.00,9, -999.00,9
740H20200119,A05_24N,44,1,18,3051,2,20200128,2218,  26.50024, -71.73191,  5375,  2281.5,  3.3090,2,  3.3114,2, 34.9575,2, 34.9575,2,   261.9,2,   263.0,2,   18.14,2,   18.07,2,    1.19,2,  2315.4,2,  2170.3,2, -999.00,9, -999.00,9
740H20200119,A05_24N,44,1,19,3052,2,20200128,2218,  26.50024, -71.73191,  5375,  2026.2,  3.6277,2,  3.6483,2, 34.9766,2, 34.9766,2,   259.4,2,   260.1,2,   16.13,2,   18.20,2,    1.20,2,  2309.3,2,  2168.4,2, -999.00,9, -999.00,9
740H20200119,A05_24N,44,1,20,3053,2,20200128,2218,  26.50024, -71.73191,  5375,  1770.8,  3.9399,2,  3.9293,2, 34.9877,2, 34.9861,2,   257.6,2,   258.2,2,   14.00,2,   17.99,2,    1.18,2,  2312.2,2,  2169.5,2, -999.00,9, -999.00,9
740H20200119,A05_24N,44,1,21,3054,2,20200128,2218,  26.50024, -71.73191,  5375,  1516.3,  4.3228,2,  4.3210,2, 35.0091,2, 35.0086,2,   252.6,2,   254.0,2,   12.83,2,   18.08,2,    1.18,2,  2309.1,2,  2168.2,2, -999.00,9, -999.00,9
740H20200119,A05_24N,44,1,22,3055,2,20200128,2218,  26.50024, -71.73191,  5375,  1262.2,  5.0512,2,  5.0315,2, 35.0521,2, 35.0514,2,   236.6,2,   238.2,2,   12.67,2,   18.90,2,    1.23,2,  2314.6,2,  2174.8,2, -999.00,9, -999.00,9
740H20200119,A05_24N,44,1,23,3056,2,20200128,2218,  26.50024, -71.73191,  5375,  1008.3,  6.7978,2,  6.8145,2, 35.0749,2, 35.0781,2,   177.6,2,   183.3,2,   15.57,2,   23.38,2,    1.50,2,  2312.6,2,  2191.8,2, -999.00,9, -999.00,9
740H20200119,A05_24N,44,1,24,3057,2,20200128,2218,  26.50024, -71.73191,  5375,   881.4,  8.1305,2,  8.1362,2, 35.1175,2, 35.1158,2,   149.3,2,   152.4,2,   15.96,2,   25.45,2,    1.62,2,  2320.3,2,  2202.3,2, -999.00,9, -999.00,9
740H20200119,A05_24N,44,1,1,3034,2,20200128,2218,  26.50024, -71.73191,  5375,   765.3, 10.4349,2, 10.4691,2, 35.3554,2, 35.3457,2,   142.5,2,   145.9,2,   11.85,2,   22.86,2,    1.41,2,  2322.0,2,  2189.9,2, -999.00,9, -999.00,9
740H20200119,A05_24N,44,1,2,3035,2,20200128,2218,  26.50024, -71.73191,  5375,   628.5, 13.5474,2, 13.6477,2, 35.7787,2, 35.7612,2,   158.4,2,   160.4,2,    6.38,2,   16.18,2,    0.94,2,  2346.2,2,  2168.8,2, -999.00,9, -999.00,9
740H20200119,A05_24N,44,1,3,3036,2,20200128,2218,  26.50024, -71.73191,  5375,   502.6, 16.4996,2, 16.5070,2, 36.2468,2, 36.2354,2,   176.2,2,   177.2,2,    2.89,2,    9.53,2,    0.50,2,  2366.1,2,  2146.5,2, -999.00,9, -999.00,9
740H20200119,A05_24N,44,1,4,3037,2,20200128,2218,  26.50024, -71.73191,  5375,   376.5, 18.3567,2, 18.3650,2, 36.5472,2, 36.5344,2,   191.9,2,   190.2,2,    1.40,2,    5.15,2,    0.22,2,  2388.4,2,  2128.9,2, -999.00,9, -999.00,9
740H20200119,A05_24N,44,1,5,3038,2,20200128,2218,  26.50024, -71.73191,  5375,   295.3, 18.9731,2, 18.9907,2, 36.6279,2, 36.6237,2,   201.2,2,   200.8,2,    0.96,2,    3.21,2,    0.12,2,  2388.2,6,  2119.2,6, -999.00,9, -999.00,9
740H20200119,A05_24N,44,1,6,6410,2,20200128,2218,  26.50024, -71.73191,  5375,   189.5, 19.9034,2, 19.9098,2, 36.7101,2, 36.7037,2,   190.8,2,   191.2,2,    0.68,2,    1.82,2,    0.03,2,  2392.5,6,  2121.5,6, -999.00,9, -999.00,9
740H20200119,A05_24N,44,1,7,6411,2,20200128,2218,  26.50024, -71.73191,  5375,   149.6, 20.8712,2, 20.9285,2, 36.7961,2, 36.7867,2,   191.7,2,   189.9,2,    0.54,2,    0.75,2,    0.00,2,  2398.9,2,  2119.8,2, -999.00,9, -999.00,9
740H20200119,A05_24N,44,1,8,6412,2,20200128,2218,  26.50024, -71.73191,  5375,   118.9, 22.1215,2, 22.1689,2, 36.8565,2, 36.8461,2,   206.9,2,   202.5,2,    0.45,2,    0.20,2,   -0.01,2,  2409.0,6,  2102.2,6, -999.00,9, -999.00,9
740H20200119,A05_24N,44,1,9,6413,2,20200128,2218,  26.50024, -71.73191,  5375,    49.0, 24.2334,2, 24.2567,2, 36.8006,2, 36.8006,2,   209.8,2,   208.5,2,    0.65,2,    0.13,2,   -0.01,2,  2404.1,2,  2066.3,2, -999.00,9, -999.00,9
740H20200119,A05_24N,44,1,10,3043,2,20200128,2218,  26.50024, -71.73191,  5375,     3.9, 24.3219,2, 24.3203,2, 36.7985,2, 36.7981,2,   210.1,2,   208.0,2,    0.65,2,    0.12,2,   -0.01,2,  2397.9,2,  2063.9,2, -999.00,9, -999.00,9
740H20200119,A05_24N,45,1,11,3044,2,20200129,0515,  26.49732, -71.36791,  5483,  5578.3,  2.0962,2,  2.0960,2, 34.8500,2, 34.8492,2,   250.2,2,   249.7,2,   54.06,2,   22.61,2,    1.52,2,  2343.1,6,  2204.7,2, -999.00,9, -999.00,9
740H20200119,A05_24N,45,1,12,3045,2,20200129,0515,  26.49732, -71.36791,  5483,  5348.9,  2.1585,2,  2.1575,2, 34.8615,2, 34.8607,2,   253.3,2,   253.7,2,   48.26,2,   21.57,2,    1.46,2,  2340.3,2,  2202.6,2, -999.00,9, -999.00,9
740H20200119,A05_24N,45,1,13,3046,2,20200129,0515,  26.49732, -71.36791,  5483,  4833.5,  2.2651,2,  2.2650,2, 34.8816,2, 34.8810,2,   260.9,2,   261.8,2,   36.25,2,   19.66,2,    1.32,2,  2325.5,6,  2182.1,2, -999.00,9, -999.00,9
740H20200119,A05_24N,45,1,14,7131,2,20200129,0515,  26.49732, -71.36791,  5483,  4319.4,  2.2930,2,  2.2928,2, 34.8902,2, 34.8893,2,   265.2,2,   265.4,2,   30.94,2,   18.79,2,    1.26,2,  2322.3,2,  2177.1,2, -999.00,9, -999.00,9
740H20200119,A05_24N,45,1,15,3048,2,20200129,0515,  26.49732, -71.36791,  5483,  3808.1,  2.3494,2,  2.3493,2, 34.8983,2,-999.0000,5,   267.8,2,   261.2,3,   27.16,2,   18.32,2,    1.22,2,  2320.4,2,  2178.2,2, -999.00,9, -999.00,9
740H20200119,A05_24N,45,1,16,3049,2,20200129,0515,  26.49732, -71.36791,  5483,  3292.6,  2.5485,2,  2.5501,2, 34.9135,2, 34.9131,2,   266.5,2,   266.7,2,   24.38,2,   18.30,2,    1.20,2,  2314.7,2,  2154.3,3, -999.00,9, -999.00,9
740H20200119,A05_24N,45,1,17,3050,2,20200129,0515,  26.49732, -71.36791,  5483,  2784.3,  2.8797,2,  2.8811,2, 34.9359,2, 34.9347,2,   262.7,2,   262.6,2,   22.41,2,   18.48,2,    1.21,2,  2319.0,2,  2171.5,2, -999.00,9, -999.00,9
740H20200119,A05_24N,45,1,18,3051,2,20200129,0515,  26.49732, -71.36791,  5483,  2533.1,  3.1046,2,  3.1039,2, 34.9490,2, 34.9482,2,   261.4,2,   262.2,2,   20.30,2,   18.42,2,    1.21,2,  2316.2,2,  2165.1,2, -999.00,9, -999.00,9
740H20200119,A05_24N,45,1,19,3052,2,20200129,0515,  26.49732, -71.36791,  5483,  2277.3,  3.3026,2,  3.3055,2, 34.9571,2, 34.9563,2,   261.9,2,   262.4,2,   18.15,2,   18.26,2,    1.19,2,  2310.8,2,  2091.4,4, -999.00,9, -999.00,9
740H20200119,A05_24N,45,1,20,3053,2,20200129,0515,  26.49732, -71.36791,  5483,  2021.7,  3.5922,2,  3.5937,2, 34.9715,2, 34.9716,2,   261.0,2,   261.0,2,   15.97,2,   18.21,2,    1.18,2,  2326.0,3,  2167.9,2, -999.00,9, -999.00,9
740H20200119,A05_24N,45,1,21,3054,2,20200129,0515,  26.49732, -71.36791,  5483,  1766.8,  3.9542,2,  3.9590,2, 34.9961,2, 34.9933,2,   256.6,2,   257.1,2,   14.38,2,   18.26,2,    1.18,2,  2308.1,2,  2095.2,4, -999.00,9, -999.00,9
740H20200119,A05_24N,45,1,22,3055,2,20200129,0515,  26.49732, -71.36791,  5483,  1512.1,  4.4472,2,  4.4582,2, 35.0260,2, 35.0238,2,   249.2,2,   250.2,2,   13.03,2,   18.46,2,    1.19,2,  2312.6,2,  2172.0,2, -999.00,9, -999.00,9
740H20200119,A05_24N,45,1,23,3056,2,20200129,0515,  26.49732, -71.36791,  5483,  1257.8,  5.1624,2,  5.1640,2, 35.0586,2, 35.0587,2,   232.6,2,   233.0,2,   12.80,2,   19.29,2,    1.24,2,  2310.8,2,  2134.6,4, -999.00,9, -999.00,9
740H20200119,A05_24N,45,1,24,3057,2,20200129,0515,  26.49732, -71.36791,  5483,  1008.4,  6.7288,2,  6.7564,2, 35.0769,2, 35.0767,2,   180.7,2,   182.0,2,   15.35,2,   23.30,2,    1.49,2,  2316.4,6,  2186.6,6, -999.00,9, -999.00,9
740H20200119,A05_24N,45,1,1,3034,2,20200129,0515,  26.49732, -71.36791,  5483,   881.9,  8.3505,2,  8.4459,2, 35.1412,2, 35.1304,2,   148.2,2,   149.3,2,   15.42,2,   25.33,2,    1.59,2,  2316.0,6,  2200.1,6, -999.00,9, -999.00,9
740H20200119,A05_24N,45,1,2,3035,2,20200129,0515,  26.49732, -71.36791,  5483,   760.3, 10.6693,2, 10.7057,2, 35.3839,2, 35.3757,2,   142.5,2,   142.1,2,   11.25,2,   22.53,2,    1.38,2,  2327.9,2,  2191.9,2, -999.00,9, -999.00,9
740H20200119,A05_24N,45,1,3,3036,2,20200129,0515,  26.49732, -71.36791,  5483,   507.2, 16.1553,2, 16.2019,2, 36.1928,2, 36.1793,2,   174.1,2,   173.4,2,    3.14,2,   10.20,2,    0.55,2,  2363.2,2,  2125.6,3, -999.00,9, -999.00,9
740H20200119,A05_24N,45,1,4,3037,2,20200129,0515,  26.49732, -71.36791,  5483,   381.0, 18.4430,2, 18.4559,2, 36.5544,2, 36.5493,2,   191.4,2,   190.1,2,    1.29,2,    4.85,2,    0.20,2,  2390.1,2,  2129.8,2, -999.00,9, -999.00,9
740H20200119,A05_24N,45,1,5,3038,2,20200129,0515,  26.49732, -71.36791,  5483,   255.0, 19.3719,2, 19.3823,2, 36.6652,2, 36.6634,2,   200.3,2,   199.7,2,    0.76,2,    2.60,2,    0.08,2,  2392.7,2,  2115.7,2, -999.00,9, -999.00,9
740H20200119,A05_24N,45,1,6,6410,2,20200129,0515,  26.49732, -71.36791,  5483,   163.7, 20.6727,2, 20.8819,2, 36.7594,2, 36.7528,2,   194.2,2,   193.4,2,    0.52,2,    1.20,2,    0.02,2,  2400.6,6,  2113.1,2, -999.00,9, -999.00,9
740H20200119,A05_24N,45,1,7,6411,2,20200129,0515,  26.49732, -71.36791,  5483,   108.5, 23.3244,2, 23.4468,2, 36.8731,2, 36.8698,2,   204.2,2,   202.3,2,    0.49,2,    0.16,2,   -0.01,2,  2409.5,2,  2089.5,2, -999.00,9, -999.00,9
740H20200119,A05_24N,45,1,8,6412,2,20200129,0515,  26.49732, -71.36791,  5483,    52.6, 24.0943,2, 24.0914,2, 36.8057,2, 36.8066,2,   210.3,2,   208.8,2,    0.62,2,    0.13,2,   -0.01,2,  2401.1,2,  2057.8,2, -999.00,9, -999.00,9
740H20200119,A05_24N,45,1,9,6413,2,20200129,0515,  26.49732, -71.36791,  5483,    27.6, 24.0967,2, 24.0932,2, 36.8054,2, 36.8056,2,   209.4,2,   209.0,2,    0.64,2,    0.13,2,   -0.01,2,  2404.9,2,  2065.2,2, -999.00,9, -999.00,9
740H20200119,A05_24N,45,1,10,3043,2,20200129,0515,  26.49732, -71.36791,  5483,     8.0, 24.0942,2, 24.0892,2, 36.8057,2, 36.8066,2,   210.1,2,   209.1,2,    0.67,2,    0.14,2,    0.00,2,  2400.7,2,  2064.6,2, -999.00,9, -999.00,9
740H20200119,A05_24N,46,1,11,3044,2,20200129,1136,  26.49623, -70.99846,  5489,  5585.4,  2.0933,2,  2.0930,2, 34.8494,2, 34.8504,2,   249.0,2,   249.7,2,   54.65,2,   22.60,2,    1.53,2,  2343.2,6,  2203.5,6, -999.00,1, -999.00,1
740H20200119,A05_24N,46,1,12,3045,2,20200129,1136,  26.49623, -70.99846,  5489,  5117.2,  2.2281,2,  2.2297,2, 34.8734,2, 34.8744,2,   257.4,2,   258.1,2,   41.55,2,   20.50,2,    1.39,2,  2331.8,2,  2191.8,2, -999.00,1, -999.00,1
740H20200119,A05_24N,46,1,13,3046,2,20200129,1136,  26.49623, -70.99846,  5489,  4597.7,  2.2822,2,  2.2813,2, 34.8864,2, 34.8871,2,   263.3,2,   264.6,2,   33.21,2,   19.13,2,    1.30,2,  2327.2,6,  2182.4,6, -999.00,1, -999.00,1
740H20200119,A05_24N,46,1,14,7131,2,20200129,1136,  26.49623, -70.99846,  5489,  4079.2,  2.3202,2,  2.3205,2, 34.8945,2, 34.8953,2,   266.6,2,   264.8,2,   28.94,2,   18.54,2,    1.25,2,  2317.5,2,  2176.8,2, -999.00,1, -999.00,1
740H20200119,A05_24N,46,1,15,3048,2,20200129,1136,  26.49623, -70.99846,  5489,  3563.0,  2.4367,2,  2.4388,2, 34.9053,2, 34.9061,2,   267.7,2,   268.3,2,   25.40,2,   18.13,2,    1.21,2,  2316.0,6,  2173.2,6, -999.00,1, -999.00,1
740H20200119,A05_24N,46,1,16,3049,2,20200129,1136,  26.49623, -70.99846,  5489,  3048.1,  2.6966,2,  2.7015,2, 34.9228,2, 34.9227,2,   266.2,2,   266.6,2,   22.67,2,   18.13,2,    1.21,2,  2316.9,2,  2171.4,2, -999.00,1, -999.00,1
740H20200119,A05_24N,46,1,17,3050,2,20200129,1136,  26.49623, -70.99846,  5489,  2534.9,  3.0720,2,  3.0775,2, 34.9469,2, 34.9471,2,   262.2,2,   262.6,2,   20.66,2,   18.35,2,    1.22,2,  2313.0,2,  2167.3,2, -999.00,1, -999.00,1
740H20200119,A05_24N,46,1,18,3051,2,20200129,1136,  26.49623, -70.99846,  5489,  2279.4,  3.3365,2,  3.3478,2, 34.9621,2, 34.9625,2,   260.6,2,   261.1,2,   18.68,2,   18.30,2,    1.21,2,  2313.8,2,  2169.8,2, -999.00,1, -999.00,1
740H20200119,A05_24N,46,1,19,3052,2,20200129,1136,  26.49623, -70.99846,  5489,  2023.2,  3.6099,2,  3.6154,2, 34.9740,2, 34.9743,2,   260.6,2,   260.5,2,   16.27,2,   18.21,2,    1.20,2,  2305.9,2,  2166.7,2, -999.00,1, -999.00,1
740H20200119,A05_24N,46,1,20,3053,2,20200129,1136,  26.49623, -70.99846,  5489,  1768.4,  3.9894,2,  3.9893,2, 34.9966,2, 34.9961,2,   256.6,2,   257.7,2,   14.21,2,   18.23,2,    1.19,2,  2305.1,6,  2167.4,6, -999.00,1, -999.00,1
740H20200119,A05_24N,46,1,21,3054,2,20200129,1136,  26.49623, -70.99846,  5489,  1513.3,  4.4109,2,  4.4243,2, 35.0163,2, 35.0148,2,   251.0,2,   251.2,2,   12.80,2,   18.35,2,    1.19,2,  2310.4,2,  2170.2,2, -999.00,1, -999.00,1
740H20200119,A05_24N,46,1,22,3055,2,20200129,1136,  26.49623, -70.99846,  5489,  1259.3,  5.2209,2,  5.2229,2, 35.0655,2, 35.0632,2,   232.7,2,   235.8,2,   12.41,2,   19.00,2,    1.23,2,  2307.6,2,  2177.3,2, -999.00,1, -999.00,1
740H20200119,A05_24N,46,1,23,3056,2,20200129,1136,  26.49623, -70.99846,  5489,  1010.5,  6.7620,2,  6.7545,2, 35.0755,2, 35.0776,2,   179.7,2,   181.4,2,   15.49,2,   23.46,2,    1.50,2,  2317.4,2,  2190.7,2, -999.00,1, -999.00,1
740H20200119,A05_24N,46,1,24,3057,2,20200129,1136,  26.49623, -70.99846,  5489,   883.9,  8.5256,2,  8.4544,2, 35.1536,2, 35.1491,2,   146.9,2,   147.2,2,   15.16,2,   25.33,2,    1.59,2,  2316.8,2,  2199.6,2, -999.00,1, -999.00,1
740H20200119,A05_24N,46,1,1,3034,2,20200129,1136,  26.49623, -70.99846,  5489,   757.3, 11.0524,2, 11.0150,2, 35.4376,2, 35.4209,2,   144.5,2,   143.9,2,   10.54,2,   21.76,2,    1.32,2,  2329.4,6,  2189.4,2, -999.00,1, -999.00,1
740H20200119,A05_24N,46,1,2,3035,2,20200129,1136,  26.49623, -70.99846,  5489,   504.4, 16.3120,2, 16.3251,2, 36.2203,2, 36.1991,2,   175.1,2,   174.0,2,    3.06,2,   10.02,2,    0.53,2,  2364.9,2,  2052.5,4, -999.00,1, -999.00,1
740H20200119,A05_24N,46,1,3,3036,2,20200129,1136,  26.49623, -70.99846,  5489,   378.2, 18.1737,2, 18.1856,2, 36.5191,2, 36.5046,2,   186.8,2,   186.0,2,    1.53,2,    5.80,2,    0.26,2,  2386.1,2,  2136.3,2, -999.00,1, -999.00,1
740H20200119,A05_24N,46,1,4,3037,2,20200129,1136,  26.49623, -70.99846,  5489,   252.1, 19.2650,2, 19.3047,2, 36.6510,2, 36.6499,2,   196.7,2,   197.0,2,    0.82,2,    2.90,2,    0.09,2,  2391.6,6,  2120.9,6, -999.00,1, -999.00,1
740H20200119,A05_24N,46,1,5,3038,2,20200129,1136,  26.49623, -70.99846,  5489,   176.1, 20.0600,2, 20.1191,2, 36.7242,2, 36.7203,2,   192.3,2,   192.1,2,    0.61,2,    1.51,2,    0.02,2,  2394.0,2,  2121.2,2, -999.00,1, -999.00,1
740H20200119,A05_24N,46,1,6,6410,2,20200129,1136,  26.49623, -70.99846,  5489,   126.2, 21.9241,2, 21.9522,2, 36.8789,2, 36.8699,2,   200.9,2,   200.3,2,    0.48,2,    0.39,2,    0.00,2,  2406.9,2,  2105.7,2, -999.00,1, -999.00,1
740H20200119,A05_24N,46,1,7,6411,2,20200129,1136,  26.49623, -70.99846,  5489,    75.8, 23.3813,2, 23.3775,2, 36.8828,2, 36.8826,2,   211.9,2,   211.4,2,    0.58,2,    0.17,2,   -0.01,2,  2405.6,2,  2077.2,2, -999.00,1, -999.00,1
740H20200119,A05_24N,46,1,8,6412,2,20200129,1136,  26.49623, -70.99846,  5489,    50.4, 23.5212,2, 23.5247,2, 36.8855,2, 36.8858,2,   211.3,2,   192.2,2,    0.60,2,    0.15,2,    0.00,2,  2409.8,2,  2073.3,2, -999.00,1, -999.00,1
740H20200119,A05_24N,46,1,9,6413,2,20200129,1136,  26.49623, -70.99846,  5489,    25.1, 23.8227,2, 23.8206,2, 36.8478,2, 36.8478,2,   210.3,2,   209.8,2,    0.63,2,    0.15,2,    0.00,2,  2402.5,2,  2066.5,2, -999.00,9, -999.00,9
740H20200119,A05_24N,46,1,10,3043,2,20200129,1136,  26.49623, -70.99846,  5489,     7.7, 23.8249,2, 23.8211,2, 36.8480,2, 36.8480,2,   210.8,2,   209.7,2,    0.66,2,    0.16,2,    0.00,2,  2405.7,2,  2067.9,2, -999.00,1, -999.00,1