BOTTLE,20221012CCHSIOENA
EXPOCODE,SECT_ID,STNNBR,CASTNO,SAMPNO,BTLNBR,BTLNBR_FLAG_W,DATE,TIME,LATITUDE,LONGITUDE,DEPTH,CTDPRS,CTDTMP,CTDTMP_FLAG_W,SBE35,SBE35_FLAG_W,CTDSAL,CTDSAL_FLAG_W,SALNTY,SALNTY_FLAG_W,CTDOXY,CTDOXY_FLAG_W,OXYGEN,OXYGEN_FLAG_W,SILCAT,SILCAT_FLAG_W,NO2+NO3,NO2+NO3_FLAG_W,PHSPHT,PHSPHT_FLAG_W,ALKALI,ALKALI_FLAG_W,TCARBN,TCARBN_FLAG_W,DELC14,DELC14_FLAG_W,DELC13,DELC13_FLAG_W
 , , , , , , , , , , , ,DBAR,ITS-90, ,ITS-90, ,PSS-78, ,PSS-78, ,UMOL/KG, ,UMOL/KG, ,UMOL/KG, ,UMOL/KG, ,UMOL/KG, ,UMOL/KG, ,UMOL/KG, ,/MILLE, ,/MILLE, 
740H20200119,A05_24N,104,1,11,3044,2,20200218,0002,  24.48890, -35.31543,  5373,  5464.9,  2.4174,2,  2.4173,2, 34.8796,2, 34.8792,2,   247.5,2,   246.1,2,   48.41,2,   22.05,2,    1.50,2,  2346.1,6,  2202.2,6, -999.00,9, -999.00,9
740H20200119,A05_24N,104,1,12,3045,2,20200218,0002,  24.48890, -35.31543,  5373,  4840.0,  2.3746,2,  2.3742,2, 34.8836,2, 34.8831,2,   246.6,2,   245.8,2,   47.65,2,   22.07,2,    1.50,2,  2346.4,2,  2202.2,2, -999.00,9, -999.00,9
740H20200119,A05_24N,104,1,13,3046,2,20200218,0002,  24.48890, -35.31543,  5373,  4322.3,  2.3986,2,  2.3982,2, 34.8923,2, 34.8913,2,   245.6,2,   244.7,2,   45.78,2,   21.90,2,    1.49,2,  2345.1,6,  2197.7,6, -999.00,9, -999.00,9
740H20200119,A05_24N,104,1,14,7131,2,20200218,0002,  24.48890, -35.31543,  5373,  3810.7,  2.4647,2,  2.4669,2, 34.9043,2, 34.9029,2,   245.0,2,   244.6,2,   43.00,2,   21.62,2,    1.47,2,  2344.6,2,  2195.9,2, -999.00,9, -999.00,9
740H20200119,A05_24N,104,1,15,3048,2,20200218,0002,  24.48890, -35.31543,  5373,  2787.3,  2.9471,2,  2.9450,2, 34.9552,2, 34.9539,2,   243.0,2,   242.3,2,   32.89,2,   20.84,2,    1.41,2,  2334.1,2,  2187.2,2, -999.00,9, -999.00,9
740H20200119,A05_24N,104,1,16,3049,2,20200218,0002,  24.48890, -35.31543,  5373,  2275.1,  3.4692,2,  3.4709,2, 35.0025,2, 35.0025,2,   241.5,2,   240.2,2,   25.91,2,   20.30,2,    1.36,2,  2328.2,6,  2178.8,2, -999.00,9, -999.00,9
740H20200119,A05_24N,104,1,17,3050,2,20200218,0002,  24.48890, -35.31543,  5373,  1765.2,  4.4628,2,  4.4636,2, 35.0836,2, 35.0831,2,   228.3,2,   227.5,2,   19.80,2,   20.45,2,    1.36,2,  2323.4,2,  2177.8,2, -999.00,9, -999.00,9
740H20200119,A05_24N,104,1,18,3051,2,20200218,0002,  24.48890, -35.31543,  5373,  1515.6,  5.1124,2,  5.1143,2, 35.1298,2, 35.1281,2,   216.2,2,   216.4,2,   17.91,2,   20.85,2,    1.38,2,  2322.3,6,  2183.5,2, -999.00,9, -999.00,9
740H20200119,A05_24N,104,1,19,3052,2,20200218,0002,  24.48890, -35.31543,  5373,  1312.1,  5.7322,2,  5.7349,2, 35.1427,2, 35.1418,2,   200.1,2,   199.4,2,   17.12,2,   22.02,2,    1.45,2,  2321.8,2,  2188.8,2, -999.00,9, -999.00,9
740H20200119,A05_24N,104,1,20,3053,2,20200218,0002,  24.48890, -35.31543,  5373,  1160.0,  6.2814,2,  6.2644,2, 35.1236,2, 35.1237,2,   179.8,2,   179.3,2,   17.74,2,   23.79,2,    1.56,2,  2324.2,2,  2195.6,2, -999.00,9, -999.00,9
740H20200119,A05_24N,104,1,21,3054,2,20200218,0002,  24.48890, -35.31543,  5373,  1058.1,  6.6703,2,  6.7120,2, 35.1160,2, 35.1151,2,   168.7,2,   168.0,2,   17.78,2,   24.77,2,    1.62,2,  2320.7,6,  2197.4,6, -999.00,9, -999.00,9
740H20200119,A05_24N,104,1,22,3055,2,20200218,0002,  24.48890, -35.31543,  5373,   956.2,  7.5438,2,  7.5365,2, 35.1782,2, 35.1758,2,   154.8,2,   154.2,2,   17.02,2,   25.17,2,    1.63,2,  2322.1,2,  2201.5,2, -999.00,9, -999.00,9
740H20200119,A05_24N,104,1,23,3056,2,20200218,0002,  24.48890, -35.31543,  5373,   855.9,  8.3672,2,  8.3775,2, 35.2374,2, 35.2253,2,   147.2,2,   146.3,2,   15.65,2,   24.95,2,    1.59,2,  2321.7,6,  2200.0,6, -999.00,9, -999.00,9
740H20200119,A05_24N,104,1,24,3057,2,20200218,0002,  24.48890, -35.31543,  5373,   754.0,  9.8492,2,  9.8933,2, 35.3965,2, 35.3932,2,   147.5,2,   146.8,2,   11.94,2,   22.36,2,    1.39,2,  2326.0,2,  2189.1,2, -999.00,9, -999.00,9
740H20200119,A05_24N,104,1,1,3034,2,20200218,0002,  24.48890, -35.31543,  5373,   652.4, 11.3165,2, 11.3534,2, 35.5615,2, 35.5478,2,   160.0,2,   158.3,2,    8.37,2,   18.83,2,    1.14,2,  2331.1,2,  2176.6,2, -999.00,9, -999.00,9
740H20200119,A05_24N,104,1,2,3035,2,20200218,0002,  24.48890, -35.31543,  5373,   506.0, 13.0120,2, 13.1130,2, 35.7656,2, 35.7735,2,   178.2,2,   178.5,2,    4.79,2,   13.57,2,    0.79,2,  2342.4,2,  2166.7,2, -999.00,9, -999.00,9
740H20200119,A05_24N,104,1,3,3036,2,20200218,0002,  24.48890, -35.31543,  5373,   380.0, 14.7943,2, 14.8031,2, 36.0105,2, 36.0005,2,   185.5,2,   185.3,2,    3.25,2,   10.25,2,    0.58,2,  2353.9,2,  2149.4,2, -999.00,9, -999.00,9
740H20200119,A05_24N,104,1,4,3037,2,20200218,0002,  24.48890, -35.31543,  5373,   253.4, 17.4574,2, 17.4715,2, 36.4180,2, 36.4039,2,   192.9,2,   192.6,2,    1.64,2,    5.75,2,    0.28,2,  2378.3,2,  2138.1,2, -999.00,9, -999.00,9
740H20200119,A05_24N,104,1,5,6409,2,20200218,0002,  24.48890, -35.31543,  5373,   102.3, 22.4576,2, 22.4640,2, 37.4172,2,-999.0000,9,   213.5,2,   215.6,2,    0.42,2,    0.02,2,   -0.01,2,  2441.4,2,  2121.4,2, -999.00,9, -999.00,9
740H20200119,A05_24N,104,1,6,6410,2,20200218,0002,  24.48890, -35.31543,  5373,    41.2, 22.4489,2, 22.4475,2, 37.4146,2, 37.4149,2,   213.7,2,   215.9,2,    0.50,2,    0.01,2,   -0.01,2,  2442.5,2,  2124.7,2, -999.00,9, -999.00,9
740H20200119,A05_24N,104,1,7,6411,2,20200218,0002,  24.48890, -35.31543,  5373,    42.3, 22.4501,2, 22.4486,2, 37.4144,2,-999.0000,9,   214.5,2,  -999.0,9, -999.00,9, -999.00,9, -999.00,9,  -999.0,9,  -999.0,9, -999.00,9, -999.00,9
740H20200119,A05_24N,104,1,8,6412,2,20200218,0002,  24.48890, -35.31543,  5373,    42.6, 22.4499,2,-999.0000,9, 37.4145,2,-999.0000,9,   214.6,2,  -999.0,9, -999.00,9, -999.00,9, -999.00,9,  -999.0,9,  -999.0,9, -999.00,9, -999.00,9
740H20200119,A05_24N,104,1,9,6413,2,20200218,0002,  24.48890, -35.31543,  5373,    42.4, 22.4501,2,-999.0000,9, 37.4144,2,-999.0000,9,   214.4,2,  -999.0,9, -999.00,9, -999.00,9, -999.00,9,  -999.0,9,  -999.0,9, -999.00,9, -999.00,9
740H20200119,A05_24N,104,1,10,6414,2,20200218,0002,  24.48890, -35.31543,  5373,     6.6, 22.4396,2, 22.4360,2, 37.4138,2, 37.4144,2,   214.2,2,   214.0,2,    0.53,2,   -0.00,2,   -0.01,2,  2441.0,2,  2118.3,2, -999.00,9, -999.00,9
740H20200119,A05_24N,105,1,11,3044,2,20200218,0810,  24.49994, -34.60058,  5189,  5276.2,  2.3898,2,-999.0000,9, 34.8792,2, 34.8793,2,   247.6,2,   245.9,2,   47.76,2,   22.01,2,    1.49,2,  2344.7,6,  2202.1,6, -999.00,9, -999.00,9
740H20200119,A05_24N,105,1,12,3045,2,20200218,0810,  24.49994, -34.60058,  5189,  5109.5,  2.3762,2,-999.0000,9, 34.8801,2, 34.8800,2,   247.0,2,   245.8,2,   47.49,2,   21.97,2,    1.49,2,  2344.8,2,  2202.1,2, -999.00,9, -999.00,9
740H20200119,A05_24N,105,1,13,3046,2,20200218,0810,  24.49994, -34.60058,  5189,  4591.2,  2.3841,2,-999.0000,9, 34.8876,2, 34.8875,2,   246.0,2,   245.2,2,   45.88,2,   21.87,2,    1.48,2,  -999.0,9,  -999.0,9, -999.00,9, -999.00,9
740H20200119,A05_24N,105,1,14,7131,2,20200218,0810,  24.49994, -34.60058,  5189,  4074.6,  2.4293,2,-999.0000,9, 34.8979,2, 34.8979,2,   245.7,2,   244.6,2,   43.47,2,   21.62,2,    1.46,2,  2344.8,6,  2199.5,6, -999.00,9, -999.00,9
740H20200119,A05_24N,105,1,15,3048,2,20200218,0810,  24.49994, -34.60058,  5189,  3558.4,  2.5357,2,-999.0000,9, 34.9134,2, 34.9133,2,   244.7,2,   244.1,2,   40.40,2,   21.33,2,    1.44,2,  2344.2,2,  2195.3,2, -999.00,9, -999.00,9
740H20200119,A05_24N,105,1,16,3049,2,20200218,0810,  24.49994, -34.60058,  5189,  3044.7,  2.7674,2,-999.0000,9, 34.9381,2, 34.9378,2,   243.5,2,   242.7,2,   35.59,2,   20.97,2,    1.41,2,  2337.2,6,  2191.3,6, -999.00,9, -999.00,9
740H20200119,A05_24N,105,1,17,3050,2,20200218,0810,  24.49994, -34.60058,  5189,  2532.1,  3.1628,2,-999.0000,9, 34.9746,2, 34.9740,2,   242.6,2,   242.1,2,   29.22,2,   20.42,2,    1.37,2,  2327.7,2,  2180.6,2, -999.00,9, -999.00,9
740H20200119,A05_24N,105,1,18,3051,2,20200218,0810,  24.49994, -34.60058,  5189,  2020.6,  3.8724,2,-999.0000,9, 35.0384,2, 35.0389,2,   236.9,2,   236.4,2,   22.67,2,   20.20,2,    1.34,2,  2324.5,2,  2179.5,2, -999.00,9, -999.00,9
740H20200119,A05_24N,105,1,19,3052,2,20200218,0810,  24.49994, -34.60058,  5189,  1638.2,  4.8749,2,-999.0000,9, 35.1248,2, 35.1252,2,   221.5,2,   220.8,2,   18.57,2,   20.54,2,    1.35,2,  2321.2,2,  2180.9,2, -999.00,9, -999.00,9
740H20200119,A05_24N,105,1,20,3053,2,20200218,0810,  24.49994, -34.60058,  5189,  1408.7,  5.5426,2,-999.0000,9, 35.1521,2, 35.1523,2,   205.7,2,   204.8,2,   17.38,2,   21.55,2,    1.42,2,  2323.3,2,  2188.9,2, -999.00,9, -999.00,9
740H20200119,A05_24N,105,1,21,3054,2,20200218,0810,  24.49994, -34.60058,  5189,  1205.9,  6.1647,2,-999.0000,9, 35.1501,2, 35.1503,2,   185.9,2,   185.1,2,   17.50,2,   23.20,2,    1.52,2,  2322.7,2,  2195.3,2, -999.00,9, -999.00,9
740H20200119,A05_24N,105,1,22,3055,2,20200218,0810,  24.49994, -34.60058,  5189,  1103.7,  6.8768,2,-999.0000,9, 35.2036,2, 35.2043,2,   171.6,2,   171.6,2,   17.15,2,   23.84,2,    1.55,2,  2326.3,2,  2202.2,2, -999.00,9, -999.00,9
740H20200119,A05_24N,105,1,23,3056,2,20200218,0810,  24.49994, -34.60058,  5189,  1007.4,  7.4667,2,-999.0000,9, 35.2326,2, 35.2330,2,   160.0,2,   159.6,2,   16.81,2,   24.47,2,    1.57,2,  2326.8,6,  2205.4,6, -999.00,9, -999.00,9
740H20200119,A05_24N,105,1,24,3057,2,20200218,0810,  24.49994, -34.60058,  5189,   906.1,  8.0698,2,-999.0000,9, 35.2501,2, 35.2462,2,   150.7,2,   150.1,2,   16.15,2,   24.85,2,    1.59,2,  2326.3,2,  2202.5,2, -999.00,9, -999.00,9
740H20200119,A05_24N,105,1,1,3034,2,20200218,0810,  24.49994, -34.60058,  5189,   804.9,  9.2346,2,-999.0000,9, 35.3552,2, 35.3512,2,   149.9,2,   149.6,2,   13.32,2,   23.18,2,    1.45,2,  2326.6,6,  2195.0,6, -999.00,9, -999.00,9
740H20200119,A05_24N,105,1,2,3035,2,20200218,0810,  24.49994, -34.60058,  5189,   704.3, 10.5041,2,-999.0000,9, 35.4763,2, 35.4738,2,   154.7,2,   154.6,2,    9.97,2,   20.59,2,    1.25,2,  2330.8,2,  2188.7,2, -999.00,9, -999.00,9
740H20200119,A05_24N,105,1,3,3036,2,20200218,0810,  24.49994, -34.60058,  5189,   602.5, 11.8958,2,-999.0000,9, 35.6314,2, 35.6265,2,   169.0,2,   168.5,2,    6.66,2,   16.85,2,    1.00,2,  2334.3,2,  2175.0,2, -999.00,9, -999.00,9
740H20200119,A05_24N,105,1,4,3037,2,20200218,0810,  24.49994, -34.60058,  5189,   375.2, 15.0309,2,-999.0000,9, 36.0513,2, 36.0258,2,   183.8,2,   184.3,2,    3.10,2,   10.17,2,    0.58,2,  2357.9,2,  2157.0,2, -999.00,9, -999.00,9
740H20200119,A05_24N,105,1,5,6409,2,20200218,0810,  24.49994, -34.60058,  5189,   253.8, 17.2434,2,-999.0000,9, 36.3854,2, 36.3854,2,   192.2,2,   192.6,2,    1.67,2,    5.97,2,    0.30,2,  2377.7,6,  2136.3,6, -999.00,9, -999.00,9
740H20200119,A05_24N,105,1,6,6410,2,20200218,0810,  24.49994, -34.60058,  5189,   178.4, 18.7678,2,-999.0000,9, 36.6204,2, 36.6139,2,   200.7,2,   200.9,2,    0.89,2,    2.87,2,    0.11,2,  2392.1,2,  -999.0,9, -999.00,9, -999.00,9
740H20200119,A05_24N,105,1,7,6411,2,20200218,0810,  24.49994, -34.60058,  5189,   153.3, 19.8631,2,-999.0000,9, 36.8211,2, 36.7948,2,   200.7,2,   200.5,2,    0.64,2,    1.18,2,    0.03,2,  2404.0,2,  2125.0,2, -999.00,9, -999.00,9
740H20200119,A05_24N,105,1,8,6412,2,20200218,0810,  24.49994, -34.60058,  5189,   102.9, 22.5148,2,-999.0000,9, 37.4496,2, 37.4480,2,   213.2,2,   213.5,2,    0.38,2,    0.02,2,   -0.01,2,  2446.7,2,  2127.3,2, -999.00,9, -999.00,9
740H20200119,A05_24N,105,1,9,6413,2,20200218,0810,  24.49994, -34.60058,  5189,    53.2, 22.5038,2,-999.0000,9, 37.4500,2, 37.4510,2,   213.2,2,   213.4,2,    0.38,2,    0.01,2,   -0.01,2,  2445.8,2,  2122.4,2, -999.00,9, -999.00,9
740H20200119,A05_24N,105,1,10,6414,2,20200218,0810,  24.49994, -34.60058,  5189,     7.8, 22.4986,2,-999.0000,9, 37.4508,2, 37.4516,2,   213.6,2,   213.3,2,    0.45,2,    0.01,2,    0.00,2,  2446.8,2,  2126.4,2, -999.00,9, -999.00,9
740H20200119,A05_24N,106,1,11,3044,2,20200218,1656,  24.49978, -33.90208,  6280,  6123.2,  2.5004,2,  2.5002,2, 34.8785,2, 34.8786,2,   247.7,2,   247.7,2,   49.21,2,   22.20,2,    1.51,2,  2346.9,6,  2200.4,6, -999.00,9, -999.00,9
740H20200119,A05_24N,106,1,12,3045,2,20200218,1656,  24.49978, -33.90208,  6280,  5346.8,  2.4064,2,  2.4059,2, 34.8801,2, 34.8801,2,   246.9,2,   247.4,2,   48.92,2,   22.20,2,    1.51,2,  2345.9,2,  2200.1,2, -999.00,9, -999.00,9
740H20200119,A05_24N,106,1,13,3046,2,20200218,1656,  24.49978, -33.90208,  6280,  4833.1,  2.3880,2,  2.3881,2, 34.8850,2, 34.8850,2,   245.8,2,   246.6,2,   47.95,2,   22.28,2,    1.51,2,  2346.8,2,  2200.0,2, -999.00,9, -999.00,9
740H20200119,A05_24N,106,1,14,7131,2,20200218,1656,  24.49978, -33.90208,  6280,  4319.5,  2.3980,2,  2.3977,2, 34.8924,2, 34.8926,2,   244.9,2,   245.8,2,   46.47,2,   22.21,2,    1.50,2,  2346.2,2,  2199.1,2, -999.00,9, -999.00,9
740H20200119,A05_24N,106,1,15,3048,2,20200218,1656,  24.49978, -33.90208,  6280,  3809.4,  2.4657,2,  2.4662,2, 34.9046,2, 34.9045,2,   245.3,2,   246.2,2,   43.70,2,   21.94,2,    1.49,2,  2343.6,2,  2194.4,2, -999.00,9, -999.00,9
740H20200119,A05_24N,106,1,16,3049,2,20200218,1656,  24.49978, -33.90208,  6280,  3298.6,  2.6200,2,  2.6193,2, 34.9234,2, 34.9232,2,   244.1,2,   245.0,2,   39.92,2,   21.64,2,    1.47,2,  2339.6,6,  2191.0,6, -999.00,9, -999.00,9
740H20200119,A05_24N,106,1,17,3050,2,20200218,1656,  24.49978, -33.90208,  6280,  2786.0,  2.9060,2,  2.9091,2, 34.9528,2, 34.9530,2,   243.5,2,   244.1,2,   34.01,2,   21.14,2,    1.43,2,  2336.2,2,  2185.2,2, -999.00,9, -999.00,9
740H20200119,A05_24N,106,1,18,3051,2,20200218,1656,  24.49978, -33.90208,  6280,  2273.8,  3.4887,2,  3.4898,2, 35.0073,2, 35.0067,2,   240.9,2,   242.3,2,   26.62,2,   20.56,2,    1.39,2,  2327.3,2,  2179.2,2, -999.00,9, -999.00,9
740H20200119,A05_24N,106,1,19,3052,2,20200218,1656,  24.49978, -33.90208,  6280,  1763.4,  4.4487,2,  4.4470,2, 35.0844,2, 35.0841,2,   226.7,2,   228.1,2,   20.89,2,   21.02,2,    1.40,2,  2324.9,2,  2179.3,2, -999.00,9, -999.00,9
740H20200119,A05_24N,106,1,20,3053,2,20200218,1656,  24.49978, -33.90208,  6280,  1513.7,  5.1458,2,  5.1552,2, 35.1197,2, 35.1199,2,   212.6,2,   214.4,2,   18.76,2,   21.78,2,    1.45,2,  2310.2,6,  2182.0,6, -999.00,9, -999.00,9
740H20200119,A05_24N,106,1,21,3054,2,20200218,1656,  24.49978, -33.90208,  6280,  1309.8,  5.7356,2,  5.7358,2, 35.1361,2, 35.1360,2,   197.7,2,   199.5,2,   18.06,2,   22.82,2,    1.50,2,  2322.4,2,  2186.8,2, -999.00,9, -999.00,9
740H20200119,A05_24N,106,1,22,3055,2,20200218,1656,  24.49978, -33.90208,  6280,  1157.5,  6.1976,2,  6.1931,2, 35.1280,2, 35.1274,2,   181.9,2,   185.5,2,   18.39,2,   24.23,2,    1.58,2,  2321.7,2,  2194.0,2, -999.00,9, -999.00,9
740H20200119,A05_24N,106,1,23,3056,2,20200218,1656,  24.49978, -33.90208,  6280,  1061.2,  6.7041,2,  6.7190,2, 35.1462,2, 35.1496,2,   168.4,2,   172.0,2,   18.47,2,   25.16,2,    1.64,2,  2323.5,6,  2198.6,6, -999.00,9, -999.00,9
740H20200119,A05_24N,106,1,24,3057,2,20200218,1656,  24.49978, -33.90208,  6280,   959.7,  7.4279,2,  7.4321,2, 35.1841,2, 35.1821,2,   153.5,2,   158.3,2,   17.98,2,   26.02,2,    1.68,2,  2322.4,2,  2205.3,2, -999.00,9, -999.00,9
740H20200119,A05_24N,106,1,1,3034,2,20200218,1656,  24.49978, -33.90208,  6280,   858.2,  8.4469,2,  8.4579,2, 35.2656,2, 35.2642,2,   145.4,2,   148.1,2,   15.93,2,   25.46,2,    1.62,2,  2324.9,6,  2200.5,6, -999.00,9, -999.00,9
740H20200119,A05_24N,106,1,2,3035,2,20200218,1656,  24.49978, -33.90208,  6280,   757.2,  9.8323,2,  9.8612,2, 35.4029,2, 35.3980,2,   144.2,2,   147.9,2,   12.53,2,   23.38,2,    1.46,2,  2325.7,2,  2195.9,2, -999.00,9, -999.00,9
740H20200119,A05_24N,106,1,3,3036,2,20200218,1656,  24.49978, -33.90208,  6280,   655.7, 11.1209,2, 11.1295,2, 35.5399,2, 35.5341,2,   155.3,2,   158.8,2,    9.12,2,   20.02,2,    1.21,2,  2332.3,6,  2186.9,6, -999.00,9, -999.00,9
740H20200119,A05_24N,106,1,4,3037,2,20200218,1656,  24.49978, -33.90208,  6280,   453.7, 13.6031,2, 13.6585,2, 35.8454,2, 35.8396,2,   177.2,2,   180.8,2,    4.66,2,   13.27,2,    0.78,2,  2348.3,2,  2164.3,2, -999.00,9, -999.00,9
740H20200119,A05_24N,106,1,5,6409,2,20200218,1656,  24.49978, -33.90208,  6280,   252.1, 17.4476,2, 17.4818,2, 36.4725,2, 36.4251,2,   186.8,2,   188.3,2,    1.91,2,    6.49,2,    0.37,2,  2381.5,2,  2146.0,2, -999.00,9, -999.00,9
740H20200119,A05_24N,106,1,6,6410,2,20200218,1656,  24.49978, -33.90208,  6280,   176.1, 19.9197,2, 20.1256,2, 36.8830,2, 36.8987,2,   199.6,2,   201.3,2,    0.83,2,    1.38,2,    0.09,2,  2410.1,2,  2137.4,2, -999.00,9, -999.00,9
740H20200119,A05_24N,106,1,7,6411,2,20200218,1656,  24.49978, -33.90208,  6280,   150.5, 22.1118,2, 22.4459,2, 37.3692,2, 37.3404,2,   210.5,2,   210.9,2,    0.79,2,    0.28,2,    0.03,2,  2440.7,2,  2128.1,2, -999.00,9, -999.00,9
740H20200119,A05_24N,106,1,8,6412,2,20200218,1656,  24.49978, -33.90208,  6280,   111.5, 22.5211,2, 22.5194,2, 37.4652,2, 37.4657,2,   213.0,2,   213.6,2,    0.77,2,    0.09,2,    0.02,2,  2448.6,2,  2127.5,2, -999.00,9, -999.00,9
740H20200119,A05_24N,106,1,9,6413,2,20200218,1656,  24.49978, -33.90208,  6280,    50.8, 22.5484,2, 22.5510,2, 37.4757,2, 37.4765,2,   213.8,2,   213.9,2,    0.77,2,    0.08,2,    0.02,2,  2449.2,2,  2129.1,2, -999.00,9, -999.00,9
740H20200119,A05_24N,106,1,10,6414,2,20200218,1656,  24.49978, -33.90208,  6280,     5.2, 22.5624,2, 22.5610,2, 37.4775,2, 37.4780,2,   214.1,2,   213.9,2,    0.83,2,    0.07,2,    0.02,2,  2448.7,2,  2127.7,2, -999.00,9, -999.00,9