BOTTLE,20221012CCHSIOENA
EXPOCODE,SECT_ID,STNNBR,CASTNO,SAMPNO,BTLNBR,BTLNBR_FLAG_W,DATE,TIME,LATITUDE,LONGITUDE,DEPTH,CTDPRS,CTDTMP,CTDTMP_FLAG_W,SBE35,SBE35_FLAG_W,CTDSAL,CTDSAL_FLAG_W,SALNTY,SALNTY_FLAG_W,CTDOXY,CTDOXY_FLAG_W,OXYGEN,OXYGEN_FLAG_W,SILCAT,SILCAT_FLAG_W,NO2+NO3,NO2+NO3_FLAG_W,PHSPHT,PHSPHT_FLAG_W,ALKALI,ALKALI_FLAG_W,TCARBN,TCARBN_FLAG_W,DELC14,DELC14_FLAG_W,DELC13,DELC13_FLAG_W
 , , , , , , , , , , , ,DBAR,ITS-90, ,ITS-90, ,PSS-78, ,PSS-78, ,UMOL/KG, ,UMOL/KG, ,UMOL/KG, ,UMOL/KG, ,UMOL/KG, ,UMOL/KG, ,UMOL/KG, ,/MILLE, ,/MILLE, 
740H20200119,A05_24N,71,1,11,3044,2,20200207,0442,  24.50014, -54.47298,  5230,  5316.4,  2.0586,2,  2.0581,2, 34.8486,2, 34.8488,2,   250.6,2,   249.1,2,   54.98,2,   22.68,2,    1.53,2,  2347.6,6,  2203.7,6, -999.00,9, -999.00,9
740H20200119,A05_24N,71,1,12,3045,2,20200207,0442,  24.50014, -54.47298,  5230,  5092.9,  2.0583,2,  2.0602,2, 34.8518,2, 34.8524,2,   251.1,2,   249.7,2,   53.77,2,   22.50,2,    1.52,2,  2342.8,2,  2199.7,2, -999.00,9, -999.00,9
740H20200119,A05_24N,71,1,13,3046,2,20200207,0442,  24.50014, -54.47298,  5230,  4833.0,  2.0990,2,  2.1086,4, 34.8597,2, 34.8604,2,   252.2,2,   252.2,2,   50.20,2,   22.08,2,    1.50,2,  2342.0,2,  2197.9,2, -999.00,9, -999.00,9
740H20200119,A05_24N,71,1,14,7131,2,20200207,0442,  24.50014, -54.47298,  5230,  4314.8,  2.2016,2,  2.2076,4, 34.8769,2, 34.8768,2,   255.5,2,   255.0,2,   43.87,2,   20.70,2,    1.44,2,  2332.0,2,  2190.7,2, -999.00,9, -999.00,9
740H20200119,A05_24N,71,1,15,3048,2,20200207,0442,  24.50014, -54.47298,  5230,  3803.5,  2.3508,2,  2.3677,4, 34.8953,2, 34.8955,2,   256.7,2,   256.5,2,   38.01,2,   20.17,2,    1.38,2,  2329.8,2,  2185.7,2, -999.00,9, -999.00,9
740H20200119,A05_24N,71,1,16,3049,2,20200207,0442,  24.50014, -54.47298,  5230,  3293.2,  2.5472,2,  2.5496,2, 34.9141,2, 34.9135,2,   253.7,2,   253.4,2,   35.99,2,   20.30,2,    1.38,2,  2325.3,2,  2183.7,6, -999.00,9, -999.00,9
740H20200119,A05_24N,71,1,17,3050,2,20200207,0442,  24.50014, -54.47298,  5230,  2784.8,  2.9046,2,  2.9204,4, 34.9449,2, 34.9451,2,   251.3,2,   250.5,2,   31.22,2,   19.96,2,    1.34,2,  2330.1,6,  2184.2,6, -999.00,9, -999.00,9
740H20200119,A05_24N,71,1,18,3051,2,20200207,0442,  24.50014, -54.47298,  5230,  2277.2,  3.3404,2,  3.3997,4, 34.9823,2, 34.9824,2,   251.5,2,   250.8,2,   24.58,2,   19.24,2,    1.29,2,  2321.2,2,  2177.1,2, -999.00,9, -999.00,9
740H20200119,A05_24N,71,1,19,3052,2,20200207,0442,  24.50014, -54.47298,  5230,  1766.2,  4.3825,2,  4.4608,4, 35.0675,2, 35.0680,2,   242.1,2,   241.8,2,   16.91,2,   18.92,2,    1.25,2,  2318.8,2,  2176.3,2, -999.00,9, -999.00,9
740H20200119,A05_24N,71,1,20,3053,2,20200207,0442,  24.50014, -54.47298,  5230,  1511.9,  4.8070,2,  4.8614,4, 35.0591,2, 35.0597,2,   236.9,2,   236.4,2,   14.35,2,   19.18,2,    1.26,2,  2313.7,2,  2173.1,2, -999.00,9, -999.00,9
740H20200119,A05_24N,71,1,21,3054,2,20200207,0442,  24.50014, -54.47298,  5230,  1313.4,  5.3850,2,  5.5387,4, 35.0662,2, 35.0661,2,   219.0,2,   218.4,2,   14.75,2,   20.44,2,    1.35,2,  2315.5,2,  2178.0,2, -999.00,9, -999.00,9
740H20200119,A05_24N,71,1,22,3055,2,20200207,0442,  24.50014, -54.47298,  5230,  1160.7,  5.9097,2,  6.0175,4, 35.0223,2, 35.0206,2,   190.2,2,   189.5,2,   17.20,2,   23.46,2,    1.55,2,  2313.1,2,  2189.8,2, -999.00,9, -999.00,9
740H20200119,A05_24N,71,1,23,3056,2,20200207,0442,  24.50014, -54.47298,  5230,  1059.2,  6.2631,2,  6.5271,4, 34.9801,2, 34.9804,2,   167.6,2,   167.0,2,   19.18,2,   26.05,2,    1.71,2,  2315.4,6,  2202.3,6, -999.00,9, -999.00,9
740H20200119,A05_24N,71,1,24,3057,2,20200207,0442,  24.50014, -54.47298,  5230,   957.8,  6.9677,2,  7.2457,4, 34.9761,2, 34.9748,2,   146.5,2,   145.9,2,   19.53,2,   27.98,2,    1.83,2,  2312.6,2,  2206.2,2, -999.00,9, -999.00,9
740H20200119,A05_24N,71,1,1,3034,2,20200207,0442,  24.50014, -54.47298,  5230,   805.9,  9.0643,2,  9.8333,4, 35.2268,2, 35.2078,2,   141.0,2,   139.0,2,   14.82,2,   25.48,2,    1.60,2,  2320.5,6,  2199.4,6, -999.00,9, -999.00,9
740H20200119,A05_24N,71,1,2,3035,2,20200207,0442,  24.50014, -54.47298,  5230,   653.9, 11.8599,2, 12.4172,4, 35.5989,2, 35.5886,2,   156.4,2,   154.7,2,    7.88,2,   18.75,2,    1.11,2,  2334.8,2,  2181.3,2, -999.00,9, -999.00,9
740H20200119,A05_24N,71,1,3,3036,2,20200207,0442,  24.50014, -54.47298,  5230,   502.9, 14.2223,2, 14.9129,4, 35.9187,2, 35.9017,2,   171.8,2,   170.6,2,    4.52,2,   13.28,2,    0.75,2,  2350.4,2,  2163.6,2, -999.00,9, -999.00,9
740H20200119,A05_24N,71,1,4,3037,2,20200207,0442,  24.50014, -54.47298,  5230,   401.8, 15.9703,2, 16.5104,4, 36.1885,2, 36.1867,2,   178.4,2,   176.9,2,    2.78,2,    9.71,2,    0.53,2,  2370.5,2,  2152.2,2, -999.00,9, -999.00,9
740H20200119,A05_24N,71,1,5,3038,2,20200207,0442,  24.50014, -54.47298,  5230,   119.5, 22.0745,2, 22.3150,4, 37.1164,2,-999.0000,9,   203.6,2,   201.2,2,    0.47,2,    0.42,2,    0.01,2,  2423.7,2,  2122.4,2, -999.00,9, -999.00,9
740H20200119,A05_24N,71,1,6,6410,2,20200207,0442,  24.50014, -54.47298,  5230,    41.5, 24.1103,2, 24.1006,2, 37.2453,2, 37.2473,2,   211.1,2,   210.7,2,    0.74,2,    0.22,2,    0.00,2,  2437.2,2,  2088.3,2, -999.00,9, -999.00,9
740H20200119,A05_24N,71,1,7,6411,2,20200207,0442,  24.50014, -54.47298,  5230,    41.1, 24.1081,2,-999.0000,9, 37.2448,2,-999.0000,9,   211.3,2,  -999.0,9, -999.00,9, -999.00,9, -999.00,9,  -999.0,9,  -999.0,9, -999.00,9, -999.00,9
740H20200119,A05_24N,71,1,8,6412,2,20200207,0442,  24.50014, -54.47298,  5230,    41.6, 24.1081,2, 24.1006,4, 37.2452,2,-999.0000,9,   211.1,2,  -999.0,9, -999.00,9, -999.00,9, -999.00,9,  -999.0,9,  -999.0,9, -999.00,9, -999.00,9
740H20200119,A05_24N,71,1,9,6413,2,20200207,0442,  24.50014, -54.47298,  5230,    41.0, 24.1073,2,-999.0000,9, 37.2451,2,-999.0000,9,   211.7,2,  -999.0,9, -999.00,9, -999.00,9, -999.00,9,  -999.0,9,  -999.0,9, -999.00,9, -999.00,9
740H20200119,A05_24N,71,1,10,3043,2,20200207,0442,  24.50014, -54.47298,  5230,     6.1, 24.1026,2,-999.0000,9, 37.2458,2, 37.2459,2,   211.3,2,   209.5,2,    0.78,2,    0.20,2,    0.00,2,  2434.4,2,  2088.0,2, -999.00,9, -999.00,9
740H20200119,A05_24N,72,1,11,3044,2,20200207,1317,  24.50004, -53.73354,  5965,  6076.7,  2.1226,2,  2.1212,4, 34.8440,2, 34.8443,2,   249.8,2,   250.5,2,   57.04,2,   22.72,2,    1.57,2,  2346.2,2,  2200.3,2, -999.00,9, -999.00,9
740H20200119,A05_24N,72,1,12,3045,2,20200207,1317,  24.50004, -53.73354,  5965,  5603.9,  2.0697,2,  2.0698,2, 34.8454,2, 34.8455,2,   249.7,2,   250.1,2,   57.09,2,   22.78,2,    1.56,2,  2342.6,6,  2204.1,6, -999.00,9, -999.00,9
740H20200119,A05_24N,72,1,13,3046,2,20200207,1317,  24.50004, -53.73354,  5965,  5093.3,  2.0772,2,  2.0811,4, 34.8536,2, 34.8532,2,   251.5,2,   252.1,2,   53.05,2,   22.24,2,    1.52,2,  2343.1,2,  2202.0,2, -999.00,9, -999.00,9
740H20200119,A05_24N,72,1,14,7131,2,20200207,1317,  24.50004, -53.73354,  5965,  4579.4,  2.1321,2,  2.1344,4, 34.8660,2, 34.8662,2,   252.9,2,   253.6,2,   48.62,2,   21.68,2,    1.48,2,  2336.7,2,  2191.0,2, -999.00,9, -999.00,9
740H20200119,A05_24N,72,1,15,3048,2,20200207,1317,  24.50004, -53.73354,  5965,  4067.4,  2.2499,2,  2.2555,4, 34.8839,2, 34.8837,2,   255.8,2,   256.6,2,   41.75,2,   20.73,2,    1.41,2,  2334.6,6,  2186.4,6, -999.00,9, -999.00,9
740H20200119,A05_24N,72,1,16,3049,2,20200207,1317,  24.50004, -53.73354,  5965,  3557.0,  2.4427,2,  2.4503,4, 34.9033,2, 34.9034,2,   253.7,2,   254.9,2,   39.02,2,   20.64,2,    1.41,2,  2334.3,2,  2182.1,2, -999.00,9, -999.00,9
740H20200119,A05_24N,72,1,17,3050,2,20200207,1317,  24.50004, -53.73354,  5965,  3042.7,  2.7358,2,  2.7353,2, 34.9301,2, 34.9299,2,   252.0,2,   253.4,2,   34.33,2,   20.26,2,    1.37,2,  2333.5,2,  2178.2,2, -999.00,9, -999.00,9
740H20200119,A05_24N,72,1,18,3051,2,20200207,1317,  24.50004, -53.73354,  5965,  2534.5,  3.0585,2,  3.0789,4, 34.9581,2, 34.9578,2,   251.0,2,   251.3,2,   29.00,2,   19.80,2,    1.33,2,  2328.7,6,  2180.6,6, -999.00,9, -999.00,9
740H20200119,A05_24N,72,1,19,3052,2,20200207,1317,  24.50004, -53.73354,  5965,  2023.3,  3.6603,2,  3.7207,4, 35.0103,2, 35.0102,2,   249.5,2,   249.7,2,   21.79,2,   19.09,2,    1.27,2,  2321.3,2,  2172.7,2, -999.00,9, -999.00,9
740H20200119,A05_24N,72,1,20,3053,2,20200207,1317,  24.50004, -53.73354,  5965,  1640.0,  4.6243,2,  4.7201,4, 35.0783,2, 35.0782,2,   239.5,2,   240.4,2,   15.85,2,   18.96,2,    1.25,2,  2319.8,2,  2168.3,2, -999.00,9, -999.00,9
740H20200119,A05_24N,72,1,21,3054,2,20200207,1317,  24.50004, -53.73354,  5965,  1411.0,  5.1180,2,  5.2313,4, 35.0739,2, 35.0745,2,   228.0,2,   228.9,2,   14.58,2,   19.74,2,    1.30,2,  2317.0,2,  2172.2,2, -999.00,9, -999.00,9
740H20200119,A05_24N,72,1,22,3055,2,20200207,1317,  24.50004, -53.73354,  5965,  1207.8,  5.6814,2,  5.8064,4, 35.0260,2, 35.0247,2,   199.1,2,   200.2,2,   16.77,2,   22.61,2,    1.50,2,  2316.5,2,  2184.2,2, -999.00,9, -999.00,9
740H20200119,A05_24N,72,1,23,3056,2,20200207,1317,  24.50004, -53.73354,  5965,  1106.3,  6.0528,2,  6.2207,4, 34.9879,2, 34.9870,2,   176.8,2,   178.2,2,   19.07,2,   25.10,2,    1.66,2,  2314.2,2,  2197.2,2, -999.00,9, -999.00,9
740H20200119,A05_24N,72,1,24,3057,2,20200207,1317,  24.50004, -53.73354,  5965,  1004.9,  6.6561,2,  6.9306,4, 34.9736,2, 34.9707,2,   153.5,2,   156.5,2,   20.15,2,   27.46,2,    1.80,2,  2314.8,2,  2196.7,2, -999.00,9, -999.00,9
740H20200119,A05_24N,72,1,1,3034,2,20200207,1317,  24.50004, -53.73354,  5965,   903.4,  7.7900,2,  8.3015,4, 35.0781,2, 35.0770,2,   142.7,2,   145.5,2,   17.81,2,   27.12,2,    1.74,2,  2321.6,2,  2207.2,2, -999.00,9, -999.00,9
740H20200119,A05_24N,72,1,2,3035,2,20200207,1317,  24.50004, -53.73354,  5965,   807.4,  9.5653,2, 10.2211,4, 35.2985,2, 35.2807,2,   142.9,2,   146.3,2,   13.69,2,   24.34,2,    1.51,2,  2322.2,2,  2197.7,6, -999.00,9, -999.00,9
740H20200119,A05_24N,72,1,3,3036,2,20200207,1317,  24.50004, -53.73354,  5965,   705.9, 11.4184,2, 11.8084,4, 35.5531,2, 35.5372,2,   160.4,2,   161.9,2,    8.63,2,   19.09,2,    1.14,2,  2333.0,2,  2180.0,2, -999.00,9, -999.00,9
740H20200119,A05_24N,72,1,4,3037,2,20200207,1317,  24.50004, -53.73354,  5965,   604.8, 12.9501,2, 13.4599,4, 35.7470,2, 35.7341,2,   175.3,2,   176.7,2,    5.51,2,   14.85,2,    0.87,2,  2342.6,2,  2167.9,2, -999.00,9, -999.00,9
740H20200119,A05_24N,72,1,5,3038,2,20200207,1317,  24.50004, -53.73354,  5965,   377.1, 16.9473,2, 17.4703,4, 36.3289,2, 36.3181,2,   185.1,2,   185.4,2,    2.13,2,    7.68,2,    0.39,2,  2371.4,6,  2140.2,6, -999.00,9, -999.00,9
740H20200119,A05_24N,72,1,6,6410,2,20200207,1317,  24.50004, -53.73354,  5965,   251.0, 18.7799,2, 19.3670,4, 36.6030,2, 36.5975,2,   198.0,2,   195.7,2,    0.98,2,    3.63,2,    0.14,2,  2395.2,2,  2119.8,2, -999.00,9, -999.00,9
740H20200119,A05_24N,72,1,7,6411,2,20200207,1317,  24.50004, -53.73354,  5965,   129.9, 22.5399,2, 23.8186,4, 37.1780,2, 37.1760,2,   204.5,2,   203.4,2,    0.40,2,    0.32,2,    0.00,2,  2429.1,2,  2119.0,2, -999.00,9, -999.00,9
740H20200119,A05_24N,72,1,8,6412,2,20200207,1317,  24.50004, -53.73354,  5965,    99.5, 24.4532,2,-999.0000,9, 37.3406,2, 37.3412,2,   209.0,2,   208.3,2,    0.47,2,    0.11,2,    0.00,2,  2436.9,2,  2093.9,2, -999.00,9, -999.00,9
740H20200119,A05_24N,72,1,9,6413,2,20200207,1317,  24.50004, -53.73354,  5965,    49.4, 24.4970,2, 24.4975,2, 37.1474,2, 37.1487,2,   208.9,2,   207.9,2,    0.74,2,    0.10,2,   -0.01,2,  2431.3,2,  2076.4,2, -999.00,9, -999.00,9
740H20200119,A05_24N,72,1,10,3043,2,20200207,1317,  24.50004, -53.73354,  5965,     5.1, 24.4960,2,-999.0000,9, 37.1441,2, 37.1457,2,   210.0,2,   190.9,4,    0.74,2,    0.12,2,   -0.01,2,  2431.6,6,  2076.9,6, -999.00,9, -999.00,9
740H20200119,A05_24N,73,1,11,3044,4,20200208,0502,  24.83909, -53.10178,  5834,  5939.2,  2.1239,2,  2.1219,4, 34.8461,2, 34.8633,4,   250.3,2,   250.2,4,   51.56,4,   22.03,4,    1.35,4,  2339.6,4,  2197.5,4, -999.00,9, -999.00,9
740H20200119,A05_24N,73,1,12,3045,2,20200208,0502,  24.83909, -53.10178,  5834,  5866.6,  2.1145,2,  2.1144,2, 34.8464,2, 34.8456,2,   250.3,2,   249.6,2,   55.69,2,   22.41,3,    1.40,3,  2344.4,2,  2199.5,2, -999.00,9, -999.00,9
740H20200119,A05_24N,73,1,13,3046,2,20200208,0502,  24.83909, -53.10178,  5834,  5350.5,  2.0811,2,  2.0816,4, 34.8504,2, 34.8503,2,   250.6,2,   249.9,2,   54.22,2,   22.22,3,    1.38,3,  2341.5,2,  2201.9,2, -999.00,9, -999.00,9
740H20200119,A05_24N,73,1,14,7131,2,20200208,0502,  24.83909, -53.10178,  5834,  4830.9,  2.0992,2,  2.1024,4, 34.8595,2, 34.8603,2,   252.1,2,   251.8,2,   50.89,2,   21.87,3,    1.37,3,  2337.7,2,  2199.9,2, -999.00,9, -999.00,9
740H20200119,A05_24N,73,1,15,3048,2,20200208,0502,  24.83909, -53.10178,  5834,  4318.4,  2.1829,2,  2.1898,4, 34.8745,2, 34.8746,2,   253.8,2,   254.0,2,   45.69,2,   21.12,3,    1.32,3,  2337.2,2,  2189.0,2, -999.00,9, -999.00,9
740H20200119,A05_24N,73,1,16,3049,2,20200208,0502,  24.83909, -53.10178,  5834,  3807.6,  2.3361,2,  2.3458,4, 34.8928,2, 34.8930,2,   254.2,2,   254.3,2,   41.31,2,   20.71,3,    1.29,3,  2336.4,6,  2189.0,6, -999.00,9, -999.00,9
740H20200119,A05_24N,73,1,17,3050,2,20200208,0502,  24.83909, -53.10178,  5834,  3292.0,  2.6113,2,  2.6077,2, 34.9187,2, 34.9200,2,   252.8,2,   252.8,2,   36.03,2,   20.43,3,    1.26,3,  2332.4,2,  2187.7,2, -999.00,9, -999.00,9
740H20200119,A05_24N,73,1,18,3051,2,20200208,0502,  24.83909, -53.10178,  5834,  2783.0,  2.9012,2,  2.9239,4, 34.9445,2, 34.9448,2,   250.7,2,   250.7,2,   31.45,2,   20.18,3,    1.23,3,  2329.8,2,  2180.8,6, -999.00,9, -999.00,9
740H20200119,A05_24N,73,1,19,3052,2,20200208,0502,  24.83909, -53.10178,  5834,  2276.0,  3.3196,2,  3.3724,4, 34.9813,2, 34.9817,2,   250.5,2,   250.0,2,   25.20,2,   19.48,3,    1.19,3,  2326.4,6,  2179.6,6, -999.00,9, -999.00,9
740H20200119,A05_24N,73,1,20,3053,2,20200208,0502,  24.83909, -53.10178,  5834,  1765.0,  4.3927,2,  4.4812,4, 35.0687,2, 35.0691,2,   241.5,2,   241.3,2,   17.05,2,   19.00,3,    1.16,3,  2316.6,2,  2173.6,2, -999.00,9, -999.00,9
740H20200119,A05_24N,73,1,21,3054,2,20200208,0502,  24.83909, -53.10178,  5834,  1510.2,  4.9609,2,  4.9691,4, 35.0816,2, 35.0806,2,   230.2,2,   230.7,2,   15.19,2,   19.66,3,    1.19,3,  -999.0,9,  2176.2,6, -999.00,9, -999.00,9
740H20200119,A05_24N,73,1,22,3055,2,20200208,0502,  24.83909, -53.10178,  5834,  1306.3,  5.5435,2,  5.5924,4, 35.0779,2, 35.0781,2,   213.2,2,   213.7,2,   15.15,2,   20.86,3,    1.27,3,  2316.7,2,  2183.3,2, -999.00,9, -999.00,9
740H20200119,A05_24N,73,1,23,3056,2,20200208,0502,  24.83909, -53.10178,  5834,  1153.6,  6.1900,2,  6.2777,4, 35.0605,2, 35.0602,2,   182.0,2,   181.5,2,   17.63,2,   24.13,3,    1.49,3,  2317.6,2,  2193.6,6, -999.00,9, -999.00,9
740H20200119,A05_24N,73,1,24,3057,2,20200208,0502,  24.83909, -53.10178,  5834,  1057.3,  6.8818,2,  7.0303,4, 35.0805,2, 35.0753,2,   164.0,2,   164.9,2,   17.98,2,   25.39,3,    1.56,3,  2317.9,2,  2203.3,2, -999.00,9, -999.00,9
740H20200119,A05_24N,73,1,1,3034,2,20200208,0502,  24.83909, -53.10178,  5834,   955.7,  8.0533,2,  8.3199,4, 35.1845,2, 35.1665,2,   153.2,2,   152.7,2,   16.28,2,   25.09,3,    1.53,3,  2321.7,6,  2198.2,6, -999.00,9, -999.00,9
740H20200119,A05_24N,73,1,2,3035,2,20200208,0502,  24.83909, -53.10178,  5834,   854.4,  9.1667,2,  9.4904,4, 35.2816,2, 35.2716,2,   147.6,2,   147.5,2,   13.67,2,   23.93,3,    1.42,3,  2322.3,6,  2195.7,6, -999.00,9, -999.00,9
740H20200119,A05_24N,73,1,3,3036,2,20200208,0502,  24.83909, -53.10178,  5834,   753.4, 10.8161,2, 10.9937,4, 35.4781,2, 35.4669,2,   155.4,2,   154.7,2,    9.80,2,   20.54,3,    1.18,3,  2329.1,2,  2187.1,2, -999.00,9, -999.00,9
740H20200119,A05_24N,73,1,4,3037,2,20200208,0502,  24.83909, -53.10178,  5834,   651.2, 12.2372,2, 12.6336,4, 35.6454,2, 35.6295,2,   162.9,2,   161.6,2,    7.16,2,   17.52,3,    0.99,3,  2337.6,2,  2174.2,2, -999.00,9, -999.00,9
740H20200119,A05_24N,73,1,5,3038,2,20200208,0502,  24.83909, -53.10178,  5834,   504.4, 14.8255,2, 15.2674,4, 36.0046,2, 35.9931,2,   178.5,2,   178.4,2,    3.67,2,   11.53,3,    0.61,3,  2355.9,2,  2155.7,2, -999.00,9, -999.00,9
740H20200119,A05_24N,73,1,6,6410,2,20200208,0502,  24.83909, -53.10178,  5834,   302.5, 18.3736,2, 18.6425,4, 36.5492,2, 36.5371,2,   194.5,2,   193.7,2,    1.32,2,    4.67,3,    0.19,3,  2387.1,2,  2131.2,2, -999.00,9, -999.00,9
740H20200119,A05_24N,73,1,7,6411,2,20200208,0502,  24.83909, -53.10178,  5834,   201.4, 19.5586,2, 19.7910,4, 36.7011,2, 36.6985,2,   197.7,2,   197.0,2,    0.75,2,    1.86,3,    0.04,3,  2395.9,2,  2121.1,2, -999.00,9, -999.00,9
740H20200119,A05_24N,73,1,8,6412,2,20200208,0502,  24.83909, -53.10178,  5834,   151.5, 21.3511,2, 21.3950,2, 36.9461,2, 36.9132,2,   201.0,2,   200.2,2,    0.50,2,    0.50,3,   -0.01,3,  2411.3,2,  2117.0,2, -999.00,9, -999.00,9
740H20200119,A05_24N,73,1,9,6413,2,20200208,0502,  24.83909, -53.10178,  5834,    75.7, 23.1464,2, 23.1447,2, 37.2393,2, 37.2394,2,   212.2,2,   212.1,2,    0.57,2,    0.11,3,   -0.02,3,  2431.0,2,  2095.7,2, -999.00,9, -999.00,9
740H20200119,A05_24N,73,1,10,3043,4,20200208,0502,  24.83909, -53.10178,  5834,     4.7, 23.1286,2, 23.1143,4, 37.2403,2, 37.0335,4,   213.2,2,   205.0,4,    0.89,4,    1.36,4,    0.05,4,  2418.2,4,  2108.1,4, -999.00,9, -999.00,9