BOTTLE,20221012CCHSIOENA
EXPOCODE,SECT_ID,STNNBR,CASTNO,SAMPNO,BTLNBR,BTLNBR_FLAG_W,DATE,TIME,LATITUDE,LONGITUDE,DEPTH,CTDPRS,CTDTMP,CTDTMP_FLAG_W,SBE35,SBE35_FLAG_W,CTDSAL,CTDSAL_FLAG_W,SALNTY,SALNTY_FLAG_W,CTDOXY,CTDOXY_FLAG_W,OXYGEN,OXYGEN_FLAG_W,SILCAT,SILCAT_FLAG_W,NO2+NO3,NO2+NO3_FLAG_W,PHSPHT,PHSPHT_FLAG_W,ALKALI,ALKALI_FLAG_W,TCARBN,TCARBN_FLAG_W,DELC14,DELC14_FLAG_W,DELC13,DELC13_FLAG_W
 , , , , , , , , , , , ,DBAR,ITS-90, ,ITS-90, ,PSS-78, ,PSS-78, ,UMOL/KG, ,UMOL/KG, ,UMOL/KG, ,UMOL/KG, ,UMOL/KG, ,UMOL/KG, ,UMOL/KG, ,/MILLE, ,/MILLE, 
740H20200119,A05_24N,68,1,11,3044,2,20200206,0218,  24.49918, -56.66787,  6005,  6117.7,  2.1042,2,  2.1042,2, 34.8414,2, 34.8419,2,   249.4,2,   248.2,2,   57.94,2,   22.78,2,    1.57,2,  2341.9,6,  2204.7,6, -999.00,9, -999.00,9
740H20200119,A05_24N,68,1,12,3045,2,20200206,0218,  24.49918, -56.66787,  6005,  5618.0,  2.0421,2,  2.0420,2, 34.8424,2, 34.8428,2,   249.0,2,   248.5,2,   57.41,2,   22.67,2,    1.57,2,  2341.9,2,  2210.0,2, -999.00,9, -999.00,9
740H20200119,A05_24N,68,1,13,3046,2,20200206,0218,  24.49918, -56.66787,  6005,  5102.6,  2.0640,2,  2.0752,4, 34.8535,2, 34.8535,2,   252.2,2,   251.8,2,   52.16,2,   21.90,2,    1.51,2,  2340.8,2,  2196.1,2, -999.00,9, -999.00,9
740H20200119,A05_24N,68,1,14,7131,2,20200206,0218,  24.49918, -56.66787,  6005,  4586.1,  2.2120,2,  2.2221,4, 34.8771,2, 34.8790,2,   257.3,2,   257.7,2,   41.95,2,   20.54,2,    1.41,2,  2332.4,2,  2187.4,6, -999.00,9, -999.00,9
740H20200119,A05_24N,68,1,15,3048,2,20200206,0218,  24.49918, -56.66787,  6005,  4072.6,  2.3246,2,  2.3333,4, 34.8913,2, 34.8916,2,   257.6,2,   257.7,2,   38.75,2,   20.19,2,    1.39,2,  2331.6,2,  2185.0,2, -999.00,9, -999.00,9
740H20200119,A05_24N,68,1,16,3049,2,20200206,0218,  24.49918, -56.66787,  6005,  3559.5,  2.5023,2,  2.5175,4, 34.9093,2, 34.9095,2,   257.0,2,   256.6,2,   35.29,2,   20.04,2,    1.37,2,  2327.1,2,  2180.8,2, -999.00,9, -999.00,9
740H20200119,A05_24N,68,1,17,3050,2,20200206,0218,  24.49918, -56.66787,  6005,  3048.0,  2.7540,2,  2.7582,2, 34.9314,2, 34.9317,2,   254.7,2,   254.0,2,   31.42,2,   19.88,2,    1.35,2,  2331.8,2,  2184.1,2, -999.00,9, -999.00,9
740H20200119,A05_24N,68,1,18,3051,2,20200206,0218,  24.49918, -56.66787,  6005,  2537.3,  3.1277,2,  3.1576,4, 34.9630,2, 34.9633,2,   252.1,2,   251.2,2,   27.18,2,   19.62,2,    1.32,2,  2326.1,2,  2174.7,2, -999.00,9, -999.00,9
740H20200119,A05_24N,68,1,19,3052,2,20200206,0218,  24.49918, -56.66787,  6005,  2028.5,  3.7567,2,  3.7728,4, 35.0108,2, 35.0108,2,   251.4,2,   250.6,2,   19.59,2,   18.92,2,    1.26,2,  2319.8,6,  2169.5,6, -999.00,9, -999.00,9
740H20200119,A05_24N,68,1,20,3053,2,20200206,0218,  24.49918, -56.66787,  6005,  1647.2,  4.3772,2,  4.4754,4, 35.0355,2, 35.0367,2,   247.8,2,   247.7,2,   14.46,2,   18.60,2,    1.22,2,  2313.9,2,  2176.2,2, -999.00,9, -999.00,9
740H20200119,A05_24N,68,1,21,3054,2,20200206,0218,  24.49918, -56.66787,  6005,  1419.8,  4.9575,2,  5.0814,4, 35.0558,2, 35.0563,2,   234.5,2,   233.9,2,   13.89,2,   19.37,2,    1.28,2,  2310.1,2,  2173.0,2, -999.00,9, -999.00,9
740H20200119,A05_24N,68,1,22,3055,2,20200206,0218,  24.49918, -56.66787,  6005,  1216.7,  5.7100,2,  5.8203,4, 35.0609,2, 35.0606,2,   204.6,2,   203.6,2,   15.91,2,   21.93,2,    1.44,2,  2315.4,2,  2189.7,2, -999.00,9, -999.00,9
740H20200119,A05_24N,68,1,23,3056,2,20200206,0218,  24.49918, -56.66787,  6005,  1115.9,  6.0871,2,  6.2791,4, 35.0411,2, 35.0401,2,   186.1,2,   184.8,2,   17.28,2,   23.72,2,    1.56,2,  2315.3,2,  2191.1,2, -999.00,9, -999.00,9
740H20200119,A05_24N,68,1,24,3057,2,20200206,0218,  24.49918, -56.66787,  6005,  1014.1,  6.6619,2,  6.8235,4, 35.0178,2, 35.0190,2,   162.4,2,   161.7,2,   18.65,2,   26.12,2,    1.71,2,  2312.4,6,  2199.9,6, -999.00,9, -999.00,9
740H20200119,A05_24N,68,1,1,3034,2,20200206,0218,  24.49918, -56.66787,  6005,   912.9,  7.3973,2,  7.8104,4, 35.0245,2, 35.0214,2,   144.2,2,   142.9,2,   18.67,2,   27.57,2,    1.79,2,  2314.4,2,  2206.1,2, -999.00,9, -999.00,9
740H20200119,A05_24N,68,1,2,3035,2,20200206,0218,  24.49918, -56.66787,  6005,   812.6,  8.9201,2,  9.6238,4, 35.1928,2, 35.1894,2,   139.8,2,   138.7,2,   15.06,2,   25.60,2,    1.62,2,  -999.0,9,  -999.0,9, -999.00,9, -999.00,9
740H20200119,A05_24N,68,1,3,3036,2,20200206,0218,  24.49918, -56.66787,  6005,   711.7, 10.9555,2, 11.5610,4, 35.4604,2, 35.4548,2,   146.2,2,   144.7,2,   10.16,2,   21.47,2,    1.30,2,  2328.3,6,  2185.1,6, -999.00,9, -999.00,9
740H20200119,A05_24N,68,1,4,3037,2,20200206,0218,  24.49918, -56.66787,  6005,   610.0, 12.9237,2, 13.4778,4, 35.7390,2, 35.7372,2,   166.6,2,   166.0,2,    5.81,2,   15.72,2,    0.92,2,  2343.2,2,  2170.7,2, -999.00,9, -999.00,9
740H20200119,A05_24N,68,1,5,3038,2,20200206,0218,  24.49918, -56.66787,  6005,   408.3, 16.2638,2, 16.8531,4, 36.2256,2, 36.2243,2,   179.8,2,   178.7,2,    2.59,2,    9.20,2,    0.50,2,  2368.6,2,  2149.7,2, -999.00,9, -999.00,9
740H20200119,A05_24N,68,1,6,6410,2,20200206,0218,  24.49918, -56.66787,  6005,   207.0, 20.2205,2, 21.1123,4, 36.8580,2, 36.8515,2,   184.6,2,   183.3,2,    0.64,2,    2.38,2,    0.07,2,  2408.8,2,  2137.0,2, -999.00,9, -999.00,9
740H20200119,A05_24N,68,1,7,6411,2,20200206,0218,  24.49918, -56.66787,  6005,   106.6, 24.0170,2, 24.1591,4, 37.2909,2, 37.2895,2,   209.0,2,   210.1,2,    0.47,2,   -0.01,2,    0.00,2,  2433.1,2,  2095.1,2, -999.00,9, -999.00,9
740H20200119,A05_24N,68,1,8,6412,2,20200206,0218,  24.49918, -56.66787,  6005,    56.7, 24.2317,2, 24.2292,2, 37.2238,2, 37.2254,2,   210.3,2,   210.5,2,    0.60,2,    0.00,2,   -0.01,2,  2432.3,2,  2087.9,2, -999.00,9, -999.00,9
740H20200119,A05_24N,68,1,9,6413,2,20200206,0218,  24.49918, -56.66787,  6005,    30.8, 24.2157,2, 24.2050,4, 37.1684,2, 37.1680,2,   210.7,2,   212.2,2,    0.67,2,   -0.01,2,   -0.01,2,  2427.4,2,  2080.9,2, -999.00,9, -999.00,9
740H20200119,A05_24N,68,1,10,3043,2,20200206,0218,  24.49918, -56.66787,  6005,    11.7, 24.1993,2, 24.1905,4, 37.1625,2, 37.1634,2,   211.0,2,   211.8,2,    0.69,2,    0.00,2,    0.00,2,  2429.6,6,  2084.0,6, -999.00,9, -999.00,9
740H20200119,A05_24N,69,1,11,3044,2,20200206,1112,  24.49999, -55.95009,  6466,  6595.2,  2.1708,2,  2.1682,4, 34.8412,2, 34.8429,2,   249.3,2,   248.1,2,   57.94,2,   23.25,2,    1.57,2,  2345.5,6,  2205.8,6, -999.00,1, -999.00,1
740H20200119,A05_24N,69,1,12,3045,2,20200206,1112,  24.49999, -55.95009,  6466,  6397.1,  2.1420,2,  2.1416,2, 34.8411,2, 34.8419,2,   249.2,2,   248.6,2,   57.90,2,   23.16,2,    1.57,2,  2345.1,2,  2209.5,2, -999.00,1, -999.00,1
740H20200119,A05_24N,69,1,13,3046,2,20200206,1112,  24.49999, -55.95009,  6466,  5877.7,  2.0701,2,  2.0673,4, 34.8415,2, 34.8415,2,   249.2,2,   248.3,2,   57.85,2,   23.09,2,    1.56,2,  2344.4,6,  2206.6,6, -999.00,1, -999.00,1
740H20200119,A05_24N,69,1,14,7131,2,20200206,1112,  24.49999, -55.95009,  6466,  5362.3,  2.0194,2,  2.0198,4, 34.8440,2, 34.8430,2,   249.7,2,   248.8,2,   56.69,2,   22.94,2,    1.56,2,  -999.0,9,  -999.0,9, -999.00,1, -999.00,1
740H20200119,A05_24N,69,1,15,3048,2,20200206,1112,  24.49999, -55.95009,  6466,  4845.6,  2.1482,2,  2.1569,4, 34.8671,2, 34.8669,2,   255.2,2,   255.6,2,   46.32,2,   21.43,2,    1.46,2,  2336.9,2,  2193.3,2, -999.00,1, -999.00,1
740H20200119,A05_24N,69,1,16,3049,2,20200206,1112,  24.49999, -55.95009,  6466,  4331.0,  2.2818,2,  2.2863,4, 34.8882,2, 34.8889,2,   261.4,2,   261.6,2,   36.21,2,   19.91,2,    1.35,2,  2328.9,2,  2183.7,2, -999.00,1, -999.00,1
740H20200119,A05_24N,69,1,17,3050,2,20200206,1112,  24.49999, -55.95009,  6466,  3817.5,  2.4011,2,  2.4126,4, 34.9011,2, 34.9048,2,   261.5,2,   261.5,2,   33.43,2,   19.78,2,    1.33,2,  2328.9,2,  2178.9,2, -999.00,1, -999.00,1
740H20200119,A05_24N,69,1,18,3051,2,20200206,1112,  24.49999, -55.95009,  6466,  3305.7,  2.6192,2,  2.6201,2, 34.9197,2, 34.9203,2,   256.3,2,   256.2,2,   33.33,2,   20.24,2,    1.36,2,  2328.2,2,  2181.4,2, -999.00,1, -999.00,1
740H20200119,A05_24N,69,1,19,3052,2,20200206,1112,  24.49999, -55.95009,  6466,  2795.5,  2.9134,2,  2.9271,4, 34.9452,2, 34.9450,2,   253.0,2,   252.7,2,   30.21,2,   20.33,2,    1.34,2,  2325.9,2,  2179.3,2, -999.00,1, -999.00,1
740H20200119,A05_24N,69,1,20,3053,2,20200206,1112,  24.49999, -55.95009,  6466,  2284.5,  3.3767,2,  3.4157,4, 34.9838,2, 34.9836,2,   251.6,2,   250.7,2,   23.94,2,   19.73,2,    1.30,2,  2321.6,2,  2178.7,2, -999.00,1, -999.00,1
740H20200119,A05_24N,69,1,21,3054,2,20200206,1112,  24.49999, -55.95009,  6466,  1776.7,  4.2543,2,  4.3348,4, 35.0447,2, 35.0454,2,   247.3,2,   247.0,2,   16.14,2,   19.02,2,    1.23,2,  2317.6,6,  2170.6,6, -999.00,1, -999.00,1
740H20200119,A05_24N,69,1,22,3055,2,20200206,1112,  24.49999, -55.95009,  6466,  1522.7,  4.9399,2,  4.9660,4, 35.0784,2, 35.0785,2,   234.4,2,   233.9,2,   14.46,2,   19.65,2,    1.27,2,  2316.0,2,  2174.8,2, -999.00,1, -999.00,1
740H20200119,A05_24N,69,1,23,3056,2,20200206,1112,  24.49999, -55.95009,  6466,  1319.9,  5.4018,2,  5.4872,4, 35.0691,2, 35.0706,2,   216.9,2,   216.9,2,   15.02,2,   21.04,2,    1.36,2,  2321.0,2,  2182.9,2, -999.00,1, -999.00,1
740H20200119,A05_24N,69,1,24,3057,2,20200206,1112,  24.49999, -55.95009,  6466,  1168.4,  5.9447,2,  6.0957,4, 35.0227,2, 35.0232,2,   188.6,2,   188.4,2,   17.21,2,   23.82,2,    1.55,2,  2315.9,6,  2191.8,6, -999.00,9, -999.00,9
740H20200119,A05_24N,69,1,1,3034,2,20200206,1112,  24.49999, -55.95009,  6466,  1066.9,  6.4558,2,  6.6989,4, 34.9920,2, 34.9907,2,   164.1,2,   162.9,2,   19.18,2,   26.51,2,    1.72,2,  2318.2,2,  2205.1,2, -999.00,1, -999.00,1
740H20200119,A05_24N,69,1,2,3035,2,20200206,1112,  24.49999, -55.95009,  6466,   966.4,  7.3757,2,  7.7937,4, 35.0524,2, 35.0496,2,   148.0,2,   147.6,2,   18.50,2,   27.25,2,    1.76,2,  2315.1,2,  2203.0,2, -999.00,1, -999.00,1
740H20200119,A05_24N,69,1,3,3036,2,20200206,1112,  24.49999, -55.95009,  6466,   864.9,  8.4240,2,  8.9319,4, 35.1454,2, 35.1391,2,   141.3,2,   140.3,2,   16.32,2,   26.49,2,    1.67,2,  2318.9,6,  2200.2,6, -999.00,1, -999.00,1
740H20200119,A05_24N,69,1,4,3037,2,20200206,1112,  24.49999, -55.95009,  6466,   764.3, 10.2695,2, 10.9495,4, 35.3818,2, 35.3743,2,   144.8,2,   144.0,2,   11.74,2,   22.90,2,    1.41,2,  2326.7,2,  2190.8,2, -999.00,1, -999.00,1
740H20200119,A05_24N,69,1,5,3038,2,20200206,1112,  24.49999, -55.95009,  6466,   663.3, 12.1643,2, 12.7040,4, 35.6386,2, 35.6369,2,   157.8,2,   157.0,2,    7.33,2,   18.02,2,    1.06,2,  2335.1,2,  2177.8,2, -999.00,1, -999.00,1
740H20200119,A05_24N,69,1,6,6410,2,20200206,1112,  24.49999, -55.95009,  6466,   511.7, 14.6158,2, 15.2656,4, 35.9808,2, 35.9670,2,   173.0,2,   172.3,2,    4.05,2,   12.50,2,    0.70,2,  2356.1,6,  2161.1,6, -999.00,1, -999.00,1
740H20200119,A05_24N,69,1,7,6411,2,20200206,1112,  24.49999, -55.95009,  6466,   310.0, 18.3129,2, 18.5918,4, 36.5451,2, 36.5461,2,   186.4,2,   186.0,2,    1.34,2,    5.29,2,    0.23,2,  2389.4,2,  2138.2,2, -999.00,1, -999.00,1
740H20200119,A05_24N,69,1,8,6412,2,20200206,1112,  24.49999, -55.95009,  6466,   153.9, 22.2605,2, 22.7541,4, 37.0459,2, 37.0491,2,   205.4,2,   205.4,2,    0.48,2,    0.30,2,    0.00,2,  2420.2,2,  2108.3,2, -999.00,1, -999.00,1
740H20200119,A05_24N,69,1,9,6413,2,20200206,1112,  24.49999, -55.95009,  6466,    79.4, 23.9885,2, 23.9823,2, 37.2383,2, 37.2291,2,   209.6,2,   208.6,2,    0.60,2,    0.20,2,    0.00,2,  2432.7,2,  2091.1,2, -999.00,1, -999.00,1
740H20200119,A05_24N,69,1,10,3043,2,20200206,1112,  24.49999, -55.95009,  6466,     8.1, 24.0544,2, 23.2120,4, 37.2473,2, 37.2479,2,   209.0,2,   208.8,2,    0.67,2,    0.19,2,    0.00,2,  2436.2,2,  2087.5,2, -999.00,1, -999.00,1
740H20200119,A05_24N,70,1,11,3044,2,20200206,1949,  24.50010, -55.20070,  5897,  6005.2,  2.1048,2,  2.1049,4, 34.8431,2, 34.8430,2,   249.3,2,   249.7,2,   56.64,2,   22.92,2,    1.55,2,  2342.1,6,  2204.2,6, -999.00,9, -999.00,9
740H20200119,A05_24N,70,1,12,3045,2,20200206,1949,  24.50010, -55.20070,  5897,  5618.5,  2.0674,2,  2.0674,2, 34.8450,2, 34.8448,2,   249.1,2,   250.1,2,   56.15,2,   22.79,2,    1.55,2,  2346.0,2,  2204.3,2, -999.00,9, -999.00,9
740H20200119,A05_24N,70,1,13,3046,2,20200206,1949,  24.50010, -55.20070,  5897,  5103.3,  2.0553,2,  2.0587,4, 34.8512,2, 34.8504,2,   250.7,2,   251.0,2,   53.59,2,   22.42,2,    1.52,2,  2342.2,2,  2201.4,2, -999.00,9, -999.00,9
740H20200119,A05_24N,70,1,14,7131,2,20200206,1949,  24.50010, -55.20070,  5897,  4072.5,  2.2813,2,  2.2849,4, 34.8874,2, 34.8872,2,   256.8,2,   258.0,2,   39.83,2,   20.50,2,    1.39,2,  2330.9,6,  2185.1,6, -999.00,9, -999.00,9
740H20200119,A05_24N,70,1,15,3048,2,20200206,1949,  24.50010, -55.20070,  5897,  3560.0,  2.4766,2,  2.4781,4, 34.9067,2, 34.9066,2,   256.0,2,   256.6,2,   36.08,2,   20.31,2,    1.37,2,  2329.9,2,  2184.2,2, -999.00,9, -999.00,9
740H20200119,A05_24N,70,1,16,3049,2,20200206,1949,  24.50010, -55.20070,  5897,  3049.5,  2.7557,2,  2.7590,2, 34.9315,2, 34.9319,2,   251.4,2,   252.4,2,   33.82,2,   20.48,2,    1.36,2,  2334.4,2,  2185.3,2, -999.00,9, -999.00,9
740H20200119,A05_24N,70,1,17,3050,2,20200206,1949,  24.50010, -55.20070,  5897,  2539.3,  3.0795,2,  3.0984,4, 34.9587,2, 34.9583,2,   251.7,2,   253.0,2,   27.73,2,   19.74,2,    1.31,2,  2327.2,2,  2183.1,2, -999.00,9, -999.00,9
740H20200119,A05_24N,70,1,18,3051,2,20200206,1949,  24.50010, -55.20070,  5897,  2029.6,  3.7337,2,  3.7475,4, 35.0143,2, 35.0148,2,   248.5,2,   249.6,2,   20.87,2,   19.33,2,    1.26,2,  2323.0,6,  2174.8,6, -999.00,9, -999.00,9
740H20200119,A05_24N,70,1,19,3052,2,20200206,1949,  24.50010, -55.20070,  5897,  1648.2,  4.6709,2,  4.7137,4, 35.0831,2, 35.0821,2,   236.8,2,   238.0,2,   16.05,2,   19.48,2,    1.26,2,  2263.1,3,  2175.1,2, -999.00,9, -999.00,9
740H20200119,A05_24N,70,1,20,3053,2,20200206,1949,  24.50010, -55.20070,  5897,  1420.5,  5.1072,2,  5.1310,4, 35.0642,2, 35.0647,2,   225.3,2,   227.4,2,   14.96,2,   20.32,2,    1.32,2,  2316.5,2,  2175.6,2, -999.00,9, -999.00,9
740H20200119,A05_24N,70,1,21,3054,2,20200206,1949,  24.50010, -55.20070,  5897,  1217.6,  5.7841,2,  5.8165,4, 35.0362,2, 35.0363,2,   197.4,2,   199.6,2,   16.48,2,   22.81,2,    1.49,2,  2315.2,6,  2187.6,6, -999.00,9, -999.00,9
740H20200119,A05_24N,70,1,22,3055,2,20200206,1949,  24.50010, -55.20070,  5897,  1117.0,  6.0832,2,  6.0849,2, 34.9947,2, 34.9943,2,   175.4,2,   178.1,2,   18.70,2,   25.41,2,    1.66,2,  2318.1,2,  2197.6,2, -999.00,9, -999.00,9
740H20200119,A05_24N,70,1,23,3056,2,20200206,1949,  24.50010, -55.20070,  5897,  1015.3,  7.1712,2,  7.1745,4, 35.0710,2, 35.0724,2,   155.2,2,   159.5,2,   18.18,2,   26.29,2,    1.70,2,  2317.0,2,  2202.0,2, -999.00,9, -999.00,9
740H20200119,A05_24N,70,1,24,3057,2,20200206,1949,  24.50010, -55.20070,  5897,   914.4,  7.7907,2,  7.9601,4, 35.0686,2, 35.0668,2,   141.7,2,   144.5,2,   17.80,2,   27.40,2,    1.75,2,  2320.5,2,  2204.3,2, -999.00,9, -999.00,9
740H20200119,A05_24N,70,1,1,3034,2,20200206,1949,  24.50010, -55.20070,  5897,   813.9,  9.7039,2,  9.9321,4, 35.3197,2, 35.3145,2,   141.7,2,   145.4,2,   13.05,2,   24.11,2,    1.48,2,  2315.4,2,  2195.4,2, -999.00,9, -999.00,9
740H20200119,A05_24N,70,1,2,3035,2,20200206,1949,  24.50010, -55.20070,  5897,   707.3, 11.5421,2, 11.5704,4, 35.5652,2, 35.5640,2,   155.3,2,   159.3,2,    8.34,2,   19.33,2,    1.13,2,  2333.8,6,  2183.2,6, -999.00,9, -999.00,9
740H20200119,A05_24N,70,1,3,3036,2,20200206,1949,  24.50010, -55.20070,  5897,   606.5, 13.0814,2, 13.3757,4, 35.7654,2, 35.7624,2,   167.8,2,   172.6,2,    5.49,2,   15.39,2,    0.89,2,  2343.8,2,  2167.5,2, -999.00,9, -999.00,9
740H20200119,A05_24N,70,1,4,3037,2,20200206,1949,  24.50010, -55.20070,  5897,   379.7, 16.8831,2, 17.0363,4, 36.3278,2, 36.3248,2,   185.3,2,   187.5,2,    2.03,2,    7.60,2,    0.38,2,  2375.1,2,  2145.2,2, -999.00,9, -999.00,9
740H20200119,A05_24N,70,1,5,3038,2,20200206,1949,  24.50010, -55.20070,  5897,   253.7, 18.7878,2, 19.0360,4, 36.6068,2, 36.6030,2,   195.6,2,   195.9,2,    1.02,2,    3.80,2,    0.16,2,  2391.5,6,  2126.2,6, -999.00,9, -999.00,9
740H20200119,A05_24N,70,1,6,6410,2,20200206,1949,  24.50010, -55.20070,  5897,   178.2, 19.7213,2, 20.6909,4, 36.7061,2, 36.7041,2,   196.9,2,   197.2,2,    0.65,2,    1.55,2,    0.04,2,  2398.9,2,  2121.6,2, -999.00,9, -999.00,9
740H20200119,A05_24N,70,1,7,6411,2,20200206,1949,  24.50010, -55.20070,  5897,   133.1, 22.3450,2, 22.4662,2, 37.1583,2, 37.1509,2,   202.3,2,   202.1,2,    0.42,2,    0.42,2,    0.01,2,  2426.8,2,  2120.9,2, -999.00,9, -999.00,9
740H20200119,A05_24N,70,1,8,6412,2,20200206,1949,  24.50010, -55.20070,  5897,   102.9, 23.4289,2, 23.7203,4, 37.1341,2, 37.1344,2,   213.2,2,   211.5,2,    0.57,2,    0.16,2,    0.00,2,  2427.6,2,  2086.2,2, -999.00,9, -999.00,9
740H20200119,A05_24N,70,1,9,6413,2,20200206,1949,  24.50010, -55.20070,  5897,    52.7, 24.1305,2, 24.1263,2, 37.2711,2, 37.2711,2,   209.9,2,   209.1,2,    0.64,2,    0.16,2,   -0.01,2,  2434.8,2,  2088.6,2, -999.00,9, -999.00,9
740H20200119,A05_24N,70,1,10,3043,2,20200206,1949,  24.50010, -55.20070,  5897,     7.8, 24.1208,2,-999.0000,9, 37.2731,2, 37.2725,2,   210.5,2,   209.3,2,    0.69,2,    0.17,2,   -0.01,2,  2436.2,2,  2091.4,2, -999.00,9, -999.00,9