BOTTLE,20221012CCHSIOENA
EXPOCODE,SECT_ID,STNNBR,CASTNO,SAMPNO,BTLNBR,BTLNBR_FLAG_W,DATE,TIME,LATITUDE,LONGITUDE,DEPTH,CTDPRS,CTDTMP,CTDTMP_FLAG_W,SBE35,SBE35_FLAG_W,CTDSAL,CTDSAL_FLAG_W,SALNTY,SALNTY_FLAG_W,CTDOXY,CTDOXY_FLAG_W,OXYGEN,OXYGEN_FLAG_W,SILCAT,SILCAT_FLAG_W,NO2+NO3,NO2+NO3_FLAG_W,PHSPHT,PHSPHT_FLAG_W,ALKALI,ALKALI_FLAG_W,TCARBN,TCARBN_FLAG_W,DELC14,DELC14_FLAG_W,DELC13,DELC13_FLAG_W
 , , , , , , , , , , , ,DBAR,ITS-90, ,ITS-90, ,PSS-78, ,PSS-78, ,UMOL/KG, ,UMOL/KG, ,UMOL/KG, ,UMOL/KG, ,UMOL/KG, ,UMOL/KG, ,UMOL/KG, ,/MILLE, ,/MILLE, 
740H20200119,A05_24N,77,1,11,3044,2,20200209,1251,  24.93735, -51.16720,  5796,  5902.7,  2.1774,2,  2.1771,2, 34.8528,2, 34.8530,2,   251.5,2,   251.0,2,   52.96,2,   22.60,2,    1.51,2,  2342.0,6,  2202.5,6, -999.00,9, -999.00,9
740H20200119,A05_24N,77,1,12,3045,2,20200209,1251,  24.93735, -51.16720,  5796,  5349.1,  2.1092,2,  2.1089,2, 34.8537,2, 34.8538,2,   251.2,2,   251.0,2,   52.60,2,   22.53,2,    1.51,2,  2343.0,2,  2203.3,2, -999.00,9, -999.00,9
740H20200119,A05_24N,77,1,13,3046,2,20200209,1251,  24.93735, -51.16720,  5796,  4834.6,  2.1303,2,  2.1300,2, 34.8639,2, 34.8638,2,   253.4,2,   253.4,2,   48.90,2,   22.00,2,    1.48,2,  2342.7,2,  2200.6,2, -999.00,9, -999.00,9
740H20200119,A05_24N,77,1,14,7131,2,20200209,1251,  24.93735, -51.16720,  5796,  4322.5,  2.1657,2,  2.1670,2, 34.8733,2, 34.8725,2,   254.0,2,   254.1,2,   45.87,2,   21.60,2,    1.46,2,  2339.3,6,  2193.5,6, -999.00,9, -999.00,9
740H20200119,A05_24N,77,1,15,3048,2,20200209,1251,  24.93735, -51.16720,  5796,  3811.0,  2.3094,2,  2.3097,2, 34.8912,2, 34.8909,2,   254.9,2,   255.5,2,   40.96,2,   21.01,2,    1.41,2,  2335.7,2,  2188.8,2, -999.00,9, -999.00,9
740H20200119,A05_24N,77,1,16,3049,2,20200209,1251,  24.93735, -51.16720,  5796,  3296.5,  2.5612,2,  2.5677,2, 34.9152,2, 34.9155,2,   253.7,2,   253.9,2,   36.37,2,   20.66,2,    1.38,2,  2331.1,2,  2186.9,2, -999.00,9, -999.00,9
740H20200119,A05_24N,77,1,17,3050,2,20200209,1251,  24.93735, -51.16720,  5796,  2787.7,  2.8802,2,  2.8845,2, 34.9429,2, 34.9433,2,   251.0,2,   251.0,2,   31.81,2,   20.32,2,    1.35,2,  2331.4,2,  2184.5,2, -999.00,9, -999.00,9
740H20200119,A05_24N,77,1,18,3051,2,20200209,1251,  24.93735, -51.16720,  5796,  2276.2,  3.2971,2,  3.2986,2, 34.9796,2, 34.9801,2,   250.4,2,   250.1,2,   25.72,2,   19.71,2,    1.30,2,  2326.4,2,  2180.7,2, -999.00,9, -999.00,9
740H20200119,A05_24N,77,1,19,3052,2,20200209,1251,  24.93735, -51.16720,  5796,  1769.7,  4.2644,2,  4.2616,2, 35.0602,2, 35.0593,2,   243.1,2,   243.4,2,   17.90,2,   19.29,2,    1.25,2,  2320.7,6,  2176.3,6, -999.00,9, -999.00,9
740H20200119,A05_24N,77,1,20,3053,2,20200209,1251,  24.93735, -51.16720,  5796,  1515.1,  5.0274,2,  5.0337,2, 35.1107,2, 35.1099,2,   231.3,2,   232.4,2,   15.29,2,   19.62,2,    1.26,2,  2320.3,6,  2177.9,6, -999.00,9, -999.00,9
740H20200119,A05_24N,77,1,21,3054,2,20200209,1251,  24.93735, -51.16720,  5796,  1311.6,  5.6532,2,  5.6746,2, 35.1393,2, 35.1362,2,   217.9,2,   219.5,2,   14.67,2,   20.36,2,    1.31,2,  2321.4,2,  2184.6,2, -999.00,9, -999.00,9
740H20200119,A05_24N,77,1,22,3055,2,20200209,1251,  24.93735, -51.16720,  5796,  1159.5,  6.1827,2,  6.1817,2, 35.0951,2, 35.1127,2,   187.6,2,   192.0,2,   16.67,2,   23.15,2,    1.49,2,  2321.8,2,  2191.1,2, -999.00,9, -999.00,9
740H20200119,A05_24N,77,1,23,3056,2,20200209,1251,  24.93735, -51.16720,  5796,  1057.8,  6.5467,2,  6.5788,2, 35.0637,2, 35.0634,2,   170.0,2,   172.3,2,   18.32,2,   25.51,2,    1.65,2,  2317.6,6,  2202.5,6, -999.00,9, -999.00,9
740H20200119,A05_24N,77,1,24,3057,2,20200209,1251,  24.93735, -51.16720,  5796,   956.7,  7.1971,2,  7.2555,2, 35.0870,2, 35.0878,2,   156.4,2,   159.9,2,   17.99,2,   26.40,2,    1.69,2,  2318.2,2,  2201.7,2, -999.00,9, -999.00,9
740H20200119,A05_24N,77,1,1,3034,2,20200209,1251,  24.93735, -51.16720,  5796,   855.3,  8.4543,2,  8.4761,2, 35.2109,2, 35.2062,2,   149.5,2,   152.3,2,   15.40,2,   25.24,2,    1.58,2,  2321.7,6,  2201.0,6, -999.00,9, -999.00,9
740H20200119,A05_24N,77,1,2,3035,2,20200209,1251,  24.93735, -51.16720,  5796,   754.0,  9.7014,2,  9.7045,2, 35.3385,2, 35.3360,2,   150.9,2,   154.1,2,   12.42,2,   23.01,2,    1.42,2,  2329.5,2,  2192.7,2, -999.00,9, -999.00,9
740H20200119,A05_24N,77,1,3,3036,2,20200209,1251,  24.93735, -51.16720,  5796,   653.2, 11.9607,2, 12.0078,2, 35.5989,2, 35.6051,2,   161.2,2,   169.1,2,    7.35,2,   17.48,2,    1.04,2,  2338.1,2,  2178.2,2, -999.00,9, -999.00,9
740H20200119,A05_24N,77,1,4,3037,2,20200209,1251,  24.93735, -51.16720,  5796,   500.8, 14.5934,2, 14.5977,2, 35.9465,2, 35.9338,2,   179.5,2,   181.9,2,    4.21,2,   12.06,2,    0.68,2,  2356.0,2,  2158.7,2, -999.00,9, -999.00,9
740H20200119,A05_24N,77,1,5,3038,2,20200209,1251,  24.93735, -51.16720,  5796,   400.5, 16.4483,2, 16.4831,2, 36.2431,2, 36.2306,2,   190.1,2,   191.3,2,    2.54,2,    8.08,2,    0.43,2,  2370.0,2,  2144.6,2, -999.00,9, -999.00,9
740H20200119,A05_24N,77,1,6,6410,2,20200209,1251,  24.93735, -51.16720,  5796,   300.0, 18.0017,2, 17.9916,2, 36.4921,2, 36.4850,2,   192.1,2,   194.0,2,    1.58,2,    5.32,2,    0.24,2,  2383.5,2,  2133.8,2, -999.00,9, -999.00,9
740H20200119,A05_24N,77,1,7,6411,2,20200209,1251,  24.93735, -51.16720,  5796,   148.0, 20.2643,2, 20.3154,2, 36.8174,2, 36.8188,2,   198.3,2,   198.6,2,    0.72,2,    0.96,2,    0.02,2,  2404.8,2,  2126.5,2, -999.00,9, -999.00,9
740H20200119,A05_24N,77,1,8,6412,2,20200209,1251,  24.93735, -51.16720,  5796,    97.6, 23.3178,2, 23.3141,2, 37.3929,2, 37.3935,2,   211.0,2,   210.5,2,    0.59,2,    0.16,2,    0.00,2,  2441.1,2,  2107.4,2, -999.00,9, -999.00,9
740H20200119,A05_24N,77,1,9,6413,2,20200209,1251,  24.93735, -51.16720,  5796,    72.5, 23.3302,2, 23.3303,2, 37.3887,2, 37.3894,2,   211.6,2,   210.6,2,    0.64,2,    0.14,2,    0.00,2,  2442.2,2,  2109.9,2, -999.00,9, -999.00,9
740H20200119,A05_24N,77,1,10,3043,2,20200209,1251,  24.93735, -51.16720,  5796,     5.5, 23.5730,2, 23.5760,2, 37.3471,2, 37.3481,2,   212.4,2,   210.7,2,    0.81,2,    0.16,2,   -0.01,2,  2428.5,2,  2098.0,2, -999.00,9, -999.00,9
740H20200119,A05_24N,78,1,11,3044,2,20200209,2104,  24.79847, -50.63225,  5153,  5239.8,  2.1141,2,  2.1142,2, 34.8556,2, 34.8566,2,   251.5,2,   252.5,2,   51.93,2,   22.61,2,    1.50,2,  2342.7,6,  2206.0,6, -999.00,9, -999.00,9
740H20200119,A05_24N,78,1,12,3045,2,20200209,2104,  24.79847, -50.63225,  5153,  5094.5,  2.1126,2,  2.1126,2, 34.8577,2, 34.8586,2,   251.5,2,   252.8,2,   51.07,2,   22.31,2,    1.50,2,  2341.9,2,  2202.1,2, -999.00,9, -999.00,9
740H20200119,A05_24N,78,1,13,3046,2,20200209,2104,  24.79847, -50.63225,  5153,  4581.8,  2.1701,2,  2.1694,2, 34.8705,2, 34.8702,2,   253.1,2,   254.3,2,   46.58,2,   21.74,2,    1.44,2,  2338.3,2,  2196.9,2, -999.00,9, -999.00,9
740H20200119,A05_24N,78,1,14,7131,2,20200209,2104,  24.79847, -50.63225,  5153,  4065.0,  2.2395,2,  2.2405,2, 34.8823,2, 34.8828,2,   254.5,2,   255.1,2,   43.00,2,   21.24,2,    1.41,2,  2337.1,2,  2191.5,2, -999.00,9, -999.00,9
740H20200119,A05_24N,78,1,15,3048,2,20200209,2104,  24.79847, -50.63225,  5153,  3549.6,  2.3988,2,  2.4011,2, 34.8994,2, 34.9000,2,   253.4,2,   254.9,2,   39.61,2,   20.99,2,    1.39,2,  2335.7,6,  2188.3,6, -999.00,9, -999.00,9
740H20200119,A05_24N,78,1,16,3049,2,20200209,2104,  24.79847, -50.63225,  5153,  3040.9,  2.7229,2,  2.7215,2, 34.9287,2, 34.9290,2,   251.1,2,   250.6,2,   34.69,2,   20.65,2,    1.36,2,  2334.3,2,  2187.9,6, -999.00,9, -999.00,9
740H20200119,A05_24N,78,1,17,3050,2,20200209,2104,  24.79847, -50.63225,  5153,  2528.5,  3.0103,2,  3.0132,2, 34.9549,2, 34.9549,2,   250.2,2,   251.1,2,   29.72,2,   20.13,2,    1.32,2,  2330.3,2,  2184.6,2, -999.00,9, -999.00,9
740H20200119,A05_24N,78,1,18,3051,2,20200209,2104,  24.79847, -50.63225,  5153,  2017.3,  3.7009,2,  3.7045,2, 35.0163,2, 35.0169,2,   247.6,2,   248.1,2,   21.74,2,   19.39,2,    1.26,2,  2324.9,2,  2175.3,2, -999.00,9, -999.00,9
740H20200119,A05_24N,78,1,19,3052,2,20200209,2104,  24.79847, -50.63225,  5153,  1639.4,  4.6051,2,  4.6073,2, 35.0815,2, 35.0815,2,   238.2,2,   239.0,2,   16.36,2,   19.38,2,    1.24,2,  2321.7,6,  2175.4,6, -999.00,9, -999.00,9
740H20200119,A05_24N,78,1,20,3053,2,20200209,2104,  24.79847, -50.63225,  5153,  1415.8,  5.2994,2,  5.3010,2, 35.1258,2, 35.1248,2,   225.5,2,   227.1,2,   14.93,2,   19.80,2,    1.26,2,  -999.0,9,  2181.0,2, -999.00,9, -999.00,9
740H20200119,A05_24N,78,1,21,3054,2,20200209,2104,  24.79847, -50.63225,  5153,  1212.6,  6.0885,2,  6.0459,2, 35.1345,2, 35.1408,2,   199.5,2,   205.2,2,   15.68,2,   21.73,2,    1.38,2,  2323.9,2,  2193.5,2, -999.00,9, -999.00,9
740H20200119,A05_24N,78,1,22,3055,2,20200209,2104,  24.79847, -50.63225,  5153,  1111.2,  6.4377,2,  6.4563,2, 35.1177,2, 35.1172,2,   184.1,2,   187.7,2,   16.85,2,   23.54,2,    1.50,2,  2322.8,2,  2193.8,2, -999.00,9, -999.00,9
740H20200119,A05_24N,78,1,23,3056,2,20200209,2104,  24.79847, -50.63225,  5153,  1010.1,  6.9514,2,  6.9733,2, 35.0951,2, 35.0918,2,   164.1,2,   169.0,2,   17.79,2,   25.51,2,    1.62,2,  2320.4,6,  2199.8,6, -999.00,9, -999.00,9
740H20200119,A05_24N,78,1,24,3057,2,20200209,2104,  24.79847, -50.63225,  5153,   909.0,  7.8969,2,  7.9075,2, 35.1588,2, 35.1570,2,   152.8,2,   157.6,2,   16.39,2,   25.44,2,    1.59,2,  2322.3,2,  2200.1,2, -999.00,9, -999.00,9
740H20200119,A05_24N,78,1,1,3034,2,20200209,2104,  24.79847, -50.63225,  5153,   807.0,  9.4281,2,  9.4351,2, 35.3103,2, 35.2978,2,   150.1,2,   153.7,2,   13.29,2,   23.51,2,    1.44,2,  2326.6,2,  2193.0,2, -999.00,9, -999.00,9
740H20200119,A05_24N,78,1,2,3035,2,20200209,2104,  24.79847, -50.63225,  5153,   706.6, 10.9066,2, 10.9084,2, 35.4699,2, 35.4626,2,   153.7,2,   157.2,2,    9.95,2,   20.54,2,    1.22,2,  2332.5,6,  2185.4,6, -999.00,9, -999.00,9
740H20200119,A05_24N,78,1,3,3036,2,20200209,2104,  24.79847, -50.63225,  5153,   605.3, 12.6475,2, 12.7293,2, 35.6835,2, 35.6708,2,   166.8,2,   169.8,2,    6.79,2,   16.39,2,    0.95,2,  2339.9,2,  2168.6,2, -999.00,9, -999.00,9
740H20200119,A05_24N,78,1,4,3037,2,20200209,2104,  24.79847, -50.63225,  5153,   377.9, 17.0008,2, 17.0239,2, 36.3317,2, 36.3096,2,   189.2,2,   191.0,2,    2.20,2,    7.27,2,    0.36,2,  2375.0,2,  2109.8,3, -999.00,9, -999.00,9
740H20200119,A05_24N,78,1,5,3038,2,20200209,2104,  24.79847, -50.63225,  5153,   251.5, 18.6687,2, 18.6901,2, 36.5945,2, 36.5822,2,   198.4,2,   199.0,2,    1.21,2,    3.83,2,    0.15,2,  2392.4,2,  2123.5,2, -999.00,9, -999.00,9
740H20200119,A05_24N,78,1,6,6410,2,20200209,2104,  24.79847, -50.63225,  5153,   176.1, 19.8851,2, 19.9856,2, 36.7702,2, 36.7489,2,   197.0,2,   197.1,2,    0.82,2,    1.58,2,    0.02,2,  2401.4,2,  2127.2,2, -999.00,9, -999.00,9
740H20200119,A05_24N,78,1,7,6411,2,20200209,2104,  24.79847, -50.63225,  5153,   151.2, 20.9536,2, 21.0946,2, 36.9368,2, 36.8957,2,   203.5,2,   201.4,2,    0.66,2,    0.60,2,   -0.01,2,  2407.1,2,  2122.1,2, -999.00,9, -999.00,9
740H20200119,A05_24N,78,1,8,6412,2,20200209,2104,  24.79847, -50.63225,  5153,   101.3, 23.4289,2, 23.4296,2, 37.3454,2, 37.3463,2,   212.0,2,   211.4,2,    0.69,2,    0.17,2,   -0.01,2,  2439.8,2,  2100.2,2, -999.00,9, -999.00,9
740H20200119,A05_24N,78,1,9,6413,2,20200209,2104,  24.79847, -50.63225,  5153,    50.3, 23.4872,2, 23.4879,2, 37.3444,2, 37.3445,2,   212.2,2,   211.3,2,    0.75,2,    0.18,2,   -0.01,2,  2439.9,2,  2097.5,2, -999.00,9, -999.00,9
740H20200119,A05_24N,78,1,10,3043,2,20200209,2104,  24.79847, -50.63225,  5153,     8.6, 23.6184,2, 23.6170,2, 37.3430,2, 37.3439,2,   212.2,2,   210.9,2,    0.84,2,    0.17,2,   -0.01,2,  2441.6,2,  2098.3,2, -999.00,9, -999.00,9
740H20200119,A05_24N,79,1,11,3044,2,20200210,0448,  24.66904, -50.09043,  5589,  5685.1,  2.1593,2,  2.1589,2, 34.8541,2, 34.8553,2,   251.4,2,   241.9,4,   53.34,2,   22.46,2,    1.51,2,  2341.6,6,  2204.0,6, -999.00,9, -999.00,9
740H20200119,A05_24N,79,1,12,3045,2,20200210,0448,  24.66904, -50.09043,  5589,  5347.5,  2.1278,2,  2.1288,2, 34.8557,2, 34.8567,2,   251.4,2,   251.0,2,   52.85,2,   22.39,2,    1.51,2,  2343.6,2,  2200.9,2, -999.00,9, -999.00,9
740H20200119,A05_24N,79,1,13,3046,2,20200210,0448,  24.66904, -50.09043,  5589,  4833.4,  2.1747,2,  2.1728,2, 34.8681,2, 34.8686,2,   253.8,2,   253.3,2,   48.28,2,   21.75,2,    1.47,2,  2340.6,2,  2197.4,2, -999.00,9, -999.00,9
740H20200119,A05_24N,79,1,14,7131,2,20200210,0448,  24.66904, -50.09043,  5589,  4320.1,  2.2034,2,  2.2031,2, 34.8767,2, 34.8783,2,   254.5,2,   254.0,2,   45.58,2,   21.42,2,    1.44,2,  2339.0,6,  2192.0,6, -999.00,9, -999.00,9
740H20200119,A05_24N,79,1,15,3048,2,20200210,0448,  24.66904, -50.09043,  5589,  3804.3,  2.3060,2,  2.3048,2, 34.8904,2, 34.8913,2,   254.4,2,   254.4,2,   41.93,2,   21.15,2,    1.41,2,  2335.9,2,  2189.9,2, -999.00,9, -999.00,9
740H20200119,A05_24N,79,1,16,3049,2,20200210,0448,  24.66904, -50.09043,  5589,  3294.9,  2.5762,2,  2.5759,2, 34.9154,2, 34.9166,2,   252.6,2,   252.0,2,   37.21,2,   20.84,2,    1.38,2,  2330.9,2,  2184.6,2, -999.00,9, -999.00,9
740H20200119,A05_24N,79,1,17,3050,2,20200210,0448,  24.66904, -50.09043,  5589,  2786.4,  2.8896,2,  2.8914,2, 34.9436,2, 34.9445,2,   251.1,2,   250.5,2,   31.97,2,   20.35,2,    1.34,2,  2331.3,2,  2185.8,2, -999.00,9, -999.00,9
740H20200119,A05_24N,79,1,18,3051,2,20200210,0448,  24.66904, -50.09043,  5589,  2274.8,  3.2846,2,  3.2841,2, 34.9787,2, 34.9795,2,   251.3,2,   250.7,2,   25.64,2,   19.64,2,    1.29,2,  2326.3,2,  2178.5,2, -999.00,9, -999.00,9
740H20200119,A05_24N,79,1,19,3052,2,20200210,0448,  24.66904, -50.09043,  5589,  1769.5,  4.2228,2,  4.2408,2, 35.0587,2, 35.0606,2,   243.1,2,   242.2,2,   18.43,2,   19.38,2,    1.25,2,  2319.9,2,  2175.2,2, -999.00,9, -999.00,9
740H20200119,A05_24N,79,1,20,3053,2,20200210,0448,  24.66904, -50.09043,  5589,  1515.3,  4.7872,2,  4.7943,2, 35.0852,2, 35.0867,2,   235.5,2,   235.0,2,   15.71,2,   19.61,2,    1.26,2,  2279.0,3,  2174.4,2, -999.00,9, -999.00,9
740H20200119,A05_24N,79,1,21,3054,2,20200210,0448,  24.66904, -50.09043,  5589,  1312.3,  5.3326,2,  5.3341,2, 35.0760,2, 35.0813,2,   218.6,2,   219.4,2,   15.53,2,   20.85,2,    1.34,2,  2319.0,2,  2180.7,2, -999.00,9, -999.00,9
740H20200119,A05_24N,79,1,22,3055,2,20200210,0448,  24.66904, -50.09043,  5589,  1159.4,  5.9769,2,  6.0237,2, 35.0796,2, 35.0814,2,   196.6,2,   196.2,2,   16.52,2,   22.77,2,    1.48,2,  2318.5,2,  2187.0,2, -999.00,9, -999.00,9
740H20200119,A05_24N,79,1,23,3056,2,20200210,0448,  24.66904, -50.09043,  5589,  1057.9,  6.4010,2,  6.4620,2, 35.0616,2, 35.0621,2,   175.8,2,   174.0,2,   18.17,2,   24.99,2,    1.61,2,  2317.5,6,  2197.5,6, -999.00,9, -999.00,9
740H20200119,A05_24N,79,1,24,3057,2,20200210,0448,  24.66904, -50.09043,  5589,   956.4,  7.4305,2,  7.4499,2, 35.1116,2, 35.1013,2,   157.3,2,   156.3,2,   17.82,2,   25.95,2,    1.66,2,  2320.6,2,  2197.9,2, -999.00,9, -999.00,9
740H20200119,A05_24N,79,1,1,3034,2,20200210,0448,  24.66904, -50.09043,  5589,   855.2,  8.5565,2,  8.6737,2, 35.2020,2, 35.1999,2,   148.6,2,   147.4,2,   15.51,2,   25.05,2,    1.58,2,  2320.8,6,  2199.2,6, -999.00,9, -999.00,9
740H20200119,A05_24N,79,1,2,3035,2,20200210,0448,  24.66904, -50.09043,  5589,   754.1, 10.5737,2, 10.5717,2, 35.4434,2, 35.4321,2,   155.4,2,   154.1,2,   10.84,2,   21.17,2,    1.29,2,  2300.7,3,  2186.7,2, -999.00,9, -999.00,9
740H20200119,A05_24N,79,1,3,3036,2,20200210,0448,  24.66904, -50.09043,  5589,   653.2, 12.1848,2, 12.2594,2, 35.6377,2, 35.6231,2,   165.6,2,   164.3,2,    7.48,2,   17.37,2,    1.03,2,  2338.1,2,  2174.0,2, -999.00,9, -999.00,9
740H20200119,A05_24N,79,1,4,3037,2,20200210,0448,  24.66904, -50.09043,  5589,   501.1, 14.7955,2, 14.8736,2, 35.9826,2, 35.9676,2,   180.4,2,   180.0,2,    4.07,2,   11.51,2,    0.66,2,  2356.1,6,  2155.5,6, -999.00,9, -999.00,9
740H20200119,A05_24N,79,1,5,3038,2,20200210,0448,  24.66904, -50.09043,  5589,   299.8, 18.0743,2, 18.0776,2, 36.5081,2, 36.4977,2,   197.2,2,   196.5,2,    1.55,2,    4.90,2,    0.23,2,  -999.0,9,  2119.4,6, -999.00,9, -999.00,9
740H20200119,A05_24N,79,1,6,6410,2,20200210,0448,  24.66904, -50.09043,  5589,   148.1, 21.4624,2, 21.5289,2, 37.0422,2, 36.9710,2,   204.1,2,   200.6,2,    0.64,2,    0.72,2,    0.02,2,  2414.3,6,  2122.0,6, -999.00,9, -999.00,9
740H20200119,A05_24N,79,1,7,6411,2,20200210,0448,  24.66904, -50.09043,  5589,    75.5, 23.6297,2, 23.6377,2, 37.4762,2, 37.4771,2,   210.1,2,   209.7,2,    0.63,2,    0.17,2,    0.01,2,  2448.3,2,  2108.2,2, -999.00,9, -999.00,9
740H20200119,A05_24N,79,1,8,6412,2,20200210,0448,  24.66904, -50.09043,  5589,    50.8, 23.6422,2, 23.6400,2, 37.4774,2, 37.4783,2,   210.3,2,   210.8,2,    0.61,2,    0.18,2,    0.01,2,  2448.6,2,  2111.5,2, -999.00,9, -999.00,9
740H20200119,A05_24N,79,1,9,6413,2,20200210,0448,  24.66904, -50.09043,  5589,    26.4, 23.6406,2, 23.6394,2, 37.4796,2, 37.4802,2,   210.4,2,   209.5,2,    0.62,2,    0.17,2,    0.00,2,  2448.9,2,  2110.4,2, -999.00,9, -999.00,9
740H20200119,A05_24N,79,1,10,3043,2,20200210,0448,  24.66904, -50.09043,  5589,     6.3, 23.6364,2, 23.6361,2, 37.4803,2, 37.4806,2,   210.3,2,   210.2,2,    0.66,2,    0.17,2,    0.00,2,  2450.2,2,  2109.0,2, -999.00,9, -999.00,9