BOTTLE,20221012CCHSIOENA
EXPOCODE,SECT_ID,STNNBR,CASTNO,SAMPNO,BTLNBR,BTLNBR_FLAG_W,DATE,TIME,LATITUDE,LONGITUDE,DEPTH,CTDPRS,CTDTMP,CTDTMP_FLAG_W,SBE35,SBE35_FLAG_W,CTDSAL,CTDSAL_FLAG_W,SALNTY,SALNTY_FLAG_W,CTDOXY,CTDOXY_FLAG_W,OXYGEN,OXYGEN_FLAG_W,SILCAT,SILCAT_FLAG_W,NO2+NO3,NO2+NO3_FLAG_W,PHSPHT,PHSPHT_FLAG_W,ALKALI,ALKALI_FLAG_W,TCARBN,TCARBN_FLAG_W,DELC14,DELC14_FLAG_W,DELC13,DELC13_FLAG_W
 , , , , , , , , , , , ,DBAR,ITS-90, ,ITS-90, ,PSS-78, ,PSS-78, ,UMOL/KG, ,UMOL/KG, ,UMOL/KG, ,UMOL/KG, ,UMOL/KG, ,UMOL/KG, ,UMOL/KG, ,/MILLE, ,/MILLE, 
740H20200119,A05_24N,98,1,11,3044,2,20200215,2120,  23.70956, -39.61661,  5383,  5476.0,  2.4102,2,  2.4102,2, 34.8783,2, 34.8784,2,   247.5,2,   247.8,2,   48.54,2,   22.22,2,    1.50,2,  2344.9,6,  2200.1,6, -999.00,1, -999.00,1
740H20200119,A05_24N,98,1,12,3045,2,20200215,2120,  23.70956, -39.61661,  5383,  5376.3,  2.3977,2,  2.3974,2, 34.8784,2, 34.8791,2,   247.6,2,   247.9,2,   48.23,2,   22.21,2,    1.49,2,  2346.9,2,  2198.8,2, -999.00,1, -999.00,1
740H20200119,A05_24N,98,1,13,3046,2,20200215,2120,  23.70956, -39.61661,  5383,  4856.8,  2.3628,2,  2.3626,2, 34.8817,2, 34.8816,2,   247.2,2,   247.1,2,   47.41,2,   22.16,2,    1.48,2,  2345.8,2,  2200.3,2, -999.00,1, -999.00,1
740H20200119,A05_24N,98,1,14,7131,2,20200215,2120,  23.70956, -39.61661,  5383,  4317.7,  2.3945,2,  2.3952,2, 34.8916,2, 34.8918,2,   245.8,2,   246.7,2,   45.25,2,   21.97,2,    1.47,2,  2329.7,6,  2197.8,6, -999.00,1, -999.00,1
740H20200119,A05_24N,98,1,15,3048,4,20200215,2120,  23.70956, -39.61661,  5383,  3806.1,  2.4790,2,  2.4809,2, 34.9051,2,-999.0000,9,   245.7,2,  -999.0,5, -999.00,9, -999.00,9, -999.00,9,  -999.0,9,  -999.0,9, -999.00,9, -999.00,9
740H20200119,A05_24N,98,1,16,3049,2,20200215,2120,  23.70956, -39.61661,  5383,  3296.3,  2.6613,2,  2.6629,2, 34.9262,2, 34.9267,2,   244.3,2,   244.7,2,   38.03,2,   21.30,2,    1.42,2,  2340.2,2,  2190.7,2, -999.00,1, -999.00,1
740H20200119,A05_24N,98,1,17,3050,2,20200215,2120,  23.70956, -39.61661,  5383,  2787.1,  2.9583,2,  2.9597,2, 34.9514,2, 34.9518,2,   245.1,2,   245.9,2,   32.18,2,   20.74,2,    1.37,2,  2334.0,6,  2189.2,6, -999.00,1, -999.00,1
740H20200119,A05_24N,98,1,18,3051,2,20200215,2120,  23.70956, -39.61661,  5383,  2433.5,  3.2422,2,  3.2450,2, 34.9718,2, 34.9719,2,   245.0,2,   245.6,2,   27.72,2,   20.38,2,    1.34,2,  2326.7,2,  2179.9,2, -999.00,9, -999.00,9
740H20200119,A05_24N,98,1,19,3052,2,20200215,2120,  23.70956, -39.61661,  5383,  2279.9,  3.4177,2,  3.4128,2, 34.9829,2, 34.9829,2,   244.0,2,   244.4,2,   25.76,2,   20.32,2,    1.34,2,  2324.7,2,  2177.2,2, -999.00,1, -999.00,1
740H20200119,A05_24N,98,1,20,3053,2,20200215,2120,  23.70956, -39.61661,  5383,  1768.9,  4.1588,2,  4.1596,2, 35.0211,2, 35.0215,2,   233.6,2,   234.8,2,   20.07,2,   20.56,2,    1.35,2,  2320.8,6,  2175.0,6, -999.00,1, -999.00,1
740H20200119,A05_24N,98,1,21,3054,2,20200215,2120,  23.70956, -39.61661,  5383,  1513.7,  4.6579,2,  4.6760,2, 35.0373,2, 35.0346,2,   220.5,2,   222.0,2,   18.52,2,   21.46,2,    1.40,2,  2317.2,2,  2181.3,2, -999.00,1, -999.00,1
740H20200119,A05_24N,98,1,22,3055,2,20200215,2120,  23.70956, -39.61661,  5383,  1310.2,  5.1384,2,  5.1502,2, 35.0272,2, 35.0271,2,   203.0,2,   205.2,2,   18.50,2,   22.98,2,    1.50,2,  2317.3,2,  2184.3,2, -999.00,1, -999.00,1
740H20200119,A05_24N,98,1,23,3056,2,20200215,2120,  23.70956, -39.61661,  5383,  1158.2,  5.5910,2,  5.5994,2, 35.0237,2, 35.0247,2,   191.4,2,   193.0,2,   18.40,2,   23.89,2,    1.55,2,  2317.7,6,  2193.2,6, -999.00,1, -999.00,1
740H20200119,A05_24N,98,1,24,3057,2,20200215,2120,  23.70956, -39.61661,  5383,  1061.3,  5.9732,2,  5.9935,2, 35.0157,2, 35.0157,2,   176.9,2,   180.0,2,   19.12,2,   25.23,2,    1.64,2,  2317.7,2,  2196.1,2, -999.00,1, -999.00,1
740H20200119,A05_24N,98,1,1,3034,2,20200215,2120,  23.70956, -39.61661,  5383,   960.2,  6.9770,2,  7.0271,2, 35.1189,2, 35.1086,2,   165.3,2,   168.0,2,   17.91,2,   25.18,2,    1.62,2,  2321.7,2,  2201.7,2, -999.00,1, -999.00,1
740H20200119,A05_24N,98,1,2,3035,2,20200215,2120,  23.70956, -39.61661,  5383,   859.1,  8.1550,2,  8.3305,2, 35.2085,2, 35.2120,2,   153.4,2,   156.6,2,   15.73,2,   24.71,2,    1.56,2,  2324.5,6,  2198.4,6, -999.00,1, -999.00,1
740H20200119,A05_24N,98,1,3,3036,2,20200215,2120,  23.70956, -39.61661,  5383,   757.6,  9.6322,2,  9.6368,2, 35.3530,2, 35.3585,2,   153.9,2,   156.5,2,   12.28,2,   22.37,2,    1.37,2,  2328.6,2,  2191.5,2, -999.00,1, -999.00,1
740H20200119,A05_24N,98,1,4,3037,2,20200215,2120,  23.70956, -39.61661,  5383,   656.5, 11.2388,2, 11.3436,2, 35.5417,2, 35.5370,2,   163.0,2,   165.4,2,    8.54,2,   18.81,2,    1.12,2,  2340.6,2,  2185.5,2, -999.00,1, -999.00,1
740H20200119,A05_24N,98,1,5,3038,2,20200215,2120,  23.70956, -39.61661,  5383,   505.0, 13.9875,2, 13.8693,2, 35.8762,2, 35.8569,2,   181.0,2,   182.9,2,    4.42,2,   12.52,2,    0.71,2,  2348.5,2,  2158.7,2, -999.00,1, -999.00,1
740H20200119,A05_24N,98,1,6,6410,2,20200215,2120,  23.70956, -39.61661,  5383,   302.8, 17.5758,2, 17.6110,2, 36.4260,2, 36.4190,2,   200.3,2,   201.5,2,    1.58,2,    5.19,2,    0.24,2,  2381.5,2,  2134.2,2, -999.00,1, -999.00,1
740H20200119,A05_24N,98,1,7,6411,2,20200215,2120,  23.70956, -39.61661,  5383,   201.8, 18.5539,2, 18.5590,2, 36.5742,2, 36.5729,2,   204.1,2,   204.9,2,    1.05,2,    3.34,2,    0.13,2,  2386.9,2,  2120.2,3, -999.00,1, -999.00,1
740H20200119,A05_24N,98,1,8,6412,2,20200215,2120,  23.70956, -39.61661,  5383,   131.4, 20.3463,2, 20.6929,2, 36.8973,2, 36.9065,2,   197.6,2,   197.6,2,    0.65,2,    1.06,2,    0.03,2,  2411.8,2,  2133.4,2, -999.00,1, -999.00,1
740H20200119,A05_24N,98,1,9,6413,2,20200215,2120,  23.70956, -39.61661,  5383,    76.0, 23.4040,2, 23.4011,2, 37.5072,2, 37.5079,2,   210.7,2,   210.1,2,    0.65,2,    0.11,2,   -0.00,2,  2447.4,2,  2116.4,2, -999.00,1, -999.00,1
740H20200119,A05_24N,98,1,10,3043,2,20200215,2120,  23.70956, -39.61661,  5383,     7.6, 23.4380,2, 23.4330,2, 37.5134,2, 37.5144,2,   210.8,2,   210.5,2,    0.61,2,    0.12,2,   -0.00,2,  -999.0,9,  -999.0,9, -999.00,1, -999.00,1
740H20200119,A05_24N,99,1,11,3044,2,20200216,0538,  23.83905, -38.90009,  5621,  5722.1,  2.4403,2,  2.4400,2, 34.8780,2, 34.8789,2,   248.0,2,   246.2,2,   48.40,2,   22.25,2,    1.48,2,  2350.1,6,  2202.3,6, -999.00,9, -999.00,9
740H20200119,A05_24N,99,1,12,3045,2,20200216,0538,  23.83905, -38.90009,  5621,  5618.0,  2.4261,2,  2.4259,2, 34.8780,2, 34.8778,2,   247.6,2,   246.5,2,   47.95,2,   22.25,2,    1.49,2,  2346.1,6,  2199.6,6, -999.00,9, -999.00,9
740H20200119,A05_24N,99,1,13,3046,2,20200216,0538,  23.83905, -38.90009,  5621,  5092.9,  2.3713,2,  2.3710,2, 34.8798,2, 34.8793,2,   247.8,2,   246.3,2,   47.45,2,   22.25,2,    1.48,2,  2343.8,2,  2200.8,2, -999.00,9, -999.00,9
740H20200119,A05_24N,99,1,14,7131,2,20200216,0538,  23.83905, -38.90009,  5621,  4574.3,  2.3538,2,  2.3539,2, 34.8846,2, 34.8838,2,   246.5,2,   245.8,2,   46.49,2,   22.19,2,    1.47,2,  2347.1,2,  2199.6,2, -999.00,9, -999.00,9
740H20200119,A05_24N,99,1,15,3048,2,20200216,0538,  23.83905, -38.90009,  5621,  4062.0,  2.4063,2,  2.4043,2, 34.8956,2, 34.8951,2,   246.2,2,   245.8,2,   44.01,2,   21.94,2,    1.45,2,  2342.4,2,  2198.7,2, -999.00,9, -999.00,9
740H20200119,A05_24N,99,1,16,3049,2,20200216,0538,  23.83905, -38.90009,  5621,  3551.1,  2.5038,2,  2.5039,2, 34.9103,2, 34.9113,2,   245.4,2,   244.5,2,   41.05,2,   21.70,2,    1.44,2,  -999.0,9,  2195.5,6, -999.00,9, -999.00,9
740H20200119,A05_24N,99,1,17,3050,2,20200216,0538,  23.83905, -38.90009,  5621,  3037.0,  2.7635,2,  2.7662,2, 34.9370,2, 34.9365,2,   244.3,2,   242.9,2,   35.68,2,   21.22,2,    1.40,2,  2335.5,2,  2189.8,2, -999.00,9, -999.00,9
740H20200119,A05_24N,99,1,18,3051,2,20200216,0538,  23.83905, -38.90009,  5621,  2534.0,  3.0879,2,  3.0845,2, 34.9621,2, 34.9613,2,   245.4,2,   244.9,2,   29.88,2,   20.58,2,    1.36,2,  2331.6,2,  2183.2,2, -999.00,9, -999.00,9
740H20200119,A05_24N,99,1,19,3052,2,20200216,0538,  23.83905, -38.90009,  5621,  2022.7,  3.7115,2,  3.7114,2, 35.0036,2, 35.0030,2,   243.2,2,   241.9,2,   22.61,2,   20.13,2,    1.32,2,  2322.4,2,  2175.2,2, -999.00,9, -999.00,9
740H20200119,A05_24N,99,1,20,3053,2,20200216,0538,  23.83905, -38.90009,  5621,  1640.3,  4.3805,2,  4.3749,2, 35.0352,2, 35.0342,2,   230.7,2,   230.3,2,   18.75,2,   20.65,2,    1.35,2,  2335.9,6,  2176.7,2, -999.00,9, -999.00,9
740H20200119,A05_24N,99,1,21,3054,2,20200216,0538,  23.83905, -38.90009,  5621,  1410.8,  5.0624,2,  5.0478,2, 35.0760,2, 35.0743,2,   217.6,2,   217.6,2,   17.02,2,   21.20,2,    1.38,2,  2319.4,2,  2179.7,2, -999.00,9, -999.00,9
740H20200119,A05_24N,99,1,22,3055,2,20200216,0538,  23.83905, -38.90009,  5621,  1208.1,  5.9294,2,  5.9613,2, 35.1169,2, 35.1155,2,   195.9,2,   195.0,2,   16.91,2,   22.68,2,    1.46,2,  2320.7,2,  2191.2,2, -999.00,9, -999.00,9
740H20200119,A05_24N,99,1,23,3056,2,20200216,0538,  23.83905, -38.90009,  5621,  1105.8,  6.5417,2,  6.5388,2, 35.1384,2, 35.1345,2,   180.7,2,   181.1,2,   17.03,2,   23.62,2,    1.52,2,  2320.7,2,  2193.3,2, -999.00,9, -999.00,9
740H20200119,A05_24N,99,1,24,3057,2,20200216,0538,  23.83905, -38.90009,  5621,  1004.6,  7.0245,2,  7.0298,2, 35.1492,2, 35.1484,2,   168.8,2,   168.2,2,   17.09,2,   24.48,2,    1.57,2,  2322.3,6,  2196.6,6, -999.00,9, -999.00,9
740H20200119,A05_24N,99,1,1,3034,2,20200216,0538,  23.83905, -38.90009,  5621,   903.0,  7.7820,2,  7.7978,2, 35.1819,2, 35.1778,2,   157.6,2,   157.2,2,   16.27,2,   24.81,2,    1.58,2,  2322.7,2,  2198.6,2, -999.00,9, -999.00,9
740H20200119,A05_24N,99,1,2,3035,2,20200216,0538,  23.83905, -38.90009,  5621,   806.5,  9.2331,2,  9.2536,2, 35.3266,2, 35.3214,2,   152.4,2,   152.2,2,   13.32,2,   23.16,2,    1.44,2,  2327.3,6,  2194.6,6, -999.00,9, -999.00,9
740H20200119,A05_24N,99,1,3,3036,2,20200216,0538,  23.83905, -38.90009,  5621,   705.4, 10.5892,2, 10.5947,2, 35.4738,2, 35.4662,2,   157.8,2,   157.3,2,   10.06,2,   20.36,2,    1.25,2,  2330.1,2,  2186.5,2, -999.00,9, -999.00,9
740H20200119,A05_24N,99,1,4,3037,2,20200216,0538,  23.83905, -38.90009,  5621,   604.3, 12.0475,2, 12.0545,2, 35.6384,2, 35.6368,2,   169.7,2,   169.9,2,    6.73,2,   16.55,2,    0.98,2,  2339.6,2,  2172.2,2, -999.00,9, -999.00,9
740H20200119,A05_24N,99,1,5,3038,2,20200216,0538,  23.83905, -38.90009,  5621,   461.8, 14.6961,2, 14.9560,4, 35.9919,2, 35.9698,2,   175.0,2,   175.1,2,    3.82,2,   11.92,2,    0.68,2,  2354.0,6,  2159.3,6, -999.00,9, -999.00,9
740H20200119,A05_24N,99,1,6,6410,2,20200216,0538,  23.83905, -38.90009,  5621,   200.5, 19.4565,2, 19.4499,2, 36.7697,2, 36.7563,2,   190.2,2,   189.4,2,    0.90,2,    3.19,2,    0.13,2,  2401.0,2,  2140.0,2, -999.00,9, -999.00,9
740H20200119,A05_24N,99,1,7,6411,2,20200216,0538,  23.83905, -38.90009,  5621,   114.5, 22.9882,2, 23.2351,2, 37.4463,2, 37.4091,2,   208.6,2,   207.7,2,    0.46,2,    0.17,2,   -0.00,2,  2442.9,2,  2119.4,2, -999.00,9, -999.00,9
740H20200119,A05_24N,99,1,8,6412,2,20200216,0538,  23.83905, -38.90009,  5621,    94.0, 23.2927,2, 23.2797,2, 37.5229,2, 37.5231,2,   209.9,2,   210.8,2,    0.42,2,    0.10,2,   -0.00,2,  2452.1,2,  2119.2,2, -999.00,9, -999.00,9
740H20200119,A05_24N,99,1,9,6413,2,20200216,0538,  23.83905, -38.90009,  5621,    48.9, 23.2927,2, 23.2906,2, 37.5245,2, 37.5253,2,   210.6,2,   210.8,2,    0.45,2,    0.10,2,   -0.01,2,  2451.4,2,  2120.6,2, -999.00,9, -999.00,9
740H20200119,A05_24N,99,1,10,3043,2,20200216,0538,  23.83905, -38.90009,  5621,     3.8, 23.2888,2, 23.2861,2, 37.5277,2, 37.5275,2,   210.6,2,   210.5,2,    0.47,2,    0.11,2,   -0.00,2,  2452.4,2,  2118.6,2, -999.00,9, -999.00,9
740H20200119,A05_24N,100,1,11,3044,2,20200216,1403,  23.96907, -38.18251,  5164,  5250.6,  2.3978,2,  2.3974,2, 34.8802,2, 34.8803,2,   247.5,2,   247.5,2,   48.89,2,   22.21,2,    1.49,2,  2347.1,6,  2202.3,6, -999.00,9, -999.00,9
740H20200119,A05_24N,100,1,12,3045,2,20200216,1403,  23.96907, -38.18251,  5164,  4832.6,  2.3720,2,  2.3741,2, 34.8833,2, 34.8834,2,   247.1,2,   246.8,2,   48.19,2,   22.15,2,    1.48,2,  2343.7,6,  2200.7,6, -999.00,9, -999.00,9
740H20200119,A05_24N,100,1,13,3046,2,20200216,1403,  23.96907, -38.18251,  5164,  4319.7,  2.3993,2,  2.3987,2, 34.8923,2, 34.8925,2,   246.2,2,   246.4,2,   46.23,2,   22.04,2,    1.47,2,  2346.9,6,  2198.6,6, -999.00,9, -999.00,9
740H20200119,A05_24N,100,1,14,7131,2,20200216,1403,  23.96907, -38.18251,  5164,  3808.5,  2.4440,2,  2.4445,2, 34.9022,2, 34.9016,2,   245.6,2,   245.5,2,   43.92,2,   21.81,2,    1.45,2,  2341.4,6,  2197.2,6, -999.00,9, -999.00,9
740H20200119,A05_24N,100,1,15,3048,2,20200216,1403,  23.96907, -38.18251,  5164,  3293.2,  2.6186,2,  2.6162,2, 34.9230,2, 34.9217,2,   244.2,2,   244.5,2,   39.84,2,   21.50,2,    1.43,2,  2338.2,6,  2191.1,6, -999.00,9, -999.00,9
740H20200119,A05_24N,100,1,16,3049,2,20200216,1403,  23.96907, -38.18251,  5164,  2785.3,  2.8908,2,  2.8910,2, 34.9481,2, 34.9477,2,   244.1,2,   244.2,2,   34.38,2,   20.96,2,    1.40,2,  2330.8,6,  2186.4,6, -999.00,9, -999.00,9
740H20200119,A05_24N,100,1,17,3050,2,20200216,1403,  23.96907, -38.18251,  5164,  2278.0,  3.3321,2,  3.3344,2, 34.9796,2, 34.9796,2,   243.9,2,   244.9,2,   27.42,2,   20.42,2,    1.35,2,  2322.1,6,  2178.1,6, -999.00,9, -999.00,9
740H20200119,A05_24N,100,1,18,3051,2,20200216,1403,  23.96907, -38.18251,  5164,  1767.4,  4.0565,2,  4.0712,2, 35.0302,2, 35.0314,2,   237.7,2,   238.4,2,   20.86,2,   20.20,2,    1.32,2,  2318.2,2,  2177.7,2, -999.00,9, -999.00,9
740H20200119,A05_24N,100,1,19,3052,2,20200216,1403,  23.96907, -38.18251,  5164,  1518.3,  4.8332,2,  4.8364,2, 35.0904,2, 35.0897,2,   225.6,2,   227.4,2,   17.79,2,   20.49,2,    1.33,2,  2321.5,2,  2182.1,2, -999.00,9, -999.00,9
740H20200119,A05_24N,100,1,20,3053,2,20200216,1403,  23.96907, -38.18251,  5164,  1315.2,  5.6449,2,  5.6396,2, 35.1395,2, 35.1407,2,   208.3,2,   210.4,2,   16.77,2,   21.30,2,    1.38,2,  2320.1,6,  2185.2,6, -999.00,9, -999.00,9
740H20200119,A05_24N,100,1,21,3054,2,20200216,1403,  23.96907, -38.18251,  5164,  1162.8,  6.2455,2,  6.2367,2, 35.1635,2, 35.1602,2,   192.8,2,   195.0,2,   16.92,2,   22.44,2,    1.45,2,  2325.2,2,  2191.6,2, -999.00,9, -999.00,9
740H20200119,A05_24N,100,1,22,3055,2,20200216,1403,  23.96907, -38.18251,  5164,  1061.3,  6.9046,2,  6.9617,2, 35.1855,2, 35.1844,2,   176.3,2,   179.0,2,   17.02,2,   23.57,2,    1.51,2,  2323.2,2,  2197.3,2, -999.00,9, -999.00,9
740H20200119,A05_24N,100,1,23,3056,2,20200216,1403,  23.96907, -38.18251,  5164,   959.7,  7.5875,2,  7.6218,2, 35.2138,2, 35.2119,2,   164.0,2,   168.0,2,   16.51,2,   24.10,2,    1.53,2,  2325.0,2,  2200.8,2, -999.00,9, -999.00,9
740H20200119,A05_24N,100,1,24,3057,2,20200216,1403,  23.96907, -38.18251,  5164,   858.9,  8.7332,2,  8.7375,2, 35.2986,2, 35.2895,2,   155.2,2,   161.8,2,   14.65,2,   23.55,2,    1.47,2,  2326.1,6,  2197.1,6, -999.00,9, -999.00,9
740H20200119,A05_24N,100,1,1,3034,2,20200216,1403,  23.96907, -38.18251,  5164,   757.6, 10.0106,2,  9.9935,2, 35.4209,2, 35.4158,2,   156.7,2,   168.5,3,   11.55,2,   21.36,2,    1.31,2,  2328.6,2,  2186.5,2, -999.00,9, -999.00,9
740H20200119,A05_24N,100,1,2,3035,2,20200216,1403,  23.96907, -38.18251,  5164,   656.5, 11.4730,2, 11.4674,2, 35.5711,2, 35.5707,2,   166.5,2,   169.9,2,    8.03,2,   17.88,2,    1.07,2,  2336.1,6,  2179.2,6, -999.00,9, -999.00,9
740H20200119,A05_24N,100,1,3,3036,2,20200216,1403,  23.96907, -38.18251,  5164,   504.8, 13.8380,2, 13.8559,2, 35.8702,2, 35.8461,2,   176.8,2,   180.7,2,    4.58,2,   13.15,2,    0.75,2,  2347.5,2,  2165.4,2, -999.00,9, -999.00,9
740H20200119,A05_24N,100,1,4,3037,2,20200216,1403,  23.96907, -38.18251,  5164,   378.7, 16.5221,2, 16.5271,2, 36.2675,2, 36.2477,2,   184.0,2,   184.6,2,    2.43,2,    8.40,2,    0.44,2,  2371.9,2,  2147.5,2, -999.00,9, -999.00,9
740H20200119,A05_24N,100,1,5,3038,2,20200216,1403,  23.96907, -38.18251,  5164,   252.5, 18.4760,2, 18.4197,2, 36.5841,2, 36.5760,2,   193.0,2,   194.3,2,    1.22,2,    4.49,2,    0.20,2,  2389.9,2,  2133.3,2, -999.00,9, -999.00,9
740H20200119,A05_24N,100,1,6,6410,2,20200216,1403,  23.96907, -38.18251,  5164,   176.5, 20.2379,2, 20.1772,2, 36.9169,2, 36.8854,2,   192.2,2,   194.2,2,    0.79,2,    1.95,2,    0.06,2,  2410.4,2,  2135.6,2, -999.00,9, -999.00,9
740H20200119,A05_24N,100,1,7,6411,2,20200216,1403,  23.96907, -38.18251,  5164,   151.9, 20.8649,2, 20.8062,2, 37.0289,2, 36.9911,2,   194.1,2,   194.5,2,    0.64,2,    1.47,2,    0.05,2,  2416.3,2,  2136.5,2, -999.00,9, -999.00,9
740H20200119,A05_24N,100,1,8,6412,2,20200216,1403,  23.96907, -38.18251,  5164,   126.3, 22.9871,2, 23.0482,2, 37.4735,2, 37.3911,2,   207.6,2,   205.3,2,    0.51,2,    0.33,2,    0.01,2,  2443.7,2,  2125.6,2, -999.00,9, -999.00,9
740H20200119,A05_24N,100,1,9,6413,2,20200216,1403,  23.96907, -38.18251,  5164,    51.6, 23.2793,2, 23.2767,2, 37.5360,2, 37.5361,2,   210.9,2,   210.9,2,    0.52,2,    0.13,2,    0.01,2,  2451.0,2,  2121.6,2, -999.00,9, -999.00,9
740H20200119,A05_24N,100,1,10,3043,2,20200216,1403,  23.96907, -38.18251,  5164,     5.9, 23.3063,2, 23.3150,2, 37.5373,2, 37.5388,2,   211.6,2,   210.7,2,    0.51,2,    0.12,2,    0.01,2,  2453.6,2,  2120.2,2, -999.00,9, -999.00,9