BOTTLE,20221012CCHSIOENA
EXPOCODE,SECT_ID,STNNBR,CASTNO,SAMPNO,BTLNBR,BTLNBR_FLAG_W,DATE,TIME,LATITUDE,LONGITUDE,DEPTH,CTDPRS,CTDTMP,CTDTMP_FLAG_W,SBE35,SBE35_FLAG_W,CTDSAL,CTDSAL_FLAG_W,SALNTY,SALNTY_FLAG_W,CTDOXY,CTDOXY_FLAG_W,OXYGEN,OXYGEN_FLAG_W,SILCAT,SILCAT_FLAG_W,NO2+NO3,NO2+NO3_FLAG_W,PHSPHT,PHSPHT_FLAG_W,ALKALI,ALKALI_FLAG_W,TCARBN,TCARBN_FLAG_W,DELC14,DELC14_FLAG_W,DELC13,DELC13_FLAG_W
 , , , , , , , , , , , ,DBAR,ITS-90, ,ITS-90, ,PSS-78, ,PSS-78, ,UMOL/KG, ,UMOL/KG, ,UMOL/KG, ,UMOL/KG, ,UMOL/KG, ,UMOL/KG, ,UMOL/KG, ,/MILLE, ,/MILLE, 
740H20200119,A05_24N,62,1,11,3044,2,20200203,2134,  24.49988, -61.06667,  5858,  5966.7,  2.0857,2,  2.0854,2, 34.8417,2, 34.8420,2,   248.6,2,   250.7,2,   57.49,2,   22.99,2,    1.56,2,  2345.0,6,  2207.6,6, -999.00,9, -999.00,9
740H20200119,A05_24N,62,1,12,3045,2,20200203,2134,  24.49988, -61.06667,  5858,  5632.4,  2.0555,2,  2.0552,2, 34.8440,2, 34.8452,2,   248.7,2,   250.6,2,   56.47,2,   22.87,2,    1.54,2,  2342.8,2,  2205.6,2, -999.00,9, -999.00,9
740H20200119,A05_24N,62,1,13,3046,2,20200203,2134,  24.49988, -61.06667,  5858,  5111.3,  2.1317,2,  2.1371,4, 34.8623,2, 34.8626,2,   254.4,2,   255.5,2,   47.85,2,   21.52,2,    1.46,2,  2338.7,2,  2196.3,2, -999.00,9, -999.00,9
740H20200119,A05_24N,62,1,14,7131,2,20200203,2134,  24.49988, -61.06667,  5858,  4591.6,  2.2605,2,  2.2645,4, 34.8842,2, 34.8850,2,   261.7,2,   264.2,2,   36.87,2,   19.81,2,    1.33,2,  -999.0,9,  -999.0,9, -999.00,9, -999.00,9
740H20200119,A05_24N,62,1,15,3048,2,20200203,2134,  24.49988, -61.06667,  5858,  4073.8,  2.3248,2,  2.3271,4, 34.8942,2, 34.8947,2,   262.5,2,   263.1,2,   33.69,2,   19.45,2,    1.30,2,  2326.5,2,  2179.6,2, -999.00,9, -999.00,9
740H20200119,A05_24N,62,1,16,3049,2,20200203,2134,  24.49988, -61.06667,  5858,  3556.9,  2.4660,2,  2.4774,4, 34.9075,2, 34.9081,2,   260.2,2,   260.3,2,   32.65,2,   19.62,2,    1.31,2,  2325.3,2,  2177.3,2, -999.00,9, -999.00,9
740H20200119,A05_24N,62,1,17,3050,2,20200203,2134,  24.49988, -61.06667,  5858,  3042.1,  2.7281,2,  2.7302,2, 34.9294,2, 34.9299,2,   257.9,2,   258.8,2,   29.44,2,   19.53,2,    1.30,2,  2325.9,2,  2181.3,2, -999.00,9, -999.00,9
740H20200119,A05_24N,62,1,18,3051,2,20200203,2134,  24.49988, -61.06667,  5858,  2528.5,  3.0589,2,  3.0763,4, 34.9562,2, 34.9568,2,   255.4,2,   256.5,2,   25.66,2,   19.45,2,    1.29,2,  2326.1,6,  2172.0,6, -999.00,9, -999.00,9
740H20200119,A05_24N,62,1,19,3052,2,20200203,2134,  24.49988, -61.06667,  5858,  2271.7,  3.3329,2,  3.3531,4, 34.9816,2, 34.9815,2,   251.1,2,   251.9,2,   24.73,2,   19.54,2,    1.30,2,  2323.6,2,  2174.4,2, -999.00,9, -999.00,9
740H20200119,A05_24N,62,1,20,3053,2,20200203,2134,  24.49988, -61.06667,  5858,  2016.0,  3.6773,2,  3.7020,4, 35.0054,2, 35.0058,2,   251.5,2,   251.8,2,   20.30,2,   19.14,2,    1.26,2,  2320.6,2,  2173.1,2, -999.00,9, -999.00,9
740H20200119,A05_24N,62,1,21,3054,2,20200203,2134,  24.49988, -61.06667,  5858,  1760.3,  4.0994,2,  4.1265,4, 35.0295,2, 35.0307,2,   249.4,2,   250.5,2,   16.41,2,   18.93,2,    1.23,2,  2311.9,2,  2169.1,2, -999.00,9, -999.00,9
740H20200119,A05_24N,62,1,22,3055,2,20200203,2134,  24.49988, -61.06667,  5858,  1505.1,  4.6171,2,  4.6602,4, 35.0515,2, 35.0515,2,   243.1,2,   244.7,2,   13.96,2,   18.98,2,    1.22,2,  2310.1,2,  2171.4,2, -999.00,9, -999.00,9
740H20200119,A05_24N,62,1,23,3056,2,20200203,2134,  24.49988, -61.06667,  5858,  1250.2,  5.3912,2,  5.4303,4, 35.0636,2, 35.0664,2,   220.3,2,   223.2,2,   14.39,2,   20.58,2,    1.33,2,  2313.3,2,  2179.4,2, -999.00,9, -999.00,9
740H20200119,A05_24N,62,1,24,3057,2,20200203,2134,  24.49988, -61.06667,  5858,   996.5,  6.9584,2,  7.0632,4, 35.0449,2, 35.0453,2,   163.8,2,   168.8,2,   17.43,2,   25.44,2,    1.63,2,  2313.2,2,  2197.7,2, -999.00,9, -999.00,9
740H20200119,A05_24N,62,1,1,3034,2,20200203,2134,  24.49988, -61.06667,  5858,   879.6,  8.2205,2,  8.4595,4, 35.1233,2, 35.1151,2,   144.9,2,   150.1,2,   16.57,2,   26.31,2,    1.66,2,  2318.7,6,  2199.8,6, -999.00,9, -999.00,9
740H20200119,A05_24N,62,1,2,3035,2,20200203,2134,  24.49988, -61.06667,  5858,   753.6, 10.5337,2, 10.8778,4, 35.4083,2, 35.3978,2,   150.9,2,   153.9,2,   11.18,2,   21.85,2,    1.33,2,  2327.0,6,  2187.9,6, -999.00,9, -999.00,9
740H20200119,A05_24N,62,1,3,3036,2,20200203,2134,  24.49988, -61.06667,  5858,   626.9, 13.0550,2, 13.3781,4, 35.7350,2, 35.7278,2,   169.1,2,  -999.0,9,    6.20,2,   15.65,2,    0.91,2,  2339.7,2,  2167.5,2, -999.00,9, -999.00,9
740H20200119,A05_24N,62,1,4,3037,2,20200203,2134,  24.49988, -61.06667,  5858,   500.6, 15.4474,2, 15.8798,4, 36.0885,2, 36.0790,2,   178.1,2,   179.8,2,    3.52,2,   10.87,2,    0.60,2,  2362.0,2,  2155.1,2, -999.00,9, -999.00,9
740H20200119,A05_24N,62,1,5,3038,2,20200203,2134,  24.49988, -61.06667,  5858,   374.1, 17.8980,2, 18.0478,4, 36.4764,2, 36.4621,2,   190.2,2,   189.2,2,    1.73,2,    6.09,2,    0.29,2,  2381.6,2,  2134.0,2, -999.00,9, -999.00,9
740H20200119,A05_24N,62,1,6,6410,2,20200203,2134,  24.49988, -61.06667,  5858,   253.4, 18.9406,2, 18.9641,4, 36.6180,2, 36.6128,2,   203.1,2,   202.8,2,    1.03,2,    3.19,2,    0.13,2,  2392.0,2,  2118.0,2, -999.00,9, -999.00,9
740H20200119,A05_24N,62,1,7,6411,2,20200203,2134,  24.49988, -61.06667,  5858,   177.7, 19.8202,2, 20.6439,4, 36.7139,2, 36.6985,2,   194.8,2,   196.6,2,    0.79,2,    1.70,2,    0.04,2,  2395.2,2,  2117.7,2, -999.00,9, -999.00,9
740H20200119,A05_24N,62,1,8,6412,2,20200203,2134,  24.49988, -61.06667,  5858,   101.8, 24.1076,2, 24.2076,2, 37.1023,2, 37.0496,2,   209.9,2,   208.5,2,    0.68,2,    0.13,2,    0.00,2,  2419.9,2,  2092.0,2, -999.00,9, -999.00,9
740H20200119,A05_24N,62,1,9,6413,2,20200203,2134,  24.49988, -61.06667,  5858,    51.5, 24.2702,2, 24.2669,2, 37.0743,2, 37.0762,2,   209.7,2,   209.2,2,    0.76,2,    0.08,2,    0.00,2,  2419.3,2,  2072.9,2, -999.00,9, -999.00,9
740H20200119,A05_24N,62,1,10,3043,2,20200203,2134,  24.49988, -61.06667,  5858,     6.8, 24.3504,2, 23.2905,4, 37.0419,2, 37.0423,2,   210.5,2,   209.6,2,    0.75,2,    0.10,2,    0.00,2,  2423.3,2,  2073.8,2, -999.00,9, -999.00,9
740H20200119,A05_24N,63,1,11,3044,2,20200204,0614,  24.49976, -60.33343,  5843,  5950.5,  2.0784,2,  2.0773,4, 34.8411,2, 34.8425,2,   249.0,2,   247.5,2,   58.08,2,   23.10,2,    1.57,2,  2344.6,6,  2207.2,6, -999.00,1, -999.00,1
740H20200119,A05_24N,63,1,12,3045,2,20200204,0614,  24.49976, -60.33343,  5843,  5865.4,  2.0664,2,  2.0662,2, 34.8411,2, 34.8413,2,   248.8,2,   248.0,2,   57.91,2,   23.06,2,    1.57,2,  2345.7,2,  2204.9,2, -999.00,9, -999.00,9
740H20200119,A05_24N,63,1,13,3046,2,20200204,0614,  24.49976, -60.33343,  5843,  5344.1,  2.0307,2,  2.0324,4, 34.8459,2, 34.8460,2,   250.0,2,   249.3,2,   55.92,2,   22.70,2,    1.54,2,  2343.0,6,  2204.6,6, -999.00,1, -999.00,1
740H20200119,A05_24N,63,1,14,7131,2,20200204,0614,  24.49976, -60.33343,  5843,  4829.1,  2.1872,2,  2.1950,4, 34.8727,2, 34.8728,2,   257.5,2,   257.4,2,   43.09,2,   20.79,2,    1.41,2,  2335.6,2,  2191.6,2, -999.00,9, -999.00,9
740H20200119,A05_24N,63,1,15,3048,2,20200204,0614,  24.49976, -60.33343,  5843,  4320.2,  2.2768,2,  2.2792,4, 34.8882,2, 34.8897,2,   262.5,2,   262.0,2,   35.44,2,   19.61,2,    1.33,2,  2327.6,2,  2182.6,2, -999.00,1, -999.00,1
740H20200119,A05_24N,63,1,16,3049,2,20200204,0614,  24.49976, -60.33343,  5843,  3808.7,  2.3780,2,  2.3843,4, 34.8996,2, 34.8999,2,   262.4,2,   262.6,2,   32.56,2,   19.39,2,    1.31,2,  2325.4,2,  2177.9,2, -999.00,9, -999.00,9
740H20200119,A05_24N,63,1,17,3050,2,20200204,0614,  24.49976, -60.33343,  5843,  3293.0,  2.6022,2,  2.6034,2, 34.9184,2, 34.9191,2,   260.7,2,   260.2,2,   29.90,2,   19.40,2,    1.30,2,  2325.1,6,  2177.9,6, -999.00,1, -999.00,1
740H20200119,A05_24N,63,1,18,3051,2,20200204,0614,  24.49976, -60.33343,  5843,  2784.1,  2.8879,2,  2.8901,2, 34.9437,2, 34.9450,2,   253.9,2,   253.3,2,   29.81,2,   20.01,2,    1.33,2,  2327.3,2,  2178.3,2, -999.00,1, -999.00,1
740H20200119,A05_24N,63,1,19,3052,2,20200204,0614,  24.49976, -60.33343,  5843,  2527.2,  3.0923,2,  3.1095,4, 34.9618,2, 34.9606,2,   251.5,2,   251.5,2,   27.62,2,   19.90,2,    1.32,2,  2327.0,2,  2176.8,2, -999.00,9, -999.00,9
740H20200119,A05_24N,63,1,20,3053,2,20200204,0614,  24.49976, -60.33343,  5843,  2271.2,  3.3250,2,  3.3565,4, 34.9807,2, 34.9809,2,   251.5,2,   250.8,2,   24.53,2,   19.59,2,    1.29,2,  2324.2,6,  2175.5,6, -999.00,9, -999.00,9
740H20200119,A05_24N,63,1,21,3054,2,20200204,0614,  24.49976, -60.33343,  5843,  2020.6,  3.6526,2,  3.6814,4, 35.0054,2, 35.0061,2,   251.1,2,   250.3,2,   20.71,2,   19.22,2,    1.26,2,  2320.4,2,  2172.0,2, -999.00,1, -999.00,1
740H20200119,A05_24N,63,1,22,3055,2,20200204,0614,  24.49976, -60.33343,  5843,  1765.1,  4.0547,2,  4.1169,4, 35.0254,2, 35.0258,2,   250.5,2,   250.2,2,   16.46,2,   18.86,2,    1.22,2,  2314.7,2,  2166.1,2, -999.00,9, -999.00,9
740H20200119,A05_24N,63,1,23,3056,2,20200204,0614,  24.49976, -60.33343,  5843,  1515.4,  4.5813,2,  4.6618,4, 35.0514,2, 35.0527,2,   243.4,2,   243.2,2,   14.07,2,   18.98,2,    1.23,2,  2314.2,2,  2168.6,2, -999.00,1, -999.00,1
740H20200119,A05_24N,63,1,24,3057,2,20200204,0614,  24.49976, -60.33343,  5843,  1260.8,  5.2287,2,  5.3008,4, 35.0576,2, 35.0592,2,   226.0,2,   226.0,2,   13.92,2,   20.07,2,    1.30,2,  2314.3,2,  2176.2,2, -999.00,9, -999.00,9
740H20200119,A05_24N,63,1,1,3034,2,20200204,0614,  24.49976, -60.33343,  5843,  1007.2,  6.6238,2,  6.7474,4, 35.0332,2, 35.0342,2,   169.3,2,   169.4,2,   17.70,2,   25.20,2,    1.63,2,  2316.3,6,  2196.4,6, -999.00,1, -999.00,1
740H20200119,A05_24N,63,1,2,3035,2,20200204,0614,  24.49976, -60.33343,  5843,   880.1,  7.9137,2,  8.3162,4, 35.0938,2, 35.0896,2,   147.2,2,   146.5,2,   16.79,2,   26.27,2,    1.67,2,  2317.1,2,  2200.7,2, -999.00,1, -999.00,1
740H20200119,A05_24N,63,1,3,3036,2,20200204,0614,  24.49976, -60.33343,  5843,   753.6, 10.3368,2, 10.6514,4, 35.3773,2, 35.3649,2,   146.3,2,   145.6,2,   11.58,2,   22.53,2,    1.39,2,  2323.4,6,  2192.6,6, -999.00,1, -999.00,1
740H20200119,A05_24N,63,1,4,3037,2,20200204,0614,  24.49976, -60.33343,  5843,   500.9, 15.0677,2, 15.6438,4, 36.0132,2, 36.0007,2,   178.8,2,   177.7,2,    3.82,2,   11.44,2,    0.63,2,  2361.5,2,  2154.3,2, -999.00,1, -999.00,1
740H20200119,A05_24N,63,1,5,3038,2,20200204,0614,  24.49976, -60.33343,  5843,   374.1, 17.5116,2, 17.7747,4, 36.4146,2, 36.4122,2,   186.4,2,   186.4,2,    1.78,2,    6.64,2,    0.32,2,  2379.6,2,  2137.5,2, -999.00,1, -999.00,1
740H20200119,A05_24N,63,1,6,6410,2,20200204,0614,  24.49976, -60.33343,  5843,   247.9, 19.0857,2, 19.1909,4, 36.6334,2, 36.6258,2,   199.0,2,   199.3,2,    0.87,2,    3.09,2,    0.11,2,  2391.8,2,  2120.4,2, -999.00,1, -999.00,1
740H20200119,A05_24N,63,1,7,6411,2,20200204,0614,  24.49976, -60.33343,  5843,   177.3, 19.9042,2, 20.4251,4, 36.7349,2, 36.7394,2,   192.9,2,   192.4,2,    0.60,2,    1.41,2,    0.02,2,  2399.2,2,  2123.6,2, -999.00,1, -999.00,1
740H20200119,A05_24N,63,1,8,6412,2,20200204,0614,  24.49976, -60.33343,  5843,   122.0, 21.4480,2, 21.7941,2, 36.8966,2, 36.8994,2,   203.1,2,   202.4,2,    0.46,2,    0.21,2,    0.00,2,  2409.9,2,  2110.2,2, -999.00,1, -999.00,1
740H20200119,A05_24N,63,1,9,6413,2,20200204,0614,  24.49976, -60.33343,  5843,    51.9, 23.8492,2, 23.8427,2, 37.0856,2, 37.0866,2,   211.4,2,   210.7,2,    0.67,2,    0.08,2,    0.00,2,  2424.0,2,  2080.4,2, -999.00,1, -999.00,1
740H20200119,A05_24N,63,1,10,3043,2,20200204,0614,  24.49976, -60.33343,  5843,     4.5, 23.8449,2,-999.0000,9, 37.0862,2, 37.0871,2,   211.1,2,   210.4,2,    0.70,2,    0.09,2,    0.00,2,  2424.1,2,  2080.4,2, -999.00,1, -999.00,1
740H20200119,A05_24N,64,1,11,3044,2,20200204,1448,  24.50011, -59.60153,  5811,  5916.7,  2.0699,2,  2.0682,4, 34.8407,2, 34.8412,2,   248.7,2,   250.0,2,   58.69,2,   23.26,2,    1.56,2,  2344.2,2,  2205.4,2, -999.00,9, -999.00,9
740H20200119,A05_24N,64,1,12,3045,2,20200204,1448,  24.50011, -59.60153,  5811,  5604.5,  2.0341,2,  2.0340,2, 34.8417,2, 34.8418,2,   248.7,2,   249.7,2,   58.26,2,   23.18,2,    1.56,2,  2347.4,2,  2204.7,2, -999.00,9, -999.00,9
740H20200119,A05_24N,64,1,13,3046,2,20200204,1448,  24.50011, -59.60153,  5811,  5088.9,  2.1248,2,  2.1404,4, 34.8614,2, 34.8618,2,   255.0,2,   254.6,2,   48.74,2,   21.72,2,    1.47,2,  2336.5,2,  2196.1,2, -999.00,9, -999.00,9
740H20200119,A05_24N,64,1,14,7131,2,20200204,1448,  24.50011, -59.60153,  5811,  4574.4,  2.2655,2,  2.2664,4, 34.8855,2, 34.8853,2,   263.7,2,   264.0,2,   35.33,2,   19.57,2,    1.31,2,  2330.9,2,  2183.1,2, -999.00,9, -999.00,9
740H20200119,A05_24N,64,1,15,3048,2,20200204,1448,  24.50011, -59.60153,  5811,  4061.8,  2.3047,2,  2.3067,4, 34.8935,2, 34.8936,2,   266.1,2,   267.3,2,   31.01,2,   19.00,2,    1.26,2,  2323.5,2,  2176.1,2, -999.00,9, -999.00,9
740H20200119,A05_24N,64,1,16,3049,2,20200204,1448,  24.50011, -59.60153,  5811,  3549.9,  2.4361,2,  2.4511,4, 34.9055,2, 34.9058,2,   262.5,2,   262.6,2,   31.52,2,   19.50,2,    1.30,2,  2326.1,6,  2177.0,6, -999.00,9, -999.00,9
740H20200119,A05_24N,64,1,17,3050,2,20200204,1448,  24.50011, -59.60153,  5811,  3040.9,  2.7130,2,  2.7134,2, 34.9288,2, 34.9284,2,   256.0,2,   255.7,2,   31.94,2,   20.16,2,    1.33,2,  2327.6,2,  2177.5,2, -999.00,9, -999.00,9
740H20200119,A05_24N,64,1,18,3051,2,20200204,1448,  24.50011, -59.60153,  5811,  2532.3,  3.0675,2,  3.0756,4, 34.9574,2, 34.9574,2,   254.9,2,   255.1,2,   26.38,2,   19.63,2,    1.29,2,  2324.0,2,  2175.5,2, -999.00,9, -999.00,9
740H20200119,A05_24N,64,1,19,3052,2,20200204,1448,  24.50011, -59.60153,  5811,  2276.0,  3.2885,2,  3.3083,4, 34.9750,2, 34.9748,2,   254.6,2,   254.5,2,   23.73,2,   19.46,2,    1.28,2,  2321.9,2,  2170.4,2, -999.00,9, -999.00,9
740H20200119,A05_24N,64,1,20,3053,2,20200204,1448,  24.50011, -59.60153,  5811,  2020.1,  3.6316,2,  3.6641,4, 35.0016,2, 35.0019,2,   252.5,2,   251.9,2,   20.78,2,   19.28,2,    1.26,2,  2319.6,2,  2170.7,2, -999.00,9, -999.00,9
740H20200119,A05_24N,64,1,21,3054,2,20200204,1448,  24.50011, -59.60153,  5811,  1769.7,  4.0030,2,  4.0836,4, 35.0184,2, 35.0190,2,   252.3,2,   252.6,2,   16.50,2,   18.84,2,    1.23,2,  2313.7,2,  2167.8,2, -999.00,9, -999.00,9
740H20200119,A05_24N,64,1,22,3055,2,20200204,1448,  24.50011, -59.60153,  5811,  1514.3,  4.4783,2,  4.5444,4, 35.0400,2, 35.0399,2,   246.2,2,   247.1,2,   14.28,2,   18.91,2,    1.22,2,  2314.0,2,  2168.8,2, -999.00,9, -999.00,9
740H20200119,A05_24N,64,1,23,3056,2,20200204,1448,  24.50011, -59.60153,  5811,  1259.7,  5.1325,2,  5.2670,4, 35.0580,2, 35.0578,2,   230.7,2,   231.9,2,   13.78,2,   19.88,2,    1.28,2,  2313.3,2,  2173.4,2, -999.00,9, -999.00,9
740H20200119,A05_24N,64,1,24,3057,2,20200204,1448,  24.50011, -59.60153,  5811,  1011.5,  6.3547,2,  6.5282,4, 35.0345,2, 35.0358,2,   180.3,2,   183.3,2,   17.26,2,   24.41,2,    1.57,2,  2317.0,2,  2190.3,2, -999.00,9, -999.00,9
740H20200119,A05_24N,64,1,1,3034,2,20200204,1448,  24.50011, -59.60153,  5811,   884.5,  7.4086,2,  7.9495,4, 35.0392,2, 35.0382,2,   149.7,2,   151.8,2,   18.11,2,   27.03,2,    1.72,2,  2315.5,6,  2201.7,6, -999.00,9, -999.00,9
740H20200119,A05_24N,64,1,2,3035,2,20200204,1448,  24.50011, -59.60153,  5811,   757.7,  9.7519,2, 10.3565,4, 35.3058,2, 35.2881,2,   146.6,2,   150.2,2,   13.09,2,   23.79,2,    1.47,2,  2323.8,6,  2196.9,6, -999.00,9, -999.00,9
740H20200119,A05_24N,64,1,3,3036,2,20200204,1448,  24.50011, -59.60153,  5811,   504.5, 14.8261,2, 15.4431,4, 35.9983,2, 35.9898,2,   171.9,2,   173.2,2,    4.08,2,   12.49,2,    0.69,2,  2352.2,2,  2158.4,2, -999.00,9, -999.00,9
740H20200119,A05_24N,64,1,4,3037,2,20200204,1448,  24.50011, -59.60153,  5811,   378.7, 17.0948,2, 17.4556,4, 36.3597,2, 36.3494,2,   180.4,2,   182.3,2,    2.21,2,    8.01,2,    0.40,2,  2376.4,2,  2143.8,2, -999.00,9, -999.00,9
740H20200119,A05_24N,64,1,5,3038,2,20200204,1448,  24.50011, -59.60153,  5811,   253.1, 18.7702,2, 19.4337,4, 36.6042,2, 36.5999,2,   186.6,2,   185.9,2,    1.14,2,    4.64,2,    0.20,2,  2391.3,2,  2133.6,2, -999.00,9, -999.00,9
740H20200119,A05_24N,64,1,6,6410,2,20200204,1448,  24.50011, -59.60153,  5811,   151.6, 20.9544,2, 21.5842,4, 36.8749,2, 36.8612,2,   189.0,2,   186.4,2,    0.56,2,    1.15,2,    0.02,2,  2408.5,2,  2129.2,2, -999.00,9, -999.00,9
740H20200119,A05_24N,64,1,7,6411,2,20200204,1448,  24.50011, -59.60153,  5811,   131.5, 21.7786,2,-999.0000,9, 36.9717,2, 36.9705,2,   197.1,2,   196.5,2,    0.48,2,    0.33,2,    0.00,2,  2414.7,6,  2118.5,6, -999.00,9, -999.00,9
740H20200119,A05_24N,64,1,8,6412,2,20200204,1448,  24.50011, -59.60153,  5811,   101.2, 23.6693,2, 23.8012,2, 37.0938,2, 37.0654,2,   210.8,2,   206.9,2,    0.56,2,    0.10,2,    0.00,2,  2421.1,2,  2091.1,2, -999.00,9, -999.00,9
740H20200119,A05_24N,64,1,9,6413,2,20200204,1448,  24.50011, -59.60153,  5811,    50.6, 23.8568,2, 23.8553,2, 37.0976,2, 37.0970,2,   211.5,2,   210.2,2,    0.69,2,    0.07,2,    0.00,2,  2424.0,2,  2080.5,2, -999.00,9, -999.00,9
740H20200119,A05_24N,64,1,10,3043,2,20200204,1448,  24.50011, -59.60153,  5811,     1.2, 24.7202,2,-999.0000,9, 36.8830,2, 36.8869,2,   190.8,2,   209.0,2,    1.05,2,    0.06,2,    0.00,2,  2413.1,2,  2062.5,2, -999.00,9, -999.00,9