BOTTLE,20221012CCHSIOENA
EXPOCODE,SECT_ID,STNNBR,CASTNO,SAMPNO,BTLNBR,BTLNBR_FLAG_W,DATE,TIME,LATITUDE,LONGITUDE,DEPTH,CTDPRS,CTDTMP,CTDTMP_FLAG_W,SBE35,SBE35_FLAG_W,CTDSAL,CTDSAL_FLAG_W,SALNTY,SALNTY_FLAG_W,CTDOXY,CTDOXY_FLAG_W,OXYGEN,OXYGEN_FLAG_W,SILCAT,SILCAT_FLAG_W,NO2+NO3,NO2+NO3_FLAG_W,PHSPHT,PHSPHT_FLAG_W,ALKALI,ALKALI_FLAG_W,TCARBN,TCARBN_FLAG_W,DELC14,DELC14_FLAG_W,DELC13,DELC13_FLAG_W
 , , , , , , , , , , , ,DBAR,ITS-90, ,ITS-90, ,PSS-78, ,PSS-78, ,UMOL/KG, ,UMOL/KG, ,UMOL/KG, ,UMOL/KG, ,UMOL/KG, ,UMOL/KG, ,UMOL/KG, ,/MILLE, ,/MILLE, 
740H20200119,A05_24N,7,1,1,5977,2,20200121,0336,  27.01637, -79.68384,   532,   528.3,  6.9912,2,-999.0000,9, 34.9308,2, 34.9300,2,   133.8,2,   135.2,2,   21.76,2,   29.37,2,    1.93,2,  2312.6,2,  2217.3,2, -999.00,1, -999.00,1
740H20200119,A05_24N,7,1,2,6406,2,20200121,0336,  27.01637, -79.68384,   532,   528.5,  7.0004,2,-999.0000,9, 34.9309,2,-999.0000,9,   133.7,2,  -999.0,9, -999.00,9, -999.00,9, -999.00,9,  -999.0,9,  -999.0,9, -999.00,9, -999.00,9
740H20200119,A05_24N,7,1,3,6407,2,20200121,0336,  27.01637, -79.68384,   532,   435.0,  9.5787,2,-999.0000,9, 35.1576,2, 35.1579,2,   119.0,2,   120.3,2,   15.61,2,   27.27,2,    1.73,2,  2316.7,6,  2210.3,6, -999.00,9, -999.00,9
740H20200119,A05_24N,7,1,4,6408,2,20200121,0336,  27.01637, -79.68384,   532,   434.8,  9.5841,2,-999.0000,9, 35.1578,2,-999.0000,9,   118.8,2,  -999.0,9, -999.00,9, -999.00,9, -999.00,9,  -999.0,9,  -999.0,9, -999.00,9, -999.00,9
740H20200119,A05_24N,7,1,5,6409,2,20200121,0336,  27.01637, -79.68384,   532,   345.0, 11.7278,2,-999.0000,9, 35.4423,2, 35.4405,2,   121.4,2,   122.8,2,   11.06,2,   23.12,2,    1.43,2,  2327.6,2,  2197.3,2, -999.00,1, -999.00,1
740H20200119,A05_24N,7,1,6,6410,2,20200121,0336,  27.01637, -79.68384,   532,   344.9, 11.7259,2,-999.0000,9, 35.4421,2,-999.0000,9,   121.3,2,  -999.0,9, -999.00,9, -999.00,9, -999.00,9,  -999.0,9,  -999.0,9, -999.00,9, -999.00,9
740H20200119,A05_24N,7,1,7,6411,2,20200121,0336,  27.01637, -79.68384,   532,   261.1, 15.9436,2,-999.0000,9, 36.1281,2, 36.1057,2,   139.4,2,   140.4,2,    5.34,2,   14.32,2,    0.81,2,  2360.5,2,  2176.7,2, -999.00,1, -999.00,1
740H20200119,A05_24N,7,1,8,6412,2,20200121,0336,  27.01637, -79.68384,   532,   261.2, 16.0090,2,-999.0000,9, 36.1397,2,-999.0000,9,   140.4,2,  -999.0,9, -999.00,9, -999.00,9, -999.00,9,  -999.0,9,  -999.0,9, -999.00,9, -999.00,9
740H20200119,A05_24N,7,1,9,6413,2,20200121,0336,  27.01637, -79.68384,   532,   200.5, 18.2817,2,-999.0000,9, 36.4753,2, 36.4682,2,   145.9,2,   148.6,2,    3.28,2,    9.65,2,    0.50,2,  2380.1,2,  2164.4,2, -999.00,1, -999.00,1
740H20200119,A05_24N,7,1,10,6414,2,20200121,0336,  27.01637, -79.68384,   532,   201.0, 18.2766,2,-999.0000,9, 36.4732,2,-999.0000,9,   146.0,2,  -999.0,9, -999.00,9, -999.00,9, -999.00,9,  -999.0,9,  -999.0,9, -999.00,9, -999.00,9
740H20200119,A05_24N,7,1,11,6415,2,20200121,0336,  27.01637, -79.68384,   532,   175.8, 20.0439,2,-999.0000,9, 36.6858,2, 36.6926,2,   152.9,2,   155.0,2,    2.26,2,    6.61,2,    0.30,2,  2394.1,2,  2154.2,2, -999.00,9, -999.00,9
740H20200119,A05_24N,7,1,12,6416,2,20200121,0336,  27.01637, -79.68384,   532,   175.5, 20.0141,2,-999.0000,9, 36.6787,2,-999.0000,9,   151.3,2,  -999.0,9, -999.00,9, -999.00,9, -999.00,9,  -999.0,9,  -999.0,9, -999.00,9, -999.00,9
740H20200119,A05_24N,7,1,13,6417,2,20200121,0336,  27.01637, -79.68384,   532,   150.6, 22.3964,2,-999.0000,9, 36.9255,2, 36.8956,2,   159.5,2,   161.8,2,    1.52,2,    3.76,2,    0.16,2,  2407.5,2,  2139.3,2, -999.00,9, -999.00,9
740H20200119,A05_24N,7,1,14,6418,2,20200121,0336,  27.01637, -79.68384,   532,   150.9, 22.4185,2,-999.0000,9, 36.9272,2,-999.0000,9,   160.8,2,  -999.0,9, -999.00,9, -999.00,9, -999.00,9,  -999.0,9,  -999.0,9, -999.00,9, -999.00,9
740H20200119,A05_24N,7,1,15,6419,2,20200121,0336,  27.01637, -79.68384,   532,   120.3, 23.8391,2,-999.0000,9, 36.3572,2, 36.3531,2,   199.3,2,   201.6,2,    1.34,2,    0.27,2,   -0.01,2,  2394.8,6,  2075.3,6, -999.00,9, -999.00,9
740H20200119,A05_24N,7,1,16,6420,2,20200121,0336,  27.01637, -79.68384,   532,   120.4, 23.8694,2,-999.0000,9, 36.3339,2,-999.0000,9,   201.7,2,  -999.0,9, -999.00,9, -999.00,9, -999.00,9,  -999.0,9,  -999.0,9, -999.00,9, -999.00,9
740H20200119,A05_24N,7,1,17,1122,2,20200121,0336,  27.01637, -79.68384,   532,   100.1, 25.3640,2,-999.0000,9, 36.6190,2, 36.5926,2,   178.2,2,   184.7,2,    1.19,2,    0.86,2,    0.02,2,  2399.0,6,  2088.8,6, -999.00,9, -999.00,9
740H20200119,A05_24N,7,1,18,1098,2,20200121,0336,  27.01637, -79.68384,   532,   100.3, 25.3407,2,-999.0000,9, 36.6158,2,-999.0000,9,   178.3,2,  -999.0,9, -999.00,9, -999.00,9, -999.00,9,  -999.0,9,  -999.0,9, -999.00,9, -999.00,9
740H20200119,A05_24N,7,1,19,6692,2,20200121,0336,  27.01637, -79.68384,   532,    60.4, 26.3110,2,-999.0000,9, 36.4532,2, 36.4556,2,   197.7,2,   204.1,2,    1.11,2,   -0.01,2,   -0.03,2,  2384.3,6,  2050.6,6, -999.00,1, -999.00,1
740H20200119,A05_24N,7,1,20,6428,4,20200121,0336,  27.01637, -79.68384,   532,    60.6, 26.3085,2,-999.0000,9, 36.4533,2,-999.0000,9,   197.8,2,  -999.0,9, -999.00,9, -999.00,9, -999.00,9,  -999.0,9,  -999.0,9, -999.00,9, -999.00,9
740H20200119,A05_24N,7,1,21,6425,2,20200121,0336,  27.01637, -79.68384,   532,    20.3, 26.3060,2,-999.0000,9, 36.4534,2, 36.4547,2,   197.8,2,   203.0,2,    1.11,2,   -0.01,2,   -0.02,2,  2385.6,2,  2049.6,2, -999.00,9, -999.00,9
740H20200119,A05_24N,7,1,22,6426,2,20200121,0336,  27.01637, -79.68384,   532,    20.4, 26.3069,2,-999.0000,9, 36.4534,2,-999.0000,9,   197.8,2,  -999.0,9, -999.00,9, -999.00,9, -999.00,9,  -999.0,9,  2061.9,2, -999.00,9, -999.00,9
740H20200119,A05_24N,7,1,23,6427,2,20200121,0336,  27.01637, -79.68384,   532,     8.4, 26.3028,2,-999.0000,9, 36.4538,2, 36.4545,2,   197.7,2,   202.8,2,    1.19,2,   -0.01,2,   -0.02,2,  2381.1,2,  2051.3,2, -999.00,1, -999.00,1
740H20200119,A05_24N,7,1,24,1086,2,20200121,0336,  27.01637, -79.68384,   532,     7.9, 26.3022,2,-999.0000,9, 36.4539,2,-999.0000,9,   198.2,2,  -999.0,9, -999.00,9, -999.00,9, -999.00,9,  -999.0,9,  -999.0,9, -999.00,9, -999.00,9
740H20200119,A05_24N,8,1,1,5977,2,20200121,0631,  27.01369, -79.61684,   647,   642.5,  7.0533,2,-999.0000,9, 34.9336,2, 34.9318,2,   132.8,2,   134.0,2,   21.60,2,   29.28,2,    1.93,2,  2312.7,6,  2214.2,6, -999.00,9, -999.00,9
740H20200119,A05_24N,8,1,2,6406,2,20200121,0631,  27.01369, -79.61684,   647,   642.3,  7.0582,2,-999.0000,9, 34.9331,2,-999.0000,9,   132.6,2,  -999.0,9, -999.00,9, -999.00,9, -999.00,9,  -999.0,9,  -999.0,9, -999.00,9, -999.00,9
740H20200119,A05_24N,8,1,3,6407,4,20200121,0631,  27.01369, -79.61684,   647,   566.0,  8.3966,2,-999.0000,9, 35.0364,2,-999.0000,9,   123.3,2,   202.0,4, -999.00,9, -999.00,9, -999.00,9,  -999.0,9,  -999.0,9, -999.00,9, -999.00,9
740H20200119,A05_24N,8,1,4,6408,2,20200121,0631,  27.01369, -79.61684,   647,   566.2,  8.3894,2,-999.0000,9, 35.0364,2, 35.0366,2,   123.3,2,   123.8,2,   18.41,2,   28.36,2,    1.84,2,  2315.5,2,  2212.7,2, -999.00,9, -999.00,9
740H20200119,A05_24N,8,1,5,6409,2,20200121,0631,  27.01369, -79.61684,   647,   496.9,  9.3910,2,-999.0000,9, 35.1370,2, 35.1387,2,   119.3,2,   119.7,2,   16.02,2,   27.25,2,    1.74,2,  2316.0,2,  2208.0,2, -999.00,9, -999.00,9
740H20200119,A05_24N,8,1,6,6410,2,20200121,0631,  27.01369, -79.61684,   647,   423.4, 10.8197,2,-999.0000,9, 35.3126,2, 35.3068,2,   118.2,2,   200.2,4,   12.99,2,   25.08,2,    1.56,2,  2323.5,6,  2202.4,6, -999.00,9, -999.00,9
740H20200119,A05_24N,8,1,7,6411,2,20200121,0631,  27.01369, -79.61684,   647,   424.1, 10.8228,2,-999.0000,9, 35.3146,2,-999.0000,9,   118.2,2,  -999.0,9, -999.00,9, -999.00,9, -999.00,9,  -999.0,9,  -999.0,9, -999.00,9, -999.00,9
740H20200119,A05_24N,8,1,8,6412,2,20200121,0631,  27.01369, -79.61684,   647,   353.7, 13.1785,2,-999.0000,9, 35.6708,2, 35.6442,2,   126.0,2,   127.2,2,    8.91,2,   20.35,2,    1.22,2,  2338.3,2,  2191.7,2, -999.00,9, -999.00,9
740H20200119,A05_24N,8,1,9,6413,2,20200121,0631,  27.01369, -79.61684,   647,   353.7, 13.1847,2,-999.0000,9, 35.6695,2,-999.0000,9,   126.1,2,  -999.0,9, -999.00,9, -999.00,9, -999.00,9,  -999.0,9,  -999.0,9, -999.00,9, -999.00,9
740H20200119,A05_24N,8,1,10,6414,2,20200121,0631,  27.01369, -79.61684,   647,   273.3, 16.5384,2,-999.0000,9, 36.2253,2, 36.1906,2,   141.6,2,   141.6,2,    4.80,2,   13.16,2,    0.73,2,  2364.9,2,  2173.8,2, -999.00,9, -999.00,9
740H20200119,A05_24N,8,1,11,6415,2,20200121,0631,  27.01369, -79.61684,   647,   273.5, 16.5482,2,-999.0000,9, 36.2294,2,-999.0000,9,   142.0,2,  -999.0,9, -999.00,9, -999.00,9, -999.00,9,  -999.0,9,  -999.0,9, -999.00,9, -999.00,9
740H20200119,A05_24N,8,1,12,6416,3,20200121,0631,  27.01369, -79.61684,   647,   192.6, 20.2659,2,-999.0000,9, 36.7562,2, 36.7536,3,   158.0,2,   160.0,3,    1.73,3,    5.24,3,    0.23,3,  2397.4,3,  2148.1,3, -999.00,9, -999.00,9
740H20200119,A05_24N,8,1,13,6417,2,20200121,0631,  27.01369, -79.61684,   647,   192.9, 20.2626,2,-999.0000,9, 36.7558,2,-999.0000,9,   158.3,2,  -999.0,9, -999.00,9, -999.00,9, -999.00,9,  -999.0,9,  -999.0,9, -999.00,9, -999.00,9
740H20200119,A05_24N,8,1,14,6418,2,20200121,0631,  27.01369, -79.61684,   647,   142.3, 23.3208,2,-999.0000,9, 36.9238,2, 36.9192,2,   161.1,2,   162.1,2,    1.27,2,    3.01,2,    0.12,2,  2408.3,2,  2129.6,2, -999.00,9, -999.00,9
740H20200119,A05_24N,8,1,15,6419,2,20200121,0631,  27.01369, -79.61684,   647,   142.3, 23.3340,2,-999.0000,9, 36.9263,2,-999.0000,9,   160.5,2,  -999.0,9, -999.00,9, -999.00,9, -999.00,9,  -999.0,9,  -999.0,9, -999.00,9, -999.00,9
740H20200119,A05_24N,8,1,16,6420,2,20200121,0631,  27.01369, -79.61684,   647,    77.6, 26.2872,2,-999.0000,9, 36.4527,2, 36.4562,2,   196.9,2,  -999.0,9,    1.10,2,   -0.05,2,   -0.02,2,  2381.5,6,  2051.8,6, -999.00,9, -999.00,9
740H20200119,A05_24N,8,1,17,1122,2,20200121,0631,  27.01369, -79.61684,   647,    77.5, 26.2880,2,-999.0000,9, 36.4528,2,-999.0000,9,   197.5,2,  -999.0,9, -999.00,9, -999.00,9, -999.00,9,  -999.0,9,  -999.0,9, -999.00,9, -999.00,9
740H20200119,A05_24N,8,1,18,1098,2,20200121,0631,  27.01369, -79.61684,   647,    42.6, 26.2832,2,-999.0000,9, 36.4528,2, 36.4541,2,   197.3,2,   201.2,2,    1.08,2,   -0.05,2,   -0.02,2,  2380.7,2,  2049.2,2, -999.00,9, -999.00,9
740H20200119,A05_24N,8,1,19,6692,2,20200121,0631,  27.01369, -79.61684,   647,    42.6, 26.2835,2,-999.0000,9, 36.4528,2,-999.0000,9,   196.9,2,  -999.0,9, -999.00,9, -999.00,9, -999.00,9,  -999.0,9,  -999.0,9, -999.00,9, -999.00,9
740H20200119,A05_24N,8,1,20,6428,2,20200121,0631,  27.01369, -79.61684,   647,    42.5, 26.2832,2,-999.0000,9, 36.4527,2,-999.0000,9,   197.2,2,  -999.0,9, -999.00,9, -999.00,9, -999.00,9,  -999.0,9,  -999.0,9, -999.00,9, -999.00,9
740H20200119,A05_24N,8,1,21,6425,2,20200121,0631,  27.01369, -79.61684,   647,    42.5, 26.2835,2,-999.0000,9, 36.4527,2,-999.0000,9,   197.5,2,  -999.0,9, -999.00,9, -999.00,9, -999.00,9,  -999.0,9,  -999.0,9, -999.00,9, -999.00,9
740H20200119,A05_24N,8,1,22,6426,2,20200121,0631,  27.01369, -79.61684,   647,    42.5, 26.2829,2,-999.0000,9, 36.4527,2,-999.0000,9,   197.1,2,  -999.0,9, -999.00,9, -999.00,9, -999.00,9,  2402.8,6,  2063.6,6, -999.00,9, -999.00,9
740H20200119,A05_24N,8,1,23,6427,2,20200121,0631,  27.01369, -79.61684,   647,    27.6, 26.2783,2,-999.0000,9, 36.4532,2, 36.4544,2,   197.5,2,   200.2,2,    1.10,2,   -0.03,2,   -0.02,2,  2382.8,2,  2051.0,2, -999.00,9, -999.00,9
740H20200119,A05_24N,8,1,24,1086,2,20200121,0631,  27.01369, -79.61684,   647,     7.3, 26.2713,2,-999.0000,9, 36.4532,2, 36.4537,2,   197.5,2,   199.8,2,    1.07,2,   -0.02,2,   -0.02,2,  2381.0,2,  2047.6,2, -999.00,9, -999.00,9
740H20200119,A05_24N,9,1,1,5977,2,20200121,0942,  27.00837, -79.49918,   762,   759.0,  6.4210,2,-999.0000,9, 34.9102,2, 34.9073,2,   141.6,2,   142.8,2,   23.16,2,   29.00,2,    1.93,2,  2314.8,6,  2213.6,6, -999.00,9, -999.00,9
740H20200119,A05_24N,9,1,2,6406,2,20200121,0942,  27.00837, -79.49918,   762,   758.9,  6.4208,2,-999.0000,9, 34.9102,2,-999.0000,9,   141.8,2,  -999.0,9, -999.00,9, -999.00,9, -999.00,9,  -999.0,9,  -999.0,9, -999.00,9, -999.00,9
740H20200119,A05_24N,9,1,3,6407,4,20200121,0942,  27.00837, -79.49918,   762,   706.0,  7.1972,2,-999.0000,9, 34.9220,2,-999.0000,9,   129.0,2,  -999.0,9, -999.00,9, -999.00,9, -999.00,9,  -999.0,9,  -999.0,9, -999.00,9, -999.00,9
740H20200119,A05_24N,9,1,4,6408,2,20200121,0942,  27.00837, -79.49918,   762,   706.3,  7.1675,2,-999.0000,9, 34.9190,2, 34.9206,2,   129.3,2,   129.6,2,   21.27,2,   29.72,2,    1.94,2,  2310.3,6,  2211.9,6, -999.00,9, -999.00,9
740H20200119,A05_24N,9,1,5,6409,2,20200121,0942,  27.00837, -79.49918,   762,   605.6,  8.3845,2,-999.0000,9, 35.0142,2, 35.0133,2,   120.9,2,   121.8,2,   18.25,2,   28.85,2,    1.87,2,  2311.7,2,  2214.0,2, -999.00,9, -999.00,9
740H20200119,A05_24N,9,1,6,6410,2,20200121,0942,  27.00837, -79.49918,   762,   605.2,  8.3860,2,-999.0000,9, 35.0144,2,-999.0000,9,   120.9,2,  -999.0,9, -999.00,9, -999.00,9, -999.00,9,  -999.0,9,  -999.0,9, -999.00,9, -999.00,9
740H20200119,A05_24N,9,1,7,6411,2,20200121,0942,  27.00837, -79.49918,   762,   545.9,  9.6821,2,-999.0000,9, 35.1601,2, 35.1608,2,   117.7,2,   118.5,2,   15.20,2,   26.94,2,    1.71,2,  2316.1,2,  2210.3,2, -999.00,9, -999.00,9
740H20200119,A05_24N,9,1,8,6412,2,20200121,0942,  27.00837, -79.49918,   762,   546.2,  9.6874,2,-999.0000,9, 35.1608,2,-999.0000,9,   117.8,2,  -999.0,9, -999.00,9, -999.00,9, -999.00,9,  -999.0,9,  -999.0,9, -999.00,9, -999.00,9
740H20200119,A05_24N,9,1,9,6413,2,20200121,0942,  27.00837, -79.49918,   762,   444.5, 11.9980,2,-999.0000,9, 35.4882,2, 35.4912,2,   119.3,2,   120.4,2,   10.72,2,   22.57,2,    1.39,2,  2329.7,6,  2196.7,6, -999.00,9, -999.00,9
740H20200119,A05_24N,9,1,10,6414,2,20200121,0942,  27.00837, -79.49918,   762,   444.7, 12.0485,2,-999.0000,9, 35.4961,2,-999.0000,9,   119.4,2,  -999.0,9, -999.00,9, -999.00,9, -999.00,9,  -999.0,9,  -999.0,9, -999.00,9, -999.00,9
740H20200119,A05_24N,9,1,11,6415,2,20200121,0942,  27.00837, -79.49918,   762,   344.4, 15.1315,2,-999.0000,9, 35.9928,2, 35.9877,2,   137.0,2,   138.1,2,    5.89,2,   15.57,2,    0.90,2,  2353.0,2,  2178.6,2, -999.00,9, -999.00,9
740H20200119,A05_24N,9,1,12,6416,2,20200121,0942,  27.00837, -79.49918,   762,   343.9, 15.1394,2,-999.0000,9, 35.9952,2,-999.0000,9,   137.1,2,  -999.0,9, -999.00,9, -999.00,9, -999.00,9,  -999.0,9,  -999.0,9, -999.00,9, -999.00,9
740H20200119,A05_24N,9,1,13,6417,2,20200121,0942,  27.00837, -79.49918,   762,   264.4, 17.8391,2,-999.0000,9, 36.4281,2, 36.4196,2,   147.5,2,   148.5,2,    3.35,2,   10.11,2,    0.53,2,  2374.9,2,  2167.2,2, -999.00,9, -999.00,9
740H20200119,A05_24N,9,1,14,6418,2,20200121,0942,  27.00837, -79.49918,   762,   263.8, 17.8448,2,-999.0000,9, 36.4296,2,-999.0000,9,   147.4,2,  -999.0,9, -999.00,9, -999.00,9, -999.00,9,  -999.0,9,  -999.0,9, -999.00,9, -999.00,9
740H20200119,A05_24N,9,1,15,6419,2,20200121,0942,  27.00837, -79.49918,   762,   208.6, 20.1668,2,-999.0000,9, 36.7411,2, 36.7424,2,   157.0,2,   158.6,2,    1.79,2,    5.58,2,    0.24,2,  2396.5,2,  2149.3,2, -999.00,9, -999.00,9
740H20200119,A05_24N,9,1,16,6420,4,20200121,0942,  27.00837, -79.49918,   762,   208.4, 20.1712,2,-999.0000,9, 36.7419,2,-999.0000,9,   157.4,2,  -999.0,9, -999.00,9, -999.00,9, -999.00,9,  -999.0,9,  -999.0,9, -999.00,9, -999.00,9
740H20200119,A05_24N,9,1,17,1122,2,20200121,0942,  27.00837, -79.49918,   762,   153.2, 22.8743,2,-999.0000,9, 36.9412,2, 36.9384,2,   159.9,2,   160.9,2,    1.26,2,    3.44,2,    0.14,2,  2409.7,2,  2135.1,2, -999.00,9, -999.00,9
740H20200119,A05_24N,9,1,18,1098,2,20200121,0942,  27.00837, -79.49918,   762,   153.2, 22.8969,2,-999.0000,9, 36.9411,2,-999.0000,9,   159.3,2,  -999.0,9, -999.00,9, -999.00,9, -999.00,9,  -999.0,9,  -999.0,9, -999.00,9, -999.00,9
740H20200119,A05_24N,9,1,19,6692,2,20200121,0942,  27.00837, -79.49918,   762,    92.8, 26.2927,2,-999.0000,9, 36.4759,2, 36.4984,2,   195.6,2,   194.8,2,    1.04,2,    0.13,2,   -0.02,2,  2382.5,2,  2055.1,2, -999.00,9, -999.00,9
740H20200119,A05_24N,9,1,20,6428,2,20200121,0942,  27.00837, -79.49918,   762,    92.8, 26.3084,2,-999.0000,9, 36.4708,2,-999.0000,9,   196.9,2,  -999.0,9, -999.00,9, -999.00,9, -999.00,9,  -999.0,9,  -999.0,9, -999.00,9, -999.00,9
740H20200119,A05_24N,9,1,21,6425,2,20200121,0942,  27.00837, -79.49918,   762,    52.7, 26.3125,2,-999.0000,9, 36.4640,2, 36.4661,2,   197.0,2,   201.2,2,    1.08,2,   -0.03,2,   -0.02,2,  -999.0,9,  2053.4,2, -999.00,9, -999.00,9
740H20200119,A05_24N,9,1,22,6426,2,20200121,0942,  27.00837, -79.49918,   762,    52.7, 26.3108,2,-999.0000,9, 36.4641,2,-999.0000,9,   196.5,2,  -999.0,9, -999.00,9, -999.00,9, -999.00,9,  -999.0,9,  2064.4,2, -999.00,9, -999.00,9
740H20200119,A05_24N,9,1,23,6427,2,20200121,0942,  27.00837, -79.49918,   762,     7.0, 26.3146,2,-999.0000,9, 36.4634,2, 36.4657,2,   196.5,2,   199.8,2,    1.09,2,   -0.02,2,   -0.02,2,  2383.4,2,  2053.3,2, -999.00,9, -999.00,9
740H20200119,A05_24N,9,1,24,1086,2,20200121,0942,  27.00837, -79.49918,   762,     7.0, 26.3164,2,-999.0000,9, 36.4632,2,-999.0000,9,   197.6,2,  -999.0,9, -999.00,9, -999.00,9, -999.00,9,  -999.0,9,  -999.0,9, -999.00,9, -999.00,9