BOTTLE,20221012CCHSIOENA
EXPOCODE,SECT_ID,STNNBR,CASTNO,SAMPNO,BTLNBR,BTLNBR_FLAG_W,DATE,TIME,LATITUDE,LONGITUDE,DEPTH,CTDPRS,CTDTMP,CTDTMP_FLAG_W,SBE35,SBE35_FLAG_W,CTDSAL,CTDSAL_FLAG_W,SALNTY,SALNTY_FLAG_W,CTDOXY,CTDOXY_FLAG_W,OXYGEN,OXYGEN_FLAG_W,SILCAT,SILCAT_FLAG_W,NO2+NO3,NO2+NO3_FLAG_W,PHSPHT,PHSPHT_FLAG_W,ALKALI,ALKALI_FLAG_W,TCARBN,TCARBN_FLAG_W,DELC14,DELC14_FLAG_W,DELC13,DELC13_FLAG_W
 , , , , , , , , , , , ,DBAR,ITS-90, ,ITS-90, ,PSS-78, ,PSS-78, ,UMOL/KG, ,UMOL/KG, ,UMOL/KG, ,UMOL/KG, ,UMOL/KG, ,UMOL/KG, ,UMOL/KG, ,/MILLE, ,/MILLE, 
740H20200119,A05_24N,22,1,1,5977,2,20200124,0720,  26.49808, -76.62091,  4711,  4781.0,  2.2415,2,-999.0000,9, 34.8798,2, 34.8806,2,   258.8,2,   260.4,3,   37.14,2,   19.96,2,    1.34,2,  2334.3,6,  2184.8,6, -999.00,9, -999.00,9
740H20200119,A05_24N,22,1,2,6406,2,20200124,0720,  26.49808, -76.62091,  4711,  4589.3,  2.2352,2,-999.0000,9, 34.8818,2, 34.8819,2,   259.5,2,   261.9,3,   35.65,2,   19.61,2,    1.31,2,  2329.7,2,  2183.7,2, -999.00,9, -999.00,9
740H20200119,A05_24N,22,1,3,6407,2,20200124,0720,  26.49808, -76.62091,  4711,  4331.6,  2.2541,2,-999.0000,9, 34.8867,2, 34.8876,2,   263.0,2,   263.7,3,   32.07,2,   18.95,2,    1.27,2,  2329.4,2,  2184.1,2, -999.00,9, -999.00,9
740H20200119,A05_24N,22,1,4,6408,2,20200124,0720,  26.49808, -76.62091,  4711,  4072.5,  2.2728,2,-999.0000,9, 34.8907,2, 34.8912,2,   264.8,2,   266.4,3,   29.58,2,   18.59,2,    1.24,2,  2321.7,6,  2175.1,6, -999.00,9, -999.00,9
740H20200119,A05_24N,22,1,5,6409,2,20200124,0720,  26.49808, -76.62091,  4711,  3555.3,  2.4429,2,-999.0000,9, 34.9043,2, 34.9050,2,   267.9,2,   268.9,3,   24.00,2,   17.75,2,    1.18,2,  2323.4,2,  2176.2,2, -999.00,9, -999.00,9
740H20200119,A05_24N,22,1,6,6410,2,20200124,0720,  26.49808, -76.62091,  4711,  3296.6,  2.5121,2,-999.0000,9, 34.9098,2, 34.9111,2,   268.0,2,   269.4,3,   22.49,2,   17.67,2,    1.17,2,  2315.0,2,  2193.5,2, -999.00,9, -999.00,9
740H20200119,A05_24N,22,1,7,6411,2,20200124,0720,  26.49808, -76.62091,  4711,  3039.3,  2.6831,2,-999.0000,9, 34.9195,2, 34.9210,2,   266.8,2,   268.0,3,   21.00,2,   17.68,2,    1.17,2,  2322.4,2,  2170.0,2, -999.00,9, -999.00,9
740H20200119,A05_24N,22,1,8,6412,2,20200124,0720,  26.49808, -76.62091,  4711,  2525.3,  3.1585,2,-999.0000,9, 34.9465,2, 34.9471,2,   261.6,2,   262.9,3,   19.05,2,   18.17,2,    1.20,2,  2313.1,2,  -999.0,9, -999.00,9, -999.00,9
740H20200119,A05_24N,22,1,9,6413,2,20200124,0720,  26.49808, -76.62091,  4711,  2268.8,  3.3659,2,-999.0000,9, 34.9553,2, 34.9564,2,   261.7,2,   262.8,3,   17.17,2,   18.05,2,    1.18,2,  2315.2,6,  2162.7,6, -999.00,9, -999.00,9
740H20200119,A05_24N,22,1,10,6414,2,20200124,0720,  26.49808, -76.62091,  4711,  2014.0,  3.6531,2,-999.0000,9, 34.9670,2, 34.9685,2,   260.2,2,   261.1,3,   15.09,2,   17.98,2,    1.17,2,  2310.3,2,  2113.3,4, -999.00,9, -999.00,9
740H20200119,A05_24N,22,1,11,6415,2,20200124,0720,  26.49808, -76.62091,  4711,  1769.4,  3.9445,2,-999.0000,9, 34.9832,2, 34.9846,2,   257.0,2,   258.6,3,   13.88,2,   18.05,2,    1.17,2,  2318.0,2,  2166.4,2, -999.00,9, -999.00,9
740H20200119,A05_24N,22,1,12,6416,2,20200124,0720,  26.49808, -76.62091,  4711,  1515.6,  4.2316,2,-999.0000,9, 34.9963,2, 34.9980,2,   253.9,2,   254.8,3,   12.89,2,   18.06,2,    1.17,2,  2312.3,6,  2165.0,6, -999.00,9, -999.00,9
740H20200119,A05_24N,22,1,13,6417,2,20200124,0720,  26.49808, -76.62091,  4711,  1261.7,  4.8199,2,-999.0000,9, 35.0278,2, 35.0291,2,   242.2,2,   243.0,3,   12.34,2,   18.49,2,    1.20,2,  2310.1,2,  2166.8,2, -999.00,9, -999.00,9
740H20200119,A05_24N,22,1,14,6418,2,20200124,0720,  26.49808, -76.62091,  4711,  1008.6,  6.2904,2,-999.0000,9, 35.0971,2, 35.0998,2,   202.4,2,   202.3,3,   13.55,2,   20.86,2,    1.35,2,  2321.1,2,  2186.9,2, -999.00,9, -999.00,9
740H20200119,A05_24N,22,1,15,6419,2,20200124,0720,  26.49808, -76.62091,  4711,   881.3,  7.9671,2,-999.0000,9, 35.1265,2, 35.1328,2,   157.6,2,   160.3,3,   15.10,2,   24.03,2,    1.53,2,  2317.0,2,  2186.6,2, -999.00,9, -999.00,9
740H20200119,A05_24N,22,1,16,6420,2,20200124,0720,  26.49808, -76.62091,  4711,   745.0, 10.2416,2,-999.0000,9, 35.3227,2, 35.3151,2,   137.7,2,   137.6,3,   12.66,2,   23.50,2,    1.47,2,  2325.9,6,  2191.5,6, -999.00,9, -999.00,9
740H20200119,A05_24N,22,1,17,1122,2,20200124,0720,  26.49808, -76.62091,  4711,   492.0, 16.6024,2,-999.0000,9, 36.2705,2, 36.2616,2,   172.8,2,   173.6,3,    2.91,2,    9.38,2,    0.50,2,  2379.1,6,  2148.8,6, -999.00,9, -999.00,9
740H20200119,A05_24N,22,1,18,1098,2,20200124,0720,  26.49808, -76.62091,  4711,   239.9, 19.5460,2,-999.0000,9, 36.6745,2, 36.6763,2,   195.5,2,   195.6,3,    0.86,2,    2.42,2,    0.09,2,  2395.8,2,  2119.2,2, -999.00,9, -999.00,9
740H20200119,A05_24N,22,1,19,6692,2,20200124,0720,  26.49808, -76.62091,  4711,    98.3, 23.4369,2,-999.0000,9, 36.7578,2, 36.7586,2,   201.2,2,   200.9,3,    0.68,2,    0.50,2,    0.03,2,  2398.3,2,  2077.7,2, -999.00,9, -999.00,9
740H20200119,A05_24N,22,1,20,6428,2,20200124,0720,  26.49808, -76.62091,  4711,    39.7, 24.1023,2,-999.0000,9, 36.7713,2, 36.7736,2,   206.3,2,   205.2,3,    0.82,2,    0.26,2,    0.01,2,  2400.2,2,  2069.1,2, -999.00,9, -999.00,9
740H20200119,A05_24N,22,1,21,6425,2,20200124,0720,  26.49808, -76.62091,  4711,    40.3, 24.1011,2,-999.0000,9, 36.7714,2,-999.0000,9,   205.7,2,  -999.0,9, -999.00,9, -999.00,9, -999.00,9,  -999.0,9,  -999.0,9, -999.00,9, -999.00,9
740H20200119,A05_24N,22,1,22,6426,2,20200124,0720,  26.49808, -76.62091,  4711,    39.9, 24.0993,2,-999.0000,9, 36.7714,2,-999.0000,9,   206.0,2,  -999.0,9, -999.00,9, -999.00,9, -999.00,9,  -999.0,9,  -999.0,9, -999.00,9, -999.00,9
740H20200119,A05_24N,22,1,23,6427,2,20200124,0720,  26.49808, -76.62091,  4711,    40.1, 24.0997,2,-999.0000,9, 36.7715,2,-999.0000,9,   206.0,2,  -999.0,9, -999.00,9, -999.00,9, -999.00,9,  -999.0,9,  -999.0,9, -999.00,9, -999.00,9
740H20200119,A05_24N,22,1,24,1086,2,20200124,0720,  26.49808, -76.62091,  4711,     4.4, 24.0721,2,-999.0000,9, 36.7717,2, 36.7737,2,   206.6,2,   205.8,3,    0.77,2,    0.23,2,    0.00,2,  2398.8,2,  2065.9,2, -999.00,9, -999.00,9
740H20200119,A05_24N,23,1,1,5977,4,20200124,1229,  26.50049, -76.53391,  4842,  4918.5,  2.1819,2,-999.0000,9, 34.8705,2,-999.0000,9,   254.4,2,  -999.0,5, -999.00,9, -999.00,9, -999.00,9,  -999.0,9,  -999.0,9, -999.00,9, -999.00,9
740H20200119,A05_24N,23,1,2,6406,2,20200124,1229,  26.50049, -76.53391,  4842,  4582.6,  2.2422,2,-999.0000,9, 34.8825,2, 34.8828,2,   260.3,2,   261.8,3,   35.24,2,   19.54,2,    1.31,2,  2330.9,2,  2180.7,6, -999.00,9, -999.00,9
740H20200119,A05_24N,23,1,3,6407,2,20200124,1229,  26.50049, -76.53391,  4842,  4063.7,  2.2841,2,-999.0000,9, 34.8915,2, 34.8918,2,   265.3,2,   266.2,3,   29.19,2,   18.48,2,    1.24,2,  2325.4,6,  2174.2,6, -999.00,9, -999.00,9
740H20200119,A05_24N,23,1,4,6408,2,20200124,1229,  26.50049, -76.53391,  4842,  3549.6,  2.3906,2,-999.0000,9, 34.9019,2, 34.9023,2,   267.9,2,   269.5,3,   24.59,2,   17.84,2,    1.19,2,  2317.8,2,  2173.6,2, -999.00,9, -999.00,9
740H20200119,A05_24N,23,1,5,6409,2,20200124,1229,  26.50049, -76.53391,  4842,  3039.3,  2.6695,2,-999.0000,9, 34.9189,2, 34.9186,2,   267.3,2,   269.0,3,   21.02,2,   17.73,2,    1.17,2,  2313.8,2,  2165.1,2, -999.00,9, -999.00,9
740H20200119,A05_24N,23,1,6,6410,2,20200124,1229,  26.50049, -76.53391,  4842,  2527.6,  3.1070,2,-999.0000,9, 34.9435,2, 34.9438,2,   262.2,2,   262.8,3,   19.10,2,   18.08,2,    1.19,2,  2315.3,2,  2167.5,2, -999.00,9, -999.00,9
740H20200119,A05_24N,23,1,7,6411,2,20200124,1229,  26.50049, -76.53391,  4842,  2272.2,  3.3802,2,-999.0000,9, 34.9573,2, 34.9564,2,   260.7,2,   261.3,3,   17.38,2,   18.12,2,    1.19,2,  2314.0,2,  2162.8,2, -999.00,9, -999.00,9
740H20200119,A05_24N,23,1,8,6412,2,20200124,1229,  26.50049, -76.53391,  4842,  2017.5,  3.6134,2,-999.0000,9, 34.9662,2, 34.9669,2,   260.2,2,   260.7,3,   15.44,2,   18.06,2,    1.18,2,  2312.3,2,  2162.4,2, -999.00,9, -999.00,9
740H20200119,A05_24N,23,1,9,6413,2,20200124,1229,  26.50049, -76.53391,  4842,  1762.4,  3.9700,2,-999.0000,9, 34.9834,2, 34.9847,2,   257.1,2,   257.5,3,   13.64,2,   18.11,2,    1.17,2,  2309.7,6,  2161.0,6, -999.00,9, -999.00,9
740H20200119,A05_24N,23,1,10,6414,2,20200124,1229,  26.50049, -76.53391,  4842,  1514.4,  4.2855,2,-999.0000,9, 35.0002,2, 35.0011,2,   252.8,2,   253.3,3,   12.67,2,   18.22,2,    1.17,2,  2311.1,2,  2168.4,2, -999.00,9, -999.00,9
740H20200119,A05_24N,23,1,11,6415,2,20200124,1229,  26.50049, -76.53391,  4842,  1260.4,  4.8991,2,-999.0000,9, 35.0337,2, 35.0964,4,   241.2,2,   241.6,3,   12.13,2,   18.68,2,    1.20,2,  2309.2,2,  2174.6,2, -999.00,9, -999.00,9
740H20200119,A05_24N,23,1,12,6416,2,20200124,1229,  26.50049, -76.53391,  4842,  1007.5,  6.4196,2,-999.0000,9, 35.0961,2, 35.0960,2,   198.0,2,   197.6,3,   13.64,2,   21.43,2,    1.37,2,  2321.0,6,  2188.8,6, -999.00,9, -999.00,9
740H20200119,A05_24N,23,1,13,6417,2,20200124,1229,  26.50049, -76.53391,  4842,   880.5,  8.2084,2,-999.0000,9, 35.1307,2, 35.1310,2,   150.4,2,   149.9,3,   15.44,2,   25.22,2,    1.59,2,  2319.2,6,  2198.8,6, -999.00,9, -999.00,9
740H20200119,A05_24N,23,1,14,6418,2,20200124,1229,  26.50049, -76.53391,  4842,   754.2, 10.3963,2,-999.0000,9, 35.3433,2, 35.3466,2,   140.0,2,   140.7,3,   11.84,2,   22.99,2,    1.41,2,  2325.0,2,  2186.9,2, -999.00,9, -999.00,9
740H20200119,A05_24N,23,1,15,6419,2,20200124,1229,  26.50049, -76.53391,  4842,   627.3, 13.6047,2,-999.0000,9, 35.7868,2, 35.7886,2,   154.7,2,   154.7,3,    6.20,2,   16.03,2,    0.93,2,  2349.0,2,  2171.5,2, -999.00,9, -999.00,9
740H20200119,A05_24N,23,1,16,6420,2,20200124,1229,  26.50049, -76.53391,  4842,   506.2, 16.1868,2,-999.0000,9, 36.1932,2, 36.1892,2,   171.2,2,   171.3,3,    3.21,2,   10.18,2,    0.55,2,  2365.3,2,  2147.4,2, -999.00,9, -999.00,9
740H20200119,A05_24N,23,1,17,1122,2,20200124,1229,  26.50049, -76.53391,  4842,   379.8, 18.2989,2,-999.0000,9, 36.5342,2, 36.5329,2,   187.7,2,   187.6,3,    1.44,2,    5.18,2,    0.22,2,  2392.2,6,  2132.5,6, -999.00,9, -999.00,9
740H20200119,A05_24N,23,1,18,1098,2,20200124,1229,  26.50049, -76.53391,  4842,   253.2, 19.3568,2,-999.0000,9, 36.6636,2, 36.6643,2,   198.4,2,   199.0,3,    0.85,2,    2.63,2,    0.09,2,  2394.0,2,  2112.6,2, -999.00,9, -999.00,9
740H20200119,A05_24N,23,1,19,6692,2,20200124,1229,  26.50049, -76.53391,  4842,   177.2, 20.4067,2,-999.0000,9, 36.7344,2, 36.7337,2,   192.8,2,   192.4,4,    0.61,2,    1.41,2,    0.03,2,  2403.0,2,  2117.5,2, -999.00,9, -999.00,9
740H20200119,A05_24N,23,1,20,6428,2,20200124,1229,  26.50049, -76.53391,  4842,   127.0, 22.6636,2,-999.0000,9, 36.8541,2, 36.8446,2,   206.4,2,   203.9,3,    0.48,2,    0.36,2,    0.01,2,  2405.0,2,  2095.1,2, -999.00,9, -999.00,9
740H20200119,A05_24N,23,1,21,6425,2,20200124,1229,  26.50049, -76.53391,  4842,    76.2, 23.7750,2,-999.0000,9, 36.7392,2, 36.7379,2,   207.0,2,   210.6,3,    0.65,2,    0.24,2,    0.01,2,  2402.1,2,  2070.7,2, -999.00,9, -999.00,9
740H20200119,A05_24N,23,1,22,6426,2,20200124,1229,  26.50049, -76.53391,  4842,    51.9, 23.8523,2,-999.0000,9, 36.7602,2, 36.7591,2,   206.6,2,   210.0,3,    0.68,2,    0.23,2,    0.01,2,  -999.0,9,  2065.4,2, -999.00,9, -999.00,9
740H20200119,A05_24N,23,1,23,6427,2,20200124,1229,  26.50049, -76.53391,  4842,    25.8, 23.8575,2,-999.0000,9, 36.7615,2, 36.7605,2,   206.2,2,   205.5,3,    0.75,2,    0.23,2,    0.00,2,  2405.1,2,  2070.4,2, -999.00,9, -999.00,9
740H20200119,A05_24N,23,1,24,1086,4,20200124,1229,  26.50049, -76.53391,  4842,     5.8, 23.8573,2,-999.0000,9, 36.7623,2,-999.0000,9,   206.9,2,  -999.0,5, -999.00,9, -999.00,9, -999.00,9,  -999.0,9,  -999.0,9, -999.00,9, -999.00,9
740H20200119,A05_24N,24,1,1,5977,2,20200124,1751,  26.49659, -76.44088,  4836,  4910.6,  2.1813,2,-999.0000,9, 34.8704,2, 34.8720,2,   253.8,2,   259.7,2,   41.92,2,   20.65,2,    1.40,2,  2338.1,6,  2192.7,6, -999.00,1, -999.00,1
740H20200119,A05_24N,24,1,2,6406,2,20200124,1751,  26.49659, -76.44088,  4836,  4853.5,  2.1899,2,-999.0000,9, 34.8725,2, 34.8728,2,   255.0,2,   259.2,2,   41.86,2,   20.73,2,    1.40,2,  2342.3,2,  2195.6,2, -999.00,1, -999.00,1
740H20200119,A05_24N,24,1,3,6407,2,20200124,1751,  26.49659, -76.44088,  4836,  4317.1,  2.2597,2,-999.0000,9, 34.8873,2, 34.8876,2,   262.6,2,   267.4,2,   31.67,2,   18.91,2,    1.27,2,  2328.8,2,  2180.5,2, -999.00,1, -999.00,1
740H20200119,A05_24N,24,1,4,6408,2,20200124,1751,  26.49659, -76.44088,  4836,  3825.4,  2.3110,2,-999.0000,9, 34.8954,2, 34.8958,2,   266.4,2,   270.9,2,   26.96,2,   18.16,2,    1.21,2,  2317.8,2,  2178.5,2, -999.00,1, -999.00,1
740H20200119,A05_24N,24,1,5,6409,2,20200124,1751,  26.49659, -76.44088,  4836,  3292.9,  2.5093,2,-999.0000,9, 34.9098,2, 34.9110,2,   267.7,2,   272.3,2,   22.46,2,   17.76,2,    1.18,2,  2318.0,6,  2171.9,6, -999.00,1, -999.00,1
740H20200119,A05_24N,24,1,6,6410,2,20200124,1751,  26.49659, -76.44088,  4836,  2782.8,  2.9055,2,-999.0000,9, 34.9329,2, 34.9340,2,   263.9,2,   267.5,2,   20.22,2,   18.01,2,    1.19,2,  2318.0,2,  2166.8,2, -999.00,1, -999.00,1
740H20200119,A05_24N,24,1,7,6411,2,20200124,1751,  26.49659, -76.44088,  4836,  2525.7,  3.1117,2,-999.0000,9, 34.9444,2, 34.9444,2,   261.9,2,   266.2,2,   19.13,2,   18.12,2,    1.19,2,  2314.1,2,  2167.7,2, -999.00,1, -999.00,1
740H20200119,A05_24N,24,1,8,6412,2,20200124,1751,  26.49659, -76.44088,  4836,  2269.4,  3.3719,2,-999.0000,9, 34.9575,2, 34.9572,2,   260.5,2,   264.6,2,   17.40,2,   18.09,2,    1.20,2,  2315.5,2,  2165.5,2, -999.00,1, -999.00,1
740H20200119,A05_24N,24,1,9,6413,2,20200124,1751,  26.49659, -76.44088,  4836,  2013.6,  3.6601,2,-999.0000,9, 34.9680,2, 34.9699,2,   259.8,2,   263.6,2,   15.09,2,   18.06,2,    1.18,2,  2309.7,2,  2165.8,2, -999.00,1, -999.00,1
740H20200119,A05_24N,24,1,10,6414,2,20200124,1751,  26.49659, -76.44088,  4836,  1767.7,  3.9673,2,-999.0000,9, 34.9836,2, 34.9851,2,   256.9,2,   260.7,2,   13.62,2,   18.04,2,    1.18,2,  2312.0,2,  2167.0,2, -999.00,1, -999.00,1
740H20200119,A05_24N,24,1,11,6415,2,20200124,1751,  26.49659, -76.44088,  4836,  1513.3,  4.3308,2,-999.0000,9, 35.0021,2, 35.0023,2,   252.3,2,   256.6,2,   12.60,2,   18.13,2,    1.18,2,  2309.4,2,  2172.7,2, -999.00,1, -999.00,1
740H20200119,A05_24N,24,1,12,6416,2,20200124,1751,  26.49659, -76.44088,  4836,  1259.0,  4.8960,2,-999.0000,9, 35.0324,2, 35.0347,2,   240.6,2,   243.3,2,   12.29,2,   18.69,2,    1.21,2,  2315.1,2,  2173.3,2, -999.00,1, -999.00,1
740H20200119,A05_24N,24,1,13,6417,2,20200124,1751,  26.49659, -76.44088,  4836,  1005.2,  6.6795,2,-999.0000,9, 35.0936,2, 35.1001,2,   189.2,2,   192.8,2,   14.34,2,   22.22,2,    1.44,2,  2318.6,2,  2187.9,2, -999.00,1, -999.00,1
740H20200119,A05_24N,24,1,14,6418,2,20200124,1751,  26.49659, -76.44088,  4836,   883.8,  8.3162,2,-999.0000,9, 35.1410,2, 35.1398,2,   148.3,2,   151.6,2,   15.53,2,   25.23,2,    1.60,2,  2318.3,2,  2197.4,2, -999.00,1, -999.00,1
740H20200119,A05_24N,24,1,15,6419,2,20200124,1751,  26.49659, -76.44088,  4836,   756.8, 10.7307,2,-999.0000,9, 35.3874,2, 35.3878,2,   140.7,2,   143.9,2,   11.32,2,   22.30,2,    1.38,2,  2330.0,2,  2187.9,2, -999.00,1, -999.00,1
740H20200119,A05_24N,24,1,16,6420,2,20200124,1751,  26.49659, -76.44088,  4836,   631.2, 13.5873,2,-999.0000,9, 35.7867,2, 35.7689,2,   157.1,2,   159.8,2,    6.36,2,   16.05,2,    0.95,2,  2344.7,6,  2171.0,6, -999.00,1, -999.00,1
740H20200119,A05_24N,24,1,17,1122,2,20200124,1751,  26.49659, -76.44088,  4836,   505.5, 16.2447,2,-999.0000,9, 36.2118,2, 36.1965,2,   170.9,2,   174.4,2,    3.18,2,   10.24,2,    0.56,2,  2368.5,2,  2149.4,2, -999.00,1, -999.00,1
740H20200119,A05_24N,24,1,18,1098,2,20200124,1751,  26.49659, -76.44088,  4836,   374.8, 18.4748,2,-999.0000,9, 36.5595,2, 36.5553,2,   189.7,2,   191.3,2,    1.35,2,    4.86,2,    0.20,2,  2388.3,2,  2130.8,2, -999.00,1, -999.00,1
740H20200119,A05_24N,24,1,19,6692,2,20200124,1751,  26.49659, -76.44088,  4836,   248.6, 19.3824,2,-999.0000,9, 36.6641,2, 36.6627,2,   198.7,2,   201.3,2,    0.80,2,    2.62,2,    0.08,2,  2397.0,2,  2112.2,2, -999.00,1, -999.00,1
740H20200119,A05_24N,24,1,20,6428,2,20200124,1751,  26.49659, -76.44088,  4836,   173.0, 20.4597,2,-999.0000,9, 36.7453,2, 36.7353,2,   192.2,2,   208.1,2,    0.58,2,    1.33,2,    0.03,2,  2404.8,2,  2111.6,2, -999.00,1, -999.00,1
740H20200119,A05_24N,24,1,21,6425,2,20200124,1751,  26.49659, -76.44088,  4836,    97.3, 23.2571,2,-999.0000,9, 36.6994,2, 36.7011,2,   206.3,2,   208.1,2,    0.61,2,    0.37,2,   -0.01,2,  2396.5,6,  2069.9,6, -999.00,1, -999.00,1
740H20200119,A05_24N,24,1,22,6426,2,20200124,1751,  26.49659, -76.44088,  4836,    47.1, 23.6652,2,-999.0000,9, 36.7285,2, 36.7307,2,   208.6,2,   209.7,2,    0.64,2,    0.38,2,    0.00,2,  2399.8,2,  2062.4,2, -999.00,1, -999.00,1
740H20200119,A05_24N,24,1,23,6427,2,20200124,1751,  26.49659, -76.44088,  4836,    23.3, 23.7155,2,-999.0000,9, 36.7282,2, 36.7296,2,   208.5,2,   209.6,2,    0.67,2,    0.34,2,    0.00,2,  2397.9,2,  2067.6,2, -999.00,1, -999.00,1
740H20200119,A05_24N,24,1,24,1086,2,20200124,1751,  26.49659, -76.44088,  4836,     5.1, 23.8895,2,-999.0000,9, 36.7296,2, 36.7308,2,   207.9,2,   197.4,2,    0.72,2,    0.29,2,    0.00,2,  2396.4,2,  2067.6,2, -999.00,1, -999.00,1