BOTTLE,20221012CCHSIOENA
EXPOCODE,SECT_ID,STNNBR,CASTNO,SAMPNO,BTLNBR,BTLNBR_FLAG_W,DATE,TIME,LATITUDE,LONGITUDE,DEPTH,CTDPRS,CTDTMP,CTDTMP_FLAG_W,SBE35,SBE35_FLAG_W,CTDSAL,CTDSAL_FLAG_W,SALNTY,SALNTY_FLAG_W,CTDOXY,CTDOXY_FLAG_W,OXYGEN,OXYGEN_FLAG_W,SILCAT,SILCAT_FLAG_W,NO2+NO3,NO2+NO3_FLAG_W,PHSPHT,PHSPHT_FLAG_W,ALKALI,ALKALI_FLAG_W,TCARBN,TCARBN_FLAG_W,DELC14,DELC14_FLAG_W,DELC13,DELC13_FLAG_W
 , , , , , , , , , , , ,DBAR,ITS-90, ,ITS-90, ,PSS-78, ,PSS-78, ,UMOL/KG, ,UMOL/KG, ,UMOL/KG, ,UMOL/KG, ,UMOL/KG, ,UMOL/KG, ,UMOL/KG, ,/MILLE, ,/MILLE, 
740H20200119,A05_24N,53,1,11,3044,2,20200131,1723,  24.50036, -67.66786,  5705,  5804.0,  2.0918,2,  2.0917,2, 34.8456,2, 34.8456,2,   248.4,2,   249.8,2,   56.20,2,   22.78,2,    1.55,2,  2344.7,2,  2204.0,2, -999.00,9, -999.00,9
740H20200119,A05_24N,53,1,12,3045,2,20200131,1723,  24.50036, -67.66786,  5705,  5350.0,  2.1035,2,  2.1070,2, 34.8550,2, 34.8550,2,   251.8,2,   252.9,2,   51.61,2,   22.08,2,    1.51,2,  2340.1,2,  2202.4,2, -999.00,9, -999.00,9
740H20200119,A05_24N,53,1,13,3046,2,20200131,1723,  24.50036, -67.66786,  5705,  4839.9,  2.2524,2,  2.2524,2, 34.8803,2, 34.8808,2,   260.4,2,   262.1,2,   37.57,2,   19.80,2,    1.35,2,  2331.1,2,  2182.5,2, -999.00,9, -999.00,9
740H20200119,A05_24N,53,1,14,7131,2,20200131,1723,  24.50036, -67.66786,  5705,  4321.0,  2.2748,2,  2.2753,2, 34.8884,2, 34.8893,2,   264.6,2,   266.4,2,   31.71,2,   18.80,2,    1.28,2,  2321.8,2,  2182.9,2, -999.00,9, -999.00,9
740H20200119,A05_24N,53,1,15,3048,2,20200131,1723,  24.50036, -67.66786,  5705,  3804.3,  2.3473,2,  2.3491,2, 34.8985,2, 34.8993,2,   266.8,2,  -999.0,9,   28.27,2,   18.47,2,    1.25,2,  2321.6,2,  -999.0,9, -999.00,9, -999.00,9
740H20200119,A05_24N,53,1,16,3049,2,20200131,1723,  24.50036, -67.66786,  5705,  3551.3,  2.4361,2,  2.4339,2, 34.9060,2, 34.9060,2,   265.3,2,   266.2,2,   27.92,2,   18.65,2,    1.25,2,  2320.5,6,  2174.6,6, -999.00,9, -999.00,9
740H20200119,A05_24N,53,1,17,3050,2,20200131,1723,  24.50036, -67.66786,  5705,  2779.9,  2.8926,2,  2.8909,2, 34.9388,2, 34.9389,2,   260.5,2,   261.2,2,   24.33,2,   18.78,2,    1.26,2,  2318.1,6,  2172.6,6, -999.00,9, -999.00,9
740H20200119,A05_24N,53,1,18,3051,2,20200131,1723,  24.50036, -67.66786,  5705,  2528.6,  3.1008,2,  3.0956,2, 34.9531,2,-999.0000,9,   259.3,2,   260.0,2,   22.33,2,   18.67,2,    1.24,2,  2314.6,2,  2174.0,2, -999.00,9, -999.00,9
740H20200119,A05_24N,53,1,19,3052,2,20200131,1723,  24.50036, -67.66786,  5705,  2026.8,  3.6372,2,  3.6375,2, 34.9809,2, 34.9806,2,   259.1,2,   259.9,2,   16.80,2,   18.31,2,    1.21,2,  -999.0,9,  2169.8,2, -999.00,9, -999.00,9
740H20200119,A05_24N,53,1,20,3053,2,20200131,1723,  24.50036, -67.66786,  5705,  1771.8,  3.9698,2,  3.9735,2, 34.9944,2, 34.9947,2,   257.1,2,   257.4,2,   14.37,2,   18.26,2,    1.19,2,  -999.0,9,  2171.3,2, -999.00,9, -999.00,9
740H20200119,A05_24N,53,1,21,3054,2,20200131,1723,  24.50036, -67.66786,  5705,  1516.8,  4.5526,2,  4.5480,2, 35.0278,2, 35.0291,2,   247.8,2,   248.8,2,   13.11,2,   18.55,2,    1.21,2,  2312.7,2,  2169.9,2, -999.00,9, -999.00,9
740H20200119,A05_24N,53,1,22,3055,2,20200131,1723,  24.50036, -67.66786,  5705,  1262.2,  5.2174,2,  5.2393,2, 35.0398,2, 35.0409,2,   227.7,2,   230.0,2,   13.61,2,   19.90,2,    1.30,2,  2310.5,2,  2180.4,2, -999.00,9, -999.00,9
740H20200119,A05_24N,53,1,23,3056,2,20200131,1723,  24.50036, -67.66786,  5705,  1008.3,  6.5786,2,  6.5992,2, 35.0060,2, 35.0078,2,   165.7,2,   168.3,2,   18.56,2,   26.03,2,    1.69,2,  2315.3,2,  2200.0,2, -999.00,9, -999.00,9
740H20200119,A05_24N,53,1,24,3057,2,20200131,1723,  24.50036, -67.66786,  5705,   831.2,  8.8815,2,  8.9267,2, 35.1693,2, 35.1586,2,   140.3,2,   144.3,2,   18.56,2,   26.07,2,    1.69,2,  2318.6,6,  2199.9,6, -999.00,9, -999.00,9
740H20200119,A05_24N,53,1,1,3034,2,20200131,1723,  24.50036, -67.66786,  5705,   754.6, 10.4320,2, 10.5299,2, 35.3676,2, 35.3570,2,   142.5,2,   126.9,4,   11.78,2,   22.95,2,    1.41,2,  2334.9,6,  2182.5,6, -999.00,9, -999.00,9
740H20200119,A05_24N,53,1,2,3035,2,20200131,1723,  24.50036, -67.66786,  5705,   628.5, 13.4852,2, 13.5075,2, 35.7953,2, 35.7782,2,   159.6,2,   163.9,2,    6.06,2,   15.83,2,    0.92,2,  2345.2,2,  2165.9,2, -999.00,9, -999.00,9
740H20200119,A05_24N,53,1,3,3036,2,20200131,1723,  24.50036, -67.66786,  5705,   502.2, 15.9028,2, 15.9457,2, 36.1665,2, 36.1580,2,   174.7,2,   176.3,2,    3.21,2,   10.34,2,    0.56,2,  2364.7,2,  2150.6,2, -999.00,9, -999.00,9
740H20200119,A05_24N,53,1,4,3037,2,20200131,1723,  24.50036, -67.66786,  5705,   375.9, 18.0507,2, 18.0679,2, 36.5024,2, 36.4898,2,   186.1,2,   186.2,2,    1.67,2,    6.00,2,    0.27,2,  2382.9,2,  2136.5,2, -999.00,9, -999.00,9
740H20200119,A05_24N,53,1,5,3038,2,20200131,1723,  24.50036, -67.66786,  5705,   250.5, 19.3600,2, 19.3749,2, 36.6539,2, 36.6551,2,   197.5,2,   198.5,2,    0.94,2,    2.61,2,    0.07,2,  2395.1,2,  2120.4,2, -999.00,9, -999.00,9
740H20200119,A05_24N,53,1,6,6410,2,20200131,1723,  24.50036, -67.66786,  5705,   149.3, 22.5943,2, 22.7542,2, 37.0333,2, 36.9719,2,   200.3,2,   197.6,2,    0.60,2,    0.41,2,   -0.01,2,  2412.4,2,  2111.3,2, -999.00,9, -999.00,9
740H20200119,A05_24N,53,1,7,6411,2,20200131,1723,  24.50036, -67.66786,  5705,   124.4, 23.4684,2, 23.5009,2, 37.1786,2, 37.1642,2,   203.3,2,   203.4,2,    0.64,2,    0.26,2,   -0.01,2,  2426.4,2,  2099.1,2, -999.00,9, -999.00,9
740H20200119,A05_24N,53,1,8,6412,2,20200131,1723,  24.50036, -67.66786,  5705,    98.7, 23.9994,2, 24.0878,2, 37.0632,2, 37.0626,2,   209.6,2,   209.6,2,    0.76,2,    0.19,2,   -0.01,2,  2418.7,2,  2084.9,2, -999.00,9, -999.00,9
740H20200119,A05_24N,53,1,9,6413,2,20200131,1723,  24.50036, -67.66786,  5705,    48.6, 24.6978,2, 24.6963,2, 36.9714,2, 36.9700,2,   208.5,2,   207.6,2,    0.95,2,    0.18,2,   -0.01,2,  2415.8,2,  2073.7,2, -999.00,9, -999.00,9
740H20200119,A05_24N,53,1,10,3043,2,20200131,1723,  24.50036, -67.66786,  5705,     4.0, 24.9132,2, 24.9115,2, 36.9775,2, 36.9790,2,   208.3,2,   207.5,2,    1.01,2,    0.18,2,   -0.01,2,  2414.0,2,  2066.7,2, -999.00,9, -999.00,9
740H20200119,A05_24N,54,1,11,3044,2,20200201,0210,  24.49775, -66.93696,  5707,  5809.4,  2.1127,2,  2.1123,2, 34.8481,2, 34.8474,2,   249.6,2,   251.8,2,   54.93,2,   22.62,2,    1.53,2,  2343.1,2,  2206.4,2, -999.00,1, -999.00,1
740H20200119,A05_24N,54,1,12,3045,2,20200201,0210,  24.49775, -66.93696,  5707,  5089.8,  2.1625,2,  2.1624,2, 34.8661,2, 34.8661,2,   255.3,2,   258.0,2,   45.38,2,   21.19,2,    1.43,2,  2331.9,2,  2197.2,2, -999.00,9, -999.00,9
740H20200119,A05_24N,54,1,13,3046,2,20200201,0210,  24.49775, -66.93696,  5707,  4580.4,  2.2611,2,  2.2604,2, 34.8847,2, 34.8848,2,   261.9,2,   250.0,3,   35.73,2,   19.67,2,    1.32,2,  2330.4,2,  2188.5,2, -999.00,1, -999.00,1
740H20200119,A05_24N,54,1,14,7131,2,20200201,0210,  24.49775, -66.93696,  5707,  4061.9,  2.3317,2,  2.3308,2, 34.8961,2, 34.8952,2,   264.7,2,   255.9,3,   30.54,2,   18.95,2,    1.26,2,  2316.6,2,  2178.3,2, -999.00,9, -999.00,9
740H20200119,A05_24N,54,1,15,3048,2,20200201,0210,  24.49775, -66.93696,  5707,  3555.2,  2.4706,2,  2.4690,2, 34.9084,2, 34.9082,2,   263.7,2,   269.0,3,   28.62,2,   18.90,2,    1.26,2,  2319.1,6,  2171.8,6, -999.00,1, -999.00,1
740H20200119,A05_24N,54,1,16,3049,2,20200201,0210,  24.49775, -66.93696,  5707,  3040.3,  2.7250,2,  2.7233,2, 34.9264,2, 34.9265,2,   262.9,2,   264.9,2,   25.33,2,   18.69,2,    1.23,2,  2312.7,2,  2173.9,2, -999.00,9, -999.00,9
740H20200119,A05_24N,54,1,17,3050,2,20200201,0210,  24.49775, -66.93696,  5707,  2532.1,  3.1283,2,  3.1242,2, 34.9553,2, 34.9550,2,   259.1,2,   263.4,2,   22.09,2,   18.71,2,    1.23,2,  2318.4,2,  2173.6,2, -999.00,1, -999.00,1
740H20200119,A05_24N,54,1,18,3051,2,20200201,0210,  24.49775, -66.93696,  5707,  2280.9,  3.3586,2,  3.3580,2, 34.9716,2, 34.9708,2,   257.7,2,   268.9,2,   20.23,2,   18.67,2,    1.22,2,  2311.4,2,  2170.9,2, -999.00,9, -999.00,9
740H20200119,A05_24N,54,1,19,3052,2,20200201,0210,  24.49775, -66.93696,  5707,  2025.2,  3.6606,2,  3.6626,2, 34.9806,2, 34.9811,2,   259.0,2,   261.2,2,   16.50,2,   18.27,2,    1.19,2,  2312.3,2,  2166.9,2, -999.00,1, -999.00,1
740H20200119,A05_24N,54,1,20,3053,2,20200201,0210,  24.49775, -66.93696,  5707,  1769.8,  4.1189,2,  4.1190,2, 35.0091,2, 35.0105,2,   254.0,2,   255.7,2,   14.35,2,   18.33,2,    1.19,2,  2306.0,2,  2169.8,2, -999.00,1, -999.00,1
740H20200119,A05_24N,54,1,21,3054,2,20200201,0210,  24.49775, -66.93696,  5707,  1514.8,  4.5069,2,  4.5152,2, 35.0183,2, 35.0184,2,   248.4,2,   248.8,2,   12.86,2,   18.47,2,    1.19,2,  2311.7,2,  2174.4,2, -999.00,1, -999.00,1
740H20200119,A05_24N,54,1,22,3055,2,20200201,0210,  24.49775, -66.93696,  5707,  1260.7,  5.2825,2,  5.3076,2, 35.0440,2, 35.0430,2,   225.2,2,   229.0,2,   13.79,2,   20.07,2,    1.30,2,  2308.8,2,  2180.1,2, -999.00,1, -999.00,1
740H20200119,A05_24N,54,1,23,3056,2,20200201,0210,  24.49775, -66.93696,  5707,  1006.5,  6.7282,2,  6.7460,2, 35.0072,2, 35.0061,2,   156.7,2,   169.7,2,   19.24,2,   26.95,2,    1.74,2,  2315.7,6,  2205.7,6, -999.00,1, -999.00,1
740H20200119,A05_24N,54,1,24,3057,2,20200201,0210,  24.49775, -66.93696,  5707,   884.9,  8.0504,2,  8.0566,2, 35.0820,2, 35.0796,2,   142.2,2,   144.3,2,   16.93,2,   26.79,2,    1.70,2,  2310.0,2,  2205.6,2, -999.00,1, -999.00,1
740H20200119,A05_24N,54,1,1,3034,2,20200201,0210,  24.49775, -66.93696,  5707,   758.2, 10.1581,2, 10.2443,2, 35.3246,2, 35.3008,2,   140.6,2,   123.5,2,   12.64,2,   23.82,2,    1.48,2,  2322.6,6,  2194.7,6, -999.00,1, -999.00,1
740H20200119,A05_24N,54,1,2,3035,2,20200201,0210,  24.49775, -66.93696,  5707,   632.1, 13.2599,2, 13.3063,2, 35.7610,2, 35.7380,2,   161.0,2,   174.5,2,    6.33,2,   16.07,2,    0.94,2,  2341.4,2,  2173.7,2, -999.00,1, -999.00,1
740H20200119,A05_24N,54,1,3,3036,2,20200201,0210,  24.49775, -66.93696,  5707,   505.3, 15.8836,2, 15.9227,2, 36.1597,2, 36.1578,2,   176.3,2,   181.2,2,    3.15,2,   10.12,2,    0.55,2,  2367.6,2,  2153.6,2, -999.00,1, -999.00,1
740H20200119,A05_24N,54,1,4,3037,2,20200201,0210,  24.49775, -66.93696,  5707,   379.5, 17.8930,2, 17.9489,2, 36.4829,2, 36.4699,2,   183.6,2,   178.0,2,    1.75,2,    6.33,2,    0.30,2,  2377.1,2,  2138.8,2, -999.00,1, -999.00,1
740H20200119,A05_24N,54,1,5,3038,2,20200201,0210,  24.49775, -66.93696,  5707,   253.4, 19.2433,2, 19.2702,2, 36.6441,2, 36.6416,2,   196.8,2,   200.2,2,    0.93,2,    2.93,2,    0.10,2,  2393.6,2,  2118.0,2, -999.00,1, -999.00,1
740H20200119,A05_24N,54,1,6,6410,2,20200201,0210,  24.49775, -66.93696,  5707,   202.8, 19.7887,2, 19.9602,2, 36.7012,2, 36.7041,2,   190.3,2,   198.7,2,    0.76,2,    1.94,2,    0.04,2,  2393.3,2,  2123.9,2, -999.00,9, -999.00,9
740H20200119,A05_24N,54,1,7,6411,2,20200201,0210,  24.49775, -66.93696,  5707,   177.7, 20.5986,2, 20.6446,2, 36.7951,2, 36.7910,2,   189.1,2,   196.3,2,    0.64,2,    1.01,2,    0.01,2,  2403.9,2,  2123.0,2, -999.00,1, -999.00,1
740H20200119,A05_24N,54,1,8,6412,2,20200201,0210,  24.49775, -66.93696,  5707,   102.1, 23.4407,2, 23.5161,2, 37.0147,2, 37.0210,2,   209.2,2,   200.8,2,    0.60,2,    0.20,2,    0.00,2,  2412.2,2,  2091.8,2, -999.00,1, -999.00,1
740H20200119,A05_24N,54,1,9,6413,2,20200201,0210,  24.49775, -66.93696,  5707,    52.3, 24.7114,2, 24.7120,2, 36.9723,2, 36.9725,2,   209.3,2,   216.7,2,    0.85,2,    0.20,2,    0.00,2,  2415.8,2,  2059.4,2, -999.00,1, -999.00,1
740H20200119,A05_24N,54,1,10,3043,2,20200201,0210,  24.49775, -66.93696,  5707,     7.3, 24.8158,2, 24.8101,2, 36.9058,2, 36.9082,2,   207.9,2,   201.4,2,    0.96,2,    0.20,2,    0.00,2,  2354.8,3,  2066.9,2, -999.00,1, -999.00,1
740H20200119,A05_24N,55,1,11,3044,2,20200201,1052,  24.50015, -66.16807,  5276,  5369.0,  2.0814,2,  2.0813,2, 34.8519,2, 34.8524,2,   250.7,2,   246.8,2,   52.71,2,   22.36,2,    1.51,2,  2341.5,6,  2203.2,6, -999.00,9, -999.00,9
740H20200119,A05_24N,55,1,12,3045,2,20200201,1052,  24.50015, -66.16807,  5276,  4848.9,  2.1875,2,  2.1888,2, 34.8729,2, 34.8728,2,   257.3,2,   257.6,2,   41.96,2,   20.64,2,    1.40,2,  2327.9,2,  2186.8,2, -999.00,9, -999.00,9
740H20200119,A05_24N,55,1,13,3046,2,20200201,1052,  24.50015, -66.16807,  5276,  4329.6,  2.2742,2,  2.2734,2, 34.8889,2, 34.8887,2,   263.4,2,   264.0,2,   33.41,2,   19.28,2,    1.30,2,  2327.9,2,  2182.5,2, -999.00,9, -999.00,9
740H20200119,A05_24N,55,1,14,7131,2,20200201,1052,  24.50015, -66.16807,  5276,  3812.1,  2.3807,2,  2.3792,2, 34.9011,2, 34.9017,2,   264.9,2,   265.5,2,   29.53,2,   18.81,2,    1.26,2,  2320.6,2,  2173.8,2, -999.00,9, -999.00,9
740H20200119,A05_24N,55,1,15,3048,2,20200201,1052,  24.50015, -66.16807,  5276,  3296.8,  2.5980,2,  2.5971,2, 34.9184,2, 34.9181,2,   261.4,2,   261.2,2,   28.33,2,   19.04,2,    1.28,2,  2325.2,2,  2171.9,2, -999.00,9, -999.00,9
740H20200119,A05_24N,55,1,16,3049,2,20200201,1052,  24.50015, -66.16807,  5276,  2783.1,  2.9119,2,  2.9116,2, 34.9428,2, 34.9423,2,   258.2,2,   258.0,2,   26.06,2,   19.19,2,    1.27,2,  2319.5,2,  2176.9,2, -999.00,9, -999.00,9
740H20200119,A05_24N,55,1,17,3050,2,20200201,1052,  24.50015, -66.16807,  5276,  2526.1,  3.0946,2,  3.0961,2, 34.9561,2, 34.9571,2,   257.5,2,   257.3,2,   23.63,2,   19.00,2,    1.26,2,  2323.9,2,  2197.5,3, -999.00,9, -999.00,9
740H20200119,A05_24N,55,1,18,3051,2,20200201,1052,  24.50015, -66.16807,  5276,  2270.5,  3.2972,2,  3.2970,2, 34.9635,2, 34.9635,2,   259.7,2,   259.5,2,   19.80,2,   18.48,2,    1.22,2,  2311.8,2,  2168.9,2, -999.00,9, -999.00,9
740H20200119,A05_24N,55,1,19,3052,2,20200201,1052,  24.50015, -66.16807,  5276,  2019.2,  3.5875,2,  3.6013,2, 34.9848,2, 34.9856,2,   257.3,2,   257.4,2,   17.92,2,   18.46,2,    1.22,2,  2318.3,2,  2164.7,2, -999.00,9, -999.00,9
740H20200119,A05_24N,55,1,20,3053,2,20200201,1052,  24.50015, -66.16807,  5276,  1769.3,  3.9963,2,  3.9829,2, 35.0060,2, 35.0046,2,   254.4,2,   254.8,2,   15.14,2,   18.31,2,    1.20,2,  2307.6,2,  2169.1,2, -999.00,9, -999.00,9
740H20200119,A05_24N,55,1,21,3054,2,20200201,1052,  24.50015, -66.16807,  5276,  1514.1,  4.4728,2,  4.4750,2, 35.0303,2, 35.0043,4,   248.3,2,   248.6,2,   13.46,2,   18.49,2,    1.20,2,  2313.4,2,  2167.9,2, -999.00,9, -999.00,9
740H20200119,A05_24N,55,1,22,3055,2,20200201,1052,  24.50015, -66.16807,  5276,  1259.6,  5.1682,2,  5.1674,2, 35.0561,2, 35.0560,2,   232.3,2,   232.9,2,   13.10,2,   19.32,2,    1.25,2,  2312.4,2,  2197.6,2, -999.00,9, -999.00,9
740H20200119,A05_24N,55,1,23,3056,2,20200201,1052,  24.50015, -66.16807,  5276,  1006.0,  6.7947,2,  6.7961,2, 35.0592,2, 35.0593,2,   173.7,2,   173.9,2,   16.46,2,   24.30,2,    1.55,2,  2316.0,6,  2203.1,6, -999.00,9, -999.00,9
740H20200119,A05_24N,55,1,24,3057,2,20200201,1052,  24.50015, -66.16807,  5276,   884.5,  8.0081,2,  8.0483,2, 35.1018,2, 35.1013,2,   148.4,2,   148.6,2,   16.27,2,   25.95,2,    1.64,2,  2316.9,6,  2200.8,6, -999.00,9, -999.00,9
740H20200119,A05_24N,55,1,1,3034,2,20200201,1052,  24.50015, -66.16807,  5276,   757.9, 10.1992,2, 10.1872,2, 35.3278,2, 35.3178,2,   141.7,2,   141.1,2,   12.25,2,   23.33,2,    1.43,2,  2321.0,6,  2194.5,6, -999.00,9, -999.00,9
740H20200119,A05_24N,55,1,2,3035,2,20200201,1052,  24.50015, -66.16807,  5276,   504.7, 15.5906,2, 15.6817,2, 36.1095,2, 36.0900,2,   174.2,2,   173.4,2,    3.61,2,   11.03,2,    0.61,2,  2358.8,2,  2155.5,2, -999.00,9, -999.00,9
740H20200119,A05_24N,55,1,3,3036,2,20200201,1052,  24.50015, -66.16807,  5276,   388.7, 17.5878,2, 17.5912,2, 36.4313,2, 36.4234,2,   182.4,2,   181.4,2,    2.02,2,    7.01,2,    0.34,2,  2380.4,2,  2141.2,2, -999.00,9, -999.00,9
740H20200119,A05_24N,55,1,4,3037,2,20200201,1052,  24.50015, -66.16807,  5276,   252.5, 19.2226,2, 19.2467,2, 36.6411,2, 36.6386,2,   195.8,2,   195.8,2,    0.98,2,    3.07,2,    0.10,2,  2389.7,2,  2117.1,2, -999.00,9, -999.00,9
740H20200119,A05_24N,55,1,5,3038,2,20200201,1052,  24.50015, -66.16807,  5276,   176.7, 21.0959,2, 21.1251,2, 36.9097,2, 36.8650,2,   185.3,2,   185.5,2,    0.65,2,    1.26,2,    0.02,2,  2408.0,6,  2129.1,6, -999.00,9, -999.00,9
740H20200119,A05_24N,55,1,6,6410,2,20200201,1052,  24.50015, -66.16807,  5276,   131.2, 22.9697,2, 23.0589,2, 37.1501,2, 37.1071,2,   195.2,2,   192.7,2,    0.54,2,    0.60,2,    0.01,2,  2418.1,2,  2124.4,2, -999.00,9, -999.00,9
740H20200119,A05_24N,55,1,7,6411,2,20200201,1052,  24.50015, -66.16807,  5276,   115.8, 23.5341,2, 23.5748,2, 37.2187,2, 37.2089,2,   199.4,2,   198.1,2,    0.54,2,    0.36,2,    0.00,2,  2428.6,6,  2112.7,6, -999.00,9, -999.00,9
740H20200119,A05_24N,55,1,8,6412,2,20200201,1052,  24.50015, -66.16807,  5276,    91.0, 24.4900,2, 24.5024,2, 37.2789,2, 37.2808,2,   208.3,2,   205.8,2,    0.51,2,    0.20,2,    0.00,2,  2432.6,2,  2107.1,2, -999.00,9, -999.00,9
740H20200119,A05_24N,55,1,9,6413,2,20200201,1052,  24.50015, -66.16807,  5276,    51.2, 24.9444,2, 24.9426,2, 36.8710,2, 36.8760,2,   208.1,2,   206.9,2,    1.01,2,    0.20,2,    0.00,2,  2412.5,2,  2065.2,2, -999.00,9, -999.00,9
740H20200119,A05_24N,55,1,10,3043,2,20200201,1052,  24.50015, -66.16807,  5276,     3.1, 24.9350,2, 24.9379,2, 36.8652,2, 36.8661,2,   207.5,2,   207.2,2,    1.05,2,    0.20,2,    0.00,2,  2408.7,2,  2062.8,2, -999.00,9, -999.00,9