BOTTLE,20221012CCHSIOENA
EXPOCODE,SECT_ID,STNNBR,CASTNO,SAMPNO,BTLNBR,BTLNBR_FLAG_W,DATE,TIME,LATITUDE,LONGITUDE,DEPTH,CTDPRS,CTDTMP,CTDTMP_FLAG_W,SBE35,SBE35_FLAG_W,CTDSAL,CTDSAL_FLAG_W,SALNTY,SALNTY_FLAG_W,CTDOXY,CTDOXY_FLAG_W,OXYGEN,OXYGEN_FLAG_W,SILCAT,SILCAT_FLAG_W,NO2+NO3,NO2+NO3_FLAG_W,PHSPHT,PHSPHT_FLAG_W,ALKALI,ALKALI_FLAG_W,TCARBN,TCARBN_FLAG_W,DELC14,DELC14_FLAG_W,DELC13,DELC13_FLAG_W
 , , , , , , , , , , , ,DBAR,ITS-90, ,ITS-90, ,PSS-78, ,PSS-78, ,UMOL/KG, ,UMOL/KG, ,UMOL/KG, ,UMOL/KG, ,UMOL/KG, ,UMOL/KG, ,UMOL/KG, ,/MILLE, ,/MILLE, 
740H20200119,A05_24N,80,1,11,3044,2,20200210,1229,  24.52084, -49.53437,  5957,  6067.7,  2.2217,2,  2.2214,2, 34.8551,2, 34.8555,2,   251.9,2,   251.9,2,   53.12,2,   22.38,2,    1.52,2,  2343.2,6,  2202.2,6, -999.00,9, -999.00,9
740H20200119,A05_24N,80,1,12,3045,2,20200210,1229,  24.52084, -49.53437,  5957,  5607.0,  2.1583,2,  2.1581,2, 34.8553,2, 34.8546,2,   251.2,2,   252.1,2,   52.89,2,   22.48,2,    1.53,2,  2342.8,2,  2202.0,2, -999.00,9, -999.00,9
740H20200119,A05_24N,80,1,13,3046,2,20200210,1229,  24.52084, -49.53437,  5957,  5032.5,  2.1072,2,  2.1069,2, 34.8582,2, 34.8582,2,   252.1,2,   252.3,2,   51.42,2,   22.30,2,    1.51,2,  2342.1,2,  2201.4,2, -999.00,9, -999.00,9
740H20200119,A05_24N,80,1,14,7131,2,20200210,1229,  24.52084, -49.53437,  5957,  4573.1,  2.1482,2,  2.1474,2, 34.8683,2, 34.8684,2,   253.4,2,   254.7,2,   47.62,2,   21.74,2,    1.49,2,  2340.9,2,  2195.2,2, -999.00,9, -999.00,9
740H20200119,A05_24N,80,1,15,3048,2,20200210,1229,  24.52084, -49.53437,  5957,  4066.4,  2.2737,2,  2.2712,2, 34.8848,2, 34.8848,2,   254.3,2,   255.1,2,   42.79,2,   21.20,2,    1.44,2,  2337.3,6,  2192.4,6, -999.00,9, -999.00,9
740H20200119,A05_24N,80,1,16,3049,2,20200210,1229,  24.52084, -49.53437,  5957,  3556.2,  2.4370,2,  2.4358,2, 34.9024,2, 34.9020,2,   253.4,2,   254.5,2,   39.31,2,   20.86,2,    1.41,2,  2335.6,2,  2191.1,2, -999.00,9, -999.00,9
740H20200119,A05_24N,80,1,17,3050,2,20200210,1229,  24.52084, -49.53437,  5957,  3041.5,  2.7249,2,  2.7252,2, 34.9289,2, 34.9289,2,   251.0,2,   251.6,2,   34.91,2,   20.61,2,    1.39,2,  2362.0,3,  2184.9,2, -999.00,9, -999.00,9
740H20200119,A05_24N,80,1,18,3051,2,20200210,1229,  24.52084, -49.53437,  5957,  2533.7,  3.0595,2,  3.0546,2, 34.9588,2, 34.9578,2,   249.6,2,   250.3,2,   29.60,2,   20.16,2,    1.35,2,  2330.0,6,  2181.9,6, -999.00,9, -999.00,9
740H20200119,A05_24N,80,1,19,3052,2,20200210,1229,  24.52084, -49.53437,  5957,  2023.0,  3.6968,2,  3.7104,2, 35.0130,2, 35.0139,2,   248.3,2,   248.8,2,   21.62,2,   19.30,2,    1.29,2,  2322.9,2,  2177.0,2, -999.00,9, -999.00,9
740H20200119,A05_24N,80,1,20,3053,2,20200210,1229,  24.52084, -49.53437,  5957,  1640.6,  4.4810,2,  4.4859,2, 35.0543,2, 35.0547,2,   240.8,2,   241.9,2,   15.95,2,   19.25,2,    1.28,2,  2318.5,2,  2172.9,2, -999.00,9, -999.00,9
740H20200119,A05_24N,80,1,21,3054,2,20200210,1229,  24.52084, -49.53437,  5957,  1411.8,  4.9200,2,  4.9261,2, 35.0499,2, 35.0481,2,   231.8,2,   234.0,2,   14.55,2,   19.75,2,    1.31,2,  2314.2,2,  2174.1,2, -999.00,9, -999.00,9
740H20200119,A05_24N,80,1,22,3055,2,20200210,1229,  24.52084, -49.53437,  5957,  1208.6,  5.5872,2,  5.6003,2, 35.0384,2, 35.0387,2,   203.2,2,   206.5,2,   16.49,2,   22.29,2,    1.48,2,  2317.1,2,  2188.0,2, -999.00,9, -999.00,9
740H20200119,A05_24N,80,1,23,3056,2,20200210,1229,  24.52084, -49.53437,  5957,  1112.2,  6.0019,2,  6.0065,2, 35.0000,2, 35.0139,2,   179.4,2,   183.2,2,   18.38,2,   24.68,2,    1.63,2,  2317.9,6,  2196.4,6, -999.00,9, -999.00,9
740H20200119,A05_24N,80,1,24,3057,2,20200210,1229,  24.52084, -49.53437,  5957,  1010.8,  6.7111,2,  6.7370,2, 35.0268,2, 35.0278,2,   160.5,2,   163.8,2,   18.95,2,   26.29,2,    1.73,2,  2319.0,6,  2201.6,6, -999.00,9, -999.00,9
740H20200119,A05_24N,80,1,1,3034,2,20200210,1229,  24.52084, -49.53437,  5957,   909.4,  7.8016,2,  7.7930,2, 35.1291,2, 35.1252,2,   149.8,2,   152.4,2,   17.15,2,   25.86,2,    1.67,2,  2320.3,2,  2204.2,2, -999.00,9, -999.00,9
740H20200119,A05_24N,80,1,2,3035,2,20200210,1229,  24.52084, -49.53437,  5957,   808.1,  9.0824,2,  9.2117,2, 35.2587,2, 35.2582,2,   146.8,2,   150.0,2,   14.25,2,   24.17,2,    1.53,2,  2324.0,6,  2198.0,6, -999.00,9, -999.00,9
740H20200119,A05_24N,80,1,3,3036,2,20200210,1229,  24.52084, -49.53437,  5957,   706.8, 10.4967,2, 10.4909,2, 35.4541,2, 35.4494,2,   156.9,2,   161.0,2,   10.34,2,   20.71,2,    1.27,2,  2331.7,2,  2187.7,2, -999.00,9, -999.00,9
740H20200119,A05_24N,80,1,4,3037,2,20200210,1229,  24.52084, -49.53437,  5957,   605.7, 12.1233,2, 12.1008,2, 35.6458,2, 35.6414,2,   165.0,2,   166.6,2,    6.94,2,   17.10,2,    1.01,2,  2338.9,2,  2175.2,2, -999.00,9, -999.00,9
740H20200119,A05_24N,80,1,5,3038,2,20200210,1229,  24.52084, -49.53437,  5957,   404.2, 15.6440,2, 15.6796,2, 36.1323,2, 36.1155,2,   179.3,2,   181.0,2,    3.15,2,   10.11,2,    0.56,2,  2364.4,2,  2155.3,2, -999.00,9, -999.00,9
740H20200119,A05_24N,80,1,6,6410,2,20200210,1229,  24.52084, -49.53437,  5957,   302.9, 17.5119,2, 17.5378,2, 36.4297,2, 36.4220,2,   187.4,2,   187.9,2,    1.86,2,    6.51,2,    0.33,2,  2381.8,2,  2141.4,2, -999.00,9, -999.00,9
740H20200119,A05_24N,80,1,7,6411,2,20200210,1229,  24.52084, -49.53437,  5957,   202.0, 19.7684,2, 19.8477,2, 36.8408,2, 36.8266,2,   186.8,2,   187.7,2,    0.99,2,    3.07,2,    0.13,2,  2407.4,2,  2141.1,2, -999.00,9, -999.00,9
740H20200119,A05_24N,80,1,8,6412,2,20200210,1229,  24.52084, -49.53437,  5957,   101.1, 23.6477,2, 23.6489,2, 37.5192,2, 37.5202,2,   209.1,2,   208.8,2,    0.53,2,    0.14,2,    0.01,2,  2451.7,2,  2113.8,2, -999.00,9, -999.00,9
740H20200119,A05_24N,80,1,9,6413,2,20200210,1229,  24.52084, -49.53437,  5957,    51.3, 23.6457,2, 23.6458,2, 37.5207,2, 37.5211,2,   209.1,2,   208.3,2,    0.52,2,    0.14,2,    0.00,2,  2451.9,2,  2114.2,2, -999.00,9, -999.00,9
740H20200119,A05_24N,80,1,10,3043,2,20200210,1229,  24.52084, -49.53437,  5957,     5.8, 23.7052,2, 23.7162,2, 37.5217,2, 37.5229,2,   209.3,2,   209.0,2,    0.48,2,    0.16,2,    0.00,2,  2451.9,2,  2115.7,2, -999.00,9, -999.00,9
740H20200119,A05_24N,81,1,11,3044,2,20200210,2033,  24.34917, -49.00892,  5379,  5470.9,  2.1440,2,  2.1438,2, 34.8556,2, 34.8555,2,   251.7,2,   251.7,2,   52.25,2,   22.42,2,    1.51,2,  2340.8,6,  2205.7,6, -999.00,9, -999.00,9
740H20200119,A05_24N,81,1,12,3045,2,20200210,2033,  24.34917, -49.00892,  5379,  4855.3,  2.1255,2,  2.1258,2, 34.8624,2, 34.8623,2,   252.1,2,   252.9,2,   49.59,2,   22.04,2,    1.49,2,  2338.3,2,  2201.5,2, -999.00,9, -999.00,9
740H20200119,A05_24N,81,1,13,3046,2,20200210,2033,  24.34917, -49.00892,  5379,  4315.7,  2.2198,2,  2.2184,2, 34.8775,2, 34.8791,2,   253.8,2,   254.7,2,   44.63,2,   21.40,2,    1.44,2,  2337.5,2,  2197.6,2, -999.00,9, -999.00,9
740H20200119,A05_24N,81,1,14,7131,2,20200210,2033,  24.34917, -49.00892,  5379,  3809.6,  2.3416,2,  2.3426,2, 34.8927,2, 34.8927,2,   254.4,2,   255.3,2,   40.75,2,   20.97,2,    1.41,2,  2337.0,2,  2191.9,2, -999.00,9, -999.00,9
740H20200119,A05_24N,81,1,15,3048,2,20200210,2033,  24.34917, -49.00892,  5379,  3294.5,  2.5509,2,  2.5500,2, 34.9133,2, 34.9127,2,   252.4,2,   252.6,2,   37.21,2,   20.78,2,    1.39,2,  2332.8,2,  2192.1,2, -999.00,9, -999.00,9
740H20200119,A05_24N,81,1,16,3049,2,20200210,2033,  24.34917, -49.00892,  5379,  2786.1,  2.8767,2,  2.8772,2, 34.9427,2, 34.9425,2,   250.8,2,   251.2,2,   31.76,2,   20.27,2,    1.35,2,  2332.6,2,  2183.6,2, -999.00,9, -999.00,9
740H20200119,A05_24N,81,1,17,3050,2,20200210,2033,  24.34917, -49.00892,  5379,  2273.9,  3.3141,2,  3.3187,2, 34.9816,2, 34.9811,2,   250.8,2,   251.2,2,   25.01,2,   19.48,2,    1.29,2,  2326.4,6,  2183.8,6, -999.00,9, -999.00,9
740H20200119,A05_24N,81,1,18,3051,2,20200210,2033,  24.34917, -49.00892,  5379,  1767.5,  4.3227,2,  4.3269,2, 35.0630,2, 35.0617,2,   240.7,2,   241.3,2,   17.91,2,   19.38,2,    1.27,2,  2321.1,2,  2180.0,2, -999.00,9, -999.00,9
740H20200119,A05_24N,81,1,19,3052,2,20200210,2033,  24.34917, -49.00892,  5379,  1513.3,  4.8744,2,  4.8781,2, 35.0840,2, 35.0835,2,   227.9,2,   229.2,2,   16.39,2,   20.22,2,    1.32,2,  2320.4,6,  2183.2,6, -999.00,9, -999.00,9
740H20200119,A05_24N,81,1,20,3053,2,20200210,2033,  24.34917, -49.00892,  5379,  1309.6,  5.4647,2,  5.4626,2, 35.0810,2, 35.0840,2,   210.7,2,   211.7,2,   16.13,2,   21.58,2,    1.41,2,  2320.6,2,  2185.2,2, -999.00,9, -999.00,9
740H20200119,A05_24N,81,1,21,3054,2,20200210,2033,  24.34917, -49.00892,  5379,  1157.9,  6.0014,2,  5.9768,2, 35.0835,2, 35.0838,2,   191.4,2,   194.1,2,   16.94,2,   23.19,2,    1.51,2,  2320.1,2,  2195.7,2, -999.00,9, -999.00,9
740H20200119,A05_24N,81,1,22,3055,2,20200210,2033,  24.34917, -49.00892,  5379,  1056.1,  6.6855,2,  6.6684,2, 35.0879,2, 35.0972,2,   170.1,2,   174.3,2,   17.54,2,   24.79,2,    1.61,2,  2321.3,2,  2197.2,2, -999.00,9, -999.00,9
740H20200119,A05_24N,81,1,23,3056,2,20200210,2033,  24.34917, -49.00892,  5379,   954.4,  7.5994,2,  7.6078,2, 35.1488,2, 35.1482,2,   157.8,2,   160.8,2,   16.51,2,   25.07,2,    1.61,2,  2321.3,2,  2202.0,2, -999.00,9, -999.00,9
740H20200119,A05_24N,81,1,24,3057,2,20200210,2033,  24.34917, -49.00892,  5379,   802.3,  9.5331,2,  9.5781,2, 35.3316,2, 35.3243,2,   149.9,2,   156.0,2,   12.83,2,   23.10,2,    1.45,2,  2327.5,6,  2197.9,6, -999.00,9, -999.00,9
740H20200119,A05_24N,81,1,1,3034,2,20200210,2033,  24.34917, -49.00892,  5379,   751.7, 10.2793,2, 10.3214,2, 35.4210,2, 35.4013,2,   153.3,2,   154.8,2,   11.27,2,   21.76,2,    1.35,2,  2330.6,6,  2189.0,6, -999.00,9, -999.00,9
740H20200119,A05_24N,81,1,2,3035,2,20200210,2033,  24.34917, -49.00892,  5379,   650.8, 11.9188,2, 11.9339,2, 35.6187,2, 35.6135,2,   165.6,2,   169.6,2,    7.29,2,   17.27,2,    1.04,2,  2337.2,6,  2180.7,6, -999.00,9, -999.00,9
740H20200119,A05_24N,81,1,3,3036,2,20200210,2033,  24.34917, -49.00892,  5379,   504.1, 14.0804,2, 14.0902,2, 35.9056,2, 35.8923,2,   176.8,2,   178.8,2,    4.29,2,   12.68,2,    0.73,2,  2350.5,2,  2158.9,2, -999.00,9, -999.00,9
740H20200119,A05_24N,81,1,4,3037,2,20200210,2033,  24.34917, -49.00892,  5379,   377.7, 16.1277,2, 16.1355,2, 36.2125,2, 36.2005,2,   179.6,2,   181.3,2,    2.67,2,    9.26,2,    0.51,2,  2369.7,2,  2156.2,2, -999.00,9, -999.00,9
740H20200119,A05_24N,81,1,5,3038,2,20200210,2033,  24.34917, -49.00892,  5379,   251.4, 18.6103,2, 18.6306,2, 36.6396,2, 36.6143,2,   184.5,2,   185.6,2,    1.30,2,    5.19,2,    0.25,2,  2393.9,2,  2142.1,2, -999.00,9, -999.00,9
740H20200119,A05_24N,81,1,6,6410,2,20200210,2033,  24.34917, -49.00892,  5379,   176.3, 20.8189,2, 20.8799,2, 37.0135,2, 37.0005,2,   191.3,2,   192.4,2,    0.58,2,    1.54,2,    0.06,2,  2417.4,2,  2143.0,2, -999.00,9, -999.00,9
740H20200119,A05_24N,81,1,7,6411,2,20200210,2033,  24.34917, -49.00892,  5379,   151.1, 23.6506,2, 23.7480,2, 37.4871,2, 37.4605,2,   208.2,2,   205.9,2,    0.42,2,    0.23,2,    0.00,2,  2450.2,2,  2117.1,2, -999.00,9, -999.00,9
740H20200119,A05_24N,81,1,8,6412,2,20200210,2033,  24.34917, -49.00892,  5379,    95.3, 23.8064,2, 23.8031,2, 37.5208,2, 37.5206,2,   209.3,2,   208.7,2,    0.43,2,    0.15,2,    0.00,2,  2450.2,2,  2115.8,2, -999.00,9, -999.00,9
740H20200119,A05_24N,81,1,9,6413,2,20200210,2033,  24.34917, -49.00892,  5379,    51.4, 23.8047,2, 23.8018,2, 37.5207,2, 37.5202,2,   209.7,2,   209.1,2,    0.55,2,    0.15,2,    0.00,2,  2455.1,2,  2112.6,2, -999.00,9, -999.00,9
740H20200119,A05_24N,81,1,10,3043,2,20200210,2033,  24.34917, -49.00892,  5379,     5.6, 23.8493,2, 23.8429,2, 37.5194,2, 37.5193,2,   210.2,2,   209.0,2,    0.59,2,    0.16,2,    0.00,2,  2450.1,2,  2114.9,2, -999.00,9, -999.00,9
740H20200119,A05_24N,82,1,11,3044,2,20200211,0409,  24.19676, -48.47289,  5284,  5376.1,  2.1767,2,  2.1764,2, 34.8604,2, 34.8612,2,   252.5,2,   251.4,2,   51.14,2,   22.02,4,    1.50,4,  2340.8,6,  2199.0,6, -999.00,1, -999.00,1
740H20200119,A05_24N,82,1,12,3045,2,20200211,0409,  24.19676, -48.47289,  5284,  5089.7,  2.1418,2,  2.1416,2, 34.8608,2, 34.8615,2,   252.1,2,   251.1,2,   51.04,2,   22.04,2,    1.50,2,  2341.0,2,  2196.0,2, -999.00,1, -999.00,1
740H20200119,A05_24N,82,1,13,3046,2,20200211,0409,  24.19676, -48.47289,  5284,  4576.7,  2.2055,2,  2.2118,2, 34.8732,2, 34.8732,2,   253.5,2,   252.9,2,   46.49,2,   21.51,2,    1.46,2,  2336.7,2,  2199.8,2, -999.00,1, -999.00,1
740H20200119,A05_24N,82,1,14,7131,2,20200211,0409,  24.19676, -48.47289,  5284,  4054.1,  2.3385,2,  2.3386,2, 34.8900,2, 34.8902,2,   254.3,2,   253.4,2,   41.79,2,   20.97,2,    1.42,2,  2336.2,2,  2190.9,6, -999.00,1, -999.00,1
740H20200119,A05_24N,82,1,15,3048,2,20200211,0409,  24.19676, -48.47289,  5284,  3553.2,  2.5044,2,  2.5060,2, 34.9070,2, 34.9068,2,   252.1,2,   251.3,2,   39.27,2,   20.87,2,    1.40,2,  2332.3,2,  2191.7,2, -999.00,1, -999.00,1
740H20200119,A05_24N,82,1,16,3049,2,20200211,0409,  24.19676, -48.47289,  5284,  3044.2,  2.7123,2,  2.7165,2, 34.9281,2, 34.9273,2,   250.3,2,   249.6,2,   35.60,2,   20.63,2,    1.39,2,  2336.0,2,  2182.8,2, -999.00,1, -999.00,1
740H20200119,A05_24N,82,1,17,3050,2,20200211,0409,  24.19676, -48.47289,  5284,  2536.9,  3.0110,2,  3.0094,2, 34.9540,2, 34.9536,2,   249.2,2,   248.3,2,   30.43,2,   20.21,2,    1.35,2,  2327.5,2,  2183.6,2, -999.00,1, -999.00,1
740H20200119,A05_24N,82,1,18,3051,2,20200211,0409,  24.19676, -48.47289,  5284,  2025.3,  3.7227,2,  3.7319,2, 35.0189,2, 35.0188,2,   246.4,2,   245.8,2,   22.14,2,   19.40,2,    1.28,2,  2322.7,6,  2180.4,6, -999.00,1, -999.00,1
740H20200119,A05_24N,82,1,19,3052,2,20200211,0409,  24.19676, -48.47289,  5284,  1642.9,  4.5618,2,  4.5625,2, 35.0742,2, 35.0741,2,   238.4,2,   237.9,2,   16.59,2,   19.29,2,    1.26,2,  2324.6,6,  2175.6,6, -999.00,1, -999.00,1
740H20200119,A05_24N,82,1,20,3053,2,20200211,0409,  24.19676, -48.47289,  5284,  1413.6,  5.0127,2,  5.0452,2, 35.0539,2, 35.0537,2,   227.2,2,   225.6,2,   15.11,2,   20.21,2,    1.32,2,  2316.4,2,  2183.5,2, -999.00,1, -999.00,1
740H20200119,A05_24N,82,1,21,3054,2,20200211,0409,  24.19676, -48.47289,  5284,  1209.8,  5.6187,2,  5.6296,2, 35.0137,2, 35.0148,2,   194.9,2,   194.4,2,   17.65,2,   23.32,2,    1.53,2,  2314.5,2,  2194.4,2, -999.00,1, -999.00,1
740H20200119,A05_24N,82,1,22,3055,2,20200211,0409,  24.19676, -48.47289,  5284,  1109.0,  5.9729,2,  6.0267,2, 34.9981,2, 34.9981,2,   177.8,2,   176.7,2,   19.07,2,   25.12,2,    1.65,2,  2314.0,6,  2203.7,6, -999.00,1, -999.00,1
740H20200119,A05_24N,82,1,23,3056,2,20200211,0409,  24.19676, -48.47289,  5284,  1007.0,  6.6181,2,  6.6125,2, 34.9956,2, 34.9954,2,   156.5,2,   156.5,2,   19.77,2,   26.94,2,    1.77,2,  2314.4,6,  2204.5,2, -999.00,1, -999.00,1
740H20200119,A05_24N,82,1,24,3057,2,20200211,0409,  24.19676, -48.47289,  5284,   906.0,  7.5183,2,  7.5543,2, 35.0779,2, 35.0766,2,   147.5,2,   146.5,2,   18.06,2,   26.80,2,    1.72,2,  2317.5,2,  2210.5,2, -999.00,1, -999.00,1
740H20200119,A05_24N,82,1,1,3034,2,20200211,0409,  24.19676, -48.47289,  5284,   824.8,  8.7096,2,  8.7309,2, 35.2075,2, 35.1924,2,   143.6,2,   142.9,2,   15.44,2,   25.40,2,    1.60,2,  2321.4,6,  2205.1,6, -999.00,1, -999.00,1
740H20200119,A05_24N,82,1,2,3035,2,20200211,0409,  24.19676, -48.47289,  5284,   703.7, 11.1062,2, 11.1073,2, 35.5100,2, 35.4942,2,   154.2,2,   152.6,2,    9.47,2,   20.11,2,    1.22,2,  2333.9,2,  2188.5,2, -999.00,1, -999.00,1
740H20200119,A05_24N,82,1,3,3036,2,20200211,0409,  24.19676, -48.47289,  5284,   602.3, 12.7812,2, 12.7896,2, 35.7247,2, 35.7079,2,   165.6,2,   164.7,2,    6.10,2,   16.04,2,    0.94,2,  2341.2,2,  2179.1,2, -999.00,1, -999.00,1
740H20200119,A05_24N,82,1,4,3037,2,20200211,0409,  24.19676, -48.47289,  5284,   399.8, 16.1716,2, 16.1961,2, 36.2129,2, 36.2097,2,   177.4,2,   177.1,2,    2.67,2,    9.41,2,    0.51,2,  2368.7,2,  2154.7,2, -999.00,1, -999.00,1
740H20200119,A05_24N,82,1,5,3038,2,20200211,0409,  24.19676, -48.47289,  5284,   203.1, 19.7648,2, 19.8461,2, 36.7833,2, 36.7569,2,   192.3,2,   192.2,2,    0.70,2,    2.44,2,    0.07,2,  2400.9,2,  2136.8,2, -999.00,1, -999.00,1
740H20200119,A05_24N,82,1,6,6410,2,20200211,0409,  24.19676, -48.47289,  5284,   152.6, 21.4440,2, 21.5316,2, 37.0732,2, 37.0342,2,   198.9,2,   196.3,2,    0.43,2,    0.99,2,    0.01,2,  2417.5,2,  2129.8,2, -999.00,1, -999.00,1
740H20200119,A05_24N,82,1,7,6411,2,20200211,0409,  24.19676, -48.47289,  5284,   112.4, 23.8827,2, 23.8817,2, 37.5433,2, 37.5422,2,   208.3,2,   208.2,2,    0.37,2,    0.29,2,   -0.01,2,  2452.2,6,  2116.6,6, -999.00,1, -999.00,1
740H20200119,A05_24N,82,1,8,6412,2,20200211,0409,  24.19676, -48.47289,  5284,    77.1, 23.8994,2, 23.8967,2, 37.5460,2, 37.5456,2,   208.9,2,   208.3,2,    0.41,2,    0.27,2,    0.00,2,  2452.4,2,  2111.7,2, -999.00,9, -999.00,9
740H20200119,A05_24N,82,1,9,6413,2,20200211,0409,  24.19676, -48.47289,  5284,    53.5, 23.9045,2, 23.9108,2, 37.5452,2, 37.5447,2,   209.4,2,   210.9,2,    0.39,2,    0.27,2,    0.00,2,  2454.1,2,  2116.7,2, -999.00,1, -999.00,1
740H20200119,A05_24N,82,1,10,3043,2,20200211,0409,  24.19676, -48.47289,  5284,     6.7, 23.9779,2, 23.9776,2, 37.5542,2, 37.5533,2,   209.1,2,   208.6,2,    0.41,2,    0.25,2,    0.00,2,  2453.2,6,  2114.9,6, -999.00,1, -999.00,1