BOTTLE,20221012CCHSIOENA
EXPOCODE,SECT_ID,STNNBR,CASTNO,SAMPNO,BTLNBR,BTLNBR_FLAG_W,DATE,TIME,LATITUDE,LONGITUDE,DEPTH,CTDPRS,CTDTMP,CTDTMP_FLAG_W,SBE35,SBE35_FLAG_W,CTDSAL,CTDSAL_FLAG_W,SALNTY,SALNTY_FLAG_W,CTDOXY,CTDOXY_FLAG_W,OXYGEN,OXYGEN_FLAG_W,SILCAT,SILCAT_FLAG_W,NO2+NO3,NO2+NO3_FLAG_W,PHSPHT,PHSPHT_FLAG_W,ALKALI,ALKALI_FLAG_W,TCARBN,TCARBN_FLAG_W,DELC14,DELC14_FLAG_W,DELC13,DELC13_FLAG_W
 , , , , , , , , , , , ,DBAR,ITS-90, ,ITS-90, ,PSS-78, ,PSS-78, ,UMOL/KG, ,UMOL/KG, ,UMOL/KG, ,UMOL/KG, ,UMOL/KG, ,UMOL/KG, ,UMOL/KG, ,/MILLE, ,/MILLE, 
740H20200119,A05_24N,50,1,11,3044,2,20200130,1659,  24.89968, -69.53241,  5595,  5693.6,  2.1145,2,  2.1145,2, 34.8501,2, 34.8497,2,   250.0,2,   252.0,2,   53.83,2,   22.52,2,    1.52,2,  2343.4,2,  2205.2,2, -999.00,9, -999.00,9
740H20200119,A05_24N,50,1,12,3045,2,20200130,1659,  24.89968, -69.53241,  5595,  5119.7,  2.2970,2,  2.2966,2, 34.8809,2, 34.8808,2,   261.7,2,   263.7,2,   36.51,2,   19.64,2,    1.32,2,  2329.4,2,  2186.1,2, -999.00,9, -999.00,9
740H20200119,A05_24N,50,1,13,3046,2,20200130,1659,  24.89968, -69.53241,  5595,  4579.2,  2.3077,2,  2.3083,2, 34.8888,2, 34.8887,2,   265.1,2,   267.3,2,   31.49,2,   18.81,2,    1.26,2,  2328.0,2,  2182.8,2, -999.00,9, -999.00,9
740H20200119,A05_24N,50,1,14,7131,2,20200130,1659,  24.89968, -69.53241,  5595,  4061.8,  2.3426,2,  2.3433,2, 34.8960,2, 34.8962,2,   267.9,2,   269.2,2,   27.72,2,   18.29,2,    1.23,2,  2317.3,2,  2178.0,2, -999.00,9, -999.00,9
740H20200119,A05_24N,50,1,15,3048,2,20200130,1659,  24.89968, -69.53241,  5595,  3550.2,  2.4705,2,  2.4678,2, 34.9070,2, 34.9070,2,   268.5,2,   269.6,2,   24.43,2,   17.94,2,    1.20,2,  2316.3,6,  2169.5,6, -999.00,9, -999.00,9
740H20200119,A05_24N,50,1,16,3049,2,20200130,1659,  24.89968, -69.53241,  5595,  3035.2,  2.7605,2,  2.7581,2, 34.9288,2, 34.9287,2,   262.7,2,   264.1,2,   24.85,2,   18.68,4,    1.24,4,  2317.8,2,  2175.3,2, -999.00,9, -999.00,9
740H20200119,A05_24N,50,1,17,3050,2,20200130,1659,  24.89968, -69.53241,  5595,  2527.2,  3.0846,2,  3.0870,2, 34.9427,2, 34.9423,2,   265.3,2,   266.7,2,   19.06,2,   17.96,2,    1.19,2,  2314.1,2,  2168.3,2, -999.00,9, -999.00,9
740H20200119,A05_24N,50,1,18,3051,2,20200130,1659,  24.89968, -69.53241,  5595,  2275.7,  3.3325,2,  3.3369,2, 34.9590,2, 34.9586,2,   261.8,2,   263.3,2,   18.32,2,   18.22,2,    1.20,2,  2312.7,2,  2169.1,2, -999.00,9, -999.00,9
740H20200119,A05_24N,50,1,19,3052,2,20200130,1659,  24.89968, -69.53241,  5595,  2025.2,  3.5664,2,  3.5696,2, 34.9670,2, 34.9667,2,   262.2,2,   263.5,2,   16.03,2,   18.11,2,    1.18,2,  2312.1,2,  2166.5,2, -999.00,9, -999.00,9
740H20200119,A05_24N,50,1,20,3053,2,20200130,1659,  24.89968, -69.53241,  5595,  1770.0,  3.8126,2,  3.8158,2, 34.9765,2, 34.9759,2,   260.3,2,   261.4,2,   14.35,2,   18.01,2,    1.18,2,  2308.6,2,  2167.4,2, -999.00,9, -999.00,9
740H20200119,A05_24N,50,1,21,3054,2,20200130,1659,  24.89968, -69.53241,  5595,  1515.6,  4.1871,2,  4.1948,2, 34.9965,2, 34.9961,2,   255.7,2,   257.4,2,   13.10,2,   18.14,2,    1.18,2,  2310.9,6,  2168.7,6, -999.00,9, -999.00,9
740H20200119,A05_24N,50,1,22,3055,2,20200130,1659,  24.89968, -69.53241,  5595,  1261.5,  4.8229,2,  4.8255,2, 35.0321,2, 35.0330,2,   242.8,2,   245.1,2,   12.62,2,   18.65,2,    1.21,2,  2309.3,2,  2171.0,2, -999.00,9, -999.00,9
740H20200119,A05_24N,50,1,23,3056,2,20200130,1659,  24.89968, -69.53241,  5595,  1007.8,  6.2999,2,  6.3298,2, 35.0585,2, 35.0638,2,   191.2,2,   196.2,2,   15.39,2,   22.46,2,    1.46,2,  2314.5,2,  2189.5,2, -999.00,9, -999.00,9
740H20200119,A05_24N,50,1,24,3057,2,20200130,1659,  24.89968, -69.53241,  5595,   881.1,  7.6011,2,  7.6498,2, 35.0619,2, 35.0528,2,   152.8,2,   157.3,2,   17.45,2,   26.14,2,    1.68,2,  2315.4,6,  2199.8,6, -999.00,9, -999.00,9
740H20200119,A05_24N,50,1,1,3034,2,20200130,1659,  24.89968, -69.53241,  5595,   754.3, 10.2652,2, 10.3698,2, 35.3366,2, 35.3100,2,   142.8,2,   143.9,2,   12.64,2,   23.52,2,    1.46,2,  2323.5,2,  2195.7,2, -999.00,9, -999.00,9
740H20200119,A05_24N,50,1,2,3035,2,20200130,1659,  24.89968, -69.53241,  5595,   628.0, 13.0323,2, 13.1118,2, 35.7033,2, 35.6766,2,   144.5,2,   146.2,2,    7.53,2,   18.64,2,    1.10,2,  2340.7,2,  2180.4,2, -999.00,9, -999.00,9
740H20200119,A05_24N,50,1,3,3036,2,20200130,1659,  24.89968, -69.53241,  5595,   501.4, 15.8011,2, 15.8184,2, 36.1286,2, 36.0887,2,   176.5,2,   175.7,2,    3.78,2,   11.03,2,    0.62,2,  2357.0,2,  2154.6,2, -999.00,9, -999.00,9
740H20200119,A05_24N,50,1,4,3037,2,20200130,1659,  24.89968, -69.53241,  5595,   375.4, 17.9955,2, 18.0934,2, 36.4827,2, 36.4761,2,   189.9,2,   190.1,2,    1.86,2,    5.92,2,    0.28,2,  2380.2,2,  2132.5,2, -999.00,9, -999.00,9
740H20200119,A05_24N,50,1,5,3038,2,20200130,1659,  24.89968, -69.53241,  5595,   249.1, 19.1258,2, 19.1335,2, 36.6430,2, 36.6365,2,   202.7,2,   203.7,2,    1.09,2,    2.81,2,    0.11,2,  -999.0,9,  2117.1,2, -999.00,9, -999.00,9
740H20200119,A05_24N,50,1,6,6410,2,20200130,1659,  24.89968, -69.53241,  5595,   173.6, 20.0047,2, 20.0592,2, 36.7266,2, 36.7047,2,   187.9,2,   193.2,2,    0.89,2,    1.92,2,    0.04,2,  2399.1,2,  2107.2,2, -999.00,9, -999.00,9
740H20200119,A05_24N,50,1,7,6411,2,20200130,1659,  24.89968, -69.53241,  5595,   128.5, 21.3910,2, 21.4444,2, 36.8111,2, 36.7957,2,   202.5,2,   202.7,2,    0.64,2,    0.36,2,    0.00,2,  2401.3,2,  2106.6,2, -999.00,9, -999.00,9
740H20200119,A05_24N,50,1,8,6412,2,20200130,1659,  24.89968, -69.53241,  5595,    97.9, 22.5975,2, 22.8043,2, 36.8927,2, 36.8816,2,   206.8,2,   207.0,2,    0.65,2,    0.05,2,    0.00,2,  2409.3,2,  2095.8,2, -999.00,9, -999.00,9
740H20200119,A05_24N,50,1,9,6413,2,20200130,1659,  24.89968, -69.53241,  5595,    47.6, 23.8690,2, 23.9236,2, 36.8725,2, 36.8698,2,   211.5,2,   211.3,2,    0.84,2,    0.04,2,    0.00,2,  2405.4,2,  2068.0,2, -999.00,9, -999.00,9
740H20200119,A05_24N,50,1,10,3043,2,20200130,1659,  24.89968, -69.53241,  5595,     5.5, 24.4510,2, 24.4592,2, 36.7949,2, 36.7960,2,   209.4,2,   208.8,2,    0.98,2,    0.04,2,    0.00,2,  2403.0,2,  2058.8,2, -999.00,9, -999.00,9
740H20200119,A05_24N,51,1,11,3044,2,20200131,0027,  24.50017, -69.15015,  5639,  5739.8,  2.1010,2,  2.1007,2, 34.8480,2, 34.8481,2,   249.3,2,   250.6,2,   54.92,2,   22.52,2,    1.53,2,  2344.9,2,  2201.7,2, -999.00,9, -999.00,9
740H20200119,A05_24N,51,1,12,3045,2,20200131,0027,  24.50017, -69.15015,  5639,  5351.0,  2.2384,2,  2.2381,2, 34.8707,2, 34.8707,2,   256.8,2,   257.5,2,   42.99,2,   20.61,2,    1.41,2,  2336.0,2,  2194.5,2, -999.00,9, -999.00,9
740H20200119,A05_24N,51,1,13,3046,2,20200131,0027,  24.50017, -69.15015,  5639,  4835.5,  2.2864,2,  2.2863,2, 34.8837,2, 34.8840,2,   263.0,2,   263.8,2,   34.82,2,   19.23,2,    1.31,2,  2327.9,2,  2184.4,2, -999.00,9, -999.00,9
740H20200119,A05_24N,51,1,14,7131,2,20200131,0027,  24.50017, -69.15015,  5639,  4322.0,  2.2997,2,  2.3008,2, 34.8907,2, 34.8911,2,   265.4,2,   266.8,2,   30.93,2,   18.63,2,    1.27,2,  2324.8,6,  2176.8,2, -999.00,9, -999.00,9
740H20200119,A05_24N,51,1,15,3048,2,20200131,0027,  24.50017, -69.15015,  5639,  3810.9,  2.3512,2,  2.3514,2, 34.8983,2, 34.8982,2,   267.2,2,   267.9,2,   27.69,2,   18.24,2,    1.23,2,  2319.6,2,  2176.4,2, -999.00,9, -999.00,9
740H20200119,A05_24N,51,1,16,3049,2,20200131,0027,  24.50017, -69.15015,  5639,  3295.0,  2.5369,2,  2.5377,2, 34.9135,2, 34.9128,2,   264.9,2,   265.5,2,   26.35,2,   18.43,2,    1.25,2,  2322.5,6,  2174.5,6, -999.00,9, -999.00,9
740H20200119,A05_24N,51,1,17,3050,2,20200131,0027,  24.50017, -69.15015,  5639,  2785.9,  2.8772,2,  2.8824,2, 34.9377,2, 34.9376,2,   261.1,2,   261.6,2,   24.15,2,   18.64,2,    1.25,2,  2324.1,2,  2174.9,2, -999.00,9, -999.00,9
740H20200119,A05_24N,51,1,18,3051,2,20200131,0027,  24.50017, -69.15015,  5639,  2534.5,  3.0613,2,  3.0643,2, 34.9476,2, 34.9469,2,   261.3,2,   261.9,2,   21.29,2,   18.35,2,    1.22,2,  2316.0,2,  2169.8,2, -999.00,9, -999.00,9
740H20200119,A05_24N,51,1,19,3052,2,20200131,0027,  24.50017, -69.15015,  5639,  2278.2,  3.3045,2,  3.3073,2, 34.9624,2, 34.9621,2,   260.4,2,   260.9,2,   19.42,2,   18.32,2,    1.22,2,  2315.8,2,  2172.8,2, -999.00,9, -999.00,9
740H20200119,A05_24N,51,1,20,3053,2,20200131,0027,  24.50017, -69.15015,  5639,  2023.3,  3.5401,2,  3.5471,2, 34.9681,2, 34.9682,2,   261.6,2,   262.0,2,   16.50,2,   18.04,2,    1.19,2,  2312.9,2,  -999.0,9, -999.00,9, -999.00,9
740H20200119,A05_24N,51,1,21,3054,2,20200131,0027,  24.50017, -69.15015,  5639,  1772.5,  3.8724,2,  3.8760,2, 34.9855,2, 34.9845,2,   258.4,2,   259.2,2,   14.44,2,   18.05,2,    1.19,2,  2309.8,6,  2167.0,6, -999.00,9, -999.00,9
740H20200119,A05_24N,51,1,22,3055,2,20200131,0027,  24.50017, -69.15015,  5639,  1517.6,  4.2746,2,  4.2771,2, 35.0051,2, 35.0033,2,   253.8,2,   254.7,2,   13.00,2,   18.08,2,    1.18,2,  2310.3,2,  2170.8,2, -999.00,9, -999.00,9
740H20200119,A05_24N,51,1,23,3056,2,20200131,0027,  24.50017, -69.15015,  5639,  1262.8,  4.9527,2,  4.9612,2, 35.0412,2, 35.0404,2,   238.7,2,   240.8,2,   12.63,2,   18.75,2,    1.22,2,  2312.3,2,  2176.1,2, -999.00,9, -999.00,9
740H20200119,A05_24N,51,1,24,3057,2,20200131,0027,  24.50017, -69.15015,  5639,  1009.6,  6.6253,2,  6.6389,2, 35.0823,2, 35.0813,2,   187.2,2,   191.1,2,   14.86,2,   22.44,2,    1.46,2,  2317.0,2,  2191.1,2, -999.00,9, -999.00,9
740H20200119,A05_24N,51,1,1,3034,2,20200131,0027,  24.50017, -69.15015,  5639,   882.5,  8.2526,2,  8.1905,2, 35.1301,2, 35.1273,2,   150.2,2,   153.0,2,   15.60,2,   25.14,2,    1.61,2,  2317.7,6,  2200.1,6, -999.00,9, -999.00,9
740H20200119,A05_24N,51,1,2,3035,2,20200131,0027,  24.50017, -69.15015,  5639,   756.2, 10.4706,2, 10.4346,2, 35.3464,2, 35.3281,2,   138.2,2,   141.8,2,   12.14,2,   23.47,2,    1.46,2,  2327.3,2,  2194.5,2, -999.00,9, -999.00,9
740H20200119,A05_24N,51,1,3,3036,2,20200131,0027,  24.50017, -69.15015,  5639,   629.2, 12.7394,2, 12.8892,2, 35.6662,2, 35.6663,2,   152.4,2,   154.6,2,    7.43,2,   17.67,2,    1.05,2,  2340.0,2,  2175.6,2, -999.00,9, -999.00,9
740H20200119,A05_24N,51,1,4,3037,2,20200131,0027,  24.50017, -69.15015,  5639,   507.8, 15.2879,2, 15.3074,2, 36.0697,2, 36.0538,2,   162.0,2,   162.9,2,    4.11,2,   12.72,2,    0.70,2,  2361.5,2,  2162.6,2, -999.00,9, -999.00,9
740H20200119,A05_24N,51,1,5,3038,2,20200131,0027,  24.50017, -69.15015,  5639,   381.8, 17.5138,2, 17.5414,2, 36.4214,2, 36.4056,2,   181.1,2,   181.9,2,    2.14,2,    7.31,2,    0.35,2,  2379.3,2,  2139.3,2, -999.00,9, -999.00,9
740H20200119,A05_24N,51,1,6,6410,2,20200131,0027,  24.50017, -69.15015,  5639,   255.6, 19.0054,2, 19.0110,2, 36.6280,2, 36.6233,2,   190.7,2,   195.2,2,    1.10,2,    3.52,2,    0.13,2,  2390.6,2,  2122.9,2, -999.00,9, -999.00,9
740H20200119,A05_24N,51,1,7,6411,2,20200131,0027,  24.50017, -69.15015,  5639,   180.0, 20.0271,2, 20.0295,2, 36.7371,2, 36.7318,2,   185.7,2,   187.1,2,    0.84,2,    2.14,2,    0.04,2,  2399.5,2,  2125.3,2, -999.00,9, -999.00,9
740H20200119,A05_24N,51,1,8,6412,2,20200131,0027,  24.50017, -69.15015,  5639,   103.9, 22.4685,2, 22.5237,2, 36.9175,2, 36.8985,2,   203.5,2,   203.6,2,    0.60,2,    0.27,2,   -0.01,2,  2409.9,2,  2103.5,2, -999.00,9, -999.00,9
740H20200119,A05_24N,51,1,9,6413,2,20200131,0027,  24.50017, -69.15015,  5639,    54.1, 24.1891,2, 24.2064,2, 36.8024,2, 36.8022,2,   210.1,2,   209.6,2,    0.84,2,    0.20,2,   -0.02,2,  2404.1,2,  2066.3,2, -999.00,9, -999.00,9
740H20200119,A05_24N,51,1,10,3043,2,20200131,0027,  24.50017, -69.15015,  5639,     8.6, 25.1707,2, 25.1672,2, 36.7539,2, 36.7540,2,   206.9,2,   205.7,2,    0.98,2,    0.20,2,   -0.02,2,  2393.1,2,  -999.0,9, -999.00,9, -999.00,9
740H20200119,A05_24N,52,1,11,3044,2,20200131,0846,  24.50004, -68.41479,  5715,  5817.7,  2.1067,2,  2.1065,2, 34.8473,2, 34.8467,2,   249.5,2,   248.7,2,   55.75,2,   22.48,2,    1.54,2,  2347.6,2,  2205.5,2, -999.00,9, -999.00,9
740H20200119,A05_24N,52,1,12,3045,2,20200131,0846,  24.50004, -68.41479,  5715,  5639.8,  2.0958,2,  2.0956,2, 34.8491,2, 34.8489,2,   249.9,2,   249.9,2,   54.97,2,   22.34,2,    1.53,2,  2341.6,2,  2207.2,2, -999.00,9, -999.00,9
740H20200119,A05_24N,52,1,13,3046,2,20200131,0846,  24.50004, -68.41479,  5715,  5092.5,  2.2255,2,  2.2259,2, 34.8734,2, 34.8735,2,   258.1,2,   258.3,2,   41.87,2,   20.31,2,    1.39,2,  2342.4,2,  2204.7,2, -999.00,9, -999.00,9
740H20200119,A05_24N,52,1,14,7131,2,20200131,0846,  24.50004, -68.41479,  5715,  4572.5,  2.2795,2,  2.2793,2, 34.8861,2, 34.8863,2,   264.5,2,   264.6,2,   33.43,2,   18.87,2,    1.29,2,  2332.7,2,  2193.9,2, -999.00,9, -999.00,9
740H20200119,A05_24N,52,1,15,3048,2,20200131,0846,  24.50004, -68.41479,  5715,  4059.4,  2.3095,2,  2.3108,2, 34.8938,2, 34.8943,2,   265.7,2,   266.3,2,   30.32,2,   18.47,2,    1.26,2,  2322.7,2,  2174.6,2, -999.00,9, -999.00,9
740H20200119,A05_24N,52,1,16,3049,2,20200131,0846,  24.50004, -68.41479,  5715,  3542.2,  2.4346,2,  2.4344,2, 34.9061,2, 34.9063,2,   266.2,2,   266.1,2,   27.52,2,   18.29,2,    1.24,2,  2319.2,2,  2177.3,2, -999.00,9, -999.00,9
740H20200119,A05_24N,52,1,17,3050,2,20200131,0846,  24.50004, -68.41479,  5715,  3037.9,  2.6889,2,  2.6895,2, 34.9233,2, 34.9236,2,   265.9,2,   265.2,2,   23.95,2,   18.07,2,    1.22,2,  2316.6,6,  2171.4,6, -999.00,9, -999.00,9
740H20200119,A05_24N,52,1,18,3051,2,20200131,0846,  24.50004, -68.41479,  5715,  2524.6,  3.0771,2,  3.0797,2, 34.9522,2, 34.9516,2,   259.1,2,   259.4,2,   22.71,2,   18.50,2,    1.25,2,  2317.3,2,  2169.4,2, -999.00,9, -999.00,9
740H20200119,A05_24N,52,1,19,3052,2,20200131,0846,  24.50004, -68.41479,  5715,  2278.5,  3.2921,2,  3.3019,2, 34.9641,2, 34.9636,2,   259.2,2,   259.2,2,   19.95,2,   18.26,2,    1.22,2,  2313.1,2,  2171.0,2, -999.00,9, -999.00,9
740H20200119,A05_24N,52,1,20,3053,2,20200131,0846,  24.50004, -68.41479,  5715,  2022.3,  3.6557,2,  3.6622,2, 34.9945,2, 34.9940,2,   255.4,2,   254.8,2,   18.49,2,   18.39,2,    1.23,2,  2317.6,2,  2167.2,2, -999.00,9, -999.00,9
740H20200119,A05_24N,52,1,21,3054,2,20200131,0846,  24.50004, -68.41479,  5715,  1767.1,  4.0501,2,  4.0536,2, 35.0162,2, 35.0153,2,   252.7,2,   253.5,2,   15.36,2,   18.22,2,    1.20,2,  2313.7,2,  2166.5,2, -999.00,9, -999.00,9
740H20200119,A05_24N,52,1,22,3055,2,20200131,0846,  24.50004, -68.41479,  5715,  1512.0,  4.5029,2,  4.5113,2, 35.0342,2, 35.0365,2,   248.0,2,   248.4,2,   13.36,2,   18.27,2,    1.20,2,  2314.0,2,  2170.1,2, -999.00,9, -999.00,9
740H20200119,A05_24N,52,1,23,3056,2,20200131,0846,  24.50004, -68.41479,  5715,  1257.7,  5.2210,2,  5.2184,2, 35.0610,2, 35.0607,2,   230.4,2,   231.4,2,   13.10,2,   19.16,2,    1.26,2,  2312.8,2,  2179.6,2, -999.00,9, -999.00,9
740H20200119,A05_24N,52,1,24,3057,2,20200131,0846,  24.50004, -68.41479,  5715,  1003.7,  6.8169,2,  6.8235,2, 35.0710,2, 35.0709,2,   174.1,2,   175.2,2,   16.33,2,   23.76,2,    1.55,2,  2314.9,6,  -999.0,9, -999.00,9, -999.00,9
740H20200119,A05_24N,52,1,1,3034,2,20200131,0846,  24.50004, -68.41479,  5715,   882.2,  8.0183,2,  8.0054,2, 35.1118,2, 35.1095,2,   150.2,2,   149.6,2,   16.11,2,   25.26,2,    1.63,2,  2316.2,6,  2197.4,6, -999.00,9, -999.00,9
740H20200119,A05_24N,52,1,2,3035,2,20200131,0846,  24.50004, -68.41479,  5715,   755.9, 10.3214,2, 10.3452,2, 35.3512,2, 35.3361,2,   143.5,2,   142.9,2,   11.99,2,   22.64,2,    1.42,2,  2322.2,2,  2189.7,2, -999.00,9, -999.00,9
740H20200119,A05_24N,52,1,3,3036,2,20200131,0846,  24.50004, -68.41479,  5715,   628.9, 13.1153,2, 13.1650,2, 35.7290,2, 35.7014,2,   158.0,2,   157.5,2,    6.89,2,   16.60,2,    0.99,2,  2340.3,2,  2171.3,2, -999.00,9, -999.00,9
740H20200119,A05_24N,52,1,4,3037,2,20200131,0846,  24.50004, -68.41479,  5715,   503.0, 15.5280,2, 15.5443,2, 36.1055,2, 36.0934,2,   169.7,2,   169.7,2,    3.67,2,   11.27,2,    0.62,2,  2360.5,2,  2157.4,2, -999.00,9, -999.00,9
740H20200119,A05_24N,52,1,5,3038,2,20200131,0846,  24.50004, -68.41479,  5715,   376.4, 17.7968,2, 17.7970,2, 36.4648,2, 36.4531,2,   183.1,2,   182.9,2,    1.83,2,    6.51,2,    0.31,2,  2380.9,2,  2137.4,2, -999.00,9, -999.00,9
740H20200119,A05_24N,52,1,6,6410,2,20200131,0846,  24.50004, -68.41479,  5715,   250.6, 19.1048,2, 19.1110,2, 36.6308,2, 36.6258,2,   194.5,2,   195.1,2,    1.02,2,    3.31,2,    0.12,2,  2391.8,2,  2123.7,2, -999.00,9, -999.00,9
740H20200119,A05_24N,52,1,7,6411,2,20200131,0846,  24.50004, -68.41479,  5715,   175.3, 20.5997,2, 20.6607,2, 36.7869,2, 36.7616,2,   190.1,2,   191.2,2,    0.66,2,    1.10,2,    0.01,2,  2401.3,2,  2116.1,2, -999.00,9, -999.00,9
740H20200119,A05_24N,52,1,8,6412,2,20200131,0846,  24.50004, -68.41479,  5715,   119.6, 22.7304,2, 22.7414,2, 36.9128,2, 36.9013,2,   203.8,2,   198.2,2,    0.60,2,    0.46,2,   -0.01,2,  2408.6,2,  2103.6,2, -999.00,9, -999.00,9
740H20200119,A05_24N,52,1,9,6413,2,20200131,0846,  24.50004, -68.41479,  5715,    49.7, 24.8834,2, 24.8893,2, 36.7718,2, 36.7709,2,   207.8,2,   207.3,2,    0.93,2,    0.18,2,   -0.01,2,  2402.1,2,  2054.5,2, -999.00,9, -999.00,9
740H20200119,A05_24N,52,1,10,3043,2,20200131,0846,  24.50004, -68.41479,  5715,     4.4, 25.2088,2, 25.2056,2, 36.7486,2, 36.7489,2,   205.6,2,   205.8,2,    0.97,2,    0.18,2,   -0.01,2,  2400.3,2,  2057.3,2, -999.00,9, -999.00,9