BOTTLE,20221012CCHSIOENA
EXPOCODE,SECT_ID,STNNBR,CASTNO,SAMPNO,BTLNBR,BTLNBR_FLAG_W,DATE,TIME,LATITUDE,LONGITUDE,DEPTH,CTDPRS,CTDTMP,CTDTMP_FLAG_W,SBE35,SBE35_FLAG_W,CTDSAL,CTDSAL_FLAG_W,SALNTY,SALNTY_FLAG_W,CTDOXY,CTDOXY_FLAG_W,OXYGEN,OXYGEN_FLAG_W,SILCAT,SILCAT_FLAG_W,NO2+NO3,NO2+NO3_FLAG_W,PHSPHT,PHSPHT_FLAG_W,ALKALI,ALKALI_FLAG_W,TCARBN,TCARBN_FLAG_W,DELC14,DELC14_FLAG_W,DELC13,DELC13_FLAG_W
 , , , , , , , , , , , ,DBAR,ITS-90, ,ITS-90, ,PSS-78, ,PSS-78, ,UMOL/KG, ,UMOL/KG, ,UMOL/KG, ,UMOL/KG, ,UMOL/KG, ,UMOL/KG, ,UMOL/KG, ,/MILLE, ,/MILLE, 
740H20200119,A05_24N,101,1,11,3044,2,20200216,2240,  24.10081, -37.47391,  5711,  5814.5,  2.4503,2,  2.4500,2, 34.8777,2, 34.8779,2,   247.6,2,   249.1,2,   49.63,2,   22.26,2,    1.50,2,  2344.6,6,  2199.3,6, -999.00,9, -999.00,9
740H20200119,A05_24N,101,1,12,3045,2,20200216,2240,  24.10081, -37.47391,  5711,  5093.5,  2.3743,2,  2.3746,2, 34.8801,2, 34.8806,2,   247.3,2,   247.8,2,   49.22,2,   22.18,2,    1.50,2,  2342.7,2,  2202.9,2, -999.00,9, -999.00,9
740H20200119,A05_24N,101,1,13,3046,2,20200216,2240,  24.10081, -37.47391,  5711,  4580.4,  2.3667,2,  2.3665,2, 34.8859,2, 34.8851,2,   246.2,2,   247.7,2,   48.04,2,   22.12,2,    1.49,2,  2346.0,6,  2198.9,6, -999.00,9, -999.00,9
740H20200119,A05_24N,101,1,14,7131,2,20200216,2240,  24.10081, -37.47391,  5711,  4063.7,  2.4173,2,  2.4186,2, 34.8968,2, 34.8970,2,   245.8,2,   246.7,2,   45.50,2,   21.90,2,    1.48,2,  2344.3,2,  2199.9,2, -999.00,9, -999.00,9
740H20200119,A05_24N,101,1,15,3048,2,20200216,2240,  24.10081, -37.47391,  5711,  3548.4,  2.5244,2,  2.5252,2, 34.9123,2, 34.9115,2,   244.8,2,   245.8,2,   42.28,2,   21.60,2,    1.46,2,  2342.7,2,  2196.9,2, -999.00,9, -999.00,9
740H20200119,A05_24N,101,1,16,3049,2,20200216,2240,  24.10081, -37.47391,  5711,  3039.6,  2.7489,2,  2.7497,2, 34.9360,2, 34.9360,2,   243.8,2,   244.8,2,   37.37,2,   21.19,2,    1.43,2,  2338.7,2,  2192.7,2, -999.00,9, -999.00,9
740H20200119,A05_24N,101,1,17,3050,2,20200216,2240,  24.10081, -37.47391,  5711,  2532.2,  3.1131,2,  3.1135,2, 34.9659,2, 34.9656,2,   244.3,2,   245.1,2,   30.85,2,   20.61,2,    1.39,2,  2268.7,3,  2186.8,2, -999.00,9, -999.00,9
740H20200119,A05_24N,101,1,18,3051,2,20200216,2240,  24.10081, -37.47391,  5711,  2021.2,  3.7816,2,  3.7851,2, 35.0203,2, 35.0200,2,   240.1,2,   241.2,2,   23.62,2,   20.19,2,    1.34,2,  2325.0,6,  2179.7,6, -999.00,9, -999.00,9
740H20200119,A05_24N,101,1,19,3052,2,20200216,2240,  24.10081, -37.47391,  5711,  1638.7,  4.5147,2,  4.5029,2, 35.0607,2, 35.0614,2,   229.3,2,   230.5,2,   19.25,2,   20.48,2,    1.35,2,  2318.2,2,  2177.9,2, -999.00,9, -999.00,9
740H20200119,A05_24N,101,1,20,3053,2,20200216,2240,  24.10081, -37.47391,  5711,  1415.2,  5.0316,2,  5.0293,2, 35.0730,2, 35.0731,2,   216.6,2,   218.9,2,   17.91,2,   21.27,2,    1.40,2,  2318.4,6,  2181.9,6, -999.00,9, -999.00,9
740H20200119,A05_24N,101,1,21,3054,2,20200216,2240,  24.10081, -37.47391,  5711,  1211.8,  5.7055,2,  5.7065,2, 35.0835,2, 35.0826,2,   197.8,2,   200.0,2,   17.78,2,   22.72,2,    1.49,2,  2318.5,2,  2189.7,2, -999.00,9, -999.00,9
740H20200119,A05_24N,101,1,22,3055,2,20200216,2240,  24.10081, -37.47391,  5711,  1110.1,  6.1633,2,  6.1600,2, 35.1072,2, 35.1051,2,   186.7,2,   189.5,2,   17.79,2,   23.51,2,    1.53,2,  2318.2,2,  2193.4,2, -999.00,9, -999.00,9
740H20200119,A05_24N,101,1,23,3056,2,20200216,2240,  24.10081, -37.47391,  5711,  1008.8,  7.0684,2,  7.0889,2, 35.1749,2, 35.1722,2,   171.2,2,   174.6,2,   17.12,2,   24.03,2,    1.55,2,  2320.8,6,  2196.4,6, -999.00,9, -999.00,9
740H20200119,A05_24N,101,1,24,3057,2,20200216,2240,  24.10081, -37.47391,  5711,   907.2,  7.8792,2,  7.9193,2, 35.2268,2, 35.2243,2,   160.9,2,   163.6,2,   15.93,2,   24.18,2,    1.54,2,  2324.4,2,  2199.5,2, -999.00,9, -999.00,9
740H20200119,A05_24N,101,1,1,3034,2,20200216,2240,  24.10081, -37.47391,  5711,   805.9,  9.2413,2,  9.2441,2, 35.3501,2, 35.3449,2,   155.3,2,   159.4,2,   13.20,2,   22.76,2,    1.42,2,  2325.6,6,  2194.7,6, -999.00,9, -999.00,9
740H20200119,A05_24N,101,1,2,3035,2,20200216,2240,  24.10081, -37.47391,  5711,   705.1, 10.7579,2, 10.8039,2, 35.4932,2, 35.4928,2,   161.2,2,   165.1,2,    9.53,2,   19.60,2,    1.19,2,  2331.7,2,  2184.4,2, -999.00,9, -999.00,9
740H20200119,A05_24N,101,1,3,3036,2,20200216,2240,  24.10081, -37.47391,  5711,   603.8, 12.0376,2, 12.1018,2, 35.6383,2, 35.6442,2,   171.8,2,   174.7,2,    6.63,2,   16.23,2,    0.96,2,  2333.4,2,  2174.1,2, -999.00,9, -999.00,9
740H20200119,A05_24N,101,1,4,3037,2,20200216,2240,  24.10081, -37.47391,  5711,   402.3, 15.2034,2, 15.3407,2, 36.0790,2, 36.0693,2,   180.2,2,   182.4,2,    3.24,2,   10.32,2,    0.57,2,  2360.8,2,  2156.5,2, -999.00,9, -999.00,9
740H20200119,A05_24N,101,1,5,3038,2,20200216,2240,  24.10081, -37.47391,  5711,   351.7, 16.0083,2, 16.0756,2, 36.1969,2, 36.1902,2,   183.5,2,   185.8,2,    2.62,2,    8.79,2,    0.48,2,  2365.6,2,  2149.0,2, -999.00,9, -999.00,9
740H20200119,A05_24N,101,1,6,6410,2,20200216,2240,  24.10081, -37.47391,  5711,   291.2, 17.4461,2, 17.5275,2, 36.4319,2, 36.4285,2,   180.5,2,   182.6,2,    1.92,2,    7.11,2,    0.37,2,  2383.8,2,  2151.7,2, -999.00,9, -999.00,9
740H20200119,A05_24N,101,1,7,6411,2,20200216,2240,  24.10081, -37.47391,  5711,   200.2, 19.7270,2, 19.7314,2, 36.8315,2, 36.8292,2,   195.2,2,   196.3,2,    0.76,2,    1.99,2,    0.07,2,  2401.5,2,  2133.7,2, -999.00,9, -999.00,9
740H20200119,A05_24N,101,1,8,6412,2,20200216,2240,  24.10081, -37.47391,  5711,    99.4, 23.0245,2, 23.0257,2, 37.5282,2, 37.5291,2,   211.8,2,   211.4,2,    0.48,2,    0.11,2,    0.01,2,  2454.3,2,  2126.6,2, -999.00,9, -999.00,9
740H20200119,A05_24N,101,1,9,6413,2,20200216,2240,  24.10081, -37.47391,  5711,    49.5, 23.0233,2, 23.0190,2, 37.5316,2, 37.5334,2,   211.9,2,   211.4,2,    0.52,2,    0.11,2,    0.01,2,  2449.4,2,  2123.2,2, -999.00,9, -999.00,9
740H20200119,A05_24N,101,1,10,3043,2,20200216,2240,  24.10081, -37.47391,  5711,     8.8, 23.0226,2, 23.0204,2, 37.5358,2, 37.5355,2,   211.7,2,   211.7,2,    0.57,2,    0.11,2,    0.01,2,  2453.8,2,  2126.8,2, -999.00,9, -999.00,9
740H20200119,A05_24N,102,1,11,3044,2,20200217,0715,  24.22838, -36.75069,  5029,  5111.0,  2.3794,2,  2.3796,2, 34.8802,2, 34.8802,2,   247.4,2,   246.4,2,   47.73,2,   22.32,2,    1.49,2,  2345.9,6,  2203.5,6, -999.00,9, -999.00,9
740H20200119,A05_24N,102,1,12,3045,2,20200217,0715,  24.22838, -36.75069,  5029,  4850.6,  2.3605,2,  2.3601,2, 34.8818,2, 34.8814,2,   246.7,2,   246.2,2,   47.43,2,   22.27,2,    1.49,2,  2343.5,2,  2202.5,2, -999.00,9, -999.00,9
740H20200119,A05_24N,102,1,13,3046,2,20200217,0715,  24.22838, -36.75069,  5029,  4322.6,  2.3692,2,  2.3709,2, 34.8892,2, 34.8891,2,   245.7,2,   244.9,2,   45.94,2,   22.21,2,    1.49,2,  2347.0,2,  2204.8,2, -999.00,9, -999.00,9
740H20200119,A05_24N,102,1,14,7131,2,20200217,0715,  24.22838, -36.75069,  5029,  3807.3,  2.4479,2,  2.4477,2, 34.9025,2, 34.9022,2,   245.4,2,   244.6,2,   43.05,2,   21.96,2,    1.47,2,  2336.4,2,  2195.9,2, -999.00,9, -999.00,9
740H20200119,A05_24N,102,1,15,3048,2,20200217,0715,  24.22838, -36.75069,  5029,  3292.7,  2.5912,2,  2.5927,2, 34.9210,2, 34.9210,2,   244.1,2,   243.5,2,   39.50,2,   21.67,2,    1.45,2,  2342.2,2,  2195.3,2, -999.00,9, -999.00,9
740H20200119,A05_24N,102,1,16,3049,2,20200217,0715,  24.22838, -36.75069,  5029,  2784.5,  2.9211,2,  2.9251,2, 34.9530,2, 34.9529,2,   243.5,2,   243.4,2,   33.23,2,   21.22,2,    1.42,2,  2332.7,6,  2187.5,6, -999.00,9, -999.00,9
740H20200119,A05_24N,102,1,17,3050,2,20200217,0715,  24.22838, -36.75069,  5029,  2272.5,  3.3752,2,  3.3729,2, 34.9925,2, 34.9917,2,   243.1,2,   242.7,2,   26.70,2,   20.52,2,    1.37,2,  2327.6,2,  2183.3,2, -999.00,9, -999.00,9
740H20200119,A05_24N,102,1,18,3051,2,20200217,0715,  24.22838, -36.75069,  5029,  1767.1,  4.3249,2,  4.3311,2, 35.0677,2, 35.0677,2,   233.5,2,   233.3,2,   19.69,2,   20.42,2,    1.35,2,  2320.9,2,  2179.8,2, -999.00,9, -999.00,9
740H20200119,A05_24N,102,1,19,3052,2,20200217,0715,  24.22838, -36.75069,  5029,  1512.9,  4.9096,2,  4.9322,2, 35.0921,2, 35.0926,2,   223.3,2,   223.0,2,   17.43,2,   20.95,2,    1.37,2,  2319.9,2,  2181.7,2, -999.00,9, -999.00,9
740H20200119,A05_24N,102,1,20,3053,2,20200217,0715,  24.22838, -36.75069,  5029,  1309.4,  5.4554,2,  5.4447,2, 35.0888,2, 35.0889,2,   206.6,2,   207.1,2,   17.07,2,   22.20,2,    1.45,2,  2318.3,2,  2186.3,2, -999.00,9, -999.00,9
740H20200119,A05_24N,102,1,21,3054,2,20200217,0715,  24.22838, -36.75069,  5029,  1157.4,  6.0497,2,  6.0631,2, 35.0943,2, 35.0930,2,   187.9,2,   188.1,2,   17.51,2,   23.80,2,    1.55,2,  2320.9,6,  2196.2,6, -999.00,9, -999.00,9
740H20200119,A05_24N,102,1,22,3055,2,20200217,0715,  24.22838, -36.75069,  5029,  1055.7,  6.6284,2,  6.6055,2, 35.1199,2, 35.1162,2,   174.1,2,   174.7,2,   17.57,2,   24.64,2,    1.60,2,  2320.6,2,  2198.9,2, -999.00,9, -999.00,9
740H20200119,A05_24N,102,1,23,3056,2,20200217,0715,  24.22838, -36.75069,  5029,   959.3,  7.3866,2,  7.4307,2, 35.1561,2, 35.1554,2,   159.8,2,   159.3,2,   17.08,2,   25.39,2,    1.62,2,  2319.6,2,  2202.0,2, -999.00,9, -999.00,9
740H20200119,A05_24N,102,1,24,3057,2,20200217,0715,  24.22838, -36.75069,  5029,   857.9,  8.6335,2,  8.6344,2, 35.2743,2, 35.2692,2,   153.2,2,   153.0,2,   14.70,2,   24.19,2,    1.53,2,  2324.1,6,  2197.7,6, -999.00,9, -999.00,9
740H20200119,A05_24N,102,1,1,3034,2,20200217,0715,  24.22838, -36.75069,  5029,   757.4,  9.9542,2,  9.9691,2, 35.4161,2, 35.4076,2,   156.7,2,   156.3,2,   11.57,2,   21.75,2,    1.35,2,  2329.7,2,  2193.4,2, -999.00,9, -999.00,9
740H20200119,A05_24N,102,1,2,3035,2,20200217,0715,  24.22838, -36.75069,  5029,   655.9, 11.1708,2, 11.1697,2, 35.5461,2, 35.5383,2,   165.0,2,   164.3,2,    8.60,2,   18.81,2,    1.15,2,  2332.2,6,  2183.4,6, -999.00,9, -999.00,9
740H20200119,A05_24N,102,1,3,3036,2,20200217,0715,  24.22838, -36.75069,  5029,   504.8, 13.4534,2, 13.4693,2, 35.8149,2, 35.8074,2,   178.8,2,   178.7,2,    4.87,2,   13.51,2,    0.81,2,  2346.1,2,  2166.4,2, -999.00,9, -999.00,9
740H20200119,A05_24N,102,1,4,3037,2,20200217,0715,  24.22838, -36.75069,  5029,   403.3, 15.3698,2, 15.3778,2, 36.0877,2, 36.0756,2,   179.4,2,   179.0,2,    3.32,2,   10.48,2,    0.61,2,  2358.0,2,  2154.2,2, -999.00,9, -999.00,9
740H20200119,A05_24N,102,1,5,3038,2,20200217,0715,  24.22838, -36.75069,  5029,   302.6, 16.7128,2, 16.7256,2, 36.3027,2, 36.2955,2,   182.3,2,   182.6,2,    2.34,2,    8.05,2,    0.44,2,  2374.2,2,  2150.5,2, -999.00,9, -999.00,9
740H20200119,A05_24N,102,1,6,6410,2,20200217,0715,  24.22838, -36.75069,  5029,   151.3, 19.9152,2, 19.9407,2, 36.8347,2, 36.8230,2,   194.6,2,   193.9,2,    0.79,2,    1.85,2,    0.08,2,  2402.5,2,  2133.4,2, -999.00,9, -999.00,9
740H20200119,A05_24N,102,1,7,6411,2,20200217,0715,  24.22838, -36.75069,  5029,    75.7, 23.1364,2, 23.1319,2, 37.5481,2, 37.5477,2,   210.5,2,   211.5,2,    0.48,2,    0.11,2,    0.02,2,  2450.1,2,  2125.3,2, -999.00,9, -999.00,9
740H20200119,A05_24N,102,1,8,6412,2,20200217,0715,  24.22838, -36.75069,  5029,    50.4, 23.1309,2, 23.1291,2, 37.5480,2, 37.5493,2,   210.9,2,   211.3,2,    0.49,2,    0.09,2,    0.02,2,  -999.0,9,  2124.7,2, -999.00,9, -999.00,9
740H20200119,A05_24N,102,1,9,6413,2,20200217,0715,  24.22838, -36.75069,  5029,    25.5, 23.1252,2, 23.1213,2, 37.5478,2, 37.5479,2,   210.9,2,   210.7,2,    0.54,2,    0.10,2,    0.02,2,  2452.3,2,  2125.9,2, -999.00,9, -999.00,9
740H20200119,A05_24N,102,1,10,3043,2,20200217,0715,  24.22838, -36.75069,  5029,     5.6, 23.1184,2, 23.1160,2, 37.5493,2, 37.5495,2,   210.7,2,   210.7,2,    0.42,2,    0.10,2,    0.00,2,  2451.5,6,  2122.5,6, -999.00,9, -999.00,9
740H20200119,A05_24N,103,1,11,3044,2,20200217,1538,  24.35840, -36.03343,  5070,  5151.9,  2.3953,2,  2.3955,2, 34.8815,2, 34.8823,2,   247.6,2,   247.6,2,   48.02,2,   22.20,2,    1.50,2,  2343.7,6,  2201.8,6, -999.00,1, -999.00,1
740H20200119,A05_24N,103,1,12,3045,2,20200217,1538,  24.35840, -36.03343,  5070,  4576.2,  2.3761,2,  2.3757,2, 34.8870,2, 34.8877,2,   245.9,2,   246.3,2,   46.96,2,   22.13,2,    1.50,2,  2344.9,2,  2202.5,2, -999.00,9, -999.00,9
740H20200119,A05_24N,103,1,13,3046,2,20200217,1538,  24.35840, -36.03343,  5070,  4064.5,  2.4024,2,  2.4019,2, 34.8956,2, 34.8960,2,   245.4,2,   246.6,2,   45.08,2,   21.96,2,    1.50,2,  2343.6,2,  2196.9,2, -999.00,1, -999.00,1
740H20200119,A05_24N,103,1,14,7131,2,20200217,1538,  24.35840, -36.03343,  5070,  3553.7,  2.5317,2,  2.5361,2, 34.9133,2, 34.9136,2,   244.5,2,   245.3,2,   41.46,2,   21.66,2,    1.48,2,  2341.9,6,  2196.0,6, -999.00,1, -999.00,1
740H20200119,A05_24N,103,1,15,3048,2,20200217,1538,  24.35840, -36.03343,  5070,  3044.6,  2.7730,2,  2.7736,2, 34.9384,2, 34.9386,2,   242.9,2,   243.6,2,   36.55,2,   21.27,2,    1.45,2,  2337.7,2,  2194.9,2, -999.00,1, -999.00,1
740H20200119,A05_24N,103,1,16,3049,2,20200217,1538,  24.35840, -36.03343,  5070,  2531.8,  3.1528,2,  3.1521,2, 34.9707,2, 34.9706,2,   242.9,2,   244.0,2,   30.11,2,   20.75,2,    1.41,2,  2326.4,2,  2175.9,2, -999.00,1, -999.00,1
740H20200119,A05_24N,103,1,17,3050,2,20200217,1538,  24.35840, -36.03343,  5070,  2020.2,  3.8359,2,  3.8345,2, 35.0227,2, 35.0236,2,   238.8,2,   239.7,2,   22.96,2,   20.32,2,    1.36,2,  2321.8,6,  2179.1,6, -999.00,1, -999.00,1
740H20200119,A05_24N,103,1,18,3051,2,20200217,1538,  24.35840, -36.03343,  5070,  1637.4,  4.6490,2,  4.6534,2, 35.0775,2, 35.0777,2,   226.9,2,   228.6,2,   18.77,2,   20.65,2,    1.37,2,  2320.2,2,  2181.2,2, -999.00,1, -999.00,1
740H20200119,A05_24N,103,1,19,3052,2,20200217,1538,  24.35840, -36.03343,  5070,  1413.6,  5.1745,2,  5.1787,2, 35.0812,2, 35.0816,2,   213.9,2,   215.7,2,   17.54,2,   21.55,2,    1.43,2,  2315.8,2,  2178.9,2, -999.00,1, -999.00,1
740H20200119,A05_24N,103,1,20,3053,2,20200217,1538,  24.35840, -36.03343,  5070,  1210.9,  5.7865,2,  5.7877,2, 35.0747,2, 35.0752,2,   193.1,2,   196.0,2,   17.94,2,   23.33,2,    1.54,2,  2316.7,2,  2193.2,2, -999.00,1, -999.00,1
740H20200119,A05_24N,103,1,21,3054,2,20200217,1538,  24.35840, -36.03343,  5070,  1109.1,  6.3046,2,  6.3120,2, 35.0848,2, 35.0840,2,   176.9,2,   181.2,2,   18.37,2,   24.55,2,    1.62,2,  2317.1,6,  2194.0,6, -999.00,9, -999.00,9
740H20200119,A05_24N,103,1,22,3055,2,20200217,1538,  24.35840, -36.03343,  5070,  1007.7,  7.4143,2,  7.4282,2, 35.2050,2, 35.1899,2,   158.6,2,   161.4,2,   17.73,2,   25.19,2,    1.64,2,  2325.6,2,  2201.4,2, -999.00,1, -999.00,1
740H20200119,A05_24N,103,1,23,3056,2,20200217,1538,  24.35840, -36.03343,  5070,   907.4,  8.4864,2,  8.4940,2, 35.3307,2, 35.3275,2,   152.9,2,   157.8,2,   15.16,2,   24.01,2,    1.53,2,  2329.0,2,  2204.2,2, -999.00,9, -999.00,9
740H20200119,A05_24N,103,1,24,3057,2,20200217,1538,  24.35840, -36.03343,  5070,   807.4,  9.1268,2,  9.1335,2, 35.3409,2, 35.3380,2,   146.7,2,   149.2,2,   13.80,2,   23.79,2,    1.49,2,  2326.2,6,  2196.2,6, -999.00,1, -999.00,1
740H20200119,A05_24N,103,1,1,3034,2,20200217,1538,  24.35840, -36.03343,  5070,   706.0, 10.3324,2, 10.4097,2, 35.4619,2, 35.4585,2,   149.4,2,   153.2,2,   10.72,2,   21.44,2,    1.31,2,  2329.6,6,  2193.4,6, -999.00,9, -999.00,9
740H20200119,A05_24N,103,1,2,3035,2,20200217,1538,  24.35840, -36.03343,  5070,   605.1, 11.7546,2, 11.6776,2, 35.6115,2, 35.6029,2,   163.8,2,   167.8,2,    7.30,2,   17.61,2,    1.06,2,  2334.4,2,  2175.3,2, -999.00,1, -999.00,1
740H20200119,A05_24N,103,1,3,3036,2,20200217,1538,  24.35840, -36.03343,  5070,   377.6, 15.0885,2, 15.0958,2, 36.0545,2, 36.0411,2,   188.6,2,   190.8,2,    3.03,2,    9.59,2,    0.55,2,  2358.5,2,  2155.7,2, -999.00,1, -999.00,1
740H20200119,A05_24N,103,1,4,3037,2,20200217,1538,  24.35840, -36.03343,  5070,   251.4, 18.0431,2, 18.0754,2, 36.5337,2, 36.5029,2,   192.1,2,   194.0,2,    1.38,2,    5.00,2,    0.26,2,  2382.3,2,  2141.6,2, -999.00,9, -999.00,9
740H20200119,A05_24N,103,1,5,3038,2,20200217,1538,  24.35840, -36.03343,  5070,   201.2, 18.9704,2, 18.9905,2, 36.6940,2, 36.6895,2,   195.6,2,   196.5,2,    0.87,2,    2.87,2,    0.12,2,  2397.1,2,  2138.5,2, -999.00,1, -999.00,1
740H20200119,A05_24N,103,1,6,6410,2,20200217,1538,  24.35840, -36.03343,  5070,   175.9, 19.6023,2, 19.6941,2, 36.7985,2, 36.7873,2,   198.4,2,   199.2,2,    0.70,2,    1.69,2,    0.06,2,  2400.8,2,  2132.2,2, -999.00,9, -999.00,9
740H20200119,A05_24N,103,1,7,6411,2,20200217,1538,  24.35840, -36.03343,  5070,   155.5, 20.1430,2, 20.2518,2, 36.8713,2, 36.8510,2,   201.9,2,   201.7,2,    0.59,2,    0.94,2,    0.02,2,  2406.4,2,  2135.1,2, -999.00,9, -999.00,9
740H20200119,A05_24N,103,1,8,6412,2,20200217,1538,  24.35840, -36.03343,  5070,   100.1, 22.5449,2, 22.5371,2, 37.4401,2, 37.3992,3,   213.0,2,   212.7,2,    0.40,2,    0.12,2,    0.00,2,  2440.1,2,  2123.5,2, -999.00,1, -999.00,1
740H20200119,A05_24N,103,1,9,6413,2,20200217,1538,  24.35840, -36.03343,  5070,    50.0, 22.5452,2, 22.5443,2, 37.4419,2, 37.4431,2,   213.6,2,   213.5,2,    0.40,2,    0.08,2,    0.01,2,  2446.2,2,  2126.6,2, -999.00,1, -999.00,1
740H20200119,A05_24N,103,1,10,3043,2,20200217,1538,  24.35840, -36.03343,  5070,     5.2, 22.6107,2, 22.6102,2, 37.4449,2, 37.4473,2,   213.6,2,   213.6,2,    0.45,2,    0.10,2,    0.00,2,  2444.6,2,  2122.6,2, -999.00,1, -999.00,1