BOTTLE,20221012CCHSIOENA
EXPOCODE,SECT_ID,STNNBR,CASTNO,SAMPNO,BTLNBR,BTLNBR_FLAG_W,DATE,TIME,LATITUDE,LONGITUDE,DEPTH,CTDPRS,CTDTMP,CTDTMP_FLAG_W,SBE35,SBE35_FLAG_W,CTDSAL,CTDSAL_FLAG_W,SALNTY,SALNTY_FLAG_W,CTDOXY,CTDOXY_FLAG_W,OXYGEN,OXYGEN_FLAG_W,SILCAT,SILCAT_FLAG_W,NO2+NO3,NO2+NO3_FLAG_W,PHSPHT,PHSPHT_FLAG_W,ALKALI,ALKALI_FLAG_W,TCARBN,TCARBN_FLAG_W,DELC14,DELC14_FLAG_W,DELC13,DELC13_FLAG_W
 , , , , , , , , , , , ,DBAR,ITS-90, ,ITS-90, ,PSS-78, ,PSS-78, ,UMOL/KG, ,UMOL/KG, ,UMOL/KG, ,UMOL/KG, ,UMOL/KG, ,UMOL/KG, ,UMOL/KG, ,/MILLE, ,/MILLE, 
740H20200119,A05_24N,32,1,11,3044,2,20200126,0214,  26.49672, -75.50650,  4686,  4760.1,  2.1653,2,-999.0000,9, 34.8707,2, 34.8714,2,   255.5,2,   256.0,2,   42.62,2,   20.70,2,    1.40,2,  2330.1,6,  2191.3,6, -999.00,9, -999.00,9
740H20200119,A05_24N,32,1,12,3045,2,20200126,0214,  26.49672, -75.50650,  4686,  4319.7,  2.2405,2,-999.0000,9, 34.8853,2, 34.8861,2,   262.8,2,   264.1,2,   33.02,2,   19.05,2,    1.28,2,  2327.3,2,  2181.5,2, -999.00,9, -999.00,9
740H20200119,A05_24N,32,1,13,3046,2,20200126,0214,  26.49672, -75.50650,  4686,  3807.3,  2.2870,2,-999.0000,9, 34.8939,2, 34.8949,2,   267.0,2,   268.0,2,   27.89,2,   18.23,2,    1.23,2,  2321.1,2,  2176.3,2, -999.00,9, -999.00,9
740H20200119,A05_24N,32,1,14,7131,2,20200126,0214,  26.49672, -75.50650,  4686,  3291.5,  2.4353,2,-999.0000,9, 34.9059,2, 34.9068,2,   269.0,2,   269.7,2,   23.52,2,   17.69,2,    1.19,2,  2266.4,4,  2170.6,2, -999.00,9, -999.00,9
740H20200119,A05_24N,32,1,15,3048,2,20200126,0214,  26.49672, -75.50650,  4686,  2781.0,  2.8110,2,-999.0000,9, 34.9274,2, 34.9281,2,   266.1,2,   266.3,2,   20.45,2,   17.76,2,    1.18,2,  2317.0,2,  2171.7,2, -999.00,9, -999.00,9
740H20200119,A05_24N,32,1,16,3049,2,20200126,0214,  26.49672, -75.50650,  4686,  2529.8,  3.0366,2,-999.0000,9, 34.9400,2, 34.9402,2,   263.5,2,   263.7,2,   19.67,2,   18.00,2,    1.19,2,  2260.0,4,  2168.5,2, -999.00,9, -999.00,9
740H20200119,A05_24N,32,1,17,3050,2,20200126,0214,  26.49672, -75.50650,  4686,  2272.9,  3.2988,2,-999.0000,9, 34.9524,2, 34.9533,2,   262.4,2,   263.4,2,   17.78,2,   18.04,2,    1.19,2,  2313.0,2,  2159.2,2, -999.00,9, -999.00,9
740H20200119,A05_24N,32,1,18,3051,2,20200126,0214,  26.49672, -75.50650,  4686,  2022.5,  3.5683,2,-999.0000,9, 34.9630,2, 34.9644,2,   261.2,2,   262.4,2,   15.57,2,   18.03,2,    1.18,2,  -999.0,9,  2164.6,2, -999.00,9, -999.00,9
740H20200119,A05_24N,32,1,19,3052,2,20200126,0214,  26.49672, -75.50650,  4686,  1766.2,  3.8610,2,-999.0000,9, 34.9769,2, 34.9780,2,   258.9,2,   259.9,2,   13.92,2,   18.04,2,    1.18,2,  2308.6,2,  2168.3,2, -999.00,9, -999.00,9
740H20200119,A05_24N,32,1,20,3053,2,20200126,0214,  26.49672, -75.50650,  4686,  1516.3,  4.2178,2,-999.0000,9, 34.9932,2, 34.9938,2,   255.1,2,   255.7,2,   12.65,2,   18.04,2,    1.17,2,  -999.0,9,  2166.9,2, -999.00,9, -999.00,9
740H20200119,A05_24N,32,1,21,3054,2,20200126,0214,  26.49672, -75.50650,  4686,  1261.8,  4.9907,2,-999.0000,9, 35.0484,2, 35.0500,2,   237.0,2,   238.1,2,   12.80,2,   19.03,2,    1.23,2,  2313.9,6,  2174.2,6, -999.00,9, -999.00,9
740H20200119,A05_24N,32,1,22,3055,2,20200126,0214,  26.49672, -75.50650,  4686,  1007.1,  6.5887,2,-999.0000,9, 35.0872,2, 35.0851,2,   188.0,2,   189.9,2,   14.74,2,   22.53,2,    1.45,2,  2316.8,2,  2187.8,2, -999.00,9, -999.00,9
740H20200119,A05_24N,32,1,23,3056,2,20200126,0214,  26.49672, -75.50650,  4686,   880.7,  8.3251,2,-999.0000,9, 35.1438,2, 35.1367,2,   151.2,2,   154.3,2,   15.27,2,   24.97,2,    1.58,2,  2317.8,2,  2195.5,2, -999.00,9, -999.00,9
740H20200119,A05_24N,32,1,24,3057,2,20200126,0214,  26.49672, -75.50650,  4686,   753.4, 11.5181,2,-999.0000,9, 35.4841,2, 35.4634,2,   145.8,2,   145.4,2,   10.11,2,   20.95,2,    1.28,2,  2332.2,6,  2184.5,6, -999.00,9, -999.00,9
740H20200119,A05_24N,32,1,1,3034,4,20200126,0214,  26.49672, -75.50650,  4686,   631.8, 14.3326,2,-999.0000,9, 35.9047,2,-999.0000,9,   157.8,2,  -999.0,5, -999.00,9, -999.00,9, -999.00,9,  -999.0,9,  -999.0,9, -999.00,9, -999.00,9
740H20200119,A05_24N,32,1,2,3035,2,20200126,0214,  26.49672, -75.50650,  4686,   504.9, 16.8082,2,-999.0000,9, 36.3056,2, 36.2882,2,   173.0,2,   173.9,2,    2.88,2,    9.18,2,    0.49,2,  2372.3,2,  2148.0,2, -999.00,9, -999.00,9
740H20200119,A05_24N,32,1,3,3036,2,20200126,0214,  26.49672, -75.50650,  4686,   378.6, 18.6889,2,-999.0000,9, 36.5878,2, 36.5815,2,   188.0,2,   186.6,2,    1.39,2,    4.58,2,    0.20,2,  2387.8,2,  2129.5,2, -999.00,9, -999.00,9
740H20200119,A05_24N,32,1,4,3037,2,20200126,0214,  26.49672, -75.50650,  4686,   252.4, 19.6283,2,-999.0000,9, 36.6810,2, 36.6792,2,   191.8,2,   193.6,2,    0.94,2,    2.41,2,    0.08,2,  2394.6,2,  2120.3,2, -999.00,9, -999.00,9
740H20200119,A05_24N,32,1,5,3038,2,20200126,0214,  26.49672, -75.50650,  4686,   176.6, 21.2219,2,-999.0000,9, 36.8417,2, 36.8193,2,   185.9,2,   186.0,2,    0.76,2,    1.42,2,    0.04,2,  2403.5,2,  2118.4,2, -999.00,9, -999.00,9
740H20200119,A05_24N,32,1,6,6410,2,20200126,0214,  26.49672, -75.50650,  4686,   151.4, 22.0159,2,-999.0000,9, 36.8973,2, 36.8837,2,   186.5,2,   185.8,2,    0.72,2,    1.11,2,    0.04,2,  2407.5,2,  2116.0,2, -999.00,9, -999.00,9
740H20200119,A05_24N,32,1,7,6411,2,20200126,0214,  26.49672, -75.50650,  4686,   100.7, 23.6989,2,-999.0000,9, 36.8226,2, 36.8677,2,   201.0,2,   195.0,2,    0.74,2,    0.47,2,    0.01,2,  2407.5,6,  2090.3,6, -999.00,9, -999.00,9
740H20200119,A05_24N,32,1,8,6412,2,20200126,0214,  26.49672, -75.50650,  4686,    76.5, 23.7478,2,-999.0000,9, 36.7690,2, 36.7718,2,   208.6,2,   209.0,2,    0.83,2,    0.03,2,    0.00,2,  2400.1,2,  2068.2,2, -999.00,9, -999.00,9
740H20200119,A05_24N,32,1,9,6413,2,20200126,0214,  26.49672, -75.50650,  4686,    50.5, 23.8873,2,-999.0000,9, 36.7988,2, 36.8005,2,   209.3,2,   209.0,2,    0.90,2,    0.03,2,    0.01,2,  2400.5,2,  2067.0,2, -999.00,9, -999.00,9
740H20200119,A05_24N,32,1,10,3043,2,20200126,0214,  26.49672, -75.50650,  4686,     4.6, 24.0409,2,-999.0000,9, 36.7830,2, 36.7867,2,   208.3,2,   207.3,2,    0.97,2,    0.04,2,    0.00,2,  2401.8,6,  2064.8,6, -999.00,9, -999.00,9
740H20200119,A05_24N,33,1,11,3044,2,20200126,0710,  26.49599, -75.30660,  4640,  4713.4,  2.1432,2,-999.0000,9, 34.8688,2, 34.8691,2,   255.0,2,   257.4,2,   43.68,2,   20.88,2,    1.43,2,  2338.9,2,  2194.4,6, -999.00,9, -999.00,9
740H20200119,A05_24N,33,1,12,3045,4,20200126,0710,  26.49599, -75.30660,  4640,  4589.4,  2.1979,2,-999.0000,9, 34.8771,2,-999.0000,9,   258.0,2,  -999.0,5, -999.00,9, -999.00,9, -999.00,9,  -999.0,9,  -999.0,9, -999.00,9, -999.00,9
740H20200119,A05_24N,33,1,13,3046,2,20200126,0710,  26.49599, -75.30660,  4640,  4062.2,  2.2512,2,-999.0000,9, 34.8889,2, 34.8897,2,   265.2,2,   267.5,2,   30.44,2,   18.63,2,    1.26,2,  -999.0,9,  2179.4,6, -999.00,9, -999.00,9
740H20200119,A05_24N,33,1,14,7131,2,20200126,0710,  26.49599, -75.30660,  4640,  3552.5,  2.3412,2,-999.0000,9, 34.8989,2, 34.8994,2,   268.1,2,   271.3,2,   25.48,2,   17.87,2,    1.21,2,  2319.0,2,  2175.9,2, -999.00,9, -999.00,9
740H20200119,A05_24N,33,1,15,3048,2,20200126,0710,  26.49599, -75.30660,  4640,  3038.2,  2.6082,2,-999.0000,9, 34.9159,2, 34.9171,2,   268.5,2,   270.8,2,   21.42,2,   17.60,2,    1.18,2,  2310.5,2,  2168.4,2, -999.00,9, -999.00,9
740H20200119,A05_24N,33,1,16,3049,2,20200126,0710,  26.49599, -75.30660,  4640,  2530.2,  3.0505,2,-999.0000,9, 34.9417,2, 34.9426,2,   263.0,2,   265.5,2,   19.63,2,   18.04,2,    1.21,2,  2317.0,2,  2168.4,2, -999.00,9, -999.00,9
740H20200119,A05_24N,33,1,17,3050,4,20200126,0710,  26.49599, -75.30660,  4640,  2274.4,  3.2885,2,-999.0000,9, 34.9518,2,-999.0000,9,   262.4,2,   142.2,4,   11.87,4,   22.63,4,    1.42,4,  -999.0,9,  -999.0,9, -999.00,9, -999.00,9
740H20200119,A05_24N,33,1,18,3051,2,20200126,0710,  26.49599, -75.30660,  4640,  2018.4,  3.5669,2,-999.0000,9, 34.9665,2, 34.9683,2,   260.6,2,   262.9,2,   16.04,2,   18.06,2,    1.19,2,  2311.8,2,  2165.0,6, -999.00,9, -999.00,9
740H20200119,A05_24N,33,1,19,3052,2,20200126,0710,  26.49599, -75.30660,  4640,  1767.9,  3.9009,2,-999.0000,9, 34.9822,2, 34.9832,2,   258.0,2,   260.3,2,   14.12,2,   18.08,2,    1.19,2,  2312.8,2,  2166.0,2, -999.00,9, -999.00,9
740H20200119,A05_24N,33,1,20,3053,2,20200126,0710,  26.49599, -75.30660,  4640,  1513.0,  4.3145,2,-999.0000,9, 35.0066,2, 35.0068,2,   252.1,2,   254.7,2,   12.85,2,   18.27,2,    1.19,2,  2270.6,4,  2163.9,2, -999.00,9, -999.00,9
740H20200119,A05_24N,33,1,21,3054,2,20200126,0710,  26.49599, -75.30660,  4640,  1258.0,  4.9541,2,-999.0000,9, 35.0394,2, 35.0427,2,   239.4,2,   241.0,2,   12.46,2,   18.87,2,    1.23,2,  2315.5,2,  2178.3,2, -999.00,9, -999.00,9
740H20200119,A05_24N,33,1,22,3055,2,20200126,0710,  26.49599, -75.30660,  4640,  1009.4,  6.4309,2,-999.0000,9, 35.0807,2, 35.0812,2,   192.5,2,   193.4,2,   14.60,2,   22.26,2,    1.45,2,  2317.2,2,  2186.0,2, -999.00,9, -999.00,9
740H20200119,A05_24N,33,1,23,3056,3,20200126,0710,  26.49599, -75.30660,  4640,   882.4,  8.4143,2,-999.0000,9, 35.1294,2, 35.1235,3,   146.6,2,   149.0,4,   15.63,3,   25.48,3,    1.62,3,  2318.3,3,  2198.7,3, -999.00,9, -999.00,9
740H20200119,A05_24N,33,1,24,3057,2,20200126,0710,  26.49599, -75.30660,  4640,   805.6, 10.4666,2,-999.0000,9, 35.3425,2, 35.3391,2,   141.7,2,   142.4,2,   11.94,2,   22.80,2,    1.42,2,  -999.0,9,  -999.0,9, -999.00,9, -999.00,9
740H20200119,A05_24N,33,1,1,3034,4,20200126,0710,  26.49599, -75.30660,  4640,   628.6, 14.4517,2,-999.0000,9, 35.9290,2,-999.0000,9,   157.3,2,  -999.0,9, -999.00,9, -999.00,9, -999.00,9,  -999.0,9,  -999.0,9, -999.00,9, -999.00,9
740H20200119,A05_24N,33,1,2,3035,2,20200126,0710,  26.49599, -75.30660,  4640,   502.5, 16.9393,2,-999.0000,9, 36.3340,2, 36.3191,2,   173.1,2,   173.3,2,    2.64,2,    8.85,2,    0.48,2,  2373.0,2,  2147.1,2, -999.00,9, -999.00,9
740H20200119,A05_24N,33,1,3,3036,2,20200126,0710,  26.49599, -75.30660,  4640,   375.6, 18.7201,2,-999.0000,9, 36.5932,2, 36.5755,2,   192.9,2,   192.5,2,    1.33,2,    4.29,2,    0.20,2,  2392.0,2,  2128.3,2, -999.00,9, -999.00,9
740H20200119,A05_24N,33,1,4,3037,2,20200126,0710,  26.49599, -75.30660,  4640,   249.8, 19.6455,2,-999.0000,9, 36.6853,2, 36.6815,2,   191.3,2,   194.3,2,    0.90,2,    2.42,2,    0.08,2,  2392.9,2,  2116.9,2, -999.00,9, -999.00,9
740H20200119,A05_24N,33,1,5,3038,2,20200126,0710,  26.49599, -75.30660,  4640,   174.0, 21.1501,2,-999.0000,9, 36.7895,2, 36.7778,2,   194.8,2,   194.6,2,    0.66,2,    0.84,2,    0.02,2,  2402.4,2,  2112.1,2, -999.00,9, -999.00,9
740H20200119,A05_24N,33,1,6,6410,2,20200126,0710,  26.49599, -75.30660,  4640,    98.1, 23.6207,2,-999.0000,9, 36.7897,2, 36.7912,2,   209.5,2,   210.4,2,    0.77,2,    0.02,2,    0.00,2,  2400.2,2,  2066.8,2, -999.00,9, -999.00,9
740H20200119,A05_24N,33,1,7,6411,2,20200126,0710,  26.49599, -75.30660,  4640,    73.4, 23.8213,2,-999.0000,9, 36.7622,2, 36.7671,2,   209.1,2,   209.7,2,    0.79,2,    0.02,2,    0.00,2,  2404.0,2,  2066.6,2, -999.00,9, -999.00,9
740H20200119,A05_24N,33,1,8,6412,2,20200126,0710,  26.49599, -75.30660,  4640,    49.3, 24.1117,2,-999.0000,9, 36.7605,2, 36.7632,2,   207.8,2,   209.3,2,    0.81,2,    0.02,2,    0.01,2,  2396.9,2,  2064.5,2, -999.00,9, -999.00,9
740H20200119,A05_24N,33,1,9,6413,2,20200126,0710,  26.49599, -75.30660,  4640,    23.0, 24.5438,2,-999.0000,9, 36.7840,2, 36.7871,2,   206.0,2,   206.4,2,    0.87,2,    0.02,2,    0.01,2,  2402.8,2,  2064.8,2, -999.00,9, -999.00,9
740H20200119,A05_24N,33,1,10,3043,2,20200126,0710,  26.49599, -75.30660,  4640,     2.6, 24.5455,2,-999.0000,9, 36.7858,2, 36.7879,2,   205.6,2,   207.3,2,    0.87,2,    0.02,2,    0.01,2,  -999.0,9,  -999.0,9, -999.00,9, -999.00,9
740H20200119,A05_24N,34,1,11,3044,2,20200126,1218,  26.50005, -75.06681,  4614,  4684.8,  2.1451,2,-999.0000,9, 34.8696,2, 34.8705,2,   255.4,2,   257.0,2,   43.68,2,   20.97,2,    1.42,2,  2309.9,3,  2191.8,2, -999.00,1, -999.00,1
740H20200119,A05_24N,34,1,12,3045,2,20200126,1218,  26.50005, -75.06681,  4614,  4601.4,  2.2069,2,-999.0000,9, 34.8780,2, 34.8777,2,   258.8,2,   261.1,2,   38.42,2,   20.18,2,    1.36,2,  2331.8,2,  2191.9,2, -999.00,1, -999.00,1
740H20200119,A05_24N,34,1,13,3046,2,20200126,1218,  26.50005, -75.06681,  4614,  4341.8,  2.2284,2,-999.0000,9, 34.8837,2, 34.8842,2,   262.2,2,   263.8,2,   34.28,2,   19.51,2,    1.31,2,  -999.0,9,  2180.5,2, -999.00,1, -999.00,1
740H20200119,A05_24N,34,1,14,7131,2,20200126,1218,  26.50005, -75.06681,  4614,  3823.5,  2.2418,2,-999.0000,9, 34.8906,2, 34.8913,2,   266.1,2,   268.4,2,   29.38,2,   18.62,2,    1.25,2,  -999.0,9,  -999.0,9, -999.00,1, -999.00,1
740H20200119,A05_24N,34,1,15,3048,2,20200126,1218,  26.50005, -75.06681,  4614,  3308.0,  2.3960,2,-999.0000,9, 34.9040,2, 34.9041,2,   268.6,2,   270.7,2,   24.29,2,   17.97,2,    1.21,2,  2318.2,2,  2171.8,6, -999.00,1, -999.00,1
740H20200119,A05_24N,34,1,16,3049,2,20200126,1218,  26.50005, -75.06681,  4614,  2793.7,  2.8009,2,-999.0000,9, 34.9298,2, 34.9300,2,   263.6,2,   265.0,2,   22.44,2,   18.37,2,    1.23,2,  2262.5,4,  2166.5,2, -999.00,1, -999.00,1
740H20200119,A05_24N,34,1,17,3050,2,20200126,1218,  26.50005, -75.06681,  4614,  2536.6,  3.0270,2,-999.0000,9, 34.9425,2, 34.9431,2,   262.4,2,   264.0,2,   20.45,2,   18.32,2,    1.21,2,  2325.8,2,  2173.0,2, -999.00,1, -999.00,1
740H20200119,A05_24N,34,1,18,3051,2,20200126,1218,  26.50005, -75.06681,  4614,  2024.4,  3.5460,2,-999.0000,9, 34.9618,2, 34.9630,2,   261.9,2,   263.4,2,   15.59,2,   18.07,2,    1.19,2,  -999.0,9,  2163.9,2, -999.00,1, -999.00,1
740H20200119,A05_24N,34,1,19,3052,2,20200126,1218,  26.50005, -75.06681,  4614,  1768.5,  3.8933,2,-999.0000,9, 34.9787,2, 34.9789,2,   258.8,2,   261.0,2,   13.83,2,   18.11,2,    1.18,2,  2310.5,2,  2181.5,2, -999.00,1, -999.00,1
740H20200119,A05_24N,34,1,20,3053,2,20200126,1218,  26.50005, -75.06681,  4614,  1513.8,  4.2762,2,-999.0000,9, 34.9965,2, 34.9958,2,   254.2,2,   255.9,2,   12.66,2,   18.15,2,    1.18,2,  2311.8,6,  2171.6,2, -999.00,1, -999.00,1
740H20200119,A05_24N,34,1,21,3054,2,20200126,1218,  26.50005, -75.06681,  4614,  1258.9,  4.9810,2,-999.0000,9, 35.0400,2, 35.0406,2,   238.9,2,   241.0,2,   12.46,2,   18.90,2,    1.23,2,  2311.2,2,  2178.7,2, -999.00,1, -999.00,1
740H20200119,A05_24N,34,1,22,3055,2,20200126,1218,  26.50005, -75.06681,  4614,  1009.4,  6.7274,2,-999.0000,9, 35.1066,2, 35.1042,2,   191.1,2,   193.3,2,   14.01,2,   21.93,2,    1.41,2,  2316.3,2,  2186.5,2, -999.00,1, -999.00,1
740H20200119,A05_24N,34,1,23,3056,2,20200126,1218,  26.50005, -75.06681,  4614,   882.6,  8.5434,2,-999.0000,9, 35.1411,2, 35.1392,2,   145.1,2,   145.8,2,   15.57,2,   25.71,2,    1.62,2,  2315.0,2,  2200.2,2, -999.00,1, -999.00,1
740H20200119,A05_24N,34,1,24,3057,2,20200126,1218,  26.50005, -75.06681,  4614,   755.5, 11.4335,2,-999.0000,9, 35.4754,2, 35.4658,2,   146.5,2,   146.8,2,   10.06,2,   20.82,2,    1.27,2,  2331.2,2,  2182.9,2, -999.00,1, -999.00,1
740H20200119,A05_24N,34,1,1,3034,4,20200126,1218,  26.50005, -75.06681,  4614,   629.4, 14.1959,2,-999.0000,9, 35.8739,2,-999.0000,9,   162.7,2,  -999.0,5, -999.00,9, -999.00,9, -999.00,9,  -999.0,9,  -999.0,9, -999.00,9, -999.00,9
740H20200119,A05_24N,34,1,2,3035,2,20200126,1218,  26.50005, -75.06681,  4614,   503.3, 16.7168,2,-999.0000,9, 36.2903,2, 36.2765,2,   172.8,2,   173.9,2,    2.90,2,    9.31,2,    0.50,2,  2372.0,6,  2153.2,6, -999.00,1, -999.00,1
740H20200119,A05_24N,34,1,3,3036,2,20200126,1218,  26.50005, -75.06681,  4614,   377.4, 18.6409,2,-999.0000,9, 36.5819,2, 36.5713,2,   191.7,2,   190.4,2,    1.39,2,    4.46,2,    0.20,2,  2389.1,2,  2125.4,2, -999.00,1, -999.00,1
740H20200119,A05_24N,34,1,4,3037,2,20200126,1218,  26.50005, -75.06681,  4614,   251.3, 19.5377,2,-999.0000,9, 36.6745,2, 36.6737,2,   197.5,2,   199.2,2,    0.92,2,    2.30,2,    0.09,2,  2394.6,2,  2117.6,2, -999.00,1, -999.00,1
740H20200119,A05_24N,34,1,5,3038,2,20200126,1218,  26.50005, -75.06681,  4614,   175.2, 21.1761,2,-999.0000,9, 36.7944,2, 36.7863,2,   192.6,2,   193.6,2,    0.73,2,    1.06,2,    0.04,2,  2400.3,2,  2111.5,2, -999.00,1, -999.00,1
740H20200119,A05_24N,34,1,6,6410,2,20200126,1218,  26.50005, -75.06681,  4614,    99.1, 23.5860,2,-999.0000,9, 36.8003,2, 36.7999,2,   209.5,2,   210.7,2,    0.83,2,    0.03,2,    0.00,2,  2402.7,6,  2072.1,6, -999.00,1, -999.00,1
740H20200119,A05_24N,34,1,7,6411,2,20200126,1218,  26.50005, -75.06681,  4614,    74.6, 23.7172,2,-999.0000,9, 36.8309,2, 36.8334,2,   208.8,2,   211.0,2,    0.81,2,    0.02,2,    0.00,2,  2410.2,2,  2077.5,2, -999.00,1, -999.00,1
740H20200119,A05_24N,34,1,8,6412,2,20200126,1218,  26.50005, -75.06681,  4614,    49.5, 23.7062,2,-999.0000,9, 36.8256,2, 36.8275,2,   209.3,2,   211.6,2,    0.76,2,    0.03,2,    0.00,2,  2403.7,2,  -999.0,9, -999.00,1, -999.00,1
740H20200119,A05_24N,34,1,9,6413,2,20200126,1218,  26.50005, -75.06681,  4614,    24.3, 23.5967,2,-999.0000,9, 36.7813,2, 36.7836,2,   209.3,2,   211.1,2,    0.81,2,    0.03,2,    0.00,2,  2399.0,4,  2075.5,2, -999.00,1, -999.00,1
740H20200119,A05_24N,34,1,10,3043,2,20200126,1218,  26.50005, -75.06681,  4614,     4.7, 23.5588,2,-999.0000,9, 36.7647,2, 36.7673,2,   209.4,2,   211.5,2,    0.84,2,    0.03,2,    0.00,2,  2399.6,6,  2068.4,6, -999.00,1, -999.00,1