BOTTLE,20020809WHPSIObren
EXPOCODE,SECT_ID,STNNBR,CASTNO,SAMPNO,BTLNBR,BTLNBR_FLAG_W,DATE,TIME,LATITUDE,LONGITUDE,DEPTH,CTDPRS,CTDTMP,CTDSAL,CTDSAL_FLAG_W,SALNTY,SALNTY_FLAG_W,CTDOXY,CTDOXY_FLAG_W,OXYGEN,OXYGEN_FLAG_W,SILCAT,SILCAT_FLAG_W,NO2+NO3,NO2+NO3_FLAG_W,PHSPHT,PHSPHT_FLAG_W,CTDRAW,REVTMP,REVPRS,THETA
,,,,,,,,,,,,DBAR,IPTS-68,PSS-78,,PSS-78,,UMOL/KG,,UMOL/KG,,UMOL/KG,,UMOL/KG,,UMOL/KG,,,DEG C,DBAR,IPTS-68
     31MW003_1,  PRS2,     2,  8,     12,     12,2,19890109,0501, 22.7850,-157.9700, 4750,      3.9,  24.6214,  35.0332,2,-999.0000,5,    220.8,1,   -999.0,9,  -999.00,9,  -999.00,9,  -999.00,9,      8,-999.000,  -999.0, 24.6206
     31MW003_1,  PRS2,     2,  8,     11,     11,2,19890109,0501, 22.7850,-157.9700, 4750,     19.4,  24.6387,  35.0341,2,  35.0354,2,    220.7,1,   -999.0,9,  -999.00,9,  -999.00,9,  -999.00,9,     24,-999.000,  -999.0, 24.6345
     31MW003_1,  PRS2,     2,  8,     10,     10,2,19890109,0501, 22.7850,-157.9700, 4750,     41.6,  24.6444,  35.0338,2,-999.0000,5,    220.7,1,   -999.0,9,  -999.00,9,  -999.00,9,  -999.00,9,     45,-999.000,  -999.0, 24.6355
     31MW003_1,  PRS2,     2,  8,      9,      9,2,19890109,0501, 22.7850,-157.9700, 4750,     71.4,  24.6503,  35.0335,2,-999.0000,5,    220.6,1,   -999.0,9,  -999.00,9,  -999.00,9,  -999.00,9,     77,-999.000,  -999.0, 24.6350
     31MW003_1,  PRS2,     2,  8,      8,      8,2,19890109,0501, 22.7850,-157.9700, 4750,    102.9,  24.6482,  35.0336,2,-999.0000,5,    220.6,1,   -999.0,9,  -999.00,9,  -999.00,9,  -999.00,9,    106,-999.000,  -999.0, 24.6261
     31MW003_1,  PRS2,     2,  8,      7,      7,2,19890109,0501, 22.7850,-157.9700, 4750,    132.6,  23.1605,  35.0890,2,-999.0000,5,    215.4,1,   -999.0,9,  -999.00,9,  -999.00,9,  -999.00,9,    134,-999.000,  -999.0, 23.1333
     31MW003_1,  PRS2,     2,  8,      6,      6,2,19890109,0501, 22.7850,-157.9700, 4750,    151.8,  22.1789,  35.1459,2,  35.1484,2,    206.0,1,   -999.0,9,  -999.00,9,  -999.00,9,  -999.00,9,    151,-999.000,  -999.0, 22.1487
     31MW003_1,  PRS2,     2,  8,      5,      5,2,19890109,0501, 22.7850,-157.9700, 4750,    177.0,  21.2455,  35.1315,2,-999.0000,5,    193.9,1,   -999.0,9,  -999.00,9,  -999.00,9,  -999.00,9,    174,-999.000,  -999.0, 21.2113
     31MW003_1,  PRS2,     2,  8,      4,      4,2,19890109,0501, 22.7850,-157.9700, 4750,    257.2,  16.9378,  34.7737,2,-999.0000,5,    185.3,1,   -999.0,9,  -999.00,9,  -999.00,9,  -999.00,9,    254,-999.000,  -999.0, 16.8955
     31MW003_1,  PRS2,     2,  8,      3,      3,2,19890109,0501, 22.7850,-157.9700, 4750,    500.3,   7.7968,  34.1020,2,-999.0000,5,    132.8,1,   -999.0,9,  -999.00,9,  -999.00,9,  -999.00,9,    497,-999.000,  -999.0,  7.7466
     31MW003_1,  PRS2,     2,  8,      2,      2,2,19890109,0501, 22.7850,-157.9700, 4750,    753.9,   4.9562,  34.2726,2,  34.2737,2,     25.3,1,   -999.0,9,  -999.00,9,  -999.00,9,  -999.00,9,    747,-999.000,  -999.0,  4.8953
     31MW003_1,  PRS2,     2,  8,      1,      1,2,19890109,0501, 22.7850,-157.9700, 4750,   1014.1,   4.0278,  34.4797,2,-999.0000,5,     41.5,1,   -999.0,9,  -999.00,9,  -999.00,9,  -999.00,9,   1008,-999.000,  -999.0,  3.9508
     31MW003_1,  PRS2,     2,  9,     12,     12,2,19890109,0800, 22.7833,-157.9867, 4750,      8.7,  24.6103,  35.0370,2,-999.0000,5,    223.7,1,   -999.0,9,  -999.00,9,  -999.00,9,  -999.00,9,     13,-999.000,  -999.0, 24.6084
     31MW003_1,  PRS2,     2,  9,     11,     11,2,19890109,0800, 22.7833,-157.9867, 4750,     26.5,  24.6241,  35.0350,2,-999.0000,5,    223.6,1,   -999.0,9,  -999.00,9,  -999.00,9,  -999.00,9,     31,-999.000,  -999.0, 24.6184
     31MW003_1,  PRS2,     2,  9,     10,     10,2,19890109,0800, 22.7833,-157.9867, 4750,     48.8,  24.6314,  35.0347,2,  35.0393,2,    223.5,1,   -999.0,9,  -999.00,9,  -999.00,9,  -999.00,9,     54,-999.000,  -999.0, 24.6210
     31MW003_1,  PRS2,     2,  9,      9,      9,2,19890109,0800, 22.7833,-157.9867, 4750,     78.8,  24.6324,  35.0346,2,-999.0000,5,    223.5,1,   -999.0,9,  -999.00,9,  -999.00,9,  -999.00,9,     83,-999.000,  -999.0, 24.6155
     31MW003_1,  PRS2,     2,  9,      8,      8,2,19890109,0800, 22.7833,-157.9867, 4750,    102.7,  24.6333,  35.0344,2,-999.0000,5,    223.4,1,   -999.0,9,  -999.00,9,  -999.00,9,  -999.00,9,    108,-999.000,  -999.0, 24.6113
     31MW003_1,  PRS2,     2,  9,      7,      7,2,19890109,0800, 22.7833,-157.9867, 4750,    128.2,  22.7298,  35.1164,2,-999.0000,5,    214.8,1,   -999.0,9,  -999.00,9,  -999.00,9,  -999.00,9,    131,-999.000,  -999.0, 22.7038
     31MW003_1,  PRS2,     2,  9,      6,      6,2,19890109,0800, 22.7833,-157.9867, 4750,    153.2,  21.5980,  35.1487,2,  35.1507,2,    200.5,1,   -999.0,9,  -999.00,9,  -999.00,9,  -999.00,9,    153,-999.000,  -999.0, 21.5680
     31MW003_1,  PRS2,     2,  9,      5,      5,2,19890109,0800, 22.7833,-157.9867, 4750,    176.3,  20.5417,  35.1133,2,-999.0000,5,    191.4,1,   -999.0,9,  -999.00,9,  -999.00,9,  -999.00,9,    177,-999.000,  -999.0, 20.5084
     31MW003_1,  PRS2,     2,  9,      4,      4,2,19890109,0800, 22.7833,-157.9867, 4750,    253.1,  16.3077,  34.7017,2,-999.0000,5,    187.6,1,   -999.0,9,  -999.00,9,  -999.00,9,  -999.00,9,    251,-999.000,  -999.0, 16.2672
     31MW003_1,  PRS2,     2,  9,      3,      3,2,19890109,0800, 22.7833,-157.9867, 4750,    496.7,   8.1214,  34.0998,2,  34.1015,2,    138.3,1,   -999.0,9,  -999.00,9,  -999.00,9,  -999.00,9,    494,-999.000,  -999.0,  8.0704
     31MW003_1,  PRS2,     2,  9,      2,      2,2,19890109,0800, 22.7833,-157.9867, 4750,    756.7,   4.9155,  34.2574,2,-999.0000,5,     27.6,1,   -999.0,9,  -999.00,9,  -999.00,9,  -999.00,9,    750,-999.000,  -999.0,  4.8546
     31MW003_1,  PRS2,     2,  9,      1,      1,2,19890109,0800, 22.7833,-157.9867, 4750,   1013.1,   4.0743,  34.4774,2,-999.0000,5,     39.2,1,   -999.0,9,  -999.00,9,  -999.00,9,  -999.00,9,   1006,-999.000,  -999.0,  3.9970
     31MW003_1,  PRS2,     2, 10,     12,     12,2,19890109,1119, 22.7750,-158.0000, 4750,      9.8,  24.6043,  35.0344,2,-999.0000,5,    231.9,1,   -999.0,9,  -999.00,9,  -999.00,9,  -999.00,9,     14,-999.000,  -999.0, 24.6022
     31MW003_1,  PRS2,     2, 10,     11,     11,2,19890109,1119, 22.7750,-158.0000, 4750,     28.3,  24.6131,  35.0341,2,-999.0000,5,    232.1,1,   -999.0,9,  -999.00,9,  -999.00,9,  -999.00,9,     33,-999.000,  -999.0, 24.6070
     31MW003_1,  PRS2,     2, 10,     10,     10,2,19890109,1119, 22.7750,-158.0000, 4750,     49.7,  24.6184,  35.0342,2,  35.0387,2,    232.4,1,   -999.0,9,  -999.00,9,  -999.00,9,  -999.00,9,     53,-999.000,  -999.0, 24.6078
     31MW003_1,  PRS2,     2, 10,      9,      9,2,19890109,1119, 22.7750,-158.0000, 4750,     79.9,  24.6213,  35.0339,2,-999.0000,5,    232.6,1,   -999.0,9,  -999.00,9,  -999.00,9,  -999.00,9,     85,-999.000,  -999.0, 24.6042
     31MW003_1,  PRS2,     2, 10,      8,      8,2,19890109,1119, 22.7750,-158.0000, 4750,    105.0,  23.4710,  35.0740,2,-999.0000,5,    222.8,1,   -999.0,9,  -999.00,9,  -999.00,9,  -999.00,9,    107,-999.000,  -999.0, 23.4492
     31MW003_1,  PRS2,     2, 10,      7,      7,2,19890109,1119, 22.7750,-158.0000, 4750,    129.2,  22.2934,  35.1489,2,  35.1462,2,    209.9,1,   -999.0,9,  -999.00,9,  -999.00,9,  -999.00,9,    133,-999.000,  -999.0, 22.2676
     31MW003_1,  PRS2,     2, 10,      6,      6,2,19890109,1119, 22.7750,-158.0000, 4750,    154.4,  21.2099,  35.1329,2,-999.0000,5,    197.8,1,   -999.0,9,  -999.00,9,  -999.00,9,  -999.00,9,    157,-999.000,  -999.0, 21.1801
     31MW003_1,  PRS2,     2, 10,      5,      5,2,19890109,1119, 22.7750,-158.0000, 4750,    178.8,  20.1553,  35.0790,2,-999.0000,5,    189.6,1,   -999.0,9,  -999.00,9,  -999.00,9,  -999.00,9,    181,-999.000,  -999.0, 20.1221
     31MW003_1,  PRS2,     2, 10,      4,      4,2,19890109,1119, 22.7750,-158.0000, 4750,    250.3,  16.0406,  34.6648,2,-999.0000,5,    189.1,1,   -999.0,9,  -999.00,9,  -999.00,9,  -999.00,9,    249,-999.000,  -999.0, 16.0010
     31MW003_1,  PRS2,     2, 10,      3,      3,2,19890109,1119, 22.7750,-158.0000, 4750,    505.3,   7.6407,  34.1020,2,  34.1082,2,    125.7,1,   -999.0,9,  -999.00,9,  -999.00,9,  -999.00,9,    504,-999.000,  -999.0,  7.5906
     31MW003_1,  PRS2,     2, 10,      2,      2,2,19890109,1119, 22.7750,-158.0000, 4750,    761.2,   4.8567,  34.3005,2,-999.0000,5,     26.8,1,   -999.0,9,  -999.00,9,  -999.00,9,  -999.00,9,    758,-999.000,  -999.0,  4.7957
     31MW003_1,  PRS2,     2, 10,      1,      1,2,19890109,1119, 22.7750,-158.0000, 4750,   1014.4,   4.0190,  34.4845,2,-999.0000,5,     40.6,1,   -999.0,9,  -999.00,9,  -999.00,9,  -999.00,9,   1008,-999.000,  -999.0,  3.9420
     31MW003_1,  PRS2,     2, 11,     12,     12,2,19890109,1411, 22.7800,-157.9850, 4600,     53.3,  24.5943,  35.0353,2,  35.0393,2,    222.9,1,   -999.0,9,  -999.00,9,  -999.00,9,  -999.00,9,     58,-999.000,  -999.0, 24.5829
     31MW003_1,  PRS2,     2, 11,      8,      8,2,19890109,1411, 22.7800,-157.9850, 4600,    178.0,  21.7058,  35.1492,2,  35.1533,2,    204.3,1,   -999.0,9,  -999.00,9,  -999.00,9,  -999.00,9,    182,-999.000,  -999.0, 21.6709
     31MW003_1,  PRS2,     2, 11,      4,      4,2,19890109,1411, 22.7800,-157.9850, 4600,    539.2,   7.2060,  34.0998,2,  34.4240,4,    112.4,1,   -999.0,9,  -999.00,9,  -999.00,9,  -999.00,9,    537,-999.000,  -999.0,  7.1541
     31MW003_1,  PRS2,     2, 12,     12,     12,2,19890109,1834, 22.7917,-158.0100, 4600,      3.6,  24.5507,  35.0260,2,-999.0000,5,    234.1,2,   -999.0,5,  -999.00,9,  -999.00,9,  -999.00,9,      8,-999.000,  -999.0, 24.5500
     31MW003_1,  PRS2,     2, 12,     11,     11,2,19890109,1834, 22.7917,-158.0100, 4600,     20.6,  24.5631,  35.0270,2,-999.0000,5,    234.1,2,   -999.0,5,  -999.00,9,  -999.00,9,  -999.00,9,     25,-999.000,  -999.0, 24.5587
     31MW003_1,  PRS2,     2, 12,     10,     10,2,19890109,1834, 22.7917,-158.0100, 4600,     40.9,  24.5653,  35.0274,2,  35.0330,2,    234.1,2,   -999.0,5,  -999.00,9,  -999.00,9,  -999.00,9,     48,-999.000,  -999.0, 24.5565
     31MW003_1,  PRS2,     2, 12,      9,      9,2,19890109,1834, 22.7917,-158.0100, 4600,     69.8,  24.5681,  35.0266,2,-999.0000,5,    234.1,2,   -999.0,5,  -999.00,9,  -999.00,9,  -999.00,9,     73,-999.000,  -999.0, 24.5531
     31MW003_1,  PRS2,     2, 12,      8,      8,2,19890109,1834, 22.7917,-158.0100, 4600,     98.6,  24.3810,  35.0366,2,-999.0000,5,    221.5,2,    208.1,2,  -999.00,9,  -999.00,9,  -999.00,9,    103,-999.000,  -999.0, 24.3600
     31MW003_1,  PRS2,     2, 12,      7,      7,2,19890109,1834, 22.7917,-158.0100, 4600,    123.2,  22.7972,  35.1057,2,-999.0000,5,    212.6,2,   -999.0,5,  -999.00,9,  -999.00,9,  -999.00,9,    128,-999.000,  -999.0, 22.7722
     31MW003_1,  PRS2,     2, 12,      6,      6,2,19890109,1834, 22.7917,-158.0100, 4600,    148.0,  21.7803,  35.1536,2,-999.0000,5,    201.8,2,   -999.0,5,  -999.00,9,  -999.00,9,  -999.00,9,    151,-999.000,  -999.0, 21.7513
     31MW003_1,  PRS2,     2, 12,      5,      5,2,19890109,1834, 22.7917,-158.0100, 4600,    172.0,  20.8060,  35.1241,2,  35.1244,2,    191.5,2,   -999.0,5,  -999.00,9,  -999.00,9,  -999.00,9,    173,-999.000,  -999.0, 20.7733
     31MW003_1,  PRS2,     2, 12,      4,      4,2,19890109,1834, 22.7917,-158.0100, 4600,    251.6,  17.0904,  34.8019,2,-999.0000,5,    187.9,2,    189.8,2,  -999.00,9,  -999.00,9,  -999.00,9,    252,-999.000,  -999.0, 17.0488
     31MW003_1,  PRS2,     2, 12,      3,      3,2,19890109,1834, 22.7917,-158.0100, 4600,    503.5,   7.5283,  34.0962,2,  34.0993,2,    126.2,2,   -999.0,5,  -999.00,9,  -999.00,9,  -999.00,9,    501,-999.000,  -999.0,  7.4788
     31MW003_1,  PRS2,     2, 12,      2,      2,2,19890109,1834, 22.7917,-158.0100, 4600,    758.9,   4.7674,  34.2749,2,-999.0000,5,     22.0,2,     22.7,2,  -999.00,9,  -999.00,9,  -999.00,9,    756,-999.000,  -999.0,  4.7071
     31MW003_1,  PRS2,     2, 12,      1,      1,2,19890109,1834, 22.7917,-158.0100, 4600,   1005.6,   4.1135,  34.4712,2,-999.0000,5,     38.2,2,   -999.0,5,  -999.00,9,  -999.00,9,  -999.00,9,   1001,-999.000,  -999.0,  4.0365
     31MW003_1,  PRS2,     2, 13,     12,     12,2,19890109,2243, 22.7900,-158.0117, 4750,      4.1,  24.5277,  35.0169,2,-999.0000,9,    204.0,2,   -999.0,5,  -999.00,9,  -999.00,9,  -999.00,9,      7,-999.000,  -999.0, 24.5268
     31MW003_1,  PRS2,     2, 13,     11,     11,2,19890109,2243, 22.7900,-158.0117, 4750,     22.5,  24.5331,  35.0193,2,-999.0000,9,    203.6,2,   -999.0,5,  -999.00,9,  -999.00,9,  -999.00,9,     27,-999.000,  -999.0, 24.5283
     31MW003_1,  PRS2,     2, 13,     10,     10,2,19890109,2243, 22.7900,-158.0117, 4750,     42.7,  24.5383,  35.0197,2,-999.0000,9,    203.3,2,   -999.0,5,  -999.00,9,  -999.00,9,  -999.00,9,     47,-999.000,  -999.0, 24.5292
     31MW003_1,  PRS2,     2, 13,      9,      9,2,19890109,2243, 22.7900,-158.0117, 4750,     72.1,  24.5454,  35.0201,2,-999.0000,9,    203.3,2,   -999.0,5,  -999.00,9,  -999.00,9,  -999.00,9,     75,-999.000,  -999.0, 24.5300
     31MW003_1,  PRS2,     2, 13,      8,      8,2,19890109,2243, 22.7900,-158.0117, 4750,     97.3,  24.5506,  35.0209,2,-999.0000,9,    203.5,2,    208.7,2,  -999.00,9,  -999.00,9,  -999.00,9,    101,-999.000,  -999.0, 24.5298
     31MW003_1,  PRS2,     2, 13,      7,      7,2,19890109,2243, 22.7900,-158.0117, 4750,    122.0,  23.0729,  35.0884,2,-999.0000,9,    211.2,2,   -999.0,5,  -999.00,9,  -999.00,9,  -999.00,9,    126,-999.000,  -999.0, 23.0479
     31MW003_1,  PRS2,     2, 13,      6,      6,2,19890109,2243, 22.7900,-158.0117, 4750,    152.9,  21.6874,  35.1500,2,-999.0000,9,    199.3,2,   -999.0,5,  -999.00,9,  -999.00,9,  -999.00,9,    156,-999.000,  -999.0, 21.6575
     31MW003_1,  PRS2,     2, 13,      5,      5,2,19890109,2243, 22.7900,-158.0117, 4750,    175.0,  20.2329,  35.0887,2,-999.0000,9,    187.2,2,   -999.0,5,  -999.00,9,  -999.00,9,  -999.00,9,    175,-999.000,  -999.0, 20.2003
     31MW003_1,  PRS2,     2, 13,      4,      4,2,19890109,2243, 22.7900,-158.0117, 4750,    254.6,  15.8358,  34.6381,2,-999.0000,9,    188.2,2,   -999.0,5,  -999.00,9,  -999.00,9,  -999.00,9,    254,-999.000,  -999.0, 15.7959
     31MW003_1,  PRS2,     2, 13,      3,      3,2,19890109,2243, 22.7900,-158.0117, 4750,    504.6,   7.5213,  34.0917,2,-999.0000,9,    125.8,2,   -999.0,5,  -999.00,9,  -999.00,9,  -999.00,9,    502,-999.000,  -999.0,  7.4717
     31MW003_1,  PRS2,     2, 13,      2,      2,2,19890109,2243, 22.7900,-158.0117, 4750,    754.7,   4.9232,  34.2912,2,-999.0000,9,     28.6,2,     28.7,2,  -999.00,9,  -999.00,9,  -999.00,9,    752,-999.000,  -999.0,  4.8623
     31MW003_1,  PRS2,     2, 13,      1,      1,2,19890109,2243, 22.7900,-158.0117, 4750,   1016.2,   3.9554,  34.4833,2,-999.0000,9,     41.2,2,   -999.0,5,  -999.00,9,  -999.00,9,  -999.00,9,   1010,-999.000,  -999.0,  3.8788
     31MW003_1,  PRS2,     2, 14,      3,      3,2,19890110,0414, 22.7900,-158.0233, 4750,     84.9,  24.5960,  35.0351,2,  35.0406,2,    238.8,1,   -999.0,9,  -999.00,9,  -999.00,9,  -999.00,9,     85,-999.000,  -999.0, 24.5779
     31MW003_1,  PRS2,     2, 14,      2,      2,2,19890110,0414, 22.7900,-158.0233, 4750,    163.4,  21.5752,  35.1375,2,  35.1517,2,    200.9,1,   -999.0,9,  -999.00,9,  -999.00,9,  -999.00,9,    163,-999.000,  -999.0, 21.5433
     31MW003_1,  PRS2,     2, 14,      1,      1,2,19890110,0414, 22.7900,-158.0233, 4750,    485.3,   8.2961,  34.1171,2,  34.1204,2,    143.7,1,   -999.0,9,  -999.00,9,  -999.00,9,  -999.00,9,    481,-999.000,  -999.0,  8.2457
     31MW003_1,  PRS2,     2, 15,      6,      6,2,19890110,0949, 22.7917,-158.0283, 4750,     54.4,  24.5574,  35.0340,2,  35.0414,2,    209.0,1,   -999.0,9,  -999.00,9,  -999.00,9,  -999.00,9,     57,-999.000,  -999.0, 24.5457
     31MW003_1,  PRS2,     2, 15,      5,      5,2,19890110,0949, 22.7917,-158.0283, 4750,     95.5,  24.5700,  35.0339,2,-999.0000,5,    208.5,1,   -999.0,9,  -999.00,9,  -999.00,9,  -999.00,9,     99,-999.000,  -999.0, 24.5496
     31MW003_1,  PRS2,     2, 15,      4,      4,2,19890110,0949, 22.7917,-158.0283, 4750,    120.3,  22.8749,  35.1010,2,-999.0000,5,    210.0,1,   -999.0,9,  -999.00,9,  -999.00,9,  -999.00,9,    122,-999.000,  -999.0, 22.8504
     31MW003_1,  PRS2,     2, 15,      3,      3,2,19890110,0949, 22.7917,-158.0283, 4750,    133.1,  22.1524,  35.1434,2,-999.0000,5,    209.3,1,   -999.0,9,  -999.00,9,  -999.00,9,  -999.00,9,    135,-999.000,  -999.0, 22.1259
     31MW003_1,  PRS2,     2, 15,      2,      2,2,19890110,0949, 22.7917,-158.0283, 4750,    152.9,  21.1003,  35.1289,2,  35.1337,2,    193.8,1,   -999.0,9,  -999.00,9,  -999.00,9,  -999.00,9,    153,-999.000,  -999.0, 21.0709
     31MW003_1,  PRS2,     2, 15,      1,      1,2,19890110,0949, 22.7917,-158.0283, 4750,    523.5,   7.3137,  34.0903,2,  34.0981,2,    116.4,1,   -999.0,9,  -999.00,9,  -999.00,9,  -999.00,9,    519,-999.000,  -999.0,  7.2630