BOTTLE,20020809WHPSIObren
#code : jjward hyd_to_exchange.pl 
#original files copied from HTML directory: 20020809
#original HYD file: /whpo/11/HOTS/BOTTLE/hot3/hot3.sea   Fri Aug  9 09:51:31 2002
#original SUM file: /whpo/11/HOTS/BOTTLE/hot3/hot3.sum   Fri Aug  9 13:30:33 2002
EXPOCODE,SECT_ID,STNNBR,CASTNO,SAMPNO,BTLNBR,BTLNBR_FLAG_W,DATE,TIME,LATITUDE,LONGITUDE,DEPTH,CTDPRS,CTDTMP,CTDSAL,CTDSAL_FLAG_W,SALNTY,SALNTY_FLAG_W,CTDOXY,CTDOXY_FLAG_W,OXYGEN,OXYGEN_FLAG_W,SILCAT,SILCAT_FLAG_W,NO2+NO3,NO2+NO3_FLAG_W,PHSPHT,PHSPHT_FLAG_W,CTDRAW,REVTMP,REVPRS,THETA
,,,,,,,,,,,,DBAR,IPTS-68,PSS-78,,PSS-78,,UMOL/KG,,UMOL/KG,,UMOL/KG,,UMOL/KG,,UMOL/KG,,,DEG C,DBAR,IPTS-68
     31MW003_1,  PRS2,     2,  1,     12,     12,2,19890108,0056, 22.7717,-157.9167, 4675,   2396.7,   1.7916,  34.6422,2,  34.6434,2,     98.2,2,    101.4,2,   160.74,2,    39.42,2,     2.79,2,   2396,-999.000,  -999.0,  1.6244
     31MW003_1,  PRS2,     2,  1,     11,     11,2,19890108,0056, 22.7717,-157.9167, 4675,   2575.1,   1.6854,  34.6524,2,  34.6537,2,    107.5,2,    110.2,2,   160.33,2,    38.72,2,     2.75,2,   2573,-999.000,  -999.0,  1.5043
     31MW003_1,  PRS2,     2,  1,     10,     10,2,19890108,0056, 22.7717,-157.9167, 4675,   2786.4,   1.5911,  34.6626,2,  34.6684,4,    118.2,3,    119.9,2,   159.94,2,    38.15,2,     2.71,2,   2787,-999.000,  -999.0,  1.3924
     31MW003_1,  PRS2,     2,  1,      9,      9,2,19890108,0056, 22.7717,-157.9167, 4675,   2987.6,   1.5388,  34.6698,2,  34.6708,2,    125.6,2,    126.6,2,   158.77,2,    37.73,2,     2.68,2,   2987,-999.000,  -999.0,  1.3224
     31MW003_1,  PRS2,     2,  1,      8,      8,2,19890108,0056, 22.7717,-157.9167, 4675,   3197.6,   1.4940,  34.6754,2,  34.6765,2,    133.9,2,    134.3,2,  -999.00,5,  -999.00,5,  -999.00,5,   3197,-999.000,  -999.0,  1.2582
     31MW003_1,  PRS2,     2,  1,      7,      7,2,19890108,0056, 22.7717,-157.9167, 4675,   3402.8,   1.4709,  34.6796,2,  34.6772,2,    140.1,2,    137.6,2,   156.80,2,    36.99,2,     2.59,2,   3401,-999.000,  -999.0,  1.2153
     31MW003_1,  PRS2,     2,  1,      6,      6,2,19890108,0056, 22.7717,-157.9167, 4675,   3590.0,   1.4546,  34.6829,2,  34.6830,2,    145.1,2,    143.6,2,   155.43,2,    36.57,2,     2.56,2,   3589,-999.000,  -999.0,  1.1804
     31MW003_1,  PRS2,     2,  1,      5,      5,2,19890108,0056, 22.7717,-157.9167, 4675,   3794.8,   1.4486,  34.6857,2,  34.6853,2,    150.1,2,    149.9,2,   152.49,2,    36.36,2,     2.56,2,   3793,-999.000,  -999.0,  1.1531
     31MW003_1,  PRS2,     2,  1,      4,      4,2,19890108,0056, 22.7717,-157.9167, 4675,   4003.6,   1.4532,  34.6875,2,  34.6830,3,    153.0,3,    150.0,2,   153.46,2,    36.25,2,     2.52,2,   4004,-999.000,  -999.0,  1.1352
     31MW003_1,  PRS2,     2,  1,      3,      3,2,19890108,0056, 22.7717,-157.9167, 4675,   4205.0,   1.4617,  34.6888,2,-999.0000,5,    156.6,2,   -999.0,5,  -999.00,5,  -999.00,5,  -999.00,5,   4205,-999.000,  -999.0,  1.1213
     31MW003_1,  PRS2,     2,  1,      2,      2,2,19890108,0056, 22.7717,-157.9167, 4675,   4403.3,   1.4767,  34.6895,2,  34.6888,2,    157.7,2,    155.7,2,   149.54,2,    36.20,2,     2.52,2,   4402,-999.000,  -999.0,  1.1135
     31MW003_1,  PRS2,     2,  1,      1,      1,2,19890108,0056, 22.7717,-157.9167, 4675,   4504.9,   1.4861,  34.6897,2,  34.6895,2,    158.6,2,    160.7,3,   148.95,2,    35.94,2,     2.53,2,   4505,-999.000,  -999.0,  1.1109
     31MW003_1,  PRS2,     2,  2,     12,     12,2,19890108,0519, 22.7733,-157.9200, 4750,     35.9,  24.7111,  35.0389,2,  35.0424,2,    216.5,2,    212.4,2,     1.33,2,     0.02,2,     0.09,2,     40,-999.000,  -999.0, 24.7034
     31MW003_1,  PRS2,     2,  2,     11,     11,2,19890108,0519, 22.7733,-157.9200, 4750,    204.9,  18.7976,  34.9949,2,  35.0019,2,    181.8,2,    187.5,2,     2.30,2,     3.41,2,     0.32,2,    207,-999.000,  -999.0, 18.7613
     31MW003_1,  PRS2,     2,  2,     10,     10,2,19890108,0519, 22.7733,-157.9200, 4750,    378.3,  10.5549,  34.1692,2,  34.1751,2,    171.8,2,    181.3,2,    18.41,2,    16.68,2,     1.26,2,    379,-999.000,  -999.0, 10.5095
     31MW003_1,  PRS2,     2,  2,      9,      9,2,19890108,0519, 22.7733,-157.9200, 4750,    598.6,   6.1687,  34.1017,2,  34.1039,2,     89.6,2,     77.0,2,    63.58,2,    34.80,2,     2.56,2,    599,-999.000,  -999.0,  6.1156
     31MW003_1,  PRS2,     2,  2,      8,      8,2,19890108,0519, 22.7733,-157.9200, 4750,    757.5,   4.8092,  34.2867,2,  34.2884,2,     30.3,2,     31.8,2,    93.62,2,    41.11,2,     3.04,2,    757,-999.000,  -999.0,  4.7488
     31MW003_1,  PRS2,     2,  2,      7,      7,2,19890108,0519, 22.7733,-157.9200, 4750,    928.8,   4.1944,  34.4448,2,  34.4463,2,     37.4,2,     41.1,2,   107.75,2,    41.63,2,     3.06,2,    928,-999.000,  -999.0,  4.1233
     31MW003_1,  PRS2,     2,  2,      6,      6,2,19890108,0519, 22.7733,-157.9200, 4750,   1148.5,   3.6658,  34.5150,2,  34.5152,2,     48.0,2,     51.6,2,   117.55,2,    41.52,2,     3.02,2,   1147,-999.000,  -999.0,  3.5805
     31MW003_1,  PRS2,     2,  2,      5,      5,2,19890108,0519, 22.7733,-157.9200, 4750,   1351.3,   3.1833,  34.5506,2,  34.5536,2,     57.0,2,     60.7,2,   126.97,2,    41.41,2,     3.00,2,   1351,-999.000,  -999.0,  3.0859
     31MW003_1,  PRS2,     2,  2,      4,      4,2,19890108,0519, 22.7733,-157.9200, 4750,   1600.2,   2.6935,  34.5815,2,  34.5818,2,     68.5,2,     73.2,2,   138.17,2,    40.89,2,     2.96,2,   1600,-999.000,  -999.0,  2.5809
     31MW003_1,  PRS2,     2,  2,      3,      3,2,19890108,0519, 22.7733,-157.9200, 4750,   1775.8,   2.4128,  34.5982,2,  34.5980,2,     75.8,2,     78.5,2,   143.07,2,    40.46,2,     2.90,2,   1774,-999.000,  -999.0,  2.2892
     31MW003_1,  PRS2,     2,  2,      2,      2,2,19890108,0519, 22.7733,-157.9200, 4750,   1926.6,   2.2174,  34.6097,2,-999.0000,5,     79.9,2,     84.4,2,   148.96,2,    40.26,2,     2.87,2,   1923,-999.000,  -999.0,  2.0840
     31MW003_1,  PRS2,     2,  2,      1,      1,2,19890108,0519, 22.7733,-157.9200, 4750,   2201.1,   1.9103,  34.6319,2,  34.6317,2,     91.1,2,     93.7,2,   156.81,2,    39.73,2,     2.82,2,   2198,-999.000,  -999.0,  1.7582
     31MW003_1,  PRS2,     2,  3,     12,     12,2,19890108,0939, 22.7717,-157.9267, 4600,     19.7,  24.6773,  35.0361,2,  35.0370,2,    222.3,2,    209.3,2,     0.93,2,     0.02,2,     0.09,2,     25,-999.000,  -999.0, 24.6730
     31MW003_1,  PRS2,     2,  3,     11,     11,2,19890108,0939, 22.7717,-157.9267, 4600,    118.8,  22.9668,  35.1032,2,  35.1083,2,    215.8,2,    203.8,2,     1.91,2,     0.38,2,     0.13,2,    123,-999.000,  -999.0, 22.9425
     31MW003_1,  PRS2,     2,  3,     10,     10,2,19890108,0939, 22.7717,-157.9267, 4600,    186.0,  19.8478,  35.0736,2,  35.0739,2,    188.6,2,    185.3,2,     1.91,2,     2.75,2,     0.30,2,    188,-999.000,  -999.0, 19.8136
     31MW003_1,  PRS2,     2,  3,      9,      9,2,19890108,0939, 22.7717,-157.9267, 4600,    252.9,  16.2421,  34.6995,2,  34.7105,2,    186.6,2,    193.1,2,     4.27,2,     5.20,2,     0.46,2,    253,-999.000,  -999.0, 16.2017
     31MW003_1,  PRS2,     2,  3,      8,      8,2,19890108,0939, 22.7717,-157.9267, 4600,    334.2,  12.2385,  34.2838,2,  34.2849,2,    174.8,2,    182.3,2,    13.10,2,    13.00,2,     1.02,2,    335,-999.000,  -999.0, 12.1944
     31MW003_1,  PRS2,     2,  3,      7,      7,2,19890108,0939, 22.7717,-157.9267, 4600,    384.7,  10.4801,  34.1816,2,  34.1821,2,    165.5,2,    172.3,2,    19.59,2,    17.59,2,     1.34,2,    384,-999.000,  -999.0, 10.4342
     31MW003_1,  PRS2,     2,  3,      6,      6,2,19890108,0939, 22.7717,-157.9267, 4600,    436.6,   9.2014,  34.1244,2,  34.1254,2,    165.5,2,    166.3,2,    26.86,2,    20.96,2,     1.55,2,    435,-999.000,  -999.0,  9.1532
     31MW003_1,  PRS2,     2,  3,      5,      5,2,19890108,0939, 22.7717,-157.9267, 4600,    504.2,   7.5044,  34.0951,2,  34.0938,2,    123.2,2,    116.8,2,    45.51,2,    28.69,2,     2.14,2,    502,-999.000,  -999.0,  7.4549
     31MW003_1,  PRS2,     2,  3,      4,      4,2,19890108,0939, 22.7717,-157.9267, 4600,    549.5,   6.6911,  34.0781,2,  34.0760,2,    106.3,2,    100.2,2,    54.94,2,    31.85,2,     2.35,2,    548,-999.000,  -999.0,  6.6404
     31MW003_1,  PRS2,     2,  3,      3,      3,2,19890108,0939, 22.7717,-157.9267, 4600,    596.9,   5.9615,  34.1202,2,  34.1198,2,     76.5,2,     68.5,2,    68.29,2,    36.01,2,     2.68,2,    595,-999.000,  -999.0,  5.9095
     31MW003_1,  PRS2,     2,  3,      2,      2,2,19890108,0939, 22.7717,-157.9267, 4600,    710.8,   5.0777,  34.2557,2,  34.2533,2,     36.7,2,     33.4,2,    88.12,2,    40.38,2,     3.00,2,    707,-999.000,  -999.0,  5.0198
     31MW003_1,  PRS2,     2,  3,      1,      1,2,19890108,0939, 22.7717,-157.9267, 4600,   1016.4,   3.9710,  34.4744,2,  34.4755,2,     43.0,2,     45.1,2,   111.67,2,    41.61,2,     3.04,2,   1010,-999.000,  -999.0,  3.8943
     31MW003_1,  PRS2,     2,  4,     10,     10,2,19890108,1328, 22.7633,-157.9500, 4600,      4.9,  24.6509,  35.0319,2,-999.0000,5,    222.3,2,    209.5,2,     0.93,2,     0.02,2,     0.07,2,      9,-999.000,  -999.0, 24.6498
     31MW003_1,  PRS2,     2,  4,      9,      9,2,19890108,1328, 22.7633,-157.9500, 4600,     22.8,  24.6506,  35.0323,2,-999.0000,5,    222.3,2,    208.2,2,     0.93,2,     0.04,2,     0.07,2,     28,-999.000,  -999.0, 24.6457
     31MW003_1,  PRS2,     2,  4,      8,      8,2,19890108,1328, 22.7633,-157.9500, 4600,     43.3,  24.6620,  35.0321,2,  35.0317,2,    222.4,2,    208.0,2,     1.33,2,     0.02,2,     0.07,2,     50,-999.000,  -999.0, 24.6527
     31MW003_1,  PRS2,     2,  4,      7,      7,2,19890108,1328, 22.7633,-157.9500, 4600,     72.7,  24.6651,  35.0318,2,-999.0000,5,    222.5,2,    208.4,2,     1.13,2,     0.04,2,     0.07,2,     77,-999.000,  -999.0, 24.6495
     31MW003_1,  PRS2,     2,  4,      6,      6,2,19890108,1328, 22.7633,-157.9500, 4600,     97.7,  24.6700,  35.0321,2,-999.0000,5,    222.5,2,    208.4,2,     1.23,2,     0.04,2,     0.09,2,    101,-999.000,  -999.0, 24.6490
     31MW003_1,  PRS2,     2,  4,      5,      5,2,19890108,1328, 22.7633,-157.9500, 4600,    122.2,  23.9860,  35.0639,2,-999.0000,5,    222.4,2,    206.8,2,     0.73,2,     0.11,2,     0.12,2,    126,-999.000,  -999.0, 23.9603
     31MW003_1,  PRS2,     2,  4,      4,      4,2,19890108,1328, 22.7633,-157.9500, 4600,    146.8,  22.5308,  35.1315,2,-999.0000,5,    208.2,2,    199.1,2,     0.93,2,     0.61,2,     0.16,2,    149,-999.000,  -999.0, 22.5013
     31MW003_1,  PRS2,     2,  4,      3,      3,2,19890108,1328, 22.7633,-157.9500, 4600,    176.8,  21.1149,  35.1369,2,  35.1376,2,    192.7,2,    190.4,2,     1.52,2,     1.49,2,     0.21,2,    178,-999.000,  -999.0, 21.0809
     31MW003_1,  PRS2,     2,  4,      2,      2,2,19890108,1328, 22.7633,-157.9500, 4600,    528.3,   7.1890,  34.0894,2,  34.0908,2,    119.0,2,   -999.0,5,  -999.00,5,  -999.00,5,  -999.00,5,    524,-999.000,  -999.0,  7.1383
     31MW003_1,  PRS2,     2,  4,      1,      1,2,19890108,1328, 22.7633,-157.9500, 4600,   1013.0,   3.9872,  34.4738,2,  34.4748,2,     42.2,2,   -999.0,5,  -999.00,5,  -999.00,5,  -999.00,5,   1008,-999.000,  -999.0,  3.9106
     31MW003_1,  PRS2,     2,  5,     12,     12,2,19890108,2007, 22.7833,-157.9450, 4600,      3.7,  24.6240,  35.0244,2,-999.0000,9,    200.0,1,   -999.0,9,  -999.00,9,  -999.00,9,  -999.00,9,      6,-999.000,  -999.0, 24.6232
     31MW003_1,  PRS2,     2,  5,     11,     11,2,19890108,2007, 22.7833,-157.9450, 4600,     17.7,  24.6263,  35.0247,2,-999.0000,9,    199.4,1,   -999.0,9,  -999.00,9,  -999.00,9,  -999.00,9,     22,-999.000,  -999.0, 24.6225
     31MW003_1,  PRS2,     2,  5,     10,     10,2,19890108,2007, 22.7833,-157.9450, 4600,     37.9,  24.6279,  35.0249,2,-999.0000,9,    198.8,1,   -999.0,9,  -999.00,9,  -999.00,9,  -999.00,9,     43,-999.000,  -999.0, 24.6198
     31MW003_1,  PRS2,     2,  5,      9,      9,2,19890108,2007, 22.7833,-157.9450, 4600,     57.4,  24.6317,  35.0253,2,-999.0000,9,    198.1,1,   -999.0,9,  -999.00,9,  -999.00,9,  -999.00,9,     60,-999.000,  -999.0, 24.6194
     31MW003_1,  PRS2,     2,  5,      8,      8,2,19890108,2007, 22.7833,-157.9450, 4600,     78.1,  24.6352,  35.0249,2,-999.0000,9,    197.5,1,   -999.0,9,  -999.00,9,  -999.00,9,  -999.00,9,     80,-999.000,  -999.0, 24.6185
     31MW003_1,  PRS2,     2,  5,      7,      7,2,19890108,2007, 22.7833,-157.9450, 4600,     97.1,  24.6188,  35.0260,2,-999.0000,9,    210.4,1,   -999.0,9,  -999.00,9,  -999.00,9,  -999.00,9,     99,-999.000,  -999.0, 24.5980
     31MW003_1,  PRS2,     2,  5,      6,      6,2,19890108,2007, 22.7833,-157.9450, 4600,    117.1,  23.0680,  35.1030,2,-999.0000,9,    207.7,1,   -999.0,9,  -999.00,9,  -999.00,9,  -999.00,9,    121,-999.000,  -999.0, 23.0441
     31MW003_1,  PRS2,     2,  5,      5,      5,2,19890108,2007, 22.7833,-157.9450, 4600,    139.0,  21.8504,  35.1513,2,-999.0000,9,    197.7,1,   -999.0,9,  -999.00,9,  -999.00,9,  -999.00,9,    143,-999.000,  -999.0, 21.8230
     31MW003_1,  PRS2,     2,  5,      4,      4,2,19890108,2007, 22.7833,-157.9450, 4600,    147.9,  21.8025,  35.1571,2,-999.0000,9,    197.6,1,   -999.0,9,  -999.00,9,  -999.00,9,  -999.00,9,    151,-999.000,  -999.0, 21.7735
     31MW003_1,  PRS2,     2,  5,      3,      3,2,19890108,2007, 22.7833,-157.9450, 4600,    161.7,  21.0489,  35.1258,2,-999.0000,9,    189.8,1,   -999.0,9,  -999.00,9,  -999.00,9,  -999.00,9,    164,-999.000,  -999.0, 21.0179
     31MW003_1,  PRS2,     2,  5,      2,      2,2,19890108,2007, 22.7833,-157.9450, 4600,    181.3,  20.0444,  35.0788,2,-999.0000,9,    184.4,1,   -999.0,9,  -999.00,9,  -999.00,9,  -999.00,9,    184,-999.000,  -999.0, 20.0109
     31MW003_1,  PRS2,     2,  5,      1,      1,2,19890108,2007, 22.7833,-157.9450, 4600,    227.3,  17.6627,  34.8728,2,-999.0000,9,    182.4,1,   -999.0,9,  -999.00,9,  -999.00,9,  -999.00,9,    227,-999.000,  -999.0, 17.6241
     31MW003_1,  PRS2,     2,  6,     12,     12,2,19890108,2250, 22.7867,-157.9717, 4600,      2.8,  24.6301,  35.0257,2,  35.0316,2,    211.7,1,   -999.0,9,     0.93,2,     0.02,2,     0.07,2,      5,-999.000,  -999.0, 24.6295
     31MW003_1,  PRS2,     2,  6,     11,     11,2,19890108,2250, 22.7867,-157.9717, 4600,     18.4,  24.6297,  35.0262,2,-999.0000,5,    213.8,1,   -999.0,9,     0.93,2,     0.00,2,     0.07,2,     22,-999.000,  -999.0, 24.6258
     31MW003_1,  PRS2,     2,  6,     10,     10,2,19890108,2250, 22.7867,-157.9717, 4600,     38.2,  24.6328,  35.0273,2,  35.0292,2,    215.6,1,   -999.0,9,     1.13,2,     0.02,2,     0.07,2,     42,-999.000,  -999.0, 24.6246
     31MW003_1,  PRS2,     2,  6,      9,      9,2,19890108,2250, 22.7867,-157.9717, 4600,     56.7,  24.6372,  35.0273,2,-999.0000,5,    217.4,1,   -999.0,9,     1.33,2,     0.04,2,     0.07,2,     60,-999.000,  -999.0, 24.6250
     31MW003_1,  PRS2,     2,  6,      8,      8,2,19890108,2250, 22.7867,-157.9717, 4600,     79.4,  24.6411,  35.0273,2,-999.0000,5,    218.9,1,   -999.0,9,     1.13,2,     0.04,2,     0.09,2,     85,-999.000,  -999.0, 24.6241
     31MW003_1,  PRS2,     2,  6,      7,      7,2,19890108,2250, 22.7867,-157.9717, 4600,     96.6,  24.2463,  35.0536,2,-999.0000,5,    216.8,1,   -999.0,9,     1.13,2,     0.10,2,     0.10,2,    101,-999.000,  -999.0, 24.2258
     31MW003_1,  PRS2,     2,  6,      6,      6,2,19890108,2250, 22.7867,-157.9717, 4600,    117.5,  22.4823,  35.1308,2,-999.0000,5,    207.5,1,   -999.0,9,     0.93,2,     0.49,2,     0.14,2,    124,-999.000,  -999.0, 22.4587
     31MW003_1,  PRS2,     2,  6,      5,      5,2,19890108,2250, 22.7867,-157.9717, 4600,    139.2,  21.6190,  35.1521,2,-999.0000,5,    198.2,1,   -999.0,9,     1.13,2,     1.02,2,     0.18,2,    143,-999.000,  -999.0, 21.5918
     31MW003_1,  PRS2,     2,  6,      4,      4,2,19890108,2250, 22.7867,-157.9717, 4600,    151.6,  20.9569,  35.1226,2,  35.1232,2,    191.4,1,   -999.0,9,     1.91,2,     1.81,2,     0.24,2,    157,-999.000,  -999.0, 20.9279
     31MW003_1,  PRS2,     2,  6,      3,      3,2,19890108,2250, 22.7867,-157.9717, 4600,    163.4,  20.4608,  35.1119,2,-999.0000,5,    188.4,1,   -999.0,9,     1.72,2,     2.09,2,     0.27,2,    166,-999.000,  -999.0, 20.4301
     31MW003_1,  PRS2,     2,  6,      2,      2,2,19890108,2250, 22.7867,-157.9717, 4600,    186.7,  19.1337,  35.0264,2,-999.0000,5,    184.3,1,   -999.0,9,     3.09,2,     3.20,2,     0.34,2,    188,-999.000,  -999.0, 19.1002
     31MW003_1,  PRS2,     2,  6,      1,      1,2,19890108,2250, 22.7867,-157.9717, 4600,    230.8,  17.1285,  34.7992,2,-999.0000,5,    185.9,1,   -999.0,9,     3.78,2,     4.60,2,     0.43,2,    229,-999.000,  -999.0, 17.0902
     31MW003_1,  PRS2,     2,  7,     12,     12,2,19890109,0157, 22.7917,-157.9500, 4600,    201.3,  19.6900,  35.0691,2,  35.0667,2,    181.9,1,   -999.0,9,     2.30,2,     2.82,2,     0.32,2,    202,-999.000,  -999.0, 19.6531
     31MW003_1,  PRS2,     2,  7,     11,     11,2,19890109,0157, 22.7917,-157.9500, 4600,    251.0,  16.6947,  34.7522,2,-999.0000,5,    185.6,1,   -999.0,9,     4.27,2,     5.16,2,     0.47,2,    250,-999.000,  -999.0, 16.6538
     31MW003_1,  PRS2,     2,  7,     10,     10,2,19890109,0157, 22.7917,-157.9500, 4600,    278.0,  15.3035,  34.6029,2,-999.0000,5,    194.2,1,   -999.0,9,     5.26,2,     5.72,2,     0.51,2,    277,-999.000,  -999.0, 15.2608
     31MW003_1,  PRS2,     2,  7,      9,      9,2,19890109,0157, 22.7917,-157.9500, 4600,    304.3,  14.0151,  34.4449,2,-999.0000,5,    190.5,1,   -999.0,9,     7.21,2,     7.71,2,     0.64,2,    302,-999.000,  -999.0, 13.9712
     31MW003_1,  PRS2,     2,  7,      8,      8,2,19890109,0157, 22.7917,-157.9500, 4600,    353.1,  11.4264,  34.2161,2,-999.0000,5,    178.8,1,   -999.0,9,    15.07,2,    14.22,2,     1.11,2,    350,-999.000,  -999.0, 11.3818
     31MW003_1,  PRS2,     2,  7,      7,      7,2,19890109,0157, 22.7917,-157.9500, 4600,    403.8,   9.5729,  34.1359,2,-999.0000,5,    164.9,1,   -999.0,9,    24.30,2,    19.55,2,     1.49,2,    401,-999.000,  -999.0,  9.5273
     31MW003_1,  PRS2,     2,  7,      6,      6,2,19890109,0157, 22.7917,-157.9500, 4600,    505.0,   7.3961,  34.0971,2,  34.0951,2,    120.9,1,   -999.0,9,    46.89,2,    28.90,2,     2.14,2,    501,-999.000,  -999.0,  7.3469
     31MW003_1,  PRS2,     2,  7,      5,      5,2,19890109,0157, 22.7917,-157.9500, 4600,    605.8,   5.8765,  34.1284,2,-999.0000,5,     72.7,1,   -999.0,9,    70.06,2,    36.17,2,     2.69,2,    600,-999.000,  -999.0,  5.8241
     31MW003_1,  PRS2,     2,  7,      4,      4,2,19890109,0157, 22.7917,-157.9500, 4600,    705.5,   5.0557,  34.2261,2,-999.0000,5,     33.1,1,   -999.0,9,    88.71,2,    40.58,2,     3.04,2,    701,-999.000,  -999.0,  4.9984
     31MW003_1,  PRS2,     2,  7,      3,      3,2,19890109,0157, 22.7917,-157.9500, 4600,    808.3,   4.7333,  34.3525,2,-999.0000,5,     27.4,1,   -999.0,9,  -999.00,5,  -999.00,5,  -999.00,5,    803,-999.000,  -999.0,  4.6689
     31MW003_1,  PRS2,     2,  7,      2,      2,2,19890109,0157, 22.7917,-157.9500, 4600,    906.4,   4.3932,  34.4245,2,-999.0000,5,     30.9,1,   -999.0,9,   100.87,2,    41.63,2,     3.08,2,    901,-999.000,  -999.0,  4.3226
     31MW003_1,  PRS2,     2,  7,      1,      1,2,19890109,0157, 22.7917,-157.9500, 4600,   1021.7,   4.0663,  34.4844,2,-999.0000,5,     40.4,1,   -999.0,9,   106.56,3,    41.56,2,     3.06,2,   1015,-999.000,  -999.0,  3.9884