BOTTLE,20081205PRINUNIVRMKPRINUNIVRMK
# 9/28/07 file initialized 
# Data from M. Ishii 1/22/07 
# Ship: Hakuho-Maru 
# Cruise: KH01_3 
# Dates:12/8/2001-1/10/2002 
# EXPOCODE 49HH20011208 
# Region:S.O. ~140E from 65-45S  and 160W from 45-0S 
# Chief Scientist:??? 
# 18 stations;  with 24 place Rosette 
# Hydro: Who - ???; Status - final 
# 	Notes: 	 
# Nuts/O2: Who - ???; Status - final 
# 	Notes: Included ammonium 
# TCO2: Who - M. Ishii; Status - final 
# 	Notes: CRM used  
# Other: Chloroa 
EXPOCODE,STNNBR,CASTNO,SAMPNO,BTLNBR,BTLNBR_FLAG_W,DATE,TIME,LATITUDE,LONGITUDE,DEPTH,CTDPRS,CTDTMP,CTDSAL,CTDSAL_FLAG_W,SALNTY,SALNTY_FLAG_W,CTDOXY,CTDOXY_FLAG_W,OXYGEN,OXYGEN_FLAG_W,SILCAT,SILCAT_FLAG_W,NITRAT,NITRAT_FLAG_W,NITRIT,NITRIT_FLAG_W,PHSPHT,PHSPHT_FLAG_W,AMMONI,AMMONI_FLAG_W,TCARBN,TCARBN_FLAG_W,CHLORA,CHLORA_FLAG_W,THETA
,,,,,,,,,,METERS,DBARS,ITS-90,PSS-78,,PSS-78,,UMOL/KG,,UMOL/KG,,UMOL/KG,,UMOL/KG,,UMOL/KG,,UMOL/KG,,UMOL/KG,,UMOL/KG,,UG/L,,DEGC
  49HH20011208,     1,  1,      0,      0,2,20011208,1910,  0.0008,-159.9988, 5137,      1.0,  27.3000,-999.0000,9,  35.3550,2,   -999.0,9,    185.7,2,     1.85,2,     4.88,2,     0.48,2,     0.53,2,     0.05,2,   -999.0,9,     0.30,2,   27.2997687
  49HH20011208,     1,  1,     20,     20,2,20011208,1910,  0.0008,-159.9988, 5137,     10.0,  26.8710,  35.3402,2,  35.3520,2,    188.8,2,    186.3,2,     2.05,2,     4.88,2,     0.47,2,     0.53,2,     0.07,2,   2023.7,2,     0.29,2,   26.8687132
  49HH20011208,     1,  1,     13,     13,2,20011208,1910,  0.0008,-159.9988, 5137,     21.0,  26.8338,  35.3394,2,  35.3470,2,    188.0,2,    184.6,2,     1.85,2,     4.88,2,     0.47,2,     0.52,2,     0.05,2,   2023.3,2,     0.32,2,   26.8290023
  49HH20011208,     1,  1,     18,     18,2,20011208,1910,  0.0008,-159.9988, 5137,     31.0,  26.8256,  35.3393,2,  35.3480,2,    187.9,2,    184.6,2,     1.95,2,     4.88,2,     0.47,2,     0.52,2,     0.05,2,   2023.1,2,     0.32,2,   26.8185185
  49HH20011208,     1,  1,     17,     17,2,20011208,1910,  0.0008,-159.9988, 5137,     41.0,  26.7968,  35.3371,2,  35.3440,2,    186.7,2,    184.1,2,     2.05,2,     4.98,2,     0.45,2,     0.52,2,     0.05,2,   2023.7,2,     0.45,2,   26.7874408
  49HH20011208,     1,  1,     16,     16,2,20011208,1910,  0.0008,-159.9988, 5137,     51.0,  26.6606,  35.3277,2,  35.3370,2,    182.6,2,    180.9,2,     2.15,2,     5.27,2,     0.42,2,     0.54,2,     0.07,2,   2027.8,2,     0.36,2,   26.6490008
  49HH20011208,     1,  1,     15,     15,2,20011208,1910,  0.0008,-159.9988, 5137,     61.0,  26.5509,  35.3206,2,  34.4340,0,    178.2,2,    177.8,2,     1.76,2,     5.47,2,     0.41,2,     0.54,2,     0.06,2,   2029.9,2,     0.35,2,   26.5370678
  49HH20011208,     1,  1,     14,     14,2,20011208,1910,  0.0008,-159.9988, 5137,     71.0,  26.3972,  35.3136,2,  35.3220,2,    173.3,2,    169.4,2,     2.15,2,     5.76,2,     0.39,2,     0.57,2,     0.09,2,   2031.6,2,     0.95,3,    26.381167
  49HH20011208,     1,  1,     19,     19,2,20011208,1910,  0.0008,-159.9988, 5137,     79.0,  26.3429,  35.3121,2,  35.3240,2,    172.0,2,    170.1,2,     2.15,2,     5.86,2,     0.38,2,     0.57,2,     0.07,2,   2032.1,2,     0.25,2,   26.3250858
  49HH20011208,     1,  1,     12,     12,2,20011208,1910,  0.0008,-159.9988, 5137,    101.0,  26.0480,  35.3390,2,  34.8990,0,    163.1,2,    164.4,2,     2.44,2,     6.64,2,     0.27,2,     0.61,2,     0.05,2,   2042.7,2,     0.17,2,   26.0254057
  49HH20011208,     1,  1,     11,     11,2,20011208,1910,  0.0008,-159.9988, 5137,    126.0,  22.0450,  35.0400,2,  34.6810,0,    134.4,2,    129.3,2,     5.86,2,     9.57,2,     0.03,2,     0.71,2,     0.05,2,   2070.8,2,     0.04,2,   22.0200452
  49HH20011208,     1,  1,     10,     10,2,20011208,1910,  0.0008,-159.9988, 5137,    152.0,  20.2237,  35.3803,2,  35.3880,2,    128.1,2,    130.0,2,     5.27,2,    11.42,2,     0.02,2,     0.85,2,     0.07,2,   2104.4,2,     0.02,2,   20.1953261
  49HH20011208,     1,  1,      9,      9,2,20011208,1910,  0.0008,-159.9988, 5137,    201.0,  14.7999,  35.1098,2,  35.1590,2,    133.9,2,    128.1,2,    10.15,2,    16.60,2,     0.02,2,     1.19,2,     0.05,2,   2142.5,2,     0.00,2,   14.7696898
  49HH20011208,     1,  1,      8,      8,2,20011208,1910,  0.0008,-159.9988, 5137,    251.0,  12.6593,  34.9091,2,  34.9130,2,    120.8,2,    116.6,2,    17.48,2,    21.38,2,     0.02,2,     1.49,2,     0.05,2,   2167.8,2,     0.00,2,   12.6253358
  49HH20011208,     1,  1,      7,      7,2,20011208,1910,  0.0008,-159.9988, 5137,    301.0,  11.8196,  34.8504,2,  34.8580,2,     98.3,2,     95.7,2,    20.80,2,    24.80,2,     0.02,2,     1.71,2,     0.05,2,   2188.9,2,  -999.00,9,   11.7806029
  49HH20011208,     1,  1,      6,      6,2,20011208,1910,  0.0008,-159.9988, 5137,    401.0,   9.9676,  34.7321,2,  34.7390,2,     65.6,2,     66.4,2,    27.54,2,    31.15,2,     0.02,2,     2.10,2,     0.07,2,   2226.4,2,  -999.00,9,   9.92082445
  49HH20011208,     1,  1,      5,      5,2,20011208,1910,  0.0008,-159.9988, 5137,    501.0,   8.6111,  34.6449,2,  34.6470,2,     34.2,2,     36.1,2,    39.75,2,    36.92,2,     0.02,2,     2.53,2,     0.05,2,   2264.0,2,  -999.00,9,   8.55739301
  49HH20011208,     1,  1,      4,      4,2,20011208,1910,  0.0008,-159.9988, 5137,    601.0,   7.0517,  34.5788,2,  34.5820,2,     58.2,2,     61.3,2,    48.15,2,    37.50,2,     0.02,2,     2.60,2,     0.05,2,   2267.2,2,  -999.00,9,    6.9939082
  49HH20011208,     1,  1,      3,      3,2,20011208,1910,  0.0008,-159.9988, 5137,    701.0,   6.1037,  34.5518,2,  34.5550,2,     72.2,2,     72.7,2,    57.82,2,    37.80,2,     0.02,2,     2.63,2,     0.05,2,   2273.3,2,  -999.00,9,   6.04084979
  49HH20011208,     1,  1,      2,      2,2,20011208,1910,  0.0008,-159.9988, 5137,    801.0,   5.3150,  34.5431,2,  34.5510,2,     80.4,2,     80.7,2,    69.93,2,    38.19,2,     0.02,2,     2.68,2,     0.05,2,   2282.7,2,  -999.00,9,   5.24742222
  49HH20011208,     1,  1,      1,      1,2,20011208,1910,  0.0008,-159.9988, 5137,   1003.0,   4.4400,  34.5551,2,  34.5490,2,     89.7,2,     89.1,2,    86.14,2,    38.19,2,     0.02,2,     2.69,2,     0.05,2,   2292.7,2,  -999.00,9,   4.36061556
  49HH20011208,     1,  2,      9,      9,2,20011208,1114,  0.0008,-159.9988, 5137,   1251.0,   3.5777,  34.5814,2,  34.5930,2,     85.3,2,     85.8,2,   107.53,2,    38.97,2,     0.02,2,     2.72,2,     0.07,2,   2320.7,2,  -999.00,9,    3.4845463
  49HH20011208,     1,  2,      8,      8,2,20011208,1114,  0.0008,-159.9988, 5137,   1499.0,   3.0990,  34.5987,2,  34.6090,2,     92.5,2,     92.5,2,   117.68,2,    38.67,2,     0.02,2,     2.65,2,     0.05,2,   2327.5,2,  -999.00,9,   2.99001149
  49HH20011208,     1,  2,      7,      7,2,20011208,1114,  0.0008,-159.9988, 5137,   1999.0,   2.2789,  34.6385,2,  34.6490,2,    104.2,2,    112.0,2,   138.68,2,    38.09,2,     0.02,2,     2.67,2,     0.05,2,   2342.3,2,  -999.00,9,   2.13823018
  49HH20011208,     1,  2,      6,      6,2,20011208,1114,  0.0008,-159.9988, 5137,   2500.0,   1.9003,  34.6597,2,  34.6690,2,    117.1,2,    117.5,2,   146.59,2,    37.31,2,     0.02,2,     2.57,2,     0.05,2,   2343.5,2,  -999.00,9,   1.72177307
  49HH20011208,     1,  2,      5,      5,2,20011208,1114,  0.0008,-159.9988, 5137,   2998.0,   1.6733,  34.6713,2,  34.6790,2,    132.0,2,    132.5,2,   146.19,2,    36.43,2,     0.02,2,     2.50,2,     0.11,2,   2335.5,2,  -999.00,9,   1.45282394
  49HH20011208,     1,  2,      4,      4,2,20011208,1114,  0.0008,-159.9988, 5137,   3499.0,   1.5370,  34.6807,2,  34.6830,2,    146.3,2,    133.3,2,   143.56,2,    35.55,2,     0.02,2,     2.41,2,     0.12,2,   2326.8,2,  -999.00,9,   1.26997058
  49HH20011208,     1,  2,      3,      3,2,20011208,1114,  0.0008,-159.9988, 5137,   4000.0,   1.4259,  34.6904,2,  34.7030,2,    160.7,2,    156.5,2,   141.21,2,    34.67,2,     0.02,2,     2.28,2,     0.05,2,   2316.4,2,  -999.00,9,   1.10890524
  49HH20011208,     1,  2,      2,      2,2,20011208,1114,  0.0008,-159.9988, 5137,   4500.0,   1.2744,  34.6996,2,  34.7110,2,    184.1,2,    175.6,2,   130.47,2,    33.20,2,     0.02,2,     2.25,2,     0.05,2,   2292.1,2,  -999.00,9,  0.906198165
  49HH20011208,     1,  2,      1,      1,2,20011208,1114,  0.0008,-159.9988, 5137,   5181.0,   1.2374,  34.7038,2,  34.7170,2,    200.1,2,    186.2,2,   124.61,2,    32.32,2,     0.02,2,     2.09,2,     0.05,2,   2276.7,2,  -999.00,9,  0.789784977
  49HH20011208,     2,  1,      0,      0,2,20011210,1028, -5.0042,-160.0048, 5149,      1.0,  28.1000,-999.0000,9,  35.4660,2,   -999.0,9,    190.7,2,     1.56,2,     4.00,2,     0.18,2,     0.47,2,     0.24,2,   2014.5,2,     0.19,2,   28.0997636
  49HH20011208,     2,  1,     18,     18,2,20011210,1028, -5.0042,-160.0048, 5149,     10.0,  27.9681,  35.5350,2,  35.4110,2,    190.8,2,    187.3,2,     1.56,2,     4.00,2,     0.18,2,     0.47,2,     0.18,2,   2017.7,2,     0.17,2,   27.9657442
  49HH20011208,     2,  1,     17,     17,2,20011210,1028, -5.0042,-160.0048, 5149,     20.0,  27.9632,  35.5332,2,  35.5420,2,    190.8,2,    186.3,2,     1.66,2,     4.00,2,     0.18,2,     0.47,2,     0.18,2,   2015.8,2,     0.22,2,   27.9584868
  49HH20011208,     2,  1,     16,     16,2,20011210,1028, -5.0042,-160.0048, 5149,     31.0,  27.9654,  35.5333,2,  35.5420,2,    191.2,2,    187.4,2,     1.56,2,     4.00,2,     0.17,2,     0.47,2,     0.24,2,   2016.0,2,     0.18,2,   27.9580934
  49HH20011208,     2,  1,     15,     15,2,20011210,1028, -5.0042,-160.0048, 5149,     40.0,  27.9686,  35.5331,2,  35.5410,2,    190.4,2,    184.4,2,     1.56,2,     4.00,2,     0.17,2,     0.47,2,     0.25,2,   2015.5,2,     0.19,2,   27.9591706
  49HH20011208,     2,  1,     14,     14,2,20011210,1028, -5.0042,-160.0048, 5149,     51.0,  27.9431,  35.5252,2,  35.5350,2,    188.1,2,    182.9,2,     1.56,2,     4.00,2,     0.19,2,     0.47,2,     0.22,2,   2016.9,2,     0.19,2,   27.9310848
  49HH20011208,     2,  1,     13,     13,2,20011210,1028, -5.0042,-160.0048, 5149,     71.0,  27.9214,  35.5961,2,  35.6070,2,    186.9,2,    187.1,2,     1.66,2,     4.00,2,     0.14,2,     0.44,2,     0.29,2,   2016.1,2,     0.17,2,   27.9046761
  49HH20011208,     2,  1,     12,     12,2,20011210,1028, -5.0042,-160.0048, 5149,    100.0,  27.8221,  35.6006,2,  35.6110,2,    185.6,2,    184.0,2,     1.76,2,     4.00,2,     0.16,2,     0.49,2,      0.3,2,   2019.4,2,     0.14,2,   27.7986009
  49HH20011208,     2,  1,     11,     11,2,20011210,1028, -5.0042,-160.0048, 5149,    150.0,  25.9538,  35.8352,2,  35.7770,2,    155.7,2,    155.5,2,     1.85,2,     6.73,2,     0.47,2,     0.63,2,     0.05,2,   2056.1,2,     0.09,2,   25.9202639
  49HH20011208,     2,  1,     10,     10,2,20011210,1028, -5.0042,-160.0048, 5149,    201.0,  17.0289,  35.3385,2,  35.3440,2,    117.5,2,    111.1,2,     5.95,2,    13.28,2,     0.02,2,     1.14,2,     0.05,2,   2143.3,2,     0.01,2,   16.9956001
  49HH20011208,     2,  1,      9,      9,2,20011210,1028, -5.0042,-160.0048, 5149,    301.0,  10.5388,  34.7915,2,  34.7910,2,     93.4,2,     91.7,2,    21.87,2,    27.15,2,     0.02,2,     1.90,2,     0.16,2,   2201.8,2,     0.00,2,   10.5025962
  49HH20011208,     2,  1,      8,      8,2,20011210,1028, -5.0042,-160.0048, 5149,    400.0,   8.9762,  34.6755,2,  34.6710,2,     75.3,2,     69.9,2,    29.79,2,    32.03,2,     0.02,2,     2.22,2,     0.05,2,   2229.9,2,  -999.00,9,   8.93248174
  49HH20011208,     2,  1,      7,      7,2,20011210,1028, -5.0042,-160.0048, 5149,    500.0,   7.9526,  34.6181,2,  34.6150,2,     68.0,2,     65.6,2,    36.82,2,    35.06,2,     0.02,2,     2.34,2,     0.05,2,   2244.6,2,  -999.00,9,   7.90146385
  49HH20011208,     2,  1,      6,      6,2,20011210,1028, -5.0042,-160.0048, 5149,    601.0,   6.7774,  34.5673,2,  34.5700,2,     70.5,2,     67.1,2,    46.98,2,    37.31,2,     0.02,2,     2.58,2,     0.05,2,   2260.2,2,  -999.00,9,   6.72085779
  49HH20011208,     2,  1,      5,      5,2,20011210,1028, -5.0042,-160.0048, 5149,    801.0,   5.7787,  34.5406,2,  34.5410,2,     83.2,2,     78.5,2,    57.04,2,    37.41,2,     0.02,2,     2.58,2,     0.08,2,   2267.3,2,  -999.00,9,   5.70831353
  49HH20011208,     2,  1,      4,      4,2,20011210,1028, -5.0042,-160.0048, 5149,   1000.0,   4.5657,  34.5436,2,  34.5480,2,     87.0,2,     88.2,2,    77.55,2,    38.48,2,     0.02,2,     2.69,2,     0.06,2,   2290.5,2,  -999.00,9,   4.48561533
  49HH20011208,     2,  1,      3,      3,2,20011210,1028, -5.0042,-160.0048, 5149,   1501.0,   3.0698,  34.5948,2,  34.5950,2,    100.9,2,     98.5,2,   109.09,2,    37.89,2,     0.02,2,     2.66,2,     0.05,2,   2319.3,2,  -999.00,9,   2.96101349
  49HH20011208,     2,  1,      2,      2,2,20011210,1028, -5.0042,-160.0048, 5149,   2002.0,   2.3061,  34.6348,2,  34.6360,2,    118.1,2,    110.0,2,   125.69,2,    37.01,2,     0.02,2,     2.52,2,     0.05,2,   2328.1,2,  -999.00,9,   2.16480409
  49HH20011208,     2,  1,      1,      1,2,20011210,1028, -5.0042,-160.0048, 5149,   3000.0,   1.7006,  34.6738,2,  34.6760,2,    143.5,2,    134.3,2,   136.04,2,    35.65,2,     0.02,2,     2.41,2,     0.05,2,   2326.8,2,  -999.00,9,   1.47934629
  49HH20011208,     3,  1,      0,      0,2,20011211,1211,-10.0030,-160.0003, 4522,      1.0,  29.4000,-999.0000,9,  35.4490,2,   -999.0,9,    169.0,2,     0.68,2,     0.10,2,     0.02,2,     0.21,2,     0.05,2,   1963.5,2,     0.12,2,   29.3997555
  49HH20011208,     3,  1,     18,     18,2,20011211,1211,-10.0030,-160.0003, 4522,     11.0,  29.2374,  35.4409,2,  35.4450,2,    185.4,2,    167.6,2,     0.68,2,     0.10,2,     0.02,2,     0.24,2,     0.05,2,   1962.6,2,     0.06,2,   29.2347215
  49HH20011208,     3,  1,     17,     17,2,20011211,1211,-10.0030,-160.0003, 4522,     20.0,  29.2576,  35.4399,2,  35.4450,2,    185.0,2,    167.3,2,     0.59,2,     0.10,2,     0.02,2,     0.20,2,     0.05,2,   1963.4,2,     0.01,2,   29.2527271
  49HH20011208,     3,  1,     16,     16,2,20011211,1211,-10.0030,-160.0003, 4522,     30.0,  29.2613,  35.4387,2,  35.4440,2,    185.0,2,    167.5,2,     0.59,2,     0.10,2,     0.02,2,     0.21,2,     0.05,2,   1962.9,2,     0.12,2,   29.2539895
  49HH20011208,     3,  1,     15,     15,2,20011211,1211,-10.0030,-160.0003, 4522,     40.0,  29.2632,  35.4383,2,  35.4460,2,    184.2,2,    167.5,2,     0.59,2,     0.10,2,     0.02,2,     0.21,2,     0.05,2,   1965.2,2,     0.12,2,   29.2534515
  49HH20011208,     3,  1,     14,     14,2,20011211,1211,-10.0030,-160.0003, 4522,     50.0,  29.2463,  35.4413,2,  35.4580,2,    184.1,2,    167.6,2,     0.68,2,     0.10,2,     0.02,2,     0.23,2,     0.13,2,   1969.5,2,     0.16,2,   29.2341183
  49HH20011208,     3,  1,     13,     13,2,20011211,1211,-10.0030,-160.0003, 4522,     70.0,  28.9285,  35.6379,2,  35.7120,2,    183.1,2,    165.3,2,     0.88,2,     0.10,2,     0.04,2,     0.23,2,     0.22,2,   1986.1,2,     0.24,2,   28.9115693
  49HH20011208,     3,  1,     12,     12,2,20011211,1211,-10.0030,-160.0003, 4522,    100.0,  27.7512,  35.9245,2,  35.9560,2,    165.6,2,    148.2,2,     1.17,2,     0.98,2,     1.30,3,     0.42,2,     0.34,2,   2027.5,2,     0.17,2,   27.7277203
  49HH20011208,     3,  1,     11,     11,2,20011211,1211,-10.0030,-160.0003, 4522,    151.0,  24.3535,  36.2221,2,  36.2300,2,    149.3,2,    134.1,2,     1.27,2,     5.37,2,     0.03,2,     0.60,2,     0.05,2,   2091.0,2,     0.07,2,   24.3211996
  49HH20011208,     3,  1,     10,     10,2,20011211,1211,-10.0030,-160.0003, 4522,    198.0,  21.2035,  35.9674,2,  35.9820,2,    162.1,2,    142.0,2,     1.27,2,     4.78,2,     0.02,2,     0.53,2,     0.05,2,   2099.8,2,     0.01,2,   21.1651328
  49HH20011208,     3,  1,      9,      9,2,20011211,1211,-10.0030,-160.0003, 4522,    299.0,  14.6591,  35.0516,2,  35.0390,2,    112.8,2,     98.9,2,     8.30,2,    15.91,2,     0.02,2,     1.38,2,     0.05,2,   2154.2,2,     0.00,2,   14.6143582
  49HH20011208,     3,  1,      8,      8,2,20011211,1211,-10.0030,-160.0003, 4522,    400.0,  10.3017,  34.7270,2,  34.7250,2,     95.9,2,     83.7,2,    20.21,2,    26.46,2,     0.02,2,     1.94,2,     0.05,2,   2199.9,2,  -999.00,9,   10.2540834
  49HH20011208,     3,  1,      7,      7,2,20011211,1211,-10.0030,-160.0003, 4522,    500.0,   7.9295,  34.5905,2,  34.5860,2,    121.6,2,    104.0,2,    28.32,2,    29.69,2,     0.02,2,     2.10,2,     0.05,2,   2206.8,2,  -999.00,9,   7.87847194
  49HH20011208,     3,  1,      6,      6,2,20011211,1211,-10.0030,-160.0003, 4522,    599.0,   6.4997,  34.5338,2,  34.5440,2,    112.4,2,     96.2,2,    40.53,2,    33.50,2,     0.02,2,     2.33,2,     0.05,2,   2232.1,2,  -999.00,9,   6.44463315
  49HH20011208,     3,  1,      5,      5,2,20011211,1211,-10.0030,-160.0003, 4522,    799.0,   5.3764,  34.5200,2,  34.5230,2,    102.6,2,     91.4,2,    55.48,2,    36.14,2,     0.02,2,     2.50,2,     0.05,2,   2257.4,2,  -999.00,9,   5.30866491
  49HH20011208,     3,  1,      4,      4,2,20011211,1211,-10.0030,-160.0003, 4522,   1000.0,   4.4241,  34.5264,2,  34.5270,2,    112.7,2,     98.4,2,    70.13,2,    36.33,2,     0.02,2,     2.50,2,     0.05,2,   2270.9,2,  -999.00,9,   4.34513314
  49HH20011208,     3,  1,      3,      3,2,20011211,1211,-10.0030,-160.0003, 4522,   1499.0,   2.8216,  34.5927,2,  34.5930,2,    129.6,2,    114.2,2,   102.55,2,    35.94,2,     0.02,2,     2.49,2,     0.05,2,   2299.3,2,  -999.00,9,    2.7158368
  49HH20011208,     3,  1,      2,      2,2,20011211,1211,-10.0030,-160.0003, 4522,   1999.0,   2.1420,  34.6408,2,  34.6450,2,    133.8,2,    116.8,2,   121.98,2,    35.94,2,     0.02,2,     2.52,2,     0.05,2,   2315.6,2,  -999.00,9,    2.0034185
  49HH20011208,     3,  1,      1,      1,2,20011211,1211,-10.0030,-160.0003, 4522,   2999.0,   1.7081,  34.6748,2,  34.6780,2,    150.1,2,    127.9,2,   131.74,2,    35.06,2,     0.02,2,     2.45,2,     0.05,2,   2319.3,2,  -999.00,9,    1.4867681