BOTTLE,20081205PRINUNIVRMKPRINUNIVRMK
EXPOCODE,STNNBR,CASTNO,SAMPNO,BTLNBR,BTLNBR_FLAG_W,DATE,TIME,LATITUDE,LONGITUDE,DEPTH,CTDPRS,CTDTMP,CTDSAL,CTDSAL_FLAG_W,SALNTY,SALNTY_FLAG_W,CTDOXY,CTDOXY_FLAG_W,OXYGEN,OXYGEN_FLAG_W,SILCAT,SILCAT_FLAG_W,NITRAT,NITRAT_FLAG_W,NITRIT,NITRIT_FLAG_W,PHSPHT,PHSPHT_FLAG_W,AMMONI,AMMONI_FLAG_W,TCARBN,TCARBN_FLAG_W,CHLORA,CHLORA_FLAG_W,THETA
,,,,,,,,,,METERS,DBARS,ITS-90,PSS-78,,PSS-78,,UMOL/KG,,UMOL/KG,,UMOL/KG,,UMOL/KG,,UMOL/KG,,UMOL/KG,,UMOL/KG,,UMOL/KG,,UG/L,,DEGC
  49HH20011208,    17,  1,      0,      0,2,20020115,2040,-59.9945, 139.9923, 4486,      1.0,   2.1000,-999.0000,9,  33.8720,2,   -999.0,9,    319.6,2,    10.65,2,    25.21,2,     0.24,2,     1.67,2,     0.28,2,   2144.1,2,  -999.00,9,   2.09994861
  49HH20011208,    17,  1,     14,     14,2,20020115,2040,-59.9945, 139.9923, 4486,   1250.0,   1.8098,  34.7478,2,  34.7490,2,    176.9,2,    186.7,2,    83.98,2,    29.88,2,     0.02,2,     1.95,2,     0.05,2,   -999.0,9,  -999.00,9,   1.73356207
  49HH20011208,    17,  1,     11,     11,2,20020115,2040,-59.9945, 139.9923, 4486,   1500.0,   1.6092,  34.7481,2,  34.7460,2,    180.4,2,    188.4,2,    89.94,2,    29.98,2,     0.02,2,     2.01,2,     0.07,2,   -999.0,9,  -999.00,9,   1.51703885
  49HH20011208,    17,  1,      8,      8,2,20020115,2040,-59.9945, 139.9923, 4486,   1999.0,   1.2062,  34.7331,2,  34.7320,2,    186.1,2,    192.5,2,   101.85,2,    30.57,2,     0.02,2,     2.03,2,     0.05,2,   -999.0,9,  -999.00,9,   1.08161342
  49HH20011208,    17,  1,      5,      5,2,20020115,2040,-59.9945, 139.9923, 4486,   2999.0,   0.4316,  34.6950,2,  34.6930,2,    200.0,2,    204.7,2,   120.70,2,    31.64,2,     0.02,2,     2.13,2,     0.06,2,   -999.0,9,  -999.00,9,   0.23848419
  49HH20011208,    17,  1,      4,      4,2,20020115,2040,-59.9945, 139.9923, 4486,   4000.0,   0.0719,  34.6809,2,  34.6780,2,    216.4,2,    217.5,2,   125.69,2,    31.54,2,     0.02,2,     2.12,2,     0.06,2,   -999.0,9,  -999.00,9, -0.206371686
  49HH20011208,    17,  1,      1,      1,2,20020115,2040,-59.9945, 139.9923, 4486,   4432.0,  -0.0706,  34.6721,2,  34.6700,2,    226.0,2,    222.9,2,   125.49,2,    31.54,2,     0.02,2,     2.12,2,     0.05,2,   -999.0,9,  -999.00,9, -0.389007858
  49HH20011208,    18,  1,     14,     14,2,20020117, 639,-54.7472, 140.0160, 3458,   1250.0,   2.2216,  34.7087,2,  34.7060,2,    167.8,2,    179.0,2,    74.51,2,    30.96,2,     0.02,2,     2.07,2,     0.05,2,   -999.0,9,  -999.00,9,   2.14141812
  49HH20011208,    18,  1,     11,     11,2,20020117, 639,-54.7472, 140.0160, 3458,   1499.0,   2.0525,  34.7406,2,  34.7410,2,    174.5,2,    187.1,2,    78.61,2,    29.98,2,     0.02,2,     2.00,2,     0.05,2,   -999.0,9,  -999.00,9,   1.95525437
  49HH20011208,    18,  1,      8,      8,2,20020117, 639,-54.7472, 140.0160, 3458,   2000.0,   1.6446,  34.7490,2,  34.7470,2,    182.8,2,    191.7,2,    89.94,2,    29.88,2,     0.02,2,     1.99,2,     0.05,2,   -999.0,9,  -999.00,9,   1.51316293
  49HH20011208,    18,  1,      7,      7,2,20020117, 639,-54.7472, 140.0160, 3458,   2499.0,   1.1992,  34.7313,2,  34.7290,2,    189.2,2,    199.3,2,   102.93,2,    30.47,2,     0.02,2,     2.06,2,     0.05,2,   -999.0,9,  -999.00,9,   1.03364209
  49HH20011208,    18,  1,      4,      4,2,20020117, 639,-54.7472, 140.0160, 3458,   3000.0,   0.8096,  34.7119,2,  34.7120,2,    196.5,2,    203.2,2,   114.06,2,    31.15,2,     0.02,2,     2.11,2,     0.05,2,   -999.0,9,  -999.00,9,  0.607867006
  49HH20011208,    18,  1,      1,      1,2,20020117, 639,-54.7472, 140.0160, 3458,   3347.0,   0.5677,  34.7010,2,  34.6980,2,    203.5,2,    207.7,2,   123.54,2,    31.45,2,     0.02,2,     2.10,2,     0.05,2,   -999.0,9,  -999.00,9,  0.339618625
  49HH20011208,    18,  2,      0,      0,2,20020117,1305,-54.7472, 140.0160, 3458,      1.0,   5.9000,-999.0000,9,  33.8270,2,   -999.0,9,    301.3,2,     1.17,2,    21.69,2,     0.27,2,     1.41,2,     0.12,2,   2113.9,2,     0.32,2,   5.89991806
  49HH20011208,    18,  2,     27,     27,2,20020117,1305,-54.7472, 140.0160, 3458,      9.0,   5.6941,  33.8209,2,  33.8220,2,    281.4,2,    302.0,2,     1.07,2,    21.60,2,     0.26,2,     1.42,2,     0.05,2,   2114.2,2,     0.30,2,   5.69337662
  49HH20011208,    18,  2,     24,     24,2,20020117,1305,-54.7472, 140.0160, 3458,     19.0,   5.6840,  33.8210,2,  33.8220,2,    280.8,2,    302.0,2,     0.98,2,    21.60,2,     0.27,2,     1.38,2,     0.05,2,   2112.0,2,     0.30,2,   5.68247298
  49HH20011208,    18,  2,     21,     21,2,20020117,1305,-54.7472, 140.0160, 3458,     30.0,   5.6292,  33.8199,2,  33.8230,2,    280.4,2,    302.7,2,     1.17,2,    21.69,2,     0.25,2,     1.36,2,     0.05,2,   2113.2,2,     0.29,2,   5.62679937
  49HH20011208,    18,  2,     18,     18,2,20020117,1305,-54.7472, 140.0160, 3458,     49.0,   4.8561,  33.8206,2,  33.8210,2,    285.3,2,    308.2,2,     1.47,2,    21.99,2,     0.23,2,     1.44,2,     0.07,2,   2113.2,2,     0.50,2,    4.8524715
  49HH20011208,    18,  2,     15,     15,2,20020117,1305,-54.7472, 140.0160, 3458,     69.0,   3.7596,  33.8413,2,  33.8380,2,    290.6,2,    315.9,2,     2.05,2,    22.77,2,     0.21,2,     1.46,2,     0.16,2,   2121.4,2,     0.44,2,   3.75508334
  49HH20011208,    18,  2,     12,     12,2,20020117,1305,-54.7472, 140.0160, 3458,    101.0,   2.7700,  33.8454,2,  33.8460,2,    287.5,2,    309.5,2,     8.21,2,    24.04,2,     0.22,2,     1.69,2,      0.8,2,   2134.2,2,     0.34,2,   2.76417276
  49HH20011208,    18,  2,      9,      9,2,20020117,1305,-54.7472, 140.0160, 3458,    200.0,   2.1398,  33.9623,2,  33.9670,2,    262.4,2,    284.2,2,    19.25,2,    27.65,2,     0.02,2,     1.83,2,     0.05,2,   2160.5,2,     0.02,2,   2.12908564
  49HH20011208,    18,  2,      7,      7,2,20020117,1305,-54.7472, 140.0160, 3458,    301.0,   2.7792,  34.1882,2,  34.1940,2,    215.0,2,    231.9,2,    32.92,2,    30.68,2,     0.02,2,     2.02,2,     0.05,2,   2192.9,2,     0.01,2,   2.76113219
  49HH20011208,    18,  2,      5,      5,2,20020117,1305,-54.7472, 140.0160, 3458,    398.0,   2.6480,  34.2774,2,  34.2750,2,    194.6,2,    206.4,2,    42.30,2,    32.43,2,     0.02,2,     2.14,2,     0.05,2,   2213.1,2,  -999.00,9,   2.62415979
  49HH20011208,    18,  2,      3,      3,2,20020117,1305,-54.7472, 140.0160, 3458,    500.0,   2.5889,  34.3779,2,  34.3790,2,    175.5,2,    193.2,2,    52.55,2,    33.50,2,     0.02,2,     2.24,2,     0.05,2,   2231.1,2,  -999.00,9,   2.55868071
  49HH20011208,    18,  2,      2,      2,2,20020117,1305,-54.7472, 140.0160, 3458,    700.0,   2.4618,  34.5102,2,  34.5090,2,    162.9,2,    177.5,2,    64.17,2,    33.40,2,     0.02,2,     2.22,2,     0.05,2,   -999.0,9,  -999.00,9,   2.41890834
  49HH20011208,    18,  2,      1,      1,2,20020117,1305,-54.7472, 140.0160, 3458,   1000.0,   2.3400,  34.6451,2,  34.6450,2,    164.5,2,    179.3,2,    71.29,2,    32.03,2,     0.02,2,     2.17,2,     0.05,2,   -999.0,9,  -999.00,9,    2.2770334
  49HH20011208,    19,  1,     12,     12,2,20020118,1331,-50.0142, 139.9947, 3658,   1249.0,   2.6940,  34.5124,2,  34.5080,2,    162.7,2,    169.0,2,    63.49,2,    32.72,2,     0.02,2,     2.29,2,     0.08,2,   -999.0,9,     0.00,2,   2.60971625
  49HH20011208,    19,  1,     11,     11,2,20020118,1331,-50.0142, 139.9947, 3658,   1501.0,   2.5210,  34.6169,2,  34.6130,2,    161.2,2,    166.2,2,    74.32,2,    31.84,2,     0.02,2,     2.24,2,     0.05,2,   -999.0,9,     0.00,2,   2.41849192
  49HH20011208,    19,  1,      8,      8,2,20020118,1331,-50.0142, 139.9947, 3658,   2000.0,   2.2213,  34.7324,2,  34.7300,2,    173.7,2,    178.7,2,    81.54,2,    29.69,2,     0.02,2,     2.08,2,     0.06,2,   -999.0,9,     0.00,2,    2.0811448
  49HH20011208,    19,  1,      7,      7,2,20020118,1331,-50.0142, 139.9947, 3658,   2501.0,   1.7270,  34.7487,2,  34.7450,2,    184.0,2,    189.9,2,    92.58,2,    29.49,2,     0.02,2,     2.05,2,     0.06,2,   -999.0,9,     0.00,2,   1.55130079
  49HH20011208,    19,  1,      4,      4,2,20020118,1331,-50.0142, 139.9947, 3658,   2999.0,   1.4261,  34.7377,2,  34.7370,2,    189.5,2,    193.6,2,   102.34,2,    29.98,2,     0.02,2,     2.29,2,     0.07,2,   -999.0,9,     0.00,2,    1.2106816
  49HH20011208,    19,  1,      1,      1,2,20020118,1331,-50.0142, 139.9947, 3658,   3634.0,   1.1575,  34.7239,2,  34.7220,2,    194.3,2,    192.6,2,   113.96,2,    30.66,2,     0.02,2,     2.27,2,     0.09,2,   -999.0,9,     0.00,2,  0.886187295
  49HH20011208,    19,  2,      0,      0,2,20020118,1955,-50.0142, 139.9947, 3658,      1.0,   9.8000,-999.0000,9,  34.1300,2,   -999.0,9,    270.5,2,     2.64,2,    16.02,2,     0.22,2,     1.13,2,     0.18,2,   2092.4,2,     0.24,2,   9.79988787
  49HH20011208,    19,  2,     28,     28,2,20020118,1955,-50.0142, 139.9947, 3658,     10.0,   9.6748,  34.1397,2,  34.1410,2,    259.2,2,    270.0,2,     2.64,2,    16.02,2,     0.22,2,     1.13,2,     0.23,2,   2094.1,2,     0.24,2,   9.67368723
  49HH20011208,    19,  2,     25,     25,2,20020118,1955,-50.0142, 139.9947, 3658,     21.0,   9.6812,  34.1382,2,  34.1390,2,    258.5,2,    269.4,2,     2.64,2,    16.02,2,     0.22,2,     1.08,2,     0.33,2,   2094.6,2,     0.25,2,   9.67886085
  49HH20011208,    19,  2,     22,     22,2,20020118,1955,-50.0142, 139.9947, 3658,     30.0,   9.6454,  34.1433,2,  34.1480,2,    259.3,2,    270.3,2,     3.61,2,    15.92,2,     0.22,2,     1.13,2,     0.19,2,   2094.4,2,     0.23,2,   9.64206428
  49HH20011208,    19,  2,     19,     19,2,20020118,1955,-50.0142, 139.9947, 3658,     40.0,   8.7886,  34.1626,2,  34.1680,2,    267.6,2,    279.7,2,     3.03,2,    15.73,2,     0.21,2,     1.13,2,     0.24,2,   2094.9,2,     0.42,2,   8.78440435
  49HH20011208,    19,  2,     16,     16,2,20020118,1955,-50.0142, 139.9947, 3658,     50.0,   8.4673,  34.1875,2,  34.1870,2,    269.3,2,    282.3,2,     1.56,2,    15.24,2,     0.21,2,     1.09,2,     0.24,2,   2093.4,2,     0.45,2,   8.46217154
  49HH20011208,    19,  2,     13,     13,2,20020118,1955,-50.0142, 139.9947, 3658,     70.0,   7.1934,  34.1339,2,  34.1370,2,    274.8,2,    286.4,2,     2.74,2,    16.90,2,     0.19,2,     1.24,2,     0.33,2,   2102.0,2,     0.43,2,   7.18689359
  49HH20011208,    19,  2,     10,     10,2,20020118,1955,-50.0142, 139.9947, 3658,     99.0,   6.4563,  34.1490,2,  34.1440,2,    268.8,2,    281.9,2,     5.28,2,    18.27,2,     0.31,2,     1.35,2,     0.47,2,   2114.8,2,     0.27,2,   6.44763867
  49HH20011208,    19,  2,      7,      7,2,20020118,1955,-50.0142, 139.9947, 3658,    200.0,   6.3607,  34.2007,2,  34.1840,2,    257.9,2,    269.9,2,     6.06,2,    19.73,2,     0.02,2,     1.40,2,     0.09,2,   2121.3,2,     0.02,2,   6.34319504
  49HH20011208,    19,  2,      5,      5,2,20020118,1955,-50.0142, 139.9947, 3658,    301.0,   5.8436,  34.1801,2,  34.1780,2,    245.8,2,    256.3,2,     9.57,2,    21.79,2,     0.02,2,     1.49,2,     0.11,2,   2133.9,2,     0.01,2,   5.81824411
  49HH20011208,    19,  2,      3,      3,2,20020118,1955,-50.0142, 139.9947, 3658,    500.0,   5.7438,  34.3701,2,  34.3670,2,    195.7,2,    204.0,2,    19.54,2,    26.08,2,     0.02,2,     1.75,2,     0.09,2,   2170.9,2,     0.00,2,    5.7012007
  49HH20011208,    19,  2,      2,      2,2,20020118,1955,-50.0142, 139.9947, 3658,    699.0,   3.9121,  34.2768,2,  34.2740,2,    203.4,2,    213.1,2,    29.21,2,    29.31,2,     0.02,2,     1.97,2,     0.12,2,   -999.0,9,     0.00,2,   3.86154719
  49HH20011208,    19,  2,      1,      1,2,20020118,1955,-50.0142, 139.9947, 3658,   1000.0,   3.1583,  34.4059,2,  34.4040,2,    177.7,2,    181.2,2,    50.60,2,    32.14,2,     0.02,2,     2.20,2,     0.16,2,   -999.0,9,     0.00,2,   3.08932552
  49HH20011208,    20,  1,     27,     27,2,20020119,2020,-47.0152, 140.0023, 5276,    125.0,  11.9775,  35.0944,2,  35.1060,2,    222.4,2,    240.8,2,  -999.00,9,     7.52,2,     0.15,2,     0.61,2,     0.05,2,   -999.0,9,     0.16,2,   11.9612407
  49HH20011208,    20,  1,     23,     23,2,20020119,2020,-47.0152, 140.0023, 5276,    150.0,  11.8375,  35.0779,2,  35.0910,2,    220.4,2,    237.0,2,  -999.00,9,     8.49,2,     0.08,2,     0.66,2,     0.05,2,   -999.0,9,     0.12,2,   11.8181215
  49HH20011208,    20,  1,     19,     19,2,20020119,2020,-47.0152, 140.0023, 5276,    201.0,  10.8926,  34.9234,2,  34.9310,2,    222.0,2,    239.1,2,  -999.00,9,    10.74,2,     0.02,2,     0.80,2,     0.05,2,   -999.0,9,     0.02,2,   10.8679849
  49HH20011208,    20,  1,     18,     18,2,20020119,2020,-47.0152, 140.0023, 5276,    250.0,  10.3227,  34.8239,2,  34.8390,2,    222.9,2,    238.3,2,  -999.00,9,    10.84,2,     0.03,2,     0.91,2,     0.05,2,   -999.0,9,     0.05,2,   10.2930785
  49HH20011208,    20,  1,     15,     15,2,20020119,2020,-47.0152, 140.0023, 5276,    299.0,   9.5787,  34.7008,2,  34.7130,2,    227.6,2,    243.2,2,  -999.00,9,    13.67,2,     0.02,2,     1.10,2,     0.05,2,   -999.0,9,     0.01,2,    9.5448636
  49HH20011208,    20,  1,     14,     14,2,20020119,2020,-47.0152, 140.0023, 5276,    400.0,   8.9962,  34.6091,2,  34.6210,2,    234.6,2,    251.7,2,  -999.00,9,    14.36,2,     0.02,2,     1.04,2,     0.05,2,   -999.0,9,  -999.00,9,   8.95245275
  49HH20011208,    20,  1,     13,     13,2,20020119,2020,-47.0152, 140.0023, 5276,    500.0,   8.8190,  34.5925,2,  34.6010,2,    221.6,2,    238.5,2,     4.69,2,    16.31,2,     0.02,2,     1.15,2,     0.08,2,   -999.0,9,  -999.00,9,    8.7646731
  49HH20011208,    20,  1,     12,     12,2,20020119,2020,-47.0152, 140.0023, 5276,    600.0,   8.5144,  34.5812,2,  34.5900,2,    200.5,2,    213.4,2,     7.72,2,    19.34,2,     0.02,2,     1.35,2,     0.05,2,   -999.0,9,  -999.00,9,    8.4501869
  49HH20011208,    20,  1,     11,     11,2,20020119,2020,-47.0152, 140.0023, 5276,    700.0,   7.9754,  34.5352,2,  34.5450,2,    191.1,2,    204.2,2,    10.65,2,    21.58,2,     0.02,2,     1.47,2,     0.05,2,   -999.0,9,  -999.00,9,   7.90286744
  49HH20011208,    20,  1,     10,     10,2,20020119,2020,-47.0152, 140.0023, 5276,    800.0,   7.2520,  34.4851,2,  34.4980,2,    181.9,2,    194.0,2,    15.04,2,    23.73,2,     0.02,2,     1.64,2,     0.05,2,   -999.0,9,  -999.00,9,   7.17292613
  49HH20011208,    20,  1,      9,      9,2,20020119,2020,-47.0152, 140.0023, 5276,   1001.0,   5.4235,  34.3809,2,  34.3890,2,    184.0,2,    195.8,2,    25.01,2,    27.55,2,     0.02,2,     1.88,2,     0.05,2,   -999.0,9,  -999.00,9,   5.33706281
  49HH20011208,    20,  1,      8,      8,2,20020119,2020,-47.0152, 140.0023, 5276,   1249.0,   3.9713,  34.4018,2,  34.4190,2,    171.8,2,    181.5,2,    45.71,2,    30.67,2,     0.02,2,     2.17,2,     0.05,2,   -999.0,9,  -999.00,9,   3.87491359
  49HH20011208,    20,  1,      7,      7,2,20020119,2020,-47.0152, 140.0023, 5276,   1500.0,   3.0137,  34.4597,2,  34.4690,2,    163.9,2,    173.7,2,    59.09,2,    32.43,2,     0.02,2,     2.27,2,     0.05,2,   -999.0,9,  -999.00,9,   2.90595855
  49HH20011208,    20,  1,      6,      6,2,20020119,2020,-47.0152, 140.0023, 5276,   2000.0,   2.4568,  34.6594,2,-999.0000,9,    158.4,2,   -999.0,9,  -999.00,9,  -999.00,9,  -999.00,9,  -999.00,9,     -999,9,   -999.0,9,  -999.00,9,   2.31331822
  49HH20011208,    20,  1,      5,      5,2,20020119,2020,-47.0152, 140.0023, 5276,   2499.0,   2.1189,  34.7331,2,  34.7410,2,    165.3,2,    174.0,2,    90.82,2,    30.47,2,     0.02,2,     2.10,2,     0.05,2,   -999.0,9,  -999.00,9,   1.93609774
  49HH20011208,    20,  1,      4,      4,2,20020119,2020,-47.0152, 140.0023, 5276,   3000.0,   1.7741,  34.7396,2,  34.7460,2,    171.1,2,    180.0,2,   102.05,2,    30.37,2,     0.02,2,     2.21,2,     0.05,2,   -999.0,9,  -999.00,9,   1.55088735
  49HH20011208,    20,  1,      3,      3,2,20020119,2020,-47.0152, 140.0023, 5276,   3500.0,   1.4692,  34.7344,2,  34.7430,2,    179.9,2,    187.1,2,   108.69,2,    30.57,2,     0.02,2,     2.12,2,     0.06,2,   -999.0,9,  -999.00,9,   1.20343422
  49HH20011208,    20,  1,      2,      2,2,20020119,2020,-47.0152, 140.0023, 5276,   4000.0,   1.2158,  34.7245,2,  34.7330,2,    187.1,2,    193.0,2,   114.84,2,    30.76,2,     0.02,2,     2.11,2,     0.05,2,   -999.0,9,  -999.00,9,  0.904548988
  49HH20011208,    20,  1,     29,     29,2,20020119,2020,-47.0152, 140.0023, 5276,   4502.0,   1.0603,  34.7162,2,  34.7260,2,    192.6,2,    195.9,2,   118.94,2,    30.96,2,     0.02,2,     2.16,2,     0.05,2,   -999.0,9,  -999.00,9,   0.69844606
  49HH20011208,    20,  1,      1,      1,2,20020119,2020,-47.0152, 140.0023, 5276,   5385.0,   1.0832,  34.7123,2,  34.7190,2,    201.0,2,    197.6,2,   120.41,2,    30.96,2,     0.02,2,     2.13,2,     0.06,2,   -999.0,9,  -999.00,9,  0.615881409
  49HH20011208,    20,  2,      0,      0,2,20020119, 451,-47.0152, 140.0023, 5276,      1.0,  13.3000,-999.0000,9,  35.1340,2,   -999.0,9,    256.1,2,     1.66,2,     2.93,2,     0.12,2,     0.32,2,     0.17,2,   -999.0,9,     0.53,2,   13.2998612
  49HH20011208,    20,  2,     28,     28,2,20020119, 451,-47.0152, 140.0023, 5276,     10.0,  13.1961,  35.1094,2,  35.1230,2,    240.4,2,    261.0,2,     1.17,2,     2.83,2,     0.12,2,     0.31,2,     0.14,2,   -999.0,9,     0.18,2,   13.1947186
  49HH20011208,    20,  2,     21,     21,2,20020119, 451,-47.0152, 140.0023, 5276,     20.0,  13.1562,  35.1079,2,  35.1210,2,    240.6,2,    257.3,2,     0.98,2,     2.83,2,     0.12,2,     0.29,2,     0.18,2,   -999.0,9,     0.53,2,   13.1534418
  49HH20011208,    20,  2,     19,     19,2,20020119, 451,-47.0152, 140.0023, 5276,     30.0,  13.0557,  35.0991,2,  35.1120,2,    240.7,2,    257.4,2,     0.78,2,     2.93,2,     0.13,2,     0.31,2,     0.14,2,   -999.0,9,     0.51,2,   13.0515828
  49HH20011208,    20,  2,     17,     17,2,20020119, 451,-47.0152, 140.0023, 5276,     40.0,  12.9816,  35.0859,2,  35.0990,2,    240.8,2,    257.4,2,     0.59,2,     3.12,2,     0.13,2,     0.35,2,     0.18,2,   -999.0,9,     0.55,2,     12.97613
  49HH20011208,    20,  2,     13,     13,2,20020119, 451,-47.0152, 140.0023, 5276,     51.0,  12.9588,  35.1039,2,  35.1190,2,    239.2,2,    256.6,2,     0.78,2,     3.12,2,     0.13,2,     0.34,2,     0.26,2,   -999.0,9,     0.68,2,   12.9518297
  49HH20011208,    20,  2,     11,     11,2,20020119, 451,-47.0152, 140.0023, 5276,     61.0,  13.0296,  35.1327,2,  35.1460,2,    236.6,2,    252.7,2,     1.27,2,     3.12,2,     0.14,2,     0.36,2,     0.41,2,   -999.0,9,     0.55,2,   13.0212272
  49HH20011208,    20,  2,      7,      7,2,20020119, 451,-47.0152, 140.0023, 5276,     70.0,  12.4102,  35.0161,2,  35.0580,2,    236.9,2,    247.4,2,     0.88,2,     4.39,2,     0.19,2,     0.44,2,     0.39,2,   -999.0,9,     0.42,2,   12.4009042
  49HH20011208,    20,  2,      5,      5,2,20020119, 451,-47.0152, 140.0023, 5276,     80.0,  12.7070,  35.1212,2,  35.1440,2,    230.9,2,    244.1,2,     1.46,2,     4.49,2,     0.25,2,     0.47,2,      0.4,2,   -999.0,9,     0.39,2,   12.6961941
  49HH20011208,    20,  2,      1,      1,2,20020119, 451,-47.0152, 140.0023, 5276,    102.0,  12.4263,  35.1547,2,  35.1700,2,    223.9,2,    237.8,2,     2.44,2,     6.64,2,     0.16,2,     0.56,2,     0.05,2,   -999.0,9,     0.23,2,   12.4127101