BOTTLE,20081205PRINUNIVRMKPRINUNIVRMK
EXPOCODE,STNNBR,CASTNO,SAMPNO,BTLNBR,BTLNBR_FLAG_W,DATE,TIME,LATITUDE,LONGITUDE,DEPTH,CTDPRS,CTDTMP,CTDSAL,CTDSAL_FLAG_W,SALNTY,SALNTY_FLAG_W,CTDOXY,CTDOXY_FLAG_W,OXYGEN,OXYGEN_FLAG_W,SILCAT,SILCAT_FLAG_W,NITRAT,NITRAT_FLAG_W,NITRIT,NITRIT_FLAG_W,PHSPHT,PHSPHT_FLAG_W,AMMONI,AMMONI_FLAG_W,TCARBN,TCARBN_FLAG_W,CHLORA,CHLORA_FLAG_W,THETA
,,,,,,,,,,METERS,DBARS,ITS-90,PSS-78,,PSS-78,,UMOL/KG,,UMOL/KG,,UMOL/KG,,UMOL/KG,,UMOL/KG,,UMOL/KG,,UMOL/KG,,UMOL/KG,,UG/L,,DEGC
  49HH20011208,     5,  1,      0,      0,2,20011213,1935,-19.9985,-160.0003, 4646,      1.0,  25.9000,-999.0000,9,  35.8360,2,   -999.0,9,    193.9,2,     1.37,2,     0.10,2,     0.02,2,     0.15,2,     0.05,2,   1994.4,2,     0.10,2,   25.8997771
  49HH20011208,     5,  1,     20,     20,2,20011213,1935,-19.9985,-160.0003, 4646,     11.0,  25.9433,  35.8310,2,  35.8330,2,    197.6,2,    194.9,2,     0.68,2,     0.10,2,     0.02,2,     0.15,2,     0.05,2,   1994.6,2,     0.03,2,   25.9408445
  49HH20011208,     5,  1,     19,     19,2,20011213,1935,-19.9985,-160.0003, 4646,     19.0,  25.9459,  35.8316,2,  35.8330,2,    198.1,2,    194.5,2,     0.68,2,     0.10,2,     0.02,2,     0.14,2,     0.05,2,   1997.3,2,     0.03,2,   25.9416579
  49HH20011208,     5,  1,     18,     18,2,20011213,1935,-19.9985,-160.0003, 4646,     31.0,  25.9470,  35.8326,2,  35.8390,2,    197.7,2,    194.9,2,     0.59,2,     0.10,2,     0.02,2,     0.15,2,     0.05,2,   1995.5,2,     0.03,2,   25.9400775
  49HH20011208,     5,  1,     17,     17,2,20011213,1935,-19.9985,-160.0003, 4646,     40.0,  25.9485,  35.8319,2,  35.8360,2,    198.1,2,    194.6,2,     0.78,2,     0.10,2,     0.02,2,     0.15,2,     0.05,2,   1991.9,2,     0.05,2,   25.9395667
  49HH20011208,     5,  1,     16,     16,2,20011213,1935,-19.9985,-160.0003, 4646,     49.0,  25.8679,  35.8225,2,  35.8280,2,    198.8,2,    195.2,2,     0.59,2,     0.10,2,     0.02,2,     0.15,2,     0.06,2,   2001.9,2,     0.02,2,   25.8569807
  49HH20011208,     5,  1,     15,     15,2,20011213,1935,-19.9985,-160.0003, 4646,     60.0,  24.8557,  35.7567,2,  35.7610,2,    203.9,2,    200.1,2,     0.68,2,     0.10,2,     0.02,2,     0.13,2,     0.05,2,   1999.2,2,     0.07,2,   24.8427133
  49HH20011208,     5,  1,     14,     14,2,20011213,1935,-19.9985,-160.0003, 4646,     71.0,  24.7689,  35.8125,2,  35.8210,2,    202.1,2,    194.6,2,     0.59,2,     0.10,2,     0.02,2,     0.16,2,     0.05,2,   2003.6,2,     0.05,2,   24.7535658
  49HH20011208,     5,  1,     13,     13,2,20011213,1935,-19.9985,-160.0003, 4646,     80.0,  24.6297,  35.8210,2,  35.8380,2,    200.5,2,    193.0,2,     0.68,2,     0.10,2,     0.02,2,     0.28,2,     0.24,2,   2012.7,2,     0.06,2,   24.6124893
  49HH20011208,     5,  1,     12,     12,2,20011213,1935,-19.9985,-160.0003, 4646,    100.0,  23.8554,  35.7984,2,  35.7970,2,    195.1,2,    190.4,2,     0.49,2,     0.10,2,     0.02,2,     0.17,2,     0.05,2,   2018.9,2,     0.10,2,   23.8343748
  49HH20011208,     5,  1,     11,     11,2,20011213,1935,-19.9985,-160.0003, 4646,    125.0,  22.3417,  35.5288,2,  35.5410,2,    210.6,2,    204.0,2,     0.49,2,     0.10,2,     0.02,2,     0.10,2,     0.05,2,   2004.4,2,     0.20,2,   22.3166456
  49HH20011208,     5,  1,     10,     10,2,20011213,1935,-19.9985,-160.0003, 4646,    151.0,  21.5226,  35.5420,2,  35.5560,2,    211.0,2,    203.1,2,     0.49,2,     0.10,2,     0.02,2,     0.09,2,     0.05,2,   2013.2,2,     0.13,2,   21.4931155
  49HH20011208,     5,  1,      9,      9,2,20011213,1935,-19.9985,-160.0003, 4646,    199.0,  20.3401,  35.7118,2,  35.7120,2,    185.2,2,    179.3,2,     0.68,2,     2.15,2,     0.03,2,     0.28,2,     0.05,2,   2057.9,2,     0.05,2,   20.3027035
  49HH20011208,     5,  1,      8,      8,2,20011213,1935,-19.9985,-160.0003, 4646,    249.0,  19.0003,  35.6464,2,  35.6520,2,    184.5,2,    176.6,2,     0.78,2,     3.51,2,     0.02,2,     0.36,2,     0.05,2,   2070.7,2,     0.01,2,   18.9556572
  49HH20011208,     5,  1,      7,      7,2,20011213,1935,-19.9985,-160.0003, 4646,    299.0,  17.2516,  35.4942,2,  35.4950,2,    195.9,2,    186.5,2,     1.07,2,     4.00,2,     0.02,2,     0.37,2,     0.05,2,   2076.6,2,  -999.00,9,   17.2014464
  49HH20011208,     5,  1,      6,      6,2,20011213,1935,-19.9985,-160.0003, 4646,    399.0,  12.9869,  34.9781,2,  34.9780,2,    191.0,2,    179.3,2,     3.32,2,    11.42,2,     0.02,2,     0.88,2,     0.05,2,   2112.1,2,  -999.00,9,   12.9316536
  49HH20011208,     5,  1,      5,      5,2,20011213,1935,-19.9985,-160.0003, 4646,    499.0,   8.7795,  34.5286,2,  34.5270,2,    197.7,2,    181.1,2,     7.81,2,    20.41,2,     0.02,2,     1.46,2,     0.05,2,   2145.6,2,  -999.00,9,     8.725485
  49HH20011208,     5,  1,      4,      4,2,20011213,1935,-19.9985,-160.0003, 4646,    600.0,   6.8351,  34.3947,2,  34.3930,2,    192.8,2,    178.5,2,    15.04,2,    26.08,2,     0.02,2,     1.81,2,     0.05,2,   2169.2,2,  -999.00,9,    6.7785625
  49HH20011208,     5,  1,      3,      3,2,20011213,1935,-19.9985,-160.0003, 4646,    700.0,   5.8116,  34.3587,2,  34.3570,2,    193.6,2,    182.2,2,    20.61,2,    28.03,2,     0.02,2,     1.93,2,     0.05,2,   2182.7,2,  -999.00,9,   5.75061796
  49HH20011208,     5,  1,      2,      2,2,20011213,1935,-19.9985,-160.0003, 4646,    800.0,   5.0561,  34.3877,2,  34.3900,2,    174.4,2,    160.1,2,    34.38,2,    31.06,2,     0.02,2,     2.18,2,     0.05,2,   2209.6,2,  -999.00,9,   4.99040452
  49HH20011208,     5,  1,      1,      1,2,20011213,1935,-19.9985,-160.0003, 4646,   1001.0,   4.1330,  34.4532,2,  34.4570,2,    160.5,2,    147.1,2,    55.58,2,    33.11,2,     0.02,2,     2.29,2,     0.05,2,   2241.7,2,  -999.00,9,   4.05629934
  49HH20011208,     5,  2,      9,      9,2,20011213,1236,-19.9985,-160.0003, 4646,   1250.0,   3.0974,  34.5325,2,  34.5350,2,    149.0,2,    135.7,2,    80.38,2,    33.99,2,     0.02,2,     2.37,2,     0.05,2,   2269.6,2,  -999.00,9,   3.00907385
  49HH20011208,     5,  2,      8,      8,2,20011213,1236,-19.9985,-160.0003, 4646,   1500.0,   2.6026,  34.5854,2,  34.5870,2,    145.6,2,    135.8,2,    96.30,2,    34.48,2,     0.02,2,     2.40,2,     0.05,2,   2289.1,2,  -999.00,9,   2.49929518
  49HH20011208,     5,  2,      7,      7,2,20011213,1236,-19.9985,-160.0003, 4646,   2000.0,   2.1281,  34.6338,2,  34.6350,2,    143.7,2,    133.8,2,   111.82,2,    34.57,2,     0.02,2,     2.42,2,     0.05,2,   2305.2,2,  -999.00,9,   1.98967836
  49HH20011208,     5,  2,      6,      6,2,20011213,1236,-19.9985,-160.0003, 4646,   2499.0,   1.8606,  34.6574,2,  34.6580,2,    147.8,2,    136.8,2,   120.32,2,    34.38,2,     0.02,2,     2.38,2,     0.05,2,   2310.3,2,  -999.00,9,   1.68294955
  49HH20011208,     5,  2,      5,      5,2,20011213,1236,-19.9985,-160.0003, 4646,   3001.0,   1.6771,  34.6726,2,  34.6760,2,    156.7,2,    145.0,2,   121.49,2,    33.99,2,     0.02,2,     2.32,2,     0.05,2,   2304.7,2,  -999.00,9,   1.45626648
  49HH20011208,     5,  2,      4,      4,2,20011213,1236,-19.9985,-160.0003, 4646,   3500.0,   1.5438,  34.6835,2,  34.6940,2,    167.5,2,    152.7,2,   120.22,2,    33.30,2,     0.02,2,     2.33,2,     0.05,2,   2300.2,2,  -999.00,9,   1.27643468
  49HH20011208,     5,  2,      3,      3,2,20011213,1236,-19.9985,-160.0003, 4646,   3999.0,   1.4143,  34.6940,2,  34.6970,2,    181.1,2,    163.4,2,   117.87,2,    32.32,2,     0.02,2,     2.19,2,     0.05,2,   2286.5,2,  -999.00,9,   1.09777927
  49HH20011208,     5,  2,      2,      2,2,20011213,1236,-19.9985,-160.0003, 4646,   4498.0,   1.2419,  34.7041,2,  34.7070,2,    198.7,2,    176.3,2,   114.45,2,    31.45,2,     0.02,2,     2.17,2,     0.05,2,   2271.1,2,  -999.00,9,  0.874967247
  49HH20011208,     6,  1,      0,      0,2,20011215, 753,-25.0055,-160.0015, 5047,      1.0,  23.2000,-999.0000,9,  35.6490,2,   -999.0,9,    207.0,2,     0.49,2,     0.10,2,     0.02,2,     0.11,2,     0.05,2,   2006.0,2,     0.03,2,   23.1997943
  49HH20011208,     6,  1,     18,     18,2,20011215, 753,-25.0055,-160.0015, 5047,     10.0,  22.7929,  35.6306,2,  35.6360,2,    214.4,2,    207.4,2,     0.49,2,     0.10,2,     0.02,2,     0.11,2,     0.05,2,   2007.5,2,     0.03,2,   22.7908692
  49HH20011208,     6,  1,     17,     17,2,20011215, 753,-25.0055,-160.0015, 5047,     20.0,  22.6464,  35.6223,2,  35.6280,2,    214.7,2,    207.9,2,     0.49,2,     0.10,2,     0.02,2,     0.09,2,     0.05,2,   2008.2,2,     0.03,2,   22.6423568
  49HH20011208,     6,  1,     16,     16,2,20011215, 753,-25.0055,-160.0015, 5047,     30.0,  22.5864,  35.6204,2,  35.6270,2,    214.0,2,    208.0,2,     0.49,2,     0.10,2,     0.02,2,     0.18,2,     0.05,2,   2006.5,2,     0.04,2,   22.5803459
  49HH20011208,     6,  1,     15,     15,2,20011215, 753,-25.0055,-160.0015, 5047,     40.0,  22.5826,  35.6219,2,  35.6260,2,    215.0,2,    207.5,2,     0.49,2,     0.10,2,     0.02,2,     0.09,2,     0.05,2,   2006.9,2,     0.04,2,   22.5745277
  49HH20011208,     6,  1,     14,     14,2,20011215, 753,-25.0055,-160.0015, 5047,     50.0,  22.5749,  35.6207,2,  35.6230,2,    213.7,2,    208.1,2,     0.49,2,     0.10,2,     0.02,2,     0.09,2,     0.05,2,   2003.9,2,     0.04,2,   22.5648108
  49HH20011208,     6,  1,     13,     13,2,20011215, 753,-25.0055,-160.0015, 5047,     70.0,  22.5079,  35.6161,2,  35.6150,2,    214.8,2,    207.4,2,     0.49,2,     0.10,2,     0.02,2,     0.09,2,     0.05,2,   2006.6,2,     0.04,2,   22.4938015
  49HH20011208,     6,  1,     12,     12,2,20011215, 753,-25.0055,-160.0015, 5047,    100.0,  21.1963,  35.5921,2,  35.5770,2,    219.5,2,    212.2,2,     0.49,2,     0.10,2,     0.02,2,     0.08,2,     0.05,2,   2011.4,2,     0.08,2,    21.176999
  49HH20011208,     6,  1,     11,     11,2,20011215, 753,-25.0055,-160.0015, 5047,    150.0,  20.1824,  35.5764,2,  35.5830,2,    214.3,2,    207.0,2,     0.49,2,     0.10,2,     0.02,2,     0.11,2,     0.05,2,   2023.4,2,     0.20,2,   20.1544106
  49HH20011208,     6,  1,     10,     10,2,20011215, 753,-25.0055,-160.0015, 5047,    199.0,  19.2714,  35.6211,2,  35.6270,2,    198.0,2,    190.6,2,     0.49,2,     2.05,2,     0.03,2,     0.29,2,     0.07,2,   2052.4,2,     0.06,2,   19.2354093
  49HH20011208,     6,  1,      9,      9,2,20011215, 753,-25.0055,-160.0015, 5047,    300.0,  17.1069,  35.5143,2,  35.5020,2,    201.4,2,    193.1,2,     0.78,2,     3.61,2,     0.02,2,     0.40,2,     0.14,2,   2071.4,2,     0.01,2,   17.0568648
  49HH20011208,     6,  1,      8,      8,2,20011215, 753,-25.0055,-160.0015, 5047,    400.0,  14.1028,  35.1436,2,  35.1260,2,    195.0,2,    185.6,2,     2.15,2,     9.37,2,     0.02,2,     0.88,2,     0.05,2,   2099.6,2,  -999.00,9,   14.0442402
  49HH20011208,     6,  1,      7,      7,2,20011215, 753,-25.0055,-160.0015, 5047,    500.0,  10.3193,  34.6908,2,  34.7240,2,    195.4,2,    181.7,2,     5.18,2,    16.99,2,     0.02,2,     1.20,2,     0.05,2,   2131.3,2,  -999.00,9,   10.2594271
  49HH20011208,     6,  1,      6,      6,2,20011215, 753,-25.0055,-160.0015, 5047,    600.0,   7.9324,  34.4588,2,  34.4650,2,    209.8,2,    194.8,2,     7.81,2,    21.68,2,     0.02,2,     1.58,2,     0.05,2,   2145.1,2,  -999.00,9,   7.87087785
  49HH20011208,     6,  1,      5,      5,2,20011215, 753,-25.0055,-160.0015, 5047,    800.0,   5.7708,  34.3324,2,  34.3320,2,    210.5,2,    197.6,2,    16.70,2,    27.25,2,     0.02,2,     1.93,2,     0.05,2,   2169.1,2,  -999.00,9,   5.70082342
  49HH20011208,     6,  1,      4,      4,2,20011215, 753,-25.0055,-160.0015, 5047,   1000.0,   4.5045,  34.3505,2,  34.3670,2,    188.5,2,    177.0,2,    33.90,2,    31.26,2,     0.02,2,     2.20,2,     0.05,2,   2203.2,2,  -999.00,9,   4.42518133
  49HH20011208,     6,  1,      3,      3,2,20011215, 753,-25.0055,-160.0015, 5047,   1500.0,   2.7322,  34.5478,2,  34.5530,2,    156.9,2,    146.7,2,    83.60,2,    34.28,2,     0.02,2,     2.58,2,     0.05,2,   2272.8,2,  -999.00,9,   2.62748597
  49HH20011208,     6,  1,      2,      2,2,20011215, 753,-25.0055,-160.0015, 5047,   2001.0,   2.1316,  34.6314,2,  34.6330,2,    147.0,2,    143.0,2,   111.14,2,    34.96,2,     0.02,2,     2.40,2,     0.11,2,   2303.1,2,  -999.00,9,    1.9930472
  49HH20011208,     6,  1,      1,      1,2,20011215, 753,-25.0055,-160.0015, 5047,   3000.0,   1.7704,  34.6669,2,  34.6710,2,    150.5,2,    143.9,2,   124.71,2,    34.86,2,     0.02,2,     2.46,2,     0.05,2,   2317.4,2,  -999.00,9,   1.54763793
  49HH20011208,     7,  1,      0,      0,2,20011216,1311,-29.9922,-159.9990, 4986,      1.0,  21.7000,-999.0000,9,  35.5470,2,   -999.0,9,    212.4,2,     0.49,2,     0.10,2,     0.02,2,     0.07,2,     0.05,2,   2018.5,2,     0.03,2,   21.6998041
  49HH20011208,     7,  1,     18,     18,2,20011216,1311,-29.9922,-159.9990, 4986,      9.0,  20.9228,  35.5324,2,  35.5370,2,    223.7,2,    214.2,2,     0.49,2,     0.10,2,     0.02,2,     0.06,2,     0.05,2,   2018.1,2,     0.03,2,   20.9210819
  49HH20011208,     7,  1,     17,     17,2,20011216,1311,-29.9922,-159.9990, 4986,     20.0,  20.8795,  35.5332,2,  35.5370,2,    223.2,2,    213.6,2,     0.49,2,     0.10,2,     0.02,2,     0.06,2,     0.05,2,   2019.9,2,     0.03,2,    20.875687
  49HH20011208,     7,  1,     16,     16,2,20011216,1311,-29.9922,-159.9990, 4986,     29.0,  20.8696,  35.5335,2,  35.5370,2,    223.2,2,    214.0,2,     0.49,2,     0.10,2,     0.02,2,     0.06,2,     0.05,2,   2018.4,2,     0.03,2,   20.8640721
  49HH20011208,     7,  1,     15,     15,2,20011216,1311,-29.9922,-159.9990, 4986,     39.0,  20.8649,  35.5332,2,  35.5380,2,    223.2,2,    214.4,2,     0.49,2,     0.10,2,     0.02,2,     0.05,2,     0.05,2,   2019.2,2,     0.03,2,   20.8574658
  49HH20011208,     7,  1,     14,     14,2,20011216,1311,-29.9922,-159.9990, 4986,     50.0,  20.8413,  35.5308,2,  35.5320,2,    223.9,2,    213.4,2,     0.49,2,     0.10,2,     0.02,2,     0.05,2,     0.05,2,   2015.2,2,     0.03,2,   20.8317751
  49HH20011208,     7,  1,     13,     13,2,20011216,1311,-29.9922,-159.9990, 4986,     70.0,  19.2334,  35.4852,2,  35.4970,2,    232.1,2,    220.3,2,     0.49,2,     0.10,2,     0.02,2,     0.06,2,     0.05,2,   2020.1,2,     0.06,2,   19.2208001
  49HH20011208,     7,  1,     12,     12,2,20011216,1311,-29.9922,-159.9990, 4986,    100.0,  18.5306,  35.5335,2,  35.5430,2,    224.8,2,    213.2,2,     0.49,2,     0.10,2,     0.02,2,     0.11,2,     0.05,2,   2035.0,2,     0.14,2,   18.5130486
  49HH20011208,     7,  1,     11,     11,2,20011216,1311,-29.9922,-159.9990, 4986,    150.0,  17.5434,  35.5406,2,  35.5440,2,    212.2,2,    201.8,2,     0.68,2,     1.85,2,     0.12,2,     0.27,2,     0.05,2,   2059.1,2,     0.11,2,   17.5180289
  49HH20011208,     7,  1,     10,     10,2,20011216,1311,-29.9922,-159.9990, 4986,    201.0,  16.7255,  35.4672,2,  35.4700,2,    229.4,2,    218.1,2,     0.59,2,     0.68,2,     0.21,2,     0.19,2,     0.05,2,   2055.2,2,     0.05,2,   16.6925803
  49HH20011208,     7,  1,      9,      9,2,20011216,1311,-29.9922,-159.9990, 4986,    300.0,  14.2139,  35.2043,2,  35.1890,2,    195.4,2,    184.7,2,     2.15,2,     8.88,2,     0.02,2,     0.80,2,     0.05,2,   2101.9,2,     0.00,2,   14.1698699
  49HH20011208,     7,  1,      8,      8,2,20011216,1311,-29.9922,-159.9990, 4986,    400.0,  11.4947,  34.8869,2,  34.8820,2,    201.0,2,    188.4,2,     3.52,2,    13.87,2,     0.02,2,     0.99,2,     0.05,2,   2124.1,2,  -999.00,9,   11.4435724
  49HH20011208,     7,  1,      7,      7,2,20011216,1311,-29.9922,-159.9990, 4986,    500.0,   8.8684,  34.5838,2,  34.6130,2,    218.2,2,    203.0,2,     4.79,2,    18.46,2,     0.02,2,     1.25,2,     0.05,2,   2134.5,2,  -999.00,9,   8.81388272
  49HH20011208,     7,  1,      6,      6,2,20011216,1311,-29.9922,-159.9990, 4986,    600.0,   7.6636,  34.4563,2,  34.4570,2,    233.2,2,    216.3,2,     5.67,2,    20.61,2,     0.02,2,     1.39,2,     0.05,2,   2138.2,2,  -999.00,9,   7.60328285
  49HH20011208,     7,  1,      5,      5,2,20011216,1311,-29.9922,-159.9990, 4986,    800.0,   6.3226,  34.3519,2,  34.3580,2,    235.4,2,    218.0,2,    10.35,2,    24.13,2,     0.02,2,     1.62,2,     0.05,2,   2146.5,2,  -999.00,9,   6.24925649
  49HH20011208,     7,  1,      4,      4,2,20011216,1311,-29.9922,-159.9990, 4986,   1001.0,   4.9879,  34.3274,2,  34.3480,2,    209.2,2,    197.9,2,    21.00,2,    27.94,2,     0.02,2,     1.89,2,     0.05,2,   2174.1,2,  -999.00,9,   4.90483406
  49HH20011208,     7,  1,      3,      3,2,20011216,1311,-29.9922,-159.9990, 4986,   1500.0,   2.8174,  34.5235,2,  34.5310,2,    164.1,2,    155.7,2,    74.33,2,    33.79,2,     0.02,2,     2.75,2,     0.05,2,   2258.2,2,  -999.00,9,   2.71175992
  49HH20011208,     7,  1,      2,      2,2,20011216,1311,-29.9922,-159.9990, 4986,   2000.0,   2.2135,  34.6267,2,  34.6320,2,    148.0,2,    141.8,2,   107.53,2,    34.67,2,     0.02,2,     2.55,2,     0.05,2,   2301.1,2,  -999.00,9,   2.07379271
  49HH20011208,     7,  1,      1,      1,2,20011216,1311,-29.9922,-159.9990, 4986,   3000.0,   1.7705,  34.6682,2,  34.6750,2,    150.9,2,    143.5,2,   124.61,2,    34.86,2,     0.02,2,     2.44,2,     0.05,2,   2316.2,2,  -999.00,9,   1.54771603