BOTTLE,20081205PRINUNIVRMKPRINUNIVRMK
EXPOCODE,STNNBR,CASTNO,SAMPNO,BTLNBR,BTLNBR_FLAG_W,DATE,TIME,LATITUDE,LONGITUDE,DEPTH,CTDPRS,CTDTMP,CTDSAL,CTDSAL_FLAG_W,SALNTY,SALNTY_FLAG_W,CTDOXY,CTDOXY_FLAG_W,OXYGEN,OXYGEN_FLAG_W,SILCAT,SILCAT_FLAG_W,NITRAT,NITRAT_FLAG_W,NITRIT,NITRIT_FLAG_W,PHSPHT,PHSPHT_FLAG_W,AMMONI,AMMONI_FLAG_W,TCARBN,TCARBN_FLAG_W,CHLORA,CHLORA_FLAG_W,THETA
,,,,,,,,,,METERS,DBARS,ITS-90,PSS-78,,PSS-78,,UMOL/KG,,UMOL/KG,,UMOL/KG,,UMOL/KG,,UMOL/KG,,UMOL/KG,,UMOL/KG,,UMOL/KG,,UG/L,,DEGC
  49HH20011208,     8,  1,      0,      0,2,20011218, 834,-34.9960,-159.9993, 5114,      1.0,  18.6000,-999.0000,9,  35.3940,2,   -999.0,9,    184.8,2,     0.49,2,     0.10,2,     0.02,2,     0.12,2,     0.09,2,   2052.7,2,     0.03,2,   18.5998246
  49HH20011208,     8,  1,     20,     20,2,20011218, 834,-34.9960,-159.9993, 5114,     10.0,  18.6870,  35.3884,2,  35.3910,2,    236.3,2,    185.4,2,     0.49,2,     0.10,2,     0.02,2,     0.10,2,     0.05,2,   2054.1,2,     0.04,2,   18.6852396
  49HH20011208,     8,  1,     19,     19,2,20011218, 834,-34.9960,-159.9993, 5114,     21.0,  18.6912,  35.3890,2,  35.3910,2,    236.1,2,    183.8,2,     0.49,2,     0.10,2,     0.02,2,     0.12,2,     0.05,2,   2055.7,2,     0.05,2,   18.6875016
  49HH20011208,     8,  1,     18,     18,2,20011218, 834,-34.9960,-159.9993, 5114,     30.0,  18.6771,  35.3860,2,  35.3920,2,    237.5,2,    224.4,2,     0.49,2,     0.10,2,     0.02,2,     0.10,2,     0.05,2,   2056.3,2,     0.04,2,   18.6718184
  49HH20011208,     8,  1,     17,     17,2,20011218, 834,-34.9960,-159.9993, 5114,     40.0,  18.1402,  35.2977,2,  35.1970,2,    244.3,2,    236.1,2,     0.49,2,     0.10,2,     0.02,2,     0.12,2,     0.05,2,   2052.3,2,     0.07,2,    18.133308
  49HH20011208,     8,  1,     16,     16,2,20011218, 834,-34.9960,-159.9993, 5114,     51.0,  15.7252,  35.0007,2,  35.0480,2,    264.7,2,    245.3,2,     0.49,2,     0.10,2,     0.02,2,     0.15,2,     0.05,2,   2051.0,2,     0.07,2,   15.7172526
  49HH20011208,     8,  1,     15,     15,2,20011218, 834,-34.9960,-159.9993, 5114,     60.0,  14.4864,  34.7700,2,  34.7620,2,    276.9,2,    256.3,2,     0.49,2,     0.10,2,     0.02,2,     0.17,2,     0.05,2,   2047.0,2,     0.08,2,   14.4775823
  49HH20011208,     8,  1,     14,     14,2,20011218, 834,-34.9960,-159.9993, 5114,     70.0,  14.1676,  34.7642,2,  34.8060,2,    275.9,2,    251.5,2,     0.49,2,     0.10,2,     0.02,2,     0.16,2,     0.05,2,   2052.4,2,     0.07,2,   14.1574609
  49HH20011208,     8,  1,     13,     13,2,20011218, 834,-34.9960,-159.9993, 5114,     80.0,  14.2829,  34.8914,2,  34.9020,2,    271.4,2,    249.6,2,     0.49,2,     0.10,2,     0.02,2,     0.16,2,     0.05,2,   2052.3,2,     0.10,2,   14.2712344
  49HH20011208,     8,  1,     12,     12,2,20011218, 834,-34.9960,-159.9993, 5114,    101.0,  14.0951,  34.9458,2,  34.9440,2,    268.1,2,    247.8,2,     0.49,2,     0.10,2,     0.02,2,     0.17,2,     0.05,2,   2055.7,2,     0.14,2,   14.0804885
  49HH20011208,     8,  1,     11,     11,2,20011218, 834,-34.9960,-159.9993, 5114,    126.0,  13.6765,  34.8796,2,  34.8810,2,    266.1,2,    246.3,2,     0.49,2,     0.39,2,     0.02,2,     0.20,2,     0.11,2,   2057.3,2,     0.12,2,   13.6586351
  49HH20011208,     8,  1,     10,     10,2,20011218, 834,-34.9960,-159.9993, 5114,    150.0,  13.0049,  34.7738,2,  34.7640,2,    264.0,2,    243.0,2,     0.49,2,     1.46,2,     0.11,2,     0.28,2,     0.27,2,   2064.9,2,     0.14,2,   12.9843453
  49HH20011208,     8,  1,      9,      9,2,20011218, 834,-34.9960,-159.9993, 5114,    200.0,  11.7687,  34.7145,2,  34.7230,2,    248.7,2,    228.9,2,     0.78,2,     6.84,2,     0.19,2,     0.57,2,     0.05,2,   2090.0,2,     0.08,2,   11.7430079
  49HH20011208,     8,  1,      8,      8,2,20011218, 834,-34.9960,-159.9993, 5114,    250.0,  10.9626,  34.7593,2,  34.7630,2,    232.4,2,    214.1,2,     2.05,2,    11.23,2,     0.02,2,     0.81,2,     0.05,2,   2110.7,2,     0.01,2,   10.9318482
  49HH20011208,     8,  1,      7,      7,2,20011218, 834,-34.9960,-159.9993, 5114,    300.0,  10.0797,  34.6956,2,  34.6760,2,    225.7,2,    208.0,2,     3.22,2,    14.94,2,     0.02,2,     1.04,2,     0.05,2,   2125.5,2,  -999.00,9,   10.0446673
  49HH20011208,     8,  1,      6,      6,2,20011218, 834,-34.9960,-159.9993, 5114,    400.0,   8.4282,  34.5339,2,  34.5240,2,    231.4,2,    213.4,2,     4.69,2,    18.85,2,     0.02,2,     1.27,2,     0.05,2,   2134.6,2,  -999.00,9,   8.38618964
  49HH20011208,     8,  1,      5,      5,2,20011218, 834,-34.9960,-159.9993, 5114,    500.0,   7.5706,  34.4482,2,  34.4500,2,    241.8,2,    221.1,2,     5.47,2,    20.61,2,     0.02,2,     1.38,2,     0.05,2,   2137.3,2,  -999.00,9,    7.5210149
  49HH20011208,     8,  1,      4,      4,2,20011218, 834,-34.9960,-159.9993, 5114,    600.0,   7.1124,  34.4117,2,  34.4100,2,    244.3,2,    223.8,2,     6.84,2,    21.88,2,     0.02,2,     1.47,2,     0.05,2,   2139.2,2,  -999.00,9,   7.05459657
  49HH20011208,     8,  1,      3,      3,2,20011218, 834,-34.9960,-159.9993, 5114,    701.0,   6.6863,  34.3795,2,  34.3820,2,    242.9,2,    218.1,2,     8.50,2,    23.05,2,     0.02,2,     1.53,2,     0.05,2,   2144.0,2,  -999.00,9,   6.62056269
  49HH20011208,     8,  1,      2,      2,2,20011218, 834,-34.9960,-159.9993, 5114,    800.0,   6.1856,  34.3454,2,-999.0000,9,    237.4,2,    215.8,2,    11.33,2,    24.91,2,     0.02,2,     1.67,2,     0.05,2,   2153.8,2,  -999.00,9,   6.11309775
  49HH20011208,     8,  1,      1,      1,2,20011218, 834,-34.9960,-159.9993, 5114,   1001.0,   4.9760,  34.3272,2,  34.3320,2,    217.2,2,    195.6,2,    23.74,2,    29.11,2,     0.02,2,     1.94,2,     0.05,2,   2181.3,2,  -999.00,9,   4.89305071
  49HH20011208,     8,  2,      9,      9,2,20011218,1450,-34.9960,-159.9993, 5114,   1249.0,   3.6580,  34.3821,2,  34.3850,2,    186.3,2,    176.0,2,    44.74,2,    32.53,2,     0.02,2,     2.18,2,     0.05,2,   2218.7,2,  -999.00,9,   3.56467845
  49HH20011208,     8,  2,      8,      8,2,20011218,1450,-34.9960,-159.9993, 5114,   1500.0,   2.9712,  34.4873,2,  34.4900,2,    168.2,2,    163.8,2,    65.44,2,    33.79,2,     0.02,2,     2.30,2,     0.05,2,   2248.1,2,  -999.00,9,   2.86389399
  49HH20011208,     8,  2,      7,      7,2,20011218,1450,-34.9960,-159.9993, 5114,   2000.0,   2.2856,  34.6229,2,  34.6860,2,    148.7,2,    144.0,2,   102.35,2,    34.77,2,     0.02,2,     2.40,2,     0.05,2,   2296.0,2,  -999.00,9,   2.14461862
  49HH20011208,     8,  2,      6,      6,2,20011218,1450,-34.9960,-159.9993, 5114,   2501.0,   1.9750,  34.6523,2,  34.6560,2,    144.8,2,    141.9,2,   116.70,2,    35.16,2,     0.02,2,     2.41,2,     0.05,2,   2311.3,2,  -999.00,9,   1.79504411
  49HH20011208,     8,  2,      5,      5,2,20011218,1450,-34.9960,-159.9993, 5114,   2999.0,   1.7768,  34.6699,2,  34.6740,2,    149.0,2,    146.7,2,   122.85,2,    34.96,2,     0.02,2,     2.38,2,     0.05,2,   2312.8,2,  -999.00,9,   1.55397956
  49HH20011208,     8,  2,      4,      4,2,20011218,1450,-34.9960,-159.9993, 5114,   3499.0,   1.6282,  34.6917,2,  34.6950,2,    167.1,2,    164.5,2,   116.21,2,    33.59,2,     0.02,2,     2.28,2,     0.05,2,   2293.9,2,  -999.00,9,   1.35880945
  49HH20011208,     8,  2,      3,      3,2,20011218,1450,-34.9960,-159.9993, 5114,   3999.0,   1.3864,  34.7134,2,  34.7160,2,    193.5,2,    185.9,2,   107.62,2,    31.84,2,     0.02,2,     2.14,2,     0.07,2,   2269.3,2,  -999.00,9,    1.0705451
  49HH20011208,     8,  2,      2,      2,2,20011218,1450,-34.9960,-159.9993, 5114,   4499.0,   1.1254,  34.7103,2,  34.7130,2,    204.5,2,    193.4,2,   111.82,2,    31.45,2,     0.02,2,     2.15,2,     0.05,2,   2267.2,2,  -999.00,9,  0.761944462
  49HH20011208,     8,  2,      1,      1,2,20011218,1450,-34.9960,-159.9993, 5114,   4999.0,   1.0591,  34.7059,2,  34.7120,2,    210.0,2,    196.5,2,   114.75,2,    31.74,2,     0.02,2,     2.15,2,     0.05,2,   2265.5,2,  -999.00,9,  0.639669631
  49HH20011208,     9,  1,      0,      0,2,20011219,2103,-40.0038,-159.9963, 4724,      1.0,  17.9000,-999.0000,9,  34.7870,2,   -999.0,9,    226.6,2,     0.49,2,     0.68,2,     0.02,2,     0.22,2,     0.07,2,   2052.2,2,     0.09,2,   17.8998299
  49HH20011208,     9,  1,     18,     18,2,20011219,2103,-40.0038,-159.9963, 4724,     10.0,  17.6983,  34.7832,2,  34.7850,2,    244.3,2,    228.1,2,     0.49,2,     0.68,2,     0.02,2,     0.21,2,     0.08,2,   2051.3,2,     0.08,2,   17.6966125
  49HH20011208,     9,  1,     17,     17,2,20011219,2103,-40.0038,-159.9963, 4724,     21.0,  17.6869,  34.7813,2,  34.7760,2,    245.4,2,    229.4,2,     0.49,2,     0.78,2,     0.02,2,     0.22,2,     0.08,2,   2050.8,2,     0.07,2,   17.6833572
  49HH20011208,     9,  1,     16,     16,2,20011219,2103,-40.0038,-159.9963, 4724,     31.0,  16.4510,  34.7137,2,  34.6520,2,    260.3,2,    242.2,2,     0.49,2,     2.34,2,     0.04,2,     0.32,2,     0.13,2,   2051.2,2,     0.08,2,    16.446033
  49HH20011208,     9,  1,     15,     15,2,20011219,2103,-40.0038,-159.9963, 4724,     40.0,  15.0597,  34.5732,2,  34.5960,2,    272.3,2,    251.0,2,     0.49,2,     3.13,2,     0.05,2,     0.38,2,     0.19,2,   2051.5,2,     0.09,2,   15.0536745
  49HH20011208,     9,  1,     14,     14,2,20011219,2103,-40.0038,-159.9963, 4724,     50.0,  13.5828,  34.6138,2,  34.6270,2,    287.7,2,    265.5,2,     0.49,2,     2.73,2,     0.05,2,     0.35,2,     0.12,2,   2053.8,2,     0.07,2,   13.5757793
  49HH20011208,     9,  1,     13,     13,2,20011219,2103,-40.0038,-159.9963, 4724,     72.0,  11.7292,  34.6020,2,  34.6020,2,    296.0,2,    266.9,2,     0.49,2,     4.10,2,     0.07,2,     0.45,2,     0.19,2,   2063.4,2,     0.11,2,   11.7200338
  49HH20011208,     9,  1,     12,     12,2,20011219,2103,-40.0038,-159.9963, 4724,    100.0,  10.8838,  34.6202,2,  34.6200,2,    280.8,2,    253.3,2,     0.68,2,     5.96,2,     0.17,2,     0.55,2,     0.23,2,   2076.3,2,     0.14,2,   10.8716619
  49HH20011208,     9,  1,     11,     11,2,20011219,2103,-40.0038,-159.9963, 4724,    151.0,   9.9494,  34.5739,2,  34.5780,2,    275.0,2,    247.8,2,     0.98,2,     8.99,2,     0.33,2,     0.73,2,     0.05,2,   2091.5,2,     0.09,2,    9.9320656
  49HH20011208,     9,  1,     10,     10,2,20011219,2103,-40.0038,-159.9963, 4724,    201.0,   9.3574,  34.5840,2,  34.5820,2,    252.4,2,    228.6,2,     2.44,2,    14.06,2,     0.02,2,     0.98,2,     0.05,2,   2114.2,2,     0.01,2,   9.33513949
  49HH20011208,     9,  1,      9,      9,2,20011219,2103,-40.0038,-159.9963, 4724,    301.0,   8.3385,  34.5075,2,  34.5080,2,    256.8,2,    231.2,2,     3.71,2,    16.80,2,     0.02,2,     1.14,2,     0.05,2,   2123.2,2,     0.00,2,     8.307285
  49HH20011208,     9,  1,      8,      8,2,20011219,2103,-40.0038,-159.9963, 4724,    400.0,   7.8237,  34.4659,2,  34.4620,2,    248.9,2,    225.1,2,     5.08,2,    19.34,2,     0.02,2,     1.30,2,     0.05,2,   2132.5,2,  -999.00,9,    7.7835289
  49HH20011208,     9,  1,      7,      7,2,20011219,2103,-40.0038,-159.9963, 4724,    500.0,   7.3147,  34.4165,2,  34.4160,2,    253.9,2,    228.4,2,     5.96,2,    20.51,2,     0.02,2,     1.40,2,     0.05,2,   2134.0,2,  -999.00,9,   7.26609997
  49HH20011208,     9,  1,      6,      6,2,20011219,2103,-40.0038,-159.9963, 4724,    600.0,   6.9937,  34.3965,2,  34.3900,2,    244.7,2,    222.2,2,     8.11,2,    22.08,2,     0.02,2,     1.48,2,     0.05,2,   2142.0,2,  -999.00,9,    6.9364498
  49HH20011208,     9,  1,      5,      5,2,20011219,2103,-40.0038,-159.9963, 4724,    800.0,   6.1714,  34.3524,2,  34.3520,2,    229.2,2,    209.2,2,    13.38,2,    25.10,2,     0.02,2,     1.69,2,     0.05,2,   2155.3,2,  -999.00,9,   6.09897499
  49HH20011208,     9,  1,      4,      4,2,20011219,2103,-40.0038,-159.9963, 4724,   1001.0,   4.9875,  34.3363,2,  34.3380,2,    208.6,2,    190.9,2,    25.30,2,    29.01,2,     0.02,2,     1.94,2,     0.05,2,   2183.7,2,  -999.00,9,   4.90445339
  49HH20011208,     9,  1,      3,      3,2,20011219,2103,-40.0038,-159.9963, 4724,   1500.0,   3.0308,  34.5040,2,  34.5050,2,    167.8,2,    158.9,2,    69.25,2,    33.60,2,     0.02,2,     2.31,2,     0.05,2,   2252.2,2,  -999.00,9,    2.9227715
  49HH20011208,     9,  1,      2,      2,2,20011219,2103,-40.0038,-159.9963, 4724,   1999.0,   2.4187,  34.6113,2,  34.6670,2,    151.6,2,    143.0,2,   100.69,2,    34.47,2,     0.02,2,     2.38,2,     0.05,2,   2308.8,2,  -999.00,9,   2.27585536
  49HH20011208,     9,  1,      1,      1,2,20011219,2103,-40.0038,-159.9963, 4724,   2999.0,   1.8825,  34.6670,2,  34.6690,2,    153.9,2,    143.1,2,   120.51,2,    34.67,2,     0.02,2,     2.38,2,     0.05,2,   2309.5,2,  -999.00,9,   1.65738639
  49HH20011208,    10,  1,      0,      0,2,20011221,2155,-47.0037,-160.0093, 5117,      1.0,  13.6000,-999.0000,9,  34.2980,2,   -999.0,9,    248.7,2,     0.49,2,     7.03,2,     0.13,2,     0.60,2,     0.35,2,   2056.7,2,     0.22,2,   13.5998601
  49HH20011208,    10,  1,     20,     20,2,20011221,2155,-47.0037,-160.0093, 5117,      9.0,  13.1794,  34.3324,2,-999.0000,9,    280.6,2,    250.3,2,     0.49,2,     6.94,2,     0.13,2,     0.59,2,     0.19,2,   2060.9,2,     0.26,2,   13.1781673
  49HH20011208,    10,  1,     19,     19,2,20011221,2155,-47.0037,-160.0093, 5117,     20.0,  12.2532,  34.4431,2,  34.4430,2,    288.4,2,    256.0,2,     0.49,2,     7.23,2,     0.13,2,     0.66,2,     0.14,2,   2066.9,2,     0.32,2,   12.2505886
  49HH20011208,    10,  1,     18,     18,2,20011221,2155,-47.0037,-160.0093, 5117,     29.0,  11.9859,  34.4324,2,  34.4420,2,    289.7,2,    256.9,2,     0.49,2,     7.52,2,     0.11,2,     0.63,2,     0.36,2,   2067.2,2,     0.38,2,   11.9821678
  49HH20011208,    10,  1,     17,     17,2,20011221,2155,-47.0037,-160.0093, 5117,     42.0,  11.5444,  34.4423,2,  34.4460,2,    291.5,2,    259.4,2,     0.49,2,     7.91,2,     0.12,2,     0.66,2,     0.23,2,   2071.5,2,     0.39,2,   11.5391251
  49HH20011208,    10,  1,     16,     16,2,20011221,2155,-47.0037,-160.0093, 5117,     51.0,  10.9818,  34.4812,2,  34.4900,2,    290.6,2,    258.3,2,     0.49,2,     7.91,2,     0.12,2,     0.66,2,     0.36,2,   2076.7,2,     0.48,2,    10.975597
  49HH20011208,    10,  1,     15,     15,2,20011221,2155,-47.0037,-160.0093, 5117,     60.0,   9.8386,  34.4912,2,-999.0000,9,    294.5,2,    260.1,2,     1.47,2,     8.99,2,     0.14,2,     0.79,2,     0.41,2,   2082.4,2,     0.39,2,   9.83180144
  49HH20011208,    10,  1,     14,     14,2,20011221,2155,-47.0037,-160.0093, 5117,     69.0,   9.3143,  34.5090,2,  34.5110,2,    292.6,2,    253.9,2,     1.56,2,     9.67,2,     0.26,2,     0.80,2,     0.38,2,   2090.6,2,     0.26,2,   9.30674361
  49HH20011208,    10,  1,     13,     13,2,20011221,2155,-47.0037,-160.0093, 5117,     79.0,   9.1190,  34.5047,2,  34.5060,2,    289.4,2,    253.9,2,     1.56,2,    10.26,2,     0.44,2,     0.83,2,     0.21,2,   2093.1,2,     0.17,2,   9.11045888
  49HH20011208,    10,  1,     12,     12,2,20011221,2155,-47.0037,-160.0093, 5117,    101.0,   9.0425,  34.5312,2,  34.5340,2,    284.9,2,    251.3,2,     1.56,2,    11.23,2,     0.17,2,     0.87,2,     0.05,2,   2098.5,2,     0.07,2,   9.03161975
  49HH20011208,    10,  1,     11,     11,2,20011221,2155,-47.0037,-160.0093, 5117,    125.0,   8.9433,  34.5409,2,  34.5420,2,    283.3,2,    250.3,2,     1.95,2,    11.92,2,     0.04,2,     0.89,2,     0.11,2,   2099.8,2,     0.04,2,   8.92990639
  49HH20011208,    10,  1,     10,     10,2,20011221,2155,-47.0037,-160.0093, 5117,    150.0,   8.8085,  34.5390,2,  34.5400,2,    282.7,2,    248.7,2,     2.34,2,    12.60,2,     0.02,2,     1.02,2,     0.14,2,   2105.0,2,     0.02,2,   8.79255519
  49HH20011208,    10,  1,      9,      9,2,20011221,2155,-47.0037,-160.0093, 5117,    200.0,   8.7097,  34.5509,2,  34.5630,2,    281.1,2,    248.1,2,     2.64,2,    13.19,2,     0.02,2,     0.97,2,     0.11,2,   2108.1,2,     0.01,2,   8.68851749
  49HH20011208,    10,  1,      8,      8,2,20011221,2155,-47.0037,-160.0093, 5117,    250.0,   8.5356,  34.5382,2,  34.5410,2,    279.3,2,    247.1,2,     2.64,2,    13.97,2,     0.02,2,     1.00,2,      0.1,2,   2112.0,2,     0.00,2,    8.5093753
  49HH20011208,    10,  1,      7,      7,2,20011221,2155,-47.0037,-160.0093, 5117,    300.0,   8.3141,  34.5098,2,  34.5100,2,    276.7,2,    243.4,2,     3.22,2,    15.04,2,     0.02,2,     1.07,2,     0.05,2,   2115.4,2,  -999.00,9,    8.2830443
  49HH20011208,    10,  1,      6,      6,2,20011221,2155,-47.0037,-160.0093, 5117,    400.0,   7.7662,  34.4489,2,  34.4520,2,    266.0,2,    234.8,2,     4.69,2,    17.97,2,     0.02,2,     1.26,2,     0.05,2,   2126.0,2,  -999.00,9,   7.72620723
  49HH20011208,    10,  1,      5,      5,2,20011221,2155,-47.0037,-160.0093, 5117,    500.0,   7.4869,  34.4259,2,  34.4380,2,    270.8,2,    236.2,2,     4.79,2,    18.46,2,     0.02,2,     1.31,2,     0.05,2,   2127.4,2,  -999.00,9,   7.43763737
  49HH20011208,    10,  1,      4,      4,2,20011221,2155,-47.0037,-160.0093, 5117,    600.0,   7.1894,  34.3972,2,  34.4050,2,    266.8,2,    235.8,2,     5.96,2,    19.83,2,     0.02,2,     1.38,2,     0.05,2,   2132.0,2,  -999.00,9,   7.13125502
  49HH20011208,    10,  1,      3,      3,2,20011221,2155,-47.0037,-160.0093, 5117,    701.0,   6.8757,  34.3709,2,  34.3710,2,    263.8,2,    230.1,2,     7.03,2,    21.00,2,     0.02,2,     1.70,2,     0.05,2,   2133.5,2,  -999.00,9,   6.80897855
  49HH20011208,    10,  1,      2,      2,2,20011221,2155,-47.0037,-160.0093, 5117,    800.0,   6.4878,  34.3432,2,  34.3450,2,    255.2,2,    223.8,2,     9.48,2,    22.66,2,     0.02,2,     1.65,2,     0.05,2,   2142.4,2,  -999.00,9,   6.41347987
  49HH20011208,    10,  1,      1,      1,2,20011221,2155,-47.0037,-160.0093, 5117,   1000.0,   5.5955,  34.3262,2,  34.3270,2,    233.0,2,    203.1,2,    17.88,2,    26.57,2,     0.02,2,     1.83,2,     0.05,2,   2166.8,2,  -999.00,9,   5.50795764