BOTTLE,20081205PRINUNIVRMKPRINUNIVRMK
EXPOCODE,STNNBR,CASTNO,SAMPNO,BTLNBR,BTLNBR_FLAG_W,DATE,TIME,LATITUDE,LONGITUDE,DEPTH,CTDPRS,CTDTMP,CTDSAL,CTDSAL_FLAG_W,SALNTY,SALNTY_FLAG_W,CTDOXY,CTDOXY_FLAG_W,OXYGEN,OXYGEN_FLAG_W,SILCAT,SILCAT_FLAG_W,NITRAT,NITRAT_FLAG_W,NITRIT,NITRIT_FLAG_W,PHSPHT,PHSPHT_FLAG_W,AMMONI,AMMONI_FLAG_W,TCARBN,TCARBN_FLAG_W,CHLORA,CHLORA_FLAG_W,THETA
,,,,,,,,,,METERS,DBARS,ITS-90,PSS-78,,PSS-78,,UMOL/KG,,UMOL/KG,,UMOL/KG,,UMOL/KG,,UMOL/KG,,UMOL/KG,,UMOL/KG,,UMOL/KG,,UG/L,,DEGC
  49HH20011208,    14,  1,      6,      6,2,20020113, 426,-63.0015, 139.9980, 3790,   1499.0,   1.0721,  34.7279,2,  34.7280,2,    186.8,2,    196.4,2,   104.20,2,    29.88,2,     0.02,2,     2.08,2,     0.05,2,   -999.0,9,  -999.00,9,  0.986370764
  49HH20011208,    14,  1,      5,      5,2,20020113, 426,-63.0015, 139.9980, 3790,   2000.0,   0.6755,  34.7062,2,  34.7060,2,    192.8,2,    200.3,2,   113.77,2,    30.47,2,     0.02,2,     2.13,2,     0.05,2,   -999.0,9,  -999.00,9,  0.559119676
  49HH20011208,    14,  1,      4,      4,2,20020113, 426,-63.0015, 139.9980, 3790,   2500.0,   0.3356,  34.6900,2,  34.6910,2,    201.4,2,    207.7,2,   117.87,2,    30.76,2,     0.02,2,     2.13,2,     0.05,2,   -999.0,9,  -999.00,9,  0.186480704
  49HH20011208,    14,  1,      3,      3,2,20020113, 426,-63.0015, 139.9980, 3790,   3000.0,   0.1142,  34.6825,2,  34.6820,2,    210.0,2,    214.7,2,   119.63,2,    30.76,2,     0.02,2,     2.14,2,     0.05,2,   -999.0,9,  -999.00,9,-0.0718311139
  49HH20011208,    14,  1,      2,      2,2,20020113, 426,-63.0015, 139.9980, 3790,   3500.0,  -0.0797,  34.6731,2,  34.6710,2,    220.8,2,    223.4,2,   115.04,2,    30.57,2,     0.02,2,     2.10,2,     0.05,2,   -999.0,9,  -999.00,9, -0.305612574
  49HH20011208,    14,  1,      1,      1,2,20020113, 426,-63.0015, 139.9980, 3790,   3704.0,  -0.1990,  34.6644,2,  34.6630,2,    227.9,2,    228.2,2,   112.41,2,    30.47,2,     0.02,2,     2.11,2,     0.05,2,   -999.0,9,  -999.00,9, -0.440768255
  49HH20011208,    14,  1,     30,     30,2,20020113, 426,-63.0015, 139.9980, 3790,     65.0,  -0.9873,  34.0025,2,-999.0000,9,    307.2,2,   -999.0,9,  -999.00,9,  -999.00,9,  -999.00,9,  -999.00,9,     -999,9,   2170.7,2,  -999.00,9, -0.988990961
  49HH20011208,    14,  2,      0,      0,2,20020113,1005,-63.0015, 139.9980, 3790,      1.0,   1.6000,-999.0000,9,  33.5380,2,   -999.0,9,    339.7,2,    17.01,2,    21.99,2,     0.37,2,     1.37,2,     0.21,2,   2117.6,2,     0.97,2,   1.59995339
  49HH20011208,    14,  2,     29,     29,2,20020113,1005,-63.0015, 139.9980, 3790,     10.0,   1.2844,  33.5336,2,  33.5390,2,    315.7,2,    341.3,2,    17.01,2,    21.99,2,     0.37,2,     1.33,2,     0.19,2,   2116.5,2,     0.73,2,   1.28395956
  49HH20011208,    14,  2,     27,     27,2,20020113,1005,-63.0015, 139.9980, 3790,     19.0,   1.2471,  33.5582,2,  33.5620,2,    314.7,2,    340.6,2,    13.88,2,    21.80,2,     0.35,2,     1.36,2,     0.19,2,   2117.3,2,     0.67,2,   1.24626681
  49HH20011208,    14,  2,     25,     25,2,20020113,1005,-63.0015, 139.9980, 3790,     29.0,   1.2300,  33.5594,2,  33.5640,2,    313.0,2,    341.5,2,    14.37,2,    21.80,2,     0.35,2,     1.40,2,     0.18,2,   2119.1,2,     0.83,2,   1.22872979
  49HH20011208,    14,  2,     23,     23,2,20020113,1005,-63.0015, 139.9980, 3790,     40.0,   0.6728,  33.6625,2,  33.7130,2,    315.1,2,    344.3,2,    28.83,2,    23.94,2,     0.33,2,     1.64,2,     0.17,2,   2138.8,2,     1.14,2,  0.671221189
  49HH20011208,    14,  2,     21,     21,2,20020113,1005,-63.0015, 139.9980, 3790,     50.0,  -0.2229,  33.8519,2,  33.8410,2,    316.7,2,    344.2,2,    31.47,2,    25.11,2,     0.32,2,     1.72,2,     0.24,2,   2150.0,2,     1.00,2, -0.224508116
  49HH20011208,    14,  2,     19,     19,2,20020113,1005,-63.0015, 139.9980, 3790,     59.0,  -1.0453,  33.9793,2,  33.9670,2,    314.3,2,    344.3,2,    40.94,2,    25.89,2,     0.25,2,     1.81,2,     0.24,2,   2161.4,2,     0.87,2,  -1.04679769
  49HH20011208,    14,  2,     17,     17,2,20020113,1005,-63.0015, 139.9980, 3790,     70.0,  -0.5839,  34.0965,2,  34.0710,2,    282.2,2,    308.7,2,    44.94,2,    27.85,2,     0.26,2,     2.03,2,     0.49,2,   2185.8,2,     0.45,2, -0.585977838
  49HH20011208,    14,  2,     15,     15,2,20020113,1005,-63.0015, 139.9980, 3790,     80.0,  -0.3552,  34.1389,2,  34.1610,2,    256.4,2,    274.3,2,    48.55,2,    29.60,2,     0.24,2,     2.18,2,     0.54,2,   2205.7,2,     0.31,2, -0.357753284
  49HH20011208,    14,  2,     13,     13,2,20020113,1005,-63.0015, 139.9980, 3790,    100.0,  -0.0268,  34.2614,2,  34.2620,2,    236.0,2,    254.5,2,    56.17,2,    30.38,2,     0.22,2,     2.20,2,     0.51,2,   2217.7,2,     0.17,2,-0.0303101926
  49HH20011208,    14,  2,     11,     11,2,20020113,1005,-63.0015, 139.9980, 3790,    150.0,   1.8088,  34.5642,2,  34.5670,2,    162.4,2,    173.8,2,    73.74,2,    33.01,2,     0.15,2,     2.31,2,     0.05,2,   2255.7,2,     0.05,2,    1.8010747
  49HH20011208,    14,  2,      9,      9,2,20020113,1005,-63.0015, 139.9980, 3790,    200.0,   1.8622,  34.6168,2,  34.6170,2,    161.8,2,    172.4,2,    76.37,2,    32.33,2,     0.13,2,     2.26,2,     0.05,2,   2256.5,2,     0.03,2,   1.85170848
  49HH20011208,    14,  2,      7,      7,2,20020113,1005,-63.0015, 139.9980, 3790,    300.0,   1.9140,  34.6672,2,  34.6690,2,    163.8,2,    174.3,2,    78.52,2,    31.35,2,     0.12,2,     2.20,2,     0.05,2,   2254.9,2,     0.02,2,   1.89785336
  49HH20011208,    14,  2,      5,      5,2,20020113,1005,-63.0015, 139.9980, 3790,    400.0,   1.8682,  34.6918,2,  34.6940,2,    167.6,2,    176.7,2,    79.59,2,    30.66,2,     0.02,2,     2.14,2,     0.05,2,   2253.3,2,  -999.00,9,   1.84646594
  49HH20011208,    14,  2,      3,      3,2,20020113,1005,-63.0015, 139.9980, 3790,    499.0,   1.8252,  34.7146,2,  34.7150,2,    171.5,2,    180.9,2,    81.35,2,    30.37,2,     0.02,2,     2.07,2,     0.05,2,   2252.6,2,  -999.00,9,   1.79782763
  49HH20011208,    14,  2,      2,      2,2,20020113,1005,-63.0015, 139.9980, 3790,    700.0,   1.7359,  34.7376,2,  34.7370,2,    177.5,2,    187.2,2,    84.67,2,    29.69,2,     0.02,2,     2.00,2,     0.05,2,   -999.0,9,  -999.00,9,   1.69680304
  49HH20011208,    14,  2,      1,      1,2,20020113,1005,-63.0015, 139.9980, 3790,   1000.0,   1.4949,  34.7402,2,  34.7390,2,    184.3,2,    193.4,2,    90.23,2,    29.30,2,     0.02,2,     2.04,2,     0.05,2,   -999.0,9,  -999.00,9,    1.4384782
  49HH20011208,    15,  1,      6,      6,2,20020113,1633,-62.0052, 140.0003, 4253,   1499.0,   1.3108,  34.7388,2,-999.0000,9,    184.3,2,   -999.0,9,  -999.00,9,  -999.00,9,  -999.00,9,  -999.00,9,     -999,9,   -999.0,9,  -999.00,9,   1.22223125
  49HH20011208,    15,  1,      5,      5,2,20020113,1633,-62.0052, 140.0003, 4253,   2000.0,   0.8947,  34.7183,2,  34.7200,2,    189.6,2,    196.9,2,   108.01,2,    30.18,2,     0.02,2,     2.10,2,     0.05,2,   -999.0,9,  -999.00,9,  0.774878424
  49HH20011208,    15,  1,      4,      4,2,20020113,1633,-62.0052, 140.0003, 4253,   2499.0,   0.5286,  34.7000,2,  34.7010,2,    196.4,2,    203.7,2,   116.21,2,    30.86,2,     0.02,2,     2.14,2,     0.05,2,   -999.0,9,  -999.00,9,  0.375844233
  49HH20011208,    15,  1,      3,      3,2,20020113,1633,-62.0052, 140.0003, 4253,   3000.0,   0.2507,  34.6887,2,  34.6880,2,    205.1,2,    210.5,2,   121.00,2,    30.96,2,     0.02,2,     2.15,2,     0.05,2,   -999.0,9,  -999.00,9, 0.0615735744
  49HH20011208,    15,  1,      2,      2,2,20020113,1633,-62.0052, 140.0003, 4253,   3499.0,   0.0616,  34.6808,2,  34.6840,2,    213.8,2,    220.3,2,   119.44,2,    30.96,2,     0.02,2,     2.12,2,     0.05,2,   -999.0,9,  -999.00,9,  -0.16792965
  49HH20011208,    15,  1,      1,      1,2,20020113,1633,-62.0052, 140.0003, 4253,   4233.0,  -0.3340,  34.6494,2,  34.6500,2,    238.6,2,    237.2,2,   100.00,2,    30.18,2,     0.02,2,     2.10,2,     0.05,2,   -999.0,9,  -999.00,9, -0.623579668
  49HH20011208,    15,  1,     30,     30,2,20020113,1633,-62.0052, 140.0003, 4253,     89.0,  -0.5004,  34.0179,2,-999.0000,9,    285.4,2,   -999.0,9,  -999.00,9,  -999.00,9,  -999.00,9,  -999.00,9,     -999,9,   2180.9,2,  -999.00,9, -0.503112764
  49HH20011208,    15,  2,      0,      0,2,20020113,2239,-62.0052, 140.0003, 4253,      1.0,   1.7000,-999.0000,9,  33.8140,2,   -999.0,9,    327.2,2,    15.73,2,    23.94,2,     0.23,2,     1.49,2,      0.3,2,   2144.3,2,     0.25,2,   1.69995205
  49HH20011208,    15,  2,     29,     29,2,20020113,2239,-62.0052, 140.0003, 4253,      9.0,   1.3791,  33.8084,2,  33.8100,2,    309.9,2,   -999.0,9,    16.03,2,    24.04,2,     0.23,2,     1.49,2,     0.27,2,   2144.0,2,     0.31,2,   1.37869204
  49HH20011208,    15,  2,     27,     27,2,20020113,2239,-62.0052, 140.0003, 4253,     20.0,   1.3695,  33.8086,2,  33.8100,2,    309.5,2,   -999.0,9,    15.93,2,    24.33,2,     0.23,2,     1.49,2,     0.28,2,   2144.1,2,     0.28,2,   1.36859311
  49HH20011208,    15,  2,     25,     25,2,20020113,2239,-62.0052, 140.0003, 4253,     29.0,   1.3637,  33.8086,2,  33.8110,2,    309.0,2,   -999.0,9,    15.64,2,    24.43,2,     0.22,2,     1.49,2,     0.29,2,   2144.6,2,     0.19,2,   1.36238408
  49HH20011208,    15,  2,     23,     23,2,20020113,2239,-62.0052, 140.0003, 4253,     40.0,   1.3418,  33.8081,2,  33.8080,2,    308.3,2,    328.9,2,    15.44,2,    24.33,2,     0.23,2,     1.50,2,     0.24,2,   2143.3,2,     0.32,2,   1.33998863
  49HH20011208,    15,  2,     21,     21,2,20020113,2239,-62.0052, 140.0003, 4253,     50.0,   1.2944,  33.8073,2,  33.8070,2,    307.5,2,    328.2,2,    15.73,2,    23.84,2,     0.22,2,     1.53,2,     0.34,2,   2144.2,2,     0.38,2,   1.29215135
  49HH20011208,    15,  2,     19,     19,2,20020113,2239,-62.0052, 140.0003, 4253,     59.0,   0.0892,  33.8980,2,  33.8970,2,    313.5,2,    333.9,2,    19.35,2,    24.82,2,     0.21,2,     1.73,2,     0.47,2,   2154.0,2,     0.40,2, 0.0871335675
  49HH20011208,    15,  2,     17,     17,2,20020113,2239,-62.0052, 140.0003, 4253,     69.0,  -0.4947,  33.9286,2,  33.9290,2,    312.3,2,    334.8,2,    25.11,2,    25.89,2,     0.20,2,     1.87,2,     0.77,2,   2161.0,2,     0.29,2, -0.496781803
  49HH20011208,    15,  2,     15,     15,2,20020113,2239,-62.0052, 140.0003, 4253,    101.0,  -0.1762,  34.0813,2,  34.0690,2,    266.6,2,    290.0,2,    38.20,2,    28.14,2,     0.13,2,     2.10,2,      0.6,2,   2190.0,2,     0.05,2, -0.179580544
  49HH20011208,    15,  2,     13,     13,2,20020113,2239,-62.0052, 140.0003, 4253,    149.0,   1.8734,  34.4314,2,  34.4330,2,    171.1,2,    178.9,2,    63.10,2,    33.21,2,     0.02,2,     2.33,2,     0.05,2,   2246.2,2,     0.04,2,   1.86568413
  49HH20011208,    15,  2,     11,     11,2,20020113,2239,-62.0052, 140.0003, 4253,    200.0,   1.9830,  34.5106,2,  34.5160,2,    162.6,2,    170.1,2,    68.56,2,    33.01,2,     0.02,2,     2.32,2,     0.05,2,   2253.1,2,     0.05,2,   1.97234628
  49HH20011208,    15,  2,      9,      9,2,20020113,2239,-62.0052, 140.0003, 4253,    300.0,   2.0673,  34.5975,2,  34.6020,2,    158.8,2,    166.5,2,    72.86,2,    32.82,2,     0.02,2,     2.27,2,     0.07,2,   2256.5,2,     0.01,2,   2.05081353
  49HH20011208,    15,  2,      7,      7,2,20020113,2239,-62.0052, 140.0003, 4253,    400.0,   2.0427,  34.6498,2,  34.6510,2,    161.4,2,    167.5,2,    75.59,2,    31.84,2,     0.02,2,     2.17,2,     0.07,2,   2257.0,2,  -999.00,9,   2.02042849
  49HH20011208,    15,  2,      5,      5,2,20020113,2239,-62.0052, 140.0003, 4253,    499.0,   2.0299,  34.6858,2,  34.6910,2,    164.9,2,    171.1,2,    76.66,2,    31.06,2,     0.02,2,     2.14,2,     0.05,2,   2249.2,2,  -999.00,9,   2.00172078
  49HH20011208,    15,  2,      4,      4,2,20020113,2239,-62.0052, 140.0003, 4253,    600.0,   2.0045,  34.7097,2,  34.7110,2,    168.1,2,    173.2,2,    77.54,2,    30.37,2,     0.02,2,     2.09,2,     0.05,2,   -999.0,9,  -999.00,9,   1.97021573
  49HH20011208,    15,  2,      3,      3,2,20020113,2239,-62.0052, 140.0003, 4253,    699.0,   1.9326,  34.7232,2,  34.7240,2,    171.4,2,    177.8,2,    79.49,2,    30.08,2,     0.02,2,     2.04,2,     0.05,2,   -999.0,9,  -999.00,9,   1.89247406
  49HH20011208,    15,  2,      2,      2,2,20020113,2239,-62.0052, 140.0003, 4253,    799.0,   1.8718,  34.7334,2,  34.7330,2,    174.6,2,    180.3,2,    80.57,2,    29.59,2,     0.02,2,     2.05,2,     0.05,2,   -999.0,9,  -999.00,9,   1.82564987
  49HH20011208,    15,  2,      1,      1,2,20020113,2239,-62.0052, 140.0003, 4253,   1000.0,   1.7379,  34.7451,2,  34.7490,2,    180.4,2,    186.6,2,    83.98,2,    29.30,2,     0.02,2,     2.03,2,     0.05,2,   -999.0,9,  -999.00,9,   1.67952306
  49HH20011208,    16,  1,      8,      8,2,20020114, 758,-61.0020, 140.0067, 4398,   1250.0,   1.6488,  34.7467,2,  34.7460,2,    179.7,2,    191.0,2,    88.57,2,    30.18,2,     0.02,2,     2.03,2,     0.09,2,   -999.0,9,  -999.00,9,   1.57415359
  49HH20011208,    16,  1,      7,      7,2,20020114, 758,-61.0020, 140.0067, 4398,   1500.0,   1.4441,  34.7433,2,  34.7430,2,    182.9,2,    195.6,2,    94.14,2,    30.18,2,     0.02,2,     2.01,2,     0.07,2,   -999.0,9,  -999.00,9,   1.35388245
  49HH20011208,    16,  1,      6,      6,2,20020114, 758,-61.0020, 140.0067, 4398,   1999.0,   1.0474,  34.7257,2,-999.0000,9,    188.2,2,   -999.0,9,  -999.00,9,  -999.00,9,  -999.00,9,  -999.00,9,     -999,9,   -999.0,9,  -999.00,9,  0.925279235
  49HH20011208,    16,  1,      5,      5,2,20020114, 758,-61.0020, 140.0067, 4398,   2500.0,   0.6614,  34.7049,2,  34.7040,2,    194.1,2,    202.0,2,   114.55,2,    31.35,2,     0.02,2,     2.10,2,     0.09,2,   -999.0,9,  -999.00,9,  0.506027518
  49HH20011208,    16,  1,      4,      4,2,20020114, 758,-61.0020, 140.0067, 4398,   3000.0,   0.3508,  34.6920,2,  34.6920,2,    202.7,2,    209.6,2,   121.88,2,    31.54,2,     0.02,2,     2.15,2,     0.05,2,   -999.0,9,  -999.00,9,  0.159409651
  49HH20011208,    16,  1,      3,      3,2,20020114, 758,-61.0020, 140.0067, 4398,   3500.0,   0.1904,  34.6860,2,  34.6850,2,    209.9,2,    215.3,2,   125.98,2,    31.74,2,     0.02,2,     2.20,2,     0.12,2,   -999.0,9,  -999.00,9, -0.042534703
  49HH20011208,    16,  1,      2,      2,2,20020114, 758,-61.0020, 140.0067, 4398,   4000.0,   0.0400,  34.6799,2,  34.6790,2,    218.5,2,    222.3,2,   124.51,2,    31.64,2,     0.02,2,     2.13,2,     0.15,2,   -999.0,9,  -999.00,9, -0.237361014
  49HH20011208,    16,  1,      1,      1,2,20020114, 758,-61.0020, 140.0067, 4398,   4347.0,  -0.0933,  34.6713,2,  34.6700,2,    226.9,2,    227.9,2,   127.45,2,    31.54,2,     0.02,2,     2.11,2,     0.13,2,   -999.0,9,  -999.00,9, -0.402089399
  49HH20011208,    16,  2,     21,     21,2,20020114,1554,-61.0020, 140.0067, 4398,      1.0,   1.3000,-999.0000,9,  33.8840,2,   -999.0,9,    334.7,2,    20.91,2,    25.99,2,     0.23,2,     1.75,2,     0.45,2,   2153.7,2,     0.16,2,   1.29995527
  49HH20011208,    16,  2,     20,     20,2,20020114,1554,-61.0020, 140.0067, 4398,     10.0,   1.1511,  33.8791,2,  33.8820,2,    309.1,2,    334.8,2,    20.91,2,    26.09,2,     0.23,2,     1.71,2,     0.39,2,   2153.1,2,     0.14,2,   1.15066446
  49HH20011208,    16,  2,     19,     19,2,20020114,1554,-61.0020, 140.0067, 4398,     20.0,   1.1547,  33.8791,2,  33.8800,2,    308.4,2,    335.5,2,    21.01,2,    25.89,2,     0.23,2,     1.72,2,     0.36,2,   2153.8,2,     0.16,2,   1.15382661
  49HH20011208,    16,  2,     18,     18,2,20020114,1554,-61.0020, 140.0067, 4398,     30.0,   1.1394,  33.8788,2,  33.8820,2,    307.7,2,    334.2,2,    21.01,2,    25.89,2,     0.23,2,     1.71,2,     0.39,2,   2153.9,2,     0.16,2,   1.13809102
  49HH20011208,    16,  2,     17,     17,2,20020114,1554,-61.0020, 140.0067, 4398,     40.0,   0.9711,  33.8818,2,  33.8820,2,    308.6,2,    335.6,2,    20.62,2,    25.89,2,     0.22,2,     1.71,2,     0.38,2,   2153.5,2,     0.14,2,  0.969407805
  49HH20011208,    16,  2,     16,     16,2,20020114,1554,-61.0020, 140.0067, 4398,     50.0,   0.8968,  33.8818,2,  34.9890,0,    308.1,2,    334.1,2,    20.13,2,    25.80,2,     0.21,2,     1.67,2,     0.41,2,   2153.8,2,     0.16,2,  0.894711632
  49HH20011208,    16,  2,     15,     15,2,20020114,1554,-61.0020, 140.0067, 4398,     60.0,   0.8301,  33.8823,2,  33.8830,2,    307.5,2,    335.3,2,    20.03,2,    25.89,2,     0.21,2,     1.71,2,     0.43,2,   2154.5,2,     0.20,2,  0.827622219
  49HH20011208,    16,  2,     14,     14,2,20020114,1554,-61.0020, 140.0067, 4398,     70.0,   0.2689,  33.8973,2,  33.8880,2,    308.9,2,    335.9,2,    21.30,2,    25.99,2,     0.21,2,     1.75,2,      0.5,2,   2154.9,2,     0.18,2,  0.266335178
  49HH20011208,    16,  2,     13,     13,2,20020114,1554,-61.0020, 140.0067, 4398,     80.0,   0.1148,  33.8948,2,  33.8970,2,    306.2,2,    334.4,2,    24.14,2,    26.48,2,     0.21,2,     1.81,2,     0.59,2,   2159.3,2,     0.20,2,  0.111965089
  49HH20011208,    16,  2,     12,     12,2,20020114,1554,-61.0020, 140.0067, 4398,     99.0,  -0.2967,  33.9999,2,  34.0040,2,    277.5,2,    309.6,2,    33.71,2,    28.63,2,     0.15,2,     2.00,2,     0.71,2,   2181.0,2,     0.15,2, -0.299897416
  49HH20011208,    16,  2,     11,     11,2,20020114,1554,-61.0020, 140.0067, 4398,    125.0,   1.2275,  34.2694,2,-999.0000,9,    202.6,2,    219.0,2,    52.17,2,    33.31,2,     0.07,2,     2.26,2,     0.05,2,   2226.4,2,     0.09,2,   1.22175998
  49HH20011208,    16,  2,     10,     10,2,20020114,1554,-61.0020, 140.0067, 4398,    150.0,   1.8887,  34.3801,2,  34.3770,2,    176.7,2,    190.4,2,    59.78,2,    34.48,2,     0.02,2,     2.32,2,     0.05,2,   2241.8,2,     0.05,2,    1.8809273
  49HH20011208,    16,  2,      9,      9,2,20020114,1554,-61.0020, 140.0067, 4398,    200.0,   2.0900,  34.4609,2,  34.4620,2,    164.4,2,    177.1,2,    65.73,2,    34.58,2,     0.02,2,     2.40,2,     0.05,2,   2249.9,2,     0.02,2,   2.07919003
  49HH20011208,    16,  2,      8,      8,2,20020114,1554,-61.0020, 140.0067, 4398,    250.0,   2.1131,  34.5112,2,  34.5030,2,    160.6,2,    173.0,2,    68.96,2,    34.28,2,     0.02,2,     2.33,2,     0.06,2,   2252.6,2,     0.01,2,   2.09941681
  49HH20011208,    16,  2,      7,      7,2,20020114,1554,-61.0020, 140.0067, 4398,    300.0,   2.1258,  34.5513,2,  34.5500,2,    159.3,2,    170.7,2,    70.91,2,    33.89,2,     0.02,2,     2.31,2,     0.05,2,   2253.6,2,     0.01,2,   2.10919817
  49HH20011208,    16,  2,      6,      6,2,20020114,1554,-61.0020, 140.0067, 4398,    400.0,   2.1682,  34.6177,2,  34.6160,2,    159.0,2,    170.0,2,    73.93,2,    33.11,2,     0.02,2,     2.27,2,     0.07,2,   2254.2,2,  -999.00,9,   2.14554564
  49HH20011208,    16,  2,      5,      5,2,20020114,1554,-61.0020, 140.0067, 4398,    500.0,   2.1319,  34.6570,2,  34.6560,2,    161.7,2,    171.9,2,    75.78,2,    32.52,2,     0.02,2,     2.21,2,     0.08,2,   2253.7,2,  -999.00,9,   2.10327863
  49HH20011208,    16,  2,      4,      4,2,20020114,1554,-61.0020, 140.0067, 4398,    600.0,   2.1097,  34.6897,2,  34.6900,2,    165.2,2,    174.3,2,    77.05,2,    31.64,2,     0.02,2,     2.24,2,     0.12,2,   -999.0,9,  -999.00,9,   2.07492945
  49HH20011208,    16,  2,      3,      3,2,20020114,1554,-61.0020, 140.0067, 4398,    700.0,   2.0214,  34.7052,2,  34.7050,2,    168.3,2,    179.4,2,    78.52,2,    31.35,2,     0.02,2,     2.08,2,     0.06,2,   -999.0,9,  -999.00,9,   1.98073506
  49HH20011208,    16,  2,      2,      2,2,20020114,1554,-61.0020, 140.0067, 4398,    799.0,   1.9869,  34.7216,2,  34.7200,2,    171.6,2,    181.8,2,    79.88,2,    30.76,2,     0.02,2,     2.06,2,     0.05,2,   -999.0,9,  -999.00,9,   1.94003208
  49HH20011208,    16,  2,      1,      1,2,20020114,1554,-61.0020, 140.0067, 4398,   1001.0,   1.8665,  34.7407,2,  34.7590,2,    177.8,2,    188.4,2,    83.00,2,    30.37,2,     0.02,2,     2.02,2,      0.1,2,   -999.0,9,  -999.00,9,   1.80701545