BOTTLE,20081205PRINUNIVRMKPRINUNIVRMK
EXPOCODE,STNNBR,CASTNO,SAMPNO,BTLNBR,BTLNBR_FLAG_W,DATE,TIME,LATITUDE,LONGITUDE,DEPTH,CTDPRS,CTDTMP,CTDSAL,CTDSAL_FLAG_W,SALNTY,SALNTY_FLAG_W,CTDOXY,CTDOXY_FLAG_W,OXYGEN,OXYGEN_FLAG_W,SILCAT,SILCAT_FLAG_W,NITRAT,NITRAT_FLAG_W,NITRIT,NITRIT_FLAG_W,PHSPHT,PHSPHT_FLAG_W,AMMONI,AMMONI_FLAG_W,TCARBN,TCARBN_FLAG_W,CHLORA,CHLORA_FLAG_W,THETA
,,,,,,,,,,METERS,DBARS,ITS-90,PSS-78,,PSS-78,,UMOL/KG,,UMOL/KG,,UMOL/KG,,UMOL/KG,,UMOL/KG,,UMOL/KG,,UMOL/KG,,UMOL/KG,,UG/L,,DEGC
  49HH20011208,    10,  2,      9,      9,2,20011221, 442,-47.0037,-160.0093, 5117,   1250.0,   4.1946,  34.3406,2,  34.3410,2,    201.4,2,    191.0,2,    34.78,2,    30.48,2,     0.02,2,     2.11,2,     0.05,2,   2200.8,2,  -999.00,9,   4.09616023
  49HH20011208,    10,  2,      8,      8,2,20011221, 442,-47.0037,-160.0093, 5117,   1500.0,   3.2166,  34.4203,2,  34.4270,2,    182.5,2,    174.6,2,    53.92,2,    32.82,2,     0.02,2,     2.34,2,     0.05,2,   2234.9,2,  -999.00,9,    3.1066364
  49HH20011208,    10,  2,      7,      7,2,20011221, 442,-47.0037,-160.0093, 5117,   1999.0,   2.5714,  34.5902,2,  34.5920,2,    162.1,2,    157.7,2,    82.53,2,    33.40,2,     0.02,2,     2.49,2,     0.08,2,   2271.7,2,  -999.00,9,   2.42650084
  49HH20011208,    10,  2,      6,      6,2,20011221, 442,-47.0037,-160.0093, 5117,   2500.0,   2.2084,  34.6778,2,  34.6770,2,    166.9,2,    160.4,2,    91.41,2,    32.42,2,     0.02,2,     2.30,2,     0.05,2,   2273.0,2,  -999.00,9,   2.02410845
  49HH20011208,    10,  2,      5,      5,2,20011221, 442,-47.0037,-160.0093, 5117,   2999.0,   1.8989,  34.7165,2,  34.7180,2,    179.1,2,    173.3,2,    95.60,2,    31.35,2,     0.02,2,     2.19,2,     0.05,2,   2266.5,2,  -999.00,9,   1.67318651
  49HH20011208,    10,  2,      4,      4,2,20011221, 442,-47.0037,-160.0093, 5117,   3499.0,   1.5800,  34.7295,2,  34.7190,2,    193.2,2,    192.5,2,    99.51,2,    30.66,2,     0.02,2,     2.13,2,     0.05,2,   2266.3,2,  -999.00,9,   1.31168491
  49HH20011208,    10,  2,      3,      3,2,20011221, 442,-47.0037,-160.0093, 5117,   4000.0,   1.2315,  34.7174,2,  34.7320,2,    199.5,2,    186.8,2,   109.47,2,    31.15,2,     0.02,2,     2.19,2,     0.07,2,   2262.5,2,  -999.00,9,  0.919811285
  49HH20011208,    10,  2,      2,      2,2,20011221, 442,-47.0037,-160.0093, 5117,   4500.0,   1.0364,  34.7079,2,  34.7100,2,    204.4,2,    195.5,2,   116.21,2,    31.45,2,     0.02,2,     2.42,3,     0.05,2,   2264.5,2,  -999.00,9,  0.675632804
  49HH20011208,    10,  2,      1,      1,2,20011221, 442,-47.0037,-160.0093, 5117,   5118.0,   1.0133,  34.7034,2,  34.7070,2,    210.5,2,    196.7,2,   118.65,2,    31.54,2,     0.02,2,     2.19,2,     0.07,2,   2265.0,2,  -999.00,9,   0.58121524
  49HH20011208,    10,  2,     20,     20,2,20011221, 442,-47.0037,-160.0093, 5117,   5145.0,   1.0148,  34.7033,2,  34.7040,2,    210.3,2,    196.9,2,   118.56,2,    31.45,2,     0.02,2,     2.14,2,     0.05,2,   2263.6,2,  -999.00,9,  0.579428839
  49HH20011208,    10,  2,     21,     21,2,20011221, 442,-47.0037,-160.0093, 5117,   5169.0,   1.0166,  34.7033,2,  34.7060,2,    210.2,2,    197.0,2,   118.46,2,    31.45,2,     0.02,2,     2.15,2,     0.05,2,   2264.6,2,  -999.00,9,  0.578246224
  49HH20011208,    10,  2,     22,     22,2,20011221, 442,-47.0037,-160.0093, 5117,   5180.0,   1.0184,  34.7032,2,  34.7050,2,    210.0,2,    197.4,2,   118.36,2,    31.54,2,     0.02,2,     2.16,2,     0.05,2,   2264.8,2,  -999.00,9,  0.578657827
  49HH20011208,    10,  2,     23,     23,2,20011221, 442,-47.0037,-160.0093, 5117,   5185.0,   1.0187,  34.7032,2,  34.7060,2,    210.0,2,    197.5,2,   118.65,2,    31.45,2,     0.02,2,     2.15,2,     0.05,2,   2264.6,2,  -999.00,9,  0.578332685
  49HH20011208,    10,  2,     24,     24,2,20011221, 442,-47.0037,-160.0093, 5117,   5189.0,   1.0190,  34.7032,2,  34.7050,2,    209.8,2,    198.2,2,   119.63,2,    31.45,2,     0.02,2,     2.16,2,     0.05,2,   2265.3,2,  -999.00,9,  0.578144651
  49HH20011208,    10,  2,     25,     25,2,20011221, 442,-47.0037,-160.0093, 5117,   5196.0,   1.0200,  34.7032,2,  34.7060,2,    209.7,2,    196.2,2,   119.14,2,    31.45,2,     0.02,2,     2.16,2,     0.05,2,   2265.4,2,  -999.00,9,   0.57825138
  49HH20011208,    10,  2,     26,     26,2,20011221, 442,-47.0037,-160.0093, 5117,   5201.0,   1.0205,  34.7032,2,  34.7330,2,    209.6,2,    193.5,2,   115.23,2,    31.44,2,     0.02,2,     2.18,2,     0.05,2,   2265.4,2,  -999.00,9,  0.577909384
  49HH20011208,    10,  2,     27,     27,2,20011221, 442,-47.0037,-160.0093, 5117,   5208.0,   1.0214,  34.7032,2,-999.0000,9,    209.8,2,    197.1,2,   118.56,2,    31.45,2,     0.02,2,     2.16,2,     0.05,2,   2264.3,2,  -999.00,9,   0.57816577
  49HH20011208,    10,  2,     28,     28,2,20011221, 442,-47.0037,-160.0093, 5117,   5213.0,   1.0221,  34.7032,2,  34.7190,2,    209.4,2,    197.7,2,   118.85,2,    31.45,2,     0.02,2,     2.17,2,     0.05,2,   2265.9,2,  -999.00,9,  0.578105637
  49HH20011208,    10,  2,     29,     29,2,20011221, 442,-47.0037,-160.0093, 5117,   5220.0,   1.0230,  34.7032,2,  34.7080,2,    209.5,2,    197.0,2,   118.75,2,    31.45,2,     0.02,2,     2.16,2,     0.05,2,   2263.7,2,  -999.00,9,   0.57821005
  49HH20011208,    12,  3,      0,      0,2,20020109,2344,-65.6888, 140.1317,  325,      1.0,  -0.6000,-999.0000,9,  33.1800,2,   -999.0,9,    384.1,2,    48.98,2,    13.00,2,     0.08,2,     1.02,2,     0.19,2,   2039.5,2,     7.11,2,  -0.60002718
  49HH20011208,    12,  3,     12,     12,2,20020109,2344,-65.6888, 140.1317,  325,     10.0,  -0.6869,  33.7691,2,  33.7390,2,    329.3,2,    373.6,2,    51.89,2,    17.30,2,     0.09,2,     1.33,2,     0.63,2,   2100.5,2,     6.88,2, -0.687175857
  49HH20011208,    12,  3,     16,     16,2,20020109,2344,-65.6888, 140.1317,  325,     20.0,  -0.9954,  34.1073,2,  34.0940,2,    301.5,2,    336.8,2,    58.13,2,    23.45,2,     0.06,2,     1.70,2,     0.84,2,   2163.7,2,    11.31,2, -0.995913751
  49HH20011208,    12,  3,     18,     18,2,20020109,2344,-65.6888, 140.1317,  325,     29.0,  -1.1934,  34.2406,2,  34.2190,2,    289.2,2,    317.7,2,    61.25,2,    26.18,2,     0.02,2,     1.89,2,      0.8,2,   2190.0,2,     9.40,2,  -1.19410451
  49HH20011208,    12,  3,      1,      1,2,20020109,2344,-65.6888, 140.1317,  325,     40.0,  -1.2695,  34.2869,2,  34.2660,2,    284.1,2,    310.7,2,    62.42,2,    27.06,2,     0.05,2,     1.90,2,     0.72,2,   2198.1,2,     3.41,2,  -1.27045314
  49HH20011208,    12,  3,     21,     21,2,20020109,2344,-65.6888, 140.1317,  325,     49.0,  -1.3983,  34.3607,2,  34.3460,2,    271.5,2,    297.6,2,    65.35,2,    28.43,2,     0.05,2,     1.97,2,     0.43,2,   2211.0,2,     1.50,2,  -1.39942447
  49HH20011208,    12,  3,     22,     22,2,20020109,2344,-65.6888, 140.1317,  325,     69.0,  -1.4534,  34.4029,2,  34.3940,2,    268.1,2,    290.3,2,    67.11,2,    29.01,2,     0.07,2,     2.02,2,     0.24,2,   2218.4,2,     0.90,2,   -1.4549702
  49HH20011208,    12,  3,     26,     26,2,20020109,2344,-65.6888, 140.1317,  325,    101.0,  -1.4935,  34.4350,2,  34.4250,2,    264.0,2,    284.0,2,    68.57,2,    29.60,2,     0.04,2,     2.05,2,     0.05,2,   2221.9,2,     0.22,2,  -1.49580079
  49HH20011208,    12,  3,      4,      4,2,20020109,2344,-65.6888, 140.1317,  325,    125.0,  -1.5119,  34.4506,2,  34.4440,2,    262.7,2,    283.3,2,    68.96,2,    29.89,2,     0.03,2,     2.01,2,     0.05,2,   2225.4,2,     0.10,2,  -1.51476144
  49HH20011208,    12,  3,      9,      9,2,20020109,2344,-65.6888, 140.1317,  325,    151.0,  -1.4181,  34.4688,2,  34.4920,2,    258.7,2,    278.4,2,    69.93,2,    29.99,2,     0.03,2,     2.05,2,     0.06,2,   2226.6,2,     0.07,2,  -1.42173222
  49HH20011208,    12,  3,     31,     31,2,20020109,2344,-65.6888, 140.1317,  325,    200.0,  -0.7350,  34.5475,2,  34.5210,2,    236.3,2,    254.2,2,    76.87,2,    30.18,2,     0.02,2,     2.05,2,     0.05,2,   2234.2,2,     0.06,2,  -0.74109488
  49HH20011208,    12,  3,     33,     33,2,20020109,2344,-65.6888, 140.1317,  325,    251.0,  -0.3642,  34.6078,2,  34.5990,2,    225.7,2,    242.8,2,    85.46,2,    30.37,2,     0.04,2,     2.31,2,     0.07,2,   2242.3,2,     0.07,2, -0.372800495
  49HH20011208,    12,  3,     36,     36,2,20020109,2344,-65.6888, 140.1317,  325,    300.0,  -0.7251,  34.6234,2,  34.6100,2,    237.1,2,    235.7,2,    85.75,2,    30.18,2,     0.05,2,     2.11,2,     0.07,2,   2243.2,2,     0.15,2, -0.734601151
  49HH20011208,    12,  4,      6,      6,2,20020109, 454,-65.6888, 140.1317,  325,     69.0,  -1.7721,  34.3030,2,-999.0000,9,    288.1,2,   -999.0,9,  -999.00,9,  -999.00,9,  -999.00,9,  -999.00,9,     -999,9,   2203.5,2,  -999.00,9,  -1.77346545
  49HH20011208,    12,  4,     18,     18,2,20020109, 454,-65.6888, 140.1317,  325,    101.0,  -1.7585,  34.3180,2,-999.0000,9,    286.0,2,   -999.0,9,  -999.00,9,  -999.00,9,  -999.00,9,  -999.00,9,     -999,9,   2206.4,2,  -999.00,9,  -1.76054572
  49HH20011208,    12,  4,     36,     36,2,20020109, 454,-65.6888, 140.1317,  325,    150.0,  -1.7024,  34.3480,2,-999.0000,9,    279.9,2,   -999.0,9,  -999.00,9,  -999.00,9,  -999.00,9,  -999.00,9,     -999,9,   2213.2,2,  -999.00,9,  -1.70559315
  49HH20011208,    12,  1,     26,     26,2,20020109,1712,-65.6888, 140.1317,  325,     59.0,  -1.3720,  34.2807,2,-999.0000,9,    281.8,2,   -999.0,9,    51.19,2,    27.84,2,     0.12,2,     1.93,2,     0.42,2,   2199.1,2,     0.96,2,  -1.37336575
  49HH20011208,    12,  1,     16,     16,2,20020109,1712,-65.6888, 140.1317,  325,     75.0,  -1.4304,  34.3046,2,-999.0000,9,    272.8,2,   -999.0,9,    53.14,2,    28.43,2,     0.12,2,     1.97,2,     0.35,2,   2204.5,2,     0.94,2,  -1.43211312
  49HH20011208,    12,  1,     36,     36,2,20020109,1712,-65.6888, 140.1317,  325,     90.0,  -1.3707,  34.3571,2,-999.0000,9,    261.3,2,   -999.0,9,    57.14,2,    29.21,2,     0.13,2,     2.04,2,     0.21,2,   2212.7,2,     0.34,2,  -1.37282496
  49HH20011208,    12,  1,      6,      6,2,20020109,1712,-65.6888, 140.1317,  325,    125.0,  -0.9568,  34.4324,2,-999.0000,9,    239.7,2,   -999.0,9,    64.66,2,    30.28,2,     0.06,2,     2.06,2,     0.05,2,   2226.2,2,     0.10,2, -0.960260442
  49HH20011208,    12,  1,      5,      5,2,20020109,1712,-65.6888, 140.1317,  325,   1249.0,   0.4468,  34.6906,2,  34.6800,2,    192.7,2,    206.9,2,   108.69,2,    31.35,2,     0.02,2,     2.14,2,     0.04,2,   -999.0,9,  -999.00,9,  0.384318148
  49HH20011208,    12,  1,      4,      4,2,20020109,1712,-65.6888, 140.1317,  325,   1499.0,   0.2907,  34.6839,2,  34.6740,2,    197.1,2,    211.7,2,   109.57,2,    31.25,2,     0.02,2,     2.14,2,     0.06,2,   -999.0,9,  -999.00,9,  0.214389094
  49HH20011208,    12,  1,      3,      3,2,20020109,1712,-65.6888, 140.1317,  325,   1999.0,  -0.0276,  34.6729,2,  34.6640,2,    209.7,2,    227.0,2,   107.91,2,    31.06,2,     0.02,2,     2.17,2,     0.07,2,   -999.0,9,  -999.00,9, -0.132804911
  49HH20011208,    12,  1,      2,      2,2,20020109,1712,-65.6888, 140.1317,  325,   2500.0,  -0.4692,  34.6501,2,  34.6410,2,    232.2,2,    243.7,2,    92.97,2,    30.67,2,     0.03,2,     2.11,2,     0.05,2,   -999.0,9,  -999.00,9, -0.602663015
  49HH20011208,    12,  1,      1,      1,2,20020109,1712,-65.6888, 140.1317,  325,   2614.0,  -0.4670,  34.6502,2,  34.6420,2,    233.5,2,    242.0,2,    93.66,2,    30.86,2,     0.03,2,     2.10,2,     0.05,2,   -999.0,9,  -999.00,9, -0.609101926
  49HH20011208,    12,  2,      0,      0,2,20020109,2324,-65.6888, 140.1317,  325,      1.0,   1.1000,-999.0000,9,  33.7710,2,   -999.0,9,    377.7,2,    44.86,2,    13.68,2,     0.03,2,     1.20,2,     0.36,2,   2063.7,2,     9.93,2,   1.09995716
  49HH20011208,    12,  2,     35,     35,2,20020109,2324,-65.6888, 140.1317,  325,     10.0,   0.8764,  33.7725,2,  33.7940,2,    346.0,2,    387.2,2,    45.25,2,    13.39,2,     0.05,2,     1.20,2,     0.36,2,   2063.8,2,     9.51,2,  0.875989258
  49HH20011208,    12,  2,     31,     31,2,20020109,2324,-65.6888, 140.1317,  325,     20.0,   0.6038,  33.8428,2,  33.8860,2,    334.9,2,    387.2,2,    48.27,2,    14.36,2,     0.06,2,     1.33,2,     0.51,2,   2081.2,2,     6.60,2,  0.603019464
  49HH20011208,    12,  2,     29,     29,2,20020109,2324,-65.6888, 140.1317,  325,     30.0,  -1.0722,  34.1955,2,  34.1880,2,    306.2,2,    341.8,2,    42.89,2,    25.79,2,     0.12,2,     1.80,2,     0.65,2,   2175.0,2,     2.22,2,  -1.07295895
  49HH20011208,    12,  2,     25,     25,2,20020109,2324,-65.6888, 140.1317,  325,     50.0,  -1.2589,  34.2670,2,  34.2600,2,    293.4,2,    329.2,2,    52.17,2,    27.35,2,     0.10,2,     1.98,2,     0.68,2,   2194.2,2,     4.23,2,  -1.26010032
  49HH20011208,    12,  2,     21,     21,2,20020109,2324,-65.6888, 140.1317,  325,     70.0,  -1.4139,  34.3169,2,  34.3090,2,    276.6,2,    305.1,2,    53.24,2,    28.43,2,     0.11,2,     1.95,2,     0.38,2,   2205.4,2,     0.86,2,  -1.41550617
  49HH20011208,    12,  2,     17,     17,2,20020109,2324,-65.6888, 140.1317,  325,    100.0,  -1.3896,  34.3652,2,  34.3600,2,    263.7,2,    288.5,2,    58.41,2,    29.50,2,     0.11,2,     1.99,2,     0.12,2,   2215.2,2,     0.32,2,  -1.39195491
  49HH20011208,    12,  2,     13,     13,2,20020109,2324,-65.6888, 140.1317,  325,    151.0,  -0.6217,  34.4811,2,  34.4830,2,    234.0,2,    251.4,2,    67.78,2,    30.47,2,     0.05,2,     2.22,2,     0.05,2,   2231.0,2,     0.08,2, -0.626367569
  49HH20011208,    12,  2,      9,      9,2,20020109,2324,-65.6888, 140.1317,  325,    200.0,  -0.2415,  34.5372,2,  34.5380,2,    222.8,2,    239.4,2,    72.96,2,    30.57,2,     0.02,2,     2.04,2,     0.05,2,   2237.6,2,     0.03,2, -0.248444008
  49HH20011208,    12,  2,      5,      5,2,20020109,2324,-65.6888, 140.1317,  325,    301.0,   0.7073,  34.6488,2,  34.6450,2,    197.9,2,    211.1,2,    80.57,2,    30.57,2,     0.02,2,     2.14,2,     0.05,2,   2246.5,2,     0.01,2,  0.694109316
  49HH20011208,    12,  2,      3,      3,2,20020109,2324,-65.6888, 140.1317,  325,    499.0,   1.1061,  34.7115,2,  34.7020,2,    187.2,2,    200.2,2,    90.14,2,    30.27,2,     0.02,2,     2.02,2,      0.1,2,   2251.7,2,  -999.00,9,   1.08166938
  49HH20011208,    12,  2,      2,      2,2,20020109,2324,-65.6888, 140.1317,  325,    700.0,   0.8293,  34.6994,2,  34.6910,2,    190.9,2,    204.0,2,    95.80,2,    30.76,2,     0.02,2,     2.09,2,      0.1,2,   -999.0,9,  -999.00,9,  0.795412956
  49HH20011208,    12,  2,      1,      1,2,20020109,2324,-65.6888, 140.1317,  325,   1000.0,   0.6402,  34.6977,2,  34.6900,2,    193.0,2,    205.3,2,   104.69,2,    31.06,2,     0.02,2,     2.13,2,     0.05,2,   -999.0,9,  -999.00,9,  0.590738638
  49HH20011208,    13,  1,     10,     10,2,20020112,1047,-63.9958, 139.9437, 3700,   1500.0,   0.9369,  34.7199,2,  34.7110,2,    187.9,2,    199.3,2,   102.54,2,    30.27,2,     0.11,2,     2.10,2,     0.05,2,   -999.0,9,     0.00,2,  0.852743827
  49HH20011208,    13,  1,      7,      7,2,20020112,1047,-63.9958, 139.9437, 3700,   2000.0,   0.5394,  34.6983,2,  34.6860,2,    194.7,2,    204.1,2,   111.33,2,    30.86,2,     0.11,2,     2.13,2,     0.05,2,   -999.0,9,     0.00,2,  0.425201629
  49HH20011208,    13,  1,      4,      4,2,20020112,1047,-63.9958, 139.9437, 3700,   2999.0,  -0.0114,  34.6767,2,  34.6630,2,    214.1,2,    219.7,2,   108.99,2,    30.67,2,     0.12,2,     2.10,2,     0.05,2,   -999.0,9,     0.00,2, -0.194423123
  49HH20011208,    13,  1,      1,      1,2,20020112,1047,-63.9958, 139.9437, 3700,   3620.0,  -0.5238,  34.6393,2,  34.6260,2,    241.8,2,    243.6,2,    91.31,2,    30.18,2,     0.12,2,     2.09,2,     0.05,2,   -999.0,9,     0.00,2, -0.748815132
  49HH20011208,    13,  2,      0,      0,2,20020112,2233,-63.9958, 139.9437, 3700,      1.0,   0.9000,-999.0000,9,  33.6080,2,   -999.0,9,    350.4,2,    24.14,2,    20.04,2,     0.19,2,     1.28,2,     0.21,2,   2103.6,2,     2.17,2,  0.899959152
  49HH20011208,    13,  2,     28,     28,2,20020112,2233,-63.9958, 139.9437, 3700,     10.0,   0.7507,  33.6053,2,  33.6100,2,    323.9,2,    346.4,2,    24.24,2,    19.94,2,     0.27,2,     1.29,2,     0.21,2,   2104.7,2,     2.04,2,   0.75030332
  49HH20011208,    13,  2,     25,     25,2,20020112,2233,-63.9958, 139.9437, 3700,     19.0,   0.7388,  33.6056,2,  33.6080,2,    322.4,2,    346.3,2,    24.04,2,    19.84,2,     0.28,2,     1.27,2,     0.27,2,   2105.0,2,     2.82,2,  0.738046752
  49HH20011208,    13,  2,     22,     22,2,20020112,2233,-63.9958, 139.9437, 3700,     30.0,   0.3892,  33.6490,2,  33.6780,2,    315.8,2,    343.8,2,    26.39,2,    21.01,2,     0.26,2,     1.48,2,     0.39,2,   2118.0,2,  -999.00,9,  0.388092866
  49HH20011208,    13,  2,     19,     19,2,20020112,2233,-63.9958, 139.9437, 3700,     40.0,  -1.1883,  34.0210,2,  34.0450,2,    294.6,2,    315.6,2,    40.74,2,    26.09,2,     0.24,2,     2.02,2,     0.82,2,   2175.7,2,     1.59,2,  -1.18926428
  49HH20011208,    13,  2,     16,     16,2,20020112,2233,-63.9958, 139.9437, 3700,     50.0,  -0.6842,  34.2112,2,  34.1850,2,    258.4,2,    283.5,2,    50.70,2,    29.11,2,     0.23,2,     2.16,2,     0.75,2,   2200.3,2,     0.59,2, -0.685642337
  49HH20011208,    13,  2,     13,     13,2,20020112,2233,-63.9958, 139.9437, 3700,     70.0,   0.9831,  34.4540,2,  34.4590,2,    191.1,2,    198.8,2,    65.54,2,    32.23,2,     0.21,2,     2.26,2,     0.19,2,   2243.1,2,     0.21,2,  0.980038274
  49HH20011208,    13,  2,     10,     10,2,20020112,2233,-63.9958, 139.9437, 3700,    100.0,   1.5875,  34.5563,2,  34.5710,2,    168.5,2,    178.4,2,    71.20,2,    32.72,2,     0.17,2,     2.27,2,     0.15,2,   2253.0,2,     0.00,2,   1.58257506
  49HH20011208,    13,  2,      7,      7,2,20020112,2233,-63.9958, 139.9437, 3700,    199.0,   1.7672,  34.6399,2,  34.6410,2,    166.4,2,    174.7,2,    75.00,2,    31.64,2,     0.12,2,     2.25,2,     0.05,2,   2254.5,2,     0.03,2,   1.75690959
  49HH20011208,    13,  2,      5,      5,2,20020112,2233,-63.9958, 139.9437, 3700,    300.0,   1.8799,  34.6890,2,  34.6830,2,    166.5,2,    176.0,2,    76.86,2,    31.06,2,     0.13,2,     2.15,2,     0.05,2,   2252.9,2,     0.03,2,   1.86382952
  49HH20011208,    13,  2,      3,      3,2,20020112,2233,-63.9958, 139.9437, 3700,    500.0,   1.7391,  34.7210,2,  34.7110,2,    174.5,2,    181.9,2,    80.86,2,    30.18,2,     0.11,2,     2.07,2,     0.05,2,   2250.6,2,  -999.00,9,   1.71202195
  49HH20011208,    13,  2,      2,      2,2,20020112,2233,-63.9958, 139.9437, 3700,    700.0,   1.6213,  34.7363,2,  34.7280,2,    179.7,2,    186.8,2,    84.37,2,    29.59,2,     0.11,2,     2.02,2,     0.05,2,   -999.0,9,  -999.00,9,    1.5828615
  49HH20011208,    13,  2,      1,      1,2,20020112,2233,-63.9958, 139.9437, 3700,   1000.0,   1.3986,  34.7386,2,  34.7290,2,    185.8,2,    190.9,2,    90.53,2,    29.49,2,     0.11,2,     1.98,2,     0.05,2,   -999.0,9,  -999.00,9,   1.34296575