BOTTLE,20091023WHPSIOSCD
#code : jjward hyd_to_exchange.pl 
#original files copied from HTML directory: 20091023
#original HYD file: 32OC20080510hy.txt   Fri Oct 23 22:20:05 2009
#original SUM file: 32OC20080510su.txt   Fri Oct 23 16:32:37 2009
EXPOCODE,SECT_ID,STNNBR,CASTNO,SAMPNO,BTLNBR,BTLNBR_FLAG_W,DATE,TIME,LATITUDE,LONGITUDE,DEPTH,CTDPRS,CTDTMP,CTDSAL,CTDSAL_FLAG_W,SALNTY,SALNTY_FLAG_W,CTDOXY,CTDOXY_FLAG_W,THETA,OXYGEN,OXYGEN_FLAG_W,CFC-11,CFC-11_FLAG_W,CFC-12,CFC-12_FLAG_W,CFC113,CFC113_FLAG_W,SF6,SF6_FLAG_W
,,,,,,,,,,,,DBARS,ITS-90,PSS-78,,PSS-78,,UMOL/KG,,ITS-90,UMOL/KG,,PMOL/KG,,PMOL/KG,,PMOL/KG,,FMOL/KG,
  32OC20080510,     W,  9001,  1,      4,     24,2,20080510,2300, 40.2917, -70.2002,   90,      3.4,   7.3266,  32.8941,2,-999.0000,9,    311.5,2,  7.3281,    311.0,2, -999.000,9, -999.000,9, -999.000,9, -999.00,9
  32OC20080510,     W,  9001,  1,      3,     23,2,20080510,2300, 40.2917, -70.2002,   90,      3.4,   7.3266,  32.8941,2,  32.8933,2,    311.5,2,  7.3281,    311.2,2,    4.681,2,    2.657,2,    0.354,2, -999.00,9
  32OC20080510,     W,  9001,  1,      2,      2,2,20080510,2300, 40.2917, -70.2002,   90,     40.3,   8.7972,  33.4931,2,  33.4746,2,    295.4,2,  8.7951,    294.4,2,    4.232,2,    2.463,2,    0.289,2, -999.00,9
  32OC20080510,     W,  9001,  1,      1,      1,2,20080510,2300, 40.2917, -70.2002,   90,     81.0,  11.4206,  34.6817,2,  34.6791,2,    250.9,2, 11.4132,    249.4,2,    3.400,2,    1.994,2,    0.181,2, -999.00,9
  32OC20080510,     W,  9002,  1,      3,      3,2,20080511,0039, 40.1450, -70.1173,  116,      3.7,  10.8964,  34.2033,2,  34.2034,2,    277.1,2, 10.8986,    276.5,2, -999.000,9, -999.000,9, -999.000,9, -999.00,9
  32OC20080510,     W,  9002,  1,      2,      2,2,20080511,0039, 40.1450, -70.1173,  116,     51.4,  12.6757,  34.7855,2,  34.6635,2,    260.1,2, 12.6718,    263.9,2, -999.000,9, -999.000,9, -999.000,9, -999.00,9
  32OC20080510,     W,  9002,  1,      1,      1,2,20080511,0039, 40.1450, -70.1173,  116,    109.0,  11.7281,  34.8318,2,  34.8351,2,    243.9,2, 11.7170,    242.9,2, -999.000,9, -999.000,9, -999.000,9, -999.00,9
  32OC20080510,     W,  9003,  1,      4,      4,2,20080511,0208, 40.0023, -69.9972,  162,      4.8,  14.7867,  35.4050,2,  35.4052,2,    249.9,2, 14.7896,    251.3,2,    2.839,2,    1.716,2,    0.209,2, -999.00,9
  32OC20080510,     W,  9003,  1,      3,      3,2,20080511,0208, 40.0023, -69.9972,  162,     50.9,  13.0130,  35.2745,2,  35.2763,2,    233.5,2, 13.0091,    231.9,2,    2.962,2,    1.770,2,    0.199,2, -999.00,9
  32OC20080510,     W,  9003,  1,      2,      2,2,20080511,0208, 40.0023, -69.9972,  162,    102.3,  12.7560,  35.2816,2,  35.2846,2,    226.6,2, 12.7452,    227.0,2,    2.885,2,    1.768,2,    0.201,2, -999.00,9
  32OC20080510,     W,  9003,  1,      1,      1,2,20080511,0208, 40.0023, -69.9972,  162,    155.8,  12.6069,  35.3510,2,  35.3541,2,    208.2,2, 12.5889,    204.0,2,    2.640,2,    1.596,2,    0.163,2, -999.00,9
  32OC20080510,     W,  9004,  1,      8,      8,2,20080511,0326, 39.9128, -69.9308,  648,      5.3,  13.8914,  35.0284,2,  35.0329,2,    264.5,2, 13.8940,    259.9,2,    3.080,2,    1.796,2,    0.241,2, -999.00,9
  32OC20080510,     W,  9004,  1,      7,      7,2,20080511,0326, 39.9128, -69.9308,  648,     99.2,  13.4536,  35.4259,2,  35.4182,2,    244.0,2, 13.4429,    230.9,2,    2.750,2,    1.652,2,    0.157,2, -999.00,9
  32OC20080510,     W,  9004,  1,      6,      6,2,20080511,0326, 39.9128, -69.9308,  648,    201.0,  13.1641,  35.6328,2,  35.6307,2,    178.2,2, 13.1393,    177.1,2,    2.119,2,    1.287,2,    0.077,2, -999.00,9
  32OC20080510,     W,  9004,  1,      5,      5,2,20080511,0326, 39.9128, -69.9308,  648,    304.1,   9.1178,  35.1936,2,  35.1967,2,    151.0,2,  9.0864,    150.2,2,    1.403,2,    0.807,2,    0.051,2, -999.00,9
  32OC20080510,     W,  9004,  1,      4,      4,2,20080511,0326, 39.9128, -69.9308,  648,    400.5,   7.0678,  35.0571,2,  35.0567,2,    181.1,2,  7.0311,    183.1,2,    1.821,2,    0.979,2,    0.080,2, -999.00,9
  32OC20080510,     W,  9004,  1,      3,      3,2,20080511,0326, 39.9128, -69.9308,  648,    499.2,   5.8827,  34.9836,2,  34.9823,2,    210.7,2,  5.8405,    209.6,2,    2.293,2,    1.297,2,    0.125,2, -999.00,9
  32OC20080510,     W,  9004,  1,      2,      2,2,20080511,0326, 39.9128, -69.9308,  648,    598.4,   5.4205,  34.9791,2,  34.9784,2,    224.2,2,  5.3713,    224.9,2,    2.544,2,    1.392,2,    0.151,2, -999.00,9
  32OC20080510,     W,  9004,  1,      1,      1,2,20080511,0326, 39.9128, -69.9308,  648,    660.6,   5.3365,  34.9757,2,  34.9764,2,    227.6,2,  5.2821,    228.1,2,    2.569,2,    1.415,2,    0.152,2, -999.00,9
  32OC20080510,     W,  9005,  1,     11,     11,2,20080511,0502, 39.8642, -69.9092,  933,      7.1,  13.9252,  35.0133,2,  35.0152,2,    258.0,2, 13.9275,    259.6,2,    2.970,2,    1.779,2,    0.236,2, -999.00,9
  32OC20080510,     W,  9005,  1,     10,     10,2,20080511,0502, 39.8642, -69.9092,  933,     74.1,  14.1035,  35.6207,2,  35.6170,4,    240.1,2, 14.0961,    231.7,3,    2.733,2,    1.656,2,    0.199,2, -999.00,9
  32OC20080510,     W,  9005,  1,      9,      9,2,20080511,0502, 39.8642, -69.9092,  933,    147.9,  13.4725,  35.5832,2,  35.5727,2,    213.2,2, 13.4548,    211.6,2,    2.523,2,    1.525,2,    0.156,2, -999.00,9
  32OC20080510,     W,  9005,  1,      8,      8,2,20080511,0502, 39.8642, -69.9092,  933,    250.6,  10.2032,  35.3068,2,  35.3096,2,    144.8,2, 10.1760,    142.4,2,    1.398,2,    0.787,2,    0.036,2, -999.00,9
  32OC20080510,     W,  9005,  1,      7,      7,2,20080511,0502, 39.8642, -69.9092,  933,    352.2,   7.4094,  35.0662,2,  34.9754,4,    165.4,2,  7.3767,    172.0,2,    1.563,2,    0.881,2,    0.066,2, -999.00,9
  32OC20080510,     W,  9005,  1,      6,      6,2,20080511,0502, 39.8642, -69.9092,  933,    476.9,   5.8545,  34.9928,2,  34.9927,2,    212.3,2,  5.8145,    213.5,2,    2.287,2,    1.248,2,    0.123,2, -999.00,9
  32OC20080510,     W,  9005,  1,      5,      5,2,20080511,0502, 39.8642, -69.9092,  933,    604.2,   5.2725,  34.9752,2,  34.9746,2,    230.1,2,  5.2234,    229.1,2,    2.511,2,    1.378,2,    0.146,2, -999.00,9
  32OC20080510,     W,  9005,  1,      4,      4,2,20080511,0502, 39.8642, -69.9092,  933,    725.5,   4.8222,  34.9632,2,  34.9616,2,    245.7,2,  4.7648,    244.8,2,    2.833,2,    1.528,2,    0.161,2, -999.00,9
  32OC20080510,     W,  9005,  1,      3,      3,2,20080511,0502, 39.8642, -69.9092,  933,    849.3,   4.5826,  34.9632,2,  34.9622,2,    251.8,2,  4.5159,    251.7,2,    2.849,2,    1.551,2,    0.173,2, -999.00,9
  32OC20080510,     W,  9005,  1,      2,      2,2,20080511,0502, 39.8642, -69.9092,  933,    942.4,   4.4626,  34.9604,2,  34.9600,2,    256.8,2,  4.3887,    255.7,2,    2.906,2,    1.557,2,    0.173,2, -999.00,9
  32OC20080510,     W,  9005,  1,      1,      1,2,20080511,0502, 39.8642, -69.9092,  933,    963.4,   4.4105,  34.9583,2,  34.9576,2,    257.9,2,  4.3351,    257.0,2,    2.892,2,    1.530,2,    0.171,2, -999.00,9
  32OC20080510,     W,  9006,  1,     13,     13,2,20080511,0738, 39.7962, -69.8713, 1355,      3.5,  12.4163,  34.5126,2,  34.5114,2,    268.2,2, 12.4188,    269.3,2,    3.360,2,    1.908,2,    0.265,2, -999.00,9
  32OC20080510,     W,  9006,  1,     12,     12,2,20080511,0738, 39.7962, -69.8713, 1355,     76.7,  13.7261,  35.5672,2,  35.4702,2,    231.8,2, 13.7184,    230.9,2,    2.807,2,    1.630,2,    0.193,2, -999.00,9
  32OC20080510,     W,  9006,  1,     11,     11,2,20080511,0738, 39.7962, -69.8713, 1355,    151.1,  12.5256,  35.5348,2,  35.5397,2,    166.2,2, 12.5083,    165.4,2,    2.034,2,    1.182,2,    0.088,2, -999.00,9
  32OC20080510,     W,  9006,  1,     10,     10,2,20080511,0738, 39.7962, -69.8713, 1355,    252.0,   9.1433,  35.1944,2,  35.1950,2,    149.2,2,  9.1177,    149.9,2,    1.406,2,    0.801,2,    0.056,2, -999.00,9
  32OC20080510,     W,  9006,  1,      9,      9,2,20080511,0738, 39.7962, -69.8713, 1355,    379.2,   6.4376,  34.9990,2,  35.0041,2,    193.2,2,  6.4048,    191.7,2,    1.930,2,    1.059,2,    0.087,2, -999.00,9
  32OC20080510,     W,  9006,  1,      8,      8,2,20080511,0738, 39.7962, -69.8713, 1355,    524.6,   5.3417,  34.9890,2,  34.9842,2,    226.2,2,  5.2992,    227.0,2,    2.407,2,    1.279,2,    0.138,2, -999.00,9
  32OC20080510,     W,  9006,  1,      7,      7,2,20080511,0738, 39.7962, -69.8713, 1355,    673.4,   4.8447,  34.9877,2,  34.9868,2,    246.7,2,  4.7916,    244.6,2,    2.640,2,    1.411,2,    0.156,2, -999.00,9
  32OC20080510,     W,  9006,  1,      6,      6,2,20080511,0738, 39.7962, -69.8713, 1355,    822.9,   4.4038,  34.9549,2,  34.9547,2,    258.0,2,  4.3405,    258.8,2,    3.120,2,    1.608,2,    0.206,2, -999.00,9
  32OC20080510,     W,  9006,  1,      5,      5,2,20080511,0738, 39.7962, -69.8713, 1355,    950.4,   4.2616,  34.9554,2,  34.9543,2,    262.4,2,  4.1884,    262.0,2,    2.972,2,    1.568,2,    0.205,2, -999.00,9
  32OC20080510,     W,  9006,  1,      4,      4,2,20080511,0738, 39.7962, -69.8713, 1355,   1072.9,   4.1430,  34.9528,2,  34.9517,2,    264.6,2,  4.0602,    264.2,2,    2.875,2,    1.509,2,    0.188,2, -999.00,9
  32OC20080510,     W,  9006,  1,      3,      3,2,20080511,0738, 39.7962, -69.8713, 1355,   1201.0,   4.0801,  34.9540,2,  34.9541,2,    265.2,2,  3.9868,    264.5,2,    2.722,2,    1.422,2,    0.152,2, -999.00,9
  32OC20080510,     W,  9006,  1,      2,      2,2,20080511,0738, 39.7962, -69.8713, 1355,   1325.1,   3.9993,  34.9549,2,  34.9535,2,    265.5,2,  3.8958,    264.8,2,    2.517,2,    1.311,2,    0.141,2, -999.00,9
  32OC20080510,     W,  9006,  1,      1,      1,2,20080511,0738, 39.7962, -69.8713, 1355,   1350.4,   3.9986,  34.9549,2,  34.9543,2,    265.2,2,  3.8929,    264.9,2,    2.545,2,    1.328,2,    0.142,2, -999.00,9
  32OC20080510,     W,  9007,  1,     18,     18,2,20080512,0252, 39.7125, -69.8017, 2073,      4.5,  14.9117,  35.4976,2,  35.4980,2,    253.3,2, 14.9146,    256.3,2,    2.657,2,    1.619,2,    0.165,2,    1.39,2
  32OC20080510,     W,  9007,  1,     17,     17,2,20080512,0252, 39.7125, -69.8017, 2073,    100.5,  13.3701,  35.5490,2,  35.5458,2,    219.3,2, 13.3592,    221.1,2,    2.506,2,    1.501,2,    0.119,2,    1.54,2
  32OC20080510,     W,  9007,  1,     16,     16,2,20080512,0252, 39.7125, -69.8017, 2073,    225.6,   9.9420,  35.2655,2,  35.2824,2,    140.0,2,  9.9182,    147.0,3,    1.407,2,    0.822,2,    0.020,2,    0.67,2
  32OC20080510,     W,  9007,  1,     15,     15,2,20080512,0252, 39.7125, -69.8017, 2073,    349.4,   7.6322,  35.0938,2,  35.0962,2,    165.0,2,  7.5992,    166.1,2,    1.360,2,    0.719,2,    0.016,2,    0.49,2
  32OC20080510,     W,  9007,  1,     14,     14,2,20080512,0252, 39.7125, -69.8017, 2073,    474.4,   5.4717,  34.9289,2,-999.0000,9,    219.7,2,  5.4332,    225.1,9,    2.632,2,    1.399,2,    0.106,2,    0.95,2
  32OC20080510,     W,  9007,  1,     13,     13,2,20080512,0252, 39.7125, -69.8017, 2073,    600.2,   4.9336,  34.9265,2,  34.9271,2,    242.7,2,  4.8864,    245.5,2,    3.054,2,    1.588,2,    0.132,2,    1.00,2
  32OC20080510,     W,  9007,  1,     12,     12,2,20080512,0252, 39.7125, -69.8017, 2073,    751.3,   4.7954,  34.9851,2,  34.9856,2,    246.1,2,  4.7359,    245.8,2,    2.625,2,    1.431,2,    0.128,2,    0.66,2
  32OC20080510,     W,  9007,  1,     11,     11,2,20080512,0252, 39.7125, -69.8017, 2073,    877.2,   4.4560,  34.9655,2,  34.9641,2,    256.3,2,  4.3878,    262.2,2, -999.000,9, -999.000,9, -999.000,9, -999.00,9
  32OC20080510,     W,  9007,  1,     10,     10,2,20080512,0252, 39.7125, -69.8017, 2073,   1002.6,   4.3207,  34.9627,2,  34.9620,2,    261.0,2,  4.2426,    261.1,2,    2.897,2,    1.540,2,    0.156,2,    0.78,2
  32OC20080510,     W,  9007,  1,      9,      9,2,20080512,0252, 39.7125, -69.8017, 2073,   1123.8,   4.1711,  34.9589,2,  34.9570,4,    262.6,2,  4.0837,    261.7,2,    2.770,2,    1.455,2,    0.140,2,    0.69,2
  32OC20080510,     W,  9007,  1,      8,      8,2,20080512,0252, 39.7125, -69.8017, 2073,   1250.3,   4.0745,  34.9641,2,  34.9649,2,    264.6,2,  3.9769,    263.5,2,    2.459,2,    1.274,2,    0.118,2,    0.49,2
  32OC20080510,     W,  9007,  1,      7,      7,2,20080512,0252, 39.7125, -69.8017, 2073,   1373.4,   3.9882,  34.9629,2,  34.9641,2,    265.1,2,  3.8804,    266.9,2,    2.244,2,    1.173,2,    0.102,2,    0.44,2
  32OC20080510,     W,  9007,  1,      6,      6,2,20080512,0252, 39.7125, -69.8017, 2073,   1502.6,   3.8553,  34.9571,2,  34.9580,2,    266.3,2,  3.7374,    267.8,2,    2.134,2,    1.099,2,    0.098,2,    0.42,2
  32OC20080510,     W,  9007,  1,      5,      5,2,20080512,0252, 39.7125, -69.8017, 2073,   1624.0,   3.7896,  34.9544,2,  34.9568,2,    267.1,2,  3.6615,    266.0,3,    2.036,2,    1.061,2,    0.100,2,    0.32,2
  32OC20080510,     W,  9007,  1,      4,      4,2,20080512,0252, 39.7125, -69.8017, 2073,   1750.3,   3.6586,  34.9488,2,  34.9549,4,    268.8,2,  3.5205,    269.9,2,    1.941,2,    1.006,2,    0.078,2,    0.30,2
  32OC20080510,     W,  9007,  1,      3,      3,2,20080512,0252, 39.7125, -69.8017, 2073,   1872.2,   3.5315,  34.9421,2,  34.9427,2,    269.8,2,  3.3839,    271.1,2,    1.892,2,    0.975,2,    0.078,2,    0.24,2
  32OC20080510,     W,  9007,  1,      2,      2,2,20080512,0252, 39.7125, -69.8017, 2073,   1974.6,   3.4787,  34.9411,2,  34.9417,2,    270.0,2,  3.3222,    270.9,2,    1.787,2,    0.927,2,    0.067,2,    0.26,2
  32OC20080510,     W,  9007,  1,      1,      1,2,20080512,0252, 39.7125, -69.8017, 2073,   2073.4,   3.4348,  34.9407,2,  34.9425,2,    269.2,2,  3.2696,    271.0,2,    1.759,2,    0.909,2,    0.085,2,    0.23,2
  32OC20080510,     W,  9008,  1,     23,     23,2,20080512,0638, 39.4897, -69.6318, 2398,      3.8,  14.7114,  35.4618,2,  35.4615,2,    248.2,2, 14.7144,    251.8,2,    2.734,2,    1.640,2,    0.198,2,    1.59,2
  32OC20080510,     W,  9008,  1,     22,     22,2,20080512,0638, 39.4897, -69.6318, 2398,     74.1,  13.3577,  35.4987,2,  35.4960,2,    235.5,2, 13.3506,    226.1,2,    2.678,2,    1.618,2,    0.160,2,    1.52,2
  32OC20080510,     W,  9008,  1,     21,     21,2,20080512,0638, 39.4897, -69.6318, 2398,    150.1,  11.9372,  35.5131,2,  35.5375,2,    149.0,2, 11.9204,   -999.0,9, -999.000,9, -999.000,9, -999.000,9, -999.00,9
  32OC20080510,     W,  9008,  1,     20,     20,2,20080512,0638, 39.4897, -69.6318, 2398,    250.0,   9.6182,  35.2303,2,  35.2339,2,    138.4,2,  9.5920,    137.0,2,    1.210,2,    0.681,2,    0.017,2,    0.54,2
  32OC20080510,     W,  9008,  1,     19,     19,2,20080512,0638, 39.4897, -69.6318, 2398,    375.5,   7.1072,  35.0739,2,  35.0749,2,    180.3,2,  7.0729,    173.5,2,    1.414,2,    0.759,2,    0.055,2,    0.40,2
  32OC20080510,     W,  9008,  1,     18,     18,2,20080512,0638, 39.4897, -69.6318, 2398,    523.9,   5.7566,  35.0399,2,  35.0382,2,    221.2,2,  5.7126,    215.3,2,    1.902,2,    1.025,2,    0.072,2,    0.48,2
  32OC20080510,     W,  9008,  1,     16,     16,2,20080512,0638, 39.4897, -69.6318, 2398,    675.2,   4.7254,  34.9839,2,-999.0000,9,    242.4,2,  4.6728,   -999.0,9, -999.000,9, -999.000,9, -999.000,9, -999.00,9
  32OC20080510,     W,  9008,  1,     17,     17,2,20080512,0638, 39.4897, -69.6318, 2398,    675.7,   4.7221,  34.9835,2,  34.9811,2,    242.4,2,  4.6694,    253.9,3,    2.672,2,    1.432,2,    0.139,2,    0.76,2
  32OC20080510,     W,  9008,  1,     14,     14,2,20080512,0638, 39.4897, -69.6318, 2398,    826.7,   4.4331,  34.9708,2,-999.0000,9,    252.7,2,  4.3693,   -999.0,9, -999.000,9, -999.000,9, -999.000,9, -999.00,9
  32OC20080510,     W,  9008,  1,     15,     15,2,20080512,0638, 39.4897, -69.6318, 2398,    827.1,   4.4283,  34.9703,2,  34.9734,2,    252.7,2,  4.3645,    251.0,2,    2.726,2,    1.451,2,    0.140,2,    0.89,2
  32OC20080510,     W,  9008,  1,     13,     13,2,20080512,0638, 39.4897, -69.6318, 2398,    952.1,   4.3310,  34.9765,2,  34.9744,2,    258.0,2,  4.2572,    259.6,2,    2.580,2,    1.378,2,    0.138,2,    0.81,2
  32OC20080510,     W,  9008,  1,     12,     12,2,20080512,0638, 39.4897, -69.6318, 2398,   1084.0,   4.2041,  34.9723,2,  34.9710,2,    261.5,2,  4.1199,    260.6,2,    2.480,2,    1.281,2,    0.123,2,    0.57,2
  32OC20080510,     W,  9008,  1,     11,     11,2,20080512,0638, 39.4897, -69.6318, 2398,   1206.0,   4.0415,  34.9674,2,  34.9659,2,    263.5,2,  3.9480,    262.2,2,    2.266,2,    1.177,2,    0.099,2,    0.53,2
  32OC20080510,     W,  9008,  1,     10,     10,2,20080512,0638, 39.4897, -69.6318, 2398,   1326.7,   3.9196,  34.9618,2,  34.9608,2,    266.1,2,  3.8168,    271.3,4,    2.132,2,    1.134,2,    0.095,2,    0.45,2
  32OC20080510,     W,  9008,  1,      9,      9,2,20080512,0638, 39.4897, -69.6318, 2398,   1448.7,   3.7858,  34.9575,2,  34.9570,2,    266.8,2,  3.6735,    271.2,4,    1.983,2,    1.025,2,    0.079,2,    0.32,2
  32OC20080510,     W,  9008,  1,      8,      8,2,20080512,0638, 39.4897, -69.6318, 2398,   1573.9,   3.6790,  34.9525,2,  34.9531,2,    269.1,2,  3.5567,    267.0,3,    1.870,2,    0.992,2,    0.078,2,    0.30,2
  32OC20080510,     W,  9008,  1,      7,      7,2,20080512,0638, 39.4897, -69.6318, 2398,   1697.5,   3.5471,  34.9479,2,  34.9482,2,    269.9,2,  3.4153,    269.5,2,    1.726,2,    0.907,2,    0.062,2,    0.25,2
  32OC20080510,     W,  9008,  1,      6,      6,2,20080512,0638, 39.4897, -69.6318, 2398,   1831.3,   3.4433,  34.9454,2,  34.9464,2,    269.9,2,  3.3006,    267.8,3,    1.613,2,    0.829,2,    0.042,2,    0.30,2
  32OC20080510,     W,  9008,  1,      5,      5,2,20080512,0638, 39.4897, -69.6318, 2398,   1946.5,   3.3743,  34.9442,2,  34.9434,2,    269.3,2,  3.2219,    270.4,2,    1.505,2,    0.801,2,    0.047,2,    0.26,2
  32OC20080510,     W,  9008,  1,      4,      4,2,20080512,0638, 39.4897, -69.6318, 2398,   2075.1,   3.2627,  34.9438,2,  34.9434,2,    269.0,2,  3.1000,    266.9,3,    1.331,2,    0.697,2,    0.034,2,    0.12,2
  32OC20080510,     W,  9008,  1,      3,      3,2,20080512,0638, 39.4897, -69.6318, 2398,   2204.0,   3.1374,  34.9420,2,  34.9425,2,    268.0,2,  2.9644,    270.0,4,    1.166,2,    0.604,2,    0.024,2,    0.14,2
  32OC20080510,     W,  9008,  1,      2,      2,2,20080512,0638, 39.4897, -69.6318, 2398,   2301.0,   3.0929,  34.9386,2,  34.9381,2,    268.2,2,  2.9114,    268.0,2,    1.224,2,    0.633,2,    0.026,2,    0.14,2
  32OC20080510,     W,  9008,  1,      1,      1,2,20080512,0638, 39.4897, -69.6318, 2398,   2407.8,   3.1009,  34.9384,2,  34.9389,2,    267.5,2,  2.9088,    271.0,4,    1.254,2,    0.655,2,    0.029,2,    0.24,2