BOTTLE,20091023WHPSIOSCD
EXPOCODE,SECT_ID,STNNBR,CASTNO,SAMPNO,BTLNBR,BTLNBR_FLAG_W,DATE,TIME,LATITUDE,LONGITUDE,DEPTH,CTDPRS,CTDTMP,CTDSAL,CTDSAL_FLAG_W,SALNTY,SALNTY_FLAG_W,CTDOXY,CTDOXY_FLAG_W,THETA,OXYGEN,OXYGEN_FLAG_W,CFC-11,CFC-11_FLAG_W,CFC-12,CFC-12_FLAG_W,CFC113,CFC113_FLAG_W,SF6,SF6_FLAG_W
,,,,,,,,,,,,DBARS,ITS-90,PSS-78,,PSS-78,,UMOL/KG,,ITS-90,UMOL/KG,,PMOL/KG,,PMOL/KG,,PMOL/KG,,FMOL/KG,
  32OC20080510,     W,  9017,  1,     24,     24,2,20080516,0258, 37.3638, -68.2233, 4710,      4.5,  20.9688,  36.5439,2,  36.5443,2,    222.3,2, 20.9730,    223.0,2,    2.020,2,    1.277,2,    0.113,2, -999.00,9
  32OC20080510,     W,  9017,  1,     23,     23,2,20080516,0258, 37.3638, -68.2233, 4710,    199.1,  19.9083,  36.6523,2,  36.5955,2,    214.9,2, 19.8760,    217.1,2,    2.118,2,    1.326,2,    0.124,2, -999.00,9
  32OC20080510,     W,  9017,  1,     22,     22,2,20080516,0258, 37.3638, -68.2233, 4710,    399.6,  18.2154,  36.5815,2,  36.5812,2,    202.4,2, 18.1495,    200.3,2,    2.303,2,    1.398,2,    0.019,2, -999.00,9
  32OC20080510,     W,  9017,  1,     21,     21,2,20080516,0258, 37.3638, -68.2233, 4710,    598.6,  17.0739,  36.3761,2,  36.3758,2,    192.3,2, 16.9769,    190.9,2,    2.282,2,    1.381,2,    0.032,2, -999.00,9
  32OC20080510,     W,  9017,  1,     20,     20,2,20080516,0258, 37.3638, -68.2233, 4710,    849.8,  11.1700,  35.3945,2,  35.4101,2,    135.6,2, 11.0633,    133.7,2,    1.329,2,    0.731,2,    0.045,2, -999.00,9
  32OC20080510,     W,  9017,  1,     19,     19,2,20080516,0258, 37.3638, -68.2233, 4710,   1098.8,   6.6712,  35.0656,2,  35.0723,2,    191.5,2,  6.5658,    189.5,2,    1.570,2,    0.809,2,    0.074,2, -999.00,9
  32OC20080510,     W,  9017,  1,     18,     18,2,20080516,0258, 37.3638, -68.2233, 4710,   1298.0,   5.1147,  35.0153,2,  35.0146,2,    238.1,2,  5.0028,    236.8,2,    2.314,2,    1.224,2,    0.121,2, -999.00,9
  32OC20080510,     W,  9017,  1,     16,     16,2,20080516,0258, 37.3638, -68.2233, 4710,   1449.7,   4.4334,  34.9631,2,  34.9604,2,    251.2,2,  4.3141,    257.4,2, -999.000,9, -999.000,9, -999.000,9, -999.00,9
  32OC20080510,     W,  9017,  1,     17,     17,2,20080516,0258, 37.3638, -68.2233, 4710,   1449.9,   4.4329,  34.9631,2,  34.9610,2,    251.2,2,  4.3136,    258.2,2,    2.932,2,    1.551,2,    0.174,2, -999.00,9
  32OC20080510,     W,  9017,  1,     14,     14,2,20080516,0258, 37.3638, -68.2233, 4710,   1650.1,   4.1778,  34.9579,2,  34.9566,2,    263.4,2,  4.0425,    263.0,2, -999.000,9, -999.000,9, -999.000,9, -999.00,9
  32OC20080510,     W,  9017,  1,     15,     15,2,20080516,0258, 37.3638, -68.2233, 4710,   1650.5,   4.1776,  34.9579,2,  34.9564,2,    263.4,2,  4.0423,    263.2,2,    2.794,2,    1.441,2,    0.157,2, -999.00,9
  32OC20080510,     W,  9017,  1,     13,     13,2,20080516,0258, 37.3638, -68.2233, 4710,   1900.1,   3.8962,  34.9501,2,  34.9484,2,    266.7,2,  3.7408,    266.5,2,    2.415,2,    1.251,2,    0.129,2, -999.00,9
  32OC20080510,     W,  9017,  1,     12,     12,2,20080516,0258, 37.3638, -68.2233, 4710,   2099.6,   3.7416,  34.9519,2,  34.9486,2,    268.7,2,  3.5691,    267.2,2,    1.941,2,    1.002,2,    0.094,2, -999.00,9
  32OC20080510,     W,  9017,  1,     11,     11,2,20080516,0258, 37.3638, -68.2233, 4710,   2350.8,   3.5311,  34.9451,2,  34.9448,2,    271.5,2,  3.3373,    269.0,2,    1.710,2,    0.871,2,    0.094,2, -999.00,9
  32OC20080510,     W,  9017,  1,     10,     10,2,20080516,0258, 37.3638, -68.2233, 4710,   2648.9,   3.2991,  34.9451,2,  34.9438,2,    269.1,2,  3.0793,    267.2,4,    1.283,2,    0.650,2,    0.059,2, -999.00,9
  32OC20080510,     W,  9017,  1,      9,      9,2,20080516,0258, 37.3638, -68.2233, 4710,   2948.2,   3.0481,  34.9404,2,  34.9385,2,    269.9,2,  2.8024,    266.3,4,    0.960,2,    0.511,2,    0.055,2, -999.00,9
  32OC20080510,     W,  9017,  1,      8,      8,2,20080516,0258, 37.3638, -68.2233, 4710,   3200.6,   2.8065,  34.9292,2,  34.9289,2,    269.6,2,  2.5395,    266.7,4,    0.914,2,    0.477,2,    0.048,2, -999.00,9
  32OC20080510,     W,  9017,  1,      7,      7,2,20080516,0258, 37.3638, -68.2233, 4710,   3399.5,   2.6144,  34.9174,2,  34.9166,2,    271.7,2,  2.3306,    270.7,2,    1.049,2,    0.547,2,    0.050,2, -999.00,9
  32OC20080510,     W,  9017,  1,      6,      6,2,20080516,0258, 37.3638, -68.2233, 4710,   3599.7,   2.4585,  34.9094,2,  34.9088,2,    270.4,2,  2.1568,    269.7,2,    0.881,2,    0.451,2,    0.047,2, -999.00,9
  32OC20080510,     W,  9017,  1,      5,      5,2,20080516,0258, 37.3638, -68.2233, 4710,   3799.9,   2.3510,  34.9012,2,  34.8991,2,    270.0,2,  2.0299,    269.9,2,    0.919,2,    0.502,2,    0.048,2, -999.00,9
  32OC20080510,     W,  9017,  1,      4,      4,2,20080516,0258, 37.3638, -68.2233, 4710,   3997.5,   2.2996,  34.8961,2,  34.8960,2,    268.4,2,  1.9577,    268.9,2,    0.923,2,    0.475,2,    0.054,2, -999.00,9
  32OC20080510,     W,  9017,  1,      3,      3,2,20080516,0258, 37.3638, -68.2233, 4710,   4249.4,   2.2518,  34.8901,2,  34.8899,2,    266.2,2,  1.8823,    267.2,2,    0.889,2,    0.464,2, -999.000,9, -999.00,9
  32OC20080510,     W,  9017,  1,      2,      2,2,20080516,0258, 37.3638, -68.2233, 4710,   4499.1,   2.2344,  34.8856,2,  34.8841,2,    263.3,2,  1.8359,    265.1,2,    0.784,2,    0.416,2,    0.044,2, -999.00,9
  32OC20080510,     W,  9017,  1,      1,      1,2,20080516,0258, 37.3638, -68.2233, 4710,   4826.1,   2.2479,  34.8823,2,  34.8822,2,    260.6,2,  1.8092,    263.5,2,    1.050,2,    0.542,2, -999.000,9, -999.00,9
  32OC20080510,     W,  9014,  1,     24,     24,2,20080516,1950, 38.0897, -68.6210, 4125,      5.7,  21.8187,  36.5008,2,  36.5010,2,    222.6,2, 21.8228,    219.6,2,    1.921,2,    1.228,2,    0.136,2,    0.95,2
  32OC20080510,     W,  9014,  1,     23,     23,2,20080516,1950, 38.0897, -68.6210, 4125,    102.4,  20.1343,  36.5952,2,  36.5955,2,    221.2,2, 20.1200,    220.1,2,    2.086,2,    1.303,2,    0.139,2,    0.95,2
  32OC20080510,     W,  9014,  1,     22,     22,2,20080516,1950, 38.0897, -68.6210, 4125,    303.2,  18.2269,  36.5701,2,  36.5685,2,    199.2,2, 18.1780,    196.8,2,    2.255,2,    1.350,2,    0.023,2,    0.86,2
  32OC20080510,     W,  9014,  1,     21,     21,2,20080516,1950, 38.0897, -68.6210, 4125,    504.7,  17.4596,  36.4604,2,  36.4629,2,    197.0,2, 17.3775,    200.3,2,    2.274,2,    1.365,2,    0.031,2,    1.00,2
  32OC20080510,     W,  9014,  1,     20,     20,2,20080516,1950, 38.0897, -68.6210, 4125,    710.3,  13.7967,  35.7888,2,  35.8252,2,    149.1,2, 13.6959,    151.2,2,    1.894,2,    1.080,2,    0.028,2,    0.51,2
  32OC20080510,     W,  9014,  1,     19,     19,2,20080516,1950, 38.0897, -68.6210, 4125,    908.5,   9.1684,  35.2128,2,  35.2057,2,    153.7,2,  9.0665,    144.2,3,    1.008,2,    0.548,2,    0.013,2,    0.25,2
  32OC20080510,     W,  9014,  1,     18,     18,2,20080516,1950, 38.0897, -68.6210, 4125,   1108.6,   6.1351,  35.0896,2,  35.0635,2,    207.0,2,  6.0328,    217.7,3,    1.538,2,    0.821,2,    0.070,2,    0.27,2
  32OC20080510,     W,  9014,  1,     16,     16,2,20080516,1950, 38.0897, -68.6210, 4125,   1258.0,   5.0746,  35.0200,2,  35.0199,2,    236.5,2,  4.9669,    237.3,2, -999.000,9, -999.000,9, -999.000,9, -999.00,9
  32OC20080510,     W,  9014,  1,     17,     17,2,20080516,1950, 38.0897, -68.6210, 4125,   1258.8,   5.0659,  35.0193,2,-999.0000,9,    236.7,2,  4.9582,   -999.0,9, -999.000,9, -999.000,9, -999.000,9, -999.00,9
  32OC20080510,     W,  9014,  1,     14,     14,2,20080516,1950, 38.0897, -68.6210, 4125,   1403.5,   4.6833,  35.0101,2,  35.0099,2,    247.7,2,  4.5656,    248.3,2, -999.000,9, -999.000,9, -999.000,9, -999.00,9
  32OC20080510,     W,  9014,  1,     15,     15,2,20080516,1950, 38.0897, -68.6210, 4125,   1405.7,   4.6782,  35.0099,2,  35.0097,2,    247.7,2,  4.5604,    248.2,2,    2.121,2,    1.108,2,    0.104,2,    0.38,2
  32OC20080510,     W,  9014,  1,     13,     13,2,20080516,1950, 38.0897, -68.6210, 4125,   1601.4,   4.3549,  34.9944,2,  34.9949,2,    255.8,2,  4.2221,    255.8,2,    2.092,2,    1.067,2,    0.103,2,    0.35,2
  32OC20080510,     W,  9014,  1,     12,     12,2,20080516,1950, 38.0897, -68.6210, 4125,   1857.9,   3.9640,  34.9567,2,  34.9557,2,    263.6,2,  3.8118,    265.6,2,    2.339,2,    1.205,2,    0.126,2,    0.38,2
  32OC20080510,     W,  9014,  1,     11,     11,2,20080516,1950, 38.0897, -68.6210, 4125,   2102.1,   3.8368,  34.9594,2,  34.9586,2,    266.7,2,  3.6627,    265.8,2,    1.893,2,    0.970,2,    0.070,2,    0.24,2
  32OC20080510,     W,  9014,  1,     10,     10,2,20080516,1950, 38.0897, -68.6210, 4125,   2350.6,   3.6233,  34.9474,2,  34.9458,2,    269.9,2,  3.4279,    269.1,2,    1.744,2,    0.883,2,    0.062,2,    0.26,2
  32OC20080510,     W,  9014,  1,      9,      9,2,20080516,1950, 38.0897, -68.6210, 4125,   2572.5,   3.4989,  34.9483,2,  34.9472,2,    270.2,2,  3.2832,    268.7,2,    1.465,2,    0.736,2,    0.041,2,    0.23,2
  32OC20080510,     W,  9014,  1,      8,      8,2,20080516,1950, 38.0897, -68.6210, 4125,   2840.8,   3.3122,  34.9446,2,  34.9438,2,    270.0,2,  3.0723,    268.4,2,    1.241,2,    0.625,2,    0.049,2,    0.14,2
  32OC20080510,     W,  9014,  1,      7,      7,2,20080516,1950, 38.0897, -68.6210, 4125,   3037.7,   3.1714,  34.9419,2,  34.9446,2,    269.5,2,  2.9137,    268.6,2,    1.102,2,    0.553,2,    0.045,2,    0.14,2
  32OC20080510,     W,  9014,  1,      6,      6,2,20080516,1950, 38.0897, -68.6210, 4125,   3187.2,   3.0622,  34.9393,2,  34.9391,2,    269.0,2,  2.7908,    269.2,2,    0.970,2,    0.494,2,    0.039,2,    0.16,2
  32OC20080510,     W,  9014,  1,      5,      5,2,20080516,1950, 38.0897, -68.6210, 4125,   3339.5,   2.9236,  34.9303,2,  34.9291,2,    270.8,2,  2.6389,    270.2,2,    1.070,2,    0.556,2,    0.045,2,    0.14,2
  32OC20080510,     W,  9014,  1,      4,      4,2,20080516,1950, 38.0897, -68.6210, 4125,   3480.7,   2.8034,  34.9241,2,  34.9235,2,    272.1,2,  2.5061,    271.0,2, -999.000,9, -999.000,9, -999.000,9, -999.00,9
  32OC20080510,     W,  9014,  1,      3,      3,2,20080516,1950, 38.0897, -68.6210, 4125,   3684.6,   2.6270,  34.9141,2,  34.9123,2,    272.9,2,  2.3116,    272.6,2,    1.306,2,    0.669,2,    0.051,2,    0.17,2
  32OC20080510,     W,  9014,  1,      2,      2,2,20080516,1950, 38.0897, -68.6210, 4125,   3891.2,   2.4434,  34.9038,2,  34.9033,2,    272.2,2,  2.1096,    272.5,2,    1.297,2,    0.672,2,    0.058,2,    0.18,2
  32OC20080510,     W,  9014,  1,      1,      1,2,20080516,1950, 38.0897, -68.6210, 4125,   3991.8,   2.3219,  34.8954,2,  34.8944,2,    270.4,2,  1.9801,    271.9,2,    1.386,2,    0.720,2,    0.060,2,    0.22,2
  32OC20080510,     W,  9016,  1,     24,     24,2,20080517,0508, 37.6147, -68.3775, 4553,      4.7,  20.9144,  36.5309,2,  36.5318,2,    225.4,2, 20.9185,    229.7,2,    2.310,2,    1.404,2,    0.135,2, -999.00,9
  32OC20080510,     W,  9016,  1,     23,     23,2,20080517,0508, 37.6147, -68.3775, 4553,     99.7,  20.2795,  36.5704,2,  36.5685,2,    225.1,2, 20.2656,    227.9,2,    2.065,2,    1.309,2,    0.100,2, -999.00,9
  32OC20080510,     W,  9016,  1,     22,     22,2,20080517,0508, 37.6147, -68.3775, 4553,    298.3,  19.3337,  36.6266,2,  36.6261,2,    222.0,2, 19.2838,    224.8,2, -999.000,9, -999.000,9, -999.000,9, -999.00,9
  32OC20080510,     W,  9016,  1,     21,     21,2,20080517,0508, 37.6147, -68.3775, 4553,    502.2,  18.1310,  36.5745,2,  36.5741,2,    206.9,2, 18.0472,    207.4,2,    2.311,2,    1.403,2,    0.034,2, -999.00,9
  32OC20080510,     W,  9016,  1,     20,     20,2,20080517,0508, 37.6147, -68.3775, 4553,    750.9,  14.4882,  35.9151,2,  35.9207,2,    169.9,2, 14.3777,    163.3,2,    2.037,2,    1.149,2,    0.038,2, -999.00,9
  32OC20080510,     W,  9016,  1,     19,     19,2,20080517,0508, 37.6147, -68.3775, 4553,   1001.9,   8.4648,  35.1357,2,  35.1429,2,    151.1,2,  8.3566,    147.6,2,    0.948,2,    0.527,2,    0.036,2, -999.00,9
  32OC20080510,     W,  9016,  1,     18,     18,2,20080517,0508, 37.6147, -68.3775, 4553,   1247.5,   5.3482,  35.0258,2,  35.0254,2,    228.6,2,  5.2390,    228.8,2,    2.095,2,    1.104,2,    0.111,2,    0.50,2
  32OC20080510,     W,  9016,  1,     17,     17,2,20080517,0508, 37.6147, -68.3775, 4553,   1401.8,   4.7745,  34.9993,2,-999.0000,9,    249.0,2,  4.6560,   -999.0,9, -999.000,9, -999.000,9, -999.000,9, -999.00,9
  32OC20080510,     W,  9016,  1,     16,     16,2,20080517,0508, 37.6147, -68.3775, 4553,   1402.0,   4.7740,  34.9993,2,  35.0010,2,    249.0,2,  4.6555,    247.3,2,    2.413,2,    1.268,2,    0.124,2, -999.00,9
  32OC20080510,     W,  9016,  1,     14,     14,2,20080517,0508, 37.6147, -68.3775, 4553,   1600.6,   4.3617,  34.9809,2,  34.9805,2,    258.2,2,  4.2289,    257.0,2, -999.000,9, -999.000,9, -999.000,9, -999.00,9
  32OC20080510,     W,  9016,  1,     15,     15,2,20080517,0508, 37.6147, -68.3775, 4553,   1601.1,   4.3609,  34.9808,2,  34.9805,2,    258.3,2,  4.2281,    257.6,2,    2.496,2,    1.295,2,    0.149,2, -999.00,9
  32OC20080510,     W,  9016,  1,     13,     13,2,20080517,0508, 37.6147, -68.3775, 4553,   1848.7,   4.0593,  34.9694,2,  34.9671,2,    263.3,2,  3.9066,    261.8,2,    2.174,2,    1.103,2,    0.112,2, -999.00,9
  32OC20080510,     W,  9016,  1,     12,     12,2,20080517,0508, 37.6147, -68.3775, 4553,   2098.8,   3.8090,  34.9556,2,  34.9547,2,    268.1,2,  3.6356,    267.7,2,    1.976,2,    0.989,2,    0.100,2,    0.19,2
  32OC20080510,     W,  9016,  1,     11,     11,2,20080517,0508, 37.6147, -68.3775, 4553,   2393.3,   3.5233,  34.9475,2,  34.9468,2,    270.0,2,  3.3254,    269.7,2,    1.628,2,    0.828,2,    0.094,2,    0.31,2
  32OC20080510,     W,  9016,  1,     10,     10,2,20080517,0508, 37.6147, -68.3775, 4553,   2600.6,   3.3827,  34.9479,2,  34.9468,2,    269.2,2,  3.1663,    269.1,2,    1.299,2,    0.654,2,    0.061,2, -999.00,9
  32OC20080510,     W,  9016,  1,      9,      9,2,20080517,0508, 37.6147, -68.3775, 4553,   2901.1,   3.1389,  34.9433,2,  34.9417,2,    268.9,2,  2.8963,    268.8,2,    1.024,2,    0.540,2,    0.045,2,    0.14,2
  32OC20080510,     W,  9016,  1,      8,      8,2,20080517,0508, 37.6147, -68.3775, 4553,   3150.2,   2.8988,  34.9319,2,  34.9346,2,    270.9,2,  2.6350,    269.3,2, -999.000,9, -999.000,9, -999.000,9, -999.00,9
  32OC20080510,     W,  9016,  1,      7,      7,2,20080517,0508, 37.6147, -68.3775, 4553,   3348.5,   2.6393,  34.9173,2,  34.9170,2,    273.6,2,  2.3604,    272.0,2,    1.248,2,    0.630,2,    0.065,2,    0.27,2
  32OC20080510,     W,  9016,  1,      6,      6,2,20080517,0508, 37.6147, -68.3775, 4553,   3550.7,   2.4506,  34.9077,2,  34.9074,2,    272.6,2,  2.1544,    272.2,2,    1.214,2,    0.630,2,    0.082,2,    0.18,2
  32OC20080510,     W,  9016,  1,      5,      5,2,20080517,0508, 37.6147, -68.3775, 4553,   3754.7,   2.3318,  34.8998,2,  34.8993,2,    273.4,2,  2.0163,    272.8,2,    1.269,2,    0.664,2,    0.081,2,    0.20,2
  32OC20080510,     W,  9016,  1,      4,      4,2,20080517,0508, 37.6147, -68.3775, 4553,   3951.1,   2.2802,  34.8951,2,  34.8944,2,    270.5,2,  1.9441,    270.4,2,    1.093,2,    0.551,2,    0.047,2,    0.17,2
  32OC20080510,     W,  9016,  1,      3,      3,2,20080517,0508, 37.6147, -68.3775, 4553,   4152.3,   2.2555,  34.8916,2,  34.8906,2,    269.0,2,  1.8971,    269.2,2,    1.005,2,    0.536,2,    0.044,2,    0.20,2
  32OC20080510,     W,  9016,  1,      2,      2,2,20080517,0508, 37.6147, -68.3775, 4553,   4397.7,   2.2335,  34.8870,2,  34.8855,2,    267.0,2,  1.8470,    265.7,2,    0.873,2,    0.470,2,    0.024,2,    0.15,2
  32OC20080510,     W,  9016,  1,      1,      1,2,20080517,0508, 37.6147, -68.3775, 4553,   4666.0,   2.2314,  34.8839,2,  34.8836,2,    265.7,2,  1.8128,    265.7,2,    1.035,2,    0.570,2,    0.056,2,    0.36,2