BOTTLE,20091023WHPSIOSCD
EXPOCODE,SECT_ID,STNNBR,CASTNO,SAMPNO,BTLNBR,BTLNBR_FLAG_W,DATE,TIME,LATITUDE,LONGITUDE,DEPTH,CTDPRS,CTDTMP,CTDSAL,CTDSAL_FLAG_W,SALNTY,SALNTY_FLAG_W,CTDOXY,CTDOXY_FLAG_W,THETA,OXYGEN,OXYGEN_FLAG_W,CFC-11,CFC-11_FLAG_W,CFC-12,CFC-12_FLAG_W,CFC113,CFC113_FLAG_W,SF6,SF6_FLAG_W
,,,,,,,,,,,,DBARS,ITS-90,PSS-78,,PSS-78,,UMOL/KG,,ITS-90,UMOL/KG,,PMOL/KG,,PMOL/KG,,PMOL/KG,,FMOL/KG,
  32OC20080510,     W,  9015,  1,     24,     24,2,20080517,1044, 37.8257, -68.4945, 4369,      4.4,  22.4924,  36.4229,2,  36.4225,2,    217.8,2, 22.4969,    215.6,2,    1.867,2,    1.160,2,    0.146,2, -999.00,9
  32OC20080510,     W,  9015,  1,     23,     23,2,20080517,1044, 37.8257, -68.4945, 4369,    202.8,  19.5348,  36.6093,2,  36.6092,2,    215.0,2, 19.5022,    213.0,2,    2.136,2,    1.307,2,    0.117,2, -999.00,9
  32OC20080510,     W,  9015,  1,     22,     22,2,20080517,1044, 37.8257, -68.4945, 4369,    405.0,  18.4089,  36.5975,2,  36.6009,2,    202.6,2, 18.3417,    195.9,2,    2.188,2,    1.342,2,    0.022,2, -999.00,9
  32OC20080510,     W,  9015,  1,     21,     21,2,20080517,1044, 37.8257, -68.4945, 4369,    606.4,  17.0368,  36.3556,2,  36.3610,2,    185.9,2, 16.9387,    182.8,2,    2.243,2,    1.294,2,    0.035,2, -999.00,9
  32OC20080510,     W,  9015,  1,     20,     20,2,20080517,1044, 37.8257, -68.4945, 4369,    807.8,  12.9266,  35.6728,2,  35.6818,2,    141.8,2, 12.8157,    152.0,2,    1.772,2,    0.985,2,    0.024,2, -999.00,9
  32OC20080510,     W,  9015,  1,     19,     19,2,20080517,1044, 37.8257, -68.4945, 4369,   1008.9,   8.4140,  35.1513,2,  35.1506,2,    153.2,2,  8.3054,    154.1,2,    1.094,2,    0.612,2,    0.035,2, -999.00,9
  32OC20080510,     W,  9015,  1,     18,     18,2,20080517,1044, 37.8257, -68.4945, 4369,   1161.7,   5.9708,  35.0396,2,  35.0428,2,    207.6,2,  5.8646,    207.8,2,    1.826,2,    0.995,2,    0.053,2, -999.00,9
  32OC20080510,     W,  9015,  1,     16,     16,2,20080517,1044, 37.8257, -68.4945, 4369,   1305.2,   5.0806,  35.0169,2,-999.0000,9,    236.5,2,  4.9683,   -999.0,9,    2.299,2,    1.195,2,    0.116,2, -999.00,9
  32OC20080510,     W,  9015,  1,     17,     17,2,20080517,1044, 37.8257, -68.4945, 4369,   1306.3,   5.0797,  35.0175,2,-999.0000,9,    236.8,2,  4.9673,   -999.0,9, -999.000,9, -999.000,9, -999.000,9, -999.00,9
  32OC20080510,     W,  9015,  1,     15,     15,2,20080517,1044, 37.8257, -68.4945, 4369,   1508.6,   4.5221,  34.9863,2,  34.9840,2,    251.7,2,  4.3962,    253.6,2,    2.566,2,    1.306,2,    0.142,2, -999.00,9
  32OC20080510,     W,  9015,  1,     14,     14,2,20080517,1044, 37.8257, -68.4945, 4369,   1510.6,   4.5201,  34.9866,2,  34.9821,2,    251.9,2,  4.3940,    254.1,2, -999.000,9, -999.000,9, -999.000,9, -999.00,9
  32OC20080510,     W,  9015,  1,     13,     13,2,20080517,1044, 37.8257, -68.4945, 4369,   1705.2,   4.2372,  34.9735,2,  34.9736,2,    260.3,2,  4.0959,    259.7,2,    2.419,2,    1.248,2,    0.115,2, -999.00,9
  32OC20080510,     W,  9015,  1,     12,     12,2,20080517,1044, 37.8257, -68.4945, 4369,   1900.4,   4.0780,  34.9706,2,  34.9691,2,    262.7,2,  3.9200,    262.4,2,    2.168,2,    1.150,2,    0.128,2, -999.00,9
  32OC20080510,     W,  9015,  1,     11,     11,2,20080517,1044, 37.8257, -68.4945, 4369,   2049.9,   3.9261,  34.9635,2,  34.9628,2,    264.9,2,  3.7557,    264.7,2,    2.014,2,    1.043,2,    0.118,2, -999.00,9
  32OC20080510,     W,  9015,  1,     10,     10,2,20080517,1044, 37.8257, -68.4945, 4369,   2299.3,   3.7056,  34.9503,2,  34.9492,2,    267.8,2,  3.5140,    268.4,2,    1.872,2,    0.937,2,    0.092,2, -999.00,9
  32OC20080510,     W,  9015,  1,      9,      9,2,20080517,1044, 37.8257, -68.4945, 4369,   2601.6,   3.4914,  34.9464,2,  34.9452,2,    269.0,2,  3.2729,    269.2,2,    1.552,2,    0.786,2,    0.070,2, -999.00,9
  32OC20080510,     W,  9015,  1,      8,      8,2,20080517,1044, 37.8257, -68.4945, 4369,   2899.3,   3.3261,  34.9459,2,  34.9442,2,    268.3,2,  3.0798,    267.6,2,    1.206,2,    0.607,2,    0.050,2, -999.00,9
  32OC20080510,     W,  9015,  1,      7,      7,2,20080517,1044, 37.8257, -68.4945, 4369,   3152.7,   3.1184,  34.9410,2,  34.9411,2,    268.0,2,  2.8495,    267.7,2,    1.043,2,    0.552,2,    0.045,2, -999.00,9
  32OC20080510,     W,  9015,  1,      6,      6,2,20080517,1044, 37.8257, -68.4945, 4369,   3394.4,   2.9094,  34.9301,2,  34.9291,2,    270.1,2,  2.6190,    270.2,2,    1.093,2,    0.557,2,    0.057,2, -999.00,9
  32OC20080510,     W,  9015,  1,      5,      5,2,20080517,1044, 37.8257, -68.4945, 4369,   3595.5,   2.7522,  34.9222,2,  34.9208,2,    271.3,2,  2.4435,    270.9,2,    1.121,2,    0.597,2,    0.057,2, -999.00,9
  32OC20080510,     W,  9015,  1,      4,      4,2,20080517,1044, 37.8257, -68.4945, 4369,   3740.3,   2.6372,  34.9152,2,  34.9129,2,    272.6,2,  2.3153,    272.3,2,    1.239,2,    0.634,2,    0.062,2, -999.00,9
  32OC20080510,     W,  9015,  1,      3,      3,2,20080517,1044, 37.8257, -68.4945, 4369,   3894.6,   2.5334,  34.9092,2,  34.9084,2,    272.8,2,  2.1968,    272.9,2,    1.300,2,    0.687,2,    0.069,2, -999.00,9
  32OC20080510,     W,  9015,  1,      2,      2,2,20080517,1044, 37.8257, -68.4945, 4369,   4089.7,   2.4070,  34.9015,2,  34.9007,2,    271.6,2,  2.0515,    271.6,2,    1.200,2,    0.635,2,    0.064,2, -999.00,9
  32OC20080510,     W,  9015,  1,      1,      1,2,20080517,1044, 37.8257, -68.4945, 4369,   4446.6,   2.2270,  34.8855,2,  34.8853,2,    265.6,2,  1.8350,    265.8,2,    0.971,2,    0.520,2,    0.057,2, -999.00,9
  32OC20080510,     W,  9013,  1,     24,     24,2,20080518,0447, 38.3162, -68.8432, 3815,      5.0,  23.3563,  36.4697,2,  36.4693,2,    212.7,2, 23.3609,    213.9,2,    1.796,2,    1.133,2,    0.156,2, -999.00,9
  32OC20080510,     W,  9013,  1,     23,     23,2,20080518,0447, 38.3162, -68.8432, 3815,    200.9,  18.8044,  36.6325,2,  36.6356,2,    196.9,2, 18.7730,    195.6,2,    2.225,2,    1.356,2,    0.026,2, -999.00,9
  32OC20080510,     W,  9013,  1,     22,     22,2,20080518,0447, 38.3162, -68.8432, 3815,    400.7,  17.7170,  36.5068,2,  36.5088,2,    203.3,2, 17.6521,    200.0,2,    2.265,2,    1.371,2,    0.038,2, -999.00,9
  32OC20080510,     W,  9013,  1,     21,     21,2,20080518,0447, 38.3162, -68.8432, 3815,    598.6,  13.9256,  35.8304,2,  35.8303,2,    165.3,2, 13.8409,    160.1,2,    2.002,2,    1.146,2,    0.010,2, -999.00,9
  32OC20080510,     W,  9013,  1,     20,     20,2,20080518,0447, 38.3162, -68.8432, 3815,    799.9,   9.0672,  35.1952,2,  35.1936,2,    150.2,2,  8.9788,    143.0,2,    1.000,2,    0.524,2,    0.026,2, -999.00,9
  32OC20080510,     W,  9013,  1,     19,     19,2,20080518,0447, 38.3162, -68.8432, 3815,    951.0,   6.1473,  35.0542,2,  35.0536,2,    204.0,2,  6.0608,    203.6,2,    1.703,2,    0.885,2,    0.065,2, -999.00,9
  32OC20080510,     W,  9013,  1,     18,     18,2,20080518,0447, 38.3162, -68.8432, 3815,   1101.3,   5.0447,  35.0085,2,  35.0101,2,    239.3,2,  4.9521,    237.4,2,    2.307,2,    1.183,2,    0.129,2, -999.00,9
  32OC20080510,     W,  9013,  1,     17,     17,2,20080518,0447, 38.3162, -68.8432, 3815,   1250.5,   4.5861,  34.9863,2,  34.9880,2,    250.6,2,  4.4836,    251.0,2,    2.505,2,    1.312,2,    0.150,2, -999.00,9
  32OC20080510,     W,  9013,  1,     16,     16,2,20080518,0447, 38.3162, -68.8432, 3815,   1251.2,   4.5769,  34.9852,2,  34.9874,2,    250.6,2,  4.4745,    252.3,2, -999.000,9, -999.000,9, -999.000,9, -999.00,9
  32OC20080510,     W,  9013,  1,     14,     14,2,20080518,0447, 38.3162, -68.8432, 3815,   1401.1,   4.3726,  34.9828,2,  34.9827,2,    258.8,2,  4.2584,    256.9,2, -999.000,9, -999.000,9, -999.000,9, -999.00,9
  32OC20080510,     W,  9013,  1,     15,     15,2,20080518,0447, 38.3162, -68.8432, 3815,   1401.5,   4.3718,  34.9828,2,  34.9827,2,    258.9,2,  4.2576,    256.3,2,    2.463,2,    1.259,2,    0.151,2, -999.00,9
  32OC20080510,     W,  9013,  1,     13,     13,2,20080518,0447, 38.3162, -68.8432, 3815,   1602.1,   4.0826,  34.9631,2,  34.9724,2,    263.2,2,  3.9530,    260.8,2,    2.427,2,    1.201,2,    0.125,2, -999.00,9
  32OC20080510,     W,  9013,  1,     12,     12,2,20080518,0447, 38.3162, -68.8432, 3815,   1799.7,   3.9249,  34.9627,2,  34.9608,2,    264.8,2,  3.7786,    265.0,2,    2.112,2,    1.036,2,    0.099,2, -999.00,9
  32OC20080510,     W,  9013,  1,     11,     11,2,20080518,0447, 38.3162, -68.8432, 3815,   2003.3,   3.7499,  34.9563,2,  34.9553,2,    267.7,2,  3.5867,    267.5,2,    1.872,2,    0.911,2,    0.092,2, -999.00,9
  32OC20080510,     W,  9013,  1,     10,     10,2,20080518,0447, 38.3162, -68.8432, 3815,   2200.8,   3.5993,  34.9504,2,  34.9505,2,    269.0,2,  3.4192,    268.9,2,    1.697,2,    0.832,2,    0.083,2, -999.00,9
  32OC20080510,     W,  9013,  1,      9,      9,2,20080518,0447, 38.3162, -68.8432, 3815,   2402.9,   3.4197,  34.9462,2,  34.9444,2,    269.5,2,  3.2226,    268.9,2,    1.464,2,    0.714,2,    0.079,2, -999.00,9
  32OC20080510,     W,  9013,  1,      8,      8,2,20080518,0447, 38.3162, -68.8432, 3815,   2601.7,   3.2556,  34.9447,2,  34.9434,2,    268.6,2,  3.0415,    268.6,2,    1.241,2,    0.632,2,    0.068,2, -999.00,9
  32OC20080510,     W,  9013,  1,      7,      7,2,20080518,0447, 38.3162, -68.8432, 3815,   2799.8,   3.0541,  34.9380,2,  34.9379,2,    269.0,2,  2.8237,    268.5,2,    1.167,2,    0.598,2,    0.065,2, -999.00,9
  32OC20080510,     W,  9013,  1,      6,      6,2,20080518,0447, 38.3162, -68.8432, 3815,   2999.0,   2.9203,  34.9328,2,  34.9326,2,    269.7,2,  2.6720,    269.6,2,    1.080,2,    0.548,2,    0.045,2, -999.00,9
  32OC20080510,     W,  9013,  1,      5,      5,2,20080518,0447, 38.3162, -68.8432, 3815,   3147.8,   2.7277,  34.9222,2,  34.9222,2,    271.9,2,  2.4680,    272.9,2,    1.260,2,    0.668,2,    0.079,2, -999.00,9
  32OC20080510,     W,  9013,  1,      4,      4,2,20080518,0447, 38.3162, -68.8432, 3815,   3300.5,   2.5060,  34.9114,2,  34.9117,2,    272.8,2,  2.2354,    272.7,2,    1.241,2,    0.645,2,    0.055,2, -999.00,9
  32OC20080510,     W,  9013,  1,      3,      3,2,20080518,0447, 38.3162, -68.8432, 3815,   3447.8,   2.4458,  34.9068,2,  34.9058,2,    273.9,2,  2.1609,    274.6,2,    1.453,2,    0.736,2,    0.102,2, -999.00,9
  32OC20080510,     W,  9013,  1,      2,      2,2,20080518,0447, 38.3162, -68.8432, 3815,   3648.7,   2.2643,  34.8956,2,  34.8942,2,    273.7,2,  1.9623,    273.1,2,    1.523,2,    0.768,2,    0.103,2, -999.00,9
  32OC20080510,     W,  9013,  1,      1,      1,2,20080518,0447, 38.3162, -68.8432, 3815,   3866.5,   2.1667,  34.8872,2,  34.8906,2,    268.0,2,  1.8433,    268.2,2,    1.190,2,    0.604,2,    0.076,2, -999.00,9
  32OC20080510,     W,  9012,  1,     24,     24,2,20080518,1007, 38.5380, -68.9775, 3502,      6.1,  24.1441,  36.4200,2,  36.4197,2,    206.6,2, 24.1486,    210.7,2,    1.747,2,    1.112,2,    0.104,2, -999.00,9
  32OC20080510,     W,  9012,  1,     23,     23,2,20080518,1007, 38.5380, -68.9775, 3502,    135.9,  20.2025,  36.5665,2,  36.5417,2,    156.0,2, 20.1818,    166.0,2,    2.020,2,    1.245,2,    0.065,2, -999.00,9
  32OC20080510,     W,  9012,  1,     22,     22,2,20080518,1007, 38.5380, -68.9775, 3502,    274.8,  17.7000,  36.4813,2,  36.4951,2,    179.2,2, 17.6571,    193.2,2,    2.290,2,    1.305,2,    0.022,2, -999.00,9
  32OC20080510,     W,  9012,  1,     21,     21,2,20080518,1007, 38.5380, -68.9775, 3502,    419.8,  14.6299,  35.9504,2,  35.9504,2,    163.9,2, 14.5700,    165.4,2,    2.094,2,    1.147,2,    0.018,2, -999.00,9
  32OC20080510,     W,  9012,  1,     20,     20,2,20080518,1007, 38.5380, -68.9775, 3502,    567.7,  10.4066,  35.3194,2,  35.3227,2,    145.1,2, 10.3400,    138.6,2,    1.354,2,    0.757,2,    0.033,2, -999.00,9
  32OC20080510,     W,  9012,  1,     19,     19,2,20080518,1007, 38.5380, -68.9775, 3502,    722.0,   6.8982,  35.0734,2,  35.0674,2,    195.1,2,  6.8301,    184.9,2,    1.511,2,    0.794,2,    0.061,2, -999.00,9
  32OC20080510,     W,  9012,  1,     18,     18,2,20080518,1007, 38.5380, -68.9775, 3502,    878.9,   5.3818,  35.0341,2,  35.0353,2,    232.6,2,  5.3074,    226.9,2,    2.029,2,    1.033,2,    0.055,2, -999.00,9
  32OC20080510,     W,  9012,  1,     17,     17,2,20080518,1007, 38.5380, -68.9775, 3502,   1034.0,   4.6420,  34.9862,2,  34.9878,2,    245.0,2,  4.5587,    251.6,3,    2.605,2,    1.321,2,    0.077,2, -999.00,9
  32OC20080510,     W,  9012,  1,     16,     16,2,20080518,1007, 38.5380, -68.9775, 3502,   1034.4,   4.6433,  34.9864,2,  34.9870,2,    245.1,2,  4.5599,    249.9,3, -999.000,9, -999.000,9, -999.000,9, -999.00,9
  32OC20080510,     W,  9012,  1,     14,     14,2,20080518,1007, 38.5380, -68.9775, 3502,   1178.8,   4.3575,  34.9788,2,  34.9868,2,    258.0,2,  4.2636,    258.3,2,    2.548,2,    1.290,2,    0.102,2, -999.00,9
  32OC20080510,     W,  9012,  1,     15,     15,2,20080518,1007, 38.5380, -68.9775, 3502,   1180.1,   4.3508,  34.9782,2,-999.0000,9,    257.7,2,  4.2569,   -999.0,9, -999.000,9, -999.000,9, -999.000,9, -999.00,9
  32OC20080510,     W,  9012,  1,     13,     13,2,20080518,1007, 38.5380, -68.9775, 3502,   1333.3,   4.1730,  34.9704,2,  34.9655,2,    260.5,2,  4.0670,    262.9,2,    2.571,2,    1.306,2,    0.115,2, -999.00,9
  32OC20080510,     W,  9012,  1,     12,     12,2,20080518,1007, 38.5380, -68.9775, 3502,   1475.5,   4.0462,  34.9708,2,  34.9730,2,    263.5,2,  3.9286,    264.5,2,    2.234,2,    1.118,2,    0.093,2, -999.00,9
  32OC20080510,     W,  9012,  1,     11,     11,2,20080518,1007, 38.5380, -68.9775, 3502,   1633.0,   3.8031,  34.9506,2,  34.9497,2,    266.8,2,  3.6740,    268.1,2,    2.225,2,    1.125,2,    0.091,2, -999.00,9
  32OC20080510,     W,  9012,  1,     10,     10,2,20080518,1007, 38.5380, -68.9775, 3502,   1778.6,   3.7072,  34.9527,2,  34.9553,2,    267.8,2,  3.5659,    268.6,2,    1.939,2,    0.993,2,    0.078,2, -999.00,9
  32OC20080510,     W,  9012,  1,      9,      9,2,20080518,1007, 38.5380, -68.9775, 3502,   1952.9,   3.5877,  34.9512,2,  34.9523,2,    269.0,2,  3.4316,    268.8,2,    1.698,2,    0.854,2,    0.073,2, -999.00,9
  32OC20080510,     W,  9012,  1,      8,      8,2,20080518,1007, 38.5380, -68.9775, 3502,   2155.2,   3.4419,  34.9472,2,  34.9484,2,    269.9,2,  3.2687,    268.2,2,    1.526,2,    0.746,2,    0.030,2, -999.00,9
  32OC20080510,     W,  9012,  1,      7,      7,2,20080518,1007, 38.5380, -68.9775, 3502,   2400.6,   3.2344,  34.9450,2,  34.9476,2,    269.0,2,  3.0407,    268.0,2,    1.248,2,    0.611,2,    0.032,2, -999.00,9
  32OC20080510,     W,  9012,  1,      6,      6,2,20080518,1007, 38.5380, -68.9775, 3502,   2676.5,   2.9694,  34.9351,2,  34.9350,2,    270.5,2,  2.7532,    270.4,2,    1.192,2,    0.599,2,    0.031,2, -999.00,9
  32OC20080510,     W,  9012,  1,      5,      5,2,20080518,1007, 38.5380, -68.9775, 3502,   2873.0,   2.7144,  34.9229,2,  34.9226,2,    271.9,2,  2.4835,    272.7,2,    1.258,2,    0.639,2,    0.055,2, -999.00,9
  32OC20080510,     W,  9012,  1,      4,      4,2,20080518,1007, 38.5380, -68.9775, 3502,   3017.9,   2.5422,  34.9149,2,  34.9143,2,    273.2,2,  2.3002,    273.5,2,    1.254,2,    0.645,2,    0.055,2, -999.00,9
  32OC20080510,     W,  9012,  1,      3,      3,2,20080518,1007, 38.5380, -68.9775, 3502,   3145.0,   2.4299,  34.9077,2,  34.9078,2,    274.2,2,  2.1773,    274.3,2,    1.504,2,    0.734,2,    0.044,2, -999.00,9
  32OC20080510,     W,  9012,  1,      2,      2,2,20080518,1007, 38.5380, -68.9775, 3502,   3294.8,   2.3463,  34.9018,2,  34.9019,2,    274.7,2,  2.0800,    274.9,2,    1.631,2,    0.805,2,    0.061,2, -999.00,9
  32OC20080510,     W,  9012,  1,      1,      1,2,20080518,1007, 38.5380, -68.9775, 3502,   3530.3,   2.1589,  34.8896,2,  34.8887,2,    270.3,2,  1.8723,    270.2,2, -999.000,9, -999.000,9, -999.000,9, -999.00,9