BOTTLE,20091023WHPSIOSCD
EXPOCODE,SECT_ID,STNNBR,CASTNO,SAMPNO,BTLNBR,BTLNBR_FLAG_W,DATE,TIME,LATITUDE,LONGITUDE,DEPTH,CTDPRS,CTDTMP,CTDSAL,CTDSAL_FLAG_W,SALNTY,SALNTY_FLAG_W,CTDOXY,CTDOXY_FLAG_W,THETA,OXYGEN,OXYGEN_FLAG_W,CFC-11,CFC-11_FLAG_W,CFC-12,CFC-12_FLAG_W,CFC113,CFC113_FLAG_W,SF6,SF6_FLAG_W
,,,,,,,,,,,,DBARS,ITS-90,PSS-78,,PSS-78,,UMOL/KG,,ITS-90,UMOL/KG,,PMOL/KG,,PMOL/KG,,PMOL/KG,,FMOL/KG,
  32OC20080510,     W,  9011,  1,     24,     24,2,20080518,1540, 38.8140, -69.1857, 3253,    150.9,  13.6245,  35.4979,2,  35.5020,2,    208.0,2, 13.6063,    214.6,2,    2.661,2,    1.540,2,    0.172,2, -999.00,9
  32OC20080510,     W,  9011,  1,     23,     23,2,20080518,1540, 38.8140, -69.1857, 3253,    299.5,  10.7358,  35.3743,2,  35.4052,2,    139.9,2, 10.7017,    145.7,3,    1.336,2,    0.748,2,    0.026,2, -999.00,9
  32OC20080510,     W,  9011,  1,     22,     22,2,20080518,1540, 38.8140, -69.1857, 3253,    449.9,   7.0839,  35.0685,2,  35.0678,2,    180.4,2,  7.0423,    181.2,2,    1.591,2,    0.862,2,    0.072,2, -999.00,9
  32OC20080510,     W,  9011,  1,     21,     21,2,20080518,1540, 38.8140, -69.1857, 3253,    461.2,   7.0041,  35.0705,2,  35.0692,2,    182.9,2,  6.9617,    185.7,2,    1.532,2,    0.824,2,    0.075,2, -999.00,9
  32OC20080510,     W,  9011,  1,     20,     20,2,20080518,1540, 38.8140, -69.1857, 3253,    603.1,   5.3471,  35.0167,2,  35.0181,2,    227.9,2,  5.2977,    227.6,2,    2.140,2,    1.146,2,    0.115,2, -999.00,9
  32OC20080510,     W,  9011,  1,     19,     19,2,20080518,1540, 38.8140, -69.1857, 3253,    748.2,   4.8166,  35.0009,2,  34.9976,2,    243.2,2,  4.7572,    246.0,2,    2.479,2,    1.304,2,    0.154,2, -999.00,9
  32OC20080510,     W,  9011,  1,     18,     18,2,20080518,1540, 38.8140, -69.1857, 3253,    876.6,   4.6492,  35.0069,2,  35.0055,2,    251.3,2,  4.5797,    250.7,2,    2.272,2,    1.203,2,    0.124,2, -999.00,9
  32OC20080510,     W,  9011,  1,     16,     16,2,20080518,1540, 38.8140, -69.1857, 3253,   1001.5,   4.2309,  34.9686,2,  34.9671,2,    261.9,2,  4.1535,    262.1,2, -999.000,9, -999.000,9, -999.000,9, -999.00,9
  32OC20080510,     W,  9011,  1,     17,     17,2,20080518,1540, 38.8140, -69.1857, 3253,   1003.5,   4.2277,  34.9685,2,-999.0000,9,    261.8,2,  4.1502,    262.4,2,    2.697,2,    1.399,2,    0.168,2, -999.00,9
  32OC20080510,     W,  9011,  1,     14,     14,2,20080518,1540, 38.8140, -69.1857, 3253,   1153.4,   4.0706,  34.9668,2,  34.9651,2,    264.0,2,  3.9814,    265.9,3, -999.000,9, -999.000,9, -999.000,9, -999.00,9
  32OC20080510,     W,  9011,  1,     15,     15,2,20080518,1540, 38.8140, -69.1857, 3253,   1155.4,   4.0658,  34.9665,2,  34.9651,2,    264.0,2,  3.9766,    263.3,2,    2.439,2,    1.276,2,    0.146,2, -999.00,9
  32OC20080510,     W,  9011,  1,     13,     13,2,20080518,1540, 38.8140, -69.1857, 3253,   1301.7,   3.9550,  34.9611,2,  34.9604,2,    265.4,2,  3.8540,    264.9,2,    2.326,2,    1.190,2,    0.134,2, -999.00,9
  32OC20080510,     W,  9011,  1,     12,     12,2,20080518,1540, 38.8140, -69.1857, 3253,   1451.2,   3.8305,  34.9628,2,  34.9624,2,    266.4,2,  3.7175,    266.1,2,    1.951,2,    1.026,2,    0.115,2, -999.00,9
  32OC20080510,     W,  9011,  1,     11,     11,2,20080518,1540, 38.8140, -69.1857, 3253,   1602.5,   3.6908,  34.9548,2,  34.9549,2,    269.0,2,  3.5658,    269.5,2,    1.875,2,    0.956,2,    0.108,2, -999.00,9
  32OC20080510,     W,  9011,  1,     10,     10,2,20080518,1540, 38.8140, -69.1857, 3253,   1751.7,   3.5769,  34.9517,2,  34.9505,2,    270.8,2,  3.4397,    270.7,2,    1.709,2,    0.867,2,    0.084,2, -999.00,9
  32OC20080510,     W,  9011,  1,      9,      9,2,20080518,1540, 38.8140, -69.1857, 3253,   1875.1,   3.4372,  34.9428,2,  34.9413,2,    271.3,2,  3.2905,    271.1,2,    1.727,2,    0.879,2,    0.091,2, -999.00,9
  32OC20080510,     W,  9011,  1,      8,      8,2,20080518,1540, 38.8140, -69.1857, 3253,   1997.2,   3.3954,  34.9431,2,  34.9419,2,    272.1,2,  3.2380,    271.0,2,    1.624,2,    0.820,2,    0.084,2, -999.00,9
  32OC20080510,     W,  9011,  1,      7,      7,2,20080518,1540, 38.8140, -69.1857, 3253,   2150.2,   3.2765,  34.9440,2,  34.9434,2,    271.8,2,  3.1064,    270.9,2,    1.327,2,    0.703,2,    0.069,2, -999.00,9
  32OC20080510,     W,  9011,  1,      6,      6,2,20080518,1540, 38.8140, -69.1857, 3253,   2399.9,   3.1358,  34.9410,2,  34.9397,2,    271.5,2,  2.9439,    271.6,2,    1.271,2,    0.657,2,    0.064,2, -999.00,9
  32OC20080510,     W,  9011,  1,      5,      5,2,20080518,1540, 38.8140, -69.1857, 3253,   2648.3,   2.8703,  34.9295,2,  34.9281,2,    272.9,2,  2.6589,    273.7,2,    1.318,2,    0.677,2,    0.070,2, -999.00,9
  32OC20080510,     W,  9011,  1,      4,      4,2,20080518,1540, 38.8140, -69.1857, 3253,   2848.9,   2.6715,  34.9208,2,  34.9206,2,    274.0,2,  2.4439,    275.0,2,    1.346,2,    0.697,2,    0.070,2, -999.00,9
  32OC20080510,     W,  9011,  1,      3,      3,2,20080518,1540, 38.8140, -69.1857, 3253,   2998.2,   2.4986,  34.9127,2,  34.9127,2,    275.3,2,  2.2595,    274.7,2,    1.317,2,    0.672,2,    0.069,2, -999.00,9
  32OC20080510,     W,  9011,  1,      2,      2,2,20080518,1540, 38.8140, -69.1857, 3253,   3121.6,   2.3695,  34.9048,2,  34.9044,2,    276.2,2,  2.1206,    275.4,2,    1.509,2,    0.776,2,    0.085,2, -999.00,9
  32OC20080510,     W,  9011,  1,      1,      1,2,20080518,1540, 38.8140, -69.1857, 3253,   3279.1,   2.2407,  34.8962,2,  34.8975,2,    274.0,2,  1.9785,    276.0,2,    1.464,2,    0.760,2,    0.079,2, -999.00,9
  32OC20080510,     W,  9010,  1,     19,     24,2,20080518,2031, 39.0742, -69.3442, 3017,      5.1,  17.9564,  35.5882,2,  35.5841,2,    253.1,2, 17.9599,    253.4,2,    2.394,2,    1.450,2,    0.195,2, -999.00,9
  32OC20080510,     W,  9010,  1,     18,     23,2,20080518,2031, 39.0742, -69.3442, 3017,    250.9,   9.8896,  35.2712,2,  35.2765,2,    139.1,2,  9.8629,    142.0,2,    1.203,2,    0.690,2,    0.039,2, -999.00,9
  32OC20080510,     W,  9010,  1,     14,     18,2,20080518,2031, 39.0742, -69.3442, 3017,   1801.7,   3.5323,  34.9467,2,  34.9447,2,    270.4,2,  3.3911,    269.5,2, -999.000,9, -999.000,9, -999.000,9, -999.00,9
  32OC20080510,     W,  9010,  1,     17,     22,2,20080518,2031, 39.0742, -69.3442, 3017,   1801.9,   3.5318,  34.9467,2,-999.0000,9,    270.4,2,  3.3906,   -999.0,9, -999.000,9, -999.000,9, -999.000,9, -999.00,9
  32OC20080510,     W,  9010,  1,     13,     17,2,20080518,2031, 39.0742, -69.3442, 3017,   1802.0,   3.5316,  34.9467,2,  34.9463,2,    270.4,2,  3.3904,    269.9,2,    1.760,2,    0.890,2,    0.090,2, -999.00,9
  32OC20080510,     W,  9010,  1,     16,     21,2,20080518,2031, 39.0742, -69.3442, 3017,   1802.6,   3.5314,  34.9468,2,-999.0000,9,    270.5,2,  3.3902,   -999.0,9, -999.000,9, -999.000,9, -999.000,9, -999.00,9
  32OC20080510,     W,  9010,  1,     15,     20,2,20080518,2031, 39.0742, -69.3442, 3017,   1802.6,   3.5314,  34.9468,2,-999.0000,9,    270.5,2,  3.3902,   -999.0,9, -999.000,9, -999.000,9, -999.000,9, -999.00,9
  32OC20080510,     W,  9010,  1,     11,     15,2,20080518,2031, 39.0742, -69.3442, 3017,   2647.4,   2.8047,  34.9255,2,-999.0000,9,    273.7,2,  2.5946,   -999.0,9, -999.000,9, -999.000,9, -999.000,9, -999.00,9
  32OC20080510,     W,  9010,  1,      9,     11,2,20080518,2031, 39.0742, -69.3442, 3017,   2648.2,   2.8019,  34.9253,2,-999.0000,9,    273.7,2,  2.5917,   -999.0,9, -999.000,9, -999.000,9, -999.000,9, -999.00,9
  32OC20080510,     W,  9010,  1,     12,     16,2,20080518,2031, 39.0742, -69.3442, 3017,   2648.3,   2.8015,  34.9253,2,-999.0000,9,    273.7,2,  2.5913,   -999.0,9, -999.000,9, -999.000,9, -999.000,9, -999.00,9
  32OC20080510,     W,  9010,  1,     10,     13,2,20080518,2031, 39.0742, -69.3442, 3017,   2648.3,   2.8015,  34.9253,2,-999.0000,9,    273.7,2,  2.5913,   -999.0,9, -999.000,9, -999.000,9, -999.000,9, -999.00,9
  32OC20080510,     W,  9010,  1,      8,     10,2,20080518,2031, 39.0742, -69.3442, 3017,   2692.0,   2.7526,  34.9241,2,-999.0000,9,    273.6,2,  2.5391,   -999.0,9, -999.000,9, -999.000,9, -999.000,9, -999.00,9
  32OC20080510,     W,  9010,  1,      7,      8,2,20080518,2031, 39.0742, -69.3442, 3017,   2706.1,   2.7392,  34.9230,2,-999.0000,9,    273.8,2,  2.5245,   -999.0,9, -999.000,9, -999.000,9, -999.000,9, -999.00,9
  32OC20080510,     W,  9010,  1,      6,      6,2,20080518,2031, 39.0742, -69.3442, 3017,   2774.3,   2.6928,  34.9204,2,  34.9195,2,    273.8,2,  2.4722,    273.1,2, -999.000,9, -999.000,9, -999.000,9, -999.00,9
  32OC20080510,     W,  9010,  1,      5,      5,2,20080518,2031, 39.0742, -69.3442, 3017,   2875.2,   2.5528,  34.9142,2,-999.0000,9,    274.7,2,  2.3250,   -999.0,9, -999.000,9, -999.000,9, -999.000,9, -999.00,9
  32OC20080510,     W,  9010,  1,      4,      4,2,20080518,2031, 39.0742, -69.3442, 3017,   2877.5,   2.5529,  34.9142,2,-999.0000,9,    274.7,2,  2.3249,   -999.0,9, -999.000,9, -999.000,9, -999.000,9, -999.00,9
  32OC20080510,     W,  9010,  1,      3,      3,2,20080518,2031, 39.0742, -69.3442, 3017,   2882.3,   2.5510,  34.9141,2,-999.0000,9,    274.5,2,  2.3226,   -999.0,9, -999.000,9, -999.000,9, -999.000,9, -999.00,9
  32OC20080510,     W,  9010,  1,      2,      2,2,20080518,2031, 39.0742, -69.3442, 3017,   2922.2,   2.4938,  34.9110,2,  34.9113,2,    274.5,2,  2.2626,    274.8,2, -999.000,9, -999.000,9, -999.000,9, -999.00,9
  32OC20080510,     W,  9010,  1,      1,      1,2,20080518,2031, 39.0742, -69.3442, 3017,   3033.7,   2.4159,  34.9063,2,-999.0000,9,    273.6,2,  2.1751,    275.3,9,    1.552,2,    0.805,2,    0.100,2, -999.00,9
  32OC20080510,     W,  9009,  1,     24,     24,2,20080519,0028, 39.3325, -69.5365, 2526,      5.8,  16.3634,  35.5549,2,  35.5523,2,    248.3,2, 16.3664,    248.4,2,    2.550,2,    1.551,2,    0.212,2, -999.00,9
  32OC20080510,     W,  9009,  1,     23,     23,2,20080519,0028, 39.3325, -69.5365, 2526,    102.4,  13.2655,  35.4985,2,  35.5066,2,    219.0,2, 13.2544,    211.2,2,    2.539,2,    1.549,2,    0.159,2, -999.00,9
  32OC20080510,     W,  9009,  1,     22,     22,2,20080519,0028, 39.3325, -69.5365, 2526,    228.9,  10.7585,  35.3627,2,  35.3654,2,    142.1,2, 10.7331,    138.0,2,    1.466,2,    0.826,2,    0.037,2, -999.00,9
  32OC20080510,     W,  9009,  1,     21,     21,2,20080519,0028, 39.3325, -69.5365, 2526,    352.8,   7.9537,  35.1071,2,  35.1053,2,    160.5,2,  7.9196,    158.6,2,    1.293,2,    0.704,2,    0.050,2, -999.00,9
  32OC20080510,     W,  9009,  1,     20,     20,2,20080519,0028, 39.3325, -69.5365, 2526,    479.0,   6.0850,  35.0523,2,  35.0520,2,    203.2,2,  6.0439,    204.1,2,    1.762,2,    0.936,2,    0.091,2, -999.00,9
  32OC20080510,     W,  9009,  1,     19,     19,2,20080519,0028, 39.3325, -69.5365, 2526,    602.5,   5.2278,  35.0221,2,  35.0213,2,    234.1,2,  5.1790,    230.6,2,    2.178,2,    1.148,2,    0.107,2, -999.00,9
  32OC20080510,     W,  9009,  1,     18,     18,2,20080519,0028, 39.3325, -69.5365, 2526,    752.4,   4.6299,  34.9850,2,  34.9833,2,    250.2,2,  4.5712,    251.4,2,    2.724,2,    1.449,2,    0.169,2, -999.00,9
  32OC20080510,     W,  9009,  1,     16,     16,2,20080519,0028, 39.3325, -69.5365, 2526,    876.9,   4.3919,  34.9762,2,  35.0028,3,    260.5,2,  4.3241,    257.6,2, -999.000,9, -999.000,9, -999.000,9, -999.00,9
  32OC20080510,     W,  9009,  1,     17,     17,2,20080519,0028, 39.3325, -69.5365, 2526,    877.1,   4.3920,  34.9762,2,  34.9785,2,    260.5,2,  4.3241,    256.7,2,    2.751,2,    1.420,2,    0.179,2, -999.00,9
  32OC20080510,     W,  9009,  1,     14,     14,2,20080519,0028, 39.3325, -69.5365, 2526,   1001.2,   4.1328,  34.9567,2,  34.9681,4,    263.8,2,  4.0562,    265.7,3, -999.000,9, -999.000,9, -999.000,9, -999.00,9
  32OC20080510,     W,  9009,  1,     15,     15,2,20080519,0028, 39.3325, -69.5365, 2526,   1001.4,   4.1328,  34.9567,2,  34.9559,2,    263.8,2,  4.0562,    264.5,2,    2.877,2,    1.522,2,    0.182,2, -999.00,9
  32OC20080510,     W,  9009,  1,     13,     13,2,20080519,0028, 39.3325, -69.5365, 2526,   1127.0,   3.9608,  34.9490,2,  34.9473,4,    265.1,2,  3.8748,    267.1,2,    2.789,2,    1.450,2,    0.174,2, -999.00,9
  32OC20080510,     W,  9009,  1,     12,     12,2,20080519,0028, 39.3325, -69.5365, 2526,   1251.9,   3.9296,  34.9554,2,  34.9547,2,    265.9,2,  3.8331,    266.3,2,    2.487,2,    1.264,2,    0.151,2, -999.00,9
  32OC20080510,     W,  9009,  1,     11,     11,2,20080519,0028, 39.3325, -69.5365, 2526,   1377.2,   3.8600,  34.9594,2,  34.9589,2,    265.9,2,  3.7533,    266.3,2,    2.158,2,    1.105,2,    0.117,2, -999.00,9
  32OC20080510,     W,  9009,  1,     10,     10,2,20080519,0028, 39.3325, -69.5365, 2526,   1501.6,   3.7197,  34.9522,2,  34.9524,2,    268.0,2,  3.6034,    268.7,2,    2.068,2,    1.078,2,    0.112,2, -999.00,9
  32OC20080510,     W,  9009,  1,      9,      9,2,20080519,0028, 39.3325, -69.5365, 2526,   1625.2,   3.6388,  34.9489,2,  34.9587,4,    269.4,2,  3.5124,    269.6,2,    1.995,2,    1.007,2,    0.110,2, -999.00,9
  32OC20080510,     W,  9009,  1,      8,      8,2,20080519,0028, 39.3325, -69.5365, 2526,   1751.9,   3.5272,  34.9463,2,  34.9534,4,    270.2,2,  3.3907,    270.3,2,    1.799,2,    0.918,2,    0.102,2, -999.00,9
  32OC20080510,     W,  9009,  1,      7,      7,2,20080519,0028, 39.3325, -69.5365, 2526,   1873.7,   3.4411,  34.9456,2,  34.9463,2,    270.7,2,  3.2945,    270.8,2,    1.656,2,    0.830,2,    0.084,2, -999.00,9
  32OC20080510,     W,  9009,  1,      6,      6,2,20080519,0028, 39.3325, -69.5365, 2526,   1999.8,   3.3535,  34.9441,2,  34.9431,2,    270.6,2,  3.1965,    270.8,2,    1.553,2,    0.782,2,    0.082,2, -999.00,9
  32OC20080510,     W,  9009,  1,      5,      5,2,20080519,0028, 39.3325, -69.5365, 2526,   2124.6,   3.2167,  34.9406,2,  34.9461,4,    270.7,2,  3.0500,    271.4,2,    1.453,2,    0.741,2,    0.074,2, -999.00,9
  32OC20080510,     W,  9009,  1,      4,      4,2,20080519,0028, 39.3325, -69.5365, 2526,   2249.5,   3.1475,  34.9387,2,  34.9398,2,    270.9,2,  2.9700,    271.9,2,    1.404,2,    0.709,2,    0.071,2, -999.00,9
  32OC20080510,     W,  9009,  1,      3,      3,2,20080519,0028, 39.3325, -69.5365, 2526,   2374.3,   3.0916,  34.9372,2,  34.9359,2,    271.1,2,  2.9030,    270.3,2,    1.380,2,    0.695,2,    0.070,2, -999.00,9
  32OC20080510,     W,  9009,  1,      2,      2,2,20080519,0028, 39.3325, -69.5365, 2526,   2499.5,   3.0128,  34.9350,2,  34.9376,2,    270.4,2,  2.8133,    270.2,2,    1.310,2,    0.651,2,    0.069,2, -999.00,9
  32OC20080510,     W,  9009,  1,      1,      1,2,20080519,0028, 39.3325, -69.5365, 2526,   2528.8,   2.9407,  34.9312,2,  34.9292,2,    271.7,2,  2.7397,    271.2,2,    1.360,2,    0.701,2,    0.070,2, -999.00,9