BOTTLE,20221006CCHSIOCBG
EXPOCODE,SECT_ID,STNNBR,CASTNO,SAMPNO,BTLNBR,BTLNBR_FLAG_W,DATE,TIME,LATITUDE,LONGITUDE,DEPTH,CTDPRS,CTDTMP,CTDSAL,CTDSAL_FLAG_W,SALNTY,SALNTY_FLAG_W,CTDOXY,CTDOXY_FLAG_W,OXYGEN,OXYGEN_FLAG_W,SILCAT,SILCAT_FLAG_W,NITRAT,NITRAT_FLAG_W,PHSPHT,PHSPHT_FLAG_W,CFC-11,CFC-11_FLAG_W,CFC-12,CFC-12_FLAG_W,ALKALI,ALKALI_FLAG_W,PH_SWS,PH_TEMP,PH_SWS_FLAG_W,CHLORA,CHLORA_FLAG_W,PPHYTN,PPHYTN_FLAG_W,THETA
,,,,,,,,,,,METERS,DBAR,ITS-90,PSS-78,,PSS-78,,UMOL/KG,,UMOL/KG,,UMOL/KG,,UMOL/KG,,UMOL/KG,,PMOL/KG,,PMOL/KG,,UMOL/KG,,,DEGC,,UG/L,,UG/L,,DEGC
  74DI19980423,  A16N, 13491,  1,     18,     18,2,19980519, 305, 53.5000, -20.0017, 2289,      1.9,  11.6400,  35.3550,2,  35.3550,2,   -999.0,9,    279.6,2,     2.59,2,     6.41,2,     0.34,2, -999.000,9, -999.000,9,   -999.0,9,-999.0000,  -999.00,9,     0.52,2,     0.11,2,  11.6398
  74DI19980423,  A16N, 13491,  1,     17,     17,2,19980519, 305, 53.5000, -20.0017, 2289,     11.8,  11.1140,  35.3490,2,  35.3490,2,    276.4,6,    284.8,2,     2.63,2,     6.59,2,     0.35,2, -999.000,9, -999.000,9,   -999.0,9,-999.0000,  -999.00,9,     0.29,2,     0.09,2,  11.1125
  74DI19980423,  A16N, 13491,  1,     16,     16,2,19980519, 305, 53.5000, -20.0017, 2289,     20.0,  11.0340,  35.3500,2,  35.3480,2,    279.5,2,    280.0,2,     2.72,2,     6.85,2,     0.38,2, -999.000,9, -999.000,9,   -999.0,9,-999.0000,  -999.00,9,     0.59,2,     0.16,2,  11.0315
  74DI19980423,  A16N, 13491,  1,     15,     15,2,19980519, 305, 53.5000, -20.0017, 2289,     34.7,  10.9210,  35.3450,2,  35.3440,2,    277.5,2,    277.4,2,     2.59,2,     7.27,2,     0.43,2, -999.000,9, -999.000,9,   -999.0,9,-999.0000,  -999.00,9,     0.36,2,     0.19,2,  10.9168
  74DI19980423,  A16N, 13491,  1,     14,     14,2,19980519, 305, 53.5000, -20.0017, 2289,     65.2,  10.5010,  35.3360,2,  35.3410,2,    267.0,2,    264.6,2,     3.89,2,     9.34,2,     0.55,2, -999.000,9, -999.000,9,   -999.0,9,-999.0000,  -999.00,9,     0.24,2,     0.09,2,  10.4932
  74DI19980423,  A16N, 13491,  1,     13,     13,2,19980519, 305, 53.5000, -20.0017, 2289,     95.5,  10.4500,  35.3870,2,  35.3860,2,    255.3,2,    258.3,2,     4.57,2,    10.64,2,     0.58,2, -999.000,9, -999.000,9,   -999.0,9,-999.0000,  -999.00,9,     0.05,2,     0.03,2,  10.4386
  74DI19980423,  A16N, 13491,  1,     12,     12,2,19980519, 305, 53.5000, -20.0017, 2289,    226.3,  10.2920,  35.3920,2,  35.3910,2,    264.5,2,    261.9,2,     4.49,2,    10.55,2,     0.60,2, -999.000,9, -999.000,9,   -999.0,9,-999.0000,  -999.00,9,  -999.00,9,  -999.00,9,  10.2651
  74DI19980423,  A16N, 13491,  1,     11,     11,2,19980519, 305, 53.5000, -20.0017, 2289,    357.0,  10.3560,  35.4230,2,  35.4220,2,    263.0,2,    261.2,2,     4.47,2,    10.68,2,     0.60,2, -999.000,9, -999.000,9,   -999.0,9,-999.0000,  -999.00,9,  -999.00,9,  -999.00,9,  10.3131
  74DI19980423,  A16N, 13491,  1,     10,     10,2,19980519, 305, 53.5000, -20.0017, 2289,    508.6,  10.2600,  35.4330,2,  35.4310,2,    262.9,2,    256.6,2,     4.76,2,    11.35,2,     0.67,2, -999.000,9, -999.000,9,   -999.0,9,-999.0000,  -999.00,9,  -999.00,9,  -999.00,9,  10.1988
  74DI19980423,  A16N, 13491,  1,      9,      9,2,19980519, 305, 53.5000, -20.0017, 2289,    711.0,   8.2770,  35.1880,2,  35.1870,2,    218.0,2,    211.2,2,     9.60,2,    17.42,2,     1.07,2, -999.000,9, -999.000,9,   -999.0,9,-999.0000,  -999.00,9,  -999.00,9,  -999.00,9,   8.2010
  74DI19980423,  A16N, 13491,  1,      8,      8,2,19980519, 305, 53.5000, -20.0017, 2289,    909.2,   6.6630,  35.1270,2,  35.1250,2,    212.7,2,    213.2,2,    11.38,2,    18.73,2,     1.01,3, -999.000,9, -999.000,9,   -999.0,9,-999.0000,  -999.00,9,  -999.00,9,  -999.00,9,   6.5756
  74DI19980423,  A16N, 13491,  1,      7,      7,2,19980519, 305, 53.5000, -20.0017, 2289,   1113.1,   5.3930,  35.0620,2,  35.0610,2,    235.8,2,    234.7,2,    11.59,2,    18.30,2,     1.14,2, -999.000,9, -999.000,9,   -999.0,9,-999.0000,  -999.00,9,  -999.00,9,  -999.00,9,   5.2951
  74DI19980423,  A16N, 13491,  1,      6,      6,2,19980519, 305, 53.5000, -20.0017, 2289,   1316.2,   4.4180,  34.9770,2,  34.9770,2,    256.5,2,    254.9,2,    11.58,2,    17.88,2,     1.11,2, -999.000,9, -999.000,9,   -999.0,9,-999.0000,  -999.00,9,  -999.00,9,  -999.00,9,   4.3101
  74DI19980423,  A16N, 13491,  1,      5,      5,2,19980519, 305, 53.5000, -20.0017, 2289,   1519.4,   3.8220,  34.9260,2,  34.9260,2,    268.1,2,    268.2,2,    11.84,2,    17.48,2,     1.08,2, -999.000,9, -999.000,9,   -999.0,9,-999.0000,  -999.00,9,  -999.00,9,  -999.00,9,   3.7022
  74DI19980423,  A16N, 13491,  1,      4,      4,2,19980519, 305, 53.5000, -20.0017, 2289,   1724.0,   3.4770,  34.9070,2,  34.9070,2,    273.2,2,    274.7,2,    12.42,2,    17.16,2,     1.09,2, -999.000,9, -999.000,9,   -999.0,9,-999.0000,  -999.00,9,  -999.00,9,  -999.00,9,   3.3429
  74DI19980423,  A16N, 13491,  1,      3,      3,2,19980519, 305, 53.5000, -20.0017, 2289,   1928.6,   3.3440,  34.9210,2,  34.9210,2,    271.7,2,    270.6,2,    14.48,2,    17.20,2,     1.09,2, -999.000,9, -999.000,9,   -999.0,9,-999.0000,  -999.00,9,  -999.00,9,  -999.00,9,   3.1930
  74DI19980423,  A16N, 13491,  1,      2,      2,2,19980519, 305, 53.5000, -20.0017, 2289,   2133.5,   3.1560,  34.9390,2,  34.9390,2,    263.6,2,    263.7,2,    19.63,2,    17.84,2,     1.12,2, -999.000,9, -999.000,9,   -999.0,9,-999.0000,  -999.00,9,  -999.00,9,  -999.00,9,   2.9886
  74DI19980423,  A16N, 13491,  1,      1,      1,2,19980519, 305, 53.5000, -20.0017, 2289,   2311.3,   2.8870,  34.9400,2,  34.9410,2,    248.5,2,    253.6,2,    28.27,2,    19.02,2,     1.14,2, -999.000,9, -999.000,9,   -999.0,9,-999.0000,  -999.00,9,  -999.00,9,  -999.00,9,   2.7073
  74DI19980423,  A16N, 13492,  1,     15,     15,2,19980519, 729, 54.0067, -19.9933, 1406,      1.5,  11.3100,  35.3320,2,  35.3310,2,   -999.0,9,    282.1,2,     1.29,2,     6.50,2,     0.34,2,    5.405,3,    1.846,3,   2334.9,2,   7.8913,    25.00,2,  -999.00,9,  -999.00,9,  11.3098
  74DI19980423,  A16N, 13492,  1,     14,     14,2,19980519, 729, 54.0067, -19.9933, 1406,      9.1,  11.2820,  35.3320,2,  35.3310,2,    279.8,2,    281.8,2,     1.29,2,     6.50,2,     0.33,2,    3.533,3,    1.923,3,   -999.0,9,-999.0000,  -999.00,9,  -999.00,9,  -999.00,9,  11.2809
  74DI19980423,  A16N, 13492,  1,     13,     13,2,19980519, 729, 54.0067, -19.9933, 1406,     17.5,  10.8050,  35.3110,2,  35.3110,2,    281.2,2,    284.1,2,     1.03,2,     6.84,2,     0.39,2,    3.570,3,    1.691,3,   2330.6,2,   7.8863,    25.00,2,  -999.00,9,  -999.00,9,  10.8029
  74DI19980423,  A16N, 13492,  1,     12,     12,2,19980519, 729, 54.0067, -19.9933, 1406,     32.7,  10.7300,  35.3120,2,  35.3120,2,    279.8,2,    281.7,2,     1.18,2,     7.01,2,     0.41,2,   -8.763,3,    1.327,3,   2330.2,2,   7.8813,    25.00,2,  -999.00,9,  -999.00,9,  10.7260
  74DI19980423,  A16N, 13492,  1,     11,     11,2,19980519, 729, 54.0067, -19.9933, 1406,     62.7,  10.4360,  35.3170,2,  35.3130,2,    266.6,2,    266.1,2,     3.97,2,     9.40,2,     0.55,2,    3.590,3,    1.605,3,   2327.9,2,   7.8483,    25.00,2,  -999.00,9,  -999.00,9,  10.4285
  74DI19980423,  A16N, 13492,  1,     10,     10,2,19980519, 729, 54.0067, -19.9933, 1406,     93.2,  10.2610,  35.3210,2,  35.3190,2,    259.8,2,    260.7,2,     4.68,2,    10.53,2,     0.60,2,    3.330,3,    0.932,3,   2332.7,2,   7.8393,    25.00,2,  -999.00,9,  -999.00,9,  10.2500
  74DI19980423,  A16N, 13492,  1,      9,      9,2,19980519, 729, 54.0067, -19.9933, 1406,    224.6,  10.1770,  35.3720,2,  35.3700,2,    260.8,2,    259.0,2,     5.02,2,    11.09,2,     0.64,2,    4.287,3,    2.099,3,   2330.2,2,   7.8333,    25.00,2,  -999.00,9,  -999.00,9,  10.1505
  74DI19980423,  A16N, 13492,  1,      8,      8,2,19980519, 729, 54.0067, -19.9933, 1406,    355.5,   9.3790,  35.2620,2,  35.2610,2,    233.2,2,    227.1,2,     7.48,2,    14.90,2,     0.92,2,    3.664,2,    1.729,2,   2324.1,2,   7.7793,    25.00,2,  -999.00,9,  -999.00,9,   9.3389
  74DI19980423,  A16N, 13492,  1,      7,      7,2,19980519, 729, 54.0067, -19.9933, 1406,    507.8,   8.7050,  35.2500,2,  35.2500,2,    220.5,2,    215.8,2,     8.85,2,    16.70,2,     1.01,2,    3.199,2,    1.475,2,   -999.0,9,-999.0000,  -999.00,9,  -999.00,9,  -999.00,9,   8.6497
  74DI19980423,  A16N, 13492,  1,      6,      6,2,19980519, 729, 54.0067, -19.9933, 1406,    709.6,   6.4110,  35.0240,2,  35.0180,2,    212.5,2,    216.7,2,    11.48,2,    19.04,2,     1.18,2,    2.614,2,    1.284,2,   2316.1,2,   7.7063,    25.00,2,  -999.00,9,  -999.00,9,   6.3452
  74DI19980423,  A16N, 13492,  1,      5,      5,2,19980519, 729, 54.0067, -19.9933, 1406,    913.1,   5.1780,  35.0200,2,  35.0210,2,    234.7,2,    235.8,2,    11.74,2,    18.62,2,     1.15,2,    2.746,2,    1.283,2,   2313.7,2,   7.7053,    25.00,2,  -999.00,9,  -999.00,9,   5.1005
  74DI19980423,  A16N, 13492,  1,      4,      4,2,19980519, 729, 54.0067, -19.9933, 1406,   1116.4,   4.3820,  34.9750,2,  34.9760,2,    255.6,2,    257.0,2,    11.69,2,    17.79,2,     1.11,2, -999.000,9, -999.000,9,   2312.8,2,   7.7193,    25.00,2,  -999.00,9,  -999.00,9,   4.2924
  74DI19980423,  A16N, 13492,  1,      3,      3,2,19980519, 729, 54.0067, -19.9933, 1406,   1320.4,   3.8600,  34.9300,2,  34.9310,2,    268.3,2,    267.0,2,    11.80,2,    17.51,2,     1.08,2,    2.359,2,    1.063,2,   2309.9,2,   7.7163,    25.00,2,  -999.00,9,  -999.00,9,   3.7574
  74DI19980423,  A16N, 13492,  1,      2,      2,2,19980519, 729, 54.0067, -19.9933, 1406,   1334.8,   3.8470,  34.9300,2,  34.9310,2,    269.1,2,    267.4,2,    11.95,2,    17.55,2,     1.07,2,    2.615,2,    1.344,2,   -999.0,9,-999.0000,  -999.00,9,  -999.00,9,  -999.00,9,   3.7433
  74DI19980423,  A16N, 13492,  1,      1,      1,2,19980519, 729, 54.0067, -19.9933, 1406,   1412.2,   3.7950,  34.9290,2,  34.9300,2,    269.6,6,    267.8,2,    12.28,2,    17.26,2,     1.00,2,    2.488,2,    1.322,2,   -999.0,9,-999.0000,  -999.00,9,  -999.00,9,  -999.00,9,   3.6850
  74DI19980423,  A16N, 13493,  1,     14,     14,2,19980519,1128, 54.5000, -19.9983, 1385,      2.9,  11.4550,  35.3440,2,  35.3430,2,    273.2,6,    281.0,2,     2.25,2,     6.46,2,     0.37,2, -999.000,9, -999.000,9,   -999.0,9,-999.0000,  -999.00,9,     0.73,2,     0.12,2,  11.4546
  74DI19980423,  A16N, 13493,  1,     13,     13,2,19980519,1128, 54.5000, -19.9983, 1385,     12.9,  11.0660,  35.3410,2,  35.3380,2,    278.6,2,    281.9,2,     2.31,2,     6.83,2,     0.41,2, -999.000,9, -999.000,9,   -999.0,9,-999.0000,  -999.00,9,     0.51,2,     0.18,2,  11.0644
  74DI19980423,  A16N, 13493,  1,     12,     12,2,19980519,1128, 54.5000, -19.9983, 1385,     23.1,  11.0170,  35.3390,2,  35.3380,2,    276.5,2,    280.0,2,     2.39,2,     6.87,2,     0.42,2, -999.000,9, -999.000,9,   -999.0,9,-999.0000,  -999.00,9,     0.49,2,     0.15,2,  11.0142
  74DI19980423,  A16N, 13493,  1,     11,     11,2,19980519,1128, 54.5000, -19.9983, 1385,     43.4,  10.8370,  35.3360,2,  35.3320,2,    275.3,2,    274.0,2,     2.59,2,     7.59,2,     0.47,2, -999.000,9, -999.000,9,   -999.0,9,-999.0000,  -999.00,9,     0.36,2,     0.12,2,  10.8317
  74DI19980423,  A16N, 13493,  1,     10,     10,2,19980519,1128, 54.5000, -19.9983, 1385,     83.9,  10.4290,  35.3260,2,  35.3250,2,    262.5,2,    262.1,2,     4.13,2,     9.77,2,     0.58,2, -999.000,9, -999.000,9,   -999.0,9,-999.0000,  -999.00,9,     0.04,2,     0.02,2,  10.4190
  74DI19980423,  A16N, 13493,  1,      9,      9,2,19980519,1128, 54.5000, -19.9983, 1385,    124.6,  10.2320,  35.3300,2,  35.3300,2,    258.8,2,    255.7,2,     4.89,2,    11.02,2,     0.65,2, -999.000,9, -999.000,9,   -999.0,9,-999.0000,  -999.00,9,     0.13,2,     0.09,2,  10.2173
  74DI19980423,  A16N, 13493,  1,      8,      8,2,19980519,1128, 54.5000, -19.9983, 1385,    245.2,  10.2970,  35.3880,2,  35.3860,2,    253.9,2,    260.5,2,     4.51,2,    10.67,2,     0.62,2, -999.000,9, -999.000,9,   -999.0,9,-999.0000,  -999.00,9,  -999.00,9,  -999.00,9,  10.2678
  74DI19980423,  A16N, 13493,  1,      7,      7,2,19980519,1128, 54.5000, -19.9983, 1385,    325.9,  10.1830,  35.3850,2,  35.3840,2,    251.9,2,    243.2,2,     5.66,2,    12.47,2,     0.74,2, -999.000,9, -999.000,9,   -999.0,9,-999.0000,  -999.00,9,  -999.00,9,  -999.00,9,  10.1443
  74DI19980423,  A16N, 13493,  1,      6,      6,2,19980519,1128, 54.5000, -19.9983, 1385,    508.4,   8.9350,  35.2160,2,  35.2150,2,    224.2,2,    218.9,2,     8.38,2,    15.98,2,     0.98,2, -999.000,9, -999.000,9,   -999.0,9,-999.0000,  -999.00,9,  -999.00,9,  -999.00,9,   8.8788
  74DI19980423,  A16N, 13493,  1,      5,      5,2,19980519,1128, 54.5000, -19.9983, 1385,    761.2,   6.7850,  35.1080,2,  35.1080,2,    212.8,2,    212.4,2,    11.29,2,    18.71,2,     1.14,2, -999.000,9, -999.000,9,   -999.0,9,-999.0000,  -999.00,9,  -999.00,9,  -999.00,9,   6.7119
  74DI19980423,  A16N, 13493,  1,      4,      4,2,19980519,1128, 54.5000, -19.9983, 1385,    964.3,   5.7880,  35.1050,2,  35.1050,2,    228.7,2,    228.4,2,    11.57,2,    18.47,2,     1.12,2, -999.000,9, -999.000,9,   -999.0,9,-999.0000,  -999.00,9,  -999.00,9,  -999.00,9,   5.7012
  74DI19980423,  A16N, 13493,  1,      3,      3,2,19980519,1128, 54.5000, -19.9983, 1385,   1166.8,   4.6130,  34.9970,2,  34.9970,2,    250.0,2,    251.1,2,    11.64,2,    17.86,2,     1.10,2, -999.000,9, -999.000,9,   -999.0,9,-999.0000,  -999.00,9,  -999.00,9,  -999.00,9,   4.5169
  74DI19980423,  A16N, 13493,  1,      2,      2,2,19980519,1128, 54.5000, -19.9983, 1385,   1370.9,   3.8490,  34.9340,2,  34.9360,2,    265.5,2,    266.1,2,    12.43,2,    17.43,2,     1.06,2, -999.000,9, -999.000,9,   -999.0,9,-999.0000,  -999.00,9,  -999.00,9,  -999.00,9,   3.7421
  74DI19980423,  A16N, 13493,  1,      1,      1,2,19980519,1128, 54.5000, -19.9983, 1385,   1391.1,   3.8350,  34.9330,2,  34.9340,2,    264.9,2,    267.4,2,    12.22,2,    17.32,2,     0.98,2, -999.000,9, -999.000,9,   -999.0,9,-999.0000,  -999.00,9,  -999.00,9,  -999.00,9,   3.7264
  74DI19980423,  A16N, 13494,  1,     15,     15,2,19980519,1540, 54.9983, -20.0033, 1611,      2.4,  11.3110,  35.3070,2,  35.3030,2,   -999.0,9,    284.3,2,     1.98,2,     6.81,2,     0.40,2,    3.173,3,    1.597,3,   2327.2,2,   7.8893,    25.00,2,     0.62,2,     0.18,2,  11.3107
  74DI19980423,  A16N, 13494,  1,     14,     14,2,19980519,1540, 54.9983, -20.0033, 1611,     14.6,  11.3370,  35.3940,2,  35.3880,2,    280.1,2,    280.9,2,     2.66,2,     6.89,2,     0.39,2,    4.237,3,    1.538,3,   2330.9,2,   7.8913,    25.00,2,     0.51,2,     0.18,2,  11.3352
  74DI19980423,  A16N, 13494,  1,     13,     13,2,19980519,1540, 54.9983, -20.0033, 1611,     24.1,  11.3430,  35.4320,2,  35.2230,2,    274.9,2,    279.8,2,     2.94,2,     7.03,2,     0.39,2,    2.636,3,    1.542,3,   2333.0,2,   7.8903,    25.00,2,     0.45,2,     0.21,2,  11.3400
  74DI19980423,  A16N, 13494,  1,     12,     12,2,19980519,1540, 54.9983, -20.0033, 1611,     44.9,  10.8330,  35.3480,2,  35.3440,2,    277.1,2,    277.7,2,     2.59,2,     7.60,2,     0.47,2,    2.809,3,    1.484,3,   2327.4,2,   7.8743,    25.00,2,     0.41,2,     0.17,2,  10.8275
  74DI19980423,  A16N, 13494,  1,     11,     11,2,19980519,1540, 54.9983, -20.0033, 1611,     84.9,  10.1770,  35.3000,2,  35.2970,2,    263.8,2,    261.1,2,     4.55,2,    10.88,2,     0.64,2,    4.222,2,    2.135,2,   2323.5,2,   7.8303,    25.00,2,     0.10,2,     0.05,2,  10.1671
  74DI19980423,  A16N, 13494,  1,     10,     10,2,19980519,1540, 54.9983, -20.0033, 1611,    125.1,   9.9890,  35.2870,2,  35.2880,2,    260.8,2,    259.1,2,     4.96,2,    11.31,2,     0.66,2,    3.771,2,    1.892,2,   2321.3,2,   7.8263,    25.00,2,     0.05,2,     0.03,2,   9.9745
  74DI19980423,  A16N, 13494,  1,      9,      9,2,19980519,1540, 54.9983, -20.0033, 1611,    245.8,  10.1660,  35.3640,2,  35.3600,2,    265.1,2,    263.4,2,     4.62,2,    10.76,2,     0.61,2,    2.642,3,    1.483,3,   2327.7,2,   7.8363,    25.00,2,  -999.00,9,  -999.00,9,  10.1370
  74DI19980423,  A16N, 13494,  1,      8,      8,2,19980519,1540, 54.9983, -20.0033, 1611,    327.0,  10.1610,  35.3680,2,  35.3640,2,    266.6,2,    264.6,2,     4.63,2,    10.78,2,     0.63,2,    4.174,2,    2.242,2,   2326.1,2,   7.8373,    25.00,2,  -999.00,9,  -999.00,9,  10.1222
  74DI19980423,  A16N, 13494,  1,      7,      7,2,19980519,1540, 54.9983, -20.0033, 1611,    506.0,  10.0730,  35.3790,2,  35.3740,2,    252.3,2,    249.7,2,     5.57,2,    12.40,2,     0.73,2,    3.699,2,    2.005,2,   -999.0,9,-999.0000,  -999.00,9,  -999.00,9,  -999.00,9,  10.0128
  74DI19980423,  A16N, 13494,  1,      6,      6,2,19980519,1540, 54.9983, -20.0033, 1611,    762.0,   7.5540,  35.1070,2,  35.1020,2,    212.5,2,    208.9,2,    10.91,2,    18.57,2,     1.14,2,    2.064,2,    0.763,3,   2317.6,2,   7.7203,    25.00,2,  -999.00,9,  -999.00,9,   7.4765
  74DI19980423,  A16N, 13494,  1,      5,      5,2,19980519,1540, 54.9983, -20.0033, 1611,    965.3,   5.6600,  35.0010,2,  35.0000,2,    226.1,2,    227.5,2,    11.61,2,    18.90,2,     1.17,2,    1.783,2,    0.998,2,   2308.9,2,   7.7013,    25.00,2,  -999.00,9,  -999.00,9,   5.5742
  74DI19980423,  A16N, 13494,  1,      4,      4,2,19980519,1540, 54.9983, -20.0033, 1611,   1166.9,   4.7640,  34.9900,2,  34.9900,2,    244.8,2,    246.6,2,    11.58,2,    18.31,2,     1.13,2,    1.774,2,    1.050,2,   -999.0,9,-999.0000,  -999.00,9,  -999.00,9,  -999.00,9,   4.6665
  74DI19980423,  A16N, 13494,  1,      3,      3,2,19980519,1540, 54.9983, -20.0033, 1611,   1369.1,   4.2510,  34.9610,2,  34.9660,2,    259.2,2,    260.1,2,    11.63,2,    17.77,2,     1.08,2,    1.476,2,    0.809,2,   -999.0,9,-999.0000,  -999.00,9,  -999.00,9,  -999.00,9,   4.1400
  74DI19980423,  A16N, 13494,  1,      2,      2,2,19980519,1540, 54.9983, -20.0033, 1611,   1575.6,   3.8000,  34.9300,2,  34.9300,2,    269.2,2,    269.1,2,    12.56,2,    17.47,2,     1.06,2,    1.690,2,    0.843,2,   2306.3,2,   7.7163,    25.00,2,  -999.00,9,  -999.00,9,   3.6753
  74DI19980423,  A16N, 13494,  1,      1,      1,2,19980519,1540, 54.9983, -20.0033, 1611,   1621.7,   3.6920,  34.9230,2,  34.9240,2,    269.6,2,    267.0,2,    12.87,2,    17.27,2,     0.99,2,    1.814,2,    0.922,2,   -999.0,9,-999.0000,  -999.00,9,  -999.00,9,  -999.00,9,   3.5645