BOTTLE,20221006CCHSIOCBG
# changed PHAEO to PPHYTN, units for CTDPRS from DBARS to DBAR
#BOTTLE,20090507PRINUNIVRMK
# processed by CCHDO on 2022-10-06, no changes
# 4/11/05 Initialized README file  
# Hydrography from CCHDO 1/8/08 
# Carbon data from Kozyr 5/11/04  
# Ship: R/V Discovery 
# Cruise: 74DI233 
# EXPOCODE: 74DI19980423 
# Dates: 4/23 - 5/23/1998 
# Region: Meridional section along 20W from 20N to 65N; A16N 
# Ch. Sci. D. Smythe-Wright 
# 138 full depth stations with 24 place Rosette 
# Hydro: Who - H. Bryden; Status - final 
# 	Notes: 	Bottle and sample numbers fabricated 
# Nuts/O2: Who - K.Day/V.Hart; Status - final 
# 	Notes: 
# 	Oxygen compares favorably with GLODAP 
# 	Nitrate (really NO3+NO2) compares favorably with GLODAP 
# 	Silicate compares favorably with GLODAP 
# 	General good phosphate agreement, but some deep values may be 
# 		a bit high relative to GLODAP 
# TA: Who - M. Alvarez/I.S. Aristegui; Status - final 
# 	Notes: Data generally good 
# 	A few data are high relative to neighbors and GLODAP, but not flagged 
# 	CRM Batch 42 
# 	Potentiometric titration method of Perez 
# TCO2: See Alvarez et al. 2005. 
# pH: Who - M. Alvarez/I.S. Aristegui; Status - final 
# 	Notes: spectorphotometric referenced to 25C 
# 	Reported ontotal H+ scale; Converted to SWS 
# CFC:	Who - Smythe-Wright; Status-final 
# 	Notes: 
# Other: ChloroA, Phaeo 
# References: 
# Alvarez, M., F. F. Perez, D. R. Shoosmith, and H. L. Bryden, Unaccounted role of Mediterranean Water in the drawdown of anthropogenic carbon, J. Geophys. Res., 110, C09S03, doi:10.1029/2004JC002633, 2005. 
# Soler-Aristegui, Iris: The role of the North Atlantic water masses in the draw down of anthropogenic CO2, 2002.   PhD thesis, University of Southampton, UK. 
EXPOCODE,SECT_ID,STNNBR,CASTNO,SAMPNO,BTLNBR,BTLNBR_FLAG_W,DATE,TIME,LATITUDE,LONGITUDE,DEPTH,CTDPRS,CTDTMP,CTDSAL,CTDSAL_FLAG_W,SALNTY,SALNTY_FLAG_W,CTDOXY,CTDOXY_FLAG_W,OXYGEN,OXYGEN_FLAG_W,SILCAT,SILCAT_FLAG_W,NITRAT,NITRAT_FLAG_W,PHSPHT,PHSPHT_FLAG_W,CFC-11,CFC-11_FLAG_W,CFC-12,CFC-12_FLAG_W,ALKALI,ALKALI_FLAG_W,PH_SWS,PH_TEMP,PH_SWS_FLAG_W,CHLORA,CHLORA_FLAG_W,PPHYTN,PPHYTN_FLAG_W,THETA
,,,,,,,,,,,METERS,DBAR,ITS-90,PSS-78,,PSS-78,,UMOL/KG,,UMOL/KG,,UMOL/KG,,UMOL/KG,,UMOL/KG,,PMOL/KG,,PMOL/KG,,UMOL/KG,,,DEGC,,UG/L,,UG/L,,DEGC
  74DI19980423,  A16N, 13415,  1,     22,     22,2,19980426, 209, 20.0067, -20.7567, 3705,      2.3,  21.5880,  36.3090,2,  36.3120,2,   -999.0,9,    223.4,2,     0.44,2,     0.14,2,     0.17,2,    0.869,3,    1.248,3,   2374.6,6,   8.0172,    25.00,2,     0.17,2,     0.06,2,  21.5875
  74DI19980423,  A16N, 13415,  1,     21,     21,2,19980426, 209, 20.0067, -20.7567, 3705,     16.8,  21.5800,  36.3020,2,  36.3040,2,   -999.0,9,    221.8,2,     0.34,2,     0.13,2,     0.18,2,    1.363,3,    1.205,3,   2381.9,2,   8.0212,    25.00,2,     0.14,2,     0.09,2,  21.5767
  74DI19980423,  A16N, 13415,  1,     20,     20,2,19980426, 209, 20.0067, -20.7567, 3705,     29.8,  21.5810,  36.3030,2,  36.2980,2,   -999.0,9,    222.8,2,     0.36,2,     0.16,2,     0.20,2,    2.139,3,    1.431,3,   2385.6,2,   8.0152,    25.00,2,     0.16,2,     0.09,2,  21.5752
  74DI19980423,  A16N, 13415,  1,     19,     19,2,19980426, 209, 20.0067, -20.7567, 3705,     54.7,  21.3500,  36.2970,2,  36.3060,2,   -999.0,9,    216.1,2,     0.58,2,     1.01,2,     0.28,2,    1.359,3,    1.066,3,   -999.0,9,-999.0000,  -999.00,9,     0.23,2,     0.05,2,  21.3394
  74DI19980423,  A16N, 13415,  1,     18,     18,2,19980426, 209, 20.0067, -20.7567, 3705,     79.7,  19.0410,  36.1530,2,  36.1340,2,   -999.0,9,    102.5,2,     3.79,2,    15.52,2,     1.15,2,    1.487,3,    0.986,3,   2361.8,2,   7.7752,    25.00,2,     0.00,2,     0.00,2,  19.0267
  74DI19980423,  A16N, 13415,  1,     17,     17,2,19980426, 209, 20.0067, -20.7567, 3705,    104.3,  17.0870,  36.0100,2,  36.0080,2,   -999.0,9,     72.7,2,     5.73,2,    20.86,2,     1.42,2,    1.465,3,    0.885,3,   2352.4,2,   7.7042,    25.00,2,     0.00,2,     0.00,2,  17.0696
  74DI19980423,  A16N, 13415,  1,     16,     16,2,19980426, 209, 20.0067, -20.7567, 3705,    155.0,  14.5430,  35.6830,2,  35.6740,2,   -999.0,9,     67.4,2,     8.05,2,    24.81,2,     1.67,2,    1.046,3,    0.695,3,   -999.0,9,-999.0000,  -999.00,9,     0.00,2,     0.00,2,  14.5199
  74DI19980423,  A16N, 13415,  1,     15,     15,2,19980426, 209, 20.0067, -20.7567, 3705,    205.5,  13.9620,  35.6850,2,  35.6820,2,   -999.0,9,   -999.0,9,     8.39,2,    24.54,2,     1.63,2,    1.182,3,    0.721,3,   -999.0,9,-999.0000,  -999.00,9,  -999.00,9,  -999.00,9,  13.9322
  74DI19980423,  A16N, 13415,  1,     14,     14,2,19980426, 209, 20.0067, -20.7567, 3705,    406.6,  10.9540,  35.3380,2,  35.1400,0,   -999.0,9,   -999.0,9,    13.92,2,    31.64,2,     2.10,2,    0.371,3,    0.117,3,   -999.0,9,-999.0000,  -999.00,9,  -999.00,9,  -999.00,9,  10.9033
  74DI19980423,  A16N, 13415,  1,     13,     13,2,19980426, 209, 20.0067, -20.7567, 3705,    608.8,   8.9460,  35.1670,2,  35.1680,2,   -999.0,9,     93.8,2,    16.96,2,    30.62,2,     2.09,2,    0.122,3,    0.074,3,   2321.9,2,   7.5863,    25.00,2,  -999.00,9,  -999.00,9,   8.8784
  74DI19980423,  A16N, 13415,  1,     12,     12,2,19980426, 209, 20.0067, -20.7567, 3705,    809.8,   7.0510,  34.9440,2,  34.9430,2,   -999.0,9,     98.2,2,    22.41,2,    33.12,2,     2.34,2,    0.089,2,    0.044,2,   2315.2,2,   7.5483,    25.00,2,  -999.00,9,  -999.00,9,   6.9716
  74DI19980423,  A16N, 13415,  1,     11,     11,2,19980426, 209, 20.0067, -20.7567, 3705,   1010.7,   6.1410,  34.9470,2,  34.9470,2,   -999.0,9,    126.1,2,    23.88,2,    31.06,2,     2.21,2,    0.055,2,    0.024,2,   2315.2,2,   7.5833,    25.00,2,  -999.00,9,  -999.00,9,   6.0473
  74DI19980423,  A16N, 13415,  1,     10,     10,2,19980426, 209, 20.0067, -20.7567, 3705,   1515.8,   4.6720,  35.0250,2,  35.0260,2,   -999.0,9,    194.3,2,    23.00,2,    24.39,2,     1.75,2,    0.019,2,    0.010,2,   2326.9,2,   7.6693,    25.00,2,  -999.00,9,  -999.00,9,   4.5426
  74DI19980423,  A16N, 13415,  1,      9,      9,2,19980426, 209, 20.0067, -20.7567, 3705,   1768.2,   4.1710,  35.0290,2,  35.0290,2,   -999.0,9,    215.5,2,    23.62,2,    22.54,2,     1.62,2,    0.019,2,    0.010,2,   2330.1,2,   7.6963,    25.00,2,  -999.00,9,  -999.00,9,   4.0234
  74DI19980423,  A16N, 13415,  1,      8,      8,2,19980426, 209, 20.0067, -20.7567, 3705,   2022.7,   3.6580,  34.9930,2,  34.9930,2,   -999.0,9,    224.8,2,    26.25,2,    21.90,2,     1.58,2,    0.019,2,    0.010,2,   2329.6,2,   7.7063,    25.00,2,  -999.00,9,  -999.00,9,   3.4933
  74DI19980423,  A16N, 13415,  1,      7,      7,2,19980426, 209, 20.0067, -20.7567, 3705,   2273.6,   3.3840,  34.9780,2,  34.9770,2,   -999.0,9,    233.2,2,    28.36,2,    21.56,2,     1.57,2,    0.019,2,    0.010,2,   -999.0,9,-999.0000,  -999.00,9,  -999.00,9,  -999.00,9,   3.1993
  74DI19980423,  A16N, 13415,  1,      6,      6,2,19980426, 209, 20.0067, -20.7567, 3705,   2528.8,   3.1380,  34.9610,2,  34.9610,2,   -999.0,9,    236.6,2,    31.27,2,    21.48,2,     1.55,2,    0.019,2,    0.010,2,   2336.0,2,   7.7153,    25.00,2,  -999.00,9,  -999.00,9,   2.9326
  74DI19980423,  A16N, 13415,  1,      5,      5,2,19980426, 209, 20.0067, -20.7567, 3705,   2783.4,   2.9240,  34.9460,2,  34.9470,2,   -999.0,9,    238.3,2,    34.12,2,    21.38,2,     1.54,2,    0.019,2,    0.010,2,   2337.0,2,   7.7213,    25.00,2,  -999.00,9,  -999.00,9,   2.6971
  74DI19980423,  A16N, 13415,  1,      4,      4,2,19980426, 209, 20.0067, -20.7567, 3705,   3039.1,   2.7920,  34.9370,2,  34.9380,2,   -999.0,9,    241.1,2,    35.85,2,    21.42,2,     1.54,2,    0.019,2,    0.010,2,   2343.2,2,   7.7213,    25.00,2,  -999.00,9,  -999.00,9,   2.5416
  74DI19980423,  A16N, 13415,  1,      3,      3,2,19980426, 209, 20.0067, -20.7567, 3705,   3289.1,   2.6670,  34.9290,2,  34.9290,2,   -999.0,9,    239.9,2,    38.83,2,    21.57,2,     1.55,2,    0.019,2,    0.010,2,   2350.1,2,   7.7193,    25.00,2,  -999.00,9,  -999.00,9,   2.3931
  74DI19980423,  A16N, 13415,  1,      2,      2,2,19980426, 209, 20.0067, -20.7567, 3705,   3546.4,   2.5380,  34.9160,2,  34.9160,2,   -999.0,9,    238.1,2,    42.38,2,    22.11,2,     1.55,2,    0.019,2,    0.010,2,   2353.7,2,   7.7243,    25.00,2,  -999.00,9,  -999.00,9,   2.2395
  74DI19980423,  A16N, 13415,  1,      1,      1,2,19980426, 209, 20.0067, -20.7567, 3705,   3661.4,   2.4860,  34.9100,2,  34.9090,2,   -999.0,9,    234.6,2,    43.60,2,    22.33,2,     1.52,2,    0.019,2,    0.010,2,   2358.6,2,   7.7243,    25.00,2,  -999.00,9,  -999.00,9,   2.1762
  74DI19980423,  A16N, 13416,  1,     22,     22,2,19980426, 909, 20.5133, -20.8817, 4106,      1.2,  20.6020,  35.9930,2,  36.0030,2,   -999.0,9,    235.4,2,     0.19,2,     1.69,2,     0.32,2, -999.000,9, -999.000,9,   -999.0,9,-999.0000,  -999.00,9,     0.60,2,     0.03,2,  20.6018
  74DI19980423,  A16N, 13416,  1,     21,     21,2,19980426, 909, 20.5133, -20.8817, 4106,     17.4,  20.5830,  36.0010,2,  36.0030,2,   -999.0,9,    233.4,2,     0.16,2,     1.65,2,     0.21,2, -999.000,9, -999.000,9,   -999.0,9,-999.0000,  -999.00,9,     0.57,2,     0.03,2,  20.5797
  74DI19980423,  A16N, 13416,  1,     20,     20,2,19980426, 909, 20.5133, -20.8817, 4106,     35.1,  20.5590,  36.0020,2,  36.0040,2,   -999.0,9,    231.8,2,     0.47,2,     1.77,2,     0.30,2, -999.000,9, -999.000,9,   -999.0,9,-999.0000,  -999.00,9,     0.47,2,     0.05,2,  20.5524
  74DI19980423,  A16N, 13416,  1,     19,     19,2,19980426, 909, 20.5133, -20.8817, 4106,     63.8,  20.8880,  36.5910,2,  36.5870,2,   -999.0,9,    173.4,2,     0.96,2,     4.84,2,     0.65,2, -999.000,9, -999.000,9,   -999.0,9,-999.0000,  -999.00,9,     0.05,2,     0.03,2,  20.8758
  74DI19980423,  A16N, 13416,  1,     18,     18,2,19980426, 909, 20.5133, -20.8817, 4106,    113.4,  16.4360,  35.9050,2,  35.9100,2,   -999.0,9,     72.4,2,     5.91,2,    21.19,2,     1.64,2, -999.000,9, -999.000,9,   -999.0,9,-999.0000,  -999.00,9,     0.01,2,     0.00,2,  16.4176
  74DI19980423,  A16N, 13416,  1,     17,     17,2,19980426, 909, 20.5133, -20.8817, 4106,    143.9,  15.7470,  35.9590,2,  35.9570,2,   -999.0,9,     91.5,2,     5.79,2,    19.69,2,     1.48,2, -999.000,9, -999.000,9,   -999.0,9,-999.0000,  -999.00,9,     0.00,2,     0.00,2,  15.7243
  74DI19980423,  A16N, 13416,  1,     16,     16,2,19980426, 909, 20.5133, -20.8817, 4106,    185.2,  15.0150,  35.8890,2,  35.8880,2,   -999.0,9,     95.9,2,     6.28,2,    20.05,2,     1.48,2, -999.000,9, -999.000,9,   -999.0,9,-999.0000,  -999.00,9,  -999.00,9,  -999.00,9,  14.9867
  74DI19980423,  A16N, 13416,  1,     15,     15,2,19980426, 909, 20.5133, -20.8817, 4106,    224.6,  14.4250,  35.8400,2,  35.8330,2,   -999.0,9,     94.6,2,     6.87,2,    20.96,2,     1.55,2, -999.000,9, -999.000,9,   -999.0,9,-999.0000,  -999.00,9,  -999.00,9,  -999.00,9,  14.3916
  74DI19980423,  A16N, 13416,  1,     14,     14,2,19980426, 909, 20.5133, -20.8817, 4106,    354.4,  12.1980,  35.5280,2,  35.5340,2,   -999.0,9,     72.3,2,    10.16,2,    26.53,2,     1.90,2, -999.000,9, -999.000,9,   -999.0,9,-999.0000,  -999.00,9,  -999.00,9,  -999.00,9,  12.1507
  74DI19980423,  A16N, 13416,  1,     13,     13,2,19980426, 909, 20.5133, -20.8817, 4106,    501.5,  10.2270,  35.2770,2,  35.2720,2,   -999.0,9,     68.7,2,    14.61,2,    30.77,2,     2.24,2, -999.000,9, -999.000,9,   -999.0,9,-999.0000,  -999.00,9,  -999.00,9,  -999.00,9,  10.1669
  74DI19980423,  A16N, 13416,  1,     12,     12,2,19980426, 909, 20.5133, -20.8817, 4106,    698.1,   8.1560,  35.0410,2,  35.0410,2,   -999.0,9,     75.5,2,    20.37,2,    33.16,2,     2.50,2, -999.000,9, -999.000,9,   -999.0,9,-999.0000,  -999.00,9,  -999.00,9,  -999.00,9,   8.0822
  74DI19980423,  A16N, 13416,  1,     11,     11,2,19980426, 909, 20.5133, -20.8817, 4106,    901.4,   6.5410,  34.8990,2,  34.8990,2,   -999.0,9,    104.3,2,    24.12,2,    32.64,2,     2.49,2, -999.000,9, -999.000,9,   -999.0,9,-999.0000,  -999.00,9,  -999.00,9,  -999.00,9,   6.4555
  74DI19980423,  A16N, 13416,  1,     10,     10,2,19980426, 909, 20.5133, -20.8817, 4106,   1191.5,   5.9560,  35.0500,2,  35.0490,2,   -999.0,9,    164.1,2,    22.52,2,    26.92,2,     2.06,2, -999.000,9, -999.000,9,   -999.0,9,-999.0000,  -999.00,9,  -999.00,9,  -999.00,9,   5.8455
  74DI19980423,  A16N, 13416,  1,      9,      9,2,19980426, 909, 20.5133, -20.8817, 4106,   1612.0,   4.6170,  35.0580,2,  35.0580,2,   -999.0,9,    203.5,2,    22.98,2,    22.79,2,     1.75,2, -999.000,9, -999.000,9,   -999.0,9,-999.0000,  -999.00,9,  -999.00,9,  -999.00,9,   4.4788
  74DI19980423,  A16N, 13416,  1,      8,      8,2,19980426, 909, 20.5133, -20.8817, 4106,   1808.4,   4.0860,  35.0260,2,  35.0250,2,   -999.0,9,    214.0,2,    24.55,2,    22.07,2,     1.71,2, -999.000,9, -999.000,9,   -999.0,9,-999.0000,  -999.00,9,  -999.00,9,  -999.00,9,   3.9357
  74DI19980423,  A16N, 13416,  1,      7,      7,2,19980426, 909, 20.5133, -20.8817, 4106,   2008.6,   3.7320,  35.0020,2,  35.0020,2,   -999.0,9,    224.2,2,    26.41,2,    21.67,2,     1.26,2, -999.000,9, -999.000,9,   -999.0,9,-999.0000,  -999.00,9,  -999.00,9,  -999.00,9,   3.5675
  74DI19980423,  A16N, 13416,  1,      6,      6,2,19980426, 909, 20.5133, -20.8817, 4106,   2209.4,   3.4780,  34.9870,2,  34.9870,2,   -999.0,9,    229.6,2,    29.33,2,    21.45,2,     1.26,2, -999.000,9, -999.000,9,   -999.0,9,-999.0000,  -999.00,9,  -999.00,9,  -999.00,9,   3.2980
  74DI19980423,  A16N, 13416,  1,      5,      5,2,19980426, 909, 20.5133, -20.8817, 4106,   2421.7,   3.2490,  34.9730,2,  34.9730,2,   -999.0,9,    231.4,2,    32.07,2,    21.38,2,     1.37,2, -999.000,9, -999.000,9,   -999.0,9,-999.0000,  -999.00,9,  -999.00,9,  -999.00,9,   3.0521
  74DI19980423,  A16N, 13416,  1,      4,      4,2,19980426, 909, 20.5133, -20.8817, 4106,   2779.8,   2.9210,  34.9450,2,  34.9450,2,   -999.0,9,    236.9,2,    35.63,2,    21.17,2,     1.33,2, -999.000,9, -999.000,9,   -999.0,9,-999.0000,  -999.00,9,  -999.00,9,  -999.00,9,   2.6946
  74DI19980423,  A16N, 13416,  1,      3,      3,2,19980426, 909, 20.5133, -20.8817, 4106,   3282.7,   2.6490,  34.9270,2,  34.9270,2,   -999.0,9,    238.5,2,    41.02,2,    21.53,2,     1.32,2, -999.000,9, -999.000,9,   -999.0,9,-999.0000,  -999.00,9,  -999.00,9,  -999.00,9,   2.3762
  74DI19980423,  A16N, 13416,  1,      2,      2,2,19980426, 909, 20.5133, -20.8817, 4106,   3784.2,   2.4130,  34.9020,2,  34.9010,2,   -999.0,9,    238.1,2,    47.32,2,    22.26,2,     1.26,2, -999.000,9, -999.000,9,   -999.0,9,-999.0000,  -999.00,9,  -999.00,9,  -999.00,9,   2.0915
  74DI19980423,  A16N, 13416,  1,      1,      1,2,19980426, 909, 20.5133, -20.8817, 4106,   3957.8,   2.3890,  34.8970,2,  34.8970,2,   -999.0,9,    232.1,2,    48.68,2,    22.53,2,     1.23,2, -999.000,9, -999.000,9,   -999.0,9,-999.0000,  -999.00,9,  -999.00,9,  -999.00,9,   2.0486