BOTTLE,20221006CCHSIOCBG
EXPOCODE,SECT_ID,STNNBR,CASTNO,SAMPNO,BTLNBR,BTLNBR_FLAG_W,DATE,TIME,LATITUDE,LONGITUDE,DEPTH,CTDPRS,CTDTMP,CTDSAL,CTDSAL_FLAG_W,SALNTY,SALNTY_FLAG_W,CTDOXY,CTDOXY_FLAG_W,OXYGEN,OXYGEN_FLAG_W,SILCAT,SILCAT_FLAG_W,NITRAT,NITRAT_FLAG_W,PHSPHT,PHSPHT_FLAG_W,CFC-11,CFC-11_FLAG_W,CFC-12,CFC-12_FLAG_W,ALKALI,ALKALI_FLAG_W,PH_SWS,PH_TEMP,PH_SWS_FLAG_W,CHLORA,CHLORA_FLAG_W,PPHYTN,PPHYTN_FLAG_W,THETA
,,,,,,,,,,,METERS,DBAR,ITS-90,PSS-78,,PSS-78,,UMOL/KG,,UMOL/KG,,UMOL/KG,,UMOL/KG,,UMOL/KG,,PMOL/KG,,PMOL/KG,,UMOL/KG,,,DEGC,,UG/L,,UG/L,,DEGC
  74DI19980423,  A16N, 13480,  1,     23,     23,2,19980515,2310, 51.9967, -20.0067, 3734,      3.5,  12.3370,  35.5620,2,  35.5590,2,    274.5,6,    282.9,2,     3.00,2,     5.50,2,     0.27,2, -999.000,9, -999.000,9,   2341.7,6,   7.9123,    25.00,2,     1.12,2,     0.22,2,  12.3365
  74DI19980423,  A16N, 13480,  1,     22,     22,2,19980515,2310, 51.9967, -20.0067, 3734,     17.6,  11.9950,  35.5540,2,  35.5540,2,    269.9,2,    275.9,2,     2.88,2,     5.97,2,     0.35,2, -999.000,9, -999.000,9,   2344.0,2,   7.9043,    25.00,2,     0.96,2,     0.28,2,  11.9927
  74DI19980423,  A16N, 13480,  1,     21,     21,2,19980515,2310, 51.9967, -20.0067, 3734,     30.3,  11.7160,  35.5480,2,  35.5450,2,    270.7,2,    265.3,2,     3.95,2,     7.55,2,     0.48,2, -999.000,9, -999.000,9,   2338.2,2,   7.8693,    25.00,2,     0.44,2,     0.16,2,  11.7121
  74DI19980423,  A16N, 13480,  1,     20,     20,2,19980515,2310, 51.9967, -20.0067, 3734,     55.4,  11.4030,  35.5170,2,  35.5150,2,    259.5,2,    256.5,2,     4.04,2,     9.43,2,     0.49,2, -999.000,9, -999.000,9,   2336.1,2,   7.8523,    25.00,2,     0.09,2,     0.10,2,  11.3960
  74DI19980423,  A16N, 13480,  1,     19,     19,2,19980515,2310, 51.9967, -20.0067, 3734,     80.4,  11.4060,  35.5350,2,  35.5330,2,    251.5,2,    256.2,2,     3.96,2,     9.42,2,     0.54,2, -999.000,9, -999.000,9,   2338.3,2,   7.8503,    25.00,2,     0.06,2,     0.03,2,  11.3958
  74DI19980423,  A16N, 13480,  1,     18,     18,2,19980515,2310, 51.9967, -20.0067, 3734,    106.0,  11.3250,  35.5300,2,  35.5270,2,    249.9,2,    254.8,2,     4.22,2,     9.64,2,     0.52,2, -999.000,9, -999.000,9,   2336.2,2,   7.8443,    25.00,2,     0.02,2,     0.01,2,  11.3117
  74DI19980423,  A16N, 13480,  1,     17,     17,2,19980515,2310, 51.9967, -20.0067, 3734,    156.5,  11.1330,  35.5000,2,  35.4980,2,    247.9,2,    249.4,2,     4.61,2,    10.57,2,     0.50,2, -999.000,9, -999.000,9,   2336.8,2,   7.8373,    25.00,2,     0.03,2,     0.01,2,  11.1135
  74DI19980423,  A16N, 13480,  1,     16,     16,2,19980515,2310, 51.9967, -20.0067, 3734,    207.2,  10.9060,  35.4830,2,  35.4790,2,    256.7,2,    244.9,2,     4.77,2,    11.64,2,     0.58,2, -999.000,9, -999.000,9,   2336.0,2,   7.8253,    25.00,2,  -999.00,9,  -999.00,9,  10.8804
  74DI19980423,  A16N, 13480,  1,     15,     15,2,19980515,2310, 51.9967, -20.0067, 3734,    408.2,  10.5440,  35.4560,2,  35.4510,2,    239.1,2,    247.1,2,     5.32,2,    12.15,2,     0.58,2, -999.000,9, -999.000,9,   2337.6,2,   7.8173,    25.00,2,  -999.00,9,  -999.00,9,  10.4943
  74DI19980423,  A16N, 13480,  1,     14,     14,2,19980515,2310, 51.9967, -20.0067, 3734,    609.3,   9.0940,  35.2810,2,  35.2800,2,    202.1,2,    200.8,2,     9.82,2,    17.87,2,     0.90,3, -999.000,9, -999.000,9,   2325.4,2,   7.7373,    25.00,2,  -999.00,9,  -999.00,9,   9.0255
  74DI19980423,  A16N, 13480,  1,     13,     13,2,19980515,2310, 51.9967, -20.0067, 3734,    811.7,   7.1590,  35.1430,2,  35.1460,2,    203.0,2,    202.9,2,    12.11,2,    19.77,2,     1.02,2, -999.000,9, -999.000,9,   2326.8,2,   7.7013,    25.00,2,  -999.00,9,  -999.00,9,   7.0785
  74DI19980423,  A16N, 13480,  1,     12,     12,2,19980515,2310, 51.9967, -20.0067, 3734,   1015.6,   4.8840,  34.9400,2,  34.9450,2,    238.4,2,    239.2,2,    11.94,2,    19.10,2,     1.10,2, -999.000,9, -999.000,9,   2314.3,2,   7.6883,    25.00,2,  -999.00,9,  -999.00,9,   4.7994
  74DI19980423,  A16N, 13480,  1,     11,     11,2,19980515,2310, 51.9967, -20.0067, 3734,   1269.8,   4.1270,  34.9350,2,  34.9350,2,    261.4,2,    259.2,2,    11.63,2,    18.34,2,     0.99,2,    2.244,3,    1.038,3,   2310.7,2,   7.7003,    25.00,2,  -999.00,9,  -999.00,9,   4.0262
  74DI19980423,  A16N, 13480,  1,     10,     10,2,19980515,2310, 51.9967, -20.0067, 3734,   1522.7,   3.6210,  34.9010,2,  34.9000,2,    273.0,2,    273.5,2,    11.65,2,    17.83,2,     1.01,2,    2.749,3,    0.971,3,   2309.2,2,   7.7043,    25.00,2,  -999.00,9,  -999.00,9,   3.5032
  74DI19980423,  A16N, 13480,  1,      9,      9,2,19980515,2310, 51.9967, -20.0067, 3734,   1777.0,   3.3860,  34.8870,2,  34.8860,2,    279.3,2,    278.9,2,    11.50,2,    17.42,2,     1.01,2,    2.569,3,    1.096,3,   2307.1,2,   7.7103,    25.00,2,  -999.00,9,  -999.00,9,   3.2484
  74DI19980423,  A16N, 13480,  1,      8,      8,2,19980515,2310, 51.9967, -20.0067, 3734,   2031.5,   3.2350,  34.8840,2,  34.8840,2,    280.8,2,    282.1,2,    11.65,2,    17.07,2,     1.04,2, -999.000,9, -999.000,9,   2308.7,2,   7.7163,    25.00,2,  -999.00,9,  -999.00,9,   3.0762
  74DI19980423,  A16N, 13480,  1,      7,      7,2,19980515,2310, 51.9967, -20.0067, 3734,   2286.2,   3.2110,  34.9090,2,  34.9080,2,    277.1,2,    278.1,2,    12.47,2,    17.18,2,     1.04,2, -999.000,9, -999.000,9,   2312.1,2,   7.7153,    25.00,2,  -999.00,9,  -999.00,9,   3.0283
  74DI19980423,  A16N, 13480,  1,      6,      6,2,19980515,2310, 51.9967, -20.0067, 3734,   2539.4,   3.1630,  34.9360,2,  34.9360,2,    270.9,2,    271.3,2,    14.64,2,    17.11,2,     1.04,2, -999.000,9, -999.000,9,   2313.6,2,   7.7153,    25.00,2,  -999.00,9,  -999.00,9,   2.9561
  74DI19980423,  A16N, 13480,  1,      5,      5,2,19980515,2310, 51.9967, -20.0067, 3734,   2796.1,   2.9700,  34.9490,2,  34.9480,2,    263.2,2,    263.8,2,    20.63,2,    17.92,2,     1.09,2, -999.000,9, -999.000,9,   2324.7,2,   7.7173,    25.00,2,  -999.00,9,  -999.00,9,   2.7409
  74DI19980423,  A16N, 13480,  1,      4,      4,2,19980515,2310, 51.9967, -20.0067, 3734,   3052.8,   2.7880,  34.9420,2,  34.9410,2,    252.7,2,    253.1,2,    30.09,2,    19.65,2,     1.21,2, -999.000,9, -999.000,9,   2338.0,2,   7.7143,    25.00,2,  -999.00,9,  -999.00,9,   2.5363
  74DI19980423,  A16N, 13480,  1,      3,      3,2,19980515,2310, 51.9967, -20.0067, 3734,   3308.0,   2.6260,  34.9270,2,  34.9260,2,    245.9,2,    244.9,2,    38.07,2,    21.01,2,     1.31,2, -999.000,9, -999.000,9,   -999.0,9,-999.0000,  -999.00,9,  -999.00,9,  -999.00,9,   2.3511
  74DI19980423,  A16N, 13480,  1,      2,      2,2,19980515,2310, 51.9967, -20.0067, 3734,   3563.7,   2.5020,  34.9140,2,  34.9130,2,    240.5,2,    239.4,2,    44.04,2,    22.13,2,     1.40,2, -999.000,9, -999.000,9,   2361.7,2,   7.7123,    25.00,2,  -999.00,9,  -999.00,9,   2.2025
  74DI19980423,  A16N, 13480,  1,      1,      1,2,19980515,2310, 51.9967, -20.0067, 3734,   3787.2,   2.4800,  34.9090,2,  34.9080,2,    238.5,2,    238.2,2,    45.26,2,    22.01,2,     1.31,2, -999.000,9, -999.000,9,   2357.1,2,   7.7123,    25.00,2,  -999.00,9,  -999.00,9,   2.1564
  74DI19980423,  A16N, 13481,  1,     24,     24,2,19980516, 520, 52.0233, -19.2333, 4093,      2.4,  12.4720,  35.4590,2,  35.4610,2,    277.4,6,    277.8,2,     2.04,2,     5.97,2,     0.36,2, -999.000,9, -999.000,9,   -999.0,9,-999.0000,  -999.00,9,     0.63,2,     0.11,2,  12.4717
  74DI19980423,  A16N, 13481,  1,     23,     23,2,19980516, 520, 52.0233, -19.2333, 4093,     11.4,  12.0270,  35.4740,2,  35.4650,2,    276.5,2,    276.6,2,     2.32,2,     6.09,2,     0.38,2, -999.000,9, -999.000,9,   -999.0,9,-999.0000,  -999.00,9,     0.41,2,     0.10,2,  12.0255
  74DI19980423,  A16N, 13481,  1,     22,     22,2,19980516, 520, 52.0233, -19.2333, 4093,     19.5,  11.8410,  35.4650,2,  35.5020,2,    280.7,2,    277.5,2,     2.32,2,     6.09,2,     0.35,2, -999.000,9, -999.000,9,   -999.0,9,-999.0000,  -999.00,9,     0.51,2,     0.10,2,  11.8385
  74DI19980423,  A16N, 13481,  1,     21,     21,2,19980516, 520, 52.0233, -19.2333, 4093,     33.3,  11.8030,  35.5040,2,  35.5000,2,    278.4,2,    274.6,2,     2.75,2,     6.46,2,     0.37,2, -999.000,9, -999.000,9,   -999.0,9,-999.0000,  -999.00,9,     0.38,2,     0.11,2,  11.7987
  74DI19980423,  A16N, 13481,  1,     20,     20,2,19980516, 520, 52.0233, -19.2333, 4093,     53.9,  11.3680,  35.4990,2,  35.4980,2,    274.5,2,    276.9,2,     2.84,2,     6.54,2,     0.38,2, -999.000,9, -999.000,9,   -999.0,9,-999.0000,  -999.00,9,     0.67,2,     0.17,2,  11.3612
  74DI19980423,  A16N, 13481,  1,     19,     19,2,19980516, 520, 52.0233, -19.2333, 4093,     74.5,  11.1810,  35.4960,2,  35.4940,2,    261.5,2,    270.2,2,     3.07,2,     7.41,2,     0.44,2, -999.000,9, -999.000,9,   -999.0,9,-999.0000,  -999.00,9,  -999.00,9,  -999.00,9,  11.1717
  74DI19980423,  A16N, 13481,  1,     18,     18,2,19980516, 520, 52.0233, -19.2333, 4093,     95.1,  11.0270,  35.4930,2,  35.4900,2,    265.2,2,    267.6,2,     3.24,2,     8.07,2,     0.50,2, -999.000,9, -999.000,9,   -999.0,9,-999.0000,  -999.00,9,  -999.00,9,  -999.00,9,  11.0152
  74DI19980423,  A16N, 13481,  1,     17,     17,2,19980516, 520, 52.0233, -19.2333, 4093,    114.1,  10.9500,  35.4910,2,  35.4890,2,    264.5,2,    266.0,2,     3.41,2,     8.69,2,     0.52,2, -999.000,9, -999.000,9,   -999.0,9,-999.0000,  -999.00,9,  -999.00,9,  -999.00,9,  10.9359
  74DI19980423,  A16N, 13481,  1,     16,     16,2,19980516, 520, 52.0233, -19.2333, 4093,    144.0,  10.8820,  35.4970,2,  35.4950,2,    260.9,2,    260.3,2,     3.47,2,     9.97,2,     0.55,2, -999.000,9, -999.000,9,   -999.0,9,-999.0000,  -999.00,9,  -999.00,9,  -999.00,9,  10.8643
  74DI19980423,  A16N, 13481,  1,     15,     15,2,19980516, 520, 52.0233, -19.2333, 4093,    224.6,  10.7960,  35.5000,2,  35.4990,2,    252.7,2,    256.7,2,     3.56,2,    10.14,2,     0.61,2, -999.000,9, -999.000,9,   -999.0,9,-999.0000,  -999.00,9,  -999.00,9,  -999.00,9,  10.7684
  74DI19980423,  A16N, 13481,  1,     14,     14,2,19980516, 520, 52.0233, -19.2333, 4093,    356.4,  10.5110,  35.4660,2,  35.4640,2,    254.7,2,    250.3,2,     4.21,2,    11.23,2,     0.68,2, -999.000,9, -999.000,9,   -999.0,9,-999.0000,  -999.00,9,  -999.00,9,  -999.00,9,  10.4677
  74DI19980423,  A16N, 13481,  1,     13,     13,2,19980516, 520, 52.0233, -19.2333, 4093,    506.4,   9.9770,  35.3990,2,  35.3980,2,    234.2,2,    226.7,2,     6.14,2,    14.03,2,     0.86,2, -999.000,9, -999.000,9,   -999.0,9,-999.0000,  -999.00,9,  -999.00,9,  -999.00,9,   9.9171
  74DI19980423,  A16N, 13481,  1,     12,     12,2,19980516, 520, 52.0233, -19.2333, 4093,    707.7,   8.6580,  35.3070,2,  35.3000,2,    201.2,2,    199.7,2,     9.73,2,    17.96,2,     1.13,2, -999.000,9, -999.000,9,   -999.0,9,-999.0000,  -999.00,9,  -999.00,9,  -999.00,9,   8.5803
  74DI19980423,  A16N, 13481,  1,     11,     11,2,19980516, 520, 52.0233, -19.2333, 4093,    912.4,   6.3510,  35.0760,2,  35.0770,2,    215.3,2,    214.1,2,    11.58,2,    19.33,2,     1.22,2, -999.000,9, -999.000,9,   -999.0,9,-999.0000,  -999.00,9,  -999.00,9,  -999.00,9,   6.2654
  74DI19980423,  A16N, 13481,  1,     10,     10,2,19980516, 520, 52.0233, -19.2333, 4093,   1216.1,   5.1970,  35.0610,2,  35.0620,2,    234.4,2,    238.0,2,    11.62,2,    18.64,2,     1.18,2, -999.000,9, -999.000,9,   -999.0,9,-999.0000,  -999.00,9,  -999.00,9,  -999.00,9,   5.0909
  74DI19980423,  A16N, 13481,  1,      9,      9,2,19980516, 520, 52.0233, -19.2333, 4093,   1622.8,   3.8460,  34.9320,2,  34.9320,2,    265.7,2,    266.5,2,    11.97,2,    17.77,2,     1.13,2, -999.000,9, -999.000,9,   -999.0,9,-999.0000,  -999.00,9,  -999.00,9,  -999.00,9,   3.7165
  74DI19980423,  A16N, 13481,  1,      8,      8,2,19980516, 520, 52.0233, -19.2333, 4093,   1826.2,   3.4800,  34.9150,2,  34.9150,2,    273.3,2,    272.3,2,    13.07,2,    17.63,2,     1.11,2, -999.000,9, -999.000,9,   -999.0,9,-999.0000,  -999.00,9,  -999.00,9,  -999.00,9,   3.3365
  74DI19980423,  A16N, 13481,  1,      7,      7,2,19980516, 520, 52.0233, -19.2333, 4093,   2030.2,   3.3010,  34.9270,2,  34.9290,2,    271.4,2,    271.3,2,    15.11,2,    17.62,2,     1.12,2, -999.000,9, -999.000,9,   -999.0,9,-999.0000,  -999.00,9,  -999.00,9,  -999.00,9,   3.1411
  74DI19980423,  A16N, 13481,  1,      6,      6,2,19980516, 520, 52.0233, -19.2333, 4093,   2232.2,   3.1660,  34.9410,2,  34.9410,2,    266.0,2,    265.7,2,    18.16,2,    17.83,2,     1.16,2, -999.000,9, -999.000,9,   -999.0,9,-999.0000,  -999.00,9,  -999.00,9,  -999.00,9,   2.9891
  74DI19980423,  A16N, 13481,  1,      5,      5,2,19980516, 520, 52.0233, -19.2333, 4093,   2437.4,   2.9900,  34.9460,2,  34.9470,2,    265.0,2,    265.6,2,    19.62,2,    17.82,2,     1.14,2, -999.000,9, -999.000,9,   -999.0,9,-999.0000,  -999.00,9,  -999.00,9,  -999.00,9,   2.7963
  74DI19980423,  A16N, 13481,  1,      4,      4,2,19980516, 520, 52.0233, -19.2333, 4093,   2794.9,   2.7860,  34.9380,6,  34.9420,2,    251.3,2,    251.4,2,    32.13,2,    20.20,2,     1.32,2, -999.000,9, -999.000,9,   -999.0,9,-999.0000,  -999.00,9,  -999.00,9,  -999.00,9,   2.5608
  74DI19980423,  A16N, 13481,  1,      3,      3,2,19980516, 520, 52.0233, -19.2333, 4093,   3307.0,   2.5470,  34.9200,2,  34.9200,2,    242.9,2,    242.1,2,    41.51,2,    21.81,2,     1.43,2, -999.000,9, -999.000,9,   -999.0,9,-999.0000,  -999.00,9,  -999.00,9,  -999.00,9,   2.2741
  74DI19980423,  A16N, 13481,  1,      2,      2,2,19980516, 520, 52.0233, -19.2333, 4093,   3817.7,   2.4700,  34.9070,2,  34.9060,2,    240.3,2,    239.9,2,    45.46,2,    22.41,2,     1.43,2, -999.000,9, -999.000,9,   -999.0,9,-999.0000,  -999.00,9,  -999.00,9,  -999.00,9,   2.1432
  74DI19980423,  A16N, 13481,  1,      1,      1,2,19980516, 520, 52.0233, -19.2333, 4093,   4158.0,   2.4870,  34.9050,2,  34.9050,2,    238.4,2,    239.6,2,    45.85,2,    22.11,2,     1.35,2, -999.000,9, -999.000,9,   -999.0,9,-999.0000,  -999.00,9,  -999.00,9,  -999.00,9,   2.1207