BOTTLE,20221006CCHSIOCBG
EXPOCODE,SECT_ID,STNNBR,CASTNO,SAMPNO,BTLNBR,BTLNBR_FLAG_W,DATE,TIME,LATITUDE,LONGITUDE,DEPTH,CTDPRS,CTDTMP,CTDSAL,CTDSAL_FLAG_W,SALNTY,SALNTY_FLAG_W,CTDOXY,CTDOXY_FLAG_W,OXYGEN,OXYGEN_FLAG_W,SILCAT,SILCAT_FLAG_W,NITRAT,NITRAT_FLAG_W,PHSPHT,PHSPHT_FLAG_W,CFC-11,CFC-11_FLAG_W,CFC-12,CFC-12_FLAG_W,ALKALI,ALKALI_FLAG_W,PH_SWS,PH_TEMP,PH_SWS_FLAG_W,CHLORA,CHLORA_FLAG_W,PPHYTN,PPHYTN_FLAG_W,THETA
,,,,,,,,,,,METERS,DBAR,ITS-90,PSS-78,,PSS-78,,UMOL/KG,,UMOL/KG,,UMOL/KG,,UMOL/KG,,UMOL/KG,,PMOL/KG,,PMOL/KG,,UMOL/KG,,,DEGC,,UG/L,,UG/L,,DEGC
  74DI19980423,  A16N, 13503,  1,     21,     21,2,19980521, 710, 59.4900, -19.9900, 2763,      1.6,   9.6020,  35.2060,2,  35.2140,2,   -999.0,9,    290.2,2,     2.74,2,     8.81,2,     0.59,2, -999.000,9, -999.000,9,   -999.0,9,-999.0000,  -999.00,9,     1.41,2,     0.36,2,   9.6018
  74DI19980423,  A16N, 13503,  1,     20,     20,2,19980521, 710, 59.4900, -19.9900, 2763,      9.7,   9.2240,  35.2140,2,  35.2170,2,    284.4,2,    289.8,2,     2.86,2,     8.98,2,     0.50,2, -999.000,9, -999.000,9,   -999.0,9,-999.0000,  -999.00,9,     1.41,2,     0.32,2,   9.2229
  74DI19980423,  A16N, 13503,  1,     19,     19,2,19980521, 710, 59.4900, -19.9900, 2763,     18.5,   9.2340,  35.2240,2,  35.2240,2,    285.2,2,    287.4,2,     2.92,2,     9.19,2,     0.51,2, -999.000,9, -999.000,9,   -999.0,9,-999.0000,  -999.00,9,     1.27,2,     0.29,2,   9.2320
  74DI19980423,  A16N, 13503,  1,     18,     18,2,19980521, 710, 59.4900, -19.9900, 2763,     33.6,   9.1760,  35.2230,2,  35.2250,2,    283.3,2,    285.3,2,     3.04,2,     9.39,2,     0.54,2, -999.000,9, -999.000,9,   -999.0,9,-999.0000,  -999.00,9,     1.04,2,     0.26,2,   9.1723
  74DI19980423,  A16N, 13503,  1,     17,     17,2,19980521, 710, 59.4900, -19.9900, 2763,     63.3,   9.0960,  35.2440,2,  35.2420,2,    277.0,2,    278.2,2,     3.28,2,     9.91,2,     0.58,2, -999.000,9, -999.000,9,   -999.0,9,-999.0000,  -999.00,9,     0.54,2,     0.19,2,   9.0891
  74DI19980423,  A16N, 13503,  1,     16,     16,2,19980521, 710, 59.4900, -19.9900, 2763,     93.8,   9.1240,  35.2570,2,  35.2560,2,    279.3,2,    277.9,2,     3.41,2,    10.02,2,     0.59,2, -999.000,9, -999.000,9,   -999.0,9,-999.0000,  -999.00,9,     0.62,2,     0.18,2,   9.1137
  74DI19980423,  A16N, 13503,  1,     15,     15,2,19980521, 710, 59.4900, -19.9900, 2763,    223.7,   8.9780,  35.2550,2,  35.2540,2,    281.3,2,    272.1,2,     4.46,2,    11.19,2,     0.68,2, -999.000,9, -999.000,9,   -999.0,9,-999.0000,  -999.00,9,  -999.00,9,  -999.00,9,   8.9536
  74DI19980423,  A16N, 13503,  1,     14,     14,2,19980521, 710, 59.4900, -19.9900, 2763,    355.5,   8.3250,  35.2090,2,  35.2020,2,    276.9,2,    255.1,2,     7.25,2,    14.19,2,     0.82,2, -999.000,9, -999.000,9,   -999.0,9,-999.0000,  -999.00,9,  -999.00,9,  -999.00,9,   8.2877
  74DI19980423,  A16N, 13503,  1,     13,     13,2,19980521, 710, 59.4900, -19.9900, 2763,    507.3,   7.4850,  35.1020,2,  35.1020,2,    246.6,2,    225.7,2,     9.69,2,    17.23,2,     1.02,2, -999.000,9, -999.000,9,   -999.0,9,-999.0000,  -999.00,9,  -999.00,9,  -999.00,9,   7.4345
  74DI19980423,  A16N, 13503,  1,     12,     12,2,19980521, 710, 59.4900, -19.9900, 2763,    708.9,   7.5160,  35.1630,2,  35.1600,2,    266.6,2,    257.8,2,     7.80,2,    15.04,2,     0.90,2, -999.000,9, -999.000,9,   -999.0,9,-999.0000,  -999.00,9,  -999.00,9,  -999.00,9,   7.4442
  74DI19980423,  A16N, 13503,  1,     11,     11,2,19980521, 710, 59.4900, -19.9900, 2763,    910.6,   6.0450,  35.0410,2,  35.0400,2,    227.4,2,    223.2,0,    11.53,2,    18.74,2,     1.13,2, -999.000,9, -999.000,9,   -999.0,9,-999.0000,  -999.00,9,  -999.00,9,  -999.00,9,   5.9617
  74DI19980423,  A16N, 13503,  1,     10,     10,2,19980521, 710, 59.4900, -19.9900, 2763,   1113.9,   4.8630,  34.9820,2,  34.9800,2,    241.9,2,    241.5,0,    11.65,2,    18.64,2,     1.12,2, -999.000,9, -999.000,9,   -999.0,9,-999.0000,  -999.00,9,  -999.00,9,  -999.00,9,   4.7696
  74DI19980423,  A16N, 13503,  1,      9,      9,2,19980521, 710, 59.4900, -19.9900, 2763,   1315.8,   4.1780,  34.9410,2,  34.9400,2,    257.6,2,    257.9,2,    11.59,2,    18.06,2,     1.10,2, -999.000,9, -999.000,9,   -999.0,9,-999.0000,  -999.00,9,  -999.00,9,  -999.00,9,   4.0726
  74DI19980423,  A16N, 13503,  1,      8,      8,2,19980521, 710, 59.4900, -19.9900, 2763,   1518.4,   3.7890,  34.9130,2,  34.9120,2,    267.3,2,    268.6,2,    11.45,2,    17.71,2,     1.08,2, -999.000,9, -999.000,9,   -999.0,9,-999.0000,  -999.00,9,  -999.00,9,  -999.00,9,   3.6697
  74DI19980423,  A16N, 13503,  1,      7,      7,2,19980521, 710, 59.4900, -19.9900, 2763,   1717.8,   3.5320,  34.8960,2,  34.8960,2,    274.5,2,    276.6,2,    11.32,2,    17.29,2,     1.07,2, -999.000,9, -999.000,9,   -999.0,9,-999.0000,  -999.00,9,  -999.00,9,  -999.00,9,   3.3978
  74DI19980423,  A16N, 13503,  1,      6,      6,2,19980521, 710, 59.4900, -19.9900, 2763,   1919.7,   3.3840,  34.8920,2,  34.8920,2,    277.6,2,    279.8,2,    11.34,2,    17.03,2,     1.05,2, -999.000,9, -999.000,9,   -999.0,9,-999.0000,  -999.00,9,  -999.00,9,  -999.00,9,   3.2333
  74DI19980423,  A16N, 13503,  1,      5,      5,2,19980521, 710, 59.4900, -19.9900, 2763,   2121.9,   3.3120,  34.9070,2,  34.9070,2,    278.3,2,    278.2,2,    11.83,2,    16.91,2,     1.03,2, -999.000,9, -999.000,9,   -999.0,9,-999.0000,  -999.00,9,  -999.00,9,  -999.00,9,   3.1434
  74DI19980423,  A16N, 13503,  1,      4,      4,2,19980521, 710, 59.4900, -19.9900, 2763,   2327.6,   3.2820,  34.9420,2,  34.9420,2,    274.0,2,    272.8,2,    12.95,2,    16.66,2,     1.02,2, -999.000,9, -999.000,9,   -999.0,9,-999.0000,  -999.00,9,  -999.00,9,  -999.00,9,   3.0939
  74DI19980423,  A16N, 13503,  1,      3,      3,2,19980521, 710, 59.4900, -19.9900, 2763,   2533.8,   3.0630,  34.9580,2,  34.9570,2,    271.3,2,    269.6,2,    15.25,2,    16.70,2,     1.03,2, -999.000,9, -999.000,9,   -999.0,9,-999.0000,  -999.00,9,  -999.00,9,  -999.00,9,   2.8585
  74DI19980423,  A16N, 13503,  1,      2,      2,2,19980521, 710, 59.4900, -19.9900, 2763,   2739.0,   2.7220,  34.9650,2,  34.9650,2,    271.0,2,    272.0,2,    15.66,2,    16.22,2,     1.01,2, -999.000,9, -999.000,9,   -999.0,9,-999.0000,  -999.00,9,  -999.00,9,  -999.00,9,   2.5036
  74DI19980423,  A16N, 13503,  1,      1,      1,2,19980521, 710, 59.4900, -19.9900, 2763,   2798.8,   2.6000,  34.9690,2,  34.9680,2,    273.5,2,    274.9,2,    13.90,2,    15.57,2,     0.90,2, -999.000,9, -999.000,9,   -999.0,9,-999.0000,  -999.00,9,  -999.00,9,  -999.00,9,   2.3781
  74DI19980423,  A16N, 13504,  1,     20,     20,2,19980521,1236, 59.9950, -20.0033, 2720,      2.9,   9.2280,  35.2120,2,  35.2120,2,    287.1,6,    288.3,2,    10.22,2,     7.72,2,     0.45,2,    3.976,3,    1.263,3,   2331.2,2,   7.8393,    25.00,2,     1.66,2,     0.48,2,   9.2277
  74DI19980423,  A16N, 13504,  1,     19,     19,2,19980521,1236, 59.9950, -20.0033, 2720,     14.0,   9.1410,  35.2290,2,  35.2290,2,    293.0,2,    280.4,2,    10.08,2,     8.58,2,     0.52,2,    3.728,3,    1.692,3,   2331.1,2,   7.8243,    25.00,2,     1.20,2,     0.37,2,   9.1395
  74DI19980423,  A16N, 13504,  1,     18,     18,2,19980521,1236, 59.9950, -20.0033, 2720,     23.9,   9.1140,  35.2300,2,  35.2290,2,    284.2,2,    277.2,2,     9.77,2,     8.85,2,     0.54,2,    3.690,3,    1.599,3,   2331.8,2,   7.8203,    25.00,2,     0.81,2,     0.30,2,   9.1114
  74DI19980423,  A16N, 13504,  1,     17,     17,2,19980521,1236, 59.9950, -20.0033, 2720,     44.1,   9.0770,  35.2290,2,  35.2260,2,    277.3,2,    277.0,2,     9.05,2,     8.56,2,     0.54,2,    3.928,3,    1.541,3,   2330.4,2,   7.8203,    25.00,2,     0.44,2,     0.22,2,   9.0722
  74DI19980423,  A16N, 13504,  1,     16,     16,2,19980521,1236, 59.9950, -20.0033, 2720,     84.5,   8.9680,  35.2140,2,  35.2100,2,    277.2,2,    274.2,2,     9.22,2,     9.22,2,     0.57,2,    4.148,3,    1.334,3,   2329.9,2,   7.8203,    25.00,2,     0.31,2,     0.26,2,   8.9589
  74DI19980423,  A16N, 13504,  1,     15,     15,2,19980521,1236, 59.9950, -20.0033, 2720,    124.8,   8.9730,  35.2200,2,  35.2200,2,    278.8,2,    274.0,2,     9.03,2,     9.42,2,     0.60,2,    3.551,3,    1.491,3,   2330.5,2,   7.8153,    25.00,2,     0.31,2,     0.20,2,   8.9595
  74DI19980423,  A16N, 13504,  1,     14,     14,2,19980521,1236, 59.9950, -20.0033, 2720,    245.8,   8.8390,  35.2310,2,  35.2290,2,    261.4,2,    258.7,2,    11.14,2,    12.01,2,     0.72,2,    2.255,3,    1.226,3,   2329.3,2,   7.7843,    25.00,2,  -999.00,9,  -999.00,9,   8.8124
  74DI19980423,  A16N, 13504,  1,     13,     13,2,19980521,1236, 59.9950, -20.0033, 2720,    326.2,   8.8010,  35.2540,6,  35.2530,2,    262.6,2,    260.0,2,    10.75,2,    12.04,2,     0.73,2,    3.189,3,    1.226,3,   2331.4,2,   7.7833,    25.00,2,  -999.00,9,  -999.00,9,   8.7656
  74DI19980423,  A16N, 13504,  1,     12,     12,2,19980521,1236, 59.9950, -20.0033, 2720,    508.4,   8.1030,  35.1840,2,  35.1830,2,    260.1,2,    254.9,2,    11.49,2,    13.58,2,     0.84,2,    3.762,3,    1.070,3,   -999.0,9,-999.0000,  -999.00,9,  -999.00,9,  -999.00,9,   8.0500
  74DI19980423,  A16N, 13504,  1,     11,     11,2,19980521,1236, 59.9950, -20.0033, 2720,    761.4,   6.7800,  35.0920,2,  35.0910,2,    222.7,2,    223.1,2,    14.44,2,    17.28,2,     1.06,2,    1.525,3,    0.644,3,   2323.7,2,   7.7103,    25.00,2,  -999.00,9,  -999.00,9,   6.7069
  74DI19980423,  A16N, 13504,  1,     10,     10,2,19980521,1236, 59.9950, -20.0033, 2720,    963.3,   5.1240,  34.9780,2,  34.9770,2,    224.3,2,    234.7,2,    15.05,2,    17.89,2,     1.11,2,    1.994,3,    0.674,3,   -999.0,9,-999.0000,  -999.00,9,  -999.00,9,  -999.00,9,   5.0423
  74DI19980423,  A16N, 13504,  1,      9,      9,2,19980521,1236, 59.9950, -20.0033, 2720,   1166.0,   4.5680,  34.9690,2,  34.9650,2,    235.8,2,    247.3,2,    14.69,2,    17.64,2,     1.10,2,    2.441,3,    0.628,3,   2316.8,2,   7.6913,    25.00,2,  -999.00,9,  -999.00,9,   4.4724
  74DI19980423,  A16N, 13504,  1,      8,      8,2,19980521,1236, 59.9950, -20.0033, 2720,   1369.8,   3.9640,  34.9260,2,  34.9250,2,    251.2,2,    263.2,2,    14.21,2,    17.23,2,     1.06,2,    2.804,3,    0.615,3,   2315.2,2,   7.6973,    25.00,2,  -999.00,9,  -999.00,9,   3.8560
  74DI19980423,  A16N, 13504,  1,      7,      7,2,19980521,1236, 59.9950, -20.0033, 2720,   1573.2,   3.6550,  34.9040,2,  34.9030,2,    259.0,2,    272.0,2,    13.60,2,    16.98,2,     1.05,2,    2.426,2,    1.235,2,   2313.0,2,   7.7003,    25.00,2,  -999.00,9,  -999.00,9,   3.5323
  74DI19980423,  A16N, 13504,  1,      6,      6,2,19980521,1236, 59.9950, -20.0033, 2720,   1777.2,   3.4520,  34.8930,2,  34.8930,2,    268.1,2,    276.8,2,    13.15,2,    16.69,2,     1.02,2,    2.972,2,    1.453,2,   2314.4,2,   7.7043,    25.00,2,  -999.00,9,  -999.00,9,   3.3135
  74DI19980423,  A16N, 13504,  1,      5,      5,2,19980521,1236, 59.9950, -20.0033, 2720,   1981.2,   3.3230,  34.8940,2,  34.8940,2,    274.0,2,    279.6,2,    13.05,2,    16.61,2,     1.04,2, -999.000,9, -999.000,9,   2315.5,2,   7.7073,    25.00,2,  -999.00,9,  -999.00,9,   3.1675
  74DI19980423,  A16N, 13504,  1,      4,      4,2,19980521,1236, 59.9950, -20.0033, 2720,   2185.3,   3.3080,  34.9170,2,  34.9170,2,    276.6,2,    276.2,2,    13.44,2,    16.50,2,     1.03,2,    2.349,2,    1.200,2,   2317.2,2,   7.7093,    25.00,2,  -999.00,9,  -999.00,9,   3.1334
  74DI19980423,  A16N, 13504,  1,      3,      3,2,19980521,1236, 59.9950, -20.0033, 2720,   2389.1,   3.2520,  34.9520,2,  34.9510,2,    276.1,2,    271.2,2,    14.14,2,    16.37,2,     1.01,2,    1.911,2,    0.976,2,   2318.6,2,   7.7123,    25.00,2,  -999.00,9,  -999.00,9,   3.0584
  74DI19980423,  A16N, 13504,  1,      2,      2,2,19980521,1236, 59.9950, -20.0033, 2720,   2594.2,   2.9180,  34.9650,2,  34.9640,2,    277.3,2,    270.5,2,    15.68,2,    16.28,2,     1.01,2,    2.300,2,    1.281,3,   2317.9,2,   7.7083,    25.00,2,  -999.00,9,  -999.00,9,   2.7102
  74DI19980423,  A16N, 13504,  1,      1,      1,2,19980521,1236, 59.9950, -20.0033, 2720,   2752.1,   2.5060,  34.9710,2,  34.9710,2,    280.0,2,    276.9,2,    13.02,2,    15.22,2,     0.89,2,    2.583,2,    1.574,2,   2320.1,2,   7.7023,    25.00,2,  -999.00,9,  -999.00,9,   2.2906
  74DI19980423,  A16N, 13505,  1,      7,      7,2,19980522, 657, 63.3217, -19.9917,  209,      2.2,   8.5170,  34.8720,2,  34.8900,2,    339.9,2,    343.1,2,     0.25,2,     0.99,2,     0.09,2, -999.000,9, -999.000,9,   -999.0,9,-999.0000,  -999.00,9,     8.72,2,     1.13,2,   8.5168
  74DI19980423,  A16N, 13505,  1,      6,      6,2,19980522, 657, 63.3217, -19.9917,  209,     11.7,   8.2700,  35.0470,2,  35.0560,2,    329.2,2,    321.6,2,     0.50,2,     5.11,2,     0.26,2, -999.000,9, -999.000,9,   -999.0,9,-999.0000,  -999.00,9,     6.95,2,     0.47,2,   8.2688
  74DI19980423,  A16N, 13505,  1,      5,      5,2,19980522, 657, 63.3217, -19.9917,  209,     19.2,   8.0450,  35.1990,2,  35.2010,2,    303.9,2,    297.5,2,     2.36,2,     9.26,2,     0.55,2, -999.000,9, -999.000,9,   -999.0,9,-999.0000,  -999.00,9,     4.65,2,     1.03,2,   8.0431
  74DI19980423,  A16N, 13505,  1,      4,      4,2,19980522, 657, 63.3217, -19.9917,  209,     34.7,   7.9760,  35.2040,2,  35.2060,2,    286.7,2,    286.4,2,     4.38,2,    10.98,2,     0.69,2, -999.000,9, -999.000,9,   -999.0,9,-999.0000,  -999.00,9,     0.72,2,     0.36,2,   7.9725
  74DI19980423,  A16N, 13505,  1,      3,      3,2,19980522, 657, 63.3217, -19.9917,  209,     65.2,   7.9480,  35.2050,2,  35.2070,2,    286.8,2,    284.3,2,     4.82,2,    11.42,2,     0.72,2, -999.000,9, -999.000,9,   -999.0,9,-999.0000,  -999.00,9,     0.42,2,     0.15,2,   7.9415
  74DI19980423,  A16N, 13505,  1,      2,      2,2,19980522, 657, 63.3217, -19.9917,  209,     95.5,   7.8660,  35.2100,2,  35.2130,2,    280.3,2,    275.4,2,     5.84,2,    12.74,2,     0.77,2, -999.000,9, -999.000,9,   -999.0,9,-999.0000,  -999.00,9,     0.25,2,     0.11,2,   7.8565
  74DI19980423,  A16N, 13505,  1,      1,      1,2,19980522, 657, 63.3217, -19.9917,  209,    200.0,   7.5350,  35.1950,2,  35.1980,2,    270.9,2,    271.0,2,     7.28,2,    13.86,2,     0.77,2, -999.000,9, -999.000,9,   -999.0,9,-999.0000,  -999.00,9,  -999.00,9,  -999.00,9,   7.5154
  74DI19980423,  A16N, 13506,  1,     12,     12,2,19980522,2145, 63.0000, -19.9983, 1135,      1.5,   8.9250,  35.2480,2,-999.0000,9,   -999.0,9,    307.0,2,     0.20,2,     7.55,2,     0.43,2,    5.417,3,    1.958,3,   2322.4,2,   7.8723,    25.00,2,     0.82,2,     0.34,2,   8.9248
  74DI19980423,  A16N, 13506,  1,     11,     11,2,19980522,2145, 63.0000, -19.9983, 1135,     14.6,   8.8450,  35.2500,2,  35.2500,2,    303.7,2,    304.2,2,     0.43,2,     7.95,2,     0.47,2,    5.439,3,    2.045,3,   2327.5,2,   7.8653,    25.00,2,     0.86,2,     0.28,2,   8.8434
  74DI19980423,  A16N, 13506,  1,     10,     10,2,19980522,2145, 63.0000, -19.9983, 1135,     28.2,   8.6670,  35.2530,2,  35.2500,2,    301.2,2,    294.7,2,     1.25,2,     9.07,2,     0.55,2,    3.631,3,    1.738,3,   2327.5,2,   7.8443,    25.00,2,     0.72,2,     0.38,2,   8.6640
  74DI19980423,  A16N, 13506,  1,      9,      9,2,19980522,2145, 63.0000, -19.9983, 1135,     53.0,   8.6140,  35.2510,2,  35.2510,2,    292.9,2,    289.8,2,     1.99,2,     9.51,2,     0.58,2,    3.505,3,    1.854,3,   2326.3,2,   7.8353,    25.00,2,     0.63,2,     0.48,2,   8.6084
  74DI19980423,  A16N, 13506,  1,      8,      8,2,19980522,2145, 63.0000, -19.9983, 1135,     78.4,   8.5440,  35.2460,2,  35.2490,2,    281.5,2,    283.9,2,     3.51,2,    10.16,2,     0.65,2,    5.716,3,    2.012,3,   2323.7,2,   7.8163,    25.00,2,     1.71,2,     0.74,2,   8.5358
  74DI19980423,  A16N, 13506,  1,      7,      7,2,19980522,2145, 63.0000, -19.9983, 1135,    103.6,   8.4040,  35.2460,2,  35.2460,2,    276.5,2,    273.5,2,     5.59,2,    12.22,2,     0.77,2,    3.591,3,    1.711,3,   2322.0,2,   7.7993,    25.00,2,     2.09,2,     1.24,2,   8.3932
  74DI19980423,  A16N, 13506,  1,      6,      6,2,19980522,2145, 63.0000, -19.9983, 1135,    204.8,   8.0660,  35.2240,2,  35.2230,2,    268.7,2,    270.0,2,     6.51,2,    13.54,2,     0.83,2,    4.605,2,    2.541,2,   2320.6,2,   7.7813,    25.00,2,  -999.00,9,  -999.00,9,   8.0451
  74DI19980423,  A16N, 13506,  1,      5,      5,2,19980522,2145, 63.0000, -19.9983, 1135,    406.8,   7.6280,  35.1950,2,  35.1920,2,    269.7,2,    267.0,2,     7.09,2,    14.55,2,     0.87,2,    4.647,2,    2.420,2,   2319.7,2,   7.7733,    25.00,2,  -999.00,9,  -999.00,9,   7.5873
  74DI19980423,  A16N, 13506,  1,      4,      4,2,19980522,2145, 63.0000, -19.9983, 1135,    609.0,   6.5610,  35.1070,2,  35.1070,2,    249.7,2,    248.0,2,     9.41,2,    16.41,2,     1.01,2,    3.160,3,    1.864,2,   2314.4,2,   7.7293,    25.00,2,  -999.00,9,  -999.00,9,   6.5041
  74DI19980423,  A16N, 13506,  1,      3,      3,2,19980522,2145, 63.0000, -19.9983, 1135,    811.8,   5.6820,  35.0600,2,  35.0590,2,    254.8,2,    252.7,2,     9.62,2,    16.51,2,     1.00,2,    3.387,2,    1.496,3,   2313.4,2,   7.7223,    25.00,2,  -999.00,9,  -999.00,9,   5.6105
  74DI19980423,  A16N, 13506,  1,      2,      2,2,19980522,2145, 63.0000, -19.9983, 1135,   1013.7,   4.4320,  34.9930,2,  34.9890,2,    268.9,2,    272.0,2,     8.98,2,    15.15,2,     0.92,2,    4.115,2,    2.323,2,   2306.9,2,   7.7183,    25.00,2,  -999.00,9,  -999.00,9,   4.3510
  74DI19980423,  A16N, 13506,  1,      1,      1,2,19980522,2145, 63.0000, -19.9983, 1135,   1136.4,   4.3850,  34.9980,2,  35.0010,2,    274.8,2,    275.7,2,     8.88,2,    15.04,2,     0.88,2,    4.534,2,    2.396,2,   2310.1,2,   7.7213,    25.00,2,  -999.00,9,  -999.00,9,   4.2936