BOTTLE,20221006CCHSIOCBG
EXPOCODE,SECT_ID,STNNBR,CASTNO,SAMPNO,BTLNBR,BTLNBR_FLAG_W,DATE,TIME,LATITUDE,LONGITUDE,DEPTH,CTDPRS,CTDTMP,CTDSAL,CTDSAL_FLAG_W,SALNTY,SALNTY_FLAG_W,CTDOXY,CTDOXY_FLAG_W,OXYGEN,OXYGEN_FLAG_W,SILCAT,SILCAT_FLAG_W,NITRAT,NITRAT_FLAG_W,PHSPHT,PHSPHT_FLAG_W,CFC-11,CFC-11_FLAG_W,CFC-12,CFC-12_FLAG_W,ALKALI,ALKALI_FLAG_W,PH_SWS,PH_TEMP,PH_SWS_FLAG_W,CHLORA,CHLORA_FLAG_W,PPHYTN,PPHYTN_FLAG_W,THETA
,,,,,,,,,,,METERS,DBAR,ITS-90,PSS-78,,PSS-78,,UMOL/KG,,UMOL/KG,,UMOL/KG,,UMOL/KG,,UMOL/KG,,PMOL/KG,,PMOL/KG,,UMOL/KG,,,DEGC,,UG/L,,UG/L,,DEGC
  74DI19980423,  A16N, 13444,  1,     24,     24,2,19980504,2324, 33.9983, -21.3333, 5267,      2.9,  18.0010,  36.3890,6,  36.3840,2,   -999.0,9,    238.8,0,     0.69,2,     0.00,2,     0.02,2,    0.189,3,    0.136,3,   2394.1,2,   7.9922,    25.00,2,     0.03,2,     0.00,2,  18.0005
  74DI19980423,  A16N, 13444,  1,     23,     23,2,19980504,2324, 33.9983, -21.3333, 5267,     18.7,  18.0120,  36.3830,2,  36.3840,2,    241.1,2,    238.1,0,     0.65,2,     0.00,2,     0.03,2,    0.230,3,    0.177,3,   2394.6,2,   7.9972,    25.00,2,     0.03,2,     0.00,2,  18.0088
  74DI19980423,  A16N, 13444,  1,     22,     22,2,19980504,2324, 33.9983, -21.3333, 5267,     31.7,  18.0170,  36.3840,2,  36.3840,2,    233.0,2,    238.7,0,     0.58,2,     0.00,2,     0.00,2,    0.252,3,    0.132,3,   2393.0,2,   7.9922,    25.00,2,     0.03,2,     0.00,2,  18.0115
  74DI19980423,  A16N, 13444,  1,     21,     21,2,19980504,2324, 33.9983, -21.3333, 5267,     56.7,  18.0190,  36.3830,2,  36.3830,2,    235.3,2,    241.3,0,     0.65,2,     0.12,2,     0.00,2,    1.401,3,    0.897,3,   2380.9,2,   7.9962,    25.00,2,     0.05,2,     0.01,2,  18.0092
  74DI19980423,  A16N, 13444,  1,     20,     20,2,19980504,2324, 33.9983, -21.3333, 5267,     81.7,  17.0820,  36.2310,2,  36.2160,2,    236.2,2,    225.0,0,     0.76,2,     0.13,2,     0.04,2,    2.436,3,    1.310,3,   2383.4,2,   7.9862,    25.00,2,     0.05,2,     0.01,2,  17.0684
  74DI19980423,  A16N, 13444,  1,     19,     19,2,19980504,2324, 33.9983, -21.3333, 5267,    106.6,  16.1950,  36.1450,2,  36.1420,2,    226.4,2,    219.8,0,     1.13,2,     2.44,2,     0.14,2,    2.629,3,    1.395,3,   2378.0,2,   7.9512,    25.00,2,     0.10,2,     0.06,2,  16.1779
  74DI19980423,  A16N, 13444,  1,     18,     18,2,19980504,2324, 33.9983, -21.3333, 5267,    157.2,  15.1760,  36.0100,2,  36.0090,2,    211.0,2,    216.2,0,     1.59,2,     4.82,2,     0.28,2,    2.803,3,    1.459,3,   -999.0,9,-999.0000,  -999.00,9,     0.00,2,     0.00,2,  15.1518
  74DI19980423,  A16N, 13444,  1,     17,     17,2,19980504,2324, 33.9983, -21.3333, 5267,    206.6,  14.3470,  35.9550,2,  35.9540,2,    211.9,2,    209.1,0,     2.77,2,     8.52,2,     0.49,2,    2.487,3,    1.334,3,   2368.9,2,   7.8822,    25.00,2,  -999.00,9,  -999.00,9,  14.3164
  74DI19980423,  A16N, 13444,  1,     16,     16,2,19980504,2324, 33.9983, -21.3333, 5267,    407.3,  12.0750,  35.6470,2,  35.6310,2,    210.4,2,    206.8,0,     4.66,2,    12.23,2,     0.68,2,    2.719,2,    1.466,2,   2350.4,2,   7.8223,    25.00,2,  -999.00,9,  -999.00,9,  12.0208
  74DI19980423,  A16N, 13444,  1,     15,     15,2,19980504,2324, 33.9983, -21.3333, 5267,    608.6,  10.5860,  35.4860,2,  35.4850,2,    197.0,2,    198.7,0,     7.29,2,    15.67,2,     1.00,2,    2.021,2,    1.024,2,   2332.6,2,   7.7673,    25.00,2,  -999.00,9,  -999.00,9,  10.5109
  74DI19980423,  A16N, 13444,  1,     14,     14,2,19980504,2324, 33.9983, -21.3333, 5267,    811.4,   9.3980,  35.5100,2,  35.5100,2,    186.3,2,    187.7,0,    10.17,2,    18.08,2,     1.29,2,    1.110,2,    0.496,2,   2350.9,2,   7.7413,    25.00,2,  -999.00,9,  -999.00,9,   9.3038
  74DI19980423,  A16N, 13444,  1,     13,     13,2,19980504,2324, 33.9983, -21.3333, 5267,   1013.9,   8.7720,  35.6470,2,  35.6470,2,    191.8,2,    190.2,0,    11.06,2,    17.80,2,     1.28,2,    0.881,2,    0.490,2,   2365.4,2,   7.7453,    25.00,2,  -999.00,9,  -999.00,9,   8.6574
  74DI19980423,  A16N, 13444,  1,     12,     12,2,19980504,2324, 33.9983, -21.3333, 5267,   1267.6,   6.8120,  35.4240,2,  35.4240,2,    217.7,2,    203.1,0,    11.85,2,    17.77,2,     1.31,2,    0.812,2,    0.421,2,   2353.8,2,   7.7333,    25.00,2,  -999.00,9,  -999.00,9,   6.6851
  74DI19980423,  A16N, 13444,  1,     11,     11,2,19980504,2324, 33.9983, -21.3333, 5267,   1520.8,   5.1300,  35.1800,2,  35.1830,2,    238.7,2,    234.3,0,    12.35,2,    17.69,2,     1.34,2,    0.827,2,    0.423,2,   2333.4,2,   7.7283,    25.00,2,  -999.00,9,  -999.00,9,   4.9945
  74DI19980423,  A16N, 13444,  1,     10,     10,2,19980504,2324, 33.9983, -21.3333, 5267,   1774.5,   4.5420,  35.1160,2,  35.1190,2,    246.2,2,    241.6,0,    13.86,2,    17.83,2,     1.36,2,    0.489,2,    0.264,2,   2320.1,2,   7.7283,    25.00,2,  -999.00,9,  -999.00,9,   4.3887
  74DI19980423,  A16N, 13444,  1,      9,      9,2,19980504,2324, 33.9983, -21.3333, 5267,   2028.3,   3.8800,  35.0380,2,  35.0400,2,    249.4,2,    248.7,0,    16.93,2,    18.13,2,     1.39,2,    0.221,2,    0.133,2,   2327.9,2,   7.7283,    25.00,2,  -999.00,9,  -999.00,9,   3.7112
  74DI19980423,  A16N, 13444,  1,      8,      8,2,19980504,2324, 33.9983, -21.3333, 5267,   2283.0,   3.4550,  35.0010,2,  35.0030,2,    245.2,2,    248.7,0,    21.75,2,    18.85,2,     1.46,2,    0.077,2,    0.054,2,   2333.0,2,   7.7243,    25.00,2,  -999.00,9,  -999.00,9,   3.2681
  74DI19980423,  A16N, 13444,  1,      7,      7,2,19980504,2324, 33.9983, -21.3333, 5267,   2536.0,   3.1320,  34.9710,2,  34.9730,2,    246.0,2,    249.0,0,    25.99,2,    19.71,2,     1.48,2,    0.084,2,    0.037,2,   2339.1,2,   7.7233,    25.00,2,  -999.00,9,  -999.00,9,   2.9259
  74DI19980423,  A16N, 13444,  1,      6,      6,2,19980504,2324, 33.9983, -21.3333, 5267,   3043.8,   2.7690,  34.9400,2,  34.9420,2,    243.3,2,    245.7,0,    33.99,2,    20.62,2,     1.44,2,    0.029,2,    0.014,2,   2348.5,2,   7.7213,    25.00,2,  -999.00,9,  -999.00,9,   2.5186
  74DI19980423,  A16N, 13444,  1,      5,      5,2,19980504,2324, 33.9983, -21.3333, 5267,   3557.6,   2.5810,  34.9200,2,  34.9210,2,    239.9,2,    244.4,0,    40.15,2,    21.69,2,     1.61,2,    0.024,2,    0.012,2,   2342.9,2,   7.7193,    25.00,2,  -999.00,9,  -999.00,9,   2.2802
  74DI19980423,  A16N, 13444,  1,      4,      4,2,19980504,2324, 33.9983, -21.3333, 5267,   4071.3,   2.4860,  34.9060,2,  34.9070,2,    242.2,2,    244.2,0,    43.34,2,    22.05,2,     1.57,2,    0.021,2,    0.010,2,   2357.8,2,   7.7183,    25.00,2,  -999.00,9,  -999.00,9,   2.1298
  74DI19980423,  A16N, 13444,  1,      3,      3,2,19980504,2324, 33.9983, -21.3333, 5267,   4585.6,   2.4310,  34.8940,2,  34.8940,2,    244.3,2,    243.9,0,    45.85,2,    22.33,2,     1.59,2,    0.021,2,    0.010,2,   2359.3,2,   7.7153,    25.00,2,  -999.00,9,  -999.00,9,   2.0154
  74DI19980423,  A16N, 13444,  1,      2,      2,2,19980504,2324, 33.9983, -21.3333, 5267,   5099.5,   2.4510,  34.8900,2,  34.8900,2,    247.3,2,    244.2,0,    46.94,2,    22.35,2,     1.60,2,    0.019,2,    0.010,2,   2362.9,2,   7.7163,    25.00,2,  -999.00,9,  -999.00,9,   1.9705
  74DI19980423,  A16N, 13444,  1,      1,      1,2,19980504,2324, 33.9983, -21.3333, 5267,   5358.8,   2.4760,  34.8890,2,  34.8890,2,    246.6,2,    245.0,0,    46.61,2,    21.97,2,     1.56,2,    0.019,2,    0.010,2,   2361.5,2,   7.7123,    25.00,2,  -999.00,9,  -999.00,9,   1.9610
  74DI19980423,  A16N, 13445,  1,     24,     24,2,19980505, 737, 34.5150, -21.3450, 5241,      4.6,  18.3340,  36.5280,2,  36.5290,2,    235.8,6,    235.6,2,     0.67,2,     0.00,2,     0.00,3, -999.000,9, -999.000,9,   -999.0,9,-999.0000,  -999.00,9,     0.03,2,     0.02,2,  18.3332
  74DI19980423,  A16N, 13445,  1,     23,     23,2,19980505, 737, 34.5150, -21.3450, 5241,     12.1,  18.3350,  36.5280,2,  36.5290,2,    235.8,2,    236.4,2,     0.70,2,     0.07,2,     0.00,3, -999.000,9, -999.000,9,   -999.0,9,-999.0000,  -999.00,9,     0.03,2,     0.01,2,  18.3329
  74DI19980423,  A16N, 13445,  1,     22,     22,2,19980505, 737, 34.5150, -21.3450, 5241,     20.1,  18.3360,  36.5290,2,  36.5290,2,    230.3,2,    236.4,2,     0.67,2,     0.00,2,     0.00,3, -999.000,9, -999.000,9,   -999.0,9,-999.0000,  -999.00,9,     0.02,2,     0.01,2,  18.3325
  74DI19980423,  A16N, 13445,  1,     21,     21,2,19980505, 737, 34.5150, -21.3450, 5241,     35.7,  18.3380,  36.5290,2,  36.5290,2,    233.1,2,    236.7,2,     0.65,2,     0.00,2,     0.00,3, -999.000,9, -999.000,9,   -999.0,9,-999.0000,  -999.00,9,     0.03,2,     0.01,2,  18.3317
  74DI19980423,  A16N, 13445,  1,     20,     20,2,19980505, 737, 34.5150, -21.3450, 5241,     64.1,  18.3400,  36.5290,2,  36.5280,2,    239.0,2,    236.0,2,     0.67,2,     0.00,2,     0.00,3, -999.000,9, -999.000,9,   -999.0,9,-999.0000,  -999.00,9,     0.03,2,     0.01,2,  18.3288
  74DI19980423,  A16N, 13445,  1,     19,     19,2,19980505, 737, 34.5150, -21.3450, 5241,     95.7,  17.8740,  36.4170,2,  36.4060,2,    238.6,2,    236.1,2,     0.63,2,     0.04,2,     0.00,3, -999.000,9, -999.000,9,   -999.0,9,-999.0000,  -999.00,9,     0.10,2,     0.02,2,  17.8575
  74DI19980423,  A16N, 13445,  1,     18,     18,2,19980505, 737, 34.5150, -21.3450, 5241,    114.8,  17.2800,  36.3040,2,  36.3010,2,    221.3,2,    225.3,2,     0.96,2,     1.80,2,     0.08,3, -999.000,9, -999.000,9,   -999.0,9,-999.0000,  -999.00,9,     0.09,2,     0.01,2,  17.2607
  74DI19980423,  A16N, 13445,  1,     17,     17,2,19980505, 737, 34.5150, -21.3450, 5241,    146.2,  16.5990,  36.2710,2,  36.2700,2,    208.9,2,    209.0,2,     1.71,2,     5.36,2,     0.28,3, -999.000,9, -999.000,9,   -999.0,9,-999.0000,  -999.00,9,  -999.00,9,  -999.00,9,  16.5751
  74DI19980423,  A16N, 13445,  1,     16,     16,2,19980505, 737, 34.5150, -21.3450, 5241,    186.4,  15.8900,  36.1970,2,  36.1970,2,    208.6,2,    206.4,2,     2.29,2,     6.83,2,     0.56,3, -999.000,9, -999.000,9,   -999.0,9,-999.0000,  -999.00,9,  -999.00,9,  -999.00,9,  15.8604
  74DI19980423,  A16N, 13445,  1,     15,     15,2,19980505, 737, 34.5150, -21.3450, 5241,    226.2,  15.2900,  36.0980,2,  36.0990,2,    204.2,2,    206.7,2,     2.61,2,     7.74,2,     0.39,3, -999.000,9, -999.000,9,   -999.0,9,-999.0000,  -999.00,9,  -999.00,9,  -999.00,9,  15.2550
  74DI19980423,  A16N, 13445,  1,     14,     14,2,19980505, 737, 34.5150, -21.3450, 5241,    356.9,  13.5490,  35.8390,2,  35.8380,2,    198.4,2,    202.9,0,     4.10,2,    10.89,2,     0.64,3, -999.000,9, -999.000,9,   -999.0,9,-999.0000,  -999.00,9,  -999.00,9,  -999.00,9,  13.4979
  74DI19980423,  A16N, 13445,  1,     13,     13,2,19980505, 737, 34.5150, -21.3450, 5241,    508.5,  11.6820,  35.5950,2,  35.5950,2,    209.2,2,    207.8,2,     5.25,2,    13.39,2,     0.82,3, -999.000,9, -999.000,9,   -999.0,9,-999.0000,  -999.00,9,  -999.00,9,  -999.00,9,  11.6155
  74DI19980423,  A16N, 13445,  1,     12,     12,2,19980505, 737, 34.5150, -21.3450, 5241,    709.0,  10.2950,  35.5060,2,  35.5070,2,    191.1,2,    190.2,2,     8.31,2,    17.11,2,     1.04,3, -999.000,9, -999.000,9,   -999.0,9,-999.0000,  -999.00,9,  -999.00,9,  -999.00,9,  10.2086
  74DI19980423,  A16N, 13445,  1,     11,     11,2,19980505, 737, 34.5150, -21.3450, 5241,    911.0,   9.5040,  35.6440,2,  35.6440,2,    179.8,2,    183.3,2,    10.58,2,    18.32,2,     1.17,3, -999.000,9, -999.000,9,   -999.0,9,-999.0000,  -999.00,9,  -999.00,9,  -999.00,9,   9.3968
  74DI19980423,  A16N, 13445,  1,     10,     10,2,19980505, 737, 34.5150, -21.3450, 5241,   1214.4,   8.4890,  35.7200,2,  35.7240,2,    201.6,2,    194.2,2,    12.30,2,    18.19,2,     1.19,3, -999.000,9, -999.000,9,   -999.0,9,-999.0000,  -999.00,9,  -999.00,9,  -999.00,9,   8.3526
  74DI19980423,  A16N, 13445,  1,      9,      9,2,19980505, 737, 34.5150, -21.3450, 5241,   1621.1,   5.7200,  35.3150,2,  35.3170,2,    231.0,2,    230.7,2,    14.21,2,    18.40,2,     1.18,3, -999.000,9, -999.000,9,   -999.0,9,-999.0000,  -999.00,9,  -999.00,9,  -999.00,9,   5.5671
  74DI19980423,  A16N, 13445,  1,      8,      8,2,19980505, 737, 34.5150, -21.3450, 5241,   1820.8,   4.7470,  35.1660,2,  35.1870,2,    240.6,2,    244.4,2,    14.91,2,    18.34,2,     1.20,3, -999.000,9, -999.000,9,   -999.0,9,-999.0000,  -999.00,9,  -999.00,9,  -999.00,9,   4.5861
  74DI19980423,  A16N, 13445,  1,      7,      7,2,19980505, 737, 34.5150, -21.3450, 5241,   2222.7,   3.7210,  35.0370,2,  35.0390,2,    250.8,2,    251.3,2,    20.71,2,    19.14,2,     1.28,3, -999.000,9, -999.000,9,   -999.0,9,-999.0000,  -999.00,9,  -999.00,9,  -999.00,9,   3.5356
  74DI19980423,  A16N, 13445,  1,      6,      6,2,19980505, 737, 34.5150, -21.3450, 5241,   2782.0,   2.9400,  34.9550,2,  34.9560,2,    250.7,2,    250.7,2,    29.70,2,    19.98,2,     1.38,3, -999.000,9, -999.000,9,   -999.0,9,-999.0000,  -999.00,9,  -999.00,9,  -999.00,9,   2.7129
  74DI19980423,  A16N, 13445,  1,      5,      5,2,19980505, 737, 34.5150, -21.3450, 5241,   3289.3,   2.6750,  34.9310,2,  34.9320,2,    245.7,2,    246.1,2,    36.98,2,    21.25,2,     1.42,3, -999.000,9, -999.000,9,   -999.0,9,-999.0000,  -999.00,9,  -999.00,9,  -999.00,9,   2.4009
  74DI19980423,  A16N, 13445,  1,      4,      4,2,19980505, 737, 34.5150, -21.3450, 5241,   3797.1,   2.5360,  34.9140,2,  34.9140,2,    243.5,2,    244.9,2,    41.63,2,    21.87,2,     1.50,3, -999.000,9, -999.000,9,   -999.0,9,-999.0000,  -999.00,9,  -999.00,9,  -999.00,9,   2.2097
  74DI19980423,  A16N, 13445,  1,      3,      3,2,19980505, 737, 34.5150, -21.3450, 5241,   4270.7,   2.4660,  34.9020,2,  34.9020,2,    244.7,2,    244.3,2,    44.22,2,    22.23,2,     1.53,3, -999.000,9, -999.000,9,   -999.0,9,-999.0000,  -999.00,9,  -999.00,9,  -999.00,9,   2.0871
  74DI19980423,  A16N, 13445,  1,      2,      2,2,19980505, 737, 34.5150, -21.3450, 5241,   4840.7,   2.4420,  34.8930,2,  34.8920,2,    246.0,2,    244.7,2,    46.35,2,    22.35,2,     1.54,3, -999.000,9, -999.000,9,   -999.0,9,-999.0000,  -999.00,9,  -999.00,9,  -999.00,9,   1.9945
  74DI19980423,  A16N, 13445,  1,      1,      1,2,19980505, 737, 34.5150, -21.3450, 5241,   5336.8,   2.4810,  34.8900,2,  34.8900,2,    244.7,2,    244.5,2,    46.36,2,    22.10,2,     1.51,3, -999.000,9, -999.000,9,   -999.0,9,-999.0000,  -999.00,9,  -999.00,9,  -999.00,9,   1.9687