BOTTLE,20221006CCHSIOCBG
EXPOCODE,SECT_ID,STNNBR,CASTNO,SAMPNO,BTLNBR,BTLNBR_FLAG_W,DATE,TIME,LATITUDE,LONGITUDE,DEPTH,CTDPRS,CTDTMP,CTDSAL,CTDSAL_FLAG_W,SALNTY,SALNTY_FLAG_W,CTDOXY,CTDOXY_FLAG_W,OXYGEN,OXYGEN_FLAG_W,SILCAT,SILCAT_FLAG_W,NITRAT,NITRAT_FLAG_W,PHSPHT,PHSPHT_FLAG_W,CFC-11,CFC-11_FLAG_W,CFC-12,CFC-12_FLAG_W,ALKALI,ALKALI_FLAG_W,PH_SWS,PH_TEMP,PH_SWS_FLAG_W,CHLORA,CHLORA_FLAG_W,PPHYTN,PPHYTN_FLAG_W,THETA
,,,,,,,,,,,METERS,DBAR,ITS-90,PSS-78,,PSS-78,,UMOL/KG,,UMOL/KG,,UMOL/KG,,UMOL/KG,,UMOL/KG,,PMOL/KG,,PMOL/KG,,UMOL/KG,,,DEGC,,UG/L,,UG/L,,DEGC
  74DI19980423,  A16N, 13440,  1,     24,     24,2,19980503,1531, 31.9983, -21.3317, 4988,      2.5,  19.3960,  36.8760,2,  36.8750,2,    234.9,6,    228.8,2,     1.14,2,     0.00,2,     0.23,3,    2.083,3,    1.364,3,   2407.7,2,   8.0012,    25.00,2,     0.04,2,     0.04,2,  19.3955
  74DI19980423,  A16N, 13440,  1,     23,     23,2,19980503,1531, 31.9983, -21.3317, 4988,     16.2,  19.3950,  36.8760,2,  36.8750,2,    227.7,2,    229.3,2,     1.32,2,     0.00,2,     0.19,3,    2.306,3,    1.391,3,   2421.3,2,   8.0022,    25.00,2,     0.05,2,     0.03,2,  19.3920
  74DI19980423,  A16N, 13440,  1,     22,     22,2,19980503,1531, 31.9983, -21.3317, 4988,     26.7,  19.4010,  36.8790,2,  36.8790,2,    225.5,2,    228.7,2,     0.81,2,     0.00,2,     0.16,3,    1.740,3,    1.043,3,   2420.6,2,   8.0052,    25.00,2,     0.05,2,     0.03,2,  19.3961
  74DI19980423,  A16N, 13440,  1,     21,     21,2,19980503,1531, 31.9983, -21.3317, 4988,     46.4,  19.3960,  36.8800,2,  36.8790,2,    228.8,2,    229.3,2,     0.86,2,     0.00,2,     0.22,3,    1.883,3,    1.398,3,   2420.8,2,   8.0072,    25.00,2,     0.05,2,     0.02,2,  19.3875
  74DI19980423,  A16N, 13440,  1,     20,     20,2,19980503,1531, 31.9983, -21.3317, 4988,     86.5,  19.3980,  36.8800,2,  36.8780,2,    229.3,2,    229.1,2,     0.71,2,     0.00,2,     0.24,3,    2.906,3,    1.438,3,   2423.8,2,   8.0072,    25.00,2,     0.06,2,     0.00,2,  19.3822
  74DI19980423,  A16N, 13440,  1,     19,     19,2,19980503,1531, 31.9983, -21.3317, 4988,    126.7,  19.3920,  36.8770,2,  36.8750,2,    228.2,2,    229.0,2,     0.68,2,     0.00,2,     0.27,3,    2.505,3,    0.967,3,   2416.3,2,   8.0062,    25.00,2,     0.05,2,     0.03,2,  19.3688
  74DI19980423,  A16N, 13440,  1,     18,     18,2,19980503,1531, 31.9983, -21.3317, 4988,    166.7,  17.3810,  36.4560,2,  36.4660,2,    213.0,2,    206.4,2,     1.31,2,     2.85,2,     0.43,3,    2.878,3,    1.507,3,   2391.0,2,   7.9492,    25.00,2,     0.02,2,     0.02,2,  17.3528
  74DI19980423,  A16N, 13440,  1,     17,     17,2,19980503,1531, 31.9983, -21.3317, 4988,    248.2,  15.8510,  36.2080,2,  36.2100,2,    202.3,2,    204.8,2,     2.19,2,     6.03,2,     0.63,2,    2.973,3,    1.550,3,   2378.9,2,   7.9112,    25.00,2,  -999.00,9,  -999.00,9,  15.8115
  74DI19980423,  A16N, 13440,  1,     16,     16,2,19980503,1531, 31.9983, -21.3317, 4988,    328.1,  14.6450,  36.0150,2,  36.0130,2,    201.4,2,    202.7,2,     3.00,2,     8.15,2,     0.77,2, -999.000,9, -999.000,9,   2370.6,2,   7.8782,    25.00,2,  -999.00,9,  -999.00,9,  14.5955
  74DI19980423,  A16N, 13440,  1,     15,     15,2,19980503,1531, 31.9983, -21.3317, 4988,    510.2,  12.3910,  35.6990,2,  35.6990,2,    197.4,2,    196.1,2,     5.00,2,    12.73,2,     1.07,2, -999.000,9, -999.000,9,   2351.6,2,   7.8113,    25.00,2,  -999.00,9,  -999.00,9,  12.3217
  74DI19980423,  A16N, 13440,  1,     14,     14,2,19980503,1531, 31.9983, -21.3317, 4988,    762.7,  10.1780,  35.5130,2,  35.5090,2,    172.2,2,    166.3,2,     9.74,2,    18.46,2,     1.48,2, -999.000,9, -999.000,9,   2346.0,2,   7.7353,    25.00,2,  -999.00,9,  -999.00,9,  10.0854
  74DI19980423,  A16N, 13440,  1,     13,     13,2,19980503,1531, 31.9983, -21.3317, 4988,    962.9,   8.9870,  35.5290,2,  35.5280,2,    168.6,2,    168.3,2,    13.10,2,    20.46,2,     1.63,2, -999.000,9, -999.000,9,   2354.3,2,   7.7143,    25.00,2,  -999.00,9,  -999.00,9,   8.8772
  74DI19980423,  A16N, 13440,  1,     12,     12,2,19980503,1531, 31.9983, -21.3317, 4988,   1115.2,   8.3610,  35.5490,2,  35.4490,0,    176.0,2,    179.4,2,    13.90,2,    19.86,2,     1.58,2, -999.000,9, -999.000,9,   2361.3,2,   7.7243,    25.00,2,  -999.00,9,  -999.00,9,   8.2377
  74DI19980423,  A16N, 13440,  1,     11,     11,2,19980503,1531, 31.9983, -21.3317, 4988,   1419.2,   6.6330,  35.4080,2,  35.4090,2,    213.9,2,    214.7,2,    13.53,2,    18.24,2,     1.46,2, -999.000,9, -999.000,9,   2350.4,2,   7.7293,    25.00,2,  -999.00,9,  -999.00,9,   6.4914
  74DI19980423,  A16N, 13440,  1,     10,     10,2,19980503,1531, 31.9983, -21.3317, 4988,   1571.7,   5.7580,  35.2930,2,  35.2930,2,    228.7,2,    229.0,2,    13.84,2,    18.02,2,     1.43,2, -999.000,9, -999.000,9,   2331.2,2,   7.7273,    25.00,2,  -999.00,9,  -999.00,9,   5.6099
  74DI19980423,  A16N, 13440,  1,      9,      9,2,19980503,1531, 31.9983, -21.3317, 4988,   1925.6,   4.5220,  35.1380,2,  35.1380,2,    244.9,2,    244.1,2,    16.50,2,    18.13,2,     1.46,2, -999.000,9, -999.000,9,   -999.0,9,-999.0000,  -999.00,9,  -999.00,9,  -999.00,9,   4.3538
  74DI19980423,  A16N, 13440,  1,      8,      8,2,19980503,1531, 31.9983, -21.3317, 4988,   2128.9,   3.9630,  35.0710,2,  35.0710,2,    247.1,2,    247.0,2,    19.88,2,    18.59,2,     1.49,2, -999.000,9, -999.000,9,   2333.2,2,   7.7263,    25.00,2,  -999.00,9,  -999.00,9,   3.7829
  74DI19980423,  A16N, 13440,  1,      7,      7,2,19980503,1531, 31.9983, -21.3317, 4988,   2634.1,   3.1220,  34.9790,2,  34.9790,2,    248.0,2,    248.3,2,    28.36,2,    20.06,2,     1.57,2, -999.000,9, -999.000,9,   2348.7,2,   7.7233,    25.00,2,  -999.00,9,  -999.00,9,   2.9062
  74DI19980423,  A16N, 13440,  1,      6,      6,2,19980503,1531, 31.9983, -21.3317, 4988,   3038.8,   2.7600,  34.9430,2,  34.9430,2,    245.0,2,    245.2,2,    35.56,2,    21.42,3,     1.62,2, -999.000,9, -999.000,9,   2350.9,2,   7.7183,    25.00,2,  -999.00,9,  -999.00,9,   2.5103
  74DI19980423,  A16N, 13440,  1,      5,      5,2,19980503,1531, 31.9983, -21.3317, 4988,   3445.4,   2.5640,  34.9210,2,  34.9200,2,    241.9,2,    244.1,2,    39.79,2,    21.49,2,     1.52,3, -999.000,9, -999.000,9,   2351.5,2,   7.7143,    25.00,2,  -999.00,9,  -999.00,9,   2.2758
  74DI19980423,  A16N, 13440,  1,      4,      4,2,19980503,1531, 31.9983, -21.3317, 4988,   3855.7,   2.4680,  34.9080,2,  34.9150,2,    243.2,2,    244.2,2,    43.76,2,    21.85,2,     1.60,2, -999.000,9, -999.000,9,   2356.4,2,   7.7123,    25.00,2,  -999.00,9,  -999.00,9,   2.1369
  74DI19980423,  A16N, 13440,  1,      3,      3,2,19980503,1531, 31.9983, -21.3317, 4988,   4270.4,   2.4110,  34.8970,2,  34.8960,2,    245.3,2,    244.3,2,    45.58,2,    22.05,2,     1.62,2, -999.000,9, -999.000,9,   2353.1,2,   7.7153,    25.00,2,  -999.00,9,  -999.00,9,   2.0338
  74DI19980423,  A16N, 13440,  1,      2,      2,2,19980503,1531, 31.9983, -21.3317, 4988,   4681.8,   2.4080,  34.8920,2,  34.8910,2,    246.1,2,    243.9,2,    46.80,2,    22.15,2,     1.61,2,    0.019,2,    0.010,2,   2361.0,2,   7.7133,    25.00,2,  -999.00,9,  -999.00,9,   1.9813
  74DI19980423,  A16N, 13440,  1,      1,      1,2,19980503,1531, 31.9983, -21.3317, 4988,   5071.2,   2.4440,  34.8900,2,  34.8900,2,   -999.0,9,    244.3,2,    46.64,2,    21.93,2,     1.59,2,    0.019,2,    0.010,2,   2362.1,2,   7.7123,    25.00,2,  -999.00,9,  -999.00,9,   1.9674
  74DI19980423,  A16N, 13441,  1,     24,     24,4,19980503,2332, 32.5000, -21.3383, 5110,      5.1,  18.9780,  36.7130,2,  36.7070,2,    225.7,6,    231.7,0,     0.69,2,     0.04,2,     0.28,3, -999.000,9, -999.000,9,   -999.0,9,-999.0000,  -999.00,9,  -999.00,9,  -999.00,9,  18.9771
  74DI19980423,  A16N, 13441,  1,     23,     23,2,19980503,2332, 32.5000, -21.3383, 5110,     20.6,  18.9750,  36.7080,2,  36.7070,2,    233.5,2,    231.5,2,     0.72,2,     0.01,2,     0.26,3, -999.000,9, -999.000,9,   -999.0,9,-999.0000,  -999.00,9,     0.04,2,     0.02,2,  18.9713
  74DI19980423,  A16N, 13441,  1,     22,     22,2,19980503,2332, 32.5000, -21.3383, 5110,     33.1,  18.9610,  36.7020,2,  36.7000,2,    235.5,2,    231.3,2,     0.68,2,     0.00,2,     0.25,3, -999.000,9, -999.000,9,   -999.0,9,-999.0000,  -999.00,9,     0.04,2,     0.02,2,  18.9551
  74DI19980423,  A16N, 13441,  1,     21,     21,2,19980503,2332, 32.5000, -21.3383, 5110,     58.4,  18.9000,  36.6820,2,  36.6820,2,    233.0,2,    232.2,2,     0.65,2,     0.00,2,     0.25,3, -999.000,9, -999.000,9,   -999.0,9,-999.0000,  -999.00,9,     0.04,2,     0.02,2,  18.8895
  74DI19980423,  A16N, 13441,  1,     20,     20,2,19980503,2332, 32.5000, -21.3383, 5110,     84.2,  18.8730,  36.6730,2,  36.6710,2,    235.9,2,    232.5,2,     0.70,2,     0.04,2,     0.24,3, -999.000,9, -999.000,9,   -999.0,9,-999.0000,  -999.00,9,     0.05,2,     0.02,2,  18.8579
  74DI19980423,  A16N, 13441,  1,     19,     19,2,19980503,2332, 32.5000, -21.3383, 5110,    109.0,  18.6500,  36.6160,2,  36.6120,2,    226.6,2,    229.4,2,     0.78,2,     0.13,2,     0.22,3, -999.000,9, -999.000,9,   -999.0,9,-999.0000,  -999.00,9,     0.10,2,     0.03,2,  18.6307
  74DI19980423,  A16N, 13441,  1,     18,     18,2,19980503,2332, 32.5000, -21.3383, 5110,    159.4,  17.4100,  36.4120,2,  36.4040,2,    208.4,2,    207.3,2,     1.44,2,     4.00,2,     0.41,2, -999.000,9, -999.000,9,   -999.0,9,-999.0000,  -999.00,9,     0.01,2,     0.00,2,  17.3830
  74DI19980423,  A16N, 13441,  1,     17,     17,2,19980503,2332, 32.5000, -21.3383, 5110,    209.8,  16.4740,  36.2820,2,  36.2810,2,    205.2,2,    205.6,2,     2.05,2,     5.92,2,     0.53,2, -999.000,9, -999.000,9,   -999.0,9,-999.0000,  -999.00,9,  -999.00,9,  -999.00,9,  16.4398
  74DI19980423,  A16N, 13441,  1,     16,     16,2,19980503,2332, 32.5000, -21.3383, 5110,    409.8,  13.6710,  35.8590,2,  35.8560,2,    207.9,2,    207.5,2,     3.75,2,    10.02,2,     0.81,2, -999.000,9, -999.000,9,   -999.0,9,-999.0000,  -999.00,9,  -999.00,9,  -999.00,9,  13.6118
  74DI19980423,  A16N, 13441,  1,     15,     15,2,19980503,2332, 32.5000, -21.3383, 5110,    612.8,  11.5470,  35.5830,2,  35.5820,2,    199.9,2,    197.7,2,     6.01,2,    14.42,2,     1.09,2, -999.000,9, -999.000,9,   -999.0,9,-999.0000,  -999.00,9,  -999.00,9,  -999.00,9,  11.4671
  74DI19980423,  A16N, 13441,  1,     14,     14,2,19980503,2332, 32.5000, -21.3383, 5110,    812.2,  10.0100,  35.5020,2,  35.5000,2,    181.8,2,    183.3,2,     9.36,2,    17.91,2,     1.34,2, -999.000,9, -999.000,9,   -999.0,9,-999.0000,  -999.00,9,  -999.00,9,  -999.00,9,   9.9122
  74DI19980423,  A16N, 13441,  1,     13,     13,2,19980503,2332, 32.5000, -21.3383, 5110,   1013.9,   9.0590,  35.5840,2,  35.5830,2,    182.5,2,    183.5,2,    11.39,2,    18.70,2,     1.43,2, -999.000,9, -999.000,9,   -999.0,9,-999.0000,  -999.00,9,  -999.00,9,  -999.00,9,   8.9424
  74DI19980423,  A16N, 13441,  1,     12,     12,2,19980503,2332, 32.5000, -21.3383, 5110,   1264.1,   8.0080,  35.5940,2,  35.5930,2,    205.0,2,    200.6,2,    12.01,2,    18.11,2,     1.38,2, -999.000,9, -999.000,9,   -999.0,9,-999.0000,  -999.00,9,  -999.00,9,  -999.00,9,   7.8702
  74DI19980423,  A16N, 13441,  1,     11,     11,2,19980503,2332, 32.5000, -21.3383, 5110,   1518.4,   6.3950,  35.3910,2,  35.3890,2,    226.0,2,    223.5,2,    12.83,2,    17.93,2,     1.37,2, -999.000,9, -999.000,9,   -999.0,9,-999.0000,  -999.00,9,  -999.00,9,  -999.00,9,   6.2452
  74DI19980423,  A16N, 13441,  1,     10,     10,2,19980503,2332, 32.5000, -21.3383, 5110,   1774.5,   5.0030,  35.1990,2,  35.1990,2,    240.8,2,    245.1,2,    14.47,2,    18.13,2,     1.39,2, -999.000,9, -999.000,9,   -999.0,9,-999.0000,  -999.00,9,  -999.00,9,  -999.00,9,   4.8434
  74DI19980423,  A16N, 13441,  1,      9,      9,2,19980503,2332, 32.5000, -21.3383, 5110,   2028.4,   4.2060,  35.0950,2,  35.0950,2,    246.4,2,    246.9,2,    17.79,2,    18.56,2,     1.44,2, -999.000,9, -999.000,9,   -999.0,9,-999.0000,  -999.00,9,  -999.00,9,  -999.00,9,   4.0322
  74DI19980423,  A16N, 13441,  1,      8,      8,2,19980503,2332, 32.5000, -21.3383, 5110,   2284.1,   3.6600,  35.0340,2,  35.0340,2,    249.4,2,    248.3,2,    22.09,2,    19.12,2,     1.48,2, -999.000,9, -999.000,9,   -999.0,9,-999.0000,  -999.00,9,  -999.00,9,  -999.00,9,   3.4695
  74DI19980423,  A16N, 13441,  1,      7,      7,2,19980503,2332, 32.5000, -21.3383, 5110,   2538.7,   3.2680,  34.9930,2,  34.9930,2,    250.0,2,    248.9,2,    26.59,2,    19.63,2,     1.52,2, -999.000,9, -999.000,9,   -999.0,9,-999.0000,  -999.00,9,  -999.00,9,  -999.00,9,   3.0590
  74DI19980423,  A16N, 13441,  1,      6,      6,2,19980503,2332, 32.5000, -21.3383, 5110,   3047.6,   2.7870,  34.9450,2,  34.9440,2,    246.3,2,    246.0,2,    34.35,2,    20.62,2,     1.59,2, -999.000,9, -999.000,9,   -999.0,9,-999.0000,  -999.00,9,  -999.00,9,  -999.00,9,   2.5358
  74DI19980423,  A16N, 13441,  1,      5,      5,2,19980503,2332, 32.5000, -21.3383, 5110,   3560.8,   2.5830,  34.9220,2,  34.9210,2,    242.5,2,    243.1,2,    40.49,2,    21.50,2,     1.64,2, -999.000,9, -999.000,9,   -999.0,9,-999.0000,  -999.00,9,  -999.00,9,  -999.00,9,   2.2818
  74DI19980423,  A16N, 13441,  1,      4,      4,3,19980503,2332, 32.5000, -21.3383, 5110,   4073.8,   2.4660,  34.9050,2,  34.9030,2,    242.1,2,    244.7,0,    44.08,2,    21.91,2,     1.64,2, -999.000,9, -999.000,9,   -999.0,9,-999.0000,  -999.00,9,  -999.00,9,  -999.00,9,   2.1101
  74DI19980423,  A16N, 13441,  1,      3,      3,2,19980503,2332, 32.5000, -21.3383, 5110,   4587.3,   2.4220,  34.8950,2,  34.8940,2,    244.8,2,    243.3,2,    46.10,2,    22.10,2,     1.65,2, -999.000,9, -999.000,9,   -999.0,9,-999.0000,  -999.00,9,  -999.00,9,  -999.00,9,   2.0065
  74DI19980423,  A16N, 13441,  1,      2,      2,3,19980503,2332, 32.5000, -21.3383, 5110,   5102.6,   2.4520,  34.8910,2,  34.9000,2,    243.3,2,    243.3,0,    46.50,2,    22.04,2,     1.61,2, -999.000,9, -999.000,9,   -999.0,9,-999.0000,  -999.00,9,  -999.00,9,  -999.00,9,   1.9710
  74DI19980423,  A16N, 13441,  1,      1,      1,2,19980503,2332, 32.5000, -21.3383, 5110,   5197.1,   2.4600,  34.8910,2,  34.8890,2,    244.8,2,    245.1,2,    46.54,2,    21.89,2,     1.59,2, -999.000,9, -999.000,9,   -999.0,9,-999.0000,  -999.00,9,  -999.00,9,  -999.00,9,   1.9666