BOTTLE,20221006CCHSIOCBG
EXPOCODE,SECT_ID,STNNBR,CASTNO,SAMPNO,BTLNBR,BTLNBR_FLAG_W,DATE,TIME,LATITUDE,LONGITUDE,DEPTH,CTDPRS,CTDTMP,CTDSAL,CTDSAL_FLAG_W,SALNTY,SALNTY_FLAG_W,CTDOXY,CTDOXY_FLAG_W,OXYGEN,OXYGEN_FLAG_W,SILCAT,SILCAT_FLAG_W,NITRAT,NITRAT_FLAG_W,PHSPHT,PHSPHT_FLAG_W,CFC-11,CFC-11_FLAG_W,CFC-12,CFC-12_FLAG_W,ALKALI,ALKALI_FLAG_W,PH_SWS,PH_TEMP,PH_SWS_FLAG_W,CHLORA,CHLORA_FLAG_W,PPHYTN,PPHYTN_FLAG_W,THETA
,,,,,,,,,,,METERS,DBAR,ITS-90,PSS-78,,PSS-78,,UMOL/KG,,UMOL/KG,,UMOL/KG,,UMOL/KG,,UMOL/KG,,PMOL/KG,,PMOL/KG,,UMOL/KG,,,DEGC,,UG/L,,UG/L,,DEGC
  74DI19980423,  A16N, 13452,  1,     24,     24,2,19980507,1404, 37.9983, -20.0100, 5092,      3.0,  16.7970,  36.1830,2,  36.1790,2,    248.1,6,    246.9,2,     0.90,2,     0.00,2,     0.00,2, -999.000,9, -999.000,9,   2375.9,2,   7.9662,    25.00,2,     0.01,2,     0.01,2,  16.7965
  74DI19980423,  A16N, 13452,  1,     23,     23,2,19980507,1404, 37.9983, -20.0100, 5092,     17.0,  16.2830,  36.1730,2,  36.1720,2,    247.1,2,    247.4,2,     0.92,2,     0.00,2,     0.00,2,    2.738,3,    1.789,3,   2375.6,2,   7.9672,    25.00,2,     0.03,2,     0.01,2,  16.2803
  74DI19980423,  A16N, 13452,  1,     22,     22,2,19980507,1404, 37.9983, -20.0100, 5092,     27.4,  16.2640,  36.1720,2,  36.1710,2,    243.1,2,    247.5,2,     0.94,2,     0.07,2,     0.00,2,    1.129,3,    1.000,3,   2373.5,2,   7.9692,    25.00,2,     0.10,2,     0.03,2,  16.2596
  74DI19980423,  A16N, 13452,  1,     21,     21,2,19980507,1404, 37.9983, -20.0100, 5092,     45.4,  16.2460,  36.1750,2,  36.1740,2,    243.2,2,    247.8,2,     0.93,2,     0.00,2,     0.00,2,    2.694,3,    1.717,3,   2374.5,2,   7.9712,    25.00,2,     0.03,2,     0.02,2,  16.2387
  74DI19980423,  A16N, 13452,  1,     20,     20,2,19980507,1404, 37.9983, -20.0100, 5092,     87.7,  15.9090,  36.1730,2,  36.1700,2,    247.1,2,    244.4,2,     0.94,2,     0.19,2,     0.00,2,    1.237,3,    1.231,3,   2376.3,2,   7.9592,    25.00,2,     0.03,2,     0.02,2,  15.8951
  74DI19980423,  A16N, 13452,  1,     19,     19,2,19980507,1404, 37.9983, -20.0100, 5092,    127.3,  15.5350,  36.1070,2,  36.1040,2,    242.6,2,    242.3,2,     1.02,2,     0.74,2,     0.01,2,    3.541,3,    1.694,3,   2368.6,2,   7.9532,    25.00,2,     0.03,2,     0.01,2,  15.5151
  74DI19980423,  A16N, 13452,  1,     18,     18,2,19980507,1404, 37.9983, -20.0100, 5092,    168.0,  15.3170,  36.0750,2,  36.0720,2,    235.7,2,    238.0,2,     1.17,2,     1.92,2,     0.05,2,    3.018,3,    1.689,3,   2369.1,2,   7.9402,    25.00,2,     0.03,2,     0.02,2,  15.2910
  74DI19980423,  A16N, 13452,  1,     17,     17,2,19980507,1404, 37.9983, -20.0100, 5092,    247.7,  13.7750,  35.8770,2,  35.8650,2,    221.0,2,    219.3,2,     3.01,2,     8.60,2,     0.43,2,    1.450,3,    1.193,3,   -999.0,9,-999.0000,  -999.00,9,  -999.00,9,  -999.00,9,  13.7392
  74DI19980423,  A16N, 13452,  1,     16,     16,2,19980507,1404, 37.9983, -20.0100, 5092,    328.6,  12.8100,  35.7520,2,  35.7510,2,    220.2,2,    215.3,2,     3.63,2,    10.02,2,     0.53,2,    4.017,2,    2.074,2,   2349.9,2,   7.8453,    25.00,2,  -999.00,9,  -999.00,9,  12.7647
  74DI19980423,  A16N, 13452,  1,     15,     15,2,19980507,1404, 37.9983, -20.0100, 5092,    509.9,  11.5410,  35.5860,2,  35.5840,2,    211.3,2,    212.2,2,     5.09,2,    13.21,2,     0.72,2,    3.555,2,    1.785,2,   -999.0,9,-999.0000,  -999.00,9,  -999.00,9,  -999.00,9,  11.4749
  74DI19980423,  A16N, 13452,  1,     14,     14,2,19980507,1404, 37.9983, -20.0100, 5092,    762.6,  10.6250,  35.6520,2,  35.6510,2,    188.2,2,    187.9,2,     8.33,2,    16.65,2,     0.94,2,    2.113,2,    1.151,2,   2351.2,2,   7.7633,    25.00,2,  -999.00,9,  -999.00,9,  10.5299
  74DI19980423,  A16N, 13452,  1,     13,     13,2,19980507,1404, 37.9983, -20.0100, 5092,    964.1,   9.9340,  35.7820,2,  35.7810,2,    185.6,2,    185.7,2,    10.23,2,    17.36,2,     1.02,2,    0.831,3,    0.380,3,   2364.1,2,   7.7583,    25.00,2,  -999.00,9,  -999.00,9,   9.8172
  74DI19980423,  A16N, 13452,  1,     12,     12,2,19980507,1404, 37.9983, -20.0100, 5092,   1115.5,   9.3730,  35.8020,2,  35.8000,2,    192.3,2,    191.1,2,    10.76,2,    17.32,2,     0.96,2,    1.080,2,    0.571,2,   2369.5,2,   7.7553,    25.00,2,  -999.00,9,  -999.00,9,   9.2412
  74DI19980423,  A16N, 13452,  1,     11,     11,2,19980507,1404, 37.9983, -20.0100, 5092,   1418.7,   6.6190,  35.4150,2,  35.4150,2,    226.0,2,    224.8,2,    12.15,2,    17.79,2,     1.01,2,    0.796,2,    0.363,2,   2346.1,2,   7.7373,    25.00,2,  -999.00,9,  -999.00,9,   6.4776
  74DI19980423,  A16N, 13452,  1,     10,     10,2,19980507,1404, 37.9983, -20.0100, 5092,   1570.0,   5.4290,  35.2310,2,  35.2310,2,    234.8,2,    241.0,2,    12.54,2,    17.89,2,     1.02,2,    0.830,2,    0.414,2,   2333.9,2,   7.7263,    25.00,2,  -999.00,9,  -999.00,9,   5.2850
  74DI19980423,  A16N, 13452,  1,      9,      9,2,19980507,1404, 37.9983, -20.0100, 5092,   1924.1,   4.2620,  35.0740,2,  35.0760,2,    255.0,2,    255.1,2,    14.95,2,    18.04,2,     1.07,2,    0.487,2,    0.303,2,   2326.1,2,   7.7233,    25.00,2,  -999.00,9,  -999.00,9,   4.0978
  74DI19980423,  A16N, 13452,  1,      8,      8,2,19980507,1404, 37.9983, -20.0100, 5092,   2126.9,   3.8310,  35.0320,2,  35.0330,2,    257.5,2,    256.6,2,    17.80,2,    18.41,2,     1.14,2,    0.197,2,    0.155,2,   2326.5,2,   7.7243,    25.00,2,  -999.00,9,  -999.00,9,   3.6533
  74DI19980423,  A16N, 13452,  1,      7,      7,2,19980507,1404, 37.9983, -20.0100, 5092,   2636.5,   3.1010,  34.9660,2,  34.9650,2,    255.8,2,    256.9,2,    25.72,2,    19.32,2,     1.24,2,    0.093,2,    0.047,2,   2332.1,2,   7.7243,    25.00,2,  -999.00,9,  -999.00,9,   2.8854
  74DI19980423,  A16N, 13452,  1,      6,      6,2,19980507,1404, 37.9983, -20.0100, 5092,   3043.4,   2.7890,  34.9420,2,  34.9420,2,    251.6,2,    251.5,2,    32.85,2,    20.22,2,     1.32,2,    0.051,2,    0.025,2,   2340.3,2,   7.7163,    25.00,2,  -999.00,9,  -999.00,9,   2.5382
  74DI19980423,  A16N, 13452,  1,      5,      5,2,19980507,1404, 37.9983, -20.0100, 5092,   3454.7,   2.6330,  34.9270,2,  34.9270,2,    246.3,2,    246.7,2,    38.93,2,    21.28,2,     1.39,2,    0.145,3,    0.018,2,   2350.4,2,   7.7143,    25.00,2,  -999.00,9,  -999.00,9,   2.3421
  74DI19980423,  A16N, 13452,  1,      4,      4,2,19980507,1404, 37.9983, -20.0100, 5092,   3864.5,   2.5610,  34.9160,2,  34.9160,2,    244.1,2,    244.8,2,    42.40,2,    21.82,2,     1.44,2, -999.000,9, -999.000,9,   2355.0,2,   7.7153,    25.00,2,  -999.00,9,  -999.00,9,   2.2264
  74DI19980423,  A16N, 13452,  1,      3,      3,2,19980507,1404, 37.9983, -20.0100, 5092,   4278.4,   2.5290,  34.9080,2,  34.9070,2,    244.2,2,    244.3,2,    44.29,2,    22.10,2,     1.46,2,    0.020,2,    0.010,2,   2356.3,2,   7.7163,    25.00,2,  -999.00,9,  -999.00,9,   2.1473
  74DI19980423,  A16N, 13452,  1,      2,      2,2,19980507,1404, 37.9983, -20.0100, 5092,   4688.9,   2.5040,  34.9010,2,  34.9000,2,    245.6,2,    243.9,2,    45.70,2,    22.12,2,     1.50,2,    0.020,2,    0.010,2,   -999.0,9,-999.0000,  -999.00,9,  -999.00,9,  -999.00,9,   2.0734
  74DI19980423,  A16N, 13452,  1,      1,      1,3,19980507,1404, 37.9983, -20.0100, 5092,   5182.4,   2.5110,  34.8950,2,  34.8970,2,    245.9,2,    246.1,0,    45.72,2,    21.97,2,     1.44,2,    0.020,2,    0.010,2,   2363.1,2,   7.7133,    25.00,2,  -999.00,9,  -999.00,9,   2.0177
  74DI19980423,  A16N, 13453,  1,     22,     22,2,19980507,2108, 38.4983, -19.9917, 4412,      3.2,  16.4170,  36.1590,2,  36.1580,2,    252.9,2,    246.9,2,     0.90,2,     0.00,2,     0.00,2, -999.000,9, -999.000,9,   -999.0,9,-999.0000,  -999.00,9,     0.03,2,     0.01,2,  16.4165
  74DI19980423,  A16N, 13453,  1,     21,     21,2,19980507,2108, 38.4983, -19.9917, 4412,     16.5,  16.2550,  36.1540,2,  36.1520,2,    248.1,2,    248.6,2,     0.91,2,     0.00,2,     0.00,2, -999.000,9, -999.000,9,   -999.0,9,-999.0000,  -999.00,9,     0.03,2,     0.01,2,  16.2523
  74DI19980423,  A16N, 13453,  1,     20,     20,2,19980507,2108, 38.4983, -19.9917, 4412,     29.7,  16.1860,  36.1470,2,  36.1460,2,    248.2,2,    248.7,2,     0.92,2,     0.00,2,     0.00,2, -999.000,9, -999.000,9,   -999.0,9,-999.0000,  -999.00,9,     0.03,2,     0.02,2,  16.1812
  74DI19980423,  A16N, 13453,  1,     19,     19,2,19980507,2108, 38.4983, -19.9917, 4412,     55.9,  16.0900,  36.1400,2,  36.1390,2,    257.0,2,    249.2,2,     0.92,2,     0.00,2,     0.01,2, -999.000,9, -999.000,9,   -999.0,9,-999.0000,  -999.00,9,     0.03,2,     0.02,2,  16.0811
  74DI19980423,  A16N, 13453,  1,     18,     18,2,19980507,2108, 38.4983, -19.9917, 4412,     79.9,  15.1520,  36.0220,2,  36.0210,2,    245.6,2,    253.8,0,     1.09,2,     0.32,2,     0.04,2, -999.000,9, -999.000,9,   -999.0,9,-999.0000,  -999.00,9,     0.22,2,     0.03,2,  15.1398
  74DI19980423,  A16N, 13453,  1,     17,     17,2,19980507,2108, 38.4983, -19.9917, 4412,    105.2,  14.9720,  36.0120,2,  36.0060,2,    242.3,2,    246.5,2,     1.16,2,     1.27,2,     0.10,2, -999.000,9, -999.000,9,   -999.0,9,-999.0000,  -999.00,9,     0.10,2,     0.02,2,  14.9560
  74DI19980423,  A16N, 13453,  1,     16,     16,2,19980507,2108, 38.4983, -19.9917, 4412,    155.1,  14.5000,  35.9470,2,  35.9400,2,    239.1,2,    237.8,2,     1.55,2,     3.87,2,     0.22,2, -999.000,9, -999.000,9,   -999.0,9,-999.0000,  -999.00,9,     0.01,2,     0.01,2,  14.4769
  74DI19980423,  A16N, 13453,  1,     15,     15,2,19980507,2108, 38.4983, -19.9917, 4412,    205.2,  13.5090,  35.8450,2,  35.8400,2,    223.0,2,    220.2,2,     2.90,2,     8.75,2,     0.51,2, -999.000,9, -999.000,9,   -999.0,9,-999.0000,  -999.00,9,  -999.00,9,  -999.00,9,  13.4798
  74DI19980423,  A16N, 13453,  1,     14,     14,2,19980507,2108, 38.4983, -19.9917, 4412,    408.2,  11.8530,  35.6190,2,  35.6180,2,    218.5,2,    215.6,2,     4.57,2,    12.26,2,     0.73,2, -999.000,9, -999.000,9,   -999.0,9,-999.0000,  -999.00,9,  -999.00,9,  -999.00,9,  11.7994
  74DI19980423,  A16N, 13453,  1,     13,     13,2,19980507,2108, 38.4983, -19.9917, 4412,    608.6,  10.8220,  35.5410,2,  35.5390,2,    205.4,2,    202.4,2,     6.60,2,    15.12,2,     0.92,2, -999.000,9, -999.000,9,   -999.0,9,-999.0000,  -999.00,9,  -999.00,9,  -999.00,9,  10.7459
  74DI19980423,  A16N, 13453,  1,     12,     12,2,19980507,2108, 38.4983, -19.9917, 4412,    810.3,  10.5520,  35.7380,2,  35.7340,2,    184.1,2,    184.1,2,     8.92,2,    16.86,2,     1.04,2, -999.000,9, -999.000,9,   -999.0,9,-999.0000,  -999.00,9,  -999.00,9,  -999.00,9,  10.4510
  74DI19980423,  A16N, 13453,  1,     11,     11,2,19980507,2108, 38.4983, -19.9917, 4412,   1012.4,  10.0400,  35.8670,2,  35.8650,2,    185.4,2,    185.7,2,    10.11,2,    17.08,2,     1.05,2, -999.000,9, -999.000,9,   -999.0,9,-999.0000,  -999.00,9,  -999.00,9,  -999.00,9,   9.9162
  74DI19980423,  A16N, 13453,  1,     10,     10,2,19980507,2108, 38.4983, -19.9917, 4412,   1258.5,   8.5670,  35.7320,2,  35.7330,2,    200.7,2,    201.2,2,    11.15,2,    17.37,2,     1.09,2, -999.000,9, -999.000,9,   -999.0,9,-999.0000,  -999.00,9,  -999.00,9,  -999.00,9,   8.4246
  74DI19980423,  A16N, 13453,  1,      9,      9,2,19980507,2108, 38.4983, -19.9917, 4412,   1518.7,   5.5610,  35.2270,2,  35.2260,2,    234.9,2,    240.1,2,    12.04,2,    17.84,2,     1.15,2, -999.000,9, -999.000,9,   -999.0,9,-999.0000,  -999.00,9,  -999.00,9,  -999.00,9,   5.4208
  74DI19980423,  A16N, 13453,  1,      8,      8,2,19980507,2108, 38.4983, -19.9917, 4412,   1769.9,   4.3780,  35.0530,2,  35.0540,2,    258.4,2,    258.2,2,    12.53,2,    17.76,2,     1.15,2, -999.000,9, -999.000,9,   -999.0,9,-999.0000,  -999.00,9,  -999.00,9,  -999.00,9,   4.2275
  74DI19980423,  A16N, 13453,  1,      7,      7,2,19980507,2108, 38.4983, -19.9917, 4412,   2016.0,   3.9550,  35.0120,2,  35.0120,2,    261.8,2,    261.8,2,    14.20,2,    17.73,2,     1.16,2, -999.000,9, -999.000,9,   -999.0,9,-999.0000,  -999.00,9,  -999.00,9,  -999.00,9,   3.7864
  74DI19980423,  A16N, 13453,  1,      6,      6,2,19980507,2108, 38.4983, -19.9917, 4412,   2279.6,   3.5360,  34.9870,2,  34.9880,2,    262.7,2,    260.9,2,    18.16,2,    18.26,2,     1.21,2, -999.000,9, -999.000,9,   -999.0,9,-999.0000,  -999.00,9,  -999.00,9,  -999.00,9,   3.3482
  74DI19980423,  A16N, 13453,  1,      5,      5,2,19980507,2108, 38.4983, -19.9917, 4412,   2535.3,   3.1890,  34.9670,2,  34.9670,2,    259.0,2,    258.9,2,    22.99,2,    18.89,2,     1.27,2, -999.000,9, -999.000,9,   -999.0,9,-999.0000,  -999.00,9,  -999.00,9,  -999.00,9,   2.9819
  74DI19980423,  A16N, 13453,  1,      4,      4,2,19980507,2108, 38.4983, -19.9917, 4412,   3046.3,   2.7810,  34.9410,2,  34.9420,2,    250.1,2,    251.1,2,    33.13,2,    20.28,2,     1.35,2, -999.000,9, -999.000,9,   -999.0,9,-999.0000,  -999.00,9,  -999.00,9,  -999.00,9,   2.5301
  74DI19980423,  A16N, 13453,  1,      3,      3,2,19980507,2108, 38.4983, -19.9917, 4412,   3557.4,   2.6140,  34.9240,2,  34.9240,2,    243.6,2,    245.3,2,    39.99,2,    21.44,2,     1.44,2, -999.000,9, -999.000,9,   -999.0,9,-999.0000,  -999.00,9,  -999.00,9,  -999.00,9,   2.3123
  74DI19980423,  A16N, 13453,  1,      2,      2,2,19980507,2108, 38.4983, -19.9917, 4412,   4069.4,   2.5420,  34.9120,2,  34.9110,2,    242.7,2,    242.8,2,    43.58,2,    21.96,2,     1.45,2, -999.000,9, -999.000,9,   -999.0,9,-999.0000,  -999.00,9,  -999.00,9,  -999.00,9,   2.1844
  74DI19980423,  A16N, 13453,  1,      1,      1,2,19980507,2108, 38.4983, -19.9917, 4412,   4481.5,   2.5390,  34.9070,2,  34.9070,2,    242.7,2,    242.0,2,    43.95,2,    21.83,2,     1.44,2, -999.000,9, -999.000,9,   -999.0,9,-999.0000,  -999.00,9,  -999.00,9,  -999.00,9,   2.1326