BOTTLE,20221006CCHSIOCBG
EXPOCODE,SECT_ID,STNNBR,CASTNO,SAMPNO,BTLNBR,BTLNBR_FLAG_W,DATE,TIME,LATITUDE,LONGITUDE,DEPTH,CTDPRS,CTDTMP,CTDSAL,CTDSAL_FLAG_W,SALNTY,SALNTY_FLAG_W,CTDOXY,CTDOXY_FLAG_W,OXYGEN,OXYGEN_FLAG_W,SILCAT,SILCAT_FLAG_W,NITRAT,NITRAT_FLAG_W,PHSPHT,PHSPHT_FLAG_W,CFC-11,CFC-11_FLAG_W,CFC-12,CFC-12_FLAG_W,ALKALI,ALKALI_FLAG_W,PH_SWS,PH_TEMP,PH_SWS_FLAG_W,CHLORA,CHLORA_FLAG_W,PPHYTN,PPHYTN_FLAG_W,THETA
,,,,,,,,,,,METERS,DBAR,ITS-90,PSS-78,,PSS-78,,UMOL/KG,,UMOL/KG,,UMOL/KG,,UMOL/KG,,UMOL/KG,,PMOL/KG,,PMOL/KG,,UMOL/KG,,,DEGC,,UG/L,,UG/L,,DEGC
  74DI19980423,  A16N, 13428,  1,     22,     22,2,19980429,2149, 26.0017, -21.3317, 4652,      4.9,  21.6470,  37.0660,2,  37.0660,2,    220.9,6,    221.5,2,     0.32,2,     0.10,2,     0.06,2,    1.915,3,    1.338,3,   2434.4,6,   8.0172,    25.00,2,     0.05,2,     0.03,2,  21.6460
  74DI19980423,  A16N, 13428,  1,     21,     21,2,19980429,2149, 26.0017, -21.3317, 4652,     17.5,  21.6460,  37.0660,2,  37.0660,2,    218.9,2,    221.3,2,     0.32,2,     0.00,2,     0.08,2,    2.019,3,    1.239,3,   2431.6,2,   8.0152,    25.00,2,     0.05,2,     0.02,2,  21.6426
  74DI19980423,  A16N, 13428,  1,     20,     20,2,19980429,2149, 26.0017, -21.3317, 4652,     30.9,  21.6260,  37.0670,2,  37.0650,2,    225.5,2,    220.4,2,     0.34,2,     0.01,2,     0.09,2,    1.785,3,    1.178,3,   2428.7,2,   7.9752,    25.00,2,     0.04,2,     0.02,2,  21.6199
  74DI19980423,  A16N, 13428,  1,     19,     19,2,19980429,2149, 26.0017, -21.3317, 4652,     56.1,  21.5410,  37.0710,2,  37.0690,2,    224.8,2,    222.3,2,     0.38,2,     0.00,2,     0.12,2,    2.116,3,    1.311,3,   -999.0,9,-999.0000,  -999.00,9,     0.08,2,     0.03,2,  21.5300
  74DI19980423,  A16N, 13428,  1,     18,     18,2,19980429,2149, 26.0017, -21.3317, 4652,     81.0,  21.0210,  36.9760,2,  36.9720,2,    226.2,2,    219.3,2,     0.82,2,     2.78,2,     0.27,2,    1.948,3,    1.250,3,   -999.0,9,-999.0000,  -999.00,9,     0.12,2,     0.06,2,  21.0054
  74DI19980423,  A16N, 13428,  1,     17,     17,2,19980429,2149, 26.0017, -21.3317, 4652,    106.8,  19.6820,  36.7940,2,  36.7900,2,    204.0,2,    198.2,2,     2.06,2,     6.00,2,     0.45,2,    2.256,3,    1.242,3,   2413.9,2,   7.9202,    25.00,2,     0.11,2,     0.00,2,  19.6623
  74DI19980423,  A16N, 13428,  1,     16,     16,2,19980429,2149, 26.0017, -21.3317, 4652,    157.9,  17.5630,  36.4240,2,  36.4190,2,    147.2,2,    163.4,2,     3.28,2,    11.30,2,     0.74,2,    2.046,3,    0.693,3,   2392.1,2,   7.8392,    25.00,2,     0.00,2,     0.00,2,  17.5361
  74DI19980423,  A16N, 13428,  1,     15,     15,2,19980429,2149, 26.0017, -21.3317, 4652,    209.3,  15.9130,  36.0900,2,  36.0860,2,    109.9,2,    109.1,0,     5.43,2,    17.95,3,     1.14,2,    2.106,3,    0.910,3,   -999.0,9,-999.0000,  -999.00,9,  -999.00,9,  -999.00,9,  15.8797
  74DI19980423,  A16N, 13428,  1,     14,     14,2,19980429,2149, 26.0017, -21.3317, 4652,    413.1,  13.2260,  35.7990,2,  35.7970,2,    142.7,2,    149.7,2,     6.61,2,    17.25,2,     1.09,2,    2.223,2,    0.965,2,   -999.0,9,-999.0000,  -999.00,9,  -999.00,9,  -999.00,9,  13.1676
  74DI19980423,  A16N, 13428,  1,     13,     13,2,19980429,2149, 26.0017, -21.3317, 4652,    617.7,  10.6640,  35.4940,2,  35.4820,2,    163.6,2,    154.9,2,    10.47,2,    21.24,2,     1.38,2,    0.801,2,    0.506,2,   2347.3,2,   7.7023,    25.00,2,  -999.00,9,  -999.00,9,  10.5874
  74DI19980423,  A16N, 13428,  1,     12,     12,2,19980429,2149, 26.0017, -21.3317, 4652,    823.0,   8.3560,  35.2210,2,  35.2200,2,    126.5,2,    123.3,2,    17.95,2,    28.13,2,     1.95,2,    0.173,2,    0.086,2,   2335.5,2,   7.6193,    25.00,2,  -999.00,9,  -999.00,9,   8.2670
  74DI19980423,  A16N, 13428,  1,     11,     11,2,19980429,2149, 26.0017, -21.3317, 4652,   1027.8,   7.3010,  35.2130,2,  35.2140,2,    153.1,2,    149.5,2,    19.47,2,    26.11,2,     1.80,2,    0.096,2,    0.051,2,   2339.5,2,   7.6383,    25.00,2,  -999.00,9,  -999.00,9,   7.1964
  74DI19980423,  A16N, 13428,  1,     10,     10,2,19980429,2149, 26.0017, -21.3317, 4652,   1282.5,   6.5920,  35.2800,2,  35.2800,2,    181.1,2,    180.0,2,    19.38,2,    23.30,2,     1.62,2,    0.059,2,    0.026,2,   2347.0,2,   7.6763,    25.00,2,  -999.00,9,  -999.00,9,   6.4658
  74DI19980423,  A16N, 13428,  1,      9,      9,2,19980429,2149, 26.0017, -21.3317, 4652,   1539.8,   5.2980,  35.1860,2,  35.1850,2,    201.8,2,    202.6,2,    21.85,2,    22.27,2,     1.47,2,    0.037,2,    0.018,2,   2346.4,2,   7.6893,    25.00,2,  -999.00,9,  -999.00,9,   5.1587
  74DI19980423,  A16N, 13428,  1,      8,      8,2,19980429,2149, 26.0017, -21.3317, 4652,   1797.4,   4.4850,  35.1070,2,  35.1050,2,    214.0,2,    215.2,2,    24.46,2,    21.86,2,     1.45,2,    0.019,2,    0.010,2,   2345.7,2,   7.6953,    25.00,2,  -999.00,9,  -999.00,9,   4.3302
  74DI19980423,  A16N, 13428,  1,      7,      7,2,19980429,2149, 26.0017, -21.3317, 4652,   2053.7,   3.9910,  35.0630,2,  35.0640,2,    224.6,2,    225.8,2,    26.36,2,    21.28,2,     1.50,2,    0.022,2,    0.010,2,   2347.4,2,   7.7033,    25.00,2,  -999.00,9,  -999.00,9,   3.8180
  74DI19980423,  A16N, 13428,  1,      6,      6,2,19980429,2149, 26.0017, -21.3317, 4652,   2314.0,   3.5590,  35.0190,2,  35.0190,2,    231.3,2,    231.5,2,    29.06,2,    21.33,2,     1.56,2,    0.020,2,    0.010,2,   2347.7,2,   7.7023,    25.00,2,  -999.00,9,  -999.00,9,   3.3673
  74DI19980423,  A16N, 13428,  1,      5,      5,2,19980429,2149, 26.0017, -21.3317, 4652,   2571.9,   3.1990,  34.9840,2,  34.9830,2,    233.0,2,    235.2,2,    32.34,2,    21.33,2,     1.60,2,    0.020,2,    0.010,2,   -999.0,9,-999.0000,  -999.00,9,  -999.00,9,  -999.00,9,   2.9880
  74DI19980423,  A16N, 13428,  1,      4,      4,2,19980429,2149, 26.0017, -21.3317, 4652,   3090.9,   2.7240,  34.9370,2,  34.9380,2,    239.2,2,    239.9,2,    38.23,2,    21.52,2,     1.52,2,    0.019,2,    0.010,2,   -999.0,9,-999.0000,  -999.00,9,  -999.00,9,  -999.00,9,   2.4697
  74DI19980423,  A16N, 13428,  1,      3,      3,2,19980429,2149, 26.0017, -21.3317, 4652,   3605.9,   2.4800,  34.9120,2,  34.9110,2,    243.7,2,    243.2,2,    42.59,2,    21.88,2,     1.46,2,    0.019,2,    0.010,2,   2360.6,2,   7.7093,    25.00,2,  -999.00,9,  -999.00,9,   2.1765
  74DI19980423,  A16N, 13428,  1,      2,      2,2,19980429,2149, 26.0017, -21.3317, 4652,   4122.2,   2.3750,  34.8960,2,  34.8950,2,    247.2,2,    248.9,2,    45.64,2,    22.07,2,     1.48,2,    0.082,3,    0.010,2,   2359.7,2,   7.7073,    25.00,2,  -999.00,9,  -999.00,9,   2.0161
  74DI19980423,  A16N, 13428,  1,      1,      1,2,19980429,2149, 26.0017, -21.3317, 4652,   4721.3,   2.4050,  34.8910,2,  34.8910,2,    247.0,2,    244.2,2,    45.92,2,    22.01,2,     1.45,2,    0.019,2,    0.010,2,   2361.8,2,   7.7053,    25.00,2,  -999.00,9,  -999.00,9,   1.9736
  74DI19980423,  A16N, 13429,  1,     23,     23,2,19980430, 513, 26.5017, -21.3367, 4699,      3.6,  21.2370,  37.1920,2,  37.1920,2,    220.2,2,   -999.0,9,     0.55,2,     0.00,2,     0.00,2, -999.000,9, -999.000,9,   -999.0,9,-999.0000,  -999.00,9,     0.04,2,     0.01,2,  21.2363
  74DI19980423,  A16N, 13429,  1,     22,     22,2,19980430, 513, 26.5017, -21.3367, 4699,     11.5,  21.2400,  37.1920,2,  37.1920,2,    222.2,2,    223.3,2,     0.55,2,     0.00,2,     0.00,2, -999.000,9, -999.000,9,   -999.0,9,-999.0000,  -999.00,9,     0.04,2,     0.02,2,  21.2378
  74DI19980423,  A16N, 13429,  1,     21,     21,2,19980430, 513, 26.5017, -21.3367, 4699,     19.4,  21.2430,  37.1930,2,  37.1940,2,    218.9,2,    223.3,2,     0.53,2,     0.05,2,     0.00,2, -999.000,9, -999.000,9,   -999.0,9,-999.0000,  -999.00,9,     0.04,2,     0.04,2,  21.2392
  74DI19980423,  A16N, 13429,  1,     20,     20,2,19980430, 513, 26.5017, -21.3367, 4699,     34.4,  21.2490,  37.1940,2,  37.1940,2,    219.2,2,    222.4,2,     0.56,2,     0.00,2,     0.00,2, -999.000,9, -999.000,9,   -999.0,9,-999.0000,  -999.00,9,     0.04,2,     0.02,2,  21.2423
  74DI19980423,  A16N, 13429,  1,     19,     19,2,19980430, 513, 26.5017, -21.3367, 4699,     64.5,  21.2200,  37.2190,2,  37.2180,2,    218.3,2,    221.2,2,     0.51,2,     0.00,2,     0.00,2, -999.000,9, -999.000,9,   -999.0,9,-999.0000,  -999.00,9,     0.08,2,     0.01,2,  21.2074
  74DI19980423,  A16N, 13429,  1,     18,     18,2,19980430, 513, 26.5017, -21.3367, 4699,     95.8,  20.6160,  37.1280,2,  37.1270,2,    216.6,2,    216.6,2,     0.64,2,     0.46,2,     0.00,2, -999.000,9, -999.000,9,   -999.0,9,-999.0000,  -999.00,9,     0.03,2,     0.02,2,  20.5977
  74DI19980423,  A16N, 13429,  1,     17,     17,2,19980430, 513, 26.5017, -21.3367, 4699,    116.2,  19.6930,  36.9340,2,  36.9270,2,    217.6,2,    210.6,2,     0.75,2,     0.81,2,     0.03,2, -999.000,9, -999.000,9,   -999.0,9,-999.0000,  -999.00,9,     0.02,2,     0.00,2,  19.6715
  74DI19980423,  A16N, 13429,  1,     16,     16,2,19980430, 513, 26.5017, -21.3367, 4699,    146.3,  18.2790,  36.6660,2,  36.6620,2,    208.3,2,    206.5,2,     0.92,2,     1.94,2,     0.09,2, -999.000,9, -999.000,9,   -999.0,9,-999.0000,  -999.00,9,  -999.00,9,  -999.00,9,  18.2534
  74DI19980423,  A16N, 13429,  1,     15,     15,2,19980430, 513, 26.5017, -21.3367, 4699,    187.7,  17.4520,  36.5180,2,  36.5090,2,    201.1,2,    201.5,2,     1.35,2,     4.11,2,     0.23,2, -999.000,9, -999.000,9,   -999.0,9,-999.0000,  -999.00,9,  -999.00,9,  -999.00,9,  17.4201
  74DI19980423,  A16N, 13429,  1,     14,     14,2,19980430, 513, 26.5017, -21.3367, 4699,    227.8,  16.3390,  36.3280,2,  36.3750,2,    199.4,2,    197.3,2,     2.08,2,     6.41,2,     0.38,2, -999.000,9, -999.000,9,   -999.0,9,-999.0000,  -999.00,9,  -999.00,9,  -999.00,9,  16.3020
  74DI19980423,  A16N, 13429,  1,     13,     13,2,19980430, 513, 26.5017, -21.3367, 4699,    360.8,  14.0960,  35.9580,2,  35.9580,2,    195.0,2,    193.5,2,     3.70,2,    10.44,2,     0.67,2, -999.000,9, -999.000,9,   -999.0,9,-999.0000,  -999.00,9,  -999.00,9,  -999.00,9,  14.0429
  74DI19980423,  A16N, 13429,  1,     12,     12,2,19980430, 513, 26.5017, -21.3367, 4699,    513.8,  11.8560,  35.6380,2,  35.6370,2,    183.6,2,    183.6,2,     6.38,2,    15.57,2,     1.02,2, -999.000,9, -999.000,9,   -999.0,9,-999.0000,  -999.00,9,  -999.00,9,  -999.00,9,  11.7882
  74DI19980423,  A16N, 13429,  1,     11,     11,2,19980430, 513, 26.5017, -21.3367, 4699,    718.1,   9.8440,  35.4100,2,  35.4090,2,    145.9,2,    144.1,2,    12.45,2,    22.91,2,     1.59,2, -999.000,9, -999.000,9,   -999.0,9,-999.0000,  -999.00,9,  -999.00,9,  -999.00,9,   9.7588
  74DI19980423,  A16N, 13429,  1,     10,     10,2,19980430, 513, 26.5017, -21.3367, 4699,    923.0,   7.9260,  35.2400,2,  35.2410,2,    139.8,2,    141.0,2,    17.70,2,    26.11,2,     1.86,2, -999.000,9, -999.000,9,   -999.0,9,-999.0000,  -999.00,9,  -999.00,9,  -999.00,9,   7.8284
  74DI19980423,  A16N, 13429,  1,      9,      9,2,19980430, 513, 26.5017, -21.3367, 4699,   1230.6,   6.8670,  35.2960,2,  35.2960,2,    172.6,2,    173.7,2,    18.65,2,    23.33,2,     1.68,2, -999.000,9, -999.000,9,   -999.0,9,-999.0000,  -999.00,9,  -999.00,9,  -999.00,9,   6.7439
  74DI19980423,  A16N, 13429,  1,      8,      8,2,19980430, 513, 26.5017, -21.3367, 4699,   1643.1,   5.3320,  35.2120,2,  35.2120,2,    208.8,2,    207.8,2,    22.02,2,    21.33,2,     1.55,2, -999.000,9, -999.000,9,   -999.0,9,-999.0000,  -999.00,9,  -999.00,9,  -999.00,9,   5.1817
  74DI19980423,  A16N, 13429,  1,      7,      7,2,19980430, 513, 26.5017, -21.3367, 4699,   1847.8,   4.5970,  35.1350,2,  35.1340,2,    217.7,2,    218.1,2,    24.66,2,    21.16,2,     1.55,2, -999.000,9, -999.000,9,   -999.0,9,-999.0000,  -999.00,9,  -999.00,9,  -999.00,9,   4.4356
  74DI19980423,  A16N, 13429,  1,      6,      6,2,19980430, 513, 26.5017, -21.3367, 4699,   2260.8,   3.6250,  35.0260,2,  35.0270,2,    229.5,2,    228.0,2,    29.85,2,    21.27,2,     1.58,2, -999.000,9, -999.000,9,   -999.0,9,-999.0000,  -999.00,9,  -999.00,9,  -999.00,9,   3.4374
  74DI19980423,  A16N, 13429,  1,      5,      5,2,19980430, 513, 26.5017, -21.3367, 4699,   2828.7,   2.9060,  34.9560,2,  34.9560,2,    240.9,2,    242.5,2,    34.17,2,    20.88,2,     1.55,2, -999.000,9, -999.000,9,   -999.0,9,-999.0000,  -999.00,9,  -999.00,9,  -999.00,9,   2.6748
  74DI19980423,  A16N, 13429,  1,      4,      4,2,19980430, 513, 26.5017, -21.3367, 4699,   3346.6,   2.5670,  34.9220,2,  34.9210,2,    242.2,2,    244.5,2,    40.01,2,    21.41,2,     1.58,2, -999.000,9, -999.000,9,   -999.0,9,-999.0000,  -999.00,9,  -999.00,9,  -999.00,9,   2.2894
  74DI19980423,  A16N, 13429,  1,      3,      3,3,19980430, 513, 26.5017, -21.3367, 4699,   3868.5,   2.4040,  34.9000,2,  34.9010,2,    244.0,2,    244.9,0,    44.43,2,    21.82,2,     1.61,2, -999.000,9, -999.000,9,   -999.0,9,-999.0000,  -999.00,9,  -999.00,9,  -999.00,9,   2.0733
  74DI19980423,  A16N, 13429,  1,      2,      2,2,19980430, 513, 26.5017, -21.3367, 4699,   4387.9,   2.3720,  34.8910,2,  34.8900,2,    245.5,2,    245.0,2,    46.52,2,    22.05,2,     1.61,2, -999.000,9, -999.000,9,   -999.0,9,-999.0000,  -999.00,9,  -999.00,9,  -999.00,9,   1.9820
  74DI19980423,  A16N, 13429,  1,      1,      1,2,19980430, 513, 26.5017, -21.3367, 4699,   4769.0,   2.4140,  34.8910,2,  34.8900,2,    246.1,2,    244.9,2,    45.85,2,    21.88,2,     1.55,2, -999.000,9, -999.000,9,   -999.0,9,-999.0000,  -999.00,9,  -999.00,9,  -999.00,9,   1.9764