BOTTLE,20221006CCHSIOCBG
EXPOCODE,SECT_ID,STNNBR,CASTNO,SAMPNO,BTLNBR,BTLNBR_FLAG_W,DATE,TIME,LATITUDE,LONGITUDE,DEPTH,CTDPRS,CTDTMP,CTDSAL,CTDSAL_FLAG_W,SALNTY,SALNTY_FLAG_W,CTDOXY,CTDOXY_FLAG_W,OXYGEN,OXYGEN_FLAG_W,SILCAT,SILCAT_FLAG_W,NITRAT,NITRAT_FLAG_W,PHSPHT,PHSPHT_FLAG_W,CFC-11,CFC-11_FLAG_W,CFC-12,CFC-12_FLAG_W,ALKALI,ALKALI_FLAG_W,PH_SWS,PH_TEMP,PH_SWS_FLAG_W,CHLORA,CHLORA_FLAG_W,PPHYTN,PPHYTN_FLAG_W,THETA
,,,,,,,,,,,METERS,DBAR,ITS-90,PSS-78,,PSS-78,,UMOL/KG,,UMOL/KG,,UMOL/KG,,UMOL/KG,,UMOL/KG,,PMOL/KG,,PMOL/KG,,UMOL/KG,,,DEGC,,UG/L,,UG/L,,DEGC
  74DI19980423,  A16N, 13470,  1,     23,     23,2,19980513, 623, 46.9933, -19.9833, 4521,      2.5,  14.0690,  35.7490,2,  35.7480,2,    273.8,6,    275.8,2,     1.96,2,     2.24,2,     0.11,2, -999.000,9, -999.000,9,   2350.2,6,   7.9493,    25.00,2,     0.98,2,     0.18,2,  14.0686
  74DI19980423,  A16N, 13470,  1,     22,     22,2,19980513, 623, 46.9933, -19.9833, 4521,     11.5,  14.0260,  35.7510,2,  35.7520,2,    273.6,2,    277.6,2,     1.93,2,     2.27,2,     0.11,2, -999.000,9, -999.000,9,   2358.9,2,   7.9493,    25.00,2,     1.05,2,     0.19,2,  14.0243
  74DI19980423,  A16N, 13470,  1,     21,     21,2,19980513, 623, 46.9933, -19.9833, 4521,     19.9,  13.6740,  35.7510,2,  35.7500,2,    275.7,2,    274.4,2,     1.95,2,     2.84,2,     0.15,2, -999.000,9, -999.000,9,   2360.3,2,   7.9413,    25.00,2,     0.81,2,     0.23,2,  13.6712
  74DI19980423,  A16N, 13470,  1,     20,     20,2,19980513, 623, 46.9933, -19.9833, 4521,     35.4,  13.3300,  35.7490,2,  35.7480,2,    262.7,2,    262.4,2,     2.17,2,     4.56,2,     0.25,2, -999.000,9, -999.000,9,   2360.2,2,   7.9143,    25.00,2,     0.54,2,     0.21,2,  13.3250
  74DI19980423,  A16N, 13470,  1,     19,     19,2,19980513, 623, 46.9933, -19.9833, 4521,     65.2,  12.9390,  35.7360,2,  35.7350,2,    252.2,2,    251.3,2,     2.53,2,     6.50,2,     0.35,2, -999.000,9, -999.000,9,   2353.1,2,   7.8923,    25.00,2,     0.21,2,     0.07,2,  12.9300
  74DI19980423,  A16N, 13470,  1,     18,     18,2,19980513, 623, 46.9933, -19.9833, 4521,     95.9,  12.6780,  35.7000,2,  35.6990,2,    248.4,2,    250.2,2,     2.87,2,     7.37,2,     0.41,2, -999.000,9, -999.000,9,   2347.6,2,   7.8793,    25.00,2,     0.04,2,     0.02,2,  12.6650
  74DI19980423,  A16N, 13470,  1,     17,     17,2,19980513, 623, 46.9933, -19.9833, 4521,    115.1,  12.6210,  35.6940,2,  35.6930,2,    245.9,2,    250.1,2,     3.00,2,     7.79,2,     0.42,2, -999.000,9, -999.000,9,   2356.4,2,   7.8783,    25.00,2,     0.03,2,     0.01,2,  12.6054
  74DI19980423,  A16N, 13470,  1,     16,     16,2,19980513, 623, 46.9933, -19.9833, 4521,    146.4,  12.5480,  35.6890,2,  35.6870,2,    249.1,2,    243.5,2,     3.03,2,     8.49,2,     0.46,2, -999.000,9, -999.000,9,   2352.5,2,   7.8713,    25.00,2,  -999.00,9,  -999.00,9,  12.5282
  74DI19980423,  A16N, 13470,  1,     15,     15,2,19980513, 623, 46.9933, -19.9833, 4521,    186.9,  12.4590,  35.6850,2,  35.6830,2,    250.3,2,    249.1,2,     2.80,2,     7.95,2,     0.42,2, -999.000,9, -999.000,9,   2355.3,2,   7.8773,    25.00,2,  -999.00,9,  -999.00,9,  12.4338
  74DI19980423,  A16N, 13470,  1,     14,     14,2,19980513, 623, 46.9933, -19.9833, 4521,    226.4,  12.4290,  35.6830,2,  35.6810,2,    251.1,2,    252.0,2,     2.77,2,     7.67,2,     0.41,2, -999.000,9, -999.000,9,   2353.3,2,   7.8793,    25.00,2,  -999.00,9,  -999.00,9,  12.3985
  74DI19980423,  A16N, 13470,  1,     13,     13,2,19980513, 623, 46.9933, -19.9833, 4521,    357.0,  11.8410,  35.5950,2,  35.5950,2,    234.7,2,    230.9,2,     4.18,2,    10.93,2,     0.61,2, -999.000,9, -999.000,9,   2349.1,2,   7.8363,    25.00,2,  -999.00,9,  -999.00,9,  11.7942
  74DI19980423,  A16N, 13470,  1,     12,     12,2,19980513, 623, 46.9933, -19.9833, 4521,    507.3,  11.0740,  35.5120,2,  35.5100,2,    230.5,2,    230.8,2,     4.73,2,    12.30,2,     0.70,2, -999.000,9, -999.000,9,   2343.0,2,   7.8133,    25.00,2,  -999.00,9,  -999.00,9,  11.0099
  74DI19980423,  A16N, 13470,  1,     11,     11,2,19980513, 623, 46.9933, -19.9833, 4521,    709.7,   9.3070,  35.2560,2,  35.2560,2,    204.4,2,    202.3,2,     9.03,2,    17.54,2,     1.06,2, -999.000,9, -999.000,9,   2335.3,2,   7.7443,    25.00,2,  -999.00,9,  -999.00,9,   9.2258
  74DI19980423,  A16N, 13470,  1,     10,     10,2,19980513, 623, 46.9933, -19.9833, 4521,    910.4,   6.9280,  35.0980,2,  35.0970,2,    205.3,2,    204.9,2,    11.61,2,    19.82,2,     1.22,2, -999.000,9, -999.000,9,   -999.0,9,-999.0000,  -999.00,9,  -999.00,9,  -999.00,9,   6.8387
  74DI19980423,  A16N, 13470,  1,      9,      9,2,19980513, 623, 46.9933, -19.9833, 4521,   1213.5,   5.3130,  35.0760,2,  35.0760,2,    236.0,2,    235.1,2,    11.74,2,    18.84,2,     1.16,2, -999.000,9, -999.000,9,   2328.2,2,   7.7043,    25.00,2,  -999.00,9,  -999.00,9,   5.2061
  74DI19980423,  A16N, 13470,  1,      8,      8,2,19980513, 623, 46.9933, -19.9833, 4521,   1612.8,   3.8890,  34.9370,2,  34.9370,2,    263.0,2,    265.7,2,    11.56,2,    18.11,2,     1.11,2, -999.000,9, -999.000,9,   2319.4,2,   7.7113,    25.00,2,  -999.00,9,  -999.00,9,   3.7598
  74DI19980423,  A16N, 13470,  1,      7,      7,2,19980513, 623, 46.9933, -19.9833, 4521,   1811.6,   3.6240,  34.9130,2,  34.9140,2,    273.3,2,    272.3,2,    11.73,2,    17.84,2,     1.10,2, -999.000,9, -999.000,9,   2315.8,2,   7.7123,    25.00,2,  -999.00,9,  -999.00,9,   3.4799
  74DI19980423,  A16N, 13470,  1,      6,      6,2,19980513, 623, 46.9933, -19.9833, 4521,   2211.9,   3.4080,  34.9290,2,  34.9290,2,    271.4,2,    270.4,2,    13.95,2,    17.66,2,     1.09,2, -999.000,9, -999.000,9,   2321.5,2,   7.7163,    25.00,2,  -999.00,9,  -999.00,9,   3.2291
  74DI19980423,  A16N, 13470,  1,      5,      5,2,19980513, 623, 46.9933, -19.9833, 4521,   2771.3,   3.0340,  34.9500,2,  34.9500,2,    261.5,2,    260.8,2,    22.19,2,    18.49,2,     1.17,2, -999.000,9, -999.000,9,   2333.9,2,   7.7153,    25.00,2,  -999.00,9,  -999.00,9,   2.8061
  74DI19980423,  A16N, 13470,  1,      4,      4,2,19980513, 623, 46.9933, -19.9833, 4521,   3286.4,   2.7270,  34.9360,2,  34.9350,2,    248.0,2,    248.8,2,    34.36,2,    20.40,2,     1.32,2, -999.000,9, -999.000,9,   2348.4,2,   7.7153,    25.00,2,  -999.00,9,  -999.00,9,   2.4520
  74DI19980423,  A16N, 13470,  1,      3,      3,2,19980513, 623, 46.9933, -19.9833, 4521,   3799.3,   2.5850,  34.9190,2,  34.9180,2,    241.8,2,    241.1,2,    41.99,2,    21.73,2,     1.42,2, -999.000,9, -999.000,9,   2364.2,2,   7.7153,    25.00,2,  -999.00,9,  -999.00,9,   2.2571
  74DI19980423,  A16N, 13470,  1,      2,      2,2,19980513, 623, 46.9933, -19.9833, 4521,   4310.4,   2.5790,  34.9130,2,  34.9110,2,    240.2,2,    238.7,2,    44.41,2,    22.20,2,     1.45,2, -999.000,9, -999.000,9,   2367.9,2,   7.7113,    25.00,2,  -999.00,9,  -999.00,9,   2.1920
  74DI19980423,  A16N, 13470,  1,      1,      1,2,19980513, 623, 46.9933, -19.9833, 4521,   4594.7,   2.5760,  34.9090,2,  34.9080,2,    236.1,2,    238.0,2,    44.99,2,    22.05,2,     1.42,2, -999.000,9, -999.000,9,   2367.5,2,   7.7113,    25.00,2,  -999.00,9,  -999.00,9,   2.1547
  74DI19980423,  A16N, 13471,  1,     24,     24,2,19980513,1315, 47.4983, -19.9967, 4545,      2.6,  13.9790,  35.7210,2,  35.7200,2,    268.7,6,    269.2,2,     1.84,2,     3.43,2,     0.17,2, -999.000,9, -999.000,9,   -999.0,9,-999.0000,  -999.00,9,  -999.00,9,  -999.00,9,  13.9786
  74DI19980423,  A16N, 13471,  1,     23,     23,2,19980513,1315, 47.4983, -19.9967, 4545,     15.9,  13.5290,  35.7050,2,  35.6910,2,    269.3,2,    270.8,2,     1.88,2,     4.55,2,     0.21,2, -999.000,9, -999.000,9,   -999.0,9,-999.0000,  -999.00,9,     0.50,2,     0.11,2,  13.5268
  74DI19980423,  A16N, 13471,  1,     22,     22,2,19980513,1315, 47.4983, -19.9967, 4545,     25.3,  13.1230,  35.6800,2,  35.6880,2,    270.5,2,    269.6,2,     2.04,2,     4.93,2,     0.24,2, -999.000,9, -999.000,9,   -999.0,9,-999.0000,  -999.00,9,     0.53,2,     0.15,2,  13.1195
  74DI19980423,  A16N, 13471,  1,     21,     21,2,19980513,1315, 47.4983, -19.9967, 4545,     45.5,  12.6900,  35.6940,2,  35.6940,2,    249.5,2,    254.7,2,     2.92,2,     7.24,2,     0.39,2, -999.000,9, -999.000,9,   -999.0,9,-999.0000,  -999.00,9,     0.47,2,     0.18,2,  12.6838
  74DI19980423,  A16N, 13471,  1,     20,     20,2,19980513,1315, 47.4983, -19.9967, 4545,     85.5,  12.5100,  35.6600,2,  35.6580,2,    252.6,2,    249.6,2,     3.31,2,     8.22,2,     0.47,2, -999.000,9, -999.000,9,   -999.0,9,-999.0000,  -999.00,9,     0.08,2,     0.04,2,  12.4985
  74DI19980423,  A16N, 13471,  1,     19,     19,2,19980513,1315, 47.4983, -19.9967, 4545,    125.6,  12.5350,  35.6890,2,  35.6880,2,    251.5,2,    252.9,2,     2.74,2,     7.24,2,     0.39,2, -999.000,9, -999.000,9,   -999.0,9,-999.0000,  -999.00,9,     0.03,2,     0.01,2,  12.5181
  74DI19980423,  A16N, 13471,  1,     18,     18,2,19980513,1315, 47.4983, -19.9967, 4545,    165.8,  12.4810,  35.6990,2,  35.6980,2,    245.1,2,    252.8,2,     2.58,2,     7.11,2,     0.39,2, -999.000,9, -999.000,9,   -999.0,9,-999.0000,  -999.00,9,     0.02,2,     0.01,2,  12.4587
  74DI19980423,  A16N, 13471,  1,     17,     17,2,19980513,1315, 47.4983, -19.9967, 4545,    246.4,  12.0290,  35.6110,2,  35.6160,2,    252.0,2,    246.2,2,     3.38,2,     8.78,2,     0.51,2, -999.000,9, -999.000,9,   -999.0,9,-999.0000,  -999.00,9,     0.02,2,     0.00,2,  11.9965
  74DI19980423,  A16N, 13471,  1,     16,     16,2,19980513,1315, 47.4983, -19.9967, 4545,    326.8,  11.7640,  35.5930,2,  35.5910,2,    241.7,2,    235.0,2,     4.04,2,    10.53,2,     0.61,2, -999.000,9, -999.000,9,   -999.0,9,-999.0000,  -999.00,9,  -999.00,9,  -999.00,9,  11.7214
  74DI19980423,  A16N, 13471,  1,     15,     15,2,19980513,1315, 47.4983, -19.9967, 4545,    507.9,  10.9120,  35.4890,2,  35.4860,2,    228.7,2,    224.3,2,     5.27,2,    12.94,2,     0.76,2, -999.000,9, -999.000,9,   -999.0,9,-999.0000,  -999.00,9,  -999.00,9,  -999.00,9,  10.8485
  74DI19980423,  A16N, 13471,  1,     14,     14,2,19980513,1315, 47.4983, -19.9967, 4545,    761.1,   8.4350,  35.2400,2,  35.2390,2,    200.0,2,    196.6,2,    10.43,2,    18.46,2,     1.17,2, -999.000,9, -999.000,9,   -999.0,9,-999.0000,  -999.00,9,  -999.00,9,  -999.00,9,   8.3525
  74DI19980423,  A16N, 13471,  1,     13,     13,2,19980513,1315, 47.4983, -19.9967, 4545,    963.4,   6.7310,  35.1910,2,  35.1910,2,    212.5,2,    212.3,2,    11.64,2,    18.76,2,     1.20,2, -999.000,9, -999.000,9,   -999.0,9,-999.0000,  -999.00,9,  -999.00,9,  -999.00,9,   6.6374
  74DI19980423,  A16N, 13471,  1,     12,     12,2,19980513,1315, 47.4983, -19.9967, 4545,   1115.6,   5.3540,  35.0650,2,  35.0650,2,    232.3,2,    232.8,2,    11.78,2,    18.70,2,     1.20,2, -999.000,9, -999.000,9,   -999.0,9,-999.0000,  -999.00,9,  -999.00,9,  -999.00,9,   5.2561
  74DI19980423,  A16N, 13471,  1,     11,     11,2,19980513,1315, 47.4983, -19.9967, 4545,   1419.4,   3.9690,  34.9330,2,  34.9350,2,    261.9,2,    263.9,2,    11.53,2,    17.82,2,     1.14,2, -999.000,9, -999.000,9,   -999.0,9,-999.0000,  -999.00,9,  -999.00,9,  -999.00,9,   3.8565
  74DI19980423,  A16N, 13471,  1,     10,     10,2,19980513,1315, 47.4983, -19.9967, 4545,   1572.7,   3.6950,  34.9080,2,  34.9090,2,    270.5,2,    271.0,2,    11.33,2,    17.60,2,     1.13,2, -999.000,9, -999.000,9,   -999.0,9,-999.0000,  -999.00,9,  -999.00,9,  -999.00,9,   3.5719
  74DI19980423,  A16N, 13471,  1,      9,      9,2,19980513,1315, 47.4983, -19.9967, 4545,   1924.7,   3.3550,  34.8900,2,  34.8910,2,    278.7,2,    279.1,2,    11.52,2,    17.15,2,     1.08,2, -999.000,9, -999.000,9,   -999.0,9,-999.0000,  -999.00,9,  -999.00,9,  -999.00,9,   3.2043
  74DI19980423,  A16N, 13471,  1,      8,      8,2,19980513,1315, 47.4983, -19.9967, 4545,   2127.2,   3.2750,  34.8960,2,  34.8970,2,    277.5,2,    280.0,2,    12.07,2,    17.10,2,     1.09,2, -999.000,9, -999.000,9,   -999.0,9,-999.0000,  -999.00,9,  -999.00,9,  -999.00,9,   3.1065
  74DI19980423,  A16N, 13471,  1,      7,      7,2,19980513,1315, 47.4983, -19.9967, 4545,   2641.3,   3.1240,  34.9490,2,  34.9490,2,    263.7,2,    263.9,2,    19.14,2,    17.73,2,     1.16,2, -999.000,9, -999.000,9,   -999.0,9,-999.0000,  -999.00,9,  -999.00,9,  -999.00,9,   2.9076
  74DI19980423,  A16N, 13471,  1,      6,      6,2,19980513,1315, 47.4983, -19.9967, 4545,   3050.1,   2.8440,  34.9450,2,  34.9460,2,    254.7,2,    251.9,2,    30.83,2,    19.79,2,     1.31,2, -999.000,9, -999.000,9,   -999.0,9,-999.0000,  -999.00,9,  -999.00,9,  -999.00,9,   2.5913
  74DI19980423,  A16N, 13471,  1,      5,      5,2,19980513,1315, 47.4983, -19.9967, 4545,   3461.1,   2.6390,  34.9270,2,  34.9280,2,    245.1,2,    244.6,2,    38.42,2,    21.02,2,     1.40,2, -999.000,9, -999.000,9,   -999.0,9,-999.0000,  -999.00,9,  -999.00,9,  -999.00,9,   2.3472
  74DI19980423,  A16N, 13471,  1,      4,      4,2,19980513,1315, 47.4983, -19.9967, 4545,   3871.4,   2.5590,  34.9150,2,  34.9150,2,    241.7,2,    240.5,2,    42.94,2,    21.86,2,     1.46,2, -999.000,9, -999.000,9,   -999.0,9,-999.0000,  -999.00,9,  -999.00,9,  -999.00,9,   2.2237
  74DI19980423,  A16N, 13471,  1,      3,      3,2,19980513,1315, 47.4983, -19.9967, 4545,   4281.5,   2.5560,  34.9110,2,  34.9100,2,    240.6,2,    239.6,2,    44.82,2,    22.11,2,     1.48,2, -999.000,9, -999.000,9,   -999.0,9,-999.0000,  -999.00,9,  -999.00,9,  -999.00,9,   2.1731
  74DI19980423,  A16N, 13471,  1,      2,      2,2,19980513,1315, 47.4983, -19.9967, 4545,   4455.4,   2.5570,  34.9080,2,  34.9090,2,    240.7,2,   -999.0,9,    45.14,2,    22.20,2,     1.47,2, -999.000,9, -999.000,9,   -999.0,9,-999.0000,  -999.00,9,  -999.00,9,  -999.00,9,   2.1532
  74DI19980423,  A16N, 13471,  1,      1,      1,2,19980513,1315, 47.4983, -19.9967, 4545,   4622.3,   2.5560,  34.9060,2,  34.9060,2,    236.3,2,    240.2,2,    45.03,2,    22.08,2,     1.44,2, -999.000,9, -999.000,9,   -999.0,9,-999.0000,  -999.00,9,  -999.00,9,  -999.00,9,   2.1319