BOTTLE,20221006CCHSIOCBG
EXPOCODE,SECT_ID,STNNBR,CASTNO,SAMPNO,BTLNBR,BTLNBR_FLAG_W,DATE,TIME,LATITUDE,LONGITUDE,DEPTH,CTDPRS,CTDTMP,CTDSAL,CTDSAL_FLAG_W,SALNTY,SALNTY_FLAG_W,CTDOXY,CTDOXY_FLAG_W,OXYGEN,OXYGEN_FLAG_W,SILCAT,SILCAT_FLAG_W,NITRAT,NITRAT_FLAG_W,PHSPHT,PHSPHT_FLAG_W,CFC-11,CFC-11_FLAG_W,CFC-12,CFC-12_FLAG_W,ALKALI,ALKALI_FLAG_W,PH_SWS,PH_TEMP,PH_SWS_FLAG_W,CHLORA,CHLORA_FLAG_W,PPHYTN,PPHYTN_FLAG_W,THETA
,,,,,,,,,,,METERS,DBAR,ITS-90,PSS-78,,PSS-78,,UMOL/KG,,UMOL/KG,,UMOL/KG,,UMOL/KG,,UMOL/KG,,PMOL/KG,,PMOL/KG,,UMOL/KG,,,DEGC,,UG/L,,UG/L,,DEGC
  74DI19980423,  A16N, 13434,  1,     24,     24,2,19980501,1700, 29.0050, -21.3433, 4816,      2.9,  19.7180,  36.8790,2,  36.8780,2,    237.3,6,    228.7,2,     0.57,2,     0.00,2,     0.00,2,    0.984,3,    0.347,3,   2426.3,2,   8.0142,    25.00,2,  -999.00,9,  -999.00,9,  19.7175
  74DI19980423,  A16N, 13434,  1,     23,     23,2,19980501,1700, 29.0050, -21.3433, 4816,     14.4,  19.6820,  36.8910,2,  36.8910,2,    229.8,2,    228.0,2,     0.61,2,     0.00,2,     0.00,2,    2.143,3,    1.234,3,   2421.5,2,   8.0142,    25.00,2,     0.02,2,     0.01,2,  19.6793
  74DI19980423,  A16N, 13434,  1,     22,     22,2,19980501,1700, 29.0050, -21.3433, 4816,     24.5,  19.6640,  36.8970,2,  36.8970,2,    228.5,2,    228.5,2,     0.61,2,     0.00,2,     0.00,2,    1.778,3,    1.399,3,   2421.5,2,   8.0152,    25.00,2,     0.02,2,     0.01,2,  19.6595
  74DI19980423,  A16N, 13434,  1,     21,     21,2,19980501,1700, 29.0050, -21.3433, 4816,     44.9,  19.6520,  36.8980,2,  36.8960,2,    230.6,2,    230.0,2,     0.64,2,     0.00,2,     0.00,2,    2.040,3,    1.416,3,   2420.2,2,   8.0122,    25.00,2,     0.04,2,     0.02,2,  19.6437
  74DI19980423,  A16N, 13434,  1,     20,     20,2,19980501,1700, 29.0050, -21.3433, 4816,     85.4,  19.7340,  36.9370,2,  36.9360,2,    224.3,2,    227.8,2,     0.64,2,     0.00,2,     0.00,2,    2.091,3,    1.215,3,   2420.9,2,   8.0132,    25.00,2,     0.09,2,     0.02,2,  19.7182
  74DI19980423,  A16N, 13434,  1,     19,     19,2,19980501,1700, 29.0050, -21.3433, 4816,    126.7,  19.1330,  36.7820,2,  36.7770,2,    218.2,2,    222.5,2,     0.78,2,     0.28,2,     0.02,2,    1.843,3,    1.410,3,   2411.0,2,   8.0012,    25.00,2,     0.03,2,     0.00,2,  19.1101
  74DI19980423,  A16N, 13434,  1,     18,     18,2,19980501,1700, 29.0050, -21.3433, 4816,    167.3,  17.4340,  36.4690,2,  36.4700,2,    204.7,2,    205.8,2,     1.33,2,     3.69,2,     0.19,2, -999.000,9, -999.000,9,   2392.2,2,   7.9532,    25.00,2,     0.01,2,     0.00,2,  17.4056
  74DI19980423,  A16N, 13434,  1,     17,     17,2,19980501,1700, 29.0050, -21.3433, 4816,    249.5,  16.1380,  36.2590,2,  36.2570,2,    201.2,2,    203.3,2,     2.07,2,     6.27,2,     0.37,2,    2.176,3,    1.192,3,   2380.2,2,   7.9182,    25.00,2,  -999.00,9,  -999.00,9,  16.0978
  74DI19980423,  A16N, 13434,  1,     16,     16,2,19980501,1700, 29.0050, -21.3433, 4816,    329.5,  14.9220,  36.0640,2,  36.0620,2,    204.1,2,    201.5,2,     2.87,2,     8.32,2,     0.51,2, -999.000,9, -999.000,9,   2370.4,2,   7.8892,    25.00,2,  -999.00,9,  -999.00,9,  14.8716
  74DI19980423,  A16N, 13434,  1,     15,     15,2,19980501,1700, 29.0050, -21.3433, 4816,    512.7,  12.5250,  35.7200,2,  35.7170,2,    196.1,2,    195.7,2,     4.94,2,    12.94,2,     0.84,2, -999.000,9, -999.000,9,   2351.6,2,   7.8193,    25.00,2,  -999.00,9,  -999.00,9,  12.4549
  74DI19980423,  A16N, 13434,  1,     14,     14,2,19980501,1700, 29.0050, -21.3433, 4816,    770.0,  10.0970,  35.4960,2,  35.4940,2,    167.3,2,    166.7,2,    10.44,2,    19.67,2,     1.34,2, -999.000,9, -999.000,9,   2342.5,2,   7.7323,    25.00,2,  -999.00,9,  -999.00,9,  10.0040
  74DI19980423,  A16N, 13434,  1,     13,     13,2,19980501,1700, 29.0050, -21.3433, 4816,    975.8,   8.6590,  35.4650,2,  35.4660,2,    165.0,2,    164.8,2,    14.04,2,    21.60,2,     1.51,2, -999.000,9, -999.000,9,   2350.3,2,   7.7123,    25.00,2,  -999.00,9,  -999.00,9,   8.5500
  74DI19980423,  A16N, 13434,  1,     12,     12,2,19980501,1700, 29.0050, -21.3433, 4816,   1129.8,   7.9310,  35.4690,2,  35.4740,2,    178.2,2,    177.5,2,    14.94,2,    21.08,2,     1.48,2, -999.000,9, -999.000,9,   -999.0,9,-999.0000,  -999.00,9,  -999.00,9,  -999.00,9,   7.8096
  74DI19980423,  A16N, 13434,  1,     11,     11,2,19980501,1700, 29.0050, -21.3433, 4816,   1438.2,   6.6120,  35.4000,2,  35.4010,2,    211.5,2,    207.6,2,    14.93,2,    19.24,2,     1.35,2, -999.000,9, -999.000,9,   -999.0,9,-999.0000,  -999.00,9,  -999.00,9,  -999.00,9,   6.4686
  74DI19980423,  A16N, 13434,  1,     10,     10,2,19980501,1700, 29.0050, -21.3433, 4816,   1592.2,   5.7050,  35.2860,2,  35.2860,2,    219.8,2,    220.9,2,    16.41,2,    19.22,2,     1.36,2, -999.000,9, -999.000,9,   -999.0,9,-999.0000,  -999.00,9,  -999.00,9,  -999.00,9,   5.5554
  74DI19980423,  A16N, 13434,  1,      9,      9,2,19980501,1700, 29.0050, -21.3433, 4816,   1952.1,   4.3970,  35.1260,2,  35.1260,2,    231.0,2,    228.1,0,    22.80,2,    20.22,2,     1.47,2, -999.000,9, -999.000,9,   -999.0,9,-999.0000,  -999.00,9,  -999.00,9,  -999.00,9,   4.2279
  74DI19980423,  A16N, 13434,  1,      8,      8,2,19980501,1700, 29.0050, -21.3433, 4816,   2158.8,   3.9010,  35.0640,2,  35.0640,2,    234.5,2,    246.5,2,    25.58,2,    20.34,2,     1.49,2, -999.000,9, -999.000,9,   2340.6,2,   7.7213,    25.00,2,  -999.00,9,  -999.00,9,   3.7189
  74DI19980423,  A16N, 13434,  1,      7,      7,2,19980501,1700, 29.0050, -21.3433, 4816,   2675.3,   3.0760,  34.9750,2,  34.9750,2,    244.1,2,    244.0,2,    31.18,2,    20.43,2,     1.49,2, -999.000,9, -999.000,9,   2346.1,2,   7.7233,    25.00,2,  -999.00,9,  -999.00,9,   2.8570
  74DI19980423,  A16N, 13434,  1,      6,      6,2,19980501,1700, 29.0050, -21.3433, 4816,   3090.4,   2.7330,  34.9400,2,  34.9400,2,    244.0,2,    243.9,2,    36.32,2,    20.93,2,     1.54,2, -999.000,9, -999.000,9,   2351.9,2,   7.7243,    25.00,2,  -999.00,9,  -999.00,9,   2.4786
  74DI19980423,  A16N, 13434,  1,      5,      5,2,19980501,1700, 29.0050, -21.3433, 4816,   3505.6,   2.5330,  34.9170,2,  34.9170,2,    244.8,2,    245.7,2,    40.64,2,    21.34,2,     1.58,2, -999.000,9, -999.000,9,   2356.8,2,   7.7213,    25.00,2,  -999.00,9,  -999.00,9,   2.2391
  74DI19980423,  A16N, 13434,  1,      4,      4,2,19980501,1700, 29.0050, -21.3433, 4816,   3921.2,   2.4340,  34.9030,2,  34.9040,2,    244.9,2,    244.7,2,    43.49,2,    21.75,2,     1.60,2, -999.000,9, -999.000,9,   2353.8,2,   7.7233,    25.00,2,  -999.00,9,  -999.00,9,   2.0965
  74DI19980423,  A16N, 13434,  1,      3,      3,2,19980501,1700, 29.0050, -21.3433, 4816,   4339.0,   2.3900,  34.8940,2,  34.8940,2,    245.3,2,    244.6,2,    45.37,2,    21.98,2,     1.59,2, -999.000,9, -999.000,9,   2355.1,2,   7.7213,    25.00,2,  -999.00,9,  -999.00,9,   2.0053
  74DI19980423,  A16N, 13434,  1,      2,      2,2,19980501,1700, 29.0050, -21.3433, 4816,   4755.6,   2.4110,  34.8910,2,  34.8910,2,    245.2,2,    243.6,2,    46.32,2,    21.89,2,     1.59,2,    0.019,3,    0.010,3,   2355.9,2,   7.7213,    25.00,2,  -999.00,9,  -999.00,9,   1.9751
  74DI19980423,  A16N, 13434,  1,      1,      1,2,19980501,1700, 29.0050, -21.3433, 4816,   4893.5,   2.4270,  34.8910,2,  34.8910,2,    244.8,2,    243.0,2,    45.65,2,    21.75,2,     1.53,2, -999.000,9, -999.000,9,   2361.2,2,   7.7233,    25.00,2,  -999.00,9,  -999.00,9,   1.9734
  74DI19980423,  A16N, 13435,  1,     23,     23,2,19980502,   9, 29.4967, -21.3267, 4853,      2.3,  19.3880,  36.7610,2,  36.7610,2,   -999.0,9,    230.3,2,     1.10,2,     0.06,2,     0.00,2, -999.000,9, -999.000,9,   -999.0,9,-999.0000,  -999.00,9,     0.03,2,     0.00,2,  19.3876
  74DI19980423,  A16N, 13435,  1,     22,     22,2,19980502,   9, 29.4967, -21.3267, 4853,     18.1,  19.3990,  36.7610,2,  36.7610,2,    229.3,2,    230.5,2,     1.00,2,     0.00,2,     0.00,2, -999.000,9, -999.000,9,   -999.0,9,-999.0000,  -999.00,9,     0.03,2,     0.00,2,  19.3957
  74DI19980423,  A16N, 13435,  1,     21,     21,2,19980502,   9, 29.4967, -21.3267, 4853,     31.8,  19.3970,  36.7620,2,  36.7620,2,    229.0,2,    229.5,2,     0.97,2,     0.04,2,     0.00,2, -999.000,9, -999.000,9,   -999.0,9,-999.0000,  -999.00,9,     0.03,2,     0.00,2,  19.3912
  74DI19980423,  A16N, 13435,  1,     20,     20,2,19980502,   9, 29.4967, -21.3267, 4853,     57.0,  19.3870,  36.7570,2,  36.7570,2,    230.1,2,    229.6,2,     1.00,2,     0.00,2,     0.00,2, -999.000,9, -999.000,9,   -999.0,9,-999.0000,  -999.00,9,     0.03,2,     0.00,2,  19.3766
  74DI19980423,  A16N, 13435,  1,     19,     19,2,19980502,   9, 29.4967, -21.3267, 4853,     82.7,  19.3600,  36.7530,2,  36.7530,2,    231.3,2,    230.8,2,     0.99,2,     0.00,2,     0.00,2, -999.000,9, -999.000,9,   -999.0,9,-999.0000,  -999.00,9,     0.03,2,     0.00,2,  19.3449
  74DI19980423,  A16N, 13435,  1,     18,     18,2,19980502,   9, 29.4967, -21.3267, 4853,    108.2,  19.3040,  36.7840,2,  36.7820,2,    228.3,2,    228.4,2,     0.89,2,     0.00,2,     0.00,2, -999.000,9, -999.000,9,   -999.0,9,-999.0000,  -999.00,9,     0.07,2,     0.02,2,  19.2843
  74DI19980423,  A16N, 13435,  1,     17,     17,2,19980502,   9, 29.4967, -21.3267, 4853,    159.0,  18.0010,  36.5570,2,  36.5520,2,    205.9,2,    207.8,2,     1.38,2,     2.61,2,     0.13,2, -999.000,9, -999.000,9,   -999.0,9,-999.0000,  -999.00,9,     0.03,2,     0.01,2,  17.9734
  74DI19980423,  A16N, 13435,  1,     16,     16,2,19980502,   9, 29.4967, -21.3267, 4853,    209.3,  16.6120,  36.3200,2,  36.3140,2,    206.6,2,    205.0,2,     2.21,2,     5.54,2,     0.31,2, -999.000,9, -999.000,9,   -999.0,9,-999.0000,  -999.00,9,  -999.00,9,  -999.00,9,  16.5777
  74DI19980423,  A16N, 13435,  1,     15,     15,2,19980502,   9, 29.4967, -21.3267, 4853,    414.4,  13.5040,  35.8430,2,  35.8410,2,    201.3,2,    201.3,2,     4.40,2,    10.63,2,     0.67,2, -999.000,9, -999.000,9,   -999.0,9,-999.0000,  -999.00,9,  -999.00,9,  -999.00,9,  13.4446
  74DI19980423,  A16N, 13435,  1,     14,     14,2,19980502,   9, 29.4967, -21.3267, 4853,    618.8,  11.1960,  35.5610,2,  35.5620,2,    190.7,2,    188.3,2,     7.15,2,    15.73,2,     1.03,2, -999.000,9, -999.000,9,   -999.0,9,-999.0000,  -999.00,9,  -999.00,9,  -999.00,9,  11.1169
  74DI19980423,  A16N, 13435,  1,     13,     13,2,19980502,   9, 29.4967, -21.3267, 4853,    823.3,   9.6450,  35.4900,2,  35.4900,2,    163.4,2,    161.8,2,    12.09,2,    20.48,2,     1.40,2, -999.000,9, -999.000,9,   -999.0,9,-999.0000,  -999.00,9,  -999.00,9,  -999.00,9,   9.5479
  74DI19980423,  A16N, 13435,  1,     12,     12,2,19980502,   9, 29.4967, -21.3267, 4853,   1027.3,   8.4000,  35.4830,2,  35.4830,2,    170.2,2,    170.6,2,    14.66,2,    21.16,2,     1.48,2, -999.000,9, -999.000,9,   -999.0,9,-999.0000,  -999.00,9,  -999.00,9,  -999.00,9,   8.2868
  74DI19980423,  A16N, 13435,  1,     11,     11,2,19980502,   9, 29.4967, -21.3267, 4853,   1284.3,   7.3560,  35.4790,2,  35.4770,2,    194.1,2,    193.7,2,    15.16,2,    19.80,2,     1.40,2, -999.000,9, -999.000,9,   -999.0,9,-999.0000,  -999.00,9,  -999.00,9,  -999.00,9,   7.2221
  74DI19980423,  A16N, 13435,  1,     10,     10,2,19980502,   9, 29.4967, -21.3267, 4853,   1541.1,   5.8820,  35.3090,2,  35.3090,2,    216.4,2,    217.7,2,    16.37,2,    19.22,2,     1.37,2, -999.000,9, -999.000,9,   -999.0,9,-999.0000,  -999.00,9,  -999.00,9,  -999.00,9,   5.7357
  74DI19980423,  A16N, 13435,  1,      9,      9,2,19980502,   9, 29.4967, -21.3267, 4853,   1792.4,   4.9070,  35.1890,2,  35.1900,2,    223.7,2,    224.2,2,    20.34,2,    19.74,2,     1.41,2, -999.000,9, -999.000,9,   -999.0,9,-999.0000,  -999.00,9,  -999.00,9,  -999.00,9,   4.7469
  74DI19980423,  A16N, 13435,  1,      8,      8,2,19980502,   9, 29.4967, -21.3267, 4853,   2048.6,   4.1410,  35.0950,2,  35.0940,2,    231.3,2,    230.5,2,    24.26,2,    20.12,2,     1.46,2, -999.000,9, -999.000,9,   -999.0,9,-999.0000,  -999.00,9,  -999.00,9,  -999.00,9,   3.9661
  74DI19980423,  A16N, 13435,  1,      7,      7,2,19980502,   9, 29.4967, -21.3267, 4853,   2311.9,   3.5170,  35.0220,2,  35.0220,2,    236.4,2,    240.0,2,    26.75,2,    19.91,2,     1.44,2, -999.000,9, -999.000,9,   -999.0,9,-999.0000,  -999.00,9,  -999.00,9,  -999.00,9,   3.3262
  74DI19980423,  A16N, 13435,  1,      6,      6,2,19980502,   9, 29.4967, -21.3267, 4853,   2571.7,   3.1510,  34.9820,2,  34.9820,2,    243.2,2,    243.1,2,    30.02,2,    20.13,2,     1.47,2, -999.000,9, -999.000,9,   -999.0,9,-999.0000,  -999.00,9,  -999.00,9,  -999.00,9,   2.9409
  74DI19980423,  A16N, 13435,  1,      5,      5,2,19980502,   9, 29.4967, -21.3267, 4853,   3091.5,   2.6760,  34.9340,2,  34.9340,2,    243.0,2,    244.4,2,    37.09,2,    20.79,2,     1.52,2, -999.000,9, -999.000,9,   -999.0,9,-999.0000,  -999.00,9,  -999.00,9,  -999.00,9,   2.4227
  74DI19980423,  A16N, 13435,  1,      4,      4,2,19980502,   9, 29.4967, -21.3267, 4853,   3610.2,   2.4770,  34.9100,2,  34.9110,2,    242.8,2,    243.3,2,    42.23,2,    21.57,2,     1.58,2, -999.000,9, -999.000,9,   -999.0,9,-999.0000,  -999.00,9,  -999.00,9,  -999.00,9,   2.1731
  74DI19980423,  A16N, 13435,  1,      3,      3,2,19980502,   9, 29.4967, -21.3267, 4853,   4129.6,   2.3820,  34.8950,2,  34.8950,2,    244.0,2,    244.4,2,    45.16,2,    21.82,2,     1.58,2, -999.000,9, -999.000,9,   -999.0,9,-999.0000,  -999.00,9,  -999.00,9,  -999.00,9,   2.0221
  74DI19980423,  A16N, 13435,  1,      2,      2,2,19980502,   9, 29.4967, -21.3267, 4853,   4652.3,   2.3920,  34.8900,2,  34.8890,2,    244.8,2,    244.4,2,    46.49,2,    21.94,2,     1.58,2, -999.000,9, -999.000,9,   -999.0,9,-999.0000,  -999.00,9,  -999.00,9,  -999.00,9,   1.9695
  74DI19980423,  A16N, 13435,  1,      1,      1,2,19980502,   9, 29.4967, -21.3267, 4853,   4930.3,   2.4170,  34.8890,2,  34.8880,2,    246.0,2,    243.9,2,    46.04,2,    21.66,2,     1.53,2, -999.000,9, -999.000,9,   -999.0,9,-999.0000,  -999.00,9,  -999.00,9,  -999.00,9,   1.9591