BOTTLE,20221006CCHSIOCBG
EXPOCODE,SECT_ID,STNNBR,CASTNO,SAMPNO,BTLNBR,BTLNBR_FLAG_W,DATE,TIME,LATITUDE,LONGITUDE,DEPTH,CTDPRS,CTDTMP,CTDSAL,CTDSAL_FLAG_W,SALNTY,SALNTY_FLAG_W,CTDOXY,CTDOXY_FLAG_W,OXYGEN,OXYGEN_FLAG_W,SILCAT,SILCAT_FLAG_W,NITRAT,NITRAT_FLAG_W,PHSPHT,PHSPHT_FLAG_W,CFC-11,CFC-11_FLAG_W,CFC-12,CFC-12_FLAG_W,ALKALI,ALKALI_FLAG_W,PH_SWS,PH_TEMP,PH_SWS_FLAG_W,CHLORA,CHLORA_FLAG_W,PPHYTN,PPHYTN_FLAG_W,THETA
,,,,,,,,,,,METERS,DBAR,ITS-90,PSS-78,,PSS-78,,UMOL/KG,,UMOL/KG,,UMOL/KG,,UMOL/KG,,UMOL/KG,,PMOL/KG,,PMOL/KG,,UMOL/KG,,,DEGC,,UG/L,,UG/L,,DEGC
  74DI19980423,  A16N, 13432,  1,     22,     22,2,19980501, 227, 28.0033, -21.3300, 4758,      2.7,  20.4070,  37.1420,2,  37.1410,2,    227.5,2,    224.4,2,     0.56,2,     0.00,2,     0.00,2,    2.029,3,    1.282,3,   2441.7,6,   8.0192,    25.00,2,     0.04,2,     0.01,2,  20.4065
  74DI19980423,  A16N, 13432,  1,     21,     21,2,19980501, 227, 28.0033, -21.3300, 4758,     16.1,  20.4130,  37.1420,2,  37.1420,2,    221.8,2,    225.5,2,     0.87,2,     0.00,2,     0.00,2,    1.605,3,    1.237,3,   2440.0,2,   8.0172,    25.00,2,     0.04,2,     0.00,2,  20.4100
  74DI19980423,  A16N, 13432,  1,     20,     20,3,19980501, 227, 28.0033, -21.3300, 4758,     29.8,  20.4190,  37.1440,2,  37.1440,2,    218.7,2,    224.7,2,     0.89,2,     0.00,2,     0.00,2,    2.498,3,    1.294,3,   2445.7,2,   8.0182,    25.00,2,     0.05,2,     0.01,2,  20.4134
  74DI19980423,  A16N, 13432,  1,     19,     19,2,19980501, 227, 28.0033, -21.3300, 4758,     54.6,  20.4370,  37.1500,2,  37.1480,2,    224.1,2,    224.6,2,     0.92,2,     0.00,2,     0.00,2,    2.004,3,    1.236,3,   2441.2,2,   8.0192,    25.00,2,     0.05,2,     0.00,2,  20.4267
  74DI19980423,  A16N, 13432,  1,     18,     18,2,19980501, 227, 28.0033, -21.3300, 4758,     81.1,  20.4400,  37.1530,2,  37.1520,2,    220.5,2,    224.7,2,     0.78,2,     0.00,2,     0.00,2,    2.003,3,    1.155,3,   2441.5,2,   8.0172,    25.00,2,     0.06,2,     0.01,2,  20.4246
  74DI19980423,  A16N, 13432,  1,     17,     17,2,19980501, 227, 28.0033, -21.3300, 4758,    157.3,  18.2580,  36.6600,2,  36.6450,2,    213.1,2,    208.3,2,     1.13,2,     1.92,2,     0.09,2,    2.337,3,    1.370,3,   2408.7,2,   7.9672,    25.00,2,     0.03,2,     0.00,2,  18.2304
  74DI19980423,  A16N, 13432,  1,     16,     16,2,19980501, 227, 28.0033, -21.3300, 4758,    208.3,  16.9380,  36.4240,2,  36.4230,2,    205.6,2,    202.9,2,     1.66,2,     4.72,2,     0.27,2,    1.255,3,    0.641,3,   2394.0,2,   7.9492,    25.00,2,  -999.00,9,  -999.00,9,  16.9033
  74DI19980423,  A16N, 13432,  1,     15,     15,2,19980501, 227, 28.0033, -21.3300, 4758,    412.4,  13.5620,  35.8820,2,  35.8810,2,    198.1,2,    196.5,2,     4.05,2,    10.93,2,     0.69,2,    2.555,2,    1.306,2,   2361.8,2,   7.8493,    25.00,2,  -999.00,9,  -999.00,9,  13.5027
  74DI19980423,  A16N, 13432,  1,     14,     14,2,19980501, 227, 28.0033, -21.3300, 4758,    617.1,  11.2790,  35.5720,2,  35.5710,2,    186.1,2,    181.6,2,     7.55,2,    16.75,2,     1.10,2,    0.791,3,    0.404,3,   2349.1,2,   7.7703,    25.00,2,  -999.00,9,  -999.00,9,  11.1997
  74DI19980423,  A16N, 13432,  1,     13,     13,2,19980501, 227, 28.0033, -21.3300, 4758,    820.7,   9.3460,  35.4300,2,  35.4300,2,    157.1,2,    157.3,2,    13.24,2,    22.23,2,     1.53,2,    0.554,2,    0.283,2,   2352.8,2,   7.7083,    25.00,2,  -999.00,9,  -999.00,9,   9.2511
  74DI19980423,  A16N, 13432,  1,     12,     12,2,19980501, 227, 28.0033, -21.3300, 4758,   1026.9,   7.9510,  35.3580,2,  35.3580,2,    161.4,2,    162.0,2,    16.38,2,    23.47,2,     1.64,2,    0.313,2,    0.161,2,   -999.0,9,-999.0000,  -999.00,9,  -999.00,9,  -999.00,9,   7.8414
  74DI19980423,  A16N, 13432,  1,     11,     11,2,19980501, 227, 28.0033, -21.3300, 4758,   1281.0,   7.1510,  35.4150,2,  35.4140,2,    189.4,2,    190.7,2,    15.92,2,    20.86,2,     1.46,2,    0.399,2,    0.203,2,   -999.0,9,-999.0000,  -999.00,9,  -999.00,9,  -999.00,9,   7.0195
  74DI19980423,  A16N, 13432,  1,     10,     10,2,19980501, 227, 28.0033, -21.3300, 4758,   1539.2,   5.7810,  35.2570,2,  35.2580,2,    201.5,2,    202.5,2,    19.78,2,    21.40,2,     1.53,2,    0.409,3,    0.209,3,   -999.0,9,-999.0000,  -999.00,9,  -999.00,9,  -999.00,9,   5.6361
  74DI19980423,  A16N, 13432,  1,      9,      9,2,19980501, 227, 28.0033, -21.3300, 4758,   1795.7,   4.8150,  35.1610,2,  35.1610,2,    218.1,2,    218.3,2,    22.39,2,    20.89,2,     1.53,2,    0.135,2,    0.069,2,   -999.0,9,-999.0000,  -999.00,9,  -999.00,9,  -999.00,9,   4.6558
  74DI19980423,  A16N, 13432,  1,      8,      8,2,19980501, 227, 28.0033, -21.3300, 4758,   2054.1,   4.1440,  35.0870,2,  35.0860,2,    230.7,2,    229.5,2,    24.20,2,    20.60,2,     1.50,2,    0.021,2,    0.010,2,   2334.3,2,   7.7283,    25.00,2,  -999.00,9,  -999.00,9,   3.9686
  74DI19980423,  A16N, 13432,  1,      7,      7,2,19980501, 227, 28.0033, -21.3300, 4758,   2313.0,   3.6260,  35.0300,2,  35.0300,2,    242.0,2,    242.3,2,    25.14,2,    20.06,2,     1.45,2,    0.019,2,    0.010,2,   2343.5,2,   7.7273,    25.00,2,  -999.00,9,  -999.00,9,   3.4332
  74DI19980423,  A16N, 13432,  1,      6,      6,2,19980501, 227, 28.0033, -21.3300, 4758,   2572.3,   3.2060,  34.9860,2,  34.9860,2,    243.9,2,    245.2,2,    28.63,2,    20.17,2,     1.47,2,    0.019,2,    0.010,2,   -999.0,9,-999.0000,  -999.00,9,  -999.00,9,  -999.00,9,   2.9948
  74DI19980423,  A16N, 13432,  1,      5,      5,2,19980501, 227, 28.0033, -21.3300, 4758,   3089.0,   2.6850,  34.9350,2,  34.9350,2,    242.8,2,    245.3,2,    37.30,2,    21.10,2,     1.55,2,    0.019,2,    0.010,2,   2355.0,2,   7.7233,    25.00,2,  -999.00,9,  -999.00,9,   2.4318
  74DI19980423,  A16N, 13432,  1,      4,      4,2,19980501, 227, 28.0033, -21.3300, 4758,   3609.0,   2.4730,  34.9100,2,  34.9100,2,    243.7,2,    244.8,2,    42.57,2,    21.79,2,     1.61,2,    0.019,2,    0.010,2,   -999.0,9,-999.0000,  -999.00,9,  -999.00,9,  -999.00,9,   2.1693
  74DI19980423,  A16N, 13432,  1,      3,      3,2,19980501, 227, 28.0033, -21.3300, 4758,   4127.8,   2.3730,  34.8950,2,  34.8940,2,    245.7,2,    245.2,2,    45.87,2,    22.14,2,     1.61,2,    0.019,2,    0.010,2,   2361.2,2,   7.7193,    25.00,2,  -999.00,9,  -999.00,9,   2.0136
  74DI19980423,  A16N, 13432,  1,      2,      2,2,19980501, 227, 28.0033, -21.3300, 4758,   4650.5,   2.3960,  34.8900,2,  34.8890,2,    246.3,2,    244.8,2,    47.03,2,    22.12,2,     1.59,2,    0.019,2,    0.010,2,   2364.4,2,   7.7233,    25.00,2,  -999.00,9,  -999.00,9,   1.9736
  74DI19980423,  A16N, 13432,  1,      1,      1,2,19980501, 227, 28.0033, -21.3300, 4758,   4831.4,   2.4180,  34.8910,2,  34.8900,2,    247.0,2,    245.4,2,    46.40,2,    22.11,2,     1.52,2,    0.019,2,    0.010,2,   2363.4,2,   7.7213,    25.00,2,  -999.00,9,  -999.00,9,   1.9725
  74DI19980423,  A16N, 13433,  1,     23,     23,2,19980501, 944, 28.5000, -21.3383, 4823,      4.1,  19.9950,  37.0310,2,  37.0310,2,    223.0,6,    225.5,2,     0.84,2,     0.05,2,     0.02,2, -999.000,9, -999.000,9,   -999.0,9,-999.0000,  -999.00,9,     0.05,2,     0.01,2,  19.9942
  74DI19980423,  A16N, 13433,  1,     22,     22,2,19980501, 944, 28.5000, -21.3383, 4823,     15.0,  19.9900,  37.0300,2,  37.0300,2,    226.8,2,    227.2,2,     0.79,2,     0.00,2,     0.03,2, -999.000,9, -999.000,9,   -999.0,9,-999.0000,  -999.00,9,     0.05,2,     0.01,2,  19.9872
  74DI19980423,  A16N, 13433,  1,     21,     21,2,19980501, 944, 28.5000, -21.3383, 4823,     22.9,  19.9870,  37.0300,2,  37.0300,2,    225.8,2,    225.0,2,     0.70,2,     0.03,2,     0.04,2, -999.000,9, -999.000,9,   -999.0,9,-999.0000,  -999.00,9,     0.05,2,     0.03,2,  19.9827
  74DI19980423,  A16N, 13433,  1,     20,     20,2,19980501, 944, 28.5000, -21.3383, 4823,     37.7,  19.9860,  37.0290,2,  37.0290,2,    227.1,2,    226.3,2,     0.63,2,     0.00,2,     0.05,2, -999.000,9, -999.000,9,   -999.0,9,-999.0000,  -999.00,9,     0.05,2,     0.03,2,  19.9790
  74DI19980423,  A16N, 13433,  1,     19,     19,2,19980501, 944, 28.5000, -21.3383, 4823,     68.3,  19.9820,  37.0300,2,  37.0300,2,    224.7,2,    225.7,2,     0.61,2,     0.00,2,     0.06,2, -999.000,9, -999.000,9,   -999.0,9,-999.0000,  -999.00,9,     0.05,2,     0.00,2,  19.9693
  74DI19980423,  A16N, 13433,  1,     18,     18,2,19980501, 944, 28.5000, -21.3383, 4823,     97.8,  19.9830,  37.0300,2,  37.0290,2,    225.2,2,    224.7,2,     0.62,2,     0.00,2,     0.06,2, -999.000,9, -999.000,9,   -999.0,9,-999.0000,  -999.00,9,     0.06,2,     0.01,2,  19.9647
  74DI19980423,  A16N, 13433,  1,     17,     17,2,19980501, 944, 28.5000, -21.3383, 4823,    117.2,  19.9760,  37.0280,2,  37.0270,2,    227.4,2,    225.5,2,     0.70,2,     0.00,2,     0.08,2, -999.000,9, -999.000,9,   -999.0,9,-999.0000,  -999.00,9,     0.05,2,     0.01,2,  19.9541
  74DI19980423,  A16N, 13433,  1,     16,     16,2,19980501, 944, 28.5000, -21.3383, 4823,    147.2,  19.4800,  36.9000,2,  36.8900,2,    216.3,2,    219.1,2,     0.66,2,     0.41,2,     0.12,2, -999.000,9, -999.000,9,   -999.0,9,-999.0000,  -999.00,9,  -999.00,9,  -999.00,9,  19.4530
  74DI19980423,  A16N, 13433,  1,     15,     15,2,19980501, 944, 28.5000, -21.3383, 4823,    189.4,  17.1870,  36.4450,2,  36.4390,2,    204.6,2,    204.4,2,     1.34,2,     4.05,2,     0.32,2, -999.000,9, -999.000,9,   -999.0,9,-999.0000,  -999.00,9,  -999.00,9,  -999.00,9,  17.1552
  74DI19980423,  A16N, 13433,  1,     14,     14,2,19980501, 944, 28.5000, -21.3383, 4823,    232.2,  16.4030,  36.3060,2,  36.2980,2,    203.0,2,    202.6,2,     1.90,2,     5.86,2,     0.45,2, -999.000,9, -999.000,9,   -999.0,9,-999.0000,  -999.00,9,  -999.00,9,  -999.00,9,  16.3652
  74DI19980423,  A16N, 13433,  1,     13,     13,2,19980501, 944, 28.5000, -21.3383, 4823,    364.6,  14.0830,  35.9550,2,  35.9560,2,    198.6,2,    198.2,2,     3.43,2,     9.84,2,     0.73,2, -999.000,9, -999.000,9,   -999.0,9,-999.0000,  -999.00,9,  -999.00,9,  -999.00,9,  14.0293
  74DI19980423,  A16N, 13433,  1,     12,     12,2,19980501, 944, 28.5000, -21.3383, 4823,    517.8,  12.2090,  35.6900,2,  35.6830,2,    191.2,2,    190.3,2,     5.46,2,    14.22,2,     1.03,2, -999.000,9, -999.000,9,   -999.0,9,-999.0000,  -999.00,9,  -999.00,9,  -999.00,9,  12.1393
  74DI19980423,  A16N, 13433,  1,     11,     11,2,19980501, 944, 28.5000, -21.3383, 4823,    722.9,  10.2280,  35.4980,2,  35.4980,2,    174.6,2,    169.5,2,     9.92,2,    19.51,2,     1.43,2, -999.000,9, -999.000,9,   -999.0,9,-999.0000,  -999.00,9,  -999.00,9,  -999.00,9,  10.1402
  74DI19980423,  A16N, 13433,  1,     10,     10,2,19980501, 944, 28.5000, -21.3383, 4823,    927.8,   8.4650,  35.3840,2,  35.3830,2,    157.9,2,    157.3,2,    15.05,2,    23.32,2,     1.73,2, -999.000,9, -999.000,9,   -999.0,9,-999.0000,  -999.00,9,  -999.00,9,  -999.00,9,   8.3631
  74DI19980423,  A16N, 13433,  1,      9,      9,2,19980501, 944, 28.5000, -21.3383, 4823,   1234.5,   7.1770,  35.3920,2,  35.3920,2,    181.4,2,    182.7,2,    16.55,2,    21.92,2,     1.64,2, -999.000,9, -999.000,9,   -999.0,9,-999.0000,  -999.00,9,  -999.00,9,  -999.00,9,   7.0505
  74DI19980423,  A16N, 13433,  1,      8,      8,2,19980501, 944, 28.5000, -21.3383, 4823,   1639.2,   5.4560,  35.2550,2,  35.2550,2,    220.1,2,    222.5,2,    17.10,2,    19.74,2,     1.47,2, -999.000,9, -999.000,9,   -999.0,9,-999.0000,  -999.00,9,  -999.00,9,  -999.00,9,   5.3045
  74DI19980423,  A16N, 13433,  1,      7,      7,2,19980501, 944, 28.5000, -21.3383, 4823,   1840.0,   4.7940,  35.1750,2,  35.1740,2,    232.0,2,    230.4,2,    19.13,2,    19.87,2,     1.50,2, -999.000,9, -999.000,9,   -999.0,9,-999.0000,  -999.00,9,  -999.00,9,  -999.00,9,   4.6306
  74DI19980423,  A16N, 13433,  1,      6,      6,2,19980501, 944, 28.5000, -21.3383, 4823,   2255.6,   3.6220,  35.0320,2,  35.0330,2,    239.6,2,    240.2,2,    25.46,2,    20.35,2,     1.55,2, -999.000,9, -999.000,9,   -999.0,9,-999.0000,  -999.00,9,  -999.00,9,  -999.00,9,   3.4349
  74DI19980423,  A16N, 13433,  1,      5,      5,2,19980501, 944, 28.5000, -21.3383, 4823,   2824.0,   2.8680,  34.9540,2,  34.9540,2,    243.6,2,    244.8,2,    33.56,2,    20.79,2,     1.51,2, -999.000,9, -999.000,9,   -999.0,9,-999.0000,  -999.00,9,  -999.00,9,  -999.00,9,   2.6381
  74DI19980423,  A16N, 13433,  1,      4,      4,2,19980501, 944, 28.5000, -21.3383, 4823,   3341.0,   2.5610,  34.9220,2,  34.9220,2,    242.1,2,    243.5,2,    40.21,2,    21.57,2,     1.57,2, -999.000,9, -999.000,9,   -999.0,9,-999.0000,  -999.00,9,  -999.00,9,  -999.00,9,   2.2841
  74DI19980423,  A16N, 13433,  1,      3,      3,3,19980501, 944, 28.5000, -21.3383, 4823,   3867.9,   2.4140,  34.9020,2,  34.9020,2,    243.0,2,    243.7,2,    44.12,2,    22.00,2,     1.63,2, -999.000,9, -999.000,9,   -999.0,9,-999.0000,  -999.00,9,  -999.00,9,  -999.00,9,   2.0831
  74DI19980423,  A16N, 13433,  1,      2,      2,2,19980501, 944, 28.5000, -21.3383, 4823,   4390.9,   2.3770,  34.8930,2,  34.8920,2,    245.8,2,    244.2,2,    46.35,2,    22.25,2,     1.60,2, -999.000,9, -999.000,9,   -999.0,9,-999.0000,  -999.00,9,  -999.00,9,  -999.00,9,   1.9865
  74DI19980423,  A16N, 13433,  1,      1,      1,2,19980501, 944, 28.5000, -21.3383, 4823,   4901.0,   2.4180,  34.8900,2,  34.8890,2,    247.1,2,    244.1,2,    46.27,2,    22.02,2,     1.56,2, -999.000,9, -999.000,9,   -999.0,9,-999.0000,  -999.00,9,  -999.00,9,  -999.00,9,   1.9638