BOTTLE,20221006CCHSIOCBG
EXPOCODE,SECT_ID,STNNBR,CASTNO,SAMPNO,BTLNBR,BTLNBR_FLAG_W,DATE,TIME,LATITUDE,LONGITUDE,DEPTH,CTDPRS,CTDTMP,CTDSAL,CTDSAL_FLAG_W,SALNTY,SALNTY_FLAG_W,CTDOXY,CTDOXY_FLAG_W,OXYGEN,OXYGEN_FLAG_W,SILCAT,SILCAT_FLAG_W,NITRAT,NITRAT_FLAG_W,PHSPHT,PHSPHT_FLAG_W,CFC-11,CFC-11_FLAG_W,CFC-12,CFC-12_FLAG_W,ALKALI,ALKALI_FLAG_W,PH_SWS,PH_TEMP,PH_SWS_FLAG_W,CHLORA,CHLORA_FLAG_W,PPHYTN,PPHYTN_FLAG_W,THETA
,,,,,,,,,,,METERS,DBAR,ITS-90,PSS-78,,PSS-78,,UMOL/KG,,UMOL/KG,,UMOL/KG,,UMOL/KG,,UMOL/KG,,PMOL/KG,,PMOL/KG,,UMOL/KG,,,DEGC,,UG/L,,UG/L,,DEGC
  74DI19980423,  A16N, 13426,  1,     23,     23,2,19980429, 712, 24.9950, -21.3383, 4528,      4.6,  21.7730,  37.1170,2,  37.1180,2,    218.9,2,    218.6,2,     0.50,2,     0.14,2,     0.01,2,    2.088,3,    1.434,3,   2437.0,6,   8.0202,    25.00,2,     0.04,2,     0.01,2,  21.7721
  74DI19980423,  A16N, 13426,  1,     22,     22,2,19980429, 712, 24.9950, -21.3383, 4528,     10.2,  21.7730,  37.1170,2,  37.1180,2,    221.1,2,    218.4,2,     0.47,2,     0.00,2,     0.00,2,    1.939,3,    1.394,3,   2436.1,2,   8.0202,    25.00,2,     0.04,2,     0.01,2,  21.7710
  74DI19980423,  A16N, 13426,  1,     21,     21,2,19980429, 712, 24.9950, -21.3383, 4528,     17.6,  21.7740,  37.1170,2,  37.1170,2,    216.0,2,    218.5,2,     0.50,2,     0.00,2,     0.00,2,    1.932,3,    1.332,3,   2436.9,2,   8.0232,    25.00,2,     0.04,2,     0.01,2,  21.7705
  74DI19980423,  A16N, 13426,  1,     20,     20,2,19980429, 712, 24.9950, -21.3383, 4528,     33.4,  21.7740,  37.1170,2,  37.1170,2,    220.7,2,    218.2,2,     0.51,2,     0.01,2,     0.01,2,    1.982,3,    1.294,3,   2438.1,2,   8.0222,    25.00,2,     0.03,2,     0.02,2,  21.7674
  74DI19980423,  A16N, 13426,  1,     19,     19,2,19980429, 712, 24.9950, -21.3383, 4528,     64.2,  21.5190,  37.0910,2,  37.0920,2,    222.6,2,    220.1,2,     0.51,2,     0.00,2,     0.00,2,    1.999,3,    1.314,3,   2435.1,2,   8.0222,    25.00,2,     0.07,2,     0.01,2,  21.5064
  74DI19980423,  A16N, 13426,  1,     18,     18,2,19980429, 712, 24.9950, -21.3383, 4528,     94.1,  21.2090,  37.0810,2,  37.0810,2,    211.1,2,    210.0,2,     0.69,2,     0.78,2,     0.07,2,    2.016,3,    1.375,3,   2433.4,2,   8.0032,    25.00,2,     0.09,2,     0.02,2,  21.1907
  74DI19980423,  A16N, 13426,  1,     17,     17,2,19980429, 712, 24.9950, -21.3383, 4528,    114.7,  20.7260,  36.9950,2,  37.0000,2,    201.1,2,    202.1,2,     0.95,2,     2.08,2,     0.15,2,    2.044,3,    1.328,3,   2429.0,2,   7.9822,    25.00,2,     0.03,2,     0.01,2,  20.7040
  74DI19980423,  A16N, 13426,  1,     16,     16,2,19980429, 712, 24.9950, -21.3383, 4528,    144.3,  19.0180,  36.6580,2,  36.6570,2,    174.6,2,    178.2,2,     1.02,2,     2.05,2,     0.16,2,    2.617,2,    1.335,2,   2402.9,2,   7.9142,    25.00,2,  -999.00,9,  -999.00,9,  18.9920
  74DI19980423,  A16N, 13426,  1,     15,     15,2,19980429, 712, 24.9950, -21.3383, 4528,    186.2,  17.4720,  36.4500,2,  36.4510,2,    163.2,2,    161.3,2,     2.87,2,     8.98,2,     0.57,2,    2.674,2,    1.260,2,   2389.9,2,   7.8732,    25.00,2,  -999.00,9,  -999.00,9,  17.4404
  74DI19980423,  A16N, 13426,  1,     14,     14,2,19980429, 712, 24.9950, -21.3383, 4528,    226.9,  16.5000,  36.2920,2,  36.2990,2,    141.3,2,    155.2,2,     3.56,2,    10.92,2,     0.69,2,    2.634,2,    1.202,2,   2379.5,2,   7.8492,    25.00,2,  -999.00,9,  -999.00,9,  16.4629
  74DI19980423,  A16N, 13426,  1,     13,     13,2,19980429, 712, 24.9950, -21.3383, 4528,    358.9,  14.3640,  35.9910,2,  35.9920,2,    171.6,2,    165.6,2,     4.65,2,    12.99,2,     0.84,2,    2.637,2,    1.170,2,   2365.2,2,   7.8162,    25.00,2,  -999.00,9,  -999.00,9,  14.3105
  74DI19980423,  A16N, 13426,  1,     12,     12,2,19980429, 712, 24.9950, -21.3383, 4528,    512.8,  11.5370,  35.5410,2,  35.5400,2,    117.6,2,    113.3,2,    10.55,2,    23.50,2,     1.58,2,    1.162,3,    0.586,3,   -999.0,9,-999.0000,  -999.00,9,  -999.00,9,  -999.00,9,  11.4705
  74DI19980423,  A16N, 13426,  1,     11,     11,2,19980429, 712, 24.9950, -21.3383, 4528,    717.1,   9.1330,  35.2320,2,  35.2250,2,    107.3,2,    101.8,2,    16.39,2,    28.95,2,     2.02,2, -999.000,9, -999.000,9,   -999.0,9,-999.0000,  -999.00,9,  -999.00,9,  -999.00,9,   9.0518
  74DI19980423,  A16N, 13426,  1,     10,     10,2,19980429, 712, 24.9950, -21.3383, 4528,    922.5,   7.2550,  35.0610,2,  35.0600,2,    122.0,2,    123.2,2,    20.77,2,    29.60,2,     2.12,2, -999.000,9, -999.000,9,   2331.9,2,   7.5943,    25.00,2,  -999.00,9,  -999.00,9,   7.1623
  74DI19980423,  A16N, 13426,  1,      9,      9,2,19980429, 712, 24.9950, -21.3383, 4528,   1230.6,   6.4300,  35.1750,2,  35.1810,2,    161.3,2,    167.0,2,    19.90,2,    24.96,2,     1.79,2,    0.058,2,    0.025,2,   2344.6,2,   7.6583,    25.00,2,  -999.00,9,  -999.00,9,   6.3110
  74DI19980423,  A16N, 13426,  1,      8,      8,2,19980429, 712, 24.9950, -21.3383, 4528,   1634.0,   5.1040,  35.1440,2,  35.1090,2,    203.1,2,    201.4,2,    22.12,2,    22.35,2,     1.62,2,    0.044,2,    0.019,2,   2340.1,2,   7.6883,    25.00,2,  -999.00,9,  -999.00,9,   4.9577
  74DI19980423,  A16N, 13426,  1,      7,      7,2,19980429, 712, 24.9950, -21.3383, 4528,   1831.0,   4.6020,  35.1090,2,  35.1090,2,    215.4,2,    213.3,2,    23.57,2,    21.78,2,     1.58,2,    0.019,2,    0.010,2,   2341.0,2,   7.6983,    25.00,2,  -999.00,9,  -999.00,9,   4.4423
  74DI19980423,  A16N, 13426,  1,      6,      6,2,19980429, 712, 24.9950, -21.3383, 4528,   2247.4,   3.7200,  35.0290,2,  35.0290,2,    225.4,2,    226.5,2,    28.68,2,    21.42,2,     1.55,2,    0.019,2,    0.010,2,   -999.0,9,-999.0000,  -999.00,9,  -999.00,9,  -999.00,9,   3.5322
  74DI19980423,  A16N, 13426,  1,      5,      5,2,19980429, 712, 24.9950, -21.3383, 4528,   2812.0,   3.0540,  34.9680,2,  34.9680,2,    239.0,2,    240.4,2,    32.62,2,    20.79,2,     1.52,2,    0.019,2,    0.010,2,   2349.1,2,   7.7133,    25.00,2,  -999.00,9,  -999.00,9,   2.8215
  74DI19980423,  A16N, 13426,  1,      4,      4,2,19980429, 712, 24.9950, -21.3383, 4528,   3335.4,   2.6310,  34.9260,2,  34.9260,2,    237.6,2,    239.2,2,    40.58,2,    21.67,2,     1.59,2,    0.019,2,    0.010,2,   2358.6,2,   7.7093,    25.00,2,  -999.00,9,  -999.00,9,   2.3530
  74DI19980423,  A16N, 13426,  1,      3,      3,3,19980429, 712, 24.9950, -21.3383, 4528,   3864.1,   2.4470,  34.9050,2,  34.9040,2,    243.0,2,    242.3,0,    44.33,2,    21.94,2,     1.59,2,    0.019,2,    0.010,2,   2357.8,2,   7.7113,    25.00,2,  -999.00,9,  -999.00,9,   2.1156
  74DI19980423,  A16N, 13426,  1,      2,      2,2,19980429, 712, 24.9950, -21.3383, 4528,   4386.9,   2.3890,  34.8930,2,  34.8920,2,    244.3,2,    243.9,2,    46.73,2,    22.13,2,     1.59,2,    0.019,2,    0.010,2,   2363.4,2,   7.7183,    25.00,2,  -999.00,9,  -999.00,9,   1.9986
  74DI19980423,  A16N, 13426,  1,      1,      1,2,19980429, 712, 24.9950, -21.3383, 4528,   4594.5,   2.4050,  34.8920,2,  34.8920,2,    244.1,2,    243.8,2,    46.13,2,    21.94,2,     1.53,2,    0.019,2,    0.010,2,   2363.2,2,   7.7103,    25.00,2,  -999.00,9,  -999.00,9,   1.9891
  74DI19980423,  A16N, 13427,  1,     23,     23,2,19980429,1439, 25.5067, -21.3267, 4567,      3.4,  21.9230,  37.1870,2,  37.1870,2,    223.4,2,    219.1,2,     0.54,2,     0.00,2,     0.04,2, -999.000,9, -999.000,9,   -999.0,9,-999.0000,  -999.00,9,     0.03,2,     0.02,2,  21.9223
  74DI19980423,  A16N, 13427,  1,     22,     22,2,19980429,1439, 25.5067, -21.3267, 4567,     14.2,  21.8910,  37.1860,2,  37.1850,2,    211.1,2,    220.6,2,     0.54,2,     0.00,2,     0.04,2, -999.000,9, -999.000,9,   -999.0,9,-999.0000,  -999.00,9,     0.03,2,     0.00,2,  21.8882
  74DI19980423,  A16N, 13427,  1,     21,     21,2,19980429,1439, 25.5067, -21.3267, 4567,     24.8,  21.8430,  37.1830,2,  37.1830,2,    209.9,2,    218.8,2,     0.51,2,     0.12,2,     0.05,2, -999.000,9, -999.000,9,   -999.0,9,-999.0000,  -999.00,9,     0.02,2,     0.00,2,  21.8381
  74DI19980423,  A16N, 13427,  1,     20,     20,2,19980429,1439, 25.5067, -21.3267, 4567,     44.5,  21.7210,  37.2070,2,  37.2070,2,    216.8,2,    218.7,2,     0.54,2,     0.13,2,     0.04,2, -999.000,9, -999.000,9,   -999.0,9,-999.0000,  -999.00,9,     0.09,2,     0.03,2,  21.7122
  74DI19980423,  A16N, 13427,  1,     19,     19,2,19980429,1439, 25.5067, -21.3267, 4567,     86.1,  20.8520,  37.1260,2,  37.1240,2,    213.3,2,    208.3,2,     0.79,2,     1.01,2,     0.09,2, -999.000,9, -999.000,9,   -999.0,9,-999.0000,  -999.00,9,     0.06,2,     0.01,2,  20.8354
  74DI19980423,  A16N, 13427,  1,     18,     18,2,19980429,1439, 25.5067, -21.3267, 4567,    126.6,  18.9920,  36.7900,2,  36.7990,2,    210.6,2,    206.4,2,     0.79,2,     1.26,2,     0.10,2, -999.000,9, -999.000,9,   -999.0,9,-999.0000,  -999.00,9,     0.05,2,     0.01,2,  18.9692
  74DI19980423,  A16N, 13427,  1,     17,     17,2,19980429,1439, 25.5067, -21.3267, 4567,    167.3,  17.9460,  36.5980,2,  36.5940,2,    199.8,2,    202.6,2,     1.09,2,     2.98,2,     0.21,2, -999.000,9, -999.000,9,   -999.0,9,-999.0000,  -999.00,9,     0.05,2,     0.00,2,  17.9170
  74DI19980423,  A16N, 13427,  1,     16,     16,2,19980429,1439, 25.5067, -21.3267, 4567,    248.5,  16.3420,  36.3120,2,  36.3160,2,    197.4,2,    199.6,2,     1.90,2,     5.96,2,     0.43,2, -999.000,9, -999.000,9,   -999.0,9,-999.0000,  -999.00,9,  -999.00,9,  -999.00,9,  16.3016
  74DI19980423,  A16N, 13427,  1,     15,     15,2,19980429,1439, 25.5067, -21.3267, 4567,    330.2,  14.7390,  36.0610,2,  36.0610,2,    190.1,2,    187.1,2,     3.38,2,    10.00,2,     0.72,2, -999.000,9, -999.000,9,   -999.0,9,-999.0000,  -999.00,9,  -999.00,9,  -999.00,9,  14.6889
  74DI19980423,  A16N, 13427,  1,     14,     14,2,19980429,1439, 25.5067, -21.3267, 4567,    515.0,  12.0370,  35.6530,2,  35.6500,2,    171.3,2,    172.0,2,     6.53,2,    16.49,2,     1.25,2, -999.000,9, -999.000,9,   -999.0,9,-999.0000,  -999.00,9,  -999.00,9,  -999.00,9,  11.9683
  74DI19980423,  A16N, 13427,  1,     13,     13,2,19980429,1439, 25.5067, -21.3267, 4567,    770.6,   8.8640,  35.2410,2,  35.2400,2,    116.5,2,    114.7,2,    16.06,2,    27.68,2,     2.14,2, -999.000,9, -999.000,9,   -999.0,9,-999.0000,  -999.00,9,  -999.00,9,  -999.00,9,   8.7780
  74DI19980423,  A16N, 13427,  1,     12,     12,2,19980429,1439, 25.5067, -21.3267, 4567,    975.4,   7.3700,  35.1470,2,  35.1470,2,    134.0,2,    135.9,2,    19.12,2,    27.54,2,     2.18,2, -999.000,9, -999.000,9,   -999.0,9,-999.0000,  -999.00,9,  -999.00,9,  -999.00,9,   7.2707
  74DI19980423,  A16N, 13427,  1,     11,     11,2,19980429,1439, 25.5067, -21.3267, 4567,   1129.6,   6.9730,  35.2200,2,  35.2200,2,    160.6,2,    160.4,2,    18.58,2,    24.98,2,     1.98,2, -999.000,9, -999.000,9,   -999.0,9,-999.0000,  -999.00,9,  -999.00,9,  -999.00,9,   6.8600
  74DI19980423,  A16N, 13427,  1,     10,     10,2,19980429,1439, 25.5067, -21.3267, 4567,   1437.5,   5.9090,  35.2170,2,  35.2160,2,    188.7,2,    188.6,2,    19.64,2,    22.70,2,     1.81,2, -999.000,9, -999.000,9,   -999.0,9,-999.0000,  -999.00,9,  -999.00,9,  -999.00,9,   5.7734
  74DI19980423,  A16N, 13427,  1,      9,      9,2,19980429,1439, 25.5067, -21.3267, 4567,   1590.9,   5.3150,  35.1730,2,  35.1730,2,    202.2,2,    200.4,2,    20.86,2,    22.04,2,     1.76,2, -999.000,9, -999.000,9,   -999.0,9,-999.0000,  -999.00,9,  -999.00,9,  -999.00,9,   5.1704
  74DI19980423,  A16N, 13427,  1,      8,      8,2,19980429,1439, 25.5067, -21.3267, 4567,   1949.2,   4.2230,  35.0780,2,  35.0770,2,    218.3,2,    219.3,2,    24.90,2,    21.39,2,     1.72,2, -999.000,9, -999.000,9,   -999.0,9,-999.0000,  -999.00,9,  -999.00,9,  -999.00,9,   4.0569
  74DI19980423,  A16N, 13427,  1,      7,      7,2,19980429,1439, 25.5067, -21.3267, 4567,   2158.9,   3.8150,  35.0400,2,  35.0410,2,    224.9,2,    225.7,2,    27.02,2,    21.19,2,     1.71,2, -999.000,9, -999.000,9,   -999.0,9,-999.0000,  -999.00,9,  -999.00,9,  -999.00,9,   3.6344
  74DI19980423,  A16N, 13427,  1,      6,      6,2,19980429,1439, 25.5067, -21.3267, 4567,   2675.7,   3.1380,  34.9780,2,  34.9770,2,    240.6,2,    240.8,2,    30.20,2,    20.35,2,     1.63,2, -999.000,9, -999.000,9,   -999.0,9,-999.0000,  -999.00,9,  -999.00,9,  -999.00,9,   2.9177
  74DI19980423,  A16N, 13427,  1,      5,      5,2,19980429,1439, 25.5067, -21.3267, 4567,   3090.3,   2.7530,  34.9370,2,  34.9370,2,    234.3,2,    235.6,2,    37.91,2,    21.47,2,     1.74,2, -999.000,9, -999.000,9,   -999.0,9,-999.0000,  -999.00,9,  -999.00,9,  -999.00,9,   2.4981
  74DI19980423,  A16N, 13427,  1,      4,      4,2,19980429,1439, 25.5067, -21.3267, 4567,   3502.9,   2.5500,  34.9190,2,  34.9180,2,    240.6,2,    241.9,2,    40.37,2,    21.47,2,     1.73,2, -999.000,9, -999.000,9,   -999.0,9,-999.0000,  -999.00,9,  -999.00,9,  -999.00,9,   2.2559
  74DI19980423,  A16N, 13427,  1,      3,      3,2,19980429,1439, 25.5067, -21.3267, 4567,   3916.0,   2.4230,  34.9020,2,  34.9020,2,    243.7,2,    243.1,2,    43.41,2,    21.64,2,     1.74,2, -999.000,9, -999.000,9,   -999.0,9,-999.0000,  -999.00,9,  -999.00,9,  -999.00,9,   2.0864
  74DI19980423,  A16N, 13427,  1,      2,      2,2,19980429,1439, 25.5067, -21.3267, 4567,   4332.7,   2.3860,  34.8940,2,  34.8930,2,    244.2,2,    243.4,2,    45.10,2,    21.80,2,     1.73,2, -999.000,9, -999.000,9,   -999.0,9,-999.0000,  -999.00,9,  -999.00,9,  -999.00,9,   2.0022
  74DI19980423,  A16N, 13427,  1,      1,      1,4,19980429,1439, 25.5067, -21.3267, 4567,   4636.1,   2.4050,  34.8910,2,  35.0190,0,    243.3,2,   -999.0,9,    38.04,3,    20.67,3,     1.56,3, -999.000,9, -999.000,9,   -999.0,9,-999.0000,  -999.00,9,  -999.00,9,  -999.00,9,   1.9840