BOTTLE,20221006CCHSIOCBG
EXPOCODE,SECT_ID,STNNBR,CASTNO,SAMPNO,BTLNBR,BTLNBR_FLAG_W,DATE,TIME,LATITUDE,LONGITUDE,DEPTH,CTDPRS,CTDTMP,CTDSAL,CTDSAL_FLAG_W,SALNTY,SALNTY_FLAG_W,CTDOXY,CTDOXY_FLAG_W,OXYGEN,OXYGEN_FLAG_W,SILCAT,SILCAT_FLAG_W,NITRAT,NITRAT_FLAG_W,PHSPHT,PHSPHT_FLAG_W,CFC-11,CFC-11_FLAG_W,CFC-12,CFC-12_FLAG_W,ALKALI,ALKALI_FLAG_W,PH_SWS,PH_TEMP,PH_SWS_FLAG_W,CHLORA,CHLORA_FLAG_W,PPHYTN,PPHYTN_FLAG_W,THETA
,,,,,,,,,,,METERS,DBAR,ITS-90,PSS-78,,PSS-78,,UMOL/KG,,UMOL/KG,,UMOL/KG,,UMOL/KG,,UMOL/KG,,PMOL/KG,,PMOL/KG,,UMOL/KG,,,DEGC,,UG/L,,UG/L,,DEGC
  74DI19980423,  A16N, 13424,  1,     23,     23,2,19980428,1700, 23.9983, -21.3433, 4434,      2.8,  21.5940,  37.0720,2,  37.0720,2,    221.6,2,    219.2,2,     0.55,2,     0.04,2,     0.00,2,    1.863,3,    1.369,3,   2438.9,6,   8.0172,    25.00,2,     0.05,2,     0.03,2,  21.5934
  74DI19980423,  A16N, 13424,  1,     22,     22,2,19980428,1700, 23.9983, -21.3433, 4434,      8.6,  21.5940,  37.0720,2,  37.0720,2,    218.0,2,    220.4,2,     0.52,2,     0.00,2,     0.00,2,    1.804,3,    1.327,3,   2442.3,2,   8.0172,    25.00,2,     0.05,2,     0.04,2,  21.5923
  74DI19980423,  A16N, 13424,  1,     21,     21,2,19980428,1700, 23.9983, -21.3433, 4434,     22.8,  21.5960,  37.0720,2,  37.0720,2,    223.1,2,    220.5,2,     0.63,2,     0.07,2,     0.01,2,    1.706,3,    1.447,3,   2440.3,2,   8.0192,    25.00,2,     0.05,2,     0.03,2,  21.5915
  74DI19980423,  A16N, 13424,  1,     20,     20,2,19980428,1700, 23.9983, -21.3433, 4434,     43.6,  21.5330,  37.0710,2,  37.0720,2,    219.0,2,    220.2,2,     0.54,2,     0.00,2,     0.01,2,    1.612,3,    1.347,3,   2439.5,2,   8.0172,    25.00,2,     0.07,2,     0.01,2,  21.5244
  74DI19980423,  A16N, 13424,  1,     19,     19,2,19980428,1700, 23.9983, -21.3433, 4434,     85.3,  21.5280,  37.0700,2,  37.0690,2,    213.3,2,    220.0,2,     0.52,2,     0.00,2,     0.02,2,    2.050,3,    1.616,3,   2442.1,2,   8.0182,    25.00,2,     0.07,2,     0.04,2,  21.5112
  74DI19980423,  A16N, 13424,  1,     18,     18,2,19980428,1700, 23.9983, -21.3433, 4434,    125.1,  21.2270,  37.0210,2,  37.0290,2,    214.0,2,    211.9,2,     0.69,2,     0.71,2,     0.08,2,    2.002,3,    1.485,3,   2437.3,2,   8.0022,    25.00,2,     0.02,2,     0.00,2,  21.2026
  74DI19980423,  A16N, 13424,  1,     17,     17,2,19980428,1700, 23.9983, -21.3433, 4434,    165.9,  19.2360,  36.6960,2,  36.6960,2,    180.8,2,    180.8,2,     1.84,2,     5.55,2,     0.37,2,    1.964,3,    1.296,3,   2411.7,2,   7.9232,    25.00,2,     0.00,2,     0.00,2,  19.2059
  74DI19980423,  A16N, 13424,  1,     16,     16,2,19980428,1700, 23.9983, -21.3433, 4434,    246.0,  16.2040,  36.2620,2,  36.2610,2,    161.2,2,    159.0,2,     3.46,2,    10.85,2,     0.68,2, -999.000,9, -999.000,9,   2383.9,2,   7.8482,    25.00,2,  -999.00,9,  -999.00,9,  16.1643
  74DI19980423,  A16N, 13424,  1,     15,     15,2,19980428,1700, 23.9983, -21.3433, 4434,    329.7,  14.5190,  35.9900,2,  35.9880,2,    141.7,2,    144.6,2,     5.16,2,    15.08,2,     0.96,2, -999.000,9, -999.000,9,   -999.0,9,-999.0000,  -999.00,9,  -999.00,9,  -999.00,9,  14.4695
  74DI19980423,  A16N, 13424,  1,     14,     14,2,19980428,1700, 23.9983, -21.3433, 4434,    513.5,  11.4390,  35.5140,2,  35.5140,2,    115.7,2,    108.0,2,    10.36,2,    24.04,2,     1.61,2,    0.705,3,    0.493,2,   -999.0,9,-999.0000,  -999.00,9,  -999.00,9,  -999.00,9,  11.3728
  74DI19980423,  A16N, 13424,  1,     13,     13,2,19980428,1700, 23.9983, -21.3433, 4434,    767.7,   8.2910,  35.1530,2,  35.1540,2,    106.2,2,    106.4,2,    18.50,2,    29.55,2,     2.10,2,    0.163,2,    0.079,2,   2338.4,2,   7.5853,    25.00,2,  -999.00,9,  -999.00,9,   8.2086
  74DI19980423,  A16N, 13424,  1,     12,     12,2,19980428,1700, 23.9983, -21.3433, 4434,    971.0,   7.0670,  35.0830,2,  35.0830,2,    127.0,2,    128.3,2,    20.88,2,    28.87,2,     2.07,2,    0.052,2,    0.025,2,   2336.1,2,   7.5963,    25.00,2,  -999.00,9,  -999.00,9,   6.9704
  74DI19980423,  A16N, 13424,  1,     11,     11,2,19980428,1700, 23.9983, -21.3433, 4434,   1124.8,   6.9590,  35.2150,2,  35.2150,2,    152.9,2,    156.1,2,    19.56,2,    25.32,2,     1.81,2,    0.027,2,    0.012,2,   2347.2,2,   7.6423,    25.00,2,  -999.00,9,  -999.00,9,   6.8466
  74DI19980423,  A16N, 13424,  1,     10,     10,2,19980428,1700, 23.9983, -21.3433, 4434,   1434.1,   5.8390,  35.2080,2,  35.2090,2,    188.1,2,    187.5,2,    20.78,2,    22.84,2,     1.64,2,    0.020,2,    0.010,2,   -999.0,9,-999.0000,  -999.00,9,  -999.00,9,  -999.00,9,   5.7046
  74DI19980423,  A16N, 13424,  1,      9,      9,2,19980428,1700, 23.9983, -21.3433, 4434,   1589.2,   5.1330,  35.1590,2,  35.1600,2,    201.6,2,    202.3,2,    22.38,2,    22.07,2,     1.59,2,    0.135,3,    0.010,2,   2349.9,2,   7.6843,    25.00,2,  -999.00,9,  -999.00,9,   4.9907
  74DI19980423,  A16N, 13424,  1,      8,      8,2,19980428,1700, 23.9983, -21.3433, 4434,   1948.6,   4.1100,  35.0700,2,  35.0700,2,    219.0,2,    219.1,2,    26.04,2,    21.46,2,     1.56,2,    0.019,2,    0.010,2,   2351.4,2,   7.7013,    25.00,2,  -999.00,9,  -999.00,9,   3.9456
  74DI19980423,  A16N, 13424,  1,      7,      7,2,19980428,1700, 23.9983, -21.3433, 4434,   2154.2,   3.7550,  35.0320,2,  35.3680,0,    225.1,2,    225.8,2,    28.04,2,    21.38,2,     1.55,2,    0.019,2,    0.010,2,   -999.0,9,-999.0000,  -999.00,9,  -999.00,9,  -999.00,9,   3.5758
  74DI19980423,  A16N, 13424,  1,      6,      6,2,19980428,1700, 23.9983, -21.3433, 4434,   2667.0,   3.0960,  34.9720,2,  34.9720,2,    235.4,2,    235.2,2,    33.52,2,    21.11,2,     1.54,2,    0.019,2,    0.010,2,   2355.4,2,   7.7063,    25.00,2,  -999.00,9,  -999.00,9,   2.8774
  74DI19980423,  A16N, 13424,  1,      5,      5,2,19980428,1700, 23.9983, -21.3433, 4434,   3082.7,   2.7490,  34.9370,2,  34.9370,2,    233.3,2,    234.9,2,    39.12,2,    21.64,2,     1.57,2,    0.019,2,    0.010,2,   2365.9,2,   7.7053,    25.00,2,  -999.00,9,  -999.00,9,   2.4950
  74DI19980423,  A16N, 13424,  1,      4,      4,2,19980428,1700, 23.9983, -21.3433, 4434,   3495.2,   2.5260,  34.9160,2,  34.9160,2,    239.2,2,    240.7,2,    42.47,2,    21.67,2,     1.57,2,    0.019,2,    0.010,2,   2368.8,2,   7.7073,    25.00,2,  -999.00,9,  -999.00,9,   2.2334
  74DI19980423,  A16N, 13424,  1,      3,      3,2,19980428,1700, 23.9983, -21.3433, 4434,   3910.0,   2.4020,  34.9000,2,  34.9000,2,    243.7,2,    241.5,2,    45.32,2,    21.96,2,     1.58,2,    0.019,2,    0.010,2,   2368.5,2,   7.7093,    25.00,2,  -999.00,9,  -999.00,9,   2.0667
  74DI19980423,  A16N, 13424,  1,      2,      2,2,19980428,1700, 23.9983, -21.3433, 4434,   4325.6,   2.3790,  34.8930,2,  34.8930,2,    244.4,2,    243.0,2,    46.08,2,    22.05,2,     1.56,2,    0.019,2,    0.010,2,   2367.5,2,   7.7093,    25.00,2,  -999.00,9,  -999.00,9,   1.9962
  74DI19980423,  A16N, 13424,  1,      1,      1,2,19980428,1700, 23.9983, -21.3433, 4434,   4497.8,   2.3910,  34.8920,2,  34.8930,2,    242.5,2,    243.2,2,    46.22,2,    21.95,2,     1.50,2,    0.019,2,    0.010,2,   2371.2,2,   7.7063,    25.00,2,  -999.00,9,  -999.00,9,   1.9873
  74DI19980423,  A16N, 13425,  1,     22,     22,2,19980428,2353, 24.5017, -21.3367, 4473,      6.6,  21.5760,  37.0700,2,  37.0700,2,    216.9,2,    219.7,2,     0.59,2,     0.01,2,     0.00,2, -999.000,9, -999.000,9,   -999.0,9,-999.0000,  -999.00,9,     0.04,2,     0.02,2,  21.5747
  74DI19980423,  A16N, 13425,  1,     21,     21,2,19980428,2353, 24.5017, -21.3367, 4473,     15.9,  21.5780,  37.0700,2,  37.0700,2,    218.0,2,    218.7,2,     0.58,2,     0.00,2,     0.00,2, -999.000,9, -999.000,9,   -999.0,9,-999.0000,  -999.00,9,     0.05,2,     0.01,2,  21.5749
  74DI19980423,  A16N, 13425,  1,     20,     20,2,19980428,2353, 24.5017, -21.3367, 4473,     29.9,  21.5790,  37.0700,2,  37.0700,2,    216.4,2,    222.2,2,     0.58,2,     0.00,2,     0.01,2, -999.000,9, -999.000,9,   -999.0,9,-999.0000,  -999.00,9,     0.05,2,     0.02,2,  21.5731
  74DI19980423,  A16N, 13425,  1,     19,     19,2,19980428,2353, 24.5017, -21.3367, 4473,     55.1,  21.5720,  37.0690,2,  37.0690,2,    216.1,2,    219.1,2,     0.57,2,     0.00,2,     0.01,2, -999.000,9, -999.000,9,   -999.0,9,-999.0000,  -999.00,9,     0.05,2,     0.02,2,  21.5612
  74DI19980423,  A16N, 13425,  1,     18,     18,2,19980428,2353, 24.5017, -21.3367, 4473,     81.3,  21.5470,  37.0680,2,  37.0670,2,    221.0,2,    218.1,2,     0.59,2,     0.00,2,     0.02,2, -999.000,9, -999.000,9,   -999.0,9,-999.0000,  -999.00,9,     0.07,2,     0.00,2,  21.5310
  74DI19980423,  A16N, 13425,  1,     17,     17,2,19980428,2353, 24.5017, -21.3367, 4473,    106.1,  21.5460,  37.0670,2,  36.8550,0,    219.4,2,    219.6,2,     0.64,2,     0.03,2,     0.04,2, -999.000,9, -999.000,9,   -999.0,9,-999.0000,  -999.00,9,     0.05,2,     0.03,2,  21.5251
  74DI19980423,  A16N, 13425,  1,     16,     16,2,19980428,2353, 24.5017, -21.3367, 4473,    157.2,  20.3680,  36.8580,2,  36.8550,2,    205.1,2,    195.3,2,     1.18,2,     3.03,2,     0.22,2, -999.000,9, -999.000,9,   -999.0,9,-999.0000,  -999.00,9,     0.01,2,     0.00,2,  20.3383
  74DI19980423,  A16N, 13425,  1,     15,     15,2,19980428,2353, 24.5017, -21.3367, 4473,    208.3,  17.7910,  36.5040,2,  36.4980,2,    170.7,2,    165.4,2,     2.63,2,     8.07,2,     0.53,2, -999.000,9, -999.000,9,   -999.0,9,-999.0000,  -999.00,9,  -999.00,9,  -999.00,9,  17.7552
  74DI19980423,  A16N, 13425,  1,     14,     14,2,19980428,2353, 24.5017, -21.3367, 4473,    413.2,  13.3410,  35.8150,2,  35.8120,2,    151.8,2,    136.6,2,     6.82,2,    17.94,2,     1.17,2, -999.000,9, -999.000,9,   -999.0,9,-999.0000,  -999.00,9,  -999.00,9,  -999.00,9,  13.2823
  74DI19980423,  A16N, 13425,  1,     13,     13,2,19980428,2353, 24.5017, -21.3367, 4473,    617.5,  10.3830,  35.3930,2,  35.3920,2,    120.4,2,    108.3,2,    13.01,2,    25.89,2,     1.76,2, -999.000,9, -999.000,9,   -999.0,9,-999.0000,  -999.00,9,  -999.00,9,  -999.00,9,  10.3078
  74DI19980423,  A16N, 13425,  1,     12,     12,2,19980428,2353, 24.5017, -21.3367, 4473,    821.2,   7.9800,  35.1010,2,  35.1030,2,    104.4,2,    107.2,2,    19.12,2,    30.14,2,     2.13,2, -999.000,9, -999.000,9,   -999.0,9,-999.0000,  -999.00,9,  -999.00,9,  -999.00,9,   7.8936
  74DI19980423,  A16N, 13425,  1,     11,     11,2,19980428,2353, 24.5017, -21.3367, 4473,   1020.8,   7.1950,  35.1600,2,  35.1600,2,    130.0,2,    139.6,2,    19.80,2,    27.06,2,     1.95,2, -999.000,9, -999.000,9,   -999.0,9,-999.0000,  -999.00,9,  -999.00,9,  -999.00,9,   7.0920
  74DI19980423,  A16N, 13425,  1,     10,     10,2,19980428,2353, 24.5017, -21.3367, 4473,   1279.5,   6.4080,  35.1940,2,  35.1930,2,    165.9,2,    167.1,2,    20.05,2,    24.59,2,     1.76,2, -999.000,9, -999.000,9,   -999.0,9,-999.0000,  -999.00,9,  -999.00,9,  -999.00,9,   6.2841
  74DI19980423,  A16N, 13425,  1,      9,      9,2,19980428,2353, 24.5017, -21.3367, 4473,   1538.9,   5.5940,  35.2000,2,  35.2000,2,    194.2,2,    193.7,2,    21.18,2,    22.39,2,     1.61,2, -999.000,9, -999.000,9,   -999.0,9,-999.0000,  -999.00,9,  -999.00,9,  -999.00,9,   5.4514
  74DI19980423,  A16N, 13425,  1,      8,      8,2,19980428,2353, 24.5017, -21.3367, 4473,   1797.7,   4.5210,  35.1020,2,  35.1030,2,    211.1,2,    212.6,2,    24.09,2,    21.69,2,     1.58,2, -999.000,9, -999.000,9,   -999.0,9,-999.0000,  -999.00,9,  -999.00,9,  -999.00,9,   4.3657
  74DI19980423,  A16N, 13425,  1,      7,      7,2,19980428,2353, 24.5017, -21.3367, 4473,   2055.2,   3.9740,  35.0560,2,  35.0560,2,    221.3,2,    222.6,2,    26.85,2,    21.30,2,     1.55,2, -999.000,9, -999.000,9,   -999.0,9,-999.0000,  -999.00,9,  -999.00,9,  -999.00,9,   3.8011
  74DI19980423,  A16N, 13425,  1,      6,      6,2,19980428,2353, 24.5017, -21.3367, 4473,   2313.8,   3.5310,  35.0130,2,  35.0130,2,    228.8,2,    227.5,2,    30.02,2,    21.28,2,     1.55,2, -999.000,9, -999.000,9,   -999.0,9,-999.0000,  -999.00,9,  -999.00,9,  -999.00,9,   3.3398
  74DI19980423,  A16N, 13425,  1,      5,      5,2,19980428,2353, 24.5017, -21.3367, 4473,   2570.9,   3.2300,  34.9850,2,  34.9840,2,    232.0,2,    231.2,2,    32.83,2,    21.22,2,     1.55,2, -999.000,9, -999.000,9,   -999.0,9,-999.0000,  -999.00,9,  -999.00,9,  -999.00,9,   3.0185
  74DI19980423,  A16N, 13425,  1,      4,      4,2,19980428,2353, 24.5017, -21.3367, 4473,   3088.3,   2.8310,  34.9440,2,  34.9430,2,    234.9,2,    233.8,2,    37.76,2,    21.45,2,     1.57,2, -999.000,9, -999.000,9,   -999.0,9,-999.0000,  -999.00,9,  -999.00,9,  -999.00,9,   2.5746
  74DI19980423,  A16N, 13425,  1,      3,      3,2,19980428,2353, 24.5017, -21.3367, 4473,   3604.2,   2.5410,  34.9150,2,  34.9150,2,    236.0,2,    235.4,2,    43.17,2,    22.06,2,     1.59,2, -999.000,9, -999.000,9,   -999.0,9,-999.0000,  -999.00,9,  -999.00,9,  -999.00,9,   2.2361
  74DI19980423,  A16N, 13425,  1,      2,      2,2,19980428,2353, 24.5017, -21.3367, 4473,   4127.4,   2.4080,  34.8980,2,  34.8980,2,    241.0,2,    241.2,2,    45.58,2,    22.03,2,     1.58,2, -999.000,9, -999.000,9,   -999.0,9,-999.0000,  -999.00,9,  -999.00,9,  -999.00,9,   2.0476
  74DI19980423,  A16N, 13425,  1,      1,      1,2,19980428,2353, 24.5017, -21.3367, 4473,   4536.5,   2.4030,  34.8920,2,  34.8940,2,    240.5,2,    242.1,2,    46.04,2,    21.95,2,     1.53,2, -999.000,9, -999.000,9,   -999.0,9,-999.0000,  -999.00,9,  -999.00,9,  -999.00,9,   1.9942