BOTTLE,20221006CCHSIOCBG
EXPOCODE,SECT_ID,STNNBR,CASTNO,SAMPNO,BTLNBR,BTLNBR_FLAG_W,DATE,TIME,LATITUDE,LONGITUDE,DEPTH,CTDPRS,CTDTMP,CTDSAL,CTDSAL_FLAG_W,SALNTY,SALNTY_FLAG_W,CTDOXY,CTDOXY_FLAG_W,OXYGEN,OXYGEN_FLAG_W,SILCAT,SILCAT_FLAG_W,NITRAT,NITRAT_FLAG_W,PHSPHT,PHSPHT_FLAG_W,CFC-11,CFC-11_FLAG_W,CFC-12,CFC-12_FLAG_W,ALKALI,ALKALI_FLAG_W,PH_SWS,PH_TEMP,PH_SWS_FLAG_W,CHLORA,CHLORA_FLAG_W,PPHYTN,PPHYTN_FLAG_W,THETA
,,,,,,,,,,,METERS,DBAR,ITS-90,PSS-78,,PSS-78,,UMOL/KG,,UMOL/KG,,UMOL/KG,,UMOL/KG,,UMOL/KG,,PMOL/KG,,PMOL/KG,,UMOL/KG,,,DEGC,,UG/L,,UG/L,,DEGC
  74DI19980423,  A16N, 13442,  1,     24,     24,2,19980504, 733, 33.0067, -21.3183, 5263,      7.8,  18.3150,  36.4590,2,  36.4590,2,    237.5,2,    234.9,2,     0.59,2,     0.00,2,     0.02,2,    0.229,3,    0.139,3,   2391.1,2,   7.9932,    25.00,2,     0.03,2,     0.00,2,  18.3136
  74DI19980423,  A16N, 13442,  1,     23,     23,2,19980504, 733, 33.0067, -21.3183, 5263,     13.6,  18.3090,  36.4580,2,  36.4590,2,    229.2,2,    235.0,2,     0.59,2,     0.00,2,     0.02,2,    0.133,3,    0.010,3,   2392.8,2,   7.9932,    25.00,2,     0.03,2,     0.00,2,  18.3066
  74DI19980423,  A16N, 13442,  1,     22,     22,2,19980504, 733, 33.0067, -21.3183, 5263,     21.2,  18.3160,  36.4590,2,  36.4580,2,    226.6,2,    235.3,2,     0.55,2,     0.00,2,     0.02,2,    0.223,3,    0.149,3,   2394.0,2,   8.0022,    25.00,2,     0.03,2,     0.00,2,  18.3123
  74DI19980423,  A16N, 13442,  1,     21,     21,2,19980504, 733, 33.0067, -21.3183, 5263,     37.0,  18.3200,  36.4600,2,  36.4580,2,    230.3,2,    235.2,2,     0.54,2,     0.00,2,     0.03,2, -999.000,9, -999.000,9,   2392.2,2,   8.0032,    25.00,2,     0.03,2,     0.00,2,  18.3135
  74DI19980423,  A16N, 13442,  1,     20,     20,2,19980504, 733, 33.0067, -21.3183, 5263,     67.3,  18.0160,  36.4200,2,  36.4130,2,    233.2,2,    235.0,2,     0.76,2,     0.00,2,     0.03,2,    0.083,3,    0.079,3,   2387.7,2,   7.9992,    25.00,2,     0.04,2,     0.03,2,  18.0044
  74DI19980423,  A16N, 13442,  1,     19,     19,2,19980504, 733, 33.0067, -21.3183, 5263,     96.6,  17.2580,  36.2770,2,  36.2750,2,    231.2,2,    226.1,2,     0.81,2,     1.19,2,     0.12,2,    0.227,3,    0.167,3,   2382.5,2,   7.9742,    25.00,2,     0.09,2,     0.05,2,  17.2418
  74DI19980423,  A16N, 13442,  1,     18,     18,2,19980504, 733, 33.0067, -21.3183, 5263,    116.8,  16.7670,  36.2220,2,  36.2210,2,    222.8,2,    220.3,2,     1.06,2,     2.64,2,     0.21,2,   -8.768,3,    0.164,3,   2378.1,2,   7.9582,    25.00,2,     0.05,2,     0.01,2,  16.7478
  74DI19980423,  A16N, 13442,  1,     17,     17,2,19980504, 733, 33.0067, -21.3183, 5263,    147.2,  16.3690,  36.2420,2,  36.2420,2,    209.2,2,    206.9,2,     1.97,2,     5.63,2,     0.39,2,    0.241,3,    0.145,3,   2376.9,2,   7.9282,    25.00,2,  -999.00,9,  -999.00,9,  16.3451
  74DI19980423,  A16N, 13442,  1,     16,     16,2,19980504, 733, 33.0067, -21.3183, 5263,    188.3,  15.7540,  36.1570,2,  36.1530,2,    208.7,2,    202.7,0,     2.18,2,     6.41,2,     0.46,2,    2.507,2,    1.284,2,   2375.2,2,   7.9152,    25.00,2,  -999.00,9,  -999.00,9,  15.7243
  74DI19980423,  A16N, 13442,  1,     15,     15,2,19980504, 733, 33.0067, -21.3183, 5263,    227.8,  15.0600,  36.0550,2,  36.0540,2,    209.6,2,    209.1,0,     2.54,2,     7.49,2,     0.55,2,    2.875,2,    1.590,2,   2364.6,2,   7.9012,    25.00,2,  -999.00,9,  -999.00,9,  15.0251
  74DI19980423,  A16N, 13442,  1,     14,     14,2,19980504, 733, 33.0067, -21.3183, 5263,    358.8,  13.2340,  35.8000,2,  35.8010,2,    207.1,2,    208.9,2,     3.79,2,    10.28,2,     0.76,2,    2.264,2,    1.360,2,   2353.3,2,   7.8503,    25.00,2,  -999.00,9,  -999.00,9,  13.1834
  74DI19980423,  A16N, 13442,  1,     13,     13,2,19980504, 733, 33.0067, -21.3183, 5263,    508.9,  11.4970,  35.5710,2,  35.5720,2,    194.5,2,    197.1,2,     6.00,2,    14.43,2,     1.09,2,    2.607,2,    1.290,2,   2346.1,2,   7.7943,    25.00,2,  -999.00,9,  -999.00,9,  11.4312
  74DI19980423,  A16N, 13442,  1,     12,     12,2,19980504, 733, 33.0067, -21.3183, 5263,    707.5,  10.0770,  35.4830,2,  35.4820,2,    193.6,2,    189.6,2,     8.40,2,    16.88,2,     1.30,2,    1.721,2,    0.770,2,   2342.2,2,   7.7553,    25.00,2,  -999.00,9,  -999.00,9,   9.9919
  74DI19980423,  A16N, 13442,  1,     11,     11,2,19980504, 733, 33.0067, -21.3183, 5263,    908.3,   8.8690,  35.5110,2,  35.5120,2,    188.2,2,    186.4,2,    10.92,2,    18.54,2,     1.45,2,    1.152,2,    0.589,2,   2349.9,2,   7.7373,    25.00,2,  -999.00,9,  -999.00,9,   8.7665
  74DI19980423,  A16N, 13442,  1,     10,     10,2,19980504, 733, 33.0067, -21.3183, 5263,   1194.2,   7.6990,  35.5400,2,  35.5380,2,    205.2,2,    204.3,2,    11.79,2,    17.96,2,     1.43,2,    1.697,3,    0.751,3,   2348.2,2,   7.7373,    25.00,2,  -999.00,9,  -999.00,9,   7.5721
  74DI19980423,  A16N, 13442,  1,      9,      9,2,19980504, 733, 33.0067, -21.3183, 5263,   1598.5,   5.2640,  35.2270,2,  35.2280,2,    234.3,2,    238.4,2,    13.15,2,    17.60,2,     1.47,2,    0.679,2,    0.360,2,   2339.0,2,   7.7313,    25.00,2,  -999.00,9,  -999.00,9,   5.1191
  74DI19980423,  A16N, 13442,  1,      8,      8,2,19980504, 733, 33.0067, -21.3183, 5263,   1782.7,   4.9350,  35.1950,2,  35.1960,2,    241.0,2,    240.8,2,    14.53,2,    17.86,2,     1.48,2,    0.756,2,    0.358,2,   2338.4,2,   7.7313,    25.00,2,  -999.00,9,  -999.00,9,   4.7755
  74DI19980423,  A16N, 13442,  1,      7,      7,2,19980504, 733, 33.0067, -21.3183, 5263,   2201.8,   3.7210,  35.0460,2,  35.0460,2,    248.3,2,    247.7,2,    21.64,2,    18.82,2,     1.57,2,    0.102,2,    0.051,2,   2337.3,2,   7.7323,    25.00,2,  -999.00,9,  -999.00,9,   3.5376
  74DI19980423,  A16N, 13442,  1,      6,      6,2,19980504, 733, 33.0067, -21.3183, 5263,   2766.1,   2.9540,  34.9600,2,  34.9620,2,    248.2,2,    248.0,2,    29.93,2,    19.84,2,     1.67,2,    0.043,2,    0.022,2,   2340.1,2,   7.7233,    25.00,2,  -999.00,9,  -999.00,9,   2.7282
  74DI19980423,  A16N, 13442,  1,      5,      5,2,19980504, 733, 33.0067, -21.3183, 5263,   3262.2,   2.6700,  34.9320,2,  34.9320,2,    244.4,2,    245.6,2,    36.49,2,    20.65,2,     1.75,2,    0.021,2,    0.010,2,   2352.6,2,   7.7193,    25.00,2,  -999.00,9,  -999.00,9,   2.3989
  74DI19980423,  A16N, 13442,  1,      4,      4,2,19980504, 733, 33.0067, -21.3183, 5263,   3780.7,   2.5240,  34.9140,2,  34.9130,2,    243.1,2,    244.3,2,    41.24,2,    21.33,2,     1.79,2,    0.019,2,    0.010,2,   -999.0,9,-999.0000,  -999.00,9,  -999.00,9,  -999.00,9,   2.1999
  74DI19980423,  A16N, 13442,  1,      3,      3,2,19980504, 733, 33.0067, -21.3183, 5263,   4310.5,   2.4440,  34.9000,2,  34.8990,2,    243.1,2,    243.5,2,    44.25,2,    21.59,2,     1.80,2,    0.019,2,    0.010,2,   2356.6,2,   7.7133,    25.00,2,  -999.00,9,  -999.00,9,   2.0610
  74DI19980423,  A16N, 13442,  1,      2,      2,2,19980504, 733, 33.0067, -21.3183, 5263,   4832.0,   2.4280,  34.8920,2,  34.8920,2,    244.9,2,    243.6,2,    48.07,2,    21.86,2,     1.78,2,    0.019,2,    0.010,2,   -999.0,9,-999.0000,  -999.00,9,  -999.00,9,  -999.00,9,   1.9821
  74DI19980423,  A16N, 13442,  1,      1,      1,2,19980504, 733, 33.0067, -21.3183, 5263,   5352.6,   2.4750,  34.8910,2,  34.8900,2,    244.1,2,    243.7,2,    46.23,2,    21.87,2,     1.74,2,    0.019,2,    0.010,2,   2358.7,2,   7.7173,    25.00,2,  -999.00,9,  -999.00,9,   1.9608
  74DI19980423,  A16N, 13443,  1,     24,     24,2,19980504,1528, 33.5050, -21.3283, 5309,      2.9,  18.0110,  36.3390,2,  36.3380,2,   -999.0,9,    238.8,0,     0.79,2,     0.00,2,     0.00,2, -999.000,9, -999.000,9,   -999.0,9,-999.0000,  -999.00,9,     0.01,2,     0.00,2,  18.0105
  74DI19980423,  A16N, 13443,  1,     23,     23,2,19980504,1528, 33.5050, -21.3283, 5309,     17.2,  17.9510,  36.3360,2,  36.3330,2,    229.3,2,    238.1,0,     0.72,2,     0.00,2,     0.00,2, -999.000,9, -999.000,9,   -999.0,9,-999.0000,  -999.00,9,     0.01,2,     0.00,2,  17.9480
  74DI19980423,  A16N, 13443,  1,     22,     22,2,19980504,1528, 33.5050, -21.3283, 5309,     27.0,  17.9030,  36.3390,2,  36.3370,2,    240.5,2,    238.7,0,     0.73,2,     0.00,2,     0.00,2, -999.000,9, -999.000,9,   -999.0,9,-999.0000,  -999.00,9,     0.02,2,     0.02,2,  17.8984
  74DI19980423,  A16N, 13443,  1,     21,     21,2,19980504,1528, 33.5050, -21.3283, 5309,     47.1,  17.4220,  36.2950,2,  36.2900,2,    229.4,2,    241.3,0,     0.79,2,     0.00,2,     0.02,2, -999.000,9, -999.000,9,   -999.0,9,-999.0000,  -999.00,9,     0.03,2,     0.00,2,  17.4141
  74DI19980423,  A16N, 13443,  1,     20,     20,2,19980504,1528, 33.5050, -21.3283, 5309,     87.3,  16.1940,  36.1410,2,  36.1210,2,    241.2,2,    225.0,0,     1.27,2,     2.93,2,     0.19,2, -999.000,9, -999.000,9,   -999.0,9,-999.0000,  -999.00,9,     0.14,2,     0.08,2,  16.1800
  74DI19980423,  A16N, 13443,  1,     19,     19,2,19980504,1528, 33.5050, -21.3283, 5309,    128.0,  15.1990,  36.0440,2,  36.1220,2,    218.5,2,    219.7,0,     1.99,2,     5.45,2,     0.35,2, -999.000,9, -999.000,9,   -999.0,9,-999.0000,  -999.00,9,     0.01,2,     0.00,2,  15.1793
  74DI19980423,  A16N, 13443,  1,     18,     18,2,19980504,1528, 33.5050, -21.3283, 5309,    166.7,  14.4250,  35.9420,2,  35.9410,2,    220.7,2,    216.2,0,     2.63,2,     7.31,2,     0.48,2, -999.000,9, -999.000,9,   -999.0,9,-999.0000,  -999.00,9,     0.00,2,     0.00,2,  14.4002
  74DI19980423,  A16N, 13443,  1,     17,     17,2,19980504,1528, 33.5050, -21.3283, 5309,    247.8,  13.5140,  35.8410,2,  35.9240,2,    208.8,2,    209.1,0,     3.75,2,     9.99,2,     0.64,2, -999.000,9, -999.000,9,   -999.0,9,-999.0000,  -999.00,9,  -999.00,9,  -999.00,9,  13.4787
  74DI19980423,  A16N, 13443,  1,     16,     16,2,19980504,1528, 33.5050, -21.3283, 5309,    329.2,  12.6040,  35.7140,2,  35.7130,2,    207.9,2,    206.8,0,     4.45,2,    11.45,2,     0.75,2, -999.000,9, -999.000,9,   -999.0,9,-999.0000,  -999.00,9,  -999.00,9,  -999.00,9,  12.5591
  74DI19980423,  A16N, 13443,  1,     15,     15,2,19980504,1528, 33.5050, -21.3283, 5309,    510.7,  11.0320,  35.5340,2,  35.5340,2,    200.7,2,    198.7,0,     6.33,2,    14.94,2,     0.99,2, -999.000,9, -999.000,9,   -999.0,9,-999.0000,  -999.00,9,  -999.00,9,  -999.00,9,  10.9676
  74DI19980423,  A16N, 13443,  1,     14,     14,2,19980504,1528, 33.5050, -21.3283, 5309,    761.5,   9.4460,  35.5360,2,  35.5370,2,    187.6,2,    187.7,0,     9.78,2,    17.63,2,     1.20,2, -999.000,9, -999.000,9,   -999.0,9,-999.0000,  -999.00,9,  -999.00,9,  -999.00,9,   9.3575
  74DI19980423,  A16N, 13443,  1,     13,     13,2,19980504,1528, 33.5050, -21.3283, 5309,    963.9,   8.7470,  35.6360,2,  35.6350,2,    188.3,2,    190.2,0,    11.38,2,    18.16,2,     1.24,2, -999.000,9, -999.000,9,   -999.0,9,-999.0000,  -999.00,9,  -999.00,9,  -999.00,9,   8.6386
  74DI19980423,  A16N, 13443,  1,     12,     12,2,19980504,1528, 33.5050, -21.3283, 5309,   1115.6,   7.7320,  35.5330,2,  35.5330,2,    204.0,2,    203.1,0,    12.01,2,    18.10,2,     1.25,2, -999.000,9, -999.000,9,   -999.0,9,-999.0000,  -999.00,9,  -999.00,9,  -999.00,9,   7.6138
  74DI19980423,  A16N, 13443,  1,     11,     11,2,19980504,1528, 33.5050, -21.3283, 5309,   1419.8,   5.6210,  35.2490,2,  35.2500,2,    231.6,2,    234.3,0,    12.44,2,    17.80,2,     1.25,2, -999.000,9, -999.000,9,   -999.0,9,-999.0000,  -999.00,9,  -999.00,9,  -999.00,9,   5.4902
  74DI19980423,  A16N, 13443,  1,     10,     10,2,19980504,1528, 33.5050, -21.3283, 5309,   1571.7,   5.0710,  35.1850,2,  35.1860,2,    239.7,2,    241.6,0,    13.01,2,    17.79,2,     1.26,2, -999.000,9, -999.000,9,   -999.0,9,-999.0000,  -999.00,9,  -999.00,9,  -999.00,9,   4.9311
  74DI19980423,  A16N, 13443,  1,      9,      9,2,19980504,1528, 33.5050, -21.3283, 5309,   1925.5,   4.2190,  35.0880,2,  35.0880,2,    248.4,2,    248.7,0,    16.31,2,    18.26,2,     1.29,2, -999.000,9, -999.000,9,   -999.0,9,-999.0000,  -999.00,9,  -999.00,9,  -999.00,9,   4.0552
  74DI19980423,  A16N, 13443,  1,      8,      8,2,19980504,1528, 33.5050, -21.3283, 5309,   2130.2,   3.7970,  35.0420,2,  35.0430,2,    249.5,2,    248.7,0,    19.82,2,    18.58,2,     1.33,2, -999.000,9, -999.000,9,   -999.0,9,-999.0000,  -999.00,9,  -999.00,9,  -999.00,9,   3.6195
  74DI19980423,  A16N, 13443,  1,      7,      7,2,19980504,1528, 33.5050, -21.3283, 5309,   2639.9,   3.0750,  34.9700,2,  34.9710,2,    248.5,2,    249.0,0,    28.25,2,    19.58,2,     1.43,2, -999.000,9, -999.000,9,   -999.0,9,-999.0000,  -999.00,9,  -999.00,9,  -999.00,9,   2.8596
  74DI19980423,  A16N, 13443,  1,      6,      6,2,19980504,1528, 33.5050, -21.3283, 5309,   3047.7,   2.7630,  34.9410,2,  34.9410,2,    245.0,2,    245.7,0,    34.55,2,    20.42,2,     1.49,2, -999.000,9, -999.000,9,   -999.0,9,-999.0000,  -999.00,9,  -999.00,9,  -999.00,9,   2.5123
  74DI19980423,  A16N, 13443,  1,      5,      5,2,19980504,1528, 33.5050, -21.3283, 5309,   3455.6,   2.6010,  34.9230,2,  34.9220,2,    242.7,2,    244.4,0,    38.94,2,    21.08,2,     1.56,2, -999.000,9, -999.000,9,   -999.0,9,-999.0000,  -999.00,9,  -999.00,9,  -999.00,9,   2.3108
  74DI19980423,  A16N, 13443,  1,      4,      4,2,19980504,1528, 33.5050, -21.3283, 5309,   3862.7,   2.5040,  34.9090,2,  34.9090,2,    243.8,2,    244.2,0,    42.15,2,    21.46,2,     1.56,2, -999.000,9, -999.000,9,   -999.0,9,-999.0000,  -999.00,9,  -999.00,9,  -999.00,9,   2.1712
  74DI19980423,  A16N, 13443,  1,      3,      3,2,19980504,1528, 33.5050, -21.3283, 5309,   4269.9,   2.4500,  34.9000,2,  34.9000,2,    244.6,2,    243.9,0,    44.31,2,    21.65,2,     1.58,2, -999.000,9, -999.000,9,   -999.0,9,-999.0000,  -999.00,9,  -999.00,9,  -999.00,9,   2.0717
  74DI19980423,  A16N, 13443,  1,      2,      2,2,19980504,1528, 33.5050, -21.3283, 5309,   4683.4,   2.4220,  34.8920,2,  34.8920,2,    245.8,2,    244.2,0,    45.93,2,    21.80,2,     1.58,2, -999.000,9, -999.000,9,   -999.0,9,-999.0000,  -999.00,9,  -999.00,9,  -999.00,9,   1.9947
  74DI19980423,  A16N, 13443,  1,      1,      1,2,19980504,1528, 33.5050, -21.3283, 5309,   5403.1,   2.4780,  34.8880,2,  34.8910,2,    245.1,2,    245.0,0,    45.84,2,    22.54,2,     1.56,2, -999.000,9, -999.000,9,   -999.0,9,-999.0000,  -999.00,9,  -999.00,9,  -999.00,9,   1.9571