BOTTLE,20221006CCHSIOCBG
EXPOCODE,SECT_ID,STNNBR,CASTNO,SAMPNO,BTLNBR,BTLNBR_FLAG_W,DATE,TIME,LATITUDE,LONGITUDE,DEPTH,CTDPRS,CTDTMP,CTDSAL,CTDSAL_FLAG_W,SALNTY,SALNTY_FLAG_W,CTDOXY,CTDOXY_FLAG_W,OXYGEN,OXYGEN_FLAG_W,SILCAT,SILCAT_FLAG_W,NITRAT,NITRAT_FLAG_W,PHSPHT,PHSPHT_FLAG_W,CFC-11,CFC-11_FLAG_W,CFC-12,CFC-12_FLAG_W,ALKALI,ALKALI_FLAG_W,PH_SWS,PH_TEMP,PH_SWS_FLAG_W,CHLORA,CHLORA_FLAG_W,PPHYTN,PPHYTN_FLAG_W,THETA
,,,,,,,,,,,METERS,DBAR,ITS-90,PSS-78,,PSS-78,,UMOL/KG,,UMOL/KG,,UMOL/KG,,UMOL/KG,,UMOL/KG,,PMOL/KG,,PMOL/KG,,UMOL/KG,,,DEGC,,UG/L,,UG/L,,DEGC
  74DI19980423,  A16N, 13448,  1,     23,     23,2,19980506, 851, 36.0000, -20.3317, 5286,      3.1,  17.8310,  36.3780,2,  36.3810,2,    239.6,2,    237.3,2,     0.70,2,     0.00,2,     0.00,2,    3.038,3,    1.494,3,   2392.2,2,   7.9832,    25.00,2,     0.03,2,     0.02,2,  17.8305
  74DI19980423,  A16N, 13448,  1,     22,     22,2,19980506, 851, 36.0000, -20.3317, 5286,     13.2,  17.8320,  36.3810,2,  36.3800,2,    236.7,2,    237.1,2,     0.67,2,     0.00,2,     0.00,2,    3.849,3,    1.631,3,   2386.1,2,   7.9832,    25.00,2,     0.02,2,     0.00,2,  17.8297
  74DI19980423,  A16N, 13448,  1,     21,     21,2,19980506, 851, 36.0000, -20.3317, 5286,     21.0,  17.8270,  36.3800,2,  36.3990,2,    234.4,2,    237.1,2,     0.66,2,     0.00,2,     0.00,2,    3.321,3,    1.590,3,   2388.4,2,   7.9812,    25.00,2,     0.03,2,     0.02,2,  17.8234
  74DI19980423,  A16N, 13448,  1,     20,     20,2,19980506, 851, 36.0000, -20.3317, 5286,     36.5,  17.8250,  36.3770,2,  36.3760,2,    232.7,2,    237.4,2,     0.80,2,     0.00,2,     0.00,2,    3.926,3,    1.675,3,   2384.8,2,   7.9822,    25.00,2,     0.04,2,     0.01,2,  17.8187
  74DI19980423,  A16N, 13448,  1,     19,     19,2,19980506, 851, 36.0000, -20.3317, 5286,     67.0,  17.8240,  36.3810,2,  36.3800,2,    237.1,2,    236.9,2,     0.64,2,     0.00,2,     0.00,2,    3.850,3,    1.662,3,   2389.2,2,   7.9792,    25.00,2,     0.05,2,     0.02,2,  17.8125
  74DI19980423,  A16N, 13448,  1,     18,     18,2,19980506, 851, 36.0000, -20.3317, 5286,    106.7,  17.3570,  36.3030,2,  36.2950,2,    234.3,2,    235.5,2,     0.71,2,     0.19,2,     0.03,2,    3.633,3,    1.637,3,   2370.8,2,   7.9722,    25.00,2,     0.08,2,     0.03,2,  17.3390
  74DI19980423,  A16N, 13448,  1,     17,     17,2,19980506, 851, 36.0000, -20.3317, 5286,    147.0,  16.2900,  36.1650,2,  36.1650,2,    237.4,2,    224.9,2,     1.17,2,     2.78,2,     0.17,2,    3.797,3,    1.711,3,   2375.7,2,   7.9362,    25.00,2,     0.02,2,     0.01,2,  16.2663
  74DI19980423,  A16N, 13448,  1,     16,     16,2,19980506, 851, 36.0000, -20.3317, 5286,    207.9,  15.0790,  36.0440,2,  36.0400,2,    213.8,2,    213.6,2,     2.40,2,     6.91,2,     0.38,2,    3.751,3,    1.638,3,   2368.9,2,   7.8892,    25.00,2,  -999.00,9,  -999.00,9,  15.0471
  74DI19980423,  A16N, 13448,  1,     15,     15,2,19980506, 851, 36.0000, -20.3317, 5286,    358.2,  13.1640,  35.7930,2,  35.7920,2,    204.7,2,    208.8,2,     4.02,2,    10.63,2,     0.63,2,    2.774,2,    1.320,2,   2356.1,2,   7.8363,    25.00,2,  -999.00,9,  -999.00,9,  13.1136
  74DI19980423,  A16N, 13448,  1,     14,     14,2,19980506, 851, 36.0000, -20.3317, 5286,    509.5,  11.7640,  35.6050,2,  35.6020,2,    205.7,2,    204.1,2,     5.50,2,    13.55,2,     0.85,2,    1.552,3,    1.103,3,   2345.5,2,   7.7883,    25.00,2,  -999.00,9,  -999.00,9,  11.6971
  74DI19980423,  A16N, 13448,  1,     13,     13,2,19980506, 851, 36.0000, -20.3317, 5286,    711.3,  10.4810,  35.5360,2,  35.5360,2,    185.2,2,    183.9,2,     8.42,2,    17.32,2,     1.17,2,    1.288,3,    0.512,3,   2347.0,2,   7.7463,    25.00,2,  -999.00,9,  -999.00,9,  10.3933
  74DI19980423,  A16N, 13448,  1,     12,     12,2,19980506, 851, 36.0000, -20.3317, 5286,    913.0,   9.4170,  35.5750,2,  35.5760,2,    183.8,2,    184.8,2,    10.41,2,    18.22,2,     1.26,2,    1.130,2,    0.799,2,   2353.7,2,   7.7323,    25.00,2,  -999.00,9,  -999.00,9,   9.3103
  74DI19980423,  A16N, 13448,  1,     11,     11,2,19980506, 851, 36.0000, -20.3317, 5286,   1215.9,   8.7970,  35.7540,2,  35.7540,2,    198.4,2,    194.7,2,    11.41,2,    17.44,2,     1.22,2,    0.795,2,    0.533,2,   2368.9,2,   7.7433,    25.00,2,  -999.00,9,  -999.00,9,   8.6577
  74DI19980423,  A16N, 13448,  1,     10,     10,2,19980506, 851, 36.0000, -20.3317, 5286,   1621.7,   5.3960,  35.2300,2,  35.2320,2,    239.0,2,    239.4,2,    12.65,2,    17.78,2,     1.29,2,    0.715,2,    0.372,2,   2335.1,2,   7.7173,    25.00,2,  -999.00,9,  -999.00,9,   5.2471
  74DI19980423,  A16N, 13448,  1,      9,      9,2,19980506, 851, 36.0000, -20.3317, 5286,   1823.0,   4.8120,  35.1630,2,  35.1640,2,    242.9,2,    245.2,2,    13.98,2,    18.02,2,     1.29,2,    0.278,2,    0.220,2,   2330.8,2,   7.7193,    25.00,2,  -999.00,9,  -999.00,9,   4.6501
  74DI19980423,  A16N, 13448,  1,      8,      8,2,19980506, 851, 36.0000, -20.3317, 5286,   2229.6,   3.7570,  35.0310,2,  35.0320,2,    252.9,2,    253.3,2,    18.81,2,    18.46,2,     1.36,2,    0.164,2,    0.076,2,   2335.0,2,   7.7143,    25.00,2,  -999.00,9,  -999.00,9,   3.5703
  74DI19980423,  A16N, 13448,  1,      7,      7,2,19980506, 851, 36.0000, -20.3317, 5286,   2791.0,   2.9830,  34.9580,2,  34.9580,2,    252.5,2,    252.8,2,    27.89,2,    19.45,2,     1.45,2,    0.057,2,    0.026,2,   -999.0,9,-999.0000,  -999.00,9,  -999.00,9,  -999.00,9,   2.7541
  74DI19980423,  A16N, 13448,  1,      6,      6,2,19980506, 851, 36.0000, -20.3317, 5286,   3299.7,   2.7090,  34.9340,2,  34.9350,2,    245.7,2,    246.7,2,    35.75,2,    20.67,2,     1.54,2,    0.029,2,    0.015,2,   2345.5,2,   7.7053,    25.00,2,  -999.00,9,  -999.00,9,   2.4330
  74DI19980423,  A16N, 13448,  1,      5,      5,2,19980506, 851, 36.0000, -20.3317, 5286,   3813.2,   2.5570,  34.9160,2,  34.9180,2,    242.8,2,    244.1,2,    41.10,2,    21.55,2,     1.61,2,    0.021,2,    0.010,2,   2352.7,2,   7.7033,    25.00,2,  -999.00,9,  -999.00,9,   2.2283
  74DI19980423,  A16N, 13448,  1,      4,      4,2,19980506, 851, 36.0000, -20.3317, 5286,   4327.6,   2.4580,  34.9010,2,  34.9010,2,    242.7,2,    244.8,2,    44.41,2,    21.97,2,     1.63,2,    0.021,2,    0.010,2,   2354.4,2,   7.7133,    25.00,2,  -999.00,9,  -999.00,9,   2.0726
  74DI19980423,  A16N, 13448,  1,      3,      3,2,19980506, 851, 36.0000, -20.3317, 5286,   4839.9,   2.4470,  34.8930,2,  34.8940,2,    244.8,2,    244.1,2,    46.19,2,    22.06,2,     1.64,2,    0.019,2,    0.010,2,   2357.2,2,   7.7133,    25.00,2,  -999.00,9,  -999.00,9,   1.9995
  74DI19980423,  A16N, 13448,  1,      2,      2,2,19980506, 851, 36.0000, -20.3317, 5286,   5336.4,   2.5020,  34.8930,2,  34.8930,2,    244.6,2,    243.4,2,    46.62,2,    22.10,2,     1.65,2,    0.019,2,    0.010,2,   2358.3,2,   7.7093,    25.00,2,  -999.00,9,  -999.00,9,   1.9890
  74DI19980423,  A16N, 13448,  1,      1,      1,2,19980506, 851, 36.0000, -20.3317, 5286,   5381.6,   2.5080,  34.8920,2,  34.8930,2,    244.4,2,    244.3,2,    46.06,2,    21.95,2,     1.59,2,    0.019,2,    0.010,2,   2356.3,2,   7.7123,    25.00,2,  -999.00,9,  -999.00,9,   1.9888
  74DI19980423,  A16N, 13449,  1,     24,     24,2,19980506,1733, 36.5017, -19.9950, 5151,      4.2,  17.6890,  36.3770,2,  36.3750,2,    245.4,2,   -999.0,9,     0.67,2,     0.00,2,     0.05,3, -999.000,9, -999.000,9,   -999.0,9,-999.0000,  -999.00,9,     0.03,2,     0.01,2,  17.6883
  74DI19980423,  A16N, 13449,  1,     23,     23,2,19980506,1733, 36.5017, -19.9950, 5151,     16.6,  17.6820,  36.3760,2,  36.3730,2,    240.6,2,    240.9,2,     0.64,2,     0.00,2,     0.00,3, -999.000,9, -999.000,9,   -999.0,9,-999.0000,  -999.00,9,     0.02,2,     0.01,2,  17.6792
  74DI19980423,  A16N, 13449,  1,     22,     22,2,19980506,1733, 36.5017, -19.9950, 5151,     26.8,  17.6500,  36.3740,2,  36.3720,2,    236.9,2,    239.9,2,     0.69,2,     0.00,2,     0.02,3, -999.000,9, -999.000,9,   -999.0,9,-999.0000,  -999.00,9,     0.03,2,     0.01,2,  17.6454
  74DI19980423,  A16N, 13449,  1,     21,     21,2,19980506,1733, 36.5017, -19.9950, 5151,     46.4,  17.6300,  36.3720,2,  36.3710,2,    240.7,2,    240.1,2,     0.67,2,     0.00,2,     0.04,3, -999.000,9, -999.000,9,   -999.0,9,-999.0000,  -999.00,9,     0.03,2,     0.01,2,  17.6221
  74DI19980423,  A16N, 13449,  1,     20,     20,2,19980506,1733, 36.5017, -19.9950, 5151,     87.2,  17.1990,  36.2900,2,  36.2890,2,    243.1,2,    239.0,2,     0.76,2,     0.16,2,     0.04,2, -999.000,9, -999.000,9,   -999.0,9,-999.0000,  -999.00,9,     0.12,2,     0.06,2,  17.1844
  74DI19980423,  A16N, 13449,  1,     19,     19,2,19980506,1733, 36.5017, -19.9950, 5151,    127.1,  16.3920,  36.1750,2,  36.1570,2,    223.5,2,    226.9,2,     1.21,2,     2.82,2,     0.18,2, -999.000,9, -999.000,9,   -999.0,9,-999.0000,  -999.00,9,     0.03,2,     0.01,2,  16.3714
  74DI19980423,  A16N, 13449,  1,     18,     18,2,19980506,1733, 36.5017, -19.9950, 5151,    167.1,  15.4880,  36.0950,2,  36.0830,2,    221.1,2,    217.5,2,     2.09,2,     6.02,2,     0.33,2, -999.000,9, -999.000,9,   -999.0,9,-999.0000,  -999.00,9,     0.00,2,     0.00,2,  15.4619
  74DI19980423,  A16N, 13449,  1,     17,     17,2,19980506,1733, 36.5017, -19.9950, 5151,    247.9,  13.9930,  35.9170,2,  35.9100,2,    206.3,2,    207.6,0,     3.44,2,     9.48,2,     0.49,2, -999.000,9, -999.000,9,   -999.0,9,-999.0000,  -999.00,9,  -999.00,9,  -999.00,9,  13.9568
  74DI19980423,  A16N, 13449,  1,     16,     16,2,19980506,1733, 36.5017, -19.9950, 5151,    328.5,  13.0990,  35.7870,2,  35.7840,2,    210.7,2,    211.5,2,     3.98,2,    10.56,2,     0.61,2, -999.000,9, -999.000,9,   -999.0,9,-999.0000,  -999.00,9,  -999.00,9,  -999.00,9,  13.0530
  74DI19980423,  A16N, 13449,  1,     15,     15,2,19980506,1733, 36.5017, -19.9950, 5151,    509.2,  11.4340,  35.5670,2,  35.5650,2,    205.9,2,    205.7,2,     5.72,2,    13.93,2,     0.79,2, -999.000,9, -999.000,9,   -999.0,9,-999.0000,  -999.00,9,  -999.00,9,  -999.00,9,  11.3683
  74DI19980423,  A16N, 13449,  1,     14,     14,2,19980506,1733, 36.5017, -19.9950, 5151,    761.1,   9.8870,  35.5140,2,  35.5130,2,    188.7,2,    185.0,2,     9.60,2,    18.01,2,     1.04,2, -999.000,9, -999.000,9,   -999.0,9,-999.0000,  -999.00,9,  -999.00,9,  -999.00,9,   9.7962
  74DI19980423,  A16N, 13449,  1,     13,     13,2,19980506,1733, 36.5017, -19.9950, 5151,    962.9,   9.7020,  35.7360,2,  35.7310,2,    180.0,2,    183.9,2,    10.76,2,    18.00,2,     1.05,2, -999.000,9, -999.000,9,   -999.0,9,-999.0000,  -999.00,9,  -999.00,9,  -999.00,9,   9.5870
  74DI19980423,  A16N, 13449,  1,     12,     12,2,19980506,1733, 36.5017, -19.9950, 5151,   1115.5,   9.2740,  35.7880,2,  35.7940,2,    189.2,2,    190.1,2,    11.26,2,    17.73,2,     1.03,2, -999.000,9, -999.000,9,   -999.0,9,-999.0000,  -999.00,9,  -999.00,9,  -999.00,9,   9.1430
  74DI19980423,  A16N, 13449,  1,     11,     11,2,19980506,1733, 36.5017, -19.9950, 5151,   1418.3,   6.6270,  35.4140,2,  35.2160,0,    223.6,2,    224.3,2,    12.13,2,    17.86,2,     1.06,2, -999.000,9, -999.000,9,   -999.0,9,-999.0000,  -999.00,9,  -999.00,9,  -999.00,9,   6.4856
  74DI19980423,  A16N, 13449,  1,     10,     10,2,19980506,1733, 36.5017, -19.9950, 5151,   1569.4,   5.5680,  35.2560,2,  35.2560,2,    238.3,2,    238.6,2,    12.44,2,    17.84,2,     1.09,2, -999.000,9, -999.000,9,   -999.0,9,-999.0000,  -999.00,9,  -999.00,9,  -999.00,9,   5.4224
  74DI19980423,  A16N, 13449,  1,      9,      9,2,19980506,1733, 36.5017, -19.9950, 5151,   1925.4,   4.4440,  35.1080,2,  35.1070,2,    251.3,2,    250.9,2,    14.79,2,    18.01,2,     1.12,2, -999.000,9, -999.000,9,   -999.0,9,-999.0000,  -999.00,9,  -999.00,9,  -999.00,9,   4.2770
  74DI19980423,  A16N, 13449,  1,      8,      8,2,19980506,1733, 36.5017, -19.9950, 5151,   2129.4,   3.9830,  35.0560,2,  35.0560,2,    253.9,2,    253.4,2,    17.32,2,    18.41,2,     1.10,2, -999.000,9, -999.000,9,   -999.0,9,-999.0000,  -999.00,9,  -999.00,9,  -999.00,9,   3.8026
  74DI19980423,  A16N, 13449,  1,      7,      7,2,19980506,1733, 36.5017, -19.9950, 5151,   2638.4,   3.0590,  34.9600,2,  34.9590,2,    257.2,2,    257.0,2,    25.35,2,    19.10,2,     1.18,2, -999.000,9, -999.000,9,   -999.0,9,-999.0000,  -999.00,9,  -999.00,9,  -999.00,9,   2.8441
  74DI19980423,  A16N, 13449,  1,      6,      6,2,19980506,1733, 36.5017, -19.9950, 5151,   3045.9,   2.7910,  34.9420,2,  34.9420,2,    249.2,2,    249.9,2,    33.30,2,    20.40,2,     1.26,2, -999.000,9, -999.000,9,   -999.0,9,-999.0000,  -999.00,9,  -999.00,9,  -999.00,9,   2.5399
  74DI19980423,  A16N, 13449,  1,      5,      5,2,19980506,1733, 36.5017, -19.9950, 5151,   3454.9,   2.6440,  34.9270,2,  34.9260,2,    245.2,2,    246.3,2,    38.59,2,    21.22,2,     1.34,2, -999.000,9, -999.000,9,   -999.0,9,-999.0000,  -999.00,9,  -999.00,9,  -999.00,9,   2.3528
  74DI19980423,  A16N, 13449,  1,      4,      4,2,19980506,1733, 36.5017, -19.9950, 5151,   3861.8,   2.5380,  34.9140,2,  34.9130,2,    244.3,2,    245.6,2,    42.34,2,    21.74,2,     1.39,2, -999.000,9, -999.000,9,   -999.0,9,-999.0000,  -999.00,9,  -999.00,9,  -999.00,9,   2.2044
  74DI19980423,  A16N, 13449,  1,      3,      3,2,19980506,1733, 36.5017, -19.9950, 5151,   4273.7,   2.4540,  34.9010,2,  34.8990,2,    244.8,2,    244.3,2,    44.58,2,    22.06,2,     1.41,2, -999.000,9, -999.000,9,   -999.0,9,-999.0000,  -999.00,9,  -999.00,9,  -999.00,9,   2.0751
  74DI19980423,  A16N, 13449,  1,      2,      2,2,19980506,1733, 36.5017, -19.9950, 5151,   4686.9,   2.4370,  34.8940,2,  34.8930,2,    245.9,2,    244.4,2,    46.67,2,    22.37,2,     1.41,2, -999.000,9, -999.000,9,   -999.0,9,-999.0000,  -999.00,9,  -999.00,9,  -999.00,9,   2.0088
  74DI19980423,  A16N, 13449,  1,      1,      1,2,19980506,1733, 36.5017, -19.9950, 5151,   5242.1,   2.4900,  34.8920,2,  34.8910,2,    245.2,2,    245.4,2,    46.60,2,    21.94,2,     1.37,2, -999.000,9, -999.000,9,   -999.0,9,-999.0000,  -999.00,9,  -999.00,9,  -999.00,9,   1.9897