BOTTLE,20221006CCHSIOCBG
EXPOCODE,SECT_ID,STNNBR,CASTNO,SAMPNO,BTLNBR,BTLNBR_FLAG_W,DATE,TIME,LATITUDE,LONGITUDE,DEPTH,CTDPRS,CTDTMP,CTDSAL,CTDSAL_FLAG_W,SALNTY,SALNTY_FLAG_W,CTDOXY,CTDOXY_FLAG_W,OXYGEN,OXYGEN_FLAG_W,SILCAT,SILCAT_FLAG_W,NITRAT,NITRAT_FLAG_W,PHSPHT,PHSPHT_FLAG_W,CFC-11,CFC-11_FLAG_W,CFC-12,CFC-12_FLAG_W,ALKALI,ALKALI_FLAG_W,PH_SWS,PH_TEMP,PH_SWS_FLAG_W,CHLORA,CHLORA_FLAG_W,PPHYTN,PPHYTN_FLAG_W,THETA
,,,,,,,,,,,METERS,DBAR,ITS-90,PSS-78,,PSS-78,,UMOL/KG,,UMOL/KG,,UMOL/KG,,UMOL/KG,,UMOL/KG,,PMOL/KG,,PMOL/KG,,UMOL/KG,,,DEGC,,UG/L,,UG/L,,DEGC
  74DI19980423,  A16N, 13422,  1,     22,     22,2,19980427,2357, 23.0017, -21.1667, 4323,      5.7,  21.8520,  36.9250,2,  36.9290,2,    216.0,2,    220.7,2,     0.47,2,     0.00,2,     0.02,2,    1.934,3,    1.309,3,   2427.3,6,   8.0292,    25.00,2,     0.05,2,     0.02,2,  21.8509
  74DI19980423,  A16N, 13422,  1,     21,     21,2,19980427,2357, 23.0017, -21.1667, 4323,     16.7,  21.8560,  36.9260,2,  36.9280,2,    216.0,2,    220.5,2,     0.51,2,     0.00,2,     0.04,2,    2.340,3,    0.879,3,   2440.4,2,   8.0282,    25.00,2,     0.04,2,     0.02,2,  21.8527
  74DI19980423,  A16N, 13422,  1,     20,     20,2,19980427,2357, 23.0017, -21.1667, 4323,     30.1,  21.8550,  36.9380,2,  36.9390,2,    214.1,2,    219.5,2,     0.47,2,     0.00,2,     0.03,2,    1.443,3,    1.023,3,   2430.5,2,   8.0252,    25.00,2,     0.04,2,     0.02,2,  21.8490
  74DI19980423,  A16N, 13422,  1,     19,     19,2,19980427,2357, 23.0017, -21.1667, 4323,     55.7,  21.6960,  36.9710,2,  36.9710,2,    217.8,2,    219.0,2,     0.47,2,     0.03,2,     0.04,2,    1.957,3,    1.250,3,   2430.9,2,   8.0222,    25.00,2,     0.09,2,     0.02,2,  21.6850
  74DI19980423,  A16N, 13422,  1,     18,     18,2,19980427,2357, 23.0017, -21.1667, 4323,     80.0,  21.2270,  36.9770,2,  36.9810,2,    215.8,2,    210.8,2,     0.60,2,     0.47,2,     0.09,2,    1.901,3,    1.232,3,   2430.3,2,   8.0002,    25.00,2,     0.11,2,     0.06,2,  21.2114
  74DI19980423,  A16N, 13422,  1,     17,     17,2,19980427,2357, 23.0017, -21.1667, 4323,    105.0,  20.3700,  36.8290,2,  36.8240,2,    201.3,2,    189.0,2,     1.35,2,     3.90,2,     0.30,2,    1.883,3,    1.240,3,   2417.9,2,   7.9522,    25.00,2,     0.01,2,     0.00,2,  20.3502
  74DI19980423,  A16N, 13422,  1,     16,     16,2,19980427,2357, 23.0017, -21.1667, 4323,    156.1,  17.3700,  36.3030,2,  36.3000,2,    136.6,2,    122.2,2,     4.35,2,    14.08,2,     0.93,2, -999.000,9, -999.000,9,   2382.4,2,   7.8062,    25.00,2,     0.00,2,     0.00,2,  17.3436
  74DI19980423,  A16N, 13422,  1,     15,     15,2,19980427,2357, 23.0017, -21.1667, 4323,    207.3,  16.6020,  36.3400,2,  36.3430,2,    169.8,2,    166.4,2,     2.83,2,     9.37,2,     0.59,2,    1.982,3,    1.074,2,   2386.0,2,   7.8722,    25.00,2,  -999.00,9,  -999.00,9,  16.5680
  74DI19980423,  A16N, 13422,  1,     14,     14,2,19980427,2357, 23.0017, -21.1667, 4323,    412.0,  12.7630,  35.7300,2,  35.7270,2,    128.2,2,    144.2,2,     6.90,2,    18.12,2,     1.20,2,    1.962,3,    1.047,2,   2353.1,2,   7.7523,    25.00,2,  -999.00,9,  -999.00,9,  12.7062
  74DI19980423,  A16N, 13422,  1,     13,     13,2,19980427,2357, 23.0017, -21.1667, 4323,    617.1,   9.5570,  35.2520,2,  35.2540,2,    102.1,2,     89.0,2,    15.62,2,    29.84,2,     2.09,2,    0.392,3,    0.165,3,   2333.5,2,   7.5903,    25.00,2,  -999.00,9,  -999.00,9,   9.4856
  74DI19980423,  A16N, 13422,  1,     12,     12,2,19980427,2357, 23.0017, -21.1667, 4323,    818.3,   7.7010,  35.0610,2,  35.0600,2,    107.3,2,    107.0,2,    20.15,2,    30.89,2,     2.24,2,    0.071,2,    0.034,2,   2330.6,2,   7.5783,    25.00,2,  -999.00,9,  -999.00,9,   7.6166
  74DI19980423,  A16N, 13422,  1,     11,     11,2,19980427,2357, 23.0017, -21.1667, 4323,   1023.0,   6.4210,  35.0010,2,  35.0010,2,    137.7,2,    141.5,2,    21.81,2,    28.79,2,     2.11,2,    0.030,2,    0.016,2,   2330.2,2,   7.6153,    25.00,2,  -999.00,9,  -999.00,9,   6.3239
  74DI19980423,  A16N, 13422,  1,     10,     10,2,19980427,2357, 23.0017, -21.1667, 4323,   1283.3,   5.9460,  35.1400,2,  35.1400,2,    168.8,2,    174.0,2,    20.49,2,    24.83,2,     1.81,2,    0.019,2,    0.010,2,   2340.4,2,   7.6593,    25.00,2,  -999.00,9,  -999.00,9,   5.8261
  74DI19980423,  A16N, 13422,  1,      9,      9,2,19980427,2357, 23.0017, -21.1667, 4323,   1540.4,   5.0730,  35.1130,2,  35.1140,2,    196.5,2,    198.1,2,    21.90,2,    23.28,2,     1.71,2,    0.019,2,    0.010,2,   2340.2,2,   7.6823,    25.00,2,  -999.00,9,  -999.00,9,   4.9364
  74DI19980423,  A16N, 13422,  1,      8,      8,2,19980427,2357, 23.0017, -21.1667, 4323,   1797.9,   4.3590,  35.0630,2,  35.0640,2,    213.9,2,    212.2,2,    23.94,2,    22.43,2,     1.65,2,    0.019,2,    0.010,2,   2339.1,2,   7.6883,    25.00,2,  -999.00,9,  -999.00,9,   4.2059
  74DI19980423,  A16N, 13422,  1,      7,      7,2,19980427,2357, 23.0017, -21.1667, 4323,   2055.8,   3.8280,  35.0260,2,  35.0260,2,    224.9,2,    224.0,2,    26.55,2,    21.72,2,     1.62,2,    0.019,2,    0.010,2,   2340.4,2,   7.6953,    25.00,2,  -999.00,9,  -999.00,9,   3.6574
  74DI19980423,  A16N, 13422,  1,      6,      6,2,19980427,2357, 23.0017, -21.1667, 4323,   2314.3,   3.5100,  35.0050,2,  35.0050,2,    230.7,2,    228.4,2,    29.35,2,    21.56,2,     1.61,2,    0.019,2,    0.010,2,   2345.7,2,   7.6973,    25.00,2,  -999.00,9,  -999.00,9,   3.3191
  74DI19980423,  A16N, 13422,  1,      5,      5,2,19980427,2357, 23.0017, -21.1667, 4323,   2570.8,   3.2710,  34.9840,2,  34.9840,2,    233.9,2,    231.8,2,    32.12,2,    21.51,2,     1.59,2,    0.019,2,    0.010,2,   2346.9,2,   7.7003,    25.00,2,  -999.00,9,  -999.00,9,   3.0588
  74DI19980423,  A16N, 13422,  1,      4,      4,2,19980427,2357, 23.0017, -21.1667, 4323,   3088.6,   2.7830,  34.9380,2,  34.9390,2,    235.3,2,    234.5,2,    38.60,2,    21.78,2,     1.61,2,    0.019,2,    0.010,2,   2357.4,2,   7.7043,    25.00,2,  -999.00,9,  -999.00,9,   2.5276
  74DI19980423,  A16N, 13422,  1,      3,      3,2,19980427,2357, 23.0017, -21.1667, 4323,   3609.4,   2.5020,  34.9120,2,  34.9110,2,    238.2,2,    238.2,2,    43.68,2,    22.22,2,     1.63,2,    0.288,3,    0.010,2,   2364.6,2,   7.7053,    25.00,2,  -999.00,9,  -999.00,9,   2.1975
  74DI19980423,  A16N, 13422,  1,      2,      2,2,19980427,2357, 23.0017, -21.1667, 4323,   4128.4,   2.3860,  34.8950,2,  34.8950,2,    242.1,2,    241.8,2,    46.26,2,    22.30,2,     1.61,2,    0.019,2,    0.010,2,   2362.8,2,   7.7063,    25.00,2,  -999.00,9,  -999.00,9,   2.0261
  74DI19980423,  A16N, 13422,  1,      1,      1,2,19980427,2357, 23.0017, -21.1667, 4323,   4381.5,   2.3900,  34.8920,2,  34.8920,2,    240.1,2,    242.6,2,    46.43,2,    22.26,2,     1.57,2,    0.019,2,    0.010,2,   -999.0,9,-999.0000,  -999.00,9,  -999.00,9,  -999.00,9,   2.0002
  74DI19980423,  A16N, 13423,  1,     23,     23,2,19980428, 846, 23.4967, -21.1967, 4364,      4.1,  21.5950,  36.8340,2,  36.8370,2,    224.7,2,    222.3,2,     0.75,2,     0.00,2,     0.02,2, -999.000,9, -999.000,9,   -999.0,9,-999.0000,  -999.00,9,     0.11,2,     0.03,2,  21.5942
  74DI19980423,  A16N, 13423,  1,     22,     22,2,19980428, 846, 23.4967, -21.1967, 4364,     10.3,  21.5880,  36.8310,6,  36.8300,2,    225.0,2,    222.8,2,     0.75,2,     0.00,2,     0.01,2, -999.000,9, -999.000,9,   -999.0,9,-999.0000,  -999.00,9,     0.11,2,     0.03,2,  21.5860
  74DI19980423,  A16N, 13423,  1,     21,     21,2,19980428, 846, 23.4967, -21.1967, 4364,     18.6,  21.5830,  36.8320,2,  36.8310,2,    220.5,2,    222.4,2,     0.73,2,     0.00,2,     0.02,2, -999.000,9, -999.000,9,   -999.0,9,-999.0000,  -999.00,9,     0.12,2,     0.02,2,  21.5793
  74DI19980423,  A16N, 13423,  1,     20,     20,2,19980428, 846, 23.4967, -21.1967, 4364,     34.0,  21.6290,  37.1080,2,  37.1070,2,    221.0,2,    221.1,2,     0.72,2,     0.00,2,     0.00,2, -999.000,9, -999.000,9,   -999.0,9,-999.0000,  -999.00,9,     0.04,2,     0.02,2,  21.6223
  74DI19980423,  A16N, 13423,  1,     19,     19,2,19980428, 846, 23.4967, -21.1967, 4364,     64.6,  21.4190,  37.1260,2,  37.1230,2,    222.7,2,    221.6,2,     0.72,2,     0.00,2,     0.01,2, -999.000,9, -999.000,9,   -999.0,9,-999.0000,  -999.00,9,     0.09,2,     0.02,2,  21.4063
  74DI19980423,  A16N, 13423,  1,     18,     18,2,19980428, 846, 23.4967, -21.1967, 4364,     95.4,  21.0300,  37.1360,2,  37.1370,2,    217.2,2,    215.0,2,     0.76,2,     0.45,2,     0.03,2, -999.000,9, -999.000,9,   -999.0,9,-999.0000,  -999.00,9,     0.01,2,     0.00,2,  21.0115
  74DI19980423,  A16N, 13423,  1,     17,     17,2,19980428, 846, 23.4967, -21.1967, 4364,    114.8,  20.1200,  36.9230,2,  36.9150,2,    188.3,2,    198.7,2,     1.35,2,     3.08,2,     0.19,2, -999.000,9, -999.000,9,   -999.0,9,-999.0000,  -999.00,9,     0.05,2,     0.02,2,  20.0985
  74DI19980423,  A16N, 13423,  1,     16,     16,2,19980428, 846, 23.4967, -21.1967, 4364,    145.7,  18.1840,  36.5890,2,  36.5790,2,    179.4,2,    175.3,2,     2.26,2,     6.87,2,     0.42,2, -999.000,9, -999.000,9,   -999.0,9,-999.0000,  -999.00,9,  -999.00,9,  -999.00,9,  18.1586
  74DI19980423,  A16N, 13423,  1,     15,     15,2,19980428, 846, 23.4967, -21.1967, 4364,    186.8,  17.0070,  36.3720,2,  36.3740,2,    158.6,2,    155.4,2,     3.31,2,    10.44,2,     0.65,2, -999.000,9, -999.000,9,   -999.0,9,-999.0000,  -999.00,9,  -999.00,9,  -999.00,9,  16.9759
  74DI19980423,  A16N, 13423,  1,     14,     14,2,19980428, 846, 23.4967, -21.1967, 4364,    226.8,  15.8740,  36.1900,2,  36.1860,2,    149.6,2,    147.7,2,     4.23,2,    12.98,2,     0.83,2, -999.000,9, -999.000,9,   -999.0,9,-999.0000,  -999.00,9,  -999.00,9,  -999.00,9,  15.8379
  74DI19980423,  A16N, 13423,  1,     13,     13,2,19980428, 846, 23.4967, -21.1967, 4364,    359.2,  13.6330,  35.8550,2,  35.8540,2,    127.6,2,    141.1,2,     6.19,2,    17.23,2,     1.10,2, -999.000,9, -999.000,9,   -999.0,9,-999.0000,  -999.00,9,  -999.00,9,  -999.00,9,  13.5813
  74DI19980423,  A16N, 13423,  1,     12,     12,2,19980428, 846, 23.4967, -21.1967, 4364,    512.2,  11.3050,  35.5180,2,  35.5180,2,    136.0,2,    120.8,2,    10.61,2,    23.53,2,     1.58,2, -999.000,9, -999.000,9,   -999.0,9,-999.0000,  -999.00,9,  -999.00,9,  -999.00,9,  11.2395
  74DI19980423,  A16N, 13423,  1,     11,     11,3,19980428, 846, 23.4967, -21.1967, 4364,    718.4,   8.5950,  35.1650,2,  35.2120,2,    100.3,2,    101.4,2,    17.55,2,    29.32,2,     2.08,2, -999.000,9, -999.000,9,   -999.0,9,-999.0000,  -999.00,9,  -999.00,9,  -999.00,9,   8.5165
  74DI19980423,  A16N, 13423,  1,     10,     10,2,19980428, 846, 23.4967, -21.1967, 4364,    920.1,   6.9910,  35.0290,2,  35.0290,2,    126.4,2,    123.4,2,    21.62,2,    30.30,2,     2.20,2, -999.000,9, -999.000,9,   -999.0,9,-999.0000,  -999.00,9,  -999.00,9,  -999.00,9,   6.9003
  74DI19980423,  A16N, 13423,  1,      9,      9,2,19980428, 846, 23.4967, -21.1967, 4364,   1229.4,   6.1290,  35.1300,2,  35.1300,2,    169.2,2,    167.3,2,    20.95,2,    25.80,2,     1.87,2, -999.000,9, -999.000,9,   -999.0,9,-999.0000,  -999.00,9,  -999.00,9,  -999.00,9,   6.0130
  74DI19980423,  A16N, 13423,  1,      8,      8,2,19980428, 846, 23.4967, -21.1967, 4364,   1639.7,   4.7530,  35.0960,2,  35.0970,2,    203.9,2,    206.3,2,    22.66,2,    22.83,2,     1.66,2, -999.000,9, -999.000,9,   -999.0,9,-999.0000,  -999.00,9,  -999.00,9,  -999.00,9,   4.6104
  74DI19980423,  A16N, 13423,  1,      7,      7,2,19980428, 846, 23.4967, -21.1967, 4364,   1848.6,   4.2210,  35.0610,2,  35.0610,2,    215.2,2,    217.5,2,    24.70,2,    22.24,2,     1.62,2, -999.000,9, -999.000,9,   -999.0,9,-999.0000,  -999.00,9,  -999.00,9,  -999.00,9,   4.0649
  74DI19980423,  A16N, 13423,  1,      6,      6,2,19980428, 846, 23.4967, -21.1967, 4364,   2261.0,   3.5790,  35.0160,2,  35.0170,2,    228.6,2,    228.6,2,    29.87,2,    21.60,2,     1.59,2, -999.000,9, -999.000,9,   -999.0,9,-999.0000,  -999.00,9,  -999.00,9,  -999.00,9,   3.3922
  74DI19980423,  A16N, 13423,  1,      5,      5,2,19980428, 846, 23.4967, -21.1967, 4364,   2827.7,   2.9230,  34.9530,2,  34.9530,2,    232.8,2,    235.0,2,    36.71,2,    21.84,2,     1.61,2, -999.000,9, -999.000,9,   -999.0,9,-999.0000,  -999.00,9,  -999.00,9,  -999.00,9,   2.6916
  74DI19980423,  A16N, 13423,  1,      4,      4,2,19980428, 846, 23.4967, -21.1967, 4364,   3341.1,   2.5900,  34.9220,2,  34.9220,2,    235.6,2,    237.0,2,    42.40,2,    22.25,2,     1.63,2, -999.000,9, -999.000,9,   -999.0,9,-999.0000,  -999.00,9,  -999.00,9,  -999.00,9,   2.3124
  74DI19980423,  A16N, 13423,  1,      3,      3,3,19980428, 846, 23.4967, -21.1967, 4364,   3860.9,   2.4210,  34.9020,2,  34.9020,2,    242.6,2,    241.0,2,    45.59,2,    22.34,2,     1.62,2, -999.000,9, -999.000,9,   -999.0,9,-999.0000,  -999.00,9,  -999.00,9,  -999.00,9,   2.0907
  74DI19980423,  A16N, 13423,  1,      2,      2,2,19980428, 846, 23.4967, -21.1967, 4364,   4381.8,   2.3830,  34.8930,2,  34.8920,2,    246.0,2,    245.6,2,    46.98,2,    22.25,2,     1.61,2, -999.000,9, -999.000,9,   -999.0,9,-999.0000,  -999.00,9,  -999.00,9,  -999.00,9,   1.9934
  74DI19980423,  A16N, 13423,  1,      1,      1,2,19980428, 846, 23.4967, -21.1967, 4364,   4422.8,   2.3880,  34.8930,2,  34.8930,2,    245.7,2,    244.6,2,    46.21,2,    22.25,2,     1.56,2, -999.000,9, -999.000,9,   -999.0,9,-999.0000,  -999.00,9,  -999.00,9,  -999.00,9,   1.9934