BOTTLE,20221006CCHSIOCBG
EXPOCODE,SECT_ID,STNNBR,CASTNO,SAMPNO,BTLNBR,BTLNBR_FLAG_W,DATE,TIME,LATITUDE,LONGITUDE,DEPTH,CTDPRS,CTDTMP,CTDSAL,CTDSAL_FLAG_W,SALNTY,SALNTY_FLAG_W,CTDOXY,CTDOXY_FLAG_W,OXYGEN,OXYGEN_FLAG_W,SILCAT,SILCAT_FLAG_W,NITRAT,NITRAT_FLAG_W,PHSPHT,PHSPHT_FLAG_W,CFC-11,CFC-11_FLAG_W,CFC-12,CFC-12_FLAG_W,ALKALI,ALKALI_FLAG_W,PH_SWS,PH_TEMP,PH_SWS_FLAG_W,CHLORA,CHLORA_FLAG_W,PPHYTN,PPHYTN_FLAG_W,THETA
,,,,,,,,,,,METERS,DBAR,ITS-90,PSS-78,,PSS-78,,UMOL/KG,,UMOL/KG,,UMOL/KG,,UMOL/KG,,UMOL/KG,,PMOL/KG,,PMOL/KG,,UMOL/KG,,,DEGC,,UG/L,,UG/L,,DEGC
  74DI19980423,  A16N, 13461,  1,     24,     24,2,19980510, 224, 42.5067, -20.0017, 4179,      6.1,  14.4470,  35.8750,2,  35.8740,2,    263.7,2,    261.0,2,     1.00,2,     1.15,2,     0.10,3, -999.000,9, -999.000,9,   -999.0,9,-999.0000,  -999.00,9,     0.10,2,     0.01,2,  14.4461
  74DI19980423,  A16N, 13461,  1,     23,     23,2,19980510, 224, 42.5067, -20.0017, 4179,     18.3,  14.4460,  35.8750,2,  35.8740,2,    261.5,2,    260.0,2,     0.86,2,     1.12,2,     0.08,3, -999.000,9, -999.000,9,   -999.0,9,-999.0000,  -999.00,9,     0.10,2,     0.00,2,  14.4433
  74DI19980423,  A16N, 13461,  1,     22,     22,2,19980510, 224, 42.5067, -20.0017, 4179,     31.4,  14.4550,  35.8750,2,  35.8750,2,    257.9,2,    261.0,2,     1.06,2,     1.29,2,     0.05,3, -999.000,9, -999.000,9,   -999.0,9,-999.0000,  -999.00,9,     0.10,2,     0.01,2,  14.4504
  74DI19980423,  A16N, 13461,  1,     21,     21,2,19980510, 224, 42.5067, -20.0017, 4179,     56.9,  14.0560,  35.8600,2,  35.8580,2,    254.8,2,    255.5,2,     1.03,2,     2.22,2,     0.11,3, -999.000,9, -999.000,9,   -999.0,9,-999.0000,  -999.00,9,     0.12,2,     0.03,2,  14.0477
  74DI19980423,  A16N, 13461,  1,     20,     20,2,19980510, 224, 42.5067, -20.0017, 4179,     80.6,  13.7630,  35.8490,2,  35.8470,2,    252.1,2,    250.8,2,     1.39,2,     3.36,2,     0.17,3, -999.000,9, -999.000,9,   -999.0,9,-999.0000,  -999.00,9,     0.09,2,     0.03,2,  13.7514
  74DI19980423,  A16N, 13461,  1,     19,     19,2,19980510, 224, 42.5067, -20.0017, 4179,    106.3,  13.5790,  35.8410,2,  35.8390,2,    250.8,2,    248.7,2,     1.47,2,     4.10,2,     0.19,2, -999.000,9, -999.000,9,   -999.0,9,-999.0000,  -999.00,9,     0.03,2,     0.03,2,  13.5639
  74DI19980423,  A16N, 13461,  1,     18,     18,2,19980510, 224, 42.5067, -20.0017, 4179,    156.8,  13.4430,  35.8340,2,  35.8320,2,    246.1,2,    249.7,2,     1.74,2,     4.65,2,     0.25,2, -999.000,9, -999.000,9,   -999.0,9,-999.0000,  -999.00,9,     0.02,2,     0.00,2,  13.4208
  74DI19980423,  A16N, 13461,  1,     17,     17,2,19980510, 224, 42.5067, -20.0017, 4179,    206.0,  12.7310,  35.7280,2,  35.7270,2,    224.0,2,    230.2,2,     3.06,2,     9.09,2,     0.50,2, -999.000,9, -999.000,9,   -999.0,9,-999.0000,  -999.00,9,  -999.00,9,  -999.00,9,  12.7028
  74DI19980423,  A16N, 13461,  1,     16,     16,2,19980510, 224, 42.5067, -20.0017, 4179,    401.8,  11.3240,  35.5490,2,  35.5440,2,    225.7,2,    220.0,2,     4.76,2,    12.72,2,     0.72,2, -999.000,9, -999.000,9,   -999.0,9,-999.0000,  -999.00,9,  -999.00,9,  -999.00,9,  11.2728
  74DI19980423,  A16N, 13461,  1,     15,     15,2,19980510, 224, 42.5067, -20.0017, 4179,    610.3,  10.3770,  35.4860,2,  35.4850,2,    210.5,2,    203.4,2,     7.09,2,    15.63,2,     0.92,2, -999.000,9, -999.000,9,   -999.0,9,-999.0000,  -999.00,9,  -999.00,9,  -999.00,9,  10.3026
  74DI19980423,  A16N, 13461,  1,     14,     14,2,19980510, 224, 42.5067, -20.0017, 4179,    809.7,   9.5610,  35.5670,2,  35.5630,2,    188.8,2,    189.7,2,     9.70,2,    17.52,2,     1.06,2, -999.000,9, -999.000,9,   -999.0,9,-999.0000,  -999.00,9,  -999.00,9,  -999.00,9,   9.4660
  74DI19980423,  A16N, 13461,  1,     13,     13,2,19980510, 224, 42.5067, -20.0017, 4179,   1007.5,   8.8510,  35.6550,2,  35.6530,2,    192.1,2,    194.3,2,    10.59,2,    17.60,2,     1.06,2, -999.000,9, -999.000,9,   -999.0,9,-999.0000,  -999.00,9,  -999.00,9,  -999.00,9,   8.7366
  74DI19980423,  A16N, 13461,  1,     12,     12,2,19980510, 224, 42.5067, -20.0017, 4179,   1255.9,   6.6370,  35.3680,2,  35.3660,2,    220.7,2,    221.5,2,    11.74,2,    18.51,2,     1.12,2, -999.000,9, -999.000,9,   -999.0,9,-999.0000,  -999.00,9,  -999.00,9,  -999.00,9,   6.5131
  74DI19980423,  A16N, 13461,  1,     11,     11,4,19980510, 224, 42.5067, -20.0017, 4179,   1513.3,   5.0640,  35.1460,2,  35.1460,2,    244.0,2,    244.9,2,    12.32,2,    17.90,2,     1.12,2, -999.000,9, -999.000,9,   -999.0,9,-999.0000,  -999.00,9,  -999.00,9,  -999.00,9,   4.9301
  74DI19980423,  A16N, 13461,  1,     10,     10,2,19980510, 224, 42.5067, -20.0017, 4179,   1519.6,   5.0450,  35.1440,2,  35.1450,2,    243.7,2,    245.1,2,    12.30,2,    17.92,2,     1.12,2, -999.000,9, -999.000,9,   -999.0,9,-999.0000,  -999.00,9,  -999.00,9,  -999.00,9,   4.9107
  74DI19980423,  A16N, 13461,  1,      9,      9,2,19980510, 224, 42.5067, -20.0017, 4179,   1774.7,   3.8750,  34.9670,2,  34.9660,2,    264.7,2,    265.4,2,    12.42,2,    17.65,2,     1.13,2, -999.000,9, -999.000,9,   -999.0,9,-999.0000,  -999.00,9,  -999.00,9,  -999.00,9,   3.7309
  74DI19980423,  A16N, 13461,  1,      8,      8,2,19980510, 224, 42.5067, -20.0017, 4179,   2029.3,   3.6380,  34.9650,2,  34.9640,2,    264.5,2,    264.6,2,    14.49,2,    17.67,2,     1.13,2, -999.000,9, -999.000,9,   -999.0,9,-999.0000,  -999.00,9,  -999.00,9,  -999.00,9,   3.4730
  74DI19980423,  A16N, 13461,  1,      7,      7,2,19980510, 224, 42.5067, -20.0017, 4179,   2283.9,   3.3940,  34.9640,2,  34.9630,2,    262.8,2,    261.9,2,    18.05,2,    18.00,2,     1.18,2, -999.000,9, -999.000,9,   -999.0,9,-999.0000,  -999.00,9,  -999.00,9,  -999.00,9,   3.2082
  74DI19980423,  A16N, 13461,  1,      6,      6,2,19980510, 224, 42.5067, -20.0017, 4179,   2539.4,   3.1140,  34.9570,2,  34.9570,2,    259.0,2,    258.7,2,    22.38,2,    18.45,2,     1.21,2, -999.000,9, -999.000,9,   -999.0,9,-999.0000,  -999.00,9,  -999.00,9,  -999.00,9,   2.9080
  74DI19980423,  A16N, 13461,  1,      5,      5,2,19980510, 224, 42.5067, -20.0017, 4179,   2794.4,   2.9150,  34.9500,2,  34.9490,2,    255.7,2,    255.3,2,    27.19,2,    19.18,2,     1.26,2, -999.000,9, -999.000,9,   -999.0,9,-999.0000,  -999.00,9,  -999.00,9,  -999.00,9,   2.6872
  74DI19980423,  A16N, 13461,  1,      4,      4,2,19980510, 224, 42.5067, -20.0017, 4179,   3049.1,   2.7930,  34.9420,2,  34.9420,2,    251.5,2,    251.5,2,    31.31,2,    19.76,2,     1.32,2, -999.000,9, -999.000,9,   -999.0,9,-999.0000,  -999.00,9,  -999.00,9,  -999.00,9,   2.5415
  74DI19980423,  A16N, 13461,  1,      3,      3,2,19980510, 224, 42.5067, -20.0017, 4179,   3561.0,   2.6230,  34.9250,2,  34.9240,2,    243.7,2,    243.5,2,    39.52,2,    21.21,2,     1.42,2, -999.000,9, -999.000,9,   -999.0,9,-999.0000,  -999.00,9,  -999.00,9,  -999.00,9,   2.3207
  74DI19980423,  A16N, 13461,  1,      2,      2,2,19980510, 224, 42.5067, -20.0017, 4179,   4075.5,   2.5750,  34.9150,2,  34.9140,2,    240.6,2,    240.2,2,    43.70,2,    21.80,2,     1.43,2, -999.000,9, -999.000,9,   -999.0,9,-999.0000,  -999.00,9,  -999.00,9,  -999.00,9,   2.2158
  74DI19980423,  A16N, 13461,  1,      1,      1,2,19980510, 224, 42.5067, -20.0017, 4179,   4242.1,   2.5660,  34.9120,2,  34.9120,2,    240.6,2,    240.9,2,    43.53,2,    21.73,2,     1.42,2, -999.000,9, -999.000,9,   -999.0,9,-999.0000,  -999.00,9,  -999.00,9,  -999.00,9,   2.1875
  74DI19980423,  A16N, 13462,  1,     24,     24,2,19980510,1610, 43.0167, -20.0117, 5502,     10.8,  14.3170,  35.9390,2,  35.9390,2,    258.4,2,    259.6,2,     0.62,2,     1.04,2,     0.10,2,    3.405,3,    1.870,3,   2362.2,2,   7.9512,    25.00,2,     0.16,2,     0.04,2,  14.3154
  74DI19980423,  A16N, 13462,  1,     23,     23,2,19980510,1610, 43.0167, -20.0117, 5502,     16.4,  14.3200,  35.9390,2,  35.9130,2,    258.6,2,    255.7,2,     0.89,2,     3.26,3,     0.14,2,    5.418,3,    1.978,3,   2355.4,2,   7.9372,    25.00,2,     0.11,2,     0.03,2,  14.3176
  74DI19980423,  A16N, 13462,  1,     22,     22,2,19980510,1610, 43.0167, -20.0117, 5502,     26.9,  14.3220,  35.9390,2,  35.9380,2,    258.3,2,    259.4,2,     0.69,2,     2.72,2,     0.09,2,    1.476,3,    1.548,3,   2361.8,2,   7.9512,    25.00,2,     0.17,2,     0.04,2,  14.3180
  74DI19980423,  A16N, 13462,  1,     21,     21,2,19980510,1610, 43.0167, -20.0117, 5502,     47.1,  14.3240,  35.9390,2,  35.9390,2,    258.2,2,    260.0,2,     1.92,2,     2.76,2,     0.10,2,    4.440,3,    2.043,3,   2356.8,2,   7.9512,    25.00,2,     0.17,2,     0.04,2,  14.3171
  74DI19980423,  A16N, 13462,  1,     20,     20,2,19980510,1610, 43.0167, -20.0117, 5502,     87.8,  14.2100,  35.9330,2,  35.9310,2,    251.0,2,    252.4,2,     2.16,2,     3.42,2,     0.14,2,    4.449,3,    2.045,3,   2359.6,2,   7.9402,    25.00,2,     0.06,2,     0.03,2,  14.1971
  74DI19980423,  A16N, 13462,  1,     19,     19,2,19980510,1610, 43.0167, -20.0117, 5502,    127.7,  13.9170,  35.9020,2,  35.9000,2,    244.2,2,    247.6,2,     2.24,2,     5.04,2,     0.13,2,    4.153,3,    2.010,3,   2355.3,2,   7.9233,    25.00,2,     0.07,2,     0.02,2,  13.8985
  74DI19980423,  A16N, 13462,  1,     18,     18,2,19980510,1610, 43.0167, -20.0117, 5502,    169.7,  13.6740,  35.8630,2,  35.8630,2,    246.3,2,    244.4,2,     2.41,2,     6.08,2,     0.19,2,    2.452,3,    1.782,3,   2353.8,2,   7.9133,    25.00,2,     0.01,2,     0.00,2,  13.6497
  74DI19980423,  A16N, 13462,  1,     17,     17,2,19980510,1610, 43.0167, -20.0117, 5502,    246.1,  13.0690,  35.7790,2,  35.7780,2,    224.6,2,    227.0,2,     3.56,2,     9.81,2,     0.42,2,    4.708,3,    2.030,3,   2347.4,2,   7.8713,    25.00,2,  -999.00,9,  -999.00,9,  13.0347
  74DI19980423,  A16N, 13462,  1,     16,     16,2,19980510,1610, 43.0167, -20.0117, 5502,    329.1,  12.2570,  35.6670,2,  35.6690,2,    229.1,2,    224.5,2,     4.52,2,    11.58,2,     0.53,2,   -8.763,3,    1.229,3,   2339.7,2,   7.8443,    25.00,2,  -999.00,9,  -999.00,9,  12.2129
  74DI19980423,  A16N, 13462,  1,     15,     15,2,19980510,1610, 43.0167, -20.0117, 5502,    513.9,  11.1620,  35.5380,2,  35.5370,2,    214.3,2,    212.9,2,     5.93,2,    14.24,2,     0.75,2,   -8.762,3,    1.581,3,   2336.3,2,   7.7993,    25.00,2,  -999.00,9,  -999.00,9,  11.0967
  74DI19980423,  A16N, 13462,  1,     14,     14,2,19980510,1610, 43.0167, -20.0117, 5502,    767.7,   9.9790,  35.5200,2,  35.5200,2,    191.9,2,    190.8,2,     9.00,2,    18.12,2,     0.96,2,    0.556,3,    0.673,3,   2344.7,2,   7.7613,    25.00,2,  -999.00,9,  -999.00,9,   9.8869
  74DI19980423,  A16N, 13462,  1,     13,     13,2,19980510,1610, 43.0167, -20.0117, 5502,    971.0,   9.3620,  35.6600,2,  35.6580,2,    188.9,2,    189.2,2,    10.69,2,    18.32,2,     0.99,2,    1.949,2,    1.113,2,   2360.6,2,   7.7533,    25.00,2,  -999.00,9,  -999.00,9,   9.2484
  74DI19980423,  A16N, 13462,  1,     12,     12,2,19980510,1610, 43.0167, -20.0117, 5502,   1117.9,   8.4030,  35.6120,2,  35.6130,2,    201.1,2,    199.6,2,    11.50,2,    18.37,2,     1.01,2,    1.875,2,    0.894,2,   2359.5,2,   7.7453,    25.00,2,  -999.00,9,  -999.00,9,   8.2790
  74DI19980423,  A16N, 13462,  1,     11,     11,2,19980510,1610, 43.0167, -20.0117, 5502,   1421.1,   5.0190,  35.0890,2,  35.0910,2,    243.2,2,    244.3,2,    12.17,2,    18.68,2,     1.10,2,    2.538,2,    1.149,2,   2325.8,2,   7.7233,    25.00,2,  -999.00,9,  -999.00,9,   4.8948
  74DI19980423,  A16N, 13462,  1,     10,     10,2,19980510,1610, 43.0167, -20.0117, 5502,   1579.3,   3.9460,  34.9380,2,  34.9390,2,    260.2,2,    265.4,2,    12.17,2,    18.42,2,     1.09,2,    3.144,2,    1.418,2,   2313.3,2,   7.7173,    25.00,2,  -999.00,9,  -999.00,9,   3.8192
  74DI19980423,  A16N, 13462,  1,      9,      9,2,19980510,1610, 43.0167, -20.0117, 5502,   1943.9,   3.4520,  34.9060,2,  34.9060,2,    276.3,2,    275.4,2,    12.39,2,    17.85,2,     1.08,2,    3.026,2,    1.392,2,   -999.0,9,-999.0000,  -999.00,9,  -999.00,9,  -999.00,9,   3.2981
  74DI19980423,  A16N, 13462,  1,      8,      8,2,19980510,1610, 43.0167, -20.0117, 5502,   2149.1,   3.3840,  34.9220,2,  34.9230,2,    274.7,2,    273.1,2,    13.82,2,    17.80,2,     1.08,2,    1.520,2,    0.760,2,   2315.5,2,   7.7263,    25.00,2,  -999.00,9,  -999.00,9,   3.2116
  74DI19980423,  A16N, 13462,  1,      7,      7,2,19980510,1610, 43.0167, -20.0117, 5502,   2658.7,   3.1130,  34.9600,2,  34.9600,2,    260.0,2,    257.3,2,    24.09,2,    19.26,2,     1.20,2,    0.410,2,    0.121,3,   2330.7,2,   7.7253,    25.00,2,  -999.00,9,  -999.00,9,   2.8950
  74DI19980423,  A16N, 13462,  1,      6,      6,2,19980510,1610, 43.0167, -20.0117, 5502,   3069.1,   2.8050,  34.9430,2,  34.9430,2,    251.2,2,    251.2,2,    31.74,2,    20.42,2,     1.28,2,    0.256,2,    0.120,2,   2340.1,2,   7.7253,    25.00,2,  -999.00,9,  -999.00,9,   2.5512
  74DI19980423,  A16N, 13462,  1,      5,      5,2,19980510,1610, 43.0167, -20.0117, 5502,   3480.4,   2.6270,  34.9260,2,  34.9250,2,    244.5,2,    245.0,2,    38.84,2,    21.48,2,     1.37,2,    0.105,2,    0.052,2,   -999.0,9,-999.0000,  -999.00,9,  -999.00,9,  -999.00,9,   2.3334
  74DI19980423,  A16N, 13462,  1,      4,      4,2,19980510,1610, 43.0167, -20.0117, 5502,   3894.9,   2.5760,  34.9170,2,  34.9170,2,    238.8,2,    241.0,2,    42.56,2,    21.97,2,     1.41,2,    0.050,2,    0.024,2,   -999.0,9,-999.0000,  -999.00,9,  -999.00,9,  -999.00,9,   2.2375
  74DI19980423,  A16N, 13462,  1,      3,      3,2,19980510,1610, 43.0167, -20.0117, 5502,   4300.1,   2.5930,  34.9140,2,  34.9130,2,    239.6,2,    239.7,2,    43.93,2,    22.05,2,     1.45,2,    0.041,2,    0.019,2,   2354.8,2,   7.7203,    25.00,2,  -999.00,9,  -999.00,9,   2.2068
  74DI19980423,  A16N, 13462,  1,      2,      2,2,19980510,1610, 43.0167, -20.0117, 5502,   4730.8,   2.6450,  34.9140,2,  34.9130,2,    240.6,2,    239.5,2,    43.72,2,    21.83,2,     1.43,2,    0.038,2,    0.018,2,   2359.2,2,   7.7223,    25.00,2,  -999.00,9,  -999.00,9,   2.2046
  74DI19980423,  A16N, 13462,  1,      1,      1,2,19980510,1610, 43.0167, -20.0117, 5502,   5606.5,   2.7570,  34.9130,2,  34.9130,2,    242.1,2,   -999.0,9,    43.01,2,    21.45,2,     1.41,2,    0.024,2,    0.012,2,   2365.3,2,   7.7203,    25.00,2,  -999.00,9,  -999.00,9,   2.1987