BOTTLE,20221006CCHSIOCBG
EXPOCODE,SECT_ID,STNNBR,CASTNO,SAMPNO,BTLNBR,BTLNBR_FLAG_W,DATE,TIME,LATITUDE,LONGITUDE,DEPTH,CTDPRS,CTDTMP,CTDSAL,CTDSAL_FLAG_W,SALNTY,SALNTY_FLAG_W,CTDOXY,CTDOXY_FLAG_W,OXYGEN,OXYGEN_FLAG_W,SILCAT,SILCAT_FLAG_W,NITRAT,NITRAT_FLAG_W,PHSPHT,PHSPHT_FLAG_W,CFC-11,CFC-11_FLAG_W,CFC-12,CFC-12_FLAG_W,ALKALI,ALKALI_FLAG_W,PH_SWS,PH_TEMP,PH_SWS_FLAG_W,CHLORA,CHLORA_FLAG_W,PPHYTN,PPHYTN_FLAG_W,THETA
,,,,,,,,,,,METERS,DBAR,ITS-90,PSS-78,,PSS-78,,UMOL/KG,,UMOL/KG,,UMOL/KG,,UMOL/KG,,UMOL/KG,,PMOL/KG,,PMOL/KG,,UMOL/KG,,,DEGC,,UG/L,,UG/L,,DEGC
  74DI19980423,  A16N, 13523,  1,     16,     16,2,19980525,1716, 57.5317, -12.6300, 1646,      3.6,  10.5080,  35.3550,2,  35.3540,2,    287.8,6,    288.7,2,     0.58,2,     4.88,2,     0.23,2, -999.000,9, -999.000,9,   -999.0,9,-999.0000,  -999.00,9,     1.01,2,     0.25,2,  10.5076
  74DI19980423,  A16N, 13523,  1,     15,     15,2,19980525,1716, 57.5317, -12.6300, 1646,     11.7,  10.5100,  35.3550,2,  35.3540,2,    287.6,2,    288.8,2,     0.59,2,     4.83,2,     0.23,2, -999.000,9, -999.000,9,   -999.0,9,-999.0000,  -999.00,9,     1.01,2,     0.26,2,  10.5086
  74DI19980423,  A16N, 13523,  1,     14,     14,2,19980525,1716, 57.5317, -12.6300, 1646,     24.0,  10.2740,  35.3520,2,  35.3520,2,    283.5,2,    285.7,2,     0.91,2,     5.77,2,     0.33,2, -999.000,9, -999.000,9,   -999.0,9,-999.0000,  -999.00,9,     0.82,2,     0.23,2,  10.2712
  74DI19980423,  A16N, 13523,  1,     13,     13,2,19980525,1716, 57.5317, -12.6300, 1646,     44.1,   9.9750,  35.3730,2,  35.3710,2,    281.0,2,    276.4,2,     1.63,2,     7.67,2,     0.48,2, -999.000,9, -999.000,9,   -999.0,9,-999.0000,  -999.00,9,     0.35,2,     0.16,2,   9.9699
  74DI19980423,  A16N, 13523,  1,     12,     12,2,19980525,1716, 57.5317, -12.6300, 1646,     84.9,   9.6350,  35.3650,2,  35.3620,2,    269.5,2,    267.9,2,     3.30,2,    10.11,2,     0.62,2, -999.000,9, -999.000,9,   -999.0,9,-999.0000,  -999.00,9,     0.33,2,     0.21,2,   9.6254
  74DI19980423,  A16N, 13523,  1,     11,     11,2,19980525,1716, 57.5317, -12.6300, 1646,    123.9,   9.4590,  35.3610,2,  35.3580,2,    261.3,2,    263.6,2,     3.62,2,    11.33,2,     0.69,2, -999.000,9, -999.000,9,   -999.0,9,-999.0000,  -999.00,9,     0.18,2,     0.10,2,   9.4451
  74DI19980423,  A16N, 13523,  1,     10,     10,2,19980525,1716, 57.5317, -12.6300, 1646,    245.1,   9.1680,  35.3390,2,  35.3360,2,    265.4,2,    265.0,2,     5.33,2,    12.06,2,     0.71,2, -999.000,9, -999.000,9,   -999.0,9,-999.0000,  -999.00,9,  -999.00,9,  -999.00,9,   9.1409
  74DI19980423,  A16N, 13523,  1,      9,      9,2,19980525,1716, 57.5317, -12.6300, 1646,    327.3,   9.1000,  35.3330,2,  35.3310,2,    266.9,2,    268.2,2,     5.32,2,    12.09,2,     0.72,2, -999.000,9, -999.000,9,   -999.0,9,-999.0000,  -999.00,9,  -999.00,9,  -999.00,9,   9.0638
  74DI19980423,  A16N, 13523,  1,      8,      8,2,19980525,1716, 57.5317, -12.6300, 1646,    505.5,   8.9620,  35.3180,2,  35.3130,2,    266.4,2,    265.6,2,     5.68,2,    12.44,2,     0.76,2, -999.000,9, -999.000,9,   -999.0,9,-999.0000,  -999.00,9,  -999.00,9,  -999.00,9,   8.9060
  74DI19980423,  A16N, 13523,  1,      7,      7,2,19980525,1716, 57.5317, -12.6300, 1646,    761.0,   8.5220,  35.2670,2,  35.2660,2,    250.9,2,    249.0,2,     7.16,2,    14.10,2,     0.86,2, -999.000,9, -999.000,9,   -999.0,9,-999.0000,  -999.00,9,  -999.00,9,  -999.00,9,   8.4390
  74DI19980423,  A16N, 13523,  1,      6,      6,2,19980525,1716, 57.5317, -12.6300, 1646,    963.7,   7.3950,  35.1920,2,  35.2000,2,    233.3,2,    230.5,2,     9.62,2,    16.69,2,     1.02,2, -999.000,9, -999.000,9,   -999.0,9,-999.0000,  -999.00,9,  -999.00,9,  -999.00,9,   7.2967
  74DI19980423,  A16N, 13523,  1,      5,      5,2,19980525,1716, 57.5317, -12.6300, 1646,   1155.2,   6.0970,  35.1030,2,  35.1040,2,    240.1,2,    239.3,2,    10.58,2,    18.73,2,     1.05,2, -999.000,9, -999.000,9,   -999.0,9,-999.0000,  -999.00,9,  -999.00,9,  -999.00,9,   5.9889
  74DI19980423,  A16N, 13523,  1,      4,      4,2,19980525,1716, 57.5317, -12.6300, 1646,   1369.9,   5.1670,  35.0690,2,  35.0690,2,    259.5,2,    262.1,2,    10.12,2,    16.42,2,     0.99,2, -999.000,9, -999.000,9,   -999.0,9,-999.0000,  -999.00,9,  -999.00,9,  -999.00,9,   5.0463
  74DI19980423,  A16N, 13523,  1,      3,      3,2,19980525,1716, 57.5317, -12.6300, 1646,   1511.6,   4.3910,  35.0190,2,  35.0180,2,    266.8,2,    268.1,2,    11.36,2,    16.21,2,     0.95,2, -999.000,9, -999.000,9,   -999.0,9,-999.0000,  -999.00,9,  -999.00,9,  -999.00,9,   4.2652
  74DI19980423,  A16N, 13523,  1,      2,      2,2,19980525,1716, 57.5317, -12.6300, 1646,   1600.0,   4.2390,  35.0060,2,  35.0070,2,    270.0,2,    269.0,2,    11.76,2,    16.15,2,     0.98,2, -999.000,9, -999.000,9,   -999.0,9,-999.0000,  -999.00,9,  -999.00,9,  -999.00,9,   4.1066
  74DI19980423,  A16N, 13523,  1,      1,      1,2,19980525,1716, 57.5317, -12.6300, 1646,   1658.6,   4.0080,  34.9840,2,  34.9860,2,    269.2,2,    268.6,2,    12.81,2,    16.37,2,     0.93,2, -999.000,9, -999.000,9,   -999.0,9,-999.0000,  -999.00,9,  -999.00,9,  -999.00,9,   3.8730
  74DI19980423,  A16N, 13524,  1,     16,     16,2,19980525,2015, 57.5217, -12.2450, 1801,      2.9,  11.1420,  35.4360,2,  35.4370,2,    293.4,6,    287.6,2,     0.28,2,     3.31,2,     0.19,2, -999.000,9, -999.000,9,   -999.0,9,-999.0000,  -999.00,9,  -999.00,9,  -999.00,9,  11.1416
  74DI19980423,  A16N, 13524,  1,     15,     15,2,19980525,2015, 57.5217, -12.2450, 1801,     16.3,  11.1440,  35.4390,2,  35.4360,2,    287.8,2,    287.2,2,     0.33,2,     3.38,2,     0.17,2, -999.000,9, -999.000,9,   -999.0,9,-999.0000,  -999.00,9,  -999.00,9,  -999.00,9,  11.1420
  74DI19980423,  A16N, 13524,  1,     14,     14,2,19980525,2015, 57.5217, -12.2450, 1801,     29.8,  11.1170,  35.4360,2,  35.4320,2,    287.1,2,    288.1,2,     0.45,2,     3.62,2,     0.20,2, -999.000,9, -999.000,9,   -999.0,9,-999.0000,  -999.00,9,  -999.00,9,  -999.00,9,  11.1133
  74DI19980423,  A16N, 13524,  1,     13,     13,2,19980525,2015, 57.5217, -12.2450, 1801,     54.7,  10.2520,  35.3700,2,  35.3670,2,    286.4,2,    289.9,2,     0.41,2,     6.07,2,     0.34,2, -999.000,9, -999.000,9,   -999.0,9,-999.0000,  -999.00,9,  -999.00,9,  -999.00,9,  10.2456
  74DI19980423,  A16N, 13524,  1,     12,     12,2,19980525,2015, 57.5217, -12.2450, 1801,     79.7,   9.9500,  35.3600,2,  35.3570,2,    281.7,2,    285.3,2,     0.67,2,     7.14,2,     0.43,2, -999.000,9, -999.000,9,   -999.0,9,-999.0000,  -999.00,9,  -999.00,9,  -999.00,9,   9.9408
  74DI19980423,  A16N, 13524,  1,     11,     11,2,19980525,2015, 57.5217, -12.2450, 1801,    105.5,   9.7870,  35.3650,2,  35.3620,2,    277.4,2,    278.5,2,     1.25,2,     8.28,2,     0.52,2, -999.000,9, -999.000,9,   -999.0,9,-999.0000,  -999.00,9,  -999.00,9,  -999.00,9,   9.7749
  74DI19980423,  A16N, 13524,  1,     10,     10,2,19980525,2015, 57.5217, -12.2450, 1801,    205.8,   9.5170,  35.3680,2,  35.3660,2,    279.0,2,    264.9,2,     3.15,2,    11.03,2,     0.66,2, -999.000,9, -999.000,9,   -999.0,9,-999.0000,  -999.00,9,  -999.00,9,  -999.00,9,   9.4937
  74DI19980423,  A16N, 13524,  1,      9,      9,2,19980525,2015, 57.5217, -12.2450, 1801,    398.8,   9.1540,  35.3400,2,  35.3370,2,    275.5,2,    268.1,2,     4.99,2,    11.85,2,     0.66,2, -999.000,9, -999.000,9,   -999.0,9,-999.0000,  -999.00,9,  -999.00,9,  -999.00,9,   9.1095
  74DI19980423,  A16N, 13524,  1,      8,      8,2,19980525,2015, 57.5217, -12.2450, 1801,    609.1,   9.0500,  35.3320,2,  35.3310,2,    263.4,2,    268.3,2,     5.18,2,    12.06,2,     0.70,2, -999.000,9, -999.000,9,   -999.0,9,-999.0000,  -999.00,9,  -999.00,9,  -999.00,9,   8.9817
  74DI19980423,  A16N, 13524,  1,      7,      7,2,19980525,2015, 57.5217, -12.2450, 1801,    811.1,   8.6500,  35.2870,2,  35.2850,2,    245.1,2,    246.8,2,     6.94,2,    13.99,2,     0.83,2, -999.000,9, -999.000,9,   -999.0,9,-999.0000,  -999.00,9,  -999.00,9,  -999.00,9,   8.5605
  74DI19980423,  A16N, 13524,  1,      6,      6,2,19980525,2015, 57.5217, -12.2450, 1801,   1012.4,   7.1360,  35.1880,2,  35.1870,2,    237.5,2,    232.6,2,     9.43,2,    16.49,2,     0.98,2, -999.000,9, -999.000,9,   -999.0,9,-999.0000,  -999.00,9,  -999.00,9,  -999.00,9,   7.0343
  74DI19980423,  A16N, 13524,  1,      5,      5,2,19980525,2015, 57.5217, -12.2450, 1801,   1214.5,   5.7480,  35.1090,2,  35.1090,2,    253.8,2,    253.1,2,     9.36,2,    15.71,2,     0.93,2, -999.000,9, -999.000,9,   -999.0,9,-999.0000,  -999.00,9,  -999.00,9,  -999.00,9,   5.6370
  74DI19980423,  A16N, 13524,  1,      4,      4,2,19980525,2015, 57.5217, -12.2450, 1801,   1421.2,   4.5070,  35.0010,2,  35.0010,2,    262.2,2,    260.1,2,    11.14,2,    16.71,2,     1.01,2, -999.000,9, -999.000,9,   -999.0,9,-999.0000,  -999.00,9,  -999.00,9,  -999.00,9,   4.3884
  74DI19980423,  A16N, 13524,  1,      3,      3,2,19980525,2015, 57.5217, -12.2450, 1801,   1622.8,   3.7870,  34.9390,2,  34.9400,2,    266.4,2,    267.2,2,    12.60,2,    17.13,2,     1.04,2, -999.000,9, -999.000,9,   -999.0,9,-999.0000,  -999.00,9,  -999.00,9,  -999.00,9,   3.6582
  74DI19980423,  A16N, 13524,  1,      2,      2,2,19980525,2015, 57.5217, -12.2450, 1801,   1723.9,   3.5980,  34.9330,2,  34.9340,2,    264.4,2,    266.5,2,    14.22,2,    17.16,2,     1.05,2, -999.000,9, -999.000,9,   -999.0,9,-999.0000,  -999.00,9,  -999.00,9,  -999.00,9,   3.4623
  74DI19980423,  A16N, 13524,  1,      1,      1,2,19980525,2015, 57.5217, -12.2450, 1801,   1813.3,   3.3610,  34.9350,2,  34.9370,2,    262.3,2,    263.4,2,    17.55,2,    17.32,2,     0.99,2, -999.000,9, -999.000,9,   -999.0,9,-999.0000,  -999.00,9,  -999.00,9,  -999.00,9,   3.2203
  74DI19980423,  A16N, 13525,  1,     16,     16,2,19980526,  32, 57.4750, -11.5400, 2015,      3.1,  11.1570,  35.4570,2,  35.4560,2,    282.3,6,    277.5,2,     0.51,2,     5.15,2,     0.28,2, -999.000,9, -999.000,9,   -999.0,9,-999.0000,  -999.00,9,     0.37,2,     0.12,2,  11.1566
  74DI19980423,  A16N, 13525,  1,     15,     15,2,19980526,  32, 57.4750, -11.5400, 2015,     17.0,  11.1620,  35.4580,2,  35.4560,2,    277.8,2,    277.9,2,     0.42,2,     4.99,2,     0.30,2, -999.000,9, -999.000,9,   -999.0,9,-999.0000,  -999.00,9,     0.38,2,     0.10,2,  11.1599
  74DI19980423,  A16N, 13525,  1,     14,     14,2,19980526,  32, 57.4750, -11.5400, 2015,     30.0,  11.1550,  35.4580,2,  35.4560,2,    278.7,2,    278.2,2,     0.41,2,     5.03,2,     0.31,2, -999.000,9, -999.000,9,   -999.0,9,-999.0000,  -999.00,9,     0.44,2,     0.10,2,  11.1513
  74DI19980423,  A16N, 13525,  1,     13,     13,2,19980526,  32, 57.4750, -11.5400, 2015,     54.9,  10.9070,  35.4620,2,  35.4600,2,    270.7,2,    275.2,2,     0.93,2,     6.33,2,     0.42,2, -999.000,9, -999.000,9,   -999.0,9,-999.0000,  -999.00,9,     0.86,2,     0.24,2,  10.9003
  74DI19980423,  A16N, 13525,  1,     12,     12,2,19980526,  32, 57.4750, -11.5400, 2015,     79.8,  10.5020,  35.4660,2,  35.4640,2,    263.6,2,    261.1,2,     3.43,2,     9.41,2,     0.61,2, -999.000,9, -999.000,9,   -999.0,9,-999.0000,  -999.00,9,     0.71,2,     0.32,2,  10.4924
  74DI19980423,  A16N, 13525,  1,     11,     11,2,19980526,  32, 57.4750, -11.5400, 2015,    104.6,  10.3520,  35.4630,2,  35.4610,2,    261.5,2,    259.0,2,     4.18,2,    10.32,2,     0.67,2, -999.000,9, -999.000,9,   -999.0,9,-999.0000,  -999.00,9,     0.13,2,     0.06,2,  10.3396
  74DI19980423,  A16N, 13525,  1,     10,     10,2,19980526,  32, 57.4750, -11.5400, 2015,    205.1,  10.0900,  35.4450,2,  35.4430,2,    262.7,2,    262.2,2,     4.11,2,    10.47,2,     0.69,2, -999.000,9, -999.000,9,   -999.0,9,-999.0000,  -999.00,9,  -999.00,9,  -999.00,9,  10.0659
  74DI19980423,  A16N, 13525,  1,      9,      9,2,19980526,  32, 57.4750, -11.5400, 2015,    407.7,   9.6310,  35.3870,2,  35.3860,2,    260.8,2,    253.6,2,     5.14,2,    11.81,2,     0.79,2, -999.000,9, -999.000,9,   -999.0,9,-999.0000,  -999.00,9,  -999.00,9,  -999.00,9,   9.5840
  74DI19980423,  A16N, 13525,  1,      8,      8,2,19980526,  32, 57.4750, -11.5400, 2015,    607.8,   9.3130,  35.3670,2,  35.3650,2,    262.4,2,    264.8,2,     4.73,2,    11.35,2,     0.77,2, -999.000,9, -999.000,9,   -999.0,9,-999.0000,  -999.00,9,  -999.00,9,  -999.00,9,   9.2437
  74DI19980423,  A16N, 13525,  1,      7,      7,2,19980526,  32, 57.4750, -11.5400, 2015,    804.0,   8.9600,  35.3180,2,  35.3170,2,    260.0,2,    261.3,2,     5.56,2,    12.32,2,     0.84,2, -999.000,9, -999.000,9,   -999.0,9,-999.0000,  -999.00,9,  -999.00,9,  -999.00,9,   8.8695
  74DI19980423,  A16N, 13525,  1,      6,      6,2,19980526,  32, 57.4750, -11.5400, 2015,    979.7,   8.5090,  35.2690,2,  35.2670,2,    245.5,2,    245.7,2,     7.06,2,    14.08,2,     0.96,2, -999.000,9, -999.000,9,   -999.0,9,-999.0000,  -999.00,9,  -999.00,9,  -999.00,9,   8.4009
  74DI19980423,  A16N, 13525,  1,      5,      5,2,19980526,  32, 57.4750, -11.5400, 2015,   1181.1,   6.1600,  35.1300,2,  35.1300,2,    242.2,2,    241.5,2,     9.81,2,    16.73,2,     1.09,2, -999.000,9, -999.000,9,   -999.0,9,-999.0000,  -999.00,9,  -999.00,9,  -999.00,9,   6.0486
  74DI19980423,  A16N, 13525,  1,      4,      4,2,19980526,  32, 57.4750, -11.5400, 2015,   1388.1,   5.0530,  35.0460,2,  35.0470,2,    253.3,2,    254.3,2,    10.40,2,    16.74,2,     0.96,2, -999.000,9, -999.000,9,   -999.0,9,-999.0000,  -999.00,9,  -999.00,9,  -999.00,9,   4.9317
  74DI19980423,  A16N, 13525,  1,      3,      3,2,19980526,  32, 57.4750, -11.5400, 2015,   1598.3,   4.1320,  34.9660,2,  34.9660,2,    262.5,2,    262.9,2,    12.32,2,    17.06,2,     1.03,2, -999.000,9, -999.000,9,   -999.0,9,-999.0000,  -999.00,9,  -999.00,9,  -999.00,9,   4.0012
  74DI19980423,  A16N, 13525,  1,      2,      2,2,19980526,  32, 57.4750, -11.5400, 2015,   1820.5,   3.6150,  34.9350,2,  34.9360,2,    264.7,2,    265.4,2,    14.97,2,    17.27,2,     1.06,2, -999.000,9, -999.000,9,   -999.0,9,-999.0000,  -999.00,9,  -999.00,9,  -999.00,9,   3.4702
  74DI19980423,  A16N, 13525,  1,      1,      1,2,19980526,  32, 57.4750, -11.5400, 2015,   2031.5,   3.1510,  34.9400,2,  34.9410,2,    261.0,2,    259.8,2,    21.29,2,    17.74,2,     1.06,2, -999.000,9, -999.000,9,   -999.0,9,-999.0000,  -999.00,9,  -999.00,9,  -999.00,9,   2.9932
  74DI19980423,  A16N, 13526,  1,     10,     10,2,19980526, 343, 57.4533, -11.0867,  589,      5.8,  10.8300,  35.4300,2,  35.4300,2,    283.1,6,    285.3,2,     0.81,2,     3.68,3,     0.21,2, -999.000,9, -999.000,9,   -999.0,9,-999.0000,  -999.00,9,  -999.00,9,  -999.00,9,  10.8293
  74DI19980423,  A16N, 13526,  1,      9,      9,2,19980526, 343, 57.4533, -11.0867,  589,     12.7,  10.7140,  35.4330,2,  35.4310,2,    281.4,2,    281.6,2,     1.09,2,     4.57,3,     0.27,2, -999.000,9, -999.000,9,   -999.0,9,-999.0000,  -999.00,9,  -999.00,9,  -999.00,9,  10.7125
  74DI19980423,  A16N, 13526,  1,      8,      8,2,19980526, 343, 57.4533, -11.0867,  589,     20.8,  10.6280,  35.4330,2,  35.4310,2,    283.2,2,    279.3,2,     1.32,2,     5.23,3,     0.34,2, -999.000,9, -999.000,9,   -999.0,9,-999.0000,  -999.00,9,  -999.00,9,  -999.00,9,  10.6255
  74DI19980423,  A16N, 13526,  1,      7,      7,2,19980526, 343, 57.4533, -11.0867,  589,     35.8,  10.5620,  35.4330,2,  35.4270,2,    280.0,2,    278.9,2,     1.34,2,     5.45,3,     0.33,2, -999.000,9, -999.000,9,   -999.0,9,-999.0000,  -999.00,9,  -999.00,9,  -999.00,9,  10.5577
  74DI19980423,  A16N, 13526,  1,      6,      6,2,19980526, 343, 57.4533, -11.0867,  589,     66.4,  10.4030,  35.4290,2,  35.4270,2,    273.8,2,    276.6,2,     1.52,2,     6.35,3,     0.41,2, -999.000,9, -999.000,9,   -999.0,9,-999.0000,  -999.00,9,  -999.00,9,  -999.00,9,  10.3951
  74DI19980423,  A16N, 13526,  1,      5,      5,2,19980526, 343, 57.4533, -11.0867,  589,     95.4,  10.3500,  35.4260,2,  35.3960,2,    274.5,2,    277.3,2,     1.51,2,     6.22,3,     0.41,2, -999.000,9, -999.000,9,   -999.0,9,-999.0000,  -999.00,9,  -999.00,9,  -999.00,9,  10.3387
  74DI19980423,  A16N, 13526,  1,      4,      4,2,19980526, 343, 57.4533, -11.0867,  589,    227.3,   9.5940,  35.3980,2,  35.3510,0,    270.0,2,    262.0,2,     4.38,2,    11.32,3,     0.64,2, -999.000,9, -999.000,9,   -999.0,9,-999.0000,  -999.00,9,  -999.00,9,  -999.00,9,   9.5681
  74DI19980423,  A16N, 13526,  1,      3,      3,2,19980526, 343, 57.4533, -11.0867,  589,    359.7,   9.1950,  35.3530,2,-999.0000,9,    265.5,2,    264.4,2,     5.05,2,    11.82,3,     0.69,2, -999.000,9, -999.000,9,   -999.0,9,-999.0000,  -999.00,9,  -999.00,9,  -999.00,9,   9.1548
  74DI19980423,  A16N, 13526,  1,      2,      2,2,19980526, 343, 57.4533, -11.0867,  589,    510.9,   9.0020,  35.3270,2,  35.3260,2,    258.1,2,    262.5,2,     5.46,2,    12.16,3,     0.71,2, -999.000,9, -999.000,9,   -999.0,9,-999.0000,  -999.00,9,  -999.00,9,  -999.00,9,   8.9452
  74DI19980423,  A16N, 13526,  1,      1,      1,2,19980526, 343, 57.4533, -11.0867,  589,    585.2,   8.6570,  35.2840,2,  35.2840,2,    251.4,2,    250.9,2,     6.52,2,    13.24,3,     0.73,2, -999.000,9, -999.000,9,   -999.0,9,-999.0000,  -999.00,9,  -999.00,9,  -999.00,9,   8.5932