BOTTLE,20221006CCHSIOCBG
EXPOCODE,SECT_ID,STNNBR,CASTNO,SAMPNO,BTLNBR,BTLNBR_FLAG_W,DATE,TIME,LATITUDE,LONGITUDE,DEPTH,CTDPRS,CTDTMP,CTDSAL,CTDSAL_FLAG_W,SALNTY,SALNTY_FLAG_W,CTDOXY,CTDOXY_FLAG_W,OXYGEN,OXYGEN_FLAG_W,SILCAT,SILCAT_FLAG_W,NITRAT,NITRAT_FLAG_W,PHSPHT,PHSPHT_FLAG_W,CFC-11,CFC-11_FLAG_W,CFC-12,CFC-12_FLAG_W,ALKALI,ALKALI_FLAG_W,PH_SWS,PH_TEMP,PH_SWS_FLAG_W,CHLORA,CHLORA_FLAG_W,PPHYTN,PPHYTN_FLAG_W,THETA
,,,,,,,,,,,METERS,DBAR,ITS-90,PSS-78,,PSS-78,,UMOL/KG,,UMOL/KG,,UMOL/KG,,UMOL/KG,,UMOL/KG,,PMOL/KG,,PMOL/KG,,UMOL/KG,,,DEGC,,UG/L,,UG/L,,DEGC
  74DI19980423,  A16N, 13474,  1,     23,     23,2,19980514, 844, 49.0017, -20.0067, 4408,      3.4,  13.0630,  35.5830,2,  35.5830,2,    296.7,2,    295.7,2,     1.73,2,     2.57,2,     0.10,3,    0.932,3,    1.751,3,   2351.2,6,   7.9583,    25.00,2,     2.06,2,     0.58,2,  13.0625
  74DI19980423,  A16N, 13474,  1,     22,     22,2,19980514, 844, 49.0017, -20.0067, 4408,     10.7,  12.9450,  35.5800,2,  35.5790,2,    293.5,2,    297.5,2,     1.78,2,     2.49,2,     0.09,3, -999.000,9, -999.000,9,   2348.1,2,   7.9583,    25.00,2,     2.32,2,     0.67,2,  12.9435
  74DI19980423,  A16N, 13474,  1,     21,     21,2,19980514, 844, 49.0017, -20.0067, 4408,     18.9,  12.7950,  35.5810,2,  35.5800,2,    292.0,2,    293.5,2,     1.95,2,     3.24,2,     0.13,3, -999.000,9, -999.000,9,   2345.3,2,   7.9453,    25.00,2,     2.02,2,     0.69,2,  12.7924
  74DI19980423,  A16N, 13474,  1,     20,     20,2,19980514, 844, 49.0017, -20.0067, 4408,     33.7,  12.1490,  35.5760,2,  35.5740,2,    269.6,2,    269.9,2,     3.15,2,     6.75,2,     0.33,2, -999.000,9, -999.000,9,   2344.4,2,   7.8853,    25.00,2,     1.59,2,     0.47,2,  12.1446
  74DI19980423,  A16N, 13474,  1,     19,     19,2,19980514, 844, 49.0017, -20.0067, 4408,     64.4,  11.5770,  35.5540,2,  35.5540,2,    260.1,2,    259.0,2,     3.56,2,     8.92,2,     0.46,2, -999.000,9, -999.000,9,   2338.6,2,   7.8603,    25.00,2,     0.06,2,     0.04,2,  11.5688
  74DI19980423,  A16N, 13474,  1,     18,     18,2,19980514, 844, 49.0017, -20.0067, 4408,     94.6,  11.5400,  35.5500,2,  35.5500,2,    258.5,2,    259.6,2,     3.54,2,     8.93,2,     0.45,2, -999.000,9, -999.000,9,   2339.8,2,   7.8633,    25.00,2,     0.04,2,     0.04,2,  11.5279
  74DI19980423,  A16N, 13474,  1,     17,     17,2,19980514, 844, 49.0017, -20.0067, 4408,    113.9,  11.4860,  35.5400,2,  35.5380,2,    255.5,2,    259.1,2,     3.62,2,     9.21,2,     0.49,2, -999.000,9, -999.000,9,   2339.6,2,   7.8583,    25.00,2,     0.05,2,     0.02,2,  11.4715
  74DI19980423,  A16N, 13474,  1,     16,     16,2,19980514, 844, 49.0017, -20.0067, 4408,    145.0,  11.4670,  35.5390,2,  35.5380,2,    256.7,2,    259.0,2,     3.64,2,     9.08,2,     0.47,2, -999.000,9, -999.000,9,   2338.3,2,   7.8573,    25.00,2,  -999.00,9,  -999.00,9,  11.4486
  74DI19980423,  A16N, 13474,  1,     15,     15,2,19980514, 844, 49.0017, -20.0067, 4408,    184.8,  11.3930,  35.5310,2,  35.5300,2,    254.6,2,    254.3,2,     3.83,2,     9.61,2,     0.49,2,    0.097,3,    0.097,3,   2341.0,2,   7.8513,    25.00,2,  -999.00,9,  -999.00,9,  11.3696
  74DI19980423,  A16N, 13474,  1,     14,     14,2,19980514, 844, 49.0017, -20.0067, 4408,    224.7,  11.2430,  35.5100,2,  35.5080,2,    250.0,2,    242.7,2,     4.42,2,    10.92,2,     0.59,2,    0.896,3,    0.710,3,   2338.8,2,   7.8343,    25.00,2,  -999.00,9,  -999.00,9,  11.2147
  74DI19980423,  A16N, 13474,  1,     13,     13,2,19980514, 844, 49.0017, -20.0067, 4408,    356.8,  10.5330,  35.4220,2,  35.4210,2,    232.7,2,    238.8,2,     5.32,2,    12.50,2,     0.70,2, -999.000,9, -999.000,9,   2327.4,2,   7.8103,    25.00,2,  -999.00,9,  -999.00,9,  10.4897
  74DI19980423,  A16N, 13474,  1,     12,     12,2,19980514, 844, 49.0017, -20.0067, 4408,    507.1,   9.1080,  35.2530,2,  35.2530,2,    206.6,2,    203.7,2,     9.01,2,    17.38,2,     1.01,2, -999.000,9, -999.000,9,   2333.4,2,   7.7453,    25.00,2,  -999.00,9,  -999.00,9,   9.0513
  74DI19980423,  A16N, 13474,  1,     11,     11,2,19980514, 844, 49.0017, -20.0067, 4408,    709.0,   7.5590,  35.2230,2,  35.2220,2,    199.9,2,    200.1,2,    11.13,2,    19.11,2,     1.13,2, -999.000,9, -999.000,9,   2326.5,2,   7.7113,    25.00,2,  -999.00,9,  -999.00,9,   7.4869
  74DI19980423,  A16N, 13474,  1,     10,     10,2,19980514, 844, 49.0017, -20.0067, 4408,    911.6,   6.5590,  35.2310,2,  35.2270,2,    217.6,2,    216.7,2,    11.42,2,    18.66,2,     1.10,2, -999.000,9, -999.000,9,   2324.5,2,   7.7143,    25.00,2,  -999.00,9,  -999.00,9,   6.4719
  74DI19980423,  A16N, 13474,  1,      9,      9,2,19980514, 844, 49.0017, -20.0067, 4408,   1215.6,   4.4540,  34.9960,2,  34.9950,2,    251.0,2,    253.4,2,    11.43,2,    18.18,2,     1.07,2, -999.000,9, -999.000,9,   2313.7,2,   7.7043,    25.00,2,  -999.00,9,  -999.00,9,   4.3549
  74DI19980423,  A16N, 13474,  1,      8,      8,2,19980514, 844, 49.0017, -20.0067, 4408,   1621.8,   3.5150,  34.8960,2,  34.8960,2,    275.0,2,    275.8,2,    11.19,2,    17.47,2,     1.06,2, -999.000,9, -999.000,9,   2308.8,2,   7.7103,    25.00,2,  -999.00,9,  -999.00,9,   3.3897
  74DI19980423,  A16N, 13474,  1,      7,      7,2,19980514, 844, 49.0017, -20.0067, 4408,   1826.6,   3.3540,  34.8910,2,  34.8920,2,    279.5,2,    279.6,2,    11.38,2,    17.28,2,     1.03,2, -999.000,9, -999.000,9,   2305.6,2,   7.7133,    25.00,2,  -999.00,9,  -999.00,9,   3.2123
  74DI19980423,  A16N, 13474,  1,      6,      6,2,19980514, 844, 49.0017, -20.0067, 4408,   2285.1,   3.2480,  34.9220,2,  34.9220,2,    274.7,2,    275.3,2,    13.19,2,    17.08,2,     1.03,2,    1.344,2,    0.906,2,   2310.8,2,   7.7163,    25.00,2,  -999.00,9,  -999.00,9,   3.0647
  74DI19980423,  A16N, 13474,  1,      5,      5,2,19980514, 844, 49.0017, -20.0067, 4408,   2793.6,   2.9970,  34.9520,2,  34.9510,2,    258.8,2,    259.0,2,    23.77,2,    18.73,2,     1.15,2,    0.646,2,    0.361,2,   2329.7,2,   7.7123,    25.00,2,  -999.00,9,  -999.00,9,   2.7676
  74DI19980423,  A16N, 13474,  1,      4,      4,2,19980514, 844, 49.0017, -20.0067, 4408,   3307.0,   2.6660,  34.9320,2,  34.9310,2,    248.6,2,    248.6,2,    35.52,2,    20.67,2,     1.28,2,    0.405,2,    0.195,2,   2343.0,2,   7.7143,    25.00,2,  -999.00,9,  -999.00,9,   2.3902
  74DI19980423,  A16N, 13474,  1,      3,      3,2,19980514, 844, 49.0017, -20.0067, 4408,   3820.1,   2.5180,  34.9130,2,  34.9120,2,    242.1,2,    240.6,2,    43.30,2,    22.08,2,     1.37,2,    0.122,2,    0.060,2,   2352.2,2,   7.7123,    25.00,2,  -999.00,9,  -999.00,9,   2.1896
  74DI19980423,  A16N, 13474,  1,      2,      2,2,19980514, 844, 49.0017, -20.0067, 4408,   4333.5,   2.5200,  34.9070,2,  34.9060,2,    241.3,2,    238.7,2,    45.03,2,    22.34,2,     1.37,2,    0.054,2,    0.025,2,   2358.7,2,   7.7093,    25.00,2,  -999.00,9,  -999.00,9,   2.1320
  74DI19980423,  A16N, 13474,  1,      1,      1,2,19980514, 844, 49.0017, -20.0067, 4408,   4479.1,   2.5270,  34.9060,2,  34.9050,2,    239.1,6,    241.2,2,    44.36,2,    21.83,2,     1.25,2,    0.044,2,    0.020,2,   2365.6,2,   7.7133,    25.00,2,  -999.00,9,  -999.00,9,   2.1213
  74DI19980423,  A16N, 13475,  1,     23,     23,2,19980514,1514, 49.5000, -20.0117, 3869,      1.4,  12.9640,  35.5860,2,  35.5900,2,   -999.0,9,    284.5,2,     2.04,2,     4.24,2,     0.46,3, -999.000,9, -999.000,9,   -999.0,9,-999.0000,  -999.00,9,     1.35,2,     0.38,2,  12.9638
  74DI19980423,  A16N, 13475,  1,     22,     22,2,19980514,1514, 49.5000, -20.0117, 3869,     15.3,  12.6090,  35.5840,2,  35.5820,2,    285.7,2,    283.1,2,     2.19,2,     4.41,2,     0.17,3, -999.000,9, -999.000,9,   -999.0,9,-999.0000,  -999.00,9,     1.48,2,     0.48,2,  12.6069
  74DI19980423,  A16N, 13475,  1,     21,     21,2,19980514,1514, 49.5000, -20.0117, 3869,     25.6,  12.3610,  35.5910,2,  35.5900,2,    280.2,2,    276.3,2,     2.51,2,     5.54,2,     0.24,2, -999.000,9, -999.000,9,   -999.0,9,-999.0000,  -999.00,9,     0.94,2,     0.28,2,  12.3576
  74DI19980423,  A16N, 13475,  1,     20,     20,2,19980514,1514, 49.5000, -20.0117, 3869,     45.6,  11.6840,  35.5570,2,  35.5630,2,    275.4,2,    256.4,0,     3.28,2,     7.91,2,     0.39,2, -999.000,9, -999.000,9,   -999.0,9,-999.0000,  -999.00,9,     0.22,2,     0.14,2,  11.6782
  74DI19980423,  A16N, 13475,  1,     19,     19,2,19980514,1514, 49.5000, -20.0117, 3869,     86.4,  11.4600,  35.5390,2,  35.5390,2,    255.9,2,    264.7,2,     3.63,2,     8.93,2,     0.44,2, -999.000,9, -999.000,9,   -999.0,9,-999.0000,  -999.00,9,     0.03,2,     0.02,2,  11.4490
  74DI19980423,  A16N, 13475,  1,     18,     18,2,19980514,1514, 49.5000, -20.0117, 3869,    125.3,  11.4340,  35.5450,2,  35.5420,2,    258.8,2,    256.8,2,     3.66,2,     9.25,2,     0.42,2, -999.000,9, -999.000,9,   -999.0,9,-999.0000,  -999.00,9,     0.02,2,     0.01,2,  11.4181
  74DI19980423,  A16N, 13475,  1,     17,     17,2,19980514,1514, 49.5000, -20.0117, 3869,    165.6,  11.2280,  35.5050,2,  35.4960,2,    254.1,2,    257.7,2,     3.86,2,     9.40,2,     0.47,2, -999.000,9, -999.000,9,   -999.0,9,-999.0000,  -999.00,9,     0.04,2,     0.02,2,  11.2072
  74DI19980423,  A16N, 13475,  1,     16,     16,2,19980514,1514, 49.5000, -20.0117, 3869,    245.9,  10.9950,  35.4740,2,  35.4720,2,    246.5,2,    249.5,2,     4.46,2,    10.52,2,     0.54,2, -999.000,9, -999.000,9,   -999.0,9,-999.0000,  -999.00,9,  -999.00,9,  -999.00,9,  10.9645
  74DI19980423,  A16N, 13475,  1,     15,     15,2,19980514,1514, 49.5000, -20.0117, 3869,    326.7,  10.6920,  35.4480,2,  35.4460,2,    237.7,2,    247.2,2,     4.77,2,    11.35,2,     0.61,2, -999.000,9, -999.000,9,   -999.0,9,-999.0000,  -999.00,9,  -999.00,9,  -999.00,9,  10.6520
  74DI19980423,  A16N, 13475,  1,     14,     14,2,19980514,1514, 49.5000, -20.0117, 3869,    505.3,   9.4800,  35.2750,2,  35.2740,2,    216.8,2,    218.8,2,     7.68,2,    15.60,2,     0.84,2, -999.000,9, -999.000,9,   -999.0,9,-999.0000,  -999.00,9,  -999.00,9,  -999.00,9,   9.4221
  74DI19980423,  A16N, 13475,  1,     13,     13,2,19980514,1514, 49.5000, -20.0117, 3869,    751.6,   6.9410,  35.1120,2,  35.1140,2,    205.3,2,    205.5,2,    11.35,2,    19.31,2,     1.07,2, -999.000,9, -999.000,9,   -999.0,9,-999.0000,  -999.00,9,  -999.00,9,  -999.00,9,   6.8680
  74DI19980423,  A16N, 13475,  1,     12,     12,2,19980514,1514, 49.5000, -20.0117, 3869,    950.8,   6.1720,  35.1760,2,  35.1760,2,    227.2,2,    221.1,2,    11.56,2,    18.73,2,     1.03,2, -999.000,9, -999.000,9,   -999.0,9,-999.0000,  -999.00,9,  -999.00,9,  -999.00,9,   6.0837
  74DI19980423,  A16N, 13475,  1,     11,     11,2,19980514,1514, 49.5000, -20.0117, 3869,   1099.7,   5.1140,  35.0530,2,  35.0540,2,    240.4,2,    239.4,2,    11.65,2,    18.43,2,     1.02,2, -999.000,9, -999.000,9,   -999.0,9,-999.0000,  -999.00,9,  -999.00,9,  -999.00,9,   5.0197
  74DI19980423,  A16N, 13475,  1,     10,     10,2,19980514,1514, 49.5000, -20.0117, 3869,   1399.8,   3.8860,  34.9220,2,  34.9240,2,    265.8,2,    266.3,2,    11.38,2,    17.80,2,     0.99,2, -999.000,9, -999.000,9,   -999.0,9,-999.0000,  -999.00,9,  -999.00,9,  -999.00,9,   3.7762
  74DI19980423,  A16N, 13475,  1,      9,      9,2,19980514,1514, 49.5000, -20.0117, 3869,   1550.4,   3.6470,  34.9070,2,  34.9070,2,    271.4,2,    272.4,2,    11.39,2,    17.64,2,     0.98,2, -999.000,9, -999.000,9,   -999.0,9,-999.0000,  -999.00,9,  -999.00,9,  -999.00,9,   3.5264
  74DI19980423,  A16N, 13475,  1,      8,      8,2,19980514,1514, 49.5000, -20.0117, 3869,   1905.4,   3.3430,  34.8990,2,  34.9000,2,    275.7,2,    277.9,2,    12.26,2,    17.16,2,     0.96,2, -999.000,9, -999.000,9,   -999.0,9,-999.0000,  -999.00,9,  -999.00,9,  -999.00,9,   3.1942
  74DI19980423,  A16N, 13475,  1,      7,      7,2,19980514,1514, 49.5000, -20.0117, 3869,   2108.4,   3.2900,  34.9150,2,  34.9140,2,    274.4,2,    275.4,2,    13.20,2,    17.13,2,     1.00,2, -999.000,9, -999.000,9,   -999.0,9,-999.0000,  -999.00,9,  -999.00,9,  -999.00,9,   3.1230
  74DI19980423,  A16N, 13475,  1,      6,      6,2,19980514,1514, 49.5000, -20.0117, 3869,   2313.1,   3.2240,  34.9290,2,  34.9300,2,    272.9,2,    272.6,2,    14.23,2,    17.15,2,     0.98,2, -999.000,9, -999.000,9,   -999.0,9,-999.0000,  -999.00,9,  -999.00,9,  -999.00,9,   3.0384
  74DI19980423,  A16N, 13475,  1,      5,      5,2,19980514,1514, 49.5000, -20.0117, 3869,   2616.4,   3.0340,  34.9470,2,  34.9470,2,    262.7,2,    263.9,2,    20.86,2,    17.98,2,     1.08,2, -999.000,9, -999.000,9,   -999.0,9,-999.0000,  -999.00,9,  -999.00,9,  -999.00,9,   2.8218
  74DI19980423,  A16N, 13475,  1,      4,      4,2,19980514,1514, 49.5000, -20.0117, 3869,   2822.6,   2.9030,  34.9480,2,  34.9470,2,    256.8,2,    257.8,2,    25.85,2,    18.83,2,     1.13,2, -999.000,9, -999.000,9,   -999.0,9,-999.0000,  -999.00,9,  -999.00,9,  -999.00,9,   2.6726
  74DI19980423,  A16N, 13475,  1,      3,      3,2,19980514,1514, 49.5000, -20.0117, 3869,   3026.5,   2.7530,  34.9390,2,  34.9400,2,    253.1,2,    252.0,2,    31.37,2,    19.87,2,     1.19,2, -999.000,9, -999.000,9,   -999.0,9,-999.0000,  -999.00,9,  -999.00,9,  -999.00,9,   2.5048
  74DI19980423,  A16N, 13475,  1,      2,      2,2,19980514,1514, 49.5000, -20.0117, 3869,   3435.0,   2.5850,  34.9220,2,  34.9220,2,    247.0,2,    243.9,2,    39.77,2,    21.33,2,     1.32,2, -999.000,9, -999.000,9,   -999.0,9,-999.0000,  -999.00,9,  -999.00,9,  -999.00,9,   2.2974
  74DI19980423,  A16N, 13475,  1,      1,      1,2,19980514,1514, 49.5000, -20.0117, 3869,   3925.5,   2.4740,  34.9060,2,  34.9070,2,    240.4,2,    240.5,2,    44.76,2,    21.86,2,     1.29,2, -999.000,9, -999.000,9,   -999.0,9,-999.0000,  -999.00,9,  -999.00,9,  -999.00,9,   2.1349