BOTTLE,20221006CCHSIOCBG
EXPOCODE,SECT_ID,STNNBR,CASTNO,SAMPNO,BTLNBR,BTLNBR_FLAG_W,DATE,TIME,LATITUDE,LONGITUDE,DEPTH,CTDPRS,CTDTMP,CTDSAL,CTDSAL_FLAG_W,SALNTY,SALNTY_FLAG_W,CTDOXY,CTDOXY_FLAG_W,OXYGEN,OXYGEN_FLAG_W,SILCAT,SILCAT_FLAG_W,NITRAT,NITRAT_FLAG_W,PHSPHT,PHSPHT_FLAG_W,CFC-11,CFC-11_FLAG_W,CFC-12,CFC-12_FLAG_W,ALKALI,ALKALI_FLAG_W,PH_SWS,PH_TEMP,PH_SWS_FLAG_W,CHLORA,CHLORA_FLAG_W,PPHYTN,PPHYTN_FLAG_W,THETA
,,,,,,,,,,,METERS,DBAR,ITS-90,PSS-78,,PSS-78,,UMOL/KG,,UMOL/KG,,UMOL/KG,,UMOL/KG,,UMOL/KG,,PMOL/KG,,PMOL/KG,,UMOL/KG,,,DEGC,,UG/L,,UG/L,,DEGC
  74DI19980423,  A16N, 13458,  1,     23,     23,2,19980509, 810, 40.9950, -19.9900, 4700,      2.6,  15.0050,  35.9380,2,  35.9380,2,    257.9,6,    257.8,2,     1.44,2,     1.31,2,     0.09,2,    1.860,3,    1.374,3,   2362.5,6,   7.9532,    25.00,2,     0.12,2,     0.00,2,  15.0046
  74DI19980423,  A16N, 13458,  1,     22,     22,2,19980509, 810, 40.9950, -19.9900, 4700,     12.5,  14.9670,  35.9360,2,  35.9360,2,    255.9,2,    257.7,2,     1.44,2,     1.33,2,     0.09,2,    3.528,3,    1.820,3,   2363.6,2,   7.9482,    25.00,2,     0.14,2,     0.00,2,  14.9651
  74DI19980423,  A16N, 13458,  1,     21,     21,2,19980509, 810, 40.9950, -19.9900, 4700,     20.4,  14.9440,  35.9350,2,  35.9340,2,    256.2,2,    258.5,2,     1.43,2,     1.37,2,     0.10,2,    1.192,3,    1.356,3,   2363.5,2,   7.9502,    25.00,2,     0.12,2,     0.00,2,  14.9409
  74DI19980423,  A16N, 13458,  1,     20,     20,2,19980509, 810, 40.9950, -19.9900, 4700,     35.6,  14.7070,  35.9220,2,  35.9200,2,    253.2,2,    259.2,2,     1.47,2,     1.60,2,     0.11,2,    2.475,3,    1.636,3,   2361.3,2,   7.9472,    25.00,2,     0.11,2,     0.00,2,  14.7017
  74DI19980423,  A16N, 13458,  1,     19,     19,2,19980509, 810, 40.9950, -19.9900, 4700,     65.2,  14.2150,  35.8900,2,  35.8890,2,    255.3,2,    250.4,2,     1.61,2,     2.91,2,     0.19,2,    3.313,3,    1.845,3,   -999.0,9,-999.0000,  -999.00,9,     0.09,2,     0.02,2,  14.2054
  74DI19980423,  A16N, 13458,  1,     18,     18,2,19980509, 810, 40.9950, -19.9900, 4700,     95.8,  14.0160,  35.8720,2,  35.8710,2,    246.7,2,    239.6,2,     1.96,2,     4.84,2,     0.28,2,    1.483,3,    1.537,3,   2362.3,2,   7.9083,    25.00,2,     0.05,2,     0.03,2,  14.0021
  74DI19980423,  A16N, 13458,  1,     17,     17,2,19980509, 810, 40.9950, -19.9900, 4700,    115.0,  13.8490,  35.8560,2,  35.8540,2,    240.1,2,    237.4,2,     2.08,2,     5.42,2,     0.32,2,    3.061,3,    1.722,3,   2354.2,2,   7.8993,    25.00,2,     0.03,2,     0.01,2,  13.8324
  74DI19980423,  A16N, 13458,  1,     16,     16,2,19980509, 810, 40.9950, -19.9900, 4700,    144.5,  13.5520,  35.8290,2,  35.8270,2,    246.5,2,    243.1,2,     1.88,2,     4.89,2,     0.30,2,    3.136,2,    1.467,2,   2353.4,2,   7.9023,    25.00,2,  -999.00,9,  -999.00,9,  13.5314
  74DI19980423,  A16N, 13458,  1,     15,     15,2,19980509, 810, 40.9950, -19.9900, 4700,    185.4,  13.3770,  35.8160,2,  35.8150,2,    241.0,2,    249.1,2,     1.81,2,     4.58,2,     0.28,2,    4.022,3,    2.263,3,   2356.0,2,   7.9053,    25.00,2,  -999.00,9,  -999.00,9,  13.3508
  74DI19980423,  A16N, 13458,  1,     14,     14,2,19980509, 810, 40.9950, -19.9900, 4700,    226.0,  13.1560,  35.7810,2,  35.7800,2,    248.4,2,    247.2,2,     2.17,2,     5.68,2,     0.34,2,    3.551,3,    2.111,3,   2352.6,2,   7.8943,    25.00,2,  -999.00,9,  -999.00,9,  13.1244
  74DI19980423,  A16N, 13458,  1,     13,     13,2,19980509, 810, 40.9950, -19.9900, 4700,    356.2,  12.0810,  35.6360,2,  35.6350,2,    223.7,2,    228.2,2,     3.96,2,    10.37,2,     0.62,2,    0.097,3,    2.696,3,   2342.9,2,   7.8393,    25.00,2,  -999.00,9,  -999.00,9,  12.0337
  74DI19980423,  A16N, 13458,  1,     12,     12,2,19980509, 810, 40.9950, -19.9900, 4700,    507.5,  11.2170,  35.5360,2,  35.5350,2,    218.0,2,    217.7,2,     4.99,2,    12.69,2,     0.76,2,    2.398,2,    1.311,2,   2339.6,2,   7.8013,    25.00,2,  -999.00,9,  -999.00,9,  11.1524
  74DI19980423,  A16N, 13458,  1,     11,     11,2,19980509, 810, 40.9950, -19.9900, 4700,    709.8,  10.1130,  35.4680,2,  35.4660,2,    202.6,2,    197.5,2,     7.96,2,    16.17,2,     0.99,2,    2.490,2,    1.315,2,   2335.5,2,   7.7613,    25.00,2,  -999.00,9,  -999.00,9,  10.0274
  74DI19980423,  A16N, 13458,  1,     10,     10,2,19980509, 810, 40.9950, -19.9900, 4700,    911.1,   8.9860,  35.4990,2,  35.5020,2,    190.7,2,    189.7,2,    10.45,2,    17.96,2,     1.12,2,    1.340,2,    0.713,2,   2345.7,2,   7.7403,    25.00,2,  -999.00,9,  -999.00,9,   8.8824
  74DI19980423,  A16N, 13458,  1,      9,      9,2,19980509, 810, 40.9950, -19.9900, 4700,   1215.4,   8.1200,  35.6240,2,  35.6220,2,    205.8,2,    203.6,2,    11.41,2,    17.40,2,     1.08,2,    0.794,2,    0.466,2,   2352.9,2,   7.7463,    25.00,2,  -999.00,9,  -999.00,9,   7.9869
  74DI19980423,  A16N, 13458,  1,      8,      8,2,19980509, 810, 40.9950, -19.9900, 4700,   1620.6,   4.7810,  35.0990,2,  35.1000,2,    249.0,2,    249.8,2,    12.15,2,    17.65,2,     1.13,2,    1.286,2,    0.768,2,   2317.0,2,   7.7253,    25.00,2,  -999.00,9,  -999.00,9,   4.6399
  74DI19980423,  A16N, 13458,  1,      7,      7,2,19980509, 810, 40.9950, -19.9900, 4700,   1823.1,   4.0260,  34.9970,2,  34.9970,2,    260.5,2,    261.9,2,    12.83,2,    17.51,2,     1.13,2,    0.875,2,    0.494,2,   -999.0,9,-999.0000,  -999.00,9,  -999.00,9,  -999.00,9,   3.8752
  74DI19980423,  A16N, 13458,  1,      6,      6,2,19980509, 810, 40.9950, -19.9900, 4700,   2229.1,   3.3800,  34.9630,2,  34.9640,2,    263.0,2,    261.4,2,    18.32,2,    17.88,2,     1.17,2,    0.019,3,    0.010,3,   2317.2,2,   7.7223,    25.00,2,  -999.00,9,  -999.00,9,   3.1998
  74DI19980423,  A16N, 13458,  1,      5,      5,2,19980509, 810, 40.9950, -19.9900, 4700,   2790.5,   2.8230,  34.9440,2,  34.9450,2,    252.0,2,    251.6,2,    30.68,2,    19.54,2,     1.28,2,    0.224,2,    0.132,2,   -999.0,9,-999.0000,  -999.00,9,  -999.00,9,  -999.00,9,   2.5975
  74DI19980423,  A16N, 13458,  1,      4,      4,2,19980509, 810, 40.9950, -19.9900, 4700,   3301.4,   2.6450,  34.9290,2,  34.9290,2,    244.2,2,    245.7,2,    38.01,2,    20.87,2,     1.38,2,    0.214,2,    0.117,2,   2346.8,2,   7.7163,    25.00,2,  -999.00,9,  -999.00,9,   2.3703
  74DI19980423,  A16N, 13458,  1,      3,      3,2,19980509, 810, 40.9950, -19.9900, 4700,   3813.9,   2.5610,  34.9170,2,  34.9170,2,    240.8,2,    241.2,2,    42.67,2,    21.64,2,     1.43,2,    0.045,2,    0.023,2,   2351.5,2,   7.7193,    25.00,2,  -999.00,9,  -999.00,9,   2.2321
  74DI19980423,  A16N, 13458,  1,      2,      2,2,19980509, 810, 40.9950, -19.9900, 4700,   4326.3,   2.4980,  34.9050,2,  34.9040,2,    242.2,2,    241.6,2,    45.48,2,    22.02,2,     1.47,2,    0.028,2,    0.015,2,   2355.3,2,   7.7193,    25.00,2,  -999.00,9,  -999.00,9,   2.1115
  74DI19980423,  A16N, 13458,  1,      1,      1,2,19980509, 810, 40.9950, -19.9900, 4700,   4778.3,   2.5150,  34.9010,2,  34.9000,2,    241.7,2,    241.6,2,    45.85,2,    21.76,2,     1.43,2,    0.045,2,    0.023,2,   2358.0,2,   7.7183,    25.00,2,  -999.00,9,  -999.00,9,   2.0729
  74DI19980423,  A16N, 13459,  1,     22,     22,2,19980509,1427, 41.5017, -19.9933, 2762,      2.5,  14.7170,  35.8860,2,  35.8860,2,    263.1,6,    269.2,2,     0.54,2,     0.41,2,     0.06,2, -999.000,9, -999.000,9,   -999.0,9,-999.0000,  -999.00,9,     0.24,2,     0.02,2,  14.7166
  74DI19980423,  A16N, 13459,  1,     21,     21,2,19980509,1427, 41.5017, -19.9933, 2762,     14.3,  14.7000,  35.8840,2,  35.8850,2,    263.1,2,    250.1,2,     0.54,2,     0.36,2,     0.04,2, -999.000,9, -999.000,9,   -999.0,9,-999.0000,  -999.00,9,     0.24,2,     0.01,2,  14.6979
  74DI19980423,  A16N, 13459,  1,     20,     20,2,19980509,1427, 41.5017, -19.9933, 2762,     23.7,  14.5550,  35.8820,2,  35.8810,2,    259.9,2,    267.8,2,     0.50,2,     0.54,2,     0.05,2, -999.000,9, -999.000,9,   -999.0,9,-999.0000,  -999.00,9,     0.26,2,     0.04,2,  14.5515
  74DI19980423,  A16N, 13459,  1,     19,     19,2,19980509,1427, 41.5017, -19.9933, 2762,     43.6,  14.3190,  35.8800,2,  35.8750,2,    255.8,2,    262.0,2,     0.98,2,     1.70,2,     0.13,2, -999.000,9, -999.000,9,   -999.0,9,-999.0000,  -999.00,9,     0.18,2,     0.03,2,  14.3126
  74DI19980423,  A16N, 13459,  1,     18,     18,2,19980509,1427, 41.5017, -19.9933, 2762,     85.2,  13.7170,  35.8530,2,  35.8530,2,    249.3,2,    250.4,2,     1.30,2,     2.98,2,     0.21,2, -999.000,9, -999.000,9,   -999.0,9,-999.0000,  -999.00,9,     0.07,2,     0.03,2,  13.7048
  74DI19980423,  A16N, 13459,  1,     17,     17,2,19980509,1427, 41.5017, -19.9933, 2762,    125.6,  13.5920,  35.8440,2,  35.8430,2,    246.0,2,    249.1,2,     1.60,2,     3.99,2,     0.25,2, -999.000,9, -999.000,9,   -999.0,9,-999.0000,  -999.00,9,     0.02,2,     0.00,2,  13.5741
  74DI19980423,  A16N, 13459,  1,     16,     16,2,19980509,1427, 41.5017, -19.9933, 2762,    165.3,  12.9070,  35.7480,2,  35.7470,2,    238.4,2,    235.7,2,     2.77,2,     7.76,2,     0.46,2, -999.000,9, -999.000,9,   -999.0,9,-999.0000,  -999.00,9,     0.00,2,     0.00,2,  12.8842
  74DI19980423,  A16N, 13459,  1,     15,     15,2,19980509,1427, 41.5017, -19.9933, 2762,    246.9,  12.2550,  35.6650,2,  35.6650,2,    220.3,2,    226.9,2,     3.79,2,    10.10,2,     0.60,2, -999.000,9, -999.000,9,   -999.0,9,-999.0000,  -999.00,9,  -999.00,9,  -999.00,9,  12.2220
  74DI19980423,  A16N, 13459,  1,     14,     14,2,19980509,1427, 41.5017, -19.9933, 2762,    326.3,  11.7110,  35.5930,2,  35.5920,2,    224.0,2,    221.7,2,     4.56,2,    11.69,2,     0.70,2, -999.000,9, -999.000,9,   -999.0,9,-999.0000,  -999.00,9,  -999.00,9,  -999.00,9,  11.6686
  74DI19980423,  A16N, 13459,  1,     13,     13,2,19980509,1427, 41.5017, -19.9933, 2762,    507.0,  10.7090,  35.4830,2,  35.4820,2,    211.9,2,    210.9,2,     6.26,2,    14.41,2,     0.89,2, -999.000,9, -999.000,9,   -999.0,9,-999.0000,  -999.00,9,  -999.00,9,  -999.00,9,  10.6463
  74DI19980423,  A16N, 13459,  1,     12,     12,2,19980509,1427, 41.5017, -19.9933, 2762,    757.8,   9.7440,  35.5600,2,  35.5590,2,    187.3,2,    189.5,2,     9.38,2,    17.26,2,     1.06,2, -999.000,9, -999.000,9,   -999.0,9,-999.0000,  -999.00,9,  -999.00,9,  -999.00,9,   9.6543
  74DI19980423,  A16N, 13459,  1,     11,     11,2,19980509,1427, 41.5017, -19.9933, 2762,    959.7,   8.9570,  35.6220,2,  35.6220,2,    191.3,2,    191.9,2,    10.69,2,    17.73,2,     1.10,2, -999.000,9, -999.000,9,   -999.0,9,-999.0000,  -999.00,9,  -999.00,9,  -999.00,9,   8.8476
  74DI19980423,  A16N, 13459,  1,     10,     10,2,19980509,1427, 41.5017, -19.9933, 2762,   1109.1,   8.6920,  35.7040,2,  35.7030,2,    197.1,2,    197.1,2,    11.02,2,    17.38,2,     1.07,2, -999.000,9, -999.000,9,   -999.0,9,-999.0000,  -999.00,9,  -999.00,9,  -999.00,9,   8.5666
  74DI19980423,  A16N, 13459,  1,      9,      9,2,19980509,1427, 41.5017, -19.9933, 2762,   1259.1,   6.7470,  35.3980,2,  35.3930,2,    224.9,2,    221.4,2,    11.74,2,    17.75,2,     1.13,2, -999.000,9, -999.000,9,   -999.0,9,-999.0000,  -999.00,9,  -999.00,9,  -999.00,9,   6.6217
  74DI19980423,  A16N, 13459,  1,      8,      8,2,19980509,1427, 41.5017, -19.9933, 2762,   1414.8,   4.7770,  35.0740,2,  35.0760,2,    249.1,2,    249.2,2,    11.95,2,    17.90,2,     1.15,2, -999.000,9, -999.000,9,   -999.0,9,-999.0000,  -999.00,9,  -999.00,9,  -999.00,9,   4.6560
  74DI19980423,  A16N, 13459,  1,      7,      7,2,19980509,1427, 41.5017, -19.9933, 2762,   1564.3,   4.1690,  34.9930,2,  34.9940,2,    257.5,2,    261.1,2,    12.04,2,    17.65,2,     1.15,2, -999.000,9, -999.000,9,   -999.0,9,-999.0000,  -999.00,9,  -999.00,9,  -999.00,9,   4.0408
  74DI19980423,  A16N, 13459,  1,      6,      6,2,19980509,1427, 41.5017, -19.9933, 2762,   1716.1,   4.0080,  34.9880,2,  34.9900,2,    264.4,2,    263.7,2,    12.54,2,    17.58,2,     1.14,2, -999.000,9, -999.000,9,   -999.0,9,-999.0000,  -999.00,9,  -999.00,9,  -999.00,9,   3.8676
  74DI19980423,  A16N, 13459,  1,      5,      5,2,19980509,1427, 41.5017, -19.9933, 2762,   1918.9,   3.5860,  34.9520,2,  34.9520,2,    267.1,2,    268.4,2,    14.02,2,    17.53,2,     1.14,2, -999.000,9, -999.000,9,   -999.0,9,-999.0000,  -999.00,9,  -999.00,9,  -999.00,9,   3.4323
  74DI19980423,  A16N, 13459,  1,      4,      4,2,19980509,1427, 41.5017, -19.9933, 2762,   2121.8,   3.4640,  34.9570,2,  34.9580,2,    266.0,2,    265.8,2,    15.99,2,    17.71,2,     1.16,2, -999.000,9, -999.000,9,   -999.0,9,-999.0000,  -999.00,9,  -999.00,9,  -999.00,9,   3.2928
  74DI19980423,  A16N, 13459,  1,      3,      3,2,19980509,1427, 41.5017, -19.9933, 2762,   2327.4,   3.3750,  34.9600,2,  34.9600,2,    264.1,2,    262.7,2,    17.91,2,    17.94,2,     1.17,2, -999.000,9, -999.000,9,   -999.0,9,-999.0000,  -999.00,9,  -999.00,9,  -999.00,9,   3.1853
  74DI19980423,  A16N, 13459,  1,      2,      2,2,19980509,1427, 41.5017, -19.9933, 2762,   2635.2,   3.0410,  34.9510,2,  34.9510,2,    259.3,2,    258.7,2,    24.07,2,    18.53,2,     1.21,2, -999.000,9, -999.000,9,   -999.0,9,-999.0000,  -999.00,9,  -999.00,9,  -999.00,9,   2.8268
  74DI19980423,  A16N, 13459,  1,      1,      1,2,19980509,1427, 41.5017, -19.9933, 2762,   2790.9,   2.9910,  34.9490,2,  34.9500,2,    257.3,2,    258.2,2,    25.38,2,    18.49,2,     1.21,2, -999.000,9, -999.000,9,   -999.0,9,-999.0000,  -999.00,9,  -999.00,9,  -999.00,9,   2.7620
  74DI19980423,  A16N, 13460,  1,     18,     18,2,19980509,2014, 42.0017, -19.9933, 2333,      2.8,  14.4940,  35.8660,2,  35.8650,2,    266.1,2,    265.1,2,     0.52,2,     0.29,2,     0.02,2,    3.912,3,    1.964,3,   2362.8,2,   7.9543,    25.00,2,     0.16,2,     0.03,2,  14.4936
  74DI19980423,  A16N, 13460,  1,     17,     17,2,19980509,2014, 42.0017, -19.9933, 2333,     15.8,  14.4900,  35.8650,2,  35.8650,2,    264.1,2,    265.6,2,     0.54,2,     0.31,2,     0.03,2,    4.451,3,    1.927,3,   2365.3,2,   7.9543,    25.00,2,     0.15,2,     0.02,2,  14.4877
  74DI19980423,  A16N, 13460,  1,     16,     16,2,19980509,2014, 42.0017, -19.9933, 2333,     28.5,  14.3090,  35.8680,2,  35.8670,2,    262.1,2,    263.7,2,     0.61,2,     0.77,2,     0.06,2,    3.004,3,    1.777,3,   2363.6,2,   7.9463,    25.00,2,     0.15,2,     0.01,2,  14.3048
  74DI19980423,  A16N, 13460,  1,     15,     15,2,19980509,2014, 42.0017, -19.9933, 2333,     52.8,  14.0270,  35.8620,2,  35.8600,2,    254.8,2,    256.8,2,     0.97,2,     1.80,2,     0.13,2,    1.109,3,    1.326,3,   2357.8,2,   7.9333,    25.00,2,     0.13,2,     0.04,2,  14.0193
  74DI19980423,  A16N, 13460,  1,     14,     14,2,19980509,2014, 42.0017, -19.9933, 2333,     77.9,  13.6780,  35.8430,2,  35.8410,2,    250.5,2,    248.7,2,     1.28,2,     3.52,2,     0.21,2,    2.988,3,    1.780,3,   2358.8,2,   7.9183,    25.00,2,     0.06,2,     0.04,2,  13.6669
  74DI19980423,  A16N, 13460,  1,     13,     13,2,19980509,2014, 42.0017, -19.9933, 2333,    103.9,  13.4320,  35.8210,2,  35.8200,2,    247.9,2,    245.6,2,     2.04,2,     4.90,2,     0.28,2,    3.182,3,    1.786,3,   2361.1,2,   7.9013,    25.00,2,     0.01,2,     0.00,2,  13.4173
  74DI19980423,  A16N, 13460,  1,     12,     12,2,19980509,2014, 42.0017, -19.9933, 2333,    153.5,  12.8340,  35.7470,2,  35.7450,2,    236.1,2,    232.7,2,     2.77,2,     8.15,2,     0.49,2,    1.201,3,    1.348,3,   2353.3,2,   7.8663,    25.00,2,     0.00,2,     0.00,2,  12.8129
  74DI19980423,  A16N, 13460,  1,     11,     11,2,19980509,2014, 42.0017, -19.9933, 2333,    204.8,  12.3280,  35.6790,2,  35.6780,2,    228.9,2,    227.7,2,     3.37,2,     9.79,2,     0.59,2,    3.730,2,    1.984,2,   2348.1,2,   7.8453,    25.00,2,  -999.00,9,  -999.00,9,  12.3006
  74DI19980423,  A16N, 13460,  1,     10,     10,2,19980509,2014, 42.0017, -19.9933, 2333,    406.6,  11.1610,  35.5280,2,  35.5260,2,    217.4,2,    218.6,2,     5.23,2,    12.93,2,     0.79,2,    3.187,2,    1.613,2,   2342.3,2,   7.8033,    25.00,2,  -999.00,9,  -999.00,9,  11.1096
  74DI19980423,  A16N, 13460,  1,      9,      9,2,19980509,2014, 42.0017, -19.9933, 2333,    607.9,  10.1710,  35.4640,2,  35.4630,2,    202.3,2,    201.0,2,     7.56,2,    15.98,2,     1.00,2,    1.619,3,    0.818,3,   2340.0,2,   7.7603,    25.00,2,  -999.00,9,  -999.00,9,  10.0978
  74DI19980423,  A16N, 13460,  1,      8,      8,2,19980509,2014, 42.0017, -19.9933, 2333,    810.2,   9.3360,  35.5100,2,  35.5100,2,    189.7,2,    189.9,2,    10.09,2,    17.70,2,     1.12,2,    1.630,2,    0.982,2,   2350.0,2,   7.7443,    25.00,2,  -999.00,9,  -999.00,9,   9.2423
  74DI19980423,  A16N, 13460,  1,      7,      7,2,19980509,2014, 42.0017, -19.9933, 2333,   1012.2,   8.5590,  35.5930,2,  35.5920,2,    200.6,2,    197.0,2,    10.99,2,    17.73,2,     1.11,2,    1.268,2,    0.738,2,   2359.8,2,   7.7443,    25.00,2,  -999.00,9,  -999.00,9,   8.4463
  74DI19980423,  A16N, 13460,  1,      6,      6,2,19980509,2014, 42.0017, -19.9933, 2333,   1261.3,   6.0310,  35.2530,2,  35.2540,2,    227.9,2,    229.4,2,    12.07,2,    18.14,2,     1.14,2,    1.443,2,    0.762,2,   2337.4,2,   7.7243,    25.00,2,  -999.00,9,  -999.00,9,   5.9124
  74DI19980423,  A16N, 13460,  1,      5,      5,2,19980509,2014, 42.0017, -19.9933, 2333,   1517.9,   4.4750,  35.0370,2,  35.0380,2,    251.2,2,    255.7,2,    12.43,2,    17.90,2,     1.14,2,    1.760,2,    0.909,2,   2326.8,2,   7.7183,    25.00,2,  -999.00,9,  -999.00,9,   4.3476
  74DI19980423,  A16N, 13460,  1,      4,      4,2,19980509,2014, 42.0017, -19.9933, 2333,   1766.5,   3.8720,  34.9720,2,  34.9730,2,    264.9,2,    266.1,2,    13.27,2,    17.62,2,     1.13,2,    1.374,2,    0.658,2,   2319.5,2,   7.7183,    25.00,2,  -999.00,9,  -999.00,9,   3.7287
  74DI19980423,  A16N, 13460,  1,      3,      3,2,19980509,2014, 42.0017, -19.9933, 2333,   2010.9,   3.5990,  34.9670,2,  34.9680,2,    264.7,2,    264.4,2,    15.97,2,    17.83,2,     1.15,2,    0.611,2,    0.316,2,   2323.7,2,   7.7213,    25.00,2,  -999.00,9,  -999.00,9,   3.4364
  74DI19980423,  A16N, 13460,  1,      2,      2,2,19980509,2014, 42.0017, -19.9933, 2333,   2278.4,   3.3210,  34.9600,2,  34.9620,2,    263.3,2,    262.3,2,    19.33,2,    18.03,2,     1.17,2,    0.544,2,    0.281,2,   2326.0,2,   7.7253,    25.00,2,  -999.00,9,  -999.00,9,   3.1370
  74DI19980423,  A16N, 13460,  1,      1,      1,2,19980509,2014, 42.0017, -19.9933, 2333,   2350.8,   3.1670,  34.9550,2,  34.9580,2,    262.8,2,    261.7,2,    21.10,2,    18.07,2,     1.20,2,    0.534,2,    0.274,2,   2327.9,2,   7.7213,    25.00,2,  -999.00,9,  -999.00,9,   2.9786