BOTTLE,20221006CCHSIOCBG
EXPOCODE,SECT_ID,STNNBR,CASTNO,SAMPNO,BTLNBR,BTLNBR_FLAG_W,DATE,TIME,LATITUDE,LONGITUDE,DEPTH,CTDPRS,CTDTMP,CTDSAL,CTDSAL_FLAG_W,SALNTY,SALNTY_FLAG_W,CTDOXY,CTDOXY_FLAG_W,OXYGEN,OXYGEN_FLAG_W,SILCAT,SILCAT_FLAG_W,NITRAT,NITRAT_FLAG_W,PHSPHT,PHSPHT_FLAG_W,CFC-11,CFC-11_FLAG_W,CFC-12,CFC-12_FLAG_W,ALKALI,ALKALI_FLAG_W,PH_SWS,PH_TEMP,PH_SWS_FLAG_W,CHLORA,CHLORA_FLAG_W,PPHYTN,PPHYTN_FLAG_W,THETA
,,,,,,,,,,,METERS,DBAR,ITS-90,PSS-78,,PSS-78,,UMOL/KG,,UMOL/KG,,UMOL/KG,,UMOL/KG,,UMOL/KG,,PMOL/KG,,PMOL/KG,,UMOL/KG,,,DEGC,,UG/L,,UG/L,,DEGC
  74DI19980423,  A16N, 13510,  1,     19,     19,2,19980523,1616, 60.9983, -20.0033, 2398,      1.6,   9.8600,  35.2770,2,  35.2760,2,    294.6,6,    294.8,2,     2.15,2,     7.98,2,     0.41,2, -999.000,9, -999.000,9,   2327.7,2,   7.8713,    25.00,2,     1.26,2,     0.28,2,   9.8598
  74DI19980423,  A16N, 13510,  1,     18,     18,2,19980523,1616, 60.9983, -20.0033, 2398,     12.6,   9.7670,  35.2780,2,  35.2770,2,    294.9,2,    294.1,2,     2.28,2,     8.16,2,     0.42,2,    3.603,3,    1.786,3,   2328.4,2,   7.8713,    25.00,2,     1.22,2,     0.26,2,   9.7656
  74DI19980423,  A16N, 13510,  1,     17,     17,2,19980523,1616, 60.9983, -20.0033, 2398,     22.9,   9.6470,  35.2790,2,  35.2770,2,    290.8,2,    292.7,2,     2.25,2,     8.34,2,     0.46,2,    5.045,3,    1.824,3,   2324.6,2,   7.8563,    25.00,2,     1.31,2,     0.32,2,   9.6444
  74DI19980423,  A16N, 13510,  1,     16,     16,2,19980523,1616, 60.9983, -20.0033, 2398,     42.9,   9.3160,  35.2770,2,  35.2770,2,    284.6,2,    286.4,2,     1.80,2,     8.73,2,     0.50,2,    5.003,3,    1.919,3,   2329.3,2,   7.8553,    25.00,2,     0.97,2,     0.29,2,   9.3113
  74DI19980423,  A16N, 13510,  1,     15,     15,2,19980523,1616, 60.9983, -20.0033, 2398,     82.8,   9.1540,  35.2780,2,  35.2760,2,    281.6,2,    281.1,2,     2.44,2,     9.52,2,     0.55,2,    3.947,3,    1.375,3,   2330.2,2,   7.8343,    25.00,2,     0.35,2,     0.19,2,   9.1449
  74DI19980423,  A16N, 13510,  1,     14,     14,2,19980523,1616, 60.9983, -20.0033, 2398,    123.5,   9.0470,  35.2760,2,  35.2740,2,    281.1,2,    277.5,2,     3.42,2,    10.33,2,     0.61,2,    3.224,3,    1.626,3,   2327.6,2,   7.8223,    25.00,2,     0.25,2,     0.15,2,   9.0335
  74DI19980423,  A16N, 13510,  1,     13,     13,2,19980523,1616, 60.9983, -20.0033, 2398,    238.5,   8.6200,  35.2620,2,  35.2590,2,    265.0,2,    270.2,2,     6.30,2,    13.00,2,     0.72,2,    2.956,3,    1.491,3,   2324.9,2,   7.7933,    25.00,2,  -999.00,9,  -999.00,9,   8.5946
  74DI19980423,  A16N, 13510,  1,     12,     12,2,19980523,1616, 60.9983, -20.0033, 2398,    324.8,   8.4530,  35.2540,2,  35.2510,2,    270.7,2,    270.6,2,     6.41,2,    13.27,2,     0.72,2,    4.056,2,    1.808,2,   2325.4,2,   7.7913,    25.00,2,  -999.00,9,  -999.00,9,   8.4186
  74DI19980423,  A16N, 13510,  1,     11,     11,2,19980523,1616, 60.9983, -20.0033, 2398,    504.3,   7.9140,  35.1970,2,  35.1940,2,    264.2,2,    259.6,2,     7.53,2,    14.56,2,     0.82,2,    3.662,2,    1.851,2,   2320.6,2,   7.7683,    25.00,2,  -999.00,9,  -999.00,9,   7.8621
  74DI19980423,  A16N, 13510,  1,     10,     10,2,19980523,1616, 60.9983, -20.0033, 2398,    758.4,   6.5800,  35.0910,2,  35.0860,2,    231.7,2,    226.4,2,    10.96,2,    18.11,2,     1.12,2,    2.600,2,    1.264,2,   2319.8,2,   7.7083,    25.00,2,  -999.00,9,  -999.00,9,   6.5083
  74DI19980423,  A16N, 13510,  1,      9,      9,2,19980523,1616, 60.9983, -20.0033, 2398,    961.2,   5.4040,  35.0280,2,  35.0260,2,    236.1,2,    235.4,2,    11.57,2,    18.66,2,     1.14,2,    2.339,2,    1.109,2,   2313.5,2,   7.6983,    25.00,2,  -999.00,9,  -999.00,9,   5.3204
  74DI19980423,  A16N, 13510,  1,      8,      8,2,19980523,1616, 60.9983, -20.0033, 2398,   1158.4,   4.5140,  34.9680,2,  34.9660,2,    249.3,2,    251.8,2,    11.66,2,    18.19,2,     1.11,2,    2.740,3,    0.992,3,   2311.6,2,   7.6983,    25.00,2,  -999.00,9,  -999.00,9,   4.4196
  74DI19980423,  A16N, 13510,  1,      7,      7,2,19980523,1616, 60.9983, -20.0033, 2398,   1364.8,   4.0410,  34.9400,2,  34.9380,2,    264.0,2,    265.6,2,    11.16,2,    17.60,2,     1.08,2,    3.139,2,    1.393,2,   2306.2,2,   7.6973,    25.00,2,  -999.00,9,  -999.00,9,   3.9326
  74DI19980423,  A16N, 13510,  1,      6,      6,2,19980523,1616, 60.9983, -20.0033, 2398,   1570.3,   3.6820,  34.9140,2,  34.9120,2,    273.1,2,    273.9,2,    11.03,2,    17.27,2,     1.06,2,    2.801,2,    1.350,2,   2309.3,2,   7.7053,    25.00,2,  -999.00,9,  -999.00,9,   3.5592
  74DI19980423,  A16N, 13510,  1,      5,      5,2,19980523,1616, 60.9983, -20.0033, 2398,   1773.4,   3.4890,  34.9060,2,  34.9040,2,    277.6,2,    279.0,2,    11.03,2,    16.99,2,     1.04,2,    2.544,2,    1.211,2,   2306.0,2,   7.7063,    25.00,2,  -999.00,9,  -999.00,9,   3.3503
  74DI19980423,  A16N, 13510,  1,      4,      4,2,19980523,1616, 60.9983, -20.0033, 2398,   1977.4,   3.4610,  34.9360,2,  34.9370,2,    276.5,2,    277.0,2,    11.06,2,    16.52,2,     1.02,2,    2.736,2,    1.251,2,   2305.7,2,   7.7103,    25.00,2,  -999.00,9,  -999.00,9,   3.3037
  74DI19980423,  A16N, 13510,  1,      3,      3,2,19980523,1616, 60.9983, -20.0033, 2398,   2183.4,   3.2490,  34.9770,2,  34.9750,2,    278.7,2,    276.9,2,    10.59,2,    15.62,2,     0.95,2,    2.887,2,    1.475,2,   2308.0,2,   7.7103,    25.00,2,  -999.00,9,  -999.00,9,   3.0753
  74DI19980423,  A16N, 13510,  1,      2,      2,2,19980523,1616, 60.9983, -20.0033, 2398,   2386.3,   2.7820,  34.9780,2,  34.9760,2,    281.9,2,    281.3,2,    10.38,2,    15.26,2,     0.93,2,    2.829,2,    1.400,2,   2309.9,2,   7.7113,    25.00,2,  -999.00,9,  -999.00,9,   2.5968
  74DI19980423,  A16N, 13510,  1,      1,      1,2,19980523,1616, 60.9983, -20.0033, 2398,   2424.7,   2.7310,  34.9770,2,  34.9770,2,    278.5,2,    281.3,2,    10.58,2,    15.08,2,     0.88,2,    2.574,2,    1.349,2,   2309.0,2,   7.7073,    25.00,2,  -999.00,9,  -999.00,9,   2.5430
  74DI19980423,  A16N, 13511,  1,     19,     19,2,19980523,2102, 60.4950, -19.9867, 2523,      1.2,   9.8540,  35.2730,2,  35.2980,2,   -999.0,9,    296.0,2,     2.32,2,     7.49,2,     0.39,2, -999.000,9, -999.000,9,   -999.0,9,-999.0000,  -999.00,9,     1.36,2,     0.36,2,   9.8539
  74DI19980423,  A16N, 13511,  1,     18,     18,2,19980523,2102, 60.4950, -19.9867, 2523,     16.5,   9.8050,  35.2780,2,  35.3030,2,    294.0,2,    295.2,2,     2.35,2,     7.55,2,     0.40,2, -999.000,9, -999.000,9,   -999.0,9,-999.0000,  -999.00,9,     1.30,2,     0.29,2,   9.8031
  74DI19980423,  A16N, 13511,  1,     17,     17,2,19980523,2102, 60.4950, -19.9867, 2523,     29.4,   9.5070,  35.2960,2,  35.3050,2,    285.5,2,    281.2,2,     2.75,2,     8.87,2,     0.55,2, -999.000,9, -999.000,9,   -999.0,9,-999.0000,  -999.00,9,     0.74,2,     0.28,2,   9.5037
  74DI19980423,  A16N, 13511,  1,     16,     16,2,19980523,2102, 60.4950, -19.9867, 2523,     54.7,   9.5110,  35.3040,2,  35.3070,2,    277.0,2,    277.1,2,     2.77,2,     9.16,2,     0.60,2, -999.000,9, -999.000,9,   -999.0,9,-999.0000,  -999.00,9,     0.37,2,     0.20,2,   9.5049
  74DI19980423,  A16N, 13511,  1,     15,     15,2,19980523,2102, 60.4950, -19.9867, 2523,     79.9,   9.4700,  35.3050,2,  35.2910,2,    273.9,2,    271.3,2,     3.82,2,    10.07,2,     0.66,2, -999.000,9, -999.000,9,   -999.0,9,-999.0000,  -999.00,9,     0.11,2,     0.06,2,   9.4611
  74DI19980423,  A16N, 13511,  1,     14,     14,2,19980523,2102, 60.4950, -19.9867, 2523,    105.1,   9.3470,  35.3080,2,  35.2270,0,    267.7,2,    266.0,2,     5.31,2,    11.52,2,     0.73,2, -999.000,9, -999.000,9,   -999.0,9,-999.0000,  -999.00,9,     0.02,2,     0.01,2,   9.3353
  74DI19980423,  A16N, 13511,  1,     13,     13,2,19980523,2102, 60.4950, -19.9867, 2523,    205.9,   9.1760,  35.2950,2,  35.2090,0,    266.3,2,    263.8,2,     5.61,2,    11.99,2,     0.78,2, -999.000,9, -999.000,9,   -999.0,9,-999.0000,  -999.00,9,  -999.00,9,  -999.00,9,   9.1532
  74DI19980423,  A16N, 13511,  1,     12,     12,2,19980523,2102, 60.4950, -19.9867, 2523,    407.8,   8.4580,  35.2290,2,  35.0640,0,    257.1,2,    259.5,2,     6.56,2,    13.37,2,     0.86,2, -999.000,9, -999.000,9,   -999.0,9,-999.0000,  -999.00,9,  -999.00,9,  -999.00,9,   8.4146
  74DI19980423,  A16N, 13511,  1,     11,     11,2,19980523,2102, 60.4950, -19.9867, 2523,    610.1,   7.9460,  35.2100,2,  35.0150,0,    267.4,2,    266.5,2,     6.87,2,    13.76,2,     0.89,2, -999.000,9, -999.000,9,   -999.0,9,-999.0000,  -999.00,9,  -999.00,9,  -999.00,9,   7.8826
  74DI19980423,  A16N, 13511,  1,     10,     10,2,19980523,2102, 60.4950, -19.9867, 2523,    810.1,   6.4850,  35.0650,2,-999.0000,9,    230.2,2,    225.0,2,    10.76,2,    17.92,2,     1.15,2, -999.000,9, -999.000,9,   -999.0,9,-999.0000,  -999.00,9,  -999.00,9,  -999.00,9,   6.4088
  74DI19980423,  A16N, 13511,  1,      9,      9,2,19980523,2102, 60.4950, -19.9867, 2523,   1015.4,   5.1900,  35.0130,2,-999.0000,9,    236.3,2,    237.1,2,    11.59,2,    18.22,2,     1.16,2, -999.000,9, -999.000,9,   -999.0,9,-999.0000,  -999.00,9,  -999.00,9,  -999.00,9,   5.1030
  74DI19980423,  A16N, 13511,  1,      8,      8,2,19980523,2102, 60.4950, -19.9867, 2523,   1212.2,   4.2480,  34.9470,2,  34.9470,2,    256.2,2,    257.8,2,    11.49,2,    17.89,2,     1.13,2, -999.000,9, -999.000,9,   -999.0,9,-999.0000,  -999.00,9,  -999.00,9,  -999.00,9,   4.1512
  74DI19980423,  A16N, 13511,  1,      7,      7,2,19980523,2102, 60.4950, -19.9867, 2523,   1419.1,   3.8140,  34.9160,2,  34.9150,2,    268.1,2,    270.0,2,    11.28,2,    17.48,2,     1.11,2, -999.000,9, -999.000,9,   -999.0,9,-999.0000,  -999.00,9,  -999.00,9,  -999.00,9,   3.7032
  74DI19980423,  A16N, 13511,  1,      6,      6,2,19980523,2102, 60.4950, -19.9867, 2523,   1624.9,   3.5380,  34.8970,2,  34.8960,2,    276.2,2,    277.6,2,    11.13,2,    17.16,2,     1.07,2, -999.000,9, -999.000,9,   -999.0,9,-999.0000,  -999.00,9,  -999.00,9,  -999.00,9,   3.4121
  74DI19980423,  A16N, 13511,  1,      5,      5,2,19980523,2102, 60.4950, -19.9867, 2523,   1824.7,   3.3900,  34.8940,2,  34.8930,2,    280.5,2,    281.0,2,    11.21,2,    16.90,2,     1.04,2, -999.000,9, -999.000,9,   -999.0,9,-999.0000,  -999.00,9,  -999.00,9,  -999.00,9,   3.2480
  74DI19980423,  A16N, 13511,  1,      4,      4,2,19980523,2102, 60.4950, -19.9867, 2523,   2030.3,   3.3060,  34.9100,2,  34.9100,2,    280.9,2,    280.1,2,    11.67,2,    16.64,2,     1.02,2, -999.000,9, -999.000,9,   -999.0,9,-999.0000,  -999.00,9,  -999.00,9,  -999.00,9,   3.1461
  74DI19980423,  A16N, 13511,  1,      3,      3,2,19980523,2102, 60.4950, -19.9867, 2523,   2235.4,   3.3430,  34.9560,2,  34.9550,2,    276.6,2,    274.8,2,    11.96,2,    16.19,2,     1.01,2, -999.000,9, -999.000,9,   -999.0,9,-999.0000,  -999.00,9,  -999.00,9,  -999.00,9,   3.1628
  74DI19980423,  A16N, 13511,  1,      2,      2,2,19980523,2102, 60.4950, -19.9867, 2523,   2440.7,   2.8220,  34.9740,2,  34.9730,2,    277.8,2,    277.4,2,    12.25,2,    15.61,2,     0.96,2, -999.000,9, -999.000,9,   -999.0,9,-999.0000,  -999.00,9,  -999.00,9,  -999.00,9,   2.6309
  74DI19980423,  A16N, 13511,  1,      1,      1,2,19980523,2102, 60.4950, -19.9867, 2523,   2550.5,   2.5490,  34.9730,2,  34.9720,2,    277.8,2,    278.9,2,    12.36,2,    15.45,2,     0.89,2, -999.000,9, -999.000,9,   -999.0,9,-999.0000,  -999.00,9,  -999.00,9,  -999.00,9,   2.3524
  74DI19980423,  A16N, 13512,  1,     20,     20,2,19980524, 350, 59.7183, -19.2300, 2686,      1.5,  10.2650,  35.3470,6,  35.3460,2,   -999.0,9,    294.9,2,     0.31,2,     7.19,2,     0.37,2, -999.000,9, -999.000,9,   -999.0,9,-999.0000,  -999.00,9,     0.87,2,     0.25,2,  10.2648
  74DI19980423,  A16N, 13512,  1,     19,     19,2,19980524, 350, 59.7183, -19.2300, 2686,     11.1,  10.2580,  35.3470,2,  35.3520,2,    297.4,2,    295.0,2,     0.31,2,     7.06,2,     0.39,2, -999.000,9, -999.000,9,   -999.0,9,-999.0000,  -999.00,9,     0.79,2,     0.25,2,  10.2567
  74DI19980423,  A16N, 13512,  1,     18,     18,2,19980524, 350, 59.7183, -19.2300, 2686,     19.5,  10.2460,  35.3480,2,  35.3570,2,    293.3,2,    294.1,2,     0.60,2,     7.12,2,     0.42,2, -999.000,9, -999.000,9,   -999.0,9,-999.0000,  -999.00,9,     0.81,2,     0.21,2,  10.2437
  74DI19980423,  A16N, 13512,  1,     17,     17,2,19980524, 350, 59.7183, -19.2300, 2686,     34.8,  10.0290,  35.3580,2,  35.3560,2,    289.1,2,    287.5,2,     1.24,2,     7.54,2,     0.52,2, -999.000,9, -999.000,9,   -999.0,9,-999.0000,  -999.00,9,     0.43,2,     0.21,2,  10.0250
  74DI19980423,  A16N, 13512,  1,     16,     16,2,19980524, 350, 59.7183, -19.2300, 2686,     65.0,   9.9980,  35.3580,2,  35.3730,2,    281.6,2,    283.8,2,     1.54,2,     7.78,2,     0.55,2, -999.000,9, -999.000,9,   -999.0,9,-999.0000,  -999.00,9,     0.25,2,     0.15,2,   9.9905
  74DI19980423,  A16N, 13512,  1,     15,     15,2,19980524, 350, 59.7183, -19.2300, 2686,     95.1,   9.8760,  35.3740,2,  35.3530,2,    272.5,2,    272.0,2,     4.59,2,    11.29,2,     0.71,2, -999.000,9, -999.000,9,   -999.0,9,-999.0000,  -999.00,9,     0.05,2,     0.03,2,   9.8651
  74DI19980423,  A16N, 13512,  1,     14,     14,2,19980524, 350, 59.7183, -19.2300, 2686,    226.0,   9.6070,  35.3550,2,  35.3080,0,    270.8,2,    270.1,2,     5.14,2,    11.85,2,     0.77,2, -999.000,9, -999.000,9,   -999.0,9,-999.0000,  -999.00,9,  -999.00,9,  -999.00,9,   9.5813
  74DI19980423,  A16N, 13512,  1,     13,     13,2,19980524, 350, 59.7183, -19.2300, 2686,    357.3,   9.1850,  35.3110,2,  35.2820,2,    271.8,2,    274.4,2,     5.33,2,    12.26,2,     0.81,2, -999.000,9, -999.000,9,   -999.0,9,-999.0000,  -999.00,9,  -999.00,9,  -999.00,9,   9.1452
  74DI19980423,  A16N, 13512,  1,     12,     12,2,19980524, 350, 59.7183, -19.2300, 2686,    508.9,   8.8880,  35.2850,2,  35.2050,0,    274.4,2,    271.7,2,     5.76,2,    12.83,2,     0.87,2, -999.000,9, -999.000,9,   -999.0,9,-999.0000,  -999.00,9,  -999.00,9,  -999.00,9,   8.8319
  74DI19980423,  A16N, 13512,  1,     11,     11,2,19980524, 350, 59.7183, -19.2300, 2686,    710.7,   8.0190,  35.2080,2,  35.0710,0,    241.7,2,    238.2,2,     8.70,2,    16.33,2,     1.09,2, -999.000,9, -999.000,9,   -999.0,9,-999.0000,  -999.00,9,  -999.00,9,  -999.00,9,   7.9444
  74DI19980423,  A16N, 13512,  1,     10,     10,2,19980524, 350, 59.7183, -19.2300, 2686,    913.1,   6.3530,  35.0720,2,  35.0000,0,    230.3,2,    228.7,2,    10.99,2,    18.63,2,     1.26,2, -999.000,9, -999.000,9,   -999.0,9,-999.0000,  -999.00,9,  -999.00,9,  -999.00,9,   6.2673
  74DI19980423,  A16N, 13512,  1,      9,      9,2,19980524, 350, 59.7183, -19.2300, 2686,   1115.7,   5.0240,  35.0020,2,  34.9440,0,    249.4,2,    248.1,2,    11.39,2,    18.54,2,     1.26,2, -999.000,9, -999.000,9,   -999.0,9,-999.0000,  -999.00,9,  -999.00,9,  -999.00,9,   4.9290
  74DI19980423,  A16N, 13512,  1,      8,      8,2,19980524, 350, 59.7183, -19.2300, 2686,   1319.1,   4.2240,  34.9470,2,  34.9130,0,    265.6,2,    266.3,2,    11.25,2,    18.66,2,     1.26,2, -999.000,9, -999.000,9,   -999.0,9,-999.0000,  -999.00,9,  -999.00,9,  -999.00,9,   4.1178
  74DI19980423,  A16N, 13512,  1,      7,      7,2,19980524, 350, 59.7183, -19.2300, 2686,   1523.8,   3.7910,  34.9140,2,  34.8970,0,    277.7,2,    278.9,2,    10.99,2,    18.11,2,     1.03,2, -999.000,9, -999.000,9,   -999.0,9,-999.0000,  -999.00,9,  -999.00,9,  -999.00,9,   3.6711
  74DI19980423,  A16N, 13512,  1,      6,      6,2,19980524, 350, 59.7183, -19.2300, 2686,   1726.9,   3.5270,  34.8990,2,  34.8960,2,    284.0,2,    285.3,2,    11.39,2,    17.85,2,     1.02,2, -999.000,9, -999.000,9,   -999.0,9,-999.0000,  -999.00,9,  -999.00,9,  -999.00,9,   3.3921
  74DI19980423,  A16N, 13512,  1,      5,      5,2,19980524, 350, 59.7183, -19.2300, 2686,   1931.0,   3.3850,  34.8970,2,  34.9120,2,    287.8,2,    288.4,2,    11.34,2,    17.34,2,     1.02,2, -999.000,9, -999.000,9,   -999.0,9,-999.0000,  -999.00,9,  -999.00,9,  -999.00,9,   3.2332
  74DI19980423,  A16N, 13512,  1,      4,      4,2,19980524, 350, 59.7183, -19.2300, 2686,   2134.5,   3.3150,  34.9120,2,  34.9480,0,    288.1,2,    287.1,2,    11.82,2,    17.14,2,     1.02,2, -999.000,9, -999.000,9,   -999.0,9,-999.0000,  -999.00,9,  -999.00,9,  -999.00,9,   3.1451
  74DI19980423,  A16N, 13512,  1,      3,      3,2,19980524, 350, 59.7183, -19.2300, 2686,   2338.5,   3.2740,  34.9490,2,-999.0000,9,    282.8,2,    281.0,2,    12.96,2,    16.68,2,     1.01,2, -999.000,9, -999.000,9,   -999.0,9,-999.0000,  -999.00,9,  -999.00,9,  -999.00,9,   3.0850
  74DI19980423,  A16N, 13512,  1,      2,      2,2,19980524, 350, 59.7183, -19.2300, 2686,   2543.1,   3.0230,  34.9670,2,  34.9650,2,    282.0,2,    280.8,2,    14.35,2,    16.72,2,     1.07,2, -999.000,9, -999.000,9,   -999.0,9,-999.0000,  -999.00,9,  -999.00,9,  -999.00,9,   2.8183
  74DI19980423,  A16N, 13512,  1,      1,      1,2,19980524, 350, 59.7183, -19.2300, 2686,   2717.5,   2.6510,  34.9670,2,  34.9660,2,    281.3,2,    282.3,2,    14.58,2,    16.12,2,     1.03,2, -999.000,9, -999.000,9,   -999.0,9,-999.0000,  -999.00,9,  -999.00,9,  -999.00,9,   2.4361