BOTTLE,20221006CCHSIOCBG
EXPOCODE,SECT_ID,STNNBR,CASTNO,SAMPNO,BTLNBR,BTLNBR_FLAG_W,DATE,TIME,LATITUDE,LONGITUDE,DEPTH,CTDPRS,CTDTMP,CTDSAL,CTDSAL_FLAG_W,SALNTY,SALNTY_FLAG_W,CTDOXY,CTDOXY_FLAG_W,OXYGEN,OXYGEN_FLAG_W,SILCAT,SILCAT_FLAG_W,NITRAT,NITRAT_FLAG_W,PHSPHT,PHSPHT_FLAG_W,CFC-11,CFC-11_FLAG_W,CFC-12,CFC-12_FLAG_W,ALKALI,ALKALI_FLAG_W,PH_SWS,PH_TEMP,PH_SWS_FLAG_W,CHLORA,CHLORA_FLAG_W,PPHYTN,PPHYTN_FLAG_W,THETA
,,,,,,,,,,,METERS,DBAR,ITS-90,PSS-78,,PSS-78,,UMOL/KG,,UMOL/KG,,UMOL/KG,,UMOL/KG,,UMOL/KG,,PMOL/KG,,PMOL/KG,,UMOL/KG,,,DEGC,,UG/L,,UG/L,,DEGC
  74DI19980423,  A16N, 13482,  1,     23,     23,2,19980516,1130, 52.0400, -18.5017, 4476,      3.4,  13.3000,  35.5890,2,  35.5900,2,    292.1,2,    294.3,2,     1.33,2,     3.13,2,     0.12,2, -999.000,9, -999.000,9,   -999.0,9,-999.0000,  -999.00,9,     1.73,2,     0.46,2,  13.2995
  74DI19980423,  A16N, 13482,  1,     22,     22,2,19980516,1130, 52.0400, -18.5017, 4476,     14.9,  12.9630,  35.5860,2,  35.5820,2,    292.9,2,    293.3,2,     1.32,2,     3.49,2,     0.17,2, -999.000,9, -999.000,9,   -999.0,9,-999.0000,  -999.00,9,     1.71,2,     0.53,2,  12.9610
  74DI19980423,  A16N, 13482,  1,     21,     21,2,19980516,1130, 52.0400, -18.5017, 4476,     25.1,  12.5230,  35.5780,2,  35.5730,2,    282.2,2,    288.1,2,     1.67,2,     4.47,2,     0.23,2, -999.000,9, -999.000,9,   -999.0,9,-999.0000,  -999.00,9,     1.46,2,     0.46,2,  12.5196
  74DI19980423,  A16N, 13482,  1,     20,     20,2,19980516,1130, 52.0400, -18.5017, 4476,     45.3,  11.8280,  35.5620,2,  35.5840,2,    261.2,2,    273.3,2,     3.45,2,     7.73,2,     0.42,2, -999.000,9, -999.000,9,   -999.0,9,-999.0000,  -999.00,9,     0.40,2,     0.18,2,  11.8221
  74DI19980423,  A16N, 13482,  1,     19,     19,2,19980516,1130, 52.0400, -18.5017, 4476,     84.9,  11.8390,  35.6070,2,  35.6060,2,    256.8,2,    255.3,2,     3.44,2,     8.56,2,     0.46,2, -999.000,9, -999.000,9,   -999.0,9,-999.0000,  -999.00,9,     0.03,2,     0.01,2,  11.8280
  74DI19980423,  A16N, 13482,  1,     18,     18,2,19980516,1130, 52.0400, -18.5017, 4476,    125.3,  11.6960,  35.5900,2,  35.5860,2,    254.7,2,    253.1,2,     3.55,2,     8.72,2,     0.48,2, -999.000,9, -999.000,9,   -999.0,9,-999.0000,  -999.00,9,     0.07,2,     0.04,2,  11.6799
  74DI19980423,  A16N, 13482,  1,     17,     17,2,19980516,1130, 52.0400, -18.5017, 4476,    165.2,  11.6110,  35.5820,2,  35.5790,2,    257.0,2,    253.1,2,     3.74,2,     9.26,2,     0.52,2, -999.000,9, -999.000,9,   -999.0,9,-999.0000,  -999.00,9,  -999.00,9,  -999.00,9,  11.5898
  74DI19980423,  A16N, 13482,  1,     16,     16,2,19980516,1130, 52.0400, -18.5017, 4476,    246.2,  11.3350,  35.5450,2,  35.5430,2,    253.1,2,    252.4,2,     3.96,2,     9.78,2,     0.55,2, -999.000,9, -999.000,9,   -999.0,9,-999.0000,  -999.00,9,  -999.00,9,  -999.00,9,  11.3038
  74DI19980423,  A16N, 13482,  1,     15,     15,2,19980516,1130, 52.0400, -18.5017, 4476,    326.7,  10.7960,  35.4680,2,  35.4680,2,    262.9,2,    242.5,2,     4.95,2,    11.59,2,     0.70,2, -999.000,9, -999.000,9,   -999.0,9,-999.0000,  -999.00,9,  -999.00,9,  -999.00,9,  10.7557
  74DI19980423,  A16N, 13482,  1,     14,     14,2,19980516,1130, 52.0400, -18.5017, 4476,    508.6,  10.0260,  35.3690,2,  35.3660,2,    219.6,2,    213.4,2,     7.34,2,    15.42,2,     0.92,2, -999.000,9, -999.000,9,   -999.0,9,-999.0000,  -999.00,9,  -999.00,9,  -999.00,9,   9.9657
  74DI19980423,  A16N, 13482,  1,     13,     13,2,19980516,1130, 52.0400, -18.5017, 4476,    761.2,   8.3910,  35.3020,2,  35.3010,2,    196.6,2,    196.3,2,    10.66,2,    18.46,2,     1.13,2, -999.000,9, -999.000,9,   -999.0,9,-999.0000,  -999.00,9,  -999.00,9,  -999.00,9,   8.3086
  74DI19980423,  A16N, 13482,  1,     12,     12,2,19980516,1130, 52.0400, -18.5017, 4476,    963.4,   7.1890,  35.2680,2,  35.2670,2,    206.6,2,    207.2,2,    11.60,2,    18.79,2,     1.16,2, -999.000,9, -999.000,9,   -999.0,9,-999.0000,  -999.00,9,  -999.00,9,  -999.00,9,   7.0921
  74DI19980423,  A16N, 13482,  1,     11,     11,2,19980516,1130, 52.0400, -18.5017, 4476,   1115.4,   6.0660,  35.1640,2,  35.1630,2,    222.1,2,    223.1,2,    11.98,2,    18.80,2,     1.16,2, -999.000,9, -999.000,9,   -999.0,9,-999.0000,  -999.00,9,  -999.00,9,  -999.00,9,   5.9621
  74DI19980423,  A16N, 13482,  1,     10,     10,2,19980516,1130, 52.0400, -18.5017, 4476,   1421.5,   4.2640,  34.9610,2,  34.9620,2,    255.5,2,    256.6,2,    11.79,2,    18.16,2,     1.13,2, -999.000,9, -999.000,9,   -999.0,9,-999.0000,  -999.00,9,  -999.00,9,  -999.00,9,   4.1481
  74DI19980423,  A16N, 13482,  1,      9,      9,2,19980516,1130, 52.0400, -18.5017, 4476,   1573.2,   3.8700,  34.9240,2,  34.9250,2,    265.7,2,    266.1,2,    11.75,2,    17.85,2,     1.12,2, -999.000,9, -999.000,9,   -999.0,9,-999.0000,  -999.00,9,  -999.00,9,  -999.00,9,   3.7447
  74DI19980423,  A16N, 13482,  1,      8,      8,2,19980516,1130, 52.0400, -18.5017, 4476,   1928.4,   3.4550,  34.9000,2,  34.9010,2,    273.5,2,    275.9,2,    12.26,2,    17.46,2,     1.09,2, -999.000,9, -999.000,9,   -999.0,9,-999.0000,  -999.00,9,  -999.00,9,  -999.00,9,   3.3025
  74DI19980423,  A16N, 13482,  1,      7,      7,2,19980516,1130, 52.0400, -18.5017, 4476,   2133.3,   3.3540,  34.9120,2,  34.9130,2,    275.2,2,    274.9,2,    13.58,2,    17.45,2,     1.10,2, -999.000,9, -999.000,9,   -999.0,9,-999.0000,  -999.00,9,  -999.00,9,  -999.00,9,   3.1836
  74DI19980423,  A16N, 13482,  1,      6,      6,2,19980516,1130, 52.0400, -18.5017, 4476,   2640.2,   3.0310,  34.9480,2,  34.9490,2,    259.2,2,    257.6,2,    24.59,2,    18.91,2,     1.21,2, -999.000,9, -999.000,9,   -999.0,9,-999.0000,  -999.00,9,  -999.00,9,  -999.00,9,   2.8165
  74DI19980423,  A16N, 13482,  1,      5,      5,2,19980516,1130, 52.0400, -18.5017, 4476,   3050.7,   2.7570,  34.9380,2,  34.9390,2,    248.5,2,    247.5,2,    34.55,2,    20.54,2,     1.35,2, -999.000,9, -999.000,9,   -999.0,9,-999.0000,  -999.00,9,  -999.00,9,  -999.00,9,   2.5062
  74DI19980423,  A16N, 13482,  1,      4,      4,2,19980516,1130, 52.0400, -18.5017, 4476,   3460.4,   2.5970,  34.9230,2,  34.9230,2,    242.6,2,    244.1,2,    40.65,2,    21.63,2,     1.42,2, -999.000,9, -999.000,9,   -999.0,9,-999.0000,  -999.00,9,  -999.00,9,  -999.00,9,   2.3064
  74DI19980423,  A16N, 13482,  1,      3,      3,2,19980516,1130, 52.0400, -18.5017, 4476,   3869.0,   2.5210,  34.9120,2,  34.9110,2,    240.7,2,    238.8,2,    44.05,2,    22.33,2,     1.45,2, -999.000,9, -999.000,9,   -999.0,9,-999.0000,  -999.00,9,  -999.00,9,  -999.00,9,   2.1870
  74DI19980423,  A16N, 13482,  1,      2,      2,2,19980516,1130, 52.0400, -18.5017, 4476,   4279.9,   2.5140,  34.9060,2,  34.9060,2,    240.1,2,    239.2,2,    45.69,2,    22.47,2,     1.45,2, -999.000,9, -999.000,9,   -999.0,9,-999.0000,  -999.00,9,  -999.00,9,  -999.00,9,   2.1326
  74DI19980423,  A16N, 13482,  1,      1,      1,2,19980516,1130, 52.0400, -18.5017, 4476,   4551.0,   2.5320,  34.9050,2,  34.9030,2,    235.9,2,    237.9,2,    45.81,2,    22.23,2,     1.35,2, -999.000,9, -999.000,9,   -999.0,9,-999.0000,  -999.00,9,  -999.00,9,  -999.00,9,   2.1174
  74DI19980423,  A16N, 13483,  1,     23,     23,2,19980516,1748, 52.0533, -17.7417, 4482,      2.6,  12.9440,  35.5800,2,  35.5800,2,    285.0,6,    292.2,2,     1.36,2,     3.65,2,     0.17,2, -999.000,9, -999.000,9,   -999.0,9,-999.0000,  -999.00,9,     1.95,2,     0.38,2,  12.9436
  74DI19980423,  A16N, 13483,  1,     22,     22,2,19980516,1748, 52.0533, -17.7417, 4482,     15.0,  12.4070,  35.5740,2,  35.5720,2,    287.3,2,    283.6,2,     1.90,2,     5.02,2,     0.25,2, -999.000,9, -999.000,9,   -999.0,9,-999.0000,  -999.00,9,     1.66,2,     0.40,2,  12.4050
  74DI19980423,  A16N, 13483,  1,     21,     21,2,19980516,1748, 52.0533, -17.7417, 4482,     24.3,  11.7000,  35.5550,2,  35.5550,2,    274.4,2,    269.2,2,     3.14,2,     7.53,2,     0.38,3, -999.000,9, -999.000,9,   -999.0,9,-999.0000,  -999.00,9,     0.44,2,     0.17,2,  11.6969
  74DI19980423,  A16N, 13483,  1,     20,     20,2,19980516,1748, 52.0533, -17.7417, 4482,     44.9,  11.5000,  35.5370,2,  35.5420,2,    261.5,2,    259.5,2,     3.52,2,     8.86,2,     0.30,3, -999.000,9, -999.000,9,   -999.0,9,-999.0000,  -999.00,9,     0.17,2,     0.14,2,  11.4943
  74DI19980423,  A16N, 13483,  1,     19,     19,2,19980516,1748, 52.0533, -17.7417, 4482,     85.1,  11.4220,  35.5360,2,  35.5360,2,    254.7,2,    256.0,2,     3.97,2,     9.40,2,     0.37,2, -999.000,9, -999.000,9,   -999.0,9,-999.0000,  -999.00,9,     0.05,2,     0.02,2,  11.4112
  74DI19980423,  A16N, 13483,  1,     18,     18,2,19980516,1748, 52.0533, -17.7417, 4482,    125.2,  11.2680,  35.5110,2,  35.5090,2,    250.3,2,    252.9,2,     4.04,2,    10.24,2,     0.46,2, -999.000,9, -999.000,9,   -999.0,9,-999.0000,  -999.00,9,  -999.00,9,  -999.00,9,  11.2523
  74DI19980423,  A16N, 13483,  1,     17,     17,2,19980516,1748, 52.0533, -17.7417, 4482,    165.1,  11.2830,  35.5220,2,  35.5210,2,    248.7,2,    250.8,2,     4.11,2,    10.38,2,     0.44,2, -999.000,9, -999.000,9,   -999.0,9,-999.0000,  -999.00,9,  -999.00,9,  -999.00,9,  11.2622
  74DI19980423,  A16N, 13483,  1,     16,     16,2,19980516,1748, 52.0533, -17.7417, 4482,    245.0,  11.1010,  35.5180,2,  35.5170,2,    243.9,2,    248.4,2,     4.33,2,    10.73,2,     0.44,2, -999.000,9, -999.000,9,   -999.0,9,-999.0000,  -999.00,9,  -999.00,9,  -999.00,9,  11.0704
  74DI19980423,  A16N, 13483,  1,     15,     15,2,19980516,1748, 52.0533, -17.7417, 4482,    326.9,  10.9500,  35.5110,2,  35.5090,2,    251.1,2,    255.8,2,     4.01,2,    10.27,2,     0.46,2, -999.000,9, -999.000,9,   -999.0,9,-999.0000,  -999.00,9,  -999.00,9,  -999.00,9,  10.9093
  74DI19980423,  A16N, 13483,  1,     14,     14,2,19980516,1748, 52.0533, -17.7417, 4482,    508.2,  10.7310,  35.4910,2,  35.4900,2,    253.3,2,    245.8,2,     4.56,2,    11.49,2,     0.55,2, -999.000,9, -999.000,9,   -999.0,9,-999.0000,  -999.00,9,  -999.00,9,  -999.00,9,  10.6681
  74DI19980423,  A16N, 13483,  1,     13,     13,2,19980516,1748, 52.0533, -17.7417, 4482,    760.2,   9.0790,  35.3260,2,  35.3250,2,    203.7,2,    199.5,2,     9.30,2,    17.68,2,     0.93,2, -999.000,9, -999.000,9,   -999.0,9,-999.0000,  -999.00,9,  -999.00,9,  -999.00,9,   8.9929
  74DI19980423,  A16N, 13483,  1,     12,     12,2,19980516,1748, 52.0533, -17.7417, 4482,    963.7,   8.0200,  35.3390,2,  35.3380,2,    203.7,2,    198.4,2,    10.84,2,    18.56,2,     1.02,2, -999.000,9, -999.000,9,   -999.0,9,-999.0000,  -999.00,9,  -999.00,9,  -999.00,9,   7.9171
  74DI19980423,  A16N, 13483,  1,     11,     11,2,19980516,1748, 52.0533, -17.7417, 4482,   1116.1,   6.8030,  35.2430,2,  35.2430,2,    215.9,2,    212.3,2,    11.57,2,    18.87,2,     1.06,2, -999.000,9, -999.000,9,   -999.0,9,-999.0000,  -999.00,9,  -999.00,9,  -999.00,9,   6.6928
  74DI19980423,  A16N, 13483,  1,     10,     10,2,19980516,1748, 52.0533, -17.7417, 4482,   1420.3,   4.4390,  34.9760,2,  34.9770,2,    250.6,2,    252.0,2,    11.61,2,    18.40,2,     1.02,2, -999.000,9, -999.000,9,   -999.0,9,-999.0000,  -999.00,9,  -999.00,9,  -999.00,9,   4.3213
  74DI19980423,  A16N, 13483,  1,      9,      9,2,19980516,1748, 52.0533, -17.7417, 4482,   1572.6,   3.9510,  34.9300,2,  34.9310,2,    262.3,2,    264.1,2,    11.43,2,    17.98,2,     1.03,2, -999.000,9, -999.000,9,   -999.0,9,-999.0000,  -999.00,9,  -999.00,9,  -999.00,9,   3.8248
  74DI19980423,  A16N, 13483,  1,      8,      8,2,19980516,1748, 52.0533, -17.7417, 4482,   1929.2,   3.4580,  34.8960,2,  34.8960,2,    275.8,2,    275.9,2,    11.59,2,    17.47,2,     1.01,2, -999.000,9, -999.000,9,   -999.0,9,-999.0000,  -999.00,9,  -999.00,9,  -999.00,9,   3.3054
  74DI19980423,  A16N, 13483,  1,      7,      7,2,19980516,1748, 52.0533, -17.7417, 4482,   2132.3,   3.3670,  34.9030,2,  34.9040,2,    277.2,2,    275.5,2,    12.58,2,    17.45,2,     0.99,2, -999.000,9, -999.000,9,   -999.0,9,-999.0000,  -999.00,9,  -999.00,9,  -999.00,9,   3.1965
  74DI19980423,  A16N, 13483,  1,      6,      6,2,19980516,1748, 52.0533, -17.7417, 4482,   2643.0,   3.0870,  34.9480,2,  34.9460,2,    261.9,2,    260.3,2,    21.64,2,    18.41,2,     1.08,2, -999.000,9, -999.000,9,   -999.0,9,-999.0000,  -999.00,9,  -999.00,9,  -999.00,9,   2.8711
  74DI19980423,  A16N, 13483,  1,      5,      5,2,19980516,1748, 52.0533, -17.7417, 4482,   3050.6,   2.8060,  34.9410,2,  34.9400,2,    249.1,2,    248.8,2,    32.77,2,    20.40,2,     1.25,2, -999.000,9, -999.000,9,   -999.0,9,-999.0000,  -999.00,9,  -999.00,9,  -999.00,9,   2.5541
  74DI19980423,  A16N, 13483,  1,      4,      4,2,19980516,1748, 52.0533, -17.7417, 4482,   3460.7,   2.6120,  34.9240,2,  34.9240,2,    243.0,2,    242.5,2,    39.58,2,    21.48,2,     1.31,2, -999.000,9, -999.000,9,   -999.0,9,-999.0000,  -999.00,9,  -999.00,9,  -999.00,9,   2.3210
  74DI19980423,  A16N, 13483,  1,      3,      3,2,19980516,1748, 52.0533, -17.7417, 4482,   3871.1,   2.5200,  34.9120,2,  34.9090,2,    238.9,2,    239.7,2,    43.68,2,    22.14,2,     1.38,2, -999.000,9, -999.000,9,   -999.0,9,-999.0000,  -999.00,9,  -999.00,9,  -999.00,9,   2.1858
  74DI19980423,  A16N, 13483,  1,      2,      2,2,19980516,1748, 52.0533, -17.7417, 4482,   4283.5,   2.5100,  34.9060,2,  34.9030,2,    238.7,2,    237.9,2,    45.20,2,    22.14,2,     1.37,2, -999.000,9, -999.000,9,   -999.0,9,-999.0000,  -999.00,9,  -999.00,9,  -999.00,9,   2.1283
  74DI19980423,  A16N, 13483,  1,      1,      1,2,19980516,1748, 52.0533, -17.7417, 4482,   4557.7,   2.5260,  34.9040,2,  34.9020,2,    235.6,2,    236.7,2,    45.12,2,    22.25,2,     1.26,2, -999.000,9, -999.000,9,   -999.0,9,-999.0000,  -999.00,9,  -999.00,9,  -999.00,9,   2.1108