BOTTLE,20221006CCHSIOCBG
EXPOCODE,SECT_ID,STNNBR,CASTNO,SAMPNO,BTLNBR,BTLNBR_FLAG_W,DATE,TIME,LATITUDE,LONGITUDE,DEPTH,CTDPRS,CTDTMP,CTDSAL,CTDSAL_FLAG_W,SALNTY,SALNTY_FLAG_W,CTDOXY,CTDOXY_FLAG_W,OXYGEN,OXYGEN_FLAG_W,SILCAT,SILCAT_FLAG_W,NITRAT,NITRAT_FLAG_W,PHSPHT,PHSPHT_FLAG_W,CFC-11,CFC-11_FLAG_W,CFC-12,CFC-12_FLAG_W,ALKALI,ALKALI_FLAG_W,PH_SWS,PH_TEMP,PH_SWS_FLAG_W,CHLORA,CHLORA_FLAG_W,PPHYTN,PPHYTN_FLAG_W,THETA
,,,,,,,,,,,METERS,DBAR,ITS-90,PSS-78,,PSS-78,,UMOL/KG,,UMOL/KG,,UMOL/KG,,UMOL/KG,,UMOL/KG,,PMOL/KG,,PMOL/KG,,UMOL/KG,,,DEGC,,UG/L,,UG/L,,DEGC
  74DI19980423,  A16N, 13517,  1,     12,     12,2,19980524,2124, 58.7067, -16.6367, 1170,      4.5,  10.4970,  35.3340,2,  35.3340,2,    289.4,2,    292.5,2,     0.14,2,     5.05,2,     0.23,2, -999.000,9, -999.000,9,   -999.0,9,-999.0000,  -999.00,9,     1.02,2,     0.34,2,  10.4965
  74DI19980423,  A16N, 13517,  1,     11,     11,2,19980524,2124, 58.7067, -16.6367, 1170,     16.8,  10.4980,  35.3330,2,  35.3340,2,    290.7,2,    292.5,2,     0.17,2,     5.17,2,     0.25,2, -999.000,9, -999.000,9,   -999.0,9,-999.0000,  -999.00,9,     0.98,2,     0.29,2,  10.4960
  74DI19980423,  A16N, 13517,  1,     10,     10,2,19980524,2124, 58.7067, -16.6367, 1170,     29.3,  10.1030,  35.3430,2,  35.3340,2,    292.5,2,    290.2,2,     0.50,2,     6.42,2,     0.41,2, -999.000,9, -999.000,9,   -999.0,9,-999.0000,  -999.00,9,     0.87,2,     0.32,2,  10.0996
  74DI19980423,  A16N, 13517,  1,      9,      9,2,19980524,2124, 58.7067, -16.6367, 1170,     55.4,   9.8700,  35.3320,2,  35.3320,2,    282.8,2,    278.8,2,     1.18,2,     7.70,2,     0.49,2, -999.000,9, -999.000,9,   -999.0,9,-999.0000,  -999.00,9,     0.28,2,     0.19,2,   9.8636
  74DI19980423,  A16N, 13517,  1,      8,      8,2,19980524,2124, 58.7067, -16.6367, 1170,     80.1,   9.5000,  35.3510,2,  35.3480,2,    267.1,2,    263.1,2,     3.30,2,    11.48,2,     0.68,2, -999.000,9, -999.000,9,   -999.0,9,-999.0000,  -999.00,9,     0.55,2,     0.14,2,   9.4910
  74DI19980423,  A16N, 13517,  1,      7,      7,2,19980524,2124, 58.7067, -16.6367, 1170,    106.2,   9.3400,  35.3420,2,  35.3400,2,    262.6,2,    263.1,2,     4.22,2,    12.18,2,     0.69,2, -999.000,9, -999.000,9,   -999.0,9,-999.0000,  -999.00,9,     0.25,2,     0.10,2,   9.3282
  74DI19980423,  A16N, 13517,  1,      6,      6,2,19980524,2124, 58.7067, -16.6367, 1170,    206.1,   9.1420,  35.3290,2,  35.3300,2,    266.1,2,    269.1,2,     5.28,2,    12.19,2,     0.69,2, -999.000,9, -999.000,9,   -999.0,9,-999.0000,  -999.00,9,  -999.00,9,  -999.00,9,   9.1193
  74DI19980423,  A16N, 13517,  1,      5,      5,2,19980524,2124, 58.7067, -16.6367, 1170,    409.0,   9.0600,  35.3230,2,  35.3240,2,    266.5,2,    269.5,2,     5.30,2,    12.24,2,     0.69,2, -999.000,9, -999.000,9,   -999.0,9,-999.0000,  -999.00,9,  -999.00,9,  -999.00,9,   9.0146
  74DI19980423,  A16N, 13517,  1,      4,      4,2,19980524,2124, 58.7067, -16.6367, 1170,    611.3,   9.0140,  35.3160,2,  35.3170,2,    268.4,2,    268.2,2,     5.48,2,    12.63,2,     0.72,2, -999.000,9, -999.000,9,   -999.0,9,-999.0000,  -999.00,9,  -999.00,9,  -999.00,9,   8.9456
  74DI19980423,  A16N, 13517,  1,      3,      3,2,19980524,2124, 58.7067, -16.6367, 1170,    813.3,   8.1130,  35.2130,2,  35.2130,2,    239.7,2,    235.1,2,     8.52,2,    15.95,2,     0.93,2, -999.000,9, -999.000,9,   -999.0,9,-999.0000,  -999.00,9,  -999.00,9,  -999.00,9,   8.0265
  74DI19980423,  A16N, 13517,  1,      2,      2,2,19980524,2124, 58.7067, -16.6367, 1170,   1016.0,   6.9860,  35.1580,2,  35.1550,2,    226.6,2,    230.6,2,    11.08,2,    17.28,2,     1.03,2, -999.000,9, -999.000,9,   -999.0,9,-999.0000,  -999.00,9,  -999.00,9,  -999.00,9,   6.8851
  74DI19980423,  A16N, 13517,  1,      1,      1,2,19980524,2124, 58.7067, -16.6367, 1170,   1173.3,   5.6770,  35.0780,2,  35.0790,2,    231.4,2,    231.2,2,    14.59,2,    18.31,2,     1.08,2, -999.000,9, -999.000,9,   -999.0,9,-999.0000,  -999.00,9,  -999.00,9,  -999.00,9,   5.5707
  74DI19980423,  A16N, 13518,  1,     12,     12,2,19980525,  40, 58.5017, -16.0850, 1214,      2.5,  10.4040,  35.3370,2,  35.3370,2,   -999.0,9,    293.0,2,     0.09,2,     5.72,3,     0.28,3, -999.000,9, -999.000,9,   -999.0,9,-999.0000,  -999.00,9,     1.42,2,     0.28,2,  10.4037
  74DI19980423,  A16N, 13518,  1,     11,     11,2,19980525,  40, 58.5017, -16.0850, 1214,     17.3,  10.4050,  35.3360,2,  35.3360,2,    294.0,2,    292.9,2,     0.14,2,     5.41,2,     0.16,3, -999.000,9, -999.000,9,   -999.0,9,-999.0000,  -999.00,9,     1.33,2,     0.36,2,  10.4030
  74DI19980423,  A16N, 13518,  1,     10,     10,2,19980525,  40, 58.5017, -16.0850, 1214,     29.8,  10.3920,  35.3380,2,  35.3350,2,    289.1,2,    291.2,2,     0.92,3,     5.64,2,     0.18,3, -999.000,9, -999.000,9,   -999.0,9,-999.0000,  -999.00,9,     1.33,2,     0.25,2,  10.3885
  74DI19980423,  A16N, 13518,  1,      9,      9,2,19980525,  40, 58.5017, -16.0850, 1214,     55.7,   9.6910,  35.3360,2,  35.3330,2,    279.4,2,    270.1,2,     2.60,2,     9.47,2,     0.53,2, -999.000,9, -999.000,9,   -999.0,9,-999.0000,  -999.00,9,     0.42,2,     0.20,2,   9.6847
  74DI19980423,  A16N, 13518,  1,      8,      8,2,19980525,  40, 58.5017, -16.0850, 1214,     80.6,   9.3660,  35.3300,2,  35.3280,2,    263.1,2,    262.4,2,     5.02,2,    12.65,2,     0.68,2, -999.000,9, -999.000,9,   -999.0,9,-999.0000,  -999.00,9,     0.16,2,     0.13,2,   9.3570
  74DI19980423,  A16N, 13518,  1,      7,      7,2,19980525,  40, 58.5017, -16.0850, 1214,    105.8,   9.2210,  35.3210,2,  35.3200,2,    260.2,2,    262.8,2,     5.18,2,    12.58,2,     0.73,2, -999.000,9, -999.000,9,   -999.0,9,-999.0000,  -999.00,9,     0.04,2,     0.02,2,   9.2093
  74DI19980423,  A16N, 13518,  1,      6,      6,2,19980525,  40, 58.5017, -16.0850, 1214,    206.6,   9.1560,  35.3320,2,  35.3310,2,    265.3,2,    266.9,2,     5.60,2,    12.44,2,     0.60,2, -999.000,9, -999.000,9,   -999.0,9,-999.0000,  -999.00,9,  -999.00,9,  -999.00,9,   9.1332
  74DI19980423,  A16N, 13518,  1,      5,      5,2,19980525,  40, 58.5017, -16.0850, 1214,    400.2,   9.0580,  35.3250,2,  35.3250,2,    266.0,2,    267.8,2,     5.33,2,    12.82,2,     0.65,2, -999.000,9, -999.000,9,   -999.0,9,-999.0000,  -999.00,9,  -999.00,9,  -999.00,9,   9.0136
  74DI19980423,  A16N, 13518,  1,      4,      4,2,19980525,  40, 58.5017, -16.0850, 1214,    610.9,   9.0200,  35.3200,2,  35.3190,2,    264.9,2,    266.7,2,     5.50,2,    13.01,2,     0.59,2, -999.000,9, -999.000,9,   -999.0,9,-999.0000,  -999.00,9,  -999.00,9,  -999.00,9,   8.9517
  74DI19980423,  A16N, 13518,  1,      3,      3,2,19980525,  40, 58.5017, -16.0850, 1214,    811.9,   8.3120,  35.2300,2,  35.2300,2,    245.4,2,    241.6,2,     8.11,2,    15.68,2,     0.78,2, -999.000,9, -999.000,9,   -999.0,9,-999.0000,  -999.00,9,  -999.00,9,  -999.00,9,   8.2245
  74DI19980423,  A16N, 13518,  1,      2,      2,2,19980525,  40, 58.5017, -16.0850, 1214,   1015.9,   7.1590,  35.1680,2,  35.1690,2,    225.4,2,    223.8,2,    10.82,2,    18.00,2,     0.91,2, -999.000,9, -999.000,9,   -999.0,9,-999.0000,  -999.00,9,  -999.00,9,  -999.00,9,   7.0568
  74DI19980423,  A16N, 13518,  1,      1,      1,2,19980525,  40, 58.5017, -16.0850, 1214,   1220.0,   5.3850,  35.0530,2,  35.0550,2,    229.7,2,    231.1,2,    14.74,2,    18.46,2,     0.93,2, -999.000,9, -999.000,9,   -999.0,9,-999.0000,  -999.00,9,  -999.00,9,  -999.00,9,   5.2768
  74DI19980423,  A16N, 13519,  1,     12,     12,2,19980525, 351, 58.3017, -15.4950,  973,      4.9,  10.8820,  35.3900,2,  35.3880,2,    292.3,6,    290.6,2,     0.24,2,     3.71,2,     0.16,2, -999.000,9, -999.000,9,   -999.0,9,-999.0000,  -999.00,9,     1.35,2,     0.36,2,  10.8814
  74DI19980423,  A16N, 13519,  1,     11,     11,2,19980525, 351, 58.3017, -15.4950,  973,     12.1,  10.8840,  35.3900,2,  35.3880,2,    290.1,2,    290.3,2,     0.21,2,     3.77,2,     0.18,2, -999.000,9, -999.000,9,   -999.0,9,-999.0000,  -999.00,9,     1.40,2,     0.31,2,  10.8825
  74DI19980423,  A16N, 13519,  1,     10,     10,2,19980525, 351, 58.3017, -15.4950,  973,     20.2,  10.8010,  35.3900,2,  35.3870,2,    288.8,2,    290.2,2,     0.16,2,     3.99,2,     0.21,2, -999.000,9, -999.000,9,   -999.0,9,-999.0000,  -999.00,9,     1.29,2,     0.33,2,  10.7985
  74DI19980423,  A16N, 13519,  1,      9,      9,2,19980525, 351, 58.3017, -15.4950,  973,     35.1,  10.3280,  35.3910,2,  35.3870,2,    286.9,2,    280.6,2,     0.38,2,     5.96,2,     0.39,2, -999.000,9, -999.000,9,   -999.0,9,-999.0000,  -999.00,9,     0.57,2,     0.21,2,  10.3239
  74DI19980423,  A16N, 13519,  1,      8,      8,2,19980525, 351, 58.3017, -15.4950,  973,     66.1,   9.8910,  35.3940,2,  35.3890,2,    266.4,2,    263.6,2,     2.04,2,     9.38,2,     0.62,2, -999.000,9, -999.000,9,   -999.0,9,-999.0000,  -999.00,9,     0.66,2,     0.42,2,   9.8834
  74DI19980423,  A16N, 13519,  1,      7,      7,2,19980525, 351, 58.3017, -15.4950,  973,     95.8,   9.7250,  35.3910,2,  35.3880,2,    258.6,2,    259.2,2,     4.45,2,    11.55,2,     0.70,2, -999.000,9, -999.000,9,   -999.0,9,-999.0000,  -999.00,9,     0.18,2,     0.10,2,   9.7141
  74DI19980423,  A16N, 13519,  1,      6,      6,2,19980525, 351, 58.3017, -15.4950,  973,    227.4,   9.5310,  35.3740,2,  35.3720,2,    261.6,2,    262.8,2,     5.05,2,    11.68,2,     0.71,2, -999.000,9, -999.000,9,   -999.0,9,-999.0000,  -999.00,9,  -999.00,9,  -999.00,9,   9.5052
  74DI19980423,  A16N, 13519,  1,      5,      5,2,19980525, 351, 58.3017, -15.4950,  973,    359.1,   9.3870,  35.3580,2,  35.3560,2,    262.8,2,    263.1,2,     5.19,2,    11.89,2,     0.73,2, -999.000,9, -999.000,9,   -999.0,9,-999.0000,  -999.00,9,  -999.00,9,  -999.00,9,   9.3464
  74DI19980423,  A16N, 13519,  1,      4,      4,2,19980525, 351, 58.3017, -15.4950,  973,    511.0,   9.1950,  35.3390,2,  35.3370,2,    262.5,2,    263.1,2,     5.37,2,    12.24,2,     0.76,2, -999.000,9, -999.000,9,   -999.0,9,-999.0000,  -999.00,9,  -999.00,9,  -999.00,9,   9.1375
  74DI19980423,  A16N, 13519,  1,      3,      3,2,19980525, 351, 58.3017, -15.4950,  973,    711.8,   8.4670,  35.2480,2,  35.2460,2,    240.1,2,    239.5,2,     7.65,2,    14.86,2,     0.93,2, -999.000,9, -999.000,9,   -999.0,9,-999.0000,  -999.00,9,  -999.00,9,  -999.00,9,   8.3899
  74DI19980423,  A16N, 13519,  1,      2,      2,2,19980525, 351, 58.3017, -15.4950,  973,    915.9,   7.3990,  35.1880,2,  35.1880,2,    215.0,2,    214.0,2,    10.68,2,    17.83,2,     1.10,2, -999.000,9, -999.000,9,   -999.0,9,-999.0000,  -999.00,9,  -999.00,9,  -999.00,9,   7.3058
  74DI19980423,  A16N, 13519,  1,      1,      1,2,19980525, 351, 58.3017, -15.4950,  973,    974.0,   7.1140,  35.1730,2,  35.1720,2,    212.9,2,    215.9,2,    10.92,2,    17.83,2,     1.04,2, -999.000,9, -999.000,9,   -999.0,9,-999.0000,  -999.00,9,  -999.00,9,  -999.00,9,   7.0166
  74DI19980423,  A16N, 13520,  1,     10,     10,2,19980525, 718, 58.0333, -14.7517,  565,      3.4,  10.8140,  35.3860,2,  35.3840,2,    293.3,6,    293.2,2,     0.25,2,     3.88,2,     0.19,2, -999.000,9, -999.000,9,   -999.0,9,-999.0000,  -999.00,9,     1.21,2,     0.25,2,  10.8136
  74DI19980423,  A16N, 13520,  1,      9,      9,2,19980525, 718, 58.0333, -14.7517,  565,     11.5,  10.8130,  35.3860,2,  35.3840,2,    291.3,2,    292.2,2,     0.25,2,     3.91,2,     0.19,2, -999.000,9, -999.000,9,   -999.0,9,-999.0000,  -999.00,9,     1.14,2,     0.28,2,  10.8116
  74DI19980423,  A16N, 13520,  1,      8,      8,2,19980525, 718, 58.0333, -14.7517,  565,     19.9,  10.8020,  35.3870,2,  35.3860,2,    288.9,2,    292.6,2,     0.27,2,     3.95,2,     0.19,2, -999.000,9, -999.000,9,   -999.0,9,-999.0000,  -999.00,9,     1.20,2,     0.22,2,  10.7996
  74DI19980423,  A16N, 13520,  1,      7,      7,2,19980525, 718, 58.0333, -14.7517,  565,     35.0,  10.6500,  35.3960,2,  35.3950,2,    290.0,2,    289.5,2,     0.23,2,     4.60,2,     0.28,2, -999.000,9, -999.000,9,   -999.0,9,-999.0000,  -999.00,9,     0.52,2,     0.17,2,  10.6458
  74DI19980423,  A16N, 13520,  1,      6,      6,2,19980525, 718, 58.0333, -14.7517,  565,     64.8,  10.2500,  35.3870,2,  35.3840,2,    285.1,2,    285.4,2,     0.33,2,     6.01,2,     0.40,2, -999.000,9, -999.000,9,   -999.0,9,-999.0000,  -999.00,9,     0.46,2,     0.25,2,  10.2424
  74DI19980423,  A16N, 13520,  1,      5,      5,2,19980525, 718, 58.0333, -14.7517,  565,     95.5,   9.8330,  35.3730,2,  35.3740,2,    280.8,2,    275.1,2,     1.20,2,     8.65,2,     0.58,2, -999.000,9, -999.000,9,   -999.0,9,-999.0000,  -999.00,9,     1.26,2,     0.69,2,   9.8220
  74DI19980423,  A16N, 13520,  1,      4,      4,2,19980525, 718, 58.0333, -14.7517,  565,    226.4,   9.4190,  35.3640,2,  35.3610,2,    264.7,2,    265.8,2,     4.36,2,    12.02,2,     0.72,2, -999.000,9, -999.000,9,   -999.0,9,-999.0000,  -999.00,9,  -999.00,9,  -999.00,9,   9.3935
  74DI19980423,  A16N, 13520,  1,      3,      3,2,19980525, 718, 58.0333, -14.7517,  565,    358.0,   9.2170,  35.3430,2,  35.3410,2,    265.7,2,    264.1,2,     5.48,2,    12.35,2,     0.73,2, -999.000,9, -999.000,9,   -999.0,9,-999.0000,  -999.00,9,  -999.00,9,  -999.00,9,   9.1770
  74DI19980423,  A16N, 13520,  1,      2,      2,2,19980525, 718, 58.0333, -14.7517,  565,    509.4,   9.0420,  35.3360,2,  35.3340,2,    261.5,2,    262.7,2,     5.97,2,    12.53,2,     0.74,2, -999.000,9, -999.000,9,   -999.0,9,-999.0000,  -999.00,9,  -999.00,9,  -999.00,9,   8.9852
  74DI19980423,  A16N, 13520,  1,      1,      1,2,19980525, 718, 58.0333, -14.7517,  565,    560.5,   8.8520,  35.3230,2,  35.3220,2,    257.0,2,    258.1,2,     8.23,2,    12.73,2,     0.71,2, -999.000,9, -999.000,9,   -999.0,9,-999.0000,  -999.00,9,  -999.00,9,  -999.00,9,   8.7902
  74DI19980423,  A16N, 13521,  1,      6,      6,2,19980525,1150, 57.5800, -13.6333,  116,      4.1,  10.8310,  35.3590,2,  35.3570,2,    295.0,2,    293.5,2,     0.19,2,     3.44,2,     0.16,2, -999.000,9, -999.000,9,   -999.0,9,-999.0000,  -999.00,9,  -999.00,9,  -999.00,9,  10.8305
  74DI19980423,  A16N, 13521,  1,      5,      5,2,19980525,1150, 57.5800, -13.6333,  116,     14.4,  10.6810,  35.3580,2,  35.3550,2,    289.4,2,    291.5,2,     0.36,2,     4.11,2,     0.21,2, -999.000,9, -999.000,9,   -999.0,9,-999.0000,  -999.00,9,  -999.00,9,  -999.00,9,  10.6793
  74DI19980423,  A16N, 13521,  1,      4,      4,2,19980525,1150, 57.5800, -13.6333,  116,     24.7,  10.5170,  35.3560,2,  35.3530,2,    291.6,2,    289.9,2,     0.51,2,     4.85,2,     0.27,2, -999.000,9, -999.000,9,   -999.0,9,-999.0000,  -999.00,9,  -999.00,9,  -999.00,9,  10.5141
  74DI19980423,  A16N, 13521,  1,      3,      3,2,19980525,1150, 57.5800, -13.6333,  116,     44.3,   9.9000,  35.3490,2,  35.3460,2,    284.6,2,    285.6,2,     0.93,2,     7.06,2,     0.43,2, -999.000,9, -999.000,9,   -999.0,9,-999.0000,  -999.00,9,  -999.00,9,  -999.00,9,   9.8949
  74DI19980423,  A16N, 13521,  1,      2,      2,2,19980525,1150, 57.5800, -13.6333,  116,     84.7,   9.0560,  35.3460,2,  35.3250,2,    271.0,2,    269.6,2,     2.41,2,    11.17,2,     0.69,2, -999.000,9, -999.000,9,   -999.0,9,-999.0000,  -999.00,9,  -999.00,9,  -999.00,9,   9.0468
  74DI19980423,  A16N, 13521,  1,      1,      1,2,19980525,1150, 57.5800, -13.6333,  116,    107.0,   8.9810,  35.3470,2,  35.3450,2,    268.3,2,    268.3,2,     2.62,2,    11.48,2,     0.66,2, -999.000,9, -999.000,9,   -999.0,9,-999.0000,  -999.00,9,  -999.00,9,  -999.00,9,   8.9694
  74DI19980423,  A16N, 13522,  1,     12,     12,2,19980525,1456, 57.5383, -12.8650, 1092,      2.6,  10.5180,  35.3840,2,  35.3820,2,    291.6,2,    288.6,2,     0.67,2,     4.63,2,     0.28,2, -999.000,9, -999.000,9,   -999.0,9,-999.0000,  -999.00,9,     1.16,2,     0.26,2,  10.5177
  74DI19980423,  A16N, 13522,  1,     11,     11,2,19980525,1456, 57.5383, -12.8650, 1092,     13.3,  10.5170,  35.3820,2,  35.3790,2,    282.4,2,    272.7,2,     3.09,2,     9.28,2,     0.54,2, -999.000,9, -999.000,9,   -999.0,9,-999.0000,  -999.00,9,     0.71,2,     0.16,2,  10.5154
  74DI19980423,  A16N, 13522,  1,     10,     10,2,19980525,1456, 57.5383, -12.8650, 1092,     23.7,  10.5090,  35.3840,2,  35.3820,2,    285.9,2,    288.1,2,     0.73,2,     4.75,2,     0.29,2, -999.000,9, -999.000,9,   -999.0,9,-999.0000,  -999.00,9,     1.20,2,     0.27,2,  10.5062
  74DI19980423,  A16N, 13522,  1,      9,      9,2,19980525,1456, 57.5383, -12.8650, 1092,     44.0,   9.9220,  35.4000,2,  35.3980,2,    270.9,2,    268.6,2,     2.75,2,     9.82,2,     0.60,2, -999.000,9, -999.000,9,   -999.0,9,-999.0000,  -999.00,9,     0.24,2,     0.20,2,   9.9169
  74DI19980423,  A16N, 13522,  1,      8,      8,2,19980525,1456, 57.5383, -12.8650, 1092,     84.3,   9.5920,  35.3920,2,  35.3880,2,    263.2,2,    264.6,2,     4.18,2,    11.66,2,     0.69,2, -999.000,9, -999.000,9,   -999.0,9,-999.0000,  -999.00,9,     0.09,2,     0.05,2,   9.5825
  74DI19980423,  A16N, 13522,  1,      7,      7,2,19980525,1456, 57.5383, -12.8650, 1092,    124.3,   9.5420,  35.3920,2,  35.3900,2,    265.7,2,    264.3,2,     4.60,2,    11.68,2,     0.69,2, -999.000,9, -999.000,9,   -999.0,9,-999.0000,  -999.00,9,     0.03,2,     0.02,2,   9.5280
  74DI19980423,  A16N, 13522,  1,      6,      6,2,19980525,1456, 57.5383, -12.8650, 1092,    245.9,   9.1210,  35.3420,2,  35.3400,2,    266.1,2,    267.4,2,     5.31,2,    12.22,2,     0.74,2, -999.000,9, -999.000,9,   -999.0,9,-999.0000,  -999.00,9,  -999.00,9,  -999.00,9,   9.0938
  74DI19980423,  A16N, 13522,  1,      5,      5,2,19980525,1456, 57.5383, -12.8650, 1092,    326.1,   9.0950,  35.3340,2,  35.3350,2,    265.2,2,    267.6,2,     5.38,2,    12.26,2,     0.74,2, -999.000,9, -999.000,9,   -999.0,9,-999.0000,  -999.00,9,  -999.00,9,  -999.00,9,   9.0589
  74DI19980423,  A16N, 13522,  1,      4,      4,2,19980525,1456, 57.5383, -12.8650, 1092,    508.5,   9.0220,  35.3310,2,  35.3290,2,    266.9,2,    267.4,2,     5.49,2,    12.37,2,     0.74,2, -999.000,9, -999.000,9,   -999.0,9,-999.0000,  -999.00,9,  -999.00,9,  -999.00,9,   8.9654
  74DI19980423,  A16N, 13522,  1,      3,      3,2,19980525,1456, 57.5383, -12.8650, 1092,    762.4,   8.5970,  35.2720,2,  35.2700,2,    257.6,2,    257.5,2,     6.67,2,    13.78,2,     0.85,2, -999.000,9, -999.000,9,   -999.0,9,-999.0000,  -999.00,9,  -999.00,9,  -999.00,9,   8.5134
  74DI19980423,  A16N, 13522,  1,      2,      2,2,19980525,1456, 57.5383, -12.8650, 1092,    964.7,   7.1390,  35.1670,2,  35.1670,2,    234.9,2,    230.5,2,    10.32,2,    17.01,2,     1.05,2, -999.000,9, -999.000,9,   -999.0,9,-999.0000,  -999.00,9,  -999.00,9,  -999.00,9,   7.0424
  74DI19980423,  A16N, 13522,  1,      1,      1,2,19980525,1456, 57.5383, -12.8650, 1092,   1095.4,   6.9900,  35.1560,2,  35.1560,2,    231.2,2,    229.8,2,    10.41,2,    17.00,2,     0.98,2, -999.000,9, -999.000,9,   -999.0,9,-999.0000,  -999.00,9,  -999.00,9,  -999.00,9,   6.8806