BOTTLE,20221006CCHSIOCBG
EXPOCODE,SECT_ID,STNNBR,CASTNO,SAMPNO,BTLNBR,BTLNBR_FLAG_W,DATE,TIME,LATITUDE,LONGITUDE,DEPTH,CTDPRS,CTDTMP,CTDSAL,CTDSAL_FLAG_W,SALNTY,SALNTY_FLAG_W,CTDOXY,CTDOXY_FLAG_W,OXYGEN,OXYGEN_FLAG_W,SILCAT,SILCAT_FLAG_W,NITRAT,NITRAT_FLAG_W,PHSPHT,PHSPHT_FLAG_W,CFC-11,CFC-11_FLAG_W,CFC-12,CFC-12_FLAG_W,ALKALI,ALKALI_FLAG_W,PH_SWS,PH_TEMP,PH_SWS_FLAG_W,CHLORA,CHLORA_FLAG_W,PPHYTN,PPHYTN_FLAG_W,THETA
,,,,,,,,,,,METERS,DBAR,ITS-90,PSS-78,,PSS-78,,UMOL/KG,,UMOL/KG,,UMOL/KG,,UMOL/KG,,UMOL/KG,,PMOL/KG,,PMOL/KG,,UMOL/KG,,,DEGC,,UG/L,,UG/L,,DEGC
  74DI19980423,  A16N, 13527,  1,     18,     18,2,19980526, 745, 57.3000, -10.3850, 2211,      4.8,  11.0350,  35.4390,2,  35.4360,2,    283.0,6,    286.7,2,     0.45,2,     1.79,2,     0.14,2, -999.000,9, -999.000,9,   -999.0,9,-999.0000,  -999.00,9,     0.68,2,     0.17,2,  11.0344
  74DI19980423,  A16N, 13527,  1,     17,     17,2,19980526, 745, 57.3000, -10.3850, 2211,     11.6,  11.0350,  35.4390,2,  35.4360,2,    284.0,2,    287.2,2,     0.45,2,     1.86,2,     0.14,2, -999.000,9, -999.000,9,   -999.0,9,-999.0000,  -999.00,9,     0.67,2,     0.20,2,  11.0336
  74DI19980423,  A16N, 13527,  1,     16,     16,2,19980526, 745, 57.3000, -10.3850, 2211,     20.8,  10.9930,  35.4420,2,  35.4350,2,    288.6,2,    286.3,2,     0.53,2,     2.01,2,     0.18,2, -999.000,9, -999.000,9,   -999.0,9,-999.0000,  -999.00,9,     0.67,2,     0.16,2,  10.9904
  74DI19980423,  A16N, 13527,  1,     15,     15,2,19980526, 745, 57.3000, -10.3850, 2211,     36.1,  10.1710,  35.4410,2,  35.4380,2,    270.0,2,    265.7,2,     2.57,2,     8.96,2,     0.56,2, -999.000,9, -999.000,9,   -999.0,9,-999.0000,  -999.00,9,     0.23,2,     0.11,2,  10.1668
  74DI19980423,  A16N, 13527,  1,     14,     14,2,19980526, 745, 57.3000, -10.3850, 2211,     65.9,  10.0420,  35.4420,2,  35.4380,2,    261.7,2,    261.1,2,     3.85,2,    10.85,2,     0.61,2, -999.000,9, -999.000,9,   -999.0,9,-999.0000,  -999.00,9,     0.14,2,     0.04,2,  10.0343
  74DI19980423,  A16N, 13527,  1,     13,     13,2,19980526, 745, 57.3000, -10.3850, 2211,     96.3,   9.9820,  35.4370,2,  35.4340,2,    262.1,2,    263.1,2,     4.05,2,    10.96,2,     0.61,2, -999.000,9, -999.000,9,   -999.0,9,-999.0000,  -999.00,9,     0.05,2,     0.04,2,   9.9708
  74DI19980423,  A16N, 13527,  1,     12,     12,2,19980526, 745, 57.3000, -10.3850, 2211,    227.4,   9.8880,  35.4310,2,  35.4280,2,    262.5,2,    264.0,2,     4.25,2,    10.93,2,     0.60,2, -999.000,9, -999.000,9,   -999.0,9,-999.0000,  -999.00,9,  -999.00,9,  -999.00,9,   9.8616
  74DI19980423,  A16N, 13527,  1,     11,     11,2,19980526, 745, 57.3000, -10.3850, 2211,    359.5,   9.7800,  35.4210,2,  35.3860,2,    263.3,2,    261.3,2,     4.94,2,    11.77,2,     0.65,2, -999.000,9, -999.000,9,   -999.0,9,-999.0000,  -999.00,9,  -999.00,9,  -999.00,9,   9.7383
  74DI19980423,  A16N, 13527,  1,     10,     10,2,19980526, 745, 57.3000, -10.3850, 2211,    509.7,   9.5180,  35.3870,2,  35.3820,2,    261.4,2,    261.5,2,     4.99,2,    11.85,2,     0.66,2, -999.000,9, -999.000,9,   -999.0,9,-999.0000,  -999.00,9,  -999.00,9,  -999.00,9,   9.4594
  74DI19980423,  A16N, 13527,  1,      9,      9,2,19980526, 745, 57.3000, -10.3850, 2211,    760.4,   8.9780,  35.3170,2,  35.3120,2,    252.2,2,    254.8,2,     6.02,2,    13.20,2,     0.77,2, -999.000,9, -999.000,9,   -999.0,9,-999.0000,  -999.00,9,  -999.00,9,  -999.00,9,   8.8925
  74DI19980423,  A16N, 13527,  1,      8,      8,2,19980526, 745, 57.3000, -10.3850, 2211,    914.5,   8.2940,  35.2580,2,  35.2540,2,    241.1,2,    237.2,2,     7.98,2,    15.31,2,     0.91,2, -999.000,9, -999.000,9,   -999.0,9,-999.0000,  -999.00,9,  -999.00,9,  -999.00,9,   8.1949
  74DI19980423,  A16N, 13527,  1,      7,      7,2,19980526, 745, 57.3000, -10.3850, 2211,   1116.9,   6.8870,  35.1780,2,  35.1770,2,    227.5,2,    228.3,2,    10.17,2,    17.27,2,     1.02,2, -999.000,9, -999.000,9,   -999.0,9,-999.0000,  -999.00,9,  -999.00,9,  -999.00,9,   6.7761
  74DI19980423,  A16N, 13527,  1,      6,      6,2,19980526, 745, 57.3000, -10.3850, 2211,   1315.6,   5.3990,  35.0700,2,  35.0690,2,    245.3,2,    244.3,2,    10.85,2,    17.41,2,     1.03,2, -999.000,9, -999.000,9,   -999.0,9,-999.0000,  -999.00,9,  -999.00,9,  -999.00,9,   5.2813
  74DI19980423,  A16N, 13527,  1,      5,      5,2,19980526, 745, 57.3000, -10.3850, 2211,   1522.4,   4.5680,  35.0030,2,  35.0020,2,    256.8,2,    258.6,2,    11.31,2,    17.03,2,     1.02,2, -999.000,9, -999.000,9,   -999.0,9,-999.0000,  -999.00,9,  -999.00,9,  -999.00,9,   4.4392
  74DI19980423,  A16N, 13527,  1,      4,      4,2,19980526, 745, 57.3000, -10.3850, 2211,   1726.4,   3.8440,  34.9410,2,  34.9400,2,    265.6,2,    266.8,2,    12.63,2,    17.26,2,     1.04,2, -999.000,9, -999.000,9,   -999.0,9,-999.0000,  -999.00,9,  -999.00,9,  -999.00,9,   3.7049
  74DI19980423,  A16N, 13527,  1,      3,      3,2,19980526, 745, 57.3000, -10.3850, 2211,   1930.6,   3.5490,  34.9310,2,  34.9310,2,    267.8,2,    267.5,2,    14.46,2,    17.36,2,     1.05,2, -999.000,9, -999.000,9,   -999.0,9,-999.0000,  -999.00,9,  -999.00,9,  -999.00,9,   3.3948
  74DI19980423,  A16N, 13527,  1,      2,      2,2,19980526, 745, 57.3000, -10.3850, 2211,   2133.9,   3.3290,  34.9370,2,  34.9360,2,    266.4,2,    265.0,2,    17.28,2,    17.54,2,     1.07,2, -999.000,9, -999.000,9,   -999.0,9,-999.0000,  -999.00,9,  -999.00,9,  -999.00,9,   3.1589
  74DI19980423,  A16N, 13527,  1,      1,      1,2,19980526, 745, 57.3000, -10.3850, 2211,   2231.7,   3.1550,  34.9410,2,  34.9400,2,    261.3,2,    261.3,2,    21.01,2,    17.79,2,     1.04,2, -999.000,9, -999.000,9,   -999.0,9,-999.0000,  -999.00,9,  -999.00,9,  -999.00,9,   2.9783
  74DI19980423,  A16N, 13528,  1,     17,     17,2,19980526,1211, 57.1500,  -9.6967, 1925,      4.5,  11.1460,  35.4380,2,  35.4360,2,    294.9,6,    292.0,2,     0.33,2,     1.96,2,     0.17,2, -999.000,9, -999.000,9,   -999.0,9,-999.0000,  -999.00,9,     0.81,2,     0.14,2,  11.1454
  74DI19980423,  A16N, 13528,  1,     16,     16,2,19980526,1211, 57.1500,  -9.6967, 1925,     16.8,  11.1510,  35.4380,2,  35.4360,2,    293.7,2,    292.3,2,     0.32,2,     2.03,2,     0.18,2, -999.000,9, -999.000,9,   -999.0,9,-999.0000,  -999.00,9,     0.82,2,     0.11,2,  11.1489
  74DI19980423,  A16N, 13528,  1,     15,     15,2,19980526,1211, 57.1500,  -9.6967, 1925,     26.3,  11.1410,  35.4390,2,  35.4360,2,    289.2,2,    292.9,2,     0.42,2,     2.19,2,     0.21,2, -999.000,9, -999.000,9,   -999.0,9,-999.0000,  -999.00,9,     0.82,2,     0.16,2,  11.1377
  74DI19980423,  A16N, 13528,  1,     14,     14,2,19980526,1211, 57.1500,  -9.6967, 1925,     46.0,  10.1020,  35.4450,2,  35.4430,2,    270.0,2,    261.6,2,     3.40,2,    10.43,2,     0.61,2, -999.000,9, -999.000,9,   -999.0,9,-999.0000,  -999.00,9,     0.12,2,     0.10,2,  10.0966
  74DI19980423,  A16N, 13528,  1,     13,     13,2,19980526,1211, 57.1500,  -9.6967, 1925,     86.4,  10.0090,  35.4390,2,  35.4360,2,    260.3,2,    261.8,2,     3.82,2,    10.67,2,     0.63,2, -999.000,9, -999.000,9,   -999.0,9,-999.0000,  -999.00,9,     0.04,2,     0.02,2,   9.9990
  74DI19980423,  A16N, 13528,  1,     12,     12,2,19980526,1211, 57.1500,  -9.6967, 1925,    126.7,   9.9230,  35.4340,2,  35.4320,2,    256.6,2,    262.3,2,     4.08,2,    11.12,2,     0.63,2, -999.000,9, -999.000,9,   -999.0,9,-999.0000,  -999.00,9,     0.07,2,     0.04,2,   9.9083
  74DI19980423,  A16N, 13528,  1,     11,     11,2,19980526,1211, 57.1500,  -9.6967, 1925,    247.8,   9.8000,  35.4220,2,  35.4200,2,    264.6,2,    262.4,2,     4.21,2,    11.01,2,     0.64,2, -999.000,9, -999.000,9,   -999.0,9,-999.0000,  -999.00,9,  -999.00,9,  -999.00,9,   9.7714
  74DI19980423,  A16N, 13528,  1,     10,     10,2,19980526,1211, 57.1500,  -9.6967, 1925,    327.9,   9.6940,  35.4130,2,  35.4100,2,    261.7,2,    263.4,2,     4.46,2,    11.03,2,     0.65,2, -999.000,9, -999.000,9,   -999.0,9,-999.0000,  -999.00,9,  -999.00,9,  -999.00,9,   9.6562
  74DI19980423,  A16N, 13528,  1,      9,      9,2,19980526,1211, 57.1500,  -9.6967, 1925,    511.3,   9.3290,  35.3660,2,  35.3620,2,    259.5,2,    260.5,2,     5.02,2,    11.80,2,     0.71,2, -999.000,9, -999.000,9,   -999.0,9,-999.0000,  -999.00,9,  -999.00,9,  -999.00,9,   9.2709
  74DI19980423,  A16N, 13528,  1,      8,      8,2,19980526,1211, 57.1500,  -9.6967, 1925,    764.0,   9.0140,  35.3270,2,  35.3240,2,    260.7,2,    262.0,2,     5.47,2,    12.44,2,     0.76,2, -999.000,9, -999.000,9,   -999.0,9,-999.0000,  -999.00,9,  -999.00,9,  -999.00,9,   8.9278
  74DI19980423,  A16N, 13528,  1,      7,      7,2,19980526,1211, 57.1500,  -9.6967, 1925,    962.8,   7.8980,  35.2320,2,  35.2300,2,    234.7,2,    231.9,2,     8.77,2,    15.94,2,     0.98,2, -999.000,9, -999.000,9,   -999.0,9,-999.0000,  -999.00,9,  -999.00,9,  -999.00,9,   7.7962
  74DI19980423,  A16N, 13528,  1,      6,      6,2,19980526,1211, 57.1500,  -9.6967, 1925,   1167.9,   6.3600,  35.1430,2,  35.1410,2,    238.5,2,    236.0,2,    10.11,2,    16.83,2,     1.04,2, -999.000,9, -999.000,9,   -999.0,9,-999.0000,  -999.00,9,  -999.00,9,  -999.00,9,   6.2482
  74DI19980423,  A16N, 13528,  1,      5,      5,2,19980526,1211, 57.1500,  -9.6967, 1925,   1372.4,   4.9500,  35.0360,2,  35.0350,2,    252.1,2,    253.1,2,    10.75,2,    16.87,2,     1.05,2, -999.000,9, -999.000,9,   -999.0,9,-999.0000,  -999.00,9,  -999.00,9,  -999.00,9,   4.8313
  74DI19980423,  A16N, 13528,  1,      4,      4,2,19980526,1211, 57.1500,  -9.6967, 1925,   1576.0,   4.1260,  34.9640,2,  34.9640,2,    262.9,2,    264.0,2,    11.94,2,    16.98,2,     1.05,2, -999.000,9, -999.000,9,   -999.0,9,-999.0000,  -999.00,9,  -999.00,9,  -999.00,9,   3.9973
  74DI19980423,  A16N, 13528,  1,      3,      3,2,19980526,1211, 57.1500,  -9.6967, 1925,   1776.1,   3.6970,  34.9320,2,  34.9320,2,    268.3,2,    268.2,2,    13.01,2,    17.09,2,     1.06,2, -999.000,9, -999.000,9,   -999.0,9,-999.0000,  -999.00,9,  -999.00,9,  -999.00,9,   3.5552
  74DI19980423,  A16N, 13528,  1,      2,      2,2,19980526,1211, 57.1500,  -9.6967, 1925,   1880.3,   3.5300,  34.9310,2,  34.9310,2,    268.0,2,    267.5,2,    14.57,2,    17.19,2,     1.07,2, -999.000,9, -999.000,9,   -999.0,9,-999.0000,  -999.00,9,  -999.00,9,  -999.00,9,   3.3808
  74DI19980423,  A16N, 13528,  1,      1,      1,2,19980526,1211, 57.1500,  -9.6967, 1925,   1942.0,   3.4830,  34.9310,2,  34.9320,2,    267.6,2,    267.8,2,    15.06,2,    17.01,2,     0.99,2, -999.000,9, -999.000,9,   -999.0,9,-999.0000,  -999.00,9,  -999.00,9,  -999.00,9,   3.3287
  74DI19980423,  A16N, 13529,  1,     15,     15,2,19980526,1507, 57.1050,  -9.4233, 1442,      3.1,  11.3780,  35.4490,2,  35.4460,2,   -999.0,9,    293.0,2,     0.29,2,     2.40,2,     0.14,2, -999.000,9, -999.000,9,   -999.0,9,-999.0000,  -999.00,9,     0.86,2,     0.17,2,  11.3776
  74DI19980423,  A16N, 13529,  1,     14,     14,2,19980526,1507, 57.1050,  -9.4233, 1442,     14.6,  11.3780,  35.4480,2,  35.4450,2,    294.5,2,    293.3,2,     0.28,2,     2.39,2,     0.15,2, -999.000,9, -999.000,9,   -999.0,9,-999.0000,  -999.00,9,     0.84,2,     0.14,2,  11.3762
  74DI19980423,  A16N, 13529,  1,     13,     13,2,19980526,1507, 57.1050,  -9.4233, 1442,     24.8,  11.3360,  35.4460,2,  35.4440,2,    291.1,2,    294.4,2,     0.29,2,     2.36,2,     0.17,2, -999.000,9, -999.000,9,   -999.0,9,-999.0000,  -999.00,9,     0.73,2,     0.23,2,  11.3329
  74DI19980423,  A16N, 13529,  1,     12,     12,2,19980526,1507, 57.1050,  -9.4233, 1442,     45.1,  10.3760,  35.4440,2,  35.4410,2,    296.6,2,    274.8,2,     1.41,2,     6.41,2,     0.45,2, -999.000,9, -999.000,9,   -999.0,9,-999.0000,  -999.00,9,     0.15,2,     0.08,2,  10.3707
  74DI19980423,  A16N, 13529,  1,     11,     11,2,19980526,1507, 57.1050,  -9.4233, 1442,     85.6,  10.1700,  35.4450,2,  35.4420,2,    266.1,2,    263.6,2,     2.79,2,     9.11,2,     0.58,2, -999.000,9, -999.000,9,   -999.0,9,-999.0000,  -999.00,9,     0.06,2,     0.03,2,  10.1600
  74DI19980423,  A16N, 13529,  1,     10,     10,2,19980526,1507, 57.1050,  -9.4233, 1442,    126.2,  10.0380,  35.4370,2,  35.4350,2,    261.8,2,    263.2,2,     3.33,2,    10.08,2,     0.62,2, -999.000,9, -999.000,9,   -999.0,9,-999.0000,  -999.00,9,     0.08,2,     0.05,2,  10.0233
  74DI19980423,  A16N, 13529,  1,      9,      9,2,19980526,1507, 57.1050,  -9.4233, 1442,    246.6,   9.9210,  35.4330,2,  35.4300,2,    261.7,2,    262.6,2,     3.99,2,    10.96,2,     0.62,2, -999.000,9, -999.000,9,   -999.0,9,-999.0000,  -999.00,9,  -999.00,9,  -999.00,9,   9.8923
  74DI19980423,  A16N, 13529,  1,      8,      8,2,19980526,1507, 57.1050,  -9.4233, 1442,    323.8,   9.8770,  35.4280,2,  35.4250,2,    261.8,2,    263.9,2,     4.06,2,    10.94,2,     0.62,2, -999.000,9, -999.000,9,   -999.0,9,-999.0000,  -999.00,9,  -999.00,9,  -999.00,9,   9.8393
  74DI19980423,  A16N, 13529,  1,      7,      7,2,19980526,1507, 57.1050,  -9.4233, 1442,    506.2,   9.7040,  35.4110,2,  35.4090,2,    261.5,2,    264.1,2,     4.51,2,    11.24,2,     0.63,2, -999.000,9, -999.000,9,   -999.0,9,-999.0000,  -999.00,9,  -999.00,9,  -999.00,9,   9.6451
  74DI19980423,  A16N, 13529,  1,      6,      6,2,19980526,1507, 57.1050,  -9.4233, 1442,    655.6,   9.3850,  35.3720,2,  35.3700,2,    266.8,2,    263.1,2,     4.94,2,    11.78,2,     0.68,2, -999.000,9, -999.000,9,   -999.0,9,-999.0000,  -999.00,9,  -999.00,9,  -999.00,9,   9.3097
  74DI19980423,  A16N, 13529,  1,      5,      5,2,19980526,1507, 57.1050,  -9.4233, 1442,    759.3,   9.2030,  35.3520,2,  35.3500,2,    264.5,2,    264.8,2,     5.16,2,    11.99,2,     0.72,2, -999.000,9, -999.000,9,   -999.0,9,-999.0000,  -999.00,9,  -999.00,9,  -999.00,9,   9.1163
  74DI19980423,  A16N, 13529,  1,      4,      4,2,19980526,1507, 57.1050,  -9.4233, 1442,   1004.7,   7.6160,  35.2180,2,  35.2170,2,    235.6,2,    227.6,2,     9.33,2,    16.46,2,     1.01,2, -999.000,9, -999.000,9,   -999.0,9,-999.0000,  -999.00,9,  -999.00,9,  -999.00,9,   7.5116
  74DI19980423,  A16N, 13529,  1,      3,      3,2,19980526,1507, 57.1050,  -9.4233, 1442,   1160.6,   6.0210,  35.1180,2,  35.1190,2,    241.2,2,    238.2,2,    10.48,2,    17.01,2,     1.04,2, -999.000,9, -999.000,9,   -999.0,9,-999.0000,  -999.00,9,  -999.00,9,  -999.00,9,   5.9130
  74DI19980423,  A16N, 13529,  1,      2,      2,2,19980526,1507, 57.1050,  -9.4233, 1442,   1361.7,   4.8220,  35.0200,2,  35.0210,2,    252.3,2,    252.4,2,    11.42,2,    17.14,2,     1.06,2, -999.000,9, -999.000,9,   -999.0,9,-999.0000,  -999.00,9,  -999.00,9,  -999.00,9,   4.7057
  74DI19980423,  A16N, 13529,  1,      1,      1,2,19980526,1507, 57.1050,  -9.4233, 1442,   1449.2,   4.3400,  34.9800,2,  34.9810,2,    259.2,2,    260.5,2,    11.85,2,    16.96,2,     1.00,2, -999.000,9, -999.000,9,   -999.0,9,-999.0000,  -999.00,9,  -999.00,9,  -999.00,9,   4.2207
  74DI19980423,  A16N, 13530,  1,      8,      8,2,19980526,1720, 57.0517,  -9.2167,  309,      4.2,  11.1570,  35.4390,2,  35.4370,2,    284.2,6,    278.5,2,     0.73,2,     2.69,2,     0.18,2, -999.000,9, -999.000,9,   -999.0,9,-999.0000,  -999.00,9,  -999.00,9,  -999.00,9,  11.1565
  74DI19980423,  A16N, 13530,  1,      7,      7,2,19980526,1720, 57.0517,  -9.2167,  309,     11.8,  11.1480,  35.4390,2,  35.4370,2,    286.9,2,    286.1,2,     0.75,2,     4.86,3,     0.18,2, -999.000,9, -999.000,9,   -999.0,9,-999.0000,  -999.00,9,  -999.00,9,  -999.00,9,  11.1465
  74DI19980423,  A16N, 13530,  1,      6,      6,2,19980526,1720, 57.0517,  -9.2167,  309,     19.8,  11.1460,  35.4390,2,  35.4370,2,    282.8,2,    285.5,2,     0.76,2,     4.14,3,     0.19,2, -999.000,9, -999.000,9,   -999.0,9,-999.0000,  -999.00,9,  -999.00,9,  -999.00,9,  11.1435
  74DI19980423,  A16N, 13530,  1,      5,      5,2,19980526,1720, 57.0517,  -9.2167,  309,     34.8,  10.9930,  35.4400,2,  35.4380,2,    280.7,2,    282.9,2,     0.96,2,     3.91,2,     0.23,2, -999.000,9, -999.000,9,   -999.0,9,-999.0000,  -999.00,9,  -999.00,9,  -999.00,9,  10.9887
  74DI19980423,  A16N, 13530,  1,      4,      4,2,19980526,1720, 57.0517,  -9.2167,  309,     64.8,  10.5800,  35.4500,2,  35.4490,2,    273.8,2,    275.5,2,     1.50,2,     6.74,2,     0.42,2, -999.000,9, -999.000,9,   -999.0,9,-999.0000,  -999.00,9,  -999.00,9,  -999.00,9,  10.5722
  74DI19980423,  A16N, 13530,  1,      3,      3,2,19980526,1720, 57.0517,  -9.2167,  309,     95.4,  10.2540,  35.4570,2,  35.4540,2,    262.2,2,    259.2,2,     3.36,2,    10.48,2,     0.58,2, -999.000,9, -999.000,9,   -999.0,9,-999.0000,  -999.00,9,  -999.00,9,  -999.00,9,  10.2427
  74DI19980423,  A16N, 13530,  1,      2,      2,2,19980526,1720, 57.0517,  -9.2167,  309,    226.6,  10.0890,  35.4490,2,  35.4460,2,    259.8,2,    258.9,2,     4.16,2,    10.57,2,     0.56,2, -999.000,9, -999.000,9,   -999.0,9,-999.0000,  -999.00,9,  -999.00,9,  -999.00,9,  10.0624
  74DI19980423,  A16N, 13530,  1,      1,      1,2,19980526,1720, 57.0517,  -9.2167,  309,    300.4,  10.0810,  35.4480,2,  35.4450,2,    257.2,2,    257.3,2,     4.12,2,    10.18,2,     0.52,2, -999.000,9, -999.000,9,   -999.0,9,-999.0000,  -999.00,9,  -999.00,9,  -999.00,9,  10.0456
  74DI19980423,  A16N, 13531,  1,      6,      6,2,19980526,1844, 56.9983,  -8.9967,  138,      2.9,  11.2520,  35.4280,2,  35.4260,2,    288.1,6,    286.9,2,     0.68,2,     1.66,2,     0.12,2, -999.000,9, -999.000,9,   -999.0,9,-999.0000,  -999.00,9,     0.95,2,     0.18,2,  11.2516
  74DI19980423,  A16N, 13531,  1,      5,      5,2,19980526,1844, 56.9983,  -8.9967,  138,     14.4,  11.2550,  35.4290,2,  35.4280,2,    284.4,2,    286.4,2,     0.77,2,     1.92,2,     0.14,2, -999.000,9, -999.000,9,   -999.0,9,-999.0000,  -999.00,9,     0.93,2,     0.13,2,  11.2532
  74DI19980423,  A16N, 13531,  1,      4,      4,2,19980526,1844, 56.9983,  -8.9967,  138,     24.6,  10.7880,  35.4400,2,  35.4390,2,    280.7,2,    277.6,2,     1.60,2,     5.14,2,     0.33,2, -999.000,9, -999.000,9,   -999.0,9,-999.0000,  -999.00,9,     0.64,2,     0.16,2,  10.7850
  74DI19980423,  A16N, 13531,  1,      3,      3,2,19980526,1844, 56.9983,  -8.9967,  138,     45.3,  10.5510,  35.4400,2,  35.4370,2,    272.4,2,    276.0,2,     1.84,2,     6.44,2,     0.42,2, -999.000,9, -999.000,9,   -999.0,9,-999.0000,  -999.00,9,     0.54,2,     0.13,2,  10.5456
  74DI19980423,  A16N, 13531,  1,      2,      2,2,19980526,1844, 56.9983,  -8.9967,  138,     84.8,  10.1030,  35.4390,2,  35.4370,2,    264.0,2,    262.1,2,     3.26,2,     9.27,2,     0.55,2, -999.000,9, -999.000,9,   -999.0,9,-999.0000,  -999.00,9,     0.14,2,     0.12,2,  10.0931
  74DI19980423,  A16N, 13531,  1,      1,      1,2,19980526,1844, 56.9983,  -8.9967,  138,    128.5,   9.9650,  35.4270,2,  35.4260,2,    257.9,2,    258.4,2,     3.73,2,     9.33,2,     0.53,2, -999.000,9, -999.000,9,   -999.0,9,-999.0000,  -999.00,9,     0.08,2,     0.05,2,   9.9501