BOTTLE,20221006CCHSIOCBG
EXPOCODE,SECT_ID,STNNBR,CASTNO,SAMPNO,BTLNBR,BTLNBR_FLAG_W,DATE,TIME,LATITUDE,LONGITUDE,DEPTH,CTDPRS,CTDTMP,CTDSAL,CTDSAL_FLAG_W,SALNTY,SALNTY_FLAG_W,CTDOXY,CTDOXY_FLAG_W,OXYGEN,OXYGEN_FLAG_W,SILCAT,SILCAT_FLAG_W,NITRAT,NITRAT_FLAG_W,PHSPHT,PHSPHT_FLAG_W,CFC-11,CFC-11_FLAG_W,CFC-12,CFC-12_FLAG_W,ALKALI,ALKALI_FLAG_W,PH_SWS,PH_TEMP,PH_SWS_FLAG_W,CHLORA,CHLORA_FLAG_W,PPHYTN,PPHYTN_FLAG_W,THETA
,,,,,,,,,,,METERS,DBAR,ITS-90,PSS-78,,PSS-78,,UMOL/KG,,UMOL/KG,,UMOL/KG,,UMOL/KG,,UMOL/KG,,PMOL/KG,,PMOL/KG,,UMOL/KG,,,DEGC,,UG/L,,UG/L,,DEGC
  74DI19980423,  A16N, 13513,  1,     21,     21,2,19980524, 853, 59.4333, -18.0400, 2488,      2.4,  10.1150,  35.2170,2,  35.0190,0,    285.7,6,    286.4,2,     2.10,2,     7.10,2,     0.79,3, -999.000,9, -999.000,9,   -999.0,9,-999.0000,  -999.00,9,     0.59,2,     0.32,2,  10.1147
  74DI19980423,  A16N, 13513,  1,     20,     20,2,19980524, 853, 59.4333, -18.0400, 2488,     10.4,  10.1010,  35.2180,2,  35.0190,0,    288.9,2,    286.4,2,     1.67,2,     6.90,2,     0.77,3, -999.000,9, -999.000,9,   -999.0,9,-999.0000,  -999.00,9,     0.58,2,     0.35,2,  10.0998
  74DI19980423,  A16N, 13513,  1,     19,     19,2,19980524, 853, 59.4333, -18.0400, 2488,     18.5,  10.0520,  35.2190,2,  35.0200,0,    285.6,2,    285.8,2,     1.70,2,     7.71,2,     0.83,3, -999.000,9, -999.000,9,   -999.0,9,-999.0000,  -999.00,9,     0.59,2,     0.30,2,  10.0499
  74DI19980423,  A16N, 13513,  1,     18,     18,2,19980524, 853, 59.4333, -18.0400, 2488,     33.1,   9.7550,  35.2380,2,  35.2450,2,    279.7,2,    278.2,2,     1.82,2,     8.39,2,     0.92,3, -999.000,9, -999.000,9,   -999.0,9,-999.0000,  -999.00,9,     0.36,2,     0.21,2,   9.7512
  74DI19980423,  A16N, 13513,  1,     17,     17,2,19980524, 853, 59.4333, -18.0400, 2488,     64.0,  10.0020,  35.3540,2,  35.3510,2,    271.1,2,    267.8,2,     3.74,2,    10.13,3,     0.93,3, -999.000,9, -999.000,9,   -999.0,9,-999.0000,  -999.00,9,     0.23,2,     0.14,2,   9.9946
  74DI19980423,  A16N, 13513,  1,     16,     16,2,19980524, 853, 59.4333, -18.0400, 2488,     93.4,   9.8830,  35.3710,2,  35.3720,2,    262.8,2,    263.6,2,     4.60,2,    10.77,3,     0.84,3, -999.000,9, -999.000,9,   -999.0,9,-999.0000,  -999.00,9,     0.04,2,     0.02,2,   9.8722
  74DI19980423,  A16N, 13513,  1,     15,     15,2,19980524, 853, 59.4333, -18.0400, 2488,    124.1,   9.9400,  35.3910,2,  35.3890,2,    263.7,2,    265.9,2,     5.00,2,    10.56,2,     0.89,3, -999.000,9, -999.000,9,   -999.0,9,-999.0000,  -999.00,9,  -999.00,9,  -999.00,9,   9.9256
  74DI19980423,  A16N, 13513,  1,     14,     14,2,19980524, 853, 59.4333, -18.0400, 2488,    224.0,   9.7820,  35.3750,2,  35.3710,2,    261.9,2,    262.2,2,     5.03,2,    11.07,2,     0.93,3, -999.000,9, -999.000,9,   -999.0,9,-999.0000,  -999.00,9,  -999.00,9,  -999.00,9,   9.7562
  74DI19980423,  A16N, 13513,  1,     13,     13,2,19980524, 853, 59.4333, -18.0400, 2488,    355.9,   9.3070,  35.3340,2,  35.3310,2,    259.6,2,    264.0,2,     5.30,2,    11.72,2,     0.98,3, -999.000,9, -999.000,9,   -999.0,9,-999.0000,  -999.00,9,  -999.00,9,  -999.00,9,   9.2670
  74DI19980423,  A16N, 13513,  1,     12,     12,2,19980524, 853, 59.4333, -18.0400, 2488,    507.3,   9.1060,  35.3290,2,  35.3260,2,    268.3,2,    269.9,2,     5.22,2,    11.64,2,     0.98,3, -999.000,9, -999.000,9,   -999.0,9,-999.0000,  -999.00,9,  -999.00,9,  -999.00,9,   9.0492
  74DI19980423,  A16N, 13513,  1,     11,     11,2,19980524, 853, 59.4333, -18.0400, 2488,    709.4,   8.4530,  35.2380,2,  35.2380,2,    236.9,2,    252.0,2,     7.05,2,    13.73,2,     1.11,3, -999.000,9, -999.000,9,   -999.0,9,-999.0000,  -999.00,9,  -999.00,9,  -999.00,9,   8.3762
  74DI19980423,  A16N, 13513,  1,     10,     10,2,19980524, 853, 59.4333, -18.0400, 2488,    909.6,   6.8840,  35.1090,2,  35.1070,2,    220.7,2,    217.5,2,    10.84,2,    17.61,2,     1.33,3, -999.000,9, -999.000,9,   -999.0,9,-999.0000,  -999.00,9,  -999.00,9,  -999.00,9,   6.7951
  74DI19980423,  A16N, 13513,  1,      9,      9,2,19980524, 853, 59.4333, -18.0400, 2488,   1112.4,   5.3850,  35.0340,2,  35.0280,2,    234.7,2,    234.2,2,    11.64,2,    17.88,2,     1.33,3, -999.000,9, -999.000,9,   -999.0,9,-999.0000,  -999.00,9,  -999.00,9,  -999.00,9,   5.2873
  74DI19980423,  A16N, 13513,  1,      8,      8,2,19980524, 853, 59.4333, -18.0400, 2488,   1315.2,   4.4210,  34.9640,2,  34.9620,2,    252.0,2,    253.7,2,    11.67,2,    17.53,2,     1.28,3, -999.000,9, -999.000,9,   -999.0,9,-999.0000,  -999.00,9,  -999.00,9,  -999.00,9,   4.3132
  74DI19980423,  A16N, 13513,  1,      7,      7,2,19980524, 853, 59.4333, -18.0400, 2488,   1518.0,   3.7770,  34.9140,2,  34.9120,2,    266.8,2,    270.2,2,    11.30,2,    17.04,2,     1.24,3, -999.000,9, -999.000,9,   -999.0,9,-999.0000,  -999.00,9,  -999.00,9,  -999.00,9,   3.6578
  74DI19980423,  A16N, 13513,  1,      6,      6,2,19980524, 853, 59.4333, -18.0400, 2488,   1721.9,   3.4930,  34.8960,2,  34.8940,2,    276.6,2,    278.0,2,    11.14,2,    16.76,2,     1.20,3, -999.000,9, -999.000,9,   -999.0,9,-999.0000,  -999.00,9,  -999.00,9,  -999.00,9,   3.3590
  74DI19980423,  A16N, 13513,  1,      5,      5,2,19980524, 853, 59.4333, -18.0400, 2488,   1901.9,   3.3450,  34.8940,2,  34.8930,2,    281.5,2,    281.5,2,    11.27,2,    16.45,2,     1.17,3, -999.000,9, -999.000,9,   -999.0,9,-999.0000,  -999.00,9,  -999.00,9,  -999.00,9,   3.1965
  74DI19980423,  A16N, 13513,  1,      4,      4,2,19980524, 853, 59.4333, -18.0400, 2488,   1925.2,   3.3370,  34.8960,2,  34.8940,2,    281.1,2,    281.6,2,    11.25,2,    16.46,2,     1.14,3, -999.000,9, -999.000,9,   -999.0,9,-999.0000,  -999.00,9,  -999.00,9,  -999.00,9,   3.1865
  74DI19980423,  A16N, 13513,  1,      3,      3,2,19980524, 853, 59.4333, -18.0400, 2488,   2131.0,   3.2800,  34.9290,2,  34.9270,2,    277.2,2,    276.1,2,    12.59,2,    16.28,2,     1.09,3, -999.000,9, -999.000,9,   -999.0,9,-999.0000,  -999.00,9,  -999.00,9,  -999.00,9,   3.1110
  74DI19980423,  A16N, 13513,  1,      2,      2,2,19980524, 853, 59.4333, -18.0400, 2488,   2336.7,   3.1470,  34.9520,2,  34.9500,2,    274.9,2,    272.4,2,    14.19,2,    16.31,2,     1.06,3, -999.000,9, -999.000,9,   -999.0,9,-999.0000,  -999.00,9,  -999.00,9,  -999.00,9,   2.9603
  74DI19980423,  A16N, 13513,  1,      1,      1,2,19980524, 853, 59.4333, -18.0400, 2488,   2516.1,   2.9860,  34.9600,2,  34.9580,2,    273.1,2,    272.4,2,    15.54,2,    16.08,2,     0.95,3, -999.000,9, -999.000,9,   -999.0,9,-999.0000,  -999.00,9,  -999.00,9,  -999.00,9,   2.7846
  74DI19980423,  A16N, 13514,  1,     17,     17,2,19980524,1137, 59.3467, -18.3900, 1840,      2.2,  10.1440,  35.2140,2,  35.2190,2,    289.5,6,    287.1,2,     0.99,3,     7.26,2,     0.17,3, -999.000,9, -999.000,9,   -999.0,9,-999.0000,  -999.00,9,     0.61,2,     0.36,2,  10.1437
  74DI19980423,  A16N, 13514,  1,     16,     16,2,19980524,1137, 59.3467, -18.3900, 1840,     15.1,  10.1040,  35.2210,2,  35.2170,2,    286.6,2,    287.6,2,     1.69,3,     7.01,2,     0.31,3, -999.000,9, -999.000,9,   -999.0,9,-999.0000,  -999.00,9,     0.58,2,     0.32,2,  10.1022
  74DI19980423,  A16N, 13514,  1,     15,     15,2,19980524,1137, 59.3467, -18.3900, 1840,     24.5,   9.9360,  35.2220,2,  35.2170,2,    283.7,2,    286.3,2,     1.90,2,     7.01,2,     0.16,3, -999.000,9, -999.000,9,   -999.0,9,-999.0000,  -999.00,9,     0.48,2,     0.30,2,   9.9332
  74DI19980423,  A16N, 13514,  1,     14,     14,2,19980524,1137, 59.3467, -18.3900, 1840,     44.8,   9.6950,  35.2290,2,  35.2260,2,    280.6,2,    277.2,2,     2.47,2,     7.72,2,     0.37,2, -999.000,9, -999.000,9,   -999.0,9,-999.0000,  -999.00,9,     0.13,2,     0.14,2,   9.6899
  74DI19980423,  A16N, 13514,  1,     13,     13,2,19980524,1137, 59.3467, -18.3900, 1840,     85.0,   9.2560,  35.2190,2,  35.2160,2,    267.5,2,    265.2,2,     5.07,2,    11.37,2,     0.59,2, -999.000,9, -999.000,9,   -999.0,9,-999.0000,  -999.00,9,     0.03,2,     0.01,2,   9.2466
  74DI19980423,  A16N, 13514,  1,     12,     12,2,19980524,1137, 59.3467, -18.3900, 1840,    125.5,   9.5510,  35.3010,2,  35.3050,2,    262.9,2,    263.6,2,     4.81,2,    11.40,2,     0.58,2, -999.000,9, -999.000,9,   -999.0,9,-999.0000,  -999.00,9,     0.01,2,     0.00,2,   9.5368
  74DI19980423,  A16N, 13514,  1,     11,     11,2,19980524,1137, 59.3467, -18.3900, 1840,    246.2,   9.5690,  35.3550,2,  35.3520,2,    259.9,2,    261.5,2,     4.86,2,    11.83,2,     0.61,2, -999.000,9, -999.000,9,   -999.0,9,-999.0000,  -999.00,9,  -999.00,9,  -999.00,9,   9.5410
  74DI19980423,  A16N, 13514,  1,     10,     10,2,19980524,1137, 59.3467, -18.3900, 1840,    326.6,   9.2980,  35.3290,2,  35.3260,2,    259.8,2,    260.3,2,     5.24,2,    12.24,2,     0.59,2, -999.000,9, -999.000,9,   -999.0,9,-999.0000,  -999.00,9,  -999.00,9,  -999.00,9,   9.2614
  74DI19980423,  A16N, 13514,  1,      9,      9,2,19980524,1137, 59.3467, -18.3900, 1840,    509.3,   9.1050,  35.3300,2,  35.3270,2,    264.9,2,    270.0,2,     5.07,2,    11.93,2,     0.62,2, -999.000,9, -999.000,9,   -999.0,9,-999.0000,  -999.00,9,  -999.00,9,  -999.00,9,   9.0480
  74DI19980423,  A16N, 13514,  1,      8,      8,2,19980524,1137, 59.3467, -18.3900, 1840,    761.3,   8.4510,  35.2450,2,  35.2400,2,    246.0,2,    244.4,2,     7.28,2,    14.78,2,     0.81,2, -999.000,9, -999.000,9,   -999.0,9,-999.0000,  -999.00,9,  -999.00,9,  -999.00,9,   8.3684
  74DI19980423,  A16N, 13514,  1,      7,      7,2,19980524,1137, 59.3467, -18.3900, 1840,    953.4,   7.0900,  35.1210,2,  35.1190,2,    226.5,2,    221.5,2,    10.24,2,    17.88,2,     1.03,2, -999.000,9, -999.000,9,   -999.0,9,-999.0000,  -999.00,9,  -999.00,9,  -999.00,9,   6.9950
  74DI19980423,  A16N, 13514,  1,      6,      6,2,19980524,1137, 59.3467, -18.3900, 1840,   1162.6,   5.3870,  35.0320,2,  35.0290,2,    231.4,2,    233.4,2,    11.47,2,    18.56,2,     1.09,2, -999.000,9, -999.000,9,   -999.0,9,-999.0000,  -999.00,9,  -999.00,9,  -999.00,9,   5.2844
  74DI19980423,  A16N, 13514,  1,      5,      5,2,19980524,1137, 59.3467, -18.3900, 1840,   1368.7,   4.3870,  34.9620,2,  34.9590,2,    252.6,2,    254.2,2,    11.57,2,    18.11,2,     1.07,2, -999.000,9, -999.000,9,   -999.0,9,-999.0000,  -999.00,9,  -999.00,9,  -999.00,9,   4.2746
  74DI19980423,  A16N, 13514,  1,      4,      4,2,19980524,1137, 59.3467, -18.3900, 1840,   1568.4,   3.6760,  34.9170,2,  34.9160,2,    270.4,2,    270.1,2,    11.83,2,    17.57,2,     1.03,2, -999.000,9, -999.000,9,   -999.0,9,-999.0000,  -999.00,9,  -999.00,9,  -999.00,9,   3.5535
  74DI19980423,  A16N, 13514,  1,      3,      3,2,19980524,1137, 59.3467, -18.3900, 1840,   1672.7,   3.3550,  34.8950,2,  34.8940,2,    278.9,2,    279.4,2,    11.16,2,    17.08,2,     1.01,2, -999.000,9, -999.000,9,   -999.0,9,-999.0000,  -999.00,9,  -999.00,9,  -999.00,9,   3.2271
  74DI19980423,  A16N, 13514,  1,      2,      2,2,19980524,1137, 59.3467, -18.3900, 1840,   1770.6,   3.3020,  34.9040,2,  34.9030,2,    280.0,2,    278.9,2,    11.60,2,    17.05,2,     1.01,2, -999.000,9, -999.000,9,   -999.0,9,-999.0000,  -999.00,9,  -999.00,9,  -999.00,9,   3.1660
  74DI19980423,  A16N, 13514,  1,      1,      1,2,19980524,1137, 59.3467, -18.3900, 1840,   1852.0,   3.2670,  34.9210,2,  34.9200,2,    276.5,2,    276.4,2,    12.31,2,    16.72,2,     0.94,2, -999.000,9, -999.000,9,   -999.0,9,-999.0000,  -999.00,9,  -999.00,9,  -999.00,9,   3.1241
  74DI19980423,  A16N, 13515,  1,     12,     12,2,19980524,1510, 59.1300, -17.6400,  972,      3.0,  10.2990,  35.3310,6,  35.3310,2,    286.3,6,    290.7,2,     0.51,2,     7.01,2,     0.71,3, -999.000,9, -999.000,9,   -999.0,9,-999.0000,  -999.00,9,     0.81,2,     0.31,2,  10.2986
  74DI19980423,  A16N, 13515,  1,     11,     11,2,19980524,1510, 59.1300, -17.6400,  972,     14.0,  10.2770,  35.3340,2,  35.3330,2,    290.8,2,    289.5,2,     0.54,2,     7.06,2,     0.70,3, -999.000,9, -999.000,9,   -999.0,9,-999.0000,  -999.00,9,     0.76,2,     0.33,2,  10.2754
  74DI19980423,  A16N, 13515,  1,     10,     10,2,19980524,1510, 59.1300, -17.6400,  972,     24.7,  10.0610,  35.3460,2,  35.3410,2,    285.0,2,    283.7,2,     0.86,2,     7.46,2,     0.72,3, -999.000,9, -999.000,9,   -999.0,9,-999.0000,  -999.00,9,     0.63,2,     0.44,2,  10.0581
  74DI19980423,  A16N, 13515,  1,      9,      9,2,19980524,1510, 59.1300, -17.6400,  972,     45.0,   9.9980,  35.3470,2,  35.3430,2,    279.2,2,    278.4,2,     1.36,2,     7.64,2,     0.75,3, -999.000,9, -999.000,9,   -999.0,9,-999.0000,  -999.00,9,     0.43,2,     0.16,2,   9.9928
  74DI19980423,  A16N, 13515,  1,      8,      8,2,19980524,1510, 59.1300, -17.6400,  972,     85.4,   9.8060,  35.3280,2,  35.3250,2,    276.6,2,    271.6,2,     3.12,2,     9.45,2,     0.82,3, -999.000,9, -999.000,9,   -999.0,9,-999.0000,  -999.00,9,     0.18,2,     0.11,2,   9.7962
  74DI19980423,  A16N, 13515,  1,      7,      7,2,19980524,1510, 59.1300, -17.6400,  972,    125.7,   9.7810,  35.3500,2,  35.3590,2,    268.2,2,    265.3,2,     4.61,2,    11.12,2,     0.89,3, -999.000,9, -999.000,9,   -999.0,9,-999.0000,  -999.00,9,     0.10,2,     0.05,2,   9.7666
  74DI19980423,  A16N, 13515,  1,      6,      6,2,19980524,1510, 59.1300, -17.6400,  972,    247.2,   9.5060,  35.3310,2,  35.3260,2,    263.1,2,    264.7,2,     5.34,2,    11.95,2,     0.88,3, -999.000,9, -999.000,9,   -999.0,9,-999.0000,  -999.00,9,  -999.00,9,  -999.00,9,   9.4780
  74DI19980423,  A16N, 13515,  1,      5,      5,2,19980524,1510, 59.1300, -17.6400,  972,    326.3,   9.2620,  35.3070,2,  35.3040,2,    264.7,2,    267.2,2,     5.58,2,    12.13,2,     0.87,3, -999.000,9, -999.000,9,   -999.0,9,-999.0000,  -999.00,9,  -999.00,9,  -999.00,9,   9.2255
  74DI19980423,  A16N, 13515,  1,      4,      4,2,19980524,1510, 59.1300, -17.6400,  972,    506.1,   9.1320,  35.3130,2,  35.3110,2,    261.9,2,    264.5,2,     5.80,2,    12.61,2,     0.87,3, -999.000,9, -999.000,9,   -999.0,9,-999.0000,  -999.00,9,  -999.00,9,  -999.00,9,   9.0753
  74DI19980423,  A16N, 13515,  1,      3,      3,2,19980524,1510, 59.1300, -17.6400,  972,    760.5,   8.7020,  35.2720,2,  35.2690,2,    254.3,2,    253.9,2,     6.81,2,    13.95,2,     0.93,3, -999.000,9, -999.000,9,   -999.0,9,-999.0000,  -999.00,9,  -999.00,9,  -999.00,9,   8.6180
  74DI19980423,  A16N, 13515,  1,      2,      2,2,19980524,1510, 59.1300, -17.6400,  972,    962.4,   6.7330,  35.1110,2,  35.1120,2,    228.2,2,    223.2,2,    10.91,2,    18.10,2,     1.17,3, -999.000,9, -999.000,9,   -999.0,9,-999.0000,  -999.00,9,  -999.00,9,  -999.00,9,   6.6396
  74DI19980423,  A16N, 13515,  1,      1,      1,2,19980524,1510, 59.1300, -17.6400,  972,    971.5,   6.4310,  35.0950,2,  35.0950,2,    222.1,2,    222.4,2,    11.22,2,    18.32,2,     1.07,3, -999.000,9, -999.000,9,   -999.0,9,-999.0000,  -999.00,9,  -999.00,9,  -999.00,9,   6.3389
  74DI19980423,  A16N, 13516,  1,     11,     11,2,19980524,1800, 58.9683, -17.1933,  831,      3.5,  10.3730,  35.3130,2,  35.3120,2,    296.4,6,    291.7,2,  -999.00,9,  -999.00,9,  -999.00,9, -999.000,9, -999.000,9,   -999.0,9,-999.0000,  -999.00,9,     1.12,2,     0.34,2,  10.3726
  74DI19980423,  A16N, 13516,  1,     10,     10,2,19980524,1800, 58.9683, -17.1933,  831,     14.2,  10.3500,  35.3150,2,  35.3120,2,    292.9,2,    292.2,2,  -999.00,9,  -999.00,9,  -999.00,9, -999.000,9, -999.000,9,   -999.0,9,-999.0000,  -999.00,9,     1.05,2,     0.29,2,  10.3483
  74DI19980423,  A16N, 13516,  1,      9,      9,2,19980524,1800, 58.9683, -17.1933,  831,     24.1,  10.2280,  35.3180,2,  35.3150,2,    292.1,2,    291.9,2,  -999.00,9,  -999.00,9,  -999.00,9, -999.000,9, -999.000,9,   -999.0,9,-999.0000,  -999.00,9,     1.14,2,     0.32,2,  10.2252
  74DI19980423,  A16N, 13516,  1,      8,      8,2,19980524,1800, 58.9683, -17.1933,  831,     44.2,   9.9490,  35.3260,2,  35.3240,2,    287.3,2,    285.2,2,  -999.00,9,  -999.00,9,  -999.00,9, -999.000,9, -999.000,9,   -999.0,9,-999.0000,  -999.00,9,     0.54,2,     0.19,2,   9.9439
  74DI19980423,  A16N, 13516,  1,      7,      7,2,19980524,1800, 58.9683, -17.1933,  831,     84.9,   9.5580,  35.3280,2,  35.3240,2,    274.3,2,    269.3,2,  -999.00,9,  -999.00,9,  -999.00,9, -999.000,9, -999.000,9,   -999.0,9,-999.0000,  -999.00,9,     0.31,2,     0.16,2,   9.5484
  74DI19980423,  A16N, 13516,  1,      6,      6,2,19980524,1800, 58.9683, -17.1933,  831,    124.9,   9.2750,  35.3300,2,  35.3280,2,    264.7,2,    263.4,2,  -999.00,9,  -999.00,9,  -999.00,9, -999.000,9, -999.000,9,   -999.0,9,-999.0000,  -999.00,9,     0.18,2,     0.10,2,   9.2612
  74DI19980423,  A16N, 13516,  1,      5,      5,2,19980524,1800, 58.9683, -17.1933,  831,    246.1,   9.1640,  35.3380,2,  35.3360,2,    266.7,2,    268.6,2,  -999.00,9,  -999.00,9,  -999.00,9, -999.000,9, -999.000,9,   -999.0,9,-999.0000,  -999.00,9,  -999.00,9,  -999.00,9,   9.1368
  74DI19980423,  A16N, 13516,  1,      4,      4,2,19980524,1800, 58.9683, -17.1933,  831,    327.7,   9.0810,  35.3260,2,  35.3250,2,    265.6,2,    270.4,2,  -999.00,9,  -999.00,9,  -999.00,9, -999.000,9, -999.000,9,   -999.0,9,-999.0000,  -999.00,9,  -999.00,9,  -999.00,9,   9.0448
  74DI19980423,  A16N, 13516,  1,      3,      3,2,19980524,1800, 58.9683, -17.1933,  831,    506.8,   9.0360,  35.3240,2,  35.3220,2,    268.1,2,    270.5,2,  -999.00,9,  -999.00,9,  -999.00,9, -999.000,9, -999.000,9,   -999.0,9,-999.0000,  -999.00,9,  -999.00,9,  -999.00,9,   8.9796
  74DI19980423,  A16N, 13516,  1,      2,      2,2,19980524,1800, 58.9683, -17.1933,  831,    763.2,   8.2520,  35.2200,2,  35.2160,2,    249.4,2,    246.9,2,  -999.00,9,  -999.00,9,  -999.00,9, -999.000,9, -999.000,9,   -999.0,9,-999.0000,  -999.00,9,  -999.00,9,  -999.00,9,   8.1703
  74DI19980423,  A16N, 13516,  1,      1,      1,2,19980524,1800, 58.9683, -17.1933,  831,    830.4,   8.0890,  35.2040,2,  35.2030,2,    242.3,2,    241.9,2,  -999.00,9,  -999.00,9,  -999.00,9, -999.000,9, -999.000,9,   -999.0,9,-999.0000,  -999.00,9,  -999.00,9,  -999.00,9,   8.0007