BOTTLE,20221006CCHSIOCBG
EXPOCODE,SECT_ID,STNNBR,CASTNO,SAMPNO,BTLNBR,BTLNBR_FLAG_W,DATE,TIME,LATITUDE,LONGITUDE,DEPTH,CTDPRS,CTDTMP,CTDSAL,CTDSAL_FLAG_W,SALNTY,SALNTY_FLAG_W,CTDOXY,CTDOXY_FLAG_W,OXYGEN,OXYGEN_FLAG_W,SILCAT,SILCAT_FLAG_W,NITRAT,NITRAT_FLAG_W,PHSPHT,PHSPHT_FLAG_W,CFC-11,CFC-11_FLAG_W,CFC-12,CFC-12_FLAG_W,ALKALI,ALKALI_FLAG_W,PH_SWS,PH_TEMP,PH_SWS_FLAG_W,CHLORA,CHLORA_FLAG_W,PPHYTN,PPHYTN_FLAG_W,THETA
,,,,,,,,,,,METERS,DBAR,ITS-90,PSS-78,,PSS-78,,UMOL/KG,,UMOL/KG,,UMOL/KG,,UMOL/KG,,UMOL/KG,,PMOL/KG,,PMOL/KG,,UMOL/KG,,,DEGC,,UG/L,,UG/L,,DEGC
  74DI19980423,  A16N, 13507,  1,     14,     14,2,19980523, 207, 62.5033, -20.0017, 1624,      2.3,   8.9600,  35.2450,2,  35.2450,2,    287.2,2,    287.5,2,     3.23,2,     9.79,2,     0.62,2, -999.000,9, -999.000,9,   -999.0,9,-999.0000,  -999.00,9,     0.69,2,     0.21,2,   8.9598
  74DI19980423,  A16N, 13507,  1,     13,     13,2,19980523, 207, 62.5033, -20.0017, 1624,     14.4,   8.7080,  35.2430,2,  35.2400,2,    282.2,2,    286.4,2,     3.38,2,    10.04,2,     0.61,2, -999.000,9, -999.000,9,   -999.0,9,-999.0000,  -999.00,9,     0.58,2,     0.16,2,   8.7065
  74DI19980423,  A16N, 13507,  1,     12,     12,2,19980523, 207, 62.5033, -20.0017, 1624,     27.5,   8.5680,  35.2390,2,  35.2380,2,    282.6,2,    285.0,2,     3.43,2,    10.11,2,     0.62,2, -999.000,9, -999.000,9,   -999.0,9,-999.0000,  -999.00,9,     0.47,2,     0.18,2,   8.5651
  74DI19980423,  A16N, 13507,  1,     11,     11,2,19980523, 207, 62.5033, -20.0017, 1624,     52.5,   8.5030,  35.2370,2,  35.2360,2,    282.7,2,    283.0,2,     3.71,2,    10.24,2,     0.65,2, -999.000,9, -999.000,9,   -999.0,9,-999.0000,  -999.00,9,     0.24,2,     0.11,2,   8.4975
  74DI19980423,  A16N, 13507,  1,     10,     10,2,19980523, 207, 62.5033, -20.0017, 1624,     78.0,   8.4870,  35.2360,2,  35.2350,2,    283.7,2,    281.4,2,     3.85,2,    10.53,2,     0.69,2, -999.000,9, -999.000,9,   -999.0,9,-999.0000,  -999.00,9,     0.29,2,     0.28,2,   8.4788
  74DI19980423,  A16N, 13507,  1,      9,      9,2,19980523, 207, 62.5033, -20.0017, 1624,    103.2,   8.4380,  35.2350,2,  35.2350,2,    277.8,2,    280.1,2,     4.15,2,    10.70,2,     0.69,2, -999.000,9, -999.000,9,   -999.0,9,-999.0000,  -999.00,9,     0.44,2,     0.39,2,   8.4272
  74DI19980423,  A16N, 13507,  1,      8,      8,2,19980523, 207, 62.5033, -20.0017, 1624,    204.3,   8.0440,  35.2170,2,  35.2170,2,    263.0,2,    266.2,2,     6.73,2,    13.62,2,     0.82,2, -999.000,9, -999.000,9,   -999.0,9,-999.0000,  -999.00,9,  -999.00,9,  -999.00,9,   8.0232
  74DI19980423,  A16N, 13507,  1,      7,      7,2,19980523, 207, 62.5033, -20.0017, 1624,    406.3,   7.6040,  35.1900,2,  35.1860,2,    265.3,2,    262.4,2,     7.34,2,    14.34,2,     0.89,2, -999.000,9, -999.000,9,   -999.0,9,-999.0000,  -999.00,9,  -999.00,9,  -999.00,9,   7.5634
  74DI19980423,  A16N, 13507,  1,      6,      6,2,19980523, 207, 62.5033, -20.0017, 1624,    608.9,   6.6390,  35.1070,2,  35.1050,2,    244.2,2,    237.4,2,     9.82,2,    16.79,2,     1.03,2, -999.000,9, -999.000,9,   -999.0,9,-999.0000,  -999.00,9,  -999.00,9,  -999.00,9,   6.5818
  74DI19980423,  A16N, 13507,  1,      5,      5,2,19980523, 207, 62.5033, -20.0017, 1624,    811.5,   5.3630,  35.0360,2,  35.0350,2,    246.4,2,    245.5,2,    10.55,2,    17.04,2,     1.06,2, -999.000,9, -999.000,9,   -999.0,9,-999.0000,  -999.00,9,  -999.00,9,  -999.00,9,   5.2935
  74DI19980423,  A16N, 13507,  1,      4,      4,2,19980523, 207, 62.5033, -20.0017, 1624,   1014.7,   4.4160,  34.9770,2,  34.9770,2,    258.7,2,    260.5,2,    10.52,2,    16.77,2,     1.03,2, -999.000,9, -999.000,9,   -999.0,9,-999.0000,  -999.00,9,  -999.00,9,  -999.00,9,   4.3351
  74DI19980423,  A16N, 13507,  1,      3,      3,2,19980523, 207, 62.5033, -20.0017, 1624,   1216.0,   3.8570,  34.9440,2,  34.9450,2,    272.5,2,    272.9,2,    10.21,2,    16.21,2,     0.99,2, -999.000,9, -999.000,9,   -999.0,9,-999.0000,  -999.00,9,  -999.00,9,  -999.00,9,   3.7635
  74DI19980423,  A16N, 13507,  1,      2,      2,2,19980523, 207, 62.5033, -20.0017, 1624,   1420.3,   3.4550,  34.9370,2,  34.9370,2,    277.3,2,    276.7,2,    10.73,2,    16.07,2,     0.98,2, -999.000,9, -999.000,9,   -999.0,9,-999.0000,  -999.00,9,  -999.00,9,  -999.00,9,   3.3479
  74DI19980423,  A16N, 13507,  1,      1,      1,2,19980523, 207, 62.5033, -20.0017, 1624,   1634.7,   3.2920,  34.9730,2,  34.9740,2,    275.8,2,    277.5,2,     9.85,2,    15.15,2,     0.86,2, -999.000,9, -999.000,9,   -999.0,9,-999.0000,  -999.00,9,  -999.00,9,  -999.00,9,   3.1681
  74DI19980423,  A16N, 13508,  1,     16,     16,2,19980523, 647, 62.0033, -19.9917, 1797,      1.7,   9.4780,  35.2790,6,  35.2790,2,    294.4,6,    288.5,2,     3.20,2,     9.20,2,     0.77,2,    4.372,3,    1.716,3,   2327.5,2,   7.8443,    25.00,2,     1.32,2,     0.35,2,   9.4778
  74DI19980423,  A16N, 13508,  1,     15,     15,2,19980523, 647, 62.0033, -19.9917, 1797,      9.7,   9.4790,  35.2800,2,  35.2790,2,    286.3,2,    288.0,2,     3.10,2,     9.15,2,     0.76,2,    3.624,3,    1.587,3,   2328.3,2,   7.8443,    25.00,2,     1.28,2,     0.34,2,   9.4779
  74DI19980423,  A16N, 13508,  1,     14,     14,2,19980523, 647, 62.0033, -19.9917, 1797,     17.9,   9.4700,  35.2800,2,  35.2790,2,    286.3,2,    287.7,2,     3.10,2,     9.22,2,     0.81,2,    3.862,3,    1.488,3,   2328.7,2,   7.8443,    25.00,2,     1.27,2,     0.30,2,   9.4680
  74DI19980423,  A16N, 13508,  1,     13,     13,2,19980523, 647, 62.0033, -19.9917, 1797,     32.8,   9.4540,  35.2790,2,  35.2790,2,    283.2,2,    287.9,2,     3.13,2,     9.28,2,     0.78,2,    2.772,3,    1.743,3,   2328.5,2,   7.8453,    25.00,2,     1.21,2,     0.36,2,   9.4503
  74DI19980423,  A16N, 13508,  1,     12,     12,2,19980523, 647, 62.0033, -19.9917, 1797,     63.1,   9.1020,  35.2820,2,  35.2790,2,    280.8,2,    280.0,2,     2.95,2,     9.95,2,     0.81,2,    3.675,2,    1.964,2,   2330.7,2,   7.8273,    25.00,2,     0.38,2,     0.18,2,   9.0951
  74DI19980423,  A16N, 13508,  1,     11,     11,2,19980523, 647, 62.0033, -19.9917, 1797,     94.1,   8.9890,  35.2700,2,  35.2680,2,    275.2,2,    282.2,2,     2.66,2,     9.73,2,     0.80,2,    3.213,2,    1.490,3,   -999.0,9,-999.0000,  -999.00,9,     0.36,2,     0.30,2,   8.9788
  74DI19980423,  A16N, 13508,  1,     10,     10,2,19980523, 647, 62.0033, -19.9917, 1797,    224.8,   8.5550,  35.2650,2,  35.2640,2,    271.7,2,    271.6,2,     5.93,2,    12.74,2,     0.87,2,    4.078,2,    2.073,2,   2333.8,2,   7.7943,    25.00,2,  -999.00,9,  -999.00,9,   8.5312
  74DI19980423,  A16N, 13508,  1,      9,      9,2,19980523, 647, 62.0033, -19.9917, 1797,    351.8,   8.3510,  35.2550,2,  35.2530,2,    273.3,2,    271.1,2,     6.12,2,    13.13,2,     0.88,2,    4.265,2,    1.993,2,   2330.5,2,   7.7893,    25.00,2,  -999.00,9,  -999.00,9,   8.3140
  74DI19980423,  A16N, 13508,  1,      8,      8,2,19980523, 647, 62.0033, -19.9917, 1797,    504.4,   8.0150,  35.2280,2,  35.2280,2,    270.2,2,    271.3,2,     6.61,2,    13.60,2,     0.93,2,    3.819,2,    1.785,2,   2326.9,2,   7.7833,    25.00,2,  -999.00,9,  -999.00,9,   7.9627
  74DI19980423,  A16N, 13508,  1,      7,      7,2,19980523, 647, 62.0033, -19.9917, 1797,    708.2,   6.9280,  35.1210,2,  35.1200,2,    246.7,2,    239.3,2,     9.54,2,    16.81,2,     1.14,2,    2.811,3,    1.400,3,   2321.4,2,   7.7303,    25.00,2,  -999.00,9,  -999.00,9,   6.8595
  74DI19980423,  A16N, 13508,  1,      6,      6,2,19980523, 647, 62.0033, -19.9917, 1797,    911.7,   5.3100,  35.0230,2,  35.0220,2,    243.3,2,    239.6,2,    11.35,2,    18.18,2,     1.13,2,    2.766,2,    1.338,2,   2316.8,2,   7.7013,    25.00,2,  -999.00,9,  -999.00,9,   5.2317
  74DI19980423,  A16N, 13508,  1,      5,      5,2,19980523, 647, 62.0033, -19.9917, 1797,   1115.1,   4.2800,  34.9560,2,  34.9560,2,    260.1,2,    260.1,2,    11.18,2,    17.68,2,     1.11,2,    2.961,2,    1.345,2,   2313.7,2,   7.7033,    25.00,2,  -999.00,9,  -999.00,9,   4.1914
  74DI19980423,  A16N, 13508,  1,      4,      4,2,19980523, 647, 62.0033, -19.9917, 1797,   1319.1,   3.6830,  34.9090,2,  34.9090,2,    274.6,2,    273.5,2,    11.11,2,    17.30,2,     1.12,2,    2.739,2,    1.373,2,   2306.4,2,   7.7073,    25.00,2,  -999.00,9,  -999.00,9,   3.5823
  74DI19980423,  A16N, 13508,  1,      3,      3,2,19980523, 647, 62.0033, -19.9917, 1797,   1522.9,   3.4810,  34.9190,2,  34.9200,2,    280.5,2,    281.1,2,    10.51,2,    16.31,2,     1.09,2,    2.962,2,    1.399,2,   2306.2,2,   7.7163,    25.00,2,  -999.00,9,  -999.00,9,   3.3648
  74DI19980423,  A16N, 13508,  1,      2,      2,2,19980523, 647, 62.0033, -19.9917, 1797,   1727.1,   3.1780,  34.9750,2,  22.3940,0,    279.5,2,    280.5,2,     9.99,2,    15.24,2,     0.97,2,    3.498,2,    1.634,2,   2309.8,2,   7.7216,    25.00,2,  -999.00,9,  -999.00,9,   3.0474
  74DI19980423,  A16N, 13508,  1,      1,      1,2,19980523, 647, 62.0033, -19.9917, 1797,   1810.3,   2.8360,  34.9720,2,  34.9740,2,    278.1,2,    281.4,2,    10.32,2,    15.03,2,     0.90,2,    2.999,2,    1.684,2,   -999.0,9,-999.0000,  -999.00,9,  -999.00,9,  -999.00,9,   2.7026
  74DI19980423,  A16N, 13509,  1,     19,     19,2,19980523,1132, 61.4950, -20.0017, 2220,      0.5,   9.6390,  35.2800,2,  35.2820,2,    293.8,6,    294.0,2,     1.46,2,     7.85,2,     0.49,2, -999.000,9, -999.000,9,   -999.0,9,-999.0000,  -999.00,9,     1.14,2,     0.27,2,   9.6389
  74DI19980423,  A16N, 13509,  1,     18,     18,2,19980523,1132, 61.4950, -20.0017, 2220,     14.1,   9.6230,  35.2830,2,  35.2820,2,    293.4,2,    293.8,2,     1.49,2,     7.86,2,     0.52,2, -999.000,9, -999.000,9,   -999.0,9,-999.0000,  -999.00,9,     1.18,2,     0.24,2,   9.6214
  74DI19980423,  A16N, 13509,  1,     17,     17,2,19980523,1132, 61.4950, -20.0017, 2220,     24.2,   9.6020,  35.2830,2,  35.2810,2,    287.9,2,    294.1,2,     1.46,2,     7.81,2,     0.55,2, -999.000,9, -999.000,9,   -999.0,9,-999.0000,  -999.00,9,     1.25,2,     0.23,2,   9.5993
  74DI19980423,  A16N, 13509,  1,     16,     16,2,19980523,1132, 61.4950, -20.0017, 2220,     44.7,   9.1740,  35.2810,2,  35.2790,2,    284.9,2,    281.4,2,     2.27,2,     9.00,2,     0.66,2, -999.000,9, -999.000,9,   -999.0,9,-999.0000,  -999.00,9,     0.68,2,     0.26,2,   9.1691
  74DI19980423,  A16N, 13509,  1,     15,     15,2,19980523,1132, 61.4950, -20.0017, 2220,     85.1,   9.0840,  35.2760,2,  35.2750,2,    278.2,2,    281.3,2,     2.30,2,     8.94,2,     0.65,2, -999.000,9, -999.000,9,   -999.0,9,-999.0000,  -999.00,9,     1.25,2,     0.26,2,   9.0747
  74DI19980423,  A16N, 13509,  1,     14,     14,2,19980523,1132, 61.4950, -20.0017, 2220,    124.8,   8.9840,  35.2730,2,  35.2710,2,    272.5,2,    276.3,2,     3.59,2,    10.01,2,     0.73,2, -999.000,9, -999.000,9,   -999.0,9,-999.0000,  -999.00,9,     0.30,2,     0.16,2,   8.9705
  74DI19980423,  A16N, 13509,  1,     13,     13,2,19980523,1132, 61.4950, -20.0017, 2220,    243.2,   8.5910,  35.2600,2,  35.2590,2,    264.9,2,    265.1,2,     6.25,2,    12.68,2,     0.87,2, -999.000,9, -999.000,9,   -999.0,9,-999.0000,  -999.00,9,  -999.00,9,  -999.00,9,   8.5651
  74DI19980423,  A16N, 13509,  1,     12,     12,2,19980523,1132, 61.4950, -20.0017, 2220,    325.3,   8.4130,  35.2470,2,  35.2450,2,    273.4,2,    265.7,2,     6.43,2,    13.02,2,     0.90,2, -999.000,9, -999.000,9,   -999.0,9,-999.0000,  -999.00,9,  -999.00,9,  -999.00,9,   8.3787
  74DI19980423,  A16N, 13509,  1,     11,     11,2,19980523,1132, 61.4950, -20.0017, 2220,    508.4,   7.9120,  35.1960,2,  35.1950,2,    256.5,2,    257.1,2,     7.34,2,    14.00,2,     0.99,2, -999.000,9, -999.000,9,   -999.0,9,-999.0000,  -999.00,9,  -999.00,9,  -999.00,9,   7.8597
  74DI19980423,  A16N, 13509,  1,     10,     10,2,19980523,1132, 61.4950, -20.0017, 2220,    761.0,   6.4030,  35.0820,2,  35.0810,2,    230.4,2,    226.0,2,    10.92,2,    17.47,2,     1.22,2, -999.000,9, -999.000,9,   -999.0,9,-999.0000,  -999.00,9,  -999.00,9,  -999.00,9,   6.3321
  74DI19980423,  A16N, 13509,  1,      9,      9,2,19980523,1132, 61.4950, -20.0017, 2220,    964.5,   5.2540,  35.0200,2,  35.0190,2,    241.1,2,    239.0,2,    11.29,2,    17.50,2,     1.24,2, -999.000,9, -999.000,9,   -999.0,9,-999.0000,  -999.00,9,  -999.00,9,  -999.00,9,   5.1712
  74DI19980423,  A16N, 13509,  1,      8,      8,2,19980523,1132, 61.4950, -20.0017, 2220,   1162.7,   4.2960,  34.9510,2,  34.9510,2,    254.7,2,    256.1,2,    11.48,2,    17.28,2,     1.25,2, -999.000,9, -999.000,9,   -999.0,9,-999.0000,  -999.00,9,  -999.00,9,  -999.00,9,   4.2031
  74DI19980423,  A16N, 13509,  1,      7,      7,2,19980523,1132, 61.4950, -20.0017, 2220,   1365.3,   3.8160,  34.9160,2,  34.9160,2,    266.6,2,    269.0,2,    11.18,2,    16.76,2,     1.22,2, -999.000,9, -999.000,9,   -999.0,9,-999.0000,  -999.00,9,  -999.00,9,  -999.00,9,   3.7099
  74DI19980423,  A16N, 13509,  1,      6,      6,2,19980523,1132, 61.4950, -20.0017, 2220,   1568.6,   3.5440,  34.9000,2,  34.8990,2,    274.7,2,    276.6,2,    11.05,2,    16.43,2,     1.21,2, -999.000,9, -999.000,9,   -999.0,9,-999.0000,  -999.00,9,  -999.00,9,  -999.00,9,   3.4231
  74DI19980423,  A16N, 13509,  1,      5,      5,2,19980523,1132, 61.4950, -20.0017, 2220,   1748.9,   3.3810,  34.8980,2,  34.8970,2,    279.2,2,    280.6,2,    11.03,2,    16.18,2,     1.21,2, -999.000,9, -999.000,9,   -999.0,9,-999.0000,  -999.00,9,  -999.00,9,  -999.00,9,   3.2460
  74DI19980423,  A16N, 13509,  1,      4,      4,2,19980523,1132, 61.4950, -20.0017, 2220,   1813.1,   3.6120,  34.9540,2,  34.9530,2,    279.4,2,    278.7,2,     9.95,2,    15.26,2,     1.10,2, -999.000,9, -999.000,9,   -999.0,9,-999.0000,  -999.00,9,  -999.00,9,  -999.00,9,   3.4678
  74DI19980423,  A16N, 13509,  1,      3,      3,2,19980523,1132, 61.4950, -20.0017, 2220,   1977.0,   3.3990,  34.9640,2,  34.9640,2,    276.7,2,    275.4,2,    10.94,2,    15.62,2,     1.10,2, -999.000,9, -999.000,9,   -999.0,9,-999.0000,  -999.00,9,  -999.00,9,  -999.00,9,   3.2425
  74DI19980423,  A16N, 13509,  1,      2,      2,2,19980523,1132, 61.4950, -20.0017, 2220,   2182.3,   2.8070,  34.9710,2,  34.9720,2,    279.8,2,    276.9,2,    12.13,2,    15.56,2,     1.08,2, -999.000,9, -999.000,9,   -999.0,9,-999.0000,  -999.00,9,  -999.00,9,  -999.00,9,   2.6406
  74DI19980423,  A16N, 13509,  1,      1,      1,2,19980523,1132, 61.4950, -20.0017, 2220,   2243.2,   2.7250,  34.9780,2,  34.9780,2,    282.1,2,    284.1,2,     9.46,2,    14.71,2,     0.93,2, -999.000,9, -999.000,9,   -999.0,9,-999.0000,  -999.00,9,  -999.00,9,  -999.00,9,   2.5542