BOTTLE,20221006CCHSIOCBG
EXPOCODE,SECT_ID,STNNBR,CASTNO,SAMPNO,BTLNBR,BTLNBR_FLAG_W,DATE,TIME,LATITUDE,LONGITUDE,DEPTH,CTDPRS,CTDTMP,CTDSAL,CTDSAL_FLAG_W,SALNTY,SALNTY_FLAG_W,CTDOXY,CTDOXY_FLAG_W,OXYGEN,OXYGEN_FLAG_W,SILCAT,SILCAT_FLAG_W,NITRAT,NITRAT_FLAG_W,PHSPHT,PHSPHT_FLAG_W,CFC-11,CFC-11_FLAG_W,CFC-12,CFC-12_FLAG_W,ALKALI,ALKALI_FLAG_W,PH_SWS,PH_TEMP,PH_SWS_FLAG_W,CHLORA,CHLORA_FLAG_W,PPHYTN,PPHYTN_FLAG_W,THETA
,,,,,,,,,,,METERS,DBAR,ITS-90,PSS-78,,PSS-78,,UMOL/KG,,UMOL/KG,,UMOL/KG,,UMOL/KG,,UMOL/KG,,PMOL/KG,,PMOL/KG,,UMOL/KG,,,DEGC,,UG/L,,UG/L,,DEGC
  74DI19980423,  A16N, 13472,  1,     22,     22,2,19980513,1937, 47.9967, -19.9850, 4352,      1.5,  13.7030,  35.6560,6,  35.6600,2,    278.6,6,    281.2,2,     1.73,2,     3.42,2,     0.10,2,    3.312,2,    1.489,2,   2353.2,6,   7.9373,    25.00,2,     0.94,2,     0.25,2,  13.7028
  74DI19980423,  A16N, 13472,  1,     21,     21,2,19980513,1937, 47.9967, -19.9850, 4352,     14.5,  12.9700,  35.6610,2,  35.6600,2,    272.6,2,    277.5,2,     2.18,2,     5.17,2,     0.21,2,    3.878,2,    1.840,2,   2354.5,2,   7.9133,    25.00,2,     0.78,2,     0.25,2,  12.9680
  74DI19980423,  A16N, 13472,  1,     20,     20,2,19980513,1937, 47.9967, -19.9850, 4352,     29.3,  12.5860,  35.6650,2,  35.6620,2,    276.0,2,    255.3,2,     2.99,2,     7.47,2,     0.36,2,    4.122,2,    1.987,2,   2350.8,2,   7.8873,    25.00,2,     0.86,2,     0.34,2,  12.5821
  74DI19980423,  A16N, 13472,  1,     19,     19,2,19980513,1937, 47.9967, -19.9850, 4352,     54.6,  12.4960,  35.6600,2,  35.6600,2,    257.6,2,    252.6,2,     3.15,2,     8.13,2,     0.38,2,    2.956,3,    1.129,3,   2350.4,2,   7.8753,    25.00,2,     0.29,2,     0.12,2,  12.4887
  74DI19980423,  A16N, 13472,  1,     18,     18,2,19980513,1937, 47.9967, -19.9850, 4352,     79.0,  12.3950,  35.6430,2,  35.6420,2,    250.8,2,    252.2,2,     3.20,2,     8.35,2,     0.42,2,    2.236,3,    1.220,3,   2350.1,2,   7.8723,    25.00,2,     0.07,2,     0.05,2,  12.3845
  74DI19980423,  A16N, 13472,  1,     17,     17,2,19980513,1937, 47.9967, -19.9850, 4352,    104.5,  12.2930,  35.6260,2,  35.6250,2,    251.7,2,    252.3,2,     3.33,2,     8.37,2,     0.42,2,    3.468,2,    1.714,2,   2346.6,2,   7.8713,    25.00,2,     0.03,2,     0.01,2,  12.2791
  74DI19980423,  A16N, 13472,  1,     16,     16,2,19980513,1937, 47.9967, -19.9850, 4352,    154.0,  12.1530,  35.6260,2,  35.6240,2,    251.3,2,    256.8,2,     3.17,2,     8.14,2,     0.42,2,    0.097,3,    2.788,3,   2348.0,2,   7.8723,    25.00,2,     0.12,2,     0.10,2,  12.1326
  74DI19980423,  A16N, 13472,  1,     15,     15,2,19980513,1937, 47.9967, -19.9850, 4352,    206.1,  12.0860,  35.6230,2,  35.6220,2,    250.7,2,    256.5,2,     3.23,2,     8.30,2,     0.45,2, -999.000,9, -999.000,9,   2345.7,2,   7.8713,    25.00,2,  -999.00,9,  -999.00,9,  12.0588
  74DI19980423,  A16N, 13472,  1,     14,     14,2,19980513,1937, 47.9967, -19.9850, 4352,    405.8,  11.3150,  35.5170,2,  35.5130,2,    241.9,2,    244.4,2,     4.40,2,    10.83,2,     0.63,2, -999.000,9, -999.000,9,   2340.5,2,   7.8353,    25.00,2,  -999.00,9,  -999.00,9,  11.2633
  74DI19980423,  A16N, 13472,  1,     13,     13,2,19980513,1937, 47.9967, -19.9850, 4352,    605.1,   9.6650,  35.3040,2,  35.3060,2,    205.8,2,    211.0,2,     7.97,2,    16.09,2,     0.97,2, -999.000,9, -999.000,9,   2330.8,2,   7.7623,    25.00,2,  -999.00,9,  -999.00,9,   9.5945
  74DI19980423,  A16N, 13472,  1,     12,     12,2,19980513,1937, 47.9967, -19.9850, 4352,    808.0,   7.7390,  35.2000,2,  35.1990,2,    197.9,2,    196.5,2,    11.10,2,    19.25,2,     1.19,2,    1.518,3,    0.663,3,   2329.0,2,   7.7083,    25.00,2,  -999.00,9,  -999.00,9,   7.6553
  74DI19980423,  A16N, 13472,  1,     11,     11,2,19980513,1937, 47.9967, -19.9850, 4352,   1010.9,   6.3930,  35.1850,2,  35.1860,2,    220.6,2,    218.4,2,    11.52,2,    18.79,2,     1.15,2,    2.233,2,    0.739,3,   2333.6,2,   7.7073,    25.00,2,  -999.00,9,  -999.00,9,   6.2970
  74DI19980423,  A16N, 13472,  1,     10,     10,2,19980513,1937, 47.9967, -19.9850, 4352,   1264.0,   4.5510,  34.9940,2,  34.9940,2,    253.1,2,    251.2,2,    11.53,2,    18.32,2,     1.14,2,    2.657,3,    1.027,2,   2317.1,2,   7.6993,    25.00,2,  -999.00,9,  -999.00,9,   4.4466
  74DI19980423,  A16N, 13472,  1,      9,      9,2,19980513,1937, 47.9967, -19.9850, 4352,   1517.0,   3.7320,  34.9110,2,  34.9120,2,    270.5,2,    270.6,2,    11.27,2,    17.76,2,     1.10,2,    2.947,3,    1.439,3,   2314.0,2,   7.7043,    25.00,2,  -999.00,9,  -999.00,9,   3.6134
  74DI19980423,  A16N, 13472,  1,      8,      8,2,19980513,1937, 47.9967, -19.9850, 4352,   1772.2,   3.4500,  34.8910,2,  34.8920,2,    278.9,2,    278.3,2,    11.23,2,    17.40,2,     1.08,2,    1.762,2,    0.892,2,   -999.0,9,-999.0000,  -999.00,9,  -999.00,9,  -999.00,9,   3.3120
  74DI19980423,  A16N, 13472,  1,      7,      7,2,19980513,1937, 47.9967, -19.9850, 4352,   2026.9,   3.3150,  34.8910,2,  34.8920,2,    282.0,2,    281.8,2,    11.51,2,    17.15,2,     1.08,2, -999.000,9, -999.000,9,   2313.8,2,   7.7143,    25.00,2,  -999.00,9,  -999.00,9,   3.1554
  74DI19980423,  A16N, 13472,  1,      6,      6,2,19980513,1937, 47.9967, -19.9850, 4352,   2280.7,   3.2870,  34.9110,2,  34.9110,2,    277.6,2,    277.3,2,    12.64,2,    16.75,2,     1.10,2, -999.000,9, -999.000,9,   -999.0,9,-999.0000,  -999.00,9,  -999.00,9,  -999.00,9,   3.1035
  74DI19980423,  A16N, 13472,  1,      5,      5,2,19980513,1937, 47.9967, -19.9850, 4352,   2534.0,   3.2230,  34.9380,2,  34.9380,2,    270.4,2,    272.8,2,    15.14,2,    16.90,2,     0.90,3, -999.000,9, -999.000,9,   2319.4,2,   7.7193,    25.00,2,  -999.00,9,  -999.00,9,   3.0156
  74DI19980423,  A16N, 13472,  1,      4,      4,2,19980513,1937, 47.9967, -19.9850, 4352,   3042.9,   2.8560,  34.9460,2,  34.9460,2,    257.1,2,    256.2,2,    26.78,2,    18.91,2,     0.98,3, -999.000,9, -999.000,9,   2331.7,2,   7.7163,    25.00,2,  -999.00,9,  -999.00,9,   2.6038
  74DI19980423,  A16N, 13472,  1,      3,      3,2,19980513,1937, 47.9967, -19.9850, 4352,   3555.4,   2.6100,  34.9230,2,  34.9230,2,    245.3,2,    244.6,2,    38.91,2,    21.11,2,     1.23,3, -999.000,9, -999.000,9,   2354.8,2,   7.7153,    25.00,2,  -999.00,9,  -999.00,9,   2.3087
  74DI19980423,  A16N, 13472,  1,      2,      2,2,19980513,1937, 47.9967, -19.9850, 4352,   4068.4,   2.5440,  34.9120,2,  34.9120,2,    240.3,2,    240.2,2,    43.53,2,    21.95,2,     1.29,2,    0.081,2,    0.041,2,   2355.2,2,   7.7173,    25.00,2,  -999.00,9,  -999.00,9,   2.1865
  74DI19980423,  A16N, 13472,  1,      1,      1,2,19980513,1937, 47.9967, -19.9850, 4352,   4432.0,   2.5560,  34.9090,2,  34.9090,2,    238.0,2,    238.6,2,    43.86,2,    21.73,2,     1.23,2,    0.043,2,    0.021,2,   2359.4,2,   7.7083,    25.00,2,  -999.00,9,  -999.00,9,   2.1551
  74DI19980423,  A16N, 13473,  1,     23,     23,2,19980514, 204, 48.5017, -19.9967, 4038,      1.4,  12.8720,  35.5230,6,  35.5210,2,   -999.0,9,    295.9,2,     2.26,2,     3.41,2,     0.11,2, -999.000,9, -999.000,9,   -999.0,9,-999.0000,  -999.00,9,     1.69,2,     0.37,2,  12.8718
  74DI19980423,  A16N, 13473,  1,     22,     22,2,19980514, 204, 48.5017, -19.9967, 4038,     18.3,  12.1050,  35.5000,2,  35.5000,2,    294.7,2,    296.0,2,     2.92,2,     4.66,2,     0.19,2, -999.000,9, -999.000,9,   -999.0,9,-999.0000,  -999.00,9,     1.63,2,     0.46,2,  12.1026
  74DI19980423,  A16N, 13473,  1,     21,     21,2,19980514, 204, 48.5017, -19.9967, 4038,     30.7,  11.9180,  35.5250,2,  35.5190,2,    290.2,2,    284.9,2,     3.15,2,     6.05,2,     0.27,2, -999.000,9, -999.000,9,   -999.0,9,-999.0000,  -999.00,9,     1.02,2,     0.38,2,  11.9140
  74DI19980423,  A16N, 13473,  1,     20,     20,2,19980514, 204, 48.5017, -19.9967, 4038,     56.4,  11.4800,  35.5400,2,  35.5390,2,    263.8,2,    266.2,2,     3.49,2,     8.79,2,     0.42,2, -999.000,9, -999.000,9,   -999.0,9,-999.0000,  -999.00,9,     0.23,2,     0.09,2,  11.4729
  74DI19980423,  A16N, 13473,  1,     19,     19,2,19980514, 204, 48.5017, -19.9967, 4038,     80.8,  11.4260,  35.5400,2,  35.5370,2,    265.2,2,    263.7,2,     3.62,2,     9.26,2,     0.45,2, -999.000,9, -999.000,9,   -999.0,9,-999.0000,  -999.00,9,     0.05,2,     0.03,2,  11.4158
  74DI19980423,  A16N, 13473,  1,     18,     18,2,19980514, 204, 48.5017, -19.9967, 4038,    106.8,  11.4070,  35.5420,2,  35.5430,2,    259.6,2,    262.8,2,     3.62,2,     9.40,2,     0.47,2, -999.000,9, -999.000,9,   -999.0,9,-999.0000,  -999.00,9,     0.03,2,     0.02,2,  11.3935
  74DI19980423,  A16N, 13473,  1,     17,     17,2,19980514, 204, 48.5017, -19.9967, 4038,    157.1,  11.1290,  35.4930,2,  35.4910,2,    260.1,2,    260.6,2,     3.96,2,     9.99,2,     0.52,2, -999.000,9, -999.000,9,   -999.0,9,-999.0000,  -999.00,9,  -999.00,9,  -999.00,9,  11.1094
  74DI19980423,  A16N, 13473,  1,     16,     16,2,19980514, 204, 48.5017, -19.9967, 4038,    207.1,  10.8920,  35.4580,2,  35.4560,2,    259.4,2,    261.5,2,     4.23,2,    10.30,2,     0.54,2, -999.000,9, -999.000,9,   -999.0,9,-999.0000,  -999.00,9,  -999.00,9,  -999.00,9,  10.8665
  74DI19980423,  A16N, 13473,  1,     15,     15,2,19980514, 204, 48.5017, -19.9967, 4038,    409.3,   9.9460,  35.3470,2,  35.3460,2,    230.3,2,    228.0,2,     6.79,2,    14.75,2,     0.83,2, -999.000,9, -999.000,9,   -999.0,9,-999.0000,  -999.00,9,  -999.00,9,  -999.00,9,   9.8979
  74DI19980423,  A16N, 13473,  1,     14,     14,2,19980514, 204, 48.5017, -19.9967, 4038,    609.9,   7.8410,  35.1360,2,  35.1330,2,    212.1,2,    209.7,2,    10.47,2,    18.74,2,     1.09,2, -999.000,9, -999.000,9,   -999.0,9,-999.0000,  -999.00,9,  -999.00,9,  -999.00,9,   7.7782
  74DI19980423,  A16N, 13473,  1,     13,     13,2,19980514, 204, 48.5017, -19.9967, 4038,    812.2,   6.5970,  35.1760,2,  35.1760,2,    220.2,2,    219.2,2,    11.38,2,    18.88,2,     1.10,2, -999.000,9, -999.000,9,   -999.0,9,-999.0000,  -999.00,9,  -999.00,9,  -999.00,9,   6.5198
  74DI19980423,  A16N, 13473,  1,     12,     12,2,19980514, 204, 48.5017, -19.9967, 4038,   1015.2,   5.2220,  35.0660,2,  35.0660,2,    241.5,2,    242.6,2,    11.46,2,    18.57,2,     1.09,2, -999.000,9, -999.000,9,   -999.0,9,-999.0000,  -999.00,9,  -999.00,9,  -999.00,9,   5.1347
  74DI19980423,  A16N, 13473,  1,     11,     11,2,19980514, 204, 48.5017, -19.9967, 4038,   1269.1,   4.0950,  34.9460,2,  34.9460,2,    265.2,2,    266.1,2,    11.21,2,    18.01,2,     1.05,2, -999.000,9, -999.000,9,   -999.0,9,-999.0000,  -999.00,9,  -999.00,9,  -999.00,9,   3.9946
  74DI19980423,  A16N, 13473,  1,     10,     10,2,19980514, 204, 48.5017, -19.9967, 4038,   1523.1,   3.6190,  34.9040,2,  34.9040,2,    278.6,2,    278.8,2,    11.17,2,    17.54,2,     1.02,2, -999.000,9, -999.000,9,   -999.0,9,-999.0000,  -999.00,9,  -999.00,9,  -999.00,9,   3.5012
  74DI19980423,  A16N, 13473,  1,      9,      9,2,19980514, 204, 48.5017, -19.9967, 4038,   1775.8,   3.3870,  34.8930,2,  34.8940,2,    284.9,2,    284.4,2,    11.29,2,    17.21,2,     1.00,2, -999.000,9, -999.000,9,   -999.0,9,-999.0000,  -999.00,9,  -999.00,9,  -999.00,9,   3.2495
  74DI19980423,  A16N, 13473,  1,      8,      8,2,19980514, 204, 48.5017, -19.9967, 4038,   2028.3,   3.3130,  34.9060,2,  34.9060,2,    284.3,2,    283.2,2,    12.17,2,    17.12,2,     1.00,2, -999.000,9, -999.000,9,   -999.0,9,-999.0000,  -999.00,9,  -999.00,9,  -999.00,9,   3.1532
  74DI19980423,  A16N, 13473,  1,      7,      7,2,19980514, 204, 48.5017, -19.9967, 4038,   2282.9,   3.2670,  34.9360,2,  34.9350,2,    275.6,2,    276.3,2,    14.73,2,    17.24,2,     1.01,2, -999.000,9, -999.000,9,   -999.0,9,-999.0000,  -999.00,9,  -999.00,9,  -999.00,9,   3.0836
  74DI19980423,  A16N, 13473,  1,      6,      6,2,19980514, 204, 48.5017, -19.9967, 4038,   2540.0,   3.1250,  34.9490,2,  34.9490,2,    270.1,2,    271.0,2,    18.33,2,    17.77,2,     1.06,2, -999.000,9, -999.000,9,   -999.0,9,-999.0000,  -999.00,9,  -999.00,9,  -999.00,9,   2.9187
  74DI19980423,  A16N, 13473,  1,      5,      5,2,19980514, 204, 48.5017, -19.9967, 4038,   2794.1,   2.9500,  34.9510,2,  34.9510,2,    263.7,2,    263.3,2,    24.73,2,    18.85,2,     1.14,2, -999.000,9, -999.000,9,   -999.0,9,-999.0000,  -999.00,9,  -999.00,9,  -999.00,9,   2.7215
  74DI19980423,  A16N, 13473,  1,      4,      4,2,19980514, 204, 48.5017, -19.9967, 4038,   3051.1,   2.7880,  34.9430,2,  34.9420,2,    257.2,2,    257.5,2,    30.72,2,    19.82,2,     1.25,2, -999.000,9, -999.000,9,   -999.0,9,-999.0000,  -999.00,9,  -999.00,9,  -999.00,9,   2.5364
  74DI19980423,  A16N, 13473,  1,      3,      3,2,19980514, 204, 48.5017, -19.9967, 4038,   3306.9,   2.6570,  34.9310,2,  34.9310,2,    252.6,2,    251.7,2,    36.43,2,    20.90,2,     1.27,2, -999.000,9, -999.000,9,   -999.0,9,-999.0000,  -999.00,9,  -999.00,9,  -999.00,9,   2.3814
  74DI19980423,  A16N, 13473,  1,      2,      2,2,19980514, 204, 48.5017, -19.9967, 4038,   3563.4,   2.5630,  34.9200,2,  34.9190,2,    248.8,2,    248.1,2,    40.80,2,    21.58,2,     1.31,2, -999.000,9, -999.000,9,   -999.0,9,-999.0000,  -999.00,9,  -999.00,9,  -999.00,9,   2.2620
  74DI19980423,  A16N, 13473,  1,      1,      1,2,19980514, 204, 48.5017, -19.9967, 4038,   4100.1,   2.5190,  34.9090,2,  34.9100,2,    243.5,2,    245.0,2,    43.57,2,    21.75,2,     1.25,2, -999.000,9, -999.000,9,   -999.0,9,-999.0000,  -999.00,9,  -999.00,9,  -999.00,9,   2.1585