BOTTLE,20221006CCHSIOCBG
EXPOCODE,SECT_ID,STNNBR,CASTNO,SAMPNO,BTLNBR,BTLNBR_FLAG_W,DATE,TIME,LATITUDE,LONGITUDE,DEPTH,CTDPRS,CTDTMP,CTDSAL,CTDSAL_FLAG_W,SALNTY,SALNTY_FLAG_W,CTDOXY,CTDOXY_FLAG_W,OXYGEN,OXYGEN_FLAG_W,SILCAT,SILCAT_FLAG_W,NITRAT,NITRAT_FLAG_W,PHSPHT,PHSPHT_FLAG_W,CFC-11,CFC-11_FLAG_W,CFC-12,CFC-12_FLAG_W,ALKALI,ALKALI_FLAG_W,PH_SWS,PH_TEMP,PH_SWS_FLAG_W,CHLORA,CHLORA_FLAG_W,PPHYTN,PPHYTN_FLAG_W,THETA
,,,,,,,,,,,METERS,DBAR,ITS-90,PSS-78,,PSS-78,,UMOL/KG,,UMOL/KG,,UMOL/KG,,UMOL/KG,,UMOL/KG,,PMOL/KG,,PMOL/KG,,UMOL/KG,,,DEGC,,UG/L,,UG/L,,DEGC
  74DI19980423,  A16N, 13478,  1,     23,     23,2,19980515,1030, 50.9967, -20.0033, 3650,      7.5,  12.3700,  35.4930,2,  35.4920,2,    283.1,2,    284.0,2,     1.91,2,     4.68,2,     0.09,2,    3.671,3,    1.246,3,   2343.5,2,   7.9133,    25.00,2,     1.20,2,     0.23,2,  12.3690
  74DI19980423,  A16N, 13478,  1,     22,     22,2,19980515,1030, 50.9967, -20.0033, 3650,     13.8,  12.3230,  35.4920,2,  35.4910,2,    282.9,2,    282.8,2,     1.87,2,     4.73,2,     0.14,2, -999.000,9, -999.000,9,   2341.9,2,   7.9103,    25.00,2,     1.41,2,     0.34,2,  12.3212
  74DI19980423,  A16N, 13478,  1,     21,     21,2,19980515,1030, 50.9967, -20.0033, 3650,     23.7,  12.2120,  35.4920,2,  35.4900,2,    282.5,2,    281.1,2,     1.96,2,     4.87,2,     0.14,2,    2.330,3,    0.951,3,   2340.5,2,   7.9063,    25.00,2,     1.18,2,     0.33,2,  12.2089
  74DI19980423,  A16N, 13478,  1,     20,     20,2,19980515,1030, 50.9967, -20.0033, 3650,     33.8,  11.8330,  35.5060,2,  35.4770,2,    275.2,2,    275.8,2,     2.65,2,     6.04,2,     0.26,2,    2.731,3,    1.288,3,   2341.1,2,   7.8873,    25.00,2,     0.86,2,     0.31,2,  11.8286
  74DI19980423,  A16N, 13478,  1,     19,     19,2,19980515,1030, 50.9967, -20.0033, 3650,     63.3,  10.9940,  35.4420,2,  35.4370,2,    264.9,2,    264.1,2,     3.66,2,     8.08,2,     0.49,2,    1.772,3,    1.289,3,   2337.0,2,   7.8513,    25.00,2,     0.16,2,     0.13,2,  10.9862
  74DI19980423,  A16N, 13478,  1,     18,     18,2,19980515,1030, 50.9967, -20.0033, 3650,     94.4,  10.9470,  35.4650,2,  35.4600,2,    256.6,2,    258.6,2,     3.70,2,     9.80,2,     0.53,2, -999.000,9, -999.000,9,   2334.8,2,   7.8433,    25.00,2,     0.05,2,     0.03,2,  10.9354
  74DI19980423,  A16N, 13478,  1,     17,     17,2,19980515,1030, 50.9967, -20.0033, 3650,    114.4,  10.7730,  35.4420,2,  35.4410,2,    255.6,2,    256.4,2,     3.98,2,    10.19,2,     0.56,2,    3.928,3,    1.227,3,   2332.9,2,   7.8363,    25.00,2,  -999.00,9,  -999.00,9,  10.7591
  74DI19980423,  A16N, 13478,  1,     16,     16,2,19980515,1030, 50.9967, -20.0033, 3650,    145.2,  10.6920,  35.4460,2,  35.4450,2,    250.3,2,    244.6,2,     4.19,2,    11.36,2,     0.67,2, -999.000,9, -999.000,9,   2334.1,2,   7.8193,    25.00,2,  -999.00,9,  -999.00,9,  10.6744
  74DI19980423,  A16N, 13478,  1,     15,     15,2,19980515,1030, 50.9967, -20.0033, 3650,    184.4,  10.5350,  35.4280,2,  35.4270,2,    244.8,2,    248.4,2,     4.22,2,    11.21,2,     0.53,2, -999.000,9, -999.000,9,   2332.4,2,   7.8183,    25.00,2,  -999.00,9,  -999.00,9,  10.5128
  74DI19980423,  A16N, 13478,  1,     14,     14,2,19980515,1030, 50.9967, -20.0033, 3650,    224.9,  10.3930,  35.4060,2,  35.4050,2,    246.9,2,    243.3,2,     4.71,2,    11.86,2,     0.63,2,    0.097,3,    0.097,3,   2332.5,2,   7.8103,    25.00,2,  -999.00,9,  -999.00,9,  10.3661
  74DI19980423,  A16N, 13478,  1,     13,     13,2,19980515,1030, 50.9967, -20.0033, 3650,    355.9,   9.3570,  35.2650,2,  35.2640,2,    219.6,2,    213.6,2,     7.58,2,    16.30,2,     0.98,2, -999.000,9, -999.000,9,   2327.5,2,   7.7573,    25.00,2,  -999.00,9,  -999.00,9,   9.3169
  74DI19980423,  A16N, 13478,  1,     12,     12,2,19980515,1030, 50.9967, -20.0033, 3650,    507.6,   8.1270,  35.1470,2,  35.1470,2,    200.7,2,    203.6,2,     9.62,2,    18.64,2,     1.19,2,    0.097,3,    0.097,3,   2320.0,2,   7.7233,    25.00,2,  -999.00,9,  -999.00,9,   8.0740
  74DI19980423,  A16N, 13478,  1,     11,     11,2,19980515,1030, 50.9967, -20.0033, 3650,    709.1,   6.5660,  35.1030,2,  35.1030,2,    210.3,2,    210.0,2,    11.11,2,    18.95,2,     1.18,2, -999.000,9, -999.000,9,   2320.4,2,   7.7003,    25.00,2,  -999.00,9,  -999.00,9,   6.4993
  74DI19980423,  A16N, 13478,  1,     10,     10,2,19980515,1030, 50.9967, -20.0033, 3650,    911.3,   6.0360,  35.1660,2,  35.1660,2,    224.1,2,    223.5,2,    11.24,2,    18.72,2,     1.18,2,    1.018,3,    0.097,3,   2327.5,2,   7.7093,    25.00,2,  -999.00,9,  -999.00,9,   5.9525
  74DI19980423,  A16N, 13478,  1,      9,      9,2,19980515,1030, 50.9967, -20.0033, 3650,   1216.7,   4.2580,  34.9640,2,  34.9650,2,    255.4,2,    256.2,2,    11.11,2,    17.72,2,     1.23,2,    2.714,3,    0.591,3,   2315.3,2,   7.7033,    25.00,2,  -999.00,9,  -999.00,9,   4.1606
  74DI19980423,  A16N, 13478,  1,      8,      8,2,19980515,1030, 50.9967, -20.0033, 3650,   1620.4,   3.5580,  34.9020,2,  34.9030,2,    273.9,2,    273.9,2,    11.49,2,    17.16,2,     1.16,2,    2.601,3,    0.635,3,   2307.6,2,   7.7093,    25.00,2,  -999.00,9,  -999.00,9,   3.4323
  74DI19980423,  A16N, 13478,  1,      7,      7,2,19980515,1030, 50.9967, -20.0033, 3650,   1825.7,   3.3770,  34.8910,2,  34.8930,2,    279.5,2,    279.7,2,    11.20,2,    16.86,2,     1.17,2, -999.000,9, -999.000,9,   2310.0,2,   7.7113,    25.00,2,  -999.00,9,  -999.00,9,   3.2351
  74DI19980423,  A16N, 13478,  1,      6,      6,2,19980515,1030, 50.9967, -20.0033, 3650,   2029.3,   3.3540,  34.9130,2,  34.9140,2,    273.3,2,    274.8,2,    12.56,2,    17.42,2,     1.17,2,    0.545,3,    0.343,3,   2313.5,2,   7.7203,    25.00,2,  -999.00,9,  -999.00,9,   3.1935
  74DI19980423,  A16N, 13478,  1,      5,      5,2,19980515,1030, 50.9967, -20.0033, 3650,   2232.5,   3.2980,  34.9380,2,  34.9380,2,    267.0,2,    268.4,2,    15.29,2,    17.69,2,     0.96,2,    0.097,3,    0.097,3,   2314.2,2,   7.7173,    25.00,2,  -999.00,9,  -999.00,9,   3.1189
  74DI19980423,  A16N, 13478,  1,      4,      4,2,19980515,1030, 50.9967, -20.0033, 3650,   2435.6,   3.1190,  34.9450,2,  34.9460,2,    267.0,2,    265.4,2,    18.47,2,    17.71,2,     1.04,2, -999.000,9, -999.000,9,   2318.3,2,   7.7163,    25.00,2,  -999.00,9,  -999.00,9,   2.9232
  74DI19980423,  A16N, 13478,  1,      3,      3,2,19980515,1030, 50.9967, -20.0033, 3650,   2796.3,   2.8510,  34.9460,2,  34.9460,2,    258.4,2,    257.0,2,    25.90,2,    18.82,2,     1.15,2, -999.000,9, -999.000,9,   -999.0,9,-999.0000,  -999.00,9,  -999.00,9,  -999.00,9,   2.6243
  74DI19980423,  A16N, 13478,  1,      2,      2,2,19980515,1030, 50.9967, -20.0033, 3650,   3307.5,   2.5720,  34.9220,2,  34.9230,2,    243.9,2,    243.8,2,    39.70,2,    21.23,2,     1.43,2, -999.000,9, -999.000,9,   2351.4,2,   7.7123,    25.00,2,  -999.00,9,  -999.00,9,   2.2984
  74DI19980423,  A16N, 13478,  1,      1,      1,2,19980515,1030, 50.9967, -20.0033, 3650,   3701.8,   2.4550,  34.9070,2,  34.9070,2,    237.8,2,    239.3,2,    45.11,2,    21.89,2,     1.34,2,    0.097,3,    0.097,3,   2365.7,2,   7.7093,    25.00,2,  -999.00,9,  -999.00,9,   2.1415
  74DI19980423,  A16N, 13479,  1,     24,     24,2,19980515,1652, 51.4950, -20.0100, 3640,      2.1,  12.6270,  35.4600,2,  35.4600,2,    280.6,6,    282.5,2,     2.42,2,     5.91,2,     0.34,2, -999.000,9, -999.000,9,   -999.0,9,-999.0000,  -999.00,9,     0.86,2,     0.24,2,  12.6267
  74DI19980423,  A16N, 13479,  1,     23,     23,2,19980515,1652, 51.4950, -20.0100, 3640,     14.0,  11.7050,  35.4400,2,  35.4400,2,    280.6,2,    282.9,2,     2.67,2,     6.14,2,     0.34,2, -999.000,9, -999.000,9,   -999.0,9,-999.0000,  -999.00,9,     0.79,2,     0.23,2,  11.7032
  74DI19980423,  A16N, 13479,  1,     22,     22,2,19980515,1652, 51.4950, -20.0100, 3640,     23.6,  11.6240,  35.4440,2,  35.4440,2,    281.7,2,    280.2,2,     2.77,2,     6.35,2,     0.35,2, -999.000,9, -999.000,9,   -999.0,9,-999.0000,  -999.00,9,     1.06,2,     0.01,2,  11.6210
  74DI19980423,  A16N, 13479,  1,     21,     21,2,19980515,1652, 51.4950, -20.0100, 3640,     43.9,  11.4760,  35.5070,2,  35.5050,2,    272.6,2,    268.8,2,     3.68,2,     7.80,2,     0.45,2, -999.000,9, -999.000,9,   -999.0,9,-999.0000,  -999.00,9,     0.44,2,     0.20,2,  11.4704
  74DI19980423,  A16N, 13479,  1,     20,     20,2,19980515,1652, 51.4950, -20.0100, 3640,     84.9,  11.2270,  35.5100,2,  35.5060,2,    260.6,2,    255.4,2,     4.09,2,     9.62,2,     0.55,2, -999.000,9, -999.000,9,   -999.0,9,-999.0000,  -999.00,9,     0.03,2,     0.02,2,  11.2164
  74DI19980423,  A16N, 13479,  1,     19,     19,2,19980515,1652, 51.4950, -20.0100, 3640,    124.0,  10.9750,  35.4910,2,  35.4900,2,    251.7,2,    258.9,2,     4.19,2,     9.57,2,     0.54,2, -999.000,9, -999.000,9,   -999.0,9,-999.0000,  -999.00,9,     0.14,2,     0.08,2,  10.9597
  74DI19980423,  A16N, 13479,  1,     18,     18,2,19980515,1652, 51.4950, -20.0100, 3640,    164.7,  10.9190,  35.5000,2,  35.4990,2,    249.1,2,    256.3,2,     4.23,2,    10.26,2,     0.59,2, -999.000,9, -999.000,9,   -999.0,9,-999.0000,  -999.00,9,     0.03,2,     0.01,2,  10.8987
  74DI19980423,  A16N, 13479,  1,     17,     17,2,19980515,1652, 51.4950, -20.0100, 3640,    244.1,  10.5890,  35.4480,2,  35.4490,2,    255.6,2,    251.8,2,     4.71,2,    11.10,2,     0.64,2, -999.000,9, -999.000,9,   -999.0,9,-999.0000,  -999.00,9,  -999.00,9,  -999.00,9,  10.5594
  74DI19980423,  A16N, 13479,  1,     16,     16,2,19980515,1652, 51.4950, -20.0100, 3640,    325.5,  10.3210,  35.4070,2,  35.4050,2,    253.3,2,    257.4,2,     4.83,2,    11.21,2,     0.67,2, -999.000,9, -999.000,9,   -999.0,9,-999.0000,  -999.00,9,  -999.00,9,  -999.00,9,  10.2820
  74DI19980423,  A16N, 13479,  1,     15,     15,2,19980515,1652, 51.4950, -20.0100, 3640,    507.9,   9.7240,  35.3220,2,  35.3210,2,    236.2,2,    228.5,2,     7.05,2,    14.54,2,     0.89,2, -999.000,9, -999.000,9,   -999.0,9,-999.0000,  -999.00,9,  -999.00,9,  -999.00,9,   9.6649
  74DI19980423,  A16N, 13479,  1,     14,     14,2,19980515,1652, 51.4950, -20.0100, 3640,    760.7,   7.1320,  35.1110,2,  35.1120,2,    208.0,2,    203.7,2,    11.66,2,    19.35,2,     1.20,2, -999.000,9, -999.000,9,   -999.0,9,-999.0000,  -999.00,9,  -999.00,9,  -999.00,9,   7.0570
  74DI19980423,  A16N, 13479,  1,     13,     13,2,19980515,1652, 51.4950, -20.0100, 3640,    963.0,   5.2260,  35.0180,2,  35.0200,2,    229.2,2,    233.8,2,    11.97,2,    19.13,2,     1.19,2, -999.000,9, -999.000,9,   -999.0,9,-999.0000,  -999.00,9,  -999.00,9,  -999.00,9,   5.1436
  74DI19980423,  A16N, 13479,  1,     12,     12,2,19980515,1652, 51.4950, -20.0100, 3640,   1115.0,   4.6000,  34.9830,2,  34.9830,2,    245.5,2,    248.5,2,    11.79,2,    18.44,2,     1.14,2, -999.000,9, -999.000,9,   -999.0,9,-999.0000,  -999.00,9,  -999.00,9,  -999.00,9,   4.5087
  74DI19980423,  A16N, 13479,  1,     11,     11,2,19980515,1652, 51.4950, -20.0100, 3640,   1265.5,   4.1940,  34.9550,2,  34.9550,2,    259.3,2,    259.0,2,    11.78,2,    18.07,2,     1.12,2, -999.000,9, -999.000,9,   -999.0,9,-999.0000,  -999.00,9,  -999.00,9,  -999.00,9,   4.0929
  74DI19980423,  A16N, 13479,  1,     10,     10,2,19980515,1652, 51.4950, -20.0100, 3640,   1420.4,   3.8390,  34.9210,2,  34.9230,2,    266.8,2,    267.4,2,    11.72,2,    17.85,2,     1.12,2, -999.000,9, -999.000,9,   -999.0,9,-999.0000,  -999.00,9,  -999.00,9,  -999.00,9,   3.7278
  74DI19980423,  A16N, 13479,  1,      9,      9,2,19980515,1652, 51.4950, -20.0100, 3640,   1572.7,   3.6090,  34.9020,2,  34.9020,2,    276.0,2,    274.0,2,    11.54,2,    17.62,2,     1.08,2, -999.000,9, -999.000,9,   -999.0,9,-999.0000,  -999.00,9,  -999.00,9,  -999.00,9,   3.4869
  74DI19980423,  A16N, 13479,  1,      8,      8,2,19980515,1652, 51.4950, -20.0100, 3640,   1723.9,   3.4530,  34.8950,2,  34.8960,2,    279.3,2,    277.4,2,    11.79,2,    17.43,2,     1.07,2, -999.000,9, -999.000,9,   -999.0,9,-999.0000,  -999.00,9,  -999.00,9,  -999.00,9,   3.3193
  74DI19980423,  A16N, 13479,  1,      7,      7,2,19980515,1652, 51.4950, -20.0100, 3640,   1928.6,   3.3460,  34.8940,2,  34.8950,2,    279.4,2,    279.5,2,    12.10,2,    17.32,2,     1.07,2, -999.000,9, -999.000,9,   -999.0,9,-999.0000,  -999.00,9,  -999.00,9,  -999.00,9,   3.1950
  74DI19980423,  A16N, 13479,  1,      6,      6,2,19980515,1652, 51.4950, -20.0100, 3640,   2132.0,   3.2570,  34.8990,2,  34.9000,2,    280.4,2,    280.2,2,    12.24,2,    17.12,2,     1.07,2, -999.000,9, -999.000,9,   -999.0,9,-999.0000,  -999.00,9,  -999.00,9,  -999.00,9,   3.0883
  74DI19980423,  A16N, 13479,  1,      5,      5,2,19980515,1652, 51.4950, -20.0100, 3640,   2336.7,   3.2440,  34.9220,2,  34.9220,2,    273.0,2,    275.1,2,    13.61,2,    17.34,2,     1.09,2, -999.000,9, -999.000,9,   -999.0,9,-999.0000,  -999.00,9,  -999.00,9,  -999.00,9,   3.0558
  74DI19980423,  A16N, 13479,  1,      4,      4,2,19980515,1652, 51.4950, -20.0100, 3640,   2642.4,   3.0920,  34.9460,2,  34.9470,2,    266.0,2,    267.6,2,    18.18,2,    17.62,2,     1.11,2, -999.000,9, -999.000,9,   -999.0,9,-999.0000,  -999.00,9,  -999.00,9,  -999.00,9,   2.8761
  74DI19980423,  A16N, 13479,  1,      3,      3,2,19980515,1652, 51.4950, -20.0100, 3640,   3050.5,   2.7730,  34.9410,2,  34.9400,2,    255.9,2,    254.1,2,    30.44,2,    19.57,2,     1.25,2, -999.000,9, -999.000,9,   -999.0,9,-999.0000,  -999.00,9,  -999.00,9,  -999.00,9,   2.5218
  74DI19980423,  A16N, 13479,  1,      2,      2,2,19980515,1652, 51.4950, -20.0100, 3640,   3462.0,   2.5380,  34.9180,2,  34.9170,2,    242.5,2,    242.1,2,    42.31,2,    21.70,2,     1.37,2, -999.000,9, -999.000,9,   -999.0,9,-999.0000,  -999.00,9,  -999.00,9,  -999.00,9,   2.2487
  74DI19980423,  A16N, 13479,  1,      1,      1,2,19980515,1652, 51.4950, -20.0100, 3640,   3693.4,   2.4910,  34.9110,2,  34.9100,2,    239.1,2,    240.0,2,    44.26,2,    21.84,2,     1.30,2, -999.000,9, -999.000,9,   -999.0,9,-999.0000,  -999.00,9,  -999.00,9,  -999.00,9,   2.1775