BOTTLE,20221006CCHSIOCBG
EXPOCODE,SECT_ID,STNNBR,CASTNO,SAMPNO,BTLNBR,BTLNBR_FLAG_W,DATE,TIME,LATITUDE,LONGITUDE,DEPTH,CTDPRS,CTDTMP,CTDSAL,CTDSAL_FLAG_W,SALNTY,SALNTY_FLAG_W,CTDOXY,CTDOXY_FLAG_W,OXYGEN,OXYGEN_FLAG_W,SILCAT,SILCAT_FLAG_W,NITRAT,NITRAT_FLAG_W,PHSPHT,PHSPHT_FLAG_W,CFC-11,CFC-11_FLAG_W,CFC-12,CFC-12_FLAG_W,ALKALI,ALKALI_FLAG_W,PH_SWS,PH_TEMP,PH_SWS_FLAG_W,CHLORA,CHLORA_FLAG_W,PPHYTN,PPHYTN_FLAG_W,THETA
,,,,,,,,,,,METERS,DBAR,ITS-90,PSS-78,,PSS-78,,UMOL/KG,,UMOL/KG,,UMOL/KG,,UMOL/KG,,UMOL/KG,,PMOL/KG,,PMOL/KG,,UMOL/KG,,,DEGC,,UG/L,,UG/L,,DEGC
  74DI19980423,  A16N, 13430,  1,     24,     24,2,19980430,1214, 27.0017, -21.3350, 4732,      3.4,  20.8470,  37.2030,2,  37.2020,2,    224.0,6,    229.6,2,     0.57,2,     0.00,2,     0.61,3,    2.110,3,    1.291,3,   2436.1,2,   8.0081,    25.00,2,     0.03,2,     0.01,2,  20.8463
  74DI19980423,  A16N, 13430,  1,     23,     23,2,19980430,1214, 27.0017, -21.3350, 4732,     14.4,  20.7640,  37.2020,2,  37.2020,2,    220.7,2,    221.7,2,     0.45,2,     0.00,2,     0.00,2,    1.457,3,    1.232,3,   2435.9,2,   8.0081,    25.00,2,     0.03,2,     0.01,2,  20.7612
  74DI19980423,  A16N, 13430,  1,     22,     22,2,19980430,1214, 27.0017, -21.3350, 4732,     24.7,  20.7300,  37.1990,2,  37.1990,2,    224.2,2,    222.7,2,     0.52,2,     0.00,2,     0.00,2, -999.000,9, -999.000,9,   2434.8,2,   8.0241,    25.00,2,     0.03,2,     0.01,2,  20.7253
  74DI19980423,  A16N, 13430,  1,     21,     21,2,19980430,1214, 27.0017, -21.3350, 4732,     45.0,  20.7090,  37.1960,2,  37.1950,2,    224.2,2,    222.6,2,     0.52,2,     0.00,2,     0.00,2,    2.041,3,    1.324,3,   2431.1,2,   8.0232,    25.00,2,     0.03,2,     0.01,2,  20.7004
  74DI19980423,  A16N, 13430,  1,     20,     20,2,19980430,1214, 27.0017, -21.3350, 4732,     85.7,  20.6760,  37.1870,2,  37.1850,2,    219.3,2,    222.5,2,     0.56,2,     0.00,2,     0.00,2,    2.125,3,    1.227,3,   2433.0,2,   8.0212,    25.00,2,     0.03,2,     0.01,2,  20.6596
  74DI19980423,  A16N, 13430,  1,     19,     19,2,19980430,1214, 27.0017, -21.3350, 4732,    126.9,  18.7090,  36.7460,2,  36.9340,0,    210.7,2,    210.6,2,     0.67,2,     0.95,2,     0.00,2,    2.199,3,    1.365,3,   2406.1,2,   7.9802,    25.00,2,     0.05,2,     0.02,2,  18.6864
  74DI19980423,  A16N, 13430,  1,     18,     18,2,19980430,1214, 27.0017, -21.3350, 4732,    166.3,  17.6670,  36.5450,2,  36.5440,2,    201.1,2,    203.7,2,     1.15,2,     3.13,2,     0.20,2,    2.061,3,    1.345,3,   2390.9,2,   7.9512,    25.00,2,     0.01,2,     0.00,2,  17.6385
  74DI19980423,  A16N, 13430,  1,     17,     17,2,19980430,1214, 27.0017, -21.3350, 4732,    248.9,  15.7810,  36.2260,2,  36.2260,2,    198.3,2,    196.3,2,     2.29,2,     7.29,2,     0.58,2, -999.000,9, -999.000,9,   2372.9,2,   7.9032,    25.00,2,  -999.00,9,  -999.00,9,  15.7415
  74DI19980423,  A16N, 13430,  1,     16,     16,2,19980430,1214, 27.0017, -21.3350, 4732,    330.5,  14.4550,  36.0060,2,  36.0050,2,    199.7,2,    198.6,2,     3.17,2,     9.25,2,     0.76,2, -999.000,9, -999.000,9,   2359.1,2,   7.8742,    25.00,2,  -999.00,9,  -999.00,9,  14.4056
  74DI19980423,  A16N, 13430,  1,     15,     15,2,19980430,1214, 27.0017, -21.3350, 4732,    514.4,  11.9690,  35.6560,2,  35.6540,2,    187.2,2,    186.1,2,     5.97,2,    14.93,2,     1.54,3, -999.000,9, -999.000,9,   2339.8,2,   7.7943,    25.00,2,  -999.00,9,  -999.00,9,  11.9007
  74DI19980423,  A16N, 13430,  1,     14,     14,2,19980430,1214, 27.0017, -21.3350, 4732,    769.9,   9.1840,  35.3410,2,  35.3390,2,    137.6,2,    134.7,2,    14.61,2,    24.87,2,     2.77,3, -999.000,9, -999.000,9,   2329.0,2,   7.6693,    25.00,2,  -999.00,9,  -999.00,9,   9.0962
  74DI19980423,  A16N, 13430,  1,     13,     13,2,19980430,1214, 27.0017, -21.3350, 4732,    974.4,   7.6960,  35.2720,2,  35.2710,2,    148.8,2,    149.1,2,    17.79,2,    25.45,2,     2.89,3, -999.000,9, -999.000,9,   2332.1,2,   7.6643,    25.00,2,  -999.00,9,  -999.00,9,   7.5943
  74DI19980423,  A16N, 13430,  1,     12,     12,2,19980430,1214, 27.0017, -21.3350, 4732,   1127.4,   7.2940,  35.3330,2,  35.3340,2,    167.5,2,    169.2,2,    17.54,2,    23.26,2,     2.57,3, -999.000,9, -999.000,9,   2337.4,2,   7.6923,    25.00,2,  -999.00,9,  -999.00,9,   7.1784
  74DI19980423,  A16N, 13430,  1,     11,     11,2,19980430,1214, 27.0017, -21.3350, 4732,   1436.7,   6.0150,  35.2760,2,  35.2750,2,    196.4,2,    196.1,2,    19.57,2,    21.48,2,     2.37,3, -999.000,9, -999.000,9,   2339.6,2,   7.7083,    25.00,2,  -999.00,9,  -999.00,9,   5.8783
  74DI19980423,  A16N, 13430,  1,     10,     10,2,19980430,1214, 27.0017, -21.3350, 4732,   1591.6,   5.3390,  35.2120,2,  35.2100,2,    205.7,2,    207.6,2,    21.26,2,    21.09,2,     2.30,3, -999.000,9, -999.000,9,   2340.2,2,   7.7123,    25.00,2,  -999.00,9,  -999.00,9,   5.1939
  74DI19980423,  A16N, 13430,  1,      9,      9,2,19980430,1214, 27.0017, -21.3350, 4732,   1952.0,   4.1710,  35.0860,2,  35.0860,2,    221.7,2,    222.9,2,    25.44,2,    20.97,2,     1.92,3, -999.000,9, -999.000,9,   2337.3,2,   7.7173,    25.00,2,  -999.00,9,  -999.00,9,   4.0053
  74DI19980423,  A16N, 13430,  1,      8,      8,2,19980430,1214, 27.0017, -21.3350, 4732,   2157.3,   3.7640,  35.0410,2,  35.0420,2,    226.3,2,    225.9,2,    28.49,2,    21.14,2,     1.92,3, -999.000,9, -999.000,9,   2336.3,2,   7.7143,    25.00,2,  -999.00,9,  -999.00,9,   3.5843
  74DI19980423,  A16N, 13430,  1,      7,      7,2,19980430,1214, 27.0017, -21.3350, 4732,   2674.9,   3.0160,  34.9670,2,  34.9670,2,    240.9,2,    242.3,2,    31.73,2,    20.53,2,     1.87,3, -999.000,9, -999.000,9,   2337.4,2,   7.7293,    25.00,2,  -999.00,9,  -999.00,9,   2.7982
  74DI19980423,  A16N, 13430,  1,      6,      6,2,19980430,1214, 27.0017, -21.3350, 4732,   3090.0,   2.6910,  34.9350,2,  34.9360,2,    241.6,2,    242.2,2,    37.28,2,    20.98,2,     1.96,3, -999.000,9, -999.000,9,   2344.7,2,   7.7203,    25.00,2,  -999.00,9,  -999.00,9,   2.4375
  74DI19980423,  A16N, 13430,  1,      5,      5,2,19980430,1214, 27.0017, -21.3350, 4732,   3501.7,   2.5020,  34.9140,2,  34.9140,2,    241.8,2,    242.8,2,    41.55,2,    21.62,2,     1.89,3, -999.000,9, -999.000,9,   2347.3,2,   7.7213,    25.00,2,  -999.00,9,  -999.00,9,   2.2093
  74DI19980423,  A16N, 13430,  1,      4,      4,2,19980430,1214, 27.0017, -21.3350, 4732,   3921.8,   2.3980,  34.8990,2,  34.8990,2,    243.6,2,    243.7,2,    44.45,2,    21.81,2,     1.82,3, -999.000,9, -999.000,9,   -999.0,9,-999.0000,  -999.00,9,  -999.00,9,  -999.00,9,   2.0614
  74DI19980423,  A16N, 13430,  1,      3,      3,2,19980430,1214, 27.0017, -21.3350, 4732,   4336.6,   2.3720,  34.8920,2,  34.8910,2,    244.2,2,    242.8,2,    46.15,2,    22.07,2,     1.86,3, -999.000,9, -999.000,9,   -999.0,9,-999.0000,  -999.00,9,  -999.00,9,  -999.00,9,   1.9881
  74DI19980423,  A16N, 13430,  1,      2,      2,2,19980430,1214, 27.0017, -21.3350, 4732,   4546.5,   2.3840,  34.8900,2,  34.8890,2,    244.5,2,    243.2,2,    46.48,2,    22.12,2,     1.78,3, -999.000,9, -999.000,9,   2353.8,2,   7.7213,    25.00,2,  -999.00,9,  -999.00,9,   1.9746
  74DI19980423,  A16N, 13430,  1,      1,      1,2,19980430,1214, 27.0017, -21.3350, 4732,   4807.9,   2.4150,  34.8900,2,  34.8900,2,    243.9,2,    243.8,2,    45.70,2,    21.90,2,     1.67,3, -999.000,9, -999.000,9,   2351.7,2,   7.7243,    25.00,2,  -999.00,9,  -999.00,9,   1.9725
  74DI19980423,  A16N, 13431,  1,     22,     22,2,19980430,1926, 27.5017, -21.3433, 4753,      5.3,  20.6200,  37.1430,2,  37.1440,2,    228.6,2,    225.5,2,     0.57,2,     0.02,2,     0.00,2, -999.000,9, -999.000,9,   -999.0,9,-999.0000,  -999.00,9,     0.05,2,     0.01,2,  20.6190
  74DI19980423,  A16N, 13431,  1,     21,     21,2,19980430,1926, 27.5017, -21.3433, 4753,     15.5,  20.6210,  37.1440,2,  37.1430,2,    227.5,2,    225.8,2,     0.54,2,     0.22,2,     0.00,2, -999.000,9, -999.000,9,   -999.0,9,-999.0000,  -999.00,9,     0.05,2,     0.01,2,  20.6180
  74DI19980423,  A16N, 13431,  1,     20,     20,2,19980430,1926, 27.5017, -21.3433, 4753,     29.1,  20.5760,  37.1450,2,  37.1450,2,    224.2,2,    225.4,2,     0.59,2,     0.24,2,     0.00,2, -999.000,9, -999.000,9,   -999.0,9,-999.0000,  -999.00,9,     0.05,2,     0.01,2,  20.5705
  74DI19980423,  A16N, 13431,  1,     19,     19,2,19980430,1926, 27.5017, -21.3433, 4753,     54.7,  20.5500,  37.1450,2,  37.1450,2,    220.2,2,    224.8,2,     0.73,2,     0.18,2,     0.00,2, -999.000,9, -999.000,9,   -999.0,9,-999.0000,  -999.00,9,     0.04,2,     0.00,2,  20.5396
  74DI19980423,  A16N, 13431,  1,     18,     18,2,19980430,1926, 27.5017, -21.3433, 4753,     79.8,  20.5300,  37.1420,2,  37.1410,2,    222.8,2,    226.4,2,     0.70,2,     0.16,2,     0.00,2, -999.000,9, -999.000,9,   -999.0,9,-999.0000,  -999.00,9,     0.05,2,     0.01,2,  20.5148
  74DI19980423,  A16N, 13431,  1,     17,     17,2,19980430,1926, 27.5017, -21.3433, 4753,    156.7,  19.2760,  36.8540,2,  36.8320,2,    220.3,2,    215.5,2,     0.93,2,     1.13,2,     0.00,2, -999.000,9, -999.000,9,   -999.0,9,-999.0000,  -999.00,9,     0.04,2,     0.03,2,  19.2475
  74DI19980423,  A16N, 13431,  1,     16,     16,2,19980430,1926, 27.5017, -21.3433, 4753,    207.7,  17.0200,  36.4280,2,  36.4240,2,    200.2,2,    203.4,2,     1.62,2,     4.98,2,     0.21,2, -999.000,9, -999.000,9,   -999.0,9,-999.0000,  -999.00,9,  -999.00,9,  -999.00,9,  16.9853
  74DI19980423,  A16N, 13431,  1,     15,     15,2,19980430,1926, 27.5017, -21.3433, 4753,    411.8,  13.2510,  35.8330,2,  35.8280,2,    195.9,2,    195.1,2,     4.44,2,    11.97,2,     0.72,2, -999.000,9, -999.000,9,   -999.0,9,-999.0000,  -999.00,9,  -999.00,9,  -999.00,9,  13.1927
  74DI19980423,  A16N, 13431,  1,     14,     14,2,19980430,1926, 27.5017, -21.3433, 4753,    615.8,  10.8340,  35.5270,2,  35.5260,2,    172.7,2,    170.3,2,     8.78,2,    18.80,2,     1.18,2, -999.000,9, -999.000,9,   -999.0,9,-999.0000,  -999.00,9,  -999.00,9,  -999.00,9,  10.7569
  74DI19980423,  A16N, 13431,  1,     13,     13,2,19980430,1926, 27.5017, -21.3433, 4753,    821.0,   8.7810,  35.3520,2,  35.3510,2,    149.9,2,    146.0,2,    15.12,2,    24.40,2,     1.62,2, -999.000,9, -999.000,9,   -999.0,9,-999.0000,  -999.00,9,  -999.00,9,  -999.00,9,   8.6895
  74DI19980423,  A16N, 13431,  1,     12,     12,2,19980430,1926, 27.5017, -21.3433, 4753,   1026.6,   7.4470,  35.2920,2,  35.2910,2,    157.2,2,    159.1,2,    17.80,2,    24.62,2,     1.65,2, -999.000,9, -999.000,9,   -999.0,9,-999.0000,  -999.00,9,  -999.00,9,  -999.00,9,   7.3413
  74DI19980423,  A16N, 13431,  1,     11,     11,2,19980430,1926, 27.5017, -21.3433, 4753,   1282.8,   6.5800,  35.3130,2,  35.3130,2,    183.8,2,    185.3,2,    18.68,2,    22.48,2,     1.50,2, -999.000,9, -999.000,9,   -999.0,9,-999.0000,  -999.00,9,  -999.00,9,  -999.00,9,   6.4539
  74DI19980423,  A16N, 13431,  1,     10,     10,2,19980430,1926, 27.5017, -21.3433, 4753,   1539.3,   5.4400,  35.2180,2,  35.2190,2,    205.4,2,    205.0,2,    20.63,2,    21.68,2,     1.47,2, -999.000,9, -999.000,9,   -999.0,9,-999.0000,  -999.00,9,  -999.00,9,  -999.00,9,   5.2991
  74DI19980423,  A16N, 13431,  1,      9,      9,2,19980430,1926, 27.5017, -21.3433, 4753,   1797.3,   4.6180,  35.1370,2,  35.1390,2,    218.6,2,    218.7,2,    23.38,2,    21.30,2,     1.47,2, -999.000,9, -999.000,9,   -999.0,9,-999.0000,  -999.00,9,  -999.00,9,  -999.00,9,   4.4613
  74DI19980423,  A16N, 13431,  1,      8,      8,2,19980430,1926, 27.5017, -21.3433, 4753,   2055.2,   3.9920,  35.0690,2,  35.0690,2,    227.3,2,    227.9,2,    26.05,2,    21.13,2,     1.47,2, -999.000,9, -999.000,9,   -999.0,9,-999.0000,  -999.00,9,  -999.00,9,  -999.00,9,   3.8188
  74DI19980423,  A16N, 13431,  1,      7,      7,2,19980430,1926, 27.5017, -21.3433, 4753,   2313.1,   3.5240,  35.0180,2,  35.0190,2,    235.5,2,    236.6,2,    27.74,2,    20.80,2,     1.46,2, -999.000,9, -999.000,9,   -999.0,9,-999.0000,  -999.00,9,  -999.00,9,  -999.00,9,   3.3329
  74DI19980423,  A16N, 13431,  1,      6,      6,2,19980430,1926, 27.5017, -21.3433, 4753,   2571.1,   3.1880,  34.9840,2,  34.9840,2,    241.7,2,    241.8,2,    30.03,2,    20.68,2,     1.49,2, -999.000,9, -999.000,9,   -999.0,9,-999.0000,  -999.00,9,  -999.00,9,  -999.00,9,   2.9773
  74DI19980423,  A16N, 13431,  1,      5,      5,2,19980430,1926, 27.5017, -21.3433, 4753,   3089.4,   2.6950,  34.9360,2,  34.9370,2,    244.7,2,    245.7,2,    36.40,2,    21.24,2,     1.51,2, -999.000,9, -999.000,9,   -999.0,9,-999.0000,  -999.00,9,  -999.00,9,  -999.00,9,   2.4415
  74DI19980423,  A16N, 13431,  1,      4,      4,2,19980430,1926, 27.5017, -21.3433, 4753,   3607.5,   2.4840,  34.9110,2,  34.9110,2,    243.0,2,    244.6,2,    42.03,2,    21.85,2,     1.53,2, -999.000,9, -999.000,9,   -999.0,9,-999.0000,  -999.00,9,  -999.00,9,  -999.00,9,   2.1802
  74DI19980423,  A16N, 13431,  1,      3,      3,3,19980430,1926, 27.5017, -21.3433, 4753,   4128.3,   2.3840,  34.8960,2,  34.8970,2,    245.3,2,    245.0,0,    45.09,2,    22.20,2,     1.57,2, -999.000,9, -999.000,9,   -999.0,9,-999.0000,  -999.00,9,  -999.00,9,  -999.00,9,   2.0242
  74DI19980423,  A16N, 13431,  1,      2,      2,2,19980430,1926, 27.5017, -21.3433, 4753,   4649.6,   2.3940,  34.8900,2,  34.8900,2,    246.0,2,    244.1,2,    46.62,2,    22.29,2,     1.52,2, -999.000,9, -999.000,9,   -999.0,9,-999.0000,  -999.00,9,  -999.00,9,  -999.00,9,   1.9717
  74DI19980423,  A16N, 13431,  1,      1,      1,2,19980430,1926, 27.5017, -21.3433, 4753,   4826.1,   2.4170,  34.8900,2,  34.8910,2,    245.0,2,    244.3,2,    45.69,2,    22.03,2,     1.47,2, -999.000,9, -999.000,9,   -999.0,9,-999.0000,  -999.00,9,  -999.00,9,  -999.00,9,   1.9722