BOTTLE,20221006CCHSIOCBG
EXPOCODE,SECT_ID,STNNBR,CASTNO,SAMPNO,BTLNBR,BTLNBR_FLAG_W,DATE,TIME,LATITUDE,LONGITUDE,DEPTH,CTDPRS,CTDTMP,CTDSAL,CTDSAL_FLAG_W,SALNTY,SALNTY_FLAG_W,CTDOXY,CTDOXY_FLAG_W,OXYGEN,OXYGEN_FLAG_W,SILCAT,SILCAT_FLAG_W,NITRAT,NITRAT_FLAG_W,PHSPHT,PHSPHT_FLAG_W,CFC-11,CFC-11_FLAG_W,CFC-12,CFC-12_FLAG_W,ALKALI,ALKALI_FLAG_W,PH_SWS,PH_TEMP,PH_SWS_FLAG_W,CHLORA,CHLORA_FLAG_W,PPHYTN,PPHYTN_FLAG_W,THETA
,,,,,,,,,,,METERS,DBAR,ITS-90,PSS-78,,PSS-78,,UMOL/KG,,UMOL/KG,,UMOL/KG,,UMOL/KG,,UMOL/KG,,PMOL/KG,,PMOL/KG,,UMOL/KG,,,DEGC,,UG/L,,UG/L,,DEGC
  74DI19980423,  A16N, 13544,  1,     10,     10,2,19980528,2124, 55.5150, -14.8383,  850,      3.5,  11.7070,  35.4870,2,  35.4780,2,    277.8,6,    277.2,2,     1.01,2,     6.13,2,     0.27,2, -999.000,9, -999.000,9,   -999.0,9,-999.0000,  -999.00,9,  -999.00,9,  -999.00,9,  11.7066
  74DI19980423,  A16N, 13544,  1,      9,      9,2,19980528,2124, 55.5150, -14.8383,  850,     17.2,  11.7170,  35.4880,2,  35.4790,2,    273.7,2,    277.1,2,     1.01,2,     5.49,2,     0.27,2, -999.000,9, -999.000,9,   -999.0,9,-999.0000,  -999.00,9,  -999.00,9,  -999.00,9,  11.7148
  74DI19980423,  A16N, 13544,  1,      8,      8,2,19980528,2124, 55.5150, -14.8383,  850,     30.8,  11.6830,  35.4890,2,  35.4780,2,    273.7,2,    277.2,2,     1.11,2,     5.54,2,     0.31,2, -999.000,9, -999.000,9,   -999.0,9,-999.0000,  -999.00,9,  -999.00,9,  -999.00,9,  11.6791
  74DI19980423,  A16N, 13544,  1,      7,      7,2,19980528,2124, 55.5150, -14.8383,  850,     55.7,  11.2020,  35.4810,2,  35.4660,2,    275.0,2,    272.1,2,     2.08,2,     7.89,2,     0.44,2, -999.000,9, -999.000,9,   -999.0,9,-999.0000,  -999.00,9,  -999.00,9,  -999.00,9,  11.1951
  74DI19980423,  A16N, 13544,  1,      6,      6,2,19980528,2124, 55.5150, -14.8383,  850,     81.1,  10.6690,  35.4680,2,  35.4580,2,    270.2,2,    263.5,2,     3.53,2,     9.53,2,     0.55,2, -999.000,9, -999.000,9,   -999.0,9,-999.0000,  -999.00,9,  -999.00,9,  -999.00,9,  10.6592
  74DI19980423,  A16N, 13544,  1,      5,      5,2,19980528,2124, 55.5150, -14.8383,  850,    106.3,  10.5870,  35.4650,2,  35.4560,2,    261.2,2,    260.5,2,     4.07,2,    10.11,2,     0.58,2, -999.000,9, -999.000,9,   -999.0,9,-999.0000,  -999.00,9,  -999.00,9,  -999.00,9,  10.5742
  74DI19980423,  A16N, 13544,  1,      4,      4,2,19980528,2124, 55.5150, -14.8383,  850,    207.1,  10.2690,  35.4420,2,  35.4320,2,    249.5,2,    252.4,2,     4.93,2,    11.56,2,     0.66,2, -999.000,9, -999.000,9,   -999.0,9,-999.0000,  -999.00,9,  -999.00,9,  -999.00,9,  10.2444
  74DI19980423,  A16N, 13544,  1,      3,      3,2,19980528,2124, 55.5150, -14.8383,  850,    406.3,   9.7830,  35.4070,2,  35.3970,2,    254.3,2,    256.9,2,     5.31,2,    12.00,2,     0.70,2, -999.000,9, -999.000,9,   -999.0,9,-999.0000,  -999.00,9,  -999.00,9,  -999.00,9,   9.7357
  74DI19980423,  A16N, 13544,  1,      2,      2,2,19980528,2124, 55.5150, -14.8383,  850,    608.8,   9.2860,  35.3600,2,  35.3520,2,    254.3,2,    254.0,2,     6.10,2,    12.98,2,     0.75,2, -999.000,9, -999.000,9,   -999.0,9,-999.0000,  -999.00,9,  -999.00,9,  -999.00,9,   9.2167
  74DI19980423,  A16N, 13544,  1,      1,      1,2,19980528,2124, 55.5150, -14.8383,  850,    850.0,   7.5860,  35.2400,2,  35.2330,2,    221.4,2,    221.2,2,     9.88,2,    16.90,2,     0.94,2, -999.000,9, -999.000,9,   -999.0,9,-999.0000,  -999.00,9,  -999.00,9,  -999.00,9,   7.4987
  74DI19980423,  A16N, 13545,  1,     16,     16,2,19980529,  22, 55.3017, -15.5283, 1830,      2.4,  12.2010,  35.4980,2,  35.4950,2,    279.2,6,    278.5,2,     0.88,2,     4.71,2,     0.25,2, -999.000,9, -999.000,9,   -999.0,9,-999.0000,  -999.00,9,     0.42,2,     0.14,2,  12.2007
  74DI19980423,  A16N, 13545,  1,     15,     15,2,19980529,  22, 55.3017, -15.5283, 1830,     14.9,  12.2000,  35.4980,2,  35.4930,2,    274.6,2,    279.2,2,     0.86,2,     4.83,2,     0.26,2, -999.000,9, -999.000,9,   -999.0,9,-999.0000,  -999.00,9,     0.49,2,     0.17,2,  12.1980
  74DI19980423,  A16N, 13545,  1,     14,     14,2,19980529,  22, 55.3017, -15.5283, 1830,     28.8,  11.3640,  35.4650,2,  35.4650,2,    272.5,2,    279.8,2,     1.07,2,     6.46,2,     0.38,2, -999.000,9, -999.000,9,   -999.0,9,-999.0000,  -999.00,9,     0.62,2,     0.28,2,  11.3604
  74DI19980423,  A16N, 13545,  1,     13,     13,2,19980529,  22, 55.3017, -15.5283, 1830,     54.5,  10.8610,  35.4680,2,  35.4630,2,    273.4,2,    259.6,2,     3.96,2,     9.63,2,     0.57,2, -999.000,9, -999.000,9,   -999.0,9,-999.0000,  -999.00,9,     0.64,2,     0.48,2,  10.8543
  74DI19980423,  A16N, 13545,  1,     12,     12,2,19980529,  22, 55.3017, -15.5283, 1830,     78.8,  10.7910,  35.4820,2,  35.4780,2,    259.2,2,    257.1,2,     4.16,2,    10.23,2,     0.59,2, -999.000,9, -999.000,9,   -999.0,9,-999.0000,  -999.00,9,     0.04,2,     0.03,2,  10.7814
  74DI19980423,  A16N, 13545,  1,     11,     11,2,19980529,  22, 55.3017, -15.5283, 1830,    104.0,  10.7920,  35.4900,2,  35.4860,2,    254.9,2,    257.6,2,     4.06,2,    10.38,2,     0.61,2, -999.000,9, -999.000,9,   -999.0,9,-999.0000,  -999.00,9,     0.03,2,     0.02,2,  10.7793
  74DI19980423,  A16N, 13545,  1,     10,     10,2,19980529,  22, 55.3017, -15.5283, 1830,    205.1,  10.3950,  35.4240,2,  35.4210,2,    252.6,2,    256.2,2,     4.64,2,    10.88,2,     0.66,2, -999.000,9, -999.000,9,   -999.0,9,-999.0000,  -999.00,9,  -999.00,9,  -999.00,9,  10.3705
  74DI19980423,  A16N, 13545,  1,      9,      9,2,19980529,  22, 55.3017, -15.5283, 1830,    405.8,  10.2030,  35.4500,2,  35.4460,2,    249.7,2,    260.9,2,     4.33,2,    10.91,2,     0.66,2, -999.000,9, -999.000,9,   -999.0,9,-999.0000,  -999.00,9,  -999.00,9,  -999.00,9,  10.1545
  74DI19980423,  A16N, 13545,  1,      8,      8,2,19980529,  22, 55.3017, -15.5283, 1830,    607.4,   9.5930,  35.3670,2,  35.3640,2,    234.7,2,    239.8,2,     6.29,2,    13.58,2,     0.84,2, -999.000,9, -999.000,9,   -999.0,9,-999.0000,  -999.00,9,  -999.00,9,  -999.00,9,   9.5225
  74DI19980423,  A16N, 13545,  1,      7,      7,2,19980529,  22, 55.3017, -15.5283, 1830,    809.5,   8.4380,  35.2520,2,  35.2500,2,    215.7,2,    209.7,2,     9.56,2,    17.14,2,     1.08,2, -999.000,9, -999.000,9,   -999.0,9,-999.0000,  -999.00,9,  -999.00,9,  -999.00,9,   8.3500
  74DI19980423,  A16N, 13545,  1,      6,      6,2,19980529,  22, 55.3017, -15.5283, 1830,   1010.8,   7.3190,  35.2050,2,  35.2050,2,    211.6,2,    212.2,2,    10.85,2,    18.36,2,     1.14,2, -999.000,9, -999.000,9,   -999.0,9,-999.0000,  -999.00,9,  -999.00,9,  -999.00,9,   7.2161
  74DI19980423,  A16N, 13545,  1,      5,      5,2,19980529,  22, 55.3017, -15.5283, 1830,   1210.5,   5.7100,  35.0930,2,  35.0910,2,    235.5,2,    236.7,2,    11.18,2,    17.92,2,     1.12,2, -999.000,9, -999.000,9,   -999.0,9,-999.0000,  -999.00,9,  -999.00,9,  -999.00,9,   5.5997
  74DI19980423,  A16N, 13545,  1,      4,      4,2,19980529,  22, 55.3017, -15.5283, 1830,   1411.4,   4.8130,  35.0120,2,  35.0120,2,    253.4,2,    248.7,2,    11.46,2,    18.07,2,     1.12,2, -999.000,9, -999.000,9,   -999.0,9,-999.0000,  -999.00,9,  -999.00,9,  -999.00,9,   4.6921
  74DI19980423,  A16N, 13545,  1,      3,      3,2,19980529,  22, 55.3017, -15.5283, 1830,   1614.2,   3.8870,  34.9380,2,  34.9350,2,    266.2,2,    266.9,2,    12.18,2,    17.60,2,     1.09,2, -999.000,9, -999.000,9,   -999.0,9,-999.0000,  -999.00,9,  -999.00,9,  -999.00,9,   3.7577
  74DI19980423,  A16N, 13545,  1,      2,      2,2,19980529,  22, 55.3017, -15.5283, 1830,   1718.0,   3.7830,  34.9350,2,  34.9350,2,    267.3,2,    267.8,2,    13.10,2,    17.54,2,     1.08,2, -999.000,9, -999.000,9,   -999.0,9,-999.0000,  -999.00,9,  -999.00,9,  -999.00,9,   3.6455
  74DI19980423,  A16N, 13545,  1,      1,      1,2,19980529,  22, 55.3017, -15.5283, 1830,   1842.7,   3.7080,  34.9380,2,  34.9400,2,    264.2,2,    266.1,2,    14.33,2,    17.02,2,     1.00,2, -999.000,9, -999.000,9,   -999.0,9,-999.0000,  -999.00,9,  -999.00,9,  -999.00,9,   3.5598
  74DI19980423,  A16N, 13546,  1,     23,     23,2,19980529, 326, 55.2133, -15.3850, 2475,      3.4,  12.0910,  35.4960,2,  35.4940,2,    273.9,6,    277.2,2,     0.55,2,     4.42,2,     0.23,2, -999.000,9, -999.000,9,   -999.0,9,-999.0000,  -999.00,9,     0.38,2,     0.13,2,  12.0906
  74DI19980423,  A16N, 13546,  1,     22,     22,2,19980529, 326, 55.2133, -15.3850, 2475,     11.5,  12.0940,  35.4960,2,  35.4940,2,    278.5,2,    276.7,2,     0.49,2,     4.46,2,     0.23,2, -999.000,9, -999.000,9,   -999.0,9,-999.0000,  -999.00,9,     0.38,2,     0.12,2,  12.0925
  74DI19980423,  A16N, 13546,  1,     21,     21,2,19980529, 326, 55.2133, -15.3850, 2475,     19.8,  12.0940,  35.4960,6,  35.4940,2,    278.8,2,    276.8,2,     0.54,2,     4.46,2,     0.22,2, -999.000,9, -999.000,9,   -999.0,9,-999.0000,  -999.00,9,     0.41,2,     0.10,2,  12.0914
  74DI19980423,  A16N, 13546,  1,     20,     20,2,19980529, 326, 55.2133, -15.3850, 2475,     34.9,  12.0770,  35.4950,2,  35.4900,2,    281.8,2,    277.8,2,     0.59,2,     4.75,2,     0.26,2, -999.000,9, -999.000,9,   -999.0,9,-999.0000,  -999.00,9,     0.44,2,     0.14,2,  12.0724
  74DI19980423,  A16N, 13546,  1,     19,     19,2,19980529, 326, 55.2133, -15.3850, 2475,     65.3,  11.0590,  35.4500,2,  35.4520,2,    258.5,2,    262.9,2,     3.49,2,     8.71,2,     0.52,2, -999.000,9, -999.000,9,   -999.0,9,-999.0000,  -999.00,9,     1.38,2,     0.70,2,  11.0509
  74DI19980423,  A16N, 13546,  1,     18,     18,2,19980529, 326, 55.2133, -15.3850, 2475,     95.9,  10.7740,  35.4450,2,  35.4410,0,    256.3,2,    257.4,2,     4.28,2,    10.08,2,     0.59,2, -999.000,9, -999.000,9,   -999.0,9,-999.0000,  -999.00,9,     0.07,2,     0.04,2,  10.7623
  74DI19980423,  A16N, 13546,  1,     17,     17,2,19980529, 326, 55.2133, -15.3850, 2475,    226.2,  10.6580,  35.4780,2,  35.4750,2,    254.7,2,    257.0,2,     4.15,2,    10.49,2,     0.62,2, -999.000,9, -999.000,9,   -999.0,9,-999.0000,  -999.00,9,  -999.00,9,  -999.00,9,  10.6305
  74DI19980423,  A16N, 13546,  1,     16,     16,2,19980529, 326, 55.2133, -15.3850, 2475,    357.3,  10.4180,  35.4580,2,  35.4570,2,    258.7,2,    255.0,2,     4.44,2,    11.24,2,     0.91,2, -999.000,9, -999.000,9,   -999.0,9,-999.0000,  -999.00,9,  -999.00,9,  -999.00,9,  10.3749
  74DI19980423,  A16N, 13546,  1,     15,     15,2,19980529, 326, 55.2133, -15.3850, 2475,    508.8,   9.9450,  35.3940,2,  35.3920,2,    229.5,2,    236.8,2,     5.98,2,    13.16,2,     0.81,2, -999.000,9, -999.000,9,   -999.0,9,-999.0000,  -999.00,9,  -999.00,9,  -999.00,9,   9.8849
  74DI19980423,  A16N, 13546,  1,     14,     14,2,19980529, 326, 55.2133, -15.3850, 2475,    548.9,   9.8170,  35.3870,2,  35.3860,2,    224.4,2,    229.9,2,     6.52,2,    13.82,2,     0.84,2, -999.000,9, -999.000,9,   -999.0,9,-999.0000,  -999.00,9,  -999.00,9,  -999.00,9,   9.7526
  74DI19980423,  A16N, 13546,  1,     13,     13,2,19980529, 326, 55.2133, -15.3850, 2475,    603.0,   9.4120,  35.3180,2,  35.3190,2,    223.1,2,    220.3,2,     7.61,2,    15.30,2,     0.93,2, -999.000,9, -999.000,9,   -999.0,9,-999.0000,  -999.00,9,  -999.00,9,  -999.00,9,   9.3429
  74DI19980423,  A16N, 13546,  1,     12,     12,2,19980529, 326, 55.2133, -15.3850, 2475,    711.1,   9.2550,  35.3510,2,  35.3470,2,    214.0,2,    213.4,2,     8.29,2,    15.94,2,     0.97,2, -999.000,9, -999.000,9,   -999.0,9,-999.0000,  -999.00,9,  -999.00,9,  -999.00,9,   9.1738
  74DI19980423,  A16N, 13546,  1,     11,     11,2,19980529, 326, 55.2133, -15.3850, 2475,    885.8,   8.1350,  35.2830,2,  35.2800,2,    210.0,2,    211.6,2,     9.77,2,    17.12,2,     1.08,2, -999.000,9, -999.000,9,   -999.0,9,-999.0000,  -999.00,9,  -999.00,9,  -999.00,9,   8.0402
  74DI19980423,  A16N, 13546,  1,     10,     10,2,19980529, 326, 55.2133, -15.3850, 2475,    913.1,   7.7550,  35.2370,2,  35.2350,2,    216.7,2,    210.7,2,    10.31,2,    17.66,2,     1.12,2, -999.000,9, -999.000,9,   -999.0,9,-999.0000,  -999.00,9,  -999.00,9,  -999.00,9,   7.6597
  74DI19980423,  A16N, 13546,  1,      9,      9,2,19980529, 326, 55.2133, -15.3850, 2475,    999.4,   7.4540,  35.2510,2,  35.2560,2,    213.5,2,    209.4,2,    10.80,2,    18.11,2,     1.12,2, -999.000,9, -999.000,9,   -999.0,9,-999.0000,  -999.00,9,  -999.00,9,  -999.00,9,   7.3513
  74DI19980423,  A16N, 13546,  1,      8,      8,2,19980529, 326, 55.2133, -15.3850, 2475,   1115.8,   6.3130,  35.1430,2,  35.1410,2,    229.7,2,    227.2,2,    11.04,2,    17.88,2,     1.12,2, -999.000,9, -999.000,9,   -999.0,9,-999.0000,  -999.00,9,  -999.00,9,  -999.00,9,   6.2070
  74DI19980423,  A16N, 13546,  1,      7,      7,2,19980529, 326, 55.2133, -15.3850, 2475,   1318.8,   5.0420,  35.0350,2,  35.0330,2,    244.5,2,    244.9,2,    11.55,2,    17.97,2,     1.12,2, -999.000,9, -999.000,9,   -999.0,9,-999.0000,  -999.00,9,  -999.00,9,  -999.00,9,   4.9276
  74DI19980423,  A16N, 13546,  1,      6,      6,2,19980529, 326, 55.2133, -15.3850, 2475,   1522.5,   4.2170,  34.9600,2,  34.9600,2,    258.7,2,    259.9,2,    11.60,2,    17.77,2,     1.11,2, -999.000,9, -999.000,9,   -999.0,9,-999.0000,  -999.00,9,  -999.00,9,  -999.00,9,   4.0923
  74DI19980423,  A16N, 13546,  1,      5,      5,2,19980529, 326, 55.2133, -15.3850, 2475,   1754.2,   3.6690,  34.9180,2,  34.9160,2,    269.7,2,    270.6,2,    12.28,2,    17.45,2,     1.09,2, -999.000,9, -999.000,9,   -999.0,9,-999.0000,  -999.00,9,  -999.00,9,  -999.00,9,   3.5296
  74DI19980423,  A16N, 13546,  1,      4,      4,2,19980529, 326, 55.2133, -15.3850, 2475,   1946.1,   3.4830,  34.9130,2,  34.9130,2,    270.5,2,    272.3,2,    13.15,2,    17.33,2,     1.09,2, -999.000,9, -999.000,9,   -999.0,9,-999.0000,  -999.00,9,  -999.00,9,  -999.00,9,   3.3284
  74DI19980423,  A16N, 13546,  1,      3,      3,2,19980529, 326, 55.2133, -15.3850, 2475,   2132.8,   3.3880,  34.9230,2,  34.9230,2,    270.5,2,    270.1,2,    14.79,2,    17.42,2,     1.10,2, -999.000,9, -999.000,9,   -999.0,9,-999.0000,  -999.00,9,  -999.00,9,  -999.00,9,   3.2171
  74DI19980423,  A16N, 13546,  1,      2,      2,2,19980529, 326, 55.2133, -15.3850, 2475,   2337.9,   3.1360,  34.9410,2,  34.9420,2,    262.3,2,    261.2,2,    21.37,2,    18.09,2,     1.16,2, -999.000,9, -999.000,9,   -999.0,9,-999.0000,  -999.00,9,  -999.00,9,  -999.00,9,   2.9494
  74DI19980423,  A16N, 13546,  1,      1,      1,2,19980529, 326, 55.2133, -15.3850, 2475,   2500.6,   2.8260,  34.9380,2,  34.9400,2,    248.5,2,    248.8,2,    31.84,2,    19.47,2,     1.18,2, -999.000,9, -999.000,9,   -999.0,9,-999.0000,  -999.00,9,  -999.00,9,  -999.00,9,   2.6292