BOTTLE,20221006CCHSIOCBG
EXPOCODE,SECT_ID,STNNBR,CASTNO,SAMPNO,BTLNBR,BTLNBR_FLAG_W,DATE,TIME,LATITUDE,LONGITUDE,DEPTH,CTDPRS,CTDTMP,CTDSAL,CTDSAL_FLAG_W,SALNTY,SALNTY_FLAG_W,CTDOXY,CTDOXY_FLAG_W,OXYGEN,OXYGEN_FLAG_W,SILCAT,SILCAT_FLAG_W,NITRAT,NITRAT_FLAG_W,PHSPHT,PHSPHT_FLAG_W,CFC-11,CFC-11_FLAG_W,CFC-12,CFC-12_FLAG_W,ALKALI,ALKALI_FLAG_W,PH_SWS,PH_TEMP,PH_SWS_FLAG_W,CHLORA,CHLORA_FLAG_W,PPHYTN,PPHYTN_FLAG_W,THETA
,,,,,,,,,,,METERS,DBAR,ITS-90,PSS-78,,PSS-78,,UMOL/KG,,UMOL/KG,,UMOL/KG,,UMOL/KG,,UMOL/KG,,PMOL/KG,,PMOL/KG,,UMOL/KG,,,DEGC,,UG/L,,UG/L,,DEGC
  74DI19980423,  A16N, 13446,  1,     24,     24,2,19980505,1534, 35.0067, -21.3333, 5124,      4.2,  18.1400,  36.4330,2,  36.4320,2,    236.0,6,    237.0,2,     0.84,2,     0.00,2,     0.00,2,    2.604,3,    1.540,3,   2382.2,2,   7.9932,    25.00,2,     0.02,2,     0.00,2,  18.1393
  74DI19980423,  A16N, 13446,  1,     23,     23,2,19980505,1534, 35.0067, -21.3333, 5124,     16.9,  18.1430,  36.4320,2,  36.4320,2,    234.1,2,    236.4,2,     0.71,2,     0.00,2,     0.00,2,    2.027,3,    1.286,3,   2382.9,2,   7.9962,    25.00,2,     0.04,2,     0.00,2,  18.1401
  74DI19980423,  A16N, 13446,  1,     22,     22,2,19980505,1534, 35.0067, -21.3333, 5124,     27.2,  18.1320,  36.4340,2,  36.4340,2,    239.7,2,    237.9,2,     0.70,2,     0.00,2,     0.00,2,    1.358,3,    1.098,3,   2383.5,2,   7.9972,    25.00,2,     0.03,2,     0.01,2,  18.1273
  74DI19980423,  A16N, 13446,  1,     21,     21,2,19980505,1534, 35.0067, -21.3333, 5124,     47.8,  18.1110,  36.4480,2,  36.4470,2,    233.6,2,    236.9,2,     0.71,2,     0.00,2,     0.00,2,    2.351,3,    1.505,3,   2391.0,2,   7.9982,    25.00,2,     0.04,2,     0.02,2,  18.1027
  74DI19980423,  A16N, 13446,  1,     20,     20,2,19980505,1534, 35.0067, -21.3333, 5124,     87.7,  17.8360,  36.4600,2,  36.4420,2,    237.3,2,    235.2,2,     0.93,2,     0.16,2,     0.00,2,    2.368,3,    1.421,3,   2379.1,2,   7.9892,    25.00,2,     0.14,2,     0.05,2,  17.8209
  74DI19980423,  A16N, 13446,  1,     19,     19,2,19980505,1534, 35.0067, -21.3333, 5124,    127.4,  16.5820,  36.2700,2,  36.2680,2,    216.4,2,    215.1,2,     1.51,2,     3.85,2,     0.10,2,    2.352,3,    1.413,3,   2366.5,2,   7.9422,    25.00,2,     0.02,2,     0.01,2,  16.5612
  74DI19980423,  A16N, 13446,  1,     18,     18,2,19980505,1534, 35.0067, -21.3333, 5124,    168.5,  15.8540,  36.1850,2,  36.1840,2,    212.2,2,    208.0,2,     2.04,2,     6.02,2,     0.19,2,    2.611,3,    1.469,3,   2362.7,2,   7.9172,    25.00,2,     0.01,2,     0.01,2,  15.8273
  74DI19980423,  A16N, 13446,  1,     17,     17,2,19980505,1534, 35.0067, -21.3333, 5124,    248.3,  14.7050,  36.0240,2,  36.0220,2,    206.8,2,    207.8,2,     2.86,2,     8.23,2,     0.30,2,    2.649,3,    1.418,3,   -999.0,9,-999.0000,  -999.00,9,  -999.00,9,  -999.00,9,  14.6675
  74DI19980423,  A16N, 13446,  1,     16,     16,2,19980505,1534, 35.0067, -21.3333, 5124,    329.8,  13.6980,  35.8780,2,  35.8790,2,    209.6,2,    207.8,2,     3.58,2,     9.86,2,     0.52,2,    2.279,2,    1.348,2,   2362.4,2,   7.8603,    25.00,2,  -999.00,9,  -999.00,9,  13.6504
  74DI19980423,  A16N, 13446,  1,     15,     15,2,19980505,1534, 35.0067, -21.3333, 5124,    511.0,  11.7860,  35.6200,2,  35.6220,2,    201.5,2,    201.1,2,     5.32,2,    13.59,2,     0.87,2,    2.258,2,    1.165,2,   2347.3,2,   7.8043,    25.00,2,  -999.00,9,  -999.00,9,  11.7188
  74DI19980423,  A16N, 13446,  1,     14,     14,2,19980505,1534, 35.0067, -21.3333, 5124,    761.8,  10.2660,  35.5680,2,  35.5680,2,    185.2,2,    182.6,2,     9.10,2,    17.62,2,     1.11,2,    1.174,2,    0.540,2,   2350.7,2,   7.7483,    25.00,2,  -999.00,9,  -999.00,9,  10.1730
  74DI19980423,  A16N, 13446,  1,     13,     13,2,19980505,1534, 35.0067, -21.3333, 5124,    964.6,   9.6320,  35.7110,2,  35.7110,2,    180.8,2,    179.4,2,    11.23,2,    18.45,2,     1.24,2,    0.865,2,    0.453,2,   2366.9,2,   7.7433,    25.00,2,  -999.00,9,  -999.00,9,   9.5173
  74DI19980423,  A16N, 13446,  1,     12,     12,2,19980505,1534, 35.0067, -21.3333, 5124,   1112.1,   9.0070,  35.7320,2,  35.7330,2,    187.1,2,    190.6,2,    11.36,2,    17.86,2,     1.22,2, -999.000,9, -999.000,9,   2373.7,2,   7.7513,    25.00,2,  -999.00,9,  -999.00,9,   8.8787
  74DI19980423,  A16N, 13446,  1,     11,     11,2,19980505,1534, 35.0067, -21.3333, 5124,   1416.3,   6.8390,  35.4570,2,  35.4580,2,    221.2,2,    219.7,2,    12.36,2,    17.77,2,     1.24,2,    0.752,2,    0.381,2,   2352.9,2,   7.7413,    25.00,2,  -999.00,9,  -999.00,9,   6.6955
  74DI19980423,  A16N, 13446,  1,     10,     10,2,19980505,1534, 35.0067, -21.3333, 5124,   1569.5,   5.8230,  35.3060,2,  35.3100,2,    231.9,2,    232.3,2,    12.78,2,    17.81,2,     1.25,2,    0.797,2,    0.396,2,   -999.0,9,-999.0000,  -999.00,9,  -999.00,9,  -999.00,9,   5.6744
  74DI19980423,  A16N, 13446,  1,      9,      9,2,19980505,1534, 35.0067, -21.3333, 5124,   1922.2,   4.3740,  35.1020,2,  35.1020,2,    250.2,2,    251.4,0,    15.04,2,    18.15,2,     1.28,2,    0.300,2,    0.159,2,   2331.3,2,   7.7283,    25.00,2,  -999.00,9,  -999.00,9,   4.2083
  74DI19980423,  A16N, 13446,  1,      8,      8,2,19980505,1534, 35.0067, -21.3333, 5124,   2130.2,   3.8060,  35.0290,2,  35.0300,2,    256.1,2,    255.1,2,    17.59,2,    18.33,2,     1.30,2,    0.193,2,    0.084,2,   2317.2,2,   7.7273,    25.00,2,  -999.00,9,  -999.00,9,   3.6284
  74DI19980423,  A16N, 13446,  1,      7,      7,2,19980505,1534, 35.0067, -21.3333, 5124,   2635.4,   3.1230,  34.9700,2,  34.9690,2,    252.7,2,    253.0,2,    26.11,2,    19.53,2,     1.41,2,    0.065,2,    0.031,2,   2337.3,2,   7.7233,    25.00,2,  -999.00,9,  -999.00,9,   2.9071
  74DI19980423,  A16N, 13446,  1,      6,      6,2,19980505,1534, 35.0067, -21.3333, 5124,   3039.2,   2.8360,  34.9470,2,  34.9470,2,    246.5,2,    247.3,2,    33.24,2,    20.44,2,     1.49,2,    0.029,2,    0.015,2,   2352.1,2,   7.7233,    25.00,2,  -999.00,9,  -999.00,9,   2.5846
  74DI19980423,  A16N, 13446,  1,      5,      5,2,19980505,1534, 35.0067, -21.3333, 5124,   3452.4,   2.6440,  34.9270,2,  34.9260,2,    244.4,2,    244.4,2,    37.96,2,    21.11,2,     1.57,2,    0.023,2,    0.012,2,   2350.9,2,   7.7063,    25.00,2,  -999.00,9,  -999.00,9,   2.3531
  74DI19980423,  A16N, 13446,  1,      4,      4,2,19980505,1534, 35.0067, -21.3333, 5124,   3854.6,   2.5300,  34.9120,2,  34.9120,2,    244.1,2,    245.7,2,    41.78,2,    21.59,2,     1.59,2,    0.018,2,    0.010,2,   2355.0,2,   7.7023,    25.00,2,  -999.00,9,  -999.00,9,   2.1974
  74DI19980423,  A16N, 13446,  1,      3,      3,2,19980505,1534, 35.0067, -21.3333, 5124,   4271.4,   2.4690,  34.9020,2,  34.9010,2,    244.9,2,    244.3,2,    44.11,2,    21.93,2,     1.61,2,    0.019,2,    0.010,2,   2356.6,2,   7.7063,    25.00,2,  -999.00,9,  -999.00,9,   2.0899
  74DI19980423,  A16N, 13446,  1,      2,      2,2,19980505,1534, 35.0067, -21.3333, 5124,   4683.4,   2.4310,  34.8930,2,  34.8930,2,    246.4,2,    244.9,2,    45.58,2,    22.04,2,     1.61,2,    0.019,2,    0.010,2,   2358.8,2,   7.7063,    25.00,2,  -999.00,9,  -999.00,9,   2.0034
  74DI19980423,  A16N, 13446,  1,      1,      1,2,19980505,1534, 35.0067, -21.3333, 5124,   5212.8,   2.4600,  34.8900,2,  34.8890,2,    245.7,2,    246.0,2,    45.54,2,    21.87,2,     1.55,2,    0.019,2,    0.010,2,   2364.7,2,   7.7053,    25.00,2,  -999.00,9,  -999.00,9,   1.9646
  74DI19980423,  A16N, 13447,  1,     24,     24,2,19980506,  13, 35.4967, -20.8200, 5233,      4.4,  17.9400,  36.4500,2,  36.4480,2,    238.4,6,    238.3,2,     0.69,2,     0.00,2,     0.00,2, -999.000,9, -999.000,9,   -999.0,9,-999.0000,  -999.00,9,     0.03,2,     0.01,2,  17.9392
  74DI19980423,  A16N, 13447,  1,     23,     23,2,19980506,  13, 35.4967, -20.8200, 5233,     20.1,  17.9440,  36.4490,2,  36.4480,2,    235.1,2,    237.9,2,     0.69,2,     0.00,2,     0.00,2, -999.000,9, -999.000,9,   -999.0,9,-999.0000,  -999.00,9,     0.03,2,     0.02,2,  17.9405
  74DI19980423,  A16N, 13447,  1,     22,     22,2,19980506,  13, 35.4967, -20.8200, 5233,     32.8,  17.9480,  36.4480,2,  36.4470,2,    236.0,2,    243.4,2,     0.69,2,     0.00,2,     0.00,2, -999.000,9, -999.000,9,   -999.0,9,-999.0000,  -999.00,9,     0.03,2,     0.01,2,  17.9423
  74DI19980423,  A16N, 13447,  1,     21,     21,2,19980506,  13, 35.4967, -20.8200, 5233,     58.5,  17.9500,  36.4480,2,  36.4460,2,    236.3,2,    234.9,2,     0.71,2,     0.00,2,     0.00,2, -999.000,9, -999.000,9,   -999.0,9,-999.0000,  -999.00,9,     0.03,2,     0.02,2,  17.9399
  74DI19980423,  A16N, 13447,  1,     20,     20,2,19980506,  13, 35.4967, -20.8200, 5233,     84.0,  17.9330,  36.4450,2,  36.4430,2,    232.8,2,    239.2,2,     0.69,2,     0.00,2,     0.00,2, -999.000,9, -999.000,9,   -999.0,9,-999.0000,  -999.00,9,     0.04,2,     0.03,2,  17.9185
  74DI19980423,  A16N, 13447,  1,     19,     19,2,19980506,  13, 35.4967, -20.8200, 5233,    108.1,  17.7530,  36.4470,2,  36.4440,2,    236.3,2,    238.4,2,     0.74,2,     0.01,2,     0.00,2, -999.000,9, -999.000,9,   -999.0,9,-999.0000,  -999.00,9,     0.09,2,     0.02,2,  17.7345
  74DI19980423,  A16N, 13447,  1,     18,     18,2,19980506,  13, 35.4967, -20.8200, 5233,    158.4,  16.8060,  36.2960,2,  36.2930,2,    231.1,2,    224.0,2,     1.11,2,     2.55,2,     0.15,2, -999.000,9, -999.000,9,   -999.0,9,-999.0000,  -999.00,9,     0.02,2,     0.00,2,  16.7798
  74DI19980423,  A16N, 13447,  1,     17,     17,2,19980506,  13, 35.4967, -20.8200, 5233,    208.4,  15.8200,  36.1850,2,  36.1830,2,    213.6,2,    209.1,2,     2.11,2,     6.23,2,     0.35,2, -999.000,9, -999.000,9,   -999.0,9,-999.0000,  -999.00,9,  -999.00,9,  -999.00,9,  15.7870
  74DI19980423,  A16N, 13447,  1,     16,     16,2,19980506,  13, 35.4967, -20.8200, 5233,    410.4,  13.0470,  35.7910,2,  35.7900,2,    210.5,2,    208.9,2,     3.93,2,    10.72,2,     0.68,2, -999.000,9, -999.000,9,   -999.0,9,-999.0000,  -999.00,9,  -999.00,9,  -999.00,9,  12.9895
  74DI19980423,  A16N, 13447,  1,     15,     15,2,19980506,  13, 35.4967, -20.8200, 5233,    611.7,  11.3000,  35.5780,2,  35.5770,2,    197.6,2,    196.8,2,     6.18,2,    14.88,2,     0.95,2, -999.000,9, -999.000,9,   -999.0,9,-999.0000,  -999.00,9,  -999.00,9,  -999.00,9,  11.2214
  74DI19980423,  A16N, 13447,  1,     14,     14,2,19980506,  13, 35.4967, -20.8200, 5233,    813.6,  10.0630,  35.5940,2,  35.5910,2,    177.8,2,    177.4,2,     9.99,2,    18.33,2,     1.23,2, -999.000,9, -999.000,9,   -999.0,9,-999.0000,  -999.00,9,  -999.00,9,  -999.00,9,   9.9646
  74DI19980423,  A16N, 13447,  1,     13,     13,2,19980506,  13, 35.4967, -20.8200, 5233,   1014.6,   9.3840,  35.7010,2,  35.7000,2,    183.4,2,    185.2,2,    10.94,2,    18.01,2,     1.20,2, -999.000,9, -999.000,9,   -999.0,9,-999.0000,  -999.00,9,  -999.00,9,  -999.00,9,   9.2648
  74DI19980423,  A16N, 13447,  1,     12,     12,2,19980506,  13, 35.4967, -20.8200, 5233,   1268.1,   8.2860,  35.6810,2,  35.6810,2,    202.9,2,    201.5,2,    11.73,2,    17.55,2,     1.17,2, -999.000,9, -999.000,9,   -999.0,9,-999.0000,  -999.00,9,  -999.00,9,  -999.00,9,   8.1451
  74DI19980423,  A16N, 13447,  1,     11,     11,2,19980506,  13, 35.4967, -20.8200, 5233,   1517.1,   6.3310,  35.3780,2,  35.3770,2,    228.6,2,    226.3,2,    12.54,2,    17.81,2,     1.21,2, -999.000,9, -999.000,9,   -999.0,9,-999.0000,  -999.00,9,  -999.00,9,  -999.00,9,   6.1821
  74DI19980423,  A16N, 13447,  1,     10,     10,2,19980506,  13, 35.4967, -20.8200, 5233,   1772.9,   4.8310,  35.1520,2,  35.1520,2,    247.8,2,    247.6,2,    13.27,2,    17.81,2,     1.22,2, -999.000,9, -999.000,9,   -999.0,9,-999.0000,  -999.00,9,  -999.00,9,  -999.00,9,   4.6740
  74DI19980423,  A16N, 13447,  1,      9,      9,2,19980506,  13, 35.4967, -20.8200, 5233,   2025.9,   4.1330,  35.0640,2,  35.0640,2,    256.1,2,    254.6,2,    13.37,2,    17.81,2,     1.26,2, -999.000,9, -999.000,9,   -999.0,9,-999.0000,  -999.00,9,  -999.00,9,  -999.00,9,   3.9606
  74DI19980423,  A16N, 13447,  1,      8,      8,2,19980506,  13, 35.4967, -20.8200, 5233,   2279.7,   3.6340,  35.0100,2,  35.0110,2,    255.9,2,    256.9,2,    18.79,2,    18.37,2,     1.32,2, -999.000,9, -999.000,9,   -999.0,9,-999.0000,  -999.00,9,  -999.00,9,  -999.00,9,   3.4444
  74DI19980423,  A16N, 13447,  1,      7,      7,2,19980506,  13, 35.4967, -20.8200, 5233,   2530.1,   3.2340,  34.9780,2,  34.9770,2,    254.8,2,    256.6,2,    23.90,2,    19.02,2,     1.38,2, -999.000,9, -999.000,9,   -999.0,9,-999.0000,  -999.00,9,  -999.00,9,  -999.00,9,   3.0266
  74DI19980423,  A16N, 13447,  1,      6,      6,2,19980506,  13, 35.4967, -20.8200, 5233,   3033.6,   2.8300,  34.9460,2,  34.9450,2,    250.1,2,    250.1,2,    32.21,2,    20.15,2,     1.47,2, -999.000,9, -999.000,9,   -999.0,9,-999.0000,  -999.00,9,  -999.00,9,  -999.00,9,   2.5793
  74DI19980423,  A16N, 13447,  1,      5,      5,2,19980506,  13, 35.4967, -20.8200, 5233,   3547.4,   2.6270,  34.9250,2,  34.9240,2,    244.8,2,    246.4,2,    38.71,2,    21.26,2,     1.56,2, -999.000,9, -999.000,9,   -999.0,9,-999.0000,  -999.00,9,  -999.00,9,  -999.00,9,   2.3261
  74DI19980423,  A16N, 13447,  1,      4,      4,2,19980506,  13, 35.4967, -20.8200, 5233,   4064.5,   2.5110,  34.9080,2,  34.9070,2,    243.9,2,    245.8,2,    42.62,2,    21.83,2,     1.60,2, -999.000,9, -999.000,9,   -999.0,9,-999.0000,  -999.00,9,  -999.00,9,  -999.00,9,   2.1549
  74DI19980423,  A16N, 13447,  1,      3,      3,2,19980506,  13, 35.4967, -20.8200, 5233,   4578.4,   2.4480,  34.8960,2,  34.8950,2,    245.3,2,    245.1,2,    45.22,2,    21.93,2,     1.61,2, -999.000,9, -999.000,9,   -999.0,9,-999.0000,  -999.00,9,  -999.00,9,  -999.00,9,   2.0327
  74DI19980423,  A16N, 13447,  1,      2,      2,2,19980506,  13, 35.4967, -20.8200, 5233,   5090.7,   2.4710,  34.8920,2,  34.8910,2,    246.5,2,    245.0,2,    46.29,2,    22.07,2,     1.60,2, -999.000,9, -999.000,9,   -999.0,9,-999.0000,  -999.00,9,  -999.00,9,  -999.00,9,   1.9909
  74DI19980423,  A16N, 13447,  1,      1,      1,2,19980506,  13, 35.4967, -20.8200, 5233,   5327.0,   2.4840,  34.8910,2,  34.8890,2,    245.3,2,   -999.0,9,    45.88,2,    21.81,2,     1.56,2, -999.000,9, -999.000,9,   -999.0,9,-999.0000,  -999.00,9,  -999.00,9,  -999.00,9,   1.9729