BOTTLE,20221006CCHSIOCBG
EXPOCODE,SECT_ID,STNNBR,CASTNO,SAMPNO,BTLNBR,BTLNBR_FLAG_W,DATE,TIME,LATITUDE,LONGITUDE,DEPTH,CTDPRS,CTDTMP,CTDSAL,CTDSAL_FLAG_W,SALNTY,SALNTY_FLAG_W,CTDOXY,CTDOXY_FLAG_W,OXYGEN,OXYGEN_FLAG_W,SILCAT,SILCAT_FLAG_W,NITRAT,NITRAT_FLAG_W,PHSPHT,PHSPHT_FLAG_W,CFC-11,CFC-11_FLAG_W,CFC-12,CFC-12_FLAG_W,ALKALI,ALKALI_FLAG_W,PH_SWS,PH_TEMP,PH_SWS_FLAG_W,CHLORA,CHLORA_FLAG_W,PPHYTN,PPHYTN_FLAG_W,THETA
,,,,,,,,,,,METERS,DBAR,ITS-90,PSS-78,,PSS-78,,UMOL/KG,,UMOL/KG,,UMOL/KG,,UMOL/KG,,UMOL/KG,,PMOL/KG,,PMOL/KG,,UMOL/KG,,,DEGC,,UG/L,,UG/L,,DEGC
  74DI19980423,  A16N, 13450,  1,     23,     23,2,19980507,  27, 37.0050, -19.9933, 3884,      4.4,  16.9830,  36.2840,2,  36.2830,2,    239.5,2,    243.5,2,     0.83,2,     0.00,2,     0.00,2,    3.112,3,    1.631,3,   2381.2,6,   7.9762,    25.00,2,     0.03,2,     0.02,2,  16.9823
  74DI19980423,  A16N, 13450,  1,     22,     22,2,19980507,  27, 37.0050, -19.9933, 3884,     17.4,  16.9860,  36.2830,2,  36.2820,2,    240.0,2,    244.1,2,     0.83,2,     0.00,2,     0.00,2,    3.630,3,    1.769,3,   2380.0,2,   7.9762,    25.00,2,     0.03,2,     0.02,2,  16.9831
  74DI19980423,  A16N, 13450,  1,     21,     21,2,19980507,  27, 37.0050, -19.9933, 3884,     30.0,  16.9850,  36.2830,2,  36.2790,2,    242.0,2,    245.2,2,     0.85,2,     0.00,2,     0.00,2,    3.294,3,    1.675,3,   2380.3,2,   7.9782,    25.00,2,     0.03,2,     0.02,2,  16.9800
  74DI19980423,  A16N, 13450,  1,     20,     20,2,19980507,  27, 37.0050, -19.9933, 3884,     55.1,  16.5320,  36.2180,2,  36.2170,2,    243.9,2,    245.3,2,     0.92,2,     0.00,2,     0.00,2,    3.972,3,    1.613,3,   2377.8,2,   7.9722,    25.00,2,     0.05,2,     0.02,2,  16.5230
  74DI19980423,  A16N, 13450,  1,     19,     19,2,19980507,  27, 37.0050, -19.9933, 3884,     80.8,  16.2170,  36.1850,2,  36.1820,2,    242.2,2,    241.3,2,     1.17,2,     0.53,2,     0.00,2,    3.472,3,    1.711,3,   2375.8,2,   7.9622,    25.00,2,     0.11,2,     0.04,2,  16.2040
  74DI19980423,  A16N, 13450,  1,     18,     18,2,19980507,  27, 37.0050, -19.9933, 3884,    106.0,  15.6610,  36.1080,2,  36.0960,2,    239.7,2,    228.8,2,     1.59,2,     3.28,2,     0.17,2,    1.978,3,    0.996,3,   2371.8,2,   7.9322,    25.00,2,     0.07,2,     0.02,2,  15.6444
  74DI19980423,  A16N, 13450,  1,     17,     17,2,19980507,  27, 37.0050, -19.9933, 3884,    156.1,  14.2830,  35.9530,2,  35.9500,2,    216.4,2,    212.9,2,     3.04,2,     8.54,2,     0.52,2,    2.709,3,    1.461,3,   2359.1,2,   7.8782,    25.00,2,     0.01,2,     0.00,2,  14.2600
  74DI19980423,  A16N, 13450,  1,     16,     16,2,19980507,  27, 37.0050, -19.9933, 3884,    206.3,  13.5940,  35.8560,2,  35.8540,2,    207.0,2,    207.9,2,     4.06,2,    10.37,2,     0.65,2,    1.601,2,    1.039,3,   2357.7,2,   7.8543,    25.00,2,  -999.00,9,  -999.00,9,  13.5645
  74DI19980423,  A16N, 13450,  1,     15,     15,2,19980507,  27, 37.0050, -19.9933, 3884,    408.8,  11.8980,  35.6280,2,  35.6280,2,    212.6,2,    211.4,2,     5.12,2,    13.09,2,     0.78,2,    1.764,2,    1.146,3,   2345.2,2,   7.8133,    25.00,2,  -999.00,9,  -999.00,9,  11.8441
  74DI19980423,  A16N, 13450,  1,     14,     14,2,19980507,  27, 37.0050, -19.9933, 3884,    609.6,  10.7090,  35.5230,2,  35.5220,2,    200.5,2,    196.9,2,     7.61,2,    16.12,2,     0.96,2,    1.400,2,    0.874,2,   2342.2,2,   7.7723,    25.00,2,  -999.00,9,  -999.00,9,  10.6332
  74DI19980423,  A16N, 13450,  1,     13,     13,2,19980507,  27, 37.0050, -19.9933, 3884,    810.9,  10.0220,  35.6360,2,  35.6360,2,    181.5,2,    182.5,2,    10.28,2,    17.94,2,     1.02,2,    0.863,2,    0.501,2,   2355.7,2,   7.7473,    25.00,2,  -999.00,9,  -999.00,9,   9.9241
  74DI19980423,  A16N, 13450,  1,     12,     12,2,19980507,  27, 37.0050, -19.9933, 3884,   1012.9,   9.8910,  35.8590,2,  35.8580,2,    184.7,2,    185.0,2,    10.98,2,    17.26,2,     1.04,2,    0.753,2,    0.478,2,   2373.1,2,   7.7613,    25.00,2,  -999.00,9,  -999.00,9,   9.7682
  74DI19980423,  A16N, 13450,  1,     11,     11,2,19980507,  27, 37.0050, -19.9933, 3884,   1265.7,   8.8050,  35.7890,2,  35.7860,2,    202.5,2,    199.4,2,    11.80,2,    17.33,2,     1.02,2,    0.631,2,    0.410,2,   2374.0,2,   7.7553,    25.00,2,  -999.00,9,  -999.00,9,   8.6595
  74DI19980423,  A16N, 13450,  1,     10,     10,2,19980507,  27, 37.0050, -19.9933, 3884,   1518.7,   5.9710,  35.3290,2,  35.3320,2,    230.7,2,    232.9,2,    13.09,2,    17.93,2,     1.15,2,    0.663,2,    0.378,2,   2344.6,2,   7.7323,    25.00,2,  -999.00,9,  -999.00,9,   5.8260
  74DI19980423,  A16N, 13450,  1,      9,      9,2,19980507,  27, 37.0050, -19.9933, 3884,   1773.5,   4.7420,  35.1460,2,  35.1470,2,    248.5,2,    249.4,2,    14.36,2,    18.04,2,     1.17,2, -999.000,9, -999.000,9,   2330.1,2,   7.7283,    25.00,2,  -999.00,9,  -999.00,9,   4.5861
  74DI19980423,  A16N, 13450,  1,      8,      8,2,19980507,  27, 37.0050, -19.9933, 3884,   2028.5,   4.0440,  35.0530,2,  35.0540,2,    255.3,2,    256.2,2,    16.53,2,    18.28,2,     1.22,2,    0.483,2,    0.240,2,   2328.0,2,   7.7253,    25.00,2,  -999.00,9,  -999.00,9,   3.8727
  74DI19980423,  A16N, 13450,  1,      7,      7,2,19980507,  27, 37.0050, -19.9933, 3884,   2283.0,   3.5010,  34.9930,2,  34.9940,2,    259.1,2,    260.0,2,    20.16,2,    18.52,2,     1.20,2,    0.116,2,    0.060,2,   2326.4,2,   7.7233,    25.00,2,  -999.00,9,  -999.00,9,   3.3134
  74DI19980423,  A16N, 13450,  1,      6,      6,2,19980507,  27, 37.0050, -19.9933, 3884,   2537.2,   3.1240,  34.9640,2,  34.9650,2,    258.7,2,    257.7,2,    25.02,2,    19.18,2,     1.26,2,    0.114,2,    0.057,2,   2330.5,2,   7.7203,    25.00,2,  -999.00,9,  -999.00,9,   2.9180
  74DI19980423,  A16N, 13450,  1,      5,      5,2,19980507,  27, 37.0050, -19.9933, 3884,   2792.3,   2.9180,  34.9510,2,  34.9520,2,    255.1,2,    254.6,2,    29.78,2,    19.77,2,     1.44,2,    0.107,2,    0.057,2,   2337.9,2,   7.7183,    25.00,2,  -999.00,9,  -999.00,9,   2.6903
  74DI19980423,  A16N, 13450,  1,      4,      4,2,19980507,  27, 37.0050, -19.9933, 3884,   3048.4,   2.7520,  34.9390,2,  34.9400,2,    252.0,2,    250.8,2,    34.58,2,    20.57,2,     1.52,2,    0.081,2,    0.040,2,   2346.9,2,   7.7153,    25.00,2,  -999.00,9,  -999.00,9,   2.5015
  74DI19980423,  A16N, 13450,  1,      3,      3,2,19980507,  27, 37.0050, -19.9933, 3884,   3304.6,   2.6490,  34.9290,2,  34.9310,2,    247.6,2,    247.1,2,    38.42,2,    21.05,2,     1.58,2,    0.076,2,    0.034,2,   2349.5,2,   7.7143,    25.00,2,  -999.00,9,  -999.00,9,   2.3739
  74DI19980423,  A16N, 13450,  1,      2,      2,2,19980507,  27, 37.0050, -19.9933, 3884,   3559.7,   2.5770,  34.9200,2,  34.9200,2,    245.8,2,    245.3,2,    41.51,2,    21.53,2,     1.61,2,    0.045,2,    0.020,2,   2352.5,2,   7.7123,    25.00,2,  -999.00,9,  -999.00,9,   2.2760
  74DI19980423,  A16N, 13450,  1,      1,      1,2,19980507,  27, 37.0050, -19.9933, 3884,   3932.6,   2.5460,  34.9120,2,  34.9140,2,    245.7,6,    244.7,2,    42.35,2,    21.49,2,     1.61,2,    0.023,2,    0.015,2,   2355.0,2,   7.7153,    25.00,2,  -999.00,9,  -999.00,9,   2.2041
  74DI19980423,  A16N, 13451,  1,     24,     24,2,19980507, 714, 37.5050, -20.0017, 4817,      2.6,  16.7610,  36.2570,2,  36.2540,2,    241.0,6,    244.6,2,     0.83,2,     0.00,2,  -999.00,9, -999.000,9, -999.000,9,   -999.0,9,-999.0000,  -999.00,9,     0.03,2,     0.01,2,  16.7606
  74DI19980423,  A16N, 13451,  1,     23,     23,2,19980507, 714, 37.5050, -20.0017, 4817,     12.5,  16.7240,  36.2550,2,  36.2540,2,    244.2,2,    244.2,2,     0.83,2,     0.00,2,  -999.00,9, -999.000,9, -999.000,9,   -999.0,9,-999.0000,  -999.00,9,     0.03,2,     0.00,2,  16.7220
  74DI19980423,  A16N, 13451,  1,     22,     22,2,19980507, 714, 37.5050, -20.0017, 4817,     20.7,  16.7220,  36.2550,2,  36.2540,2,    243.3,2,    243.7,2,     0.86,2,     0.04,2,  -999.00,9, -999.000,9, -999.000,9,   -999.0,9,-999.0000,  -999.00,9,     0.03,2,     0.00,2,  16.7186
  74DI19980423,  A16N, 13451,  1,     21,     21,2,19980507, 714, 37.5050, -20.0017, 4817,     35.6,  16.7150,  36.2540,2,  36.2530,2,    237.7,2,    243.4,2,     0.85,2,     0.10,2,  -999.00,9, -999.000,9, -999.000,9,   -999.0,9,-999.0000,  -999.00,9,     0.04,2,     0.00,2,  16.7092
  74DI19980423,  A16N, 13451,  1,     20,     20,2,19980507, 714, 37.5050, -20.0017, 4817,     66.3,  16.3150,  36.2080,2,  36.2040,2,    246.0,2,    246.3,2,     0.87,2,     0.06,2,  -999.00,9, -999.000,9, -999.000,9,   -999.0,9,-999.0000,  -999.00,9,     0.05,2,     0.03,2,  16.3043
  74DI19980423,  A16N, 13451,  1,     19,     19,2,19980507, 714, 37.5050, -20.0017, 4817,     96.3,  16.0850,  36.1850,2,  36.1830,2,    242.3,2,    246.1,2,     0.85,2,     0.13,2,  -999.00,9, -999.000,9, -999.000,9,   -999.0,9,-999.0000,  -999.00,9,     0.08,2,     0.03,2,  16.0696
  74DI19980423,  A16N, 13451,  1,     18,     18,2,19980507, 714, 37.5050, -20.0017, 4817,    116.3,  15.8080,  36.1460,2,  36.1460,2,    236.8,2,    240.6,2,     0.89,2,     1.07,2,  -999.00,9, -999.000,9, -999.000,9,   -999.0,9,-999.0000,  -999.00,9,     0.07,2,     0.03,2,  15.7896
  74DI19980423,  A16N, 13451,  1,     17,     17,2,19980507, 714, 37.5050, -20.0017, 4817,    145.9,  15.0950,  36.0420,2,  36.0320,2,    232.0,2,    222.4,2,     1.74,2,     5.18,2,  -999.00,9, -999.000,9, -999.000,9,   -999.0,9,-999.0000,  -999.00,9,  -999.00,9,  -999.00,9,  15.0727
  74DI19980423,  A16N, 13451,  1,     16,     16,2,19980507, 714, 37.5050, -20.0017, 4817,    186.4,  14.1820,  35.9460,2,  35.9450,2,    218.9,2,    215.0,2,     2.38,2,     7.83,2,  -999.00,9, -999.000,9, -999.000,9,   -999.0,9,-999.0000,  -999.00,9,  -999.00,9,  -999.00,9,  14.1546
  74DI19980423,  A16N, 13451,  1,     15,     15,2,19980507, 714, 37.5050, -20.0017, 4817,    226.7,  13.6590,  35.8780,2,  35.8770,2,    215.8,2,    216.0,2,     2.91,2,     8.90,2,  -999.00,9, -999.000,9, -999.000,9,   -999.0,9,-999.0000,  -999.00,9,  -999.00,9,  -999.00,9,  13.6265
  74DI19980423,  A16N, 13451,  1,     14,     14,2,19980507, 714, 37.5050, -20.0017, 4817,    357.5,  12.3150,  35.6850,2,  35.6800,2,    217.3,2,    217.7,2,     4.08,2,    11.30,2,  -999.00,9, -999.000,9, -999.000,9,   -999.0,9,-999.0000,  -999.00,9,  -999.00,9,  -999.00,9,  12.2669
  74DI19980423,  A16N, 13451,  1,     13,     13,2,19980507, 714, 37.5050, -20.0017, 4817,    508.8,  11.1700,  35.5440,2,  35.5430,2,    213.9,2,    215.2,2,     5.22,2,    13.62,2,  -999.00,9, -999.000,9, -999.000,9,   -999.0,9,-999.0000,  -999.00,9,  -999.00,9,  -999.00,9,  11.1054
  74DI19980423,  A16N, 13451,  1,     12,     12,2,19980507, 714, 37.5050, -20.0017, 4817,    710.7,  10.6410,  35.6520,2,  35.6510,2,    187.4,2,    188.0,2,     8.18,2,    16.69,2,  -999.00,9, -999.000,9, -999.000,9,   -999.0,9,-999.0000,  -999.00,9,  -999.00,9,  -999.00,9,  10.5525
  74DI19980423,  A16N, 13451,  1,     11,     11,2,19980507, 714, 37.5050, -20.0017, 4817,    911.7,  10.4200,  35.8680,2,  35.8670,2,    183.0,2,    183.1,2,     9.50,2,    16.89,2,  -999.00,9, -999.000,9, -999.000,9,   -999.0,9,-999.0000,  -999.00,9,  -999.00,9,  -999.00,9,  10.3066
  74DI19980423,  A16N, 13451,  1,     10,     10,2,19980507, 714, 37.5050, -20.0017, 4817,   1215.0,   9.3790,  35.8940,2,  35.8790,2,    194.9,2,    194.4,2,    10.88,2,    17.10,2,  -999.00,9, -999.000,9, -999.000,9,   -999.0,9,-999.0000,  -999.00,9,  -999.00,9,  -999.00,9,   9.2346
  74DI19980423,  A16N, 13451,  1,      9,      9,2,19980507, 714, 37.5050, -20.0017, 4817,   1619.1,   5.2930,  35.2240,2,  35.2200,2,    239.6,2,    242.7,2,    12.82,2,    17.94,2,  -999.00,9, -999.000,9, -999.000,9,   -999.0,9,-999.0000,  -999.00,9,  -999.00,9,  -999.00,9,   5.1456
  74DI19980423,  A16N, 13451,  1,      8,      8,2,19980507, 714, 37.5050, -20.0017, 4817,   1821.6,   4.6590,  35.1360,2,  35.1360,2,    248.6,2,    250.5,2,    13.94,2,    18.08,2,  -999.00,9, -999.000,9, -999.000,9,   -999.0,9,-999.0000,  -999.00,9,  -999.00,9,  -999.00,9,   4.4994
  74DI19980423,  A16N, 13451,  1,      7,      7,2,19980507, 714, 37.5050, -20.0017, 4817,   2229.8,   3.6720,  35.0170,2,  35.0170,2,    258.6,2,    257.4,2,    19.10,2,    18.63,2,  -999.00,9, -999.000,9, -999.000,9,   -999.0,9,-999.0000,  -999.00,9,  -999.00,9,  -999.00,9,   3.4867
  74DI19980423,  A16N, 13451,  1,      6,      6,2,19980507, 714, 37.5050, -20.0017, 4817,   2789.8,   2.9520,  34.9540,2,  34.9530,2,    257.7,2,    255.2,2,    28.02,2,    19.55,2,  -999.00,9, -999.000,9, -999.000,9,   -999.0,9,-999.0000,  -999.00,9,  -999.00,9,  -999.00,9,   2.7239
  74DI19980423,  A16N, 13451,  1,      5,      5,2,19980507, 714, 37.5050, -20.0017, 4817,   3299.9,   2.6760,  34.9320,2,  34.9310,2,    248.6,2,    248.1,2,    36.63,2,    21.00,2,  -999.00,9, -999.000,9, -999.000,9,   -999.0,9,-999.0000,  -999.00,9,  -999.00,9,  -999.00,9,   2.4007
  74DI19980423,  A16N, 13451,  1,      4,      4,2,19980507, 714, 37.5050, -20.0017, 4817,   3812.7,   2.5710,  34.9170,2,  34.9170,2,    244.5,2,    244.9,2,    41.54,2,    21.84,2,  -999.00,9, -999.000,9, -999.000,9,   -999.0,9,-999.0000,  -999.00,9,  -999.00,9,  -999.00,9,   2.2420
  74DI19980423,  A16N, 13451,  1,      3,      3,2,19980507, 714, 37.5050, -20.0017, 4817,   4326.5,   2.5240,  34.9070,2,  34.9070,2,    245.6,2,    244.1,2,    44.07,2,    22.13,2,  -999.00,9, -999.000,9, -999.000,9,   -999.0,9,-999.0000,  -999.00,9,  -999.00,9,  -999.00,9,   2.1367
  74DI19980423,  A16N, 13451,  1,      2,      2,2,19980507, 714, 37.5050, -20.0017, 4817,   4839.9,   2.4690,  34.8960,2,  34.8950,2,    244.5,2,    245.6,2,    46.11,2,    22.37,2,  -999.00,9, -999.000,9, -999.000,9,   -999.0,9,-999.0000,  -999.00,9,  -999.00,9,  -999.00,9,   2.0207
  74DI19980423,  A16N, 13451,  1,      1,      1,2,19980507, 714, 37.5050, -20.0017, 4817,   4898.0,   2.4680,  34.8940,2,  34.8950,2,    242.8,2,    245.7,2,    45.59,2,    21.84,2,  -999.00,9, -999.000,9, -999.000,9,   -999.0,9,-999.0000,  -999.00,9,  -999.00,9,  -999.00,9,   2.0125