BOTTLE,20221006CCHSIOCBG
EXPOCODE,SECT_ID,STNNBR,CASTNO,SAMPNO,BTLNBR,BTLNBR_FLAG_W,DATE,TIME,LATITUDE,LONGITUDE,DEPTH,CTDPRS,CTDTMP,CTDSAL,CTDSAL_FLAG_W,SALNTY,SALNTY_FLAG_W,CTDOXY,CTDOXY_FLAG_W,OXYGEN,OXYGEN_FLAG_W,SILCAT,SILCAT_FLAG_W,NITRAT,NITRAT_FLAG_W,PHSPHT,PHSPHT_FLAG_W,CFC-11,CFC-11_FLAG_W,CFC-12,CFC-12_FLAG_W,ALKALI,ALKALI_FLAG_W,PH_SWS,PH_TEMP,PH_SWS_FLAG_W,CHLORA,CHLORA_FLAG_W,PPHYTN,PPHYTN_FLAG_W,THETA
,,,,,,,,,,,METERS,DBAR,ITS-90,PSS-78,,PSS-78,,UMOL/KG,,UMOL/KG,,UMOL/KG,,UMOL/KG,,UMOL/KG,,PMOL/KG,,PMOL/KG,,UMOL/KG,,,DEGC,,UG/L,,UG/L,,DEGC
  74DI19980423,  A16N, 13540,  1,     18,     18,2,19980528, 721, 56.2150, -13.7950, 2194,      3.7,  11.6150,  35.4550,2,  35.4510,2,    277.2,6,    278.0,2,     0.26,2,     3.76,2,     0.23,2, -999.000,9, -999.000,9,   -999.0,9,-999.0000,  -999.00,9,     0.18,2,     0.08,2,  11.6145
  74DI19980423,  A16N, 13540,  1,     17,     17,2,19980528, 721, 56.2150, -13.7950, 2194,     10.4,  11.6190,  35.4540,2,  35.4510,2,    279.9,2,    277.8,2,     0.47,2,     3.71,2,     0.13,2, -999.000,9, -999.000,9,   -999.0,9,-999.0000,  -999.00,9,     0.19,2,     0.05,2,  11.6177
  74DI19980423,  A16N, 13540,  1,     16,     16,2,19980528, 721, 56.2150, -13.7950, 2194,     18.8,  11.6190,  35.4540,2,  35.4510,2,    275.5,2,    278.3,2,     0.40,2,     3.88,2,     0.15,2, -999.000,9, -999.000,9,   -999.0,9,-999.0000,  -999.00,9,     0.19,2,     0.05,2,  11.6166
  74DI19980423,  A16N, 13540,  1,     15,     15,2,19980528, 721, 56.2150, -13.7950, 2194,     33.6,  11.5010,  35.4560,2,  35.4440,2,    274.8,2,    279.5,2,     0.53,2,     4.44,2,     0.23,2, -999.000,9, -999.000,9,   -999.0,9,-999.0000,  -999.00,9,     0.19,2,     0.06,2,  11.4967
  74DI19980423,  A16N, 13540,  1,     14,     14,2,19980528, 721, 56.2150, -13.7950, 2194,     64.3,  10.4670,  35.4380,2,  35.4350,2,    273.8,2,    268.5,2,     2.44,2,     8.43,2,     0.49,2, -999.000,9, -999.000,9,   -999.0,9,-999.0000,  -999.00,9,     0.19,2,     0.17,2,  10.4593
  74DI19980423,  A16N, 13540,  1,     13,     13,2,19980528, 721, 56.2150, -13.7950, 2194,     94.4,  10.3330,  35.4490,2,  35.4450,2,    263.1,2,   -999.0,9,     4.01,2,    10.39,2,     0.56,2, -999.000,9, -999.000,9,   -999.0,9,-999.0000,  -999.00,9,     0.05,2,     0.03,2,  10.3218
  74DI19980423,  A16N, 13540,  1,     12,     12,2,19980528, 721, 56.2150, -13.7950, 2194,    225.5,   9.9400,  35.4170,2,  35.4140,2,    254.7,2,    253.6,2,     5.16,2,    11.96,2,     0.51,2, -999.000,9, -999.000,9,   -999.0,9,-999.0000,  -999.00,9,  -999.00,9,  -999.00,9,   9.9138
  74DI19980423,  A16N, 13540,  1,     11,     11,2,19980528, 721, 56.2150, -13.7950, 2194,    356.5,   9.4620,  35.3700,2,  35.3660,2,    252.3,2,    252.6,2,     6.04,2,    12.86,2,     0.65,2, -999.000,9, -999.000,9,   -999.0,9,-999.0000,  -999.00,9,  -999.00,9,  -999.00,9,   9.4215
  74DI19980423,  A16N, 13540,  1,     10,     10,2,19980528, 721, 56.2150, -13.7950, 2194,    507.1,   9.0870,  35.3350,2,  35.3320,2,    248.8,2,    249.8,2,     6.31,2,    13.54,2,     0.73,2, -999.000,9, -999.000,9,   -999.0,9,-999.0000,  -999.00,9,  -999.00,9,  -999.00,9,   9.0303
  74DI19980423,  A16N, 13540,  1,      9,      9,2,19980528, 721, 56.2150, -13.7950, 2194,    701.6,   8.7180,  35.3030,2,  35.2980,2,    242.1,2,    241.7,2,     7.35,2,    14.85,2,     0.80,2, -999.000,9, -999.000,9,   -999.0,9,-999.0000,  -999.00,9,  -999.00,9,  -999.00,9,   8.6407
  74DI19980423,  A16N, 13540,  1,      8,      8,2,19980528, 721, 56.2150, -13.7950, 2194,    907.3,   7.4510,  35.2340,2,  35.2320,2,    214.7,2,    212.6,2,    10.77,2,    18.05,2,     1.07,2, -999.000,9, -999.000,9,   -999.0,9,-999.0000,  -999.00,9,  -999.00,9,  -999.00,9,   7.3583
  74DI19980423,  A16N, 13540,  1,      7,      7,2,19980528, 721, 56.2150, -13.7950, 2194,   1110.0,   6.0210,  35.1260,2,  35.1250,2,    226.8,2,    228.2,2,    11.57,2,    18.38,2,     1.08,2, -999.000,9, -999.000,9,   -999.0,9,-999.0000,  -999.00,9,  -999.00,9,  -999.00,9,   5.9180
  74DI19980423,  A16N, 13540,  1,      6,      6,2,19980528, 721, 56.2150, -13.7950, 2194,   1306.1,   4.8960,  35.0230,2,  35.0220,2,    246.5,2,    247.9,2,    11.45,2,    18.06,2,     1.13,2, -999.000,9, -999.000,9,   -999.0,9,-999.0000,  -999.00,9,  -999.00,9,  -999.00,9,   4.7842
  74DI19980423,  A16N, 13540,  1,      5,      5,2,19980528, 721, 56.2150, -13.7950, 2194,   1500.6,   4.3750,  34.9950,2,  34.9940,2,    262.9,2,    263.5,2,    11.93,2,    17.19,2,     1.02,2, -999.000,9, -999.000,9,   -999.0,9,-999.0000,  -999.00,9,  -999.00,9,  -999.00,9,   4.2504
  74DI19980423,  A16N, 13540,  1,      4,      4,2,19980528, 721, 56.2150, -13.7950, 2194,   1703.2,   3.8660,  34.9560,2,  34.9560,2,    264.6,2,    264.4,2,    14.32,2,    17.47,2,     1.08,2, -999.000,9, -999.000,9,   -999.0,9,-999.0000,  -999.00,9,  -999.00,9,  -999.00,9,   3.7287
  74DI19980423,  A16N, 13540,  1,      3,      3,2,19980528, 721, 56.2150, -13.7950, 2194,   1909.0,   3.4730,  34.9370,2,  34.9370,2,    265.7,2,    263.6,2,    17.27,2,    17.63,2,     1.12,2, -999.000,9, -999.000,9,   -999.0,9,-999.0000,  -999.00,9,  -999.00,9,  -999.00,9,   3.3219
  74DI19980423,  A16N, 13540,  1,      2,      2,2,19980528, 721, 56.2150, -13.7950, 2194,   2109.9,   3.2050,  34.9400,2,  34.9400,2,    262.5,2,    260.7,2,    20.09,2,    18.19,2,     1.18,2, -999.000,9, -999.000,9,   -999.0,9,-999.0000,  -999.00,9,  -999.00,9,  -999.00,9,   3.0391
  74DI19980423,  A16N, 13540,  1,      1,      1,2,19980528, 721, 56.2150, -13.7950, 2194,   2212.8,   3.0700,  34.9430,2,  34.9420,2,    255.8,2,    258.0,2,    23.25,2,    18.46,2,     1.00,2, -999.000,9, -999.000,9,   -999.0,9,-999.0000,  -999.00,9,  -999.00,9,  -999.00,9,   2.8965
  74DI19980423,  A16N, 13541,  1,     16,     16,2,19980528,1003, 56.2267, -14.0650, 1729,      3.7,  11.6970,  35.4740,2,  35.4720,2,    273.4,6,    277.5,2,     0.48,2,     4.92,2,     0.27,2, -999.000,9, -999.000,9,   -999.0,9,-999.0000,  -999.00,9,  -999.00,9,  -999.00,9,  11.6965
  74DI19980423,  A16N, 13541,  1,     15,     15,2,19980528,1003, 56.2267, -14.0650, 1729,     11.5,  11.6880,  35.4720,2,  35.4720,2,    276.0,2,    277.1,2,     0.48,2,     4.94,2,     0.27,2, -999.000,9, -999.000,9,   -999.0,9,-999.0000,  -999.00,9,  -999.00,9,  -999.00,9,  11.6865
  74DI19980423,  A16N, 13541,  1,     14,     14,2,19980528,1003, 56.2267, -14.0650, 1729,     19.3,  11.6740,  35.4740,2,  35.4710,2,    275.7,2,    278.1,2,     0.48,2,     4.91,2,     0.28,2, -999.000,9, -999.000,9,   -999.0,9,-999.0000,  -999.00,9,  -999.00,9,  -999.00,9,  11.6715
  74DI19980423,  A16N, 13541,  1,     13,     13,2,19980528,1003, 56.2267, -14.0650, 1729,     34.7,  10.9600,  35.4580,2,  35.4530,2,    277.3,2,    282.5,2,     0.53,2,     6.18,2,     0.39,2, -999.000,9, -999.000,9,   -999.0,9,-999.0000,  -999.00,9,  -999.00,9,  -999.00,9,  10.9557
  74DI19980423,  A16N, 13541,  1,     12,     12,2,19980528,1003, 56.2267, -14.0650, 1729,     64.9,  10.6110,  35.4700,2,  35.4670,2,    275.8,2,    262.0,2,     3.57,2,     9.54,2,     0.58,2, -999.000,9, -999.000,9,   -999.0,9,-999.0000,  -999.00,9,  -999.00,9,  -999.00,9,  10.6032
  74DI19980423,  A16N, 13541,  1,     11,     11,2,19980528,1003, 56.2267, -14.0650, 1729,     95.3,  10.4670,  35.4710,2,  35.4670,2,    261.1,2,    259.4,2,     4.14,2,    10.39,2,     0.63,2, -999.000,9, -999.000,9,   -999.0,9,-999.0000,  -999.00,9,  -999.00,9,  -999.00,9,  10.4556
  74DI19980423,  A16N, 13541,  1,     10,     10,2,19980528,1003, 56.2267, -14.0650, 1729,    226.0,  10.1720,  35.4470,2,  35.4440,2,    257.3,2,    258.5,2,     4.56,2,    10.98,2,     0.66,2, -999.000,9, -999.000,9,   -999.0,9,-999.0000,  -999.00,9,  -999.00,9,  -999.00,9,  10.1453
  74DI19980423,  A16N, 13541,  1,      9,      9,2,19980528,1003, 56.2267, -14.0650, 1729,    357.3,   9.7400,  35.3960,2,  35.3930,2,    246.7,2,    250.9,2,     5.48,2,    12.31,2,     0.75,2, -999.000,9, -999.000,9,   -999.0,9,-999.0000,  -999.00,9,  -999.00,9,  -999.00,9,   9.6987
  74DI19980423,  A16N, 13541,  1,      8,      8,2,19980528,1003, 56.2267, -14.0650, 1729,    509.0,   9.2650,  35.3500,2,  35.3470,2,    256.5,2,    256.9,0,     5.70,2,    12.63,2,     0.78,2, -999.000,9, -999.000,9,   -999.0,9,-999.0000,  -999.00,9,  -999.00,9,  -999.00,9,   9.2074
  74DI19980423,  A16N, 13541,  1,      7,      7,2,19980528,1003, 56.2267, -14.0650, 1729,    711.2,   8.7830,  35.3080,2,  35.3050,2,    249.3,2,    250.1,2,     6.54,2,    13.79,2,     0.87,2, -999.000,9, -999.000,9,   -999.0,9,-999.0000,  -999.00,9,  -999.00,9,  -999.00,9,   8.7042
  74DI19980423,  A16N, 13541,  1,      6,      6,2,19980528,1003, 56.2267, -14.0650, 1729,    912.1,   7.6760,  35.2460,2,  35.2430,2,    215.7,2,    215.3,2,    10.46,2,    17.80,2,     1.12,2, -999.000,9, -999.000,9,   -999.0,9,-999.0000,  -999.00,9,  -999.00,9,  -999.00,9,   7.5813
  74DI19980423,  A16N, 13541,  1,      5,      5,2,19980528,1003, 56.2267, -14.0650, 1729,   1116.0,   6.3330,  35.1550,2,  35.1530,2,    222.5,2,    222.1,2,    11.37,2,    18.28,2,     1.15,2, -999.000,9, -999.000,9,   -999.0,9,-999.0000,  -999.00,9,  -999.00,9,  -999.00,9,   6.2268
  74DI19980423,  A16N, 13541,  1,      4,      4,2,19980528,1003, 56.2267, -14.0650, 1729,   1317.8,   5.1660,  35.0550,2,  35.0550,2,    249.5,2,    251.2,2,    10.85,2,    17.05,2,     1.07,2, -999.000,9, -999.000,9,   -999.0,9,-999.0000,  -999.00,9,  -999.00,9,  -999.00,9,   5.0504
  74DI19980423,  A16N, 13541,  1,      3,      3,2,19980528,1003, 56.2267, -14.0650, 1729,   1520.2,   4.4830,  35.0000,2,  35.0000,2,    261.2,2,    262.2,2,    11.45,2,    16.97,2,     1.07,2, -999.000,9, -999.000,9,   -999.0,9,-999.0000,  -999.00,9,  -999.00,9,  -999.00,9,   4.3554
  74DI19980423,  A16N, 13541,  1,      2,      2,2,19980528,1003, 56.2267, -14.0650, 1729,   1673.9,   3.8920,  34.9590,2,  34.9590,2,    266.7,2,    264.6,2,    14.37,2,    17.25,2,     1.08,2, -999.000,9, -999.000,9,   -999.0,9,-999.0000,  -999.00,9,  -999.00,9,  -999.00,9,   3.7571
  74DI19980423,  A16N, 13541,  1,      1,      1,2,19980528,1003, 56.2267, -14.0650, 1729,   1739.9,   3.6880,  34.9430,2,  34.9440,2,    264.2,2,    265.0,2,    15.08,2,    17.20,2,     1.04,2, -999.000,9, -999.000,9,   -999.0,9,-999.0000,  -999.00,9,  -999.00,9,  -999.00,9,   3.5496
  74DI19980423,  A16N, 13542,  1,     13,     13,2,19980528,1220, 56.2483, -14.2367, 1149,      3.0,  11.6430,  35.4760,2,  35.4760,2,    282.8,6,    278.3,2,     0.32,2,     4.69,2,     0.25,2, -999.000,9, -999.000,9,   -999.0,9,-999.0000,  -999.00,9,     0.34,2,     0.07,2,  11.6426
  74DI19980423,  A16N, 13542,  1,     12,     12,2,19980528,1220, 56.2483, -14.2367, 1149,     14.3,  11.5740,  35.4750,2,  35.4730,2,    272.0,2,    280.6,0,     0.39,2,     4.87,2,     0.26,2, -999.000,9, -999.000,9,   -999.0,9,-999.0000,  -999.00,9,     0.31,2,     0.09,2,  11.5722
  74DI19980423,  A16N, 13542,  1,     11,     11,2,19980528,1220, 56.2483, -14.2367, 1149,     24.8,  11.0650,  35.4680,2,  35.4650,2,    277.4,2,    278.0,2,     1.22,2,     6.25,2,     0.38,2, -999.000,9, -999.000,9,   -999.0,9,-999.0000,  -999.00,9,     0.37,2,     0.19,2,  11.0619
  74DI19980423,  A16N, 13542,  1,     10,     10,2,19980528,1220, 56.2483, -14.2367, 1149,     44.7,  10.6290,  35.4620,2,  35.4600,2,    271.5,2,    268.8,2,     2.93,2,     8.19,2,     0.50,2, -999.000,9, -999.000,9,   -999.0,9,-999.0000,  -999.00,9,     0.18,2,     0.04,2,  10.6236
  74DI19980423,  A16N, 13542,  1,      9,      9,2,19980528,1220, 56.2483, -14.2367, 1149,     85.8,  10.4140,  35.4570,2,  35.4530,2,    254.3,2,    255.5,2,     4.38,2,    10.90,2,     0.63,2, -999.000,9, -999.000,9,   -999.0,9,-999.0000,  -999.00,9,     0.07,2,     0.04,2,  10.4038
  74DI19980423,  A16N, 13542,  1,      8,      8,2,19980528,1220, 56.2483, -14.2367, 1149,    125.5,  10.3850,  35.4680,2,  35.4650,2,    256.3,2,    252.5,2,     4.23,2,    10.70,2,     0.62,2, -999.000,9, -999.000,9,   -999.0,9,-999.0000,  -999.00,9,     0.03,2,     0.02,2,  10.3701
  74DI19980423,  A16N, 13542,  1,      7,      7,2,19980528,1220, 56.2483, -14.2367, 1149,    245.5,  10.1330,  35.4430,2,  35.4410,2,    260.5,2,    258.7,2,     4.57,2,    11.10,2,     0.65,2, -999.000,9, -999.000,9,   -999.0,9,-999.0000,  -999.00,9,  -999.00,9,  -999.00,9,  10.1040
  74DI19980423,  A16N, 13542,  1,      6,      6,2,19980528,1220, 56.2483, -14.2367, 1149,    326.9,  10.0300,  35.4350,2,  35.4320,2,    262.2,2,    261.7,2,     4.53,2,    11.14,2,     0.73,2, -999.000,9, -999.000,9,   -999.0,9,-999.0000,  -999.00,9,  -999.00,9,  -999.00,9,   9.9915
  74DI19980423,  A16N, 13542,  1,      5,      5,2,19980528,1220, 56.2483, -14.2367, 1149,    508.5,   9.6810,  35.3910,2,  35.3880,2,    252.5,2,    251.9,2,     5.45,2,    12.50,2,     0.75,2, -999.000,9, -999.000,9,   -999.0,9,-999.0000,  -999.00,9,  -999.00,9,  -999.00,9,   9.6219
  74DI19980423,  A16N, 13542,  1,      4,      4,2,19980528,1220, 56.2483, -14.2367, 1149,    763.0,   8.6950,  35.2920,2,  35.2910,2,    243.7,2,    244.6,2,     7.12,2,    14.41,2,     0.87,2, -999.000,9, -999.000,9,   -999.0,9,-999.0000,  -999.00,9,  -999.00,9,  -999.00,9,   8.6108
  74DI19980423,  A16N, 13542,  1,      3,      3,2,19980528,1220, 56.2483, -14.2367, 1149,    915.5,   7.7990,  35.2380,2,  35.2360,2,    219.5,2,    219.6,2,     9.84,2,    17.23,2,     1.05,2, -999.000,9, -999.000,9,   -999.0,9,-999.0000,  -999.00,9,  -999.00,9,  -999.00,9,   7.7031
  74DI19980423,  A16N, 13542,  1,      2,      2,2,19980528,1220, 56.2483, -14.2367, 1149,   1017.2,   7.1370,  35.1970,2,  35.1980,2,    220.9,2,    221.3,2,    10.49,2,    17.58,2,     1.07,2, -999.000,9, -999.000,9,   -999.0,9,-999.0000,  -999.00,9,  -999.00,9,  -999.00,9,   7.0348
  74DI19980423,  A16N, 13542,  1,      1,      1,2,19980528,1220, 56.2483, -14.2367, 1149,   1152.4,   6.5690,  35.1580,2,  35.1590,2,    224.6,2,    226.7,2,    10.71,2,    17.37,2,     0.99,2, -999.000,9, -999.000,9,   -999.0,9,-999.0000,  -999.00,9,  -999.00,9,  -999.00,9,   6.4570
  74DI19980423,  A16N, 13543,  1,     11,     11,2,19980528,1421, 56.2650, -14.4367,  572,      3.7,  11.6010,  35.4710,2,-999.0000,9,    277.5,6,    276.8,2,     0.49,2,     4.64,2,     0.25,2, -999.000,9, -999.000,9,   -999.0,9,-999.0000,  -999.00,9,  -999.00,9,  -999.00,9,  11.6005
  74DI19980423,  A16N, 13543,  1,     10,     10,2,19980528,1421, 56.2650, -14.4367,  572,     14.0,  11.5930,  35.4790,2,  35.4780,2,    276.4,2,    276.8,2,     0.55,2,     4.67,2,     0.25,2, -999.000,9, -999.000,9,   -999.0,9,-999.0000,  -999.00,9,  -999.00,9,  -999.00,9,  11.5912
  74DI19980423,  A16N, 13543,  1,      9,      9,2,19980528,1421, 56.2650, -14.4367,  572,     24.4,  11.5510,  35.4790,2,  35.4780,2,    271.0,2,    277.8,2,     0.57,2,     4.91,2,     0.27,2, -999.000,9, -999.000,9,   -999.0,9,-999.0000,  -999.00,9,  -999.00,9,  -999.00,9,  11.5479
  74DI19980423,  A16N, 13543,  1,      8,      8,2,19980528,1421, 56.2650, -14.4367,  572,     45.0,  10.8310,  35.4670,2,  35.4760,2,    275.4,2,    271.8,2,     1.78,2,     7.98,2,     0.46,2, -999.000,9, -999.000,9,   -999.0,9,-999.0000,  -999.00,9,  -999.00,9,  -999.00,9,  10.8255
  74DI19980423,  A16N, 13543,  1,      7,      7,2,19980528,1421, 56.2650, -14.4367,  572,     85.3,  10.4740,  35.4660,2,  35.4660,2,    260.7,2,    257.0,2,     4.37,2,    10.84,2,     0.62,2, -999.000,9, -999.000,9,   -999.0,9,-999.0000,  -999.00,9,  -999.00,9,  -999.00,9,  10.4638
  74DI19980423,  A16N, 13543,  1,      6,      6,2,19980528,1421, 56.2650, -14.4367,  572,    125.0,  10.4030,  35.4670,2,  35.4650,2,    261.9,2,    258.6,2,     4.42,2,    10.72,2,     0.62,2, -999.000,9, -999.000,9,   -999.0,9,-999.0000,  -999.00,9,  -999.00,9,  -999.00,9,  10.3881
  74DI19980423,  A16N, 13543,  1,      5,      5,2,19980528,1421, 56.2650, -14.4367,  572,    246.2,  10.0080,  35.4280,2,  35.4280,2,    251.3,2,    255.5,2,     4.81,2,    11.52,2,     0.67,2, -999.000,9, -999.000,9,   -999.0,9,-999.0000,  -999.00,9,  -999.00,9,  -999.00,9,   9.9792
  74DI19980423,  A16N, 13543,  1,      4,      4,2,19980528,1421, 56.2650, -14.4367,  572,    327.2,   9.8750,  35.4140,2,  35.4120,2,    259.4,2,    255.4,2,     5.00,2,    11.78,2,     0.69,2, -999.000,9, -999.000,9,   -999.0,9,-999.0000,  -999.00,9,  -999.00,9,  -999.00,9,   9.8369
  74DI19980423,  A16N, 13543,  1,      3,      3,2,19980528,1421, 56.2650, -14.4367,  572,    454.1,   9.3220,  35.3550,2,  35.3540,2,    255.0,2,    255.0,2,     5.38,2,    12.54,2,     0.74,2, -999.000,9, -999.000,9,   -999.0,9,-999.0000,  -999.00,9,  -999.00,9,  -999.00,9,   9.2706
  74DI19980423,  A16N, 13543,  1,      2,      2,2,19980528,1421, 56.2650, -14.4367,  572,    503.9,   9.1090,  35.3500,2,  35.3500,2,    264.9,2,    265.7,2,     4.23,2,    11.97,2,     0.71,2, -999.000,9, -999.000,9,   -999.0,9,-999.0000,  -999.00,9,  -999.00,9,  -999.00,9,   9.0526
  74DI19980423,  A16N, 13543,  1,      1,      1,2,19980528,1421, 56.2650, -14.4367,  572,    565.2,   9.1020,  35.3520,2,  35.3520,2,    264.6,2,    266.6,2,     5.00,2,    11.85,2,     0.68,2, -999.000,9, -999.000,9,   -999.0,9,-999.0000,  -999.00,9,  -999.00,9,  -999.00,9,   9.0386