BOTTLE,20221006CCHSIOCBG
EXPOCODE,SECT_ID,STNNBR,CASTNO,SAMPNO,BTLNBR,BTLNBR_FLAG_W,DATE,TIME,LATITUDE,LONGITUDE,DEPTH,CTDPRS,CTDTMP,CTDSAL,CTDSAL_FLAG_W,SALNTY,SALNTY_FLAG_W,CTDOXY,CTDOXY_FLAG_W,OXYGEN,OXYGEN_FLAG_W,SILCAT,SILCAT_FLAG_W,NITRAT,NITRAT_FLAG_W,PHSPHT,PHSPHT_FLAG_W,CFC-11,CFC-11_FLAG_W,CFC-12,CFC-12_FLAG_W,ALKALI,ALKALI_FLAG_W,PH_SWS,PH_TEMP,PH_SWS_FLAG_W,CHLORA,CHLORA_FLAG_W,PPHYTN,PPHYTN_FLAG_W,THETA
,,,,,,,,,,,METERS,DBAR,ITS-90,PSS-78,,PSS-78,,UMOL/KG,,UMOL/KG,,UMOL/KG,,UMOL/KG,,UMOL/KG,,PMOL/KG,,PMOL/KG,,UMOL/KG,,,DEGC,,UG/L,,UG/L,,DEGC
  74DI19980423,  A16N, 13547,  1,     21,     21,2,19980529, 817, 54.9317, -14.9117, 2405,      2.1,  12.4430,  35.4990,2,  35.4960,2,    274.6,6,    275.9,2,  -999.00,9,  -999.00,9,  -999.00,9, -999.000,9, -999.000,9,   -999.0,9,-999.0000,  -999.00,9,     0.30,2,     0.08,2,  12.4427
  74DI19980423,  A16N, 13547,  1,     20,     20,2,19980529, 817, 54.9317, -14.9117, 2405,     11.4,  12.4320,  35.4980,2,  35.4950,2,    277.4,2,    277.2,2,  -999.00,9,  -999.00,9,  -999.00,9, -999.000,9, -999.000,9,   -999.0,9,-999.0000,  -999.00,9,     0.29,2,     0.08,2,  12.4305
  74DI19980423,  A16N, 13547,  1,     19,     19,2,19980529, 817, 54.9317, -14.9117, 2405,     19.3,  12.4270,  35.4980,2,  35.4950,2,    277.9,2,    276.8,2,     0.55,2,     3.64,2,     0.19,2, -999.000,9, -999.000,9,   -999.0,9,-999.0000,  -999.00,9,     0.28,2,     0.10,2,  12.4244
  74DI19980423,  A16N, 13547,  1,     18,     18,2,19980529, 817, 54.9317, -14.9117, 2405,     34.8,  11.5920,  35.4810,2,  35.4770,2,    276.1,2,    281.2,2,     0.76,2,     5.26,2,     0.28,2, -999.000,9, -999.000,9,   -999.0,9,-999.0000,  -999.00,9,     0.31,2,     0.16,2,  11.5876
  74DI19980423,  A16N, 13547,  1,     17,     17,2,19980529, 817, 54.9317, -14.9117, 2405,     64.4,  10.7980,  35.4560,2,  35.4520,2,    260.4,2,    260.9,2,     4.02,2,     9.68,2,     0.55,2, -999.000,9, -999.000,9,   -999.0,9,-999.0000,  -999.00,9,     1.17,2,     0.45,2,  10.7902
  74DI19980423,  A16N, 13547,  1,     16,     16,2,19980529, 817, 54.9317, -14.9117, 2405,     94.8,  10.7610,  35.4830,2,  35.4410,2,    251.7,2,    258.7,2,     4.17,2,    10.28,2,     0.58,2, -999.000,9, -999.000,9,   -999.0,9,-999.0000,  -999.00,9,     0.08,2,     0.04,2,  10.7495
  74DI19980423,  A16N, 13547,  1,     15,     15,2,19980529, 817, 54.9317, -14.9117, 2405,    225.7,  10.3370,  35.4520,2,  35.4480,2,    252.3,2,    255.3,2,     4.64,2,    11.37,2,     0.65,2, -999.000,9, -999.000,9,   -999.0,9,-999.0000,  -999.00,9,  -999.00,9,  -999.00,9,  10.3101
  74DI19980423,  A16N, 13547,  1,     14,     14,2,19980529, 817, 54.9317, -14.9117, 2405,    356.9,   9.9690,  35.4090,2,  35.4050,2,    249.8,2,    243.3,2,     5.72,2,    12.67,2,     0.76,2, -999.000,9, -999.000,9,   -999.0,9,-999.0000,  -999.00,9,  -999.00,9,  -999.00,9,   9.9271
  74DI19980423,  A16N, 13547,  1,     13,     13,2,19980529, 817, 54.9317, -14.9117, 2405,    508.4,   9.1960,  35.3060,2,  35.3030,2,    222.5,2,    216.0,2,     8.32,2,    16.19,2,     0.97,2, -999.000,9, -999.000,9,   -999.0,9,-999.0000,  -999.00,9,  -999.00,9,  -999.00,9,   9.1388
  74DI19980423,  A16N, 13547,  1,     12,     12,2,19980529, 817, 54.9317, -14.9117, 2405,    709.7,   8.3000,  35.2790,2,  35.2770,2,    228.5,2,    216.9,2,     9.49,2,    17.03,2,     1.03,2, -999.000,9, -999.000,9,   -999.0,9,-999.0000,  -999.00,9,  -999.00,9,  -999.00,9,   8.2239
  74DI19980423,  A16N, 13547,  1,     11,     11,2,19980529, 817, 54.9317, -14.9117, 2405,    812.5,   7.7830,  35.3040,2,  35.2920,2,    205.9,2,    207.5,0,    10.81,2,    18.07,2,     1.11,2, -999.000,9, -999.000,9,   -999.0,9,-999.0000,  -999.00,9,  -999.00,9,  -999.00,9,   7.6985
  74DI19980423,  A16N, 13547,  1,     10,     10,2,19980529, 817, 54.9317, -14.9117, 2405,    882.8,   7.0530,  35.2030,2,  35.2010,2,    219.6,2,    217.2,0,    11.00,2,    18.39,2,     1.12,2, -999.000,9, -999.000,9,   -999.0,9,-999.0000,  -999.00,9,  -999.00,9,  -999.00,9,   6.9656
  74DI19980423,  A16N, 13547,  1,      9,      9,2,19980529, 817, 54.9317, -14.9117, 2405,   1022.6,   6.0100,  35.1220,2,  35.1210,2,    229.6,2,    230.5,0,    11.41,2,    18.30,2,     1.12,2, -999.000,9, -999.000,9,   -999.0,9,-999.0000,  -999.00,9,  -999.00,9,  -999.00,9,   5.9158
  74DI19980423,  A16N, 13547,  1,      8,      8,2,19980529, 817, 54.9317, -14.9117, 2405,   1106.5,   5.7570,  35.1290,2,  35.1250,2,    227.8,2,    229.3,0,    11.84,2,    18.58,2,     1.15,2, -999.000,9, -999.000,9,   -999.0,9,-999.0000,  -999.00,9,  -999.00,9,  -999.00,9,   5.6566
  74DI19980423,  A16N, 13547,  1,      7,      7,2,19980529, 817, 54.9317, -14.9117, 2405,   1319.7,   4.5210,  34.9890,2,  34.9870,2,    249.6,2,    254.2,2,    11.69,2,    18.10,2,     1.12,2, -999.000,9, -999.000,9,   -999.0,9,-999.0000,  -999.00,9,  -999.00,9,  -999.00,9,   4.4117
  74DI19980423,  A16N, 13547,  1,      6,      6,2,19980529, 817, 54.9317, -14.9117, 2405,   1521.9,   3.8710,  34.9340,2,  34.9320,2,    264.2,2,    267.6,2,    12.05,2,    17.65,2,     1.09,2, -999.000,9, -999.000,9,   -999.0,9,-999.0000,  -999.00,9,  -999.00,9,  -999.00,9,   3.7504
  74DI19980423,  A16N, 13547,  1,      5,      5,2,19980529, 817, 54.9317, -14.9117, 2405,   1715.7,   3.5330,  34.9110,2,  34.9110,2,    271.3,2,    273.4,2,    12.51,2,    17.38,2,     1.08,2, -999.000,9, -999.000,9,   -999.0,9,-999.0000,  -999.00,9,  -999.00,9,  -999.00,9,   3.3990
  74DI19980423,  A16N, 13547,  1,      4,      4,2,19980529, 817, 54.9317, -14.9117, 2405,   1929.7,   3.3850,  34.9190,2,  34.9190,2,    273.5,2,    272.7,2,    14.00,2,    17.55,2,     1.09,2, -999.000,9, -999.000,9,   -999.0,9,-999.0000,  -999.00,9,  -999.00,9,  -999.00,9,   3.2333
  74DI19980423,  A16N, 13547,  1,      3,      3,2,19980529, 817, 54.9317, -14.9117, 2405,   2133.7,   3.2780,  34.9360,2,  34.9360,2,    269.1,2,    266.6,2,    17.29,2,    17.87,2,     1.11,2, -999.000,9, -999.000,9,   -999.0,9,-999.0000,  -999.00,9,  -999.00,9,  -999.00,9,   3.1087
  74DI19980423,  A16N, 13547,  1,      2,      2,2,19980529, 817, 54.9317, -14.9117, 2405,   2338.4,   2.9390,  34.9430,2,  34.9430,2,    255.3,2,    254.4,2,    28.09,2,    19.22,2,     1.21,2, -999.000,9, -999.000,9,   -999.0,9,-999.0000,  -999.00,9,  -999.00,9,  -999.00,9,   2.7558
  74DI19980423,  A16N, 13547,  1,      1,      1,2,19980529, 817, 54.9317, -14.9117, 2405,   2432.3,   2.7640,  34.9380,2,  34.9380,2,    244.6,2,    248.3,2,    33.73,2,    19.90,2,     1.16,2, -999.000,9, -999.000,9,   -999.0,9,-999.0000,  -999.00,9,  -999.00,9,  -999.00,9,   2.5749
  74DI19980423,  A16N, 13548,  1,     21,     21,2,19980529,1325, 54.5817, -14.3367, 2736,      1.3,  11.9250,  35.4860,6,  35.4830,2,    274.9,6,    278.5,2,     0.34,2,     4.35,2,     0.19,2, -999.000,9, -999.000,9,   -999.0,9,-999.0000,  -999.00,9,  -999.00,9,  -999.00,9,  11.9248
  74DI19980423,  A16N, 13548,  1,     20,     20,2,19980529,1325, 54.5817, -14.3367, 2736,     12.0,  11.9270,  35.4870,2,  35.4840,2,    278.7,2,    278.9,2,     0.31,2,     4.33,2,     0.19,2, -999.000,9, -999.000,9,   -999.0,9,-999.0000,  -999.00,9,  -999.00,9,  -999.00,9,  11.9254
  74DI19980423,  A16N, 13548,  1,     19,     19,2,19980529,1325, 54.5817, -14.3367, 2736,     23.1,  11.9180,  35.4870,2,  35.4840,2,    279.2,2,    278.9,2,     0.31,2,     4.33,2,     0.20,2, -999.000,9, -999.000,9,   -999.0,9,-999.0000,  -999.00,9,  -999.00,9,  -999.00,9,  11.9150
  74DI19980423,  A16N, 13548,  1,     18,     18,2,19980529,1325, 54.5817, -14.3367, 2736,     43.6,  11.6580,  35.4870,2,  35.4720,2,    279.9,2,    277.0,2,     0.79,2,     5.40,2,     0.31,2, -999.000,9, -999.000,9,   -999.0,9,-999.0000,  -999.00,9,  -999.00,9,  -999.00,9,  11.6524
  74DI19980423,  A16N, 13548,  1,     17,     17,2,19980529,1325, 54.5817, -14.3367, 2736,     83.7,  10.8580,  35.5030,2,  35.5000,2,    262.7,2,    257.4,2,     4.00,2,     9.99,2,     0.55,2, -999.000,9, -999.000,9,   -999.0,9,-999.0000,  -999.00,9,  -999.00,9,  -999.00,9,  10.8478
  74DI19980423,  A16N, 13548,  1,     16,     16,2,19980529,1325, 54.5817, -14.3367, 2736,    124.5,  10.6620,  35.4780,2,  35.4730,2,    255.6,2,    256.6,2,     4.25,2,    10.36,2,     0.57,2, -999.000,9, -999.000,9,   -999.0,9,-999.0000,  -999.00,9,  -999.00,9,  -999.00,9,  10.6469
  74DI19980423,  A16N, 13548,  1,     15,     15,2,19980529,1325, 54.5817, -14.3367, 2736,    243.3,  10.3420,  35.4570,2,  35.4530,2,    253.7,2,    255.3,2,     4.52,2,    10.99,2,     0.62,2, -999.000,9, -999.000,9,   -999.0,9,-999.0000,  -999.00,9,  -999.00,9,  -999.00,9,  10.3129
  74DI19980423,  A16N, 13548,  1,     14,     14,2,19980529,1325, 54.5817, -14.3367, 2736,    322.1,  10.1870,  35.4490,2,  35.4460,2,    255.4,2,    258.8,2,     4.55,2,    11.10,2,     0.63,2, -999.000,9, -999.000,9,   -999.0,9,-999.0000,  -999.00,9,  -999.00,9,  -999.00,9,  10.1487
  74DI19980423,  A16N, 13548,  1,     13,     13,2,19980529,1325, 54.5817, -14.3367, 2736,    505.2,   9.7340,  35.3790,2,  35.3770,2,    256.8,2,    230.6,2,     6.65,2,    13.89,2,     0.82,2, -999.000,9, -999.000,9,   -999.0,9,-999.0000,  -999.00,9,  -999.00,9,  -999.00,9,   9.6751
  74DI19980423,  A16N, 13548,  1,     12,     12,2,19980529,1325, 54.5817, -14.3367, 2736,    754.4,   8.8510,  35.3020,2,  35.3000,2,    238.2,2,    217.1,2,     8.59,2,    16.30,2,     0.97,2, -999.000,9, -999.000,9,   -999.0,9,-999.0000,  -999.00,9,  -999.00,9,  -999.00,9,   8.7669
  74DI19980423,  A16N, 13548,  1,     11,     11,2,19980529,1325, 54.5817, -14.3367, 2736,    998.6,   6.8280,  35.1580,2,  35.1560,2,    210.5,2,    209.7,2,    11.48,2,    18.92,2,     1.16,2, -999.000,9, -999.000,9,   -999.0,9,-999.0000,  -999.00,9,  -999.00,9,  -999.00,9,   6.7301
  74DI19980423,  A16N, 13548,  1,     10,     10,2,19980529,1325, 54.5817, -14.3367, 2736,   1077.0,   6.9500,  35.2500,2,  35.2470,2,    213.2,2,    211.4,2,    11.45,2,    18.26,2,     1.12,2, -999.000,9, -999.000,9,   -999.0,9,-999.0000,  -999.00,9,  -999.00,9,  -999.00,9,   6.8427
  74DI19980423,  A16N, 13548,  1,      9,      9,2,19980529,1325, 54.5817, -14.3367, 2736,   1209.1,   5.6250,  35.0920,2,  35.0890,2,    233.4,2,    231.5,2,    11.55,2,    18.36,2,     1.12,2, -999.000,9, -999.000,9,   -999.0,9,-999.0000,  -999.00,9,  -999.00,9,  -999.00,9,   5.5157
  74DI19980423,  A16N, 13548,  1,      8,      8,2,19980529,1325, 54.5817, -14.3367, 2736,   1358.0,   4.6680,  35.0020,2,  35.0020,2,    248.3,2,    250.2,2,    11.57,2,    18.17,2,     1.10,2, -999.000,9, -999.000,9,   -999.0,9,-999.0000,  -999.00,9,  -999.00,9,  -999.00,9,   4.5537
  74DI19980423,  A16N, 13548,  1,      7,      7,2,19980529,1325, 54.5817, -14.3367, 2736,   1562.1,   3.9200,  34.9360,2,  34.9360,2,    262.8,2,    265.7,2,    11.88,2,    17.74,2,     1.08,2, -999.000,9, -999.000,9,   -999.0,9,-999.0000,  -999.00,9,  -999.00,9,  -999.00,9,   3.7951
  74DI19980423,  A16N, 13548,  1,      6,      6,2,19980529,1325, 54.5817, -14.3367, 2736,   1976.5,   3.4030,  34.9250,2,  34.9220,2,    269.4,2,    270.6,2,    14.44,2,    17.51,2,     1.08,2, -999.000,9, -999.000,9,   -999.0,9,-999.0000,  -999.00,9,  -999.00,9,  -999.00,9,   3.2467
  74DI19980423,  A16N, 13548,  1,      5,      5,2,19980529,1325, 54.5817, -14.3367, 2736,   2180.9,   3.2280,  34.9380,2,  34.9350,2,    267.6,2,    266.4,2,    17.23,2,    17.76,2,     1.10,2, -999.000,9, -999.000,9,   -999.0,9,-999.0000,  -999.00,9,  -999.00,9,  -999.00,9,   3.0550
  74DI19980423,  A16N, 13548,  1,      4,      4,2,19980529,1325, 54.5817, -14.3367, 2736,   2386.8,   3.0120,  34.9460,2,  34.9460,2,    259.3,2,    258.4,2,    23.87,2,    18.59,2,     1.18,2, -999.000,9, -999.000,9,   -999.0,9,-999.0000,  -999.00,9,  -999.00,9,  -999.00,9,   2.8228
  74DI19980423,  A16N, 13548,  1,      3,      3,2,19980529,1325, 54.5817, -14.3367, 2736,   2591.4,   2.8120,  34.9410,2,  34.9420,2,    252.6,2,    251.0,2,    31.05,2,    19.79,2,     1.26,2, -999.000,9, -999.000,9,   -999.0,9,-999.0000,  -999.00,9,  -999.00,9,  -999.00,9,   2.6065
  74DI19980423,  A16N, 13548,  1,      2,      2,2,19980529,1325, 54.5817, -14.3367, 2736,   2723.9,   2.6010,  34.9280,2,  34.9280,2,    245.3,2,    243.3,2,    38.63,2,    21.08,2,     1.33,2, -999.000,9, -999.000,9,   -999.0,9,-999.0000,  -999.00,9,  -999.00,9,  -999.00,9,   2.3867
  74DI19980423,  A16N, 13548,  1,      1,      1,2,19980529,1325, 54.5817, -14.3367, 2736,   2775.2,   2.4480,  34.9150,2,  34.9160,2,    237.7,2,    239.7,2,    42.66,2,    21.34,2,     1.29,2, -999.000,9, -999.000,9,   -999.0,9,-999.0000,  -999.00,9,  -999.00,9,  -999.00,9,   2.2317
  74DI19980423,  A16N, 13549,  1,     22,     22,2,19980529,1907, 54.2450, -13.7533, 2973,      3.8,  12.2030,  35.4760,2,-999.0000,9,    276.1,6,    276.8,2,     0.58,2,     4.68,2,     0.21,2, -999.000,9, -999.000,9,   -999.0,9,-999.0000,  -999.00,9,  -999.00,9,  -999.00,9,  12.2025
  74DI19980423,  A16N, 13549,  1,     21,     21,2,19980529,1907, 54.2450, -13.7533, 2973,     17.7,  12.2040,  35.4770,2,-999.0000,9,    272.5,2,    276.7,2,     0.70,2,     4.64,2,     0.21,2, -999.000,9, -999.000,9,   -999.0,9,-999.0000,  -999.00,9,  -999.00,9,  -999.00,9,  12.2017
  74DI19980423,  A16N, 13549,  1,     20,     20,2,19980529,1907, 54.2450, -13.7533, 2973,     30.0,  11.8910,  35.4860,2,-999.0000,9,    273.4,2,    269.1,2,     1.91,2,     5.68,2,     0.27,2, -999.000,9, -999.000,9,   -999.0,9,-999.0000,  -999.00,9,  -999.00,9,  -999.00,9,  11.8871
  74DI19980423,  A16N, 13549,  1,     19,     19,2,19980529,1907, 54.2450, -13.7533, 2973,     55.5,  11.1680,  35.4940,2,-999.0000,9,    270.2,2,    270.1,2,     3.72,2,     7.80,2,     0.41,2, -999.000,9, -999.000,9,   -999.0,9,-999.0000,  -999.00,9,  -999.00,9,  -999.00,9,  11.1611
  74DI19980423,  A16N, 13549,  1,     18,     18,2,19980529,1907, 54.2450, -13.7533, 2973,     79.9,  10.9790,  35.4830,2,-999.0000,9,    266.0,2,    259.6,2,     4.17,2,     9.41,2,     0.51,2, -999.000,9, -999.000,9,   -999.0,9,-999.0000,  -999.00,9,  -999.00,9,  -999.00,9,  10.9692
  74DI19980423,  A16N, 13549,  1,     17,     17,2,19980529,1907, 54.2450, -13.7533, 2973,    105.0,  10.9260,  35.4920,2,-999.0000,9,    257.7,2,    260.2,2,     4.06,2,     9.64,2,     0.52,2, -999.000,9, -999.000,9,   -999.0,9,-999.0000,  -999.00,9,  -999.00,9,  -999.00,9,  10.9131
  74DI19980423,  A16N, 13549,  1,     16,     16,2,19980529,1907, 54.2450, -13.7533, 2973,    205.2,  10.7950,  35.5010,2,-999.0000,9,    255.0,2,    257.2,2,     4.09,2,    10.09,2,     0.56,2, -999.000,9, -999.000,9,   -999.0,9,-999.0000,  -999.00,9,  -999.00,9,  -999.00,9,  10.7698
  74DI19980423,  A16N, 13549,  1,     15,     15,2,19980529,1907, 54.2450, -13.7533, 2973,    406.3,  10.3720,  35.4320,2,-999.0000,9,    249.3,2,    249.9,2,     4.96,2,    11.51,2,     0.65,2, -999.000,9, -999.000,9,   -999.0,9,-999.0000,  -999.00,9,  -999.00,9,  -999.00,9,  10.3230
  74DI19980423,  A16N, 13549,  1,     14,     14,2,19980529,1907, 54.2450, -13.7533, 2973,    485.9,  10.2130,  35.4210,2,-999.0000,9,    251.5,2,    249.2,2,     5.24,2,    12.10,2,     0.70,2, -999.000,9, -999.000,9,   -999.0,9,-999.0000,  -999.00,9,  -999.00,9,  -999.00,9,  10.1547
  74DI19980423,  A16N, 13549,  1,     13,     13,2,19980529,1907, 54.2450, -13.7533, 2973,    612.5,   9.0920,  35.2390,2,-999.0000,9,    219.0,2,    216.5,2,     8.26,2,    16.04,2,     0.96,2, -999.000,9, -999.000,9,   -999.0,9,-999.0000,  -999.00,9,  -999.00,9,  -999.00,9,   9.0232
  74DI19980423,  A16N, 13549,  1,     12,     12,2,19980529,1907, 54.2450, -13.7533, 2973,    797.6,   8.7460,  35.3190,2,-999.0000,9,    206.2,2,    204.7,2,     9.43,2,    17.31,2,     1.03,2, -999.000,9, -999.000,9,   -999.0,9,-999.0000,  -999.00,9,  -999.00,9,  -999.00,9,   8.6574
  74DI19980423,  A16N, 13549,  1,     11,     11,2,19980529,1907, 54.2450, -13.7533, 2973,   1007.6,   7.3220,  35.2650,2,-999.0000,9,    210.1,2,    210.8,2,    10.85,2,    18.18,2,     1.10,2, -999.000,9, -999.000,9,   -999.0,9,-999.0000,  -999.00,9,  -999.00,9,  -999.00,9,   7.2193
  74DI19980423,  A16N, 13549,  1,     10,     10,2,19980529,1907, 54.2450, -13.7533, 2973,   1212.0,   5.6670,  35.0920,2,  35.0910,2,    236.2,2,    235.3,2,    11.27,2,    18.00,2,     1.10,2, -999.000,9, -999.000,9,   -999.0,9,-999.0000,  -999.00,9,  -999.00,9,  -999.00,9,   5.5570
  74DI19980423,  A16N, 13549,  1,      9,      9,2,19980529,1907, 54.2450, -13.7533, 2973,   1415.2,   4.4700,  34.9840,2,  34.9810,2,    253.0,2,    254.4,2,    11.54,2,    17.92,2,     1.08,2, -999.000,9, -999.000,9,   -999.0,9,-999.0000,  -999.00,9,  -999.00,9,  -999.00,9,   4.3524
  74DI19980423,  A16N, 13549,  1,      8,      8,2,19980529,1907, 54.2450, -13.7533, 2973,   1622.2,   3.9070,  34.9350,2,  34.9340,2,    265.5,2,    265.9,2,    11.82,2,    17.64,2,     1.09,2, -999.000,9, -999.000,9,   -999.0,9,-999.0000,  -999.00,9,  -999.00,9,  -999.00,9,   3.7768
  74DI19980423,  A16N, 13549,  1,      7,      7,2,19980529,1907, 54.2450, -13.7533, 2973,   1823.3,   3.6020,  34.9150,2,  34.9140,2,    272.0,2,    271.5,2,    12.34,2,    17.47,2,     1.07,2, -999.000,9, -999.000,9,   -999.0,9,-999.0000,  -999.00,9,  -999.00,9,  -999.00,9,   3.4572
  74DI19980423,  A16N, 13549,  1,      6,      6,2,19980529,1907, 54.2450, -13.7533, 2973,   2217.2,   3.3150,  34.9280,2,  34.9270,2,    268.6,2,    270.1,2,    15.18,2,    17.51,2,     1.09,2, -999.000,9, -999.000,9,   -999.0,9,-999.0000,  -999.00,9,  -999.00,9,  -999.00,9,   3.1371
  74DI19980423,  A16N, 13549,  1,      5,      5,2,19980529,1907, 54.2450, -13.7533, 2973,   2424.1,   3.1660,  34.9430,2,  34.9410,2,    263.7,2,    263.8,2,    19.35,2,    17.75,2,     1.12,2, -999.000,9, -999.000,9,   -999.0,9,-999.0000,  -999.00,9,  -999.00,9,  -999.00,9,   2.9705
  74DI19980423,  A16N, 13549,  1,      4,      4,2,19980529,1907, 54.2450, -13.7533, 2973,   2622.6,   2.9800,  34.9460,2,  34.9450,2,    256.6,2,    256.8,2,    25.66,2,    18.99,2,     1.21,2, -999.000,9, -999.000,9,   -999.0,9,-999.0000,  -999.00,9,  -999.00,9,  -999.00,9,   2.7682
  74DI19980423,  A16N, 13549,  1,      3,      3,2,19980529,1907, 54.2450, -13.7533, 2973,   2827.3,   2.7650,  34.9370,2,  34.9370,2,    248.4,2,    247.4,2,    33.97,2,    20.38,2,     1.32,2, -999.000,9, -999.000,9,   -999.0,9,-999.0000,  -999.00,9,  -999.00,9,  -999.00,9,   2.5370
  74DI19980423,  A16N, 13549,  1,      2,      2,2,19980529,1907, 54.2450, -13.7533, 2973,   2980.1,   2.6220,  34.9270,2,  34.9280,2,    243.3,2,    243.4,2,    38.98,2,    20.89,2,     1.34,2, -999.000,9, -999.000,9,   -999.0,9,-999.0000,  -999.00,9,  -999.00,9,  -999.00,9,   2.3815
  74DI19980423,  A16N, 13549,  1,      1,      1,2,19980529,1907, 54.2450, -13.7533, 2973,   3008.8,   2.6050,  34.9260,2,  34.9260,2,    243.0,2,    243.5,2,    38.60,2,    20.63,2,     1.23,2, -999.000,9, -999.000,9,   -999.0,9,-999.0000,  -999.00,9,  -999.00,9,  -999.00,9,   2.3619