BOTTLE,20221006CCHSIOCBG
EXPOCODE,SECT_ID,STNNBR,CASTNO,SAMPNO,BTLNBR,BTLNBR_FLAG_W,DATE,TIME,LATITUDE,LONGITUDE,DEPTH,CTDPRS,CTDTMP,CTDSAL,CTDSAL_FLAG_W,SALNTY,SALNTY_FLAG_W,CTDOXY,CTDOXY_FLAG_W,OXYGEN,OXYGEN_FLAG_W,SILCAT,SILCAT_FLAG_W,NITRAT,NITRAT_FLAG_W,PHSPHT,PHSPHT_FLAG_W,CFC-11,CFC-11_FLAG_W,CFC-12,CFC-12_FLAG_W,ALKALI,ALKALI_FLAG_W,PH_SWS,PH_TEMP,PH_SWS_FLAG_W,CHLORA,CHLORA_FLAG_W,PPHYTN,PPHYTN_FLAG_W,THETA
,,,,,,,,,,,METERS,DBAR,ITS-90,PSS-78,,PSS-78,,UMOL/KG,,UMOL/KG,,UMOL/KG,,UMOL/KG,,UMOL/KG,,PMOL/KG,,PMOL/KG,,UMOL/KG,,,DEGC,,UG/L,,UG/L,,DEGC
  74DI19980423,  A16N, 13495,  1,     13,     13,2,19980519,1948, 55.4983, -19.9967, 1131,      2.3,  11.0780,  35.2590,2,  35.2580,2,    274.6,6,    285.3,2,     1.72,3,     7.69,2,     0.25,3, -999.000,9, -999.000,9,   -999.0,9,-999.0000,  -999.00,9,     0.67,2,     0.16,2,  11.0777
  74DI19980423,  A16N, 13495,  1,     12,     12,2,19980519,1948, 55.4983, -19.9967, 1131,     15.2,  10.6230,  35.2850,2,  35.2590,2,    279.3,2,    283.3,2,     3.51,3,     8.13,2,     0.34,2, -999.000,9, -999.000,9,   -999.0,9,-999.0000,  -999.00,9,     0.53,2,     0.27,2,  10.6212
  74DI19980423,  A16N, 13495,  1,     11,     11,2,19980519,1948, 55.4983, -19.9967, 1131,     28.1,  10.3550,  35.2330,2,  35.2400,2,    277.6,2,    276.7,2,     3.29,3,     7.67,2,     0.32,2, -999.000,9, -999.000,9,   -999.0,9,-999.0000,  -999.00,9,     0.51,2,     0.24,2,  10.3517
  74DI19980423,  A16N, 13495,  1,     10,     10,2,19980519,1948, 55.4983, -19.9967, 1131,     50.9,  10.4390,  35.2960,2,  35.2930,2,    272.1,2,    271.0,2,     4.20,2,     8.57,2,     0.41,2, -999.000,9, -999.000,9,   -999.0,9,-999.0000,  -999.00,9,     0.25,2,     0.15,2,  10.4330
  74DI19980423,  A16N, 13495,  1,      9,      9,2,19980519,1948, 55.4983, -19.9967, 1131,     79.0,  10.1910,  35.3100,2,  35.3100,2,    255.2,2,    258.0,2,     5.46,2,    10.52,2,     0.55,2, -999.000,9, -999.000,9,   -999.0,9,-999.0000,  -999.00,9,     0.05,2,     0.03,2,  10.1817
  74DI19980423,  A16N, 13495,  1,      8,      8,2,19980519,1948, 55.4983, -19.9967, 1131,    103.7,  10.2040,  35.3400,2,  35.3360,2,    258.5,2,    256.5,2,     5.46,2,    10.59,2,     0.58,2, -999.000,9, -999.000,9,   -999.0,9,-999.0000,  -999.00,9,     0.04,2,     0.03,2,  10.1918
  74DI19980423,  A16N, 13495,  1,      7,      7,2,19980519,1948, 55.4983, -19.9967, 1131,    204.4,   9.7660,  35.3130,2,  35.3100,2,    250.0,2,    247.8,2,     6.19,2,    12.31,2,     0.71,2, -999.000,9, -999.000,9,   -999.0,9,-999.0000,  -999.00,9,  -999.00,9,  -999.00,9,   9.7425
  74DI19980423,  A16N, 13495,  1,      6,      6,2,19980519,1948, 55.4983, -19.9967, 1131,    406.3,   8.3940,  35.1730,2,  35.1700,2,    217.9,2,    217.9,2,     9.19,2,    16.43,2,     0.99,2, -999.000,9, -999.000,9,   -999.0,9,-999.0000,  -999.00,9,  -999.00,9,  -999.00,9,   8.3510
  74DI19980423,  A16N, 13495,  1,      5,      5,2,19980519,1948, 55.4983, -19.9967, 1131,    612.1,   7.1450,  35.1940,2,  35.1890,2,    212.4,2,    211.8,2,    11.02,2,    17.95,2,     1.08,2, -999.000,9, -999.000,9,   -999.0,9,-999.0000,  -999.00,9,  -999.00,9,  -999.00,9,   7.0851
  74DI19980423,  A16N, 13495,  1,      4,      4,2,19980519,1948, 55.4983, -19.9967, 1131,    728.2,   6.2230,  35.1290,2,  35.1270,2,    220.1,2,    221.0,2,    11.44,2,    18.19,2,     1.09,2, -999.000,9, -999.000,9,   -999.0,9,-999.0000,  -999.00,9,  -999.00,9,  -999.00,9,   6.1563
  74DI19980423,  A16N, 13495,  1,      3,      3,2,19980519,1948, 55.4983, -19.9967, 1131,    813.7,   5.6250,  35.0790,2,  35.0780,2,    229.9,2,    229.5,2,    11.45,2,    18.29,2,     1.09,2, -999.000,9, -999.000,9,   -999.0,9,-999.0000,  -999.00,9,  -999.00,9,  -999.00,9,   5.5537
  74DI19980423,  A16N, 13495,  1,      2,      2,2,19980519,1948, 55.4983, -19.9967, 1131,   1015.4,   4.6460,  34.9980,2,  34.9950,2,    248.7,2,    249.6,2,    11.36,2,    17.66,2,     1.05,2, -999.000,9, -999.000,9,   -999.0,9,-999.0000,  -999.00,9,  -999.00,9,  -999.00,9,   4.5632
  74DI19980423,  A16N, 13495,  1,      1,      1,2,19980519,1948, 55.4983, -19.9967, 1131,   1134.4,   4.0720,  34.9510,2,  34.9550,2,    255.6,2,    261.5,2,    11.74,2,    17.49,2,     0.96,2, -999.000,9, -999.000,9,   -999.0,9,-999.0000,  -999.00,9,  -999.00,9,  -999.00,9,   3.9835
  74DI19980423,  A16N, 13496,  1,     13,     13,2,19980521,   3, 56.0067, -19.9983, 1462,      2.5,  11.4690,  35.4750,2,  35.4740,2,    270.8,6,    272.8,2,     2.35,2,     6.85,2,     0.36,2,   -8.763,3,    1.823,3,   2333.6,2,   7.8823,    25.00,2,     0.22,2,     0.08,2,  11.4687
  74DI19980423,  A16N, 13496,  1,     12,     12,2,19980521,   3, 56.0067, -19.9983, 1462,     16.3,  11.2610,  35.4740,2,  35.4730,2,    270.0,2,    274.5,2,     2.32,2,     6.88,2,     0.35,2,   -8.763,3,    1.521,3,   2339.0,2,   7.8823,    25.00,2,     0.22,2,     0.07,2,  11.2590
  74DI19980423,  A16N, 13496,  1,     11,     11,2,19980521,   3, 56.0067, -19.9983, 1462,     28.6,  11.1070,  35.4720,2,  35.4710,2,    268.9,2,    273.5,2,     2.27,2,     7.09,2,     0.37,2,   -8.762,3,    1.764,3,   2335.4,2,   7.8793,    25.00,2,     0.38,2,     0.16,2,  11.1035
  74DI19980423,  A16N, 13496,  1,     10,     10,2,19980521,   3, 56.0067, -19.9983, 1462,     54.9,  10.8540,  35.4740,2,  35.4730,2,    268.8,2,    263.1,2,     3.84,2,     8.84,2,     0.49,2,    3.917,2,    2.087,2,   2334.8,2,   7.8533,    25.00,2,     0.27,2,     0.11,2,  10.8473
  74DI19980423,  A16N, 13496,  1,      9,      9,2,19980521,   3, 56.0067, -19.9983, 1462,     80.0,  10.7700,  35.4840,2,  35.4800,2,    260.3,2,    257.6,2,     4.07,2,    10.05,2,     0.55,2,    4.013,2,    2.095,2,   -999.0,9,-999.0000,  -999.00,9,     0.04,2,     0.02,2,  10.7603
  74DI19980423,  A16N, 13496,  1,      8,      8,2,19980521,   3, 56.0067, -19.9983, 1462,    104.7,  10.6080,  35.4640,2,  35.4600,2,    257.9,2,    256.7,2,     4.23,2,    10.50,2,     0.59,2,    3.437,3,    1.826,3,   2330.9,2,   7.8353,    25.00,2,     0.03,2,     0.01,2,  10.5954
  74DI19980423,  A16N, 13496,  1,      7,      7,2,19980521,   3, 56.0067, -19.9983, 1462,    206.2,  10.3510,  35.4550,2,  35.4530,2,    253.2,2,    255.2,2,     4.55,2,    11.05,2,     0.61,2,    3.871,2,    2.119,2,   2330.5,2,   7.8283,    25.00,2,  -999.00,9,  -999.00,9,  10.3264
  74DI19980423,  A16N, 13496,  1,      6,      6,2,19980521,   3, 56.0067, -19.9983, 1462,    408.2,   9.9150,  35.4030,2,  35.3990,2,    244.1,2,    243.5,2,     5.55,2,    12.65,2,     0.71,2,    3.096,2,    1.907,2,   -999.0,9,-999.0000,  -999.00,9,  -999.00,9,  -999.00,9,   9.8671
  74DI19980423,  A16N, 13496,  1,      5,      5,2,19980521,   3, 56.0067, -19.9983, 1462,    610.7,   9.0280,  35.3030,2,  35.3030,2,    244.8,2,    243.1,2,     6.76,2,    14.10,2,     0.83,2,    2.735,2,    1.616,2,   -999.0,9,-999.0000,  -999.00,9,  -999.00,9,  -999.00,9,   8.9597
  74DI19980423,  A16N, 13496,  1,      4,      4,2,19980521,   3, 56.0067, -19.9983, 1462,    813.3,   7.5320,  35.1850,2,  35.1850,2,    211.8,2,    212.5,2,    10.44,2,    18.02,2,     1.08,2,    2.532,2,    0.853,3,   2322.4,2,   7.7233,    25.00,2,  -999.00,9,  -999.00,9,   7.4490
  74DI19980423,  A16N, 13496,  1,      3,      3,2,19980521,   3, 56.0067, -19.9983, 1462,   1015.7,   6.2530,  35.1420,2,  35.1420,2,    224.5,2,    222.1,2,    11.40,2,    18.47,2,     1.09,2,    2.272,2,    1.245,2,   2321.2,2,   7.7113,    25.00,2,  -999.00,9,  -999.00,9,   6.1577
  74DI19980423,  A16N, 13496,  1,      2,      2,2,19980521,   3, 56.0067, -19.9983, 1462,   1219.0,   4.9120,  35.0190,2,  35.0200,2,    243.8,2,    243.6,2,    12.06,2,    18.10,2,     1.07,2,    1.969,2,    1.100,2,   2314.1,2,   7.7073,    25.00,2,  -999.00,9,  -999.00,9,   4.8083
  74DI19980423,  A16N, 13496,  1,      1,      1,2,19980521,   3, 56.0067, -19.9983, 1462,   1469.1,   3.6600,  34.9250,2,  34.9260,2,    267.2,2,    268.8,2,    12.70,2,    17.21,2,     0.96,2,    2.030,2,    1.134,2,   2306.9,2,   7.7133,    25.00,2,  -999.00,9,  -999.00,9,   3.5465
  74DI19980423,  A16N, 13497,  1,     14,     14,2,19980520, 410, 56.4983, -20.0017, 1374,      2.7,  10.6770,  35.3230,2,  35.3210,2,    283.1,6,    285.7,2,     1.89,3,     7.04,2,     0.31,2, -999.000,9, -999.000,9,   -999.0,9,-999.0000,  -999.00,9,     0.98,2,     0.25,2,  10.6767
  74DI19980423,  A16N, 13497,  1,     13,     13,2,19980520, 410, 56.4983, -20.0017, 1374,      9.8,  10.6580,  35.3200,2,  35.3240,2,    283.1,2,    286.0,2,     0.61,2,     7.09,2,     0.33,2, -999.000,9, -999.000,9,   -999.0,9,-999.0000,  -999.00,9,     0.82,2,     0.38,2,  10.6568
  74DI19980423,  A16N, 13497,  1,     12,     12,2,19980520, 410, 56.4983, -20.0017, 1374,     17.6,  10.6040,  35.3480,2,  35.3350,2,    283.1,2,    283.7,2,     0.75,2,     6.97,2,     0.35,2, -999.000,9, -999.000,9,   -999.0,9,-999.0000,  -999.00,9,     0.97,2,     0.30,2,  10.6019
  74DI19980423,  A16N, 13497,  1,     11,     11,2,19980520, 410, 56.4983, -20.0017, 1374,     32.4,  10.5070,  35.3550,2,  35.3530,2,    282.4,2,    280.6,2,     0.99,2,     7.09,2,     0.36,2, -999.000,9, -999.000,9,   -999.0,9,-999.0000,  -999.00,9,     0.85,2,     0.24,2,  10.5031
  74DI19980423,  A16N, 13497,  1,     10,     10,2,19980520, 410, 56.4983, -20.0017, 1374,     63.3,  10.4460,  35.3720,2,  35.3710,2,    273.4,2,    275.0,2,     1.57,2,     7.36,2,     0.45,2, -999.000,9, -999.000,9,   -999.0,9,-999.0000,  -999.00,9,     0.34,2,     0.18,2,  10.4385
  74DI19980423,  A16N, 13497,  1,      9,      9,2,19980520, 410, 56.4983, -20.0017, 1374,     93.0,  10.3680,  35.3790,2,  35.3780,2,    270.4,2,    270.3,2,     2.72,2,     8.31,2,     0.52,2, -999.000,9, -999.000,9,   -999.0,9,-999.0000,  -999.00,9,     0.28,2,     0.13,2,  10.3570
  74DI19980423,  A16N, 13497,  1,      8,      8,2,19980520, 410, 56.4983, -20.0017, 1374,    224.3,  10.1340,  35.4180,2,  35.4160,2,    257.5,2,   -999.0,9,     4.80,2,    11.01,2,     0.62,2, -999.000,9, -999.000,9,   -999.0,9,-999.0000,  -999.00,9,  -999.00,9,  -999.00,9,  10.1076
  74DI19980423,  A16N, 13497,  1,      7,      7,2,19980520, 410, 56.4983, -20.0017, 1374,    356.0,  10.0330,  35.4100,2,  35.4080,2,    262.3,2,    261.6,2,     4.65,2,    10.90,2,     0.62,2, -999.000,9, -999.000,9,   -999.0,9,-999.0000,  -999.00,9,  -999.00,9,  -999.00,9,   9.9911
  74DI19980423,  A16N, 13497,  1,      6,      6,2,19980520, 410, 56.4983, -20.0017, 1374,    507.7,   9.7030,  35.3650,2,  35.3610,2,    253.7,2,    255.4,2,     5.31,2,    12.00,2,     0.70,2, -999.000,9, -999.000,9,   -999.0,9,-999.0000,  -999.00,9,  -999.00,9,  -999.00,9,   9.6440
  74DI19980423,  A16N, 13497,  1,      5,      5,2,19980520, 410, 56.4983, -20.0017, 1374,    710.6,   8.8580,  35.2670,2,  35.2650,2,    230.4,2,    229.5,2,     7.69,2,    15.15,2,     0.91,2, -999.000,9, -999.000,9,   -999.0,9,-999.0000,  -999.00,9,  -999.00,9,  -999.00,9,   8.7790
  74DI19980423,  A16N, 13497,  1,      4,      4,2,19980520, 410, 56.4983, -20.0017, 1374,    913.0,   7.3780,  35.1940,2,  35.1920,2,    216.1,2,    214.6,2,    10.56,2,    17.88,2,     1.08,2, -999.000,9, -999.000,9,   -999.0,9,-999.0000,  -999.00,9,  -999.00,9,  -999.00,9,   7.2853
  74DI19980423,  A16N, 13497,  1,      3,      3,2,19980520, 410, 56.4983, -20.0017, 1374,   1115.3,   5.8690,  35.0960,2,  35.0940,2,    229.6,2,    228.9,2,    12.20,2,    18.30,2,     1.11,2, -999.000,9, -999.000,9,   -999.0,9,-999.0000,  -999.00,9,  -999.00,9,  -999.00,9,   5.7668
  74DI19980423,  A16N, 13497,  1,      2,      2,2,19980520, 410, 56.4983, -20.0017, 1374,   1318.5,   4.8010,  35.0090,2,  35.0060,2,    247.6,2,    248.6,2,    12.15,2,    17.88,2,     1.10,2, -999.000,9, -999.000,9,   -999.0,9,-999.0000,  -999.00,9,  -999.00,9,  -999.00,9,   4.6890
  74DI19980423,  A16N, 13497,  1,      1,      1,2,19980520, 410, 56.4983, -20.0017, 1374,   1379.4,   4.3040,  34.9680,2,  34.9680,2,    255.2,2,    256.3,2,    13.16,2,    17.72,2,     1.00,2, -999.000,9, -999.000,9,   -999.0,9,-999.0000,  -999.00,9,  -999.00,9,  -999.00,9,   4.1915
  74DI19980423,  A16N, 13498,  1,     12,     12,2,19980520, 806, 56.9983, -19.9950,  970,      2.7,  10.5970,  35.2980,2,  35.2990,2,    269.5,6,    280.2,2,     2.40,2,     7.96,2,     0.43,2,    3.711,2,    1.791,2,   2329.7,2,   7.8643,    25.00,2,     0.59,2,     0.21,2,  10.5967
  74DI19980423,  A16N, 13498,  1,     11,     11,2,19980520, 806, 56.9983, -19.9950,  970,     10.0,  10.5620,  35.3000,2,  35.3030,2,    278.0,2,    279.7,2,     2.40,2,     8.02,2,     0.43,2,    3.689,2,    1.444,3,   2329.4,2,   7.8643,    25.00,2,     0.51,2,     0.69,2,  10.5608
  74DI19980423,  A16N, 13498,  1,     10,     10,2,19980520, 806, 56.9983, -19.9950,  970,     17.8,  10.4610,  35.3040,2,  35.3030,2,    279.3,2,    278.6,2,     2.50,2,     8.07,2,     0.45,2,    3.774,2,    1.619,3,   2331.4,2,   7.8623,    25.00,2,     0.58,2,     0.22,2,  10.4589
  74DI19980423,  A16N, 13498,  1,      9,      9,2,19980520, 806, 56.9983, -19.9950,  970,     33.7,  10.4010,  35.3040,2,  35.3020,2,    278.2,2,    275.4,2,     2.64,2,     8.19,2,     0.46,2,    3.895,2,    1.746,2,   2329.4,2,   7.8593,    25.00,2,     0.47,2,     0.22,2,  10.3970
  74DI19980423,  A16N, 13498,  1,      8,      8,2,19980520, 806, 56.9983, -19.9950,  970,     63.9,  10.3660,  35.3040,2,  35.3010,2,    274.1,2,    274.8,2,     2.57,2,     8.31,2,     0.47,2,    4.013,3,    2.095,2,   2331.6,2,   7.8563,    25.00,2,     0.30,2,     0.14,2,  10.3584
  74DI19980423,  A16N, 13498,  1,      7,      7,2,19980520, 806, 56.9983, -19.9950,  970,     94.3,  10.2620,  35.3190,2,  35.2310,2,    272.6,2,    270.9,2,     2.78,2,     8.66,2,     0.51,2,    4.807,2,    2.188,2,   -999.0,9,-999.0000,  -999.00,9,     0.28,2,     0.17,2,  10.2509
  74DI19980423,  A16N, 13498,  1,      6,      6,2,19980520, 806, 56.9983, -19.9950,  970,    225.7,  10.2370,  35.4280,2,  35.2310,0,    259.9,2,    260.9,2,     4.65,2,    10.92,2,     0.60,2,    4.648,2,    2.365,2,   -999.0,9,-999.0000,  -999.00,9,  -999.00,9,  -999.00,9,  10.2102
  74DI19980423,  A16N, 13498,  1,      5,      5,2,19980520, 806, 56.9983, -19.9950,  970,    357.1,  10.1770,  35.4310,2,  35.3530,0,    256.9,2,    259.2,2,     4.72,2,    11.39,2,     0.65,2,    3.420,3,    1.531,3,   2333.4,2,   7.8223,    25.00,2,  -999.00,9,  -999.00,9,  10.1345
  74DI19980423,  A16N, 13498,  1,      4,      4,2,19980520, 806, 56.9983, -19.9950,  970,    508.4,   9.6810,  35.3540,2,  35.2370,0,    248.5,2,    247.8,2,     5.87,2,    12.84,2,     0.73,2,    3.925,2,    1.866,2,   2329.6,2,   7.8013,    25.00,2,  -999.00,9,  -999.00,9,   9.6220
  74DI19980423,  A16N, 13498,  1,      3,      3,2,19980520, 806, 56.9983, -19.9950,  970,    710.8,   8.5440,  35.2370,2,-999.0000,9,    221.2,2,    219.9,2,     8.74,2,    16.50,2,     1.10,2,    2.744,2,    1.355,2,   -999.0,9,-999.0000,  -999.00,9,  -999.00,9,  -999.00,9,   8.4666
  74DI19980423,  A16N, 13498,  1,      2,      2,2,19980520, 806, 56.9983, -19.9950,  970,    913.4,   6.5280,  35.1360,2,  35.1360,2,    219.6,2,    221.2,2,    11.77,2,    18.26,2,     1.09,2,    2.072,2,    1.056,2,   2321.0,2,   7.7083,    25.00,2,  -999.00,9,  -999.00,9,   6.4410
  74DI19980423,  A16N, 13498,  1,      1,      1,2,19980520, 806, 56.9983, -19.9950,  970,    974.0,   6.1710,  35.1140,2,  35.1130,2,    225.7,2,    224.2,2,    12.18,2,    18.09,2,     1.01,2,    1.859,2,    0.896,2,   2326.0,2,   7.7033,    25.00,2,  -999.00,9,  -999.00,9,   6.0805
  74DI19980423,  A16N, 13499,  1,     12,     12,2,19980520,1155, 57.4983, -19.9900, 1161,      2.9,  10.4070,  35.3480,2,  35.3470,2,    288.8,6,    288.4,2,     0.92,2,     6.23,2,     0.33,2, -999.000,9, -999.000,9,   -999.0,9,-999.0000,  -999.00,9,     1.12,2,     0.27,2,  10.4067
  74DI19980423,  A16N, 13499,  1,     11,     11,2,19980520,1155, 57.4983, -19.9900, 1161,     14.7,  10.2310,  35.3520,2,  35.3500,2,    284.4,2,    287.7,2,     0.94,2,     6.32,2,     0.33,2, -999.000,9, -999.000,9,   -999.0,9,-999.0000,  -999.00,9,     1.44,2,     0.27,2,  10.2293
  74DI19980423,  A16N, 13499,  1,     10,     10,2,19980520,1155, 57.4983, -19.9900, 1161,     25.2,  10.1590,  35.3520,2,  35.3500,2,    281.0,2,    284.9,2,     0.98,2,     6.41,2,     0.35,2, -999.000,9, -999.000,9,   -999.0,9,-999.0000,  -999.00,9,     1.30,2,     0.27,2,  10.1561
  74DI19980423,  A16N, 13499,  1,      9,      9,2,19980520,1155, 57.4983, -19.9900, 1161,     45.2,  10.1030,  35.3530,2,  35.3500,2,    277.6,2,    282.4,2,     1.04,2,     6.55,2,     0.39,2, -999.000,9, -999.000,9,   -999.0,9,-999.0000,  -999.00,9,     0.89,2,     0.22,2,  10.0977
  74DI19980423,  A16N, 13499,  1,      8,      8,2,19980520,1155, 57.4983, -19.9900, 1161,     85.2,   9.7560,  35.3540,2,  35.3500,2,    270.9,2,    267.8,2,     3.43,2,     9.55,2,     0.60,2, -999.000,9, -999.000,9,   -999.0,9,-999.0000,  -999.00,9,     0.21,2,     0.16,2,   9.7463
  74DI19980423,  A16N, 13499,  1,      7,      7,2,19980520,1155, 57.4983, -19.9900, 1161,    125.5,   9.3130,  35.3210,2,  35.3190,2,    259.2,2,    251.8,2,     6.03,2,    12.99,2,     0.76,2, -999.000,9, -999.000,9,   -999.0,9,-999.0000,  -999.00,9,     0.06,2,     0.03,2,   9.2991
  74DI19980423,  A16N, 13499,  1,      6,      6,2,19980520,1155, 57.4983, -19.9900, 1161,    246.9,   9.0620,  35.3030,2,  35.3010,2,    256.2,2,    247.6,2,     6.65,2,    13.75,2,     0.81,2, -999.000,9, -999.000,9,   -999.0,9,-999.0000,  -999.00,9,  -999.00,9,  -999.00,9,   9.0349
  74DI19980423,  A16N, 13499,  1,      5,      5,2,19980520,1155, 57.4983, -19.9900, 1161,    328.1,   8.9320,  35.2940,2,  35.2910,2,    254.0,2,    247.2,2,     6.76,2,    13.91,2,     0.82,2, -999.000,9, -999.000,9,   -999.0,9,-999.0000,  -999.00,9,  -999.00,9,  -999.00,9,   8.8961
  74DI19980423,  A16N, 13499,  1,      4,      4,2,19980520,1155, 57.4983, -19.9900, 1161,    501.6,   8.2780,  35.2310,2,  35.2290,2,    229.1,2,    228.4,2,     8.81,2,    16.17,2,     0.96,2, -999.000,9, -999.000,9,   -999.0,9,-999.0000,  -999.00,9,  -999.00,9,  -999.00,9,   8.2250
  74DI19980423,  A16N, 13499,  1,      3,      3,2,19980520,1155, 57.4983, -19.9900, 1161,    750.5,   6.7560,  35.1460,2,  35.1440,2,    215.9,2,    219.7,2,    11.42,2,    18.42,2,     1.11,2, -999.000,9, -999.000,9,   -999.0,9,-999.0000,  -999.00,9,  -999.00,9,  -999.00,9,   6.6841
  74DI19980423,  A16N, 13499,  1,      2,      2,2,19980520,1155, 57.4983, -19.9900, 1161,    961.1,   5.2340,  35.0190,2,  35.0190,2,    237.8,2,    263.2,2,    11.84,2,    18.52,2,     1.13,2, -999.000,9, -999.000,9,   -999.0,9,-999.0000,  -999.00,9,  -999.00,9,  -999.00,9,   5.1517
  74DI19980423,  A16N, 13499,  1,      1,      1,2,19980520,1155, 57.4983, -19.9900, 1161,   1164.3,   4.5000,  34.9830,2,  34.9820,2,    249.8,2,    252.5,2,    12.35,2,    17.95,2,     1.05,2, -999.000,9, -999.000,9,   -999.0,9,-999.0000,  -999.00,9,  -999.00,9,  -999.00,9,   4.4051