BOTTLE,20221006CCHSIOCBG
EXPOCODE,SECT_ID,STNNBR,CASTNO,SAMPNO,BTLNBR,BTLNBR_FLAG_W,DATE,TIME,LATITUDE,LONGITUDE,DEPTH,CTDPRS,CTDTMP,CTDSAL,CTDSAL_FLAG_W,SALNTY,SALNTY_FLAG_W,CTDOXY,CTDOXY_FLAG_W,OXYGEN,OXYGEN_FLAG_W,SILCAT,SILCAT_FLAG_W,NITRAT,NITRAT_FLAG_W,PHSPHT,PHSPHT_FLAG_W,CFC-11,CFC-11_FLAG_W,CFC-12,CFC-12_FLAG_W,ALKALI,ALKALI_FLAG_W,PH_SWS,PH_TEMP,PH_SWS_FLAG_W,CHLORA,CHLORA_FLAG_W,PPHYTN,PPHYTN_FLAG_W,THETA
,,,,,,,,,,,METERS,DBAR,ITS-90,PSS-78,,PSS-78,,UMOL/KG,,UMOL/KG,,UMOL/KG,,UMOL/KG,,UMOL/KG,,PMOL/KG,,PMOL/KG,,UMOL/KG,,,DEGC,,UG/L,,UG/L,,DEGC
  74DI19980423,  A16N, 13454,  1,     23,     23,2,19980508, 338, 38.9983, -20.0000, 4741,      3.4,  16.1640,  36.1540,2,  36.1530,2,   -999.0,9,    246.3,2,     1.18,2,     0.01,2,     0.00,2,    2.197,3,    1.054,3,   2375.1,2,   7.9692,    25.00,2,     0.04,2,     0.02,2,  16.1635
  74DI19980423,  A16N, 13454,  1,     22,     22,2,19980508, 338, 38.9983, -20.0000, 4741,     13.7,  16.1680,  36.1540,2,  36.1530,2,    244.0,2,    246.4,2,     1.08,2,     0.00,2,     0.00,2, -999.000,9, -999.000,9,   2374.3,2,   7.9692,    25.00,2,     0.11,2,     0.01,2,  16.1658
  74DI19980423,  A16N, 13454,  1,     21,     21,2,19980508, 338, 38.9983, -20.0000, 4741,     21.9,  16.1660,  36.1550,2,  36.1530,2,    245.2,2,    246.1,2,     1.08,2,     0.00,2,     0.00,2, -999.000,9, -999.000,9,   2376.4,2,   7.9682,    25.00,2,     0.10,2,     0.01,2,  16.1625
  74DI19980423,  A16N, 13454,  1,     20,     20,2,19980508, 338, 38.9983, -20.0000, 4741,     36.1,  16.1400,  36.1700,2,  36.1680,2,    247.6,2,    246.0,2,     1.16,2,     0.00,2,     0.00,2,    4.562,3,    2.210,3,   2373.9,2,   7.9692,    25.00,2,     0.04,2,     0.02,2,  16.1342
  74DI19980423,  A16N, 13454,  1,     19,     19,2,19980508, 338, 38.9983, -20.0000, 4741,     66.7,  15.7520,  36.1340,2,  36.1330,2,    249.3,2,    245.9,2,     1.13,2,     0.00,2,     0.00,2,    3.009,3,    1.945,3,   2371.9,2,   7.9642,    25.00,2,     0.04,2,     0.02,2,  15.7415
  74DI19980423,  A16N, 13454,  1,     18,     18,2,19980508, 338, 38.9983, -20.0000, 4741,     96.7,  15.1700,  36.0290,2,  36.0280,2,    244.3,2,    246.2,2,     1.24,2,     0.50,2,     0.00,2,    4.127,3,    1.976,3,   2365.8,2,   7.9502,    25.00,2,     0.06,2,     0.03,2,  15.1552
  74DI19980423,  A16N, 13454,  1,     17,     17,2,19980508, 338, 38.9983, -20.0000, 4741,    116.9,  15.0610,  36.0260,2,  36.0250,2,    231.0,2,    242.2,2,     1.27,2,     1.43,2,     0.05,2,    4.265,3,    2.006,3,   2360.7,2,   7.9402,    25.00,2,     0.04,2,     0.01,2,  15.0431
  74DI19980423,  A16N, 13454,  1,     16,     16,2,19980508, 338, 38.9983, -20.0000, 4741,    147.6,  14.5880,  35.9740,2,  35.9720,2,    231.5,2,    228.4,2,     1.74,2,     4.52,2,     0.24,2,    2.686,3,    1.451,2,   2360.1,2,   7.9102,    25.00,2,  -999.00,9,  -999.00,9,  14.5659
  74DI19980423,  A16N, 13454,  1,     15,     15,2,19980508, 338, 38.9983, -20.0000, 4741,    187.8,  13.9450,  35.8910,2,  35.8900,2,    224.5,2,    223.2,2,     2.43,2,     7.26,2,     0.42,2,    2.553,3,    1.338,3,   -999.0,9,-999.0000,  -999.00,9,  -999.00,9,  -999.00,9,  13.9177
  74DI19980423,  A16N, 13454,  1,     14,     14,2,19980508, 338, 38.9983, -20.0000, 4741,    228.7,  13.2390,  35.8020,2,  35.8010,2,    226.4,2,    225.0,2,     3.04,2,     8.44,2,     0.52,2,    2.528,3,    1.192,3,   -999.0,9,-999.0000,  -999.00,9,  -999.00,9,  -999.00,9,  13.2069
  74DI19980423,  A16N, 13454,  1,     13,     13,2,19980508, 338, 38.9983, -20.0000, 4741,    358.8,  12.1490,  35.6540,2,  35.6570,2,    222.3,2,    220.9,2,     4.17,2,    10.91,2,     0.67,2,    2.886,2,    1.391,2,   2350.5,2,   7.8293,    25.00,2,  -999.00,9,  -999.00,9,  12.1012
  74DI19980423,  A16N, 13454,  1,     12,     12,2,19980508, 338, 38.9983, -20.0000, 4741,    509.3,  11.1790,  35.5380,2,  35.5370,2,    212.4,2,    211.6,2,     5.47,2,    13.56,2,     0.85,2,    3.025,2,    1.573,2,   2343.6,2,   7.7913,    25.00,2,  -999.00,9,  -999.00,9,  11.1143
  74DI19980423,  A16N, 13454,  1,     11,     11,2,19980508, 338, 38.9983, -20.0000, 4741,    711.3,  10.5870,  35.6160,2,  35.6130,2,    190.0,2,    187.5,2,     8.15,2,    16.42,2,     1.04,2,    1.411,2,    0.690,2,   2352.9,2,   7.7633,    25.00,2,  -999.00,9,  -999.00,9,  10.4987
  74DI19980423,  A16N, 13454,  1,     10,     10,2,19980508, 338, 38.9983, -20.0000, 4741,    910.2,   9.8830,  35.6920,2,  35.6920,2,    180.7,2,    184.0,2,     9.85,2,    17.36,2,     1.11,2,    1.094,2,    0.574,2,   2364.0,2,   7.7543,    25.00,2,  -999.00,9,  -999.00,9,   9.7734
  74DI19980423,  A16N, 13454,  1,      9,      9,2,19980508, 338, 38.9983, -20.0000, 4741,   1216.7,   9.0340,  35.8090,2,  35.8080,2,    196.3,2,    195.0,2,    10.93,2,    17.04,2,     1.10,2,    0.826,2,    0.435,2,   2375.6,2,   7.7593,    25.00,2,  -999.00,9,  -999.00,9,   8.8925
  74DI19980423,  A16N, 13454,  1,      8,      8,2,19980508, 338, 38.9983, -20.0000, 4741,   1622.7,   5.5480,  35.2570,2,  35.2540,2,    235.9,2,    237.2,2,    12.61,2,    17.81,2,     1.19,2,    0.776,2,    0.454,2,   2340.1,2,   7.7293,    25.00,2,  -999.00,9,  -999.00,9,   5.3971
  74DI19980423,  A16N, 13454,  1,      7,      7,2,19980508, 338, 38.9983, -20.0000, 4741,   1826.7,   4.5220,  35.1010,2,  35.1020,2,    248.0,2,    251.6,2,    13.58,2,    17.83,2,     1.20,2,    0.798,2,    0.494,2,   2325.7,2,   7.7253,    25.00,2,  -999.00,9,  -999.00,9,   4.3638
  74DI19980423,  A16N, 13454,  1,      6,      6,2,19980508, 338, 38.9983, -20.0000, 4741,   2232.6,   3.5310,  34.9790,2,  34.9700,2,    263.0,2,    258.7,2,    20.28,2,    18.37,2,     1.25,2,    0.391,2,    0.245,2,   2331.5,2,   7.7233,    25.00,2,  -999.00,9,  -999.00,9,   3.3479
  74DI19980423,  A16N, 13454,  1,      5,      5,2,19980508, 338, 38.9983, -20.0000, 4741,   2791.4,   2.9460,  34.9520,2,  34.9530,2,    254.0,2,    253.7,2,    27.66,2,    19.32,2,     1.31,2,    0.204,2,    0.090,2,   2335.8,2,   7.7543,    25.00,4,  -999.00,9,  -999.00,9,   2.7178
  74DI19980423,  A16N, 13454,  1,      4,      4,2,19980508, 338, 38.9983, -20.0000, 4741,   3300.3,   2.6600,  34.9300,2,  34.9310,2,    244.3,2,    248.7,2,    37.35,2,    20.86,2,     1.43,2,    0.109,2,    0.055,2,   2351.0,2,   7.7593,    25.00,4,  -999.00,9,  -999.00,9,   2.3851
  74DI19980423,  A16N, 13454,  1,      3,      3,2,19980508, 338, 38.9983, -20.0000, 4741,   3796.1,   2.5700,  34.9180,2,  34.9170,2,    242.0,2,    241.8,2,    41.90,2,    21.61,2,     1.47,2,    0.080,2,    0.041,2,   2357.6,2,   7.7293,    25.00,2,  -999.00,9,  -999.00,9,   2.2429
  74DI19980423,  A16N, 13454,  1,      2,      2,2,19980508, 338, 38.9983, -20.0000, 4741,   4331.2,   2.5350,  34.9080,2,  34.9070,2,    242.6,2,    242.2,2,    44.27,2,    22.07,2,     1.49,2,    0.209,3,    0.011,3,   2361.4,2,   7.7253,    25.00,2,  -999.00,9,  -999.00,9,   2.1468
  74DI19980423,  A16N, 13454,  1,      1,      1,2,19980508, 338, 38.9983, -20.0000, 4741,   4823.4,   2.5260,  34.9010,2,  34.9000,2,    243.1,2,    241.8,2,    45.01,2,    21.96,2,     1.45,2,    0.023,2,    0.012,2,   2357.6,2,   7.7233,    25.00,2,  -999.00,9,  -999.00,9,   2.0779
  74DI19980423,  A16N, 13455,  1,     24,     24,2,19980508,1116, 39.4967, -19.9917, 4661,      4.0,  16.1650,  36.0820,2,  36.0820,2,    251.4,2,    248.6,2,     1.07,2,     0.00,2,     0.00,2, -999.000,9, -999.000,9,   -999.0,9,-999.0000,  -999.00,9,     0.02,2,     0.00,2,  16.1644
  74DI19980423,  A16N, 13455,  1,     23,     23,2,19980508,1116, 39.4967, -19.9917, 4661,     16.5,  15.9980,  36.0790,2,  36.0770,2,    249.8,2,    249.6,2,     1.07,2,     0.00,2,     0.00,2, -999.000,9, -999.000,9,   -999.0,9,-999.0000,  -999.00,9,     0.03,2,     0.02,2,  15.9954
  74DI19980423,  A16N, 13455,  1,     22,     22,2,19980508,1116, 39.4967, -19.9917, 4661,     26.7,  15.9760,  36.0810,2,  36.0810,2,    251.0,2,    250.6,2,     1.05,2,     0.00,2,     0.01,2, -999.000,9, -999.000,9,   -999.0,9,-999.0000,  -999.00,9,     0.09,2,     0.03,2,  15.9718
  74DI19980423,  A16N, 13455,  1,     21,     21,2,19980508,1116, 39.4967, -19.9917, 4661,     46.3,  15.9070,  36.0830,2,  36.0800,2,    254.5,2,    251.1,2,     1.03,2,     0.00,2,     0.02,2, -999.000,9, -999.000,9,   -999.0,9,-999.0000,  -999.00,9,     0.04,2,     0.02,2,  15.8997
  74DI19980423,  A16N, 13455,  1,     20,     20,2,19980508,1116, 39.4967, -19.9917, 4661,     86.9,  15.1900,  36.0240,2,  36.0230,2,    242.5,2,    256.7,2,     1.09,2,     0.00,2,     0.04,2, -999.000,9, -999.000,9,   -999.0,9,-999.0000,  -999.00,9,     0.04,2,     0.00,2,  15.1767
  74DI19980423,  A16N, 13455,  1,     19,     19,2,19980508,1116, 39.4967, -19.9917, 4661,    126.9,  14.9600,  36.0210,2,  36.0150,2,    247.0,2,    243.6,2,     1.19,2,     1.49,2,     0.12,2, -999.000,9, -999.000,9,   -999.0,9,-999.0000,  -999.00,9,     0.04,2,     0.01,2,  14.9407
  74DI19980423,  A16N, 13455,  1,     18,     18,2,19980508,1116, 39.4967, -19.9917, 4661,    167.4,  14.0510,  35.8980,2,  35.8950,2,    231.5,2,    226.8,2,     2.16,2,     6.34,2,     0.38,2, -999.000,9, -999.000,9,   -999.0,9,-999.0000,  -999.00,9,     0.03,2,     0.01,2,  14.0266
  74DI19980423,  A16N, 13455,  1,     17,     17,2,19980508,1116, 39.4967, -19.9917, 4661,    248.0,  12.9810,  35.7760,2,  35.7740,2,    218.3,2,    220.2,2,     3.41,2,     9.67,2,     0.57,2, -999.000,9, -999.000,9,   -999.0,9,-999.0000,  -999.00,9,  -999.00,9,  -999.00,9,  12.9466
  74DI19980423,  A16N, 13455,  1,     16,     16,2,19980508,1116, 39.4967, -19.9917, 4661,    328.1,  12.4610,  35.6990,2,  35.6970,2,    222.6,2,    221.5,2,     3.86,2,    10.51,2,     0.63,2, -999.000,9, -999.000,9,   -999.0,9,-999.0000,  -999.00,9,  -999.00,9,  -999.00,9,  12.4166
  74DI19980423,  A16N, 13455,  1,     15,     15,2,19980508,1116, 39.4967, -19.9917, 4661,    509.2,  11.2450,  35.5470,2,  35.5460,2,    213.1,2,    211.9,2,     5.38,2,    13.53,2,     0.82,2, -999.000,9, -999.000,9,   -999.0,9,-999.0000,  -999.00,9,  -999.00,9,  -999.00,9,  11.1800
  74DI19980423,  A16N, 13455,  1,     14,     14,2,19980508,1116, 39.4967, -19.9917, 4661,    761.4,  10.1370,  35.5750,2,  35.5750,2,    187.4,2,    187.3,2,     8.91,2,    17.12,2,     1.07,2, -999.000,9, -999.000,9,   -999.0,9,-999.0000,  -999.00,9,  -999.00,9,  -999.00,9,  10.0447
  74DI19980423,  A16N, 13455,  1,     13,     13,2,19980508,1116, 39.4967, -19.9917, 4661,    960.7,   9.6300,  35.7140,2,  35.7130,2,    182.5,2,    185.4,2,    10.24,2,    17.53,2,     1.10,2, -999.000,9, -999.000,9,   -999.0,9,-999.0000,  -999.00,9,  -999.00,9,  -999.00,9,   9.5158
  74DI19980423,  A16N, 13455,  1,     12,     12,2,19980508,1116, 39.4967, -19.9917, 4661,   1111.5,   9.0890,  35.7440,2,  35.7470,2,    192.6,2,    192.6,2,    10.79,2,    17.46,2,     1.09,2, -999.000,9, -999.000,9,   -999.0,9,-999.0000,  -999.00,9,  -999.00,9,  -999.00,9,   8.9601
  74DI19980423,  A16N, 13455,  1,     11,     11,2,19980508,1116, 39.4967, -19.9917, 4661,   1415.9,   6.3870,  35.3560,2,  35.3560,2,    228.2,2,    226.3,2,    11.91,2,    17.80,2,     1.14,2, -999.000,9, -999.000,9,   -999.0,9,-999.0000,  -999.00,9,  -999.00,9,  -999.00,9,   6.2484
  74DI19980423,  A16N, 13455,  1,     10,     10,2,19980508,1116, 39.4967, -19.9917, 4661,   1567.4,   5.2870,  35.1940,2,  35.1950,2,    242.5,2,    242.6,2,    12.29,2,    17.79,2,     1.15,2, -999.000,9, -999.000,9,   -999.0,9,-999.0000,  -999.00,9,  -999.00,9,  -999.00,9,   5.1450
  74DI19980423,  A16N, 13455,  1,      9,      9,2,19980508,1116, 39.4967, -19.9917, 4661,   1927.0,   4.0260,  35.0220,2,  35.0230,2,    259.2,2,    259.1,2,    13.90,2,    17.76,2,     1.17,2, -999.000,9, -999.000,9,   -999.0,9,-999.0000,  -999.00,9,  -999.00,9,  -999.00,9,   3.8650
  74DI19980423,  A16N, 13455,  1,      8,      8,2,19980508,1116, 39.4967, -19.9917, 4661,   2130.2,   3.7240,  34.9990,2,  35.0000,2,    259.8,2,    259.9,2,    16.31,2,    18.02,2,     1.20,2, -999.000,9, -999.000,9,   -999.0,9,-999.0000,  -999.00,9,  -999.00,9,  -999.00,9,   3.5478
  74DI19980423,  A16N, 13455,  1,      7,      7,2,19980508,1116, 39.4967, -19.9917, 4661,   2636.3,   3.1040,  34.9640,2,  34.9640,2,    254.5,2,    255.5,2,    25.30,2,    19.16,2,     1.29,2, -999.000,9, -999.000,9,   -999.0,9,-999.0000,  -999.00,9,  -999.00,9,  -999.00,9,   2.8884
  74DI19980423,  A16N, 13455,  1,      6,      6,2,19980508,1116, 39.4967, -19.9917, 4661,   3047.3,   2.7830,  34.9420,2,  34.9420,2,    247.6,2,    249.0,2,    33.00,2,    20.25,2,     1.36,2, -999.000,9, -999.000,9,   -999.0,9,-999.0000,  -999.00,9,  -999.00,9,  -999.00,9,   2.5319
  74DI19980423,  A16N, 13455,  1,      5,      5,2,19980508,1116, 39.4967, -19.9917, 4661,   3459.0,   2.6270,  34.9270,2,  34.9260,2,    242.5,2,    244.5,2,    39.17,2,    21.25,2,     1.45,2, -999.000,9, -999.000,9,   -999.0,9,-999.0000,  -999.00,9,  -999.00,9,  -999.00,9,   2.3358
  74DI19980423,  A16N, 13455,  1,      4,      4,2,19980508,1116, 39.4967, -19.9917, 4661,   3868.6,   2.5440,  34.9150,2,  34.9130,2,    240.8,2,    241.9,2,    43.10,2,    21.85,2,     1.48,2, -999.000,9, -999.000,9,   -999.0,9,-999.0000,  -999.00,9,  -999.00,9,  -999.00,9,   2.2094
  74DI19980423,  A16N, 13455,  1,      3,      3,2,19980508,1116, 39.4967, -19.9917, 4661,   4276.2,   2.5110,  34.9070,2,  34.9050,2,    241.6,2,    241.4,2,    44.91,2,    22.09,2,     1.49,2, -999.000,9, -999.000,9,   -999.0,9,-999.0000,  -999.00,9,  -999.00,9,  -999.00,9,   2.1301
  74DI19980423,  A16N, 13455,  1,      2,      2,2,19980508,1116, 39.4967, -19.9917, 4661,   4684.0,   2.5020,  34.9010,2,  34.9000,2,    243.5,2,    242.0,2,    46.17,2,    22.23,2,     1.49,2, -999.000,9, -999.000,9,   -999.0,9,-999.0000,  -999.00,9,  -999.00,9,  -999.00,9,   2.0720
  74DI19980423,  A16N, 13455,  1,      1,      1,2,19980508,1116, 39.4967, -19.9917, 4661,   4734.8,   2.4980,  34.8990,2,  34.8990,2,    243.2,2,    242.3,2,    45.54,2,    21.94,2,     1.45,2, -999.000,9, -999.000,9,   -999.0,9,-999.0000,  -999.00,9,  -999.00,9,  -999.00,9,   2.0619