BOTTLE,20221006CCHSIOCBG
EXPOCODE,SECT_ID,STNNBR,CASTNO,SAMPNO,BTLNBR,BTLNBR_FLAG_W,DATE,TIME,LATITUDE,LONGITUDE,DEPTH,CTDPRS,CTDTMP,CTDSAL,CTDSAL_FLAG_W,SALNTY,SALNTY_FLAG_W,CTDOXY,CTDOXY_FLAG_W,OXYGEN,OXYGEN_FLAG_W,SILCAT,SILCAT_FLAG_W,NITRAT,NITRAT_FLAG_W,PHSPHT,PHSPHT_FLAG_W,CFC-11,CFC-11_FLAG_W,CFC-12,CFC-12_FLAG_W,ALKALI,ALKALI_FLAG_W,PH_SWS,PH_TEMP,PH_SWS_FLAG_W,CHLORA,CHLORA_FLAG_W,PPHYTN,PPHYTN_FLAG_W,THETA
,,,,,,,,,,,METERS,DBAR,ITS-90,PSS-78,,PSS-78,,UMOL/KG,,UMOL/KG,,UMOL/KG,,UMOL/KG,,UMOL/KG,,PMOL/KG,,PMOL/KG,,UMOL/KG,,,DEGC,,UG/L,,UG/L,,DEGC
  74DI19980423,  A16N, 13500,  1,     15,     15,2,19980520,1626, 58.0067, -19.9817, 1652,      1.8,  10.4610,  35.3000,2,  35.2990,2,   -999.0,9,    291.1,2,     0.43,2,     7.04,2,     0.33,2, -999.000,9, -999.000,9,   2333.0,2,   7.8763,    25.00,2,     1.07,2,     0.38,2,  10.4608
  74DI19980423,  A16N, 13500,  1,     14,     14,2,19980520,1626, 58.0067, -19.9817, 1652,     13.2,  10.2200,  35.2980,2,  35.2970,2,    286.5,2,    288.0,2,     0.60,2,     7.15,2,     0.38,2,    4.218,2,    2.469,2,   2331.9,2,   7.8763,    25.00,2,     1.25,2,     0.50,2,  10.2185
  74DI19980423,  A16N, 13500,  1,     13,     13,2,19980520,1626, 58.0067, -19.9817, 1652,     23.6,  10.1400,  35.2960,2,  35.2950,2,    285.3,2,    282.8,2,     0.95,2,     7.46,2,     0.40,2,    4.884,2,    2.705,2,   2332.3,2,   7.8663,    25.00,2,     1.00,2,     0.46,2,  10.1373
  74DI19980423,  A16N, 13500,  1,     12,     12,2,19980520,1626, 58.0067, -19.9817, 1652,     43.5,  10.1180,  35.3010,2,  35.3010,2,    275.6,2,    279.0,2,     1.50,2,     7.59,2,     0.43,2,    4.834,2,    2.721,2,   2331.8,2,   7.8603,    25.00,2,     0.90,2,     0.26,2,  10.1129
  74DI19980423,  A16N, 13500,  1,     11,     11,2,19980520,1626, 58.0067, -19.9817, 1652,     84.0,  10.0930,  35.3570,2,  35.3520,2,    273.1,2,    271.5,2,     2.46,2,     8.27,2,     0.49,2,    5.269,2,    2.663,2,   2331.3,2,   7.8443,    25.00,2,     0.24,2,     0.12,2,  10.0832
  74DI19980423,  A16N, 13500,  1,     10,     10,2,19980520,1626, 58.0067, -19.9817, 1652,    124.7,   9.6400,  35.3020,2,  35.3020,2,    263.3,2,    263.3,2,     5.01,2,    11.22,2,     0.64,2,    4.233,3,    2.424,3,   2327.5,2,   7.8123,    25.00,2,     0.08,2,     0.05,2,   9.6259
  74DI19980423,  A16N, 13500,  1,      9,      9,2,19980520,1626, 58.0067, -19.9817, 1652,    245.1,   9.8010,  35.3700,2,  35.3680,2,    262.5,2,    262.1,2,     4.95,2,    10.85,2,     0.62,2,    5.097,2,    2.712,2,   2333.7,2,   7.8153,    25.00,2,  -999.00,9,  -999.00,9,   9.7727
  74DI19980423,  A16N, 13500,  1,      8,      8,2,19980520,1626, 58.0067, -19.9817, 1652,    326.4,   9.6920,  35.3680,2,  35.3660,2,    261.3,2,    261.7,2,     5.16,2,    11.03,2,     0.66,2,    4.567,2,    2.261,2,   -999.0,9,-999.0000,  -999.00,9,  -999.00,9,  -999.00,9,   9.6544
  74DI19980423,  A16N, 13500,  1,      7,      7,2,19980520,1626, 58.0067, -19.9817, 1652,    508.0,   9.3090,  35.3390,2,  35.3390,2,    263.1,2,    265.1,2,     5.44,2,    11.60,2,     0.71,2,    4.129,2,    2.305,2,   2331.3,2,   7.8023,    25.00,2,  -999.00,9,  -999.00,9,   9.2514
  74DI19980423,  A16N, 13500,  1,      6,      6,2,19980520,1626, 58.0067, -19.9817, 1652,    761.2,   8.0710,  35.2020,2,  35.1980,2,    224.5,2,    221.8,2,     9.37,2,    17.31,2,     1.01,2,    2.445,3,    1.221,3,   2325.2,6,   7.7323,    25.00,2,  -999.00,9,  -999.00,9,   7.9905
  74DI19980423,  A16N, 13500,  1,      5,      5,2,19980520,1626, 58.0067, -19.9817, 1652,    964.2,   6.4770,  35.1320,2,  35.1310,2,    219.8,2,    221.8,2,    11.74,2,    18.29,2,     1.08,2,    2.511,2,    1.385,2,   2323.9,2,   7.7063,    25.00,2,  -999.00,9,  -999.00,9,   6.3852
  74DI19980423,  A16N, 13500,  1,      4,      4,2,19980520,1626, 58.0067, -19.9817, 1652,   1166.7,   5.1340,  35.0190,2,  35.0190,2,    238.4,2,    237.8,2,    11.65,2,    18.75,2,     1.10,2,    3.076,2,    1.402,2,   2318.7,2,   7.6973,    25.00,2,  -999.00,9,  -999.00,9,   5.0332
  74DI19980423,  A16N, 13500,  1,      3,      3,2,19980520,1626, 58.0067, -19.9817, 1652,   1369.6,   4.2500,  34.9510,2,  34.9500,2,    257.8,2,    257.3,2,    11.75,2,    18.33,2,     1.07,2,    1.928,3,    0.774,3,   2312.7,2,   7.6953,    25.00,2,  -999.00,9,  -999.00,9,   4.1390
  74DI19980423,  A16N, 13500,  1,      2,      2,2,19980520,1626, 58.0067, -19.9817, 1652,   1574.2,   3.6900,  34.9110,2,  34.9110,2,    271.1,2,    272.0,2,    11.72,2,    17.65,2,     1.05,2,    2.360,2,    1.063,2,   2310.7,2,   7.7033,    25.00,2,  -999.00,9,  -999.00,9,   3.5668
  74DI19980423,  A16N, 13500,  1,      1,      1,2,19980520,1626, 58.0067, -19.9817, 1652,   1663.3,   3.4180,  34.9010,2,  34.9020,2,    277.7,2,    277.0,2,    11.90,2,    17.03,2,     0.95,2,    2.729,2,    1.147,2,   2311.5,2,   7.7093,    25.00,2,  -999.00,9,  -999.00,9,   3.2902
  74DI19980423,  A16N, 13501,  1,     19,     19,2,19980520,2050, 58.5017, -20.0050, 2573,      1.1,  10.2100,  35.1960,2,  35.1940,2,   -999.0,9,    286.7,2,     1.88,2,     7.71,2,     0.50,2, -999.000,9, -999.000,9,   -999.0,9,-999.0000,  -999.00,9,     0.63,2,     0.25,2,  10.2099
  74DI19980423,  A16N, 13501,  1,     18,     18,2,19980520,2050, 58.5017, -20.0050, 2573,     15.4,   9.7630,  35.1980,2,  35.1970,2,    284.7,2,    286.0,2,     1.87,2,     7.69,2,     0.51,2, -999.000,9, -999.000,9,   -999.0,9,-999.0000,  -999.00,9,     0.53,2,     0.25,2,   9.7613
  74DI19980423,  A16N, 13501,  1,     17,     17,2,19980520,2050, 58.5017, -20.0050, 2573,     28.6,   9.6360,  35.1960,2,  35.1970,2,    281.0,2,    281.3,2,     1.90,2,     8.32,2,     0.54,2, -999.000,9, -999.000,9,   -999.0,9,-999.0000,  -999.00,9,     0.63,2,     0.32,2,   9.6328
  74DI19980423,  A16N, 13501,  1,     16,     16,2,19980520,2050, 58.5017, -20.0050, 2573,     53.6,   9.5320,  35.1980,2,  35.1980,2,    276.5,2,    275.0,2,     2.55,2,    10.17,2,     0.58,2, -999.000,9, -999.000,9,   -999.0,9,-999.0000,  -999.00,9,     0.28,2,     0.14,2,   9.5260
  74DI19980423,  A16N, 13501,  1,     15,     15,2,19980520,2050, 58.5017, -20.0050, 2573,     79.4,   9.3840,  35.2110,2,  35.2100,2,    274.0,2,    273.0,2,     3.15,2,    10.92,2,     0.61,2, -999.000,9, -999.000,9,   -999.0,9,-999.0000,  -999.00,9,     0.24,2,     0.14,2,   9.3752
  74DI19980423,  A16N, 13501,  1,     14,     14,2,19980520,2050, 58.5017, -20.0050, 2573,    103.7,   9.3050,  35.2140,2,  35.2130,2,    274.2,2,    267.9,2,     4.18,2,    12.56,2,     0.66,2, -999.000,9, -999.000,9,   -999.0,9,-999.0000,  -999.00,9,     0.16,2,     0.09,2,   9.2935
  74DI19980423,  A16N, 13501,  1,     13,     13,2,19980520,2050, 58.5017, -20.0050, 2573,    204.9,   9.3790,  35.2710,2,  35.2700,2,    260.0,2,    258.2,2,     5.58,2,    13.02,2,     0.72,2, -999.000,9, -999.000,9,   -999.0,9,-999.0000,  -999.00,9,  -999.00,9,  -999.00,9,   9.3561
  74DI19980423,  A16N, 13501,  1,     12,     12,2,19980520,2050, 58.5017, -20.0050, 2573,    405.8,   9.0580,  35.2940,2,  35.2870,2,    254.1,2,    256.1,2,     6.16,2,    13.88,2,     0.82,2, -999.000,9, -999.000,9,   -999.0,9,-999.0000,  -999.00,9,  -999.00,9,  -999.00,9,   9.0130
  74DI19980423,  A16N, 13501,  1,     11,     11,2,19980520,2050, 58.5017, -20.0050, 2573,    606.2,   7.6870,  35.1800,2,  35.1800,2,    219.8,2,    216.0,2,    10.08,2,    18.06,2,     1.10,2, -999.000,9, -999.000,9,   -999.0,9,-999.0000,  -999.00,9,  -999.00,9,  -999.00,9,   7.6253
  74DI19980423,  A16N, 13501,  1,     10,     10,2,19980520,2050, 58.5017, -20.0050, 2573,    809.3,   6.2880,  35.1150,2,  35.1150,2,    223.5,2,    222.1,2,    11.95,2,    18.73,2,     1.16,2, -999.000,9, -999.000,9,   -999.0,9,-999.0000,  -999.00,9,  -999.00,9,  -999.00,9,   6.2130
  74DI19980423,  A16N, 13501,  1,      9,      9,2,19980520,2050, 58.5017, -20.0050, 2573,   1011.7,   5.1510,  35.0280,2,  35.0270,2,    238.3,2,    237.8,2,    11.75,2,    18.59,2,     1.16,2, -999.000,9, -999.000,9,   -999.0,9,-999.0000,  -999.00,9,  -999.00,9,  -999.00,9,   5.0646
  74DI19980423,  A16N, 13501,  1,      8,      8,2,19980520,2050, 58.5017, -20.0050, 2573,   1215.6,   4.1850,  34.9430,2,  34.9430,2,    254.2,2,    257.8,2,    11.63,2,    19.46,2,     1.15,2, -999.000,9, -999.000,9,   -999.0,9,-999.0000,  -999.00,9,  -999.00,9,  -999.00,9,   4.0885
  74DI19980423,  A16N, 13501,  1,      7,      7,2,19980520,2050, 58.5017, -20.0050, 2573,   1419.4,   3.7760,  34.9140,2,  34.9150,2,    267.5,2,    268.9,2,    11.49,2,    18.61,2,     1.12,2, -999.000,9, -999.000,9,   -999.0,9,-999.0000,  -999.00,9,  -999.00,9,  -999.00,9,   3.6656
  74DI19980423,  A16N, 13501,  1,      6,      6,2,19980520,2050, 58.5017, -20.0050, 2573,   1623.2,   3.4710,  34.8950,2,  34.8950,2,    275.8,2,    276.9,2,    11.32,2,    17.98,2,     1.05,2, -999.000,9, -999.000,9,   -999.0,9,-999.0000,  -999.00,9,  -999.00,9,  -999.00,9,   3.3461
  74DI19980423,  A16N, 13501,  1,      5,      5,2,19980520,2050, 58.5017, -20.0050, 2573,   1826.3,   3.3310,  34.8900,2,  34.8910,2,    281.1,2,    281.0,2,    11.08,2,    17.50,2,     1.03,2, -999.000,9, -999.000,9,   -999.0,9,-999.0000,  -999.00,9,  -999.00,9,  -999.00,9,   3.1896
  74DI19980423,  A16N, 13501,  1,      4,      4,2,19980520,2050, 58.5017, -20.0050, 2573,   2030.7,   3.2840,  34.9040,2,  34.9030,2,    279.9,2,    279.6,2,    11.43,2,    17.22,2,     1.06,2, -999.000,9, -999.000,9,   -999.0,9,-999.0000,  -999.00,9,  -999.00,9,  -999.00,9,   3.1244
  74DI19980423,  A16N, 13501,  1,      3,      3,2,19980520,2050, 58.5017, -20.0050, 2573,   2234.9,   3.2720,  34.9340,2,  34.9350,2,    275.4,2,    273.7,2,    12.67,2,    17.00,2,     1.04,2, -999.000,9, -999.000,9,   -999.0,9,-999.0000,  -999.00,9,  -999.00,9,  -999.00,9,   3.0931
  74DI19980423,  A16N, 13501,  1,      2,      2,2,19980520,2050, 58.5017, -20.0050, 2573,   2440.1,   3.1900,  34.9480,2,  34.9480,2,    273.0,2,    272.0,2,    13.89,2,    16.75,2,     1.06,2, -999.000,9, -999.000,9,   -999.0,9,-999.0000,  -999.00,9,  -999.00,9,  -999.00,9,   2.9925
  74DI19980423,  A16N, 13501,  1,      1,      1,2,19980520,2050, 58.5017, -20.0050, 2573,   2602.5,   3.0450,  34.9580,2,  34.9580,2,    270.3,2,    271.1,2,    15.08,2,    16.61,2,     0.99,2, -999.000,9, -999.000,9,   -999.0,9,-999.0000,  -999.00,9,  -999.00,9,  -999.00,9,   2.8340
  74DI19980423,  A16N, 13502,  1,     20,     20,2,19980521, 158, 59.0017, -19.9967, 2836,      2.7,   9.8450,  35.2660,2,  35.2670,2,    277.9,6,    283.9,2,     1.66,2,     8.65,2,     0.57,2,    5.292,2,    2.859,2,   2333.7,2,   7.8483,    25.00,2,     0.75,2,     0.17,2,   9.8447
  74DI19980423,  A16N, 13502,  1,     19,     19,2,19980521, 158, 59.0017, -19.9967, 2836,     16.5,   9.5760,  35.2680,2,  35.2680,2,    280.3,2,    282.1,2,     1.78,2,     8.84,2,     0.58,2,    5.014,2,    2.664,2,   2331.9,2,   7.8453,    25.00,2,     0.72,2,     0.25,2,   9.5741
  74DI19980423,  A16N, 13502,  1,     18,     18,2,19980521, 158, 59.0017, -19.9967, 2836,     29.7,   9.5510,  35.2710,2,  35.2710,2,    278.8,2,    280.4,2,     1.85,2,     8.84,2,     0.57,2,    4.376,2,    2.477,2,   2333.5,2,   7.8433,    25.00,2,     0.66,2,     0.28,2,   9.5477
  74DI19980423,  A16N, 13502,  1,     17,     17,2,19980521, 158, 59.0017, -19.9967, 2836,     55.3,   9.5350,  35.2730,2,  35.2740,2,    276.8,2,    277.8,2,     1.97,2,     8.94,2,     0.58,2,    3.909,2,    1.933,3,   2334.2,2,   7.8403,    25.00,2,     0.49,2,     0.26,2,   9.5288
  74DI19980423,  A16N, 13502,  1,     16,     16,2,19980521, 158, 59.0017, -19.9967, 2836,     80.6,   9.5330,  35.2760,2,  35.2760,2,    276.2,2,    276.1,2,     2.13,2,     9.01,2,     0.59,2,    4.888,2,    2.571,2,   2337.1,2,   7.8383,    25.00,2,     0.41,2,     0.14,2,   9.5239
  74DI19980423,  A16N, 13502,  1,     15,     15,2,19980521, 158, 59.0017, -19.9967, 2836,    105.5,   9.5290,  35.2790,2,  35.2780,2,    275.2,2,    274.6,2,     2.51,2,     9.34,2,     0.61,2,    4.600,2,    2.355,2,   2329.3,2,   7.8353,    25.00,2,     0.27,2,     0.22,2,   9.5171
  74DI19980423,  A16N, 13502,  1,     14,     14,2,19980521, 158, 59.0017, -19.9967, 2836,    206.5,   9.3370,  35.3060,2,  35.3060,2,    268.6,2,    264.1,2,     5.48,2,    11.98,2,     0.73,2,    4.212,2,    2.283,2,   2328.3,2,   7.8053,    25.00,2,  -999.00,9,  -999.00,9,   9.3139
  74DI19980423,  A16N, 13502,  1,     13,     13,2,19980521, 158, 59.0017, -19.9967, 2836,    408.6,   8.8760,  35.2640,2,  35.2640,2,    258.9,2,    261.2,2,     6.08,2,    12.88,2,     0.80,2,    3.171,3,    2.051,2,   -999.0,9,-999.0000,  -999.00,9,  -999.00,9,  -999.00,9,   8.8313
  74DI19980423,  A16N, 13502,  1,     12,     12,2,19980521, 158, 59.0017, -19.9967, 2836,    610.6,   8.4320,  35.2520,2,  35.2500,2,    262.7,2,    267.6,2,     6.25,2,    13.31,2,     0.83,2,    2.468,3,    1.606,3,   2324.6,2,   7.7863,    25.00,2,  -999.00,9,  -999.00,9,   8.3664
  74DI19980423,  A16N, 13502,  1,     11,     11,2,19980521, 158, 59.0017, -19.9967, 2836,    813.3,   7.8140,  35.2070,2,  35.2060,2,    267.0,2,    266.5,2,     6.87,2,    14.02,2,     0.88,2,    5.098,3,    2.698,3,   2322.7,2,   7.7743,    25.00,2,  -999.00,9,  -999.00,9,   7.7293
  74DI19980423,  A16N, 13502,  1,     10,     10,2,19980521, 158, 59.0017, -19.9967, 2836,   1015.9,   6.4810,  35.0820,2,  35.0820,2,    225.3,2,    221.8,2,    11.13,2,    18.42,2,     1.16,2,    2.927,2,    1.549,2,   -999.0,9,-999.0000,  -999.00,9,  -999.00,9,  -999.00,9,   6.3840
  74DI19980423,  A16N, 13502,  1,      9,      9,2,19980521, 158, 59.0017, -19.9967, 2836,   1219.0,   5.1610,  35.0090,2,  35.0090,2,    238.1,2,    236.4,2,    11.68,2,    18.48,2,     1.17,2,    3.120,2,    1.747,2,   2317.4,2,   7.6903,    25.00,2,  -999.00,9,  -999.00,9,   5.0551
  74DI19980423,  A16N, 13502,  1,      8,      8,2,19980521, 158, 59.0017, -19.9967, 2836,   1421.6,   4.2920,  34.9510,2,  34.9500,2,    253.3,2,    254.9,2,    11.64,2,    17.97,2,     1.14,2,    3.298,2,    1.634,2,   2311.6,2,   7.6983,    25.00,2,  -999.00,9,  -999.00,9,   4.1758
  74DI19980423,  A16N, 13502,  1,      7,      7,2,19980521, 158, 59.0017, -19.9967, 2836,   1624.9,   3.8300,  34.9150,2,  34.9150,2,    265.0,2,    267.1,2,    11.42,2,    17.62,2,     1.12,2,    3.097,2,    1.365,3,   2311.7,2,   7.7003,    25.00,2,  -999.00,9,  -999.00,9,   3.7005
  74DI19980423,  A16N, 13502,  1,      6,      6,2,19980521, 158, 59.0017, -19.9967, 2836,   1828.3,   3.5490,  34.8980,2,  34.8980,2,    272.9,2,    275.2,2,    11.23,2,    17.22,2,     1.09,2,    2.906,2,    1.632,2,   2307.3,2,   7.7053,    25.00,2,  -999.00,9,  -999.00,9,   3.4045
  74DI19980423,  A16N, 13502,  1,      5,      5,2,19980521, 158, 59.0017, -19.9967, 2836,   2031.6,   3.3990,  34.8960,2,  34.8970,2,    277.2,2,    278.5,2,    11.21,2,    16.91,2,     1.08,2,    2.689,2,    1.466,2,   2301.9,2,   7.7093,    25.00,2,  -999.00,9,  -999.00,9,   3.2376
  74DI19980423,  A16N, 13502,  1,      4,      4,2,19980521, 158, 59.0017, -19.9967, 2836,   2234.5,   3.3360,  34.9120,2,  34.9120,2,    277.2,2,    277.7,2,    11.74,2,    16.84,2,     1.06,2,    2.522,2,    1.545,2,   2305.7,2,   7.7073,    25.00,2,  -999.00,9,  -999.00,9,   3.1562
  74DI19980423,  A16N, 13502,  1,      3,      3,2,19980521, 158, 59.0017, -19.9967, 2836,   2438.7,   3.3000,  34.9470,2,  34.9470,2,    274.0,2,    271.5,2,    12.76,2,    16.55,2,     1.05,2,    1.886,2,    1.022,2,   2306.5,2,   7.7163,    25.00,2,  -999.00,9,  -999.00,9,   3.1006
  74DI19980423,  A16N, 13502,  1,      2,      2,2,19980521, 158, 59.0017, -19.9967, 2836,   2642.9,   3.0910,  34.9620,2,  34.9630,2,    273.1,2,    270.9,2,    14.06,2,    16.34,2,     1.03,2,    2.092,2,    1.203,2,   2309.7,2,   7.7133,    25.00,2,  -999.00,9,  -999.00,9,   2.8750
  74DI19980423,  A16N, 13502,  1,      1,      1,2,19980521, 158, 59.0017, -19.9967, 2836,   2871.0,   2.5660,  34.9690,2,  34.9690,2,    273.4,2,    275.2,2,    13.57,2,    15.43,2,     0.90,2,    2.707,2,    1.659,2,   2311.8,2,   7.7003,    25.00,2,  -999.00,9,  -999.00,9,   2.3375