BOTTLE,20221006CCHSIOCBG
EXPOCODE,SECT_ID,STNNBR,CASTNO,SAMPNO,BTLNBR,BTLNBR_FLAG_W,DATE,TIME,LATITUDE,LONGITUDE,DEPTH,CTDPRS,CTDTMP,CTDSAL,CTDSAL_FLAG_W,SALNTY,SALNTY_FLAG_W,CTDOXY,CTDOXY_FLAG_W,OXYGEN,OXYGEN_FLAG_W,SILCAT,SILCAT_FLAG_W,NITRAT,NITRAT_FLAG_W,PHSPHT,PHSPHT_FLAG_W,CFC-11,CFC-11_FLAG_W,CFC-12,CFC-12_FLAG_W,ALKALI,ALKALI_FLAG_W,PH_SWS,PH_TEMP,PH_SWS_FLAG_W,CHLORA,CHLORA_FLAG_W,PPHYTN,PPHYTN_FLAG_W,THETA
,,,,,,,,,,,METERS,DBAR,ITS-90,PSS-78,,PSS-78,,UMOL/KG,,UMOL/KG,,UMOL/KG,,UMOL/KG,,UMOL/KG,,PMOL/KG,,PMOL/KG,,UMOL/KG,,,DEGC,,UG/L,,UG/L,,DEGC
  74DI19980423,  A16N, 13476,  1,     23,     23,2,19980514,2140, 49.9817, -20.0133, 4399,      2.6,  12.8630,  35.5690,2,  35.5670,2,    287.6,2,    291.4,2,     2.39,2,     3.78,2,     0.16,2,    2.052,3,    1.434,3,   2347.0,6,   7.9443,    25.00,2,     2.48,2,     0.59,2,  12.8626
  74DI19980423,  A16N, 13476,  1,     22,     22,2,19980514,2140, 49.9817, -20.0133, 4399,     16.5,  12.4750,  35.5930,2,  35.5890,2,    284.9,2,    277.4,2,     2.30,2,     5.44,2,     0.25,2,   -8.764,3,    1.587,3,   2345.8,2,   7.9113,    25.00,2,     1.54,2,     0.37,2,  12.4728
  74DI19980423,  A16N, 13476,  1,     21,     21,2,19980514,2140, 49.9817, -20.0133, 4399,     28.7,  12.1370,  35.6210,2,  35.6250,2,    274.7,2,    263.1,2,     2.74,2,     7.27,2,     0.35,2,    1.531,3,    1.495,3,   2344.3,2,   7.8783,    25.00,2,     0.44,2,     0.12,2,  12.1332
  74DI19980423,  A16N, 13476,  1,     20,     20,2,19980514,2140, 49.9817, -20.0133, 4399,     53.8,  11.7630,  35.5450,2,  35.5440,2,    263.6,2,    264.6,2,     3.14,2,     7.76,2,     0.38,2,    1.280,3,    0.843,3,   2339.9,2,   7.8753,    25.00,2,     0.25,2,     0.11,2,  11.7561
  74DI19980423,  A16N, 13476,  1,     19,     19,2,19980514,2140, 49.9817, -20.0133, 4399,     79.3,  11.6720,  35.5480,2,  35.5460,2,    257.4,2,    257.8,2,     3.34,2,     8.75,2,     0.42,2, -999.000,9, -999.000,9,   2339.4,2,   7.8593,    25.00,2,     0.13,2,     0.11,2,  11.6618
  74DI19980423,  A16N, 13476,  1,     18,     18,2,19980514,2140, 49.9817, -20.0133, 4399,    104.7,  11.6750,  35.5630,2,  35.5650,2,    252.5,2,    257.0,2,     3.25,2,     8.74,2,     0.43,2,    3.674,3,    1.525,3,   2340.2,2,   7.8603,    25.00,2,     0.03,2,     0.02,2,  11.6616
  74DI19980423,  A16N, 13476,  1,     17,     17,2,19980514,2140, 49.9817, -20.0133, 4399,    155.3,  11.6240,  35.5700,2,  35.5670,2,    248.4,2,    256.1,2,     3.34,2,     8.96,2,     0.46,2,    2.259,3,    1.490,3,   2341.7,2,   7.8543,    25.00,2,     0.04,2,     0.02,2,  11.6041
  74DI19980423,  A16N, 13476,  1,     16,     16,2,19980514,2140, 49.9817, -20.0133, 4399,    205.4,  11.4010,  35.5220,2,  35.5200,2,    252.8,2,    257.0,2,     3.58,2,     9.27,2,     0.48,2, -999.000,9, -999.000,9,   2336.3,2,   7.8543,    25.00,2,  -999.00,9,  -999.00,9,  11.3749
  74DI19980423,  A16N, 13476,  1,     15,     15,2,19980514,2140, 49.9817, -20.0133, 4399,    408.2,  10.8600,  35.4630,2,  35.4590,2,    240.8,2,    237.2,2,     4.90,2,    12.04,2,     0.67,2,    0.395,3,    0.197,3,   2336.2,2,   7.8173,    25.00,2,  -999.00,9,  -999.00,9,  10.8093
  74DI19980423,  A16N, 13476,  1,     14,     14,2,19980514,2140, 49.9817, -20.0133, 4399,    609.1,   9.4700,  35.2880,2,  35.2870,2,    209.4,2,    206.2,2,     8.32,2,    16.68,2,     0.98,2, -999.000,9, -999.000,9,   2326.7,2,   7.7513,    25.00,2,  -999.00,9,  -999.00,9,   9.3999
  74DI19980423,  A16N, 13476,  1,     13,     13,2,19980514,2140, 49.9817, -20.0133, 4399,    811.8,   7.4940,  35.1730,2,  35.1710,2,    199.9,2,    198.6,2,    11.16,2,    19.21,2,     1.20,2,    1.586,3,    0.359,3,   2325.4,2,   7.7063,    25.00,2,  -999.00,9,  -999.00,9,   7.4114
  74DI19980423,  A16N, 13476,  1,     12,     12,2,19980514,2140, 49.9817, -20.0133, 4399,   1013.5,   6.7280,  35.2490,2,  35.2510,2,    215.4,2,    214.3,2,    11.29,2,    18.59,2,     1.09,2,    0.616,3,    0.221,3,   2334.1,2,   7.7103,    25.00,2,  -999.00,9,  -999.00,9,   6.6291
  74DI19980423,  A16N, 13476,  1,     11,     11,2,19980514,2140, 49.9817, -20.0133, 4399,   1267.0,   4.9200,  35.0520,2,  35.0520,2,    242.9,2,    243.7,2,    11.52,2,    18.22,2,     1.10,2, -999.000,9, -999.000,9,   2317.9,2,   7.7063,    25.00,2,  -999.00,9,  -999.00,9,   4.8117
  74DI19980423,  A16N, 13476,  1,     10,     10,2,19980514,2140, 49.9817, -20.0133, 4399,   1520.7,   3.9130,  34.9330,2,  34.9330,2,    263.5,2,    265.4,2,    11.36,2,    17.67,2,     1.09,2,    0.865,3,    0.477,3,   2308.2,2,   7.7093,    25.00,2,  -999.00,9,  -999.00,9,   3.7920
  74DI19980423,  A16N, 13476,  1,      9,      9,2,19980514,2140, 49.9817, -20.0133, 4399,   1774.8,   3.5690,  34.9100,2,  34.9110,2,    273.2,2,    273.2,2,    11.80,2,    17.36,2,     1.05,2,    0.097,3,    0.019,3,   2308.7,2,   7.7163,    25.00,2,  -999.00,9,  -999.00,9,   3.4291
  74DI19980423,  A16N, 13476,  1,      8,      8,2,19980514,2140, 49.9817, -20.0133, 4399,   2028.9,   3.4330,  34.9180,2,  34.9180,2,    273.4,2,    272.6,2,    13.05,2,    17.36,2,     1.05,2,    0.228,3,    0.019,3,   2304.1,2,   7.7173,    25.00,2,  -999.00,9,  -999.00,9,   3.2713
  74DI19980423,  A16N, 13476,  1,      7,      7,2,19980514,2140, 49.9817, -20.0133, 4399,   2284.2,   3.3090,  34.9430,2,  34.9430,2,    265.9,2,    267.2,2,    16.33,2,    17.55,2,     1.11,2, -999.000,9, -999.000,9,   2317.9,2,   7.7193,    25.00,2,  -999.00,9,  -999.00,9,   3.1247
  74DI19980423,  A16N, 13476,  1,      6,      6,2,19980514,2140, 49.9817, -20.0133, 4399,   2538.8,   3.1010,  34.9460,2,  34.9460,2,    263.4,2,    265.8,2,    17.97,2,    17.61,2,     1.14,2,    0.195,3,    0.117,3,   2317.9,2,   7.7173,    25.00,2,  -999.00,9,  -999.00,9,   2.8953
  74DI19980423,  A16N, 13476,  1,      5,      5,2,19980514,2140, 49.9817, -20.0133, 4399,   2794.5,   2.9350,  34.9490,2,  34.9490,2,    259.5,2,    258.6,2,    24.57,2,    18.60,2,     1.93,4, -999.000,9, -999.000,9,   2333.5,2,   7.7173,    25.00,2,  -999.00,9,  -999.00,9,   2.7068
  74DI19980423,  A16N, 13476,  1,      4,      4,2,19980514,2140, 49.9817, -20.0133, 4399,   3050.7,   2.7860,  34.9420,2,  34.9420,2,    251.5,2,    252.1,2,    30.95,2,    19.82,2,     1.25,2,    0.186,3,    0.080,3,   2338.1,2,   7.7153,    25.00,2,  -999.00,9,  -999.00,9,   2.5345
  74DI19980423,  A16N, 13476,  1,      3,      3,2,19980514,2140, 49.9817, -20.0133, 4399,   3562.3,   2.5510,  34.9180,2,  34.9170,2,    242.5,2,    241.2,2,    42.15,2,    21.75,2,     1.36,2,    0.097,2,    0.051,2,   -999.0,9,-999.0000,  -999.00,9,  -999.00,9,  -999.00,9,   2.2504
  74DI19980423,  A16N, 13476,  1,      2,      2,2,19980514,2140, 49.9817, -20.0133, 4399,   4075.5,   2.5020,  34.9080,2,  34.9070,2,    239.4,2,    237.1,2,    45.35,2,    22.39,2,     1.40,2, -999.000,9, -999.000,9,   2357.0,2,   7.7153,    25.00,2,  -999.00,9,  -999.00,9,   2.1449
  74DI19980423,  A16N, 13476,  1,      1,      1,2,19980514,2140, 49.9817, -20.0133, 4399,   4472.7,   2.5230,  34.9050,2,  34.9050,2,    238.4,2,    239.8,2,    45.40,2,    21.98,2,     1.32,2,    0.050,2,    0.023,2,   2364.5,2,   7.7153,    25.00,2,  -999.00,9,  -999.00,9,   2.1182
  74DI19980423,  A16N, 13477,  1,     24,     24,2,19980515, 415, 50.4967, -19.9983, 3921,      2.1,  12.5930,  35.5830,2,  35.5820,2,    265.5,6,    274.0,2,     2.46,2,     5.56,2,     0.22,2, -999.000,9, -999.000,9,   -999.0,9,-999.0000,  -999.00,9,     1.01,2,     0.20,2,  12.5927
  74DI19980423,  A16N, 13477,  1,     23,     23,2,19980515, 415, 50.4967, -19.9983, 3921,     12.9,  12.5370,  35.5850,2,  35.5830,2,    275.4,2,    274.4,0,     2.39,2,     5.60,2,     0.22,2, -999.000,9, -999.000,9,   -999.0,9,-999.0000,  -999.00,9,     1.07,2,     0.19,2,  12.5353
  74DI19980423,  A16N, 13477,  1,     22,     22,2,19980515, 415, 50.4967, -19.9983, 3921,     20.7,  12.3350,  35.5840,2,  35.5830,2,    269.2,2,    273.7,2,     2.39,2,     5.80,2,     0.25,2, -999.000,9, -999.000,9,   -999.0,9,-999.0000,  -999.00,9,     1.14,2,     0.24,2,  12.3323
  74DI19980423,  A16N, 13477,  1,     21,     21,2,19980515, 415, 50.4967, -19.9983, 3921,     36.2,  12.2110,  35.5850,2,  35.5830,2,    270.2,2,    268.2,0,     2.69,2,     6.54,2,     0.30,2, -999.000,9, -999.000,9,   -999.0,9,-999.0000,  -999.00,9,     0.65,2,     0.14,2,  12.2062
  74DI19980423,  A16N, 13477,  1,     20,     20,2,19980515, 415, 50.4967, -19.9983, 3921,     65.8,  11.9440,  35.5930,2,  35.5910,2,    261.6,2,    256.9,2,     3.17,2,     8.14,2,     0.38,2, -999.000,9, -999.000,9,   -999.0,9,-999.0000,  -999.00,9,     0.05,2,     0.03,2,  11.9354
  74DI19980423,  A16N, 13477,  1,     19,     19,2,19980515, 415, 50.4967, -19.9983, 3921,     96.2,  11.8920,  35.5950,2,  35.5930,2,    261.4,2,    255.7,2,     3.23,2,     8.31,2,     0.40,2, -999.000,9, -999.000,9,   -999.0,9,-999.0000,  -999.00,9,     0.03,2,     0.02,2,  11.8795
  74DI19980423,  A16N, 13477,  1,     18,     18,2,19980515, 415, 50.4967, -19.9983, 3921,    115.5,  11.8780,  35.5920,2,  35.5900,2,    256.0,2,    255.2,2,     3.24,2,     8.32,2,     0.40,2, -999.000,9, -999.000,9,   -999.0,9,-999.0000,  -999.00,9,     0.03,2,     0.01,2,  11.8630
  74DI19980423,  A16N, 13477,  1,     17,     17,2,19980515, 415, 50.4967, -19.9983, 3921,    146.2,  11.7980,  35.5770,2,  35.5760,2,    253.5,2,    255.8,2,     3.37,2,     8.48,2,     0.40,2, -999.000,9, -999.000,9,   -999.0,9,-999.0000,  -999.00,9,  -999.00,9,  -999.00,9,  11.7791
  74DI19980423,  A16N, 13477,  1,     16,     16,2,19980515, 415, 50.4967, -19.9983, 3921,    186.7,  11.5570,  35.5370,2,  35.5360,2,    257.3,2,    258.0,2,     3.55,2,     8.83,2,     0.46,2, -999.000,9, -999.000,9,   -999.0,9,-999.0000,  -999.00,9,  -999.00,9,  -999.00,9,  11.5331
  74DI19980423,  A16N, 13477,  1,     15,     15,2,19980515, 415, 50.4967, -19.9983, 3921,    226.5,  11.4280,  35.5160,2,  35.5150,2,    254.0,2,    254.2,2,     3.76,2,     9.54,2,     0.48,2, -999.000,9, -999.000,9,   -999.0,9,-999.0000,  -999.00,9,  -999.00,9,  -999.00,9,  11.3992
  74DI19980423,  A16N, 13477,  1,     14,     14,2,19980515, 415, 50.4967, -19.9983, 3921,    356.6,  11.1460,  35.4970,2,  35.4950,2,    235.6,2,    244.0,2,     4.29,2,    11.10,2,     0.46,2, -999.000,9, -999.000,9,   -999.0,9,-999.0000,  -999.00,9,  -999.00,9,  -999.00,9,  11.1011
  74DI19980423,  A16N, 13477,  1,     13,     13,2,19980515, 415, 50.4967, -19.9983, 3921,    508.0,   9.8110,  35.3050,2,  35.3020,2,    214.0,2,    214.3,2,     7.79,2,    15.64,2,     0.81,2, -999.000,9, -999.000,9,   -999.0,9,-999.0000,  -999.00,9,  -999.00,9,  -999.00,9,   9.7516
  74DI19980423,  A16N, 13477,  1,     12,     12,2,19980515, 415, 50.4967, -19.9983, 3921,    709.2,   7.6850,  35.1150,2,  35.1130,2,    202.4,2,    200.3,2,    11.12,2,    19.15,2,     1.09,2, -999.000,9, -999.000,9,   -999.0,9,-999.0000,  -999.00,9,  -999.00,9,  -999.00,9,   7.6124
  74DI19980423,  A16N, 13477,  1,     11,     11,2,19980515, 415, 50.4967, -19.9983, 3921,    911.9,   6.1380,  35.1010,2,  35.1020,2,    218.7,2,    217.8,2,    11.72,2,    19.19,2,     1.01,2, -999.000,9, -999.000,9,   -999.0,9,-999.0000,  -999.00,9,  -999.00,9,  -999.00,9,   6.0539
  74DI19980423,  A16N, 13477,  1,     10,     10,2,19980515, 415, 50.4967, -19.9983, 3921,   1216.1,   4.3700,  34.9640,2,  34.9630,2,    254.2,2,    254.0,2,    11.64,2,    18.30,2,     0.98,2, -999.000,9, -999.000,9,   -999.0,9,-999.0000,  -999.00,9,  -999.00,9,  -999.00,9,   4.2717
  74DI19980423,  A16N, 13477,  1,      9,      9,2,19980515, 415, 50.4967, -19.9983, 3921,   1621.9,   3.5440,  34.8970,2,  34.8960,2,    274.5,2,    275.4,2,    11.30,2,    17.51,2,     0.93,2, -999.000,9, -999.000,9,   -999.0,9,-999.0000,  -999.00,9,  -999.00,9,  -999.00,9,   3.4183
  74DI19980423,  A16N, 13477,  1,      8,      8,2,19980515, 415, 50.4967, -19.9983, 3921,   1827.6,   3.3470,  34.8870,2,  34.8870,2,    280.7,2,    282.0,2,    11.35,2,    17.24,2,     0.98,2, -999.000,9, -999.000,9,   -999.0,9,-999.0000,  -999.00,9,  -999.00,9,  -999.00,9,   3.2053
  74DI19980423,  A16N, 13477,  1,      7,      7,2,19980515, 415, 50.4967, -19.9983, 3921,   2030.8,   3.2590,  34.8890,2,  34.8890,2,    281.4,2,    281.8,2,    11.65,2,    17.07,2,     0.92,2, -999.000,9, -999.000,9,   -999.0,9,-999.0000,  -999.00,9,  -999.00,9,  -999.00,9,   3.0998
  74DI19980423,  A16N, 13477,  1,      6,      6,2,19980515, 415, 50.4967, -19.9983, 3921,   2234.2,   3.2580,  34.9110,2,  34.9100,2,    278.1,2,    278.0,2,    12.97,2,    17.01,2,     0.94,2, -999.000,9, -999.000,9,   -999.0,9,-999.0000,  -999.00,9,  -999.00,9,  -999.00,9,   3.0795
  74DI19980423,  A16N, 13477,  1,      5,      5,2,19980515, 415, 50.4967, -19.9983, 3921,   2438.5,   3.2040,  34.9350,2,  34.9340,2,    273.2,2,    272.6,2,    15.00,2,    17.19,2,     1.08,2, -999.000,9, -999.000,9,   -999.0,9,-999.0000,  -999.00,9,  -999.00,9,  -999.00,9,   3.0064
  74DI19980423,  A16N, 13477,  1,      4,      4,2,19980515, 415, 50.4967, -19.9983, 3921,   2795.4,   2.9920,  34.9490,2,  34.9490,2,    261.9,2,    261.2,2,    22.93,2,    18.30,2,     1.06,2, -999.000,9, -999.000,9,   -999.0,9,-999.0000,  -999.00,9,  -999.00,9,  -999.00,9,   2.7625
  74DI19980423,  A16N, 13477,  1,      3,      3,2,19980515, 415, 50.4967, -19.9983, 3921,   3309.1,   2.6560,  34.9300,2,  34.9290,2,    249.9,2,    248.3,2,    36.18,2,    20.43,2,     1.26,2, -999.000,9, -999.000,9,   -999.0,9,-999.0000,  -999.00,9,  -999.00,9,  -999.00,9,   2.3802
  74DI19980423,  A16N, 13477,  1,      2,      2,2,19980515, 415, 50.4967, -19.9983, 3921,   3821.4,   2.4830,  34.9090,2,  34.9080,2,    240.3,2,    239.1,2,    45.22,2,    22.00,2,     1.38,2, -999.000,9, -999.000,9,   -999.0,9,-999.0000,  -999.00,9,  -999.00,9,  -999.00,9,   2.1554
  74DI19980423,  A16N, 13477,  1,      1,      1,2,19980515, 415, 50.4967, -19.9983, 3921,   3980.7,   2.4820,  34.9070,2,  34.9060,2,    238.8,2,    240.2,2,    45.00,2,    21.53,2,     1.30,2, -999.000,9, -999.000,9,   -999.0,9,-999.0000,  -999.00,9,  -999.00,9,  -999.00,9,   2.1364