BOTTLE,20221006CCHSIOCBG
EXPOCODE,SECT_ID,STNNBR,CASTNO,SAMPNO,BTLNBR,BTLNBR_FLAG_W,DATE,TIME,LATITUDE,LONGITUDE,DEPTH,CTDPRS,CTDTMP,CTDSAL,CTDSAL_FLAG_W,SALNTY,SALNTY_FLAG_W,CTDOXY,CTDOXY_FLAG_W,OXYGEN,OXYGEN_FLAG_W,SILCAT,SILCAT_FLAG_W,NITRAT,NITRAT_FLAG_W,PHSPHT,PHSPHT_FLAG_W,CFC-11,CFC-11_FLAG_W,CFC-12,CFC-12_FLAG_W,ALKALI,ALKALI_FLAG_W,PH_SWS,PH_TEMP,PH_SWS_FLAG_W,CHLORA,CHLORA_FLAG_W,PPHYTN,PPHYTN_FLAG_W,THETA
,,,,,,,,,,,METERS,DBAR,ITS-90,PSS-78,,PSS-78,,UMOL/KG,,UMOL/KG,,UMOL/KG,,UMOL/KG,,UMOL/KG,,PMOL/KG,,PMOL/KG,,UMOL/KG,,,DEGC,,UG/L,,UG/L,,DEGC
  74DI19980423,  A16N, 13487,  1,     14,     14,2,19980517,1536, 52.1317, -15.0083, 1476,      3.0,  12.6170,  35.5020,2,  35.5030,2,    275.3,6,    278.5,2,     3.78,2,     6.89,2,     0.35,2, -999.000,9, -999.000,9,   -999.0,9,-999.0000,  -999.00,9,     0.66,2,     0.15,2,  12.6166
  74DI19980423,  A16N, 13487,  1,     13,     13,2,19980517,1536, 52.1317, -15.0083, 1476,     14.5,  12.0100,  35.4990,2,  35.4990,2,    276.3,2,    279.1,2,     3.82,2,     7.13,2,     0.37,2, -999.000,9, -999.000,9,   -999.0,9,-999.0000,  -999.00,9,     0.46,2,     0.16,2,  12.0081
  74DI19980423,  A16N, 13487,  1,     12,     12,2,19980517,1536, 52.1317, -15.0083, 1476,     25.1,  11.6420,  35.4950,2,  35.4960,2,    280.1,2,    276.5,2,     3.86,2,     7.53,2,     0.39,2, -999.000,9, -999.000,9,   -999.0,9,-999.0000,  -999.00,9,     0.40,2,     0.11,2,  11.6388
  74DI19980423,  A16N, 13487,  1,     11,     11,2,19980517,1536, 52.1317, -15.0083, 1476,     44.9,  11.1000,  35.4980,2,  35.4950,2,    272.6,2,    271.0,2,     3.85,2,     8.41,2,     0.47,2, -999.000,9, -999.000,9,   -999.0,9,-999.0000,  -999.00,9,     0.33,2,     0.19,2,  11.0944
  74DI19980423,  A16N, 13487,  1,     10,     10,2,19980517,1536, 52.1317, -15.0083, 1476,     85.4,  10.8920,  35.5070,2,  35.5040,2,    262.4,2,    260.1,2,     3.90,2,     9.91,2,     0.55,2, -999.000,9, -999.000,9,   -999.0,9,-999.0000,  -999.00,9,     0.05,2,     0.03,2,  10.8815
  74DI19980423,  A16N, 13487,  1,      9,      9,2,19980517,1536, 52.1317, -15.0083, 1476,    125.9,  10.8450,  35.5050,2,  35.5030,2,    259.2,2,    259.3,2,     3.94,2,    10.06,2,     0.56,2, -999.000,9, -999.000,9,   -999.0,9,-999.0000,  -999.00,9,     0.05,2,     0.03,2,  10.8296
  74DI19980423,  A16N, 13487,  1,      8,      8,2,19980517,1536, 52.1317, -15.0083, 1476,    245.3,  10.7690,  35.5090,2,  35.5260,2,    259.4,2,    260.4,2,     3.86,2,    10.09,2,     0.66,2, -999.000,9, -999.000,9,   -999.0,9,-999.0000,  -999.00,9,  -999.00,9,  -999.00,9,  10.7389
  74DI19980423,  A16N, 13487,  1,      7,      7,2,19980517,1536, 52.1317, -15.0083, 1476,    326.8,  10.6550,  35.4890,2,  35.4860,2,    254.9,2,    256.6,2,     4.22,2,    10.67,2,     0.60,2, -999.000,9, -999.000,9,   -999.0,9,-999.0000,  -999.00,9,  -999.00,9,  -999.00,9,  10.6150
  74DI19980423,  A16N, 13487,  1,      6,      6,2,19980517,1536, 52.1317, -15.0083, 1476,    509.7,  10.3050,  35.4640,2,  35.4610,2,    246.1,2,    245.3,2,     5.20,2,    12.00,2,     0.71,2, -999.000,9, -999.000,9,   -999.0,9,-999.0000,  -999.00,9,  -999.00,9,  -999.00,9,  10.2435
  74DI19980423,  A16N, 13487,  1,      5,      5,2,19980517,1536, 52.1317, -15.0083, 1476,    703.1,   9.4500,  35.4220,2,  35.4200,2,    209.4,2,    206.7,2,     8.50,2,    16.32,2,     0.96,2, -999.000,9, -999.000,9,   -999.0,9,-999.0000,  -999.00,9,  -999.00,9,  -999.00,9,   9.3687
  74DI19980423,  A16N, 13487,  1,      4,      4,2,19980517,1536, 52.1317, -15.0083, 1476,    909.6,   8.8460,  35.4560,2,  35.4540,2,    198.2,2,    198.4,2,    10.08,2,    17.64,2,     1.04,2, -999.000,9, -999.000,9,   -999.0,9,-999.0000,  -999.00,9,  -999.00,9,  -999.00,9,   8.7436
  74DI19980423,  A16N, 13487,  1,      3,      3,2,19980517,1536, 52.1317, -15.0083, 1476,   1168.3,   6.4960,  35.2150,2,  35.2140,2,    218.6,2,    218.7,2,    11.64,2,    18.66,2,     1.12,2, -999.000,9, -999.000,9,   -999.0,9,-999.0000,  -999.00,9,  -999.00,9,  -999.00,9,   6.3829
  74DI19980423,  A16N, 13487,  1,      2,      2,2,19980517,1536, 52.1317, -15.0083, 1476,   1370.5,   4.7760,  35.0190,2,  35.0180,2,    246.9,2,    248.2,2,    11.76,2,    18.26,2,     1.10,2, -999.000,9, -999.000,9,   -999.0,9,-999.0000,  -999.00,9,  -999.00,9,  -999.00,9,   4.6593
  74DI19980423,  A16N, 13487,  1,      1,      1,2,19980517,1536, 52.1317, -15.0083, 1476,   1488.3,   4.1580,  34.9570,2,  34.9580,2,    257.8,2,    262.3,2,    11.82,2,    17.84,2,     1.01,2, -999.000,9, -999.000,9,   -999.0,9,-999.0000,  -999.00,9,  -999.00,9,  -999.00,9,   4.0371
  74DI19980423,  A16N, 13488,  1,      8,      8,2,19980517,1938, 52.1683, -14.1667,  345,      4.1,  12.8640,  35.4980,2,  35.4980,2,    280.3,2,    285.6,2,     3.79,2,     4.74,2,     0.24,2, -999.000,9, -999.000,9,   -999.0,9,-999.0000,  -999.00,9,     0.62,2,     0.11,2,  12.8634
  74DI19980423,  A16N, 13488,  1,      7,      7,2,19980517,1938, 52.1683, -14.1667,  345,     16.4,  11.4830,  35.4920,2,  35.4890,2,    294.8,2,    298.6,2,     3.75,2,     5.03,2,     0.26,2, -999.000,9, -999.000,9,   -999.0,9,-999.0000,  -999.00,9,     1.08,2,     0.26,2,  11.4809
  74DI19980423,  A16N, 13488,  1,      6,      6,2,19980517,1938, 52.1683, -14.1667,  345,     29.1,  11.0460,  35.4890,2,  35.4880,2,    296.8,2,    288.6,2,     3.79,2,     6.36,2,     0.37,2, -999.000,9, -999.000,9,   -999.0,9,-999.0000,  -999.00,9,  -999.00,9,  -999.00,9,  11.0424
  74DI19980423,  A16N, 13488,  1,      5,      5,2,19980517,1938, 52.1683, -14.1667,  345,     54.6,  10.8640,  35.4870,2,  35.4870,2,    275.1,2,    272.3,2,     3.86,2,     7.54,2,     0.46,2, -999.000,9, -999.000,9,   -999.0,9,-999.0000,  -999.00,9,     0.13,2,     0.11,2,  10.8573
  74DI19980423,  A16N, 13488,  1,      4,      4,2,19980517,1938, 52.1683, -14.1667,  345,     79.4,  10.7720,  35.4890,2,  35.4870,2,    267.9,2,    266.2,2,     3.92,2,     8.97,2,     0.52,2, -999.000,9, -999.000,9,   -999.0,9,-999.0000,  -999.00,9,     0.05,2,     0.03,2,  10.7623
  74DI19980423,  A16N, 13488,  1,      3,      3,2,19980517,1938, 52.1683, -14.1667,  345,    105.2,  10.5280,  35.4870,2,  35.4870,2,    261.8,2,    260.8,2,     3.95,2,    10.17,2,     0.57,2, -999.000,9, -999.000,9,   -999.0,9,-999.0000,  -999.00,9,     0.04,2,     0.02,2,  10.5154
  74DI19980423,  A16N, 13488,  1,      2,      2,2,19980517,1938, 52.1683, -14.1667,  345,    206.3,  10.4310,  35.4860,2,  35.4860,2,    256.8,2,    256.1,2,     4.23,2,    10.58,2,     0.60,2, -999.000,9, -999.000,9,   -999.0,9,-999.0000,  -999.00,9,  -999.00,9,  -999.00,9,  10.4063
  74DI19980423,  A16N, 13488,  1,      1,      1,2,19980517,1938, 52.1683, -14.1667,  345,    336.0,  10.3410,  35.4810,2,  35.4810,2,    263.0,2,    261.6,2,     4.42,2,    10.26,2,     0.57,2, -999.000,9, -999.000,9,   -999.0,9,-999.0000,  -999.00,9,  -999.00,9,  -999.00,9,  10.3007
  74DI19980423,  A16N, 13489,  1,     20,     20,2,19980518,1657, 52.5033, -19.9933, 2775,      1.7,  11.9630,  35.3590,2,  35.3570,2,   -999.0,9,    283.6,2,     3.20,2,     6.20,2,     0.32,2, -999.000,9, -999.000,9,   -999.0,9,-999.0000,  -999.00,9,     0.56,2,     0.12,2,  11.9628
  74DI19980423,  A16N, 13489,  1,     19,     19,2,19980518,1657, 52.5033, -19.9933, 2775,     13.6,  11.2920,  35.3490,2,  35.3470,2,    281.1,2,    291.3,2,     3.15,2,     6.10,2,     0.32,2, -999.000,9, -999.000,9,   -999.0,9,-999.0000,  -999.00,9,     0.75,2,     0.18,2,  11.2903
  74DI19980423,  A16N, 13489,  1,     18,     18,2,19980518,1657, 52.5033, -19.9933, 2775,     24.1,  11.0700,  35.3510,2,  35.3490,2,    285.7,2,    280.1,2,     3.24,2,     6.84,2,     0.38,2, -999.000,9, -999.000,9,   -999.0,9,-999.0000,  -999.00,9,     0.49,2,     0.20,2,  11.0670
  74DI19980423,  A16N, 13489,  1,     17,     17,2,19980518,1657, 52.5033, -19.9933, 2775,     43.5,  10.8900,  35.3520,2,  35.3510,2,    278.3,2,    271.2,2,     3.46,2,     7.84,2,     0.46,2, -999.000,9, -999.000,9,   -999.0,9,-999.0000,  -999.00,9,     0.27,2,     0.14,2,  10.8847
  74DI19980423,  A16N, 13489,  1,     16,     16,2,19980518,1657, 52.5033, -19.9933, 2775,     84.2,  10.5020,  35.3420,2,  35.3390,2,    264.7,2,    263.3,2,     4.09,2,     9.44,2,     0.55,2, -999.000,9, -999.000,9,   -999.0,9,-999.0000,  -999.00,9,     0.17,2,     0.06,2,  10.4919
  74DI19980423,  A16N, 13489,  1,     15,     15,2,19980518,1657, 52.5033, -19.9933, 2775,    123.7,  10.3480,  35.3320,2,  35.3300,2,    257.9,2,    258.3,2,     4.67,2,    10.55,2,     0.59,2, -999.000,9, -999.000,9,   -999.0,9,-999.0000,  -999.00,9,     0.06,2,     0.03,2,  10.3333
  74DI19980423,  A16N, 13489,  1,     14,     14,2,19980518,1657, 52.5033, -19.9933, 2775,    244.1,   9.9420,  35.3050,2,  35.3040,2,    254.7,2,    252.7,2,     5.35,2,    11.75,2,     0.68,2, -999.000,9, -999.000,9,   -999.0,9,-999.0000,  -999.00,9,  -999.00,9,  -999.00,9,   9.9136
  74DI19980423,  A16N, 13489,  1,     13,     13,2,19980518,1657, 52.5033, -19.9933, 2775,    324.7,   9.9200,  35.3320,2,  35.3300,2,    234.4,2,    242.5,2,     5.96,2,    12.82,2,     0.75,2, -999.000,9, -999.000,9,   -999.0,9,-999.0000,  -999.00,9,  -999.00,9,  -999.00,9,   9.8821
  74DI19980423,  A16N, 13489,  1,     12,     12,2,19980518,1657, 52.5033, -19.9933, 2775,    507.3,   8.0890,  35.1060,2,  35.1050,2,    214.1,2,    210.9,2,     9.78,2,    17.64,2,     1.07,2, -999.000,9, -999.000,9,   -999.0,9,-999.0000,  -999.00,9,  -999.00,9,  -999.00,9,   8.0362
  74DI19980423,  A16N, 13489,  1,     11,     11,2,19980518,1657, 52.5033, -19.9933, 2775,    760.1,   5.9970,  35.0380,2,  35.0370,2,    223.3,2,    218.6,2,    11.65,2,    18.98,2,     1.17,2, -999.000,9, -999.000,9,   -999.0,9,-999.0000,  -999.00,9,  -999.00,9,  -999.00,9,   5.9286
  74DI19980423,  A16N, 13489,  1,     10,     10,2,19980518,1657, 52.5033, -19.9933, 2775,    962.1,   5.2110,  35.0460,2,  35.0480,2,    232.0,2,    236.5,2,    11.62,2,    18.42,2,     1.11,2, -999.000,9, -999.000,9,   -999.0,9,-999.0000,  -999.00,9,  -999.00,9,  -999.00,9,   5.1287
  74DI19980423,  A16N, 13489,  1,      9,      9,2,19980518,1657, 52.5033, -19.9933, 2775,   1165.2,   4.3610,  34.9690,2,  34.9690,2,    252.4,2,    251.7,2,    11.55,2,    17.92,2,     1.08,2, -999.000,9, -999.000,9,   -999.0,9,-999.0000,  -999.00,9,  -999.00,9,  -999.00,9,   4.2673
  74DI19980423,  A16N, 13489,  1,      8,      8,2,19980518,1657, 52.5033, -19.9933, 2775,   1368.3,   3.7940,  34.9160,2,  34.9170,2,    267.0,2,    266.4,2,    11.36,2,    17.62,2,     1.08,2, -999.000,9, -999.000,9,   -999.0,9,-999.0000,  -999.00,9,  -999.00,9,  -999.00,9,   3.6879
  74DI19980423,  A16N, 13489,  1,      7,      7,2,19980518,1657, 52.5033, -19.9933, 2775,   1571.1,   3.5580,  34.8990,2,  34.8990,2,    273.6,2,    274.9,2,    11.32,2,    17.37,2,     1.06,2, -999.000,9, -999.000,9,   -999.0,9,-999.0000,  -999.00,9,  -999.00,9,  -999.00,9,   3.4367
  74DI19980423,  A16N, 13489,  1,      6,      6,2,19980518,1657, 52.5033, -19.9933, 2775,   1774.8,   3.4140,  34.8970,2,  34.8970,2,    275.1,2,    276.9,2,    11.81,2,    17.19,2,     1.04,2, -999.000,9, -999.000,9,   -999.0,9,-999.0000,  -999.00,9,  -999.00,9,  -999.00,9,   3.2762
  74DI19980423,  A16N, 13489,  1,      5,      5,2,19980518,1657, 52.5033, -19.9933, 2775,   1978.5,   3.2680,  34.8930,2,  34.8930,2,    281.2,2,    281.0,2,    11.96,2,    16.95,2,     1.04,2, -999.000,9, -999.000,9,   -999.0,9,-999.0000,  -999.00,9,  -999.00,9,  -999.00,9,   3.1136
  74DI19980423,  A16N, 13489,  1,      4,      4,2,19980518,1657, 52.5033, -19.9933, 2775,   2183.7,   3.2730,  34.9200,2,  34.9200,2,    273.8,2,    274.8,2,    14.08,2,    17.27,2,     1.06,2, -999.000,9, -999.000,9,   -999.0,9,-999.0000,  -999.00,9,  -999.00,9,  -999.00,9,   3.0991
  74DI19980423,  A16N, 13489,  1,      3,      3,2,19980518,1657, 52.5033, -19.9933, 2775,   2386.4,   3.1630,  34.9400,2,  34.9390,2,    267.6,2,    266.7,2,    17.60,2,    17.44,2,     1.10,2, -999.000,9, -999.000,9,   -999.0,9,-999.0000,  -999.00,9,  -999.00,9,  -999.00,9,   2.9712
  74DI19980423,  A16N, 13489,  1,      2,      2,2,19980518,1657, 52.5033, -19.9933, 2775,   2590.1,   2.9110,  34.9440,2,  34.9440,2,    256.5,2,    254.8,2,    27.16,2,    18.94,2,     1.21,2, -999.000,9, -999.000,9,   -999.0,9,-999.0000,  -999.00,9,  -999.00,9,  -999.00,9,   2.7038
  74DI19980423,  A16N, 13489,  1,      1,      1,2,19980518,1657, 52.5033, -19.9933, 2775,   2806.2,   2.6380,  34.9290,2,  34.9290,2,    244.7,2,    245.5,2,    36.92,2,    20.58,2,     1.20,2, -999.000,9, -999.000,9,   -999.0,9,-999.0000,  -999.00,9,  -999.00,9,  -999.00,9,   2.4147
  74DI19980423,  A16N, 13490,  1,     20,     20,2,19980518,2202, 53.0367, -19.9933, 2691,      3.9,  11.9700,  35.3590,2,  35.3570,2,    281.2,2,    282.4,2,     2.85,2,     6.02,2,     0.31,2, -999.000,9, -999.000,9,   2333.8,2,   7.9013,    25.00,2,     0.58,2,     0.13,2,  11.9695
  74DI19980423,  A16N, 13490,  1,     19,     19,2,19980518,2202, 53.0367, -19.9933, 2691,     15.6,  11.4560,  35.3700,2,  35.3610,2,    279.7,2,    286.1,2,     3.04,2,     6.11,2,     0.33,2, -999.000,9, -999.000,9,   2331.6,2,   7.8973,    25.00,2,     0.59,2,     0.14,2,  11.4540
  74DI19980423,  A16N, 13490,  1,     18,     18,2,19980518,2202, 53.0367, -19.9933, 2691,     28.5,  11.2730,  35.3580,2,  35.3530,2,    281.3,2,    280.9,2,     3.15,2,     6.65,2,     0.38,2, -999.000,9, -999.000,9,   2332.6,2,   7.8903,    25.00,2,     0.43,2,     0.17,2,  11.2694
  74DI19980423,  A16N, 13490,  1,     17,     17,2,19980518,2202, 53.0367, -19.9933, 2691,     52.9,  10.7280,  35.3340,2,  35.3330,2,    274.4,2,    268.9,2,     3.50,2,     8.20,2,     0.51,2,    3.060,3,    1.083,3,   2327.9,2,   7.8633,    25.00,2,     0.20,2,     0.09,2,  10.7216
  74DI19980423,  A16N, 13490,  1,     16,     16,2,19980518,2202, 53.0367, -19.9933, 2691,     78.2,  10.2850,  35.3020,2,  35.3050,2,    265.6,2,    262.7,2,     4.33,2,     9.91,2,     0.57,2, -999.000,9, -999.000,9,   -999.0,9,-999.0000,  -999.00,9,     0.05,2,     0.03,2,  10.2758
  74DI19980423,  A16N, 13490,  1,     15,     15,2,19980518,2202, 53.0367, -19.9933, 2691,    103.7,  10.1300,  35.2730,2,  35.2740,2,    259.0,2,    262.7,2,     4.60,2,    10.56,2,     0.61,2,    5.288,3,    1.946,3,   2322.6,2,   7.8333,    25.00,2,     0.05,2,     0.03,2,  10.1179
  74DI19980423,  A16N, 13490,  1,     14,     14,2,19980518,2202, 53.0367, -19.9933, 2691,    204.9,  10.1460,  35.3440,2,  35.3420,2,    256.1,2,    255.9,2,     5.06,2,    11.35,2,     0.65,2, -999.000,9, -999.000,9,   2326.7,2,   7.8013,    25.00,2,  -999.00,9,  -999.00,9,  10.1219
  74DI19980423,  A16N, 13490,  1,     13,     13,2,19980518,2202, 53.0367, -19.9933, 2691,    406.7,   9.8330,  35.3340,2,  35.3320,2,    243.5,2,    238.1,2,     6.35,2,    13.42,2,     0.82,2,    3.663,3,    1.556,3,   2324.4,2,   7.7213,    25.00,2,  -999.00,9,  -999.00,9,   9.7856
  74DI19980423,  A16N, 13490,  1,     12,     12,2,19980518,2202, 53.0367, -19.9933, 2691,    607.7,   7.5930,  35.0840,2,  35.0820,2,    209.0,2,    208.6,2,    10.68,2,    18.43,2,     1.15,2,    2.338,3,    0.878,3,   2319.9,2,   7.6993,    25.00,2,  -999.00,9,  -999.00,9,   7.5316
  74DI19980423,  A16N, 13490,  1,     11,     11,2,19980518,2202, 53.0367, -19.9933, 2691,    809.6,   5.3610,  34.9260,2,  34.9260,2,    228.1,2,    231.7,2,    11.52,2,    18.67,2,     1.17,2,    3.761,2,    1.795,3,   2311.9,2,   7.7053,    25.00,2,  -999.00,9,  -999.00,9,   5.2919
  74DI19980423,  A16N, 13490,  1,     10,     10,2,19980518,2202, 53.0367, -19.9933, 2691,   1009.7,   4.7600,  34.9840,2,  34.9840,2,    243.1,2,    243.8,2,    11.73,2,    18.48,2,     1.15,2,    3.114,3,    1.555,2,   -999.0,9,-999.0000,  -999.00,9,  -999.00,9,  -999.00,9,   4.6768
  74DI19980423,  A16N, 13490,  1,      9,      9,2,19980518,2202, 53.0367, -19.9933, 2691,   1210.5,   4.0990,  34.9400,2,  34.9390,2,    261.3,2,    261.8,2,    11.56,2,    17.91,2,     1.10,2,    4.136,3,    1.736,2,   2307.6,2,   7.7163,    25.00,2,  -999.00,9,  -999.00,9,   4.0037
  74DI19980423,  A16N, 13490,  1,      8,      8,2,19980518,2202, 53.0367, -19.9933, 2691,   1414.8,   3.6940,  34.9080,2,  34.9070,2,    271.9,2,    272.5,2,    11.39,2,    17.49,2,     1.09,2,    3.625,2,    1.867,2,   -999.0,9,-999.0000,  -999.00,9,  -999.00,9,  -999.00,9,   3.5849
  74DI19980423,  A16N, 13490,  1,      7,      7,2,19980518,2202, 53.0367, -19.9933, 2691,   1620.6,   3.4850,  34.9010,2,  34.9000,2,    276.4,2,    276.9,2,    11.92,2,    17.29,2,     1.11,2,    3.230,2,    1.601,2,   2305.7,2,   7.7243,    25.00,2,  -999.00,9,  -999.00,9,   3.3601
  74DI19980423,  A16N, 13490,  1,      6,      6,2,19980518,2202, 53.0367, -19.9933, 2691,   1824.1,   3.3320,  34.9030,2,  34.9030,2,    278.8,2,    278.3,2,    12.65,2,    17.12,2,     1.07,2,    3.291,3,    1.775,3,   2305.2,2,   7.7243,    25.00,2,  -999.00,9,  -999.00,9,   3.1908
  74DI19980423,  A16N, 13490,  1,      5,      5,2,19980518,2202, 53.0367, -19.9933, 2691,   2028.2,   3.2520,  34.9250,2,  34.9250,2,    274.3,2,    272.6,2,    14.87,2,    17.37,2,     1.11,2,    1.751,2,    0.906,2,   2310.2,2,   7.7263,    25.00,2,  -999.00,9,  -999.00,9,   3.0931
  74DI19980423,  A16N, 13490,  1,      4,      4,2,19980518,2202, 53.0367, -19.9933, 2691,   2232.5,   3.1080,  34.9400,2,  34.9400,2,    269.0,2,    269.1,2,    17.48,2,    17.42,2,     1.11,2,    1.537,2,    0.777,2,   -999.0,9,-999.0000,  -999.00,9,  -999.00,9,  -999.00,9,   2.9320
  74DI19980423,  A16N, 13490,  1,      3,      3,2,19980518,2202, 53.0367, -19.9933, 2691,   2437.6,   2.9370,  34.9440,2,  34.9440,2,    261.1,2,    260.4,2,    24.24,2,    18.40,2,     1.19,2,    0.772,2,    0.441,2,   2324.3,2,   7.7243,    25.00,2,  -999.00,9,  -999.00,9,   2.7442
  74DI19980423,  A16N, 13490,  1,      2,      2,2,19980518,2202, 53.0367, -19.9933, 2691,   2643.4,   2.7050,  34.9370,2,  34.9360,2,    252.7,2,    253.3,2,    31.71,2,    19.63,2,     1.25,2,    0.501,2,    0.311,2,   2337.0,2,   7.7223,    25.00,2,  -999.00,9,  -999.00,9,   2.4965
  74DI19980423,  A16N, 13490,  1,      1,      1,2,19980518,2202, 53.0367, -19.9933, 2691,   2721.5,   2.6260,  34.9310,2,  34.9310,2,    248.5,2,    250.2,2,    34.70,2,    20.03,2,     1.19,2,    0.347,2,    0.177,2,   -999.0,9,-999.0000,  -999.00,9,  -999.00,9,  -999.00,9,   2.4114