BOTTLE,20221006CCHSIOCBG
EXPOCODE,SECT_ID,STNNBR,CASTNO,SAMPNO,BTLNBR,BTLNBR_FLAG_W,DATE,TIME,LATITUDE,LONGITUDE,DEPTH,CTDPRS,CTDTMP,CTDSAL,CTDSAL_FLAG_W,SALNTY,SALNTY_FLAG_W,CTDOXY,CTDOXY_FLAG_W,OXYGEN,OXYGEN_FLAG_W,SILCAT,SILCAT_FLAG_W,NITRAT,NITRAT_FLAG_W,PHSPHT,PHSPHT_FLAG_W,CFC-11,CFC-11_FLAG_W,CFC-12,CFC-12_FLAG_W,ALKALI,ALKALI_FLAG_W,PH_SWS,PH_TEMP,PH_SWS_FLAG_W,CHLORA,CHLORA_FLAG_W,PPHYTN,PPHYTN_FLAG_W,THETA
,,,,,,,,,,,METERS,DBAR,ITS-90,PSS-78,,PSS-78,,UMOL/KG,,UMOL/KG,,UMOL/KG,,UMOL/KG,,UMOL/KG,,PMOL/KG,,PMOL/KG,,UMOL/KG,,,DEGC,,UG/L,,UG/L,,DEGC
  74DI19980423,  A16N, 13465,  1,     22,     22,2,19980511,1210, 43.4983, -20.0050, 4242,      4.3,  13.5800,  35.7700,2,  35.7690,2,    268.2,2,    265.2,2,     2.01,2,     3.59,2,     0.20,2, -999.000,9, -999.000,9,   -999.0,9,-999.0000,  -999.00,9,     0.70,2,     0.16,2,  13.5794
  74DI19980423,  A16N, 13465,  1,     21,     21,2,19980511,1210, 43.4983, -20.0050, 4242,     16.1,  13.5880,  35.7690,2,  35.7690,2,    265.0,2,    265.6,2,     1.98,2,     3.59,2,     0.21,2, -999.000,9, -999.000,9,   -999.0,9,-999.0000,  -999.00,9,     0.78,2,     0.16,2,  13.5857
  74DI19980423,  A16N, 13465,  1,     20,     20,2,19980511,1210, 43.4983, -20.0050, 4242,     28.5,  13.5790,  35.7690,2,  35.7690,2,    264.4,2,    265.1,2,     1.95,2,     3.54,2,     0.20,2, -999.000,9, -999.000,9,   -999.0,9,-999.0000,  -999.00,9,     0.78,2,     0.19,2,  13.5750
  74DI19980423,  A16N, 13465,  1,     19,     19,2,19980511,1210, 43.4983, -20.0050, 4242,     54.4,  13.3670,  35.7710,2,  35.7690,2,    261.6,2,    258.7,2,     2.12,2,     4.51,2,     0.27,2, -999.000,9, -999.000,9,   -999.0,9,-999.0000,  -999.00,9,     0.47,2,     0.28,2,  13.3594
  74DI19980423,  A16N, 13465,  1,     18,     18,2,19980511,1210, 43.4983, -20.0050, 4242,     80.3,  13.1970,  35.7700,2,  35.7690,2,    251.9,2,    252.2,2,     2.57,2,     5.61,2,     0.35,2, -999.000,9, -999.000,9,   -999.0,9,-999.0000,  -999.00,9,     0.13,2,     0.07,2,  13.1858
  74DI19980423,  A16N, 13465,  1,     17,     17,2,19980511,1210, 43.4983, -20.0050, 4242,    106.9,  13.1710,  35.7660,2,  35.7650,2,    249.9,2,    252.4,2,     2.63,2,     5.68,2,     0.34,2, -999.000,9, -999.000,9,   -999.0,9,-999.0000,  -999.00,9,     0.08,2,     0.04,2,  13.1561
  74DI19980423,  A16N, 13465,  1,     16,     16,2,19980511,1210, 43.4983, -20.0050, 4242,    156.4,  12.9190,  35.7360,2,  35.7350,2,    243.6,2,    245.3,2,     2.99,2,     7.30,2,     0.45,2, -999.000,9, -999.000,9,   -999.0,9,-999.0000,  -999.00,9,     0.03,2,     0.01,2,  12.8975
  74DI19980423,  A16N, 13465,  1,     15,     15,2,19980511,1210, 43.4983, -20.0050, 4242,    207.9,  12.7020,  35.7050,2,  35.7030,2,    241.2,2,    244.0,2,     3.22,2,     7.93,2,     0.47,2, -999.000,9, -999.000,9,   -999.0,9,-999.0000,  -999.00,9,  -999.00,9,  -999.00,9,  12.6736
  74DI19980423,  A16N, 13465,  1,     14,     14,2,19980511,1210, 43.4983, -20.0050, 4242,    412.4,  11.6460,  35.5810,2,  35.5790,2,    225.8,2,    227.6,2,     4.51,2,    11.27,2,     0.67,2, -999.000,9, -999.000,9,   -999.0,9,-999.0000,  -999.00,9,  -999.00,9,  -999.00,9,  11.5924
  74DI19980423,  A16N, 13465,  1,     13,     13,2,19980511,1210, 43.4983, -20.0050, 4242,    617.0,  10.3550,  35.4120,2,  35.4100,2,    216.4,2,    210.7,2,     7.15,2,    14.94,2,     0.92,2, -999.000,9, -999.000,9,   -999.0,9,-999.0000,  -999.00,9,  -999.00,9,  -999.00,9,  10.2799
  74DI19980423,  A16N, 13465,  1,     12,     12,2,19980511,1210, 43.4983, -20.0050, 4242,    821.4,   8.5450,  35.2880,2,  35.2860,2,    194.2,2,    192.4,2,    10.71,2,    18.53,2,     1.18,2, -999.000,9, -999.000,9,   -999.0,9,-999.0000,  -999.00,9,  -999.00,9,  -999.00,9,   8.4549
  74DI19980423,  A16N, 13465,  1,     11,     11,2,19980511,1210, 43.4983, -20.0050, 4242,   1026.0,   7.2860,  35.2850,2,  35.2860,2,    206.3,2,    206.1,2,    11.48,2,    18.45,2,     1.19,2, -999.000,9, -999.000,9,   -999.0,9,-999.0000,  -999.00,9,  -999.00,9,  -999.00,9,   7.1816
  74DI19980423,  A16N, 13465,  1,     10,     10,2,19980511,1210, 43.4983, -20.0050, 4242,   1282.5,   5.4740,  35.1490,2,  35.1480,2,    234.4,2,    237.4,2,    11.69,2,    18.09,2,     1.16,2, -999.000,9, -999.000,9,   -999.0,9,-999.0000,  -999.00,9,  -999.00,9,  -999.00,9,   5.3587
  74DI19980423,  A16N, 13465,  1,      9,      9,2,19980511,1210, 43.4983, -20.0050, 4242,   1540.5,   4.1780,  34.9810,2,  34.9810,2,    259.6,2,    260.6,2,    11.75,2,    17.56,2,     1.15,2, -999.000,9, -999.000,9,   -999.0,9,-999.0000,  -999.00,9,  -999.00,9,  -999.00,9,   4.0520
  74DI19980423,  A16N, 13465,  1,      8,      8,2,19980511,1210, 43.4983, -20.0050, 4242,   1797.3,   3.5220,  34.9020,2,  34.9030,2,    273.7,2,    275.6,2,    11.58,2,    17.03,2,     1.12,2, -999.000,9, -999.000,9,   -999.0,9,-999.0000,  -999.00,9,  -999.00,9,  -999.00,9,   3.3807
  74DI19980423,  A16N, 13465,  1,      7,      7,2,19980511,1210, 43.4983, -20.0050, 4242,   2055.8,   3.4190,  34.9130,2,  34.9140,2,    274.3,2,    274.5,2,    12.70,2,    17.12,2,     1.12,2, -999.000,9, -999.000,9,   -999.0,9,-999.0000,  -999.00,9,  -999.00,9,  -999.00,9,   3.2550
  74DI19980423,  A16N, 13465,  1,      6,      6,2,19980511,1210, 43.4983, -20.0050, 4242,   2315.1,   3.3090,  34.9290,2,  34.9300,2,    271.7,2,    271.3,2,    14.30,2,    17.04,2,     1.13,2, -999.000,9, -999.000,9,   -999.0,9,-999.0000,  -999.00,9,  -999.00,9,  -999.00,9,   3.1217
  74DI19980423,  A16N, 13465,  1,      5,      5,2,19980511,1210, 43.4983, -20.0050, 4242,   2573.4,   3.1450,  34.9510,2,  34.9520,2,    265.4,2,    263.3,2,    19.77,2,    17.78,2,     1.18,2, -999.000,9, -999.000,9,   -999.0,9,-999.0000,  -999.00,9,  -999.00,9,  -999.00,9,   2.9350
  74DI19980423,  A16N, 13465,  1,      4,      4,2,19980511,1210, 43.4983, -20.0050, 4242,   3091.9,   2.8100,  34.9430,2,  34.9440,2,    253.2,2,    253.3,2,    30.10,2,    19.35,2,     1.29,2, -999.000,9, -999.000,9,   -999.0,9,-999.0000,  -999.00,9,  -999.00,9,  -999.00,9,   2.5537
  74DI19980423,  A16N, 13465,  1,      3,      3,2,19980511,1210, 43.4983, -20.0050, 4242,   3612.4,   2.5940,  34.9210,2,  34.9220,2,    242.1,2,    243.1,2,    40.27,2,    21.11,2,     1.42,2, -999.000,9, -999.000,9,   -999.0,9,-999.0000,  -999.00,9,  -999.00,9,  -999.00,9,   2.2868
  74DI19980423,  A16N, 13465,  1,      2,      2,2,19980511,1210, 43.4983, -20.0050, 4242,   4134.6,   2.5620,  34.9130,2,  34.9130,2,    239.0,2,    238.7,2,    43.87,2,    21.73,2,     1.45,2, -999.000,9, -999.000,9,   -999.0,9,-999.0000,  -999.00,9,  -999.00,9,  -999.00,9,   2.1962
  74DI19980423,  A16N, 13465,  1,      1,      1,2,19980511,1210, 43.4983, -20.0050, 4242,   4308.0,   2.5700,  34.9110,2,  34.9120,2,    236.6,2,    237.0,2,    43.86,2,    21.45,2,     1.43,2, -999.000,9, -999.000,9,   -999.0,9,-999.0000,  -999.00,9,  -999.00,9,  -999.00,9,   2.1835
  74DI19980423,  A16N, 13466,  1,     22,     22,2,19980512, 342, 45.0000, -19.9967, 4318,      2.8,  13.6090,  35.7750,2,  35.7740,2,    265.4,6,    267.1,2,     1.70,2,     2.87,2,     0.16,2,    5.014,3,    1.998,3,   2362.0,6,   7.9243,    25.00,2,     0.68,2,     0.16,2,  13.6086
  74DI19980423,  A16N, 13466,  1,     21,     21,2,19980512, 342, 45.0000, -19.9967, 4318,     11.9,  13.6010,  35.7780,2,  35.7770,2,    266.7,2,    267.2,2,     1.67,2,     2.79,2,     0.16,2,    4.696,3,    1.903,3,   2361.3,2,   7.9243,    25.00,2,     0.64,2,     0.14,2,  13.5993
  74DI19980423,  A16N, 13466,  1,     20,     20,2,19980512, 342, 45.0000, -19.9967, 4318,     19.3,  13.5580,  35.7870,2,  35.7870,2,    263.9,2,    268.1,2,     1.70,2,     2.64,2,     0.16,2,    5.657,3,    1.956,3,   2362.2,2,   7.9293,    25.00,2,     0.54,2,     0.12,2,  13.5553
  74DI19980423,  A16N, 13466,  1,     19,     19,2,19980512, 342, 45.0000, -19.9967, 4318,     35.3,  13.3220,  35.7890,2,  35.7850,2,    265.1,2,    259.3,2,     1.87,2,     3.86,2,     0.23,2,    5.235,3,    1.733,3,   -999.0,9,-999.0000,  -999.00,9,     0.38,2,     0.16,2,  13.3171
  74DI19980423,  A16N, 13466,  1,     18,     18,2,19980512, 342, 45.0000, -19.9967, 4318,     65.6,  13.1690,  35.7810,2,  35.7790,2,    255.7,2,    254.3,2,     2.06,2,     4.91,2,     0.29,2,    4.083,3,    1.589,3,   2357.3,2,   7.9063,    25.00,2,     0.15,2,     0.09,2,  13.1599
  74DI19980423,  A16N, 13466,  1,     17,     17,2,19980512, 342, 45.0000, -19.9967, 4318,     95.9,  13.1250,  35.7780,2,  35.7750,2,    246.7,2,    253.0,2,     2.05,2,     5.16,2,     0.29,2,    5.447,3,    1.812,3,   2359.6,2,   7.9083,    25.00,2,     0.05,2,     0.03,2,  13.1117
  74DI19980423,  A16N, 13466,  1,     16,     16,2,19980512, 342, 45.0000, -19.9967, 4318,    116.6,  12.9750,  35.7590,2,  35.7570,2,    245.2,2,    249.8,2,     2.31,2,     5.99,2,     0.35,2,    3.145,2,    1.625,2,   2357.8,2,   7.9003,    25.00,2,     0.02,2,     0.01,2,  12.9589
  74DI19980423,  A16N, 13466,  1,     15,     15,2,19980512, 342, 45.0000, -19.9967, 4318,    146.8,  12.7990,  35.7320,2,  35.6600,2,    250.0,2,    247.0,2,     2.62,2,     6.84,2,     0.40,2,    3.355,2,    1.604,2,   2355.4,2,   7.8883,    25.00,2,  -999.00,9,  -999.00,9,  12.7789
  74DI19980423,  A16N, 13466,  1,     14,     14,2,19980512, 342, 45.0000, -19.9967, 4318,    188.2,  12.6220,  35.7120,2,  35.7110,2,    246.3,2,    243.8,2,     2.93,2,     7.65,2,     0.45,2,    3.762,2,    1.950,2,   2349.4,2,   7.8783,    25.00,2,  -999.00,9,  -999.00,9,  12.5964
  74DI19980423,  A16N, 13466,  1,     13,     13,2,19980512, 342, 45.0000, -19.9967, 4318,    229.7,  12.4520,  35.6910,2,  35.6890,2,    239.0,2,    240.1,2,     3.20,2,     8.41,2,     0.52,2,    3.055,2,    1.491,2,   2345.9,2,   7.8733,    25.00,2,  -999.00,9,  -999.00,9,  12.4210
  74DI19980423,  A16N, 13466,  1,     12,     12,2,19980512, 342, 45.0000, -19.9967, 4318,    362.3,  11.7510,  35.5880,2,  35.5880,2,    229.1,2,    228.8,2,     4.45,2,    11.11,2,     0.67,2,    2.664,3,    1.182,3,   2342.5,2,   7.8343,    25.00,2,  -999.00,9,  -999.00,9,  11.7038
  74DI19980423,  A16N, 13466,  1,     11,     11,2,19980512, 342, 45.0000, -19.9967, 4318,    515.8,  10.9240,  35.4800,2,  35.4780,2,    219.5,2,    220.2,2,     5.71,2,    13.24,2,     0.82,2,    3.682,2,    1.775,2,   2331.1,2,   7.8023,    25.00,2,  -999.00,9,  -999.00,9,  10.8594
  74DI19980423,  A16N, 13466,  1,     10,     10,2,19980512, 342, 45.0000, -19.9967, 4318,    720.3,   9.6770,  35.4070,2,  35.4050,2,    198.9,2,    197.6,2,     8.70,2,    16.76,2,     1.06,2,    2.784,2,    1.383,2,   2333.8,2,   7.7583,    25.00,2,  -999.00,9,  -999.00,9,   9.5924
  74DI19980423,  A16N, 13466,  1,      9,      9,2,19980512, 342, 45.0000, -19.9967, 4318,    926.4,   8.4630,  35.4320,2,  35.4300,2,    196.4,2,    195.3,2,    10.65,2,    18.02,2,     1.15,2,    1.979,2,    0.897,2,   2339.3,2,   7.7393,    25.00,2,  -999.00,9,  -999.00,9,   8.3612
  74DI19980423,  A16N, 13466,  1,      8,      8,2,19980512, 342, 45.0000, -19.9967, 4318,   1233.6,   6.0650,  35.2160,2,  35.2140,2,    225.0,2,    226.6,2,    11.67,2,    18.06,2,     1.17,2,    1.591,2,    0.792,2,   2328.8,2,   7.7223,    25.00,2,  -999.00,9,  -999.00,9,   5.9490
  74DI19980423,  A16N, 13466,  1,      7,      7,2,19980512, 342, 45.0000, -19.9967, 4318,   1646.2,   4.0450,  34.9630,2,  34.9640,2,    262.7,2,    264.5,2,    11.83,2,    17.47,2,     1.15,2,    2.547,2,    1.255,2,   2313.6,2,   7.7223,    25.00,2,  -999.00,9,  -999.00,9,   3.9108
  74DI19980423,  A16N, 13466,  1,      6,      6,2,19980512, 342, 45.0000, -19.9967, 4318,   1851.3,   3.6900,  34.9280,2,  34.9280,2,    270.9,2,    271.3,2,    12.15,2,    17.24,2,     1.13,2,    2.632,2,    1.245,2,   2313.1,2,   7.7233,    25.00,2,  -999.00,9,  -999.00,9,   3.5413
  74DI19980423,  A16N, 13466,  1,      5,      5,2,19980512, 342, 45.0000, -19.9967, 4318,   2264.8,   3.3760,  34.9380,2,  34.9390,2,    270.1,2,    269.0,2,    15.14,2,    17.27,2,     1.16,2,    1.433,2,    0.784,2,   2314.0,2,   7.7253,    25.00,2,  -999.00,9,  -999.00,9,   3.1925
  74DI19980423,  A16N, 13466,  1,      4,      4,2,19980512, 342, 45.0000, -19.9967, 4318,   2835.2,   2.9520,  34.9500,2,  34.9500,2,    257.4,2,    256.3,2,    26.39,2,    18.79,2,     1.26,2,    0.487,2,    0.291,2,   -999.0,9,-999.0000,  -999.00,9,  -999.00,9,  -999.00,9,   2.7193
  74DI19980423,  A16N, 13466,  1,      3,      3,2,19980512, 342, 45.0000, -19.9967, 4318,   3354.0,   2.6790,  34.9310,2,  34.9310,2,    247.1,2,    247.5,2,    35.87,2,    20.33,2,     1.37,2,    0.408,2,    0.228,2,   2345.4,2,   7.7223,    25.00,2,  -999.00,9,  -999.00,9,   2.3979
  74DI19980423,  A16N, 13466,  1,      2,      2,2,19980512, 342, 45.0000, -19.9967, 4318,   3872.8,   2.5580,  34.9150,2,  34.9140,2,    240.8,2,    240.7,2,    42.76,2,    21.54,2,     1.45,2,    0.068,2,    0.035,2,   2354.9,2,   7.7213,    25.00,2,  -999.00,9,  -999.00,9,   2.2226
  74DI19980423,  A16N, 13466,  1,      1,      1,2,19980512, 342, 45.0000, -19.9967, 4318,   4387.5,   2.5680,  34.9100,2,  34.9090,2,    239.9,2,    238.9,2,    44.08,2,    21.55,2,     1.44,2,    0.063,2,    0.029,2,   2361.9,2,   7.7203,    25.00,2,  -999.00,9,  -999.00,9,   2.1721
  74DI19980423,  A16N, 13467,  1,     23,     23,2,19980512,1026, 45.5017, -20.0117, 4528,      4.3,  13.6730,  35.7030,2,  35.7030,2,    267.6,2,    267.4,2,     2.41,2,     4.94,2,     0.22,2, -999.000,9, -999.000,9,   -999.0,9,-999.0000,  -999.00,9,     0.35,2,     0.05,2,  13.6724
  74DI19980423,  A16N, 13467,  1,     22,     22,2,19980512,1026, 45.5017, -20.0117, 4528,     12.2,  13.3620,  35.6960,2,  35.6950,2,    268.4,2,    269.0,2,     2.47,2,     5.23,2,     0.24,2, -999.000,9, -999.000,9,   -999.0,9,-999.0000,  -999.00,9,     0.38,2,     0.08,2,  13.3603
  74DI19980423,  A16N, 13467,  1,     21,     21,2,19980512,1026, 45.5017, -20.0117, 4528,     21.0,  13.1060,  35.6820,2,  35.6830,2,    269.4,2,    268.9,2,     2.50,2,     6.03,2,     0.27,2, -999.000,9, -999.000,9,   -999.0,9,-999.0000,  -999.00,9,     0.35,2,     0.14,2,  13.1031
  74DI19980423,  A16N, 13467,  1,     20,     20,2,19980512,1026, 45.5017, -20.0117, 4528,     35.6,  12.9690,  35.6840,2,  35.6820,2,    266.3,2,    264.6,2,     2.65,2,     6.85,2,     0.31,2, -999.000,9, -999.000,9,   -999.0,9,-999.0000,  -999.00,9,     0.33,2,     0.13,2,  12.9641
  74DI19980423,  A16N, 13467,  1,     19,     19,2,19980512,1026, 45.5017, -20.0117, 4528,     65.8,  12.5220,  35.6810,2,  35.6800,2,    258.6,2,    257.4,2,     3.07,2,     8.38,2,     0.40,2, -999.000,9, -999.000,9,   -999.0,9,-999.0000,  -999.00,9,     0.24,2,     0.08,2,  12.5132
  74DI19980423,  A16N, 13467,  1,     18,     18,2,19980512,1026, 45.5017, -20.0117, 4528,     96.3,  12.4810,  35.6800,2,  35.6810,2,    255.4,2,    255.1,2,     3.03,2,     9.80,2,     0.43,2, -999.000,9, -999.000,9,   -999.0,9,-999.0000,  -999.00,9,     0.05,2,     0.03,2,  12.4681
  74DI19980423,  A16N, 13467,  1,     17,     17,2,19980512,1026, 45.5017, -20.0117, 4528,    116.3,  12.4280,  35.6750,2,  35.6740,2,    247.8,2,    252.6,2,     3.07,2,     9.68,2,     0.38,2, -999.000,9, -999.000,9,   -999.0,9,-999.0000,  -999.00,9,     0.03,2,     0.01,2,  12.4124
  74DI19980423,  A16N, 13467,  1,     16,     16,2,19980512,1026, 45.5017, -20.0117, 4528,    145.9,  12.4010,  35.6770,2,  35.6760,2,    251.8,2,    253.7,2,     2.84,2,     9.39,2,     0.38,2, -999.000,9, -999.000,9,   -999.0,9,-999.0000,  -999.00,9,  -999.00,9,  -999.00,9,  12.3815
  74DI19980423,  A16N, 13467,  1,     15,     15,2,19980512,1026, 45.5017, -20.0117, 4528,    186.4,  12.4160,  35.6850,2,  35.6840,2,    251.9,2,    253.3,2,     2.77,2,     9.17,2,     0.38,2, -999.000,9, -999.000,9,   -999.0,9,-999.0000,  -999.00,9,  -999.00,9,  -999.00,9,  12.3910
  74DI19980423,  A16N, 13467,  1,     14,     14,2,19980512,1026, 45.5017, -20.0117, 4528,    226.7,  12.2160,  35.6440,2,  35.6410,2,    252.1,2,    250.2,2,     3.20,2,     9.76,2,     0.44,2, -999.000,9, -999.000,9,   -999.0,9,-999.0000,  -999.00,9,  -999.00,9,  -999.00,9,  12.1858
  74DI19980423,  A16N, 13467,  1,     13,     13,2,19980512,1026, 45.5017, -20.0117, 4528,    357.7,  11.7790,  35.5810,2,  35.5760,2,    252.8,2,    250.6,2,     3.59,2,    10.36,2,     0.52,2, -999.000,9, -999.000,9,   -999.0,9,-999.0000,  -999.00,9,  -999.00,9,  -999.00,9,  11.7323
  74DI19980423,  A16N, 13467,  1,     12,     12,2,19980512,1026, 45.5017, -20.0117, 4528,    508.9,  11.2580,  35.5160,2,  35.5150,2,    238.3,2,    237.7,2,     4.61,2,    12.29,2,     0.64,2, -999.000,9, -999.000,9,   -999.0,9,-999.0000,  -999.00,9,  -999.00,9,  -999.00,9,  11.1931
  74DI19980423,  A16N, 13467,  1,     11,     11,2,19980512,1026, 45.5017, -20.0117, 4528,    710.5,   9.8740,  35.3520,2,  35.3490,2,    214.8,2,    209.3,2,     7.72,2,    16.76,2,     0.95,2, -999.000,9, -999.000,9,   -999.0,9,-999.0000,  -999.00,9,  -999.00,9,  -999.00,9,   9.7897
  74DI19980423,  A16N, 13467,  1,     10,     10,2,19980512,1026, 45.5017, -20.0117, 4528,    912.3,   8.9300,  35.4450,2,  35.4440,2,    193.7,2,    193.1,2,    10.11,2,    18.70,2,     1.10,2, -999.000,9, -999.000,9,   -999.0,9,-999.0000,  -999.00,9,  -999.00,9,  -999.00,9,   8.8267
  74DI19980423,  A16N, 13467,  1,      9,      9,2,19980512,1026, 45.5017, -20.0117, 4528,   1215.3,   6.6180,  35.2850,2,  35.2870,2,    218.7,2,    218.4,2,    11.52,2,    19.00,2,     1.13,2, -999.000,9, -999.000,9,   -999.0,9,-999.0000,  -999.00,9,  -999.00,9,  -999.00,9,   6.4987
  74DI19980423,  A16N, 13467,  1,      8,      8,2,19980512,1026, 45.5017, -20.0117, 4528,   1621.8,   4.3800,  35.0060,2,  35.0080,2,    256.5,2,    257.6,2,    11.78,2,    18.47,2,     1.12,2, -999.000,9, -999.000,9,   -999.0,9,-999.0000,  -999.00,9,  -999.00,9,  -999.00,9,   4.2439
  74DI19980423,  A16N, 13467,  1,      7,      7,2,19980512,1026, 45.5017, -20.0117, 4528,   1825.6,   3.7130,  34.9210,2,  34.9230,2,    269.3,2,    271.8,2,    11.71,2,    17.86,2,     1.11,2, -999.000,9, -999.000,9,   -999.0,9,-999.0000,  -999.00,9,  -999.00,9,  -999.00,9,   3.5664
  74DI19980423,  A16N, 13467,  1,      6,      6,2,19980512,1026, 45.5017, -20.0117, 4528,   2231.7,   3.5590,  34.9570,2,  34.9570,2,    266.6,2,    265.9,2,    15.19,2,    18.06,2,     1.13,2, -999.000,9, -999.000,9,   -999.0,9,-999.0000,  -999.00,9,  -999.00,9,  -999.00,9,   3.3756
  74DI19980423,  A16N, 13467,  1,      5,      5,2,19980512,1026, 45.5017, -20.0117, 4528,   2792.1,   3.0470,  34.9570,2,  34.9580,2,    255.4,2,    255.9,2,    25.60,2,    19.33,2,     1.25,2, -999.000,9, -999.000,9,   -999.0,9,-999.0000,  -999.00,9,  -999.00,9,  -999.00,9,   2.8167
  74DI19980423,  A16N, 13467,  1,      4,      4,2,19980512,1026, 45.5017, -20.0117, 4528,   3304.3,   2.7380,  34.9360,2,  34.9370,2,    249.9,2,    250.4,2,    33.27,2,    20.24,2,     1.32,2, -999.000,9, -999.000,9,   -999.0,9,-999.0000,  -999.00,9,  -999.00,9,  -999.00,9,   2.4608
  74DI19980423,  A16N, 13467,  1,      3,      3,2,19980512,1026, 45.5017, -20.0117, 4528,   3816.1,   2.5820,  34.9180,2,  34.9180,2,    242.1,2,    241.6,2,    41.58,2,    21.68,2,     1.43,2, -999.000,9, -999.000,9,   -999.0,9,-999.0000,  -999.00,9,  -999.00,9,  -999.00,9,   2.2523
  74DI19980423,  A16N, 13467,  1,      2,      2,2,19980512,1026, 45.5017, -20.0117, 4528,   4329.1,   2.5750,  34.9120,2,  34.9110,2,    240.6,2,    240.6,2,    44.09,2,    22.08,2,     1.49,2, -999.000,9, -999.000,9,   -999.0,9,-999.0000,  -999.00,9,  -999.00,9,  -999.00,9,   2.1859
  74DI19980423,  A16N, 13467,  1,      1,      1,2,19980512,1026, 45.5017, -20.0117, 4528,   4602.6,   2.5950,  34.9100,2,  34.9100,2,    239.3,2,    239.5,2,    44.19,2,    21.72,2,     1.43,2, -999.000,9, -999.000,9,   -999.0,9,-999.0000,  -999.00,9,  -999.00,9,  -999.00,9,   2.1721