BOTTLE,20221006CCHSIOCBG
EXPOCODE,SECT_ID,STNNBR,CASTNO,SAMPNO,BTLNBR,BTLNBR_FLAG_W,DATE,TIME,LATITUDE,LONGITUDE,DEPTH,CTDPRS,CTDTMP,CTDSAL,CTDSAL_FLAG_W,SALNTY,SALNTY_FLAG_W,CTDOXY,CTDOXY_FLAG_W,OXYGEN,OXYGEN_FLAG_W,SILCAT,SILCAT_FLAG_W,NITRAT,NITRAT_FLAG_W,PHSPHT,PHSPHT_FLAG_W,CFC-11,CFC-11_FLAG_W,CFC-12,CFC-12_FLAG_W,ALKALI,ALKALI_FLAG_W,PH_SWS,PH_TEMP,PH_SWS_FLAG_W,CHLORA,CHLORA_FLAG_W,PPHYTN,PPHYTN_FLAG_W,THETA
,,,,,,,,,,,METERS,DBAR,ITS-90,PSS-78,,PSS-78,,UMOL/KG,,UMOL/KG,,UMOL/KG,,UMOL/KG,,UMOL/KG,,PMOL/KG,,PMOL/KG,,UMOL/KG,,,DEGC,,UG/L,,UG/L,,DEGC
  74DI19980423,  A16N, 13532,  1,      7,      7,2,19980527, 109, 55.8600,  -9.1683,  182,      3.8,  11.6390,  35.4440,6,  35.4430,2,   -999.0,9,    285.8,2,     0.57,2,     1.50,2,     0.09,2, -999.000,9, -999.000,9,   -999.0,9,-999.0000,  -999.00,9,  -999.00,9,  -999.00,9,  11.6385
  74DI19980423,  A16N, 13532,  1,      6,      6,2,19980527, 109, 55.8600,  -9.1683,  182,     17.3,  11.6510,  35.4440,2,  35.4420,2,    286.6,2,    286.5,2,     0.62,2,     1.60,2,     0.10,2, -999.000,9, -999.000,9,   -999.0,9,-999.0000,  -999.00,9,  -999.00,9,  -999.00,9,  11.6488
  74DI19980423,  A16N, 13532,  1,      5,      5,2,19980527, 109, 55.8600,  -9.1683,  182,     30.6,  11.5770,  35.4450,2,  35.4410,2,    287.0,2,    286.9,2,     0.72,2,     2.26,2,     0.17,2, -999.000,9, -999.000,9,   -999.0,9,-999.0000,  -999.00,9,  -999.00,9,  -999.00,9,  11.5731
  74DI19980423,  A16N, 13532,  1,      4,      4,2,19980527, 109, 55.8600,  -9.1683,  182,     56.3,  10.3960,  35.4500,2,  35.4490,2,    271.7,2,    264.4,2,     2.24,2,     8.49,2,     0.55,2, -999.000,9, -999.000,9,   -999.0,9,-999.0000,  -999.00,9,  -999.00,9,  -999.00,9,  10.3893
  74DI19980423,  A16N, 13532,  1,      3,      3,2,19980527, 109, 55.8600,  -9.1683,  182,     80.5,  10.2600,  35.4580,2,  35.4560,2,    258.1,2,    259.7,2,     4.03,2,    10.58,2,     0.60,2, -999.000,9, -999.000,9,   -999.0,9,-999.0000,  -999.00,9,  -999.00,9,  -999.00,9,  10.2505
  74DI19980423,  A16N, 13532,  1,      2,      2,2,19980527, 109, 55.8600,  -9.1683,  182,    105.6,  10.2020,  35.4550,2,  35.4540,2,    255.9,2,    255.7,2,     4.33,2,    10.53,2,     0.62,2, -999.000,9, -999.000,9,   -999.0,9,-999.0000,  -999.00,9,  -999.00,9,  -999.00,9,  10.1896
  74DI19980423,  A16N, 13532,  1,      1,      1,2,19980527, 109, 55.8600,  -9.1683,  182,    171.2,  10.2080,  35.4550,2,  35.4540,2,    253.6,2,    254.8,2,     4.23,2,    10.29,2,     0.55,2, -999.000,9, -999.000,9,   -999.0,9,-999.0000,  -999.00,9,  -999.00,9,  -999.00,9,  10.1878
  74DI19980423,  A16N, 13533,  1,      9,      9,2,19980527, 227, 55.8800,  -9.3300,  521,      4.4,  11.5010,  35.4340,2,  35.4310,2,    286.4,2,    284.9,2,     0.60,2,     1.87,2,     0.11,2, -999.000,9, -999.000,9,   -999.0,9,-999.0000,  -999.00,9,  -999.00,9,  -999.00,9,  11.5004
  74DI19980423,  A16N, 13533,  1,      8,      8,2,19980527, 227, 55.8800,  -9.3300,  521,     16.1,  11.5040,  35.4340,2,  35.4310,2,    286.2,2,    285.8,2,     0.57,2,     1.98,2,     0.12,2, -999.000,9, -999.000,9,   -999.0,9,-999.0000,  -999.00,9,  -999.00,9,  -999.00,9,  11.5020
  74DI19980423,  A16N, 13533,  1,      7,      7,2,19980527, 227, 55.8800,  -9.3300,  521,     30.4,  11.4790,  35.4360,2,  35.4330,2,    285.1,2,    284.2,2,     0.73,2,     2.70,2,     0.18,2, -999.000,9, -999.000,9,   -999.0,9,-999.0000,  -999.00,9,  -999.00,9,  -999.00,9,  11.4752
  74DI19980423,  A16N, 13533,  1,      6,      6,2,19980527, 227, 55.8800,  -9.3300,  521,     55.0,  10.6680,  35.4550,2,  35.4530,2,    272.8,2,    274.0,2,     1.84,2,     7.53,2,     0.46,2, -999.000,9, -999.000,9,   -999.0,9,-999.0000,  -999.00,9,  -999.00,9,  -999.00,9,  10.6614
  74DI19980423,  A16N, 13533,  1,      5,      5,2,19980527, 227, 55.8800,  -9.3300,  521,     81.4,  10.5030,  35.4690,2,  35.4660,2,    262.9,2,    262.2,2,     2.94,2,     9.60,2,     0.57,2, -999.000,9, -999.000,9,   -999.0,9,-999.0000,  -999.00,9,  -999.00,9,  -999.00,9,  10.4933
  74DI19980423,  A16N, 13533,  1,      4,      4,2,19980527, 227, 55.8800,  -9.3300,  521,    105.5,  10.4520,  35.4740,2,  35.4700,2,    258.8,2,    259.4,2,     3.57,2,    10.46,2,     0.60,2, -999.000,9, -999.000,9,   -999.0,9,-999.0000,  -999.00,9,  -999.00,9,  -999.00,9,  10.4394
  74DI19980423,  A16N, 13533,  1,      3,      3,2,19980527, 227, 55.8800,  -9.3300,  521,    206.9,  10.2240,  35.4560,2,  35.4530,2,    258.7,2,    260.5,2,     4.22,2,    10.89,2,     0.60,2, -999.000,9, -999.000,9,   -999.0,9,-999.0000,  -999.00,9,  -999.00,9,  -999.00,9,  10.1995
  74DI19980423,  A16N, 13533,  1,      2,      2,2,19980527, 227, 55.8800,  -9.3300,  521,    408.6,  10.1760,  35.4640,2,  35.4610,2,    256.8,2,    257.6,2,     4.38,2,    10.39,2,     0.59,2, -999.000,9, -999.000,9,   -999.0,9,-999.0000,  -999.00,9,  -999.00,9,  -999.00,9,  10.1273
  74DI19980423,  A16N, 13533,  1,      1,      1,2,19980527, 227, 55.8800,  -9.3300,  521,    515.4,  10.0810,  35.4480,2,  35.4460,2,    259.2,2,    258.4,2,     4.49,2,    10.47,2,     0.55,2, -999.000,9, -999.000,9,   -999.0,9,-999.0000,  -999.00,9,  -999.00,9,  -999.00,9,  10.0196
  74DI19980423,  A16N, 13534,  1,     14,     14,2,19980527, 429, 55.8883,  -9.5783, 1315,      3.1,  11.7180,  35.4480,2,  35.4460,2,    292.5,6,    289.4,2,     0.34,2,     1.19,2,     0.06,2, -999.000,9, -999.000,9,   -999.0,9,-999.0000,  -999.00,9,     0.72,2,     0.19,2,  11.7176
  74DI19980423,  A16N, 13534,  1,     13,     13,2,19980527, 429, 55.8883,  -9.5783, 1315,     10.8,  11.7220,  35.4480,2,  35.4420,2,    289.8,2,    289.1,2,     0.29,2,     1.19,2,     0.06,2, -999.000,9, -999.000,9,   -999.0,9,-999.0000,  -999.00,9,     0.74,2,     0.15,2,  11.7206
  74DI19980423,  A16N, 13534,  1,     12,     12,2,19980527, 429, 55.8883,  -9.5783, 1315,     19.2,  11.6080,  35.4450,2,  35.4240,2,    289.7,2,    290.6,2,     0.35,2,     1.44,2,     0.09,2, -999.000,9, -999.000,9,   -999.0,9,-999.0000,  -999.00,9,     0.71,2,     0.18,2,  11.6056
  74DI19980423,  A16N, 13534,  1,     11,     11,2,19980527, 429, 55.8883,  -9.5783, 1315,     34.2,  10.6150,  35.4270,2,  35.4380,2,    292.5,2,    291.3,2,     0.72,2,     3.44,2,     0.26,2, -999.000,9, -999.000,9,   -999.0,9,-999.0000,  -999.00,9,     0.61,2,     0.22,2,  10.6109
  74DI19980423,  A16N, 13534,  1,     10,     10,2,19980527, 429, 55.8883,  -9.5783, 1315,     64.3,  10.1280,  35.4400,2,  35.4360,2,    264.8,2,    262.3,2,     2.96,2,     9.64,2,     0.59,2, -999.000,9, -999.000,9,   -999.0,9,-999.0000,  -999.00,9,     0.14,2,     0.11,2,  10.1205
  74DI19980423,  A16N, 13534,  1,      9,      9,2,19980527, 429, 55.8883,  -9.5783, 1315,     95.2,   9.9920,  35.4380,2,  35.4270,2,    260.2,2,    260.6,2,     4.03,2,    11.12,2,     0.61,2, -999.000,9, -999.000,9,   -999.0,9,-999.0000,  -999.00,9,     0.06,2,     0.03,2,   9.9810
  74DI19980423,  A16N, 13534,  1,      8,      8,2,19980527, 429, 55.8883,  -9.5783, 1315,    225.0,   9.9000,  35.4300,2,  35.4100,2,    262.0,2,    261.0,2,     4.38,2,    11.12,2,     0.61,2, -999.000,9, -999.000,9,   -999.0,9,-999.0000,  -999.00,9,  -999.00,9,  -999.00,9,   9.8739
  74DI19980423,  A16N, 13534,  1,      7,      7,2,19980527, 429, 55.8883,  -9.5783, 1315,    356.2,   9.7660,  35.4130,2,  35.4140,2,    260.6,2,    259.3,2,     4.67,2,    11.35,2,     0.63,2, -999.000,9, -999.000,9,   -999.0,9,-999.0000,  -999.00,9,  -999.00,9,  -999.00,9,   9.7247
  74DI19980423,  A16N, 13534,  1,      6,      6,2,19980527, 429, 55.8883,  -9.5783, 1315,    509.5,   9.5830,  35.3970,2,  35.3170,0,    258.8,2,    265.6,0,     3.63,2,     9.31,3,     0.54,2, -999.000,9, -999.000,9,   -999.0,9,-999.0000,  -999.00,9,  -999.00,9,  -999.00,9,   9.5242
  74DI19980423,  A16N, 13534,  1,      5,      5,2,19980527, 429, 55.8883,  -9.5783, 1315,    711.5,   8.9850,  35.3190,2,  35.2290,0,    255.1,2,    253.7,2,     6.01,2,    13.37,2,     0.77,2, -999.000,9, -999.000,9,   -999.0,9,-999.0000,  -999.00,9,  -999.00,9,  -999.00,9,   8.9051
  74DI19980423,  A16N, 13534,  1,      4,      4,2,19980527, 429, 55.8883,  -9.5783, 1315,    914.3,   7.8510,  35.2310,2,  35.1350,0,    232.9,2,    230.8,2,     8.90,2,    16.36,2,     0.96,2, -999.000,9, -999.000,9,   -999.0,9,-999.0000,  -999.00,9,  -999.00,9,  -999.00,9,   7.7549
  74DI19980423,  A16N, 13534,  1,      3,      3,2,19980527, 429, 55.8883,  -9.5783, 1315,   1112.6,   6.2760,  35.1350,2,  35.0790,0,    234.3,2,    233.4,2,    10.61,2,    17.53,2,     1.04,2, -999.000,9, -999.000,9,   -999.0,9,-999.0000,  -999.00,9,  -999.00,9,  -999.00,9,   6.1707
  74DI19980423,  A16N, 13534,  1,      2,      2,2,19980527, 429, 55.8883,  -9.5783, 1315,   1231.3,   5.5430,  35.0780,2,  35.0790,2,    239.6,2,    239.4,2,    11.18,2,    17.79,2,     1.07,2, -999.000,9, -999.000,9,   -999.0,9,-999.0000,  -999.00,9,  -999.00,9,  -999.00,9,   5.4322
  74DI19980423,  A16N, 13534,  1,      1,      1,2,19980527, 429, 55.8883,  -9.5783, 1315,   1320.4,   4.6890,  35.0070,2,  35.0080,2,    250.3,2,    251.8,2,    11.82,2,    17.39,2,     1.01,2, -999.000,9, -999.000,9,   -999.0,9,-999.0000,  -999.00,9,  -999.00,9,  -999.00,9,   4.5780
  74DI19980423,  A16N, 13535,  1,     16,     16,2,19980527, 716, 55.9133,  -9.8200, 1849,      3.3,  11.3270,  35.4400,2,  35.4370,2,    289.1,6,    289.2,2,     0.37,2,     2.08,2,     0.11,2, -999.000,9, -999.000,9,   -999.0,9,-999.0000,  -999.00,9,  -999.00,9,  -999.00,9,  11.3266
  74DI19980423,  A16N, 13535,  1,     15,     15,2,19980527, 716, 55.9133,  -9.8200, 1849,     11.1,  11.3230,  35.4400,2,  35.4380,2,    287.8,2,    289.3,2,     0.43,2,     2.08,2,     0.11,2, -999.000,9, -999.000,9,   -999.0,9,-999.0000,  -999.00,9,  -999.00,9,  -999.00,9,  11.3216
  74DI19980423,  A16N, 13535,  1,     14,     14,2,19980527, 716, 55.9133,  -9.8200, 1849,     19.5,  11.3160,  35.4400,2,  35.4370,2,    289.8,2,    288.7,2,     0.47,2,     2.14,2,     0.13,2, -999.000,9, -999.000,9,   -999.0,9,-999.0000,  -999.00,9,  -999.00,9,  -999.00,9,  11.3136
  74DI19980423,  A16N, 13535,  1,     13,     13,2,19980527, 716, 55.9133,  -9.8200, 1849,     35.0,  10.7800,  35.4380,2,  35.4340,2,    289.8,2,    282.3,2,     1.00,2,     4.44,2,     0.30,2, -999.000,9, -999.000,9,   -999.0,9,-999.0000,  -999.00,9,  -999.00,9,  -999.00,9,  10.7758
  74DI19980423,  A16N, 13535,  1,     12,     12,2,19980527, 716, 55.9133,  -9.8200, 1849,     65.4,  10.1190,  35.4460,2,  35.4430,2,    263.6,2,    261.2,2,     3.34,2,    10.31,2,     0.60,2, -999.000,9, -999.000,9,   -999.0,9,-999.0000,  -999.00,9,  -999.00,9,  -999.00,9,  10.1114
  74DI19980423,  A16N, 13535,  1,     11,     11,2,19980527, 716, 55.9133,  -9.8200, 1849,     95.9,  10.0190,  35.4420,2,  35.4400,2,    263.4,2,    262.6,2,     3.83,2,    10.94,2,     0.60,2, -999.000,9, -999.000,9,   -999.0,9,-999.0000,  -999.00,9,  -999.00,9,  -999.00,9,  10.0079
  74DI19980423,  A16N, 13535,  1,     10,     10,2,19980527, 716, 55.9133,  -9.8200, 1849,    225.8,   9.8920,  35.4310,2,  35.4280,2,    262.3,2,    264.5,2,     4.42,2,    11.01,2,     0.60,2, -999.000,9, -999.000,9,   -999.0,9,-999.0000,  -999.00,9,  -999.00,9,  -999.00,9,   9.8658
  74DI19980423,  A16N, 13535,  1,      9,      9,2,19980527, 716, 55.9133,  -9.8200, 1849,    357.0,   9.7990,  35.4230,2,  35.4200,2,    261.8,2,    263.6,2,     4.52,2,    11.32,2,     0.63,2, -999.000,9, -999.000,9,   -999.0,9,-999.0000,  -999.00,9,  -999.00,9,  -999.00,9,   9.7575
  74DI19980423,  A16N, 13535,  1,      8,      8,2,19980527, 716, 55.9133,  -9.8200, 1849,    509.3,   9.5270,  35.3880,2,  35.3860,2,    259.2,2,    260.6,2,     5.08,2,    12.04,2,     0.68,2, -999.000,9, -999.000,9,   -999.0,9,-999.0000,  -999.00,9,  -999.00,9,  -999.00,9,   9.4684
  74DI19980423,  A16N, 13535,  1,      7,      7,2,19980527, 716, 55.9133,  -9.8200, 1849,    708.2,   8.8900,  35.3090,2,  35.3060,2,    254.9,2,    253.8,2,     6.46,2,    13.79,2,     0.80,2, -999.000,9, -999.000,9,   -999.0,9,-999.0000,  -999.00,9,  -999.00,9,  -999.00,9,   8.8110
  74DI19980423,  A16N, 13535,  1,      6,      6,2,19980527, 716, 55.9133,  -9.8200, 1849,    907.9,   7.7900,  35.2260,2,  35.2260,2,    231.7,2,    231.2,2,     9.18,2,    16.51,2,     0.98,2, -999.000,9, -999.000,9,   -999.0,9,-999.0000,  -999.00,9,  -999.00,9,  -999.00,9,   7.6950
  74DI19980423,  A16N, 13535,  1,      5,      5,2,19980527, 716, 55.9133,  -9.8200, 1849,   1109.9,   6.3800,  35.1440,2,  35.1430,2,    230.7,2,    229.6,2,    10.94,2,    17.93,2,     1.06,2, -999.000,9, -999.000,9,   -999.0,9,-999.0000,  -999.00,9,  -999.00,9,  -999.00,9,   6.2741
  74DI19980423,  A16N, 13535,  1,      4,      4,2,19980527, 716, 55.9133,  -9.8200, 1849,   1309.9,   5.1290,  35.0450,2,  35.0450,2,    246.5,2,    246.2,2,    11.48,2,    17.77,2,     1.06,2, -999.000,9, -999.000,9,   -999.0,9,-999.0000,  -999.00,9,  -999.00,9,  -999.00,9,   5.0146
  74DI19980423,  A16N, 13535,  1,      3,      3,2,19980527, 716, 55.9133,  -9.8200, 1849,   1510.4,   4.2080,  34.9650,2,  34.9650,2,    258.7,2,    260.7,2,    12.09,2,    17.77,2,     1.05,2, -999.000,9, -999.000,9,   -999.0,9,-999.0000,  -999.00,9,  -999.00,9,  -999.00,9,   4.0845
  74DI19980423,  A16N, 13535,  1,      2,      2,2,19980527, 716, 55.9133,  -9.8200, 1849,   1713.5,   3.6660,  34.9340,2,  34.9350,2,    266.6,2,    267.0,2,    14.00,2,    17.69,2,     1.06,2, -999.000,9, -999.000,9,   -999.0,9,-999.0000,  -999.00,9,  -999.00,9,  -999.00,9,   3.5304
  74DI19980423,  A16N, 13535,  1,      1,      1,2,19980527, 716, 55.9133,  -9.8200, 1849,   1866.3,   3.4550,  34.9290,2,  34.9300,2,    267.7,2,    266.4,2,    15.36,2,    17.40,2,     1.01,2, -999.000,9, -999.000,9,   -999.0,9,-999.0000,  -999.00,9,  -999.00,9,  -999.00,9,   3.3081
  74DI19980423,  A16N, 13536,  1,     18,     18,2,19980527,1032, 55.9283, -10.1883, 2206,      2.7,  11.5310,  35.4420,2,  35.4380,2,    288.5,6,    289.0,2,     0.29,2,     1.90,2,     0.13,2, -999.000,9, -999.000,9,   -999.0,9,-999.0000,  -999.00,9,     0.87,2,     0.31,2,  11.5307
  74DI19980423,  A16N, 13536,  1,     17,     17,2,19980527,1032, 55.9283, -10.1883, 2206,     11.3,  11.5130,  35.4430,2,  35.4400,2,    288.7,2,    289.0,2,     0.32,2,     1.92,2,     0.14,2, -999.000,9, -999.000,9,   -999.0,9,-999.0000,  -999.00,9,     0.90,2,     0.22,2,  11.5116
  74DI19980423,  A16N, 13536,  1,     16,     16,2,19980527,1032, 55.9283, -10.1883, 2206,     19.2,  11.4200,  35.4420,2,  35.4390,2,    290.8,2,    289.1,2,     0.36,2,     2.21,2,     0.18,2, -999.000,9, -999.000,9,   -999.0,9,-999.0000,  -999.00,9,     0.86,2,     0.22,2,  11.4176
  74DI19980423,  A16N, 13536,  1,     15,     15,2,19980527,1032, 55.9283, -10.1883, 2206,     33.8,  10.3990,  35.4350,2,  35.4320,2,    281.9,2,    277.8,2,     1.12,2,     5.48,2,     0.42,2, -999.000,9, -999.000,9,   -999.0,9,-999.0000,  -999.00,9,     0.28,2,     0.11,2,  10.3950
  74DI19980423,  A16N, 13536,  1,     14,     14,2,19980527,1032, 55.9283, -10.1883, 2206,     64.4,  10.1170,  35.4400,2,  35.4370,2,    268.7,2,    263.3,2,     2.87,2,     9.26,2,     0.60,2, -999.000,9, -999.000,9,   -999.0,9,-999.0000,  -999.00,9,     0.05,2,     0.03,2,  10.1095
  74DI19980423,  A16N, 13536,  1,     13,     13,2,19980527,1032, 55.9283, -10.1883, 2206,     94.3,  10.0260,  35.4410,2,  35.4380,2,    259.5,2,    260.8,2,     3.74,2,    10.70,2,     0.64,2, -999.000,9, -999.000,9,   -999.0,9,-999.0000,  -999.00,9,     0.07,2,     0.04,2,  10.0150
  74DI19980423,  A16N, 13536,  1,     12,     12,2,19980527,1032, 55.9283, -10.1883, 2206,    226.5,   9.9040,  35.4310,2,  35.4280,2,    258.0,2,    261.9,2,     4.23,2,    10.91,2,     0.64,2, -999.000,9, -999.000,9,   -999.0,9,-999.0000,  -999.00,9,  -999.00,9,  -999.00,9,   9.8777
  74DI19980423,  A16N, 13536,  1,     11,     11,2,19980527,1032, 55.9283, -10.1883, 2206,    356.4,   9.8000,  35.4200,2,  35.4160,2,    256.9,2,    262.0,2,     4.53,2,    11.15,2,     0.66,2, -999.000,9, -999.000,9,   -999.0,9,-999.0000,  -999.00,9,  -999.00,9,  -999.00,9,   9.7586
  74DI19980423,  A16N, 13536,  1,     10,     10,2,19980527,1032, 55.9283, -10.1883, 2206,    508.6,   9.5990,  35.3990,2,  35.3960,2,    260.8,2,    262.3,2,     4.76,2,    11.53,2,     0.69,2, -999.000,9, -999.000,9,   -999.0,9,-999.0000,  -999.00,9,  -999.00,9,  -999.00,9,   9.5402
  74DI19980423,  A16N, 13536,  1,      9,      9,2,19980527,1032, 55.9283, -10.1883, 2206,    711.1,   9.0650,  35.3290,2,  35.3260,2,    259.2,2,    258.3,2,     5.76,2,    12.85,2,     0.78,2, -999.000,9, -999.000,9,   -999.0,9,-999.0000,  -999.00,9,  -999.00,9,  -999.00,9,   8.9848
  74DI19980423,  A16N, 13536,  1,      8,      8,2,19980527,1032, 55.9283, -10.1883, 2206,    910.9,   8.3010,  35.2590,2,  35.2580,2,    238.2,2,    237.7,2,     8.00,2,    15.22,2,     0.94,2, -999.000,9, -999.000,9,   -999.0,9,-999.0000,  -999.00,9,  -999.00,9,  -999.00,9,   8.2023
  74DI19980423,  A16N, 13536,  1,      7,      7,2,19980527,1032, 55.9283, -10.1883, 2206,   1111.6,   6.6540,  35.1650,2,  35.1620,2,    230.6,2,    226.7,2,    10.70,2,    17.63,2,     1.09,2, -999.000,9, -999.000,9,   -999.0,9,-999.0000,  -999.00,9,  -999.00,9,  -999.00,9,   6.5456
  74DI19980423,  A16N, 13536,  1,      6,      6,2,19980527,1032, 55.9283, -10.1883, 2206,   1297.0,   5.2410,  35.0550,2,  35.0540,2,    243.1,2,    244.5,2,    11.30,2,    17.58,2,     1.10,2, -999.000,9, -999.000,9,   -999.0,9,-999.0000,  -999.00,9,  -999.00,9,  -999.00,9,   5.1267
  74DI19980423,  A16N, 13536,  1,      5,      5,2,19980527,1032, 55.9283, -10.1883, 2206,   1502.5,   4.1970,  34.9660,2,  34.9660,2,    261.0,2,    261.2,2,    12.08,2,    17.50,2,     1.10,2, -999.000,9, -999.000,9,   -999.0,9,-999.0000,  -999.00,9,  -999.00,9,  -999.00,9,   4.0743
  74DI19980423,  A16N, 13536,  1,      4,      4,2,19980527,1032, 55.9283, -10.1883, 2206,   1694.0,   3.7050,  34.9290,2,  34.9290,2,    268.1,2,    268.1,2,    12.90,2,    17.51,2,     1.10,2, -999.000,9, -999.000,9,   -999.0,9,-999.0000,  -999.00,9,  -999.00,9,  -999.00,9,   3.5707
  74DI19980423,  A16N, 13536,  1,      3,      3,2,19980527,1032, 55.9283, -10.1883, 2206,   1900.5,   3.4540,  34.9280,2,  34.9270,2,    268.3,2,    267.0,2,    14.79,2,    17.61,2,     1.10,2, -999.000,9, -999.000,9,   -999.0,9,-999.0000,  -999.00,9,  -999.00,9,  -999.00,9,   3.3040
  74DI19980423,  A16N, 13536,  1,      2,      2,2,19980527,1032, 55.9283, -10.1883, 2206,   2115.0,   3.2940,  34.9360,2,  34.9360,2,    264.4,2,    265.4,2,    17.79,2,    17.86,2,     1.11,2, -999.000,9, -999.000,9,   -999.0,9,-999.0000,  -999.00,9,  -999.00,9,  -999.00,9,   3.1262
  74DI19980423,  A16N, 13536,  1,      1,      1,2,19980527,1032, 55.9283, -10.1883, 2206,   2226.9,   3.2020,  34.9390,2,  34.9390,2,    260.9,2,    261.3,2,    20.07,2,    17.79,2,     1.05,2, -999.000,9, -999.000,9,   -999.0,9,-999.0000,  -999.00,9,  -999.00,9,  -999.00,9,   3.0250