BOTTLE,20221006CCHSIOCBG
EXPOCODE,SECT_ID,STNNBR,CASTNO,SAMPNO,BTLNBR,BTLNBR_FLAG_W,DATE,TIME,LATITUDE,LONGITUDE,DEPTH,CTDPRS,CTDTMP,CTDSAL,CTDSAL_FLAG_W,SALNTY,SALNTY_FLAG_W,CTDOXY,CTDOXY_FLAG_W,OXYGEN,OXYGEN_FLAG_W,SILCAT,SILCAT_FLAG_W,NITRAT,NITRAT_FLAG_W,PHSPHT,PHSPHT_FLAG_W,CFC-11,CFC-11_FLAG_W,CFC-12,CFC-12_FLAG_W,ALKALI,ALKALI_FLAG_W,PH_SWS,PH_TEMP,PH_SWS_FLAG_W,CHLORA,CHLORA_FLAG_W,PPHYTN,PPHYTN_FLAG_W,THETA
,,,,,,,,,,,METERS,DBAR,ITS-90,PSS-78,,PSS-78,,UMOL/KG,,UMOL/KG,,UMOL/KG,,UMOL/KG,,UMOL/KG,,PMOL/KG,,PMOL/KG,,UMOL/KG,,,DEGC,,UG/L,,UG/L,,DEGC
  74DI19980423,  A16N, 13550,  1,     20,     20,2,19980529,2309, 54.1067, -13.5383, 2282,     16.7,  12.1060,  35.4780,2,  35.4760,2,    273.3,2,    276.9,2,     0.27,2,     4.69,2,     0.21,2, -999.000,9, -999.000,9,   -999.0,9,-999.0000,  -999.00,9,     1.13,2,     0.24,2,  12.1038
  74DI19980423,  A16N, 13550,  1,     19,     19,2,19980529,2309, 54.1067, -13.5383, 2282,     30.1,  12.0890,  35.4780,2,  35.4750,2,    273.1,2,    278.4,2,     0.42,2,     4.85,2,     0.23,2, -999.000,9, -999.000,9,   -999.0,9,-999.0000,  -999.00,9,     1.16,2,     0.23,2,  12.0851
  74DI19980423,  A16N, 13550,  1,     18,     18,2,19980529,2309, 54.1067, -13.5383, 2282,     54.9,  11.0460,  35.4510,2,  35.4490,2,    268.9,2,    258.9,2,     3.98,2,     9.36,2,     0.52,2, -999.000,9, -999.000,9,   -999.0,9,-999.0000,  -999.00,9,     0.30,2,     0.14,2,  11.0392
  74DI19980423,  A16N, 13550,  1,     17,     17,2,19980529,2309, 54.1067, -13.5383, 2282,     79.8,  10.8990,  35.4540,2,  35.4480,2,    260.6,2,    253.2,2,     4.46,2,    10.36,2,     0.56,2, -999.000,9, -999.000,9,   -999.0,9,-999.0000,  -999.00,9,     0.04,2,     0.03,2,  10.8892
  74DI19980423,  A16N, 13550,  1,     16,     16,2,19980529,2309, 54.1067, -13.5383, 2282,    105.5,  10.6880,  35.4240,2,  35.4220,2,    251.7,2,    254.9,2,     4.54,2,    10.42,2,     0.57,2, -999.000,9, -999.000,9,   -999.0,9,-999.0000,  -999.00,9,     0.03,2,     0.01,2,  10.6752
  74DI19980423,  A16N, 13550,  1,     15,     15,2,19980529,2309, 54.1067, -13.5383, 2282,    205.5,  10.8820,  35.5080,2,  35.5050,2,    259.0,2,    258.3,2,     3.98,2,    10.01,2,     0.55,2, -999.000,9, -999.000,9,   -999.0,9,-999.0000,  -999.00,9,  -999.00,9,  -999.00,9,  10.8567
  74DI19980423,  A16N, 13550,  1,     14,     14,2,19980529,2309, 54.1067, -13.5383, 2282,    406.4,  10.6710,  35.4840,2,  35.4810,2,    255.3,2,    257.7,2,     4.28,2,    10.55,2,     0.58,2, -999.000,9, -999.000,9,   -999.0,9,-999.0000,  -999.00,9,  -999.00,9,  -999.00,9,  10.6211
  74DI19980423,  A16N, 13550,  1,     13,     13,2,19980529,2309, 54.1067, -13.5383, 2282,    605.8,   9.7530,  35.3320,2,  35.3360,2,    232.9,2,    229.9,2,     6.79,2,    14.11,2,     0.84,2, -999.000,9, -999.000,9,   -999.0,9,-999.0000,  -999.00,9,  -999.00,9,  -999.00,9,   9.6820
  74DI19980423,  A16N, 13550,  1,     12,     12,2,19980529,2309, 54.1067, -13.5383, 2282,    726.6,   8.6050,  35.1990,2,  35.2040,2,    213.7,2,    212.4,2,     9.21,2,    17.09,2,     1.02,2, -999.000,9, -999.000,9,   -999.0,9,-999.0000,  -999.00,9,  -999.00,9,  -999.00,9,   8.5255
  74DI19980423,  A16N, 13550,  1,     11,     11,2,19980529,2309, 54.1067, -13.5383, 2282,    811.8,   8.5940,  35.2970,2,  35.2940,2,    203.2,2,    200.7,2,    10.01,2,    17.86,2,     1.07,2, -999.000,9, -999.000,9,   -999.0,9,-999.0000,  -999.00,9,  -999.00,9,  -999.00,9,   8.5047
  74DI19980423,  A16N, 13550,  1,     10,     10,2,19980529,2309, 54.1067, -13.5383, 2282,    883.1,   7.7280,  35.1970,2,  35.1950,2,    204.5,2,    203.4,2,    10.87,2,    18.50,2,     1.12,2, -999.000,9, -999.000,9,   -999.0,9,-999.0000,  -999.00,9,  -999.00,9,  -999.00,9,   7.6362
  74DI19980423,  A16N, 13550,  1,      9,      9,2,19980529,2309, 54.1067, -13.5383, 2282,   1024.4,   6.7850,  35.1770,2,  35.1770,2,    212.7,2,    214.5,2,    11.47,2,    18.89,2,     1.13,2, -999.000,9, -999.000,9,   -999.0,9,-999.0000,  -999.00,9,  -999.00,9,  -999.00,9,   6.6847
  74DI19980423,  A16N, 13550,  1,      8,      8,2,19980529,2309, 54.1067, -13.5383, 2282,   1087.3,   6.8340,  35.2440,2,  35.2430,2,    215.4,2,    214.5,2,    11.37,2,    18.50,2,     1.11,2, -999.000,9, -999.000,9,   -999.0,9,-999.0000,  -999.00,9,  -999.00,9,  -999.00,9,   6.7266
  74DI19980423,  A16N, 13550,  1,      7,      7,2,19980529,2309, 54.1067, -13.5383, 2282,   1183.2,   6.0200,  35.1500,2,  35.1480,2,    223.8,2,    226.5,2,    11.66,2,    18.27,2,     1.11,2, -999.000,9, -999.000,9,   -999.0,9,-999.0000,  -999.00,9,  -999.00,9,  -999.00,9,   5.9096
  74DI19980423,  A16N, 13550,  1,      6,      6,2,19980529,2309, 54.1067, -13.5383, 2282,   1395.8,   4.6110,  34.9960,2,  34.9340,0,    250.6,2,    252.9,2,    11.63,2,    17.88,2,     1.09,2, -999.000,9, -999.000,9,   -999.0,9,-999.0000,  -999.00,9,  -999.00,9,  -999.00,9,   4.4937
  74DI19980423,  A16N, 13550,  1,      5,      5,2,19980529,2309, 54.1067, -13.5383, 2282,   1607.6,   3.9230,  34.9350,2,  34.9340,2,    264.4,2,    266.6,2,    11.81,2,    17.56,2,     1.08,2, -999.000,9, -999.000,9,   -999.0,9,-999.0000,  -999.00,9,  -999.00,9,  -999.00,9,   3.7939
  74DI19980423,  A16N, 13550,  1,      4,      4,2,19980529,2309, 54.1067, -13.5383, 2282,   1714.5,   3.6720,  34.9160,2,  34.9170,2,    269.7,2,    271.6,2,    12.12,2,    17.45,2,     1.07,2, -999.000,9, -999.000,9,   -999.0,9,-999.0000,  -999.00,9,  -999.00,9,  -999.00,9,   3.5363
  74DI19980423,  A16N, 13550,  1,      3,      3,2,19980529,2309, 54.1067, -13.5383, 2282,   1823.3,   3.5270,  34.9160,2,  34.9160,2,    273.1,2,    273.0,2,    12.95,2,    17.40,2,     1.06,2, -999.000,9, -999.000,9,   -999.0,9,-999.0000,  -999.00,9,  -999.00,9,  -999.00,9,   3.3832
  74DI19980423,  A16N, 13550,  1,      2,      2,2,19980529,2309, 54.1067, -13.5383, 2282,   2027.5,   3.3550,  34.9230,2,  34.9240,2,    272.7,2,    271.5,2,    14.81,2,    17.02,2,     1.07,2, -999.000,9, -999.000,9,   -999.0,9,-999.0000,  -999.00,9,  -999.00,9,  -999.00,9,   3.1946
  74DI19980423,  A16N, 13550,  1,      1,      1,2,19980529,2309, 54.1067, -13.5383, 2282,   2302.4,   3.2530,  34.9320,2,  34.9330,2,    270.5,2,    267.7,2,    17.07,2,    17.39,2,     0.99,2, -999.000,9, -999.000,9,   -999.0,9,-999.0000,  -999.00,9,  -999.00,9,  -999.00,9,   3.0679
  74DI19980423,  A16N, 13551,  1,     16,     16,2,19980530, 226, 54.0383, -13.4267, 1348,      3.5,  11.9480,  35.4780,2,  35.4760,2,   -999.0,9,    276.7,2,     0.50,2,     5.01,2,     0.23,2, -999.000,9, -999.000,9,   -999.0,9,-999.0000,  -999.00,9,     1.04,2,     0.39,2,  11.9475
  74DI19980423,  A16N, 13551,  1,     15,     15,2,19980530, 226, 54.0383, -13.4267, 1348,     16.6,  11.9420,  35.4780,2,  35.4750,2,   -999.0,9,    276.4,2,     0.50,2,     5.07,2,     0.26,2, -999.000,9, -999.000,9,   -999.0,9,-999.0000,  -999.00,9,     0.93,2,     0.54,2,  11.9398
  74DI19980423,  A16N, 13551,  1,     14,     14,2,19980530, 226, 54.0383, -13.4267, 1348,     29.0,  11.8990,  35.4790,2,  35.4760,2,   -999.0,9,    260.6,2,     0.64,2,     5.21,2,     0.26,2, -999.000,9, -999.000,9,   -999.0,9,-999.0000,  -999.00,9,     1.12,2,     0.36,2,  11.8952
  74DI19980423,  A16N, 13551,  1,     13,     13,2,19980530, 226, 54.0383, -13.4267, 1348,     55.0,  11.2010,  35.4830,2,  35.4800,2,   -999.0,9,    267.6,2,     3.20,2,     7.79,2,     0.45,2, -999.000,9, -999.000,9,   -999.0,9,-999.0000,  -999.00,9,     1.02,2,     0.44,2,  11.1941
  74DI19980423,  A16N, 13551,  1,     12,     12,2,19980530, 226, 54.0383, -13.4267, 1348,     79.2,  10.8690,  35.4600,2,  35.4570,2,   -999.0,9,    255.8,2,     4.30,2,    10.03,2,     0.55,2, -999.000,9, -999.000,9,   -999.0,9,-999.0000,  -999.00,9,     0.03,2,     0.02,2,  10.8593
  74DI19980423,  A16N, 13551,  1,     11,     11,2,19980530, 226, 54.0383, -13.4267, 1348,    105.7,  10.7760,  35.4580,2,  35.4580,2,   -999.0,9,    258.8,2,     4.26,2,    10.08,2,     0.55,2, -999.000,9, -999.000,9,   -999.0,9,-999.0000,  -999.00,9,     0.05,2,     0.03,2,  10.7631
  74DI19980423,  A16N, 13551,  1,     10,     10,2,19980530, 226, 54.0383, -13.4267, 1348,    206.2,  10.7600,  35.4900,2,  35.4870,2,   -999.0,9,    256.6,2,     4.11,2,    10.13,2,     0.56,2, -999.000,9, -999.000,9,   -999.0,9,-999.0000,  -999.00,9,  -999.00,9,  -999.00,9,  10.7348
  74DI19980423,  A16N, 13551,  1,      9,      9,2,19980530, 226, 54.0383, -13.4267, 1348,    407.4,  10.3570,  35.4500,2,  35.4470,2,   -999.0,9,    251.7,2,     4.69,2,    11.34,2,     0.64,2, -999.000,9, -999.000,9,   -999.0,9,-999.0000,  -999.00,9,  -999.00,9,  -999.00,9,  10.3079
  74DI19980423,  A16N, 13551,  1,      8,      8,2,19980530, 226, 54.0383, -13.4267, 1348,    606.4,  10.0930,  35.4420,2,  35.4380,2,   -999.0,9,    247.1,2,     5.45,2,    11.78,3,     0.72,2, -999.000,9, -999.000,9,   -999.0,9,-999.0000,  -999.00,9,  -999.00,9,  -999.00,9,  10.0204
  74DI19980423,  A16N, 13551,  1,      7,      7,2,19980530, 226, 54.0383, -13.4267, 1348,    811.5,   8.7650,  35.3060,2,  35.3040,2,   -999.0,9,    199.5,2,     9.46,2,    17.06,2,     1.05,2, -999.000,9, -999.000,9,   -999.0,9,-999.0000,  -999.00,9,  -999.00,9,  -999.00,9,   8.6747
  74DI19980423,  A16N, 13551,  1,      6,      6,2,19980530, 226, 54.0383, -13.4267, 1348,    937.2,   7.6620,  35.2070,2,  35.2050,2,   -999.0,9,    202.4,2,    10.89,2,    18.38,2,     1.13,2, -999.000,9, -999.000,9,   -999.0,9,-999.0000,  -999.00,9,  -999.00,9,  -999.00,9,   7.5647
  74DI19980423,  A16N, 13551,  1,      5,      5,2,19980530, 226, 54.0383, -13.4267, 1348,    968.8,   7.6440,  35.2530,2,  35.2510,2,   -999.0,9,    202.6,2,    11.05,2,    18.41,2,     1.12,2, -999.000,9, -999.000,9,   -999.0,9,-999.0000,  -999.00,9,  -999.00,9,  -999.00,9,   7.5433
  74DI19980423,  A16N, 13551,  1,      4,      4,2,19980530, 226, 54.0383, -13.4267, 1348,   1109.9,   6.4300,  35.1460,2,  35.1450,2,   -999.0,9,    216.8,2,    11.56,2,    18.71,2,     1.14,2, -999.000,9, -999.000,9,   -999.0,9,-999.0000,  -999.00,9,  -999.00,9,  -999.00,9,   6.3237
  74DI19980423,  A16N, 13551,  1,      3,      3,2,19980530, 226, 54.0383, -13.4267, 1348,   1173.7,   6.2920,  35.1740,2,  35.1930,2,   -999.0,9,    220.0,2,    11.60,2,    18.44,2,     1.12,2, -999.000,9, -999.000,9,   -999.0,9,-999.0000,  -999.00,9,  -999.00,9,  -999.00,9,   6.1801
  74DI19980423,  A16N, 13551,  1,      2,      2,2,19980530, 226, 54.0383, -13.4267, 1348,   1316.4,   5.4560,  35.0840,2,  35.0840,2,   -999.0,9,    235.0,2,    11.71,2,    18.34,2,     1.10,2, -999.000,9, -999.000,9,   -999.0,9,-999.0000,  -999.00,9,  -999.00,9,  -999.00,9,   5.3376
  74DI19980423,  A16N, 13551,  1,      1,      1,2,19980530, 226, 54.0383, -13.4267, 1348,   1352.7,   5.0210,  35.0370,2,  35.0390,2,   -999.0,9,    242.5,2,    11.45,2,    17.75,2,     1.00,2, -999.000,9, -999.000,9,   -999.0,9,-999.0000,  -999.00,9,  -999.00,9,  -999.00,9,   4.9035
  74DI19980423,  A16N, 13552,  1,      9,      9,2,19980530, 437, 53.9167, -13.3017,  453,      3.1,  11.6800,  35.4830,2,  35.4810,2,    267.5,2,    270.5,2,     1.16,2,     6.14,2,     0.32,2, -999.000,9, -999.000,9,   -999.0,9,-999.0000,  -999.00,9,  -999.00,9,  -999.00,9,  11.6796
  74DI19980423,  A16N, 13552,  1,      8,      8,2,19980530, 437, 53.9167, -13.3017,  453,      7.7,  11.6800,  35.4830,2,  35.4800,2,    269.3,2,    270.7,2,     1.26,2,     6.10,2,     0.31,2, -999.000,9, -999.000,9,   -999.0,9,-999.0000,  -999.00,9,  -999.00,9,  -999.00,9,  11.6790
  74DI19980423,  A16N, 13552,  1,      7,      7,2,19980530, 437, 53.9167, -13.3017,  453,     17.8,  11.6570,  35.4820,2,  35.4780,2,    267.6,2,    270.3,2,     1.37,2,     6.29,2,     0.33,2, -999.000,9, -999.000,9,   -999.0,9,-999.0000,  -999.00,9,  -999.00,9,  -999.00,9,  11.6547
  74DI19980423,  A16N, 13552,  1,      6,      6,2,19980530, 437, 53.9167, -13.3017,  453,     32.3,  11.2870,  35.4640,2,  35.4640,2,    266.7,2,    265.2,2,     2.34,2,     7.65,2,     0.44,2, -999.000,9, -999.000,9,   -999.0,9,-999.0000,  -999.00,9,  -999.00,9,  -999.00,9,  11.2830
  74DI19980423,  A16N, 13552,  1,      5,      5,2,19980530, 437, 53.9167, -13.3017,  453,     63.7,  10.9210,  35.4370,2,  35.4360,2,    260.7,2,    257.8,2,     3.82,2,     9.57,2,     0.55,2, -999.000,9, -999.000,9,   -999.0,9,-999.0000,  -999.00,9,  -999.00,9,  -999.00,9,  10.9132
  74DI19980423,  A16N, 13552,  1,      4,      4,2,19980530, 437, 53.9167, -13.3017,  453,     93.2,  10.6350,  35.4140,2,  35.4120,2,    251.2,2,    253.2,2,     4.55,2,    10.69,2,     0.61,2, -999.000,9, -999.000,9,   -999.0,9,-999.0000,  -999.00,9,  -999.00,9,  -999.00,9,  10.6238
  74DI19980423,  A16N, 13552,  1,      3,      3,2,19980530, 437, 53.9167, -13.3017,  453,    225.6,  10.4610,  35.4310,2,  35.4310,2,    254.5,2,    254.9,2,     4.49,2,    10.75,2,     0.62,2, -999.000,9, -999.000,9,   -999.0,9,-999.0000,  -999.00,9,  -999.00,9,  -999.00,9,  10.4339
  74DI19980423,  A16N, 13552,  1,      2,      2,2,19980530, 437, 53.9167, -13.3017,  453,    356.8,  10.3120,  35.4350,2,  35.4330,2,    252.2,2,    251.8,2,     4.85,2,    11.47,2,     0.65,2, -999.000,9, -999.000,9,   -999.0,9,-999.0000,  -999.00,9,  -999.00,9,  -999.00,9,  10.2692
  74DI19980423,  A16N, 13552,  1,      1,      1,2,19980530, 437, 53.9167, -13.3017,  453,    445.6,  10.2620,  35.4650,2,  35.4630,2,    255.5,2,    254.8,2,     4.52,2,    10.55,2,     0.55,2, -999.000,9, -999.000,9,   -999.0,9,-999.0000,  -999.00,9,  -999.00,9,  -999.00,9,  10.2085
  74DI19980423,  A16N, 13553,  1,      8,      8,2,19980530, 655, 53.8017, -13.1683,  325,      2.2,  11.7500,  35.4760,2,  35.4800,2,    261.8,6,   -999.0,9,     1.23,2,     3.97,2,     0.19,2, -999.000,9, -999.000,9,   -999.0,9,-999.0000,  -999.00,9,  -999.00,9,  -999.00,9,  11.7497
  74DI19980423,  A16N, 13553,  1,      7,      7,2,19980530, 655, 53.8017, -13.1683,  325,     10.1,  11.7460,  35.4820,2,  35.4790,2,    261.5,2,   -999.0,9,     1.26,2,     3.98,2,     0.19,2, -999.000,9, -999.000,9,   -999.0,9,-999.0000,  -999.00,9,  -999.00,9,  -999.00,9,  11.7447
  74DI19980423,  A16N, 13553,  1,      6,      6,2,19980530, 655, 53.8017, -13.1683,  325,     19.0,  11.7400,  35.4820,2,  35.4790,2,    262.1,2,   -999.0,9,     1.30,2,     4.16,2,     0.21,2, -999.000,9, -999.000,9,   -999.0,9,-999.0000,  -999.00,9,  -999.00,9,  -999.00,9,  11.7376
  74DI19980423,  A16N, 13553,  1,      5,      5,2,19980530, 655, 53.8017, -13.1683,  325,     33.0,  11.7230,  35.4820,2,  35.4780,2,    261.1,2,   -999.0,9,     1.32,2,     4.23,2,     0.22,2, -999.000,9, -999.000,9,   -999.0,9,-999.0000,  -999.00,9,  -999.00,9,  -999.00,9,  11.7188
  74DI19980423,  A16N, 13553,  1,      4,      4,2,19980530, 655, 53.8017, -13.1683,  325,     63.1,  11.1970,  35.4760,2,  35.4720,2,    254.5,2,   -999.0,9,     2.37,2,     7.05,2,     0.41,2, -999.000,9, -999.000,9,   -999.0,9,-999.0000,  -999.00,9,  -999.00,9,  -999.00,9,  11.1891
  74DI19980423,  A16N, 13553,  1,      3,      3,2,19980530, 655, 53.8017, -13.1683,  325,     93.8,  10.6840,  35.4810,2,  35.4770,2,    246.9,2,   -999.0,9,     3.95,2,    10.07,2,     0.56,2, -999.000,9, -999.000,9,   -999.0,9,-999.0000,  -999.00,9,  -999.00,9,  -999.00,9,  10.6726
  74DI19980423,  A16N, 13553,  1,      2,      2,2,19980530, 655, 53.8017, -13.1683,  325,    224.9,  10.2790,  35.4420,2,  35.4390,2,    230.0,2,   -999.0,9,     5.03,2,    11.64,2,     0.67,2, -999.000,9, -999.000,9,   -999.0,9,-999.0000,  -999.00,9,  -999.00,9,  -999.00,9,  10.2523
  74DI19980423,  A16N, 13553,  1,      1,      1,2,19980530, 655, 53.8017, -13.1683,  325,    316.9,  10.1860,  35.4510,2,  35.4480,2,    220.8,2,   -999.0,9,     5.12,2,    11.42,2,     0.63,2, -999.000,9, -999.000,9,   -999.0,9,-999.0000,  -999.00,9,  -999.00,9,  -999.00,9,  10.1484