BOTTLE,20221006CCHSIOCBG
EXPOCODE,SECT_ID,STNNBR,CASTNO,SAMPNO,BTLNBR,BTLNBR_FLAG_W,DATE,TIME,LATITUDE,LONGITUDE,DEPTH,CTDPRS,CTDTMP,CTDSAL,CTDSAL_FLAG_W,SALNTY,SALNTY_FLAG_W,CTDOXY,CTDOXY_FLAG_W,OXYGEN,OXYGEN_FLAG_W,SILCAT,SILCAT_FLAG_W,NITRAT,NITRAT_FLAG_W,PHSPHT,PHSPHT_FLAG_W,CFC-11,CFC-11_FLAG_W,CFC-12,CFC-12_FLAG_W,ALKALI,ALKALI_FLAG_W,PH_SWS,PH_TEMP,PH_SWS_FLAG_W,CHLORA,CHLORA_FLAG_W,PPHYTN,PPHYTN_FLAG_W,THETA
,,,,,,,,,,,METERS,DBAR,ITS-90,PSS-78,,PSS-78,,UMOL/KG,,UMOL/KG,,UMOL/KG,,UMOL/KG,,UMOL/KG,,PMOL/KG,,PMOL/KG,,UMOL/KG,,,DEGC,,UG/L,,UG/L,,DEGC
  74DI19980423,  A16N, 13537,  1,     19,     19,2,19980527,1446, 56.0083, -10.8317, 2429,      6.5,  11.2080,  35.4560,2,  35.4530,2,    290.2,2,    285.5,2,     0.86,2,     3.78,2,     0.19,2, -999.000,9, -999.000,9,   -999.0,9,-999.0000,  -999.00,9,  -999.00,9,  -999.00,9,  11.2072
  74DI19980423,  A16N, 13537,  1,     18,     18,2,19980527,1446, 56.0083, -10.8317, 2429,     14.4,  11.2070,  35.4560,2,  35.4530,2,    282.8,2,    285.9,2,     0.90,2,     3.78,2,     0.20,2, -999.000,9, -999.000,9,   -999.0,9,-999.0000,  -999.00,9,  -999.00,9,  -999.00,9,  11.2052
  74DI19980423,  A16N, 13537,  1,     17,     17,2,19980527,1446, 56.0083, -10.8317, 2429,     26.0,  11.1850,  35.4560,2,  35.4520,2,    287.1,2,    285.4,2,     0.89,2,     3.77,2,     0.20,2, -999.000,9, -999.000,9,   -999.0,9,-999.0000,  -999.00,9,  -999.00,9,  -999.00,9,  11.1818
  74DI19980423,  A16N, 13537,  1,     16,     16,2,19980527,1446, 56.0083, -10.8317, 2429,     45.7,  10.7940,  35.4460,2,  35.4440,2,    284.9,2,    287.6,2,     0.94,2,     4.82,2,     0.30,2, -999.000,9, -999.000,9,   -999.0,9,-999.0000,  -999.00,9,  -999.00,9,  -999.00,9,  10.7884
  74DI19980423,  A16N, 13537,  1,     15,     15,2,19980527,1446, 56.0083, -10.8317, 2429,     86.4,  10.1910,  35.4500,2,  35.4460,2,    265.9,2,    261.9,2,     3.75,2,    10.47,2,     0.59,2, -999.000,9, -999.000,9,   -999.0,9,-999.0000,  -999.00,9,  -999.00,9,  -999.00,9,  10.1809
  74DI19980423,  A16N, 13537,  1,     14,     14,2,19980527,1446, 56.0083, -10.8317, 2429,    126.3,  10.1140,  35.4460,2,  35.4430,2,    262.8,2,    261.6,2,     4.25,2,    11.00,2,     0.60,2, -999.000,9, -999.000,9,   -999.0,9,-999.0000,  -999.00,9,  -999.00,9,  -999.00,9,  10.0992
  74DI19980423,  A16N, 13537,  1,     13,     13,2,19980527,1446, 56.0083, -10.8317, 2429,    248.1,   9.9680,  35.4360,2,  35.4320,2,    262.0,2,    265.5,2,     4.21,2,    11.10,2,     0.62,2, -999.000,9, -999.000,9,   -999.0,9,-999.0000,  -999.00,9,  -999.00,9,  -999.00,9,   9.9390
  74DI19980423,  A16N, 13537,  1,     12,     12,2,19980527,1446, 56.0083, -10.8317, 2429,    328.9,   9.9040,  35.4290,2,  35.4260,2,    263.0,2,    265.3,2,     4.44,2,    11.01,2,     0.61,2, -999.000,9, -999.000,9,   -999.0,9,-999.0000,  -999.00,9,  -999.00,9,  -999.00,9,   9.8656
  74DI19980423,  A16N, 13537,  1,     11,     11,2,19980527,1446, 56.0083, -10.8317, 2429,    510.6,   9.7160,  35.4060,2,  35.4040,2,    261.7,2,    262.4,2,     4.89,2,    11.61,2,     0.65,2, -999.000,9, -999.000,9,   -999.0,9,-999.0000,  -999.00,9,  -999.00,9,  -999.00,9,   9.6565
  74DI19980423,  A16N, 13537,  1,     10,     10,2,19980527,1446, 56.0083, -10.8317, 2429,    762.8,   9.0020,  35.3170,2,  35.3140,2,    251.3,2,    251.3,2,     6.47,2,    13.70,2,     0.79,2, -999.000,9, -999.000,9,   -999.0,9,-999.0000,  -999.00,9,  -999.00,9,  -999.00,9,   8.9161
  74DI19980423,  A16N, 13537,  1,      9,      9,2,19980527,1446, 56.0083, -10.8317, 2429,    965.2,   8.1100,  35.2500,2,  35.2470,2,    238.0,2,    232.3,2,     8.87,2,    16.17,2,     0.96,2, -999.000,9, -999.000,9,   -999.0,9,-999.0000,  -999.00,9,  -999.00,9,  -999.00,9,   8.0064
  74DI19980423,  A16N, 13537,  1,      8,      8,2,19980527,1446, 56.0083, -10.8317, 2429,   1160.3,   6.6340,  35.1650,2,  35.1620,2,    229.4,2,    227.8,2,    10.89,2,    17.82,2,     1.05,2, -999.000,9, -999.000,9,   -999.0,9,-999.0000,  -999.00,9,  -999.00,9,  -999.00,9,   6.5207
  74DI19980423,  A16N, 13537,  1,      7,      7,2,19980527,1446, 56.0083, -10.8317, 2429,   1365.5,   5.2180,  35.0520,2,  35.0510,2,    246.8,2,    247.9,2,    11.35,2,    17.70,2,     1.06,2, -999.000,9, -999.000,9,   -999.0,9,-999.0000,  -999.00,9,  -999.00,9,  -999.00,9,   5.0972
  74DI19980423,  A16N, 13537,  1,      6,      6,2,19980527,1446, 56.0083, -10.8317, 2429,   1568.7,   4.3090,  34.9770,2,  34.9770,2,    261.3,2,    263.4,2,    11.92,2,    17.43,2,     1.05,2, -999.000,9, -999.000,9,   -999.0,9,-999.0000,  -999.00,9,  -999.00,9,  -999.00,9,   4.1788
  74DI19980423,  A16N, 13537,  1,      5,      5,2,19980527,1446, 56.0083, -10.8317, 2429,   1775.7,   3.7370,  34.9300,2,  34.9300,2,    269.3,2,    270.7,2,    12.82,2,    17.45,2,     1.05,2, -999.000,9, -999.000,9,   -999.0,9,-999.0000,  -999.00,9,  -999.00,9,  -999.00,9,   3.5947
  74DI19980423,  A16N, 13537,  1,      4,      4,2,19980527,1446, 56.0083, -10.8317, 2429,   1921.7,   3.5310,  34.9240,2,  34.9230,2,    271.3,2,    272.2,2,    14.11,2,    17.50,2,     1.06,2, -999.000,9, -999.000,9,   -999.0,9,-999.0000,  -999.00,9,  -999.00,9,  -999.00,9,   3.3779
  74DI19980423,  A16N, 13537,  1,      3,      3,2,19980527,1446, 56.0083, -10.8317, 2429,   2175.3,   3.3630,  34.9330,2,  34.9330,2,    270.0,2,    270.0,2,    16.38,2,    17.62,2,     1.08,2, -999.000,9, -999.000,9,   -999.0,9,-999.0000,  -999.00,9,  -999.00,9,  -999.00,9,   3.1884
  74DI19980423,  A16N, 13537,  1,      2,      2,2,19980527,1446, 56.0083, -10.8317, 2429,   2385.8,   3.1120,  34.9430,2,  34.9420,2,    262.5,2,    261.8,2,    23.00,2,    18.46,2,     1.14,2, -999.000,9, -999.000,9,   -999.0,9,-999.0000,  -999.00,9,  -999.00,9,  -999.00,9,   2.9212
  74DI19980423,  A16N, 13537,  1,      1,      1,2,19980527,1446, 56.0083, -10.8317, 2429,   2457.5,   2.9430,  34.9420,2,  34.9420,2,    257.6,2,    255.8,2,    27.82,2,    18.78,2,     1.11,2, -999.000,9, -999.000,9,   -999.0,9,-999.0000,  -999.00,9,  -999.00,9,  -999.00,9,   2.7482
  74DI19980423,  A16N, 13538,  1,     20,     20,2,19980527,2013, 56.0600, -11.7483, 2708,      2.4,  11.6380,  35.4460,2,  35.4440,2,    292.8,6,    292.1,2,     0.25,2,     0.95,2,     0.07,2, -999.000,9, -999.000,9,   -999.0,9,-999.0000,  -999.00,9,  -999.00,9,  -999.00,9,  11.6377
  74DI19980423,  A16N, 13538,  1,     19,     19,2,19980527,2013, 56.0600, -11.7483, 2708,     15.5,  11.6280,  35.4460,2,  35.4440,2,    291.7,2,    292.6,2,     0.26,2,     1.04,2,     0.12,2, -999.000,9, -999.000,9,   -999.0,9,-999.0000,  -999.00,9,  -999.00,9,  -999.00,9,  11.6260
  74DI19980423,  A16N, 13538,  1,     18,     18,2,19980527,2013, 56.0600, -11.7483, 2708,     29.0,  11.5170,  35.4450,2,  35.4420,2,    290.2,2,    293.6,2,     0.26,2,     1.39,2,     0.13,2, -999.000,9, -999.000,9,   -999.0,9,-999.0000,  -999.00,9,  -999.00,9,  -999.00,9,  11.5133
  74DI19980423,  A16N, 13538,  1,     17,     17,2,19980527,2013, 56.0600, -11.7483, 2708,     54.1,  10.5330,  35.4440,2,  35.4410,2,    282.9,2,    278.8,2,     1.00,2,     6.17,2,     0.45,2, -999.000,9, -999.000,9,   -999.0,9,-999.0000,  -999.00,9,  -999.00,9,  -999.00,9,  10.5265
  74DI19980423,  A16N, 13538,  1,     16,     16,2,19980527,2013, 56.0600, -11.7483, 2708,     78.9,  10.3540,  35.4490,2,  35.4480,2,    268.4,2,    264.8,2,     2.13,2,     8.58,2,     0.58,2, -999.000,9, -999.000,9,   -999.0,9,-999.0000,  -999.00,9,  -999.00,9,  -999.00,9,  10.3446
  74DI19980423,  A16N, 13538,  1,     15,     15,2,19980527,2013, 56.0600, -11.7483, 2708,    104.0,  10.1410,  35.4470,2,  35.4440,2,    261.0,2,    263.7,0,     3.56,2,    10.61,2,     0.66,2, -999.000,9, -999.000,9,   -999.0,9,-999.0000,  -999.00,9,  -999.00,9,  -999.00,9,  10.1288
  74DI19980423,  A16N, 13538,  1,     14,     14,2,19980527,2013, 56.0600, -11.7483, 2708,    205.6,   9.9540,  35.4330,2,  35.4300,2,    261.4,2,    262.9,2,     4.31,2,    11.09,2,     0.65,2, -999.000,9, -999.000,9,   -999.0,9,-999.0000,  -999.00,9,  -999.00,9,  -999.00,9,   9.9301
  74DI19980423,  A16N, 13538,  1,     13,     13,2,19980527,2013, 56.0600, -11.7483, 2708,    405.7,   9.7720,  35.4160,2,  35.4140,2,    265.4,2,    262.5,2,     4.66,2,    11.40,2,     0.68,2, -999.000,9, -999.000,9,   -999.0,9,-999.0000,  -999.00,9,  -999.00,9,  -999.00,9,   9.7248
  74DI19980423,  A16N, 13538,  1,     12,     12,2,19980527,2013, 56.0600, -11.7483, 2708,    609.1,   9.1770,  35.3350,2,  35.3330,2,    247.0,2,    246.1,2,     6.39,2,    13.72,2,     0.83,2, -999.000,9, -999.000,9,   -999.0,9,-999.0000,  -999.00,9,  -999.00,9,  -999.00,9,   9.1082
  74DI19980423,  A16N, 13538,  1,     11,     11,2,19980527,2013, 56.0600, -11.7483, 2708,    805.7,   8.3240,  35.2620,2,  35.2590,2,    237.9,2,    236.7,2,     8.18,2,    15.49,2,     0.94,2, -999.000,9, -999.000,9,   -999.0,9,-999.0000,  -999.00,9,  -999.00,9,  -999.00,9,   8.2371
  74DI19980423,  A16N, 13538,  1,     10,     10,2,19980527,2013, 56.0600, -11.7483, 2708,   1004.1,   7.0470,  35.1960,2,  35.1930,2,    223.0,2,    221.1,2,    10.65,2,    17.88,2,     1.10,2, -999.000,9, -999.000,9,   -999.0,9,-999.0000,  -999.00,9,  -999.00,9,  -999.00,9,   6.9469
  74DI19980423,  A16N, 13538,  1,      9,      9,2,19980527,2013, 56.0600, -11.7483, 2708,   1215.9,   5.6360,  35.0930,2,  35.0890,2,    237.2,2,    234.0,2,    11.46,2,    18.25,2,     1.13,2, -999.000,9, -999.000,9,   -999.0,9,-999.0000,  -999.00,9,  -999.00,9,  -999.00,9,   5.5259
  74DI19980423,  A16N, 13538,  1,      8,      8,2,19980527,2013, 56.0600, -11.7483, 2708,   1420.0,   4.5620,  34.9960,2,  34.9950,2,    255.1,2,    255.7,2,    11.65,2,    17.65,2,     1.09,2, -999.000,9, -999.000,9,   -999.0,9,-999.0000,  -999.00,9,  -999.00,9,  -999.00,9,   4.4430
  74DI19980423,  A16N, 13538,  1,      7,      7,2,19980527,2013, 56.0600, -11.7483, 2708,   1623.6,   3.8840,  34.9370,2,  34.9360,2,    264.3,2,    267.6,2,    12.19,2,    17.51,2,     1.09,2, -999.000,9, -999.000,9,   -999.0,9,-999.0000,  -999.00,9,  -999.00,9,  -999.00,9,   3.7539
  74DI19980423,  A16N, 13538,  1,      6,      6,2,19980527,2013, 56.0600, -11.7483, 2708,   1827.1,   3.5040,  34.9040,2,  34.9030,2,    275.4,2,    276.0,0,    11.95,2,    17.29,2,     1.07,2, -999.000,9, -999.000,9,   -999.0,9,-999.0000,  -999.00,9,  -999.00,9,  -999.00,9,   3.3602
  74DI19980423,  A16N, 13538,  1,      5,      5,2,19980527,2013, 56.0600, -11.7483, 2708,   1928.6,   3.4700,  34.9140,2,  34.9120,2,    272.8,2,    274.7,2,    12.97,2,    17.27,2,     1.07,2, -999.000,9, -999.000,9,   -999.0,9,-999.0000,  -999.00,9,  -999.00,9,  -999.00,9,   3.3172
  74DI19980423,  A16N, 13538,  1,      4,      4,2,19980527,2013, 56.0600, -11.7483, 2708,   2031.1,   3.4220,  34.9230,2,  34.9220,2,    271.1,2,    272.2,2,    14.25,2,    17.41,2,     1.08,2, -999.000,9, -999.000,9,   -999.0,9,-999.0000,  -999.00,9,  -999.00,9,  -999.00,9,   3.2602
  74DI19980423,  A16N, 13538,  1,      3,      3,2,19980527,2013, 56.0600, -11.7483, 2708,   2234.5,   3.2710,  34.9370,2,  34.9360,2,    268.6,2,    267.4,2,    17.08,2,    17.60,2,     1.11,2, -999.000,9, -999.000,9,   -999.0,9,-999.0000,  -999.00,9,  -999.00,9,  -999.00,9,   3.0922
  74DI19980423,  A16N, 13538,  1,      2,      2,2,19980527,2013, 56.0600, -11.7483, 2708,   2437.6,   3.0690,  34.9460,2,  34.9450,2,    262.7,2,    261.0,2,    22.82,2,    18.35,2,     1.17,2, -999.000,9, -999.000,9,   -999.0,9,-999.0000,  -999.00,9,  -999.00,9,  -999.00,9,   2.8739
  74DI19980423,  A16N, 13538,  1,      1,      1,2,19980527,2013, 56.0600, -11.7483, 2708,   2739.5,   2.6810,  34.9320,2,  34.9330,2,    246.0,2,    246.9,2,    36.33,2,    20.14,2,     1.23,2, -999.000,9, -999.000,9,   -999.0,9,-999.0000,  -999.00,9,  -999.00,9,  -999.00,9,   2.4635
  74DI19980423,  A16N, 13539,  1,     20,     20,2,19980528, 149, 56.1317, -12.7483, 2648,      2.7,  11.6170,  35.4800,2,  35.4780,2,    282.2,2,    278.6,2,     0.32,2,     3.50,2,     0.18,2, -999.000,9, -999.000,9,   -999.0,9,-999.0000,  -999.00,9,  -999.00,9,  -999.00,9,  11.6167
  74DI19980423,  A16N, 13539,  1,     19,     19,2,19980528, 149, 56.1317, -12.7483, 2648,     15.9,  11.6190,  35.4800,2,  35.4780,2,    275.9,2,    278.1,2,     0.32,2,     3.32,2,     0.18,2, -999.000,9, -999.000,9,   -999.0,9,-999.0000,  -999.00,9,  -999.00,9,  -999.00,9,  11.6170
  74DI19980423,  A16N, 13539,  1,     18,     18,2,19980528, 149, 56.1317, -12.7483, 2648,     28.9,  11.6170,  35.4800,2,  35.4770,2,    275.0,2,    278.4,2,     0.36,2,     3.49,2,     0.21,2, -999.000,9, -999.000,9,   -999.0,9,-999.0000,  -999.00,9,  -999.00,9,  -999.00,9,  11.6133
  74DI19980423,  A16N, 13539,  1,     17,     17,2,19980528, 149, 56.1317, -12.7483, 2648,     54.6,  10.5620,  35.4680,2,  35.4630,2,    266.6,2,    268.7,2,     2.02,2,     8.77,2,     0.53,2, -999.000,9, -999.000,9,   -999.0,9,-999.0000,  -999.00,9,  -999.00,9,  -999.00,9,  10.5554
  74DI19980423,  A16N, 13539,  1,     16,     16,2,19980528, 149, 56.1317, -12.7483, 2648,     80.1,  10.4920,  35.4800,2,  35.4770,2,    258.8,2,    258.7,2,     4.16,2,    10.54,2,     0.61,2, -999.000,9, -999.000,9,   -999.0,9,-999.0000,  -999.00,9,  -999.00,9,  -999.00,9,  10.4824
  74DI19980423,  A16N, 13539,  1,     15,     15,2,19980528, 149, 56.1317, -12.7483, 2648,    105.1,  10.5020,  35.4870,2,  35.4840,2,    258.5,2,    258.9,2,     4.21,2,    10.52,2,     0.62,2, -999.000,9, -999.000,9,   -999.0,9,-999.0000,  -999.00,9,  -999.00,9,  -999.00,9,  10.4894
  74DI19980423,  A16N, 13539,  1,     14,     14,2,19980528, 149, 56.1317, -12.7483, 2648,    203.4,  10.1810,  35.4470,2,  35.4440,2,    257.9,2,    257.8,2,     4.31,2,    11.02,2,     0.65,2, -999.000,9, -999.000,9,   -999.0,9,-999.0000,  -999.00,9,  -999.00,9,  -999.00,9,  10.1570
  74DI19980423,  A16N, 13539,  1,     13,     13,2,19980528, 149, 56.1317, -12.7483, 2648,    407.3,   9.9080,  35.4250,2,  35.4220,2,    258.0,2,    258.7,2,     4.70,2,    11.46,2,     0.67,2, -999.000,9, -999.000,9,   -999.0,9,-999.0000,  -999.00,9,  -999.00,9,  -999.00,9,   9.8602
  74DI19980423,  A16N, 13539,  1,     12,     12,2,19980528, 149, 56.1317, -12.7483, 2648,    605.4,   9.5420,  35.3790,2,  35.3760,2,    253.1,2,    254.6,2,     5.43,2,    12.41,2,     0.74,2, -999.000,9, -999.000,9,   -999.0,9,-999.0000,  -999.00,9,  -999.00,9,  -999.00,9,   9.4720
  74DI19980423,  A16N, 13539,  1,     11,     11,2,19980528, 149, 56.1317, -12.7483, 2648,    806.1,   8.8730,  35.3090,2,  35.3050,2,    231.0,2,    229.7,2,     7.69,2,    15.25,2,     0.93,2, -999.000,9, -999.000,9,   -999.0,9,-999.0000,  -999.00,9,  -999.00,9,  -999.00,9,   8.7827
  74DI19980423,  A16N, 13539,  1,     10,     10,2,19980528, 149, 56.1317, -12.7483, 2648,   1014.2,   7.5110,  35.2220,2,  35.2200,2,    219.9,2,    218.6,2,    10.24,2,    17.50,2,     1.08,2, -999.000,9, -999.000,9,   -999.0,9,-999.0000,  -999.00,9,  -999.00,9,  -999.00,9,   7.4063
  74DI19980423,  A16N, 13539,  1,      9,      9,2,19980528, 149, 56.1317, -12.7483, 2648,   1217.5,   5.9390,  35.1130,2,  35.1110,2,    233.4,2,    232.3,2,    11.18,2,    17.89,2,     1.11,2, -999.000,9, -999.000,9,   -999.0,9,-999.0000,  -999.00,9,  -999.00,9,  -999.00,9,   5.8259
  74DI19980423,  A16N, 13539,  1,      8,      8,2,19980528, 149, 56.1317, -12.7483, 2648,   1420.5,   4.7400,  35.0080,2,  35.0070,2,    249.4,2,    249.0,2,    11.43,2,    17.83,2,     1.12,2, -999.000,9, -999.000,9,   -999.0,9,-999.0000,  -999.00,9,  -999.00,9,  -999.00,9,   4.6190
  74DI19980423,  A16N, 13539,  1,      7,      7,2,19980528, 149, 56.1317, -12.7483, 2648,   1622.9,   4.0210,  34.9430,2,  34.9430,2,    263.1,2,    263.6,2,    11.71,2,    17.49,2,     1.11,2, -999.000,9, -999.000,9,   -999.0,9,-999.0000,  -999.00,9,  -999.00,9,  -999.00,9,   3.8893
  74DI19980423,  A16N, 13539,  1,      6,      6,2,19980528, 149, 56.1317, -12.7483, 2648,   1776.1,   3.6810,  34.9160,2,  34.9150,2,    270.5,2,    270.8,2,    11.82,2,    17.34,2,     1.08,2, -999.000,9, -999.000,9,   -999.0,9,-999.0000,  -999.00,9,  -999.00,9,  -999.00,9,   3.5395
  74DI19980423,  A16N, 13539,  1,      5,      5,2,19980528, 149, 56.1317, -12.7483, 2648,   1875.9,   3.5450,  34.9080,2,  34.9080,2,    271.8,2,    273.2,2,    12.09,2,    17.23,2,     1.08,2, -999.000,9, -999.000,9,   -999.0,9,-999.0000,  -999.00,9,  -999.00,9,  -999.00,9,   3.3961
  74DI19980423,  A16N, 13539,  1,      4,      4,2,19980528, 149, 56.1317, -12.7483, 2648,   2024.7,   3.4370,  34.9130,2,  34.9130,2,    273.0,2,    272.7,2,    13.18,2,    17.22,2,     1.08,2, -999.000,9, -999.000,9,   -999.0,9,-999.0000,  -999.00,9,  -999.00,9,  -999.00,9,   3.2757
  74DI19980423,  A16N, 13539,  1,      3,      3,2,19980528, 149, 56.1317, -12.7483, 2648,   2229.4,   3.3490,  34.9340,2,  34.9340,2,    266.7,2,    266.3,2,    16.36,2,    17.64,2,     1.10,2, -999.000,9, -999.000,9,   -999.0,9,-999.0000,  -999.00,9,  -999.00,9,  -999.00,9,   3.1694
  74DI19980423,  A16N, 13539,  1,      2,      2,2,19980528, 149, 56.1317, -12.7483, 2648,   2433.3,   3.1640,  34.9430,2,  34.9430,2,    259.6,2,    261.1,2,    20.82,2,    18.14,2,     1.14,2, -999.000,9, -999.000,9,   -999.0,9,-999.0000,  -999.00,9,  -999.00,9,  -999.00,9,   2.9676
  74DI19980423,  A16N, 13539,  1,      1,      1,2,19980528, 149, 56.1317, -12.7483, 2648,   2677.5,   2.7810,  34.9370,2,  34.9370,2,    247.8,2,    246.7,2,    33.48,2,    19.73,2,     1.19,2, -999.000,9, -999.000,9,   -999.0,9,-999.0000,  -999.00,9,  -999.00,9,  -999.00,9,   2.5677