BOTTLE,20221006CCHSIOCBG
EXPOCODE,SECT_ID,STNNBR,CASTNO,SAMPNO,BTLNBR,BTLNBR_FLAG_W,DATE,TIME,LATITUDE,LONGITUDE,DEPTH,CTDPRS,CTDTMP,CTDSAL,CTDSAL_FLAG_W,SALNTY,SALNTY_FLAG_W,CTDOXY,CTDOXY_FLAG_W,OXYGEN,OXYGEN_FLAG_W,SILCAT,SILCAT_FLAG_W,NITRAT,NITRAT_FLAG_W,PHSPHT,PHSPHT_FLAG_W,CFC-11,CFC-11_FLAG_W,CFC-12,CFC-12_FLAG_W,ALKALI,ALKALI_FLAG_W,PH_SWS,PH_TEMP,PH_SWS_FLAG_W,CHLORA,CHLORA_FLAG_W,PPHYTN,PPHYTN_FLAG_W,THETA
,,,,,,,,,,,METERS,DBAR,ITS-90,PSS-78,,PSS-78,,UMOL/KG,,UMOL/KG,,UMOL/KG,,UMOL/KG,,UMOL/KG,,PMOL/KG,,PMOL/KG,,UMOL/KG,,,DEGC,,UG/L,,UG/L,,DEGC
  74DI19980423,  A16N, 13463,  1,     24,     24,2,19980511, 721, 43.5050, -20.0167, 3994,      5.8,  13.5800,  35.7880,2,  35.7890,2,   -999.0,9,    261.6,2,     2.05,2,     3.59,2,     0.19,2, -999.000,9, -999.000,9,   -999.0,9,-999.0000,  -999.00,9,     0.23,2,     0.05,2,  13.5792
  74DI19980423,  A16N, 13463,  1,     23,     23,2,19980511, 721, 43.5050, -20.0167, 3994,     11.0,  13.5910,  35.7910,2,  35.7900,2,   -999.0,9,    261.6,2,     2.02,2,     3.54,2,     0.19,2, -999.000,9, -999.000,9,   -999.0,9,-999.0000,  -999.00,9,     0.23,2,     0.03,2,  13.5894
  74DI19980423,  A16N, 13463,  1,     22,     22,2,19980511, 721, 43.5050, -20.0167, 3994,     19.4,  13.5930,  35.7920,2,  35.7910,2,    261.8,2,    261.7,2,     2.11,2,     3.50,2,     0.19,2, -999.000,9, -999.000,9,   -999.0,9,-999.0000,  -999.00,9,     0.23,2,     0.04,2,  13.5902
  74DI19980423,  A16N, 13463,  1,     21,     21,2,19980511, 721, 43.5050, -20.0167, 3994,     34.0,  13.5920,  35.7910,2,  35.7900,2,    261.8,2,    261.5,2,     2.08,2,     3.51,2,     0.19,2, -999.000,9, -999.000,9,   -999.0,9,-999.0000,  -999.00,9,     0.22,2,     0.04,2,  13.5872
  74DI19980423,  A16N, 13463,  1,     20,     20,2,19980511, 721, 43.5050, -20.0167, 3994,     65.0,  13.5510,  35.7920,2,  35.7890,2,    265.1,2,    261.1,2,     2.05,2,     3.62,2,     0.20,2, -999.000,9, -999.000,9,   -999.0,9,-999.0000,  -999.00,9,     0.21,2,     0.03,2,  13.5418
  74DI19980423,  A16N, 13463,  1,     19,     19,2,19980511, 721, 43.5050, -20.0167, 3994,     94.9,  13.1790,  35.7770,2,  35.7760,2,    251.4,2,    250.5,2,     2.31,2,     5.72,2,     0.32,2, -999.000,9, -999.000,9,   -999.0,9,-999.0000,  -999.00,9,     0.02,2,     0.00,2,  13.1658
  74DI19980423,  A16N, 13463,  1,     18,     18,2,19980511, 721, 43.5050, -20.0167, 3994,    116.3,  13.1340,  35.7730,2,  35.7730,2,    253.4,2,    249.9,2,     2.37,2,     5.93,2,     0.34,2, -999.000,9, -999.000,9,   -999.0,9,-999.0000,  -999.00,9,     0.01,2,     0.00,2,  13.1178
  74DI19980423,  A16N, 13463,  1,     17,     17,2,19980511, 721, 43.5050, -20.0167, 3994,    148.1,  13.0660,  35.7660,2,  35.7650,2,    248.2,2,    250.0,2,     2.47,2,     6.17,2,     0.35,2, -999.000,9, -999.000,9,   -999.0,9,-999.0000,  -999.00,9,  -999.00,9,  -999.00,9,  13.0454
  74DI19980423,  A16N, 13463,  1,     16,     16,2,19980511, 721, 43.5050, -20.0167, 3994,    186.8,  13.0270,  35.7610,2,  35.7590,2,    249.3,2,    249.0,2,     2.41,2,     6.20,2,     0.36,2, -999.000,9, -999.000,9,   -999.0,9,-999.0000,  -999.00,9,  -999.00,9,  -999.00,9,  13.0011
  74DI19980423,  A16N, 13463,  1,     15,     15,2,19980511, 721, 43.5050, -20.0167, 3994,    227.6,  12.8110,  35.7250,2,  35.7250,2,    242.8,2,    246.3,2,     2.74,2,     7.04,2,     0.42,2, -999.000,9, -999.000,9,   -999.0,9,-999.0000,  -999.00,9,  -999.00,9,  -999.00,9,  12.7797
  74DI19980423,  A16N, 13463,  1,     14,     14,2,19980511, 721, 43.5050, -20.0167, 3994,    360.9,  12.1410,  35.6360,2,  35.6340,2,    229.9,2,    226.9,2,     4.19,2,    10.54,2,     0.62,2, -999.000,9, -999.000,9,   -999.0,9,-999.0000,  -999.00,9,  -999.00,9,  -999.00,9,  12.0929
  74DI19980423,  A16N, 13463,  1,     13,     13,2,19980511, 721, 43.5050, -20.0167, 3994,    514.3,  11.2200,  35.5140,2,  35.5120,2,    222.0,2,    220.0,2,     5.36,2,    12.79,2,     0.77,2, -999.000,9, -999.000,9,   -999.0,9,-999.0000,  -999.00,9,  -999.00,9,  -999.00,9,  11.1545
  74DI19980423,  A16N, 13463,  1,     12,     12,2,19980511, 721, 43.5050, -20.0167, 3994,    717.3,   9.8880,  35.4030,2,  35.4020,2,    199.8,2,    199.8,2,     8.12,2,    16.26,2,     1.01,2, -999.000,9, -999.000,9,   -999.0,9,-999.0000,  -999.00,9,  -999.00,9,  -999.00,9,   9.8027
  74DI19980423,  A16N, 13463,  1,     11,     11,2,19980511, 721, 43.5050, -20.0167, 3994,    915.4,   8.7960,  35.4580,2,  35.4560,2,    193.5,2,    191.3,2,    10.30,2,    17.87,2,     1.12,2, -999.000,9, -999.000,9,   -999.0,9,-999.0000,  -999.00,9,  -999.00,9,  -999.00,9,   8.6932
  74DI19980423,  A16N, 13463,  1,     10,     10,2,19980511, 721, 43.5050, -20.0167, 3994,   1219.4,   7.0570,  35.4290,2,  35.4280,2,    221.8,2,    215.7,2,    11.38,2,    17.61,2,     1.11,2, -999.000,9, -999.000,9,   -999.0,9,-999.0000,  -999.00,9,  -999.00,9,  -999.00,9,   6.9331
  74DI19980423,  A16N, 13463,  1,      9,      9,2,19980511, 721, 43.5050, -20.0167, 3994,   1634.1,   3.8760,  34.9360,2,  34.9370,2,    257.3,2,    265.6,2,    11.57,2,    17.39,2,     1.13,2, -999.000,9, -999.000,9,   -999.0,9,-999.0000,  -999.00,9,  -999.00,9,  -999.00,9,   3.7450
  74DI19980423,  A16N, 13463,  1,      8,      8,2,19980511, 721, 43.5050, -20.0167, 3994,   1835.6,   3.7460,  34.9400,2,  34.9400,2,    269.3,2,    268.6,2,    12.13,2,    17.30,2,     1.12,2, -999.000,9, -999.000,9,   -999.0,9,-999.0000,  -999.00,9,  -999.00,9,  -999.00,9,   3.5980
  74DI19980423,  A16N, 13463,  1,      7,      7,2,19980511, 721, 43.5050, -20.0167, 3994,   2041.4,   3.5500,  34.9350,2,  34.9350,2,    269.6,2,    270.8,2,    13.15,2,    17.29,2,     1.12,2, -999.000,9, -999.000,9,   -999.0,9,-999.0000,  -999.00,9,  -999.00,9,  -999.00,9,   3.3853
  74DI19980423,  A16N, 13463,  1,      6,      6,2,19980511, 721, 43.5050, -20.0167, 3994,   2246.2,   3.3520,  34.9290,2,  34.9290,2,    270.5,2,    270.2,2,    13.91,2,    17.10,2,     1.11,2, -999.000,9, -999.000,9,   -999.0,9,-999.0000,  -999.00,9,  -999.00,9,  -999.00,9,   3.1707
  74DI19980423,  A16N, 13463,  1,      5,      5,2,19980511, 721, 43.5050, -20.0167, 3994,   2451.2,   3.2440,  34.9450,2,  34.9450,2,    268.5,2,    266.0,2,    16.66,2,    17.40,2,     1.13,2, -999.000,9, -999.000,9,   -999.0,9,-999.0000,  -999.00,9,  -999.00,9,  -999.00,9,   3.0444
  74DI19980423,  A16N, 13463,  1,      4,      4,2,19980511, 721, 43.5050, -20.0167, 3994,   2815.6,   2.9990,  34.9550,2,  34.9550,2,    255.0,2,    254.8,2,    26.16,2,    18.97,2,     1.25,2, -999.000,9, -999.000,9,   -999.0,9,-999.0000,  -999.00,9,  -999.00,9,  -999.00,9,   2.7673
  74DI19980423,  A16N, 13463,  1,      3,      3,2,19980511, 721, 43.5050, -20.0167, 3994,   3341.5,   2.6650,  34.9300,2,  34.9300,2,    246.2,2,    246.0,2,    36.04,2,    20.58,2,     1.36,2, -999.000,9, -999.000,9,   -999.0,9,-999.0000,  -999.00,9,  -999.00,9,  -999.00,9,   2.3855
  74DI19980423,  A16N, 13463,  1,      2,      2,2,19980511, 721, 43.5050, -20.0167, 3994,   3861.1,   2.5570,  34.9150,2,  34.9140,2,    240.0,2,    239.7,2,    42.41,2,    21.63,2,     1.43,2, -999.000,9, -999.000,9,   -999.0,9,-999.0000,  -999.00,9,  -999.00,9,  -999.00,9,   2.2229
  74DI19980423,  A16N, 13463,  1,      1,      1,2,19980511, 721, 43.5050, -20.0167, 3994,   4057.2,   2.5610,  34.9130,2,  34.9130,2,    237.9,2,    239.5,2,    42.68,2,    21.43,2,     1.39,2, -999.000,9, -999.000,9,   -999.0,9,-999.0000,  -999.00,9,  -999.00,9,  -999.00,9,   2.2043
  74DI19980423,  A16N, 13464,  1,     23,     23,2,19980511,1426, 43.9983, -20.0017, 4002,      2.6,  13.8110,  35.8030,2,  35.8020,2,    284.7,6,    262.7,2,     2.06,2,     3.13,2,     0.18,2,    4.842,3,    2.161,3,   2356.7,2,   7.9373,    25.00,2,     0.50,2,     0.10,2,  13.8106
  74DI19980423,  A16N, 13464,  1,     22,     22,2,19980511,1426, 43.9983, -20.0017, 4002,     14.8,  13.7810,  35.8030,2,  35.8010,2,    273.1,2,    263.1,2,     2.06,2,     3.27,2,     0.17,2,    4.926,3,    2.138,3,   2353.2,2,   7.9403,    25.00,2,     0.48,2,     0.09,2,  13.7789
  74DI19980423,  A16N, 13464,  1,     21,     21,2,19980511,1426, 43.9983, -20.0017, 4002,     24.5,  13.7330,  35.8020,2,  35.8010,2,    270.9,2,    264.5,2,     2.06,2,     3.25,2,     0.13,2,    2.639,3,    1.580,3,   2352.1,2,   7.9363,    25.00,2,     0.51,2,     0.17,2,  13.7295
  74DI19980423,  A16N, 13464,  1,     20,     20,2,19980511,1426, 43.9983, -20.0017, 4002,     44.1,  13.6730,  35.8020,2,  35.8010,2,    264.4,2,    263.5,2,     2.13,2,     3.25,2,     0.14,2,    4.439,3,    2.071,3,   2355.4,2,   7.9373,    25.00,2,     0.57,2,     0.18,2,  13.6667
  74DI19980423,  A16N, 13464,  1,     19,     19,2,19980511,1426, 43.9983, -20.0017, 4002,     86.1,  13.3550,  35.7950,2,  35.7930,2,    254.4,2,    254.8,2,     2.05,2,     4.52,2,     0.22,2,    4.905,3,    2.113,3,   2352.8,2,   7.9163,    25.00,2,     0.20,2,     0.25,2,  13.3429
  74DI19980423,  A16N, 13464,  1,     18,     18,2,19980511,1426, 43.9983, -20.0017, 4002,    126.6,  13.2030,  35.7820,2,  35.7800,2,    250.6,2,    250.8,2,     2.45,2,     5.77,2,     0.28,2,    4.996,3,    2.007,3,   2349.1,2,   7.9073,    25.00,2,     0.02,2,     0.01,2,  13.1853
  74DI19980423,  A16N, 13464,  1,     17,     17,2,19980511,1426, 43.9983, -20.0017, 4002,    167.3,  13.0850,  35.7680,2,  35.7660,2,    247.1,2,    249.7,2,     2.51,2,     6.28,2,     0.32,2,    5.319,3,    1.939,3,   2350.0,2,   7.9003,    25.00,2,     0.02,2,     0.00,2,  13.0617
  74DI19980423,  A16N, 13464,  1,     16,     16,2,19980511,1426, 43.9983, -20.0017, 4002,    249.0,  12.6450,  35.7050,2,  35.7020,2,    242.9,2,    242.0,2,     3.13,2,     8.22,2,     0.44,2,    4.687,3,    1.879,3,   2342.7,2,   7.8773,    25.00,2,  -999.00,9,  -999.00,9,  12.6111
  74DI19980423,  A16N, 13464,  1,     15,     15,2,19980511,1426, 43.9983, -20.0017, 4002,    331.1,  12.3390,  35.6830,2,  35.6810,2,    238.7,2,    249.1,2,     3.04,2,     8.08,2,     0.44,2,    3.912,2,    1.937,2,   2343.6,2,   7.8773,    25.00,2,  -999.00,9,  -999.00,9,  12.2945
  74DI19980423,  A16N, 13464,  1,     14,     14,2,19980511,1426, 43.9983, -20.0017, 4002,    515.3,  11.7430,  35.5940,2,  35.5960,2,    230.7,2,    236.6,2,     4.13,2,    10.46,2,     0.58,2,    3.518,2,    1.596,2,   2339.1,2,   7.8403,    25.00,2,  -999.00,9,  -999.00,9,  11.6754
  74DI19980423,  A16N, 13464,  1,     13,     13,2,19980511,1426, 43.9983, -20.0017, 4002,    771.5,   9.5650,  35.3460,2,  35.3440,2,    200.6,2,    197.1,2,     8.90,2,    17.22,2,     1.03,2,    2.409,2,    1.114,2,   2330.4,2,   7.7513,    25.00,2,  -999.00,9,  -999.00,9,   9.4749
  74DI19980423,  A16N, 13464,  1,     12,     12,2,19980511,1426, 43.9983, -20.0017, 4002,    977.3,   8.1590,  35.3700,2,  35.3690,2,    194.2,2,    195.5,2,    10.96,2,    18.55,2,     1.13,2,    1.285,3,    0.654,3,   2334.1,2,   7.7303,    25.00,2,  -999.00,9,  -999.00,9,   8.0535
  74DI19980423,  A16N, 13464,  1,     11,     11,2,19980511,1426, 43.9983, -20.0017, 4002,   1130.9,   6.7190,  35.2590,2,  35.2590,2,    214.7,2,    214.4,2,    11.48,2,    18.47,2,     1.14,2,    3.233,3,    1.291,3,   2331.0,2,   7.7293,    25.00,2,  -999.00,9,  -999.00,9,   6.6079
  74DI19980423,  A16N, 13464,  1,     10,     10,2,19980511,1426, 43.9983, -20.0017, 4002,   1285.3,   5.3790,  35.1050,2,  35.1060,2,    237.6,2,    235.6,2,    11.62,2,    18.25,2,     1.15,2,    2.002,2,    0.998,2,   2318.9,2,   7.7143,    25.00,2,  -999.00,9,  -999.00,9,   5.2644
  74DI19980423,  A16N, 13464,  1,      9,      9,2,19980511,1426, 43.9983, -20.0017, 4002,   1439.6,   4.4190,  34.9850,2,  34.9850,2,    253.1,2,    253.8,2,    11.48,2,    17.95,2,     1.14,2, -999.000,9, -999.000,9,   2311.4,2,   7.7153,    25.00,2,  -999.00,9,  -999.00,9,   4.2997
  74DI19980423,  A16N, 13464,  1,      8,      8,2,19980511,1426, 43.9983, -20.0017, 4002,   1594.3,   3.8840,  34.9290,2,  34.9310,2,    264.4,2,    265.8,2,    11.43,2,    17.55,2,     1.12,2, -999.000,9, -999.000,9,   2307.5,2,   7.7223,    25.00,2,  -999.00,9,  -999.00,9,   3.7566
  74DI19980423,  A16N, 13464,  1,      7,      7,2,19980511,1426, 43.9983, -20.0017, 4002,   1956.2,   3.4530,  34.9000,2,  34.9020,2,    274.2,2,    279.5,2,    11.78,2,    17.18,2,     1.11,2,    2.103,2,    1.048,2,   2307.3,2,   7.7223,    25.00,2,  -999.00,9,  -999.00,9,   3.2979
  74DI19980423,  A16N, 13464,  1,      6,      6,2,19980511,1426, 43.9983, -20.0017, 4002,   2161.4,   3.3490,  34.9120,2,  34.9130,2,    275.4,2,    274.6,2,    12.80,2,    17.04,2,     1.10,2,    1.852,2,    0.940,2,   2310.2,2,   7.7253,    25.00,2,  -999.00,9,  -999.00,9,   3.1760
  74DI19980423,  A16N, 13464,  1,      5,      5,2,19980511,1426, 43.9983, -20.0017, 4002,   2679.7,   3.0930,  34.9490,2,  34.9500,2,    266.0,2,    262.9,2,    19.78,2,    17.77,2,     1.15,2,    0.582,2,    0.300,2,   2320.8,2,   7.7223,    25.00,2,  -999.00,9,  -999.00,9,   2.8733
  74DI19980423,  A16N, 13464,  1,      4,      4,2,19980511,1426, 43.9983, -20.0017, 4002,   3094.6,   2.8120,  34.9430,2,  34.9450,2,    255.1,2,    253.6,2,    29.07,2,    19.28,2,     1.26,2,    0.395,2,    0.188,2,   2334.4,2,   7.7193,    25.00,2,  -999.00,9,  -999.00,9,   2.5553
  74DI19980423,  A16N, 13464,  1,      3,      3,2,19980511,1426, 43.9983, -20.0017, 4002,   3510.1,   2.6440,  34.9270,2,  34.9270,2,    245.5,2,    245.3,2,    37.35,2,    20.72,2,     1.37,2,    0.152,2,    0.070,2,   2346.2,2,   7.7183,    25.00,2,  -999.00,9,  -999.00,9,   2.3468
  74DI19980423,  A16N, 13464,  1,      2,      2,2,19980511,1426, 43.9983, -20.0017, 4002,   3926.4,   2.5790,  34.9170,2,  34.9160,2,    241.2,2,    240.5,2,    41.73,2,    21.54,2,     1.42,2,    0.106,2,    0.051,2,   -999.0,9,-999.0000,  -999.00,9,  -999.00,9,  -999.00,9,   2.2369
  74DI19980423,  A16N, 13464,  1,      1,      1,2,19980511,1426, 43.9983, -20.0017, 4002,   4060.6,   2.5820,  34.9150,2,  34.9170,2,    240.4,2,    240.9,2,    41.72,2,    21.18,2,     1.39,2,    0.064,2,    0.031,2,   2355.4,2,   7.7133,    25.00,2,  -999.00,9,  -999.00,9,   2.2243