BOTTLE,20221006CCHSIOCBG
EXPOCODE,SECT_ID,STNNBR,CASTNO,SAMPNO,BTLNBR,BTLNBR_FLAG_W,DATE,TIME,LATITUDE,LONGITUDE,DEPTH,CTDPRS,CTDTMP,CTDSAL,CTDSAL_FLAG_W,SALNTY,SALNTY_FLAG_W,CTDOXY,CTDOXY_FLAG_W,OXYGEN,OXYGEN_FLAG_W,SILCAT,SILCAT_FLAG_W,NITRAT,NITRAT_FLAG_W,PHSPHT,PHSPHT_FLAG_W,CFC-11,CFC-11_FLAG_W,CFC-12,CFC-12_FLAG_W,ALKALI,ALKALI_FLAG_W,PH_SWS,PH_TEMP,PH_SWS_FLAG_W,CHLORA,CHLORA_FLAG_W,PPHYTN,PPHYTN_FLAG_W,THETA
,,,,,,,,,,,METERS,DBAR,ITS-90,PSS-78,,PSS-78,,UMOL/KG,,UMOL/KG,,UMOL/KG,,UMOL/KG,,UMOL/KG,,PMOL/KG,,PMOL/KG,,UMOL/KG,,,DEGC,,UG/L,,UG/L,,DEGC
  74DI19980423,  A16N, 13420,  1,     23,     23,2,19980427, 915, 22.0167, -21.1050, 4323,      5.5,  21.4510,  36.3730,2,  36.3730,2,    237.7,2,    236.5,2,     0.56,2,     0.00,2,     0.06,2,    2.259,3,    1.478,3,   2399.8,6,   8.0402,    25.00,2,     0.65,2,     0.03,2,  21.4499
  74DI19980423,  A16N, 13420,  1,     22,     22,2,19980427, 915, 22.0167, -21.1050, 4323,     11.1,  21.4470,  36.3730,2,  36.3730,2,    232.0,2,    238.2,2,     0.47,2,     0.00,2,     0.07,2,    2.321,3,    1.311,3,   2399.9,2,   8.0402,    25.00,2,  -999.00,9,  -999.00,9,  21.4448
  74DI19980423,  A16N, 13420,  1,     21,     21,2,19980427, 915, 22.0167, -21.1050, 4323,     19.3,  21.4430,  36.3730,2,  36.3730,2,    233.7,2,    237.2,2,     0.47,2,     0.00,2,     0.11,2,    2.314,3,    1.454,3,   2401.2,2,   8.0452,    25.00,2,     0.78,2,     0.07,2,  21.4392
  74DI19980423,  A16N, 13420,  1,     20,     20,2,19980427, 915, 22.0167, -21.1050, 4323,     34.9,  21.4240,  36.3790,2,  36.3780,2,    237.0,2,    234.4,2,     0.49,2,     0.00,2,     0.11,2,    1.780,3,    1.402,3,   2402.7,2,   8.0422,    25.00,2,     0.96,2,     0.05,2,  21.4172
  74DI19980423,  A16N, 13420,  1,     19,     19,2,19980427, 915, 22.0167, -21.1050, 4323,     65.1,  21.2730,  36.4100,2,  36.4090,2,    221.3,2,    225.3,2,     0.59,2,     0.03,2,     0.15,2,    1.987,3,    1.401,3,   2401.7,2,   8.0152,    25.00,2,     0.60,2,     0.04,2,  21.2604
  74DI19980423,  A16N, 13420,  1,     18,     18,2,19980427, 915, 22.0167, -21.1050, 4323,     95.4,  19.4580,  36.6030,2,  36.6030,2,    163.9,2,    159.4,2,     2.22,2,     8.61,2,     0.60,2,    1.980,3,    1.293,3,   2403.6,2,   7.8882,    25.00,2,     0.01,2,     0.00,2,  19.4406
  74DI19980423,  A16N, 13420,  1,     17,     17,2,19980427, 915, 22.0167, -21.1050, 4323,    116.5,  17.3620,  36.1900,2,  36.1920,2,    151.2,2,    102.9,0,     4.95,2,    17.08,2,     1.17,2,    1.701,3,    1.133,3,   2379.0,2,   7.7622,    25.00,2,     0.01,2,     0.00,2,  17.3424
  74DI19980423,  A16N, 13420,  1,     16,     16,2,19980427, 915, 22.0167, -21.1050, 4323,    146.6,  16.7850,  36.1770,2,  36.1710,2,     84.3,2,    103.0,2,     5.10,2,    17.15,2,     1.14,2,    2.776,2,    1.418,2,   2374.6,2,   7.7612,    25.00,2,     0.00,2,     0.00,2,  16.7608
  74DI19980423,  A16N, 13420,  1,     15,     15,2,19980427, 915, 22.0167, -21.1050, 4323,    186.7,  15.7130,  36.0350,2,  36.0370,2,    112.8,2,    100.6,2,     5.79,2,    18.58,2,     1.25,2,    2.707,2,    1.409,2,   -999.0,9,-999.0000,  -999.00,9,  -999.00,9,  -999.00,9,  15.6836
  74DI19980423,  A16N, 13420,  1,     14,     14,2,19980427, 915, 22.0167, -21.1050, 4323,    226.6,  15.4960,  36.0860,2,  36.0830,2,    119.1,2,    131.9,2,     4.88,2,    15.44,2,     1.00,2,    2.842,2,    1.456,2,   2370.2,2,   7.7952,    25.00,2,  -999.00,9,  -999.00,9,  15.4606
  74DI19980423,  A16N, 13420,  1,     13,     13,2,19980427, 915, 22.0167, -21.1050, 4323,    359.6,  13.6790,  35.8330,2,  35.8300,2,    132.7,2,    124.5,2,     6.62,2,    18.95,2,     1.25,2,    2.261,2,    1.127,2,   -999.0,9,-999.0000,  -999.00,9,  -999.00,9,  -999.00,9,  13.6271
  74DI19980423,  A16N, 13420,  1,     12,     12,2,19980427, 915, 22.0167, -21.1050, 4323,    513.8,  10.8250,  35.3350,2,  35.3320,2,     56.4,2,     57.0,2,    13.90,2,    31.29,2,     2.12,2,    0.580,2,    0.293,2,   -999.0,9,-999.0000,  -999.00,9,  -999.00,9,  -999.00,9,  10.7611
  74DI19980423,  A16N, 13420,  1,     11,     11,2,19980427, 915, 22.0167, -21.1050, 4323,    718.5,   8.9550,  35.1640,2,  35.1620,2,     84.9,2,     82.9,2,    17.96,2,    31.59,2,     2.23,2,    0.111,2,    0.051,2,   -999.0,9,-999.0000,  -999.00,9,  -999.00,9,  -999.00,9,   8.8747
  74DI19980423,  A16N, 13420,  1,     10,     10,2,19980427, 915, 22.0167, -21.1050, 4323,    923.3,   6.9400,  34.9930,2,  34.9920,2,    103.5,2,    108.4,2,    23.15,2,    31.77,2,     2.34,2,    0.049,2,    0.022,2,   2329.9,2,   7.5613,    25.00,2,  -999.00,9,  -999.00,9,   6.8494
  74DI19980423,  A16N, 13420,  1,      9,      9,2,19980427, 915, 22.0167, -21.1050, 4323,   1229.9,   5.7560,  35.1130,2,  35.1120,2,    171.7,2,    176.6,2,    21.13,2,    25.08,2,     1.86,2,    0.019,2,    0.010,2,   -999.0,9,-999.0000,  -999.00,9,  -999.00,9,  -999.00,9,   5.6434
  74DI19980423,  A16N, 13420,  1,      8,      8,2,19980427, 915, 22.0167, -21.1050, 4323,   1640.8,   4.4180,  35.0520,2,  35.0520,2,    208.0,2,    208.9,2,    23.93,2,    22.87,2,     1.70,2,    0.019,2,    0.010,2,   -999.0,9,-999.0000,  -999.00,9,  -999.00,9,  -999.00,9,   4.2795
  74DI19980423,  A16N, 13420,  1,      7,      7,2,19980427, 915, 22.0167, -21.1050, 4323,   1846.8,   4.0490,  35.0360,2,  35.0360,2,    220.9,2,    220.4,2,    24.99,2,    22.01,2,     1.64,2,    0.019,2,    0.010,2,   2342.2,2,   7.6953,    25.00,2,  -999.00,9,  -999.00,9,   3.8955
  74DI19980423,  A16N, 13420,  1,      6,      6,2,19980427, 915, 22.0167, -21.1050, 4323,   2260.5,   3.4640,  34.9950,2,  34.9940,2,    234.4,2,    232.3,2,    28.86,2,    21.57,2,     1.62,2,    0.019,2,    0.010,2,   -999.0,9,-999.0000,  -999.00,9,  -999.00,9,  -999.00,9,   3.2792
  74DI19980423,  A16N, 13420,  1,      5,      5,2,19980427, 915, 22.0167, -21.1050, 4323,   2826.0,   2.9540,  34.9550,2,  34.9530,2,    239.2,2,    237.6,2,    35.49,2,    21.49,2,     1.61,2,    0.019,2,    0.010,2,   2359.9,2,   7.7103,    25.00,2,  -999.00,9,  -999.00,9,   2.7221
  74DI19980423,  A16N, 13420,  1,      4,      4,2,19980427, 915, 22.0167, -21.1050, 4323,   3343.0,   2.5920,  34.9230,2,  34.9220,2,    238.3,2,    239.6,2,    42.10,2,    22.05,2,     1.62,2,    0.019,2,    0.010,2,   2368.9,2,   7.7123,    25.00,2,  -999.00,9,  -999.00,9,   2.3142
  74DI19980423,  A16N, 13420,  1,      3,      3,2,19980427, 915, 22.0167, -21.1050, 4323,   3863.8,   2.4140,  34.9020,2,  34.9020,2,    242.8,2,    242.5,2,    45.24,2,    22.29,2,     1.65,2,    0.019,2,    0.010,2,   -999.0,9,-999.0000,  -999.00,9,  -999.00,9,  -999.00,9,   2.0835
  74DI19980423,  A16N, 13420,  1,      2,      2,2,19980427, 915, 22.0167, -21.1050, 4323,   4383.4,   2.3830,  34.8930,2,  34.8910,2,    244.2,2,    245.2,2,    46.71,2,    22.40,2,     1.54,2,    0.019,2,    0.010,2,   -999.0,9,-999.0000,  -999.00,9,  -999.00,9,  -999.00,9,   1.9932
  74DI19980423,  A16N, 13420,  1,      1,      1,2,19980427, 915, 22.0167, -21.1050, 4323,   4423.8,   2.3870,  34.8930,2,  34.8920,2,    244.8,2,    245.5,2,    46.20,2,    22.12,2,     1.53,2,    0.019,2,    0.010,2,   -999.0,9,-999.0000,  -999.00,9,  -999.00,9,  -999.00,9,   1.9923
  74DI19980423,  A16N, 13421,  1,     24,     24,2,19980427,1628, 22.4967, -21.1383, 4305,      2.5,  21.8000,  36.9390,2,  36.9390,2,    218.2,2,    220.6,2,     0.54,2,     0.00,2,     0.07,2, -999.000,9, -999.000,9,   -999.0,9,-999.0000,  -999.00,9,     0.06,2,     0.02,2,  21.7995
  74DI19980423,  A16N, 13421,  1,     23,     23,2,19980427,1628, 22.4967, -21.1383, 4305,     10.8,  21.7980,  36.9390,2,  36.9390,2,    217.1,2,    222.3,2,     0.51,2,     0.04,2,     0.09,2, -999.000,9, -999.000,9,   -999.0,9,-999.0000,  -999.00,9,     0.05,2,     0.02,2,  21.7959
  74DI19980423,  A16N, 13421,  1,     22,     22,2,19980427,1628, 22.4967, -21.1383, 4305,     18.5,  21.7740,  36.9390,2,  36.9390,2,    214.0,2,    221.4,2,     0.53,2,     0.04,2,     0.10,2, -999.000,9, -999.000,9,   -999.0,9,-999.0000,  -999.00,9,     0.05,2,     0.04,2,  21.7703
  74DI19980423,  A16N, 13421,  1,     21,     21,2,19980427,1628, 22.4967, -21.1383, 4305,     37.0,  21.7350,  36.9430,2,  36.9420,2,    212.7,2,    219.0,2,     0.50,2,     0.00,2,     0.12,2, -999.000,9, -999.000,9,   -999.0,9,-999.0000,  -999.00,9,     0.07,2,     0.04,2,  21.7277
  74DI19980423,  A16N, 13421,  1,     20,     20,2,19980427,1628, 22.4967, -21.1383, 4305,     77.1,  21.0220,  36.9080,2,  36.9070,2,    212.1,2,    203.3,2,     0.77,2,     1.70,2,     0.21,2, -999.000,9, -999.000,9,   -999.0,9,-999.0000,  -999.00,9,     0.08,2,     0.00,2,  21.0071
  74DI19980423,  A16N, 13421,  1,     19,     19,2,19980427,1628, 22.4967, -21.1383, 4305,    118.9,  20.6210,  36.8730,2,  36.1640,0,    197.7,2,    199.0,2,     1.02,2,     2.63,2,     0.28,2, -999.000,9, -999.000,9,   -999.0,9,-999.0000,  -999.00,9,     0.00,2,     0.00,2,  20.5983
  74DI19980423,  A16N, 13421,  1,     18,     18,2,19980427,1628, 22.4967, -21.1383, 4305,    158.4,  18.5740,  36.5240,2,  36.5320,2,    167.6,2,    149.7,2,     2.99,2,     9.90,2,     0.73,2, -999.000,9, -999.000,9,   -999.0,9,-999.0000,  -999.00,9,     0.00,2,     0.00,2,  18.5459
  74DI19980423,  A16N, 13421,  1,     17,     17,2,19980427,1628, 22.4967, -21.1383, 4305,    240.5,  15.2300,  36.0110,2,  36.0110,2,    105.9,2,    108.5,2,     5.95,2,    18.35,2,     1.47,2, -999.000,9, -999.000,9,   -999.0,9,-999.0000,  -999.00,9,  -999.00,9,  -999.00,9,  15.1928
  74DI19980423,  A16N, 13421,  1,     16,     16,2,19980427,1628, 22.4967, -21.1383, 4305,    321.0,  13.8500,  35.8020,2,  35.8020,2,     93.9,2,     90.5,2,     7.85,2,    22.34,2,     1.34,2, -999.000,9, -999.000,9,   -999.0,9,-999.0000,  -999.00,9,  -999.00,9,  -999.00,9,  13.8034
  74DI19980423,  A16N, 13421,  1,     15,     15,2,19980427,1628, 22.4967, -21.1383, 4305,    502.0,  11.6610,  35.5520,2,  35.5500,2,    119.9,2,    119.7,2,     9.45,2,    22.92,2,     1.42,2, -999.000,9, -999.000,9,   -999.0,9,-999.0000,  -999.00,9,  -999.00,9,  -999.00,9,  11.5955
  74DI19980423,  A16N, 13421,  1,     14,     14,2,19980427,1628, 22.4967, -21.1383, 4305,    755.1,   8.4130,  35.1420,2,  35.1410,2,    100.5,2,     96.2,2,    18.31,2,    30.51,2,     2.06,2, -999.000,9, -999.000,9,   -999.0,9,-999.0000,  -999.00,9,  -999.00,9,  -999.00,9,   8.3314
  74DI19980423,  A16N, 13421,  1,     13,     13,2,19980427,1628, 22.4967, -21.1383, 4305,    958.6,   7.0210,  35.0560,2,  35.0560,2,    122.8,2,    126.6,2,    21.09,2,    29.70,2,     2.06,2, -999.000,9, -999.000,9,   -999.0,9,-999.0000,  -999.00,9,  -999.00,9,  -999.00,9,   6.9261
  74DI19980423,  A16N, 13421,  1,     12,     12,2,19980427,1628, 22.4967, -21.1383, 4305,   1110.5,   6.5340,  35.0880,2,  35.0880,2,    146.7,2,    148.8,2,    21.09,2,    27.69,2,     1.95,2, -999.000,9, -999.000,9,   -999.0,9,-999.0000,  -999.00,9,  -999.00,9,  -999.00,9,   6.4268
  74DI19980423,  A16N, 13421,  1,     11,     11,2,19980427,1628, 22.4967, -21.1383, 4305,   1314.1,   6.0570,  35.1750,2,  35.1750,2,    175.1,2,    175.7,2,    20.32,2,    24.57,2,     1.70,2, -999.000,9, -999.000,9,   -999.0,9,-999.0000,  -999.00,9,  -999.00,9,  -999.00,9,   5.9328
  74DI19980423,  A16N, 13421,  1,     10,     10,2,19980427,1628, 22.4967, -21.1383, 4305,   1567.6,   4.8620,  35.1010,2,  35.1020,2,    198.2,2,    200.6,2,    22.79,2,    23.12,2,     1.62,2, -999.000,9, -999.000,9,   -999.0,9,-999.0000,  -999.00,9,  -999.00,9,  -999.00,9,   4.7252
  74DI19980423,  A16N, 13421,  1,      9,      9,2,19980427,1628, 22.4967, -21.1383, 4305,   1925.4,   3.9520,  35.0300,2,  35.0310,2,    220.0,2,    220.9,2,    25.64,2,    22.11,2,     1.55,2, -999.000,9, -999.000,9,   -999.0,9,-999.0000,  -999.00,9,  -999.00,9,  -999.00,9,   3.7922
  74DI19980423,  A16N, 13421,  1,      8,      8,2,19980427,1628, 22.4967, -21.1383, 4305,   2129.1,   3.6320,  35.0100,2,  35.0100,2,    226.6,2,    226.9,2,    28.05,2,    21.84,2,     1.56,2, -999.000,9, -999.000,9,   -999.0,9,-999.0000,  -999.00,9,  -999.00,9,  -999.00,9,   3.4573
  74DI19980423,  A16N, 13421,  1,      7,      7,2,19980427,1628, 22.4967, -21.1383, 4305,   2639.3,   3.1280,  34.9710,2,  34.9700,2,    234.8,2,    234.2,2,    33.35,2,    21.61,2,     1.54,2, -999.000,9, -999.000,9,   -999.0,9,-999.0000,  -999.00,9,  -999.00,9,  -999.00,9,   2.9116
  74DI19980423,  A16N, 13421,  1,      6,      6,2,19980427,1628, 22.4967, -21.1383, 4305,   3048.7,   2.7890,  34.9420,2,  34.9410,2,    238.5,2,    236.6,2,    38.28,2,    21.78,2,     1.56,2, -999.000,9, -999.000,9,   -999.0,9,-999.0000,  -999.00,9,  -999.00,9,  -999.00,9,   2.5377
  74DI19980423,  A16N, 13421,  1,      5,      5,2,19980427,1628, 22.4967, -21.1383, 4305,   3252.2,   2.6510,  34.9280,2,  34.9290,2,    238.2,2,    236.2,2,    40.83,2,    21.96,2,     1.58,2, -999.000,9, -999.000,9,   -999.0,9,-999.0000,  -999.00,9,  -999.00,9,  -999.00,9,   2.3814
  74DI19980423,  A16N, 13421,  1,      4,      4,2,19980427,1628, 22.4967, -21.1383, 4305,   3458.8,   2.5510,  34.9180,2,  34.9180,2,    239.3,2,    238.5,2,    42.75,2,    22.11,2,     1.59,2, -999.000,9, -999.000,9,   -999.0,9,-999.0000,  -999.00,9,  -999.00,9,  -999.00,9,   2.2617
  74DI19980423,  A16N, 13421,  1,      3,      3,2,19980427,1628, 22.4967, -21.1383, 4305,   3870.0,   2.4210,  34.9030,2,  34.9020,2,    242.1,2,    241.7,2,    45.35,2,    22.25,2,     1.59,2, -999.000,9, -999.000,9,   -999.0,9,-999.0000,  -999.00,9,  -999.00,9,  -999.00,9,   2.0897
  74DI19980423,  A16N, 13421,  1,      2,      2,2,19980427,1628, 22.4967, -21.1383, 4305,   4334.8,   2.3800,  34.8930,2,  34.8920,2,    242.3,2,    243.1,2,    47.16,2,    22.40,2,     1.59,2, -999.000,9, -999.000,9,   -999.0,9,-999.0000,  -999.00,9,  -999.00,9,  -999.00,9,   1.9961
  74DI19980423,  A16N, 13421,  1,      1,      1,2,19980427,1628, 22.4967, -21.1383, 4305,   4397.6,   2.3870,  34.8930,2,  34.8940,2,    241.1,2,    243.3,2,    46.51,2,    22.29,2,     1.55,2, -999.000,9, -999.000,9,   -999.0,9,-999.0000,  -999.00,9,  -999.00,9,  -999.00,9,   1.9954