BOTTLE,20221006CCHSIOCBG
EXPOCODE,SECT_ID,STNNBR,CASTNO,SAMPNO,BTLNBR,BTLNBR_FLAG_W,DATE,TIME,LATITUDE,LONGITUDE,DEPTH,CTDPRS,CTDTMP,CTDSAL,CTDSAL_FLAG_W,SALNTY,SALNTY_FLAG_W,CTDOXY,CTDOXY_FLAG_W,OXYGEN,OXYGEN_FLAG_W,SILCAT,SILCAT_FLAG_W,NITRAT,NITRAT_FLAG_W,PHSPHT,PHSPHT_FLAG_W,CFC-11,CFC-11_FLAG_W,CFC-12,CFC-12_FLAG_W,ALKALI,ALKALI_FLAG_W,PH_SWS,PH_TEMP,PH_SWS_FLAG_W,CHLORA,CHLORA_FLAG_W,PPHYTN,PPHYTN_FLAG_W,THETA
,,,,,,,,,,,METERS,DBAR,ITS-90,PSS-78,,PSS-78,,UMOL/KG,,UMOL/KG,,UMOL/KG,,UMOL/KG,,UMOL/KG,,PMOL/KG,,PMOL/KG,,UMOL/KG,,,DEGC,,UG/L,,UG/L,,DEGC
  74DI19980423,  A16N, 13456,  1,     24,     24,2,19980508,1812, 40.0017, -20.0033, 4757,      2.2,  15.5850,  36.0540,2,  36.0540,2,    259.9,2,    256.4,2,     1.17,2,     0.00,2,     0.00,2,    1.123,3,    1.702,3,   2373.4,2,   7.9662,    25.00,2,     0.01,2,     0.00,2,  15.5847
  74DI19980423,  A16N, 13456,  1,     23,     23,2,19980508,1812, 40.0017, -20.0033, 4757,     14.6,  15.5900,  36.0550,2,  36.0550,2,    253.8,2,    257.2,2,     1.13,2,     0.00,2,     0.00,2,    1.517,3,    1.221,3,   2359.1,2,   7.9682,    25.00,2,     0.03,2,     0.01,2,  15.5877
  74DI19980423,  A16N, 13456,  1,     22,     22,2,19980508,1812, 40.0017, -20.0033, 4757,     24.7,  15.5370,  36.0580,2,  36.0570,2,    255.7,2,    256.7,2,     1.14,2,     0.00,2,     0.00,2,    2.580,3,    1.923,3,   2373.2,2,   7.9682,    25.00,2,     0.08,2,     0.03,2,  15.5332
  74DI19980423,  A16N, 13456,  1,     21,     21,2,19980508,1812, 40.0017, -20.0033, 4757,     45.0,  15.4240,  36.0440,2,  36.0420,2,    257.1,2,    257.5,2,     1.33,2,     0.00,2,     0.00,2,    2.559,3,    1.894,3,   2372.8,2,   7.9672,    25.00,2,     0.10,2,     0.03,2,  15.4170
  74DI19980423,  A16N, 13456,  1,     20,     20,2,19980508,1812, 40.0017, -20.0033, 4757,     85.4,  14.7510,  35.9590,2,  35.9600,2,    250.2,2,    250.3,2,     1.42,2,     1.77,2,     0.12,2,    0.883,3,    1.299,3,   -999.0,9,-999.0000,  -999.00,9,     0.05,2,     0.03,2,  14.7382
  74DI19980423,  A16N, 13456,  1,     19,     19,2,19980508,1812, 40.0017, -20.0033, 4757,    125.9,  14.6880,  35.9750,2,  35.9680,2,    243.0,2,    242.9,2,     1.45,2,     2.88,2,     0.18,2,    3.259,3,    1.990,3,   2366.5,2,   7.9272,    25.00,2,     0.06,2,     0.03,2,  14.6691
  74DI19980423,  A16N, 13456,  1,     18,     18,2,19980508,1812, 40.0017, -20.0033, 4757,    165.7,  14.0480,  35.8870,2,  35.8820,2,    246.8,2,    242.7,2,     2.01,2,     4.62,2,     0.25,2,    1.371,3,    1.689,3,   2356.6,2,   7.9133,    25.00,2,     0.06,2,     0.02,2,  14.0238
  74DI19980423,  A16N, 13456,  1,     17,     17,2,19980508,1812, 40.0017, -20.0033, 4757,    246.0,  13.3080,  35.7970,2,  35.7960,2,    221.6,2,    217.5,2,     3.71,2,     9.78,2,     0.54,2,    3.652,3,    1.841,3,   2353.5,2,   7.8583,    25.00,2,  -999.00,9,  -999.00,9,  13.2733
  74DI19980423,  A16N, 13456,  1,     16,     16,2,19980508,1812, 40.0017, -20.0033, 4757,    326.2,  12.5590,  35.7100,2,  35.7110,2,    218.5,2,    222.8,2,     3.88,2,    10.21,2,     0.56,2,    3.103,2,    1.680,2,   -999.0,9,-999.0000,  -999.00,9,  -999.00,9,  -999.00,9,  12.5146
  74DI19980423,  A16N, 13456,  1,     15,     15,2,19980508,1812, 40.0017, -20.0033, 4757,    508.2,  11.3200,  35.5500,2,  35.5490,2,    212.8,2,    213.3,2,     5.53,2,    13.26,2,     0.76,2,    3.025,2,    1.573,2,   2344.0,2,   7.7953,    25.00,2,  -999.00,9,  -999.00,9,  11.2549
  74DI19980423,  A16N, 13456,  1,     14,     14,2,19980508,1812, 40.0017, -20.0033, 4757,    760.3,  10.2320,  35.5510,2,  35.5490,2,    189.2,2,    188.8,2,     8.75,2,    16.99,2,     1.02,2,    1.709,2,    0.948,2,   2348.8,2,   7.7563,    25.00,2,  -999.00,9,  -999.00,9,  10.1394
  74DI19980423,  A16N, 13456,  1,     13,     13,2,19980508,1812, 40.0017, -20.0033, 4757,    961.9,   9.5540,  35.6810,2,  35.6800,2,    190.2,2,    188.3,2,    10.19,2,    17.45,2,     1.06,2,    1.265,2,    0.704,2,   2356.2,2,   7.7523,    25.00,2,  -999.00,9,  -999.00,9,   9.4402
  74DI19980423,  A16N, 13456,  1,     12,     12,2,19980508,1812, 40.0017, -20.0033, 4757,   1112.7,   8.6420,  35.6490,2,  35.6490,2,    197.3,2,    197.9,2,    10.96,2,    17.51,2,     1.08,2,    1.071,2,    0.565,2,   2356.8,2,   7.7463,    25.00,2,  -999.00,9,  -999.00,9,   8.5166
  74DI19980423,  A16N, 13456,  1,     11,     11,2,19980508,1812, 40.0017, -20.0033, 4757,   1417.7,   5.7690,  35.2360,2,  35.2350,2,    235.2,2,    235.4,2,    11.90,2,    17.99,2,     1.15,2,    1.318,2,    0.703,2,   2330.8,2,   7.7213,    25.00,2,  -999.00,9,  -999.00,9,   5.6369
  74DI19980423,  A16N, 13456,  1,     10,     10,2,19980508,1812, 40.0017, -20.0033, 4757,   1569.6,   4.8900,  35.1080,2,  35.1050,2,    247.5,2,    249.4,2,    12.15,2,    17.85,2,     1.14,2,    1.327,2,    0.736,2,   2321.5,2,   7.7193,    25.00,2,  -999.00,9,  -999.00,9,   4.7526
  74DI19980423,  A16N, 13456,  1,      9,      9,2,19980508,1812, 40.0017, -20.0033, 4757,   1926.4,   3.8470,  34.9790,2,  34.9800,2,    265.6,2,    265.1,2,    13.53,2,    17.72,2,     1.12,2,    0.987,2,    0.578,2,   2314.7,2,   7.7203,    25.00,2,  -999.00,9,  -999.00,9,   3.6888
  74DI19980423,  A16N, 13456,  1,      8,      8,2,19980508,1812, 40.0017, -20.0033, 4757,   2129.2,   3.5870,  34.9700,2,  34.9710,2,    264.2,2,    264.2,2,    16.04,2,    17.83,2,     1.14,2,    0.474,2,    0.259,2,   2317.7,2,   7.7223,    25.00,2,  -999.00,9,  -999.00,9,   3.4131
  74DI19980423,  A16N, 13456,  1,      7,      7,2,19980508,1812, 40.0017, -20.0033, 4757,   2603.4,   3.1170,  34.9610,2,  34.9620,2,    257.3,2,    257.9,2,    24.29,2,    18.90,2,     1.25,2,    0.182,2,    0.113,2,   2325.9,2,   7.7203,    25.00,2,  -999.00,9,  -999.00,9,   2.9045
  74DI19980423,  A16N, 13456,  1,      6,      6,2,19980508,1812, 40.0017, -20.0033, 4757,   3048.5,   2.7830,  34.9420,2,  34.9420,2,    250.1,2,    250.2,2,    33.60,2,    20.28,2,     1.34,2,    0.198,2,    0.101,2,   -999.0,9,-999.0000,  -999.00,9,  -999.00,9,  -999.00,9,   2.5318
  74DI19980423,  A16N, 13456,  1,      5,      5,2,19980508,1812, 40.0017, -20.0033, 4757,   3457.7,   2.6290,  34.9260,2,  34.9270,2,    244.8,2,    246.3,2,    39.63,2,    21.31,2,     1.41,2,    0.067,2,    0.028,2,   2348.6,2,   7.7153,    25.00,2,  -999.00,9,  -999.00,9,   2.3379
  74DI19980423,  A16N, 13456,  1,      4,      4,2,19980508,1812, 40.0017, -20.0033, 4757,   3867.4,   2.5650,  34.9160,2,  34.9170,2,    242.4,2,    243.5,2,    42.88,2,    21.83,2,     1.44,2,    0.067,2,    0.034,2,   2350.6,2,   7.7143,    25.00,2,  -999.00,9,  -999.00,9,   2.2300
  74DI19980423,  A16N, 13456,  1,      3,      3,2,19980508,1812, 40.0017, -20.0033, 4757,   4277.8,   2.5260,  34.9080,2,  34.9080,2,    243.0,2,    242.8,2,    45.04,2,    22.19,2,     1.47,2,    0.076,2,    0.041,2,   2353.9,2,   7.7183,    25.00,2,  -999.00,9,  -999.00,9,   2.1444
  74DI19980423,  A16N, 13456,  1,      2,      2,2,19980508,1812, 40.0017, -20.0033, 4757,   4690.0,   2.5210,  34.9020,2,  34.9020,2,    245.0,2,    242.6,2,    46.21,2,    22.23,2,     1.47,2,    0.052,2,    0.027,2,   -999.0,9,-999.0000,  -999.00,9,  -999.00,9,  -999.00,9,   2.0897
  74DI19980423,  A16N, 13456,  1,      1,      1,2,19980508,1812, 40.0017, -20.0033, 4757,   4835.7,   2.5290,  34.9010,2,  34.9010,2,    243.9,2,    243.4,2,    46.01,2,    22.00,2,     1.44,2,    0.046,2,    0.023,2,   -999.0,9,-999.0000,  -999.00,9,  -999.00,9,  -999.00,9,   2.0793
  74DI19980423,  A16N, 13457,  1,     23,     23,2,19980509, 104, 40.4983, -20.0017, 4907,      2.4,  15.0640,  35.9740,2,  35.9740,2,    254.3,6,    256.0,2,     1.44,2,     1.31,2,     0.09,2, -999.000,9, -999.000,9,   -999.0,9,-999.0000,  -999.00,9,     0.10,2,     0.01,2,  15.0636
  74DI19980423,  A16N, 13457,  1,     22,     22,2,19980509, 104, 40.4983, -20.0017, 4907,     18.7,  15.0720,  35.9740,2,  35.9740,2,    253.7,2,    256.3,2,     1.40,2,     1.30,2,     0.08,2, -999.000,9, -999.000,9,   -999.0,9,-999.0000,  -999.00,9,     0.10,2,     0.01,2,  15.0692
  74DI19980423,  A16N, 13457,  1,     21,     21,2,19980509, 104, 40.4983, -20.0017, 4907,     31.3,  15.0410,  35.9740,2,  35.9720,2,    254.6,2,    256.4,2,     1.39,2,     1.33,2,     0.09,2, -999.000,9, -999.000,9,   -999.0,9,-999.0000,  -999.00,9,     0.10,2,     0.01,2,  15.0362
  74DI19980423,  A16N, 13457,  1,     20,     20,2,19980509, 104, 40.4983, -20.0017, 4907,     56.8,  14.7630,  35.9480,2,  35.9470,2,    257.6,2,    253.8,2,     1.50,2,     2.14,2,     0.14,2, -999.000,9, -999.000,9,   -999.0,9,-999.0000,  -999.00,9,     0.08,2,     0.01,2,  14.7545
  74DI19980423,  A16N, 13457,  1,     19,     19,2,19980509, 104, 40.4983, -20.0017, 4907,     81.7,  14.5420,  35.9350,2,  35.9330,2,    249.8,2,    246.7,2,     1.60,2,     2.88,2,     0.19,2, -999.000,9, -999.000,9,   -999.0,9,-999.0000,  -999.00,9,     0.04,2,     0.02,2,  14.5298
  74DI19980423,  A16N, 13457,  1,     18,     18,2,19980509, 104, 40.4983, -20.0017, 4907,    107.8,  14.3390,  35.9020,2,  35.9010,2,    245.6,2,    245.5,2,     1.72,2,     3.61,2,     0.22,2, -999.000,9, -999.000,9,   -999.0,9,-999.0000,  -999.00,9,     0.02,2,     0.01,2,  14.3231
  74DI19980423,  A16N, 13457,  1,     17,     17,2,19980509, 104, 40.4983, -20.0017, 4907,    157.6,  13.9740,  35.8760,2,  35.8740,2,    242.4,2,    237.3,2,     2.00,2,     5.09,2,     0.30,2, -999.000,9, -999.000,9,   -999.0,9,-999.0000,  -999.00,9,     0.01,2,     0.00,2,  13.9511
  74DI19980423,  A16N, 13457,  1,     16,     16,2,19980509, 104, 40.4983, -20.0017, 4907,    207.6,  13.5320,  35.8250,2,  35.8210,2,    234.6,2,    230.4,2,     2.62,2,     7.10,2,     0.44,2, -999.000,9, -999.000,9,   -999.0,9,-999.0000,  -999.00,9,  -999.00,9,  -999.00,9,  13.5024
  74DI19980423,  A16N, 13457,  1,     15,     15,2,19980509, 104, 40.4983, -20.0017, 4907,    408.8,  11.8720,  35.6080,2,  35.6060,2,    223.3,2,    218.0,2,     4.67,2,    11.72,2,     0.70,2, -999.000,9, -999.000,9,   -999.0,9,-999.0000,  -999.00,9,  -999.00,9,  -999.00,9,  11.8182
  74DI19980423,  A16N, 13457,  1,     14,     14,2,19980509, 104, 40.4983, -20.0017, 4907,    611.0,  10.6910,  35.4870,2,  35.4860,2,    224.6,2,    210.9,2,     6.09,2,    14.28,2,     0.87,2, -999.000,9, -999.000,9,   -999.0,9,-999.0000,  -999.00,9,  -999.00,9,  -999.00,9,  10.6152
  74DI19980423,  A16N, 13457,  1,     13,     13,2,19980509, 104, 40.4983, -20.0017, 4907,    813.0,   9.8760,  35.4960,2,  35.4930,2,    188.7,2,    191.9,2,     8.79,2,    16.80,2,     1.06,2, -999.000,9, -999.000,9,   -999.0,9,-999.0000,  -999.00,9,  -999.00,9,  -999.00,9,   9.7789
  74DI19980423,  A16N, 13457,  1,     12,     12,2,19980509, 104, 40.4983, -20.0017, 4907,   1015.3,   8.7560,  35.5430,2,  35.5410,2,    188.4,2,    191.4,2,    10.83,2,    17.93,2,     1.12,2, -999.000,9, -999.000,9,   -999.0,9,-999.0000,  -999.00,9,  -999.00,9,  -999.00,9,   8.6415
  74DI19980423,  A16N, 13457,  1,     11,     11,2,19980509, 104, 40.4983, -20.0017, 4907,   1268.4,   7.4560,  35.4860,2,  35.4850,2,    210.5,2,    210.2,2,    11.43,2,    17.81,2,     1.12,2, -999.000,9, -999.000,9,   -999.0,9,-999.0000,  -999.00,9,  -999.00,9,  -999.00,9,   7.3230
  74DI19980423,  A16N, 13457,  1,     10,     10,2,19980509, 104, 40.4983, -20.0017, 4907,   1521.4,   5.5530,  35.2240,2,  35.2260,2,    241.0,2,    237.1,2,    12.02,2,    17.75,2,     1.14,2, -999.000,9, -999.000,9,   -999.0,9,-999.0000,  -999.00,9,  -999.00,9,  -999.00,9,   5.4126
  74DI19980423,  A16N, 13457,  1,      9,      9,2,19980509, 104, 40.4983, -20.0017, 4907,   1774.6,   4.2400,  35.0350,2,  35.0350,2,    256.7,2,    257.7,2,    12.73,2,    17.57,2,     1.14,2, -999.000,9, -999.000,9,   -999.0,9,-999.0000,  -999.00,9,  -999.00,9,  -999.00,9,   4.0909
  74DI19980423,  A16N, 13457,  1,      8,      8,2,19980509, 104, 40.4983, -20.0017, 4907,   2029.4,   3.8990,  35.0080,2,  35.0070,2,    259.8,2,    259.9,2,    14.52,2,    17.70,2,     1.17,2, -999.000,9, -999.000,9,   -999.0,9,-999.0000,  -999.00,9,  -999.00,9,  -999.00,9,   3.7300
  74DI19980423,  A16N, 13457,  1,      7,      7,2,19980509, 104, 40.4983, -20.0017, 4907,   2281.7,   3.4500,  34.9670,2,  34.9660,2,    261.2,2,    261.7,2,    17.64,2,    17.87,2,     1.17,2, -999.000,9, -999.000,9,   -999.0,9,-999.0000,  -999.00,9,  -999.00,9,  -999.00,9,   3.2635
  74DI19980423,  A16N, 13457,  1,      6,      6,2,19980509, 104, 40.4983, -20.0017, 4907,   2538.0,   3.1460,  34.9600,2,  34.9600,2,    257.4,2,    257.5,2,    32.84,3,    20.04,3,     1.34,3, -999.000,9, -999.000,9,   -999.0,9,-999.0000,  -999.00,9,  -999.00,9,  -999.00,9,   2.9395
  74DI19980423,  A16N, 13457,  1,      5,      5,2,19980509, 104, 40.4983, -20.0017, 4907,   3049.9,   2.8020,  34.9440,2,  34.9440,2,    248.1,2,    248.8,2,    32.99,2,    20.13,2,     1.33,2, -999.000,9, -999.000,9,   -999.0,9,-999.0000,  -999.00,9,  -999.00,9,  -999.00,9,   2.5502
  74DI19980423,  A16N, 13457,  1,      4,      4,2,19980509, 104, 40.4983, -20.0017, 4907,   3561.8,   2.6240,  34.9260,2,  34.9250,2,    241.6,2,    244.3,2,    39.98,2,    21.20,2,     1.42,2, -999.000,9, -999.000,9,   -999.0,9,-999.0000,  -999.00,9,  -999.00,9,  -999.00,9,   2.3216
  74DI19980423,  A16N, 13457,  1,      3,      3,2,19980509, 104, 40.4983, -20.0017, 4907,   4074.2,   2.5400,  34.9120,2,  34.9110,2,    240.1,2,    240.7,2,    44.11,2,    21.89,2,     1.47,2, -999.000,9, -999.000,9,   -999.0,9,-999.0000,  -999.00,9,  -999.00,9,  -999.00,9,   2.1819
  74DI19980423,  A16N, 13457,  1,      2,      2,2,19980509, 104, 40.4983, -20.0017, 4907,   4589.1,   2.5180,  34.9040,2,  34.9030,2,    243.1,2,    241.4,2,    45.96,2,    22.07,2,     1.46,2, -999.000,9, -999.000,9,   -999.0,9,-999.0000,  -999.00,9,  -999.00,9,  -999.00,9,   2.0992
  74DI19980423,  A16N, 13457,  1,      1,      1,2,19980509, 104, 40.4983, -20.0017, 4907,   4990.5,   2.5310,  34.9000,2,  34.8990,2,    245.4,6,    242.1,2,    46.06,2,    21.75,2,     1.44,2, -999.000,9, -999.000,9,   -999.0,9,-999.0000,  -999.00,9,  -999.00,9,  -999.00,9,   2.0617