BOTTLE,20221006CCHSIOCBG
EXPOCODE,SECT_ID,STNNBR,CASTNO,SAMPNO,BTLNBR,BTLNBR_FLAG_W,DATE,TIME,LATITUDE,LONGITUDE,DEPTH,CTDPRS,CTDTMP,CTDSAL,CTDSAL_FLAG_W,SALNTY,SALNTY_FLAG_W,CTDOXY,CTDOXY_FLAG_W,OXYGEN,OXYGEN_FLAG_W,SILCAT,SILCAT_FLAG_W,NITRAT,NITRAT_FLAG_W,PHSPHT,PHSPHT_FLAG_W,CFC-11,CFC-11_FLAG_W,CFC-12,CFC-12_FLAG_W,ALKALI,ALKALI_FLAG_W,PH_SWS,PH_TEMP,PH_SWS_FLAG_W,CHLORA,CHLORA_FLAG_W,PPHYTN,PPHYTN_FLAG_W,THETA
,,,,,,,,,,,METERS,DBAR,ITS-90,PSS-78,,PSS-78,,UMOL/KG,,UMOL/KG,,UMOL/KG,,UMOL/KG,,UMOL/KG,,PMOL/KG,,PMOL/KG,,UMOL/KG,,,DEGC,,UG/L,,UG/L,,DEGC
  74DI19980423,  A16N, 13417,  1,     24,     24,2,19980426,1554, 21.0000, -21.0017, 4158,      2.3,  21.3110,  36.2340,2,  36.2360,2,   -999.0,9,    243.7,2,     0.47,2,     0.00,2,     0.14,2,    2.061,3,    1.722,3,   2384.9,2,   8.0472,    25.00,2,     0.75,2,     0.07,2,  21.3106
  74DI19980423,  A16N, 13417,  1,     23,     23,2,19980426,1554, 21.0000, -21.0017, 4158,     15.6,  21.2540,  36.2220,2,  36.2220,2,   -999.0,9,    244.1,2,     0.44,2,     0.00,2,     0.17,2,    1.796,3,    1.580,3,   2385.2,2,   8.0462,    25.00,2,     0.99,2,     0.04,2,  21.2510
  74DI19980423,  A16N, 13417,  1,     22,     22,2,19980426,1554, 21.0000, -21.0017, 4158,     25.0,  21.2070,  36.2350,2,  36.2370,2,   -999.0,9,    240.8,2,     0.44,2,     0.00,2,     0.20,2,    1.925,3,    1.476,3,   2389.6,2,   8.0432,    25.00,2,     1.07,2,     0.10,2,  21.2022
  74DI19980423,  A16N, 13417,  1,     21,     21,2,19980426,1554, 21.0000, -21.0017, 4158,     44.9,  21.1810,  36.2610,2,  36.2610,2,   -999.0,9,    232.3,2,     0.52,2,     0.31,2,     0.24,2,    1.543,3,    1.390,3,   2387.8,2,   8.0342,    25.00,2,     0.62,2,     0.03,2,  21.1723
  74DI19980423,  A16N, 13417,  1,     20,     20,2,19980426,1554, 21.0000, -21.0017, 4158,     85.1,  18.1730,  36.0320,2,  36.0310,2,   -999.0,9,     81.8,2,     4.45,2,    18.92,2,     1.28,2, -999.000,9, -999.000,9,   2359.4,2,   7.7292,    25.00,2,     0.01,2,     0.00,2,  18.1582
  74DI19980423,  A16N, 13417,  1,     19,     19,2,19980426,1554, 21.0000, -21.0017, 4158,    124.9,  18.4000,  36.6100,2,  36.6100,2,   -999.0,9,    168.9,2,     2.30,2,     7.07,2,     0.28,2,    1.742,3,    1.358,3,   -999.0,9,-999.0000,  -999.00,9,     0.01,2,     0.00,2,  18.3780
  74DI19980423,  A16N, 13417,  1,     18,     18,2,19980426,1554, 21.0000, -21.0017, 4158,    165.7,  16.6170,  36.2220,2,  36.2230,2,   -999.0,9,    120.7,2,     4.79,2,    15.20,2,     0.99,2,    1.712,3,    1.282,3,   2371.8,2,   7.7952,    25.00,2,  -999.00,9,  -999.00,9,  16.5899
  74DI19980423,  A16N, 13417,  1,     17,     17,2,19980426,1554, 21.0000, -21.0017, 4158,    245.0,  15.3960,  36.1180,2,  36.1160,2,   -999.0,9,    148.7,2,     4.19,2,    13.33,2,     0.87,2, -999.000,9, -999.000,9,   2369.2,2,   7.8242,    25.00,2,  -999.00,9,  -999.00,9,  15.3578
  74DI19980423,  A16N, 13417,  1,     16,     16,2,19980426,1554, 21.0000, -21.0017, 4158,    326.9,  13.8230,  35.8780,2,  35.8800,2,   -999.0,9,    139.6,2,     5.82,2,    16.96,2,     1.13,2,    1.726,3,    1.061,3,   2360.9,2,   7.7733,    25.00,2,  -999.00,9,  -999.00,9,  13.7756
  74DI19980423,  A16N, 13417,  1,     15,     15,2,19980426,1554, 21.0000, -21.0017, 4158,    506.9,  10.9300,  35.4430,2,  35.4430,2,   -999.0,9,    105.8,2,    11.36,2,    25.85,2,     1.82,2,    0.019,3,    0.449,2,   2337.6,2,   7.6503,    25.00,2,  -999.00,9,  -999.00,9,  10.8665
  74DI19980423,  A16N, 13417,  1,     14,     14,2,19980426,1554, 21.0000, -21.0017, 4158,    758.3,   7.7180,  35.0440,2,  35.0430,2,   -999.0,9,    101.6,2,    20.18,2,    31.64,2,     2.37,2,    0.104,2,    0.051,2,   2327.8,2,   7.5693,    25.00,2,  -999.00,9,  -999.00,9,   7.6400
  74DI19980423,  A16N, 13417,  1,     13,     13,2,19980426,1554, 21.0000, -21.0017, 4158,    960.5,   6.6960,  35.0250,2,  35.0250,2,   -999.0,9,    129.7,2,    21.75,2,    29.60,2,     2.27,2,    0.072,2,    0.034,2,   -999.0,9,-999.0000,  -999.00,9,  -999.00,9,  -999.00,9,   6.6032
  74DI19980423,  A16N, 13417,  1,     12,     12,2,19980426,1554, 21.0000, -21.0017, 4158,   1112.4,   6.2400,  35.0700,2,  35.0690,2,   -999.0,9,    150.7,2,    21.62,2,    27.43,2,     2.11,2,    0.063,2,    0.032,2,   2325.9,2,   7.6303,    25.00,2,  -999.00,9,  -999.00,9,   6.1351
  74DI19980423,  A16N, 13417,  1,     11,     11,2,19980426,1554, 21.0000, -21.0017, 4158,   1416.8,   5.2120,  35.0870,2,  35.0880,2,   -999.0,9,    184.1,2,    22.20,2,    24.43,2,     1.90,2,    0.044,2,    0.020,2,   2335.8,2,   7.6683,    25.00,2,  -999.00,9,  -999.00,9,   5.0862
  74DI19980423,  A16N, 13417,  1,     10,     10,2,19980426,1554, 21.0000, -21.0017, 4158,   1568.5,   4.6540,  35.0550,2,  35.0560,2,   -999.0,9,    197.4,2,    23.37,2,    23.58,2,     1.84,2,    0.019,2,    0.010,2,   2335.6,2,   7.6763,    25.00,2,  -999.00,9,  -999.00,9,   4.5196
  74DI19980423,  A16N, 13417,  1,      9,      9,2,19980426,1554, 21.0000, -21.0017, 4158,   1924.4,   3.9000,  35.0180,2,  35.0190,2,   -999.0,9,    221.0,2,    25.19,2,    22.01,2,     1.72,2,    0.019,2,    0.010,2,   2337.8,2,   7.7003,    25.00,2,  -999.00,9,  -999.00,9,   3.7411
  74DI19980423,  A16N, 13417,  1,      8,      8,2,19980426,1554, 21.0000, -21.0017, 4158,   2125.9,   3.5910,  34.9980,2,  34.9990,2,   -999.0,9,    227.6,2,    27.38,2,    21.77,2,     1.69,2,    0.019,2,    0.010,2,   2338.0,2,   7.7063,    25.00,2,  -999.00,9,  -999.00,9,   3.4173
  74DI19980423,  A16N, 13417,  1,      7,      7,2,19980426,1554, 21.0000, -21.0017, 4158,   2329.5,   3.3390,  34.9800,2,  34.9800,2,   -999.0,9,    229.8,2,    29.89,2,    21.62,2,     1.66,2,    0.019,2,    0.010,2,   2340.9,2,   7.7093,    25.00,2,  -999.00,9,  -999.00,9,   3.1496
  74DI19980423,  A16N, 13417,  1,      6,      6,2,19980426,1554, 21.0000, -21.0017, 4158,   2634.2,   3.0530,  34.9570,2,  34.9570,2,   -999.0,9,    233.7,2,    33.38,2,    21.59,2,     1.48,2,    0.019,2,    0.010,2,   2341.9,2,   7.7103,    25.00,2,  -999.00,9,  -999.00,9,   2.8386
  74DI19980423,  A16N, 13417,  1,      5,      5,2,19980426,1554, 21.0000, -21.0017, 4158,   3039.9,   2.7810,  34.9380,2,  34.9370,2,   -999.0,9,    237.5,2,    37.39,2,    21.60,2,     1.47,2,    0.019,2,    0.010,2,   2351.3,2,   7.7133,    25.00,2,  -999.00,9,  -999.00,9,   2.5308
  74DI19980423,  A16N, 13417,  1,      4,      4,2,19980426,1554, 21.0000, -21.0017, 4158,   3443.4,   2.5460,  34.9170,2,  34.9160,2,   -999.0,9,    234.6,2,    43.57,2,    22.34,2,     1.54,2,    0.019,2,    0.010,2,   -999.0,9,-999.0000,  -999.00,9,  -999.00,9,  -999.00,9,   2.2585
  74DI19980423,  A16N, 13417,  1,      3,      3,2,19980426,1554, 21.0000, -21.0017, 4158,   3852.0,   2.3980,  34.9000,2,  34.9000,2,   -999.0,9,    240.3,2,    46.06,2,    22.19,2,     1.51,2,    0.019,2,    0.010,2,   2364.0,2,   7.7143,    25.00,2,  -999.00,9,  -999.00,9,   2.0693
  74DI19980423,  A16N, 13417,  1,      2,      2,2,19980426,1554, 21.0000, -21.0017, 4158,   4057.7,   2.3710,  34.8950,2,  34.9380,0,   -999.0,9,    240.2,2,    47.28,2,    22.52,2,     1.46,2,    0.019,2,    0.010,2,   2370.1,2,   7.7193,    25.00,2,  -999.00,9,  -999.00,9,   2.0197
  74DI19980423,  A16N, 13417,  1,      1,      1,2,19980426,1554, 21.0000, -21.0017, 4158,   4214.8,   2.3830,  34.8940,2,  34.8940,2,   -999.0,9,    239.7,2,    46.75,2,    22.31,2,     1.42,2,    0.019,2,    0.010,2,   2363.8,2,   7.7183,    25.00,2,  -999.00,9,  -999.00,9,   2.0131
  74DI19980423,  A16N, 13419,  1,     21,     21,2,19980427, 207, 21.5033, -21.0633, 4273,      2.9,  21.4010,  36.3060,2,  36.3080,2,    242.7,6,    238.1,2,     0.53,2,     0.00,2,     0.08,2, -999.000,9, -999.000,9,   -999.0,9,-999.0000,  -999.00,9,     0.68,2,     0.03,2,  21.4004
  74DI19980423,  A16N, 13419,  1,     20,     20,2,19980427, 207, 21.5033, -21.0633, 4273,     15.4,  21.4030,  36.3070,2,  36.3070,2,    235.7,2,    238.4,2,     0.53,2,     0.00,2,     0.09,2, -999.000,9, -999.000,9,   -999.0,9,-999.0000,  -999.00,9,     0.62,2,     0.03,2,  21.4000
  74DI19980423,  A16N, 13419,  1,     19,     19,2,19980427, 207, 21.5033, -21.0633, 4273,     27.8,  21.4170,  36.3110,2,  36.3190,2,    239.5,2,    238.6,2,     0.53,2,     0.00,2,     0.11,2, -999.000,9, -999.000,9,   -999.0,9,-999.0000,  -999.00,9,     0.67,2,     0.03,2,  21.4116
  74DI19980423,  A16N, 13419,  1,     18,     18,2,19980427, 207, 21.5033, -21.0633, 4273,     53.6,  21.3210,  36.5400,2,  36.5490,2,    206.8,2,    208.9,2,     0.72,2,     0.22,2,     0.22,2, -999.000,9, -999.000,9,   -999.0,9,-999.0000,  -999.00,9,     0.75,2,     0.02,2,  21.3106
  74DI19980423,  A16N, 13419,  1,     17,     17,2,19980427, 207, 21.5033, -21.0633, 4273,     78.0,  20.6900,  36.7370,2,  36.6720,2,    192.2,2,    164.0,2,     1.41,2,     4.98,2,     0.49,2, -999.000,9, -999.000,9,   -999.0,9,-999.0000,  -999.00,9,     0.05,2,     0.00,2,  20.6751
  74DI19980423,  A16N, 13419,  1,     16,     16,2,19980427, 207, 21.5033, -21.0633, 4273,    104.0,  18.3610,  36.3150,2,  36.3010,2,     96.7,2,    113.6,2,     4.04,2,    15.06,2,     1.02,2, -999.000,9, -999.000,9,   -999.0,9,-999.0000,  -999.00,9,     0.02,2,     0.00,2,  18.3428
  74DI19980423,  A16N, 13419,  1,     15,     15,2,19980427, 207, 21.5033, -21.0633, 4273,    155.8,  16.2200,  36.0970,2,  36.0970,2,    100.9,2,     96.5,2,     5.50,2,    18.31,2,     1.19,2, -999.000,9, -999.000,9,   -999.0,9,-999.0000,  -999.00,9,     0.03,2,     0.00,2,  16.1949
  74DI19980423,  A16N, 13419,  1,     14,     14,2,19980427, 207, 21.5033, -21.0633, 4273,    206.3,  15.6960,  36.0870,2,  36.0850,2,    117.8,2,    118.1,2,     5.17,2,    16.69,2,     1.04,2, -999.000,9, -999.000,9,   -999.0,9,-999.0000,  -999.00,9,  -999.00,9,  -999.00,9,  15.6635
  74DI19980423,  A16N, 13419,  1,     13,     13,2,19980427, 207, 21.5033, -21.0633, 4273,    410.4,  12.5750,  35.6850,2,  35.6830,2,    136.7,2,    129.6,2,     7.60,2,    20.16,2,     1.29,2, -999.000,9, -999.000,9,   -999.0,9,-999.0000,  -999.00,9,  -999.00,9,  -999.00,9,  12.5189
  74DI19980423,  A16N, 13419,  1,     12,     12,2,19980427, 207, 21.5033, -21.0633, 4273,    615.4,   9.3650,  35.2360,2,  35.2330,2,     99.7,2,     97.4,2,    15.86,2,    29.40,2,     2.02,2, -999.000,9, -999.000,9,   -999.0,9,-999.0000,  -999.00,9,  -999.00,9,  -999.00,9,   9.2947
  74DI19980423,  A16N, 13419,  1,     11,     11,2,19980427, 207, 21.5033, -21.0633, 4273,    819.8,   7.2930,  35.0090,2,  35.0070,2,    106.2,2,    106.4,2,    21.43,2,    31.65,2,     2.24,2, -999.000,9, -999.000,9,   -999.0,9,-999.0000,  -999.00,9,  -999.00,9,  -999.00,9,   7.2110
  74DI19980423,  A16N, 13419,  1,     10,     10,2,19980427, 207, 21.5033, -21.0633, 4273,   1024.6,   6.3530,  34.9940,2,  34.9960,2,    136.2,2,    132.0,2,    22.82,2,    29.93,2,     2.14,2, -999.000,9, -999.000,9,   -999.0,9,-999.0000,  -999.00,9,  -999.00,9,  -999.00,9,   6.2562
  74DI19980423,  A16N, 13419,  1,      9,      9,2,19980427, 207, 21.5033, -21.0633, 4273,   1281.0,   5.8140,  35.1110,2,  35.1110,2,    173.4,2,    173.4,2,    21.07,2,    25.20,2,     1.81,2, -999.000,9, -999.000,9,   -999.0,9,-999.0000,  -999.00,9,  -999.00,9,  -999.00,9,   5.6957
  74DI19980423,  A16N, 13419,  1,      8,      8,2,19980427, 207, 21.5033, -21.0633, 4273,   1538.2,   4.8960,  35.0850,2,  35.0870,2,    197.3,2,    198.6,2,    22.27,2,    23.48,2,     1.67,2, -999.000,9, -999.000,9,   -999.0,9,-999.0000,  -999.00,9,  -999.00,9,  -999.00,9,   4.7617
  74DI19980423,  A16N, 13419,  1,      7,      7,2,19980427, 207, 21.5033, -21.0633, 4273,   1796.0,   4.1470,  35.0360,2,  35.0360,2,    214.7,2,    216.4,2,    24.36,2,    22.39,2,     1.62,2, -999.000,9, -999.000,9,   -999.0,9,-999.0000,  -999.00,9,  -999.00,9,  -999.00,9,   3.9970
  74DI19980423,  A16N, 13419,  1,      6,      6,2,19980427, 207, 21.5033, -21.0633, 4273,   2053.9,   3.6790,  35.0050,2,  35.0050,2,    225.0,2,    226.6,2,    27.09,2,    21.82,2,     1.58,2, -999.000,9, -999.000,9,   -999.0,9,-999.0000,  -999.00,9,  -999.00,9,  -999.00,9,   3.5109
  74DI19980423,  A16N, 13419,  1,      5,      5,2,19980427, 207, 21.5033, -21.0633, 4273,   2311.3,   3.3610,  34.9830,2,  34.9820,2,    230.2,2,    231.2,2,    29.67,2,    21.63,2,     1.54,2, -999.000,9, -999.000,9,   -999.0,9,-999.0000,  -999.00,9,  -999.00,9,  -999.00,9,   3.1730
  74DI19980423,  A16N, 13419,  1,      4,      4,2,19980427, 207, 21.5033, -21.0633, 4273,   2569.7,   3.1090,  34.9630,2,  34.9630,2,    233.6,2,    234.6,2,    31.92,2,    21.37,2,     1.52,2, -999.000,9, -999.000,9,   -999.0,9,-999.0000,  -999.00,9,  -999.00,9,  -999.00,9,   2.9000
  74DI19980423,  A16N, 13419,  1,      3,      3,4,19980427, 207, 21.5033, -21.0633, 4273,   3605.4,   2.4630,  34.9080,2,  34.9080,2,    238.4,2,    238.2,2,    44.65,2,    22.28,2,     1.61,2, -999.000,9, -999.000,9,   -999.0,9,-999.0000,  -999.00,9,  -999.00,9,  -999.00,9,   2.1600
  74DI19980423,  A16N, 13419,  1,      2,      2,2,19980427, 207, 21.5033, -21.0633, 4273,   4124.2,   2.3620,  34.8930,2,  34.8930,2,    244.7,2,    242.9,2,    46.84,2,    22.37,2,     1.59,2, -999.000,9, -999.000,9,   -999.0,9,-999.0000,  -999.00,9,  -999.00,9,  -999.00,9,   2.0033
  74DI19980423,  A16N, 13419,  1,      1,      1,2,19980427, 207, 21.5033, -21.0633, 4273,   4331.7,   2.3860,  34.8930,2,  34.8930,2,    243.3,2,    243.5,2,    46.08,2,    22.20,2,     1.53,2, -999.000,9, -999.000,9,   -999.0,9,-999.0000,  -999.00,9,  -999.00,9,  -999.00,9,   2.0023