BOTTLE,20221006CCHSIOCBG
EXPOCODE,SECT_ID,STNNBR,CASTNO,SAMPNO,BTLNBR,BTLNBR_FLAG_W,DATE,TIME,LATITUDE,LONGITUDE,DEPTH,CTDPRS,CTDTMP,CTDSAL,CTDSAL_FLAG_W,SALNTY,SALNTY_FLAG_W,CTDOXY,CTDOXY_FLAG_W,OXYGEN,OXYGEN_FLAG_W,SILCAT,SILCAT_FLAG_W,NITRAT,NITRAT_FLAG_W,PHSPHT,PHSPHT_FLAG_W,CFC-11,CFC-11_FLAG_W,CFC-12,CFC-12_FLAG_W,ALKALI,ALKALI_FLAG_W,PH_SWS,PH_TEMP,PH_SWS_FLAG_W,CHLORA,CHLORA_FLAG_W,PPHYTN,PPHYTN_FLAG_W,THETA
,,,,,,,,,,,METERS,DBAR,ITS-90,PSS-78,,PSS-78,,UMOL/KG,,UMOL/KG,,UMOL/KG,,UMOL/KG,,UMOL/KG,,PMOL/KG,,PMOL/KG,,UMOL/KG,,,DEGC,,UG/L,,UG/L,,DEGC
  74DI19980423,  A16N, 13436,  1,     24,     24,2,19980502, 803, 29.9917, -21.3267, 4915,      6.2,  19.5730,  36.9100,2,  36.9100,2,    229.4,2,    226.7,2,     0.59,2,     0.11,2,     0.00,2,    2.883,3,    1.526,3,   2425.5,2,   8.0092,    25.00,2,     0.05,2,     0.02,2,  19.5719
  74DI19980423,  A16N, 13436,  1,     23,     23,2,19980502, 803, 29.9917, -21.3267, 4915,     11.7,  19.5790,  36.9090,2,  36.9100,2,    224.5,2,    226.7,2,     0.64,2,     0.06,2,     0.03,2,    2.929,3,    1.547,3,   2434.1,2,   8.0082,    25.00,2,     0.04,2,     0.03,2,  19.5769
  74DI19980423,  A16N, 13436,  1,     22,     22,2,19980502, 803, 29.9917, -21.3267, 4915,     19.2,  19.5770,  36.9090,2,  36.9100,2,    228.4,2,    228.4,2,     0.63,2,     0.03,2,     0.00,2,    3.095,3,    1.024,3,   2437.5,2,   8.0102,    25.00,2,     0.05,2,     0.02,2,  19.5735
  74DI19980423,  A16N, 13436,  1,     21,     21,2,19980502, 803, 29.9917, -21.3267, 4915,     34.9,  19.5840,  36.9100,2,  36.9100,2,    226.1,2,    227.1,0,     0.59,2,     0.00,2,     0.00,2,    3.016,3,    1.522,3,   2430.8,2,   8.0112,    25.00,2,     0.05,2,     0.02,2,  19.5776
  74DI19980423,  A16N, 13436,  1,     20,     20,2,19980502, 803, 29.9917, -21.3267, 4915,     66.0,  19.5900,  36.9110,2,  36.9100,2,    226.0,2,    227.7,2,     0.60,2,     0.08,2,     0.00,2,    2.677,3,    1.061,3,   2422.0,2,   8.0082,    25.00,2,     0.05,2,     0.02,2,  19.5779
  74DI19980423,  A16N, 13436,  1,     19,     19,2,19980502, 803, 29.9917, -21.3267, 4915,     96.1,  19.5950,  36.9120,2,  36.9110,2,    227.1,2,    227.1,2,     0.57,2,     0.00,2,     0.00,2,    3.195,3,    1.552,3,   2422.3,2,   8.0112,    25.00,2,     0.04,2,     0.02,2,  19.5773
  74DI19980423,  A16N, 13436,  1,     18,     18,2,19980502, 803, 29.9917, -21.3267, 4915,    116.2,  19.5970,  36.9120,2,  36.9110,2,    228.2,2,    227.2,2,     0.59,2,     0.01,2,     0.00,2,    2.032,3,    1.309,3,   2424.4,2,   8.0122,    25.00,2,     0.04,2,     0.03,2,  19.5756
  74DI19980423,  A16N, 13436,  1,     17,     17,2,19980502, 803, 29.9917, -21.3267, 4915,    146.9,  17.7960,  36.5460,2,  36.5470,2,    215.0,2,    209.2,2,     0.99,2,     2.45,2,     0.13,2,    3.206,3,    1.547,3,   2398.0,2,   7.9632,    25.00,2,  -999.00,9,  -999.00,9,  17.7707
  74DI19980423,  A16N, 13436,  1,     16,     16,2,19980502, 803, 29.9917, -21.3267, 4915,    188.1,  16.7580,  36.3810,2,  36.3800,2,    203.7,2,    203.8,2,     1.46,2,     4.69,2,     0.27,2,    2.673,2,    0.010,3,   2389.4,2,   7.9342,    25.00,2,  -999.00,9,  -999.00,9,  16.7270
  74DI19980423,  A16N, 13436,  1,     15,     15,2,19980502, 803, 29.9917, -21.3267, 4915,    229.0,  15.8740,  36.2220,2,  36.2220,2,    195.6,2,    201.8,2,     2.09,2,     6.60,2,     0.40,2,    2.769,2,    1.313,2,   2380.7,2,   7.9132,    25.00,2,  -999.00,9,  -999.00,9,  15.8376
  74DI19980423,  A16N, 13436,  1,     14,     14,2,19980502, 803, 29.9917, -21.3267, 4915,    362.2,  14.0050,  35.9530,2,  35.9530,2,    197.1,2,    197.8,2,     3.35,2,     9.82,2,     0.62,2,    2.877,2,    1.365,2,   2365.5,2,   7.8582,    25.00,2,  -999.00,9,  -999.00,9,  13.9519
  74DI19980423,  A16N, 13436,  1,     13,     13,2,19980502, 803, 29.9917, -21.3267, 4915,    514.3,  11.9720,  35.6480,2,  35.6480,2,    194.0,2,    195.8,2,     5.39,2,    13.83,2,     0.90,2,    2.699,2,    1.299,2,   2349.7,2,   7.8053,    25.00,2,  -999.00,9,  -999.00,9,  11.9037
  74DI19980423,  A16N, 13436,  1,     12,     12,2,19980502, 803, 29.9917, -21.3267, 4915,    718.4,  10.3480,  35.5000,2,  35.4990,2,    175.4,2,    173.4,2,     9.28,2,    18.50,2,     1.24,2,    1.367,2,    0.698,2,   -999.0,9,-999.0000,  -999.00,9,  -999.00,9,  -999.00,9,  10.2601
  74DI19980423,  A16N, 13436,  1,     11,     11,2,19980502, 803, 29.9917, -21.3267, 4915,    922.6,   8.9110,  35.4680,2,  35.5000,2,    167.6,2,    165.5,2,    13.24,2,    21.08,2,     1.46,2,    0.827,2,    0.422,2,   2348.3,2,   7.7173,    25.00,2,  -999.00,9,  -999.00,9,   8.8065
  74DI19980423,  A16N, 13436,  1,     10,     10,2,19980502, 803, 29.9917, -21.3267, 4915,   1224.8,   7.7460,  35.5230,2,  35.5240,2,    190.2,2,    190.6,2,    13.91,2,    19.49,2,     1.34,2,    0.545,2,    0.278,2,   2357.7,2,   7.7343,    25.00,2,  -999.00,9,  -999.00,9,   7.6153
  74DI19980423,  A16N, 13436,  1,      9,      9,2,19980502, 803, 29.9917, -21.3267, 4915,   1633.1,   5.5520,  35.2720,2,  35.2720,2,    224.1,2,    224.4,2,    15.99,2,    18.87,2,     1.33,2,    0.479,2,    0.244,2,   2344.0,2,   7.7353,    25.00,2,  -999.00,9,  -999.00,9,   5.4000
  74DI19980423,  A16N, 13436,  1,      8,      8,2,19980502, 803, 29.9917, -21.3267, 4915,   1842.3,   4.7200,  35.1670,2,  35.1670,2,    232.9,2,    232.7,2,    18.51,2,    19.11,2,     1.36,2,    0.098,2,    0.051,2,   2339.7,2,   7.7303,    25.00,2,  -999.00,9,  -999.00,9,   4.5574
  74DI19980423,  A16N, 13436,  1,      7,      7,2,19980502, 803, 29.9917, -21.3267, 4915,   2261.5,   3.6380,  35.0330,2,  35.0340,2,    239.0,2,    240.0,2,    25.50,2,    20.04,2,     1.45,2,    0.058,2,    0.027,2,   2340.2,2,   7.7273,    25.00,2,  -999.00,9,  -999.00,9,   3.4501
  74DI19980423,  A16N, 13436,  1,      6,      6,2,19980502, 803, 29.9917, -21.3267, 4915,   2832.2,   2.9040,  34.9570,2,  34.9580,2,    243.7,2,    244.3,2,    32.85,2,    20.33,2,     1.48,2,    0.041,2,    0.020,2,   2348.6,2,   7.7253,    25.00,2,  -999.00,9,  -999.00,9,   2.6725
  74DI19980423,  A16N, 13436,  1,      5,      5,2,19980502, 803, 29.9917, -21.3267, 4915,   3345.6,   2.5950,  34.9240,2,  34.9250,2,    242.0,2,    243.5,2,    39.25,2,    21.26,2,     1.55,2,    0.030,2,    0.016,2,   2352.3,2,   7.7293,    25.00,2,  -999.00,9,  -999.00,9,   2.3168
  74DI19980423,  A16N, 13436,  1,      4,      4,2,19980502, 803, 29.9917, -21.3267, 4915,   3867.0,   2.4410,  34.9040,2,  34.9040,2,    243.5,2,    243.7,2,    43.23,2,    21.62,2,     1.58,2,    0.019,2,    0.010,3,   2356.1,2,   7.7203,    25.00,2,  -999.00,9,  -999.00,9,   2.1094
  74DI19980423,  A16N, 13436,  1,      3,      3,2,19980502, 803, 29.9917, -21.3267, 4915,   4387.4,   2.3900,  34.8930,2,  34.8940,2,    244.7,2,    244.6,2,    45.63,2,    21.77,2,     1.58,2,    0.019,2,    0.010,2,   2356.9,2,   7.7223,    25.00,2,  -999.00,9,  -999.00,9,   1.9995
  74DI19980423,  A16N, 13436,  1,      2,      2,2,19980502, 803, 29.9917, -21.3267, 4915,   4899.8,   2.4210,  34.8900,2,  34.8910,2,    245.5,2,    243.9,2,    46.39,2,    21.96,2,     1.58,2,    0.019,2,    0.010,2,   2360.7,2,   7.7213,    25.00,2,  -999.00,9,  -999.00,9,   1.9668
  74DI19980423,  A16N, 13436,  1,      1,      1,2,19980502, 803, 29.9917, -21.3267, 4915,   4999.3,   2.4310,  34.8900,2,  34.8900,2,    245.5,2,    243.8,2,    45.91,2,    21.69,2,     1.52,2,    0.019,2,    0.010,2,   2358.5,2,   7.7183,    25.00,2,  -999.00,9,  -999.00,9,   1.9639
  74DI19980423,  A16N, 13437,  1,     24,     24,2,19980502,1613, 30.5033, -21.3333, 4927,      2.6,  19.6390,  36.8970,2,  36.8980,2,    234.2,6,    228.5,2,     0.60,2,     0.06,3,     0.01,2, -999.000,9, -999.000,9,   -999.0,9,-999.0000,  -999.00,9,     0.04,2,     0.02,2,  19.6385
  74DI19980423,  A16N, 13437,  1,     23,     23,2,19980502,1613, 30.5033, -21.3333, 4927,     16.9,  19.6380,  36.8990,2,  36.8980,2,    229.9,2,    229.3,2,     0.64,2,     0.00,2,     0.00,2, -999.000,9, -999.000,9,   -999.0,9,-999.0000,  -999.00,9,     0.03,2,     0.02,2,  19.6349
  74DI19980423,  A16N, 13437,  1,     22,     22,2,19980502,1613, 30.5033, -21.3333, 4927,     26.4,  19.5910,  36.8960,2,  36.8950,2,    227.4,2,    230.0,2,     0.57,2,     0.00,2,     0.00,2, -999.000,9, -999.000,9,   -999.0,9,-999.0000,  -999.00,9,     0.03,2,     0.02,2,  19.5862
  74DI19980423,  A16N, 13437,  1,     21,     21,2,19980502,1613, 30.5033, -21.3333, 4927,     47.4,  19.5750,  36.8960,2,  36.8950,2,    231.5,2,    228.2,2,     0.58,2,     0.00,2,     0.04,2, -999.000,9, -999.000,9,   -999.0,9,-999.0000,  -999.00,9,     0.07,2,     0.01,2,  19.5663
  74DI19980423,  A16N, 13437,  1,     20,     20,2,19980502,1613, 30.5033, -21.3333, 4927,     86.9,  19.5710,  36.8950,2,  36.8940,2,    225.5,2,    228.8,2,     0.38,2,     0.00,2,     0.06,2, -999.000,9, -999.000,9,   -999.0,9,-999.0000,  -999.00,9,     0.06,2,     0.01,2,  19.5550
  74DI19980423,  A16N, 13437,  1,     19,     19,2,19980502,1613, 30.5033, -21.3333, 4927,    126.2,  19.4680,  36.8710,2,  36.8460,2,    224.5,2,    227.1,2,     0.46,2,     0.27,2,     0.09,2, -999.000,9, -999.000,9,   -999.0,9,-999.0000,  -999.00,9,     0.05,2,     0.03,2,  19.4449
  74DI19980423,  A16N, 13437,  1,     18,     18,2,19980502,1613, 30.5033, -21.3333, 4927,    166.7,  17.0020,  36.4170,2,  36.4150,2,    208.2,2,    197.3,2,     1.11,2,     4.07,2,     0.30,2, -999.000,9, -999.000,9,   -999.0,9,-999.0000,  -999.00,9,     0.02,2,     0.01,2,  16.9742
  74DI19980423,  A16N, 13437,  1,     17,     17,2,19980502,1613, 30.5033, -21.3333, 4927,    247.5,  15.5300,  36.1640,2,  36.1590,2,    198.9,2,    200.7,0,     2.42,2,     7.49,2,     0.51,2, -999.000,9, -999.000,9,   -999.0,9,-999.0000,  -999.00,9,  -999.00,9,  -999.00,9,  15.4912
  74DI19980423,  A16N, 13437,  1,     16,     16,2,19980502,1613, 30.5033, -21.3333, 4927,    327.8,  14.2920,  35.9850,2,  35.9850,2,    196.0,2,    200.4,2,     3.15,2,     9.36,2,     0.66,2, -999.000,9, -999.000,9,   -999.0,9,-999.0000,  -999.00,9,  -999.00,9,  -999.00,9,  14.2433
  74DI19980423,  A16N, 13437,  1,     15,     15,2,19980502,1613, 30.5033, -21.3333, 4927,    509.7,  12.1560,  35.6730,2,  35.6720,2,    198.7,2,    197.5,2,     4.91,2,    13.40,2,     0.92,2, -999.000,9, -999.000,9,   -999.0,9,-999.0000,  -999.00,9,  -999.00,9,  -999.00,9,  12.0876
  74DI19980423,  A16N, 13437,  1,     14,     14,2,19980502,1613, 30.5033, -21.3333, 4927,    761.0,  10.1700,  35.5240,2,  35.5230,2,    173.0,2,    169.7,2,    10.06,2,    19.43,2,     1.37,2, -999.000,9, -999.000,9,   -999.0,9,-999.0000,  -999.00,9,  -999.00,9,  -999.00,9,  10.0777
  74DI19980423,  A16N, 13437,  1,     13,     13,2,19980502,1613, 30.5033, -21.3333, 4927,    963.3,   9.1640,  35.5730,2,  35.5730,2,    168.3,2,    168.9,2,    12.80,2,    20.28,2,     1.47,2, -999.000,9, -999.000,9,   -999.0,9,-999.0000,  -999.00,9,  -999.00,9,  -999.00,9,   9.0528
  74DI19980423,  A16N, 13437,  1,     12,     12,2,19980502,1613, 30.5033, -21.3333, 4927,   1114.6,   8.3580,  35.5490,2,  35.5490,2,    179.0,2,    179.7,2,    13.69,2,    21.02,2,     1.46,2, -999.000,9, -999.000,9,   -999.0,9,-999.0000,  -999.00,9,  -999.00,9,  -999.00,9,   8.2348
  74DI19980423,  A16N, 13437,  1,     11,     11,2,19980502,1613, 30.5033, -21.3333, 4927,   1418.7,   6.8590,  35.4430,2,  35.4440,2,    208.9,2,    206.5,2,    14.43,2,    19.10,2,     1.40,2, -999.000,9, -999.000,9,   -999.0,9,-999.0000,  -999.00,9,  -999.00,9,  -999.00,9,   6.7151
  74DI19980423,  A16N, 13437,  1,     10,     10,2,19980502,1613, 30.5033, -21.3333, 4927,   1570.3,   5.9910,  35.3310,2,  35.3330,2,    220.1,2,    221.6,2,    15.13,2,    18.78,2,     1.38,2, -999.000,9, -999.000,9,   -999.0,9,-999.0000,  -999.00,9,  -999.00,9,  -999.00,9,   5.8403
  74DI19980423,  A16N, 13437,  1,      9,      9,2,19980502,1613, 30.5033, -21.3333, 4927,   1922.1,   4.6570,  35.1640,2,  35.1650,2,    236.4,2,    234.6,2,    18.99,2,    19.17,2,     1.43,2, -999.000,9, -999.000,9,   -999.0,9,-999.0000,  -999.00,9,  -999.00,9,  -999.00,9,   4.4872
  74DI19980423,  A16N, 13437,  1,      8,      8,2,19980502,1613, 30.5033, -21.3333, 4927,   2125.9,   4.0660,  35.0870,2,  35.0870,2,    237.3,2,    240.4,2,    21.91,2,    19.54,2,     1.46,2, -999.000,9, -999.000,9,   -999.0,9,-999.0000,  -999.00,9,  -999.00,9,  -999.00,9,   3.8846
  74DI19980423,  A16N, 13437,  1,      7,      7,2,19980502,1613, 30.5033, -21.3333, 4927,   2636.9,   3.1190,  34.9780,2,  34.9790,2,    242.7,2,    245.6,2,    29.38,2,    20.13,2,     1.53,2, -999.000,9, -999.000,9,   -999.0,9,-999.0000,  -999.00,9,  -999.00,9,  -999.00,9,   2.9030
  74DI19980423,  A16N, 13437,  1,      6,      6,2,19980502,1613, 30.5033, -21.3333, 4927,   3042.1,   2.7630,  34.9430,2,  34.9420,2,    244.3,2,    245.8,2,    35.28,2,    20.72,2,     1.56,2, -999.000,9, -999.000,9,   -999.0,9,-999.0000,  -999.00,9,  -999.00,9,  -999.00,9,   2.5129
  74DI19980423,  A16N, 13437,  1,      5,      5,2,19980502,1613, 30.5033, -21.3333, 4927,   3448.7,   2.5730,  34.9210,2,  34.9220,2,    243.1,2,    243.9,2,    40.04,2,    21.38,2,     1.61,2, -999.000,9, -999.000,9,   -999.0,9,-999.0000,  -999.00,9,  -999.00,9,  -999.00,9,   2.2842
  74DI19980423,  A16N, 13437,  1,      4,      4,2,19980502,1613, 30.5033, -21.3333, 4927,   3859.3,   2.4570,  34.9060,2,  34.9060,2,    245.3,2,    245.9,2,    43.09,2,    21.85,2,     1.61,2, -999.000,9, -999.000,9,   -999.0,9,-999.0000,  -999.00,9,  -999.00,9,  -999.00,9,   2.1259
  74DI19980423,  A16N, 13437,  1,      3,      3,2,19980502,1613, 30.5033, -21.3333, 4927,   4269.8,   2.3990,  34.8950,2,  34.8960,2,    245.5,2,    245.8,2,    45.03,2,    21.90,2,     1.62,2, -999.000,9, -999.000,9,   -999.0,9,-999.0000,  -999.00,9,  -999.00,9,  -999.00,9,   2.0222
  74DI19980423,  A16N, 13437,  1,      2,      2,2,19980502,1613, 30.5033, -21.3333, 4927,   4681.6,   2.4050,  34.8910,2,  34.8900,2,    246.9,2,    245.5,2,    46.14,2,    21.81,2,     1.61,2, -999.000,9, -999.000,9,   -999.0,9,-999.0000,  -999.00,9,  -999.00,9,  -999.00,9,   1.9785
  74DI19980423,  A16N, 13437,  1,      1,      1,2,19980502,1613, 30.5033, -21.3333, 4927,   5006.3,   2.4360,  34.8900,2,  34.8900,2,    246.5,2,    245.4,2,    45.99,2,    21.72,2,     1.58,2, -999.000,9, -999.000,9,   -999.0,9,-999.0000,  -999.00,9,  -999.00,9,  -999.00,9,   1.9679