BOTTLE,20221006CCHSIOCBG
EXPOCODE,SECT_ID,STNNBR,CASTNO,SAMPNO,BTLNBR,BTLNBR_FLAG_W,DATE,TIME,LATITUDE,LONGITUDE,DEPTH,CTDPRS,CTDTMP,CTDSAL,CTDSAL_FLAG_W,SALNTY,SALNTY_FLAG_W,CTDOXY,CTDOXY_FLAG_W,OXYGEN,OXYGEN_FLAG_W,SILCAT,SILCAT_FLAG_W,NITRAT,NITRAT_FLAG_W,PHSPHT,PHSPHT_FLAG_W,CFC-11,CFC-11_FLAG_W,CFC-12,CFC-12_FLAG_W,ALKALI,ALKALI_FLAG_W,PH_SWS,PH_TEMP,PH_SWS_FLAG_W,CHLORA,CHLORA_FLAG_W,PPHYTN,PPHYTN_FLAG_W,THETA
,,,,,,,,,,,METERS,DBAR,ITS-90,PSS-78,,PSS-78,,UMOL/KG,,UMOL/KG,,UMOL/KG,,UMOL/KG,,UMOL/KG,,PMOL/KG,,PMOL/KG,,UMOL/KG,,,DEGC,,UG/L,,UG/L,,DEGC
  74DI19980423,  A16N, 13484,  1,     23,     23,2,19980517,  21, 52.0617, -16.9983, 4244,      3.6,  12.5590,  35.4990,2,  35.5010,2,    258.1,6,    264.7,2,     3.49,2,     6.48,2,     0.35,2, -999.000,9, -999.000,9,   -999.0,9,-999.0000,  -999.00,9,     0.24,2,     0.05,2,  12.5585
  74DI19980423,  A16N, 13484,  1,     22,     22,2,19980517,  21, 52.0617, -16.9983, 4244,     16.7,  12.1780,  35.4950,2,  35.4940,2,    261.7,2,    265.4,2,     3.52,2,     6.51,2,     0.35,2, -999.000,9, -999.000,9,   -999.0,9,-999.0000,  -999.00,9,     0.20,2,     0.08,2,  12.1758
  74DI19980423,  A16N, 13484,  1,     21,     21,2,19980517,  21, 52.0617, -16.9983, 4244,     30.5,  11.5300,  35.4850,2,  35.4860,2,    268.1,2,    273.3,2,     3.43,2,     6.53,2,     0.37,2, -999.000,9, -999.000,9,   -999.0,9,-999.0000,  -999.00,9,     0.23,2,     0.05,2,  11.5261
  74DI19980423,  A16N, 13484,  1,     20,     20,2,19980517,  21, 52.0617, -16.9983, 4244,     54.8,  11.2940,  35.4860,2,  35.4870,2,    260.5,2,    263.3,2,     3.54,2,     7.60,2,     0.45,2, -999.000,9, -999.000,9,   -999.0,9,-999.0000,  -999.00,9,     0.19,2,     0.05,2,  11.2871
  74DI19980423,  A16N, 13484,  1,     19,     19,2,19980517,  21, 52.0617, -16.9983, 4244,     79.5,  11.1450,  35.4850,2,  35.4850,2,    252.0,2,    255.8,2,     3.96,2,     8.87,2,     0.52,2, -999.000,9, -999.000,9,   -999.0,9,-999.0000,  -999.00,9,     0.27,2,     0.16,2,  11.1351
  74DI19980423,  A16N, 13484,  1,     18,     18,2,19980517,  21, 52.0617, -16.9983, 4244,    105.9,  10.9570,  35.4880,2,  35.4880,2,    252.2,2,    252.9,2,     4.06,2,     9.73,2,     0.55,2, -999.000,9, -999.000,9,   -999.0,9,-999.0000,  -999.00,9,     0.15,2,     0.05,2,  10.9440
  74DI19980423,  A16N, 13484,  1,     17,     17,2,19980517,  21, 52.0617, -16.9983, 4244,    155.4,  10.9460,  35.5050,2,  35.5050,2,    256.9,2,    253.3,2,     3.90,2,    10.07,2,     0.56,2, -999.000,9, -999.000,9,   -999.0,9,-999.0000,  -999.00,9,  -999.00,9,  -999.00,9,  10.9268
  74DI19980423,  A16N, 13484,  1,     16,     16,2,19980517,  21, 52.0617, -16.9983, 4244,    205.6,  10.9330,  35.5100,2,  35.5080,2,    255.9,2,    253.5,2,     3.89,2,    10.02,2,     0.52,2, -999.000,9, -999.000,9,   -999.0,9,-999.0000,  -999.00,9,  -999.00,9,  -999.00,9,  10.9076
  74DI19980423,  A16N, 13484,  1,     15,     15,2,19980517,  21, 52.0617, -16.9983, 4244,    406.4,  10.8080,  35.4990,2,  35.4980,2,    250.1,2,    250.7,2,     4.04,2,    10.43,2,     0.56,2, -999.000,9, -999.000,9,   -999.0,9,-999.0000,  -999.00,9,  -999.00,9,  -999.00,9,  10.7577
  74DI19980423,  A16N, 13484,  1,     14,     14,2,19980517,  21, 52.0617, -16.9983, 4244,    608.8,  10.1750,  35.4150,2,  35.4150,2,    237.2,2,    225.6,2,     5.89,2,    13.51,2,     0.76,2, -999.000,9, -999.000,9,   -999.0,9,-999.0000,  -999.00,9,  -999.00,9,  -999.00,9,  10.1017
  74DI19980423,  A16N, 13484,  1,     13,     13,2,19980517,  21, 52.0617, -16.9983, 4244,    810.0,   8.9210,  35.3220,2,  35.3210,2,    202.3,2,    196.3,2,     9.46,2,    17.54,2,     1.02,2, -999.000,9, -999.000,9,   -999.0,9,-999.0000,  -999.00,9,  -999.00,9,  -999.00,9,   8.8300
  74DI19980423,  A16N, 13484,  1,     12,     12,2,19980517,  21, 52.0617, -16.9983, 4244,   1012.3,   7.5700,  35.2940,2,  35.2930,2,    198.1,2,    197.6,2,    11.10,2,    18.62,2,     1.11,2, -999.000,9, -999.000,9,   -999.0,9,-999.0000,  -999.00,9,  -999.00,9,  -999.00,9,   7.4649
  74DI19980423,  A16N, 13484,  1,     11,     11,2,19980517,  21, 52.0617, -16.9983, 4244,   1265.5,   5.4530,  35.0890,2,  35.2880,0,    226.4,2,    227.6,2,    11.68,2,    18.59,2,     1.12,2, -999.000,9, -999.000,9,   -999.0,9,-999.0000,  -999.00,9,  -999.00,9,  -999.00,9,   5.3397
  74DI19980423,  A16N, 13484,  1,     10,     10,2,19980517,  21, 52.0617, -16.9983, 4244,   1519.5,   4.2020,  34.9510,2,  34.9510,2,    251.2,2,    253.2,2,    11.51,2,    18.08,2,     1.07,2, -999.000,9, -999.000,9,   -999.0,9,-999.0000,  -999.00,9,  -999.00,9,  -999.00,9,   4.0777
  74DI19980423,  A16N, 13484,  1,      9,      9,2,19980517,  21, 52.0617, -16.9983, 4244,   1772.6,   3.6590,  34.9040,2,  34.9050,2,    266.8,2,    267.0,2,    11.38,2,    17.47,2,     1.07,2, -999.000,9, -999.000,9,   -999.0,9,-999.0000,  -999.00,9,  -999.00,9,  -999.00,9,   3.5181
  74DI19980423,  A16N, 13484,  1,      8,      8,2,19980517,  21, 52.0617, -16.9983, 4244,   2027.5,   3.4320,  34.8940,2,  34.8950,2,    271.8,2,    271.9,2,    11.62,2,    17.18,2,     1.05,2, -999.000,9, -999.000,9,   -999.0,9,-999.0000,  -999.00,9,  -999.00,9,  -999.00,9,   3.2705
  74DI19980423,  A16N, 13484,  1,      7,      7,2,19980517,  21, 52.0617, -16.9983, 4244,   2282.7,   3.3400,  34.9090,2,  34.9110,2,    269.6,2,    270.4,2,    13.10,2,    17.22,2,     1.06,2, -999.000,9, -999.000,9,   -999.0,9,-999.0000,  -999.00,9,  -999.00,9,  -999.00,9,   3.1554
  74DI19980423,  A16N, 13484,  1,      6,      6,2,19980517,  21, 52.0617, -16.9983, 4244,   2537.6,   3.2340,  34.9380,2,  34.9390,2,    261.3,2,    261.0,2,    17.34,2,    17.71,2,     1.10,2, -999.000,9, -999.000,9,   -999.0,9,-999.0000,  -999.00,9,  -999.00,9,  -999.00,9,   3.0260
  74DI19980423,  A16N, 13484,  1,      5,      5,2,19980517,  21, 52.0617, -16.9983, 4244,   2793.3,   3.0190,  34.9470,2,  34.9480,2,    252.1,2,    253.0,2,    23.98,2,    18.64,2,     1.19,2, -999.000,9, -999.000,9,   -999.0,9,-999.0000,  -999.00,9,  -999.00,9,  -999.00,9,   2.7892
  74DI19980423,  A16N, 13484,  1,      4,      4,2,19980517,  21, 52.0617, -16.9983, 4244,   3050.5,   2.8370,  34.9420,2,  34.9430,2,    245.5,2,    245.1,2,    31.10,2,    19.91,2,     1.26,2, -999.000,9, -999.000,9,   -999.0,9,-999.0000,  -999.00,9,  -999.00,9,  -999.00,9,   2.5844
  74DI19980423,  A16N, 13484,  1,      3,      3,2,19980517,  21, 52.0617, -16.9983, 4244,   3561.7,   2.5910,  34.9200,2,  34.9210,2,    236.0,2,    236.8,2,    40.38,2,    21.48,2,     1.35,2, -999.000,9, -999.000,9,   -999.0,9,-999.0000,  -999.00,9,  -999.00,9,  -999.00,9,   2.2895
  74DI19980423,  A16N, 13484,  1,      2,      2,2,19980517,  21, 52.0617, -16.9983, 4244,   4076.4,   2.4950,  34.9050,2,  34.9070,2,    232.3,2,    233.0,2,    44.99,2,    22.06,2,     1.40,2, -999.000,9, -999.000,9,   -999.0,9,-999.0000,  -999.00,9,  -999.00,9,  -999.00,9,   2.1380
  74DI19980423,  A16N, 13484,  1,      1,      1,2,19980517,  21, 52.0617, -16.9983, 4244,   4314.0,   2.5080,  34.9040,2,  34.9050,2,    231.0,2,    234.1,2,    44.97,2,    21.97,2,     1.29,2, -999.000,9, -999.000,9,   -999.0,9,-999.0000,  -999.00,9,  -999.00,9,  -999.00,9,   2.1227
  74DI19980423,  A16N, 13485,  1,     23,     23,2,19980517, 621, 52.0817, -16.2583, 3559,      2.0,  12.5280,  35.5190,2,  35.5260,0,    270.5,6,    269.1,2,     3.46,2,     6.59,2,     0.34,2, -999.000,9, -999.000,9,   -999.0,9,-999.0000,  -999.00,9,     0.33,2,     0.06,2,  12.5277
  74DI19980423,  A16N, 13485,  1,     22,     22,2,19980517, 621, 52.0817, -16.2583, 3559,     10.8,  12.4900,  35.5200,2,  35.5260,0,    262.0,2,    268.7,2,     3.51,2,     6.68,2,     0.33,2, -999.000,9, -999.000,9,   -999.0,9,-999.0000,  -999.00,9,     0.35,2,     0.04,2,  12.4886
  74DI19980423,  A16N, 13485,  1,     21,     21,2,19980517, 621, 52.0817, -16.2583, 3559,     19.1,  12.2260,  35.5180,2,  35.5220,0,    264.7,2,    270.8,2,     3.48,2,     6.72,2,     0.35,2, -999.000,9, -999.000,9,   -999.0,9,-999.0000,  -999.00,9,     0.25,2,     0.05,2,  12.2235
  74DI19980423,  A16N, 13485,  1,     20,     20,2,19980517, 621, 52.0817, -16.2583, 3559,     33.8,  11.4340,  35.5060,2,  35.5100,0,    278.5,2,    277.2,2,     3.44,2,     7.04,2,     0.36,2, -999.000,9, -999.000,9,   -999.0,9,-999.0000,  -999.00,9,     0.23,2,     0.05,2,  11.4297
  74DI19980423,  A16N, 13485,  1,     19,     19,2,19980517, 621, 52.0817, -16.2583, 3559,     64.1,  11.1650,  35.5010,2,  35.5070,0,    268.0,2,    270.5,2,     3.72,2,     7.55,2,     0.42,2, -999.000,9, -999.000,9,   -999.0,9,-999.0000,  -999.00,9,     0.20,2,     0.08,2,  11.1570
  74DI19980423,  A16N, 13485,  1,     18,     18,2,19980517, 621, 52.0817, -16.2583, 3559,     93.3,  10.9800,  35.5020,2,  35.5080,0,    267.6,2,    264.8,2,     3.73,2,     8.91,2,     0.49,2, -999.000,9, -999.000,9,   -999.0,9,-999.0000,  -999.00,9,     0.10,2,     0.60,3,  10.9685
  74DI19980423,  A16N, 13485,  1,     17,     17,2,19980517, 621, 52.0817, -16.2583, 3559,    113.2,  10.9100,  35.5030,2,  35.5100,0,    260.2,2,    262.6,2,     3.83,2,     9.45,2,     0.53,2, -999.000,9, -999.000,9,   -999.0,9,-999.0000,  -999.00,9,  -999.00,9,  -999.00,9,  10.8961
  74DI19980423,  A16N, 13485,  1,     16,     16,2,19980517, 621, 52.0817, -16.2583, 3559,    144.6,  10.8720,  35.5100,2,  35.5160,0,    256.7,2,    258.7,2,     3.85,2,     9.83,2,     0.55,2, -999.000,9, -999.000,9,   -999.0,9,-999.0000,  -999.00,9,  -999.00,9,  -999.00,9,  10.8542
  74DI19980423,  A16N, 13485,  1,     15,     15,2,19980517, 621, 52.0817, -16.2583, 3559,    184.4,  10.8780,  35.5170,2,  35.5240,0,    259.2,2,    253.6,2,     3.87,2,    10.08,2,     0.55,2, -999.000,9, -999.000,9,   -999.0,9,-999.0000,  -999.00,9,  -999.00,9,  -999.00,9,  10.8553
  74DI19980423,  A16N, 13485,  1,     14,     14,2,19980517, 621, 52.0817, -16.2583, 3559,    225.7,  10.8240,  35.5080,2,  35.5140,0,    259.6,2,    258.4,2,     3.91,2,     9.96,2,     0.56,2, -999.000,9, -999.000,9,   -999.0,9,-999.0000,  -999.00,9,  -999.00,9,  -999.00,9,  10.7963
  74DI19980423,  A16N, 13485,  1,     13,     13,2,19980517, 621, 52.0817, -16.2583, 3559,    356.2,  10.6750,  35.4860,2,  35.4940,0,    258.9,2,    255.1,2,     4.26,2,    10.61,2,     0.61,2, -999.000,9, -999.000,9,   -999.0,9,-999.0000,  -999.00,9,  -999.00,9,  -999.00,9,  10.6313
  74DI19980423,  A16N, 13485,  1,     12,     12,2,19980517, 621, 52.0817, -16.2583, 3559,    508.2,  10.1840,  35.4210,2,  35.4210,2,    236.5,2,    230.6,2,     5.91,2,    13.26,2,     0.78,2, -999.000,9, -999.000,9,   -999.0,9,-999.0000,  -999.00,9,  -999.00,9,  -999.00,9,  10.1231
  74DI19980423,  A16N, 13485,  1,     11,     11,2,19980517, 621, 52.0817, -16.2583, 3559,    709.5,   9.5490,  35.4400,2,  35.4390,2,    207.2,2,    202.7,2,     8.57,2,    16.42,2,     0.96,2, -999.000,9, -999.000,9,   -999.0,9,-999.0000,  -999.00,9,  -999.00,9,  -999.00,9,   9.4664
  74DI19980423,  A16N, 13485,  1,     10,     10,2,19980517, 621, 52.0817, -16.2583, 3559,    911.8,   8.2170,  35.3800,2,  35.3810,2,    200.4,2,    199.3,2,    10.72,2,    18.05,2,     1.09,2, -999.000,9, -999.000,9,   -999.0,9,-999.0000,  -999.00,9,  -999.00,9,  -999.00,9,   8.1185
  74DI19980423,  A16N, 13485,  1,      9,      9,2,19980517, 621, 52.0817, -16.2583, 3559,   1216.8,   5.7090,  35.1100,2,  35.1110,2,    228.4,2,    228.7,2,    11.66,2,    18.47,2,     1.12,2, -999.000,9, -999.000,9,   -999.0,9,-999.0000,  -999.00,9,  -999.00,9,  -999.00,9,   5.5981
  74DI19980423,  A16N, 13485,  1,      8,      8,2,19980517, 621, 52.0817, -16.2583, 3559,   1622.0,   3.8940,  34.9280,2,  34.9280,2,    264.4,2,    265.8,2,    11.71,2,    17.69,2,     1.08,2, -999.000,9, -999.000,9,   -999.0,9,-999.0000,  -999.00,9,  -999.00,9,  -999.00,9,   3.7640
  74DI19980423,  A16N, 13485,  1,      7,      7,2,19980517, 621, 52.0817, -16.2583, 3559,   1825.9,   3.5460,  34.9040,2,  34.9060,2,    272.7,2,    274.0,2,    11.96,2,    17.41,2,     1.07,2, -999.000,9, -999.000,9,   -999.0,9,-999.0000,  -999.00,9,  -999.00,9,  -999.00,9,   3.4017
  74DI19980423,  A16N, 13485,  1,      6,      6,2,19980517, 621, 52.0817, -16.2583, 3559,   2028.3,   3.3720,  34.9070,2,  34.9080,2,    274.9,2,    274.5,2,    12.99,2,    17.23,2,     1.07,2, -999.000,9, -999.000,9,   -999.0,9,-999.0000,  -999.00,9,  -999.00,9,  -999.00,9,   3.2113
  74DI19980423,  A16N, 13485,  1,      5,      5,2,19980517, 621, 52.0817, -16.2583, 3559,   2233.1,   3.2960,  34.9270,2,  34.9270,2,    271.2,2,    271.0,2,    15.28,2,    17.42,2,     1.07,2, -999.000,9, -999.000,9,   -999.0,9,-999.0000,  -999.00,9,  -999.00,9,  -999.00,9,   3.1169
  74DI19980423,  A16N, 13485,  1,      4,      4,2,19980517, 621, 52.0817, -16.2583, 3559,   2437.6,   3.1410,  34.9420,2,  34.9430,2,    263.3,2,    263.0,2,    19.45,2,    17.88,2,     1.13,2, -999.000,9, -999.000,9,   -999.0,9,-999.0000,  -999.00,9,  -999.00,9,  -999.00,9,   2.9446
  74DI19980423,  A16N, 13485,  1,      3,      3,2,19980517, 621, 52.0817, -16.2583, 3559,   2794.5,   2.8800,  34.9440,2,  34.9450,2,    253.5,2,    251.7,2,    29.37,2,    19.56,2,     1.24,2, -999.000,9, -999.000,9,   -999.0,9,-999.0000,  -999.00,9,  -999.00,9,  -999.00,9,   2.6529
  74DI19980423,  A16N, 13485,  1,      2,      2,2,19980517, 621, 52.0817, -16.2583, 3559,   3306.7,   2.6150,  34.9230,2,  34.9240,2,    243.1,2,    242.6,2,    39.07,2,    21.28,2,     1.33,2, -999.000,9, -999.000,9,   -999.0,9,-999.0000,  -999.00,9,  -999.00,9,  -999.00,9,   2.3405
  74DI19980423,  A16N, 13485,  1,      1,      1,2,19980517, 621, 52.0817, -16.2583, 3559,   3610.4,   2.4660,  34.9070,2,  34.9070,2,    237.9,6,    238.5,2,    43.81,2,    21.98,2,     1.29,2, -999.000,9, -999.000,9,   -999.0,9,-999.0000,  -999.00,9,  -999.00,9,  -999.00,9,   2.1624
  74DI19980423,  A16N, 13486,  1,     19,     19,2,19980517,1144, 52.1217, -15.4967, 2409,      3.6,  12.5160,  35.5050,2,  35.5010,2,    274.2,6,    275.0,2,  -999.00,9,  -999.00,9,  -999.00,9, -999.000,9, -999.000,9,   -999.0,9,-999.0000,  -999.00,9,     0.52,2,     0.12,2,  12.5155
  74DI19980423,  A16N, 13486,  1,     18,     18,2,19980517,1144, 52.1217, -15.4967, 2409,     14.1,  12.2540,  35.5020,2,  35.4980,2,    273.5,2,    273.7,2,     4.49,2,     7.02,2,     0.46,2, -999.000,9, -999.000,9,   -999.0,9,-999.0000,  -999.00,9,     0.43,2,     0.09,2,  12.2521
  74DI19980423,  A16N, 13486,  1,     17,     17,2,19980517,1144, 52.1217, -15.4967, 2409,     24.5,  11.9440,  35.4970,2,  35.4950,2,    272.5,2,    273.2,2,     3.77,2,     7.14,2,     0.48,2, -999.000,9, -999.000,9,   -999.0,9,-999.0000,  -999.00,9,     0.37,2,     0.07,2,  11.9408
  74DI19980423,  A16N, 13486,  1,     16,     16,2,19980517,1144, 52.1217, -15.4967, 2409,     44.5,  11.3730,  35.4880,2,  35.4860,2,    273.6,2,    273.3,2,     3.76,2,     7.31,2,     0.49,2, -999.000,9, -999.000,9,   -999.0,9,-999.0000,  -999.00,9,     0.38,2,     0.13,2,  11.3674
  74DI19980423,  A16N, 13486,  1,     15,     15,2,19980517,1144, 52.1217, -15.4967, 2409,     84.4,  10.9920,  35.5030,2,  35.5020,2,    270.1,2,    264.6,2,     3.79,2,     8.97,2,     0.62,2, -999.000,9, -999.000,9,   -999.0,9,-999.0000,  -999.00,9,     0.28,2,     0.12,2,  10.9816
  74DI19980423,  A16N, 13486,  1,     14,     14,2,19980517,1144, 52.1217, -15.4967, 2409,    124.6,  10.8790,  35.5110,2,  35.5090,2,    259.5,2,    258.5,2,     3.83,2,     9.78,2,     0.74,2, -999.000,9, -999.000,9,   -999.0,9,-999.0000,  -999.00,9,     0.06,2,     0.03,2,  10.8637
  74DI19980423,  A16N, 13486,  1,     13,     13,2,19980517,1144, 52.1217, -15.4967, 2409,    245.1,  10.8150,  35.5080,2,  35.5090,2,    253.5,2,    257.2,2,     3.85,2,     9.91,2,     0.70,2, -999.000,9, -999.000,9,   -999.0,9,-999.0000,  -999.00,9,  -999.00,9,  -999.00,9,  10.7849
  74DI19980423,  A16N, 13486,  1,     12,     12,2,19980517,1144, 52.1217, -15.4967, 2409,    326.3,  10.7790,  35.5070,2,  35.5060,2,    255.8,2,    259.0,2,     3.85,2,     9.94,2,     0.68,2, -999.000,9, -999.000,9,   -999.0,9,-999.0000,  -999.00,9,  -999.00,9,  -999.00,9,  10.7388
  74DI19980423,  A16N, 13486,  1,     11,     11,2,19980517,1144, 52.1217, -15.4967, 2409,    507.7,  10.6930,  35.5000,2,  35.4980,2,    256.9,2,    259.1,2,     4.02,2,    10.17,2,     0.72,2, -999.000,9, -999.000,9,   -999.0,9,-999.0000,  -999.00,9,  -999.00,9,  -999.00,9,  10.6303
  74DI19980423,  A16N, 13486,  1,     10,     10,2,19980517,1144, 52.1217, -15.4967, 2409,    759.7,   9.4330,  35.3720,2,  35.3800,2,    212.0,2,    208.3,2,     8.30,2,    16.02,2,     1.15,2, -999.000,9, -999.000,9,   -999.0,9,-999.0000,  -999.00,9,  -999.00,9,  -999.00,9,   9.3450
  74DI19980423,  A16N, 13486,  1,      9,      9,2,19980517,1144, 52.1217, -15.4967, 2409,    888.1,   8.5230,  35.3460,2,  35.3430,2,    200.0,2,    199.4,2,    10.31,2,    17.87,2,     1.27,2, -999.000,9, -999.000,9,   -999.0,9,-999.0000,  -999.00,9,  -999.00,9,  -999.00,9,   8.4253
  74DI19980423,  A16N, 13486,  1,      8,      8,2,19980517,1144, 52.1217, -15.4967, 2409,   1062.6,   7.3080,  35.2880,2,  35.2860,2,    206.8,2,    207.5,2,    11.29,2,    18.37,2,     1.30,2, -999.000,9, -999.000,9,   -999.0,9,-999.0000,  -999.00,9,  -999.00,9,  -999.00,9,   7.1994
  74DI19980423,  A16N, 13486,  1,      7,      7,2,19980517,1144, 52.1217, -15.4967, 2409,   1213.3,   5.8590,  35.1370,2,  35.1360,2,    226.4,2,    224.8,2,    11.72,2,    18.39,2,     1.27,2, -999.000,9, -999.000,9,   -999.0,9,-999.0000,  -999.00,9,  -999.00,9,  -999.00,9,   5.7470
  74DI19980423,  A16N, 13486,  1,      6,      6,2,19980517,1144, 52.1217, -15.4967, 2409,   1367.9,   4.6920,  35.0010,2,  34.9990,2,    246.8,2,    249.2,2,    11.61,2,    18.06,2,     1.26,2, -999.000,9, -999.000,9,   -999.0,9,-999.0000,  -999.00,9,  -999.00,9,  -999.00,9,   4.5765
  74DI19980423,  A16N, 13486,  1,      5,      5,2,19980517,1144, 52.1217, -15.4967, 2409,   1571.5,   4.0030,  34.9390,2,  34.9380,2,    261.0,2,    264.2,2,    11.66,2,    17.66,2,     1.20,2, -999.000,9, -999.000,9,   -999.0,9,-999.0000,  -999.00,9,  -999.00,9,  -999.00,9,   3.8763
  74DI19980423,  A16N, 13486,  1,      4,      4,2,19980517,1144, 52.1217, -15.4967, 2409,   1722.5,   3.7790,  34.9200,2,  34.9210,2,    268.4,2,    269.2,2,    11.75,2,    17.45,2,     1.19,2, -999.000,9, -999.000,9,   -999.0,9,-999.0000,  -999.00,9,  -999.00,9,  -999.00,9,   3.6411
  74DI19980423,  A16N, 13486,  1,      3,      3,2,19980517,1144, 52.1217, -15.4967, 2409,   1914.0,   3.4480,  34.9050,2,  34.9050,2,    274.2,2,    274.1,2,    12.48,2,    17.19,2,     1.15,2, -999.000,9, -999.000,9,   -999.0,9,-999.0000,  -999.00,9,  -999.00,9,  -999.00,9,   3.2969
  74DI19980423,  A16N, 13486,  1,      2,      2,2,19980517,1144, 52.1217, -15.4967, 2409,   2174.5,   3.1940,  34.9340,2,  34.9340,2,    267.0,2,    261.9,2,    18.78,2,    17.90,2,     1.18,2, -999.000,9, -999.000,9,   -999.0,9,-999.0000,  -999.00,9,  -999.00,9,  -999.00,9,   3.0222
  74DI19980423,  A16N, 13486,  1,      1,      1,2,19980517,1144, 52.1217, -15.4967, 2409,   2435.3,   3.0830,  34.9430,2,  34.9440,2,    257.9,2,    259.9,2,    22.56,2,    18.23,2,     1.11,2, -999.000,9, -999.000,9,   -999.0,9,-999.0000,  -999.00,9,  -999.00,9,  -999.00,9,   2.8879