BOTTLE,20221006CCHSIOCBG
EXPOCODE,SECT_ID,STNNBR,CASTNO,SAMPNO,BTLNBR,BTLNBR_FLAG_W,DATE,TIME,LATITUDE,LONGITUDE,DEPTH,CTDPRS,CTDTMP,CTDSAL,CTDSAL_FLAG_W,SALNTY,SALNTY_FLAG_W,CTDOXY,CTDOXY_FLAG_W,OXYGEN,OXYGEN_FLAG_W,SILCAT,SILCAT_FLAG_W,NITRAT,NITRAT_FLAG_W,PHSPHT,PHSPHT_FLAG_W,CFC-11,CFC-11_FLAG_W,CFC-12,CFC-12_FLAG_W,ALKALI,ALKALI_FLAG_W,PH_SWS,PH_TEMP,PH_SWS_FLAG_W,CHLORA,CHLORA_FLAG_W,PPHYTN,PPHYTN_FLAG_W,THETA
,,,,,,,,,,,METERS,DBAR,ITS-90,PSS-78,,PSS-78,,UMOL/KG,,UMOL/KG,,UMOL/KG,,UMOL/KG,,UMOL/KG,,PMOL/KG,,PMOL/KG,,UMOL/KG,,,DEGC,,UG/L,,UG/L,,DEGC
  74DI19980423,  A16N, 13438,  1,     23,     23,2,19980502,2350, 31.0100, -21.3400, 4948,      3.3,  19.4880,  36.8890,2,  36.8890,2,    233.0,2,    231.4,2,     0.71,2,     0.00,2,     0.00,2,    1.322,3,    0.997,3,   2417.9,6,   8.0102,    25.00,2,     0.05,2,     0.02,2,  19.4874
  74DI19980423,  A16N, 13438,  1,     22,     22,2,19980502,2350, 31.0100, -21.3400, 4948,     18.4,  19.4930,  36.8890,2,  36.8880,2,    227.5,2,    230.4,2,     0.67,2,     0.00,2,     0.00,2,    1.642,3,    1.319,3,   2422.8,2,   8.0052,    25.00,2,     0.04,2,     0.02,2,  19.4896
  74DI19980423,  A16N, 13438,  1,     21,     21,2,19980502,2350, 31.0100, -21.3400, 4948,     31.2,  19.4830,  36.8870,2,  36.8810,2,    229.6,2,    231.0,2,     0.69,2,     0.07,2,     0.00,2,    2.138,3,    1.356,3,   2423.1,2,   8.0092,    25.00,2,     0.05,2,     0.02,2,  19.4773
  74DI19980423,  A16N, 13438,  1,     20,     20,2,19980502,2350, 31.0100, -21.3400, 4948,     56.6,  19.4880,  36.8860,2,  36.8850,2,    229.1,2,    230.9,2,     0.72,2,     0.00,2,     0.00,2,    2.221,3,    1.302,3,   2423.9,2,   8.0072,    25.00,2,     0.04,2,     0.02,2,  19.4776
  74DI19980423,  A16N, 13438,  1,     19,     19,2,19980502,2350, 31.0100, -21.3400, 4948,     81.5,  19.4590,  36.8770,2,  36.8760,2,    229.8,2,    230.5,2,     0.69,2,     0.00,2,     0.02,2,    2.008,3,    1.344,3,   2422.2,2,   8.0082,    25.00,2,     0.05,2,     0.02,2,  19.4441
  74DI19980423,  A16N, 13438,  1,     18,     18,2,19980502,2350, 31.0100, -21.3400, 4948,    106.2,  19.4520,  36.8760,2,  36.8740,2,    227.3,2,    231.1,2,     0.67,2,     0.01,2,     0.02,2,    2.146,3,    1.310,3,   2423.2,2,   8.0052,    25.00,2,     0.05,2,     0.02,2,  19.4326
  74DI19980423,  A16N, 13438,  1,     17,     17,2,19980502,2350, 31.0100, -21.3400, 4948,    154.6,  17.4120,  36.4830,2,  36.4750,2,    222.3,2,    208.2,2,     1.27,2,     3.33,2,     0.20,2,    2.218,3,    1.374,3,   2393.4,2,   7.9532,    25.00,2,     0.02,2,     0.00,2,  17.3858
  74DI19980423,  A16N, 13438,  1,     16,     16,2,19980502,2350, 31.0100, -21.3400, 4948,    208.1,  16.3100,  36.3090,2,  36.3090,2,    204.9,2,    204.2,2,     1.84,2,     5.58,2,     0.35,2,    3.201,2,    1.585,2,   2386.1,2,   7.9172,    25.00,2,  -999.00,9,  -999.00,9,  16.2763
  74DI19980423,  A16N, 13438,  1,     15,     15,2,19980502,2350, 31.0100, -21.3400, 4948,    408.3,  13.5310,  35.8670,2,  35.8680,2,    200.9,2,    204.5,2,     3.76,2,    10.26,2,     0.66,2,    2.994,2,    1.526,2,   2363.2,2,   7.8543,    25.00,2,  -999.00,9,  -999.00,9,  13.4724
  74DI19980423,  A16N, 13438,  1,     14,     14,2,19980502,2350, 31.0100, -21.3400, 4948,    610.4,  11.4750,  35.6030,2,  35.6020,2,    186.2,2,    186.2,2,     6.74,2,    15.75,2,     1.03,2,    2.346,2,    1.215,2,   2343.9,2,   7.7793,    25.00,2,  -999.00,9,  -999.00,9,  11.3958
  74DI19980423,  A16N, 13438,  1,     13,     13,2,19980502,2350, 31.0100, -21.3400, 4948,    811.0,   9.9310,  35.5010,2,  35.5000,2,    166.9,2,    166.2,2,    10.93,2,    20.12,2,     1.39,2,    0.831,2,    0.359,3,   2345.7,2,   7.7243,    25.00,2,  -999.00,9,  -999.00,9,   9.8338
  74DI19980423,  A16N, 13438,  1,     12,     12,2,19980502,2350, 31.0100, -21.3400, 4948,   1014.3,   8.8650,  35.5250,2,  35.5240,2,    169.3,2,    170.4,2,    13.58,2,    20.91,2,     1.48,2,    0.764,2,    0.389,2,   2353.2,2,   7.7183,    25.00,2,  -999.00,9,  -999.00,9,   8.7499
  74DI19980423,  A16N, 13438,  1,     11,     11,2,19980502,2350, 31.0100, -21.3400, 4948,   1264.8,   7.8020,  35.5260,2,  35.5260,2,    194.0,2,    189.9,2,    14.38,2,    19.80,2,     1.29,2,    0.548,2,    0.279,2,   2359.9,2,   7.7293,    25.00,2,  -999.00,9,  -999.00,9,   7.6662
  74DI19980423,  A16N, 13438,  1,     10,     10,2,19980502,2350, 31.0100, -21.3400, 4948,   1518.3,   6.3220,  35.3730,2,  35.3740,2,    221.1,2,    218.9,2,    14.65,2,    18.71,2,     1.23,2,    0.392,2,    0.200,2,   2354.4,2,   7.7343,    25.00,2,  -999.00,9,  -999.00,9,   6.1731
  74DI19980423,  A16N, 13438,  1,      9,      9,2,19980502,2350, 31.0100, -21.3400, 4948,   1773.0,   5.1030,  35.2200,2,  35.2200,2,    237.0,2,    236.3,2,    16.25,2,    18.61,2,     1.22,2,    0.265,2,    0.135,2,   -999.0,9,-999.0000,  -999.00,9,  -999.00,9,  -999.00,9,   4.9422
  74DI19980423,  A16N, 13438,  1,      8,      8,2,19980502,2350, 31.0100, -21.3400, 4948,   2026.4,   4.2370,  35.1040,2,  35.1040,2,    247.5,2,    247.7,2,    18.82,2,    18.76,2,     1.28,2,    0.068,2,    0.035,2,   2337.8,2,   7.7303,    25.00,2,  -999.00,9,  -999.00,9,   4.0629
  74DI19980423,  A16N, 13438,  1,      7,      7,2,19980502,2350, 31.0100, -21.3400, 4948,   2275.1,   3.7150,  35.0440,2,  35.0440,2,    245.0,2,    245.8,2,    23.77,2,    19.47,2,     1.35,2,    0.046,2,    0.022,2,   2345.2,2,   7.7293,    25.00,2,  -999.00,9,  -999.00,9,   3.5244
  74DI19980423,  A16N, 13438,  1,      6,      6,2,19980502,2350, 31.0100, -21.3400, 4948,   2531.2,   3.2650,  34.9940,2,  34.9930,2,    246.4,2,    245.8,2,    28.58,2,    20.04,2,     1.41,2,    0.030,2,    0.016,2,   2345.6,2,   7.7203,    25.00,2,  -999.00,9,  -999.00,9,   3.0568
  74DI19980423,  A16N, 13438,  1,      5,      5,2,19980502,2350, 31.0100, -21.3400, 4948,   3047.1,   2.7570,  34.9420,2,  34.9420,2,    245.7,2,    246.5,2,    36.04,2,    20.81,2,     1.49,2,    0.019,2,    0.010,2,   2357.7,2,   7.7203,    25.00,2,  -999.00,9,  -999.00,9,   2.5065
  74DI19980423,  A16N, 13438,  1,      4,      4,2,19980502,2350, 31.0100, -21.3400, 4948,   3557.3,   2.5250,  34.9160,2,  34.9160,2,    244.4,2,    246.5,2,    40.89,2,    21.38,2,     1.55,2,    0.019,2,    0.010,2,   2365.1,2,   7.7173,    25.00,2,  -999.00,9,  -999.00,9,   2.2256
  74DI19980423,  A16N, 13438,  1,      3,      3,2,19980502,2350, 31.0100, -21.3400, 4948,   4070.6,   2.4230,  34.9000,2,  34.9000,2,    245.4,2,    246.2,2,    44.74,2,    21.73,2,     1.59,2,    0.019,2,    0.010,2,   2361.7,2,   7.7133,    25.00,2,  -999.00,9,  -999.00,9,   2.0687
  74DI19980423,  A16N, 13438,  1,      2,      2,2,19980502,2350, 31.0100, -21.3400, 4948,   4582.1,   2.4010,  34.8920,2,  34.8910,2,    247.1,2,    245.9,2,    45.84,2,    21.91,2,     1.57,2,    0.019,2,    0.010,2,   2365.8,2,   7.7213,    25.00,2,  -999.00,9,  -999.00,9,   1.9868
  74DI19980423,  A16N, 13438,  1,      1,      1,2,19980502,2350, 31.0100, -21.3400, 4948,   5028.2,   2.4430,  34.8910,2,  34.8900,2,    247.1,2,    246.6,2,    46.43,2,    21.70,2,     1.55,2,    0.019,2,    0.010,2,   -999.0,9,-999.0000,  -999.00,9,  -999.00,9,  -999.00,9,   1.9719
  74DI19980423,  A16N, 13439,  1,     24,     24,2,19980503, 739, 31.5167, -21.3250, 4960,      5.8,  19.5390,  36.9080,2,  36.9080,2,    232.2,2,    230.8,2,     0.72,2,     0.35,3,     0.39,3, -999.000,9, -999.000,9,   -999.0,9,-999.0000,  -999.00,9,     0.05,2,     0.03,2,  19.5379
  74DI19980423,  A16N, 13439,  1,     23,     23,2,19980503, 739, 31.5167, -21.3250, 4960,     13.1,  19.5360,  36.9070,2,  36.9070,2,    223.3,2,    230.8,2,     0.59,2,     0.16,3,     0.32,3, -999.000,9, -999.000,9,   -999.0,9,-999.0000,  -999.00,9,     0.05,2,     0.03,2,  19.5336
  74DI19980423,  A16N, 13439,  1,     22,     22,2,19980503, 739, 31.5167, -21.3250, 4960,     21.2,  19.5340,  36.9070,2,  36.9060,2,    222.8,2,    230.7,2,     0.79,2,     0.01,3,     0.32,3, -999.000,9, -999.000,9,   -999.0,9,-999.0000,  -999.00,9,     0.05,2,     0.02,2,  19.5301
  74DI19980423,  A16N, 13439,  1,     21,     21,2,19980503, 739, 31.5167, -21.3250, 4960,     36.6,  19.5380,  36.9070,2,  36.9060,2,    225.9,2,    231.0,2,     0.63,2,     0.04,3,     0.33,3, -999.000,9, -999.000,9,   -999.0,9,-999.0000,  -999.00,9,     0.05,2,     0.03,2,  19.5313
  74DI19980423,  A16N, 13439,  1,     20,     20,2,19980503, 739, 31.5167, -21.3250, 4960,     66.2,  19.5410,  36.9070,2,  36.9050,2,    228.1,2,    230.4,2,     0.58,2,     0.00,3,     0.30,3, -999.000,9, -999.000,9,   -999.0,9,-999.0000,  -999.00,9,     0.05,2,     0.03,2,  19.5289
  74DI19980423,  A16N, 13439,  1,     19,     19,2,19980503, 739, 31.5167, -21.3250, 4960,     96.0,  19.5460,  36.9070,2,  36.9060,2,    231.9,2,    228.5,2,     0.56,2,     0.04,3,     0.33,3, -999.000,9, -999.000,9,   -999.0,9,-999.0000,  -999.00,9,     0.05,2,     0.02,2,  19.5284
  74DI19980423,  A16N, 13439,  1,     18,     18,2,19980503, 739, 31.5167, -21.3250, 4960,    116.3,  19.5390,  36.9050,2,  36.9040,2,    234.2,2,    230.2,2,     0.47,2,     0.41,3,     0.29,3, -999.000,9, -999.000,9,   -999.0,9,-999.0000,  -999.00,9,     0.05,2,     0.03,2,  19.5176
  74DI19980423,  A16N, 13439,  1,     17,     17,2,19980503, 739, 31.5167, -21.3250, 4960,    146.4,  19.4980,  36.8930,2,  36.8930,2,    227.7,2,    228.9,2,     0.54,2,     0.44,3,     0.28,3, -999.000,9, -999.000,9,   -999.0,9,-999.0000,  -999.00,9,  -999.00,9,  -999.00,9,  19.4711
  74DI19980423,  A16N, 13439,  1,     16,     16,2,19980503, 739, 31.5167, -21.3250, 4960,    186.9,  17.0400,  36.4140,2,  36.4140,2,    215.6,2,    207.2,2,     1.28,2,     3.92,3,     0.47,3, -999.000,9, -999.000,9,   -999.0,9,-999.0000,  -999.00,9,  -999.00,9,  -999.00,9,  17.0088
  74DI19980423,  A16N, 13439,  1,     15,     15,2,19980503, 739, 31.5167, -21.3250, 4960,    226.1,  16.2940,  36.2990,2,  36.2940,2,    206.4,2,    204.9,2,     1.82,2,     5.48,3,     0.63,2, -999.000,9, -999.000,9,   -999.0,9,-999.0000,  -999.00,9,  -999.00,9,  -999.00,9,  16.2574
  74DI19980423,  A16N, 13439,  1,     14,     14,2,19980503, 739, 31.5167, -21.3250, 4960,    357.4,  13.9620,  35.9340,2,  35.9330,2,    204.4,2,    203.6,2,     3.26,2,     9.32,3,     0.93,2, -999.000,9, -999.000,9,   -999.0,9,-999.0000,  -999.00,9,  -999.00,9,  -999.00,9,  13.9097
  74DI19980423,  A16N, 13439,  1,     13,     13,2,19980503, 739, 31.5167, -21.3250, 4960,    508.7,  12.1890,  35.6860,2,  35.6850,2,    198.6,2,    197.6,2,     4.95,2,    13.05,3,     1.20,2, -999.000,9, -999.000,9,   -999.0,9,-999.0000,  -999.00,9,  -999.00,9,  -999.00,9,  12.1206
  74DI19980423,  A16N, 13439,  1,     12,     12,2,19980503, 739, 31.5167, -21.3250, 4960,    711.2,  10.6050,  35.5400,2,  35.5380,2,    177.6,2,    173.8,2,     8.93,2,    18.14,3,     1.58,2, -999.000,9, -999.000,9,   -999.0,9,-999.0000,  -999.00,9,  -999.00,9,  -999.00,9,  10.5167
  74DI19980423,  A16N, 13439,  1,     11,     11,2,19980503, 739, 31.5167, -21.3250, 4960,    912.2,   9.4690,  35.5610,2,  35.5600,2,    166.6,2,    164.9,2,    12.52,2,    20.37,3,     1.76,2, -999.000,9, -999.000,9,   -999.0,9,-999.0000,  -999.00,9,  -999.00,9,  -999.00,9,   9.3620
  74DI19980423,  A16N, 13439,  1,     10,     10,2,19980503, 739, 31.5167, -21.3250, 4960,   1215.3,   8.1040,  35.5690,2,  35.5690,2,    189.9,2,    192.0,2,    13.20,2,    18.93,3,     1.65,2, -999.000,9, -999.000,9,   -999.0,9,-999.0000,  -999.00,9,  -999.00,9,  -999.00,9,   7.9711
  74DI19980423,  A16N, 13439,  1,      9,      9,2,19980503, 739, 31.5167, -21.3250, 4960,   1619.5,   5.8320,  35.3140,2,  35.3140,2,    227.1,2,    226.9,2,    14.55,2,    18.58,3,     1.61,2, -999.000,9, -999.000,9,   -999.0,9,-999.0000,  -999.00,9,  -999.00,9,  -999.00,9,   5.6780
  74DI19980423,  A16N, 13439,  1,      8,      8,2,19980503, 739, 31.5167, -21.3250, 4960,   1820.4,   4.9810,  35.2020,2,  35.2030,2,    239.0,2,    239.0,2,    15.96,2,    18.28,3,     1.48,2, -999.000,9, -999.000,9,   -999.0,9,-999.0000,  -999.00,9,  -999.00,9,  -999.00,9,   4.8170
  74DI19980423,  A16N, 13439,  1,      7,      7,2,19980503, 739, 31.5167, -21.3250, 4960,   2216.0,   3.8220,  35.0560,2,  35.0560,2,    248.6,2,    247.6,2,    22.50,2,    19.16,3,     1.61,2, -999.000,9, -999.000,9,   -999.0,9,-999.0000,  -999.00,9,  -999.00,9,  -999.00,9,   3.6355
  74DI19980423,  A16N, 13439,  1,      6,      6,2,19980503, 739, 31.5167, -21.3250, 4960,   2777.3,   2.9640,  34.9620,2,  34.9620,2,    250.7,2,    250.1,2,    31.07,2,    19.88,3,     1.69,2, -999.000,9, -999.000,9,   -999.0,9,-999.0000,  -999.00,9,  -999.00,9,  -999.00,9,   2.7369
  74DI19980423,  A16N, 13439,  1,      5,      5,2,19980503, 739, 31.5167, -21.3250, 4960,   3288.9,   2.6600,  34.9310,2,  34.9300,2,    246.3,2,    246.9,2,    38.21,2,    20.93,3,     1.76,2, -999.000,9, -999.000,9,   -999.0,9,-999.0000,  -999.00,9,  -999.00,9,  -999.00,9,   2.3863
  74DI19980423,  A16N, 13439,  1,      4,      4,2,19980503, 739, 31.5167, -21.3250, 4960,   3799.1,   2.4970,  34.9110,2,  34.9100,2,    244.1,2,    245.6,2,    43.24,2,    21.56,3,     1.76,2, -999.000,9, -999.000,9,   -999.0,9,-999.0000,  -999.00,9,  -999.00,9,  -999.00,9,   2.1716
  74DI19980423,  A16N, 13439,  1,      3,      3,2,19980503, 739, 31.5167, -21.3250, 4960,   4311.1,   2.4090,  34.8960,2,  34.8950,2,    246.6,2,    246.4,2,    46.03,2,    22.05,3,     1.76,2, -999.000,9, -999.000,9,   -999.0,9,-999.0000,  -999.00,9,  -999.00,9,  -999.00,9,   2.0270
  74DI19980423,  A16N, 13439,  1,      2,      2,2,19980503, 739, 31.5167, -21.3250, 4960,   4825.6,   2.4240,  34.8920,2,  34.8910,2,    245.8,2,    246.3,2,    47.43,2,    21.99,3,     1.80,2, -999.000,9, -999.000,9,   -999.0,9,-999.0000,  -999.00,9,  -999.00,9,  -999.00,9,   1.9790
  74DI19980423,  A16N, 13439,  1,      1,      1,2,19980503, 739, 31.5167, -21.3250, 4960,   5040.2,   2.4460,  34.8910,2,  34.8900,2,    245.1,2,    246.6,2,    46.96,2,    21.80,3,     1.71,3, -999.000,9, -999.000,9,   -999.0,9,-999.0000,  -999.00,9,  -999.00,9,  -999.00,9,   1.9732