BOTTLE,20221006CCHSIOCBG
EXPOCODE,SECT_ID,STNNBR,CASTNO,SAMPNO,BTLNBR,BTLNBR_FLAG_W,DATE,TIME,LATITUDE,LONGITUDE,DEPTH,CTDPRS,CTDTMP,CTDSAL,CTDSAL_FLAG_W,SALNTY,SALNTY_FLAG_W,CTDOXY,CTDOXY_FLAG_W,OXYGEN,OXYGEN_FLAG_W,SILCAT,SILCAT_FLAG_W,NITRAT,NITRAT_FLAG_W,PHSPHT,PHSPHT_FLAG_W,CFC-11,CFC-11_FLAG_W,CFC-12,CFC-12_FLAG_W,ALKALI,ALKALI_FLAG_W,PH_SWS,PH_TEMP,PH_SWS_FLAG_W,CHLORA,CHLORA_FLAG_W,PPHYTN,PPHYTN_FLAG_W,THETA
,,,,,,,,,,,METERS,DBAR,ITS-90,PSS-78,,PSS-78,,UMOL/KG,,UMOL/KG,,UMOL/KG,,UMOL/KG,,UMOL/KG,,PMOL/KG,,PMOL/KG,,UMOL/KG,,,DEGC,,UG/L,,UG/L,,DEGC
  74DI19980423,  A16N, 13468,  1,     24,     24,2,19980512,1658, 46.0033, -20.0083, 4834,      3.8,  14.9370,  35.7050,2,  35.7030,2,    263.8,6,    264.4,2,     2.10,2,     4.78,2,     0.25,2,    4.277,3,    1.130,3,   2358.4,2,   7.9143,    25.00,2,     0.23,2,     0.04,2,  14.9364
  74DI19980423,  A16N, 13468,  1,     23,     23,2,19980512,1658, 46.0033, -20.0083, 4834,     15.2,  13.2790,  35.6900,2,-999.0000,9,    269.9,2,    267.2,2,     2.24,2,     4.69,2,     0.24,2,    0.466,3,    0.242,3,   -999.0,9,-999.0000,  -999.00,9,     0.24,2,     0.04,2,  13.2769
  74DI19980423,  A16N, 13468,  1,     22,     22,2,19980512,1658, 46.0033, -20.0083, 4834,     24.7,  13.1500,  35.6870,2,  35.6870,2,    266.1,2,    268.2,2,     2.08,2,     4.76,2,     0.24,2,    1.697,3,    0.800,3,   2357.0,2,   7.9153,    25.00,2,     0.18,2,     0.08,2,  13.1466
  74DI19980423,  A16N, 13468,  1,     21,     21,2,19980512,1658, 46.0033, -20.0083, 4834,     44.5,  12.9720,  35.6800,2,  35.6790,2,    263.2,2,    267.9,2,     2.14,2,     5.10,2,     0.26,2,    4.163,2,    2.105,2,   2353.0,2,   7.9113,    25.00,2,     0.32,2,     0.10,2,  12.9659
  74DI19980423,  A16N, 13468,  1,     20,     20,2,19980512,1658, 46.0033, -20.0083, 4834,     85.5,  12.4380,  35.6680,2,  35.6660,2,    256.1,2,    258.0,2,     2.71,2,     7.39,2,     0.39,2,    3.386,3,    1.537,3,   2346.6,2,   7.8883,    25.00,2,     0.14,2,     0.09,2,  12.4266
  74DI19980423,  A16N, 13468,  1,     19,     19,2,19980512,1658, 46.0033, -20.0083, 4834,    124.9,  12.3760,  35.6660,2,  35.6650,2,    254.2,2,    255.1,2,     2.74,2,     7.84,2,     0.42,2, -999.000,9, -999.000,9,   2349.4,2,   7.8833,    25.00,2,     0.03,2,     0.02,2,  12.3593
  74DI19980423,  A16N, 13468,  1,     18,     18,2,19980512,1658, 46.0033, -20.0083, 4834,    166.3,  12.2400,  35.6490,2,  35.6480,2,    253.1,2,    253.2,2,     2.89,2,     8.41,2,     0.47,2,    3.769,2,    1.917,2,   2351.6,2,   7.8753,    25.00,2,     0.04,2,     0.02,2,  12.2179
  74DI19980423,  A16N, 13468,  1,     17,     17,2,19980512,1658, 46.0033, -20.0083, 4834,    247.0,  11.9420,  35.6040,2,  35.6040,2,    253.1,2,    247.8,2,     3.37,2,     9.35,2,     0.53,2,    0.019,3,    0.010,3,   2348.2,2,   7.8633,    25.00,2,  -999.00,9,  -999.00,9,  11.9096
  74DI19980423,  A16N, 13468,  1,     16,     16,2,19980512,1658, 46.0033, -20.0083, 4834,    328.1,  11.7250,  35.5740,2,  35.5730,2,    249.5,2,    247.2,2,     3.47,2,     9.82,2,     0.59,2, -999.000,9, -999.000,9,   2349.0,2,   7.8553,    25.00,2,  -999.00,9,  -999.00,9,  11.6823
  74DI19980423,  A16N, 13468,  1,     15,     15,2,19980512,1658, 46.0033, -20.0083, 4834,    508.6,  11.0140,  35.4880,2,  35.4870,2,    232.4,2,    227.6,2,     4.82,2,    12.80,2,     0.75,2, -999.000,9, -999.000,9,   2342.0,2,   7.8133,    25.00,2,  -999.00,9,  -999.00,9,  10.9500
  74DI19980423,  A16N, 13468,  1,     14,     14,2,19980512,1658, 46.0033, -20.0083, 4834,    760.6,   9.3680,  35.3060,2,  35.3070,2,    202.3,2,    199.9,2,     8.48,2,    17.64,2,     1.07,2,    1.890,2,    1.090,2,   2321.8,2,   7.7463,    25.00,2,  -999.00,9,  -999.00,9,   9.2803
  74DI19980423,  A16N, 13468,  1,     13,     13,2,19980512,1658, 46.0033, -20.0083, 4834,    962.4,   8.6040,  35.4210,2,  35.4190,2,    194.7,2,    193.9,2,    10.00,2,    18.75,2,     1.14,2,    0.910,3,    0.568,3,   2345.2,2,   7.7333,    25.00,2,  -999.00,9,  -999.00,9,   8.4970
  74DI19980423,  A16N, 13468,  1,     12,     12,2,19980512,1658, 46.0033, -20.0083, 4834,   1114.8,   7.4540,  35.3550,2,  35.3550,2,    206.9,2,    205.7,2,    10.72,2,    18.79,2,     1.14,2,    1.442,2,    0.850,2,   2343.8,2,   7.7243,    25.00,2,  -999.00,9,  -999.00,9,   7.3384
  74DI19980423,  A16N, 13468,  1,     11,     11,2,19980512,1658, 46.0033, -20.0083, 4834,   1418.2,   5.1460,  35.0950,2,  35.0960,2,    238.3,2,    241.6,2,    11.12,2,    18.70,2,     1.15,2,    1.673,2,    0.795,2,   2327.0,2,   7.7133,    25.00,2,  -999.00,9,  -999.00,9,   5.0207
  74DI19980423,  A16N, 13468,  1,     10,     10,2,19980512,1658, 46.0033, -20.0083, 4834,   1570.1,   4.4520,  35.0060,2,  35.0070,2,    254.5,2,    255.0,2,    11.08,2,    18.44,2,     1.14,2,    1.394,3,    0.732,3,   2321.4,2,   7.7133,    25.00,2,  -999.00,9,  -999.00,9,   4.3199
  74DI19980423,  A16N, 13468,  1,      9,      9,2,19980512,1658, 46.0033, -20.0083, 4834,   1926.3,   3.6300,  34.9150,2,  34.9150,2,    272.1,2,    272.8,2,    11.12,2,    17.86,2,     1.09,2,    1.688,2,    0.893,2,   2316.8,2,   7.7203,    25.00,2,  -999.00,9,  -999.00,9,   3.4751
  74DI19980423,  A16N, 13468,  1,      8,      8,2,19980512,1658, 46.0033, -20.0083, 4834,   2129.7,   3.4470,  34.9070,2,  34.9070,2,    275.6,2,    276.1,2,    11.63,2,    17.69,2,     1.09,2,    1.456,2,    0.810,2,   2312.7,2,   7.7193,    25.00,2,  -999.00,9,  -999.00,9,   3.2755
  74DI19980423,  A16N, 13468,  1,      7,      7,2,19980512,1658, 46.0033, -20.0083, 4834,   2640.6,   3.2460,  34.9510,2,  34.9520,2,    264.7,2,    263.7,2,    17.73,2,    18.37,2,     1.13,2,    0.590,3,    0.356,3,   2313.2,2,   7.7213,    25.00,2,  -999.00,9,  -999.00,9,   3.0273
  74DI19980423,  A16N, 13468,  1,      6,      6,2,19980512,1658, 46.0033, -20.0083, 4834,   3049.3,   2.9120,  34.9480,2,  34.9470,2,    256.5,2,    255.9,2,    26.34,2,    19.83,2,     1.23,2,    0.355,3,    0.192,3,   2338.3,2,   7.7183,    25.00,2,  -999.00,9,  -999.00,9,   2.6579
  74DI19980423,  A16N, 13468,  1,      5,      5,2,19980512,1658, 46.0033, -20.0083, 4834,   3458.8,   2.7090,  34.9330,2,  34.9330,2,    248.4,2,    247.6,2,    34.71,2,    21.26,2,     1.35,2,    0.145,3,    0.085,3,   2348.9,2,   7.7163,    25.00,2,  -999.00,9,  -999.00,9,   2.4157
  74DI19980423,  A16N, 13468,  1,      4,      4,2,19980512,1658, 46.0033, -20.0083, 4834,   3868.4,   2.5860,  34.9180,2,  34.9170,2,    242.3,2,    242.4,2,    42.10,2,    22.59,2,     1.46,2,    0.095,2,    0.048,2,   2361.2,2,   7.7173,    25.00,2,  -999.00,9,  -999.00,9,   2.2503
  74DI19980423,  A16N, 13468,  1,      3,      3,2,19980512,1658, 46.0033, -20.0083, 4834,   4279.0,   2.5740,  34.9120,2,  34.9110,2,    240.7,2,    239.8,2,    44.40,2,    22.91,2,     1.48,2,    0.043,2,    0.021,2,   2362.8,2,   7.7153,    25.00,2,  -999.00,9,  -999.00,9,   2.1909
  74DI19980423,  A16N, 13468,  1,      2,      2,2,19980512,1658, 46.0033, -20.0083, 4834,   4691.1,   2.6070,  34.9100,2,  34.9090,2,    239.9,2,    238.7,2,    45.05,2,    23.05,2,     1.47,2,    0.037,2,    0.018,2,   -999.0,9,-999.0000,  -999.00,9,  -999.00,9,  -999.00,9,   2.1728
  74DI19980423,  A16N, 13468,  1,      1,      1,2,19980512,1658, 46.0033, -20.0083, 4834,   4918.3,   2.6350,  34.9100,2,  34.9100,2,    238.0,2,    239.7,2,    44.57,2,    22.68,2,     1.45,2,    0.031,2,    0.015,2,   2364.4,2,   7.7123,    25.00,2,  -999.00,9,  -999.00,9,   2.1713
  74DI19980423,  A16N, 13469,  1,     23,     23,2,19980512,2342, 46.5083, -19.9867, 4854,      3.9,  13.5460,  35.7300,2,  35.7310,2,    271.7,2,    272.3,2,     2.44,2,     4.05,2,     0.19,2, -999.000,9, -999.000,9,   -999.0,9,-999.0000,  -999.00,9,     0.68,2,     0.16,2,  13.5454
  74DI19980423,  A16N, 13469,  1,     22,     22,2,19980512,2342, 46.5083, -19.9867, 4854,     18.8,  13.2080,  35.7310,2,  35.7300,2,    268.8,2,    266.3,2,     2.64,2,     5.30,2,     0.26,2, -999.000,9, -999.000,9,   -999.0,9,-999.0000,  -999.00,9,     0.46,2,     0.17,2,  13.2054
  74DI19980423,  A16N, 13469,  1,     21,     21,2,19980512,2342, 46.5083, -19.9867, 4854,     31.6,  13.0400,  35.7290,2,  35.7280,2,    261.5,2,    259.6,2,     2.75,2,     6.12,2,     0.32,2, -999.000,9, -999.000,9,   -999.0,9,-999.0000,  -999.00,9,     0.41,2,     0.19,2,  13.0356
  74DI19980423,  A16N, 13469,  1,     20,     20,2,19980512,2342, 46.5083, -19.9867, 4854,     57.0,  12.8790,  35.7290,2,  35.7280,2,    253.1,2,    252.2,2,     2.91,2,     7.28,2,     0.37,2, -999.000,9, -999.000,9,   -999.0,9,-999.0000,  -999.00,9,     0.18,2,     0.06,2,  12.8712
  74DI19980423,  A16N, 13469,  1,     19,     19,2,19980512,2342, 46.5083, -19.9867, 4854,     81.1,  12.8290,  35.7280,2,  35.7260,2,    247.9,2,    250.9,2,     2.93,2,     7.42,2,     0.39,2, -999.000,9, -999.000,9,   -999.0,9,-999.0000,  -999.00,9,     0.05,2,     0.03,2,  12.8179
  74DI19980423,  A16N, 13469,  1,     18,     18,2,19980512,2342, 46.5083, -19.9867, 4854,    106.9,  12.8310,  35.7280,2,  35.7270,2,    250.6,2,    250.0,2,     2.87,2,     7.40,2,     0.38,2, -999.000,9, -999.000,9,   -999.0,9,-999.0000,  -999.00,9,     0.05,2,     0.04,2,  12.8164
  74DI19980423,  A16N, 13469,  1,     17,     17,2,19980512,2342, 46.5083, -19.9867, 4854,    156.8,  12.8170,  35.7240,2,  35.7220,2,    245.9,2,    249.7,2,     2.86,2,     7.46,2,     0.39,2, -999.000,9, -999.000,9,   -999.0,9,-999.0000,  -999.00,9,     0.04,2,     0.02,2,  12.7955
  74DI19980423,  A16N, 13469,  1,     16,     16,2,19980512,2342, 46.5083, -19.9867, 4854,    207.8,  12.7690,  35.7160,2,  35.7140,2,    249.6,2,    249.8,2,     2.93,2,     7.56,2,     0.40,2, -999.000,9, -999.000,9,   -999.0,9,-999.0000,  -999.00,9,  -999.00,9,  -999.00,9,  12.7405
  74DI19980423,  A16N, 13469,  1,     15,     15,2,19980512,2342, 46.5083, -19.9867, 4854,    408.1,  11.8920,  35.5730,2,  35.5720,2,    246.3,2,    247.2,2,     3.64,2,     9.22,2,     0.50,2, -999.000,9, -999.000,9,   -999.0,9,-999.0000,  -999.00,9,  -999.00,9,  -999.00,9,  11.8383
  74DI19980423,  A16N, 13469,  1,     14,     14,2,19980512,2342, 46.5083, -19.9867, 4854,    608.5,  10.8850,  35.4800,2,  35.4780,2,    223.2,2,    221.3,2,     5.50,2,    13.24,2,     0.74,2, -999.000,9, -999.000,9,   -999.0,9,-999.0000,  -999.00,9,  -999.00,9,  -999.00,9,  10.8087
  74DI19980423,  A16N, 13469,  1,     13,     13,2,19980512,2342, 46.5083, -19.9867, 4854,    810.2,   9.5120,  35.3720,2,  35.3710,2,    197.6,2,    195.8,2,     8.87,2,    17.29,2,     1.01,2, -999.000,9, -999.000,9,   -999.0,9,-999.0000,  -999.00,9,  -999.00,9,  -999.00,9,   9.4175
  74DI19980423,  A16N, 13469,  1,     12,     12,2,19980512,2342, 46.5083, -19.9867, 4854,   1015.3,   7.1200,  35.1570,2,  35.1550,2,    205.8,2,    201.0,2,    11.79,2,    19.45,2,     1.20,2, -999.000,9, -999.000,9,   -999.0,9,-999.0000,  -999.00,9,  -999.00,9,  -999.00,9,   7.0182
  74DI19980423,  A16N, 13469,  1,     11,     11,2,19980512,2342, 46.5083, -19.9867, 4854,   1269.0,   5.5530,  35.1360,2,  35.1360,2,    227.6,2,    232.1,2,    11.60,2,    18.42,2,     1.12,2, -999.000,9, -999.000,9,   -999.0,9,-999.0000,  -999.00,9,  -999.00,9,  -999.00,9,   5.4383
  74DI19980423,  A16N, 13469,  1,     10,     10,2,19980512,2342, 46.5083, -19.9867, 4854,   1523.8,   4.1770,  34.9630,2,  34.9640,2,    252.8,2,    258.8,2,    11.62,2,    18.05,2,     1.10,2, -999.000,9, -999.000,9,   -999.0,9,-999.0000,  -999.00,9,  -999.00,9,  -999.00,9,   4.0526
  74DI19980423,  A16N, 13469,  1,      9,      9,2,19980512,2342, 46.5083, -19.9867, 4854,   1775.8,   3.6670,  34.9120,2,  34.9120,2,    270.9,2,    270.8,2,    11.53,2,    17.59,2,     1.08,2, -999.000,9, -999.000,9,   -999.0,9,-999.0000,  -999.00,9,  -999.00,9,  -999.00,9,   3.5257
  74DI19980423,  A16N, 13469,  1,      8,      8,2,19980512,2342, 46.5083, -19.9867, 4854,   2026.9,   3.4730,  34.9030,2,  34.9030,2,    275.8,2,    275.0,2,    11.91,2,    17.39,2,     1.08,2, -999.000,9, -999.000,9,   -999.0,9,-999.0000,  -999.00,9,  -999.00,9,  -999.00,9,   3.3109
  74DI19980423,  A16N, 13469,  1,      7,      7,2,19980512,2342, 46.5083, -19.9867, 4854,   2275.0,   3.4320,  34.9240,2,  34.9240,2,    272.7,2,    271.0,2,    13.43,2,    17.41,2,     1.08,2, -999.000,9, -999.000,9,   -999.0,9,-999.0000,  -999.00,9,  -999.00,9,  -999.00,9,   3.2466
  74DI19980423,  A16N, 13469,  1,      6,      6,2,19980512,2342, 46.5083, -19.9867, 4854,   2521.3,   3.3150,  34.9450,2,  34.9460,2,    265.6,2,    265.6,2,    16.60,2,    17.76,2,     1.11,2, -999.000,9, -999.000,9,   -999.0,9,-999.0000,  -999.00,9,  -999.00,9,  -999.00,9,   3.1071
  74DI19980423,  A16N, 13469,  1,      5,      5,2,19980512,2342, 46.5083, -19.9867, 4854,   3035.5,   2.9210,  34.9480,2,  34.9490,2,    255.4,2,    254.1,2,    27.19,2,    19.29,2,     1.21,2, -999.000,9, -999.000,9,   -999.0,9,-999.0000,  -999.00,9,  -999.00,9,  -999.00,9,   2.6681
  74DI19980423,  A16N, 13469,  1,      4,      4,2,19980512,2342, 46.5083, -19.9867, 4854,   3552.1,   2.6650,  34.9280,2,  34.9280,2,    245.3,2,    245.1,2,    37.64,2,    21.03,2,     1.34,2, -999.000,9, -999.000,9,   -999.0,9,-999.0000,  -999.00,9,  -999.00,9,  -999.00,9,   2.3626
  74DI19980423,  A16N, 13469,  1,      3,      3,2,19980512,2342, 46.5083, -19.9867, 4854,   4066.8,   2.5810,  34.9160,2,  34.9150,2,    240.5,2,    238.8,2,    43.22,2,    22.03,2,     1.40,2, -999.000,9, -999.000,9,   -999.0,9,-999.0000,  -999.00,9,  -999.00,9,  -999.00,9,   2.2226
  74DI19980423,  A16N, 13469,  1,      2,      2,2,19980512,2342, 46.5083, -19.9867, 4854,   4582.4,   2.5890,  34.9100,2,  34.9090,2,    237.1,2,    236.9,2,    45.30,2,    22.36,2,     1.41,2, -999.000,9, -999.000,9,   -999.0,9,-999.0000,  -999.00,9,  -999.00,9,  -999.00,9,   2.1688
  74DI19980423,  A16N, 13469,  1,      1,      1,2,19980512,2342, 46.5083, -19.9867, 4854,   4939.1,   2.6140,  34.9080,2,  34.9080,2,    235.6,2,    237.3,2,    45.00,2,    22.06,2,     1.39,2, -999.000,9, -999.000,9,   -999.0,9,-999.0000,  -999.00,9,  -999.00,9,  -999.00,9,   2.1484