BOTTLE,20221005CCHSIOAMB
EXPOCODE,SECT_ID,STNNBR,CASTNO,SAMPNO,BTLNBR,BTLNBR_FLAG_W,DATE,TIME,LATITUDE,LONGITUDE,DEPTH,CTDPRS,CTDPRS_FLAG_W,CTDTMP,CTDTMP_FLAG_W,CTDSAL,CTDSAL_FLAG_W,SALNTY,SALNTY_FLAG_W,CTDOXY,CTDOXY_FLAG_W,OXYGEN,OXYGEN_FLAG_W,SILCAT,SILCAT_FLAG_W,NITRAT,NITRAT_FLAG_W,NITRIT,NITRIT_FLAG_W,PHSPHT,PHSPHT_FLAG_W,CFC-11,CFC-11_FLAG_W,CFC-12,CFC-12_FLAG_W,CFC113,CFC113_FLAG_W,CCL4,CCL4_FLAG_W,TCARBN,TCARBN_FLAG_W,ALKALI,ALKALI_FLAG_W,PH_TOT,PH_TMP,DELC14,DELC14_FLAG_W,C14ERR,DELC13,DELC13_FLAG_W,C13ERR,THETA,SIG0,SBE35,SBE35_FLAG_W,PH_TOT_FLAG_W,SILUNC,NRAUNC,NRIUNC,PHPUNC,CS-137,CS-137_FLAG_W,CS137ER,PLUTO,PLUTO_FLAG_W,PLUTOER
,,,,,,,,,,,METERS,DBAR,,ITS-90,,PSS-78,,PSS-78,,UMOL/KG,,UMOL/KG,,UMOL/KG,,UMOL/KG,,UMOL/KG,,UMOL/KG,,PMOL/KG,,PMOL/KG,,PMOL/KG,,PMOL/KG,,UMOL/KG,,UMOL/KG,,,DEG C,/MILLE,,/MILLE,/MILLE,,/MILLE,DEG C,KG/M^3,ITS-90,,,UMOL/KG,UMOL/KG,UMOL/KG,UMOL/KG,DM/.1MG,,BQ/M^3,MBQ/M^3,,MBQ/M^3
49NZ20071008, P14N, 101, 1, 36, X12042, 2, 20071117, 0820, 12.0085, 178.9865, 5983,     10.4, 2,  28.0781, 2,  34.3914, 2,  34.3909, 2,    199.0, 2,    198.0, 2,     0.86, 2,     0.06, 2,     0.00, 2,     0.17, 2,    1.506, 2,    0.948, 2,    0.281, 4,    1.736, 4,   -999.0, 9,   -999.0, 9, -999.0000,   -999.00,   -999.0, 9,   -999.0,  -999.00, 9,   -999.0,  28.0757, 21.9123,  28.0773, 2, 9, 0.12, 0.03, 0.01, 0.017,  -999.00, 9, -999.00, -999.00, 9, -999.00
49NZ20071008, P14N, 101, 1, 35, X12041, 2, 20071117, 0820, 12.0085, 178.9865, 5983,     49.8, 2,  28.0688, 2,  34.5277, 2,  34.5279, 2,    198.4, 2,    198.3, 2,     0.87, 2,     0.05, 2,     0.00, 2,     0.18, 2,    1.505, 2,    0.941, 2,    0.308, 4,    1.687, 4,   -999.0, 9,   -999.0, 9, -999.0000,   -999.00,   -999.0, 9,   -999.0,  -999.00, 9,   -999.0,  28.0571, 22.0209,  28.0668, 2, 9, 0.12, 0.03, 0.01, 0.017,  -999.00, 9, -999.00, -999.00, 9, -999.00
49NZ20071008, P14N, 101, 1, 34, X12016, 2, 20071117, 0820, 12.0085, 178.9865, 5983,    100.8, 2,  26.3638, 2,  34.8513, 2,  34.8521, 2,    201.1, 2,    200.1, 2,     1.02, 2,     0.05, 2,     0.02, 2,     0.21, 2,    1.649, 2,    1.026, 2,    0.495, 4,    1.231, 4,   -999.0, 9,   -999.0, 9, -999.0000,   -999.00,   -999.0, 9,   -999.0,  -999.00, 9,   -999.0,  26.3411, 22.8144,  26.3672, 2, 9, 0.12, 0.03, 0.01, 0.016,  -999.00, 9, -999.00, -999.00, 9, -999.00
49NZ20071008, P14N, 101, 1, 33, X12033, 2, 20071117, 0820, 12.0085, 178.9865, 5983,    149.6, 2,  18.3332, 2,  34.6012, 2,  34.6028, 2,    157.9, 2,    157.9, 2,     5.68, 2,     7.63, 2,     0.25, 2,     0.76, 2,    2.220, 2,    1.291, 6,    0.185, 2,    0.650, 4,   -999.0, 9,   -999.0, 9, -999.0000,   -999.00,   -999.0, 9,   -999.0,  -999.00, 9,   -999.0,  18.3073, 24.8906,  18.3109, 2, 9, 0.13, 0.05, 0.01, 0.013,  -999.00, 9, -999.00, -999.00, 9, -999.00
49NZ20071008, P14N, 101, 1, 32, X12038, 2, 20071117, 0820, 12.0085, 178.9865, 5983,    200.3, 2,  12.7483, 2,  34.3112, 2,  34.3098, 2,    142.2, 2,    143.7, 2,    14.60, 2,    16.08, 2,     0.01, 2,     1.30, 2,    2.495, 2,    1.358, 2,    0.053, 2,    0.490, 4,   -999.0, 9,   -999.0, 9, -999.0000,   -999.00,   -999.0, 9,   -999.0,  -999.00, 9,   -999.0,  12.7213, 25.9145,  12.7504, 2, 9, 0.15, 0.08, 0.01, 0.014,  -999.00, 9, -999.00, -999.00, 9, -999.00
49NZ20071008, P14N, 101, 1, 31, X12003, 2, 20071117, 0820, 12.0085, 178.9865, 5983,    249.3, 2,  10.4612, 2,  34.4078, 2,  34.4093, 6,     65.7, 2,     65.8, 2,    29.11, 2,    28.02, 2,     0.00, 2,     2.19, 2,    1.342, 2,    0.684, 2,    0.034, 2,    0.338, 4,   -999.0, 9,   -999.0, 9, -999.0000,   -999.00,   -999.0, 9,   -999.0,  -999.00, 9,   -999.0,  10.4316, 26.4152,  10.4621, 2, 9, 0.18, 0.11, 0.01, 0.016,  -999.00, 9, -999.00, -999.00, 9, -999.00
49NZ20071008, P14N, 101, 1, 30, X12008, 2, 20071117, 0820, 12.0085, 178.9865, 5983,    330.2, 2,   8.9501, 2,  34.5453, 2,  34.5465, 2,     38.2, 2,     39.8, 2,    38.80, 2,    34.53, 2,     0.00, 2,     2.52, 2,    0.339, 2,    0.181, 2,    0.009, 2,    0.105, 4,   -999.0, 9,   -999.0, 9, -999.0000,   -999.00,   -999.0, 9,   -999.0,  -999.00, 9,   -999.0,   8.9143, 26.7757,   8.9513, 2, 9, 0.20, 0.13, 0.01, 0.016,  -999.00, 9, -999.00, -999.00, 9, -999.00
49NZ20071008, P14N, 101, 1, 29, X12035, 2, 20071117, 0820, 12.0085, 178.9865, 5983,    428.8, 2,   8.1592, 2,  34.5554, 2,  34.5542, 2,     43.3, 2,     43.6, 2,    44.38, 2,    36.08, 2,     0.00, 2,     2.62, 2,    0.170, 2,    0.095, 2,    0.011, 2,    0.061, 4,   -999.0, 9,   -999.0, 9, -999.0000,   -999.00,   -999.0, 9,   -999.0,  -999.00, 9,   -999.0,   8.1149, 26.9074,   8.1601, 2, 9, 0.22, 0.13, 0.01, 0.017,  -999.00, 9, -999.00, -999.00, 9, -999.00
49NZ20071008, P14N, 101, 1, 28, X12034, 2, 20071117, 0820, 12.0085, 178.9865, 5983,    532.1, 2,   7.3702, 2,  34.5366, 2,  34.5365, 6,     45.4, 2,     45.4, 2,    51.49, 2,    37.28, 2,     0.00, 2,     2.72, 2,    0.101, 2,    0.055, 2,    0.013, 2,    0.032, 4,   -999.0, 9,   -999.0, 9, -999.0000,   -999.00,   -999.0, 9,   -999.0,  -999.00, 9,   -999.0,   7.3181, 27.0091,   7.3720, 2, 9, 0.23, 0.14, 0.01, 0.017,  -999.00, 9, -999.00, -999.00, 9, -999.00
49NZ20071008, P14N, 101, 1, 27, X12049, 2, 20071117, 0820, 12.0085, 178.9865, 5983,    630.6, 2,   6.6824, 2,  34.5300, 2,  34.5291, 2,     36.7, 2,     37.6, 2,    60.10, 2,    39.39, 2,     0.00, 2,     2.88, 2,    0.037, 2,    0.017, 2,    0.007, 2,    0.016, 4,   -999.0, 9,   -999.0, 9, -999.0000,   -999.00,   -999.0, 9,   -999.0,  -999.00, 9,   -999.0,   6.6234, 27.0998,   6.6833, 2, 9, 0.25, 0.14, 0.01, 0.017,  -999.00, 9, -999.00, -999.00, 9, -999.00
49NZ20071008, P14N, 101, 1, 26, X12032, 2, 20071117, 0820, 12.0085, 178.9865, 5983,    730.0, 2,   6.0215, 2,  34.5290, 2,  34.5284, 2,     35.2, 2,     35.3, 2,    68.87, 2,    41.08, 2,     0.00, 2,     2.99, 2,    0.014, 6,    0.007, 6,    0.007, 6,    0.008, 4,   -999.0, 9,   -999.0, 9, -999.0000,   -999.00,   -999.0, 9,   -999.0,  -999.00, 9,   -999.0,   5.9564, 27.1860,   6.0211, 2, 9, 0.27, 0.15, 0.01, 0.017,  -999.00, 9, -999.00, -999.00, 9, -999.00
49NZ20071008, P14N, 101, 1, 25, X12043, 2, 20071117, 0820, 12.0085, 178.9865, 5983,    831.0, 2,   5.4691, 2,  34.5328, 2,  34.5324, 2,     41.7, 2,     40.9, 2,    76.73, 2,    41.79, 2,     0.00, 2,     3.01, 2,    0.005, 2,    0.003, 2,    0.005, 2,    0.004, 4,   -999.0, 9,   -999.0, 9, -999.0000,   -999.00,   -999.0, 9,   -999.0,  -999.00, 9,   -999.0,   5.3979, 27.2579,   5.4695, 2, 9, 0.29, 0.15, 0.01, 0.017,  -999.00, 9, -999.00, -999.00, 9, -999.00
49NZ20071008, P14N, 101, 1, 24, X12030, 2, 20071117, 0820, 12.0085, 178.9865, 5983,    931.8, 2,   4.9204, 2,  34.5414, 2,  34.5413, 2,     49.7, 2,     51.0, 2,    85.20, 2,    41.50, 2,     0.00, 2,     3.01, 2,    0.003, 2,    0.002, 2,    0.000, 2,    0.025, 4,   -999.0, 9,   -999.0, 9, -999.0000,   -999.00,   -999.0, 9,   -999.0,  -999.00, 9,   -999.0,   4.8437, 27.3296,   4.9202, 2, 9, 0.31, 0.15, 0.01, 0.017,  -999.00, 9, -999.00, -999.00, 9, -999.00
49NZ20071008, P14N, 101, 1, 23, X12027, 2, 20071117, 0820, 12.0085, 178.9865, 5983,   1070.0, 2,   4.4400, 2,  34.5525, 2,  34.5527, 6,     58.0, 2,     58.3, 2,    94.23, 2,    41.32, 2,     0.00, 2,     3.00, 2,    0.001, 2,    0.000, 2,    0.000, 2,    0.011, 4,   -999.0, 9,   -999.0, 9, -999.0000,   -999.00,   -999.0, 9,   -999.0,  -999.00, 9,   -999.0,   4.3548, 27.3926,   4.4404, 2, 9, 0.33, 0.15, 0.01, 0.017,  -999.00, 9, -999.00, -999.00, 9, -999.00
49NZ20071008, P14N, 101, 1, 22, X12028, 2, 20071117, 0820, 12.0085, 178.9865, 5983,   1272.0, 2,   3.6914, 2,  34.5742, 2,  34.5742, 2,     65.5, 2,     65.2, 2,   109.46, 2,    41.49, 2,     0.00, 2,     3.00, 2,    0.003, 2,    0.004, 2,    0.000, 2,    0.016, 4,   -999.0, 9,   -999.0, 9, -999.0000,   -999.00,   -999.0, 9,   -999.0,  -999.00, 9,   -999.0,   3.5954, 27.4885,   3.6922, 2, 9, 0.36, 0.15, 0.01, 0.017,  -999.00, 9, -999.00, -999.00, 9, -999.00
49NZ20071008, P14N, 101, 1, 21, X12009, 2, 20071117, 0820, 12.0085, 178.9865, 5983,   1470.8, 2,   3.1448, 2,  34.5920, 2,  34.5921, 2,     79.3, 2,     78.8, 2,   120.66, 2,    40.68, 2,     0.00, 2,     2.92, 2,    0.000, 2,    0.000, 2,    0.000, 2,    0.005, 4,   -999.0, 9,   -999.0, 9, -999.0000,   -999.00,   -999.0, 9,   -999.0,  -999.00, 9,   -999.0,   3.0377, 27.5559,   3.1451, 2, 9, 0.38, 0.15, 0.01, 0.017,  -999.00, 9, -999.00, -999.00, 9, -999.00
49NZ20071008, P14N, 101, 1, 20, X12026, 2, 20071117, 0820, 12.0085, 178.9865, 5983,   1672.7, 2,   2.7314, 2,  34.6066, 2,  34.6066, 2,     85.9, 2,     85.9, 2,   130.17, 2,    40.40, 2,     0.00, 2,     2.88, 2,    0.000, 2,    0.000, 2,    0.000, 2, -999.000, 5,   -999.0, 9,   -999.0, 9, -999.0000,   -999.00,   -999.0, 9,   -999.0,  -999.00, 9,   -999.0,   2.6123, 27.6056,   2.7318, 2, 9, 0.41, 0.15, 0.01, 0.017,  -999.00, 9, -999.00, -999.00, 9, -999.00
49NZ20071008, P14N, 101, 1, 19, X12025, 2, 20071117, 0820, 12.0085, 178.9865, 5983,   1872.0, 2,   2.4040, 2,  34.6233, 2,  34.6234, 2,     94.6, 2,     95.0, 2,   136.92, 2,    39.85, 2,     0.00, 2,     2.83, 2,    0.000, 2,    0.000, 2,    0.000, 2,    0.000, 4,   -999.0, 9,   -999.0, 9, -999.0000,   -999.00,   -999.0, 9,   -999.0,  -999.00, 9,   -999.0,   2.2724, 27.6479,   2.4041, 2, 9, 0.42, 0.14, 0.01, 0.017,  -999.00, 9, -999.00, -999.00, 9, -999.00
49NZ20071008, P14N, 101, 1, 18, X12024, 2, 20071117, 0820, 12.0085, 178.9865, 5983,   2069.8, 2,   2.1757, 2,  34.6368, 2,  34.6368, 2,    102.4, 2,    102.3, 2,   141.59, 2,    39.37, 2,     0.00, 2,     2.79, 2,    0.000, 2,    0.000, 2,    0.000, 2,    0.000, 4,   -999.0, 9,   -999.0, 9, -999.0000,   -999.00,   -999.0, 9,   -999.0,  -999.00, 9,   -999.0,   2.0306, 27.6783,   2.1760, 2, 9, 0.43, 0.14, 0.01, 0.017,  -999.00, 9, -999.00, -999.00, 9, -999.00
49NZ20071008, P14N, 101, 1, 17, X12023, 2, 20071117, 0820, 12.0085, 178.9865, 5983,   2270.2, 2,   2.0190, 2,  34.6465, 2,  34.6468, 2,    109.1, 2,    108.8, 2,   144.46, 2,    39.07, 2,     0.00, 2,     2.76, 2,    0.000, 2,    0.000, 2,    0.000, 2,    0.021, 4,   -999.0, 9,   -999.0, 9, -999.0000,   -999.00,   -999.0, 9,   -999.0,  -999.00, 9,   -999.0,   1.8590, 27.6995,   2.0191, 2, 9, 0.44, 0.14, 0.01, 0.017,  -999.00, 9, -999.00, -999.00, 9, -999.00
49NZ20071008, P14N, 101, 1, 16, X12022, 4, 20071117, 0820, 12.0085, 178.9865, 5983,   2469.3, 2,   1.9097, 2,  34.6553, 2,  34.5317, 4,    113.4, 2,     40.2, 4,    59.78, 4,    39.14, 4,     0.00, 4,     2.86, 4,    0.041, 4,    0.023, 4,    0.004, 4,    0.042, 4,   -999.0, 9,   -999.0, 9, -999.0000,   -999.00,   -999.0, 9,   -999.0,  -999.00, 9,   -999.0,   1.7339, 27.7161,   1.9098, 2, 9, 0.25, 0.14, 0.01, 0.017,  -999.00, 9, -999.00, -999.00, 9, -999.00
49NZ20071008, P14N, 101, 1, 15, X12021, 2, 20071117, 0820, 12.0085, 178.9865, 5983,   2670.4, 2,   1.8244, 2,  34.6608, 2,  34.6609, 6,    118.2, 2,    118.5, 2,   147.67, 2,    38.40, 2,     0.00, 2,     2.71, 2,    0.000, 2,    0.000, 2,    0.000, 2,    0.000, 4,   -999.0, 9,   -999.0, 9, -999.0000,   -999.00,   -999.0, 9,   -999.0,  -999.00, 9,   -999.0,   1.6318, 27.7283,   1.8244, 2, 9, 0.44, 0.14, 0.01, 0.017,  -999.00, 9, -999.00, -999.00, 9, -999.00
49NZ20071008, P14N, 101, 1, 14, X12020, 2, 20071117, 0820, 12.0085, 178.9865, 5983,   2871.3, 2,   1.7460, 2,  34.6656, 2,  34.6657, 2,    123.4, 2,    123.2, 2,   148.79, 2,    38.19, 2,     0.00, 2,     2.68, 2, -999.000, 9, -999.000, 9, -999.000, 9, -999.000, 9,   -999.0, 9,   -999.0, 9, -999.0000,   -999.00,   -999.0, 9,   -999.0,  -999.00, 9,   -999.0,   1.5362, 27.7391,   1.7463, 2, 9, 0.45, 0.14, 0.01, 0.017,  -999.00, 9, -999.00, -999.00, 9, -999.00
49NZ20071008, P14N, 101, 1, 13, X12019, 2, 20071117, 0820, 12.0085, 178.9865, 5983,   3079.3, 2,   1.6695, 2,  34.6700, 2,  34.6695, 2,    129.3, 2,    128.7, 2,   149.38, 2,    37.81, 2,     0.00, 2,     2.64, 2, -999.000, 9, -999.000, 9, -999.000, 9,    0.029, 4,   -999.0, 9,   -999.0, 9, -999.0000,   -999.00,   -999.0, 9,   -999.0,  -999.00, 9,   -999.0,   1.4413, 27.7496,   1.6696, 2, 9, 0.45, 0.14, 0.01, 0.017,  -999.00, 9, -999.00, -999.00, 9, -999.00
49NZ20071008, P14N, 101, 1, 12, X12040, 2, 20071117, 0820, 12.0085, 178.9865, 5983,   3328.5, 2,   1.5924, 2,  34.6751, 2,  34.6751, 2,    135.6, 2,    134.8, 2,   149.58, 2,    37.31, 2,     0.00, 2,     2.61, 2,    0.000, 2,    0.000, 2,    0.000, 2, -999.000, 9,   -999.0, 9,   -999.0, 9, -999.0000,   -999.00,   -999.0, 9,   -999.0,  -999.00, 9,   -999.0,   1.3414, 27.7609,   1.5926, 2, 9, 0.45, 0.14, 0.01, 0.016,  -999.00, 9, -999.00, -999.00, 9, -999.00
49NZ20071008, P14N, 101, 1, 11, X12047, 2, 20071117, 0820, 12.0085, 178.9865, 5983,   3580.2, 2,   1.5298, 2,  34.6799, 2,  34.6795, 2,    143.3, 2,    141.7, 2,   148.59, 2,    36.81, 2,     0.00, 2,     2.57, 2, -999.000, 9, -999.000, 9, -999.000, 9,    0.027, 4,   -999.0, 9,   -999.0, 9, -999.0000,   -999.00,   -999.0, 9,   -999.0,  -999.00, 9,   -999.0,   1.2547, 27.7708,   1.5300, 2, 9, 0.45, 0.14, 0.01, 0.016,  -999.00, 9, -999.00, -999.00, 9, -999.00
49NZ20071008, P14N, 101, 1, 10, X12012, 2, 20071117, 0820, 12.0085, 178.9865, 5983,   3829.6, 2,   1.4762, 2,  34.6850, 2,  34.6847, 2,    150.2, 2,    149.8, 2,   145.96, 2,    36.23, 2,     0.00, 2,     2.52, 2, -999.000, 9, -999.000, 9, -999.000, 9, -999.000, 9,   -999.0, 9,   -999.0, 9, -999.0000,   -999.00,   -999.0, 9,   -999.0,  -999.00, 9,   -999.0,   1.1763, 27.7803,   1.4761, 2, 9, 0.44, 0.13, 0.01, 0.016,  -999.00, 9, -999.00, -999.00, 9, -999.00
49NZ20071008, P14N, 101, 1, 9, X12015, 2, 20071117, 0820, 12.0085, 178.9865, 5983,   4079.9, 2,   1.4289, 2,  34.6896, 2,  34.6894, 2,    159.0, 2,    158.3, 2,   141.72, 2,    35.68, 2,     0.00, 2,     2.49, 2,    0.000, 2,    0.000, 2,    0.000, 2,    0.041, 4,   -999.0, 9,   -999.0, 9, -999.0000,   -999.00,   -999.0, 9,   -999.0,  -999.00, 9,   -999.0,   1.1033, 27.7890,   1.4290, 2, 9, 0.43, 0.13, 0.01, 0.016,  -999.00, 9, -999.00, -999.00, 9, -999.00
49NZ20071008, P14N, 101, 1, 8, X12046, 2, 20071117, 0820, 12.0085, 178.9865, 5983,   4330.4, 2,   1.3753, 2,  34.6944, 2,  34.6944, 6,    168.6, 2,    168.5, 2,   135.97, 2,    34.95, 2,     0.00, 2,     2.44, 2, -999.000, 9, -999.000, 9, -999.000, 9, -999.000, 9,   -999.0, 9,   -999.0, 9, -999.0000,   -999.00,   -999.0, 9,   -999.0,  -999.00, 9,   -999.0,   1.0234, 27.7983,   1.3753, 2, 9, 0.42, 0.13, 0.01, 0.016,  -999.00, 9, -999.00, -999.00, 9, -999.00
49NZ20071008, P14N, 101, 1, 7, X12044, 2, 20071117, 0820, 12.0085, 178.9865, 5983,   4580.6, 2,   1.3421, 2,  34.6985, 2,  34.6983, 2,    177.4, 2,    176.5, 2,   131.05, 2,    34.28, 2,     0.00, 2,     2.39, 2, -999.000, 9, -999.000, 9, -999.000, 9,    0.022, 4,   -999.0, 9,   -999.0, 9, -999.0000,   -999.00,   -999.0, 9,   -999.0,  -999.00, 9,   -999.0,   0.9627, 27.8056,   1.3422, 2, 9, 0.41, 0.13, 0.01, 0.016,  -999.00, 9, -999.00, -999.00, 9, -999.00
49NZ20071008, P14N, 101, 1, 6, X12048, 2, 20071117, 0820, 12.0085, 178.9865, 5983,   4829.5, 2,   1.3202, 2,  34.7016, 2,  34.7015, 2,    183.2, 2,    183.3, 2,   127.20, 2,    33.93, 2,     0.00, 2,     2.35, 2,    0.000, 2,    0.000, 2,    0.000, 2, -999.000, 9,   -999.0, 9,   -999.0, 9, -999.0000,   -999.00,   -999.0, 9,   -999.0,  -999.00, 9,   -999.0,   0.9123, 27.8113,   1.3202, 2, 9, 0.40, 0.13, 0.01, 0.016,  -999.00, 9, -999.00, -999.00, 9, -999.00
49NZ20071008, P14N, 101, 1, 5, X12014, 2, 20071117, 0820, 12.0085, 178.9865, 5983,   5079.2, 2,   1.3237, 2,  34.7033, 2,  34.7032, 2,    186.5, 2,    186.6, 2,   125.44, 2,    33.65, 2,     0.00, 2,     2.34, 2, -999.000, 9, -999.000, 9, -999.000, 9,    0.051, 4,   -999.0, 9,   -999.0, 9, -999.0000,   -999.00,   -999.0, 9,   -999.0,  -999.00, 9,   -999.0,   0.8857, 27.8144,   1.3239, 2, 9, 0.39, 0.13, 0.01, 0.016,  -999.00, 9, -999.00, -999.00, 9, -999.00
49NZ20071008, P14N, 101, 1, 4, X12006, 2, 20071117, 0820, 12.0085, 178.9865, 5983,   5329.3, 2,   1.3449, 2,  34.7036, 2,  34.7039, 2,    187.9, 2,    187.8, 2,   124.94, 2,    33.62, 2,     0.00, 2,     2.33, 2, -999.000, 9, -999.000, 9, -999.000, 9, -999.000, 9,   -999.0, 9,   -999.0, 9, -999.0000,   -999.00,   -999.0, 9,   -999.0,  -999.00, 9,   -999.0,   0.8754, 27.8154,   1.3449, 2, 9, 0.39, 0.13, 0.01, 0.016,  -999.00, 9, -999.00, -999.00, 9, -999.00
49NZ20071008, P14N, 101, 1, 3, X12013, 2, 20071117, 0820, 12.0085, 178.9865, 5983,   5578.6, 2,   1.3724, 2,  34.7039, 2,  34.7036, 3,    188.2, 2,    188.1, 2,   124.47, 2,    33.55, 2,     0.00, 2,     2.33, 2,    0.000, 2,    0.000, 2,    0.000, 2,    0.043, 4,   -999.0, 9,   -999.0, 9, -999.0000,   -999.00,   -999.0, 9,   -999.0,  -999.00, 9,   -999.0,   0.8704, 27.8160,   1.3725, 2, 9, 0.39, 0.13, 0.01, 0.016,  -999.00, 9, -999.00, -999.00, 9, -999.00
49NZ20071008, P14N, 101, 1, 2, X12002, 2, 20071117, 0820, 12.0085, 178.9865, 5983,   5829.3, 2,   1.4034, 2,  34.7039, 2,  34.7042, 2,    188.5, 2,    188.3, 2,   124.83, 2,    33.59, 2,     0.01, 2,     2.33, 2,    0.002, 2,    0.000, 2,    0.000, 2,    0.050, 4,   -999.0, 9,   -999.0, 9, -999.0000,   -999.00,   -999.0, 9,   -999.0,  -999.00, 9,   -999.0,   0.8677, 27.8161,   1.4034, 2, 9, 0.39, 0.13, 0.01, 0.016,  -999.00, 9, -999.00, -999.00, 9, -999.00
49NZ20071008, P14N, 101, 1, 1, X12001, 2, 20071117, 0820, 12.0085, 178.9865, 5983,   6095.7, 2,   1.4385, 2,  34.7040, 2,  34.7039, 6,    188.5, 2,    188.4, 2,   124.67, 2,    33.49, 2,     0.00, 2,     2.32, 2,    0.001, 2,    0.003, 2,    0.000, 2,    0.035, 4,   -999.0, 9,   -999.0, 9, -999.0000,   -999.00,   -999.0, 9,   -999.0,  -999.00, 9,   -999.0,   0.8661, 27.8163,   1.4387, 2, 9, 0.39, 0.13, 0.01, 0.016,  -999.00, 9, -999.00, -999.00, 9, -999.00