BOTTLE,20221005CCHSIOAMB
EXPOCODE,SECT_ID,STNNBR,CASTNO,SAMPNO,BTLNBR,BTLNBR_FLAG_W,DATE,TIME,LATITUDE,LONGITUDE,DEPTH,CTDPRS,CTDPRS_FLAG_W,CTDTMP,CTDTMP_FLAG_W,CTDSAL,CTDSAL_FLAG_W,SALNTY,SALNTY_FLAG_W,CTDOXY,CTDOXY_FLAG_W,OXYGEN,OXYGEN_FLAG_W,SILCAT,SILCAT_FLAG_W,NITRAT,NITRAT_FLAG_W,NITRIT,NITRIT_FLAG_W,PHSPHT,PHSPHT_FLAG_W,CFC-11,CFC-11_FLAG_W,CFC-12,CFC-12_FLAG_W,CFC113,CFC113_FLAG_W,CCL4,CCL4_FLAG_W,TCARBN,TCARBN_FLAG_W,ALKALI,ALKALI_FLAG_W,PH_TOT,PH_TMP,DELC14,DELC14_FLAG_W,C14ERR,DELC13,DELC13_FLAG_W,C13ERR,THETA,SIG0,SBE35,SBE35_FLAG_W,PH_TOT_FLAG_W,SILUNC,NRAUNC,NRIUNC,PHPUNC,CS-137,CS-137_FLAG_W,CS137ER,PLUTO,PLUTO_FLAG_W,PLUTOER
,,,,,,,,,,,METERS,DBAR,,ITS-90,,PSS-78,,PSS-78,,UMOL/KG,,UMOL/KG,,UMOL/KG,,UMOL/KG,,UMOL/KG,,UMOL/KG,,PMOL/KG,,PMOL/KG,,PMOL/KG,,PMOL/KG,,UMOL/KG,,UMOL/KG,,,DEG C,/MILLE,,/MILLE,/MILLE,,/MILLE,DEG C,KG/M^3,ITS-90,,,UMOL/KG,UMOL/KG,UMOL/KG,UMOL/KG,DM/.1MG,,BQ/M^3,MBQ/M^3,,MBQ/M^3
49NZ20071008, P14N, 82, 1, 36, X12042, 2, 20071112, 2037, 21.5053, 178.9873, 2641,     10.1, 2,  26.9666, 2,  35.2371, 2,  35.2368, 2,    201.6, 2,    202.0, 2,     0.87, 2,     0.04, 2,     0.01, 2,     0.04, 2,    1.572, 2,    0.967, 2,    0.307, 4, -999.000, 9,   1975.7, 2,   2318.2, 2,    8.1185,     25.00,   -999.0, 9,   -999.0,  -999.00, 9,   -999.0,  26.9643, 22.9078,  26.9666, 2, 2, 0.12, 0.03, 0.01, 0.040,  -999.00, 9, -999.00, -999.00, 9, -999.00
49NZ20071008, P14N, 82, 1, 35, X12041, 2, 20071112, 2037, 21.5053, 178.9873, 2641,     49.8, 2,  26.9127, 2,  35.2712, 2,  35.2718, 2,    202.4, 2,    202.4, 2,     0.85, 2,     0.03, 2,     0.01, 2,     0.04, 2,    1.568, 2,    0.956, 2,    0.355, 4, -999.000, 9,   1975.9, 6,   2321.6, 2,    8.1181,     25.00,   -999.0, 9,   -999.0,  -999.00, 9,   -999.0,  26.9013, 22.9536,  26.9114, 2, 2, 0.12, 0.03, 0.01, 0.039,  -999.00, 9, -999.00, -999.00, 9, -999.00
49NZ20071008, P14N, 82, 1, 34, X12016, 2, 20071112, 2037, 21.5053, 178.9873, 2641,    100.0, 2,  24.2951, 2,  35.2757, 2,  35.2757, 2,    205.3, 2,    209.0, 2,     1.09, 2,     0.03, 2,     0.01, 2,     0.05, 2,    1.837, 2,    1.118, 2,    0.533, 4, -999.000, 9,   1999.5, 2,   2321.0, 6,    8.0786,     25.00,   -999.0, 9,   -999.0,  -999.00, 9,   -999.0,  24.2738, 23.7686,  24.2952, 2, 2, 0.12, 0.03, 0.01, 0.032,  -999.00, 9, -999.00, -999.00, 9, -999.00
49NZ20071008, P14N, 82, 1, 33, X12033, 2, 20071112, 2037, 21.5053, 178.9873, 2641,    149.4, 2,  21.3035, 2,  35.1230, 2,  35.1209, 2,    194.1, 2,    194.3, 2,     1.87, 2,     1.04, 2,     0.03, 2,     0.16, 2,    2.088, 6,    1.232, 6,    0.261, 4, -999.000, 9,   2030.8, 2,   2309.3, 2,    8.0114,     25.00,   -999.0, 9,   -999.0,  -999.00, 9,   -999.0,  21.2746, 24.5125,  21.3020, 2, 6, 0.12, 0.04, 0.01, 0.018,  -999.00, 9, -999.00, -999.00, 9, -999.00
49NZ20071008, P14N, 82, 1, 32, X12038, 2, 20071112, 2037, 21.5053, 178.9873, 2641,    202.3, 2,  18.2386, 2,  34.8393, 2,  34.8436, 2,    192.5, 2,    194.0, 2,     3.41, 2,     3.70, 2,     0.02, 2,     0.33, 2,    2.358, 2,    1.378, 2,    0.108, 4, -999.000, 9,   2047.4, 2,   2291.9, 2,    7.9550,     25.00,   -999.0, 9,   -999.0,  -999.00, 9,   -999.0,  18.2036, 25.0987,  18.2368, 2, 2, 0.13, 0.04, 0.01, 0.014,  -999.00, 9, -999.00, -999.00, 9, -999.00
49NZ20071008, P14N, 82, 1, 31, X12003, 2, 20071112, 2037, 21.5053, 178.9873, 2641,    249.6, 2,  15.4092, 2,  34.5765, 2,  34.5733, 6,    197.8, 2,    196.9, 2,     6.54, 2,     7.22, 2,     0.01, 2,     0.58, 2,    2.640, 2,    1.516, 2,    0.053, 2, -999.000, 9,   2063.7, 2,   2276.5, 2,    7.8969,     25.00,   -999.0, 9,   -999.0,  -999.00, 9,   -999.0,  15.3708, 25.5635,  15.4076, 2, 2, 0.13, 0.05, 0.01, 0.013,  -999.00, 9, -999.00, -999.00, 9, -999.00
49NZ20071008, P14N, 82, 1, 30, X12008, 2, 20071112, 2037, 21.5053, 178.9873, 2641,    299.7, 2,  14.2058, 2,  34.4763, 2,  34.4710, 2,    199.0, 2,    199.1, 2,     8.55, 2,     8.93, 2,     0.01, 2,     0.69, 2,    2.743, 2,    1.568, 2,    0.048, 2, -999.000, 9,   2072.3, 2,   2271.8, 2,    7.8708,     25.00,   -999.0, 9,   -999.0,  -999.00, 9,   -999.0,  14.1621, 25.7482,  14.2098, 2, 2, 0.14, 0.06, 0.01, 0.013,  -999.00, 9, -999.00, -999.00, 9, -999.00
49NZ20071008, P14N, 82, 1, 29, X12035, 2, 20071112, 2037, 21.5053, 178.9873, 2641,    401.3, 2,  11.2336, 2,  34.2577, 2,  34.2570, 2,    190.8, 2,    193.4, 2,    16.94, 2,    14.69, 2,     0.01, 2,     1.10, 2,    2.851, 2,    1.580, 2,    0.067, 2, -999.000, 9,   2106.7, 2,   2267.4, 2,    7.7865,     25.00,   -999.0, 9,   -999.0,  -999.00, 9,   -999.0,  11.1834, 26.1643,  11.2388, 2, 2, 0.16, 0.07, 0.01, 0.013,  -999.00, 9, -999.00, -999.00, 9, -999.00
49NZ20071008, P14N, 82, 1, 28, X12034, 2, 20071112, 2037, 21.5053, 178.9873, 2641,    498.7, 2,   8.7248, 2,  34.1228, 2,  34.1197, 6,    149.2, 2,    155.5, 2,    33.30, 2,    23.29, 2,     0.01, 2,     1.71, 2,    2.478, 2,    1.258, 2,    0.072, 2, -999.000, 9,   2167.5, 2,   2274.9, 2,    7.6546,     25.00,   -999.0, 9,   -999.0,  -999.00, 9,   -999.0,   8.6713, 26.4829,   8.7257, 2, 2, 0.19, 0.10, 0.01, 0.014,  -999.00, 9, -999.00, -999.00, 9, -999.00
49NZ20071008, P14N, 82, 1, 27, X12049, 2, 20071112, 2037, 21.5053, 178.9873, 2641,    600.4, 2,   6.2647, 2,  34.1055, 2,  34.1056, 2,     90.1, 2,     88.4, 2,    62.14, 2,    33.86, 2,     0.01, 2,     2.47, 2,    1.191, 2,    0.568, 2,    0.035, 2, -999.000, 9,   2251.6, 2,   2298.2, 2,    7.4812,     25.00,   -999.0, 9,   -999.0,  -999.00, 9,   -999.0,   6.2110, 26.8190,   6.2653, 2, 2, 0.26, 0.13, 0.01, 0.016,  -999.00, 9, -999.00, -999.00, 9, -999.00
49NZ20071008, P14N, 82, 1, 26, X12032, 2, 20071112, 2037, 21.5053, 178.9873, 2641,    699.1, 2,   5.3076, 2,  34.1933, 2,  34.1939, 2,     51.8, 2,     52.6, 2,    80.42, 2,    38.67, 2,     0.01, 2,     2.84, 2,    0.458, 6,    0.223, 6,    0.009, 2, -999.000, 9,   2298.1, 6,   2320.0, 2,    7.4084,     25.00,   -999.0, 9,   -999.0,  -999.00, 9,   -999.0,   5.2496, 27.0067,   5.3077, 2, 2, 0.30, 0.14, 0.01, 0.017,  -999.00, 9, -999.00, -999.00, 9, -999.00
49NZ20071008, P14N, 82, 1, 25, X12043, 2, 20071112, 2037, 21.5053, 178.9873, 2641,    799.8, 2,   4.6719, 2,  34.3097, 2,  34.3105, 2,     39.0, 2,     38.9, 2,    94.72, 2,    41.07, 2,     0.01, 2,     3.01, 2,    0.131, 2,    0.066, 2,    0.000, 2, -999.000, 9,   2326.0, 2,   2341.8, 6,    7.3897,     25.00,   -999.0, 9,   -999.0,  -999.00, 9,   -999.0,   4.6087, 27.1720,   4.6720, 2, 2, 0.33, 0.15, 0.01, 0.017,  -999.00, 9, -999.00, -999.00, 9, -999.00
49NZ20071008, P14N, 82, 1, 24, X12030, 2, 20071112, 2037, 21.5053, 178.9873, 2641,    900.8, 2,   4.3251, 2,  34.4046, 2,  34.3937, 3,     43.1, 2,     42.4, 2,   101.02, 2,    41.39, 2,     0.01, 2,     3.00, 2,    0.046, 2,    0.024, 2,    0.000, 2, -999.000, 9,   2336.2, 3,   2355.2, 2,    7.4039,     25.00,   -999.0, 9,   -999.0,  -999.00, 9,   -999.0,   4.2555, 27.2857,   4.3251, 2, 6, 0.34, 0.15, 0.01, 0.017,  -999.00, 9, -999.00, -999.00, 9, -999.00
49NZ20071008, P14N, 82, 1, 23, X12027, 2, 20071112, 2037, 21.5053, 178.9873, 2641,   1002.5, 2,   4.0609, 2,  34.4764, 2,  34.4770, 6,     53.0, 2,     55.4, 2,   105.94, 2,    40.77, 2,     0.01, 2,     2.95, 2,    0.010, 2,    0.005, 2,    0.000, 2, -999.000, 9,   2336.3, 2,   2367.9, 2,    7.4362,     25.00,   -999.0, 9,   -999.0,  -999.00, 9,   -999.0,   3.9846, 27.3712,   4.0610, 2, 2, 0.35, 0.15, 0.01, 0.017,  -999.00, 9, -999.00, -999.00, 9, -999.00
49NZ20071008, P14N, 82, 1, 22, X12028, 2, 20071112, 2037, 21.5053, 178.9873, 2641,   1199.6, 2,   3.5672, 2,  34.5305, 2,  34.5317, 2,     66.5, 2,     67.2, 2,   115.99, 2,    40.69, 2,     0.01, 2,     2.93, 2,    0.000, 2,    0.000, 2,    0.000, 2, -999.000, 9,   2342.3, 2,   2381.5, 2,    7.4583,     25.00,   -999.0, 9,   -999.0,  -999.00, 9,   -999.0,   3.4786, 27.4651,   3.5672, 2, 2, 0.37, 0.15, 0.01, 0.017,  -999.00, 9, -999.00, -999.00, 9, -999.00
49NZ20071008, P14N, 82, 1, 21, X12009, 2, 20071112, 2037, 21.5053, 178.9873, 2641,   1402.1, 2,   3.0637, 2,  34.5592, 2,  34.5595, 2,     74.5, 2,     74.5, 2,   126.04, 2,    40.49, 2,     0.01, 2,     2.91, 2,    0.000, 2,    0.000, 2,    0.000, 2, -999.000, 9,   2348.3, 2,   2392.2, 2,    7.4679,     25.00,   -999.0, 9,   -999.0,  -999.00, 9,   -999.0,   2.9633, 27.5366,   3.0635, 2, 2, 0.40, 0.15, 0.01, 0.017,  -999.00, 9, -999.00, -999.00, 9, -999.00
49NZ20071008, P14N, 82, 1, 20, X12026, 2, 20071112, 2037, 21.5053, 178.9873, 2641,   1601.0, 2,   2.6306, 2,  34.5830, 2,  34.5832, 2,     82.8, 2,     83.1, 2,   134.91, 2,    40.29, 2,     0.01, 2,     2.87, 2,    0.000, 2,    0.000, 2,    0.000, 2, -999.000, 9,   2353.4, 2,   2398.9, 2,    7.4806,     25.00,   -999.0, 9,   -999.0,  -999.00, 9,   -999.0,   2.5188, 27.5949,   2.6303, 2, 6, 0.42, 0.15, 0.01, 0.017,  -999.00, 9, -999.00, -999.00, 9, -999.00
49NZ20071008, P14N, 82, 1, 19, X12025, 2, 20071112, 2037, 21.5053, 178.9873, 2641,   1801.7, 2,   2.2795, 2,  34.6034, 2,  34.6035, 6,     91.0, 2,     90.9, 2,   142.48, 2,    39.88, 2,     0.01, 2,     2.83, 2,    0.000, 2,    0.000, 2,    0.000, 2, -999.000, 9,   2357.1, 2,   2408.6, 2,    7.4918,     25.00,   -999.0, 9,   -999.0,  -999.00, 9,   -999.0,   2.1556, 27.6415,   2.2794, 2, 2, 0.43, 0.14, 0.01, 0.017,  -999.00, 9, -999.00, -999.00, 9, -999.00
49NZ20071008, P14N, 82, 1, 18, X12024, 2, 20071112, 2037, 21.5053, 178.9873, 2641,   2000.4, 2,   2.0394, 2,  34.6207, 2,  34.6212, 2,     99.6, 2,     99.4, 2,   147.05, 2,    39.48, 2,     0.01, 2,     2.79, 2,    0.000, 2,    0.000, 2,    0.000, 2, -999.000, 9,   2357.3, 2,   2413.0, 2,    7.5061,     25.00,   -999.0, 9,   -999.0,  -999.00, 9,   -999.0,   1.9024, 27.6754,   2.0393, 2, 2, 0.44, 0.14, 0.01, 0.017,  -999.00, 9, -999.00, -999.00, 9, -999.00
49NZ20071008, P14N, 82, 1, 17, X12023, 2, 20071112, 2037, 21.5053, 178.9873, 2641,   2202.9, 2,   1.8779, 2,  34.6337, 2,  34.6340, 2,    106.8, 2,    106.4, 2,   149.64, 2,    39.08, 2,     0.01, 2,     2.76, 2,    0.000, 2,    0.000, 2,    0.000, 2, -999.000, 9,   2355.6, 2,   2416.3, 2,    7.5174,     25.00,   -999.0, 9,   -999.0,  -999.00, 9,   -999.0,   1.7262, 27.6994,   1.8778, 2, 2, 0.45, 0.14, 0.01, 0.017,  -999.00, 9, -999.00, -999.00, 9, -999.00
49NZ20071008, P14N, 82, 1, 16, X12022, 2, 20071112, 2037, 21.5053, 178.9873, 2641,   2400.5, 2,   1.7492, 2,  34.6461, 2,  34.6469, 2,    115.8, 2,    115.7, 2,   150.02, 2,    38.50, 2,     0.01, 2,     2.71, 2,    0.000, 2,    0.000, 2,    0.000, 2, -999.000, 9,   2352.6, 6,   2417.8, 2,    7.5334,     25.00,   -999.0, 9,   -999.0,  -999.00, 9,   -999.0,   1.5825, 27.7202,   1.7492, 2, 2, 0.45, 0.14, 0.01, 0.017,  -999.00, 9, -999.00, -999.00, 9, -999.00
49NZ20071008, P14N, 82, 1, 15, X12021, 2, 20071112, 2037, 21.5053, 178.9873, 2641,   2600.4, 2,   1.6754, 2,  34.6539, 2,  34.6544, 2,    122.0, 2,    121.7, 2,   150.11, 2,    38.00, 2,     0.01, 2,     2.67, 2,    0.000, 2,    0.000, 2,    0.000, 2, -999.000, 9,   2349.0, 2,   2418.7, 6,    7.5427,     25.00,   -999.0, 9,   -999.0,  -999.00, 9,   -999.0,   1.4922, 27.7330,   1.6753, 2, 2, 0.45, 0.14, 0.01, 0.017,  -999.00, 9, -999.00, -999.00, 9, -999.00
49NZ20071008, P14N, 82, 1, 14, X12020, 9, 20071112, 2037, 21.5053, 178.9873, 2641,    600.6, 2,   6.2657, 2,  34.1055, 2, -999.0000, 9,     90.1, 2,   -999.0, 9,  -999.00, 9,  -999.00, 9,  -999.00, 9,  -999.00, 9, -999.000, 9, -999.000, 9, -999.000, 9, -999.000, 9,   -999.0, 9,   -999.0, 9, -999.0000,   -999.00,   -999.0, 9,   -999.0,  -999.00, 9,   -999.0,   6.2120, 26.8188,   6.2662, 2, 9, -999.00, -999.00, -999.00, -999.000,  -999.00, 9, -999.00, -999.00, 9, -999.00
49NZ20071008, P14N, 82, 1, 13, X12019, 9, 20071112, 2037, 21.5053, 178.9873, 2641,    799.7, 2,   4.6748, 2,  34.3090, 2, -999.0000, 9,     39.0, 2,   -999.0, 9,  -999.00, 9,  -999.00, 9,  -999.00, 9,  -999.00, 9, -999.000, 9, -999.000, 9, -999.000, 9, -999.000, 9,   -999.0, 9,   -999.0, 9, -999.0000,   -999.00,   -999.0, 9,   -999.0,  -999.00, 9,   -999.0,   4.6116, 27.1712,   4.6750, 2, 9, -999.00, -999.00, -999.00, -999.000,  -999.00, 9, -999.00, -999.00, 9, -999.00
49NZ20071008, P14N, 82, 1, 12, X12040, 9, 20071112, 2037, 21.5053, 178.9873, 2641,    901.0, 2,   4.3251, 2,  34.4046, 2, -999.0000, 9,     43.1, 2,   -999.0, 9,  -999.00, 9,  -999.00, 9,  -999.00, 9,  -999.00, 9, -999.000, 9, -999.000, 9, -999.000, 9, -999.000, 9,   -999.0, 9,   -999.0, 9, -999.0000,   -999.00,   -999.0, 9,   -999.0,  -999.00, 9,   -999.0,   4.2555, 27.2857,   4.3252, 2, 9, -999.00, -999.00, -999.00, -999.000,  -999.00, 9, -999.00, -999.00, 9, -999.00
49NZ20071008, P14N, 82, 1, 11, X12047, 9, 20071112, 2037, 21.5053, 178.9873, 2641,   1002.3, 2,   4.0618, 2,  34.4761, 2, -999.0000, 9,     53.0, 2,   -999.0, 9,  -999.00, 9,  -999.00, 9,  -999.00, 9,  -999.00, 9, -999.000, 9, -999.000, 9, -999.000, 9, -999.000, 9,   -999.0, 9,   -999.0, 9, -999.0000,   -999.00,   -999.0, 9,   -999.0,  -999.00, 9,   -999.0,   3.9855, 27.3709,   4.0619, 2, 9, -999.00, -999.00, -999.00, -999.000,  -999.00, 9, -999.00, -999.00, 9, -999.00
49NZ20071008, P14N, 82, 1, 10, X12012, 9, 20071112, 2037, 21.5053, 178.9873, 2641,   1200.2, 2,   3.5620, 2,  34.5307, 2, -999.0000, 9,     66.6, 2,   -999.0, 9,  -999.00, 9,  -999.00, 9,  -999.00, 9,  -999.00, 9, -999.000, 9, -999.000, 9, -999.000, 9, -999.000, 9,   -999.0, 9,   -999.0, 9, -999.0000,   -999.00,   -999.0, 9,   -999.0,  -999.00, 9,   -999.0,   3.4734, 27.4657,   3.5620, 2, 9, -999.00, -999.00, -999.00, -999.000,  -999.00, 9, -999.00, -999.00, 9, -999.00
49NZ20071008, P14N, 82, 1, 9, X12015, 9, 20071112, 2037, 21.5053, 178.9873, 2641,   1401.7, 2,   3.0650, 2,  34.5591, 2, -999.0000, 9,     74.5, 2,   -999.0, 9,  -999.00, 9,  -999.00, 9,  -999.00, 9,  -999.00, 9, -999.000, 9, -999.000, 9, -999.000, 9, -999.000, 9,   -999.0, 9,   -999.0, 9, -999.0000,   -999.00,   -999.0, 9,   -999.0,  -999.00, 9,   -999.0,   2.9646, 27.5364,   3.0647, 2, 9, -999.00, -999.00, -999.00, -999.000,  -999.00, 9, -999.00, -999.00, 9, -999.00
49NZ20071008, P14N, 82, 1, 8, X12046, 9, 20071112, 2037, 21.5053, 178.9873, 2641,   1601.0, 2,   2.6299, 2,  34.5830, 2, -999.0000, 9,     82.8, 2,   -999.0, 9,  -999.00, 9,  -999.00, 9,  -999.00, 9,  -999.00, 9, -999.000, 9, -999.000, 9, -999.000, 9, -999.000, 9,   -999.0, 9,   -999.0, 9, -999.0000,   -999.00,   -999.0, 9,   -999.0,  -999.00, 9,   -999.0,   2.5181, 27.5949,   2.6297, 2, 9, -999.00, -999.00, -999.00, -999.000,  -999.00, 9, -999.00, -999.00, 9, -999.00
49NZ20071008, P14N, 82, 1, 7, X12044, 9, 20071112, 2037, 21.5053, 178.9873, 2641,   1801.3, 2,   2.2811, 2,  34.6032, 2, -999.0000, 9,     91.0, 2,   -999.0, 9,  -999.00, 9,  -999.00, 9,  -999.00, 9,  -999.00, 9, -999.000, 9, -999.000, 9, -999.000, 9, -999.000, 9,   -999.0, 9,   -999.0, 9, -999.0000,   -999.00,   -999.0, 9,   -999.0,  -999.00, 9,   -999.0,   2.1572, 27.6412,   2.2811, 2, 9, -999.00, -999.00, -999.00, -999.000,  -999.00, 9, -999.00, -999.00, 9, -999.00
49NZ20071008, P14N, 82, 1, 6, X12048, 9, 20071112, 2037, 21.5053, 178.9873, 2641,   2000.8, 2,   2.0399, 2,  34.6208, 2, -999.0000, 9,     99.6, 2,   -999.0, 9,  -999.00, 9,  -999.00, 9,  -999.00, 9,  -999.00, 9, -999.000, 9, -999.000, 9, -999.000, 9, -999.000, 9,   -999.0, 9,   -999.0, 9, -999.0000,   -999.00,   -999.0, 9,   -999.0,  -999.00, 9,   -999.0,   1.9028, 27.6755,   2.0399, 2, 9, -999.00, -999.00, -999.00, -999.000,  -999.00, 9, -999.00, -999.00, 9, -999.00
49NZ20071008, P14N, 82, 1, 5, X12014, 9, 20071112, 2037, 21.5053, 178.9873, 2641,   2202.9, 2,   1.8781, 2,  34.6337, 2, -999.0000, 9,    106.8, 2,   -999.0, 9,  -999.00, 9,  -999.00, 9,  -999.00, 9,  -999.00, 9, -999.000, 9, -999.000, 9, -999.000, 9, -999.000, 9,   -999.0, 9,   -999.0, 9, -999.0000,   -999.00,   -999.0, 9,   -999.0,  -999.00, 9,   -999.0,   1.7264, 27.6994,   1.8780, 2, 9, -999.00, -999.00, -999.00, -999.000,  -999.00, 9, -999.00, -999.00, 9, -999.00
49NZ20071008, P14N, 82, 1, 4, X12006, 9, 20071112, 2037, 21.5053, 178.9873, 2641,   2400.7, 2,   1.7490, 2,  34.6462, 2, -999.0000, 9,    115.8, 2,   -999.0, 9,  -999.00, 9,  -999.00, 9,  -999.00, 9,  -999.00, 9, -999.000, 9, -999.000, 9, -999.000, 9, -999.000, 9,   -999.0, 9,   -999.0, 9, -999.0000,   -999.00,   -999.0, 9,   -999.0,  -999.00, 9,   -999.0,   1.5822, 27.7202,   1.7489, 2, 9, -999.00, -999.00, -999.00, -999.000,  -999.00, 9, -999.00, -999.00, 9, -999.00
49NZ20071008, P14N, 82, 1, 3, X12013, 9, 20071112, 2037, 21.5053, 178.9873, 2641,   2600.0, 2,   1.6758, 2,  34.6538, 2, -999.0000, 9,    122.0, 2,   -999.0, 9,  -999.00, 9,  -999.00, 9,  -999.00, 9,  -999.00, 9, -999.000, 9, -999.000, 9, -999.000, 9, -999.000, 9,   -999.0, 9,   -999.0, 9, -999.0000,   -999.00,   -999.0, 9,   -999.0,  -999.00, 9,   -999.0,   1.4926, 27.7329,   1.6757, 2, 9, -999.00, -999.00, -999.00, -999.000,  -999.00, 9, -999.00, -999.00, 9, -999.00
49NZ20071008, P14N, 82, 1, 2, X12002, 9, 20071112, 2037, 21.5053, 178.9873, 2641,   2679.9, 2,   1.6668, 2,  34.6553, 2, -999.0000, 9,    122.6, 2,   -999.0, 9,  -999.00, 9,  -999.00, 9,  -999.00, 9,  -999.00, 9, -999.000, 9, -999.000, 9, -999.000, 9, -999.000, 9,   -999.0, 9,   -999.0, 9, -999.0000,   -999.00,   -999.0, 9,   -999.0,  -999.00, 9,   -999.0,   1.4765, 27.7353,   1.6668, 2, 9, -999.00, -999.00, -999.00, -999.000,  -999.00, 9, -999.00, -999.00, 9, -999.00
49NZ20071008, P14N, 82, 1, 1, X12001, 2, 20071112, 2037, 21.5053, 178.9873, 2641,   2680.1, 2,   1.6676, 2,  34.6552, 2,  34.6556, 6,    122.6, 2,    122.5, 2,   149.89, 2,    38.11, 2,     0.01, 2,     2.68, 2,    0.000, 2,    0.000, 2,    0.000, 2, -999.000, 9,   2348.0, 2,   2418.5, 2,    7.5444,     25.00,   -999.0, 9,   -999.0,  -999.00, 9,   -999.0,   1.4773, 27.7351,   1.6674, 2, 2, 0.45, 0.14, 0.01, 0.017,  -999.00, 9, -999.00, -999.00, 9, -999.00