BOTTLE,20221005CCHSIOAMB
EXPOCODE,SECT_ID,STNNBR,CASTNO,SAMPNO,BTLNBR,BTLNBR_FLAG_W,DATE,TIME,LATITUDE,LONGITUDE,DEPTH,CTDPRS,CTDPRS_FLAG_W,CTDTMP,CTDTMP_FLAG_W,CTDSAL,CTDSAL_FLAG_W,SALNTY,SALNTY_FLAG_W,CTDOXY,CTDOXY_FLAG_W,OXYGEN,OXYGEN_FLAG_W,SILCAT,SILCAT_FLAG_W,NITRAT,NITRAT_FLAG_W,NITRIT,NITRIT_FLAG_W,PHSPHT,PHSPHT_FLAG_W,CFC-11,CFC-11_FLAG_W,CFC-12,CFC-12_FLAG_W,CFC113,CFC113_FLAG_W,CCL4,CCL4_FLAG_W,TCARBN,TCARBN_FLAG_W,ALKALI,ALKALI_FLAG_W,PH_TOT,PH_TMP,DELC14,DELC14_FLAG_W,C14ERR,DELC13,DELC13_FLAG_W,C13ERR,THETA,SIG0,SBE35,SBE35_FLAG_W,PH_TOT_FLAG_W,SILUNC,NRAUNC,NRIUNC,PHPUNC,CS-137,CS-137_FLAG_W,CS137ER,PLUTO,PLUTO_FLAG_W,PLUTOER
,,,,,,,,,,,METERS,DBAR,,ITS-90,,PSS-78,,PSS-78,,UMOL/KG,,UMOL/KG,,UMOL/KG,,UMOL/KG,,UMOL/KG,,UMOL/KG,,PMOL/KG,,PMOL/KG,,PMOL/KG,,PMOL/KG,,UMOL/KG,,UMOL/KG,,,DEG C,/MILLE,,/MILLE,/MILLE,,/MILLE,DEG C,KG/M^3,ITS-90,,,UMOL/KG,UMOL/KG,UMOL/KG,UMOL/KG,DM/.1MG,,BQ/M^3,MBQ/M^3,,MBQ/M^3
49NZ20071008, P01, P01_X13, 1, 36, X12042, 2, 20071015, 1331, 46.9922, 164.9952, 5892,     10.3, 2,   8.9436, 2,  32.7504, 2,  32.7503, 2,    288.6, 2,    288.0, 2,    22.26, 2,    12.82, 2,     0.24, 2,     1.30, 2,    3.913, 2,    2.153, 2,    0.372, 2, -999.000, 9,   2038.6, 2,   2146.7, 2,    7.8550,     25.00,   -999.0, 1,   -999.0,  -999.00, 1,   -999.0,   8.9425, 25.3659,   8.9409, 2, 2, 0.17, 0.07, 0.01, 0.014,  -999.00, 9, -999.00, -999.00, 9, -999.00
49NZ20071008, P01, P01_X13, 1, 35, X12041, 2, 20071015, 1331, 46.9922, 164.9952, 5892,     50.4, 2,   7.4019, 2,  32.8073, 2,  32.8074, 2,    279.6, 2,    295.0, 2,    25.54, 2,    14.74, 2,     0.36, 2,     1.44, 2,    4.318, 2,    2.352, 2,    0.401, 2, -999.000, 9,   2057.9, 6,   2222.5, 2,    7.8145,     25.00,   -999.0, 1,   -999.0,  -999.00, 1,   -999.0,   7.3972, 25.6376,   7.3319, 2, 2, 0.18, 0.07, 0.00, 0.014,  -999.00, 9, -999.00, -999.00, 9, -999.00
49NZ20071008, P01, P01_X13, 1, 34, X12016, 2, 20071015, 1331, 46.9922, 164.9952, 5892,    100.4, 2,   2.1576, 2,  33.1467, 2,  33.1502, 2,    317.1, 2,    312.4, 2,    39.72, 2,    24.32, 2,     0.02, 2,     1.94, 2,    5.560, 2,    2.953, 2,    0.498, 2, -999.000, 9,   2130.2, 2,   2241.0, 2,    7.6673,     25.00,   -999.0, 1,   -999.0,  -999.00, 1,   -999.0,   2.1524, 26.4754,   2.1579, 2, 2, 0.21, 0.10, 0.01, 0.015,  -999.00, 9, -999.00, -999.00, 9, -999.00
49NZ20071008, P01, P01_X13, 1, 33, X12033, 2, 20071015, 1331, 46.9922, 164.9952, 5892,    149.6, 2,   2.1064, 2,  33.3683, 2,  33.3667, 2,    230.2, 2,    219.7, 2,    61.56, 2,    32.73, 2,     0.02, 2,     2.47, 2,    4.545, 6,    2.378, 6,    0.371, 6, -999.000, 9,   2201.8, 2,   2258.6, 2,    7.5069,     25.00,   -999.0, 1,   -999.0,  -999.00, 1,   -999.0,   2.0987, 26.6570,   2.1075, 2, 6, 0.25, 0.12, 0.01, 0.016,  -999.00, 9, -999.00, -999.00, 9, -999.00
49NZ20071008, P01, P01_X13, 1, 32, X12038, 2, 20071015, 1331, 46.9922, 164.9952, 5892,    198.7, 2,   3.0043, 2,  33.7017, 2,  33.7029, 2,    101.0, 2,     99.9, 2,    85.06, 2,    40.58, 2,     0.01, 2,     2.93, 2,    2.987, 2,    1.496, 2,    0.217, 2, -999.000, 9,   2290.7, 2,   2287.3, 2,    7.3469,     25.00,   -999.0, 1,   -999.0,  -999.00, 1,   -999.0,   2.9923, 26.8494,   3.0054, 2, 2, 0.31, 0.15, 0.01, 0.017,  -999.00, 9, -999.00, -999.00, 9, -999.00
49NZ20071008, P01, P01_X13, 1, 31, X12003, 2, 20071015, 1331, 46.9922, 164.9952, 5892,    249.3, 2,   3.2907, 2,  33.8531, 2,  33.8539, 6,     52.3, 2,     57.9, 2,    95.37, 2,    42.99, 2,     0.01, 2,     3.07, 2,    2.253, 2,    1.106, 2,    0.165, 2, -999.000, 9,   2317.6, 2,   2302.7, 2,    7.2979,     25.00,   -999.0, 1,   -999.0,  -999.00, 1,   -999.0,   3.2750, 26.9445,   3.2919, 2, 2, 0.33, 0.15, 0.01, 0.018,  -999.00, 9, -999.00, -999.00, 9, -999.00
49NZ20071008, P01, P01_X13, 1, 30, X12008, 2, 20071015, 1331, 46.9922, 164.9952, 5892,    298.9, 2,   3.3978, 2,  33.9394, 2,  33.9393, 2,     35.2, 2,     38.4, 2,   101.81, 2,    44.07, 2,     0.01, 2,     3.14, 2,    1.823, 2,    0.884, 2,    0.122, 2, -999.000, 9,   2332.5, 2,   2312.2, 2,    7.2826,     25.00,   -999.0, 1,   -999.0,  -999.00, 1,   -999.0,   3.3785, 27.0036,   3.3975, 2, 2, 0.34, 0.16, 0.01, 0.018,  -999.00, 9, -999.00, -999.00, 9, -999.00
49NZ20071008, P01, P01_X13, 1, 29, X12035, 2, 20071015, 1331, 46.9922, 164.9952, 5892,    400.6, 2,   3.4079, 2,  34.0610, 2,  34.0604, 2,     32.0, 2,     27.6, 2,   111.87, 2,    44.10, 2,     0.01, 2,     3.15, 2,    1.223, 2,    0.583, 2,    0.080, 2, -999.000, 9,   2342.0, 2,   2327.0, 2,    7.2923,     25.00,   -999.0, 1,   -999.0,  -999.00, 1,   -999.0,   3.3816, 27.1002,   3.4077, 2, 2, 0.37, 0.16, 0.01, 0.018,  -999.00, 9, -999.00, -999.00, 9, -999.00
49NZ20071008, P01, P01_X13, 1, 28, X12034, 2, 20071015, 1331, 46.9922, 164.9952, 5892,    501.3, 2,   3.3365, 2,  34.1489, 2,  34.1473, 6,     26.1, 2,     24.3, 2,   119.93, 2,    43.89, 2,     0.02, 2,     3.14, 2,    0.855, 2,    0.403, 2,    0.058, 2, -999.000, 9,   2352.4, 2,   2340.6, 2,    7.3019,     25.00,   -999.0, 1,   -999.0,  -999.00, 1,   -999.0,   3.3034, 27.1777,   3.3360, 2, 2, 0.38, 0.16, 0.01, 0.018,  -999.00, 9, -999.00, -999.00, 9, -999.00
49NZ20071008, P01, P01_X13, 1, 27, X12049, 2, 20071015, 1331, 46.9922, 164.9952, 5892,    599.7, 2,   3.1602, 2,  34.2181, 2,  34.2180, 2,     25.2, 2,     22.9, 2,   128.42, 2,    43.82, 2,     0.01, 2,     3.14, 2,    0.615, 2,    0.290, 2,    0.040, 2, -999.000, 9,   2358.9, 2,   2351.9, 2,    7.3114,     25.00,   -999.0, 1,   -999.0,  -999.00, 1,   -999.0,   3.1209, 27.2499,   3.1598, 2, 2, 0.40, 0.16, 0.01, 0.018,  -999.00, 9, -999.00, -999.00, 9, -999.00
49NZ20071008, P01, P01_X13, 1, 26, X12032, 2, 20071015, 1331, 46.9922, 164.9952, 5892,    700.0, 2,   3.0299, 2,  34.2829, 2,  34.2833, 2,     23.9, 2,     22.7, 2,   135.06, 2,    43.83, 2,     0.01, 2,     3.14, 2,    0.419, 6,    0.198, 6,    0.032, 6, -999.000, 9,   2372.0, 2,   2362.3, 2,    7.3238,     25.00,   -999.0, 1,   -999.0,  -999.00, 1,   -999.0,   2.9841, 27.3140,   3.0294, 2, 2, 0.42, 0.16, 0.01, 0.018,  -999.00, 9, -999.00, -999.00, 9, -999.00
49NZ20071008, P01, P01_X13, 1, 25, X12043, 2, 20071015, 1331, 46.9922, 164.9952, 5892,    800.5, 2,   2.9326, 2,  34.3345, 2,  34.3344, 2,     16.7, 2,     16.5, 2,   141.89, 2,    44.27, 2,     0.01, 2,     3.16, 2,    0.225, 2,    0.103, 2,    0.012, 2, -999.000, 9,   2378.6, 2,   2371.1, 6,    7.3198,     25.00,   -999.0, 1,   -999.0,  -999.00, 1,   -999.0,   2.8802, 27.3646,   2.9324, 2, 2, 0.43, 0.16, 0.01, 0.018,  -999.00, 9, -999.00, -999.00, 9, -999.00
49NZ20071008, P01, P01_X13, 1, 24, X12030, 2, 20071015, 1331, 46.9922, 164.9952, 5892,    899.0, 2,   2.7886, 2,  34.3738, 2,  34.3737, 2,     17.8, 2,     17.7, 2,   146.96, 2,    44.21, 2,     0.01, 2,     3.15, 2,    0.157, 2,    0.073, 2,    0.010, 2, -999.000, 9,   2380.8, 2,   2378.4, 2,    7.3271,     25.00,   -999.0, 1,   -999.0,  -999.00, 1,   -999.0,   2.7300, 27.4093,   2.7884, 2, 6, 0.44, 0.16, 0.01, 0.018,  -999.00, 9, -999.00, -999.00, 9, -999.00
49NZ20071008, P01, P01_X13, 1, 23, X12027, 2, 20071015, 1331, 46.9922, 164.9952, 5892,   1000.6, 2,   2.6364, 2,  34.4132, 2,  34.4132, 6,     18.6, 2,     19.1, 2,   152.75, 2,    44.11, 2,     0.01, 2,     3.15, 2,    0.102, 2,    0.048, 2,    0.000, 2, -999.000, 9,   2383.8, 2,   2384.8, 2,    7.3335,     25.00,   -999.0, 1,   -999.0,  -999.00, 1,   -999.0,   2.5715, 27.4546,   2.6363, 2, 2, 0.46, 0.16, 0.01, 0.018,  -999.00, 9, -999.00, -999.00, 9, -999.00
49NZ20071008, P01, P01_X13, 1, 22, X12028, 2, 20071015, 1331, 46.9922, 164.9952, 5892,   1201.4, 2,   2.3839, 2,  34.4724, 2,  34.4716, 2,     26.9, 2,     26.8, 2,   160.58, 2,    43.78, 2,     0.01, 2,     3.12, 2,    0.057, 2,    0.028, 2,    0.000, 2, -999.000, 9,   2388.2, 2,   2395.3, 2,    7.3509,     25.00,   -999.0, 1,   -999.0,  -999.00, 1,   -999.0,   2.3063, 27.5242,   2.3840, 2, 2, 0.47, 0.16, 0.01, 0.018,  -999.00, 9, -999.00, -999.00, 9, -999.00
49NZ20071008, P01, P01_X13, 1, 21, X12009, 2, 20071015, 1331, 46.9922, 164.9952, 5892,   1400.9, 2,   2.2172, 2,  34.5112, 2,  34.5110, 2,     39.0, 2,     39.2, 2,   162.79, 2,    43.12, 2,     0.01, 2,     3.08, 2,    0.048, 2,    0.022, 2,    0.000, 2, -999.000, 9,   2383.1, 3,   2401.9, 2,    7.3796,     25.00,   -999.0, 1,   -999.0,  -999.00, 1,   -999.0,   2.1262, 27.5700,   2.2171, 2, 2, 0.48, 0.15, 0.01, 0.018,  -999.00, 9, -999.00, -999.00, 9, -999.00
49NZ20071008, P01, P01_X13, 1, 20, X12026, 2, 20071015, 1331, 46.9922, 164.9952, 5892,   1599.3, 2,   2.0718, 2,  34.5490, 2,  34.5490, 2,     51.0, 2,     50.7, 2,   164.75, 2,    42.33, 2,     0.01, 2,     3.01, 2,    0.021, 2,    0.011, 2,    0.000, 2, -999.000, 9,   2385.6, 2,   2407.9, 2,    7.4044,     25.00,   -999.0, 1,   -999.0,  -999.00, 1,   -999.0,   1.9671, 27.6129,   2.0718, 2, 6, 0.48, 0.15, 0.01, 0.017,  -999.00, 9, -999.00, -999.00, 9, -999.00
49NZ20071008, P01, P01_X13, 1, 19, X12025, 2, 20071015, 1331, 46.9922, 164.9952, 5892,   1800.5, 2,   1.9414, 2,  34.5804, 2,  34.5801, 2,     61.1, 2,     61.2, 2,   166.70, 2,    41.79, 2,     0.01, 2,     2.97, 2,    0.005, 2,    0.002, 2,    0.000, 2, -999.000, 9,   2381.4, 2,   2411.6, 2,    7.4267,     25.00,   -999.0, 1,   -999.0,  -999.00, 1,   -999.0,   1.8224, 27.6493,   1.9414, 2, 2, 0.49, 0.15, 0.01, 0.017,  -999.00, 9, -999.00, -999.00, 9, -999.00
49NZ20071008, P01, P01_X13, 1, 18, X12024, 2, 20071015, 1331, 46.9922, 164.9952, 5892,   1999.6, 2,   1.8441, 2,  34.6028, 2,  34.6028, 2,     73.7, 2,     73.7, 2,   165.71, 2,    41.08, 2,     0.01, 2,     2.92, 2,    0.000, 2,    0.001, 2,    0.000, 2, -999.000, 9,   2374.2, 2,   2415.1, 2,    7.4517,     25.00,   -999.0, 1,   -999.0,  -999.00, 1,   -999.0,   1.7102, 27.6758,   1.8440, 2, 2, 0.48, 0.15, 0.01, 0.017,  -999.00, 9, -999.00, -999.00, 9, -999.00
49NZ20071008, P01, P01_X13, 1, 17, X12023, 2, 20071015, 1331, 46.9922, 164.9952, 5892,   2199.6, 2,   1.7597, 2,  34.6204, 2,  34.6201, 2,     86.9, 2,     85.6, 2,   164.45, 2,    40.37, 2,     0.01, 2,     2.86, 2, -999.000, 5, -999.000, 5, -999.000, 5, -999.000, 9,   2367.2, 2,   2416.4, 2,    7.4729,     25.00,   -999.0, 1,   -999.0,  -999.00, 1,   -999.0,   1.6103, 27.6974,   1.7598, 2, 2, 0.48, 0.15, 0.01, 0.017,  -999.00, 9, -999.00, -999.00, 9, -999.00
49NZ20071008, P01, P01_X13, 1, 16, X12022, 2, 20071015, 1331, 46.9922, 164.9952, 5892,   2400.9, 2,   1.6843, 2,  34.6350, 2,  34.6351, 2,     97.8, 2,     97.1, 2,   163.01, 2,    39.51, 2,     0.01, 2,     2.80, 2,    0.000, 2,    0.000, 2,    0.000, 2, -999.000, 9,   2361.1, 6,   2418.7, 2,    7.4963,     25.00,   -999.0, 1,   -999.0,  -999.00, 1,   -999.0,   1.5187, 27.7159,   1.6843, 2, 2, 0.48, 0.14, 0.01, 0.017,  -999.00, 9, -999.00, -999.00, 9, -999.00
49NZ20071008, P01, P01_X13, 1, 15, X12021, 2, 20071015, 1331, 46.9922, 164.9952, 5892,   2599.5, 2,   1.6216, 2,  34.6474, 2,  34.6476, 6,    108.1, 2,    108.7, 2,   159.80, 2,    38.89, 2,     0.01, 2,     2.75, 2, -999.000, 9, -999.000, 9, -999.000, 9, -999.000, 9,   2354.5, 2,   2419.0, 6,    7.5177,     25.00,   -999.0, 1,   -999.0,  -999.00, 1,   -999.0,   1.4395, 27.7316,   1.6217, 2, 2, 0.47, 0.14, 0.01, 0.017,  -999.00, 9, -999.00, -999.00, 9, -999.00
49NZ20071008, P01, P01_X13, 1, 14, X12020, 2, 20071015, 1331, 46.9922, 164.9952, 5892,   2800.3, 2,   1.5749, 2,  34.6562, 2,  34.6562, 2,    116.8, 2,    117.5, 2,   157.65, 2,    38.37, 2,     0.01, 2,     2.70, 2,    0.012, 3,    0.002, 2,    0.016, 3, -999.000, 9,   2348.1, 2,   2418.0, 2,    7.5333,     25.00,   -999.0, 1,   -999.0,  -999.00, 1,   -999.0,   1.3754, 27.7432,   1.5749, 2, 6, 0.47, 0.14, 0.01, 0.017,  -999.00, 9, -999.00, -999.00, 9, -999.00
49NZ20071008, P01, P01_X13, 1, 13, X12019, 2, 20071015, 1331, 46.9922, 164.9952, 5892,   3001.2, 2,   1.5389, 2,  34.6632, 2,  34.6631, 2,    124.7, 2,    125.1, 2,   155.48, 2,    37.86, 2,     0.01, 2,     2.67, 2, -999.000, 9, -999.000, 9, -999.000, 9, -999.000, 9,   2348.0, 3,   2418.7, 2,    7.5477,     25.00,   -999.0, 1,   -999.0,  -999.00, 1,   -999.0,   1.3212, 27.7527,   1.5390, 2, 2, 0.46, 0.14, 0.01, 0.017,  -999.00, 9, -999.00, -999.00, 9, -999.00
49NZ20071008, P01, P01_X13, 1, 12, X12040, 2, 20071015, 1331, 46.9922, 164.9952, 5892,   3250.1, 2,   1.5021, 2,  34.6705, 2,  34.6705, 2,    132.7, 2,    133.5, 2,   153.22, 2,    37.28, 2,     0.01, 2,     2.62, 2, -999.000, 9, -999.000, 9, -999.000, 9, -999.000, 9,   2340.7, 2,   2419.1, 2,    7.5609,     25.00,   -999.0, 1,   -999.0,  -999.00, 1,   -999.0,   1.2611, 27.7628,   1.5020, 2, 2, 0.46, 0.14, 0.01, 0.017,  -999.00, 9, -999.00, -999.00, 9, -999.00
49NZ20071008, P01, P01_X13, 1, 11, X12047, 2, 20071015, 1331, 46.9922, 164.9952, 5892,   3498.7, 2,   1.4814, 2,  34.6758, 2,  34.6757, 2,    138.9, 2,    139.5, 2,   151.65, 2,    36.88, 2,     0.01, 2,     2.59, 2,    0.000, 2,    0.000, 2,    0.000, 2, -999.000, 9,   2333.2, 2,   2418.6, 2,    7.5708,     25.00,   -999.0, 1,   -999.0,  -999.00, 1,   -999.0,   1.2159, 27.7702,   1.4815, 2, 2, 0.45, 0.14, 0.01, 0.016,  -999.00, 9, -999.00, -999.00, 9, -999.00
49NZ20071008, P01, P01_X13, 1, 10, X12010, 2, 20071015, 1331, 46.9922, 164.9952, 5892,   3750.2, 2,   1.4697, 2,  34.6798, 2,  34.6797, 2,    144.1, 2,    144.5, 2,   150.39, 2,    36.68, 2,     0.01, 2,     2.57, 2, -999.000, 9, -999.000, 9, -999.000, 9, -999.000, 9,   2330.2, 2,   2418.5, 2,    7.5798,     25.00,   -999.0, 1,   -999.0,  -999.00, 1,   -999.0,   1.1784, 27.7760,   1.4698, 2, 2, 0.45, 0.14, 0.01, 0.016,  -999.00, 9, -999.00, -999.00, 9, -999.00
49NZ20071008, P01, P01_X13, 1, 9, X12015, 2, 20071015, 1331, 46.9922, 164.9952, 5892,   4001.2, 2,   1.4675, 2,  34.6829, 2,  34.6830, 2,    148.3, 2,    148.5, 2,   149.38, 2,    36.31, 2,     0.01, 2,     2.55, 2, -999.000, 9, -999.000, 9, -999.000, 9, -999.000, 9,   2330.9, 3,   2417.7, 2,    7.5860,     25.00,   -999.0, 1,   -999.0,  -999.00, 1,   -999.0,   1.1494, 27.7804,   1.4675, 2, 2, 0.45, 0.13, 0.01, 0.016,  -999.00, 9, -999.00, -999.00, 9, -999.00
49NZ20071008, P01, P01_X13, 1, 8, X12046, 2, 20071015, 1331, 46.9922, 164.9952, 5892,   4249.6, 2,   1.4716, 2,  34.6854, 2,  34.6851, 6,    151.6, 2,    151.7, 2,   148.46, 2,    36.20, 2,     0.01, 2,     2.53, 2,    0.000, 2,    0.000, 2,    0.000, 2, -999.000, 9,   2325.8, 6,   2417.7, 2,    7.5914,     25.00,   -999.0, 1,   -999.0,  -999.00, 1,   -999.0,   1.1260, 27.7841,   1.4718, 2, 2, 0.45, 0.13, 0.01, 0.016,  -999.00, 9, -999.00, -999.00, 9, -999.00
49NZ20071008, P01, P01_X13, 1, 7, X12044, 2, 20071015, 1331, 46.9922, 164.9952, 5892,   4500.3, 2,   1.4806, 2,  34.6874, 2,  34.6872, 2,    154.0, 2,    154.3, 2,   148.27, 2,    35.97, 2,     0.01, 2,     2.51, 2, -999.000, 9, -999.000, 9, -999.000, 9, -999.000, 9,   2322.8, 2,   2417.0, 6,    7.5964,     25.00,   -999.0, 1,   -999.0,  -999.00, 1,   -999.0,   1.1062, 27.7870,   1.4807, 2, 2, 0.45, 0.13, 0.01, 0.016,  -999.00, 9, -999.00, -999.00, 9, -999.00
49NZ20071008, P01, P01_X13, 1, 6, X12048, 2, 20071015, 1331, 46.9922, 164.9952, 5892,   4750.0, 2,   1.4970, 2,  34.6889, 2,  34.6888, 2,    155.7, 2,    156.2, 2,   147.81, 2,    35.85, 2,     0.01, 2,     2.51, 2, -999.000, 9, -999.000, 9, -999.000, 9, -999.000, 9,   2322.7, 2,   2416.9, 2,    7.5985,     25.00,   -999.0, 1,   -999.0,  -999.00, 1,   -999.0,   1.0929, 27.7891,   1.4970, 2, 6, 0.44, 0.13, 0.01, 0.016,  -999.00, 9, -999.00, -999.00, 9, -999.00
49NZ20071008, P01, P01_X13, 1, 5, X12014, 2, 20071015, 1331, 46.9922, 164.9952, 5892,   5002.5, 2,   1.5182, 2,  34.6901, 2,  34.6898, 2,    157.1, 2,    157.2, 2,   148.24, 2,    35.78, 2,     0.01, 2,     2.50, 2,    0.000, 2,    0.000, 2,    0.000, 2, -999.000, 9,   2321.7, 2,   2417.5, 2,    7.6002,     25.00,   -999.0, 1,   -999.0,  -999.00, 1,   -999.0,   1.0830, 27.7907,   1.5182, 2, 2, 0.45, 0.13, 0.01, 0.016,  -999.00, 9, -999.00, -999.00, 9, -999.00
49NZ20071008, P01, P01_X13, 1, 4, X12006, 2, 20071015, 1331, 46.9922, 164.9952, 5892,   5249.6, 2,   1.5455, 2,  34.6906, 2,  34.6906, 2,    157.8, 2,    157.5, 2,   149.54, 2,    35.72, 2,     0.01, 2,     2.49, 2, -999.000, 9, -999.000, 9, -999.000, 9, -999.000, 9,   2322.1, 2,   2418.2, 2,    7.6018,     25.00,   -999.0, 1,   -999.0,  -999.00, 1,   -999.0,   1.0789, 27.7915,   1.5454, 2, 2, 0.45, 0.13, 0.01, 0.016,  -999.00, 9, -999.00, -999.00, 9, -999.00
49NZ20071008, P01, P01_X13, 1, 3, X12013, 2, 20071015, 1331, 46.9922, 164.9952, 5892,   5499.8, 2,   1.5783, 2,  34.6907, 2,  34.6895, 2,    157.8, 2,    157.6, 2,   149.41, 2,    35.81, 2,     0.01, 2,     2.50, 2, -999.000, 9, -999.000, 9, -999.000, 9, -999.000, 9,   2324.5, 3,   2417.6, 2,    7.6011,     25.00,   -999.0, 1,   -999.0,  -999.00, 1,   -999.0,   1.0789, 27.7915,   1.5783, 2, 2, 0.45, 0.13, 0.01, 0.016,  -999.00, 9, -999.00, -999.00, 9, -999.00
49NZ20071008, P01, P01_X13, 1, 2, X12002, 2, 20071015, 1331, 46.9922, 164.9952, 5892,   5749.6, 2,   1.6120, 2,  34.6907, 2,  34.6906, 2,    157.9, 2,    157.5, 2,   149.44, 2,    35.81, 2,     0.01, 2,     2.49, 2, -999.000, 9, -999.000, 9, -999.000, 9, -999.000, 9,   2321.5, 2,   2417.9, 2,    7.6019,     25.00,   -999.0, 1,   -999.0,  -999.00, 1,   -999.0,   1.0790, 27.7915,   1.6119, 2, 2, 0.45, 0.13, 0.01, 0.016,  -999.00, 9, -999.00, -999.00, 9, -999.00
49NZ20071008, P01, P01_X13, 1, 1, X12001, 2, 20071015, 1331, 46.9922, 164.9952, 5892,   6009.2, 2,   1.6480, 2,  34.6906, 2,  34.6903, 6,    157.8, 2,    157.6, 2,   149.65, 2,    35.74, 2,     0.01, 2,     2.50, 2,    0.003, 2,    0.001, 2,    0.000, 2, -999.000, 9,   2321.9, 2,   2417.5, 2,    7.6021,     25.00,   -999.0, 1,   -999.0,  -999.00, 1,   -999.0,   1.0792, 27.7914,   1.6478, 2, 2, 0.45, 0.13, 0.01, 0.016,  -999.00, 9, -999.00, -999.00, 9, -999.00