BOTTLE,20221005CCHSIOAMB
EXPOCODE,SECT_ID,STNNBR,CASTNO,SAMPNO,BTLNBR,BTLNBR_FLAG_W,DATE,TIME,LATITUDE,LONGITUDE,DEPTH,CTDPRS,CTDPRS_FLAG_W,CTDTMP,CTDTMP_FLAG_W,CTDSAL,CTDSAL_FLAG_W,SALNTY,SALNTY_FLAG_W,CTDOXY,CTDOXY_FLAG_W,OXYGEN,OXYGEN_FLAG_W,SILCAT,SILCAT_FLAG_W,NITRAT,NITRAT_FLAG_W,NITRIT,NITRIT_FLAG_W,PHSPHT,PHSPHT_FLAG_W,CFC-11,CFC-11_FLAG_W,CFC-12,CFC-12_FLAG_W,CFC113,CFC113_FLAG_W,CCL4,CCL4_FLAG_W,TCARBN,TCARBN_FLAG_W,ALKALI,ALKALI_FLAG_W,PH_TOT,PH_TMP,DELC14,DELC14_FLAG_W,C14ERR,DELC13,DELC13_FLAG_W,C13ERR,THETA,SIG0,SBE35,SBE35_FLAG_W,PH_TOT_FLAG_W,SILUNC,NRAUNC,NRIUNC,PHPUNC,CS-137,CS-137_FLAG_W,CS137ER,PLUTO,PLUTO_FLAG_W,PLUTOER
,,,,,,,,,,,METERS,DBAR,,ITS-90,,PSS-78,,PSS-78,,UMOL/KG,,UMOL/KG,,UMOL/KG,,UMOL/KG,,UMOL/KG,,UMOL/KG,,PMOL/KG,,PMOL/KG,,PMOL/KG,,PMOL/KG,,UMOL/KG,,UMOL/KG,,,DEG C,/MILLE,,/MILLE,/MILLE,,/MILLE,DEG C,KG/M^3,ITS-90,,,UMOL/KG,UMOL/KG,UMOL/KG,UMOL/KG,DM/.1MG,,BQ/M^3,MBQ/M^3,,MBQ/M^3
49NZ20071008, P14N, 102, 1, 36, X12042, 2, 20071117, 1428, 11.5148, 178.9967, 5025,     10.0, 2,  28.1696, 2,  34.3562, 2,  34.3562, 2,    198.7, 2,    197.9, 2,     1.03, 2,     0.05, 2,     0.01, 2,     0.16, 2,    1.536, 2,    0.936, 2,    0.279, 4, -999.000, 9,   1926.3, 2,   2260.2, 2,    8.1171,     25.00,   -999.0, 9,   -999.0,  -999.00, 9,   -999.0,  28.1672, 21.8559,  28.1682, 2, 2, 0.12, 0.03, 0.01, 0.018,  -999.00, 9, -999.00, -999.00, 9, -999.00
49NZ20071008, P14N, 102, 1, 35, X12041, 2, 20071117, 1428, 11.5148, 178.9967, 5025,     49.4, 2,  28.1747, 2,  34.3561, 2,  34.3571, 2,    198.4, 2,    197.8, 2,     0.95, 2,     0.04, 2,     0.01, 2,     0.16, 2,    1.522, 2,    0.921, 2,    0.278, 4, -999.000, 9,   1926.0, 2,   2260.1, 2,    8.1185,     25.00,   -999.0, 9,   -999.0,  -999.00, 9,   -999.0,  28.1630, 21.8572,  28.1727, 2, 2, 0.12, 0.03, 0.01, 0.018,  -999.00, 9, -999.00, -999.00, 9, -999.00
49NZ20071008, P14N, 102, 1, 34, X12016, 2, 20071117, 1428, 11.5148, 178.9967, 5025,     99.9, 2,  26.3397, 2,  34.8186, 2,  34.8216, 2,    196.2, 2,    201.6, 2,     1.09, 2,     0.06, 2,     0.02, 2,     0.19, 2,    1.699, 2,    1.031, 2,    0.518, 4, -999.000, 9,   1974.9, 2,   2292.6, 2,    8.0802,     25.00,   -999.0, 9,   -999.0,  -999.00, 9,   -999.0,  26.3172, 22.7973,  26.3358, 2, 2, 0.12, 0.03, 0.01, 0.016,  -999.00, 9, -999.00, -999.00, 9, -999.00
49NZ20071008, P14N, 102, 1, 33, X12033, 2, 20071117, 1428, 11.5148, 178.9967, 5025,    149.5, 2,  17.5215, 2,  34.5853, 2,  34.5979, 2,    167.8, 2,    164.6, 2,     5.82, 2,     7.61, 2,     0.03, 2,     0.70, 2,    2.426, 2,    1.378, 2,    0.114, 2, -999.000, 9,   2081.0, 2,   2282.6, 2,    7.8694,     25.00,   -999.0, 9,   -999.0,  -999.00, 9,   -999.0,  17.4964, 25.0772,  17.5312, 2, 2, 0.13, 0.05, 0.01, 0.013,  -999.00, 9, -999.00, -999.00, 9, -999.00
49NZ20071008, P14N, 102, 1, 32, X12038, 2, 20071117, 1428, 11.5148, 178.9967, 5025,    202.9, 2,  12.1605, 2,  34.3221, 2,  34.3198, 2,    130.0, 2,    127.6, 2,    17.63, 2,    18.92, 2,     0.01, 2,     1.49, 2,    2.369, 2,    1.229, 2,    0.035, 2, -999.000, 9,   2148.7, 2,   2269.8, 2,    7.6894,     25.00,   -999.0, 9,   -999.0,  -999.00, 9,   -999.0,  12.1340, 26.0370,  12.1609, 2, 2, 0.16, 0.09, 0.01, 0.014,  -999.00, 9, -999.00, -999.00, 9, -999.00
49NZ20071008, P14N, 102, 1, 31, X12003, 2, 20071117, 1428, 11.5148, 178.9967, 5025,    251.5, 2,  10.3211, 2,  34.4826, 2,  34.4553, 6,     61.2, 2,     60.3, 2,    30.22, 2,    29.40, 2,     0.01, 2,     2.22, 2,    1.167, 6,    0.580, 6,    0.016, 6, -999.000, 9,   2221.3, 2,   2287.2, 2,    7.5326,     25.00,   -999.0, 9,   -999.0,  -999.00, 9,   -999.0,  10.2914, 26.4979,  10.3239, 2, 2, 0.19, 0.12, 0.01, 0.016,  -999.00, 9, -999.00, -999.00, 9, -999.00
49NZ20071008, P14N, 102, 1, 30, X12008, 2, 20071117, 1428, 11.5148, 178.9967, 5025,    281.3, 2,   9.7124, 2,  34.5268, 2,  34.5167, 2,     44.9, 2,     44.6, 2,    34.12, 2,    32.20, 2,     0.01, 2,     2.39, 2,    0.701, 2,    0.350, 2,    0.007, 2, -999.000, 9,   2242.2, 6,   2294.5, 2,    7.4962,     25.00,   -999.0, 9,   -999.0,  -999.00, 9,   -999.0,   9.6804, 26.6364,   9.7282, 2, 2, 0.19, 0.12, 0.01, 0.016,  -999.00, 9, -999.00, -999.00, 9, -999.00
49NZ20071008, P14N, 102, 1, 29, X12035, 2, 20071117, 1428, 11.5148, 178.9967, 5025,    369.5, 2,   9.0269, 2,  34.5834, 2,  34.5825, 2,     42.6, 2,     42.1, 2,    38.64, 2,    34.68, 2,     0.01, 2,     2.51, 2,    0.292, 2,    0.148, 2,    0.008, 2, -999.000, 9,   2255.5, 2,   2305.2, 6,    7.4865,     25.00,   -999.0, 9,   -999.0,  -999.00, 9,   -999.0,   8.9865, 26.7940,   9.0273, 2, 2, 0.20, 0.13, 0.01, 0.016,  -999.00, 9, -999.00, -999.00, 9, -999.00
49NZ20071008, P14N, 102, 1, 28, X12034, 2, 20071117, 1428, 11.5148, 178.9967, 5025,    472.4, 2,   7.8038, 2,  34.5481, 2,  34.5474, 6,     43.7, 2,     43.7, 2,    47.52, 2,    36.73, 2,     0.01, 2,     2.67, 2,    0.130, 2,    0.066, 2,    0.006, 2, -999.000, 9,   2271.1, 2,   2313.5, 2,    7.4695,     25.00,   -999.0, 9,   -999.0,  -999.00, 9,   -999.0,   7.7561, 26.9550,   7.8049, 2, 6, 0.22, 0.14, 0.01, 0.017,  -999.00, 9, -999.00, -999.00, 9, -999.00
49NZ20071008, P14N, 102, 1, 27, X12049, 2, 20071117, 1428, 11.5148, 178.9967, 5025,    572.1, 2,   7.0273, 2,  34.5363, 2,  34.5356, 2,     42.3, 2,     44.5, 2,    55.41, 2,    38.17, 2,     0.01, 2,     2.79, 2,    0.065, 2,    0.033, 2,    0.009, 2, -999.000, 9,   2281.4, 2,   2320.4, 2,    7.4581,     25.00,   -999.0, 9,   -999.0,  -999.00, 9,   -999.0,   6.9725, 27.0573,   7.0254, 2, 2, 0.24, 0.14, 0.01, 0.017,  -999.00, 9, -999.00, -999.00, 9, -999.00
49NZ20071008, P14N, 102, 1, 26, X12032, 2, 20071117, 1428, 11.5148, 178.9967, 5025,    671.1, 2,   6.3782, 2,  34.5281, 2,  34.5274, 2,     44.1, 2,     43.3, 2,    63.35, 2,    39.65, 2,     0.01, 2,     2.88, 2,    0.033, 6,    0.016, 6,    0.000, 6, -999.000, 9,   2294.8, 6,   2330.1, 2,    7.4472,     25.00,   -999.0, 9,   -999.0,  -999.00, 9,   -999.0,   6.3168, 27.1389,   6.3797, 2, 2, 0.26, 0.14, 0.01, 0.017,  -999.00, 9, -999.00, -999.00, 9, -999.00
49NZ20071008, P14N, 102, 1, 25, X12043, 2, 20071117, 1428, 11.5148, 178.9967, 5025,    770.9, 2,   5.7389, 2,  34.5278, 2,  34.5264, 2,     37.0, 2,     37.3, 2,    73.19, 2,    41.48, 2,     0.01, 2,     3.01, 2, -999.000, 5, -999.000, 5, -999.000, 5, -999.000, 9,   2310.5, 2,   2340.3, 6,    7.4257,     25.00,   -999.0, 9,   -999.0,  -999.00, 9,   -999.0,   5.6716, 27.2207,   5.7403, 2, 2, 0.28, 0.15, 0.01, 0.017,  -999.00, 9, -999.00, -999.00, 9, -999.00
49NZ20071008, P14N, 102, 1, 24, X12030, 2, 20071117, 1428, 11.5148, 178.9967, 5025,    871.7, 2,   5.2208, 2,  34.5358, 2,  34.5356, 2,     45.7, 2,     45.1, 2,    80.54, 2,    41.63, 2,     0.01, 2,     3.01, 2,    0.002, 2,    0.002, 2,    0.000, 2, -999.000, 9,   2316.4, 2,   2348.9, 2,    7.4345,     25.00,   -999.0, 9,   -999.0,  -999.00, 9,   -999.0,   5.1475, 27.2901,   5.2216, 2, 6, 0.30, 0.15, 0.01, 0.017,  -999.00, 9, -999.00, -999.00, 9, -999.00
49NZ20071008, P14N, 102, 1, 23, X12027, 2, 20071117, 1428, 11.5148, 178.9967, 5025,    969.9, 2,   4.8104, 2,  34.5434, 2,  34.5441, 6,     50.3, 2,     50.3, 2,    87.76, 2,    41.64, 2,     0.01, 2,     3.02, 2,    0.000, 2,    0.000, 2,    0.000, 2, -999.000, 9,   2321.0, 2,   2357.2, 2,    7.4403,     25.00,   -999.0, 9,   -999.0,  -999.00, 9,   -999.0,   4.7311, 27.3439,   4.8120, 2, 2, 0.31, 0.15, 0.01, 0.018,  -999.00, 9, -999.00, -999.00, 9, -999.00
49NZ20071008, P14N, 102, 1, 22, X12028, 2, 20071117, 1428, 11.5148, 178.9967, 5025,   1130.7, 2,   4.1173, 2,  34.5611, 2,  34.5613, 2,     60.6, 2,     64.2, 2,   100.41, 2,    41.23, 2,     0.01, 2,     2.98, 2,    0.000, 2,    0.000, 2,    0.000, 2, -999.000, 9,   2328.3, 2,   2370.9, 2,    7.4615,     25.00,   -999.0, 9,   -999.0,  -999.00, 9,   -999.0,   4.0295, 27.4340,   4.1179, 2, 2, 0.34, 0.15, 0.01, 0.017,  -999.00, 9, -999.00, -999.00, 9, -999.00
49NZ20071008, P14N, 102, 1, 21, X12009, 2, 20071117, 1428, 11.5148, 178.9967, 5025,   1330.9, 2,   3.4357, 2,  34.5818, 2,  34.5828, 2,     73.4, 2,     74.1, 2,   114.49, 2,    40.90, 2,     0.01, 2,     2.94, 2,    0.000, 2,    0.000, 2,    0.000, 2, -999.000, 9,   2339.9, 2,   2386.6, 2,    7.4746,     25.00,   -999.0, 9,   -999.0,  -999.00, 9,   -999.0,   3.3373, 27.5197,   3.4358, 2, 2, 0.37, 0.15, 0.01, 0.017,  -999.00, 9, -999.00, -999.00, 9, -999.00
49NZ20071008, P14N, 102, 1, 20, X12026, 2, 20071117, 1428, 11.5148, 178.9967, 5025,   1530.7, 2,   2.9348, 2,  34.6000, 2,  34.6003, 2,     81.9, 2,     83.3, 2,   124.94, 2,    40.54, 2,     0.01, 2,     2.91, 2,    0.000, 2,    0.001, 2,    0.000, 2, -999.000, 9,   2345.2, 2,   2396.6, 2,    7.4882,     25.00,   -999.0, 9,   -999.0,  -999.00, 9,   -999.0,   2.8251, 27.5817,   2.9348, 2, 2, 0.39, 0.15, 0.01, 0.017,  -999.00, 9, -999.00, -999.00, 9, -999.00
49NZ20071008, P14N, 102, 1, 19, X12025, 2, 20071117, 1428, 11.5148, 178.9967, 5025,   1730.9, 2,   2.5555, 2,  34.6174, 2,  34.6179, 2,     90.0, 2,     89.5, 2,   134.11, 2,    40.21, 2,     0.01, 2,     2.87, 2,    0.000, 2,    0.000, 2,    0.000, 2, -999.000, 9,   2352.0, 2,   2407.0, 2,    7.4982,     25.00,   -999.0, 9,   -999.0,  -999.00, 9,   -999.0,   2.4338, 27.6296,   2.5559, 2, 2, 0.41, 0.15, 0.01, 0.017,  -999.00, 9, -999.00, -999.00, 9, -999.00
49NZ20071008, P14N, 102, 1, 18, X12024, 2, 20071117, 1428, 11.5148, 178.9967, 5025,   1931.2, 2,   2.2620, 2,  34.6322, 2,  34.6330, 2,     99.3, 2,     98.6, 2,   140.27, 2,    39.62, 2,     0.01, 2,     2.82, 2,    0.000, 2,    0.000, 2,    0.000, 2, -999.000, 9,   2352.6, 2,   2413.5, 2,    7.5122,     25.00,   -999.0, 9,   -999.0,  -999.00, 9,   -999.0,   2.1274, 27.6668,   2.2621, 2, 2, 0.43, 0.14, 0.01, 0.017,  -999.00, 9, -999.00, -999.00, 9, -999.00
49NZ20071008, P14N, 102, 1, 17, X12023, 2, 20071117, 1428, 11.5148, 178.9967, 5025,   2132.2, 2,   2.0997, 2,  34.6425, 2,  34.6427, 2,    106.4, 2,    105.2, 2,   143.03, 2,    39.32, 2,     0.01, 2,     2.79, 2, -999.000, 9, -999.000, 9, -999.000, 9, -999.000, 9,   2353.0, 2,   2416.4, 2,    7.5242,     25.00,   -999.0, 9,   -999.0,  -999.00, 9,   -999.0,   1.9504, 27.6892,   2.1001, 2, 2, 0.43, 0.14, 0.01, 0.017,  -999.00, 9, -999.00, -999.00, 9, -999.00
49NZ20071008, P14N, 102, 1, 16, X12022, 2, 20071117, 1428, 11.5148, 178.9967, 5025,   2330.6, 2,   1.9518, 2,  34.6522, 2,  34.6526, 6,    111.6, 2,    110.9, 2,   146.34, 2,    38.87, 2,     0.01, 2,     2.76, 2,    0.000, 2,    0.000, 2,    0.000, 2, -999.000, 9,   2351.9, 6,   2420.5, 2,    7.5335,     25.00,   -999.0, 9,   -999.0,  -999.00, 9,   -999.0,   1.7876, 27.7096,   1.9519, 2, 2, 0.44, 0.14, 0.01, 0.017,  -999.00, 9, -999.00, -999.00, 9, -999.00
49NZ20071008, P14N, 102, 1, 15, X12021, 2, 20071117, 1428, 11.5148, 178.9967, 5025,   2531.4, 2,   1.8633, 2,  34.6584, 2,  34.6588, 2,    115.7, 2,    115.4, 2,   147.18, 2,    38.47, 2,     0.02, 2,     2.72, 2, -999.000, 9, -999.000, 9, -999.000, 9, -999.000, 9,   2353.9, 2,   2422.7, 6,    7.5416,     25.00,   -999.0, 9,   -999.0,  -999.00, 9,   -999.0,   1.6827, 27.7225,   1.8633, 2, 2, 0.44, 0.14, 0.01, 0.017,  -999.00, 9, -999.00, -999.00, 9, -999.00
49NZ20071008, P14N, 102, 1, 14, X12020, 2, 20071117, 1428, 11.5148, 178.9967, 5025,   2731.4, 2,   1.7796, 2,  34.6644, 2,  34.6644, 2,    120.7, 2,    120.3, 2,   148.31, 2,    38.16, 2,     0.01, 2,     2.69, 2,    0.000, 2,    0.000, 2,    0.000, 2, -999.000, 9,   2350.1, 2,   2423.9, 2,    7.5501,     25.00,   -999.0, 9,   -999.0,  -999.00, 9,   -999.0,   1.5822, 27.7348,   1.7797, 2, 6, 0.45, 0.14, 0.01, 0.017,  -999.00, 9, -999.00, -999.00, 9, -999.00
49NZ20071008, P14N, 102, 1, 13, X12019, 2, 20071117, 1428, 11.5148, 178.9967, 5025,   2931.2, 2,   1.7029, 2,  34.6683, 2,  34.6686, 2,    125.2, 2,    125.6, 2,   148.88, 2,    37.86, 2,     0.01, 2,     2.66, 2, -999.000, 9, -999.000, 9, -999.000, 9, -999.000, 9,   2347.9, 2,   2423.9, 2,    7.5575,     25.00,   -999.0, 9,   -999.0,  -999.00, 9,   -999.0,   1.4883, 27.7449,   1.7030, 2, 2, 0.45, 0.14, 0.01, 0.017,  -999.00, 9, -999.00, -999.00, 9, -999.00
49NZ20071008, P14N, 102, 1, 12, X12040, 2, 20071117, 1428, 11.5148, 178.9967, 5025,   3171.4, 2,   1.6224, 2,  34.6739, 2,  34.6739, 2,    132.0, 2,    132.2, 2,   149.59, 2,    37.60, 2,     0.01, 2,     2.62, 2,    0.000, 2,    0.000, 2,    0.000, 2, -999.000, 9,   2343.5, 2,   2423.0, 2,    7.5668,     25.00,   -999.0, 9,   -999.0,  -999.00, 9,   -999.0,   1.3863, 27.7566,   1.6225, 2, 2, 0.45, 0.14, 0.01, 0.017,  -999.00, 9, -999.00, -999.00, 9, -999.00
49NZ20071008, P14N, 102, 1, 11, X12047, 2, 20071117, 1428, 11.5148, 178.9967, 5025,   3421.6, 2,   1.5486, 2,  34.6786, 2,  34.6788, 2,    139.1, 2,    139.3, 2,   148.94, 2,    37.16, 2,     0.01, 2,     2.59, 2, -999.000, 9, -999.000, 9, -999.000, 9, -999.000, 9,   2338.1, 2,   2422.2, 2,    7.5765,     25.00,   -999.0, 9,   -999.0,  -999.00, 9,   -999.0,   1.2892, 27.7673,   1.5486, 2, 2, 0.45, 0.14, 0.01, 0.016,  -999.00, 9, -999.00, -999.00, 9, -999.00
49NZ20071008, P14N, 102, 1, 10, X12012, 2, 20071117, 1428, 11.5148, 178.9967, 5025,   3672.4, 2,   1.4972, 2,  34.6831, 2,  34.6829, 6,    146.2, 2,    146.3, 2,   146.84, 2,    36.53, 2,     0.01, 2,     2.56, 2, -999.000, 5, -999.000, 5, -999.000, 5, -999.000, 9,   2330.9, 2,   2420.0, 2,    7.5857,     25.00,   -999.0, 9,   -999.0,  -999.00, 9,   -999.0,   1.2133, 27.7762,   1.4973, 2, 2, 0.44, 0.14, 0.01, 0.016,  -999.00, 9, -999.00, -999.00, 9, -999.00
49NZ20071008, P14N, 102, 1, 9, X12015, 2, 20071117, 1428, 11.5148, 178.9967, 5025,   3920.5, 2,   1.4449, 2,  34.6871, 2,  34.6870, 2,    154.0, 2,    154.3, 2,   143.91, 2,    35.98, 2,     0.02, 2,     2.52, 2, -999.000, 9, -999.000, 9, -999.000, 9, -999.000, 9,   2324.7, 2,   2414.9, 2,    7.5944,     25.00,   -999.0, 9,   -999.0,  -999.00, 9,   -999.0,   1.1361, 27.7848,   1.4450, 2, 2, 0.44, 0.13, 0.01, 0.016,  -999.00, 9, -999.00, -999.00, 9, -999.00
49NZ20071008, P14N, 102, 1, 8, X12046, 2, 20071117, 1428, 11.5148, 178.9967, 5025,   4170.9, 2,   1.3973, 2,  34.6916, 2,  34.6917, 2,    162.9, 2,    163.4, 2,   138.87, 2,    35.44, 2,     0.01, 2,     2.47, 2,    0.000, 2,    0.000, 2,    0.000, 2, -999.000, 9,   2315.2, 6,   2410.3, 2,    7.6036,     25.00,   -999.0, 9,   -999.0,  -999.00, 9,   -999.0,   1.0626, 27.7933,   1.3973, 2, 2, 0.42, 0.13, 0.01, 0.016,  -999.00, 9, -999.00, -999.00, 9, -999.00
49NZ20071008, P14N, 102, 1, 7, X12044, 2, 20071117, 1428, 11.5148, 178.9967, 5025,   4421.2, 2,   1.3472, 2,  34.6964, 2,  34.6965, 2,    172.9, 2,    173.4, 2,   133.15, 2,    34.75, 2,     0.01, 2,     2.42, 2,    0.002, 2,    0.000, 2,    0.000, 2, -999.000, 9,   2302.2, 2,   2403.6, 6,    7.6134,     25.00,   -999.0, 9,   -999.0,  -999.00, 9,   -999.0,   0.9859, 27.8023,   1.3472, 2, 2, 0.41, 0.13, 0.01, 0.016,  -999.00, 9, -999.00, -999.00, 9, -999.00
49NZ20071008, P14N, 102, 1, 6, X12048, 2, 20071117, 1428, 11.5148, 178.9967, 5025,   4669.4, 2,   1.3257, 2,  34.6996, 2,  34.6996, 2,    179.1, 2,    179.3, 2,   129.69, 2,    34.17, 2,     0.01, 2,     2.38, 2,    0.000, 2,    0.000, 2,    0.000, 2, -999.000, 9,   2296.4, 2,   2398.8, 2,    7.6193,     25.00,   -999.0, 9,   -999.0,  -999.00, 9,   -999.0,   0.9365, 27.8082,   1.3259, 2, 6, 0.40, 0.13, 0.01, 0.016,  -999.00, 9, -999.00, -999.00, 9, -999.00
49NZ20071008, P14N, 102, 1, 5, X12014, 2, 20071117, 1428, 11.5148, 178.9967, 5025,   4920.2, 2,   1.3167, 2,  34.7017, 2,  34.7020, 2,    183.8, 2,    184.4, 2,   126.83, 2,    33.80, 2,     0.01, 2,     2.36, 2,    0.000, 2,    0.000, 2,    0.000, 2, -999.000, 9,   2292.7, 2,   2395.4, 2,    7.6227,     25.00,   -999.0, 9,   -999.0,  -999.00, 9,   -999.0,   0.8982, 27.8123,   1.3167, 2, 2, 0.40, 0.13, 0.01, 0.016,  -999.00, 9, -999.00, -999.00, 9, -999.00
49NZ20071008, P14N, 102, 1, 4, X12006, 9, 20071117, 1428, 11.5148, 178.9967, 5025,     10.6, 2,  28.1704, 2,  34.3562, 2, -999.0000, 9,    198.6, 2,   -999.0, 9,  -999.00, 9,  -999.00, 9,  -999.00, 9,  -999.00, 9, -999.000, 9, -999.000, 9, -999.000, 9, -999.000, 9,   -999.0, 9,   -999.0, 9, -999.0000,   -999.00,   -999.0, 9,   -999.0,  -999.00, 9,   -999.0,  28.1679, 21.8557,  28.1690, 2, 9, -999.00, -999.00, -999.00, -999.000,  -999.00, 9, -999.00, -999.00, 9, -999.00
49NZ20071008, P14N, 102, 1, 3, X12013, 9, 20071117, 1428, 11.5148, 178.9967, 5025,     49.9, 2,  28.1787, 2,  34.3557, 2, -999.0000, 9,    198.5, 2,   -999.0, 9,  -999.00, 9,  -999.00, 9,  -999.00, 9,  -999.00, 9, -999.000, 9, -999.000, 9, -999.000, 9, -999.000, 9,   -999.0, 9,   -999.0, 9, -999.0000,   -999.00,   -999.0, 9,   -999.0,  -999.00, 9,   -999.0,  28.1669, 21.8557,  28.1761, 2, 9, -999.00, -999.00, -999.00, -999.000,  -999.00, 9, -999.00, -999.00, 9, -999.00
49NZ20071008, P14N, 102, 1, 2, X12002, 9, 20071117, 1428, 11.5148, 178.9967, 5025,     99.8, 2,  26.3211, 2,  34.8195, 2, -999.0000, 9,    196.1, 2,   -999.0, 9,  -999.00, 9,  -999.00, 9,  -999.00, 9,  -999.00, 9, -999.000, 9, -999.000, 9, -999.000, 9, -999.000, 9,   -999.0, 9,   -999.0, 9, -999.0000,   -999.00,   -999.0, 9,   -999.0,  -999.00, 9,   -999.0,  26.2986, 22.8038,  26.3200, 2, 9, -999.00, -999.00, -999.00, -999.000,  -999.00, 9, -999.00, -999.00, 9, -999.00
49NZ20071008, P14N, 102, 1, 1, X12001, 2, 20071117, 1428, 11.5148, 178.9967, 5025,   5005.8, 2,   1.3044, 2,  34.7030, 2,  34.7035, 6,    187.1, 2,    187.4, 2,   125.39, 2,    33.65, 2,     0.01, 2,     2.34, 2,    0.000, 2,    0.000, 2,    0.000, 2, -999.000, 9,   2287.0, 2,   2391.8, 2,    7.6247,     25.00,   -999.0, 9,   -999.0,  -999.00, 9,   -999.0,   0.8760, 27.8148,   1.3045, 2, 2, 0.39, 0.13, 0.01, 0.016,  -999.00, 9, -999.00, -999.00, 9, -999.00