BOTTLE,20221005CCHSIOAMB
EXPOCODE,SECT_ID,STNNBR,CASTNO,SAMPNO,BTLNBR,BTLNBR_FLAG_W,DATE,TIME,LATITUDE,LONGITUDE,DEPTH,CTDPRS,CTDPRS_FLAG_W,CTDTMP,CTDTMP_FLAG_W,CTDSAL,CTDSAL_FLAG_W,SALNTY,SALNTY_FLAG_W,CTDOXY,CTDOXY_FLAG_W,OXYGEN,OXYGEN_FLAG_W,SILCAT,SILCAT_FLAG_W,NITRAT,NITRAT_FLAG_W,NITRIT,NITRIT_FLAG_W,PHSPHT,PHSPHT_FLAG_W,CFC-11,CFC-11_FLAG_W,CFC-12,CFC-12_FLAG_W,CFC113,CFC113_FLAG_W,CCL4,CCL4_FLAG_W,TCARBN,TCARBN_FLAG_W,ALKALI,ALKALI_FLAG_W,PH_TOT,PH_TMP,DELC14,DELC14_FLAG_W,C14ERR,DELC13,DELC13_FLAG_W,C13ERR,THETA,SIG0,SBE35,SBE35_FLAG_W,PH_TOT_FLAG_W,SILUNC,NRAUNC,NRIUNC,PHPUNC,CS-137,CS-137_FLAG_W,CS137ER,PLUTO,PLUTO_FLAG_W,PLUTOER
,,,,,,,,,,,METERS,DBAR,,ITS-90,,PSS-78,,PSS-78,,UMOL/KG,,UMOL/KG,,UMOL/KG,,UMOL/KG,,UMOL/KG,,UMOL/KG,,PMOL/KG,,PMOL/KG,,PMOL/KG,,PMOL/KG,,UMOL/KG,,UMOL/KG,,,DEG C,/MILLE,,/MILLE,/MILLE,,/MILLE,DEG C,KG/M^3,ITS-90,,,UMOL/KG,UMOL/KG,UMOL/KG,UMOL/KG,DM/.1MG,,BQ/M^3,MBQ/M^3,,MBQ/M^3
49NZ20071008, P01, P01_61, 2, 36, X12042, 2, 20071020, 1644, 47.0055, 179.4428, 5594,     10.2, 2,   9.1833, 2,  32.6973, 2,  32.6975, 2,    286.9, 2,    287.3, 2,    20.24, 2,    12.23, 2,     0.23, 2,     1.24, 2,    3.802, 2,    2.112, 2,    0.346, 2, -999.000, 9,   -999.0, 9,   -999.0, 9, -999.0000,   -999.00,   -999.0, 9,   -999.0,  -999.00, 9,   -999.0,   9.1822, 25.2868,   9.1829, 2, 9, 0.16, 0.07, 0.01, 0.013,  -999.00, 9, -999.00, -999.00, 9, -999.00
49NZ20071008, P01, P01_61, 2, 35, X12041, 2, 20071020, 1644, 47.0055, 179.4428, 5594,     50.5, 2,   9.1842, 2,  32.6961, 2,  32.6971, 2,    286.7, 2,    287.2, 2,    20.22, 2,    12.29, 2,     0.23, 2,     1.24, 2,    3.831, 2,    2.134, 2,    0.336, 2, -999.000, 9,   -999.0, 9,   -999.0, 9, -999.0000,   -999.00,   -999.0, 9,   -999.0,  -999.00, 9,   -999.0,   9.1789, 25.2864,   9.1836, 2, 9, 0.16, 0.07, 0.01, 0.013,  -999.00, 9, -999.00, -999.00, 9, -999.00
49NZ20071008, P01, P01_61, 2, 34, X12016, 2, 20071020, 1644, 47.0055, 179.4428, 5594,    100.8, 2,   3.7322, 2,  33.0570, 2,  33.0584, 2,    308.5, 2,    308.5, 2,    33.21, 2,    20.78, 2,     0.01, 2,     1.72, 2,    5.168, 2,    2.815, 2,    0.442, 2, -999.000, 9,   -999.0, 9,   -999.0, 9, -999.0000,   -999.00,   -999.0, 9,   -999.0,  -999.00, 9,   -999.0,   3.7257, 26.2676,   3.7321, 2, 9, 0.19, 0.09, 0.01, 0.014,  -999.00, 9, -999.00, -999.00, 9, -999.00
49NZ20071008, P01, P01_61, 2, 33, X12033, 2, 20071020, 1644, 47.0055, 179.4428, 5594,    150.8, 2,   3.4866, 2,  33.4514, 2,  33.4530, 2,    234.3, 2,    232.6, 2,    49.97, 2,    28.03, 2,     0.01, 2,     2.13, 2,    4.483, 2,    2.402, 2,    0.339, 2, -999.000, 9,   -999.0, 9,   -999.0, 9, -999.0000,   -999.00,   -999.0, 9,   -999.0,  -999.00, 9,   -999.0,   3.4771, 26.6054,   3.4864, 2, 9, 0.23, 0.11, 0.01, 0.015,  -999.00, 9, -999.00, -999.00, 9, -999.00
49NZ20071008, P01, P01_61, 2, 32, X12038, 2, 20071020, 1644, 47.0055, 179.4428, 5594,    201.6, 2,   3.4177, 2,  33.6654, 2,  33.6625, 2,    162.4, 2,    155.1, 2,    68.56, 2,    34.35, 2,     0.01, 2,     2.54, 2,    3.541, 2,    1.834, 2,    0.243, 2, -999.000, 9,   -999.0, 9,   -999.0, 9, -999.0000,   -999.00,   -999.0, 9,   -999.0,  -999.00, 9,   -999.0,   3.4049, 26.7827,   3.4171, 2, 9, 0.27, 0.13, 0.01, 0.016,  -999.00, 9, -999.00, -999.00, 9, -999.00
49NZ20071008, P01, P01_61, 2, 31, X12003, 2, 20071020, 1644, 47.0055, 179.4428, 5594,    250.2, 2,   3.4370, 2,  33.7686, 2,  33.7671, 6,    115.3, 2,    114.4, 2,    79.46, 2,    37.42, 2,     0.01, 2,     2.74, 2,    2.981, 2,    1.511, 2,    0.218, 2, -999.000, 9,   -999.0, 9,   -999.0, 9, -999.0000,   -999.00,   -999.0, 9,   -999.0,  -999.00, 9,   -999.0,   3.4209, 26.8634,   3.4366, 2, 9, 0.29, 0.14, 0.01, 0.017,  -999.00, 9, -999.00, -999.00, 9, -999.00
49NZ20071008, P01, P01_61, 2, 30, X12008, 2, 20071020, 1644, 47.0055, 179.4428, 5594,    331.7, 2,   3.6446, 2,  33.9202, 2,  33.9178, 2,     71.1, 2,     71.0, 2,    91.53, 2,    40.40, 2,     0.01, 2,     2.92, 2,    2.145, 2,    1.052, 2,    0.144, 2, -999.000, 9,   -999.0, 9,   -999.0, 9, -999.0000,   -999.00,   -999.0, 9,   -999.0,  -999.00, 9,   -999.0,   3.6225, 26.9648,   3.6442, 2, 9, 0.32, 0.15, 0.01, 0.017,  -999.00, 9, -999.00, -999.00, 9, -999.00
49NZ20071008, P01, P01_61, 2, 29, X12035, 2, 20071020, 1644, 47.0055, 179.4428, 5594,    432.7, 2,   3.5954, 2,  34.0416, 2,  34.0401, 2,     41.9, 2,     39.9, 2,   105.00, 2,    42.87, 2,     0.01, 2,     3.07, 2,    1.402, 2,    0.680, 2,    0.093, 2, -999.000, 9,   -999.0, 9,   -999.0, 9, -999.0000,   -999.00,   -999.0, 9,   -999.0,  -999.00, 9,   -999.0,   3.5663, 27.0670,   3.5950, 2, 9, 0.35, 0.15, 0.01, 0.018,  -999.00, 9, -999.00, -999.00, 9, -999.00
49NZ20071008, P01, P01_61, 2, 28, X12034, 2, 20071020, 1644, 47.0055, 179.4428, 5594,    532.3, 2,   3.4811, 2,  34.1465, 2,  34.1453, 6,     32.7, 2,     34.4, 2,   115.31, 2,    42.91, 2,     0.01, 2,     3.07, 2,    0.937, 2,    0.450, 2,    0.050, 2, -999.000, 9,   -999.0, 9,   -999.0, 9, -999.0000,   -999.00,   -999.0, 9,   -999.0,  -999.00, 9,   -999.0,   3.4452, 27.1623,   3.4809, 2, 9, 0.37, 0.15, 0.01, 0.018,  -999.00, 9, -999.00, -999.00, 9, -999.00
49NZ20071008, P01, P01_61, 2, 27, X12049, 2, 20071020, 1644, 47.0055, 179.4428, 5594,    633.3, 2,   3.3334, 2,  34.2359, 2,  34.2337, 2,     25.5, 2,     27.0, 2,   124.67, 2,    43.32, 2,     0.00, 2,     3.10, 2,    0.559, 2,    0.268, 2,    0.033, 2, -999.000, 9,   -999.0, 9,   -999.0, 9, -999.0000,   -999.00,   -999.0, 9,   -999.0,  -999.00, 9,   -999.0,   3.2909, 27.2482,   3.3333, 2, 9, 0.39, 0.15, 0.01, 0.018,  -999.00, 9, -999.00, -999.00, 9, -999.00
49NZ20071008, P01, P01_61, 2, 26, X12032, 2, 20071020, 1644, 47.0055, 179.4428, 5594,    733.8, 2,   3.1725, 2,  34.2935, 2,  34.2911, 2,     24.8, 2,     23.0, 2,   132.02, 2,    43.64, 2,     0.00, 2,     3.12, 2,    0.342, 6,    0.161, 6,    0.022, 6, -999.000, 9,   -999.0, 9,   -999.0, 9, -999.0000,   -999.00,   -999.0, 9,   -999.0,  -999.00, 9,   -999.0,   3.1235, 27.3098,   3.1726, 2, 9, 0.41, 0.15, 0.01, 0.018,  -999.00, 9, -999.00, -999.00, 9, -999.00
49NZ20071008, P01, P01_61, 2, 25, X12043, 2, 20071020, 1644, 47.0055, 179.4428, 5594,    829.8, 2,   2.9875, 2,  34.3424, 2,  34.3417, 2,     24.2, 2,     24.0, 2,   138.40, 2,    43.67, 2,     0.00, 2,     3.13, 2,    0.238, 2,    0.110, 2,    0.015, 2, -999.000, 9,   -999.0, 9,   -999.0, 9, -999.0000,   -999.00,   -999.0, 9,   -999.0,  -999.00, 9,   -999.0,   2.9326, 27.3662,   2.9872, 2, 9, 0.42, 0.16, 0.01, 0.018,  -999.00, 9, -999.00, -999.00, 9, -999.00
49NZ20071008, P01, P01_61, 2, 24, X12030, 2, 20071020, 1644, 47.0055, 179.4428, 5594,    930.8, 2,   2.8074, 2,  34.3825, 2,  34.3819, 2,     22.1, 2,     20.3, 2,   145.10, 2,    43.96, 2,     0.00, 2,     3.15, 2,    0.135, 2,    0.063, 2,    0.000, 2, -999.000, 9,   -999.0, 9,   -999.0, 9, -999.0000,   -999.00,   -999.0, 9,   -999.0,  -999.00, 9,   -999.0,   2.7463, 27.4149,   2.8071, 2, 9, 0.44, 0.16, 0.01, 0.018,  -999.00, 9, -999.00, -999.00, 9, -999.00
49NZ20071008, P01, P01_61, 2, 23, X12027, 2, 20071020, 1644, 47.0055, 179.4428, 5594,   1069.7, 2,   2.6254, 2,  34.4285, 2,  34.4284, 6,     25.0, 2,     26.6, 2,   150.41, 2,    43.70, 2,     0.00, 2,     3.13, 2,    0.099, 2,    0.046, 2,    0.008, 2, -999.000, 9,   -999.0, 9,   -999.0, 9, -999.0000,   -999.00,   -999.0, 9,   -999.0,  -999.00, 9,   -999.0,   2.5555, 27.4682,   2.6252, 2, 9, 0.45, 0.16, 0.01, 0.018,  -999.00, 9, -999.00, -999.00, 9, -999.00
49NZ20071008, P01, P01_61, 2, 22, X12028, 2, 20071020, 1644, 47.0055, 179.4428, 5594,   1268.0, 2,   2.4136, 2,  34.4769, 2,  34.4764, 2,     32.2, 2,     32.8, 2,   156.60, 2,    43.49, 2,     0.01, 2,     3.10, 2,    0.059, 2,    0.024, 2,    0.000, 2, -999.000, 9,   -999.0, 9,   -999.0, 9, -999.0000,   -999.00,   -999.0, 9,   -999.0,  -999.00, 9,   -999.0,   2.3307, 27.5258,   2.4135, 2, 9, 0.46, 0.15, 0.01, 0.018,  -999.00, 9, -999.00, -999.00, 9, -999.00
49NZ20071008, P01, P01_61, 2, 21, X12009, 2, 20071020, 1644, 47.0055, 179.4428, 5594,   1470.5, 2,   2.2268, 2,  34.5198, 2,  34.5199, 2,     40.4, 2,     41.3, 2,   160.96, 2,    43.07, 2,     0.00, 2,     3.06, 2,    0.023, 2,    0.007, 2,    0.006, 2, -999.000, 9,   -999.0, 9,   -999.0, 9, -999.0000,   -999.00,   -999.0, 9,   -999.0,  -999.00, 9,   -999.0,   2.1303, 27.5766,   2.2264, 2, 9, 0.47, 0.15, 0.01, 0.018,  -999.00, 9, -999.00, -999.00, 9, -999.00
49NZ20071008, P01, P01_61, 2, 20, X12026, 2, 20071020, 1644, 47.0055, 179.4428, 5594,   1672.3, 2,   2.0818, 2,  34.5537, 2,  34.5532, 2,     50.7, 2,     51.7, 2,   163.25, 2,    42.44, 2,     0.00, 2,     3.01, 2,    0.011, 2,    0.007, 2,    0.000, 2, -999.000, 9,   -999.0, 9,   -999.0, 9, -999.0000,   -999.00,   -999.0, 9,   -999.0,  -999.00, 9,   -999.0,   1.9712, 27.6164,   2.0819, 2, 9, 0.48, 0.15, 0.01, 0.017,  -999.00, 9, -999.00, -999.00, 9, -999.00
49NZ20071008, P01, P01_61, 2, 19, X12025, 2, 20071020, 1644, 47.0055, 179.4428, 5594,   1870.1, 2,   1.9623, 2,  34.5791, 2,  34.5787, 2,     61.6, 2,     60.2, 2,   165.76, 2,    41.88, 2,     0.00, 2,     2.97, 2,    0.001, 2,    0.000, 2,    0.000, 2, -999.000, 9,   -999.0, 9,   -999.0, 9, -999.0000,   -999.00,   -999.0, 9,   -999.0,  -999.00, 9,   -999.0,   1.8373, 27.6471,   1.9624, 2, 9, 0.48, 0.15, 0.01, 0.017,  -999.00, 9, -999.00, -999.00, 9, -999.00
49NZ20071008, P01, P01_61, 2, 18, X12024, 2, 20071020, 1644, 47.0055, 179.4428, 5594,   2070.2, 2,   1.8614, 2,  34.6010, 2,  34.6006, 2,     70.4, 2,     70.3, 2,   166.36, 2,    41.48, 2,     0.00, 2,     2.93, 2,    0.002, 2,    0.002, 2,    0.000, 2, -999.000, 9,   -999.0, 9,   -999.0, 9, -999.0000,   -999.00,   -999.0, 9,   -999.0,  -999.00, 9,   -999.0,   1.7213, 27.6735,   1.8614, 2, 9, 0.48, 0.15, 0.01, 0.017,  -999.00, 9, -999.00, -999.00, 9, -999.00
49NZ20071008, P01, P01_61, 2, 17, X12023, 2, 20071020, 1644, 47.0055, 179.4428, 5594,   2270.8, 2,   1.7705, 2,  34.6190, 2,  34.6185, 2,     81.8, 2,     81.9, 2,   166.19, 2,    40.68, 2,     0.00, 2,     2.88, 2,    0.000, 2,    0.000, 2,    0.000, 2, -999.000, 9,   -999.0, 9,   -999.0, 9, -999.0000,   -999.00,   -999.0, 9,   -999.0,  -999.00, 9,   -999.0,   1.6148, 27.6960,   1.7707, 2, 9, 0.48, 0.15, 0.01, 0.017,  -999.00, 9, -999.00, -999.00, 9, -999.00
49NZ20071008, P01, P01_61, 2, 16, X12022, 2, 20071020, 1644, 47.0055, 179.4428, 5594,   2470.3, 2,   1.6932, 2,  34.6334, 2,  34.6333, 2,     92.6, 2,     93.4, 2,   165.10, 2,    39.93, 2,     0.00, 2,     2.82, 2,    0.000, 2,    0.000, 2,    0.000, 2, -999.000, 9,   -999.0, 9,   -999.0, 9, -999.0000,   -999.00,   -999.0, 9,   -999.0,  -999.00, 9,   -999.0,   1.5214, 27.7144,   1.6934, 2, 9, 0.48, 0.14, 0.01, 0.017,  -999.00, 9, -999.00, -999.00, 9, -999.00
49NZ20071008, P01, P01_61, 2, 15, X12021, 2, 20071020, 1644, 47.0055, 179.4428, 5594,   2671.1, 2,   1.6293, 2,  34.6454, 2,  34.6453, 6,    103.2, 2,    103.8, 2,   163.68, 2,    39.32, 2,     0.00, 2,     2.77, 2, -999.000, 9, -999.000, 9, -999.000, 9, -999.000, 9,   -999.0, 9,   -999.0, 9, -999.0000,   -999.00,   -999.0, 9,   -999.0,  -999.00, 9,   -999.0,   1.4406, 27.7299,   1.6294, 2, 9, 0.48, 0.14, 0.01, 0.017,  -999.00, 9, -999.00, -999.00, 9, -999.00
49NZ20071008, P01, P01_61, 2, 14, X12020, 2, 20071020, 1644, 47.0055, 179.4428, 5594,   2873.9, 2,   1.5805, 2,  34.6549, 2,  34.6548, 2,    112.1, 2,    112.7, 2,   162.02, 2,    38.75, 2,     0.00, 2,     2.73, 2, -999.000, 9, -999.000, 9, -999.000, 9, -999.000, 9,   -999.0, 9,   -999.0, 9, -999.0000,   -999.00,   -999.0, 9,   -999.0,  -999.00, 9,   -999.0,   1.3740, 27.7423,   1.5805, 2, 9, 0.48, 0.14, 0.01, 0.017,  -999.00, 9, -999.00, -999.00, 9, -999.00
49NZ20071008, P01, P01_61, 2, 13, X12019, 2, 20071020, 1644, 47.0055, 179.4428, 5594,   3083.8, 2,   1.5376, 2,  34.6631, 2,  34.6630, 2,    120.7, 2,    121.6, 2,   160.25, 2,    38.11, 2,     0.00, 2,     2.69, 2,    0.000, 2,    0.000, 2,    0.000, 2, -999.000, 9,   -999.0, 9,   -999.0, 9, -999.0000,   -999.00,   -999.0, 9,   -999.0,  -999.00, 9,   -999.0,   1.3120, 27.7533,   1.5377, 2, 9, 0.47, 0.14, 0.01, 0.017,  -999.00, 9, -999.00, -999.00, 9, -999.00
49NZ20071008, P01, P01_61, 2, 12, X12040, 2, 20071020, 1644, 47.0055, 179.4428, 5594,   3328.5, 2,   1.5016, 2,  34.6706, 2,  34.6705, 2,    131.1, 2,    131.1, 2,   156.79, 2,    37.44, 2,     0.00, 2,     2.64, 2, -999.000, 9, -999.000, 9, -999.000, 9, -999.000, 9,   -999.0, 9,   -999.0, 9, -999.0000,   -999.00,   -999.0, 9,   -999.0,  -999.00, 9,   -999.0,   1.2528, 27.7634,   1.5017, 2, 9, 0.46, 0.14, 0.01, 0.017,  -999.00, 9, -999.00, -999.00, 9, -999.00
49NZ20071008, P01, P01_61, 2, 11, X12047, 2, 20071020, 1644, 47.0055, 179.4428, 5594,   3580.9, 2,   1.4790, 2,  34.6763, 2,  34.6761, 2,    137.7, 2,    137.6, 2,   155.80, 2,    37.08, 2,     0.00, 2,     2.60, 2, -999.000, 9, -999.000, 9, -999.000, 9, -999.000, 9,   -999.0, 9,   -999.0, 9, -999.0000,   -999.00,   -999.0, 9,   -999.0,  -999.00, 9,   -999.0,   1.2051, 27.7714,   1.4790, 2, 9, 0.46, 0.14, 0.01, 0.016,  -999.00, 9, -999.00, -999.00, 9, -999.00
49NZ20071008, P01, P01_61, 2, 10, X12010, 2, 20071020, 1644, 47.0055, 179.4428, 5594,   3833.0, 2,   1.4672, 2,  34.6809, 2,  34.6805, 2,    143.1, 2,    143.3, 2,   154.41, 2,    36.77, 2,     0.00, 2,     2.58, 2,    0.000, 2,    0.000, 2,    0.000, 2, -999.000, 9,   -999.0, 9,   -999.0, 9, -999.0000,   -999.00,   -999.0, 9,   -999.0,  -999.00, 9,   -999.0,   1.1672, 27.7776,   1.4672, 2, 9, 0.46, 0.14, 0.01, 0.016,  -999.00, 9, -999.00, -999.00, 9, -999.00
49NZ20071008, P01, P01_61, 2, 9, X12015, 2, 20071020, 1644, 47.0055, 179.4428, 5594,   4080.4, 2,   1.4641, 2,  34.6844, 2,  34.6842, 2,    146.9, 2,    147.8, 2,   153.64, 2,    36.50, 2,     0.00, 2,     2.56, 2, -999.000, 9, -999.000, 9, -999.000, 9, -999.000, 9,   -999.0, 9,   -999.0, 9, -999.0000,   -999.00,   -999.0, 9,   -999.0,  -999.00, 9,   -999.0,   1.1374, 27.7825,   1.4643, 2, 9, 0.46, 0.13, 0.01, 0.016,  -999.00, 9, -999.00, -999.00, 9, -999.00
49NZ20071008, P01, P01_61, 2, 8, X12046, 2, 20071020, 1644, 47.0055, 179.4428, 5594,   4328.6, 2,   1.4730, 2,  34.6867, 2,  34.6865, 6,    150.4, 2,    150.6, 2,   154.10, 2,    36.26, 2,     0.00, 2,     2.54, 2, -999.000, 9, -999.000, 9, -999.000, 9, -999.000, 9,   -999.0, 9,   -999.0, 9, -999.0000,   -999.00,   -999.0, 9,   -999.0,  -999.00, 9,   -999.0,   1.1184, 27.7856,   1.4732, 2, 9, 0.46, 0.13, 0.01, 0.016,  -999.00, 9, -999.00, -999.00, 9, -999.00
49NZ20071008, P01, P01_61, 2, 7, X12044, 2, 20071020, 1644, 47.0055, 179.4428, 5594,   4580.9, 2,   1.4913, 2,  34.6883, 2,  34.6878, 2,    151.8, 2,    151.7, 2,   155.41, 2,    36.13, 2,     0.00, 2,     2.53, 2,    0.000, 2,    0.001, 2,    0.000, 2, -999.000, 9,   -999.0, 9,   -999.0, 9, -999.0000,   -999.00,   -999.0, 9,   -999.0,  -999.00, 9,   -999.0,   1.1072, 27.7877,   1.4915, 2, 9, 0.46, 0.13, 0.01, 0.016,  -999.00, 9, -999.00, -999.00, 9, -999.00
49NZ20071008, P01, P01_61, 2, 6, X12048, 2, 20071020, 1644, 47.0055, 179.4428, 5594,   4830.8, 2,   1.5174, 2,  34.6887, 2,  34.6887, 2,    152.5, 2,    152.3, 2,   156.38, 2,    36.15, 2,     0.00, 2,     2.53, 2, -999.000, 9, -999.000, 9, -999.000, 9, -999.000, 9,   -999.0, 9,   -999.0, 9, -999.0000,   -999.00,   -999.0, 9,   -999.0,  -999.00, 9,   -999.0,   1.1030, 27.7883,   1.5175, 2, 9, 0.46, 0.13, 0.01, 0.016,  -999.00, 9, -999.00, -999.00, 9, -999.00
49NZ20071008, P01, P01_61, 2, 5, X12014, 2, 20071020, 1644, 47.0055, 179.4428, 5594,   5079.9, 2,   1.5471, 2,  34.6890, 2,  34.6888, 2,    153.0, 2,    152.6, 2,   156.45, 2,    36.21, 2,     0.00, 2,     2.53, 2, -999.000, 9, -999.000, 9, -999.000, 9, -999.000, 9,   -999.0, 9,   -999.0, 9, -999.0000,   -999.00,   -999.0, 9,   -999.0,  -999.00, 9,   -999.0,   1.1015, 27.7887,   1.5472, 2, 9, 0.46, 0.13, 0.01, 0.016,  -999.00, 9, -999.00, -999.00, 9, -999.00
49NZ20071008, P01, P01_61, 2, 4, X12006, 2, 20071020, 1644, 47.0055, 179.4428, 5594,   5329.9, 2,   1.5777, 2,  34.6892, 2,  34.6893, 2,    153.3, 2,    153.1, 2,   156.16, 2,    36.05, 2,     0.00, 2,     2.52, 2,    0.000, 2,    0.000, 2,    0.000, 2, -999.000, 9,   -999.0, 9,   -999.0, 9, -999.0000,   -999.00,   -999.0, 9,   -999.0,  -999.00, 9,   -999.0,   1.0999, 27.7889,   1.5778, 2, 9, 0.46, 0.13, 0.01, 0.016,  -999.00, 9, -999.00, -999.00, 9, -999.00
49NZ20071008, P01, P01_61, 2, 3, X12013, 2, 20071020, 1644, 47.0055, 179.4428, 5594,   5579.7, 2,   1.6062, 2,  34.6894, 2,  34.6894, 2,    154.4, 2,    154.2, 2,   154.98, 2,    36.06, 2,     0.00, 2,     2.51, 2, -999.000, 9, -999.000, 9, -999.000, 9, -999.000, 9,   -999.0, 9,   -999.0, 9, -999.0000,   -999.00,   -999.0, 9,   -999.0,  -999.00, 9,   -999.0,   1.0955, 27.7894,   1.6062, 2, 9, 0.46, 0.13, 0.01, 0.016,  -999.00, 9, -999.00, -999.00, 9, -999.00
49NZ20071008, P01, P01_61, 2, 2, X12002, 9, 20071020, 1644, 47.0055, 179.4428, 5594,    433.0, 2,   3.5945, 2,  34.0413, 2, -999.0000, 9,     41.9, 2,   -999.0, 9,  -999.00, 9,  -999.00, 9,  -999.00, 9,  -999.00, 9, -999.000, 9, -999.000, 9, -999.000, 9, -999.000, 9,   -999.0, 9,   -999.0, 9, -999.0000,   -999.00,   -999.0, 9,   -999.0,  -999.00, 9,   -999.0,   3.5653, 27.0668,   3.5940, 2, 9, -999.00, -999.00, -999.00, -999.000,  -999.00, 9, -999.00, -999.00, 9, -999.00
49NZ20071008, P01, P01_61, 2, 1, X12001, 2, 20071020, 1644, 47.0055, 179.4428, 5594,   5760.8, 2,   1.6308, 2,  34.6893, 2,  34.6889, 6,    153.5, 2,    154.1, 2,   154.80, 2,    36.00, 2,     0.00, 2,     2.52, 2,    0.000, 2,    0.000, 2,    0.000, 2, -999.000, 9,   -999.0, 9,   -999.0, 9, -999.0000,   -999.00,   -999.0, 9,   -999.0,  -999.00, 9,   -999.0,   1.0956, 27.7893,   1.6307, 2, 9, 0.46, 0.13, 0.01, 0.016,  -999.00, 9, -999.00, -999.00, 9, -999.00