BOTTLE,20221005CCHSIOAMB
EXPOCODE,SECT_ID,STNNBR,CASTNO,SAMPNO,BTLNBR,BTLNBR_FLAG_W,DATE,TIME,LATITUDE,LONGITUDE,DEPTH,CTDPRS,CTDPRS_FLAG_W,CTDTMP,CTDTMP_FLAG_W,CTDSAL,CTDSAL_FLAG_W,SALNTY,SALNTY_FLAG_W,CTDOXY,CTDOXY_FLAG_W,OXYGEN,OXYGEN_FLAG_W,SILCAT,SILCAT_FLAG_W,NITRAT,NITRAT_FLAG_W,NITRIT,NITRIT_FLAG_W,PHSPHT,PHSPHT_FLAG_W,CFC-11,CFC-11_FLAG_W,CFC-12,CFC-12_FLAG_W,CFC113,CFC113_FLAG_W,CCL4,CCL4_FLAG_W,TCARBN,TCARBN_FLAG_W,ALKALI,ALKALI_FLAG_W,PH_TOT,PH_TMP,DELC14,DELC14_FLAG_W,C14ERR,DELC13,DELC13_FLAG_W,C13ERR,THETA,SIG0,SBE35,SBE35_FLAG_W,PH_TOT_FLAG_W,SILUNC,NRAUNC,NRIUNC,PHPUNC,CS-137,CS-137_FLAG_W,CS137ER,PLUTO,PLUTO_FLAG_W,PLUTOER
,,,,,,,,,,,METERS,DBAR,,ITS-90,,PSS-78,,PSS-78,,UMOL/KG,,UMOL/KG,,UMOL/KG,,UMOL/KG,,UMOL/KG,,UMOL/KG,,PMOL/KG,,PMOL/KG,,PMOL/KG,,PMOL/KG,,UMOL/KG,,UMOL/KG,,,DEG C,/MILLE,,/MILLE,/MILLE,,/MILLE,DEG C,KG/M^3,ITS-90,,,UMOL/KG,UMOL/KG,UMOL/KG,UMOL/KG,DM/.1MG,,BQ/M^3,MBQ/M^3,,MBQ/M^3
49NZ20071008, P14N, 107, 1, 36, X12042, 2, 20071118, 2028, 9.0055, 178.9962, 5904,     10.0, 2,  28.3803, 2,  34.0713, 2,  34.0717, 2,    197.9, 2,    197.2, 2,     1.09, 2,     0.07, 2,     0.01, 2,     0.14, 2,    1.487, 2,    0.940, 2,    0.273, 4, -999.000, 9,   -999.0, 9,   -999.0, 9, -999.0000,   -999.00,   -999.0, 9,   -999.0,  -999.00, 9,   -999.0,  28.3779, 21.5728,  28.3783, 2, 9, 0.12, 0.03, 0.01, 0.019,  -999.00, 9, -999.00, -999.00, 9, -999.00
49NZ20071008, P14N, 107, 1, 35, X12041, 2, 20071118, 2028, 9.0055, 178.9962, 5904,     50.5, 2,  28.4702, 2,  34.1706, 2,  34.2179, 2,    198.2, 2,    197.8, 2,     1.07, 2,     0.04, 2,     0.00, 2,     0.14, 2,    1.480, 2,    0.922, 2,    0.331, 4, -999.000, 9,   -999.0, 9,   -999.0, 9, -999.0000,   -999.00,   -999.0, 9,   -999.0,  -999.00, 9,   -999.0,  28.4582, 21.6210,  28.4669, 2, 9, 0.12, 0.03, 0.01, 0.019,  -999.00, 9, -999.00, -999.00, 9, -999.00
49NZ20071008, P14N, 107, 1, 34, X12016, 2, 20071118, 2028, 9.0055, 178.9962, 5904,    100.0, 2,  23.6698, 2,  34.7400, 2,  34.7488, 2,    191.1, 2,    196.2, 2,     1.74, 2,     0.20, 2,     0.14, 2,     0.26, 2,    1.926, 2,    1.163, 2,    0.366, 4, -999.000, 9,   -999.0, 9,   -999.0, 9, -999.0000,   -999.00,   -999.0, 9,   -999.0,  -999.00, 9,   -999.0,  23.6490, 23.5479,  23.6612, 2, 9, 0.12, 0.03, 0.01, 0.015,  -999.00, 1, -999.00, -999.00, 9, -999.00
49NZ20071008, P14N, 107, 1, 33, X12033, 2, 20071118, 2028, 9.0055, 178.9962, 5904,    150.1, 2,  14.3481, 2,  34.4495, 2,  34.4477, 2,    135.1, 2,    132.9, 2,    12.09, 2,    14.92, 2,     0.02, 2,     1.19, 2,    2.330, 6,    1.291, 6,    0.056, 6, -999.000, 9,   -999.0, 9,   -999.0, 9, -999.0000,   -999.00,   -999.0, 9,   -999.0,  -999.00, 9,   -999.0,  14.3262, 25.6928,  14.3694, 2, 9, 0.15, 0.07, 0.01, 0.013,  -999.00, 9, -999.00, -999.00, 9, -999.00
49NZ20071008, P14N, 107, 1, 32, X12038, 2, 20071118, 2028, 9.0055, 178.9962, 5904,    198.8, 2,  11.4241, 2,  34.5394, 2,  34.5375, 2,     45.7, 2,     44.1, 2,    26.40, 2,    29.57, 2,     0.01, 2,     2.22, 2,    1.105, 2,    0.580, 2,    0.028, 2, -999.000, 9,   -999.0, 9,   -999.0, 9, -999.0000,   -999.00,   -999.0, 9,   -999.0,  -999.00, 9,   -999.0,  11.3991, 26.3440,  11.4212, 2, 9, 0.18, 0.12, 0.01, 0.016,  -999.00, 1, -999.00, -999.00, 9, -999.00
49NZ20071008, P14N, 107, 1, 31, X12003, 2, 20071118, 2028, 9.0055, 178.9962, 5904,    249.1, 2,  10.5902, 2,  34.6398, 2,  34.6356, 6,     18.9, 2,     20.4, 2,    30.80, 2,    33.71, 2,     0.01, 2,     2.47, 2,    0.481, 2,    0.258, 2,    0.014, 2, -999.000, 9,   -999.0, 9,   -999.0, 9, -999.0000,   -999.00,   -999.0, 9,   -999.0,  -999.00, 9,   -999.0,  10.5603, 26.5735,  10.5873, 2, 9, 0.19, 0.13, 0.01, 0.016,  -999.00, 9, -999.00, -999.00, 9, -999.00
49NZ20071008, P14N, 107, 1, 30, X12008, 2, 20071118, 2028, 9.0055, 178.9962, 5904,    329.7, 2,   9.6337, 2,  34.6372, 2,  34.6360, 2,     26.3, 2,     24.7, 2,    34.85, 2,    35.32, 2,     0.01, 2,     2.53, 2,    0.249, 2,    0.139, 2,    0.024, 2, -999.000, 9,   -999.0, 9,   -999.0, 9, -999.0000,   -999.00,   -999.0, 9,   -999.0,  -999.00, 9,   -999.0,   9.5962, 26.7367,   9.6360, 2, 9, 0.20, 0.13, 0.01, 0.016,  -999.00, 9, -999.00, -999.00, 9, -999.00
49NZ20071008, P14N, 107, 1, 29, X12035, 2, 20071118, 2028, 9.0055, 178.9962, 5904,    431.3, 2,   8.5664, 2,  34.5952, 2,  34.5934, 2,     31.0, 2,     32.3, 2,    41.26, 2,    36.39, 2,     0.01, 2,     2.64, 2,    0.136, 2,    0.075, 2,    0.011, 2, -999.000, 9,   -999.0, 9,   -999.0, 9, -999.0000,   -999.00,   -999.0, 9,   -999.0,  -999.00, 9,   -999.0,   8.5205, 26.8767,   8.5669, 2, 9, 0.21, 0.13, 0.01, 0.017,  -999.00, 1, -999.00, -999.00, 9, -999.00
49NZ20071008, P14N, 107, 1, 28, X12034, 2, 20071118, 2028, 9.0055, 178.9962, 5904,    530.1, 2,   7.5123, 2,  34.5556, 2,  34.5541, 6,     38.9, 2,     39.0, 2,    50.43, 2,    37.75, 2,     0.01, 2,     2.76, 2,    0.077, 2,    0.044, 2,    0.005, 2, -999.000, 9,   -999.0, 9,   -999.0, 9, -999.0000,   -999.00,   -999.0, 9,   -999.0,  -999.00, 9,   -999.0,   7.4598, 27.0039,   7.5130, 2, 9, 0.23, 0.14, 0.01, 0.017,  -999.00, 9, -999.00, -999.00, 9, -999.00
49NZ20071008, P14N, 107, 1, 27, X12049, 2, 20071118, 2028, 9.0055, 178.9962, 5904,    629.9, 2,   6.5468, 2,  34.5369, 2,  34.5360, 2,     43.4, 2,     43.2, 2,    60.32, 2,    39.67, 2,     0.01, 2,     2.87, 2,    0.039, 2,    0.021, 2,    0.000, 2, -999.000, 9,   -999.0, 9,   -999.0, 9, -999.0000,   -999.00,   -999.0, 9,   -999.0,  -999.00, 9,   -999.0,   6.4885, 27.1233,   6.5473, 2, 9, 0.25, 0.14, 0.01, 0.017,  -999.00, 1, -999.00, -999.00, 9, -999.00
49NZ20071008, P14N, 107, 1, 26, X12032, 2, 20071118, 2028, 9.0055, 178.9962, 5904,    729.7, 2,   5.7841, 2,  34.5324, 2,  34.5321, 2,     49.2, 2,     49.7, 2,    70.41, 2,    40.61, 2,     0.01, 2,     2.91, 2,    0.016, 6,    0.011, 6,    0.000, 6, -999.000, 9,   -999.0, 9,   -999.0, 9, -999.0000,   -999.00,   -999.0, 9,   -999.0,  -999.00, 9,   -999.0,   5.7203, 27.2183,   5.7854, 2, 9, 0.27, 0.15, 0.01, 0.017,  -999.00, 9, -999.00, -999.00, 9, -999.00
49NZ20071008, P14N, 107, 1, 25, X12043, 2, 20071118, 2028, 9.0055, 178.9962, 5904,    829.6, 2,   5.2106, 2,  34.5431, 2,  34.5431, 2,     53.7, 2,     54.4, 2,    78.13, 2,    41.15, 2,     0.01, 2,     2.95, 2,    0.012, 2,    0.009, 2,    0.000, 2, -999.000, 9,   -999.0, 9,   -999.0, 9, -999.0000,   -999.00,   -999.0, 9,   -999.0,  -999.00, 9,   -999.0,   5.1411, 27.2966,   5.2111, 2, 9, 0.29, 0.15, 0.01, 0.017,  -999.00, 1, -999.00, -999.00, 9, -999.00
49NZ20071008, P14N, 107, 1, 24, X12030, 2, 20071118, 2028, 9.0055, 178.9962, 5904,    930.1, 2,   4.8148, 2,  34.5485, 2,  34.5486, 2,     61.2, 2,     60.5, 2,    85.06, 2,    41.13, 2,     0.01, 2,     2.94, 2,    0.010, 2,    0.007, 2,    0.000, 2, -999.000, 9,   -999.0, 9,   -999.0, 9, -999.0000,   -999.00,   -999.0, 9,   -999.0,  -999.00, 9,   -999.0,   4.7390, 27.3471,   4.8147, 2, 9, 0.31, 0.15, 0.01, 0.017,  -999.00, 9, -999.00, -999.00, 9, -999.00
49NZ20071008, P14N, 107, 1, 23, X12027, 2, 20071118, 2028, 9.0055, 178.9962, 5904,   1072.0, 2,   4.3193, 2,  34.5597, 2,  34.5597, 6,     69.3, 2,     67.6, 2,    94.70, 2,    40.98, 2,     0.01, 2,     2.94, 2,    0.006, 2,    0.003, 2,    0.000, 2, -999.000, 9,   -999.0, 9,   -999.0, 9, -999.0000,   -999.00,   -999.0, 9,   -999.0,  -999.00, 9,   -999.0,   4.2349, 27.4112,   4.3202, 2, 9, 0.33, 0.15, 0.01, 0.017,  -999.00, 1, -999.00, -999.00, 9, -999.00
49NZ20071008, P14N, 107, 1, 22, X12028, 2, 20071118, 2028, 9.0055, 178.9962, 5904,   1268.8, 2,   3.7318, 2,  34.5760, 2,  34.5765, 2,     70.7, 2,     71.9, 2,   107.20, 2,    41.08, 2,     0.01, 2,     2.94, 2,    0.010, 2,    0.009, 2,    0.000, 2, -999.000, 9,   -999.0, 9,   -999.0, 9, -999.0000,   -999.00,   -999.0, 9,   -999.0,  -999.00, 9,   -999.0,   3.6357, 27.4859,   3.7324, 2, 9, 0.35, 0.15, 0.01, 0.017,  -999.00, 9, -999.00, -999.00, 9, -999.00
49NZ20071008, P14N, 107, 1, 21, X12009, 2, 20071118, 2028, 9.0055, 178.9962, 5904,   1471.2, 2,   3.1777, 2,  34.5962, 2,  34.5963, 2,     79.3, 2,     78.0, 2,   119.53, 2,    41.05, 2,     0.01, 2,     2.94, 2,    0.006, 2,    0.004, 2,    0.000, 2, -999.000, 9,   -999.0, 9,   -999.0, 9, -999.0000,   -999.00,   -999.0, 9,   -999.0,  -999.00, 9,   -999.0,   3.0702, 27.5563,   3.1781, 2, 9, 0.38, 0.15, 0.01, 0.017,  -999.00, 9, -999.00, -999.00, 9, -999.00
49NZ20071008, P14N, 107, 1, 20, X12026, 2, 20071118, 2028, 9.0055, 178.9962, 5904,   1670.3, 2,   2.7671, 2,  34.6115, 2,  34.6115, 2,     87.1, 2,     87.1, 2,   128.13, 2,    40.54, 2,     0.01, 2,     2.88, 2,    0.003, 2,    0.002, 2,    0.000, 2, -999.000, 9,   -999.0, 9,   -999.0, 9, -999.0000,   -999.00,   -999.0, 9,   -999.0,  -999.00, 9,   -999.0,   2.6477, 27.6065,   2.7673, 2, 9, 0.40, 0.15, 0.01, 0.017,  -999.00, 9, -999.00, -999.00, 9, -999.00
49NZ20071008, P14N, 107, 1, 19, X12025, 2, 20071118, 2028, 9.0055, 178.9962, 5904,   1870.8, 2,   2.4647, 2,  34.6252, 2,  34.6255, 2,     96.1, 2,     95.8, 2,   134.47, 2,    40.01, 2,     0.01, 2,     2.83, 2,    0.005, 2,    0.003, 2,    0.000, 2, -999.000, 9,   -999.0, 9,   -999.0, 9, -999.0000,   -999.00,   -999.0, 9,   -999.0,  -999.00, 9,   -999.0,   2.3324, 27.6443,   2.4648, 2, 9, 0.41, 0.14, 0.01, 0.017,  -999.00, 1, -999.00, -999.00, 9, -999.00
49NZ20071008, P14N, 107, 1, 18, X12024, 2, 20071118, 2028, 9.0055, 178.9962, 5904,   2069.7, 2,   2.2159, 2,  34.6379, 2,  34.6383, 2,    101.7, 2,    101.9, 2,   140.33, 2,    39.65, 2,     0.01, 2,     2.79, 2, -999.000, 9, -999.000, 9, -999.000, 9, -999.000, 9,   -999.0, 9,   -999.0, 9, -999.0000,   -999.00,   -999.0, 9,   -999.0,  -999.00, 9,   -999.0,   2.0702, 27.6760,   2.2161, 2, 9, 0.43, 0.14, 0.01, 0.017,  -999.00, 1, -999.00, -999.00, 9, -999.00
49NZ20071008, P14N, 107, 1, 17, X12023, 2, 20071118, 2028, 9.0055, 178.9962, 5904,   2270.2, 2,   2.0312, 2,  34.6495, 2,  34.6495, 2,    108.3, 2,    108.5, 2,   144.13, 2,    39.18, 2,     0.01, 2,     2.76, 2,    0.000, 2,    0.000, 2,    0.000, 2, -999.000, 9,   -999.0, 9,   -999.0, 9, -999.0000,   -999.00,   -999.0, 9,   -999.0,  -999.00, 9,   -999.0,   1.8710, 27.7010,   2.0314, 2, 9, 0.44, 0.14, 0.01, 0.017,  -999.00, 1, -999.00, -999.00, 9, -999.00
49NZ20071008, P14N, 107, 1, 16, X12022, 2, 20071118, 2028, 9.0055, 178.9962, 5904,   2468.6, 2,   1.9068, 2,  34.6575, 2,  34.6576, 2,    113.1, 2,    114.1, 2,   146.20, 2,    38.95, 2,     0.01, 2,     2.73, 2, -999.000, 9, -999.000, 9, -999.000, 9, -999.000, 9,   -999.0, 9,   -999.0, 9, -999.0000,   -999.00,   -999.0, 9,   -999.0,  -999.00, 9,   -999.0,   1.7311, 27.7181,   1.9069, 2, 9, 0.44, 0.14, 0.01, 0.017,  -999.00, 9, -999.00, -999.00, 9, -999.00
49NZ20071008, P14N, 107, 1, 15, X12021, 2, 20071118, 2028, 9.0055, 178.9962, 5904,   2670.0, 2,   1.8285, 2,  34.6637, 2,  34.6637, 6,    116.7, 2,    117.7, 2,   148.27, 2,    38.56, 2,     0.01, 2,     2.70, 2,    0.001, 2,    0.000, 2,    0.000, 2, -999.000, 9,   -999.0, 9,   -999.0, 9, -999.0000,   -999.00,   -999.0, 9,   -999.0,  -999.00, 9,   -999.0,   1.6358, 27.7303,   1.8286, 2, 9, 0.45, 0.14, 0.01, 0.017,  -999.00, 9, -999.00, -999.00, 9, -999.00
49NZ20071008, P14N, 107, 1, 14, X12020, 2, 20071118, 2028, 9.0055, 178.9962, 5904,   2870.4, 2,   1.7638, 2,  34.6678, 2,  34.6676, 2,    121.3, 2,    122.1, 2,   148.98, 2,    38.40, 2,     0.01, 2,     2.67, 2, -999.000, 9, -999.000, 9, -999.000, 9, -999.000, 9,   -999.0, 9,   -999.0, 9, -999.0000,   -999.00,   -999.0, 9,   -999.0,  -999.00, 9,   -999.0,   1.5537, 27.7396,   1.7640, 2, 9, 0.45, 0.14, 0.01, 0.017,  -999.00, 1, -999.00, -999.00, 9, -999.00
49NZ20071008, P14N, 107, 1, 13, X12019, 2, 20071118, 2028, 9.0055, 178.9962, 5904,   3080.3, 2,   1.7077, 2,  34.6714, 2,  34.6712, 2,    125.9, 2,    126.6, 2,   149.31, 2,    38.03, 2,     0.00, 2,     2.65, 2,    0.000, 2,    0.000, 2,    0.000, 2, -999.000, 9,   -999.0, 9,   -999.0, 9, -999.0000,   -999.00,   -999.0, 9,   -999.0,  -999.00, 9,   -999.0,   1.4786, 27.7480,   1.7078, 2, 9, 0.45, 0.14, 0.01, 0.017,  -999.00, 1, -999.00, -999.00, 9, -999.00
49NZ20071008, P14N, 107, 1, 12, X12040, 4, 20071118, 2028, 9.0055, 178.9962, 5904,   3330.1, 2,   1.6212, 2,  34.6769, 2,  34.6690, 4,    133.9, 2,    123.8, 4,   148.83, 4,    38.19, 4,     0.01, 4,     2.66, 4, -999.000, 9, -999.000, 9, -999.000, 9, -999.000, 9,   -999.0, 9,   -999.0, 9, -999.0000,   -999.00,   -999.0, 9,   -999.0,  -999.00, 9,   -999.0,   1.3693, 27.7603,   1.6213, 2, 9, 0.45, 0.14, 0.01, 0.017,  -999.00, 1, -999.00, -999.00, 1, -999.00
49NZ20071008, P14N, 107, 1, 11, X12047, 2, 20071118, 2028, 9.0055, 178.9962, 5904,   3580.5, 2,   1.5383, 2,  34.6823, 2,  34.6818, 2,    142.7, 2,    143.4, 2,   146.59, 2,    36.84, 2,     0.01, 2,     2.56, 2,    0.000, 2,    0.001, 2,    0.000, 2, -999.000, 9,   -999.0, 9,   -999.0, 9, -999.0000,   -999.00,   -999.0, 9,   -999.0,  -999.00, 9,   -999.0,   1.2629, 27.7721,   1.5386, 2, 9, 0.44, 0.14, 0.01, 0.016,  -999.00, 9, -999.00, -999.00, 9, -999.00
49NZ20071008, P14N, 107, 1, 10, X12012, 2, 20071118, 2028, 9.0055, 178.9962, 5904,   3828.5, 2,   1.4669, 2,  34.6873, 2,  34.6867, 2,    152.5, 2,    153.2, 2,   142.93, 2,    36.30, 2,     0.01, 2,     2.51, 2, -999.000, 9, -999.000, 9, -999.000, 9, -999.000, 9,   -999.0, 9,   -999.0, 9, -999.0000,   -999.00,   -999.0, 9,   -999.0,  -999.00, 9,   -999.0,   1.1674, 27.7828,   1.4671, 2, 9, 0.43, 0.13, 0.01, 0.016,  -999.00, 1, -999.00, -999.00, 9, -999.00
49NZ20071008, P14N, 107, 1, 9, X12015, 2, 20071118, 2028, 9.0055, 178.9962, 5904,   4078.8, 2,   1.4064, 2,  34.6916, 2,  34.6915, 2,    162.3, 2,    162.4, 2,   138.69, 2,    35.57, 2,     0.01, 2,     2.46, 2,    0.000, 2,    0.000, 2,    0.000, 2, -999.000, 9,   -999.0, 9,   -999.0, 9, -999.0000,   -999.00,   -999.0, 9,   -999.0,  -999.00, 9,   -999.0,   1.0815, 27.7921,   1.4063, 2, 9, 0.42, 0.13, 0.01, 0.016,  -999.00, 1, -999.00, -999.00, 9, -999.00
49NZ20071008, P14N, 107, 1, 8, X12046, 2, 20071118, 2028, 9.0055, 178.9962, 5904,   4331.8, 2,   1.3500, 2,  34.6963, 2,  34.6961, 6,    172.2, 2,    172.3, 2,   133.47, 2,    34.86, 2,     0.01, 2,     2.41, 2, -999.000, 9, -999.000, 9, -999.000, 9, -999.000, 9,   -999.0, 9,   -999.0, 9, -999.0000,   -999.00,   -999.0, 9,   -999.0,  -999.00, 9,   -999.0,   0.9987, 27.8014,   1.3501, 2, 9, 0.41, 0.13, 0.01, 0.016,  -999.00, 1, -999.00, -999.00, 9, -999.00
49NZ20071008, P14N, 107, 1, 7, X12044, 2, 20071118, 2028, 9.0055, 178.9962, 5904,   4579.0, 2,   1.3187, 2,  34.6997, 2,  34.6992, 2,    178.6, 2,    178.8, 2,   130.24, 2,    34.26, 2,     0.01, 2,     2.37, 2,    0.000, 2,    0.000, 2,    0.000, 2, -999.000, 9,   -999.0, 9,   -999.0, 9, -999.0000,   -999.00,   -999.0, 9,   -999.0,  -999.00, 9,   -999.0,   0.9402, 27.8080,   1.3189, 2, 9, 0.41, 0.13, 0.01, 0.016,  -999.00, 9, -999.00, -999.00, 9, -999.00
49NZ20071008, P14N, 107, 1, 6, X12048, 2, 20071118, 2028, 9.0055, 178.9962, 5904,   4828.6, 2,   1.3089, 2,  34.7018, 2,  34.7013, 2,    183.1, 2,    183.3, 2,   127.77, 2,    33.98, 2,     0.01, 2,     2.35, 2,    0.000, 2,    0.000, 2,    0.000, 2, -999.000, 9,   -999.0, 9,   -999.0, 9, -999.0000,   -999.00,   -999.0, 9,   -999.0,  -999.00, 9,   -999.0,   0.9015, 27.8122,   1.3090, 2, 9, 0.40, 0.13, 0.01, 0.016,  -999.00, 1, -999.00, -999.00, 9, -999.00
49NZ20071008, P14N, 107, 1, 5, X12014, 2, 20071118, 2028, 9.0055, 178.9962, 5904,   5078.5, 2,   1.3115, 2,  34.7032, 2,  34.7031, 2,    186.7, 2,    186.7, 2,   125.74, 2,    33.77, 2,     0.00, 2,     2.34, 2,    0.000, 2,    0.000, 2,    0.000, 2, -999.000, 9,   -999.0, 9,   -999.0, 9, -999.0000,   -999.00,   -999.0, 9,   -999.0,  -999.00, 9,   -999.0,   0.8740, 27.8151,   1.3116, 2, 9, 0.40, 0.13, 0.01, 0.016,  -999.00, 1, -999.00, -999.00, 9, -999.00
49NZ20071008, P14N, 107, 1, 4, X12006, 2, 20071118, 2028, 9.0055, 178.9962, 5904,   5330.7, 2,   1.3289, 2,  34.7041, 2,  34.7039, 2,    188.6, 2,    188.8, 2,   124.46, 2,    33.62, 2,     0.00, 2,     2.32, 2,    0.000, 2,    0.000, 2,    0.000, 2, -999.000, 9,   -999.0, 9,   -999.0, 9, -999.0000,   -999.00,   -999.0, 9,   -999.0,  -999.00, 9,   -999.0,   0.8598, 27.8168,   1.3290, 2, 9, 0.39, 0.13, 0.01, 0.016,  -999.00, 1, -999.00, -999.00, 9, -999.00
49NZ20071008, P14N, 107, 1, 3, X12013, 4, 20071118, 2028, 9.0055, 178.9962, 5904,   5578.3, 2,   1.3524, 2,  34.7044, 2,  34.7027, 4,    190.0, 2,    186.8, 4,   125.80, 4,    33.70, 4,     0.00, 4,     2.33, 4,    0.000, 4,    0.000, 4,    0.000, 4, -999.000, 9,   -999.0, 9,   -999.0, 9, -999.0000,   -999.00,   -999.0, 9,   -999.0,  -999.00, 9,   -999.0,   0.8511, 27.8176,   1.3526, 2, 9, 0.40, 0.13, 0.01, 0.016,  -999.00, 9, -999.00, -999.00, 9, -999.00
49NZ20071008, P14N, 107, 1, 2, X12002, 2, 20071118, 2028, 9.0055, 178.9962, 5904,   5830.5, 2,   1.3830, 2,  34.7046, 2,  34.7046, 2,    190.4, 2,    190.3, 2,   123.77, 2,    33.57, 2,     0.01, 2,     2.31, 2,    0.000, 2,    0.001, 2,    0.000, 2, -999.000, 9,   -999.0, 9,   -999.0, 9, -999.0000,   -999.00,   -999.0, 9,   -999.0,  -999.00, 9,   -999.0,   0.8479, 27.8180,   1.3831, 2, 9, 0.39, 0.13, 0.01, 0.016,  -999.00, 1, -999.00, -999.00, 9, -999.00
49NZ20071008, P14N, 107, 1, 1, X12001, 2, 20071118, 2028, 9.0055, 178.9962, 5904,   6004.2, 2,   1.4064, 2,  34.7046, 2,  34.7045, 6,    190.3, 2,    190.3, 2,   123.53, 2,    33.48, 2,     0.00, 2,     2.32, 2,    0.000, 2,    0.000, 2,    0.000, 2, -999.000, 9,   -999.0, 9,   -999.0, 9, -999.0000,   -999.00,   -999.0, 9,   -999.0,  -999.00, 9,   -999.0,   0.8475, 27.8179,   1.4065, 2, 9, 0.39, 0.13, 0.01, 0.016,  -999.00, 1, -999.00, -999.00, 9, -999.00