BOTTLE,20221005CCHSIOAMB
# Changed PH_FLAG_W to PH_TOT_FLAG_W to reconnect it with the parent parameter
# Prepended P01_ to the stations with that as their section id. I have seen this before in Japanese cruises. The station number of a section is exactly tied to a location, so it can and will repeat if more than one sections (partial) are occupied by a single cruise.
# Extracted rows with no pressure into residual, these appear to be entirely made up of underway salinities
#BOTTLE,20100830CCHDOSIOCBG
#code : Justin Fields merge_exchange.rb 
#original files copied from HTML directory: 2010-08-30
#original HYD file: /Users/cberys/Work/Data/2010.08.30_P142007_1_PH_header_CBG/working/original_hy1.csv  2010-08-30
EXPOCODE,SECT_ID,STNNBR,CASTNO,SAMPNO,BTLNBR,BTLNBR_FLAG_W,DATE,TIME,LATITUDE,LONGITUDE,DEPTH,CTDPRS,CTDPRS_FLAG_W,CTDTMP,CTDTMP_FLAG_W,CTDSAL,CTDSAL_FLAG_W,SALNTY,SALNTY_FLAG_W,CTDOXY,CTDOXY_FLAG_W,OXYGEN,OXYGEN_FLAG_W,SILCAT,SILCAT_FLAG_W,NITRAT,NITRAT_FLAG_W,NITRIT,NITRIT_FLAG_W,PHSPHT,PHSPHT_FLAG_W,CFC-11,CFC-11_FLAG_W,CFC-12,CFC-12_FLAG_W,CFC113,CFC113_FLAG_W,CCL4,CCL4_FLAG_W,TCARBN,TCARBN_FLAG_W,ALKALI,ALKALI_FLAG_W,PH_TOT,PH_TMP,DELC14,DELC14_FLAG_W,C14ERR,DELC13,DELC13_FLAG_W,C13ERR,THETA,SIG0,SBE35,SBE35_FLAG_W,PH_TOT_FLAG_W,SILUNC,NRAUNC,NRIUNC,PHPUNC,CS-137,CS-137_FLAG_W,CS137ER,PLUTO,PLUTO_FLAG_W,PLUTOER
,,,,,,,,,,,METERS,DBAR,,ITS-90,,PSS-78,,PSS-78,,UMOL/KG,,UMOL/KG,,UMOL/KG,,UMOL/KG,,UMOL/KG,,UMOL/KG,,PMOL/KG,,PMOL/KG,,PMOL/KG,,PMOL/KG,,UMOL/KG,,UMOL/KG,,,DEG C,/MILLE,,/MILLE,/MILLE,,/MILLE,DEG C,KG/M^3,ITS-90,,,UMOL/KG,UMOL/KG,UMOL/KG,UMOL/KG,DM/.1MG,,BQ/M^3,MBQ/M^3,,MBQ/M^3
49NZ20071008, P01, P01_28, 2, 36, X12042, 2, 20071010, 1149, 42.3303, 152.0905, 5119,      9.9, 2,  15.1265, 2,  32.9237, 2,  32.9250, 2,    257.9, 2,    257.5, 2,     3.56, 2,     3.70, 2,     0.11, 2,     0.60, 2,    2.769, 2,    1.594, 2,    0.309, 2, -999.000, 9,   -999.0, 9,   -999.0, 9, -999.0000,   -999.00,   -999.0, 9,   -999.0,  -999.00, 9,   -999.0,  15.1250, 24.3446,  15.1238, 2, 9, 0.13, 0.04, 0.01, 0.013,  -999.00, 9, -999.00, -999.00, 9, -999.00
49NZ20071008, P01, P01_28, 2, 35, X12041, 2, 20071010, 1149, 42.3303, 152.0905, 5119,     49.6, 2,   4.9994, 2,  33.2907, 2,  33.2914, 2,    290.0, 2,    291.4, 2,    34.98, 2,    21.04, 2,     0.13, 2,     1.73, 2,    4.894, 2,    2.572, 2,    0.445, 2, -999.000, 9,   -999.0, 9,   -999.0, 9, -999.0000,   -999.00,   -999.0, 9,   -999.0,  -999.00, 9,   -999.0,   4.9957, 26.3207,   5.0065, 2, 9, 0.20, 0.09, 0.01, 0.014,  -999.00, 9, -999.00, -999.00, 9, -999.00
49NZ20071008, P01, P01_28, 2, 34, X12016, 2, 20071010, 1149, 42.3303, 152.0905, 5119,    100.3, 2,   2.8797, 2,  33.3599, 2,  33.3553, 2,    266.3, 2,    260.5, 2,    46.09, 2,    25.33, 2,     0.03, 2,     1.99, 2,    4.810, 2,    2.519, 2,    0.404, 2, -999.000, 9,   -999.0, 9,   -999.0, 9, -999.0000,   -999.00,   -999.0, 9,   -999.0,  -999.00, 9,   -999.0,   2.8739, 26.5869,   2.8758, 2, 9, 0.22, 0.10, 0.01, 0.015,  -999.00, 9, -999.00, -999.00, 9, -999.00
49NZ20071008, P01, P01_28, 2, 33, X12033, 2, 20071010, 1149, 42.3303, 152.0905, 5119,    150.9, 2,   2.7382, 2,  33.4865, 2,  33.4884, 2,    222.6, 2,    216.4, 2,    65.93, 2,    32.48, 2,     0.02, 2,     2.46, 2,    4.240, 6,    2.175, 6,    0.345, 6, -999.000, 9,   -999.0, 9,   -999.0, 9, -999.0000,   -999.00,   -999.0, 9,   -999.0,  -999.00, 9,   -999.0,   2.7296, 26.7004,   2.7418, 2, 9, 0.26, 0.12, 0.01, 0.016,  -999.00, 9, -999.00, -999.00, 9, -999.00
49NZ20071008, P01, P01_28, 2, 32, X12038, 2, 20071010, 1149, 42.3303, 152.0905, 5119,    199.7, 2,   2.7231, 2,  33.5806, 2,  33.5806, 2,    186.6, 2,    182.5, 2,    76.98, 2,    35.66, 2,     0.03, 2,     2.66, 2,    3.808, 2,    1.956, 2,    0.294, 2, -999.000, 9,   -999.0, 9,   -999.0, 9, -999.0000,   -999.00,   -999.0, 9,   -999.0,  -999.00, 9,   -999.0,   2.7116, 26.7771,   2.7222, 2, 9, 0.29, 0.13, 0.01, 0.017,  -999.00, 9, -999.00, -999.00, 9, -999.00
49NZ20071008, P01, P01_28, 2, 31, X12003, 2, 20071010, 1149, 42.3303, 152.0905, 5119,    250.7, 2,   2.8226, 2,  33.6809, 2,  33.6797, 6,    138.5, 2,    141.6, 2,    84.02, 2,    36.95, 2,     0.02, 2,     2.73, 2,    3.273, 2,    1.674, 2,    0.241, 2, -999.000, 9,   -999.0, 9,   -999.0, 9, -999.0000,   -999.00,   -999.0, 9,   -999.0,  -999.00, 9,   -999.0,   2.8078, 26.8490,   2.7950, 2, 9, 0.30, 0.14, 0.01, 0.017,  -999.00, 9, -999.00, -999.00, 9, -999.00
49NZ20071008, P01, P01_28, 2, 30, X12008, 2, 20071010, 1149, 42.3303, 152.0905, 5119,    299.4, 2,   3.2239, 2,  33.7897, 2,  33.7889, 2,    109.6, 2,    119.7, 2,    93.42, 2,    39.64, 2,     0.02, 2,     2.90, 2,    2.770, 2,    1.396, 2,    0.195, 2, -999.000, 9,   -999.0, 9,   -999.0, 9, -999.0000,   -999.00,   -999.0, 9,   -999.0,  -999.00, 9,   -999.0,   3.2051, 26.9004,   3.2279, 2, 9, 0.32, 0.14, 0.01, 0.017,  -999.00, 9, -999.00, -999.00, 9, -999.00
49NZ20071008, P01, P01_28, 2, 29, X12035, 2, 20071010, 1149, 42.3303, 152.0905, 5119,    399.9, 2,   3.1571, 2,  33.9339, 2,  33.9391, 2,     75.4, 2,     73.8, 2,   105.49, 2,    41.49, 2,     0.02, 2,     3.00, 2,    1.937, 2,    0.957, 2,    0.143, 2, -999.000, 9,   -999.0, 9,   -999.0, 9, -999.0000,   -999.00,   -999.0, 9,   -999.0,  -999.00, 9,   -999.0,   3.1317, 27.0221,   3.1588, 2, 9, 0.35, 0.15, 0.01, 0.017,  -999.00, 9, -999.00, -999.00, 9, -999.00
49NZ20071008, P01, P01_28, 2, 28, X12034, 2, 20071010, 1149, 42.3303, 152.0905, 5119,    501.4, 2,   3.8973, 2,  34.1625, 2,  34.1637, 6,     57.8, 2,     56.5, 2,   115.43, 2,    42.02, 2,     0.02, 2,     3.03, 2,    0.988, 2,    0.473, 2,    0.050, 2, -999.000, 9,   -999.0, 9,   -999.0, 9, -999.0000,   -999.00,   -999.0, 9,   -999.0,  -999.00, 9,   -999.0,   3.8620, 27.1340,   3.8965, 2, 9, 0.37, 0.15, 0.01, 0.018,  -999.00, 9, -999.00, -999.00, 9, -999.00
49NZ20071008, P01, P01_28, 2, 27, X12049, 2, 20071010, 1149, 42.3303, 152.0905, 5119,    600.0, 2,   3.7541, 2,  34.2541, 2,  34.2505, 2,     50.0, 2,     50.0, 2,   117.04, 2,    41.31, 2,     0.02, 2,     2.97, 2,    0.630, 2,    0.299, 2,    0.037, 2, -999.000, 9,   -999.0, 9,   -999.0, 9, -999.0000,   -999.00,   -999.0, 9,   -999.0,  -999.00, 9,   -999.0,   3.7119, 27.2220,   3.7544, 2, 9, 0.38, 0.15, 0.01, 0.017,  -999.00, 9, -999.00, -999.00, 9, -999.00
49NZ20071008, P01, P01_28, 2, 26, X12032, 2, 20071010, 1149, 42.3303, 152.0905, 5119,    700.8, 2,   3.2880, 2,  34.2831, 2,  34.2831, 2,     41.7, 2,     40.8, 2,   124.80, 2,    41.85, 2,     0.02, 2,     3.01, 2,    0.522, 6,    0.243, 6,    0.033, 6, -999.000, 9,   -999.0, 9,   -999.0, 9, -999.0000,   -999.00,   -999.0, 9,   -999.0,  -999.00, 9,   -999.0,   3.2407, 27.2906,   3.2863, 2, 9, 0.39, 0.15, 0.01, 0.017,  -999.00, 9, -999.00, -999.00, 9, -999.00
49NZ20071008, P01, P01_28, 2, 25, X12043, 2, 20071010, 1149, 42.3303, 152.0905, 5119,    799.8, 2,   2.8828, 2,  34.3211, 2,  34.3229, 2,     35.8, 2,     35.5, 2,   130.97, 2,    42.28, 2,     0.03, 2,     3.03, 2,    0.424, 2,    0.198, 2,    0.022, 2, -999.000, 9,   -999.0, 9,   -999.0, 9, -999.0000,   -999.00,   -999.0, 9,   -999.0,  -999.00, 9,   -999.0,   2.8307, 27.3583,   2.8838, 2, 9, 0.41, 0.15, 0.01, 0.018,  -999.00, 9, -999.00, -999.00, 9, -999.00
49NZ20071008, P01, P01_28, 2, 24, X12030, 2, 20071010, 1149, 42.3303, 152.0905, 5119,    899.5, 2,   2.6862, 2,  34.3579, 2,  34.3572, 2,     36.5, 2,     36.6, 2,   135.82, 2,    42.30, 2,     0.03, 2,     3.02, 2,    0.388, 2,    0.184, 2,    0.025, 2, -999.000, 9,   -999.0, 9,   -999.0, 9, -999.0000,   -999.00,   -999.0, 9,   -999.0,  -999.00, 9,   -999.0,   2.6283, 27.4055,   2.6855, 2, 9, 0.42, 0.15, 0.01, 0.018,  -999.00, 9, -999.00, -999.00, 9, -999.00
49NZ20071008, P01, P01_28, 2, 23, X12027, 2, 20071010, 1149, 42.3303, 152.0905, 5119,   1001.7, 2,   2.5504, 2,  34.3922, 2,  34.3920, 6,     36.6, 2,     38.0, 2,   140.92, 2,    42.58, 2,     0.01, 2,     3.05, 2,    0.317, 2,    0.149, 2,    0.020, 2, -999.000, 9,   -999.0, 9,   -999.0, 9, -999.0000,   -999.00,   -999.0, 9,   -999.0,  -999.00, 9,   -999.0,   2.4861, 27.4451,   2.5508, 2, 9, 0.43, 0.15, 0.01, 0.018,  -999.00, 9, -999.00, -999.00, 9, -999.00
49NZ20071008, P01, P01_28, 2, 22, X12028, 2, 20071010, 1149, 42.3303, 152.0905, 5119,   1200.7, 2,   2.3809, 2,  34.4642, 2,  34.4635, 2,     41.6, 2,     42.2, 2,   150.36, 2,    42.84, 2,     0.02, 2,     3.06, 2,    0.162, 2,    0.074, 2,    0.008, 2, -999.000, 9,   -999.0, 9,   -999.0, 9, -999.0000,   -999.00,   -999.0, 9,   -999.0,  -999.00, 9,   -999.0,   2.3034, 27.5179,   2.3805, 2, 9, 0.45, 0.15, 0.01, 0.018,  -999.00, 9, -999.00, -999.00, 9, -999.00
49NZ20071008, P01, P01_28, 2, 21, X12009, 2, 20071010, 1149, 42.3303, 152.0905, 5119,   1400.6, 2,   2.2223, 2,  34.5132, 2,  34.5132, 2,     49.1, 2,     49.2, 2,   156.13, 2,    42.61, 2,     0.01, 2,     3.04, 2,    0.090, 2,    0.038, 2,    0.006, 2, -999.000, 9,   -999.0, 9,   -999.0, 9, -999.0000,   -999.00,   -999.0, 9,   -999.0,  -999.00, 9,   -999.0,   2.1313, 27.5712,   2.2224, 2, 9, 0.46, 0.15, 0.01, 0.018,  -999.00, 9, -999.00, -999.00, 9, -999.00
49NZ20071008, P01, P01_28, 2, 20, X12026, 2, 20071010, 1149, 42.3303, 152.0905, 5119,   1602.3, 2,   2.0783, 2,  34.5461, 2,  34.5463, 2,     61.2, 2,     59.4, 2,   159.09, 2,    42.13, 2,     0.03, 2,     2.99, 2,    0.060, 2,    0.024, 2,    0.004, 2, -999.000, 9,   -999.0, 9,   -999.0, 9, -999.0000,   -999.00,   -999.0, 9,   -999.0,  -999.00, 9,   -999.0,   1.9733, 27.6101,   2.0783, 2, 9, 0.47, 0.15, 0.01, 0.017,  -999.00, 9, -999.00, -999.00, 9, -999.00
49NZ20071008, P01, P01_28, 2, 19, X12025, 2, 20071010, 1149, 42.3303, 152.0905, 5119,   1801.2, 2,   1.9789, 2,  34.5746, 2,  34.5743, 2,     65.8, 2,     68.6, 2,   160.92, 2,    41.57, 2,     0.01, 2,     2.95, 2,    0.033, 2,    0.011, 2,    0.000, 2, -999.000, 9,   -999.0, 9,   -999.0, 9, -999.0000,   -999.00,   -999.0, 9,   -999.0,  -999.00, 9,   -999.0,   1.8593, 27.6418,   1.9789, 2, 9, 0.47, 0.15, 0.01, 0.017,  -999.00, 9, -999.00, -999.00, 9, -999.00
49NZ20071008, P01, P01_28, 2, 18, X12024, 2, 20071010, 1149, 42.3303, 152.0905, 5119,   2001.3, 2,   1.8670, 2,  34.6034, 2,  34.6034, 2,     77.9, 2,     79.5, 2,   161.13, 2,    40.91, 2,     0.02, 2,     2.89, 2,    0.007, 2,    0.001, 2,    0.000, 2, -999.000, 9,   -999.0, 9,   -999.0, 9, -999.0000,   -999.00,   -999.0, 9,   -999.0,  -999.00, 9,   -999.0,   1.7326, 27.6746,   1.8670, 2, 9, 0.47, 0.15, 0.01, 0.017,  -999.00, 9, -999.00, -999.00, 9, -999.00
49NZ20071008, P01, P01_28, 2, 17, X12023, 2, 20071010, 1149, 42.3303, 152.0905, 5119,   2201.5, 2,   1.7655, 2,  34.6226, 2,  34.6227, 2,     90.0, 2,     91.5, 2,   159.93, 2,    40.09, 2,     0.01, 2,     2.84, 2,    0.004, 2,    0.000, 2,    0.000, 2, -999.000, 9,   -999.0, 9,   -999.0, 9, -999.0000,   -999.00,   -999.0, 9,   -999.0,  -999.00, 9,   -999.0,   1.6158, 27.6988,   1.7655, 2, 9, 0.47, 0.15, 0.01, 0.017,  -999.00, 9, -999.00, -999.00, 9, -999.00
49NZ20071008, P01, P01_28, 2, 16, X12022, 2, 20071010, 1149, 42.3303, 152.0905, 5119,   2400.9, 2,   1.6759, 2,  34.6385, 2,  34.6384, 6,    101.5, 2,    103.0, 2,   159.60, 2,    39.50, 2,     0.02, 2,     2.78, 2,    0.003, 2,    0.000, 2,    0.000, 2, -999.000, 9,   -999.0, 9,   -999.0, 9, -999.0000,   -999.00,   -999.0, 9,   -999.0,  -999.00, 9,   -999.0,   1.5105, 27.7193,   1.6759, 2, 9, 0.47, 0.14, 0.01, 0.017,  -999.00, 9, -999.00, -999.00, 9, -999.00
49NZ20071008, P01, P01_28, 2, 15, X12021, 2, 20071010, 1149, 42.3303, 152.0905, 5119,   2599.9, 2,   1.6152, 2,  34.6494, 2,  34.6491, 2,    110.1, 2,    112.5, 2,   157.95, 2,    38.90, 2,     0.01, 2,     2.73, 2,    0.000, 2,    0.000, 2,    0.000, 2, -999.000, 9,   -999.0, 9,   -999.0, 9, -999.0000,   -999.00,   -999.0, 9,   -999.0,  -999.00, 9,   -999.0,   1.4332, 27.7336,   1.6153, 2, 9, 0.47, 0.14, 0.01, 0.017,  -999.00, 9, -999.00, -999.00, 9, -999.00
49NZ20071008, P01, P01_28, 2, 14, X12020, 2, 20071010, 1149, 42.3303, 152.0905, 5119,   2800.9, 2,   1.5659, 2,  34.6580, 2,  34.6578, 2,    119.5, 2,    120.8, 2,   155.92, 2,    38.31, 2,     0.02, 2,     2.68, 2,    0.015, 3,    0.007, 3,    0.000, 2, -999.000, 9,   -999.0, 9,   -999.0, 9, -999.0000,   -999.00,   -999.0, 9,   -999.0,  -999.00, 9,   -999.0,   1.3665, 27.7453,   1.5659, 2, 9, 0.46, 0.14, 0.01, 0.017,  -999.00, 9, -999.00, -999.00, 9, -999.00
49NZ20071008, P01, P01_28, 2, 13, X12019, 2, 20071010, 1149, 42.3303, 152.0905, 5119,   3001.8, 2,   1.5251, 2,  34.6653, 2,  34.6653, 2,    127.2, 2,    128.5, 2,   154.61, 2,    37.85, 2,     0.01, 2,     2.66, 2,    0.000, 2,    0.000, 2,    0.000, 2, -999.000, 9,   -999.0, 9,   -999.0, 9, -999.0000,   -999.00,   -999.0, 9,   -999.0,  -999.00, 9,   -999.0,   1.3076, 27.7553,   1.5251, 2, 9, 0.46, 0.14, 0.01, 0.017,  -999.00, 9, -999.00, -999.00, 9, -999.00
49NZ20071008, P01, P01_28, 2, 12, X12040, 2, 20071010, 1149, 42.3303, 152.0905, 5119,   3249.6, 2,   1.4951, 2,  34.6716, 2,  34.6714, 2,    134.7, 2,    135.5, 2,   152.28, 2,    37.15, 2,     0.02, 2,     2.61, 2,    0.001, 2,    0.000, 2,    0.000, 2, -999.000, 9,   -999.0, 9,   -999.0, 9, -999.0000,   -999.00,   -999.0, 9,   -999.0,  -999.00, 9,   -999.0,   1.2543, 27.7642,   1.4952, 2, 9, 0.45, 0.14, 0.01, 0.016,  -999.00, 9, -999.00, -999.00, 9, -999.00
49NZ20071008, P01, P01_28, 2, 11, X12047, 2, 20071010, 1149, 42.3303, 152.0905, 5119,   3502.5, 2,   1.4698, 2,  34.6771, 2,  34.6771, 2,    141.4, 2,    141.8, 2,   150.83, 2,    36.85, 2,     0.02, 2,     2.57, 2,    0.000, 2,    0.000, 2,    0.000, 2, -999.000, 9,   -999.0, 9,   -999.0, 9, -999.0000,   -999.00,   -999.0, 9,   -999.0,  -999.00, 9,   -999.0,   1.2042, 27.7720,   1.4698, 2, 9, 0.45, 0.14, 0.01, 0.016,  -999.00, 9, -999.00, -999.00, 9, -999.00
49NZ20071008, P01, P01_28, 2, 10, X12010, 2, 20071010, 1149, 42.3303, 152.0905, 5119,   3749.5, 2,   1.4555, 2,  34.6812, 2,  34.6809, 6,    146.6, 2,    146.9, 2,   149.66, 2,    36.52, 2,     0.01, 2,     2.56, 2,    0.003, 2,    0.000, 2,    0.000, 2, -999.000, 9,   -999.0, 9,   -999.0, 9, -999.0000,   -999.00,   -999.0, 9,   -999.0,  -999.00, 9,   -999.0,   1.1647, 27.7780,   1.4554, 2, 9, 0.45, 0.14, 0.01, 0.016,  -999.00, 9, -999.00, -999.00, 9, -999.00
49NZ20071008, P01, P01_28, 2, 9, X12015, 2, 20071010, 1149, 42.3303, 152.0905, 5119,   4001.3, 2,   1.4531, 2,  34.6842, 2,  34.6843, 2,    150.9, 2,    150.9, 2,   148.51, 2,    36.27, 2,     0.01, 2,     2.52, 2,    0.000, 2,    0.000, 2,    0.000, 2, -999.000, 9,   -999.0, 9,   -999.0, 9, -999.0000,   -999.00,   -999.0, 9,   -999.0,  -999.00, 9,   -999.0,   1.1354, 27.7825,   1.4530, 2, 9, 0.45, 0.13, 0.01, 0.016,  -999.00, 9, -999.00, -999.00, 9, -999.00
49NZ20071008, P01, P01_28, 2, 8, X12046, 2, 20071010, 1149, 42.3303, 152.0905, 5119,   4250.8, 2,   1.4566, 2,  34.6867, 2,  34.6871, 2,    154.1, 2,    154.0, 2,   148.02, 2,    36.01, 2,     0.01, 2,     2.51, 2,    0.486, 4,    0.953, 4,    0.118, 4, -999.000, 9,   -999.0, 9,   -999.0, 9, -999.0000,   -999.00,   -999.0, 9,   -999.0,  -999.00, 9,   -999.0,   1.1113, 27.7861,   1.4565, 2, 9, 0.44, 0.13, 0.01, 0.016,  -999.00, 9, -999.00, -999.00, 9, -999.00
49NZ20071008, P01, P01_28, 2, 7, X12044, 2, 20071010, 1149, 42.3303, 152.0905, 5119,   4502.6, 2,   1.4671, 2,  34.6887, 2,  34.6887, 2,    156.3, 2,    156.3, 2,   147.67, 2,    35.90, 2,     0.01, 2,     2.49, 2,    0.002, 2,    0.001, 2,    0.000, 2, -999.000, 9,   -999.0, 9,   -999.0, 9, -999.0000,   -999.00,   -999.0, 9,   -999.0,  -999.00, 9,   -999.0,   1.0928, 27.7890,   1.4669, 2, 9, 0.44, 0.13, 0.01, 0.016,  -999.00, 9, -999.00, -999.00, 9, -999.00
49NZ20071008, P01, P01_28, 2, 6, X12048, 2, 20071010, 1149, 42.3303, 152.0905, 5119,   4751.3, 2,   1.4886, 2,  34.6896, 2,  34.6896, 2,    157.4, 2,    157.2, 2,   148.16, 2,    35.86, 2,     0.01, 2,     2.50, 2,    0.009, 2,    0.001, 2,    0.000, 2, -999.000, 9,   -999.0, 9,   -999.0, 9, -999.0000,   -999.00,   -999.0, 9,   -999.0,  -999.00, 9,   -999.0,   1.0846, 27.7903,   1.4883, 2, 9, 0.44, 0.13, 0.01, 0.016,  -999.00, 9, -999.00, -999.00, 9, -999.00
49NZ20071008, P01, P01_28, 2, 5, X12014, 2, 20071010, 1149, 42.3303, 152.0905, 5119,   5000.1, 2,   1.5131, 2,  34.6904, 2,  34.6905, 2,    158.3, 2,    157.9, 2,   147.87, 2,    35.76, 2,     0.01, 2,     2.49, 2, -999.000, 5, -999.000, 5, -999.000, 5, -999.000, 9,   -999.0, 9,   -999.0, 9, -999.0000,   -999.00,   -999.0, 9,   -999.0,  -999.00, 9,   -999.0,   1.0784, 27.7913,   1.5129, 2, 9, 0.44, 0.13, 0.01, 0.016,  -999.00, 9, -999.00, -999.00, 9, -999.00
49NZ20071008, P01, P01_28, 2, 4, X12006, 9, 20071010, 1149, 42.3303, 152.0905, 5119,     10.7, 2,  15.1228, 2,  32.9246, 2, -999.0000, 9,    257.8, 2,   -999.0, 9,  -999.00, 9,  -999.00, 9,  -999.00, 9,  -999.00, 9, -999.000, 9, -999.000, 9, -999.000, 9, -999.000, 9,   -999.0, 9,   -999.0, 9, -999.0000,   -999.00,   -999.0, 9,   -999.0,  -999.00, 9,   -999.0,  15.1212, 24.3461,  15.1220, 2, 9, -999.00, -999.00, -999.00, -999.000,  -999.00, 9, -999.00, -999.00, 9, -999.00
49NZ20071008, P01, P01_28, 2, 3, X12013, 9, 20071010, 1149, 42.3303, 152.0905, 5119,     49.6, 2,   5.0218, 2,  33.2634, 2, -999.0000, 9,    291.5, 2,   -999.0, 9,  -999.00, 9,  -999.00, 9,  -999.00, 9,  -999.00, 9, -999.000, 9, -999.000, 9, -999.000, 9, -999.000, 9,   -999.0, 9,   -999.0, 9, -999.0000,   -999.00,   -999.0, 9,   -999.0,  -999.00, 9,   -999.0,   5.0181, 26.2965,   5.0240, 2, 9, -999.00, -999.00, -999.00, -999.000,  -999.00, 9, -999.00, -999.00, 9, -999.00
49NZ20071008, P01, P01_28, 2, 2, X12002, 9, 20071010, 1149, 42.3303, 152.0905, 5119,   5206.6, 2,   1.5382, 2,  34.6907, 2, -999.0000, 9,    157.6, 2,   -999.0, 9,  -999.00, 9,  -999.00, 9,  -999.00, 9,  -999.00, 9, -999.000, 9, -999.000, 9, -999.000, 9, -999.000, 9,   -999.0, 9,   -999.0, 9, -999.0000,   -999.00,   -999.0, 9,   -999.0,  -999.00, 9,   -999.0,   1.0772, 27.7917,   1.5378, 2, 9, -999.00, -999.00, -999.00, -999.000,  -999.00, 9, -999.00, -999.00, 9, -999.00
49NZ20071008, P01, P01_28, 2, 1, X12001, 2, 20071010, 1149, 42.3303, 152.0905, 5119,   5206.1, 2,   1.5382, 2,  34.6906, 2,  34.6908, 6,    157.7, 2,    157.6, 2,   149.28, 2,    35.76, 2,     0.01, 2,     2.49, 2,    0.014, 2,    0.002, 2,    0.000, 2, -999.000, 9,   -999.0, 9,   -999.0, 9, -999.0000,   -999.00,   -999.0, 9,   -999.0,  -999.00, 9,   -999.0,   1.0773, 27.7916,   1.5377, 2, 9, 0.45, 0.13, 0.01, 0.016,  -999.00, 9, -999.00, -999.00, 9, -999.00