BOTTLE,20221005CCHSIOAMB
EXPOCODE,SECT_ID,STNNBR,CASTNO,SAMPNO,BTLNBR,BTLNBR_FLAG_W,DATE,TIME,LATITUDE,LONGITUDE,DEPTH,CTDPRS,CTDPRS_FLAG_W,CTDTMP,CTDTMP_FLAG_W,CTDSAL,CTDSAL_FLAG_W,SALNTY,SALNTY_FLAG_W,CTDOXY,CTDOXY_FLAG_W,OXYGEN,OXYGEN_FLAG_W,SILCAT,SILCAT_FLAG_W,NITRAT,NITRAT_FLAG_W,NITRIT,NITRIT_FLAG_W,PHSPHT,PHSPHT_FLAG_W,CFC-11,CFC-11_FLAG_W,CFC-12,CFC-12_FLAG_W,CFC113,CFC113_FLAG_W,CCL4,CCL4_FLAG_W,TCARBN,TCARBN_FLAG_W,ALKALI,ALKALI_FLAG_W,PH_TOT,PH_TMP,DELC14,DELC14_FLAG_W,C14ERR,DELC13,DELC13_FLAG_W,C13ERR,THETA,SIG0,SBE35,SBE35_FLAG_W,PH_TOT_FLAG_W,SILUNC,NRAUNC,NRIUNC,PHPUNC,CS-137,CS-137_FLAG_W,CS137ER,PLUTO,PLUTO_FLAG_W,PLUTOER
,,,,,,,,,,,METERS,DBAR,,ITS-90,,PSS-78,,PSS-78,,UMOL/KG,,UMOL/KG,,UMOL/KG,,UMOL/KG,,UMOL/KG,,UMOL/KG,,PMOL/KG,,PMOL/KG,,PMOL/KG,,PMOL/KG,,UMOL/KG,,UMOL/KG,,,DEG C,/MILLE,,/MILLE,/MILLE,,/MILLE,DEG C,KG/M^3,ITS-90,,,UMOL/KG,UMOL/KG,UMOL/KG,UMOL/KG,DM/.1MG,,BQ/M^3,MBQ/M^3,,MBQ/M^3
49NZ20071008, P14N, 99, 1, 36, X12042, 2, 20071116, 2008, 13.0040, 178.9915, 4213,      9.9, 2,  28.1049, 2,  34.6597, 2,  34.6602, 2,    197.6, 2,    198.1, 2,     0.94, 2,     0.04, 2,     0.01, 2,     0.16, 2,    1.508, 2,    0.948, 2,    0.308, 4, -999.000, 9,   -999.0, 9,   -999.0, 9, -999.0000,   -999.00,   -999.0, 9,   -999.0,  -999.00, 9,   -999.0,  28.1026, 22.1052,  28.1045, 2, 9, 0.12, 0.03, 0.01, 0.018,  -999.00, 9, -999.00, -999.00, 9, -999.00
49NZ20071008, P14N, 99, 1, 35, X12041, 2, 20071116, 2008, 13.0040, 178.9915, 4213,     49.1, 2,  28.1112, 2,  34.6588, 2,  34.6601, 2,    198.8, 2,    197.9, 2,     0.90, 2,     0.04, 2,     0.01, 2,     0.15, 2,    1.503, 2,    0.929, 2,    0.322, 4, -999.000, 9,   -999.0, 9,   -999.0, 9, -999.0000,   -999.00,   -999.0, 9,   -999.0,  -999.00, 9,   -999.0,  28.0996, 22.1055,  28.1104, 2, 9, 0.12, 0.03, 0.01, 0.018,  -999.00, 9, -999.00, -999.00, 9, -999.00
49NZ20071008, P14N, 99, 1, 34, X12016, 2, 20071116, 2008, 13.0040, 178.9915, 4213,     99.1, 2,  26.8727, 2,  34.8130, 2,  34.8169, 2,    209.9, 2,    211.1, 2,     0.92, 2,     0.02, 2,     0.01, 2,     0.10, 2,    1.659, 2,    1.025, 2,    0.871, 4, -999.000, 9,   -999.0, 9,   -999.0, 9, -999.0000,   -999.00,   -999.0, 9,   -999.0,  -999.00, 9,   -999.0,  26.8501, 22.6247,  26.8652, 2, 9, 0.12, 0.03, 0.01, 0.022,  -999.00, 9, -999.00, -999.00, 9, -999.00
49NZ20071008, P14N, 99, 1, 33, X12033, 2, 20071116, 2008, 13.0040, 178.9915, 4213,    149.9, 2,  22.5823, 2,  34.8929, 2,  34.8935, 2,    187.7, 2,    189.5, 2,     1.74, 2,     0.87, 2,     0.11, 2,     0.25, 2,    2.001, 6,    1.209, 6,    0.294, 4, -999.000, 9,   -999.0, 9,   -999.0, 9, -999.0000,   -999.00,   -999.0, 9,   -999.0,  -999.00, 9,   -999.0,  22.5521, 23.9806,  22.5728, 2, 9, 0.12, 0.04, 0.01, 0.015,  -999.00, 9, -999.00, -999.00, 9, -999.00
49NZ20071008, P14N, 99, 1, 32, X12038, 2, 20071116, 2008, 13.0040, 178.9915, 4213,    197.7, 2,  17.1585, 2,  34.6355, 2,  34.6248, 2,    170.9, 2,    165.3, 2,     6.00, 2,     7.77, 2,     0.01, 2,     0.70, 2,    2.402, 2,    1.385, 2,    0.075, 2, -999.000, 9,   -999.0, 9,   -999.0, 9, -999.0000,   -999.00,   -999.0, 9,   -999.0,  -999.00, 9,   -999.0,  17.1257, 25.2046,  17.1636, 2, 9, 0.13, 0.05, 0.01, 0.013,  -999.00, 9, -999.00, -999.00, 9, -999.00
49NZ20071008, P14N, 99, 1, 31, X12003, 2, 20071116, 2008, 13.0040, 178.9915, 4213,    253.9, 2,  11.6465, 2,  34.2831, 2,  34.2882, 6,    126.7, 2,    119.7, 2,    21.44, 2,    21.19, 2,     0.01, 2,     1.68, 2,    2.227, 2,    1.165, 2,    0.048, 2, -999.000, 9,   -999.0, 9,   -999.0, 9, -999.0000,   -999.00,   -999.0, 9,   -999.0,  -999.00, 9,   -999.0,  11.6142, 26.1048,  11.6486, 2, 9, 0.17, 0.09, 0.01, 0.014,  -999.00, 9, -999.00, -999.00, 9, -999.00
49NZ20071008, P14N, 99, 1, 30, X12008, 2, 20071116, 2008, 13.0040, 178.9915, 4213,    280.3, 2,  10.2913, 2,  34.3057, 2,  34.3049, 2,     97.5, 2,     97.8, 2,    27.41, 2,    25.12, 2,     0.01, 2,     1.96, 2,    1.855, 2,    0.943, 2,    0.041, 2, -999.000, 9,   -999.0, 9,   -999.0, 9, -999.0000,   -999.00,   -999.0, 9,   -999.0,  -999.00, 9,   -999.0,  10.2583, 26.3656,  10.2918, 2, 9, 0.18, 0.10, 0.01, 0.015,  -999.00, 9, -999.00, -999.00, 9, -999.00
49NZ20071008, P14N, 99, 1, 29, X12035, 2, 20071116, 2008, 13.0040, 178.9915, 4213,    370.4, 2,   9.0595, 2,  34.5109, 2,  34.5099, 2,     39.8, 2,     38.2, 2,    38.64, 2,    33.99, 2,     0.01, 2,     2.53, 2,    0.428, 2,    0.222, 2,    0.020, 2, -999.000, 9,   -999.0, 9,   -999.0, 9, -999.0000,   -999.00,   -999.0, 9,   -999.0,  -999.00, 9,   -999.0,   9.0189, 26.7321,   9.0595, 2, 9, 0.20, 0.13, 0.01, 0.016,  -999.00, 9, -999.00, -999.00, 9, -999.00
49NZ20071008, P14N, 99, 1, 28, X12034, 2, 20071116, 2008, 13.0040, 178.9915, 4213,    470.9, 2,   7.9722, 2,  34.5366, 2,  34.5365, 6,     43.2, 2,     43.4, 2,    46.25, 2,    36.14, 2,     0.01, 2,     2.64, 2,    0.168, 2,    0.093, 2,    0.006, 2, -999.000, 9,   -999.0, 9,   -999.0, 9, -999.0000,   -999.00,   -999.0, 9,   -999.0,  -999.00, 9,   -999.0,   7.9241, 26.9212,   7.9727, 2, 9, 0.22, 0.13, 0.01, 0.017,  -999.00, 9, -999.00, -999.00, 9, -999.00
49NZ20071008, P14N, 99, 1, 27, X12049, 2, 20071116, 2008, 13.0040, 178.9915, 4213,    570.9, 2,   7.0203, 2,  34.5003, 2,  34.4990, 2,     46.9, 2,     46.2, 2,    56.46, 2,    37.61, 2,     0.01, 2,     2.76, 2,    0.101, 2,    0.054, 2,    0.000, 2, -999.000, 9,   -999.0, 9,   -999.0, 9, -999.0000,   -999.00,   -999.0, 9,   -999.0,  -999.00, 9,   -999.0,   6.9657, 27.0299,   7.0202, 2, 9, 0.24, 0.14, 0.01, 0.017,  -999.00, 9, -999.00, -999.00, 9, -999.00
49NZ20071008, P14N, 99, 1, 26, X12032, 2, 20071116, 2008, 13.0040, 178.9915, 4213,    671.0, 2,   6.3726, 2,  34.5068, 2,  34.5070, 2,     46.7, 2,     46.3, 2,    64.06, 2,    39.06, 2,     0.01, 2,     2.85, 2,    0.052, 6,    0.035, 6,    0.000, 6, -999.000, 9,   -999.0, 9,   -999.0, 9, -999.0000,   -999.00,   -999.0, 9,   -999.0,  -999.00, 9,   -999.0,   6.3113, 27.1228,   6.3731, 2, 9, 0.26, 0.14, 0.01, 0.017,  -999.00, 9, -999.00, -999.00, 9, -999.00
49NZ20071008, P14N, 99, 1, 25, X12043, 2, 20071116, 2008, 13.0040, 178.9915, 4213,    770.2, 2,   5.7386, 2,  34.5117, 2,  34.5112, 2,     50.5, 2,     49.4, 2,    73.28, 2,    39.96, 2,     0.01, 2,     2.91, 2,    0.029, 2,    0.016, 2,    0.006, 2, -999.000, 9,   -999.0, 9,   -999.0, 9, -999.0000,   -999.00,   -999.0, 9,   -999.0,  -999.00, 9,   -999.0,   5.6714, 27.2079,   5.7355, 2, 9, 0.28, 0.14, 0.01, 0.017,  -999.00, 9, -999.00, -999.00, 9, -999.00
49NZ20071008, P14N, 99, 1, 24, X12030, 2, 20071116, 2008, 13.0040, 178.9915, 4213,    870.3, 2,   5.3212, 2,  34.5271, 2,  34.5267, 2,     42.8, 2,     43.0, 2,    79.46, 2,    41.50, 2,     0.01, 2,     3.01, 2,    0.010, 2,    0.003, 2,    0.000, 2, -999.000, 9,   -999.0, 9,   -999.0, 9, -999.0000,   -999.00,   -999.0, 9,   -999.0,  -999.00, 9,   -999.0,   5.2473, 27.2714,   5.3221, 2, 9, 0.29, 0.15, 0.01, 0.017,  -999.00, 9, -999.00, -999.00, 9, -999.00
49NZ20071008, P14N, 99, 1, 23, X12027, 2, 20071116, 2008, 13.0040, 178.9915, 4213,    971.7, 2,   4.8615, 2,  34.5376, 2,  34.5370, 6,     47.1, 2,     45.6, 2,    87.38, 2,    41.95, 2,     0.01, 2,     3.04, 2,    0.002, 2,    0.000, 2,    0.000, 2, -999.000, 9,   -999.0, 9,   -999.0, 9, -999.0000,   -999.00,   -999.0, 9,   -999.0,  -999.00, 9,   -999.0,   4.7817, 27.3336,   4.8621, 2, 9, 0.31, 0.15, 0.01, 0.018,  -999.00, 9, -999.00, -999.00, 9, -999.00
49NZ20071008, P14N, 99, 1, 22, X12028, 2, 20071116, 2008, 13.0040, 178.9915, 4213,   1129.0, 2,   4.2556, 2,  34.5525, 2,  34.5526, 2,     55.9, 2,     55.2, 2,    98.97, 2,    41.78, 2,     0.01, 2,     3.03, 2,    0.000, 2,    0.000, 2,    0.000, 2, -999.000, 9,   -999.0, 9,   -999.0, 9, -999.0000,   -999.00,   -999.0, 9,   -999.0,  -999.00, 9,   -999.0,   4.1668, 27.4127,   4.2559, 2, 9, 0.34, 0.15, 0.01, 0.018,  -999.00, 9, -999.00, -999.00, 9, -999.00
49NZ20071008, P14N, 99, 1, 21, X12009, 2, 20071116, 2008, 13.0040, 178.9915, 4213,   1330.9, 2,   3.6369, 2,  34.5739, 2,  34.5743, 2,     65.6, 2,     65.9, 2,   110.85, 2,    41.49, 2,     0.01, 2,     3.00, 2,    0.000, 2,    0.000, 2,    0.000, 2, -999.000, 9,   -999.0, 9,   -999.0, 9, -999.0000,   -999.00,   -999.0, 9,   -999.0,  -999.00, 9,   -999.0,   3.5365, 27.4940,   3.6368, 2, 9, 0.36, 0.15, 0.01, 0.017,  -999.00, 9, -999.00, -999.00, 9, -999.00
49NZ20071008, P14N, 99, 1, 20, X12026, 2, 20071116, 2008, 13.0040, 178.9915, 4213,   1529.5, 2,   3.1097, 2,  34.5911, 2,  34.5914, 2,     78.2, 2,     77.9, 2,   121.91, 2,    40.94, 2,     0.01, 2,     2.94, 2,    0.000, 2,    0.000, 2,    0.000, 2, -999.000, 9,   -999.0, 9,   -999.0, 9, -999.0000,   -999.00,   -999.0, 9,   -999.0,  -999.00, 9,   -999.0,   2.9981, 27.5589,   3.1095, 2, 9, 0.39, 0.15, 0.01, 0.017,  -999.00, 9, -999.00, -999.00, 9, -999.00
49NZ20071008, P14N, 99, 1, 19, X12025, 2, 20071116, 2008, 13.0040, 178.9915, 4213,   1731.9, 2,   2.7002, 2,  34.6083, 2,  34.6085, 2,     87.3, 2,     87.2, 2,   130.66, 2,    40.24, 2,     0.01, 2,     2.88, 2,    0.000, 2,    0.000, 2,    0.006, 2, -999.000, 9,   -999.0, 9,   -999.0, 9, -999.0000,   -999.00,   -999.0, 9,   -999.0,  -999.00, 9,   -999.0,   2.5765, 27.6101,   2.7006, 2, 9, 0.41, 0.15, 0.01, 0.017,  -999.00, 9, -999.00, -999.00, 9, -999.00
49NZ20071008, P14N, 99, 1, 18, X12024, 4, 20071116, 2008, 13.0040, 178.9915, 4213,   1931.3, 2,   2.3538, 2,  34.6235, 2,  34.5883, 4,     96.8, 2,     76.5, 4,   120.95, 4,    40.88, 4,     0.01, 4,     2.93, 4,    0.000, 4,    0.000, 4,    0.000, 4, -999.000, 9,   -999.0, 9,   -999.0, 9, -999.0000,   -999.00,   -999.0, 9,   -999.0,  -999.00, 9,   -999.0,   2.2179, 27.6525,   2.3538, 2, 9, 0.39, 0.15, 0.01, 0.017,  -999.00, 9, -999.00, -999.00, 9, -999.00
49NZ20071008, P14N, 99, 1, 17, X12023, 2, 20071116, 2008, 13.0040, 178.9915, 4213,   2130.0, 2,   2.1254, 2,  34.6363, 2,  34.6368, 2,    103.8, 2,    104.0, 2,   142.49, 2,    39.34, 2,     0.01, 2,     2.79, 2,    0.000, 2,    0.000, 2,    0.000, 2, -999.000, 9,   -999.0, 9,   -999.0, 9, -999.0000,   -999.00,   -999.0, 9,   -999.0,  -999.00, 9,   -999.0,   1.9759, 27.6822,   2.1254, 2, 9, 0.43, 0.14, 0.01, 0.017,  -999.00, 9, -999.00, -999.00, 9, -999.00
49NZ20071008, P14N, 99, 1, 16, X12022, 2, 20071116, 2008, 13.0040, 178.9915, 4213,   2330.0, 2,   1.9598, 2,  34.6473, 2,  34.6475, 2,    110.9, 2,    110.6, 2,   145.67, 2,    38.91, 2,     0.01, 2,     2.75, 2,    0.000, 2,    0.000, 2,    0.000, 2, -999.000, 9,   -999.0, 9,   -999.0, 9, -999.0000,   -999.00,   -999.0, 9,   -999.0,  -999.00, 9,   -999.0,   1.7955, 27.7050,   1.9598, 2, 9, 0.44, 0.14, 0.01, 0.017,  -999.00, 9, -999.00, -999.00, 9, -999.00
49NZ20071008, P14N, 99, 1, 15, X12021, 2, 20071116, 2008, 13.0040, 178.9915, 4213,   2531.3, 2,   1.8542, 2,  34.6560, 2,  34.6563, 2,    116.7, 2,    117.1, 2,   146.57, 2,    38.58, 2,     0.01, 2,     2.72, 2, -999.000, 9, -999.000, 9, -999.000, 9, -999.000, 9,   -999.0, 9,   -999.0, 9, -999.0000,   -999.00,   -999.0, 9,   -999.0,  -999.00, 9,   -999.0,   1.6738, 27.7213,   1.8544, 2, 9, 0.44, 0.14, 0.01, 0.017,  -999.00, 9, -999.00, -999.00, 9, -999.00
49NZ20071008, P14N, 99, 1, 14, X12020, 2, 20071116, 2008, 13.0040, 178.9915, 4213,   2729.3, 2,   1.7446, 2,  34.6619, 2,  34.6622, 2,    120.4, 2,    121.7, 2,   149.04, 2,    38.22, 2,     0.01, 2,     2.69, 2, -999.000, 9, -999.000, 9, -999.000, 9, -999.000, 9,   -999.0, 9,   -999.0, 9, -999.0000,   -999.00,   -999.0, 9,   -999.0,  -999.00, 9,   -999.0,   1.5481, 27.7353,   1.7446, 2, 9, 0.45, 0.14, 0.01, 0.017,  -999.00, 9, -999.00, -999.00, 9, -999.00
49NZ20071008, P14N, 99, 1, 13, X12019, 2, 20071116, 2008, 13.0040, 178.9915, 4213,   2928.1, 2,   1.6780, 2,  34.6670, 2,  34.6670, 2,    126.3, 2,    126.7, 2,   149.45, 2,    37.97, 2,     0.01, 2,     2.66, 2,    0.000, 2,    0.000, 2,    0.000, 2, -999.000, 9,   -999.0, 9,   -999.0, 9, -999.0000,   -999.00,   -999.0, 9,   -999.0,  -999.00, 9,   -999.0,   1.4642, 27.7455,   1.6780, 2, 9, 0.45, 0.14, 0.01, 0.017,  -999.00, 9, -999.00, -999.00, 9, -999.00
49NZ20071008, P14N, 99, 1, 12, X12040, 2, 20071116, 2008, 13.0040, 178.9915, 4213,   3170.6, 2,   1.5962, 2,  34.6733, 2,  34.6733, 6,    133.3, 2,    133.6, 2,   148.96, 2,    37.38, 2,     0.01, 2,     2.61, 2, -999.000, 9, -999.000, 9, -999.000, 9, -999.000, 9,   -999.0, 9,   -999.0, 9, -999.0000,   -999.00,   -999.0, 9,   -999.0,  -999.00, 9,   -999.0,   1.3608, 27.7580,   1.5963, 2, 9, 0.45, 0.14, 0.01, 0.017,  -999.00, 9, -999.00, -999.00, 9, -999.00
49NZ20071008, P14N, 99, 1, 11, X12047, 2, 20071116, 2008, 13.0040, 178.9915, 4213,   3418.9, 2,   1.5391, 2,  34.6779, 2,  34.6781, 2,    139.4, 2,    139.6, 2,   148.67, 2,    37.05, 2,     0.01, 2,     2.59, 2, -999.000, 9, -999.000, 9, -999.000, 9, -999.000, 9,   -999.0, 9,   -999.0, 9, -999.0000,   -999.00,   -999.0, 9,   -999.0,  -999.00, 9,   -999.0,   1.2803, 27.7674,   1.5391, 2, 9, 0.45, 0.14, 0.01, 0.016,  -999.00, 9, -999.00, -999.00, 9, -999.00
49NZ20071008, P14N, 99, 1, 10, X12012, 2, 20071116, 2008, 13.0040, 178.9915, 4213,   3669.4, 2,   1.4861, 2,  34.6825, 2,  34.6829, 2,    146.0, 2,    146.5, 2,   147.05, 2,    36.61, 2,     0.01, 2,     2.56, 2,    0.000, 2,    0.001, 2,    0.000, 2, -999.000, 9,   -999.0, 9,   -999.0, 9, -999.0000,   -999.00,   -999.0, 9,   -999.0,  -999.00, 9,   -999.0,   1.2028, 27.7765,   1.4861, 2, 9, 0.44, 0.14, 0.01, 0.016,  -999.00, 9, -999.00, -999.00, 9, -999.00
49NZ20071008, P14N, 99, 1, 9, X12015, 2, 20071116, 2008, 13.0040, 178.9915, 4213,   3920.4, 2,   1.4551, 2,  34.6861, 2,  34.6859, 2,    153.0, 2,    153.3, 2,   143.87, 2,    36.07, 2,     0.01, 2,     2.52, 2, -999.000, 9, -999.000, 9, -999.000, 9, -999.000, 9,   -999.0, 9,   -999.0, 9, -999.0000,   -999.00,   -999.0, 9,   -999.0,  -999.00, 9,   -999.0,   1.1461, 27.7833,   1.4552, 2, 9, 0.44, 0.13, 0.01, 0.016,  -999.00, 9, -999.00, -999.00, 9, -999.00
49NZ20071008, P14N, 99, 1, 8, X12046, 2, 20071116, 2008, 13.0040, 178.9915, 4213,   4168.1, 2,   1.4222, 2,  34.6899, 2,  34.6900, 2,    159.7, 2,    160.1, 2,   140.40, 2,    35.58, 2,     0.01, 2,     2.48, 2,    0.000, 2,    0.001, 2,    0.000, 2, -999.000, 9,   -999.0, 9,   -999.0, 9, -999.0000,   -999.00,   -999.0, 9,   -999.0,  -999.00, 9,   -999.0,   1.0871, 27.7903,   1.4223, 2, 9, 0.43, 0.13, 0.01, 0.016,  -999.00, 9, -999.00, -999.00, 9, -999.00
49NZ20071008, P14N, 99, 1, 7, X12044, 9, 20071116, 2008, 13.0040, 178.9915, 4213,    253.4, 2,  11.6720, 2,  34.2820, 2, -999.0000, 9,    127.2, 2,   -999.0, 9,  -999.00, 9,  -999.00, 9,  -999.00, 9,  -999.00, 9, -999.000, 9, -999.000, 9, -999.000, 9, -999.000, 9,   -999.0, 9,   -999.0, 9, -999.0000,   -999.00,   -999.0, 9,   -999.0,  -999.00, 9,   -999.0,  11.6397, 26.0992,  11.6747, 2, 9, -999.00, -999.00, -999.00, -999.000,  -999.00, 9, -999.00, -999.00, 9, -999.00
49NZ20071008, P14N, 99, 1, 6, X12048, 9, 20071116, 2008, 13.0040, 178.9915, 4213,    280.0, 2,  10.3071, 2,  34.3055, 2, -999.0000, 9,     97.9, 2,   -999.0, 9,  -999.00, 9,  -999.00, 9,  -999.00, 9,  -999.00, 9, -999.000, 9, -999.000, 9, -999.000, 9, -999.000, 9,   -999.0, 9,   -999.0, 9, -999.0000,   -999.00,   -999.0, 9,   -999.0,  -999.00, 9,   -999.0,  10.2741, 26.3627,  10.3087, 2, 9, -999.00, -999.00, -999.00, -999.000,  -999.00, 9, -999.00, -999.00, 9, -999.00
49NZ20071008, P14N, 99, 1, 5, X12014, 9, 20071116, 2008, 13.0040, 178.9915, 4213,    370.6, 2,   9.0607, 2,  34.5109, 2, -999.0000, 9,     39.8, 2,   -999.0, 9,  -999.00, 9,  -999.00, 9,  -999.00, 9,  -999.00, 9, -999.000, 9, -999.000, 9, -999.000, 9, -999.000, 9,   -999.0, 9,   -999.0, 9, -999.0000,   -999.00,   -999.0, 9,   -999.0,  -999.00, 9,   -999.0,   9.0201, 26.7319,   9.0601, 2, 9, -999.00, -999.00, -999.00, -999.000,  -999.00, 9, -999.00, -999.00, 9, -999.00
49NZ20071008, P14N, 99, 1, 4, X12006, 9, 20071116, 2008, 13.0040, 178.9915, 4213,    470.7, 2,   7.9775, 2,  34.5368, 2, -999.0000, 9,     43.1, 2,   -999.0, 9,  -999.00, 9,  -999.00, 9,  -999.00, 9,  -999.00, 9, -999.000, 9, -999.000, 9, -999.000, 9, -999.000, 9,   -999.0, 9,   -999.0, 9, -999.0000,   -999.00,   -999.0, 9,   -999.0,  -999.00, 9,   -999.0,   7.9294, 26.9206,   7.9762, 2, 9, -999.00, -999.00, -999.00, -999.000,  -999.00, 9, -999.00, -999.00, 9, -999.00
49NZ20071008, P14N, 99, 1, 3, X12013, 9, 20071116, 2008, 13.0040, 178.9915, 4213,    570.6, 2,   7.0205, 2,  34.5000, 2, -999.0000, 9,     47.0, 2,   -999.0, 9,  -999.00, 9,  -999.00, 9,  -999.00, 9,  -999.00, 9, -999.000, 9, -999.000, 9, -999.000, 9, -999.000, 9,   -999.0, 9,   -999.0, 9, -999.0000,   -999.00,   -999.0, 9,   -999.0,  -999.00, 9,   -999.0,   6.9660, 27.0296,   7.0203, 2, 9, -999.00, -999.00, -999.00, -999.000,  -999.00, 9, -999.00, -999.00, 9, -999.00
49NZ20071008, P14N, 99, 1, 2, X12002, 9, 20071116, 2008, 13.0040, 178.9915, 4213,    671.7, 2,   6.3768, 2,  34.5059, 2, -999.0000, 9,     46.7, 2,   -999.0, 9,  -999.00, 9,  -999.00, 9,  -999.00, 9,  -999.00, 9, -999.000, 9, -999.000, 9, -999.000, 9, -999.000, 9,   -999.0, 9,   -999.0, 9, -999.0000,   -999.00,   -999.0, 9,   -999.0,  -999.00, 9,   -999.0,   6.3154, 27.1216,   6.3767, 2, 9, -999.00, -999.00, -999.00, -999.000,  -999.00, 9, -999.00, -999.00, 9, -999.00
49NZ20071008, P14N, 99, 1, 1, X12001, 2, 20071116, 2008, 13.0040, 178.9915, 4213,   4316.3, 2,   1.3920, 2,  34.6927, 2,  34.6932, 6,    165.7, 2,    166.4, 2,   137.10, 2,    35.13, 2,     0.01, 2,     2.45, 2,    0.001, 2,    0.002, 2,    0.000, 2, -999.000, 9,   -999.0, 9,   -999.0, 9, -999.0000,   -999.00,   -999.0, 9,   -999.0,  -999.00, 9,   -999.0,   1.0412, 27.7957,   1.3915, 2, 9, 0.42, 0.13, 0.01, 0.016,  -999.00, 9, -999.00, -999.00, 9, -999.00