BOTTLE,20221005CCHSIOAMB
EXPOCODE,SECT_ID,STNNBR,CASTNO,SAMPNO,BTLNBR,BTLNBR_FLAG_W,DATE,TIME,LATITUDE,LONGITUDE,DEPTH,CTDPRS,CTDPRS_FLAG_W,CTDTMP,CTDTMP_FLAG_W,CTDSAL,CTDSAL_FLAG_W,SALNTY,SALNTY_FLAG_W,CTDOXY,CTDOXY_FLAG_W,OXYGEN,OXYGEN_FLAG_W,SILCAT,SILCAT_FLAG_W,NITRAT,NITRAT_FLAG_W,NITRIT,NITRIT_FLAG_W,PHSPHT,PHSPHT_FLAG_W,CFC-11,CFC-11_FLAG_W,CFC-12,CFC-12_FLAG_W,CFC113,CFC113_FLAG_W,CCL4,CCL4_FLAG_W,TCARBN,TCARBN_FLAG_W,ALKALI,ALKALI_FLAG_W,PH_TOT,PH_TMP,DELC14,DELC14_FLAG_W,C14ERR,DELC13,DELC13_FLAG_W,C13ERR,THETA,SIG0,SBE35,SBE35_FLAG_W,PH_TOT_FLAG_W,SILUNC,NRAUNC,NRIUNC,PHPUNC,CS-137,CS-137_FLAG_W,CS137ER,PLUTO,PLUTO_FLAG_W,PLUTOER
,,,,,,,,,,,METERS,DBAR,,ITS-90,,PSS-78,,PSS-78,,UMOL/KG,,UMOL/KG,,UMOL/KG,,UMOL/KG,,UMOL/KG,,UMOL/KG,,PMOL/KG,,PMOL/KG,,PMOL/KG,,PMOL/KG,,UMOL/KG,,UMOL/KG,,,DEG C,/MILLE,,/MILLE,/MILLE,,/MILLE,DEG C,KG/M^3,ITS-90,,,UMOL/KG,UMOL/KG,UMOL/KG,UMOL/KG,DM/.1MG,,BQ/M^3,MBQ/M^3,,MBQ/M^3
49NZ20071008, P14N, 44, 1, 36, X12042, 2, 20071102, 1211, 40.5027, 178.9950, 5882,     10.0, 2,  16.1502, 2,  33.8387, 2,  33.8386, 2,    247.0, 2,    247.6, 2,     3.04, 2,     0.26, 2,     0.03, 2,     0.17, 2,    2.593, 2,    1.520, 2,    0.277, 4, -999.000, 9,   1991.5, 2,   2243.4, 2,    7.9928,     25.00,   -999.0, 9,   -999.0,  -999.00, 9,   -999.0,  16.1486, 24.8206,  16.1503, 2, 6, 0.13, 0.03, 0.01, 0.017,  -999.00, 9, -999.00, -999.00, 9, -999.00
49NZ20071008, P14N, 44, 1, 35, X12041, 2, 20071102, 1211, 40.5027, 178.9950, 5882,     49.7, 2,  14.2122, 2,  34.1022, 2,  34.1797, 2,    237.8, 2,    244.8, 2,     8.38, 2,     5.76, 2,     0.22, 2,     0.54, 2,    2.874, 2,    1.637, 2,    0.269, 2, -999.000, 9,   2042.0, 6,   2262.1, 2,    7.9205,     25.00,   -999.0, 9,   -999.0,  -999.00, 9,   -999.0,  14.2050, 25.4503,  14.5034, 2, 2, 0.14, 0.05, 0.01, 0.013,  -999.00, 9, -999.00, -999.00, 9, -999.00
49NZ20071008, P14N, 44, 1, 34, X12016, 2, 20071102, 1211, 40.5027, 178.9950, 5882,     99.6, 2,  10.7221, 2,  34.2397, 2,  34.2396, 2,    232.7, 2,    232.7, 2,    17.08, 2,    13.16, 2,     0.02, 2,     0.98, 2,    3.176, 2,    1.790, 2,    0.209, 2, -999.000, 9,   2096.4, 2,   2269.3, 6,    7.8216,     25.00,   -999.0, 9,   -999.0,  -999.00, 9,   -999.0,  10.7102, 26.2352,  10.7220, 2, 2, 0.16, 0.07, 0.01, 0.013,  -999.00, 9, -999.00, -999.00, 9, -999.00
49NZ20071008, P14N, 44, 1, 33, X12033, 2, 20071102, 1211, 40.5027, 178.9950, 5882,    150.1, 2,   9.6535, 2,  34.1421, 2,  34.1406, 2,    245.2, 2,    235.0, 2,    20.36, 2,    14.65, 2,     0.02, 2,     1.11, 2,    3.288, 6,    1.838, 6,    0.221, 6, -999.000, 9,   2107.3, 2,   2267.4, 2,    7.7962,     25.00,   -999.0, 9,   -999.0,  -999.00, 9,   -999.0,   9.6367, 26.3429,   9.6564, 2, 6, 0.16, 0.07, 0.01, 0.013,  -999.00, 9, -999.00, -999.00, 9, -999.00
49NZ20071008, P14N, 44, 1, 32, X12038, 2, 20071102, 1211, 40.5027, 178.9950, 5882,    199.8, 2,   8.8535, 2,  34.0739, 2,  34.0775, 2,    239.9, 2,    240.3, 2,    22.39, 2,    15.51, 2,     0.02, 2,     1.18, 2,    3.433, 2,    1.917, 2,    0.256, 2, -999.000, 9,   2112.9, 2,   2267.1, 2,    7.7804,     25.00,   -999.0, 9,   -999.0,  -999.00, 9,   -999.0,   8.8323, 26.4194,   8.8556, 2, 2, 0.17, 0.08, 0.01, 0.013,  -999.00, 9, -999.00, -999.00, 9, -999.00
49NZ20071008, P14N, 44, 1, 31, X12003, 2, 20071102, 1211, 40.5027, 178.9950, 5882,    250.5, 2,   8.1381, 2,  34.0387, 2,  34.0375, 6,    246.0, 2,    212.7, 2,    30.07, 2,    19.35, 2,     0.02, 2,     1.44, 2,    3.238, 2,    1.769, 2,    0.201, 2, -999.000, 9,   2139.5, 2,   2272.0, 2,    7.7247,     25.00,   -999.0, 9,   -999.0,  -999.00, 9,   -999.0,   8.1128, 26.5021,   8.1385, 2, 2, 0.19, 0.09, 0.01, 0.014,  -999.00, 9, -999.00, -999.00, 9, -999.00
49NZ20071008, P14N, 44, 1, 30, X12008, 2, 20071102, 1211, 40.5027, 178.9950, 5882,    331.7, 2,   6.7108, 2,  33.9654, 2,  33.9648, 2,    194.8, 2,    177.5, 2,    44.46, 2,    25.25, 2,     0.01, 2,     1.87, 2,    2.979, 2,    1.578, 2,    0.179, 2, -999.000, 9,   2183.5, 2,   2279.3, 2,    7.6297,     25.00,   -999.0, 9,   -999.0,  -999.00, 9,   -999.0,   6.6807, 26.6469,   6.7094, 2, 2, 0.22, 0.10, 0.01, 0.015,  -999.00, 9, -999.00, -999.00, 9, -999.00
49NZ20071008, P14N, 44, 1, 29, X12035, 2, 20071102, 1211, 40.5027, 178.9950, 5882,    431.0, 2,   5.3742, 2,  33.9483, 2,  33.9490, 2,    145.1, 2,    133.1, 2,    63.33, 2,    31.69, 2,     0.01, 2,     2.34, 2,    2.511, 2,    1.294, 2,    0.164, 2, -999.000, 9,   2234.4, 2,   2291.1, 2,    7.5205,     25.00,   -999.0, 9,   -999.0,  -999.00, 9,   -999.0,   5.3392, 26.8021,   5.3747, 2, 2, 0.26, 0.12, 0.01, 0.016,  -999.00, 9, -999.00, -999.00, 9, -999.00
49NZ20071008, P14N, 44, 1, 28, X12034, 2, 20071102, 1211, 40.5027, 178.9950, 5882,    529.9, 2,   4.7113, 2,  34.0230, 2,  34.0245, 6,    102.3, 2,     93.4, 2,    80.48, 2,    36.18, 2,     0.01, 2,     2.64, 2,    1.826, 2,    0.902, 2,    0.117, 2, -999.000, 9,   2277.3, 2,   2307.5, 2,    7.4453,     25.00,   -999.0, 9,   -999.0,  -999.00, 9,   -999.0,   4.6706, 26.9376,   4.7117, 2, 2, 0.30, 0.13, 0.01, 0.017,  -999.00, 9, -999.00, -999.00, 9, -999.00
49NZ20071008, P14N, 44, 1, 27, X12049, 2, 20071102, 1211, 40.5027, 178.9950, 5882,    630.0, 2,   4.2850, 2,  34.1120, 2,  34.1139, 2,     68.2, 2,     64.1, 2,    95.45, 2,    39.27, 2,     0.01, 2,     2.85, 2,    1.218, 2,    0.586, 2,    0.076, 2, -999.000, 9,   2307.5, 2,   2323.9, 2,    7.3986,     25.00,   -999.0, 9,   -999.0,  -999.00, 9,   -999.0,   4.2381, 27.0550,   4.2849, 2, 2, 0.33, 0.14, 0.01, 0.017,  -999.00, 9, -999.00, -999.00, 9, -999.00
49NZ20071008, P14N, 44, 1, 26, X12032, 2, 20071102, 1211, 40.5027, 178.9950, 5882,    730.3, 2,   4.0011, 2,  34.1959, 2,  34.1977, 2,     48.1, 2,     46.5, 2,   107.18, 2,    41.01, 2,     0.01, 2,     2.96, 2,    0.698, 6,    0.328, 6,    0.027, 6, -999.000, 9,   2329.5, 6,   2339.1, 2,    7.3745,     25.00,   -999.0, 9,   -999.0,  -999.00, 9,   -999.0,   3.9477, 27.1518,   4.0020, 2, 2, 0.35, 0.15, 0.01, 0.017,  -999.00, 9, -999.00, -999.00, 9, -999.00
49NZ20071008, P14N, 44, 1, 25, X12043, 2, 20071102, 1211, 40.5027, 178.9950, 5882,    831.5, 2,   3.6651, 2,  34.2512, 2,  34.2539, 2,     38.2, 2,     37.7, 2,   117.58, 2,    42.02, 2,     0.01, 2,     3.02, 2, -999.000, 5, -999.000, 5, -999.000, 5, -999.000, 9,   2345.9, 2,   2350.6, 6,    7.3643,     25.00,   -999.0, 9,   -999.0,  -999.00, 9,   -999.0,   3.6058, 27.2301,   3.6658, 2, 2, 0.38, 0.15, 0.01, 0.018,  -999.00, 9, -999.00, -999.00, 9, -999.00
49NZ20071008, P14N, 44, 1, 24, X12030, 2, 20071102, 1211, 40.5027, 178.9950, 5882,    930.7, 2,   3.3908, 2,  34.3038, 2,  34.3043, 2,     33.1, 2,     33.1, 2,   126.10, 2,    42.60, 2,     0.01, 2,     3.05, 2,    0.316, 2,    0.147, 2,    0.011, 2, -999.000, 9,   2358.5, 2,   2360.2, 2,    7.3588,     25.00,   -999.0, 9,   -999.0,  -999.00, 9,   -999.0,   3.3256, 27.2991,   3.3909, 2, 6, 0.40, 0.15, 0.01, 0.018,  -999.00, 9, -999.00, -999.00, 9, -999.00
49NZ20071008, P14N, 44, 1, 23, X12027, 2, 20071102, 1211, 40.5027, 178.9950, 5882,   1071.2, 2,   3.0735, 2,  34.3725, 2,  34.3725, 6,     27.8, 2,     27.1, 2,   136.08, 2,    43.45, 2,     0.01, 2,     3.11, 2,    0.117, 2,    0.057, 2,    0.008, 2, -999.000, 9,   2373.2, 2,   2374.5, 2,    7.3524,     25.00,   -999.0, 9,   -999.0,  -999.00, 9,   -999.0,   2.9998, 27.3842,   3.0736, 2, 2, 0.42, 0.15, 0.01, 0.018,  -999.00, 9, -999.00, -999.00, 9, -999.00
49NZ20071008, P14N, 44, 1, 22, X12028, 2, 20071102, 1211, 40.5027, 178.9950, 5882,   1271.9, 2,   2.7237, 2,  34.4351, 2,  34.4356, 2,     27.1, 2,     26.5, 2,   147.09, 2,    43.81, 2,     0.01, 2,     3.13, 2,    0.052, 2,    0.022, 2,    0.006, 2, -999.000, 9,   2386.1, 2,   2386.8, 2,    7.3571,     25.00,   -999.0, 9,   -999.0,  -999.00, 9,   -999.0,   2.6375, 27.4664,   2.7234, 2, 2, 0.44, 0.16, 0.01, 0.018,  -999.00, 9, -999.00, -999.00, 9, -999.00
49NZ20071008, P14N, 44, 1, 21, X12009, 2, 20071102, 1211, 40.5027, 178.9950, 5882,   1469.6, 2,   2.4616, 2,  34.4886, 2,  34.4892, 2,     27.9, 2,     28.1, 2,   155.47, 2,    44.05, 2,     0.01, 2,     3.13, 2,    0.012, 2,    0.006, 2,    0.007, 2, -999.000, 9,   2393.2, 2,   2398.1, 2,    7.3630,     25.00,   -999.0, 9,   -999.0,  -999.00, 9,   -999.0,   2.3626, 27.5326,   2.4617, 2, 2, 0.46, 0.16, 0.01, 0.018,  -999.00, 9, -999.00, -999.00, 9, -999.00
49NZ20071008, P14N, 44, 1, 20, X12026, 2, 20071102, 1211, 40.5027, 178.9950, 5882,   1670.0, 2,   2.2415, 2,  34.5311, 2,  34.5315, 2,     32.7, 2,     35.8, 2,   161.87, 2,    43.64, 2,     0.01, 2,     3.10, 2,    0.005, 2,    0.004, 2,    0.000, 2, -999.000, 9,   2394.7, 2,   2405.4, 2,    7.3814,     25.00,   -999.0, 9,   -999.0,  -999.00, 9,   -999.0,   2.1291, 27.5857,   2.2416, 2, 6, 0.48, 0.16, 0.01, 0.018,  -999.00, 9, -999.00, -999.00, 9, -999.00
49NZ20071008, P14N, 44, 1, 19, X12025, 2, 20071102, 1211, 40.5027, 178.9950, 5882,   1870.1, 2,   2.0779, 2,  34.5657, 2,  34.5656, 2,     44.4, 2,     45.6, 2,   165.62, 2,    43.11, 2,     0.01, 2,     3.05, 2,    0.002, 2,    0.000, 2,    0.000, 2, -999.000, 9,   2393.4, 2,   2411.7, 2,    7.4026,     25.00,   -999.0, 9,   -999.0,  -999.00, 9,   -999.0,   1.9513, 27.6275,   2.0780, 2, 2, 0.48, 0.15, 0.01, 0.018,  -999.00, 9, -999.00, -999.00, 9, -999.00
49NZ20071008, P14N, 44, 1, 18, X12024, 2, 20071102, 1211, 40.5027, 178.9950, 5882,   2071.7, 2,   1.9212, 2,  34.5964, 2,  34.5960, 2,     58.5, 2,     59.8, 2,   167.79, 2,    42.27, 2,     0.01, 2,     2.98, 2,    0.000, 2,    0.000, 2,    0.000, 2, -999.000, 9,   2388.4, 2,   2415.6, 2,    7.4303,     25.00,   -999.0, 9,   -999.0,  -999.00, 9,   -999.0,   1.7801, 27.6654,   1.9213, 2, 2, 0.49, 0.15, 0.01, 0.017,  -999.00, 9, -999.00, -999.00, 9, -999.00
49NZ20071008, P14N, 44, 1, 17, X12023, 2, 20071102, 1211, 40.5027, 178.9950, 5882,   2270.2, 2,   1.8120, 2,  34.6156, 2,  34.6152, 2,     72.1, 2,     74.8, 2,   167.18, 2,    41.24, 2,     0.01, 2,     2.92, 2,    0.000, 2,    0.000, 2,    0.000, 2, -999.000, 9,   2379.7, 2,   2417.7, 2,    7.4579,     25.00,   -999.0, 9,   -999.0,  -999.00, 9,   -999.0,   1.6556, 27.6902,   1.8120, 2, 2, 0.49, 0.15, 0.01, 0.017,  -999.00, 9, -999.00, -999.00, 9, -999.00
49NZ20071008, P14N, 44, 1, 16, X12022, 2, 20071102, 1211, 40.5027, 178.9950, 5882,   2470.9, 2,   1.7298, 2,  34.6304, 2,  34.6301, 2,     85.9, 2,     87.4, 2,   165.84, 2,    40.48, 2,     0.01, 2,     2.86, 2,    0.000, 2,    0.000, 2,    0.000, 2, -999.000, 9,   2372.5, 6,   2419.0, 2,    7.4784,     25.00,   -999.0, 9,   -999.0,  -999.00, 9,   -999.0,   1.5572, 27.7094,   1.7298, 2, 2, 0.48, 0.15, 0.01, 0.017,  -999.00, 9, -999.00, -999.00, 9, -999.00
49NZ20071008, P14N, 44, 1, 15, X12021, 2, 20071102, 1211, 40.5027, 178.9950, 5882,   2670.7, 2,   1.6536, 2,  34.6431, 2,  34.6431, 6,     99.7, 2,    100.5, 2,   163.55, 2,    39.58, 2,     0.01, 2,     2.80, 2, -999.000, 9, -999.000, 9, -999.000, 9, -999.000, 9,   2362.8, 2,   2418.8, 6,    7.5035,     25.00,   -999.0, 9,   -999.0,  -999.00, 9,   -999.0,   1.4644, 27.7264,   1.6535, 2, 2, 0.48, 0.14, 0.01, 0.017,  -999.00, 9, -999.00, -999.00, 9, -999.00
49NZ20071008, P14N, 44, 1, 14, X12020, 2, 20071102, 1211, 40.5027, 178.9950, 5882,   2869.8, 2,   1.5988, 2,  34.6529, 2,  34.6529, 2,    110.8, 2,    111.0, 2,   161.42, 2,    38.85, 2,     0.01, 2,     2.74, 2,    0.000, 2,    0.000, 2,    0.000, 2, -999.000, 9,   2356.4, 2,   2419.8, 2,    7.5209,     25.00,   -999.0, 9,   -999.0,  -999.00, 9,   -999.0,   1.3923, 27.7394,   1.5987, 2, 2, 0.47, 0.14, 0.01, 0.017,  -999.00, 9, -999.00, -999.00, 9, -999.00
49NZ20071008, P14N, 44, 1, 13, X12019, 2, 20071102, 1211, 40.5027, 178.9950, 5882,   3079.3, 2,   1.5485, 2,  34.6620, 2,  34.6617, 2,    120.9, 2,    121.3, 2,   159.08, 2,    38.25, 2,     0.01, 2,     2.69, 2, -999.000, 9, -999.000, 9, -999.000, 9, -999.000, 9,   2351.9, 2,   2418.5, 2,    7.5384,     25.00,   -999.0, 9,   -999.0,  -999.00, 9,   -999.0,   1.3231, 27.7516,   1.5485, 2, 2, 0.47, 0.14, 0.01, 0.017,  -999.00, 9, -999.00, -999.00, 9, -999.00
49NZ20071008, P14N, 44, 1, 12, X12040, 2, 20071102, 1211, 40.5027, 178.9950, 5882,   3329.2, 2,   1.5022, 2,  34.6707, 2,  34.6707, 2,    130.9, 2,    131.8, 2,   156.12, 2,    37.42, 2,     0.01, 2,     2.64, 2, -999.000, 9, -999.000, 9, -999.000, 9, -999.000, 9,   2343.1, 2,   2418.4, 2,    7.5577,     25.00,   -999.0, 9,   -999.0,  -999.00, 9,   -999.0,   1.2533, 27.7635,   1.5021, 2, 2, 0.46, 0.14, 0.01, 0.017,  -999.00, 9, -999.00, -999.00, 9, -999.00
49NZ20071008, P14N, 44, 1, 11, X12047, 2, 20071102, 1211, 40.5027, 178.9950, 5882,   3580.6, 2,   1.4705, 2,  34.6775, 2,  34.6771, 2,    139.4, 2,    140.1, 2,   153.99, 2,    36.90, 2,     0.01, 2,     2.60, 2,    0.000, 2,    0.000, 2,    0.000, 2, -999.000, 9,   2338.5, 2,   2418.3, 2,    7.5720,     25.00,   -999.0, 9,   -999.0,  -999.00, 9,   -999.0,   1.1969, 27.7729,   1.4705, 2, 2, 0.46, 0.14, 0.01, 0.016,  -999.00, 9, -999.00, -999.00, 9, -999.00
49NZ20071008, P14N, 44, 1, 10, X12017, 2, 20071102, 1211, 40.5027, 178.9950, 5882,   3830.0, 2,   1.4629, 2,  34.6814, 2,  34.6808, 2,    144.7, 2,    145.1, 2,   152.50, 2,    36.61, 2,     0.01, 2,     2.57, 2, -999.000, 9, -999.000, 9, -999.000, 9, -999.000, 9,   2334.3, 2,   2417.3, 2,    7.5821,     25.00,   -999.0, 9,   -999.0,  -999.00, 9,   -999.0,   1.1633, 27.7783,   1.4629, 2, 2, 0.45, 0.14, 0.01, 0.016,  -999.00, 9, -999.00, -999.00, 9, -999.00
49NZ20071008, P14N, 44, 1, 9, X12015, 2, 20071102, 1211, 40.5027, 178.9950, 5882,   4079.7, 2,   1.4625, 2,  34.6844, 2,  34.6841, 2,    148.9, 2,    148.9, 2,   151.88, 2,    36.35, 2,     0.01, 2,     2.55, 2, -999.000, 9, -999.000, 9, -999.000, 9, -999.000, 9,   2329.4, 2,   2417.6, 2,    7.5876,     25.00,   -999.0, 9,   -999.0,  -999.00, 9,   -999.0,   1.1360, 27.7826,   1.4624, 2, 2, 0.45, 0.13, 0.01, 0.016,  -999.00, 9, -999.00, -999.00, 9, -999.00
49NZ20071008, P14N, 44, 1, 8, X12046, 2, 20071102, 1211, 40.5027, 178.9950, 5882,   4331.4, 2,   1.4709, 2,  34.6867, 2,  34.6864, 6,    151.6, 2,    151.5, 2,   152.22, 2,    36.14, 2,     0.01, 2,     2.54, 2,    0.000, 2,    0.000, 2,    0.000, 2, -999.000, 9,   2329.7, 6,   2419.0, 2,    7.5936,     25.00,   -999.0, 9,   -999.0,  -999.00, 9,   -999.0,   1.1161, 27.7858,   1.4709, 2, 2, 0.45, 0.13, 0.01, 0.016,  -999.00, 9, -999.00, -999.00, 9, -999.00
49NZ20071008, P14N, 44, 1, 7, X12044, 2, 20071102, 1211, 40.5027, 178.9950, 5882,   4581.7, 2,   1.4905, 2,  34.6880, 2,  34.6877, 2,    152.7, 2,    152.6, 2,   152.87, 2,    36.12, 2,     0.01, 2,     2.54, 2, -999.000, 9, -999.000, 9, -999.000, 9, -999.000, 9,   2331.0, 2,   2419.3, 6,    7.5962,     25.00,   -999.0, 9,   -999.0,  -999.00, 9,   -999.0,   1.1064, 27.7875,   1.4905, 2, 2, 0.46, 0.13, 0.01, 0.016,  -999.00, 9, -999.00, -999.00, 9, -999.00
49NZ20071008, P14N, 44, 1, 6, X12048, 2, 20071102, 1211, 40.5027, 178.9950, 5882,   4833.0, 2,   1.5153, 2,  34.6887, 2,  34.6883, 2,    153.3, 2,    153.4, 2,   153.43, 2,    36.09, 2,     0.01, 2,     2.53, 2, -999.000, 9, -999.000, 9, -999.000, 9, -999.000, 9,   2331.1, 2,   2418.9, 2,    7.5963,     25.00,   -999.0, 9,   -999.0,  -999.00, 9,   -999.0,   1.1007, 27.7885,   1.5153, 2, 6, 0.46, 0.13, 0.01, 0.016,  -999.00, 9, -999.00, -999.00, 9, -999.00
49NZ20071008, P14N, 44, 1, 5, X12014, 2, 20071102, 1211, 40.5027, 178.9950, 5882,   5080.2, 2,   1.5427, 2,  34.6893, 2,  34.6889, 2,    154.0, 2,    153.9, 2,   153.50, 2,    36.03, 2,     0.01, 2,     2.53, 2,    0.000, 2,    0.001, 2,    0.000, 2, -999.000, 9,   2329.1, 2,   2419.2, 2,    7.5972,     25.00,   -999.0, 9,   -999.0,  -999.00, 9,   -999.0,   1.0972, 27.7891,   1.5427, 2, 2, 0.46, 0.13, 0.01, 0.016,  -999.00, 9, -999.00, -999.00, 9, -999.00
49NZ20071008, P14N, 44, 1, 4, X12006, 2, 20071102, 1211, 40.5027, 178.9950, 5882,   5330.5, 2,   1.5744, 2,  34.6893, 2,  34.6890, 2,    154.2, 2,    154.0, 2,   153.44, 2,    36.06, 2,     0.01, 2,     2.53, 2, -999.000, 9, -999.000, 9, -999.000, 9, -999.000, 9,   2329.3, 2,   2418.9, 2,    7.5982,     25.00,   -999.0, 9,   -999.0,  -999.00, 9,   -999.0,   1.0967, 27.7892,   1.5744, 2, 2, 0.46, 0.13, 0.01, 0.016,  -999.00, 9, -999.00, -999.00, 9, -999.00
49NZ20071008, P14N, 44, 1, 3, X12013, 2, 20071102, 1211, 40.5027, 178.9950, 5882,   5578.3, 2,   1.6070, 2,  34.6893, 2,  34.6888, 2,    154.3, 2,    154.1, 2,   153.40, 2,    36.03, 2,     0.01, 2,     2.53, 2, -999.000, 9, -999.000, 9, -999.000, 9, -999.000, 9,   2328.5, 2,   2419.3, 2,    7.5977,     25.00,   -999.0, 9,   -999.0,  -999.00, 9,   -999.0,   1.0965, 27.7892,   1.6070, 2, 2, 0.46, 0.13, 0.01, 0.016,  -999.00, 9, -999.00, -999.00, 9, -999.00
49NZ20071008, P14N, 44, 1, 2, X12002, 2, 20071102, 1211, 40.5027, 178.9950, 5882,   5830.5, 2,   1.6411, 2,  34.6893, 2,  34.6890, 2,    154.4, 2,    154.1, 2,   153.57, 2,    36.02, 2,     0.01, 2,     2.53, 2,    0.000, 2,    0.001, 2,    0.000, 2, -999.000, 9,   2327.5, 2,   2418.9, 2,    7.5965,     25.00,   -999.0, 9,   -999.0,  -999.00, 9,   -999.0,   1.0963, 27.7893,   1.6411, 2, 2, 0.46, 0.13, 0.01, 0.016,  -999.00, 9, -999.00, -999.00, 9, -999.00
49NZ20071008, P14N, 44, 1, 1, X12001, 2, 20071102, 1211, 40.5027, 178.9950, 5882,   5980.8, 2,   1.6617, 2,  34.6893, 2,  34.6890, 6,    154.4, 2,    154.3, 2,   153.58, 2,    36.04, 2,     0.01, 2,     2.53, 2,    0.000, 2,    0.001, 2,    0.000, 2, -999.000, 9,   2329.1, 2,   2419.2, 2,    7.5975,     25.00,   -999.0, 9,   -999.0,  -999.00, 9,   -999.0,   1.0961, 27.7892,   1.6617, 2, 2, 0.46, 0.13, 0.01, 0.016,  -999.00, 9, -999.00, -999.00, 9, -999.00