BOTTLE,20221005CCHSIOAMB
EXPOCODE,SECT_ID,STNNBR,CASTNO,SAMPNO,BTLNBR,BTLNBR_FLAG_W,DATE,TIME,LATITUDE,LONGITUDE,DEPTH,CTDPRS,CTDPRS_FLAG_W,CTDTMP,CTDTMP_FLAG_W,CTDSAL,CTDSAL_FLAG_W,SALNTY,SALNTY_FLAG_W,CTDOXY,CTDOXY_FLAG_W,OXYGEN,OXYGEN_FLAG_W,SILCAT,SILCAT_FLAG_W,NITRAT,NITRAT_FLAG_W,NITRIT,NITRIT_FLAG_W,PHSPHT,PHSPHT_FLAG_W,CFC-11,CFC-11_FLAG_W,CFC-12,CFC-12_FLAG_W,CFC113,CFC113_FLAG_W,CCL4,CCL4_FLAG_W,TCARBN,TCARBN_FLAG_W,ALKALI,ALKALI_FLAG_W,PH_TOT,PH_TMP,DELC14,DELC14_FLAG_W,C14ERR,DELC13,DELC13_FLAG_W,C13ERR,THETA,SIG0,SBE35,SBE35_FLAG_W,PH_TOT_FLAG_W,SILUNC,NRAUNC,NRIUNC,PHPUNC,CS-137,CS-137_FLAG_W,CS137ER,PLUTO,PLUTO_FLAG_W,PLUTOER
,,,,,,,,,,,METERS,DBAR,,ITS-90,,PSS-78,,PSS-78,,UMOL/KG,,UMOL/KG,,UMOL/KG,,UMOL/KG,,UMOL/KG,,UMOL/KG,,PMOL/KG,,PMOL/KG,,PMOL/KG,,PMOL/KG,,UMOL/KG,,UMOL/KG,,,DEG C,/MILLE,,/MILLE,/MILLE,,/MILLE,DEG C,KG/M^3,ITS-90,,,UMOL/KG,UMOL/KG,UMOL/KG,UMOL/KG,DM/.1MG,,BQ/M^3,MBQ/M^3,,MBQ/M^3
49NZ20071008, P14N, 17, 1, 36, X12042, 2, 20071023, 1837, 51.8572, -179.7797, 2083,     10.6, 2,   6.4477, 2,  33.0817, 2,  33.0826, 2,    293.1, 2,    294.3, 2,    36.68, 2,    21.05, 2,     0.24, 2,     1.79, 2,    4.250, 2,    2.249, 2,    0.363, 2, -999.000, 9,   2106.1, 2,   2243.4, 2,    7.7432,     25.00,   -999.0, 9,   -999.0,  -999.00, 9,   -999.0,   6.4468, 25.9807,   6.4476, 2, 6, 0.20, 0.09, 0.01, 0.015,  -999.00, 9, -999.00, -999.00, 9, -999.00
49NZ20071008, P14N, 17, 1, 35, X12041, 2, 20071023, 1837, 51.8572, -179.7797, 2083,     50.4, 2,   6.3473, 2,  33.1036, 2,  33.0998, 2,    280.8, 2,    286.4, 2,    38.23, 2,    21.71, 2,     0.23, 2,     1.84, 2,    4.174, 2,    2.207, 2,    0.355, 2, -999.000, 9,   2111.5, 6,   2244.4, 2,    7.7287,     25.00,   -999.0, 9,   -999.0,  -999.00, 9,   -999.0,   6.3430, 26.0112,   6.3473, 2, 2, 0.20, 0.09, 0.01, 0.015,  -999.00, 9, -999.00, -999.00, 9, -999.00
49NZ20071008, P14N, 17, 1, 34, X12016, 2, 20071023, 1837, 51.8572, -179.7797, 2083,    100.8, 2,   4.9133, 2,  33.3093, 2,  33.3109, 2,    212.4, 2,    216.8, 2,    56.61, 2,    29.45, 2,     0.03, 2,     2.27, 2,    3.808, 2,    1.953, 2,    0.322, 2, -999.000, 9,   2181.9, 2,   2255.9, 6,    7.5737,     25.00,   -999.0, 9,   -999.0,  -999.00, 9,   -999.0,   4.9058, 26.3455,   4.9125, 2, 2, 0.24, 0.12, 0.01, 0.016,  -999.00, 9, -999.00, -999.00, 9, -999.00
49NZ20071008, P14N, 17, 1, 33, X12033, 2, 20071023, 1837, 51.8572, -179.7797, 2083,    150.9, 2,   5.0642, 2,  33.4267, 2,  33.4271, 2,    187.4, 2,    190.2, 2,    63.30, 2,    31.16, 2,     0.03, 2,     2.37, 2,    3.322, 2,    1.708, 2,    0.277, 2, -999.000, 9,   2200.7, 2,   2266.5, 2,    7.5401,     25.00,   -999.0, 9,   -999.0,  -999.00, 9,   -999.0,   5.0528, 26.4221,   5.0636, 2, 6, 0.26, 0.12, 0.01, 0.016,  -999.00, 9, -999.00, -999.00, 9, -999.00
49NZ20071008, P14N, 17, 1, 32, X12038, 2, 20071023, 1837, 51.8572, -179.7797, 2083,    199.0, 2,   4.7525, 2,  33.4985, 2,  33.4982, 2,    168.4, 2,    170.7, 2,    68.22, 2,    32.73, 2,     0.03, 2,     2.46, 2,    3.153, 2,    1.618, 2,    0.251, 2, -999.000, 9,   2218.2, 2,   2272.0, 2,    7.5070,     25.00,   -999.0, 9,   -999.0,  -999.00, 9,   -999.0,   4.7378, 26.5141,   4.7722, 2, 2, 0.27, 0.12, 0.01, 0.016,  -999.00, 9, -999.00, -999.00, 9, -999.00
49NZ20071008, P14N, 17, 1, 31, X12003, 2, 20071023, 1837, 51.8572, -179.7797, 2083,    249.8, 2,   4.4224, 2,  33.6041, 2,  33.6054, 6,    144.9, 2,    143.4, 2,    75.98, 2,    34.92, 2,     0.02, 2,     2.59, 2,    2.789, 2,    1.417, 2,    0.313, 4, -999.000, 9,   2242.4, 2,   2281.1, 2,    7.4626,     25.00,   -999.0, 9,   -999.0,  -999.00, 9,   -999.0,   4.4045, 26.6338,   4.4227, 2, 2, 0.29, 0.13, 0.01, 0.016,  -999.00, 9, -999.00, -999.00, 9, -999.00
49NZ20071008, P14N, 17, 1, 30, X12008, 2, 20071023, 1837, 51.8572, -179.7797, 2083,    332.7, 2,   4.1567, 2,  33.7485, 2,  33.7484, 2,    112.9, 2,    110.1, 2,    86.21, 2,    37.54, 2,     0.02, 2,     2.75, 2,    2.320, 2,    1.162, 2,    0.186, 2, -999.000, 9,   2273.3, 2,   2295.0, 2,    7.4155,     25.00,   -999.0, 9,   -999.0,  -999.00, 9,   -999.0,   4.1332, 26.7770,   4.1565, 2, 2, 0.31, 0.14, 0.01, 0.017,  -999.00, 9, -999.00, -999.00, 9, -999.00
49NZ20071008, P14N, 17, 1, 29, X12035, 2, 20071023, 1837, 51.8572, -179.7797, 2083,    430.2, 2,   3.8784, 2,  33.8843, 2,  33.8831, 2,     79.4, 2,     78.9, 2,    97.22, 2,    39.98, 2,     0.02, 2,     2.90, 2,    1.846, 2,    0.915, 2,    0.150, 2, -999.000, 9,   2299.8, 2,   2309.7, 2,    7.3692,     25.00,   -999.0, 9,   -999.0,  -999.00, 9,   -999.0,   3.8486, 26.9139,   3.8787, 2, 2, 0.33, 0.14, 0.01, 0.017,  -999.00, 9, -999.00, -999.00, 9, -999.00
49NZ20071008, P14N, 17, 1, 28, X12034, 2, 20071023, 1837, 51.8572, -179.7797, 2083,    532.5, 2,   3.5944, 2,  34.0389, 2,  34.0366, 6,     55.4, 2,     51.9, 2,   111.27, 2,    41.94, 2,     0.02, 2,     3.03, 2,    1.271, 2,    0.623, 2,    0.095, 2, -999.000, 9,   2328.5, 2,   2328.5, 2,    7.3398,     25.00,   -999.0, 9,   -999.0,  -999.00, 9,   -999.0,   3.5581, 27.0657,   3.5943, 2, 2, 0.36, 0.15, 0.01, 0.018,  -999.00, 9, -999.00, -999.00, 9, -999.00
49NZ20071008, P14N, 17, 1, 27, X12049, 2, 20071023, 1837, 51.8572, -179.7797, 2083,    631.3, 2,   3.4575, 2,  34.1158, 2,  34.1153, 2,     39.8, 2,     38.1, 2,   118.95, 2,    43.04, 2,     0.02, 2,     3.08, 2,    0.972, 2,    0.469, 2,    0.068, 2, -999.000, 9,   2343.2, 2,   2337.3, 2,    7.3250,     25.00,   -999.0, 9,   -999.0,  -999.00, 9,   -999.0,   3.4146, 27.1407,   3.4574, 2, 2, 0.38, 0.15, 0.01, 0.018,  -999.00, 9, -999.00, -999.00, 9, -999.00
49NZ20071008, P14N, 17, 1, 26, X12032, 2, 20071023, 1837, 51.8572, -179.7797, 2083,    730.6, 2,   3.3301, 2,  34.1808, 2,  34.1821, 2,     28.9, 2,     29.3, 2,   125.53, 2,    43.62, 2,     0.02, 2,     3.13, 2,    0.723, 6,    0.349, 6,    0.050, 6, -999.000, 9,   2354.3, 6,   2346.6, 2,    7.3200,     25.00,   -999.0, 9,   -999.0,  -999.00, 9,   -999.0,   3.2805, 27.2053,   3.3300, 2, 2, 0.40, 0.15, 0.01, 0.018,  -999.00, 9, -999.00, -999.00, 9, -999.00
49NZ20071008, P14N, 17, 1, 25, X12043, 2, 20071023, 1837, 51.8572, -179.7797, 2083,    832.2, 2,   3.1805, 2,  34.2486, 2,  34.2486, 2,     23.3, 2,     22.3, 2,   132.86, 2,    43.97, 2,     0.02, 2,     3.15, 2,    0.486, 2,    0.233, 2,    0.032, 2, -999.000, 9,   2364.5, 2,   2356.7, 6,    7.3171,     25.00,   -999.0, 9,   -999.0,  -999.00, 9,   -999.0,   3.1243, 27.2738,   3.1803, 2, 2, 0.41, 0.16, 0.01, 0.018,  -999.00, 9, -999.00, -999.00, 9, -999.00
49NZ20071008, P14N, 17, 1, 24, X12030, 2, 20071023, 1837, 51.8572, -179.7797, 2083,    932.8, 2,   3.0247, 2,  34.2885, 2,  34.2882, 2,     28.8, 2,     28.8, 2,   137.28, 2,    43.57, 2,     0.02, 2,     3.11, 2,    0.459, 2,    0.214, 2,    0.031, 2, -999.000, 9,   2366.2, 2,   2364.4, 2,    7.3329,     25.00,   -999.0, 9,   -999.0,  -999.00, 9,   -999.0,   2.9620, 27.3205,   3.0247, 2, 2, 0.42, 0.15, 0.01, 0.018,  -999.00, 9, -999.00, -999.00, 9, -999.00
49NZ20071008, P14N, 17, 1, 23, X12027, 2, 20071023, 1837, 51.8572, -179.7797, 2083,   1071.2, 2,   2.8847, 2,  34.3316, 2,  34.3315, 6,     29.9, 2,     29.9, 2,   142.98, 2,    43.50, 2,     0.02, 2,     3.11, 2,    0.363, 2,    0.173, 2,    0.017, 2, -999.000, 9,   2371.9, 2,   2371.6, 2,    7.3414,     25.00,   -999.0, 9,   -999.0,  -999.00, 9,   -999.0,   2.8127, 27.3683,   2.8844, 2, 2, 0.43, 0.15, 0.01, 0.018,  -999.00, 9, -999.00, -999.00, 9, -999.00
49NZ20071008, P14N, 17, 1, 22, X12028, 2, 20071023, 1837, 51.8572, -179.7797, 2083,   1271.0, 2,   2.5960, 2,  34.4101, 2,  34.4106, 2,     30.5, 2,     30.7, 2,   157.48, 2,    43.41, 2,     0.02, 2,     3.12, 2,    0.205, 2,    0.102, 2,    0.011, 2, -999.000, 9,   2381.2, 2,   2385.1, 2,    7.3504,     25.00,   -999.0, 9,   -999.0,  -999.00, 9,   -999.0,   2.5112, 27.4572,   2.5961, 2, 2, 0.47, 0.15, 0.01, 0.018,  -999.00, 9, -999.00, -999.00, 9, -999.00
49NZ20071008, P14N, 17, 1, 21, X12009, 2, 20071023, 1837, 51.8572, -179.7797, 2083,   1470.2, 2,   2.2937, 2,  34.4869, 2,  34.4873, 2,     33.3, 2,     33.5, 2,   173.71, 2,    43.04, 2,     0.02, 2,     3.13, 2,    0.077, 2,    0.032, 2,    0.000, 2, -999.000, 9,   2391.8, 2,   2398.3, 2,    7.3648,     25.00,   -999.0, 9,   -999.0,  -999.00, 9,   -999.0,   2.1966, 27.5449,   2.2935, 2, 2, 0.50, 0.15, 0.01, 0.018,  -999.00, 9, -999.00, -999.00, 9, -999.00
49NZ20071008, P14N, 17, 1, 20, X12026, 2, 20071023, 1837, 51.8572, -179.7797, 2083,   1672.3, 2,   2.0709, 2,  34.5393, 2,  34.5400, 6,     42.1, 2,     42.5, 2,   185.58, 2,    42.20, 2,     0.01, 2,     3.10, 2,    0.034, 2,    0.013, 2,    0.000, 2, -999.000, 9,   2392.0, 2,   2407.7, 2,    7.3857,     25.00,   -999.0, 9,   -999.0,  -999.00, 9,   -999.0,   1.9605, 27.6057,   2.0712, 2, 6, 0.53, 0.15, 0.01, 0.018,  -999.00, 9, -999.00, -999.00, 9, -999.00
49NZ20071008, P14N, 17, 1, 19, X12025, 2, 20071023, 1837, 51.8572, -179.7797, 2083,   1871.3, 2,   1.9177, 2,  34.5747, 2,  34.5750, 2,     51.2, 2,     51.0, 2,   193.70, 2,    41.59, 2,     0.02, 2,     3.08, 2,    0.014, 2,    0.005, 2,    0.000, 2, -999.000, 9,   2391.9, 2,   2414.5, 2,    7.4036,     25.00,   -999.0, 9,   -999.0,  -999.00, 9,   -999.0,   1.7933, 27.6470,   1.9177, 2, 2, 0.55, 0.15, 0.01, 0.018,  -999.00, 9, -999.00, -999.00, 9, -999.00
49NZ20071008, P14N, 17, 1, 18, X12024, 2, 20071023, 1837, 51.8572, -179.7797, 2083,   2070.4, 2,   1.8072, 2,  34.6002, 2,  34.6005, 2,     59.2, 2,     59.7, 2,   200.03, 2,    40.86, 2,     0.02, 2,     3.04, 2,    0.002, 2,    0.000, 2,    0.000, 2, -999.000, 9,   2389.6, 2,   2419.7, 2,    7.4216,     25.00,   -999.0, 9,   -999.0,  -999.00, 9,   -999.0,   1.6680, 27.6769,   1.8069, 2, 2, 0.56, 0.15, 0.01, 0.018,  -999.00, 9, -999.00, -999.00, 9, -999.00
49NZ20071008, P14N, 17, 1, 17, X12023, 9, 20071023, 1837, 51.8572, -179.7797, 2083,     50.6, 2,   6.3753, 2,  33.0997, 2, -999.0000, 9,    284.4, 2,   -999.0, 9,  -999.00, 9,  -999.00, 9,  -999.00, 9,  -999.00, 9, -999.000, 9, -999.000, 9, -999.000, 9, -999.000, 9,   -999.0, 9,   -999.0, 9, -999.0000,   -999.00,   -999.0, 9,   -999.0,  -999.00, 9,   -999.0,   6.3710, 26.0046,   6.3732, 2, 9, -999.00, -999.00, -999.00, -999.000,  -999.00, 9, -999.00, -999.00, 9, -999.00
49NZ20071008, P14N, 17, 1, 16, X12022, 9, 20071023, 1837, 51.8572, -179.7797, 2083,    100.6, 2,   4.9072, 2,  33.3096, 2, -999.0000, 9,    212.4, 2,   -999.0, 9,  -999.00, 9,  -999.00, 9,  -999.00, 9,  -999.00, 9, -999.000, 9, -999.000, 9, -999.000, 9, -999.000, 9,   -999.0, 9,   -999.0, 9, -999.0000,   -999.00,   -999.0, 9,   -999.0,  -999.00, 9,   -999.0,   4.8998, 26.3464,   4.9100, 2, 9, -999.00, -999.00, -999.00, -999.000,  -999.00, 9, -999.00, -999.00, 9, -999.00
49NZ20071008, P14N, 17, 1, 15, X12021, 9, 20071023, 1837, 51.8572, -179.7797, 2083,    150.3, 2,   5.0662, 2,  33.4263, 2, -999.0000, 9,    187.4, 2,   -999.0, 9,  -999.00, 9,  -999.00, 9,  -999.00, 9,  -999.00, 9, -999.000, 9, -999.000, 9, -999.000, 9, -999.000, 9,   -999.0, 9,   -999.0, 9, -999.0000,   -999.00,   -999.0, 9,   -999.0,  -999.00, 9,   -999.0,   5.0548, 26.4215,   5.0659, 2, 9, -999.00, -999.00, -999.00, -999.000,  -999.00, 9, -999.00, -999.00, 9, -999.00
49NZ20071008, P14N, 17, 1, 14, X12020, 9, 20071023, 1837, 51.8572, -179.7797, 2083,    199.4, 2,   4.7718, 2,  33.4953, 2, -999.0000, 9,    168.7, 2,   -999.0, 9,  -999.00, 9,  -999.00, 9,  -999.00, 9,  -999.00, 9, -999.000, 9, -999.000, 9, -999.000, 9, -999.000, 9,   -999.0, 9,   -999.0, 9, -999.0000,   -999.00,   -999.0, 9,   -999.0,  -999.00, 9,   -999.0,   4.7571, 26.5095,   4.7701, 2, 9, -999.00, -999.00, -999.00, -999.000,  -999.00, 9, -999.00, -999.00, 9, -999.00
49NZ20071008, P14N, 17, 1, 13, X12019, 9, 20071023, 1837, 51.8572, -179.7797, 2083,    249.5, 2,   4.4227, 2,  33.6041, 2, -999.0000, 9,    145.0, 2,   -999.0, 9,  -999.00, 9,  -999.00, 9,  -999.00, 9,  -999.00, 9, -999.000, 9, -999.000, 9, -999.000, 9, -999.000, 9,   -999.0, 9,   -999.0, 9, -999.0000,   -999.00,   -999.0, 9,   -999.0,  -999.00, 9,   -999.0,   4.4048, 26.6338,   4.4216, 2, 9, -999.00, -999.00, -999.00, -999.000,  -999.00, 9, -999.00, -999.00, 9, -999.00
49NZ20071008, P14N, 17, 1, 12, X12040, 9, 20071023, 1837, 51.8572, -179.7797, 2083,    331.8, 2,   4.1564, 2,  33.7486, 2, -999.0000, 9,    113.1, 2,   -999.0, 9,  -999.00, 9,  -999.00, 9,  -999.00, 9,  -999.00, 9, -999.000, 9, -999.000, 9, -999.000, 9, -999.000, 9,   -999.0, 9,   -999.0, 9, -999.0000,   -999.00,   -999.0, 9,   -999.0,  -999.00, 9,   -999.0,   4.1330, 26.7771,   4.1561, 2, 9, -999.00, -999.00, -999.00, -999.000,  -999.00, 9, -999.00, -999.00, 9, -999.00
49NZ20071008, P14N, 17, 1, 11, X12047, 9, 20071023, 1837, 51.8572, -179.7797, 2083,    430.2, 2,   3.8787, 2,  33.8842, 2, -999.0000, 9,     79.4, 2,   -999.0, 9,  -999.00, 9,  -999.00, 9,  -999.00, 9,  -999.00, 9, -999.000, 9, -999.000, 9, -999.000, 9, -999.000, 9,   -999.0, 9,   -999.0, 9, -999.0000,   -999.00,   -999.0, 9,   -999.0,  -999.00, 9,   -999.0,   3.8489, 26.9138,   3.8786, 2, 9, -999.00, -999.00, -999.00, -999.000,  -999.00, 9, -999.00, -999.00, 9, -999.00
49NZ20071008, P14N, 17, 1, 10, X12010, 9, 20071023, 1837, 51.8572, -179.7797, 2083,    532.7, 2,   3.5921, 2,  34.0400, 2, -999.0000, 9,     55.3, 2,   -999.0, 9,  -999.00, 9,  -999.00, 9,  -999.00, 9,  -999.00, 9, -999.000, 9, -999.000, 9, -999.000, 9, -999.000, 9,   -999.0, 9,   -999.0, 9, -999.0000,   -999.00,   -999.0, 9,   -999.0,  -999.00, 9,   -999.0,   3.5558, 27.0668,   3.5922, 2, 9, -999.00, -999.00, -999.00, -999.000,  -999.00, 9, -999.00, -999.00, 9, -999.00
49NZ20071008, P14N, 17, 1, 9, X12015, 9, 20071023, 1837, 51.8572, -179.7797, 2083,    631.8, 2,   3.4577, 2,  34.1157, 2, -999.0000, 9,     39.8, 2,   -999.0, 9,  -999.00, 9,  -999.00, 9,  -999.00, 9,  -999.00, 9, -999.000, 9, -999.000, 9, -999.000, 9, -999.000, 9,   -999.0, 9,   -999.0, 9, -999.0000,   -999.00,   -999.0, 9,   -999.0,  -999.00, 9,   -999.0,   3.4148, 27.1406,   3.4576, 2, 9, -999.00, -999.00, -999.00, -999.000,  -999.00, 9, -999.00, -999.00, 9, -999.00
49NZ20071008, P14N, 17, 1, 8, X12046, 9, 20071023, 1837, 51.8572, -179.7797, 2083,    731.2, 2,   3.3283, 2,  34.1815, 2, -999.0000, 9,     28.9, 2,   -999.0, 9,  -999.00, 9,  -999.00, 9,  -999.00, 9,  -999.00, 9, -999.000, 9, -999.000, 9, -999.000, 9, -999.000, 9,   -999.0, 9,   -999.0, 9, -999.0000,   -999.00,   -999.0, 9,   -999.0,  -999.00, 9,   -999.0,   3.2787, 27.2060,   3.3282, 2, 9, -999.00, -999.00, -999.00, -999.000,  -999.00, 9, -999.00, -999.00, 9, -999.00
49NZ20071008, P14N, 17, 1, 7, X12044, 9, 20071023, 1837, 51.8572, -179.7797, 2083,    832.3, 2,   3.1820, 2,  34.2478, 2, -999.0000, 9,     23.3, 2,   -999.0, 9,  -999.00, 9,  -999.00, 9,  -999.00, 9,  -999.00, 9, -999.000, 9, -999.000, 9, -999.000, 9, -999.000, 9,   -999.0, 9,   -999.0, 9, -999.0000,   -999.00,   -999.0, 9,   -999.0,  -999.00, 9,   -999.0,   3.1258, 27.2731,   3.1818, 2, 9, -999.00, -999.00, -999.00, -999.000,  -999.00, 9, -999.00, -999.00, 9, -999.00
49NZ20071008, P14N, 17, 1, 6, X12048, 9, 20071023, 1837, 51.8572, -179.7797, 2083,     10.7, 2,   6.4481, 2,  33.0819, 2, -999.0000, 9,    293.1, 2,   -999.0, 9,  -999.00, 9,  -999.00, 9,  -999.00, 9,  -999.00, 9, -999.000, 9, -999.000, 9, -999.000, 9, -999.000, 9,   -999.0, 9,   -999.0, 9, -999.0000,   -999.00,   -999.0, 9,   -999.0,  -999.00, 9,   -999.0,   6.4472, 25.9808,   6.4479, 2, 9, -999.00, -999.00, -999.00, -999.000,  -999.00, 9, -999.00, -999.00, 9, -999.00
49NZ20071008, P14N, 17, 1, 5, X12014, 9, 20071023, 1837, 51.8572, -179.7797, 2083,     50.7, 2,   6.3790, 2,  33.0987, 2, -999.0000, 9,    284.7, 2,   -999.0, 9,  -999.00, 9,  -999.00, 9,  -999.00, 9,  -999.00, 9, -999.000, 9, -999.000, 9, -999.000, 9, -999.000, 9,   -999.0, 9,   -999.0, 9, -999.0000,   -999.00,   -999.0, 9,   -999.0,  -999.00, 9,   -999.0,   6.3747, 26.0033,   6.3744, 2, 9, -999.00, -999.00, -999.00, -999.000,  -999.00, 9, -999.00, -999.00, 9, -999.00
49NZ20071008, P14N, 17, 1, 4, X12006, 9, 20071023, 1837, 51.8572, -179.7797, 2083,    100.5, 2,   4.9052, 2,  33.3093, 2, -999.0000, 9,    212.5, 2,   -999.0, 9,  -999.00, 9,  -999.00, 9,  -999.00, 9,  -999.00, 9, -999.000, 9, -999.000, 9, -999.000, 9, -999.000, 9,   -999.0, 9,   -999.0, 9, -999.0000,   -999.00,   -999.0, 9,   -999.0,  -999.00, 9,   -999.0,   4.8978, 26.3463,   4.9093, 2, 9, -999.00, -999.00, -999.00, -999.000,  -999.00, 9, -999.00, -999.00, 9, -999.00
49NZ20071008, P14N, 17, 1, 3, X12013, 9, 20071023, 1837, 51.8572, -179.7797, 2083,    150.3, 2,   5.0662, 2,  33.4264, 2, -999.0000, 9,    187.4, 2,   -999.0, 9,  -999.00, 9,  -999.00, 9,  -999.00, 9,  -999.00, 9, -999.000, 9, -999.000, 9, -999.000, 9, -999.000, 9,   -999.0, 9,   -999.0, 9, -999.0000,   -999.00,   -999.0, 9,   -999.0,  -999.00, 9,   -999.0,   5.0548, 26.4216,   5.0659, 2, 9, -999.00, -999.00, -999.00, -999.000,  -999.00, 9, -999.00, -999.00, 9, -999.00
49NZ20071008, P14N, 17, 1, 2, X12002, 9, 20071023, 1837, 51.8572, -179.7797, 2083,    199.6, 2,   4.7691, 2,  33.4951, 2, -999.0000, 9,    168.6, 2,   -999.0, 9,  -999.00, 9,  -999.00, 9,  -999.00, 9,  -999.00, 9, -999.000, 9, -999.000, 9, -999.000, 9, -999.000, 9,   -999.0, 9,   -999.0, 9, -999.0000,   -999.00,   -999.0, 9,   -999.0,  -999.00, 9,   -999.0,   4.7543, 26.5096,   4.7604, 2, 9, -999.00, -999.00, -999.00, -999.000,  -999.00, 9, -999.00, -999.00, 9, -999.00
49NZ20071008, P14N, 17, 1, 1, X12001, 2, 20071023, 1837, 51.8572, -179.7797, 2083,   2126.4, 2,   1.8042, 2,  34.6018, 2,  34.6025, 6,     60.3, 2,     60.5, 2,   200.70, 2,    40.87, 2,     0.01, 2,     3.06, 2,    0.017, 2,    0.002, 2,    0.000, 2, -999.000, 9,   2391.7, 2,   2420.6, 2,    7.4234,     25.00,   -999.0, 9,   -999.0,  -999.00, 9,   -999.0,   1.6603, 27.6788,   1.8040, 2, 2, 0.56, 0.15, 0.01, 0.018,  -999.00, 9, -999.00, -999.00, 9, -999.00