BOTTLE,20221005CCHSIOAMB
EXPOCODE,SECT_ID,STNNBR,CASTNO,SAMPNO,BTLNBR,BTLNBR_FLAG_W,DATE,TIME,LATITUDE,LONGITUDE,DEPTH,CTDPRS,CTDPRS_FLAG_W,CTDTMP,CTDTMP_FLAG_W,CTDSAL,CTDSAL_FLAG_W,SALNTY,SALNTY_FLAG_W,CTDOXY,CTDOXY_FLAG_W,OXYGEN,OXYGEN_FLAG_W,SILCAT,SILCAT_FLAG_W,NITRAT,NITRAT_FLAG_W,NITRIT,NITRIT_FLAG_W,PHSPHT,PHSPHT_FLAG_W,CFC-11,CFC-11_FLAG_W,CFC-12,CFC-12_FLAG_W,CFC113,CFC113_FLAG_W,CCL4,CCL4_FLAG_W,TCARBN,TCARBN_FLAG_W,ALKALI,ALKALI_FLAG_W,PH_TOT,PH_TMP,DELC14,DELC14_FLAG_W,C14ERR,DELC13,DELC13_FLAG_W,C13ERR,THETA,SIG0,SBE35,SBE35_FLAG_W,PH_TOT_FLAG_W,SILUNC,NRAUNC,NRIUNC,PHPUNC,CS-137,CS-137_FLAG_W,CS137ER,PLUTO,PLUTO_FLAG_W,PLUTOER
,,,,,,,,,,,METERS,DBAR,,ITS-90,,PSS-78,,PSS-78,,UMOL/KG,,UMOL/KG,,UMOL/KG,,UMOL/KG,,UMOL/KG,,UMOL/KG,,PMOL/KG,,PMOL/KG,,PMOL/KG,,PMOL/KG,,UMOL/KG,,UMOL/KG,,,DEG C,/MILLE,,/MILLE,/MILLE,,/MILLE,DEG C,KG/M^3,ITS-90,,,UMOL/KG,UMOL/KG,UMOL/KG,UMOL/KG,DM/.1MG,,BQ/M^3,MBQ/M^3,,MBQ/M^3
49NZ20071008, P01, P01_48, 1, 36, X12042, 2, 20071017, 0542, 47.0055, 169.0980, 4188,     10.1, 2,   9.0340, 2,  32.6459, 2,  32.6464, 2,    289.7, 2,    289.4, 2,    22.21, 2,    14.16, 2,     0.27, 2,     1.36, 2,    3.862, 2,    2.120, 2,    0.360, 2, -999.000, 9,   2039.9, 2,   2210.4, 2,    7.8427,     25.00,   -999.0, 1,   -999.0,  -999.00, 1,   -999.0,   9.0329, 25.2700,   9.0333, 2, 6, 0.17, 0.07, 0.01, 0.014,  -999.00, 9, -999.00, -999.00, 9, -999.00
49NZ20071008, P01, P01_48, 1, 35, X12041, 2, 20071017, 0542, 47.0055, 169.0980, 4188,     50.1, 2,   9.0181, 2,  32.6447, 2,  32.6528, 2,    285.2, 2,    288.9, 2,    22.76, 2,    14.41, 2,     0.27, 2,     1.38, 2,    3.900, 2,    2.154, 2,    0.364, 2, -999.000, 9,   2040.8, 6,   2209.9, 2,    7.8371,     25.00,   -999.0, 1,   -999.0,  -999.00, 1,   -999.0,   9.0129, 25.2722,   9.0176, 2, 2, 0.17, 0.07, 0.01, 0.014,  -999.00, 9, -999.00, -999.00, 9, -999.00
49NZ20071008, P01, P01_48, 1, 34, X12016, 2, 20071017, 0542, 47.0055, 169.0980, 4188,    100.4, 2,   2.1574, 2,  33.0767, 2,  33.0769, 2,    306.7, 2,    306.3, 2,    44.30, 2,    26.33, 2,     0.03, 2,     2.07, 2,    5.559, 2,    2.943, 2,    0.481, 2, -999.000, 9,   2140.7, 2,   2236.3, 6,    7.6415,     25.00,   -999.0, 1,   -999.0,  -999.00, 1,   -999.0,   2.1523, 26.4194,   2.1425, 2, 2, 0.22, 0.11, 0.01, 0.015,  -999.00, 9, -999.00, -999.00, 9, -999.00
49NZ20071008, P01, P01_48, 1, 33, X12033, 2, 20071017, 0542, 47.0055, 169.0980, 4188,    150.6, 2,   3.3622, 2,  33.6117, 2,  33.6167, 2,    126.8, 2,    129.0, 2,    74.54, 2,    37.93, 2,     0.02, 2,     2.76, 2,    3.330, 6,    1.684, 6,    0.233, 6, -999.000, 9,   2260.0, 2,   2275.5, 2,    7.3962,     25.00,   -999.0, 1,   -999.0,  -999.00, 1,   -999.0,   3.3528, 26.7447,   3.3654, 2, 6, 0.28, 0.14, 0.01, 0.017,  -999.00, 9, -999.00, -999.00, 9, -999.00
49NZ20071008, P01, P01_48, 1, 32, X12038, 2, 20071017, 0542, 47.0055, 169.0980, 4188,    199.6, 2,   3.0835, 2,  33.7454, 2,  33.7494, 2,     73.4, 2,     95.3, 2,    86.86, 2,    40.26, 2,     0.02, 2,     2.92, 2,    2.841, 2,    1.417, 2,    0.202, 2, -999.000, 9,   2293.6, 2,   2291.9, 2,    7.3456,     25.00,   -999.0, 1,   -999.0,  -999.00, 1,   -999.0,   3.0714, 26.8772,   3.0822, 2, 2, 0.31, 0.15, 0.01, 0.017,  -999.00, 9, -999.00, -999.00, 9, -999.00
49NZ20071008, P01, P01_48, 1, 31, X12003, 2, 20071017, 0542, 47.0055, 169.0980, 4188,    250.1, 2,   3.3811, 2,  33.8788, 2,  33.8899, 6,     53.1, 2,     47.6, 2,    96.48, 2,    43.43, 2,     0.02, 2,     3.10, 2,    2.086, 2,    1.012, 2,    0.135, 2, -999.000, 9,   2322.9, 2,   2303.4, 2,    7.2906,     25.00,   -999.0, 1,   -999.0,  -999.00, 1,   -999.0,   3.3651, 26.9565,   3.3821, 2, 2, 0.33, 0.15, 0.01, 0.018,  -999.00, 9, -999.00, -999.00, 9, -999.00
49NZ20071008, P01, P01_48, 1, 30, X12008, 2, 20071017, 0542, 47.0055, 169.0980, 4188,    300.9, 2,   3.5148, 2,  33.9780, 2,  33.9805, 2,     23.0, 2,     33.7, 2,   102.98, 2,    44.13, 2,     0.02, 2,     3.15, 2,    1.612, 2,    0.770, 2,    0.105, 2, -999.000, 9,   2337.4, 2,   2314.2, 2,    7.2828,     25.00,   -999.0, 1,   -999.0,  -999.00, 1,   -999.0,   3.4951, 27.0232,   3.5138, 2, 2, 0.35, 0.16, 0.01, 0.018,  -999.00, 9, -999.00, -999.00, 9, -999.00
49NZ20071008, P01, P01_48, 1, 29, X12035, 2, 20071017, 0542, 47.0055, 169.0980, 4188,    401.8, 2,   3.6084, 2,  34.1257, 2,  34.1244, 2,     17.4, 2,     17.5, 2,   113.38, 2,    44.61, 2,     0.01, 2,     3.17, 2,    0.837, 2,    0.392, 2,    0.053, 2, -999.000, 9,   2350.8, 2,   2331.9, 2,    7.2876,     25.00,   -999.0, 1,   -999.0,  -999.00, 1,   -999.0,   3.5813, 27.1326,   3.6081, 2, 2, 0.37, 0.16, 0.01, 0.018,  -999.00, 9, -999.00, -999.00, 9, -999.00
49NZ20071008, P01, P01_48, 1, 28, X12034, 2, 20071017, 0542, 47.0055, 169.0980, 4188,    501.6, 2,   3.4210, 2,  34.2053, 2,  34.2022, 6,     14.5, 2,     14.4, 2,   122.85, 2,    44.71, 2,     0.02, 2,     3.18, 2,    0.523, 2,    0.241, 2,    0.036, 2, -999.000, 9,   2360.9, 2,   2345.8, 2,    7.2981,     25.00,   -999.0, 1,   -999.0,  -999.00, 1,   -999.0,   3.3875, 27.2146,   3.4204, 2, 2, 0.39, 0.16, 0.01, 0.018,  -999.00, 9, -999.00, -999.00, 9, -999.00
49NZ20071008, P01, P01_48, 1, 27, X12049, 2, 20071017, 0542, 47.0055, 169.0980, 4188,    601.9, 2,   3.2260, 2,  34.2691, 2,  34.2686, 2,     15.0, 2,     14.7, 2,   131.08, 2,    44.56, 2,     0.01, 2,     3.17, 2,    0.333, 2,    0.157, 2,    0.025, 2, -999.000, 9,   2368.0, 2,   2357.5, 2,    7.3102,     25.00,   -999.0, 1,   -999.0,  -999.00, 1,   -999.0,   3.1862, 27.2845,   3.2257, 2, 2, 0.41, 0.16, 0.01, 0.018,  -999.00, 9, -999.00, -999.00, 9, -999.00
49NZ20071008, P01, P01_48, 1, 26, X12032, 2, 20071017, 0542, 47.0055, 169.0980, 4188,    701.6, 2,   3.0361, 2,  34.3232, 2,  34.3223, 2,     17.1, 2,     17.2, 2,   137.90, 2,    44.40, 2,     0.01, 2,     3.16, 2,    0.227, 6,    0.108, 6,    0.014, 6, -999.000, 9,   2373.4, 6,   2368.1, 2,    7.3206,     25.00,   -999.0, 1,   -999.0,  -999.00, 1,   -999.0,   2.9901, 27.3457,   3.0362, 2, 2, 0.42, 0.16, 0.01, 0.018,  -999.00, 9, -999.00, -999.00, 9, -999.00
49NZ20071008, P01, P01_48, 1, 25, X12043, 2, 20071017, 0542, 47.0055, 169.0980, 4188,    799.6, 2,   2.8912, 2,  34.3612, 2,  34.3607, 2,     17.5, 2,     18.3, 2,   142.89, 2,    44.32, 2,     0.01, 2,     3.16, 2,    0.152, 2,    0.070, 2,    0.014, 2, -999.000, 9,   2381.3, 2,   2374.8, 6,    7.3280,     25.00,   -999.0, 1,   -999.0,  -999.00, 1,   -999.0,   2.8391, 27.3896,   2.8909, 2, 2, 0.43, 0.16, 0.01, 0.018,  -999.00, 9, -999.00, -999.00, 9, -999.00
49NZ20071008, P01, P01_48, 1, 24, X12030, 2, 20071017, 0542, 47.0055, 169.0980, 4188,    900.7, 2,   2.7523, 2,  34.3910, 2,  34.3905, 2,     22.0, 2,     23.5, 2,   146.78, 2,    43.97, 2,     0.01, 2,     3.14, 2,    0.147, 2,    0.069, 2,    0.009, 2, -999.000, 9,   2381.8, 2,   2380.0, 2,    7.3394,     25.00,   -999.0, 1,   -999.0,  -999.00, 1,   -999.0,   2.6938, 27.4262,   2.7521, 2, 6, 0.44, 0.16, 0.01, 0.018,  -999.00, 9, -999.00, -999.00, 9, -999.00
49NZ20071008, P01, P01_48, 1, 23, X12027, 2, 20071017, 0542, 47.0055, 169.0980, 4188,   1000.6, 2,   2.6374, 2,  34.4219, 2,  34.4218, 6,     26.8, 2,     26.6, 2,   150.14, 2,    43.83, 2,     0.02, 2,     3.12, 2,    0.109, 2,    0.050, 2,    0.013, 2, -999.000, 9,   2380.9, 2,   2382.1, 3,    7.3486,     25.00,   -999.0, 1,   -999.0,  -999.00, 1,   -999.0,   2.5724, 27.4614,   2.6373, 2, 2, 0.45, 0.16, 0.01, 0.018,  -999.00, 9, -999.00, -999.00, 9, -999.00
49NZ20071008, P01, P01_48, 1, 22, X12028, 2, 20071017, 0542, 47.0055, 169.0980, 4188,   1200.5, 2,   2.3881, 2,  34.4781, 2,  34.4782, 2,     31.7, 2,     30.4, 2,   158.36, 2,    43.73, 2,     0.01, 2,     3.11, 2,    0.056, 2,    0.025, 2,    0.004, 2, -999.000, 9,   2389.9, 2,   2395.5, 2,    7.3612,     25.00,   -999.0, 1,   -999.0,  -999.00, 1,   -999.0,   2.3105, 27.5284,   2.3871, 2, 2, 0.47, 0.16, 0.01, 0.018,  -999.00, 9, -999.00, -999.00, 9, -999.00
49NZ20071008, P01, P01_48, 1, 21, X12009, 2, 20071017, 0542, 47.0055, 169.0980, 4188,   1402.4, 2,   2.1984, 2,  34.5225, 2,  34.5214, 2,     40.3, 2,     39.9, 2,   162.31, 2,    43.35, 2,     0.02, 2,     3.07, 2,    0.023, 2,    0.011, 2,    0.000, 2, -999.000, 9,   2385.8, 2,   2401.3, 2,    7.3830,     25.00,   -999.0, 1,   -999.0,  -999.00, 1,   -999.0,   2.1075, 27.5805,   2.1984, 2, 2, 0.48, 0.15, 0.01, 0.018,  -999.00, 9, -999.00, -999.00, 9, -999.00
49NZ20071008, P01, P01_48, 1, 20, X12026, 2, 20071017, 0542, 47.0055, 169.0980, 4188,   1599.6, 2,   2.0529, 2,  34.5560, 2,  34.5556, 2,     52.0, 2,     51.0, 2,   165.08, 2,    42.64, 2,     0.01, 2,     3.02, 2,    0.007, 2,    0.002, 2,    0.000, 2, -999.000, 9,   2382.2, 2,   2408.8, 2,    7.4057,     25.00,   -999.0, 1,   -999.0,  -999.00, 1,   -999.0,   1.9484, 27.6200,   2.0528, 2, 2, 0.48, 0.15, 0.01, 0.018,  -999.00, 9, -999.00, -999.00, 9, -999.00
49NZ20071008, P01, P01_48, 1, 19, X12025, 2, 20071017, 0542, 47.0055, 169.0980, 4188,   1799.6, 2,   1.9187, 2,  34.5876, 2,  34.5874, 2,     68.3, 2,     67.4, 2,   163.84, 2,    41.61, 2,     0.01, 2,     2.95, 2,    0.003, 2,    0.001, 2,    0.000, 2, -999.000, 9,   2376.2, 2,   2411.7, 2,    7.4395,     25.00,   -999.0, 1,   -999.0,  -999.00, 1,   -999.0,   1.8000, 27.6568,   1.9191, 2, 2, 0.48, 0.15, 0.01, 0.017,  -999.00, 9, -999.00, -999.00, 9, -999.00
49NZ20071008, P01, P01_48, 1, 18, X12024, 2, 20071017, 0542, 47.0055, 169.0980, 4188,   1999.5, 2,   1.8214, 2,  34.6072, 2,  34.6069, 6,     78.1, 2,     78.1, 2,   164.20, 2,    40.97, 2,     0.01, 2,     2.90, 2,    0.002, 2,    0.002, 2,    0.000, 2, -999.000, 9,   2367.7, 2,   2415.8, 2,    7.4592,     25.00,   -999.0, 1,   -999.0,  -999.00, 1,   -999.0,   1.6878, 27.6811,   1.8212, 2, 2, 0.48, 0.15, 0.01, 0.017,  -999.00, 9, -999.00, -999.00, 9, -999.00
49NZ20071008, P01, P01_48, 1, 17, X12023, 2, 20071017, 0542, 47.0055, 169.0980, 4188,   2200.7, 2,   1.7239, 2,  34.6258, 2,  34.6256, 2,     91.4, 2,     92.4, 2,   162.08, 2,    40.10, 2,     0.01, 2,     2.83, 2,    0.003, 2,    0.001, 2,    0.000, 2, -999.000, 9,   2360.9, 2,   2416.8, 2,    7.4860,     25.00,   -999.0, 1,   -999.0,  -999.00, 1,   -999.0,   1.5750, 27.7043,   1.7239, 2, 2, 0.48, 0.15, 0.01, 0.017,  -999.00, 9, -999.00, -999.00, 9, -999.00
49NZ20071008, P01, P01_48, 1, 16, X12022, 2, 20071017, 0542, 47.0055, 169.0980, 4188,   2400.3, 2,   1.6695, 2,  34.6365, 2,  34.6361, 2,    101.5, 2,    100.8, 2,   161.09, 2,    39.54, 2,     0.02, 2,     2.79, 2,    0.000, 2,    0.001, 2,    0.000, 2, -999.000, 9,   2355.9, 6,   2418.0, 2,    7.5018,     25.00,   -999.0, 1,   -999.0,  -999.00, 1,   -999.0,   1.5042, 27.7182,   1.6693, 2, 2, 0.47, 0.14, 0.01, 0.017,  -999.00, 9, -999.00, -999.00, 9, -999.00
49NZ20071008, P01, P01_48, 1, 15, X12021, 2, 20071017, 0542, 47.0055, 169.0980, 4188,   2599.8, 2,   1.6212, 2,  34.6462, 2,  34.6459, 2,    108.2, 2,    109.0, 2,   160.04, 2,    39.05, 2,     0.02, 2,     2.76, 2, -999.000, 9, -999.000, 9, -999.000, 9, -999.000, 9,   2351.0, 2,   2418.6, 6,    7.5176,     25.00,   -999.0, 1,   -999.0,  -999.00, 1,   -999.0,   1.4391, 27.7307,   1.6212, 2, 2, 0.47, 0.14, 0.01, 0.017,  -999.00, 9, -999.00, -999.00, 9, -999.00
49NZ20071008, P01, P01_48, 1, 14, X12020, 2, 20071017, 0542, 47.0055, 169.0980, 4188,   2800.0, 2,   1.5851, 2,  34.6538, 2,  34.6538, 2,    116.8, 2,    116.2, 2,   158.32, 2,    38.47, 2,     0.02, 2,     2.72, 2,    0.000, 2,    0.000, 2,    0.000, 2, -999.000, 9,   2346.8, 2,   2419.3, 2,    7.5308,     25.00,   -999.0, 1,   -999.0,  -999.00, 1,   -999.0,   1.3854, 27.7406,   1.5849, 2, 6, 0.47, 0.14, 0.01, 0.017,  -999.00, 9, -999.00, -999.00, 9, -999.00
49NZ20071008, P01, P01_48, 1, 13, X12019, 2, 20071017, 0542, 47.0055, 169.0980, 4188,   2999.8, 2,   1.5301, 2,  34.6635, 2,  34.6630, 6,    125.7, 2,    125.8, 2,   156.52, 2,    38.00, 2,     0.01, 2,     2.67, 2, -999.000, 9, -999.000, 9, -999.000, 9, -999.000, 9,   2342.1, 2,   2419.2, 2,    7.5473,     25.00,   -999.0, 1,   -999.0,  -999.00, 1,   -999.0,   1.3127, 27.7536,   1.5301, 2, 2, 0.46, 0.14, 0.01, 0.017,  -999.00, 9, -999.00, -999.00, 9, -999.00
49NZ20071008, P01, P01_48, 1, 12, X12040, 2, 20071017, 0542, 47.0055, 169.0980, 4188,   3249.4, 2,   1.5031, 2,  34.6696, 2,  34.6698, 2,    132.1, 2,    132.6, 2,   154.62, 2,    37.46, 2,     0.01, 2,     2.63, 2, -999.000, 9, -999.000, 9, -999.000, 9, -999.000, 9,   2337.8, 2,   2418.4, 2,    7.5580,     25.00,   -999.0, 1,   -999.0,  -999.00, 1,   -999.0,   1.2621, 27.7620,   1.5031, 2, 2, 0.46, 0.14, 0.01, 0.017,  -999.00, 9, -999.00, -999.00, 9, -999.00
49NZ20071008, P01, P01_48, 1, 11, X12047, 2, 20071017, 0542, 47.0055, 169.0980, 4188,   3500.6, 2,   1.4777, 2,  34.6755, 2,  34.6754, 2,    138.7, 2,    139.2, 2,   153.33, 2,    36.97, 2,     0.01, 2,     2.60, 2,    0.000, 2,    0.000, 2,    0.000, 2, -999.000, 9,   2331.2, 2,   2419.3, 2,    7.5708,     25.00,   -999.0, 1,   -999.0,  -999.00, 1,   -999.0,   1.2121, 27.7702,   1.4776, 2, 2, 0.46, 0.14, 0.01, 0.016,  -999.00, 9, -999.00, -999.00, 9, -999.00
49NZ20071008, P01, P01_48, 1, 10, X12010, 2, 20071017, 0542, 47.0055, 169.0980, 4188,   3750.2, 2,   1.4725, 2,  34.6791, 2,  34.6788, 2,    143.5, 2,    143.8, 2,   151.35, 2,    36.78, 2,     0.01, 2,     2.57, 2, -999.000, 9, -999.000, 9, -999.000, 9, -999.000, 9,   2330.7, 2,   2418.1, 2,    7.5782,     25.00,   -999.0, 1,   -999.0,  -999.00, 1,   -999.0,   1.1811, 27.7753,   1.4725, 2, 2, 0.45, 0.14, 0.01, 0.016,  -999.00, 9, -999.00, -999.00, 9, -999.00
49NZ20071008, P01, P01_48, 1, 9, X12015, 2, 20071017, 0542, 47.0055, 169.0980, 4188,   4000.3, 2,   1.4694, 2,  34.6822, 2,  34.6825, 2,    147.4, 2,    148.0, 2,   150.56, 2,    36.48, 2,     0.01, 2,     2.55, 2,    0.000, 2,    0.000, 2,    0.000, 2, -999.000, 9,   2326.8, 2,   2417.6, 2,    7.5850,     25.00,   -999.0, 1,   -999.0,  -999.00, 1,   -999.0,   1.1513, 27.7798,   1.4692, 2, 2, 0.45, 0.13, 0.01, 0.016,  -999.00, 9, -999.00, -999.00, 9, -999.00
49NZ20071008, P01, P01_48, 1, 8, X12046, 2, 20071017, 0542, 47.0055, 169.0980, 4188,     10.3, 2,   9.0350, 2,  32.6460, 2, -999.0000, 9,    289.7, 2,   -999.0, 9,  -999.00, 9,  -999.00, 9,  -999.00, 9,  -999.00, 9, -999.000, 9, -999.000, 9, -999.000, 9, -999.000, 9,   -999.0, 9,   -999.0, 9, -999.0000,   -999.00,   -999.0, 9,   -999.0,  -999.00, 9,   -999.0,   9.0339, 25.2699,   9.0347, 2, 9, -999.00, -999.00, -999.00, -999.000,  -999.00, 9, -999.00, -999.00, 9, -999.00
49NZ20071008, P01, P01_48, 1, 7, X12044, 2, 20071017, 0542, 47.0055, 169.0980, 4188,     50.6, 2,   9.0207, 2,  32.6449, 2, -999.0000, 9,    285.1, 2,   -999.0, 9,  -999.00, 9,  -999.00, 9,  -999.00, 9,  -999.00, 9, -999.000, 9, -999.000, 9, -999.000, 9, -999.000, 9,   -999.0, 9,   -999.0, 9, -999.0000,   -999.00,   -999.0, 9,   -999.0,  -999.00, 9,   -999.0,   9.0154, 25.2719,   9.0197, 2, 9, -999.00, -999.00, -999.00, -999.000,  -999.00, 9, -999.00, -999.00, 9, -999.00
49NZ20071008, P01, P01_48, 1, 6, X12048, 2, 20071017, 0542, 47.0055, 169.0980, 4188,    100.5, 2,   2.1797, 2,  33.0750, 2, -999.0000, 9,    306.9, 2,   -999.0, 9,  -999.00, 9,  -999.00, 9,  -999.00, 9,  -999.00, 9, -999.000, 9, -999.000, 9, -999.000, 9, -999.000, 9,   -999.0, 9,   -999.0, 9, -999.0000,   -999.00,   -999.0, 9,   -999.0,  -999.00, 9,   -999.0,   2.1745, 26.4164,   2.1817, 2, 9, -999.00, -999.00, -999.00, -999.000,  -999.00, 9, -999.00, -999.00, 9, -999.00
49NZ20071008, P01, P01_48, 1, 5, X12014, 2, 20071017, 0542, 47.0055, 169.0980, 4188,    151.0, 2,   3.3467, 2,  33.6023, 2, -999.0000, 9,    128.0, 2,   -999.0, 9,  -999.00, 9,  -999.00, 9,  -999.00, 9,  -999.00, 9, -999.000, 9, -999.000, 9, -999.000, 9, -999.000, 9,   -999.0, 9,   -999.0, 9, -999.0000,   -999.00,   -999.0, 9,   -999.0,  -999.00, 9,   -999.0,   3.3373, 26.7387,   3.3481, 2, 9, -999.00, -999.00, -999.00, -999.000,  -999.00, 9, -999.00, -999.00, 9, -999.00
49NZ20071008, P01, P01_48, 1, 4, X12006, 2, 20071017, 0542, 47.0055, 169.0980, 4188,    199.4, 2,   3.0987, 2,  33.7484, 2, -999.0000, 9,     73.4, 2,   -999.0, 9,  -999.00, 9,  -999.00, 9,  -999.00, 9,  -999.00, 9, -999.000, 9, -999.000, 9, -999.000, 9, -999.000, 9,   -999.0, 9,   -999.0, 9, -999.0000,   -999.00,   -999.0, 9,   -999.0,  -999.00, 9,   -999.0,   3.0865, 26.8782,   3.0981, 2, 9, -999.00, -999.00, -999.00, -999.000,  -999.00, 9, -999.00, -999.00, 9, -999.00
49NZ20071008, P01, P01_48, 1, 3, X12013, 2, 20071017, 0542, 47.0055, 169.0980, 4188,    249.8, 2,   3.3798, 2,  33.8770, 2, -999.0000, 9,     52.8, 2,   -999.0, 9,  -999.00, 9,  -999.00, 9,  -999.00, 9,  -999.00, 9, -999.000, 9, -999.000, 9, -999.000, 9, -999.000, 9,   -999.0, 9,   -999.0, 9, -999.0000,   -999.00,   -999.0, 9,   -999.0,  -999.00, 9,   -999.0,   3.3638, 26.9552,   3.3784, 2, 9, -999.00, -999.00, -999.00, -999.000,  -999.00, 9, -999.00, -999.00, 9, -999.00
49NZ20071008, P01, P01_48, 1, 2, X12002, 2, 20071017, 0542, 47.0055, 169.0980, 4188,    249.9, 2,   3.3826, 2,  33.8781, 2, -999.0000, 9,     52.9, 2,   -999.0, 9,  -999.00, 9,  -999.00, 9,  -999.00, 9,  -999.00, 9, -999.000, 9, -999.000, 9, -999.000, 9, -999.000, 9,   -999.0, 9,   -999.0, 9, -999.0000,   -999.00,   -999.0, 9,   -999.0,  -999.00, 9,   -999.0,   3.3666, 26.9558,   3.3824, 2, 9, -999.00, -999.00, -999.00, -999.000,  -999.00, 9, -999.00, -999.00, 9, -999.00
49NZ20071008, P01, P01_48, 1, 1, X12001, 2, 20071017, 0542, 47.0055, 169.0980, 4188,   4255.5, 2,   1.4714, 2,  34.6851, 2,  34.6852, 6,    151.3, 2,    151.5, 2,   149.50, 2,    36.30, 2,     0.01, 2,     2.54, 2,    0.000, 2,    0.000, 2,    0.000, 2, -999.000, 9,   2322.6, 2,   2417.4, 2,    7.5902,     25.00,   -999.0, 1,   -999.0,  -999.00, 1,   -999.0,   1.1251, 27.7839,   1.4712, 2, 2, 0.45, 0.13, 0.01, 0.016,  -999.00, 9, -999.00, -999.00, 9, -999.00