BOTTLE,20221005CCHSIOAMB
EXPOCODE,SECT_ID,STNNBR,CASTNO,SAMPNO,BTLNBR,BTLNBR_FLAG_W,DATE,TIME,LATITUDE,LONGITUDE,DEPTH,CTDPRS,CTDPRS_FLAG_W,CTDTMP,CTDTMP_FLAG_W,CTDSAL,CTDSAL_FLAG_W,SALNTY,SALNTY_FLAG_W,CTDOXY,CTDOXY_FLAG_W,OXYGEN,OXYGEN_FLAG_W,SILCAT,SILCAT_FLAG_W,NITRAT,NITRAT_FLAG_W,NITRIT,NITRIT_FLAG_W,PHSPHT,PHSPHT_FLAG_W,CFC-11,CFC-11_FLAG_W,CFC-12,CFC-12_FLAG_W,CFC113,CFC113_FLAG_W,CCL4,CCL4_FLAG_W,TCARBN,TCARBN_FLAG_W,ALKALI,ALKALI_FLAG_W,PH_TOT,PH_TMP,DELC14,DELC14_FLAG_W,C14ERR,DELC13,DELC13_FLAG_W,C13ERR,THETA,SIG0,SBE35,SBE35_FLAG_W,PH_TOT_FLAG_W,SILUNC,NRAUNC,NRIUNC,PHPUNC,CS-137,CS-137_FLAG_W,CS137ER,PLUTO,PLUTO_FLAG_W,PLUTOER
,,,,,,,,,,,METERS,DBAR,,ITS-90,,PSS-78,,PSS-78,,UMOL/KG,,UMOL/KG,,UMOL/KG,,UMOL/KG,,UMOL/KG,,UMOL/KG,,PMOL/KG,,PMOL/KG,,PMOL/KG,,PMOL/KG,,UMOL/KG,,UMOL/KG,,,DEG C,/MILLE,,/MILLE,/MILLE,,/MILLE,DEG C,KG/M^3,ITS-90,,,UMOL/KG,UMOL/KG,UMOL/KG,UMOL/KG,DM/.1MG,,BQ/M^3,MBQ/M^3,,MBQ/M^3
49NZ20071008, P14N, 27, 1, 36, X12042, 2, 20071021, 1512, 48.9933, 178.9895, 4756,     10.8, 2,   7.9717, 2,  32.7453, 2,  32.7453, 2,    294.3, 2,    294.8, 2,    25.92, 2,    15.28, 2,     0.28, 2,     1.42, 2,    4.145, 2,    2.347, 2,    0.376, 2, -999.000, 9,   2045.7, 2,   2212.1, 2,    7.8158,     25.00,   -999.0, 9,   -999.0,  -999.00, 9,   -999.0,   7.9707, 25.5077,   7.9718, 2, 6, 0.18, 0.08, 0.01, 0.014,  -999.00, 9, -999.00, -999.00, 9, -999.00
49NZ20071008, P14N, 27, 1, 35, X12041, 2, 20071021, 1512, 48.9933, 178.9895, 4756,     49.8, 2,   7.9809, 2,  32.7451, 2,  32.7462, 2,    294.3, 2,    294.7, 2,    25.99, 2,    15.32, 2,     0.28, 2,     1.43, 2,    4.045, 2,    2.319, 2,    0.373, 2, -999.000, 9,   2049.2, 6,   2211.2, 2,    7.8145,     25.00,   -999.0, 9,   -999.0,  -999.00, 9,   -999.0,   7.9761, 25.5067,   7.9798, 2, 2, 0.18, 0.08, 0.01, 0.014,  -999.00, 9, -999.00, -999.00, 9, -999.00
49NZ20071008, P14N, 27, 1, 34, X12016, 2, 20071021, 1512, 48.9933, 178.9895, 4756,    100.4, 2,   3.2996, 2,  33.0435, 2,  33.0478, 2,    309.0, 2,    307.3, 2,    37.07, 2,    22.64, 2,     0.02, 2,     1.83, 2,    5.311, 2,    2.947, 2,    0.452, 2, -999.000, 9,   2114.5, 2,   2230.2, 6,    7.6890,     25.00,   -999.0, 9,   -999.0,  -999.00, 9,   -999.0,   3.2935, 26.2973,   3.2942, 2, 2, 0.20, 0.10, 0.01, 0.015,  -999.00, 9, -999.00, -999.00, 9, -999.00
49NZ20071008, P14N, 27, 1, 33, X12033, 2, 20071021, 1512, 48.9933, 178.9895, 4756,    150.3, 2,   3.1948, 2,  33.5311, 2,  33.5343, 2,    196.0, 2,    181.1, 2,    63.99, 2,    33.18, 2,     0.01, 2,     2.48, 2,    4.053, 6,    2.139, 6,    0.338, 6, -999.000, 9,   2223.8, 2,   2268.1, 2,    7.4787,     25.00,   -999.0, 9,   -999.0,  -999.00, 9,   -999.0,   3.1856, 26.6958,   3.1932, 2, 6, 0.26, 0.13, 0.01, 0.016,  -999.00, 9, -999.00, -999.00, 9, -999.00
49NZ20071008, P14N, 27, 1, 32, X12038, 2, 20071021, 1512, 48.9933, 178.9895, 4756,    198.7, 2,   3.2023, 2,  33.7293, 2,  33.7314, 2,    127.3, 2,    113.6, 2,    80.86, 2,    38.27, 2,     0.01, 2,     2.80, 2,    3.090, 2,    1.590, 2,    0.248, 2, -999.000, 9,   2275.1, 2,   2287.5, 2,    7.3776,     25.00,   -999.0, 9,   -999.0,  -999.00, 9,   -999.0,   3.1900, 26.8535,   3.2017, 2, 2, 0.30, 0.14, 0.01, 0.017,  -999.00, 9, -999.00, -999.00, 9, -999.00
49NZ20071008, P14N, 27, 1, 31, X12003, 2, 20071021, 1512, 48.9933, 178.9895, 4756,    248.7, 2,   3.4051, 2,  33.8599, 2,  33.8632, 6,     84.7, 2,     61.0, 2,    93.33, 2,    42.36, 2,     0.01, 2,     3.05, 2,    2.248, 2,    1.128, 2,    0.119, 2, -999.000, 9,   2314.1, 2,   2300.4, 2,    7.3037,     25.00,   -999.0, 9,   -999.0,  -999.00, 9,   -999.0,   3.3892, 26.9392,   3.4050, 2, 2, 0.32, 0.15, 0.01, 0.018,  -999.00, 9, -999.00, -999.00, 9, -999.00
49NZ20071008, P14N, 27, 1, 30, X12008, 2, 20071021, 1512, 48.9933, 178.9895, 4756,    279.5, 2,   3.4504, 2,  33.9082, 2,  33.9096, 2,     63.7, 2,     53.3, 2,    96.56, 2,    42.54, 2,     0.01, 2,     3.06, 2,    2.024, 2,    1.003, 2,    0.174, 2, -999.000, 9,   2318.2, 2,   2305.4, 2,    7.3019,     25.00,   -999.0, 9,   -999.0,  -999.00, 9,   -999.0,   3.4323, 26.9736,   3.4498, 2, 2, 0.33, 0.15, 0.01, 0.018,  -999.00, 9, -999.00, -999.00, 9, -999.00
49NZ20071008, P14N, 27, 1, 29, X12035, 2, 20071021, 1512, 48.9933, 178.9895, 4756,    370.5, 2,   3.5433, 2,  34.0422, 2,  34.0431, 2,     33.9, 2,     30.9, 2,   107.26, 2,    43.70, 2,     0.01, 2,     3.13, 2,    1.314, 2,    0.625, 2,    0.086, 4, -999.000, 9,   2338.2, 2,   2321.9, 2,    7.2911,     25.00,   -999.0, 9,   -999.0,  -999.00, 9,   -999.0,   3.5187, 27.0721,   3.5430, 2, 2, 0.35, 0.16, 0.01, 0.018,  -999.00, 9, -999.00, -999.00, 9, -999.00
49NZ20071008, P14N, 27, 1, 28, X12034, 2, 20071021, 1512, 48.9933, 178.9895, 4756,    472.0, 2,   3.4775, 2,  34.1416, 2,  34.1390, 6,     26.6, 2,     25.0, 2,   116.20, 2,    43.72, 2,     0.01, 2,     3.13, 2,    0.862, 2,    0.403, 2,    0.056, 2, -999.000, 9,   2349.2, 2,   2335.9, 2,    7.3027,     25.00,   -999.0, 9,   -999.0,  -999.00, 9,   -999.0,   3.4459, 27.1583,   3.4772, 2, 2, 0.37, 0.16, 0.01, 0.018,  -999.00, 9, -999.00, -999.00, 9, -999.00
49NZ20071008, P14N, 27, 1, 27, X12049, 2, 20071021, 1512, 48.9933, 178.9895, 4756,    570.1, 2,   3.3612, 2,  34.2108, 2,  34.2117, 2,     22.8, 2,     21.7, 2,   123.83, 2,    43.90, 2,     0.01, 2,     3.14, 2,    0.574, 2,    0.273, 2,    0.035, 2, -999.000, 9,   2360.1, 2,   2347.1, 2,    7.3100,     25.00,   -999.0, 9,   -999.0,  -999.00, 9,   -999.0,   3.3231, 27.2252,   3.3604, 2, 2, 0.39, 0.16, 0.01, 0.018,  -999.00, 9, -999.00, -999.00, 9, -999.00
49NZ20071008, P14N, 27, 1, 26, X12032, 2, 20071021, 1512, 48.9933, 178.9895, 4756,    672.2, 2,   3.1789, 2,  34.2786, 2,  34.2785, 2,     21.2, 2,     21.0, 2,   131.76, 2,    43.91, 2,     0.01, 2,     3.15, 2,    0.363, 6,    0.171, 6,    0.024, 6, -999.000, 9,   2366.3, 6,   2359.9, 2,    7.3205,     25.00,   -999.0, 9,   -999.0,  -999.00, 9,   -999.0,   3.1343, 27.2969,   3.1788, 2, 2, 0.41, 0.16, 0.01, 0.018,  -999.00, 9, -999.00, -999.00, 9, -999.00
49NZ20071008, P14N, 27, 1, 25, X12043, 2, 20071021, 1512, 48.9933, 178.9895, 4756,    770.0, 2,   3.0317, 2,  34.3216, 2,  34.3234, 2,     21.2, 2,     21.0, 2,   137.72, 2,    43.90, 2,     0.01, 2,     3.15, 2,    0.252, 2,    0.115, 2,    0.015, 2, -999.000, 9,   2372.5, 2,   2367.3, 6,    7.3258,     25.00,   -999.0, 9,   -999.0,  -999.00, 9,   -999.0,   2.9809, 27.3453,   3.0313, 2, 2, 0.42, 0.16, 0.01, 0.018,  -999.00, 9, -999.00, -999.00, 9, -999.00
49NZ20071008, P14N, 27, 1, 24, X12030, 2, 20071021, 1512, 48.9933, 178.9895, 4756,    869.8, 2,   2.8989, 2,  34.3584, 2,  34.3581, 2,     21.3, 2,     21.2, 2,   142.20, 2,    43.89, 2,     0.01, 2,     3.14, 2,    0.178, 2,    0.085, 2,    0.011, 2, -999.000, 9,   2376.1, 2,   2374.5, 2,    7.3315,     25.00,   -999.0, 9,   -999.0,  -999.00, 9,   -999.0,   2.8416, 27.3871,   2.8988, 2, 2, 0.43, 0.16, 0.01, 0.018,  -999.00, 9, -999.00, -999.00, 9, -999.00
49NZ20071008, P14N, 27, 1, 23, X12027, 2, 20071021, 1512, 48.9933, 178.9895, 4756,    971.1, 2,   2.7559, 2,  34.3950, 2,  34.3950, 6,     22.8, 2,     23.2, 2,   146.87, 2,    43.94, 2,     0.01, 2,     3.15, 2,    0.132, 2,    0.062, 2,    0.009, 2, -999.000, 9,   2380.0, 2,   2380.3, 2,    7.3371,     25.00,   -999.0, 9,   -999.0,  -999.00, 9,   -999.0,   2.6922, 27.4296,   2.7557, 2, 2, 0.44, 0.16, 0.01, 0.018,  -999.00, 9, -999.00, -999.00, 9, -999.00
49NZ20071008, P14N, 27, 1, 22, X12028, 2, 20071021, 1512, 48.9933, 178.9895, 4756,   1131.1, 2,   2.5625, 2,  34.4409, 2,  34.4416, 2,     26.8, 2,     26.4, 2,   153.02, 2,    43.74, 2,     0.01, 2,     3.13, 2,    0.077, 2,    0.037, 2,    0.003, 2, -999.000, 9,   2384.6, 2,   2387.5, 2,    7.3484,     25.00,   -999.0, 9,   -999.0,  -999.00, 9,   -999.0,   2.4885, 27.4838,   2.5620, 2, 2, 0.46, 0.16, 0.01, 0.018,  -999.00, 9, -999.00, -999.00, 9, -999.00
49NZ20071008, P14N, 27, 1, 21, X12009, 2, 20071021, 1512, 48.9933, 178.9895, 4756,   1330.1, 2,   2.3310, 2,  34.4937, 2,  34.4940, 2,     33.2, 2,     33.5, 2,   159.34, 2,    43.56, 2,     0.01, 2,     3.11, 2,    0.035, 2,    0.012, 2,    0.000, 2, -999.000, 9,   2388.1, 2,   2395.7, 2,    7.3660,     25.00,   -999.0, 9,   -999.0,  -999.00, 9,   -999.0,   2.2442, 27.5464,   2.3311, 2, 2, 0.47, 0.15, 0.01, 0.018,  -999.00, 9, -999.00, -999.00, 9, -999.00
49NZ20071008, P14N, 27, 1, 20, X12026, 2, 20071021, 1512, 48.9933, 178.9895, 4756,   1530.1, 2,   2.1741, 2,  34.5303, 2,  34.5302, 2,     42.1, 2,     41.9, 2,   162.99, 2,    42.98, 2,     0.01, 2,     3.06, 2,    0.018, 2,    0.006, 2,    0.000, 2, -999.000, 9,   2389.3, 2,   2404.0, 2,    7.3845,     25.00,   -999.0, 9,   -999.0,  -999.00, 9,   -999.0,   2.0736, 27.5895,   2.1741, 2, 6, 0.48, 0.15, 0.01, 0.018,  -999.00, 9, -999.00, -999.00, 9, -999.00
49NZ20071008, P14N, 27, 1, 19, X12025, 2, 20071021, 1512, 48.9933, 178.9895, 4756,   1730.2, 2,   2.0230, 2,  34.5640, 2,  34.5639, 2,     51.8, 2,     52.9, 2,   165.37, 2,    42.48, 2,     0.01, 2,     3.02, 2,    0.003, 2,    0.001, 2,    0.000, 2, -999.000, 9,   2384.0, 2,   2409.3, 2,    7.4079,     25.00,   -999.0, 9,   -999.0,  -999.00, 9,   -999.0,   1.9085, 27.6296,   2.0228, 2, 2, 0.48, 0.15, 0.01, 0.018,  -999.00, 9, -999.00, -999.00, 9, -999.00
49NZ20071008, P14N, 27, 1, 18, X12024, 2, 20071021, 1512, 48.9933, 178.9895, 4756,   1931.0, 2,   1.9118, 2,  34.5882, 2,  34.5879, 2,     62.5, 2,     63.9, 2,   166.80, 2,    41.76, 2,     0.01, 2,     2.97, 2,    0.000, 2,    0.000, 2,    0.000, 4, -999.000, 9,   2380.9, 2,   2412.6, 2,    7.4289,     25.00,   -999.0, 9,   -999.0,  -999.00, 9,   -999.0,   1.7826, 27.6587,   1.9118, 2, 2, 0.49, 0.15, 0.01, 0.017,  -999.00, 9, -999.00, -999.00, 9, -999.00
49NZ20071008, P14N, 27, 1, 17, X12023, 2, 20071021, 1512, 48.9933, 178.9895, 4756,   2131.6, 2,   1.8096, 2,  34.6089, 2,  34.6088, 2,     74.1, 2,     75.7, 2,   167.04, 2,    41.05, 2,     0.01, 2,     2.92, 2,    0.000, 2,    0.000, 2,    0.000, 2, -999.000, 9,   2372.7, 2,   2415.2, 2,    7.4516,     25.00,   -999.0, 9,   -999.0,  -999.00, 9,   -999.0,   1.6652, 27.6841,   1.8096, 2, 2, 0.49, 0.15, 0.01, 0.017,  -999.00, 9, -999.00, -999.00, 9, -999.00
49NZ20071008, P14N, 27, 1, 16, X12022, 2, 20071021, 1512, 48.9933, 178.9895, 4756,   2331.8, 2,   1.7298, 2,  34.6245, 2,  34.6243, 6,     85.8, 2,     86.9, 2,   166.34, 2,    40.31, 2,     0.01, 2,     2.86, 2,    0.001, 2,    0.000, 2,    0.000, 2, -999.000, 9,   2367.5, 6,   2416.3, 2,    7.4761,     25.00,   -999.0, 9,   -999.0,  -999.00, 9,   -999.0,   1.5695, 27.7037,   1.7299, 2, 2, 0.48, 0.15, 0.01, 0.017,  -999.00, 9, -999.00, -999.00, 9, -999.00
49NZ20071008, P14N, 27, 1, 15, X12021, 2, 20071021, 1512, 48.9933, 178.9895, 4756,   2530.8, 2,   1.6635, 2,  34.6375, 2,  34.6373, 2,     97.2, 2,     97.2, 2,   165.36, 2,    39.71, 2,     0.01, 2,     2.82, 2,    0.000, 2,    0.000, 2,    0.000, 2, -999.000, 9,   2362.1, 2,   2417.6, 6,    7.4955,     25.00,   -999.0, 9,   -999.0,  -999.00, 9,   -999.0,   1.4868, 27.7202,   1.6634, 2, 2, 0.48, 0.14, 0.01, 0.017,  -999.00, 9, -999.00, -999.00, 9, -999.00
49NZ20071008, P14N, 27, 1, 14, X12020, 2, 20071021, 1512, 48.9933, 178.9895, 4756,   2731.6, 2,   1.6139, 2,  34.6478, 2,  34.6481, 2,    106.1, 2,    106.3, 2,   163.97, 2,    39.10, 2,     0.00, 2,     2.77, 2, -999.000, 9, -999.000, 9, -999.000, 9, -999.000, 9,   2356.9, 2,   2418.3, 2,    7.5109,     25.00,   -999.0, 9,   -999.0,  -999.00, 9,   -999.0,   1.4199, 27.7333,   1.6140, 2, 6, 0.48, 0.14, 0.01, 0.017,  -999.00, 9, -999.00, -999.00, 9, -999.00
49NZ20071008, P14N, 27, 1, 13, X12019, 2, 20071021, 1512, 48.9933, 178.9895, 4756,   2932.5, 2,   1.5692, 2,  34.6567, 2,  34.6564, 2,    115.2, 2,    115.0, 2,   162.02, 2,    38.50, 2,     0.01, 2,     2.73, 2, -999.000, 9, -999.000, 9, -999.000, 9, -999.000, 9,   2350.4, 2,   2419.1, 2,    7.5271,     25.00,   -999.0, 9,   -999.0,  -999.00, 9,   -999.0,   1.3574, 27.7450,   1.5692, 2, 2, 0.48, 0.14, 0.01, 0.017,  -999.00, 9, -999.00, -999.00, 9, -999.00
49NZ20071008, P14N, 27, 1, 12, X12040, 2, 20071021, 1512, 48.9933, 178.9895, 4756,   3172.5, 2,   1.5237, 2,  34.6657, 2,  34.6653, 2,    124.8, 2,    124.8, 2,   159.30, 2,    37.91, 2,     0.01, 2,     2.67, 2,    0.000, 2,    0.000, 2,    0.000, 2, -999.000, 9,   2344.0, 2,   2418.8, 2,    7.5442,     25.00,   -999.0, 9,   -999.0,  -999.00, 9,   -999.0,   1.2898, 27.7570,   1.5236, 2, 2, 0.47, 0.14, 0.01, 0.017,  -999.00, 9, -999.00, -999.00, 9, -999.00
49NZ20071008, P14N, 27, 1, 11, X12047, 2, 20071021, 1512, 48.9933, 178.9895, 4756,   3420.6, 2,   1.4896, 2,  34.6731, 2,  34.6730, 2,    133.5, 2,    133.4, 2,   157.06, 2,    37.32, 2,     0.01, 2,     2.63, 2, -999.000, 9, -999.000, 9, -999.000, 9, -999.000, 9,   2338.8, 2,   2419.1, 2,    7.5595,     25.00,   -999.0, 9,   -999.0,  -999.00, 9,   -999.0,   1.2318, 27.7669,   1.4896, 2, 2, 0.46, 0.14, 0.01, 0.017,  -999.00, 9, -999.00, -999.00, 9, -999.00
49NZ20071008, P14N, 27, 1, 10, X12010, 2, 20071021, 1512, 48.9933, 178.9895, 4756,   3671.2, 2,   1.4718, 2,  34.6783, 2,  34.6780, 6,    139.9, 2,    139.7, 2,   155.77, 2,    36.94, 2,     0.01, 2,     2.60, 2, -999.000, 9, -999.000, 9, -999.000, 9, -999.000, 9,   2334.9, 2,   2418.9, 2,    7.5708,     25.00,   -999.0, 9,   -999.0,  -999.00, 9,   -999.0,   1.1887, 27.7741,   1.4718, 2, 2, 0.46, 0.14, 0.01, 0.016,  -999.00, 9, -999.00, -999.00, 9, -999.00
49NZ20071008, P14N, 27, 1, 9, X12015, 2, 20071021, 1512, 48.9933, 178.9895, 4756,   3920.3, 2,   1.4593, 2,  34.6828, 2,  34.6826, 2,    145.6, 2,    145.4, 2,   154.89, 2,    36.55, 2,     0.01, 2,     2.57, 2,    0.000, 2,    0.000, 2,    0.000, 2, -999.000, 9,   2330.5, 2,   2419.5, 2,    7.5811,     25.00,   -999.0, 9,   -999.0,  -999.00, 9,   -999.0,   1.1502, 27.7803,   1.4594, 2, 2, 0.46, 0.14, 0.01, 0.016,  -999.00, 9, -999.00, -999.00, 9, -999.00
49NZ20071008, P14N, 27, 1, 8, X12046, 2, 20071021, 1512, 48.9933, 178.9895, 4756,   4171.4, 2,   1.4614, 2,  34.6857, 2,  34.6859, 2,    149.0, 2,    149.1, 2,   154.82, 2,    36.33, 2,     0.01, 2,     2.55, 2, -999.000, 9, -999.000, 9, -999.000, 9, -999.000, 9,   2329.9, 6,   2419.4, 2,    7.5876,     25.00,   -999.0, 9,   -999.0,  -999.00, 9,   -999.0,   1.1248, 27.7844,   1.4614, 2, 2, 0.46, 0.13, 0.01, 0.016,  -999.00, 9, -999.00, -999.00, 9, -999.00
49NZ20071008, P14N, 27, 1, 7, X12044, 2, 20071021, 1512, 48.9933, 178.9895, 4756,   4420.8, 2,   1.4721, 2,  34.6881, 2,  34.6884, 2,    151.7, 2,    151.7, 2,   155.84, 2,    36.19, 2,     0.01, 2,     2.54, 2,    0.000, 2,    0.000, 2,    0.000, 2, -999.000, 9,   2329.3, 2,   2420.4, 6,    7.5927,     25.00,   -999.0, 9,   -999.0,  -999.00, 9,   -999.0,   1.1071, 27.7875,   1.4721, 2, 2, 0.46, 0.13, 0.01, 0.016,  -999.00, 9, -999.00, -999.00, 9, -999.00
49NZ20071008, P14N, 27, 1, 6, X12048, 2, 20071021, 1512, 48.9933, 178.9895, 4756,   4671.2, 2,   1.4986, 2,  34.6887, 2,  34.6889, 2,    152.3, 2,    152.2, 2,   156.21, 2,    36.12, 2,     0.01, 2,     2.54, 2, -999.000, 9, -999.000, 9, -999.000, 9, -999.000, 9,   2327.0, 2,   2420.2, 2,    7.5945,     25.00,   -999.0, 9,   -999.0,  -999.00, 9,   -999.0,   1.1037, 27.7882,   1.4986, 2, 6, 0.46, 0.13, 0.01, 0.016,  -999.00, 9, -999.00, -999.00, 9, -999.00
49NZ20071008, P14N, 27, 1, 5, X12014, 9, 20071021, 1512, 48.9933, 178.9895, 4756,     10.5, 2,   7.9700, 2,  32.7451, 2, -999.0000, 9,    294.3, 2,   -999.0, 9,  -999.00, 9,  -999.00, 9,  -999.00, 9,  -999.00, 9, -999.000, 9, -999.000, 9, -999.000, 9, -999.000, 9,   -999.0, 9,   -999.0, 9, -999.0000,   -999.00,   -999.0, 9,   -999.0,  -999.00, 9,   -999.0,   7.9690, 25.5078,   7.9703, 2, 9, -999.00, -999.00, -999.00, -999.000,  -999.00, 9, -999.00, -999.00, 9, -999.00
49NZ20071008, P14N, 27, 1, 4, X12006, 9, 20071021, 1512, 48.9933, 178.9895, 4756,    199.7, 2,   3.2007, 2,  33.7297, 2, -999.0000, 9,    127.7, 2,   -999.0, 9,  -999.00, 9,  -999.00, 9,  -999.00, 9,  -999.00, 9, -999.000, 9, -999.000, 9, -999.000, 9, -999.000, 9,   -999.0, 9,   -999.0, 9, -999.0000,   -999.00,   -999.0, 9,   -999.0,  -999.00, 9,   -999.0,   3.1884, 26.8540,   3.2005, 2, 9, -999.00, -999.00, -999.00, -999.000,  -999.00, 9, -999.00, -999.00, 9, -999.00
49NZ20071008, P14N, 27, 1, 3, X12013, 9, 20071021, 1512, 48.9933, 178.9895, 4756,    248.5, 2,   3.4061, 2,  33.8600, 2, -999.0000, 9,     84.8, 2,   -999.0, 9,  -999.00, 9,  -999.00, 9,  -999.00, 9,  -999.00, 9, -999.000, 9, -999.000, 9, -999.000, 9, -999.000, 9,   -999.0, 9,   -999.0, 9, -999.0000,   -999.00,   -999.0, 9,   -999.0,  -999.00, 9,   -999.0,   3.3902, 26.9392,   3.4058, 2, 9, -999.00, -999.00, -999.00, -999.000,  -999.00, 9, -999.00, -999.00, 9, -999.00
49NZ20071008, P14N, 27, 1, 2, X12002, 9, 20071021, 1512, 48.9933, 178.9895, 4756,    248.6, 2,   3.4050, 2,  33.8598, 2, -999.0000, 9,     84.8, 2,   -999.0, 9,  -999.00, 9,  -999.00, 9,  -999.00, 9,  -999.00, 9, -999.000, 9, -999.000, 9, -999.000, 9, -999.000, 9,   -999.0, 9,   -999.0, 9, -999.0000,   -999.00,   -999.0, 9,   -999.0,  -999.00, 9,   -999.0,   3.3891, 26.9391,   3.4051, 2, 9, -999.00, -999.00, -999.00, -999.000,  -999.00, 9, -999.00, -999.00, 9, -999.00
49NZ20071008, P14N, 27, 1, 1, X12001, 2, 20071021, 1512, 48.9933, 178.9895, 4756,   4839.7, 2,   1.5180, 2,  34.6886, 2,  34.6889, 6,    152.4, 2,    152.4, 2,   156.57, 2,    36.12, 2,     0.01, 2,     2.54, 2,    0.000, 2,    0.000, 2,    0.000, 2, -999.000, 9,   2329.4, 2,   2420.6, 2,    7.5956,     25.00,   -999.0, 9,   -999.0,  -999.00, 9,   -999.0,   1.1025, 27.7882,   1.5179, 2, 2, 0.46, 0.13, 0.01, 0.016,  -999.00, 9, -999.00, -999.00, 9, -999.00