BOTTLE,20221005CCHSIOAMB
EXPOCODE,SECT_ID,STNNBR,CASTNO,SAMPNO,BTLNBR,BTLNBR_FLAG_W,DATE,TIME,LATITUDE,LONGITUDE,DEPTH,CTDPRS,CTDPRS_FLAG_W,CTDTMP,CTDTMP_FLAG_W,CTDSAL,CTDSAL_FLAG_W,SALNTY,SALNTY_FLAG_W,CTDOXY,CTDOXY_FLAG_W,OXYGEN,OXYGEN_FLAG_W,SILCAT,SILCAT_FLAG_W,NITRAT,NITRAT_FLAG_W,NITRIT,NITRIT_FLAG_W,PHSPHT,PHSPHT_FLAG_W,CFC-11,CFC-11_FLAG_W,CFC-12,CFC-12_FLAG_W,CFC113,CFC113_FLAG_W,CCL4,CCL4_FLAG_W,TCARBN,TCARBN_FLAG_W,ALKALI,ALKALI_FLAG_W,PH_TOT,PH_TMP,DELC14,DELC14_FLAG_W,C14ERR,DELC13,DELC13_FLAG_W,C13ERR,THETA,SIG0,SBE35,SBE35_FLAG_W,PH_TOT_FLAG_W,SILUNC,NRAUNC,NRIUNC,PHPUNC,CS-137,CS-137_FLAG_W,CS137ER,PLUTO,PLUTO_FLAG_W,PLUTOER
,,,,,,,,,,,METERS,DBAR,,ITS-90,,PSS-78,,PSS-78,,UMOL/KG,,UMOL/KG,,UMOL/KG,,UMOL/KG,,UMOL/KG,,UMOL/KG,,PMOL/KG,,PMOL/KG,,PMOL/KG,,PMOL/KG,,UMOL/KG,,UMOL/KG,,,DEG C,/MILLE,,/MILLE,/MILLE,,/MILLE,DEG C,KG/M^3,ITS-90,,,UMOL/KG,UMOL/KG,UMOL/KG,UMOL/KG,DM/.1MG,,BQ/M^3,MBQ/M^3,,MBQ/M^3
49NZ20071008, P14N, 22, 1, 36, X12042, 2, 20071022, 2202, 50.7047, 179.4290, 4561,      9.8, 2,   6.2956, 2,  32.8249, 2,  32.8252, 2,    306.2, 2,    305.9, 2,    30.11, 2,    17.05, 2,     0.22, 2,     1.56, 2,    4.372, 2,    2.437, 2,    0.369, 2, -999.000, 9,   -999.0, 9,   -999.0, 9, -999.0000,   -999.00,   -999.0, 9,   -999.0,  -999.00, 9,   -999.0,   6.2948, 25.7975,   6.2934, 2, 9, 0.19, 0.08, 0.01, 0.014,  -999.00, 9, -999.00, -999.00, 9, -999.00
49NZ20071008, P14N, 22, 1, 35, X12041, 2, 20071022, 2202, 50.7047, 179.4290, 4561,     50.8, 2,   4.6485, 2,  33.0744, 2,  33.0608, 2,    267.8, 2,    262.0, 2,    40.12, 2,    24.29, 2,     0.13, 2,     1.97, 2,    4.491, 2,    2.471, 2,    0.388, 2, -999.000, 9,   -999.0, 9,   -999.0, 9, -999.0000,   -999.00,   -999.0, 9,   -999.0,  -999.00, 9,   -999.0,   4.6449, 26.1877,   4.6596, 2, 9, 0.21, 0.10, 0.01, 0.015,  -999.00, 9, -999.00, -999.00, 9, -999.00
49NZ20071008, P14N, 22, 1, 34, X12016, 2, 20071022, 2202, 50.7047, 179.4290, 4561,    101.0, 2,   4.5878, 2,  33.5853, 2,  33.5891, 2,    156.9, 2,    138.0, 2,    65.76, 2,    34.50, 2,     0.02, 2,     2.53, 2,    3.131, 2,    1.623, 2,    0.261, 2, -999.000, 9,   -999.0, 9,   -999.0, 9, -999.0000,   -999.00,   -999.0, 9,   -999.0,  -999.00, 9,   -999.0,   4.5805, 26.6001,   4.5844, 2, 9, 0.26, 0.13, 0.01, 0.016,  -999.00, 9, -999.00, -999.00, 9, -999.00
49NZ20071008, P14N, 22, 1, 33, X12033, 2, 20071022, 2202, 50.7047, 179.4290, 4561,    150.9, 2,   4.4221, 2,  33.7943, 2,  33.7965, 2,     93.4, 2,     85.3, 2,    79.38, 2,    38.74, 2,     0.02, 2,     2.80, 2,    2.346, 2,    1.168, 2,    0.169, 2, -999.000, 9,   -999.0, 9,   -999.0, 9, -999.0000,   -999.00,   -999.0, 9,   -999.0,  -999.00, 9,   -999.0,   4.4113, 26.7842,   4.4222, 2, 9, 0.29, 0.14, 0.01, 0.017,  -999.00, 9, -999.00, -999.00, 9, -999.00
49NZ20071008, P14N, 22, 1, 32, X12038, 2, 20071022, 2202, 50.7047, 179.4290, 4561,    199.2, 2,   3.8661, 2,  33.8701, 2,  33.8722, 2,     60.4, 2,     52.2, 2,    87.28, 2,    42.38, 2,     0.02, 2,     3.04, 2,    2.147, 2,    1.046, 2,    0.138, 2, -999.000, 9,   -999.0, 9,   -999.0, 9, -999.0000,   -999.00,   -999.0, 9,   -999.0,  -999.00, 9,   -999.0,   3.8527, 26.9022,   3.8582, 2, 9, 0.31, 0.15, 0.01, 0.018,  -999.00, 9, -999.00, -999.00, 9, -999.00
49NZ20071008, P14N, 22, 1, 31, X12003, 2, 20071022, 2202, 50.7047, 179.4290, 4561,    249.7, 2,   3.7331, 2,  33.9362, 2,  33.9396, 6,     36.4, 2,     32.6, 2,    94.76, 2,    44.17, 2,     0.02, 2,     3.14, 2,    1.825, 2,    0.874, 2,    0.124, 2, -999.000, 9,   -999.0, 9,   -999.0, 9, -999.0000,   -999.00,   -999.0, 9,   -999.0,  -999.00, 9,   -999.0,   3.7164, 26.9683,   3.7330, 2, 9, 0.33, 0.16, 0.01, 0.018,  -999.00, 9, -999.00, -999.00, 9, -999.00
49NZ20071008, P14N, 22, 1, 30, X12008, 2, 20071022, 2202, 50.7047, 179.4290, 4561,    301.0, 2,   3.9600, 2,  34.0359, 2,  34.0353, 2,     24.6, 2,     22.6, 2,    98.82, 2,    44.11, 2,     0.01, 2,     3.13, 2,    1.256, 2,    0.588, 2,    0.066, 2, -999.000, 9,   -999.0, 9,   -999.0, 9, -999.0000,   -999.00,   -999.0, 9,   -999.0,  -999.00, 9,   -999.0,   3.9392, 27.0255,   3.9597, 2, 9, 0.34, 0.16, 0.01, 0.018,  -999.00, 9, -999.00, -999.00, 9, -999.00
49NZ20071008, P14N, 22, 1, 29, X12035, 2, 20071022, 2202, 50.7047, 179.4290, 4561,    401.2, 2,   3.8074, 2,  34.1201, 2,  34.1192, 2,     18.5, 2,     19.5, 2,   108.08, 2,    44.13, 2,     0.01, 2,     3.14, 2,    0.825, 2,    0.384, 2,    0.044, 2, -999.000, 9,   -999.0, 9,   -999.0, 9, -999.0000,   -999.00,   -999.0, 9,   -999.0,  -999.00, 9,   -999.0,   3.7797, 27.1085,   3.8071, 2, 9, 0.36, 0.16, 0.01, 0.018,  -999.00, 9, -999.00, -999.00, 9, -999.00
49NZ20071008, P14N, 22, 1, 28, X12034, 2, 20071022, 2202, 50.7047, 179.4290, 4561,    500.6, 2,   3.5862, 2,  34.1930, 2,  34.1932, 6,     16.8, 2,     15.3, 2,   117.69, 2,    44.38, 2,     0.01, 2,     3.16, 2,    0.509, 2,    0.239, 2,    0.030, 2, -999.000, 9,   -999.0, 9,   -999.0, 9, -999.0000,   -999.00,   -999.0, 9,   -999.0,  -999.00, 9,   -999.0,   3.5521, 27.1890,   3.5859, 2, 9, 0.38, 0.16, 0.01, 0.018,  -999.00, 9, -999.00, -999.00, 9, -999.00
49NZ20071008, P14N, 22, 1, 27, X12049, 2, 20071022, 2202, 50.7047, 179.4290, 4561,    599.7, 2,   3.3473, 2,  34.2265, 2,  34.2271, 2,     15.8, 2,     18.0, 2,   125.15, 2,    44.26, 2,     0.01, 2,     3.16, 2,    0.491, 2,    0.230, 2,    0.026, 2, -999.000, 9,   -999.0, 9,   -999.0, 9, -999.0000,   -999.00,   -999.0, 9,   -999.0,  -999.00, 9,   -999.0,   3.3071, 27.2392,   3.3467, 2, 9, 0.39, 0.16, 0.01, 0.018,  -999.00, 9, -999.00, -999.00, 9, -999.00
49NZ20071008, P14N, 22, 1, 26, X12032, 2, 20071022, 2202, 50.7047, 179.4290, 4561,    699.7, 2,   3.2319, 2,  34.2904, 2,  34.2900, 2,     15.6, 2,     15.5, 2,   131.05, 2,    44.30, 2,     0.01, 2,     3.18, 2,    0.245, 2,    0.117, 2,    0.022, 4, -999.000, 9,   -999.0, 9,   -999.0, 9, -999.0000,   -999.00,   -999.0, 9,   -999.0,  -999.00, 9,   -999.0,   3.1850, 27.3016,   3.2317, 2, 9, 0.41, 0.16, 0.01, 0.018,  -999.00, 9, -999.00, -999.00, 9, -999.00
49NZ20071008, P14N, 22, 1, 25, X12043, 2, 20071022, 2202, 50.7047, 179.4290, 4561,    800.8, 2,   3.0647, 2,  34.3301, 2,  34.3298, 2,     16.8, 2,     16.5, 2,   136.81, 2,    44.37, 2,     0.01, 2,     3.18, 2,    0.181, 2,    0.081, 2,    0.012, 2, -999.000, 9,   -999.0, 9,   -999.0, 9, -999.0000,   -999.00,   -999.0, 9,   -999.0,  -999.00, 9,   -999.0,   3.0114, 27.3492,   3.0647, 2, 9, 0.42, 0.16, 0.01, 0.018,  -999.00, 9, -999.00, -999.00, 9, -999.00
49NZ20071008, P14N, 22, 1, 24, X12030, 2, 20071022, 2202, 50.7047, 179.4290, 4561,    900.9, 2,   2.8818, 2,  34.3684, 2,  34.3667, 2,     20.0, 2,     19.3, 2,   142.30, 2,    44.07, 2,     0.01, 2,     3.15, 2,    0.145, 2,    0.069, 2,    0.000, 2, -999.000, 9,   -999.0, 9,   -999.0, 9, -999.0000,   -999.00,   -999.0, 9,   -999.0,  -999.00, 9,   -999.0,   2.8224, 27.3968,   2.8821, 2, 9, 0.43, 0.16, 0.01, 0.018,  -999.00, 9, -999.00, -999.00, 9, -999.00
49NZ20071008, P14N, 22, 1, 23, X12027, 2, 20071022, 2202, 50.7047, 179.4290, 4561,   1000.8, 2,   2.7450, 2,  34.3994, 2,  34.3988, 6,     22.2, 2,     21.7, 2,   146.93, 2,    44.05, 2,     0.01, 2,     3.14, 2,    0.109, 2,    0.049, 2,    0.000, 2, -999.000, 9,   -999.0, 9,   -999.0, 9, -999.0000,   -999.00,   -999.0, 9,   -999.0,  -999.00, 9,   -999.0,   2.6792, 27.4342,   2.7446, 2, 9, 0.44, 0.16, 0.01, 0.018,  -999.00, 9, -999.00, -999.00, 9, -999.00
49NZ20071008, P14N, 22, 1, 22, X12028, 2, 20071022, 2202, 50.7047, 179.4290, 4561,   1200.6, 2,   2.5073, 2,  34.4554, 2,  34.4555, 2,     26.2, 2,     26.5, 2,   154.23, 2,    43.96, 2,     0.01, 2,     3.12, 2, -999.000, 5, -999.000, 5, -999.000, 5, -999.000, 9,   -999.0, 9,   -999.0, 9, -999.0000,   -999.00,   -999.0, 9,   -999.0,  -999.00, 9,   -999.0,   2.4286, 27.5005,   2.5072, 2, 9, 0.46, 0.16, 0.01, 0.018,  -999.00, 9, -999.00, -999.00, 9, -999.00
49NZ20071008, P14N, 22, 1, 21, X12009, 2, 20071022, 2202, 50.7047, 179.4290, 4561,   1399.9, 2,   2.3086, 2,  34.5008, 2,  34.5005, 2,     31.5, 2,     32.2, 2,   159.81, 2,    43.78, 2,     0.01, 2,     3.11, 2, -999.000, 9, -999.000, 9, -999.000, 9, -999.000, 9,   -999.0, 9,   -999.0, 9, -999.0000,   -999.00,   -999.0, 9,   -999.0,  -999.00, 9,   -999.0,   2.2167, 27.5543,   2.3086, 2, 9, 0.47, 0.16, 0.01, 0.018,  -999.00, 9, -999.00, -999.00, 9, -999.00
49NZ20071008, P14N, 22, 1, 20, X12026, 2, 20071022, 2202, 50.7047, 179.4290, 4561,   1599.4, 2,   2.1103, 2,  34.5434, 2,  34.5434, 2,     44.2, 2,     45.9, 2,   163.79, 2,    42.93, 2,     0.01, 2,     3.04, 2,    0.007, 2,    0.005, 2,    0.000, 2, -999.000, 9,   -999.0, 9,   -999.0, 9, -999.0000,   -999.00,   -999.0, 9,   -999.0,  -999.00, 9,   -999.0,   2.0051, 27.6055,   2.1104, 2, 9, 0.48, 0.15, 0.01, 0.018,  -999.00, 9, -999.00, -999.00, 9, -999.00
49NZ20071008, P14N, 22, 1, 19, X12025, 2, 20071022, 2202, 50.7047, 179.4290, 4561,   1803.0, 2,   1.9712, 2,  34.5741, 2,  34.5737, 2,     55.6, 2,     57.3, 2,   165.68, 2,    42.28, 2,     0.01, 2,     2.99, 2, -999.000, 9, -999.000, 9, -999.000, 9, -999.000, 9,   -999.0, 9,   -999.0, 9, -999.0000,   -999.00,   -999.0, 9,   -999.0,  -999.00, 9,   -999.0,   1.8516, 27.6420,   1.9712, 2, 9, 0.48, 0.15, 0.01, 0.017,  -999.00, 9, -999.00, -999.00, 9, -999.00
49NZ20071008, P14N, 22, 1, 18, X12024, 2, 20071022, 2202, 50.7047, 179.4290, 4561,   2001.7, 2,   1.8848, 2,  34.5931, 2,  34.5926, 2,     64.9, 2,     65.8, 2,   166.55, 2,    41.69, 2,     0.01, 2,     2.95, 2,    0.000, 2,    0.000, 2,    0.000, 2, -999.000, 9,   -999.0, 9,   -999.0, 9, -999.0000,   -999.00,   -999.0, 9,   -999.0,  -999.00, 9,   -999.0,   1.7501, 27.6650,   1.8844, 2, 9, 0.49, 0.15, 0.01, 0.017,  -999.00, 9, -999.00, -999.00, 9, -999.00
49NZ20071008, P14N, 22, 1, 17, X12023, 2, 20071022, 2202, 50.7047, 179.4290, 4561,   2200.0, 2,   1.7920, 2,  34.6116, 2,  34.6115, 6,     75.2, 2,     77.6, 2,   166.82, 2,    41.05, 2,     0.01, 2,     2.90, 2, -999.000, 9, -999.000, 9, -999.000, 9, -999.000, 9,   -999.0, 9,   -999.0, 9, -999.0000,   -999.00,   -999.0, 9,   -999.0,  -999.00, 9,   -999.0,   1.6420, 27.6880,   1.7920, 2, 9, 0.49, 0.15, 0.01, 0.017,  -999.00, 9, -999.00, -999.00, 9, -999.00
49NZ20071008, P14N, 22, 1, 16, X12022, 2, 20071022, 2202, 50.7047, 179.4290, 4561,   2400.1, 2,   1.7126, 2,  34.6271, 2,  34.6268, 2,     87.3, 2,     88.9, 2,   166.19, 2,    40.37, 2,     0.01, 2,     2.84, 2,    0.000, 2,    0.001, 2,    0.000, 2, -999.000, 9,   -999.0, 9,   -999.0, 9, -999.0000,   -999.00,   -999.0, 9,   -999.0,  -999.00, 9,   -999.0,   1.5466, 27.7075,   1.7126, 2, 9, 0.48, 0.15, 0.01, 0.017,  -999.00, 9, -999.00, -999.00, 9, -999.00
49NZ20071008, P14N, 22, 1, 15, X12021, 2, 20071022, 2202, 50.7047, 179.4290, 4561,   2599.9, 2,   1.6482, 2,  34.6398, 2,  34.6396, 2,     98.2, 2,     99.1, 2,   165.16, 2,    39.72, 2,     0.01, 2,     2.81, 2, -999.000, 9, -999.000, 9, -999.000, 9, -999.000, 9,   -999.0, 9,   -999.0, 9, -999.0000,   -999.00,   -999.0, 9,   -999.0,  -999.00, 9,   -999.0,   1.4656, 27.7236,   1.6482, 2, 9, 0.48, 0.14, 0.01, 0.017,  -999.00, 9, -999.00, -999.00, 9, -999.00
49NZ20071008, P14N, 22, 1, 14, X12020, 2, 20071022, 2202, 50.7047, 179.4290, 4561,   2799.4, 2,   1.5995, 2,  34.6495, 2,  34.6494, 2,    106.4, 2,    108.2, 2,   163.88, 2,    39.09, 2,     0.01, 2,     2.75, 2, -999.000, 9, -999.000, 9, -999.000, 9, -999.000, 9,   -999.0, 9,   -999.0, 9, -999.0000,   -999.00,   -999.0, 9,   -999.0,  -999.00, 9,   -999.0,   1.3996, 27.7361,   1.5994, 2, 9, 0.48, 0.14, 0.01, 0.017,  -999.00, 9, -999.00, -999.00, 9, -999.00
49NZ20071008, P14N, 22, 1, 13, X12019, 2, 20071022, 2202, 50.7047, 179.4290, 4561,   3000.2, 2,   1.5613, 2,  34.6576, 2,  34.6576, 2,    114.7, 2,    116.1, 2,   162.59, 2,    38.56, 2,     0.01, 2,     2.72, 2,    0.000, 2,    0.000, 2,    0.000, 2, -999.000, 9,   -999.0, 9,   -999.0, 9, -999.0000,   -999.00,   -999.0, 9,   -999.0,  -999.00, 9,   -999.0,   1.3432, 27.7467,   1.5613, 2, 9, 0.48, 0.14, 0.01, 0.017,  -999.00, 9, -999.00, -999.00, 9, -999.00
49NZ20071008, P14N, 22, 1, 12, X12040, 2, 20071022, 2202, 50.7047, 179.4290, 4561,   3251.4, 2,   1.5242, 2,  34.6660, 2,  34.6658, 2,    124.3, 2,    124.9, 2,   160.31, 2,    37.88, 2,     0.01, 2,     2.67, 2, -999.000, 9, -999.000, 9, -999.000, 9, -999.000, 9,   -999.0, 9,   -999.0, 9, -999.0000,   -999.00,   -999.0, 9,   -999.0,  -999.00, 9,   -999.0,   1.2825, 27.7577,   1.5242, 2, 9, 0.47, 0.14, 0.01, 0.017,  -999.00, 9, -999.00, -999.00, 9, -999.00
49NZ20071008, P14N, 22, 1, 11, X12047, 2, 20071022, 2202, 50.7047, 179.4290, 4561,   3500.9, 2,   1.5018, 2,  34.6723, 2,  34.6722, 6,    131.7, 2,    131.9, 2,   158.57, 2,    37.57, 2,     0.01, 2,     2.64, 2, -999.000, 9, -999.000, 9, -999.000, 9, -999.000, 9,   -999.0, 9,   -999.0, 9, -999.0000,   -999.00,   -999.0, 9,   -999.0,  -999.00, 9,   -999.0,   1.2356, 27.7660,   1.5019, 2, 9, 0.47, 0.14, 0.01, 0.017,  -999.00, 9, -999.00, -999.00, 9, -999.00
49NZ20071008, P14N, 22, 1, 10, X12010, 2, 20071022, 2202, 50.7047, 179.4290, 4561,   3750.2, 2,   1.4820, 2,  34.6779, 2,  34.6780, 2,    137.8, 2,    138.0, 2,   157.92, 2,    37.12, 2,     0.01, 2,     2.61, 2,    0.000, 2,    0.000, 2,    0.000, 2, -999.000, 9,   -999.0, 9,   -999.0, 9, -999.0000,   -999.00,   -999.0, 9,   -999.0,  -999.00, 9,   -999.0,   1.1904, 27.7736,   1.4821, 2, 9, 0.47, 0.14, 0.01, 0.016,  -999.00, 9, -999.00, -999.00, 9, -999.00
49NZ20071008, P14N, 22, 1, 9, X12015, 2, 20071022, 2202, 50.7047, 179.4290, 4561,   4001.5, 2,   1.4745, 2,  34.6819, 2,  34.6818, 2,    143.2, 2,    143.2, 2,   156.67, 2,    36.72, 2,     0.01, 2,     2.58, 2, -999.000, 9, -999.000, 9, -999.000, 9, -999.000, 9,   -999.0, 9,   -999.0, 9, -999.0000,   -999.00,   -999.0, 9,   -999.0,  -999.00, 9,   -999.0,   1.1562, 27.7792,   1.4745, 2, 9, 0.46, 0.14, 0.01, 0.016,  -999.00, 9, -999.00, -999.00, 9, -999.00
49NZ20071008, P14N, 22, 1, 8, X12046, 2, 20071022, 2202, 50.7047, 179.4290, 4561,   4249.8, 2,   1.4650, 2,  34.6859, 2,  34.6860, 2,    148.6, 2,    149.2, 2,   154.10, 2,    36.28, 2,     0.01, 2,     2.55, 2,    0.000, 2,    0.000, 2,    0.000, 2, -999.000, 9,   -999.0, 9,   -999.0, 9, -999.0000,   -999.00,   -999.0, 9,   -999.0,  -999.00, 9,   -999.0,   1.1195, 27.7849,   1.4650, 2, 9, 0.46, 0.13, 0.01, 0.016,  -999.00, 9, -999.00, -999.00, 9, -999.00
49NZ20071008, P14N, 22, 1, 7, X12044, 2, 20071022, 2202, 50.7047, 179.4290, 4561,   4500.1, 2,   1.4701, 2,  34.6886, 2,  34.6888, 2,    152.8, 2,    153.0, 2,   152.51, 2,    36.09, 2,     0.01, 2,     2.52, 2, -999.000, 9, -999.000, 9, -999.000, 9, -999.000, 9,   -999.0, 9,   -999.0, 9, -999.0000,   -999.00,   -999.0, 9,   -999.0,  -999.00, 9,   -999.0,   1.0960, 27.7887,   1.4701, 2, 9, 0.45, 0.13, 0.01, 0.016,  -999.00, 9, -999.00, -999.00, 9, -999.00
49NZ20071008, P14N, 22, 1, 6, X12048, 2, 20071022, 2202, 50.7047, 179.4290, 4561,     20.2, 2,   6.1146, 2,  32.8599, 2,  32.8587, 2,    305.2, 2,    305.7, 2,  -999.00, 9,  -999.00, 9,  -999.00, 9,  -999.00, 9, -999.000, 9, -999.000, 9, -999.000, 9, -999.000, 9,   -999.0, 9,   -999.0, 9, -999.0000,   -999.00,   -999.0, 9,   -999.0,  -999.00, 9,   -999.0,   6.1129, 25.8478,   6.1172, 2, 9, -999.00, -999.00, -999.00, -999.000,  -999.00, 9, -999.00, -999.00, 9, -999.00
49NZ20071008, P14N, 22, 1, 5, X12014, 2, 20071022, 2202, 50.7047, 179.4290, 4561,     29.9, 2,   6.0406, 2,  32.8717, 2,  32.8722, 2,    304.3, 2,    304.3, 2,  -999.00, 9,  -999.00, 9,  -999.00, 9,  -999.00, 9, -999.000, 9, -999.000, 9, -999.000, 9, -999.000, 9,   -999.0, 9,   -999.0, 9, -999.0000,   -999.00,   -999.0, 9,   -999.0,  -999.00, 9,   -999.0,   6.0382, 25.8664,   6.0406, 2, 9, -999.00, -999.00, -999.00, -999.000,  -999.00, 9, -999.00, -999.00, 9, -999.00
49NZ20071008, P14N, 22, 1, 4, X12006, 9, 20071022, 2202, 50.7047, 179.4290, 4561,      9.5, 2,   6.3077, 2,  32.8224, 2, -999.0000, 9,    306.2, 2,   -999.0, 9,  -999.00, 9,  -999.00, 9,  -999.00, 9,  -999.00, 9, -999.000, 9, -999.000, 9, -999.000, 9, -999.000, 9,   -999.0, 9,   -999.0, 9, -999.0000,   -999.00,   -999.0, 9,   -999.0,  -999.00, 9,   -999.0,   6.3069, 25.7940,   6.3063, 2, 9, -999.00, -999.00, -999.00, -999.000,  -999.00, 9, -999.00, -999.00, 9, -999.00
49NZ20071008, P14N, 22, 1, 3, X12013, 9, 20071022, 2202, 50.7047, 179.4290, 4561,    699.6, 2,   3.2311, 2,  34.2903, 2, -999.0000, 9,     15.6, 2,   -999.0, 9,  -999.00, 9,  -999.00, 9,  -999.00, 9,  -999.00, 9, -999.000, 9, -999.000, 9, -999.000, 9, -999.000, 9,   -999.0, 9,   -999.0, 9, -999.0000,   -999.00,   -999.0, 9,   -999.0,  -999.00, 9,   -999.0,   3.1842, 27.3016,   3.2308, 2, 9, -999.00, -999.00, -999.00, -999.000,  -999.00, 9, -999.00, -999.00, 9, -999.00
49NZ20071008, P14N, 22, 1, 2, X12002, 9, 20071022, 2202, 50.7047, 179.4290, 4561,    700.0, 2,   3.2302, 2,  34.2905, 2, -999.0000, 9,     15.6, 2,   -999.0, 9,  -999.00, 9,  -999.00, 9,  -999.00, 9,  -999.00, 9, -999.000, 9, -999.000, 9, -999.000, 9, -999.000, 9,   -999.0, 9,   -999.0, 9, -999.0000,   -999.00,   -999.0, 9,   -999.0,  -999.00, 9,   -999.0,   3.1833, 27.3019,   3.2300, 2, 9, -999.00, -999.00, -999.00, -999.000,  -999.00, 9, -999.00, -999.00, 9, -999.00
49NZ20071008, P14N, 22, 1, 1, X12001, 2, 20071022, 2202, 50.7047, 179.4290, 4561,   4619.3, 2,   1.4685, 2,  34.6902, 2,  34.6904, 6,    155.6, 2,    155.6, 2,   151.03, 2,    35.83, 2,     0.01, 2,     2.52, 2,    0.000, 2,    0.001, 2,    0.000, 2, -999.000, 9,   -999.0, 9,   -999.0, 9, -999.0000,   -999.00,   -999.0, 9,   -999.0,  -999.00, 9,   -999.0,   1.0807, 27.7910,   1.4684, 2, 9, 0.45, 0.13, 0.01, 0.016,  -999.00, 9, -999.00, -999.00, 9, -999.00