BOTTLE,20221005CCHSIOAMB
EXPOCODE,SECT_ID,STNNBR,CASTNO,SAMPNO,BTLNBR,BTLNBR_FLAG_W,DATE,TIME,LATITUDE,LONGITUDE,DEPTH,CTDPRS,CTDPRS_FLAG_W,CTDTMP,CTDTMP_FLAG_W,CTDSAL,CTDSAL_FLAG_W,SALNTY,SALNTY_FLAG_W,CTDOXY,CTDOXY_FLAG_W,OXYGEN,OXYGEN_FLAG_W,SILCAT,SILCAT_FLAG_W,NITRAT,NITRAT_FLAG_W,NITRIT,NITRIT_FLAG_W,PHSPHT,PHSPHT_FLAG_W,CFC-11,CFC-11_FLAG_W,CFC-12,CFC-12_FLAG_W,CFC113,CFC113_FLAG_W,CCL4,CCL4_FLAG_W,TCARBN,TCARBN_FLAG_W,ALKALI,ALKALI_FLAG_W,PH_TOT,PH_TMP,DELC14,DELC14_FLAG_W,C14ERR,DELC13,DELC13_FLAG_W,C13ERR,THETA,SIG0,SBE35,SBE35_FLAG_W,PH_TOT_FLAG_W,SILUNC,NRAUNC,NRIUNC,PHPUNC,CS-137,CS-137_FLAG_W,CS137ER,PLUTO,PLUTO_FLAG_W,PLUTOER
,,,,,,,,,,,METERS,DBAR,,ITS-90,,PSS-78,,PSS-78,,UMOL/KG,,UMOL/KG,,UMOL/KG,,UMOL/KG,,UMOL/KG,,UMOL/KG,,PMOL/KG,,PMOL/KG,,PMOL/KG,,PMOL/KG,,UMOL/KG,,UMOL/KG,,,DEG C,/MILLE,,/MILLE,/MILLE,,/MILLE,DEG C,KG/M^3,ITS-90,,,UMOL/KG,UMOL/KG,UMOL/KG,UMOL/KG,DM/.1MG,,BQ/M^3,MBQ/M^3,,MBQ/M^3
49NZ20071008, P14N, 75, 1, 36, X12042, 2, 20071111, 0336, 24.9998, 179.0148, 5701,      9.8, 2,  26.9307, 2,  35.1663, 2,  35.1660, 2,    202.6, 2,    203.4, 2,     1.07, 2,     0.07, 2,     0.01, 2,     0.04, 2,    1.587, 2,    0.969, 2,    0.362, 4, -999.000, 9,   1967.3, 2,   2311.4, 2,    8.1207,     25.00,   -999.0, 9,   -999.0,  -999.00, 9,   -999.0,  26.9285, 22.8659,  26.9332, 2, 6, 0.12, 0.03, 0.01, 0.045,  -999.00, 9, -999.00, -999.00, 9, -999.00
49NZ20071008, P14N, 75, 1, 35, X12041, 2, 20071111, 0336, 24.9998, 179.0148, 5701,     50.1, 2,  26.5502, 2,  35.2062, 2,  35.2069, 2,    203.9, 2,    204.8, 2,     1.16, 2,     0.06, 2,     0.01, 2,     0.04, 2,    1.613, 2,    0.980, 2,    0.452, 4, -999.000, 9,   1974.5, 6,   2313.7, 2,    8.1123,     25.00,   -999.0, 9,   -999.0,  -999.00, 9,   -999.0,  26.5388, 23.0197,  26.5476, 2, 2, 0.12, 0.03, 0.01, 0.044,  -999.00, 9, -999.00, -999.00, 9, -999.00
49NZ20071008, P14N, 75, 1, 34, X12016, 2, 20071111, 0336, 24.9998, 179.0148, 5701,    100.5, 2,  21.1813, 2,  35.0111, 2,  35.0099, 2,    224.2, 2,    226.3, 2,     1.84, 2,     0.05, 2,     0.01, 2,     0.05, 2,    2.167, 2,    1.288, 2,    1.576, 4, -999.000, 9,   2003.5, 2,   2301.2, 6,    8.0457,     25.00,   -999.0, 9,   -999.0,  -999.00, 9,   -999.0,  21.1620, 24.4582,  21.1801, 2, 2, 0.12, 0.03, 0.01, 0.033,  -999.00, 9, -999.00, -999.00, 9, -999.00
49NZ20071008, P14N, 75, 1, 33, X12033, 2, 20071111, 0336, 24.9998, 179.0148, 5701,    150.4, 2,  18.2847, 2,  34.8381, 2,  34.8333, 2,    199.1, 2,    198.5, 2,     3.22, 2,     2.69, 2,     0.05, 2,     0.27, 2,    2.390, 6,    1.405, 6,    0.179, 6, -999.000, 9,   2042.9, 2,   2289.9, 2,    7.9633,     25.00,   -999.0, 9,   -999.0,  -999.00, 9,   -999.0,  18.2586, 25.0841,  18.2679, 2, 6, 0.13, 0.04, 0.01, 0.015,  -999.00, 9, -999.00, -999.00, 9, -999.00
49NZ20071008, P14N, 75, 1, 32, X12038, 2, 20071111, 0336, 24.9998, 179.0148, 5701,    199.1, 2,  16.1441, 2,  34.6302, 2,  34.6358, 2,    194.3, 2,    193.8, 2,     5.37, 2,     6.24, 2,     0.01, 2,     0.50, 2,    2.600, 2,    1.494, 2,    0.091, 2, -999.000, 9,   2059.7, 2,   2279.2, 2,    7.9117,     25.00,   -999.0, 9,   -999.0,  -999.00, 9,   -999.0,  16.1125, 25.4374,  16.1456, 2, 2, 0.13, 0.05, 0.01, 0.013,  -999.00, 9, -999.00, -999.00, 9, -999.00
49NZ20071008, P14N, 75, 1, 31, X12003, 2, 20071111, 0336, 24.9998, 179.0148, 5701,    252.0, 2,  14.6509, 2,  34.5160, 2,  34.5253, 6,    199.7, 2,    198.6, 2,     7.47, 2,     8.19, 2,     0.01, 2,     0.63, 2,    2.729, 2,    1.564, 2,    0.062, 2, -999.000, 9,   2067.7, 2,   2273.0, 2,    7.8868,     25.00,   -999.0, 9,   -999.0,  -999.00, 9,   -999.0,  14.6134, 25.6827,  14.6493, 2, 2, 0.14, 0.06, 0.01, 0.013,  -999.00, 9, -999.00, -999.00, 9, -999.00
49NZ20071008, P14N, 75, 1, 30, X12008, 2, 20071111, 0336, 24.9998, 179.0148, 5701,    279.4, 2,  13.9416, 2,  34.4685, 2,  34.4627, 2,    202.6, 2,    202.6, 2,     9.06, 2,     9.37, 2,     0.01, 2,     0.71, 2,    2.771, 2,    1.566, 2,    0.069, 2, -999.000, 9,   2073.0, 2,   2270.8, 2,    7.8711,     25.00,   -999.0, 9,   -999.0,  -999.00, 9,   -999.0,  13.9014, 25.7970,  13.9426, 2, 2, 0.14, 0.06, 0.01, 0.013,  -999.00, 9, -999.00, -999.00, 9, -999.00
49NZ20071008, P14N, 75, 1, 29, X12035, 2, 20071111, 0336, 24.9998, 179.0148, 5701,    369.2, 2,  11.9132, 2,  34.3339, 2,  34.3296, 2,    206.0, 2,    205.1, 2,    14.65, 2,    12.89, 2,     0.01, 2,     0.94, 2,    2.859, 2,    1.602, 2,    0.096, 2, -999.000, 9,   2091.6, 2,   2268.8, 2,    7.8236,     25.00,   -999.0, 9,   -999.0,  -999.00, 9,   -999.0,  11.8653, 26.0973,  11.9156, 2, 2, 0.15, 0.07, 0.01, 0.013,  -999.00, 9, -999.00, -999.00, 9, -999.00
49NZ20071008, P14N, 75, 1, 28, X12034, 2, 20071111, 0336, 24.9998, 179.0148, 5701,    468.5, 2,   9.7055, 2,  34.1749, 2,  34.1722, 6,    185.1, 2,    186.8, 2,    24.93, 2,    18.61, 2,     0.01, 2,     1.35, 2,    2.804, 2,    1.508, 2,    0.104, 2, -999.000, 9,   2130.9, 2,   2270.5, 2,    7.7356,     25.00,   -999.0, 9,   -999.0,  -999.00, 9,   -999.0,   9.6519, 26.3660,   9.7067, 2, 2, 0.17, 0.08, 0.01, 0.014,  -999.00, 9, -999.00, -999.00, 9, -999.00
49NZ20071008, P14N, 75, 1, 27, X12049, 2, 20071111, 0336, 24.9998, 179.0148, 5701,    572.3, 2,   7.3386, 2,  34.0765, 2,  34.0754, 2,    134.7, 2,    135.4, 2,    46.08, 2,    27.71, 2,     0.01, 2,     2.02, 2,    2.119, 2,    1.047, 2,    0.080, 2, -999.000, 9,   2197.7, 2,   2283.1, 2,    7.5882,     25.00,   -999.0, 9,   -999.0,  -999.00, 9,   -999.0,   7.2829, 26.6520,   7.3383, 2, 2, 0.22, 0.11, 0.01, 0.015,  -999.00, 9, -999.00, -999.00, 9, -999.00
49NZ20071008, P14N, 75, 1, 26, X12032, 2, 20071111, 0336, 24.9998, 179.0148, 5701,    671.5, 2,   5.8064, 2,  34.1079, 2,  34.1073, 2,     84.8, 2,     84.0, 2,    69.60, 2,    35.13, 2,     0.01, 2,     2.56, 2,    1.134, 6,    0.552, 6,    0.045, 6, -999.000, 9,   2261.7, 6,   2304.7, 2,    7.4666,     25.00,   -999.0, 9,   -999.0,  -999.00, 9,   -999.0,   5.7483, 26.8791,   5.8051, 2, 2, 0.27, 0.13, 0.01, 0.016,  -999.00, 9, -999.00, -999.00, 9, -999.00
49NZ20071008, P14N, 75, 1, 25, X12043, 2, 20071111, 0336, 24.9998, 179.0148, 5701,    770.6, 2,   4.7314, 2,  34.1897, 2,  34.1921, 2,     54.3, 2,     51.0, 2,    91.38, 2,    39.79, 2,     0.01, 2,     2.88, 2,    0.437, 2,    0.213, 2,    0.018, 2, -999.000, 9,   2308.7, 2,   2329.9, 6,    7.3979,     25.00,   -999.0, 9,   -999.0,  -999.00, 9,   -999.0,   4.6705, 27.0699,   4.7314, 2, 2, 0.32, 0.14, 0.01, 0.017,  -999.00, 9, -999.00, -999.00, 9, -999.00
49NZ20071008, P14N, 75, 1, 24, X12030, 2, 20071111, 0336, 24.9998, 179.0148, 5701,    870.5, 2,   4.1500, 2,  34.2784, 2,  34.2806, 2,     37.9, 2,     37.3, 2,   105.71, 2,    41.70, 2,     0.01, 2,     3.02, 2,    0.171, 2,    0.085, 2,    0.012, 2, -999.000, 9,   2336.0, 2,   2349.0, 2,    7.3762,     25.00,   -999.0, 9,   -999.0,  -999.00, 9,   -999.0,   4.0843, 27.2034,   4.1497, 2, 2, 0.35, 0.15, 0.01, 0.017,  -999.00, 9, -999.00, -999.00, 9, -999.00
49NZ20071008, P14N, 75, 1, 23, X12027, 2, 20071111, 0336, 24.9998, 179.0148, 5701,    970.7, 2,   3.8422, 2,  34.3549, 2,  34.3550, 6,     35.5, 2,     35.6, 2,   113.62, 2,    42.37, 2,     0.01, 2,     3.06, 2,    0.061, 2,    0.031, 2,    0.000, 2, -999.000, 9,   2346.3, 2,   2363.0, 2,    7.3796,     25.00,   -999.0, 9,   -999.0,  -999.00, 9,   -999.0,   3.7704, 27.2964,   3.8424, 2, 2, 0.37, 0.15, 0.01, 0.018,  -999.00, 9, -999.00, -999.00, 9, -999.00
49NZ20071008, P14N, 75, 1, 22, X12028, 2, 20071111, 0336, 24.9998, 179.0148, 5701,   1129.8, 2,   3.3743, 2,  34.4484, 2,  34.4489, 2,     44.0, 2,     43.2, 2,   124.84, 2,    42.37, 2,     0.01, 2,     3.05, 2,    0.019, 2,    0.010, 2,    0.000, 2, -999.000, 9,   2359.5, 2,   2380.5, 2,    7.4009,     25.00,   -999.0, 9,   -999.0,  -999.00, 9,   -999.0,   3.2933, 27.4174,   3.3745, 2, 2, 0.39, 0.15, 0.01, 0.018,  -999.00, 9, -999.00, -999.00, 9, -999.00
49NZ20071008, P14N, 75, 1, 21, X12009, 2, 20071111, 0336, 24.9998, 179.0148, 5701,   1331.8, 2,   2.9692, 2,  34.5219, 2,  34.5223, 2,     60.4, 2,     59.8, 2,   132.09, 2,    41.45, 2,     0.01, 2,     2.98, 2,    0.006, 2,    0.006, 2,    0.000, 2, -999.000, 9,   -999.0, 5,   2391.0, 2,    7.4364,     25.00,   -999.0, 9,   -999.0,  -999.00, 9,   -999.0,   2.8756, 27.5147,   2.9692, 2, 2, 0.41, 0.15, 0.01, 0.017,  -999.00, 9, -999.00, -999.00, 9, -999.00
49NZ20071008, P14N, 75, 1, 20, X12026, 2, 20071111, 0336, 24.9998, 179.0148, 5701,   1529.3, 2,   2.6305, 2,  34.5562, 2,  34.5559, 2,     70.7, 2,     69.5, 2,   138.76, 2,    41.11, 2,     0.01, 2,     2.94, 2,    0.008, 2,    0.004, 2,    0.000, 2, -999.000, 9,   2359.0, 2,   2399.8, 2,    7.4530,     25.00,   -999.0, 9,   -999.0,  -999.00, 9,   -999.0,   2.5246, 27.5730,   2.6306, 2, 6, 0.42, 0.15, 0.01, 0.017,  -999.00, 9, -999.00, -999.00, 9, -999.00
49NZ20071008, P14N, 75, 1, 19, X12025, 2, 20071111, 0336, 24.9998, 179.0148, 5701,   1729.8, 2,   2.3019, 2,  34.5845, 2,  34.5844, 2,     79.8, 2,     78.9, 2,   145.41, 2,    40.71, 2,     0.01, 2,     2.90, 2,    0.007, 2,    0.003, 2,    0.000, 2, -999.000, 9,   2360.5, 2,   2406.6, 2,    7.4675,     25.00,   -999.0, 9,   -999.0,  -999.00, 9,   -999.0,   2.1837, 27.6240,   2.3022, 2, 2, 0.44, 0.15, 0.01, 0.017,  -999.00, 9, -999.00, -999.00, 9, -999.00
49NZ20071008, P14N, 75, 1, 18, X12024, 2, 20071111, 0336, 24.9998, 179.0148, 5701,   1930.6, 2,   2.0530, 2,  34.6110, 2,  34.6110, 2,     92.0, 2,     91.6, 2,   149.00, 2,    39.93, 2,     0.01, 2,     2.83, 2,    0.000, 2,    0.000, 2,    0.000, 2, -999.000, 9,   2356.8, 2,   2411.7, 2,    7.4908,     25.00,   -999.0, 9,   -999.0,  -999.00, 9,   -999.0,   1.9216, 27.6662,   2.0529, 2, 2, 0.45, 0.14, 0.01, 0.017,  -999.00, 9, -999.00, -999.00, 9, -999.00
49NZ20071008, P14N, 75, 1, 17, X12023, 2, 20071111, 0336, 24.9998, 179.0148, 5701,   2132.6, 2,   1.8798, 2,  34.6293, 2,  34.6293, 2,    101.7, 2,    102.0, 2,   150.97, 2,    39.36, 2,     0.01, 2,     2.79, 2,    0.004, 2,    0.003, 2,    0.000, 2, -999.000, 9,   2352.7, 2,   2414.9, 2,    7.5102,     25.00,   -999.0, 9,   -999.0,  -999.00, 9,   -999.0,   1.7341, 27.6953,   1.8803, 2, 2, 0.45, 0.14, 0.01, 0.017,  -999.00, 9, -999.00, -999.00, 9, -999.00
49NZ20071008, P14N, 75, 1, 16, X12022, 2, 20071111, 0336, 24.9998, 179.0148, 5701,   2329.6, 2,   1.7760, 2,  34.6407, 2,  34.6405, 2,    108.9, 2,    109.3, 2,   151.92, 2,    38.92, 2,     0.01, 2,     2.75, 2,    0.002, 2,    0.003, 2,    0.000, 2, -999.000, 9,   2353.0, 6,   2416.9, 2,    7.5216,     25.00,   -999.0, 9,   -999.0,  -999.00, 9,   -999.0,   1.6150, 27.7133,   1.7761, 2, 2, 0.45, 0.14, 0.01, 0.017,  -999.00, 9, -999.00, -999.00, 9, -999.00
49NZ20071008, P14N, 75, 1, 15, X12021, 2, 20071111, 0336, 24.9998, 179.0148, 5701,   2530.2, 2,   1.6964, 2,  34.6492, 2,  34.6493, 6,    115.6, 2,    115.4, 2,   152.52, 2,    38.50, 2,     0.01, 2,     2.72, 2,    0.005, 2,    0.002, 2,    0.000, 2, -999.000, 9,   2351.0, 2,   2418.4, 6,    7.5326,     25.00,   -999.0, 9,   -999.0,  -999.00, 9,   -999.0,   1.5191, 27.7273,   1.6965, 2, 2, 0.45, 0.14, 0.01, 0.017,  -999.00, 9, -999.00, -999.00, 9, -999.00
49NZ20071008, P14N, 75, 1, 14, X12020, 2, 20071111, 0336, 24.9998, 179.0148, 5701,   2730.0, 2,   1.6211, 2,  34.6576, 2,  34.6573, 2,    122.0, 2,    122.4, 2,   152.53, 2,    38.06, 2,     0.01, 2,     2.68, 2, -999.000, 9, -999.000, 9, -999.000, 9, -999.000, 9,   2346.7, 2,   2418.9, 2,    7.5436,     25.00,   -999.0, 9,   -999.0,  -999.00, 9,   -999.0,   1.4271, 27.7406,   1.6210, 2, 6, 0.45, 0.14, 0.01, 0.017,  -999.00, 9, -999.00, -999.00, 9, -999.00
49NZ20071008, P14N, 75, 1, 13, X12019, 2, 20071111, 0336, 24.9998, 179.0148, 5701,   2930.7, 2,   1.5712, 2,  34.6640, 2,  34.6639, 2,    128.2, 2,    128.2, 2,   152.03, 2,    37.70, 2,     0.01, 2,     2.65, 2, -999.000, 9, -999.000, 9, -999.000, 9, -999.000, 9,   2341.2, 2,   2419.9, 2,    7.5543,     25.00,   -999.0, 9,   -999.0,  -999.00, 9,   -999.0,   1.3595, 27.7507,   1.5711, 2, 2, 0.45, 0.14, 0.01, 0.017,  -999.00, 9, -999.00, -999.00, 9, -999.00
49NZ20071008, P14N, 75, 1, 12, X12040, 2, 20071111, 0336, 24.9998, 179.0148, 5701,   3170.9, 2,   1.5304, 2,  34.6700, 2,  34.6695, 2,    134.3, 2,    134.3, 2,   150.77, 2,    37.29, 2,     0.01, 2,     2.61, 2,    0.000, 2,    0.000, 2,    0.000, 2, -999.000, 9,   2337.7, 2,   2419.3, 2,    7.5636,     25.00,   -999.0, 9,   -999.0,  -999.00, 9,   -999.0,   1.2965, 27.7599,   1.5303, 2, 2, 0.45, 0.14, 0.01, 0.017,  -999.00, 9, -999.00, -999.00, 9, -999.00
49NZ20071008, P14N, 75, 1, 11, X12047, 2, 20071111, 0336, 24.9998, 179.0148, 5701,   3419.8, 2,   1.5000, 2,  34.6753, 2,  34.6752, 2,    139.6, 2,    139.9, 2,   149.58, 2,    36.84, 2,     0.01, 2,     2.59, 2, -999.000, 9, -999.000, 9, -999.000, 9, -999.000, 9,   2334.2, 2,   2418.6, 2,    7.5729,     25.00,   -999.0, 9,   -999.0,  -999.00, 9,   -999.0,   1.2420, 27.7680,   1.5000, 2, 2, 0.45, 0.14, 0.01, 0.016,  -999.00, 9, -999.00, -999.00, 9, -999.00
49NZ20071008, P14N, 75, 1, 10, X12012, 2, 20071111, 0336, 24.9998, 179.0148, 5701,   3669.7, 2,   1.4798, 2,  34.6795, 2,  34.6804, 3,    145.5, 2,    144.8, 2,   147.93, 2,    36.61, 2,     0.01, 2,     2.57, 2, -999.000, 9, -999.000, 9, -999.000, 9, -999.000, 9,   2328.8, 2,   2417.5, 2,    7.5819,     25.00,   -999.0, 9,   -999.0,  -999.00, 9,   -999.0,   1.1967, 27.7745,   1.4799, 2, 2, 0.44, 0.14, 0.01, 0.016,  -999.00, 9, -999.00, -999.00, 9, -999.00
49NZ20071008, P14N, 75, 1, 9, X12015, 2, 20071111, 0336, 24.9998, 179.0148, 5701,   3920.1, 2,   1.4587, 2,  34.6836, 2,  34.6836, 2,    150.3, 2,    150.5, 2,   146.20, 2,    36.16, 2,     0.01, 2,     2.54, 2,    0.000, 2,    0.000, 2,    0.000, 2, -999.000, 9,   2327.5, 2,   2416.8, 2,    7.5890,     25.00,   -999.0, 9,   -999.0,  -999.00, 9,   -999.0,   1.1496, 27.7811,   1.4587, 2, 2, 0.44, 0.13, 0.01, 0.016,  -999.00, 9, -999.00, -999.00, 9, -999.00
49NZ20071008, P14N, 75, 1, 8, X12046, 2, 20071111, 0336, 24.9998, 179.0148, 5701,   4169.6, 2,   1.4505, 2,  34.6866, 2,  34.6865, 6,    155.2, 2,    155.0, 2,   144.54, 2,    35.86, 2,     0.01, 2,     2.51, 2, -999.000, 9, -999.000, 9, -999.000, 9, -999.000, 9,   2321.7, 6,   2416.2, 2,    7.5950,     25.00,   -999.0, 9,   -999.0,  -999.00, 9,   -999.0,   1.1144, 27.7858,   1.4504, 2, 2, 0.44, 0.13, 0.01, 0.016,  -999.00, 9, -999.00, -999.00, 9, -999.00
49NZ20071008, P14N, 75, 1, 7, X12044, 2, 20071111, 0336, 24.9998, 179.0148, 5701,   4420.7, 2,   1.4485, 2,  34.6895, 2,  34.6895, 2,    159.9, 2,    159.6, 2,   141.63, 2,    35.50, 2,     0.00, 2,     2.49, 2, -999.000, 9, -999.000, 9, -999.000, 9, -999.000, 9,   2318.0, 2,   2413.2, 6,    7.6008,     25.00,   -999.0, 9,   -999.0,  -999.00, 9,   -999.0,   1.0842, 27.7902,   1.4486, 2, 2, 0.43, 0.13, 0.01, 0.016,  -999.00, 9, -999.00, -999.00, 9, -999.00
49NZ20071008, P14N, 75, 1, 6, X12048, 2, 20071111, 0336, 24.9998, 179.0148, 5701,   4671.8, 2,   1.4505, 2,  34.6915, 2,  34.6912, 2,    164.5, 2,    164.1, 2,   138.50, 2,    35.28, 2,     0.00, 2,     2.47, 2,    0.000, 2,    0.000, 2,    0.000, 2, -999.000, 9,   2311.8, 2,   2410.4, 2,    7.6049,     25.00,   -999.0, 9,   -999.0,  -999.00, 9,   -999.0,   1.0571, 27.7937,   1.4506, 2, 6, 0.42, 0.13, 0.01, 0.016,  -999.00, 9, -999.00, -999.00, 9, -999.00
49NZ20071008, P14N, 75, 1, 5, X12014, 2, 20071111, 0336, 24.9998, 179.0148, 5701,   4920.9, 2,   1.4517, 2,  34.6939, 2,  34.6937, 2,    169.2, 2,    168.4, 2,   135.61, 2,    34.85, 2,     0.00, 2,     2.44, 2, -999.000, 9, -999.000, 9, -999.000, 9, -999.000, 9,   2306.8, 2,   2406.9, 2,    7.6098,     25.00,   -999.0, 9,   -999.0,  -999.00, 9,   -999.0,   1.0286, 27.7975,   1.4516, 2, 2, 0.42, 0.13, 0.01, 0.016,  -999.00, 9, -999.00, -999.00, 9, -999.00
49NZ20071008, P14N, 75, 1, 4, X12006, 2, 20071111, 0336, 24.9998, 179.0148, 5701,   5170.6, 2,   1.4589, 2,  34.6958, 2,  34.6959, 2,    172.8, 2,    172.1, 2,   133.18, 2,    34.56, 2,     0.00, 2,     2.42, 2, -999.000, 9, -999.000, 9, -999.000, 9, -999.000, 9,   2303.2, 2,   2403.1, 2,    7.6140,     25.00,   -999.0, 9,   -999.0,  -999.00, 9,   -999.0,   1.0051, 27.8006,   1.4589, 2, 2, 0.41, 0.13, 0.01, 0.016,  -999.00, 9, -999.00, -999.00, 9, -999.00
49NZ20071008, P14N, 75, 1, 3, X12013, 2, 20071111, 0336, 24.9998, 179.0148, 5701,   5420.5, 2,   1.4731, 2,  34.6973, 2,  34.6975, 2,    175.4, 2,    175.1, 2,   131.20, 2,    34.43, 2,     0.00, 2,     2.40, 2,    0.004, 2,    0.003, 2,    0.000, 2, -999.000, 9,   2299.9, 2,   2403.0, 2,    7.6154,     25.00,   -999.0, 9,   -999.0,  -999.00, 9,   -999.0,   0.9876, 27.8029,   1.4731, 2, 2, 0.41, 0.13, 0.01, 0.016,  -999.00, 9, -999.00, -999.00, 9, -999.00
49NZ20071008, P14N, 75, 1, 2, X12002, 9, 20071111, 0336, 24.9998, 179.0148, 5701,      9.6, 2,  26.8693, 2,  35.1651, 2, -999.0000, 9,    202.9, 2,   -999.0, 9,  -999.00, 9,  -999.00, 9,  -999.00, 9,  -999.00, 9, -999.000, 9, -999.000, 9, -999.000, 9, -999.000, 9,   -999.0, 9,   -999.0, 9, -999.0000,   -999.00,   -999.0, 9,   -999.0,  -999.00, 9,   -999.0,  26.8671, 22.8845,  26.8846, 2, 9, -999.00, -999.00, -999.00, -999.000,  -999.00, 9, -999.00, -999.00, 9, -999.00
49NZ20071008, P14N, 75, 1, 1, X12001, 2, 20071111, 0336, 24.9998, 179.0148, 5701,   5701.0, 2,   1.4968, 2,  34.6981, 2,  34.6985, 6,    177.4, 2,    177.0, 2,   129.96, 2,    34.23, 2,     0.00, 2,     2.39, 2,    0.000, 2,    0.000, 2,    0.000, 2, -999.000, 9,   2300.1, 2,   2400.8, 2,    7.6169,     25.00,   -999.0, 9,   -999.0,  -999.00, 9,   -999.0,   0.9744, 27.8044,   1.4968, 2, 2, 0.40, 0.13, 0.01, 0.016,  -999.00, 9, -999.00, -999.00, 9, -999.00