BOTTLE,20221005CCHSIOAMB
EXPOCODE,SECT_ID,STNNBR,CASTNO,SAMPNO,BTLNBR,BTLNBR_FLAG_W,DATE,TIME,LATITUDE,LONGITUDE,DEPTH,CTDPRS,CTDPRS_FLAG_W,CTDTMP,CTDTMP_FLAG_W,CTDSAL,CTDSAL_FLAG_W,SALNTY,SALNTY_FLAG_W,CTDOXY,CTDOXY_FLAG_W,OXYGEN,OXYGEN_FLAG_W,SILCAT,SILCAT_FLAG_W,NITRAT,NITRAT_FLAG_W,NITRIT,NITRIT_FLAG_W,PHSPHT,PHSPHT_FLAG_W,CFC-11,CFC-11_FLAG_W,CFC-12,CFC-12_FLAG_W,CFC113,CFC113_FLAG_W,CCL4,CCL4_FLAG_W,TCARBN,TCARBN_FLAG_W,ALKALI,ALKALI_FLAG_W,PH_TOT,PH_TMP,DELC14,DELC14_FLAG_W,C14ERR,DELC13,DELC13_FLAG_W,C13ERR,THETA,SIG0,SBE35,SBE35_FLAG_W,PH_TOT_FLAG_W,SILUNC,NRAUNC,NRIUNC,PHPUNC,CS-137,CS-137_FLAG_W,CS137ER,PLUTO,PLUTO_FLAG_W,PLUTOER
,,,,,,,,,,,METERS,DBAR,,ITS-90,,PSS-78,,PSS-78,,UMOL/KG,,UMOL/KG,,UMOL/KG,,UMOL/KG,,UMOL/KG,,UMOL/KG,,PMOL/KG,,PMOL/KG,,PMOL/KG,,PMOL/KG,,UMOL/KG,,UMOL/KG,,,DEG C,/MILLE,,/MILLE,/MILLE,,/MILLE,DEG C,KG/M^3,ITS-90,,,UMOL/KG,UMOL/KG,UMOL/KG,UMOL/KG,DM/.1MG,,BQ/M^3,MBQ/M^3,,MBQ/M^3
49NZ20071008, P14N, 74, 2, 36, X12042, 2, 20071110, 2130, 25.5010, 179.0055, 5720,      9.7, 2,  26.5981, 2,  35.1925, 2,  35.1938, 2,    203.8, 2,    203.9, 2,     1.05, 2,     0.05, 2,     0.01, 2,     0.02, 2,    1.579, 2,    0.974, 2,    0.320, 4, -999.000, 9,   -999.0, 9,   -999.0, 9, -999.0000,   -999.00,   -999.0, 9,   -999.0,  -999.00, 9,   -999.0,  26.5959, 22.9913,  26.5978, 2, 9, 0.12, 0.03, 0.01, 0.070,  -999.00, 9, -999.00, -999.00, 9, -999.00
49NZ20071008, P14N, 74, 2, 35, X12041, 2, 20071110, 2130, 25.5010, 179.0055, 5720,     49.1, 2,  26.5978, 2,  35.1988, 2,  35.2013, 2,    203.2, 2,    204.0, 2,     1.03, 2,     0.05, 2,     0.01, 2,     0.02, 2,    1.578, 2,    0.973, 2,    0.324, 4, -999.000, 9,   -999.0, 9,   -999.0, 9, -999.0000,   -999.00,   -999.0, 9,   -999.0,  -999.00, 9,   -999.0,  26.5867, 22.9990,  26.5970, 2, 9, 0.12, 0.03, 0.01, 0.064,  -999.00, 9, -999.00, -999.00, 9, -999.00
49NZ20071008, P14N, 74, 2, 34, X12016, 2, 20071110, 2130, 25.5010, 179.0055, 5720,     99.8, 2,  20.4319, 2,  35.0179, 2,  35.0162, 2,    217.6, 2,    219.5, 2,     1.94, 2,     0.05, 2,     0.01, 2,     0.06, 2,    2.165, 2,    1.293, 2,    0.715, 4, -999.000, 9,   -999.0, 9,   -999.0, 9, -999.0000,   -999.00,   -999.0, 9,   -999.0,  -999.00, 9,   -999.0,  20.4132, 24.6657,  20.4440, 2, 9, 0.12, 0.03, 0.01, 0.032,  -999.00, 9, -999.00, -999.00, 9, -999.00
49NZ20071008, P14N, 74, 2, 33, X12033, 2, 20071110, 2130, 25.5010, 179.0055, 5720,    150.8, 2,  17.9372, 2,  34.8060, 2,  34.8014, 2,    192.1, 2,    194.1, 2,     3.61, 2,     3.92, 2,     0.03, 2,     0.33, 2,    2.380, 6,    1.388, 6,    0.138, 6, -999.000, 9,   -999.0, 9,   -999.0, 9, -999.0000,   -999.00,   -999.0, 9,   -999.0,  -999.00, 9,   -999.0,  17.9114, 25.1452,  17.9389, 2, 9, 0.13, 0.04, 0.01, 0.014,  -999.00, 9, -999.00, -999.00, 9, -999.00
49NZ20071008, P14N, 74, 2, 32, X12038, 2, 20071110, 2130, 25.5010, 179.0055, 5720,    201.1, 2,  15.8478, 2,  34.6137, 2,  34.6137, 2,    196.0, 2,    196.4, 2,     5.77, 2,     6.75, 2,     0.02, 2,     0.54, 3,    2.578, 2,    1.484, 2,    0.054, 2, -999.000, 9,   -999.0, 9,   -999.0, 9, -999.0000,   -999.00,   -999.0, 9,   -999.0,  -999.00, 9,   -999.0,  15.8163, 25.4922,  15.8510, 2, 9, 0.13, 0.05, 0.01, 0.014,  -999.00, 9, -999.00, -999.00, 9, -999.00
49NZ20071008, P14N, 74, 2, 31, X12003, 2, 20071110, 2130, 25.5010, 179.0055, 5720,    249.9, 2,  14.3558, 2,  34.5023, 2,  34.5010, 6,    202.0, 2,    202.3, 2,     8.16, 2,     8.73, 2,     0.01, 2,     0.65, 2,    2.717, 2,    1.560, 2,    0.058, 2, -999.000, 9,   -999.0, 9,   -999.0, 9, -999.0000,   -999.00,   -999.0, 9,   -999.0,  -999.00, 9,   -999.0,  14.3192, 25.7351,  14.3574, 2, 9, 0.14, 0.06, 0.01, 0.013,  -999.00, 9, -999.00, -999.00, 9, -999.00
49NZ20071008, P14N, 74, 2, 30, X12008, 2, 20071110, 2130, 25.5010, 179.0055, 5720,    332.0, 2,  12.4054, 2,  34.3753, 2,  34.3741, 2,    207.7, 2,    206.1, 2,    13.07, 2,    11.97, 2,     0.01, 2,     0.87, 2,    2.820, 2,    1.613, 2,    0.078, 2, -999.000, 9,   -999.0, 9,   -999.0, 9, -999.0000,   -999.00,   -999.0, 9,   -999.0,  -999.00, 9,   -999.0,  12.3612, 26.0345,  12.4061, 2, 9, 0.15, 0.07, 0.01, 0.013,  -999.00, 9, -999.00, -999.00, 9, -999.00
49NZ20071008, P14N, 74, 2, 29, X12035, 2, 20071110, 2130, 25.5010, 179.0055, 5720,    428.3, 2,  10.1141, 2,  34.2010, 2,  34.1969, 2,    196.9, 2,    193.0, 2,    22.45, 2,    17.38, 2,     0.01, 2,     1.26, 2,    2.825, 2,    1.548, 2,    0.096, 2, -999.000, 9,   -999.0, 9,   -999.0, 9, -999.0000,   -999.00,   -999.0, 9,   -999.0,  -999.00, 9,   -999.0,  10.0640, 26.3171,  10.1132, 2, 9, 0.17, 0.08, 0.01, 0.013,  -999.00, 9, -999.00, -999.00, 9, -999.00
49NZ20071008, P14N, 74, 2, 28, X12034, 2, 20071110, 2130, 25.5010, 179.0055, 5720,    530.3, 2,   7.9627, 2,  34.0962, 2,  34.0944, 6,    153.0, 2,    146.5, 2,    39.99, 2,    25.65, 2,     0.01, 2,     1.86, 2,    2.315, 2,    1.165, 2,    0.073, 2, -999.000, 9,   -999.0, 9,   -999.0, 9, -999.0000,   -999.00,   -999.0, 9,   -999.0,  -999.00, 9,   -999.0,   7.9087, 26.5775,   7.9639, 2, 9, 0.21, 0.10, 0.01, 0.015,  -999.00, 9, -999.00, -999.00, 9, -999.00
49NZ20071008, P14N, 74, 2, 27, X12049, 2, 20071110, 2130, 25.5010, 179.0055, 5720,    629.6, 2,   6.4076, 2,  34.0855, 2,  34.0855, 2,    108.7, 2,    104.5, 2,    59.76, 2,    32.30, 2,     0.01, 2,     2.35, 2,    1.544, 2,    0.754, 2,    0.045, 2, -999.000, 9,   -999.0, 9,   -999.0, 9, -999.0000,   -999.00,   -999.0, 9,   -999.0,  -999.00, 9,   -999.0,   6.3505, 26.7852,   6.4079, 2, 9, 0.25, 0.12, 0.01, 0.016,  -999.00, 9, -999.00, -999.00, 9, -999.00
49NZ20071008, P14N, 74, 2, 26, X12032, 2, 20071110, 2130, 25.5010, 179.0055, 5720,    729.4, 2,   5.3443, 2,  34.1443, 2,  34.1457, 2,     67.2, 2,     64.6, 2,    78.86, 2,    37.89, 2,     0.01, 2,     2.74, 2,    0.735, 6,    0.358, 6,    0.027, 6, -999.000, 9,   -999.0, 9,   -999.0, 9, -999.0000,   -999.00,   -999.0, 9,   -999.0,  -999.00, 9,   -999.0,   5.2835, 26.9639,   5.3442, 2, 9, 0.29, 0.14, 0.01, 0.017,  -999.00, 9, -999.00, -999.00, 9, -999.00
49NZ20071008, P14N, 74, 2, 25, X12043, 2, 20071110, 2130, 25.5010, 179.0055, 5720,    832.2, 2,   4.3061, 2,  34.2323, 2,  34.2315, 2,     44.9, 2,     42.0, 2,   101.11, 2,    41.29, 2,     0.01, 2,     2.98, 2,    0.323, 2,    0.158, 2,    0.008, 2, -999.000, 9,   -999.0, 9,   -999.0, 9, -999.0000,   -999.00,   -999.0, 9,   -999.0,  -999.00, 9,   -999.0,   4.2426, 27.1502,   4.3062, 2, 9, 0.34, 0.15, 0.01, 0.017,  -999.00, 9, -999.00, -999.00, 9, -999.00
49NZ20071008, P14N, 74, 2, 24, X12030, 2, 20071110, 2130, 25.5010, 179.0055, 5720,    930.8, 2,   3.9456, 2,  34.3194, 2,  34.3196, 2,     35.5, 2,     35.4, 2,   110.98, 2,    42.34, 2,     0.01, 2,     3.04, 2,    0.125, 2,    0.063, 2,    0.000, 4, -999.000, 9,   -999.0, 9,   -999.0, 9, -999.0000,   -999.00,   -999.0, 9,   -999.0,  -999.00, 9,   -999.0,   3.8763, 27.2574,   3.9472, 2, 9, 0.36, 0.15, 0.01, 0.018,  -999.00, 9, -999.00, -999.00, 9, -999.00
49NZ20071008, P14N, 74, 2, 23, X12027, 2, 20071110, 2130, 25.5010, 179.0055, 5720,   1069.5, 2,   3.5128, 2,  34.4166, 2,  34.4175, 6,     37.1, 2,     38.8, 2,   121.77, 2,    42.80, 2,     0.01, 2,     3.06, 2,    0.026, 2,    0.017, 2,    0.000, 2, -999.000, 9,   -999.0, 9,   -999.0, 9, -999.0000,   -999.00,   -999.0, 9,   -999.0,  -999.00, 9,   -999.0,   3.4355, 27.3785,   3.5130, 2, 9, 0.39, 0.15, 0.01, 0.018,  -999.00, 9, -999.00, -999.00, 9, -999.00
49NZ20071008, P14N, 74, 2, 22, X12028, 2, 20071110, 2130, 25.5010, 179.0055, 5720,   1268.3, 2,   3.0806, 2,  34.4891, 2,  34.4894, 2,     49.6, 2,     49.7, 2,   131.03, 2,    42.29, 2,     0.01, 2,     3.03, 2,    0.000, 2,    0.001, 2,    0.000, 2, -999.000, 9,   -999.0, 9,   -999.0, 9, -999.0000,   -999.00,   -999.0, 9,   -999.0,  -999.00, 9,   -999.0,   2.9911, 27.4780,   3.0809, 2, 9, 0.41, 0.15, 0.01, 0.018,  -999.00, 9, -999.00, -999.00, 9, -999.00
49NZ20071008, P14N, 74, 2, 21, X12009, 2, 20071110, 2130, 25.5010, 179.0055, 5720,   1469.9, 2,   2.6227, 2,  34.5504, 2,  34.5504, 2,     65.6, 2,     67.4, 2,   139.30, 2,    41.42, 2,     0.01, 2,     2.95, 2,    0.000, 2,    0.001, 2,    0.000, 2, -999.000, 9,   -999.0, 9,   -999.0, 9, -999.0000,   -999.00,   -999.0, 9,   -999.0,  -999.00, 9,   -999.0,   2.5217, 27.5686,   2.6228, 2, 9, 0.43, 0.15, 0.01, 0.017,  -999.00, 9, -999.00, -999.00, 9, -999.00
49NZ20071008, P14N, 74, 2, 20, X12026, 2, 20071110, 2130, 25.5010, 179.0055, 5720,   1670.5, 2,   2.3226, 2,  34.5825, 2,  34.5825, 2,     78.4, 2,     78.9, 2,   144.92, 2,    40.85, 2,     0.01, 2,     2.90, 2,    0.000, 2,    0.001, 2,    0.000, 2, -999.000, 9,   -999.0, 9,   -999.0, 9, -999.0000,   -999.00,   -999.0, 9,   -999.0,  -999.00, 9,   -999.0,   2.2090, 27.6204,   2.3227, 2, 9, 0.44, 0.15, 0.01, 0.017,  -999.00, 9, -999.00, -999.00, 9, -999.00
49NZ20071008, P14N, 74, 2, 19, X12025, 2, 20071110, 2130, 25.5010, 179.0055, 5720,   1870.2, 2,   2.0745, 2,  34.6064, 2,  34.6078, 3,     88.0, 2,     88.8, 2,   149.09, 2,    40.23, 2,     0.01, 2,     2.85, 2,    0.001, 2,    0.002, 2,    0.000, 2, -999.000, 9,   -999.0, 9,   -999.0, 9, -999.0000,   -999.00,   -999.0, 9,   -999.0,  -999.00, 9,   -999.0,   1.9478, 27.6605,   2.0745, 2, 9, 0.45, 0.15, 0.01, 0.017,  -999.00, 9, -999.00, -999.00, 9, -999.00
49NZ20071008, P14N, 74, 2, 18, X12024, 2, 20071110, 2130, 25.5010, 179.0055, 5720,   2071.7, 2,   1.9161, 2,  34.6233, 2,  34.6229, 2,     96.8, 2,     97.9, 2,   151.24, 2,    39.71, 2,     0.01, 2,     2.81, 2,    0.000, 2,    0.000, 2,    0.000, 2, -999.000, 9,   -999.0, 9,   -999.0, 9, -999.0000,   -999.00,   -999.0, 9,   -999.0,  -999.00, 9,   -999.0,   1.7750, 27.6874,   1.9162, 2, 9, 0.45, 0.14, 0.01, 0.017,  -999.00, 9, -999.00, -999.00, 9, -999.00
49NZ20071008, P14N, 74, 2, 17, X12023, 2, 20071110, 2130, 25.5010, 179.0055, 5720,   2271.8, 2,   1.7878, 2,  34.6372, 2,  34.6369, 2,    105.6, 2,    106.7, 2,   152.20, 2,    39.29, 2,     0.01, 2,     2.76, 2,    0.000, 2,    0.000, 2,    0.000, 2, -999.000, 9,   -999.0, 9,   -999.0, 9, -999.0000,   -999.00,   -999.0, 9,   -999.0,  -999.00, 9,   -999.0,   1.6316, 27.7093,   1.7879, 2, 9, 0.45, 0.14, 0.01, 0.017,  -999.00, 9, -999.00, -999.00, 9, -999.00
49NZ20071008, P14N, 74, 2, 16, X12022, 2, 20071110, 2130, 25.5010, 179.0055, 5720,   2471.2, 2,   1.7016, 2,  34.6474, 2,  34.6477, 6,    112.2, 2,    114.1, 2,   152.68, 2,    38.80, 2,     0.01, 2,     2.73, 2,    0.000, 2,    0.000, 2,    0.000, 2, -999.000, 9,   -999.0, 9,   -999.0, 9, -999.0000,   -999.00,   -999.0, 9,   -999.0,  -999.00, 9,   -999.0,   1.5295, 27.7251,   1.7016, 2, 9, 0.45, 0.14, 0.01, 0.017,  -999.00, 9, -999.00, -999.00, 9, -999.00
49NZ20071008, P14N, 74, 2, 15, X12021, 2, 20071110, 2130, 25.5010, 179.0055, 5720,   2670.8, 2,   1.6353, 2,  34.6554, 2,  34.6554, 2,    119.1, 2,    120.4, 2,   152.69, 2,    38.41, 2,     0.01, 2,     2.70, 2, -999.000, 9, -999.000, 9, -999.000, 9, -999.000, 9,   -999.0, 9,   -999.0, 9, -999.0000,   -999.00,   -999.0, 9,   -999.0,  -999.00, 9,   -999.0,   1.4464, 27.7375,   1.6354, 2, 9, 0.45, 0.14, 0.01, 0.017,  -999.00, 9, -999.00, -999.00, 9, -999.00
49NZ20071008, P14N, 74, 2, 14, X12020, 2, 20071110, 2130, 25.5010, 179.0055, 5720,   2869.1, 2,   1.5800, 2,  34.6625, 2,  34.6625, 2,    125.1, 2,    126.7, 2,   152.19, 2,    37.94, 2,     0.01, 2,     2.66, 2,    0.000, 2,    0.000, 2,    0.000, 2, -999.000, 9,   -999.0, 9,   -999.0, 9, -999.0000,   -999.00,   -999.0, 9,   -999.0,  -999.00, 9,   -999.0,   1.3739, 27.7484,   1.5802, 2, 9, 0.45, 0.14, 0.01, 0.017,  -999.00, 9, -999.00, -999.00, 9, -999.00
49NZ20071008, P14N, 74, 2, 13, X12019, 2, 20071110, 2130, 25.5010, 179.0055, 5720,   3080.4, 2,   1.5389, 2,  34.6682, 2,  34.6682, 2,    131.6, 2,    132.5, 2,   151.28, 2,    37.59, 2,     0.01, 2,     2.64, 2, -999.000, 9, -999.000, 9, -999.000, 9, -999.000, 9,   -999.0, 9,   -999.0, 9, -999.0000,   -999.00,   -999.0, 9,   -999.0,  -999.00, 9,   -999.0,   1.3136, 27.7573,   1.5390, 2, 9, 0.45, 0.14, 0.01, 0.017,  -999.00, 9, -999.00, -999.00, 9, -999.00
49NZ20071008, P14N, 74, 2, 12, X12040, 2, 20071110, 2130, 25.5010, 179.0055, 5720,   3330.7, 2,   1.5045, 2,  34.6738, 2,  34.6737, 2,    137.8, 2,    138.4, 2,   149.85, 2,    37.11, 2,     0.01, 2,     2.59, 2, -999.000, 9, -999.000, 9, -999.000, 9, -999.000, 9,   -999.0, 9,   -999.0, 9, -999.0000,   -999.00,   -999.0, 9,   -999.0,  -999.00, 9,   -999.0,   1.2554, 27.7658,   1.5045, 2, 9, 0.45, 0.14, 0.01, 0.016,  -999.00, 9, -999.00, -999.00, 9, -999.00
49NZ20071008, P14N, 74, 2, 11, X12047, 2, 20071110, 2130, 25.5010, 179.0055, 5720,   3579.4, 2,   1.4749, 2,  34.6789, 2,  34.6789, 2,    144.2, 2,    144.4, 2,   147.98, 2,    36.71, 2,     0.01, 2,     2.57, 2,    0.000, 2,    0.000, 2,    0.000, 2, -999.000, 9,   -999.0, 9,   -999.0, 9, -999.0000,   -999.00,   -999.0, 9,   -999.0,  -999.00, 9,   -999.0,   1.2013, 27.7737,   1.4748, 2, 9, 0.44, 0.14, 0.01, 0.016,  -999.00, 9, -999.00, -999.00, 9, -999.00
49NZ20071008, P14N, 74, 2, 10, X12012, 2, 20071110, 2130, 25.5010, 179.0055, 5720,   3831.8, 2,   1.4611, 2,  34.6826, 2,  34.6828, 2,    149.1, 2,    149.2, 2,   146.12, 2,    36.40, 2,     0.01, 2,     2.54, 2, -999.000, 9, -999.000, 9, -999.000, 9, -999.000, 9,   -999.0, 9,   -999.0, 9, -999.0000,   -999.00,   -999.0, 9,   -999.0,  -999.00, 9,   -999.0,   1.1614, 27.7794,   1.4611, 2, 9, 0.44, 0.13, 0.01, 0.016,  -999.00, 9, -999.00, -999.00, 9, -999.00
49NZ20071008, P14N, 74, 2, 9, X12015, 2, 20071110, 2130, 25.5010, 179.0055, 5720,   4080.1, 2,   1.4506, 2,  34.6857, 2,  34.6856, 6,    153.6, 2,    154.1, 2,   144.31, 2,    36.05, 2,     0.01, 2,     2.52, 2, -999.000, 9, -999.000, 9, -999.000, 9, -999.000, 9,   -999.0, 9,   -999.0, 9, -999.0000,   -999.00,   -999.0, 9,   -999.0,  -999.00, 9,   -999.0,   1.1243, 27.7845,   1.4506, 2, 9, 0.44, 0.13, 0.01, 0.016,  -999.00, 9, -999.00, -999.00, 9, -999.00
49NZ20071008, P14N, 74, 2, 8, X12046, 2, 20071110, 2130, 25.5010, 179.0055, 5720,   4331.4, 2,   1.4445, 2,  34.6887, 2,  34.6889, 2,    158.7, 2,    158.8, 2,   141.79, 2,    35.75, 2,     0.01, 2,     2.49, 2,    0.000, 2,    0.000, 2,    0.000, 2, -999.000, 9,   -999.0, 9,   -999.0, 9, -999.0000,   -999.00,   -999.0, 9,   -999.0,  -999.00, 9,   -999.0,   1.0905, 27.7892,   1.4446, 2, 9, 0.43, 0.13, 0.01, 0.016,  -999.00, 9, -999.00, -999.00, 9, -999.00
49NZ20071008, P14N, 74, 2, 7, X12044, 2, 20071110, 2130, 25.5010, 179.0055, 5720,   4580.4, 2,   1.4415, 2,  34.6914, 2,  34.6913, 2,    163.3, 2,    163.6, 2,   138.54, 2,    35.38, 2,     0.01, 2,     2.47, 2, -999.000, 9, -999.000, 9, -999.000, 9, -999.000, 9,   -999.0, 9,   -999.0, 9, -999.0000,   -999.00,   -999.0, 9,   -999.0,  -999.00, 9,   -999.0,   1.0590, 27.7934,   1.4415, 2, 9, 0.42, 0.13, 0.01, 0.016,  -999.00, 9, -999.00, -999.00, 9, -999.00
49NZ20071008, P14N, 74, 2, 6, X12048, 2, 20071110, 2130, 25.5010, 179.0055, 5720,   4831.6, 2,   1.4445, 2,  34.6936, 2,  34.6933, 2,    167.5, 2,    168.0, 2,   135.61, 2,    35.06, 2,     0.01, 2,     2.45, 2, -999.000, 9, -999.000, 9, -999.000, 9, -999.000, 9,   -999.0, 9,   -999.0, 9, -999.0000,   -999.00,   -999.0, 9,   -999.0,  -999.00, 9,   -999.0,   1.0324, 27.7970,   1.4446, 2, 9, 0.42, 0.13, 0.01, 0.016,  -999.00, 9, -999.00, -999.00, 9, -999.00
49NZ20071008, P14N, 74, 2, 5, X12014, 2, 20071110, 2130, 25.5010, 179.0055, 5720,   5078.6, 2,   1.4556, 2,  34.6952, 2,  34.6952, 2,    171.2, 2,    170.9, 2,   133.63, 2,    34.83, 2,     0.01, 2,     2.43, 2,    0.000, 2,    0.000, 2,    0.000, 2, -999.000, 9,   -999.0, 9,   -999.0, 9, -999.0000,   -999.00,   -999.0, 9,   -999.0,  -999.00, 9,   -999.0,   1.0132, 27.7995,   1.4557, 2, 9, 0.41, 0.13, 0.01, 0.016,  -999.00, 9, -999.00, -999.00, 9, -999.00
49NZ20071008, P14N, 74, 2, 4, X12006, 2, 20071110, 2130, 25.5010, 179.0055, 5720,   5330.1, 2,   1.4702, 2,  34.6966, 2,  34.6965, 2,    173.9, 2,    173.8, 2,   131.84, 2,    34.70, 2,     0.01, 2,     2.42, 2, -999.000, 9, -999.000, 9, -999.000, 9, -999.000, 9,   -999.0, 9,   -999.0, 9, -999.0000,   -999.00,   -999.0, 9,   -999.0,  -999.00, 9,   -999.0,   0.9962, 27.8018,   1.4703, 2, 9, 0.41, 0.13, 0.01, 0.016,  -999.00, 9, -999.00, -999.00, 9, -999.00
49NZ20071008, P14N, 74, 2, 3, X12013, 2, 20071110, 2130, 25.5010, 179.0055, 5720,   5579.4, 2,   1.4909, 2,  34.6974, 2,  34.6977, 2,    176.0, 2,    175.6, 2,   130.73, 2,    34.58, 2,     0.01, 2,     2.40, 2,    0.000, 2,    0.000, 2,    0.000, 2, -999.000, 9,   -999.0, 9,   -999.0, 9, -999.0000,   -999.00,   -999.0, 9,   -999.0,  -999.00, 9,   -999.0,   0.9844, 27.8032,   1.4909, 2, 9, 0.41, 0.13, 0.01, 0.016,  -999.00, 9, -999.00, -999.00, 9, -999.00
49NZ20071008, P14N, 74, 2, 2, X12002, 9, 20071110, 2130, 25.5010, 179.0055, 5720,      9.7, 2,  26.5926, 2,  35.1928, 2, -999.0000, 9,    203.8, 2,   -999.0, 9,  -999.00, 9,  -999.00, 9,  -999.00, 9,  -999.00, 9, -999.000, 9, -999.000, 9, -999.000, 9, -999.000, 9,   -999.0, 9,   -999.0, 9, -999.0000,   -999.00,   -999.0, 9,   -999.0,  -999.00, 9,   -999.0,  26.5904, 22.9933,  26.5929, 2, 9, -999.00, -999.00, -999.00, -999.000,  -999.00, 9, -999.00, -999.00, 9, -999.00
49NZ20071008, P14N, 74, 2, 1, X12001, 2, 20071110, 2130, 25.5010, 179.0055, 5720,   5799.5, 2,   1.5087, 2,  34.6982, 2,  34.6985, 6,    177.7, 2,    177.6, 2,   129.67, 2,    34.31, 2,     0.01, 2,     2.39, 2,    0.000, 2,    0.000, 2,    0.000, 2, -999.000, 9,   -999.0, 9,   -999.0, 9, -999.0000,   -999.00,   -999.0, 9,   -999.0,  -999.00, 9,   -999.0,   0.9730, 27.8046,   1.5087, 2, 9, 0.40, 0.13, 0.01, 0.016,  -999.00, 9, -999.00, -999.00, 9, -999.00