BOTTLE,20221005CCHSIOAMB
EXPOCODE,SECT_ID,STNNBR,CASTNO,SAMPNO,BTLNBR,BTLNBR_FLAG_W,DATE,TIME,LATITUDE,LONGITUDE,DEPTH,CTDPRS,CTDPRS_FLAG_W,CTDTMP,CTDTMP_FLAG_W,CTDSAL,CTDSAL_FLAG_W,SALNTY,SALNTY_FLAG_W,CTDOXY,CTDOXY_FLAG_W,OXYGEN,OXYGEN_FLAG_W,SILCAT,SILCAT_FLAG_W,NITRAT,NITRAT_FLAG_W,NITRIT,NITRIT_FLAG_W,PHSPHT,PHSPHT_FLAG_W,CFC-11,CFC-11_FLAG_W,CFC-12,CFC-12_FLAG_W,CFC113,CFC113_FLAG_W,CCL4,CCL4_FLAG_W,TCARBN,TCARBN_FLAG_W,ALKALI,ALKALI_FLAG_W,PH_TOT,PH_TMP,DELC14,DELC14_FLAG_W,C14ERR,DELC13,DELC13_FLAG_W,C13ERR,THETA,SIG0,SBE35,SBE35_FLAG_W,PH_TOT_FLAG_W,SILUNC,NRAUNC,NRIUNC,PHPUNC,CS-137,CS-137_FLAG_W,CS137ER,PLUTO,PLUTO_FLAG_W,PLUTOER
,,,,,,,,,,,METERS,DBAR,,ITS-90,,PSS-78,,PSS-78,,UMOL/KG,,UMOL/KG,,UMOL/KG,,UMOL/KG,,UMOL/KG,,UMOL/KG,,PMOL/KG,,PMOL/KG,,PMOL/KG,,PMOL/KG,,UMOL/KG,,UMOL/KG,,,DEG C,/MILLE,,/MILLE,/MILLE,,/MILLE,DEG C,KG/M^3,ITS-90,,,UMOL/KG,UMOL/KG,UMOL/KG,UMOL/KG,DM/.1MG,,BQ/M^3,MBQ/M^3,,MBQ/M^3
49NZ20071008, P14N, 64, 1, 36, X12042, 2, 20071107, 0427, 30.4898, 178.9803, 5274,      9.9, 2,  25.0077, 2,  34.8199, 2,  34.8206, 2,    210.2, 2,    211.2, 2,     2.19, 2,     0.07, 2,     0.01, 2,     0.05, 2,    1.712, 2,    1.059, 2,    0.386, 4, -999.000, 9,   -999.0, 9,   -999.0, 9, -999.0000,   -999.00,   -999.0, 9,   -999.0,  -999.00, 9,   -999.0,  25.0056, 23.2034,  25.0066, 2, 9, 0.12, 0.03, 0.01, 0.037,  -999.00, 9, -999.00, -999.00, 9, -999.00
49NZ20071008, P14N, 64, 1, 35, X12041, 2, 20071107, 0427, 30.4898, 178.9803, 5274,     50.4, 2,  22.8287, 2,  34.7459, 2,  34.7394, 2,    241.1, 2,    240.0, 2,     2.44, 2,     0.04, 2,     0.01, 2,     0.05, 2,    2.076, 2,    1.271, 2,    1.168, 4, -999.000, 9,   -999.0, 9,   -999.0, 9, -999.0000,   -999.00,   -999.0, 9,   -999.0,  -999.00, 9,   -999.0,  22.8185, 23.7930,  22.8981, 2, 9, 0.12, 0.03, 0.01, 0.036,  -999.00, 9, -999.00, -999.00, 9, -999.00
49NZ20071008, P14N, 64, 1, 34, X12016, 2, 20071107, 0427, 30.4898, 178.9803, 5274,    100.6, 2,  16.8167, 2,  34.6656, 2,  34.6641, 2,    229.0, 2,    232.5, 2,     3.62, 2,     0.85, 2,     0.11, 2,     0.19, 2,    2.491, 2,    1.483, 2,    0.253, 4, -999.000, 9,   -999.0, 9,   -999.0, 9, -999.0000,   -999.00,   -999.0, 9,   -999.0,  -999.00, 9,   -999.0,  16.8003, 25.3048,  16.8202, 2, 9, 0.13, 0.04, 0.01, 0.016,  -999.00, 1, -999.00, -999.00, 9, -999.00
49NZ20071008, P14N, 64, 1, 33, X12033, 2, 20071107, 0427, 30.4898, 178.9803, 5274,    150.2, 2,  15.6935, 2,  34.6079, 2,  34.6061, 2,    215.6, 2,    216.1, 2,     5.60, 2,     5.53, 2,     0.03, 2,     0.42, 2,    2.572, 6,    1.516, 6,    0.158, 6, -999.000, 9,   -999.0, 9,   -999.0, 9, -999.0000,   -999.00,   -999.0, 9,   -999.0,  -999.00, 9,   -999.0,  15.6701, 25.5207,  15.6921, 2, 9, 0.13, 0.05, 0.01, 0.013,  -999.00, 9, -999.00, -999.00, 9, -999.00
49NZ20071008, P14N, 64, 1, 32, X12038, 2, 20071107, 0427, 30.4898, 178.9803, 5274,    199.3, 2,  14.7369, 2,  34.5434, 2,  34.5416, 2,    209.4, 2,    213.7, 2,     7.31, 2,     7.27, 2,     0.02, 2,     0.55, 2,    2.668, 2,    1.543, 2,    0.113, 2, -999.000, 9,   -999.0, 9,   -999.0, 9, -999.0000,   -999.00,   -999.0, 9,   -999.0,  -999.00, 9,   -999.0,  14.7072, 25.6836,  14.7407, 2, 9, 0.14, 0.05, 0.01, 0.013,  -999.00, 1, -999.00, -999.00, 9, -999.00
49NZ20071008, P14N, 64, 1, 31, X12003, 2, 20071107, 0427, 30.4898, 178.9803, 5274,    252.6, 2,  13.7475, 2,  34.4757, 2,  34.4751, 6,    214.4, 2,    214.2, 2,     9.16, 2,     8.78, 2,     0.02, 2,     0.65, 2,    2.767, 2,    1.579, 2,    0.098, 2, -999.000, 9,   -999.0, 9,   -999.0, 9, -999.0000,   -999.00,   -999.0, 9,   -999.0,  -999.00, 9,   -999.0,  13.7115, 25.8419,  13.7487, 2, 9, 0.14, 0.06, 0.01, 0.013,  -999.00, 9, -999.00, -999.00, 9, -999.00
49NZ20071008, P14N, 64, 1, 30, X12008, 2, 20071107, 0427, 30.4898, 178.9803, 5274,    300.0, 2,  12.9089, 2,  34.4279, 2,  34.4262, 2,    216.6, 2,    217.6, 2,    11.20, 2,    10.14, 2,     0.02, 2,     0.75, 2,    2.838, 2,    1.626, 2,    0.100, 2, -999.000, 9,   -999.0, 9,   -999.0, 9, -999.0000,   -999.00,   -999.0, 9,   -999.0,  -999.00, 9,   -999.0,  12.8679, 25.9760,  12.9087, 2, 9, 0.14, 0.06, 0.01, 0.013,  -999.00, 9, -999.00, -999.00, 9, -999.00
49NZ20071008, P14N, 64, 1, 29, X12035, 2, 20071107, 0427, 30.4898, 178.9803, 5274,    399.8, 2,  11.0972, 2,  34.2891, 2,  34.2880, 2,    210.5, 2,    211.7, 2,    18.20, 2,    14.08, 2,     0.02, 2,     1.03, 2,    2.955, 2,    1.650, 2,    0.118, 2, -999.000, 9,   -999.0, 9,   -999.0, 9, -999.0000,   -999.00,   -999.0, 9,   -999.0,  -999.00, 9,   -999.0,  11.0476, 26.2134,  11.0980, 2, 9, 0.16, 0.07, 0.01, 0.016,  -999.00, 1, -999.00, -999.00, 9, -999.00
49NZ20071008, P14N, 64, 1, 28, X12034, 2, 20071107, 0427, 30.4898, 178.9803, 5274,    498.1, 2,   8.6172, 2,  34.0928, 2,  34.0896, 6,    193.0, 2,    189.8, 2,    30.71, 2,    20.52, 2,     0.02, 2,     1.50, 2,    2.941, 2,    1.587, 2,    0.141, 2, -999.000, 9,   -999.0, 9,   -999.0, 9, -999.0000,   -999.00,   -999.0, 9,   -999.0,  -999.00, 9,   -999.0,   8.5642, 26.4760,   8.6175, 2, 9, 0.19, 0.09, 0.01, 0.014,  -999.00, 9, -999.00, -999.00, 9, -999.00
49NZ20071008, P14N, 64, 1, 27, X12049, 2, 20071107, 0427, 30.4898, 178.9803, 5274,    599.8, 2,   6.6743, 2,  34.0151, 2,  34.0138, 2,    147.0, 2,    148.5, 2,    50.23, 2,    27.85, 2,     0.02, 2,     2.04, 2,    2.434, 2,    1.256, 2,    0.119, 2, -999.000, 9,   -999.0, 9,   -999.0, 9, -999.0000,   -999.00,   -999.0, 9,   -999.0,  -999.00, 9,   -999.0,   6.6189, 26.6943,   6.6783, 2, 9, 0.23, 0.11, 0.01, 0.015,  -999.00, 1, -999.00, -999.00, 9, -999.00
49NZ20071008, P14N, 64, 1, 26, X12032, 2, 20071107, 0427, 30.4898, 178.9803, 5274,    700.6, 2,   5.4641, 2,  34.0354, 2,  34.0361, 2,    105.3, 2,    107.3, 2,    69.99, 2,    33.67, 2,     0.01, 2,     2.46, 2,    1.763, 6,    0.877, 6,    0.080, 6, -999.000, 9,   -999.0, 9,   -999.0, 9, -999.0000,   -999.00,   -999.0, 9,   -999.0,  -999.00, 9,   -999.0,   5.4053, 26.8632,   5.4643, 2, 9, 0.27, 0.13, 0.01, 0.016,  -999.00, 9, -999.00, -999.00, 9, -999.00
49NZ20071008, P14N, 64, 1, 25, X12043, 2, 20071107, 0427, 30.4898, 178.9803, 5274,    798.9, 2,   4.6709, 2,  34.1220, 2,  34.1232, 2,     67.0, 2,     67.4, 2,    89.56, 2,    38.44, 2,     0.01, 2,     2.78, 2,    0.952, 2,    0.461, 2,    0.042, 2, -999.000, 9,   -999.0, 9,   -999.0, 9, -999.0000,   -999.00,   -999.0, 9,   -999.0,  -999.00, 9,   -999.0,   4.6080, 27.0231,   4.6704, 2, 9, 0.32, 0.14, 0.01, 0.017,  -999.00, 1, -999.00, -999.00, 9, -999.00
49NZ20071008, P14N, 64, 1, 24, X12030, 2, 20071107, 0427, 30.4898, 178.9803, 5274,    901.0, 2,   4.0467, 2,  34.2086, 2,  34.2147, 2,     39.3, 2,     38.0, 2,   107.62, 2,    41.78, 2,     0.01, 2,     3.00, 2,    0.374, 2,    0.178, 2,    0.017, 2, -999.000, 9,   -999.0, 9,   -999.0, 9, -999.0000,   -999.00,   -999.0, 9,   -999.0,  -999.00, 9,   -999.0,   3.9793, 27.1587,   4.0466, 2, 9, 0.36, 0.15, 0.01, 0.017,  -999.00, 9, -999.00, -999.00, 9, -999.00
49NZ20071008, P14N, 64, 1, 23, X12027, 2, 20071107, 0427, 30.4898, 178.9803, 5274,   1000.7, 2,   3.6640, 2,  34.2878, 2,  34.2889, 6,     29.7, 2,     29.8, 2,   118.64, 2,    42.78, 2,     0.01, 2,     3.08, 2,    0.197, 2,    0.096, 2,    0.007, 2, -999.000, 9,   -999.0, 9,   -999.0, 9, -999.0000,   -999.00,   -999.0, 9,   -999.0,  -999.00, 9,   -999.0,   3.5912, 27.2607,   3.6640, 2, 9, 0.38, 0.15, 0.01, 0.018,  -999.00, 1, -999.00, -999.00, 9, -999.00
49NZ20071008, P14N, 64, 1, 22, X12028, 2, 20071107, 0427, 30.4898, 178.9803, 5274,   1201.7, 2,   3.1161, 2,  34.4117, 2,  34.4121, 2,     26.1, 2,     25.6, 2,   135.19, 2,    43.79, 2,     0.01, 2,     3.14, 2,    0.036, 2,    0.019, 2,    0.002, 2, -999.000, 9,   -999.0, 9,   -999.0, 9, -999.0000,   -999.00,   -999.0, 9,   -999.0,  -999.00, 9,   -999.0,   3.0317, 27.4125,   3.1167, 2, 9, 0.42, 0.16, 0.01, 0.018,  -999.00, 9, -999.00, -999.00, 9, -999.00
49NZ20071008, P14N, 64, 1, 21, X12009, 2, 20071107, 0427, 30.4898, 178.9803, 5274,   1399.1, 2,   2.7615, 2,  34.4867, 2,  34.4877, 2,     34.9, 2,     34.6, 2,   144.59, 2,    43.51, 2,     0.01, 2,     3.10, 2,    0.013, 2,    0.004, 2,    0.002, 2, -999.000, 9,   -999.0, 9,   -999.0, 9, -999.0000,   -999.00,   -999.0, 9,   -999.0,  -999.00, 9,   -999.0,   2.6648, 27.5052,   2.7613, 2, 9, 0.44, 0.15, 0.01, 0.018,  -999.00, 9, -999.00, -999.00, 9, -999.00
49NZ20071008, P14N, 64, 1, 20, X12026, 2, 20071107, 0427, 30.4898, 178.9803, 5274,   1600.3, 2,   2.4120, 2,  34.5430, 2,  34.5433, 2,     48.2, 2,     45.4, 2,   153.21, 2,    42.96, 2,     0.01, 2,     3.06, 2,    0.006, 2,    0.003, 2,    0.000, 2, -999.000, 9,   -999.0, 9,   -999.0, 9, -999.0000,   -999.00,   -999.0, 9,   -999.0,  -999.00, 9,   -999.0,   2.3030, 27.5810,   2.4110, 2, 9, 0.46, 0.15, 0.01, 0.018,  -999.00, 9, -999.00, -999.00, 9, -999.00
49NZ20071008, P14N, 64, 1, 19, X12025, 2, 20071107, 0427, 30.4898, 178.9803, 5274,   1800.5, 2,   2.1493, 2,  34.5776, 2,  34.5775, 2,     58.3, 2,     58.7, 2,   158.79, 2,    42.17, 2,     0.01, 2,     2.99, 2,    0.003, 2,    0.001, 2,    0.000, 2, -999.000, 9,   -999.0, 9,   -999.0, 9, -999.0000,   -999.00,   -999.0, 9,   -999.0,  -999.00, 9,   -999.0,   2.0274, 27.6311,   2.1492, 2, 9, 0.47, 0.15, 0.01, 0.017,  -999.00, 1, -999.00, -999.00, 9, -999.00
49NZ20071008, P14N, 64, 1, 18, X12024, 2, 20071107, 0427, 30.4898, 178.9803, 5274,   2002.0, 2,   1.9653, 2,  34.6045, 2,  34.6037, 2,     75.3, 2,     73.7, 2,   160.78, 2,    41.28, 2,     0.01, 2,     2.93, 2,    0.001, 2,    0.000, 2,    0.000, 2, -999.000, 9,   -999.0, 9,   -999.0, 9, -999.0000,   -999.00,   -999.0, 9,   -999.0,  -999.00, 9,   -999.0,   1.8293, 27.6681,   1.9655, 2, 9, 0.47, 0.15, 0.01, 0.017,  -999.00, 1, -999.00, -999.00, 9, -999.00
49NZ20071008, P14N, 64, 1, 17, X12023, 2, 20071107, 0427, 30.4898, 178.9803, 5274,   2199.7, 2,   1.8294, 2,  34.6219, 2,  34.6219, 2,     86.3, 2,     86.0, 2,   161.75, 2,    40.46, 2,     0.01, 2,     2.87, 2,    0.000, 2,    0.000, 2,    0.000, 2, -999.000, 9,   -999.0, 9,   -999.0, 9, -999.0000,   -999.00,   -999.0, 9,   -999.0,  -999.00, 9,   -999.0,   1.6788, 27.6935,   1.8293, 2, 9, 0.47, 0.15, 0.01, 0.017,  -999.00, 1, -999.00, -999.00, 9, -999.00
49NZ20071008, P14N, 64, 1, 16, X12022, 2, 20071107, 0427, 30.4898, 178.9803, 5274,   2402.0, 2,   1.7087, 2,  34.6383, 2,  34.6380, 6,     98.7, 2,    101.0, 2,   159.57, 2,    39.54, 2,     0.01, 2,     2.79, 2,    0.001, 2,    0.001, 2,    0.000, 2, -999.000, 9,   -999.0, 9,   -999.0, 9, -999.0000,   -999.00,   -999.0, 9,   -999.0,  -999.00, 9,   -999.0,   1.5426, 27.7168,   1.7086, 2, 9, 0.47, 0.14, 0.01, 0.017,  -999.00, 9, -999.00, -999.00, 9, -999.00
49NZ20071008, P14N, 64, 1, 15, X12021, 2, 20071107, 0427, 30.4898, 178.9803, 5274,   2602.4, 2,   1.6324, 2,  34.6489, 2,  34.6487, 2,    109.8, 2,    110.3, 2,   158.96, 2,    38.96, 2,     0.01, 2,     2.75, 2,    0.000, 2,    0.000, 2,    0.000, 2, -999.000, 9,   -999.0, 9,   -999.0, 9, -999.0000,   -999.00,   -999.0, 9,   -999.0,  -999.00, 9,   -999.0,   1.4498, 27.7321,   1.6322, 2, 9, 0.47, 0.14, 0.01, 0.017,  -999.00, 9, -999.00, -999.00, 9, -999.00
49NZ20071008, P14N, 64, 1, 14, X12020, 2, 20071107, 0427, 30.4898, 178.9803, 5274,   2800.0, 2,   1.5652, 2,  34.6588, 2,  34.6590, 2,    119.5, 2,    119.9, 2,   157.37, 2,    38.31, 2,     0.01, 2,     2.70, 2,    0.000, 2,    0.000, 2,    0.000, 2, -999.000, 9,   -999.0, 9,   -999.0, 9, -999.0000,   -999.00,   -999.0, 9,   -999.0,  -999.00, 9,   -999.0,   1.3659, 27.7460,   1.5652, 2, 9, 0.47, 0.14, 0.01, 0.017,  -999.00, 1, -999.00, -999.00, 9, -999.00
49NZ20071008, P14N, 64, 1, 13, X12019, 2, 20071107, 0427, 30.4898, 178.9803, 5274,   3001.4, 2,   1.5220, 2,  34.6657, 2,  34.6656, 2,    126.3, 2,    126.9, 2,   156.09, 2,    37.80, 2,     0.01, 2,     2.66, 2,    0.001, 2,    0.000, 2,    0.000, 2, -999.000, 9,   -999.0, 9,   -999.0, 9, -999.0000,   -999.00,   -999.0, 9,   -999.0,  -999.00, 9,   -999.0,   1.3046, 27.7559,   1.5219, 2, 9, 0.46, 0.14, 0.01, 0.017,  -999.00, 1, -999.00, -999.00, 9, -999.00
49NZ20071008, P14N, 64, 1, 12, X12040, 2, 20071107, 0427, 30.4898, 178.9803, 5274,   3250.8, 2,   1.4832, 2,  34.6728, 2,  34.6725, 2,    134.7, 2,    134.4, 2,   154.38, 2,    37.19, 2,     0.01, 2,     2.62, 2, -999.000, 9, -999.000, 9, -999.000, 9, -999.000, 9,   -999.0, 9,   -999.0, 9, -999.0000,   -999.00,   -999.0, 9,   -999.0,  -999.00, 9,   -999.0,   1.2425, 27.7659,   1.4831, 2, 9, 0.46, 0.14, 0.01, 0.017,  -999.00, 1, -999.00, -999.00, 9, -999.00
49NZ20071008, P14N, 64, 1, 11, X12047, 4, 20071107, 0427, 30.4898, 178.9803, 5274,   3501.1, 2,   1.4613, 2,  34.6779, 2,  34.5403, 4,    140.6, 2,     45.2, 4,   152.49, 4,    42.99, 4,     0.01, 4,     3.05, 4, -999.000, 9, -999.000, 9, -999.000, 9, -999.000, 9,   -999.0, 9,   -999.0, 9, -999.0000,   -999.00,   -999.0, 9,   -999.0,  -999.00, 9,   -999.0,   1.1960, 27.7733,   1.4612, 2, 9, 0.45, 0.15, 0.01, 0.018,  -999.00, 9, -999.00, -999.00, 9, -999.00
49NZ20071008, P14N, 64, 1, 10, X12017, 2, 20071107, 0427, 30.4898, 178.9803, 5274,   3750.4, 2,   1.4557, 2,  34.6814, 2,  34.6809, 6,    144.8, 2,    144.9, 2,   152.10, 2,    36.62, 2,     0.01, 2,     2.58, 2,    0.000, 2,    0.000, 2,    0.000, 2, -999.000, 9,   -999.0, 9,   -999.0, 9, -999.0000,   -999.00,   -999.0, 9,   -999.0,  -999.00, 9,   -999.0,   1.1648, 27.7782,   1.4555, 2, 9, 0.45, 0.14, 0.01, 0.016,  -999.00, 1, -999.00, -999.00, 9, -999.00
49NZ20071008, P14N, 64, 1, 9, X12015, 2, 20071107, 0427, 30.4898, 178.9803, 5274,   3999.8, 2,   1.4577, 2,  34.6840, 2,  34.6841, 2,    148.1, 2,    148.2, 2,   151.47, 2,    36.42, 2,     0.01, 2,     2.56, 2, -999.000, 9, -999.000, 9, -999.000, 9, -999.000, 9,   -999.0, 9,   -999.0, 9, -999.0000,   -999.00,   -999.0, 9,   -999.0,  -999.00, 9,   -999.0,   1.1400, 27.7820,   1.4576, 2, 9, 0.45, 0.13, 0.01, 0.016,  -999.00, 1, -999.00, -999.00, 9, -999.00
49NZ20071008, P14N, 64, 1, 8, X12046, 2, 20071107, 0427, 30.4898, 178.9803, 5274,   4251.7, 2,   1.4661, 2,  34.6862, 2,  34.6862, 2,    151.0, 2,    151.1, 2,   150.34, 2,    36.14, 2,     0.01, 2,     2.54, 2, -999.000, 9, -999.000, 9, -999.000, 9, -999.000, 9,   -999.0, 9,   -999.0, 9, -999.0000,   -999.00,   -999.0, 9,   -999.0,  -999.00, 9,   -999.0,   1.1204, 27.7851,   1.4660, 2, 9, 0.45, 0.13, 0.01, 0.016,  -999.00, 1, -999.00, -999.00, 9, -999.00
49NZ20071008, P14N, 64, 1, 7, X12044, 2, 20071107, 0427, 30.4898, 178.9803, 5274,   4500.9, 2,   1.4766, 2,  34.6882, 2,  34.6880, 2,    154.2, 2,    154.1, 2,   148.67, 2,    35.99, 2,     0.01, 2,     2.53, 2,    0.003, 2,    0.004, 2,    0.000, 2, -999.000, 9,   -999.0, 9,   -999.0, 9, -999.0000,   -999.00,   -999.0, 9,   -999.0,  -999.00, 9,   -999.0,   1.1022, 27.7880,   1.4767, 2, 9, 0.45, 0.13, 0.01, 0.016,  -999.00, 9, -999.00, -999.00, 9, -999.00
49NZ20071008, P14N, 64, 1, 6, X12048, 2, 20071107, 0427, 30.4898, 178.9803, 5274,   4750.5, 2,   1.4896, 2,  34.6896, 2,  34.6898, 2,    157.2, 2,    157.2, 2,   146.30, 2,    35.77, 2,     0.01, 2,     2.51, 2, -999.000, 9, -999.000, 9, -999.000, 9, -999.000, 9,   -999.0, 9,   -999.0, 9, -999.0000,   -999.00,   -999.0, 9,   -999.0,  -999.00, 9,   -999.0,   1.0857, 27.7902,   1.4895, 2, 9, 0.44, 0.13, 0.01, 0.016,  -999.00, 9, -999.00, -999.00, 9, -999.00
49NZ20071008, P14N, 64, 1, 5, X12014, 2, 20071107, 0427, 30.4898, 178.9803, 5274,   5000.5, 2,   1.5054, 2,  34.6909, 2,  34.6908, 2,    159.9, 2,    159.9, 2,   144.03, 2,    35.58, 2,     0.01, 2,     2.49, 2, -999.000, 9, -999.000, 9, -999.000, 9, -999.000, 9,   -999.0, 9,   -999.0, 9, -999.0000,   -999.00,   -999.0, 9,   -999.0,  -999.00, 9,   -999.0,   1.0709, 27.7922,   1.5053, 2, 9, 0.44, 0.13, 0.01, 0.016,  -999.00, 1, -999.00, -999.00, 9, -999.00
49NZ20071008, P14N, 64, 1, 4, X12006, 2, 20071107, 0427, 30.4898, 178.9803, 5274,   5249.7, 2,   1.5194, 2,  34.6924, 2,  34.6924, 2,    163.2, 2,    163.1, 2,   141.28, 2,    35.37, 2,     0.01, 2,     2.47, 2,    0.000, 2,    0.001, 2,    0.000, 2, -999.000, 9,   -999.0, 9,   -999.0, 9, -999.0000,   -999.00,   -999.0, 9,   -999.0,  -999.00, 9,   -999.0,   1.0537, 27.7946,   1.5195, 2, 9, 0.43, 0.13, 0.01, 0.016,  -999.00, 9, -999.00, -999.00, 9, -999.00
49NZ20071008, P14N, 64, 1, 3, X12013, 2, 20071107, 0427, 30.4898, 178.9803, 5274,   5000.1, 2,   1.5054, 2,  34.6909, 2, -999.0000, 9,    159.9, 2,   -999.0, 9,  -999.00, 9,  -999.00, 9,  -999.00, 9,  -999.00, 9, -999.000, 9, -999.000, 9, -999.000, 9, -999.000, 9,   -999.0, 9,   -999.0, 9, -999.0000,   -999.00,   -999.0, 9,   -999.0,  -999.00, 9,   -999.0,   1.0710, 27.7922,   1.5054, 2, 9, -999.00, -999.00, -999.00, -999.000,  -999.00, 1, -999.00, -999.00, 9, -999.00
49NZ20071008, P14N, 64, 1, 2, X12002, 2, 20071107, 0427, 30.4898, 178.9803, 5274,   5366.7, 2,   1.5292, 2,  34.6927, 2, -999.0000, 9,    164.2, 2,   -999.0, 9,  -999.00, 9,  -999.00, 9,  -999.00, 9,  -999.00, 9, -999.000, 9, -999.000, 9, -999.000, 9, -999.000, 9,   -999.0, 9,   -999.0, 9, -999.0000,   -999.00,   -999.0, 9,   -999.0,  -999.00, 9,   -999.0,   1.0485, 27.7952,   1.5290, 2, 9, -999.00, -999.00, -999.00, -999.000,  -999.00, 1, -999.00, -999.00, 9, -999.00
49NZ20071008, P14N, 64, 1, 1, X12001, 2, 20071107, 0427, 30.4898, 178.9803, 5274,   5366.4, 2,   1.5289, 2,  34.6928, 2,  34.6928, 6,    164.3, 2,    164.0, 2,   140.52, 2,    35.28, 2,     0.01, 2,     2.47, 2,    0.001, 2,    0.000, 2,    0.000, 2, -999.000, 9,   -999.0, 9,   -999.0, 9, -999.0000,   -999.00,   -999.0, 9,   -999.0,  -999.00, 9,   -999.0,   1.0482, 27.7953,   1.5289, 2, 9, 0.43, 0.13, 0.01, 0.016,  -999.00, 1, -999.00, -999.00, 9, -999.00