BOTTLE,20221005CCHSIOAMB
EXPOCODE,SECT_ID,STNNBR,CASTNO,SAMPNO,BTLNBR,BTLNBR_FLAG_W,DATE,TIME,LATITUDE,LONGITUDE,DEPTH,CTDPRS,CTDPRS_FLAG_W,CTDTMP,CTDTMP_FLAG_W,CTDSAL,CTDSAL_FLAG_W,SALNTY,SALNTY_FLAG_W,CTDOXY,CTDOXY_FLAG_W,OXYGEN,OXYGEN_FLAG_W,SILCAT,SILCAT_FLAG_W,NITRAT,NITRAT_FLAG_W,NITRIT,NITRIT_FLAG_W,PHSPHT,PHSPHT_FLAG_W,CFC-11,CFC-11_FLAG_W,CFC-12,CFC-12_FLAG_W,CFC113,CFC113_FLAG_W,CCL4,CCL4_FLAG_W,TCARBN,TCARBN_FLAG_W,ALKALI,ALKALI_FLAG_W,PH_TOT,PH_TMP,DELC14,DELC14_FLAG_W,C14ERR,DELC13,DELC13_FLAG_W,C13ERR,THETA,SIG0,SBE35,SBE35_FLAG_W,PH_TOT_FLAG_W,SILUNC,NRAUNC,NRIUNC,PHPUNC,CS-137,CS-137_FLAG_W,CS137ER,PLUTO,PLUTO_FLAG_W,PLUTOER
,,,,,,,,,,,METERS,DBAR,,ITS-90,,PSS-78,,PSS-78,,UMOL/KG,,UMOL/KG,,UMOL/KG,,UMOL/KG,,UMOL/KG,,UMOL/KG,,PMOL/KG,,PMOL/KG,,PMOL/KG,,PMOL/KG,,UMOL/KG,,UMOL/KG,,,DEG C,/MILLE,,/MILLE,/MILLE,,/MILLE,DEG C,KG/M^3,ITS-90,,,UMOL/KG,UMOL/KG,UMOL/KG,UMOL/KG,DM/.1MG,,BQ/M^3,MBQ/M^3,,MBQ/M^3
49NZ20071008, P14N, 61, 1, 36, X12042, 2, 20071106, 1043, 31.9955, 178.9838, 5184,      9.8, 2,  24.0679, 2,  34.9122, 2,  34.9132, 2,    213.2, 2,    214.0, 2,     1.81, 2,     0.04, 2,     0.00, 2,     0.05, 2,    1.763, 2,    1.068, 2,    0.404, 4, -999.000, 9,   -999.0, 9,   -999.0, 9, -999.0000,   -999.00,   -999.0, 9,   -999.0,  -999.00, 9,   -999.0,  24.0658, 23.5554,  24.0666, 2, 9, 0.12, 0.03, 0.01, 0.035,  -999.00, 9, -999.00, -999.00, 9, -999.00
49NZ20071008, P14N, 61, 1, 35, X12041, 2, 20071106, 1043, 31.9955, 178.9838, 5184,     50.2, 2,  24.0386, 2,  34.9096, 2,  34.9102, 2,    213.3, 2,    214.8, 2,     1.89, 2,     0.04, 2,     0.00, 2,     0.05, 2,    1.784, 2,    1.088, 2,    0.448, 4, -999.000, 9,   -999.0, 9,   -999.0, 9, -999.0000,   -999.00,   -999.0, 9,   -999.0,  -999.00, 9,   -999.0,  24.0280, 23.5646,  24.0393, 2, 9, 0.12, 0.03, 0.01, 0.037,  -999.00, 9, -999.00, -999.00, 9, -999.00
49NZ20071008, P14N, 61, 1, 34, X12016, 2, 20071106, 1043, 31.9955, 178.9838, 5184,    100.8, 2,  18.1422, 2,  34.7665, 2,  34.7649, 2,    213.3, 2,    222.3, 2,     2.85, 2,     0.84, 2,     0.16, 2,     0.16, 2,    2.344, 2,    1.377, 2,    0.320, 4, -999.000, 9,   -999.0, 9,   -999.0, 9, -999.0000,   -999.00,   -999.0, 9,   -999.0,  -999.00, 9,   -999.0,  18.1249, 25.0624,  18.1417, 2, 9, 0.13, 0.04, 0.01, 0.018,  -999.00, 1, -999.00, -999.00, 9, -999.00
49NZ20071008, P14N, 61, 1, 33, X12033, 2, 20071106, 1043, 31.9955, 178.9838, 5184,    149.5, 2,  17.2836, 2,  34.7446, 2,  34.7419, 2,    210.3, 2,    209.9, 2,     4.03, 2,     4.39, 2,     0.02, 2,     0.34, 2,    2.397, 6,    1.401, 6,    0.117, 6, -999.000, 9,   -999.0, 9,   -999.0, 9, -999.0000,   -999.00,   -999.0, 9,   -999.0,  -999.00, 9,   -999.0,  17.2587, 25.2565,  17.2821, 2, 9, 0.13, 0.05, 0.01, 0.014,  -999.00, 9, -999.00, -999.00, 9, -999.00
49NZ20071008, P14N, 61, 1, 32, X12038, 2, 20071106, 1043, 31.9955, 178.9838, 5184,    203.7, 2,  16.4676, 2,  34.6834, 2,  34.6861, 2,    211.7, 2,    209.4, 2,     5.21, 2,     5.53, 2,     0.01, 2,     0.42, 2,    2.491, 2,    1.447, 2,    0.110, 2, -999.000, 9,   -999.0, 9,   -999.0, 9, -999.0000,   -999.00,   -999.0, 9,   -999.0,  -999.00, 9,   -999.0,  16.4348, 25.4039,  16.4699, 2, 9, 0.13, 0.05, 0.01, 0.013,  -999.00, 1, -999.00, -999.00, 9, -999.00
49NZ20071008, P14N, 61, 1, 31, X12003, 2, 20071106, 1043, 31.9955, 178.9838, 5184,    248.7, 2,  15.4410, 2,  34.6024, 2,  34.6013, 6,    210.8, 2,    211.5, 2,     6.85, 2,     6.78, 2,     0.01, 2,     0.52, 2,    2.621, 2,    1.488, 2,    0.103, 2, -999.000, 9,   -999.0, 9,   -999.0, 9, -999.0000,   -999.00,   -999.0, 9,   -999.0,  -999.00, 9,   -999.0,  15.4026, 25.5764,  15.4415, 2, 9, 0.13, 0.05, 0.01, 0.013,  -999.00, 9, -999.00, -999.00, 9, -999.00
49NZ20071008, P14N, 61, 1, 30, X12008, 2, 20071106, 1043, 31.9955, 178.9838, 5184,    301.2, 2,  14.2494, 2,  34.5161, 2,  34.5153, 2,    213.2, 2,    217.3, 2,     8.66, 2,     8.02, 2,     0.01, 2,     0.61, 2,    2.716, 2,    1.530, 2,    0.124, 2, -999.000, 9,   -999.0, 9,   -999.0, 9, -999.0000,   -999.00,   -999.0, 9,   -999.0,  -999.00, 9,   -999.0,  14.2054, 25.7699,  14.2526, 2, 9, 0.14, 0.06, 0.01, 0.013,  -999.00, 9, -999.00, -999.00, 9, -999.00
49NZ20071008, P14N, 61, 1, 29, X12035, 2, 20071106, 1043, 31.9955, 178.9838, 5184,    400.8, 2,  12.5975, 2,  34.4105, 2,  34.4088, 2,    213.3, 2,    213.5, 2,    13.19, 2,    11.24, 2,     0.00, 2,     0.83, 2,    2.840, 2,    1.569, 2,    0.116, 2, -999.000, 9,   -999.0, 9,   -999.0, 9, -999.0000,   -999.00,   -999.0, 9,   -999.0,  -999.00, 9,   -999.0,  12.5434, 26.0264,  12.5986, 2, 9, 0.15, 0.06, 0.01, 0.013,  -999.00, 1, -999.00, -999.00, 9, -999.00
49NZ20071008, P14N, 61, 1, 28, X12034, 2, 20071106, 1043, 31.9955, 178.9838, 5184,    500.3, 2,  10.5149, 2,  34.2401, 2,  34.2354, 6,    205.7, 2,    208.7, 2,    20.20, 2,    15.42, 2,     0.00, 2,     1.14, 2,    3.024, 2,    1.634, 2,    0.131, 2, -999.000, 9,   -999.0, 9,   -999.0, 9, -999.0000,   -999.00,   -999.0, 9,   -999.0,  -999.00, 9,   -999.0,  10.4546, 26.2803,  10.5185, 2, 9, 0.16, 0.08, 0.01, 0.013,  -999.00, 9, -999.00, -999.00, 9, -999.00
49NZ20071008, P14N, 61, 1, 27, X12049, 2, 20071106, 1043, 31.9955, 178.9838, 5184,    599.7, 2,   7.9336, 2,  34.0621, 2,  34.0584, 2,    178.0, 2,    176.4, 2,    37.44, 2,    23.01, 2,     0.00, 2,     1.70, 2,    2.789, 2,    1.450, 2,    0.139, 2, -999.000, 9,   -999.0, 9,   -999.0, 9, -999.0000,   -999.00,   -999.0, 9,   -999.0,  -999.00, 9,   -999.0,   7.8725, 26.5561,   7.9351, 2, 9, 0.20, 0.10, 0.01, 0.014,  -999.00, 1, -999.00, -999.00, 9, -999.00
49NZ20071008, P14N, 61, 1, 26, X12032, 2, 20071106, 1043, 31.9955, 178.9838, 5184,    700.8, 2,   5.9685, 2,  33.9900, 2,  33.9918, 2,    132.3, 2,    139.9, 2,    58.31, 2,    29.95, 2,     0.00, 2,     2.21, 2,    2.359, 6,    1.200, 6,    0.128, 6, -999.000, 9,   -999.0, 9,   -999.0, 9, -999.0000,   -999.00,   -999.0, 9,   -999.0,  -999.00, 9,   -999.0,   5.9070, 26.7662,   5.9694, 2, 9, 0.25, 0.12, 0.01, 0.016,  -999.00, 9, -999.00, -999.00, 9, -999.00
49NZ20071008, P14N, 61, 1, 25, X12043, 2, 20071106, 1043, 31.9955, 178.9838, 5184,    800.4, 2,   4.9504, 2,  34.0652, 2,  34.0686, 2,     85.5, 2,     88.6, 2,    80.57, 2,    36.24, 2,     0.00, 2,     2.64, 2,    1.444, 2,    0.715, 2,    0.075, 2, -999.000, 9,   -999.0, 9,   -999.0, 9, -999.0000,   -999.00,   -999.0, 9,   -999.0,  -999.00, 9,   -999.0,   4.8858, 26.9471,   4.9508, 2, 9, 0.30, 0.13, 0.01, 0.017,  -999.00, 1, -999.00, -999.00, 9, -999.00
49NZ20071008, P14N, 61, 1, 24, X12030, 2, 20071106, 1043, 31.9955, 178.9838, 5184,    899.9, 2,   4.2708, 2,  34.1665, 2,  34.1713, 2,     50.7, 2,     49.6, 2,    99.84, 2,    40.41, 2,     0.00, 2,     2.91, 2,    0.618, 2,    0.294, 2,    0.028, 2, -999.000, 9,   -999.0, 9,   -999.0, 9, -999.0000,   -999.00,   -999.0, 9,   -999.0,  -999.00, 9,   -999.0,   4.2020, 27.1021,   4.2713, 2, 9, 0.34, 0.15, 0.01, 0.017,  -999.00, 9, -999.00, -999.00, 9, -999.00
49NZ20071008, P14N, 61, 1, 23, X12027, 2, 20071106, 1043, 31.9955, 178.9838, 5184,    999.4, 2,   3.8389, 2,  34.2539, 2,  34.2567, 6,     35.9, 2,     37.1, 2,   112.92, 2,    42.05, 2,     0.00, 2,     3.02, 2,    0.329, 2,    0.157, 2,    0.013, 2, -999.000, 9,   -999.0, 9,   -999.0, 9, -999.0000,   -999.00,   -999.0, 9,   -999.0,  -999.00, 9,   -999.0,   3.7650, 27.2165,   3.8395, 2, 9, 0.37, 0.15, 0.01, 0.018,  -999.00, 1, -999.00, -999.00, 9, -999.00
49NZ20071008, P14N, 61, 1, 22, X12028, 2, 20071106, 1043, 31.9955, 178.9838, 5184,   1202.1, 2,   3.1973, 2,  34.3685, 2,  34.3687, 2,     30.9, 2,     30.6, 2,   132.39, 2,    43.26, 2,     0.00, 2,     3.10, 2,    0.135, 2,    0.058, 2,    0.014, 2, -999.000, 9,   -999.0, 9,   -999.0, 9, -999.0000,   -999.00,   -999.0, 9,   -999.0,  -999.00, 9,   -999.0,   3.1122, 27.3706,   3.1975, 2, 9, 0.41, 0.15, 0.01, 0.018,  -999.00, 9, -999.00, -999.00, 9, -999.00
49NZ20071008, P14N, 61, 1, 21, X12009, 2, 20071106, 1043, 31.9955, 178.9838, 5184,   1400.8, 2,   2.7454, 2,  34.4539, 2,  34.4550, 2,     30.2, 2,     30.0, 2,   146.06, 2,    43.84, 2,     0.00, 2,     3.12, 2,    0.030, 2,    0.013, 2,    0.000, 2, -999.000, 9,   -999.0, 9,   -999.0, 9, -999.0000,   -999.00,   -999.0, 9,   -999.0,  -999.00, 9,   -999.0,   2.6488, 27.4804,   2.7457, 2, 9, 0.44, 0.16, 0.01, 0.018,  -999.00, 9, -999.00, -999.00, 9, -999.00
49NZ20071008, P14N, 61, 1, 20, X12026, 2, 20071106, 1043, 31.9955, 178.9838, 5184,   1600.1, 2,   2.4289, 2,  34.5158, 2,  34.5161, 2,     38.9, 2,     38.1, 2,   154.49, 2,    43.57, 2,     0.00, 2,     3.09, 2,    0.006, 2,    0.003, 2,    0.000, 2, -999.000, 9,   -999.0, 9,   -999.0, 9, -999.0000,   -999.00,   -999.0, 9,   -999.0,  -999.00, 9,   -999.0,   2.3198, 27.5579,   2.4289, 2, 9, 0.46, 0.15, 0.01, 0.018,  -999.00, 9, -999.00, -999.00, 9, -999.00
49NZ20071008, P14N, 61, 1, 19, X12025, 2, 20071106, 1043, 31.9955, 178.9838, 5184,   1800.6, 2,   2.1851, 2,  34.5627, 2,  34.5623, 2,     52.9, 2,     53.1, 2,   158.58, 2,    42.66, 2,     0.00, 2,     3.03, 2,    0.000, 2,    0.001, 2,    0.000, 2, -999.000, 9,   -999.0, 9,   -999.0, 9, -999.0000,   -999.00,   -999.0, 9,   -999.0,  -999.00, 9,   -999.0,   2.0627, 27.6164,   2.1851, 2, 9, 0.47, 0.15, 0.01, 0.018,  -999.00, 1, -999.00, -999.00, 9, -999.00
49NZ20071008, P14N, 61, 1, 18, X12024, 2, 20071106, 1043, 31.9955, 178.9838, 5184,   1999.9, 2,   1.9923, 2,  34.5925, 2,  34.5926, 2,     66.9, 2,     68.2, 2,   160.92, 2,    41.80, 2,     0.00, 2,     2.95, 2,    0.000, 2,    0.000, 2,    0.000, 2, -999.000, 9,   -999.0, 9,   -999.0, 9, -999.0000,   -999.00,   -999.0, 9,   -999.0,  -999.00, 9,   -999.0,   1.8561, 27.6564,   1.9923, 2, 9, 0.47, 0.15, 0.01, 0.017,  -999.00, 1, -999.00, -999.00, 9, -999.00
49NZ20071008, P14N, 61, 1, 17, X12023, 2, 20071106, 1043, 31.9955, 178.9838, 5184,   2200.6, 2,   1.8443, 2,  34.6156, 2,  34.6155, 2,     81.5, 2,     82.2, 2,   161.81, 2,    40.78, 2,     0.01, 2,     2.88, 2,    0.000, 2,    0.000, 2,    0.000, 2, -999.000, 9,   -999.0, 9,   -999.0, 9, -999.0000,   -999.00,   -999.0, 9,   -999.0,  -999.00, 9,   -999.0,   1.6934, 27.6874,   1.8443, 2, 9, 0.47, 0.15, 0.01, 0.017,  -999.00, 1, -999.00, -999.00, 9, -999.00
49NZ20071008, P14N, 61, 1, 16, X12022, 2, 20071106, 1043, 31.9955, 178.9838, 5184,   2400.6, 2,   1.7296, 2,  34.6322, 2,  34.6323, 6,     94.2, 2,     95.2, 2,   161.16, 2,    39.93, 2,     0.00, 2,     2.82, 2,    0.000, 2,    0.000, 2,    0.000, 2, -999.000, 9,   -999.0, 9,   -999.0, 9, -999.0000,   -999.00,   -999.0, 9,   -999.0,  -999.00, 9,   -999.0,   1.5633, 27.7104,   1.7295, 2, 9, 0.47, 0.14, 0.01, 0.017,  -999.00, 9, -999.00, -999.00, 9, -999.00
49NZ20071008, P14N, 61, 1, 15, X12021, 2, 20071106, 1043, 31.9955, 178.9838, 5184,   2600.2, 2,   1.6448, 2,  34.6452, 2,  34.6453, 2,    105.3, 2,    107.0, 2,   159.54, 2,    39.26, 2,     0.00, 2,     2.76, 2,    0.000, 2,    0.000, 2,    0.000, 2, -999.000, 9,   -999.0, 9,   -999.0, 9, -999.0000,   -999.00,   -999.0, 9,   -999.0,  -999.00, 9,   -999.0,   1.4622, 27.7281,   1.6447, 2, 9, 0.47, 0.14, 0.01, 0.017,  -999.00, 9, -999.00, -999.00, 9, -999.00
49NZ20071008, P14N, 61, 1, 14, X12020, 2, 20071106, 1043, 31.9955, 178.9838, 5184,   2801.3, 2,   1.5852, 2,  34.6546, 2,  34.6544, 2,    114.3, 2,    115.8, 2,   158.46, 2,    38.79, 2,     0.00, 2,     2.72, 2,    0.000, 2,    0.000, 2,    0.000, 2, -999.000, 9,   -999.0, 9,   -999.0, 9, -999.0000,   -999.00,   -999.0, 9,   -999.0,  -999.00, 9,   -999.0,   1.3854, 27.7413,   1.5851, 2, 9, 0.47, 0.14, 0.01, 0.017,  -999.00, 1, -999.00, -999.00, 9, -999.00
49NZ20071008, P14N, 61, 1, 13, X12019, 2, 20071106, 1043, 31.9955, 178.9838, 5184,   2999.0, 2,   1.5462, 2,  34.6621, 2,  34.6622, 2,    122.1, 2,    123.5, 2,   156.63, 2,    38.18, 2,     0.00, 2,     2.68, 2,    0.000, 2,    0.000, 2,    0.000, 2, -999.000, 9,   -999.0, 9,   -999.0, 9, -999.0000,   -999.00,   -999.0, 9,   -999.0,  -999.00, 9,   -999.0,   1.3286, 27.7513,   1.5462, 2, 9, 0.46, 0.14, 0.01, 0.017,  -999.00, 1, -999.00, -999.00, 9, -999.00
49NZ20071008, P14N, 61, 1, 12, X12040, 2, 20071106, 1043, 31.9955, 178.9838, 5184,   3249.6, 2,   1.5038, 2,  34.6699, 2,  34.6697, 2,    130.8, 2,    131.9, 2,   154.55, 2,    37.61, 2,     0.00, 2,     2.63, 2, -999.000, 9, -999.000, 9, -999.000, 9, -999.000, 9,   -999.0, 9,   -999.0, 9, -999.0000,   -999.00,   -999.0, 9,   -999.0,  -999.00, 9,   -999.0,   1.2628, 27.7622,   1.5037, 2, 9, 0.46, 0.14, 0.01, 0.017,  -999.00, 1, -999.00, -999.00, 9, -999.00
49NZ20071008, P14N, 61, 1, 11, X12047, 2, 20071106, 1043, 31.9955, 178.9838, 5184,   3499.1, 2,   1.4796, 2,  34.6756, 2,  34.6757, 2,    137.5, 2,    138.0, 2,   153.43, 2,    37.07, 2,     0.00, 2,     2.60, 2, -999.000, 9, -999.000, 9, -999.000, 9, -999.000, 9,   -999.0, 9,   -999.0, 9, -999.0000,   -999.00,   -999.0, 9,   -999.0,  -999.00, 9,   -999.0,   1.2141, 27.7701,   1.4796, 2, 9, 0.46, 0.14, 0.01, 0.016,  -999.00, 9, -999.00, -999.00, 9, -999.00
49NZ20071008, P14N, 61, 1, 10, X12017, 2, 20071106, 1043, 31.9955, 178.9838, 5184,   3750.9, 2,   1.4720, 2,  34.6795, 2,  34.6792, 6,    142.2, 2,    143.0, 2,   152.03, 2,    36.83, 2,     0.00, 2,     2.58, 2,    0.000, 2,    0.000, 2,    0.000, 2, -999.000, 9,   -999.0, 9,   -999.0, 9, -999.0000,   -999.00,   -999.0, 9,   -999.0,  -999.00, 9,   -999.0,   1.1806, 27.7756,   1.4720, 2, 9, 0.45, 0.14, 0.01, 0.016,  -999.00, 9, -999.00, -999.00, 9, -999.00
49NZ20071008, P14N, 61, 1, 9, X12015, 2, 20071106, 1043, 31.9955, 178.9838, 5184,   3999.7, 2,   1.4692, 2,  34.6826, 2,  34.6828, 2,    146.9, 2,    147.2, 2,   150.73, 2,    36.53, 2,     0.00, 2,     2.56, 2, -999.000, 9, -999.000, 9, -999.000, 9, -999.000, 9,   -999.0, 9,   -999.0, 9, -999.0000,   -999.00,   -999.0, 9,   -999.0,  -999.00, 9,   -999.0,   1.1512, 27.7801,   1.4690, 2, 9, 0.45, 0.14, 0.01, 0.016,  -999.00, 1, -999.00, -999.00, 9, -999.00
49NZ20071008, P14N, 61, 1, 8, X12046, 2, 20071106, 1043, 31.9955, 178.9838, 5184,   4250.7, 2,   1.4722, 2,  34.6853, 2,  34.6852, 2,    150.5, 2,    150.7, 2,   149.43, 2,    36.36, 2,     0.00, 2,     2.55, 2, -999.000, 9, -999.000, 9, -999.000, 9, -999.000, 9,   -999.0, 9,   -999.0, 9, -999.0000,   -999.00,   -999.0, 9,   -999.0,  -999.00, 9,   -999.0,   1.1264, 27.7840,   1.4720, 2, 9, 0.45, 0.13, 0.01, 0.016,  -999.00, 9, -999.00, -999.00, 9, -999.00
49NZ20071008, P14N, 61, 1, 7, X12044, 2, 20071106, 1043, 31.9955, 178.9838, 5184,   4499.3, 2,   1.4787, 2,  34.6877, 2,  34.6873, 2,    154.2, 2,    154.3, 2,   147.59, 2,    36.09, 2,     0.00, 2,     2.53, 2,    0.000, 2,    0.003, 2,    0.000, 2, -999.000, 9,   -999.0, 9,   -999.0, 9, -999.0000,   -999.00,   -999.0, 9,   -999.0,  -999.00, 9,   -999.0,   1.1045, 27.7873,   1.4786, 2, 9, 0.44, 0.13, 0.01, 0.016,  -999.00, 9, -999.00, -999.00, 9, -999.00
49NZ20071008, P14N, 61, 1, 6, X12048, 2, 20071106, 1043, 31.9955, 178.9838, 5184,   4749.6, 2,   1.4816, 2,  34.6901, 2,  34.6902, 2,    158.9, 2,    158.6, 2,   144.32, 2,    35.70, 2,     0.00, 2,     2.50, 2, -999.000, 9, -999.000, 9, -999.000, 9, -999.000, 9,   -999.0, 9,   -999.0, 9, -999.0000,   -999.00,   -999.0, 9,   -999.0,  -999.00, 9,   -999.0,   1.0780, 27.7911,   1.4816, 2, 9, 0.44, 0.13, 0.01, 0.016,  -999.00, 9, -999.00, -999.00, 9, -999.00
49NZ20071008, P14N, 61, 1, 5, X12014, 2, 20071106, 1043, 31.9955, 178.9838, 5184,   5001.0, 2,   1.4851, 2,  34.6924, 2,  34.6924, 2,    163.7, 2,    163.6, 2,   140.34, 2,    35.46, 2,     0.00, 2,     2.47, 2, -999.000, 9, -999.000, 9, -999.000, 9, -999.000, 9,   -999.0, 9,   -999.0, 9, -999.0000,   -999.00,   -999.0, 9,   -999.0,  -999.00, 9,   -999.0,   1.0512, 27.7947,   1.4850, 2, 9, 0.43, 0.13, 0.01, 0.016,  -999.00, 1, -999.00, -999.00, 9, -999.00
49NZ20071008, P14N, 61, 1, 4, X12006, 2, 20071106, 1043, 31.9955, 178.9838, 5184,   4000.3, 2,   1.4691, 2,  34.6827, 2, -999.0000, 9,    146.9, 2,   -999.0, 9,  -999.00, 9,  -999.00, 9,  -999.00, 9,  -999.00, 9, -999.000, 9, -999.000, 9, -999.000, 9, -999.000, 9,   -999.0, 9,   -999.0, 9, -999.0000,   -999.00,   -999.0, 9,   -999.0,  -999.00, 9,   -999.0,   1.1511, 27.7802,   1.4690, 2, 9, -999.00, -999.00, -999.00, -999.000,  -999.00, 1, -999.00, -999.00, 9, -999.00
49NZ20071008, P14N, 61, 1, 3, X12013, 2, 20071106, 1043, 31.9955, 178.9838, 5184,   5001.0, 2,   1.4851, 2,  34.6924, 2, -999.0000, 9,    163.7, 2,   -999.0, 9,  -999.00, 9,  -999.00, 9,  -999.00, 9,  -999.00, 9, -999.000, 9, -999.000, 9, -999.000, 9, -999.000, 9,   -999.0, 9,   -999.0, 9, -999.0000,   -999.00,   -999.0, 9,   -999.0,  -999.00, 9,   -999.0,   1.0512, 27.7947,   1.4850, 2, 9, -999.00, -999.00, -999.00, -999.000,  -999.00, 1, -999.00, -999.00, 9, -999.00
49NZ20071008, P14N, 61, 1, 2, X12002, 2, 20071106, 1043, 31.9955, 178.9838, 5184,   5264.4, 2,   1.4979, 2,  34.6943, 2, -999.0000, 9,    167.5, 2,   -999.0, 9,  -999.00, 9,  -999.00, 9,  -999.00, 9,  -999.00, 9, -999.000, 9, -999.000, 9, -999.000, 9, -999.000, 9,   -999.0, 9,   -999.0, 9, -999.0000,   -999.00,   -999.0, 9,   -999.0,  -999.00, 9,   -999.0,   1.0311, 27.7976,   1.4979, 2, 9, -999.00, -999.00, -999.00, -999.000,  -999.00, 1, -999.00, -999.00, 9, -999.00
49NZ20071008, P14N, 61, 1, 1, X12001, 2, 20071106, 1043, 31.9955, 178.9838, 5184,   5264.4, 2,   1.4980, 2,  34.6942, 2,  34.6944, 6,    167.5, 2,    167.1, 2,   137.62, 2,    35.05, 2,     0.00, 2,     2.45, 2,    0.000, 2,    0.001, 2,    0.000, 2, -999.000, 9,   -999.0, 9,   -999.0, 9, -999.0000,   -999.00,   -999.0, 9,   -999.0,  -999.00, 9,   -999.0,   1.0312, 27.7975,   1.4979, 2, 9, 0.42, 0.13, 0.01, 0.016,  -999.00, 1, -999.00, -999.00, 9, -999.00