BOTTLE,20221005CCHSIOAMB
EXPOCODE,SECT_ID,STNNBR,CASTNO,SAMPNO,BTLNBR,BTLNBR_FLAG_W,DATE,TIME,LATITUDE,LONGITUDE,DEPTH,CTDPRS,CTDPRS_FLAG_W,CTDTMP,CTDTMP_FLAG_W,CTDSAL,CTDSAL_FLAG_W,SALNTY,SALNTY_FLAG_W,CTDOXY,CTDOXY_FLAG_W,OXYGEN,OXYGEN_FLAG_W,SILCAT,SILCAT_FLAG_W,NITRAT,NITRAT_FLAG_W,NITRIT,NITRIT_FLAG_W,PHSPHT,PHSPHT_FLAG_W,CFC-11,CFC-11_FLAG_W,CFC-12,CFC-12_FLAG_W,CFC113,CFC113_FLAG_W,CCL4,CCL4_FLAG_W,TCARBN,TCARBN_FLAG_W,ALKALI,ALKALI_FLAG_W,PH_TOT,PH_TMP,DELC14,DELC14_FLAG_W,C14ERR,DELC13,DELC13_FLAG_W,C13ERR,THETA,SIG0,SBE35,SBE35_FLAG_W,PH_TOT_FLAG_W,SILUNC,NRAUNC,NRIUNC,PHPUNC,CS-137,CS-137_FLAG_W,CS137ER,PLUTO,PLUTO_FLAG_W,PLUTOER
,,,,,,,,,,,METERS,DBAR,,ITS-90,,PSS-78,,PSS-78,,UMOL/KG,,UMOL/KG,,UMOL/KG,,UMOL/KG,,UMOL/KG,,UMOL/KG,,PMOL/KG,,PMOL/KG,,PMOL/KG,,PMOL/KG,,UMOL/KG,,UMOL/KG,,,DEG C,/MILLE,,/MILLE,/MILLE,,/MILLE,DEG C,KG/M^3,ITS-90,,,UMOL/KG,UMOL/KG,UMOL/KG,UMOL/KG,DM/.1MG,,BQ/M^3,MBQ/M^3,,MBQ/M^3
49NZ20071008, P14N, 108, 1, 36, X12042, 2, 20071119, 0145, 8.7578, 178.9985, 6025,     10.1, 2,  28.3583, 2,  34.0795, 2,  34.0788, 2,    198.0, 2,    197.6, 2,     1.02, 2,     0.06, 2,     0.00, 2,     0.15, 2,    1.493, 2,    0.918, 2,    0.250, 4, -999.000, 9,   -999.0, 9,   -999.0, 9, -999.0000,   -999.00,   -999.0, 9,   -999.0,  -999.00, 9,   -999.0,  28.3559, 21.5862,  28.3583, 2, 9, 0.12, 0.03, 0.01, 0.018,  -999.00, 9, -999.00, -999.00, 9, -999.00
49NZ20071008, P14N, 108, 1, 35, X12041, 2, 20071119, 0145, 8.7578, 178.9985, 6025,     50.7, 2,  28.4165, 2,  34.1997, 2,  34.2191, 2,    197.6, 2,    198.9, 2,     0.99, 2,     0.04, 2,     0.00, 2,     0.15, 2,    1.507, 2,    0.938, 2,    0.318, 4, -999.000, 9,   -999.0, 9,   -999.0, 9, -999.0000,   -999.00,   -999.0, 9,   -999.0,  -999.00, 9,   -999.0,  28.4045, 21.6605,  28.4159, 2, 9, 0.12, 0.03, 0.01, 0.018,  -999.00, 9, -999.00, -999.00, 9, -999.00
49NZ20071008, P14N, 108, 1, 34, X12016, 2, 20071119, 0145, 8.7578, 178.9985, 6025,    100.6, 2,  22.7211, 2,  34.7053, 2,  34.7056, 2,    203.1, 2,    190.5, 2,     2.36, 2,     1.31, 2,     0.07, 2,     0.36, 2, -999.000, 5, -999.000, 5, -999.000, 5, -999.000, 9,   -999.0, 9,   -999.0, 9, -999.0000,   -999.00,   -999.0, 9,   -999.0,  -999.00, 9,   -999.0,  22.7008, 23.7958,  22.7205, 2, 9, 0.12, 0.04, 0.01, 0.014,  -999.00, 9, -999.00, -999.00, 9, -999.00
49NZ20071008, P14N, 108, 1, 33, X12033, 2, 20071119, 0145, 8.7578, 178.9985, 6025,    149.1, 2,  16.2289, 2,  34.5626, 2,  34.5626, 2,    129.8, 2,    155.2, 2,     7.43, 2,     9.81, 2,     0.04, 2,     0.85, 2,    2.433, 6,    1.380, 6,    0.075, 6, -999.000, 9,   -999.0, 9,   -999.0, 9, -999.0000,   -999.00,   -999.0, 9,   -999.0,  -999.00, 9,   -999.0,  16.2052, 25.3642,  16.2318, 2, 9, 0.14, 0.06, 0.01, 0.013,  -999.00, 9, -999.00, -999.00, 9, -999.00
49NZ20071008, P14N, 108, 1, 32, X12038, 2, 20071119, 0145, 8.7578, 178.9985, 6025,    200.0, 2,  11.7053, 2,  34.5475, 2,  34.5477, 2,     32.1, 2,     42.5, 2,    25.63, 2,    29.29, 2,     0.01, 2,     2.22, 2,    1.145, 2,    0.589, 2,    0.022, 2, -999.000, 9,   -999.0, 9,   -999.0, 9, -999.0000,   -999.00,   -999.0, 9,   -999.0,  -999.00, 9,   -999.0,  11.6797, 26.2981,  11.7043, 2, 9, 0.18, 0.11, 0.01, 0.016,  -999.00, 9, -999.00, -999.00, 9, -999.00
49NZ20071008, P14N, 108, 1, 31, X12003, 2, 20071119, 0145, 8.7578, 178.9985, 6025,    248.5, 2,  10.6866, 2,  34.6426, 2,  34.6417, 6,     19.2, 2,     18.6, 2,    30.71, 2,    33.78, 2,     0.00, 2,     2.48, 2,    0.488, 2,    0.255, 2,    0.018, 2, -999.000, 9,   -999.0, 9,   -999.0, 9, -999.0000,   -999.00,   -999.0, 9,   -999.0,  -999.00, 9,   -999.0,  10.6566, 26.5587,  10.6870, 2, 9, 0.19, 0.13, 0.01, 0.016,  -999.00, 9, -999.00, -999.00, 9, -999.00
49NZ20071008, P14N, 108, 1, 30, X12008, 2, 20071119, 0145, 8.7578, 178.9985, 6025,    282.5, 2,  10.2523, 2,  34.6471, 2,  34.6458, 2,     20.5, 2,     20.4, 2,    32.30, 2,    34.48, 2,     0.01, 2,     2.50, 2,    0.366, 2,    0.195, 2,    0.010, 2, -999.000, 9,   -999.0, 9,   -999.0, 9, -999.0000,   -999.00,   -999.0, 9,   -999.0,  -999.00, 9,   -999.0,  10.2190, 26.6388,  10.2529, 2, 9, 0.19, 0.13, 0.01, 0.016,  -999.00, 9, -999.00, -999.00, 9, -999.00
49NZ20071008, P14N, 108, 1, 29, X12035, 2, 20071119, 0145, 8.7578, 178.9985, 6025,    373.6, 2,   9.1322, 2,  34.6192, 2,  34.6183, 2,     27.2, 2,     27.5, 2,    37.56, 2,    35.83, 2,     0.01, 2,     2.59, 2,    0.183, 2,    0.092, 2,    0.004, 2, -999.000, 9,   -999.0, 9,   -999.0, 9, -999.0000,   -999.00,   -999.0, 9,   -999.0,  -999.00, 9,   -999.0,   9.0910, 26.8053,   9.1323, 2, 9, 0.20, 0.13, 0.01, 0.016,  -999.00, 9, -999.00, -999.00, 9, -999.00
49NZ20071008, P14N, 108, 1, 28, X12034, 2, 20071119, 0145, 8.7578, 178.9985, 6025,    473.6, 2,   7.9284, 2,  34.5681, 2,  34.5677, 6,     33.8, 2,     35.5, 2,    46.42, 2,    37.16, 2,     0.01, 2,     2.72, 2,    0.100, 2,    0.051, 2,    0.000, 2, -999.000, 9,   -999.0, 9,   -999.0, 9, -999.0000,   -999.00,   -999.0, 9,   -999.0,  -999.00, 9,   -999.0,   7.8802, 26.9524,   7.9289, 2, 9, 0.22, 0.14, 0.01, 0.017,  -999.00, 9, -999.00, -999.00, 9, -999.00
49NZ20071008, P14N, 108, 1, 27, X12049, 2, 20071119, 0145, 8.7578, 178.9985, 6025,    570.7, 2,   7.1272, 2,  34.5465, 2,  34.5451, 2,     40.8, 2,     42.4, 2,    54.07, 2,    38.38, 2,     0.01, 2,     2.80, 2,    0.062, 2,    0.033, 2,    0.003, 2, -999.000, 9,   -999.0, 9,   -999.0, 9, -999.0000,   -999.00,   -999.0, 9,   -999.0,  -999.00, 9,   -999.0,   7.0722, 27.0515,   7.1249, 2, 9, 0.24, 0.14, 0.01, 0.017,  -999.00, 9, -999.00, -999.00, 9, -999.00
49NZ20071008, P14N, 108, 1, 26, X12032, 2, 20071119, 0145, 8.7578, 178.9985, 6025,    670.6, 2,   6.3310, 2,  34.5327, 2,  34.5321, 2,     42.4, 2,     44.8, 2,    63.76, 2,    39.80, 2,     0.01, 2,     2.90, 2,    0.031, 6,    0.018, 6,    0.003, 6, -999.000, 9,   -999.0, 9,   -999.0, 9, -999.0000,   -999.00,   -999.0, 9,   -999.0,  -999.00, 9,   -999.0,   6.2699, 27.1487,   6.3171, 2, 9, 0.26, 0.14, 0.01, 0.017,  -999.00, 9, -999.00, -999.00, 9, -999.00
49NZ20071008, P14N, 108, 1, 25, X12043, 2, 20071119, 0145, 8.7578, 178.9985, 6025,    769.4, 2,   5.6431, 2,  34.5349, 2,  34.5347, 2,     49.9, 2,     51.0, 2,    72.47, 2,    40.64, 2,     0.01, 2,     2.94, 2,    0.015, 2,    0.010, 2,    0.000, 2, -999.000, 9,   -999.0, 9,   -999.0, 9, -999.0000,   -999.00,   -999.0, 9,   -999.0,  -999.00, 9,   -999.0,   5.5765, 27.2380,   5.6424, 2, 9, 0.28, 0.15, 0.01, 0.017,  -999.00, 9, -999.00, -999.00, 9, -999.00
49NZ20071008, P14N, 108, 1, 24, X12030, 2, 20071119, 0145, 8.7578, 178.9985, 6025,    870.8, 2,   5.0921, 2,  34.5426, 2,  34.5423, 2,     52.7, 2,     56.4, 2,    80.77, 2,    40.80, 2,     0.01, 2,     2.94, 2,    0.008, 2,    0.004, 2,    0.000, 2, -999.000, 9,   -999.0, 9,   -999.0, 9, -999.0000,   -999.00,   -999.0, 9,   -999.0,  -999.00, 9,   -999.0,   5.0197, 27.3104,   5.0917, 2, 9, 0.30, 0.15, 0.01, 0.017,  -999.00, 9, -999.00, -999.00, 9, -999.00
49NZ20071008, P14N, 108, 1, 23, X12027, 2, 20071119, 0145, 8.7578, 178.9985, 6025,    969.8, 2,   4.6643, 2,  34.5504, 2,  34.5508, 6,     64.7, 2,     63.1, 2,    88.55, 2,    40.84, 2,     0.01, 2,     2.94, 2, -999.000, 5, -999.000, 5, -999.000, 5, -999.000, 9,   -999.0, 9,   -999.0, 9, -999.0000,   -999.00,   -999.0, 9,   -999.0,  -999.00, 9,   -999.0,   4.5861, 27.3657,   4.6619, 2, 9, 0.31, 0.15, 0.01, 0.017,  -999.00, 9, -999.00, -999.00, 9, -999.00
49NZ20071008, P14N, 108, 1, 22, X12028, 2, 20071119, 0145, 8.7578, 178.9985, 6025,   1131.1, 2,   4.1023, 2,  34.5656, 2,  34.5656, 2,     69.6, 2,     69.0, 2,    99.19, 2,    40.91, 2,     0.01, 2,     2.95, 2,    0.000, 2,    0.001, 2,    0.000, 2, -999.000, 9,   -999.0, 9,   -999.0, 9, -999.0000,   -999.00,   -999.0, 9,   -999.0,  -999.00, 9,   -999.0,   4.0146, 27.4391,   4.1033, 2, 9, 0.34, 0.15, 0.01, 0.017,  -999.00, 9, -999.00, -999.00, 9, -999.00
49NZ20071008, P14N, 108, 1, 21, X12009, 2, 20071119, 0145, 8.7578, 178.9985, 6025,   1330.8, 2,   3.6062, 2,  34.5811, 2,  34.5813, 2,     72.4, 2,     71.7, 2,   110.01, 2,    41.04, 2,     0.01, 2,     2.97, 2,    0.003, 2,    0.002, 2,    0.000, 2, -999.000, 9,   -999.0, 9,   -999.0, 9, -999.0000,   -999.00,   -999.0, 9,   -999.0,  -999.00, 9,   -999.0,   3.5061, 27.5027,   3.6059, 2, 9, 0.36, 0.15, 0.01, 0.017,  -999.00, 9, -999.00, -999.00, 9, -999.00
49NZ20071008, P14N, 108, 1, 20, X12026, 2, 20071119, 0145, 8.7578, 178.9985, 6025,   1531.6, 2,   3.1081, 2,  34.5972, 2,  34.5974, 2,     83.5, 2,     81.6, 2,   120.79, 2,    40.60, 2,     0.00, 2,     2.91, 2,    0.004, 2,    0.004, 2,    0.000, 2, -999.000, 9,   -999.0, 9,   -999.0, 9, -999.0000,   -999.00,   -999.0, 9,   -999.0,  -999.00, 9,   -999.0,   2.9963, 27.5639,   3.1079, 2, 9, 0.38, 0.15, 0.01, 0.017,  -999.00, 9, -999.00, -999.00, 9, -999.00
49NZ20071008, P14N, 108, 1, 19, X12025, 2, 20071119, 0145, 8.7578, 178.9985, 6025,   1731.5, 2,   2.6319, 2,  34.6159, 2,  34.6158, 2,     92.3, 2,     91.7, 2,   130.99, 2,    40.00, 2,     0.01, 2,     2.86, 2,    0.004, 2,    0.000, 2,    0.000, 2, -999.000, 9,   -999.0, 9,   -999.0, 9, -999.0000,   -999.00,   -999.0, 9,   -999.0,  -999.00, 9,   -999.0,   2.5091, 27.6220,   2.6319, 2, 9, 0.41, 0.14, 0.01, 0.017,  -999.00, 9, -999.00, -999.00, 9, -999.00
49NZ20071008, P14N, 108, 1, 18, X12024, 2, 20071119, 0145, 8.7578, 178.9985, 6025,   1930.1, 2,   2.3604, 2,  34.6299, 2,  34.6301, 2,     98.6, 2,     98.2, 2,   136.97, 2,    39.72, 2,     0.01, 2,     2.83, 2,    0.003, 2,    0.001, 2,    0.000, 2, -999.000, 9,   -999.0, 9,   -999.0, 9, -999.0000,   -999.00,   -999.0, 9,   -999.0,  -999.00, 9,   -999.0,   2.2245, 27.6570,   2.3603, 2, 9, 0.42, 0.14, 0.01, 0.017,  -999.00, 9, -999.00, -999.00, 9, -999.00
49NZ20071008, P14N, 108, 1, 17, X12023, 2, 20071119, 0145, 8.7578, 178.9985, 6025,   2130.8, 2,   2.1327, 2,  34.6427, 2,  34.6431, 2,    104.8, 2,    105.0, 2,   141.84, 2,    39.43, 2,     0.01, 2,     2.79, 2, -999.000, 9, -999.000, 9, -999.000, 9, -999.000, 9,   -999.0, 9,   -999.0, 9, -999.0000,   -999.00,   -999.0, 9,   -999.0,  -999.00, 9,   -999.0,   1.9830, 27.6868,   2.1326, 2, 9, 0.43, 0.14, 0.01, 0.017,  -999.00, 9, -999.00, -999.00, 9, -999.00
49NZ20071008, P14N, 108, 1, 16, X12022, 2, 20071119, 0145, 8.7578, 178.9985, 6025,   2330.8, 2,   1.9944, 2,  34.6527, 2,  34.6531, 2,    108.5, 2,    109.6, 2,   145.09, 2,    39.10, 2,     0.01, 2,     2.76, 2,    0.002, 2,    0.001, 2,    0.000, 2, -999.000, 9,   -999.0, 9,   -999.0, 9, -999.0000,   -999.00,   -999.0, 9,   -999.0,  -999.00, 9,   -999.0,   1.8294, 27.7068,   1.9944, 2, 9, 0.44, 0.14, 0.01, 0.017,  -999.00, 9, -999.00, -999.00, 9, -999.00
49NZ20071008, P14N, 108, 1, 15, X12021, 2, 20071119, 0145, 8.7578, 178.9985, 6025,   2530.0, 2,   1.8969, 2,  34.6596, 2,  34.6598, 2,    113.2, 2,    113.9, 2,   147.37, 2,    38.80, 2,     0.00, 2,     2.73, 2, -999.000, 9, -999.000, 9, -999.000, 9, -999.000, 9,   -999.0, 9,   -999.0, 9, -999.0000,   -999.00,   -999.0, 9,   -999.0,  -999.00, 9,   -999.0,   1.7158, 27.7210,   1.8968, 2, 9, 0.44, 0.14, 0.01, 0.017,  -999.00, 9, -999.00, -999.00, 9, -999.00
49NZ20071008, P14N, 108, 1, 14, X12020, 2, 20071119, 0145, 8.7578, 178.9985, 6025,   2729.7, 2,   1.8196, 2,  34.6648, 2,  34.6649, 6,    118.0, 2,    118.6, 2,   148.14, 2,    38.44, 2,     0.01, 2,     2.70, 2,    0.000, 2,    0.000, 2,    0.000, 2, -999.000, 9,   -999.0, 9,   -999.0, 9, -999.0000,   -999.00,   -999.0, 9,   -999.0,  -999.00, 9,   -999.0,   1.6216, 27.7322,   1.8196, 2, 9, 0.44, 0.14, 0.01, 0.017,  -999.00, 9, -999.00, -999.00, 9, -999.00
49NZ20071008, P14N, 108, 1, 13, X12019, 2, 20071119, 0145, 8.7578, 178.9985, 6025,   2930.6, 2,   1.7617, 2,  34.6685, 2,  34.6686, 2,    122.4, 2,    122.4, 2,   149.31, 2,    38.25, 2,     0.00, 2,     2.68, 2, -999.000, 9, -999.000, 9, -999.000, 9, -999.000, 9,   -999.0, 9,   -999.0, 9, -999.0000,   -999.00,   -999.0, 9,   -999.0,  -999.00, 9,   -999.0,   1.5459, 27.7408,   1.7617, 2, 9, 0.45, 0.14, 0.01, 0.017,  -999.00, 9, -999.00, -999.00, 9, -999.00
49NZ20071008, P14N, 108, 1, 12, X12040, 2, 20071119, 0145, 8.7578, 178.9985, 6025,   3170.9, 2,   1.6631, 2,  34.6740, 2,  34.6740, 2,    129.7, 2,    131.4, 2,   147.46, 2,    37.56, 2,     0.01, 2,     2.63, 2,    0.000, 2,    0.000, 2,    0.000, 2, -999.000, 9,   -999.0, 9,   -999.0, 9, -999.0000,   -999.00,   -999.0, 9,   -999.0,  -999.00, 9,   -999.0,   1.4261, 27.7539,   1.6632, 2, 9, 0.44, 0.14, 0.01, 0.017,  -999.00, 9, -999.00, -999.00, 9, -999.00
49NZ20071008, P14N, 108, 1, 11, X12047, 2, 20071119, 0145, 8.7578, 178.9985, 6025,   3419.9, 2,   1.5762, 2,  34.6796, 2,  34.6798, 2,    138.3, 2,    139.2, 2,   147.47, 2,    37.07, 2,     0.00, 2,     2.59, 2, -999.000, 9, -999.000, 9, -999.000, 9, -999.000, 9,   -999.0, 9,   -999.0, 9, -999.0000,   -999.00,   -999.0, 9,   -999.0,  -999.00, 9,   -999.0,   1.3163, 27.7663,   1.5761, 2, 9, 0.44, 0.14, 0.01, 0.016,  -999.00, 9, -999.00, -999.00, 9, -999.00
49NZ20071008, P14N, 108, 1, 10, X12012, 2, 20071119, 0145, 8.7578, 178.9985, 6025,   3670.4, 2,   1.5032, 2,  34.6845, 2,  34.6844, 2,    147.9, 2,    148.3, 2,   144.50, 2,    36.48, 2,     0.00, 2,     2.55, 2,    0.000, 2,    0.000, 2,    0.000, 2, -999.000, 9,   -999.0, 9,   -999.0, 9, -999.0000,   -999.00,   -999.0, 9,   -999.0,  -999.00, 9,   -999.0,   1.2194, 27.7770,   1.5033, 2, 9, 0.44, 0.13, 0.01, 0.016,  -999.00, 9, -999.00, -999.00, 9, -999.00
49NZ20071008, P14N, 108, 1, 9, X12015, 2, 20071119, 0145, 8.7578, 178.9985, 6025,   3921.3, 2,   1.4276, 2,  34.6895, 2,  34.6895, 2,    156.8, 2,    158.1, 2,   140.70, 2,    35.80, 2,     0.00, 2,     2.50, 2, -999.000, 9, -999.000, 9, -999.000, 9, -999.000, 9,   -999.0, 9,   -999.0, 9, -999.0000,   -999.00,   -999.0, 9,   -999.0,  -999.00, 9,   -999.0,   1.1192, 27.7879,   1.4277, 2, 9, 0.43, 0.13, 0.01, 0.016,  -999.00, 9, -999.00, -999.00, 9, -999.00
49NZ20071008, P14N, 108, 1, 8, X12046, 2, 20071119, 0145, 8.7578, 178.9985, 6025,   4169.8, 2,   1.3578, 2,  34.6947, 2,  34.6945, 2,    165.9, 2,    168.9, 2,   135.36, 2,    35.03, 2,     0.00, 2,     2.44, 2,    0.005, 2,    0.004, 2,    0.000, 2, -999.000, 9,   -999.0, 9,   -999.0, 9, -999.0000,   -999.00,   -999.0, 9,   -999.0,  -999.00, 9,   -999.0,   1.0243, 27.7984,   1.3578, 2, 9, 0.42, 0.13, 0.01, 0.016,  -999.00, 9, -999.00, -999.00, 9, -999.00
49NZ20071008, P14N, 108, 1, 7, X12044, 2, 20071119, 0145, 8.7578, 178.9985, 6025,   4422.9, 2,   1.3124, 2,  34.6988, 2,  34.6987, 6,    175.7, 2,    177.2, 2,   130.95, 2,    34.31, 2,     0.00, 2,     2.40, 2,    0.000, 2,    0.000, 2,    0.000, 2, -999.000, 9,   -999.0, 9,   -999.0, 9, -999.0000,   -999.00,   -999.0, 9,   -999.0,  -999.00, 9,   -999.0,   0.9520, 27.8065,   1.3124, 2, 9, 0.41, 0.13, 0.01, 0.016,  -999.00, 9, -999.00, -999.00, 9, -999.00
49NZ20071008, P14N, 108, 1, 6, X12048, 2, 20071119, 0145, 8.7578, 178.9985, 6025,   4670.0, 2,   1.2960, 2,  34.7015, 2,  34.7014, 2,    181.8, 2,    182.9, 2,   127.73, 2,    33.85, 2,     0.00, 2,     2.36, 2,    0.002, 2,    0.001, 2,    0.000, 2, -999.000, 9,   -999.0, 9,   -999.0, 9, -999.0000,   -999.00,   -999.0, 9,   -999.0,  -999.00, 9,   -999.0,   0.9077, 27.8116,   1.2960, 2, 9, 0.40, 0.13, 0.01, 0.016,  -999.00, 9, -999.00, -999.00, 9, -999.00
49NZ20071008, P14N, 108, 1, 5, X12014, 2, 20071119, 0145, 8.7578, 178.9985, 6025,   4921.6, 2,   1.3081, 2,  34.7025, 2,  34.7022, 2,    184.7, 2,    185.2, 2,   126.63, 2,    33.82, 2,     0.00, 2,     2.35, 2,    0.000, 2,    0.000, 2,    0.000, 2, -999.000, 9,   -999.0, 9,   -999.0, 9, -999.0000,   -999.00,   -999.0, 9,   -999.0,  -999.00, 9,   -999.0,   0.8897, 27.8136,   1.3081, 2, 9, 0.40, 0.13, 0.01, 0.016,  -999.00, 9, -999.00, -999.00, 9, -999.00
49NZ20071008, P14N, 108, 1, 4, X12006, 2, 20071119, 0145, 8.7578, 178.9985, 6025,   5171.1, 2,   1.3169, 2,  34.7037, 2,  34.7036, 2,    187.1, 2,    187.8, 2,   125.21, 2,    33.62, 2,     0.00, 2,     2.34, 2,    0.000, 2,    0.000, 2,    0.000, 2, -999.000, 9,   -999.0, 9,   -999.0, 9, -999.0000,   -999.00,   -999.0, 9,   -999.0,  -999.00, 9,   -999.0,   0.8679, 27.8159,   1.3169, 2, 9, 0.39, 0.13, 0.01, 0.016,  -999.00, 9, -999.00, -999.00, 9, -999.00
49NZ20071008, P14N, 108, 1, 3, X12013, 2, 20071119, 0145, 8.7578, 178.9985, 6025,   5420.7, 2,   1.3376, 2,  34.7043, 2,  34.7037, 2,    189.0, 2,    189.1, 2,   124.35, 2,    33.53, 2,     0.00, 2,     2.34, 2,    0.004, 2,    0.004, 2,    0.000, 2, -999.000, 9,   -999.0, 9,   -999.0, 9, -999.0000,   -999.00,   -999.0, 9,   -999.0,  -999.00, 9,   -999.0,   0.8569, 27.8171,   1.3376, 2, 9, 0.39, 0.13, 0.01, 0.016,  -999.00, 9, -999.00, -999.00, 9, -999.00
49NZ20071008, P14N, 108, 1, 2, X12002, 2, 20071119, 0145, 8.7578, 178.9985, 6025,   5671.2, 2,   1.3640, 2,  34.7046, 2,  34.7047, 2,    189.9, 2,    189.9, 2,   123.87, 2,    33.50, 2,     0.00, 2,     2.33, 2,    0.007, 2,    0.007, 2,    0.000, 2, -999.000, 9,   -999.0, 9,   -999.0, 9, -999.0000,   -999.00,   -999.0, 9,   -999.0,  -999.00, 9,   -999.0,   0.8504, 27.8178,   1.3639, 2, 9, 0.39, 0.13, 0.01, 0.016,  -999.00, 9, -999.00, -999.00, 9, -999.00
49NZ20071008, P14N, 108, 1, 1, X12001, 2, 20071119, 0145, 8.7578, 178.9985, 6025,   6095.9, 2,   1.4175, 2,  34.7045, 2,  34.7049, 6,    190.3, 2,    190.4, 2,   123.70, 2,    33.45, 2,     0.00, 2,     2.32, 2,    0.005, 2,    0.006, 2,    0.000, 2, -999.000, 9,   -999.0, 9,   -999.0, 9, -999.0000,   -999.00,   -999.0, 9,   -999.0,  -999.00, 9,   -999.0,   0.8459, 27.8180,   1.4173, 2, 9, 0.39, 0.13, 0.01, 0.016,  -999.00, 9, -999.00, -999.00, 9, -999.00