BOTTLE,20221005CCHSIOAMB
EXPOCODE,SECT_ID,STNNBR,CASTNO,SAMPNO,BTLNBR,BTLNBR_FLAG_W,DATE,TIME,LATITUDE,LONGITUDE,DEPTH,CTDPRS,CTDPRS_FLAG_W,CTDTMP,CTDTMP_FLAG_W,CTDSAL,CTDSAL_FLAG_W,SALNTY,SALNTY_FLAG_W,CTDOXY,CTDOXY_FLAG_W,OXYGEN,OXYGEN_FLAG_W,SILCAT,SILCAT_FLAG_W,NITRAT,NITRAT_FLAG_W,NITRIT,NITRIT_FLAG_W,PHSPHT,PHSPHT_FLAG_W,CFC-11,CFC-11_FLAG_W,CFC-12,CFC-12_FLAG_W,CFC113,CFC113_FLAG_W,CCL4,CCL4_FLAG_W,TCARBN,TCARBN_FLAG_W,ALKALI,ALKALI_FLAG_W,PH_TOT,PH_TMP,DELC14,DELC14_FLAG_W,C14ERR,DELC13,DELC13_FLAG_W,C13ERR,THETA,SIG0,SBE35,SBE35_FLAG_W,PH_TOT_FLAG_W,SILUNC,NRAUNC,NRIUNC,PHPUNC,CS-137,CS-137_FLAG_W,CS137ER,PLUTO,PLUTO_FLAG_W,PLUTOER
,,,,,,,,,,,METERS,DBAR,,ITS-90,,PSS-78,,PSS-78,,UMOL/KG,,UMOL/KG,,UMOL/KG,,UMOL/KG,,UMOL/KG,,UMOL/KG,,PMOL/KG,,PMOL/KG,,PMOL/KG,,PMOL/KG,,UMOL/KG,,UMOL/KG,,,DEG C,/MILLE,,/MILLE,/MILLE,,/MILLE,DEG C,KG/M^3,ITS-90,,,UMOL/KG,UMOL/KG,UMOL/KG,UMOL/KG,DM/.1MG,,BQ/M^3,MBQ/M^3,,MBQ/M^3
49NZ20071008, P14N, 86, 1, 36, X12042, 2, 20071113, 1603, 19.5165, 178.9987, 4771,      9.4, 2,  27.5221, 2,  34.9340, 2,  34.9338, 2,    200.6, 2,    200.2, 2,     0.81, 2,     0.06, 2,     0.00, 2,     0.04, 2,    1.547, 2,    0.943, 2,    0.292, 4, -999.000, 9,   -999.0, 9,   -999.0, 9, -999.0000,   -999.00,   -999.0, 9,   -999.0,  -999.00, 9,   -999.0,  27.5199, 22.5010,  27.5211, 2, 9, 0.12, 0.03, 0.01, 0.044,  -999.00, 9, -999.00, -999.00, 9, -999.00
49NZ20071008, P14N, 86, 1, 35, X12041, 2, 20071113, 1603, 19.5165, 178.9987, 4771,     50.0, 2,  27.5315, 2,  34.9343, 2,  34.9453, 2,    200.7, 2,    200.3, 2,     0.83, 2,     0.03, 2,     0.00, 2,     0.04, 2,    1.558, 2,    0.966, 2,    0.326, 4, -999.000, 9,   -999.0, 9,   -999.0, 9, -999.0000,   -999.00,   -999.0, 9,   -999.0,  -999.00, 9,   -999.0,  27.5199, 22.5013,  27.5311, 2, 9, 0.12, 0.03, 0.01, 0.043,  -999.00, 9, -999.00, -999.00, 9, -999.00
49NZ20071008, P14N, 86, 1, 34, X12016, 2, 20071113, 1603, 19.5165, 178.9987, 4771,     99.7, 2,  24.8011, 2,  35.2577, 2,  35.2510, 2,    206.9, 2,    208.2, 2,     0.96, 2,     0.03, 2,     0.00, 2,     0.05, 2,    1.823, 2,    1.118, 2,    0.613, 4, -999.000, 9,   -999.0, 9,   -999.0, 9, -999.0000,   -999.00,   -999.0, 9,   -999.0,  -999.00, 9,   -999.0,  24.7796, 23.6029,  24.8000, 2, 9, 0.12, 0.03, 0.01, 0.035,  -999.00, 9, -999.00, -999.00, 9, -999.00
49NZ20071008, P14N, 86, 1, 33, X12033, 2, 20071113, 1603, 19.5165, 178.9987, 4771,    147.8, 2,  21.5597, 2,  35.1009, 2,  35.1118, 2,    192.2, 2,    192.5, 2,     1.63, 2,     0.94, 2,     0.04, 2,     0.15, 2,    2.066, 6,    1.239, 6,    0.278, 4, -999.000, 9,   -999.0, 9,   -999.0, 9, -999.0000,   -999.00,   -999.0, 9,   -999.0,  -999.00, 9,   -999.0,  21.5309, 24.4251,  21.5450, 2, 9, 0.12, 0.04, 0.01, 0.018,  -999.00, 9, -999.00, -999.00, 9, -999.00
49NZ20071008, P14N, 86, 1, 32, X12038, 2, 20071113, 1603, 19.5165, 178.9987, 4771,    202.2, 2,  18.7578, 2,  34.8713, 2,  34.8691, 2,    189.0, 2,    191.0, 2,     3.00, 2,     3.39, 2,     0.01, 2,     0.32, 2,    2.334, 2,    1.365, 2,    0.111, 4, -999.000, 9,   -999.0, 9,   -999.0, 9, -999.0000,   -999.00,   -999.0, 9,   -999.0,  -999.00, 9,   -999.0,  18.7221, 24.9933,  18.7567, 2, 9, 0.13, 0.04, 0.01, 0.014,  -999.00, 9, -999.00, -999.00, 9, -999.00
49NZ20071008, P14N, 86, 1, 31, X12003, 2, 20071113, 1603, 19.5165, 178.9987, 4771,    252.5, 2,  15.3888, 2,  34.5443, 2,  34.5474, 6,    184.3, 2,    185.0, 2,     6.78, 2,     8.12, 2,     0.01, 2,     0.66, 2,    2.629, 2,    1.497, 2,    0.044, 2, -999.000, 9,   -999.0, 9,   -999.0, 9, -999.0000,   -999.00,   -999.0, 9,   -999.0,  -999.00, 9,   -999.0,  15.3500, 25.5434,  15.3970, 2, 9, 0.13, 0.06, 0.01, 0.013,  -999.00, 1, -999.00, -999.00, 9, -999.00
49NZ20071008, P14N, 86, 1, 30, X12008, 2, 20071113, 1603, 19.5165, 178.9987, 4771,    333.1, 2,  11.5057, 2,  34.2558, 2,  34.2537, 2,    178.8, 2,    176.0, 2,    16.49, 2,    15.67, 2,     0.00, 2,     1.18, 2,    2.760, 2,    1.512, 2,    0.050, 2, -999.000, 9,   -999.0, 9,   -999.0, 9, -999.0000,   -999.00,   -999.0, 9,   -999.0,  -999.00, 9,   -999.0,  11.4635, 26.1115,  11.5060, 2, 9, 0.16, 0.08, 0.01, 0.013,  -999.00, 9, -999.00, -999.00, 9, -999.00
49NZ20071008, P14N, 86, 1, 29, X12035, 2, 20071113, 1603, 19.5165, 178.9987, 4771,    431.5, 2,   8.6369, 2,  34.1591, 2,  34.1577, 2,    132.0, 2,    127.4, 2,    35.33, 2,    25.82, 2,     0.00, 2,     1.91, 2,    2.100, 2,    1.043, 2,    0.052, 2, -999.000, 9,   -999.0, 9,   -999.0, 9, -999.0000,   -999.00,   -999.0, 9,   -999.0,  -999.00, 9,   -999.0,   8.5911, 26.5238,   8.6382, 2, 9, 0.20, 0.11, 0.01, 0.015,  -999.00, 1, -999.00, -999.00, 9, -999.00
49NZ20071008, P14N, 86, 1, 28, X12034, 2, 20071113, 1603, 19.5165, 178.9987, 4771,    533.7, 2,   6.9088, 2,  34.1789, 2,  34.1775, 6,     82.9, 2,     79.2, 2,    55.50, 2,    33.34, 2,     0.00, 2,     2.47, 2,    1.036, 2,    0.503, 2,    0.026, 2, -999.000, 9,   -999.0, 9,   -999.0, 9, -999.0000,   -999.00,   -999.0, 9,   -999.0,  -999.00, 9,   -999.0,   6.8586, 26.7913,   6.9093, 2, 9, 0.24, 0.13, 0.01, 0.016,  -999.00, 9, -999.00, -999.00, 9, -999.00
49NZ20071008, P14N, 86, 1, 27, X12049, 2, 20071113, 1603, 19.5165, 178.9987, 4771,    634.4, 2,   5.9080, 2,  34.2510, 2,  34.2488, 2,     55.2, 2,     55.9, 2,    71.19, 2,    37.51, 2,     0.00, 2,     2.76, 2,    0.429, 2,    0.211, 2,    0.010, 2, -999.000, 9,   -999.0, 9,   -999.0, 9, -999.0000,   -999.00,   -999.0, 9,   -999.0,  -999.00, 9,   -999.0,   5.8527, 26.9793,   5.9087, 2, 9, 0.28, 0.14, 0.01, 0.017,  -999.00, 1, -999.00, -999.00, 9, -999.00
49NZ20071008, P14N, 86, 1, 26, X12032, 2, 20071113, 1603, 19.5165, 178.9987, 4771,    732.0, 2,   5.2572, 2,  34.3546, 2,  34.3541, 2,     49.4, 2,     49.0, 2,    83.35, 2,    39.46, 2,     0.00, 2,     2.89, 2,    0.137, 6,    0.069, 6,    0.000, 6, -999.000, 9,   -999.0, 9,   -999.0, 9, -999.0000,   -999.00,   -999.0, 9,   -999.0,  -999.00, 9,   -999.0,   5.1964, 27.1407,   5.2575, 2, 9, 0.30, 0.14, 0.01, 0.017,  -999.00, 9, -999.00, -999.00, 9, -999.00
49NZ20071008, P14N, 86, 1, 25, X12043, 2, 20071113, 1603, 19.5165, 178.9987, 4771,    834.3, 2,   4.8923, 2,  34.4251, 2,  34.4248, 2,     55.4, 2,     53.4, 2,    89.73, 2,    39.95, 2,     0.00, 2,     2.92, 2,    0.056, 2,    0.028, 2,    0.000, 2, -999.000, 9,   -999.0, 9,   -999.0, 9, -999.0000,   -999.00,   -999.0, 9,   -999.0,  -999.00, 9,   -999.0,   4.8246, 27.2395,   4.8925, 2, 9, 0.32, 0.14, 0.01, 0.017,  -999.00, 1, -999.00, -999.00, 9, -999.00
49NZ20071008, P14N, 86, 1, 24, X12030, 2, 20071113, 1603, 19.5165, 178.9987, 4771,    934.4, 2,   4.4907, 2,  34.4783, 2,  34.4771, 2,     60.3, 2,     60.1, 2,    96.67, 2,    40.10, 2,     0.00, 2,     2.90, 2,    0.028, 2,    0.015, 2,    0.000, 2, -999.000, 9,   -999.0, 9,   -999.0, 9, -999.0000,   -999.00,   -999.0, 9,   -999.0,  -999.00, 9,   -999.0,   4.4170, 27.3269,   4.4915, 2, 9, 0.33, 0.15, 0.01, 0.017,  -999.00, 9, -999.00, -999.00, 9, -999.00
49NZ20071008, P14N, 86, 1, 23, X12027, 2, 20071113, 1603, 19.5165, 178.9987, 4771,   1071.3, 2,   4.0074, 2,  34.5142, 2,  34.5140, 6,     63.7, 2,     62.9, 2,   106.22, 2,    40.55, 2,     0.00, 2,     2.94, 2,    0.005, 2,    0.002, 2,    0.000, 2, -999.000, 9,   -999.0, 9,   -999.0, 9, -999.0000,   -999.00,   -999.0, 9,   -999.0,  -999.00, 9,   -999.0,   3.9257, 27.4074,   4.0079, 2, 9, 0.35, 0.15, 0.01, 0.017,  -999.00, 1, -999.00, -999.00, 9, -999.00
49NZ20071008, P14N, 86, 1, 22, X12028, 2, 20071113, 1603, 19.5165, 178.9987, 4771,   1270.4, 2,   3.3738, 2,  34.5490, 2,  34.5493, 2,     71.4, 2,     70.2, 2,   119.16, 2,    40.73, 2,     0.00, 2,     2.93, 2,    0.000, 2,    0.001, 2,    0.000, 2, -999.000, 9,   -999.0, 9,   -999.0, 9, -999.0000,   -999.00,   -999.0, 9,   -999.0,  -999.00, 9,   -999.0,   3.2811, 27.4988,   3.3736, 2, 9, 0.38, 0.15, 0.01, 0.017,  -999.00, 9, -999.00, -999.00, 9, -999.00
49NZ20071008, P14N, 86, 1, 21, X12009, 2, 20071113, 1603, 19.5165, 178.9987, 4771,   1473.9, 2,   2.8419, 2,  34.5756, 2,  34.5752, 2,     80.2, 2,     79.7, 2,   129.72, 2,    40.37, 2,     0.00, 2,     2.90, 2,    0.000, 2,    0.000, 2,    0.000, 2, -999.000, 9,   -999.0, 9,   -999.0, 9, -999.0000,   -999.00,   -999.0, 9,   -999.0,  -999.00, 9,   -999.0,   2.7380, 27.5699,   2.8420, 2, 9, 0.40, 0.15, 0.01, 0.017,  -999.00, 9, -999.00, -999.00, 9, -999.00
49NZ20071008, P14N, 86, 1, 20, X12026, 2, 20071113, 1603, 19.5165, 178.9987, 4771,   1671.8, 2,   2.4368, 2,  34.6001, 2,  34.6000, 2,     89.3, 2,     89.7, 2,   137.93, 2,    40.01, 2,     0.00, 2,     2.86, 2,    0.000, 2,    0.000, 2,    0.000, 2, -999.000, 9,   -999.0, 9,   -999.0, 9, -999.0000,   -999.00,   -999.0, 9,   -999.0,  -999.00, 9,   -999.0,   2.3215, 27.6252,   2.4367, 2, 9, 0.42, 0.14, 0.01, 0.017,  -999.00, 9, -999.00, -999.00, 9, -999.00
49NZ20071008, P14N, 86, 1, 19, X12025, 2, 20071113, 1603, 19.5165, 178.9987, 4771,   1871.1, 2,   2.2207, 2,  34.6137, 2,  34.6137, 2,     96.4, 2,     96.1, 2,   142.45, 2,    39.65, 2,     0.00, 2,     2.82, 2,    0.001, 2,    0.000, 2,    0.000, 2, -999.000, 9,   -999.0, 9,   -999.0, 9, -999.0000,   -999.00,   -999.0, 9,   -999.0,  -999.00, 9,   -999.0,   2.0918, 27.6549,   2.2207, 2, 9, 0.43, 0.14, 0.01, 0.017,  -999.00, 9, -999.00, -999.00, 9, -999.00
49NZ20071008, P14N, 86, 1, 18, X12024, 2, 20071113, 1603, 19.5165, 178.9987, 4771,   2070.3, 2,   1.9819, 2,  34.6299, 2,  34.6304, 2,    106.2, 2,    104.8, 2,   146.56, 2,    39.27, 2,     0.00, 2,     2.78, 2,    0.000, 2,    0.000, 2,    0.000, 2, -999.000, 9,   -999.0, 9,   -999.0, 9, -999.0000,   -999.00,   -999.0, 9,   -999.0,  -999.00, 9,   -999.0,   1.8398, 27.6877,   1.9820, 2, 9, 0.44, 0.14, 0.01, 0.017,  -999.00, 1, -999.00, -999.00, 9, -999.00
49NZ20071008, P14N, 86, 1, 17, X12023, 2, 20071113, 1603, 19.5165, 178.9987, 4771,   2268.7, 2,   1.8398, 2,  34.6417, 2,  34.6415, 6,    113.0, 2,    111.9, 2,   148.57, 2,    38.70, 2,     0.00, 2,     2.74, 2,    0.000, 2,    0.000, 2,    0.000, 2, -999.000, 9,   -999.0, 9,   -999.0, 9, -999.0000,   -999.00,   -999.0, 9,   -999.0,  -999.00, 9,   -999.0,   1.6830, 27.7091,   1.8397, 2, 9, 0.45, 0.14, 0.01, 0.017,  -999.00, 9, -999.00, -999.00, 9, -999.00
49NZ20071008, P14N, 86, 1, 16, X12022, 2, 20071113, 1603, 19.5165, 178.9987, 4771,   2469.1, 2,   1.7001, 2,  34.6531, 2,  34.6532, 2,    120.9, 2,    120.5, 2,   149.65, 2,    38.19, 2,     0.00, 2,     2.69, 2,    0.000, 2,    0.000, 2,    0.000, 2, -999.000, 9,   -999.0, 9,   -999.0, 9, -999.0000,   -999.00,   -999.0, 9,   -999.0,  -999.00, 9,   -999.0,   1.5282, 27.7298,   1.7001, 2, 9, 0.45, 0.14, 0.01, 0.017,  -999.00, 9, -999.00, -999.00, 9, -999.00
49NZ20071008, P14N, 86, 1, 15, X12021, 2, 20071113, 1603, 19.5165, 178.9987, 4771,   2670.4, 2,   1.6213, 2,  34.6606, 2,  34.6602, 2,    127.3, 2,    126.6, 2,   149.58, 2,    37.86, 2,     0.00, 2,     2.67, 2,    0.000, 2,    0.000, 2,    0.000, 2, -999.000, 9,   -999.0, 9,   -999.0, 9, -999.0000,   -999.00,   -999.0, 9,   -999.0,  -999.00, 9,   -999.0,   1.4327, 27.7427,   1.6215, 2, 9, 0.45, 0.14, 0.01, 0.017,  -999.00, 9, -999.00, -999.00, 9, -999.00
49NZ20071008, P14N, 86, 1, 14, X12020, 2, 20071113, 1603, 19.5165, 178.9987, 4771,   2869.4, 2,   1.5716, 2,  34.6662, 2,  34.6659, 2,    132.6, 2,    131.9, 2,   149.11, 2,    37.51, 2,     0.00, 2,     2.64, 2, -999.000, 9, -999.000, 9, -999.000, 9, -999.000, 9,   -999.0, 9,   -999.0, 9, -999.0000,   -999.00,   -999.0, 9,   -999.0,  -999.00, 9,   -999.0,   1.3656, 27.7520,   1.5716, 2, 9, 0.45, 0.14, 0.01, 0.017,  -999.00, 9, -999.00, -999.00, 9, -999.00
49NZ20071008, P14N, 86, 1, 13, X12019, 2, 20071113, 1603, 19.5165, 178.9987, 4771,   3079.9, 2,   1.5299, 2,  34.6710, 2,  34.6708, 2,    137.2, 2,    137.1, 2,   148.13, 2,    37.18, 2,     0.00, 2,     2.60, 2, -999.000, 9, -999.000, 9, -999.000, 9, -999.000, 9,   -999.0, 9,   -999.0, 9, -999.0000,   -999.00,   -999.0, 9,   -999.0,  -999.00, 9,   -999.0,   1.3048, 27.7601,   1.5298, 2, 9, 0.44, 0.14, 0.01, 0.016,  -999.00, 1, -999.00, -999.00, 9, -999.00
49NZ20071008, P14N, 86, 1, 12, X12040, 2, 20071113, 1603, 19.5165, 178.9987, 4771,   3330.5, 2,   1.5035, 2,  34.6755, 2,  34.6753, 2,    142.5, 2,    142.0, 2,   146.56, 2,    36.68, 2,     0.00, 2,     2.57, 2,    0.000, 2,    0.000, 2,    0.000, 2, -999.000, 9,   -999.0, 9,   -999.0, 9, -999.0000,   -999.00,   -999.0, 9,   -999.0,  -999.00, 9,   -999.0,   1.2544, 27.7672,   1.5034, 2, 9, 0.44, 0.14, 0.01, 0.016,  -999.00, 9, -999.00, -999.00, 9, -999.00
49NZ20071008, P14N, 86, 1, 11, X12047, 2, 20071113, 1603, 19.5165, 178.9987, 4771,   3581.1, 2,   1.4792, 2,  34.6800, 2,  34.6797, 6,    147.1, 2,    147.2, 2,   145.10, 2,    36.46, 2,     0.00, 2,     2.55, 2, -999.000, 9, -999.000, 9, -999.000, 9, -999.000, 9,   -999.0, 9,   -999.0, 9, -999.0000,   -999.00,   -999.0, 9,   -999.0,  -999.00, 9,   -999.0,   1.2053, 27.7743,   1.4791, 2, 9, 0.44, 0.13, 0.01, 0.016,  -999.00, 9, -999.00, -999.00, 9, -999.00
49NZ20071008, P14N, 86, 1, 10, X12012, 2, 20071113, 1603, 19.5165, 178.9987, 4771,   3832.1, 2,   1.4670, 2,  34.6833, 2,  34.6830, 2,    151.6, 2,    151.4, 2,   143.68, 2,    36.20, 2,     0.00, 2,     2.53, 2, -999.000, 9, -999.000, 9, -999.000, 9, -999.000, 9,   -999.0, 9,   -999.0, 9, -999.0000,   -999.00,   -999.0, 9,   -999.0,  -999.00, 9,   -999.0,   1.1671, 27.7796,   1.4670, 2, 9, 0.44, 0.13, 0.01, 0.016,  -999.00, 9, -999.00, -999.00, 9, -999.00
49NZ20071008, P14N, 86, 1, 9, X12015, 2, 20071113, 1603, 19.5165, 178.9987, 4771,   4081.8, 2,   1.4645, 2,  34.6856, 2,  34.6855, 2,    155.1, 2,    155.2, 2,   141.84, 2,    35.99, 2,     0.00, 2,     2.51, 2,    0.000, 2,    0.000, 2,    0.000, 2, -999.000, 9,   -999.0, 9,   -999.0, 9, -999.0000,   -999.00,   -999.0, 9,   -999.0,  -999.00, 9,   -999.0,   1.1377, 27.7834,   1.4644, 2, 9, 0.43, 0.13, 0.01, 0.016,  -999.00, 1, -999.00, -999.00, 9, -999.00
49NZ20071008, P14N, 86, 1, 8, X12046, 2, 20071113, 1603, 19.5165, 178.9987, 4771,   4331.5, 2,   1.4796, 2,  34.6868, 2,  34.6866, 2,    156.9, 2,    156.9, 2,   141.04, 2,    35.88, 2,     0.00, 2,     2.50, 2, -999.000, 9, -999.000, 9, -999.000, 9, -999.000, 9,   -999.0, 9,   -999.0, 9, -999.0000,   -999.00,   -999.0, 9,   -999.0,  -999.00, 9,   -999.0,   1.1245, 27.7853,   1.4796, 2, 9, 0.43, 0.13, 0.01, 0.016,  -999.00, 9, -999.00, -999.00, 9, -999.00
49NZ20071008, P14N, 86, 1, 7, X12044, 2, 20071113, 1603, 19.5165, 178.9987, 4771,   4579.7, 2,   1.4954, 2,  34.6878, 2,  34.6873, 2,    158.7, 2,    158.6, 2,   139.96, 2,    35.68, 2,     0.00, 2,     2.49, 2,    0.000, 2,    0.000, 2,    0.000, 2, -999.000, 9,   -999.0, 9,   -999.0, 9, -999.0000,   -999.00,   -999.0, 9,   -999.0,  -999.00, 9,   -999.0,   1.1113, 27.7870,   1.4953, 2, 9, 0.43, 0.13, 0.01, 0.016,  -999.00, 9, -999.00, -999.00, 9, -999.00
49NZ20071008, P14N, 86, 1, 6, X12048, 2, 20071113, 1603, 19.5165, 178.9987, 4771,     99.6, 2,  24.7977, 2,  35.2573, 2, -999.0000, 9,    206.9, 2,   -999.0, 9,  -999.00, 9,  -999.00, 9,  -999.00, 9,  -999.00, 9, -999.000, 9, -999.000, 9, -999.000, 9, -999.000, 9,   -999.0, 9,   -999.0, 9, -999.0000,   -999.00,   -999.0, 9,   -999.0,  -999.00, 9,   -999.0,  24.7762, 23.6036,  24.7969, 2, 9, -999.00, -999.00, -999.00, -999.000,  -999.00, 1, -999.00, -999.00, 9, -999.00
49NZ20071008, P14N, 86, 1, 5, X12014, 2, 20071113, 1603, 19.5165, 178.9987, 4771,   2071.4, 2,   1.9808, 2,  34.6300, 2, -999.0000, 9,    106.4, 2,   -999.0, 9,  -999.00, 9,  -999.00, 9,  -999.00, 9,  -999.00, 9, -999.000, 9, -999.000, 9, -999.000, 9, -999.000, 9,   -999.0, 9,   -999.0, 9, -999.0000,   -999.00,   -999.0, 9,   -999.0,  -999.00, 9,   -999.0,   1.8386, 27.6878,   1.9808, 2, 9, -999.00, -999.00, -999.00, -999.000,  -999.00, 1, -999.00, -999.00, 9, -999.00
49NZ20071008, P14N, 86, 1, 4, X12006, 2, 20071113, 1603, 19.5165, 178.9987, 4771,   3080.1, 2,   1.5298, 2,  34.6711, 2, -999.0000, 9,    137.2, 2,   -999.0, 9,  -999.00, 9,  -999.00, 9,  -999.00, 9,  -999.00, 9, -999.000, 9, -999.000, 9, -999.000, 9, -999.000, 9,   -999.0, 9,   -999.0, 9, -999.0000,   -999.00,   -999.0, 9,   -999.0,  -999.00, 9,   -999.0,   1.3047, 27.7602,   1.5297, 2, 9, -999.00, -999.00, -999.00, -999.000,  -999.00, 1, -999.00, -999.00, 9, -999.00
49NZ20071008, P14N, 86, 1, 3, X12013, 2, 20071113, 1603, 19.5165, 178.9987, 4771,   4081.9, 2,   1.4646, 2,  34.6856, 2, -999.0000, 9,    155.1, 2,   -999.0, 9,  -999.00, 9,  -999.00, 9,  -999.00, 9,  -999.00, 9, -999.000, 9, -999.000, 9, -999.000, 9, -999.000, 9,   -999.0, 9,   -999.0, 9, -999.0000,   -999.00,   -999.0, 9,   -999.0,  -999.00, 9,   -999.0,   1.1378, 27.7834,   1.4646, 2, 9, -999.00, -999.00, -999.00, -999.000,  -999.00, 1, -999.00, -999.00, 9, -999.00
49NZ20071008, P14N, 86, 1, 2, X12002, 2, 20071113, 1603, 19.5165, 178.9987, 4771,   4835.2, 2,   1.5105, 2,  34.6891, 2, -999.0000, 9,    160.8, 2,   -999.0, 9,  -999.00, 9,  -999.00, 9,  -999.00, 9,  -999.00, 9, -999.000, 9, -999.000, 9, -999.000, 9, -999.000, 9,   -999.0, 9,   -999.0, 9, -999.0000,   -999.00,   -999.0, 9,   -999.0,  -999.00, 9,   -999.0,   1.0958, 27.7891,   1.5105, 2, 9, -999.00, -999.00, -999.00, -999.000,  -999.00, 1, -999.00, -999.00, 9, -999.00
49NZ20071008, P14N, 86, 1, 1, X12001, 2, 20071113, 1603, 19.5165, 178.9987, 4771,   4835.7, 2,   1.5105, 2,  34.6892, 2,  34.6888, 6,    160.8, 2,    160.7, 2,   138.89, 2,    35.50, 2,     0.00, 2,     2.48, 2,    0.000, 2,    0.003, 2,    0.000, 2, -999.000, 9,   -999.0, 9,   -999.0, 9, -999.0000,   -999.00,   -999.0, 9,   -999.0,  -999.00, 9,   -999.0,   1.0957, 27.7891,   1.5106, 2, 9, 0.42, 0.13, 0.01, 0.016,  -999.00, 1, -999.00, -999.00, 9, -999.00