BOTTLE,20221005CCHSIOAMB
EXPOCODE,SECT_ID,STNNBR,CASTNO,SAMPNO,BTLNBR,BTLNBR_FLAG_W,DATE,TIME,LATITUDE,LONGITUDE,DEPTH,CTDPRS,CTDPRS_FLAG_W,CTDTMP,CTDTMP_FLAG_W,CTDSAL,CTDSAL_FLAG_W,SALNTY,SALNTY_FLAG_W,CTDOXY,CTDOXY_FLAG_W,OXYGEN,OXYGEN_FLAG_W,SILCAT,SILCAT_FLAG_W,NITRAT,NITRAT_FLAG_W,NITRIT,NITRIT_FLAG_W,PHSPHT,PHSPHT_FLAG_W,CFC-11,CFC-11_FLAG_W,CFC-12,CFC-12_FLAG_W,CFC113,CFC113_FLAG_W,CCL4,CCL4_FLAG_W,TCARBN,TCARBN_FLAG_W,ALKALI,ALKALI_FLAG_W,PH_TOT,PH_TMP,DELC14,DELC14_FLAG_W,C14ERR,DELC13,DELC13_FLAG_W,C13ERR,THETA,SIG0,SBE35,SBE35_FLAG_W,PH_TOT_FLAG_W,SILUNC,NRAUNC,NRIUNC,PHPUNC,CS-137,CS-137_FLAG_W,CS137ER,PLUTO,PLUTO_FLAG_W,PLUTOER
,,,,,,,,,,,METERS,DBAR,,ITS-90,,PSS-78,,PSS-78,,UMOL/KG,,UMOL/KG,,UMOL/KG,,UMOL/KG,,UMOL/KG,,UMOL/KG,,PMOL/KG,,PMOL/KG,,PMOL/KG,,PMOL/KG,,UMOL/KG,,UMOL/KG,,,DEG C,/MILLE,,/MILLE,/MILLE,,/MILLE,DEG C,KG/M^3,ITS-90,,,UMOL/KG,UMOL/KG,UMOL/KG,UMOL/KG,DM/.1MG,,BQ/M^3,MBQ/M^3,,MBQ/M^3
49NZ20071008, P14N, 39, 1, 36, X12042, 2, 20071101, 0706, 42.9660, 179.0013, 5656,     10.9, 2,  12.8132, 2,  33.2758, 2,  33.2758, 2,    261.1, 2,    264.1, 2,     9.37, 2,     4.48, 2,     0.18, 2,     0.59, 2,    3.060, 2,    1.781, 2,    0.278, 2, -999.000, 9,   2010.7, 2,   2230.5, 2,    7.9347,     25.00,   -999.0, 9,   -999.0,  -999.00, 9,   -999.0,  12.8118, 25.0944,  12.8141, 2, 6, 0.14, 0.05, 0.01, 0.013,  -999.00, 9, -999.00, -999.00, 9, -999.00
49NZ20071008, P14N, 39, 1, 35, X12041, 2, 20071101, 0706, 42.9660, 179.0013, 5656,     51.6, 2,  12.1657, 2,  33.9188, 2,  33.9050, 2,    239.1, 2,    247.4, 2,    11.78, 2,     8.43, 2,     0.31, 2,     0.76, 2,    3.125, 2,    1.796, 2,    0.263, 2, -999.000, 9,   2053.5, 6,   2255.3, 2,    7.8808,     25.00,   -999.0, 9,   -999.0,  -999.00, 9,   -999.0,  12.1590, 25.7192,  12.1683, 2, 2, 0.14, 0.06, 0.01, 0.013,  -999.00, 9, -999.00, -999.00, 9, -999.00
49NZ20071008, P14N, 39, 1, 34, X12016, 2, 20071101, 0706, 42.9660, 179.0013, 5656,    101.5, 2,  10.1210, 2,  34.1792, 2,  34.1781, 2,    231.9, 2,    234.0, 2,    18.95, 2,    14.14, 2,     0.03, 2,     1.07, 2,    3.259, 2,    1.820, 2,    0.227, 2, -999.000, 9,   2099.6, 2,   2270.2, 6,    7.8054,     25.00,   -999.0, 9,   -999.0,  -999.00, 9,   -999.0,  10.1093, 26.2924,  10.1228, 2, 2, 0.16, 0.07, 0.01, 0.013,  -999.00, 9, -999.00, -999.00, 9, -999.00
49NZ20071008, P14N, 39, 1, 33, X12033, 2, 20071101, 0706, 42.9660, 179.0013, 5656,    151.2, 2,   8.8303, 2,  34.0429, 2,  34.0433, 2,    251.6, 2,    251.2, 2,    20.88, 2,    14.66, 2,     0.03, 2,     1.13, 2,    3.570, 2,    1.997, 2,    0.272, 2, -999.000, 9,   2105.1, 2,   2266.1, 2,    7.7907,     25.00,   -999.0, 9,   -999.0,  -999.00, 9,   -999.0,   8.8143, 26.3980,   8.8318, 2, 6, 0.16, 0.07, 0.01, 0.013,  -999.00, 9, -999.00, -999.00, 9, -999.00
49NZ20071008, P14N, 39, 1, 32, X12038, 2, 20071101, 0706, 42.9660, 179.0013, 5656,    200.8, 2,   8.4960, 2,  34.0397, 2,  34.0418, 2,    254.6, 2,    249.7, 2,    21.95, 2,    15.17, 2,     0.02, 2,     1.17, 2,    3.597, 2,    2.012, 2,    0.253, 2, -999.000, 9,   2110.2, 2,   2267.4, 2,    7.7818,     25.00,   -999.0, 9,   -999.0,  -999.00, 9,   -999.0,   8.4752, 26.4480,   8.4977, 2, 2, 0.17, 0.08, 0.01, 0.013,  -999.00, 9, -999.00, -999.00, 9, -999.00
49NZ20071008, P14N, 39, 1, 31, X12003, 2, 20071101, 0706, 42.9660, 179.0013, 5656,    249.9, 2,   7.6411, 2,  33.9802, 2,  33.9798, 6,    217.3, 2,    219.6, 2,    30.97, 2,    19.57, 2,     0.02, 2,     1.47, 2,    3.427, 2,    1.874, 2,    0.221, 2, -999.000, 9,   2139.8, 2,   2270.2, 2,    7.7168,     25.00,   -999.0, 9,   -999.0,  -999.00, 9,   -999.0,   7.6168, 26.5288,   7.6466, 2, 2, 0.19, 0.09, 0.01, 0.014,  -999.00, 9, -999.00, -999.00, 9, -999.00
49NZ20071008, P14N, 39, 1, 30, X12008, 2, 20071101, 0706, 42.9660, 179.0013, 5656,    280.0, 2,   7.1320, 2,  33.9573, 2,  33.9581, 2,    191.5, 2,    201.1, 2,    37.12, 2,    22.35, 2,     0.01, 2,     1.67, 2,    3.295, 2,    1.775, 2,    0.207, 2, -999.000, 9,   2158.1, 2,   2274.8, 2,    7.6749,     25.00,   -999.0, 9,   -999.0,  -999.00, 9,   -999.0,   7.1058, 26.5829,   7.1316, 2, 2, 0.20, 0.10, 0.01, 0.014,  -999.00, 9, -999.00, -999.00, 9, -999.00
49NZ20071008, P14N, 39, 1, 29, X12035, 2, 20071101, 0706, 42.9660, 179.0013, 5656,    371.4, 2,   5.4758, 2,  33.9021, 2,  33.9103, 2,    155.7, 2,    156.6, 2,    56.29, 2,    29.15, 2,     0.01, 2,     2.17, 2,    2.875, 2,    1.484, 2,    0.179, 2, -999.000, 9,   2214.2, 2,   2285.9, 2,    7.5581,     25.00,   -999.0, 9,   -999.0,  -999.00, 9,   -999.0,   5.4456, 26.7529,   5.4715, 2, 2, 0.24, 0.11, 0.01, 0.015,  -999.00, 9, -999.00, -999.00, 9, -999.00
49NZ20071008, P14N, 39, 1, 28, X12034, 2, 20071101, 0706, 42.9660, 179.0013, 5656,    470.6, 2,   4.3123, 2,  33.9072, 2,  33.9064, 6,    113.0, 2,    114.4, 2,    76.18, 2,    35.25, 2,     0.01, 2,     2.60, 2,    2.470, 2,    1.248, 2,    0.151, 2, -999.000, 9,   2261.5, 2,   2298.2, 2,    7.4484,     25.00,   -999.0, 9,   -999.0,  -999.00, 9,   -999.0,   4.2779, 26.8881,   4.3125, 2, 2, 0.29, 0.13, 0.01, 0.016,  -999.00, 9, -999.00, -999.00, 9, -999.00
49NZ20071008, P14N, 39, 1, 27, X12049, 2, 20071101, 0706, 42.9660, 179.0013, 5656,    570.8, 2,   3.9844, 2,  34.0143, 2,  34.0156, 2,     72.6, 2,     73.0, 2,    92.59, 2,    39.33, 2,     0.01, 2,     2.85, 2,    1.721, 2,    0.839, 2,    0.105, 2, -999.000, 9,   2301.6, 2,   2315.4, 2,    7.3832,     25.00,   -999.0, 9,   -999.0,  -999.00, 9,   -999.0,   3.9436, 27.0078,   3.9868, 2, 2, 0.32, 0.14, 0.01, 0.017,  -999.00, 9, -999.00, -999.00, 9, -999.00
49NZ20071008, P14N, 39, 1, 26, X12032, 2, 20071101, 0706, 42.9660, 179.0013, 5656,    670.3, 2,   3.8927, 2,  34.1298, 2,  34.1335, 2,     51.7, 2,     52.3, 2,   104.54, 2,    40.69, 2,     0.01, 2,     2.95, 2,    1.086, 6,    0.520, 6,    0.065, 6, -999.000, 9,   2324.0, 6,   2332.2, 2,    7.3643,     25.00,   -999.0, 9,   -999.0,  -999.00, 9,   -999.0,   3.8446, 27.1097,   3.8929, 2, 2, 0.35, 0.15, 0.01, 0.017,  -999.00, 9, -999.00, -999.00, 9, -999.00
49NZ20071008, P14N, 39, 1, 25, X12043, 2, 20071101, 0706, 42.9660, 179.0013, 5656,    769.3, 2,   3.7869, 2,  34.2416, 2,  34.2423, 2,     39.9, 2,     39.9, 2,   113.83, 2,    41.80, 2,     0.01, 2,     3.02, 2,    0.473, 2,    0.220, 2,    0.023, 2, -999.000, 9,   2338.7, 2,   2348.9, 6,    7.3664,     25.00,   -999.0, 9,   -999.0,  -999.00, 9,   -999.0,   3.7317, 27.2101,   3.7871, 2, 2, 0.37, 0.15, 0.01, 0.017,  -999.00, 9, -999.00, -999.00, 9, -999.00
49NZ20071008, P14N, 39, 1, 24, X12030, 2, 20071101, 0706, 42.9660, 179.0013, 5656,    869.1, 2,   3.4836, 2,  34.2947, 2,  34.2969, 2,     32.8, 2,     32.0, 2,   123.34, 2,    42.64, 2,     0.01, 2,     3.07, 2,    0.277, 2,    0.127, 2,    0.010, 2, -999.000, 9,   2353.0, 2,   2360.4, 2,    7.3554,     25.00,   -999.0, 9,   -999.0,  -999.00, 9,   -999.0,   3.4225, 27.2826,   3.4837, 2, 2, 0.39, 0.15, 0.01, 0.018,  -999.00, 9, -999.00, -999.00, 9, -999.00
49NZ20071008, P14N, 39, 1, 23, X12027, 2, 20071101, 0706, 42.9660, 179.0013, 5656,    969.6, 2,   3.1982, 2,  34.3347, 2,  34.3348, 6,     30.1, 2,     29.7, 2,   132.08, 2,    42.97, 2,     0.01, 2,     3.10, 2,    0.230, 2,    0.106, 2,    0.010, 2, -999.000, 9,   2363.5, 2,   2368.9, 2,    7.3500,     25.00,   -999.0, 9,   -999.0,  -999.00, 9,   -999.0,   3.1314, 27.3419,   3.1983, 2, 2, 0.41, 0.15, 0.01, 0.018,  -999.00, 9, -999.00, -999.00, 9, -999.00
49NZ20071008, P14N, 39, 1, 22, X12028, 2, 20071101, 0706, 42.9660, 179.0013, 5656,   1132.2, 2,   2.8934, 2,  34.3977, 2,  34.3976, 2,     29.9, 2,     30.2, 2,   141.26, 2,    43.34, 2,     0.01, 2,     3.11, 2,    0.127, 2,    0.055, 2,    0.010, 2, -999.000, 9,   2372.9, 2,   2380.6, 2,    7.3575,     25.00,   -999.0, 9,   -999.0,  -999.00, 9,   -999.0,   2.8165, 27.4208,   2.8937, 2, 2, 0.43, 0.15, 0.01, 0.018,  -999.00, 9, -999.00, -999.00, 9, -999.00
49NZ20071008, P14N, 39, 1, 21, X12009, 2, 20071101, 0706, 42.9660, 179.0013, 5656,   1330.1, 2,   2.6100, 2,  34.4584, 2,  34.4583, 2,     28.8, 2,     27.3, 2,   150.55, 2,    43.88, 2,     0.01, 2,     3.14, 2,    0.039, 2,    0.017, 2,    0.000, 2, -999.000, 9,   2385.1, 2,   2393.6, 2,    7.3586,     25.00,   -999.0, 9,   -999.0,  -999.00, 9,   -999.0,   2.5204, 27.4951,   2.6098, 2, 2, 0.45, 0.16, 0.01, 0.018,  -999.00, 9, -999.00, -999.00, 9, -999.00
49NZ20071008, P14N, 39, 1, 20, X12026, 2, 20071101, 0706, 42.9660, 179.0013, 5656,   1531.0, 2,   2.3560, 2,  34.4994, 2,  34.4996, 2,     36.3, 2,     38.1, 2,   157.17, 2,    43.20, 2,     0.01, 2,     3.09, 2,    0.039, 2,    0.017, 2,    0.000, 2, -999.000, 9,   2383.8, 2,   2399.5, 2,    7.3781,     25.00,   -999.0, 9,   -999.0,  -999.00, 9,   -999.0,   2.2533, 27.5502,   2.3561, 2, 6, 0.46, 0.15, 0.01, 0.018,  -999.00, 9, -999.00, -999.00, 9, -999.00
49NZ20071008, P14N, 39, 1, 19, X12025, 2, 20071101, 0706, 42.9660, 179.0013, 5656,   1730.8, 2,   2.1649, 2,  34.5395, 2,  34.5391, 2,     46.2, 2,     48.0, 2,   161.43, 2,    42.49, 2,     0.01, 2,     3.04, 2,    0.023, 2,    0.011, 2,    0.000, 2, -999.000, 9,   2381.9, 2,   2407.2, 2,    7.3992,     25.00,   -999.0, 9,   -999.0,  -999.00, 9,   -999.0,   2.0486, 27.5988,   2.1654, 2, 2, 0.47, 0.15, 0.01, 0.018,  -999.00, 9, -999.00, -999.00, 9, -999.00
49NZ20071008, P14N, 39, 1, 18, X12024, 2, 20071101, 0706, 42.9660, 179.0013, 5656,   1931.7, 2,   2.0340, 2,  34.5670, 2,  34.5668, 2,     56.4, 2,     57.7, 2,   163.67, 2,    41.93, 2,     0.01, 2,     2.99, 2,    0.013, 2,    0.004, 2,    0.000, 2, -999.000, 9,   2379.5, 2,   2409.9, 2,    7.4181,     25.00,   -999.0, 9,   -999.0,  -999.00, 9,   -999.0,   1.9030, 27.6324,   2.0343, 2, 2, 0.48, 0.15, 0.01, 0.017,  -999.00, 9, -999.00, -999.00, 9, -999.00
49NZ20071008, P14N, 39, 1, 17, X12023, 2, 20071101, 0706, 42.9660, 179.0013, 5656,   2130.7, 2,   1.9212, 2,  34.5933, 2,  34.5934, 2,     65.2, 2,     64.3, 2,   166.29, 2,    41.76, 2,     0.01, 2,     2.97, 2,    0.004, 2,    0.005, 2,    0.000, 2, -999.000, 9,   2382.2, 2,   2415.9, 2,    7.4330,     25.00,   -999.0, 9,   -999.0,  -999.00, 9,   -999.0,   1.7751, 27.6633,   1.9213, 2, 2, 0.48, 0.15, 0.01, 0.017,  -999.00, 9, -999.00, -999.00, 9, -999.00
49NZ20071008, P14N, 39, 1, 16, X12022, 2, 20071101, 0706, 42.9660, 179.0013, 5656,   2331.1, 2,   1.8225, 2,  34.6130, 2,  34.6129, 2,     79.3, 2,     75.3, 2,   166.62, 2,    41.07, 2,     0.01, 2,     2.92, 2,    0.001, 2,    0.001, 2,    0.000, 2, -999.000, 9,   2376.6, 6,   2418.4, 2,    7.4535,     25.00,   -999.0, 9,   -999.0,  -999.00, 9,   -999.0,   1.6607, 27.6877,   1.8225, 2, 2, 0.49, 0.15, 0.01, 0.017,  -999.00, 9, -999.00, -999.00, 9, -999.00
49NZ20071008, P14N, 39, 1, 15, X12021, 2, 20071101, 0706, 42.9660, 179.0013, 5656,   2531.5, 2,   1.7422, 2,  34.6278, 2,  34.6278, 6,     89.4, 2,     87.3, 2,   165.76, 2,    40.36, 2,     0.01, 2,     2.86, 2,    0.000, 2,    0.000, 2,    0.000, 2, -999.000, 9,   2367.1, 2,   2418.6, 6,    7.4770,     25.00,   -999.0, 9,   -999.0,  -999.00, 9,   -999.0,   1.5640, 27.7068,   1.7422, 2, 2, 0.48, 0.15, 0.01, 0.017,  -999.00, 9, -999.00, -999.00, 9, -999.00
49NZ20071008, P14N, 39, 1, 14, X12020, 2, 20071101, 0706, 42.9660, 179.0013, 5656,   2729.8, 2,   1.6634, 2,  34.6419, 2,  34.6423, 2,     99.5, 2,     99.6, 2,   164.00, 2,    39.58, 2,     0.01, 2,     2.81, 2, -999.000, 9, -999.000, 9, -999.000, 9, -999.000, 9,   2359.9, 2,   2420.6, 2,    7.4986,     25.00,   -999.0, 9,   -999.0,  -999.00, 9,   -999.0,   1.4686, 27.7251,   1.6635, 2, 6, 0.48, 0.14, 0.01, 0.017,  -999.00, 9, -999.00, -999.00, 9, -999.00
49NZ20071008, P14N, 39, 1, 13, X12019, 2, 20071101, 0706, 42.9660, 179.0013, 5656,   2929.3, 2,   1.6101, 2,  34.6518, 2,  34.6520, 2,    109.9, 2,    109.0, 2,   162.34, 2,    38.88, 2,     0.01, 2,     2.76, 2, -999.000, 9, -999.000, 9, -999.000, 9, -999.000, 9,   2356.4, 2,   2422.1, 2,    7.5157,     25.00,   -999.0, 9,   -999.0,  -999.00, 9,   -999.0,   1.3977, 27.7381,   1.6103, 2, 2, 0.48, 0.14, 0.01, 0.017,  -999.00, 9, -999.00, -999.00, 9, -999.00
49NZ20071008, P14N, 39, 1, 12, X12040, 2, 20071101, 0706, 42.9660, 179.0013, 5656,   3170.4, 2,   1.5553, 2,  34.6618, 2,  34.6617, 2,    121.0, 2,    121.3, 2,   159.00, 2,    37.88, 2,     0.01, 2,     2.69, 2,    0.001, 2,    0.000, 2,    0.000, 2, -999.000, 9,   2347.4, 2,   2420.4, 2,    7.5382,     25.00,   -999.0, 9,   -999.0,  -999.00, 9,   -999.0,   1.3209, 27.7516,   1.5553, 2, 2, 0.47, 0.14, 0.01, 0.017,  -999.00, 9, -999.00, -999.00, 9, -999.00
49NZ20071008, P14N, 39, 1, 11, X12047, 2, 20071101, 0706, 42.9660, 179.0013, 5656,   3417.3, 2,   1.5099, 2,  34.6704, 2,  34.6704, 2,    130.1, 2,    131.5, 2,   156.63, 2,    37.33, 2,     0.01, 2,     2.64, 2, -999.000, 9, -999.000, 9, -999.000, 9, -999.000, 9,   2341.0, 2,   2420.0, 2,    7.5554,     25.00,   -999.0, 9,   -999.0,  -999.00, 9,   -999.0,   1.2520, 27.7634,   1.5099, 2, 2, 0.46, 0.14, 0.01, 0.017,  -999.00, 9, -999.00, -999.00, 9, -999.00
49NZ20071008, P14N, 39, 1, 10, X12017, 2, 20071101, 0706, 42.9660, 179.0013, 5656,   3668.6, 2,   1.4819, 2,  34.6767, 2,  34.6766, 2,    138.0, 2,    139.4, 2,   154.72, 2,    36.92, 2,     0.01, 2,     2.60, 2, -999.000, 9, -999.000, 9, -999.000, 9, -999.000, 9,   2332.9, 2,   2420.0, 2,    7.5692,     25.00,   -999.0, 9,   -999.0,  -999.00, 9,   -999.0,   1.1989, 27.7721,   1.4819, 2, 2, 0.46, 0.14, 0.01, 0.016,  -999.00, 9, -999.00, -999.00, 9, -999.00
49NZ20071008, P14N, 39, 1, 9, X12015, 2, 20071101, 0706, 42.9660, 179.0013, 5656,   3918.0, 2,   1.4716, 2,  34.6809, 2,  34.6808, 2,    143.9, 2,    144.6, 2,   153.30, 2,    36.58, 2,     0.01, 2,     2.58, 2,    0.000, 2,    0.000, 2,    0.000, 2, -999.000, 9,   2330.9, 2,   2419.2, 2,    7.5784,     25.00,   -999.0, 9,   -999.0,  -999.00, 9,   -999.0,   1.1624, 27.7780,   1.4717, 2, 2, 0.46, 0.14, 0.01, 0.016,  -999.00, 9, -999.00, -999.00, 9, -999.00
49NZ20071008, P14N, 39, 1, 8, X12046, 2, 20071101, 0706, 42.9660, 179.0013, 5656,   4170.0, 2,   1.4685, 2,  34.6844, 2,  34.6844, 6,    148.0, 2,    148.9, 2,   153.37, 2,    36.11, 2,     0.01, 2,     2.55, 2, -999.000, 9, -999.000, 9, -999.000, 9, -999.000, 9,   2328.5, 6,   2420.9, 2,    7.5869,     25.00,   -999.0, 9,   -999.0,  -999.00, 9,   -999.0,   1.1318, 27.7829,   1.4686, 2, 2, 0.46, 0.13, 0.01, 0.016,  -999.00, 9, -999.00, -999.00, 9, -999.00
49NZ20071008, P14N, 39, 1, 7, X12044, 2, 20071101, 0706, 42.9660, 179.0013, 5656,   4421.2, 2,   1.4823, 2,  34.6863, 2,  34.6863, 2,    150.0, 2,    150.8, 2,   153.86, 2,    36.04, 2,     0.01, 2,     2.54, 2, -999.000, 9, -999.000, 9, -999.000, 9, -999.000, 9,   2328.9, 2,   2420.9, 6,    7.5910,     25.00,   -999.0, 9,   -999.0,  -999.00, 9,   -999.0,   1.1169, 27.7855,   1.4823, 2, 2, 0.46, 0.13, 0.01, 0.016,  -999.00, 9, -999.00, -999.00, 9, -999.00
49NZ20071008, P14N, 39, 1, 6, X12048, 2, 20071101, 0706, 42.9660, 179.0013, 5656,   4672.9, 2,   1.5022, 2,  34.6877, 2,  34.6873, 2,    151.4, 2,    152.1, 2,   155.11, 2,    35.91, 2,     0.01, 2,     2.54, 2,    0.000, 2,    0.002, 2,    0.000, 2, -999.000, 9,   2327.5, 2,   2421.8, 2,    7.5945,     25.00,   -999.0, 9,   -999.0,  -999.00, 9,   -999.0,   1.1070, 27.7872,   1.5022, 2, 6, 0.46, 0.13, 0.01, 0.016,  -999.00, 9, -999.00, -999.00, 9, -999.00
49NZ20071008, P14N, 39, 1, 5, X12014, 2, 20071101, 0706, 42.9660, 179.0013, 5656,   4919.7, 2,   1.5283, 2,  34.6883, 2,  34.6883, 2,    152.2, 2,    152.6, 2,   155.71, 2,    36.04, 2,     0.01, 2,     2.53, 2, -999.000, 9, -999.000, 9, -999.000, 9, -999.000, 9,   2327.8, 2,   2422.2, 2,    7.5949,     25.00,   -999.0, 9,   -999.0,  -999.00, 9,   -999.0,   1.1029, 27.7880,   1.5283, 2, 2, 0.46, 0.13, 0.01, 0.016,  -999.00, 9, -999.00, -999.00, 9, -999.00
49NZ20071008, P14N, 39, 1, 4, X12006, 2, 20071101, 0706, 42.9660, 179.0013, 5656,   5170.7, 2,   1.5589, 2,  34.6886, 2,  34.6885, 2,    152.3, 2,    152.9, 2,   155.58, 2,    35.99, 2,     0.01, 2,     2.53, 2, -999.000, 9, -999.000, 9, -999.000, 9, -999.000, 9,   2325.3, 2,   2421.9, 2,    7.5957,     25.00,   -999.0, 9,   -999.0,  -999.00, 9,   -999.0,   1.1017, 27.7883,   1.5590, 2, 2, 0.46, 0.13, 0.01, 0.016,  -999.00, 9, -999.00, -999.00, 9, -999.00
49NZ20071008, P14N, 39, 1, 3, X12013, 2, 20071101, 0706, 42.9660, 179.0013, 5656,   5421.5, 2,   1.5912, 2,  34.6886, 2,  34.6889, 2,    152.5, 2,    152.8, 2,   155.81, 2,    35.96, 2,     0.01, 2,     2.53, 2,    0.001, 2,    0.002, 2,    0.000, 2, -999.000, 9,   2325.8, 2,   2422.9, 2,    7.5959,     25.00,   -999.0, 9,   -999.0,  -999.00, 9,   -999.0,   1.1013, 27.7883,   1.5912, 2, 2, 0.46, 0.13, 0.01, 0.016,  -999.00, 9, -999.00, -999.00, 9, -999.00
49NZ20071008, P14N, 39, 1, 2, X12002, 2, 20071101, 0706, 42.9660, 179.0013, 5656,   5670.4, 2,   1.6243, 2,  34.6888, 2,  34.6884, 2,    152.7, 2,    152.9, 2,   155.85, 2,    36.04, 2,     0.01, 2,     2.53, 2, -999.000, 9, -999.000, 9, -999.000, 9, -999.000, 9,   2328.8, 2,   2421.5, 2,    7.5956,     25.00,   -999.0, 9,   -999.0,  -999.00, 9,   -999.0,   1.1012, 27.7885,   1.6243, 2, 2, 0.46, 0.13, 0.01, 0.016,  -999.00, 9, -999.00, -999.00, 9, -999.00
49NZ20071008, P14N, 39, 1, 1, X12001, 2, 20071101, 0706, 42.9660, 179.0013, 5656,   5762.0, 2,   1.6367, 2,  34.6887, 2,  34.6882, 6,    152.7, 2,    152.9, 2,   155.96, 2,    36.04, 2,     0.01, 2,     2.54, 2,    0.000, 2,    0.001, 2,    0.000, 2, -999.000, 9,   2326.1, 2,   2422.0, 2,    7.5956,     25.00,   -999.0, 9,   -999.0,  -999.00, 9,   -999.0,   1.1011, 27.7884,   1.6367, 2, 2, 0.46, 0.13, 0.01, 0.016,  -999.00, 9, -999.00, -999.00, 9, -999.00