BOTTLE,20221005CCHSIOAMB
EXPOCODE,SECT_ID,STNNBR,CASTNO,SAMPNO,BTLNBR,BTLNBR_FLAG_W,DATE,TIME,LATITUDE,LONGITUDE,DEPTH,CTDPRS,CTDPRS_FLAG_W,CTDTMP,CTDTMP_FLAG_W,CTDSAL,CTDSAL_FLAG_W,SALNTY,SALNTY_FLAG_W,CTDOXY,CTDOXY_FLAG_W,OXYGEN,OXYGEN_FLAG_W,SILCAT,SILCAT_FLAG_W,NITRAT,NITRAT_FLAG_W,NITRIT,NITRIT_FLAG_W,PHSPHT,PHSPHT_FLAG_W,CFC-11,CFC-11_FLAG_W,CFC-12,CFC-12_FLAG_W,CFC113,CFC113_FLAG_W,CCL4,CCL4_FLAG_W,TCARBN,TCARBN_FLAG_W,ALKALI,ALKALI_FLAG_W,PH_TOT,PH_TMP,DELC14,DELC14_FLAG_W,C14ERR,DELC13,DELC13_FLAG_W,C13ERR,THETA,SIG0,SBE35,SBE35_FLAG_W,PH_TOT_FLAG_W,SILUNC,NRAUNC,NRIUNC,PHPUNC,CS-137,CS-137_FLAG_W,CS137ER,PLUTO,PLUTO_FLAG_W,PLUTOER
,,,,,,,,,,,METERS,DBAR,,ITS-90,,PSS-78,,PSS-78,,UMOL/KG,,UMOL/KG,,UMOL/KG,,UMOL/KG,,UMOL/KG,,UMOL/KG,,PMOL/KG,,PMOL/KG,,PMOL/KG,,PMOL/KG,,UMOL/KG,,UMOL/KG,,,DEG C,/MILLE,,/MILLE,/MILLE,,/MILLE,DEG C,KG/M^3,ITS-90,,,UMOL/KG,UMOL/KG,UMOL/KG,UMOL/KG,DM/.1MG,,BQ/M^3,MBQ/M^3,,MBQ/M^3
49NZ20071008, P01, P01_36, 1, 36, X12042, 2, 20071013, 1236, 46.0655, 158.3260, 4835,     12.4, 2,   9.6680, 2,  32.5792, 2,  32.5795, 2,    284.6, 2,    284.7, 2,    15.41, 2,    10.14, 2,     0.19, 2,     1.16, 2,    3.681, 2,    2.024, 2,    0.354, 2, -999.000, 9,   2021.0, 2,   2212.3, 2,    7.8820,     25.00,   -999.0, 9,   -999.0,  -999.00, 9,   -999.0,   9.6666, 25.1170,   9.6673, 2, 6, 0.15, 0.06, 0.01, 0.013,  -999.00, 9, -999.00, -999.00, 9, -999.00
49NZ20071008, P01, P01_36, 1, 35, X12041, 2, 20071013, 1236, 46.0655, 158.3260, 4835,     51.3, 2,   2.3359, 2,  32.9997, 2,  33.0003, 2,    323.7, 2,    324.6, 2,    39.36, 2,    22.94, 2,     0.71, 2,     1.96, 2,    5.474, 2,    2.933, 2,    0.510, 2, -999.000, 9,   2123.0, 6,   2234.1, 2,    7.6807,     25.00,   -999.0, 9,   -999.0,  -999.00, 9,   -999.0,   2.3332, 26.3437,   2.3503, 2, 2, 0.21, 0.10, 0.00, 0.015,  -999.00, 9, -999.00, -999.00, 9, -999.00
49NZ20071008, P01, P01_36, 1, 34, X12016, 2, 20071013, 1236, 46.0655, 158.3260, 4835,    101.6, 2,   1.1578, 2,  33.1081, 2,  33.1081, 2,    307.6, 2,    309.3, 2,    46.28, 2,    27.04, 2,     0.02, 2,     2.13, 2,    5.420, 2,    2.876, 2,    0.513, 2, -999.000, 9,   2149.7, 2,   2241.2, 6,    7.6243,     25.00,   -999.0, 9,   -999.0,  -999.00, 9,   -999.0,   1.1534, 26.5146,   1.1600, 2, 2, 0.22, 0.11, 0.01, 0.015,  -999.00, 9, -999.00, -999.00, 9, -999.00
49NZ20071008, P01, P01_36, 1, 33, X12033, 2, 20071013, 1236, 46.0655, 158.3260, 4835,    151.1, 2,   3.3501, 2,  33.7093, 2,  33.7034, 2,    106.6, 2,     89.6, 2,    85.29, 2,    41.26, 2,     0.01, 2,     2.99, 2,    2.706, 6,    1.368, 6,    0.220, 6, -999.000, 9,   2292.7, 2,   2285.9, 2,    7.3345,     25.00,   -999.0, 9,   -999.0,  -999.00, 9,   -999.0,   3.3406, 26.8237,   3.3602, 2, 2, 0.31, 0.15, 0.01, 0.017,  -999.00, 9, -999.00, -999.00, 9, -999.00
49NZ20071008, P01, P01_36, 1, 32, X12038, 2, 20071013, 1236, 46.0655, 158.3260, 4835,    200.7, 2,   3.4857, 2,  33.8648, 2,  33.8642, 2,     54.3, 2,     44.3, 2,    96.09, 2,    44.06, 2,     0.01, 2,     3.15, 2,    2.022, 2,    1.008, 2,    0.160, 2, -999.000, 9,   2325.9, 2,   2300.5, 2,    7.2795,     25.00,   -999.0, 9,   -999.0,  -999.00, 9,   -999.0,   3.4728, 26.9352,   3.4858, 2, 2, 0.33, 0.16, 0.01, 0.018,  -999.00, 9, -999.00, -999.00, 9, -999.00
49NZ20071008, P01, P01_36, 1, 31, X12003, 2, 20071013, 1236, 46.0655, 158.3260, 4835,    252.5, 2,   3.4318, 2,  33.9525, 2,  33.9520, 6,     35.5, 2,     32.0, 2,   103.47, 2,    44.52, 2,     0.01, 2,     3.18, 2,    1.636, 2,    0.811, 2,    0.131, 2, -999.000, 9,   2340.7, 2,   2312.8, 2,    7.2719,     25.00,   -999.0, 9,   -999.0,  -999.00, 9,   -999.0,   3.4155, 27.0105,   3.4325, 2, 2, 0.35, 0.16, 0.01, 0.018,  -999.00, 9, -999.00, -999.00, 9, -999.00
49NZ20071008, P01, P01_36, 1, 30, X12008, 2, 20071013, 1236, 46.0655, 158.3260, 4835,    281.6, 2,   3.4155, 2,  33.9919, 2,  33.9892, 2,     22.7, 2,     28.8, 2,   106.69, 2,    44.68, 2,     0.01, 2,     3.20, 2,    1.457, 2,    0.709, 2,    0.110, 2, -999.000, 9,   2342.4, 2,   2317.2, 2,    7.2744,     25.00,   -999.0, 9,   -999.0,  -999.00, 9,   -999.0,   3.3973, 27.0436,   3.4152, 2, 2, 0.35, 0.16, 0.01, 0.018,  -999.00, 9, -999.00, -999.00, 9, -999.00
49NZ20071008, P01, P01_36, 1, 29, X12035, 2, 20071013, 1236, 46.0655, 158.3260, 4835,    372.2, 2,   3.4270, 2,  34.0962, 2,  34.0954, 2,     20.4, 2,     22.1, 2,   115.99, 2,    44.46, 2,     0.01, 2,     3.19, 2,    0.982, 2,    0.476, 2,    0.070, 2, -999.000, 9,   2352.8, 2,   2332.5, 2,    7.2870,     25.00,   -999.0, 9,   -999.0,  -999.00, 9,   -999.0,   3.4026, 27.1263,   3.4268, 2, 2, 0.37, 0.16, 0.01, 0.018,  -999.00, 9, -999.00, -999.00, 9, -999.00
49NZ20071008, P01, P01_36, 1, 28, X12034, 2, 20071013, 1236, 46.0655, 158.3260, 4835,    475.8, 2,   3.3815, 2,  34.1888, 2,  34.1873, 6,     13.8, 2,     13.4, 2,   124.80, 2,    44.69, 2,     0.01, 2,     3.20, 2,    0.569, 2,    0.271, 2,    0.044, 2, -999.000, 9,   2365.9, 2,   2345.9, 2,    7.2901,     25.00,   -999.0, 9,   -999.0,  -999.00, 9,   -999.0,   3.3500, 27.2051,   3.3813, 2, 2, 0.39, 0.16, 0.01, 0.018,  -999.00, 9, -999.00, -999.00, 9, -999.00
49NZ20071008, P01, P01_36, 1, 27, X12049, 2, 20071013, 1236, 46.0655, 158.3260, 4835,    570.7, 2,   3.1645, 2,  34.2510, 2,  34.2494, 2,     17.9, 2,     16.3, 2,   132.04, 2,    44.36, 2,     0.01, 2,     3.18, 2,    0.427, 2,    0.204, 2,    0.039, 2, -999.000, 9,   2370.4, 2,   2356.8, 2,    7.3064,     25.00,   -999.0, 9,   -999.0,  -999.00, 9,   -999.0,   3.1272, 27.2755,   3.1645, 2, 2, 0.41, 0.16, 0.01, 0.018,  -999.00, 9, -999.00, -999.00, 9, -999.00
49NZ20071008, P01, P01_36, 1, 26, X12032, 2, 20071013, 1236, 46.0655, 158.3260, 4835,    673.0, 2,   2.9576, 2,  34.2994, 2,  34.2997, 2,     21.9, 2,     21.9, 2,   138.47, 2,    43.96, 2,     0.01, 2,     3.16, 2,    0.361, 6,    0.172, 6,    0.023, 6, -999.000, 9,   2375.5, 6,   2365.5, 2,    7.3231,     25.00,   -999.0, 9,   -999.0,  -999.00, 9,   -999.0,   2.9141, 27.3335,   2.9569, 2, 2, 0.42, 0.16, 0.01, 0.018,  -999.00, 9, -999.00, -999.00, 9, -999.00
49NZ20071008, P01, P01_36, 1, 25, X12043, 2, 20071013, 1236, 46.0655, 158.3260, 4835,    772.1, 2,   2.8162, 2,  34.3513, 2,  34.3515, 2,     21.3, 2,     22.8, 2,   144.27, 2,    43.98, 2,     0.01, 2,     3.16, 2,    0.245, 2,    0.117, 2,    0.016, 2, -999.000, 9,   2379.8, 2,   2374.6, 6,    7.3321,     25.00,   -999.0, 9,   -999.0,  -999.00, 9,   -999.0,   2.7665, 27.3881,   2.8163, 2, 2, 0.44, 0.16, 0.01, 0.018,  -999.00, 9, -999.00, -999.00, 9, -999.00
49NZ20071008, P01, P01_36, 1, 24, X12030, 2, 20071013, 1236, 46.0655, 158.3260, 4835,    873.1, 2,   2.6932, 2,  34.3907, 2,  34.3902, 2,     23.7, 2,     24.3, 2,   148.64, 2,    43.68, 2,     0.00, 2,     3.14, 2,    0.175, 2,    0.082, 2,    0.000, 2, -999.000, 9,   2383.2, 2,   2380.7, 2,    7.3401,     25.00,   -999.0, 9,   -999.0,  -999.00, 9,   -999.0,   2.6371, 27.4310,   2.6934, 2, 6, 0.45, 0.16, 0.01, 0.018,  -999.00, 9, -999.00, -999.00, 9, -999.00
49NZ20071008, P01, P01_36, 1, 23, X12027, 2, 20071013, 1236, 46.0655, 158.3260, 4835,    969.3, 2,   2.5792, 2,  34.4224, 2,  34.4234, 6,     22.9, 2,     23.5, 2,   154.21, 2,    43.98, 2,     0.00, 2,     3.16, 2,    0.107, 2,    0.046, 2,    0.011, 2, -999.000, 9,   2389.5, 2,   2387.3, 2,    7.3413,     25.00,   -999.0, 9,   -999.0,  -999.00, 9,   -999.0,   2.5170, 27.4666,   2.5788, 2, 2, 0.46, 0.16, 0.01, 0.018,  -999.00, 9, -999.00, -999.00, 9, -999.00
49NZ20071008, P01, P01_36, 1, 22, X12028, 2, 20071013, 1236, 46.0655, 158.3260, 4835,   1129.8, 2,   2.3670, 2,  34.4742, 2,  34.4740, 2,     28.2, 2,     28.9, 2,   160.84, 2,    43.55, 2,     0.00, 2,     3.13, 2,    0.063, 2,    0.027, 2,    0.010, 2, -999.000, 9,   2391.3, 2,   2396.1, 2,    7.3573,     25.00,   -999.0, 9,   -999.0,  -999.00, 9,   -999.0,   2.2948, 27.5266,   2.3669, 2, 2, 0.47, 0.15, 0.01, 0.018,  -999.00, 9, -999.00, -999.00, 9, -999.00
49NZ20071008, P01, P01_36, 1, 21, X12009, 2, 20071013, 1236, 46.0655, 158.3260, 4835,   1334.5, 2,   2.1692, 2,  34.5208, 2,  34.5202, 2,     40.0, 2,     40.7, 2,   165.20, 2,    42.91, 2,     0.00, 2,     3.08, 2,    0.041, 2,    0.017, 2,    0.000, 2, -999.000, 9,   2391.3, 2,   2403.2, 2,    7.3810,     25.00,   -999.0, 9,   -999.0,  -999.00, 9,   -999.0,   2.0837, 27.5811,   2.1691, 2, 2, 0.48, 0.15, 0.01, 0.018,  -999.00, 9, -999.00, -999.00, 9, -999.00
49NZ20071008, P01, P01_36, 1, 20, X12026, 2, 20071013, 1236, 46.0655, 158.3260, 4835,   1529.0, 2,   2.0429, 2,  34.5546, 2,  34.5547, 2,     50.6, 2,     51.1, 2,   166.77, 2,    42.30, 2,     0.01, 2,     3.03, 2,    0.015, 2,    0.010, 2,    0.000, 2, -999.000, 9,   2386.7, 2,   2408.9, 2,    7.4050,     25.00,   -999.0, 9,   -999.0,  -999.00, 9,   -999.0,   1.9440, 27.6193,   2.0429, 2, 6, 0.49, 0.15, 0.01, 0.018,  -999.00, 9, -999.00, -999.00, 9, -999.00
49NZ20071008, P01, P01_36, 1, 19, X12025, 2, 20071013, 1236, 46.0655, 158.3260, 4835,   1728.7, 2,   1.9244, 2,  34.5833, 2,  34.5835, 2,     64.5, 2,     64.5, 2,   166.17, 2,    41.58, 2,     0.01, 2,     2.97, 2,    0.012, 2,    0.001, 2,    0.000, 2, -999.000, 9,   2378.9, 2,   2411.9, 2,    7.4330,     25.00,   -999.0, 9,   -999.0,  -999.00, 9,   -999.0,   1.8113, 27.6525,   1.9245, 2, 2, 0.48, 0.15, 0.01, 0.017,  -999.00, 9, -999.00, -999.00, 9, -999.00
49NZ20071008, P01, P01_36, 1, 18, X12024, 2, 20071013, 1236, 46.0655, 158.3260, 4835,   1927.9, 2,   1.8209, 2,  34.6076, 2,  34.6076, 2,     79.7, 2,     79.4, 2,   163.27, 2,    40.72, 2,     0.01, 2,     2.90, 2,    0.004, 2,    0.000, 2,    0.000, 2, -999.000, 9,   2372.9, 2,   2418.1, 3,    7.4627,     25.00,   -999.0, 9,   -999.0,  -999.00, 9,   -999.0,   1.6932, 27.6809,   1.8211, 2, 2, 0.48, 0.15, 0.01, 0.017,  -999.00, 9, -999.00, -999.00, 9, -999.00
49NZ20071008, P01, P01_36, 1, 17, X12023, 2, 20071013, 1236, 46.0655, 158.3260, 4835,   2130.5, 2,   1.7315, 2,  34.6257, 2,  34.6259, 6,     91.8, 2,     92.4, 2,   161.84, 2,    39.93, 2,     0.01, 2,     2.84, 2,    0.002, 2,    0.001, 2,    0.000, 2, -999.000, 9,   2364.6, 3,   2416.0, 2,    7.4874,     25.00,   -999.0, 9,   -999.0,  -999.00, 9,   -999.0,   1.5884, 27.7033,   1.7315, 2, 2, 0.48, 0.14, 0.01, 0.017,  -999.00, 9, -999.00, -999.00, 9, -999.00
49NZ20071008, P01, P01_36, 1, 16, X12022, 2, 20071013, 1236, 46.0655, 158.3260, 4835,   2331.7, 2,   1.6610, 2,  34.6383, 2,  34.6383, 2,    100.7, 2,    101.3, 2,   161.51, 2,    39.36, 2,     0.01, 2,     2.80, 2,    0.000, 2,    0.000, 2,    0.000, 2, -999.000, 9,   2362.9, 6,   2414.5, 3,    7.5040,     25.00,   -999.0, 9,   -999.0,  -999.00, 9,   -999.0,   1.5019, 27.7198,   1.6610, 2, 2, 0.47, 0.14, 0.01, 0.017,  -999.00, 9, -999.00, -999.00, 9, -999.00
49NZ20071008, P01, P01_36, 1, 15, X12021, 2, 20071013, 1236, 46.0655, 158.3260, 4835,   2531.8, 2,   1.6048, 2,  34.6491, 2,  34.6491, 2,    111.7, 2,    111.0, 2,   159.13, 2,    38.62, 2,     0.00, 2,     2.75, 2,    0.000, 2,    0.000, 2,    0.000, 2, -999.000, 9,   2356.9, 2,   2419.1, 6,    7.5209,     25.00,   -999.0, 9,   -999.0,  -999.00, 9,   -999.0,   1.4291, 27.7337,   1.6047, 2, 2, 0.47, 0.14, 0.01, 0.017,  -999.00, 9, -999.00, -999.00, 9, -999.00
49NZ20071008, P01, P01_36, 1, 14, X12020, 2, 20071013, 1236, 46.0655, 158.3260, 4835,   2731.6, 2,   1.5509, 2,  34.6587, 2,  34.6588, 2,    121.1, 2,    120.8, 2,   156.62, 2,    38.06, 2,     0.01, 2,     2.69, 2, -999.000, 9, -999.000, 9, -999.000, 9, -999.000, 9,   2352.1, 2,   2417.9, 2,    7.5388,     25.00,   -999.0, 9,   -999.0,  -999.00, 9,   -999.0,   1.3582, 27.7465,   1.5509, 2, 6, 0.46, 0.14, 0.01, 0.017,  -999.00, 9, -999.00, -999.00, 9, -999.00
49NZ20071008, P01, P01_36, 1, 13, X12019, 2, 20071013, 1236, 46.0655, 158.3260, 4835,   2930.3, 2,   1.5156, 2,  34.6657, 2,  34.6655, 2,    127.7, 2,    127.9, 2,   154.56, 2,    37.57, 2,     0.00, 2,     2.66, 2, -999.000, 9, -999.000, 9, -999.000, 9, -999.000, 9,   2346.7, 2,   2418.5, 2,    7.5508,     25.00,   -999.0, 9,   -999.0,  -999.00, 9,   -999.0,   1.3051, 27.7558,   1.5157, 2, 2, 0.46, 0.14, 0.01, 0.017,  -999.00, 9, -999.00, -999.00, 9, -999.00
49NZ20071008, P01, P01_36, 1, 12, X12040, 2, 20071013, 1236, 46.0655, 158.3260, 4835,   3170.5, 2,   1.4874, 2,  34.6714, 2,  34.6715, 2,    135.2, 2,    135.0, 2,   152.19, 2,    37.21, 2,     0.00, 2,     2.62, 2,    0.000, 2,    0.000, 2,    0.000, 2, -999.000, 9,   2340.9, 2,   2419.2, 2,    7.5630,     25.00,   -999.0, 9,   -999.0,  -999.00, 9,   -999.0,   1.2545, 27.7640,   1.4874, 2, 2, 0.45, 0.14, 0.01, 0.017,  -999.00, 9, -999.00, -999.00, 9, -999.00
49NZ20071008, P01, P01_36, 1, 11, X12047, 2, 20071013, 1236, 46.0655, 158.3260, 4835,   3418.6, 2,   1.4674, 2,  34.6764, 2,  34.6765, 6,    140.9, 2,    140.8, 2,   150.98, 2,    36.82, 2,     0.00, 2,     2.59, 2, -999.000, 9, -999.000, 9, -999.000, 9, -999.000, 9,   2329.7, 3,   2419.2, 2,    7.5729,     25.00,   -999.0, 9,   -999.0,  -999.00, 9,   -999.0,   1.2104, 27.7711,   1.4674, 2, 2, 0.45, 0.14, 0.01, 0.016,  -999.00, 9, -999.00, -999.00, 9, -999.00
49NZ20071008, P01, P01_36, 1, 10, X12010, 2, 20071013, 1236, 46.0655, 158.3260, 4835,   3669.9, 2,   1.4541, 2,  34.6808, 2,  34.6804, 2,    146.0, 2,    145.8, 2,   149.77, 2,    36.59, 2,     0.00, 2,     2.57, 2, -999.000, 9, -999.000, 9, -999.000, 9, -999.000, 9,   2323.1, 3,   2418.0, 2,    7.5818,     25.00,   -999.0, 9,   -999.0,  -999.00, 9,   -999.0,   1.1716, 27.7772,   1.4541, 2, 2, 0.45, 0.14, 0.01, 0.016,  -999.00, 9, -999.00, -999.00, 9, -999.00
49NZ20071008, P01, P01_36, 1, 9, X12015, 2, 20071013, 1236, 46.0655, 158.3260, 4835,   3918.3, 2,   1.4483, 2,  34.6839, 2,  34.6842, 2,    150.2, 2,    150.2, 2,   148.64, 2,    36.31, 2,     0.00, 2,     2.55, 2,    0.000, 2,    0.001, 2,    0.000, 2, -999.000, 9,   2322.2, 3,   2418.0, 2,    7.5891,     25.00,   -999.0, 9,   -999.0,  -999.00, 9,   -999.0,   1.1397, 27.7819,   1.4484, 2, 2, 0.45, 0.13, 0.01, 0.016,  -999.00, 9, -999.00, -999.00, 9, -999.00
49NZ20071008, P01, P01_36, 1, 8, X12046, 2, 20071013, 1236, 46.0655, 158.3260, 4835,   4170.1, 2,   1.4507, 2,  34.6867, 2,  34.6865, 2,    153.3, 2,    153.3, 2,   148.29, 2,    35.99, 2,     0.00, 2,     2.53, 2, -999.000, 9, -999.000, 9, -999.000, 9, -999.000, 9,   2325.1, 2,   2417.2, 2,    7.5945,     25.00,   -999.0, 9,   -999.0,  -999.00, 9,   -999.0,   1.1145, 27.7859,   1.4507, 2, 2, 0.45, 0.13, 0.01, 0.016,  -999.00, 9, -999.00, -999.00, 9, -999.00
49NZ20071008, P01, P01_36, 1, 7, X12044, 2, 20071013, 1236, 46.0655, 158.3260, 4835,   4421.0, 2,   1.4640, 2,  34.6886, 2,  34.6878, 2,    155.0, 2,    155.1, 2,   148.63, 2,    35.92, 2,     0.00, 2,     2.53, 2, -999.000, 9, -999.000, 9, -999.000, 9, -999.000, 9,   2324.4, 2,   2417.2, 6,    7.5971,     25.00,   -999.0, 9,   -999.0,  -999.00, 9,   -999.0,   1.0992, 27.7885,   1.4641, 2, 2, 0.45, 0.13, 0.01, 0.016,  -999.00, 9, -999.00, -999.00, 9, -999.00
49NZ20071008, P01, P01_36, 1, 6, X12048, 2, 20071013, 1236, 46.0655, 158.3260, 4835,   4673.8, 2,   1.4863, 2,  34.6890, 2,  34.6891, 2,    156.1, 2,    156.0, 2,   148.68, 2,    35.85, 2,     0.00, 2,     2.51, 2,    0.005, 2,    0.002, 2,    0.000, 2, -999.000, 9,   2325.3, 2,   2417.7, 2,    7.5988,     25.00,   -999.0, 9,   -999.0,  -999.00, 9,   -999.0,   1.0915, 27.7893,   1.4863, 2, 6, 0.45, 0.13, 0.01, 0.016,  -999.00, 9, -999.00, -999.00, 9, -999.00
49NZ20071008, P01, P01_36, 1, 5, X12014, 9, 20071013, 1236, 46.0655, 158.3260, 4835,     12.0, 2,   9.6670, 2,  32.5797, 2, -999.0000, 9,    284.6, 2,   -999.0, 9,  -999.00, 9,  -999.00, 9,  -999.00, 9,  -999.00, 9, -999.000, 9, -999.000, 9, -999.000, 9, -999.000, 9,   -999.0, 9,   -999.0, 9, -999.0000,   -999.00,   -999.0, 9,   -999.0,  -999.00, 9,   -999.0,   9.6657, 25.1175,   9.6665, 2, 9, -999.00, -999.00, -999.00, -999.000,  -999.00, 9, -999.00, -999.00, 9, -999.00
49NZ20071008, P01, P01_36, 1, 4, X12006, 9, 20071013, 1236, 46.0655, 158.3260, 4835,     51.5, 2,   2.3324, 2,  33.0005, 2, -999.0000, 9,    323.7, 2,   -999.0, 9,  -999.00, 9,  -999.00, 9,  -999.00, 9,  -999.00, 9, -999.000, 9, -999.000, 9, -999.000, 9, -999.000, 9,   -999.0, 9,   -999.0, 9, -999.0000,   -999.00,   -999.0, 9,   -999.0,  -999.00, 9,   -999.0,   2.3297, 26.3447,   2.3124, 2, 9, -999.00, -999.00, -999.00, -999.000,  -999.00, 9, -999.00, -999.00, 9, -999.00
49NZ20071008, P01, P01_36, 1, 3, X12013, 9, 20071013, 1236, 46.0655, 158.3260, 4835,    104.1, 2,   1.1946, 2,  33.1176, 2, -999.0000, 9,    306.3, 2,   -999.0, 9,  -999.00, 9,  -999.00, 9,  -999.00, 9,  -999.00, 9, -999.000, 9, -999.000, 9, -999.000, 9, -999.000, 9,   -999.0, 9,   -999.0, 9, -999.0000,   -999.00,   -999.0, 9,   -999.0,  -999.00, 9,   -999.0,   1.1901, 26.5199,   1.1892, 2, 9, -999.00, -999.00, -999.00, -999.000,  -999.00, 9, -999.00, -999.00, 9, -999.00
49NZ20071008, P01, P01_36, 1, 2, X12002, 9, 20071013, 1236, 46.0655, 158.3260, 4835,    152.7, 2,   3.3436, 2,  33.7065, 2, -999.0000, 9,    102.8, 2,   -999.0, 9,  -999.00, 9,  -999.00, 9,  -999.00, 9,  -999.00, 9, -999.000, 9, -999.000, 9, -999.000, 9, -999.000, 9,   -999.0, 9,   -999.0, 9, -999.0000,   -999.00,   -999.0, 9,   -999.0,  -999.00, 9,   -999.0,   3.3341, 26.8221,   3.3412, 2, 9, -999.00, -999.00, -999.00, -999.000,  -999.00, 9, -999.00, -999.00, 9, -999.00
49NZ20071008, P01, P01_36, 1, 1, X12001, 2, 20071013, 1236, 46.0655, 158.3260, 4835,   4914.5, 2,   1.5101, 2,  34.6899, 2,  34.6895, 6,    156.3, 2,    156.4, 2,   150.32, 2,    35.85, 2,     0.00, 2,     2.52, 2,    0.007, 2,    0.002, 2,    0.000, 2, -999.000, 9,   2328.9, 2,   2417.9, 2,    7.6001,     25.00,   -999.0, 9,   -999.0,  -999.00, 9,   -999.0,   1.0859, 27.7904,   1.5099, 2, 2, 0.45, 0.13, 0.01, 0.016,  -999.00, 9, -999.00, -999.00, 9, -999.00