BOTTLE,20221005CCHSIOAMB
EXPOCODE,SECT_ID,STNNBR,CASTNO,SAMPNO,BTLNBR,BTLNBR_FLAG_W,DATE,TIME,LATITUDE,LONGITUDE,DEPTH,CTDPRS,CTDPRS_FLAG_W,CTDTMP,CTDTMP_FLAG_W,CTDSAL,CTDSAL_FLAG_W,SALNTY,SALNTY_FLAG_W,CTDOXY,CTDOXY_FLAG_W,OXYGEN,OXYGEN_FLAG_W,SILCAT,SILCAT_FLAG_W,NITRAT,NITRAT_FLAG_W,NITRIT,NITRIT_FLAG_W,PHSPHT,PHSPHT_FLAG_W,CFC-11,CFC-11_FLAG_W,CFC-12,CFC-12_FLAG_W,CFC113,CFC113_FLAG_W,CCL4,CCL4_FLAG_W,TCARBN,TCARBN_FLAG_W,ALKALI,ALKALI_FLAG_W,PH_TOT,PH_TMP,DELC14,DELC14_FLAG_W,C14ERR,DELC13,DELC13_FLAG_W,C13ERR,THETA,SIG0,SBE35,SBE35_FLAG_W,PH_TOT_FLAG_W,SILUNC,NRAUNC,NRIUNC,PHPUNC,CS-137,CS-137_FLAG_W,CS137ER,PLUTO,PLUTO_FLAG_W,PLUTOER
,,,,,,,,,,,METERS,DBAR,,ITS-90,,PSS-78,,PSS-78,,UMOL/KG,,UMOL/KG,,UMOL/KG,,UMOL/KG,,UMOL/KG,,UMOL/KG,,PMOL/KG,,PMOL/KG,,PMOL/KG,,PMOL/KG,,UMOL/KG,,UMOL/KG,,,DEG C,/MILLE,,/MILLE,/MILLE,,/MILLE,DEG C,KG/M^3,ITS-90,,,UMOL/KG,UMOL/KG,UMOL/KG,UMOL/KG,DM/.1MG,,BQ/M^3,MBQ/M^3,,MBQ/M^3
49NZ20071008, P14N, 48, 1, 36, X12042, 2, 20071103, 1304, 38.4738, 178.9990, 5360,      9.7, 2,  18.9698, 2,  34.2710, 2,  34.2710, 2,    234.2, 2,    235.2, 2,     2.60, 2,     0.06, 2,     0.01, 2,     0.07, 2,    2.283, 2,    1.349, 2,    0.330, 4, -999.000, 9,   -999.0, 9,   -999.0, 9, -999.0000,   -999.00,   -999.0, 9,   -999.0,  -999.00, 9,   -999.0,  18.9681, 24.4722,  18.9694, 2, 9, 0.12, 0.03, 0.01, 0.027,  -999.00, 9, -999.00, -999.00, 9, -999.00
49NZ20071008, P14N, 48, 1, 35, X12041, 2, 20071103, 1304, 38.4738, 178.9990, 5360,     50.0, 2,  17.2672, 2,  34.4555, 2,  34.4591, 2,    246.0, 2,    254.7, 2,     3.52, 2,     0.36, 2,     0.04, 2,     0.14, 2,    2.554, 2,    1.486, 2,    0.535, 4, -999.000, 9,   -999.0, 9,   -999.0, 9, -999.0000,   -999.00,   -999.0, 9,   -999.0,  -999.00, 9,   -999.0,  17.2589, 25.0347,  17.2754, 2, 9, 0.13, 0.03, 0.01, 0.018,  -999.00, 9, -999.00, -999.00, 9, -999.00
49NZ20071008, P14N, 48, 1, 34, X12016, 2, 20071103, 1304, 38.4738, 178.9990, 5360,    100.3, 2,  13.2202, 2,  34.4265, 2,  34.4289, 2,    224.8, 2,    222.9, 2,    11.59, 2,     9.62, 2,     0.02, 2,     0.72, 2,    2.880, 2,    1.631, 2,    0.191, 2, -999.000, 9,   -999.0, 9,   -999.0, 9, -999.0000,   -999.00,   -999.0, 9,   -999.0,  -999.00, 9,   -999.0,  13.2064, 25.9071,  13.2228, 2, 9, 0.14, 0.06, 0.01, 0.013,  -999.00, 9, -999.00, -999.00, 9, -999.00
49NZ20071008, P14N, 48, 1, 33, X12033, 2, 20071103, 1304, 38.4738, 178.9990, 5360,    150.7, 2,  11.9966, 2,  34.3535, 2,  34.3529, 2,    226.0, 2,    224.3, 2,    14.84, 2,    11.77, 2,     0.02, 2,     0.87, 2,    3.006, 2,    1.693, 6,    0.191, 6, -999.000, 9,   -999.0, 9,   -999.0, 9, -999.0000,   -999.00,   -999.0, 9,   -999.0,  -999.00, 9,   -999.0,  11.9771, 26.0913,  11.9975, 2, 9, 0.15, 0.07, 0.01, 0.013,  -999.00, 9, -999.00, -999.00, 9, -999.00
49NZ20071008, P14N, 48, 1, 32, X12038, 2, 20071103, 1304, 38.4738, 178.9990, 5360,    200.1, 2,  11.0843, 2,  34.2881, 2,  34.2876, 2,    224.7, 2,    221.7, 2,    17.91, 2,    13.46, 2,     0.02, 2,     0.99, 2,    3.044, 2,    1.708, 2,    0.179, 2, -999.000, 9,   -999.0, 9,   -999.0, 9, -999.0000,   -999.00,   -999.0, 9,   -999.0,  -999.00, 9,   -999.0,  11.0597, 26.2103,  11.0856, 2, 9, 0.16, 0.07, 0.01, 0.013,  -999.00, 9, -999.00, -999.00, 9, -999.00
49NZ20071008, P14N, 48, 1, 31, X12003, 2, 20071103, 1304, 38.4738, 178.9990, 5360,    250.3, 2,   9.7776, 2,  34.1500, 2,  34.1451, 6,    230.0, 2,    237.1, 2,    19.58, 2,    14.33, 2,     0.02, 2,     1.07, 2,    3.343, 2,    1.879, 2,    0.236, 2, -999.000, 9,   -999.0, 9,   -999.0, 9, -999.0000,   -999.00,   -999.0, 9,   -999.0,  -999.00, 9,   -999.0,   9.7492, 26.3304,   9.7794, 2, 9, 0.16, 0.07, 0.01, 0.013,  -999.00, 9, -999.00, -999.00, 9, -999.00
49NZ20071008, P14N, 48, 1, 30, X12008, 2, 20071103, 1304, 38.4738, 178.9990, 5360,    281.7, 2,   9.1993, 2,  34.0867, 2,  34.0884, 2,    243.0, 2,    245.3, 2,    19.97, 2,    14.41, 2,     0.02, 2,     1.09, 2,    3.446, 2,    1.952, 2,    0.227, 2, -999.000, 9,   -999.0, 9,   -999.0, 9, -999.0000,   -999.00,   -999.0, 9,   -999.0,  -999.00, 9,   -999.0,   9.1685, 26.3760,   9.2017, 2, 9, 0.16, 0.07, 0.01, 0.013,  -999.00, 9, -999.00, -999.00, 9, -999.00
49NZ20071008, P14N, 48, 1, 29, X12035, 2, 20071103, 1304, 38.4738, 178.9990, 5360,    369.2, 2,   8.1505, 2,  34.0287, 2,  34.0244, 2,    219.7, 2,    221.5, 2,    28.54, 2,    18.62, 2,     0.02, 2,     1.38, 2,    3.387, 2,    1.865, 2,    0.222, 2, -999.000, 9,   -999.0, 9,   -999.0, 9, -999.0000,   -999.00,   -999.0, 9,   -999.0,  -999.00, 9,   -999.0,   8.1128, 26.4942,   8.1513, 2, 9, 0.18, 0.08, 0.01, 0.014,  -999.00, 9, -999.00, -999.00, 9, -999.00
49NZ20071008, P14N, 48, 1, 28, X12034, 2, 20071103, 1304, 38.4738, 178.9990, 5360,    470.4, 2,   6.4551, 2,  33.9473, 2,  33.9442, 6,    167.7, 2,    174.2, 2,    46.67, 2,    26.16, 2,     0.02, 2,     1.93, 2,    3.018, 2,    1.590, 2,    0.190, 2, -999.000, 9,   -999.0, 9,   -999.0, 9, -999.0000,   -999.00,   -999.0, 9,   -999.0,  -999.00, 9,   -999.0,   6.4129, 26.6680,   6.4558, 2, 9, 0.22, 0.11, 0.01, 0.015,  -999.00, 9, -999.00, -999.00, 9, -999.00
49NZ20071008, P14N, 48, 1, 27, X12049, 2, 20071103, 1304, 38.4738, 178.9990, 5360,    571.5, 2,   5.2529, 2,  33.9921, 2,  33.9930, 2,    117.2, 2,    121.2, 2,    68.66, 2,    32.79, 2,     0.01, 2,     2.41, 2,    2.164, 2,    1.092, 2,    0.123, 2, -999.000, 9,   -999.0, 9,   -999.0, 9, -999.0000,   -999.00,   -999.0, 9,   -999.0,  -999.00, 9,   -999.0,   5.2064, 26.8523,   5.2557, 2, 9, 0.27, 0.12, 0.01, 0.016,  -999.00, 9, -999.00, -999.00, 9, -999.00
49NZ20071008, P14N, 48, 1, 26, X12032, 2, 20071103, 1304, 38.4738, 178.9990, 5360,    671.5, 2,   4.5509, 2,  34.0802, 2,  34.0828, 2,     76.1, 2,     77.0, 2,    88.14, 2,    37.76, 2,     0.01, 2,     2.75, 2,    1.419, 6,    0.694, 6,    0.074, 6, -999.000, 9,   -999.0, 9,   -999.0, 9, -999.0000,   -999.00,   -999.0, 9,   -999.0,  -999.00, 9,   -999.0,   4.4994, 27.0018,   4.5514, 2, 9, 0.31, 0.14, 0.01, 0.017,  -999.00, 9, -999.00, -999.00, 9, -999.00
49NZ20071008, P14N, 48, 1, 25, X12043, 2, 20071103, 1304, 38.4738, 178.9990, 5360,    771.5, 2,   4.1257, 2,  34.1795, 2,  34.1807, 2,     55.5, 2,     53.2, 2,   103.22, 2,    40.39, 2,     0.01, 2,     2.91, 2,    0.815, 2,    0.389, 2,    0.044, 2, -999.000, 9,   -999.0, 9,   -999.0, 9, -999.0000,   -999.00,   -999.0, 9,   -999.0,  -999.00, 9,   -999.0,   4.0683, 27.1264,   4.1260, 2, 9, 0.35, 0.15, 0.01, 0.017,  -999.00, 9, -999.00, -999.00, 9, -999.00
49NZ20071008, P14N, 48, 1, 24, X12030, 2, 20071103, 1304, 38.4738, 178.9990, 5360,    871.0, 2,   3.7916, 2,  34.2475, 2,  34.2488, 2,     44.5, 2,     42.7, 2,   114.10, 2,    41.54, 2,     0.01, 2,     2.98, 2,    0.512, 2,    0.239, 2,    0.026, 2, -999.000, 9,   -999.0, 9,   -999.0, 9, -999.0000,   -999.00,   -999.0, 9,   -999.0,  -999.00, 9,   -999.0,   3.7283, 27.2151,   3.7920, 2, 9, 0.37, 0.15, 0.01, 0.017,  -999.00, 9, -999.00, -999.00, 9, -999.00
49NZ20071008, P14N, 48, 1, 23, X12027, 2, 20071103, 1304, 38.4738, 178.9990, 5360,    970.8, 2,   3.5106, 2,  34.3000, 2,  34.2999, 6,     36.2, 2,     35.9, 2,   122.71, 2,    42.44, 2,     0.01, 2,     3.04, 2,    0.309, 2,    0.146, 2,    0.014, 2, -999.000, 9,   -999.0, 9,   -999.0, 9, -999.0000,   -999.00,   -999.0, 9,   -999.0,  -999.00, 9,   -999.0,   3.4414, 27.2850,   3.5106, 2, 9, 0.39, 0.15, 0.01, 0.018,  -999.00, 9, -999.00, -999.00, 9, -999.00
49NZ20071008, P14N, 48, 1, 22, X12028, 2, 20071103, 1304, 38.4738, 178.9990, 5360,   1132.1, 2,   3.1168, 2,  34.3686, 2,  34.3690, 2,     29.9, 2,     30.1, 2,   134.86, 2,    43.30, 2,     0.01, 2,     3.10, 2,    0.139, 2,    0.065, 2,    0.009, 2, -999.000, 9,   -999.0, 9,   -999.0, 9, -999.0000,   -999.00,   -999.0, 9,   -999.0,  -999.00, 9,   -999.0,   3.0380, 27.3776,   3.1169, 2, 9, 0.42, 0.15, 0.01, 0.018,  -999.00, 9, -999.00, -999.00, 9, -999.00
49NZ20071008, P14N, 48, 1, 21, X12009, 2, 20071103, 1304, 38.4738, 178.9990, 5360,   1331.0, 2,   2.7184, 2,  34.4410, 2,  34.4414, 2,     30.6, 2,     30.3, 2,   146.79, 2,    43.61, 2,     0.01, 2,     3.11, 2,    0.062, 2,    0.030, 2,    0.000, 2, -999.000, 9,   -999.0, 9,   -999.0, 9, -999.0000,   -999.00,   -999.0, 9,   -999.0,  -999.00, 9,   -999.0,   2.6276, 27.4720,   2.7187, 2, 9, 0.44, 0.15, 0.01, 0.018,  -999.00, 9, -999.00, -999.00, 9, -999.00
49NZ20071008, P14N, 48, 1, 20, X12026, 2, 20071103, 1304, 38.4738, 178.9990, 5360,   1531.1, 2,   2.4102, 2,  34.4969, 2,  34.4969, 2,     34.7, 2,     34.6, 2,   155.84, 2,    43.70, 2,     0.01, 2,     3.10, 2,    0.030, 2,    0.014, 2,    0.000, 2, -999.000, 9,   -999.0, 9,   -999.0, 9, -999.0000,   -999.00,   -999.0, 9,   -999.0,  -999.00, 9,   -999.0,   2.3069, 27.5438,   2.4102, 2, 9, 0.46, 0.16, 0.01, 0.018,  -999.00, 9, -999.00, -999.00, 9, -999.00
49NZ20071008, P14N, 48, 1, 19, X12025, 2, 20071103, 1304, 38.4738, 178.9990, 5360,   1732.4, 2,   2.2072, 2,  34.5399, 2,  34.5399, 2,     40.4, 2,     41.1, 2,   161.51, 2,    43.42, 2,     0.01, 2,     3.07, 2,    0.005, 2,    0.001, 2,    0.000, 2, -999.000, 9,   -999.0, 9,   -999.0, 9, -999.0000,   -999.00,   -999.0, 9,   -999.0,  -999.00, 9,   -999.0,   2.0902, 27.5959,   2.2072, 2, 9, 0.47, 0.15, 0.01, 0.018,  -999.00, 9, -999.00, -999.00, 9, -999.00
49NZ20071008, P14N, 48, 1, 18, X12024, 2, 20071103, 1304, 38.4738, 178.9990, 5360,   1932.5, 2,   2.0279, 2,  34.5747, 2,  34.5743, 2,     51.7, 2,     52.8, 2,   165.05, 2,    42.78, 2,     0.01, 2,     3.02, 2,    0.000, 2,    0.000, 2,    0.000, 2, -999.000, 9,   -999.0, 9,   -999.0, 9, -999.0000,   -999.00,   -999.0, 9,   -999.0,  -999.00, 9,   -999.0,   1.8969, 27.6390,   2.0278, 2, 9, 0.48, 0.15, 0.01, 0.018,  -999.00, 9, -999.00, -999.00, 9, -999.00
49NZ20071008, P14N, 48, 1, 17, X12023, 2, 20071103, 1304, 38.4738, 178.9990, 5360,   2130.2, 2,   1.9028, 2,  34.5988, 2,  34.5988, 2,     63.3, 2,     63.6, 2,   167.02, 2,    42.09, 2,     0.01, 2,     2.97, 2,    0.000, 2,    0.000, 2,    0.000, 2, -999.000, 9,   -999.0, 9,   -999.0, 9, -999.0000,   -999.00,   -999.0, 9,   -999.0,  -999.00, 9,   -999.0,   1.7570, 27.6691,   1.9026, 2, 9, 0.49, 0.15, 0.01, 0.017,  -999.00, 9, -999.00, -999.00, 9, -999.00
49NZ20071008, P14N, 48, 1, 16, X12022, 2, 20071103, 1304, 38.4738, 178.9990, 5360,   2332.8, 2,   1.7928, 2,  34.6193, 2,  34.6192, 2,     74.3, 2,     75.5, 2,   168.03, 2,    41.39, 2,     0.01, 2,     2.91, 2,    0.000, 2,    0.000, 2,    0.000, 2, -999.000, 9,   -999.0, 9,   -999.0, 9, -999.0000,   -999.00,   -999.0, 9,   -999.0,  -999.00, 9,   -999.0,   1.6313, 27.6950,   1.7929, 2, 9, 0.49, 0.15, 0.01, 0.017,  -999.00, 9, -999.00, -999.00, 9, -999.00
49NZ20071008, P14N, 48, 1, 15, X12021, 2, 20071103, 1304, 38.4738, 178.9990, 5360,   2529.7, 2,   1.7058, 2,  34.6345, 2,  34.6341, 6,     88.7, 2,     89.1, 2,   166.33, 2,    40.50, 2,     0.01, 2,     2.85, 2,    0.000, 2,    0.000, 2,    0.000, 2, -999.000, 9,   -999.0, 9,   -999.0, 9, -999.0000,   -999.00,   -999.0, 9,   -999.0,  -999.00, 9,   -999.0,   1.5284, 27.7147,   1.7059, 2, 9, 0.48, 0.15, 0.01, 0.017,  -999.00, 9, -999.00, -999.00, 9, -999.00
49NZ20071008, P14N, 48, 1, 14, X12020, 2, 20071103, 1304, 38.4738, 178.9990, 5360,   2729.1, 2,   1.6315, 2,  34.6467, 2,  34.6468, 2,    103.4, 2,    102.7, 2,   163.54, 2,    39.59, 2,     0.01, 2,     2.78, 2,    0.000, 2,    0.000, 2,    0.000, 2, -999.000, 9,   -999.0, 9,   -999.0, 9, -999.0000,   -999.00,   -999.0, 9,   -999.0,  -999.00, 9,   -999.0,   1.4374, 27.7312,   1.6314, 2, 9, 0.48, 0.14, 0.01, 0.017,  -999.00, 9, -999.00, -999.00, 9, -999.00
49NZ20071008, P14N, 48, 1, 13, X12019, 2, 20071103, 1304, 38.4738, 178.9990, 5360,   2930.8, 2,   1.5655, 2,  34.6576, 2,  34.6576, 2,    116.5, 2,    116.2, 2,   160.35, 2,    38.62, 2,     0.01, 2,     2.72, 2, -999.000, 9, -999.000, 9, -999.000, 9, -999.000, 9,   -999.0, 9,   -999.0, 9, -999.0000,   -999.00,   -999.0, 9,   -999.0,  -999.00, 9,   -999.0,   1.3539, 27.7459,   1.5655, 2, 9, 0.47, 0.14, 0.01, 0.017,  -999.00, 9, -999.00, -999.00, 9, -999.00
49NZ20071008, P14N, 48, 1, 12, X12040, 2, 20071103, 1304, 38.4738, 178.9990, 5360,   3170.9, 2,   1.5175, 2,  34.6666, 2,  34.6669, 2,    127.5, 2,    127.4, 2,   156.94, 2,    37.74, 2,     0.01, 2,     2.65, 2,    0.000, 2,    0.000, 2,    0.000, 2, -999.000, 9,   -999.0, 9,   -999.0, 9, -999.0000,   -999.00,   -999.0, 9,   -999.0,  -999.00, 9,   -999.0,   1.2839, 27.7581,   1.5176, 2, 9, 0.46, 0.14, 0.01, 0.017,  -999.00, 9, -999.00, -999.00, 9, -999.00
49NZ20071008, P14N, 48, 1, 11, X12047, 2, 20071103, 1304, 38.4738, 178.9990, 5360,   3419.8, 2,   1.4782, 2,  34.6742, 2,  34.6742, 2,    136.4, 2,    136.9, 2,   154.35, 2,    37.13, 2,     0.01, 2,     2.61, 2, -999.000, 9, -999.000, 9, -999.000, 9, -999.000, 9,   -999.0, 9,   -999.0, 9, -999.0000,   -999.00,   -999.0, 9,   -999.0,  -999.00, 9,   -999.0,   1.2208, 27.7686,   1.4781, 2, 9, 0.46, 0.14, 0.01, 0.016,  -999.00, 9, -999.00, -999.00, 9, -999.00
49NZ20071008, P14N, 48, 1, 10, X12017, 2, 20071103, 1304, 38.4738, 178.9990, 5360,   3670.4, 2,   1.4570, 2,  34.6796, 2,  34.6796, 2,    143.2, 2,    143.6, 2,   152.43, 2,    36.78, 2,     0.01, 2,     2.57, 2, -999.000, 9, -999.000, 9, -999.000, 9, -999.000, 9,   -999.0, 9,   -999.0, 9, -999.0000,   -999.00,   -999.0, 9,   -999.0,  -999.00, 9,   -999.0,   1.1744, 27.7761,   1.4570, 2, 9, 0.45, 0.14, 0.01, 0.016,  -999.00, 9, -999.00, -999.00, 9, -999.00
49NZ20071008, P14N, 48, 1, 9, X12015, 2, 20071103, 1304, 38.4738, 178.9990, 5360,   3919.9, 2,   1.4513, 2,  34.6832, 2,  34.6833, 6,    148.1, 2,    148.1, 2,   151.35, 2,    36.44, 2,     0.01, 2,     2.55, 2,    0.001, 2,    0.000, 2,    0.000, 2, -999.000, 9,   -999.0, 9,   -999.0, 9, -999.0000,   -999.00,   -999.0, 9,   -999.0,  -999.00, 9,   -999.0,   1.1424, 27.7812,   1.4512, 2, 9, 0.45, 0.13, 0.01, 0.016,  -999.00, 9, -999.00, -999.00, 9, -999.00
49NZ20071008, P14N, 48, 1, 8, X12046, 2, 20071103, 1304, 38.4738, 178.9990, 5360,   4170.2, 2,   1.4588, 2,  34.6856, 2,  34.6855, 2,    150.9, 2,    150.9, 2,   151.24, 2,    36.26, 2,     0.01, 2,     2.54, 2, -999.000, 9, -999.000, 9, -999.000, 9, -999.000, 9,   -999.0, 9,   -999.0, 9, -999.0000,   -999.00,   -999.0, 9,   -999.0,  -999.00, 9,   -999.0,   1.1224, 27.7845,   1.4588, 2, 9, 0.45, 0.13, 0.01, 0.016,  -999.00, 9, -999.00, -999.00, 9, -999.00
49NZ20071008, P14N, 48, 1, 7, X12044, 2, 20071103, 1304, 38.4738, 178.9990, 5360,   4417.7, 2,   1.4733, 2,  34.6871, 2,  34.6870, 2,    152.8, 2,    152.7, 2,   151.25, 2,    36.22, 2,     0.01, 2,     2.53, 2, -999.000, 9, -999.000, 9, -999.000, 9, -999.000, 9,   -999.0, 9,   -999.0, 9, -999.0000,   -999.00,   -999.0, 9,   -999.0,  -999.00, 9,   -999.0,   1.1086, 27.7866,   1.4732, 2, 9, 0.45, 0.13, 0.01, 0.016,  -999.00, 9, -999.00, -999.00, 9, -999.00
49NZ20071008, P14N, 48, 1, 6, X12048, 2, 20071103, 1304, 38.4738, 178.9990, 5360,   4670.1, 2,   1.4967, 2,  34.6882, 2,  34.6877, 2,    153.7, 2,    153.3, 2,   152.58, 2,    36.12, 2,     0.01, 2,     2.52, 2,    0.000, 2,    0.000, 2,    0.000, 2, -999.000, 9,   -999.0, 9,   -999.0, 9, -999.0000,   -999.00,   -999.0, 9,   -999.0,  -999.00, 9,   -999.0,   1.1020, 27.7880,   1.4967, 2, 9, 0.45, 0.13, 0.01, 0.016,  -999.00, 9, -999.00, -999.00, 9, -999.00
49NZ20071008, P14N, 48, 1, 5, X12014, 2, 20071103, 1304, 38.4738, 178.9990, 5360,   4920.7, 2,   1.5213, 2,  34.6889, 2,  34.6890, 2,    154.2, 2,    154.1, 2,   153.25, 2,    36.06, 2,     0.01, 2,     2.52, 2, -999.000, 9, -999.000, 9, -999.000, 9, -999.000, 9,   -999.0, 9,   -999.0, 9, -999.0000,   -999.00,   -999.0, 9,   -999.0,  -999.00, 9,   -999.0,   1.0960, 27.7890,   1.5213, 2, 9, 0.46, 0.13, 0.01, 0.016,  -999.00, 9, -999.00, -999.00, 9, -999.00
49NZ20071008, P14N, 48, 1, 4, X12006, 2, 20071103, 1304, 38.4738, 178.9990, 5360,   5169.4, 2,   1.5520, 2,  34.6889, 2,  34.6890, 2,    154.5, 2,    154.3, 2,   152.78, 2,    36.10, 2,     0.01, 2,     2.52, 2, -999.000, 9, -999.000, 9, -999.000, 9, -999.000, 9,   -999.0, 9,   -999.0, 9, -999.0000,   -999.00,   -999.0, 9,   -999.0,  -999.00, 9,   -999.0,   1.0952, 27.7890,   1.5520, 2, 9, 0.46, 0.13, 0.01, 0.016,  -999.00, 9, -999.00, -999.00, 9, -999.00
49NZ20071008, P14N, 48, 1, 3, X12013, 2, 20071103, 1304, 38.4738, 178.9990, 5360,   5420.2, 2,   1.5847, 2,  34.6889, 2,  34.6890, 2,    154.5, 2,    154.3, 2,   152.73, 2,    36.05, 2,     0.01, 2,     2.52, 2,    0.002, 2,    0.002, 2,    0.000, 2, -999.000, 9,   -999.0, 9,   -999.0, 9, -999.0000,   -999.00,   -999.0, 9,   -999.0,  -999.00, 9,   -999.0,   1.0952, 27.7890,   1.5848, 2, 9, 0.46, 0.13, 0.01, 0.016,  -999.00, 9, -999.00, -999.00, 9, -999.00
49NZ20071008, P14N, 48, 1, 2, X12002, 9, 20071103, 1304, 38.4738, 178.9990, 5360,   1532.0, 2,   2.4095, 2,  34.4970, 2, -999.0000, 9,     34.7, 2,   -999.0, 9,  -999.00, 9,  -999.00, 9,  -999.00, 9,  -999.00, 9, -999.000, 9, -999.000, 9, -999.000, 9, -999.000, 9,   -999.0, 9,   -999.0, 9, -999.0000,   -999.00,   -999.0, 9,   -999.0,  -999.00, 9,   -999.0,   2.3061, 27.5440,   2.4096, 2, 9, -999.00, -999.00, -999.00, -999.000,  -999.00, 9, -999.00, -999.00, 9, -999.00
49NZ20071008, P14N, 48, 1, 1, X12001, 2, 20071103, 1304, 38.4738, 178.9990, 5360,   5473.3, 2,   1.5918, 2,  34.6889, 2,  34.6889, 6,    154.2, 2,    154.3, 2,   152.79, 2,    36.15, 2,     0.01, 2,     2.52, 2,    0.000, 2,    0.000, 2,    0.000, 2, -999.000, 9,   -999.0, 9,   -999.0, 9, -999.0000,   -999.00,   -999.0, 9,   -999.0,  -999.00, 9,   -999.0,   1.0953, 27.7889,   1.5918, 2, 9, 0.46, 0.13, 0.01, 0.016,  -999.00, 9, -999.00, -999.00, 9, -999.00