BOTTLE,20221005CCHSIOAMB
EXPOCODE,SECT_ID,STNNBR,CASTNO,SAMPNO,BTLNBR,BTLNBR_FLAG_W,DATE,TIME,LATITUDE,LONGITUDE,DEPTH,CTDPRS,CTDPRS_FLAG_W,CTDTMP,CTDTMP_FLAG_W,CTDSAL,CTDSAL_FLAG_W,SALNTY,SALNTY_FLAG_W,CTDOXY,CTDOXY_FLAG_W,OXYGEN,OXYGEN_FLAG_W,SILCAT,SILCAT_FLAG_W,NITRAT,NITRAT_FLAG_W,NITRIT,NITRIT_FLAG_W,PHSPHT,PHSPHT_FLAG_W,CFC-11,CFC-11_FLAG_W,CFC-12,CFC-12_FLAG_W,CFC113,CFC113_FLAG_W,CCL4,CCL4_FLAG_W,TCARBN,TCARBN_FLAG_W,ALKALI,ALKALI_FLAG_W,PH_TOT,PH_TMP,DELC14,DELC14_FLAG_W,C14ERR,DELC13,DELC13_FLAG_W,C13ERR,THETA,SIG0,SBE35,SBE35_FLAG_W,PH_TOT_FLAG_W,SILUNC,NRAUNC,NRIUNC,PHPUNC,CS-137,CS-137_FLAG_W,CS137ER,PLUTO,PLUTO_FLAG_W,PLUTOER
,,,,,,,,,,,METERS,DBAR,,ITS-90,,PSS-78,,PSS-78,,UMOL/KG,,UMOL/KG,,UMOL/KG,,UMOL/KG,,UMOL/KG,,UMOL/KG,,PMOL/KG,,PMOL/KG,,PMOL/KG,,PMOL/KG,,UMOL/KG,,UMOL/KG,,,DEG C,/MILLE,,/MILLE,/MILLE,,/MILLE,DEG C,KG/M^3,ITS-90,,,UMOL/KG,UMOL/KG,UMOL/KG,UMOL/KG,DM/.1MG,,BQ/M^3,MBQ/M^3,,MBQ/M^3
49NZ20071008, P14N, 42, 1, 36, X12042, 2, 20071102, 0044, 41.4883, 179.0003, 4988,      9.8, 2,  17.0467, 2,  33.9270, 2,  33.9285, 2,    243.5, 2,    245.1, 2,     3.07, 2,     0.12, 2,     0.01, 2,     0.11, 2,    2.447, 2,    1.456, 2,    0.279, 4, -999.000, 9,   1979.6, 2,   2245.9, 2,    8.0101,     25.00,   -999.0, 1,   -999.0,  -999.00, 1,   -999.0,  17.0451, 24.6802,  17.0473, 2, 6, 0.13, 0.03, 0.01, 0.021,  -999.00, 9, -999.00, -999.00, 9, -999.00
49NZ20071008, P14N, 42, 1, 35, X12041, 2, 20071102, 0044, 41.4883, 179.0003, 4988,     51.3, 2,  13.2693, 2,  34.1691, 2,  34.1509, 2,    258.7, 2,    274.2, 2,     8.09, 2,     4.74, 2,     0.17, 2,     0.48, 2,    3.024, 2,    1.752, 2,    0.298, 2, -999.000, 9,   2034.1, 6,   2264.2, 2,    7.9339,     25.00,   -999.0, 1,   -999.0,  -999.00, 1,   -999.0,  13.2622, 25.6965,  13.2452, 2, 2, 0.14, 0.05, 0.01, 0.013,  -999.00, 9, -999.00, -999.00, 9, -999.00
49NZ20071008, P14N, 42, 1, 34, X12016, 2, 20071102, 0044, 41.4883, 179.0003, 4988,    100.8, 2,  10.4091, 2,  34.1890, 2,  34.1879, 2,    244.4, 2,    244.3, 2,    15.97, 2,    12.62, 2,     0.02, 2,     0.95, 2,    3.290, 2,    1.871, 2,    0.235, 2, -999.000, 9,   2091.4, 2,   2267.5, 6,    7.8226,     25.00,   -999.0, 1,   -999.0,  -999.00, 1,   -999.0,  10.3973, 26.2505,  10.4095, 2, 2, 0.15, 0.07, 0.01, 0.013,  -999.00, 9, -999.00, -999.00, 9, -999.00
49NZ20071008, P14N, 42, 1, 33, X12033, 2, 20071102, 0044, 41.4883, 179.0003, 4988,    150.4, 2,   9.6185, 2,  34.1183, 2,  34.1179, 2,    251.6, 2,    247.8, 2,    18.05, 2,    13.43, 2,     0.01, 2,     1.02, 2,    3.415, 6,    1.936, 6,    0.249, 6, -999.000, 9,   2094.8, 2,   2266.2, 2,    7.8090,     25.00,   -999.0, 1,   -999.0,  -999.00, 1,   -999.0,   9.6017, 26.3301,   9.6202, 2, 6, 0.16, 0.07, 0.01, 0.013,  -999.00, 9, -999.00, -999.00, 9, -999.00
49NZ20071008, P14N, 42, 1, 32, X12038, 2, 20071102, 0044, 41.4883, 179.0003, 4988,    200.4, 2,   8.8950, 2,  34.0494, 2,  34.0496, 2,    253.8, 2,    249.4, 2,    20.05, 2,    14.39, 2,     0.01, 2,     1.10, 2,    3.482, 2,    1.965, 2,    0.260, 2, -999.000, 9,   2099.8, 2,   2266.3, 2,    7.7942,     25.00,   -999.0, 1,   -999.0,  -999.00, 1,   -999.0,   8.8737, 26.3937,   8.8959, 2, 2, 0.16, 0.07, 0.01, 0.013,  -999.00, 9, -999.00, -999.00, 9, -999.00
49NZ20071008, P14N, 42, 1, 31, X12003, 2, 20071102, 0044, 41.4883, 179.0003, 4988,    249.8, 2,   8.5133, 2,  34.0536, 2,  34.0532, 6,    224.2, 2,    222.5, 2,    26.19, 2,    17.70, 2,     0.01, 2,     1.32, 2,    3.327, 2,    1.843, 2,    0.208, 2, -999.000, 9,   2122.9, 2,   2270.6, 2,    7.7481,     25.00,   -999.0, 1,   -999.0,  -999.00, 1,   -999.0,   8.4873, 26.4571,   8.5152, 2, 2, 0.18, 0.08, 0.01, 0.014,  -999.00, 9, -999.00, -999.00, 9, -999.00
49NZ20071008, P14N, 42, 1, 30, X12008, 2, 20071102, 0044, 41.4883, 179.0003, 4988,    281.4, 2,   8.0292, 2,  34.0190, 2,  34.0179, 2,    209.3, 2,    210.2, 2,    30.67, 2,    19.91, 2,     0.01, 2,     1.47, 2,    3.255, 2,    1.790, 2,    0.193, 2, -999.000, 9,   2139.3, 2,   2272.8, 2,    7.7155,     25.00,   -999.0, 1,   -999.0,  -999.00, 1,   -999.0,   8.0009, 26.5032,   8.0305, 2, 2, 0.19, 0.09, 0.01, 0.014,  -999.00, 9, -999.00, -999.00, 9, -999.00
49NZ20071008, P14N, 42, 1, 29, X12035, 2, 20071102, 0044, 41.4883, 179.0003, 4988,    370.0, 2,   6.3741, 2,  33.9452, 2,  33.9451, 2,    168.8, 2,    171.0, 2,    47.35, 2,    26.47, 2,     0.01, 2,     1.95, 2,    2.950, 2,    1.563, 2,    0.169, 2, -999.000, 9,   2191.5, 2,   2281.5, 2,    7.6086,     25.00,   -999.0, 1,   -999.0,  -999.00, 1,   -999.0,   6.3414, 26.6756,   6.3758, 2, 2, 0.22, 0.11, 0.01, 0.015,  -999.00, 9, -999.00, -999.00, 9, -999.00
49NZ20071008, P14N, 42, 1, 28, X12034, 2, 20071102, 0044, 41.4883, 179.0003, 4988,    470.1, 2,   5.3247, 2,  33.9675, 2,  33.9682, 6,    126.3, 2,    124.9, 2,    65.69, 2,    32.41, 2,     0.01, 2,     2.38, 2,    2.334, 2,    1.187, 2,    0.125, 2, -999.000, 9,   2237.3, 2,   2296.5, 2,    7.5061,     25.00,   -999.0, 1,   -999.0,  -999.00, 1,   -999.0,   5.2866, 26.8235,   5.3249, 2, 2, 0.26, 0.12, 0.01, 0.016,  -999.00, 9, -999.00, -999.00, 9, -999.00
49NZ20071008, P14N, 42, 1, 27, X12049, 2, 20071102, 0044, 41.4883, 179.0003, 4988,    571.5, 2,   4.6901, 2,  34.0576, 2,  34.0566, 2,     90.5, 2,     86.9, 2,    83.30, 2,    36.67, 2,     0.01, 2,     2.68, 2,    1.602, 2,    0.791, 2,    0.080, 2, -999.000, 9,   2277.6, 2,   2314.5, 2,    7.4371,     25.00,   -999.0, 1,   -999.0,  -999.00, 1,   -999.0,   4.6461, 26.9678,   4.6907, 2, 2, 0.30, 0.14, 0.01, 0.017,  -999.00, 9, -999.00, -999.00, 9, -999.00
49NZ20071008, P14N, 42, 1, 26, X12032, 2, 20071102, 0044, 41.4883, 179.0003, 4988,    671.9, 2,   4.2623, 2,  34.1515, 2,  34.1506, 2,     62.0, 2,     58.7, 2,    98.52, 2,    39.60, 2,     0.01, 2,     2.87, 2,    0.966, 6,    0.464, 6,    0.051, 6, -999.000, 9,   2310.4, 6,   2331.0, 2,    7.3925,     25.00,   -999.0, 1,   -999.0,  -999.00, 1,   -999.0,   4.2122, 27.0891,   4.2624, 2, 2, 0.34, 0.14, 0.01, 0.017,  -999.00, 9, -999.00, -999.00, 9, -999.00
49NZ20071008, P14N, 42, 1, 25, X12043, 2, 20071102, 0044, 41.4883, 179.0003, 4988,    773.9, 2,   3.8874, 2,  34.2205, 2,  34.2177, 2,     43.4, 2,     41.9, 2,   110.37, 2,    41.59, 2,     0.00, 2,     3.00, 2,    0.552, 2,    0.257, 2,    0.025, 2, -999.000, 9,   2334.4, 2,   2344.8, 6,    7.3710,     25.00,   -999.0, 1,   -999.0,  -999.00, 1,   -999.0,   3.8312, 27.1832,   3.8876, 2, 2, 0.36, 0.15, 0.01, 0.017,  -999.00, 9, -999.00, -999.00, 9, -999.00
49NZ20071008, P14N, 42, 1, 24, X12030, 2, 20071102, 0044, 41.4883, 179.0003, 4988,    873.5, 2,   3.5627, 2,  34.2800, 2,  34.2779, 2,     33.0, 2,     32.2, 2,   120.27, 2,    42.55, 2,     0.00, 2,     3.05, 2,    0.289, 2,    0.138, 2,    0.012, 2, -999.000, 9,   2353.2, 2,   2358.1, 2,    7.3577,     25.00,   -999.0, 1,   -999.0,  -999.00, 1,   -999.0,   3.5007, 27.2633,   3.5634, 2, 6, 0.38, 0.15, 0.01, 0.018,  -999.00, 9, -999.00, -999.00, 9, -999.00
49NZ20071008, P14N, 42, 1, 23, X12027, 2, 20071102, 0044, 41.4883, 179.0003, 4988,    973.5, 2,   3.3100, 2,  34.3285, 2,  34.3272, 6,     30.0, 2,     29.6, 2,   128.55, 2,    43.08, 2,     0.00, 2,     3.10, 2,    0.190, 2,    0.091, 2,    0.013, 2, -999.000, 9,   2362.8, 2,   2367.1, 2,    7.3541,     25.00,   -999.0, 1,   -999.0,  -999.00, 1,   -999.0,   3.2420, 27.3266,   3.3097, 2, 2, 0.40, 0.15, 0.01, 0.018,  -999.00, 9, -999.00, -999.00, 9, -999.00
49NZ20071008, P14N, 42, 1, 22, X12028, 2, 20071102, 0044, 41.4883, 179.0003, 4988,   1132.6, 2,   2.9803, 2,  34.3927, 2,  34.3915, 2,     25.6, 2,     24.8, 2,   139.19, 2,    43.74, 2,     0.00, 2,     3.13, 2,    0.078, 2,    0.040, 2,    0.000, 2, -999.000, 9,   2375.6, 2,   2380.7, 2,    7.3523,     25.00,   -999.0, 1,   -999.0,  -999.00, 1,   -999.0,   2.9026, 27.4091,   2.9807, 2, 2, 0.43, 0.16, 0.01, 0.018,  -999.00, 9, -999.00, -999.00, 9, -999.00
49NZ20071008, P14N, 42, 1, 21, X12009, 2, 20071102, 0044, 41.4883, 179.0003, 4988,   1331.6, 2,   2.6778, 2,  34.4528, 2,  34.4524, 2,     26.9, 2,     26.9, 2,   148.56, 2,    43.89, 2,     0.00, 2,     3.13, 2,    0.032, 2,    0.016, 2,    0.000, 2, -999.000, 9,   2384.5, 2,   2392.8, 2,    7.3602,     25.00,   -999.0, 1,   -999.0,  -999.00, 1,   -999.0,   2.5874, 27.4849,   2.6779, 2, 2, 0.45, 0.16, 0.01, 0.018,  -999.00, 9, -999.00, -999.00, 9, -999.00
49NZ20071008, P14N, 42, 1, 20, X12026, 2, 20071102, 0044, 41.4883, 179.0003, 4988,   1533.2, 2,   2.4188, 2,  34.4980, 2,  34.4977, 2,     30.8, 2,     30.8, 2,   156.42, 2,    43.89, 2,     0.00, 2,     3.12, 2,    0.014, 2,    0.007, 2,    0.000, 2, -999.000, 9,   2389.7, 2,   2401.1, 2,    7.3727,     25.00,   -999.0, 1,   -999.0,  -999.00, 1,   -999.0,   2.3152, 27.5440,   2.4186, 2, 2, 0.46, 0.16, 0.01, 0.018,  -999.00, 9, -999.00, -999.00, 9, -999.00
49NZ20071008, P14N, 42, 1, 19, X12025, 2, 20071102, 0044, 41.4883, 179.0003, 4988,   1732.7, 2,   2.1840, 2,  34.5371, 2,  34.5367, 2,     44.1, 2,     43.3, 2,   162.02, 2,    43.00, 2,     0.00, 2,     3.06, 2,    0.011, 2,    0.004, 2,    0.000, 2, -999.000, 9,   2389.7, 2,   2407.5, 2,    7.3930,     25.00,   -999.0, 1,   -999.0,  -999.00, 1,   -999.0,   2.0673, 27.5955,   2.1843, 2, 2, 0.48, 0.15, 0.01, 0.018,  -999.00, 9, -999.00, -999.00, 9, -999.00
49NZ20071008, P14N, 42, 1, 18, X12024, 2, 20071102, 0044, 41.4883, 179.0003, 4988,   1933.1, 2,   2.0459, 2,  34.5693, 2,  34.5685, 2,     50.3, 2,     49.8, 2,   165.34, 2,    42.74, 2,     0.00, 2,     3.03, 2,    0.002, 2,    0.001, 2,    0.000, 2, -999.000, 9,   2390.4, 2,   2413.2, 2,    7.4072,     25.00,   -999.0, 1,   -999.0,  -999.00, 1,   -999.0,   1.9146, 27.6333,   2.0460, 2, 2, 0.48, 0.15, 0.01, 0.018,  -999.00, 9, -999.00, -999.00, 9, -999.00
49NZ20071008, P14N, 42, 1, 17, X12023, 2, 20071102, 0044, 41.4883, 179.0003, 4988,   2131.5, 2,   1.9236, 2,  34.5950, 2,  34.5947, 2,     58.8, 2,     59.1, 2,   167.93, 2,    42.26, 2,     0.00, 2,     2.99, 2,    0.000, 2,    0.001, 2,    0.007, 2, -999.000, 9,   2385.8, 2,   2416.7, 2,    7.4245,     25.00,   -999.0, 1,   -999.0,  -999.00, 1,   -999.0,   1.7774, 27.6645,   1.9236, 2, 2, 0.49, 0.15, 0.01, 0.017,  -999.00, 9, -999.00, -999.00, 9, -999.00
49NZ20071008, P14N, 42, 1, 16, X12022, 2, 20071102, 0044, 41.4883, 179.0003, 4988,   2330.2, 2,   1.8274, 2,  34.6138, 2,  34.6133, 6,     72.0, 2,     70.8, 2,   168.47, 2,    41.62, 2,     0.00, 2,     2.95, 2,    0.003, 2,    0.000, 2,    0.000, 2, -999.000, 9,   2379.2, 6,   2420.6, 2,    7.4484,     25.00,   -999.0, 1,   -999.0,  -999.00, 1,   -999.0,   1.6656, 27.6880,   1.8274, 2, 2, 0.49, 0.15, 0.01, 0.017,  -999.00, 9, -999.00, -999.00, 9, -999.00
49NZ20071008, P14N, 42, 1, 15, X12021, 2, 20071102, 0044, 41.4883, 179.0003, 4988,   2528.6, 2,   1.7378, 2,  34.6300, 2,  34.6297, 2,     84.8, 2,     84.1, 2,   167.47, 2,    40.71, 2,     0.00, 2,     2.88, 2,    0.002, 2,    0.001, 2,    0.000, 2, -999.000, 9,   2371.2, 2,   2421.6, 6,    7.4759,     25.00,   -999.0, 1,   -999.0,  -999.00, 1,   -999.0,   1.5599, 27.7088,   1.7377, 2, 2, 0.49, 0.15, 0.01, 0.017,  -999.00, 9, -999.00, -999.00, 9, -999.00
49NZ20071008, P14N, 42, 1, 14, X12020, 2, 20071102, 0044, 41.4883, 179.0003, 4988,   2729.1, 2,   1.6552, 2,  34.6437, 2,  34.6436, 2,     99.5, 2,     99.5, 2,   164.47, 2,    39.63, 2,     0.00, 2,     2.81, 2, -999.000, 9, -999.000, 9, -999.000, 9, -999.000, 9,   2361.4, 2,   2420.9, 2,    7.5004,     25.00,   -999.0, 1,   -999.0,  -999.00, 1,   -999.0,   1.4606, 27.7271,   1.6552, 2, 6, 0.48, 0.14, 0.01, 0.017,  -999.00, 9, -999.00, -999.00, 9, -999.00
49NZ20071008, P14N, 42, 1, 13, X12019, 2, 20071102, 0044, 41.4883, 179.0003, 4988,   2929.5, 2,   1.6023, 2,  34.6531, 2,  34.6529, 2,    110.7, 2,    110.3, 2,   161.96, 2,    38.91, 2,     0.00, 2,     2.75, 2, -999.000, 9, -999.000, 9, -999.000, 9, -999.000, 9,   2355.5, 2,   2420.8, 2,    7.5205,     25.00,   -999.0, 1,   -999.0,  -999.00, 1,   -999.0,   1.3901, 27.7397,   1.6023, 2, 2, 0.48, 0.14, 0.01, 0.017,  -999.00, 9, -999.00, -999.00, 9, -999.00
49NZ20071008, P14N, 42, 1, 12, X12040, 2, 20071102, 0044, 41.4883, 179.0003, 4988,   3170.0, 2,   1.5420, 2,  34.6637, 2,  34.6636, 2,    121.3, 2,    122.5, 2,   159.00, 2,    38.03, 2,     0.00, 2,     2.68, 2,    0.000, 2,    0.000, 2,    0.000, 2, -999.000, 9,   2346.5, 2,   2420.5, 2,    7.5413,     25.00,   -999.0, 1,   -999.0,  -999.00, 1,   -999.0,   1.3079, 27.7541,   1.5419, 2, 2, 0.47, 0.14, 0.01, 0.017,  -999.00, 9, -999.00, -999.00, 9, -999.00
49NZ20071008, P14N, 42, 1, 11, X12047, 2, 20071102, 0044, 41.4883, 179.0003, 4988,   3419.8, 2,   1.4942, 2,  34.6726, 2,  34.6724, 2,    132.7, 2,    133.2, 2,   156.18, 2,    37.40, 2,     0.00, 2,     2.63, 2, -999.000, 9, -999.000, 9, -999.000, 9, -999.000, 9,   2339.7, 2,   2420.3, 2,    7.5618,     25.00,   -999.0, 1,   -999.0,  -999.00, 1,   -999.0,   1.2364, 27.7662,   1.4942, 2, 2, 0.46, 0.14, 0.01, 0.017,  -999.00, 9, -999.00, -999.00, 9, -999.00
49NZ20071008, P14N, 42, 1, 10, X12017, 2, 20071102, 0044, 41.4883, 179.0003, 4988,   3669.4, 2,   1.4754, 2,  34.6779, 2,  34.6778, 6,    139.6, 2,    140.0, 2,   154.63, 2,    36.92, 2,     0.00, 2,     2.59, 2, -999.000, 9, -999.000, 9, -999.000, 9, -999.000, 9,   2334.3, 2,   2420.3, 2,    7.5721,     25.00,   -999.0, 1,   -999.0,  -999.00, 1,   -999.0,   1.1924, 27.7735,   1.4754, 2, 2, 0.46, 0.14, 0.01, 0.016,  -999.00, 9, -999.00, -999.00, 9, -999.00
49NZ20071008, P14N, 42, 1, 9, X12015, 2, 20071102, 0044, 41.4883, 179.0003, 4988,   3919.4, 2,   1.4625, 2,  34.6823, 2,  34.6827, 2,    146.0, 2,    145.7, 2,   153.44, 2,    36.61, 2,     0.00, 2,     2.57, 2,    0.002, 2,    0.001, 2,    0.000, 2, -999.000, 9,   2330.1, 2,   2420.3, 2,    7.5829,     25.00,   -999.0, 1,   -999.0,  -999.00, 1,   -999.0,   1.1534, 27.7797,   1.4624, 2, 2, 0.46, 0.14, 0.01, 0.016,  -999.00, 9, -999.00, -999.00, 9, -999.00
49NZ20071008, P14N, 42, 1, 8, X12046, 2, 20071102, 0044, 41.4883, 179.0003, 4988,   4167.7, 2,   1.4587, 2,  34.6861, 2,  34.6862, 2,    150.0, 2,    150.0, 2,   153.62, 2,    36.27, 2,     0.00, 2,     2.55, 2, -999.000, 9, -999.000, 9, -999.000, 9, -999.000, 9,   2330.3, 6,   2420.9, 2,    7.5920,     25.00,   -999.0, 1,   -999.0,  -999.00, 1,   -999.0,   1.1226, 27.7848,   1.4587, 2, 2, 0.46, 0.13, 0.01, 0.016,  -999.00, 9, -999.00, -999.00, 9, -999.00
49NZ20071008, P14N, 42, 1, 7, X12044, 2, 20071102, 0044, 41.4883, 179.0003, 4988,   4419.8, 2,   1.4750, 2,  34.6877, 2,  34.6878, 2,    151.7, 2,    151.3, 2,   155.05, 2,    36.23, 2,     0.00, 2,     2.55, 2, -999.000, 9, -999.000, 9, -999.000, 9, -999.000, 9,   2328.8, 2,   2422.0, 6,    7.5956,     25.00,   -999.0, 1,   -999.0,  -999.00, 1,   -999.0,   1.1100, 27.7870,   1.4750, 2, 2, 0.46, 0.13, 0.01, 0.016,  -999.00, 9, -999.00, -999.00, 9, -999.00
49NZ20071008, P14N, 42, 1, 6, X12048, 2, 20071102, 0044, 41.4883, 179.0003, 4988,   4669.1, 2,   1.5006, 2,  34.6883, 2,  34.6883, 2,    152.0, 2,    151.9, 2,   155.46, 2,    36.20, 2,     0.00, 2,     2.54, 2,    0.000, 2,    0.000, 2,    0.000, 2, -999.000, 9,   2328.4, 2,   2422.6, 2,    7.5960,     25.00,   -999.0, 1,   -999.0,  -999.00, 1,   -999.0,   1.1059, 27.7878,   1.5005, 2, 6, 0.46, 0.13, 0.01, 0.016,  -999.00, 9, -999.00, -999.00, 9, -999.00
49NZ20071008, P14N, 42, 1, 5, X12014, 9, 20071102, 0044, 41.4883, 179.0003, 4988,    370.3, 2,   6.3763, 2,  33.9450, 2, -999.0000, 9,    168.7, 2,   -999.0, 9,  -999.00, 9,  -999.00, 9,  -999.00, 9,  -999.00, 9, -999.000, 9, -999.000, 9, -999.000, 9, -999.000, 9,   -999.0, 9,   -999.0, 9, -999.0000,   -999.00,   -999.0, 9,   -999.0,  -999.00, 9,   -999.0,   6.3435, 26.6751,   6.3769, 2, 9, -999.00, -999.00, -999.00, -999.000,  -999.00, 9, -999.00, -999.00, 9, -999.00
49NZ20071008, P14N, 42, 1, 4, X12006, 9, 20071102, 0044, 41.4883, 179.0003, 4988,    470.7, 2,   5.3232, 2,  33.9676, 2, -999.0000, 9,    126.1, 2,   -999.0, 9,  -999.00, 9,  -999.00, 9,  -999.00, 9,  -999.00, 9, -999.000, 9, -999.000, 9, -999.000, 9, -999.000, 9,   -999.0, 9,   -999.0, 9, -999.0000,   -999.00,   -999.0, 9,   -999.0,  -999.00, 9,   -999.0,   5.2850, 26.8237,   5.3237, 2, 9, -999.00, -999.00, -999.00, -999.000,  -999.00, 9, -999.00, -999.00, 9, -999.00
49NZ20071008, P14N, 42, 1, 3, X12013, 9, 20071102, 0044, 41.4883, 179.0003, 4988,    571.4, 2,   4.6926, 2,  34.0569, 2, -999.0000, 9,     90.5, 2,   -999.0, 9,  -999.00, 9,  -999.00, 9,  -999.00, 9,  -999.00, 9, -999.000, 9, -999.000, 9, -999.000, 9, -999.000, 9,   -999.0, 9,   -999.0, 9, -999.0000,   -999.00,   -999.0, 9,   -999.0,  -999.00, 9,   -999.0,   4.6486, 26.9670,   4.6921, 2, 9, -999.00, -999.00, -999.00, -999.000,  -999.00, 9, -999.00, -999.00, 9, -999.00
49NZ20071008, P14N, 42, 1, 2, X12002, 9, 20071102, 0044, 41.4883, 179.0003, 4988,    672.4, 2,   4.2617, 2,  34.1517, 2, -999.0000, 9,     61.9, 2,   -999.0, 9,  -999.00, 9,  -999.00, 9,  -999.00, 9,  -999.00, 9, -999.000, 9, -999.000, 9, -999.000, 9, -999.000, 9,   -999.0, 9,   -999.0, 9, -999.0000,   -999.00,   -999.0, 9,   -999.0,  -999.00, 9,   -999.0,   4.2115, 27.0894,   4.2618, 2, 9, -999.00, -999.00, -999.00, -999.000,  -999.00, 9, -999.00, -999.00, 9, -999.00
49NZ20071008, P14N, 42, 1, 1, X12001, 2, 20071102, 0044, 41.4883, 179.0003, 4988,   4970.7, 2,   1.5351, 2,  34.6887, 2,  34.6888, 6,    152.6, 2,    152.2, 2,   155.48, 2,    36.14, 2,     0.00, 2,     2.54, 2,    0.001, 2,    0.000, 2,    0.000, 2, -999.000, 9,   2327.5, 2,   2422.6, 2,    7.5966,     25.00,   -999.0, 1,   -999.0,  -999.00, 1,   -999.0,   1.1032, 27.7882,   1.5351, 2, 2, 0.46, 0.13, 0.01, 0.016,  -999.00, 9, -999.00, -999.00, 9, -999.00