BOTTLE,20221005CCHSIOAMB
EXPOCODE,SECT_ID,STNNBR,CASTNO,SAMPNO,BTLNBR,BTLNBR_FLAG_W,DATE,TIME,LATITUDE,LONGITUDE,DEPTH,CTDPRS,CTDPRS_FLAG_W,CTDTMP,CTDTMP_FLAG_W,CTDSAL,CTDSAL_FLAG_W,SALNTY,SALNTY_FLAG_W,CTDOXY,CTDOXY_FLAG_W,OXYGEN,OXYGEN_FLAG_W,SILCAT,SILCAT_FLAG_W,NITRAT,NITRAT_FLAG_W,NITRIT,NITRIT_FLAG_W,PHSPHT,PHSPHT_FLAG_W,CFC-11,CFC-11_FLAG_W,CFC-12,CFC-12_FLAG_W,CFC113,CFC113_FLAG_W,CCL4,CCL4_FLAG_W,TCARBN,TCARBN_FLAG_W,ALKALI,ALKALI_FLAG_W,PH_TOT,PH_TMP,DELC14,DELC14_FLAG_W,C14ERR,DELC13,DELC13_FLAG_W,C13ERR,THETA,SIG0,SBE35,SBE35_FLAG_W,PH_TOT_FLAG_W,SILUNC,NRAUNC,NRIUNC,PHPUNC,CS-137,CS-137_FLAG_W,CS137ER,PLUTO,PLUTO_FLAG_W,PLUTOER
,,,,,,,,,,,METERS,DBAR,,ITS-90,,PSS-78,,PSS-78,,UMOL/KG,,UMOL/KG,,UMOL/KG,,UMOL/KG,,UMOL/KG,,UMOL/KG,,PMOL/KG,,PMOL/KG,,PMOL/KG,,PMOL/KG,,UMOL/KG,,UMOL/KG,,,DEG C,/MILLE,,/MILLE,/MILLE,,/MILLE,DEG C,KG/M^3,ITS-90,,,UMOL/KG,UMOL/KG,UMOL/KG,UMOL/KG,DM/.1MG,,BQ/M^3,MBQ/M^3,,MBQ/M^3
49NZ20071008, P14N, 3, 1, 36, X12042, 2, 20071027, 0633, 58.0003, -174.8722, 3002,     10.0, 2,   5.6585, 2,  32.5239, 2,  32.5251, 2,    297.9, 2,    297.6, 2,    31.17, 2,    13.58, 2,     0.24, 2,     1.36, 2, -999.000, 9, -999.000, 9, -999.000, 9, -999.000, 9,   2065.7, 2,   2207.7, 2,    7.7731,     25.00,   -999.0, 9,   -999.0,  -999.00, 9,   -999.0,   5.6577, 25.6375,   5.6583, 2, 6, 0.19, 0.07, 0.01, 0.014,  -999.00, 9, -999.00, -999.00, 9, -999.00
49NZ20071008, P14N, 3, 1, 35, X12041, 2, 20071027, 0633, 58.0003, -174.8722, 3002,     50.4, 2,   3.6983, 2,  33.0065, 2,  33.0087, 2,    251.5, 2,    251.1, 2,    50.68, 2,    27.64, 2,     0.03, 2,     2.15, 2, -999.000, 9, -999.000, 9, -999.000, 9, -999.000, 9,   2155.7, 6,   2234.8, 2,    7.5843,     25.00,   -999.0, 9,   -999.0,  -999.00, 9,   -999.0,   3.6951, 26.2303,   3.6972, 2, 2, 0.23, 0.11, 0.01, 0.015,  -999.00, 9, -999.00, -999.00, 9, -999.00
49NZ20071008, P14N, 3, 1, 34, X12016, 2, 20071027, 0633, 58.0003, -174.8722, 3002,    100.3, 2,   3.3172, 2,  33.1929, 2,  33.1936, 2,    236.5, 2,    239.7, 2,    59.84, 2,    31.00, 2,     0.01, 2,     2.36, 2, -999.000, 9, -999.000, 9, -999.000, 9, -999.000, 9,   2183.6, 2,   2246.7, 6,    7.5444,     25.00,   -999.0, 9,   -999.0,  -999.00, 9,   -999.0,   3.3111, 26.4148,   3.3171, 2, 2, 0.25, 0.12, 0.01, 0.016,  -999.00, 9, -999.00, -999.00, 9, -999.00
49NZ20071008, P14N, 3, 1, 33, X12033, 2, 20071027, 0633, 58.0003, -174.8722, 3002,    150.5, 2,   3.3650, 2,  33.2972, 2,  33.2996, 2,    249.9, 2,    222.1, 2,    64.33, 2,    32.32, 2,     0.01, 2,     2.43, 2, -999.000, 9, -999.000, 9, -999.000, 9, -999.000, 9,   2196.7, 2,   2256.0, 2,    7.5250,     25.00,   -999.0, 9,   -999.0,  -999.00, 9,   -999.0,   3.3557, 26.4938,   3.3657, 2, 6, 0.26, 0.12, 0.01, 0.016,  -999.00, 9, -999.00, -999.00, 9, -999.00
49NZ20071008, P14N, 3, 1, 32, X12038, 2, 20071027, 0633, 58.0003, -174.8722, 3002,    200.3, 2,   3.4859, 2,  33.3658, 2,  33.3683, 2,    209.8, 2,    201.4, 2,    68.00, 2,    33.40, 2,     0.01, 2,     2.50, 2, -999.000, 9, -999.000, 9, -999.000, 9, -999.000, 9,   2210.4, 2,   2262.1, 2,    7.5015,     25.00,   -999.0, 9,   -999.0,  -999.00, 9,   -999.0,   3.4732, 26.5375,   3.4858, 2, 2, 0.27, 0.13, 0.01, 0.016,  -999.00, 9, -999.00, -999.00, 9, -999.00
49NZ20071008, P14N, 3, 1, 31, X12003, 2, 20071027, 0633, 58.0003, -174.8722, 3002,    249.3, 2,   3.7908, 2,  33.4899, 2,  33.4961, 6,    181.7, 2,    162.3, 2,    74.26, 2,    35.50, 2,     0.01, 2,     2.61, 2, -999.000, 9, -999.000, 9, -999.000, 9, -999.000, 9,   2238.0, 2,   2270.5, 2,    7.4540,     25.00,   -999.0, 9,   -999.0,  -999.00, 9,   -999.0,   3.7742, 26.6074,   3.7908, 2, 2, 0.28, 0.13, 0.01, 0.017,  -999.00, 9, -999.00, -999.00, 9, -999.00
49NZ20071008, P14N, 3, 1, 30, X12008, 2, 20071027, 0633, 58.0003, -174.8722, 3002,    280.3, 2,   3.8535, 2,  33.5644, 2,  33.5675, 2,    148.7, 2,    140.6, 2,    78.68, 2,    36.78, 2,     0.01, 2,     2.69, 2, -999.000, 9, -999.000, 9, -999.000, 9, -999.000, 9,   2250.7, 2,   2277.0, 2,    7.4245,     25.00,   -999.0, 9,   -999.0,  -999.00, 9,   -999.0,   3.8346, 26.6607,   3.8532, 2, 2, 0.29, 0.14, 0.01, 0.017,  -999.00, 9, -999.00, -999.00, 9, -999.00
49NZ20071008, P14N, 3, 1, 29, X12035, 2, 20071027, 0633, 58.0003, -174.8722, 3002,    370.3, 2,   3.8998, 2,  33.7814, 2,  33.7828, 2,     81.2, 2,     84.4, 2,    92.67, 2,    40.23, 2,     0.01, 2,     2.90, 2, -999.000, 9, -999.000, 9, -999.000, 9, -999.000, 9,   2293.7, 2,   2297.1, 2,    7.3550,     25.00,   -999.0, 9,   -999.0,  -999.00, 9,   -999.0,   3.8743, 26.8295,   3.8998, 2, 2, 0.32, 0.15, 0.01, 0.017,  -999.00, 9, -999.00, -999.00, 9, -999.00
49NZ20071008, P14N, 3, 1, 28, X12034, 2, 20071027, 0633, 58.0003, -174.8722, 3002,    471.9, 2,   3.7227, 2,  33.9601, 2,  33.9590, 6,     48.4, 2,     48.3, 2,   105.92, 2,    42.63, 2,     0.01, 2,     3.05, 2, -999.000, 9, -999.000, 9, -999.000, 9, -999.000, 9,   2326.2, 2,   2316.8, 2,    7.3192,     25.00,   -999.0, 9,   -999.0,  -999.00, 9,   -999.0,   3.6904, 26.9900,   3.7230, 2, 2, 0.35, 0.15, 0.01, 0.018,  -999.00, 9, -999.00, -999.00, 9, -999.00
49NZ20071008, P14N, 3, 1, 27, X12049, 2, 20071027, 0633, 58.0003, -174.8722, 3002,    568.7, 2,   3.5447, 2,  34.0736, 2,  34.0747, 2,     31.2, 2,     31.8, 2,   116.08, 2,    43.70, 2,     0.01, 2,     3.11, 2, -999.000, 9, -999.000, 9, -999.000, 9, -999.000, 9,   2345.9, 2,   2331.5, 2,    7.3060,     25.00,   -999.0, 9,   -999.0,  -999.00, 9,   -999.0,   3.5060, 27.0984,   3.5447, 2, 2, 0.37, 0.16, 0.01, 0.018,  -999.00, 9, -999.00, -999.00, 9, -999.00
49NZ20071008, P14N, 3, 1, 26, X12032, 2, 20071027, 0633, 58.0003, -174.8722, 3002,    669.3, 2,   3.3743, 2,  34.1596, 2,  34.1605, 2,     24.0, 2,     24.4, 2,   124.70, 2,    43.94, 2,     0.01, 2,     3.14, 2, -999.000, 9, -999.000, 9, -999.000, 9, -999.000, 9,   2360.4, 6,   2344.5, 2,    7.3053,     25.00,   -999.0, 9,   -999.0,  -999.00, 9,   -999.0,   3.3290, 27.1837,   3.3742, 2, 2, 0.39, 0.16, 0.01, 0.018,  -999.00, 9, -999.00, -999.00, 9, -999.00
49NZ20071008, P14N, 3, 1, 25, X12043, 2, 20071027, 0633, 58.0003, -174.8722, 3002,    770.4, 2,   3.2033, 2,  34.2291, 2,  34.2291, 2,     20.6, 2,     20.6, 2,   132.73, 2,    44.09, 2,     0.01, 2,     3.15, 2, -999.000, 9, -999.000, 9, -999.000, 9, -999.000, 9,   2369.7, 2,   2354.5, 6,    7.3086,     25.00,   -999.0, 9,   -999.0,  -999.00, 9,   -999.0,   3.1515, 27.2558,   3.2031, 2, 2, 0.41, 0.16, 0.01, 0.018,  -999.00, 9, -999.00, -999.00, 9, -999.00
49NZ20071008, P14N, 3, 1, 24, X12030, 2, 20071027, 0633, 58.0003, -174.8722, 3002,    871.1, 2,   3.0661, 2,  34.2749, 2,  34.2751, 2,     19.0, 2,     19.2, 2,   138.87, 2,    43.99, 2,     0.01, 2,     3.16, 2, -999.000, 9, -999.000, 9, -999.000, 9, -999.000, 9,   2372.8, 2,   2361.7, 2,    7.3125,     25.00,   -999.0, 9,   -999.0,  -999.00, 9,   -999.0,   3.0077, 27.3055,   3.0662, 2, 6, 0.42, 0.16, 0.01, 0.018,  -999.00, 9, -999.00, -999.00, 9, -999.00
49NZ20071008, P14N, 3, 1, 23, X12027, 2, 20071027, 0633, 58.0003, -174.8722, 3002,    970.8, 2,   2.9087, 2,  34.3245, 2,  34.3252, 6,     18.3, 2,     18.2, 2,   145.83, 2,    44.13, 2,     0.01, 2,     3.16, 2, -999.000, 9, -999.000, 9, -999.000, 9, -999.000, 9,   2377.9, 2,   2370.5, 2,    7.3166,     25.00,   -999.0, 9,   -999.0,  -999.00, 9,   -999.0,   2.8440, 27.3599,   2.9086, 2, 2, 0.44, 0.16, 0.01, 0.018,  -999.00, 9, -999.00, -999.00, 9, -999.00
49NZ20071008, P14N, 3, 1, 22, X12028, 2, 20071027, 0633, 58.0003, -174.8722, 3002,   1130.4, 2,   2.6828, 2,  34.3873, 2,  34.3873, 2,     19.3, 2,     20.1, 2,   156.15, 2,    43.73, 2,     0.01, 2,     3.15, 2, -999.000, 9, -999.000, 9, -999.000, 9, -999.000, 9,   2384.9, 2,   2380.9, 2,    7.3280,     25.00,   -999.0, 9,   -999.0,  -999.00, 9,   -999.0,   2.6079, 27.4307,   2.6829, 2, 2, 0.46, 0.16, 0.01, 0.018,  -999.00, 9, -999.00, -999.00, 9, -999.00
49NZ20071008, P14N, 3, 1, 21, X12009, 2, 20071027, 0633, 58.0003, -174.8722, 3002,   1330.2, 2,   2.4355, 2,  34.4518, 2,  34.4517, 2,     24.2, 2,     24.3, 2,   168.01, 2,    43.56, 2,     0.01, 2,     3.14, 2, -999.000, 9, -999.000, 9, -999.000, 9, -999.000, 9,   2391.6, 2,   2392.1, 2,    7.3430,     25.00,   -999.0, 9,   -999.0,  -999.00, 9,   -999.0,   2.3477, 27.5044,   2.4355, 2, 2, 0.49, 0.15, 0.01, 0.018,  -999.00, 9, -999.00, -999.00, 9, -999.00
49NZ20071008, P14N, 3, 1, 20, X12026, 2, 20071027, 0633, 58.0003, -174.8722, 3002,   1530.9, 2,   2.2516, 2,  34.4968, 2,  34.4972, 2,     29.8, 2,     30.7, 2,   177.46, 2,    43.06, 2,     0.01, 2,     3.13, 2, -999.000, 9, -999.000, 9, -999.000, 9, -999.000, 9,   2393.4, 2,   2400.3, 2,    7.3601,     25.00,   -999.0, 9,   -999.0,  -999.00, 9,   -999.0,   2.1502, 27.5565,   2.2516, 2, 6, 0.51, 0.15, 0.01, 0.018,  -999.00, 9, -999.00, -999.00, 9, -999.00
49NZ20071008, P14N, 3, 1, 19, X12025, 2, 20071027, 0633, 58.0003, -174.8722, 3002,   1731.0, 2,   2.0978, 2,  34.5342, 2,  34.5345, 2,     37.3, 2,     38.0, 2,   185.63, 2,    42.42, 2,     0.01, 2,     3.11, 2, -999.000, 9, -999.000, 9, -999.000, 9, -999.000, 9,   2399.0, 3,   2407.1, 2,    7.3759,     25.00,   -999.0, 9,   -999.0,  -999.00, 9,   -999.0,   1.9824, 27.5998,   2.0978, 2, 2, 0.53, 0.15, 0.01, 0.018,  -999.00, 9, -999.00, -999.00, 9, -999.00
49NZ20071008, P14N, 3, 1, 18, X12024, 2, 20071027, 0633, 58.0003, -174.8722, 3002,   1929.3, 2,   1.9531, 2,  34.5674, 2,  34.5680, 6,     46.8, 2,     47.8, 2,   194.88, 2,    41.54, 2,     0.01, 2,     3.07, 2, -999.000, 9, -999.000, 9, -999.000, 9, -999.000, 9,   2393.4, 2,   2414.2, 2,    7.3957,     25.00,   -999.0, 9,   -999.0,  -999.00, 9,   -999.0,   1.8235, 27.6389,   1.9532, 2, 2, 0.55, 0.15, 0.01, 0.018,  -999.00, 9, -999.00, -999.00, 9, -999.00
49NZ20071008, P14N, 3, 1, 17, X12023, 2, 20071027, 0633, 58.0003, -174.8722, 3002,   2132.3, 2,   1.8532, 2,  34.5914, 2,  34.5917, 2,     54.8, 2,     55.5, 2,   200.84, 2,    41.02, 2,     0.01, 2,     3.05, 2, -999.000, 9, -999.000, 9, -999.000, 9, -999.000, 9,   2392.5, 2,   2418.5, 2,    7.4144,     25.00,   -999.0, 9,   -999.0,  -999.00, 9,   -999.0,   1.7081, 27.6669,   1.8532, 2, 2, 0.56, 0.15, 0.01, 0.018,  -999.00, 9, -999.00, -999.00, 9, -999.00
49NZ20071008, P14N, 3, 1, 16, X12022, 2, 20071027, 0633, 58.0003, -174.8722, 3002,   2331.4, 2,   1.7647, 2,  34.6118, 2,  34.6121, 2,     64.4, 2,     64.5, 2,   207.60, 2,    40.16, 2,     0.01, 2,     3.03, 2, -999.000, 9, -999.000, 9, -999.000, 9, -999.000, 9,   2390.0, 2,   2423.0, 2,    7.4342,     25.00,   -999.0, 9,   -999.0,  -999.00, 9,   -999.0,   1.6039, 27.6910,   1.7648, 2, 2, 0.58, 0.15, 0.01, 0.018,  -999.00, 9, -999.00, -999.00, 9, -999.00
49NZ20071008, P14N, 3, 1, 15, X12021, 2, 20071027, 0633, 58.0003, -174.8722, 3002,   2530.1, 2,   1.7013, 2,  34.6274, 2,  34.6280, 2,     71.2, 2,     71.8, 2,   212.57, 2,    39.60, 2,     0.01, 2,     3.00, 2, -999.000, 9, -999.000, 9, -999.000, 9, -999.000, 9,   2390.1, 3,   2426.5, 6,    7.4475,     25.00,   -999.0, 9,   -999.0,  -999.00, 9,   -999.0,   1.5240, 27.7094,   1.7011, 2, 2, 0.59, 0.14, 0.01, 0.017,  -999.00, 9, -999.00, -999.00, 9, -999.00
49NZ20071008, P14N, 3, 1, 14, X12020, 2, 20071027, 0633, 58.0003, -174.8722, 3002,   2730.0, 2,   1.6541, 2,  34.6397, 2,  34.6405, 2,     77.6, 2,     78.2, 2,   217.17, 2,    39.14, 2,     0.01, 2,     2.98, 2, -999.000, 9, -999.000, 9, -999.000, 9, -999.000, 9,   2385.5, 3,   2429.1, 2,    7.4616,     25.00,   -999.0, 9,   -999.0,  -999.00, 9,   -999.0,   1.4595, 27.7240,   1.6540, 2, 2, 0.60, 0.14, 0.01, 0.017,  -999.00, 9, -999.00, -999.00, 9, -999.00
49NZ20071008, P14N, 3, 1, 13, X12019, 2, 20071027, 0633, 58.0003, -174.8722, 3002,   2930.8, 2,   1.6238, 2,  34.6491, 2,  34.6498, 2,     82.6, 2,     82.9, 2,   220.96, 2,    38.70, 2,     0.01, 2,     2.97, 2, -999.000, 9, -999.000, 9, -999.000, 9, -999.000, 9,   2385.6, 3,   2431.4, 2,    7.4729,     25.00,   -999.0, 9,   -999.0,  -999.00, 9,   -999.0,   1.4110, 27.7350,   1.6238, 2, 2, 0.61, 0.14, 0.01, 0.017,  -999.00, 9, -999.00, -999.00, 9, -999.00
49NZ20071008, P14N, 3, 1, 12, X12040, 9, 20071027, 0633, 58.0003, -174.8722, 3002,     10.2, 2,   5.6585, 2,  32.5240, 2, -999.0000, 9,    297.9, 2,   -999.0, 9,  -999.00, 9,  -999.00, 9,  -999.00, 9,  -999.00, 9, -999.000, 9, -999.000, 9, -999.000, 9, -999.000, 9,   -999.0, 9,   -999.0, 9, -999.0000,   -999.00,   -999.0, 9,   -999.0,  -999.00, 9,   -999.0,   5.6577, 25.6376,   5.6584, 2, 9, -999.00, -999.00, -999.00, -999.000,  -999.00, 9, -999.00, -999.00, 9, -999.00
49NZ20071008, P14N, 3, 1, 11, X12047, 9, 20071027, 0633, 58.0003, -174.8722, 3002,   1130.6, 2,   2.6826, 2,  34.3873, 2, -999.0000, 9,     19.4, 2,   -999.0, 9,  -999.00, 9,  -999.00, 9,  -999.00, 9,  -999.00, 9, -999.000, 9, -999.000, 9, -999.000, 9, -999.000, 9,   -999.0, 9,   -999.0, 9, -999.0000,   -999.00,   -999.0, 9,   -999.0,  -999.00, 9,   -999.0,   2.6077, 27.4307,   2.6826, 2, 9, -999.00, -999.00, -999.00, -999.000,  -999.00, 9, -999.00, -999.00, 9, -999.00
49NZ20071008, P14N, 3, 1, 10, X12017, 9, 20071027, 0633, 58.0003, -174.8722, 3002,   1330.4, 2,   2.4360, 2,  34.4515, 2, -999.0000, 9,     24.2, 2,   -999.0, 9,  -999.00, 9,  -999.00, 9,  -999.00, 9,  -999.00, 9, -999.000, 9, -999.000, 9, -999.000, 9, -999.000, 9,   -999.0, 9,   -999.0, 9, -999.0000,   -999.00,   -999.0, 9,   -999.0,  -999.00, 9,   -999.0,   2.3482, 27.5041,   2.4357, 2, 9, -999.00, -999.00, -999.00, -999.000,  -999.00, 9, -999.00, -999.00, 9, -999.00
49NZ20071008, P14N, 3, 1, 9, X12015, 9, 20071027, 0633, 58.0003, -174.8722, 3002,   1529.5, 2,   2.2521, 2,  34.4968, 2, -999.0000, 9,     29.7, 2,   -999.0, 9,  -999.00, 9,  -999.00, 9,  -999.00, 9,  -999.00, 9, -999.000, 9, -999.000, 9, -999.000, 9, -999.000, 9,   -999.0, 9,   -999.0, 9, -999.0000,   -999.00,   -999.0, 9,   -999.0,  -999.00, 9,   -999.0,   2.1508, 27.5565,   2.2521, 2, 9, -999.00, -999.00, -999.00, -999.000,  -999.00, 9, -999.00, -999.00, 9, -999.00
49NZ20071008, P14N, 3, 1, 8, X12046, 9, 20071027, 0633, 58.0003, -174.8722, 3002,   1731.0, 2,   2.0975, 2,  34.5343, 2, -999.0000, 9,     37.3, 2,   -999.0, 9,  -999.00, 9,  -999.00, 9,  -999.00, 9,  -999.00, 9, -999.000, 9, -999.000, 9, -999.000, 9, -999.000, 9,   -999.0, 9,   -999.0, 9, -999.0000,   -999.00,   -999.0, 9,   -999.0,  -999.00, 9,   -999.0,   1.9821, 27.5999,   2.0976, 2, 9, -999.00, -999.00, -999.00, -999.000,  -999.00, 9, -999.00, -999.00, 9, -999.00
49NZ20071008, P14N, 3, 1, 7, X12044, 9, 20071027, 0633, 58.0003, -174.8722, 3002,   1929.4, 2,   1.9531, 2,  34.5674, 2, -999.0000, 9,     46.8, 2,   -999.0, 9,  -999.00, 9,  -999.00, 9,  -999.00, 9,  -999.00, 9, -999.000, 9, -999.000, 9, -999.000, 9, -999.000, 9,   -999.0, 9,   -999.0, 9, -999.0000,   -999.00,   -999.0, 9,   -999.0,  -999.00, 9,   -999.0,   1.8234, 27.6389,   1.9531, 2, 9, -999.00, -999.00, -999.00, -999.000,  -999.00, 9, -999.00, -999.00, 9, -999.00
49NZ20071008, P14N, 3, 1, 6, X12048, 9, 20071027, 0633, 58.0003, -174.8722, 3002,   2132.3, 2,   1.8532, 2,  34.5914, 2, -999.0000, 9,     54.8, 2,   -999.0, 9,  -999.00, 9,  -999.00, 9,  -999.00, 9,  -999.00, 9, -999.000, 9, -999.000, 9, -999.000, 9, -999.000, 9,   -999.0, 9,   -999.0, 9, -999.0000,   -999.00,   -999.0, 9,   -999.0,  -999.00, 9,   -999.0,   1.7081, 27.6669,   1.8533, 2, 9, -999.00, -999.00, -999.00, -999.000,  -999.00, 9, -999.00, -999.00, 9, -999.00
49NZ20071008, P14N, 3, 1, 5, X12014, 9, 20071027, 0633, 58.0003, -174.8722, 3002,   2330.8, 2,   1.7653, 2,  34.6117, 2, -999.0000, 9,     64.4, 2,   -999.0, 9,  -999.00, 9,  -999.00, 9,  -999.00, 9,  -999.00, 9, -999.000, 9, -999.000, 9, -999.000, 9, -999.000, 9,   -999.0, 9,   -999.0, 9, -999.0000,   -999.00,   -999.0, 9,   -999.0,  -999.00, 9,   -999.0,   1.6045, 27.6909,   1.7652, 2, 9, -999.00, -999.00, -999.00, -999.000,  -999.00, 9, -999.00, -999.00, 9, -999.00
49NZ20071008, P14N, 3, 1, 4, X12006, 9, 20071027, 0633, 58.0003, -174.8722, 3002,   2530.8, 2,   1.7009, 2,  34.6275, 2, -999.0000, 9,     71.2, 2,   -999.0, 9,  -999.00, 9,  -999.00, 9,  -999.00, 9,  -999.00, 9, -999.000, 9, -999.000, 9, -999.000, 9, -999.000, 9,   -999.0, 9,   -999.0, 9, -999.0000,   -999.00,   -999.0, 9,   -999.0,  -999.00, 9,   -999.0,   1.5236, 27.7095,   1.7008, 2, 9, -999.00, -999.00, -999.00, -999.000,  -999.00, 9, -999.00, -999.00, 9, -999.00
49NZ20071008, P14N, 3, 1, 3, X12013, 9, 20071027, 0633, 58.0003, -174.8722, 3002,   2730.3, 2,   1.6538, 2,  34.6400, 2, -999.0000, 9,     77.6, 2,   -999.0, 9,  -999.00, 9,  -999.00, 9,  -999.00, 9,  -999.00, 9, -999.000, 9, -999.000, 9, -999.000, 9, -999.000, 9,   -999.0, 9,   -999.0, 9, -999.0000,   -999.00,   -999.0, 9,   -999.0,  -999.00, 9,   -999.0,   1.4592, 27.7243,   1.6538, 2, 9, -999.00, -999.00, -999.00, -999.000,  -999.00, 9, -999.00, -999.00, 9, -999.00
49NZ20071008, P14N, 3, 1, 2, X12002, 9, 20071027, 0633, 58.0003, -174.8722, 3002,   2930.0, 2,   1.6241, 2,  34.6490, 2, -999.0000, 9,     82.5, 2,   -999.0, 9,  -999.00, 9,  -999.00, 9,  -999.00, 9,  -999.00, 9, -999.000, 9, -999.000, 9, -999.000, 9, -999.000, 9,   -999.0, 9,   -999.0, 9, -999.0000,   -999.00,   -999.0, 9,   -999.0,  -999.00, 9,   -999.0,   1.4114, 27.7349,   1.6241, 2, 9, -999.00, -999.00, -999.00, -999.000,  -999.00, 9, -999.00, -999.00, 9, -999.00
49NZ20071008, P14N, 3, 1, 1, X12001, 2, 20071027, 0633, 58.0003, -174.8722, 3002,   3039.7, 2,   1.6194, 2,  34.6519, 2,  34.6527, 6,     84.2, 2,     84.2, 2,   222.11, 2,    38.43, 2,     0.03, 2,     2.97, 2, -999.000, 9, -999.000, 9, -999.000, 9, -999.000, 9,   2385.2, 3,   2433.8, 2,    7.4744,     25.00,   -999.0, 9,   -999.0,  -999.00, 9,   -999.0,   1.3963, 27.7383,   1.6192, 2, 2, 0.61, 0.14, 0.01, 0.017,  -999.00, 9, -999.00, -999.00, 9, -999.00