BOTTLE,20221005CCHSIOAMB
EXPOCODE,SECT_ID,STNNBR,CASTNO,SAMPNO,BTLNBR,BTLNBR_FLAG_W,DATE,TIME,LATITUDE,LONGITUDE,DEPTH,CTDPRS,CTDPRS_FLAG_W,CTDTMP,CTDTMP_FLAG_W,CTDSAL,CTDSAL_FLAG_W,SALNTY,SALNTY_FLAG_W,CTDOXY,CTDOXY_FLAG_W,OXYGEN,OXYGEN_FLAG_W,SILCAT,SILCAT_FLAG_W,NITRAT,NITRAT_FLAG_W,NITRIT,NITRIT_FLAG_W,PHSPHT,PHSPHT_FLAG_W,CFC-11,CFC-11_FLAG_W,CFC-12,CFC-12_FLAG_W,CFC113,CFC113_FLAG_W,CCL4,CCL4_FLAG_W,TCARBN,TCARBN_FLAG_W,ALKALI,ALKALI_FLAG_W,PH_TOT,PH_TMP,DELC14,DELC14_FLAG_W,C14ERR,DELC13,DELC13_FLAG_W,C13ERR,THETA,SIG0,SBE35,SBE35_FLAG_W,PH_TOT_FLAG_W,SILUNC,NRAUNC,NRIUNC,PHPUNC,CS-137,CS-137_FLAG_W,CS137ER,PLUTO,PLUTO_FLAG_W,PLUTOER
,,,,,,,,,,,METERS,DBAR,,ITS-90,,PSS-78,,PSS-78,,UMOL/KG,,UMOL/KG,,UMOL/KG,,UMOL/KG,,UMOL/KG,,UMOL/KG,,PMOL/KG,,PMOL/KG,,PMOL/KG,,PMOL/KG,,UMOL/KG,,UMOL/KG,,,DEG C,/MILLE,,/MILLE,/MILLE,,/MILLE,DEG C,KG/M^3,ITS-90,,,UMOL/KG,UMOL/KG,UMOL/KG,UMOL/KG,DM/.1MG,,BQ/M^3,MBQ/M^3,,MBQ/M^3
49NZ20071008, P14N, 5, 1, 36, X12042, 2, 20071026, 0559, 56.9790, -175.6732, 3482,      9.2, 2,   5.7311, 2,  32.6514, 2,  32.6528, 2,    298.8, 2,    299.2, 2,    29.62, 2,    12.29, 2,     0.19, 2,     1.29, 2, -999.000, 9, -999.000, 9, -999.000, 9, -999.000, 9,   2059.6, 2,   2218.8, 2,    7.8037,     25.00,   -999.0, 1,   -999.0,  -999.00, 1,   -999.0,   5.7304, 25.7297,   5.7308, 2, 6, 0.18, 0.07, 0.01, 0.014,  -999.00, 9, -999.00, -999.00, 9, -999.00
49NZ20071008, P14N, 5, 1, 35, X12041, 2, 20071026, 0559, 56.9790, -175.6732, 3482,     50.1, 2,   4.0960, 2,  32.9253, 2,  32.8786, 2,    255.0, 2,    256.3, 2,    44.79, 2,    23.53, 2,     0.12, 2,     1.93, 2, -999.000, 9, -999.000, 9, -999.000, 9, -999.000, 9,   2129.3, 6,   2225.4, 2,    7.6410,     25.00,   -999.0, 1,   -999.0,  -999.00, 1,   -999.0,   4.0927, 26.1267,   4.1246, 2, 2, 0.22, 0.10, 0.01, 0.015,  -999.00, 9, -999.00, -999.00, 9, -999.00
49NZ20071008, P14N, 5, 1, 34, X12016, 2, 20071026, 0559, 56.9790, -175.6732, 3482,     98.8, 2,   3.3375, 2,  33.1125, 2,  33.1125, 2,    250.2, 2,    247.4, 2,    56.35, 2,    30.29, 2,     0.02, 2,     2.31, 2, -999.000, 9, -999.000, 9, -999.000, 9, -999.000, 9,   2172.2, 2,   2239.0, 6,    7.5531,     25.00,   -999.0, 1,   -999.0,  -999.00, 1,   -999.0,   3.3315, 26.3488,   3.3367, 2, 2, 0.24, 0.12, 0.01, 0.016,  -999.00, 9, -999.00, -999.00, 9, -999.00
49NZ20071008, P14N, 5, 1, 33, X12033, 2, 20071026, 0559, 56.9790, -175.6732, 3482,    149.5, 2,   3.1482, 2,  33.2108, 2,  33.2113, 2,    270.4, 2,    269.3, 2,    57.15, 2,    30.20, 2,     0.01, 2,     2.30, 2, -999.000, 9, -999.000, 9, -999.000, 9, -999.000, 9,   2167.9, 2,   2247.6, 2,    7.5855,     25.00,   -999.0, 1,   -999.0,  -999.00, 1,   -999.0,   3.1392, 26.4446,   3.1487, 2, 6, 0.24, 0.12, 0.01, 0.016,  -999.00, 9, -999.00, -999.00, 9, -999.00
49NZ20071008, P14N, 5, 1, 32, X12038, 2, 20071026, 0559, 56.9790, -175.6732, 3482,    200.0, 2,   3.4197, 2,  33.3382, 2,  33.3373, 2,    233.9, 2,    221.8, 2,    64.57, 2,    32.40, 2,     0.02, 2,     2.44, 2, -999.000, 9, -999.000, 9, -999.000, 9, -999.000, 9,   2198.3, 2,   2257.8, 2,    7.5280,     25.00,   -999.0, 1,   -999.0,  -999.00, 1,   -999.0,   3.4071, 26.5217,   3.4184, 2, 2, 0.26, 0.12, 0.01, 0.016,  -999.00, 9, -999.00, -999.00, 9, -999.00
49NZ20071008, P14N, 5, 1, 31, X12003, 2, 20071026, 0559, 56.9790, -175.6732, 3482,    250.5, 2,   3.7868, 2,  33.4854, 2,  33.4855, 6,    167.9, 2,    164.9, 2,    73.88, 2,    35.45, 2,     0.01, 2,     2.62, 2, -999.000, 9, -999.000, 9, -999.000, 9, -999.000, 9,   2234.1, 2,   2270.7, 2,    7.4577,     25.00,   -999.0, 1,   -999.0,  -999.00, 1,   -999.0,   3.7701, 26.6042,   3.7877, 2, 2, 0.28, 0.13, 0.01, 0.017,  -999.00, 9, -999.00, -999.00, 9, -999.00
49NZ20071008, P14N, 5, 1, 30, X12008, 2, 20071026, 0559, 56.9790, -175.6732, 3482,    331.8, 2,   3.9373, 2,  33.7096, 2,  33.7057, 2,    104.1, 2,    102.2, 2,    87.67, 2,    39.27, 2,     0.01, 2,     2.85, 2, -999.000, 9, -999.000, 9, -999.000, 9, -999.000, 9,   2279.2, 2,   2289.5, 2,    7.3789,     25.00,   -999.0, 1,   -999.0,  -999.00, 1,   -999.0,   3.9145, 26.7683,   3.9375, 2, 2, 0.31, 0.14, 0.01, 0.017,  -999.00, 9, -999.00, -999.00, 9, -999.00
49NZ20071008, P14N, 5, 1, 29, X12035, 2, 20071026, 0559, 56.9790, -175.6732, 3482,    430.6, 2,   3.7962, 2,  33.9118, 2,  33.9102, 2,     56.4, 2,     55.9, 2,   101.81, 2,    42.46, 2,     0.01, 2,     3.05, 2, -999.000, 9, -999.000, 9, -999.000, 9, -999.000, 9,   2322.1, 2,   2311.2, 2,    7.3223,     25.00,   -999.0, 1,   -999.0,  -999.00, 1,   -999.0,   3.7666, 26.9440,   3.7962, 2, 2, 0.34, 0.15, 0.01, 0.018,  -999.00, 9, -999.00, -999.00, 9, -999.00
49NZ20071008, P14N, 5, 1, 28, X12034, 2, 20071026, 0559, 56.9790, -175.6732, 3482,    531.4, 2,   3.6021, 2,  34.0449, 2,  34.0444, 6,     32.4, 2,     35.1, 2,   113.10, 2,    43.73, 2,     0.00, 2,     3.11, 2, -999.000, 9, -999.000, 9, -999.000, 9, -999.000, 9,   2342.7, 2,   2328.3, 2,    7.3059,     25.00,   -999.0, 1,   -999.0,  -999.00, 1,   -999.0,   3.5659, 27.0697,   3.6021, 2, 2, 0.37, 0.16, 0.01, 0.018,  -999.00, 9, -999.00, -999.00, 9, -999.00
49NZ20071008, P14N, 5, 1, 27, X12049, 2, 20071026, 0559, 56.9790, -175.6732, 3482,    631.6, 2,   3.4269, 2,  34.1496, 2,  34.1477, 2,     24.3, 2,     22.6, 2,   122.44, 2,    44.29, 2,     0.01, 2,     3.16, 2, -999.000, 9, -999.000, 9, -999.000, 9, -999.000, 9,   2358.2, 2,   2341.5, 2,    7.3007,     25.00,   -999.0, 1,   -999.0,  -999.00, 1,   -999.0,   3.3841, 27.1706,   3.4273, 2, 2, 0.39, 0.16, 0.01, 0.018,  -999.00, 9, -999.00, -999.00, 9, -999.00
49NZ20071008, P14N, 5, 1, 26, X12032, 2, 20071026, 0559, 56.9790, -175.6732, 3482,    729.9, 2,   3.2171, 2,  34.2259, 2,  34.2256, 2,     19.7, 2,     19.3, 2,   132.12, 2,    44.52, 2,     0.01, 2,     3.18, 2, -999.000, 9, -999.000, 9, -999.000, 9, -999.000, 9,   2370.0, 6,   2354.7, 2,    7.3056,     25.00,   -999.0, 1,   -999.0,  -999.00, 1,   -999.0,   3.1682, 27.2517,   3.2169, 2, 2, 0.41, 0.16, 0.01, 0.018,  -999.00, 9, -999.00, -999.00, 9, -999.00
49NZ20071008, P14N, 5, 1, 25, X12043, 2, 20071026, 0559, 56.9790, -175.6732, 3482,    830.3, 2,   3.0361, 2,  34.2859, 2,  34.2862, 2,     17.8, 2,     18.4, 4,   140.41, 2,    44.39, 2,     0.00, 2,     3.19, 2, -999.000, 9, -999.000, 9, -999.000, 9, -999.000, 9,   2375.9, 2,   2364.4, 6,    7.3114,     25.00,   -999.0, 1,   -999.0,  -999.00, 1,   -999.0,   2.9809, 27.3168,   3.0361, 2, 2, 0.43, 0.16, 0.01, 0.018,  -999.00, 9, -999.00, -999.00, 9, -999.00
49NZ20071008, P14N, 5, 1, 24, X12030, 2, 20071026, 0559, 56.9790, -175.6732, 3482,    930.3, 2,   2.8762, 2,  34.3342, 2,  34.3343, 2,     17.6, 2,     17.6, 2,   147.33, 2,    44.35, 2,     0.00, 2,     3.16, 2, -999.000, 9, -999.000, 9, -999.000, 9, -999.000, 9,   2382.0, 2,   2372.9, 2,    7.3171,     25.00,   -999.0, 1,   -999.0,  -999.00, 1,   -999.0,   2.8147, 27.3702,   2.8765, 2, 6, 0.44, 0.16, 0.01, 0.018,  -999.00, 9, -999.00, -999.00, 9, -999.00
49NZ20071008, P14N, 5, 1, 23, X12027, 2, 20071026, 0559, 56.9790, -175.6732, 3482,   1069.9, 2,   2.6872, 2,  34.3888, 2,  34.3890, 6,     18.0, 2,     18.3, 2,   155.26, 2,    44.31, 2,     0.00, 2,     3.18, 2, -999.000, 9, -999.000, 9, -999.000, 9, -999.000, 9,   2389.0, 2,   2382.7, 2,    7.3247,     25.00,   -999.0, 1,   -999.0,  -999.00, 1,   -999.0,   2.6168, 27.4312,   2.6871, 2, 2, 0.46, 0.16, 0.01, 0.018,  -999.00, 9, -999.00, -999.00, 9, -999.00
49NZ20071008, P14N, 5, 1, 22, X12028, 2, 20071026, 0559, 56.9790, -175.6732, 3482,   1270.6, 2,   2.4537, 2,  34.4474, 2,  34.4474, 2,     22.5, 2,     22.8, 2,   166.76, 2,    43.89, 2,     0.01, 2,     3.17, 2, -999.000, 9, -999.000, 9, -999.000, 9, -999.000, 9,   2394.6, 2,   2392.4, 2,    7.3390,     25.00,   -999.0, 1,   -999.0,  -999.00, 1,   -999.0,   2.3703, 27.4989,   2.4537, 2, 2, 0.49, 0.16, 0.01, 0.018,  -999.00, 9, -999.00, -999.00, 9, -999.00
49NZ20071008, P14N, 5, 1, 21, X12009, 2, 20071026, 0559, 56.9790, -175.6732, 3482,   1468.9, 2,   2.2458, 2,  34.4982, 2,  34.4982, 2,     30.6, 2,     29.7, 2,   177.05, 2,    43.37, 2,     0.00, 2,     3.15, 2, -999.000, 9, -999.000, 9, -999.000, 9, -999.000, 9,   2397.0, 2,   2402.0, 2,    7.3547,     25.00,   -999.0, 1,   -999.0,  -999.00, 1,   -999.0,   2.1493, 27.5577,   2.2456, 2, 2, 0.51, 0.15, 0.01, 0.018,  -999.00, 9, -999.00, -999.00, 9, -999.00
49NZ20071008, P14N, 5, 1, 20, X12026, 2, 20071026, 0559, 56.9790, -175.6732, 3482,   1671.1, 2,   2.0490, 2,  34.5435, 2,  34.5442, 2,     40.5, 2,     40.3, 2,   188.46, 2,    42.34, 2,     0.00, 2,     3.12, 2, -999.000, 9, -999.000, 9, -999.000, 9, -999.000, 9,   2397.0, 2,   2410.7, 2,    7.3805,     25.00,   -999.0, 1,   -999.0,  -999.00, 1,   -999.0,   1.9389, 27.6107,   2.0490, 2, 2, 0.53, 0.15, 0.01, 0.018,  -999.00, 9, -999.00, -999.00, 9, -999.00
49NZ20071008, P14N, 5, 1, 19, X12025, 2, 20071026, 0559, 56.9790, -175.6732, 3482,   1870.0, 2,   1.9156, 2,  34.5746, 2,  34.5748, 6,     50.0, 2,     49.4, 2,   196.70, 2,    41.69, 2,     0.00, 2,     3.09, 2, -999.000, 9, -999.000, 9, -999.000, 9, -999.000, 9,   2396.0, 2,   2417.1, 2,    7.3973,     25.00,   -999.0, 1,   -999.0,  -999.00, 1,   -999.0,   1.7913, 27.6471,   1.9158, 2, 2, 0.55, 0.15, 0.01, 0.018,  -999.00, 9, -999.00, -999.00, 9, -999.00
49NZ20071008, P14N, 5, 1, 18, X12024, 2, 20071026, 0559, 56.9790, -175.6732, 3482,   2069.6, 2,   1.8253, 2,  34.5962, 2,  34.5965, 2,     57.5, 2,     57.3, 2,   202.63, 2,    41.00, 2,     0.00, 2,     3.07, 2, -999.000, 9, -999.000, 9, -999.000, 9, -999.000, 9,   2394.1, 2,   2421.3, 2,    7.4156,     25.00,   -999.0, 1,   -999.0,  -999.00, 1,   -999.0,   1.6859, 27.6724,   1.8256, 2, 2, 0.56, 0.15, 0.01, 0.018,  -999.00, 9, -999.00, -999.00, 9, -999.00
49NZ20071008, P14N, 5, 1, 17, X12023, 2, 20071026, 0559, 56.9790, -175.6732, 3482,   2270.7, 2,   1.7559, 2,  34.6129, 2,  34.6132, 2,     64.1, 2,     64.5, 2,   207.77, 2,    40.39, 2,     0.00, 2,     3.04, 2, -999.000, 9, -999.000, 9, -999.000, 9, -999.000, 9,   2391.5, 2,   2424.6, 2,    7.4321,     25.00,   -999.0, 1,   -999.0,  -999.00, 1,   -999.0,   1.6005, 27.6922,   1.7560, 2, 2, 0.58, 0.15, 0.01, 0.018,  -999.00, 9, -999.00, -999.00, 9, -999.00
49NZ20071008, P14N, 5, 1, 16, X12022, 2, 20071026, 0559, 56.9790, -175.6732, 3482,   2469.2, 2,   1.6930, 2,  34.6283, 2,  34.6289, 2,     71.4, 2,     71.8, 2,   212.31, 2,    39.93, 2,     0.00, 2,     3.02, 2, -999.000, 9, -999.000, 9, -999.000, 9, -999.000, 9,   2387.7, 2,   2429.2, 2,    7.4495,     25.00,   -999.0, 1,   -999.0,  -999.00, 1,   -999.0,   1.5213, 27.7103,   1.6931, 2, 2, 0.59, 0.14, 0.01, 0.017,  -999.00, 9, -999.00, -999.00, 9, -999.00
49NZ20071008, P14N, 5, 1, 15, X12021, 2, 20071026, 0559, 56.9790, -175.6732, 3482,   2670.6, 2,   1.6479, 2,  34.6403, 2,  34.6408, 6,     77.5, 2,     78.1, 2,   215.48, 2,    39.27, 2,     0.00, 2,     3.00, 2, -999.000, 9, -999.000, 9, -999.000, 9, -999.000, 9,   2384.4, 2,   2430.8, 6,    7.4610,     25.00,   -999.0, 1,   -999.0,  -999.00, 1,   -999.0,   1.4589, 27.7244,   1.6479, 2, 2, 0.59, 0.14, 0.01, 0.017,  -999.00, 9, -999.00, -999.00, 9, -999.00
49NZ20071008, P14N, 5, 1, 14, X12020, 2, 20071026, 0559, 56.9790, -175.6732, 3482,   2869.5, 2,   1.5998, 2,  34.6525, 2,  34.6543, 3,     84.7, 2,     85.1, 2,   219.25, 2,    38.69, 2,     0.00, 2,     2.98, 2, -999.000, 9, -999.000, 9, -999.000, 9, -999.000, 9,   2385.2, 3,   2432.9, 2,    7.4751,     25.00,   -999.0, 1,   -999.0,  -999.00, 1,   -999.0,   1.3933, 27.7390,   1.5998, 2, 6, 0.60, 0.14, 0.01, 0.017,  -999.00, 9, -999.00, -999.00, 9, -999.00
49NZ20071008, P14N, 5, 1, 13, X12019, 2, 20071026, 0559, 56.9790, -175.6732, 3482,   3080.9, 2,   1.5841, 2,  34.6588, 2,  34.6596, 2,     90.1, 2,     89.8, 2,   219.51, 2,    38.55, 2,     0.00, 2,     2.95, 2, -999.000, 9, -999.000, 9, -999.000, 9, -999.000, 9,   2382.4, 3,   2434.8, 2,    7.4841,     25.00,   -999.0, 1,   -999.0,  -999.00, 1,   -999.0,   1.3578, 27.7466,   1.5841, 2, 2, 0.60, 0.14, 0.01, 0.017,  -999.00, 9, -999.00, -999.00, 9, -999.00
49NZ20071008, P14N, 5, 1, 12, X12040, 2, 20071026, 0559, 56.9790, -175.6732, 3482,   3329.7, 2,   1.5728, 2,  34.6648, 2,  34.6657, 2,     95.0, 2,     94.9, 2,   220.46, 2,    38.15, 2,     0.00, 2,     2.91, 2, -999.000, 9, -999.000, 9, -999.000, 9, -999.000, 9,   2378.8, 2,   2435.8, 2,    7.4940,     25.00,   -999.0, 1,   -999.0,  -999.00, 1,   -999.0,   1.3222, 27.7540,   1.5728, 2, 2, 0.60, 0.14, 0.01, 0.017,  -999.00, 9, -999.00, -999.00, 9, -999.00
49NZ20071008, P14N, 5, 1, 11, X12047, 9, 20071026, 0559, 56.9790, -175.6732, 3482,      9.3, 2,   5.7309, 2,  32.6512, 2, -999.0000, 9,    298.9, 2,   -999.0, 9,  -999.00, 9,  -999.00, 9,  -999.00, 9,  -999.00, 9, -999.000, 9, -999.000, 9, -999.000, 9, -999.000, 9,   -999.0, 9,   -999.0, 9, -999.0000,   -999.00,   -999.0, 9,   -999.0,  -999.00, 9,   -999.0,   5.7302, 25.7296,   5.7306, 2, 9, -999.00, -999.00, -999.00, -999.000,  -999.00, 9, -999.00, -999.00, 9, -999.00
49NZ20071008, P14N, 5, 1, 10, X12017, 9, 20071026, 0559, 56.9790, -175.6732, 3482,    730.7, 2,   3.2140, 2,  34.2266, 2, -999.0000, 9,     19.7, 2,   -999.0, 9,  -999.00, 9,  -999.00, 9,  -999.00, 9,  -999.00, 9, -999.000, 9, -999.000, 9, -999.000, 9, -999.000, 9,   -999.0, 9,   -999.0, 9, -999.0000,   -999.00,   -999.0, 9,   -999.0,  -999.00, 9,   -999.0,   3.1650, 27.2526,   3.2138, 2, 9, -999.00, -999.00, -999.00, -999.000,  -999.00, 9, -999.00, -999.00, 9, -999.00
49NZ20071008, P14N, 5, 1, 9, X12015, 9, 20071026, 0559, 56.9790, -175.6732, 3482,    829.4, 2,   3.0354, 2,  34.2861, 2, -999.0000, 9,     17.8, 2,   -999.0, 9,  -999.00, 9,  -999.00, 9,  -999.00, 9,  -999.00, 9, -999.000, 9, -999.000, 9, -999.000, 9, -999.000, 9,   -999.0, 9,   -999.0, 9, -999.0000,   -999.00,   -999.0, 9,   -999.0,  -999.00, 9,   -999.0,   2.9803, 27.3170,   3.0352, 2, 9, -999.00, -999.00, -999.00, -999.000,  -999.00, 9, -999.00, -999.00, 9, -999.00
49NZ20071008, P14N, 5, 1, 8, X12046, 9, 20071026, 0559, 56.9790, -175.6732, 3482,    930.8, 2,   2.8759, 2,  34.3343, 2, -999.0000, 9,     17.6, 2,   -999.0, 9,  -999.00, 9,  -999.00, 9,  -999.00, 9,  -999.00, 9, -999.000, 9, -999.000, 9, -999.000, 9, -999.000, 9,   -999.0, 9,   -999.0, 9, -999.0000,   -999.00,   -999.0, 9,   -999.0,  -999.00, 9,   -999.0,   2.8144, 27.3704,   2.8761, 2, 9, -999.00, -999.00, -999.00, -999.000,  -999.00, 9, -999.00, -999.00, 9, -999.00
49NZ20071008, P14N, 5, 1, 7, X12044, 9, 20071026, 0559, 56.9790, -175.6732, 3482,   1069.6, 2,   2.6872, 2,  34.3888, 2, -999.0000, 9,     18.0, 2,   -999.0, 9,  -999.00, 9,  -999.00, 9,  -999.00, 9,  -999.00, 9, -999.000, 9, -999.000, 9, -999.000, 9, -999.000, 9,   -999.0, 9,   -999.0, 9, -999.0000,   -999.00,   -999.0, 9,   -999.0,  -999.00, 9,   -999.0,   2.6168, 27.4312,   2.6870, 2, 9, -999.00, -999.00, -999.00, -999.000,  -999.00, 9, -999.00, -999.00, 9, -999.00
49NZ20071008, P14N, 5, 1, 6, X12048, 9, 20071026, 0559, 56.9790, -175.6732, 3482,   1270.4, 2,   2.4551, 2,  34.4470, 2, -999.0000, 9,     22.5, 2,   -999.0, 9,  -999.00, 9,  -999.00, 9,  -999.00, 9,  -999.00, 9, -999.000, 9, -999.000, 9, -999.000, 9, -999.000, 9,   -999.0, 9,   -999.0, 9, -999.0000,   -999.00,   -999.0, 9,   -999.0,  -999.00, 9,   -999.0,   2.3717, 27.4985,   2.4554, 2, 9, -999.00, -999.00, -999.00, -999.000,  -999.00, 9, -999.00, -999.00, 9, -999.00
49NZ20071008, P14N, 5, 1, 5, X12014, 9, 20071026, 0559, 56.9790, -175.6732, 3482,   1470.0, 2,   2.2436, 2,  34.4987, 2, -999.0000, 9,     30.7, 2,   -999.0, 9,  -999.00, 9,  -999.00, 9,  -999.00, 9,  -999.00, 9, -999.000, 9, -999.000, 9, -999.000, 9, -999.000, 9,   -999.0, 9,   -999.0, 9, -999.0000,   -999.00,   -999.0, 9,   -999.0,  -999.00, 9,   -999.0,   2.1470, 27.5583,   2.2439, 2, 9, -999.00, -999.00, -999.00, -999.000,  -999.00, 9, -999.00, -999.00, 9, -999.00
49NZ20071008, P14N, 5, 1, 4, X12006, 9, 20071026, 0559, 56.9790, -175.6732, 3482,   1671.7, 2,   2.0494, 2,  34.5434, 2, -999.0000, 9,     40.6, 2,   -999.0, 9,  -999.00, 9,  -999.00, 9,  -999.00, 9,  -999.00, 9, -999.000, 9, -999.000, 9, -999.000, 9, -999.000, 9,   -999.0, 9,   -999.0, 9, -999.0000,   -999.00,   -999.0, 9,   -999.0,  -999.00, 9,   -999.0,   1.9393, 27.6106,   2.0492, 2, 9, -999.00, -999.00, -999.00, -999.000,  -999.00, 9, -999.00, -999.00, 9, -999.00
49NZ20071008, P14N, 5, 1, 3, X12013, 9, 20071026, 0559, 56.9790, -175.6732, 3482,   1870.1, 2,   1.9155, 2,  34.5746, 2, -999.0000, 9,     50.0, 2,   -999.0, 9,  -999.00, 9,  -999.00, 9,  -999.00, 9,  -999.00, 9, -999.000, 9, -999.000, 9, -999.000, 9, -999.000, 9,   -999.0, 9,   -999.0, 9, -999.0000,   -999.00,   -999.0, 9,   -999.0,  -999.00, 9,   -999.0,   1.7912, 27.6471,   1.9156, 2, 9, -999.00, -999.00, -999.00, -999.000,  -999.00, 9, -999.00, -999.00, 9, -999.00
49NZ20071008, P14N, 5, 1, 2, X12002, 9, 20071026, 0559, 56.9790, -175.6732, 3482,   3528.9, 2,   1.5803, 2,  34.6688, 2, -999.0000, 9,     93.9, 2,   -999.0, 9,  -999.00, 9,  -999.00, 9,  -999.00, 9,  -999.00, 9, -999.000, 9, -999.000, 9, -999.000, 9, -999.000, 9,   -999.0, 9,   -999.0, 9, -999.0000,   -999.00,   -999.0, 9,   -999.0,  -999.00, 9,   -999.0,   1.3092, 27.7581,   1.5801, 2, 9, -999.00, -999.00, -999.00, -999.000,  -999.00, 9, -999.00, -999.00, 9, -999.00
49NZ20071008, P14N, 5, 1, 1, X12001, 2, 20071026, 0559, 56.9790, -175.6732, 3482,   3528.8, 2,   1.5804, 2,  34.6687, 2,  34.6696, 6,     93.9, 2,     93.9, 2,   238.72, 2,    37.94, 2,     0.01, 2,     2.95, 2, -999.000, 9, -999.000, 9, -999.000, 9, -999.000, 9,   2383.4, 2,   2442.2, 2,    7.4955,     25.00,   -999.0, 1,   -999.0,  -999.00, 1,   -999.0,   1.3094, 27.7580,   1.5803, 2, 2, 0.64, 0.14, 0.01, 0.017,  -999.00, 9, -999.00, -999.00, 9, -999.00