BOTTLE,20221005CCHSIOAMB
EXPOCODE,SECT_ID,STNNBR,CASTNO,SAMPNO,BTLNBR,BTLNBR_FLAG_W,DATE,TIME,LATITUDE,LONGITUDE,DEPTH,CTDPRS,CTDPRS_FLAG_W,CTDTMP,CTDTMP_FLAG_W,CTDSAL,CTDSAL_FLAG_W,SALNTY,SALNTY_FLAG_W,CTDOXY,CTDOXY_FLAG_W,OXYGEN,OXYGEN_FLAG_W,SILCAT,SILCAT_FLAG_W,NITRAT,NITRAT_FLAG_W,NITRIT,NITRIT_FLAG_W,PHSPHT,PHSPHT_FLAG_W,CFC-11,CFC-11_FLAG_W,CFC-12,CFC-12_FLAG_W,CFC113,CFC113_FLAG_W,CCL4,CCL4_FLAG_W,TCARBN,TCARBN_FLAG_W,ALKALI,ALKALI_FLAG_W,PH_TOT,PH_TMP,DELC14,DELC14_FLAG_W,C14ERR,DELC13,DELC13_FLAG_W,C13ERR,THETA,SIG0,SBE35,SBE35_FLAG_W,PH_TOT_FLAG_W,SILUNC,NRAUNC,NRIUNC,PHPUNC,CS-137,CS-137_FLAG_W,CS137ER,PLUTO,PLUTO_FLAG_W,PLUTOER
,,,,,,,,,,,METERS,DBAR,,ITS-90,,PSS-78,,PSS-78,,UMOL/KG,,UMOL/KG,,UMOL/KG,,UMOL/KG,,UMOL/KG,,UMOL/KG,,PMOL/KG,,PMOL/KG,,PMOL/KG,,PMOL/KG,,UMOL/KG,,UMOL/KG,,,DEG C,/MILLE,,/MILLE,/MILLE,,/MILLE,DEG C,KG/M^3,ITS-90,,,UMOL/KG,UMOL/KG,UMOL/KG,UMOL/KG,DM/.1MG,,BQ/M^3,MBQ/M^3,,MBQ/M^3
49NZ20071008, P01, P01_54, 1, 36, X12042, 2, 20071018, 1306, 47.0020, 171.6107, 6080,     10.5, 2,  10.3234, 2,  32.7566, 2,  32.7563, 2,    280.5, 2,    279.5, 2,     9.98, 2,    10.14, 2,     0.20, 2,     1.09, 2,    3.598, 2,    1.973, 2,    0.327, 2, -999.000, 9,   2026.0, 2,   2214.1, 2,    7.8721,     25.00,   -999.0, 9,   -999.0,  -999.00, 9,   -999.0,  10.3222, 25.1464,  10.3230, 2, 6, 0.14, 0.06, 0.01, 0.013,  -999.00, 9, -999.00, -999.00, 9, -999.00
49NZ20071008, P01, P01_54, 1, 35, X12041, 2, 20071018, 1306, 47.0020, 171.6107, 6080,     50.6, 2,   8.6424, 2,  32.8347, 2,  32.8370, 2,    273.2, 2,    286.5, 2,    19.18, 2,    13.31, 2,     0.35, 2,     1.34, 2,    4.078, 2,    2.239, 2,    0.379, 2, -999.000, 9,   2051.9, 6,   2219.2, 2,    7.8229,     25.00,   -999.0, 9,   -999.0,  -999.00, 9,   -999.0,   8.6372, 25.4788,   8.6458, 2, 2, 0.16, 0.07, 0.00, 0.014,  -999.00, 9, -999.00, -999.00, 9, -999.00
49NZ20071008, P01, P01_54, 1, 34, X12016, 2, 20071018, 1306, 47.0020, 171.6107, 6080,    101.2, 2,   3.4419, 2,  33.1802, 2,  33.1912, 2,    310.5, 2,    299.6, 2,    33.95, 2,    21.00, 2,     0.02, 2,     1.72, 2,    5.125, 2,    2.759, 2,    0.442, 2, -999.000, 9,   2119.2, 2,   2239.0, 6,    7.6983,     25.00,   -999.0, 9,   -999.0,  -999.00, 9,   -999.0,   3.4356, 26.3932,   3.4431, 2, 2, 0.19, 0.09, 0.01, 0.014,  -999.00, 9, -999.00, -999.00, 9, -999.00
49NZ20071008, P01, P01_54, 1, 33, X12033, 2, 20071018, 1306, 47.0020, 171.6107, 6080,    150.2, 2,   3.4658, 2,  33.5806, 2,  33.5829, 2,    215.8, 2,    192.7, 2,    59.72, 2,    31.27, 2,     0.01, 2,     2.36, 2,    4.067, 2,    2.119, 2,    0.291, 2, -999.000, 9,   2214.2, 2,   2272.8, 2,    7.5126,     25.00,   -999.0, 9,   -999.0,  -999.00, 9,   -999.0,   3.4563, 26.7103,   3.4658, 2, 6, 0.25, 0.12, 0.01, 0.016,  -999.00, 9, -999.00, -999.00, 9, -999.00
49NZ20071008, P01, P01_54, 1, 32, X12038, 2, 20071018, 1306, 47.0020, 171.6107, 6080,    199.9, 2,   3.2749, 2,  33.6937, 2,  33.7052, 2,    147.5, 2,    133.8, 2,    75.47, 2,    36.25, 2,     0.01, 2,     2.68, 2,    3.314, 2,    1.683, 2,    0.229, 2, -999.000, 9,   2263.4, 2,   2285.5, 2,    7.4158,     25.00,   -999.0, 9,   -999.0,  -999.00, 9,   -999.0,   3.2624, 26.8185,   3.2739, 2, 2, 0.29, 0.13, 0.01, 0.017,  -999.00, 9, -999.00, -999.00, 9, -999.00
49NZ20071008, P01, P01_54, 1, 31, X12003, 2, 20071018, 1306, 47.0020, 171.6107, 6080,    250.1, 2,   3.5004, 2,  33.8251, 2,  33.8286, 6,    109.5, 2,     99.7, 2,    84.26, 2,    38.41, 2,     0.01, 2,     2.81, 2,    2.681, 2,    1.328, 2,    0.180, 2, -999.000, 9,   2284.3, 2,   2296.9, 2,    7.3801,     25.00,   -999.0, 9,   -999.0,  -999.00, 9,   -999.0,   3.4842, 26.9024,   3.5060, 2, 2, 0.30, 0.14, 0.01, 0.017,  -999.00, 9, -999.00, -999.00, 9, -999.00
49NZ20071008, P01, P01_54, 1, 30, X12008, 2, 20071018, 1306, 47.0020, 171.6107, 6080,    299.7, 2,   3.5648, 2,  33.9166, 2,  33.9182, 2,     77.3, 2,     70.4, 2,    93.47, 2,    40.65, 2,     0.01, 2,     2.94, 2,    2.148, 2,    1.051, 2,    0.158, 2, -999.000, 9,   2309.8, 2,   2307.6, 2,    7.3444,     25.00,   -999.0, 9,   -999.0,  -999.00, 9,   -999.0,   3.5451, 26.9695,   3.5661, 2, 2, 0.32, 0.15, 0.01, 0.017,  -999.00, 9, -999.00, -999.00, 9, -999.00
49NZ20071008, P01, P01_54, 1, 29, X12035, 2, 20071018, 1306, 47.0020, 171.6107, 6080,    401.7, 2,   3.6424, 2,  34.0468, 2,  34.0464, 2,     51.0, 2,     47.6, 2,   104.39, 2,    42.04, 2,     0.01, 2,     3.04, 2,    1.437, 2,    0.688, 2,    0.096, 2, -999.000, 9,   2329.9, 2,   2324.2, 2,    7.3309,     25.00,   -999.0, 9,   -999.0,  -999.00, 9,   -999.0,   3.6153, 27.0664,   3.6383, 2, 2, 0.35, 0.15, 0.01, 0.018,  -999.00, 9, -999.00, -999.00, 9, -999.00
49NZ20071008, P01, P01_54, 1, 28, X12034, 2, 20071018, 1306, 47.0020, 171.6107, 6080,    500.5, 2,   3.5110, 2,  34.1503, 2,  34.1504, 6,     33.9, 2,     34.0, 2,   115.40, 2,    42.86, 2,     0.00, 2,     3.08, 2,    0.911, 2,    0.434, 2,    0.063, 2, -999.000, 9,   2343.7, 2,   2339.1, 2,    7.3251,     25.00,   -999.0, 9,   -999.0,  -999.00, 9,   -999.0,   3.4773, 27.1622,   3.5105, 2, 2, 0.37, 0.15, 0.01, 0.018,  -999.00, 9, -999.00, -999.00, 9, -999.00
49NZ20071008, P01, P01_54, 1, 27, X12049, 2, 20071018, 1306, 47.0020, 171.6107, 6080,    600.4, 2,   3.3482, 2,  34.2117, 2,  34.2122, 2,     29.6, 2,     29.2, 2,   123.42, 2,    43.27, 2,     0.01, 2,     3.11, 2,    0.655, 2,    0.309, 2,    0.036, 2, -999.000, 9,   2354.2, 2,   2348.5, 2,    7.3264,     25.00,   -999.0, 9,   -999.0,  -999.00, 9,   -999.0,   3.3080, 27.2273,   3.3482, 2, 2, 0.39, 0.15, 0.01, 0.018,  -999.00, 9, -999.00, -999.00, 9, -999.00
49NZ20071008, P01, P01_54, 1, 26, X12032, 2, 20071018, 1306, 47.0020, 171.6107, 6080,    700.4, 2,   3.2366, 2,  34.2798, 2,  34.2818, 2,     28.1, 2,     28.5, 2,   129.49, 2,    43.25, 2,     0.00, 2,     3.11, 2,    0.411, 6,    0.192, 6,    0.023, 6, -999.000, 9,   2362.1, 6,   2359.5, 2,    7.3315,     25.00,   -999.0, 9,   -999.0,  -999.00, 9,   -999.0,   3.1897, 27.2927,   3.2363, 2, 2, 0.40, 0.15, 0.01, 0.018,  -999.00, 9, -999.00, -999.00, 9, -999.00
49NZ20071008, P01, P01_54, 1, 25, X12043, 2, 20071018, 1306, 47.0020, 171.6107, 6080,    800.0, 2,   3.0608, 2,  34.3375, 2,  34.3387, 2,     28.4, 2,     28.4, 2,   136.02, 2,    43.34, 2,     0.01, 2,     3.12, 2,    0.252, 2,    0.119, 2,    0.014, 2, -999.000, 9,   2366.8, 2,   2370.2, 6,    7.3447,     25.00,   -999.0, 9,   -999.0,  -999.00, 9,   -999.0,   3.0076, 27.3556,   3.0605, 2, 2, 0.42, 0.15, 0.01, 0.018,  -999.00, 9, -999.00, -999.00, 9, -999.00
49NZ20071008, P01, P01_54, 1, 24, X12030, 2, 20071018, 1306, 47.0020, 171.6107, 6080,    899.6, 2,   2.8811, 2,  34.3816, 2,  34.3829, 2,     29.0, 2,     28.6, 2,   141.81, 2,    43.40, 2,     0.00, 2,     3.12, 2,    0.167, 2,    0.079, 2,    0.014, 2, -999.000, 9,   2373.9, 2,   2377.9, 2,    7.3510,     25.00,   -999.0, 9,   -999.0,  -999.00, 9,   -999.0,   2.8218, 27.4075,   2.8796, 2, 6, 0.43, 0.15, 0.01, 0.018,  -999.00, 9, -999.00, -999.00, 9, -999.00
49NZ20071008, P01, P01_54, 1, 23, X12027, 2, 20071018, 1306, 47.0020, 171.6107, 6080,    999.0, 2,   2.6898, 2,  34.4182, 2,  34.4189, 6,     29.5, 2,     29.5, 2,   147.80, 2,    43.54, 2,     0.00, 2,     3.14, 2,    0.121, 2,    0.057, 2,    0.010, 2, -999.000, 9,   2382.4, 2,   2385.8, 2,    7.3536,     25.00,   -999.0, 9,   -999.0,  -999.00, 9,   -999.0,   2.6246, 27.4540,   2.6900, 2, 2, 0.44, 0.15, 0.01, 0.018,  -999.00, 9, -999.00, -999.00, 9, -999.00
49NZ20071008, P01, P01_54, 1, 22, X12028, 2, 20071018, 1306, 47.0020, 171.6107, 6080,   1200.0, 2,   2.4537, 2,  34.4665, 2,  34.4674, 2,     33.6, 2,     33.4, 2,   155.43, 2,    43.44, 2,     0.00, 2,     3.12, 2,    0.073, 2,    0.033, 2,    0.000, 2, -999.000, 9,   2388.2, 2,   2394.4, 2,    7.3644,     25.00,   -999.0, 9,   -999.0,  -999.00, 9,   -999.0,   2.3755, 27.5138,   2.4534, 2, 2, 0.46, 0.15, 0.01, 0.018,  -999.00, 9, -999.00, -999.00, 9, -999.00
49NZ20071008, P01, P01_54, 1, 21, X12009, 2, 20071018, 1306, 47.0020, 171.6107, 6080,   1401.7, 2,   2.2823, 2,  34.5068, 2,  34.5070, 2,     40.3, 2,     40.0, 2,   159.81, 2,    43.16, 2,     0.00, 2,     3.10, 2,    0.041, 2,    0.017, 2,    0.015, 3, -999.000, 9,   2385.8, 2,   2400.6, 2,    7.3808,     25.00,   -999.0, 9,   -999.0,  -999.00, 9,   -999.0,   2.1905, 27.5613,   2.2822, 2, 2, 0.47, 0.15, 0.01, 0.018,  -999.00, 9, -999.00, -999.00, 9, -999.00
49NZ20071008, P01, P01_54, 1, 20, X12026, 2, 20071018, 1306, 47.0020, 171.6107, 6080,   1599.3, 2,   2.1239, 2,  34.5450, 2,  34.5459, 2,     50.5, 2,     50.8, 2,   162.28, 2,    42.55, 2,     0.00, 2,     3.03, 2,    0.015, 2,    0.007, 2,    0.007, 2, -999.000, 9,   2383.2, 2,   2405.6, 2,    7.4032,     25.00,   -999.0, 9,   -999.0,  -999.00, 9,   -999.0,   2.0185, 27.6056,   2.1238, 2, 2, 0.48, 0.15, 0.01, 0.018,  -999.00, 9, -999.00, -999.00, 9, -999.00
49NZ20071008, P01, P01_54, 1, 19, X12025, 2, 20071018, 1306, 47.0020, 171.6107, 6080,   1799.8, 2,   2.0012, 2,  34.5706, 2,  34.5708, 2,     59.6, 2,     58.8, 2,   164.80, 2,    42.05, 2,     0.01, 2,     3.00, 2,    0.005, 2,    0.003, 2,    0.000, 2, -999.000, 9,   2383.9, 2,   2410.6, 2,    7.4190,     25.00,   -999.0, 9,   -999.0,  -999.00, 9,   -999.0,   1.8814, 27.6369,   2.0010, 2, 2, 0.48, 0.15, 0.01, 0.017,  -999.00, 9, -999.00, -999.00, 9, -999.00
49NZ20071008, P01, P01_54, 1, 18, X12024, 2, 20071018, 1306, 47.0020, 171.6107, 6080,   1998.9, 2,   1.8904, 2,  34.5947, 2,  34.5949, 2,     71.0, 2,     71.7, 2,   164.44, 2,    41.37, 2,     0.00, 2,     2.94, 2,    0.000, 2,    0.000, 2,    0.000, 2, -999.000, 9,   2375.4, 2,   2412.9, 2,    7.4447,     25.00,   -999.0, 9,   -999.0,  -999.00, 9,   -999.0,   1.7558, 27.6659,   1.8901, 2, 2, 0.48, 0.15, 0.01, 0.017,  -999.00, 9, -999.00, -999.00, 9, -999.00
49NZ20071008, P01, P01_54, 1, 17, X12023, 2, 20071018, 1306, 47.0020, 171.6107, 6080,   2200.2, 2,   1.7980, 2,  34.6142, 2,  34.6146, 2,     83.1, 2,     84.0, 2,   163.46, 2,    40.57, 2,     0.00, 2,     2.89, 2,    0.000, 2,    0.000, 2,    0.000, 2, -999.000, 9,   2371.6, 2,   2415.5, 2,    7.4699,     25.00,   -999.0, 9,   -999.0,  -999.00, 9,   -999.0,   1.6479, 27.6897,   1.7982, 2, 2, 0.48, 0.15, 0.01, 0.017,  -999.00, 9, -999.00, -999.00, 9, -999.00
49NZ20071008, P01, P01_54, 1, 16, X12022, 2, 20071018, 1306, 47.0020, 171.6107, 6080,   2400.5, 2,   1.7267, 2,  34.6283, 2,  34.6285, 2,     94.6, 2,     93.8, 2,   162.56, 2,    39.99, 2,     0.00, 2,     2.84, 2,    0.000, 2,    0.000, 2,    0.000, 2, -999.000, 9,   2363.3, 6,   2416.6, 2,    7.4888,     25.00,   -999.0, 9,   -999.0,  -999.00, 9,   -999.0,   1.5604, 27.7074,   1.7267, 2, 2, 0.48, 0.14, 0.01, 0.017,  -999.00, 9, -999.00, -999.00, 9, -999.00
49NZ20071008, P01, P01_54, 1, 15, X12021, 2, 20071018, 1306, 47.0020, 171.6107, 6080,   2599.5, 2,   1.6638, 2,  34.6402, 2,  34.6402, 2,    103.6, 2,    103.3, 2,   161.36, 2,    39.34, 2,     0.00, 2,     2.79, 2, -999.000, 9, -999.000, 9, -999.000, 9, -999.000, 9,   2356.8, 2,   2418.0, 6,    7.5054,     25.00,   -999.0, 9,   -999.0,  -999.00, 9,   -999.0,   1.4809, 27.7228,   1.6640, 2, 2, 0.47, 0.14, 0.01, 0.017,  -999.00, 9, -999.00, -999.00, 9, -999.00
49NZ20071008, P01, P01_54, 1, 14, X12020, 2, 20071018, 1306, 47.0020, 171.6107, 6080,   2799.6, 2,   1.6130, 2,  34.6498, 2,  34.6499, 6,    112.3, 2,    111.8, 2,   159.79, 2,    38.84, 2,     0.00, 2,     2.75, 2,    0.000, 2,    0.000, 2,    0.000, 2, -999.000, 9,   2351.6, 2,   2418.8, 2,    7.5211,     25.00,   -999.0, 9,   -999.0,  -999.00, 9,   -999.0,   1.4128, 27.7354,   1.6132, 2, 6, 0.47, 0.14, 0.01, 0.017,  -999.00, 9, -999.00, -999.00, 9, -999.00
49NZ20071008, P01, P01_54, 1, 13, X12019, 2, 20071018, 1306, 47.0020, 171.6107, 6080,   3000.2, 2,   1.5704, 2,  34.6581, 2,  34.6581, 2,    119.4, 2,    119.3, 2,   158.92, 2,    38.20, 2,     0.00, 2,     2.71, 2, -999.000, 9, -999.000, 9, -999.000, 9, -999.000, 9,   2347.4, 2,   2419.5, 2,    7.5342,     25.00,   -999.0, 9,   -999.0,  -999.00, 9,   -999.0,   1.3521, 27.7464,   1.5704, 2, 2, 0.47, 0.14, 0.01, 0.017,  -999.00, 9, -999.00, -999.00, 9, -999.00
49NZ20071008, P01, P01_54, 1, 12, X12040, 2, 20071018, 1306, 47.0020, 171.6107, 6080,   3251.0, 2,   1.5276, 2,  34.6666, 2,  34.6669, 2,    127.8, 2,    128.1, 2,   156.46, 2,    37.63, 2,     0.00, 2,     2.65, 2, -999.000, 9, -999.000, 9, -999.000, 9, -999.000, 9,   2344.6, 3,   2418.8, 2,    7.5513,     25.00,   -999.0, 9,   -999.0,  -999.00, 9,   -999.0,   1.2859, 27.7579,   1.5275, 2, 2, 0.46, 0.14, 0.01, 0.017,  -999.00, 9, -999.00, -999.00, 9, -999.00
49NZ20071008, P01, P01_54, 1, 11, X12047, 2, 20071018, 1306, 47.0020, 171.6107, 6080,   3500.1, 2,   1.4985, 2,  34.6732, 2,  34.6736, 2,    135.7, 2,    135.8, 2,   154.62, 2,    37.15, 2,     0.00, 2,     2.63, 2,    0.000, 2,    0.000, 2,    0.000, 2, -999.000, 9,   2336.3, 2,   2419.0, 2,    7.5648,     25.00,   -999.0, 9,   -999.0,  -999.00, 9,   -999.0,   1.2324, 27.7669,   1.4986, 2, 2, 0.46, 0.14, 0.01, 0.017,  -999.00, 9, -999.00, -999.00, 9, -999.00
49NZ20071008, P01, P01_54, 1, 10, X12010, 4, 20071018, 1306, 47.0020, 171.6107, 6080,   3750.4, 2,   1.4823, 2,  34.6780, 2,  34.4394, 4,    141.8, 2,     30.9, 4,   150.89, 4,    43.48, 4,     0.00, 4,     3.12, 4, -999.000, 9, -999.000, 9, -999.000, 9, -999.000, 9,   2382.5, 4,   2388.9, 4,    7.3613,     25.00,   -999.0, 9,   -999.0,  -999.00, 9,   -999.0,   1.1907, 27.7737,   1.4823, 2, 4, 0.45, 0.15, 0.01, 0.018,  -999.00, 9, -999.00, -999.00, 9, -999.00
49NZ20071008, P01, P01_54, 1, 9, X12015, 2, 20071018, 1306, 47.0020, 171.6107, 6080,   4001.3, 2,   1.4807, 2,  34.6812, 2,  34.6812, 2,    145.8, 2,    145.7, 2,   152.41, 2,    36.56, 2,     0.01, 2,     2.58, 2, -999.000, 9, -999.000, 9, -999.000, 9, -999.000, 9,   2329.1, 2,   2417.5, 2,    7.5796,     25.00,   -999.0, 9,   -999.0,  -999.00, 9,   -999.0,   1.1622, 27.7782,   1.4808, 2, 2, 0.45, 0.14, 0.01, 0.016,  -999.00, 9, -999.00, -999.00, 9, -999.00
49NZ20071008, P01, P01_54, 1, 8, X12046, 2, 20071018, 1306, 47.0020, 171.6107, 6080,   4250.2, 2,   1.4832, 2,  34.6841, 2,  34.6843, 2,    149.0, 2,    149.1, 2,   151.64, 2,    36.36, 2,     0.00, 2,     2.56, 2,    0.000, 2,    0.000, 2,    0.000, 2, -999.000, 9,   2327.0, 6,   2419.3, 2,    7.5866,     25.00,   -999.0, 9,   -999.0,  -999.00, 9,   -999.0,   1.1372, 27.7823,   1.4833, 2, 2, 0.45, 0.13, 0.01, 0.016,  -999.00, 9, -999.00, -999.00, 9, -999.00
49NZ20071008, P01, P01_54, 1, 7, X12044, 2, 20071018, 1306, 47.0020, 171.6107, 6080,   4500.9, 2,   1.4943, 2,  34.6862, 2,  34.6863, 6,    151.6, 2,    151.4, 2,   151.21, 2,    36.13, 2,     0.01, 2,     2.55, 2, -999.000, 9, -999.000, 9, -999.000, 9, -999.000, 9,   2325.5, 2,   2418.9, 6,    7.5906,     25.00,   -999.0, 9,   -999.0,  -999.00, 9,   -999.0,   1.1194, 27.7852,   1.4944, 2, 2, 0.45, 0.13, 0.01, 0.016,  -999.00, 9, -999.00, -999.00, 9, -999.00
49NZ20071008, P01, P01_54, 1, 6, X12048, 2, 20071018, 1306, 47.0020, 171.6107, 6080,   4751.0, 2,   1.5132, 2,  34.6874, 2,  34.6876, 2,    153.2, 2,    153.0, 2,   150.79, 2,    36.12, 2,     0.00, 2,     2.54, 2, -999.000, 9, -999.000, 9, -999.000, 9, -999.000, 9,   2324.0, 2,   2418.1, 2,    7.5930,     25.00,   -999.0, 9,   -999.0,  -999.00, 9,   -999.0,   1.1084, 27.7868,   1.5133, 2, 6, 0.45, 0.13, 0.01, 0.016,  -999.00, 9, -999.00, -999.00, 9, -999.00
49NZ20071008, P01, P01_54, 1, 5, X12014, 2, 20071018, 1306, 47.0020, 171.6107, 6080,   5001.9, 2,   1.5362, 2,  34.6883, 2,  34.6885, 2,    154.3, 2,    154.1, 2,   150.88, 2,    35.95, 2,     0.00, 2,     2.53, 2,    0.000, 2,    0.000, 2,    0.000, 2, -999.000, 9,   2324.2, 2,   2418.4, 2,    7.5962,     25.00,   -999.0, 9,   -999.0,  -999.00, 9,   -999.0,   1.1005, 27.7882,   1.5364, 2, 2, 0.45, 0.13, 0.01, 0.016,  -999.00, 9, -999.00, -999.00, 9, -999.00
49NZ20071008, P01, P01_54, 1, 4, X12006, 2, 20071018, 1306, 47.0020, 171.6107, 6080,   5250.8, 2,   1.5631, 2,  34.6890, 2,  34.6889, 2,    154.8, 2,    154.4, 2,   151.55, 2,    35.96, 2,     0.00, 2,     2.53, 2, -999.000, 9, -999.000, 9, -999.000, 9, -999.000, 9,   2323.2, 2,   2417.8, 2,    7.5978,     25.00,   -999.0, 9,   -999.0,  -999.00, 9,   -999.0,   1.0958, 27.7890,   1.5633, 2, 2, 0.45, 0.13, 0.01, 0.016,  -999.00, 9, -999.00, -999.00, 9, -999.00
49NZ20071008, P01, P01_54, 1, 3, X12013, 2, 20071018, 1306, 47.0020, 171.6107, 6080,   5500.4, 2,   1.5931, 2,  34.6893, 2,  34.6901, 3,    155.1, 2,    154.9, 2,   151.83, 2,    35.94, 2,     0.00, 2,     2.52, 2, -999.000, 9, -999.000, 9, -999.000, 9, -999.000, 9,   2323.1, 2,   2419.1, 2,    7.5981,     25.00,   -999.0, 9,   -999.0,  -999.00, 9,   -999.0,   1.0931, 27.7894,   1.5933, 2, 2, 0.45, 0.13, 0.01, 0.016,  -999.00, 9, -999.00, -999.00, 9, -999.00
49NZ20071008, P01, P01_54, 1, 2, X12002, 2, 20071018, 1306, 47.0020, 171.6107, 6080,   5751.0, 2,   1.6261, 2,  34.6894, 2,  34.6895, 2,    155.3, 2,    155.1, 2,   151.82, 2,    35.97, 2,     0.00, 2,     2.53, 2,    0.000, 2,    0.000, 2,    0.000, 2, -999.000, 9,   2322.7, 2,   2418.5, 2,    7.5976,     25.00,   -999.0, 9,   -999.0,  -999.00, 9,   -999.0,   1.0924, 27.7896,   1.6262, 2, 2, 0.45, 0.13, 0.01, 0.016,  -999.00, 9, -999.00, -999.00, 9, -999.00
49NZ20071008, P01, P01_54, 1, 1, X12001, 2, 20071018, 1306, 47.0020, 171.6107, 6080,   6196.1, 2,   1.6869, 2,  34.6895, 2,  34.6898, 6,    155.2, 2,    155.2, 2,   151.96, 2,    35.83, 2,     0.01, 2,     2.53, 2,    0.001, 2,    0.003, 2,    0.000, 2, -999.000, 9,   2322.8, 2,   2418.2, 2,    7.5980,     25.00,   -999.0, 9,   -999.0,  -999.00, 9,   -999.0,   1.0912, 27.7897,   1.6868, 2, 2, 0.45, 0.13, 0.01, 0.016,  -999.00, 9, -999.00, -999.00, 9, -999.00