BOTTLE,20221005CCHSIOAMB
EXPOCODE,SECT_ID,STNNBR,CASTNO,SAMPNO,BTLNBR,BTLNBR_FLAG_W,DATE,TIME,LATITUDE,LONGITUDE,DEPTH,CTDPRS,CTDPRS_FLAG_W,CTDTMP,CTDTMP_FLAG_W,CTDSAL,CTDSAL_FLAG_W,SALNTY,SALNTY_FLAG_W,CTDOXY,CTDOXY_FLAG_W,OXYGEN,OXYGEN_FLAG_W,SILCAT,SILCAT_FLAG_W,NITRAT,NITRAT_FLAG_W,NITRIT,NITRIT_FLAG_W,PHSPHT,PHSPHT_FLAG_W,CFC-11,CFC-11_FLAG_W,CFC-12,CFC-12_FLAG_W,CFC113,CFC113_FLAG_W,CCL4,CCL4_FLAG_W,TCARBN,TCARBN_FLAG_W,ALKALI,ALKALI_FLAG_W,PH_TOT,PH_TMP,DELC14,DELC14_FLAG_W,C14ERR,DELC13,DELC13_FLAG_W,C13ERR,THETA,SIG0,SBE35,SBE35_FLAG_W,PH_TOT_FLAG_W,SILUNC,NRAUNC,NRIUNC,PHPUNC,CS-137,CS-137_FLAG_W,CS137ER,PLUTO,PLUTO_FLAG_W,PLUTOER
,,,,,,,,,,,METERS,DBAR,,ITS-90,,PSS-78,,PSS-78,,UMOL/KG,,UMOL/KG,,UMOL/KG,,UMOL/KG,,UMOL/KG,,UMOL/KG,,PMOL/KG,,PMOL/KG,,PMOL/KG,,PMOL/KG,,UMOL/KG,,UMOL/KG,,,DEG C,/MILLE,,/MILLE,/MILLE,,/MILLE,DEG C,KG/M^3,ITS-90,,,UMOL/KG,UMOL/KG,UMOL/KG,UMOL/KG,DM/.1MG,,BQ/M^3,MBQ/M^3,,MBQ/M^3
49NZ20071008, P14N, 63, 1, 36, X12042, 2, 20071106, 2225, 30.9925, 178.9898, 5317,     10.3, 2,  25.3861, 2,  34.9577, 2,  34.9581, 2,    208.9, 2,    209.5, 2,     1.61, 2,     0.05, 2,     0.01, 2,     0.05, 2,    1.681, 2,    1.039, 2,    0.447, 4, -999.000, 9,   1976.0, 2,   2298.8, 2,    8.0908,     25.00,   -999.0, 9,   -999.0,  -999.00, 9,   -999.0,  25.3838, 23.1920,  25.3856, 2, 6, 0.12, 0.03, 0.01, 0.033,  -999.00, 9, -999.00, -999.00, 9, -999.00
49NZ20071008, P14N, 63, 1, 35, X12041, 2, 20071106, 2225, 30.9925, 178.9898, 5317,     49.7, 2,  25.3831, 2,  34.9712, 2,  34.9541, 2,    209.3, 2,    214.6, 2,     1.67, 2,     0.04, 2,     0.01, 2,     0.05, 2,    1.748, 2,    1.072, 2,    0.635, 4, -999.000, 9,   1977.4, 6,   2296.6, 2,    8.0880,     25.00,   -999.0, 9,   -999.0,  -999.00, 9,   -999.0,  25.3722, 23.2058,  25.3805, 2, 2, 0.12, 0.03, 0.01, 0.034,  -999.00, 9, -999.00, -999.00, 9, -999.00
49NZ20071008, P14N, 63, 1, 34, X12016, 2, 20071106, 2225, 30.9925, 178.9898, 5317,     99.5, 2,  16.9164, 2,  34.6742, 2,  34.6737, 2,    232.1, 2,    229.8, 2,     3.49, 2,     0.78, 2,     0.16, 2,     0.20, 2,    2.513, 2,    1.482, 2,    0.259, 4, -999.000, 9,   2028.2, 2,   2281.3, 6,    7.9800,     25.00,   -999.0, 9,   -999.0,  -999.00, 9,   -999.0,  16.9001, 25.2879,  16.9155, 2, 2, 0.13, 0.03, 0.01, 0.016,  -999.00, 9, -999.00, -999.00, 9, -999.00
49NZ20071008, P14N, 63, 1, 33, X12033, 2, 20071106, 2225, 30.9925, 178.9898, 5317,    149.6, 2,  15.9503, 2,  34.6323, 2,  34.6298, 2,    214.4, 2,    214.3, 2,     5.43, 2,     5.47, 2,     0.02, 2,     0.43, 2,    2.577, 6,    1.498, 6,    0.155, 6, -999.000, 9,   2046.0, 2,   2277.9, 2,    7.9431,     25.00,   -999.0, 9,   -999.0,  -999.00, 9,   -999.0,  15.9268, 25.4814,  15.9508, 2, 6, 0.13, 0.05, 0.01, 0.013,  -999.00, 9, -999.00, -999.00, 9, -999.00
49NZ20071008, P14N, 63, 1, 32, X12038, 2, 20071106, 2225, 30.9925, 178.9898, 5317,    201.3, 2,  14.9146, 2,  34.5562, 2,  34.5562, 2,    214.5, 2,    215.2, 2,     7.11, 2,     6.95, 2,     0.01, 2,     0.53, 2,    2.698, 2,    1.539, 2,    0.131, 2, -999.000, 9,   2055.0, 2,   2276.0, 2,    7.9184,     25.00,   -999.0, 9,   -999.0,  -999.00, 9,   -999.0,  14.8843, 25.6550,  14.9164, 2, 2, 0.13, 0.05, 0.01, 0.013,  -999.00, 9, -999.00, -999.00, 9, -999.00
49NZ20071008, P14N, 63, 1, 31, X12003, 2, 20071106, 2225, 30.9925, 178.9898, 5317,    249.1, 2,  13.9840, 2,  34.4991, 2,  34.4963, 6,    218.9, 2,    218.9, 2,     9.08, 2,     8.27, 2,     0.01, 2,     0.62, 2,    2.722, 2,    1.532, 2,    0.128, 2, -999.000, 9,   2062.8, 2,   2274.1, 2,    7.8992,     25.00,   -999.0, 9,   -999.0,  -999.00, 9,   -999.0,  13.9481, 25.8109,  13.9857, 2, 2, 0.14, 0.06, 0.01, 0.013,  -999.00, 9, -999.00, -999.00, 9, -999.00
49NZ20071008, P14N, 63, 1, 30, X12008, 2, 20071106, 2225, 30.9925, 178.9898, 5317,    279.4, 2,  13.6072, 2,  34.4776, 2,  34.4763, 2,    218.4, 2,    217.6, 2,    10.07, 2,     9.01, 2,     0.01, 2,     0.68, 2,    2.765, 2,    1.548, 2,    0.120, 2, -999.000, 9,   2067.4, 2,   2274.5, 2,    7.8884,     25.00,   -999.0, 9,   -999.0,  -999.00, 9,   -999.0,  13.5677, 25.8731,  13.6079, 2, 2, 0.14, 0.06, 0.01, 0.013,  -999.00, 9, -999.00, -999.00, 9, -999.00
49NZ20071008, P14N, 63, 1, 29, X12035, 2, 20071106, 2225, 30.9925, 178.9898, 5317,    370.8, 2,  11.9221, 2,  34.3620, 2,  34.3604, 2,    209.4, 2,    208.5, 2,    15.82, 2,    12.94, 2,     0.01, 2,     0.95, 2,    2.874, 2,    1.574, 2,    0.113, 2, -999.000, 9,   2096.9, 2,   2273.8, 2,    7.8307,     25.00,   -999.0, 9,   -999.0,  -999.00, 9,   -999.0,  11.8739, 26.1175,  11.9234, 2, 2, 0.15, 0.07, 0.01, 0.013,  -999.00, 9, -999.00, -999.00, 9, -999.00
49NZ20071008, P14N, 63, 1, 28, X12034, 2, 20071106, 2225, 30.9925, 178.9898, 5317,    473.6, 2,   9.7005, 2,  34.1757, 2,  34.1818, 6,    204.9, 2,    202.3, 2,    23.74, 2,    17.27, 2,     0.01, 2,     1.26, 2,    3.033, 2,    1.612, 2,    0.140, 2, -999.000, 9,   2124.3, 2,   2273.2, 2,    7.7609,     25.00,   -999.0, 9,   -999.0,  -999.00, 9,   -999.0,   9.6464, 26.3676,   9.6989, 2, 2, 0.17, 0.08, 0.01, 0.014,  -999.00, 9, -999.00, -999.00, 9, -999.00
49NZ20071008, P14N, 63, 1, 27, X12049, 2, 20071106, 2225, 30.9925, 178.9898, 5317,    573.9, 2,   7.5429, 2,  34.0397, 2,  34.0402, 2,    173.8, 2,    171.0, 2,    39.43, 2,    24.09, 2,     0.01, 2,     1.76, 2,    2.797, 2,    1.430, 2,    0.143, 2, -999.000, 9,   2173.5, 2,   2278.7, 2,    7.6524,     25.00,   -999.0, 9,   -999.0,  -999.00, 9,   -999.0,   7.4862, 26.5943,   7.5464, 2, 2, 0.21, 0.10, 0.01, 0.015,  -999.00, 9, -999.00, -999.00, 9, -999.00
49NZ20071008, P14N, 63, 1, 26, X12032, 2, 20071106, 2225, 30.9925, 178.9898, 5317,    669.5, 2,   5.8196, 2,  34.0098, 2,  34.0102, 2,    132.9, 2,    127.5, 2,    62.25, 2,    31.22, 2,     0.01, 2,     2.29, 2,    2.121, 6,    1.059, 6,    0.109, 6, -999.000, 9,   2232.5, 6,   2295.3, 2,    7.5319,     25.00,   -999.0, 9,   -999.0,  -999.00, 9,   -999.0,   5.7618, 26.7999,   5.8217, 2, 2, 0.26, 0.12, 0.01, 0.016,  -999.00, 9, -999.00, -999.00, 9, -999.00
49NZ20071008, P14N, 63, 1, 25, X12043, 2, 20071106, 2225, 30.9925, 178.9898, 5317,    770.8, 2,   4.8706, 2,  34.0807, 2,  34.0799, 2,     87.5, 2,     84.5, 2,    82.34, 2,    36.54, 2,     0.01, 2,     2.66, 2,    1.362, 2,    0.671, 2,    0.067, 2, -999.000, 9,   2280.9, 2,   2316.0, 6,    7.4444,     25.00,   -999.0, 9,   -999.0,  -999.00, 9,   -999.0,   4.8090, 26.9681,   4.8717, 2, 2, 0.30, 0.14, 0.01, 0.017,  -999.00, 9, -999.00, -999.00, 9, -999.00
49NZ20071008, P14N, 63, 1, 24, X12030, 2, 20071106, 2225, 30.9925, 178.9898, 5317,    869.4, 2,   4.2357, 2,  34.1808, 2,  34.1832, 2,     54.0, 2,     48.4, 2,   101.27, 2,    40.49, 2,     0.01, 2,     2.93, 2,    0.576, 2,    0.276, 2,    0.026, 2, -999.000, 9,   2325.7, 2,   2336.7, 2,    7.3822,     25.00,   -999.0, 9,   -999.0,  -999.00, 9,   -999.0,   4.1697, 27.1169,   4.2358, 2, 6, 0.34, 0.15, 0.01, 0.017,  -999.00, 9, -999.00, -999.00, 9, -999.00
49NZ20071008, P14N, 63, 1, 23, X12027, 2, 20071106, 2225, 30.9925, 178.9898, 5317,    970.1, 2,   3.7725, 2,  34.2538, 2,  34.2548, 6,     33.3, 2,     29.0, 2,   114.91, 2,    42.86, 2,     0.00, 2,     3.07, 2,    0.240, 2,    0.116, 2,    0.009, 2, -999.000, 9,   2350.6, 2,   2351.6, 2,    7.3505,     25.00,   -999.0, 9,   -999.0,  -999.00, 9,   -999.0,   3.7014, 27.2227,   3.7726, 2, 2, 0.37, 0.15, 0.01, 0.018,  -999.00, 9, -999.00, -999.00, 9, -999.00
49NZ20071008, P14N, 63, 1, 22, X12028, 2, 20071106, 2225, 30.9925, 178.9898, 5317,   1131.6, 2,   3.3197, 2,  34.3721, 2,  34.3712, 2,     23.4, 2,     22.8, 2,   129.25, 2,    43.88, 2,     0.01, 2,     3.15, 2,    0.064, 2,    0.032, 2,    0.000, 2, -999.000, 9,   2373.2, 2,   2373.2, 2,    7.3494,     25.00,   -999.0, 9,   -999.0,  -999.00, 9,   -999.0,   3.2391, 27.3617,   3.3200, 2, 2, 0.40, 0.16, 0.01, 0.018,  -999.00, 9, -999.00, -999.00, 9, -999.00
49NZ20071008, P14N, 63, 1, 21, X12009, 2, 20071106, 2225, 30.9925, 178.9898, 5317,   1330.2, 2,   2.9590, 2,  34.4542, 2,  34.4542, 2,     26.4, 2,     25.4, 2,   140.01, 2,    44.03, 2,     0.01, 2,     3.14, 2,    0.022, 2,    0.011, 2,    0.000, 2, -999.000, 9,   2382.9, 2,   2388.6, 2,    7.3623,     25.00,   -999.0, 9,   -999.0,  -999.00, 9,   -999.0,   2.8658, 27.4615,   2.9589, 2, 2, 0.43, 0.16, 0.01, 0.018,  -999.00, 9, -999.00, -999.00, 9, -999.00
49NZ20071008, P14N, 63, 1, 20, X12026, 2, 20071106, 2225, 30.9925, 178.9898, 5317,   1529.0, 2,   2.6041, 2,  34.5147, 2,  34.5149, 2,     38.2, 2,     37.7, 2,   148.51, 2,    43.49, 2,     0.01, 2,     3.09, 2,    0.017, 2,    0.010, 2,    0.000, 2, -999.000, 9,   2388.6, 2,   2400.8, 2,    7.3880,     25.00,   -999.0, 9,   -999.0,  -999.00, 9,   -999.0,   2.4986, 27.5419,   2.6037, 2, 2, 0.45, 0.15, 0.01, 0.018,  -999.00, 9, -999.00, -999.00, 9, -999.00
49NZ20071008, P14N, 63, 1, 19, X12025, 2, 20071106, 2225, 30.9925, 178.9898, 5317,   1733.4, 2,   2.2878, 2,  34.5589, 2,  34.5578, 2,     50.7, 2,     49.8, 2,   156.28, 2,    42.84, 2,     0.01, 2,     3.04, 2,    0.013, 2,    0.006, 2,    0.000, 2, -999.000, 9,   2389.6, 2,   2409.1, 2,    7.4137,     25.00,   -999.0, 9,   -999.0,  -999.00, 9,   -999.0,   2.1696, 27.6047,   2.2881, 2, 2, 0.46, 0.15, 0.01, 0.018,  -999.00, 9, -999.00, -999.00, 9, -999.00
49NZ20071008, P14N, 63, 1, 18, X12024, 2, 20071106, 2225, 30.9925, 178.9898, 5317,   1933.0, 2,   2.0418, 2,  34.5920, 2,  34.5915, 2,     67.2, 2,     65.5, 2,   160.68, 2,    41.89, 2,     0.01, 2,     2.96, 2,    0.007, 2,    0.003, 2,    0.000, 2, -999.000, 9,   2383.0, 2,   2415.4, 2,    7.4418,     25.00,   -999.0, 9,   -999.0,  -999.00, 9,   -999.0,   1.9105, 27.6518,   2.0422, 2, 2, 0.47, 0.15, 0.01, 0.017,  -999.00, 9, -999.00, -999.00, 9, -999.00
49NZ20071008, P14N, 63, 1, 17, X12023, 2, 20071106, 2225, 30.9925, 178.9898, 5317,   2127.9, 2,   1.8741, 2,  34.6150, 2,  34.6143, 2,     80.8, 2,     80.0, 2,   162.06, 2,    40.93, 2,     0.01, 2,     2.89, 2,    0.014, 2,    0.009, 2,    0.000, 2, -999.000, 9,   2374.5, 2,   2418.9, 2,    7.4673,     25.00,   -999.0, 9,   -999.0,  -999.00, 9,   -999.0,   1.7289, 27.6842,   1.8741, 2, 2, 0.48, 0.15, 0.01, 0.017,  -999.00, 9, -999.00, -999.00, 9, -999.00
49NZ20071008, P14N, 63, 1, 16, X12022, 2, 20071106, 2225, 30.9925, 178.9898, 5317,   2331.9, 2,   1.7636, 2,  34.6305, 2,  34.6299, 2,     91.7, 2,     91.6, 2,   161.33, 2,    40.22, 2,     0.01, 2,     2.84, 2,    0.013, 2,    0.006, 2,    0.000, 2, -999.000, 9,   2367.9, 6,   2420.6, 2,    7.4900,     25.00,   -999.0, 9,   -999.0,  -999.00, 9,   -999.0,   1.6027, 27.7061,   1.7635, 2, 2, 0.47, 0.15, 0.01, 0.017,  -999.00, 9, -999.00, -999.00, 9, -999.00
49NZ20071008, P14N, 63, 1, 15, X12021, 2, 20071106, 2225, 30.9925, 178.9898, 5317,   2530.3, 2,   1.6799, 2,  34.6425, 2,  34.6422, 6,    103.3, 2,    102.0, 2,   161.34, 2,    39.50, 2,     0.01, 2,     2.79, 2,    0.000, 2,    0.000, 2,    0.000, 2, -999.000, 9,   2363.3, 2,   2421.6, 6,    7.5078,     25.00,   -999.0, 9,   -999.0,  -999.00, 9,   -999.0,   1.5029, 27.7230,   1.6799, 2, 2, 0.47, 0.14, 0.01, 0.017,  -999.00, 9, -999.00, -999.00, 9, -999.00
49NZ20071008, P14N, 63, 1, 14, X12020, 2, 20071106, 2225, 30.9925, 178.9898, 5317,   2728.0, 2,   1.5996, 2,  34.6536, 2,  34.6536, 2,    113.1, 2,    112.9, 2,   159.51, 2,    38.72, 2,     0.01, 2,     2.73, 2,    0.005, 2,    0.004, 2,    0.000, 2, -999.000, 9,   2358.4, 2,   2422.0, 2,    7.5269,     25.00,   -999.0, 9,   -999.0,  -999.00, 9,   -999.0,   1.4062, 27.7390,   1.5995, 2, 6, 0.47, 0.14, 0.01, 0.017,  -999.00, 9, -999.00, -999.00, 9, -999.00
49NZ20071008, P14N, 63, 1, 13, X12019, 2, 20071106, 2225, 30.9925, 178.9898, 5317,   2930.6, 2,   1.5457, 2,  34.6628, 2,  34.6624, 2,    123.0, 2,    123.3, 2,   156.77, 2,    38.13, 2,     0.01, 2,     2.68, 2, -999.000, 9, -999.000, 9, -999.000, 9, -999.000, 9,   2351.3, 2,   2421.7, 2,    7.5461,     25.00,   -999.0, 9,   -999.0,  -999.00, 9,   -999.0,   1.3345, 27.7514,   1.5457, 2, 2, 0.46, 0.14, 0.01, 0.017,  -999.00, 9, -999.00, -999.00, 9, -999.00
49NZ20071008, P14N, 63, 1, 12, X12040, 2, 20071106, 2225, 30.9925, 178.9898, 5317,   3169.9, 2,   1.5107, 2,  34.6692, 2,  34.6689, 2,    130.3, 2,    129.8, 2,   155.58, 2,    37.62, 2,     0.01, 2,     2.64, 2,    0.000, 2,    0.000, 2,    0.000, 2, -999.000, 9,   2345.6, 2,   2422.2, 2,    7.5568,     25.00,   -999.0, 9,   -999.0,  -999.00, 9,   -999.0,   1.2773, 27.7606,   1.5107, 2, 2, 0.46, 0.14, 0.01, 0.017,  -999.00, 9, -999.00, -999.00, 9, -999.00
49NZ20071008, P14N, 63, 1, 11, X12047, 4, 20071106, 2225, 30.9925, 178.9898, 5317,   3421.1, 2,   1.4782, 2,  34.6756, 2,  34.6682, 4,    136.8, 2,    129.4, 4,   155.62, 4,    37.73, 4,     0.01, 4,     2.64, 4, -999.000, 9, -999.000, 9, -999.000, 9, -999.000, 9,   2346.3, 4,   2421.4, 4,    7.5546,     25.00,   -999.0, 9,   -999.0,  -999.00, 9,   -999.0,   1.2206, 27.7697,   1.4782, 2, 4, 0.46, 0.14, 0.01, 0.017,  -999.00, 9, -999.00, -999.00, 9, -999.00
49NZ20071008, P14N, 63, 1, 10, X12017, 2, 20071106, 2225, 30.9925, 178.9898, 5317,   3671.3, 2,   1.4623, 2,  34.6801, 2,  34.6797, 2,    142.1, 2,    142.5, 2,   153.27, 2,    36.90, 2,     0.00, 2,     2.58, 2, -999.000, 9, -999.000, 9, -999.000, 9, -999.000, 9,   2339.5, 2,   2423.1, 2,    7.5787,     25.00,   -999.0, 9,   -999.0,  -999.00, 9,   -999.0,   1.1795, 27.7762,   1.4623, 2, 2, 0.46, 0.14, 0.01, 0.016,  -999.00, 9, -999.00, -999.00, 9, -999.00
49NZ20071008, P14N, 63, 1, 9, X12015, 2, 20071106, 2225, 30.9925, 178.9898, 5317,   3920.5, 2,   1.4613, 2,  34.6830, 2,  34.6827, 6,    146.2, 2,    146.2, 2,   152.71, 2,    36.59, 2,     0.01, 2,     2.56, 2,    0.001, 2,    0.000, 2,    0.000, 2, -999.000, 9,   2335.4, 2,   2423.0, 2,    7.5857,     25.00,   -999.0, 9,   -999.0,  -999.00, 9,   -999.0,   1.1521, 27.7804,   1.4612, 2, 2, 0.45, 0.14, 0.01, 0.016,  -999.00, 9, -999.00, -999.00, 9, -999.00
49NZ20071008, P14N, 63, 1, 8, X12046, 2, 20071106, 2225, 30.9925, 178.9898, 5317,   4169.4, 2,   1.4691, 2,  34.6852, 2,  34.6851, 2,    149.0, 2,    148.9, 2,   152.03, 2,    36.39, 2,     0.00, 2,     2.54, 2, -999.000, 9, -999.000, 9, -999.000, 9, -999.000, 9,   2332.9, 6,   2422.0, 2,    7.5895,     25.00,   -999.0, 9,   -999.0,  -999.00, 9,   -999.0,   1.1325, 27.7835,   1.4690, 2, 2, 0.45, 0.13, 0.01, 0.016,  -999.00, 9, -999.00, -999.00, 9, -999.00
49NZ20071008, P14N, 63, 1, 7, X12044, 2, 20071106, 2225, 30.9925, 178.9898, 5317,   4420.6, 2,   1.4808, 2,  34.6871, 2,  34.6869, 2,    151.3, 2,    151.1, 2,   151.71, 2,    36.19, 2,     0.01, 2,     2.54, 2, -999.000, 9, -999.000, 9, -999.000, 9, -999.000, 9,   2331.6, 2,   2422.2, 6,    7.5944,     25.00,   -999.0, 9,   -999.0,  -999.00, 9,   -999.0,   1.1155, 27.7862,   1.4808, 2, 2, 0.45, 0.13, 0.01, 0.016,  -999.00, 9, -999.00, -999.00, 9, -999.00
49NZ20071008, P14N, 63, 1, 6, X12048, 2, 20071106, 2225, 30.9925, 178.9898, 5317,   4669.7, 2,   1.4990, 2,  34.6882, 2,  34.6880, 2,    153.2, 2,    153.1, 2,   150.09, 2,    36.13, 2,     0.01, 2,     2.53, 2,    0.001, 2,    0.001, 2,    0.000, 2, -999.000, 9,   2330.9, 2,   2421.4, 2,    7.5968,     25.00,   -999.0, 9,   -999.0,  -999.00, 9,   -999.0,   1.1043, 27.7878,   1.4989, 2, 6, 0.45, 0.13, 0.01, 0.016,  -999.00, 9, -999.00, -999.00, 9, -999.00
49NZ20071008, P14N, 63, 1, 5, X12014, 2, 20071106, 2225, 30.9925, 178.9898, 5317,   4918.4, 2,   1.5138, 2,  34.6896, 2,  34.6892, 2,    156.5, 2,    156.1, 2,   147.43, 2,    36.01, 2,     0.00, 2,     2.51, 2, -999.000, 9, -999.000, 9, -999.000, 9, -999.000, 9,   2328.5, 2,   2418.9, 2,    7.5997,     25.00,   -999.0, 9,   -999.0,  -999.00, 9,   -999.0,   1.0890, 27.7899,   1.5137, 2, 2, 0.44, 0.13, 0.01, 0.016,  -999.00, 9, -999.00, -999.00, 9, -999.00
49NZ20071008, P14N, 63, 1, 4, X12006, 2, 20071106, 2225, 30.9925, 178.9898, 5317,   5169.0, 2,   1.5373, 2,  34.6903, 2,  34.6900, 2,    158.3, 2,    157.7, 2,   145.91, 2,    35.82, 2,     0.00, 2,     2.50, 2, -999.000, 9, -999.000, 9, -999.000, 9, -999.000, 9,   2324.8, 2,   2419.8, 2,    7.6024,     25.00,   -999.0, 9,   -999.0,  -999.00, 9,   -999.0,   1.0810, 27.7911,   1.5374, 2, 2, 0.44, 0.13, 0.01, 0.016,  -999.00, 9, -999.00, -999.00, 9, -999.00
49NZ20071008, P14N, 63, 1, 3, X12013, 9, 20071106, 2225, 30.9925, 178.9898, 5317,     10.3, 2,  25.3849, 2,  34.9581, 2, -999.0000, 9,    208.9, 2,   -999.0, 9,  -999.00, 9,  -999.00, 9,  -999.00, 9,  -999.00, 9, -999.000, 9, -999.000, 9, -999.000, 9, -999.000, 9,   -999.0, 9,   -999.0, 9, -999.0000,   -999.00,   -999.0, 9,   -999.0,  -999.00, 9,   -999.0,  25.3826, 23.1927,  25.3830, 2, 9, -999.00, -999.00, -999.00, -999.000,  -999.00, 9, -999.00, -999.00, 9, -999.00
49NZ20071008, P14N, 63, 1, 2, X12002, 9, 20071106, 2225, 30.9925, 178.9898, 5317,    201.3, 2,  14.9130, 2,  34.5561, 2, -999.0000, 9,    214.5, 2,   -999.0, 9,  -999.00, 9,  -999.00, 9,  -999.00, 9,  -999.00, 9, -999.000, 9, -999.000, 9, -999.000, 9, -999.000, 9,   -999.0, 9,   -999.0, 9, -999.0000,   -999.00,   -999.0, 9,   -999.0,  -999.00, 9,   -999.0,  14.8827, 25.6553,  14.9149, 2, 9, -999.00, -999.00, -999.00, -999.000,  -999.00, 9, -999.00, -999.00, 9, -999.00
49NZ20071008, P14N, 63, 1, 1, X12001, 2, 20071106, 2225, 30.9925, 178.9898, 5317,   5427.4, 2,   1.5566, 2,  34.6912, 2,  34.6912, 6,    160.7, 2,    160.4, 2,   143.36, 2,    35.71, 2,     0.01, 2,     2.49, 2,    0.000, 2,    0.001, 2,    0.000, 2, -999.000, 9,   2321.1, 2,   2417.2, 2,    7.6044,     25.00,   -999.0, 9,   -999.0,  -999.00, 9,   -999.0,   1.0672, 27.7927,   1.5565, 2, 2, 0.43, 0.13, 0.01, 0.016,  -999.00, 9, -999.00, -999.00, 9, -999.00