BOTTLE,20221005CCHSIOAMB
EXPOCODE,SECT_ID,STNNBR,CASTNO,SAMPNO,BTLNBR,BTLNBR_FLAG_W,DATE,TIME,LATITUDE,LONGITUDE,DEPTH,CTDPRS,CTDPRS_FLAG_W,CTDTMP,CTDTMP_FLAG_W,CTDSAL,CTDSAL_FLAG_W,SALNTY,SALNTY_FLAG_W,CTDOXY,CTDOXY_FLAG_W,OXYGEN,OXYGEN_FLAG_W,SILCAT,SILCAT_FLAG_W,NITRAT,NITRAT_FLAG_W,NITRIT,NITRIT_FLAG_W,PHSPHT,PHSPHT_FLAG_W,CFC-11,CFC-11_FLAG_W,CFC-12,CFC-12_FLAG_W,CFC113,CFC113_FLAG_W,CCL4,CCL4_FLAG_W,TCARBN,TCARBN_FLAG_W,ALKALI,ALKALI_FLAG_W,PH_TOT,PH_TMP,DELC14,DELC14_FLAG_W,C14ERR,DELC13,DELC13_FLAG_W,C13ERR,THETA,SIG0,SBE35,SBE35_FLAG_W,PH_TOT_FLAG_W,SILUNC,NRAUNC,NRIUNC,PHPUNC,CS-137,CS-137_FLAG_W,CS137ER,PLUTO,PLUTO_FLAG_W,PLUTOER
,,,,,,,,,,,METERS,DBAR,,ITS-90,,PSS-78,,PSS-78,,UMOL/KG,,UMOL/KG,,UMOL/KG,,UMOL/KG,,UMOL/KG,,UMOL/KG,,PMOL/KG,,PMOL/KG,,PMOL/KG,,PMOL/KG,,UMOL/KG,,UMOL/KG,,,DEG C,/MILLE,,/MILLE,/MILLE,,/MILLE,DEG C,KG/M^3,ITS-90,,,UMOL/KG,UMOL/KG,UMOL/KG,UMOL/KG,DM/.1MG,,BQ/M^3,MBQ/M^3,,MBQ/M^3
49NZ20071008, P01, P01_50, 1, 36, X12042, 2, 20071017, 1336, 46.9858, 169.5738, 2401,     10.0, 2,   9.2158, 2,  32.6332, 2,  32.6332, 2,    288.7, 2,    288.4, 2,    20.93, 2,    13.98, 2,     0.27, 2,     1.34, 2,    3.873, 2,    2.102, 2,    0.353, 2, -999.000, 9,   2029.5, 2,   2206.6, 2,    7.8442,     25.00,   -999.0, 9,   -999.0,  -999.00, 9,   -999.0,   9.2147, 25.2315,   9.2160, 2, 2, 0.17, 0.07, 0.01, 0.014,  -999.00, 9, -999.00, -999.00, 9, -999.00
49NZ20071008, P01, P01_50, 1, 35, X12041, 2, 20071017, 1336, 46.9858, 169.5738, 2401,     50.0, 2,   8.6445, 2,  32.6670, 2,  32.6788, 2,    283.4, 2,    289.3, 2,    23.37, 2,    15.07, 2,     0.29, 2,     1.43, 2,    4.099, 2,    2.229, 2,    0.363, 2, -999.000, 9,   2041.9, 6,   2209.2, 2,    7.8186,     25.00,   -999.0, 9,   -999.0,  -999.00, 9,   -999.0,   8.6394, 25.3471,   8.5933, 2, 2, 0.17, 0.07, 0.01, 0.014,  -999.00, 9, -999.00, -999.00, 9, -999.00
49NZ20071008, P01, P01_50, 1, 34, X12016, 2, 20071017, 1336, 46.9858, 169.5738, 2401,    100.8, 2,   3.1321, 2,  33.1684, 2,  33.1736, 2,    262.6, 2,    255.3, 2,    49.89, 2,    28.70, 2,     0.02, 2,     2.21, 2,    4.775, 2,    2.504, 2,    0.401, 2, -999.000, 9,   2160.9, 2,   2240.7, 6,    7.5860,     25.00,   -999.0, 9,   -999.0,  -999.00, 9,   -999.0,   3.1261, 26.4119,   3.1320, 2, 2, 0.23, 0.11, 0.01, 0.016,  -999.00, 9, -999.00, -999.00, 9, -999.00
49NZ20071008, P01, P01_50, 1, 33, X12033, 2, 20071017, 1336, 46.9858, 169.5738, 2401,    151.3, 2,   3.6698, 2,  33.7494, 2,  33.7468, 2,     76.5, 2,     76.4, 2,    82.14, 2,    41.71, 2,     0.02, 2,     2.99, 2,    2.744, 6,    1.341, 6,    0.187, 6, -999.000, 9,   2291.1, 2,   2284.9, 2,    7.3211,     25.00,   -999.0, 9,   -999.0,  -999.00, 9,   -999.0,   3.6599, 26.8252,   3.6702, 2, 6, 0.30, 0.15, 0.01, 0.017,  -999.00, 9, -999.00, -999.00, 9, -999.00
49NZ20071008, P01, P01_50, 1, 32, X12038, 2, 20071017, 1336, 46.9858, 169.5738, 2401,    199.9, 2,   3.7690, 2,  33.8933, 2,  33.8926, 2,     32.3, 2,     33.6, 2,    92.53, 2,    44.64, 2,     0.02, 2,     3.17, 2,    2.035, 2,    0.968, 2,    0.126, 2, -999.000, 9,   2322.7, 2,   2299.1, 2,    7.2689,     25.00,   -999.0, 9,   -999.0,  -999.00, 9,   -999.0,   3.7557, 26.9304,   3.7690, 2, 2, 0.32, 0.16, 0.01, 0.018,  -999.00, 9, -999.00, -999.00, 9, -999.00
49NZ20071008, P01, P01_50, 1, 31, X12003, 2, 20071017, 1336, 46.9858, 169.5738, 2401,    249.7, 2,   3.7606, 2,  33.9728, 2,  33.9718, 6,     20.2, 2,     20.5, 2,    99.37, 2,    45.20, 2,     0.02, 2,     3.21, 2,    1.617, 2,    0.756, 2,    0.097, 2, -999.000, 9,   2338.1, 2,   2308.8, 2,    7.2579,     25.00,   -999.0, 9,   -999.0,  -999.00, 9,   -999.0,   3.7438, 26.9948,   3.7604, 2, 2, 0.34, 0.16, 0.01, 0.018,  -999.00, 9, -999.00, -999.00, 9, -999.00
49NZ20071008, P01, P01_50, 1, 30, X12008, 2, 20071017, 1336, 46.9858, 169.5738, 2401,    280.1, 2,   3.7283, 2,  34.0139, 2,  34.0151, 2,     17.4, 2,     17.2, 2,   103.37, 2,    45.32, 2,     0.02, 2,     3.23, 2,    1.400, 2,    0.652, 2,    0.080, 2, -999.000, 9,   2342.2, 2,   2315.5, 2,    7.2622,     25.00,   -999.0, 9,   -999.0,  -999.00, 9,   -999.0,   3.7095, 27.0309,   3.7281, 2, 2, 0.35, 0.16, 0.01, 0.018,  -999.00, 9, -999.00, -999.00, 9, -999.00
49NZ20071008, P01, P01_50, 1, 29, X12035, 2, 20071017, 1336, 46.9858, 169.5738, 2401,    369.2, 2,   3.5493, 2,  34.1182, 2,  34.1183, 2,     18.3, 2,     18.3, 2,   114.51, 2,    44.63, 2,     0.02, 2,     3.18, 2,    0.900, 2,    0.424, 2,    0.055, 2, -999.000, 9,   2350.6, 2,   2333.4, 2,    7.2869,     25.00,   -999.0, 9,   -999.0,  -999.00, 9,   -999.0,   3.5247, 27.1321,   3.5491, 2, 2, 0.37, 0.16, 0.01, 0.018,  -999.00, 9, -999.00, -999.00, 9, -999.00
49NZ20071008, P01, P01_50, 1, 28, X12034, 2, 20071017, 1336, 46.9858, 169.5738, 2401,    469.9, 2,   3.3937, 2,  34.1922, 2,  34.1935, 6,     17.1, 2,     16.9, 2,   122.83, 2,    44.52, 2,     0.01, 2,     3.18, 2,    0.609, 2,    0.281, 2,    0.036, 2, -999.000, 9,   2358.2, 2,   2345.5, 2,    7.3000,     25.00,   -999.0, 9,   -999.0,  -999.00, 9,   -999.0,   3.3625, 27.2066,   3.3938, 2, 2, 0.39, 0.16, 0.01, 0.018,  -999.00, 9, -999.00, -999.00, 9, -999.00
49NZ20071008, P01, P01_50, 1, 27, X12049, 2, 20071017, 1336, 46.9858, 169.5738, 2401,    570.2, 2,   3.2562, 2,  34.2538, 2,  34.2549, 2,     15.7, 2,     15.9, 2,   129.53, 2,    44.56, 2,     0.02, 2,     3.17, 2,    0.399, 2,    0.181, 2,    0.033, 2, -999.000, 9,   2371.6, 2,   2355.8, 2,    7.3083,     25.00,   -999.0, 9,   -999.0,  -999.00, 9,   -999.0,   3.2185, 27.2693,   3.2560, 2, 2, 0.40, 0.16, 0.01, 0.018,  -999.00, 9, -999.00, -999.00, 9, -999.00
49NZ20071008, P01, P01_50, 1, 26, X12032, 2, 20071017, 1336, 46.9858, 169.5738, 2401,    671.9, 2,   3.0898, 2,  34.3075, 2,  34.3067, 2,     16.7, 2,     16.8, 2,   135.88, 2,    44.46, 2,     0.02, 2,     3.18, 2,    0.262, 6,    0.119, 6,    0.014, 6, -999.000, 9,   2373.1, 6,   2364.4, 2,    7.3155,     25.00,   -999.0, 9,   -999.0,  -999.00, 9,   -999.0,   3.0457, 27.3281,   3.0895, 2, 2, 0.42, 0.16, 0.01, 0.018,  -999.00, 9, -999.00, -999.00, 9, -999.00
49NZ20071008, P01, P01_50, 1, 25, X12043, 2, 20071017, 1336, 46.9858, 169.5738, 2401,    769.3, 2,   2.9473, 2,  34.3461, 2,  34.3462, 2,     17.5, 2,     17.4, 2,   141.08, 2,    44.43, 2,     0.02, 2,     3.17, 2,    0.182, 2,    0.084, 2,    0.014, 2, -999.000, 9,   2379.0, 2,   2372.5, 6,    7.3247,     25.00,   -999.0, 9,   -999.0,  -999.00, 9,   -999.0,   2.8970, 27.3724,   2.9472, 2, 2, 0.43, 0.16, 0.01, 0.018,  -999.00, 9, -999.00, -999.00, 9, -999.00
49NZ20071008, P01, P01_50, 1, 24, X12030, 2, 20071017, 1336, 46.9858, 169.5738, 2401,    869.8, 2,   2.7935, 2,  34.3852, 2,  34.3851, 2,     19.4, 2,     19.4, 2,   146.01, 2,    44.30, 2,     0.01, 2,     3.16, 2,    0.117, 2,    0.055, 2,    0.009, 2, -999.000, 9,   2385.6, 2,   2378.8, 2,    7.3323,     25.00,   -999.0, 9,   -999.0,  -999.00, 9,   -999.0,   2.7369, 27.4178,   2.7934, 2, 6, 0.44, 0.16, 0.01, 0.018,  -999.00, 9, -999.00, -999.00, 9, -999.00
49NZ20071008, P01, P01_50, 1, 23, X12027, 2, 20071017, 1336, 46.9858, 169.5738, 2401,    969.6, 2,   2.6384, 2,  34.4216, 2,  34.4215, 6,     22.4, 2,     21.8, 2,   150.98, 2,    44.25, 2,     0.01, 2,     3.15, 2,    0.090, 2,    0.047, 2,    0.009, 2, -999.000, 9,   2388.5, 2,   2385.4, 2,    7.3409,     25.00,   -999.0, 9,   -999.0,  -999.00, 9,   -999.0,   2.5757, 27.4609,   2.6383, 2, 2, 0.45, 0.16, 0.01, 0.018,  -999.00, 9, -999.00, -999.00, 9, -999.00
49NZ20071008, P01, P01_50, 1, 22, X12028, 2, 20071017, 1336, 46.9858, 169.5738, 2401,   1129.5, 2,   2.4608, 2,  34.4613, 2,  34.4614, 2,     26.4, 2,     25.3, 2,   156.97, 2,    44.10, 2,     0.01, 2,     3.14, 2,    0.051, 2,    0.022, 2,    0.000, 2, -999.000, 9,   2391.5, 2,   2393.3, 2,    7.3481,     25.00,   -999.0, 9,   -999.0,  -999.00, 9,   -999.0,   2.3878, 27.5086,   2.4606, 2, 2, 0.46, 0.16, 0.01, 0.018,  -999.00, 9, -999.00, -999.00, 9, -999.00
49NZ20071008, P01, P01_50, 1, 21, X12009, 2, 20071017, 1336, 46.9858, 169.5738, 2401,   1329.2, 2,   2.2168, 2,  34.5163, 2,  34.5161, 2,     37.1, 2,     37.7, 2,   162.57, 2,    43.32, 2,     0.01, 2,     3.08, 2,    0.022, 2,    0.011, 2,    0.000, 2, -999.000, 9,   2386.0, 2,   2401.7, 2,    7.3752,     25.00,   -999.0, 9,   -999.0,  -999.00, 9,   -999.0,   2.1312, 27.5737,   2.2166, 2, 2, 0.48, 0.15, 0.01, 0.018,  -999.00, 9, -999.00, -999.00, 9, -999.00
49NZ20071008, P01, P01_50, 1, 20, X12026, 2, 20071017, 1336, 46.9858, 169.5738, 2401,   1529.7, 2,   2.0378, 2,  34.5562, 2,  34.5566, 2,     49.8, 2,     50.5, 2,   165.80, 2,    42.64, 2,     0.01, 2,     3.03, 2,    0.008, 2,    0.003, 2,    0.000, 2, -999.000, 9,   2384.4, 2,   2409.0, 2,    7.4042,     25.00,   -999.0, 9,   -999.0,  -999.00, 9,   -999.0,   1.9389, 27.6209,   2.0377, 2, 6, 0.48, 0.15, 0.01, 0.018,  -999.00, 9, -999.00, -999.00, 9, -999.00
49NZ20071008, P01, P01_50, 1, 19, X12025, 2, 20071017, 1336, 46.9858, 169.5738, 2401,   1730.1, 2,   1.8932, 2,  34.5867, 2,  34.5875, 6,     63.8, 2,     64.5, 2,   166.98, 2,    41.82, 2,     0.01, 2,     2.98, 2,    0.032, 3,    0.065, 3,    0.013, 3, -999.000, 9,   2376.7, 2,   2413.2, 2,    7.4330,     25.00,   -999.0, 9,   -999.0,  -999.00, 9,   -999.0,   1.7804, 27.6576,   1.8930, 2, 2, 0.49, 0.15, 0.01, 0.017,  -999.00, 9, -999.00, -999.00, 9, -999.00
49NZ20071008, P01, P01_50, 1, 18, X12024, 2, 20071017, 1336, 46.9858, 169.5738, 2401,   1931.8, 2,   1.7649, 2,  34.6121, 2,  34.6124, 2,     81.7, 2,     80.8, 2,   166.10, 2,    40.74, 2,     0.01, 2,     2.89, 2,    0.000, 2,    0.000, 2,    0.000, 2, -999.000, 9,   2372.4, 2,   2416.4, 2,    7.4636,     25.00,   -999.0, 9,   -999.0,  -999.00, 9,   -999.0,   1.6377, 27.6887,   1.7646, 2, 2, 0.48, 0.15, 0.01, 0.017,  -999.00, 9, -999.00, -999.00, 9, -999.00
49NZ20071008, P01, P01_50, 1, 17, X12023, 2, 20071017, 1336, 46.9858, 169.5738, 2401,   2132.4, 2,   1.7101, 2,  34.6240, 2,  34.6238, 2,     90.4, 2,     89.6, 2,   164.88, 2,    40.26, 2,     0.01, 2,     2.86, 2,    0.000, 2,    0.000, 2,    0.000, 2, -999.000, 9,   2365.7, 2,   2416.8, 2,    7.4810,     25.00,   -999.0, 9,   -999.0,  -999.00, 9,   -999.0,   1.5671, 27.7035,   1.7100, 2, 2, 0.48, 0.15, 0.01, 0.017,  -999.00, 9, -999.00, -999.00, 9, -999.00
49NZ20071008, P01, P01_50, 1, 16, X12022, 2, 20071017, 1336, 46.9858, 169.5738, 2401,   2331.3, 2,   1.6396, 2,  34.6380, 2,  34.6383, 2,    100.6, 2,    100.7, 2,   163.41, 2,    39.49, 2,     0.01, 2,     2.80, 2,    0.000, 2,    0.000, 2,    0.000, 2, -999.000, 9,   2359.8, 6,   2419.8, 2,    7.5009,     25.00,   -999.0, 9,   -999.0,  -999.00, 9,   -999.0,   1.4809, 27.7211,   1.6392, 2, 2, 0.48, 0.14, 0.01, 0.017,  -999.00, 9, -999.00, -999.00, 9, -999.00
49NZ20071008, P01, P01_50, 1, 15, X12021, 9, 20071017, 1336, 46.9858, 169.5738, 2401,     10.0, 2,   9.2150, 2,  32.6331, 2, -999.0000, 9,    288.7, 2,   -999.0, 9,  -999.00, 9,  -999.00, 9,  -999.00, 9,  -999.00, 9, -999.000, 9, -999.000, 9, -999.000, 9, -999.000, 9,   -999.0, 9,   -999.0, 9, -999.0000,   -999.00,   -999.0, 9,   -999.0,  -999.00, 9,   -999.0,   9.2139, 25.2316,   9.2146, 2, 9, -999.00, -999.00, -999.00, -999.000,  -999.00, 9, -999.00, -999.00, 9, -999.00
49NZ20071008, P01, P01_50, 1, 14, X12020, 9, 20071017, 1336, 46.9858, 169.5738, 2401,     50.4, 2,   8.6339, 2,  32.6673, 2, -999.0000, 9,    283.5, 2,   -999.0, 9,  -999.00, 9,  -999.00, 9,  -999.00, 9,  -999.00, 9, -999.000, 9, -999.000, 9, -999.000, 9, -999.000, 9,   -999.0, 9,   -999.0, 9, -999.0000,   -999.00,   -999.0, 9,   -999.0,  -999.00, 9,   -999.0,   8.6288, 25.3490,   8.6293, 2, 9, -999.00, -999.00, -999.00, -999.000,  -999.00, 9, -999.00, -999.00, 9, -999.00
49NZ20071008, P01, P01_50, 1, 13, X12019, 9, 20071017, 1336, 46.9858, 169.5738, 2401,    100.4, 2,   3.1307, 2,  33.1654, 2, -999.0000, 9,    263.7, 2,   -999.0, 9,  -999.00, 9,  -999.00, 9,  -999.00, 9,  -999.00, 9, -999.000, 9, -999.000, 9, -999.000, 9, -999.000, 9,   -999.0, 9,   -999.0, 9, -999.0000,   -999.00,   -999.0, 9,   -999.0,  -999.00, 9,   -999.0,   3.1247, 26.4097,   3.1314, 2, 9, -999.00, -999.00, -999.00, -999.000,  -999.00, 9, -999.00, -999.00, 9, -999.00
49NZ20071008, P01, P01_50, 1, 12, X12040, 9, 20071017, 1336, 46.9858, 169.5738, 2401,    151.2, 2,   3.6689, 2,  33.7486, 2, -999.0000, 9,     76.6, 2,   -999.0, 9,  -999.00, 9,  -999.00, 9,  -999.00, 9,  -999.00, 9, -999.000, 9, -999.000, 9, -999.000, 9, -999.000, 9,   -999.0, 9,   -999.0, 9, -999.0000,   -999.00,   -999.0, 9,   -999.0,  -999.00, 9,   -999.0,   3.6590, 26.8246,   3.6677, 2, 9, -999.00, -999.00, -999.00, -999.000,  -999.00, 9, -999.00, -999.00, 9, -999.00
49NZ20071008, P01, P01_50, 1, 11, X12047, 9, 20071017, 1336, 46.9858, 169.5738, 2401,    199.9, 2,   3.7690, 2,  33.8967, 2, -999.0000, 9,     32.3, 2,   -999.0, 9,  -999.00, 9,  -999.00, 9,  -999.00, 9,  -999.00, 9, -999.000, 9, -999.000, 9, -999.000, 9, -999.000, 9,   -999.0, 9,   -999.0, 9, -999.0000,   -999.00,   -999.0, 9,   -999.0,  -999.00, 9,   -999.0,   3.7557, 26.9331,   3.7691, 2, 9, -999.00, -999.00, -999.00, -999.000,  -999.00, 9, -999.00, -999.00, 9, -999.00
49NZ20071008, P01, P01_50, 1, 10, X12010, 9, 20071017, 1336, 46.9858, 169.5738, 2401,    249.7, 2,   3.7616, 2,  33.9727, 2, -999.0000, 9,     20.2, 2,   -999.0, 9,  -999.00, 9,  -999.00, 9,  -999.00, 9,  -999.00, 9, -999.000, 9, -999.000, 9, -999.000, 9, -999.000, 9,   -999.0, 9,   -999.0, 9, -999.0000,   -999.00,   -999.0, 9,   -999.0,  -999.00, 9,   -999.0,   3.7448, 26.9946,   3.7614, 2, 9, -999.00, -999.00, -999.00, -999.000,  -999.00, 9, -999.00, -999.00, 9, -999.00
49NZ20071008, P01, P01_50, 1, 9, X12015, 9, 20071017, 1336, 46.9858, 169.5738, 2401,    279.5, 2,   3.7296, 2,  34.0135, 2, -999.0000, 9,     17.4, 2,   -999.0, 9,  -999.00, 9,  -999.00, 9,  -999.00, 9,  -999.00, 9, -999.000, 9, -999.000, 9, -999.000, 9, -999.000, 9,   -999.0, 9,   -999.0, 9, -999.0000,   -999.00,   -999.0, 9,   -999.0,  -999.00, 9,   -999.0,   3.7108, 27.0305,   3.7293, 2, 9, -999.00, -999.00, -999.00, -999.000,  -999.00, 9, -999.00, -999.00, 9, -999.00
49NZ20071008, P01, P01_50, 1, 8, X12046, 9, 20071017, 1336, 46.9858, 169.5738, 2401,    369.6, 2,   3.5494, 2,  34.1182, 2, -999.0000, 9,     18.3, 2,   -999.0, 9,  -999.00, 9,  -999.00, 9,  -999.00, 9,  -999.00, 9, -999.000, 9, -999.000, 9, -999.000, 9, -999.000, 9,   -999.0, 9,   -999.0, 9, -999.0000,   -999.00,   -999.0, 9,   -999.0,  -999.00, 9,   -999.0,   3.5248, 27.1321,   3.5492, 2, 9, -999.00, -999.00, -999.00, -999.000,  -999.00, 9, -999.00, -999.00, 9, -999.00
49NZ20071008, P01, P01_50, 1, 7, X12044, 9, 20071017, 1336, 46.9858, 169.5738, 2401,    470.1, 2,   3.3935, 2,  34.1922, 2, -999.0000, 9,     17.1, 2,   -999.0, 9,  -999.00, 9,  -999.00, 9,  -999.00, 9,  -999.00, 9, -999.000, 9, -999.000, 9, -999.000, 9, -999.000, 9,   -999.0, 9,   -999.0, 9, -999.0000,   -999.00,   -999.0, 9,   -999.0,  -999.00, 9,   -999.0,   3.3623, 27.2066,   3.3936, 2, 9, -999.00, -999.00, -999.00, -999.000,  -999.00, 9, -999.00, -999.00, 9, -999.00
49NZ20071008, P01, P01_50, 1, 6, X12048, 9, 20071017, 1336, 46.9858, 169.5738, 2401,    569.9, 2,   3.2579, 2,  34.2534, 2, -999.0000, 9,     15.7, 2,   -999.0, 9,  -999.00, 9,  -999.00, 9,  -999.00, 9,  -999.00, 9, -999.000, 9, -999.000, 9, -999.000, 9, -999.000, 9,   -999.0, 9,   -999.0, 9, -999.0000,   -999.00,   -999.0, 9,   -999.0,  -999.00, 9,   -999.0,   3.2202, 27.2688,   3.2575, 2, 9, -999.00, -999.00, -999.00, -999.000,  -999.00, 9, -999.00, -999.00, 9, -999.00
49NZ20071008, P01, P01_50, 1, 5, X12014, 9, 20071017, 1336, 46.9858, 169.5738, 2401,    671.8, 2,   3.0861, 2,  34.3083, 2, -999.0000, 9,     16.7, 2,   -999.0, 9,  -999.00, 9,  -999.00, 9,  -999.00, 9,  -999.00, 9, -999.000, 9, -999.000, 9, -999.000, 9, -999.000, 9,   -999.0, 9,   -999.0, 9, -999.0000,   -999.00,   -999.0, 9,   -999.0,  -999.00, 9,   -999.0,   3.0420, 27.3291,   3.0857, 2, 9, -999.00, -999.00, -999.00, -999.000,  -999.00, 9, -999.00, -999.00, 9, -999.00
49NZ20071008, P01, P01_50, 1, 4, X12006, 9, 20071017, 1336, 46.9858, 169.5738, 2401,    769.2, 2,   2.9475, 2,  34.3460, 2, -999.0000, 9,     17.5, 2,   -999.0, 9,  -999.00, 9,  -999.00, 9,  -999.00, 9,  -999.00, 9, -999.000, 9, -999.000, 9, -999.000, 9, -999.000, 9,   -999.0, 9,   -999.0, 9, -999.0000,   -999.00,   -999.0, 9,   -999.0,  -999.00, 9,   -999.0,   2.8972, 27.3723,   2.9471, 2, 9, -999.00, -999.00, -999.00, -999.000,  -999.00, 9, -999.00, -999.00, 9, -999.00
49NZ20071008, P01, P01_50, 1, 3, X12013, 9, 20071017, 1336, 46.9858, 169.5738, 2401,    869.6, 2,   2.7937, 2,  34.3852, 2, -999.0000, 9,     19.4, 2,   -999.0, 9,  -999.00, 9,  -999.00, 9,  -999.00, 9,  -999.00, 9, -999.000, 9, -999.000, 9, -999.000, 9, -999.000, 9,   -999.0, 9,   -999.0, 9, -999.0000,   -999.00,   -999.0, 9,   -999.0,  -999.00, 9,   -999.0,   2.7371, 27.4178,   2.7936, 2, 9, -999.00, -999.00, -999.00, -999.000,  -999.00, 9, -999.00, -999.00, 9, -999.00
49NZ20071008, P01, P01_50, 1, 2, X12002, 9, 20071017, 1336, 46.9858, 169.5738, 2401,    969.5, 2,   2.6378, 2,  34.4217, 2, -999.0000, 9,     22.4, 2,   -999.0, 9,  -999.00, 9,  -999.00, 9,  -999.00, 9,  -999.00, 9, -999.000, 9, -999.000, 9, -999.000, 9, -999.000, 9,   -999.0, 9,   -999.0, 9, -999.0000,   -999.00,   -999.0, 9,   -999.0,  -999.00, 9,   -999.0,   2.5751, 27.4610,   2.6372, 2, 9, -999.00, -999.00, -999.00, -999.000,  -999.00, 9, -999.00, -999.00, 9, -999.00
49NZ20071008, P01, P01_50, 1, 1, X12001, 2, 20071017, 1336, 46.9858, 169.5738, 2401,   2401.2, 2,   1.6031, 2,  34.6444, 2,  34.6450, 6,    106.8, 2,    106.7, 2,   162.15, 2,    39.17, 2,     0.00, 2,     2.77, 2,    0.000, 2,    0.001, 2,    0.000, 2, -999.000, 9,   2357.1, 2,   2418.2, 2,    7.5127,     25.00,   -999.0, 9,   -999.0,  -999.00, 9,   -999.0,   1.4389, 27.7292,   1.6028, 2, 2, 0.48, 0.14, 0.01, 0.017,  -999.00, 9, -999.00, -999.00, 9, -999.00