BOTTLE,20221005CCHSIOAMB
EXPOCODE,SECT_ID,STNNBR,CASTNO,SAMPNO,BTLNBR,BTLNBR_FLAG_W,DATE,TIME,LATITUDE,LONGITUDE,DEPTH,CTDPRS,CTDPRS_FLAG_W,CTDTMP,CTDTMP_FLAG_W,CTDSAL,CTDSAL_FLAG_W,SALNTY,SALNTY_FLAG_W,CTDOXY,CTDOXY_FLAG_W,OXYGEN,OXYGEN_FLAG_W,SILCAT,SILCAT_FLAG_W,NITRAT,NITRAT_FLAG_W,NITRIT,NITRIT_FLAG_W,PHSPHT,PHSPHT_FLAG_W,CFC-11,CFC-11_FLAG_W,CFC-12,CFC-12_FLAG_W,CFC113,CFC113_FLAG_W,CCL4,CCL4_FLAG_W,TCARBN,TCARBN_FLAG_W,ALKALI,ALKALI_FLAG_W,PH_TOT,PH_TMP,DELC14,DELC14_FLAG_W,C14ERR,DELC13,DELC13_FLAG_W,C13ERR,THETA,SIG0,SBE35,SBE35_FLAG_W,PH_TOT_FLAG_W,SILUNC,NRAUNC,NRIUNC,PHPUNC,CS-137,CS-137_FLAG_W,CS137ER,PLUTO,PLUTO_FLAG_W,PLUTOER
,,,,,,,,,,,METERS,DBAR,,ITS-90,,PSS-78,,PSS-78,,UMOL/KG,,UMOL/KG,,UMOL/KG,,UMOL/KG,,UMOL/KG,,UMOL/KG,,PMOL/KG,,PMOL/KG,,PMOL/KG,,PMOL/KG,,UMOL/KG,,UMOL/KG,,,DEG C,/MILLE,,/MILLE,/MILLE,,/MILLE,DEG C,KG/M^3,ITS-90,,,UMOL/KG,UMOL/KG,UMOL/KG,UMOL/KG,DM/.1MG,,BQ/M^3,MBQ/M^3,,MBQ/M^3
49NZ20071008, P14N, 73, 1, 36, X12042, 2, 20071109, 0947, 25.9938, 178.9975, 5525,     10.4, 2,  26.4516, 2,  35.2067, 2,  35.2063, 2,    205.2, 2,    205.1, 2,     1.11, 2,     0.04, 2,     0.00, 2,     0.05, 2,    1.622, 2,    1.011, 2,    0.425, 4, -999.000, 9,   1977.1, 2,   2313.7, 2,    8.1080,     25.00,   -999.0, 9,   -999.0,  -999.00, 9,   -999.0,  26.4493, 23.0484,  26.4510, 2, 6, 0.12, 0.03, 0.01, 0.034,  -999.00, 9, -999.00, -999.00, 9, -999.00
49NZ20071008, P14N, 73, 1, 35, X12041, 2, 20071109, 0947, 25.9938, 178.9975, 5525,     49.8, 2,  26.4156, 2,  35.1988, 2,  35.2014, 2,    205.9, 2,    205.3, 2,     1.08, 2,     0.04, 2,     0.01, 2,     0.04, 2,    1.611, 2,    1.003, 2,    0.431, 4, -999.000, 9,   1979.5, 6,   2313.8, 2,    8.1089,     25.00,   -999.0, 9,   -999.0,  -999.00, 9,   -999.0,  26.4044, 23.0565,  26.4141, 2, 2, 0.12, 0.03, 0.01, 0.039,  -999.00, 9, -999.00, -999.00, 9, -999.00
49NZ20071008, P14N, 73, 1, 34, X12016, 2, 20071109, 0947, 25.9938, 178.9975, 5525,     99.7, 2,  20.6910, 2,  34.9907, 2,  34.9884, 2,    220.1, 2,    225.9, 2,     1.94, 2,     0.04, 2,     0.01, 2,     0.07, 2,    2.194, 2,    1.321, 2,    1.167, 4, -999.000, 9,   2010.3, 2,   2300.5, 6,    8.0369,     25.00,   -999.0, 9,   -999.0,  -999.00, 9,   -999.0,  20.6721, 24.5756,  20.6938, 2, 2, 0.12, 0.03, 0.01, 0.028,  -999.00, 9, -999.00, -999.00, 9, -999.00
49NZ20071008, P14N, 73, 1, 33, X12033, 2, 20071109, 0947, 25.9938, 178.9975, 5525,    150.9, 2,  17.8368, 2,  34.7908, 2,  34.7884, 2,    199.8, 2,    201.8, 2,     3.37, 2,     3.33, 2,     0.03, 2,     0.30, 2,    2.414, 6,    1.417, 6,    0.140, 6, -999.000, 9,   2040.8, 2,   2286.4, 2,    7.9629,     25.00,   -999.0, 9,   -999.0,  -999.00, 9,   -999.0,  17.8111, 25.1582,  17.8387, 2, 2, 0.13, 0.04, 0.01, 0.014,  -999.00, 9, -999.00, -999.00, 9, -999.00
49NZ20071008, P14N, 73, 1, 32, X12038, 2, 20071109, 0947, 25.9938, 178.9975, 5525,    198.9, 2,  16.4213, 2,  34.6867, 2,  34.6812, 2,    198.3, 2,    199.9, 2,     5.19, 2,     6.06, 2,     0.01, 2,     0.47, 2,    2.568, 2,    1.482, 2,    0.064, 2, -999.000, 9,   2051.7, 2,   2280.8, 2,    7.9310,     25.00,   -999.0, 9,   -999.0,  -999.00, 9,   -999.0,  16.3893, 25.4170,  16.4225, 2, 2, 0.13, 0.05, 0.01, 0.013,  -999.00, 9, -999.00, -999.00, 9, -999.00
49NZ20071008, P14N, 73, 1, 31, X12003, 2, 20071109, 0947, 25.9938, 178.9975, 5525,    248.8, 2,  15.0079, 2,  34.5737, 2,  34.5712, 6,    201.6, 2,    201.9, 2,     7.34, 2,     7.92, 2,     0.01, 2,     0.60, 2, -999.000, 5, -999.000, 5, -999.000, 5, -999.000, 9,   2063.9, 2,   2276.5, 2,    7.9009,     25.00,   -999.0, 9,   -999.0,  -999.00, 9,   -999.0,  14.9703, 25.6497,  15.0088, 2, 2, 0.14, 0.05, 0.01, 0.013,  -999.00, 9, -999.00, -999.00, 9, -999.00
49NZ20071008, P14N, 73, 1, 30, X12008, 2, 20071109, 0947, 25.9938, 178.9975, 5525,    300.3, 2,  13.4973, 2,  34.4557, 2,  34.4540, 2,    205.9, 2,    205.0, 2,    10.37, 2,    10.10, 2,     0.01, 2,     0.75, 2,    2.820, 2,    1.556, 2,    0.066, 2, -999.000, 9,   2077.6, 2,   2271.9, 2,    7.8660,     25.00,   -999.0, 9,   -999.0,  -999.00, 9,   -999.0,  13.4550, 25.8792,  13.4934, 2, 2, 0.14, 0.06, 0.01, 0.013,  -999.00, 9, -999.00, -999.00, 9, -999.00
49NZ20071008, P14N, 73, 1, 29, X12035, 2, 20071109, 0947, 25.9938, 178.9975, 5525,    400.6, 2,  11.0990, 2,  34.2757, 2,  34.2749, 2,    203.2, 2,    201.4, 2,    17.69, 2,    14.66, 2,     0.01, 2,     1.08, 2,    2.948, 2,    1.581, 2,    0.092, 2, -999.000, 9,   2108.5, 2,   2272.8, 2,    7.7967,     25.00,   -999.0, 9,   -999.0,  -999.00, 9,   -999.0,  11.0493, 26.2026,  11.1004, 2, 2, 0.16, 0.07, 0.01, 0.013,  -999.00, 9, -999.00, -999.00, 9, -999.00
49NZ20071008, P14N, 73, 1, 28, X12034, 2, 20071109, 0947, 25.9938, 178.9975, 5525,    501.2, 2,   8.8317, 2,  34.1258, 2,  34.1257, 6,    173.1, 2,    170.5, 2,    31.22, 2,    21.61, 2,     0.01, 2,     1.57, 2,    2.693, 2,    1.385, 2,    0.095, 2, -999.000, 9,   2159.7, 2,   2274.4, 2,    7.6858,     25.00,   -999.0, 9,   -999.0,  -999.00, 9,   -999.0,   8.7776, 26.4686,   8.8382, 2, 2, 0.19, 0.09, 0.01, 0.014,  -999.00, 9, -999.00, -999.00, 9, -999.00
49NZ20071008, P14N, 73, 1, 27, X12049, 2, 20071109, 0947, 25.9938, 178.9975, 5525,    599.9, 2,   7.0667, 2,  34.0693, 2,  34.0696, 2,    127.4, 2,    130.2, 2,    49.83, 2,    28.74, 2,     0.00, 2,     2.09, 2,    2.013, 2,    1.008, 2,    0.079, 2, -999.000, 9,   2212.1, 2,   2286.7, 2,    7.5717,     25.00,   -999.0, 9,   -999.0,  -999.00, 9,   -999.0,   7.0094, 26.6843,   7.0678, 2, 2, 0.23, 0.11, 0.01, 0.015,  -999.00, 9, -999.00, -999.00, 9, -999.00
49NZ20071008, P14N, 73, 1, 26, X12032, 2, 20071109, 0947, 25.9938, 178.9975, 5525,    699.0, 2,   5.6159, 2,  34.1146, 2,  34.1178, 2,     77.5, 2,     76.4, 2,    73.01, 2,    36.10, 2,     0.00, 2,     2.62, 2,    0.964, 6,    0.474, 6,    0.035, 6, -999.000, 9,   2277.7, 6,   2309.7, 2,    7.4503,     25.00,   -999.0, 9,   -999.0,  -999.00, 9,   -999.0,   5.5563, 26.9078,   5.6162, 2, 2, 0.28, 0.13, 0.01, 0.017,  -999.00, 9, -999.00, -999.00, 9, -999.00
49NZ20071008, P14N, 73, 1, 25, X12043, 2, 20071109, 0947, 25.9938, 178.9975, 5525,    800.5, 2,   4.6430, 2,  34.1963, 2,  34.1976, 2,     51.3, 2,     49.4, 2,    93.10, 2,    39.98, 2,     0.00, 2,     2.89, 2,    0.455, 2,    0.221, 2,    0.020, 2, -999.000, 9,   2319.7, 2,   2332.1, 6,    7.3949,     25.00,   -999.0, 9,   -999.0,  -999.00, 9,   -999.0,   4.5801, 27.0852,   4.6433, 2, 2, 0.32, 0.14, 0.01, 0.017,  -999.00, 9, -999.00, -999.00, 9, -999.00
49NZ20071008, P14N, 73, 1, 24, X12030, 2, 20071109, 0947, 25.9938, 178.9975, 5525,    900.6, 2,   4.0948, 2,  34.2837, 2,  34.2846, 2,     37.3, 2,     36.6, 2,   106.82, 2,    42.06, 2,     0.00, 2,     3.03, 2,    0.187, 2,    0.090, 2,    0.009, 2, -999.000, 9,   2345.8, 2,   2351.6, 2,    7.3743,     25.00,   -999.0, 9,   -999.0,  -999.00, 9,   -999.0,   4.0270, 27.2136,   4.0952, 2, 6, 0.35, 0.15, 0.01, 0.018,  -999.00, 9, -999.00, -999.00, 9, -999.00
49NZ20071008, P14N, 73, 1, 23, X12027, 2, 20071109, 0947, 25.9938, 178.9975, 5525,   1002.1, 2,   3.6983, 2,  34.3736, 2,  34.3741, 6,     35.0, 2,     35.6, 2,   117.29, 2,    42.43, 2,     0.00, 2,     3.06, 2,    0.060, 2,    0.027, 2,    0.000, 2, -999.000, 9,   2355.6, 2,   2368.0, 2,    7.3802,     25.00,   -999.0, 9,   -999.0,  -999.00, 9,   -999.0,   3.6250, 27.3257,   3.6985, 2, 2, 0.38, 0.15, 0.01, 0.018,  -999.00, 9, -999.00, -999.00, 9, -999.00
49NZ20071008, P14N, 73, 1, 22, X12028, 2, 20071109, 0947, 25.9938, 178.9975, 5525,   1201.1, 2,   3.1361, 2,  34.4700, 2,  34.4701, 2,     43.8, 2,     44.1, 2,   130.72, 2,    42.43, 2,     0.00, 2,     3.05, 2,    0.008, 2,    0.003, 2,    0.000, 2, -999.000, 9,   2367.2, 2,   2386.4, 2,    7.4017,     25.00,   -999.0, 9,   -999.0,  -999.00, 9,   -999.0,   3.0515, 27.4573,   3.1361, 2, 2, 0.41, 0.15, 0.01, 0.018,  -999.00, 9, -999.00, -999.00, 9, -999.00
49NZ20071008, P14N, 73, 1, 21, X12009, 2, 20071109, 0947, 25.9938, 178.9975, 5525,   1400.0, 2,   2.7704, 2,  34.5242, 2,  34.5245, 2,     55.8, 2,     56.3, 2,   138.07, 2,    41.87, 2,     0.00, 2,     3.00, 2,    0.000, 2,    0.000, 2,    0.000, 2, -999.000, 9,   2368.9, 2,   2396.8, 2,    7.4260,     25.00,   -999.0, 9,   -999.0,  -999.00, 9,   -999.0,   2.6734, 27.5345,   2.7706, 2, 2, 0.42, 0.15, 0.01, 0.017,  -999.00, 9, -999.00, -999.00, 9, -999.00
49NZ20071008, P14N, 73, 1, 20, X12026, 2, 20071109, 0947, 25.9938, 178.9975, 5525,   1600.4, 2,   2.4120, 2,  34.5639, 2,  34.5645, 2,     67.8, 2,     68.6, 2,   145.36, 2,    41.29, 2,     0.00, 2,     2.94, 2,    0.000, 2,    0.000, 2,    0.000, 2, -999.000, 9,   2367.9, 3,   2403.0, 2,    7.4487,     25.00,   -999.0, 9,   -999.0,  -999.00, 9,   -999.0,   2.3030, 27.5978,   2.4120, 2, 6, 0.44, 0.15, 0.01, 0.017,  -999.00, 9, -999.00, -999.00, 9, -999.00
49NZ20071008, P14N, 73, 1, 19, X12025, 2, 20071109, 0947, 25.9938, 178.9975, 5525,   1799.1, 2,   2.1561, 2,  34.5922, 2,  34.5930, 2,     79.9, 2,     80.3, 2,   149.78, 2,    40.58, 2,     0.00, 2,     2.87, 2,    0.000, 2,    0.000, 2,    0.000, 2, -999.000, 9,   2369.1, 2,   2409.3, 2,    7.4692,     25.00,   -999.0, 9,   -999.0,  -999.00, 9,   -999.0,   2.0342, 27.6423,   2.1563, 2, 2, 0.45, 0.15, 0.01, 0.017,  -999.00, 9, -999.00, -999.00, 9, -999.00
49NZ20071008, P14N, 73, 1, 18, X12024, 2, 20071109, 0947, 25.9938, 178.9975, 5525,   2000.1, 2,   1.9447, 2,  34.6163, 2,  34.6165, 2,     91.4, 2,     92.6, 2,   152.34, 2,    39.96, 2,     0.00, 2,     2.82, 2,    0.000, 2,    0.000, 2,    0.000, 2, -999.000, 9,   2364.1, 2,   2414.9, 2,    7.4907,     25.00,   -999.0, 9,   -999.0,  -999.00, 9,   -999.0,   1.8091, 27.6791,   1.9445, 2, 2, 0.45, 0.14, 0.01, 0.017,  -999.00, 9, -999.00, -999.00, 9, -999.00
49NZ20071008, P14N, 73, 1, 17, X12023, 2, 20071109, 0947, 25.9938, 178.9975, 5525,   2199.2, 2,   1.8130, 2,  34.6318, 2,  34.6324, 2,    102.4, 2,    102.4, 2,   153.00, 2,    39.42, 2,     0.00, 2,     2.77, 2,    0.000, 2,    0.000, 2,    0.000, 2, -999.000, 9,   2359.2, 2,   2417.0, 2,    7.5084,     25.00,   -999.0, 9,   -999.0,  -999.00, 9,   -999.0,   1.6627, 27.7027,   1.8128, 2, 2, 0.46, 0.14, 0.01, 0.017,  -999.00, 9, -999.00, -999.00, 9, -999.00
49NZ20071008, P14N, 73, 1, 16, X12022, 2, 20071109, 0947, 25.9938, 178.9975, 5525,   2400.7, 2,   1.7071, 2,  34.6445, 2,  34.6448, 6,    110.8, 2,    111.4, 2,   153.38, 2,    38.83, 2,     0.00, 2,     2.72, 2,    0.000, 2,    0.000, 2,    0.000, 2, -999.000, 9,   2357.1, 6,   2418.1, 2,    7.5246,     25.00,   -999.0, 9,   -999.0,  -999.00, 9,   -999.0,   1.5411, 27.7219,   1.7072, 2, 2, 0.46, 0.14, 0.01, 0.017,  -999.00, 9, -999.00, -999.00, 9, -999.00
49NZ20071008, P14N, 73, 1, 15, X12021, 2, 20071109, 0947, 25.9938, 178.9975, 5525,   2599.7, 2,   1.6416, 2,  34.6530, 2,  34.6534, 2,    117.1, 2,    118.3, 2,   153.34, 2,    38.41, 2,     0.00, 2,     2.69, 2,    0.000, 2,    0.000, 2,    0.000, 2, -999.000, 9,   2353.4, 2,   2419.1, 6,    7.5360,     25.00,   -999.0, 9,   -999.0,  -999.00, 9,   -999.0,   1.4591, 27.7346,   1.6413, 2, 2, 0.46, 0.14, 0.01, 0.017,  -999.00, 9, -999.00, -999.00, 9, -999.00
49NZ20071008, P14N, 73, 1, 14, X12020, 2, 20071109, 0947, 25.9938, 178.9975, 5525,   2801.1, 2,   1.5878, 2,  34.6601, 2,  34.6603, 2,    122.8, 2,    124.4, 2,   152.76, 2,    37.98, 2,     0.00, 2,     2.66, 2,    0.000, 2,    0.000, 2,    0.000, 2, -999.000, 9,   2349.9, 2,   2420.1, 2,    7.5469,     25.00,   -999.0, 9,   -999.0,  -999.00, 9,   -999.0,   1.3879, 27.7455,   1.5877, 2, 6, 0.46, 0.14, 0.01, 0.017,  -999.00, 9, -999.00, -999.00, 9, -999.00
49NZ20071008, P14N, 73, 1, 13, X12019, 2, 20071109, 0947, 25.9938, 178.9975, 5525,   3000.5, 2,   1.5506, 2,  34.6657, 2,  34.6663, 2,    128.9, 2,    129.9, 2,   152.00, 2,    37.60, 2,     0.00, 2,     2.64, 2,    0.000, 2,    0.000, 2,    0.000, 2, -999.000, 9,   2345.8, 2,   2420.3, 2,    7.5562,     25.00,   -999.0, 9,   -999.0,  -999.00, 9,   -999.0,   1.3327, 27.7539,   1.5504, 2, 2, 0.45, 0.14, 0.01, 0.017,  -999.00, 9, -999.00, -999.00, 9, -999.00
49NZ20071008, P14N, 73, 1, 12, X12040, 2, 20071109, 0947, 25.9938, 178.9975, 5525,   3251.3, 2,   1.5006, 2,  34.6731, 2,  34.6735, 2,    136.6, 2,    137.4, 2,   150.03, 2,    36.96, 2,     0.00, 2,     2.59, 2, -999.000, 9, -999.000, 9, -999.000, 9, -999.000, 9,   2339.1, 2,   2420.1, 2,    7.5683,     25.00,   -999.0, 9,   -999.0,  -999.00, 9,   -999.0,   1.2595, 27.7650,   1.5005, 2, 2, 0.45, 0.14, 0.01, 0.016,  -999.00, 9, -999.00, -999.00, 9, -999.00
49NZ20071008, P14N, 73, 1, 11, X12047, 2, 20071109, 0947, 25.9938, 178.9975, 5525,   3502.3, 2,   1.4719, 2,  34.6784, 2,  34.6785, 2,    143.2, 2,    143.7, 2,   148.31, 2,    36.70, 2,     0.00, 2,     2.55, 2, -999.000, 9, -999.000, 9, -999.000, 9, -999.000, 9,   2334.3, 2,   2419.5, 2,    7.5781,     25.00,   -999.0, 9,   -999.0,  -999.00, 9,   -999.0,   1.2063, 27.7729,   1.4719, 2, 2, 0.45, 0.14, 0.01, 0.016,  -999.00, 9, -999.00, -999.00, 9, -999.00
49NZ20071008, P14N, 73, 1, 10, X12017, 2, 20071109, 0947, 25.9938, 178.9975, 5525,   3750.6, 2,   1.4589, 2,  34.6819, 2,  34.6818, 2,    148.0, 2,    148.2, 2,   146.89, 2,    36.35, 2,     0.00, 2,     2.53, 2,    0.000, 2,    0.000, 2,    0.000, 2, -999.000, 9,   2332.9, 2,   2418.7, 2,    7.5849,     25.00,   -999.0, 9,   -999.0,  -999.00, 9,   -999.0,   1.1678, 27.7784,   1.4587, 2, 2, 0.44, 0.13, 0.01, 0.016,  -999.00, 9, -999.00, -999.00, 9, -999.00
49NZ20071008, P14N, 73, 1, 9, X12015, 2, 20071109, 0947, 25.9938, 178.9975, 5525,   4001.2, 2,   1.4483, 2,  34.6852, 2,  34.6852, 6,    152.5, 2,    152.7, 2,   145.36, 2,    36.02, 2,     0.00, 2,     2.51, 2, -999.000, 9, -999.000, 9, -999.000, 9, -999.000, 9,   2327.7, 2,   2419.3, 2,    7.5909,     25.00,   -999.0, 9,   -999.0,  -999.00, 9,   -999.0,   1.1307, 27.7836,   1.4482, 2, 2, 0.44, 0.13, 0.01, 0.016,  -999.00, 9, -999.00, -999.00, 9, -999.00
49NZ20071008, P14N, 73, 1, 8, X12046, 2, 20071109, 0947, 25.9938, 178.9975, 5525,   4251.6, 2,   1.4419, 2,  34.6883, 2,  34.6884, 2,    156.9, 2,    157.5, 2,   142.81, 2,    35.57, 2,     0.00, 2,     2.48, 2, -999.000, 9, -999.000, 9, -999.000, 9, -999.000, 9,   2324.9, 6,   2415.3, 2,    7.5974,     25.00,   -999.0, 9,   -999.0,  -999.00, 9,   -999.0,   1.0969, 27.7884,   1.4419, 2, 2, 0.43, 0.13, 0.01, 0.016,  -999.00, 9, -999.00, -999.00, 9, -999.00
49NZ20071008, P14N, 73, 1, 7, X12044, 2, 20071109, 0947, 25.9938, 178.9975, 5525,   4499.8, 2,   1.4403, 2,  34.6907, 2,  34.6907, 2,    161.8, 2,    162.1, 2,   139.95, 2,    35.36, 2,     0.00, 2,     2.46, 2,    0.000, 2,    0.000, 2,    0.000, 2, -999.000, 9,   2318.7, 2,   2412.3, 6,    7.6028,     25.00,   -999.0, 9,   -999.0,  -999.00, 9,   -999.0,   1.0672, 27.7923,   1.4401, 2, 2, 0.43, 0.13, 0.01, 0.016,  -999.00, 9, -999.00, -999.00, 9, -999.00
49NZ20071008, P14N, 73, 1, 6, X12048, 2, 20071109, 0947, 25.9938, 178.9975, 5525,   4752.3, 2,   1.4471, 2,  34.6927, 2,  34.6927, 2,    166.3, 2,    165.9, 2,   137.36, 2,    35.06, 2,     0.00, 2,     2.44, 2, -999.000, 9, -999.000, 9, -999.000, 9, -999.000, 9,   2315.0, 2,   2409.5, 2,    7.6070,     25.00,   -999.0, 9,   -999.0,  -999.00, 9,   -999.0,   1.0443, 27.7955,   1.4469, 2, 6, 0.42, 0.13, 0.01, 0.016,  -999.00, 9, -999.00, -999.00, 9, -999.00
49NZ20071008, P14N, 73, 1, 5, X12014, 2, 20071109, 0947, 25.9938, 178.9975, 5525,   5001.0, 2,   1.4491, 2,  34.6951, 2,  34.6950, 2,    170.4, 2,    170.3, 2,   134.45, 2,    34.74, 2,     0.00, 2,     2.41, 2, -999.000, 9, -999.000, 9, -999.000, 9, -999.000, 9,   2309.7, 2,   2407.0, 2,    7.6116,     25.00,   -999.0, 9,   -999.0,  -999.00, 9,   -999.0,   1.0164, 27.7992,   1.4490, 2, 2, 0.41, 0.13, 0.01, 0.016,  -999.00, 9, -999.00, -999.00, 9, -999.00
49NZ20071008, P14N, 73, 1, 4, X12006, 2, 20071109, 0947, 25.9938, 178.9975, 5525,   5248.6, 2,   1.4639, 2,  34.6965, 2,  34.6965, 2,    173.1, 2,    172.9, 2,   132.58, 2,    34.62, 2,     0.00, 2,     2.40, 2,    0.000, 2,    0.001, 2,    0.000, 2, -999.000, 9,   2304.8, 2,   2404.4, 2,    7.6141,     25.00,   -999.0, 9,   -999.0,  -999.00, 9,   -999.0,   1.0003, 27.8014,   1.4639, 2, 2, 0.41, 0.13, 0.01, 0.016,  -999.00, 9, -999.00, -999.00, 9, -999.00
49NZ20071008, P14N, 73, 1, 3, X12013, 2, 20071109, 0947, 25.9938, 178.9975, 5525,   5500.3, 2,   1.4855, 2,  34.6973, 2,  34.6976, 2,    175.3, 2,    174.9, 2,   131.41, 2,    34.42, 2,     0.00, 2,     2.39, 2, -999.000, 9, -999.000, 9, -999.000, 9, -999.000, 9,   2303.4, 2,   2402.6, 2,    7.6160,     25.00,   -999.0, 9,   -999.0,  -999.00, 9,   -999.0,   0.9894, 27.8028,   1.4855, 2, 2, 0.41, 0.13, 0.01, 0.016,  -999.00, 9, -999.00, -999.00, 9, -999.00
49NZ20071008, P14N, 73, 1, 2, X12002, 9, 20071109, 0947, 25.9938, 178.9975, 5525,     10.4, 2,  26.4538, 2,  35.2051, 2, -999.0000, 9,    204.9, 2,   -999.0, 9,  -999.00, 9,  -999.00, 9,  -999.00, 9,  -999.00, 9, -999.000, 9, -999.000, 9, -999.000, 9, -999.000, 9,   -999.0, 9,   -999.0, 9, -999.0000,   -999.00,   -999.0, 9,   -999.0,  -999.00, 9,   -999.0,  26.4515, 23.0465,  26.4526, 2, 9, -999.00, -999.00, -999.00, -999.000,  -999.00, 9, -999.00, -999.00, 9, -999.00
49NZ20071008, P14N, 73, 1, 1, X12001, 2, 20071109, 0947, 25.9938, 178.9975, 5525,   5591.9, 2,   1.4952, 2,  34.6974, 2,  34.6975, 6,    175.6, 2,    175.2, 2,   131.19, 2,    34.41, 2,     0.00, 2,     2.39, 2,    0.000, 2,    0.000, 2,    0.000, 2, -999.000, 9,   2303.9, 2,   2402.8, 2,    7.6161,     25.00,   -999.0, 9,   -999.0,  -999.00, 9,   -999.0,   0.9870, 27.8031,   1.4951, 2, 2, 0.41, 0.13, 0.01, 0.016,  -999.00, 9, -999.00, -999.00, 9, -999.00