BOTTLE,20221005CCHSIOAMB
EXPOCODE,SECT_ID,STNNBR,CASTNO,SAMPNO,BTLNBR,BTLNBR_FLAG_W,DATE,TIME,LATITUDE,LONGITUDE,DEPTH,CTDPRS,CTDPRS_FLAG_W,CTDTMP,CTDTMP_FLAG_W,CTDSAL,CTDSAL_FLAG_W,SALNTY,SALNTY_FLAG_W,CTDOXY,CTDOXY_FLAG_W,OXYGEN,OXYGEN_FLAG_W,SILCAT,SILCAT_FLAG_W,NITRAT,NITRAT_FLAG_W,NITRIT,NITRIT_FLAG_W,PHSPHT,PHSPHT_FLAG_W,CFC-11,CFC-11_FLAG_W,CFC-12,CFC-12_FLAG_W,CFC113,CFC113_FLAG_W,CCL4,CCL4_FLAG_W,TCARBN,TCARBN_FLAG_W,ALKALI,ALKALI_FLAG_W,PH_TOT,PH_TMP,DELC14,DELC14_FLAG_W,C14ERR,DELC13,DELC13_FLAG_W,C13ERR,THETA,SIG0,SBE35,SBE35_FLAG_W,PH_TOT_FLAG_W,SILUNC,NRAUNC,NRIUNC,PHPUNC,CS-137,CS-137_FLAG_W,CS137ER,PLUTO,PLUTO_FLAG_W,PLUTOER
,,,,,,,,,,,METERS,DBAR,,ITS-90,,PSS-78,,PSS-78,,UMOL/KG,,UMOL/KG,,UMOL/KG,,UMOL/KG,,UMOL/KG,,UMOL/KG,,PMOL/KG,,PMOL/KG,,PMOL/KG,,PMOL/KG,,UMOL/KG,,UMOL/KG,,,DEG C,/MILLE,,/MILLE,/MILLE,,/MILLE,DEG C,KG/M^3,ITS-90,,,UMOL/KG,UMOL/KG,UMOL/KG,UMOL/KG,DM/.1MG,,BQ/M^3,MBQ/M^3,,MBQ/M^3
49NZ20071008, P14N, X02, 1, 36, X12042, 2, 20071107, 1013, 29.9938, 178.9457, 4523,      9.9, 2,  25.2766, 2,  34.8183, 2,  34.8192, 2,    210.1, 2,    210.0, 2,     1.85, 2,     0.05, 2,     0.00, 2,     0.06, 2,    1.709, 2,    1.069, 2,    0.411, 4, -999.000, 9,   1970.9, 2,   2289.3, 2,    8.0813,     25.00,   -999.0, 1,   -999.0,  -999.00, 1,   -999.0,  25.2744, 23.1203,  25.2744, 2, 6, 0.12, 0.03, 0.01, 0.029,  -999.00, 9, -999.00, -999.00, 9, -999.00
49NZ20071008, P14N, X02, 1, 35, X12041, 2, 20071107, 1013, 29.9938, 178.9457, 4523,     50.4, 2,  21.9978, 2,  34.7478, 2,  34.7520, 2,    247.0, 2,    247.0, 2,     2.28, 2,     0.06, 2,     0.01, 2,     0.06, 2,    2.209, 2,    1.364, 2,    3.341, 4, -999.000, 9,   1983.9, 6,   2288.3, 2,    8.0542,     25.00,   -999.0, 1,   -999.0,  -999.00, 1,   -999.0,  21.9879, 24.0296,  21.9775, 2, 2, 0.12, 0.03, 0.01, 0.030,  -999.00, 9, -999.00, -999.00, 9, -999.00
49NZ20071008, P14N, X02, 1, 34, X12016, 2, 20071107, 1013, 29.9938, 178.9457, 4523,    100.0, 2,  17.2420, 2,  34.7295, 2,  34.7294, 2,    212.5, 2,    212.8, 2,     3.91, 2,     3.72, 2,     0.07, 2,     0.31, 2,    2.433, 2,    1.449, 2,    0.162, 2, -999.000, 9,   2027.1, 2,   2284.4, 6,    7.9754,     25.00,   -999.0, 1,   -999.0,  -999.00, 1,   -999.0,  17.2254, 25.2529,  17.2356, 2, 2, 0.13, 0.04, 0.01, 0.014,  -999.00, 9, -999.00, -999.00, 9, -999.00
49NZ20071008, P14N, X02, 1, 33, X12033, 2, 20071107, 1013, 29.9938, 178.9457, 4523,    150.3, 2,  16.2133, 2,  34.6533, 2,  34.6526, 2,    214.3, 2,    214.0, 2,     4.98, 2,     5.14, 2,     0.02, 2,     0.41, 2,    2.557, 6,    1.509, 6,    0.154, 6, -999.000, 9,   2039.9, 2,   2280.3, 2,    7.9489,     25.00,   -999.0, 1,   -999.0,  -999.00, 1,   -999.0,  16.1894, 25.4375,  16.2138, 2, 2, 0.13, 0.05, 0.01, 0.013,  -999.00, 9, -999.00, -999.00, 9, -999.00
49NZ20071008, P14N, X02, 1, 32, X12038, 2, 20071107, 1013, 29.9938, 178.9457, 4523,    198.9, 2,  15.0380, 2,  34.5659, 2,  34.5652, 2,    214.3, 2,    212.7, 2,     6.99, 2,     7.00, 2,     0.01, 2,     0.54, 2,    2.698, 2,    1.570, 2,    0.122, 2, -999.000, 9,   2052.5, 2,   2278.5, 2,    7.9178,     25.00,   -999.0, 1,   -999.0,  -999.00, 1,   -999.0,  15.0079, 25.6355,  15.0405, 2, 2, 0.13, 0.05, 0.01, 0.013,  -999.00, 9, -999.00, -999.00, 9, -999.00
49NZ20071008, P14N, X02, 1, 31, X12003, 2, 20071107, 1013, 29.9938, 178.9457, 4523,    250.0, 2,  14.0831, 2,  34.5003, 2,  34.4986, 6,    215.3, 2,    214.5, 2,     8.49, 2,     8.22, 2,     0.01, 2,     0.63, 2,    2.786, 2,    1.594, 2,    0.097, 2, -999.000, 9,   2061.2, 2,   2274.5, 2,    7.8942,     25.00,   -999.0, 1,   -999.0,  -999.00, 1,   -999.0,  14.0469, 25.7911,  14.0859, 2, 2, 0.14, 0.06, 0.01, 0.013,  -999.00, 9, -999.00, -999.00, 9, -999.00
49NZ20071008, P14N, X02, 1, 30, X12008, 2, 20071107, 1013, 29.9938, 178.9457, 4523,    330.4, 2,  12.7243, 2,  34.4220, 2,  34.4172, 2,    215.3, 2,    214.8, 2,    12.88, 2,    10.94, 2,     0.01, 2,     0.81, 2,    2.851, 2,    1.608, 2,    0.119, 2, -999.000, 9,   2079.0, 2,   2275.0, 2,    7.8593,     25.00,   -999.0, 1,   -999.0,  -999.00, 1,   -999.0,  12.6795, 26.0087,  12.7264, 2, 2, 0.15, 0.06, 0.01, 0.013,  -999.00, 9, -999.00, -999.00, 9, -999.00
49NZ20071008, P14N, X02, 1, 29, X12035, 2, 20071107, 1013, 29.9938, 178.9457, 4523,    430.4, 2,  10.4369, 2,  34.2393, 2,  34.2388, 2,    205.3, 2,    204.4, 2,    21.30, 2,    15.87, 2,     0.01, 2,     1.16, 2,    2.982, 2,    1.624, 2,    0.136, 2, -999.000, 9,   2112.5, 2,   2274.6, 2,    7.7827,     25.00,   -999.0, 1,   -999.0,  -999.00, 1,   -999.0,  10.3855, 26.2917,  10.4374, 2, 2, 0.17, 0.08, 0.01, 0.013,  -999.00, 9, -999.00, -999.00, 9, -999.00
49NZ20071008, P14N, X02, 1, 28, X12034, 2, 20071107, 1013, 29.9938, 178.9457, 4523,    531.1, 2,   7.7587, 2,  34.0460, 2,  34.0447, 6,    181.2, 2,    175.9, 2,    37.70, 2,    23.32, 2,     0.01, 2,     1.71, 2,    2.851, 2,    1.484, 2,    0.150, 2, -999.000, 9,   2165.3, 2,   2278.8, 2,    7.6625,     25.00,   -999.0, 1,   -999.0,  -999.00, 1,   -999.0,   7.7055, 26.5677,   7.7596, 2, 2, 0.20, 0.10, 0.01, 0.014,  -999.00, 9, -999.00, -999.00, 9, -999.00
49NZ20071008, P14N, X02, 1, 27, X12049, 2, 20071107, 1013, 29.9938, 178.9457, 4523,    630.9, 2,   6.0619, 2,  34.0139, 2,  34.0139, 2,    134.0, 2,    128.3, 2,    58.86, 2,    30.75, 2,     0.01, 2,     2.24, 2,    2.132, 2,    1.068, 2,    0.107, 2, -999.000, 9,   2224.6, 2,   2293.7, 2,    7.5394,     25.00,   -999.0, 1,   -999.0,  -999.00, 1,   -999.0,   6.0064, 26.7726,   6.0627, 2, 2, 0.25, 0.12, 0.01, 0.016,  -999.00, 9, -999.00, -999.00, 9, -999.00
49NZ20071008, P14N, X02, 1, 26, X12032, 2, 20071107, 1013, 29.9938, 178.9457, 4523,    728.8, 2,   4.9270, 2,  34.0745, 2,  34.0764, 2,     91.8, 2,     80.5, 2,    81.46, 2,    37.01, 2,     0.01, 2,     2.67, 2,    1.240, 6,    0.602, 6,    0.062, 6, -999.000, 9,   2279.7, 6,   2314.6, 2,    7.4368,     25.00,   -999.0, 1,   -999.0,  -999.00, 1,   -999.0,   4.8686, 26.9564,   4.9274, 2, 2, 0.30, 0.14, 0.01, 0.017,  -999.00, 9, -999.00, -999.00, 9, -999.00
49NZ20071008, P14N, X02, 1, 25, X12043, 2, 20071107, 1013, 29.9938, 178.9457, 4523,    831.1, 2,   4.3236, 2,  34.1626, 2,  34.1642, 2,     56.7, 2,     54.0, 2,    97.97, 2,    40.03, 2,     0.01, 2,     2.89, 2,    0.697, 2,    0.333, 2,    0.034, 2, -999.000, 9,   2314.2, 2,   2332.9, 6,    7.3899,     25.00,   -999.0, 1,   -999.0,  -999.00, 1,   -999.0,   4.2602, 27.0929,   4.3241, 2, 2, 0.33, 0.14, 0.01, 0.017,  -999.00, 9, -999.00, -999.00, 9, -999.00
49NZ20071008, P14N, X02, 1, 24, X12030, 2, 20071107, 1013, 29.9938, 178.9457, 4523,    930.4, 2,   3.9115, 2,  34.2386, 2,  34.2445, 2,     39.8, 2,     37.5, 2,   111.20, 2,    41.94, 2,     0.00, 2,     3.01, 2,    0.346, 2,    0.167, 2,    0.018, 2, -999.000, 9,   2338.9, 2,   2349.2, 2,    7.3642,     25.00,   -999.0, 1,   -999.0,  -999.00, 1,   -999.0,   3.8426, 27.1965,   3.9131, 2, 6, 0.36, 0.15, 0.01, 0.017,  -999.00, 9, -999.00, -999.00, 9, -999.00
49NZ20071008, P14N, X02, 1, 23, X12027, 2, 20071107, 1013, 29.9938, 178.9457, 4523,   1070.5, 2,   3.4644, 2,  34.3324, 2,  34.3357, 6,     28.0, 2,     27.2, 2,   124.90, 2,    43.26, 2,     0.01, 2,     3.10, 2,    0.121, 2,    0.058, 2,    0.012, 2, -999.000, 9,   2360.8, 2,   2367.7, 2,    7.3532,     25.00,   -999.0, 1,   -999.0,  -999.00, 1,   -999.0,   3.3876, 27.3160,   3.4643, 2, 2, 0.39, 0.15, 0.01, 0.018,  -999.00, 9, -999.00, -999.00, 9, -999.00
49NZ20071008, P14N, X02, 1, 22, X12028, 2, 20071107, 1013, 29.9938, 178.9457, 4523,   1270.1, 2,   2.8946, 2,  34.4542, 2,  34.4542, 2,     28.3, 2,     29.5, 2,   141.03, 2,    43.83, 2,     0.00, 2,     3.13, 2,    0.017, 2,    0.009, 2,    0.000, 2, -999.000, 9,   2378.4, 2,   2390.4, 2,    7.3682,     25.00,   -999.0, 1,   -999.0,  -999.00, 1,   -999.0,   2.8068, 27.4668,   2.8945, 2, 2, 0.43, 0.16, 0.01, 0.018,  -999.00, 9, -999.00, -999.00, 9, -999.00
49NZ20071008, P14N, X02, 1, 21, X12009, 2, 20071107, 1013, 29.9938, 178.9457, 4523,   1470.9, 2,   2.5702, 2,  34.5152, 2,  34.5162, 2,     37.6, 2,     38.9, 2,   149.43, 2,    43.49, 2,     0.00, 2,     3.08, 2,    0.001, 4,    0.001, 4,    0.000, 4, -999.000, 9,   2383.9, 2,   2402.6, 2,    7.3902,     25.00,   -999.0, 1,   -999.0,  -999.00, 1,   -999.0,   2.4698, 27.5448,   2.5703, 2, 2, 0.45, 0.15, 0.01, 0.018,  -999.00, 9, -999.00, -999.00, 9, -999.00
49NZ20071008, P14N, X02, 1, 20, X12026, 2, 20071107, 1013, 29.9938, 178.9457, 4523,   1673.1, 2,   2.2410, 2,  34.5653, 2,  34.5655, 2,     54.3, 2,     56.6, 2,   155.37, 2,    42.40, 2,     0.00, 2,     3.00, 2,    0.000, 2,    0.000, 2,    0.000, 2, -999.000, 9,   2377.9, 2,   2409.9, 2,    7.4242,     25.00,   -999.0, 1,   -999.0,  -999.00, 1,   -999.0,   2.1282, 27.6131,   2.2410, 2, 6, 0.46, 0.15, 0.01, 0.017,  -999.00, 9, -999.00, -999.00, 9, -999.00
49NZ20071008, P14N, X02, 1, 19, X12025, 2, 20071107, 1013, 29.9938, 178.9457, 4523,   1871.9, 2,   2.0374, 2,  34.5928, 2,  34.5928, 2,     69.8, 2,     69.6, 2,   158.41, 2,    41.55, 2,     0.00, 2,     2.94, 2,    0.000, 2,    0.000, 2,    0.000, 2, -999.000, 9,   2373.8, 2,   2414.9, 2,    7.4482,     25.00,   -999.0, 1,   -999.0,  -999.00, 1,   -999.0,   1.9112, 27.6524,   2.0374, 2, 2, 0.47, 0.15, 0.01, 0.017,  -999.00, 9, -999.00, -999.00, 9, -999.00
49NZ20071008, P14N, X02, 1, 18, X12024, 2, 20071107, 1013, 29.9938, 178.9457, 4523,   2069.2, 2,   1.8820, 2,  34.6144, 2,  34.6144, 2,     80.3, 2,     83.2, 2,   159.53, 2,    40.71, 2,     0.00, 2,     2.87, 2,    0.000, 2,    0.000, 2,    0.000, 2, -999.000, 9,   2368.4, 2,   2417.1, 2,    7.4733,     25.00,   -999.0, 1,   -999.0,  -999.00, 1,   -999.0,   1.7416, 27.6827,   1.8819, 2, 2, 0.47, 0.15, 0.01, 0.017,  -999.00, 9, -999.00, -999.00, 9, -999.00
49NZ20071008, P14N, X02, 1, 17, X12023, 2, 20071107, 1013, 29.9938, 178.9457, 4523,   2269.2, 2,   1.7620, 2,  34.6302, 2,  34.6301, 6,     94.1, 2,     94.3, 2,   160.06, 2,    39.99, 2,     0.00, 2,     2.82, 2,    0.003, 2,    0.000, 2,    0.000, 2, -999.000, 9,   2364.7, 2,   2420.3, 2,    7.4933,     25.00,   -999.0, 1,   -999.0,  -999.00, 1,   -999.0,   1.6065, 27.7056,   1.7619, 2, 2, 0.47, 0.14, 0.01, 0.017,  -999.00, 9, -999.00, -999.00, 9, -999.00
49NZ20071008, P14N, X02, 1, 16, X12022, 2, 20071107, 1013, 29.9938, 178.9457, 4523,   2470.2, 2,   1.6673, 2,  34.6427, 2,  34.6427, 2,    103.4, 2,    103.6, 2,   160.55, 2,    39.34, 2,     0.00, 2,     2.78, 2,    0.004, 2,    0.002, 2,    0.000, 2, -999.000, 9,   2359.1, 6,   2421.3, 2,    7.5124,     25.00,   -999.0, 1,   -999.0,  -999.00, 1,   -999.0,   1.4959, 27.7237,   1.6673, 2, 2, 0.47, 0.14, 0.01, 0.017,  -999.00, 9, -999.00, -999.00, 9, -999.00
49NZ20071008, P14N, X02, 1, 15, X12021, 2, 20071107, 1013, 29.9938, 178.9457, 4523,   2670.7, 2,   1.6007, 2,  34.6527, 2,  34.6530, 2,    113.4, 2,    113.5, 2,   158.87, 2,    38.79, 2,     0.00, 2,     2.73, 2,    0.011, 2,    0.004, 2,    0.000, 2, -999.000, 9,   2354.8, 2,   2421.4, 6,    7.5279,     25.00,   -999.0, 1,   -999.0,  -999.00, 1,   -999.0,   1.4126, 27.7378,   1.6005, 2, 2, 0.47, 0.14, 0.01, 0.017,  -999.00, 9, -999.00, -999.00, 9, -999.00
49NZ20071008, P14N, X02, 1, 14, X12020, 2, 20071107, 1013, 29.9938, 178.9457, 4523,   2869.4, 2,   1.5536, 2,  34.6607, 2,  34.6607, 2,    121.4, 2,    121.7, 2,   156.98, 2,    38.17, 2,     0.00, 2,     2.68, 2,    0.016, 2,    0.009, 2,    0.000, 2, -999.000, 9,   2346.9, 2,   2422.0, 2,    7.5423,     25.00,   -999.0, 1,   -999.0,  -999.00, 1,   -999.0,   1.3480, 27.7488,   1.5536, 2, 2, 0.46, 0.14, 0.01, 0.017,  -999.00, 9, -999.00, -999.00, 9, -999.00
49NZ20071008, P14N, X02, 1, 13, X12019, 2, 20071107, 1013, 29.9938, 178.9457, 4523,   3079.0, 2,   1.5073, 2,  34.6679, 2,  34.6679, 2,    129.1, 2,    129.3, 2,   155.65, 2,    37.67, 2,     0.00, 2,     2.64, 2, -999.000, 9, -999.000, 9, -999.000, 9, -999.000, 9,   2343.2, 2,   2421.8, 2,    7.5560,     25.00,   -999.0, 1,   -999.0,  -999.00, 1,   -999.0,   1.2828, 27.7592,   1.5073, 2, 2, 0.46, 0.14, 0.01, 0.017,  -999.00, 9, -999.00, -999.00, 9, -999.00
49NZ20071008, P14N, X02, 1, 12, X12040, 2, 20071107, 1013, 29.9938, 178.9457, 4523,   3329.0, 2,   1.4716, 2,  34.6747, 2,  34.6746, 6,    136.8, 2,    137.1, 2,   153.73, 2,    37.13, 2,     0.00, 2,     2.60, 2, -999.000, 9, -999.000, 9, -999.000, 9, -999.000, 9,   2337.3, 2,   2421.8, 2, -999.0000,   -999.00,   -999.0, 1,   -999.0,  -999.00, 1,   -999.0,   1.2234, 27.7687,   1.4714, 2, 5, 0.46, 0.14, 0.01, 0.016,  -999.00, 9, -999.00, -999.00, 9, -999.00
49NZ20071008, P14N, X02, 1, 11, X12047, 9, 20071107, 1013, 29.9938, 178.9457, 4523,   3580.0, 2,   1.4555, 2,  34.6794, 2, -999.0000, 9,    142.5, 2,   -999.0, 9,  -999.00, 9,  -999.00, 9,  -999.00, 9,  -999.00, 9, -999.000, 9, -999.000, 9, -999.000, 9, -999.000, 9,   -999.0, 9,   -999.0, 9, -999.0000,   -999.00,   -999.0, 9,   -999.0,  -999.00, 9,   -999.0,   1.1823, 27.7754,   1.4554, 2, 9, -999.00, -999.00, -999.00, -999.000,  -999.00, 9, -999.00, -999.00, 9, -999.00
49NZ20071008, P14N, X02, 1, 10, X12017, 2, 20071107, 1013, 29.9938, 178.9457, 4523,   3830.5, 2,   1.4535, 2,  34.6823, 2,  34.6822, 2,    146.7, 2,    146.3, 2,   151.40, 2,    36.50, 2,     0.00, 2,     2.55, 2, -999.000, 9, -999.000, 9, -999.000, 9, -999.000, 9,   2330.2, 2,   2422.4, 2,    7.5843,     25.00,   -999.0, 1,   -999.0,  -999.00, 1,   -999.0,   1.1541, 27.7797,   1.4534, 2, 2, 0.45, 0.14, 0.01, 0.016,  -999.00, 9, -999.00, -999.00, 9, -999.00
49NZ20071008, P14N, X02, 1, 9, X12015, 2, 20071107, 1013, 29.9938, 178.9457, 4523,   4078.8, 2,   1.4509, 2,  34.6854, 2,  34.6855, 2,    150.3, 2,    150.4, 2,   150.34, 2,    36.22, 2,     0.00, 2,     2.53, 2, -999.000, 9, -999.000, 9, -999.000, 9, -999.000, 9,   2328.1, 2,   2421.4, 2,    7.5923,     25.00,   -999.0, 1,   -999.0,  -999.00, 1,   -999.0,   1.1248, 27.7842,   1.4508, 2, 2, 0.45, 0.13, 0.01, 0.016,  -999.00, 9, -999.00, -999.00, 9, -999.00
49NZ20071008, P14N, X02, 1, 8, X12046, 2, 20071107, 1013, 29.9938, 178.9457, 4523,   4330.2, 2,   1.4499, 2,  34.6883, 2,  34.6883, 2,    155.2, 2,    155.3, 2,   147.59, 2,    35.95, 2,     0.00, 2,     2.51, 2,    0.007, 3,    0.007, 3,    0.000, 2, -999.000, 9,   2323.8, 6,   2419.6, 2,    7.5977,     25.00,   -999.0, 1,   -999.0,  -999.00, 1,   -999.0,   1.0958, 27.7885,   1.4499, 2, 2, 0.44, 0.13, 0.01, 0.016,  -999.00, 9, -999.00, -999.00, 9, -999.00
49NZ20071008, P14N, X02, 1, 7, X12044, 2, 20071107, 1013, 29.9938, 178.9457, 4523,   4079.5, 2,   1.4512, 2,  34.6854, 2, -999.0000, 9,    150.3, 2,   -999.0, 9,  -999.00, 9,  -999.00, 9,  -999.00, 9,  -999.00, 9, -999.000, 9, -999.000, 9, -999.000, 9, -999.000, 9,   -999.0, 9,   -999.0, 9, -999.0000,   -999.00,   -999.0, 9,   -999.0,  -999.00, 9,   -999.0,   1.1250, 27.7842,   1.4511, 2, 9, -999.00, -999.00, -999.00, -999.000,  -999.00, 9, -999.00, -999.00, 9, -999.00
49NZ20071008, P14N, X02, 1, 6, X12048, 2, 20071107, 1013, 29.9938, 178.9457, 4523,   3579.8, 2,   1.4554, 2,  34.6794, 2,  34.6794, 2,    142.5, 2,    142.5, 2,   152.32, 2,    36.72, 2,     0.00, 2,     2.57, 2,    0.011, 3,    0.009, 3,    0.000, 2, -999.000, 9,   2332.4, 2,   2422.5, 2,    7.5781,     25.00,   -999.0, 1,   -999.0,  -999.00, 1,   -999.0,   1.1822, 27.7754,   1.4554, 2, 6, 0.45, 0.14, 0.01, 0.016,  -999.00, 9, -999.00, -999.00, 9, -999.00
49NZ20071008, P14N, X02, 1, 5, X12014, 2, 20071107, 1013, 29.9938, 178.9457, 4523,   4079.4, 2,   1.4511, 2,  34.6854, 2, -999.0000, 9,    150.3, 2,   -999.0, 9,  -999.00, 9,  -999.00, 9,  -999.00, 9,  -999.00, 9, -999.000, 9, -999.000, 9, -999.000, 9, -999.000, 9,   -999.0, 9,   -999.0, 9, -999.0000,   -999.00,   -999.0, 9,   -999.0,  -999.00, 9,   -999.0,   1.1249, 27.7842,   1.4510, 2, 9, -999.00, -999.00, -999.00, -999.000,  -999.00, 9, -999.00, -999.00, 9, -999.00
49NZ20071008, P14N, X02, 1, 4, X12006, 2, 20071107, 1013, 29.9938, 178.9457, 4523,   4079.0, 2,   1.4511, 2,  34.6854, 2, -999.0000, 9,    150.3, 2,   -999.0, 9,  -999.00, 9,  -999.00, 9,  -999.00, 9,  -999.00, 9, -999.000, 9, -999.000, 9, -999.000, 9, -999.000, 9,   -999.0, 9,   -999.0, 9, -999.0000,   -999.00,   -999.0, 9,   -999.0,  -999.00, 9,   -999.0,   1.1250, 27.7842,   1.4510, 2, 9, -999.00, -999.00, -999.00, -999.000,  -999.00, 9, -999.00, -999.00, 9, -999.00
49NZ20071008, P14N, X02, 1, 3, X12013, 2, 20071107, 1013, 29.9938, 178.9457, 4523,   4079.1, 2,   1.4510, 2,  34.6855, 2, -999.0000, 9,    150.3, 2,   -999.0, 9,  -999.00, 9,  -999.00, 9,  -999.00, 9,  -999.00, 9, -999.000, 9, -999.000, 9, -999.000, 9, -999.000, 9,   -999.0, 9,   -999.0, 9, -999.0000,   -999.00,   -999.0, 9,   -999.0,  -999.00, 9,   -999.0,   1.1248, 27.7843,   1.4510, 2, 9, -999.00, -999.00, -999.00, -999.000,  -999.00, 9, -999.00, -999.00, 9, -999.00
49NZ20071008, P14N, X02, 1, 2, X12002, 2, 20071107, 1013, 29.9938, 178.9457, 4523,   4078.8, 2,   1.4510, 2,  34.6854, 2, -999.0000, 9,    150.3, 2,   -999.0, 9,  -999.00, 9,  -999.00, 9,  -999.00, 9,  -999.00, 9, -999.000, 9, -999.000, 9, -999.000, 9, -999.000, 9,   -999.0, 9,   -999.0, 9, -999.0000,   -999.00,   -999.0, 9,   -999.0,  -999.00, 9,   -999.0,   1.1249, 27.7842,   1.4510, 2, 9, -999.00, -999.00, -999.00, -999.000,  -999.00, 9, -999.00, -999.00, 9, -999.00
49NZ20071008, P14N, X02, 1, 1, X12001, 2, 20071107, 1013, 29.9938, 178.9457, 4523,   4624.9, 2,   1.4649, 2,  34.6901, 2,  34.6900, 6,    158.7, 2,    158.6, 2,   144.35, 2,    35.69, 2,     0.00, 2,     2.49, 2,    0.001, 2,    0.000, 2,    0.000, 2, -999.000, 9,   2320.2, 2,   2418.1, 2,    7.6016,     25.00,   -999.0, 1,   -999.0,  -999.00, 1,   -999.0,   1.0765, 27.7912,   1.4649, 2, 2, 0.44, 0.13, 0.01, 0.016,  -999.00, 9, -999.00, -999.00, 9, -999.00