BOTTLE,20221005CCHSIOAMB
EXPOCODE,SECT_ID,STNNBR,CASTNO,SAMPNO,BTLNBR,BTLNBR_FLAG_W,DATE,TIME,LATITUDE,LONGITUDE,DEPTH,CTDPRS,CTDPRS_FLAG_W,CTDTMP,CTDTMP_FLAG_W,CTDSAL,CTDSAL_FLAG_W,SALNTY,SALNTY_FLAG_W,CTDOXY,CTDOXY_FLAG_W,OXYGEN,OXYGEN_FLAG_W,SILCAT,SILCAT_FLAG_W,NITRAT,NITRAT_FLAG_W,NITRIT,NITRIT_FLAG_W,PHSPHT,PHSPHT_FLAG_W,CFC-11,CFC-11_FLAG_W,CFC-12,CFC-12_FLAG_W,CFC113,CFC113_FLAG_W,CCL4,CCL4_FLAG_W,TCARBN,TCARBN_FLAG_W,ALKALI,ALKALI_FLAG_W,PH_TOT,PH_TMP,DELC14,DELC14_FLAG_W,C14ERR,DELC13,DELC13_FLAG_W,C13ERR,THETA,SIG0,SBE35,SBE35_FLAG_W,PH_TOT_FLAG_W,SILUNC,NRAUNC,NRIUNC,PHPUNC,CS-137,CS-137_FLAG_W,CS137ER,PLUTO,PLUTO_FLAG_W,PLUTOER
,,,,,,,,,,,METERS,DBAR,,ITS-90,,PSS-78,,PSS-78,,UMOL/KG,,UMOL/KG,,UMOL/KG,,UMOL/KG,,UMOL/KG,,UMOL/KG,,PMOL/KG,,PMOL/KG,,PMOL/KG,,PMOL/KG,,UMOL/KG,,UMOL/KG,,,DEG C,/MILLE,,/MILLE,/MILLE,,/MILLE,DEG C,KG/M^3,ITS-90,,,UMOL/KG,UMOL/KG,UMOL/KG,UMOL/KG,DM/.1MG,,BQ/M^3,MBQ/M^3,,MBQ/M^3
49NZ20071008, P14N, 89, 1, 36, X12042, 2, 20071114, 0836, 18.0078, 178.9927, 3646,     10.4, 2,  27.6158, 2,  34.9478, 2,  34.9469, 2,    200.5, 2,    199.8, 2,     0.94, 2,     0.06, 2,     0.01, 2,     0.07, 2,    1.516, 2,    0.941, 2,    0.313, 4,    1.697, 4,   -999.0, 9,   -999.0, 9, -999.0000,   -999.00,   -999.0, 9,   -999.0,  -999.00, 9,   -999.0,  27.6134, 22.4812,  27.6144, 2, 9, 0.12, 0.03, 0.01, 0.027,  -999.00, 9, -999.00, -999.00, 9, -999.00
49NZ20071008, P14N, 89, 1, 35, X12041, 2, 20071114, 0836, 18.0078, 178.9927, 3646,     50.4, 2,  27.5923, 2,  35.0798, 2,  35.0806, 2,    201.3, 2,    200.6, 2,     0.92, 2,     0.06, 2,     0.01, 2,     0.05, 2,    1.537, 2,    0.976, 2,    0.411, 4,    1.652, 4,   -999.0, 9,   -999.0, 9, -999.0000,   -999.00,   -999.0, 9,   -999.0,  -999.00, 9,   -999.0,  27.5806, 22.5912,  27.5905, 2, 9, 0.12, 0.03, 0.01, 0.033,  -999.00, 9, -999.00, -999.00, 9, -999.00
49NZ20071008, P14N, 89, 1, 34, X12016, 2, 20071114, 0836, 18.0078, 178.9927, 3646,    100.7, 2,  25.1299, 2,  35.2419, 2,  35.2427, 2,    202.3, 2,    207.8, 2,     1.01, 2,     0.04, 2,     0.01, 2,     0.06, 2,    1.783, 2,    1.095, 2,    0.711, 4,    0.985, 4,   -999.0, 9,   -999.0, 9, -999.0000,   -999.00,   -999.0, 9,   -999.0,  -999.00, 9,   -999.0,  25.1080, 23.4911,  25.1191, 2, 9, 0.12, 0.03, 0.01, 0.030,  -999.00, 9, -999.00, -999.00, 9, -999.00
49NZ20071008, P14N, 89, 1, 33, X12033, 2, 20071114, 0836, 18.0078, 178.9927, 3646,    150.9, 2,  22.1296, 2,  35.1382, 2,  35.1362, 2,    190.2, 2,    190.8, 2,     1.60, 2,     0.75, 2,     0.06, 2,     0.14, 2,    2.024, 6,    1.212, 6,    0.259, 4,    0.784, 4,   -999.0, 9,   -999.0, 9, -999.0000,   -999.00,   -999.0, 9,   -999.0,  -999.00, 9,   -999.0,  22.0996, 24.2949,  22.1299, 2, 9, 0.12, 0.03, 0.01, 0.018,  -999.00, 9, -999.00, -999.00, 9, -999.00
49NZ20071008, P14N, 89, 1, 32, X12038, 2, 20071114, 0836, 18.0078, 178.9927, 3646,    202.9, 2,  19.0230, 2,  34.8916, 2,  34.8909, 2,    195.5, 2,    192.3, 2,     2.84, 2,     2.96, 2,     0.02, 2,     0.29, 2,    2.310, 2,    1.357, 2,    0.120, 2,    0.619, 4,   -999.0, 9,   -999.0, 9, -999.0000,   -999.00,   -999.0, 9,   -999.0,  -999.00, 9,   -999.0,  18.9868, 24.9417,  19.0159, 2, 9, 0.13, 0.04, 0.01, 0.014,  -999.00, 9, -999.00, -999.00, 9, -999.00
49NZ20071008, P14N, 89, 1, 31, X12003, 2, 20071114, 0836, 18.0078, 178.9927, 3646,    249.7, 2,  16.7748, 2,  34.6867, 2,  34.6850, 6,    187.4, 2,    187.7, 2,     5.06, 2,     6.16, 2,     0.01, 2,     0.52, 2,    2.529, 2,    1.458, 2,    0.057, 2,    0.408, 4,   -999.0, 9,   -999.0, 9, -999.0000,   -999.00,   -999.0, 9,   -999.0,  -999.00, 9,   -999.0,  16.7340, 25.3366,  16.7744, 2, 9, 0.13, 0.05, 0.01, 0.013,  -999.00, 9, -999.00, -999.00, 9, -999.00
49NZ20071008, P14N, 89, 1, 30, X12008, 2, 20071114, 0836, 18.0078, 178.9927, 3646,    330.7, 2,  12.4621, 2,  34.3124, 2,  34.3078, 2,    174.9, 2,    173.5, 2,    13.85, 2,    14.05, 2,     0.01, 2,     1.10, 2,    2.700, 2,    1.475, 2,    0.056, 2,    0.487, 4,   -999.0, 9,   -999.0, 9, -999.0000,   -999.00,   -999.0, 9,   -999.0,  -999.00, 9,   -999.0,  12.4179, 25.9748,  12.4621, 2, 9, 0.15, 0.07, 0.01, 0.013,  -999.00, 9, -999.00, -999.00, 9, -999.00
49NZ20071008, P14N, 89, 1, 29, X12035, 2, 20071114, 0836, 18.0078, 178.9927, 3646,    430.9, 2,   9.1150, 2,  34.1610, 2,  34.1644, 2,    132.0, 2,    144.1, 2,    30.22, 2,    23.10, 2,     0.01, 2,     1.73, 2,    2.381, 2,    1.189, 2,    0.078, 2,    0.622, 4,   -999.0, 9,   -999.0, 9, -999.0000,   -999.00,   -999.0, 9,   -999.0,  -999.00, 9,   -999.0,   9.0677, 26.4503,   9.1168, 2, 9, 0.19, 0.10, 0.01, 0.014,  -999.00, 9, -999.00, -999.00, 9, -999.00
49NZ20071008, P14N, 89, 1, 28, X12034, 2, 20071114, 0836, 18.0078, 178.9927, 3646,    530.9, 2,   6.8527, 2,  34.1841, 2,  34.1851, 6,     74.6, 2,     77.0, 2,    56.69, 2,    33.66, 2,     0.01, 2,     2.50, 2,    0.933, 2,    0.455, 2,    0.019, 2,    0.374, 4,   -999.0, 9,   -999.0, 9, -999.0000,   -999.00,   -999.0, 9,   -999.0,  -999.00, 9,   -999.0,   6.8030, 26.8029,   6.8530, 2, 9, 0.24, 0.13, 0.01, 0.016,  -999.00, 9, -999.00, -999.00, 9, -999.00
49NZ20071008, P14N, 89, 1, 27, X12049, 2, 20071114, 0836, 18.0078, 178.9927, 3646,    630.7, 2,   5.9901, 2,  34.2994, 2,  34.2986, 2,     49.6, 2,     50.7, 2,    70.91, 2,    37.88, 2,     0.01, 2,     2.80, 2,    0.282, 2,    0.141, 2,    0.013, 2,    0.162, 4,   -999.0, 9,   -999.0, 9, -999.0000,   -999.00,   -999.0, 9,   -999.0,  -999.00, 9,   -999.0,   5.9347, 27.0073,   5.9901, 2, 9, 0.28, 0.14, 0.01, 0.017,  -999.00, 9, -999.00, -999.00, 9, -999.00
49NZ20071008, P14N, 89, 1, 26, X12032, 2, 20071114, 0836, 18.0078, 178.9927, 3646,    729.3, 2,   5.2784, 2,  34.4221, 2,  34.4224, 2,     54.5, 2,     55.2, 2,    82.54, 2,    39.45, 2,     0.01, 2,     2.87, 2,    0.075, 6,    0.039, 6,    0.007, 6,    0.057, 4,   -999.0, 9,   -999.0, 9, -999.0000,   -999.00,   -999.0, 9,   -999.0,  -999.00, 9,   -999.0,   5.2176, 27.1917,   5.2787, 2, 9, 0.30, 0.14, 0.01, 0.017,  -999.00, 9, -999.00, -999.00, 9, -999.00
49NZ20071008, P14N, 89, 1, 25, X12043, 2, 20071114, 0836, 18.0078, 178.9927, 3646,    830.6, 2,   4.8779, 2,  34.4745, 2,  34.4746, 2,     61.1, 2,     61.0, 2,    89.11, 2,    39.61, 2,     0.01, 2,     2.87, 2,    0.038, 2,    0.020, 2,    0.004, 2,    0.043, 4,   -999.0, 9,   -999.0, 9, -999.0000,   -999.00,   -999.0, 9,   -999.0,  -999.00, 9,   -999.0,   4.8105, 27.2803,   4.8786, 2, 9, 0.32, 0.14, 0.01, 0.017,  -999.00, 9, -999.00, -999.00, 9, -999.00
49NZ20071008, P14N, 89, 1, 24, X12030, 2, 20071114, 0836, 18.0078, 178.9927, 3646,    931.4, 2,   4.4294, 2,  34.5092, 2,  34.5089, 2,     64.2, 2,     64.1, 2,    96.84, 2,    39.96, 2,     0.01, 2,     2.90, 2,    0.019, 2,    0.012, 2,    0.000, 2,    0.025, 4,   -999.0, 9,   -999.0, 9, -999.0000,   -999.00,   -999.0, 9,   -999.0,  -999.00, 9,   -999.0,   4.3563, 27.3580,   4.4298, 2, 9, 0.33, 0.14, 0.01, 0.017,  -999.00, 9, -999.00, -999.00, 9, -999.00
49NZ20071008, P14N, 89, 1, 23, X12027, 2, 20071114, 0836, 18.0078, 178.9927, 3646,   1071.2, 2,   3.9349, 2,  34.5318, 2,  34.5320, 6,     69.0, 2,     68.5, 2,   106.67, 2,    40.17, 2,     0.01, 2,     2.92, 2,    0.018, 2,    0.011, 2,    0.000, 2,    0.024, 4,   -999.0, 9,   -999.0, 9, -999.0000,   -999.00,   -999.0, 9,   -999.0,  -999.00, 9,   -999.0,   3.8538, 27.4287,   3.9353, 2, 9, 0.35, 0.15, 0.01, 0.017,  -999.00, 9, -999.00, -999.00, 9, -999.00
49NZ20071008, P14N, 89, 1, 22, X12028, 2, 20071114, 0836, 18.0078, 178.9927, 3646,   1270.4, 2,   3.3337, 2,  34.5544, 2,  34.5548, 2,     75.0, 2,     74.8, 2,   119.10, 2,    40.41, 2,     0.01, 2,     2.90, 2,    0.004, 2,    0.003, 2,    0.000, 2,    0.012, 4,   -999.0, 9,   -999.0, 9, -999.0000,   -999.00,   -999.0, 9,   -999.0,  -999.00, 9,   -999.0,   3.2414, 27.5069,   3.3331, 2, 9, 0.38, 0.15, 0.01, 0.017,  -999.00, 9, -999.00, -999.00, 9, -999.00
49NZ20071008, P14N, 89, 1, 21, X12009, 2, 20071114, 0836, 18.0078, 178.9927, 3646,   1471.7, 2,   2.8948, 2,  34.5764, 2,  34.5768, 2,     80.1, 2,     80.3, 2,   128.37, 2,    40.41, 2,     0.01, 2,     2.89, 2,    0.000, 2,    0.003, 2,    0.000, 2,    0.017, 4,   -999.0, 9,   -999.0, 9, -999.0000,   -999.00,   -999.0, 9,   -999.0,  -999.00, 9,   -999.0,   2.7905, 27.5659,   2.8942, 2, 9, 0.40, 0.15, 0.01, 0.017,  -999.00, 9, -999.00, -999.00, 9, -999.00
49NZ20071008, P14N, 89, 1, 20, X12026, 2, 20071114, 0836, 18.0078, 178.9927, 3646,   1671.4, 2,   2.5250, 2,  34.5969, 2,  34.5969, 2,     87.9, 2,     87.8, 2,   136.12, 2,    40.09, 2,     0.01, 2,     2.86, 2,    0.000, 2,    0.000, 2,    0.000, 2,    0.010, 4,   -999.0, 9,   -999.0, 9, -999.0000,   -999.00,   -999.0, 9,   -999.0,  -999.00, 9,   -999.0,   2.4087, 27.6154,   2.5250, 2, 9, 0.42, 0.15, 0.01, 0.017,  -999.00, 9, -999.00, -999.00, 9, -999.00
49NZ20071008, P14N, 89, 1, 19, X12025, 2, 20071114, 0836, 18.0078, 178.9927, 3646,   1870.6, 2,   2.2576, 2,  34.6143, 2,  34.6144, 6,     95.7, 2,     95.7, 2,   141.15, 2,    39.67, 2,     0.01, 2,     2.82, 2,    0.000, 2,    0.000, 2,    0.000, 2,    0.012, 4,   -999.0, 9,   -999.0, 9, -999.0000,   -999.00,   -999.0, 9,   -999.0,  -999.00, 9,   -999.0,   2.1283, 27.6524,   2.2577, 2, 9, 0.43, 0.14, 0.01, 0.017,  -999.00, 9, -999.00, -999.00, 9, -999.00
49NZ20071008, P14N, 89, 1, 18, X12024, 2, 20071114, 0836, 18.0078, 178.9927, 3646,   2072.2, 2,   2.0021, 2,  34.6313, 2,  34.6311, 2,    104.4, 2,    105.1, 2,   145.76, 2,    39.05, 2,     0.01, 2,     2.78, 2,    0.000, 2,    0.001, 2,    0.000, 2,    0.002, 4,   -999.0, 9,   -999.0, 9, -999.0000,   -999.00,   -999.0, 9,   -999.0,  -999.00, 9,   -999.0,   1.8595, 27.6873,   2.0017, 2, 9, 0.44, 0.14, 0.01, 0.017,  -999.00, 9, -999.00, -999.00, 9, -999.00
49NZ20071008, P14N, 89, 1, 17, X12023, 2, 20071114, 0836, 18.0078, 178.9927, 3646,   2270.4, 2,   1.8403, 2,  34.6438, 2,  34.6440, 2,    113.2, 2,    112.8, 2,   148.45, 2,    38.70, 2,     0.01, 2,     2.74, 2,    0.005, 2,    0.004, 2,    0.000, 2,    0.013, 4,   -999.0, 9,   -999.0, 9, -999.0000,   -999.00,   -999.0, 9,   -999.0,  -999.00, 9,   -999.0,   1.6833, 27.7107,   1.8403, 2, 9, 0.45, 0.14, 0.01, 0.017,  -999.00, 9, -999.00, -999.00, 9, -999.00
49NZ20071008, P14N, 89, 1, 16, X12022, 2, 20071114, 0836, 18.0078, 178.9927, 3646,   2470.0, 2,   1.7144, 2,  34.6534, 2,  34.6536, 2,    119.9, 2,    120.2, 2,   149.52, 2,    38.25, 2,     0.01, 2,     2.69, 2,    0.005, 2,    0.004, 2,    0.000, 2,    0.007, 4,   -999.0, 9,   -999.0, 9, -999.0000,   -999.00,   -999.0, 9,   -999.0,  -999.00, 9,   -999.0,   1.5421, 27.7290,   1.7140, 2, 9, 0.45, 0.14, 0.01, 0.017,  -999.00, 9, -999.00, -999.00, 9, -999.00
49NZ20071008, P14N, 89, 1, 15, X12021, 2, 20071114, 0836, 18.0078, 178.9927, 3646,   2669.7, 2,   1.6513, 2,  34.6596, 2,  34.6598, 2,    125.9, 2,    125.3, 2,   149.72, 2,    37.84, 2,     0.01, 2,     2.68, 2,    0.000, 2,    0.000, 2,    0.000, 2,    0.016, 4,   -999.0, 9,   -999.0, 9, -999.0000,   -999.00,   -999.0, 9,   -999.0,  -999.00, 9,   -999.0,   1.4622, 27.7398,   1.6513, 2, 9, 0.45, 0.14, 0.01, 0.017,  -999.00, 9, -999.00, -999.00, 9, -999.00
49NZ20071008, P14N, 89, 1, 14, X12020, 2, 20071114, 0836, 18.0078, 178.9927, 3646,   2868.8, 2,   1.5740, 2,  34.6663, 2,  34.6667, 6,    132.0, 2,    131.9, 2,   149.13, 2,    37.51, 2,     0.01, 2,     2.63, 2, -999.000, 9, -999.000, 9, -999.000, 9,    0.001, 4,   -999.0, 9,   -999.0, 9, -999.0000,   -999.00,   -999.0, 9,   -999.0,  -999.00, 9,   -999.0,   1.3680, 27.7519,   1.5740, 2, 9, 0.45, 0.14, 0.01, 0.017,  -999.00, 9, -999.00, -999.00, 9, -999.00
49NZ20071008, P14N, 89, 1, 13, X12019, 2, 20071114, 0836, 18.0078, 178.9927, 3646,   3079.8, 2,   1.5376, 2,  34.6710, 2,  34.6710, 2,    135.9, 2,    136.8, 2,   148.31, 2,    37.09, 2,     0.01, 2,     2.61, 2, -999.000, 9, -999.000, 9, -999.000, 9,    0.001, 4,   -999.0, 9,   -999.0, 9, -999.0000,   -999.00,   -999.0, 9,   -999.0,  -999.00, 9,   -999.0,   1.3123, 27.7596,   1.5376, 2, 9, 0.45, 0.14, 0.01, 0.016,  -999.00, 9, -999.00, -999.00, 9, -999.00
49NZ20071008, P14N, 89, 1, 12, X12040, 2, 20071114, 0836, 18.0078, 178.9927, 3646,   3328.3, 2,   1.5307, 2,  34.6743, 2,  34.6742, 2,    140.7, 2,    139.3, 2,   148.00, 2,    36.95, 2,     0.01, 2,     2.60, 2,    0.001, 2,    0.000, 2,    0.000, 2,    0.000, 4,   -999.0, 9,   -999.0, 9, -999.0000,   -999.00,   -999.0, 9,   -999.0,  -999.00, 9,   -999.0,   1.2812, 27.7644,   1.5304, 2, 9, 0.44, 0.14, 0.01, 0.016,  -999.00, 9, -999.00, -999.00, 9, -999.00
49NZ20071008, P14N, 89, 1, 11, X12047, 2, 20071114, 0836, 18.0078, 178.9927, 3646,   3579.0, 2,   1.4818, 2,  34.6800, 2,  34.6803, 2,    146.1, 2,    146.4, 2,   145.91, 2,    36.41, 2,     0.01, 2,     2.56, 2, -999.000, 9, -999.000, 9, -999.000, 9,    0.000, 4,   -999.0, 9,   -999.0, 9, -999.0000,   -999.00,   -999.0, 9,   -999.0,  -999.00, 9,   -999.0,   1.2080, 27.7741,   1.4817, 2, 9, 0.44, 0.13, 0.01, 0.016,  -999.00, 9, -999.00, -999.00, 9, -999.00
49NZ20071008, P14N, 89, 1, 10, X12012, 9, 20071114, 0836, 18.0078, 178.9927, 3646,      9.9, 2,  27.6174, 2,  34.9476, 2, -999.0000, 9,    200.3, 2,   -999.0, 9,  -999.00, 9,  -999.00, 9,  -999.00, 9,  -999.00, 9, -999.000, 9, -999.000, 9, -999.000, 9, -999.000, 9,   -999.0, 9,   -999.0, 9, -999.0000,   -999.00,   -999.0, 9,   -999.0,  -999.00, 9,   -999.0,  27.6151, 22.4805,  27.6161, 2, 9, -999.00, -999.00, -999.00, -999.000,  -999.00, 9, -999.00, -999.00, 9, -999.00
49NZ20071008, P14N, 89, 1, 9, X12015, 9, 20071114, 0836, 18.0078, 178.9927, 3646,     50.9, 2,  27.5917, 2,  35.0792, 2, -999.0000, 9,    201.4, 2,   -999.0, 9,  -999.00, 9,  -999.00, 9,  -999.00, 9,  -999.00, 9, -999.000, 9, -999.000, 9, -999.000, 9, -999.000, 9,   -999.0, 9,   -999.0, 9, -999.0000,   -999.00,   -999.0, 9,   -999.0,  -999.00, 9,   -999.0,  27.5798, 22.5909,  27.5907, 2, 9, -999.00, -999.00, -999.00, -999.000,  -999.00, 9, -999.00, -999.00, 9, -999.00
49NZ20071008, P14N, 89, 1, 8, X12046, 9, 20071114, 0836, 18.0078, 178.9927, 3646,    100.6, 2,  25.1122, 2,  35.2420, 2, -999.0000, 9,    202.4, 2,   -999.0, 9,  -999.00, 9,  -999.00, 9,  -999.00, 9,  -999.00, 9, -999.000, 9, -999.000, 9, -999.000, 9, -999.000, 9,   -999.0, 9,   -999.0, 9, -999.0000,   -999.00,   -999.0, 9,   -999.0,  -999.00, 9,   -999.0,  25.0903, 23.4966,  25.1058, 2, 9, -999.00, -999.00, -999.00, -999.000,  -999.00, 9, -999.00, -999.00, 9, -999.00
49NZ20071008, P14N, 89, 1, 7, X12044, 9, 20071114, 0836, 18.0078, 178.9927, 3646,    150.4, 2,  22.1284, 2,  35.1373, 2, -999.0000, 9,    190.3, 2,   -999.0, 9,  -999.00, 9,  -999.00, 9,  -999.00, 9,  -999.00, 9, -999.000, 9, -999.000, 9, -999.000, 9, -999.000, 9,   -999.0, 9,   -999.0, 9, -999.0000,   -999.00,   -999.0, 9,   -999.0,  -999.00, 9,   -999.0,  22.0985, 24.2945,  22.1277, 2, 9, -999.00, -999.00, -999.00, -999.000,  -999.00, 9, -999.00, -999.00, 9, -999.00
49NZ20071008, P14N, 89, 1, 6, X12048, 9, 20071114, 0836, 18.0078, 178.9927, 3646,    202.6, 2,  19.0192, 2,  34.8913, 2, -999.0000, 9,    195.4, 2,   -999.0, 9,  -999.00, 9,  -999.00, 9,  -999.00, 9,  -999.00, 9, -999.000, 9, -999.000, 9, -999.000, 9, -999.000, 9,   -999.0, 9,   -999.0, 9, -999.0000,   -999.00,   -999.0, 9,   -999.0,  -999.00, 9,   -999.0,  18.9831, 24.9424,  19.0146, 2, 9, -999.00, -999.00, -999.00, -999.000,  -999.00, 9, -999.00, -999.00, 9, -999.00
49NZ20071008, P14N, 89, 1, 5, X12014, 9, 20071114, 0836, 18.0078, 178.9927, 3646,    250.5, 2,  16.7676, 2,  34.6856, 2, -999.0000, 9,    187.3, 2,   -999.0, 9,  -999.00, 9,  -999.00, 9,  -999.00, 9,  -999.00, 9, -999.000, 9, -999.000, 9, -999.000, 9, -999.000, 9,   -999.0, 9,   -999.0, 9, -999.0000,   -999.00,   -999.0, 9,   -999.0,  -999.00, 9,   -999.0,  16.7267, 25.3375,  16.7681, 2, 9, -999.00, -999.00, -999.00, -999.000,  -999.00, 9, -999.00, -999.00, 9, -999.00
49NZ20071008, P14N, 89, 1, 4, X12006, 9, 20071114, 0836, 18.0078, 178.9927, 3646,    330.5, 2,  12.4650, 2,  34.3120, 2, -999.0000, 9,    174.9, 2,   -999.0, 9,  -999.00, 9,  -999.00, 9,  -999.00, 9,  -999.00, 9, -999.000, 9, -999.000, 9, -999.000, 9, -999.000, 9,   -999.0, 9,   -999.0, 9, -999.0000,   -999.00,   -999.0, 9,   -999.0,  -999.00, 9,   -999.0,  12.4209, 25.9739,  12.4609, 2, 9, -999.00, -999.00, -999.00, -999.000,  -999.00, 9, -999.00, -999.00, 9, -999.00
49NZ20071008, P14N, 89, 1, 3, X12013, 9, 20071114, 0836, 18.0078, 178.9927, 3646,    430.4, 2,   9.1680, 2,  34.1632, 2, -999.0000, 9,    133.5, 2,   -999.0, 9,  -999.00, 9,  -999.00, 9,  -999.00, 9,  -999.00, 9, -999.000, 9, -999.000, 9, -999.000, 9, -999.000, 9,   -999.0, 9,   -999.0, 9, -999.0000,   -999.00,   -999.0, 9,   -999.0,  -999.00, 9,   -999.0,   9.1206, 26.4436,   9.1624, 2, 9, -999.00, -999.00, -999.00, -999.000,  -999.00, 9, -999.00, -999.00, 9, -999.00
49NZ20071008, P14N, 89, 1, 2, X12002, 9, 20071114, 0836, 18.0078, 178.9927, 3646,   3762.1, 2,   1.4631, 2,  34.6830, 2, -999.0000, 9,    149.9, 2,   -999.0, 9,  -999.00, 9,  -999.00, 9,  -999.00, 9,  -999.00, 9, -999.000, 9, -999.000, 9, -999.000, 9, -999.000, 9,   -999.0, 9,   -999.0, 9, -999.0000,   -999.00,   -999.0, 9,   -999.0,  -999.00, 9,   -999.0,   1.1707, 27.7791,   1.4630, 2, 9, -999.00, -999.00, -999.00, -999.000,  -999.00, 9, -999.00, -999.00, 9, -999.00
49NZ20071008, P14N, 89, 1, 1, X12001, 2, 20071114, 0836, 18.0078, 178.9927, 3646,   3761.6, 2,   1.4628, 2,  34.6831, 2,  34.6835, 6,    149.8, 2,    149.9, 2,   145.54, 2,    36.28, 2,     0.01, 2,     2.54, 2,    0.000, 2,    0.000, 2,    0.000, 2,    0.000, 4,   -999.0, 9,   -999.0, 9, -999.0000,   -999.00,   -999.0, 9,   -999.0,  -999.00, 9,   -999.0,   1.1705, 27.7792,   1.4627, 2, 9, 0.44, 0.13, 0.01, 0.016,  -999.00, 9, -999.00, -999.00, 9, -999.00