BOTTLE,20221005CCHSIOAMB
EXPOCODE,SECT_ID,STNNBR,CASTNO,SAMPNO,BTLNBR,BTLNBR_FLAG_W,DATE,TIME,LATITUDE,LONGITUDE,DEPTH,CTDPRS,CTDPRS_FLAG_W,CTDTMP,CTDTMP_FLAG_W,CTDSAL,CTDSAL_FLAG_W,SALNTY,SALNTY_FLAG_W,CTDOXY,CTDOXY_FLAG_W,OXYGEN,OXYGEN_FLAG_W,SILCAT,SILCAT_FLAG_W,NITRAT,NITRAT_FLAG_W,NITRIT,NITRIT_FLAG_W,PHSPHT,PHSPHT_FLAG_W,CFC-11,CFC-11_FLAG_W,CFC-12,CFC-12_FLAG_W,CFC113,CFC113_FLAG_W,CCL4,CCL4_FLAG_W,TCARBN,TCARBN_FLAG_W,ALKALI,ALKALI_FLAG_W,PH_TOT,PH_TMP,DELC14,DELC14_FLAG_W,C14ERR,DELC13,DELC13_FLAG_W,C13ERR,THETA,SIG0,SBE35,SBE35_FLAG_W,PH_TOT_FLAG_W,SILUNC,NRAUNC,NRIUNC,PHPUNC,CS-137,CS-137_FLAG_W,CS137ER,PLUTO,PLUTO_FLAG_W,PLUTOER
,,,,,,,,,,,METERS,DBAR,,ITS-90,,PSS-78,,PSS-78,,UMOL/KG,,UMOL/KG,,UMOL/KG,,UMOL/KG,,UMOL/KG,,UMOL/KG,,PMOL/KG,,PMOL/KG,,PMOL/KG,,PMOL/KG,,UMOL/KG,,UMOL/KG,,,DEG C,/MILLE,,/MILLE,/MILLE,,/MILLE,DEG C,KG/M^3,ITS-90,,,UMOL/KG,UMOL/KG,UMOL/KG,UMOL/KG,DM/.1MG,,BQ/M^3,MBQ/M^3,,MBQ/M^3
49NZ20071008, P14N, 93, 1, 36, X12042, 2, 20071115, 0722, 16.0120, 178.9952, 5274,     10.6, 2,  27.9387, 2,  34.6948, 2,  34.6943, 2,    199.5, 2,    199.2, 2,     1.06, 2,     0.06, 2,     0.01, 2,     0.13, 2,    1.516, 2,    0.948, 2,    0.328, 4, -999.000, 9,   -999.0, 9,   -999.0, 9, -999.0000,   -999.00,   -999.0, 9,   -999.0,  -999.00, 9,   -999.0,  27.9362, 22.1860,  27.9391, 2, 9, 0.12, 0.03, 0.01, 0.019,  -999.00, 9, -999.00, -999.00, 9, -999.00
49NZ20071008, P14N, 93, 1, 35, X12041, 2, 20071115, 0722, 16.0120, 178.9952, 5274,     50.0, 2,  27.9428, 2,  34.7289, 2,  34.7299, 2,    199.0, 2,    199.4, 2,     1.03, 2,     0.05, 2,     0.01, 2,     0.13, 2,    1.516, 2,    0.950, 2,    0.330, 4, -999.000, 9,   -999.0, 9,   -999.0, 9, -999.0000,   -999.00,   -999.0, 9,   -999.0,  -999.00, 9,   -999.0,  27.9310, 22.2133,  27.9413, 2, 9, 0.12, 0.03, 0.01, 0.019,  -999.00, 9, -999.00, -999.00, 9, -999.00
49NZ20071008, P14N, 93, 1, 34, X12016, 2, 20071115, 0722, 16.0120, 178.9952, 5274,    100.6, 2,  26.5649, 2,  35.0801, 2,  35.0825, 2,    208.4, 2,    210.4, 2,     0.86, 2,     0.04, 2,     0.01, 2,     0.10, 2,    1.664, 2,    1.026, 2,    0.796, 4, -999.000, 9,   -999.0, 9,   -999.0, 9, -999.0000,   -999.00,   -999.0, 9,   -999.0,  -999.00, 9,   -999.0,  26.5421, 22.9236,  26.5617, 2, 9, 0.12, 0.03, 0.01, 0.022,  -999.00, 9, -999.00, -999.00, 9, -999.00
49NZ20071008, P14N, 93, 1, 33, X12033, 2, 20071115, 0722, 16.0120, 178.9952, 5274,    150.2, 2,  24.2521, 2,  35.2208, 2,  35.2209, 2,    190.6, 2,    193.9, 2,     1.19, 2,     0.11, 2,     0.13, 2,     0.12, 2,    1.819, 6,    1.113, 6,    0.295, 4, -999.000, 9,   -999.0, 9,   -999.0, 9, -999.0000,   -999.00,   -999.0, 9,   -999.0,  -999.00, 9,   -999.0,  24.2202, 23.7430,  24.2472, 2, 9, 0.12, 0.03, 0.01, 0.020,  -999.00, 9, -999.00, -999.00, 9, -999.00
49NZ20071008, P14N, 93, 1, 32, X12038, 2, 20071115, 0722, 16.0120, 178.9952, 5274,    199.0, 2,  20.8343, 2,  35.0408, 2,  35.0323, 2,    181.0, 2,    181.7, 2,     2.14, 2,     2.53, 2,     0.01, 2,     0.30, 2,    2.153, 2,    1.277, 2,    0.093, 2, -999.000, 9,   -999.0, 9,   -999.0, 9, -999.0000,   -999.00,   -999.0, 9,   -999.0,  -999.00, 9,   -999.0,  20.7964, 24.5802,  20.8321, 2, 9, 0.12, 0.04, 0.01, 0.014,  -999.00, 9, -999.00, -999.00, 9, -999.00
49NZ20071008, P14N, 93, 1, 31, X12003, 2, 20071115, 0722, 16.0120, 178.9952, 5274,    249.1, 2,  16.7453, 2,  34.6295, 2,  34.6196, 6,    181.4, 2,    179.3, 2,     5.39, 2,     6.85, 2,     0.01, 2,     0.61, 2,    2.514, 2,    1.444, 2,    0.044, 2, -999.000, 9,   -999.0, 9,   -999.0, 9, -999.0000,   -999.00,   -999.0, 9,   -999.0,  -999.00, 9,   -999.0,  16.7047, 25.2996,  16.7550, 2, 9, 0.13, 0.05, 0.01, 0.013,  -999.00, 9, -999.00, -999.00, 9, -999.00
49NZ20071008, P14N, 93, 1, 30, X12008, 2, 20071115, 0722, 16.0120, 178.9952, 5274,    279.9, 2,  13.8840, 2,  34.3675, 2,  34.3749, 2,    175.9, 2,    176.2, 2,     9.24, 2,    10.71, 2,     0.01, 2,     0.89, 2,    2.684, 2,    1.516, 2,    0.062, 2, -999.000, 9,   -999.0, 9,   -999.0, 9, -999.0000,   -999.00,   -999.0, 9,   -999.0,  -999.00, 9,   -999.0,  13.8439, 25.7308,  13.9006, 2, 9, 0.14, 0.06, 0.01, 0.013,  -999.00, 9, -999.00, -999.00, 9, -999.00
49NZ20071008, P14N, 93, 1, 29, X12035, 2, 20071115, 0722, 16.0120, 178.9952, 5274,    370.0, 2,   9.9836, 2,  34.2445, 2,  34.2380, 2,    125.0, 2,    120.4, 2,    27.39, 2,    23.62, 2,     0.01, 2,     1.83, 2,    2.148, 2,    1.091, 2,    0.057, 2, -999.000, 9,   -999.0, 9,   -999.0, 9, -999.0000,   -999.00,   -999.0, 9,   -999.0,  -999.00, 9,   -999.0,   9.9407, 26.3720,   9.9845, 2, 9, 0.18, 0.10, 0.01, 0.015,  -999.00, 9, -999.00, -999.00, 9, -999.00
49NZ20071008, P14N, 93, 1, 28, X12034, 2, 20071115, 0722, 16.0120, 178.9952, 5274,    469.2, 2,   7.6547, 2,  34.3146, 2,  34.3058, 6,     59.9, 2,     58.6, 2,    50.40, 2,    34.15, 2,     0.01, 2,     2.55, 2,    0.656, 2,    0.329, 2,    0.017, 2, -999.000, 9,   -999.0, 9,   -999.0, 9, -999.0000,   -999.00,   -999.0, 9,   -999.0,  -999.00, 9,   -999.0,   7.6081, 26.7930,   7.6542, 2, 9, 0.23, 0.13, 0.01, 0.016,  -999.00, 9, -999.00, -999.00, 9, -999.00
49NZ20071008, P14N, 93, 1, 27, X12049, 2, 20071115, 0722, 16.0120, 178.9952, 5274,    570.6, 2,   6.4560, 2,  34.3842, 2,  34.3852, 2,     48.1, 2,     46.9, 2,    64.73, 2,    37.53, 2,     0.01, 2,     2.79, 2,    0.183, 2,    0.092, 2,    0.012, 2, -999.000, 9,   -999.0, 9,   -999.0, 9, -999.0000,   -999.00,   -999.0, 9,   -999.0,  -999.00, 9,   -999.0,   6.4040, 27.0139,   6.4565, 2, 9, 0.26, 0.14, 0.01, 0.017,  -999.00, 9, -999.00, -999.00, 9, -999.00
49NZ20071008, P14N, 93, 1, 26, X12032, 2, 20071115, 0722, 16.0120, 178.9952, 5274,    669.8, 2,   5.8854, 2,  34.4576, 2,  34.4573, 2,     53.9, 2,     53.0, 2,    72.10, 2,    38.87, 2,     0.01, 2,     2.83, 2,    0.071, 6,    0.039, 6,    0.003, 6, -999.000, 9,   -999.0, 9,   -999.0, 9, -999.0000,   -999.00,   -999.0, 9,   -999.0,  -999.00, 9,   -999.0,   5.8267, 27.1459,   5.8863, 2, 9, 0.28, 0.14, 0.01, 0.017,  -999.00, 9, -999.00, -999.00, 9, -999.00
49NZ20071008, P14N, 93, 1, 25, X12043, 2, 20071115, 0722, 16.0120, 178.9952, 5274,    772.0, 2,   5.4156, 2,  34.4833, 2,  34.4833, 2,     57.5, 2,     56.8, 2,    79.21, 2,    39.42, 2,     0.00, 2,     2.87, 2,    0.039, 2,    0.021, 2,    0.000, 2, -999.000, 9,   -999.0, 9,   -999.0, 9, -999.0000,   -999.00,   -999.0, 9,   -999.0,  -999.00, 9,   -999.0,   5.3501, 27.2245,   5.4161, 2, 9, 0.29, 0.14, 0.01, 0.017,  -999.00, 9, -999.00, -999.00, 9, -999.00
49NZ20071008, P14N, 93, 1, 24, X12030, 2, 20071115, 0722, 16.0120, 178.9952, 5274,    869.9, 2,   4.9273, 2,  34.5088, 2,  34.5086, 2,     62.0, 2,     61.5, 2,    86.92, 2,    39.96, 2,     0.00, 2,     2.89, 2,    0.018, 2,    0.011, 2,    0.000, 2, -999.000, 9,   -999.0, 9,   -999.0, 9, -999.0000,   -999.00,   -999.0, 9,   -999.0,  -999.00, 9,   -999.0,   4.8561, 27.3023,   4.9281, 2, 9, 0.31, 0.14, 0.01, 0.017,  -999.00, 9, -999.00, -999.00, 9, -999.00
49NZ20071008, P14N, 93, 1, 23, X12027, 2, 20071115, 0722, 16.0120, 178.9952, 5274,    969.7, 2,   4.5054, 2,  34.5273, 2,  34.5278, 6,     63.8, 2,     63.6, 2,    94.74, 2,    40.42, 2,     0.01, 2,     2.91, 2,    0.010, 2,    0.004, 2,    0.000, 2, -999.000, 9,   -999.0, 9,   -999.0, 9, -999.0000,   -999.00,   -999.0, 9,   -999.0,  -999.00, 9,   -999.0,   4.4284, 27.3646,   4.5052, 2, 9, 0.33, 0.15, 0.01, 0.017,  -999.00, 9, -999.00, -999.00, 9, -999.00
49NZ20071008, P14N, 93, 1, 22, X12028, 2, 20071115, 0722, 16.0120, 178.9952, 5274,   1129.5, 2,   3.9973, 2,  34.5474, 2,  34.5475, 2,     67.9, 2,     67.6, 2,   104.58, 2,    40.63, 2,     0.01, 2,     2.93, 2,    0.004, 2,    0.000, 2,    0.000, 2, -999.000, 9,   -999.0, 9,   -999.0, 9, -999.0000,   -999.00,   -999.0, 9,   -999.0,  -999.00, 9,   -999.0,   3.9107, 27.4353,   3.9977, 2, 9, 0.35, 0.15, 0.01, 0.017,  -999.00, 9, -999.00, -999.00, 9, -999.00
49NZ20071008, P14N, 93, 1, 21, X12009, 2, 20071115, 0722, 16.0120, 178.9952, 5274,   1330.3, 2,   3.3993, 2,  34.5645, 2,  34.5644, 2,     73.5, 2,     73.2, 2,   117.32, 2,    40.87, 2,     0.01, 2,     2.93, 2, -999.000, 5, -999.000, 5, -999.000, 5, -999.000, 9,   -999.0, 9,   -999.0, 9, -999.0000,   -999.00,   -999.0, 9,   -999.0,  -999.00, 9,   -999.0,   3.3013, 27.5092,   3.3995, 2, 9, 0.38, 0.15, 0.01, 0.017,  -999.00, 9, -999.00, -999.00, 9, -999.00
49NZ20071008, P14N, 93, 1, 20, X12026, 2, 20071115, 0722, 16.0120, 178.9952, 5274,   1532.1, 2,   2.8975, 2,  34.5857, 2,  34.5856, 2,     82.4, 2,     80.9, 2,   127.78, 2,    40.60, 2,     0.00, 2,     2.90, 2,    0.000, 2,    0.000, 2,    0.000, 2, -999.000, 9,   -999.0, 9,   -999.0, 9, -999.0000,   -999.00,   -999.0, 9,   -999.0,  -999.00, 9,   -999.0,   2.7882, 27.5735,   2.8977, 2, 9, 0.40, 0.15, 0.01, 0.017,  -999.00, 9, -999.00, -999.00, 9, -999.00
49NZ20071008, P14N, 93, 1, 19, X12025, 2, 20071115, 0722, 16.0120, 178.9952, 5274,   1730.6, 2,   2.5128, 2,  34.6028, 2,  34.6028, 2,     90.2, 2,     89.0, 2,   135.92, 2,    40.05, 2,     0.00, 2,     2.85, 2,    0.000, 2,    0.000, 2,    0.000, 2, -999.000, 9,   -999.0, 9,   -999.0, 9, -999.0000,   -999.00,   -999.0, 9,   -999.0,  -999.00, 9,   -999.0,   2.3917, 27.6215,   2.5124, 2, 9, 0.42, 0.14, 0.01, 0.017,  -999.00, 9, -999.00, -999.00, 9, -999.00
49NZ20071008, P14N, 93, 1, 18, X12024, 2, 20071115, 0722, 16.0120, 178.9952, 5274,   1930.1, 2,   2.2347, 2,  34.6233, 2,  34.6234, 2,     99.1, 2,     98.7, 2,   141.00, 2,    39.77, 2,     0.01, 2,     2.81, 2,    0.000, 2,    0.000, 2,    0.000, 2, -999.000, 9,   -999.0, 9,   -999.0, 9, -999.0000,   -999.00,   -999.0, 9,   -999.0,  -999.00, 9,   -999.0,   2.1007, 27.6618,   2.2348, 2, 9, 0.43, 0.14, 0.01, 0.017,  -999.00, 9, -999.00, -999.00, 9, -999.00
49NZ20071008, P14N, 93, 1, 17, X12023, 2, 20071115, 0722, 16.0120, 178.9952, 5274,   2129.8, 2,   2.0367, 2,  34.6365, 2,  34.6368, 2,    106.3, 2,    106.2, 2,   144.61, 2,    39.33, 2,     0.01, 2,     2.77, 2,    0.000, 2,    0.000, 2,    0.000, 2, -999.000, 9,   -999.0, 9,   -999.0, 9, -999.0000,   -999.00,   -999.0, 9,   -999.0,  -999.00, 9,   -999.0,   1.8886, 27.6892,   2.0368, 2, 9, 0.44, 0.14, 0.01, 0.017,  -999.00, 9, -999.00, -999.00, 9, -999.00
49NZ20071008, P14N, 93, 1, 16, X12022, 2, 20071115, 0722, 16.0120, 178.9952, 5274,   2331.4, 2,   1.8770, 2,  34.6457, 2,  34.6456, 6,    112.1, 2,    112.2, 2,   147.96, 2,    38.82, 2,     0.01, 2,     2.74, 2,    0.000, 2,    0.000, 2,    0.000, 2, -999.000, 9,   -999.0, 9,   -999.0, 9, -999.0000,   -999.00,   -999.0, 9,   -999.0,  -999.00, 9,   -999.0,   1.7141, 27.7099,   1.8771, 2, 9, 0.44, 0.14, 0.01, 0.017,  -999.00, 9, -999.00, -999.00, 9, -999.00
49NZ20071008, P14N, 93, 1, 15, X12021, 2, 20071115, 0722, 16.0120, 178.9952, 5274,   2530.3, 2,   1.7537, 2,  34.6538, 2,  34.6538, 2,    119.0, 2,    118.9, 2,   149.37, 2,    38.40, 2,     0.01, 2,     2.70, 2, -999.000, 9, -999.000, 9, -999.000, 9, -999.000, 9,   -999.0, 9,   -999.0, 9, -999.0000,   -999.00,   -999.0, 9,   -999.0,  -999.00, 9,   -999.0,   1.5753, 27.7269,   1.7539, 2, 9, 0.45, 0.14, 0.01, 0.017,  -999.00, 9, -999.00, -999.00, 9, -999.00
49NZ20071008, P14N, 93, 1, 14, X12020, 2, 20071115, 0722, 16.0120, 178.9952, 5274,   2729.5, 2,   1.6647, 2,  34.6610, 2,  34.6618, 2,    124.8, 2,    125.0, 2,   150.07, 2,    38.10, 2,     0.01, 2,     2.67, 2, -999.000, 9, -999.000, 9, -999.000, 9, -999.000, 9,   -999.0, 9,   -999.0, 9, -999.0000,   -999.00,   -999.0, 9,   -999.0,  -999.00, 9,   -999.0,   1.4698, 27.7403,   1.6646, 2, 9, 0.45, 0.14, 0.01, 0.017,  -999.00, 9, -999.00, -999.00, 9, -999.00
49NZ20071008, P14N, 93, 1, 13, X12019, 2, 20071115, 0722, 16.0120, 178.9952, 5274,   2930.6, 2,   1.6009, 2,  34.6670, 2,  34.6669, 2,    129.8, 2,    130.4, 2,   150.12, 2,    37.74, 2,     0.01, 2,     2.64, 2,    0.000, 2,    0.000, 2,    0.000, 2, -999.000, 9,   -999.0, 9,   -999.0, 9, -999.0000,   -999.00,   -999.0, 9,   -999.0,  -999.00, 9,   -999.0,   1.3885, 27.7510,   1.6011, 2, 9, 0.45, 0.14, 0.01, 0.017,  -999.00, 9, -999.00, -999.00, 9, -999.00
49NZ20071008, P14N, 93, 1, 12, X12040, 2, 20071115, 0722, 16.0120, 178.9952, 5274,   3170.8, 2,   1.5539, 2,  34.6724, 2,  34.6725, 2,    135.5, 2,    135.4, 2,   149.79, 2,    37.17, 2,     0.01, 2,     2.62, 2, -999.000, 9, -999.000, 9, -999.000, 9, -999.000, 9,   -999.0, 9,   -999.0, 9, -999.0000,   -999.00,   -999.0, 9,   -999.0,  -999.00, 9,   -999.0,   1.3194, 27.7602,   1.5539, 2, 9, 0.45, 0.14, 0.01, 0.017,  -999.00, 9, -999.00, -999.00, 9, -999.00
49NZ20071008, P14N, 93, 1, 11, X12047, 2, 20071115, 0722, 16.0120, 178.9952, 5274,   3420.2, 2,   1.5125, 2,  34.6774, 2,  34.6772, 2,    140.9, 2,    140.8, 2,   149.04, 2,    36.91, 2,     0.01, 2,     2.58, 2, -999.000, 9, -999.000, 9, -999.000, 9, -999.000, 9,   -999.0, 9,   -999.0, 9, -999.0000,   -999.00,   -999.0, 9,   -999.0,  -999.00, 9,   -999.0,   1.2542, 27.7688,   1.5124, 2, 9, 0.45, 0.14, 0.01, 0.016,  -999.00, 9, -999.00, -999.00, 9, -999.00
49NZ20071008, P14N, 93, 1, 10, X12012, 2, 20071115, 0722, 16.0120, 178.9952, 5274,   3669.7, 2,   1.4806, 2,  34.6817, 2,  34.6813, 6,    147.2, 2,    146.5, 2,   147.32, 2,    36.57, 2,     0.01, 2,     2.56, 2,    0.000, 2,    0.000, 2,    0.000, 2, -999.000, 9,   -999.0, 9,   -999.0, 9, -999.0000,   -999.00,   -999.0, 9,   -999.0,  -999.00, 9,   -999.0,   1.1974, 27.7762,   1.4805, 2, 9, 0.44, 0.14, 0.01, 0.016,  -999.00, 9, -999.00, -999.00, 9, -999.00
49NZ20071008, P14N, 93, 1, 9, X12015, 2, 20071115, 0722, 16.0120, 178.9952, 5274,   3920.1, 2,   1.4595, 2,  34.6851, 2,  34.6849, 2,    151.7, 2,    151.8, 2,   145.43, 2,    36.31, 2,     0.01, 2,     2.53, 2, -999.000, 9, -999.000, 9, -999.000, 9, -999.000, 9,   -999.0, 9,   -999.0, 9, -999.0000,   -999.00,   -999.0, 9,   -999.0,  -999.00, 9,   -999.0,   1.1504, 27.7822,   1.4595, 2, 9, 0.44, 0.13, 0.01, 0.016,  -999.00, 9, -999.00, -999.00, 9, -999.00
49NZ20071008, P14N, 93, 1, 8, X12046, 2, 20071115, 0722, 16.0120, 178.9952, 5274,   4169.3, 2,   1.4481, 2,  34.6879, 2,  34.6877, 2,    157.7, 2,    156.8, 2,   142.69, 2,    35.82, 2,     0.01, 2,     2.51, 2, -999.000, 9, -999.000, 9, -999.000, 9, -999.000, 9,   -999.0, 9,   -999.0, 9, -999.0000,   -999.00,   -999.0, 9,   -999.0,  -999.00, 9,   -999.0,   1.1121, 27.7870,   1.4481, 2, 9, 0.43, 0.13, 0.01, 0.016,  -999.00, 9, -999.00, -999.00, 9, -999.00
49NZ20071008, P14N, 93, 1, 7, X12044, 2, 20071115, 0722, 16.0120, 178.9952, 5274,   4420.2, 2,   1.4165, 2,  34.6921, 2,  34.6917, 2,    164.8, 2,    164.7, 2,   138.32, 2,    35.32, 2,     0.01, 2,     2.47, 2,    0.000, 2,    0.000, 2,    0.000, 2, -999.000, 9,   -999.0, 9,   -999.0, 9, -999.0000,   -999.00,   -999.0, 9,   -999.0,  -999.00, 9,   -999.0,   1.0532, 27.7944,   1.4164, 2, 9, 0.42, 0.13, 0.01, 0.016,  -999.00, 9, -999.00, -999.00, 9, -999.00
49NZ20071008, P14N, 93, 1, 6, X12048, 2, 20071115, 0722, 16.0120, 178.9952, 5274,   4670.4, 2,   1.3643, 2,  34.6975, 2,  34.6974, 2,    175.2, 2,    175.4, 2,   131.68, 2,    34.62, 2,     0.00, 2,     2.40, 2,    0.000, 2,    0.001, 2,    0.000, 2, -999.000, 9,   -999.0, 9,   -999.0, 9, -999.0000,   -999.00,   -999.0, 9,   -999.0,  -999.00, 9,   -999.0,   0.9738, 27.8040,   1.3642, 2, 9, 0.41, 0.13, 0.01, 0.016,  -999.00, 9, -999.00, -999.00, 9, -999.00
49NZ20071008, P14N, 93, 1, 5, X12014, 2, 20071115, 0722, 16.0120, 178.9952, 5274,   4920.7, 2,   1.3289, 2,  34.7015, 2,  34.7017, 2,    184.0, 2,    183.9, 2,   126.57, 2,    33.83, 2,     0.01, 2,     2.35, 2, -999.000, 9, -999.000, 9, -999.000, 9, -999.000, 9,   -999.0, 9,   -999.0, 9, -999.0000,   -999.00,   -999.0, 9,   -999.0,  -999.00, 9,   -999.0,   0.9099, 27.8115,   1.3288, 2, 9, 0.40, 0.13, 0.01, 0.016,  -999.00, 9, -999.00, -999.00, 9, -999.00
49NZ20071008, P14N, 93, 1, 4, X12006, 2, 20071115, 0722, 16.0120, 178.9952, 5274,   5169.9, 2,   1.3370, 2,  34.7029, 2,  34.7030, 2,    187.0, 2,    186.8, 2,   125.02, 2,    33.70, 2,     0.01, 2,     2.35, 2, -999.000, 9, -999.000, 9, -999.000, 9, -999.000, 9,   -999.0, 9,   -999.0, 9, -999.0000,   -999.00,   -999.0, 9,   -999.0,  -999.00, 9,   -999.0,   0.8875, 27.8140,   1.3370, 2, 9, 0.39, 0.13, 0.01, 0.016,  -999.00, 9, -999.00, -999.00, 9, -999.00
49NZ20071008, P14N, 93, 1, 3, X12013, 9, 20071115, 0722, 16.0120, 178.9952, 5274,     10.5, 2,  27.9382, 2,  34.6950, 2, -999.0000, 9,    199.5, 2,   -999.0, 9,  -999.00, 9,  -999.00, 9,  -999.00, 9,  -999.00, 9, -999.000, 9, -999.000, 9, -999.000, 9, -999.000, 9,   -999.0, 9,   -999.0, 9, -999.0000,   -999.00,   -999.0, 9,   -999.0,  -999.00, 9,   -999.0,  27.9357, 22.1863,  27.9374, 2, 9, -999.00, -999.00, -999.00, -999.000,  -999.00, 9, -999.00, -999.00, 9, -999.00
49NZ20071008, P14N, 93, 1, 2, X12002, 9, 20071115, 0722, 16.0120, 178.9952, 5274,     49.5, 2,  27.9427, 2,  34.7305, 2, -999.0000, 9,    199.0, 2,   -999.0, 9,  -999.00, 9,  -999.00, 9,  -999.00, 9,  -999.00, 9, -999.000, 9, -999.000, 9, -999.000, 9, -999.000, 9,   -999.0, 9,   -999.0, 9, -999.0000,   -999.00,   -999.0, 9,   -999.0,  -999.00, 9,   -999.0,  27.9311, 22.2145,  27.9409, 2, 9, -999.00, -999.00, -999.00, -999.000,  -999.00, 9, -999.00, -999.00, 9, -999.00
49NZ20071008, P14N, 93, 1, 1, X12001, 2, 20071115, 0722, 16.0120, 178.9952, 5274,   5344.8, 2,   1.3558, 2,  34.7030, 2,  34.7035, 6,    187.5, 2,    187.3, 2,   124.73, 2,    33.76, 2,     0.01, 2,     2.35, 2,    0.000, 2,    0.000, 2,    0.000, 2, -999.000, 9,   -999.0, 9,   -999.0, 9, -999.0000,   -999.00,   -999.0, 9,   -999.0,  -999.00, 9,   -999.0,   0.8839, 27.8143,   1.3559, 2, 9, 0.39, 0.13, 0.01, 0.016,  -999.00, 9, -999.00, -999.00, 9, -999.00