BOTTLE,20221005CCHSIOAMB
EXPOCODE,SECT_ID,STNNBR,CASTNO,SAMPNO,BTLNBR,BTLNBR_FLAG_W,DATE,TIME,LATITUDE,LONGITUDE,DEPTH,CTDPRS,CTDPRS_FLAG_W,CTDTMP,CTDTMP_FLAG_W,CTDSAL,CTDSAL_FLAG_W,SALNTY,SALNTY_FLAG_W,CTDOXY,CTDOXY_FLAG_W,OXYGEN,OXYGEN_FLAG_W,SILCAT,SILCAT_FLAG_W,NITRAT,NITRAT_FLAG_W,NITRIT,NITRIT_FLAG_W,PHSPHT,PHSPHT_FLAG_W,CFC-11,CFC-11_FLAG_W,CFC-12,CFC-12_FLAG_W,CFC113,CFC113_FLAG_W,CCL4,CCL4_FLAG_W,TCARBN,TCARBN_FLAG_W,ALKALI,ALKALI_FLAG_W,PH_TOT,PH_TMP,DELC14,DELC14_FLAG_W,C14ERR,DELC13,DELC13_FLAG_W,C13ERR,THETA,SIG0,SBE35,SBE35_FLAG_W,PH_TOT_FLAG_W,SILUNC,NRAUNC,NRIUNC,PHPUNC,CS-137,CS-137_FLAG_W,CS137ER,PLUTO,PLUTO_FLAG_W,PLUTOER
,,,,,,,,,,,METERS,DBAR,,ITS-90,,PSS-78,,PSS-78,,UMOL/KG,,UMOL/KG,,UMOL/KG,,UMOL/KG,,UMOL/KG,,UMOL/KG,,PMOL/KG,,PMOL/KG,,PMOL/KG,,PMOL/KG,,UMOL/KG,,UMOL/KG,,,DEG C,/MILLE,,/MILLE,/MILLE,,/MILLE,DEG C,KG/M^3,ITS-90,,,UMOL/KG,UMOL/KG,UMOL/KG,UMOL/KG,DM/.1MG,,BQ/M^3,MBQ/M^3,,MBQ/M^3
49NZ20071008, P14N, 95, 1, 36, X12042, 2, 20071115, 1911, 15.0113, 178.9915, 5415,      9.9, 2,  27.8436, 2,  34.7372, 2,  34.7374, 2,    199.4, 2,    199.1, 2,     1.00, 2,     0.05, 2,     0.01, 2,     0.10, 2,    1.421, 4,    0.885, 4,    0.269, 4, -999.000, 9,   -999.0, 9,   -999.0, 9, -999.0000,   -999.00,   -999.0, 9,   -999.0,  -999.00, 9,   -999.0,  27.8413, 22.2488,  27.8436, 2, 9, 0.12, 0.03, 0.01, 0.022,  -999.00, 9, -999.00, -999.00, 9, -999.00
49NZ20071008, P14N, 95, 1, 35, X12041, 2, 20071115, 1911, 15.0113, 178.9915, 5415,     49.7, 2,  27.8558, 2,  34.7364, 2,  34.7369, 2,    199.9, 2,    199.1, 2,     0.95, 2,     0.04, 2,     0.00, 2,     0.09, 2,    1.531, 2,    0.962, 2,    0.282, 4, -999.000, 9,   -999.0, 9,   -999.0, 9, -999.0000,   -999.00,   -999.0, 9,   -999.0,  -999.00, 9,   -999.0,  27.8441, 22.2472,  27.8547, 2, 9, 0.12, 0.03, 0.01, 0.023,  -999.00, 9, -999.00, -999.00, 9, -999.00
49NZ20071008, P14N, 95, 1, 34, X12016, 2, 20071115, 1911, 15.0113, 178.9915, 5415,    100.1, 2,  26.3096, 2,  35.0645, 2,  35.0694, 2,    209.7, 2,    211.2, 2,     0.82, 2,     0.03, 2,     0.01, 2,     0.07, 2,    1.687, 2,    1.031, 2,    0.719, 4, -999.000, 9,   -999.0, 9,   -999.0, 9, -999.0000,   -999.00,   -999.0, 9,   -999.0,  -999.00, 9,   -999.0,  26.2871, 22.9922,  26.3095, 2, 9, 0.12, 0.03, 0.01, 0.026,  -999.00, 9, -999.00, -999.00, 9, -999.00
49NZ20071008, P14N, 95, 1, 33, X12033, 2, 20071115, 1911, 15.0113, 178.9915, 5415,    150.6, 2,  23.4181, 2,  35.1066, 2,  35.1101, 2,    193.4, 2,    191.9, 2,     1.23, 2,     0.22, 2,     0.18, 2,     0.15, 2,    1.924, 6,    1.165, 6,    0.235, 4, -999.000, 9,   -999.0, 9,   -999.0, 9, -999.0000,   -999.00,   -999.0, 9,   -999.0,  -999.00, 9,   -999.0,  23.3869, 23.9022,  23.4159, 2, 9, 0.12, 0.03, 0.01, 0.018,  -999.00, 9, -999.00, -999.00, 9, -999.00
49NZ20071008, P14N, 95, 1, 32, X12038, 2, 20071115, 1911, 15.0113, 178.9915, 5415,    198.4, 2,  19.5897, 2,  34.9120, 2,  34.9011, 2,    176.8, 2,    178.0, 2,     2.92, 2,     3.82, 2,     0.02, 2,     0.39, 2,    2.289, 2,    1.344, 2,    0.071, 2, -999.000, 9,   -999.0, 9,   -999.0, 9, -999.0000,   -999.00,   -999.0, 9,   -999.0,  -999.00, 9,   -999.0,  19.5536, 24.8114,  19.5705, 2, 9, 0.13, 0.04, 0.01, 0.013,  -999.00, 9, -999.00, -999.00, 9, -999.00
49NZ20071008, P14N, 95, 1, 31, X12003, 2, 20071115, 1911, 15.0113, 178.9915, 5415,    249.5, 2,  14.6862, 2,  34.4237, 2,  34.4240, 6,    172.9, 2,    171.6, 2,     8.28, 2,    10.05, 2,     0.01, 2,     0.83, 2,    2.623, 2,    1.494, 2,    0.047, 2, -999.000, 9,   -999.0, 9,   -999.0, 9, -999.0000,   -999.00,   -999.0, 9,   -999.0,  -999.00, 9,   -999.0,  14.6491, 25.6038,  14.6888, 2, 9, 0.14, 0.06, 0.01, 0.013,  -999.00, 9, -999.00, -999.00, 9, -999.00
49NZ20071008, P14N, 95, 1, 30, X12008, 2, 20071115, 1911, 15.0113, 178.9915, 5415,    328.6, 2,  10.4817, 2,  34.2329, 2,  34.2334, 2,    140.4, 2,    136.5, 2,    23.75, 2,    21.25, 2,     0.01, 2,     1.62, 2,    2.382, 2,    1.226, 2,    0.053, 2, -999.000, 9,   -999.0, 9,   -999.0, 9, -999.0000,   -999.00,   -999.0, 9,   -999.0,  -999.00, 9,   -999.0,  10.4425, 26.2768,  10.4854, 2, 9, 0.17, 0.09, 0.01, 0.014,  -999.00, 9, -999.00, -999.00, 9, -999.00
49NZ20071008, P14N, 95, 1, 29, X12035, 2, 20071115, 1911, 15.0113, 178.9915, 5415,    431.4, 2,   8.4117, 2,  34.3811, 2,  34.3806, 2,     52.3, 2,     52.3, 2,    42.94, 2,    33.22, 2,     0.01, 2,     2.48, 2,    0.661, 2,    0.334, 2,    0.017, 2, -999.000, 9,   -999.0, 9,   -999.0, 9, -999.0000,   -999.00,   -999.0, 9,   -999.0,  -999.00, 9,   -999.0,   8.3665, 26.7325,   8.4160, 2, 9, 0.21, 0.13, 0.01, 0.016,  -999.00, 9, -999.00, -999.00, 9, -999.00
49NZ20071008, P14N, 95, 1, 28, X12034, 2, 20071115, 1911, 15.0113, 178.9915, 5415,    529.4, 2,   7.1742, 2,  34.4464, 2,  34.4462, 6,     45.1, 2,     45.3, 2,    55.66, 2,    36.84, 2,     0.01, 2,     2.72, 2,    0.181, 2,    0.097, 2,    0.010, 2, -999.000, 9,   -999.0, 9,   -999.0, 9, -999.0000,   -999.00,   -999.0, 9,   -999.0,  -999.00, 9,   -999.0,   7.1232, 26.9656,   7.1742, 2, 9, 0.24, 0.14, 0.01, 0.017,  -999.00, 9, -999.00, -999.00, 9, -999.00
49NZ20071008, P14N, 95, 1, 27, X12049, 2, 20071115, 1911, 15.0113, 178.9915, 5415,    629.3, 2,   6.2295, 2,  34.4670, 2,  34.4665, 2,     50.6, 2,     51.5, 2,    66.97, 2,    38.47, 2,     0.01, 2,     2.80, 2,    0.086, 2,    0.043, 2,    0.006, 2, -999.000, 9,   -999.0, 9,   -999.0, 9, -999.0000,   -999.00,   -999.0, 9,   -999.0,  -999.00, 9,   -999.0,   6.1729, 27.1094,   6.2299, 2, 9, 0.27, 0.14, 0.01, 0.017,  -999.00, 9, -999.00, -999.00, 9, -999.00
49NZ20071008, P14N, 95, 1, 26, X12032, 2, 20071115, 1911, 15.0113, 178.9915, 5415,    729.1, 2,   5.7577, 2,  34.4917, 2,  34.4914, 2,     54.9, 2,     54.9, 2,    72.99, 2,    39.10, 2,     0.01, 2,     2.84, 2,    0.046, 6,    0.025, 6,    0.002, 6, -999.000, 9,   -999.0, 9,   -999.0, 9, -999.0000,   -999.00,   -999.0, 9,   -999.0,  -999.00, 9,   -999.0,   5.6942, 27.1893,   5.7581, 2, 9, 0.28, 0.14, 0.01, 0.017,  -999.00, 9, -999.00, -999.00, 9, -999.00
49NZ20071008, P14N, 95, 1, 25, X12043, 2, 20071115, 1911, 15.0113, 178.9915, 5415,    830.8, 2,   5.2281, 2,  34.5089, 2,  34.5086, 2,     57.6, 2,     57.5, 2,    81.18, 2,    39.93, 2,     0.01, 2,     2.89, 2,    0.024, 2,    0.009, 2,    0.000, 2, -999.000, 9,   -999.0, 9,   -999.0, 9, -999.0000,   -999.00,   -999.0, 9,   -999.0,  -999.00, 9,   -999.0,   5.1584, 27.2674,   5.2280, 2, 9, 0.30, 0.14, 0.01, 0.017,  -999.00, 9, -999.00, -999.00, 9, -999.00
49NZ20071008, P14N, 95, 1, 24, X12030, 2, 20071115, 1911, 15.0113, 178.9915, 5415,    932.3, 2,   4.7574, 2,  34.5255, 2,  34.5200, 3,     58.6, 2,     58.8, 2,    87.40, 2,    40.24, 2,     0.01, 2,     2.91, 2,    0.010, 2,    0.007, 2,    0.000, 2, -999.000, 9,   -999.0, 9,   -999.0, 9, -999.0000,   -999.00,   -999.0, 9,   -999.0,  -999.00, 9,   -999.0,   4.6819, 27.3352,   4.7585, 2, 9, 0.31, 0.15, 0.01, 0.017,  -999.00, 9, -999.00, -999.00, 9, -999.00
49NZ20071008, P14N, 95, 1, 23, X12027, 2, 20071115, 1911, 15.0113, 178.9915, 5415,   1068.3, 2,   4.2547, 2,  34.5420, 2,  34.5423, 6,     60.8, 2,     60.7, 2,    99.60, 2,    41.08, 2,     0.01, 2,     2.96, 2,    0.002, 2,    0.003, 2,    0.000, 2, -999.000, 9,   -999.0, 9,   -999.0, 9, -999.0000,   -999.00,   -999.0, 9,   -999.0,  -999.00, 9,   -999.0,   4.1712, 27.4039,   4.2550, 2, 9, 0.34, 0.15, 0.01, 0.017,  -999.00, 9, -999.00, -999.00, 9, -999.00
49NZ20071008, P14N, 95, 1, 22, X12028, 2, 20071115, 1911, 15.0113, 178.9915, 5415,   1270.3, 2,   3.5524, 2,  34.5545, 2,  34.5544, 2,     70.6, 2,     71.4, 2,   114.42, 2,    40.66, 2,     0.01, 2,     2.92, 2,    0.001, 2,    0.001, 2,    0.000, 2, -999.000, 9,   -999.0, 9,   -999.0, 9, -999.0000,   -999.00,   -999.0, 9,   -999.0,  -999.00, 9,   -999.0,   3.4580, 27.4862,   3.5527, 2, 9, 0.37, 0.15, 0.01, 0.017,  -999.00, 9, -999.00, -999.00, 9, -999.00
49NZ20071008, P14N, 95, 1, 21, X12009, 2, 20071115, 1911, 15.0113, 178.9915, 5415,   1470.1, 2,   3.0503, 2,  34.5805, 2,  34.5806, 2,     77.8, 2,     77.2, 2,   124.66, 2,    40.77, 2,     0.01, 2,     2.91, 2,    0.000, 2,    0.000, 2,    0.000, 2, -999.000, 9,   -999.0, 9,   -999.0, 9, -999.0000,   -999.00,   -999.0, 9,   -999.0,  -999.00, 9,   -999.0,   2.9444, 27.5553,   3.0503, 2, 9, 0.39, 0.15, 0.01, 0.017,  -999.00, 9, -999.00, -999.00, 9, -999.00
49NZ20071008, P14N, 95, 1, 20, X12026, 2, 20071115, 1911, 15.0113, 178.9915, 5415,   1672.3, 2,   2.6714, 2,  34.5998, 2,  34.5992, 3,     86.2, 2,     85.0, 2,   132.32, 2,    40.42, 2,     0.01, 2,     2.88, 2,    0.000, 2,    0.000, 2,    0.000, 2, -999.000, 9,   -999.0, 9,   -999.0, 9, -999.0000,   -999.00,   -999.0, 9,   -999.0,  -999.00, 9,   -999.0,   2.5531, 27.6054,   2.6718, 2, 9, 0.41, 0.15, 0.01, 0.017,  -999.00, 9, -999.00, -999.00, 9, -999.00
49NZ20071008, P14N, 95, 1, 19, X12025, 2, 20071115, 1911, 15.0113, 178.9915, 5415,   1869.4, 2,   2.3432, 2,  34.6175, 2,  34.6178, 2,     95.4, 2,     94.9, 2,   139.07, 2,    39.86, 2,     0.01, 2,     2.82, 2,    0.000, 2,    0.000, 2,    0.000, 2, -999.000, 9,   -999.0, 9,   -999.0, 9, -999.0000,   -999.00,   -999.0, 9,   -999.0,  -999.00, 9,   -999.0,   2.2127, 27.6481,   2.3436, 2, 9, 0.42, 0.14, 0.01, 0.017,  -999.00, 9, -999.00, -999.00, 9, -999.00
49NZ20071008, P14N, 95, 1, 18, X12024, 2, 20071115, 1911, 15.0113, 178.9915, 5415,   2071.6, 2,   2.1210, 2,  34.6300, 2,  34.6299, 2,    102.7, 2,    102.0, 2,   143.61, 2,    39.36, 2,     0.01, 2,     2.79, 2,    0.000, 2,    0.000, 2,    0.000, 2, -999.000, 9,   -999.0, 9,   -999.0, 9, -999.0000,   -999.00,   -999.0, 9,   -999.0,  -999.00, 9,   -999.0,   1.9766, 27.6771,   2.1211, 2, 9, 0.43, 0.14, 0.01, 0.017,  -999.00, 9, -999.00, -999.00, 9, -999.00
49NZ20071008, P14N, 95, 1, 17, X12023, 2, 20071115, 1911, 15.0113, 178.9915, 5415,   2269.2, 2,   1.9381, 2,  34.6410, 2,  34.6411, 2,    109.5, 2,    109.3, 2,   146.66, 2,    39.11, 2,     0.01, 2,     2.75, 2,    0.000, 2,    0.000, 2,    0.000, 2, -999.000, 9,   -999.0, 9,   -999.0, 9, -999.0000,   -999.00,   -999.0, 9,   -999.0,  -999.00, 9,   -999.0,   1.7796, 27.7012,   1.9380, 2, 9, 0.44, 0.14, 0.01, 0.017,  -999.00, 9, -999.00, -999.00, 9, -999.00
49NZ20071008, P14N, 95, 1, 16, X12022, 2, 20071115, 1911, 15.0113, 178.9915, 5415,   2469.8, 2,   1.8147, 2,  34.6516, 2,  34.6517, 6,    115.8, 2,    115.9, 2,   148.53, 2,    38.66, 2,     0.01, 2,     2.71, 2,    0.000, 2,    0.000, 2,    0.000, 2, -999.000, 9,   -999.0, 9,   -999.0, 9, -999.0000,   -999.00,   -999.0, 9,   -999.0,  -999.00, 9,   -999.0,   1.6406, 27.7202,   1.8147, 2, 9, 0.45, 0.14, 0.01, 0.017,  -999.00, 9, -999.00, -999.00, 9, -999.00
49NZ20071008, P14N, 95, 1, 15, X12021, 2, 20071115, 1911, 15.0113, 178.9915, 5415,   2670.0, 2,   1.7160, 2,  34.6604, 2,  34.6603, 2,    121.3, 2,    121.8, 2,   149.97, 2,    38.13, 2,     0.01, 2,     2.68, 2,    0.000, 2,    0.000, 2,    0.000, 2, -999.000, 9,   -999.0, 9,   -999.0, 9, -999.0000,   -999.00,   -999.0, 9,   -999.0,  -999.00, 9,   -999.0,   1.5256, 27.7358,   1.7161, 2, 9, 0.45, 0.14, 0.01, 0.017,  -999.00, 9, -999.00, -999.00, 9, -999.00
49NZ20071008, P14N, 95, 1, 14, X12020, 2, 20071115, 1911, 15.0113, 178.9915, 5415,   2870.9, 2,   1.6287, 2,  34.6659, 2,  34.6657, 2,    127.5, 2,    127.6, 2,   150.66, 2,    37.90, 2,     0.01, 2,     2.64, 2, -999.000, 9, -999.000, 9, -999.000, 9, -999.000, 9,   -999.0, 9,   -999.0, 9, -999.0000,   -999.00,   -999.0, 9,   -999.0,  -999.00, 9,   -999.0,   1.4214, 27.7477,   1.6289, 2, 9, 0.45, 0.14, 0.01, 0.017,  -999.00, 9, -999.00, -999.00, 9, -999.00
49NZ20071008, P14N, 95, 1, 13, X12019, 2, 20071115, 1911, 15.0113, 178.9915, 5415,   3080.6, 2,   1.5698, 2,  34.6722, 2,  34.6723, 2,    133.3, 2,    133.3, 2,   150.48, 2,    37.61, 2,     0.01, 2,     2.62, 2, -999.000, 9, -999.000, 9, -999.000, 9, -999.000, 9,   -999.0, 9,   -999.0, 9, -999.0000,   -999.00,   -999.0, 9,   -999.0,  -999.00, 9,   -999.0,   1.3437, 27.7583,   1.5698, 2, 9, 0.45, 0.14, 0.01, 0.017,  -999.00, 9, -999.00, -999.00, 9, -999.00
49NZ20071008, P14N, 95, 1, 12, X12040, 2, 20071115, 1911, 15.0113, 178.9915, 5415,   3328.6, 2,   1.5132, 2,  34.6781, 2,  34.6782, 2,    139.6, 2,    140.0, 2,   149.31, 2,    36.99, 2,     0.01, 2,     2.58, 2,    0.000, 2,    0.000, 2,    0.000, 2, -999.000, 9,   -999.0, 9,   -999.0, 9, -999.0000,   -999.00,   -999.0, 9,   -999.0,  -999.00, 9,   -999.0,   1.2641, 27.7687,   1.5132, 2, 9, 0.45, 0.14, 0.01, 0.016,  -999.00, 9, -999.00, -999.00, 9, -999.00
49NZ20071008, P14N, 95, 1, 11, X12047, 2, 20071115, 1911, 15.0113, 178.9915, 5415,   3579.8, 2,   1.4766, 2,  34.6820, 2,  34.6819, 2,    145.4, 2,    145.8, 2,   147.74, 2,    36.71, 2,     0.01, 2,     2.55, 2, -999.000, 9, -999.000, 9, -999.000, 9, -999.000, 9,   -999.0, 9,   -999.0, 9, -999.0000,   -999.00,   -999.0, 9,   -999.0,  -999.00, 9,   -999.0,   1.2029, 27.7761,   1.4766, 2, 9, 0.44, 0.14, 0.01, 0.016,  -999.00, 9, -999.00, -999.00, 9, -999.00
49NZ20071008, P14N, 95, 1, 10, X12012, 2, 20071115, 1911, 15.0113, 178.9915, 5415,   3831.1, 2,   1.4535, 2,  34.6853, 2,  34.6852, 2,    151.1, 2,    151.4, 2,   145.61, 2,    36.35, 2,     0.01, 2,     2.52, 2, -999.000, 9, -999.000, 9, -999.000, 9, -999.000, 9,   -999.0, 9,   -999.0, 9, -999.0000,   -999.00,   -999.0, 9,   -999.0,  -999.00, 9,   -999.0,   1.1541, 27.7821,   1.4535, 2, 9, 0.44, 0.13, 0.01, 0.016,  -999.00, 9, -999.00, -999.00, 9, -999.00
49NZ20071008, P14N, 95, 1, 9, X12015, 2, 20071115, 1911, 15.0113, 178.9915, 5415,   4079.9, 2,   1.4337, 2,  34.6885, 2,  34.6885, 6,    157.1, 2,    157.4, 2,   142.14, 2,    35.84, 2,     0.01, 2,     2.49, 2,    0.000, 2,    0.000, 2,    0.000, 2, -999.000, 9,   -999.0, 9,   -999.0, 9, -999.0000,   -999.00,   -999.0, 9,   -999.0,  -999.00, 9,   -999.0,   1.1079, 27.7878,   1.4336, 2, 9, 0.43, 0.13, 0.01, 0.016,  -999.00, 9, -999.00, -999.00, 9, -999.00
49NZ20071008, P14N, 95, 1, 8, X12046, 2, 20071115, 1911, 15.0113, 178.9915, 5415,   4329.9, 2,   1.3977, 2,  34.6929, 2,  34.6929, 2,    165.7, 2,    165.9, 2,   137.34, 2,    35.29, 2,     0.01, 2,     2.44, 2, -999.000, 9, -999.000, 9, -999.000, 9, -999.000, 9,   -999.0, 9,   -999.0, 9, -999.0000,   -999.00,   -999.0, 9,   -999.0,  -999.00, 9,   -999.0,   1.0452, 27.7956,   1.3977, 2, 9, 0.42, 0.13, 0.01, 0.016,  -999.00, 9, -999.00, -999.00, 9, -999.00
49NZ20071008, P14N, 95, 1, 7, X12044, 2, 20071115, 1911, 15.0113, 178.9915, 5415,   4581.6, 2,   1.3633, 2,  34.6973, 2,  34.6973, 2,    174.3, 2,    174.8, 2,   131.65, 2,    34.69, 2,     0.01, 2,     2.40, 2, -999.000, 9, -999.000, 9, -999.000, 9, -999.000, 9,   -999.0, 9,   -999.0, 9, -999.0000,   -999.00,   -999.0, 9,   -999.0,  -999.00, 9,   -999.0,   0.9831, 27.8032,   1.3632, 2, 9, 0.41, 0.13, 0.01, 0.016,  -999.00, 9, -999.00, -999.00, 9, -999.00
49NZ20071008, P14N, 95, 1, 6, X12048, 2, 20071115, 1911, 15.0113, 178.9915, 5415,   4830.7, 2,   1.3377, 2,  34.7008, 2,  34.7011, 2,    181.7, 2,    182.0, 2,   127.28, 2,    34.15, 2,     0.01, 2,     2.36, 2,    0.000, 2,    0.000, 2,    0.000, 2, -999.000, 9,   -999.0, 9,   -999.0, 9, -999.0000,   -999.00,   -999.0, 9,   -999.0,  -999.00, 9,   -999.0,   0.9291, 27.8096,   1.3377, 2, 9, 0.40, 0.13, 0.01, 0.016,  -999.00, 9, -999.00, -999.00, 9, -999.00
49NZ20071008, P14N, 95, 1, 5, X12014, 2, 20071115, 1911, 15.0113, 178.9915, 5415,   5079.7, 2,   1.3363, 2,  34.7024, 2,  34.7028, 2,    186.0, 2,    185.8, 2,   125.40, 2,    33.74, 2,     0.01, 2,     2.33, 2, -999.000, 9, -999.000, 9, -999.000, 9, -999.000, 9,   -999.0, 9,   -999.0, 9, -999.0000,   -999.00,   -999.0, 9,   -999.0,  -999.00, 9,   -999.0,   0.8978, 27.8130,   1.3362, 2, 9, 0.39, 0.13, 0.01, 0.016,  -999.00, 9, -999.00, -999.00, 9, -999.00
49NZ20071008, P14N, 95, 1, 4, X12006, 2, 20071115, 1911, 15.0113, 178.9915, 5415,   5328.8, 2,   1.3593, 2,  34.7028, 2,  34.7029, 2,    187.3, 2,    186.8, 2,   124.89, 2,    33.68, 2,     0.01, 2,     2.33, 2,    0.000, 2,    0.000, 2,    0.000, 2, -999.000, 9,   -999.0, 9,   -999.0, 9, -999.0000,   -999.00,   -999.0, 9,   -999.0,  -999.00, 9,   -999.0,   0.8893, 27.8138,   1.3594, 2, 9, 0.39, 0.13, 0.01, 0.016,  -999.00, 9, -999.00, -999.00, 9, -999.00
49NZ20071008, P14N, 95, 1, 3, X12013, 2, 20071115, 1911, 15.0113, 178.9915, 5415,    470.6, 2,   7.5870, 2,  34.3622, 2,  34.3615, 2,     48.7, 2,     49.0, 2,  -999.00, 9,  -999.00, 9,  -999.00, 9,  -999.00, 9, -999.000, 9, -999.000, 9, -999.000, 9, -999.000, 9,   -999.0, 9,   -999.0, 9, -999.0000,   -999.00,   -999.0, 9,   -999.0,  -999.00, 9,   -999.0,   7.5404, 26.8402,   7.5863, 2, 9, -999.00, -999.00, -999.00, -999.000,  -999.00, 9, -999.00, -999.00, 9, -999.00
49NZ20071008, P14N, 95, 1, 2, X12002, 2, 20071115, 1911, 15.0113, 178.9915, 5415,    371.3, 2,   9.3688, 2,  34.3041, 2,  34.3006, 2,     83.3, 2,     85.7, 2,  -999.00, 9,  -999.00, 9,  -999.00, 9,  -999.00, 9, -999.000, 9, -999.000, 9, -999.000, 9, -999.000, 9,   -999.0, 9,   -999.0, 9, -999.0000,   -999.00,   -999.0, 9,   -999.0,  -999.00, 9,   -999.0,   9.3274, 26.5204,   9.3709, 2, 9, -999.00, -999.00, -999.00, -999.000,  -999.00, 9, -999.00, -999.00, 9, -999.00
49NZ20071008, P14N, 95, 1, 1, X12001, 2, 20071115, 1911, 15.0113, 178.9915, 5415,   5498.8, 2,   1.3783, 2,  34.7029, 2,  34.7031, 6,    187.5, 2,    187.2, 2,   124.75, 2,    33.77, 2,     0.01, 2,     2.33, 2,    0.000, 2,    0.001, 2,    0.000, 2, -999.000, 9,   -999.0, 9,   -999.0, 9, -999.0000,   -999.00,   -999.0, 9,   -999.0,  -999.00, 9,   -999.0,   0.8862, 27.8141,   1.3784, 2, 9, 0.39, 0.13, 0.01, 0.016,  -999.00, 9, -999.00, -999.00, 9, -999.00