BOTTLE,20221005CCHSIOAMB
EXPOCODE,SECT_ID,STNNBR,CASTNO,SAMPNO,BTLNBR,BTLNBR_FLAG_W,DATE,TIME,LATITUDE,LONGITUDE,DEPTH,CTDPRS,CTDPRS_FLAG_W,CTDTMP,CTDTMP_FLAG_W,CTDSAL,CTDSAL_FLAG_W,SALNTY,SALNTY_FLAG_W,CTDOXY,CTDOXY_FLAG_W,OXYGEN,OXYGEN_FLAG_W,SILCAT,SILCAT_FLAG_W,NITRAT,NITRAT_FLAG_W,NITRIT,NITRIT_FLAG_W,PHSPHT,PHSPHT_FLAG_W,CFC-11,CFC-11_FLAG_W,CFC-12,CFC-12_FLAG_W,CFC113,CFC113_FLAG_W,CCL4,CCL4_FLAG_W,TCARBN,TCARBN_FLAG_W,ALKALI,ALKALI_FLAG_W,PH_TOT,PH_TMP,DELC14,DELC14_FLAG_W,C14ERR,DELC13,DELC13_FLAG_W,C13ERR,THETA,SIG0,SBE35,SBE35_FLAG_W,PH_TOT_FLAG_W,SILUNC,NRAUNC,NRIUNC,PHPUNC,CS-137,CS-137_FLAG_W,CS137ER,PLUTO,PLUTO_FLAG_W,PLUTOER
,,,,,,,,,,,METERS,DBAR,,ITS-90,,PSS-78,,PSS-78,,UMOL/KG,,UMOL/KG,,UMOL/KG,,UMOL/KG,,UMOL/KG,,UMOL/KG,,PMOL/KG,,PMOL/KG,,PMOL/KG,,PMOL/KG,,UMOL/KG,,UMOL/KG,,,DEG C,/MILLE,,/MILLE,/MILLE,,/MILLE,DEG C,KG/M^3,ITS-90,,,UMOL/KG,UMOL/KG,UMOL/KG,UMOL/KG,DM/.1MG,,BQ/M^3,MBQ/M^3,,MBQ/M^3
49NZ20071008, P01, P01_49, 1, 36, X12042, 2, 20071017, 1013, 47.0078, 169.1847, 2648,      9.9, 2,   9.0204, 2,  32.6462, 2,  32.6465, 2,    289.4, 2,    289.1, 2,    22.30, 2,    14.15, 2,     0.27, 2,     1.36, 2,    3.840, 2,    2.144, 2,    0.359, 2, -999.000, 9,   -999.0, 9,   -999.0, 9, -999.0000,   -999.00,   -999.0, 9,   -999.0,  -999.00, 9,   -999.0,   9.0194, 25.2723,   9.0196, 2, 9, 0.17, 0.07, 0.01, 0.014,  -999.00, 9, -999.00, -999.00, 9, -999.00
49NZ20071008, P01, P01_49, 1, 35, X12041, 2, 20071017, 1013, 47.0078, 169.1847, 2648,     49.4, 2,   8.8982, 2,  32.6515, 2,  32.6576, 2,    283.9, 2,    289.2, 2,    23.04, 2,    14.53, 2,     0.28, 2,     1.38, 2,    3.869, 2,    2.136, 2,    0.363, 2, -999.000, 9,   -999.0, 9,   -999.0, 9, -999.0000,   -999.00,   -999.0, 9,   -999.0,  -999.00, 9,   -999.0,   8.8931, 25.2961,   8.9395, 2, 9, 0.17, 0.07, 0.01, 0.014,  -999.00, 9, -999.00, -999.00, 9, -999.00
49NZ20071008, P01, P01_49, 1, 34, X12016, 2, 20071017, 1013, 47.0078, 169.1847, 2648,    100.6, 2,   2.9018, 2,  33.1629, 2,  33.1642, 2,    281.4, 2,    267.6, 2,    47.91, 2,    27.73, 2,     0.03, 2,     2.14, 2,    4.866, 2,    2.582, 2,    0.433, 2, -999.000, 9,   -999.0, 9,   -999.0, 9, -999.0000,   -999.00,   -999.0, 9,   -999.0,  -999.00, 9,   -999.0,   2.8960, 26.4278,   2.9035, 2, 9, 0.22, 0.11, 0.01, 0.015,  -999.00, 9, -999.00, -999.00, 9, -999.00
49NZ20071008, P01, P01_49, 1, 33, X12033, 2, 20071017, 1013, 47.0078, 169.1847, 2648,    151.0, 2,   3.7467, 2,  33.7297, 2,  33.7206, 2,     79.4, 2,     88.0, 2,    79.56, 2,    40.66, 2,     0.03, 2,     2.92, 2,    2.767, 6,    1.383, 6,    0.206, 6, -999.000, 9,   -999.0, 9,   -999.0, 9, -999.0000,   -999.00,   -999.0, 9,   -999.0,  -999.00, 9,   -999.0,   3.7368, 26.8020,   3.7479, 2, 9, 0.29, 0.15, 0.01, 0.017,  -999.00, 9, -999.00, -999.00, 9, -999.00
49NZ20071008, P01, P01_49, 1, 32, X12038, 2, 20071017, 1013, 47.0078, 169.1847, 2648,    199.0, 2,   3.7527, 2,  33.8982, 2,  33.8985, 2,     36.6, 2,     35.7, 2,    93.16, 2,    44.32, 2,     0.03, 2,     3.14, 2,    1.970, 2,    0.974, 2,    0.133, 2, -999.000, 9,   -999.0, 9,   -999.0, 9, -999.0000,   -999.00,   -999.0, 9,   -999.0,  -999.00, 9,   -999.0,   3.7395, 26.9359,   3.7535, 2, 9, 0.32, 0.16, 0.01, 0.018,  -999.00, 9, -999.00, -999.00, 9, -999.00
49NZ20071008, P01, P01_49, 1, 31, X12003, 2, 20071017, 1013, 47.0078, 169.1847, 2648,    251.0, 2,   3.6850, 2,  33.9833, 2,  33.9775, 6,     24.4, 2,     27.4, 2,   100.60, 2,    44.61, 2,     0.02, 2,     3.17, 2,    1.565, 2,    0.772, 2,    0.104, 4, -999.000, 9,   -999.0, 9,   -999.0, 9, -999.0000,   -999.00,   -999.0, 9,   -999.0,  -999.00, 9,   -999.0,   3.6683, 27.0106,   3.6816, 2, 9, 0.34, 0.16, 0.01, 0.018,  -999.00, 9, -999.00, -999.00, 9, -999.00
49NZ20071008, P01, P01_49, 1, 30, X12008, 2, 20071017, 1013, 47.0078, 169.1847, 2648,    330.0, 2,   3.6634, 2,  34.0833, 2,  34.0829, 2,     16.6, 2,     16.8, 2,   109.42, 2,    44.87, 2,     0.02, 2,     3.19, 2,    1.015, 2,    0.488, 2,    0.067, 2, -999.000, 9,   -999.0, 9,   -999.0, 9, -999.0000,   -999.00,   -999.0, 9,   -999.0,  -999.00, 9,   -999.0,   3.6412, 27.0929,   3.6631, 2, 9, 0.36, 0.16, 0.01, 0.018,  -999.00, 9, -999.00, -999.00, 9, -999.00
49NZ20071008, P01, P01_49, 1, 29, X12035, 2, 20071017, 1013, 47.0078, 169.1847, 2648,    429.8, 2,   3.5036, 2,  34.1691, 2,  34.1686, 2,     15.4, 2,     15.0, 2,   118.81, 2,    44.56, 2,     0.02, 2,     3.16, 2,    0.643, 2,    0.306, 2,    0.047, 2, -999.000, 9,   -999.0, 9,   -999.0, 9, -999.0000,   -999.00,   -999.0, 9,   -999.0,  -999.00, 9,   -999.0,   3.4749, 27.1774,   3.5037, 2, 9, 0.38, 0.16, 0.01, 0.018,  -999.00, 9, -999.00, -999.00, 9, -999.00
49NZ20071008, P01, P01_49, 1, 28, X12034, 2, 20071017, 1013, 47.0078, 169.1847, 2648,    529.7, 2,   3.3095, 2,  34.2412, 2,  34.2417, 6,     14.3, 2,     14.3, 2,   127.76, 2,    44.51, 2,     0.03, 2,     3.18, 2,    0.408, 2,    0.196, 2,    0.029, 2, -999.000, 9,   -999.0, 9,   -999.0, 9, -999.0000,   -999.00,   -999.0, 9,   -999.0,  -999.00, 9,   -999.0,   3.2744, 27.2540,   3.3095, 2, 9, 0.40, 0.16, 0.01, 0.018,  -999.00, 9, -999.00, -999.00, 9, -999.00
49NZ20071008, P01, P01_49, 1, 27, X12049, 2, 20071017, 1013, 47.0078, 169.1847, 2648,    629.8, 2,   3.1463, 2,  34.2912, 2,  34.2914, 2,     15.2, 2,     15.6, 2,   133.71, 2,    44.36, 2,     0.02, 2,     3.16, 2,    0.283, 2,    0.133, 2,    0.026, 2, -999.000, 9,   -999.0, 9,   -999.0, 9, -999.0000,   -999.00,   -999.0, 9,   -999.0,  -999.00, 9,   -999.0,   3.1049, 27.3097,   3.1458, 2, 9, 0.41, 0.16, 0.01, 0.018,  -999.00, 9, -999.00, -999.00, 9, -999.00
49NZ20071008, P01, P01_49, 1, 26, X12032, 2, 20071017, 1013, 47.0078, 169.1847, 2648,    730.0, 2,   2.9926, 2,  34.3340, 2,  34.3353, 2,     17.3, 2,     17.0, 2,   139.24, 2,    44.29, 2,     0.03, 2,     3.16, 2,    0.197, 6,    0.093, 6,    0.011, 6, -999.000, 9,   -999.0, 9,   -999.0, 9, -999.0000,   -999.00,   -999.0, 9,   -999.0,  -999.00, 9,   -999.0,   2.9448, 27.3584,   2.9924, 2, 9, 0.43, 0.16, 0.01, 0.018,  -999.00, 9, -999.00, -999.00, 9, -999.00
49NZ20071008, P01, P01_49, 1, 25, X12043, 2, 20071017, 1013, 47.0078, 169.1847, 2648,    831.1, 2,   2.8338, 2,  34.3742, 2,  34.3749, 2,     18.7, 2,     18.8, 2,   144.70, 2,    44.19, 2,     0.02, 2,     3.16, 2,    0.138, 2,    0.066, 2,    0.006, 2, -999.000, 9,   -999.0, 9,   -999.0, 9, -999.0000,   -999.00,   -999.0, 9,   -999.0,  -999.00, 9,   -999.0,   2.7797, 27.4053,   2.8333, 2, 9, 0.44, 0.16, 0.01, 0.018,  -999.00, 9, -999.00, -999.00, 9, -999.00
49NZ20071008, P01, P01_49, 1, 24, X12030, 2, 20071017, 1013, 47.0078, 169.1847, 2648,    931.2, 2,   2.6601, 2,  34.4151, 2,  34.4151, 2,     22.2, 2,     22.0, 2,   149.83, 2,    43.97, 2,     0.02, 2,     3.15, 2,    0.097, 2,    0.046, 2,    0.004, 2, -999.000, 9,   -999.0, 9,   -999.0, 9, -999.0000,   -999.00,   -999.0, 9,   -999.0,  -999.00, 9,   -999.0,   2.6000, 27.4536,   2.6599, 2, 9, 0.45, 0.16, 0.01, 0.018,  -999.00, 9, -999.00, -999.00, 9, -999.00
49NZ20071008, P01, P01_49, 1, 23, X12027, 2, 20071017, 1013, 47.0078, 169.1847, 2648,   1072.0, 2,   2.4861, 2,  34.4542, 2,  34.4549, 6,     29.6, 2,     29.1, 2,   154.83, 2,    43.58, 2,     0.02, 2,     3.12, 2,    0.079, 2,    0.037, 2,    0.005, 2, -999.000, 9,   -999.0, 9,   -999.0, 9, -999.0000,   -999.00,   -999.0, 9,   -999.0,  -999.00, 9,   -999.0,   2.4171, 27.5004,   2.4854, 2, 9, 0.46, 0.15, 0.01, 0.018,  -999.00, 9, -999.00, -999.00, 9, -999.00
49NZ20071008, P01, P01_49, 1, 22, X12028, 2, 20071017, 1013, 47.0078, 169.1847, 2648,   1271.0, 2,   2.3052, 2,  34.4950, 2,  34.4953, 2,     36.9, 2,     34.1, 2,   160.23, 2,    43.29, 2,     0.02, 2,     3.09, 2,    0.047, 2,    0.022, 2,    0.005, 2, -999.000, 9,   -999.0, 9,   -999.0, 9, -999.0000,   -999.00,   -999.0, 9,   -999.0,  -999.00, 9,   -999.0,   2.2231, 27.5492,   2.3051, 2, 9, 0.47, 0.15, 0.01, 0.018,  -999.00, 9, -999.00, -999.00, 9, -999.00
49NZ20071008, P01, P01_49, 1, 21, X12009, 2, 20071017, 1013, 47.0078, 169.1847, 2648,   1472.1, 2,   2.1327, 2,  34.5393, 2,  34.5398, 2,     48.9, 2,     48.1, 2,   162.04, 2,    42.57, 2,     0.02, 2,     3.03, 2,    0.024, 2,    0.012, 2,    0.000, 2, -999.000, 9,   -999.0, 9,   -999.0, 9, -999.0000,   -999.00,   -999.0, 9,   -999.0,  -999.00, 9,   -999.0,   2.0371, 27.5996,   2.1324, 2, 9, 0.48, 0.15, 0.01, 0.018,  -999.00, 9, -999.00, -999.00, 9, -999.00
49NZ20071008, P01, P01_49, 1, 20, X12026, 2, 20071017, 1013, 47.0078, 169.1847, 2648,   1668.5, 2,   1.9929, 2,  34.5706, 2,  34.5715, 2,     60.5, 2,     59.4, 2,   163.68, 2,    42.00, 2,     0.02, 2,     2.98, 2,    0.007, 2,    0.004, 2,    0.000, 2, -999.000, 9,   -999.0, 9,   -999.0, 9, -999.0000,   -999.00,   -999.0, 9,   -999.0,  -999.00, 9,   -999.0,   1.8837, 27.6367,   1.9927, 2, 9, 0.48, 0.15, 0.01, 0.017,  -999.00, 9, -999.00, -999.00, 9, -999.00
49NZ20071008, P01, P01_49, 1, 19, X12025, 2, 20071017, 1013, 47.0078, 169.1847, 2648,   1869.7, 2,   1.8767, 2,  34.5953, 2,  34.5960, 6,     71.9, 2,     72.4, 2,   163.51, 2,    41.17, 2,     0.02, 2,     2.92, 2,    0.001, 2,    0.000, 2,    0.000, 2, -999.000, 9,   -999.0, 9,   -999.0, 9, -999.0000,   -999.00,   -999.0, 9,   -999.0,  -999.00, 9,   -999.0,   1.7529, 27.6666,   1.8766, 2, 9, 0.48, 0.15, 0.01, 0.017,  -999.00, 9, -999.00, -999.00, 9, -999.00
49NZ20071008, P01, P01_49, 1, 18, X12024, 2, 20071017, 1013, 47.0078, 169.1847, 2648,   2071.5, 2,   1.7763, 2,  34.6147, 2,  34.6158, 2,     83.6, 2,     84.4, 2,   163.23, 2,    40.43, 2,     0.02, 2,     2.87, 2,    0.000, 2,    0.000, 2,    0.000, 2, -999.000, 9,   -999.0, 9,   -999.0, 9, -999.0000,   -999.00,   -999.0, 9,   -999.0,  -999.00, 9,   -999.0,   1.6374, 27.6909,   1.7761, 2, 9, 0.48, 0.15, 0.01, 0.017,  -999.00, 9, -999.00, -999.00, 9, -999.00
49NZ20071008, P01, P01_49, 1, 17, X12023, 2, 20071017, 1013, 47.0078, 169.1847, 2648,   2270.4, 2,   1.6863, 2,  34.6295, 2,  34.6306, 2,     93.7, 2,     93.7, 2,   164.83, 2,    39.87, 2,     0.02, 2,     2.82, 2,    0.000, 2,    0.000, 2,    0.000, 2, -999.000, 9,   -999.0, 9,   -999.0, 9, -999.0000,   -999.00,   -999.0, 9,   -999.0,  -999.00, 9,   -999.0,   1.5320, 27.7105,   1.6861, 2, 9, 0.48, 0.14, 0.01, 0.017,  -999.00, 9, -999.00, -999.00, 9, -999.00
49NZ20071008, P01, P01_49, 1, 16, X12022, 2, 20071017, 1013, 47.0078, 169.1847, 2648,   2470.9, 2,   1.6418, 2,  34.6394, 2,  34.6403, 2,    102.4, 2,    102.9, 2,   162.26, 2,    39.19, 2,     0.01, 2,     2.77, 2,    0.000, 2,    0.000, 2,    0.000, 2, -999.000, 9,   -999.0, 9,   -999.0, 9, -999.0000,   -999.00,   -999.0, 9,   -999.0,  -999.00, 9,   -999.0,   1.4708, 27.7229,   1.6410, 2, 9, 0.48, 0.14, 0.01, 0.017,  -999.00, 9, -999.00, -999.00, 9, -999.00
49NZ20071008, P01, P01_49, 1, 15, X12021, 9, 20071017, 1013, 47.0078, 169.1847, 2648,      9.8, 2,   9.0205, 2,  32.6463, 2, -999.0000, 9,    289.4, 2,   -999.0, 9,  -999.00, 9,  -999.00, 9,  -999.00, 9,  -999.00, 9, -999.000, 9, -999.000, 9, -999.000, 9, -999.000, 9,   -999.0, 9,   -999.0, 9, -999.0000,   -999.00,   -999.0, 9,   -999.0,  -999.00, 9,   -999.0,   9.0195, 25.2724,   9.0204, 2, 9, -999.00, -999.00, -999.00, -999.000,  -999.00, 9, -999.00, -999.00, 9, -999.00
49NZ20071008, P01, P01_49, 1, 14, X12020, 9, 20071017, 1013, 47.0078, 169.1847, 2648,     49.6, 2,   8.9660, 2,  32.6478, 2, -999.0000, 9,    288.1, 2,   -999.0, 9,  -999.00, 9,  -999.00, 9,  -999.00, 9,  -999.00, 9, -999.000, 9, -999.000, 9, -999.000, 9, -999.000, 9,   -999.0, 9,   -999.0, 9, -999.0000,   -999.00,   -999.0, 9,   -999.0,  -999.00, 9,   -999.0,   8.9608, 25.2827,   8.9848, 2, 9, -999.00, -999.00, -999.00, -999.000,  -999.00, 9, -999.00, -999.00, 9, -999.00
49NZ20071008, P01, P01_49, 1, 13, X12019, 9, 20071017, 1013, 47.0078, 169.1847, 2648,    101.0, 2,   2.9045, 2,  33.1673, 2, -999.0000, 9,    279.8, 2,   -999.0, 9,  -999.00, 9,  -999.00, 9,  -999.00, 9,  -999.00, 9, -999.000, 9, -999.000, 9, -999.000, 9, -999.000, 9,   -999.0, 9,   -999.0, 9, -999.0000,   -999.00,   -999.0, 9,   -999.0,  -999.00, 9,   -999.0,   2.8987, 26.4310,   2.9051, 2, 9, -999.00, -999.00, -999.00, -999.000,  -999.00, 9, -999.00, -999.00, 9, -999.00
49NZ20071008, P01, P01_49, 1, 12, X12040, 9, 20071017, 1013, 47.0078, 169.1847, 2648,    150.6, 2,   3.7468, 2,  33.7262, 2, -999.0000, 9,     80.9, 2,   -999.0, 9,  -999.00, 9,  -999.00, 9,  -999.00, 9,  -999.00, 9, -999.000, 9, -999.000, 9, -999.000, 9, -999.000, 9,   -999.0, 9,   -999.0, 9, -999.0000,   -999.00,   -999.0, 9,   -999.0,  -999.00, 9,   -999.0,   3.7369, 26.7992,   3.7477, 2, 9, -999.00, -999.00, -999.00, -999.000,  -999.00, 9, -999.00, -999.00, 9, -999.00
49NZ20071008, P01, P01_49, 1, 11, X12047, 9, 20071017, 1013, 47.0078, 169.1847, 2648,    198.9, 2,   3.7504, 2,  33.8985, 2, -999.0000, 9,     36.6, 2,   -999.0, 9,  -999.00, 9,  -999.00, 9,  -999.00, 9,  -999.00, 9, -999.000, 9, -999.000, 9, -999.000, 9, -999.000, 9,   -999.0, 9,   -999.0, 9, -999.0000,   -999.00,   -999.0, 9,   -999.0,  -999.00, 9,   -999.0,   3.7372, 26.9363,   3.7501, 2, 9, -999.00, -999.00, -999.00, -999.000,  -999.00, 9, -999.00, -999.00, 9, -999.00
49NZ20071008, P01, P01_49, 1, 10, X12010, 9, 20071017, 1013, 47.0078, 169.1847, 2648,    250.4, 2,   3.6707, 2,  33.9801, 2, -999.0000, 9,     24.5, 2,   -999.0, 9,  -999.00, 9,  -999.00, 9,  -999.00, 9,  -999.00, 9, -999.000, 9, -999.000, 9, -999.000, 9, -999.000, 9,   -999.0, 9,   -999.0, 9, -999.0000,   -999.00,   -999.0, 9,   -999.0,  -999.00, 9,   -999.0,   3.6541, 27.0095,   3.6707, 2, 9, -999.00, -999.00, -999.00, -999.000,  -999.00, 9, -999.00, -999.00, 9, -999.00
49NZ20071008, P01, P01_49, 1, 9, X12015, 9, 20071017, 1013, 47.0078, 169.1847, 2648,    330.4, 2,   3.6622, 2,  34.0843, 2, -999.0000, 9,     16.6, 2,   -999.0, 9,  -999.00, 9,  -999.00, 9,  -999.00, 9,  -999.00, 9, -999.000, 9, -999.000, 9, -999.000, 9, -999.000, 9,   -999.0, 9,   -999.0, 9, -999.0000,   -999.00,   -999.0, 9,   -999.0,  -999.00, 9,   -999.0,   3.6400, 27.0938,   3.6621, 2, 9, -999.00, -999.00, -999.00, -999.000,  -999.00, 9, -999.00, -999.00, 9, -999.00
49NZ20071008, P01, P01_49, 1, 8, X12046, 9, 20071017, 1013, 47.0078, 169.1847, 2648,    429.6, 2,   3.5040, 2,  34.1689, 2, -999.0000, 9,     15.4, 2,   -999.0, 9,  -999.00, 9,  -999.00, 9,  -999.00, 9,  -999.00, 9, -999.000, 9, -999.000, 9, -999.000, 9, -999.000, 9,   -999.0, 9,   -999.0, 9, -999.0000,   -999.00,   -999.0, 9,   -999.0,  -999.00, 9,   -999.0,   3.4753, 27.1772,   3.5037, 2, 9, -999.00, -999.00, -999.00, -999.000,  -999.00, 9, -999.00, -999.00, 9, -999.00
49NZ20071008, P01, P01_49, 1, 7, X12044, 9, 20071017, 1013, 47.0078, 169.1847, 2648,    529.7, 2,   3.3106, 2,  34.2409, 2, -999.0000, 9,     14.3, 2,   -999.0, 9,  -999.00, 9,  -999.00, 9,  -999.00, 9,  -999.00, 9, -999.000, 9, -999.000, 9, -999.000, 9, -999.000, 9,   -999.0, 9,   -999.0, 9, -999.0000,   -999.00,   -999.0, 9,   -999.0,  -999.00, 9,   -999.0,   3.2755, 27.2537,   3.3105, 2, 9, -999.00, -999.00, -999.00, -999.000,  -999.00, 9, -999.00, -999.00, 9, -999.00
49NZ20071008, P01, P01_49, 1, 6, X12048, 9, 20071017, 1013, 47.0078, 169.1847, 2648,    629.6, 2,   3.1461, 2,  34.2913, 2, -999.0000, 9,     15.2, 2,   -999.0, 9,  -999.00, 9,  -999.00, 9,  -999.00, 9,  -999.00, 9, -999.000, 9, -999.000, 9, -999.000, 9, -999.000, 9,   -999.0, 9,   -999.0, 9, -999.0000,   -999.00,   -999.0, 9,   -999.0,  -999.00, 9,   -999.0,   3.1047, 27.3098,   3.1460, 2, 9, -999.00, -999.00, -999.00, -999.000,  -999.00, 9, -999.00, -999.00, 9, -999.00
49NZ20071008, P01, P01_49, 1, 5, X12014, 9, 20071017, 1013, 47.0078, 169.1847, 2648,    730.1, 2,   2.9929, 2,  34.3340, 2, -999.0000, 9,     17.3, 2,   -999.0, 9,  -999.00, 9,  -999.00, 9,  -999.00, 9,  -999.00, 9, -999.000, 9, -999.000, 9, -999.000, 9, -999.000, 9,   -999.0, 9,   -999.0, 9, -999.0000,   -999.00,   -999.0, 9,   -999.0,  -999.00, 9,   -999.0,   2.9451, 27.3584,   2.9928, 2, 9, -999.00, -999.00, -999.00, -999.000,  -999.00, 9, -999.00, -999.00, 9, -999.00
49NZ20071008, P01, P01_49, 1, 4, X12006, 9, 20071017, 1013, 47.0078, 169.1847, 2648,    831.4, 2,   2.8326, 2,  34.3745, 2, -999.0000, 9,     18.8, 2,   -999.0, 9,  -999.00, 9,  -999.00, 9,  -999.00, 9,  -999.00, 9, -999.000, 9, -999.000, 9, -999.000, 9, -999.000, 9,   -999.0, 9,   -999.0, 9, -999.0000,   -999.00,   -999.0, 9,   -999.0,  -999.00, 9,   -999.0,   2.7785, 27.4056,   2.8324, 2, 9, -999.00, -999.00, -999.00, -999.000,  -999.00, 9, -999.00, -999.00, 9, -999.00
49NZ20071008, P01, P01_49, 1, 3, X12013, 9, 20071017, 1013, 47.0078, 169.1847, 2648,    931.4, 2,   2.6600, 2,  34.4151, 2, -999.0000, 9,     22.2, 2,   -999.0, 9,  -999.00, 9,  -999.00, 9,  -999.00, 9,  -999.00, 9, -999.000, 9, -999.000, 9, -999.000, 9, -999.000, 9,   -999.0, 9,   -999.0, 9, -999.0000,   -999.00,   -999.0, 9,   -999.0,  -999.00, 9,   -999.0,   2.5999, 27.4537,   2.6598, 2, 9, -999.00, -999.00, -999.00, -999.000,  -999.00, 9, -999.00, -999.00, 9, -999.00
49NZ20071008, P01, P01_49, 1, 2, X12002, 9, 20071017, 1013, 47.0078, 169.1847, 2648,   2668.3, 2,   1.6056, 2,  34.6470, 2, -999.0000, 9,    109.8, 2,   -999.0, 9,  -999.00, 9,  -999.00, 9,  -999.00, 9,  -999.00, 9, -999.000, 9, -999.000, 9, -999.000, 9, -999.000, 9,   -999.0, 9,   -999.0, 9, -999.0000,   -999.00,   -999.0, 9,   -999.0,  -999.00, 9,   -999.0,   1.4176, 27.7328,   1.6055, 2, 9, -999.00, -999.00, -999.00, -999.000,  -999.00, 9, -999.00, -999.00, 9, -999.00
49NZ20071008, P01, P01_49, 1, 1, X12001, 2, 20071017, 1013, 47.0078, 169.1847, 2648,   2667.6, 2,   1.6053, 2,  34.6471, 2,  34.6480, 6,    109.8, 2,    109.7, 2,   161.76, 2,    38.88, 2,     0.01, 2,     2.74, 2,    0.000, 2,    0.001, 2,    0.000, 2, -999.000, 9,   -999.0, 9,   -999.0, 9, -999.0000,   -999.00,   -999.0, 9,   -999.0,  -999.00, 9,   -999.0,   1.4174, 27.7329,   1.6051, 2, 9, 0.48, 0.14, 0.01, 0.017,  -999.00, 9, -999.00, -999.00, 9, -999.00