BOTTLE,20221005CCHSIOAMB
EXPOCODE,SECT_ID,STNNBR,CASTNO,SAMPNO,BTLNBR,BTLNBR_FLAG_W,DATE,TIME,LATITUDE,LONGITUDE,DEPTH,CTDPRS,CTDPRS_FLAG_W,CTDTMP,CTDTMP_FLAG_W,CTDSAL,CTDSAL_FLAG_W,SALNTY,SALNTY_FLAG_W,CTDOXY,CTDOXY_FLAG_W,OXYGEN,OXYGEN_FLAG_W,SILCAT,SILCAT_FLAG_W,NITRAT,NITRAT_FLAG_W,NITRIT,NITRIT_FLAG_W,PHSPHT,PHSPHT_FLAG_W,CFC-11,CFC-11_FLAG_W,CFC-12,CFC-12_FLAG_W,CFC113,CFC113_FLAG_W,CCL4,CCL4_FLAG_W,TCARBN,TCARBN_FLAG_W,ALKALI,ALKALI_FLAG_W,PH_TOT,PH_TMP,DELC14,DELC14_FLAG_W,C14ERR,DELC13,DELC13_FLAG_W,C13ERR,THETA,SIG0,SBE35,SBE35_FLAG_W,PH_TOT_FLAG_W,SILUNC,NRAUNC,NRIUNC,PHPUNC,CS-137,CS-137_FLAG_W,CS137ER,PLUTO,PLUTO_FLAG_W,PLUTOER
,,,,,,,,,,,METERS,DBAR,,ITS-90,,PSS-78,,PSS-78,,UMOL/KG,,UMOL/KG,,UMOL/KG,,UMOL/KG,,UMOL/KG,,UMOL/KG,,PMOL/KG,,PMOL/KG,,PMOL/KG,,PMOL/KG,,UMOL/KG,,UMOL/KG,,,DEG C,/MILLE,,/MILLE,/MILLE,,/MILLE,DEG C,KG/M^3,ITS-90,,,UMOL/KG,UMOL/KG,UMOL/KG,UMOL/KG,DM/.1MG,,BQ/M^3,MBQ/M^3,,MBQ/M^3
49NZ20071008, P14N, 103, 1, 36, X12042, 2, 20071117, 2019, 11.0142, 178.9908, 5425,     10.0, 2,  28.1030, 2,  34.3855, 2,  34.3853, 2,    198.4, 2,    198.1, 2,     1.09, 2,     0.05, 2,     0.01, 2,     0.17, 2,    1.498, 2,    0.924, 2,    0.309, 4, -999.000, 9,   -999.0, 9,   -999.0, 9, -999.0000,   -999.00,   -999.0, 9,   -999.0,  -999.00, 9,   -999.0,  28.1006, 21.8997,  28.1018, 2, 9, 0.12, 0.03, 0.01, 0.017,  -999.00, 9, -999.00, -999.00, 9, -999.00
49NZ20071008, P14N, 103, 1, 35, X12041, 2, 20071117, 2019, 11.0142, 178.9908, 5425,     50.1, 2,  28.1099, 2,  34.3849, 2,  34.3856, 2,    198.5, 2,    198.0, 2,     1.09, 2,     0.03, 2,     0.01, 2,     0.16, 2,    1.509, 2,    0.940, 2,    0.311, 4, -999.000, 9,   -999.0, 9,   -999.0, 9, -999.0000,   -999.00,   -999.0, 9,   -999.0,  -999.00, 9,   -999.0,  28.0981, 21.9001,  28.1073, 2, 9, 0.12, 0.03, 0.01, 0.017,  -999.00, 9, -999.00, -999.00, 9, -999.00
49NZ20071008, P14N, 103, 1, 34, X12016, 2, 20071117, 2019, 11.0142, 178.9908, 5425,     99.8, 2,  25.5489, 2,  34.7674, 2,  34.7695, 2,    183.2, 2,    188.1, 2,     1.85, 2,     0.95, 2,     0.53, 2,     0.33, 2,    1.712, 2,    1.035, 2,    0.330, 4, -999.000, 9,   -999.0, 9,   -999.0, 9, -999.0000,   -999.00,   -999.0, 9,   -999.0,  -999.00, 9,   -999.0,  25.5269, 23.0044,  25.5600, 2, 9, 0.12, 0.04, 0.00, 0.014,  -999.00, 9, -999.00, -999.00, 9, -999.00
49NZ20071008, P14N, 103, 1, 33, X12033, 2, 20071117, 2019, 11.0142, 178.9908, 5425,    150.1, 2,  17.1260, 2,  34.6286, 2,  34.6366, 2,    171.5, 2,    171.4, 2,     5.27, 2,     6.81, 2,     0.03, 2,     0.63, 2,    2.433, 6,    1.410, 6,    0.084, 6, -999.000, 9,   -999.0, 9,   -999.0, 9, -999.0000,   -999.00,   -999.0, 9,   -999.0,  -999.00, 9,   -999.0,  17.1012, 25.2051,  17.1335, 2, 9, 0.13, 0.05, 0.01, 0.013,  -999.00, 9, -999.00, -999.00, 9, -999.00
49NZ20071008, P14N, 103, 1, 32, X12038, 2, 20071117, 2019, 11.0142, 178.9908, 5425,    200.5, 2,  12.0957, 2,  34.2767, 2,  34.2835, 2,    146.6, 2,    140.9, 2,    16.66, 2,    17.55, 2,     0.01, 2,     1.39, 2,    2.484, 2,    1.328, 2,    0.066, 2, -999.000, 9,   -999.0, 9,   -999.0, 9, -999.0000,   -999.00,   -999.0, 9,   -999.0,  -999.00, 9,   -999.0,  12.0696, 26.0140,  12.0825, 2, 9, 0.16, 0.08, 0.01, 0.014,  -999.00, 9, -999.00, -999.00, 9, -999.00
49NZ20071008, P14N, 103, 1, 31, X12003, 2, 20071117, 2019, 11.0142, 178.9908, 5425,    253.2, 2,  10.2602, 2,  34.3651, 2,  34.3659, 6,     79.1, 2,     80.0, 2,    29.30, 2,    27.20, 2,     0.01, 2,     2.09, 2,    1.510, 2,    0.764, 2,    0.031, 2, -999.000, 9,   -999.0, 9,   -999.0, 9, -999.0000,   -999.00,   -999.0, 9,   -999.0,  -999.00, 9,   -999.0,  10.2305, 26.4167,  10.2590, 2, 9, 0.18, 0.11, 0.01, 0.015,  -999.00, 9, -999.00, -999.00, 9, -999.00
49NZ20071008, P14N, 103, 1, 30, X12008, 2, 20071117, 2019, 11.0142, 178.9908, 5425,    300.8, 2,   9.4402, 2,  34.4813, 2,  34.4828, 2,     42.5, 2,     45.4, 2,    35.80, 2,    32.46, 2,     0.01, 2,     2.42, 2,    0.678, 2,    0.345, 2,    0.019, 2, -999.000, 9,   -999.0, 9,   -999.0, 9, -999.0000,   -999.00,   -999.0, 9,   -999.0,  -999.00, 9,   -999.0,   9.4066, 26.6461,   9.4379, 2, 9, 0.20, 0.12, 0.01, 0.016,  -999.00, 9, -999.00, -999.00, 9, -999.00
49NZ20071008, P14N, 103, 1, 29, X12035, 2, 20071117, 2019, 11.0142, 178.9908, 5425,    402.3, 2,   8.4934, 2,  34.5731, 2,  34.5707, 2,     47.3, 2,     47.0, 2,    41.52, 2,    35.25, 2,     0.01, 2,     2.54, 2,    0.237, 2,    0.126, 2,    0.009, 2, -999.000, 9,   -999.0, 9,   -999.0, 9, -999.0000,   -999.00,   -999.0, 9,   -999.0,  -999.00, 9,   -999.0,   8.4509, 26.8701,   8.4933, 2, 9, 0.21, 0.13, 0.01, 0.016,  -999.00, 9, -999.00, -999.00, 9, -999.00
49NZ20071008, P14N, 103, 1, 28, X12034, 2, 20071117, 2019, 11.0142, 178.9908, 5425,    499.3, 2,   7.6537, 2,  34.5491, 2,  34.5470, 6,     43.4, 2,     43.0, 2,    49.07, 2,    37.07, 2,     0.01, 2,     2.70, 2,    0.113, 2,    0.062, 2,    0.011, 2, -999.000, 9,   -999.0, 9,   -999.0, 9, -999.0000,   -999.00,   -999.0, 9,   -999.0,  -999.00, 9,   -999.0,   7.6038, 26.9780,   7.6499, 2, 9, 0.23, 0.14, 0.01, 0.017,  -999.00, 9, -999.00, -999.00, 9, -999.00
49NZ20071008, P14N, 103, 1, 27, X12049, 2, 20071117, 2019, 11.0142, 178.9908, 5425,    602.6, 2,   6.9620, 2,  34.5358, 2,  34.5349, 2,     43.1, 2,     42.6, 2,    56.13, 2,    38.51, 2,     0.01, 2,     2.81, 2,    0.064, 2,    0.034, 2,    0.005, 2, -999.000, 9,   -999.0, 9,   -999.0, 9, -999.0000,   -999.00,   -999.0, 9,   -999.0,  -999.00, 9,   -999.0,   6.9045, 27.0662,   6.9622, 2, 9, 0.24, 0.14, 0.01, 0.017,  -999.00, 9, -999.00, -999.00, 9, -999.00
49NZ20071008, P14N, 103, 1, 26, X12032, 2, 20071117, 2019, 11.0142, 178.9908, 5425,    700.4, 2,   6.2725, 2,  34.5297, 2,  34.5288, 2,     43.0, 2,     43.0, 2,    64.88, 2,    39.99, 2,     0.01, 2,     2.90, 2,    0.030, 6,    0.015, 6,    0.006, 6, -999.000, 9,   -999.0, 9,   -999.0, 9, -999.0000,   -999.00,   -999.0, 9,   -999.0,  -999.00, 9,   -999.0,   6.2088, 27.1543,   6.2726, 2, 9, 0.26, 0.14, 0.01, 0.017,  -999.00, 9, -999.00, -999.00, 9, -999.00
49NZ20071008, P14N, 103, 1, 25, X12043, 2, 20071117, 2019, 11.0142, 178.9908, 5425,    800.7, 2,   5.5755, 2,  34.5310, 2,  34.5306, 2,     40.1, 2,     42.1, 2,    74.60, 2,    41.32, 2,     0.01, 2,     2.99, 2,    0.015, 2,    0.005, 2,    0.000, 2, -999.000, 9,   -999.0, 9,   -999.0, 9, -999.0000,   -999.00,   -999.0, 9,   -999.0,  -999.00, 9,   -999.0,   5.5064, 27.2434,   5.5769, 2, 9, 0.28, 0.15, 0.01, 0.017,  -999.00, 9, -999.00, -999.00, 9, -999.00
49NZ20071008, P14N, 103, 1, 24, X12030, 2, 20071117, 2019, 11.0142, 178.9908, 5425,    901.6, 2,   5.0796, 2,  34.5377, 2,  34.5382, 2,     43.0, 2,     46.4, 2,    83.11, 2,    41.71, 2,     0.01, 2,     3.01, 2,    0.010, 2,    0.007, 2,    0.009, 2, -999.000, 9,   -999.0, 9,   -999.0, 9, -999.0000,   -999.00,   -999.0, 9,   -999.0,  -999.00, 9,   -999.0,   5.0045, 27.3082,   5.0790, 2, 9, 0.30, 0.15, 0.01, 0.017,  -999.00, 9, -999.00, -999.00, 9, -999.00
49NZ20071008, P14N, 103, 1, 23, X12027, 2, 20071117, 2019, 11.0142, 178.9908, 5425,    999.9, 2,   4.6418, 2,  34.5484, 2,  34.5474, 6,     58.0, 2,     56.2, 2,    90.15, 2,    41.32, 2,     0.01, 2,     2.98, 2,    0.008, 2,    0.005, 2,    0.000, 2, -999.000, 9,   -999.0, 9,   -999.0, 9, -999.0000,   -999.00,   -999.0, 9,   -999.0,  -999.00, 9,   -999.0,   4.5612, 27.3668,   4.6416, 2, 9, 0.32, 0.15, 0.01, 0.017,  -999.00, 9, -999.00, -999.00, 9, -999.00
49NZ20071008, P14N, 103, 1, 22, X12028, 2, 20071117, 2019, 11.0142, 178.9908, 5425,   1201.0, 2,   3.8554, 2,  34.5682, 2,  34.5685, 2,     66.5, 2,     67.7, 2,   105.82, 2,    41.16, 2,     0.01, 2,     2.96, 2,    0.007, 2,    0.003, 2,    0.000, 2, -999.000, 9,   -999.0, 9,   -999.0, 9, -999.0000,   -999.00,   -999.0, 9,   -999.0,  -999.00, 9,   -999.0,   3.7639, 27.4669,   3.8557, 2, 9, 0.35, 0.15, 0.01, 0.017,  -999.00, 9, -999.00, -999.00, 9, -999.00
49NZ20071008, P14N, 103, 1, 21, X12009, 2, 20071117, 2019, 11.0142, 178.9908, 5425,   1400.6, 2,   3.1846, 2,  34.5912, 2,  34.5916, 2,     75.7, 2,     75.8, 2,   119.63, 2,    40.94, 2,     0.01, 2,     2.94, 2,    0.000, 2,    0.000, 2,    0.000, 2, -999.000, 9,   -999.0, 9,   -999.0, 9, -999.0000,   -999.00,   -999.0, 9,   -999.0,  -999.00, 9,   -999.0,   3.0830, 27.5511,   3.1851, 2, 9, 0.38, 0.15, 0.01, 0.017,  -999.00, 9, -999.00, -999.00, 9, -999.00
49NZ20071008, P14N, 103, 1, 20, X12026, 2, 20071117, 2019, 11.0142, 178.9908, 5425,   1601.6, 2,   2.7428, 2,  34.6082, 2,  34.6082, 2,     87.3, 2,     87.2, 2,   128.25, 2,    39.94, 2,     0.01, 2,     2.85, 2,    0.000, 2,    0.000, 2,    0.000, 2, -999.000, 9,   -999.0, 9,   -999.0, 9, -999.0000,   -999.00,   -999.0, 9,   -999.0,  -999.00, 9,   -999.0,   2.6295, 27.6054,   2.7431, 2, 9, 0.40, 0.14, 0.01, 0.017,  -999.00, 9, -999.00, -999.00, 9, -999.00
49NZ20071008, P14N, 103, 1, 19, X12025, 2, 20071117, 2019, 11.0142, 178.9908, 5425,   1803.2, 2,   2.4280, 2,  34.6226, 2,  34.6227, 2,     95.6, 2,     93.8, 2,   136.17, 2,    39.98, 2,     0.01, 2,     2.84, 2,    0.000, 2,    0.000, 2,    0.000, 2, -999.000, 9,   -999.0, 9,   -999.0, 9, -999.0000,   -999.00,   -999.0, 9,   -999.0,  -999.00, 9,   -999.0,   2.3019, 27.6448,   2.4285, 2, 9, 0.42, 0.14, 0.01, 0.017,  -999.00, 9, -999.00, -999.00, 9, -999.00
49NZ20071008, P14N, 103, 1, 18, X12024, 2, 20071117, 2019, 11.0142, 178.9908, 5425,   2000.8, 2,   2.1969, 2,  34.6353, 2,  34.6353, 2,    101.5, 2,    100.9, 2,   141.19, 2,    39.54, 2,     0.01, 2,     2.80, 2,    0.000, 2,    0.000, 2,    0.000, 2, -999.000, 9,   -999.0, 9,   -999.0, 9, -999.0000,   -999.00,   -999.0, 9,   -999.0,  -999.00, 9,   -999.0,   2.0574, 27.6750,   2.1972, 2, 9, 0.43, 0.14, 0.01, 0.017,  -999.00, 9, -999.00, -999.00, 9, -999.00
49NZ20071008, P14N, 103, 1, 17, X12023, 2, 20071117, 2019, 11.0142, 178.9908, 5425,   2198.8, 2,   2.0477, 2,  34.6453, 2,  34.6454, 2,    106.8, 2,    106.4, 2,   144.23, 2,    39.39, 2,     0.01, 2,     2.77, 2,    0.000, 2,    0.000, 2,    0.000, 2, -999.000, 9,   -999.0, 9,   -999.0, 9, -999.0000,   -999.00,   -999.0, 9,   -999.0,  -999.00, 9,   -999.0,   1.8935, 27.6958,   2.0478, 2, 9, 0.44, 0.14, 0.01, 0.017,  -999.00, 9, -999.00, -999.00, 9, -999.00
49NZ20071008, P14N, 103, 1, 16, X12022, 2, 20071117, 2019, 11.0142, 178.9908, 5425,   2399.2, 2,   1.9185, 2,  34.6541, 2,  34.6543, 6,    112.5, 2,    112.2, 2,   146.71, 2,    38.81, 2,     0.01, 2,     2.73, 2, -999.000, 9, -999.000, 9, -999.000, 9, -999.000, 9,   -999.0, 9,   -999.0, 9, -999.0000,   -999.00,   -999.0, 9,   -999.0,  -999.00, 9,   -999.0,   1.7488, 27.7140,   1.9185, 2, 9, 0.44, 0.14, 0.01, 0.017,  -999.00, 9, -999.00, -999.00, 9, -999.00
49NZ20071008, P14N, 103, 1, 15, X12021, 2, 20071117, 2019, 11.0142, 178.9908, 5425,   2599.6, 2,   1.8360, 2,  34.6601, 2,  34.6601, 2,    117.0, 2,    116.8, 2,   148.04, 2,    38.52, 2,     0.01, 2,     2.72, 2,    0.000, 2,    0.000, 2,    0.000, 2, -999.000, 9,   -999.0, 9,   -999.0, 9, -999.0000,   -999.00,   -999.0, 9,   -999.0,  -999.00, 9,   -999.0,   1.6497, 27.7264,   1.8361, 2, 9, 0.44, 0.14, 0.01, 0.017,  -999.00, 9, -999.00, -999.00, 9, -999.00
49NZ20071008, P14N, 103, 1, 14, X12020, 2, 20071117, 2019, 11.0142, 178.9908, 5425,   2798.9, 2,   1.7643, 2,  34.6656, 2,  34.6655, 2,    121.3, 2,    121.2, 2,   149.17, 2,    38.36, 2,     0.01, 2,     2.69, 2, -999.000, 9, -999.000, 9, -999.000, 9, -999.000, 9,   -999.0, 9,   -999.0, 9, -999.0000,   -999.00,   -999.0, 9,   -999.0,  -999.00, 9,   -999.0,   1.5609, 27.7373,   1.7644, 2, 9, 0.45, 0.14, 0.01, 0.017,  -999.00, 9, -999.00, -999.00, 9, -999.00
49NZ20071008, P14N, 103, 1, 13, X12019, 2, 20071117, 2019, 11.0142, 178.9908, 5425,   2999.5, 2,   1.6843, 2,  34.6709, 2,  34.6708, 2,    127.1, 2,    127.1, 2,   149.50, 2,    37.86, 2,     0.01, 2,     2.65, 2,    0.000, 2,    0.000, 2,    0.000, 2, -999.000, 9,   -999.0, 9,   -999.0, 9, -999.0000,   -999.00,   -999.0, 9,   -999.0,  -999.00, 9,   -999.0,   1.4635, 27.7487,   1.6845, 2, 9, 0.45, 0.14, 0.01, 0.017,  -999.00, 9, -999.00, -999.00, 9, -999.00
49NZ20071008, P14N, 103, 1, 12, X12040, 2, 20071117, 2019, 11.0142, 178.9908, 5425,   3249.1, 2,   1.6081, 2,  34.6750, 2,  34.6749, 2,    133.7, 2,    133.6, 2,   149.29, 2,    37.42, 2,     0.01, 2,     2.61, 2, -999.000, 9, -999.000, 9, -999.000, 9, -999.000, 9,   -999.0, 9,   -999.0, 9, -999.0000,   -999.00,   -999.0, 9,   -999.0,  -999.00, 9,   -999.0,   1.3646, 27.7591,   1.6081, 2, 9, 0.45, 0.14, 0.01, 0.016,  -999.00, 9, -999.00, -999.00, 9, -999.00
49NZ20071008, P14N, 103, 1, 11, X12047, 2, 20071117, 2019, 11.0142, 178.9908, 5425,   3499.6, 2,   1.5316, 2,  34.6814, 2,  34.6809, 2,    142.0, 2,    142.1, 2,   147.55, 2,    36.83, 2,     0.01, 2,     2.57, 2,    0.000, 2,    0.000, 2,    0.000, 2, -999.000, 9,   -999.0, 9,   -999.0, 9, -999.0000,   -999.00,   -999.0, 9,   -999.0,  -999.00, 9,   -999.0,   1.2647, 27.7713,   1.5317, 2, 9, 0.44, 0.14, 0.01, 0.016,  -999.00, 9, -999.00, -999.00, 9, -999.00
49NZ20071008, P14N, 103, 1, 10, X12012, 2, 20071117, 2019, 11.0142, 178.9908, 5425,   3750.1, 2,   1.4599, 2,  34.6856, 2,  34.6855, 6,    150.3, 2,    150.8, 2,   145.04, 2,    36.24, 2,     0.01, 2,     2.53, 2, -999.000, 9, -999.000, 9, -999.000, 9, -999.000, 9,   -999.0, 9,   -999.0, 9, -999.0000,   -999.00,   -999.0, 9,   -999.0,  -999.00, 9,   -999.0,   1.1688, 27.7813,   1.4600, 2, 9, 0.44, 0.13, 0.01, 0.016,  -999.00, 9, -999.00, -999.00, 9, -999.00
49NZ20071008, P14N, 103, 1, 9, X12015, 2, 20071117, 2019, 11.0142, 178.9908, 5425,   4002.5, 2,   1.4097, 2,  34.6899, 2,  34.6898, 2,    158.1, 2,    159.3, 2,   141.10, 2,    35.62, 2,     0.01, 2,     2.48, 2,    0.000, 2,    0.000, 2,    0.000, 2, -999.000, 9,   -999.0, 9,   -999.0, 9, -999.0000,   -999.00,   -999.0, 9,   -999.0,  -999.00, 9,   -999.0,   1.0930, 27.7899,   1.4100, 2, 9, 0.43, 0.13, 0.01, 0.016,  -999.00, 9, -999.00, -999.00, 9, -999.00
49NZ20071008, P14N, 103, 1, 8, X12046, 2, 20071117, 2019, 11.0142, 178.9908, 5425,   4249.0, 2,   1.3502, 2,  34.6951, 2,  34.6953, 2,    168.3, 2,    170.3, 2,   134.73, 2,    34.86, 2,     0.01, 2,     2.43, 2, -999.000, 9, -999.000, 9, -999.000, 9, -999.000, 9,   -999.0, 9,   -999.0, 9, -999.0000,   -999.00,   -999.0, 9,   -999.0,  -999.00, 9,   -999.0,   1.0082, 27.7998,   1.3501, 2, 9, 0.42, 0.13, 0.01, 0.016,  -999.00, 9, -999.00, -999.00, 9, -999.00
49NZ20071008, P14N, 103, 1, 7, X12044, 2, 20071117, 2019, 11.0142, 178.9908, 5425,   4502.4, 2,   1.3207, 2,  34.6987, 2,  34.6987, 2,    177.1, 2,    177.4, 2,   130.71, 2,    34.36, 2,     0.01, 2,     2.39, 2,    0.000, 2,    0.000, 2,    0.000, 2, -999.000, 9,   -999.0, 9,   -999.0, 9, -999.0000,   -999.00,   -999.0, 9,   -999.0,  -999.00, 9,   -999.0,   0.9509, 27.8065,   1.3207, 2, 9, 0.41, 0.13, 0.01, 0.016,  -999.00, 9, -999.00, -999.00, 9, -999.00
49NZ20071008, P14N, 103, 1, 6, X12048, 2, 20071117, 2019, 11.0142, 178.9908, 5425,   4749.2, 2,   1.3071, 2,  34.7012, 2,  34.7015, 2,    182.8, 2,    182.8, 2,   127.74, 2,    33.95, 2,     0.01, 2,     2.36, 2,    0.000, 2,    0.000, 2,    0.000, 2, -999.000, 9,   -999.0, 9,   -999.0, 9, -999.0000,   -999.00,   -999.0, 9,   -999.0,  -999.00, 9,   -999.0,   0.9092, 27.8112,   1.3071, 2, 9, 0.40, 0.13, 0.01, 0.016,  -999.00, 9, -999.00, -999.00, 9, -999.00
49NZ20071008, P14N, 103, 1, 5, X12014, 4, 20071117, 2019, 11.0142, 178.9908, 5425,   4998.1, 2,   1.3129, 2,  34.7026, 2,  34.6855, 4,    185.4, 2,    150.8, 4,   145.09, 4,    36.22, 4,     0.01, 4,     2.52, 4,    0.000, 4,    0.000, 4,    0.000, 4, -999.000, 9,   -999.0, 9,   -999.0, 9, -999.0000,   -999.00,   -999.0, 9,   -999.0,  -999.00, 9,   -999.0,   0.8851, 27.8139,   1.3129, 2, 9, 0.44, 0.13, 0.01, 0.016,  -999.00, 9, -999.00, -999.00, 9, -999.00
49NZ20071008, P14N, 103, 1, 4, X12006, 2, 20071117, 2019, 11.0142, 178.9908, 5425,   5249.2, 2,   1.3387, 2,  34.7029, 2,  34.7033, 2,    186.5, 2,    186.5, 2,   125.67, 2,    33.73, 2,     0.01, 2,     2.34, 2, -999.000, 9, -999.000, 9, -999.000, 9, -999.000, 9,   -999.0, 9,   -999.0, 9, -999.0000,   -999.00,   -999.0, 9,   -999.0,  -999.00, 9,   -999.0,   0.8793, 27.8145,   1.3387, 2, 9, 0.40, 0.13, 0.01, 0.016,  -999.00, 9, -999.00, -999.00, 9, -999.00
49NZ20071008, P14N, 103, 1, 3, X12013, 9, 20071117, 2019, 11.0142, 178.9908, 5425,    601.8, 2,   6.9626, 2,  34.5357, 2, -999.0000, 9,     43.0, 2,   -999.0, 9,  -999.00, 9,  -999.00, 9,  -999.00, 9,  -999.00, 9, -999.000, 9, -999.000, 9, -999.000, 9, -999.000, 9,   -999.0, 9,   -999.0, 9, -999.0000,   -999.00,   -999.0, 9,   -999.0,  -999.00, 9,   -999.0,   6.9052, 27.0661,   6.9630, 2, 9, -999.00, -999.00, -999.00, -999.000,  -999.00, 9, -999.00, -999.00, 9, -999.00
49NZ20071008, P14N, 103, 1, 2, X12002, 9, 20071117, 2019, 11.0142, 178.9908, 5425,    700.9, 2,   6.2769, 2,  34.5296, 2, -999.0000, 9,     43.0, 2,   -999.0, 9,  -999.00, 9,  -999.00, 9,  -999.00, 9,  -999.00, 9, -999.000, 9, -999.000, 9, -999.000, 9, -999.000, 9,   -999.0, 9,   -999.0, 9, -999.0000,   -999.00,   -999.0, 9,   -999.0,  -999.00, 9,   -999.0,   6.2132, 27.1536,   6.2774, 2, 9, -999.00, -999.00, -999.00, -999.000,  -999.00, 9, -999.00, -999.00, 9, -999.00
49NZ20071008, P14N, 103, 1, 1, X12001, 2, 20071117, 2019, 11.0142, 178.9908, 5425,   5376.3, 2,   1.3505, 2,  34.7031, 2,  34.7032, 6,    186.9, 2,    187.1, 2,   125.37, 2,    33.63, 2,     0.01, 2,     2.34, 2,    0.000, 2,    0.000, 2,    0.000, 2, -999.000, 9,   -999.0, 9,   -999.0, 9, -999.0000,   -999.00,   -999.0, 9,   -999.0,  -999.00, 9,   -999.0,   0.8749, 27.8150,   1.3506, 2, 9, 0.39, 0.13, 0.01, 0.016,  -999.00, 9, -999.00, -999.00, 9, -999.00