BOTTLE,20221005CCHSIOAMB
EXPOCODE,SECT_ID,STNNBR,CASTNO,SAMPNO,BTLNBR,BTLNBR_FLAG_W,DATE,TIME,LATITUDE,LONGITUDE,DEPTH,CTDPRS,CTDPRS_FLAG_W,CTDTMP,CTDTMP_FLAG_W,CTDSAL,CTDSAL_FLAG_W,SALNTY,SALNTY_FLAG_W,CTDOXY,CTDOXY_FLAG_W,OXYGEN,OXYGEN_FLAG_W,SILCAT,SILCAT_FLAG_W,NITRAT,NITRAT_FLAG_W,NITRIT,NITRIT_FLAG_W,PHSPHT,PHSPHT_FLAG_W,CFC-11,CFC-11_FLAG_W,CFC-12,CFC-12_FLAG_W,CFC113,CFC113_FLAG_W,CCL4,CCL4_FLAG_W,TCARBN,TCARBN_FLAG_W,ALKALI,ALKALI_FLAG_W,PH_TOT,PH_TMP,DELC14,DELC14_FLAG_W,C14ERR,DELC13,DELC13_FLAG_W,C13ERR,THETA,SIG0,SBE35,SBE35_FLAG_W,PH_TOT_FLAG_W,SILUNC,NRAUNC,NRIUNC,PHPUNC,CS-137,CS-137_FLAG_W,CS137ER,PLUTO,PLUTO_FLAG_W,PLUTOER
,,,,,,,,,,,METERS,DBAR,,ITS-90,,PSS-78,,PSS-78,,UMOL/KG,,UMOL/KG,,UMOL/KG,,UMOL/KG,,UMOL/KG,,UMOL/KG,,PMOL/KG,,PMOL/KG,,PMOL/KG,,PMOL/KG,,UMOL/KG,,UMOL/KG,,,DEG C,/MILLE,,/MILLE,/MILLE,,/MILLE,DEG C,KG/M^3,ITS-90,,,UMOL/KG,UMOL/KG,UMOL/KG,UMOL/KG,DM/.1MG,,BQ/M^3,MBQ/M^3,,MBQ/M^3
49NZ20071008, P14N, 19, 1, 36, X12042, 2, 20071023, 1120, 51.4015, 179.9085, 1616,      9.7, 2,   5.7954, 2,  33.2241, 2,  33.2241, 2,    264.2, 2,    266.2, 2,    48.06, 2,    25.62, 2,     0.20, 2,     2.05, 2,    3.859, 2,    2.195, 2,    0.339, 2, -999.000, 9,   2148.3, 2,   2251.8, 2,    7.6573,     25.00,   -999.0, 9,   -999.0,  -999.00, 9,   -999.0,   5.7946, 26.1746,   5.7952, 2, 6, 0.22, 0.10, 0.01, 0.015,  -999.00, 9, -999.00, -999.00, 9, -999.00
49NZ20071008, P14N, 19, 1, 35, X12041, 2, 20071023, 1120, 51.4015, 179.9085, 1616,     50.2, 2,   5.7449, 2,  33.2367, 2,  33.2375, 2,    258.2, 2,    254.8, 2,    49.40, 2,    26.24, 2,     0.19, 2,     2.10, 2,    3.826, 2,    2.159, 2,    0.336, 2, -999.000, 9,   2152.4, 6,   2252.0, 2,    7.6424,     25.00,   -999.0, 9,   -999.0,  -999.00, 9,   -999.0,   5.7409, 26.1911,   5.7449, 2, 2, 0.23, 0.11, 0.01, 0.015,  -999.00, 9, -999.00, -999.00, 9, -999.00
49NZ20071008, P14N, 19, 1, 34, X12016, 2, 20071023, 1120, 51.4015, 179.9085, 1616,    100.6, 2,   5.2840, 2,  33.3302, 2,  33.3318, 2,    218.1, 2,    215.3, 2,    56.99, 2,    29.16, 2,     0.07, 2,     2.25, 2,    3.527, 2,    1.968, 2,    0.288, 2, -999.000, 9,   2180.3, 2,   2258.7, 6,    7.5803,     25.00,   -999.0, 9,   -999.0,  -999.00, 9,   -999.0,   5.2763, 26.3200,   5.2843, 2, 2, 0.24, 0.11, 0.01, 0.016,  -999.00, 9, -999.00, -999.00, 9, -999.00
49NZ20071008, P14N, 19, 1, 33, X12033, 2, 20071023, 1120, 51.4015, 179.9085, 1616,    150.0, 2,   5.1219, 2,  33.4170, 2,  33.4167, 2,    193.2, 2,    191.5, 2,    62.66, 2,    30.71, 2,     0.04, 2,     2.35, 2,    3.246, 6,    1.784, 6,    0.252, 6, -999.000, 9,   2197.4, 2,   2265.6, 2,    7.5502,     25.00,   -999.0, 9,   -999.0,  -999.00, 9,   -999.0,   5.1105, 26.4078,   5.1218, 2, 2, 0.26, 0.12, 0.01, 0.016,  -999.00, 9, -999.00, -999.00, 9, -999.00
49NZ20071008, P14N, 19, 1, 32, X12038, 2, 20071023, 1120, 51.4015, 179.9085, 1616,    200.4, 2,   5.0774, 2,  33.4705, 2,  33.4750, 2,    168.0, 2,    178.3, 2,    66.29, 2,    31.90, 2,     0.06, 2,     2.42, 2,    3.080, 2,    1.685, 2,    0.249, 2, -999.000, 9,   2209.7, 2,   2271.3, 2,    7.5284,     25.00,   -999.0, 9,   -999.0,  -999.00, 9,   -999.0,   5.0621, 26.4557,   5.0759, 2, 2, 0.26, 0.12, 0.01, 0.016,  -999.00, 9, -999.00, -999.00, 9, -999.00
49NZ20071008, P14N, 19, 1, 31, X12003, 2, 20071023, 1120, 51.4015, 179.9085, 1616,    250.0, 2,   4.8788, 2,  33.5219, 2,  33.5214, 6,    160.4, 2,    164.3, 2,    69.14, 2,    32.98, 2,     0.03, 2,     2.47, 2,    2.981, 2,    1.615, 2,    0.220, 2, -999.000, 9,   2221.6, 2,   2274.3, 2,    7.5041,     25.00,   -999.0, 9,   -999.0,  -999.00, 9,   -999.0,   4.8600, 26.5191,   4.8788, 2, 2, 0.27, 0.13, 0.01, 0.016,  -999.00, 9, -999.00, -999.00, 9, -999.00
49NZ20071008, P14N, 19, 1, 30, X12008, 2, 20071023, 1120, 51.4015, 179.9085, 1616,    303.4, 2,   4.6819, 2,  33.5463, 2,  33.5458, 2,    154.5, 2,    156.7, 2,    70.64, 2,    33.66, 2,     0.02, 2,     2.52, 2,    2.934, 2,    1.584, 2,    0.236, 2, -999.000, 9,   2228.3, 2,   2275.3, 2,    7.4874,     25.00,   -999.0, 9,   -999.0,  -999.00, 9,   -999.0,   4.6594, 26.5606,   4.6817, 2, 2, 0.27, 0.13, 0.01, 0.016,  -999.00, 9, -999.00, -999.00, 9, -999.00
49NZ20071008, P14N, 19, 1, 29, X12035, 2, 20071023, 1120, 51.4015, 179.9085, 1616,    400.9, 2,   4.5610, 2,  33.6826, 2,  33.6822, 2,    126.2, 2,    122.6, 2,    78.24, 2,    36.22, 2,     0.02, 2,     2.67, 2,    2.515, 2,    1.323, 2,    0.179, 2, -999.000, 9,   2256.4, 2,   2286.1, 2,    7.4376,     25.00,   -999.0, 9,   -999.0,  -999.00, 9,   -999.0,   4.5313, 26.6826,   4.5610, 2, 2, 0.29, 0.13, 0.01, 0.017,  -999.00, 9, -999.00, -999.00, 9, -999.00
49NZ20071008, P14N, 19, 1, 28, X12034, 2, 20071023, 1120, 51.4015, 179.9085, 1616,    500.4, 2,   4.0100, 2,  33.8859, 2,  33.8901, 6,     70.8, 2,     71.5, 2,    93.38, 2,    40.41, 2,     0.01, 2,     2.92, 2,    1.868, 2,    0.945, 2,    0.125, 2, -999.000, 9,   2302.9, 2,   2305.2, 2,    7.3592,     25.00,   -999.0, 9,   -999.0,  -999.00, 9,   -999.0,   3.9745, 26.9025,   4.0097, 2, 2, 0.32, 0.15, 0.01, 0.017,  -999.00, 9, -999.00, -999.00, 9, -999.00
49NZ20071008, P14N, 19, 1, 27, X12049, 2, 20071023, 1120, 51.4015, 179.9085, 1616,    601.7, 2,   4.0083, 2,  34.0579, 2,  34.0560, 2,     20.4, 2,     21.7, 2,   100.16, 2,    44.05, 2,     0.01, 2,     3.14, 2,    1.119, 2,    0.519, 2,    0.064, 2, -999.000, 9,   2337.2, 2,   2317.5, 2,    7.2924,     25.00,   -999.0, 9,   -999.0,  -999.00, 9,   -999.0,   3.9650, 27.0403,   4.0083, 2, 2, 0.34, 0.16, 0.01, 0.018,  -999.00, 9, -999.00, -999.00, 9, -999.00
49NZ20071008, P14N, 19, 1, 26, X12032, 2, 20071023, 1120, 51.4015, 179.9085, 1616,    701.1, 2,   3.7124, 2,  34.1620, 2,  34.1623, 2,     16.5, 2,     16.7, 2,   113.53, 2,    44.17, 2,     0.01, 2,     3.16, 2,    0.613, 6,    0.288, 6,    0.035, 6, -999.000, 9,   2352.4, 6,   2336.8, 2,    7.3023,     25.00,   -999.0, 9,   -999.0,  -999.00, 9,   -999.0,   3.6629, 27.1534,   3.7123, 2, 2, 0.37, 0.16, 0.01, 0.018,  -999.00, 9, -999.00, -999.00, 9, -999.00
49NZ20071008, P14N, 19, 1, 25, X12043, 2, 20071023, 1120, 51.4015, 179.9085, 1616,    803.0, 2,   3.4924, 2,  34.2283, 2,  34.2273, 2,     15.3, 2,     15.4, 2,   122.27, 2,    44.41, 2,     0.01, 2,     3.18, 2,    0.389, 2,    0.181, 2,    0.019, 2, -999.000, 9,   2361.4, 2,   2348.2, 6,    7.3082,     25.00,   -999.0, 9,   -999.0,  -999.00, 9,   -999.0,   3.4364, 27.2283,   3.4925, 2, 2, 0.39, 0.16, 0.01, 0.018,  -999.00, 9, -999.00, -999.00, 9, -999.00
49NZ20071008, P14N, 19, 1, 24, X12030, 2, 20071023, 1120, 51.4015, 179.9085, 1616,    902.7, 2,   3.0457, 2,  34.3046, 2,  34.3034, 2,     27.3, 2,     25.3, 2,   135.90, 2,    43.68, 2,     0.02, 2,     3.13, 2,    0.354, 2,    0.171, 2,    0.023, 2, -999.000, 9,   2370.6, 2,   2365.2, 2,    7.3306,     25.00,   -999.0, 9,   -999.0,  -999.00, 9,   -999.0,   2.9851, 27.3313,   3.0455, 2, 6, 0.42, 0.16, 0.01, 0.018,  -999.00, 9, -999.00, -999.00, 9, -999.00
49NZ20071008, P14N, 19, 1, 23, X12027, 2, 20071023, 1120, 51.4015, 179.9085, 1616,   1000.3, 2,   2.8822, 2,  34.3518, 2,  34.3516, 6,     27.4, 2,     25.4, 2,   142.10, 2,    43.76, 2,     0.02, 2,     3.14, 2,    0.248, 2,    0.121, 2,    0.021, 2, -999.000, 9,   2375.5, 2,   2373.5, 2,    7.3374,     25.00,   -999.0, 9,   -999.0,  -999.00, 9,   -999.0,   2.8155, 27.3842,   2.8821, 2, 2, 0.43, 0.16, 0.01, 0.018,  -999.00, 9, -999.00, -999.00, 9, -999.00
49NZ20071008, P14N, 19, 1, 22, X12028, 2, 20071023, 1120, 51.4015, 179.9085, 1616,   1201.6, 2,   2.5777, 2,  34.4325, 2,  34.4327, 2,     28.6, 2,     28.9, 2,   151.78, 2,    43.72, 2,     0.01, 2,     3.13, 2,    0.112, 2,    0.056, 2,    0.006, 2, -999.000, 9,   2382.2, 2,   2387.6, 2,    7.3534,     25.00,   -999.0, 9,   -999.0,  -999.00, 9,   -999.0,   2.4983, 27.4763,   2.5775, 2, 2, 0.45, 0.16, 0.01, 0.018,  -999.00, 9, -999.00, -999.00, 9, -999.00
49NZ20071008, P14N, 19, 1, 21, X12009, 2, 20071023, 1120, 51.4015, 179.9085, 1616,   1401.9, 2,   2.3302, 2,  34.4908, 2,  34.4904, 2,     37.8, 2,     38.5, 2,   157.91, 2,    43.17, 2,     0.01, 2,     3.08, 2,    0.058, 2,    0.027, 2,    0.000, 2, -999.000, 9,   2385.6, 2,   2397.0, 2,    7.3767,     25.00,   -999.0, 9,   -999.0,  -999.00, 9,   -999.0,   2.2379, 27.5446,   2.3297, 2, 2, 0.47, 0.15, 0.01, 0.018,  -999.00, 9, -999.00, -999.00, 9, -999.00
49NZ20071008, P14N, 19, 1, 20, X12026, 9, 20071023, 1120, 51.4015, 179.9085, 1616,     10.1, 2,   5.7955, 2,  33.2240, 2, -999.0000, 9,    264.2, 2,   -999.0, 9,  -999.00, 9,  -999.00, 9,  -999.00, 9,  -999.00, 9, -999.000, 9, -999.000, 9, -999.000, 9, -999.000, 9,   -999.0, 9,   -999.0, 9, -999.0000,   -999.00,   -999.0, 9,   -999.0,  -999.00, 9,   -999.0,   5.7947, 26.1745,   5.7951, 2, 9, -999.00, -999.00, -999.00, -999.000,  -999.00, 9, -999.00, -999.00, 9, -999.00
49NZ20071008, P14N, 19, 1, 19, X12025, 9, 20071023, 1120, 51.4015, 179.9085, 1616,     50.4, 2,   5.7458, 2,  33.2363, 2, -999.0000, 9,    258.1, 2,   -999.0, 9,  -999.00, 9,  -999.00, 9,  -999.00, 9,  -999.00, 9, -999.000, 9, -999.000, 9, -999.000, 9, -999.000, 9,   -999.0, 9,   -999.0, 9, -999.0000,   -999.00,   -999.0, 9,   -999.0,  -999.00, 9,   -999.0,   5.7418, 26.1907,   5.7462, 2, 9, -999.00, -999.00, -999.00, -999.000,  -999.00, 9, -999.00, -999.00, 9, -999.00
49NZ20071008, P14N, 19, 1, 18, X12024, 9, 20071023, 1120, 51.4015, 179.9085, 1616,    101.0, 2,   5.2856, 2,  33.3304, 2, -999.0000, 9,    217.9, 2,   -999.0, 9,  -999.00, 9,  -999.00, 9,  -999.00, 9,  -999.00, 9, -999.000, 9, -999.000, 9, -999.000, 9, -999.000, 9,   -999.0, 9,   -999.0, 9, -999.0000,   -999.00,   -999.0, 9,   -999.0,  -999.00, 9,   -999.0,   5.2778, 26.3200,   5.2854, 2, 9, -999.00, -999.00, -999.00, -999.000,  -999.00, 9, -999.00, -999.00, 9, -999.00
49NZ20071008, P14N, 19, 1, 17, X12023, 9, 20071023, 1120, 51.4015, 179.9085, 1616,    150.5, 2,   5.1216, 2,  33.4170, 2, -999.0000, 9,    193.1, 2,   -999.0, 9,  -999.00, 9,  -999.00, 9,  -999.00, 9,  -999.00, 9, -999.000, 9, -999.000, 9, -999.000, 9, -999.000, 9,   -999.0, 9,   -999.0, 9, -999.0000,   -999.00,   -999.0, 9,   -999.0,  -999.00, 9,   -999.0,   5.1101, 26.4079,   5.1216, 2, 9, -999.00, -999.00, -999.00, -999.000,  -999.00, 9, -999.00, -999.00, 9, -999.00
49NZ20071008, P14N, 19, 1, 16, X12022, 9, 20071023, 1120, 51.4015, 179.9085, 1616,    200.2, 2,   5.0629, 2,  33.4750, 2, -999.0000, 9,    167.8, 2,   -999.0, 9,  -999.00, 9,  -999.00, 9,  -999.00, 9,  -999.00, 9, -999.000, 9, -999.000, 9, -999.000, 9, -999.000, 9,   -999.0, 9,   -999.0, 9, -999.0000,   -999.00,   -999.0, 9,   -999.0,  -999.00, 9,   -999.0,   5.0476, 26.4609,   5.0636, 2, 9, -999.00, -999.00, -999.00, -999.000,  -999.00, 9, -999.00, -999.00, 9, -999.00
49NZ20071008, P14N, 19, 1, 15, X12021, 9, 20071023, 1120, 51.4015, 179.9085, 1616,    249.6, 2,   4.8794, 2,  33.5219, 2, -999.0000, 9,    160.5, 2,   -999.0, 9,  -999.00, 9,  -999.00, 9,  -999.00, 9,  -999.00, 9, -999.000, 9, -999.000, 9, -999.000, 9, -999.000, 9,   -999.0, 9,   -999.0, 9, -999.0000,   -999.00,   -999.0, 9,   -999.0,  -999.00, 9,   -999.0,   4.8606, 26.5191,   4.8790, 2, 9, -999.00, -999.00, -999.00, -999.000,  -999.00, 9, -999.00, -999.00, 9, -999.00
49NZ20071008, P14N, 19, 1, 14, X12020, 9, 20071023, 1120, 51.4015, 179.9085, 1616,    303.1, 2,   4.6826, 2,  33.5468, 2, -999.0000, 9,    154.5, 2,   -999.0, 9,  -999.00, 9,  -999.00, 9,  -999.00, 9,  -999.00, 9, -999.000, 9, -999.000, 9, -999.000, 9, -999.000, 9,   -999.0, 9,   -999.0, 9, -999.0000,   -999.00,   -999.0, 9,   -999.0,  -999.00, 9,   -999.0,   4.6601, 26.5609,   4.6826, 2, 9, -999.00, -999.00, -999.00, -999.000,  -999.00, 9, -999.00, -999.00, 9, -999.00
49NZ20071008, P14N, 19, 1, 13, X12019, 9, 20071023, 1120, 51.4015, 179.9085, 1616,    400.6, 2,   4.5714, 2,  33.6824, 2, -999.0000, 9,    126.1, 2,   -999.0, 9,  -999.00, 9,  -999.00, 9,  -999.00, 9,  -999.00, 9, -999.000, 9, -999.000, 9, -999.000, 9, -999.000, 9,   -999.0, 9,   -999.0, 9, -999.0000,   -999.00,   -999.0, 9,   -999.0,  -999.00, 9,   -999.0,   4.5417, 26.6814,   4.5710, 2, 9, -999.00, -999.00, -999.00, -999.000,  -999.00, 9, -999.00, -999.00, 9, -999.00
49NZ20071008, P14N, 19, 1, 12, X12040, 9, 20071023, 1120, 51.4015, 179.9085, 1616,    500.9, 2,   4.0090, 2,  33.8857, 2, -999.0000, 9,     70.8, 2,   -999.0, 9,  -999.00, 9,  -999.00, 9,  -999.00, 9,  -999.00, 9, -999.000, 9, -999.000, 9, -999.000, 9, -999.000, 9,   -999.0, 9,   -999.0, 9, -999.0000,   -999.00,   -999.0, 9,   -999.0,  -999.00, 9,   -999.0,   3.9735, 26.9025,   4.0087, 2, 9, -999.00, -999.00, -999.00, -999.000,  -999.00, 9, -999.00, -999.00, 9, -999.00
49NZ20071008, P14N, 19, 1, 11, X12047, 9, 20071023, 1120, 51.4015, 179.9085, 1616,    601.2, 2,   4.0087, 2,  34.0576, 2, -999.0000, 9,     20.5, 2,   -999.0, 9,  -999.00, 9,  -999.00, 9,  -999.00, 9,  -999.00, 9, -999.000, 9, -999.000, 9, -999.000, 9, -999.000, 9,   -999.0, 9,   -999.0, 9, -999.0000,   -999.00,   -999.0, 9,   -999.0,  -999.00, 9,   -999.0,   3.9654, 27.0400,   4.0085, 2, 9, -999.00, -999.00, -999.00, -999.000,  -999.00, 9, -999.00, -999.00, 9, -999.00
49NZ20071008, P14N, 19, 1, 10, X12010, 9, 20071023, 1120, 51.4015, 179.9085, 1616,    701.0, 2,   3.7120, 2,  34.1623, 2, -999.0000, 9,     16.5, 2,   -999.0, 9,  -999.00, 9,  -999.00, 9,  -999.00, 9,  -999.00, 9, -999.000, 9, -999.000, 9, -999.000, 9, -999.000, 9,   -999.0, 9,   -999.0, 9, -999.0000,   -999.00,   -999.0, 9,   -999.0,  -999.00, 9,   -999.0,   3.6625, 27.1537,   3.7118, 2, 9, -999.00, -999.00, -999.00, -999.000,  -999.00, 9, -999.00, -999.00, 9, -999.00
49NZ20071008, P14N, 19, 1, 9, X12015, 9, 20071023, 1120, 51.4015, 179.9085, 1616,    802.9, 2,   3.4939, 2,  34.2278, 2, -999.0000, 9,     15.3, 2,   -999.0, 9,  -999.00, 9,  -999.00, 9,  -999.00, 9,  -999.00, 9, -999.000, 9, -999.000, 9, -999.000, 9, -999.000, 9,   -999.0, 9,   -999.0, 9, -999.0000,   -999.00,   -999.0, 9,   -999.0,  -999.00, 9,   -999.0,   3.4379, 27.2278,   3.4936, 2, 9, -999.00, -999.00, -999.00, -999.000,  -999.00, 9, -999.00, -999.00, 9, -999.00
49NZ20071008, P14N, 19, 1, 8, X12046, 9, 20071023, 1120, 51.4015, 179.9085, 1616,    903.1, 2,   3.0467, 2,  34.3048, 2, -999.0000, 9,     27.3, 2,   -999.0, 9,  -999.00, 9,  -999.00, 9,  -999.00, 9,  -999.00, 9, -999.000, 9, -999.000, 9, -999.000, 9, -999.000, 9,   -999.0, 9,   -999.0, 9, -999.0000,   -999.00,   -999.0, 9,   -999.0,  -999.00, 9,   -999.0,   2.9860, 27.3314,   3.0464, 2, 9, -999.00, -999.00, -999.00, -999.000,  -999.00, 9, -999.00, -999.00, 9, -999.00
49NZ20071008, P14N, 19, 1, 7, X12044, 9, 20071023, 1120, 51.4015, 179.9085, 1616,   1001.4, 2,   2.8903, 2,  34.3501, 2, -999.0000, 9,     27.4, 2,   -999.0, 9,  -999.00, 9,  -999.00, 9,  -999.00, 9,  -999.00, 9, -999.000, 9, -999.000, 9, -999.000, 9, -999.000, 9,   -999.0, 9,   -999.0, 9, -999.0000,   -999.00,   -999.0, 9,   -999.0,  -999.00, 9,   -999.0,   2.8234, 27.3822,   2.8901, 2, 9, -999.00, -999.00, -999.00, -999.000,  -999.00, 9, -999.00, -999.00, 9, -999.00
49NZ20071008, P14N, 19, 1, 6, X12048, 9, 20071023, 1120, 51.4015, 179.9085, 1616,   1001.0, 2,   2.8827, 2,  34.3515, 2, -999.0000, 9,     27.4, 2,   -999.0, 9,  -999.00, 9,  -999.00, 9,  -999.00, 9,  -999.00, 9, -999.000, 9, -999.000, 9, -999.000, 9, -999.000, 9,   -999.0, 9,   -999.0, 9, -999.0000,   -999.00,   -999.0, 9,   -999.0,  -999.00, 9,   -999.0,   2.8159, 27.3839,   2.8828, 2, 9, -999.00, -999.00, -999.00, -999.000,  -999.00, 9, -999.00, -999.00, 9, -999.00
49NZ20071008, P14N, 19, 1, 5, X12014, 9, 20071023, 1120, 51.4015, 179.9085, 1616,   1202.6, 2,   2.5710, 2,  34.4331, 2, -999.0000, 9,     28.9, 2,   -999.0, 9,  -999.00, 9,  -999.00, 9,  -999.00, 9,  -999.00, 9, -999.000, 9, -999.000, 9, -999.000, 9, -999.000, 9,   -999.0, 9,   -999.0, 9, -999.0000,   -999.00,   -999.0, 9,   -999.0,  -999.00, 9,   -999.0,   2.4916, 27.4773,   2.5711, 2, 9, -999.00, -999.00, -999.00, -999.000,  -999.00, 9, -999.00, -999.00, 9, -999.00
49NZ20071008, P14N, 19, 1, 4, X12006, 9, 20071023, 1120, 51.4015, 179.9085, 1616,   1201.6, 2,   2.5752, 2,  34.4327, 2, -999.0000, 9,     28.6, 2,   -999.0, 9,  -999.00, 9,  -999.00, 9,  -999.00, 9,  -999.00, 9, -999.000, 9, -999.000, 9, -999.000, 9, -999.000, 9,   -999.0, 9,   -999.0, 9, -999.0000,   -999.00,   -999.0, 9,   -999.0,  -999.00, 9,   -999.0,   2.4958, 27.4766,   2.5751, 2, 9, -999.00, -999.00, -999.00, -999.000,  -999.00, 9, -999.00, -999.00, 9, -999.00
49NZ20071008, P14N, 19, 1, 3, X12013, 9, 20071023, 1120, 51.4015, 179.9085, 1616,   1402.7, 2,   2.3272, 2,  34.4914, 2, -999.0000, 9,     37.8, 2,   -999.0, 9,  -999.00, 9,  -999.00, 9,  -999.00, 9,  -999.00, 9, -999.000, 9, -999.000, 9, -999.000, 9, -999.000, 9,   -999.0, 9,   -999.0, 9, -999.0000,   -999.00,   -999.0, 9,   -999.0,  -999.00, 9,   -999.0,   2.2349, 27.5453,   2.3270, 2, 9, -999.00, -999.00, -999.00, -999.000,  -999.00, 9, -999.00, -999.00, 9, -999.00
49NZ20071008, P14N, 19, 1, 2, X12002, 9, 20071023, 1120, 51.4015, 179.9085, 1616,   1402.5, 2,   2.3277, 2,  34.4914, 2, -999.0000, 9,     37.8, 2,   -999.0, 9,  -999.00, 9,  -999.00, 9,  -999.00, 9,  -999.00, 9, -999.000, 9, -999.000, 9, -999.000, 9, -999.000, 9,   -999.0, 9,   -999.0, 9, -999.0000,   -999.00,   -999.0, 9,   -999.0,  -999.00, 9,   -999.0,   2.2354, 27.5453,   2.3273, 2, 9, -999.00, -999.00, -999.00, -999.000,  -999.00, 9, -999.00, -999.00, 9, -999.00
49NZ20071008, P14N, 19, 1, 1, X12001, 2, 20071023, 1120, 51.4015, 179.9085, 1616,   1596.2, 2,   1.9907, 2,  34.5632, 2,  34.5642, 6,     58.5, 2,     59.7, 2,   164.01, 2,    42.02, 2,     0.02, 2,     2.99, 2,    0.005, 2,    0.003, 2,    0.000, 2, -999.000, 9,   2381.2, 2,   2409.2, 2,    7.4216,     25.00,   -999.0, 9,   -999.0,  -999.00, 9,   -999.0,   1.8872, 27.6305,   1.9900, 2, 2, 0.48, 0.15, 0.01, 0.017,  -999.00, 9, -999.00, -999.00, 9, -999.00