BOTTLE,20221005CCHSIOAMB
EXPOCODE,SECT_ID,STNNBR,CASTNO,SAMPNO,BTLNBR,BTLNBR_FLAG_W,DATE,TIME,LATITUDE,LONGITUDE,DEPTH,CTDPRS,CTDPRS_FLAG_W,CTDTMP,CTDTMP_FLAG_W,CTDSAL,CTDSAL_FLAG_W,SALNTY,SALNTY_FLAG_W,CTDOXY,CTDOXY_FLAG_W,OXYGEN,OXYGEN_FLAG_W,SILCAT,SILCAT_FLAG_W,NITRAT,NITRAT_FLAG_W,NITRIT,NITRIT_FLAG_W,PHSPHT,PHSPHT_FLAG_W,CFC-11,CFC-11_FLAG_W,CFC-12,CFC-12_FLAG_W,CFC113,CFC113_FLAG_W,CCL4,CCL4_FLAG_W,TCARBN,TCARBN_FLAG_W,ALKALI,ALKALI_FLAG_W,PH_TOT,PH_TMP,DELC14,DELC14_FLAG_W,C14ERR,DELC13,DELC13_FLAG_W,C13ERR,THETA,SIG0,SBE35,SBE35_FLAG_W,PH_TOT_FLAG_W,SILUNC,NRAUNC,NRIUNC,PHPUNC,CS-137,CS-137_FLAG_W,CS137ER,PLUTO,PLUTO_FLAG_W,PLUTOER
,,,,,,,,,,,METERS,DBAR,,ITS-90,,PSS-78,,PSS-78,,UMOL/KG,,UMOL/KG,,UMOL/KG,,UMOL/KG,,UMOL/KG,,UMOL/KG,,PMOL/KG,,PMOL/KG,,PMOL/KG,,PMOL/KG,,UMOL/KG,,UMOL/KG,,,DEG C,/MILLE,,/MILLE,/MILLE,,/MILLE,DEG C,KG/M^3,ITS-90,,,UMOL/KG,UMOL/KG,UMOL/KG,UMOL/KG,DM/.1MG,,BQ/M^3,MBQ/M^3,,MBQ/M^3
49NZ20071008, P14N, 51, 1, 36, X12042, 2, 20071104, 0615, 36.9897, 179.0107, 5179,     10.7, 2,  19.2154, 2,  34.1587, 2,  34.1602, 2,    234.9, 2,    234.7, 2,     2.57, 2,     0.07, 2,     0.01, 2,     0.06, 2,    2.228, 2,    1.324, 2,    0.362, 4, -999.000, 9,   -999.0, 9,   -999.0, 9, -999.0000,   -999.00,   -999.0, 9,   -999.0,  -999.00, 9,   -999.0,  19.2135, 24.3239,  19.2163, 2, 9, 0.12, 0.03, 0.01, 0.029,  -999.00, 9, -999.00, -999.00, 9, -999.00
49NZ20071008, P14N, 51, 1, 35, X12041, 2, 20071104, 0615, 36.9897, 179.0107, 5179,     50.4, 2,  16.7016, 2,  34.4941, 2,  34.4919, 2,    279.2, 2,    279.0, 2,     2.61, 2,     0.06, 2,     0.01, 2,     0.10, 2,    2.676, 2,    1.544, 2,    0.952, 4, -999.000, 9,   -999.0, 9,   -999.0, 9, -999.0000,   -999.00,   -999.0, 9,   -999.0,  -999.00, 9,   -999.0,  16.6934, 25.1982,  16.7010, 2, 9, 0.12, 0.03, 0.01, 0.021,  -999.00, 9, -999.00, -999.00, 9, -999.00
49NZ20071008, P14N, 51, 1, 34, X12016, 2, 20071104, 0615, 36.9897, 179.0107, 5179,    100.8, 2,  13.9004, 2,  34.4712, 2,  34.4705, 2,    223.3, 2,    222.6, 2,     8.54, 2,     8.13, 2,     0.02, 2,     0.61, 2,    2.810, 2,    1.591, 2,    0.188, 2, -999.000, 9,   -999.0, 9,   -999.0, 9, -999.0000,   -999.00,   -999.0, 9,   -999.0,  -999.00, 9,   -999.0,  13.8860, 25.8022,  13.9026, 2, 9, 0.14, 0.06, 0.01, 0.013,  -999.00, 1, -999.00, -999.00, 9, -999.00
49NZ20071008, P14N, 51, 1, 33, X12033, 2, 20071104, 0615, 36.9897, 179.0107, 5179,    150.4, 2,  13.1402, 2,  34.4379, 2,  34.4359, 2,    229.7, 2,    228.2, 2,    10.24, 2,     8.97, 2,     0.01, 2,     0.67, 2,    2.887, 6,    1.624, 6,    0.196, 6, -999.000, 9,   -999.0, 9,   -999.0, 9, -999.0000,   -999.00,   -999.0, 9,   -999.0,  -999.00, 9,   -999.0,  13.1195, 25.9335,  13.1412, 2, 9, 0.14, 0.06, 0.01, 0.013,  -999.00, 9, -999.00, -999.00, 9, -999.00
49NZ20071008, P14N, 51, 1, 32, X12038, 2, 20071104, 0615, 36.9897, 179.0107, 5179,    198.7, 2,  12.4205, 2,  34.3889, 2,  34.3879, 2,    231.9, 2,    231.3, 2,    11.93, 2,    10.03, 2,     0.01, 2,     0.74, 2,    2.953, 2,    1.639, 2,    0.191, 2, -999.000, 9,   -999.0, 9,   -999.0, 9, -999.0000,   -999.00,   -999.0, 9,   -999.0,  -999.00, 9,   -999.0,  12.3941, 26.0387,  12.4209, 2, 9, 0.15, 0.06, 0.01, 0.013,  -999.00, 1, -999.00, -999.00, 9, -999.00
49NZ20071008, P14N, 51, 1, 31, X12003, 2, 20071104, 0615, 36.9897, 179.0107, 5179,    248.0, 2,  11.7245, 2,  34.3378, 2,  34.3357, 6,    233.1, 2,    233.5, 2,    13.87, 2,    11.15, 2,     0.01, 2,     0.83, 2,    3.061, 2,    1.703, 2,    0.193, 2, -999.000, 9,   -999.0, 9,   -999.0, 9, -999.0000,   -999.00,   -999.0, 9,   -999.0,  -999.00, 9,   -999.0,  11.6928, 26.1326,  11.7255, 2, 9, 0.15, 0.06, 0.01, 0.013,  -999.00, 9, -999.00, -999.00, 9, -999.00
49NZ20071008, P14N, 51, 1, 30, X12008, 2, 20071104, 0615, 36.9897, 179.0107, 5179,    278.3, 2,  11.3804, 2,  34.3066, 2,  34.3040, 2,    232.3, 2,    232.9, 2,    14.94, 2,    11.80, 2,     0.01, 2,     0.88, 2,    3.102, 2,    1.715, 2,    0.198, 2, -999.000, 9,   -999.0, 9,   -999.0, 9, -999.0000,   -999.00,   -999.0, 9,   -999.0,  -999.00, 9,   -999.0,  11.3455, 26.1727,  11.3808, 2, 9, 0.15, 0.07, 0.01, 0.013,  -999.00, 9, -999.00, -999.00, 9, -999.00
49NZ20071008, P14N, 51, 1, 29, X12035, 2, 20071104, 0615, 36.9897, 179.0107, 5179,    368.6, 2,  10.0835, 2,  34.1886, 2,  34.1847, 2,    229.4, 2,    228.1, 2,    19.67, 2,    14.43, 2,     0.01, 2,     1.07, 2,    3.209, 2,    1.746, 2,    0.193, 2, -999.000, 9,   -999.0, 9,   -999.0, 9, -999.0000,   -999.00,   -999.0, 9,   -999.0,  -999.00, 9,   -999.0,  10.0406, 26.3114,  10.0825, 2, 9, 0.16, 0.07, 0.01, 0.013,  -999.00, 1, -999.00, -999.00, 9, -999.00
49NZ20071008, P14N, 51, 1, 28, X12034, 2, 20071104, 0615, 36.9897, 179.0107, 5179,    470.2, 2,   7.9572, 2,  34.0282, 2,  34.0247, 6,    201.4, 2,    197.9, 2,    33.34, 2,    21.05, 2,     0.01, 2,     1.56, 2,    3.161, 2,    1.653, 2,    0.186, 2, -999.000, 9,   -999.0, 9,   -999.0, 9, -999.0000,   -999.00,   -999.0, 9,   -999.0,  -999.00, 9,   -999.0,   7.9096, 26.5240,   7.9585, 2, 9, 0.19, 0.09, 0.01, 0.014,  -999.00, 9, -999.00, -999.00, 9, -999.00
49NZ20071008, P14N, 51, 1, 27, X12049, 2, 20071104, 0615, 36.9897, 179.0107, 5179,    568.7, 2,   6.3013, 2,  33.9739, 2,  33.9721, 2,    154.9, 2,    154.5, 2,    52.06, 2,    28.06, 2,     0.01, 2,     2.06, 2,    2.657, 2,    1.346, 2,    0.157, 2, -999.000, 9,   -999.0, 9,   -999.0, 9, -999.0000,   -999.00,   -999.0, 9,   -999.0,  -999.00, 9,   -999.0,   6.2505, 26.7100,   6.3057, 2, 9, 0.23, 0.11, 0.01, 0.015,  -999.00, 1, -999.00, -999.00, 9, -999.00
49NZ20071008, P14N, 51, 1, 26, X12032, 2, 20071104, 0615, 36.9897, 179.0107, 5179,    668.4, 2,   5.1288, 2,  34.0065, 2,  34.0084, 2,    110.0, 2,    109.5, 2,    72.51, 2,    34.08, 2,     0.01, 2,     2.49, 2,    1.954, 6,    0.973, 6,    0.115, 6, -999.000, 9,   -999.0, 9,   -999.0, 9, -999.0000,   -999.00,   -999.0, 9,   -999.0,  -999.00, 9,   -999.0,   5.0746, 26.8791,   5.1290, 2, 9, 0.28, 0.13, 0.01, 0.016,  -999.00, 9, -999.00, -999.00, 9, -999.00
49NZ20071008, P14N, 51, 1, 25, X12043, 2, 20071104, 0615, 36.9897, 179.0107, 5179,    771.3, 2,   4.4968, 2,  34.1128, 2,  34.1153, 2,     71.4, 2,     69.4, 2,    91.80, 2,    38.47, 2,     0.00, 2,     2.79, 2,    0.962, 4,    0.465, 4,    0.058, 4, -999.000, 9,   -999.0, 9,   -999.0, 9, -999.0000,   -999.00,   -999.0, 9,   -999.0,  -999.00, 9,   -999.0,   4.4373, 27.0344,   4.4986, 2, 9, 0.32, 0.14, 0.01, 0.017,  -999.00, 1, -999.00, -999.00, 9, -999.00
49NZ20071008, P14N, 51, 1, 24, X12030, 2, 20071104, 0615, 36.9897, 179.0107, 5179,    871.3, 2,   4.0614, 2,  34.1984, 2,  34.1978, 2,     50.3, 2,     49.9, 2,   105.53, 2,    40.65, 2,     0.01, 2,     2.93, 2,    0.704, 2,    0.335, 2,    0.033, 2, -999.000, 9,   -999.0, 9,   -999.0, 9, -999.0000,   -999.00,   -999.0, 9,   -999.0,  -999.00, 9,   -999.0,   3.9964, 27.1489,   4.0620, 2, 9, 0.35, 0.15, 0.01, 0.017,  -999.00, 9, -999.00, -999.00, 9, -999.00
49NZ20071008, P14N, 51, 1, 23, X12027, 2, 20071104, 0615, 36.9897, 179.0107, 5179,    971.1, 2,   3.6969, 2,  34.2632, 2,  34.2648, 6,     37.6, 2,     36.6, 2,   116.91, 2,    42.21, 2,     0.00, 2,     3.04, 2,    0.367, 2,    0.176, 2,    0.020, 2, -999.000, 9,   -999.0, 9,   -999.0, 9, -999.0000,   -999.00,   -999.0, 9,   -999.0,  -999.00, 9,   -999.0,   3.6263, 27.2377,   3.6977, 2, 9, 0.38, 0.15, 0.01, 0.018,  -999.00, 1, -999.00, -999.00, 9, -999.00
49NZ20071008, P14N, 51, 1, 22, X12028, 2, 20071104, 0615, 36.9897, 179.0107, 5179,   1128.9, 2,   3.1970, 2,  34.3549, 2,  34.3563, 2,     30.5, 2,     30.5, 2,   132.53, 2,    43.15, 2,     0.00, 2,     3.10, 2,    0.173, 2,    0.083, 2,    0.011, 2, -999.000, 9,   -999.0, 9,   -999.0, 9, -999.0000,   -999.00,   -999.0, 9,   -999.0,  -999.00, 9,   -999.0,   3.1178, 27.3593,   3.1972, 2, 9, 0.41, 0.15, 0.01, 0.018,  -999.00, 9, -999.00, -999.00, 9, -999.00
49NZ20071008, P14N, 51, 1, 21, X12009, 2, 20071104, 0615, 36.9897, 179.0107, 5179,   1329.5, 2,   2.7895, 2,  34.4302, 2,  34.4315, 2,     29.6, 2,     29.6, 2,   145.00, 2,    43.58, 2,     0.00, 2,     3.12, 2,    0.074, 2,    0.041, 2,    0.007, 2, -999.000, 9,   -999.0, 9,   -999.0, 9, -999.0000,   -999.00,   -999.0, 9,   -999.0,  -999.00, 9,   -999.0,   2.6982, 27.4572,   2.7896, 2, 9, 0.44, 0.15, 0.01, 0.018,  -999.00, 9, -999.00, -999.00, 9, -999.00
49NZ20071008, P14N, 51, 1, 20, X12026, 2, 20071104, 0615, 36.9897, 179.0107, 5179,   1529.8, 2,   2.4713, 2,  34.4871, 2,  34.4878, 2,     33.6, 2,     34.1, 2,   154.32, 2,    43.50, 2,     0.00, 2,     3.11, 2,    0.043, 2,    0.024, 2,    0.015, 2, -999.000, 9,   -999.0, 9,   -999.0, 9, -999.0000,   -999.00,   -999.0, 9,   -999.0,  -999.00, 9,   -999.0,   2.3674, 27.5310,   2.4715, 2, 9, 0.46, 0.15, 0.01, 0.018,  -999.00, 9, -999.00, -999.00, 9, -999.00
49NZ20071008, P14N, 51, 1, 19, X12025, 2, 20071104, 0615, 36.9897, 179.0107, 5179,   1730.7, 2,   2.2421, 2,  34.5311, 2,  34.5313, 2,     40.9, 2,     40.8, 2,   160.28, 2,    43.32, 2,     0.00, 2,     3.08, 2,    0.021, 2,    0.011, 2,    0.000, 2, -999.000, 9,   -999.0, 9,   -999.0, 9, -999.0000,   -999.00,   -999.0, 9,   -999.0,  -999.00, 9,   -999.0,   2.1248, 27.5861,   2.2420, 2, 9, 0.47, 0.15, 0.01, 0.018,  -999.00, 1, -999.00, -999.00, 9, -999.00
49NZ20071008, P14N, 51, 1, 18, X12024, 2, 20071104, 0615, 36.9897, 179.0107, 5179,   1931.4, 2,   2.0538, 2,  34.5684, 2,  34.5686, 2,     50.5, 2,     52.2, 2,   164.48, 2,    42.60, 2,     0.00, 2,     3.02, 2,    0.016, 2,    0.010, 2,    0.000, 2, -999.000, 9,   -999.0, 9,   -999.0, 9, -999.0000,   -999.00,   -999.0, 9,   -999.0,  -999.00, 9,   -999.0,   1.9225, 27.6319,   2.0539, 2, 9, 0.48, 0.15, 0.01, 0.018,  -999.00, 1, -999.00, -999.00, 9, -999.00
49NZ20071008, P14N, 51, 1, 17, X12023, 2, 20071104, 0615, 36.9897, 179.0107, 5179,   2129.9, 2,   1.9193, 2,  34.5967, 2,  34.5972, 2,     61.7, 2,     64.0, 2,   166.64, 2,    42.04, 2,     0.00, 2,     2.97, 2,    0.014, 2,    0.008, 2,    0.008, 2, -999.000, 9,   -999.0, 9,   -999.0, 9, -999.0000,   -999.00,   -999.0, 9,   -999.0,  -999.00, 9,   -999.0,   1.7733, 27.6662,   1.9195, 2, 9, 0.49, 0.15, 0.01, 0.017,  -999.00, 1, -999.00, -999.00, 9, -999.00
49NZ20071008, P14N, 51, 1, 16, X12022, 2, 20071104, 0615, 36.9897, 179.0107, 5179,   2329.2, 2,   1.8000, 2,  34.6182, 2,  34.6185, 2,     76.2, 2,     77.8, 2,   166.64, 2,    41.07, 2,     0.01, 2,     2.90, 2,    0.000, 2,    0.000, 2,    0.000, 2, -999.000, 9,   -999.0, 9,   -999.0, 9, -999.0000,   -999.00,   -999.0, 9,   -999.0,  -999.00, 9,   -999.0,   1.6387, 27.6936,   1.8000, 2, 9, 0.49, 0.15, 0.01, 0.017,  -999.00, 9, -999.00, -999.00, 9, -999.00
49NZ20071008, P14N, 51, 1, 15, X12021, 2, 20071104, 0615, 36.9897, 179.0107, 5179,   2530.8, 2,   1.6979, 2,  34.6349, 2,  34.6352, 6,     91.9, 2,     93.5, 2,   164.74, 2,    40.05, 2,     0.01, 2,     2.83, 2,    0.013, 2,    0.008, 2,    0.008, 2, -999.000, 9,   -999.0, 9,   -999.0, 9, -999.0000,   -999.00,   -999.0, 9,   -999.0,  -999.00, 9,   -999.0,   1.5206, 27.7156,   1.6979, 2, 9, 0.48, 0.14, 0.01, 0.017,  -999.00, 9, -999.00, -999.00, 9, -999.00
49NZ20071008, P14N, 51, 1, 14, X12020, 2, 20071104, 0615, 36.9897, 179.0107, 5179,   2730.5, 2,   1.6285, 2,  34.6470, 2,  34.6472, 2,    104.2, 2,    104.8, 2,   162.66, 2,    39.27, 2,     0.00, 2,     2.77, 2,    0.010, 2,    0.006, 2,    0.000, 2, -999.000, 9,   -999.0, 9,   -999.0, 9, -999.0000,   -999.00,   -999.0, 9,   -999.0,  -999.00, 9,   -999.0,   1.4343, 27.7316,   1.6286, 2, 9, 0.48, 0.14, 0.01, 0.017,  -999.00, 1, -999.00, -999.00, 9, -999.00
49NZ20071008, P14N, 51, 1, 13, X12019, 2, 20071104, 0615, 36.9897, 179.0107, 5179,   2929.5, 2,   1.5662, 2,  34.6573, 2,  34.6576, 2,    115.9, 2,    116.7, 2,   160.13, 2,    38.49, 2,     0.00, 2,     2.71, 2, -999.000, 9, -999.000, 9, -999.000, 9, -999.000, 9,   -999.0, 9,   -999.0, 9, -999.0000,   -999.00,   -999.0, 9,   -999.0,  -999.00, 9,   -999.0,   1.3547, 27.7456,   1.5662, 2, 9, 0.47, 0.14, 0.01, 0.017,  -999.00, 1, -999.00, -999.00, 9, -999.00
49NZ20071008, P14N, 51, 1, 12, X12040, 2, 20071104, 0615, 36.9897, 179.0107, 5179,   3170.8, 2,   1.5036, 2,  34.6679, 2,  34.6683, 2,    128.5, 2,    128.9, 2,   156.66, 2,    37.69, 2,     0.01, 2,     2.64, 2,    0.002, 2,    0.001, 2,    0.000, 2, -999.000, 9,   -999.0, 9,   -999.0, 9, -999.0000,   -999.00,   -999.0, 9,   -999.0,  -999.00, 9,   -999.0,   1.2703, 27.7601,   1.5037, 2, 9, 0.46, 0.14, 0.01, 0.017,  -999.00, 1, -999.00, -999.00, 9, -999.00
49NZ20071008, P14N, 51, 1, 11, X12047, 2, 20071104, 0615, 36.9897, 179.0107, 5179,   3421.1, 2,   1.4696, 2,  34.6750, 2,  34.6751, 2,    136.9, 2,    137.5, 2,   154.55, 2,    37.10, 2,     0.00, 2,     2.59, 2, -999.000, 9, -999.000, 9, -999.000, 9, -999.000, 9,   -999.0, 9,   -999.0, 9, -999.0000,   -999.00,   -999.0, 9,   -999.0,  -999.00, 9,   -999.0,   1.2123, 27.7698,   1.4695, 2, 9, 0.46, 0.14, 0.01, 0.016,  -999.00, 9, -999.00, -999.00, 9, -999.00
49NZ20071008, P14N, 51, 1, 10, X12017, 2, 20071104, 0615, 36.9897, 179.0107, 5179,   3670.0, 2,   1.4535, 2,  34.6799, 2,  34.6798, 2,    143.3, 2,    143.7, 2,   153.15, 2,    36.74, 2,     0.00, 2,     2.56, 2, -999.000, 9, -999.000, 9, -999.000, 9, -999.000, 9,   -999.0, 9,   -999.0, 9, -999.0000,   -999.00,   -999.0, 9,   -999.0,  -999.00, 9,   -999.0,   1.1710, 27.7766,   1.4535, 2, 9, 0.46, 0.14, 0.01, 0.016,  -999.00, 1, -999.00, -999.00, 9, -999.00
49NZ20071008, P14N, 51, 1, 9, X12015, 2, 20071104, 0615, 36.9897, 179.0107, 5179,   3922.6, 2,   1.4449, 2,  34.6839, 2,  34.6840, 6,    148.4, 2,    148.7, 2,   152.02, 2,    36.43, 2,     0.00, 2,     2.54, 2,    0.008, 2,    0.005, 2,    0.000, 2, -999.000, 9,   -999.0, 9,   -999.0, 9, -999.0000,   -999.00,   -999.0, 9,   -999.0,  -999.00, 9,   -999.0,   1.1359, 27.7822,   1.4449, 2, 9, 0.45, 0.13, 0.01, 0.016,  -999.00, 1, -999.00, -999.00, 9, -999.00
49NZ20071008, P14N, 51, 1, 8, X12046, 2, 20071104, 0615, 36.9897, 179.0107, 5179,   4170.2, 2,   1.4536, 2,  34.6860, 2,  34.6864, 2,    151.0, 2,    151.3, 2,   151.94, 2,    36.19, 2,     0.00, 2,     2.52, 2, -999.000, 9, -999.000, 9, -999.000, 9, -999.000, 9,   -999.0, 9,   -999.0, 9, -999.0000,   -999.00,   -999.0, 9,   -999.0,  -999.00, 9,   -999.0,   1.1173, 27.7851,   1.4535, 2, 9, 0.45, 0.13, 0.01, 0.016,  -999.00, 1, -999.00, -999.00, 9, -999.00
49NZ20071008, P14N, 51, 1, 7, X12044, 2, 20071104, 0615, 36.9897, 179.0107, 5179,   4422.1, 2,   1.4709, 2,  34.6873, 2,  34.6875, 2,    152.9, 2,    153.0, 2,   151.62, 2,    36.08, 2,     0.00, 2,     2.52, 2, -999.000, 9, -999.000, 9, -999.000, 9, -999.000, 9,   -999.0, 9,   -999.0, 9, -999.0000,   -999.00,   -999.0, 9,   -999.0,  -999.00, 9,   -999.0,   1.1058, 27.7870,   1.4709, 2, 9, 0.45, 0.13, 0.01, 0.016,  -999.00, 9, -999.00, -999.00, 9, -999.00
49NZ20071008, P14N, 51, 1, 6, X12048, 2, 20071104, 0615, 36.9897, 179.0107, 5179,   4671.5, 2,   1.4932, 2,  34.6883, 2,  34.6884, 2,    153.9, 2,    153.9, 2,   152.33, 2,    36.05, 2,     0.00, 2,     2.52, 2,    0.000, 2,    0.000, 2,    0.000, 2, -999.000, 9,   -999.0, 9,   -999.0, 9, -999.0000,   -999.00,   -999.0, 9,   -999.0,  -999.00, 9,   -999.0,   1.0985, 27.7883,   1.4932, 2, 9, 0.45, 0.13, 0.01, 0.016,  -999.00, 9, -999.00, -999.00, 9, -999.00
49NZ20071008, P14N, 51, 1, 5, X12014, 2, 20071104, 0615, 36.9897, 179.0107, 5179,   4920.6, 2,   1.5205, 2,  34.6887, 2,  34.6891, 2,    154.3, 2,    154.3, 2,   152.68, 2,    36.03, 2,     0.00, 2,     2.51, 2, -999.000, 9, -999.000, 9, -999.000, 9, -999.000, 9,   -999.0, 9,   -999.0, 9, -999.0000,   -999.00,   -999.0, 9,   -999.0,  -999.00, 9,   -999.0,   1.0952, 27.7889,   1.5205, 2, 9, 0.45, 0.13, 0.01, 0.016,  -999.00, 1, -999.00, -999.00, 9, -999.00
49NZ20071008, P14N, 51, 1, 4, X12006, 2, 20071104, 0615, 36.9897, 179.0107, 5179,   5171.1, 2,   1.5523, 2,  34.6888, 2,  34.6890, 2,    154.4, 2,    154.1, 2,   152.91, 2,    36.00, 2,     0.00, 2,     2.51, 2,    0.000, 2,    0.000, 2,    0.000, 2, -999.000, 9,   -999.0, 9,   -999.0, 9, -999.0000,   -999.00,   -999.0, 9,   -999.0,  -999.00, 9,   -999.0,   1.0953, 27.7889,   1.5523, 2, 9, 0.46, 0.13, 0.01, 0.016,  -999.00, 9, -999.00, -999.00, 9, -999.00
49NZ20071008, P14N, 51, 1, 3, X12013, 2, 20071104, 0615, 36.9897, 179.0107, 5179,   4920.5, 2,   1.5205, 2,  34.6887, 2, -999.0000, 9,    154.3, 2,   -999.0, 9,  -999.00, 9,  -999.00, 9,  -999.00, 9,  -999.00, 9, -999.000, 9, -999.000, 9, -999.000, 9, -999.000, 9,   -999.0, 9,   -999.0, 9, -999.0000,   -999.00,   -999.0, 9,   -999.0,  -999.00, 9,   -999.0,   1.0952, 27.7889,   1.5204, 2, 9, -999.00, -999.00, -999.00, -999.000,  -999.00, 1, -999.00, -999.00, 9, -999.00
49NZ20071008, P14N, 51, 1, 2, X12002, 2, 20071104, 0615, 36.9897, 179.0107, 5179,   5285.0, 2,   1.5672, 2,  34.6888, 2, -999.0000, 9,    154.2, 2,   -999.0, 9,  -999.00, 9,  -999.00, 9,  -999.00, 9,  -999.00, 9, -999.000, 9, -999.000, 9, -999.000, 9, -999.000, 9,   -999.0, 9,   -999.0, 9, -999.0000,   -999.00,   -999.0, 9,   -999.0,  -999.00, 9,   -999.0,   1.0954, 27.7889,   1.5672, 2, 9, -999.00, -999.00, -999.00, -999.000,  -999.00, 1, -999.00, -999.00, 9, -999.00
49NZ20071008, P14N, 51, 1, 1, X12001, 2, 20071104, 0615, 36.9897, 179.0107, 5179,   5285.5, 2,   1.5672, 2,  34.6887, 2,  34.6889, 6,    154.2, 2,    154.1, 2,   152.94, 2,    36.17, 2,     0.00, 2,     2.51, 2,    0.000, 2,    0.000, 2,    0.000, 2, -999.000, 9,   -999.0, 9,   -999.0, 9, -999.0000,   -999.00,   -999.0, 9,   -999.0,  -999.00, 9,   -999.0,   1.0954, 27.7888,   1.5672, 2, 9, 0.46, 0.13, 0.01, 0.016,  -999.00, 1, -999.00, -999.00, 9, -999.00