BOTTLE,20221005CCHSIOAMB
EXPOCODE,SECT_ID,STNNBR,CASTNO,SAMPNO,BTLNBR,BTLNBR_FLAG_W,DATE,TIME,LATITUDE,LONGITUDE,DEPTH,CTDPRS,CTDPRS_FLAG_W,CTDTMP,CTDTMP_FLAG_W,CTDSAL,CTDSAL_FLAG_W,SALNTY,SALNTY_FLAG_W,CTDOXY,CTDOXY_FLAG_W,OXYGEN,OXYGEN_FLAG_W,SILCAT,SILCAT_FLAG_W,NITRAT,NITRAT_FLAG_W,NITRIT,NITRIT_FLAG_W,PHSPHT,PHSPHT_FLAG_W,CFC-11,CFC-11_FLAG_W,CFC-12,CFC-12_FLAG_W,CFC113,CFC113_FLAG_W,CCL4,CCL4_FLAG_W,TCARBN,TCARBN_FLAG_W,ALKALI,ALKALI_FLAG_W,PH_TOT,PH_TMP,DELC14,DELC14_FLAG_W,C14ERR,DELC13,DELC13_FLAG_W,C13ERR,THETA,SIG0,SBE35,SBE35_FLAG_W,PH_TOT_FLAG_W,SILUNC,NRAUNC,NRIUNC,PHPUNC,CS-137,CS-137_FLAG_W,CS137ER,PLUTO,PLUTO_FLAG_W,PLUTOER
,,,,,,,,,,,METERS,DBAR,,ITS-90,,PSS-78,,PSS-78,,UMOL/KG,,UMOL/KG,,UMOL/KG,,UMOL/KG,,UMOL/KG,,UMOL/KG,,PMOL/KG,,PMOL/KG,,PMOL/KG,,PMOL/KG,,UMOL/KG,,UMOL/KG,,,DEG C,/MILLE,,/MILLE,/MILLE,,/MILLE,DEG C,KG/M^3,ITS-90,,,UMOL/KG,UMOL/KG,UMOL/KG,UMOL/KG,DM/.1MG,,BQ/M^3,MBQ/M^3,,MBQ/M^3
49NZ20071008, P14N, 7, 1, 36, X12042, 2, 20071025, 1856, 55.9950, -176.4823, 3716,      9.8, 2,   5.6200, 2,  32.8972, 2,  32.8979, 2,    300.2, 2,    301.7, 2,    31.16, 2,    17.72, 2,     0.21, 2,     1.59, 2, -999.000, 9, -999.000, 9, -999.000, 9, -999.000, 9,   2086.5, 2,   2233.0, 2,    7.7689,     25.00,   -999.0, 9,   -999.0,  -999.00, 9,   -999.0,   5.6192, 25.9372,   5.6203, 2, 6, 0.19, 0.08, 0.01, 0.014,  -999.00, 9, -999.00, -999.00, 9, -999.00
49NZ20071008, P14N, 7, 1, 35, X12041, 2, 20071025, 1856, 55.9950, -176.4823, 3716,     49.7, 2,   5.5834, 2,  32.8920, 2,  32.8941, 2,    300.2, 2,    301.2, 2,    31.39, 2,    17.85, 2,     0.21, 2,     1.60, 2, -999.000, 9, -999.000, 9, -999.000, 9, -999.000, 9,   2087.0, 6,   2234.3, 2,    7.7647,     25.00,   -999.0, 9,   -999.0,  -999.00, 9,   -999.0,   5.5795, 25.9378,   5.5830, 2, 2, 0.19, 0.08, 0.01, 0.014,  -999.00, 9, -999.00, -999.00, 9, -999.00
49NZ20071008, P14N, 7, 1, 34, X12016, 2, 20071025, 1856, 55.9950, -176.4823, 3716,    100.0, 2,   3.3582, 2,  33.2163, 2,  33.2176, 2,    277.2, 2,    255.2, 2,    57.86, 2,    30.30, 2,     0.02, 2,     2.31, 2, -999.000, 9, -999.000, 9, -999.000, 9, -999.000, 9,   2173.1, 2,   2247.4, 2,    7.5746,     25.00,   -999.0, 9,   -999.0,  -999.00, 9,   -999.0,   3.3521, 26.4296,   3.3558, 2, 2, 0.25, 0.12, 0.01, 0.016,  -999.00, 9, -999.00, -999.00, 9, -999.00
49NZ20071008, P14N, 7, 1, 33, X12033, 2, 20071025, 1856, 55.9950, -176.4823, 3716,    150.2, 2,   2.9477, 2,  33.2458, 2,  33.2457, 2,    282.6, 2,    283.3, 2,    57.11, 2,    30.01, 2,     0.03, 2,     2.29, 2, -999.000, 9, -999.000, 9, -999.000, 9, -999.000, 9,   2165.0, 2,   2251.6, 2,    7.6020,     25.00,   -999.0, 9,   -999.0,  -999.00, 9,   -999.0,   2.9389, 26.4902,   2.9487, 2, 6, 0.24, 0.12, 0.01, 0.016,  -999.00, 9, -999.00, -999.00, 9, -999.00
49NZ20071008, P14N, 7, 1, 32, X12038, 2, 20071025, 1856, 55.9950, -176.4823, 3716,    198.1, 2,   3.7314, 2,  33.4636, 2,  33.4677, 2,    192.2, 2,    175.1, 2,    71.93, 2,    34.81, 2,     0.02, 2,     2.59, 2, -999.000, 9, -999.000, 9, -999.000, 9, -999.000, 9,   2227.4, 2,   2272.7, 2,    7.4702,     25.00,   -999.0, 9,   -999.0,  -999.00, 9,   -999.0,   3.7184, 26.5919,   3.7328, 2, 2, 0.28, 0.13, 0.01, 0.016,  -999.00, 9, -999.00, -999.00, 9, -999.00
49NZ20071008, P14N, 7, 1, 31, X12003, 2, 20071025, 1856, 55.9950, -176.4823, 3716,    250.1, 2,   3.8862, 2,  33.6129, 2,  33.6109, 6,    134.3, 2,    127.8, 2,    81.61, 2,    37.47, 2,     0.02, 2,     2.74, 2, -999.000, 9, -999.000, 9, -999.000, 9, -999.000, 9,   2259.4, 2,   2282.2, 2,    7.4132,     25.00,   -999.0, 9,   -999.0,  -999.00, 9,   -999.0,   3.8693, 26.6959,   3.8856, 2, 2, 0.30, 0.14, 0.01, 0.017,  -999.00, 9, -999.00, -999.00, 9, -999.00
49NZ20071008, P14N, 7, 1, 30, X12008, 2, 20071025, 1856, 55.9950, -176.4823, 3716,    300.7, 2,   3.8854, 2,  33.7332, 2,  33.7296, 2,    101.8, 2,     99.4, 2,    89.04, 2,    39.16, 2,     0.01, 2,     2.84, 2, -999.000, 9, -999.000, 9, -999.000, 9, -999.000, 9,   2282.7, 2,   2294.6, 2,    7.3804,     25.00,   -999.0, 9,   -999.0,  -999.00, 9,   -999.0,   3.8649, 26.7921,   3.8851, 2, 2, 0.31, 0.14, 0.01, 0.017,  -999.00, 9, -999.00, -999.00, 9, -999.00
49NZ20071008, P14N, 7, 1, 29, X12035, 2, 20071025, 1856, 55.9950, -176.4823, 3716,    399.1, 2,   3.8107, 2,  33.9131, 2,  33.9142, 2,     57.1, 2,     56.9, 2,    98.61, 2,    42.20, 2,     0.01, 2,     3.03, 2, -999.000, 9, -999.000, 9, -999.000, 9, -999.000, 9,   2317.2, 2,   2310.9, 2,    7.3268,     25.00,   -999.0, 9,   -999.0,  -999.00, 9,   -999.0,   3.7833, 26.9434,   3.8109, 2, 2, 0.34, 0.15, 0.01, 0.018,  -999.00, 9, -999.00, -999.00, 9, -999.00
49NZ20071008, P14N, 7, 1, 28, X12034, 2, 20071025, 1856, 55.9950, -176.4823, 3716,    500.3, 2,   3.6931, 2,  34.0376, 2,  34.0371, 6,     32.0, 2,     30.5, 2,   108.75, 2,    44.01, 2,     0.01, 2,     3.13, 2, -999.000, 9, -999.000, 9, -999.000, 9, -999.000, 9,   2340.5, 2,   2326.6, 2,    7.2982,     25.00,   -999.0, 9,   -999.0,  -999.00, 9,   -999.0,   3.6588, 27.0548,   3.6930, 2, 2, 0.36, 0.16, 0.01, 0.018,  -999.00, 9, -999.00, -999.00, 9, -999.00
49NZ20071008, P14N, 7, 1, 27, X12049, 2, 20071025, 1856, 55.9950, -176.4823, 3716,    600.9, 2,   3.5382, 2,  34.1342, 2,  34.1333, 2,     24.1, 2,     21.3, 2,   117.61, 2,    44.28, 2,     0.01, 2,     3.16, 2, -999.000, 9, -999.000, 9, -999.000, 9, -999.000, 9,   2352.4, 2,   2337.7, 2,    7.2980,     25.00,   -999.0, 9,   -999.0,  -999.00, 9,   -999.0,   3.4971, 27.1475,   3.5381, 2, 2, 0.38, 0.16, 0.01, 0.018,  -999.00, 9, -999.00, -999.00, 9, -999.00
49NZ20071008, P14N, 7, 1, 26, X12032, 2, 20071025, 1856, 55.9950, -176.4823, 3716,    700.8, 2,   3.4093, 2,  34.1906, 2,  34.1901, 2,     17.2, 2,     17.3, 2,   124.02, 2,    44.48, 2,     0.01, 2,     3.16, 2, -999.000, 9, -999.000, 9, -999.000, 9, -999.000, 9,   2361.6, 6,   2346.3, 2,    7.3013,     25.00,   -999.0, 9,   -999.0,  -999.00, 9,   -999.0,   3.3615, 27.2054,   3.4092, 2, 2, 0.39, 0.16, 0.01, 0.018,  -999.00, 9, -999.00, -999.00, 9, -999.00
49NZ20071008, P14N, 7, 1, 25, X12043, 2, 20071025, 1856, 55.9950, -176.4823, 3716,    801.2, 2,   3.2104, 2,  34.2348, 2,  34.2345, 2,     18.4, 2,     18.4, 2,   132.47, 2,    44.37, 2,     0.01, 2,     3.17, 2, -999.000, 9, -999.000, 9, -999.000, 9, -999.000, 9,   2368.6, 2,   2357.1, 6,    7.3074,     25.00,   -999.0, 9,   -999.0,  -999.00, 9,   -999.0,   3.1563, 27.2599,   3.2105, 2, 2, 0.41, 0.16, 0.01, 0.018,  -999.00, 9, -999.00, -999.00, 9, -999.00
49NZ20071008, P14N, 7, 1, 24, X12030, 2, 20071025, 1856, 55.9950, -176.4823, 3716,    901.5, 2,   3.0941, 2,  34.2954, 2,  34.2945, 2,     15.2, 2,     15.1, 2,   137.10, 2,    44.37, 2,     0.01, 2,     3.17, 2, -999.000, 9, -999.000, 9, -999.000, 9, -999.000, 9,   2374.2, 2,   2363.6, 2,    7.3126,     25.00,   -999.0, 9,   -999.0,  -999.00, 9,   -999.0,   3.0332, 27.3196,   3.0943, 2, 2, 0.42, 0.16, 0.01, 0.018,  -999.00, 9, -999.00, -999.00, 9, -999.00
49NZ20071008, P14N, 7, 1, 23, X12027, 2, 20071025, 1856, 55.9950, -176.4823, 3716,   1001.2, 2,   2.9326, 2,  34.3348, 2,  34.3341, 6,     15.9, 2,     15.7, 2,   143.94, 2,    44.52, 2,     0.01, 2,     3.17, 2, -999.000, 9, -999.000, 9, -999.000, 9, -999.000, 9,   2379.9, 2,   2373.2, 2,    7.3158,     25.00,   -999.0, 9,   -999.0,  -999.00, 9,   -999.0,   2.8654, 27.3662,   2.9327, 2, 2, 0.44, 0.16, 0.01, 0.018,  -999.00, 9, -999.00, -999.00, 9, -999.00
49NZ20071008, P14N, 7, 1, 22, X12028, 2, 20071025, 1856, 55.9950, -176.4823, 3716,   1200.9, 2,   2.6632, 2,  34.4025, 2,  34.4013, 2,     17.8, 2,     17.5, 2,   155.82, 2,    44.25, 2,     0.01, 2,     3.17, 2, -999.000, 9, -999.000, 9, -999.000, 9, -999.000, 9,   2388.0, 2,   2383.3, 2,    7.3280,     25.00,   -999.0, 9,   -999.0,  -999.00, 9,   -999.0,   2.5831, 27.4450,   2.6634, 2, 2, 0.46, 0.16, 0.01, 0.018,  -999.00, 9, -999.00, -999.00, 9, -999.00
49NZ20071008, P14N, 7, 1, 21, X12009, 2, 20071025, 1856, 55.9950, -176.4823, 3716,   1401.4, 2,   2.4135, 2,  34.4630, 2,  34.4631, 2,     22.5, 2,     22.3, 2,   167.30, 2,    43.82, 2,     0.01, 2,     3.16, 2, -999.000, 9, -999.000, 9, -999.000, 9, -999.000, 9,   2394.5, 2,   2395.3, 2,    7.3438,     25.00,   -999.0, 9,   -999.0,  -999.00, 9,   -999.0,   2.3204, 27.5156,   2.4137, 2, 2, 0.49, 0.16, 0.01, 0.018,  -999.00, 9, -999.00, -999.00, 9, -999.00
49NZ20071008, P14N, 7, 1, 20, X12026, 2, 20071025, 1856, 55.9950, -176.4823, 3716,   1602.7, 2,   2.1960, 2,  34.5146, 2,  34.5144, 2,     30.3, 2,     30.3, 2,   177.79, 2,    43.29, 2,     0.01, 2,     3.15, 2, -999.000, 9, -999.000, 9, -999.000, 9, -999.000, 9,   2396.6, 2,   2406.4, 2,    7.3624,     25.00,   -999.0, 9,   -999.0,  -999.00, 9,   -999.0,   2.0896, 27.5756,   2.1962, 2, 6, 0.51, 0.15, 0.01, 0.018,  -999.00, 9, -999.00, -999.00, 9, -999.00
49NZ20071008, P14N, 7, 1, 19, X12025, 2, 20071025, 1856, 55.9950, -176.4823, 3716,   1799.8, 2,   2.0240, 2,  34.5527, 2,  34.5529, 2,     39.9, 2,     40.6, 2,   188.78, 2,    42.32, 2,     0.01, 2,     3.11, 2, -999.000, 9, -999.000, 9, -999.000, 9, -999.000, 9,   2397.8, 2,   2411.1, 2,    7.3827,     25.00,   -999.0, 9,   -999.0,  -999.00, 9,   -999.0,   1.9040, 27.6208,   2.0239, 2, 2, 0.53, 0.15, 0.01, 0.018,  -999.00, 9, -999.00, -999.00, 9, -999.00
49NZ20071008, P14N, 7, 1, 18, X12024, 2, 20071025, 1856, 55.9950, -176.4823, 3716,   2000.1, 2,   1.9067, 2,  34.5801, 2,  34.5803, 6,     48.7, 2,     49.2, 2,   195.29, 2,    41.55, 2,     0.01, 2,     3.08, 2, -999.000, 9, -999.000, 9, -999.000, 9, -999.000, 9,   2396.7, 2,   2416.5, 2,    7.4018,     25.00,   -999.0, 9,   -999.0,  -999.00, 9,   -999.0,   1.7718, 27.6530,   1.9067, 2, 2, 0.55, 0.15, 0.01, 0.018,  -999.00, 9, -999.00, -999.00, 9, -999.00
49NZ20071008, P14N, 7, 1, 17, X12023, 2, 20071025, 1856, 55.9950, -176.4823, 3716,   2200.2, 2,   1.8135, 2,  34.6022, 2,  34.6024, 2,     57.4, 2,     58.0, 2,   199.93, 2,    41.07, 2,     0.01, 2,     3.06, 2, -999.000, 9, -999.000, 9, -999.000, 9, -999.000, 9,   2393.6, 2,   2420.2, 2,    7.4193,     25.00,   -999.0, 9,   -999.0,  -999.00, 9,   -999.0,   1.6632, 27.6789,   1.8136, 2, 2, 0.56, 0.15, 0.01, 0.018,  -999.00, 9, -999.00, -999.00, 9, -999.00
49NZ20071008, P14N, 7, 1, 16, X12022, 2, 20071025, 1856, 55.9950, -176.4823, 3716,   2399.9, 2,   1.7411, 2,  34.6192, 2,  34.6194, 2,     65.7, 2,     66.3, 2,   204.64, 2,    40.33, 2,     0.01, 2,     3.03, 2, -999.000, 9, -999.000, 9, -999.000, 9, -999.000, 9,   2388.9, 6,   2424.5, 2,    7.4369,     25.00,   -999.0, 9,   -999.0,  -999.00, 9,   -999.0,   1.5747, 27.6991,   1.7412, 2, 2, 0.57, 0.15, 0.01, 0.018,  -999.00, 9, -999.00, -999.00, 9, -999.00
49NZ20071008, P14N, 7, 1, 15, X12021, 2, 20071025, 1856, 55.9950, -176.4823, 3716,   2600.0, 2,   1.6865, 2,  34.6328, 2,  34.6332, 2,     73.3, 2,     74.0, 2,   207.01, 2,    39.84, 2,     0.01, 2,     2.99, 2, -999.000, 9, -999.000, 9, -999.000, 9, -999.000, 9,   2385.5, 2,   2426.7, 6,    7.4526,     25.00,   -999.0, 9,   -999.0,  -999.00, 9,   -999.0,   1.5032, 27.7152,   1.6866, 2, 2, 0.57, 0.14, 0.01, 0.017,  -999.00, 9, -999.00, -999.00, 9, -999.00
49NZ20071008, P14N, 7, 1, 14, X12020, 2, 20071025, 1856, 55.9950, -176.4823, 3716,   2799.8, 2,   1.6439, 2,  34.6438, 2,  34.6439, 2,     80.2, 2,     80.6, 2,   210.28, 2,    39.16, 2,     0.01, 2,     2.97, 2, -999.000, 9, -999.000, 9, -999.000, 9, -999.000, 9,   2383.6, 2,   2429.2, 2,    7.4667,     25.00,   -999.0, 9,   -999.0,  -999.00, 9,   -999.0,   1.4430, 27.7284,   1.6440, 2, 6, 0.58, 0.14, 0.01, 0.017,  -999.00, 9, -999.00, -999.00, 9, -999.00
49NZ20071008, P14N, 7, 1, 13, X12019, 2, 20071025, 1856, 55.9950, -176.4823, 3716,   3000.3, 2,   1.6152, 2,  34.6521, 2,  34.6525, 6,     86.2, 2,     86.3, 2,   212.48, 2,    38.73, 2,     0.01, 2,     2.95, 2, -999.000, 9, -999.000, 9, -999.000, 9, -999.000, 9,   2380.6, 2,   2430.3, 2,    7.4764,     25.00,   -999.0, 9,   -999.0,  -999.00, 9,   -999.0,   1.3960, 27.7385,   1.6152, 2, 2, 0.59, 0.14, 0.01, 0.017,  -999.00, 9, -999.00, -999.00, 9, -999.00
49NZ20071008, P14N, 7, 1, 12, X12040, 2, 20071025, 1856, 55.9950, -176.4823, 3716,   3249.2, 2,   1.5988, 2,  34.6592, 2,  34.6597, 2,     91.4, 2,     91.5, 2,   214.21, 2,    38.23, 2,     0.01, 2,     2.92, 2, -999.000, 9, -999.000, 9, -999.000, 9, -999.000, 9,   2379.5, 2,   2431.9, 2,    7.4885,     25.00,   -999.0, 9,   -999.0,  -999.00, 9,   -999.0,   1.3556, 27.7470,   1.5988, 2, 2, 0.59, 0.14, 0.01, 0.017,  -999.00, 9, -999.00, -999.00, 9, -999.00
49NZ20071008, P14N, 7, 1, 11, X12047, 2, 20071025, 1856, 55.9950, -176.4823, 3716,   3499.2, 2,   1.5937, 2,  34.6643, 2,  34.6654, 2,     95.1, 2,     95.0, 2,   218.06, 2,    38.01, 2,     0.01, 2,     2.93, 2, -999.000, 9, -999.000, 9, -999.000, 9, -999.000, 9,   2380.2, 2,   2434.7, 2,    7.4963,     25.00,   -999.0, 9,   -999.0,  -999.00, 9,   -999.0,   1.3254, 27.7533,   1.5936, 2, 2, 0.60, 0.14, 0.01, 0.017,  -999.00, 9, -999.00, -999.00, 9, -999.00
49NZ20071008, P14N, 7, 1, 10, X12017, 9, 20071025, 1856, 55.9950, -176.4823, 3716,   3499.0, 2,   1.5935, 2,  34.6644, 2, -999.0000, 9,     95.1, 2,   -999.0, 9,  -999.00, 9,  -999.00, 9,  -999.00, 9,  -999.00, 9, -999.000, 9, -999.000, 9, -999.000, 9, -999.000, 9,   -999.0, 9,   -999.0, 9, -999.0000,   -999.00,   -999.0, 9,   -999.0,  -999.00, 9,   -999.0,   1.3252, 27.7534,   1.5934, 2, 9, -999.00, -999.00, -999.00, -999.000,  -999.00, 9, -999.00, -999.00, 9, -999.00
49NZ20071008, P14N, 7, 1, 9, X12015, 9, 20071025, 1856, 55.9950, -176.4823, 3716,     10.1, 2,   5.6198, 2,  32.8971, 2, -999.0000, 9,    300.2, 2,   -999.0, 9,  -999.00, 9,  -999.00, 9,  -999.00, 9,  -999.00, 9, -999.000, 9, -999.000, 9, -999.000, 9, -999.000, 9,   -999.0, 9,   -999.0, 9, -999.0000,   -999.00,   -999.0, 9,   -999.0,  -999.00, 9,   -999.0,   5.6190, 25.9371,   5.6196, 2, 9, -999.00, -999.00, -999.00, -999.000,  -999.00, 9, -999.00, -999.00, 9, -999.00
49NZ20071008, P14N, 7, 1, 8, X12046, 9, 20071025, 1856, 55.9950, -176.4823, 3716,   2000.8, 2,   1.9063, 2,  34.5802, 2, -999.0000, 9,     48.7, 2,   -999.0, 9,  -999.00, 9,  -999.00, 9,  -999.00, 9,  -999.00, 9, -999.000, 9, -999.000, 9, -999.000, 9, -999.000, 9,   -999.0, 9,   -999.0, 9, -999.0000,   -999.00,   -999.0, 9,   -999.0,  -999.00, 9,   -999.0,   1.7714, 27.6531,   1.9064, 2, 9, -999.00, -999.00, -999.00, -999.000,  -999.00, 9, -999.00, -999.00, 9, -999.00
49NZ20071008, P14N, 7, 1, 7, X12044, 9, 20071025, 1856, 55.9950, -176.4823, 3716,   2200.4, 2,   1.8138, 2,  34.6020, 2, -999.0000, 9,     57.4, 2,   -999.0, 9,  -999.00, 9,  -999.00, 9,  -999.00, 9,  -999.00, 9, -999.000, 9, -999.000, 9, -999.000, 9, -999.000, 9,   -999.0, 9,   -999.0, 9, -999.0000,   -999.00,   -999.0, 9,   -999.0,  -999.00, 9,   -999.0,   1.6635, 27.6787,   1.8138, 2, 9, -999.00, -999.00, -999.00, -999.000,  -999.00, 9, -999.00, -999.00, 9, -999.00
49NZ20071008, P14N, 7, 1, 6, X12048, 9, 20071025, 1856, 55.9950, -176.4823, 3716,   2400.3, 2,   1.7411, 2,  34.6192, 2, -999.0000, 9,     65.7, 2,   -999.0, 9,  -999.00, 9,  -999.00, 9,  -999.00, 9,  -999.00, 9, -999.000, 9, -999.000, 9, -999.000, 9, -999.000, 9,   -999.0, 9,   -999.0, 9, -999.0000,   -999.00,   -999.0, 9,   -999.0,  -999.00, 9,   -999.0,   1.5746, 27.6991,   1.7413, 2, 9, -999.00, -999.00, -999.00, -999.000,  -999.00, 9, -999.00, -999.00, 9, -999.00
49NZ20071008, P14N, 7, 1, 5, X12014, 9, 20071025, 1856, 55.9950, -176.4823, 3716,   2600.1, 2,   1.6863, 2,  34.6329, 2, -999.0000, 9,     73.3, 2,   -999.0, 9,  -999.00, 9,  -999.00, 9,  -999.00, 9,  -999.00, 9, -999.000, 9, -999.000, 9, -999.000, 9, -999.000, 9,   -999.0, 9,   -999.0, 9, -999.0000,   -999.00,   -999.0, 9,   -999.0,  -999.00, 9,   -999.0,   1.5030, 27.7153,   1.6865, 2, 9, -999.00, -999.00, -999.00, -999.000,  -999.00, 9, -999.00, -999.00, 9, -999.00
49NZ20071008, P14N, 7, 1, 4, X12006, 9, 20071025, 1856, 55.9950, -176.4823, 3716,   2799.7, 2,   1.6442, 2,  34.6435, 2, -999.0000, 9,     80.2, 2,   -999.0, 9,  -999.00, 9,  -999.00, 9,  -999.00, 9,  -999.00, 9, -999.000, 9, -999.000, 9, -999.000, 9, -999.000, 9,   -999.0, 9,   -999.0, 9, -999.0000,   -999.00,   -999.0, 9,   -999.0,  -999.00, 9,   -999.0,   1.4433, 27.7282,   1.6442, 2, 9, -999.00, -999.00, -999.00, -999.000,  -999.00, 9, -999.00, -999.00, 9, -999.00
49NZ20071008, P14N, 7, 1, 3, X12013, 9, 20071025, 1856, 55.9950, -176.4823, 3716,   3000.4, 2,   1.6151, 2,  34.6521, 2, -999.0000, 9,     86.2, 2,   -999.0, 9,  -999.00, 9,  -999.00, 9,  -999.00, 9,  -999.00, 9, -999.000, 9, -999.000, 9, -999.000, 9, -999.000, 9,   -999.0, 9,   -999.0, 9, -999.0000,   -999.00,   -999.0, 9,   -999.0,  -999.00, 9,   -999.0,   1.3958, 27.7385,   1.6152, 2, 9, -999.00, -999.00, -999.00, -999.000,  -999.00, 9, -999.00, -999.00, 9, -999.00
49NZ20071008, P14N, 7, 1, 2, X12002, 9, 20071025, 1856, 55.9950, -176.4823, 3716,   3249.8, 2,   1.5988, 2,  34.6591, 2, -999.0000, 9,     91.4, 2,   -999.0, 9,  -999.00, 9,  -999.00, 9,  -999.00, 9,  -999.00, 9, -999.000, 9, -999.000, 9, -999.000, 9, -999.000, 9,   -999.0, 9,   -999.0, 9, -999.0000,   -999.00,   -999.0, 9,   -999.0,  -999.00, 9,   -999.0,   1.3556, 27.7470,   1.5989, 2, 9, -999.00, -999.00, -999.00, -999.000,  -999.00, 9, -999.00, -999.00, 9, -999.00
49NZ20071008, P14N, 7, 1, 1, X12001, 2, 20071025, 1856, 55.9950, -176.4823, 3716,   3768.4, 2,   1.6033, 2,  34.6691, 2,  34.6695, 6,     95.8, 2,     95.5, 2,   235.94, 2,    37.84, 2,     0.01, 2,     2.92, 2, -999.000, 9, -999.000, 9, -999.000, 9, -999.000, 9,   2380.6, 2,   2440.3, 2,    7.5012,     25.00,   -999.0, 9,   -999.0,  -999.00, 9,   -999.0,   1.3066, 27.7585,   1.6031, 2, 2, 0.64, 0.14, 0.01, 0.017,  -999.00, 9, -999.00, -999.00, 9, -999.00