BOTTLE,20221005CCHSIOAMB
EXPOCODE,SECT_ID,STNNBR,CASTNO,SAMPNO,BTLNBR,BTLNBR_FLAG_W,DATE,TIME,LATITUDE,LONGITUDE,DEPTH,CTDPRS,CTDPRS_FLAG_W,CTDTMP,CTDTMP_FLAG_W,CTDSAL,CTDSAL_FLAG_W,SALNTY,SALNTY_FLAG_W,CTDOXY,CTDOXY_FLAG_W,OXYGEN,OXYGEN_FLAG_W,SILCAT,SILCAT_FLAG_W,NITRAT,NITRAT_FLAG_W,NITRIT,NITRIT_FLAG_W,PHSPHT,PHSPHT_FLAG_W,CFC-11,CFC-11_FLAG_W,CFC-12,CFC-12_FLAG_W,CFC113,CFC113_FLAG_W,CCL4,CCL4_FLAG_W,TCARBN,TCARBN_FLAG_W,ALKALI,ALKALI_FLAG_W,PH_TOT,PH_TMP,DELC14,DELC14_FLAG_W,C14ERR,DELC13,DELC13_FLAG_W,C13ERR,THETA,SIG0,SBE35,SBE35_FLAG_W,PH_TOT_FLAG_W,SILUNC,NRAUNC,NRIUNC,PHPUNC,CS-137,CS-137_FLAG_W,CS137ER,PLUTO,PLUTO_FLAG_W,PLUTOER
,,,,,,,,,,,METERS,DBAR,,ITS-90,,PSS-78,,PSS-78,,UMOL/KG,,UMOL/KG,,UMOL/KG,,UMOL/KG,,UMOL/KG,,UMOL/KG,,PMOL/KG,,PMOL/KG,,PMOL/KG,,PMOL/KG,,UMOL/KG,,UMOL/KG,,,DEG C,/MILLE,,/MILLE,/MILLE,,/MILLE,DEG C,KG/M^3,ITS-90,,,UMOL/KG,UMOL/KG,UMOL/KG,UMOL/KG,DM/.1MG,,BQ/M^3,MBQ/M^3,,MBQ/M^3
49NZ20071008, P14N, 79, 1, 36, X12042, 2, 20071112, 0408, 23.0027, 178.9940, 5723,     10.2, 2,  26.9326, 2,  35.1500, 2,  35.1500, 2,    202.4, 2,    203.1, 2,     0.82, 2,     0.07, 2,     0.00, 2,     0.05, 2,    1.585, 2,    0.974, 2,    0.371, 4, -999.000, 9,   1963.8, 2,   2309.8, 2,    8.1242,     25.00,   -999.0, 9,   -999.0,  -999.00, 9,   -999.0,  26.9303, 22.8530,  26.9316, 2, 6, 0.12, 0.03, 0.01, 0.037,  -999.00, 9, -999.00, -999.00, 9, -999.00
49NZ20071008, P14N, 79, 1, 35, X12041, 2, 20071112, 0408, 23.0027, 178.9940, 5723,     50.5, 2,  26.8753, 2,  35.1659, 2,  35.1660, 2,    202.9, 2,    203.1, 2,     0.82, 2,     0.05, 2,     0.00, 2,     0.05, 2,    1.570, 2,    0.963, 2,    0.391, 4, -999.000, 9,   1966.8, 6,   2313.1, 2,    8.1237,     25.00,   -999.0, 9,   -999.0,  -999.00, 9,   -999.0,  26.8638, 22.8862,  26.8738, 2, 2, 0.12, 0.03, 0.01, 0.035,  -999.00, 9, -999.00, -999.00, 9, -999.00
49NZ20071008, P14N, 79, 1, 34, X12016, 2, 20071112, 0408, 23.0027, 178.9940, 5723,    100.7, 2,  24.2072, 2,  35.2784, 2,  35.2786, 2,    213.3, 2,    215.9, 2,     1.13, 2,     0.06, 2,     0.00, 2,     0.05, 2,    1.875, 2,    1.132, 2,    0.971, 4, -999.000, 9,   1996.3, 2,   2320.0, 6,    8.0840,     25.00,   -999.0, 9,   -999.0,  -999.00, 9,   -999.0,  24.1858, 23.7969,  24.2087, 2, 2, 0.12, 0.03, 0.01, 0.033,  -999.00, 9, -999.00, -999.00, 9, -999.00
49NZ20071008, P14N, 79, 1, 33, X12033, 2, 20071112, 0408, 23.0027, 178.9940, 5723,    149.4, 2,  20.2525, 2,  34.9956, 2,  34.9921, 2,    207.8, 2,    209.0, 2,     2.02, 2,     0.30, 2,     0.18, 2,     0.12, 2,    2.199, 6,    1.298, 6,    0.456, 4, -999.000, 9,   2022.4, 2,   2301.1, 2,    8.0137,     25.00,   -999.0, 9,   -999.0,  -999.00, 9,   -999.0,  20.2246, 24.6990,  20.2532, 2, 6, 0.12, 0.03, 0.01, 0.020,  -999.00, 9, -999.00, -999.00, 9, -999.00
49NZ20071008, P14N, 79, 1, 32, X12038, 2, 20071112, 0408, 23.0027, 178.9940, 5723,    205.4, 2,  17.2624, 2,  34.7482, 2,  34.7480, 2,    203.3, 2,    202.2, 2,     3.87, 2,     4.46, 2,     0.01, 2,     0.36, 2,    2.433, 2,    1.408, 2,    0.096, 2, -999.000, 9,   2040.9, 2,   2285.0, 2,    7.9549,     25.00,   -999.0, 9,   -999.0,  -999.00, 9,   -999.0,  17.2282, 25.2666,  17.2627, 2, 2, 0.13, 0.05, 0.01, 0.014,  -999.00, 9, -999.00, -999.00, 9, -999.00
49NZ20071008, P14N, 79, 1, 31, X12003, 2, 20071112, 0408, 23.0027, 178.9940, 5723,    253.6, 2,  15.8083, 2,  34.6364, 2,  34.6339, 6,    202.2, 2,    199.7, 2,     6.08, 2,     6.94, 2,     0.01, 2,     0.52, 2,    2.580, 2,    1.472, 2,    0.060, 2, -999.000, 9,   2054.5, 2,   2278.7, 2,    7.9177,     25.00,   -999.0, 9,   -999.0,  -999.00, 9,   -999.0,  15.7685, 25.5205,  15.8086, 2, 2, 0.13, 0.05, 0.01, 0.013,  -999.00, 9, -999.00, -999.00, 9, -999.00
49NZ20071008, P14N, 79, 1, 30, X12008, 2, 20071112, 0408, 23.0027, 178.9940, 5723,    301.4, 2,  14.3142, 2,  34.5145, 2,  34.5077, 2,    204.2, 2,    202.8, 2,     8.56, 2,     8.98, 2,     0.01, 2,     0.67, 2,    2.731, 2,    1.553, 2,    0.051, 2, -999.000, 9,   2067.4, 2,   2274.9, 2,    7.8831,     25.00,   -999.0, 9,   -999.0,  -999.00, 9,   -999.0,  14.2700, 25.7549,  14.3149, 2, 2, 0.14, 0.06, 0.01, 0.013,  -999.00, 9, -999.00, -999.00, 9, -999.00
49NZ20071008, P14N, 79, 1, 29, X12035, 2, 20071112, 0408, 23.0027, 178.9940, 5723,    402.3, 2,  11.4728, 2,  34.2867, 2,  34.2835, 2,    200.2, 2,    197.6, 2,    16.15, 2,    14.25, 2,     0.01, 2,     1.05, 2,    2.867, 2,    1.584, 2,    0.085, 2, -999.000, 9,   2101.3, 2,   2268.6, 2,    7.7999,     25.00,   -999.0, 9,   -999.0,  -999.00, 9,   -999.0,  11.4218, 26.1432,  11.4737, 2, 2, 0.15, 0.07, 0.01, 0.013,  -999.00, 9, -999.00, -999.00, 9, -999.00
49NZ20071008, P14N, 79, 1, 28, X12034, 2, 20071112, 0408, 23.0027, 178.9940, 5723,    499.9, 2,   8.9820, 2,  34.1345, 2,  34.1303, 6,    170.1, 2,    167.3, 2,    30.88, 2,    21.86, 2,     0.01, 2,     1.58, 2,    2.608, 2,    1.343, 2,    0.091, 2, -999.000, 9,   2154.3, 2,   2273.8, 2,    7.6830,     25.00,   -999.0, 9,   -999.0,  -999.00, 9,   -999.0,   8.9274, 26.4519,   8.9804, 2, 2, 0.19, 0.09, 0.01, 0.014,  -999.00, 9, -999.00, -999.00, 9, -999.00
49NZ20071008, P14N, 79, 1, 27, X12049, 2, 20071112, 0408, 23.0027, 178.9940, 5723,    600.1, 2,   6.6868, 2,  34.0812, 2,  34.0803, 2,    111.0, 2,    108.8, 2,    55.53, 2,    31.54, 2,     0.00, 2,     2.29, 2,    1.589, 2,    0.770, 2,    0.066, 2, -999.000, 9,   2229.8, 2,   2291.8, 2,    7.5240,     25.00,   -999.0, 9,   -999.0,  -999.00, 9,   -999.0,   6.6312, 26.7449,   6.6873, 2, 2, 0.24, 0.12, 0.01, 0.016,  -999.00, 9, -999.00, -999.00, 9, -999.00
49NZ20071008, P14N, 79, 1, 26, X12032, 2, 20071112, 0408, 23.0027, 178.9940, 5723,    700.3, 2,   5.5709, 2,  34.1513, 2,  34.1528, 2,     67.0, 2,     63.6, 2,    74.80, 2,    37.48, 2,     0.00, 2,     2.73, 2,    0.676, 6,    0.333, 6,    0.033, 6, -999.000, 9,   2284.5, 6,   2312.9, 2,    7.4278,     25.00,   -999.0, 9,   -999.0,  -999.00, 9,   -999.0,   5.5114, 26.9422,   5.5717, 2, 2, 0.28, 0.14, 0.01, 0.017,  -999.00, 9, -999.00, -999.00, 9, -999.00
49NZ20071008, P14N, 79, 1, 25, X12043, 2, 20071112, 0408, 23.0027, 178.9940, 5723,    801.5, 2,   4.9315, 2,  34.2855, 2,  34.2867, 2,     43.6, 2,     42.9, 2,    89.26, 2,    40.46, 2,     0.00, 2,     2.95, 2,    0.204, 2,    0.101, 2,    0.019, 2, -999.000, 9,   2316.3, 2,   2335.8, 6,    7.3977,     25.00,   -999.0, 9,   -999.0,  -999.00, 9,   -999.0,   4.8666, 27.1240,   4.9322, 2, 2, 0.32, 0.15, 0.01, 0.017,  -999.00, 9, -999.00, -999.00, 9, -999.00
49NZ20071008, P14N, 79, 1, 24, X12030, 2, 20071112, 0408, 23.0027, 178.9940, 5723,    900.6, 2,   4.5348, 2,  34.3717, 2,  34.3813, 3,     45.3, 2,     43.4, 2,    97.72, 2,    41.13, 2,     0.00, 2,     2.99, 2,    0.068, 2,    0.033, 2,    0.009, 2, -999.000, 9,   2328.6, 3,   2351.9, 2,    7.4070,     25.00,   -999.0, 9,   -999.0,  -999.00, 9,   -999.0,   4.4638, 27.2372,   4.5347, 2, 6, 0.33, 0.15, 0.01, 0.017,  -999.00, 9, -999.00, -999.00, 9, -999.00
49NZ20071008, P14N, 79, 1, 23, X12027, 2, 20071112, 0408, 23.0027, 178.9940, 5723,   1000.3, 2,   4.3012, 2,  34.4652, 2,  34.4672, 6,     52.4, 2,     54.7, 2,   101.74, 2,    40.91, 2,     0.00, 2,     2.96, 2,    0.020, 2,    0.008, 2,    0.000, 2, -999.000, 9,   2330.6, 3,   2363.2, 2,    7.4360,     25.00,   -999.0, 9,   -999.0,  -999.00, 9,   -999.0,   4.2233, 27.3373,   4.3016, 2, 2, 0.34, 0.15, 0.01, 0.017,  -999.00, 9, -999.00, -999.00, 9, -999.00
49NZ20071008, P14N, 79, 1, 22, X12028, 2, 20071112, 0408, 23.0027, 178.9940, 5723,   1200.1, 2,   3.6104, 2,  34.5185, 2,  34.5189, 2,     63.6, 2,     63.3, 2,   115.69, 2,    41.06, 2,     0.00, 2,     2.95, 2,    0.007, 2,    0.002, 2,    0.000, 2, -999.000, 9,   2343.2, 2,   2380.3, 2,    7.4502,     25.00,   -999.0, 9,   -999.0,  -999.00, 9,   -999.0,   3.5214, 27.4514,   3.6109, 2, 2, 0.37, 0.15, 0.01, 0.017,  -999.00, 9, -999.00, -999.00, 9, -999.00
49NZ20071008, P14N, 79, 1, 21, X12009, 2, 20071112, 0408, 23.0027, 178.9940, 5723,   1399.1, 2,   3.0251, 2,  34.5441, 2,  34.5444, 2,     70.1, 2,     70.2, 2,   128.57, 2,    40.82, 2,     0.00, 2,     2.93, 2,    0.000, 2,    0.000, 2,    0.000, 2, -999.000, 9,   2350.5, 2,   2391.7, 2,    7.4576,     25.00,   -999.0, 9,   -999.0,  -999.00, 9,   -999.0,   2.9254, 27.5280,   3.0245, 2, 2, 0.40, 0.15, 0.01, 0.017,  -999.00, 9, -999.00, -999.00, 9, -999.00
49NZ20071008, P14N, 79, 1, 20, X12026, 2, 20071112, 0408, 23.0027, 178.9940, 5723,   1603.2, 2,   2.6457, 2,  34.5756, 2,  34.5756, 2,     79.8, 2,     80.1, 2,   135.62, 2,    40.52, 2,     0.00, 2,     2.89, 2,    0.001, 2,    0.000, 2,    0.000, 2, -999.000, 9,   2352.7, 2,   2400.8, 2,    7.4746,     25.00,   -999.0, 9,   -999.0,  -999.00, 9,   -999.0,   2.5335, 27.5876,   2.6456, 2, 6, 0.42, 0.15, 0.01, 0.017,  -999.00, 9, -999.00, -999.00, 9, -999.00
49NZ20071008, P14N, 79, 1, 19, X12025, 2, 20071112, 0408, 23.0027, 178.9940, 5723,   1802.9, 2,   2.2873, 2,  34.5999, 2,  34.5998, 2,     89.3, 2,     89.0, 2,   142.91, 2,    40.07, 2,     0.00, 2,     2.85, 2,    0.000, 2,    0.001, 2,    0.000, 2, -999.000, 9,   2355.1, 2,   2408.6, 2,    7.4887,     25.00,   -999.0, 9,   -999.0,  -999.00, 9,   -999.0,   2.1632, 27.6380,   2.2871, 2, 2, 0.43, 0.15, 0.01, 0.017,  -999.00, 9, -999.00, -999.00, 9, -999.00
49NZ20071008, P14N, 79, 1, 18, X12024, 2, 20071112, 0408, 23.0027, 178.9940, 5723,   2001.4, 2,   2.0626, 2,  34.6176, 2,  34.6179, 2,     96.3, 2,     96.4, 2,   147.60, 2,    39.66, 2,     0.00, 2,     2.81, 2,    0.001, 2,    0.000, 2,    0.003, 2, -999.000, 9,   2358.1, 2,   2413.8, 2,    7.5001,     25.00,   -999.0, 9,   -999.0,  -999.00, 9,   -999.0,   1.9251, 27.6712,   2.0625, 2, 2, 0.44, 0.14, 0.01, 0.017,  -999.00, 9, -999.00, -999.00, 9, -999.00
49NZ20071008, P14N, 79, 1, 17, X12023, 2, 20071112, 0408, 23.0027, 178.9940, 5723,   2200.3, 2,   1.8804, 2,  34.6337, 2,  34.6337, 2,    104.6, 2,    106.3, 2,   150.10, 2,    39.22, 2,     0.00, 2,     2.77, 2,    0.002, 2,    0.000, 2,    0.000, 2, -999.000, 9,   2354.3, 2,   2417.6, 2,    7.5164,     25.00,   -999.0, 9,   -999.0,  -999.00, 9,   -999.0,   1.7289, 27.6992,   1.8803, 2, 2, 0.45, 0.14, 0.01, 0.017,  -999.00, 9, -999.00, -999.00, 9, -999.00
49NZ20071008, P14N, 79, 1, 16, X12022, 2, 20071112, 0408, 23.0027, 178.9940, 5723,   2399.6, 2,   1.7768, 2,  34.6434, 2,  34.6435, 2,    112.3, 2,    112.5, 2,   150.92, 2,    38.80, 2,     0.00, 2,     2.74, 2,    0.000, 2,    0.000, 2,    0.000, 2, -999.000, 9,   2351.2, 6,   2418.6, 2,    7.5275,     25.00,   -999.0, 9,   -999.0,  -999.00, 9,   -999.0,   1.6096, 27.7159,   1.7767, 2, 2, 0.45, 0.14, 0.01, 0.017,  -999.00, 9, -999.00, -999.00, 9, -999.00
49NZ20071008, P14N, 79, 1, 15, X12021, 2, 20071112, 0408, 23.0027, 178.9940, 5723,   2601.5, 2,   1.7022, 2,  34.6513, 2,  34.6513, 6,    117.9, 2,    118.4, 2,   151.32, 2,    38.39, 2,     0.00, 2,     2.70, 2, -999.000, 9, -999.000, 9, -999.000, 9, -999.000, 9,   2348.8, 2,   2418.7, 6,    7.5375,     25.00,   -999.0, 9,   -999.0,  -999.00, 9,   -999.0,   1.5184, 27.7290,   1.7021, 2, 2, 0.45, 0.14, 0.01, 0.017,  -999.00, 9, -999.00, -999.00, 9, -999.00
49NZ20071008, P14N, 79, 1, 14, X12020, 2, 20071112, 0408, 23.0027, 178.9940, 5723,   2799.8, 2,   1.6484, 2,  34.6576, 2,  34.6575, 2,    123.6, 2,    123.7, 2,   151.11, 2,    38.14, 2,     0.00, 2,     2.68, 2, -999.000, 9, -999.000, 9, -999.000, 9, -999.000, 9,   2348.0, 2,   2420.0, 2,    7.5462,     25.00,   -999.0, 9,   -999.0,  -999.00, 9,   -999.0,   1.4474, 27.7392,   1.6484, 2, 2, 0.45, 0.14, 0.01, 0.017,  -999.00, 9, -999.00, -999.00, 9, -999.00
49NZ20071008, P14N, 79, 1, 13, X12019, 2, 20071112, 0408, 23.0027, 178.9940, 5723,   2999.8, 2,   1.5871, 2,  34.6640, 2,  34.6641, 2,    129.0, 2,    128.7, 2,   151.48, 2,    37.77, 2,     0.00, 2,     2.65, 2,    0.000, 2,    0.000, 2,    0.000, 2, -999.000, 9,   2344.9, 2,   2420.5, 2,    7.5543,     25.00,   -999.0, 9,   -999.0,  -999.00, 9,   -999.0,   1.3685, 27.7500,   1.5870, 2, 2, 0.45, 0.14, 0.01, 0.017,  -999.00, 9, -999.00, -999.00, 9, -999.00
49NZ20071008, P14N, 79, 1, 12, X12040, 2, 20071112, 0408, 23.0027, 178.9940, 5723,   3248.8, 2,   1.5381, 2,  34.6709, 2,  34.6710, 2,    136.2, 2,    135.9, 2,   149.72, 2,    37.24, 2,     0.00, 2,     2.61, 2, -999.000, 9, -999.000, 9, -999.000, 9, -999.000, 9,   2339.4, 2,   2419.7, 2,    7.5659,     25.00,   -999.0, 9,   -999.0,  -999.00, 9,   -999.0,   1.2963, 27.7607,   1.5381, 2, 2, 0.45, 0.14, 0.01, 0.016,  -999.00, 9, -999.00, -999.00, 9, -999.00
49NZ20071008, P14N, 79, 1, 11, X12047, 2, 20071112, 0408, 23.0027, 178.9940, 5723,   3500.6, 2,   1.4963, 2,  34.6767, 2,  34.6771, 2,    142.3, 2,    142.3, 2,   148.32, 2,    36.79, 2,     0.00, 2,     2.57, 2, -999.000, 9, -999.000, 9, -999.000, 9, -999.000, 9,   2334.8, 2,   2418.6, 2,    7.5758,     25.00,   -999.0, 9,   -999.0,  -999.00, 9,   -999.0,   1.2302, 27.7699,   1.4962, 2, 2, 0.45, 0.14, 0.01, 0.016,  -999.00, 9, -999.00, -999.00, 9, -999.00
49NZ20071008, P14N, 79, 1, 10, X12012, 2, 20071112, 0408, 23.0027, 178.9940, 5723,   3748.4, 2,   1.4685, 2,  34.6813, 2,  34.6815, 2,    148.3, 2,    148.2, 2,   146.50, 2,    36.40, 2,     0.00, 2,     2.54, 2,    0.000, 2,    0.000, 2,    0.000, 2, -999.000, 9,   2329.3, 2,   2418.9, 2,    7.5849,     25.00,   -999.0, 9,   -999.0,  -999.00, 9,   -999.0,   1.1774, 27.7773,   1.4684, 2, 2, 0.44, 0.13, 0.01, 0.016,  -999.00, 9, -999.00, -999.00, 9, -999.00
49NZ20071008, P14N, 79, 1, 9, X12015, 2, 20071112, 0408, 23.0027, 178.9940, 5723,   4001.8, 2,   1.4472, 2,  34.6855, 2,  34.6851, 2,    154.2, 2,    154.0, 2,   144.29, 2,    36.04, 2,     0.00, 2,     2.52, 2, -999.000, 9, -999.000, 9, -999.000, 9, -999.000, 9,   2323.4, 2,   2417.3, 2,    7.5925,     25.00,   -999.0, 9,   -999.0,  -999.00, 9,   -999.0,   1.1296, 27.7839,   1.4473, 2, 2, 0.44, 0.13, 0.01, 0.016,  -999.00, 9, -999.00, -999.00, 9, -999.00
49NZ20071008, P14N, 79, 1, 8, X12046, 2, 20071112, 0408, 23.0027, 178.9940, 5723,   4250.5, 2,   1.4303, 2,  34.6892, 2,  34.6891, 6,    160.2, 2,    160.4, 2,   140.51, 2,    35.55, 2,     0.00, 2,     2.48, 2, -999.000, 9, -999.000, 9, -999.000, 9, -999.000, 9,   2318.5, 6,   2412.5, 2,    7.5999,     25.00,   -999.0, 9,   -999.0,  -999.00, 9,   -999.0,   1.0858, 27.7898,   1.4302, 2, 2, 0.43, 0.13, 0.01, 0.016,  -999.00, 9, -999.00, -999.00, 9, -999.00
49NZ20071008, P14N, 79, 1, 7, X12044, 2, 20071112, 0408, 23.0027, 178.9940, 5723,   4500.2, 2,   1.4243, 2,  34.6922, 2,  34.6921, 2,    165.6, 2,    165.5, 2,   137.32, 2,    35.18, 2,     0.00, 2,     2.46, 2,    0.008, 2,    0.005, 2,    0.000, 2, -999.000, 9,   2313.3, 2,   2409.4, 6,    7.6050,     25.00,   -999.0, 9,   -999.0,  -999.00, 9,   -999.0,   1.0516, 27.7946,   1.4243, 2, 2, 0.42, 0.13, 0.01, 0.016,  -999.00, 9, -999.00, -999.00, 9, -999.00
49NZ20071008, P14N, 79, 1, 6, X12048, 2, 20071112, 0408, 23.0027, 178.9940, 5723,   4750.7, 2,   1.4185, 2,  34.6950, 2,  34.6948, 2,    170.8, 2,    170.9, 2,   134.01, 2,    34.81, 2,     0.00, 2,     2.43, 2, -999.000, 9, -999.000, 9, -999.000, 9, -999.000, 9,   2306.8, 2,   2405.6, 2,    7.6109,     25.00,   -999.0, 9,   -999.0,  -999.00, 9,   -999.0,   1.0168, 27.7991,   1.4184, 2, 2, 0.41, 0.13, 0.01, 0.016,  -999.00, 9, -999.00, -999.00, 9, -999.00
49NZ20071008, P14N, 79, 1, 5, X12014, 2, 20071112, 0408, 23.0027, 178.9940, 5723,   5000.4, 2,   1.4245, 2,  34.6969, 2,  34.6970, 2,    174.4, 2,    174.4, 2,   131.86, 2,    34.54, 2,     0.00, 2,     2.41, 2, -999.000, 9, -999.000, 9, -999.000, 9, -999.000, 9,   2304.3, 2,   2403.0, 2,    7.6149,     25.00,   -999.0, 9,   -999.0,  -999.00, 9,   -999.0,   0.9927, 27.8023,   1.4243, 2, 2, 0.41, 0.13, 0.01, 0.016,  -999.00, 9, -999.00, -999.00, 9, -999.00
49NZ20071008, P14N, 79, 1, 4, X12006, 2, 20071112, 0408, 23.0027, 178.9940, 5723,   5250.7, 2,   1.4418, 2,  34.6981, 2,  34.6983, 2,    176.5, 2,    176.3, 2,   130.62, 2,    34.34, 2,     0.00, 2,     2.39, 2,    0.001, 2,    0.000, 2,    0.000, 2, -999.000, 9,   2300.8, 2,   2401.5, 2,    7.6164,     25.00,   -999.0, 9,   -999.0,  -999.00, 9,   -999.0,   0.9787, 27.8041,   1.4417, 2, 2, 0.41, 0.13, 0.01, 0.016,  -999.00, 9, -999.00, -999.00, 9, -999.00
49NZ20071008, P14N, 79, 1, 3, X12013, 2, 20071112, 0408, 23.0027, 178.9940, 5723,   5498.3, 2,   1.4647, 2,  34.6988, 2,  34.6988, 2,    178.0, 2,    177.8, 2,   129.53, 2,    34.32, 2,     0.00, 2,     2.39, 2, -999.000, 9, -999.000, 9, -999.000, 9, -999.000, 9,   2300.4, 2,   2400.8, 2,    7.6177,     25.00,   -999.0, 9,   -999.0,  -999.00, 9,   -999.0,   0.9696, 27.8053,   1.4647, 2, 2, 0.40, 0.13, 0.01, 0.016,  -999.00, 9, -999.00, -999.00, 9, -999.00
49NZ20071008, P14N, 79, 1, 2, X12002, 2, 20071112, 0408, 23.0027, 178.9940, 5723,    532.7, 2,   8.2052, 2,  34.1034, 2,  34.1025, 2,    153.7, 2,    153.2, 2,  -999.00, 9,  -999.00, 9,  -999.00, 9,  -999.00, 9, -999.000, 9, -999.000, 9, -999.000, 9, -999.000, 9,   -999.0, 9,   -999.0, 9, -999.0000,   -999.00,   -999.0, 9,   -999.0,  -999.00, 9,   -999.0,   8.1500, 26.5473,   8.2090, 2, 9, -999.00, -999.00, -999.00, -999.000,  -999.00, 9, -999.00, -999.00, 9, -999.00
49NZ20071008, P14N, 79, 1, 1, X12001, 2, 20071112, 0408, 23.0027, 178.9940, 5723,   5809.2, 2,   1.5009, 2,  34.6992, 2,  34.6993, 6,    178.8, 2,    178.5, 2,   129.21, 2,    34.21, 2,     0.00, 2,     2.38, 2,    0.006, 4,    0.006, 4,    0.000, 4, -999.000, 9,   2298.2, 2,   2399.4, 2,    7.6180,     25.00,   -999.0, 9,   -999.0,  -999.00, 9,   -999.0,   0.9642, 27.8060,   1.5009, 2, 2, 0.40, 0.13, 0.01, 0.016,  -999.00, 9, -999.00, -999.00, 9, -999.00