BOTTLE,20221005CCHSIOAMB
EXPOCODE,SECT_ID,STNNBR,CASTNO,SAMPNO,BTLNBR,BTLNBR_FLAG_W,DATE,TIME,LATITUDE,LONGITUDE,DEPTH,CTDPRS,CTDPRS_FLAG_W,CTDTMP,CTDTMP_FLAG_W,CTDSAL,CTDSAL_FLAG_W,SALNTY,SALNTY_FLAG_W,CTDOXY,CTDOXY_FLAG_W,OXYGEN,OXYGEN_FLAG_W,SILCAT,SILCAT_FLAG_W,NITRAT,NITRAT_FLAG_W,NITRIT,NITRIT_FLAG_W,PHSPHT,PHSPHT_FLAG_W,CFC-11,CFC-11_FLAG_W,CFC-12,CFC-12_FLAG_W,CFC113,CFC113_FLAG_W,CCL4,CCL4_FLAG_W,TCARBN,TCARBN_FLAG_W,ALKALI,ALKALI_FLAG_W,PH_TOT,PH_TMP,DELC14,DELC14_FLAG_W,C14ERR,DELC13,DELC13_FLAG_W,C13ERR,THETA,SIG0,SBE35,SBE35_FLAG_W,PH_TOT_FLAG_W,SILUNC,NRAUNC,NRIUNC,PHPUNC,CS-137,CS-137_FLAG_W,CS137ER,PLUTO,PLUTO_FLAG_W,PLUTOER
,,,,,,,,,,,METERS,DBAR,,ITS-90,,PSS-78,,PSS-78,,UMOL/KG,,UMOL/KG,,UMOL/KG,,UMOL/KG,,UMOL/KG,,UMOL/KG,,PMOL/KG,,PMOL/KG,,PMOL/KG,,PMOL/KG,,UMOL/KG,,UMOL/KG,,,DEG C,/MILLE,,/MILLE,/MILLE,,/MILLE,DEG C,KG/M^3,ITS-90,,,UMOL/KG,UMOL/KG,UMOL/KG,UMOL/KG,DM/.1MG,,BQ/M^3,MBQ/M^3,,MBQ/M^3
49NZ20071008, P14N, 80, 1, 36, X12042, 2, 20071112, 1013, 22.5167, 178.9963, 5356,     10.0, 2,  27.0233, 2,  35.1161, 2,  35.1158, 2,    202.7, 2,    201.9, 2,     0.81, 2,     0.07, 2,     0.00, 2,     0.04, 2,    1.584, 2,    0.976, 2,    0.281, 4,    1.695, 4,   -999.0, 9,   -999.0, 9, -999.0000,   -999.00,   -999.0, 9,   -999.0,  -999.00, 9,   -999.0,  27.0210, 22.7985,  27.0234, 2, 9, 0.12, 0.03, 0.01, 0.041,  -999.00, 9, -999.00, -999.00, 9, -999.00
49NZ20071008, P14N, 80, 1, 35, X12041, 2, 20071112, 1013, 22.5167, 178.9963, 5356,     50.4, 2,  26.8874, 2,  35.1237, 2,  35.1239, 2,    203.4, 2,    202.9, 2,     0.81, 2,     0.05, 2,     0.01, 2,     0.04, 2,    1.610, 2,    1.001, 2,    0.336, 4,    1.663, 4,   -999.0, 9,   -999.0, 9, -999.0000,   -999.00,   -999.0, 9,   -999.0,  -999.00, 9,   -999.0,  26.8759, 22.8506,  26.8844, 2, 9, 0.12, 0.03, 0.01, 0.041,  -999.00, 9, -999.00, -999.00, 9, -999.00
49NZ20071008, P14N, 80, 1, 34, X12016, 2, 20071112, 1013, 22.5167, 178.9963, 5356,    100.7, 2,  24.1183, 2,  35.2794, 2,  35.2791, 2,    209.6, 2,    211.0, 2,     1.04, 2,     0.06, 2,     0.00, 2,     0.05, 2,    1.890, 2,    1.139, 2,    0.658, 4,    0.992, 4,   -999.0, 9,   -999.0, 9, -999.0000,   -999.00,   -999.0, 9,   -999.0,  -999.00, 9,   -999.0,  24.0970, 23.8241,  24.1186, 2, 9, 0.12, 0.03, 0.01, 0.036,  -999.00, 9, -999.00, -999.00, 9, -999.00
49NZ20071008, P14N, 80, 1, 33, X12033, 2, 20071112, 1013, 22.5167, 178.9963, 5356,    150.2, 2,  20.7752, 2,  35.0619, 2,  35.0538, 2,    193.6, 2,    193.2, 2,     1.94, 2,     1.20, 2,     0.04, 2,     0.17, 2,    2.164, 6,    1.283, 6,    0.224, 4,    0.812, 4,   -999.0, 9,   -999.0, 9, -999.0000,   -999.00,   -999.0, 9,   -999.0,  -999.00, 9,   -999.0,  20.7467, 24.6097,  20.7284, 2, 9, 0.12, 0.04, 0.01, 0.017,  -999.00, 9, -999.00, -999.00, 9, -999.00
49NZ20071008, P14N, 80, 1, 32, X12038, 2, 20071112, 1013, 22.5167, 178.9963, 5356,    200.8, 2,  17.7453, 2,  34.7882, 2,  34.7781, 2,    202.8, 2,    205.2, 2,     3.31, 2,     3.39, 2,     0.02, 2,     0.30, 2,    2.425, 2,    1.419, 2,    0.145, 2,    0.922, 4,   -999.0, 9,   -999.0, 9, -999.0000,   -999.00,   -999.0, 9,   -999.0,  -999.00, 9,   -999.0,  17.7112, 25.1806,  17.7475, 2, 9, 0.13, 0.04, 0.01, 0.014,  -999.00, 9, -999.00, -999.00, 9, -999.00
49NZ20071008, P14N, 80, 1, 31, X12003, 2, 20071112, 1013, 22.5167, 178.9963, 5356,    253.3, 2,  16.0304, 2,  34.6573, 2,  34.6580, 6,    199.2, 2,    199.4, 2,     5.59, 2,     6.52, 2,     0.01, 2,     0.49, 2,    2.584, 2,    1.497, 2,    0.051, 2,    0.519, 4,   -999.0, 9,   -999.0, 9, -999.0000,   -999.00,   -999.0, 9,   -999.0,  -999.00, 9,   -999.0,  15.9903, 25.4862,  16.0312, 2, 9, 0.13, 0.05, 0.01, 0.013,  -999.00, 9, -999.00, -999.00, 9, -999.00
49NZ20071008, P14N, 80, 1, 30, X12008, 2, 20071112, 1013, 22.5167, 178.9963, 5356,    332.0, 2,  13.6724, 2,  34.4366, 2,  34.4330, 2,    199.6, 2,    199.5, 2,     9.34, 2,     9.78, 2,     0.01, 2,     0.74, 2,    2.790, 2,    1.576, 2,    0.053, 2,    0.569, 4,   -999.0, 9,   -999.0, 9, -999.0000,   -999.00,   -999.0, 9,   -999.0,  -999.00, 9,   -999.0,  13.6252, 25.8295,  13.6759, 2, 9, 0.14, 0.06, 0.01, 0.013,  -999.00, 9, -999.00, -999.00, 9, -999.00
49NZ20071008, P14N, 80, 1, 29, X12035, 2, 20071112, 1013, 22.5167, 178.9963, 5356,    430.7, 2,  10.3817, 2,  34.1967, 2,  34.1925, 2,    182.2, 2,    180.3, 2,    21.06, 2,    17.62, 2,     0.01, 2,     1.30, 2,    2.833, 2,    1.518, 2,    0.073, 2,    0.719, 4,   -999.0, 9,   -999.0, 9, -999.0000,   -999.00,   -999.0, 9,   -999.0,  -999.00, 9,   -999.0,  10.3304, 26.2680,  10.3757, 2, 9, 0.17, 0.08, 0.01, 0.014,  -999.00, 9, -999.00, -999.00, 9, -999.00
49NZ20071008, P14N, 80, 1, 28, X12034, 2, 20071112, 1013, 22.5167, 178.9963, 5356,    530.4, 2,   8.0760, 2,  34.1045, 2,  34.1016, 6,    141.0, 2,    137.6, 2,    39.39, 2,    26.09, 2,     0.01, 2,     1.91, 2,    2.248, 2,    1.112, 2,    0.059, 2,    0.721, 4,   -999.0, 9,   -999.0, 9, -999.0000,   -999.00,   -999.0, 9,   -999.0,  -999.00, 9,   -999.0,   8.0216, 26.5673,   8.0767, 2, 9, 0.21, 0.11, 0.01, 0.015,  -999.00, 9, -999.00, -999.00, 9, -999.00
49NZ20071008, P14N, 80, 1, 27, X12049, 2, 20071112, 1013, 22.5167, 178.9963, 5356,    632.1, 2,   6.1067, 2,  34.1245, 2,  34.1239, 2,     80.9, 2,     77.2, 2,    64.77, 2,    35.15, 2,     0.01, 2,     2.57, 2,    1.004, 2,    0.480, 2,    0.028, 2,    0.476, 4,   -999.0, 9,   -999.0, 9, -999.0000,   -999.00,   -999.0, 9,   -999.0,  -999.00, 9,   -999.0,   6.0508, 26.8544,   6.1049, 2, 9, 0.26, 0.13, 0.01, 0.016,  -999.00, 9, -999.00, -999.00, 9, -999.00
49NZ20071008, P14N, 80, 1, 26, X12032, 2, 20071112, 1013, 22.5167, 178.9963, 5356,    729.5, 2,   5.0116, 2,  34.2227, 2,  34.2280, 2,     49.4, 2,     45.4, 2,    86.39, 2,    39.99, 2,     0.01, 2,     2.91, 2,    0.339, 6,    0.164, 6,    0.011, 6,    0.238, 4,   -999.0, 9,   -999.0, 9, -999.0000,   -999.00,   -999.0, 9,   -999.0,  -999.00, 9,   -999.0,   4.9525, 27.0645,   5.0127, 2, 9, 0.31, 0.14, 0.01, 0.017,  -999.00, 9, -999.00, -999.00, 9, -999.00
49NZ20071008, P14N, 80, 1, 25, X12043, 2, 20071112, 1013, 22.5167, 178.9963, 5356,    830.9, 2,   4.5208, 2,  34.3413, 2,  34.3437, 2,     38.9, 2,     39.1, 2,    97.77, 2,    41.28, 2,     0.00, 2,     3.02, 2,    0.090, 2,    0.045, 2,    0.011, 2,    0.080, 4,   -999.0, 9,   -999.0, 9, -999.0000,   -999.00,   -999.0, 9,   -999.0,  -999.00, 9,   -999.0,   4.4559, 27.2139,   4.5207, 2, 9, 0.33, 0.15, 0.01, 0.017,  -999.00, 9, -999.00, -999.00, 9, -999.00
49NZ20071008, P14N, 80, 1, 24, X12030, 2, 20071112, 1013, 22.5167, 178.9963, 5356,    931.3, 2,   4.1533, 2,  34.4345, 2,  34.4344, 2,     44.2, 2,     47.6, 2,   104.78, 2,    41.33, 2,     0.01, 2,     2.99, 2,    0.026, 2,    0.016, 2,    0.000, 2,    0.024, 4,   -999.0, 9,   -999.0, 9, -999.0000,   -999.00,   -999.0, 9,   -999.0,  -999.00, 9,   -999.0,   4.0823, 27.3277,   4.1536, 2, 9, 0.35, 0.15, 0.01, 0.017,  -999.00, 9, -999.00, -999.00, 9, -999.00
49NZ20071008, P14N, 80, 1, 23, X12027, 2, 20071112, 1013, 22.5167, 178.9963, 5356,   1070.9, 2,   3.8514, 2,  34.4999, 2,  34.4999, 6,     55.6, 2,     59.6, 2,   110.18, 2,    40.85, 2,     0.01, 2,     2.95, 2,    0.006, 2,    0.005, 2,    0.000, 2,    0.003, 4,   -999.0, 9,   -999.0, 9, -999.0000,   -999.00,   -999.0, 9,   -999.0,  -999.00, 9,   -999.0,   3.7710, 27.4117,   3.8516, 2, 9, 0.36, 0.15, 0.01, 0.017,  -999.00, 9, -999.00, -999.00, 9, -999.00
49NZ20071008, P14N, 80, 1, 22, X12028, 2, 20071112, 1013, 22.5167, 178.9963, 5356,   1271.2, 2,   3.2822, 2,  34.5458, 2,  34.5459, 2,     69.1, 2,     70.7, 2,   121.11, 2,    40.44, 2,     0.01, 2,     2.92, 2,    0.000, 2,    0.003, 2,    0.000, 2,    0.000, 4,   -999.0, 9,   -999.0, 9, -999.0000,   -999.00,   -999.0, 9,   -999.0,  -999.00, 9,   -999.0,   3.1903, 27.5049,   3.2823, 2, 9, 0.39, 0.15, 0.01, 0.017,  -999.00, 9, -999.00, -999.00, 9, -999.00
49NZ20071008, P14N, 80, 1, 21, X12009, 2, 20071112, 1013, 22.5167, 178.9963, 5356,   1470.3, 2,   2.9162, 2,  34.5673, 2,  34.5671, 2,     75.8, 2,     77.1, 2,   128.86, 2,    40.45, 2,     0.01, 2,     2.89, 2,    0.000, 2,    0.000, 2,    0.000, 2,    0.010, 4,   -999.0, 9,   -999.0, 9, -999.0000,   -999.00,   -999.0, 9,   -999.0,  -999.00, 9,   -999.0,   2.8118, 27.5567,   2.9162, 2, 9, 0.40, 0.15, 0.01, 0.017,  -999.00, 9, -999.00, -999.00, 9, -999.00
49NZ20071008, P14N, 80, 1, 20, X12026, 2, 20071112, 1013, 22.5167, 178.9963, 5356,   1671.9, 2,   2.5574, 2,  34.5857, 2,  34.5858, 2,     83.7, 2,     83.9, 2,   136.50, 2,    40.11, 2,     0.01, 2,     2.87, 2,    0.000, 2,    0.000, 2,    0.000, 2,    0.000, 4,   -999.0, 9,   -999.0, 9, -999.0000,   -999.00,   -999.0, 9,   -999.0,  -999.00, 9,   -999.0,   2.4406, 27.6037,   2.5573, 2, 9, 0.42, 0.15, 0.01, 0.017,  -999.00, 9, -999.00, -999.00, 9, -999.00
49NZ20071008, P14N, 80, 1, 19, X12025, 2, 20071112, 1013, 22.5167, 178.9963, 5356,   1873.0, 2,   2.2364, 2,  34.6061, 2,  34.6059, 2,     91.5, 2,     91.8, 2,   143.23, 2,    39.70, 2,     0.01, 2,     2.83, 2,    0.000, 2,    0.000, 2,    0.000, 2,    0.002, 4,   -999.0, 9,   -999.0, 9, -999.0000,   -999.00,   -999.0, 9,   -999.0,  -999.00, 9,   -999.0,   2.1072, 27.6476,   2.2363, 2, 9, 0.43, 0.14, 0.01, 0.017,  -999.00, 9, -999.00, -999.00, 9, -999.00
49NZ20071008, P14N, 80, 1, 18, X12024, 2, 20071112, 1013, 22.5167, 178.9963, 5356,   2069.9, 2,   1.9878, 2,  34.6263, 2,  34.6260, 2,    101.9, 2,    102.2, 2,   147.16, 2,    39.22, 2,     0.01, 2,     2.78, 2,    0.000, 2,    0.000, 2,    0.000, 2,    0.018, 4,   -999.0, 9,   -999.0, 9, -999.0000,   -999.00,   -999.0, 9,   -999.0,  -999.00, 9,   -999.0,   1.8457, 27.6843,   1.9879, 2, 9, 0.44, 0.14, 0.01, 0.017,  -999.00, 9, -999.00, -999.00, 9, -999.00
49NZ20071008, P14N, 80, 1, 17, X12023, 2, 20071112, 1013, 22.5167, 178.9963, 5356,   2269.0, 2,   1.8805, 2,  34.6352, 2,  34.6352, 2,    107.8, 2,    107.7, 2,   148.82, 2,    38.92, 2,     0.01, 2,     2.74, 2,    0.000, 2,    0.000, 2,    0.000, 2,    0.000, 4,   -999.0, 9,   -999.0, 9, -999.0000,   -999.00,   -999.0, 9,   -999.0,  -999.00, 9,   -999.0,   1.7230, 27.7009,   1.8804, 2, 9, 0.45, 0.14, 0.01, 0.017,  -999.00, 9, -999.00, -999.00, 9, -999.00
49NZ20071008, P14N, 80, 1, 16, X12022, 2, 20071112, 1013, 22.5167, 178.9963, 5356,   2470.5, 2,   1.7583, 2,  34.6463, 2,  34.6462, 6,    115.8, 2,    114.9, 2,   150.22, 2,    38.49, 2,     0.00, 2,     2.72, 2,    0.000, 2,    0.000, 2,    0.000, 2,    0.592, 4,   -999.0, 9,   -999.0, 9, -999.0000,   -999.00,   -999.0, 9,   -999.0,  -999.00, 9,   -999.0,   1.5852, 27.7200,   1.7584, 2, 9, 0.45, 0.14, 0.01, 0.017,  -999.00, 9, -999.00, -999.00, 9, -999.00
49NZ20071008, P14N, 80, 1, 15, X12021, 2, 20071112, 1013, 22.5167, 178.9963, 5356,   2669.7, 2,   1.6760, 2,  34.6540, 2,  34.6541, 2,    120.9, 2,    120.6, 2,   150.74, 2,    38.08, 2,     0.01, 2,     2.68, 2, -999.000, 9, -999.000, 9, -999.000, 9,    0.000, 4,   -999.0, 9,   -999.0, 9, -999.0000,   -999.00,   -999.0, 9,   -999.0,  -999.00, 9,   -999.0,   1.4864, 27.7335,   1.6760, 2, 9, 0.45, 0.14, 0.01, 0.017,  -999.00, 9, -999.00, -999.00, 9, -999.00
49NZ20071008, P14N, 80, 1, 14, X12020, 2, 20071112, 1013, 22.5167, 178.9963, 5356,   2869.4, 2,   1.6140, 2,  34.6609, 2,  34.6613, 2,    126.8, 2,    126.5, 2,   150.63, 2,    37.80, 2,     0.01, 2,     2.66, 2,    0.000, 2,    0.000, 2,    0.000, 2, -999.000, 9,   -999.0, 9,   -999.0, 9, -999.0000,   -999.00,   -999.0, 9,   -999.0,  -999.00, 9,   -999.0,   1.4072, 27.7447,   1.6140, 2, 9, 0.45, 0.14, 0.01, 0.017,  -999.00, 9, -999.00, -999.00, 9, -999.00
49NZ20071008, P14N, 80, 1, 13, X12019, 2, 20071112, 1013, 22.5167, 178.9963, 5356,   3080.1, 2,   1.5556, 2,  34.6682, 2,  34.6682, 2,    134.3, 2,    133.8, 2,   149.10, 2,    37.27, 2,     0.01, 2,     2.61, 2, -999.000, 9, -999.000, 9, -999.000, 9,    0.107, 4,   -999.0, 9,   -999.0, 9, -999.0000,   -999.00,   -999.0, 9,   -999.0,  -999.00, 9,   -999.0,   1.3299, 27.7561,   1.5555, 2, 9, 0.45, 0.14, 0.01, 0.017,  -999.00, 9, -999.00, -999.00, 9, -999.00
49NZ20071008, P14N, 80, 1, 12, X12040, 2, 20071112, 1013, 22.5167, 178.9963, 5356,   3329.0, 2,   1.5143, 2,  34.6736, 2,  34.6739, 2,    139.5, 2,    139.2, 2,   148.08, 2,    36.83, 2,     0.01, 2,     2.59, 2, -999.000, 9, -999.000, 9, -999.000, 9, -999.000, 9,   -999.0, 9,   -999.0, 9, -999.0000,   -999.00,   -999.0, 9,   -999.0,  -999.00, 9,   -999.0,   1.2651, 27.7650,   1.5143, 2, 9, 0.44, 0.14, 0.01, 0.016,  -999.00, 9, -999.00, -999.00, 9, -999.00
49NZ20071008, P14N, 80, 1, 11, X12047, 2, 20071112, 1013, 22.5167, 178.9963, 5356,   3579.9, 2,   1.4775, 2,  34.6790, 2,  34.6792, 2,    146.5, 2,    145.8, 2,   146.33, 2,    36.41, 2,     0.01, 2,     2.55, 2,    0.000, 2,    0.000, 2,    0.000, 2,    0.011, 4,   -999.0, 9,   -999.0, 9, -999.0000,   -999.00,   -999.0, 9,   -999.0,  -999.00, 9,   -999.0,   1.2038, 27.7736,   1.4774, 2, 9, 0.44, 0.13, 0.01, 0.016,  -999.00, 9, -999.00, -999.00, 9, -999.00
49NZ20071008, P14N, 80, 1, 10, X12012, 2, 20071112, 1013, 22.5167, 178.9963, 5356,   3831.0, 2,   1.4604, 2,  34.6828, 2,  34.6827, 2,    150.7, 2,    150.5, 2,   144.93, 2,    36.04, 2,     0.01, 2,     2.53, 2, -999.000, 9, -999.000, 9, -999.000, 9, -999.000, 9,   -999.0, 9,   -999.0, 9, -999.0000,   -999.00,   -999.0, 9,   -999.0,  -999.00, 9,   -999.0,   1.1608, 27.7796,   1.4604, 2, 9, 0.44, 0.13, 0.01, 0.016,  -999.00, 9, -999.00, -999.00, 9, -999.00
49NZ20071008, P14N, 80, 1, 9, X12015, 2, 20071112, 1013, 22.5167, 178.9963, 5356,   4079.5, 2,   1.4331, 2,  34.6871, 2,  34.6872, 6,    157.3, 2,    157.2, 2,   141.67, 2,    35.54, 2,     0.01, 2,     2.49, 2, -999.000, 9, -999.000, 9, -999.000, 9,    0.064, 4,   -999.0, 9,   -999.0, 9, -999.0000,   -999.00,   -999.0, 9,   -999.0,  -999.00, 9,   -999.0,   1.1074, 27.7867,   1.4330, 2, 9, 0.43, 0.13, 0.01, 0.016,  -999.00, 9, -999.00, -999.00, 9, -999.00
49NZ20071008, P14N, 80, 1, 8, X12046, 2, 20071112, 1013, 22.5167, 178.9963, 5356,   4330.8, 2,   1.4190, 2,  34.6908, 2,  34.6908, 2,    163.3, 2,    163.2, 2,   138.41, 2,    35.12, 2,     0.00, 2,     2.46, 2,    0.000, 2,    0.000, 2,    0.000, 2, -999.000, 9,   -999.0, 9,   -999.0, 9, -999.0000,   -999.00,   -999.0, 9,   -999.0,  -999.00, 9,   -999.0,   1.0658, 27.7925,   1.4190, 2, 9, 0.42, 0.13, 0.01, 0.016,  -999.00, 9, -999.00, -999.00, 9, -999.00
49NZ20071008, P14N, 80, 1, 7, X12044, 2, 20071112, 1013, 22.5167, 178.9963, 5356,   4579.9, 2,   1.4098, 2,  34.6939, 2,  34.6938, 2,    168.9, 2,    168.9, 2,   134.83, 2,    34.75, 2,     0.01, 2,     2.42, 2, -999.000, 9, -999.000, 9, -999.000, 9,    0.000, 4,   -999.0, 9,   -999.0, 9, -999.0000,   -999.00,   -999.0, 9,   -999.0,  -999.00, 9,   -999.0,   1.0284, 27.7975,   1.4098, 2, 9, 0.42, 0.13, 0.01, 0.016,  -999.00, 9, -999.00, -999.00, 9, -999.00
49NZ20071008, P14N, 80, 1, 6, X12048, 2, 20071112, 1013, 22.5167, 178.9963, 5356,   4832.0, 2,   1.4124, 2,  34.6962, 2,  34.6960, 2,    172.8, 2,    173.0, 2,   132.27, 2,    34.38, 2,     0.01, 2,     2.42, 2, -999.000, 9, -999.000, 9, -999.000, 9, -999.000, 9,   -999.0, 9,   -999.0, 9, -999.0000,   -999.00,   -999.0, 9,   -999.0,  -999.00, 9,   -999.0,   1.0013, 27.8011,   1.4125, 2, 9, 0.41, 0.13, 0.01, 0.016,  -999.00, 9, -999.00, -999.00, 9, -999.00
49NZ20071008, P14N, 80, 1, 5, X12014, 2, 20071112, 1013, 22.5167, 178.9963, 5356,   5079.7, 2,   1.4273, 2,  34.6974, 2,  34.6970, 2,    175.5, 2,    175.3, 2,   130.72, 2,    34.17, 2,     0.00, 2,     2.39, 2,    0.000, 2,    0.000, 2,    0.000, 2,    0.030, 4,   -999.0, 9,   -999.0, 9, -999.0000,   -999.00,   -999.0, 9,   -999.0,  -999.00, 9,   -999.0,   0.9858, 27.8032,   1.4274, 2, 9, 0.41, 0.13, 0.01, 0.016,  -999.00, 9, -999.00, -999.00, 9, -999.00
49NZ20071008, P14N, 80, 1, 4, X12006, 2, 20071112, 1013, 22.5167, 178.9963, 5356,   5330.1, 2,   1.4526, 2,  34.6981, 2,  34.6981, 2,    176.6, 2,    176.4, 2,   130.23, 2,    34.17, 2,     0.01, 2,     2.38, 2,    0.000, 2,    0.001, 2,    0.000, 2, -999.000, 9,   -999.0, 9,   -999.0, 9, -999.0000,   -999.00,   -999.0, 9,   -999.0,  -999.00, 9,   -999.0,   0.9792, 27.8041,   1.4527, 2, 9, 0.41, 0.13, 0.01, 0.016,  -999.00, 9, -999.00, -999.00, 9, -999.00
49NZ20071008, P14N, 80, 1, 3, X12013, 9, 20071112, 1013, 22.5167, 178.9963, 5356,     10.3, 2,  27.0304, 2,  35.1163, 2, -999.0000, 9,    202.7, 2,   -999.0, 9,  -999.00, 9,  -999.00, 9,  -999.00, 9,  -999.00, 9, -999.000, 9, -999.000, 9, -999.000, 9, -999.000, 9,   -999.0, 9,   -999.0, 9, -999.0000,   -999.00,   -999.0, 9,   -999.0,  -999.00, 9,   -999.0,  27.0280, 22.7964,  27.0295, 2, 9, -999.00, -999.00, -999.00, -999.000,  -999.00, 9, -999.00, -999.00, 9, -999.00
49NZ20071008, P14N, 80, 1, 2, X12002, 9, 20071112, 1013, 22.5167, 178.9963, 5356,   5445.7, 2,   1.4664, 2,  34.6981, 2, -999.0000, 9,    176.6, 2,   -999.0, 9,  -999.00, 9,  -999.00, 9,  -999.00, 9,  -999.00, 9, -999.000, 9, -999.000, 9, -999.000, 9, -999.000, 9,   -999.0, 9,   -999.0, 9, -999.0000,   -999.00,   -999.0, 9,   -999.0,  -999.00, 9,   -999.0,   0.9779, 27.8042,   1.4665, 2, 9, -999.00, -999.00, -999.00, -999.000,  -999.00, 9, -999.00, -999.00, 9, -999.00
49NZ20071008, P14N, 80, 1, 1, X12001, 2, 20071112, 1013, 22.5167, 178.9963, 5356,   5445.5, 2,   1.4663, 2,  34.6981, 2,  34.6983, 6,    176.6, 2,    176.6, 2,   130.10, 2,    34.27, 2,     0.01, 2,     2.39, 2,    0.000, 2,    0.001, 2,    0.000, 2,    0.005, 4,   -999.0, 9,   -999.0, 9, -999.0000,   -999.00,   -999.0, 9,   -999.0,  -999.00, 9,   -999.0,   0.9778, 27.8042,   1.4663, 2, 9, 0.41, 0.13, 0.01, 0.016,  -999.00, 9, -999.00, -999.00, 9, -999.00