BOTTLE,20221005CCHSIOAMB
EXPOCODE,SECT_ID,STNNBR,CASTNO,SAMPNO,BTLNBR,BTLNBR_FLAG_W,DATE,TIME,LATITUDE,LONGITUDE,DEPTH,CTDPRS,CTDPRS_FLAG_W,CTDTMP,CTDTMP_FLAG_W,CTDSAL,CTDSAL_FLAG_W,SALNTY,SALNTY_FLAG_W,CTDOXY,CTDOXY_FLAG_W,OXYGEN,OXYGEN_FLAG_W,SILCAT,SILCAT_FLAG_W,NITRAT,NITRAT_FLAG_W,NITRIT,NITRIT_FLAG_W,PHSPHT,PHSPHT_FLAG_W,CFC-11,CFC-11_FLAG_W,CFC-12,CFC-12_FLAG_W,CFC113,CFC113_FLAG_W,CCL4,CCL4_FLAG_W,TCARBN,TCARBN_FLAG_W,ALKALI,ALKALI_FLAG_W,PH_TOT,PH_TMP,DELC14,DELC14_FLAG_W,C14ERR,DELC13,DELC13_FLAG_W,C13ERR,THETA,SIG0,SBE35,SBE35_FLAG_W,PH_TOT_FLAG_W,SILUNC,NRAUNC,NRIUNC,PHPUNC,CS-137,CS-137_FLAG_W,CS137ER,PLUTO,PLUTO_FLAG_W,PLUTOER
,,,,,,,,,,,METERS,DBAR,,ITS-90,,PSS-78,,PSS-78,,UMOL/KG,,UMOL/KG,,UMOL/KG,,UMOL/KG,,UMOL/KG,,UMOL/KG,,PMOL/KG,,PMOL/KG,,PMOL/KG,,PMOL/KG,,UMOL/KG,,UMOL/KG,,,DEG C,/MILLE,,/MILLE,/MILLE,,/MILLE,DEG C,KG/M^3,ITS-90,,,UMOL/KG,UMOL/KG,UMOL/KG,UMOL/KG,DM/.1MG,,BQ/M^3,MBQ/M^3,,MBQ/M^3
49NZ20071008, P14N, 57, 1, 36, X12042, 2, 20071105, 1342, 33.9888, 178.9962, 2249,      9.9, 2,  23.1401, 2,  34.3465, 2,  34.3467, 2,    217.8, 2,    218.7, 2,     2.20, 2,     0.06, 2,     0.01, 2,     0.05, 2,    1.873, 2,    1.137, 2,    0.343, 4, -999.000, 9,   1964.6, 2,   2259.7, 2,    8.0534,     25.00,   -999.0, 9,   -999.0,  -999.00, 9,   -999.0,  23.1381, 23.3983,  23.1396, 2, 2, 0.12, 0.03, 0.01, 0.033,  -999.00, 9, -999.00, -999.00, 9, -999.00
49NZ20071008, P14N, 57, 1, 35, X12041, 2, 20071105, 1342, 33.9888, 178.9962, 2249,     50.5, 2,  22.7503, 2,  34.3494, 2,  34.3683, 2,    232.0, 2,    229.1, 2,     2.18, 2,     0.04, 2,     0.01, 2,     0.06, 2,    1.990, 2,    1.204, 2,    0.551, 4, -999.000, 9,   1969.2, 6,   2262.1, 2,    8.0510,     25.00,   -999.0, 9,   -999.0,  -999.00, 9,   -999.0,  22.7401, 23.5146,  22.7927, 2, 2, 0.12, 0.03, 0.01, 0.031,  -999.00, 9, -999.00, -999.00, 9, -999.00
49NZ20071008, P14N, 57, 1, 34, X12016, 2, 20071105, 1342, 33.9888, 178.9962, 2249,    100.2, 2,  14.5058, 2,  34.5183, 2,  34.5177, 2,    221.5, 2,    220.6, 2,     7.84, 2,     7.44, 2,     0.04, 2,     0.55, 2,    2.715, 2,    1.548, 2,    0.189, 4, -999.000, 9,   2053.7, 2,   2274.0, 6,    7.9112,     25.00,   -999.0, 9,   -999.0,  -999.00, 9,   -999.0,  14.4911, 25.7107,  14.5061, 2, 2, 0.14, 0.05, 0.01, 0.013,  -999.00, 9, -999.00, -999.00, 9, -999.00
49NZ20071008, P14N, 57, 1, 33, X12033, 2, 20071105, 1342, 33.9888, 178.9962, 2249,    150.4, 2,  13.6406, 2,  34.4755, 2,  34.4756, 2,    220.3, 2,    220.5, 2,     9.87, 2,     8.79, 2,     0.02, 2,     0.66, 2,    2.803, 2,    1.590, 2,    0.171, 6, -999.000, 9,   2065.7, 2,   2274.1, 2,    7.8913,     25.00,   -999.0, 9,   -999.0,  -999.00, 9,   -999.0,  13.6194, 25.8608,  13.6443, 2, 6, 0.14, 0.06, 0.01, 0.013,  -999.00, 9, -999.00, -999.00, 9, -999.00
49NZ20071008, P14N, 57, 1, 32, X12038, 2, 20071105, 1342, 33.9888, 178.9962, 2249,    201.3, 2,  12.8109, 2,  34.4269, 2,  34.4269, 2,    220.7, 2,    218.4, 2,    12.38, 2,    10.44, 2,     0.01, 2,     0.77, 2,    2.817, 2,    1.580, 2,    0.147, 2, -999.000, 9,   2074.7, 2,   2274.6, 2,    7.8674,     25.00,   -999.0, 9,   -999.0,  -999.00, 9,   -999.0,  12.7836, 25.9919,  12.8115, 2, 2, 0.15, 0.06, 0.01, 0.013,  -999.00, 9, -999.00, -999.00, 9, -999.00
49NZ20071008, P14N, 57, 1, 31, X12003, 2, 20071105, 1342, 33.9888, 178.9962, 2249,    250.7, 2,  11.9214, 2,  34.3614, 2,  34.3594, 6,    216.4, 2,    216.7, 2,    15.38, 2,    12.25, 2,     0.01, 2,     0.90, 2,    2.907, 2,    1.609, 2,    0.157, 2, -999.000, 9,   2087.0, 2,   2273.9, 2,    7.8399,     25.00,   -999.0, 9,   -999.0,  -999.00, 9,   -999.0,  11.8890, 26.1141,  11.9199, 2, 2, 0.15, 0.07, 0.01, 0.013,  -999.00, 9, -999.00, -999.00, 9, -999.00
49NZ20071008, P14N, 57, 1, 30, X12008, 2, 20071105, 1342, 33.9888, 178.9962, 2249,    279.9, 2,  11.3722, 2,  34.3153, 2,  34.3122, 2,    220.0, 2,    219.3, 2,    16.77, 2,    12.94, 2,     0.02, 2,     0.96, 2,    2.948, 2,    1.627, 2,    0.157, 2, -999.000, 9,   2092.6, 2,   2273.8, 2,    7.8265,     25.00,   -999.0, 9,   -999.0,  -999.00, 9,   -999.0,  11.3371, 26.1810,  11.3733, 2, 2, 0.16, 0.07, 0.01, 0.013,  -999.00, 9, -999.00, -999.00, 9, -999.00
49NZ20071008, P14N, 57, 1, 29, X12035, 2, 20071105, 1342, 33.9888, 178.9962, 2249,    371.7, 2,   9.3665, 2,  34.1491, 2,  34.1455, 2,    203.6, 2,    202.0, 2,    26.18, 2,    18.08, 2,     0.01, 2,     1.33, 2,    3.033, 2,    1.622, 2,    0.152, 2, -999.000, 9,   2128.7, 2,   2274.0, 2,    7.7467,     25.00,   -999.0, 9,   -999.0,  -999.00, 9,   -999.0,   9.3252, 26.3995,   9.3690, 2, 2, 0.18, 0.08, 0.01, 0.014,  -999.00, 9, -999.00, -999.00, 9, -999.00
49NZ20071008, P14N, 57, 1, 28, X12034, 2, 20071105, 1342, 33.9888, 178.9962, 2249,    470.3, 2,   7.4182, 2,  34.0280, 2,  34.0276, 6,    178.0, 2,    174.8, 2,    40.78, 2,    24.01, 2,     0.01, 2,     1.76, 2,    2.834, 2,    1.471, 2,    0.160, 2, -999.000, 9,   2172.0, 2,   2279.9, 2,    7.6507,     25.00,   -999.0, 9,   -999.0,  -999.00, 9,   -999.0,   7.3725, 26.6013,   7.4192, 2, 2, 0.21, 0.10, 0.01, 0.015,  -999.00, 9, -999.00, -999.00, 9, -999.00
49NZ20071008, P14N, 57, 1, 27, X12049, 2, 20071105, 1342, 33.9888, 178.9962, 2249,    570.6, 2,   5.5894, 2,  34.0055, 2,  34.0064, 2,    132.1, 2,    124.4, 2,    64.78, 2,    31.71, 2,     0.01, 2,     2.33, 2,    2.134, 2,    1.066, 2,    0.121, 2, -999.000, 9,   2235.9, 2,   2297.4, 2,    7.5198,     25.00,   -999.0, 9,   -999.0,  -999.00, 9,   -999.0,   5.5415, 26.8233,   5.5884, 2, 2, 0.26, 0.12, 0.01, 0.016,  -999.00, 9, -999.00, -999.00, 9, -999.00
49NZ20071008, P14N, 57, 1, 26, X12032, 2, 20071105, 1342, 33.9888, 178.9962, 2249,    672.2, 2,   4.8481, 2,  34.0790, 2,  34.0790, 2,     88.9, 2,     86.8, 2,    82.32, 2,    36.45, 2,     0.01, 2,     2.65, 2,    1.421, 6,    0.696, 6,    0.071, 6, -999.000, 9,   2278.2, 6,   2314.8, 2,    7.4454,     25.00,   -999.0, 9,   -999.0,  -999.00, 9,   -999.0,   4.7950, 26.9683,   4.8481, 2, 2, 0.30, 0.13, 0.01, 0.017,  -999.00, 9, -999.00, -999.00, 9, -999.00
49NZ20071008, P14N, 57, 1, 25, X12043, 2, 20071105, 1342, 33.9888, 178.9962, 2249,    771.4, 2,   4.2192, 2,  34.1762, 2,  34.1749, 2,     57.5, 2,     55.5, 2,   100.55, 2,    40.00, 2,     0.01, 2,     2.88, 2,    0.783, 2,    0.374, 2,    0.037, 2, -999.000, 9,   2316.1, 2,   2334.5, 6,    7.3906,     25.00,   -999.0, 9,   -999.0,  -999.00, 9,   -999.0,   4.1613, 27.1141,   4.2194, 2, 2, 0.34, 0.14, 0.01, 0.017,  -999.00, 9, -999.00, -999.00, 9, -999.00
49NZ20071008, P14N, 57, 1, 24, X12030, 2, 20071105, 1342, 33.9888, 178.9962, 2249,    871.6, 2,   3.7839, 2,  34.2576, 2,  34.2579, 2,     41.4, 2,     40.1, 2,   114.05, 2,    41.78, 2,     0.01, 2,     3.00, 2,    0.391, 2,    0.189, 2,    0.030, 2, -999.000, 9,   2339.8, 2,   2351.4, 2,    7.3693,     25.00,   -999.0, 9,   -999.0,  -999.00, 9,   -999.0,   3.7206, 27.2238,   3.7842, 2, 6, 0.37, 0.15, 0.01, 0.017,  -999.00, 9, -999.00, -999.00, 9, -999.00
49NZ20071008, P14N, 57, 1, 23, X12027, 2, 20071105, 1342, 33.9888, 178.9962, 2249,    966.9, 2,   3.4929, 2,  34.3104, 2,  34.3140, 6,     34.0, 2,     32.8, 2,   123.14, 2,    42.54, 2,     0.01, 2,     3.05, 2,    0.216, 2,    0.103, 2,    0.015, 2, -999.000, 9,   2353.7, 2,   2364.4, 2,    7.3596,     25.00,   -999.0, 9,   -999.0,  -999.00, 9,   -999.0,   3.4241, 27.2950,   3.4932, 2, 2, 0.39, 0.15, 0.01, 0.018,  -999.00, 9, -999.00, -999.00, 9, -999.00
49NZ20071008, P14N, 57, 1, 22, X12028, 2, 20071105, 1342, 33.9888, 178.9962, 2249,   1128.7, 2,   3.1009, 2,  34.3904, 2,  34.3919, 2,     26.8, 2,     26.8, 2,   134.95, 2,    43.52, 2,     0.01, 2,     3.11, 2,    0.076, 2,    0.039, 2,    0.000, 2, -999.000, 9,   2373.2, 2,   2379.3, 2,    7.3554,     25.00,   -999.0, 9,   -999.0,  -999.00, 9,   -999.0,   3.0225, 27.3964,   3.1009, 2, 2, 0.42, 0.15, 0.01, 0.018,  -999.00, 9, -999.00, -999.00, 9, -999.00
49NZ20071008, P14N, 57, 1, 21, X12009, 2, 20071105, 1342, 33.9888, 178.9962, 2249,   1329.8, 2,   2.6765, 2,  34.4650, 2,  34.4661, 2,     29.4, 2,     28.4, 2,   147.82, 2,    43.97, 2,     0.01, 2,     3.13, 2,    0.020, 2,    0.009, 2,    0.000, 2, -999.000, 9,   2386.1, 2,   2393.4, 2,    7.3628,     25.00,   -999.0, 9,   -999.0,  -999.00, 9,   -999.0,   2.5862, 27.4947,   2.6765, 2, 2, 0.44, 0.16, 0.01, 0.018,  -999.00, 9, -999.00, -999.00, 9, -999.00
49NZ20071008, P14N, 57, 1, 20, X12026, 2, 20071105, 1342, 33.9888, 178.9962, 2249,   1530.5, 2,   2.4020, 2,  34.5186, 2,  34.5189, 2,     38.0, 2,     37.9, 2,   155.02, 2,    43.48, 2,     0.00, 2,     3.09, 2,    0.007, 2,    0.003, 2,    0.000, 2, -999.000, 9,   2387.6, 2,   2402.7, 2,    7.3833,     25.00,   -999.0, 9,   -999.0,  -999.00, 9,   -999.0,   2.2988, 27.5619,   2.4022, 2, 6, 0.46, 0.15, 0.01, 0.018,  -999.00, 9, -999.00, -999.00, 9, -999.00
49NZ20071008, P14N, 57, 1, 19, X12025, 2, 20071105, 1342, 33.9888, 178.9962, 2249,   1731.4, 2,   2.1371, 2,  34.5613, 2,  34.5617, 6,     51.6, 2,     51.7, 2,   160.51, 2,    42.72, 2,     0.01, 2,     3.03, 2,    0.001, 2,    0.000, 2,    0.000, 2, -999.000, 9,   2385.7, 2,   2410.3, 2,    7.4106,     25.00,   -999.0, 9,   -999.0,  -999.00, 9,   -999.0,   2.0210, 27.6186,   2.1371, 2, 2, 0.47, 0.15, 0.01, 0.018,  -999.00, 9, -999.00, -999.00, 9, -999.00
49NZ20071008, P14N, 57, 1, 18, X12024, 2, 20071105, 1342, 33.9888, 178.9962, 2249,   1929.4, 2,   1.9623, 2,  34.5912, 2,  34.5920, 2,     66.6, 2,     67.5, 2,   162.14, 2,    41.72, 2,     0.01, 2,     2.95, 2,    0.000, 2,    0.000, 2,    0.000, 2, -999.000, 9,   2380.1, 2,   2414.4, 2,    7.4399,     25.00,   -999.0, 9,   -999.0,  -999.00, 9,   -999.0,   1.8324, 27.6572,   1.9622, 2, 2, 0.48, 0.15, 0.01, 0.017,  -999.00, 9, -999.00, -999.00, 9, -999.00
49NZ20071008, P14N, 57, 1, 17, X12023, 2, 20071105, 1342, 33.9888, 178.9962, 2249,   2129.2, 2,   1.8254, 2,  34.6137, 2,  34.6140, 2,     82.1, 2,     82.2, 2,   162.11, 2,    40.78, 2,     0.01, 2,     2.88, 2,    0.000, 2,    0.000, 2,    0.000, 2, -999.000, 9,   2369.8, 2,   2417.6, 2,    7.4683,     25.00,   -999.0, 9,   -999.0,  -999.00, 9,   -999.0,   1.6809, 27.6868,   1.8253, 2, 2, 0.48, 0.15, 0.01, 0.017,  -999.00, 9, -999.00, -999.00, 9, -999.00
49NZ20071008, P14N, 57, 1, 16, X12022, 9, 20071105, 1342, 33.9888, 178.9962, 2249,      9.9, 2,  23.1367, 2,  34.3467, 2, -999.0000, 9,    217.9, 2,   -999.0, 9,  -999.00, 9,  -999.00, 9,  -999.00, 9,  -999.00, 9, -999.000, 9, -999.000, 9, -999.000, 9, -999.000, 9,   -999.0, 9,   -999.0, 9, -999.0000,   -999.00,   -999.0, 9,   -999.0,  -999.00, 9,   -999.0,  23.1347, 23.3995,  23.1364, 2, 9, -999.00, -999.00, -999.00, -999.000,  -999.00, 9, -999.00, -999.00, 9, -999.00
49NZ20071008, P14N, 57, 1, 15, X12021, 9, 20071105, 1342, 33.9888, 178.9962, 2249,     50.3, 2,  22.5401, 2,  34.3706, 2, -999.0000, 9,    236.6, 2,   -999.0, 9,  -999.00, 9,  -999.00, 9,  -999.00, 9,  -999.00, 9, -999.000, 9, -999.000, 9, -999.000, 9, -999.000, 9,   -999.0, 9,   -999.0, 9, -999.0000,   -999.00,   -999.0, 9,   -999.0,  -999.00, 9,   -999.0,  22.5300, 23.5904,  22.7509, 2, 9, -999.00, -999.00, -999.00, -999.000,  -999.00, 9, -999.00, -999.00, 9, -999.00
49NZ20071008, P14N, 57, 1, 14, X12020, 9, 20071105, 1342, 33.9888, 178.9962, 2249,    100.5, 2,  14.5040, 2,  34.5184, 2, -999.0000, 9,    221.5, 2,   -999.0, 9,  -999.00, 9,  -999.00, 9,  -999.00, 9,  -999.00, 9, -999.000, 9, -999.000, 9, -999.000, 9, -999.000, 9,   -999.0, 9,   -999.0, 9, -999.0000,   -999.00,   -999.0, 9,   -999.0,  -999.00, 9,   -999.0,  14.4892, 25.7112,  14.5049, 2, 9, -999.00, -999.00, -999.00, -999.000,  -999.00, 9, -999.00, -999.00, 9, -999.00
49NZ20071008, P14N, 57, 1, 13, X12019, 9, 20071105, 1342, 33.9888, 178.9962, 2249,    150.0, 2,  13.6433, 2,  34.4759, 2, -999.0000, 9,    220.3, 2,   -999.0, 9,  -999.00, 9,  -999.00, 9,  -999.00, 9,  -999.00, 9, -999.000, 9, -999.000, 9, -999.000, 9, -999.000, 9,   -999.0, 9,   -999.0, 9, -999.0000,   -999.00,   -999.0, 9,   -999.0,  -999.00, 9,   -999.0,  13.6221, 25.8605,  13.6448, 2, 9, -999.00, -999.00, -999.00, -999.000,  -999.00, 9, -999.00, -999.00, 9, -999.00
49NZ20071008, P14N, 57, 1, 12, X12040, 9, 20071105, 1342, 33.9888, 178.9962, 2249,    202.2, 2,  12.7982, 2,  34.4260, 2, -999.0000, 9,    220.2, 2,   -999.0, 9,  -999.00, 9,  -999.00, 9,  -999.00, 9,  -999.00, 9, -999.000, 9, -999.000, 9, -999.000, 9, -999.000, 9,   -999.0, 9,   -999.0, 9, -999.0000,   -999.00,   -999.0, 9,   -999.0,  -999.00, 9,   -999.0,  12.7708, 25.9938,  12.8013, 2, 9, -999.00, -999.00, -999.00, -999.000,  -999.00, 9, -999.00, -999.00, 9, -999.00
49NZ20071008, P14N, 57, 1, 11, X12047, 9, 20071105, 1342, 33.9888, 178.9962, 2249,    251.0, 2,  11.9191, 2,  34.3607, 2, -999.0000, 9,    216.4, 2,   -999.0, 9,  -999.00, 9,  -999.00, 9,  -999.00, 9,  -999.00, 9, -999.000, 9, -999.000, 9, -999.000, 9, -999.000, 9,   -999.0, 9,   -999.0, 9, -999.0000,   -999.00,   -999.0, 9,   -999.0,  -999.00, 9,   -999.0,  11.8866, 26.1140,  11.9189, 2, 9, -999.00, -999.00, -999.00, -999.000,  -999.00, 9, -999.00, -999.00, 9, -999.00
49NZ20071008, P14N, 57, 1, 10, X12017, 9, 20071105, 1342, 33.9888, 178.9962, 2249,    280.6, 2,  11.3781, 2,  34.3153, 2, -999.0000, 9,    219.9, 2,   -999.0, 9,  -999.00, 9,  -999.00, 9,  -999.00, 9,  -999.00, 9, -999.000, 9, -999.000, 9, -999.000, 9, -999.000, 9,   -999.0, 9,   -999.0, 9, -999.0000,   -999.00,   -999.0, 9,   -999.0,  -999.00, 9,   -999.0,  11.3429, 26.1800,  11.3788, 2, 9, -999.00, -999.00, -999.00, -999.000,  -999.00, 9, -999.00, -999.00, 9, -999.00
49NZ20071008, P14N, 57, 1, 9, X12015, 9, 20071105, 1342, 33.9888, 178.9962, 2249,    370.2, 2,   9.4076, 2,  34.1505, 2, -999.0000, 9,    203.8, 2,   -999.0, 9,  -999.00, 9,  -999.00, 9,  -999.00, 9,  -999.00, 9, -999.000, 9, -999.000, 9, -999.000, 9, -999.000, 9,   -999.0, 9,   -999.0, 9, -999.0000,   -999.00,   -999.0, 9,   -999.0,  -999.00, 9,   -999.0,   9.3663, 26.3939,   9.4058, 2, 9, -999.00, -999.00, -999.00, -999.000,  -999.00, 9, -999.00, -999.00, 9, -999.00
49NZ20071008, P14N, 57, 1, 8, X12046, 9, 20071105, 1342, 33.9888, 178.9962, 2249,    470.0, 2,   7.4165, 2,  34.0278, 2, -999.0000, 9,    178.1, 2,   -999.0, 9,  -999.00, 9,  -999.00, 9,  -999.00, 9,  -999.00, 9, -999.000, 9, -999.000, 9, -999.000, 9, -999.000, 9,   -999.0, 9,   -999.0, 9, -999.0000,   -999.00,   -999.0, 9,   -999.0,  -999.00, 9,   -999.0,   7.3708, 26.6013,   7.4176, 2, 9, -999.00, -999.00, -999.00, -999.000,  -999.00, 9, -999.00, -999.00, 9, -999.00
49NZ20071008, P14N, 57, 1, 7, X12044, 9, 20071105, 1342, 33.9888, 178.9962, 2249,    569.7, 2,   5.5843, 2,  34.0062, 2, -999.0000, 9,    132.5, 2,   -999.0, 9,  -999.00, 9,  -999.00, 9,  -999.00, 9,  -999.00, 9, -999.000, 9, -999.000, 9, -999.000, 9, -999.000, 9,   -999.0, 9,   -999.0, 9, -999.0000,   -999.00,   -999.0, 9,   -999.0,  -999.00, 9,   -999.0,   5.5365, 26.8244,   5.5858, 2, 9, -999.00, -999.00, -999.00, -999.000,  -999.00, 9, -999.00, -999.00, 9, -999.00
49NZ20071008, P14N, 57, 1, 6, X12048, 9, 20071105, 1342, 33.9888, 178.9962, 2249,    672.5, 2,   4.8462, 2,  34.0793, 2, -999.0000, 9,     88.8, 2,   -999.0, 9,  -999.00, 9,  -999.00, 9,  -999.00, 9,  -999.00, 9, -999.000, 9, -999.000, 9, -999.000, 9, -999.000, 9,   -999.0, 9,   -999.0, 9, -999.0000,   -999.00,   -999.0, 9,   -999.0,  -999.00, 9,   -999.0,   4.7930, 26.9687,   4.8467, 2, 9, -999.00, -999.00, -999.00, -999.000,  -999.00, 9, -999.00, -999.00, 9, -999.00
49NZ20071008, P14N, 57, 1, 5, X12014, 9, 20071105, 1342, 33.9888, 178.9962, 2249,    770.7, 2,   4.2341, 2,  34.1725, 2, -999.0000, 9,     57.9, 2,   -999.0, 9,  -999.00, 9,  -999.00, 9,  -999.00, 9,  -999.00, 9, -999.000, 9, -999.000, 9, -999.000, 9, -999.000, 9,   -999.0, 9,   -999.0, 9, -999.0000,   -999.00,   -999.0, 9,   -999.0,  -999.00, 9,   -999.0,   4.1761, 27.1096,   4.2337, 2, 9, -999.00, -999.00, -999.00, -999.000,  -999.00, 9, -999.00, -999.00, 9, -999.00
49NZ20071008, P14N, 57, 1, 4, X12006, 9, 20071105, 1342, 33.9888, 178.9962, 2249,    871.5, 2,   3.7852, 2,  34.2573, 2, -999.0000, 9,     41.4, 2,   -999.0, 9,  -999.00, 9,  -999.00, 9,  -999.00, 9,  -999.00, 9, -999.000, 9, -999.000, 9, -999.000, 9, -999.000, 9,   -999.0, 9,   -999.0, 9, -999.0000,   -999.00,   -999.0, 9,   -999.0,  -999.00, 9,   -999.0,   3.7219, 27.2235,   3.7856, 2, 9, -999.00, -999.00, -999.00, -999.000,  -999.00, 9, -999.00, -999.00, 9, -999.00
49NZ20071008, P14N, 57, 1, 3, X12013, 9, 20071105, 1342, 33.9888, 178.9962, 2249,    966.8, 2,   3.4937, 2,  34.3100, 2, -999.0000, 9,     34.0, 2,   -999.0, 9,  -999.00, 9,  -999.00, 9,  -999.00, 9,  -999.00, 9, -999.000, 9, -999.000, 9, -999.000, 9, -999.000, 9,   -999.0, 9,   -999.0, 9, -999.0000,   -999.00,   -999.0, 9,   -999.0,  -999.00, 9,   -999.0,   3.4249, 27.2946,   3.4933, 2, 9, -999.00, -999.00, -999.00, -999.000,  -999.00, 9, -999.00, -999.00, 9, -999.00
49NZ20071008, P14N, 57, 1, 2, X12002, 9, 20071105, 1342, 33.9888, 178.9962, 2249,   2270.8, 2,   1.7428, 2,  34.6266, 2, -999.0000, 9,     92.1, 2,   -999.0, 9,  -999.00, 9,  -999.00, 9,  -999.00, 9,  -999.00, 9, -999.000, 9, -999.000, 9, -999.000, 9, -999.000, 9,   -999.0, 9,   -999.0, 9, -999.0000,   -999.00,   -999.0, 9,   -999.0,  -999.00, 9,   -999.0,   1.5875, 27.7041,   1.7425, 2, 9, -999.00, -999.00, -999.00, -999.000,  -999.00, 9, -999.00, -999.00, 9, -999.00
49NZ20071008, P14N, 57, 1, 1, X12001, 2, 20071105, 1342, 33.9888, 178.9962, 2249,   2271.4, 2,   1.7427, 2,  34.6266, 2,  34.6268, 6,     92.0, 2,     91.9, 2,   161.37, 2,    40.22, 2,     0.01, 2,     2.84, 2,    0.000, 2,    0.000, 2,    0.000, 2, -999.000, 9,   2363.8, 2,   2418.5, 2,    7.4867,     25.00,   -999.0, 9,   -999.0,  -999.00, 9,   -999.0,   1.5874, 27.7041,   1.7424, 2, 2, 0.47, 0.15, 0.01, 0.017,  -999.00, 9, -999.00, -999.00, 9, -999.00