BOTTLE,20221005CCHSIOAMB
EXPOCODE,SECT_ID,STNNBR,CASTNO,SAMPNO,BTLNBR,BTLNBR_FLAG_W,DATE,TIME,LATITUDE,LONGITUDE,DEPTH,CTDPRS,CTDPRS_FLAG_W,CTDTMP,CTDTMP_FLAG_W,CTDSAL,CTDSAL_FLAG_W,SALNTY,SALNTY_FLAG_W,CTDOXY,CTDOXY_FLAG_W,OXYGEN,OXYGEN_FLAG_W,SILCAT,SILCAT_FLAG_W,NITRAT,NITRAT_FLAG_W,NITRIT,NITRIT_FLAG_W,PHSPHT,PHSPHT_FLAG_W,CFC-11,CFC-11_FLAG_W,CFC-12,CFC-12_FLAG_W,CFC113,CFC113_FLAG_W,CCL4,CCL4_FLAG_W,TCARBN,TCARBN_FLAG_W,ALKALI,ALKALI_FLAG_W,PH_TOT,PH_TMP,DELC14,DELC14_FLAG_W,C14ERR,DELC13,DELC13_FLAG_W,C13ERR,THETA,SIG0,SBE35,SBE35_FLAG_W,PH_TOT_FLAG_W,SILUNC,NRAUNC,NRIUNC,PHPUNC,CS-137,CS-137_FLAG_W,CS137ER,PLUTO,PLUTO_FLAG_W,PLUTOER
,,,,,,,,,,,METERS,DBAR,,ITS-90,,PSS-78,,PSS-78,,UMOL/KG,,UMOL/KG,,UMOL/KG,,UMOL/KG,,UMOL/KG,,UMOL/KG,,PMOL/KG,,PMOL/KG,,PMOL/KG,,PMOL/KG,,UMOL/KG,,UMOL/KG,,,DEG C,/MILLE,,/MILLE,/MILLE,,/MILLE,DEG C,KG/M^3,ITS-90,,,UMOL/KG,UMOL/KG,UMOL/KG,UMOL/KG,DM/.1MG,,BQ/M^3,MBQ/M^3,,MBQ/M^3
49NZ20071008, P14N, 41, 1, 36, X12042, 2, 20071101, 1902, 41.9793, 178.9937, 5113,     10.1, 2,  15.1291, 2,  33.7827, 2,  33.7824, 2,    252.9, 2,    253.0, 2,     3.56, 2,     0.78, 2,     0.05, 2,     0.20, 2,    2.679, 2,    1.542, 2,    0.275, 2, -999.000, 9,   -999.0, 9,   -999.0, 9, -999.0000,   -999.00,   -999.0, 9,   -999.0,  -999.00, 9,   -999.0,  15.1276, 25.0057,  15.1300, 2, 9, 0.13, 0.03, 0.01, 0.016,  -999.00, 9, -999.00, -999.00, 9, -999.00
49NZ20071008, P14N, 41, 1, 35, X12041, 2, 20071101, 1902, 41.9793, 178.9937, 5113,     50.4, 2,  12.8207, 2,  34.0900, 2,  34.0856, 2,    253.8, 2,    254.4, 2,     9.29, 2,     6.18, 2,     0.34, 2,     0.58, 2,    3.040, 2,    1.692, 2,    0.278, 2, -999.000, 9,   -999.0, 9,   -999.0, 9, -999.0000,   -999.00,   -999.0, 9,   -999.0,  -999.00, 9,   -999.0,  12.8139, 25.7248,  12.8246, 2, 9, 0.14, 0.05, 0.00, 0.013,  -999.00, 9, -999.00, -999.00, 9, -999.00
49NZ20071008, P14N, 41, 1, 34, X12016, 2, 20071101, 1902, 41.9793, 178.9937, 5113,    100.4, 2,  10.7941, 2,  34.2253, 2,  34.2230, 2,    241.9, 2,    241.1, 2,    15.38, 2,    12.37, 2,     0.02, 2,     0.92, 2,    3.299, 2,    1.802, 2,    0.236, 2, -999.000, 9,   -999.0, 9,   -999.0, 9, -999.0000,   -999.00,   -999.0, 9,   -999.0,  -999.00, 9,   -999.0,  10.7820, 26.2111,  10.7969, 2, 9, 0.15, 0.07, 0.01, 0.013,  -999.00, 9, -999.00, -999.00, 9, -999.00
49NZ20071008, P14N, 41, 1, 33, X12033, 2, 20071101, 1902, 41.9793, 178.9937, 5113,    150.3, 2,   9.8819, 2,  34.1332, 2,  34.1361, 2,    249.6, 2,    248.1, 2,    16.86, 2,    12.86, 2,     0.02, 2,     0.98, 2,    3.463, 6,    1.883, 6,    0.260, 6, -999.000, 9,   -999.0, 9,   -999.0, 9, -999.0000,   -999.00,   -999.0, 9,   -999.0,  -999.00, 9,   -999.0,   9.8648, 26.2979,   9.8770, 2, 9, 0.16, 0.07, 0.01, 0.013,  -999.00, 9, -999.00, -999.00, 9, -999.00
49NZ20071008, P14N, 41, 1, 32, X12038, 2, 20071101, 1902, 41.9793, 178.9937, 5113,    199.7, 2,   9.1014, 2,  34.0427, 2,  34.0434, 2,    256.8, 2,    258.6, 2,    17.74, 2,    13.09, 2,     0.02, 2,     1.00, 2,    3.667, 2,    1.986, 2,    0.286, 2, -999.000, 9,   -999.0, 9,   -999.0, 9, -999.0000,   -999.00,   -999.0, 9,   -999.0,  -999.00, 9,   -999.0,   9.0798, 26.3558,   9.0974, 2, 9, 0.16, 0.07, 0.01, 0.013,  -999.00, 9, -999.00, -999.00, 9, -999.00
49NZ20071008, P14N, 41, 1, 31, X12003, 2, 20071101, 1902, 41.9793, 178.9937, 5113,    250.2, 2,   8.6826, 2,  34.0177, 2,  34.0177, 6,    244.4, 2,    253.9, 2,    19.91, 2,    14.21, 2,     0.02, 2,     1.09, 2,    3.636, 2,    1.957, 2,    0.266, 2, -999.000, 9,   -999.0, 9,   -999.0, 9, -999.0000,   -999.00,   -999.0, 9,   -999.0,  -999.00, 9,   -999.0,   8.6563, 26.4029,   8.6847, 2, 9, 0.16, 0.07, 0.01, 0.013,  -999.00, 9, -999.00, -999.00, 9, -999.00
49NZ20071008, P14N, 41, 1, 30, X12008, 2, 20071101, 1902, 41.9793, 178.9937, 5113,    330.9, 2,   7.6439, 2,  33.9852, 2,  33.9831, 2,    198.9, 2,    204.6, 2,    33.22, 2,    21.16, 2,     0.02, 2,     1.56, 2,    3.308, 2,    1.730, 2,    0.204, 2, -999.000, 9,   -999.0, 9,   -999.0, 9, -999.0000,   -999.00,   -999.0, 9,   -999.0,  -999.00, 9,   -999.0,   7.6115, 26.5335,   7.6452, 2, 9, 0.19, 0.09, 0.01, 0.014,  -999.00, 9, -999.00, -999.00, 9, -999.00
49NZ20071008, P14N, 41, 1, 29, X12035, 2, 20071101, 1902, 41.9793, 178.9937, 5113,    428.7, 2,   5.9141, 2,  33.9447, 2,  33.9470, 2,    148.8, 2,    151.4, 2,    54.68, 2,    29.09, 2,     0.01, 2,     2.14, 2,    2.702, 2,    1.359, 2,    0.164, 2, -999.000, 9,   -999.0, 9,   -999.0, 9, -999.0000,   -999.00,   -999.0, 9,   -999.0,  -999.00, 9,   -999.0,   5.8775, 26.7341,   5.9215, 2, 9, 0.24, 0.11, 0.01, 0.015,  -999.00, 9, -999.00, -999.00, 9, -999.00
49NZ20071008, P14N, 41, 1, 28, X12034, 2, 20071101, 1902, 41.9793, 178.9937, 5113,    529.7, 2,   5.0124, 2,  33.9907, 2,  33.9896, 6,    104.7, 2,    110.8, 2,    72.74, 2,    34.25, 2,     0.01, 2,     2.50, 2,    2.085, 2,    1.026, 2,    0.119, 2, -999.000, 9,   -999.0, 9,   -999.0, 9, -999.0000,   -999.00,   -999.0, 9,   -999.0,  -999.00, 9,   -999.0,   4.9705, 26.8784,   5.0110, 2, 9, 0.28, 0.13, 0.01, 0.016,  -999.00, 9, -999.00, -999.00, 9, -999.00
49NZ20071008, P14N, 41, 1, 27, X12049, 2, 20071101, 1902, 41.9793, 178.9937, 5113,    629.5, 2,   4.4948, 2,  34.0935, 2,  34.0949, 2,     72.1, 2,     72.7, 2,    90.06, 2,    38.23, 2,     0.01, 2,     2.77, 2, -999.000, 5, -999.000, 5, -999.000, 5, -999.000, 9,   -999.0, 9,   -999.0, 9, -999.0000,   -999.00,   -999.0, 9,   -999.0,  -999.00, 9,   -999.0,   4.4469, 27.0180,   4.4951, 2, 9, 0.32, 0.14, 0.01, 0.017,  -999.00, 9, -999.00, -999.00, 9, -999.00
49NZ20071008, P14N, 41, 1, 26, X12032, 2, 20071101, 1902, 41.9793, 178.9937, 5113,    729.9, 2,   4.0398, 2,  34.1773, 2,  34.1794, 2,     51.1, 2,     50.8, 2,   105.00, 2,    40.69, 2,     0.01, 2,     2.93, 2,    0.834, 6,    0.404, 6,    0.046, 6, -999.000, 9,   -999.0, 9,   -999.0, 9, -999.0000,   -999.00,   -999.0, 9,   -999.0,  -999.00, 9,   -999.0,   3.9862, 27.1331,   4.0402, 2, 9, 0.35, 0.15, 0.01, 0.017,  -999.00, 9, -999.00, -999.00, 9, -999.00
49NZ20071008, P14N, 41, 1, 25, X12043, 2, 20071101, 1902, 41.9793, 178.9937, 5113,    829.1, 2,   3.7501, 2,  34.2389, 2,  34.2403, 2,     40.6, 2,     40.1, 2,   114.72, 2,    41.76, 2,     0.01, 2,     3.01, 2,    0.539, 2,    0.255, 2,    0.030, 2, -999.000, 9,   -999.0, 9,   -999.0, 9, -999.0000,   -999.00,   -999.0, 9,   -999.0,  -999.00, 9,   -999.0,   3.6904, 27.2120,   3.7503, 2, 9, 0.37, 0.15, 0.01, 0.017,  -999.00, 9, -999.00, -999.00, 9, -999.00
49NZ20071008, P14N, 41, 1, 24, X12030, 2, 20071101, 1902, 41.9793, 178.9937, 5113,    930.5, 2,   3.4497, 2,  34.3016, 2,  34.3032, 2,     33.3, 2,     32.4, 2,   124.20, 2,    42.68, 2,     0.01, 2,     3.06, 2,    0.282, 2,    0.137, 2,    0.011, 2, -999.000, 9,   -999.0, 9,   -999.0, 9, -999.0000,   -999.00,   -999.0, 9,   -999.0,  -999.00, 9,   -999.0,   3.3841, 27.2918,   3.4501, 2, 9, 0.39, 0.15, 0.01, 0.018,  -999.00, 9, -999.00, -999.00, 9, -999.00
49NZ20071008, P14N, 41, 1, 23, X12027, 2, 20071101, 1902, 41.9793, 178.9937, 5113,   1068.5, 2,   3.0945, 2,  34.3584, 2,  34.3581, 6,     29.4, 2,     28.8, 2,   134.96, 2,    43.23, 2,     0.01, 2,     3.10, 2,    0.186, 2,    0.090, 2,    0.009, 2, -999.000, 9,   -999.0, 9,   -999.0, 9, -999.0000,   -999.00,   -999.0, 9,   -999.0,  -999.00, 9,   -999.0,   3.0209, 27.3710,   3.0942, 2, 9, 0.42, 0.15, 0.01, 0.018,  -999.00, 9, -999.00, -999.00, 9, -999.00
49NZ20071008, P14N, 41, 1, 22, X12028, 2, 20071101, 1902, 41.9793, 178.9937, 5113,   1270.0, 2,   2.7569, 2,  34.4259, 2,  34.4265, 2,     28.7, 2,     28.8, 2,   145.96, 2,    43.58, 2,     0.01, 2,     3.11, 2,    0.073, 2,    0.035, 2,    0.000, 2, -999.000, 9,   -999.0, 9,   -999.0, 9, -999.0000,   -999.00,   -999.0, 9,   -999.0,  -999.00, 9,   -999.0,   2.6706, 27.4562,   2.7570, 2, 9, 0.44, 0.15, 0.01, 0.018,  -999.00, 9, -999.00, -999.00, 9, -999.00
49NZ20071008, P14N, 41, 1, 21, X12009, 2, 20071101, 1902, 41.9793, 178.9937, 5113,   1470.9, 2,   2.4638, 2,  34.4795, 2,  34.4794, 2,     32.3, 2,     32.5, 2,   154.63, 2,    43.70, 2,     0.01, 2,     3.11, 2,    0.037, 2,    0.015, 2,    0.000, 2, -999.000, 9,   -999.0, 9,   -999.0, 9, -999.0000,   -999.00,   -999.0, 9,   -999.0,  -999.00, 9,   -999.0,   2.3647, 27.5251,   2.4640, 2, 9, 0.46, 0.16, 0.01, 0.018,  -999.00, 9, -999.00, -999.00, 9, -999.00
49NZ20071008, P14N, 41, 1, 20, X12026, 2, 20071101, 1902, 41.9793, 178.9937, 5113,   1670.5, 2,   2.2519, 2,  34.5218, 2,  34.5219, 2,     39.1, 2,     40.2, 2,   160.27, 2,    43.11, 2,     0.01, 2,     3.07, 2,    0.031, 2,    0.017, 2,    0.000, 2, -999.000, 9,   -999.0, 9,   -999.0, 9, -999.0000,   -999.00,   -999.0, 9,   -999.0,  -999.00, 9,   -999.0,   2.1393, 27.5775,   2.2519, 2, 9, 0.47, 0.15, 0.01, 0.018,  -999.00, 9, -999.00, -999.00, 9, -999.00
49NZ20071008, P14N, 41, 1, 19, X12025, 2, 20071101, 1902, 41.9793, 178.9937, 5113,   1868.9, 2,   2.1015, 2,  34.5551, 2,  34.5553, 2,     47.2, 2,     48.4, 2,   163.55, 2,    42.75, 2,     0.01, 2,     3.03, 2,    0.021, 2,    0.012, 2,    0.000, 2, -999.000, 9,   -999.0, 9,   -999.0, 9, -999.0000,   -999.00,   -999.0, 9,   -999.0,  -999.00, 9,   -999.0,   1.9747, 27.6172,   2.1013, 2, 9, 0.48, 0.15, 0.01, 0.018,  -999.00, 9, -999.00, -999.00, 9, -999.00
49NZ20071008, P14N, 41, 1, 18, X12024, 2, 20071101, 1902, 41.9793, 178.9937, 5113,   2069.0, 2,   1.9732, 2,  34.5838, 2,  34.5841, 2,     56.5, 2,     57.3, 2,   165.57, 2,    42.26, 2,     0.01, 2,     2.99, 2,    0.011, 2,    0.008, 2,    0.000, 2, -999.000, 9,   -999.0, 9,   -999.0, 9, -999.0000,   -999.00,   -999.0, 9,   -999.0,  -999.00, 9,   -999.0,   1.8315, 27.6514,   1.9731, 2, 9, 0.48, 0.15, 0.01, 0.017,  -999.00, 9, -999.00, -999.00, 9, -999.00
49NZ20071008, P14N, 41, 1, 17, X12023, 2, 20071101, 1902, 41.9793, 178.9937, 5113,   2267.8, 2,   1.8523, 2,  34.6074, 2,  34.6075, 6,     69.8, 2,     71.4, 2,   166.52, 2,    41.40, 2,     0.01, 2,     2.93, 2,    0.007, 2,    0.004, 2,    0.000, 2, -999.000, 9,   -999.0, 9,   -999.0, 9, -999.0000,   -999.00,   -999.0, 9,   -999.0,  -999.00, 9,   -999.0,   1.6955, 27.6806,   1.8521, 2, 9, 0.49, 0.15, 0.01, 0.017,  -999.00, 9, -999.00, -999.00, 9, -999.00
49NZ20071008, P14N, 41, 1, 16, X12022, 2, 20071101, 1902, 41.9793, 178.9937, 5113,   2470.1, 2,   1.7641, 2,  34.6244, 2,  34.6243, 2,     82.2, 2,     82.7, 2,   166.18, 2,    40.76, 2,     0.01, 2,     2.88, 2,    0.013, 2,    0.007, 2,    0.000, 2, -999.000, 9,   -999.0, 9,   -999.0, 9, -999.0000,   -999.00,   -999.0, 9,   -999.0,  -999.00, 9,   -999.0,   1.5910, 27.7021,   1.7644, 2, 9, 0.48, 0.15, 0.01, 0.017,  -999.00, 9, -999.00, -999.00, 9, -999.00
49NZ20071008, P14N, 41, 1, 15, X12021, 2, 20071101, 1902, 41.9793, 178.9937, 5113,   2668.7, 2,   1.6854, 2,  34.6385, 2,  34.6388, 2,     95.4, 2,     95.3, 2,   164.67, 2,    39.98, 2,     0.01, 2,     2.82, 2, -999.000, 9, -999.000, 9, -999.000, 9, -999.000, 9,   -999.0, 9,   -999.0, 9, -999.0000,   -999.00,   -999.0, 9,   -999.0,  -999.00, 9,   -999.0,   1.4958, 27.7204,   1.6854, 2, 9, 0.48, 0.14, 0.01, 0.017,  -999.00, 9, -999.00, -999.00, 9, -999.00
49NZ20071008, P14N, 41, 1, 14, X12020, 2, 20071101, 1902, 41.9793, 178.9937, 5113,   2868.9, 2,   1.6180, 2,  34.6504, 2,  34.6507, 2,    107.1, 2,    107.0, 2,   162.31, 2,    39.19, 2,     0.01, 2,     2.76, 2,    0.000, 2,    0.000, 2,    0.000, 2, -999.000, 9,   -999.0, 9,   -999.0, 9, -999.0000,   -999.00,   -999.0, 9,   -999.0,  -999.00, 9,   -999.0,   1.4112, 27.7360,   1.6180, 2, 9, 0.48, 0.14, 0.01, 0.017,  -999.00, 9, -999.00, -999.00, 9, -999.00
49NZ20071008, P14N, 41, 1, 13, X12019, 2, 20071101, 1902, 41.9793, 178.9937, 5113,   3080.0, 2,   1.5679, 2,  34.6596, 2,  34.6596, 2,    116.9, 2,    116.9, 2,   160.18, 2,    38.54, 2,     0.01, 2,     2.71, 2, -999.000, 9, -999.000, 9, -999.000, 9, -999.000, 9,   -999.0, 9,   -999.0, 9, -999.0000,   -999.00,   -999.0, 9,   -999.0,  -999.00, 9,   -999.0,   1.3420, 27.7483,   1.5678, 2, 9, 0.47, 0.14, 0.01, 0.017,  -999.00, 9, -999.00, -999.00, 9, -999.00
49NZ20071008, P14N, 41, 1, 12, X12040, 2, 20071101, 1902, 41.9793, 178.9937, 5113,   3329.9, 2,   1.5164, 2,  34.6689, 2,  34.6691, 2,    128.9, 2,    128.8, 2,   156.91, 2,    37.64, 2,     0.01, 2,     2.65, 2, -999.000, 9, -999.000, 9, -999.000, 9, -999.000, 9,   -999.0, 9,   -999.0, 9, -999.0000,   -999.00,   -999.0, 9,   -999.0,  -999.00, 9,   -999.0,   1.2671, 27.7611,   1.5163, 2, 9, 0.46, 0.14, 0.01, 0.017,  -999.00, 9, -999.00, -999.00, 9, -999.00
49NZ20071008, P14N, 41, 1, 11, X12047, 2, 20071101, 1902, 41.9793, 178.9937, 5113,   3580.3, 2,   1.4855, 2,  34.6756, 2,  34.6756, 6,    136.8, 2,    137.0, 2,   155.00, 2,    37.14, 2,     0.01, 2,     2.60, 2,    0.000, 2,    0.000, 2,    0.000, 2, -999.000, 9,   -999.0, 9,   -999.0, 9, -999.0000,   -999.00,   -999.0, 9,   -999.0,  -999.00, 9,   -999.0,   1.2115, 27.7703,   1.4855, 2, 9, 0.46, 0.14, 0.01, 0.016,  -999.00, 9, -999.00, -999.00, 9, -999.00
49NZ20071008, P14N, 41, 1, 10, X12017, 2, 20071101, 1902, 41.9793, 178.9937, 5113,   3828.5, 2,   1.4626, 2,  34.6812, 2,  34.6813, 2,    143.8, 2,    144.2, 2,   153.27, 2,    36.67, 2,     0.01, 2,     2.57, 2, -999.000, 9, -999.000, 9, -999.000, 9, -999.000, 9,   -999.0, 9,   -999.0, 9, -999.0000,   -999.00,   -999.0, 9,   -999.0,  -999.00, 9,   -999.0,   1.1632, 27.7781,   1.4625, 2, 9, 0.46, 0.14, 0.01, 0.016,  -999.00, 9, -999.00, -999.00, 9, -999.00
49NZ20071008, P14N, 41, 1, 9, X12015, 2, 20071101, 1902, 41.9793, 178.9937, 5113,   4082.5, 2,   1.4610, 2,  34.6846, 2,  34.6851, 2,    148.5, 2,    148.3, 2,   153.10, 2,    36.38, 2,     0.01, 2,     2.55, 2, -999.000, 9, -999.000, 9, -999.000, 9, -999.000, 9,   -999.0, 9,   -999.0, 9, -999.0000,   -999.00,   -999.0, 9,   -999.0,  -999.00, 9,   -999.0,   1.1342, 27.7829,   1.4610, 2, 9, 0.46, 0.13, 0.01, 0.016,  -999.00, 9, -999.00, -999.00, 9, -999.00
49NZ20071008, P14N, 41, 1, 8, X12046, 2, 20071101, 1902, 41.9793, 178.9937, 5113,   4331.3, 2,   1.4694, 2,  34.6871, 2,  34.6871, 2,    150.9, 2,    150.8, 2,   154.04, 2,    36.23, 2,     0.01, 2,     2.53, 2,    0.000, 2,    0.000, 2,    0.000, 2, -999.000, 9,   -999.0, 9,   -999.0, 9, -999.0000,   -999.00,   -999.0, 9,   -999.0,  -999.00, 9,   -999.0,   1.1146, 27.7862,   1.4693, 2, 9, 0.46, 0.13, 0.01, 0.016,  -999.00, 9, -999.00, -999.00, 9, -999.00
49NZ20071008, P14N, 41, 1, 7, X12044, 2, 20071101, 1902, 41.9793, 178.9937, 5113,   4580.8, 2,   1.4912, 2,  34.6881, 2,  34.6879, 2,    151.8, 2,    151.6, 2,   155.04, 2,    36.31, 2,     0.01, 2,     2.53, 2, -999.000, 9, -999.000, 9, -999.000, 9, -999.000, 9,   -999.0, 9,   -999.0, 9, -999.0000,   -999.00,   -999.0, 9,   -999.0,  -999.00, 9,   -999.0,   1.1071, 27.7875,   1.4912, 2, 9, 0.46, 0.13, 0.01, 0.016,  -999.00, 9, -999.00, -999.00, 9, -999.00
49NZ20071008, P14N, 41, 1, 6, X12048, 2, 20071101, 1902, 41.9793, 178.9937, 5113,   4829.9, 2,   1.5186, 2,  34.6886, 2,  34.6885, 2,    152.2, 2,    151.8, 2,   155.70, 2,    36.25, 2,     0.01, 2,     2.53, 2,    0.000, 2,    0.000, 2,    0.000, 2, -999.000, 9,   -999.0, 9,   -999.0, 9, -999.0000,   -999.00,   -999.0, 9,   -999.0,  -999.00, 9,   -999.0,   1.1043, 27.7882,   1.5186, 2, 9, 0.46, 0.13, 0.01, 0.016,  -999.00, 9, -999.00, -999.00, 9, -999.00
49NZ20071008, P14N, 41, 1, 5, X12014, 9, 20071101, 1902, 41.9793, 178.9937, 5113,     30.6, 2,  14.2640, 2,  33.7857, 2, -999.0000, 9,    256.7, 2,   -999.0, 9,  -999.00, 9,  -999.00, 9,  -999.00, 9,  -999.00, 9, -999.000, 9, -999.000, 9, -999.000, 9, -999.000, 9,   -999.0, 9,   -999.0, 9, -999.0000,   -999.00,   -999.0, 9,   -999.0,  -999.00, 9,   -999.0,  14.2596, 25.1944,  14.2655, 2, 9, -999.00, -999.00, -999.00, -999.000,  -999.00, 9, -999.00, -999.00, 9, -999.00
49NZ20071008, P14N, 41, 1, 4, X12006, 2, 20071101, 1902, 41.9793, 178.9937, 5113,     31.1, 2,  14.2519, 2,  33.7861, 2,  33.7856, 2,    256.9, 2,    256.1, 2,  -999.00, 9,  -999.00, 9,  -999.00, 9,  -999.00, 9, -999.000, 9, -999.000, 9, -999.000, 9, -999.000, 9,   -999.0, 9,   -999.0, 9, -999.0000,   -999.00,   -999.0, 9,   -999.0,  -999.00, 9,   -999.0,  14.2474, 25.1973,  14.2540, 2, 9, -999.00, -999.00, -999.00, -999.000,  -999.00, 9, -999.00, -999.00, 9, -999.00
49NZ20071008, P14N, 41, 1, 3, X12013, 2, 20071101, 1902, 41.9793, 178.9937, 5113,     20.7, 2,  14.7260, 2,  33.7719, 2,  33.7724, 2,    254.5, 2,    254.6, 2,  -999.00, 9,  -999.00, 9,  -999.00, 9,  -999.00, 9, -999.000, 9, -999.000, 9, -999.000, 9, -999.000, 9,   -999.0, 9,   -999.0, 9, -999.0000,   -999.00,   -999.0, 9,   -999.0,  -999.00, 9,   -999.0,  14.7230, 25.0851,  14.7273, 2, 9, -999.00, -999.00, -999.00, -999.000,  -999.00, 9, -999.00, -999.00, 9, -999.00
49NZ20071008, P14N, 41, 1, 2, X12002, 9, 20071101, 1902, 41.9793, 178.9937, 5113,     20.1, 2,  14.7292, 2,  33.7717, 2, -999.0000, 9,    254.4, 2,   -999.0, 9,  -999.00, 9,  -999.00, 9,  -999.00, 9,  -999.00, 9, -999.000, 9, -999.000, 9, -999.000, 9, -999.000, 9,   -999.0, 9,   -999.0, 9, -999.0000,   -999.00,   -999.0, 9,   -999.0,  -999.00, 9,   -999.0,  14.7262, 25.0842,  14.7276, 2, 9, -999.00, -999.00, -999.00, -999.000,  -999.00, 9, -999.00, -999.00, 9, -999.00
49NZ20071008, P14N, 41, 1, 1, X12001, 2, 20071101, 1902, 41.9793, 178.9937, 5113,   5105.1, 2,   1.5534, 2,  34.6886, 2,  34.6883, 6,    152.0, 2,    151.9, 2,   156.00, 2,    36.25, 2,     0.01, 2,     2.53, 2,    0.001, 2,    0.000, 2,    0.000, 2, -999.000, 9,   -999.0, 9,   -999.0, 9, -999.0000,   -999.00,   -999.0, 9,   -999.0,  -999.00, 9,   -999.0,   1.1045, 27.7881,   1.5534, 2, 9, 0.46, 0.13, 0.01, 0.016,  -999.00, 9, -999.00, -999.00, 9, -999.00