BOTTLE,20221005CCHSIOAMB
EXPOCODE,SECT_ID,STNNBR,CASTNO,SAMPNO,BTLNBR,BTLNBR_FLAG_W,DATE,TIME,LATITUDE,LONGITUDE,DEPTH,CTDPRS,CTDPRS_FLAG_W,CTDTMP,CTDTMP_FLAG_W,CTDSAL,CTDSAL_FLAG_W,SALNTY,SALNTY_FLAG_W,CTDOXY,CTDOXY_FLAG_W,OXYGEN,OXYGEN_FLAG_W,SILCAT,SILCAT_FLAG_W,NITRAT,NITRAT_FLAG_W,NITRIT,NITRIT_FLAG_W,PHSPHT,PHSPHT_FLAG_W,CFC-11,CFC-11_FLAG_W,CFC-12,CFC-12_FLAG_W,CFC113,CFC113_FLAG_W,CCL4,CCL4_FLAG_W,TCARBN,TCARBN_FLAG_W,ALKALI,ALKALI_FLAG_W,PH_TOT,PH_TMP,DELC14,DELC14_FLAG_W,C14ERR,DELC13,DELC13_FLAG_W,C13ERR,THETA,SIG0,SBE35,SBE35_FLAG_W,PH_TOT_FLAG_W,SILUNC,NRAUNC,NRIUNC,PHPUNC,CS-137,CS-137_FLAG_W,CS137ER,PLUTO,PLUTO_FLAG_W,PLUTOER
,,,,,,,,,,,METERS,DBAR,,ITS-90,,PSS-78,,PSS-78,,UMOL/KG,,UMOL/KG,,UMOL/KG,,UMOL/KG,,UMOL/KG,,UMOL/KG,,PMOL/KG,,PMOL/KG,,PMOL/KG,,PMOL/KG,,UMOL/KG,,UMOL/KG,,,DEG C,/MILLE,,/MILLE,/MILLE,,/MILLE,DEG C,KG/M^3,ITS-90,,,UMOL/KG,UMOL/KG,UMOL/KG,UMOL/KG,DM/.1MG,,BQ/M^3,MBQ/M^3,,MBQ/M^3
49NZ20071008, P14N, 78, 1, 36, X12042, 2, 20071111, 2159, 23.5053, 178.9917, 5738,      9.9, 2,  26.9760, 2,  35.1342, 2,  35.1343, 2,    201.9, 2,    203.3, 2,     0.86, 2,     0.05, 2,     0.00, 2,     0.05, 2,    1.581, 2,    0.965, 2,    0.349, 4, -999.000, 9,   -999.0, 9,   -999.0, 9, -999.0000,   -999.00,   -999.0, 9,   -999.0,  -999.00, 9,   -999.0,  26.9737, 22.8272,  26.9730, 2, 9, 0.12, 0.03, 0.01, 0.036,  -999.00, 9, -999.00, -999.00, 9, -999.00
49NZ20071008, P14N, 78, 1, 35, X12041, 2, 20071111, 2159, 23.5053, 178.9917, 5738,     50.1, 2,  26.8691, 2,  35.1378, 2,  35.1379, 2,    202.6, 2,    203.1, 2,     0.78, 2,     0.04, 2,     0.00, 2,     0.05, 2,    1.589, 2,    0.983, 2,    0.357, 4, -999.000, 9,   -999.0, 9,   -999.0, 9, -999.0000,   -999.00,   -999.0, 9,   -999.0,  -999.00, 9,   -999.0,  26.8576, 22.8670,  26.8665, 2, 9, 0.12, 0.03, 0.01, 0.035,  -999.00, 9, -999.00, -999.00, 9, -999.00
49NZ20071008, P14N, 78, 1, 34, X12016, 2, 20071111, 2159, 23.5053, 178.9917, 5738,    100.2, 2,  25.0284, 2,  35.2955, 2,  35.2930, 2,    212.0, 2,    217.8, 2,     0.98, 2,     0.04, 2,     0.01, 2,     0.05, 2,    1.840, 2,    1.111, 2,    1.014, 4, -999.000, 9,   -999.0, 9,   -999.0, 9, -999.0000,   -999.00,   -999.0, 9,   -999.0,  -999.00, 9,   -999.0,  25.0066, 23.5626,  24.9243, 2, 9, 0.12, 0.03, 0.01, 0.034,  -999.00, 9, -999.00, -999.00, 9, -999.00
49NZ20071008, P14N, 78, 1, 33, X12033, 2, 20071111, 2159, 23.5053, 178.9917, 5738,    149.8, 2,  20.6436, 2,  35.0513, 2,  35.0504, 2,    199.4, 2,    199.7, 2,     1.87, 2,     0.51, 2,     0.11, 2,     0.13, 2,    2.165, 6,    1.281, 6,    0.273, 4, -999.000, 9,   -999.0, 9,   -999.0, 9, -999.0000,   -999.00,   -999.0, 9,   -999.0,  -999.00, 9,   -999.0,  20.6153, 24.6370,  20.6478, 2, 9, 0.12, 0.03, 0.01, 0.019,  -999.00, 9, -999.00, -999.00, 9, -999.00
49NZ20071008, P14N, 78, 1, 32, X12038, 2, 20071111, 2159, 23.5053, 178.9917, 5738,    198.9, 2,  18.3031, 2,  34.8350, 2,  34.8289, 2,    201.6, 2,    195.3, 2,     3.23, 2,     3.59, 2,     0.01, 2,     0.33, 2,    2.375, 2,    1.384, 2,    0.101, 2, -999.000, 9,   -999.0, 9,   -999.0, 9, -999.0000,   -999.00,   -999.0, 9,   -999.0,  -999.00, 9,   -999.0,  18.2686, 25.0792,  18.2980, 2, 9, 0.13, 0.04, 0.01, 0.014,  -999.00, 9, -999.00, -999.00, 9, -999.00
49NZ20071008, P14N, 78, 1, 31, X12003, 2, 20071111, 2159, 23.5053, 178.9917, 5738,    250.3, 2,  16.5907, 2,  34.7000, 2,  34.6959, 6,    199.7, 2,    199.7, 2,     4.93, 2,     5.83, 2,     0.01, 2,     0.46, 2,    2.520, 2,    1.460, 2,    0.059, 2, -999.000, 9,   -999.0, 9,   -999.0, 9, -999.0000,   -999.00,   -999.0, 9,   -999.0,  -999.00, 9,   -999.0,  16.5501, 25.3898,  16.5911, 2, 9, 0.13, 0.05, 0.01, 0.013,  -999.00, 9, -999.00, -999.00, 9, -999.00
49NZ20071008, P14N, 78, 1, 30, X12008, 2, 20071111, 2159, 23.5053, 178.9917, 5738,    279.4, 2,  15.9458, 2,  34.6487, 2,  34.6432, 2,    199.8, 2,    198.9, 2,     5.88, 2,     6.81, 2,     0.01, 2,     0.53, 2,    2.588, 2,    1.488, 2,    0.043, 2, -999.000, 9,   -999.0, 9,   -999.0, 9, -999.0000,   -999.00,   -999.0, 9,   -999.0,  -999.00, 9,   -999.0,  15.9017, 25.4997,  15.9475, 2, 9, 0.13, 0.05, 0.01, 0.013,  -999.00, 9, -999.00, -999.00, 9, -999.00
49NZ20071008, P14N, 78, 1, 29, X12035, 2, 20071111, 2159, 23.5053, 178.9917, 5738,    371.2, 2,  12.9527, 2,  34.3962, 2,  34.3940, 2,    206.9, 2,    201.2, 2,    11.56, 2,    11.17, 2,     0.01, 2,     0.84, 2,    2.798, 2,    1.569, 2,    0.060, 2, -999.000, 9,   -999.0, 9,   -999.0, 9, -999.0000,   -999.00,   -999.0, 9,   -999.0,  -999.00, 9,   -999.0,  12.9017, 25.9447,  12.9528, 2, 9, 0.14, 0.06, 0.01, 0.013,  -999.00, 9, -999.00, -999.00, 9, -999.00
49NZ20071008, P14N, 78, 1, 28, X12034, 2, 20071111, 2159, 23.5053, 178.9917, 5738,    471.7, 2,   9.8306, 2,  34.1765, 2,  34.1741, 6,    181.8, 2,    174.8, 2,    24.49, 2,    19.29, 2,     0.00, 2,     1.42, 2,    2.730, 2,    1.443, 2,    0.081, 2, -999.000, 9,   -999.0, 9,   -999.0, 9, -999.0000,   -999.00,   -999.0, 9,   -999.0,  -999.00, 9,   -999.0,   9.7762, 26.3465,   9.8265, 2, 9, 0.17, 0.09, 0.01, 0.014,  -999.00, 9, -999.00, -999.00, 9, -999.00
49NZ20071008, P14N, 78, 1, 27, X12049, 2, 20071111, 2159, 23.5053, 178.9917, 5738,    569.3, 2,   7.7034, 2,  34.0878, 2,  34.0842, 2,    133.4, 2,    137.8, 2,    42.94, 2,    26.97, 2,     0.00, 2,     1.96, 2,    2.157, 2,    1.065, 2,    0.062, 2, -999.000, 9,   -999.0, 9,   -999.0, 9, -999.0000,   -999.00,   -999.0, 9,   -999.0,  -999.00, 9,   -999.0,   7.6464, 26.6091,   7.6844, 2, 9, 0.21, 0.11, 0.01, 0.015,  -999.00, 9, -999.00, -999.00, 9, -999.00
49NZ20071008, P14N, 78, 1, 26, X12032, 2, 20071111, 2159, 23.5053, 178.9917, 5738,    670.6, 2,   5.9526, 2,  34.0891, 2,  34.0921, 2,     92.0, 2,     91.3, 2,    66.39, 2,    34.35, 2,     0.00, 2,     2.50, 2,    1.216, 6,    0.582, 6,    0.039, 6, -999.000, 9,   -999.0, 9,   -999.0, 9, -999.0000,   -999.00,   -999.0, 9,   -999.0,  -999.00, 9,   -999.0,   5.8939, 26.8461,   5.9548, 2, 9, 0.27, 0.13, 0.01, 0.016,  -999.00, 9, -999.00, -999.00, 9, -999.00
49NZ20071008, P14N, 78, 1, 25, X12043, 2, 20071111, 2159, 23.5053, 178.9917, 5738,    769.4, 2,   5.1542, 2,  34.1916, 2,  34.1899, 2,     53.2, 2,     53.8, 2,    83.15, 2,    39.01, 2,     0.00, 2,     2.84, 2,    0.470, 2,    0.227, 2,    0.011, 2, -999.000, 9,   -999.0, 9,   -999.0, 9, -999.0000,   -999.00,   -999.0, 9,   -999.0,  -999.00, 9,   -999.0,   5.0909, 27.0238,   5.1558, 2, 9, 0.30, 0.14, 0.01, 0.017,  -999.00, 9, -999.00, -999.00, 9, -999.00
49NZ20071008, P14N, 78, 1, 24, X12030, 2, 20071111, 2159, 23.5053, 178.9917, 5738,    871.5, 2,   4.5579, 2,  34.2539, 2,  34.2529, 2,     40.4, 2,     42.2, 2,    95.98, 2,    40.87, 2,     0.00, 2,     2.96, 2,    0.234, 2,    0.113, 2,    0.007, 2, -999.000, 9,   -999.0, 9,   -999.0, 9, -999.0000,   -999.00,   -999.0, 9,   -999.0,  -999.00, 9,   -999.0,   4.4894, 27.1408,   4.5586, 2, 9, 0.33, 0.15, 0.01, 0.017,  -999.00, 9, -999.00, -999.00, 9, -999.00
49NZ20071008, P14N, 78, 1, 23, X12027, 2, 20071111, 2159, 23.5053, 178.9917, 5738,    970.4, 2,   4.0930, 2,  34.3559, 2,  34.3580, 6,     39.3, 2,     38.7, 2,   107.76, 2,    41.93, 2,     0.00, 2,     3.04, 2,    0.067, 2,    0.034, 2,    0.005, 2, -999.000, 9,   -999.0, 9,   -999.0, 9, -999.0000,   -999.00,   -999.0, 9,   -999.0,  -999.00, 9,   -999.0,   4.0193, 27.2718,   4.0935, 2, 9, 0.36, 0.15, 0.01, 0.018,  -999.00, 9, -999.00, -999.00, 9, -999.00
49NZ20071008, P14N, 78, 1, 22, X12028, 2, 20071111, 2159, 23.5053, 178.9917, 5738,   1130.7, 2,   3.6209, 2,  34.4554, 2,  34.4556, 2,     50.4, 2,     48.3, 2,   117.73, 2,    41.93, 2,     0.00, 2,     3.02, 2,    0.017, 2,    0.012, 2,    0.003, 2, -999.000, 9,   -999.0, 9,   -999.0, 9, -999.0000,   -999.00,   -999.0, 9,   -999.0,  -999.00, 9,   -999.0,   3.5376, 27.3995,   3.6211, 2, 9, 0.38, 0.15, 0.01, 0.017,  -999.00, 9, -999.00, -999.00, 9, -999.00
49NZ20071008, P14N, 78, 1, 21, X12009, 2, 20071111, 2159, 23.5053, 178.9917, 5738,   1330.4, 2,   3.2027, 2,  34.5282, 2,  34.5284, 2,     66.1, 2,     64.7, 2,   124.81, 2,    41.25, 2,     0.00, 2,     2.96, 2,    0.007, 2,    0.006, 2,    0.000, 2, -999.000, 9,   -999.0, 9,   -999.0, 9, -999.0000,   -999.00,   -999.0, 9,   -999.0,  -999.00, 9,   -999.0,   3.1068, 27.4986,   3.2028, 2, 9, 0.39, 0.15, 0.01, 0.017,  -999.00, 9, -999.00, -999.00, 9, -999.00
49NZ20071008, P14N, 78, 1, 20, X12026, 2, 20071111, 2159, 23.5053, 178.9917, 5738,   1532.7, 2,   2.7620, 2,  34.5662, 2,  34.5661, 2,     77.3, 2,     76.5, 2,   133.22, 2,    40.60, 2,     0.00, 2,     2.90, 2,    0.003, 2,    0.003, 2,    0.000, 2, -999.000, 9,   -999.0, 9,   -999.0, 9, -999.0000,   -999.00,   -999.0, 9,   -999.0,  -999.00, 9,   -999.0,   2.6542, 27.5697,   2.7621, 2, 9, 0.41, 0.15, 0.01, 0.017,  -999.00, 9, -999.00, -999.00, 9, -999.00
49NZ20071008, P14N, 78, 1, 19, X12025, 2, 20071111, 2159, 23.5053, 178.9917, 5738,   1731.3, 2,   2.4734, 2,  34.5879, 2,  34.5876, 2,     84.0, 2,     84.2, 2,   139.23, 2,    40.26, 2,     0.00, 2,     2.87, 2,    0.006, 2,    0.006, 2,    0.000, 2, -999.000, 9,   -999.0, 9,   -999.0, 9, -999.0000,   -999.00,   -999.0, 9,   -999.0,  -999.00, 9,   -999.0,   2.3528, 27.6128,   2.4735, 2, 9, 0.43, 0.15, 0.01, 0.017,  -999.00, 9, -999.00, -999.00, 9, -999.00
49NZ20071008, P14N, 78, 1, 18, X12024, 2, 20071111, 2159, 23.5053, 178.9917, 5738,   1930.0, 2,   2.1568, 2,  34.6071, 2,  34.6070, 2,     90.5, 2,     90.0, 2,   147.13, 2,    40.15, 2,     0.00, 2,     2.85, 2,    0.006, 2,    0.003, 2,    0.000, 2, -999.000, 9,   -999.0, 9,   -999.0, 9, -999.0000,   -999.00,   -999.0, 9,   -999.0,  -999.00, 9,   -999.0,   2.0240, 27.6550,   2.1569, 2, 9, 0.44, 0.15, 0.01, 0.017,  -999.00, 9, -999.00, -999.00, 9, -999.00
49NZ20071008, P14N, 78, 1, 17, X12023, 2, 20071111, 2159, 23.5053, 178.9917, 5738,   2131.2, 2,   1.9736, 2,  34.6211, 2,  34.6212, 2,     98.1, 2,     96.7, 2,   150.53, 2,    39.83, 2,     0.00, 2,     2.81, 2,    0.006, 2,    0.004, 2,    0.000, 2, -999.000, 9,   -999.0, 9,   -999.0, 9, -999.0000,   -999.00,   -999.0, 9,   -999.0,  -999.00, 9,   -999.0,   1.8265, 27.6816,   1.9731, 2, 9, 0.45, 0.14, 0.01, 0.017,  -999.00, 9, -999.00, -999.00, 9, -999.00
49NZ20071008, P14N, 78, 1, 16, X12022, 2, 20071111, 2159, 23.5053, 178.9917, 5738,   2329.8, 2,   1.8446, 2,  34.6343, 2,  34.6344, 2,    105.5, 2,    104.7, 2,   152.14, 2,    39.09, 2,     0.00, 2,     2.77, 2,    0.005, 2,    0.003, 2,    0.000, 2, -999.000, 9,   -999.0, 9,   -999.0, 9, -999.0000,   -999.00,   -999.0, 9,   -999.0,  -999.00, 9,   -999.0,   1.6824, 27.7032,   1.8445, 2, 9, 0.45, 0.14, 0.01, 0.017,  -999.00, 9, -999.00, -999.00, 9, -999.00
49NZ20071008, P14N, 78, 1, 15, X12021, 2, 20071111, 2159, 23.5053, 178.9917, 5738,   2531.5, 2,   1.7436, 2,  34.6450, 2,  34.6448, 6,    113.1, 2,    112.0, 2,   152.38, 2,    38.55, 2,     0.00, 2,     2.73, 2,    0.002, 2,    0.002, 2,    0.000, 2, -999.000, 9,   -999.0, 9,   -999.0, 9, -999.0000,   -999.00,   -999.0, 9,   -999.0,  -999.00, 9,   -999.0,   1.5653, 27.7205,   1.7436, 2, 9, 0.45, 0.14, 0.01, 0.017,  -999.00, 9, -999.00, -999.00, 9, -999.00
49NZ20071008, P14N, 78, 1, 14, X12020, 2, 20071111, 2159, 23.5053, 178.9917, 5738,   2728.5, 2,   1.6703, 2,  34.6530, 2,  34.6529, 2,    119.6, 2,    118.5, 2,   153.09, 2,    38.39, 2,     0.00, 2,     2.70, 2, -999.000, 9, -999.000, 9, -999.000, 9, -999.000, 9,   -999.0, 9,   -999.0, 9, -999.0000,   -999.00,   -999.0, 9,   -999.0,  -999.00, 9,   -999.0,   1.4755, 27.7335,   1.6701, 2, 9, 0.46, 0.14, 0.01, 0.017,  -999.00, 9, -999.00, -999.00, 9, -999.00
49NZ20071008, P14N, 78, 1, 13, X12019, 2, 20071111, 2159, 23.5053, 178.9917, 5738,   2931.3, 2,   1.5998, 2,  34.6619, 2,  34.6618, 2,    126.8, 2,    126.4, 2,   151.90, 2,    37.92, 2,     0.00, 2,     2.66, 2, -999.000, 9, -999.000, 9, -999.000, 9, -999.000, 9,   -999.0, 9,   -999.0, 9, -999.0000,   -999.00,   -999.0, 9,   -999.0,  -999.00, 9,   -999.0,   1.3874, 27.7469,   1.5997, 2, 9, 0.45, 0.14, 0.01, 0.017,  -999.00, 9, -999.00, -999.00, 9, -999.00
49NZ20071008, P14N, 78, 1, 12, X12040, 2, 20071111, 2159, 23.5053, 178.9917, 5738,   3169.4, 2,   1.5406, 2,  34.6688, 2,  34.6685, 2,    133.7, 2,    133.1, 2,   151.19, 2,    37.39, 2,     0.00, 2,     2.61, 2,    0.002, 2,    0.001, 2,    0.000, 2, -999.000, 9,   -999.0, 9,   -999.0, 9, -999.0000,   -999.00,   -999.0, 9,   -999.0,  -999.00, 9,   -999.0,   1.3066, 27.7583,   1.5405, 2, 9, 0.45, 0.14, 0.01, 0.017,  -999.00, 9, -999.00, -999.00, 9, -999.00
49NZ20071008, P14N, 78, 1, 11, X12047, 2, 20071111, 2159, 23.5053, 178.9917, 5738,   3419.8, 2,   1.5076, 2,  34.6748, 2,  34.6743, 2,    139.8, 2,    139.7, 2,   149.35, 2,    36.91, 2,     0.00, 2,     2.59, 2, -999.000, 9, -999.000, 9, -999.000, 9, -999.000, 9,   -999.0, 9,   -999.0, 9, -999.0000,   -999.00,   -999.0, 9,   -999.0,  -999.00, 9,   -999.0,   1.2495, 27.7671,   1.5076, 2, 9, 0.45, 0.14, 0.01, 0.016,  -999.00, 9, -999.00, -999.00, 9, -999.00
49NZ20071008, P14N, 78, 1, 10, X12012, 2, 20071111, 2159, 23.5053, 178.9917, 5738,   3669.1, 2,   1.4811, 2,  34.6794, 2,  34.6794, 2,    145.3, 2,    144.9, 2,   147.79, 2,    36.64, 2,     0.00, 2,     2.56, 2, -999.000, 9, -999.000, 9, -999.000, 9, -999.000, 9,   -999.0, 9,   -999.0, 9, -999.0000,   -999.00,   -999.0, 9,   -999.0,  -999.00, 9,   -999.0,   1.1980, 27.7743,   1.4811, 2, 9, 0.44, 0.14, 0.01, 0.016,  -999.00, 9, -999.00, -999.00, 9, -999.00
49NZ20071008, P14N, 78, 1, 9, X12015, 2, 20071111, 2159, 23.5053, 178.9917, 5738,   3918.9, 2,   1.4663, 2,  34.6831, 2,  34.6830, 2,    150.4, 2,    150.0, 2,   145.51, 2,    36.17, 2,     0.00, 2,     2.52, 2,    0.000, 2,    0.001, 2,    0.000, 2, -999.000, 9,   -999.0, 9,   -999.0, 9, -999.0000,   -999.00,   -999.0, 9,   -999.0,  -999.00, 9,   -999.0,   1.1571, 27.7801,   1.4663, 2, 9, 0.44, 0.13, 0.01, 0.016,  -999.00, 9, -999.00, -999.00, 9, -999.00
49NZ20071008, P14N, 78, 1, 8, X12046, 2, 20071111, 2159, 23.5053, 178.9917, 5738,   4170.6, 2,   1.4504, 2,  34.6868, 2,  34.6867, 6,    155.6, 2,    155.3, 2,   144.00, 2,    35.87, 2,     0.00, 2,     2.50, 2, -999.000, 9, -999.000, 9, -999.000, 9, -999.000, 9,   -999.0, 9,   -999.0, 9, -999.0000,   -999.00,   -999.0, 9,   -999.0,  -999.00, 9,   -999.0,   1.1142, 27.7860,   1.4504, 2, 9, 0.44, 0.13, 0.01, 0.016,  -999.00, 9, -999.00, -999.00, 9, -999.00
49NZ20071008, P14N, 78, 1, 7, X12044, 2, 20071111, 2159, 23.5053, 178.9917, 5738,   4421.4, 2,   1.4375, 2,  34.6902, 2,  34.6904, 2,    161.6, 2,    162.0, 2,   139.70, 2,    35.42, 2,     0.00, 2,     2.47, 2, -999.000, 9, -999.000, 9, -999.000, 9, -999.000, 9,   -999.0, 9,   -999.0, 9, -999.0000,   -999.00,   -999.0, 9,   -999.0,  -999.00, 9,   -999.0,   1.0734, 27.7915,   1.4374, 2, 9, 0.43, 0.13, 0.01, 0.016,  -999.00, 9, -999.00, -999.00, 9, -999.00
49NZ20071008, P14N, 78, 1, 6, X12048, 2, 20071111, 2159, 23.5053, 178.9917, 5738,   4669.9, 2,   1.4344, 2,  34.6929, 2,  34.6929, 2,    166.2, 2,    166.6, 2,   136.28, 2,    34.91, 2,     0.00, 2,     2.44, 2,    0.000, 2,    0.000, 2,    0.000, 2, -999.000, 9,   -999.0, 9,   -999.0, 9, -999.0000,   -999.00,   -999.0, 9,   -999.0,  -999.00, 9,   -999.0,   1.0417, 27.7958,   1.4343, 2, 9, 0.42, 0.13, 0.01, 0.016,  -999.00, 9, -999.00, -999.00, 9, -999.00
49NZ20071008, P14N, 78, 1, 5, X12014, 2, 20071111, 2159, 23.5053, 178.9917, 5738,   4919.2, 2,   1.4414, 2,  34.6948, 2,  34.6946, 2,    170.1, 2,    170.1, 2,   134.66, 2,    34.83, 2,     0.00, 2,     2.42, 2, -999.000, 9, -999.000, 9, -999.000, 9, -999.000, 9,   -999.0, 9,   -999.0, 9, -999.0000,   -999.00,   -999.0, 9,   -999.0,  -999.00, 9,   -999.0,   1.0189, 27.7989,   1.4413, 2, 9, 0.42, 0.13, 0.01, 0.016,  -999.00, 9, -999.00, -999.00, 9, -999.00
49NZ20071008, P14N, 78, 1, 4, X12006, 2, 20071111, 2159, 23.5053, 178.9917, 5738,   5170.1, 2,   1.4525, 2,  34.6967, 2,  34.6964, 2,    173.4, 2,    173.4, 2,   132.59, 2,    34.61, 2,     0.00, 2,     2.40, 2, -999.000, 9, -999.000, 9, -999.000, 9, -999.000, 9,   -999.0, 9,   -999.0, 9, -999.0000,   -999.00,   -999.0, 9,   -999.0,  -999.00, 9,   -999.0,   0.9990, 27.8017,   1.4525, 2, 9, 0.41, 0.13, 0.01, 0.016,  -999.00, 9, -999.00, -999.00, 9, -999.00
49NZ20071008, P14N, 78, 1, 3, X12013, 2, 20071111, 2159, 23.5053, 178.9917, 5738,   5418.8, 2,   1.4724, 2,  34.6976, 2,  34.6974, 2,    175.4, 2,    175.2, 2,   131.30, 2,    34.53, 2,     0.00, 2,     2.40, 2,    0.000, 2,    0.003, 2,    0.000, 2, -999.000, 9,   -999.0, 9,   -999.0, 9, -999.0000,   -999.00,   -999.0, 9,   -999.0,  -999.00, 9,   -999.0,   0.9871, 27.8032,   1.4724, 2, 9, 0.41, 0.13, 0.01, 0.016,  -999.00, 9, -999.00, -999.00, 9, -999.00
49NZ20071008, P14N, 78, 1, 2, X12002, 2, 20071111, 2159, 23.5053, 178.9917, 5738,   5668.1, 2,   1.4965, 2,  34.6982, 2,  34.6983, 2,    176.8, 2,    176.7, 2,   130.35, 2,    34.34, 2,     0.00, 2,     2.39, 2, -999.000, 9, -999.000, 9, -999.000, 9, -999.000, 9,   -999.0, 9,   -999.0, 9, -999.0000,   -999.00,   -999.0, 9,   -999.0,  -999.00, 9,   -999.0,   0.9784, 27.8043,   1.4965, 2, 9, 0.41, 0.13, 0.01, 0.016,  -999.00, 9, -999.00, -999.00, 9, -999.00
49NZ20071008, P14N, 78, 1, 1, X12001, 2, 20071111, 2159, 23.5053, 178.9917, 5738,   5830.0, 2,   1.5138, 2,  34.6985, 2,  34.6985, 6,    177.4, 2,    177.4, 2,   130.00, 2,    34.30, 2,     0.00, 2,     2.39, 2,    0.000, 2,    0.001, 2,    0.000, 2, -999.000, 9,   -999.0, 9,   -999.0, 9, -999.0000,   -999.00,   -999.0, 9,   -999.0,  -999.00, 9,   -999.0,   0.9739, 27.8048,   1.5137, 2, 9, 0.40, 0.13, 0.01, 0.016,  -999.00, 9, -999.00, -999.00, 9, -999.00