BOTTLE,20221005CCHSIOAMB
EXPOCODE,SECT_ID,STNNBR,CASTNO,SAMPNO,BTLNBR,BTLNBR_FLAG_W,DATE,TIME,LATITUDE,LONGITUDE,DEPTH,CTDPRS,CTDPRS_FLAG_W,CTDTMP,CTDTMP_FLAG_W,CTDSAL,CTDSAL_FLAG_W,SALNTY,SALNTY_FLAG_W,CTDOXY,CTDOXY_FLAG_W,OXYGEN,OXYGEN_FLAG_W,SILCAT,SILCAT_FLAG_W,NITRAT,NITRAT_FLAG_W,NITRIT,NITRIT_FLAG_W,PHSPHT,PHSPHT_FLAG_W,CFC-11,CFC-11_FLAG_W,CFC-12,CFC-12_FLAG_W,CFC113,CFC113_FLAG_W,CCL4,CCL4_FLAG_W,TCARBN,TCARBN_FLAG_W,ALKALI,ALKALI_FLAG_W,PH_TOT,PH_TMP,DELC14,DELC14_FLAG_W,C14ERR,DELC13,DELC13_FLAG_W,C13ERR,THETA,SIG0,SBE35,SBE35_FLAG_W,PH_TOT_FLAG_W,SILUNC,NRAUNC,NRIUNC,PHPUNC,CS-137,CS-137_FLAG_W,CS137ER,PLUTO,PLUTO_FLAG_W,PLUTOER
,,,,,,,,,,,METERS,DBAR,,ITS-90,,PSS-78,,PSS-78,,UMOL/KG,,UMOL/KG,,UMOL/KG,,UMOL/KG,,UMOL/KG,,UMOL/KG,,PMOL/KG,,PMOL/KG,,PMOL/KG,,PMOL/KG,,UMOL/KG,,UMOL/KG,,,DEG C,/MILLE,,/MILLE,/MILLE,,/MILLE,DEG C,KG/M^3,ITS-90,,,UMOL/KG,UMOL/KG,UMOL/KG,UMOL/KG,DM/.1MG,,BQ/M^3,MBQ/M^3,,MBQ/M^3
49NZ20071008, P14N, 105, 1, 36, X12042, 2, 20071118, 0814, 10.0092, 178.9947, 5521,      9.7, 2,  28.2808, 2,  34.1696, 2,  34.1695, 2,    197.5, 2,    197.1, 2,     0.96, 2,     0.05, 2,     0.01, 2,     0.14, 2,    1.475, 2,    0.919, 2,    0.245, 4, -999.000, 9,   -999.0, 9,   -999.0, 9, -999.0000,   -999.00,   -999.0, 9,   -999.0,  -999.00, 9,   -999.0,  28.2785, 21.6792,  28.2786, 2, 9, 0.12, 0.03, 0.01, 0.019,  -999.00, 9, -999.00, -999.00, 9, -999.00
49NZ20071008, P14N, 105, 1, 35, X12041, 2, 20071118, 0814, 10.0092, 178.9947, 5521,     50.4, 2,  28.2969, 2,  34.1813, 2,  34.1857, 2,    197.6, 2,    197.2, 2,     0.97, 2,     0.04, 2,     0.01, 2,     0.14, 2,    1.480, 2,    0.934, 2,    0.253, 4, -999.000, 9,   -999.0, 9,   -999.0, 9, -999.0000,   -999.00,   -999.0, 9,   -999.0,  -999.00, 9,   -999.0,  28.2850, 21.6859,  28.2920, 2, 9, 0.12, 0.03, 0.01, 0.018,  -999.00, 9, -999.00, -999.00, 9, -999.00
49NZ20071008, P14N, 105, 1, 34, X12016, 2, 20071118, 0814, 10.0092, 178.9947, 5521,    100.5, 2,  23.2466, 2,  35.0110, 2,  35.0036, 2,    192.8, 2,    196.5, 2,     1.46, 2,     0.26, 2,     0.10, 2,     0.18, 2,    1.931, 2,    1.182, 2,    0.298, 4, -999.000, 9,   -999.0, 9,   -999.0, 9, -999.0000,   -999.00,   -999.0, 9,   -999.0,  -999.00, 9,   -999.0,  23.2259, 23.8766,  23.2629, 2, 9, 0.12, 0.03, 0.01, 0.016,  -999.00, 9, -999.00, -999.00, 9, -999.00
49NZ20071008, P14N, 105, 1, 33, X12033, 2, 20071118, 0814, 10.0092, 178.9947, 5521,    149.9, 2,  15.0879, 2,  34.4822, 2,  34.4826, 2,    134.5, 2,    143.8, 2,     9.71, 2,    12.48, 2,     0.03, 2,     1.03, 2,    2.379, 6,    1.336, 6,    0.059, 6, -999.000, 9,   -999.0, 9,   -999.0, 9, -999.0000,   -999.00,   -999.0, 9,   -999.0,  -999.00, 9,   -999.0,  15.0652, 25.5584,  15.1285, 2, 9, 0.14, 0.07, 0.01, 0.013,  -999.00, 9, -999.00, -999.00, 9, -999.00
49NZ20071008, P14N, 105, 1, 32, X12038, 2, 20071118, 0814, 10.0092, 178.9947, 5521,    199.2, 2,  11.3972, 2,  34.4619, 2,  34.4722, 2,     78.9, 2,     65.3, 2,    25.06, 2,    27.18, 2,     0.01, 2,     2.07, 2,    1.423, 2,    0.737, 2,    0.024, 2, -999.000, 9,   -999.0, 9,   -999.0, 9, -999.0000,   -999.00,   -999.0, 9,   -999.0,  -999.00, 9,   -999.0,  11.3722, 26.2886,  11.3965, 2, 9, 0.17, 0.11, 0.01, 0.015,  -999.00, 9, -999.00, -999.00, 9, -999.00
49NZ20071008, P14N, 105, 1, 31, X12003, 2, 20071118, 0814, 10.0092, 178.9947, 5521,    252.6, 2,  10.3526, 2,  34.6191, 2,  34.6166, 6,     22.0, 2,     27.7, 2,    31.66, 2,    33.42, 2,     0.01, 2,     2.44, 2, -999.000, 5, -999.000, 5, -999.000, 5, -999.000, 9,   -999.0, 9,   -999.0, 9, -999.0000,   -999.00,   -999.0, 9,   -999.0,  -999.00, 9,   -999.0,  10.3227, 26.5989,  10.3546, 2, 9, 0.19, 0.13, 0.01, 0.016,  -999.00, 9, -999.00, -999.00, 9, -999.00
49NZ20071008, P14N, 105, 1, 30, X12008, 2, 20071118, 0814, 10.0092, 178.9947, 5521,    279.5, 2,   9.9899, 2,  34.6166, 2,  34.6151, 2,     27.8, 2,     30.1, 2,    33.21, 2,    33.92, 2,     0.01, 2,     2.46, 2,    0.409, 2,    0.221, 2,    0.016, 2, -999.000, 9,   -999.0, 9,   -999.0, 9, -999.0000,   -999.00,   -999.0, 9,   -999.0,  -999.00, 9,   -999.0,   9.9575, 26.6598,   9.9898, 2, 9, 0.19, 0.13, 0.01, 0.016,  -999.00, 9, -999.00, -999.00, 9, -999.00
49NZ20071008, P14N, 105, 1, 29, X12035, 2, 20071118, 0814, 10.0092, 178.9947, 5521,    371.1, 2,   9.1461, 2,  34.6163, 2,  34.6149, 2,     30.1, 2,     37.1, 2,    36.80, 2,    34.98, 2,     0.01, 2,     2.52, 2,    0.245, 2,    0.135, 2,    0.013, 2, -999.000, 9,   -999.0, 9,   -999.0, 9, -999.0000,   -999.00,   -999.0, 9,   -999.0,  -999.00, 9,   -999.0,   9.1052, 26.8008,   9.1472, 2, 9, 0.20, 0.13, 0.01, 0.016,  -999.00, 9, -999.00, -999.00, 9, -999.00
49NZ20071008, P14N, 105, 1, 28, X12034, 2, 20071118, 0814, 10.0092, 178.9947, 5521,    469.7, 2,   8.2713, 2,  34.5814, 2,  34.5794, 6,     42.4, 2,     43.0, 2,    42.94, 2,    36.13, 2,     0.01, 2,     2.61, 2,    0.150, 2,    0.083, 2,    0.004, 2, -999.000, 9,   -999.0, 9,   -999.0, 9, -999.0000,   -999.00,   -999.0, 9,   -999.0,  -999.00, 9,   -999.0,   8.2223, 26.9116,   8.2725, 2, 9, 0.21, 0.13, 0.01, 0.017,  -999.00, 9, -999.00, -999.00, 9, -999.00
49NZ20071008, P14N, 105, 1, 27, X12049, 2, 20071118, 0814, 10.0092, 178.9947, 5521,    569.9, 2,   7.5246, 2,  34.5538, 2,  34.5528, 2,     44.3, 2,     42.5, 2,    49.76, 2,    37.40, 2,     0.01, 2,     2.73, 2,    0.087, 2,    0.048, 2,    0.007, 2, -999.000, 9,   -999.0, 9,   -999.0, 9, -999.0000,   -999.00,   -999.0, 9,   -999.0,  -999.00, 9,   -999.0,   7.4679, 27.0013,   7.5250, 2, 9, 0.23, 0.14, 0.01, 0.017,  -999.00, 9, -999.00, -999.00, 9, -999.00
49NZ20071008, P14N, 105, 1, 26, X12032, 2, 20071118, 0814, 10.0092, 178.9947, 5521,    669.5, 2,   6.7690, 2,  34.5331, 2,  34.5321, 2,     42.1, 2,     42.5, 2,    58.59, 2,    39.06, 2,     0.01, 2,     2.83, 2,    0.046, 6,    0.023, 6,    0.000, 6, -999.000, 9,   -999.0, 9,   -999.0, 9, -999.0000,   -999.00,   -999.0, 9,   -999.0,  -999.00, 9,   -999.0,   6.7058, 27.0912,   6.7692, 2, 9, 0.25, 0.14, 0.01, 0.017,  -999.00, 9, -999.00, -999.00, 9, -999.00
49NZ20071008, P14N, 105, 1, 25, X12043, 2, 20071118, 0814, 10.0092, 178.9947, 5521,    771.1, 2,   5.9762, 2,  34.5289, 2,  34.5286, 2,     48.0, 2,     44.9, 2,    68.71, 2,    40.32, 2,     0.01, 2,     2.93, 2,    0.017, 2,    0.007, 2,    0.000, 2, -999.000, 9,   -999.0, 9,   -999.0, 9, -999.0000,   -999.00,   -999.0, 9,   -999.0,  -999.00, 9,   -999.0,   5.9075, 27.1921,   5.9767, 2, 9, 0.27, 0.15, 0.01, 0.017,  -999.00, 9, -999.00, -999.00, 9, -999.00
49NZ20071008, P14N, 105, 1, 24, X12030, 2, 20071118, 0814, 10.0092, 178.9947, 5521,    870.7, 2,   5.2666, 2,  34.5345, 2,  34.5343, 2,     52.5, 2,     52.9, 2,    78.89, 2,    40.86, 2,     0.01, 2,     2.95, 2,    0.005, 2,    0.002, 2,    0.000, 2, -999.000, 9,   -999.0, 9,   -999.0, 9, -999.0000,   -999.00,   -999.0, 9,   -999.0,  -999.00, 9,   -999.0,   5.1931, 27.2837,   5.2668, 2, 9, 0.29, 0.15, 0.01, 0.017,  -999.00, 9, -999.00, -999.00, 9, -999.00
49NZ20071008, P14N, 105, 1, 23, X12027, 2, 20071118, 0814, 10.0092, 178.9947, 5521,    969.4, 2,   4.7378, 2,  34.5443, 2,  34.5442, 6,     54.5, 2,     55.6, 2,    88.48, 2,    41.36, 2,     0.01, 2,     2.98, 2,    0.000, 2,    0.000, 2,    0.000, 2, -999.000, 9,   -999.0, 9,   -999.0, 9, -999.0000,   -999.00,   -999.0, 9,   -999.0,  -999.00, 9,   -999.0,   4.6591, 27.3527,   4.7376, 2, 9, 0.31, 0.15, 0.01, 0.017,  -999.00, 9, -999.00, -999.00, 9, -999.00
49NZ20071008, P14N, 105, 1, 22, X12028, 2, 20071118, 0814, 10.0092, 178.9947, 5521,   1129.6, 2,   4.0969, 2,  34.5606, 2,  34.5606, 2,     64.8, 2,     62.8, 2,   100.97, 2,    41.14, 2,     0.01, 2,     2.98, 2,    0.000, 2,    0.000, 2,    0.000, 2, -999.000, 9,   -999.0, 9,   -999.0, 9, -999.0000,   -999.00,   -999.0, 9,   -999.0,  -999.00, 9,   -999.0,   4.0094, 27.4357,   4.0960, 2, 9, 0.34, 0.15, 0.01, 0.017,  -999.00, 9, -999.00, -999.00, 9, -999.00
49NZ20071008, P14N, 105, 1, 21, X12009, 2, 20071118, 0814, 10.0092, 178.9947, 5521,   1331.0, 2,   3.4070, 2,  34.5833, 2,  34.5826, 3,     80.3, 2,     78.6, 2,   114.13, 2,    40.58, 2,     0.01, 2,     2.92, 2,    0.000, 2,    0.000, 2,    0.000, 2, -999.000, 9,   -999.0, 9,   -999.0, 9, -999.0000,   -999.00,   -999.0, 9,   -999.0,  -999.00, 9,   -999.0,   3.3089, 27.5236,   3.4079, 2, 9, 0.37, 0.15, 0.01, 0.017,  -999.00, 9, -999.00, -999.00, 9, -999.00
49NZ20071008, P14N, 105, 1, 20, X12026, 2, 20071118, 0814, 10.0092, 178.9947, 5521,   1531.7, 2,   2.9237, 2,  34.6039, 2,  34.6041, 2,     85.9, 2,     84.8, 2,   124.34, 2,    40.42, 2,     0.01, 2,     2.89, 2,    0.000, 2,    0.000, 2,    0.000, 2, -999.000, 9,   -999.0, 9,   -999.0, 9, -999.0000,   -999.00,   -999.0, 9,   -999.0,  -999.00, 9,   -999.0,   2.8140, 27.5858,   2.9238, 2, 9, 0.39, 0.15, 0.01, 0.017,  -999.00, 9, -999.00, -999.00, 9, -999.00
49NZ20071008, P14N, 105, 1, 19, X12025, 2, 20071118, 0814, 10.0092, 178.9947, 5521,   1730.1, 2,   2.5511, 2,  34.6175, 2,  34.6178, 2,     93.1, 2,     92.8, 2,   132.82, 2,    40.03, 2,     0.01, 2,     2.85, 2,    0.000, 2,    0.000, 2,    0.000, 2, -999.000, 9,   -999.0, 9,   -999.0, 9, -999.0000,   -999.00,   -999.0, 9,   -999.0,  -999.00, 9,   -999.0,   2.4295, 27.6301,   2.5514, 2, 9, 0.41, 0.14, 0.01, 0.017,  -999.00, 9, -999.00, -999.00, 9, -999.00
49NZ20071008, P14N, 105, 1, 18, X12024, 2, 20071118, 0814, 10.0092, 178.9947, 5521,   1931.2, 2,   2.3291, 2,  34.6311, 2,  34.6311, 2,     99.7, 2,     99.6, 2,   137.36, 2,    39.61, 2,     0.01, 2,     2.81, 2, -999.000, 9, -999.000, 9, -999.000, 9, -999.000, 9,   -999.0, 9,   -999.0, 9, -999.0000,   -999.00,   -999.0, 9,   -999.0,  -999.00, 9,   -999.0,   2.1936, 27.6606,   2.3293, 2, 9, 0.42, 0.14, 0.01, 0.017,  -999.00, 9, -999.00, -999.00, 9, -999.00
49NZ20071008, P14N, 105, 1, 17, X12023, 2, 20071118, 0814, 10.0092, 178.9947, 5521,   2130.0, 2,   2.1424, 2,  34.6411, 2,  34.6405, 3,    105.6, 2,    105.0, 2,   141.55, 2,    39.27, 2,     0.01, 2,     2.78, 2,    0.000, 2,    0.000, 2,    0.000, 2, -999.000, 9,   -999.0, 9,   -999.0, 9, -999.0000,   -999.00,   -999.0, 9,   -999.0,  -999.00, 9,   -999.0,   1.9926, 27.6847,   2.1425, 2, 9, 0.43, 0.14, 0.01, 0.017,  -999.00, 9, -999.00, -999.00, 9, -999.00
49NZ20071008, P14N, 105, 1, 16, X12022, 2, 20071118, 0814, 10.0092, 178.9947, 5521,   2330.7, 2,   1.9813, 2,  34.6514, 2,  34.6516, 2,    111.3, 2,    110.9, 2,   144.79, 2,    39.02, 2,     0.01, 2,     2.74, 2, -999.000, 9, -999.000, 9, -999.000, 9, -999.000, 9,   -999.0, 9,   -999.0, 9, -999.0000,   -999.00,   -999.0, 9,   -999.0,  -999.00, 9,   -999.0,   1.8166, 27.7067,   1.9815, 2, 9, 0.44, 0.14, 0.01, 0.017,  -999.00, 9, -999.00, -999.00, 9, -999.00
49NZ20071008, P14N, 105, 1, 15, X12021, 2, 20071118, 0814, 10.0092, 178.9947, 5521,   2528.3, 2,   1.8761, 2,  34.6584, 2,  34.6588, 6,    115.8, 2,    116.1, 2,   146.61, 2,    38.51, 2,     0.01, 2,     2.71, 2,    0.001, 2,    0.000, 2,    0.000, 2, -999.000, 9,   -999.0, 9,   -999.0, 9, -999.0000,   -999.00,   -999.0, 9,   -999.0,  -999.00, 9,   -999.0,   1.6955, 27.7216,   1.8762, 2, 9, 0.44, 0.14, 0.01, 0.017,  -999.00, 9, -999.00, -999.00, 9, -999.00
49NZ20071008, P14N, 105, 1, 14, X12020, 2, 20071118, 0814, 10.0092, 178.9947, 5521,   2731.6, 2,   1.7942, 2,  34.6632, 2,  34.6633, 2,    120.3, 2,    120.2, 2,   148.10, 2,    38.36, 2,     0.01, 2,     2.69, 2, -999.000, 9, -999.000, 9, -999.000, 9, -999.000, 9,   -999.0, 9,   -999.0, 9, -999.0000,   -999.00,   -999.0, 9,   -999.0,  -999.00, 9,   -999.0,   1.5965, 27.7328,   1.7943, 2, 9, 0.44, 0.14, 0.01, 0.017,  -999.00, 9, -999.00, -999.00, 9, -999.00
49NZ20071008, P14N, 105, 1, 13, X12019, 2, 20071118, 0814, 10.0092, 178.9947, 5521,   2928.9, 2,   1.7361, 2,  34.6677, 2,  34.6681, 2,    124.8, 2,    124.5, 2,   148.54, 2,    38.12, 2,     0.01, 2,     2.67, 2,    0.001, 2,    0.000, 2,    0.000, 2, -999.000, 9,   -999.0, 9,   -999.0, 9, -999.0000,   -999.00,   -999.0, 9,   -999.0,  -999.00, 9,   -999.0,   1.5210, 27.7420,   1.7362, 2, 9, 0.45, 0.14, 0.01, 0.017,  -999.00, 9, -999.00, -999.00, 9, -999.00
49NZ20071008, P14N, 105, 1, 12, X12040, 2, 20071118, 0814, 10.0092, 178.9947, 5521,   3168.0, 2,   1.6453, 2,  34.6735, 2,  34.6737, 2,    131.6, 2,    131.3, 2,   148.99, 2,    37.53, 2,     0.01, 2,     2.62, 2, -999.000, 9, -999.000, 9, -999.000, 9, -999.000, 9,   -999.0, 9,   -999.0, 9, -999.0000,   -999.00,   -999.0, 9,   -999.0,  -999.00, 9,   -999.0,   1.4090, 27.7547,   1.6454, 2, 9, 0.45, 0.14, 0.01, 0.017,  -999.00, 9, -999.00, -999.00, 9, -999.00
49NZ20071008, P14N, 105, 1, 11, X12047, 2, 20071118, 0814, 10.0092, 178.9947, 5521,   3418.4, 2,   1.5583, 2,  34.6796, 2,  34.6797, 2,    139.2, 2,    139.9, 2,   147.53, 2,    37.09, 2,     0.00, 2,     2.58, 2,    0.002, 2,    0.001, 2,    0.000, 2, -999.000, 9,   -999.0, 9,   -999.0, 9, -999.0000,   -999.00,   -999.0, 9,   -999.0,  -999.00, 9,   -999.0,   1.2990, 27.7674,   1.5584, 2, 9, 0.44, 0.14, 0.01, 0.016,  -999.00, 9, -999.00, -999.00, 9, -999.00
49NZ20071008, P14N, 105, 1, 10, X12012, 2, 20071118, 0814, 10.0092, 178.9947, 5521,   3669.1, 2,   1.4913, 2,  34.6844, 2,  34.6845, 2,    147.6, 2,    148.5, 2,   144.47, 2,    36.27, 2,     0.01, 2,     2.53, 2, -999.000, 9, -999.000, 9, -999.000, 9, -999.000, 9,   -999.0, 9,   -999.0, 9, -999.0000,   -999.00,   -999.0, 9,   -999.0,  -999.00, 9,   -999.0,   1.2079, 27.7777,   1.4913, 2, 9, 0.44, 0.13, 0.01, 0.016,  -999.00, 9, -999.00, -999.00, 9, -999.00
49NZ20071008, P14N, 105, 1, 9, X12015, 2, 20071118, 0814, 10.0092, 178.9947, 5521,   3920.0, 2,   1.4151, 2,  34.6898, 2,  34.6895, 6,    157.1, 2,    158.9, 2,   140.93, 2,    35.60, 2,     0.01, 2,     2.48, 2,    0.002, 2,    0.001, 2,    0.000, 2, -999.000, 9,   -999.0, 9,   -999.0, 9, -999.0000,   -999.00,   -999.0, 9,   -999.0,  -999.00, 9,   -999.0,   1.1072, 27.7889,   1.4152, 2, 9, 0.43, 0.13, 0.01, 0.016,  -999.00, 9, -999.00, -999.00, 9, -999.00
49NZ20071008, P14N, 105, 1, 8, X12046, 2, 20071118, 0814, 10.0092, 178.9947, 5521,   4169.9, 2,   1.3574, 2,  34.6945, 2,  34.6943, 2,    167.7, 2,    168.8, 2,   135.78, 2,    34.94, 2,     0.01, 2,     2.43, 2, -999.000, 9, -999.000, 9, -999.000, 9, -999.000, 9,   -999.0, 9,   -999.0, 9, -999.0000,   -999.00,   -999.0, 9,   -999.0,  -999.00, 9,   -999.0,   1.0239, 27.7983,   1.3574, 2, 9, 0.42, 0.13, 0.01, 0.016,  -999.00, 9, -999.00, -999.00, 9, -999.00
49NZ20071008, P14N, 105, 1, 7, X12044, 2, 20071118, 0814, 10.0092, 178.9947, 5521,   4419.8, 2,   1.3179, 2,  34.6984, 2,  34.6983, 2,    175.5, 2,    176.8, 2,   131.28, 2,    34.40, 2,     0.01, 2,     2.39, 2,    0.000, 2,    0.000, 2,    0.000, 2, -999.000, 9,   -999.0, 9,   -999.0, 9, -999.0000,   -999.00,   -999.0, 9,   -999.0,  -999.00, 9,   -999.0,   0.9576, 27.8058,   1.3179, 2, 9, 0.41, 0.13, 0.01, 0.016,  -999.00, 9, -999.00, -999.00, 9, -999.00
49NZ20071008, P14N, 105, 1, 6, X12048, 2, 20071118, 0814, 10.0092, 178.9947, 5521,   4671.1, 2,   1.3090, 2,  34.7006, 2,  34.7006, 2,    181.3, 2,    181.4, 2,   128.70, 2,    34.06, 2,     0.01, 2,     2.37, 2,    0.000, 2,    0.003, 2,    0.000, 2, -999.000, 9,   -999.0, 9,   -999.0, 9, -999.0000,   -999.00,   -999.0, 9,   -999.0,  -999.00, 9,   -999.0,   0.9201, 27.8100,   1.3091, 2, 9, 0.40, 0.13, 0.01, 0.016,  -999.00, 9, -999.00, -999.00, 9, -999.00
49NZ20071008, P14N, 105, 1, 5, X12014, 2, 20071118, 0814, 10.0092, 178.9947, 5521,   4917.7, 2,   1.3111, 2,  34.7023, 2,  34.7026, 2,    185.0, 2,    185.1, 2,   126.56, 2,    33.73, 2,     0.01, 2,     2.34, 2,    0.000, 2,    0.000, 2,    0.000, 2, -999.000, 9,   -999.0, 9,   -999.0, 9, -999.0000,   -999.00,   -999.0, 9,   -999.0,  -999.00, 9,   -999.0,   0.8930, 27.8132,   1.3111, 2, 9, 0.40, 0.13, 0.01, 0.016,  -999.00, 9, -999.00, -999.00, 9, -999.00
49NZ20071008, P14N, 105, 1, 4, X12006, 2, 20071118, 0814, 10.0092, 178.9947, 5521,   5168.0, 2,   1.3285, 2,  34.7031, 2,  34.7034, 2,    186.9, 2,    187.0, 2,   125.29, 2,    33.59, 2,     0.01, 2,     2.34, 2,    0.000, 2,    0.002, 2,    0.000, 2, -999.000, 9,   -999.0, 9,   -999.0, 9, -999.0000,   -999.00,   -999.0, 9,   -999.0,  -999.00, 9,   -999.0,   0.8795, 27.8147,   1.3285, 2, 9, 0.39, 0.13, 0.01, 0.016,  -999.00, 9, -999.00, -999.00, 9, -999.00
49NZ20071008, P14N, 105, 1, 3, X12013, 2, 20071118, 0814, 10.0092, 178.9947, 5521,   5419.7, 2,   1.3561, 2,  34.7034, 2,  34.7032, 2,    187.7, 2,    187.6, 2,   124.99, 2,    33.61, 2,     0.01, 2,     2.33, 2,    0.001, 2,    0.002, 2,    0.000, 2, -999.000, 9,   -999.0, 9,   -999.0, 9, -999.0000,   -999.00,   -999.0, 9,   -999.0,  -999.00, 9,   -999.0,   0.8748, 27.8152,   1.3562, 2, 9, 0.39, 0.13, 0.01, 0.016,  -999.00, 9, -999.00, -999.00, 9, -999.00
49NZ20071008, P14N, 105, 1, 2, X12002, 9, 20071118, 0814, 10.0092, 178.9947, 5521,      9.8, 2,  28.2863, 2,  34.1695, 2, -999.0000, 9,    197.6, 2,   -999.0, 9,  -999.00, 9,  -999.00, 9,  -999.00, 9,  -999.00, 9, -999.000, 9, -999.000, 9, -999.000, 9, -999.000, 9,   -999.0, 9,   -999.0, 9, -999.0000,   -999.00,   -999.0, 9,   -999.0,  -999.00, 9,   -999.0,  28.2840, 21.6774,  28.2846, 2, 9, -999.00, -999.00, -999.00, -999.000,  -999.00, 9, -999.00, -999.00, 9, -999.00
49NZ20071008, P14N, 105, 1, 1, X12001, 2, 20071118, 0814, 10.0092, 178.9947, 5521,   5619.0, 2,   1.3779, 2,  34.7035, 2,  34.7036, 6,    187.7, 2,    187.9, 2,   124.75, 2,    33.59, 2,     0.01, 2,     2.32, 2,    0.005, 2,    0.004, 2,    0.000, 2, -999.000, 9,   -999.0, 9,   -999.0, 9, -999.0000,   -999.00,   -999.0, 9,   -999.0,  -999.00, 9,   -999.0,   0.8705, 27.8156,   1.3780, 2, 9, 0.39, 0.13, 0.01, 0.016,  -999.00, 9, -999.00, -999.00, 9, -999.00