BOTTLE,20221005CCHSIOAMB
EXPOCODE,SECT_ID,STNNBR,CASTNO,SAMPNO,BTLNBR,BTLNBR_FLAG_W,DATE,TIME,LATITUDE,LONGITUDE,DEPTH,CTDPRS,CTDPRS_FLAG_W,CTDTMP,CTDTMP_FLAG_W,CTDSAL,CTDSAL_FLAG_W,SALNTY,SALNTY_FLAG_W,CTDOXY,CTDOXY_FLAG_W,OXYGEN,OXYGEN_FLAG_W,SILCAT,SILCAT_FLAG_W,NITRAT,NITRAT_FLAG_W,NITRIT,NITRIT_FLAG_W,PHSPHT,PHSPHT_FLAG_W,CFC-11,CFC-11_FLAG_W,CFC-12,CFC-12_FLAG_W,CFC113,CFC113_FLAG_W,CCL4,CCL4_FLAG_W,TCARBN,TCARBN_FLAG_W,ALKALI,ALKALI_FLAG_W,PH_TOT,PH_TMP,DELC14,DELC14_FLAG_W,C14ERR,DELC13,DELC13_FLAG_W,C13ERR,THETA,SIG0,SBE35,SBE35_FLAG_W,PH_TOT_FLAG_W,SILUNC,NRAUNC,NRIUNC,PHPUNC,CS-137,CS-137_FLAG_W,CS137ER,PLUTO,PLUTO_FLAG_W,PLUTOER
,,,,,,,,,,,METERS,DBAR,,ITS-90,,PSS-78,,PSS-78,,UMOL/KG,,UMOL/KG,,UMOL/KG,,UMOL/KG,,UMOL/KG,,UMOL/KG,,PMOL/KG,,PMOL/KG,,PMOL/KG,,PMOL/KG,,UMOL/KG,,UMOL/KG,,,DEG C,/MILLE,,/MILLE,/MILLE,,/MILLE,DEG C,KG/M^3,ITS-90,,,UMOL/KG,UMOL/KG,UMOL/KG,UMOL/KG,DM/.1MG,,BQ/M^3,MBQ/M^3,,MBQ/M^3
49NZ20071008, P14N, 46, 1, 36, X12042, 2, 20071103, 0045, 39.4792, 179.0182, 5603,      9.2, 2,  17.2515, 2,  33.9910, 2,  33.9910, 2,    241.2, 2,    242.8, 2,     3.09, 2,     0.14, 2,     0.02, 2,     0.14, 2,    2.422, 2,    1.454, 2,    0.284, 4, -999.000, 9,   -999.0, 9,   -999.0, 9, -999.0000,   -999.00,   -999.0, 9,   -999.0,  -999.00, 9,   -999.0,  17.2500, 24.6806,  17.2521, 2, 9, 0.13, 0.03, 0.01, 0.018,  -999.00, 9, -999.00, -999.00, 9, -999.00
49NZ20071008, P14N, 46, 1, 35, X12041, 2, 20071103, 0045, 39.4792, 179.0182, 5603,     50.3, 2,  17.2321, 2,  33.9940, 2,  33.9975, 2,    242.2, 2,    243.3, 2,     3.22, 2,     0.23, 2,     0.02, 2,     0.14, 2,    2.442, 2,    1.471, 2,    0.302, 4, -999.000, 9,   -999.0, 9,   -999.0, 9, -999.0000,   -999.00,   -999.0, 9,   -999.0,  -999.00, 9,   -999.0,  17.2238, 24.6892,  17.2302, 2, 9, 0.13, 0.03, 0.01, 0.018,  -999.00, 9, -999.00, -999.00, 9, -999.00
49NZ20071008, P14N, 46, 1, 34, X12016, 2, 20071103, 0045, 39.4792, 179.0182, 5603,    100.4, 2,  10.9819, 2,  34.2309, 2,  34.2298, 2,    240.7, 2,    240.3, 2,    15.05, 2,    12.35, 2,     0.04, 2,     0.93, 2,    3.216, 2,    1.855, 2,    0.263, 2, -999.000, 9,   -999.0, 9,   -999.0, 9, -999.0000,   -999.00,   -999.0, 9,   -999.0,  -999.00, 9,   -999.0,  10.9697, 26.1820,  10.9828, 2, 9, 0.15, 0.07, 0.01, 0.013,  -999.00, 9, -999.00, -999.00, 9, -999.00
49NZ20071008, P14N, 46, 1, 33, X12033, 2, 20071103, 0045, 39.4792, 179.0182, 5603,    150.7, 2,  10.0859, 2,  34.1665, 2,  34.1651, 2,    241.9, 2,    242.0, 2,    17.38, 2,    13.41, 2,     0.03, 2,     1.01, 2,    3.322, 6,    1.902, 6,    0.249, 6, -999.000, 9,   -999.0, 9,   -999.0, 9, -999.0000,   -999.00,   -999.0, 9,   -999.0,  -999.00, 9,   -999.0,  10.0685, 26.2895,  10.0864, 2, 9, 0.16, 0.07, 0.01, 0.013,  -999.00, 9, -999.00, -999.00, 9, -999.00
49NZ20071008, P14N, 46, 1, 32, X12038, 2, 20071103, 0045, 39.4792, 179.0182, 5603,    199.9, 2,   9.2317, 2,  34.0788, 2,  34.0775, 2,    247.0, 2,    249.6, 2,    18.91, 2,    13.98, 2,     0.03, 2,     1.07, 2,    3.449, 2,    1.967, 2,    0.261, 2, -999.000, 9,   -999.0, 9,   -999.0, 9, -999.0000,   -999.00,   -999.0, 9,   -999.0,  -999.00, 9,   -999.0,   9.2099, 26.3631,   9.2329, 2, 9, 0.16, 0.07, 0.01, 0.013,  -999.00, 9, -999.00, -999.00, 9, -999.00
49NZ20071008, P14N, 46, 1, 31, X12003, 2, 20071103, 0045, 39.4792, 179.0182, 5603,    250.5, 2,   8.7911, 2,  34.0610, 2,  34.0619, 6,    248.7, 2,    249.7, 2,    20.94, 2,    14.81, 2,     0.03, 2,     1.13, 2,    3.489, 2,    1.983, 2,    0.248, 2, -999.000, 9,   -999.0, 9,   -999.0, 9, -999.0000,   -999.00,   -999.0, 9,   -999.0,  -999.00, 9,   -999.0,   8.7645, 26.4200,   8.7918, 2, 9, 0.17, 0.07, 0.01, 0.013,  -999.00, 9, -999.00, -999.00, 9, -999.00
49NZ20071008, P14N, 46, 1, 30, X12008, 2, 20071103, 0045, 39.4792, 179.0182, 5603,    301.2, 2,   8.2943, 2,  34.0353, 2,  34.0332, 2,    224.1, 2,    224.3, 2,    27.05, 2,    18.16, 2,     0.02, 2,     1.36, 2,    3.351, 2,    1.870, 2,    0.224, 2, -999.000, 9,   -999.0, 9,   -999.0, 9, -999.0000,   -999.00,   -999.0, 9,   -999.0,  -999.00, 9,   -999.0,   8.2634, 26.4768,   8.2984, 2, 9, 0.18, 0.08, 0.01, 0.014,  -999.00, 9, -999.00, -999.00, 9, -999.00
49NZ20071008, P14N, 46, 1, 29, X12035, 2, 20071103, 0045, 39.4792, 179.0182, 5603,    400.8, 2,   6.4163, 2,  33.9512, 2,  33.9512, 2,    176.5, 2,    171.7, 2,    47.36, 2,    26.39, 2,     0.02, 2,     1.95, 2,    2.930, 2,    1.560, 2,    0.174, 2, -999.000, 9,   -999.0, 9,   -999.0, 9, -999.0000,   -999.00,   -999.0, 9,   -999.0,  -999.00, 9,   -999.0,   6.3806, 26.6752,   6.4162, 2, 9, 0.22, 0.11, 0.01, 0.015,  -999.00, 9, -999.00, -999.00, 9, -999.00
49NZ20071008, P14N, 46, 1, 28, X12034, 2, 20071103, 0045, 39.4792, 179.0182, 5603,    502.1, 2,   5.2473, 2,  33.9617, 2,  33.9642, 6,    129.8, 2,    124.7, 2,    66.69, 2,    32.64, 2,     0.02, 2,     2.40, 2,    2.327, 2,    1.184, 2,    0.123, 2, -999.000, 9,   -999.0, 9,   -999.0, 9, -999.0000,   -999.00,   -999.0, 9,   -999.0,  -999.00, 9,   -999.0,   5.2068, 26.8282,   5.2468, 2, 9, 0.27, 0.12, 0.01, 0.016,  -999.00, 9, -999.00, -999.00, 9, -999.00
49NZ20071008, P14N, 46, 1, 27, X12049, 2, 20071103, 0045, 39.4792, 179.0182, 5603,    600.9, 2,   4.6576, 2,  34.0711, 2,  34.0713, 2,     85.2, 2,     82.9, 2,    85.00, 2,    37.17, 2,     0.02, 2,     2.70, 2,    1.493, 2,    0.731, 2,    0.098, 2, -999.000, 9,   -999.0, 9,   -999.0, 9, -999.0000,   -999.00,   -999.0, 9,   -999.0,  -999.00, 9,   -999.0,   4.6113, 26.9823,   4.6591, 2, 9, 0.31, 0.14, 0.01, 0.017,  -999.00, 9, -999.00, -999.00, 9, -999.00
49NZ20071008, P14N, 46, 1, 26, X12032, 2, 20071103, 0045, 39.4792, 179.0182, 5603,    701.9, 2,   4.2514, 2,  34.1600, 2,  34.1602, 2,     57.8, 2,     59.2, 2,    99.17, 2,    39.70, 2,     0.02, 2,     2.87, 2,    0.935, 6,    0.449, 6,    0.048, 6, -999.000, 9,   -999.0, 9,   -999.0, 9, -999.0000,   -999.00,   -999.0, 9,   -999.0,  -999.00, 9,   -999.0,   4.1989, 27.0973,   4.2515, 2, 9, 0.34, 0.14, 0.01, 0.017,  -999.00, 9, -999.00, -999.00, 9, -999.00
49NZ20071008, P14N, 46, 1, 25, X12043, 2, 20071103, 0045, 39.4792, 179.0182, 5603,    802.4, 2,   3.9058, 2,  34.2165, 2,  34.2164, 2,     47.6, 2,     46.4, 2,   109.78, 2,    41.16, 2,     0.02, 2,     2.97, 2,    0.665, 2,    0.321, 2,    0.030, 2, -999.000, 9,   -999.0, 9,   -999.0, 9, -999.0000,   -999.00,   -999.0, 9,   -999.0,  -999.00, 9,   -999.0,   3.8473, 27.1784,   3.9071, 2, 9, 0.36, 0.15, 0.01, 0.017,  -999.00, 9, -999.00, -999.00, 9, -999.00
49NZ20071008, P14N, 46, 1, 24, X12030, 2, 20071103, 0045, 39.4792, 179.0182, 5603,    901.1, 2,   3.5615, 2,  34.2805, 2,  34.2798, 2,     36.2, 2,     35.3, 2,   120.48, 2,    42.28, 2,     0.02, 2,     3.05, 2,    0.362, 2,    0.171, 2,    0.014, 2, -999.000, 9,   -999.0, 9,   -999.0, 9, -999.0000,   -999.00,   -999.0, 9,   -999.0,  -999.00, 9,   -999.0,   3.4974, 27.2640,   3.5618, 2, 9, 0.38, 0.15, 0.01, 0.018,  -999.00, 9, -999.00, -999.00, 9, -999.00
49NZ20071008, P14N, 46, 1, 23, X12027, 2, 20071103, 0045, 39.4792, 179.0182, 5603,   1002.1, 2,   3.2821, 2,  34.3346, 2,  34.3337, 6,     31.0, 2,     29.9, 2,   129.33, 2,    43.03, 2,     0.01, 2,     3.10, 2,    0.194, 2,    0.092, 2,    0.014, 2, -999.000, 9,   -999.0, 9,   -999.0, 9, -999.0000,   -999.00,   -999.0, 9,   -999.0,  -999.00, 9,   -999.0,   3.2121, 27.3343,   3.2818, 2, 9, 0.40, 0.15, 0.01, 0.018,  -999.00, 9, -999.00, -999.00, 9, -999.00
49NZ20071008, P14N, 46, 1, 22, X12028, 2, 20071103, 0045, 39.4792, 179.0182, 5603,   1203.8, 2,   2.8949, 2,  34.4059, 2,  34.4067, 2,     24.6, 2,     25.2, 2,   141.97, 2,    43.83, 2,     0.01, 2,     3.15, 2,    0.066, 2,    0.030, 2,    0.000, 2, -999.000, 9,   -999.0, 9,   -999.0, 9, -999.0000,   -999.00,   -999.0, 9,   -999.0,  -999.00, 9,   -999.0,   2.8124, 27.4277,   2.8947, 2, 9, 0.43, 0.16, 0.01, 0.018,  -999.00, 9, -999.00, -999.00, 9, -999.00
49NZ20071008, P14N, 46, 1, 21, X12009, 2, 20071103, 0045, 39.4792, 179.0182, 5603,   1404.2, 2,   2.5942, 2,  34.4640, 2,  34.4629, 2,     28.4, 2,     26.3, 2,   151.23, 2,    44.01, 2,     0.01, 2,     3.15, 2,    0.031, 2,    0.013, 2,    0.000, 2, -999.000, 9,   -999.0, 9,   -999.0, 9, -999.0000,   -999.00,   -999.0, 9,   -999.0,  -999.00, 9,   -999.0,   2.4989, 27.5014,   2.5943, 2, 9, 0.45, 0.16, 0.01, 0.018,  -999.00, 9, -999.00, -999.00, 9, -999.00
49NZ20071008, P14N, 46, 1, 20, X12026, 2, 20071103, 0045, 39.4792, 179.0182, 5603,   1602.9, 2,   2.3520, 2,  34.5142, 2,  34.5139, 2,     35.1, 2,     34.7, 2,   157.78, 2,    43.69, 2,     0.01, 2,     3.11, 2,    0.018, 2,    0.009, 2,    0.001, 2, -999.000, 9,   -999.0, 9,   -999.0, 9, -999.0000,   -999.00,   -999.0, 9,   -999.0,  -999.00, 9,   -999.0,   2.2436, 27.5629,   2.3520, 2, 9, 0.47, 0.16, 0.01, 0.018,  -999.00, 9, -999.00, -999.00, 9, -999.00
49NZ20071008, P14N, 46, 1, 19, X12025, 2, 20071103, 0045, 39.4792, 179.0182, 5603,   1802.1, 2,   2.1431, 2,  34.5495, 2,  34.5492, 2,     44.1, 2,     44.5, 2,   163.08, 2,    43.15, 2,     0.02, 2,     3.07, 2,    0.010, 2,    0.005, 2,    0.000, 2, -999.000, 9,   -999.0, 9,   -999.0, 9, -999.0000,   -999.00,   -999.0, 9,   -999.0,  -999.00, 9,   -999.0,   2.0212, 27.6091,   2.1431, 2, 9, 0.48, 0.15, 0.01, 0.018,  -999.00, 9, -999.00, -999.00, 9, -999.00
49NZ20071008, P14N, 46, 1, 18, X12024, 2, 20071103, 0045, 39.4792, 179.0182, 5603,   2001.9, 2,   1.9918, 2,  34.5810, 2,  34.5806, 2,     55.5, 2,     53.7, 2,   166.55, 2,    42.68, 2,     0.01, 2,     3.02, 2,    0.003, 2,    0.002, 2,    0.007, 2, -999.000, 9,   -999.0, 9,   -999.0, 9, -999.0000,   -999.00,   -999.0, 9,   -999.0,  -999.00, 9,   -999.0,   1.8555, 27.6473,   1.9920, 2, 9, 0.49, 0.15, 0.01, 0.018,  -999.00, 9, -999.00, -999.00, 9, -999.00
49NZ20071008, P14N, 46, 1, 17, X12023, 2, 20071103, 0045, 39.4792, 179.0182, 5603,   2203.0, 2,   1.8640, 2,  34.6064, 2,  34.6062, 2,     67.5, 2,     67.2, 2,   167.75, 2,    41.82, 2,     0.01, 2,     2.97, 2,    0.000, 2,    0.002, 2,    0.000, 2, -999.000, 9,   -999.0, 9,   -999.0, 9, -999.0000,   -999.00,   -999.0, 9,   -999.0,  -999.00, 9,   -999.0,   1.7126, 27.6785,   1.8639, 2, 9, 0.49, 0.15, 0.01, 0.017,  -999.00, 9, -999.00, -999.00, 9, -999.00
49NZ20071008, P14N, 46, 1, 16, X12022, 2, 20071103, 0045, 39.4792, 179.0182, 5603,   2400.4, 2,   1.7619, 2,  34.6246, 2,  34.6245, 2,     78.8, 2,     80.7, 2,   167.30, 2,    40.94, 2,     0.01, 2,     2.91, 2,    0.000, 2,    0.001, 2,    0.004, 2, -999.000, 9,   -999.0, 9,   -999.0, 9, -999.0000,   -999.00,   -999.0, 9,   -999.0,  -999.00, 9,   -999.0,   1.5950, 27.7019,   1.7619, 2, 9, 0.49, 0.15, 0.01, 0.017,  -999.00, 9, -999.00, -999.00, 9, -999.00
49NZ20071008, P14N, 46, 1, 15, X12021, 2, 20071103, 0045, 39.4792, 179.0182, 5603,   2602.4, 2,   1.6754, 2,  34.6392, 2,  34.6393, 6,     94.6, 2,     95.7, 2,   164.83, 2,    39.98, 2,     0.01, 2,     2.83, 2, -999.000, 9, -999.000, 9, -999.000, 9, -999.000, 9,   -999.0, 9,   -999.0, 9, -999.0000,   -999.00,   -999.0, 9,   -999.0,  -999.00, 9,   -999.0,   1.4920, 27.7212,   1.6755, 2, 9, 0.48, 0.14, 0.01, 0.017,  -999.00, 9, -999.00, -999.00, 9, -999.00
49NZ20071008, P14N, 46, 1, 14, X12020, 2, 20071103, 0045, 39.4792, 179.0182, 5603,   2798.4, 2,   1.6128, 2,  34.6497, 2,  34.6500, 2,    107.8, 2,    109.1, 2,   161.70, 2,    38.99, 2,     0.01, 2,     2.77, 2, -999.000, 9, -999.000, 9, -999.000, 9, -999.000, 9,   -999.0, 9,   -999.0, 9, -999.0000,   -999.00,   -999.0, 9,   -999.0,  -999.00, 9,   -999.0,   1.4127, 27.7354,   1.6129, 2, 9, 0.47, 0.14, 0.01, 0.017,  -999.00, 9, -999.00, -999.00, 9, -999.00
49NZ20071008, P14N, 46, 1, 13, X12019, 2, 20071103, 0045, 39.4792, 179.0182, 5603,   2998.9, 2,   1.5642, 2,  34.6587, 2,  34.6589, 2,    118.4, 2,    118.7, 2,   159.41, 2,    38.33, 2,     0.01, 2,     2.72, 2,    0.001, 2,    0.000, 2,    0.000, 2, -999.000, 9,   -999.0, 9,   -999.0, 9, -999.0000,   -999.00,   -999.0, 9,   -999.0,  -999.00, 9,   -999.0,   1.3462, 27.7473,   1.5641, 2, 9, 0.47, 0.14, 0.01, 0.017,  -999.00, 9, -999.00, -999.00, 9, -999.00
49NZ20071008, P14N, 46, 1, 12, X12040, 2, 20071103, 0045, 39.4792, 179.0182, 5603,   3248.5, 2,   1.5134, 2,  34.6681, 2,  34.6684, 2,    128.8, 2,    129.9, 2,   156.03, 2,    37.51, 2,     0.01, 2,     2.65, 2, -999.000, 9, -999.000, 9, -999.000, 9, -999.000, 9,   -999.0, 9,   -999.0, 9, -999.0000,   -999.00,   -999.0, 9,   -999.0,  -999.00, 9,   -999.0,   1.2723, 27.7601,   1.5135, 2, 9, 0.46, 0.14, 0.01, 0.017,  -999.00, 9, -999.00, -999.00, 9, -999.00
49NZ20071008, P14N, 46, 1, 11, X12047, 2, 20071103, 0045, 39.4792, 179.0182, 5603,   3497.4, 2,   1.4805, 2,  34.6751, 2,  34.6751, 2,    137.5, 2,    138.1, 2,   153.80, 2,    37.12, 2,     0.01, 2,     2.62, 2, -999.000, 9, -999.000, 9, -999.000, 9, -999.000, 9,   -999.0, 9,   -999.0, 9, -999.0000,   -999.00,   -999.0, 9,   -999.0,  -999.00, 9,   -999.0,   1.2152, 27.7697,   1.4805, 2, 9, 0.46, 0.14, 0.01, 0.017,  -999.00, 9, -999.00, -999.00, 9, -999.00
49NZ20071008, P14N, 46, 1, 10, X12017, 2, 20071103, 0045, 39.4792, 179.0182, 5603,   3750.9, 2,   1.4644, 2,  34.6799, 2,  34.6799, 2,    143.4, 2,    144.0, 2,   152.31, 2,    36.64, 2,     0.01, 2,     2.59, 2,    0.002, 2,    0.001, 2,    0.000, 2, -999.000, 9,   -999.0, 9,   -999.0, 9, -999.0000,   -999.00,   -999.0, 9,   -999.0,  -999.00, 9,   -999.0,   1.1732, 27.7764,   1.4644, 2, 9, 0.45, 0.14, 0.01, 0.016,  -999.00, 9, -999.00, -999.00, 9, -999.00
49NZ20071008, P14N, 46, 1, 9, X12015, 2, 20071103, 0045, 39.4792, 179.0182, 5603,   4000.2, 2,   1.4590, 2,  34.6835, 2,  34.6838, 2,    147.9, 2,    148.6, 2,   150.93, 2,    36.27, 2,     0.02, 2,     2.56, 2, -999.000, 9, -999.000, 9, -999.000, 9, -999.000, 9,   -999.0, 9,   -999.0, 9, -999.0000,   -999.00,   -999.0, 9,   -999.0,  -999.00, 9,   -999.0,   1.1412, 27.7815,   1.4590, 2, 9, 0.45, 0.13, 0.01, 0.016,  -999.00, 9, -999.00, -999.00, 9, -999.00
49NZ20071008, P14N, 46, 1, 8, X12046, 2, 20071103, 0045, 39.4792, 179.0182, 5603,   4248.9, 2,   1.4672, 2,  34.6857, 2,  34.6856, 6,    151.0, 2,    151.2, 2,   151.01, 2,    36.16, 2,     0.01, 2,     2.55, 2, -999.000, 9, -999.000, 9, -999.000, 9, -999.000, 9,   -999.0, 9,   -999.0, 9, -999.0000,   -999.00,   -999.0, 9,   -999.0,  -999.00, 9,   -999.0,   1.1218, 27.7846,   1.4672, 2, 9, 0.45, 0.13, 0.01, 0.016,  -999.00, 9, -999.00, -999.00, 9, -999.00
49NZ20071008, P14N, 46, 1, 7, X12044, 2, 20071103, 0045, 39.4792, 179.0182, 5603,   4501.2, 2,   1.4838, 2,  34.6871, 2,  34.6871, 2,    152.6, 2,    153.0, 2,   151.27, 2,    36.04, 2,     0.02, 2,     2.54, 2,    0.003, 2,    0.004, 2,    0.000, 2, -999.000, 9,   -999.0, 9,   -999.0, 9, -999.0000,   -999.00,   -999.0, 9,   -999.0,  -999.00, 9,   -999.0,   1.1092, 27.7866,   1.4838, 2, 9, 0.45, 0.13, 0.01, 0.016,  -999.00, 9, -999.00, -999.00, 9, -999.00
49NZ20071008, P14N, 46, 1, 6, X12048, 2, 20071103, 0045, 39.4792, 179.0182, 5603,   4749.8, 2,   1.5053, 2,  34.6881, 2,  34.6881, 2,    153.6, 2,    153.9, 2,   151.87, 2,    36.02, 2,     0.02, 2,     2.54, 2, -999.000, 9, -999.000, 9, -999.000, 9, -999.000, 9,   -999.0, 9,   -999.0, 9, -999.0000,   -999.00,   -999.0, 9,   -999.0,  -999.00, 9,   -999.0,   1.1009, 27.7880,   1.5053, 2, 9, 0.45, 0.13, 0.01, 0.016,  -999.00, 9, -999.00, -999.00, 9, -999.00
49NZ20071008, P14N, 46, 1, 5, X12014, 2, 20071103, 0045, 39.4792, 179.0182, 5603,   4997.9, 2,   1.5300, 2,  34.6892, 2,  34.6887, 2,    154.4, 2,    154.4, 2,   153.01, 2,    35.96, 2,     0.01, 2,     2.54, 2, -999.000, 9, -999.000, 9, -999.000, 9, -999.000, 9,   -999.0, 9,   -999.0, 9, -999.0000,   -999.00,   -999.0, 9,   -999.0,  -999.00, 9,   -999.0,   1.0950, 27.7892,   1.5301, 2, 9, 0.46, 0.13, 0.01, 0.016,  -999.00, 9, -999.00, -999.00, 9, -999.00
49NZ20071008, P14N, 46, 1, 4, X12006, 2, 20071103, 0045, 39.4792, 179.0182, 5603,   5250.2, 2,   1.5623, 2,  34.6890, 2,  34.6891, 2,    154.4, 2,    154.3, 2,   152.94, 2,    36.05, 2,     0.02, 2,     2.53, 2,    0.004, 2,    0.002, 2,    0.000, 2, -999.000, 9,   -999.0, 9,   -999.0, 9, -999.0000,   -999.00,   -999.0, 9,   -999.0,  -999.00, 9,   -999.0,   1.0951, 27.7891,   1.5623, 2, 9, 0.46, 0.13, 0.01, 0.016,  -999.00, 9, -999.00, -999.00, 9, -999.00
49NZ20071008, P14N, 46, 1, 3, X12013, 2, 20071103, 0045, 39.4792, 179.0182, 5603,   5499.7, 2,   1.5951, 2,  34.6891, 2,  34.6890, 2,    154.4, 2,    154.3, 2,   152.89, 2,    36.02, 2,     0.02, 2,     2.54, 2,    0.006, 2,    0.003, 2,    0.000, 2, -999.000, 9,   -999.0, 9,   -999.0, 9, -999.0000,   -999.00,   -999.0, 9,   -999.0,  -999.00, 9,   -999.0,   1.0951, 27.7891,   1.5951, 2, 9, 0.46, 0.13, 0.01, 0.016,  -999.00, 9, -999.00, -999.00, 9, -999.00
49NZ20071008, P14N, 46, 1, 2, X12002, 9, 20071103, 0045, 39.4792, 179.0182, 5603,     49.8, 2,  17.2057, 2,  33.9935, 2, -999.0000, 9,    242.6, 2,   -999.0, 9,  -999.00, 9,  -999.00, 9,  -999.00, 9,  -999.00, 9, -999.000, 9, -999.000, 9, -999.000, 9, -999.000, 9,   -999.0, 9,   -999.0, 9, -999.0000,   -999.00,   -999.0, 9,   -999.0,  -999.00, 9,   -999.0,  17.1975, 24.6950,  17.2157, 2, 9, -999.00, -999.00, -999.00, -999.000,  -999.00, 9, -999.00, -999.00, 9, -999.00
49NZ20071008, P14N, 46, 1, 1, X12001, 2, 20071103, 0045, 39.4792, 179.0182, 5603,   5699.9, 2,   1.6220, 2,  34.6891, 2,  34.6889, 6,    154.4, 2,    154.3, 2,   153.00, 2,    36.05, 2,     0.01, 2,     2.54, 2,    0.000, 2,    0.001, 2,    0.000, 2, -999.000, 9,   -999.0, 9,   -999.0, 9, -999.0000,   -999.00,   -999.0, 9,   -999.0,  -999.00, 9,   -999.0,   1.0951, 27.7891,   1.6220, 2, 9, 0.46, 0.13, 0.01, 0.016,  -999.00, 9, -999.00, -999.00, 9, -999.00