BOTTLE,20221005CCHSIOAMB
EXPOCODE,SECT_ID,STNNBR,CASTNO,SAMPNO,BTLNBR,BTLNBR_FLAG_W,DATE,TIME,LATITUDE,LONGITUDE,DEPTH,CTDPRS,CTDPRS_FLAG_W,CTDTMP,CTDTMP_FLAG_W,CTDSAL,CTDSAL_FLAG_W,SALNTY,SALNTY_FLAG_W,CTDOXY,CTDOXY_FLAG_W,OXYGEN,OXYGEN_FLAG_W,SILCAT,SILCAT_FLAG_W,NITRAT,NITRAT_FLAG_W,NITRIT,NITRIT_FLAG_W,PHSPHT,PHSPHT_FLAG_W,CFC-11,CFC-11_FLAG_W,CFC-12,CFC-12_FLAG_W,CFC113,CFC113_FLAG_W,CCL4,CCL4_FLAG_W,TCARBN,TCARBN_FLAG_W,ALKALI,ALKALI_FLAG_W,PH_TOT,PH_TMP,DELC14,DELC14_FLAG_W,C14ERR,DELC13,DELC13_FLAG_W,C13ERR,THETA,SIG0,SBE35,SBE35_FLAG_W,PH_TOT_FLAG_W,SILUNC,NRAUNC,NRIUNC,PHPUNC,CS-137,CS-137_FLAG_W,CS137ER,PLUTO,PLUTO_FLAG_W,PLUTOER
,,,,,,,,,,,METERS,DBAR,,ITS-90,,PSS-78,,PSS-78,,UMOL/KG,,UMOL/KG,,UMOL/KG,,UMOL/KG,,UMOL/KG,,UMOL/KG,,PMOL/KG,,PMOL/KG,,PMOL/KG,,PMOL/KG,,UMOL/KG,,UMOL/KG,,,DEG C,/MILLE,,/MILLE,/MILLE,,/MILLE,DEG C,KG/M^3,ITS-90,,,UMOL/KG,UMOL/KG,UMOL/KG,UMOL/KG,DM/.1MG,,BQ/M^3,MBQ/M^3,,MBQ/M^3
49NZ20071008, P14N, 36, 1, 36, X12042, 2, 20071031, 1220, 44.4932, 179.0092, 5747,      9.9, 2,  11.4031, 2,  32.9986, 2,  32.9986, 2,    271.6, 2,    271.6, 2,    12.22, 2,     7.45, 2,     0.21, 2,     0.81, 2,    3.316, 2,    1.917, 2,    0.300, 2, -999.000, 9,   -999.0, 9,   -999.0, 9, -999.0000,   -999.00,   -999.0, 9,   -999.0,  -999.00, 9,   -999.0,  11.4019, 25.1452,  11.4041, 2, 9, 0.15, 0.05, 0.01, 0.013,  -999.00, 9, -999.00, -999.00, 9, -999.00
49NZ20071008, P14N, 36, 1, 35, X12041, 2, 20071031, 1220, 44.4932, 179.0092, 5747,     49.3, 2,   9.3651, 2,  33.5268, 2,  33.5310, 2,    145.6, 4,    268.3, 2,    18.90, 2,    12.80, 2,     0.33, 2,     1.11, 2,    3.735, 2,    2.108, 2,    0.350, 2, -999.000, 9,   -999.0, 9,   -999.0, 9, -999.0000,   -999.00,   -999.0, 9,   -999.0,  -999.00, 9,   -999.0,   9.3598, 25.9072,   9.3402, 2, 9, 0.16, 0.07, 0.01, 0.013,  -999.00, 9, -999.00, -999.00, 9, -999.00
49NZ20071008, P14N, 36, 1, 34, X12016, 2, 20071031, 1220, 44.4932, 179.0092, 5747,    100.4, 2,   8.1342, 2,  33.9536, 2,  33.9544, 2,    250.2, 2,    256.2, 2,    22.38, 2,    15.61, 2,     0.03, 2,     1.19, 2,    3.669, 2,    2.068, 2,    0.304, 2, -999.000, 9,   -999.0, 9,   -999.0, 9, -999.0000,   -999.00,   -999.0, 9,   -999.0,  -999.00, 9,   -999.0,   8.1242, 26.4336,   8.1363, 2, 9, 0.17, 0.08, 0.01, 0.013,  -999.00, 1, -999.00, -999.00, 9, -999.00
49NZ20071008, P14N, 36, 1, 33, X12033, 2, 20071031, 1220, 44.4932, 179.0092, 5747,    150.9, 2,   6.8135, 2,  33.8004, 2,  33.8007, 2,    254.8, 2,    263.6, 2,    25.61, 2,    17.15, 2,     0.03, 2,     1.32, 2,    3.963, 2,    2.198, 6,    0.321, 6, -999.000, 9,   -999.0, 9,   -999.0, 9, -999.0000,   -999.00,   -999.0, 9,   -999.0,  -999.00, 9,   -999.0,   6.7999, 26.5009,   6.8140, 2, 9, 0.18, 0.08, 0.01, 0.014,  -999.00, 9, -999.00, -999.00, 9, -999.00
49NZ20071008, P14N, 36, 1, 32, X12038, 2, 20071031, 1220, 44.4932, 179.0092, 5747,    201.2, 2,   6.6171, 2,  33.8713, 2,  33.8731, 2,    220.9, 2,    224.3, 2,    34.51, 2,    21.39, 2,     0.02, 2,     1.60, 2,    3.564, 2,    1.945, 2,    0.262, 2, -999.000, 9,   -999.0, 9,   -999.0, 9, -999.0000,   -999.00,   -999.0, 9,   -999.0,  -999.00, 9,   -999.0,   6.5992, 26.5835,   6.6219, 2, 9, 0.19, 0.09, 0.01, 0.014,  -999.00, 1, -999.00, -999.00, 9, -999.00
49NZ20071008, P14N, 36, 1, 31, X12003, 2, 20071031, 1220, 44.4932, 179.0092, 5747,    250.6, 2,   5.8507, 2,  33.8786, 2,  33.8791, 6,    183.1, 2,    181.9, 2,    48.61, 2,    26.73, 2,     0.01, 2,     1.98, 2,    3.158, 2,    1.672, 2,    0.208, 2, -999.000, 9,   -999.0, 9,   -999.0, 9, -999.0000,   -999.00,   -999.0, 9,   -999.0,  -999.00, 9,   -999.0,   5.8298, 26.6877,   5.8503, 2, 9, 0.23, 0.11, 0.01, 0.015,  -999.00, 9, -999.00, -999.00, 9, -999.00
49NZ20071008, P14N, 36, 1, 30, X12008, 2, 20071031, 1220, 44.4932, 179.0092, 5747,    281.2, 2,   5.5814, 2,  33.8982, 2,  33.9010, 2,    163.4, 2,    161.2, 2,    54.91, 2,    29.03, 2,     0.01, 2,     2.14, 2,    2.903, 2,    1.516, 2,    0.181, 2, -999.000, 9,   -999.0, 9,   -999.0, 9, -999.0000,   -999.00,   -999.0, 9,   -999.0,  -999.00, 9,   -999.0,   5.5585, 26.7363,   5.5835, 2, 9, 0.24, 0.11, 0.01, 0.015,  -999.00, 9, -999.00, -999.00, 9, -999.00
49NZ20071008, P14N, 36, 1, 29, X12035, 2, 20071031, 1220, 44.4932, 179.0092, 5747,    371.2, 2,   4.7155, 2,  33.9284, 2,  33.9310, 2,    121.3, 2,    120.6, 2,    71.95, 2,    34.16, 2,     0.01, 2,     2.49, 2,    2.385, 2,    1.211, 2,    0.139, 2, -999.000, 9,   -999.0, 9,   -999.0, 9, -999.0000,   -999.00,   -999.0, 9,   -999.0,  -999.00, 9,   -999.0,   4.6875, 26.8607,   4.7159, 2, 9, 0.28, 0.13, 0.01, 0.016,  -999.00, 1, -999.00, -999.00, 9, -999.00
49NZ20071008, P14N, 36, 1, 28, X12034, 2, 20071031, 1220, 44.4932, 179.0092, 5747,    470.9, 2,   4.0141, 2,  33.9699, 2,  33.9750, 6,     78.9, 2,     84.2, 2,    88.26, 2,    38.56, 2,     0.01, 2,     2.79, 2,    1.931, 2,    0.960, 2,    0.129, 2, -999.000, 9,   -999.0, 9,   -999.0, 9, -999.0000,   -999.00,   -999.0, 9,   -999.0,  -999.00, 9,   -999.0,   3.9807, 26.9687,   4.0143, 2, 9, 0.31, 0.14, 0.01, 0.017,  -999.00, 9, -999.00, -999.00, 9, -999.00
49NZ20071008, P14N, 36, 1, 27, X12049, 2, 20071031, 1220, 44.4932, 179.0092, 5747,    573.3, 2,   3.9050, 2,  34.0932, 2,  34.0916, 2,     56.9, 2,     56.1, 2,   101.28, 2,    40.70, 2,     0.01, 2,     2.93, 2,    1.252, 2,    0.616, 2,    0.080, 2, -999.000, 9,   -999.0, 9,   -999.0, 9, -999.0000,   -999.00,   -999.0, 9,   -999.0,  -999.00, 9,   -999.0,   3.8643, 27.0786,   3.9051, 2, 9, 0.34, 0.15, 0.01, 0.017,  -999.00, 1, -999.00, -999.00, 9, -999.00
49NZ20071008, P14N, 36, 1, 26, X12032, 2, 20071031, 1220, 44.4932, 179.0092, 5747,    670.3, 2,   3.7744, 2,  34.1932, 2,  34.1938, 2,     42.2, 2,     43.6, 2,   111.72, 2,    41.72, 2,     0.01, 2,     2.99, 2,    0.756, 6,    0.362, 6,    0.048, 6, -999.000, 9,   -999.0, 9,   -999.0, 9, -999.0000,   -999.00,   -999.0, 9,   -999.0,  -999.00, 9,   -999.0,   3.7269, 27.1720,   3.7749, 2, 9, 0.36, 0.15, 0.01, 0.017,  -999.00, 9, -999.00, -999.00, 9, -999.00
49NZ20071008, P14N, 36, 1, 25, X12043, 2, 20071031, 1220, 44.4932, 179.0092, 5747,    771.0, 2,   3.4589, 2,  34.2616, 2,  34.2616, 2,     35.2, 2,     33.5, 2,   122.75, 2,    42.75, 2,     0.01, 2,     3.06, 2,    0.456, 2,    0.218, 2,    0.030, 2, -999.000, 9,   -999.0, 9,   -999.0, 9, -999.0000,   -999.00,   -999.0, 9,   -999.0,  -999.00, 9,   -999.0,   3.4055, 27.2578,   3.4590, 2, 9, 0.39, 0.15, 0.01, 0.018,  -999.00, 1, -999.00, -999.00, 9, -999.00
49NZ20071008, P14N, 36, 1, 24, X12030, 2, 20071031, 1220, 44.4932, 179.0092, 5747,    871.6, 2,   3.2959, 2,  34.3193, 2,  34.3194, 2,     30.9, 2,     31.1, 2,   128.83, 2,    43.09, 2,     0.01, 2,     3.08, 2,    0.253, 2,    0.122, 2,    0.013, 2, -999.000, 9,   -999.0, 9,   -999.0, 9, -999.0000,   -999.00,   -999.0, 9,   -999.0,  -999.00, 9,   -999.0,   3.2358, 27.3199,   3.2960, 2, 9, 0.40, 0.15, 0.01, 0.018,  -999.00, 9, -999.00, -999.00, 9, -999.00
49NZ20071008, P14N, 36, 1, 23, X12027, 2, 20071031, 1220, 44.4932, 179.0092, 5747,    970.1, 2,   3.0692, 2,  34.3551, 2,  34.3559, 6,     29.0, 2,     29.0, 2,   136.11, 2,    43.40, 2,     0.01, 2,     3.10, 2,    0.187, 2,    0.091, 2,    0.013, 2, -999.000, 9,   -999.0, 9,   -999.0, 9, -999.0000,   -999.00,   -999.0, 9,   -999.0,  -999.00, 9,   -999.0,   3.0033, 27.3700,   3.0691, 2, 9, 0.42, 0.15, 0.01, 0.018,  -999.00, 1, -999.00, -999.00, 9, -999.00
49NZ20071008, P14N, 36, 1, 22, X12028, 2, 20071031, 1220, 44.4932, 179.0092, 5747,   1132.1, 2,   2.7930, 2,  34.4133, 2,  34.4128, 2,     29.6, 2,     29.3, 2,   144.58, 2,    43.66, 2,     0.01, 2,     3.11, 2,    0.096, 2,    0.044, 2,    0.008, 2, -999.000, 9,   -999.0, 9,   -999.0, 9, -999.0000,   -999.00,   -999.0, 9,   -999.0,  -999.00, 9,   -999.0,   2.7170, 27.4420,   2.7931, 2, 9, 0.44, 0.16, 0.01, 0.018,  -999.00, 9, -999.00, -999.00, 9, -999.00
49NZ20071008, P14N, 36, 1, 21, X12009, 2, 20071031, 1220, 44.4932, 179.0092, 5747,   1332.5, 2,   2.5023, 2,  34.4683, 2,  34.4687, 2,     33.6, 2,     33.3, 2,   153.18, 2,    43.55, 2,     0.01, 2,     3.10, 2,    0.052, 2,    0.023, 2,    0.000, 2, -999.000, 9,   -999.0, 9,   -999.0, 9, -999.0000,   -999.00,   -999.0, 9,   -999.0,  -999.00, 9,   -999.0,   2.4136, 27.5121,   2.5029, 2, 9, 0.46, 0.15, 0.01, 0.018,  -999.00, 9, -999.00, -999.00, 9, -999.00
49NZ20071008, P14N, 36, 1, 20, X12026, 2, 20071031, 1220, 44.4932, 179.0092, 5747,   1532.0, 2,   2.2776, 2,  34.5113, 2,  34.5114, 2,     39.3, 2,     39.8, 2,   159.86, 2,    43.36, 2,     0.01, 2,     3.08, 2,    0.027, 2,    0.011, 2,    0.000, 2, -999.000, 9,   -999.0, 9,   -999.0, 9, -999.0000,   -999.00,   -999.0, 9,   -999.0,  -999.00, 9,   -999.0,   2.1758, 27.5661,   2.2776, 2, 9, 0.47, 0.15, 0.01, 0.018,  -999.00, 9, -999.00, -999.00, 9, -999.00
49NZ20071008, P14N, 36, 1, 19, X12025, 2, 20071031, 1220, 44.4932, 179.0092, 5747,   1729.8, 2,   2.1226, 2,  34.5471, 2,  34.5478, 2,     49.0, 2,     50.0, 2,   162.89, 2,    42.75, 2,     0.01, 2,     3.04, 2,    0.008, 2,    0.009, 2,    0.000, 2, -999.000, 9,   -999.0, 9,   -999.0, 9, -999.0000,   -999.00,   -999.0, 9,   -999.0,  -999.00, 9,   -999.0,   2.0069, 27.6083,   2.1225, 2, 9, 0.48, 0.15, 0.01, 0.018,  -999.00, 1, -999.00, -999.00, 9, -999.00
49NZ20071008, P14N, 36, 1, 18, X12024, 2, 20071031, 1220, 44.4932, 179.0092, 5747,   1931.3, 2,   1.9854, 2,  34.5763, 2,  34.5763, 2,     59.6, 2,     61.2, 2,   164.67, 2,    42.10, 2,     0.01, 2,     2.98, 2,    0.000, 2,    0.000, 2,    0.000, 2, -999.000, 9,   -999.0, 9,   -999.0, 9, -999.0000,   -999.00,   -999.0, 9,   -999.0,  -999.00, 9,   -999.0,   1.8551, 27.6435,   1.9855, 2, 9, 0.48, 0.15, 0.01, 0.017,  -999.00, 1, -999.00, -999.00, 9, -999.00
49NZ20071008, P14N, 36, 1, 17, X12023, 2, 20071031, 1220, 44.4932, 179.0092, 5747,   2130.7, 2,   1.8842, 2,  34.5974, 2,  34.5976, 2,     69.0, 2,     70.9, 2,   165.63, 2,    41.46, 2,     0.01, 2,     2.94, 2,    0.000, 2,    0.000, 2,    0.000, 2, -999.000, 9,   -999.0, 9,   -999.0, 9, -999.0000,   -999.00,   -999.0, 9,   -999.0,  -999.00, 9,   -999.0,   1.7387, 27.6694,   1.8842, 2, 9, 0.48, 0.15, 0.01, 0.017,  -999.00, 1, -999.00, -999.00, 9, -999.00
49NZ20071008, P14N, 36, 1, 16, X12022, 2, 20071031, 1220, 44.4932, 179.0092, 5747,   2331.0, 2,   1.7782, 2,  34.6181, 2,  34.6181, 2,     83.3, 2,     83.2, 2,   165.51, 2,    40.72, 2,     0.01, 2,     2.88, 2,    0.009, 2,    0.003, 2,    0.000, 2, -999.000, 9,   -999.0, 9,   -999.0, 9, -999.0000,   -999.00,   -999.0, 9,   -999.0,  -999.00, 9,   -999.0,   1.6171, 27.6951,   1.7785, 2, 9, 0.48, 0.15, 0.01, 0.017,  -999.00, 9, -999.00, -999.00, 9, -999.00
49NZ20071008, P14N, 36, 1, 15, X12021, 2, 20071031, 1220, 44.4932, 179.0092, 5747,   2530.9, 2,   1.7007, 2,  34.6328, 2,  34.6334, 6,     94.2, 2,     93.8, 2,   164.95, 2,    40.10, 2,     0.01, 2,     2.83, 2,    0.000, 2,    0.000, 2,    0.000, 2, -999.000, 9,   -999.0, 9,   -999.0, 9, -999.0000,   -999.00,   -999.0, 9,   -999.0,  -999.00, 9,   -999.0,   1.5233, 27.7138,   1.7007, 2, 9, 0.48, 0.15, 0.01, 0.017,  -999.00, 9, -999.00, -999.00, 9, -999.00
49NZ20071008, P14N, 36, 1, 14, X12020, 2, 20071031, 1220, 44.4932, 179.0092, 5747,   2731.3, 2,   1.6481, 2,  34.6434, 2,  34.6435, 2,    103.0, 2,    103.3, 2,   162.99, 2,    39.40, 2,     0.01, 2,     2.79, 2, -999.000, 9, -999.000, 9, -999.000, 9, -999.000, 9,   -999.0, 9,   -999.0, 9, -999.0000,   -999.00,   -999.0, 9,   -999.0,  -999.00, 9,   -999.0,   1.4535, 27.7274,   1.6483, 2, 9, 0.48, 0.14, 0.01, 0.017,  -999.00, 1, -999.00, -999.00, 9, -999.00
49NZ20071008, P14N, 36, 1, 13, X12019, 2, 20071031, 1220, 44.4932, 179.0092, 5747,   2930.8, 2,   1.6055, 2,  34.6522, 2,  34.6521, 2,    110.6, 2,    111.0, 2,   161.79, 2,    39.00, 2,     0.01, 2,     2.75, 2, -999.000, 9, -999.000, 9, -999.000, 9, -999.000, 9,   -999.0, 9,   -999.0, 9, -999.0000,   -999.00,   -999.0, 9,   -999.0,  -999.00, 9,   -999.0,   1.3931, 27.7388,   1.6056, 2, 9, 0.47, 0.14, 0.01, 0.017,  -999.00, 1, -999.00, -999.00, 9, -999.00
49NZ20071008, P14N, 36, 1, 12, X12040, 2, 20071031, 1220, 44.4932, 179.0092, 5747,   3169.5, 2,   1.5507, 2,  34.6623, 2,  34.6624, 2,    121.6, 2,    121.5, 2,   159.69, 2,    38.27, 2,     0.01, 2,     2.68, 2,    0.000, 2,    0.000, 2,    0.000, 2, -999.000, 9,   -999.0, 9,   -999.0, 9, -999.0000,   -999.00,   -999.0, 9,   -999.0,  -999.00, 9,   -999.0,   1.3165, 27.7523,   1.5507, 2, 9, 0.47, 0.14, 0.01, 0.017,  -999.00, 1, -999.00, -999.00, 9, -999.00
49NZ20071008, P14N, 36, 1, 11, X12047, 2, 20071031, 1220, 44.4932, 179.0092, 5747,   3419.9, 2,   1.5103, 2,  34.6702, 2,  34.6706, 2,    131.0, 2,    131.0, 2,   157.48, 2,    37.73, 2,     0.01, 2,     2.63, 2, -999.000, 9, -999.000, 9, -999.000, 9, -999.000, 9,   -999.0, 9,   -999.0, 9, -999.0000,   -999.00,   -999.0, 9,   -999.0,  -999.00, 9,   -999.0,   1.2521, 27.7632,   1.5103, 2, 9, 0.47, 0.14, 0.01, 0.017,  -999.00, 9, -999.00, -999.00, 9, -999.00
49NZ20071008, P14N, 36, 1, 10, X12017, 2, 20071031, 1220, 44.4932, 179.0092, 5747,   3670.3, 2,   1.4873, 2,  34.6761, 2,  34.6763, 2,    138.5, 2,    138.2, 2,   155.48, 2,    37.25, 2,     0.01, 2,     2.60, 2, -999.000, 9, -999.000, 9, -999.000, 9, -999.000, 9,   -999.0, 9,   -999.0, 9, -999.0000,   -999.00,   -999.0, 9,   -999.0,  -999.00, 9,   -999.0,   1.2039, 27.7713,   1.4875, 2, 9, 0.46, 0.14, 0.01, 0.016,  -999.00, 1, -999.00, -999.00, 9, -999.00
49NZ20071008, P14N, 36, 1, 9, X12015, 2, 20071031, 1220, 44.4932, 179.0092, 5747,   3920.9, 2,   1.4750, 2,  34.6806, 2,  34.6807, 2,    144.5, 2,    143.6, 2,   154.64, 2,    36.93, 2,     0.01, 2,     2.57, 2,    0.000, 2,    0.003, 2,    0.000, 2, -999.000, 9,   -999.0, 9,   -999.0, 9, -999.0000,   -999.00,   -999.0, 9,   -999.0,  -999.00, 9,   -999.0,   1.1654, 27.7775,   1.4750, 2, 9, 0.46, 0.14, 0.01, 0.016,  -999.00, 1, -999.00, -999.00, 9, -999.00
49NZ20071008, P14N, 36, 1, 8, X12046, 2, 20071031, 1220, 44.4932, 179.0092, 5747,   4170.4, 2,   1.4704, 2,  34.6843, 2,  34.6843, 6,    148.3, 2,    148.1, 2,   154.39, 2,    36.66, 2,     0.01, 2,     2.55, 2, -999.000, 9, -999.000, 9, -999.000, 9, -999.000, 9,   -999.0, 9,   -999.0, 9, -999.0000,   -999.00,   -999.0, 9,   -999.0,  -999.00, 9,   -999.0,   1.1336, 27.7827,   1.4705, 2, 9, 0.46, 0.14, 0.01, 0.016,  -999.00, 1, -999.00, -999.00, 9, -999.00
49NZ20071008, P14N, 36, 1, 7, X12044, 2, 20071031, 1220, 44.4932, 179.0092, 5747,   4420.3, 2,   1.4809, 2,  34.6865, 2,  34.6868, 2,    150.4, 2,    150.5, 2,   155.38, 2,    36.50, 2,     0.01, 2,     2.54, 2, -999.000, 9, -999.000, 9, -999.000, 9, -999.000, 9,   -999.0, 9,   -999.0, 9, -999.0000,   -999.00,   -999.0, 9,   -999.0,  -999.00, 9,   -999.0,   1.1157, 27.7857,   1.4809, 2, 9, 0.46, 0.14, 0.01, 0.016,  -999.00, 9, -999.00, -999.00, 9, -999.00
49NZ20071008, P14N, 36, 1, 6, X12048, 2, 20071031, 1220, 44.4932, 179.0092, 5747,   4671.5, 2,   1.5021, 2,  34.6879, 2,  34.6883, 2,    151.3, 2,    151.4, 2,   157.02, 2,    36.42, 2,     0.01, 2,     2.53, 2,    0.000, 2,    0.000, 2,    0.000, 2, -999.000, 9,   -999.0, 9,   -999.0, 9, -999.0000,   -999.00,   -999.0, 9,   -999.0,  -999.00, 9,   -999.0,   1.1071, 27.7874,   1.5022, 2, 9, 0.46, 0.13, 0.01, 0.016,  -999.00, 1, -999.00, -999.00, 9, -999.00
49NZ20071008, P14N, 36, 1, 5, X12014, 2, 20071031, 1220, 44.4932, 179.0092, 5747,   4919.9, 2,   1.5298, 2,  34.6885, 2,  34.6887, 2,    152.0, 2,    152.0, 2,   157.94, 2,    36.39, 2,     0.01, 2,     2.53, 2, -999.000, 9, -999.000, 9, -999.000, 9, -999.000, 9,   -999.0, 9,   -999.0, 9, -999.0000,   -999.00,   -999.0, 9,   -999.0,  -999.00, 9,   -999.0,   1.1043, 27.7880,   1.5299, 2, 9, 0.47, 0.13, 0.01, 0.016,  -999.00, 1, -999.00, -999.00, 9, -999.00
49NZ20071008, P14N, 36, 1, 4, X12006, 2, 20071031, 1220, 44.4932, 179.0092, 5747,   5169.7, 2,   1.5602, 2,  34.6886, 2,  34.6891, 2,    152.2, 2,    152.2, 2,   157.40, 2,    36.31, 2,     0.01, 2,     2.53, 2, -999.000, 9, -999.000, 9, -999.000, 9, -999.000, 9,   -999.0, 9,   -999.0, 9, -999.0000,   -999.00,   -999.0, 9,   -999.0,  -999.00, 9,   -999.0,   1.1031, 27.7882,   1.5602, 2, 9, 0.47, 0.13, 0.01, 0.016,  -999.00, 1, -999.00, -999.00, 9, -999.00
49NZ20071008, P14N, 36, 1, 3, X12013, 2, 20071031, 1220, 44.4932, 179.0092, 5747,   5419.8, 2,   1.5926, 2,  34.6887, 2,  34.6887, 2,    152.2, 2,    152.2, 2,   157.38, 2,    36.36, 2,     0.01, 2,     2.52, 2, -999.000, 5, -999.000, 5, -999.000, 5, -999.000, 9,   -999.0, 9,   -999.0, 9, -999.0000,   -999.00,   -999.0, 9,   -999.0,  -999.00, 9,   -999.0,   1.1029, 27.7883,   1.5927, 2, 9, 0.47, 0.13, 0.01, 0.016,  -999.00, 9, -999.00, -999.00, 9, -999.00
49NZ20071008, P14N, 36, 1, 2, X12002, 2, 20071031, 1220, 44.4932, 179.0092, 5747,   5670.3, 2,   1.6260, 2,  34.6887, 2,  34.6889, 2,    152.1, 2,    152.3, 2,   157.21, 2,    36.42, 2,     0.01, 2,     2.53, 2, -999.000, 5, -999.000, 5, -999.000, 5, -999.000, 9,   -999.0, 9,   -999.0, 9, -999.0000,   -999.00,   -999.0, 9,   -999.0,  -999.00, 9,   -999.0,   1.1028, 27.7883,   1.6260, 2, 9, 0.46, 0.13, 0.01, 0.016,  -999.00, 1, -999.00, -999.00, 9, -999.00
49NZ20071008, P14N, 36, 1, 1, X12001, 2, 20071031, 1220, 44.4932, 179.0092, 5747,   5818.2, 2,   1.6461, 2,  34.6886, 2,  34.6889, 6,    151.7, 2,    152.3, 2,   157.23, 2,    36.42, 2,     0.01, 2,     2.53, 2,    0.000, 2,    0.000, 2,    0.000, 2, -999.000, 9,   -999.0, 9,   -999.0, 9, -999.0000,   -999.00,   -999.0, 9,   -999.0,  -999.00, 9,   -999.0,   1.1028, 27.7883,   1.6462, 2, 9, 0.46, 0.13, 0.01, 0.016,  -999.00, 1, -999.00, -999.00, 9, -999.00