BOTTLE,20221005CCHSIOAMB
EXPOCODE,SECT_ID,STNNBR,CASTNO,SAMPNO,BTLNBR,BTLNBR_FLAG_W,DATE,TIME,LATITUDE,LONGITUDE,DEPTH,CTDPRS,CTDPRS_FLAG_W,CTDTMP,CTDTMP_FLAG_W,CTDSAL,CTDSAL_FLAG_W,SALNTY,SALNTY_FLAG_W,CTDOXY,CTDOXY_FLAG_W,OXYGEN,OXYGEN_FLAG_W,SILCAT,SILCAT_FLAG_W,NITRAT,NITRAT_FLAG_W,NITRIT,NITRIT_FLAG_W,PHSPHT,PHSPHT_FLAG_W,CFC-11,CFC-11_FLAG_W,CFC-12,CFC-12_FLAG_W,CFC113,CFC113_FLAG_W,CCL4,CCL4_FLAG_W,TCARBN,TCARBN_FLAG_W,ALKALI,ALKALI_FLAG_W,PH_TOT,PH_TMP,DELC14,DELC14_FLAG_W,C14ERR,DELC13,DELC13_FLAG_W,C13ERR,THETA,SIG0,SBE35,SBE35_FLAG_W,PH_TOT_FLAG_W,SILUNC,NRAUNC,NRIUNC,PHPUNC,CS-137,CS-137_FLAG_W,CS137ER,PLUTO,PLUTO_FLAG_W,PLUTOER
,,,,,,,,,,,METERS,DBAR,,ITS-90,,PSS-78,,PSS-78,,UMOL/KG,,UMOL/KG,,UMOL/KG,,UMOL/KG,,UMOL/KG,,UMOL/KG,,PMOL/KG,,PMOL/KG,,PMOL/KG,,PMOL/KG,,UMOL/KG,,UMOL/KG,,,DEG C,/MILLE,,/MILLE,/MILLE,,/MILLE,DEG C,KG/M^3,ITS-90,,,UMOL/KG,UMOL/KG,UMOL/KG,UMOL/KG,DM/.1MG,,BQ/M^3,MBQ/M^3,,MBQ/M^3
49NZ20071008, P14N, 81, 1, 36, X12042, 2, 20071112, 1552, 22.0142, 178.9953, 3749,      9.3, 2,  26.9118, 2,  35.2806, 2,  35.2823, 2,    202.4, 2,    202.4, 2,     0.93, 2,     0.04, 2,     0.02, 2,     0.04, 2,    1.614, 2,    0.998, 2,    0.384, 4, -999.000, 9,   -999.0, 9,   -999.0, 9, -999.0000,   -999.00,   -999.0, 9,   -999.0,  -999.00, 9,   -999.0,  26.9097, 22.9580,  26.9131, 2, 9, 0.12, 0.03, 0.01, 0.038,  -999.00, 9, -999.00, -999.00, 9, -999.00
49NZ20071008, P14N, 81, 1, 35, X12041, 2, 20071112, 1552, 22.0142, 178.9953, 3749,     49.4, 2,  26.9146, 2,  35.2791, 2,  35.2795, 2,    202.5, 2,    202.4, 2,     0.91, 2,     0.03, 2,     0.01, 2,     0.04, 2,    1.047, 3,    0.641, 3,    0.273, 3, -999.000, 9,   -999.0, 9,   -999.0, 9, -999.0000,   -999.00,   -999.0, 9,   -999.0,  -999.00, 9,   -999.0,  26.9033, 22.9589,  26.9134, 2, 9, 0.12, 0.03, 0.01, 0.040,  -999.00, 9, -999.00, -999.00, 9, -999.00
49NZ20071008, P14N, 81, 1, 34, X12016, 2, 20071112, 1552, 22.0142, 178.9953, 3749,     99.7, 2,  25.0875, 2,  35.2805, 2,  35.2808, 2,    212.2, 2,    213.6, 2,     0.97, 2,     0.03, 2,     0.01, 2,     0.05, 2,    1.849, 2,    1.138, 2,    0.870, 4, -999.000, 9,   -999.0, 9,   -999.0, 9, -999.0000,   -999.00,   -999.0, 9,   -999.0,  -999.00, 9,   -999.0,  25.0658, 23.5332,  25.0860, 2, 9, 0.12, 0.03, 0.01, 0.037,  -999.00, 1, -999.00, -999.00, 9, -999.00
49NZ20071008, P14N, 81, 1, 33, X12033, 2, 20071112, 1552, 22.0142, 178.9953, 3749,    149.4, 2,  21.9480, 2,  35.1668, 2,  35.1651, 2,    191.6, 2,    191.8, 2,     1.62, 2,     0.82, 2,     0.06, 2,     0.14, 2,    2.086, 6,    1.255, 6,    0.273, 6, -999.000, 9,   -999.0, 9,   -999.0, 9, -999.0000,   -999.00,   -999.0, 9,   -999.0,  -999.00, 9,   -999.0,  21.9185, 24.3674,  21.9471, 2, 9, 0.12, 0.04, 0.01, 0.018,  -999.00, 9, -999.00, -999.00, 9, -999.00
49NZ20071008, P14N, 81, 1, 32, X12038, 2, 20071112, 1552, 22.0142, 178.9953, 3749,    198.1, 2,  19.0116, 2,  34.9196, 2,  34.9148, 2,    195.4, 2,    195.4, 2,     2.88, 2,     2.88, 2,     0.02, 2,     0.27, 2,    2.361, 2,    1.385, 2,    0.176, 2, -999.000, 9,   -999.0, 9,   -999.0, 9, -999.0000,   -999.00,   -999.0, 9,   -999.0,  -999.00, 9,   -999.0,  18.9763, 24.9658,  19.0125, 2, 9, 0.13, 0.04, 0.01, 0.014,  -999.00, 1, -999.00, -999.00, 9, -999.00
49NZ20071008, P14N, 81, 1, 31, X12003, 2, 20071112, 1552, 22.0142, 178.9953, 3749,    252.7, 2,  16.0714, 2,  34.6325, 2,  34.6377, 6,    194.9, 2,    193.0, 2,     5.59, 2,     6.55, 2,     0.02, 2,     0.53, 2,    2.631, 2,    1.515, 2,    0.060, 2, -999.000, 9,   -999.0, 9,   -999.0, 9, -999.0000,   -999.00,   -999.0, 9,   -999.0,  -999.00, 9,   -999.0,  16.0313, 25.4578,  16.0745, 2, 9, 0.13, 0.05, 0.01, 0.013,  -999.00, 9, -999.00, -999.00, 9, -999.00
49NZ20071008, P14N, 81, 1, 30, X12008, 2, 20071112, 1552, 22.0142, 178.9953, 3749,    282.5, 2,  15.0960, 2,  34.5450, 2,  34.5433, 2,    196.4, 2,    195.2, 2,     6.94, 2,     7.89, 2,     0.02, 2,     0.62, 2,    2.715, 2,    1.559, 2,    0.049, 2, -999.000, 9,   -999.0, 9,   -999.0, 9, -999.0000,   -999.00,   -999.0, 9,   -999.0,  -999.00, 9,   -999.0,  15.0531, 25.6095,  15.0972, 2, 9, 0.13, 0.05, 0.01, 0.013,  -999.00, 9, -999.00, -999.00, 9, -999.00
49NZ20071008, P14N, 81, 1, 29, X12035, 2, 20071112, 1552, 22.0142, 178.9953, 3749,    371.7, 2,  11.6549, 2,  34.2793, 2,  34.2825, 2,    199.2, 2,    195.9, 2,    14.86, 2,    13.63, 2,     0.01, 2,     1.01, 2,    2.884, 2,    1.604, 2,    0.071, 2, -999.000, 9,   -999.0, 9,   -999.0, 9, -999.0000,   -999.00,   -999.0, 9,   -999.0,  -999.00, 9,   -999.0,  11.6073, 26.1031,  11.6647, 2, 9, 0.15, 0.07, 0.01, 0.013,  -999.00, 1, -999.00, -999.00, 9, -999.00
49NZ20071008, P14N, 81, 1, 28, X12034, 2, 20071112, 1552, 22.0142, 178.9953, 3749,    470.2, 2,   9.1935, 2,  34.1421, 2,  34.1379, 6,    171.0, 2,    165.7, 2,    29.34, 2,    21.47, 2,     0.01, 2,     1.57, 2,    2.638, 2,    1.374, 2,    0.074, 2, -999.000, 9,   -999.0, 9,   -999.0, 9, -999.0000,   -999.00,   -999.0, 9,   -999.0,  -999.00, 9,   -999.0,   9.1415, 26.4237,   9.1927, 2, 9, 0.18, 0.09, 0.01, 0.014,  -999.00, 9, -999.00, -999.00, 9, -999.00
49NZ20071008, P14N, 81, 1, 27, X12049, 2, 20071112, 1552, 22.0142, 178.9953, 3749,    571.2, 2,   6.9619, 2,  34.0930, 2,  34.0922, 2,    108.2, 2,    109.6, 2,    51.75, 2,    30.79, 2,     0.01, 2,     2.25, 2,    1.678, 2,    0.819, 2,    0.042, 2, -999.000, 9,   -999.0, 9,   -999.0, 9, -999.0000,   -999.00,   -999.0, 9,   -999.0,  -999.00, 9,   -999.0,   6.9079, 26.7169,   6.9628, 2, 9, 0.23, 0.12, 0.01, 0.016,  -999.00, 1, -999.00, -999.00, 9, -999.00
49NZ20071008, P14N, 81, 1, 26, X12032, 2, 20071112, 1552, 22.0142, 178.9953, 3749,    670.9, 2,   5.6531, 2,  34.1436, 2,  34.1438, 2,     66.4, 2,     66.5, 2,    73.08, 2,    37.01, 2,     0.01, 2,     2.70, 2,    0.752, 6,    0.369, 6,    0.025, 6, -999.000, 9,   -999.0, 9,   -999.0, 9, -999.0000,   -999.00,   -999.0, 9,   -999.0,  -999.00, 9,   -999.0,   5.5958, 26.9259,   5.6545, 2, 9, 0.28, 0.14, 0.01, 0.017,  -999.00, 9, -999.00, -999.00, 9, -999.00
49NZ20071008, P14N, 81, 1, 25, X12043, 2, 20071112, 1552, 22.0142, 178.9953, 3749,    771.2, 2,   4.8589, 2,  34.2472, 2,  34.2455, 2,     41.5, 2,     42.3, 2,    89.71, 2,    40.43, 2,     0.01, 2,     2.95, 2,    0.266, 2,    0.135, 2,    0.008, 2, -999.000, 9,   -999.0, 9,   -999.0, 9, -999.0000,   -999.00,   -999.0, 9,   -999.0,  -999.00, 9,   -999.0,   4.7971, 27.1015,   4.8591, 2, 9, 0.32, 0.15, 0.01, 0.017,  -999.00, 1, -999.00, -999.00, 9, -999.00
49NZ20071008, P14N, 81, 1, 24, X12030, 2, 20071112, 1552, 22.0142, 178.9953, 3749,    871.7, 2,   4.5075, 2,  34.3547, 2,  34.3533, 2,     40.0, 2,     39.2, 2,    97.87, 2,    41.25, 2,     0.01, 2,     3.01, 2,    0.079, 2,    0.039, 2,    0.000, 2, -999.000, 9,   -999.0, 9,   -999.0, 9, -999.0000,   -999.00,   -999.0, 9,   -999.0,  -999.00, 9,   -999.0,   4.4392, 27.2263,   4.5081, 2, 9, 0.33, 0.15, 0.01, 0.017,  -999.00, 9, -999.00, -999.00, 9, -999.00
49NZ20071008, P14N, 81, 1, 23, X12027, 2, 20071112, 1552, 22.0142, 178.9953, 3749,    971.9, 2,   4.2215, 2,  34.4379, 2,  34.4383, 6,     50.7, 2,     48.6, 2,   103.83, 2,    41.28, 2,     0.01, 2,     2.99, 2,    0.022, 2,    0.011, 2,    0.000, 2, -999.000, 9,   -999.0, 9,   -999.0, 9, -999.0000,   -999.00,   -999.0, 9,   -999.0,  -999.00, 9,   -999.0,   4.1466, 27.3237,   4.2214, 2, 9, 0.35, 0.15, 0.01, 0.017,  -999.00, 1, -999.00, -999.00, 9, -999.00
49NZ20071008, P14N, 81, 1, 22, X12028, 2, 20071112, 1552, 22.0142, 178.9953, 3749,   1132.2, 2,   3.7999, 2,  34.5148, 2,  34.5148, 2,     64.5, 2,     63.1, 2,   111.15, 2,    40.81, 2,     0.01, 2,     2.94, 2,    0.004, 2,    0.003, 2,    0.000, 2, -999.000, 9,   -999.0, 9,   -999.0, 9, -999.0000,   -999.00,   -999.0, 9,   -999.0,  -999.00, 9,   -999.0,   3.7148, 27.4292,   3.7990, 2, 9, 0.36, 0.15, 0.01, 0.017,  -999.00, 9, -999.00, -999.00, 9, -999.00
49NZ20071008, P14N, 81, 1, 21, X12009, 2, 20071112, 1552, 22.0142, 178.9953, 3749,   1331.3, 2,   3.2130, 2,  34.5517, 2,  34.5518, 2,     72.7, 2,     71.7, 2,   122.52, 2,    40.57, 2,     0.01, 2,     2.92, 2,    0.000, 2,    0.000, 2,    0.000, 2, -999.000, 9,   -999.0, 9,   -999.0, 9, -999.0000,   -999.00,   -999.0, 9,   -999.0,  -999.00, 9,   -999.0,   3.1169, 27.5164,   3.2127, 2, 9, 0.39, 0.15, 0.01, 0.017,  -999.00, 9, -999.00, -999.00, 9, -999.00
49NZ20071008, P14N, 81, 1, 20, X12026, 2, 20071112, 1552, 22.0142, 178.9953, 3749,   1531.7, 2,   2.8149, 2,  34.5699, 2,  34.5695, 2,     79.3, 2,     78.3, 2,   131.46, 2,    40.52, 2,     0.01, 2,     2.91, 2,    0.000, 2,    0.000, 2,    0.000, 2, -999.000, 9,   -999.0, 9,   -999.0, 9, -999.0000,   -999.00,   -999.0, 9,   -999.0,  -999.00, 9,   -999.0,   2.7066, 27.5681,   2.8152, 2, 9, 0.41, 0.15, 0.01, 0.017,  -999.00, 9, -999.00, -999.00, 9, -999.00
49NZ20071008, P14N, 81, 1, 19, X12025, 2, 20071112, 1552, 22.0142, 178.9953, 3749,   1731.8, 2,   2.4856, 2,  34.5904, 2,  34.5906, 2,     86.6, 2,     85.7, 2,   138.28, 2,    40.13, 2,     0.01, 2,     2.87, 2,    0.000, 2,    0.001, 2,    0.000, 2, -999.000, 9,   -999.0, 9,   -999.0, 9, -999.0000,   -999.00,   -999.0, 9,   -999.0,  -999.00, 9,   -999.0,   2.3648, 27.6138,   2.4857, 2, 9, 0.42, 0.15, 0.01, 0.017,  -999.00, 9, -999.00, -999.00, 9, -999.00
49NZ20071008, P14N, 81, 1, 18, X12024, 2, 20071112, 1552, 22.0142, 178.9953, 3749,   1931.2, 2,   2.1485, 2,  34.6101, 2,  34.6101, 6,     94.4, 2,     92.5, 2,   146.20, 2,    39.97, 2,     0.01, 2,     2.84, 2,    0.000, 2,    0.000, 2,    0.000, 2, -999.000, 9,   -999.0, 9,   -999.0, 9, -999.0000,   -999.00,   -999.0, 9,   -999.0,  -999.00, 9,   -999.0,   2.0157, 27.6581,   2.1487, 2, 9, 0.44, 0.14, 0.01, 0.017,  -999.00, 1, -999.00, -999.00, 9, -999.00
49NZ20071008, P14N, 81, 1, 17, X12023, 2, 20071112, 1552, 22.0142, 178.9953, 3749,   2133.8, 2,   1.9396, 2,  34.6281, 2,  34.6275, 2,    104.0, 2,    103.4, 2,   148.70, 2,    39.29, 2,     0.01, 2,     2.78, 2,    0.000, 2,    0.000, 2,    0.000, 2, -999.000, 9,   -999.0, 9,   -999.0, 9, -999.0000,   -999.00,   -999.0, 9,   -999.0,  -999.00, 9,   -999.0,   1.7928, 27.6899,   1.9395, 2, 9, 0.45, 0.14, 0.01, 0.017,  -999.00, 9, -999.00, -999.00, 9, -999.00
49NZ20071008, P14N, 81, 1, 16, X12022, 2, 20071112, 1552, 22.0142, 178.9953, 3749,   2332.8, 2,   1.8244, 2,  34.6389, 2,  34.6389, 2,    110.7, 2,    109.6, 2,   150.26, 2,    38.95, 2,     0.01, 2,     2.75, 2,    0.000, 2,    0.000, 2,    0.000, 2, -999.000, 9,   -999.0, 9,   -999.0, 9, -999.0000,   -999.00,   -999.0, 9,   -999.0,  -999.00, 9,   -999.0,   1.6623, 27.7084,   1.8245, 2, 9, 0.45, 0.14, 0.01, 0.017,  -999.00, 9, -999.00, -999.00, 9, -999.00
49NZ20071008, P14N, 81, 1, 15, X12021, 2, 20071112, 1552, 22.0142, 178.9953, 3749,   2529.5, 2,   1.7093, 2,  34.6502, 2,  34.6506, 2,    118.2, 2,    118.5, 2,   150.57, 2,    38.42, 2,     0.01, 2,     2.71, 2,    0.000, 2,    0.000, 2,    0.000, 2, -999.000, 9,   -999.0, 9,   -999.0, 9, -999.0000,   -999.00,   -999.0, 9,   -999.0,  -999.00, 9,   -999.0,   1.5318, 27.7272,   1.7092, 2, 9, 0.45, 0.14, 0.01, 0.017,  -999.00, 9, -999.00, -999.00, 9, -999.00
49NZ20071008, P14N, 81, 1, 14, X12020, 2, 20071112, 1552, 22.0142, 178.9953, 3749,   2732.5, 2,   1.6500, 2,  34.6569, 2,  34.6570, 6,    123.1, 2,    123.5, 2,   149.95, 2,    37.84, 2,     0.01, 2,     2.65, 2, -999.000, 9, -999.000, 9, -999.000, 9, -999.000, 9,   -999.0, 9,   -999.0, 9, -999.0000,   -999.00,   -999.0, 9,   -999.0,  -999.00, 9,   -999.0,   1.4552, 27.7381,   1.6500, 2, 9, 0.45, 0.14, 0.01, 0.017,  -999.00, 9, -999.00, -999.00, 9, -999.00
49NZ20071008, P14N, 81, 1, 13, X12019, 2, 20071112, 1552, 22.0142, 178.9953, 3749,   2932.7, 2,   1.5969, 2,  34.6632, 2,  34.6635, 2,    127.5, 2,    129.3, 2,   149.83, 2,    37.74, 2,     0.01, 2,     2.66, 2,    0.000, 2,    0.000, 2,    0.000, 2, -999.000, 9,   -999.0, 9,   -999.0, 9, -999.0000,   -999.00,   -999.0, 9,   -999.0,  -999.00, 9,   -999.0,   1.3844, 27.7482,   1.5968, 2, 9, 0.45, 0.14, 0.01, 0.017,  -999.00, 1, -999.00, -999.00, 9, -999.00
49NZ20071008, P14N, 81, 1, 12, X12040, 2, 20071112, 1552, 22.0142, 178.9953, 3749,   3170.2, 2,   1.5579, 2,  34.6686, 2,  34.6686, 2,    134.8, 2,    134.9, 2,   148.82, 2,    37.27, 2,     0.01, 2,     2.62, 2, -999.000, 9, -999.000, 9, -999.000, 9, -999.000, 9,   -999.0, 9,   -999.0, 9, -999.0000,   -999.00,   -999.0, 9,   -999.0,  -999.00, 9,   -999.0,   1.3234, 27.7569,   1.5580, 2, 9, 0.45, 0.14, 0.01, 0.017,  -999.00, 9, -999.00, -999.00, 9, -999.00
49NZ20071008, P14N, 81, 1, 11, X12047, 2, 20071112, 1552, 22.0142, 178.9953, 3749,   3420.7, 2,   1.5160, 2,  34.6743, 2,  34.6740, 2,    141.9, 2,    140.8, 2,   147.38, 2,    36.97, 2,     0.01, 2,     2.59, 2,    0.000, 2,    0.000, 2,    0.000, 2, -999.000, 9,   -999.0, 9,   -999.0, 9, -999.0000,   -999.00,   -999.0, 9,   -999.0,  -999.00, 9,   -999.0,   1.2576, 27.7661,   1.5159, 2, 9, 0.44, 0.14, 0.01, 0.016,  -999.00, 9, -999.00, -999.00, 9, -999.00
49NZ20071008, P14N, 81, 1, 10, X12012, 2, 20071112, 1552, 22.0142, 178.9953, 3749,   3670.5, 2,   1.4715, 2,  34.6802, 2,  34.6809, 2,    147.7, 2,    147.7, 2,   145.51, 2,    36.40, 2,     0.01, 2,     2.55, 2, -999.000, 9, -999.000, 9, -999.000, 9, -999.000, 9,   -999.0, 9,   -999.0, 9, -999.0000,   -999.00,   -999.0, 9,   -999.0,  -999.00, 9,   -999.0,   1.1885, 27.7756,   1.4715, 2, 9, 0.44, 0.13, 0.01, 0.016,  -999.00, 9, -999.00, -999.00, 9, -999.00
49NZ20071008, P14N, 81, 1, 9, X12015, 2, 20071112, 1552, 22.0142, 178.9953, 3749,   2933.7, 2,   1.5959, 2,  34.6632, 2, -999.0000, 9,    127.5, 2,   -999.0, 9,  -999.00, 9,  -999.00, 9,  -999.00, 9,  -999.00, 9, -999.000, 9, -999.000, 9, -999.000, 9, -999.000, 9,   -999.0, 9,   -999.0, 9, -999.0000,   -999.00,   -999.0, 9,   -999.0,  -999.00, 9,   -999.0,   1.3834, 27.7483,   1.5959, 2, 9, -999.00, -999.00, -999.00, -999.000,  -999.00, 1, -999.00, -999.00, 9, -999.00
49NZ20071008, P14N, 81, 1, 8, X12046, 2, 20071112, 1552, 22.0142, 178.9953, 3749,   3925.5, 2,   1.4230, 2,  34.6863, 2, -999.0000, 9,    156.9, 2,   -999.0, 9,  -999.00, 9,  -999.00, 9,  -999.00, 9,  -999.00, 9, -999.000, 9, -999.000, 9, -999.000, 9, -999.000, 9,   -999.0, 9,   -999.0, 9, -999.0000,   -999.00,   -999.0, 9,   -999.0,  -999.00, 9,   -999.0,   1.1143, 27.7856,   1.4229, 2, 9, -999.00, -999.00, -999.00, -999.000,  -999.00, 1, -999.00, -999.00, 9, -999.00
49NZ20071008, P14N, 81, 1, 7, X12044, 2, 20071112, 1552, 22.0142, 178.9953, 3749,   1931.4, 2,   2.1472, 2,  34.6102, 2, -999.0000, 9,     94.4, 2,   -999.0, 9,  -999.00, 9,  -999.00, 9,  -999.00, 9,  -999.00, 9, -999.000, 9, -999.000, 9, -999.000, 9, -999.000, 9,   -999.0, 9,   -999.0, 9, -999.0000,   -999.00,   -999.0, 9,   -999.0,  -999.00, 9,   -999.0,   2.0144, 27.6583,   2.1473, 2, 9, -999.00, -999.00, -999.00, -999.000,  -999.00, 1, -999.00, -999.00, 9, -999.00
49NZ20071008, P14N, 81, 1, 6, X12048, 2, 20071112, 1552, 22.0142, 178.9953, 3749,   2933.5, 2,   1.5959, 2,  34.6632, 2, -999.0000, 9,    127.5, 2,   -999.0, 9,  -999.00, 9,  -999.00, 9,  -999.00, 9,  -999.00, 9, -999.000, 9, -999.000, 9, -999.000, 9, -999.000, 9,   -999.0, 9,   -999.0, 9, -999.0000,   -999.00,   -999.0, 9,   -999.0,  -999.00, 9,   -999.0,   1.3834, 27.7483,   1.5958, 2, 9, -999.00, -999.00, -999.00, -999.000,  -999.00, 1, -999.00, -999.00, 9, -999.00
49NZ20071008, P14N, 81, 1, 5, X12014, 2, 20071112, 1552, 22.0142, 178.9953, 3749,   3925.7, 2,   1.4231, 2,  34.6864, 2, -999.0000, 9,    156.9, 2,   -999.0, 9,  -999.00, 9,  -999.00, 9,  -999.00, 9,  -999.00, 9, -999.000, 9, -999.000, 9, -999.000, 9, -999.000, 9,   -999.0, 9,   -999.0, 9, -999.0000,   -999.00,   -999.0, 9,   -999.0,  -999.00, 9,   -999.0,   1.1144, 27.7856,   1.4231, 2, 9, -999.00, -999.00, -999.00, -999.000,  -999.00, 1, -999.00, -999.00, 9, -999.00
49NZ20071008, P14N, 81, 1, 4, X12006, 2, 20071112, 1552, 22.0142, 178.9953, 3749,   1930.8, 2,   2.1489, 2,  34.6101, 2, -999.0000, 9,     94.4, 2,   -999.0, 9,  -999.00, 9,  -999.00, 9,  -999.00, 9,  -999.00, 9, -999.000, 9, -999.000, 9, -999.000, 9, -999.000, 9,   -999.0, 9,   -999.0, 9, -999.0000,   -999.00,   -999.0, 9,   -999.0,  -999.00, 9,   -999.0,   2.0161, 27.6580,   2.1489, 2, 9, -999.00, -999.00, -999.00, -999.000,  -999.00, 1, -999.00, -999.00, 9, -999.00
49NZ20071008, P14N, 81, 1, 3, X12013, 2, 20071112, 1552, 22.0142, 178.9953, 3749,   2932.8, 2,   1.5964, 2,  34.6632, 2, -999.0000, 9,    127.5, 2,   -999.0, 9,  -999.00, 9,  -999.00, 9,  -999.00, 9,  -999.00, 9, -999.000, 9, -999.000, 9, -999.000, 9, -999.000, 9,   -999.0, 9,   -999.0, 9, -999.0000,   -999.00,   -999.0, 9,   -999.0,  -999.00, 9,   -999.0,   1.3839, 27.7482,   1.5961, 2, 9, -999.00, -999.00, -999.00, -999.000,  -999.00, 1, -999.00, -999.00, 9, -999.00
49NZ20071008, P14N, 81, 1, 2, X12002, 2, 20071112, 1552, 22.0142, 178.9953, 3749,   3925.8, 2,   1.4228, 2,  34.6863, 2, -999.0000, 9,    156.9, 2,   -999.0, 9,  -999.00, 9,  -999.00, 9,  -999.00, 9,  -999.00, 9, -999.000, 9, -999.000, 9, -999.000, 9, -999.000, 9,   -999.0, 9,   -999.0, 9, -999.0000,   -999.00,   -999.0, 9,   -999.0,  -999.00, 9,   -999.0,   1.1141, 27.7856,   1.4228, 2, 9, -999.00, -999.00, -999.00, -999.000,  -999.00, 1, -999.00, -999.00, 9, -999.00
49NZ20071008, P14N, 81, 1, 1, X12001, 2, 20071112, 1552, 22.0142, 178.9953, 3749,   3925.8, 2,   1.4228, 2,  34.6862, 2,  34.6872, 6,    156.9, 2,    157.1, 2,   141.15, 2,    35.70, 2,     0.01, 2,     2.50, 2,    0.001, 2,    0.002, 2,    0.000, 2, -999.000, 9,   -999.0, 9,   -999.0, 9, -999.0000,   -999.00,   -999.0, 9,   -999.0,  -999.00, 9,   -999.0,   1.1141, 27.7855,   1.4227, 2, 9, 0.43, 0.13, 0.01, 0.016,  -999.00, 1, -999.00, -999.00, 9, -999.00