BOTTLE,20221005CCHSIOAMB
EXPOCODE,SECT_ID,STNNBR,CASTNO,SAMPNO,BTLNBR,BTLNBR_FLAG_W,DATE,TIME,LATITUDE,LONGITUDE,DEPTH,CTDPRS,CTDPRS_FLAG_W,CTDTMP,CTDTMP_FLAG_W,CTDSAL,CTDSAL_FLAG_W,SALNTY,SALNTY_FLAG_W,CTDOXY,CTDOXY_FLAG_W,OXYGEN,OXYGEN_FLAG_W,SILCAT,SILCAT_FLAG_W,NITRAT,NITRAT_FLAG_W,NITRIT,NITRIT_FLAG_W,PHSPHT,PHSPHT_FLAG_W,CFC-11,CFC-11_FLAG_W,CFC-12,CFC-12_FLAG_W,CFC113,CFC113_FLAG_W,CCL4,CCL4_FLAG_W,TCARBN,TCARBN_FLAG_W,ALKALI,ALKALI_FLAG_W,PH_TOT,PH_TMP,DELC14,DELC14_FLAG_W,C14ERR,DELC13,DELC13_FLAG_W,C13ERR,THETA,SIG0,SBE35,SBE35_FLAG_W,PH_TOT_FLAG_W,SILUNC,NRAUNC,NRIUNC,PHPUNC,CS-137,CS-137_FLAG_W,CS137ER,PLUTO,PLUTO_FLAG_W,PLUTOER
,,,,,,,,,,,METERS,DBAR,,ITS-90,,PSS-78,,PSS-78,,UMOL/KG,,UMOL/KG,,UMOL/KG,,UMOL/KG,,UMOL/KG,,UMOL/KG,,PMOL/KG,,PMOL/KG,,PMOL/KG,,PMOL/KG,,UMOL/KG,,UMOL/KG,,,DEG C,/MILLE,,/MILLE,/MILLE,,/MILLE,DEG C,KG/M^3,ITS-90,,,UMOL/KG,UMOL/KG,UMOL/KG,UMOL/KG,DM/.1MG,,BQ/M^3,MBQ/M^3,,MBQ/M^3
49NZ20071008, P01, P01_45, 1, 36, X12042, 2, 20071016, 1049, 46.9998, 167.8325, 6208,      9.9, 2,   8.5445, 2,  32.6481, 2,  32.6483, 2,    292.6, 2,    290.8, 2,    22.17, 2,    13.21, 2,     0.25, 2,     1.31, 2,    3.979, 2,    2.211, 2,    0.363, 2, -999.000, 9,   -999.0, 9,   -999.0, 9, -999.0000,   -999.00,   -999.0, 9,   -999.0,  -999.00, 9,   -999.0,   8.5435, 25.3468,   8.5437, 2, 9, 0.17, 0.07, 0.01, 0.014,  -999.00, 9, -999.00, -999.00, 9, -999.00
49NZ20071008, P01, P01_45, 1, 35, X12041, 2, 20071016, 1049, 46.9998, 167.8325, 6208,     50.2, 2,   8.4484, 2,  32.6538, 2,  32.6511, 2,    290.4, 2,    289.6, 2,    22.22, 2,    13.33, 2,     0.24, 2,     1.32, 2,    3.979, 2,    2.207, 2,    0.378, 2, -999.000, 9,   -999.0, 9,   -999.0, 9, -999.0000,   -999.00,   -999.0, 9,   -999.0,  -999.00, 9,   -999.0,   8.4434, 25.3663,   8.4634, 2, 9, 0.17, 0.07, 0.01, 0.014,  -999.00, 9, -999.00, -999.00, 9, -999.00
49NZ20071008, P01, P01_45, 1, 34, X12016, 2, 20071016, 1049, 46.9998, 167.8325, 6208,    100.4, 2,   1.8842, 2,  33.0981, 2,  33.0981, 2,    306.2, 2,    302.1, 2,    45.52, 2,    27.01, 2,     0.02, 2,     2.11, 2,    5.418, 2,    2.918, 2,    0.519, 2, -999.000, 9,   -999.0, 9,   -999.0, 9, -999.0000,   -999.00,   -999.0, 9,   -999.0,  -999.00, 9,   -999.0,   1.8793, 26.4570,   1.8829, 2, 9, 0.22, 0.11, 0.01, 0.015,  -999.00, 1, -999.00, -999.00, 9, -999.00
49NZ20071008, P01, P01_45, 1, 33, X12033, 2, 20071016, 1049, 46.9998, 167.8325, 6208,    150.0, 2,   3.5256, 2,  33.6528, 2,  33.6509, 2,    113.6, 2,    106.0, 2,    80.00, 2,    39.86, 2,     0.01, 2,     2.87, 2,    2.946, 6,    1.505, 6,    0.227, 6, -999.000, 9,   -999.0, 9,   -999.0, 9, -999.0000,   -999.00,   -999.0, 9,   -999.0,  -999.00, 9,   -999.0,   3.5160, 26.7621,   3.5254, 2, 9, 0.30, 0.14, 0.01, 0.017,  -999.00, 9, -999.00, -999.00, 9, -999.00
49NZ20071008, P01, P01_45, 1, 32, X12038, 2, 20071016, 1049, 46.9998, 167.8325, 6208,    199.8, 2,   3.7161, 2,  33.8303, 2,  33.8306, 2,     52.6, 2,     50.6, 2,    91.28, 2,    43.43, 2,     0.01, 2,     3.10, 2,    2.191, 2,    1.090, 2,    0.170, 2, -999.000, 9,   -999.0, 9,   -999.0, 9, -999.0000,   -999.00,   -999.0, 9,   -999.0,  -999.00, 9,   -999.0,   3.7029, 26.8854,   3.7158, 2, 9, 0.32, 0.15, 0.01, 0.018,  -999.00, 1, -999.00, -999.00, 9, -999.00
49NZ20071008, P01, P01_45, 1, 31, X12003, 2, 20071016, 1049, 46.9998, 167.8325, 6208,    250.2, 2,   3.7415, 2,  33.9327, 2,  33.9296, 6,     32.9, 2,     27.6, 2,    98.25, 2,    44.85, 2,     0.01, 2,     3.19, 2,    1.735, 2,    0.846, 2,    0.118, 2, -999.000, 9,   -999.0, 9,   -999.0, 9, -999.0000,   -999.00,   -999.0, 9,   -999.0,  -999.00, 9,   -999.0,   3.7248, 26.9647,   3.7403, 2, 9, 0.34, 0.16, 0.01, 0.018,  -999.00, 9, -999.00, -999.00, 9, -999.00
49NZ20071008, P01, P01_45, 1, 30, X12008, 2, 20071016, 1049, 46.9998, 167.8325, 6208,    300.8, 2,   3.7179, 2,  34.0134, 2,  34.0126, 2,     24.0, 2,     22.8, 2,   102.93, 2,    44.69, 2,     0.01, 2,     3.18, 2,    1.370, 2,    0.657, 2,    0.079, 2, -999.000, 9,   -999.0, 9,   -999.0, 9, -999.0000,   -999.00,   -999.0, 9,   -999.0,  -999.00, 9,   -999.0,   3.6977, 27.0317,   3.7175, 2, 9, 0.35, 0.16, 0.01, 0.018,  -999.00, 9, -999.00, -999.00, 9, -999.00
49NZ20071008, P01, P01_45, 1, 29, X12035, 2, 20071016, 1049, 46.9998, 167.8325, 6208,    401.8, 2,   3.6252, 2,  34.1137, 2,  34.1127, 2,     20.0, 2,     19.6, 2,   112.00, 2,    44.42, 2,     0.01, 2,     3.16, 2,    0.887, 2,    0.418, 2,    0.051, 4, -999.000, 9,   -999.0, 9,   -999.0, 9, -999.0000,   -999.00,   -999.0, 9,   -999.0,  -999.00, 9,   -999.0,   3.5981, 27.1214,   3.6251, 2, 9, 0.37, 0.16, 0.01, 0.018,  -999.00, 1, -999.00, -999.00, 9, -999.00
49NZ20071008, P01, P01_45, 1, 28, X12034, 2, 20071016, 1049, 46.9998, 167.8325, 6208,    501.3, 2,   3.4043, 2,  34.2013, 2,  34.2017, 6,     17.1, 2,     17.7, 2,   122.55, 2,    44.28, 2,     0.01, 2,     3.16, 2,    0.556, 2,    0.261, 2,    0.039, 2, -999.000, 9,   -999.0, 9,   -999.0, 9, -999.0000,   -999.00,   -999.0, 9,   -999.0,  -999.00, 9,   -999.0,   3.3709, 27.2130,   3.4040, 2, 9, 0.39, 0.16, 0.01, 0.018,  -999.00, 9, -999.00, -999.00, 9, -999.00
49NZ20071008, P01, P01_45, 1, 27, X12049, 2, 20071016, 1049, 46.9998, 167.8325, 6208,    600.9, 2,   3.2407, 2,  34.2646, 2,  34.2641, 2,     16.2, 2,     14.7, 2,   130.50, 2,    44.49, 2,     0.01, 2,     3.17, 2,    0.341, 2,    0.162, 2,    0.019, 2, -999.000, 9,   -999.0, 9,   -999.0, 9, -999.0000,   -999.00,   -999.0, 9,   -999.0,  -999.00, 9,   -999.0,   3.2009, 27.2795,   3.2406, 2, 9, 0.41, 0.16, 0.01, 0.018,  -999.00, 1, -999.00, -999.00, 9, -999.00
49NZ20071008, P01, P01_45, 1, 26, X12032, 2, 20071016, 1049, 46.9998, 167.8325, 6208,    699.4, 2,   3.0946, 2,  34.3105, 2,  34.3105, 2,     16.7, 2,     16.6, 2,   135.76, 2,    44.34, 2,     0.01, 2,     3.17, 2,    0.239, 6,    0.112, 6,    0.012, 6, -999.000, 9,   -999.0, 9,   -999.0, 9, -999.0000,   -999.00,   -999.0, 9,   -999.0,  -999.00, 9,   -999.0,   3.0485, 27.3303,   3.0944, 2, 9, 0.42, 0.16, 0.01, 0.018,  -999.00, 9, -999.00, -999.00, 9, -999.00
49NZ20071008, P01, P01_45, 1, 25, X12043, 2, 20071016, 1049, 46.9998, 167.8325, 6208,    800.7, 2,   2.9147, 2,  34.3477, 2,  34.3494, 2,     17.8, 2,     19.0, 2,   141.57, 2,    44.22, 2,     0.01, 2,     3.16, 2,    0.189, 2,    0.086, 2,    0.012, 2, -999.000, 9,   -999.0, 9,   -999.0, 9, -999.0000,   -999.00,   -999.0, 9,   -999.0,  -999.00, 9,   -999.0,   2.8623, 27.3768,   2.9143, 2, 9, 0.43, 0.16, 0.01, 0.018,  -999.00, 1, -999.00, -999.00, 9, -999.00
49NZ20071008, P01, P01_45, 1, 24, X12030, 2, 20071016, 1049, 46.9998, 167.8325, 6208,    901.2, 2,   2.7749, 2,  34.3864, 2,  34.3860, 2,     19.9, 2,     19.5, 2,   146.56, 2,    44.06, 2,     0.01, 2,     3.14, 2,    0.126, 2,    0.059, 2,    0.010, 2, -999.000, 9,   -999.0, 9,   -999.0, 9, -999.0000,   -999.00,   -999.0, 9,   -999.0,  -999.00, 9,   -999.0,   2.7162, 27.4206,   2.7748, 2, 9, 0.44, 0.16, 0.01, 0.018,  -999.00, 9, -999.00, -999.00, 9, -999.00
49NZ20071008, P01, P01_45, 1, 23, X12027, 2, 20071016, 1049, 46.9998, 167.8325, 6208,   1000.9, 2,   2.6180, 2,  34.4217, 2,  34.4226, 6,     22.8, 2,     23.5, 2,   151.75, 2,    44.00, 2,     0.01, 2,     3.14, 2,    0.097, 2,    0.043, 2,    0.008, 2, -999.000, 9,   -999.0, 9,   -999.0, 9, -999.0000,   -999.00,   -999.0, 9,   -999.0,  -999.00, 9,   -999.0,   2.5532, 27.4630,   2.6179, 2, 9, 0.45, 0.16, 0.01, 0.018,  -999.00, 1, -999.00, -999.00, 9, -999.00
49NZ20071008, P01, P01_45, 1, 22, X12028, 2, 20071016, 1049, 46.9998, 167.8325, 6208,   1199.5, 2,   2.3576, 2,  34.4849, 2,  34.4849, 2,     29.3, 2,     30.6, 2,   159.11, 2,    43.76, 2,     0.00, 2,     3.11, 2,    0.039, 2,    0.016, 2,    0.000, 2, -999.000, 9,   -999.0, 9,   -999.0, 9, -999.0000,   -999.00,   -999.0, 9,   -999.0,  -999.00, 9,   -999.0,   2.2803, 27.5364,   2.3575, 2, 9, 0.47, 0.16, 0.01, 0.018,  -999.00, 9, -999.00, -999.00, 9, -999.00
49NZ20071008, P01, P01_45, 1, 21, X12009, 2, 20071016, 1049, 46.9998, 167.8325, 6208,   1400.6, 2,   2.1813, 2,  34.5255, 2,  34.5263, 2,     40.3, 2,     41.1, 2,   162.79, 2,    43.10, 2,     0.01, 2,     3.07, 2,    0.020, 2,    0.006, 2,    0.000, 2, -999.000, 9,   -999.0, 9,   -999.0, 9, -999.0000,   -999.00,   -999.0, 9,   -999.0,  -999.00, 9,   -999.0,   2.0907, 27.5843,   2.1813, 2, 9, 0.48, 0.15, 0.01, 0.018,  -999.00, 9, -999.00, -999.00, 9, -999.00
49NZ20071008, P01, P01_45, 1, 20, X12026, 2, 20071016, 1049, 46.9998, 167.8325, 6208,   1602.1, 2,   2.0164, 2,  34.5634, 2,  34.5630, 2,     53.2, 2,     54.2, 2,   165.17, 2,    42.31, 2,     0.00, 2,     3.01, 2,    0.007, 2,    0.002, 2,    0.000, 2, -999.000, 9,   -999.0, 9,   -999.0, 9, -999.0000,   -999.00,   -999.0, 9,   -999.0,  -999.00, 9,   -999.0,   1.9121, 27.6288,   2.0165, 2, 9, 0.48, 0.15, 0.01, 0.017,  -999.00, 9, -999.00, -999.00, 9, -999.00
49NZ20071008, P01, P01_45, 1, 19, X12025, 2, 20071016, 1049, 46.9998, 167.8325, 6208,   1800.5, 2,   1.8938, 2,  34.5890, 2,  34.5893, 2,     66.2, 2,     66.8, 2,   165.68, 2,    41.61, 2,     0.01, 2,     2.95, 2,    0.002, 2,    0.000, 2,    0.000, 2, -999.000, 9,   -999.0, 9,   -999.0, 9, -999.0000,   -999.00,   -999.0, 9,   -999.0,  -999.00, 9,   -999.0,   1.7754, 27.6598,   1.8939, 2, 9, 0.48, 0.15, 0.01, 0.017,  -999.00, 1, -999.00, -999.00, 9, -999.00
49NZ20071008, P01, P01_45, 1, 18, X12024, 2, 20071016, 1049, 46.9998, 167.8325, 6208,   1998.8, 2,   1.7919, 2,  34.6118, 2,  34.6121, 2,     79.8, 2,     81.8, 2,   164.10, 2,    40.64, 2,     0.01, 2,     2.88, 2,    0.000, 2,    0.000, 2,    0.000, 2, -999.000, 9,   -999.0, 9,   -999.0, 9, -999.0000,   -999.00,   -999.0, 9,   -999.0,  -999.00, 9,   -999.0,   1.6588, 27.6869,   1.7920, 2, 9, 0.48, 0.15, 0.01, 0.017,  -999.00, 1, -999.00, -999.00, 9, -999.00
49NZ20071008, P01, P01_45, 1, 17, X12023, 2, 20071016, 1049, 46.9998, 167.8325, 6208,   2199.3, 2,   1.7074, 2,  34.6274, 2,  34.6279, 2,     89.9, 2,     92.4, 2,   163.41, 2,    39.96, 2,     0.00, 2,     2.84, 2,    0.000, 2,    0.000, 2,    0.000, 2, -999.000, 9,   -999.0, 9,   -999.0, 9, -999.0000,   -999.00,   -999.0, 9,   -999.0,  -999.00, 9,   -999.0,   1.5588, 27.7068,   1.7074, 2, 9, 0.48, 0.14, 0.01, 0.017,  -999.00, 1, -999.00, -999.00, 9, -999.00
49NZ20071008, P01, P01_45, 1, 16, X12022, 2, 20071016, 1049, 46.9998, 167.8325, 6208,   2402.0, 2,   1.6393, 2,  34.6402, 2,  34.6403, 2,    100.1, 2,    102.8, 2,   162.13, 2,    39.33, 2,     0.01, 2,     2.78, 2,    0.001, 2,    0.000, 2,    0.000, 2, -999.000, 9,   -999.0, 9,   -999.0, 9, -999.0000,   -999.00,   -999.0, 9,   -999.0,  -999.00, 9,   -999.0,   1.4744, 27.7233,   1.6392, 2, 9, 0.48, 0.14, 0.01, 0.017,  -999.00, 9, -999.00, -999.00, 9, -999.00
49NZ20071008, P01, P01_45, 1, 15, X12021, 2, 20071016, 1049, 46.9998, 167.8325, 6208,   2599.8, 2,   1.5950, 2,  34.6495, 2,  34.6491, 2,    109.2, 2,    111.7, 2,   160.11, 2,    38.80, 2,     0.01, 2,     2.75, 2, -999.000, 9, -999.000, 9, -999.000, 9, -999.000, 9,   -999.0, 9,   -999.0, 9, -999.0000,   -999.00,   -999.0, 9,   -999.0,  -999.00, 9,   -999.0,   1.4134, 27.7352,   1.5951, 2, 9, 0.47, 0.14, 0.01, 0.017,  -999.00, 9, -999.00, -999.00, 9, -999.00
49NZ20071008, P01, P01_45, 1, 14, X12020, 2, 20071016, 1049, 46.9998, 167.8325, 6208,   2799.2, 2,   1.5595, 2,  34.6567, 2,  34.6569, 6,    118.4, 2,    118.5, 2,   158.96, 2,    38.35, 2,     0.01, 2,     2.71, 2,    0.002, 2,    0.000, 2,    0.000, 2, -999.000, 9,   -999.0, 9,   -999.0, 9, -999.0000,   -999.00,   -999.0, 9,   -999.0,  -999.00, 9,   -999.0,   1.3604, 27.7447,   1.5596, 2, 9, 0.47, 0.14, 0.01, 0.017,  -999.00, 1, -999.00, -999.00, 9, -999.00
49NZ20071008, P01, P01_45, 1, 13, X12019, 2, 20071016, 1049, 46.9998, 167.8325, 6208,   2999.8, 2,   1.5284, 2,  34.6633, 2,  34.6633, 2,    125.7, 2,    125.5, 2,   156.97, 2,    37.89, 2,     0.00, 2,     2.68, 2, -999.000, 9, -999.000, 9, -999.000, 9, -999.000, 9,   -999.0, 9,   -999.0, 9, -999.0000,   -999.00,   -999.0, 9,   -999.0,  -999.00, 9,   -999.0,   1.3111, 27.7535,   1.5285, 2, 9, 0.46, 0.14, 0.01, 0.017,  -999.00, 1, -999.00, -999.00, 9, -999.00
49NZ20071008, P01, P01_45, 1, 12, X12040, 2, 20071016, 1049, 46.9998, 167.8325, 6208,   3251.2, 2,   1.5044, 2,  34.6694, 2,  34.6694, 2,    132.1, 2,    131.9, 2,   155.15, 2,    37.39, 2,     0.00, 2,     2.63, 2, -999.000, 9, -999.000, 9, -999.000, 9, -999.000, 9,   -999.0, 9,   -999.0, 9, -999.0000,   -999.00,   -999.0, 9,   -999.0,  -999.00, 9,   -999.0,   1.2632, 27.7618,   1.5044, 2, 9, 0.46, 0.14, 0.01, 0.017,  -999.00, 1, -999.00, -999.00, 9, -999.00
49NZ20071008, P01, P01_45, 1, 11, X12047, 2, 20071016, 1049, 46.9998, 167.8325, 6208,   3499.8, 2,   1.4953, 2,  34.6734, 2,  34.6736, 2,    137.4, 2,    136.9, 2,   153.81, 2,    37.14, 2,     0.00, 2,     2.61, 2,    0.000, 2,    0.000, 2,    0.000, 2, -999.000, 9,   -999.0, 9,   -999.0, 9, -999.0000,   -999.00,   -999.0, 9,   -999.0,  -999.00, 9,   -999.0,   1.2293, 27.7673,   1.4953, 2, 9, 0.46, 0.14, 0.01, 0.017,  -999.00, 9, -999.00, -999.00, 9, -999.00
49NZ20071008, P01, P01_45, 1, 10, X12010, 2, 20071016, 1049, 46.9998, 167.8325, 6208,   3751.2, 2,   1.4918, 2,  34.6772, 2,  34.6771, 2,    141.5, 2,    141.1, 2,   152.47, 2,    36.85, 2,     0.00, 2,     2.59, 2, -999.000, 9, -999.000, 9, -999.000, 9, -999.000, 9,   -999.0, 9,   -999.0, 9, -999.0000,   -999.00,   -999.0, 9,   -999.0,  -999.00, 9,   -999.0,   1.1998, 27.7724,   1.4920, 2, 9, 0.45, 0.14, 0.01, 0.016,  -999.00, 1, -999.00, -999.00, 9, -999.00
49NZ20071008, P01, P01_45, 1, 9, X12015, 2, 20071016, 1049, 46.9998, 167.8325, 6208,   3998.8, 2,   1.4887, 2,  34.6805, 2,  34.6803, 2,    145.7, 2,    145.4, 2,   151.24, 2,    36.58, 2,     0.00, 2,     2.57, 2, -999.000, 9, -999.000, 9, -999.000, 9, -999.000, 9,   -999.0, 9,   -999.0, 9, -999.0000,   -999.00,   -999.0, 9,   -999.0,  -999.00, 9,   -999.0,   1.1703, 27.7771,   1.4888, 2, 9, 0.45, 0.14, 0.01, 0.016,  -999.00, 1, -999.00, -999.00, 9, -999.00
49NZ20071008, P01, P01_45, 1, 8, X12046, 2, 20071016, 1049, 46.9998, 167.8325, 6208,   4249.7, 2,   1.4906, 2,  34.6835, 2,  34.6832, 2,    149.4, 2,    149.0, 2,   150.21, 2,    36.44, 2,     0.00, 2,     2.55, 2,    0.001, 2,    0.002, 2,    0.000, 2, -999.000, 9,   -999.0, 9,   -999.0, 9, -999.0000,   -999.00,   -999.0, 9,   -999.0,  -999.00, 9,   -999.0,   1.1444, 27.7813,   1.4909, 2, 9, 0.45, 0.13, 0.01, 0.016,  -999.00, 1, -999.00, -999.00, 9, -999.00
49NZ20071008, P01, P01_45, 1, 7, X12044, 2, 20071016, 1049, 46.9998, 167.8325, 6208,   4499.8, 2,   1.5011, 2,  34.6854, 2,  34.6853, 6,    152.0, 2,    151.6, 2,   149.46, 2,    36.21, 2,     0.00, 2,     2.54, 2, -999.000, 9, -999.000, 9, -999.000, 9, -999.000, 9,   -999.0, 9,   -999.0, 9, -999.0000,   -999.00,   -999.0, 9,   -999.0,  -999.00, 9,   -999.0,   1.1261, 27.7841,   1.5013, 2, 9, 0.45, 0.13, 0.01, 0.016,  -999.00, 9, -999.00, -999.00, 9, -999.00
49NZ20071008, P01, P01_45, 1, 6, X12048, 2, 20071016, 1049, 46.9998, 167.8325, 6208,   4749.9, 2,   1.5156, 2,  34.6870, 2,  34.6868, 2,    153.8, 2,    153.8, 2,   149.13, 2,    36.12, 2,     0.00, 2,     2.53, 2, -999.000, 9, -999.000, 9, -999.000, 9, -999.000, 9,   -999.0, 9,   -999.0, 9, -999.0000,   -999.00,   -999.0, 9,   -999.0,  -999.00, 9,   -999.0,   1.1109, 27.7864,   1.5157, 2, 9, 0.45, 0.13, 0.01, 0.016,  -999.00, 1, -999.00, -999.00, 9, -999.00
49NZ20071008, P01, P01_45, 1, 5, X12014, 2, 20071016, 1049, 46.9998, 167.8325, 6208,   5000.5, 2,   1.5345, 2,  34.6885, 2,  34.6883, 2,    155.6, 2,    155.0, 2,   148.83, 2,    35.97, 2,     0.00, 2,     2.52, 2,    0.000, 2,    0.001, 2,    0.000, 2, -999.000, 9,   -999.0, 9,   -999.0, 9, -999.0000,   -999.00,   -999.0, 9,   -999.0,  -999.00, 9,   -999.0,   1.0990, 27.7884,   1.5347, 2, 9, 0.45, 0.13, 0.01, 0.016,  -999.00, 1, -999.00, -999.00, 9, -999.00
49NZ20071008, P01, P01_45, 1, 4, X12006, 2, 20071016, 1049, 46.9998, 167.8325, 6208,   5251.1, 2,   1.5577, 2,  34.6892, 2,  34.6892, 2,    156.7, 2,    156.1, 2,   148.38, 2,    35.95, 2,     0.00, 2,     2.52, 2, -999.000, 9, -999.000, 9, -999.000, 9, -999.000, 9,   -999.0, 9,   -999.0, 9, -999.0000,   -999.00,   -999.0, 9,   -999.0,  -999.00, 9,   -999.0,   1.0905, 27.7896,   1.5578, 2, 9, 0.45, 0.13, 0.01, 0.016,  -999.00, 1, -999.00, -999.00, 9, -999.00
49NZ20071008, P01, P01_45, 1, 3, X12013, 2, 20071016, 1049, 46.9998, 167.8325, 6208,   5501.3, 2,   1.5836, 2,  34.6900, 2,  34.6895, 2,    157.6, 2,    157.0, 2,   148.91, 2,    35.88, 2,     0.00, 2,     2.51, 2,    0.003, 2,    0.004, 2,    0.000, 2, -999.000, 9,   -999.0, 9,   -999.0, 9, -999.0000,   -999.00,   -999.0, 9,   -999.0,  -999.00, 9,   -999.0,   1.0838, 27.7906,   1.5836, 2, 9, 0.45, 0.13, 0.01, 0.016,  -999.00, 9, -999.00, -999.00, 9, -999.00
49NZ20071008, P01, P01_45, 1, 2, X12002, 2, 20071016, 1049, 46.9998, 167.8325, 6208,   5749.1, 2,   1.6127, 2,  34.6906, 2,  34.6907, 2,    157.8, 2,    157.3, 2,   150.29, 2,    35.79, 2,     0.00, 2,     2.51, 2,    0.000, 2,    0.000, 2,    0.000, 2, -999.000, 9,   -999.0, 9,   -999.0, 9, -999.0000,   -999.00,   -999.0, 9,   -999.0,  -999.00, 9,   -999.0,   1.0797, 27.7914,   1.6127, 2, 9, 0.45, 0.13, 0.01, 0.016,  -999.00, 1, -999.00, -999.00, 9, -999.00
49NZ20071008, P01, P01_45, 1, 1, X12001, 2, 20071016, 1049, 46.9998, 167.8325, 6208,   6351.4, 2,   1.6973, 2,  34.6905, 2,  34.6907, 6,    157.3, 2,    157.3, 2,   150.39, 2,    35.80, 2,     0.00, 2,     2.51, 2,    0.000, 2,    0.000, 2,    0.000, 2, -999.000, 9,   -999.0, 9,   -999.0, 9, -999.0000,   -999.00,   -999.0, 9,   -999.0,  -999.00, 9,   -999.0,   1.0798, 27.7913,   1.6972, 2, 9, 0.45, 0.13, 0.01, 0.016,  -999.00, 1, -999.00, -999.00, 9, -999.00