BOTTLE,20221005CCHSIOAMB
EXPOCODE,SECT_ID,STNNBR,CASTNO,SAMPNO,BTLNBR,BTLNBR_FLAG_W,DATE,TIME,LATITUDE,LONGITUDE,DEPTH,CTDPRS,CTDPRS_FLAG_W,CTDTMP,CTDTMP_FLAG_W,CTDSAL,CTDSAL_FLAG_W,SALNTY,SALNTY_FLAG_W,CTDOXY,CTDOXY_FLAG_W,OXYGEN,OXYGEN_FLAG_W,SILCAT,SILCAT_FLAG_W,NITRAT,NITRAT_FLAG_W,NITRIT,NITRIT_FLAG_W,PHSPHT,PHSPHT_FLAG_W,CFC-11,CFC-11_FLAG_W,CFC-12,CFC-12_FLAG_W,CFC113,CFC113_FLAG_W,CCL4,CCL4_FLAG_W,TCARBN,TCARBN_FLAG_W,ALKALI,ALKALI_FLAG_W,PH_TOT,PH_TMP,DELC14,DELC14_FLAG_W,C14ERR,DELC13,DELC13_FLAG_W,C13ERR,THETA,SIG0,SBE35,SBE35_FLAG_W,PH_TOT_FLAG_W,SILUNC,NRAUNC,NRIUNC,PHPUNC,CS-137,CS-137_FLAG_W,CS137ER,PLUTO,PLUTO_FLAG_W,PLUTOER
,,,,,,,,,,,METERS,DBAR,,ITS-90,,PSS-78,,PSS-78,,UMOL/KG,,UMOL/KG,,UMOL/KG,,UMOL/KG,,UMOL/KG,,UMOL/KG,,PMOL/KG,,PMOL/KG,,PMOL/KG,,PMOL/KG,,UMOL/KG,,UMOL/KG,,,DEG C,/MILLE,,/MILLE,/MILLE,,/MILLE,DEG C,KG/M^3,ITS-90,,,UMOL/KG,UMOL/KG,UMOL/KG,UMOL/KG,DM/.1MG,,BQ/M^3,MBQ/M^3,,MBQ/M^3
49NZ20071008, P14N, 59, 1, 36, X12042, 2, 20071105, 2301, 32.9792, 178.9832, 4818,     10.0, 2,  23.8514, 2,  34.4913, 2,  34.4921, 2,    214.1, 2,    214.8, 2,     1.73, 2,     0.06, 2,     0.01, 2,     0.05, 2,    1.810, 2,    1.111, 2,    0.303, 4, -999.000, 9,   -999.0, 9,   -999.0, 9, -999.0000,   -999.00,   -999.0, 9,   -999.0,  -999.00, 9,   -999.0,  23.8493, 23.3008,  23.8520, 2, 9, 0.12, 0.03, 0.01, 0.037,  -999.00, 9, -999.00, -999.00, 9, -999.00
49NZ20071008, P14N, 59, 1, 35, X12041, 2, 20071105, 2301, 32.9792, 178.9832, 4818,     50.3, 2,  22.0799, 2,  34.3542, 2,  34.3576, 2,    222.0, 2,    224.0, 2,     2.35, 2,     0.06, 2,     0.01, 2,     0.06, 2,    1.989, 2,    1.209, 2,    0.372, 4, -999.000, 9,   -999.0, 9,   -999.0, 9, -999.0000,   -999.00,   -999.0, 9,   -999.0,  -999.00, 9,   -999.0,  22.0700, 23.7076,  22.0787, 2, 9, 0.12, 0.03, 0.01, 0.030,  -999.00, 9, -999.00, -999.00, 9, -999.00
49NZ20071008, P14N, 59, 1, 34, X12016, 2, 20071105, 2301, 32.9792, 178.9832, 4818,    100.0, 2,  15.1962, 2,  34.5587, 2,  34.5582, 2,    219.1, 2,    220.8, 2,     6.68, 2,     6.35, 2,     0.05, 2,     0.49, 2,    2.683, 2,    1.545, 2,    0.197, 2, -999.000, 9,   -999.0, 9,   -999.0, 9, -999.0000,   -999.00,   -999.0, 9,   -999.0,  -999.00, 9,   -999.0,  15.1810, 25.5919,  15.1938, 2, 9, 0.13, 0.05, 0.01, 0.013,  -999.00, 9, -999.00, -999.00, 9, -999.00
49NZ20071008, P14N, 59, 1, 33, X12033, 2, 20071105, 2301, 32.9792, 178.9832, 4818,    150.6, 2,  14.2249, 2,  34.5134, 2,  34.5124, 2,    219.4, 2,    221.1, 2,     8.77, 2,     7.96, 2,     0.02, 2,     0.59, 2,    2.728, 6,    1.559, 6,    0.172, 6, -999.000, 9,   -999.0, 9,   -999.0, 9, -999.0000,   -999.00,   -999.0, 9,   -999.0,  -999.00, 9,   -999.0,  14.2030, 25.7683,  14.2260, 2, 9, 0.14, 0.06, 0.01, 0.013,  -999.00, 9, -999.00, -999.00, 9, -999.00
49NZ20071008, P14N, 59, 1, 32, X12038, 2, 20071105, 2301, 32.9792, 178.9832, 4818,    200.6, 2,  13.5373, 2,  34.4699, 2,  34.4685, 2,    226.9, 2,    224.1, 2,     9.95, 2,     8.73, 2,     0.02, 2,     0.65, 2,    2.810, 2,    1.590, 2,    0.177, 2, -999.000, 9,   -999.0, 9,   -999.0, 9, -999.0000,   -999.00,   -999.0, 9,   -999.0,  -999.00, 9,   -999.0,  13.5091, 25.8791,  13.5389, 2, 9, 0.14, 0.06, 0.01, 0.013,  -999.00, 9, -999.00, -999.00, 9, -999.00
49NZ20071008, P14N, 59, 1, 31, X12003, 2, 20071105, 2301, 32.9792, 178.9832, 4818,    252.1, 2,  12.8097, 2,  34.4237, 2,  34.4238, 6,    228.5, 2,    226.5, 2,    11.60, 2,     9.71, 2,     0.01, 2,     0.72, 2,    2.892, 2,    1.617, 2,    0.183, 2, -999.000, 9,   -999.0, 9,   -999.0, 9, -999.0000,   -999.00,   -999.0, 9,   -999.0,  -999.00, 9,   -999.0,  12.7755, 25.9910,  12.8106, 2, 9, 0.14, 0.06, 0.01, 0.013,  -999.00, 9, -999.00, -999.00, 9, -999.00
49NZ20071008, P14N, 59, 1, 30, X12008, 2, 20071105, 2301, 32.9792, 178.9832, 4818,    331.6, 2,  11.5499, 2,  34.3270, 2,  34.3244, 2,    222.9, 2,    228.2, 2,    15.19, 2,    11.90, 2,     0.01, 2,     0.88, 2,    3.022, 2,    1.676, 2,    0.194, 2, -999.000, 9,   -999.0, 9,   -999.0, 9, -999.0000,   -999.00,   -999.0, 9,   -999.0,  -999.00, 9,   -999.0,  11.5078, 26.1587,  11.5485, 2, 9, 0.15, 0.07, 0.01, 0.013,  -999.00, 9, -999.00, -999.00, 9, -999.00
49NZ20071008, P14N, 59, 1, 29, X12035, 2, 20071105, 2301, 32.9792, 178.9832, 4818,    429.9, 2,   9.4757, 2,  34.1658, 2,  34.1636, 2,    198.4, 2,    198.1, 2,    26.80, 2,    18.19, 2,     0.01, 2,     1.33, 2,    2.948, 2,    1.573, 2,    0.158, 2, -999.000, 9,   -999.0, 9,   -999.0, 9, -999.0000,   -999.00,   -999.0, 9,   -999.0,  -999.00, 9,   -999.0,   9.4274, 26.3959,   9.4761, 2, 9, 0.18, 0.08, 0.01, 0.014,  -999.00, 9, -999.00, -999.00, 9, -999.00
49NZ20071008, P14N, 59, 1, 28, X12034, 2, 20071105, 2301, 32.9792, 178.9832, 4818,    531.3, 2,   7.1189, 2,  34.0232, 2,  34.0221, 6,    156.0, 2,    162.9, 2,    44.78, 2,    25.64, 2,     0.01, 2,     1.88, 2,    2.650, 2,    1.359, 2,    0.136, 2, -999.000, 9,   -999.0, 9,   -999.0, 9, -999.0000,   -999.00,   -999.0, 9,   -999.0,  -999.00, 9,   -999.0,   7.0683, 26.6399,   7.1197, 2, 9, 0.22, 0.10, 0.01, 0.015,  -999.00, 9, -999.00, -999.00, 9, -999.00
49NZ20071008, P14N, 59, 1, 27, X12049, 2, 20071105, 2301, 32.9792, 178.9832, 4818,    630.6, 2,   5.5158, 2,  34.0225, 2,  34.0225, 2,    114.6, 2,    114.6, 2,    67.72, 2,    32.86, 2,     0.00, 2,     2.40, 2,    1.933, 2,    0.963, 2,    0.098, 2, -999.000, 9,   -999.0, 9,   -999.0, 9, -999.0000,   -999.00,   -999.0, 9,   -999.0,  -999.00, 9,   -999.0,   5.4629, 26.8461,   5.5165, 2, 9, 0.27, 0.12, 0.01, 0.016,  -999.00, 9, -999.00, -999.00, 9, -999.00
49NZ20071008, P14N, 59, 1, 26, X12032, 2, 20071105, 2301, 32.9792, 178.9832, 4818,    730.3, 2,   4.6806, 2,  34.1076, 2,  34.1089, 2,     74.8, 2,     75.3, 2,    87.93, 2,    37.68, 2,     0.00, 2,     2.74, 2,    1.188, 6,    0.581, 6,    0.058, 6, -999.000, 9,   -999.0, 9,   -999.0, 9, -999.0000,   -999.00,   -999.0, 9,   -999.0,  -999.00, 9,   -999.0,   4.6235, 27.0100,   4.6810, 2, 9, 0.31, 0.14, 0.01, 0.017,  -999.00, 9, -999.00, -999.00, 9, -999.00
49NZ20071008, P14N, 59, 1, 25, X12043, 2, 20071105, 2301, 32.9792, 178.9832, 4818,    831.6, 2,   4.1482, 2,  34.1957, 2,  34.1945, 2,     52.6, 2,     51.8, 2,   103.29, 2,    40.35, 2,     0.01, 2,     2.92, 2,    0.679, 2,    0.324, 2,    0.024, 2, -999.000, 9,   -999.0, 9,   -999.0, 9, -999.0000,   -999.00,   -999.0, 9,   -999.0,  -999.00, 9,   -999.0,   4.0858, 27.1375,   4.1495, 2, 9, 0.35, 0.15, 0.01, 0.017,  -999.00, 9, -999.00, -999.00, 9, -999.00
49NZ20071008, P14N, 59, 1, 24, X12030, 2, 20071105, 2301, 32.9792, 178.9832, 4818,    930.5, 2,   3.7650, 2,  34.2650, 2,  34.2649, 2,     40.0, 2,     39.6, 2,   115.03, 2,    41.77, 2,     0.01, 2,     3.01, 2,    0.383, 2,    0.185, 2,    0.024, 2, -999.000, 9,   -999.0, 9,   -999.0, 9, -999.0000,   -999.00,   -999.0, 9,   -999.0,  -999.00, 9,   -999.0,   3.6972, 27.2321,   3.7652, 2, 9, 0.37, 0.15, 0.01, 0.017,  -999.00, 9, -999.00, -999.00, 9, -999.00
49NZ20071008, P14N, 59, 1, 23, X12027, 2, 20071105, 2301, 32.9792, 178.9832, 4818,   1070.6, 2,   3.3024, 2,  34.3611, 2,  34.3614, 6,     29.5, 2,     28.7, 2,   129.13, 2,    43.23, 2,     0.01, 2,     3.11, 2,    0.118, 2,    0.061, 2,    0.005, 2, -999.000, 9,   -999.0, 9,   -999.0, 9, -999.0000,   -999.00,   -999.0, 9,   -999.0,  -999.00, 9,   -999.0,   3.2269, 27.3541,   3.3023, 2, 9, 0.40, 0.15, 0.01, 0.018,  -999.00, 9, -999.00, -999.00, 9, -999.00
49NZ20071008, P14N, 59, 1, 22, X12028, 2, 20071105, 2301, 32.9792, 178.9832, 4818,   1270.9, 2,   2.8627, 2,  34.4441, 2,  34.4442, 2,     27.9, 2,     27.9, 2,   142.38, 2,    43.82, 2,     0.00, 2,     3.13, 2,    0.045, 2,    0.026, 2,    0.000, 2, -999.000, 9,   -999.0, 9,   -999.0, 9, -999.0000,   -999.00,   -999.0, 9,   -999.0,  -999.00, 9,   -999.0,   2.7752, 27.4615,   2.8629, 2, 9, 0.43, 0.16, 0.01, 0.018,  -999.00, 9, -999.00, -999.00, 9, -999.00
49NZ20071008, P14N, 59, 1, 21, X12009, 2, 20071105, 2301, 32.9792, 178.9832, 4818,   1470.7, 2,   2.5224, 2,  34.5036, 2,  34.5037, 2,     35.9, 2,     36.2, 2,   151.59, 2,    43.57, 2,     0.01, 2,     3.10, 2,    0.021, 2,    0.011, 2,    0.000, 2, -999.000, 9,   -999.0, 9,   -999.0, 9, -999.0000,   -999.00,   -999.0, 9,   -999.0,  -999.00, 9,   -999.0,   2.4226, 27.5395,   2.5225, 2, 9, 0.45, 0.15, 0.01, 0.018,  -999.00, 9, -999.00, -999.00, 9, -999.00
49NZ20071008, P14N, 59, 1, 20, X12026, 2, 20071105, 2301, 32.9792, 178.9832, 4818,   1670.4, 2,   2.2386, 2,  34.5486, 2,  34.5488, 2,     46.1, 2,     47.7, 2,   158.08, 2,    43.00, 2,     0.00, 2,     3.05, 2,    0.017, 2,    0.010, 2,    0.000, 2, -999.000, 9,   -999.0, 9,   -999.0, 9, -999.0000,   -999.00,   -999.0, 9,   -999.0,  -999.00, 9,   -999.0,   2.1261, 27.5999,   2.2387, 2, 9, 0.47, 0.15, 0.01, 0.018,  -999.00, 9, -999.00, -999.00, 9, -999.00
49NZ20071008, P14N, 59, 1, 19, X12025, 2, 20071105, 2301, 32.9792, 178.9832, 4818,   1870.2, 2,   2.0259, 2,  34.5836, 2,  34.5834, 2,     61.5, 2,     63.3, 2,   161.11, 2,    41.94, 2,     0.01, 2,     2.97, 2,    0.018, 2,    0.011, 2,    0.000, 2, -999.000, 9,   -999.0, 9,   -999.0, 9, -999.0000,   -999.00,   -999.0, 9,   -999.0,  -999.00, 9,   -999.0,   1.9000, 27.6459,   2.0258, 2, 9, 0.47, 0.15, 0.01, 0.017,  -999.00, 9, -999.00, -999.00, 9, -999.00
49NZ20071008, P14N, 59, 1, 18, X12024, 2, 20071105, 2301, 32.9792, 178.9832, 4818,   2070.6, 2,   1.8933, 2,  34.6076, 2,  34.6073, 2,     75.7, 2,     76.7, 2,   161.93, 2,    41.07, 2,     0.00, 2,     2.91, 2,    0.011, 2,    0.006, 2,    0.000, 2, -999.000, 9,   -999.0, 9,   -999.0, 9, -999.0000,   -999.00,   -999.0, 9,   -999.0,  -999.00, 9,   -999.0,   1.7527, 27.6764,   1.8932, 2, 9, 0.48, 0.15, 0.01, 0.017,  -999.00, 9, -999.00, -999.00, 9, -999.00
49NZ20071008, P14N, 59, 1, 17, X12023, 2, 20071105, 2301, 32.9792, 178.9832, 4818,   2270.4, 2,   1.7744, 2,  34.6251, 2,  34.6249, 6,     89.0, 2,     89.4, 2,   161.74, 2,    40.37, 2,     0.00, 2,     2.85, 2,    0.016, 2,    0.014, 2,    0.000, 2, -999.000, 9,   -999.0, 9,   -999.0, 9, -999.0000,   -999.00,   -999.0, 9,   -999.0,  -999.00, 9,   -999.0,   1.6186, 27.7006,   1.7744, 2, 9, 0.47, 0.15, 0.01, 0.017,  -999.00, 9, -999.00, -999.00, 9, -999.00
49NZ20071008, P14N, 59, 1, 16, X12022, 2, 20071105, 2301, 32.9792, 178.9832, 4818,   2471.8, 2,   1.6831, 2,  34.6380, 2,  34.6376, 2,     99.8, 2,    100.1, 2,   160.82, 2,    39.61, 2,     0.00, 2,     2.79, 2,    0.014, 2,    0.009, 2,    0.000, 2, -999.000, 9,   -999.0, 9,   -999.0, 9, -999.0000,   -999.00,   -999.0, 9,   -999.0,  -999.00, 9,   -999.0,   1.5113, 27.7188,   1.6832, 2, 9, 0.47, 0.14, 0.01, 0.017,  -999.00, 9, -999.00, -999.00, 9, -999.00
49NZ20071008, P14N, 59, 1, 15, X12021, 2, 20071105, 2301, 32.9792, 178.9832, 4818,   2668.5, 2,   1.6166, 2,  34.6492, 2,  34.6489, 2,    110.4, 2,    110.5, 2,   159.41, 2,    38.89, 2,     0.00, 2,     2.74, 2,    0.006, 2,    0.003, 2,    0.000, 2, -999.000, 9,   -999.0, 9,   -999.0, 9, -999.0000,   -999.00,   -999.0, 9,   -999.0,  -999.00, 9,   -999.0,   1.4284, 27.7339,   1.6167, 2, 9, 0.47, 0.14, 0.01, 0.017,  -999.00, 9, -999.00, -999.00, 9, -999.00
49NZ20071008, P14N, 59, 1, 14, X12020, 2, 20071105, 2301, 32.9792, 178.9832, 4818,   2870.8, 2,   1.5680, 2,  34.6571, 2,  34.6571, 2,    118.9, 2,    118.3, 2,   157.76, 2,    38.28, 2,     0.01, 2,     2.70, 2,    0.000, 2,    0.000, 2,    0.000, 2, -999.000, 9,   -999.0, 9,   -999.0, 9, -999.0000,   -999.00,   -999.0, 9,   -999.0,  -999.00, 9,   -999.0,   1.3620, 27.7449,   1.5680, 2, 9, 0.47, 0.14, 0.01, 0.017,  -999.00, 9, -999.00, -999.00, 9, -999.00
49NZ20071008, P14N, 59, 1, 13, X12019, 2, 20071105, 2301, 32.9792, 178.9832, 4818,   3080.5, 2,   1.5290, 2,  34.6645, 2,  34.6642, 2,    126.4, 2,    125.9, 2,   156.49, 2,    37.91, 2,     0.00, 2,     2.67, 2, -999.000, 9, -999.000, 9, -999.000, 9, -999.000, 9,   -999.0, 9,   -999.0, 9, -999.0000,   -999.00,   -999.0, 9,   -999.0,  -999.00, 9,   -999.0,   1.3039, 27.7550,   1.5290, 2, 9, 0.46, 0.14, 0.01, 0.017,  -999.00, 9, -999.00, -999.00, 9, -999.00
49NZ20071008, P14N, 59, 1, 12, X12040, 2, 20071105, 2301, 32.9792, 178.9832, 4818,   3330.0, 2,   1.4901, 2,  34.6722, 2,  34.6719, 2,    134.3, 2,    134.2, 2,   154.67, 2,    37.35, 2,     0.01, 2,     2.62, 2, -999.000, 9, -999.000, 9, -999.000, 9, -999.000, 9,   -999.0, 9,   -999.0, 9, -999.0000,   -999.00,   -999.0, 9,   -999.0,  -999.00, 9,   -999.0,   1.2414, 27.7655,   1.4901, 2, 9, 0.46, 0.14, 0.01, 0.017,  -999.00, 9, -999.00, -999.00, 9, -999.00
49NZ20071008, P14N, 59, 1, 11, X12047, 2, 20071105, 2301, 32.9792, 178.9832, 4818,   3579.0, 2,   1.4756, 2,  34.6770, 2,  34.6765, 6,    139.9, 2,    139.7, 2,   153.31, 2,    36.95, 2,     0.01, 2,     2.59, 2,    0.000, 2,    0.000, 2,    0.000, 2, -999.000, 9,   -999.0, 9,   -999.0, 9, -999.0000,   -999.00,   -999.0, 9,   -999.0,  -999.00, 9,   -999.0,   1.2020, 27.7721,   1.4756, 2, 9, 0.46, 0.14, 0.01, 0.016,  -999.00, 9, -999.00, -999.00, 9, -999.00
49NZ20071008, P14N, 59, 1, 10, X12017, 2, 20071105, 2301, 32.9792, 178.9832, 4818,   3830.1, 2,   1.4683, 2,  34.6807, 2,  34.6805, 2,    144.6, 2,    144.6, 2,   151.53, 2,    36.57, 2,     0.01, 2,     2.56, 2, -999.000, 9, -999.000, 9, -999.000, 9, -999.000, 9,   -999.0, 9,   -999.0, 9, -999.0000,   -999.00,   -999.0, 9,   -999.0,  -999.00, 9,   -999.0,   1.1686, 27.7774,   1.4683, 2, 9, 0.45, 0.14, 0.01, 0.016,  -999.00, 9, -999.00, -999.00, 9, -999.00
49NZ20071008, P14N, 59, 1, 9, X12015, 2, 20071105, 2301, 32.9792, 178.9832, 4818,   4080.2, 2,   1.4694, 2,  34.6835, 2,  34.6832, 2,    148.4, 2,    148.3, 2,   150.72, 2,    36.41, 2,     0.01, 2,     2.55, 2, -999.000, 9, -999.000, 9, -999.000, 9, -999.000, 9,   -999.0, 9,   -999.0, 9, -999.0000,   -999.00,   -999.0, 9,   -999.0,  -999.00, 9,   -999.0,   1.1426, 27.7814,   1.4694, 2, 9, 0.45, 0.13, 0.01, 0.016,  -999.00, 9, -999.00, -999.00, 9, -999.00
49NZ20071008, P14N, 59, 1, 8, X12046, 2, 20071105, 2301, 32.9792, 178.9832, 4818,   4331.0, 2,   1.4750, 2,  34.6859, 2,  34.6858, 2,    151.7, 2,    151.7, 2,   149.01, 2,    36.20, 2,     0.01, 2,     2.53, 2,    0.000, 2,    0.000, 2,    0.000, 2, -999.000, 9,   -999.0, 9,   -999.0, 9, -999.0000,   -999.00,   -999.0, 9,   -999.0,  -999.00, 9,   -999.0,   1.1201, 27.7849,   1.4749, 2, 9, 0.45, 0.13, 0.01, 0.016,  -999.00, 9, -999.00, -999.00, 9, -999.00
49NZ20071008, P14N, 59, 1, 7, X12044, 2, 20071105, 2301, 32.9792, 178.9832, 4818,   4579.9, 2,   1.4821, 2,  34.6881, 2,  34.6880, 2,    155.2, 2,    155.2, 2,   147.06, 2,    35.95, 2,     0.01, 2,     2.51, 2, -999.000, 9, -999.000, 9, -999.000, 9, -999.000, 9,   -999.0, 9,   -999.0, 9, -999.0000,   -999.00,   -999.0, 9,   -999.0,  -999.00, 9,   -999.0,   1.0984, 27.7881,   1.4821, 2, 9, 0.44, 0.13, 0.01, 0.016,  -999.00, 9, -999.00, -999.00, 9, -999.00
49NZ20071008, P14N, 59, 1, 6, X12048, 2, 20071105, 2301, 32.9792, 178.9832, 4818,   4829.3, 2,   1.4878, 2,  34.6904, 2,  34.6906, 2,    159.4, 2,    159.2, 2,   144.13, 2,    35.62, 2,     0.01, 2,     2.49, 2, -999.000, 9, -999.000, 9, -999.000, 9, -999.000, 9,   -999.0, 9,   -999.0, 9, -999.0000,   -999.00,   -999.0, 9,   -999.0,  -999.00, 9,   -999.0,   1.0745, 27.7915,   1.4879, 2, 9, 0.44, 0.13, 0.01, 0.016,  -999.00, 9, -999.00, -999.00, 9, -999.00
49NZ20071008, P14N, 59, 1, 5, X12014, 9, 20071105, 2301, 32.9792, 178.9832, 4818,      9.9, 2,  23.8529, 2,  34.4911, 2, -999.0000, 9,    214.2, 2,   -999.0, 9,  -999.00, 9,  -999.00, 9,  -999.00, 9,  -999.00, 9, -999.000, 9, -999.000, 9, -999.000, 9, -999.000, 9,   -999.0, 9,   -999.0, 9, -999.0000,   -999.00,   -999.0, 9,   -999.0,  -999.00, 9,   -999.0,  23.8508, 23.3002,  23.8522, 2, 9, -999.00, -999.00, -999.00, -999.000,  -999.00, 9, -999.00, -999.00, 9, -999.00
49NZ20071008, P14N, 59, 1, 4, X12006, 2, 20071105, 2301, 32.9792, 178.9832, 4818,     19.6, 2,  23.1186, 2,  34.4547, 2,  34.4588, 2,    216.6, 2,    218.5, 2,  -999.00, 9,  -999.00, 9,  -999.00, 9,  -999.00, 9, -999.000, 9, -999.000, 9, -999.000, 9, -999.000, 9,   -999.0, 9,   -999.0, 9, -999.0000,   -999.00,   -999.0, 9,   -999.0,  -999.00, 9,   -999.0,  23.1146, 23.4871,  23.1191, 2, 9, -999.00, -999.00, -999.00, -999.000,  -999.00, 9, -999.00, -999.00, 9, -999.00
49NZ20071008, P14N, 59, 1, 3, X12013, 2, 20071105, 2301, 32.9792, 178.9832, 4818,     30.0, 2,  22.2513, 2,  34.3868, 2,  34.3909, 2,    220.9, 2,    222.5, 2,  -999.00, 9,  -999.00, 9,  -999.00, 9,  -999.00, 9, -999.000, 9, -999.000, 9, -999.000, 9, -999.000, 9,   -999.0, 9,   -999.0, 9, -999.0000,   -999.00,   -999.0, 9,   -999.0,  -999.00, 9,   -999.0,  22.2453, 23.6832,  22.2536, 2, 9, -999.00, -999.00, -999.00, -999.000,  -999.00, 9, -999.00, -999.00, 9, -999.00
49NZ20071008, P14N, 59, 1, 2, X12002, 9, 20071105, 2301, 32.9792, 178.9832, 4818,     49.8, 2,  22.0757, 2,  34.3550, 2, -999.0000, 9,    222.1, 2,   -999.0, 9,  -999.00, 9,  -999.00, 9,  -999.00, 9,  -999.00, 9, -999.000, 9, -999.000, 9, -999.000, 9, -999.000, 9,   -999.0, 9,   -999.0, 9, -999.0000,   -999.00,   -999.0, 9,   -999.0,  -999.00, 9,   -999.0,  22.0659, 23.7094,  22.0737, 2, 9, -999.00, -999.00, -999.00, -999.000,  -999.00, 9, -999.00, -999.00, 9, -999.00
49NZ20071008, P14N, 59, 1, 1, X12001, 2, 20071105, 2301, 32.9792, 178.9832, 4818,   4895.9, 2,   1.4906, 2,  34.6910, 2,  34.6909, 6,    160.3, 2,    160.1, 2,   143.36, 2,    35.63, 2,     0.01, 2,     2.49, 2,    0.001, 2,    0.000, 2,    0.000, 2, -999.000, 9,   -999.0, 9,   -999.0, 9, -999.0000,   -999.00,   -999.0, 9,   -999.0,  -999.00, 9,   -999.0,   1.0693, 27.7924,   1.4906, 2, 9, 0.43, 0.13, 0.01, 0.016,  -999.00, 9, -999.00, -999.00, 9, -999.00