BOTTLE,20221005CCHSIOAMB
EXPOCODE,SECT_ID,STNNBR,CASTNO,SAMPNO,BTLNBR,BTLNBR_FLAG_W,DATE,TIME,LATITUDE,LONGITUDE,DEPTH,CTDPRS,CTDPRS_FLAG_W,CTDTMP,CTDTMP_FLAG_W,CTDSAL,CTDSAL_FLAG_W,SALNTY,SALNTY_FLAG_W,CTDOXY,CTDOXY_FLAG_W,OXYGEN,OXYGEN_FLAG_W,SILCAT,SILCAT_FLAG_W,NITRAT,NITRAT_FLAG_W,NITRIT,NITRIT_FLAG_W,PHSPHT,PHSPHT_FLAG_W,CFC-11,CFC-11_FLAG_W,CFC-12,CFC-12_FLAG_W,CFC113,CFC113_FLAG_W,CCL4,CCL4_FLAG_W,TCARBN,TCARBN_FLAG_W,ALKALI,ALKALI_FLAG_W,PH_TOT,PH_TMP,DELC14,DELC14_FLAG_W,C14ERR,DELC13,DELC13_FLAG_W,C13ERR,THETA,SIG0,SBE35,SBE35_FLAG_W,PH_TOT_FLAG_W,SILUNC,NRAUNC,NRIUNC,PHPUNC,CS-137,CS-137_FLAG_W,CS137ER,PLUTO,PLUTO_FLAG_W,PLUTOER
,,,,,,,,,,,METERS,DBAR,,ITS-90,,PSS-78,,PSS-78,,UMOL/KG,,UMOL/KG,,UMOL/KG,,UMOL/KG,,UMOL/KG,,UMOL/KG,,PMOL/KG,,PMOL/KG,,PMOL/KG,,PMOL/KG,,UMOL/KG,,UMOL/KG,,,DEG C,/MILLE,,/MILLE,/MILLE,,/MILLE,DEG C,KG/M^3,ITS-90,,,UMOL/KG,UMOL/KG,UMOL/KG,UMOL/KG,DM/.1MG,,BQ/M^3,MBQ/M^3,,MBQ/M^3
49NZ20071008, P14N, 13, 1, 36, X12042, 2, 20071024, 1211, 53.0035, -178.5770, 3718,     10.4, 2,   6.5520, 2,  33.0005, 2,  33.0006, 2,    295.0, 2,    293.7, 2,    33.75, 2,    19.73, 2,     0.22, 2,     1.71, 2,    4.152, 2,    2.294, 2,    0.362, 2, -999.000, 9,   2094.1, 2,   2235.5, 2,    7.7551,     25.00,   -999.0, 9,   -999.0,  -999.00, 9,   -999.0,   6.5511, 25.9032,   6.5519, 2, 6, 0.19, 0.09, 0.01, 0.014,  -999.00, 9, -999.00, -999.00, 9, -999.00
49NZ20071008, P14N, 13, 1, 35, X12041, 2, 20071024, 1211, 53.0035, -178.5770, 3718,     50.9, 2,   6.5388, 2,  33.0015, 2,  33.0033, 2,    292.6, 2,    293.1, 2,    33.73, 2,    19.79, 2,     0.22, 2,     1.71, 2,    3.963, 2,    2.196, 2,    0.377, 2, -999.000, 9,   2093.9, 6,   2235.0, 2,    7.7538,     25.00,   -999.0, 9,   -999.0,  -999.00, 9,   -999.0,   6.5344, 25.9061,   6.5383, 2, 2, 0.19, 0.09, 0.01, 0.014,  -999.00, 9, -999.00, -999.00, 9, -999.00
49NZ20071008, P14N, 13, 1, 34, X12016, 2, 20071024, 1211, 53.0035, -178.5770, 3718,    100.2, 2,   4.6913, 2,  33.2914, 2,  33.2934, 2,    218.5, 2,    219.0, 2,    55.82, 2,    29.56, 2,     0.02, 2,     2.26, 2,    3.868, 2,    2.082, 2,    0.325, 2, -999.000, 9,   2178.8, 2,   2253.6, 6,    7.5712,     25.00,   -999.0, 9,   -999.0,  -999.00, 9,   -999.0,   4.6841, 26.3557,   4.6909, 2, 2, 0.24, 0.12, 0.01, 0.016,  -999.00, 9, -999.00, -999.00, 9, -999.00
49NZ20071008, P14N, 13, 1, 33, X12033, 2, 20071024, 1211, 53.0035, -178.5770, 3718,    150.4, 2,   4.1567, 2,  33.3115, 2,  33.3125, 2,    223.1, 2,    230.0, 2,    59.43, 2,    30.59, 2,     0.02, 2,     2.32, 2,    3.939, 2,    2.133, 2,    0.354, 6, -999.000, 9,   2182.7, 2,   2255.0, 2,    7.5633,     25.00,   -999.0, 9,   -999.0,  -999.00, 9,   -999.0,   4.1464, 26.4282,   4.1566, 2, 6, 0.25, 0.12, 0.01, 0.016,  -999.00, 9, -999.00, -999.00, 9, -999.00
49NZ20071008, P14N, 13, 1, 32, X12038, 2, 20071024, 1211, 53.0035, -178.5770, 3718,    199.2, 2,   3.8336, 2,  33.3315, 2,  33.3352, 2,    227.0, 2,    240.8, 2,    61.84, 2,    31.17, 2,     0.02, 2,     2.36, 2,    4.179, 2,    2.293, 2,    0.327, 2, -999.000, 9,   2184.3, 2,   2256.4, 2,    7.5600,     25.00,   -999.0, 9,   -999.0,  -999.00, 9,   -999.0,   3.8204, 26.4769,   3.8341, 2, 2, 0.26, 0.12, 0.01, 0.016,  -999.00, 9, -999.00, -999.00, 9, -999.00
49NZ20071008, P14N, 13, 1, 31, X12003, 2, 20071024, 1211, 53.0035, -178.5770, 3718,    248.6, 2,   4.2848, 2,  33.4464, 2,  33.4462, 6,    192.6, 2,    188.8, 2,    67.10, 2,    32.73, 2,     0.02, 2,     2.46, 2,    3.535, 2,    1.921, 2,    0.320, 2, -999.000, 9,   2210.4, 2,   2266.3, 2,    7.5127,     25.00,   -999.0, 9,   -999.0,  -999.00, 9,   -999.0,   4.2673, 26.5230,   4.2874, 2, 2, 0.27, 0.12, 0.01, 0.016,  -999.00, 9, -999.00, -999.00, 9, -999.00
49NZ20071008, P14N, 13, 1, 30, X12008, 2, 20071024, 1211, 53.0035, -178.5770, 3718,    299.9, 2,   4.1207, 2,  33.5024, 2,  33.5029, 2,    174.0, 2,    171.2, 2,    71.01, 2,    34.08, 2,     0.02, 2,     2.53, 2,    3.314, 2,    1.785, 2,    0.281, 2, -999.000, 9,   2224.3, 2,   2271.3, 2,    7.4841,     25.00,   -999.0, 9,   -999.0,  -999.00, 9,   -999.0,   4.0998, 26.5848,   4.1207, 2, 2, 0.28, 0.13, 0.01, 0.016,  -999.00, 9, -999.00, -999.00, 9, -999.00
49NZ20071008, P14N, 13, 1, 29, X12035, 2, 20071024, 1211, 53.0035, -178.5770, 3718,    400.3, 2,   4.0043, 2,  33.7059, 2,  33.7045, 2,    122.5, 2,    117.6, 2,    83.97, 2,    37.62, 2,     0.01, 2,     2.75, 2,    2.558, 2,    1.360, 2,    0.211, 2, -999.000, 9,   2267.4, 2,   2289.6, 2,    7.4130,     25.00,   -999.0, 9,   -999.0,  -999.00, 9,   -999.0,   3.9764, 26.7591,   4.0045, 2, 2, 0.30, 0.14, 0.01, 0.017,  -999.00, 9, -999.00, -999.00, 9, -999.00
49NZ20071008, P14N, 13, 1, 28, X12034, 2, 20071024, 1211, 53.0035, -178.5770, 3718,    500.7, 2,   3.7919, 2,  33.8929, 2,  33.8980, 6,     71.5, 2,     73.1, 2,    98.75, 2,    40.77, 2,     0.01, 2,     2.94, 2,    1.818, 2,    0.950, 2,    0.145, 2, -999.000, 9,   2308.1, 2,   2309.8, 2,    7.3561,     25.00,   -999.0, 9,   -999.0,  -999.00, 9,   -999.0,   3.7573, 26.9298,   3.7920, 2, 2, 0.34, 0.15, 0.01, 0.017,  -999.00, 9, -999.00, -999.00, 9, -999.00
49NZ20071008, P14N, 13, 1, 27, X12049, 2, 20071024, 1211, 53.0035, -178.5770, 3718,    600.2, 2,   3.6429, 2,  34.0293, 2,  34.0304, 2,     42.8, 2,     42.2, 2,   109.13, 2,    42.89, 2,     0.01, 2,     3.07, 2,    1.238, 2,    0.627, 2,    0.114, 4, -999.000, 9,   2341.8, 2,   2324.1, 2,    7.3184,     25.00,   -999.0, 9,   -999.0,  -999.00, 9,   -999.0,   3.6015, 27.0538,   3.6431, 2, 2, 0.36, 0.15, 0.01, 0.018,  -999.00, 9, -999.00, -999.00, 9, -999.00
49NZ20071008, P14N, 13, 1, 26, X12032, 2, 20071024, 1211, 53.0035, -178.5770, 3718,    699.9, 2,   3.5239, 2,  34.1276, 2,  34.1300, 2,     30.8, 2,     26.2, 2,   118.05, 2,    43.91, 2,     0.01, 2,     3.13, 2,    0.849, 2,    0.425, 2,    0.038, 4, -999.000, 9,   2355.7, 6,   2336.3, 2,    7.3058,     25.00,   -999.0, 9,   -999.0,  -999.00, 9,   -999.0,   3.4756, 27.1443,   3.5240, 2, 2, 0.38, 0.16, 0.01, 0.018,  -999.00, 9, -999.00, -999.00, 9, -999.00
49NZ20071008, P14N, 13, 1, 25, X12043, 2, 20071024, 1211, 53.0035, -178.5770, 3718,    801.0, 2,   3.4022, 2,  34.1852, 2,  34.1866, 2,     21.0, 2,     21.3, 2,   124.24, 2,    44.23, 2,     0.01, 2,     3.16, 2,    0.625, 2,    0.310, 2,    0.044, 2, -999.000, 9,   2368.3, 2,   2345.5, 6,    7.3052,     25.00,   -999.0, 9,   -999.0,  -999.00, 9,   -999.0,   3.3470, 27.2025,   3.4020, 2, 2, 0.39, 0.16, 0.01, 0.018,  -999.00, 9, -999.00, -999.00, 9, -999.00
49NZ20071008, P14N, 13, 1, 24, X12030, 2, 20071024, 1211, 53.0035, -178.5770, 3718,    900.0, 2,   3.2304, 2,  34.2462, 2,  34.2476, 2,     19.2, 2,     19.1, 2,   131.51, 2,    44.23, 2,     0.00, 2,     3.15, 2,    0.446, 2,    0.220, 2,    0.033, 2, -999.000, 9,   2375.8, 2,   2345.2, 3,    7.3097,     25.00,   -999.0, 9,   -999.0,  -999.00, 9,   -999.0,   3.1688, 27.2678,   3.2302, 2, 6, 0.41, 0.16, 0.01, 0.018,  -999.00, 9, -999.00, -999.00, 9, -999.00
49NZ20071008, P14N, 13, 1, 23, X12027, 2, 20071024, 1211, 53.0035, -178.5770, 3718,   1000.1, 2,   3.0664, 2,  34.2966, 2,  34.2978, 6,     18.3, 2,     18.1, 2,   138.76, 2,    44.28, 2,     0.00, 2,     3.17, 2,    0.318, 2,    0.156, 2,    0.007, 2, -999.000, 9,   2384.8, 2,   2364.5, 2,    7.3151,     25.00,   -999.0, 9,   -999.0,  -999.00, 9,   -999.0,   2.9983, 27.3237,   3.0663, 2, 2, 0.42, 0.16, 0.01, 0.018,  -999.00, 9, -999.00, -999.00, 9, -999.00
49NZ20071008, P14N, 13, 1, 22, X12028, 2, 20071024, 1211, 53.0035, -178.5770, 3718,   1200.6, 2,   2.7474, 2,  34.3835, 2,  34.3847, 2,     19.3, 2,     19.2, 2,   151.96, 2,    44.13, 2,     0.00, 2,     3.16, 2,    0.154, 2,    0.077, 2,    0.000, 2, -999.000, 9,   2398.9, 2,   2379.3, 2,    7.3268,     25.00,   -999.0, 9,   -999.0,  -999.00, 9,   -999.0,   2.6666, 27.4226,   2.7473, 2, 2, 0.45, 0.16, 0.01, 0.018,  -999.00, 9, -999.00, -999.00, 9, -999.00
49NZ20071008, P14N, 13, 1, 21, X12009, 2, 20071024, 1211, 53.0035, -178.5770, 3718,   1401.5, 2,   2.4677, 2,  34.4526, 2,  34.4535, 2,     21.8, 2,     22.2, 2,   164.35, 2,    44.02, 2,     0.00, 2,     3.16, 2,    0.063, 2,    0.029, 2,    0.000, 2, -999.000, 9,   2404.1, 2,   2392.7, 2,    7.3396,     25.00,   -999.0, 9,   -999.0,  -999.00, 9,   -999.0,   2.3741, 27.5028,   2.4677, 2, 2, 0.48, 0.16, 0.01, 0.018,  -999.00, 9, -999.00, -999.00, 9, -999.00
49NZ20071008, P14N, 13, 1, 20, X12026, 2, 20071024, 1211, 53.0035, -178.5770, 3718,   1601.2, 2,   2.2338, 2,  34.5071, 2,  34.5070, 2,     29.0, 2,     29.3, 2,   175.50, 2,    43.38, 2,     0.00, 2,     3.14, 2,    0.075, 3,    0.057, 3,    0.000, 3, -999.000, 9,   2400.4, 2,   2402.0, 2,    7.3571,     25.00,   -999.0, 9,   -999.0,  -999.00, 9,   -999.0,   2.1270, 27.5666,   2.2337, 2, 6, 0.51, 0.15, 0.01, 0.018,  -999.00, 9, -999.00, -999.00, 9, -999.00
49NZ20071008, P14N, 13, 1, 19, X12025, 2, 20071024, 1211, 53.0035, -178.5770, 3718,   1801.8, 2,   2.0625, 2,  34.5440, 2,  34.5439, 6,     42.2, 2,     42.2, 2,   185.45, 2,    42.25, 2,     0.00, 2,     3.10, 2,    0.028, 2,    0.016, 2,    0.000, 2, -999.000, 9,   2400.9, 2,   2409.1, 2,    7.3844,     25.00,   -999.0, 9,   -999.0,  -999.00, 9,   -999.0,   1.9418, 27.6109,   2.0625, 2, 2, 0.53, 0.15, 0.01, 0.018,  -999.00, 9, -999.00, -999.00, 9, -999.00
49NZ20071008, P14N, 13, 1, 18, X12024, 2, 20071024, 1211, 53.0035, -178.5770, 3718,   2000.5, 2,   1.9382, 2,  34.5748, 2,  34.5749, 2,     48.0, 2,     47.6, 2,   191.45, 2,    41.82, 2,     0.00, 2,     3.08, 2,    0.007, 2,    0.004, 2,    0.000, 2, -999.000, 9,   2399.4, 2,   2414.4, 2,    7.3970,     25.00,   -999.0, 9,   -999.0,  -999.00, 9,   -999.0,   1.8029, 27.6463,   1.9382, 2, 2, 0.54, 0.15, 0.01, 0.018,  -999.00, 9, -999.00, -999.00, 9, -999.00
49NZ20071008, P14N, 13, 1, 17, X12023, 2, 20071024, 1211, 53.0035, -178.5770, 3718,   2199.1, 2,   1.8285, 2,  34.5997, 2,  34.5999, 2,     56.3, 2,     57.2, 2,   197.94, 2,    41.13, 2,     0.00, 2,     3.06, 2,    0.006, 2,    0.007, 2,    0.000, 2, -999.000, 9,   2399.0, 2,   2418.8, 2,    7.4170,     25.00,   -999.0, 9,   -999.0,  -999.00, 9,   -999.0,   1.6780, 27.6758,   1.8284, 2, 2, 0.55, 0.15, 0.01, 0.018,  -999.00, 9, -999.00, -999.00, 9, -999.00
49NZ20071008, P14N, 13, 1, 16, X12022, 2, 20071024, 1211, 53.0035, -178.5770, 3718,   2399.7, 2,   1.7579, 2,  34.6164, 2,  34.6166, 2,     64.5, 2,     65.2, 2,   202.16, 2,    40.56, 2,     0.00, 2,     3.03, 2,    0.002, 2,    0.001, 2,    0.000, 2, -999.000, 9,   2396.3, 2,   2422.3, 2,    7.4334,     25.00,   -999.0, 9,   -999.0,  -999.00, 9,   -999.0,   1.5912, 27.6956,   1.7578, 2, 2, 0.56, 0.15, 0.01, 0.018,  -999.00, 9, -999.00, -999.00, 9, -999.00
49NZ20071008, P14N, 13, 1, 15, X12021, 2, 20071024, 1211, 53.0035, -178.5770, 3718,   2601.3, 2,   1.7013, 2,  34.6302, 2,  34.6305, 2,     72.4, 2,     72.8, 2,   205.43, 2,    39.93, 2,     0.00, 2,     3.00, 2,    0.000, 2,    0.000, 2,    0.000, 2, -999.000, 9,   2395.1, 2,   2425.4, 6,    7.4480,     25.00,   -999.0, 9,   -999.0,  -999.00, 9,   -999.0,   1.5176, 27.7121,   1.7013, 2, 2, 0.57, 0.14, 0.01, 0.017,  -999.00, 9, -999.00, -999.00, 9, -999.00
49NZ20071008, P14N, 13, 1, 14, X12020, 2, 20071024, 1211, 53.0035, -178.5770, 3718,   2799.2, 2,   1.6567, 2,  34.6413, 2,  34.6416, 6,     79.7, 2,     79.6, 2,   208.82, 2,    39.35, 2,     0.00, 2,     2.98, 2,    0.000, 2,    0.000, 2,    0.000, 2, -999.000, 9,   2399.5, 3,   2429.0, 2,    7.4620,     25.00,   -999.0, 9,   -999.0,  -999.00, 9,   -999.0,   1.4556, 27.7255,   1.6567, 2, 2, 0.58, 0.14, 0.01, 0.017,  -999.00, 9, -999.00, -999.00, 9, -999.00
49NZ20071008, P14N, 13, 1, 13, X12019, 2, 20071024, 1211, 53.0035, -178.5770, 3718,   2998.6, 2,   1.6243, 2,  34.6506, 2,  34.6509, 2,     85.3, 2,     85.7, 2,   211.36, 2,    38.83, 2,     0.00, 2,     2.95, 2,    0.000, 2,    0.000, 2,    0.000, 2, -999.000, 9,   2396.3, 2,   2429.6, 2,    7.4738,     25.00,   -999.0, 9,   -999.0,  -999.00, 9,   -999.0,   1.4050, 27.7366,   1.6244, 2, 2, 0.58, 0.14, 0.01, 0.017,  -999.00, 9, -999.00, -999.00, 9, -999.00
49NZ20071008, P14N, 13, 1, 12, X12040, 2, 20071024, 1211, 53.0035, -178.5770, 3718,   3252.0, 2,   1.6051, 2,  34.6582, 2,  34.6583, 2,     91.0, 2,     91.0, 2,   213.99, 2,    38.33, 2,     0.00, 2,     2.92, 2,    0.000, 2,    0.000, 2,    0.000, 2, -999.000, 9,   2392.3, 2,   2431.7, 2,    7.4861,     25.00,   -999.0, 9,   -999.0,  -999.00, 9,   -999.0,   1.3615, 27.7458,   1.6051, 2, 2, 0.59, 0.14, 0.01, 0.017,  -999.00, 9, -999.00, -999.00, 9, -999.00
49NZ20071008, P14N, 13, 1, 11, X12047, 2, 20071024, 1211, 53.0035, -178.5770, 3718,   3500.5, 2,   1.6016, 2,  34.6630, 2,  34.6635, 2,     94.6, 2,     94.4, 2,   217.00, 2,    38.14, 2,     0.00, 2,     2.92, 2,    0.000, 2,    0.000, 2,    0.000, 2, -999.000, 9,   2389.5, 2,   2433.2, 2,    7.4930,     25.00,   -999.0, 9,   -999.0,  -999.00, 9,   -999.0,   1.3330, 27.7517,   1.6014, 2, 2, 0.60, 0.14, 0.01, 0.017,  -999.00, 9, -999.00, -999.00, 9, -999.00
49NZ20071008, P14N, 13, 1, 10, X12010, 9, 20071024, 1211, 53.0035, -178.5770, 3718,    223.9, 2,   3.9754, 2,  33.3703, 2, -999.0000, 9,    226.3, 2,   -999.0, 9,  -999.00, 9,  -999.00, 9,  -999.00, 9,  -999.00, 9, -999.000, 9, -999.000, 9, -999.000, 9, -999.000, 9,   -999.0, 9,   -999.0, 9, -999.0000,   -999.00,   -999.0, 9,   -999.0,  -999.00, 9,   -999.0,   3.9603, 26.4938,   3.9739, 2, 9, -999.00, -999.00, -999.00, -999.000,  -999.00, 9, -999.00, -999.00, 9, -999.00
49NZ20071008, P14N, 13, 1, 9, X12015, 2, 20071024, 1211, 53.0035, -178.5770, 3718,    224.5, 2,   3.9592, 2,  33.3679, 2,  33.3698, 2,    225.8, 2,    224.1, 2,  -999.00, 9,  -999.00, 9,  -999.00, 9,  -999.00, 9, -999.000, 9, -999.000, 9, -999.000, 9, -999.000, 9,   -999.0, 9,   -999.0, 9, -999.0000,   -999.00,   -999.0, 9,   -999.0,  -999.00, 9,   -999.0,   3.9441, 26.4935,   3.9595, 2, 9, -999.00, -999.00, -999.00, -999.000,  -999.00, 9, -999.00, -999.00, 9, -999.00
49NZ20071008, P14N, 13, 1, 8, X12046, 9, 20071024, 1211, 53.0035, -178.5770, 3718,     10.1, 2,   6.5346, 2,  33.0000, 2, -999.0000, 9,    295.1, 2,   -999.0, 9,  -999.00, 9,  -999.00, 9,  -999.00, 9,  -999.00, 9, -999.000, 9, -999.000, 9, -999.000, 9, -999.000, 9,   -999.0, 9,   -999.0, 9, -999.0000,   -999.00,   -999.0, 9,   -999.0,  -999.00, 9,   -999.0,   6.5337, 25.9050,   6.5343, 2, 9, -999.00, -999.00, -999.00, -999.000,  -999.00, 9, -999.00, -999.00, 9, -999.00
49NZ20071008, P14N, 13, 1, 7, X12044, 9, 20071024, 1211, 53.0035, -178.5770, 3718,   2600.5, 2,   1.7012, 2,  34.6303, 2, -999.0000, 9,     72.4, 2,   -999.0, 9,  -999.00, 9,  -999.00, 9,  -999.00, 9,  -999.00, 9, -999.000, 9, -999.000, 9, -999.000, 9, -999.000, 9,   -999.0, 9,   -999.0, 9, -999.0000,   -999.00,   -999.0, 9,   -999.0,  -999.00, 9,   -999.0,   1.5176, 27.7122,   1.7011, 2, 9, -999.00, -999.00, -999.00, -999.000,  -999.00, 9, -999.00, -999.00, 9, -999.00
49NZ20071008, P14N, 13, 1, 6, X12048, 9, 20071024, 1211, 53.0035, -178.5770, 3718,   2799.0, 2,   1.6567, 2,  34.6416, 2, -999.0000, 9,     79.7, 2,   -999.0, 9,  -999.00, 9,  -999.00, 9,  -999.00, 9,  -999.00, 9, -999.000, 9, -999.000, 9, -999.000, 9, -999.000, 9,   -999.0, 9,   -999.0, 9, -999.0000,   -999.00,   -999.0, 9,   -999.0,  -999.00, 9,   -999.0,   1.4556, 27.7258,   1.6569, 2, 9, -999.00, -999.00, -999.00, -999.000,  -999.00, 9, -999.00, -999.00, 9, -999.00
49NZ20071008, P14N, 13, 1, 5, X12014, 9, 20071024, 1211, 53.0035, -178.5770, 3718,   2998.7, 2,   1.6246, 2,  34.6505, 2, -999.0000, 9,     85.3, 2,   -999.0, 9,  -999.00, 9,  -999.00, 9,  -999.00, 9,  -999.00, 9, -999.000, 9, -999.000, 9, -999.000, 9, -999.000, 9,   -999.0, 9,   -999.0, 9, -999.0000,   -999.00,   -999.0, 9,   -999.0,  -999.00, 9,   -999.0,   1.4053, 27.7365,   1.6247, 2, 9, -999.00, -999.00, -999.00, -999.000,  -999.00, 9, -999.00, -999.00, 9, -999.00
49NZ20071008, P14N, 13, 1, 4, X12006, 9, 20071024, 1211, 53.0035, -178.5770, 3718,   3250.2, 2,   1.6052, 2,  34.6581, 2, -999.0000, 9,     90.9, 2,   -999.0, 9,  -999.00, 9,  -999.00, 9,  -999.00, 9,  -999.00, 9, -999.000, 9, -999.000, 9, -999.000, 9, -999.000, 9,   -999.0, 9,   -999.0, 9, -999.0000,   -999.00,   -999.0, 9,   -999.0,  -999.00, 9,   -999.0,   1.3618, 27.7457,   1.6052, 2, 9, -999.00, -999.00, -999.00, -999.000,  -999.00, 9, -999.00, -999.00, 9, -999.00
49NZ20071008, P14N, 13, 1, 3, X12013, 9, 20071024, 1211, 53.0035, -178.5770, 3718,   3499.8, 2,   1.6016, 2,  34.6630, 2, -999.0000, 9,     94.6, 2,   -999.0, 9,  -999.00, 9,  -999.00, 9,  -999.00, 9,  -999.00, 9, -999.000, 9, -999.000, 9, -999.000, 9, -999.000, 9,   -999.0, 9,   -999.0, 9, -999.0000,   -999.00,   -999.0, 9,   -999.0,  -999.00, 9,   -999.0,   1.3330, 27.7517,   1.6015, 2, 9, -999.00, -999.00, -999.00, -999.000,  -999.00, 9, -999.00, -999.00, 9, -999.00
49NZ20071008, P14N, 13, 1, 2, X12002, 9, 20071024, 1211, 53.0035, -178.5770, 3718,     50.9, 2,   6.5395, 2,  33.0021, 2, -999.0000, 9,    292.6, 2,   -999.0, 9,  -999.00, 9,  -999.00, 9,  -999.00, 9,  -999.00, 9, -999.000, 9, -999.000, 9, -999.000, 9, -999.000, 9,   -999.0, 9,   -999.0, 9, -999.0000,   -999.00,   -999.0, 9,   -999.0,  -999.00, 9,   -999.0,   6.5351, 25.9065,   6.5390, 2, 9, -999.00, -999.00, -999.00, -999.000,  -999.00, 9, -999.00, -999.00, 9, -999.00
49NZ20071008, P14N, 13, 1, 1, X12001, 2, 20071024, 1211, 53.0035, -178.5770, 3718,   3765.4, 2,   1.5985, 2,  34.6692, 2,  34.6696, 6,     98.8, 2,     98.3, 2,   227.58, 2,    37.88, 2,     0.01, 2,     2.91, 2,    0.008, 2,    0.002, 2,    0.000, 2, -999.000, 9,   2399.0, 2,   2437.5, 2,    7.5035,     25.00,   -999.0, 9,   -999.0,  -999.00, 9,   -999.0,   1.3022, 27.7589,   1.5984, 2, 2, 0.62, 0.14, 0.01, 0.017,  -999.00, 9, -999.00, -999.00, 9, -999.00