BOTTLE,20221005CCHSIOAMB
EXPOCODE,SECT_ID,STNNBR,CASTNO,SAMPNO,BTLNBR,BTLNBR_FLAG_W,DATE,TIME,LATITUDE,LONGITUDE,DEPTH,CTDPRS,CTDPRS_FLAG_W,CTDTMP,CTDTMP_FLAG_W,CTDSAL,CTDSAL_FLAG_W,SALNTY,SALNTY_FLAG_W,CTDOXY,CTDOXY_FLAG_W,OXYGEN,OXYGEN_FLAG_W,SILCAT,SILCAT_FLAG_W,NITRAT,NITRAT_FLAG_W,NITRIT,NITRIT_FLAG_W,PHSPHT,PHSPHT_FLAG_W,CFC-11,CFC-11_FLAG_W,CFC-12,CFC-12_FLAG_W,CFC113,CFC113_FLAG_W,CCL4,CCL4_FLAG_W,TCARBN,TCARBN_FLAG_W,ALKALI,ALKALI_FLAG_W,PH_TOT,PH_TMP,DELC14,DELC14_FLAG_W,C14ERR,DELC13,DELC13_FLAG_W,C13ERR,THETA,SIG0,SBE35,SBE35_FLAG_W,PH_TOT_FLAG_W,SILUNC,NRAUNC,NRIUNC,PHPUNC,CS-137,CS-137_FLAG_W,CS137ER,PLUTO,PLUTO_FLAG_W,PLUTOER
,,,,,,,,,,,METERS,DBAR,,ITS-90,,PSS-78,,PSS-78,,UMOL/KG,,UMOL/KG,,UMOL/KG,,UMOL/KG,,UMOL/KG,,UMOL/KG,,PMOL/KG,,PMOL/KG,,PMOL/KG,,PMOL/KG,,UMOL/KG,,UMOL/KG,,,DEG C,/MILLE,,/MILLE,/MILLE,,/MILLE,DEG C,KG/M^3,ITS-90,,,UMOL/KG,UMOL/KG,UMOL/KG,UMOL/KG,DM/.1MG,,BQ/M^3,MBQ/M^3,,MBQ/M^3
49NZ20071008, P01, P01_33, 1, 36, X12042, 2, 20071012, 0933, 44.5758, 155.7958, 5138,     10.3, 2,  12.0212, 2,  32.5871, 2,  32.5889, 2,    275.0, 2,    274.8, 2,    12.55, 2,     7.39, 2,     0.13, 2,     0.93, 2,    3.295, 2,    1.837, 2,    0.341, 2, -999.000, 9,   -999.0, 9,   -999.0, 9, -999.0000,   -999.00,   -999.0, 9,   -999.0,  -999.00, 9,   -999.0,  12.0199, 24.7119,  12.0065, 2, 9, 0.15, 0.05, 0.01, 0.013,  -999.00, 9, -999.00, -999.00, 9, -999.00
49NZ20071008, P01, P01_33, 1, 35, X12041, 2, 20071012, 0933, 44.5758, 155.7958, 5138,     50.1, 2,   2.8289, 2,  33.0225, 2,  33.0263, 2,    332.6, 2,    327.3, 2,    36.96, 2,    21.67, 2,     0.88, 2,     1.89, 2,    5.544, 2,    2.930, 2,    0.526, 2, -999.000, 9,   -999.0, 9,   -999.0, 9, -999.0000,   -999.00,   -999.0, 9,   -999.0,  -999.00, 9,   -999.0,   2.8261, 26.3216,   2.8292, 2, 9, 0.20, 0.09, 0.00, 0.015,  -999.00, 9, -999.00, -999.00, 9, -999.00
49NZ20071008, P01, P01_33, 1, 34, X12016, 2, 20071012, 0933, 44.5758, 155.7958, 5138,    101.0, 2,   1.6760, 2,  33.2278, 2,  33.2295, 2,    295.8, 2,    271.7, 2,    52.88, 2,    29.00, 2,     0.02, 2,     2.24, 2,    5.125, 2,    2.695, 2,    0.443, 2, -999.000, 9,   -999.0, 9,   -999.0, 9, -999.0000,   -999.00,   -999.0, 9,   -999.0,  -999.00, 9,   -999.0,   1.6712, 26.5759,   1.6758, 2, 9, 0.24, 0.11, 0.01, 0.016,  -999.00, 9, -999.00, -999.00, 9, -999.00
49NZ20071008, P01, P01_33, 1, 33, X12033, 2, 20071012, 0933, 44.5758, 155.7958, 5138,    150.3, 2,   2.3226, 2,  33.5076, 2,  33.5048, 2,    199.1, 2,    182.1, 2,    73.42, 2,    35.45, 2,     0.02, 2,     2.65, 2,    3.835, 2,    1.930, 2,    0.347, 2, -999.000, 9,   -999.0, 9,   -999.0, 9, -999.0000,   -999.00,   -999.0, 9,   -999.0,  -999.00, 9,   -999.0,   2.3145, 26.7516,   2.3238, 2, 9, 0.28, 0.13, 0.01, 0.017,  -999.00, 9, -999.00, -999.00, 9, -999.00
49NZ20071008, P01, P01_33, 1, 32, X12038, 2, 20071012, 0933, 44.5758, 155.7958, 5138,    199.4, 2,   2.7982, 2,  33.6857, 2,  33.6862, 2,    125.8, 2,    113.2, 2,    85.76, 2,    39.56, 2,     0.01, 2,     2.90, 2,    2.974, 2,    1.500, 2,    0.244, 2, -999.000, 9,   -999.0, 9,   -999.0, 9, -999.0000,   -999.00,   -999.0, 9,   -999.0,  -999.00, 9,   -999.0,   2.7865, 26.8546,   2.7989, 2, 9, 0.31, 0.14, 0.01, 0.017,  -999.00, 9, -999.00, -999.00, 9, -999.00
49NZ20071008, P01, P01_33, 1, 31, X12003, 2, 20071012, 0933, 44.5758, 155.7958, 5138,    249.8, 2,   2.7752, 2,  33.7820, 2,  33.7832, 6,     89.8, 2,     97.5, 2,    93.27, 2,    39.86, 2,     0.02, 2,     2.92, 2,    2.605, 2,    1.305, 2,    0.218, 2, -999.000, 9,   -999.0, 9,   -999.0, 9, -999.0000,   -999.00,   -999.0, 9,   -999.0,  -999.00, 9,   -999.0,   2.7605, 26.9339,   2.7734, 2, 9, 0.32, 0.14, 0.01, 0.017,  -999.00, 9, -999.00, -999.00, 9, -999.00
49NZ20071008, P01, P01_33, 1, 30, X12008, 2, 20071012, 0933, 44.5758, 155.7958, 5138,    281.5, 2,   2.9886, 2,  33.8537, 2,  33.8547, 2,     74.9, 2,     77.4, 2,    97.46, 2,    41.08, 2,     0.02, 2,     2.99, 2,    2.238, 2,    1.099, 2,    0.179, 2, -999.000, 9,   -999.0, 9,   -999.0, 9, -999.0000,   -999.00,   -999.0, 9,   -999.0,  -999.00, 9,   -999.0,   2.9714, 26.9726,   2.9876, 2, 9, 0.33, 0.15, 0.01, 0.017,  -999.00, 9, -999.00, -999.00, 9, -999.00
49NZ20071008, P01, P01_33, 1, 29, X12035, 2, 20071012, 0933, 44.5758, 155.7958, 5138,    370.8, 2,   3.0322, 2,  33.9750, 2,  33.9753, 2,     55.9, 2,     56.8, 2,   108.39, 2,    42.23, 2,     0.01, 2,     3.06, 2,    1.660, 2,    0.811, 2,    0.125, 2, -999.000, 9,   -999.0, 9,   -999.0, 9, -999.0000,   -999.00,   -999.0, 9,   -999.0,  -999.00, 9,   -999.0,   3.0091, 27.0660,   3.0320, 2, 9, 0.36, 0.15, 0.01, 0.018,  -999.00, 9, -999.00, -999.00, 9, -999.00
49NZ20071008, P01, P01_33, 1, 28, X12034, 2, 20071012, 0933, 44.5758, 155.7958, 5138,    471.7, 2,   3.1455, 2,  34.1141, 2,  34.1155, 6,     40.8, 2,     42.1, 2,   118.90, 2,    42.88, 2,     0.01, 2,     3.10, 2,    0.968, 4,    0.460, 4,    0.068, 4, -999.000, 9,   -999.0, 9,   -999.0, 9, -999.0000,   -999.00,   -999.0, 9,   -999.0,  -999.00, 9,   -999.0,   3.1152, 27.1674,   3.1457, 2, 9, 0.38, 0.15, 0.01, 0.018,  -999.00, 9, -999.00, -999.00, 9, -999.00
49NZ20071008, P01, P01_33, 1, 27, X12049, 2, 20071012, 0933, 44.5758, 155.7958, 5138,    569.8, 2,   3.0003, 2,  34.1924, 2,  34.1970, 2,     32.1, 2,     30.9, 2,   128.55, 2,    43.35, 2,     0.01, 2,     3.13, 2,    0.751, 2,    0.360, 2,    0.058, 2, -999.000, 9,   -999.0, 9,   -999.0, 9, -999.0000,   -999.00,   -999.0, 9,   -999.0,  -999.00, 9,   -999.0,   2.9639, 27.2437,   3.0004, 2, 9, 0.40, 0.15, 0.01, 0.018,  -999.00, 9, -999.00, -999.00, 9, -999.00
49NZ20071008, P01, P01_33, 1, 26, X12032, 2, 20071012, 0933, 44.5758, 155.7958, 5138,    671.6, 2,   2.9864, 2,  34.2786, 2,  34.2791, 2,     19.3, 2,     20.4, 2,   136.73, 2,    44.09, 2,     0.01, 2,     3.17, 2,    0.416, 6,    0.195, 6,    0.031, 6, -999.000, 9,   -999.0, 9,   -999.0, 9, -999.0000,   -999.00,   -999.0, 9,   -999.0,  -999.00, 9,   -999.0,   2.9429, 27.3144,   2.9869, 2, 9, 0.42, 0.16, 0.01, 0.018,  -999.00, 9, -999.00, -999.00, 9, -999.00
49NZ20071008, P01, P01_33, 1, 25, X12043, 2, 20071012, 0933, 44.5758, 155.7958, 5138,    771.2, 2,   2.8119, 2,  34.3291, 2,  34.3270, 2,     23.2, 2,     28.6, 2,   141.81, 2,    43.50, 2,     0.01, 2,     3.13, 2,    0.389, 2,    0.190, 2,    0.026, 2, -999.000, 9,   -999.0, 9,   -999.0, 9, -999.0000,   -999.00,   -999.0, 9,   -999.0,  -999.00, 9,   -999.0,   2.7623, 27.3708,   2.8155, 2, 9, 0.43, 0.15, 0.01, 0.018,  -999.00, 9, -999.00, -999.00, 9, -999.00
49NZ20071008, P01, P01_33, 1, 24, X12030, 2, 20071012, 0933, 44.5758, 155.7958, 5138,    870.8, 2,   2.9028, 2,  34.4014, 2,  34.4011, 2,     38.8, 2,     38.2, 2,   138.74, 2,    42.61, 2,     0.01, 2,     3.06, 2,    0.185, 2,    0.088, 2,    0.008, 2, -999.000, 9,   -999.0, 9,   -999.0, 9, -999.0000,   -999.00,   -999.0, 9,   -999.0,  -999.00, 9,   -999.0,   2.8454, 27.4212,   2.9026, 2, 9, 0.42, 0.15, 0.01, 0.018,  -999.00, 9, -999.00, -999.00, 9, -999.00
49NZ20071008, P01, P01_33, 1, 23, X12027, 2, 20071012, 0933, 44.5758, 155.7958, 5138,    970.0, 2,   2.7225, 2,  34.4158, 2,  34.4148, 6,     37.6, 2,     36.9, 2,   144.44, 2,    42.87, 2,     0.01, 2,     3.09, 2,    0.189, 2,    0.091, 2,    0.016, 2, -999.000, 9,   -999.0, 9,   -999.0, 9, -999.0000,   -999.00,   -999.0, 9,   -999.0,  -999.00, 9,   -999.0,   2.6591, 27.4491,   2.7230, 2, 9, 0.44, 0.15, 0.01, 0.018,  -999.00, 9, -999.00, -999.00, 9, -999.00
49NZ20071008, P01, P01_33, 1, 22, X12028, 2, 20071012, 0933, 44.5758, 155.7958, 5138,   1130.2, 2,   2.3859, 2,  34.4411, 2,  34.4416, 2,     42.9, 2,     39.5, 2,   154.70, 2,    42.86, 2,     0.01, 2,     3.09, 2,    0.212, 2,    0.104, 2,    0.000, 2, -999.000, 9,   -999.0, 9,   -999.0, 9, -999.0000,   -999.00,   -999.0, 9,   -999.0,  -999.00, 9,   -999.0,   2.3136, 27.4986,   2.3860, 2, 9, 0.46, 0.15, 0.01, 0.018,  -999.00, 9, -999.00, -999.00, 9, -999.00
49NZ20071008, P01, P01_33, 1, 21, X12009, 2, 20071012, 0933, 44.5758, 155.7958, 5138,   1330.1, 2,   2.2898, 2,  34.5020, 2,  34.5021, 2,     47.3, 2,     45.7, 2,   156.41, 2,    42.56, 2,     0.01, 2,     3.05, 2,    0.093, 2,    0.042, 2,    0.010, 2, -999.000, 9,   -999.0, 9,   -999.0, 9, -999.0000,   -999.00,   -999.0, 9,   -999.0,  -999.00, 9,   -999.0,   2.2034, 27.5564,   2.2898, 2, 9, 0.46, 0.15, 0.01, 0.018,  -999.00, 9, -999.00, -999.00, 9, -999.00
49NZ20071008, P01, P01_33, 1, 20, X12026, 2, 20071012, 0933, 44.5758, 155.7958, 5138,   1529.8, 2,   2.1389, 2,  34.5411, 2,  34.5409, 2,     53.0, 2,     52.7, 2,   159.99, 2,    42.26, 2,     0.01, 2,     3.02, 2,    0.053, 2,    0.025, 2,    0.000, 2, -999.000, 9,   -999.0, 9,   -999.0, 9, -999.0000,   -999.00,   -999.0, 9,   -999.0,  -999.00, 9,   -999.0,   2.0388, 27.6009,   2.1390, 2, 9, 0.47, 0.15, 0.01, 0.017,  -999.00, 9, -999.00, -999.00, 9, -999.00
49NZ20071008, P01, P01_33, 1, 19, X12025, 2, 20071012, 0933, 44.5758, 155.7958, 5138,   1731.0, 2,   2.0238, 2,  34.5702, 2,  34.5698, 2,     63.6, 2,     63.1, 2,   160.60, 2,    41.74, 2,     0.01, 2,     2.98, 2,    0.032, 2,    0.015, 2,    0.000, 2, -999.000, 9,   -999.0, 9,   -999.0, 9, -999.0000,   -999.00,   -999.0, 9,   -999.0,  -999.00, 9,   -999.0,   1.9092, 27.6345,   2.0235, 2, 9, 0.47, 0.15, 0.01, 0.017,  -999.00, 9, -999.00, -999.00, 9, -999.00
49NZ20071008, P01, P01_33, 1, 18, X12024, 2, 20071012, 0933, 44.5758, 155.7958, 5138,   1931.8, 2,   1.8881, 2,  34.5953, 2,  34.5950, 2,     69.5, 2,     75.0, 2,   161.98, 2,    40.99, 2,     0.01, 2,     2.92, 2,    0.011, 2,    0.004, 2,    0.000, 2, -999.000, 9,   -999.0, 9,   -999.0, 9, -999.0000,   -999.00,   -999.0, 9,   -999.0,  -999.00, 9,   -999.0,   1.7591, 27.6661,   1.8882, 2, 9, 0.48, 0.15, 0.01, 0.017,  -999.00, 9, -999.00, -999.00, 9, -999.00
49NZ20071008, P01, P01_33, 1, 17, X12023, 2, 20071012, 0933, 44.5758, 155.7958, 5138,   2130.3, 2,   1.7763, 2,  34.6166, 2,  34.6168, 2,     82.2, 2,     83.7, 2,   164.78, 2,    40.46, 2,     0.01, 2,     2.88, 2,    0.017, 2,    0.007, 2,    0.000, 2, -999.000, 9,   -999.0, 9,   -999.0, 9, -999.0000,   -999.00,   -999.0, 9,   -999.0,  -999.00, 9,   -999.0,   1.6325, 27.6927,   1.7762, 2, 9, 0.48, 0.15, 0.01, 0.017,  -999.00, 9, -999.00, -999.00, 9, -999.00
49NZ20071008, P01, P01_33, 1, 16, X12022, 2, 20071012, 0933, 44.5758, 155.7958, 5138,   2330.3, 2,   1.6874, 2,  34.6349, 2,  34.6348, 6,     96.1, 2,     98.7, 2,   160.73, 2,    39.53, 2,     0.01, 2,     2.80, 2,    0.016, 3,    0.013, 3,    0.000, 2, -999.000, 9,   -999.0, 9,   -999.0, 9, -999.0000,   -999.00,   -999.0, 9,   -999.0,  -999.00, 9,   -999.0,   1.5279, 27.7151,   1.6873, 2, 9, 0.47, 0.14, 0.01, 0.017,  -999.00, 9, -999.00, -999.00, 9, -999.00
49NZ20071008, P01, P01_33, 1, 15, X12021, 2, 20071012, 0933, 44.5758, 155.7958, 5138,   2530.7, 2,   1.6258, 2,  34.6461, 2,  34.6461, 2,    106.9, 2,    108.6, 2,   159.21, 2,    38.96, 2,     0.01, 2,     2.76, 2,    0.014, 2,    0.006, 2,    0.000, 2, -999.000, 9,   -999.0, 9,   -999.0, 9, -999.0000,   -999.00,   -999.0, 9,   -999.0,  -999.00, 9,   -999.0,   1.4498, 27.7298,   1.6257, 2, 9, 0.47, 0.14, 0.01, 0.017,  -999.00, 9, -999.00, -999.00, 9, -999.00
49NZ20071008, P01, P01_33, 1, 14, X12020, 2, 20071012, 0933, 44.5758, 155.7958, 5138,   2730.7, 2,   1.5811, 2,  34.6549, 2,  34.6550, 2,    116.1, 2,    117.5, 2,   156.83, 2,    38.40, 2,     0.01, 2,     2.72, 2, -999.000, 9, -999.000, 9, -999.000, 9, -999.000, 9,   -999.0, 9,   -999.0, 9, -999.0000,   -999.00,   -999.0, 9,   -999.0,  -999.00, 9,   -999.0,   1.3879, 27.7413,   1.5812, 2, 9, 0.46, 0.14, 0.01, 0.017,  -999.00, 9, -999.00, -999.00, 9, -999.00
49NZ20071008, P01, P01_33, 1, 13, X12019, 2, 20071012, 0933, 44.5758, 155.7958, 5138,   2930.8, 2,   1.5411, 2,  34.6623, 2,  34.6623, 2,    123.9, 2,    125.0, 2,   154.92, 2,    37.85, 2,     0.01, 2,     2.67, 2, -999.000, 9, -999.000, 9, -999.000, 9, -999.000, 9,   -999.0, 9,   -999.0, 9, -999.0000,   -999.00,   -999.0, 9,   -999.0,  -999.00, 9,   -999.0,   1.3300, 27.7513,   1.5411, 2, 9, 0.46, 0.14, 0.01, 0.017,  -999.00, 9, -999.00, -999.00, 9, -999.00
49NZ20071008, P01, P01_33, 1, 12, X12040, 2, 20071012, 0933, 44.5758, 155.7958, 5138,   3171.2, 2,   1.5062, 2,  34.6690, 2,  34.6692, 2,    132.0, 2,    132.8, 2,   152.70, 2,    37.35, 2,     0.01, 2,     2.63, 2,    0.011, 2,    0.003, 2,    0.000, 2, -999.000, 9,   -999.0, 9,   -999.0, 9, -999.0000,   -999.00,   -999.0, 9,   -999.0,  -999.00, 9,   -999.0,   1.2728, 27.7608,   1.5061, 2, 9, 0.45, 0.14, 0.01, 0.017,  -999.00, 9, -999.00, -999.00, 9, -999.00
49NZ20071008, P01, P01_33, 1, 11, X12047, 2, 20071012, 0933, 44.5758, 155.7958, 5138,   3421.0, 2,   1.4797, 2,  34.6746, 2,  34.6747, 2,    138.5, 2,    139.2, 2,   151.16, 2,    36.93, 2,     0.01, 2,     2.60, 2, -999.000, 9, -999.000, 9, -999.000, 9, -999.000, 9,   -999.0, 9,   -999.0, 9, -999.0000,   -999.00,   -999.0, 9,   -999.0,  -999.00, 9,   -999.0,   1.2221, 27.7688,   1.4796, 2, 9, 0.45, 0.14, 0.01, 0.016,  -999.00, 9, -999.00, -999.00, 9, -999.00
49NZ20071008, P01, P01_33, 1, 10, X12010, 2, 20071012, 0933, 44.5758, 155.7958, 5138,   3670.6, 2,   1.4626, 2,  34.6793, 2,  34.6793, 6,    144.1, 2,    144.8, 2,   149.68, 2,    36.61, 2,     0.01, 2,     2.57, 2, -999.000, 9, -999.000, 9, -999.000, 9, -999.000, 9,   -999.0, 9,   -999.0, 9, -999.0000,   -999.00,   -999.0, 9,   -999.0,  -999.00, 9,   -999.0,   1.1798, 27.7755,   1.4626, 2, 9, 0.45, 0.14, 0.01, 0.016,  -999.00, 9, -999.00, -999.00, 9, -999.00
49NZ20071008, P01, P01_33, 1, 9, X12015, 2, 20071012, 0933, 44.5758, 155.7958, 5138,   3920.2, 2,   1.4535, 2,  34.6830, 2,  34.6831, 2,    148.8, 2,    149.5, 2,   148.44, 2,    36.29, 2,     0.01, 2,     2.54, 2,    0.009, 2,    0.006, 2,    0.000, 2, -999.000, 9,   -999.0, 9,   -999.0, 9, -999.0000,   -999.00,   -999.0, 9,   -999.0,  -999.00, 9,   -999.0,   1.1445, 27.7808,   1.4536, 2, 9, 0.45, 0.13, 0.01, 0.016,  -999.00, 9, -999.00, -999.00, 9, -999.00
49NZ20071008, P01, P01_33, 1, 8, X12046, 2, 20071012, 0933, 44.5758, 155.7958, 5138,   4171.2, 2,   1.4542, 2,  34.6856, 2,  34.6856, 2,    152.6, 2,    153.0, 2,   147.59, 2,    36.02, 2,     0.01, 2,     2.53, 2, -999.000, 9, -999.000, 9, -999.000, 9, -999.000, 9,   -999.0, 9,   -999.0, 9, -999.0000,   -999.00,   -999.0, 9,   -999.0,  -999.00, 9,   -999.0,   1.1178, 27.7848,   1.4541, 2, 9, 0.44, 0.13, 0.01, 0.016,  -999.00, 9, -999.00, -999.00, 9, -999.00
49NZ20071008, P01, P01_33, 1, 7, X12044, 2, 20071012, 0933, 44.5758, 155.7958, 5138,   4421.8, 2,   1.4635, 2,  34.6878, 2,  34.6882, 2,    155.3, 2,    155.5, 2,   147.23, 2,    35.85, 2,     0.01, 2,     2.51, 2, -999.000, 9, -999.000, 9, -999.000, 9, -999.000, 9,   -999.0, 9,   -999.0, 9, -999.0000,   -999.00,   -999.0, 9,   -999.0,  -999.00, 9,   -999.0,   1.0986, 27.7878,   1.4634, 2, 9, 0.44, 0.13, 0.01, 0.016,  -999.00, 9, -999.00, -999.00, 9, -999.00
49NZ20071008, P01, P01_33, 1, 6, X12048, 2, 20071012, 0933, 44.5758, 155.7958, 5138,   4669.8, 2,   1.4827, 2,  34.6889, 2,  34.6887, 2,    156.6, 2,    156.7, 2,   147.43, 2,    35.76, 2,     0.01, 2,     2.51, 2,    0.003, 2,    0.000, 2,    0.000, 2, -999.000, 9,   -999.0, 9,   -999.0, 9, -999.0000,   -999.00,   -999.0, 9,   -999.0,  -999.00, 9,   -999.0,   1.0885, 27.7895,   1.4826, 2, 9, 0.44, 0.13, 0.01, 0.016,  -999.00, 9, -999.00, -999.00, 9, -999.00
49NZ20071008, P01, P01_33, 1, 5, X12014, 2, 20071012, 0933, 44.5758, 155.7958, 5138,   4921.6, 2,   1.5065, 2,  34.6896, 2,  34.6889, 2,    157.5, 2,    157.5, 2,   147.62, 2,    35.79, 2,     0.01, 2,     2.50, 2, -999.000, 9, -999.000, 9, -999.000, 9, -999.000, 9,   -999.0, 9,   -999.0, 9, -999.0000,   -999.00,   -999.0, 9,   -999.0,  -999.00, 9,   -999.0,   1.0815, 27.7905,   1.5063, 2, 9, 0.44, 0.13, 0.01, 0.016,  -999.00, 9, -999.00, -999.00, 9, -999.00
49NZ20071008, P01, P01_33, 1, 4, X12006, 2, 20071012, 0933, 44.5758, 155.7958, 5138,   5170.7, 2,   1.5340, 2,  34.6899, 2,  34.6899, 2,    158.1, 2,    158.0, 2,   147.21, 2,    35.64, 2,     0.01, 2,     2.50, 2, -999.000, 9, -999.000, 9, -999.000, 9, -999.000, 9,   -999.0, 9,   -999.0, 9, -999.0000,   -999.00,   -999.0, 9,   -999.0,  -999.00, 9,   -999.0,   1.0776, 27.7910,   1.5337, 2, 9, 0.44, 0.13, 0.01, 0.016,  -999.00, 9, -999.00, -999.00, 9, -999.00
49NZ20071008, P01, P01_33, 1, 3, X12013, 9, 20071012, 0933, 44.5758, 155.7958, 5138,     10.4, 2,  12.0211, 2,  32.5883, 2, -999.0000, 9,    274.9, 2,   -999.0, 9,  -999.00, 9,  -999.00, 9,  -999.00, 9,  -999.00, 9, -999.000, 9, -999.000, 9, -999.000, 9, -999.000, 9,   -999.0, 9,   -999.0, 9, -999.0000,   -999.00,   -999.0, 9,   -999.0,  -999.00, 9,   -999.0,  12.0198, 24.7128,  12.0130, 2, 9, -999.00, -999.00, -999.00, -999.000,  -999.00, 9, -999.00, -999.00, 9, -999.00
49NZ20071008, P01, P01_33, 1, 2, X12002, 9, 20071012, 0933, 44.5758, 155.7958, 5138,     50.1, 2,   2.8173, 2,  33.0231, 2, -999.0000, 9,    332.5, 2,   -999.0, 9,  -999.00, 9,  -999.00, 9,  -999.00, 9,  -999.00, 9, -999.000, 9, -999.000, 9, -999.000, 9, -999.000, 9,   -999.0, 9,   -999.0, 9, -999.0000,   -999.00,   -999.0, 9,   -999.0,  -999.00, 9,   -999.0,   2.8145, 26.3231,   2.8177, 2, 9, -999.00, -999.00, -999.00, -999.000,  -999.00, 9, -999.00, -999.00, 9, -999.00
49NZ20071008, P01, P01_33, 1, 1, X12001, 2, 20071012, 0933, 44.5758, 155.7958, 5138,   5228.8, 2,   1.5400, 2,  34.6901, 2,  34.6901, 6,    158.1, 2,    158.2, 2,   148.26, 2,    35.70, 2,     0.01, 2,     2.50, 2,    0.019, 2,    0.010, 2,    0.000, 2, -999.000, 9,   -999.0, 9,   -999.0, 9, -999.0000,   -999.00,   -999.0, 9,   -999.0,  -999.00, 9,   -999.0,   1.0762, 27.7912,   1.5398, 2, 9, 0.45, 0.13, 0.01, 0.016,  -999.00, 9, -999.00, -999.00, 9, -999.00