BOTTLE,20221005CCHSIOAMB
EXPOCODE,SECT_ID,STNNBR,CASTNO,SAMPNO,BTLNBR,BTLNBR_FLAG_W,DATE,TIME,LATITUDE,LONGITUDE,DEPTH,CTDPRS,CTDPRS_FLAG_W,CTDTMP,CTDTMP_FLAG_W,CTDSAL,CTDSAL_FLAG_W,SALNTY,SALNTY_FLAG_W,CTDOXY,CTDOXY_FLAG_W,OXYGEN,OXYGEN_FLAG_W,SILCAT,SILCAT_FLAG_W,NITRAT,NITRAT_FLAG_W,NITRIT,NITRIT_FLAG_W,PHSPHT,PHSPHT_FLAG_W,CFC-11,CFC-11_FLAG_W,CFC-12,CFC-12_FLAG_W,CFC113,CFC113_FLAG_W,CCL4,CCL4_FLAG_W,TCARBN,TCARBN_FLAG_W,ALKALI,ALKALI_FLAG_W,PH_TOT,PH_TMP,DELC14,DELC14_FLAG_W,C14ERR,DELC13,DELC13_FLAG_W,C13ERR,THETA,SIG0,SBE35,SBE35_FLAG_W,PH_TOT_FLAG_W,SILUNC,NRAUNC,NRIUNC,PHPUNC,CS-137,CS-137_FLAG_W,CS137ER,PLUTO,PLUTO_FLAG_W,PLUTOER
,,,,,,,,,,,METERS,DBAR,,ITS-90,,PSS-78,,PSS-78,,UMOL/KG,,UMOL/KG,,UMOL/KG,,UMOL/KG,,UMOL/KG,,UMOL/KG,,PMOL/KG,,PMOL/KG,,PMOL/KG,,PMOL/KG,,UMOL/KG,,UMOL/KG,,,DEG C,/MILLE,,/MILLE,/MILLE,,/MILLE,DEG C,KG/M^3,ITS-90,,,UMOL/KG,UMOL/KG,UMOL/KG,UMOL/KG,DM/.1MG,,BQ/M^3,MBQ/M^3,,MBQ/M^3
49NZ20071008, P01, P01_30, 1, 36, X12042, 2, 20071011, 0609, 43.0820, 153.3250, 5163,      9.8, 2,  14.7767, 2,  32.8919, 2,  32.8922, 2,    259.5, 2,    259.4, 2,     6.38, 2,     2.32, 2,     0.07, 2,     0.54, 2,    2.821, 2,    1.619, 2,    0.297, 2, -999.000, 9,   -999.0, 9,   -999.0, 9, -999.0000,   -999.00,   -999.0, 9,   -999.0,  -999.00, 9,   -999.0,  14.7753, 24.3954,  14.7710, 2, 9, 0.13, 0.04, 0.01, 0.013,  -999.00, 9, -999.00, -999.00, 9, -999.00
49NZ20071008, P01, P01_30, 1, 35, X12041, 2, 20071011, 0609, 43.0820, 153.3250, 5163,     50.5, 2,   3.1655, 2,  33.0769, 2,  33.0781, 2,    313.1, 2,    309.2, 2,    35.81, 2,    22.96, 2,     0.04, 2,     1.87, 2,    5.444, 2,    2.907, 2,    0.513, 2, -999.000, 9,   -999.0, 9,   -999.0, 9, -999.0000,   -999.00,   -999.0, 9,   -999.0,  -999.00, 9,   -999.0,   3.1625, 26.3357,   3.1653, 2, 9, 0.20, 0.10, 0.01, 0.015,  -999.00, 9, -999.00, -999.00, 9, -999.00
49NZ20071008, P01, P01_30, 1, 34, X12016, 2, 20071011, 0609, 43.0820, 153.3250, 5163,     99.7, 2,   1.9388, 2,  33.2579, 2,  33.2610, 2,    277.4, 2,    274.3, 2,    51.74, 2,    27.88, 2,     0.02, 2,     2.17, 2,    5.161, 2,    2.751, 2,    0.440, 2, -999.000, 9,   -999.0, 9,   -999.0, 9, -999.0000,   -999.00,   -999.0, 9,   -999.0,  -999.00, 9,   -999.0,   1.9338, 26.5810,   1.9374, 2, 9, 0.23, 0.11, 0.01, 0.015,  -999.00, 9, -999.00, -999.00, 9, -999.00
49NZ20071008, P01, P01_30, 1, 33, X12033, 2, 20071011, 0609, 43.0820, 153.3250, 5163,    151.0, 2,   2.0576, 2,  33.4411, 2,  33.4452, 2,    204.0, 2,    199.8, 2,    69.53, 2,    33.22, 2,     0.02, 2,     2.52, 2,    4.246, 2,    2.202, 2,    0.346, 2, -999.000, 9,   -999.0, 9,   -999.0, 9, -999.0000,   -999.00,   -999.0, 9,   -999.0,  -999.00, 9,   -999.0,   2.0498, 26.7190,   2.0597, 2, 9, 0.27, 0.13, 0.01, 0.016,  -999.00, 9, -999.00, -999.00, 9, -999.00
49NZ20071008, P01, P01_30, 1, 32, X12038, 2, 20071011, 0609, 43.0820, 153.3250, 5163,    200.5, 2,   3.4039, 2,  33.7043, 2,  33.7083, 2,    166.9, 2,    162.8, 2,    70.70, 2,    33.01, 2,     0.02, 2,     2.48, 2,    3.378, 2,    1.760, 2,    0.257, 2, -999.000, 9,   -999.0, 9,   -999.0, 9, -999.0000,   -999.00,   -999.0, 9,   -999.0,  -999.00, 9,   -999.0,   3.3912, 26.8150,   3.4028, 2, 9, 0.27, 0.13, 0.01, 0.016,  -999.00, 9, -999.00, -999.00, 9, -999.00
49NZ20071008, P01, P01_30, 1, 31, X12003, 2, 20071011, 0609, 43.0820, 153.3250, 5163,    249.9, 2,   3.0344, 2,  33.7279, 2,  33.7210, 6,    139.3, 2,    138.1, 2,    81.58, 2,    36.05, 2,     0.02, 2,     2.69, 2,    3.139, 2,    1.617, 2,    0.241, 2,    2.947, 4,   -999.0, 9,   -999.0, 9, -999.0000,   -999.00,   -999.0, 9,   -999.0,  -999.00, 9,   -999.0,   3.0192, 26.8679,   3.0349, 2, 9, 0.30, 0.13, 0.01, 0.017,  -999.00, 9, -999.00, -999.00, 9, -999.00
49NZ20071008, P01, P01_30, 1, 30, X12008, 2, 20071011, 0609, 43.0820, 153.3250, 5163,    280.5, 2,   2.7758, 2,  33.7457, 2,  33.7498, 2,    118.6, 2,    117.1, 2,    89.13, 2,    38.16, 2,     0.02, 2,     2.82, 2,    2.909, 2,    1.494, 2,    0.221, 2,    2.682, 4,   -999.0, 9,   -999.0, 9, -999.0000,   -999.00,   -999.0, 9,   -999.0,  -999.00, 9,   -999.0,   2.7592, 26.9049,   2.7777, 2, 9, 0.32, 0.14, 0.01, 0.017,  -999.00, 9, -999.00, -999.00, 9, -999.00
49NZ20071008, P01, P01_30, 1, 29, X12035, 2, 20071011, 0609, 43.0820, 153.3250, 5163,    370.8, 2,   3.0460, 2,  33.9057, 2,  33.9048, 2,     70.7, 2,     65.8, 2,   102.41, 2,    41.79, 2,     0.02, 2,     3.04, 2,    2.076, 2,    1.046, 2,    0.156, 2,    1.838, 4,   -999.0, 9,   -999.0, 9, -999.0000,   -999.00,   -999.0, 9,   -999.0,  -999.00, 9,   -999.0,   3.0229, 27.0095,   3.0462, 2, 9, 0.34, 0.15, 0.01, 0.018,  -999.00, 9, -999.00, -999.00, 9, -999.00
49NZ20071008, P01, P01_30, 1, 28, X12034, 2, 20071011, 0609, 43.0820, 153.3250, 5163,    469.6, 2,   3.2558, 2,  34.0691, 2,  34.0683, 6,     53.8, 2,     49.6, 2,   112.85, 2,    42.04, 2,     0.01, 2,     3.05, 2,    1.366, 2,    0.687, 2,    0.098, 2,    1.188, 4,   -999.0, 9,   -999.0, 9, -999.0000,   -999.00,   -999.0, 9,   -999.0,  -999.00, 9,   -999.0,   3.2253, 27.1213,   3.2568, 2, 9, 0.37, 0.15, 0.01, 0.018,  -999.00, 9, -999.00, -999.00, 9, -999.00
49NZ20071008, P01, P01_30, 1, 27, X12049, 2, 20071011, 0609, 43.0820, 153.3250, 5163,    570.0, 2,   3.3375, 2,  34.1923, 2,  34.1921, 2,     42.6, 2,     42.5, 2,   120.14, 2,    42.09, 2,     0.02, 2,     3.05, 2,    0.842, 2,    0.422, 2,    0.053, 2,    0.697, 4,   -999.0, 9,   -999.0, 9, -999.0000,   -999.00,   -999.0, 9,   -999.0,  -999.00, 9,   -999.0,   3.2995, 27.2127,   3.3376, 2, 9, 0.38, 0.15, 0.01, 0.018,  -999.00, 9, -999.00, -999.00, 9, -999.00
49NZ20071008, P01, P01_30, 1, 26, X12032, 2, 20071011, 0609, 43.0820, 153.3250, 5163,    671.7, 2,   3.3048, 2,  34.2814, 2,  34.2821, 2,     38.7, 2,     39.2, 2,   126.03, 2,    42.30, 2,     0.01, 2,     3.06, 2,    0.498, 6,    0.244, 6,    0.027, 6,    0.440, 4,   -999.0, 9,   -999.0, 9, -999.0000,   -999.00,   -999.0, 9,   -999.0,  -999.00, 9,   -999.0,   3.2596, 27.2875,   3.3050, 2, 9, 0.40, 0.15, 0.01, 0.018,  -999.00, 9, -999.00, -999.00, 9, -999.00
49NZ20071008, P01, P01_30, 1, 25, X12043, 2, 20071011, 0609, 43.0820, 153.3250, 5163,    771.6, 2,   3.0818, 2,  34.3324, 2,  34.3316, 2,     37.7, 2,     37.0, 2,   133.41, 2,    42.57, 2,     0.01, 2,     3.07, 2,    0.351, 2,    0.168, 2,    0.024, 2,    0.311, 4,   -999.0, 9,   -999.0, 9, -999.0000,   -999.00,   -999.0, 9,   -999.0,  -999.00, 9,   -999.0,   3.0305, 27.3494,   3.0814, 2, 9, 0.41, 0.15, 0.01, 0.018,  -999.00, 9, -999.00, -999.00, 9, -999.00
49NZ20071008, P01, P01_30, 1, 24, X12030, 2, 20071011, 0609, 43.0820, 153.3250, 5163,    869.1, 2,   2.9807, 2,  34.3811, 2,  34.3822, 2,     37.3, 2,     37.1, 2,   137.28, 2,    42.66, 2,     0.01, 2,     3.07, 2,    0.206, 2,    0.094, 2,    0.012, 2, -999.000, 9,   -999.0, 9,   -999.0, 9, -999.0000,   -999.00,   -999.0, 9,   -999.0,  -999.00, 9,   -999.0,   2.9229, 27.3980,   2.9810, 2, 9, 0.42, 0.15, 0.01, 0.018,  -999.00, 9, -999.00, -999.00, 9, -999.00
49NZ20071008, P01, P01_30, 1, 23, X12027, 2, 20071011, 0609, 43.0820, 153.3250, 5163,    971.4, 2,   2.8088, 2,  34.4098, 2,  34.4094, 6,     37.4, 2,     37.3, 2,   142.50, 2,    42.76, 2,     0.01, 2,     3.08, 2,    0.179, 2,    0.092, 2,    0.013, 2, -999.000, 9,   -999.0, 9,   -999.0, 9, -999.0000,   -999.00,   -999.0, 9,   -999.0,  -999.00, 9,   -999.0,   2.7447, 27.4368,   2.8084, 2, 9, 0.43, 0.15, 0.01, 0.018,  -999.00, 9, -999.00, -999.00, 9, -999.00
49NZ20071008, P01, P01_30, 1, 22, X12028, 2, 20071011, 0609, 43.0820, 153.3250, 5163,   1131.3, 2,   2.5373, 2,  34.4423, 2,  34.4425, 2,     38.5, 2,     38.5, 2,   150.67, 2,    42.93, 2,     0.01, 2,     3.09, 2,    0.157, 2,    0.074, 2,    0.015, 2, -999.000, 9,   -999.0, 9,   -999.0, 9, -999.0000,   -999.00,   -999.0, 9,   -999.0,  -999.00, 9,   -999.0,   2.4635, 27.4870,   2.5374, 2, 9, 0.45, 0.15, 0.01, 0.018,  -999.00, 9, -999.00, -999.00, 9, -999.00
49NZ20071008, P01, P01_30, 1, 21, X12009, 2, 20071011, 0609, 43.0820, 153.3250, 5163,   1331.5, 2,   2.3454, 2,  34.4955, 2,  34.4950, 2,     44.0, 2,     44.0, 2,   155.71, 2,    42.69, 2,     0.01, 2,     3.07, 2, -999.000, 5, -999.000, 5, -999.000, 5, -999.000, 9,   -999.0, 9,   -999.0, 9, -999.0000,   -999.00,   -999.0, 9,   -999.0,  -999.00, 9,   -999.0,   2.2583, 27.5467,   2.3454, 2, 9, 0.46, 0.15, 0.01, 0.018,  -999.00, 9, -999.00, -999.00, 9, -999.00
49NZ20071008, P01, P01_30, 1, 20, X12026, 2, 20071011, 0609, 43.0820, 153.3250, 5163,   1531.0, 2,   2.1931, 2,  34.5337, 2,  34.5337, 2,     51.9, 2,     51.8, 2,   158.67, 2,    42.30, 2,     0.01, 2,     3.03, 2,    0.042, 2,    0.020, 2,    0.000, 2, -999.000, 9,   -999.0, 9,   -999.0, 9, -999.0000,   -999.00,   -999.0, 9,   -999.0,  -999.00, 9,   -999.0,   2.0923, 27.5907,   2.1936, 2, 9, 0.47, 0.15, 0.01, 0.018,  -999.00, 9, -999.00, -999.00, 9, -999.00
49NZ20071008, P01, P01_30, 1, 19, X12025, 2, 20071011, 0609, 43.0820, 153.3250, 5163,   1729.9, 2,   2.0794, 2,  34.5643, 2,  34.5656, 3,     61.2, 2,     60.5, 2,   159.93, 2,    41.94, 2,     0.01, 2,     2.99, 2,    0.012, 2,    0.005, 2,    0.000, 2, -999.000, 9,   -999.0, 9,   -999.0, 9, -999.0000,   -999.00,   -999.0, 9,   -999.0,  -999.00, 9,   -999.0,   1.9642, 27.6254,   2.0794, 2, 9, 0.47, 0.15, 0.01, 0.017,  -999.00, 9, -999.00, -999.00, 9, -999.00
49NZ20071008, P01, P01_30, 1, 18, X12024, 2, 20071011, 0609, 43.0820, 153.3250, 5163,   1930.0, 2,   1.9413, 2,  34.5888, 2,  34.5884, 2,     73.5, 2,     72.4, 2,   161.34, 2,    41.26, 2,     0.01, 2,     2.93, 2,    0.014, 2,    0.006, 2,    0.000, 2, -999.000, 9,   -999.0, 9,   -999.0, 9, -999.0000,   -999.00,   -999.0, 9,   -999.0,  -999.00, 9,   -999.0,   1.8117, 27.6569,   1.9413, 2, 9, 0.47, 0.15, 0.01, 0.017,  -999.00, 9, -999.00, -999.00, 9, -999.00
49NZ20071008, P01, P01_30, 1, 17, X12023, 2, 20071011, 0609, 43.0820, 153.3250, 5163,   2131.0, 2,   1.8312, 2,  34.6110, 2,  34.6109, 2,     85.3, 2,     84.6, 2,   160.95, 2,    40.51, 2,     0.01, 2,     2.88, 2,    0.003, 2,    0.001, 2,    0.000, 2, -999.000, 9,   -999.0, 9,   -999.0, 9, -999.0000,   -999.00,   -999.0, 9,   -999.0,  -999.00, 9,   -999.0,   1.6865, 27.6842,   1.8311, 2, 9, 0.47, 0.15, 0.01, 0.017,  -999.00, 9, -999.00, -999.00, 9, -999.00
49NZ20071008, P01, P01_30, 1, 16, X12022, 2, 20071011, 0609, 43.0820, 153.3250, 5163,   2329.8, 2,   1.7383, 2,  34.6288, 2,  34.6286, 6,     96.3, 2,     96.1, 2,   159.82, 2,    39.69, 2,     0.01, 2,     2.83, 2,    0.005, 2,    0.004, 2,    0.000, 2, -999.000, 9,   -999.0, 9,   -999.0, 9, -999.0000,   -999.00,   -999.0, 9,   -999.0,  -999.00, 9,   -999.0,   1.5780, 27.7065,   1.7383, 2, 9, 0.47, 0.14, 0.01, 0.017,  -999.00, 9, -999.00, -999.00, 9, -999.00
49NZ20071008, P01, P01_30, 1, 15, X12021, 2, 20071011, 0609, 43.0820, 153.3250, 5163,   2531.4, 2,   1.6627, 2,  34.6420, 2,  34.6420, 2,    106.1, 2,    106.1, 2,   159.04, 2,    39.06, 2,     0.01, 2,     2.78, 2,    0.003, 2,    0.001, 2,    0.000, 2, -999.000, 9,   -999.0, 9,   -999.0, 9, -999.0000,   -999.00,   -999.0, 9,   -999.0,  -999.00, 9,   -999.0,   1.4860, 27.7239,   1.6625, 2, 9, 0.47, 0.14, 0.01, 0.017,  -999.00, 9, -999.00, -999.00, 9, -999.00
49NZ20071008, P01, P01_30, 1, 14, X12020, 2, 20071011, 0609, 43.0820, 153.3250, 5163,   2729.6, 2,   1.6025, 2,  34.6526, 2,  34.6527, 2,    115.3, 2,    115.2, 2,   157.70, 2,    38.52, 2,     0.01, 2,     2.73, 2, -999.000, 9, -999.000, 9, -999.000, 9,    0.007, 4,   -999.0, 9,   -999.0, 9, -999.0000,   -999.00,   -999.0, 9,   -999.0,  -999.00, 9,   -999.0,   1.4089, 27.7379,   1.6023, 2, 9, 0.47, 0.14, 0.01, 0.017,  -999.00, 9, -999.00, -999.00, 9, -999.00
49NZ20071008, P01, P01_30, 1, 13, X12019, 2, 20071011, 0609, 43.0820, 153.3250, 5163,   2930.0, 2,   1.5543, 2,  34.6611, 2,  34.6612, 2,    123.2, 2,    123.4, 2,   155.80, 2,    38.02, 2,     0.01, 2,     2.69, 2, -999.000, 9, -999.000, 9, -999.000, 9,    0.000, 4,   -999.0, 9,   -999.0, 9, -999.0000,   -999.00,   -999.0, 9,   -999.0,  -999.00, 9,   -999.0,   1.3430, 27.7494,   1.5544, 2, 9, 0.46, 0.14, 0.01, 0.017,  -999.00, 9, -999.00, -999.00, 9, -999.00
49NZ20071008, P01, P01_30, 1, 12, X12040, 2, 20071011, 0609, 43.0820, 153.3250, 5163,   3171.1, 2,   1.5119, 2,  34.6688, 2,  34.6688, 2,    131.6, 2,    132.1, 2,   153.32, 2,    37.40, 2,     0.01, 2,     2.63, 2,    0.000, 2,    0.000, 2,    0.000, 2,    0.008, 4,   -999.0, 9,   -999.0, 9, -999.0000,   -999.00,   -999.0, 9,   -999.0,  -999.00, 9,   -999.0,   1.2784, 27.7602,   1.5119, 2, 9, 0.46, 0.14, 0.01, 0.017,  -999.00, 9, -999.00, -999.00, 9, -999.00
49NZ20071008, P01, P01_30, 1, 11, X12047, 2, 20071011, 0609, 43.0820, 153.3250, 5163,   3419.7, 2,   1.4854, 2,  34.6745, 2,  34.6746, 2,    138.8, 2,    138.7, 2,   151.68, 2,    36.99, 2,     0.01, 2,     2.61, 2, -999.000, 9, -999.000, 9, -999.000, 9,    0.000, 4,   -999.0, 9,   -999.0, 9, -999.0000,   -999.00,   -999.0, 9,   -999.0,  -999.00, 9,   -999.0,   1.2278, 27.7683,   1.4853, 2, 9, 0.45, 0.14, 0.01, 0.016,  -999.00, 9, -999.00, -999.00, 9, -999.00
49NZ20071008, P01, P01_30, 1, 10, X12010, 2, 20071011, 0609, 43.0820, 153.3250, 5163,   3670.3, 2,   1.4693, 2,  34.6790, 2,  34.6790, 6,    144.3, 2,    144.1, 2,   150.33, 2,    36.57, 2,     0.01, 2,     2.58, 2, -999.000, 9, -999.000, 9, -999.000, 9,    0.092, 4,   -999.0, 9,   -999.0, 9, -999.0000,   -999.00,   -999.0, 9,   -999.0,  -999.00, 9,   -999.0,   1.1864, 27.7748,   1.4692, 2, 9, 0.45, 0.14, 0.01, 0.016,  -999.00, 9, -999.00, -999.00, 9, -999.00
49NZ20071008, P01, P01_30, 1, 9, X12015, 2, 20071011, 0609, 43.0820, 153.3250, 5163,   3920.1, 2,   1.4581, 2,  34.6829, 2,  34.6825, 2,    149.0, 2,    149.0, 2,   149.07, 2,    36.24, 2,     0.01, 2,     2.56, 2,    0.002, 2,    0.002, 2,    0.000, 2,    0.021, 4,   -999.0, 9,   -999.0, 9, -999.0000,   -999.00,   -999.0, 9,   -999.0,  -999.00, 9,   -999.0,   1.1490, 27.7805,   1.4581, 2, 9, 0.45, 0.13, 0.01, 0.016,  -999.00, 9, -999.00, -999.00, 9, -999.00
49NZ20071008, P01, P01_30, 1, 8, X12046, 2, 20071011, 0609, 43.0820, 153.3250, 5163,   4169.5, 2,   1.4610, 2,  34.6854, 2,  34.6853, 2,    152.3, 2,    152.3, 2,   148.33, 2,    36.17, 2,     0.01, 2,     2.54, 2, -999.000, 9, -999.000, 9, -999.000, 9,    0.061, 4,   -999.0, 9,   -999.0, 9, -999.0000,   -999.00,   -999.0, 9,   -999.0,  -999.00, 9,   -999.0,   1.1246, 27.7842,   1.4610, 2, 9, 0.45, 0.13, 0.01, 0.016,  -999.00, 9, -999.00, -999.00, 9, -999.00
49NZ20071008, P01, P01_30, 1, 7, X12044, 2, 20071011, 0609, 43.0820, 153.3250, 5163,   4420.9, 2,   1.4672, 2,  34.6877, 2,  34.6878, 2,    155.3, 2,    155.1, 2,   147.90, 2,    35.92, 2,     0.01, 2,     2.53, 2, -999.000, 9, -999.000, 9, -999.000, 9,    0.020, 4,   -999.0, 9,   -999.0, 9, -999.0000,   -999.00,   -999.0, 9,   -999.0,  -999.00, 9,   -999.0,   1.1023, 27.7875,   1.4671, 2, 9, 0.44, 0.13, 0.01, 0.016,  -999.00, 9, -999.00, -999.00, 9, -999.00
49NZ20071008, P01, P01_30, 1, 6, X12048, 2, 20071011, 0609, 43.0820, 153.3250, 5163,   4672.3, 2,   1.4835, 2,  34.6891, 2,  34.6890, 2,    156.9, 2,    156.6, 2,   147.81, 2,    35.88, 2,     0.01, 2,     2.52, 2,    0.001, 2,    0.000, 2,    0.000, 2,    0.011, 4,   -999.0, 9,   -999.0, 9, -999.0000,   -999.00,   -999.0, 9,   -999.0,  -999.00, 9,   -999.0,   1.0890, 27.7896,   1.4833, 2, 9, 0.44, 0.13, 0.01, 0.016,  -999.00, 9, -999.00, -999.00, 9, -999.00
49NZ20071008, P01, P01_30, 1, 5, X12014, 2, 20071011, 0609, 43.0820, 153.3250, 5163,   4921.5, 2,   1.5066, 2,  34.6900, 2,  34.6900, 2,    157.8, 2,    157.5, 2,   148.12, 2,    35.67, 2,     0.01, 2,     2.51, 2, -999.000, 9, -999.000, 9, -999.000, 9,    0.033, 4,   -999.0, 9,   -999.0, 9, -999.0000,   -999.00,   -999.0, 9,   -999.0,  -999.00, 9,   -999.0,   1.0816, 27.7907,   1.5065, 2, 9, 0.44, 0.13, 0.01, 0.016,  -999.00, 9, -999.00, -999.00, 9, -999.00
49NZ20071008, P01, P01_30, 1, 4, X12006, 2, 20071011, 0609, 43.0820, 153.3250, 5163,   5171.8, 2,   1.5333, 2,  34.6905, 2,  34.6908, 2,    158.3, 2,    157.9, 2,   149.02, 2,    35.61, 2,     0.01, 2,     2.51, 2, -999.000, 9, -999.000, 9, -999.000, 9,    0.000, 4,   -999.0, 9,   -999.0, 9, -999.0000,   -999.00,   -999.0, 9,   -999.0,  -999.00, 9,   -999.0,   1.0768, 27.7915,   1.5331, 2, 9, 0.45, 0.13, 0.01, 0.016,  -999.00, 9, -999.00, -999.00, 9, -999.00
49NZ20071008, P01, P01_30, 1, 3, X12013, 9, 20071011, 0609, 43.0820, 153.3250, 5163,     10.3, 2,  14.7792, 2,  32.8931, 2, -999.0000, 9,    259.4, 2,   -999.0, 9,  -999.00, 9,  -999.00, 9,  -999.00, 9,  -999.00, 9, -999.000, 9, -999.000, 9, -999.000, 9, -999.000, 9,   -999.0, 9,   -999.0, 9, -999.0000,   -999.00,   -999.0, 9,   -999.0,  -999.00, 9,   -999.0,  14.7777, 24.3958,  14.7761, 2, 9, -999.00, -999.00, -999.00, -999.000,  -999.00, 9, -999.00, -999.00, 9, -999.00
49NZ20071008, P01, P01_30, 1, 2, X12002, 9, 20071011, 0609, 43.0820, 153.3250, 5163,     50.5, 2,   3.1648, 2,  33.0776, 2, -999.0000, 9,    313.1, 2,   -999.0, 9,  -999.00, 9,  -999.00, 9,  -999.00, 9,  -999.00, 9, -999.000, 9, -999.000, 9, -999.000, 9, -999.000, 9,   -999.0, 9,   -999.0, 9, -999.0000,   -999.00,   -999.0, 9,   -999.0,  -999.00, 9,   -999.0,   3.1618, 26.3364,   3.1660, 2, 9, -999.00, -999.00, -999.00, -999.000,  -999.00, 9, -999.00, -999.00, 9, -999.00
49NZ20071008, P01, P01_30, 1, 1, X12001, 2, 20071011, 0609, 43.0820, 153.3250, 5163,   5261.0, 2,   1.5446, 2,  34.6904, 2,  34.6910, 6,    158.0, 2,    157.8, 2,   149.87, 2,    35.72, 2,     0.01, 2,     2.52, 2,    0.012, 2,    0.006, 2,    0.000, 2, -999.000, 9,   -999.0, 9,   -999.0, 9, -999.0000,   -999.00,   -999.0, 9,   -999.0,  -999.00, 9,   -999.0,   1.0766, 27.7915,   1.5442, 2, 9, 0.45, 0.13, 0.01, 0.016,  -999.00, 9, -999.00, -999.00, 9, -999.00