BOTTLE,20221005CCHSIOAMB
EXPOCODE,SECT_ID,STNNBR,CASTNO,SAMPNO,BTLNBR,BTLNBR_FLAG_W,DATE,TIME,LATITUDE,LONGITUDE,DEPTH,CTDPRS,CTDPRS_FLAG_W,CTDTMP,CTDTMP_FLAG_W,CTDSAL,CTDSAL_FLAG_W,SALNTY,SALNTY_FLAG_W,CTDOXY,CTDOXY_FLAG_W,OXYGEN,OXYGEN_FLAG_W,SILCAT,SILCAT_FLAG_W,NITRAT,NITRAT_FLAG_W,NITRIT,NITRIT_FLAG_W,PHSPHT,PHSPHT_FLAG_W,CFC-11,CFC-11_FLAG_W,CFC-12,CFC-12_FLAG_W,CFC113,CFC113_FLAG_W,CCL4,CCL4_FLAG_W,TCARBN,TCARBN_FLAG_W,ALKALI,ALKALI_FLAG_W,PH_TOT,PH_TMP,DELC14,DELC14_FLAG_W,C14ERR,DELC13,DELC13_FLAG_W,C13ERR,THETA,SIG0,SBE35,SBE35_FLAG_W,PH_TOT_FLAG_W,SILUNC,NRAUNC,NRIUNC,PHPUNC,CS-137,CS-137_FLAG_W,CS137ER,PLUTO,PLUTO_FLAG_W,PLUTOER
,,,,,,,,,,,METERS,DBAR,,ITS-90,,PSS-78,,PSS-78,,UMOL/KG,,UMOL/KG,,UMOL/KG,,UMOL/KG,,UMOL/KG,,UMOL/KG,,PMOL/KG,,PMOL/KG,,PMOL/KG,,PMOL/KG,,UMOL/KG,,UMOL/KG,,,DEG C,/MILLE,,/MILLE,/MILLE,,/MILLE,DEG C,KG/M^3,ITS-90,,,UMOL/KG,UMOL/KG,UMOL/KG,UMOL/KG,DM/.1MG,,BQ/M^3,MBQ/M^3,,MBQ/M^3
49NZ20071008, P01, P01_58, 3, 36, X12042, 2, 20071019, 1811, 46.9965, 176.0955, 5695,      9.7, 2,   9.4405, 2,  32.6717, 2,  32.6716, 2,    286.1, 2,    286.0, 2,    19.67, 2,    14.32, 2,     0.25, 2,     1.38, 2,    3.667, 2,    2.002, 2,    0.348, 2, -999.000, 9,   2038.0, 2,   2212.5, 2,    7.8414,     25.00,   -999.0, 9,   -999.0,  -999.00, 9,   -999.0,   9.4395, 25.2259,   9.4420, 2, 6, 0.16, 0.07, 0.01, 0.014,  -999.00, 9, -999.00, -999.00, 9, -999.00
49NZ20071008, P01, P01_58, 3, 35, X12041, 2, 20071019, 1811, 46.9965, 176.0955, 5695,     49.6, 2,   9.4206, 2,  32.6705, 2,  32.6737, 2,    285.9, 2,    285.9, 2,    19.79, 2,    14.42, 2,     0.25, 2,     1.38, 2,    3.681, 2,    2.020, 2,    0.346, 2, -999.000, 9,   2037.7, 6,   2211.7, 2,    7.8402,     25.00,   -999.0, 9,   -999.0,  -999.00, 9,   -999.0,   9.4153, 25.2288,   9.4176, 2, 2, 0.16, 0.07, 0.01, 0.014,  -999.00, 9, -999.00, -999.00, 9, -999.00
49NZ20071008, P01, P01_58, 3, 34, X12016, 2, 20071019, 1811, 46.9965, 176.0955, 5695,     99.5, 2,   3.7295, 2,  33.0865, 2,  33.0897, 2,    309.0, 2,    309.1, 2,    32.21, 2,    20.18, 2,     0.02, 2,     1.68, 2,    5.024, 2,    2.668, 2,    0.467, 2, -999.000, 9,   2104.0, 2,   2233.6, 6,    7.7150,     25.00,   -999.0, 9,   -999.0,  -999.00, 9,   -999.0,   3.7231, 26.2913,   3.7230, 2, 2, 0.19, 0.09, 0.01, 0.014,  -999.00, 9, -999.00, -999.00, 9, -999.00
49NZ20071008, P01, P01_58, 3, 33, X12033, 2, 20071019, 1811, 46.9965, 176.0955, 5695,    150.0, 2,   3.4763, 2,  33.4620, 2,  33.4590, 2,    233.9, 2,    236.3, 2,    49.16, 2,    27.21, 2,     0.02, 2,     2.10, 2,    4.368, 6,    2.274, 6,    0.336, 6, -999.000, 9,   2172.1, 2,   2259.3, 2,    7.5894,     25.00,   -999.0, 9,   -999.0,  -999.00, 9,   -999.0,   3.4668, 26.6148,   3.4789, 2, 6, 0.23, 0.11, 0.01, 0.015,  -999.00, 9, -999.00, -999.00, 9, -999.00
49NZ20071008, P01, P01_58, 3, 32, X12038, 2, 20071019, 1811, 46.9965, 176.0955, 5695,    199.1, 2,   3.1293, 2,  33.6413, 2,  33.6434, 2,    151.2, 2,    153.5, 2,    71.74, 2,    34.86, 2,     0.01, 2,     2.60, 2,    3.508, 2,    1.767, 2,    0.263, 2, -999.000, 9,   2245.9, 2,   2281.1, 2,    7.4396,     25.00,   -999.0, 9,   -999.0,  -999.00, 9,   -999.0,   3.1171, 26.7900,   3.1291, 2, 2, 0.28, 0.13, 0.01, 0.016,  -999.00, 9, -999.00, -999.00, 9, -999.00
49NZ20071008, P01, P01_58, 3, 31, X12003, 2, 20071019, 1811, 46.9965, 176.0955, 5695,    251.1, 2,   3.2478, 2,  33.7459, 2,  33.7459, 6,    114.0, 2,    115.6, 2,    80.86, 2,    37.74, 2,     0.01, 2,     2.77, 2,    2.981, 2,    1.479, 2,    0.225, 2, -999.000, 9,   2274.7, 2,   2289.9, 2,    7.3881,     25.00,   -999.0, 9,   -999.0,  -999.00, 9,   -999.0,   3.2321, 26.8629,   3.2470, 2, 2, 0.30, 0.14, 0.01, 0.017,  -999.00, 9, -999.00, -999.00, 9, -999.00
49NZ20071008, P01, P01_58, 3, 30, X12008, 2, 20071019, 1811, 46.9965, 176.0955, 5695,    330.9, 2,   3.4502, 2,  33.8876, 2,  33.8879, 2,     70.0, 2,     72.4, 2,    92.74, 2,    40.60, 2,     0.01, 2,     2.94, 2,    2.202, 2,    1.090, 2,    0.154, 2, -999.000, 9,   2307.5, 2,   2304.1, 2,    7.3376,     25.00,   -999.0, 9,   -999.0,  -999.00, 9,   -999.0,   3.4286, 26.9575,   3.4501, 2, 2, 0.32, 0.15, 0.01, 0.017,  -999.00, 9, -999.00, -999.00, 9, -999.00
49NZ20071008, P01, P01_58, 3, 29, X12035, 2, 20071019, 1811, 46.9965, 176.0955, 5695,    431.4, 2,   3.5593, 2,  34.0429, 2,  34.0426, 2,     41.5, 2,     37.3, 2,   106.49, 2,    43.06, 2,     0.01, 2,     3.08, 2,    1.342, 2,    0.643, 2,    0.087, 2, -999.000, 9,   2336.5, 2,   2322.3, 2,    7.3074,     25.00,   -999.0, 9,   -999.0,  -999.00, 9,   -999.0,   3.5304, 27.0716,   3.5590, 2, 2, 0.35, 0.15, 0.01, 0.018,  -999.00, 9, -999.00, -999.00, 9, -999.00
49NZ20071008, P01, P01_58, 3, 28, X12034, 2, 20071019, 1811, 46.9965, 176.0955, 5695,    529.8, 2,   3.4794, 2,  34.1478, 2,  34.1486, 6,     30.9, 2,     29.2, 2,   116.30, 2,    43.52, 2,     0.01, 2,     3.11, 2,    0.867, 2,    0.411, 2,    0.061, 2, -999.000, 9,   2345.5, 2,   2338.0, 2,    7.3141,     25.00,   -999.0, 9,   -999.0,  -999.00, 9,   -999.0,   3.4437, 27.1635,   3.4791, 2, 2, 0.37, 0.15, 0.01, 0.018,  -999.00, 9, -999.00, -999.00, 9, -999.00
49NZ20071008, P01, P01_58, 3, 27, X12049, 2, 20071019, 1811, 46.9965, 176.0955, 5695,    633.7, 2,   3.3168, 2,  34.2305, 2,  34.2297, 2,     27.4, 2,     20.8, 2,   126.05, 2,    43.91, 2,     0.01, 2,     3.14, 2,    0.511, 2,    0.240, 2,    0.031, 4, -999.000, 9,   2359.4, 2,   2353.0, 2,    7.3134,     25.00,   -999.0, 9,   -999.0,  -999.00, 9,   -999.0,   3.2743, 27.2455,   3.3163, 2, 2, 0.40, 0.16, 0.01, 0.018,  -999.00, 9, -999.00, -999.00, 9, -999.00
49NZ20071008, P01, P01_58, 3, 26, X12032, 2, 20071019, 1811, 46.9965, 176.0955, 5695,    730.4, 2,   3.1536, 2,  34.2870, 2,  34.2875, 2,     26.8, 2,     26.9, 2,   131.96, 2,    43.39, 2,     0.01, 2,     3.11, 2,    0.404, 6,    0.196, 6,    0.026, 6, -999.000, 9,   2364.8, 2,   2361.5, 2,    7.3329,     25.00,   -999.0, 9,   -999.0,  -999.00, 9,   -999.0,   3.1049, 27.3063,   3.1532, 2, 2, 0.41, 0.15, 0.01, 0.018,  -999.00, 9, -999.00, -999.00, 9, -999.00
49NZ20071008, P01, P01_58, 3, 25, X12043, 2, 20071019, 1811, 46.9965, 176.0955, 5695,    832.5, 2,   3.0174, 2,  34.3324, 2,  34.3324, 2,     27.6, 2,     27.9, 2,   136.61, 2,    43.41, 2,     0.01, 2,     3.12, 2,    0.298, 2,    0.140, 2,    0.015, 2, -999.000, 9,   2370.1, 2,   2369.7, 6,    7.3417,     25.00,   -999.0, 9,   -999.0,  -999.00, 9,   -999.0,   2.9621, 27.3556,   3.0172, 2, 2, 0.42, 0.15, 0.01, 0.018,  -999.00, 9, -999.00, -999.00, 9, -999.00
49NZ20071008, P01, P01_58, 3, 24, X12030, 2, 20071019, 1811, 46.9965, 176.0955, 5695,    932.6, 2,   2.8376, 2,  34.3723, 2,  34.3719, 2,     21.7, 2,     22.2, 2,   142.98, 2,    43.74, 2,     0.01, 2,     3.14, 2,    0.193, 2,    0.089, 2,    0.012, 2, -999.000, 9,   2370.6, 3,   2376.9, 2,    7.3348,     25.00,   -999.0, 9,   -999.0,  -999.00, 9,   -999.0,   2.7762, 27.4041,   2.8377, 2, 6, 0.43, 0.16, 0.01, 0.018,  -999.00, 9, -999.00, -999.00, 9, -999.00
49NZ20071008, P01, P01_58, 3, 23, X12027, 2, 20071019, 1811, 46.9965, 176.0955, 5695,   1070.8, 2,   2.6694, 2,  34.4150, 2,  34.4149, 6,     24.1, 2,     23.8, 2,   149.62, 2,    43.87, 2,     0.01, 2,     3.13, 2,    0.111, 2,    0.053, 2,    0.007, 2, -999.000, 9,   2379.6, 2,   2387.0, 2,    7.3406,     25.00,   -999.0, 9,   -999.0,  -999.00, 9,   -999.0,   2.5990, 27.4537,   2.6692, 2, 2, 0.45, 0.16, 0.01, 0.018,  -999.00, 9, -999.00, -999.00, 9, -999.00
49NZ20071008, P01, P01_58, 3, 22, X12028, 2, 20071019, 1811, 46.9965, 176.0955, 5695,   1272.6, 2,   2.4377, 2,  34.4707, 2,  34.4715, 2,     31.2, 2,     31.0, 2,   156.57, 2,    43.41, 2,     0.01, 2,     3.10, 2,    0.056, 2,    0.025, 2,    0.000, 2, -999.000, 9,   2386.7, 2,   2394.7, 2,    7.3600,     25.00,   -999.0, 9,   -999.0,  -999.00, 9,   -999.0,   2.3542, 27.5189,   2.4376, 2, 2, 0.46, 0.15, 0.01, 0.018,  -999.00, 9, -999.00, -999.00, 9, -999.00
49NZ20071008, P01, P01_58, 3, 21, X12009, 2, 20071019, 1811, 46.9965, 176.0955, 5695,   1470.2, 2,   2.2417, 2,  34.5148, 2,  34.5153, 2,     39.9, 2,     39.2, 2,   161.31, 2,    43.08, 2,     0.01, 2,     3.07, 2,    0.033, 2,    0.015, 2,    0.000, 2, -999.000, 9,   2385.0, 2,   2401.3, 2,    7.3796,     25.00,   -999.0, 9,   -999.0,  -999.00, 9,   -999.0,   2.1451, 27.5714,   2.2414, 2, 2, 0.47, 0.15, 0.01, 0.018,  -999.00, 9, -999.00, -999.00, 9, -999.00
49NZ20071008, P01, P01_58, 3, 20, X12026, 2, 20071019, 1811, 46.9965, 176.0955, 5695,   1672.6, 2,   2.0947, 2,  34.5501, 2,  34.5499, 2,     51.6, 2,     50.6, 2,   163.55, 2,    42.57, 2,     0.01, 2,     3.03, 2,    0.017, 2,    0.005, 2,    0.000, 2, -999.000, 9,   2380.7, 2,   2408.1, 2,    7.4033,     25.00,   -999.0, 9,   -999.0,  -999.00, 9,   -999.0,   1.9839, 27.6125,   2.0946, 2, 6, 0.48, 0.15, 0.01, 0.018,  -999.00, 9, -999.00, -999.00, 9, -999.00
49NZ20071008, P01, P01_58, 3, 19, X12025, 2, 20071019, 1811, 46.9965, 176.0955, 5695,   1870.9, 2,   1.9502, 2,  34.5796, 2,  34.5796, 2,     60.9, 2,     60.7, 2,   165.70, 2,    41.87, 2,     0.00, 2,     2.96, 2,    0.002, 2,    0.000, 2,    0.000, 2, -999.000, 9,   2374.4, 2,   2412.2, 2,    7.4237,     25.00,   -999.0, 9,   -999.0,  -999.00, 9,   -999.0,   1.8253, 27.6485,   1.9502, 2, 2, 0.48, 0.15, 0.01, 0.017,  -999.00, 9, -999.00, -999.00, 9, -999.00
49NZ20071008, P01, P01_58, 3, 18, X12024, 2, 20071019, 1811, 46.9965, 176.0955, 5695,   2071.6, 2,   1.8449, 2,  34.6028, 2,  34.6027, 2,     73.8, 2,     73.9, 2,   165.39, 2,    41.16, 2,     0.01, 2,     2.92, 2,    0.014, 2,    0.004, 2,    0.000, 2, -999.000, 9,   2368.4, 2,   2416.6, 2,    7.4498,     25.00,   -999.0, 9,   -999.0,  -999.00, 9,   -999.0,   1.7050, 27.6762,   1.8450, 2, 2, 0.48, 0.15, 0.01, 0.017,  -999.00, 9, -999.00, -999.00, 9, -999.00
49NZ20071008, P01, P01_58, 3, 17, X12023, 2, 20071019, 1811, 46.9965, 176.0955, 5695,   2272.4, 2,   1.7501, 2,  34.6210, 2,  34.6210, 2,     85.9, 2,     85.9, 2,   165.27, 2,    40.41, 2,     0.01, 2,     2.85, 2,    0.002, 2,    0.003, 2,    0.000, 2, -999.000, 9,   2361.3, 2,   2417.0, 2,    7.4719,     25.00,   -999.0, 9,   -999.0,  -999.00, 9,   -999.0,   1.5946, 27.6990,   1.7501, 2, 2, 0.48, 0.15, 0.01, 0.017,  -999.00, 9, -999.00, -999.00, 9, -999.00
49NZ20071008, P01, P01_58, 3, 16, X12022, 2, 20071019, 1811, 46.9965, 176.0955, 5695,   2470.3, 2,   1.6758, 2,  34.6350, 2,  34.6349, 2,     97.0, 2,     96.5, 2,   164.74, 2,    39.50, 2,     0.00, 2,     2.80, 2,    0.000, 2,    0.000, 2,    0.000, 2, -999.000, 9,   2359.1, 6,   2418.8, 2,    7.4932,     25.00,   -999.0, 9,   -999.0,  -999.00, 9,   -999.0,   1.5043, 27.7169,   1.6758, 2, 2, 0.48, 0.14, 0.01, 0.017,  -999.00, 9, -999.00, -999.00, 9, -999.00
49NZ20071008, P01, P01_58, 3, 15, X12021, 2, 20071019, 1811, 46.9965, 176.0955, 5695,   2669.8, 2,   1.6180, 2,  34.6465, 2,  34.6467, 6,    107.5, 2,    106.7, 2,   162.77, 2,    39.06, 2,     0.01, 2,     2.76, 2, -999.000, 9, -999.000, 9, -999.000, 9, -999.000, 9,   2352.3, 2,   2419.6, 6,    7.5120,     25.00,   -999.0, 9,   -999.0,  -999.00, 9,   -999.0,   1.4296, 27.7315,   1.6180, 2, 2, 0.48, 0.14, 0.01, 0.017,  -999.00, 9, -999.00, -999.00, 9, -999.00
49NZ20071008, P01, P01_58, 3, 14, X12020, 2, 20071019, 1811, 46.9965, 176.0955, 5695,   2869.3, 2,   1.5760, 2,  34.6550, 2,  34.6553, 2,    115.7, 2,    115.3, 2,   160.80, 2,    38.61, 2,     0.01, 2,     2.72, 2, -999.000, 9, -999.000, 9, -999.000, 9, -999.000, 9,   2348.1, 2,   2420.3, 2,    7.5275,     25.00,   -999.0, 9,   -999.0,  -999.00, 9,   -999.0,   1.3700, 27.7427,   1.5761, 2, 6, 0.47, 0.14, 0.01, 0.017,  -999.00, 9, -999.00, -999.00, 9, -999.00
49NZ20071008, P01, P01_58, 3, 13, X12019, 2, 20071019, 1811, 46.9965, 176.0955, 5695,   3080.1, 2,   1.5338, 2,  34.6636, 2,  34.6638, 2,    124.3, 2,    124.4, 2,   158.34, 2,    37.95, 2,     0.01, 2,     2.66, 2,    0.000, 2,    0.000, 2,    0.000, 2, -999.000, 9,   2342.4, 2,   2419.9, 2,    7.5442,     25.00,   -999.0, 9,   -999.0,  -999.00, 9,   -999.0,   1.3086, 27.7539,   1.5339, 2, 2, 0.47, 0.14, 0.01, 0.017,  -999.00, 9, -999.00, -999.00, 9, -999.00
49NZ20071008, P01, P01_58, 3, 12, X12040, 2, 20071019, 1811, 46.9965, 176.0955, 5695,   3329.8, 2,   1.4995, 2,  34.6710, 2,  34.6711, 2,    132.5, 2,    132.7, 2,   155.42, 2,    37.25, 2,     0.01, 2,     2.63, 2, -999.000, 9, -999.000, 9, -999.000, 9, -999.000, 9,   2334.9, 2,   2419.4, 2,    7.5570,     25.00,   -999.0, 9,   -999.0,  -999.00, 9,   -999.0,   1.2506, 27.7639,   1.4995, 2, 2, 0.46, 0.14, 0.01, 0.017,  -999.00, 9, -999.00, -999.00, 9, -999.00
49NZ20071008, P01, P01_58, 3, 11, X12047, 2, 20071019, 1811, 46.9965, 176.0955, 5695,   3581.0, 2,   1.4715, 2,  34.6774, 2,  34.6776, 2,    139.9, 2,    140.3, 2,   153.79, 2,    36.82, 2,     0.01, 2,     2.59, 2, -999.000, 9, -999.000, 9, -999.000, 9, -999.000, 9,   2325.8, 3,   2420.4, 2,    7.5717,     25.00,   -999.0, 9,   -999.0,  -999.00, 9,   -999.0,   1.1978, 27.7728,   1.4716, 2, 2, 0.46, 0.14, 0.01, 0.016,  -999.00, 9, -999.00, -999.00, 9, -999.00
49NZ20071008, P01, P01_58, 3, 10, X12010, 2, 20071019, 1811, 46.9965, 176.0955, 5695,   3829.8, 2,   1.4629, 2,  34.6813, 2,  34.6811, 2,    144.8, 2,    145.3, 2,   152.13, 2,    36.37, 2,     0.01, 2,     2.57, 2,    0.000, 2,    0.000, 2,    0.000, 2, -999.000, 9,   2323.9, 3,   2419.5, 2,    7.5795,     25.00,   -999.0, 9,   -999.0,  -999.00, 9,   -999.0,   1.1634, 27.7783,   1.4629, 2, 2, 0.45, 0.13, 0.01, 0.016,  -999.00, 9, -999.00, -999.00, 9, -999.00
49NZ20071008, P01, P01_58, 3, 9, X12015, 2, 20071019, 1811, 46.9965, 176.0955, 5695,   4081.3, 2,   1.4633, 2,  34.6844, 2,  34.6846, 2,    149.2, 2,    149.2, 2,   151.36, 2,    36.33, 2,     0.01, 2,     2.54, 2, -999.000, 9, -999.000, 9, -999.000, 9, -999.000, 9,   2325.2, 2,   2419.0, 2,    7.5864,     25.00,   -999.0, 9,   -999.0,  -999.00, 9,   -999.0,   1.1366, 27.7826,   1.4633, 2, 2, 0.45, 0.13, 0.01, 0.016,  -999.00, 9, -999.00, -999.00, 9, -999.00
49NZ20071008, P01, P01_58, 3, 8, X12046, 2, 20071019, 1811, 46.9965, 176.0955, 5695,   4330.9, 2,   1.4702, 2,  34.6869, 2,  34.6868, 6,    151.8, 2,    152.0, 2,   151.53, 2,    36.10, 2,     0.01, 2,     2.53, 2, -999.000, 9, -999.000, 9, -999.000, 9, -999.000, 9,   2320.6, 3,   2419.3, 2,    7.5924,     25.00,   -999.0, 9,   -999.0,  -999.00, 9,   -999.0,   1.1154, 27.7860,   1.4704, 2, 2, 0.45, 0.13, 0.01, 0.016,  -999.00, 9, -999.00, -999.00, 9, -999.00
49NZ20071008, P01, P01_58, 3, 7, X12044, 2, 20071019, 1811, 46.9965, 176.0955, 5695,   4581.4, 2,   1.4887, 2,  34.6882, 2,  34.6882, 2,    153.2, 2,    153.4, 2,   151.91, 2,    36.11, 2,     0.00, 2,     2.52, 2,    0.000, 2,    0.000, 2,    0.000, 2, -999.000, 9,   2323.9, 2,   2420.0, 6,    7.5949,     25.00,   -999.0, 9,   -999.0,  -999.00, 9,   -999.0,   1.1046, 27.7878,   1.4887, 2, 2, 0.45, 0.13, 0.01, 0.016,  -999.00, 9, -999.00, -999.00, 9, -999.00
49NZ20071008, P01, P01_58, 3, 6, X12048, 2, 20071019, 1811, 46.9965, 176.0955, 5695,   4830.0, 2,   1.5132, 2,  34.6890, 2,  34.6889, 2,    153.7, 2,    153.8, 2,   153.47, 2,    35.91, 2,     0.01, 2,     2.52, 2, -999.000, 9, -999.000, 9, -999.000, 9, -999.000, 9,   2319.0, 3,   2421.4, 2,    7.5960,     25.00,   -999.0, 9,   -999.0,  -999.00, 9,   -999.0,   1.0990, 27.7888,   1.5134, 2, 2, 0.46, 0.13, 0.01, 0.016,  -999.00, 9, -999.00, -999.00, 9, -999.00
49NZ20071008, P01, P01_58, 3, 5, X12014, 2, 20071019, 1811, 46.9965, 176.0955, 5695,   5080.9, 2,   1.5408, 2,  34.6894, 2,  34.6894, 2,    154.7, 2,    154.5, 2,   153.08, 2,    35.82, 2,     0.00, 2,     2.52, 2, -999.000, 9, -999.000, 9, -999.000, 9, -999.000, 9,   2318.3, 3,   2420.6, 2,    7.5970,     25.00,   -999.0, 9,   -999.0,  -999.00, 9,   -999.0,   1.0953, 27.7894,   1.5409, 2, 2, 0.46, 0.13, 0.01, 0.016,  -999.00, 9, -999.00, -999.00, 9, -999.00
49NZ20071008, P01, P01_58, 3, 4, X12006, 2, 20071019, 1811, 46.9965, 176.0955, 5695,   5330.9, 2,   1.5676, 2,  34.6899, 2,  34.6900, 2,    155.7, 2,    155.7, 2,   151.28, 2,    35.95, 2,     0.00, 2,     2.52, 2,    0.009, 2,    0.003, 2,    0.000, 2, -999.000, 9,   2320.6, 2,   2419.2, 2,    7.5984,     25.00,   -999.0, 9,   -999.0,  -999.00, 9,   -999.0,   1.0900, 27.7902,   1.5677, 2, 2, 0.45, 0.13, 0.01, 0.016,  -999.00, 9, -999.00, -999.00, 9, -999.00
49NZ20071008, P01, P01_58, 3, 3, X12013, 2, 20071019, 1811, 46.9965, 176.0955, 5695,   5581.1, 2,   1.5943, 2,  34.6902, 2,  34.6901, 2,    157.3, 2,    157.2, 2,   149.42, 2,    35.79, 2,     0.01, 2,     2.50, 2, -999.000, 9, -999.000, 9, -999.000, 9, -999.000, 9,   2317.3, 3,   2418.9, 2,    7.5988,     25.00,   -999.0, 9,   -999.0,  -999.00, 9,   -999.0,   1.0839, 27.7908,   1.5942, 2, 2, 0.45, 0.13, 0.01, 0.016,  -999.00, 9, -999.00, -999.00, 9, -999.00
49NZ20071008, P01, P01_58, 3, 2, X12002, 9, 20071019, 1811, 46.9965, 176.0955, 5695,    431.1, 2,   3.5591, 2,  34.0426, 2, -999.0000, 9,     41.7, 2,   -999.0, 9,  -999.00, 9,  -999.00, 9,  -999.00, 9,  -999.00, 9, -999.000, 9, -999.000, 9, -999.000, 9, -999.000, 9,   -999.0, 9,   -999.0, 9, -999.0000,   -999.00,   -999.0, 9,   -999.0,  -999.00, 9,   -999.0,   3.5302, 27.0713,   3.5589, 2, 9, -999.00, -999.00, -999.00, -999.000,  -999.00, 9, -999.00, -999.00, 9, -999.00
49NZ20071008, P01, P01_58, 3, 1, X12001, 2, 20071019, 1811, 46.9965, 176.0955, 5695,   5803.6, 2,   1.6223, 2,  34.6903, 2,  34.6904, 6,    157.5, 2,    157.4, 2,   148.86, 2,    35.81, 2,     0.01, 2,     2.50, 2,    0.000, 2,    0.000, 2,    0.000, 2, -999.000, 9,   2319.5, 2,   2417.3, 2,    7.5995,     25.00,   -999.0, 9,   -999.0,  -999.00, 9,   -999.0,   1.0818, 27.7910,   1.6222, 2, 2, 0.45, 0.13, 0.01, 0.016,  -999.00, 9, -999.00, -999.00, 9, -999.00