BOTTLE,20221005CCHSIOAMB
EXPOCODE,SECT_ID,STNNBR,CASTNO,SAMPNO,BTLNBR,BTLNBR_FLAG_W,DATE,TIME,LATITUDE,LONGITUDE,DEPTH,CTDPRS,CTDPRS_FLAG_W,CTDTMP,CTDTMP_FLAG_W,CTDSAL,CTDSAL_FLAG_W,SALNTY,SALNTY_FLAG_W,CTDOXY,CTDOXY_FLAG_W,OXYGEN,OXYGEN_FLAG_W,SILCAT,SILCAT_FLAG_W,NITRAT,NITRAT_FLAG_W,NITRIT,NITRIT_FLAG_W,PHSPHT,PHSPHT_FLAG_W,CFC-11,CFC-11_FLAG_W,CFC-12,CFC-12_FLAG_W,CFC113,CFC113_FLAG_W,CCL4,CCL4_FLAG_W,TCARBN,TCARBN_FLAG_W,ALKALI,ALKALI_FLAG_W,PH_TOT,PH_TMP,DELC14,DELC14_FLAG_W,C14ERR,DELC13,DELC13_FLAG_W,C13ERR,THETA,SIG0,SBE35,SBE35_FLAG_W,PH_TOT_FLAG_W,SILUNC,NRAUNC,NRIUNC,PHPUNC,CS-137,CS-137_FLAG_W,CS137ER,PLUTO,PLUTO_FLAG_W,PLUTOER
,,,,,,,,,,,METERS,DBAR,,ITS-90,,PSS-78,,PSS-78,,UMOL/KG,,UMOL/KG,,UMOL/KG,,UMOL/KG,,UMOL/KG,,UMOL/KG,,PMOL/KG,,PMOL/KG,,PMOL/KG,,PMOL/KG,,UMOL/KG,,UMOL/KG,,,DEG C,/MILLE,,/MILLE,/MILLE,,/MILLE,DEG C,KG/M^3,ITS-90,,,UMOL/KG,UMOL/KG,UMOL/KG,UMOL/KG,DM/.1MG,,BQ/M^3,MBQ/M^3,,MBQ/M^3
49NZ20071008, P01, P01_43, 1, 36, X12042, 2, 20071015, 1940, 46.9792, 165.6368, 5881,      8.8, 2,   8.7281, 2,  32.7162, 2,  32.7162, 2,    290.8, 2,    290.6, 2,    23.94, 2,    13.47, 2,     0.27, 2,     1.33, 2,    3.952, 2,    2.206, 2,    0.378, 2, -999.000, 9,   -999.0, 9,   -999.0, 9, -999.0000,   -999.00,   -999.0, 9,   -999.0,  -999.00, 9,   -999.0,   8.7272, 25.3722,   8.7273, 2, 9, 0.17, 0.07, 0.01, 0.014,  -999.00, 9, -999.00, -999.00, 9, -999.00
49NZ20071008, P01, P01_43, 1, 35, X12041, 2, 20071015, 1940, 46.9792, 165.6368, 5881,     48.5, 2,   8.7013, 2,  32.7142, 2,  32.7204, 2,    275.8, 2,    290.4, 2,    24.16, 2,    13.56, 2,     0.27, 2,     1.34, 2,    3.963, 2,    2.212, 2,    0.391, 2, -999.000, 9,   -999.0, 9,   -999.0, 9, -999.0000,   -999.00,   -999.0, 9,   -999.0,  -999.00, 9,   -999.0,   8.6963, 25.3754,   8.7008, 2, 9, 0.17, 0.07, 0.01, 0.014,  -999.00, 9, -999.00, -999.00, 9, -999.00
49NZ20071008, P01, P01_43, 1, 34, X12016, 2, 20071015, 1940, 46.9792, 165.6368, 5881,    100.3, 2,   3.3616, 2,  33.3190, 2,  33.3145, 2,    297.2, 2,    297.7, 2,    37.62, 2,    22.75, 2,     0.03, 2,     1.81, 2,    5.039, 2,    2.741, 2,    0.444, 2, -999.000, 9,   -999.0, 9,   -999.0, 9, -999.0000,   -999.00,   -999.0, 9,   -999.0,  -999.00, 9,   -999.0,   3.3554, 26.5112,   3.3589, 2, 9, 0.20, 0.10, 0.01, 0.015,  -999.00, 9, -999.00, -999.00, 9, -999.00
49NZ20071008, P01, P01_43, 1, 33, X12033, 2, 20071015, 1940, 46.9792, 165.6368, 5881,    149.1, 2,   2.4391, 2,  33.4467, 2,  33.4502, 2,    207.5, 2,    206.9, 2,    64.15, 2,    32.64, 2,     0.02, 2,     2.46, 2,    4.301, 2,    2.253, 2,    0.336, 2, -999.000, 9,   -999.0, 9,   -999.0, 9, -999.0000,   -999.00,   -999.0, 9,   -999.0,  -999.00, 9,   -999.0,   2.4309, 26.6934,   2.4379, 2, 9, 0.26, 0.12, 0.01, 0.016,  -999.00, 9, -999.00, -999.00, 9, -999.00
49NZ20071008, P01, P01_43, 1, 32, X12038, 2, 20071015, 1940, 46.9792, 165.6368, 5881,    198.7, 2,   2.7164, 2,  33.6351, 2,  33.6355, 2,    139.1, 2,    138.0, 2,    79.97, 2,    37.47, 2,     0.01, 2,     2.77, 2,    3.357, 2,    1.724, 2,    0.259, 2, -999.000, 9,   -999.0, 9,   -999.0, 9, -999.0000,   -999.00,   -999.0, 9,   -999.0,  -999.00, 9,   -999.0,   2.7049, 26.8213,   2.7162, 2, 9, 0.29, 0.14, 0.01, 0.017,  -999.00, 9, -999.00, -999.00, 9, -999.00
49NZ20071008, P01, P01_43, 1, 31, X12003, 2, 20071015, 1940, 46.9792, 165.6368, 5881,    250.4, 2,   3.0084, 2,  33.7572, 2,  33.7574, 6,    100.5, 2,    102.4, 2,    87.94, 2,    39.46, 2,     0.01, 2,     2.89, 2,    2.795, 2,    1.416, 2,    0.204, 2, -999.000, 9,   -999.0, 9,   -999.0, 9, -999.0000,   -999.00,   -999.0, 9,   -999.0,  -999.00, 9,   -999.0,   2.9932, 26.8936,   3.0078, 2, 9, 0.31, 0.14, 0.01, 0.017,  -999.00, 9, -999.00, -999.00, 9, -999.00
49NZ20071008, P01, P01_43, 1, 30, X12008, 2, 20071015, 1940, 46.9792, 165.6368, 5881,    330.2, 2,   3.4544, 2,  33.9448, 2,  33.9464, 2,     39.3, 2,     41.0, 2,   102.22, 2,    43.75, 2,     0.01, 2,     3.13, 2,    1.720, 2,    0.851, 2,    0.113, 2, -999.000, 9,   -999.0, 9,   -999.0, 9, -999.0000,   -999.00,   -999.0, 9,   -999.0,  -999.00, 9,   -999.0,   3.4329, 27.0027,   3.4546, 2, 9, 0.34, 0.16, 0.01, 0.018,  -999.00, 9, -999.00, -999.00, 9, -999.00
49NZ20071008, P01, P01_43, 1, 29, X12035, 2, 20071015, 1940, 46.9792, 165.6368, 5881,    429.6, 2,   3.3300, 2,  34.0464, 2,  34.0464, 2,     39.8, 2,     41.4, 2,   110.74, 2,    43.02, 2,     0.01, 2,     3.10, 2,    1.375, 2,    0.686, 2,    0.086, 2, -999.000, 9,   -999.0, 9,   -999.0, 9, -999.0000,   -999.00,   -999.0, 9,   -999.0,  -999.00, 9,   -999.0,   3.3020, 27.0960,   3.3299, 2, 9, 0.36, 0.15, 0.01, 0.018,  -999.00, 9, -999.00, -999.00, 9, -999.00
49NZ20071008, P01, P01_43, 1, 28, X12034, 2, 20071015, 1940, 46.9792, 165.6368, 5881,    529.5, 2,   3.3467, 2,  34.1544, 2,  34.1523, 6,     34.6, 2,     34.6, 2,   118.40, 2,    43.01, 2,     0.00, 2,     3.09, 2,    0.928, 2,    0.462, 2,    0.064, 2, -999.000, 9,   -999.0, 9,   -999.0, 9, -999.0000,   -999.00,   -999.0, 9,   -999.0,  -999.00, 9,   -999.0,   3.3116, 27.1813,   3.3473, 2, 9, 0.38, 0.15, 0.01, 0.018,  -999.00, 9, -999.00, -999.00, 9, -999.00
49NZ20071008, P01, P01_43, 1, 27, X12049, 2, 20071015, 1940, 46.9792, 165.6368, 5881,    629.9, 2,   3.2543, 2,  34.2458, 2,  34.2463, 2,     31.1, 2,     31.1, 2,   126.17, 2,    43.19, 2,     0.01, 2,     3.10, 2,    0.560, 2,    0.276, 2,    0.035, 2, -999.000, 9,   -999.0, 9,   -999.0, 9, -999.0000,   -999.00,   -999.0, 9,   -999.0,  -999.00, 9,   -999.0,   3.2124, 27.2635,   3.2576, 2, 9, 0.40, 0.15, 0.01, 0.018,  -999.00, 9, -999.00, -999.00, 9, -999.00
49NZ20071008, P01, P01_43, 1, 26, X12032, 2, 20071015, 1940, 46.9792, 165.6368, 5881,    729.5, 2,   3.0921, 2,  34.3056, 2,  34.3057, 2,     28.6, 2,     30.0, 2,   133.15, 2,    43.20, 2,     0.01, 2,     3.11, 2,    0.382, 6,    0.185, 6,    0.027, 6, -999.000, 9,   -999.0, 9,   -999.0, 9, -999.0000,   -999.00,   -999.0, 9,   -999.0,  -999.00, 9,   -999.0,   3.0438, 27.3268,   3.0920, 2, 9, 0.41, 0.15, 0.01, 0.018,  -999.00, 9, -999.00, -999.00, 9, -999.00
49NZ20071008, P01, P01_43, 1, 25, X12043, 2, 20071015, 1940, 46.9792, 165.6368, 5881,    829.3, 2,   2.9260, 2,  34.3528, 2,  34.3533, 2,     30.7, 2,     30.0, 2,   139.35, 2,    43.31, 2,     0.01, 2,     3.12, 2,    0.265, 2,    0.128, 2,    0.016, 2, -999.000, 9,   -999.0, 9,   -999.0, 9, -999.0000,   -999.00,   -999.0, 9,   -999.0,  -999.00, 9,   -999.0,   2.8715, 27.3800,   2.9259, 2, 9, 0.43, 0.15, 0.01, 0.018,  -999.00, 9, -999.00, -999.00, 9, -999.00
49NZ20071008, P01, P01_43, 1, 24, X12030, 2, 20071015, 1940, 46.9792, 165.6368, 5881,    929.4, 2,   2.7328, 2,  34.3857, 2,  34.3861, 2,     30.3, 2,     29.1, 2,   145.88, 2,    43.43, 2,     0.00, 2,     3.11, 2,    0.219, 2,    0.106, 2,    0.012, 2, -999.000, 9,   -999.0, 9,   -999.0, 9, -999.0000,   -999.00,   -999.0, 9,   -999.0,  -999.00, 9,   -999.0,   2.6724, 27.4239,   2.7328, 2, 9, 0.44, 0.15, 0.01, 0.018,  -999.00, 9, -999.00, -999.00, 9, -999.00
49NZ20071008, P01, P01_43, 1, 23, X12027, 2, 20071015, 1940, 46.9792, 165.6368, 5881,   1070.3, 2,   2.5852, 2,  34.4303, 2,  34.4300, 6,     31.9, 2,     31.7, 2,   150.66, 2,    43.48, 2,     0.01, 2,     3.11, 2,    0.138, 2,    0.064, 2,    0.011, 2, -999.000, 9,   -999.0, 9,   -999.0, 9, -999.0000,   -999.00,   -999.0, 9,   -999.0,  -999.00, 9,   -999.0,   2.5155, 27.4730,   2.5851, 2, 9, 0.45, 0.15, 0.01, 0.018,  -999.00, 9, -999.00, -999.00, 9, -999.00
49NZ20071008, P01, P01_43, 1, 22, X12028, 2, 20071015, 1940, 46.9792, 165.6368, 5881,   1269.8, 2,   2.3594, 2,  34.4790, 2,  34.4792, 2,     36.1, 2,     35.2, 2,   158.28, 2,    43.27, 2,     0.01, 2,     3.10, 2,    0.081, 2,    0.041, 2,    0.000, 2, -999.000, 9,   -999.0, 9,   -999.0, 9, -999.0000,   -999.00,   -999.0, 9,   -999.0,  -999.00, 9,   -999.0,   2.2769, 27.5320,   2.3594, 2, 9, 0.47, 0.15, 0.01, 0.018,  -999.00, 9, -999.00, -999.00, 9, -999.00
49NZ20071008, P01, P01_43, 1, 21, X12009, 2, 20071015, 1940, 46.9792, 165.6368, 5881,   1469.3, 2,   2.1842, 2,  34.5226, 2,  34.5230, 2,     42.0, 2,     39.8, 2,   164.49, 2,    43.05, 2,     0.00, 2,     3.07, 2,    0.033, 2,    0.013, 2,    0.000, 2, -999.000, 9,   -999.0, 9,   -999.0, 9, -999.0000,   -999.00,   -999.0, 9,   -999.0,  -999.00, 9,   -999.0,   2.0883, 27.5822,   2.1841, 2, 9, 0.48, 0.15, 0.01, 0.018,  -999.00, 9, -999.00, -999.00, 9, -999.00
49NZ20071008, P01, P01_43, 1, 20, X12026, 2, 20071015, 1940, 46.9792, 165.6368, 5881,   1671.7, 2,   2.0509, 2,  34.5577, 2,  34.5577, 2,     52.6, 2,     52.5, 2,   164.85, 2,    42.40, 2,     0.01, 2,     3.02, 2,    0.017, 2,    0.007, 2,    0.000, 2, -999.000, 9,   -999.0, 9,   -999.0, 9, -999.0000,   -999.00,   -999.0, 9,   -999.0,  -999.00, 9,   -999.0,   1.9407, 27.6220,   2.0512, 2, 9, 0.48, 0.15, 0.01, 0.017,  -999.00, 9, -999.00, -999.00, 9, -999.00
49NZ20071008, P01, P01_43, 1, 19, X12025, 2, 20071015, 1940, 46.9792, 165.6368, 5881,   1871.3, 2,   1.9191, 2,  34.5861, 2,  34.5864, 2,     65.2, 2,     64.1, 2,   166.61, 2,    41.66, 2,     0.01, 2,     2.96, 2,    0.004, 2,    0.002, 2,    0.000, 2, -999.000, 9,   -999.0, 9,   -999.0, 9, -999.0000,   -999.00,   -999.0, 9,   -999.0,  -999.00, 9,   -999.0,   1.7946, 27.6560,   1.9192, 2, 9, 0.49, 0.15, 0.01, 0.017,  -999.00, 9, -999.00, -999.00, 9, -999.00
49NZ20071008, P01, P01_43, 1, 18, X12024, 2, 20071015, 1940, 46.9792, 165.6368, 5881,   2070.3, 2,   1.8175, 2,  34.6083, 2,  34.6085, 2,     77.0, 2,     77.1, 2,   166.13, 2,    40.96, 2,     0.01, 2,     2.91, 2,    0.000, 2,    0.000, 2,    0.000, 2, -999.000, 9,   -999.0, 9,   -999.0, 9, -999.0000,   -999.00,   -999.0, 9,   -999.0,  -999.00, 9,   -999.0,   1.6781, 27.6826,   1.8174, 2, 9, 0.48, 0.15, 0.01, 0.017,  -999.00, 9, -999.00, -999.00, 9, -999.00
49NZ20071008, P01, P01_43, 1, 17, X12023, 2, 20071015, 1940, 46.9792, 165.6368, 5881,   2271.0, 2,   1.7331, 2,  34.6260, 2,  34.6259, 2,     88.9, 2,     90.0, 2,   163.72, 2,    40.14, 2,     0.00, 2,     2.84, 2,    0.000, 2,    0.000, 2,    0.000, 2, -999.000, 9,   -999.0, 9,   -999.0, 9, -999.0000,   -999.00,   -999.0, 9,   -999.0,  -999.00, 9,   -999.0,   1.5780, 27.7043,   1.7332, 2, 9, 0.48, 0.15, 0.01, 0.017,  -999.00, 9, -999.00, -999.00, 9, -999.00
49NZ20071008, P01, P01_43, 1, 16, X12022, 2, 20071015, 1940, 46.9792, 165.6368, 5881,   2470.6, 2,   1.6670, 2,  34.6389, 2,  34.6392, 2,     99.2, 2,    101.1, 2,   161.89, 2,    39.47, 2,     0.01, 2,     2.79, 2,    0.000, 2,    0.000, 2,    0.000, 2, -999.000, 9,   -999.0, 9,   -999.0, 9, -999.0000,   -999.00,   -999.0, 9,   -999.0,  -999.00, 9,   -999.0,   1.4956, 27.7207,   1.6670, 2, 9, 0.48, 0.14, 0.01, 0.017,  -999.00, 9, -999.00, -999.00, 9, -999.00
49NZ20071008, P01, P01_43, 1, 15, X12021, 2, 20071015, 1940, 46.9792, 165.6368, 5881,   2670.6, 2,   1.6034, 2,  34.6506, 2,  34.6508, 6,    109.0, 2,    111.9, 2,   159.06, 2,    38.77, 2,     0.01, 2,     2.73, 2, -999.000, 9, -999.000, 9, -999.000, 9, -999.000, 9,   -999.0, 9,   -999.0, 9, -999.0000,   -999.00,   -999.0, 9,   -999.0,  -999.00, 9,   -999.0,   1.4152, 27.7359,   1.6033, 2, 9, 0.47, 0.14, 0.01, 0.017,  -999.00, 9, -999.00, -999.00, 9, -999.00
49NZ20071008, P01, P01_43, 1, 14, X12020, 2, 20071015, 1940, 46.9792, 165.6368, 5881,   2870.9, 2,   1.5641, 2,  34.6584, 2,  34.6584, 2,    117.1, 2,    120.1, 2,   157.22, 2,    38.29, 2,     0.01, 2,     2.70, 2, -999.000, 9, -999.000, 9, -999.000, 9, -999.000, 9,   -999.0, 9,   -999.0, 9, -999.0000,   -999.00,   -999.0, 9,   -999.0,  -999.00, 9,   -999.0,   1.3582, 27.7463,   1.5640, 2, 9, 0.46, 0.14, 0.01, 0.017,  -999.00, 9, -999.00, -999.00, 9, -999.00
49NZ20071008, P01, P01_43, 1, 13, X12019, 2, 20071015, 1940, 46.9792, 165.6368, 5881,   3080.6, 2,   1.5307, 2,  34.6653, 2,  34.6652, 2,    124.6, 2,    127.3, 2,   154.93, 2,    37.81, 2,     0.01, 2,     2.66, 2,    0.000, 2,    0.000, 2,    0.000, 2, -999.000, 9,   -999.0, 9,   -999.0, 9, -999.0000,   -999.00,   -999.0, 9,   -999.0,  -999.00, 9,   -999.0,   1.3056, 27.7555,   1.5307, 2, 9, 0.46, 0.14, 0.01, 0.017,  -999.00, 9, -999.00, -999.00, 9, -999.00
49NZ20071008, P01, P01_43, 1, 12, X12040, 2, 20071015, 1940, 46.9792, 165.6368, 5881,   3331.0, 2,   1.4992, 2,  34.6717, 2,  34.6719, 2,    132.7, 2,    135.1, 2,   152.90, 2,    37.26, 2,     0.00, 2,     2.62, 2, -999.000, 9, -999.000, 9, -999.000, 9, -999.000, 9,   -999.0, 9,   -999.0, 9, -999.0000,   -999.00,   -999.0, 9,   -999.0,  -999.00, 9,   -999.0,   1.2502, 27.7645,   1.4994, 2, 9, 0.46, 0.14, 0.01, 0.017,  -999.00, 9, -999.00, -999.00, 9, -999.00
49NZ20071008, P01, P01_43, 1, 11, X12047, 2, 20071015, 1940, 46.9792, 165.6368, 5881,   3580.8, 2,   1.4777, 2,  34.6770, 2,  34.6769, 2,    139.2, 2,    141.3, 2,   151.15, 2,    36.93, 2,     0.01, 2,     2.59, 2, -999.000, 9, -999.000, 9, -999.000, 9, -999.000, 9,   -999.0, 9,   -999.0, 9, -999.0000,   -999.00,   -999.0, 9,   -999.0,  -999.00, 9,   -999.0,   1.2039, 27.7720,   1.4778, 2, 9, 0.45, 0.14, 0.01, 0.016,  -999.00, 9, -999.00, -999.00, 9, -999.00
49NZ20071008, P01, P01_43, 1, 10, X12010, 2, 20071015, 1940, 46.9792, 165.6368, 5881,   3830.3, 2,   1.4700, 2,  34.6807, 2,  34.6804, 2,    144.3, 2,    145.5, 2,   150.12, 2,    36.57, 2,     0.00, 2,     2.56, 2,    0.000, 2,    0.000, 2,    0.000, 2, -999.000, 9,   -999.0, 9,   -999.0, 9, -999.0000,   -999.00,   -999.0, 9,   -999.0,  -999.00, 9,   -999.0,   1.1702, 27.7773,   1.4702, 2, 9, 0.45, 0.14, 0.01, 0.016,  -999.00, 9, -999.00, -999.00, 9, -999.00
49NZ20071008, P01, P01_43, 1, 9, X12015, 2, 20071015, 1940, 46.9792, 165.6368, 5881,   4079.5, 2,   1.4704, 2,  34.6833, 2,  34.6836, 2,    148.1, 2,    149.4, 2,   149.30, 2,    36.37, 2,     0.01, 2,     2.55, 2, -999.000, 9, -999.000, 9, -999.000, 9, -999.000, 9,   -999.0, 9,   -999.0, 9, -999.0000,   -999.00,   -999.0, 9,   -999.0,  -999.00, 9,   -999.0,   1.1437, 27.7812,   1.4705, 2, 9, 0.45, 0.13, 0.01, 0.016,  -999.00, 9, -999.00, -999.00, 9, -999.00
49NZ20071008, P01, P01_43, 1, 8, X12046, 2, 20071015, 1940, 46.9792, 165.6368, 5881,   4331.2, 2,   1.4787, 2,  34.6855, 2,  34.6856, 6,    151.5, 2,    152.2, 2,   148.32, 2,    36.18, 2,     0.01, 2,     2.53, 2, -999.000, 9, -999.000, 9, -999.000, 9, -999.000, 9,   -999.0, 9,   -999.0, 9, -999.0000,   -999.00,   -999.0, 9,   -999.0,  -999.00, 9,   -999.0,   1.1237, 27.7843,   1.4788, 2, 9, 0.45, 0.13, 0.01, 0.016,  -999.00, 9, -999.00, -999.00, 9, -999.00
49NZ20071008, P01, P01_43, 1, 7, X12044, 2, 20071015, 1940, 46.9792, 165.6368, 5881,   4578.7, 2,   1.4892, 2,  34.6875, 2,  34.6875, 2,    153.8, 2,    154.3, 2,   148.35, 2,    36.06, 2,     0.01, 2,     2.52, 2,    0.000, 2,    0.000, 2,    0.000, 2, -999.000, 9,   -999.0, 9,   -999.0, 9, -999.0000,   -999.00,   -999.0, 9,   -999.0,  -999.00, 9,   -999.0,   1.1054, 27.7872,   1.4892, 2, 9, 0.45, 0.13, 0.01, 0.016,  -999.00, 9, -999.00, -999.00, 9, -999.00
49NZ20071008, P01, P01_43, 1, 6, X12048, 2, 20071015, 1940, 46.9792, 165.6368, 5881,   4832.6, 2,   1.5082, 2,  34.6887, 2,  34.6888, 2,    155.4, 2,    155.8, 2,   148.25, 2,    35.91, 2,     0.01, 2,     2.51, 2, -999.000, 9, -999.000, 9, -999.000, 9, -999.000, 9,   -999.0, 9,   -999.0, 9, -999.0000,   -999.00,   -999.0, 9,   -999.0,  -999.00, 9,   -999.0,   1.0939, 27.7889,   1.5083, 2, 9, 0.45, 0.13, 0.01, 0.016,  -999.00, 9, -999.00, -999.00, 9, -999.00
49NZ20071008, P01, P01_43, 1, 5, X12014, 2, 20071015, 1940, 46.9792, 165.6368, 5881,   5078.9, 2,   1.5307, 2,  34.6897, 2,  34.6895, 2,    156.5, 2,    157.0, 2,   148.86, 2,    35.84, 2,     0.00, 2,     2.51, 2, -999.000, 9, -999.000, 9, -999.000, 9, -999.000, 9,   -999.0, 9,   -999.0, 9, -999.0000,   -999.00,   -999.0, 9,   -999.0,  -999.00, 9,   -999.0,   1.0858, 27.7902,   1.5308, 2, 9, 0.45, 0.13, 0.01, 0.016,  -999.00, 9, -999.00, -999.00, 9, -999.00
49NZ20071008, P01, P01_43, 1, 4, X12006, 2, 20071015, 1940, 46.9792, 165.6368, 5881,   5330.1, 2,   1.5567, 2,  34.6904, 2,  34.6905, 2,    157.4, 2,    157.5, 2,   149.79, 2,    35.84, 2,     0.01, 2,     2.50, 2,    0.000, 2,    0.000, 2,    0.000, 2, -999.000, 9,   -999.0, 9,   -999.0, 9, -999.0000,   -999.00,   -999.0, 9,   -999.0,  -999.00, 9,   -999.0,   1.0796, 27.7913,   1.5568, 2, 9, 0.45, 0.13, 0.01, 0.016,  -999.00, 9, -999.00, -999.00, 9, -999.00
49NZ20071008, P01, P01_43, 1, 3, X12013, 2, 20071015, 1940, 46.9792, 165.6368, 5881,   5581.1, 2,   1.5896, 2,  34.6905, 2,  34.6906, 2,    157.6, 2,    157.5, 2,   149.62, 2,    35.82, 2,     0.00, 2,     2.50, 2, -999.000, 9, -999.000, 9, -999.000, 9, -999.000, 9,   -999.0, 9,   -999.0, 9, -999.0000,   -999.00,   -999.0, 9,   -999.0,  -999.00, 9,   -999.0,   1.0793, 27.7914,   1.5895, 2, 9, 0.45, 0.13, 0.01, 0.016,  -999.00, 9, -999.00, -999.00, 9, -999.00
49NZ20071008, P01, P01_43, 1, 2, X12002, 2, 20071015, 1940, 46.9792, 165.6368, 5881,   5832.3, 2,   1.6234, 2,  34.6903, 2,  34.6907, 2,    157.7, 2,    157.6, 2,   149.44, 2,    35.93, 2,     0.00, 2,     2.50, 2,    0.001, 2,    0.002, 2,    0.000, 2, -999.000, 9,   -999.0, 9,   -999.0, 9, -999.0000,   -999.00,   -999.0, 9,   -999.0,  -999.00, 9,   -999.0,   1.0791, 27.7912,   1.6232, 2, 9, 0.45, 0.13, 0.01, 0.016,  -999.00, 9, -999.00, -999.00, 9, -999.00
49NZ20071008, P01, P01_43, 1, 1, X12001, 2, 20071015, 1940, 46.9792, 165.6368, 5881,   5984.3, 2,   1.6441, 2,  34.6906, 2,  34.6906, 6,    157.7, 2,    157.7, 2,   149.76, 2,    35.87, 2,     0.00, 2,     2.50, 2,    0.002, 2,    0.004, 2,    0.000, 2, -999.000, 9,   -999.0, 9,   -999.0, 9, -999.0000,   -999.00,   -999.0, 9,   -999.0,  -999.00, 9,   -999.0,   1.0787, 27.7914,   1.6440, 2, 9, 0.45, 0.13, 0.01, 0.016,  -999.00, 9, -999.00, -999.00, 9, -999.00