BOTTLE,20221005CCHSIOAMB
EXPOCODE,SECT_ID,STNNBR,CASTNO,SAMPNO,BTLNBR,BTLNBR_FLAG_W,DATE,TIME,LATITUDE,LONGITUDE,DEPTH,CTDPRS,CTDPRS_FLAG_W,CTDTMP,CTDTMP_FLAG_W,CTDSAL,CTDSAL_FLAG_W,SALNTY,SALNTY_FLAG_W,CTDOXY,CTDOXY_FLAG_W,OXYGEN,OXYGEN_FLAG_W,SILCAT,SILCAT_FLAG_W,NITRAT,NITRAT_FLAG_W,NITRIT,NITRIT_FLAG_W,PHSPHT,PHSPHT_FLAG_W,CFC-11,CFC-11_FLAG_W,CFC-12,CFC-12_FLAG_W,CFC113,CFC113_FLAG_W,CCL4,CCL4_FLAG_W,TCARBN,TCARBN_FLAG_W,ALKALI,ALKALI_FLAG_W,PH_TOT,PH_TMP,DELC14,DELC14_FLAG_W,C14ERR,DELC13,DELC13_FLAG_W,C13ERR,THETA,SIG0,SBE35,SBE35_FLAG_W,PH_TOT_FLAG_W,SILUNC,NRAUNC,NRIUNC,PHPUNC,CS-137,CS-137_FLAG_W,CS137ER,PLUTO,PLUTO_FLAG_W,PLUTOER
,,,,,,,,,,,METERS,DBAR,,ITS-90,,PSS-78,,PSS-78,,UMOL/KG,,UMOL/KG,,UMOL/KG,,UMOL/KG,,UMOL/KG,,UMOL/KG,,PMOL/KG,,PMOL/KG,,PMOL/KG,,PMOL/KG,,UMOL/KG,,UMOL/KG,,,DEG C,/MILLE,,/MILLE,/MILLE,,/MILLE,DEG C,KG/M^3,ITS-90,,,UMOL/KG,UMOL/KG,UMOL/KG,UMOL/KG,DM/.1MG,,BQ/M^3,MBQ/M^3,,MBQ/M^3
49NZ20071008, P14N, 24, 1, 36, X12042, 2, 20071022, 0859, 50.2443, 179.1507, 6831,     10.1, 2,   7.5803, 2,  32.7376, 2,  32.7378, 2,    297.9, 2,    297.2, 2,    24.65, 2,    15.34, 2,     0.27, 2,     1.43, 2,    4.114, 2,    2.271, 2,    0.392, 2, -999.000, 9,   -999.0, 9,   -999.0, 9, -999.0000,   -999.00,   -999.0, 9,   -999.0,  -999.00, 9,   -999.0,   7.5794, 25.5574,   7.5799, 2, 9, 0.17, 0.08, 0.01, 0.014,  -999.00, 9, -999.00, -999.00, 9, -999.00
49NZ20071008, P14N, 24, 1, 35, X12041, 2, 20071022, 0859, 50.2443, 179.1507, 6831,     49.4, 2,   7.3344, 2,  32.7344, 2,  32.7366, 2,    296.4, 2,    296.7, 2,    23.81, 2,    15.39, 2,     0.27, 2,     1.45, 2,    4.182, 2,    2.315, 2,    0.395, 2, -999.000, 9,   -999.0, 9,   -999.0, 9, -999.0000,   -999.00,   -999.0, 9,   -999.0,  -999.00, 9,   -999.0,   7.3299, 25.5896,   7.3395, 2, 9, 0.17, 0.08, 0.01, 0.014,  -999.00, 9, -999.00, -999.00, 9, -999.00
49NZ20071008, P14N, 24, 1, 34, X12016, 2, 20071022, 0859, 50.2443, 179.1507, 6831,     99.9, 2,   3.2800, 2,  33.0167, 2,  33.0175, 2,    306.1, 2,    306.2, 2,    38.62, 2,    23.73, 2,     0.02, 2,     1.90, 2,    5.222, 2,    2.854, 2,    0.502, 2, -999.000, 9,   -999.0, 9,   -999.0, 9, -999.0000,   -999.00,   -999.0, 9,   -999.0,  -999.00, 9,   -999.0,   3.2740, 26.2777,   3.2831, 2, 9, 0.20, 0.10, 0.01, 0.015,  -999.00, 1, -999.00, -999.00, 9, -999.00
49NZ20071008, P14N, 24, 1, 33, X12033, 2, 20071022, 0859, 50.2443, 179.1507, 6831,    149.7, 2,   2.9320, 2,  33.4021, 2,  33.4061, 2,    191.8, 2,    210.1, 3,    58.43, 2,    31.65, 2,     0.01, 2,     2.38, 2,    4.279, 6,    2.253, 6,    0.356, 6, -999.000, 9,   -999.0, 9,   -999.0, 9, -999.0000,   -999.00,   -999.0, 9,   -999.0,  -999.00, 9,   -999.0,   2.9232, 26.6163,   2.9311, 2, 9, 0.25, 0.12, 0.01, 0.016,  -999.00, 9, -999.00, -999.00, 9, -999.00
49NZ20071008, P14N, 24, 1, 32, X12038, 2, 20071022, 0859, 50.2443, 179.1507, 6831,    200.3, 2,   3.4520, 2,  33.7505, 2,  33.7535, 2,     95.0, 2,     96.0, 2,    81.54, 2,    39.70, 2,     0.01, 2,     2.87, 2,    2.832, 2,    1.416, 2,    0.202, 2, -999.000, 9,   -999.0, 9,   -999.0, 9, -999.0000,   -999.00,   -999.0, 9,   -999.0,  -999.00, 9,   -999.0,   3.4392, 26.8472,   3.4522, 2, 9, 0.30, 0.14, 0.01, 0.017,  -999.00, 1, -999.00, -999.00, 9, -999.00
49NZ20071008, P14N, 24, 1, 31, X12003, 2, 20071022, 0859, 50.2443, 179.1507, 6831,    249.2, 2,   3.4571, 2,  33.8470, 2,  33.8501, 6,     60.7, 2,     62.3, 2,    90.72, 2,    42.40, 2,     0.01, 2,     3.03, 2,    2.336, 2,    1.144, 2,    0.164, 2, -999.000, 9,   -999.0, 9,   -999.0, 9, -999.0000,   -999.00,   -999.0, 9,   -999.0,  -999.00, 9,   -999.0,   3.4410, 26.9239,   3.4580, 2, 9, 0.32, 0.15, 0.01, 0.018,  -999.00, 9, -999.00, -999.00, 9, -999.00
49NZ20071008, P14N, 24, 1, 30, X12008, 2, 20071022, 0859, 50.2443, 179.1507, 6831,    281.1, 2,   3.6528, 2,  33.9286, 2,  33.9247, 2,     46.0, 2,     38.7, 2,    95.54, 2,    43.88, 2,     0.02, 2,     3.12, 2,    1.918, 2,    0.918, 2,    0.129, 2, -999.000, 9,   -999.0, 9,   -999.0, 9, -999.0000,   -999.00,   -999.0, 9,   -999.0,  -999.00, 9,   -999.0,   3.6341, 26.9704,   3.6522, 2, 9, 0.33, 0.16, 0.01, 0.018,  -999.00, 9, -999.00, -999.00, 9, -999.00
49NZ20071008, P14N, 24, 1, 29, X12035, 2, 20071022, 0859, 50.2443, 179.1507, 6831,    369.5, 2,   3.6308, 2,  34.0435, 2,  34.0437, 2,     38.5, 2,     30.4, 2,   105.61, 2,    44.03, 2,     0.01, 2,     3.12, 2,    1.317, 2,    0.622, 2,    0.084, 2, -999.000, 9,   -999.0, 9,   -999.0, 9, -999.0000,   -999.00,   -999.0, 9,   -999.0,  -999.00, 9,   -999.0,   3.6060, 27.0647,   3.6304, 2, 9, 0.35, 0.16, 0.01, 0.018,  -999.00, 1, -999.00, -999.00, 9, -999.00
49NZ20071008, P14N, 24, 1, 28, X12034, 2, 20071022, 0859, 50.2443, 179.1507, 6831,    469.5, 2,   3.5470, 2,  34.1403, 2,  34.1409, 6,     26.3, 2,     27.2, 2,   114.00, 2,    43.69, 2,     0.01, 2,     3.11, 2,    0.882, 2,    0.414, 2,    0.042, 2, -999.000, 9,   -999.0, 9,   -999.0, 9, -999.0000,   -999.00,   -999.0, 9,   -999.0,  -999.00, 9,   -999.0,   3.5153, 27.1506,   3.5466, 2, 9, 0.37, 0.16, 0.01, 0.018,  -999.00, 9, -999.00, -999.00, 9, -999.00
49NZ20071008, P14N, 24, 1, 27, X12049, 2, 20071022, 0859, 50.2443, 179.1507, 6831,    570.1, 2,   3.3817, 2,  34.2046, 2,  34.2044, 2,     21.2, 2,     21.8, 2,   122.43, 2,    43.98, 2,     0.01, 2,     3.13, 2,    0.607, 2,    0.283, 2,    0.037, 2, -999.000, 9,   -999.0, 9,   -999.0, 9, -999.0000,   -999.00,   -999.0, 9,   -999.0,  -999.00, 9,   -999.0,   3.3435, 27.2183,   3.3813, 2, 9, 0.39, 0.16, 0.01, 0.018,  -999.00, 1, -999.00, -999.00, 9, -999.00
49NZ20071008, P14N, 24, 1, 26, X12032, 2, 20071022, 0859, 50.2443, 179.1507, 6831,    670.2, 2,   3.2407, 2,  34.2629, 2,  34.2627, 2,     22.1, 2,     18.4, 2,   129.54, 2,    44.31, 2,     0.01, 2,     3.15, 2,    0.381, 6,    0.177, 6,    0.022, 6, -999.000, 9,   -999.0, 9,   -999.0, 9, -999.0000,   -999.00,   -999.0, 9,   -999.0,  -999.00, 9,   -999.0,   3.1959, 27.2787,   3.2403, 2, 9, 0.40, 0.16, 0.01, 0.018,  -999.00, 9, -999.00, -999.00, 9, -999.00
49NZ20071008, P14N, 24, 1, 25, X12043, 2, 20071022, 0859, 50.2443, 179.1507, 6831,    769.7, 2,   3.1123, 2,  34.3049, 2,  34.3052, 2,     20.3, 2,     18.9, 2,   134.65, 2,    44.30, 2,     0.01, 2,     3.16, 2,    0.272, 2,    0.125, 2,    0.012, 2, -999.000, 9,   -999.0, 9,   -999.0, 9, -999.0000,   -999.00,   -999.0, 9,   -999.0,  -999.00, 9,   -999.0,   3.0610, 27.3246,   3.1119, 2, 9, 0.42, 0.16, 0.01, 0.018,  -999.00, 1, -999.00, -999.00, 9, -999.00
49NZ20071008, P14N, 24, 1, 24, X12030, 2, 20071022, 0859, 50.2443, 179.1507, 6831,    870.0, 2,   2.9303, 2,  34.3524, 2,  34.3528, 2,     19.7, 2,     19.1, 2,   141.37, 2,    44.17, 2,     0.01, 2,     3.15, 2,    0.174, 2,    0.081, 2,    0.009, 2, -999.000, 9,   -999.0, 9,   -999.0, 9, -999.0000,   -999.00,   -999.0, 9,   -999.0,  -999.00, 9,   -999.0,   2.8728, 27.3796,   2.9302, 2, 9, 0.43, 0.16, 0.01, 0.018,  -999.00, 9, -999.00, -999.00, 9, -999.00
49NZ20071008, P14N, 24, 1, 23, X12027, 2, 20071022, 0859, 50.2443, 179.1507, 6831,    972.8, 2,   2.7640, 2,  34.3944, 2,  34.3933, 6,     20.7, 2,     20.7, 2,   146.41, 2,    44.23, 2,     0.01, 2,     3.16, 2,    0.113, 2,    0.054, 2,    0.009, 2, -999.000, 9,   -999.0, 9,   -999.0, 9, -999.0000,   -999.00,   -999.0, 9,   -999.0,  -999.00, 9,   -999.0,   2.7001, 27.4284,   2.7638, 2, 9, 0.44, 0.16, 0.01, 0.018,  -999.00, 1, -999.00, -999.00, 9, -999.00
49NZ20071008, P14N, 24, 1, 22, X12028, 2, 20071022, 0859, 50.2443, 179.1507, 6831,   1130.3, 2,   2.5407, 2,  34.4461, 2,  34.4463, 2,     27.0, 2,     26.2, 2,   153.28, 2,    44.00, 2,     0.00, 2,     3.12, 2,    0.066, 2,    0.030, 2,    0.008, 2, -999.000, 9,   -999.0, 9,   -999.0, 9, -999.0000,   -999.00,   -999.0, 9,   -999.0,  -999.00, 9,   -999.0,   2.4670, 27.4897,   2.5406, 2, 9, 0.46, 0.16, 0.01, 0.018,  -999.00, 9, -999.00, -999.00, 9, -999.00
49NZ20071008, P14N, 24, 1, 21, X12009, 2, 20071022, 0859, 50.2443, 179.1507, 6831,   1331.2, 2,   2.3291, 2,  34.4941, 2,  34.4946, 2,     34.3, 2,     34.3, 2,   159.00, 2,    43.52, 2,     0.00, 2,     3.09, 2,    0.037, 2,    0.018, 2,    0.000, 2, -999.000, 9,   -999.0, 9,   -999.0, 9, -999.0000,   -999.00,   -999.0, 9,   -999.0,  -999.00, 9,   -999.0,   2.2422, 27.5469,   2.3289, 2, 9, 0.47, 0.15, 0.01, 0.018,  -999.00, 9, -999.00, -999.00, 9, -999.00
49NZ20071008, P14N, 24, 1, 20, X12026, 2, 20071022, 0859, 50.2443, 179.1507, 6831,   1530.9, 2,   2.1503, 2,  34.5341, 2,  34.5329, 2,     42.4, 2,     41.6, 2,   163.55, 2,    43.31, 2,     0.01, 2,     3.06, 2,    0.007, 2,    0.002, 2,    0.000, 2, -999.000, 9,   -999.0, 9,   -999.0, 9, -999.0000,   -999.00,   -999.0, 9,   -999.0,  -999.00, 9,   -999.0,   2.0500, 27.5944,   2.1504, 2, 9, 0.48, 0.15, 0.01, 0.018,  -999.00, 9, -999.00, -999.00, 9, -999.00
49NZ20071008, P14N, 24, 1, 19, X12025, 2, 20071022, 0859, 50.2443, 179.1507, 6831,   1731.8, 2,   2.0015, 2,  34.5670, 2,  34.5671, 2,     53.8, 2,     53.6, 2,   165.52, 2,    42.66, 2,     0.01, 2,     2.99, 2,    0.001, 2,    0.000, 2,    0.000, 2, -999.000, 9,   -999.0, 9,   -999.0, 9, -999.0000,   -999.00,   -999.0, 9,   -999.0,  -999.00, 9,   -999.0,   1.8872, 27.6336,   2.0014, 2, 9, 0.48, 0.15, 0.01, 0.017,  -999.00, 1, -999.00, -999.00, 9, -999.00
49NZ20071008, P14N, 24, 1, 18, X12024, 2, 20071022, 0859, 50.2443, 179.1507, 6831,   1930.8, 2,   1.8903, 2,  34.5904, 2,  34.5898, 2,     65.0, 2,     65.0, 2,   166.90, 2,    41.81, 2,     0.01, 2,     2.95, 2,    0.000, 2,    0.000, 2,    0.000, 2, -999.000, 9,   -999.0, 9,   -999.0, 9, -999.0000,   -999.00,   -999.0, 9,   -999.0,  -999.00, 9,   -999.0,   1.7614, 27.6620,   1.8904, 2, 9, 0.49, 0.15, 0.01, 0.017,  -999.00, 1, -999.00, -999.00, 9, -999.00
49NZ20071008, P14N, 24, 1, 17, X12023, 2, 20071022, 0859, 50.2443, 179.1507, 6831,   2131.0, 2,   1.7984, 2,  34.6092, 2,  34.6090, 2,     78.3, 2,     76.0, 2,   166.93, 2,    41.26, 2,     0.00, 2,     2.90, 2,    0.013, 2,    0.003, 2,    0.000, 2, -999.000, 9,   -999.0, 9,   -999.0, 9, -999.0000,   -999.00,   -999.0, 9,   -999.0,  -999.00, 9,   -999.0,   1.6542, 27.6852,   1.7985, 2, 9, 0.49, 0.15, 0.01, 0.017,  -999.00, 1, -999.00, -999.00, 9, -999.00
49NZ20071008, P14N, 24, 1, 16, X12022, 2, 20071022, 0859, 50.2443, 179.1507, 6831,   2331.1, 2,   1.7175, 2,  34.6254, 2,  34.6249, 2,     89.2, 2,     86.9, 2,   166.35, 2,    40.45, 2,     0.01, 2,     2.85, 2,    0.003, 2,    0.002, 2,    0.000, 2, -999.000, 9,   -999.0, 9,   -999.0, 9, -999.0000,   -999.00,   -999.0, 9,   -999.0,  -999.00, 9,   -999.0,   1.5575, 27.7053,   1.7176, 2, 9, 0.48, 0.15, 0.01, 0.017,  -999.00, 9, -999.00, -999.00, 9, -999.00
49NZ20071008, P14N, 24, 1, 15, X12021, 2, 20071022, 0859, 50.2443, 179.1507, 6831,   2531.7, 2,   1.6640, 2,  34.6362, 2,  34.6362, 2,    100.1, 2,     96.2, 2,   165.60, 2,    39.94, 2,     0.01, 2,     2.81, 2,    0.000, 2,    0.000, 2,    0.000, 2, -999.000, 9,   -999.0, 9,   -999.0, 9, -999.0000,   -999.00,   -999.0, 9,   -999.0,  -999.00, 9,   -999.0,   1.4872, 27.7191,   1.6641, 2, 9, 0.48, 0.14, 0.01, 0.017,  -999.00, 9, -999.00, -999.00, 9, -999.00
49NZ20071008, P14N, 24, 1, 14, X12020, 2, 20071022, 0859, 50.2443, 179.1507, 6831,   2730.9, 2,   1.6127, 2,  34.6468, 2,  34.6462, 6,    106.8, 2,    105.1, 2,   164.52, 2,    39.37, 2,     0.01, 2,     2.77, 2, -999.000, 9, -999.000, 9, -999.000, 9, -999.000, 9,   -999.0, 9,   -999.0, 9, -999.0000,   -999.00,   -999.0, 9,   -999.0,  -999.00, 9,   -999.0,   1.4188, 27.7326,   1.6127, 2, 9, 0.48, 0.14, 0.01, 0.017,  -999.00, 1, -999.00, -999.00, 9, -999.00
49NZ20071008, P14N, 24, 1, 13, X12019, 2, 20071022, 0859, 50.2443, 179.1507, 6831,   2930.7, 2,   1.5698, 2,  34.6557, 2,  34.6558, 2,    111.8, 2,    113.8, 2,   163.00, 2,    38.84, 2,     0.00, 2,     2.73, 2, -999.000, 9, -999.000, 9, -999.000, 9, -999.000, 9,   -999.0, 9,   -999.0, 9, -999.0000,   -999.00,   -999.0, 9,   -999.0,  -999.00, 9,   -999.0,   1.3582, 27.7441,   1.5699, 2, 9, 0.48, 0.14, 0.01, 0.017,  -999.00, 1, -999.00, -999.00, 9, -999.00
49NZ20071008, P14N, 24, 1, 12, X12040, 2, 20071022, 0859, 50.2443, 179.1507, 6831,   3171.1, 2,   1.5367, 2,  34.6635, 2,  34.6629, 2,    122.2, 2,    121.9, 2,   161.13, 2,    38.17, 2,     0.00, 2,     2.69, 2,    0.002, 2,    0.002, 2,    0.000, 2, -999.000, 9,   -999.0, 9,   -999.0, 9, -999.0000,   -999.00,   -999.0, 9,   -999.0,  -999.00, 9,   -999.0,   1.3026, 27.7542,   1.5368, 2, 9, 0.47, 0.14, 0.01, 0.017,  -999.00, 1, -999.00, -999.00, 9, -999.00
49NZ20071008, P14N, 24, 1, 11, X12047, 2, 20071022, 0859, 50.2443, 179.1507, 6831,   3421.8, 2,   1.4997, 2,  34.6718, 2,  34.6711, 2,    130.0, 2,    131.2, 2,   159.06, 2,    37.57, 2,     0.00, 2,     2.63, 2, -999.000, 9, -999.000, 9, -999.000, 9, -999.000, 9,   -999.0, 9,   -999.0, 9, -999.0000,   -999.00,   -999.0, 9,   -999.0,  -999.00, 9,   -999.0,   1.2416, 27.7652,   1.4998, 2, 9, 0.47, 0.14, 0.01, 0.017,  -999.00, 9, -999.00, -999.00, 9, -999.00
49NZ20071008, P14N, 24, 1, 10, X12010, 2, 20071022, 0859, 50.2443, 179.1507, 6831,   3670.8, 2,   1.4819, 2,  34.6772, 2,  34.6771, 2,    137.5, 2,    137.6, 2,   157.41, 2,    37.23, 2,     0.00, 2,     2.60, 2, -999.000, 9, -999.000, 9, -999.000, 9, -999.000, 9,   -999.0, 9,   -999.0, 9, -999.0000,   -999.00,   -999.0, 9,   -999.0,  -999.00, 9,   -999.0,   1.1986, 27.7725,   1.4820, 2, 9, 0.47, 0.14, 0.01, 0.016,  -999.00, 1, -999.00, -999.00, 9, -999.00
49NZ20071008, P14N, 24, 1, 9, X12015, 2, 20071022, 0859, 50.2443, 179.1507, 6831,   3919.2, 2,   1.4757, 2,  34.6814, 2,  34.6810, 2,    143.0, 2,    142.4, 2,   156.27, 2,    36.94, 2,     0.00, 2,     2.59, 2,    0.000, 2,    0.002, 2,    0.000, 2, -999.000, 9,   -999.0, 9,   -999.0, 9, -999.0000,   -999.00,   -999.0, 9,   -999.0,  -999.00, 9,   -999.0,   1.1662, 27.7781,   1.4759, 2, 9, 0.46, 0.14, 0.01, 0.016,  -999.00, 1, -999.00, -999.00, 9, -999.00
49NZ20071008, P14N, 24, 1, 8, X12046, 2, 20071022, 0859, 50.2443, 179.1507, 6831,   4170.9, 2,   1.4732, 2,  34.6846, 2,  34.6845, 2,    148.2, 2,    147.3, 2,   154.50, 2,    36.56, 2,     0.01, 2,     2.56, 2, -999.000, 9, -999.000, 9, -999.000, 9, -999.000, 9,   -999.0, 9,   -999.0, 9, -999.0000,   -999.00,   -999.0, 9,   -999.0,  -999.00, 9,   -999.0,   1.1363, 27.7828,   1.4733, 2, 9, 0.46, 0.14, 0.01, 0.016,  -999.00, 1, -999.00, -999.00, 9, -999.00
49NZ20071008, P14N, 24, 1, 7, X12044, 2, 20071022, 0859, 50.2443, 179.1507, 6831,   4420.8, 2,   1.4774, 2,  34.6874, 2,  34.6870, 2,    151.3, 2,    151.6, 2,   152.17, 2,    36.33, 2,     0.00, 2,     2.53, 2, -999.000, 9, -999.000, 9, -999.000, 9, -999.000, 9,   -999.0, 9,   -999.0, 9, -999.0000,   -999.00,   -999.0, 9,   -999.0,  -999.00, 9,   -999.0,   1.1122, 27.7866,   1.4776, 2, 9, 0.45, 0.13, 0.01, 0.016,  -999.00, 9, -999.00, -999.00, 9, -999.00
49NZ20071008, P14N, 24, 1, 6, X12048, 2, 20071022, 0859, 50.2443, 179.1507, 6831,   4667.8, 2,   1.4897, 2,  34.6892, 2,  34.6889, 6,    153.8, 2,    154.2, 2,   150.90, 2,    36.13, 2,     0.01, 2,     2.52, 2,    0.005, 2,    0.002, 2,    0.000, 2, -999.000, 9,   -999.0, 9,   -999.0, 9, -999.0000,   -999.00,   -999.0, 9,   -999.0,  -999.00, 9,   -999.0,   1.0955, 27.7892,   1.4899, 2, 9, 0.45, 0.13, 0.01, 0.016,  -999.00, 1, -999.00, -999.00, 9, -999.00
49NZ20071008, P14N, 24, 1, 5, X12014, 2, 20071022, 0859, 50.2443, 179.1507, 6831,   4919.9, 2,   1.5102, 2,  34.6902, 2,  34.6899, 2,    156.1, 2,    156.1, 2,   149.65, 2,    36.02, 2,     0.00, 2,     2.52, 2, -999.000, 9, -999.000, 9, -999.000, 9, -999.000, 9,   -999.0, 9,   -999.0, 9, -999.0000,   -999.00,   -999.0, 9,   -999.0,  -999.00, 9,   -999.0,   1.0853, 27.7907,   1.5104, 2, 9, 0.45, 0.13, 0.01, 0.016,  -999.00, 1, -999.00, -999.00, 9, -999.00
49NZ20071008, P14N, 24, 1, 4, X12006, 2, 20071022, 0859, 50.2443, 179.1507, 6831,   5169.0, 2,   1.5320, 2,  34.6911, 2,  34.6909, 2,    158.0, 2,    157.6, 2,   148.33, 2,    35.88, 2,     0.00, 2,     2.49, 2,    0.006, 2,    0.003, 2,    0.000, 2, -999.000, 9,   -999.0, 9,   -999.0, 9, -999.0000,   -999.00,   -999.0, 9,   -999.0,  -999.00, 9,   -999.0,   1.0759, 27.7921,   1.5321, 2, 9, 0.45, 0.13, 0.01, 0.016,  -999.00, 1, -999.00, -999.00, 9, -999.00
49NZ20071008, P14N, 24, 1, 3, X12013, 2, 20071022, 0859, 50.2443, 179.1507, 6831,   5419.3, 2,   1.5557, 2,  34.6920, 2,  34.6918, 2,    159.4, 2,    159.3, 2,   147.22, 2,    35.72, 2,     0.01, 2,     2.49, 2, -999.000, 9, -999.000, 9, -999.000, 9, -999.000, 9,   -999.0, 9,   -999.0, 9, -999.0000,   -999.00,   -999.0, 9,   -999.0,  -999.00, 9,   -999.0,   1.0674, 27.7934,   1.5559, 2, 9, 0.44, 0.13, 0.01, 0.016,  -999.00, 9, -999.00, -999.00, 9, -999.00
49NZ20071008, P14N, 24, 1, 2, X12002, 2, 20071022, 0859, 50.2443, 179.1507, 6831,   5668.3, 2,   1.5876, 2,  34.6922, 2,  34.6919, 2,    159.5, 2,    159.5, 2,   147.18, 2,    35.77, 2,     0.00, 2,     2.50, 2,    0.000, 2,    0.001, 2,    0.000, 2, -999.000, 9,   -999.0, 9,   -999.0, 9, -999.0000,   -999.00,   -999.0, 9,   -999.0,  -999.00, 9,   -999.0,   1.0661, 27.7936,   1.5878, 2, 9, 0.44, 0.13, 0.01, 0.016,  -999.00, 1, -999.00, -999.00, 9, -999.00
49NZ20071008, P14N, 24, 1, 1, X12001, 2, 20071022, 0859, 50.2443, 179.1507, 6831,   6502.6, 2,   1.7044, 2,  34.6919, 2,  34.6916, 6,    160.1, 2,    159.9, 2,   146.32, 2,    35.80, 2,     0.01, 2,     2.50, 2,    0.002, 2,    0.004, 2,    0.000, 2, -999.000, 9,   -999.0, 9,   -999.0, 9, -999.0000,   -999.00,   -999.0, 9,   -999.0,  -999.00, 9,   -999.0,   1.0656, 27.7934,   1.7045, 2, 9, 0.44, 0.13, 0.01, 0.016,  -999.00, 1, -999.00, -999.00, 9, -999.00