BOTTLE,20221005CCHSIOAMB
EXPOCODE,SECT_ID,STNNBR,CASTNO,SAMPNO,BTLNBR,BTLNBR_FLAG_W,DATE,TIME,LATITUDE,LONGITUDE,DEPTH,CTDPRS,CTDPRS_FLAG_W,CTDTMP,CTDTMP_FLAG_W,CTDSAL,CTDSAL_FLAG_W,SALNTY,SALNTY_FLAG_W,CTDOXY,CTDOXY_FLAG_W,OXYGEN,OXYGEN_FLAG_W,SILCAT,SILCAT_FLAG_W,NITRAT,NITRAT_FLAG_W,NITRIT,NITRIT_FLAG_W,PHSPHT,PHSPHT_FLAG_W,CFC-11,CFC-11_FLAG_W,CFC-12,CFC-12_FLAG_W,CFC113,CFC113_FLAG_W,CCL4,CCL4_FLAG_W,TCARBN,TCARBN_FLAG_W,ALKALI,ALKALI_FLAG_W,PH_TOT,PH_TMP,DELC14,DELC14_FLAG_W,C14ERR,DELC13,DELC13_FLAG_W,C13ERR,THETA,SIG0,SBE35,SBE35_FLAG_W,PH_TOT_FLAG_W,SILUNC,NRAUNC,NRIUNC,PHPUNC,CS-137,CS-137_FLAG_W,CS137ER,PLUTO,PLUTO_FLAG_W,PLUTOER
,,,,,,,,,,,METERS,DBAR,,ITS-90,,PSS-78,,PSS-78,,UMOL/KG,,UMOL/KG,,UMOL/KG,,UMOL/KG,,UMOL/KG,,UMOL/KG,,PMOL/KG,,PMOL/KG,,PMOL/KG,,PMOL/KG,,UMOL/KG,,UMOL/KG,,,DEG C,/MILLE,,/MILLE,/MILLE,,/MILLE,DEG C,KG/M^3,ITS-90,,,UMOL/KG,UMOL/KG,UMOL/KG,UMOL/KG,DM/.1MG,,BQ/M^3,MBQ/M^3,,MBQ/M^3
49NZ20071008, P14N, 68, 1, 36, X12042, 2, 20071108, 0328, 28.4850, 178.9968, 5401,      9.8, 2,  25.4514, 2,  35.1008, 2,  35.1015, 2,    210.5, 2,    209.7, 2,     1.52, 2,     0.04, 2,     0.01, 2,     0.04, 2,    1.680, 2,    1.031, 2,    0.461, 4, -999.000, 9,   -999.0, 9,   -999.0, 9, -999.0000,   -999.00,   -999.0, 9,   -999.0,  -999.00, 9,   -999.0,  25.4492, 23.2800,  25.4499, 2, 9, 0.12, 0.03, 0.01, 0.038,  -999.00, 9, -999.00, -999.00, 9, -999.00
49NZ20071008, P14N, 68, 1, 35, X12041, 2, 20071108, 0328, 28.4850, 178.9968, 5401,     50.1, 2,  25.3948, 2,  35.0900, 2,  35.0927, 2,    211.6, 2,    210.2, 2,     1.46, 2,     0.03, 2,     0.01, 2,     0.04, 2,    1.692, 2,    1.055, 2,    0.489, 4, -999.000, 9,   -999.0, 9,   -999.0, 9, -999.0000,   -999.00,   -999.0, 9,   -999.0,  -999.00, 9,   -999.0,  25.3838, 23.2919,  25.3938, 2, 9, 0.12, 0.03, 0.01, 0.040,  -999.00, 9, -999.00, -999.00, 9, -999.00
49NZ20071008, P14N, 68, 1, 34, X12016, 2, 20071108, 0328, 28.4850, 178.9968, 5401,    100.8, 2,  18.5045, 2,  34.8019, 2,  34.8018, 2,    228.8, 2,    227.0, 2,     2.27, 2,     0.01, 2,     0.01, 2,     0.10, 2,    2.306, 2,    1.379, 2,    0.319, 4, -999.000, 9,   -999.0, 9,   -999.0, 9, -999.0000,   -999.00,   -999.0, 9,   -999.0,  -999.00, 9,   -999.0,  18.4869, 24.9994,  18.5067, 2, 9, 0.12, 0.03, 0.01, 0.022,  -999.00, 1, -999.00, -999.00, 9, -999.00
49NZ20071008, P14N, 68, 1, 33, X12033, 2, 20071108, 0328, 28.4850, 178.9968, 5401,    152.1, 2,  17.0998, 2,  34.7236, 2,  34.7233, 2,    212.4, 2,    212.9, 2,     3.82, 2,     4.10, 2,     0.02, 2,     0.33, 2,    2.416, 6,    1.433, 6,    0.128, 6, -999.000, 9,   -999.0, 9,   -999.0, 9, -999.0000,   -999.00,   -999.0, 9,   -999.0,  -999.00, 9,   -999.0,  17.0747, 25.2844,  17.0991, 2, 9, 0.13, 0.04, 0.01, 0.014,  -999.00, 9, -999.00, -999.00, 9, -999.00
49NZ20071008, P14N, 68, 1, 32, X12038, 2, 20071108, 0328, 28.4850, 178.9968, 5401,    199.3, 2,  16.4969, 2,  34.6786, 2,  34.6779, 2,    213.1, 2,    214.2, 2,     4.72, 2,     4.88, 2,     0.02, 2,     0.38, 2,    2.480, 2,    1.455, 2,    0.124, 2, -999.000, 9,   -999.0, 9,   -999.0, 9, -999.0000,   -999.00,   -999.0, 9,   -999.0,  -999.00, 9,   -999.0,  16.4648, 25.3933,  16.4979, 2, 9, 0.13, 0.05, 0.01, 0.013,  -999.00, 1, -999.00, -999.00, 9, -999.00
49NZ20071008, P14N, 68, 1, 31, X12003, 2, 20071108, 0328, 28.4850, 178.9968, 5401,    248.2, 2,  15.5404, 2,  34.6193, 2,  34.6176, 6,    205.8, 2,    205.5, 2,     7.08, 2,     7.26, 2,     0.01, 2,     0.54, 2,    2.574, 2,    1.480, 2,    0.074, 2, -999.000, 9,   -999.0, 9,   -999.0, 9, -999.0000,   -999.00,   -999.0, 9,   -999.0,  -999.00, 9,   -999.0,  15.5020, 25.5673,  15.5426, 2, 9, 0.13, 0.05, 0.01, 0.013,  -999.00, 9, -999.00, -999.00, 9, -999.00
49NZ20071008, P14N, 68, 1, 30, X12008, 2, 20071108, 0328, 28.4850, 178.9968, 5401,    331.0, 2,  13.6023, 2,  34.4814, 2,  34.4823, 2,    211.3, 2,    210.1, 2,    10.72, 2,     9.72, 2,     0.01, 2,     0.72, 2,    2.729, 2,    1.542, 2,    0.090, 2, -999.000, 9,   -999.0, 9,   -999.0, 9, -999.0000,   -999.00,   -999.0, 9,   -999.0,  -999.00, 9,   -999.0,  13.5554, 25.8786,  13.6072, 2, 9, 0.14, 0.06, 0.01, 0.013,  -999.00, 9, -999.00, -999.00, 9, -999.00
49NZ20071008, P14N, 68, 1, 29, X12035, 2, 20071108, 0328, 28.4850, 178.9968, 5401,    430.7, 2,  11.4019, 2,  34.3099, 2,  34.3060, 2,    206.0, 2,    204.5, 2,    17.20, 2,    14.06, 2,     0.01, 2,     1.03, 2,    2.930, 2,    1.612, 2,    0.097, 2, -999.000, 9,   -999.0, 9,   -999.0, 9, -999.0000,   -999.00,   -999.0, 9,   -999.0,  -999.00, 9,   -999.0,  11.3474, 26.1749,  11.4030, 2, 9, 0.16, 0.07, 0.01, 0.013,  -999.00, 1, -999.00, -999.00, 9, -999.00
49NZ20071008, P14N, 68, 1, 28, X12034, 2, 20071108, 0328, 28.4850, 178.9968, 5401,    530.2, 2,   8.7988, 2,  34.1118, 2,  34.1086, 6,    192.4, 2,    189.3, 2,    30.31, 2,    20.23, 2,     0.01, 2,     1.48, 2,    2.912, 2,    1.554, 2,    0.139, 2, -999.000, 9,   -999.0, 9,   -999.0, 9, -999.0000,   -999.00,   -999.0, 9,   -999.0,  -999.00, 9,   -999.0,   8.7416, 26.4633,   8.8017, 2, 9, 0.19, 0.09, 0.01, 0.014,  -999.00, 9, -999.00, -999.00, 9, -999.00
49NZ20071008, P14N, 68, 1, 27, X12049, 2, 20071108, 0328, 28.4850, 178.9968, 5401,    631.6, 2,   6.4347, 2,  34.0143, 2,  34.0142, 2,    144.8, 2,    143.0, 2,    53.48, 2,    28.66, 2,     0.01, 2,     2.10, 2,    2.345, 6,    1.192, 6,    0.108, 6, -999.000, 9,   -999.0, 9,   -999.0, 9, -999.0000,   -999.00,   -999.0, 9,   -999.0,  -999.00, 9,   -999.0,   6.3773, 26.7255,   6.4349, 2, 9, 0.24, 0.11, 0.01, 0.015,  -999.00, 1, -999.00, -999.00, 9, -999.00
49NZ20071008, P14N, 68, 1, 26, X12032, 2, 20071108, 0328, 28.4850, 178.9968, 5401,    730.1, 2,   5.2287, 2,  34.0651, 2,  34.0655, 2,     91.7, 2,     93.2, 2,    75.81, 2,    35.19, 2,     0.01, 2,     2.56, 2,    1.455, 2,    0.714, 2,    0.060, 2, -999.000, 9,   -999.0, 9,   -999.0, 9, -999.0000,   -999.00,   -999.0, 9,   -999.0,  -999.00, 9,   -999.0,   5.1685, 26.9146,   5.2290, 2, 9, 0.29, 0.13, 0.01, 0.016,  -999.00, 9, -999.00, -999.00, 9, -999.00
49NZ20071008, P14N, 68, 1, 25, X12043, 2, 20071108, 0328, 28.4850, 178.9968, 5401,    831.8, 2,   4.4201, 2,  34.1567, 2,  34.1579, 2,     57.7, 2,     57.8, 2,    95.98, 2,    39.56, 2,     0.01, 2,     2.86, 2,    0.761, 2,    0.363, 2,    0.033, 2, -999.000, 9,   -999.0, 9,   -999.0, 9, -999.0000,   -999.00,   -999.0, 9,   -999.0,  -999.00, 9,   -999.0,   4.3560, 27.0780,   4.4203, 2, 9, 0.33, 0.14, 0.01, 0.017,  -999.00, 1, -999.00, -999.00, 9, -999.00
49NZ20071008, P14N, 68, 1, 24, X12030, 2, 20071108, 0328, 28.4850, 178.9968, 5401,    932.1, 2,   3.9742, 2,  34.2391, 2,  34.2381, 2,     40.1, 2,     39.1, 2,   108.97, 2,    41.51, 2,     0.01, 2,     2.99, 2,    0.362, 2,    0.170, 2,    0.013, 2, -999.000, 9,   -999.0, 9,   -999.0, 9, -999.0000,   -999.00,   -999.0, 9,   -999.0,  -999.00, 9,   -999.0,   3.9048, 27.1906,   3.9747, 2, 9, 0.36, 0.15, 0.01, 0.017,  -999.00, 9, -999.00, -999.00, 9, -999.00
49NZ20071008, P14N, 68, 1, 23, X12027, 2, 20071108, 0328, 28.4850, 178.9968, 5401,   1071.0, 2,   3.4769, 2,  34.3446, 2,  34.3460, 6,     28.6, 2,     28.0, 2,   124.33, 2,    43.10, 2,     0.01, 2,     3.10, 2,    0.097, 2,    0.046, 2,    0.009, 2, -999.000, 9,   -999.0, 9,   -999.0, 9, -999.0000,   -999.00,   -999.0, 9,   -999.0,  -999.00, 9,   -999.0,   3.3999, 27.3245,   3.4766, 2, 9, 0.39, 0.15, 0.01, 0.018,  -999.00, 1, -999.00, -999.00, 9, -999.00
49NZ20071008, P14N, 68, 1, 22, X12028, 2, 20071108, 0328, 28.4850, 178.9968, 5401,   1271.4, 2,   2.9890, 2,  34.4567, 2,  34.4561, 2,     35.1, 2,     34.0, 2,   137.07, 2,    43.27, 2,     0.01, 2,     3.11, 2,    0.017, 2,    0.008, 2,    0.000, 2, -999.000, 9,   -999.0, 9,   -999.0, 9, -999.0000,   -999.00,   -999.0, 9,   -999.0,  -999.00, 9,   -999.0,   2.9002, 27.4605,   2.9897, 2, 9, 0.42, 0.15, 0.01, 0.018,  -999.00, 9, -999.00, -999.00, 9, -999.00
49NZ20071008, P14N, 68, 1, 21, X12009, 2, 20071108, 0328, 28.4850, 178.9968, 5401,   1470.7, 2,   2.6033, 2,  34.5196, 2,  34.5198, 2,     46.2, 2,     45.8, 2,   146.12, 2,    42.71, 2,     0.01, 2,     3.06, 2,    0.001, 2,    0.001, 2,    0.000, 2, -999.000, 9,   -999.0, 9,   -999.0, 9, -999.0000,   -999.00,   -999.0, 9,   -999.0,  -999.00, 9,   -999.0,   2.5025, 27.5455,   2.6036, 2, 9, 0.44, 0.15, 0.01, 0.018,  -999.00, 9, -999.00, -999.00, 9, -999.00
49NZ20071008, P14N, 68, 1, 20, X12026, 2, 20071108, 0328, 28.4850, 178.9968, 5401,   1672.0, 2,   2.2706, 2,  34.5648, 2,  34.5646, 2,     61.1, 2,     60.4, 2,   152.77, 2,    41.88, 2,     0.01, 2,     2.98, 2,    0.000, 2,    0.000, 2,    0.000, 2, -999.000, 9,   -999.0, 9,   -999.0, 9, -999.0000,   -999.00,   -999.0, 9,   -999.0,  -999.00, 9,   -999.0,   2.1576, 27.6104,   2.2706, 2, 9, 0.46, 0.15, 0.01, 0.017,  -999.00, 9, -999.00, -999.00, 9, -999.00
49NZ20071008, P14N, 68, 1, 19, X12025, 2, 20071108, 0328, 28.4850, 178.9968, 5401,   1870.5, 2,   2.0408, 2,  34.5948, 2,  34.5952, 2,     74.9, 2,     74.6, 2,   156.18, 2,    41.08, 2,     0.01, 2,     2.92, 2,    0.000, 2,    0.000, 2,    0.000, 2, -999.000, 9,   -999.0, 9,   -999.0, 9, -999.0000,   -999.00,   -999.0, 9,   -999.0,  -999.00, 9,   -999.0,   1.9146, 27.6537,   2.0405, 2, 9, 0.46, 0.15, 0.01, 0.017,  -999.00, 1, -999.00, -999.00, 9, -999.00
49NZ20071008, P14N, 68, 1, 18, X12024, 2, 20071108, 0328, 28.4850, 178.9968, 5401,   2070.7, 2,   1.8734, 2,  34.6171, 2,  34.6173, 2,     87.3, 2,     88.4, 2,   156.65, 2,    40.27, 2,     0.01, 2,     2.86, 2,    0.000, 2,    0.000, 2,    0.000, 2, -999.000, 9,   -999.0, 9,   -999.0, 9, -999.0000,   -999.00,   -999.0, 9,   -999.0,  -999.00, 9,   -999.0,   1.7330, 27.6855,   1.8733, 2, 9, 0.46, 0.15, 0.01, 0.017,  -999.00, 1, -999.00, -999.00, 9, -999.00
49NZ20071008, P14N, 68, 1, 17, X12023, 2, 20071108, 0328, 28.4850, 178.9968, 5401,   2270.8, 2,   1.7608, 2,  34.6322, 2,  34.6324, 2,     99.2, 2,     99.5, 2,   156.82, 2,    39.57, 2,     0.01, 2,     2.80, 2,    0.000, 2,    0.000, 2,    0.000, 2, -999.000, 9,   -999.0, 9,   -999.0, 9, -999.0000,   -999.00,   -999.0, 9,   -999.0,  -999.00, 9,   -999.0,   1.6052, 27.7073,   1.7607, 2, 9, 0.46, 0.14, 0.01, 0.017,  -999.00, 1, -999.00, -999.00, 9, -999.00
49NZ20071008, P14N, 68, 1, 16, X12022, 2, 20071108, 0328, 28.4850, 178.9968, 5401,   2470.3, 2,   1.6770, 2,  34.6437, 2,  34.6437, 6,    107.9, 2,    108.1, 2,   156.70, 2,    38.96, 2,     0.01, 2,     2.75, 2,    0.000, 2,    0.000, 2,    0.000, 2, -999.000, 9,   -999.0, 9,   -999.0, 9, -999.0000,   -999.00,   -999.0, 9,   -999.0,  -999.00, 9,   -999.0,   1.5054, 27.7238,   1.6771, 2, 9, 0.46, 0.14, 0.01, 0.017,  -999.00, 9, -999.00, -999.00, 9, -999.00
49NZ20071008, P14N, 68, 1, 15, X12021, 2, 20071108, 0328, 28.4850, 178.9968, 5401,   2670.5, 2,   1.6133, 2,  34.6521, 2,  34.6519, 2,    116.3, 2,    114.1, 2,   157.38, 2,    38.55, 2,     0.01, 2,     2.72, 2,    0.000, 2,    0.000, 2,    0.000, 2, -999.000, 9,   -999.0, 9,   -999.0, 9, -999.0000,   -999.00,   -999.0, 9,   -999.0,  -999.00, 9,   -999.0,   1.4249, 27.7364,   1.6133, 2, 9, 0.47, 0.14, 0.01, 0.017,  -999.00, 9, -999.00, -999.00, 9, -999.00
49NZ20071008, P14N, 68, 1, 14, X12020, 2, 20071108, 0328, 28.4850, 178.9968, 5401,   2868.9, 2,   1.5634, 2,  34.6602, 2,  34.6607, 2,    121.9, 2,    122.7, 2,   155.60, 2,    38.11, 2,     0.01, 2,     2.68, 2,    0.000, 2,    0.000, 2,    0.000, 2, -999.000, 9,   -999.0, 9,   -999.0, 9, -999.0000,   -999.00,   -999.0, 9,   -999.0,  -999.00, 9,   -999.0,   1.3577, 27.7477,   1.5633, 2, 9, 0.46, 0.14, 0.01, 0.017,  -999.00, 1, -999.00, -999.00, 9, -999.00
49NZ20071008, P14N, 68, 1, 13, X12019, 2, 20071108, 0328, 28.4850, 178.9968, 5401,   3080.1, 2,   1.5261, 2,  34.6672, 2,  34.6674, 2,    130.0, 2,    130.5, 2,   153.30, 2,    37.53, 2,     0.01, 2,     2.64, 2, -999.000, 9, -999.000, 9, -999.000, 9, -999.000, 9,   -999.0, 9,   -999.0, 9, -999.0000,   -999.00,   -999.0, 9,   -999.0,  -999.00, 9,   -999.0,   1.3011, 27.7573,   1.5259, 2, 9, 0.46, 0.14, 0.01, 0.017,  -999.00, 1, -999.00, -999.00, 9, -999.00
49NZ20071008, P14N, 68, 1, 12, X12040, 2, 20071108, 0328, 28.4850, 178.9968, 5401,   3329.3, 2,   1.4903, 2,  34.6731, 2,  34.6736, 2,    136.3, 2,    136.2, 2,   152.84, 2,    37.04, 2,     0.01, 2,     2.61, 2, -999.000, 9, -999.000, 9, -999.000, 9, -999.000, 9,   -999.0, 9,   -999.0, 9, -999.0000,   -999.00,   -999.0, 9,   -999.0,  -999.00, 9,   -999.0,   1.2417, 27.7662,   1.4902, 2, 9, 0.46, 0.14, 0.01, 0.016,  -999.00, 1, -999.00, -999.00, 9, -999.00
49NZ20071008, P14N, 68, 1, 11, X12047, 2, 20071108, 0328, 28.4850, 178.9968, 5401,   3581.3, 2,   1.4722, 2,  34.6780, 2,  34.6780, 2,    141.9, 2,    142.1, 2,   150.92, 2,    36.72, 2,     0.01, 2,     2.58, 2,    0.000, 2,    0.000, 2,    0.000, 2, -999.000, 9,   -999.0, 9,   -999.0, 9, -999.0000,   -999.00,   -999.0, 9,   -999.0,  -999.00, 9,   -999.0,   1.1985, 27.7732,   1.4721, 2, 9, 0.45, 0.14, 0.01, 0.016,  -999.00, 9, -999.00, -999.00, 9, -999.00
49NZ20071008, P14N, 68, 1, 10, X12017, 2, 20071108, 0328, 28.4850, 178.9968, 5401,   3831.6, 2,   1.4622, 2,  34.6817, 2,  34.6818, 2,    146.5, 2,    146.7, 2,   149.79, 2,    36.42, 2,     0.01, 2,     2.56, 2, -999.000, 9, -999.000, 9, -999.000, 9, -999.000, 9,   -999.0, 9,   -999.0, 9, -999.0000,   -999.00,   -999.0, 9,   -999.0,  -999.00, 9,   -999.0,   1.1625, 27.7786,   1.4621, 2, 9, 0.45, 0.13, 0.01, 0.016,  -999.00, 1, -999.00, -999.00, 9, -999.00
49NZ20071008, P14N, 68, 1, 9, X12015, 2, 20071108, 0328, 28.4850, 178.9968, 5401,   4078.5, 2,   1.4592, 2,  34.6846, 2,  34.6848, 6,    150.4, 2,    150.5, 2,   148.84, 2,    36.16, 2,     0.01, 2,     2.54, 2, -999.000, 9, -999.000, 9, -999.000, 9, -999.000, 9,   -999.0, 9,   -999.0, 9, -999.0000,   -999.00,   -999.0, 9,   -999.0,  -999.00, 9,   -999.0,   1.1329, 27.7830,   1.4591, 2, 9, 0.45, 0.13, 0.01, 0.016,  -999.00, 1, -999.00, -999.00, 9, -999.00
49NZ20071008, P14N, 68, 1, 8, X12046, 2, 20071108, 0328, 28.4850, 178.9968, 5401,   4331.5, 2,   1.4621, 2,  34.6872, 2,  34.6873, 2,    154.3, 2,    154.3, 2,   147.02, 2,    35.93, 2,     0.01, 2,     2.52, 2,    0.000, 2,    0.000, 2,    0.000, 2, -999.000, 9,   -999.0, 9,   -999.0, 9, -999.0000,   -999.00,   -999.0, 9,   -999.0,  -999.00, 9,   -999.0,   1.1075, 27.7868,   1.4620, 2, 9, 0.44, 0.13, 0.01, 0.016,  -999.00, 1, -999.00, -999.00, 9, -999.00
49NZ20071008, P14N, 68, 1, 7, X12044, 2, 20071108, 0328, 28.4850, 178.9968, 5401,   4580.2, 2,   1.4661, 2,  34.6894, 2,  34.6895, 2,    158.5, 2,    158.6, 2,   143.80, 2,    35.63, 2,     0.01, 2,     2.50, 2, -999.000, 9, -999.000, 9, -999.000, 9, -999.000, 9,   -999.0, 9,   -999.0, 9, -999.0000,   -999.00,   -999.0, 9,   -999.0,  -999.00, 9,   -999.0,   1.0829, 27.7902,   1.4661, 2, 9, 0.44, 0.13, 0.01, 0.016,  -999.00, 9, -999.00, -999.00, 9, -999.00
49NZ20071008, P14N, 68, 1, 6, X12048, 2, 20071108, 0328, 28.4850, 178.9968, 5401,   4831.2, 2,   1.4718, 2,  34.6918, 2,  34.6919, 2,    162.0, 2,    162.2, 2,   141.43, 2,    35.30, 2,     0.01, 2,     2.47, 2, -999.000, 9, -999.000, 9, -999.000, 9, -999.000, 9,   -999.0, 9,   -999.0, 9, -999.0000,   -999.00,   -999.0, 9,   -999.0,  -999.00, 9,   -999.0,   1.0588, 27.7937,   1.4717, 2, 9, 0.43, 0.13, 0.01, 0.016,  -999.00, 9, -999.00, -999.00, 9, -999.00
49NZ20071008, P14N, 68, 1, 5, X12014, 2, 20071108, 0328, 28.4850, 178.9968, 5401,   5079.9, 2,   1.4748, 2,  34.6939, 2,  34.6947, 2,    167.5, 2,    167.1, 2,   137.50, 2,    34.99, 2,     0.01, 2,     2.45, 2,    0.006, 3,    0.007, 3,    0.000, 2, -999.000, 9,   -999.0, 9,   -999.0, 9, -999.0000,   -999.00,   -999.0, 9,   -999.0,  -999.00, 9,   -999.0,   1.0316, 27.7972,   1.4747, 2, 9, 0.42, 0.13, 0.01, 0.016,  -999.00, 1, -999.00, -999.00, 9, -999.00
49NZ20071008, P14N, 68, 1, 4, X12006, 2, 20071108, 0328, 28.4850, 178.9968, 5401,   5329.5, 2,   1.4759, 2,  34.6964, 2,  34.6967, 2,    172.8, 2,    172.5, 2,   133.07, 2,    34.57, 2,     0.01, 2,     2.42, 2, -999.000, 9, -999.000, 9, -999.000, 9, -999.000, 9,   -999.0, 9,   -999.0, 9, -999.0000,   -999.00,   -999.0, 9,   -999.0,  -999.00, 9,   -999.0,   1.0017, 27.8013,   1.4759, 2, 9, 0.41, 0.13, 0.01, 0.016,  -999.00, 9, -999.00, -999.00, 9, -999.00
49NZ20071008, P14N, 68, 1, 3, X12013, 2, 20071108, 0328, 28.4850, 178.9968, 5401,   5079.6, 2,   1.4749, 2,  34.6940, 2, -999.0000, 9,    167.5, 2,   -999.0, 9,  -999.00, 9,  -999.00, 9,  -999.00, 9,  -999.00, 9, -999.000, 9, -999.000, 9, -999.000, 9, -999.000, 9,   -999.0, 9,   -999.0, 9, -999.0000,   -999.00,   -999.0, 9,   -999.0,  -999.00, 9,   -999.0,   1.0318, 27.7973,   1.4748, 2, 9, -999.00, -999.00, -999.00, -999.000,  -999.00, 1, -999.00, -999.00, 9, -999.00
49NZ20071008, P14N, 68, 1, 2, X12002, 2, 20071108, 0328, 28.4850, 178.9968, 5401,   5486.1, 2,   1.4912, 2,  34.6967, 2, -999.0000, 9,    173.8, 2,   -999.0, 9,  -999.00, 9,  -999.00, 9,  -999.00, 9,  -999.00, 9, -999.000, 9, -999.000, 9, -999.000, 9, -999.000, 9,   -999.0, 9,   -999.0, 9, -999.0000,   -999.00,   -999.0, 9,   -999.0,  -999.00, 9,   -999.0,   0.9967, 27.8019,   1.4911, 2, 9, -999.00, -999.00, -999.00, -999.000,  -999.00, 1, -999.00, -999.00, 9, -999.00
49NZ20071008, P14N, 68, 1, 1, X12001, 2, 20071108, 0328, 28.4850, 178.9968, 5401,   5485.5, 2,   1.4912, 2,  34.6967, 2,  34.6971, 6,    173.8, 2,    173.5, 2,   132.54, 2,    34.53, 2,     0.01, 2,     2.42, 2,    0.000, 2,    0.000, 2,    0.000, 2, -999.000, 9,   -999.0, 9,   -999.0, 9, -999.0000,   -999.00,   -999.0, 9,   -999.0,  -999.00, 9,   -999.0,   0.9968, 27.8018,   1.4912, 2, 9, 0.41, 0.13, 0.01, 0.016,  -999.00, 1, -999.00, -999.00, 9, -999.00