BOTTLE,20221005CCHSIOAMB
EXPOCODE,SECT_ID,STNNBR,CASTNO,SAMPNO,BTLNBR,BTLNBR_FLAG_W,DATE,TIME,LATITUDE,LONGITUDE,DEPTH,CTDPRS,CTDPRS_FLAG_W,CTDTMP,CTDTMP_FLAG_W,CTDSAL,CTDSAL_FLAG_W,SALNTY,SALNTY_FLAG_W,CTDOXY,CTDOXY_FLAG_W,OXYGEN,OXYGEN_FLAG_W,SILCAT,SILCAT_FLAG_W,NITRAT,NITRAT_FLAG_W,NITRIT,NITRIT_FLAG_W,PHSPHT,PHSPHT_FLAG_W,CFC-11,CFC-11_FLAG_W,CFC-12,CFC-12_FLAG_W,CFC113,CFC113_FLAG_W,CCL4,CCL4_FLAG_W,TCARBN,TCARBN_FLAG_W,ALKALI,ALKALI_FLAG_W,PH_TOT,PH_TMP,DELC14,DELC14_FLAG_W,C14ERR,DELC13,DELC13_FLAG_W,C13ERR,THETA,SIG0,SBE35,SBE35_FLAG_W,PH_TOT_FLAG_W,SILUNC,NRAUNC,NRIUNC,PHPUNC,CS-137,CS-137_FLAG_W,CS137ER,PLUTO,PLUTO_FLAG_W,PLUTOER
,,,,,,,,,,,METERS,DBAR,,ITS-90,,PSS-78,,PSS-78,,UMOL/KG,,UMOL/KG,,UMOL/KG,,UMOL/KG,,UMOL/KG,,UMOL/KG,,PMOL/KG,,PMOL/KG,,PMOL/KG,,PMOL/KG,,UMOL/KG,,UMOL/KG,,,DEG C,/MILLE,,/MILLE,/MILLE,,/MILLE,DEG C,KG/M^3,ITS-90,,,UMOL/KG,UMOL/KG,UMOL/KG,UMOL/KG,DM/.1MG,,BQ/M^3,MBQ/M^3,,MBQ/M^3
49NZ20071008, P14N, 6, 1, 36, X12042, 2, 20071026, 0012, 56.4953, -176.0940, 3676,     10.2, 2,   5.1973, 2,  32.6499, 2,  32.6496, 2,    303.4, 2,    305.0, 2,    30.69, 2,    13.86, 2,     0.20, 2,     1.37, 2, -999.000, 9, -999.000, 9, -999.000, 9, -999.000, 9,   -999.0, 9,   -999.0, 9, -999.0000,   -999.00,   -999.0, 9,   -999.0,  -999.00, 9,   -999.0,   5.1965, 25.7904,   5.1981, 2, 9, 0.19, 0.07, 0.01, 0.014,  -999.00, 9, -999.00, -999.00, 9, -999.00
49NZ20071008, P14N, 6, 1, 35, X12041, 2, 20071026, 0012, 56.4953, -176.0940, 3676,     50.6, 2,   3.4443, 2,  33.0324, 2,  33.0317, 2,    256.8, 2,    255.1, 2,    51.55, 2,    28.46, 2,     0.03, 2,     2.21, 2, -999.000, 9, -999.000, 9, -999.000, 9, -999.000, 9,   -999.0, 9,   -999.0, 9, -999.0000,   -999.00,   -999.0, 9,   -999.0,  -999.00, 9,   -999.0,   3.4412, 26.2748,   3.4481, 2, 9, 0.23, 0.11, 0.01, 0.016,  -999.00, 9, -999.00, -999.00, 9, -999.00
49NZ20071008, P14N, 6, 1, 34, X12016, 2, 20071026, 0012, 56.4953, -176.0940, 3676,    100.8, 2,   3.3419, 2,  33.1772, 2,  33.1797, 2,    253.7, 2,    258.0, 2,    56.71, 2,    30.03, 2,     0.02, 2,     2.30, 2, -999.000, 9, -999.000, 9, -999.000, 9, -999.000, 9,   -999.0, 9,   -999.0, 9, -999.0000,   -999.00,   -999.0, 9,   -999.0,  -999.00, 9,   -999.0,   3.3357, 26.4000,   3.3417, 2, 9, 0.24, 0.12, 0.01, 0.016,  -999.00, 1, -999.00, -999.00, 9, -999.00
49NZ20071008, P14N, 6, 1, 33, X12033, 2, 20071026, 0012, 56.4953, -176.0940, 3676,    150.1, 2,   2.8408, 2,  33.2000, 2,  33.2018, 2,    283.8, 2,    288.4, 2,    55.29, 2,    29.49, 2,     0.02, 2,     2.27, 2, -999.000, 9, -999.000, 9, -999.000, 9, -999.000, 9,   -999.0, 9,   -999.0, 9, -999.0000,   -999.00,   -999.0, 9,   -999.0,  -999.00, 9,   -999.0,   2.8322, 26.4628,   2.8405, 2, 9, 0.24, 0.12, 0.01, 0.016,  -999.00, 9, -999.00, -999.00, 9, -999.00
49NZ20071008, P14N, 6, 1, 32, X12038, 2, 20071026, 0012, 56.4953, -176.0940, 3676,    200.5, 2,   3.3770, 2,  33.3290, 2,  33.3288, 2,    238.7, 2,    224.5, 2,    63.82, 2,    32.28, 2,     0.02, 2,     2.44, 2, -999.000, 9, -999.000, 9, -999.000, 9, -999.000, 9,   -999.0, 9,   -999.0, 9, -999.0000,   -999.00,   -999.0, 9,   -999.0,  -999.00, 9,   -999.0,   3.3645, 26.5183,   3.3759, 2, 9, 0.26, 0.12, 0.01, 0.016,  -999.00, 1, -999.00, -999.00, 9, -999.00
49NZ20071008, P14N, 6, 1, 31, X12003, 2, 20071026, 0012, 56.4953, -176.0940, 3676,    248.7, 2,   3.7759, 2,  33.4767, 2,  33.4761, 6,    172.0, 2,    168.4, 2,    72.93, 2,    35.00, 2,     0.01, 2,     2.59, 2, -999.000, 9, -999.000, 9, -999.000, 9, -999.000, 9,   -999.0, 9,   -999.0, 9, -999.0000,   -999.00,   -999.0, 9,   -999.0,  -999.00, 9,   -999.0,   3.7594, 26.5984,   3.7769, 2, 9, 0.28, 0.13, 0.01, 0.016,  -999.00, 9, -999.00, -999.00, 9, -999.00
49NZ20071008, P14N, 6, 1, 30, X12008, 2, 20071026, 0012, 56.4953, -176.0940, 3676,    283.1, 2,   3.8909, 2,  33.5696, 2,  33.5629, 2,    140.5, 2,    142.8, 2,    78.24, 2,    36.36, 2,     0.01, 2,     2.67, 2, -999.000, 9, -999.000, 9, -999.000, 9, -999.000, 9,   -999.0, 9,   -999.0, 9, -999.0000,   -999.00,   -999.0, 9,   -999.0,  -999.00, 9,   -999.0,   3.8717, 26.6612,   3.8910, 2, 9, 0.29, 0.13, 0.01, 0.017,  -999.00, 9, -999.00, -999.00, 9, -999.00
49NZ20071008, P14N, 6, 1, 29, X12035, 2, 20071026, 0012, 56.4953, -176.0940, 3676,    370.4, 2,   3.9174, 2,  33.7927, 2,  33.7929, 2,     79.9, 2,     79.0, 2,    91.35, 2,    40.98, 2,     0.01, 2,     2.95, 2, -999.000, 9, -999.000, 9, -999.000, 9, -999.000, 9,   -999.0, 9,   -999.0, 9, -999.0000,   -999.00,   -999.0, 9,   -999.0,  -999.00, 9,   -999.0,   3.8918, 26.8367,   3.9172, 2, 9, 0.32, 0.15, 0.01, 0.017,  -999.00, 1, -999.00, -999.00, 9, -999.00
49NZ20071008, P14N, 6, 1, 28, X12034, 2, 20071026, 0012, 56.4953, -176.0940, 3676,    471.5, 2,   3.7607, 2,  33.9808, 2,  33.9796, 6,     42.5, 2,     36.9, 2,   104.06, 2,    43.75, 2,     0.01, 2,     3.12, 2, -999.000, 9, -999.000, 9, -999.000, 9, -999.000, 9,   -999.0, 9,   -999.0, 9, -999.0000,   -999.00,   -999.0, 9,   -999.0,  -999.00, 9,   -999.0,   3.7282, 27.0027,   3.7607, 2, 9, 0.35, 0.16, 0.01, 0.018,  -999.00, 9, -999.00, -999.00, 9, -999.00
49NZ20071008, P14N, 6, 1, 27, X12049, 2, 20071026, 0012, 56.4953, -176.0940, 3676,    570.6, 2,   3.5265, 2,  34.0927, 2,  34.0931, 2,     30.7, 2,     30.5, 2,   116.97, 2,    43.77, 2,     0.01, 2,     3.12, 2, -999.000, 9, -999.000, 9, -999.000, 9, -999.000, 9,   -999.0, 9,   -999.0, 9, -999.0000,   -999.00,   -999.0, 9,   -999.0,  -999.00, 9,   -999.0,   3.4877, 27.1153,   3.5264, 2, 9, 0.38, 0.16, 0.01, 0.018,  -999.00, 1, -999.00, -999.00, 9, -999.00
49NZ20071008, P14N, 6, 1, 26, X12032, 2, 20071026, 0012, 56.4953, -176.0940, 3676,    670.9, 2,   3.4359, 2,  34.1787, 2,  34.1777, 2,     18.0, 2,     18.2, 2,   122.70, 2,    44.47, 2,     0.01, 2,     3.16, 2, -999.000, 9, -999.000, 9, -999.000, 9, -999.000, 9,   -999.0, 9,   -999.0, 9, -999.0000,   -999.00,   -999.0, 9,   -999.0,  -999.00, 9,   -999.0,   3.3902, 27.1932,   3.4354, 2, 9, 0.39, 0.16, 0.01, 0.018,  -999.00, 9, -999.00, -999.00, 9, -999.00
49NZ20071008, P14N, 6, 1, 25, X12043, 2, 20071026, 0012, 56.4953, -176.0940, 3676,    771.1, 2,   3.2729, 2,  34.2359, 2,  34.2361, 2,     15.9, 2,     15.8, 2,   129.75, 2,    44.51, 2,     0.01, 2,     3.19, 2, -999.000, 9, -999.000, 9, -999.000, 9, -999.000, 9,   -999.0, 9,   -999.0, 9, -999.0000,   -999.00,   -999.0, 9,   -999.0,  -999.00, 9,   -999.0,   3.2206, 27.2548,   3.2730, 2, 9, 0.40, 0.16, 0.01, 0.018,  -999.00, 1, -999.00, -999.00, 9, -999.00
49NZ20071008, P14N, 6, 1, 24, X12030, 2, 20071026, 0012, 56.4953, -176.0940, 3676,    871.4, 2,   3.1189, 2,  34.2840, 2,  34.2834, 2,     15.2, 2,     15.9, 2,   135.84, 2,    44.33, 2,     0.01, 2,     3.17, 2, -999.000, 9, -999.000, 9, -999.000, 9, -999.000, 9,   -999.0, 9,   -999.0, 9, -999.0000,   -999.00,   -999.0, 9,   -999.0,  -999.00, 9,   -999.0,   3.0601, 27.3081,   3.1188, 2, 9, 0.42, 0.16, 0.01, 0.018,  -999.00, 9, -999.00, -999.00, 9, -999.00
49NZ20071008, P14N, 6, 1, 23, X12027, 2, 20071026, 0012, 56.4953, -176.0940, 3676,    972.0, 2,   2.9421, 2,  34.3310, 2,  34.3301, 6,     15.6, 2,     15.4, 2,   143.22, 2,    44.48, 2,     0.01, 2,     3.17, 2, -999.000, 9, -999.000, 9, -999.000, 9, -999.000, 9,   -999.0, 9,   -999.0, 9, -999.0000,   -999.00,   -999.0, 9,   -999.0,  -999.00, 9,   -999.0,   2.8770, 27.3621,   2.9423, 2, 9, 0.43, 0.16, 0.01, 0.018,  -999.00, 1, -999.00, -999.00, 9, -999.00
49NZ20071008, P14N, 6, 1, 22, X12028, 2, 20071026, 0012, 56.4953, -176.0940, 3676,   1131.8, 2,   2.6666, 2,  34.3928, 2,  34.3937, 2,     19.3, 2,     20.1, 2,   156.87, 2,    44.07, 2,     0.01, 2,     3.16, 2, -999.000, 9, -999.000, 9, -999.000, 9, -999.000, 9,   -999.0, 9,   -999.0, 9, -999.0000,   -999.00,   -999.0, 9,   -999.0,  -999.00, 9,   -999.0,   2.5917, 27.4365,   2.6665, 2, 9, 0.46, 0.16, 0.01, 0.018,  -999.00, 9, -999.00, -999.00, 9, -999.00
49NZ20071008, P14N, 6, 1, 21, X12009, 2, 20071026, 0012, 56.4953, -176.0940, 3676,   1333.7, 2,   2.4137, 2,  34.4601, 2,  34.4599, 2,     22.8, 2,     23.1, 2,   167.65, 2,    43.96, 2,     0.01, 2,     3.18, 2, -999.000, 9, -999.000, 9, -999.000, 9, -999.000, 9,   -999.0, 9,   -999.0, 9, -999.0000,   -999.00,   -999.0, 9,   -999.0,  -999.00, 9,   -999.0,   2.3258, 27.5128,   2.4138, 2, 9, 0.49, 0.16, 0.01, 0.018,  -999.00, 9, -999.00, -999.00, 9, -999.00
49NZ20071008, P14N, 6, 1, 20, X12026, 2, 20071026, 0012, 56.4953, -176.0940, 3676,   1531.5, 2,   2.2162, 2,  34.5085, 2,  34.5084, 2,     28.9, 2,     29.5, 2,   177.03, 2,    43.28, 2,     0.01, 2,     3.14, 2, -999.000, 9, -999.000, 9, -999.000, 9, -999.000, 9,   -999.0, 9,   -999.0, 9, -999.0000,   -999.00,   -999.0, 9,   -999.0,  -999.00, 9,   -999.0,   2.1151, 27.5687,   2.2162, 2, 9, 0.51, 0.15, 0.01, 0.018,  -999.00, 9, -999.00, -999.00, 9, -999.00
49NZ20071008, P14N, 6, 1, 19, X12025, 2, 20071026, 0012, 56.4953, -176.0940, 3676,   1732.7, 2,   2.0552, 2,  34.5451, 2,  34.5454, 2,     37.6, 2,     38.4, 2,   186.59, 2,    42.48, 2,     0.01, 2,     3.11, 2, -999.000, 9, -999.000, 9, -999.000, 9, -999.000, 9,   -999.0, 9,   -999.0, 9, -999.0000,   -999.00,   -999.0, 9,   -999.0,  -999.00, 9,   -999.0,   1.9402, 27.6120,   2.0552, 2, 9, 0.53, 0.15, 0.01, 0.018,  -999.00, 9, -999.00, -999.00, 9, -999.00
49NZ20071008, P14N, 6, 1, 18, X12024, 2, 20071026, 0012, 56.4953, -176.0940, 3676,   1933.2, 2,   1.9279, 2,  34.5744, 2,  34.5746, 6,     46.3, 2,     47.2, 2,   194.30, 2,    41.90, 2,     0.01, 2,     3.10, 2, -999.000, 9, -999.000, 9, -999.000, 9, -999.000, 9,   -999.0, 9,   -999.0, 9, -999.0000,   -999.00,   -999.0, 9,   -999.0,  -999.00, 9,   -999.0,   1.7983, 27.6464,   1.9278, 2, 9, 0.55, 0.15, 0.01, 0.018,  -999.00, 1, -999.00, -999.00, 9, -999.00
49NZ20071008, P14N, 6, 1, 17, X12023, 2, 20071026, 0012, 56.4953, -176.0940, 3676,   2131.1, 2,   1.8289, 2,  34.5975, 2,  34.5977, 2,     55.0, 2,     56.1, 2,   200.08, 2,    41.20, 2,     0.01, 2,     3.06, 2, -999.000, 9, -999.000, 9, -999.000, 9, -999.000, 9,   -999.0, 9,   -999.0, 9, -999.0000,   -999.00,   -999.0, 9,   -999.0,  -999.00, 9,   -999.0,   1.6842, 27.6735,   1.8290, 2, 9, 0.56, 0.15, 0.01, 0.018,  -999.00, 9, -999.00, -999.00, 9, -999.00
49NZ20071008, P14N, 6, 1, 16, X12022, 2, 20071026, 0012, 56.4953, -176.0940, 3676,   2330.6, 2,   1.7509, 2,  34.6161, 2,  34.6162, 2,     63.6, 2,     64.7, 2,   204.54, 2,    40.55, 2,     0.01, 2,     3.03, 2, -999.000, 9, -999.000, 9, -999.000, 9, -999.000, 9,   -999.0, 9,   -999.0, 9, -999.0000,   -999.00,   -999.0, 9,   -999.0,  -999.00, 9,   -999.0,   1.5904, 27.6955,   1.7510, 2, 9, 0.57, 0.15, 0.01, 0.018,  -999.00, 9, -999.00, -999.00, 9, -999.00
49NZ20071008, P14N, 6, 1, 15, X12021, 2, 20071026, 0012, 56.4953, -176.0940, 3676,   2528.0, 2,   1.6952, 2,  34.6300, 2,  34.6301, 2,     71.6, 2,     71.8, 2,   206.99, 2,    39.77, 2,     0.01, 2,     3.01, 2, -999.000, 9, -999.000, 9, -999.000, 9, -999.000, 9,   -999.0, 9,   -999.0, 9, -999.0000,   -999.00,   -999.0, 9,   -999.0,  -999.00, 9,   -999.0,   1.5182, 27.7119,   1.6953, 2, 9, 0.57, 0.14, 0.01, 0.017,  -999.00, 9, -999.00, -999.00, 9, -999.00
49NZ20071008, P14N, 6, 1, 14, X12020, 2, 20071026, 0012, 56.4953, -176.0940, 3676,   2729.7, 2,   1.6484, 2,  34.6417, 2,  34.6422, 6,     79.2, 2,     79.5, 2,   209.29, 2,    39.29, 2,     0.01, 2,     2.97, 2, -999.000, 9, -999.000, 9, -999.000, 9, -999.000, 9,   -999.0, 9,   -999.0, 9, -999.0000,   -999.00,   -999.0, 9,   -999.0,  -999.00, 9,   -999.0,   1.4539, 27.7260,   1.6485, 2, 9, 0.58, 0.14, 0.01, 0.017,  -999.00, 9, -999.00, -999.00, 9, -999.00
49NZ20071008, P14N, 6, 1, 13, X12019, 2, 20071026, 0012, 56.4953, -176.0940, 3676,   2928.9, 2,   1.6179, 2,  34.6504, 2,  34.6507, 2,     85.3, 2,     85.4, 2,   211.65, 2,    38.86, 2,     0.01, 2,     2.95, 2, -999.000, 9, -999.000, 9, -999.000, 9, -999.000, 9,   -999.0, 9,   -999.0, 9, -999.0000,   -999.00,   -999.0, 9,   -999.0,  -999.00, 9,   -999.0,   1.4054, 27.7364,   1.6180, 2, 9, 0.58, 0.14, 0.01, 0.017,  -999.00, 1, -999.00, -999.00, 9, -999.00
49NZ20071008, P14N, 6, 1, 12, X12040, 2, 20071026, 0012, 56.4953, -176.0940, 3676,   3169.6, 2,   1.5968, 2,  34.6580, 2,  34.6584, 2,     90.8, 2,     90.7, 2,   213.82, 2,    38.32, 2,     0.01, 2,     2.93, 2, -999.000, 9, -999.000, 9, -999.000, 9, -999.000, 9,   -999.0, 9,   -999.0, 9, -999.0000,   -999.00,   -999.0, 9,   -999.0,  -999.00, 9,   -999.0,   1.3615, 27.7457,   1.5968, 2, 9, 0.59, 0.14, 0.01, 0.017,  -999.00, 9, -999.00, -999.00, 9, -999.00
49NZ20071008, P14N, 6, 1, 11, X12047, 2, 20071026, 0012, 56.4953, -176.0940, 3676,   3419.6, 2,   1.5893, 2,  34.6635, 2,  34.6640, 2,     94.6, 2,     94.4, 2,   217.49, 2,    38.03, 2,     0.01, 2,     2.92, 2, -999.000, 9, -999.000, 9, -999.000, 9, -999.000, 9,   -999.0, 9,   -999.0, 9, -999.0000,   -999.00,   -999.0, 9,   -999.0,  -999.00, 9,   -999.0,   1.3292, 27.7524,   1.5892, 2, 9, 0.60, 0.14, 0.01, 0.017,  -999.00, 9, -999.00, -999.00, 9, -999.00
49NZ20071008, P14N, 6, 1, 10, X12017, 2, 20071026, 0012, 56.4953, -176.0940, 3676,   3669.9, 2,   1.5906, 2,  34.6695, 2,  34.6699, 2,     97.0, 2,     96.7, 2,   234.49, 2,    37.83, 2,     0.01, 2,     2.91, 2, -999.000, 9, -999.000, 9, -999.000, 9, -999.000, 9,   -999.0, 9,   -999.0, 9, -999.0000,   -999.00,   -999.0, 9,   -999.0,  -999.00, 9,   -999.0,   1.3046, 27.7589,   1.5905, 2, 9, 0.63, 0.14, 0.01, 0.017,  -999.00, 9, -999.00, -999.00, 9, -999.00
49NZ20071008, P14N, 6, 1, 9, X12015, 2, 20071026, 0012, 56.4953, -176.0940, 3676,   2928.3, 2,   1.6177, 2,  34.6507, 2, -999.0000, 9,     85.3, 2,   -999.0, 9,  -999.00, 9,  -999.00, 9,  -999.00, 9,  -999.00, 9, -999.000, 9, -999.000, 9, -999.000, 9, -999.000, 9,   -999.0, 9,   -999.0, 9, -999.0000,   -999.00,   -999.0, 9,   -999.0,  -999.00, 9,   -999.0,   1.4053, 27.7367,   1.6179, 2, 9, -999.00, -999.00, -999.00, -999.000,  -999.00, 1, -999.00, -999.00, 9, -999.00
49NZ20071008, P14N, 6, 1, 8, X12046, 2, 20071026, 0012, 56.4953, -176.0940, 3676,   3727.3, 2,   1.5970, 2,  34.6695, 2, -999.0000, 9,     96.9, 2,   -999.0, 9,  -999.00, 9,  -999.00, 9,  -999.00, 9,  -999.00, 9, -999.000, 9, -999.000, 9, -999.000, 9, -999.000, 9,   -999.0, 9,   -999.0, 9, -999.0000,   -999.00,   -999.0, 9,   -999.0,  -999.00, 9,   -999.0,   1.3048, 27.7589,   1.5968, 2, 9, -999.00, -999.00, -999.00, -999.000,  -999.00, 1, -999.00, -999.00, 9, -999.00
49NZ20071008, P14N, 6, 1, 7, X12044, 2, 20071026, 0012, 56.4953, -176.0940, 3676,   1933.5, 2,   1.9282, 2,  34.5744, 2, -999.0000, 9,     46.3, 2,   -999.0, 9,  -999.00, 9,  -999.00, 9,  -999.00, 9,  -999.00, 9, -999.000, 9, -999.000, 9, -999.000, 9, -999.000, 9,   -999.0, 9,   -999.0, 9, -999.0000,   -999.00,   -999.0, 9,   -999.0,  -999.00, 9,   -999.0,   1.7986, 27.6464,   1.9281, 2, 9, -999.00, -999.00, -999.00, -999.000,  -999.00, 1, -999.00, -999.00, 9, -999.00
49NZ20071008, P14N, 6, 1, 6, X12048, 2, 20071026, 0012, 56.4953, -176.0940, 3676,   2929.1, 2,   1.6176, 2,  34.6505, 2, -999.0000, 9,     85.3, 2,   -999.0, 9,  -999.00, 9,  -999.00, 9,  -999.00, 9,  -999.00, 9, -999.000, 9, -999.000, 9, -999.000, 9, -999.000, 9,   -999.0, 9,   -999.0, 9, -999.0000,   -999.00,   -999.0, 9,   -999.0,  -999.00, 9,   -999.0,   1.4051, 27.7365,   1.6177, 2, 9, -999.00, -999.00, -999.00, -999.000,  -999.00, 1, -999.00, -999.00, 9, -999.00
49NZ20071008, P14N, 6, 1, 5, X12014, 2, 20071026, 0012, 56.4953, -176.0940, 3676,   3727.0, 2,   1.5970, 2,  34.6695, 2, -999.0000, 9,     97.0, 2,   -999.0, 9,  -999.00, 9,  -999.00, 9,  -999.00, 9,  -999.00, 9, -999.000, 9, -999.000, 9, -999.000, 9, -999.000, 9,   -999.0, 9,   -999.0, 9, -999.0000,   -999.00,   -999.0, 9,   -999.0,  -999.00, 9,   -999.0,   1.3048, 27.7589,   1.5968, 2, 9, -999.00, -999.00, -999.00, -999.000,  -999.00, 1, -999.00, -999.00, 9, -999.00
49NZ20071008, P14N, 6, 1, 4, X12006, 2, 20071026, 0012, 56.4953, -176.0940, 3676,   1933.2, 2,   1.9279, 2,  34.5745, 2, -999.0000, 9,     46.3, 2,   -999.0, 9,  -999.00, 9,  -999.00, 9,  -999.00, 9,  -999.00, 9, -999.000, 9, -999.000, 9, -999.000, 9, -999.000, 9,   -999.0, 9,   -999.0, 9, -999.0000,   -999.00,   -999.0, 9,   -999.0,  -999.00, 9,   -999.0,   1.7983, 27.6465,   1.9279, 2, 9, -999.00, -999.00, -999.00, -999.000,  -999.00, 1, -999.00, -999.00, 9, -999.00
49NZ20071008, P14N, 6, 1, 3, X12013, 2, 20071026, 0012, 56.4953, -176.0940, 3676,   2928.6, 2,   1.6178, 2,  34.6504, 2, -999.0000, 9,     85.3, 2,   -999.0, 9,  -999.00, 9,  -999.00, 9,  -999.00, 9,  -999.00, 9, -999.000, 9, -999.000, 9, -999.000, 9, -999.000, 9,   -999.0, 9,   -999.0, 9, -999.0000,   -999.00,   -999.0, 9,   -999.0,  -999.00, 9,   -999.0,   1.4053, 27.7364,   1.6178, 2, 9, -999.00, -999.00, -999.00, -999.000,  -999.00, 1, -999.00, -999.00, 9, -999.00
49NZ20071008, P14N, 6, 1, 2, X12002, 2, 20071026, 0012, 56.4953, -176.0940, 3676,   3726.4, 2,   1.5970, 2,  34.6694, 2, -999.0000, 9,     97.0, 2,   -999.0, 9,  -999.00, 9,  -999.00, 9,  -999.00, 9,  -999.00, 9, -999.000, 9, -999.000, 9, -999.000, 9, -999.000, 9,   -999.0, 9,   -999.0, 9, -999.0000,   -999.00,   -999.0, 9,   -999.0,  -999.00, 9,   -999.0,   1.3049, 27.7588,   1.5968, 2, 9, -999.00, -999.00, -999.00, -999.000,  -999.00, 1, -999.00, -999.00, 9, -999.00
49NZ20071008, P14N, 6, 1, 1, X12001, 2, 20071026, 0012, 56.4953, -176.0940, 3676,   3726.6, 2,   1.5969, 2,  34.6695, 2,  34.6700, 6,     96.9, 2,     96.5, 2,   234.49, 2,    37.90, 2,     0.01, 2,     2.93, 2, -999.000, 9, -999.000, 9, -999.000, 9, -999.000, 9,   -999.0, 9,   -999.0, 9, -999.0000,   -999.00,   -999.0, 9,   -999.0,  -999.00, 9,   -999.0,   1.3048, 27.7589,   1.5968, 2, 9, 0.63, 0.14, 0.01, 0.017,  -999.00, 1, -999.00, -999.00, 9, -999.00