BOTTLE,20221005CCHSIOAMB
EXPOCODE,SECT_ID,STNNBR,CASTNO,SAMPNO,BTLNBR,BTLNBR_FLAG_W,DATE,TIME,LATITUDE,LONGITUDE,DEPTH,CTDPRS,CTDPRS_FLAG_W,CTDTMP,CTDTMP_FLAG_W,CTDSAL,CTDSAL_FLAG_W,SALNTY,SALNTY_FLAG_W,CTDOXY,CTDOXY_FLAG_W,OXYGEN,OXYGEN_FLAG_W,SILCAT,SILCAT_FLAG_W,NITRAT,NITRAT_FLAG_W,NITRIT,NITRIT_FLAG_W,PHSPHT,PHSPHT_FLAG_W,CFC-11,CFC-11_FLAG_W,CFC-12,CFC-12_FLAG_W,CFC113,CFC113_FLAG_W,CCL4,CCL4_FLAG_W,TCARBN,TCARBN_FLAG_W,ALKALI,ALKALI_FLAG_W,PH_TOT,PH_TMP,DELC14,DELC14_FLAG_W,C14ERR,DELC13,DELC13_FLAG_W,C13ERR,THETA,SIG0,SBE35,SBE35_FLAG_W,PH_TOT_FLAG_W,SILUNC,NRAUNC,NRIUNC,PHPUNC,CS-137,CS-137_FLAG_W,CS137ER,PLUTO,PLUTO_FLAG_W,PLUTOER
,,,,,,,,,,,METERS,DBAR,,ITS-90,,PSS-78,,PSS-78,,UMOL/KG,,UMOL/KG,,UMOL/KG,,UMOL/KG,,UMOL/KG,,UMOL/KG,,PMOL/KG,,PMOL/KG,,PMOL/KG,,PMOL/KG,,UMOL/KG,,UMOL/KG,,,DEG C,/MILLE,,/MILLE,/MILLE,,/MILLE,DEG C,KG/M^3,ITS-90,,,UMOL/KG,UMOL/KG,UMOL/KG,UMOL/KG,DM/.1MG,,BQ/M^3,MBQ/M^3,,MBQ/M^3
49NZ20071008, P14N, 92, 1, 36, X12042, 2, 20071115, 0127, 16.5128, 178.9940, 4978,     10.5, 2,  28.0741, 2,  34.6622, 2,  34.6619, 2,    199.2, 2,    198.8, 2,     1.04, 2,     0.05, 2,     0.01, 2,     0.13, 2,    1.507, 2,    0.930, 2,    0.284, 4, -999.000, 9,   1944.9, 2,   2282.9, 2,    8.1170,     25.00,   -999.0, 9,   -999.0,  -999.00, 9,   -999.0,  28.0716, 22.1172,  28.0737, 2, 6, 0.12, 0.03, 0.01, 0.019,  -999.00, 9, -999.00, -999.00, 9, -999.00
49NZ20071008, P14N, 92, 1, 35, X12041, 2, 20071115, 0127, 16.5128, 178.9940, 4978,     50.4, 2,  28.0501, 2,  34.7112, 2,  34.7117, 2,    199.5, 2,    198.9, 2,     0.99, 2,     0.05, 2,     0.01, 2,     0.11, 2,    1.517, 2,    0.943, 2,    0.320, 4, -999.000, 9,   1948.8, 6,   2286.2, 2,    8.1180,     25.00,   -999.0, 9,   -999.0,  -999.00, 9,   -999.0,  28.0382, 22.1650,  28.0491, 2, 2, 0.12, 0.03, 0.01, 0.020,  -999.00, 9, -999.00, -999.00, 9, -999.00
49NZ20071008, P14N, 92, 1, 34, X12016, 2, 20071115, 0127, 16.5128, 178.9940, 4978,    101.0, 2,  25.9595, 2,  35.0697, 2,  35.0679, 2,    206.1, 2,    208.0, 2,     0.87, 2,     0.04, 2,     0.01, 2,     0.11, 2,    1.689, 2,    1.034, 2,    0.555, 4, -999.000, 9,   1978.3, 2,   2310.8, 6,    8.0983,     25.00,   -999.0, 9,   -999.0,  -999.00, 9,   -999.0,  25.9370, 23.1056,  25.9582, 2, 2, 0.12, 0.03, 0.01, 0.021,  -999.00, 9, -999.00, -999.00, 9, -999.00
49NZ20071008, P14N, 92, 1, 33, X12033, 2, 20071115, 0127, 16.5128, 178.9940, 4978,    150.5, 2,  22.4225, 2,  35.1069, 2,  35.1034, 2,    182.7, 2,    184.3, 2,     1.55, 2,     1.35, 2,     0.03, 2,     0.24, 2,    2.000, 6,    1.211, 6,    0.158, 4, -999.000, 9,   2037.9, 2,   2313.5, 2,    8.0084,     25.00,   -999.0, 9,   -999.0,  -999.00, 9,   -999.0,  22.3923, 24.1884,  22.4097, 2, 6, 0.12, 0.04, 0.01, 0.015,  -999.00, 9, -999.00, -999.00, 9, -999.00
49NZ20071008, P14N, 92, 1, 32, X12038, 2, 20071115, 0127, 16.5128, 178.9940, 4978,    201.1, 2,  19.2344, 2,  34.8747, 2,  34.8772, 2,    178.3, 2,    178.1, 2,     3.08, 2,     4.13, 2,     0.02, 2,     0.44, 2,    2.288, 2,    1.345, 2,    0.060, 2, -999.000, 9,   2063.1, 2,   2299.6, 2,    7.9389,     25.00,   -999.0, 9,   -999.0,  -999.00, 9,   -999.0,  19.1982, 24.8747,  19.2338, 2, 2, 0.13, 0.04, 0.01, 0.013,  -999.00, 9, -999.00, -999.00, 9, -999.00
49NZ20071008, P14N, 92, 1, 31, X12003, 2, 20071115, 0127, 16.5128, 178.9940, 4978,    250.7, 2,  16.4827, 2,  34.6140, 2,  34.6191, 6,    178.1, 2,    180.1, 2,     5.53, 2,     6.95, 2,     0.01, 2,     0.61, 2,    2.510, 2,    1.452, 2,    0.040, 2, -999.000, 9,   2072.9, 2,   2282.1, 2,    7.8908,     25.00,   -999.0, 9,   -999.0,  -999.00, 9,   -999.0,  16.4423, 25.3489,  16.4826, 2, 2, 0.13, 0.05, 0.01, 0.013,  -999.00, 9, -999.00, -999.00, 9, -999.00
49NZ20071008, P14N, 92, 1, 30, X12008, 2, 20071115, 0127, 16.5128, 178.9940, 4978,    330.3, 2,  11.5084, 2,  34.2457, 2,  34.2432, 2,    148.1, 2,    150.6, 2,    18.15, 2,    17.92, 2,     0.01, 2,     1.41, 2,    2.552, 2,    1.369, 2,    0.051, 2, -999.000, 9,   2138.4, 2,   2267.1, 2,    7.7141,     25.00,   -999.0, 9,   -999.0,  -999.00, 9,   -999.0,  11.4666, 26.1031,  11.5137, 2, 2, 0.16, 0.08, 0.01, 0.014,  -999.00, 9, -999.00, -999.00, 9, -999.00
49NZ20071008, P14N, 92, 1, 29, X12035, 2, 20071115, 0127, 16.5128, 178.9940, 4978,    431.3, 2,   8.6195, 2,  34.2515, 2,  34.2500, 2,     85.1, 2,     88.3, 2,    39.49, 2,    29.34, 2,     0.01, 2,     2.23, 2,    1.373, 2,    0.676, 2,    0.029, 2, -999.000, 9,   2222.1, 2,   2287.4, 2,    7.5384,     25.00,   -999.0, 9,   -999.0,  -999.00, 9,   -999.0,   8.5737, 26.5989,   8.6211, 2, 2, 0.21, 0.11, 0.01, 0.016,  -999.00, 9, -999.00, -999.00, 9, -999.00
49NZ20071008, P14N, 92, 1, 28, X12034, 2, 20071115, 0127, 16.5128, 178.9940, 4978,    530.5, 2,   6.7398, 2,  34.3043, 2,  34.3037, 6,     52.2, 2,     51.6, 2,    60.57, 2,    36.30, 2,     0.01, 2,     2.70, 2,    0.407, 2,    0.203, 2,    0.010, 2, -999.000, 9,   2276.1, 2,   2310.9, 2,    7.4460,     25.00,   -999.0, 9,   -999.0,  -999.00, 9,   -999.0,   6.6905, 26.9128,   6.7403, 2, 2, 0.25, 0.13, 0.01, 0.017,  -999.00, 9, -999.00, -999.00, 9, -999.00
49NZ20071008, P14N, 92, 1, 27, X12049, 2, 20071115, 0127, 16.5128, 178.9940, 4978,    631.9, 2,   5.9507, 2,  34.4169, 2,  34.4131, 2,     46.3, 2,     46.4, 2,    72.21, 2,    38.99, 2,     0.01, 2,     2.87, 2,    0.099, 2,    0.054, 2,    0.006, 2, -999.000, 9,   2297.1, 2,   2331.0, 2,    7.4391,     25.00,   -999.0, 9,   -999.0,  -999.00, 9,   -999.0,   5.8952, 27.1051,   5.9503, 2, 2, 0.28, 0.14, 0.01, 0.017,  -999.00, 9, -999.00, -999.00, 9, -999.00
49NZ20071008, P14N, 92, 1, 26, X12032, 2, 20071115, 0127, 16.5128, 178.9940, 4978,    731.5, 2,   5.4479, 2,  34.4671, 2,  34.4670, 2,     51.3, 2,     51.3, 2,    79.41, 2,    39.66, 2,     0.01, 2,     2.91, 2,    0.043, 6,    0.024, 6,    0.013, 6, -999.000, 9,   2305.6, 6,   2343.0, 2,    7.4487,     25.00,   -999.0, 9,   -999.0,  -999.00, 9,   -999.0,   5.3859, 27.2074,   5.4479, 2, 2, 0.29, 0.14, 0.01, 0.017,  -999.00, 9, -999.00, -999.00, 9, -999.00
49NZ20071008, P14N, 92, 1, 25, X12043, 2, 20071115, 0127, 16.5128, 178.9940, 4978,    831.2, 2,   5.0411, 2,  34.4936, 2,  34.4930, 2,     54.3, 2,     54.4, 2,    85.97, 2,    40.26, 2,     0.01, 2,     2.93, 2,    0.029, 2,    0.018, 2,    0.009, 2, -999.000, 9,   2312.7, 2,   2352.8, 6,    7.4514,     25.00,   -999.0, 9,   -999.0,  -999.00, 9,   -999.0,   4.9726, 27.2769,   5.0415, 2, 2, 0.31, 0.15, 0.01, 0.017,  -999.00, 9, -999.00, -999.00, 9, -999.00
49NZ20071008, P14N, 92, 1, 24, X12030, 4, 20071115, 0127, 16.5128, 178.9940, 4978,    931.5, 2,   4.5921, 2,  34.5143, 2,  34.4867, 4,     58.3, 2,     53.4, 4,    84.54, 4,    40.03, 4,     0.01, 4,     2.92, 4,    0.030, 4,    0.017, 4,    0.007, 4, -999.000, 9,   2311.5, 4,   2350.6, 4,    7.4490,     25.00,   -999.0, 9,   -999.0,  -999.00, 9,   -999.0,   4.5178, 27.3445,   4.5924, 2, 4, 0.30, 0.14, 0.01, 0.017,  -999.00, 9, -999.00, -999.00, 9, -999.00
49NZ20071008, P14N, 92, 1, 23, X12027, 2, 20071115, 0127, 16.5128, 178.9940, 4978,   1073.0, 2,   4.1170, 2,  34.5338, 2,  34.5336, 6,     62.3, 2,     63.0, 2,   103.27, 2,    40.83, 2,     0.01, 2,     2.96, 2,    0.010, 2,    0.010, 2,    0.000, 2, -999.000, 9,   2329.4, 2,   2372.5, 2,    7.4603,     25.00,   -999.0, 9,   -999.0,  -999.00, 9,   -999.0,   4.0342, 27.4117,   4.1178, 2, 2, 0.35, 0.15, 0.01, 0.017,  -999.00, 9, -999.00, -999.00, 9, -999.00
49NZ20071008, P14N, 92, 1, 22, X12028, 2, 20071115, 0127, 16.5128, 178.9940, 4978,   1271.7, 2,   3.4555, 2,  34.5580, 2,  34.5576, 2,     71.1, 2,     70.8, 2,   116.50, 2,    40.82, 2,     0.01, 2,     2.94, 2,    0.007, 2,    0.008, 2,    0.000, 2, -999.000, 9,   2342.5, 2,   2385.2, 2,    7.4690,     25.00,   -999.0, 9,   -999.0,  -999.00, 9,   -999.0,   3.3619, 27.4983,   3.4561, 2, 2, 0.38, 0.15, 0.01, 0.017,  -999.00, 9, -999.00, -999.00, 9, -999.00
49NZ20071008, P14N, 92, 1, 21, X12009, 2, 20071115, 0127, 16.5128, 178.9940, 4978,   1472.7, 2,   2.9867, 2,  34.5796, 2,  34.5791, 2,     79.6, 2,     79.4, 2,   126.14, 2,    40.54, 2,     0.01, 2,     2.91, 2,    0.003, 2,    0.001, 2,    0.000, 2, -999.000, 9,   2345.7, 2,   2396.5, 2,    7.4809,     25.00,   -999.0, 9,   -999.0,  -999.00, 9,   -999.0,   2.8813, 27.5603,   2.9871, 2, 2, 0.40, 0.15, 0.01, 0.017,  -999.00, 9, -999.00, -999.00, 9, -999.00
49NZ20071008, P14N, 92, 1, 20, X12026, 2, 20071115, 0127, 16.5128, 178.9940, 4978,   1671.9, 2,   2.5641, 2,  34.5976, 2,  34.5976, 2,     86.8, 2,     87.1, 2,   135.52, 2,    40.28, 2,     0.01, 2,     2.88, 2,    0.005, 2,    0.004, 2,    0.000, 2, -999.000, 9,   2352.5, 2,   2403.9, 2,    7.4912,     25.00,   -999.0, 9,   -999.0,  -999.00, 9,   -999.0,   2.4472, 27.6127,   2.5643, 2, 6, 0.42, 0.15, 0.01, 0.017,  -999.00, 9, -999.00, -999.00, 9, -999.00
49NZ20071008, P14N, 92, 1, 19, X12025, 2, 20071115, 0127, 16.5128, 178.9940, 4978,   1872.8, 2,   2.2957, 2,  34.6175, 2,  34.6173, 2,     95.1, 2,     95.4, 2,   140.32, 2,    39.83, 2,     0.01, 2,     2.84, 2,    0.004, 2,    0.007, 2,    0.000, 2, -999.000, 9,   2355.7, 2,   2410.1, 2,    7.5050,     25.00,   -999.0, 9,   -999.0,  -999.00, 9,   -999.0,   2.1656, 27.6519,   2.2963, 2, 2, 0.43, 0.14, 0.01, 0.017,  -999.00, 9, -999.00, -999.00, 9, -999.00
49NZ20071008, P14N, 92, 1, 18, X12024, 2, 20071115, 0127, 16.5128, 178.9940, 4978,   2071.4, 2,   2.0820, 2,  34.6302, 2,  34.6299, 2,    102.2, 2,    102.8, 2,   144.45, 2,    39.29, 2,     0.01, 2,     2.79, 2,    0.004, 2,    0.002, 2,    0.000, 2, -999.000, 9,   2354.5, 2,   2415.7, 2,    7.5164,     25.00,   -999.0, 9,   -999.0,  -999.00, 9,   -999.0,   1.9383, 27.6803,   2.0820, 2, 2, 0.44, 0.14, 0.01, 0.017,  -999.00, 9, -999.00, -999.00, 9, -999.00
49NZ20071008, P14N, 92, 1, 17, X12023, 2, 20071115, 0127, 16.5128, 178.9940, 4978,   2271.8, 2,   1.8971, 2,  34.6419, 2,  34.6418, 6,    109.3, 2,    110.8, 2,   147.74, 2,    38.88, 2,     0.01, 2,     2.76, 2,    0.002, 2,    0.003, 2,    0.000, 2, -999.000, 9,   2352.2, 2,   2418.0, 2,    7.5288,     25.00,   -999.0, 9,   -999.0,  -999.00, 9,   -999.0,   1.7391, 27.7050,   1.8972, 2, 2, 0.44, 0.14, 0.01, 0.017,  -999.00, 9, -999.00, -999.00, 9, -999.00
49NZ20071008, P14N, 92, 1, 16, X12022, 2, 20071115, 0127, 16.5128, 178.9940, 4978,   2470.2, 2,   1.8038, 2,  34.6495, 2,  34.6496, 2,    116.1, 2,    116.0, 2,   148.99, 2,    38.56, 2,     0.01, 2,     2.73, 2,    0.009, 2,    0.005, 2,    0.000, 2, -999.000, 9,   2348.9, 6,   2420.0, 2,    7.5372,     25.00,   -999.0, 9,   -999.0,  -999.00, 9,   -999.0,   1.6299, 27.7194,   1.8037, 2, 2, 0.45, 0.14, 0.01, 0.017,  -999.00, 9, -999.00, -999.00, 9, -999.00
49NZ20071008, P14N, 92, 1, 15, X12021, 2, 20071115, 0127, 16.5128, 178.9940, 4978,   2672.0, 2,   1.6964, 2,  34.6578, 2,  34.6577, 2,    122.5, 2,    122.7, 2,   150.02, 2,    38.16, 2,     0.01, 2,     2.69, 2,    0.006, 2,    0.004, 2,    0.000, 2, -999.000, 9,   2343.3, 3,   2420.9, 6,    7.5485,     25.00,   -999.0, 9,   -999.0,  -999.00, 9,   -999.0,   1.5062, 27.7351,   1.6966, 2, 2, 0.45, 0.14, 0.01, 0.017,  -999.00, 9, -999.00, -999.00, 9, -999.00
49NZ20071008, P14N, 92, 1, 14, X12020, 2, 20071115, 0127, 16.5128, 178.9940, 4978,   2872.4, 2,   1.6356, 2,  34.6641, 2,  34.6639, 2,    128.1, 2,    127.5, 2,   150.24, 2,    37.83, 2,     0.01, 2,     2.66, 2, -999.000, 9, -999.000, 9, -999.000, 9, -999.000, 9,   2345.2, 2,   2421.4, 2,    7.5568,     25.00,   -999.0, 9,   -999.0,  -999.00, 9,   -999.0,   1.4280, 27.7458,   1.6355, 2, 2, 0.45, 0.14, 0.01, 0.017,  -999.00, 9, -999.00, -999.00, 9, -999.00
49NZ20071008, P14N, 92, 1, 13, X12019, 2, 20071115, 0127, 16.5128, 178.9940, 4978,   3081.7, 2,   1.5866, 2,  34.6701, 2,  34.6701, 2,    133.5, 2,    132.4, 2,   150.51, 2,    37.44, 2,     0.01, 2,     2.64, 2, -999.000, 9, -999.000, 9, -999.000, 9, -999.000, 9,   2341.3, 2,   2423.1, 2,    7.5644,     25.00,   -999.0, 9,   -999.0,  -999.00, 9,   -999.0,   1.3601, 27.7555,   1.5865, 2, 2, 0.45, 0.14, 0.01, 0.017,  -999.00, 9, -999.00, -999.00, 9, -999.00
49NZ20071008, P14N, 92, 1, 12, X12040, 2, 20071115, 0127, 16.5128, 178.9940, 4978,   3332.5, 2,   1.5200, 2,  34.6762, 2,  34.6759, 2,    139.8, 2,    139.5, 2,   149.26, 2,    36.99, 2,     0.01, 2,     2.60, 2,    0.004, 2,    0.002, 2,    0.000, 2, -999.000, 9,   2338.6, 2,   2421.5, 2,    7.5746,     25.00,   -999.0, 9,   -999.0,  -999.00, 9,   -999.0,   1.2703, 27.7667,   1.5200, 2, 2, 0.45, 0.14, 0.01, 0.016,  -999.00, 9, -999.00, -999.00, 9, -999.00
49NZ20071008, P14N, 92, 1, 11, X12047, 2, 20071115, 0127, 16.5128, 178.9940, 4978,   3581.4, 2,   1.4801, 2,  34.6811, 2,  34.6809, 6,    145.6, 2,    145.4, 2,   148.00, 2,    36.67, 2,     0.01, 2,     2.57, 2, -999.000, 9, -999.000, 9, -999.000, 9, -999.000, 9,   2335.6, 2,   2420.9, 2,    7.5839,     25.00,   -999.0, 9,   -999.0,  -999.00, 9,   -999.0,   1.2061, 27.7752,   1.4800, 2, 2, 0.44, 0.14, 0.01, 0.016,  -999.00, 9, -999.00, -999.00, 9, -999.00
49NZ20071008, P14N, 92, 1, 10, X12012, 2, 20071115, 0127, 16.5128, 178.9940, 4978,   3831.2, 2,   1.4643, 2,  34.6841, 2,  34.6843, 2,    149.9, 2,    149.8, 2,   146.26, 2,    36.24, 2,     0.01, 2,     2.54, 2, -999.000, 9, -999.000, 9, -999.000, 9, -999.000, 9,   2329.6, 2,   2419.6, 2,    7.5896,     25.00,   -999.0, 9,   -999.0,  -999.00, 9,   -999.0,   1.1646, 27.7804,   1.4644, 2, 2, 0.44, 0.13, 0.01, 0.016,  -999.00, 9, -999.00, -999.00, 9, -999.00
49NZ20071008, P14N, 92, 1, 9, X12015, 2, 20071115, 0127, 16.5128, 178.9940, 4978,   4080.2, 2,   1.4467, 2,  34.6873, 2,  34.6873, 2,    155.7, 2,    155.5, 2,   143.53, 2,    35.98, 2,     0.01, 2,     2.52, 2,    0.004, 2,    0.003, 2,    0.019, 3, -999.000, 9,   2320.6, 2,   2416.7, 2,    7.5957,     25.00,   -999.0, 9,   -999.0,  -999.00, 9,   -999.0,   1.1205, 27.7860,   1.4468, 2, 2, 0.43, 0.13, 0.01, 0.016,  -999.00, 9, -999.00, -999.00, 9, -999.00
49NZ20071008, P14N, 92, 1, 8, X12046, 2, 20071115, 0127, 16.5128, 178.9940, 4978,   4329.5, 2,   1.4353, 2,  34.6901, 2,  34.6901, 2,    160.5, 2,    160.6, 2,   140.72, 2,    35.58, 2,     0.01, 2,     2.49, 2, -999.000, 9, -999.000, 9, -999.000, 9, -999.000, 9,   2319.7, 6,   2412.4, 2,    7.6005,     25.00,   -999.0, 9,   -999.0,  -999.00, 9,   -999.0,   1.0817, 27.7908,   1.4353, 2, 2, 0.43, 0.13, 0.01, 0.016,  -999.00, 9, -999.00, -999.00, 9, -999.00
49NZ20071008, P14N, 92, 1, 7, X12044, 2, 20071115, 0127, 16.5128, 178.9940, 4978,   4582.1, 2,   1.4042, 2,  34.6942, 2,  34.6942, 2,    168.1, 2,    168.5, 2,   135.72, 2,    34.99, 2,     0.01, 2,     2.45, 2, -999.000, 9, -999.000, 9, -999.000, 9, -999.000, 9,   2309.6, 2,   2407.1, 6,    7.6090,     25.00,   -999.0, 9,   -999.0,  -999.00, 9,   -999.0,   1.0227, 27.7981,   1.4042, 2, 2, 0.42, 0.13, 0.01, 0.016,  -999.00, 9, -999.00, -999.00, 9, -999.00
49NZ20071008, P14N, 92, 1, 6, X12048, 2, 20071115, 0127, 16.5128, 178.9940, 4978,   4830.5, 2,   1.3571, 2,  34.6992, 2,  34.6996, 2,    179.1, 2,    179.0, 2,   129.64, 2,    34.23, 2,     0.01, 2,     2.39, 2,    0.003, 2,    0.001, 2,    0.000, 2, -999.000, 9,   2300.1, 2,   2399.4, 2,    7.6182,     25.00,   -999.0, 9,   -999.0,  -999.00, 9,   -999.0,   0.9479, 27.8070,   1.3571, 2, 6, 0.40, 0.13, 0.01, 0.016,  -999.00, 9, -999.00, -999.00, 9, -999.00
49NZ20071008, P14N, 92, 1, 5, X12014, 9, 20071115, 0127, 16.5128, 178.9940, 4978,     10.4, 2,  28.0754, 2,  34.6615, 2, -999.0000, 9,    199.3, 2,   -999.0, 9,  -999.00, 9,  -999.00, 9,  -999.00, 9,  -999.00, 9, -999.000, 9, -999.000, 9, -999.000, 9, -999.000, 9,   -999.0, 9,   -999.0, 9, -999.0000,   -999.00,   -999.0, 9,   -999.0,  -999.00, 9,   -999.0,  28.0729, 22.1163,  28.0755, 2, 9, -999.00, -999.00, -999.00, -999.000,  -999.00, 9, -999.00, -999.00, 9, -999.00
49NZ20071008, P14N, 92, 1, 4, X12006, 9, 20071115, 0127, 16.5128, 178.9940, 4978,    200.6, 2,  19.2206, 2,  34.8723, 2, -999.0000, 9,    178.4, 2,   -999.0, 9,  -999.00, 9,  -999.00, 9,  -999.00, 9,  -999.00, 9, -999.000, 9, -999.000, 9, -999.000, 9, -999.000, 9,   -999.0, 9,   -999.0, 9, -999.0000,   -999.00,   -999.0, 9,   -999.0,  -999.00, 9,   -999.0,  19.1846, 24.8764,  19.2261, 2, 9, -999.00, -999.00, -999.00, -999.000,  -999.00, 9, -999.00, -999.00, 9, -999.00
49NZ20071008, P14N, 92, 1, 3, X12013, 9, 20071115, 0127, 16.5128, 178.9940, 4978,    251.0, 2,  16.4768, 2,  34.6121, 2, -999.0000, 9,    178.1, 2,   -999.0, 9,  -999.00, 9,  -999.00, 9,  -999.00, 9,  -999.00, 9, -999.000, 9, -999.000, 9, -999.000, 9, -999.000, 9,   -999.0, 9,   -999.0, 9, -999.0000,   -999.00,   -999.0, 9,   -999.0,  -999.00, 9,   -999.0,  16.4363, 25.3488,  16.4812, 2, 9, -999.00, -999.00, -999.00, -999.000,  -999.00, 9, -999.00, -999.00, 9, -999.00
49NZ20071008, P14N, 92, 1, 2, X12002, 9, 20071115, 0127, 16.5128, 178.9940, 4978,    331.1, 2,  11.4809, 2,  34.2443, 2, -999.0000, 9,    147.5, 2,   -999.0, 9,  -999.00, 9,  -999.00, 9,  -999.00, 9,  -999.00, 9, -999.000, 9, -999.000, 9, -999.000, 9, -999.000, 9,   -999.0, 9,   -999.0, 9, -999.0000,   -999.00,   -999.0, 9,   -999.0,  -999.00, 9,   -999.0,  11.4390, 26.1071,  11.4754, 2, 9, -999.00, -999.00, -999.00, -999.000,  -999.00, 9, -999.00, -999.00, 9, -999.00
49NZ20071008, P14N, 92, 1, 1, X12001, 2, 20071115, 0127, 16.5128, 178.9940, 4978,   5052.1, 2,   1.3276, 2,  34.7027, 2,  34.7032, 6,    186.3, 2,    186.1, 2,   125.65, 2,    33.69, 2,     0.01, 2,     2.36, 2,    0.001, 2,    0.004, 2,    0.000, 2, -999.000, 9,   2289.1, 2,   2393.8, 2,    7.6240,     25.00,   -999.0, 9,   -999.0,  -999.00, 9,   -999.0,   0.8928, 27.8135,   1.3276, 2, 2, 0.40, 0.13, 0.01, 0.016,  -999.00, 9, -999.00, -999.00, 9, -999.00