BOTTLE,20221005CCHSIOAMB
EXPOCODE,SECT_ID,STNNBR,CASTNO,SAMPNO,BTLNBR,BTLNBR_FLAG_W,DATE,TIME,LATITUDE,LONGITUDE,DEPTH,CTDPRS,CTDPRS_FLAG_W,CTDTMP,CTDTMP_FLAG_W,CTDSAL,CTDSAL_FLAG_W,SALNTY,SALNTY_FLAG_W,CTDOXY,CTDOXY_FLAG_W,OXYGEN,OXYGEN_FLAG_W,SILCAT,SILCAT_FLAG_W,NITRAT,NITRAT_FLAG_W,NITRIT,NITRIT_FLAG_W,PHSPHT,PHSPHT_FLAG_W,CFC-11,CFC-11_FLAG_W,CFC-12,CFC-12_FLAG_W,CFC113,CFC113_FLAG_W,CCL4,CCL4_FLAG_W,TCARBN,TCARBN_FLAG_W,ALKALI,ALKALI_FLAG_W,PH_TOT,PH_TMP,DELC14,DELC14_FLAG_W,C14ERR,DELC13,DELC13_FLAG_W,C13ERR,THETA,SIG0,SBE35,SBE35_FLAG_W,PH_TOT_FLAG_W,SILUNC,NRAUNC,NRIUNC,PHPUNC,CS-137,CS-137_FLAG_W,CS137ER,PLUTO,PLUTO_FLAG_W,PLUTOER
,,,,,,,,,,,METERS,DBAR,,ITS-90,,PSS-78,,PSS-78,,UMOL/KG,,UMOL/KG,,UMOL/KG,,UMOL/KG,,UMOL/KG,,UMOL/KG,,PMOL/KG,,PMOL/KG,,PMOL/KG,,PMOL/KG,,UMOL/KG,,UMOL/KG,,,DEG C,/MILLE,,/MILLE,/MILLE,,/MILLE,DEG C,KG/M^3,ITS-90,,,UMOL/KG,UMOL/KG,UMOL/KG,UMOL/KG,DM/.1MG,,BQ/M^3,MBQ/M^3,,MBQ/M^3
49NZ20071008, P01, P01_31, 1, 36, X12042, 2, 20071011, 2344, 43.5647, 154.1708, 5454,     10.1, 2,  14.4336, 2,  32.8532, 2,  32.8544, 2,    259.1, 2,    261.0, 2,     6.19, 2,     2.55, 2,     0.08, 2,     0.57, 2,    2.888, 2,    1.663, 2,    0.308, 2, -999.000, 9,   -999.0, 9,   -999.0, 9, -999.0000,   -999.00,   -999.0, 9,   -999.0,  -999.00, 9,   -999.0,  14.4321, 24.4384,  14.4320, 2, 9, 0.13, 0.04, 0.01, 0.013,  -999.00, 9, -999.00, -999.00, 9, -999.00
49NZ20071008, P01, P01_31, 1, 35, X12041, 2, 20071011, 2344, 43.5647, 154.1708, 5454,     49.6, 2,   4.0199, 2,  33.0589, 2,  33.0641, 2,    323.5, 2,    327.3, 2,    32.29, 2,    18.93, 2,     0.57, 2,     1.75, 2,    5.322, 2,    2.871, 2,    0.500, 2, -999.000, 9,   -999.0, 9,   -999.0, 9, -999.0000,   -999.00,   -999.0, 9,   -999.0,  -999.00, 9,   -999.0,   4.0166, 26.2406,   4.0174, 2, 9, 0.19, 0.09, 0.00, 0.014,  -999.00, 9, -999.00, -999.00, 9, -999.00
49NZ20071008, P01, P01_31, 1, 34, X12016, 2, 20071011, 2344, 43.5647, 154.1708, 5454,    100.8, 2,   2.7038, 2,  33.3038, 2,  33.3054, 2,    279.4, 2,    283.7, 2,    44.33, 2,    25.15, 2,     0.03, 2,     1.98, 2,    5.038, 2,    2.711, 2,    0.447, 2, -999.000, 9,   -999.0, 9,   -999.0, 9, -999.0000,   -999.00,   -999.0, 9,   -999.0,  -999.00, 9,   -999.0,   2.6981, 26.5572,   2.7049, 2, 9, 0.22, 0.10, 0.01, 0.015,  -999.00, 1, -999.00, -999.00, 9, -999.00
49NZ20071008, P01, P01_31, 1, 33, X12033, 2, 20071011, 2344, 43.5647, 154.1708, 5454,    150.1, 2,   2.4874, 2,  33.4583, 2,  33.4659, 2,    219.0, 2,    213.5, 2,    62.85, 2,    31.26, 2,     0.03, 2,     2.39, 2,    4.282, 6,    2.262, 6,    0.349, 6, -999.000, 9,   -999.0, 9,   -999.0, 9, -999.0000,   -999.00,   -999.0, 9,   -999.0,  -999.00, 9,   -999.0,   2.4791, 26.6988,   2.4889, 2, 9, 0.26, 0.12, 0.01, 0.016,  -999.00, 9, -999.00, -999.00, 9, -999.00
49NZ20071008, P01, P01_31, 1, 32, X12038, 2, 20071011, 2344, 43.5647, 154.1708, 5454,    200.0, 2,   2.4500, 2,  33.5917, 2,  33.5970, 2,    153.3, 2,    147.9, 2,    80.49, 2,    36.86, 2,     0.02, 2,     2.75, 2,    3.486, 2,    1.814, 2,    0.282, 2, -999.000, 9,   -999.0, 9,   -999.0, 9, -999.0000,   -999.00,   -999.0, 9,   -999.0,  -999.00, 9,   -999.0,   2.4389, 26.8088,   2.4500, 2, 9, 0.30, 0.14, 0.01, 0.017,  -999.00, 1, -999.00, -999.00, 9, -999.00
49NZ20071008, P01, P01_31, 1, 31, X12003, 2, 20071011, 2344, 43.5647, 154.1708, 5454,    248.5, 2,   2.8049, 2,  33.7222, 2,  33.7236, 6,    113.8, 2,    114.8, 2,    87.49, 2,    38.64, 2,     0.02, 2,     2.86, 2,    2.952, 2,    1.518, 2,    0.238, 2, -999.000, 9,   -999.0, 9,   -999.0, 9, -999.0000,   -999.00,   -999.0, 9,   -999.0,  -999.00, 9,   -999.0,   2.7902, 26.8835,   2.8051, 2, 9, 0.31, 0.14, 0.01, 0.017,  -999.00, 9, -999.00, -999.00, 9, -999.00
49NZ20071008, P01, P01_31, 1, 30, X12008, 2, 20071011, 2344, 43.5647, 154.1708, 5454,    300.3, 2,   2.9239, 2,  33.8117, 2,  33.8114, 2,     92.9, 2,     84.7, 2,    95.22, 2,    40.77, 2,     0.02, 2,     2.98, 2,    2.492, 2,    1.267, 2,    0.193, 2, -999.000, 9,   -999.0, 9,   -999.0, 9, -999.0000,   -999.00,   -999.0, 9,   -999.0,  -999.00, 9,   -999.0,   2.9057, 26.9448,   2.9243, 2, 9, 0.33, 0.15, 0.01, 0.017,  -999.00, 9, -999.00, -999.00, 9, -999.00
49NZ20071008, P01, P01_31, 1, 29, X12035, 2, 20071011, 2344, 43.5647, 154.1708, 5454,    400.7, 2,   3.2881, 2,  33.9905, 2,  33.9886, 2,     63.1, 2,     63.8, 2,   104.21, 2,    41.09, 2,     0.02, 2,     3.00, 2,    1.726, 2,    0.871, 2,    0.125, 2, -999.000, 9,   -999.0, 9,   -999.0, 9, -999.0000,   -999.00,   -999.0, 9,   -999.0,  -999.00, 9,   -999.0,   3.2622, 27.0552,   3.2881, 2, 9, 0.35, 0.15, 0.01, 0.017,  -999.00, 1, -999.00, -999.00, 9, -999.00
49NZ20071008, P01, P01_31, 1, 28, X12034, 2, 20071011, 2344, 43.5647, 154.1708, 5454,    499.4, 2,   3.2222, 2,  34.1041, 2,  34.1044, 6,     44.6, 2,     45.4, 2,   115.72, 2,    42.06, 2,     0.02, 2,     3.06, 2,    1.176, 2,    0.590, 2,    0.083, 2, -999.000, 9,   -999.0, 9,   -999.0, 9, -999.0000,   -999.00,   -999.0, 9,   -999.0,  -999.00, 9,   -999.0,   3.1897, 27.1526,   3.2222, 2, 9, 0.37, 0.15, 0.01, 0.018,  -999.00, 9, -999.00, -999.00, 9, -999.00
49NZ20071008, P01, P01_31, 1, 27, X12049, 2, 20071011, 2344, 43.5647, 154.1708, 5454,    600.0, 2,   3.3298, 2,  34.2254, 2,  34.2245, 2,     40.1, 2,     39.7, 2,   122.68, 2,    42.08, 2,     0.02, 2,     3.06, 2,    0.700, 2,    0.345, 2,    0.042, 2, -999.000, 9,   -999.0, 9,   -999.0, 9, -999.0000,   -999.00,   -999.0, 9,   -999.0,  -999.00, 9,   -999.0,   3.2897, 27.2399,   3.3297, 2, 9, 0.39, 0.15, 0.01, 0.018,  -999.00, 1, -999.00, -999.00, 9, -999.00
49NZ20071008, P01, P01_31, 1, 26, X12032, 2, 20071011, 2344, 43.5647, 154.1708, 5454,    700.7, 2,   3.2176, 2,  34.3061, 2,  34.3050, 2,     37.8, 2,     37.7, 2,   128.87, 2,    42.35, 2,     0.02, 2,     3.07, 2,    0.424, 6,    0.207, 6,    0.023, 6, -999.000, 9,   -999.0, 9,   -999.0, 9, -999.0000,   -999.00,   -999.0, 9,   -999.0,  -999.00, 9,   -999.0,   3.1707, 27.3155,   3.2177, 2, 9, 0.40, 0.15, 0.01, 0.018,  -999.00, 9, -999.00, -999.00, 9, -999.00
49NZ20071008, P01, P01_31, 1, 25, X12043, 2, 20071011, 2344, 43.5647, 154.1708, 5454,    800.7, 2,   2.8052, 2,  34.3210, 2,  34.3219, 2,     26.1, 2,     25.7, 2,   142.27, 2,    43.49, 2,     0.02, 2,     3.15, 2,    0.371, 2,    0.182, 2,    0.024, 2, -999.000, 9,   -999.0, 9,   -999.0, 9, -999.0000,   -999.00,   -999.0, 9,   -999.0,  -999.00, 9,   -999.0,   2.7536, 27.3651,   2.8051, 2, 9, 0.43, 0.15, 0.01, 0.018,  -999.00, 1, -999.00, -999.00, 9, -999.00
49NZ20071008, P01, P01_31, 1, 24, X12030, 2, 20071011, 2344, 43.5647, 154.1708, 5454,    899.9, 2,   2.6815, 2,  34.3694, 2,  34.3694, 2,     32.1, 2,     31.7, 2,   145.12, 2,    43.02, 2,     0.02, 2,     3.10, 2,    0.297, 2,    0.143, 2,    0.017, 2, -999.000, 9,   -999.0, 9,   -999.0, 9, -999.0000,   -999.00,   -999.0, 9,   -999.0,  -999.00, 9,   -999.0,   2.6236, 27.4151,   2.6816, 2, 9, 0.44, 0.15, 0.01, 0.018,  -999.00, 9, -999.00, -999.00, 9, -999.00
49NZ20071008, P01, P01_31, 1, 23, X12027, 2, 20071011, 2344, 43.5647, 154.1708, 5454,   1001.1, 2,   2.6065, 2,  34.4126, 2,  34.4132, 6,     35.7, 2,     35.7, 2,   147.96, 2,    42.87, 2,     0.02, 2,     3.09, 2,    0.212, 2,    0.101, 2,    0.016, 2, -999.000, 9,   -999.0, 9,   -999.0, 9, -999.0000,   -999.00,   -999.0, 9,   -999.0,  -999.00, 9,   -999.0,   2.5418, 27.4567,   2.6064, 2, 9, 0.44, 0.15, 0.01, 0.018,  -999.00, 1, -999.00, -999.00, 9, -999.00
49NZ20071008, P01, P01_31, 1, 22, X12028, 3, 20071011, 2344, 43.5647, 154.1708, 5454,   1202.4, 2,   2.3366, 2,  34.4597, 2,  34.4530, 3,     33.6, 2,     40.5, 2,   156.27, 2,    42.67, 2,     0.02, 2,     3.08, 2,    0.185, 4,    0.111, 4,    0.010, 4, -999.000, 9,   -999.0, 9,   -999.0, 9, -999.0000,   -999.00,   -999.0, 9,   -999.0,  -999.00, 9,   -999.0,   2.2594, 27.5180,   2.3360, 2, 9, 0.46, 0.15, 0.01, 0.018,  -999.00, 9, -999.00, -999.00, 9, -999.00
49NZ20071008, P01, P01_31, 1, 21, X12009, 2, 20071011, 2344, 43.5647, 154.1708, 5454,   1399.6, 2,   2.1934, 2,  34.5061, 2,  34.5056, 2,     44.2, 2,     47.5, 2,   160.24, 2,    42.28, 2,     0.02, 2,     3.05, 2,    0.101, 2,    0.045, 2,    0.013, 2, -999.000, 9,   -999.0, 9,   -999.0, 9, -999.0000,   -999.00,   -999.0, 9,   -999.0,  -999.00, 9,   -999.0,   2.1028, 27.5678,   2.1932, 2, 9, 0.47, 0.15, 0.01, 0.018,  -999.00, 9, -999.00, -999.00, 9, -999.00
49NZ20071008, P01, P01_31, 1, 20, X12026, 2, 20071011, 2344, 43.5647, 154.1708, 5454,   1599.7, 2,   2.0691, 2,  34.5407, 2,  34.5407, 2,     60.7, 2,     59.0, 2,   161.39, 2,    41.57, 2,     0.02, 2,     3.00, 2,    0.070, 2,    0.034, 2,    0.005, 2, -999.000, 9,   -999.0, 9,   -999.0, 9, -999.0000,   -999.00,   -999.0, 9,   -999.0,  -999.00, 9,   -999.0,   1.9644, 27.6065,   2.0692, 2, 9, 0.47, 0.15, 0.01, 0.017,  -999.00, 9, -999.00, -999.00, 9, -999.00
49NZ20071008, P01, P01_31, 1, 19, X12025, 2, 20071011, 2344, 43.5647, 154.1708, 5454,   1799.5, 2,   1.9790, 2,  34.5730, 2,  34.5729, 2,     66.0, 2,     64.8, 2,   163.05, 2,    41.41, 2,     0.02, 2,     2.97, 2,    0.039, 2,    0.038, 3,    0.006, 2, -999.000, 9,   -999.0, 9,   -999.0, 9, -999.0000,   -999.00,   -999.0, 9,   -999.0,  -999.00, 9,   -999.0,   1.8595, 27.6405,   1.9790, 2, 9, 0.48, 0.15, 0.01, 0.017,  -999.00, 1, -999.00, -999.00, 9, -999.00
49NZ20071008, P01, P01_31, 1, 18, X12024, 2, 20071011, 2344, 43.5647, 154.1708, 5454,   1999.8, 2,   1.8711, 2,  34.5982, 2,  34.5982, 2,     79.7, 2,     79.5, 2,   161.27, 2,    40.66, 2,     0.02, 2,     2.91, 2,    0.016, 2,    0.008, 2,    0.000, 2, -999.000, 9,   -999.0, 9,   -999.0, 9, -999.0000,   -999.00,   -999.0, 9,   -999.0,  -999.00, 9,   -999.0,   1.7368, 27.6702,   1.8711, 2, 9, 0.47, 0.15, 0.01, 0.017,  -999.00, 1, -999.00, -999.00, 9, -999.00
49NZ20071008, P01, P01_31, 1, 17, X12023, 2, 20071011, 2344, 43.5647, 154.1708, 5454,   2200.2, 2,   1.7734, 2,  34.6202, 2,  34.6199, 2,     89.7, 2,     88.3, 2,   161.91, 2,    40.14, 2,     0.02, 2,     2.86, 2,    0.001, 2,    0.000, 2,    0.000, 2, -999.000, 9,   -999.0, 9,   -999.0, 9, -999.0000,   -999.00,   -999.0, 9,   -999.0,  -999.00, 9,   -999.0,   1.6237, 27.6963,   1.7732, 2, 9, 0.48, 0.15, 0.01, 0.017,  -999.00, 1, -999.00, -999.00, 9, -999.00
49NZ20071008, P01, P01_31, 1, 16, X12022, 2, 20071011, 2344, 43.5647, 154.1708, 5454,   2400.0, 2,   1.6965, 2,  34.6352, 2,  34.6349, 6,    101.6, 2,    100.0, 2,   160.00, 2,    39.37, 2,     0.02, 2,     2.80, 2,    0.009, 3,    0.021, 3,    0.000, 2, -999.000, 9,   -999.0, 9,   -999.0, 9, -999.0000,   -999.00,   -999.0, 9,   -999.0,  -999.00, 9,   -999.0,   1.5308, 27.7151,   1.6965, 2, 9, 0.47, 0.14, 0.01, 0.017,  -999.00, 9, -999.00, -999.00, 9, -999.00
49NZ20071008, P01, P01_31, 1, 15, X12021, 2, 20071011, 2344, 43.5647, 154.1708, 5454,   2601.4, 2,   1.6342, 2,  34.6466, 2,  34.6465, 2,    110.4, 2,    109.6, 2,   158.59, 2,    38.72, 2,     0.02, 2,     2.76, 2, -999.000, 9, -999.000, 9, -999.000, 9, -999.000, 9,   -999.0, 9,   -999.0, 9, -999.0000,   -999.00,   -999.0, 9,   -999.0,  -999.00, 9,   -999.0,   1.4517, 27.7301,   1.6343, 2, 9, 0.47, 0.14, 0.01, 0.017,  -999.00, 9, -999.00, -999.00, 9, -999.00
49NZ20071008, P01, P01_31, 1, 14, X12020, 2, 20071011, 2344, 43.5647, 154.1708, 5454,   2800.6, 2,   1.5791, 2,  34.6561, 2,  34.6563, 2,    118.2, 2,    118.8, 2,   156.72, 2,    38.20, 2,     0.02, 2,     2.71, 2,    0.000, 2,    0.000, 2,    0.000, 2, -999.000, 9,   -999.0, 9,   -999.0, 9, -999.0000,   -999.00,   -999.0, 9,   -999.0,  -999.00, 9,   -999.0,   1.3794, 27.7429,   1.5792, 2, 9, 0.46, 0.14, 0.01, 0.017,  -999.00, 1, -999.00, -999.00, 9, -999.00
49NZ20071008, P01, P01_31, 1, 13, X12019, 2, 20071011, 2344, 43.5647, 154.1708, 5454,   3000.3, 2,   1.5402, 2,  34.6634, 2,  34.6636, 2,    125.9, 2,    125.9, 2,   154.86, 2,    37.73, 2,     0.02, 2,     2.67, 2, -999.000, 9, -999.000, 9, -999.000, 9, -999.000, 9,   -999.0, 9,   -999.0, 9, -999.0000,   -999.00,   -999.0, 9,   -999.0,  -999.00, 9,   -999.0,   1.3226, 27.7527,   1.5403, 2, 9, 0.46, 0.14, 0.01, 0.017,  -999.00, 1, -999.00, -999.00, 9, -999.00
49NZ20071008, P01, P01_31, 1, 12, X12040, 2, 20071011, 2344, 43.5647, 154.1708, 5454,   3250.8, 2,   1.5065, 2,  34.6702, 2,  34.6702, 2,    133.7, 2,    133.7, 2,   152.71, 2,    37.12, 2,     0.02, 2,     2.63, 2, -999.000, 9, -999.000, 9, -999.000, 9, -999.000, 9,   -999.0, 9,   -999.0, 9, -999.0000,   -999.00,   -999.0, 9,   -999.0,  -999.00, 9,   -999.0,   1.2653, 27.7622,   1.5066, 2, 9, 0.45, 0.14, 0.01, 0.017,  -999.00, 1, -999.00, -999.00, 9, -999.00
49NZ20071008, P01, P01_31, 1, 11, X12047, 2, 20071011, 2344, 43.5647, 154.1708, 5454,   3501.1, 2,   1.4808, 2,  34.6756, 2,  34.6754, 2,    140.1, 2,    140.2, 2,   151.23, 2,    36.79, 2,     0.02, 2,     2.60, 2,    0.000, 2,    0.001, 2,    0.000, 2, -999.000, 9,   -999.0, 9,   -999.0, 9, -999.0000,   -999.00,   -999.0, 9,   -999.0,  -999.00, 9,   -999.0,   1.2151, 27.7701,   1.4807, 2, 9, 0.45, 0.14, 0.01, 0.016,  -999.00, 9, -999.00, -999.00, 9, -999.00
49NZ20071008, P01, P01_31, 1, 10, X12010, 2, 20071011, 2344, 43.5647, 154.1708, 5454,   3751.0, 2,   1.4695, 2,  34.6796, 2,  34.6794, 2,    145.2, 2,    144.7, 2,   149.95, 2,    36.48, 2,     0.01, 2,     2.57, 2, -999.000, 9, -999.000, 9, -999.000, 9, -999.000, 9,   -999.0, 9,   -999.0, 9, -999.0000,   -999.00,   -999.0, 9,   -999.0,  -999.00, 9,   -999.0,   1.1781, 27.7758,   1.4695, 2, 9, 0.45, 0.13, 0.01, 0.016,  -999.00, 1, -999.00, -999.00, 9, -999.00
49NZ20071008, P01, P01_31, 1, 9, X12015, 2, 20071011, 2344, 43.5647, 154.1708, 5454,   4001.5, 2,   1.4621, 2,  34.6831, 2,  34.6831, 6,    149.2, 2,    149.3, 2,   148.79, 2,    36.23, 2,     0.01, 2,     2.55, 2, -999.000, 9, -999.000, 9, -999.000, 9, -999.000, 9,   -999.0, 9,   -999.0, 9, -999.0000,   -999.00,   -999.0, 9,   -999.0,  -999.00, 9,   -999.0,   1.1441, 27.7810,   1.4621, 2, 9, 0.45, 0.13, 0.01, 0.016,  -999.00, 1, -999.00, -999.00, 9, -999.00
49NZ20071008, P01, P01_31, 1, 8, X12046, 2, 20071011, 2344, 43.5647, 154.1708, 5454,   4250.2, 2,   1.4650, 2,  34.6858, 2,  34.6857, 2,    152.6, 2,    152.2, 2,   147.90, 2,    35.95, 2,     0.01, 2,     2.53, 2,    0.000, 2,    0.000, 2,    0.000, 2, -999.000, 9,   -999.0, 9,   -999.0, 9, -999.0000,   -999.00,   -999.0, 9,   -999.0,  -999.00, 9,   -999.0,   1.1195, 27.7848,   1.4651, 2, 9, 0.44, 0.13, 0.01, 0.016,  -999.00, 1, -999.00, -999.00, 9, -999.00
49NZ20071008, P01, P01_31, 1, 7, X12044, 2, 20071011, 2344, 43.5647, 154.1708, 5454,   4500.1, 2,   1.4728, 2,  34.6880, 2,  34.6878, 2,    155.2, 2,    155.4, 2,   147.59, 2,    35.72, 2,     0.02, 2,     2.52, 2, -999.000, 9, -999.000, 9, -999.000, 9, -999.000, 9,   -999.0, 9,   -999.0, 9, -999.0000,   -999.00,   -999.0, 9,   -999.0,  -999.00, 9,   -999.0,   1.0987, 27.7880,   1.4727, 2, 9, 0.44, 0.13, 0.01, 0.016,  -999.00, 9, -999.00, -999.00, 9, -999.00
49NZ20071008, P01, P01_31, 1, 6, X12048, 2, 20071011, 2344, 43.5647, 154.1708, 5454,   4752.0, 2,   1.4930, 2,  34.6892, 2,  34.6887, 2,    156.6, 2,    156.4, 2,   147.48, 2,    35.75, 2,     0.02, 2,     2.52, 2, -999.000, 9, -999.000, 9, -999.000, 9, -999.000, 9,   -999.0, 9,   -999.0, 9, -999.0000,   -999.00,   -999.0, 9,   -999.0,  -999.00, 9,   -999.0,   1.0888, 27.7896,   1.4929, 2, 9, 0.44, 0.13, 0.01, 0.016,  -999.00, 9, -999.00, -999.00, 9, -999.00
49NZ20071008, P01, P01_31, 1, 5, X12014, 2, 20071011, 2344, 43.5647, 154.1708, 5454,   4998.7, 2,   1.5160, 2,  34.6899, 2,  34.6897, 2,    157.8, 2,    157.7, 2,   147.62, 2,    35.62, 2,     0.01, 2,     2.51, 2,    0.003, 2,    0.003, 2,    0.000, 2, -999.000, 9,   -999.0, 9,   -999.0, 9, -999.0000,   -999.00,   -999.0, 9,   -999.0,  -999.00, 9,   -999.0,   1.0814, 27.7907,   1.5159, 2, 9, 0.44, 0.13, 0.01, 0.016,  -999.00, 1, -999.00, -999.00, 9, -999.00
49NZ20071008, P01, P01_31, 1, 4, X12006, 2, 20071011, 2344, 43.5647, 154.1708, 5454,   5249.3, 2,   1.5434, 2,  34.6903, 2,  34.6903, 2,    158.1, 2,    158.3, 2,   148.65, 2,    35.63, 2,     0.02, 2,     2.51, 2, -999.000, 9, -999.000, 9, -999.000, 9, -999.000, 9,   -999.0, 9,   -999.0, 9, -999.0000,   -999.00,   -999.0, 9,   -999.0,  -999.00, 9,   -999.0,   1.0769, 27.7914,   1.5432, 2, 9, 0.45, 0.13, 0.01, 0.016,  -999.00, 9, -999.00, -999.00, 9, -999.00
49NZ20071008, P01, P01_31, 1, 3, X12013, 2, 20071011, 2344, 43.5647, 154.1708, 5454,   4999.4, 2,   1.5160, 2,  34.6900, 2, -999.0000, 9,    157.7, 2,   -999.0, 9,  -999.00, 9,  -999.00, 9,  -999.00, 9,  -999.00, 9, -999.000, 9, -999.000, 9, -999.000, 9, -999.000, 9,   -999.0, 9,   -999.0, 9, -999.0000,   -999.00,   -999.0, 9,   -999.0,  -999.00, 9,   -999.0,   1.0813, 27.7908,   1.5160, 2, 9, -999.00, -999.00, -999.00, -999.000,  -999.00, 1, -999.00, -999.00, 9, -999.00
49NZ20071008, P01, P01_31, 1, 2, X12002, 2, 20071011, 2344, 43.5647, 154.1708, 5454,   5552.0, 2,   1.5828, 2,  34.6905, 2, -999.0000, 9,    158.3, 2,   -999.0, 9,  -999.00, 9,  -999.00, 9,  -999.00, 9,  -999.00, 9, -999.000, 9, -999.000, 9, -999.000, 9, -999.000, 9,   -999.0, 9,   -999.0, 9, -999.0000,   -999.00,   -999.0, 9,   -999.0,  -999.00, 9,   -999.0,   1.0765, 27.7915,   1.5826, 2, 9, -999.00, -999.00, -999.00, -999.000,  -999.00, 1, -999.00, -999.00, 9, -999.00
49NZ20071008, P01, P01_31, 1, 1, X12001, 2, 20071011, 2344, 43.5647, 154.1708, 5454,   5552.3, 2,   1.5828, 2,  34.6905, 2,  34.6907, 6,    158.2, 2,    158.1, 2,   149.16, 2,    35.61, 2,     0.02, 2,     2.51, 2,    0.008, 2,    0.003, 2,    0.000, 2, -999.000, 9,   -999.0, 9,   -999.0, 9, -999.0000,   -999.00,   -999.0, 9,   -999.0,  -999.00, 9,   -999.0,   1.0765, 27.7915,   1.5826, 2, 9, 0.45, 0.13, 0.01, 0.016,  -999.00, 1, -999.00, -999.00, 9, -999.00