BOTTLE,20221005CCHSIOAMB
EXPOCODE,SECT_ID,STNNBR,CASTNO,SAMPNO,BTLNBR,BTLNBR_FLAG_W,DATE,TIME,LATITUDE,LONGITUDE,DEPTH,CTDPRS,CTDPRS_FLAG_W,CTDTMP,CTDTMP_FLAG_W,CTDSAL,CTDSAL_FLAG_W,SALNTY,SALNTY_FLAG_W,CTDOXY,CTDOXY_FLAG_W,OXYGEN,OXYGEN_FLAG_W,SILCAT,SILCAT_FLAG_W,NITRAT,NITRAT_FLAG_W,NITRIT,NITRIT_FLAG_W,PHSPHT,PHSPHT_FLAG_W,CFC-11,CFC-11_FLAG_W,CFC-12,CFC-12_FLAG_W,CFC113,CFC113_FLAG_W,CCL4,CCL4_FLAG_W,TCARBN,TCARBN_FLAG_W,ALKALI,ALKALI_FLAG_W,PH_TOT,PH_TMP,DELC14,DELC14_FLAG_W,C14ERR,DELC13,DELC13_FLAG_W,C13ERR,THETA,SIG0,SBE35,SBE35_FLAG_W,PH_TOT_FLAG_W,SILUNC,NRAUNC,NRIUNC,PHPUNC,CS-137,CS-137_FLAG_W,CS137ER,PLUTO,PLUTO_FLAG_W,PLUTOER
,,,,,,,,,,,METERS,DBAR,,ITS-90,,PSS-78,,PSS-78,,UMOL/KG,,UMOL/KG,,UMOL/KG,,UMOL/KG,,UMOL/KG,,UMOL/KG,,PMOL/KG,,PMOL/KG,,PMOL/KG,,PMOL/KG,,UMOL/KG,,UMOL/KG,,,DEG C,/MILLE,,/MILLE,/MILLE,,/MILLE,DEG C,KG/M^3,ITS-90,,,UMOL/KG,UMOL/KG,UMOL/KG,UMOL/KG,DM/.1MG,,BQ/M^3,MBQ/M^3,,MBQ/M^3
49NZ20071008, P01, P01_41, 1, 36, X12042, 2, 20071015, 0037, 46.9930, 163.3768, 5774,     10.7, 2,  10.1131, 2,  32.8072, 2,  32.8068, 2,    281.6, 2,    281.6, 2,    18.75, 2,    10.28, 2,     0.22, 2,     1.10, 2,    3.635, 2,    2.028, 2,    0.344, 2, -999.000, 9,   -999.0, 9,   -999.0, 9, -999.0000,   -999.00,   -999.0, 9,   -999.0,  -999.00, 9,   -999.0,  10.1119, 25.2214,  10.1126, 2, 9, 0.16, 0.06, 0.01, 0.013,  -999.00, 9, -999.00, -999.00, 9, -999.00
49NZ20071008, P01, P01_41, 1, 35, X12041, 2, 20071015, 0037, 46.9930, 163.3768, 5774,     51.2, 2,   9.7950, 2,  32.7752, 2,  32.8013, 3,    269.0, 2,    283.1, 2,    20.69, 2,    11.37, 2,     0.22, 2,     1.17, 2,    3.770, 2,    2.091, 2,    0.352, 2, -999.000, 9,   -999.0, 9,   -999.0, 9, -999.0000,   -999.00,   -999.0, 9,   -999.0,  -999.00, 9,   -999.0,   9.7893, 25.2499,   9.7906, 2, 9, 0.16, 0.06, 0.01, 0.013,  -999.00, 9, -999.00, -999.00, 9, -999.00
49NZ20071008, P01, P01_41, 1, 34, X12016, 2, 20071015, 0037, 46.9930, 163.3768, 5774,    100.0, 2,   4.2688, 2,  33.4317, 2,  33.4306, 2,    292.0, 2,    289.5, 2,    34.57, 2,    21.28, 2,     0.03, 2,     1.68, 2,    4.815, 2,    2.595, 2,    0.404, 2, -999.000, 9,   -999.0, 9,   -999.0, 9, -999.0000,   -999.00,   -999.0, 9,   -999.0,  -999.00, 9,   -999.0,   4.2619, 26.5119,   4.2689, 2, 9, 0.20, 0.09, 0.01, 0.014,  -999.00, 1, -999.00, -999.00, 9, -999.00
49NZ20071008, P01, P01_41, 1, 33, X12033, 2, 20071015, 0037, 46.9930, 163.3768, 5774,    150.0, 2,   3.4893, 2,  33.5307, 2,  33.5374, 2,    233.7, 2,    227.8, 2,    52.02, 2,    27.91, 2,     0.02, 2,     2.13, 2,    4.300, 6,    2.277, 6,    0.325, 6, -999.000, 9,   -999.0, 9,   -999.0, 9, -999.0000,   -999.00,   -999.0, 9,   -999.0,  -999.00, 9,   -999.0,   3.4798, 26.6683,   3.4862, 2, 9, 0.23, 0.11, 0.01, 0.015,  -999.00, 9, -999.00, -999.00, 9, -999.00
49NZ20071008, P01, P01_41, 1, 32, X12038, 2, 20071015, 0037, 46.9930, 163.3768, 5774,    201.5, 2,   3.2414, 2,  33.6415, 2,  33.6448, 2,    170.4, 2,    166.6, 2,    68.65, 2,    33.58, 2,     0.02, 2,     2.50, 2,    3.625, 2,    1.863, 2,    0.278, 2, -999.000, 9,   -999.0, 9,   -999.0, 9, -999.0000,   -999.00,   -999.0, 9,   -999.0,  -999.00, 9,   -999.0,   3.2289, 26.7800,   3.2393, 2, 9, 0.27, 0.13, 0.01, 0.016,  -999.00, 1, -999.00, -999.00, 9, -999.00
49NZ20071008, P01, P01_41, 1, 31, X12003, 2, 20071015, 0037, 46.9930, 163.3768, 5774,    251.6, 2,   3.1748, 2,  33.7198, 2,  33.7223, 6,    134.9, 2,    131.3, 2,    78.83, 2,    36.56, 2,     0.01, 2,     2.69, 2,    3.127, 2,    1.580, 2,    0.227, 2, -999.000, 9,   -999.0, 9,   -999.0, 9, -999.0000,   -999.00,   -999.0, 9,   -999.0,  -999.00, 9,   -999.0,   3.1592, 26.8488,   3.1778, 2, 9, 0.29, 0.14, 0.01, 0.017,  -999.00, 9, -999.00, -999.00, 9, -999.00
49NZ20071008, P01, P01_41, 1, 30, X12008, 2, 20071015, 0037, 46.9930, 163.3768, 5774,    328.7, 2,   3.3171, 2,  33.8550, 2,  33.8564, 2,     92.4, 2,     89.6, 2,    90.87, 2,    39.56, 2,     0.01, 2,     2.87, 2,    2.428, 2,    1.210, 2,    0.160, 2, -999.000, 9,   -999.0, 9,   -999.0, 9, -999.0000,   -999.00,   -999.0, 9,   -999.0,  -999.00, 9,   -999.0,   3.2961, 26.9440,   3.3166, 2, 9, 0.32, 0.14, 0.01, 0.017,  -999.00, 9, -999.00, -999.00, 9, -999.00
49NZ20071008, P01, P01_41, 1, 29, X12035, 2, 20071015, 0037, 46.9930, 163.3768, 5774,    433.0, 2,   3.4827, 2,  34.0045, 2,  34.0025, 2,     59.7, 2,     61.0, 2,   102.18, 2,    41.04, 2,     0.01, 2,     2.97, 2,    1.672, 2,    0.828, 2,    0.116, 2, -999.000, 9,   -999.0, 9,   -999.0, 9, -999.0000,   -999.00,   -999.0, 9,   -999.0,  -999.00, 9,   -999.0,   3.4540, 27.0483,   3.4803, 2, 9, 0.34, 0.15, 0.01, 0.017,  -999.00, 1, -999.00, -999.00, 9, -999.00
49NZ20071008, P01, P01_41, 1, 28, X12034, 2, 20071015, 0037, 46.9930, 163.3768, 5774,    530.1, 2,   3.4276, 2,  34.1139, 2,  34.1178, 6,     41.5, 2,     43.6, 2,   112.96, 2,    42.11, 2,     0.01, 2,     3.03, 2,    1.109, 2,    0.542, 2,    0.080, 2, -999.000, 9,   -999.0, 9,   -999.0, 9, -999.0000,   -999.00,   -999.0, 9,   -999.0,  -999.00, 9,   -999.0,   3.3921, 27.1414,   3.4265, 2, 9, 0.37, 0.15, 0.01, 0.018,  -999.00, 9, -999.00, -999.00, 9, -999.00
49NZ20071008, P01, P01_41, 1, 27, X12049, 2, 20071015, 0037, 46.9930, 163.3768, 5774,    629.9, 2,   3.3687, 2,  34.2137, 2,  34.2132, 2,     33.3, 2,     32.6, 2,   122.23, 2,    42.87, 2,     0.01, 2,     3.07, 2,    0.675, 2,    0.323, 2,    0.047, 2, -999.000, 9,   -999.0, 9,   -999.0, 9, -999.0000,   -999.00,   -999.0, 9,   -999.0,  -999.00, 9,   -999.0,   3.3262, 27.2272,   3.3692, 2, 9, 0.39, 0.15, 0.01, 0.018,  -999.00, 1, -999.00, -999.00, 9, -999.00
49NZ20071008, P01, P01_41, 1, 26, X12032, 2, 20071015, 0037, 46.9930, 163.3768, 5774,    731.2, 2,   3.2174, 2,  34.2730, 2,  34.2753, 2,     31.2, 2,     31.0, 2,   129.01, 2,    43.06, 2,     0.01, 2,     3.08, 2,    0.469, 6,    0.224, 6,    0.029, 6, -999.000, 9,   -999.0, 9,   -999.0, 9, -999.0000,   -999.00,   -999.0, 9,   -999.0,  -999.00, 9,   -999.0,   3.1683, 27.2892,   3.2174, 2, 9, 0.40, 0.15, 0.01, 0.018,  -999.00, 9, -999.00, -999.00, 9, -999.00
49NZ20071008, P01, P01_41, 1, 25, X12043, 2, 20071015, 0037, 46.9930, 163.3768, 5774,    829.4, 2,   3.0605, 2,  34.3240, 2,  34.3246, 2,     30.5, 2,     30.0, 2,   134.85, 2,    43.08, 2,     0.01, 2,     3.09, 2,    0.325, 2,    0.158, 2,    0.018, 2, -999.000, 9,   -999.0, 9,   -999.0, 9, -999.0000,   -999.00,   -999.0, 9,   -999.0,  -999.00, 9,   -999.0,   3.0052, 27.3450,   3.0603, 2, 9, 0.42, 0.15, 0.01, 0.018,  -999.00, 1, -999.00, -999.00, 9, -999.00
49NZ20071008, P01, P01_41, 1, 24, X12030, 2, 20071015, 0037, 46.9930, 163.3768, 5774,    932.2, 2,   2.8670, 2,  34.3629, 2,  34.3621, 2,     30.6, 2,     31.3, 2,   140.83, 2,    43.15, 2,     0.01, 2,     3.09, 2,    0.269, 2,    0.128, 2,    0.017, 2, -999.000, 9,   -999.0, 9,   -999.0, 9, -999.0000,   -999.00,   -999.0, 9,   -999.0,  -999.00, 9,   -999.0,   2.8054, 27.3940,   2.8667, 2, 9, 0.43, 0.15, 0.01, 0.018,  -999.00, 9, -999.00, -999.00, 9, -999.00
49NZ20071008, P01, P01_41, 1, 23, X12027, 2, 20071015, 0037, 46.9930, 163.3768, 5774,   1071.5, 2,   2.6793, 2,  34.4116, 2,  34.4121, 6,     31.2, 2,     31.0, 2,   147.48, 2,    43.20, 2,     0.01, 2,     3.09, 2,    0.163, 2,    0.077, 2,    0.012, 2, -999.000, 9,   -999.0, 9,   -999.0, 9, -999.0000,   -999.00,   -999.0, 9,   -999.0,  -999.00, 9,   -999.0,   2.6088, 27.4501,   2.6791, 2, 9, 0.44, 0.15, 0.01, 0.018,  -999.00, 1, -999.00, -999.00, 9, -999.00
49NZ20071008, P01, P01_41, 1, 22, X12028, 2, 20071015, 0037, 46.9930, 163.3768, 5774,   1272.4, 2,   2.4601, 2,  34.4639, 2,  34.4634, 2,     35.9, 2,     35.7, 2,   153.84, 2,    43.29, 2,     0.01, 2,     3.09, 2,    0.105, 2,    0.048, 2,    0.009, 2, -999.000, 9,   -999.0, 9,   -999.0, 9, -999.0000,   -999.00,   -999.0, 9,   -999.0,  -999.00, 9,   -999.0,   2.3764, 27.5116,   2.4602, 2, 9, 0.46, 0.15, 0.01, 0.018,  -999.00, 9, -999.00, -999.00, 9, -999.00
49NZ20071008, P01, P01_41, 1, 21, X12009, 2, 20071015, 0037, 46.9930, 163.3768, 5774,   1469.6, 2,   2.2786, 2,  34.5084, 2,  34.5085, 2,     42.8, 2,     42.2, 2,   158.49, 2,    42.90, 2,     0.01, 2,     3.06, 2,    0.054, 2,    0.025, 2,    0.010, 2, -999.000, 9,   -999.0, 9,   -999.0, 9, -999.0000,   -999.00,   -999.0, 9,   -999.0,  -999.00, 9,   -999.0,   2.1816, 27.5633,   2.2785, 2, 9, 0.47, 0.15, 0.01, 0.018,  -999.00, 9, -999.00, -999.00, 9, -999.00
49NZ20071008, P01, P01_41, 1, 20, X12026, 2, 20071015, 0037, 46.9930, 163.3768, 5774,   1672.6, 2,   2.1299, 2,  34.5424, 2,  34.5426, 2,     50.5, 2,     49.8, 2,   162.80, 2,    42.53, 2,     0.01, 2,     3.02, 2,    0.030, 2,    0.014, 2,    0.000, 2, -999.000, 9,   -999.0, 9,   -999.0, 9, -999.0000,   -999.00,   -999.0, 9,   -999.0,  -999.00, 9,   -999.0,   2.0187, 27.6035,   2.1297, 2, 9, 0.48, 0.15, 0.01, 0.017,  -999.00, 9, -999.00, -999.00, 9, -999.00
49NZ20071008, P01, P01_41, 1, 19, X12025, 2, 20071015, 0037, 46.9930, 163.3768, 5774,   1870.8, 2,   1.9984, 2,  34.5756, 2,  34.5754, 2,     61.2, 2,     62.0, 2,   163.14, 2,    41.94, 2,     0.01, 2,     2.97, 2,    0.014, 2,    0.009, 2,    0.000, 2, -999.000, 9,   -999.0, 9,   -999.0, 9, -999.0000,   -999.00,   -999.0, 9,   -999.0,  -999.00, 9,   -999.0,   1.8729, 27.6416,   1.9986, 2, 9, 0.48, 0.15, 0.01, 0.017,  -999.00, 1, -999.00, -999.00, 9, -999.00
49NZ20071008, P01, P01_41, 1, 18, X12024, 2, 20071015, 0037, 46.9930, 163.3768, 5774,   2072.1, 2,   1.8742, 2,  34.5987, 2,  34.5990, 2,     71.8, 2,     72.0, 2,   165.39, 2,    41.29, 2,     0.01, 2,     2.92, 2,    0.007, 2,    0.003, 2,    0.000, 2, -999.000, 9,   -999.0, 9,   -999.0, 9, -999.0000,   -999.00,   -999.0, 9,   -999.0,  -999.00, 9,   -999.0,   1.7338, 27.6708,   1.8743, 2, 9, 0.48, 0.15, 0.01, 0.017,  -999.00, 1, -999.00, -999.00, 9, -999.00
49NZ20071008, P01, P01_41, 1, 17, X12023, 2, 20071015, 0037, 46.9930, 163.3768, 5774,   2271.5, 2,   1.7799, 2,  34.6178, 2,  34.6180, 2,     82.8, 2,     84.3, 2,   165.17, 2,    40.43, 2,     0.01, 2,     2.87, 2,    0.006, 2,    0.004, 2,    0.000, 2, -999.000, 9,   -999.0, 9,   -999.0, 9, -999.0000,   -999.00,   -999.0, 9,   -999.0,  -999.00, 9,   -999.0,   1.6240, 27.6943,   1.7801, 2, 9, 0.48, 0.15, 0.01, 0.017,  -999.00, 1, -999.00, -999.00, 9, -999.00
49NZ20071008, P01, P01_41, 1, 16, X12022, 2, 20071015, 0037, 46.9930, 163.3768, 5774,   2472.5, 2,   1.7025, 2,  34.6337, 2,  34.6342, 2,     95.5, 2,     97.7, 2,   162.32, 2,    39.66, 2,     0.01, 2,     2.80, 2,    0.006, 2,    0.002, 2,    0.000, 2, -999.000, 9,   -999.0, 9,   -999.0, 9, -999.0000,   -999.00,   -999.0, 9,   -999.0,  -999.00, 9,   -999.0,   1.5303, 27.7140,   1.7026, 2, 9, 0.48, 0.14, 0.01, 0.017,  -999.00, 9, -999.00, -999.00, 9, -999.00
49NZ20071008, P01, P01_41, 1, 15, X12021, 2, 20071015, 0037, 46.9930, 163.3768, 5774,   2670.5, 2,   1.6451, 2,  34.6454, 2,  34.6456, 6,    106.5, 2,    108.5, 2,   159.16, 2,    38.96, 2,     0.01, 2,     2.75, 2, -999.000, 9, -999.000, 9, -999.000, 9, -999.000, 9,   -999.0, 9,   -999.0, 9, -999.0000,   -999.00,   -999.0, 9,   -999.0,  -999.00, 9,   -999.0,   1.4561, 27.7288,   1.6452, 2, 9, 0.47, 0.14, 0.01, 0.017,  -999.00, 9, -999.00, -999.00, 9, -999.00
49NZ20071008, P01, P01_41, 1, 14, X12020, 2, 20071015, 0037, 46.9930, 163.3768, 5774,   2869.7, 2,   1.6015, 2,  34.6536, 2,  34.6538, 2,    115.0, 2,    115.4, 2,   158.15, 2,    38.54, 2,     0.01, 2,     2.71, 2, -999.000, 9, -999.000, 9, -999.000, 9, -999.000, 9,   -999.0, 9,   -999.0, 9, -999.0000,   -999.00,   -999.0, 9,   -999.0,  -999.00, 9,   -999.0,   1.3949, 27.7398,   1.6014, 2, 9, 0.47, 0.14, 0.01, 0.017,  -999.00, 1, -999.00, -999.00, 9, -999.00
49NZ20071008, P01, P01_41, 1, 13, X12019, 2, 20071015, 0037, 46.9930, 163.3768, 5774,   3081.3, 2,   1.5566, 2,  34.6620, 2,  34.6625, 2,    123.5, 2,    124.2, 2,   156.15, 2,    37.99, 2,     0.01, 2,     2.67, 2,    0.003, 2,    0.001, 2,    0.000, 2, -999.000, 9,   -999.0, 9,   -999.0, 9, -999.0000,   -999.00,   -999.0, 9,   -999.0,  -999.00, 9,   -999.0,   1.3308, 27.7511,   1.5567, 2, 9, 0.46, 0.14, 0.01, 0.017,  -999.00, 1, -999.00, -999.00, 9, -999.00
49NZ20071008, P01, P01_41, 1, 12, X12040, 2, 20071015, 0037, 46.9930, 163.3768, 5774,   3330.4, 2,   1.5187, 2,  34.6693, 2,  34.6700, 2,    131.5, 2,    132.4, 2,   153.52, 2,    37.31, 2,     0.01, 2,     2.62, 2, -999.000, 9, -999.000, 9, -999.000, 9, -999.000, 9,   -999.0, 9,   -999.0, 9, -999.0000,   -999.00,   -999.0, 9,   -999.0,  -999.00, 9,   -999.0,   1.2693, 27.7613,   1.5188, 2, 9, 0.46, 0.14, 0.01, 0.017,  -999.00, 1, -999.00, -999.00, 9, -999.00
49NZ20071008, P01, P01_41, 1, 11, X12047, 2, 20071015, 0037, 46.9930, 163.3768, 5774,   3580.1, 2,   1.4970, 2,  34.6749, 2,  34.6751, 2,    138.6, 2,    138.9, 2,   151.55, 2,    37.05, 2,     0.01, 2,     2.59, 2, -999.000, 9, -999.000, 9, -999.000, 9, -999.000, 9,   -999.0, 9,   -999.0, 9, -999.0000,   -999.00,   -999.0, 9,   -999.0,  -999.00, 9,   -999.0,   1.2228, 27.7690,   1.4970, 2, 9, 0.45, 0.14, 0.01, 0.016,  -999.00, 9, -999.00, -999.00, 9, -999.00
49NZ20071008, P01, P01_41, 1, 10, X12010, 2, 20071015, 0037, 46.9930, 163.3768, 5774,   3829.6, 2,   1.4855, 2,  34.6789, 2,  34.6792, 2,    143.5, 2,    143.8, 2,   150.22, 2,    36.63, 2,     0.01, 2,     2.57, 2,    0.000, 2,    0.000, 2,    0.000, 2, -999.000, 9,   -999.0, 9,   -999.0, 9, -999.0000,   -999.00,   -999.0, 9,   -999.0,  -999.00, 9,   -999.0,   1.1854, 27.7748,   1.4855, 2, 9, 0.45, 0.14, 0.01, 0.016,  -999.00, 1, -999.00, -999.00, 9, -999.00
49NZ20071008, P01, P01_41, 1, 9, X12015, 2, 20071015, 0037, 46.9930, 163.3768, 5774,   4080.1, 2,   1.4805, 2,  34.6823, 2,  34.6823, 2,    147.8, 2,    148.1, 2,   149.15, 2,    36.41, 2,     0.01, 2,     2.54, 2, -999.000, 9, -999.000, 9, -999.000, 9, -999.000, 9,   -999.0, 9,   -999.0, 9, -999.0000,   -999.00,   -999.0, 9,   -999.0,  -999.00, 9,   -999.0,   1.1534, 27.7797,   1.4806, 2, 9, 0.45, 0.13, 0.01, 0.016,  -999.00, 1, -999.00, -999.00, 9, -999.00
49NZ20071008, P01, P01_41, 1, 8, X12046, 2, 20071015, 0037, 46.9930, 163.3768, 5774,   4330.3, 2,   1.4835, 2,  34.6849, 2,  34.6852, 6,    151.0, 2,    151.5, 2,   148.49, 2,    36.21, 2,     0.01, 2,     2.53, 2, -999.000, 9, -999.000, 9, -999.000, 9, -999.000, 9,   -999.0, 9,   -999.0, 9, -999.0000,   -999.00,   -999.0, 9,   -999.0,  -999.00, 9,   -999.0,   1.1284, 27.7835,   1.4835, 2, 9, 0.45, 0.13, 0.01, 0.016,  -999.00, 1, -999.00, -999.00, 9, -999.00
49NZ20071008, P01, P01_41, 1, 7, X12044, 2, 20071015, 0037, 46.9930, 163.3768, 5774,   4580.2, 2,   1.4937, 2,  34.6868, 2,  34.6870, 2,    153.8, 2,    154.0, 2,   147.75, 2,    35.97, 2,     0.01, 2,     2.52, 2,    0.001, 2,    0.000, 2,    0.000, 2, -999.000, 9,   -999.0, 9,   -999.0, 9, -999.0000,   -999.00,   -999.0, 9,   -999.0,  -999.00, 9,   -999.0,   1.1096, 27.7863,   1.4937, 2, 9, 0.44, 0.13, 0.01, 0.016,  -999.00, 9, -999.00, -999.00, 9, -999.00
49NZ20071008, P01, P01_41, 1, 6, X12048, 2, 20071015, 0037, 46.9930, 163.3768, 5774,   4832.0, 2,   1.5074, 2,  34.6887, 2,  34.6890, 2,    156.0, 2,    156.1, 2,   147.55, 2,    35.80, 2,     0.01, 2,     2.50, 2, -999.000, 9, -999.000, 9, -999.000, 9, -999.000, 9,   -999.0, 9,   -999.0, 9, -999.0000,   -999.00,   -999.0, 9,   -999.0,  -999.00, 9,   -999.0,   1.0932, 27.7889,   1.5076, 2, 9, 0.44, 0.13, 0.01, 0.016,  -999.00, 1, -999.00, -999.00, 9, -999.00
49NZ20071008, P01, P01_41, 1, 5, X12014, 2, 20071015, 0037, 46.9930, 163.3768, 5774,   5079.2, 2,   1.5287, 2,  34.6897, 2,  34.6899, 2,    157.5, 2,    157.3, 2,   147.74, 2,    35.71, 2,     0.01, 2,     2.50, 2, -999.000, 9, -999.000, 9, -999.000, 9, -999.000, 9,   -999.0, 9,   -999.0, 9, -999.0000,   -999.00,   -999.0, 9,   -999.0,  -999.00, 9,   -999.0,   1.0838, 27.7904,   1.5287, 2, 9, 0.44, 0.13, 0.01, 0.016,  -999.00, 1, -999.00, -999.00, 9, -999.00
49NZ20071008, P01, P01_41, 1, 4, X12006, 2, 20071015, 0037, 46.9930, 163.3768, 5774,   5326.9, 2,   1.5554, 2,  34.6904, 2,  34.6906, 2,    157.9, 2,    157.7, 2,   149.33, 2,    35.79, 2,     0.01, 2,     2.50, 2,    0.001, 2,    0.001, 2,    0.000, 2, -999.000, 9,   -999.0, 9,   -999.0, 9, -999.0000,   -999.00,   -999.0, 9,   -999.0,  -999.00, 9,   -999.0,   1.0788, 27.7913,   1.5554, 2, 9, 0.45, 0.13, 0.01, 0.016,  -999.00, 1, -999.00, -999.00, 9, -999.00
49NZ20071008, P01, P01_41, 1, 3, X12013, 2, 20071015, 0037, 46.9930, 163.3768, 5774,   5579.3, 2,   1.5880, 2,  34.6903, 2,  34.6904, 2,    158.2, 2,    157.8, 2,   148.88, 2,    35.76, 2,     0.01, 2,     2.50, 2, -999.000, 9, -999.000, 9, -999.000, 9, -999.000, 9,   -999.0, 9,   -999.0, 9, -999.0000,   -999.00,   -999.0, 9,   -999.0,  -999.00, 9,   -999.0,   1.0780, 27.7913,   1.5878, 2, 9, 0.45, 0.13, 0.01, 0.016,  -999.00, 9, -999.00, -999.00, 9, -999.00
49NZ20071008, P01, P01_41, 1, 2, X12002, 2, 20071015, 0037, 46.9930, 163.3768, 5774,   5829.0, 2,   1.6206, 2,  34.6905, 2,  34.6908, 2,    158.5, 2,    158.1, 2,   148.93, 2,    35.73, 2,     0.01, 2,     2.49, 2, -999.000, 9, -999.000, 9, -999.000, 9, -999.000, 9,   -999.0, 9,   -999.0, 9, -999.0000,   -999.00,   -999.0, 9,   -999.0,  -999.00, 9,   -999.0,   1.0768, 27.7915,   1.6203, 2, 9, 0.45, 0.13, 0.01, 0.016,  -999.00, 1, -999.00, -999.00, 9, -999.00
49NZ20071008, P01, P01_41, 1, 1, X12001, 2, 20071015, 0037, 46.9930, 163.3768, 5774,   5896.3, 2,   1.6298, 2,  34.6905, 2,  34.6904, 6,    158.4, 2,    158.2, 2,   148.99, 2,    35.84, 2,     0.01, 2,     2.50, 2,    0.005, 2,    0.000, 2,    0.000, 2, -999.000, 9,   -999.0, 9,   -999.0, 9, -999.0000,   -999.00,   -999.0, 9,   -999.0,  -999.00, 9,   -999.0,   1.0767, 27.7915,   1.6296, 2, 9, 0.45, 0.13, 0.01, 0.016,  -999.00, 1, -999.00, -999.00, 9, -999.00