BOTTLE,20221005CCHSIOAMB
EXPOCODE,SECT_ID,STNNBR,CASTNO,SAMPNO,BTLNBR,BTLNBR_FLAG_W,DATE,TIME,LATITUDE,LONGITUDE,DEPTH,CTDPRS,CTDPRS_FLAG_W,CTDTMP,CTDTMP_FLAG_W,CTDSAL,CTDSAL_FLAG_W,SALNTY,SALNTY_FLAG_W,CTDOXY,CTDOXY_FLAG_W,OXYGEN,OXYGEN_FLAG_W,SILCAT,SILCAT_FLAG_W,NITRAT,NITRAT_FLAG_W,NITRIT,NITRIT_FLAG_W,PHSPHT,PHSPHT_FLAG_W,CFC-11,CFC-11_FLAG_W,CFC-12,CFC-12_FLAG_W,CFC113,CFC113_FLAG_W,CCL4,CCL4_FLAG_W,TCARBN,TCARBN_FLAG_W,ALKALI,ALKALI_FLAG_W,PH_TOT,PH_TMP,DELC14,DELC14_FLAG_W,C14ERR,DELC13,DELC13_FLAG_W,C13ERR,THETA,SIG0,SBE35,SBE35_FLAG_W,PH_TOT_FLAG_W,SILUNC,NRAUNC,NRIUNC,PHPUNC,CS-137,CS-137_FLAG_W,CS137ER,PLUTO,PLUTO_FLAG_W,PLUTOER
,,,,,,,,,,,METERS,DBAR,,ITS-90,,PSS-78,,PSS-78,,UMOL/KG,,UMOL/KG,,UMOL/KG,,UMOL/KG,,UMOL/KG,,UMOL/KG,,PMOL/KG,,PMOL/KG,,PMOL/KG,,PMOL/KG,,UMOL/KG,,UMOL/KG,,,DEG C,/MILLE,,/MILLE,/MILLE,,/MILLE,DEG C,KG/M^3,ITS-90,,,UMOL/KG,UMOL/KG,UMOL/KG,UMOL/KG,DM/.1MG,,BQ/M^3,MBQ/M^3,,MBQ/M^3
49NZ20071008, P14N, 14, 1, 36, X12042, 2, 20071024, 0729, 52.5078, -178.7558, 3477,     10.2, 2,   6.4071, 2,  33.0338, 2,  33.0342, 2,    295.5, 2,    295.4, 2,    33.53, 2,    20.22, 2,     0.22, 2,     1.72, 2,    3.956, 2,    2.364, 2,    0.335, 2, -999.000, 9,   -999.0, 9,   -999.0, 9, -999.0000,   -999.00,   -999.0, 9,   -999.0,  -999.00, 9,   -999.0,   6.4062, 25.9481,   6.4069, 2, 9, 0.19, 0.09, 0.01, 0.014,  -999.00, 9, -999.00, -999.00, 9, -999.00
49NZ20071008, P14N, 14, 1, 35, X12041, 2, 20071024, 0729, 52.5078, -178.7558, 3477,     50.6, 2,   6.3969, 2,  33.0396, 2,  33.0409, 2,    292.2, 2,    292.9, 2,    33.95, 2,    20.38, 2,     0.22, 2,     1.74, 2, -999.000, 9, -999.000, 9, -999.000, 9, -999.000, 9,   -999.0, 9,   -999.0, 9, -999.0000,   -999.00,   -999.0, 9,   -999.0,  -999.00, 9,   -999.0,   6.3926, 25.9544,   6.3963, 2, 9, 0.19, 0.09, 0.01, 0.014,  -999.00, 9, -999.00, -999.00, 9, -999.00
49NZ20071008, P14N, 14, 1, 34, X12016, 2, 20071024, 0729, 52.5078, -178.7558, 3477,    100.5, 2,   4.9648, 2,  33.3818, 2,  33.3816, 2,    210.2, 2,    198.1, 2,    60.48, 2,    30.72, 2,     0.02, 2,     2.33, 2,    3.334, 2,    1.896, 2,    0.272, 2, -999.000, 9,   -999.0, 9,   -999.0, 9, -999.0000,   -999.00,   -999.0, 9,   -999.0,  -999.00, 9,   -999.0,   4.9573, 26.3972,   4.9643, 2, 9, 0.25, 0.12, 0.01, 0.016,  -999.00, 9, -999.00, -999.00, 9, -999.00
49NZ20071008, P14N, 14, 1, 33, X12033, 2, 20071024, 0729, 52.5078, -178.7558, 3477,    150.7, 2,   3.9717, 2,  33.3115, 2,  33.3143, 2,    227.8, 2,    238.1, 2,    59.98, 2,    30.71, 2,     0.02, 2,     2.32, 2, -999.000, 9, -999.000, 9, -999.000, 9, -999.000, 9,   -999.0, 9,   -999.0, 9, -999.0000,   -999.00,   -999.0, 9,   -999.0,  -999.00, 9,   -999.0,   3.9616, 26.4469,   3.9718, 2, 9, 0.25, 0.12, 0.01, 0.016,  -999.00, 9, -999.00, -999.00, 9, -999.00
49NZ20071008, P14N, 14, 1, 32, X12038, 2, 20071024, 0729, 52.5078, -178.7558, 3477,    199.2, 2,   3.7135, 2,  33.3248, 2,  33.3284, 2,    228.6, 2,    251.6, 2,    61.78, 2,    31.31, 2,     0.02, 2,     2.36, 2,    4.034, 2,    2.385, 2,    0.361, 2, -999.000, 9,   -999.0, 9,   -999.0, 9, -999.0000,   -999.00,   -999.0, 9,   -999.0,  -999.00, 9,   -999.0,   3.7005, 26.4832,   3.7132, 2, 9, 0.25, 0.12, 0.01, 0.016,  -999.00, 9, -999.00, -999.00, 9, -999.00
49NZ20071008, P14N, 14, 1, 31, X12003, 2, 20071024, 0729, 52.5078, -178.7558, 3477,    250.3, 2,   4.0440, 2,  33.4527, 2,  33.4542, 6,    196.6, 2,    188.4, 2,    68.09, 2,    33.25, 2,     0.02, 2,     2.48, 2, -999.000, 9, -999.000, 9, -999.000, 9, -999.000, 9,   -999.0, 9,   -999.0, 9, -999.0000,   -999.00,   -999.0, 9,   -999.0,  -999.00, 9,   -999.0,   4.0269, 26.5527,   4.0438, 2, 9, 0.27, 0.13, 0.01, 0.016,  -999.00, 9, -999.00, -999.00, 9, -999.00
49NZ20071008, P14N, 14, 1, 30, X12008, 2, 20071024, 0729, 52.5078, -178.7558, 3477,    329.8, 2,   4.0228, 2,  33.6049, 2,  33.6125, 2,    146.1, 2,    143.0, 2,    77.84, 2,    36.02, 2,     0.01, 2,     2.64, 2,    2.820, 2,    1.538, 2,    0.237, 2, -999.000, 9,   -999.0, 9,   -999.0, 9, -999.0000,   -999.00,   -999.0, 9,   -999.0,  -999.00, 9,   -999.0,   4.0000, 26.6764,   4.0227, 2, 9, 0.29, 0.13, 0.01, 0.017,  -999.00, 9, -999.00, -999.00, 9, -999.00
49NZ20071008, P14N, 14, 1, 29, X12035, 2, 20071024, 0729, 52.5078, -178.7558, 3477,    429.3, 2,   3.8620, 2,  33.8035, 2,  33.8128, 2,     91.7, 2,     88.8, 2,   105.33, 2,    43.13, 2,     0.01, 2,     3.07, 2, -999.000, 9, -999.000, 9, -999.000, 9, -999.000, 9,   -999.0, 9,   -999.0, 9, -999.0000,   -999.00,   -999.0, 9,   -999.0,  -999.00, 9,   -999.0,   3.8324, 26.8512,   3.8618, 2, 9, 0.35, 0.15, 0.01, 0.018,  -999.00, 9, -999.00, -999.00, 9, -999.00
49NZ20071008, P14N, 14, 1, 28, X12034, 2, 20071024, 0729, 52.5078, -178.7558, 3477,    529.9, 2,   3.7010, 2,  33.9949, 2,  33.9968, 6,     52.5, 2,     43.4, 2,   105.22, 2,    43.20, 2,     0.01, 2,     3.07, 2,    1.407, 2,    0.693, 2,    0.108, 2, -999.000, 9,   -999.0, 9,   -999.0, 9, -999.0000,   -999.00,   -999.0, 9,   -999.0,  -999.00, 9,   -999.0,   3.6645, 27.0202,   3.7009, 2, 9, 0.35, 0.15, 0.01, 0.018,  -999.00, 9, -999.00, -999.00, 9, -999.00
49NZ20071008, P14N, 14, 1, 27, X12049, 2, 20071024, 0729, 52.5078, -178.7558, 3477,    629.8, 2,   3.6102, 2,  34.0786, 2,  34.0789, 2,     31.7, 2,     31.0, 2,   112.81, 2,    43.88, 2,     0.02, 2,     3.11, 2, -999.000, 9, -999.000, 9, -999.000, 9, -999.000, 9,   -999.0, 9,   -999.0, 9, -999.0000,   -999.00,   -999.0, 9,   -999.0,  -999.00, 9,   -999.0,   3.5667, 27.0965,   3.6101, 2, 9, 0.37, 0.16, 0.01, 0.018,  -999.00, 9, -999.00, -999.00, 9, -999.00
49NZ20071008, P14N, 14, 1, 26, X12032, 2, 20071024, 0729, 52.5078, -178.7558, 3477,    728.9, 2,   3.4988, 2,  34.1482, 2,  34.1486, 2,     23.6, 2,     22.1, 2,   119.45, 2,    44.32, 2,     0.01, 2,     3.15, 2,    0.755, 2,    0.357, 2,    0.051, 2, -999.000, 9,   -999.0, 9,   -999.0, 9, -999.0000,   -999.00,   -999.0, 9,   -999.0,  -999.00, 9,   -999.0,   3.4484, 27.1633,   3.4987, 2, 9, 0.38, 0.16, 0.01, 0.018,  -999.00, 9, -999.00, -999.00, 9, -999.00
49NZ20071008, P14N, 14, 1, 25, X12043, 2, 20071024, 0729, 52.5078, -178.7558, 3477,    830.1, 2,   3.3089, 2,  34.2167, 2,  34.2177, 2,     20.6, 2,     20.6, 2,   127.93, 2,    44.39, 2,     0.01, 2,     3.15, 2,    0.539, 2,    0.253, 2,    0.052, 2, -999.000, 9,   -999.0, 9,   -999.0, 9, -999.0000,   -999.00,   -999.0, 9,   -999.0,  -999.00, 9,   -999.0,   3.2520, 27.2366,   3.3089, 2, 9, 0.40, 0.16, 0.01, 0.018,  -999.00, 9, -999.00, -999.00, 9, -999.00
49NZ20071008, P14N, 14, 1, 24, X12030, 2, 20071024, 0729, 52.5078, -178.7558, 3477,    931.5, 2,   3.1141, 2,  34.2791, 2,  34.2793, 2,     19.0, 2,     19.5, 2,   135.90, 2,    44.16, 2,     0.02, 2,     3.15, 2,    0.376, 2,    0.178, 2,    0.021, 2, -999.000, 9,   -999.0, 9,   -999.0, 9, -999.0000,   -999.00,   -999.0, 9,   -999.0,  -999.00, 9,   -999.0,   3.0509, 27.3050,   3.1140, 2, 9, 0.42, 0.16, 0.01, 0.018,  -999.00, 9, -999.00, -999.00, 9, -999.00
49NZ20071008, P14N, 14, 1, 23, X12027, 2, 20071024, 0729, 52.5078, -178.7558, 3477,   1069.4, 2,   2.9118, 2,  34.3344, 2,  34.3354, 6,     18.7, 2,     21.4, 2,   144.24, 2,    44.16, 2,     0.01, 2,     3.15, 2,    0.268, 2,    0.128, 2,    0.029, 2, -999.000, 9,   -999.0, 9,   -999.0, 9, -999.0000,   -999.00,   -999.0, 9,   -999.0,  -999.00, 9,   -999.0,   2.8397, 27.3682,   2.9114, 2, 9, 0.44, 0.16, 0.01, 0.018,  -999.00, 9, -999.00, -999.00, 9, -999.00
49NZ20071008, P14N, 14, 1, 22, X12028, 2, 20071024, 0729, 52.5078, -178.7558, 3477,   1269.9, 2,   2.6772, 2,  34.4040, 2,  34.4038, 2,     18.7, 2,     18.9, 2,   154.78, 2,    44.25, 2,     0.02, 2,     3.16, 2,    0.117, 2,    0.056, 2,    0.026, 2, -999.000, 9,   -999.0, 9,   -999.0, 9, -999.0000,   -999.00,   -999.0, 9,   -999.0,  -999.00, 9,   -999.0,   2.5917, 27.4454,   2.6771, 2, 9, 0.46, 0.16, 0.01, 0.018,  -999.00, 9, -999.00, -999.00, 9, -999.00
49NZ20071008, P14N, 14, 1, 21, X12009, 2, 20071024, 0729, 52.5078, -178.7558, 3477,   1472.6, 2,   2.4174, 2,  34.4650, 2,  34.4650, 2,     23.7, 2,     23.7, 2,   166.88, 2,    43.98, 2,     0.01, 2,     3.15, 2,    0.073, 2,    0.028, 2,    0.010, 2, -999.000, 9,   -999.0, 9,   -999.0, 9, -999.0000,   -999.00,   -999.0, 9,   -999.0,  -999.00, 9,   -999.0,   2.3187, 27.5173,   2.4177, 2, 9, 0.49, 0.16, 0.01, 0.018,  -999.00, 9, -999.00, -999.00, 9, -999.00
49NZ20071008, P14N, 14, 1, 20, X12026, 2, 20071024, 0729, 52.5078, -178.7558, 3477,   1669.8, 2,   2.1973, 2,  34.5160, 2,  34.5157, 2,     31.3, 2,     31.4, 2,   177.41, 2,    43.33, 2,     0.01, 2,     3.13, 2,    0.031, 2,    0.014, 2,    0.000, 2, -999.000, 9,   -999.0, 9,   -999.0, 9, -999.0000,   -999.00,   -999.0, 9,   -999.0,  -999.00, 9,   -999.0,   2.0855, 27.5771,   2.1973, 2, 9, 0.51, 0.15, 0.01, 0.018,  -999.00, 9, -999.00, -999.00, 9, -999.00
49NZ20071008, P14N, 14, 1, 19, X12025, 2, 20071024, 0729, 52.5078, -178.7558, 3477,   1870.6, 2,   2.0393, 2,  34.5522, 2,  34.5525, 6,     40.1, 2,     39.9, 2,   185.89, 2,    42.64, 2,     0.02, 2,     3.09, 2,    0.006, 2,    0.003, 2,    0.000, 2, -999.000, 9,   -999.0, 9,   -999.0, 9, -999.0000,   -999.00,   -999.0, 9,   -999.0,  -999.00, 9,   -999.0,   1.9133, 27.6197,   2.0392, 2, 9, 0.53, 0.15, 0.01, 0.018,  -999.00, 9, -999.00, -999.00, 9, -999.00
49NZ20071008, P14N, 14, 1, 18, X12024, 2, 20071024, 0729, 52.5078, -178.7558, 3477,   2070.0, 2,   1.8948, 2,  34.5831, 2,  34.5833, 2,     53.7, 2,     53.7, 2,   195.14, 2,    41.36, 2,     0.02, 2,     3.04, 2,    0.010, 2,    0.005, 2,    0.000, 2, -999.000, 9,   -999.0, 9,   -999.0, 9, -999.0000,   -999.00,   -999.0, 9,   -999.0,  -999.00, 9,   -999.0,   1.7543, 27.6567,   1.8948, 2, 9, 0.55, 0.15, 0.01, 0.018,  -999.00, 9, -999.00, -999.00, 9, -999.00
49NZ20071008, P14N, 14, 1, 17, X12023, 2, 20071024, 0729, 52.5078, -178.7558, 3477,   2269.7, 2,   1.7996, 2,  34.6055, 2,  34.6060, 2,     61.4, 2,     61.5, 2,   200.44, 2,    40.83, 2,     0.01, 2,     3.03, 2,    0.004, 2,    0.002, 2,    0.000, 2, -999.000, 9,   -999.0, 9,   -999.0, 9, -999.0000,   -999.00,   -999.0, 9,   -999.0,  -999.00, 9,   -999.0,   1.6435, 27.6830,   1.7995, 2, 9, 0.56, 0.15, 0.01, 0.018,  -999.00, 9, -999.00, -999.00, 9, -999.00
49NZ20071008, P14N, 14, 1, 16, X12022, 2, 20071024, 0729, 52.5078, -178.7558, 3477,   2471.6, 2,   1.7262, 2,  34.6231, 2,  34.6233, 2,     69.0, 2,     69.0, 2,   204.97, 2,    40.12, 2,     0.01, 2,     3.00, 2,    0.004, 2,    0.003, 2,    0.000, 2, -999.000, 9,   -999.0, 9,   -999.0, 9, -999.0000,   -999.00,   -999.0, 9,   -999.0,  -999.00, 9,   -999.0,   1.5537, 27.7037,   1.7261, 2, 9, 0.57, 0.15, 0.01, 0.017,  -999.00, 9, -999.00, -999.00, 9, -999.00
49NZ20071008, P14N, 14, 1, 15, X12021, 2, 20071024, 0729, 52.5078, -178.7558, 3477,   2670.6, 2,   1.6719, 2,  34.6367, 2,  34.6367, 6,     76.0, 2,     76.5, 2,   208.17, 2,    39.63, 2,     0.01, 2,     2.98, 2,    0.003, 2,    0.003, 2,    0.000, 2, -999.000, 9,   -999.0, 9,   -999.0, 9, -999.0000,   -999.00,   -999.0, 9,   -999.0,  -999.00, 9,   -999.0,   1.4824, 27.7199,   1.6718, 2, 9, 0.58, 0.14, 0.01, 0.017,  -999.00, 9, -999.00, -999.00, 9, -999.00
49NZ20071008, P14N, 14, 1, 14, X12020, 2, 20071024, 0729, 52.5078, -178.7558, 3477,   2872.3, 2,   1.6308, 2,  34.6473, 2,  34.6477, 2,     83.3, 2,     83.3, 2,   210.72, 2,    39.25, 2,     0.01, 2,     2.96, 2,    0.000, 2,    0.001, 2,    0.000, 2, -999.000, 9,   -999.0, 9,   -999.0, 9, -999.0000,   -999.00,   -999.0, 9,   -999.0,  -999.00, 9,   -999.0,   1.4234, 27.7327,   1.6307, 2, 9, 0.58, 0.14, 0.01, 0.017,  -999.00, 9, -999.00, -999.00, 9, -999.00
49NZ20071008, P14N, 14, 1, 13, X12019, 2, 20071024, 0729, 52.5078, -178.7558, 3477,   3082.3, 2,   1.6065, 2,  34.6549, 2,  34.6555, 2,     88.7, 2,     88.8, 2,   213.44, 2,    38.61, 2,     0.01, 2,     2.94, 2,    0.001, 2,    0.001, 2,    0.000, 2, -999.000, 9,   -999.0, 9,   -999.0, 9, -999.0000,   -999.00,   -999.0, 9,   -999.0,  -999.00, 9,   -999.0,   1.3795, 27.7419,   1.6064, 2, 9, 0.59, 0.14, 0.01, 0.017,  -999.00, 9, -999.00, -999.00, 9, -999.00
49NZ20071008, P14N, 14, 1, 12, X12040, 2, 20071024, 0729, 52.5078, -178.7558, 3477,   3332.4, 2,   1.5940, 2,  34.6615, 2,  34.6618, 2,     93.3, 2,     93.2, 2,   215.69, 2,    38.41, 2,     0.00, 2,     2.92, 2,    0.004, 2,    0.002, 2,    0.000, 2, -999.000, 9,   -999.0, 9,   -999.0, 9, -999.0000,   -999.00,   -999.0, 9,   -999.0,  -999.00, 9,   -999.0,   1.3426, 27.7498,   1.5939, 2, 9, 0.59, 0.14, 0.01, 0.017,  -999.00, 9, -999.00, -999.00, 9, -999.00
49NZ20071008, P14N, 14, 1, 11, X12047, 9, 20071024, 0729, 52.5078, -178.7558, 3477,     10.4, 2,   6.4071, 2,  33.0338, 2, -999.0000, 9,    295.5, 2,   -999.0, 9,  -999.00, 9,  -999.00, 9,  -999.00, 9,  -999.00, 9, -999.000, 9, -999.000, 9, -999.000, 9, -999.000, 9,   -999.0, 9,   -999.0, 9, -999.0000,   -999.00,   -999.0, 9,   -999.0,  -999.00, 9,   -999.0,   6.4062, 25.9481,   6.4067, 2, 9, -999.00, -999.00, -999.00, -999.000,  -999.00, 9, -999.00, -999.00, 9, -999.00
49NZ20071008, P14N, 14, 1, 10, X12010, 9, 20071024, 0729, 52.5078, -178.7558, 3477,   1669.0, 2,   2.1978, 2,  34.5157, 2, -999.0000, 9,     31.3, 2,   -999.0, 9,  -999.00, 9,  -999.00, 9,  -999.00, 9,  -999.00, 9, -999.000, 9, -999.000, 9, -999.000, 9, -999.000, 9,   -999.0, 9,   -999.0, 9, -999.0000,   -999.00,   -999.0, 9,   -999.0,  -999.00, 9,   -999.0,   2.0861, 27.5768,   2.1976, 2, 9, -999.00, -999.00, -999.00, -999.000,  -999.00, 9, -999.00, -999.00, 9, -999.00
49NZ20071008, P14N, 14, 1, 9, X12015, 9, 20071024, 0729, 52.5078, -178.7558, 3477,   1870.6, 2,   2.0389, 2,  34.5526, 2, -999.0000, 9,     40.1, 2,   -999.0, 9,  -999.00, 9,  -999.00, 9,  -999.00, 9,  -999.00, 9, -999.000, 9, -999.000, 9, -999.000, 9, -999.000, 9,   -999.0, 9,   -999.0, 9, -999.0000,   -999.00,   -999.0, 9,   -999.0,  -999.00, 9,   -999.0,   1.9129, 27.6201,   2.0390, 2, 9, -999.00, -999.00, -999.00, -999.000,  -999.00, 9, -999.00, -999.00, 9, -999.00
49NZ20071008, P14N, 14, 1, 8, X12046, 9, 20071024, 0729, 52.5078, -178.7558, 3477,   2069.6, 2,   1.8948, 2,  34.5830, 2, -999.0000, 9,     53.7, 2,   -999.0, 9,  -999.00, 9,  -999.00, 9,  -999.00, 9,  -999.00, 9, -999.000, 9, -999.000, 9, -999.000, 9, -999.000, 9,   -999.0, 9,   -999.0, 9, -999.0000,   -999.00,   -999.0, 9,   -999.0,  -999.00, 9,   -999.0,   1.7543, 27.6566,   1.8947, 2, 9, -999.00, -999.00, -999.00, -999.000,  -999.00, 9, -999.00, -999.00, 9, -999.00
49NZ20071008, P14N, 14, 1, 7, X12044, 9, 20071024, 0729, 52.5078, -178.7558, 3477,   2269.3, 2,   1.8000, 2,  34.6055, 2, -999.0000, 9,     61.4, 2,   -999.0, 9,  -999.00, 9,  -999.00, 9,  -999.00, 9,  -999.00, 9, -999.000, 9, -999.000, 9, -999.000, 9, -999.000, 9,   -999.0, 9,   -999.0, 9, -999.0000,   -999.00,   -999.0, 9,   -999.0,  -999.00, 9,   -999.0,   1.6440, 27.6829,   1.7999, 2, 9, -999.00, -999.00, -999.00, -999.000,  -999.00, 9, -999.00, -999.00, 9, -999.00
49NZ20071008, P14N, 14, 1, 6, X12048, 9, 20071024, 0729, 52.5078, -178.7558, 3477,   2471.4, 2,   1.7272, 2,  34.6228, 2, -999.0000, 9,     69.0, 2,   -999.0, 9,  -999.00, 9,  -999.00, 9,  -999.00, 9,  -999.00, 9, -999.000, 9, -999.000, 9, -999.000, 9, -999.000, 9,   -999.0, 9,   -999.0, 9, -999.0000,   -999.00,   -999.0, 9,   -999.0,  -999.00, 9,   -999.0,   1.5547, 27.7034,   1.7270, 2, 9, -999.00, -999.00, -999.00, -999.000,  -999.00, 9, -999.00, -999.00, 9, -999.00
49NZ20071008, P14N, 14, 1, 5, X12014, 9, 20071024, 0729, 52.5078, -178.7558, 3477,   2669.9, 2,   1.6719, 2,  34.6368, 2, -999.0000, 9,     76.0, 2,   -999.0, 9,  -999.00, 9,  -999.00, 9,  -999.00, 9,  -999.00, 9, -999.000, 9, -999.000, 9, -999.000, 9, -999.000, 9,   -999.0, 9,   -999.0, 9, -999.0000,   -999.00,   -999.0, 9,   -999.0,  -999.00, 9,   -999.0,   1.4825, 27.7199,   1.6719, 2, 9, -999.00, -999.00, -999.00, -999.000,  -999.00, 9, -999.00, -999.00, 9, -999.00
49NZ20071008, P14N, 14, 1, 4, X12006, 9, 20071024, 0729, 52.5078, -178.7558, 3477,   2872.1, 2,   1.6307, 2,  34.6472, 2, -999.0000, 9,     83.3, 2,   -999.0, 9,  -999.00, 9,  -999.00, 9,  -999.00, 9,  -999.00, 9, -999.000, 9, -999.000, 9, -999.000, 9, -999.000, 9,   -999.0, 9,   -999.0, 9, -999.0000,   -999.00,   -999.0, 9,   -999.0,  -999.00, 9,   -999.0,   1.4233, 27.7326,   1.6305, 2, 9, -999.00, -999.00, -999.00, -999.000,  -999.00, 9, -999.00, -999.00, 9, -999.00
49NZ20071008, P14N, 14, 1, 3, X12013, 9, 20071024, 0729, 52.5078, -178.7558, 3477,   3081.5, 2,   1.6064, 2,  34.6548, 2, -999.0000, 9,     88.6, 2,   -999.0, 9,  -999.00, 9,  -999.00, 9,  -999.00, 9,  -999.00, 9, -999.000, 9, -999.000, 9, -999.000, 9, -999.000, 9,   -999.0, 9,   -999.0, 9, -999.0000,   -999.00,   -999.0, 9,   -999.0,  -999.00, 9,   -999.0,   1.3795, 27.7418,   1.6063, 2, 9, -999.00, -999.00, -999.00, -999.000,  -999.00, 9, -999.00, -999.00, 9, -999.00
49NZ20071008, P14N, 14, 1, 2, X12002, 9, 20071024, 0729, 52.5078, -178.7558, 3477,   3332.1, 2,   1.5939, 2,  34.6616, 2, -999.0000, 9,     93.3, 2,   -999.0, 9,  -999.00, 9,  -999.00, 9,  -999.00, 9,  -999.00, 9, -999.000, 9, -999.000, 9, -999.000, 9, -999.000, 9,   -999.0, 9,   -999.0, 9, -999.0000,   -999.00,   -999.0, 9,   -999.0,  -999.00, 9,   -999.0,   1.3426, 27.7499,   1.5939, 2, 9, -999.00, -999.00, -999.00, -999.000,  -999.00, 9, -999.00, -999.00, 9, -999.00
49NZ20071008, P14N, 14, 1, 1, X12001, 2, 20071024, 0729, 52.5078, -178.7558, 3477,   3515.7, 2,   1.5891, 2,  34.6661, 2,  34.6671, 6,     93.9, 2,     93.5, 2,   229.32, 2,    38.04, 2,     0.01, 2,     2.93, 2,    0.005, 2,    0.004, 2,    0.000, 2, -999.000, 9,   -999.0, 9,   -999.0, 9, -999.0000,   -999.00,   -999.0, 9,   -999.0,  -999.00, 9,   -999.0,   1.3192, 27.7552,   1.5888, 2, 9, 0.62, 0.14, 0.01, 0.017,  -999.00, 9, -999.00, -999.00, 9, -999.00