BOTTLE,20221005CCHSIOAMB
EXPOCODE,SECT_ID,STNNBR,CASTNO,SAMPNO,BTLNBR,BTLNBR_FLAG_W,DATE,TIME,LATITUDE,LONGITUDE,DEPTH,CTDPRS,CTDPRS_FLAG_W,CTDTMP,CTDTMP_FLAG_W,CTDSAL,CTDSAL_FLAG_W,SALNTY,SALNTY_FLAG_W,CTDOXY,CTDOXY_FLAG_W,OXYGEN,OXYGEN_FLAG_W,SILCAT,SILCAT_FLAG_W,NITRAT,NITRAT_FLAG_W,NITRIT,NITRIT_FLAG_W,PHSPHT,PHSPHT_FLAG_W,CFC-11,CFC-11_FLAG_W,CFC-12,CFC-12_FLAG_W,CFC113,CFC113_FLAG_W,CCL4,CCL4_FLAG_W,TCARBN,TCARBN_FLAG_W,ALKALI,ALKALI_FLAG_W,PH_TOT,PH_TMP,DELC14,DELC14_FLAG_W,C14ERR,DELC13,DELC13_FLAG_W,C13ERR,THETA,SIG0,SBE35,SBE35_FLAG_W,PH_TOT_FLAG_W,SILUNC,NRAUNC,NRIUNC,PHPUNC,CS-137,CS-137_FLAG_W,CS137ER,PLUTO,PLUTO_FLAG_W,PLUTOER
,,,,,,,,,,,METERS,DBAR,,ITS-90,,PSS-78,,PSS-78,,UMOL/KG,,UMOL/KG,,UMOL/KG,,UMOL/KG,,UMOL/KG,,UMOL/KG,,PMOL/KG,,PMOL/KG,,PMOL/KG,,PMOL/KG,,UMOL/KG,,UMOL/KG,,,DEG C,/MILLE,,/MILLE,/MILLE,,/MILLE,DEG C,KG/M^3,ITS-90,,,UMOL/KG,UMOL/KG,UMOL/KG,UMOL/KG,DM/.1MG,,BQ/M^3,MBQ/M^3,,MBQ/M^3
49NZ20071008, P14N, 54, 1, 36, X12042, 2, 20071104, 2251, 35.4985, 179.0185, 4392,      9.7, 2,  22.7729, 2,  34.5315, 2,  34.5311, 2,    218.9, 2,    219.3, 2,     2.23, 2,     0.05, 2,     0.01, 2,     0.05, 2,    1.900, 2,    1.168, 2,    0.346, 4, -999.000, 9,   1972.2, 2,   2272.8, 2,    8.0580,     25.00,   -999.0, 9,   -999.0,  -999.00, 9,   -999.0,  22.7709, 23.6440,  22.7735, 2, 6, 0.12, 0.03, 0.01, 0.036,  -999.00, 9, -999.00, -999.00, 9, -999.00
49NZ20071008, P14N, 54, 1, 35, X12041, 2, 20071104, 2251, 35.4985, 179.0185, 4392,     50.1, 2,  22.6884, 2,  34.5317, 2,  34.5342, 2,    222.6, 2,    221.6, 2,     2.19, 2,     0.04, 2,     0.00, 2,     0.05, 2,    1.926, 2,    1.168, 2,    0.362, 4, -999.000, 9,   1973.6, 6,   2271.9, 2,    8.0569,     25.00,   -999.0, 9,   -999.0,  -999.00, 9,   -999.0,  22.6783, 23.6706,  22.6940, 2, 2, 0.12, 0.03, 0.01, 0.034,  -999.00, 9, -999.00, -999.00, 9, -999.00
49NZ20071008, P14N, 54, 1, 34, X12016, 2, 20071104, 2251, 35.4985, 179.0185, 4392,    100.6, 2,  15.6643, 2,  34.5741, 2,  34.5727, 2,    225.6, 2,    226.7, 2,     5.37, 2,     4.45, 2,     0.23, 2,     0.39, 2,    2.664, 2,    1.565, 2,    0.221, 4, -999.000, 9,   2038.4, 2,   2276.7, 6,    7.9444,     25.00,   -999.0, 9,   -999.0,  -999.00, 9,   -999.0,  15.6487, 25.4996,  15.6648, 2, 2, 0.13, 0.05, 0.01, 0.013,  -999.00, 9, -999.00, -999.00, 9, -999.00
49NZ20071008, P14N, 54, 1, 33, X12033, 2, 20071104, 2251, 35.4985, 179.0185, 4392,    150.8, 2,  14.5374, 2,  34.5286, 2,  34.5271, 2,    217.7, 2,    217.5, 2,     8.16, 2,     7.66, 2,     0.02, 2,     0.57, 2,    2.732, 2,    1.583, 2,    0.158, 6, -999.000, 9,   2055.5, 2,   2275.4, 2,    7.9108,     25.00,   -999.0, 9,   -999.0,  -999.00, 9,   -999.0,  14.5152, 25.7136,  14.5387, 2, 6, 0.14, 0.05, 0.01, 0.013,  -999.00, 9, -999.00, -999.00, 9, -999.00
49NZ20071008, P14N, 54, 1, 32, X12038, 2, 20071104, 2251, 35.4985, 179.0185, 4392,    201.4, 2,  13.5393, 2,  34.4623, 2,  34.4620, 2,    225.8, 2,    223.0, 2,     9.56, 2,     8.44, 2,     0.01, 2,     0.64, 2,    2.817, 2,    1.618, 2,    0.161, 2, -999.000, 9,   2063.9, 2,   2273.5, 2,    7.8927,     25.00,   -999.0, 9,   -999.0,  -999.00, 9,   -999.0,  13.5110, 25.8729,  13.5440, 2, 2, 0.14, 0.06, 0.01, 0.013,  -999.00, 9, -999.00, -999.00, 9, -999.00
49NZ20071008, P14N, 54, 1, 31, X12003, 2, 20071104, 2251, 35.4985, 179.0185, 4392,    250.2, 2,  12.7066, 2,  34.4176, 2,  34.4144, 6,    221.9, 2,    216.2, 2,    12.86, 2,    10.80, 2,     0.01, 2,     0.79, 2,    2.850, 2,    1.620, 2,    0.121, 2, -999.000, 9,   2078.0, 2,   2274.9, 2,    7.8620,     25.00,   -999.0, 9,   -999.0,  -999.00, 9,   -999.0,  12.6728, 26.0065,  12.7074, 2, 2, 0.15, 0.06, 0.01, 0.013,  -999.00, 9, -999.00, -999.00, 9, -999.00
49NZ20071008, P14N, 54, 1, 30, X12008, 2, 20071104, 2251, 35.4985, 179.0185, 4392,    281.2, 2,  12.0294, 2,  34.3605, 2,  34.3588, 2,    226.4, 2,    225.1, 2,    13.28, 2,    11.06, 2,     0.01, 2,     0.82, 2,    2.986, 2,    1.690, 2,    0.152, 2, -999.000, 9,   2082.1, 2,   2273.3, 2,    7.8519,     25.00,   -999.0, 9,   -999.0,  -999.00, 9,   -999.0,  11.9928, 26.0937,  12.0314, 2, 2, 0.15, 0.06, 0.01, 0.013,  -999.00, 9, -999.00, -999.00, 9, -999.00
49NZ20071008, P14N, 54, 1, 29, X12035, 2, 20071104, 2251, 35.4985, 179.0185, 4392,    370.2, 2,  10.6104, 2,  34.2521, 2,  34.2484, 2,    211.4, 2,    210.0, 2,    20.19, 2,    15.08, 2,     0.01, 2,     1.11, 2,    2.998, 2,    1.664, 2,    0.135, 2, -999.000, 9,   2109.3, 2,   2274.6, 2,    7.7934,     25.00,   -999.0, 9,   -999.0,  -999.00, 9,   -999.0,  10.5658, 26.2702,  10.6113, 2, 2, 0.16, 0.08, 0.01, 0.013,  -999.00, 9, -999.00, -999.00, 9, -999.00
49NZ20071008, P14N, 54, 1, 28, X12034, 2, 20071104, 2251, 35.4985, 179.0185, 4392,    471.2, 2,   8.3481, 2,  34.0661, 2,  34.0635, 6,    190.2, 2,    193.2, 2,    31.52, 2,    20.78, 2,     0.01, 2,     1.52, 2,    3.079, 2,    1.657, 2,    0.157, 2, -999.000, 9,   2147.0, 2,   2274.4, 2,    7.7025,     25.00,   -999.0, 9,   -999.0,  -999.00, 9,   -999.0,   8.2990, 26.4956,   8.3470, 2, 2, 0.19, 0.09, 0.01, 0.014,  -999.00, 9, -999.00, -999.00, 9, -999.00
49NZ20071008, P14N, 54, 1, 27, X12049, 2, 20071104, 2251, 35.4985, 179.0185, 4392,    568.9, 2,   6.6049, 2,  33.9911, 2,  33.9900, 2,    153.3, 2,    156.2, 2,    49.36, 2,    27.33, 2,     0.01, 2,     2.00, 2,    2.672, 2,    1.384, 2,    0.143, 2, -999.000, 9,   2197.8, 2,   2285.0, 2,    7.5952,     25.00,   -999.0, 9,   -999.0,  -999.00, 9,   -999.0,   6.5528, 26.6842,   6.6051, 2, 2, 0.23, 0.11, 0.01, 0.015,  -999.00, 9, -999.00, -999.00, 9, -999.00
49NZ20071008, P14N, 54, 1, 26, X12032, 2, 20071104, 2251, 35.4985, 179.0185, 4392,    671.0, 2,   5.1765, 2,  34.0184, 2,  34.0191, 2,    111.8, 2,    107.6, 2,    72.41, 2,    34.13, 2,     0.01, 2,     2.48, 2,    1.930, 6,    0.960, 6,    0.103, 6, -999.000, 9,   2256.1, 6,   2303.1, 2,    7.4825,     25.00,   -999.0, 9,   -999.0,  -999.00, 9,   -999.0,   5.1218, 26.8830,   5.1773, 2, 2, 0.28, 0.13, 0.01, 0.016,  -999.00, 9, -999.00, -999.00, 9, -999.00
49NZ20071008, P14N, 54, 1, 25, X12043, 2, 20071104, 2251, 35.4985, 179.0185, 4392,    769.5, 2,   4.5747, 2,  34.1101, 2,  34.1119, 2,     68.1, 2,     66.0, 2,    90.33, 2,    38.69, 2,     0.01, 2,     2.80, 2,    1.037, 2,    0.497, 2,    0.047, 2, -999.000, 9,   2298.2, 2,   2323.5, 6,    7.4089,     25.00,   -999.0, 9,   -999.0,  -999.00, 9,   -999.0,   4.5149, 27.0238,   4.5749, 2, 2, 0.32, 0.14, 0.01, 0.017,  -999.00, 9, -999.00, -999.00, 9, -999.00
49NZ20071008, P14N, 54, 1, 24, X12030, 2, 20071104, 2251, 35.4985, 179.0185, 4392,    870.7, 2,   4.1153, 2,  34.1856, 2,  34.1868, 2,     48.7, 2,     47.0, 2,   103.63, 2,    40.91, 2,     0.01, 2,     2.95, 2,    0.616, 2,    0.289, 2,    0.027, 2, -999.000, 9,   2323.2, 2,   2339.4, 2,    7.3772,     25.00,   -999.0, 9,   -999.0,  -999.00, 9,   -999.0,   4.0500, 27.1332,   4.1155, 2, 2, 0.35, 0.15, 0.01, 0.017,  -999.00, 9, -999.00, -999.00, 9, -999.00
49NZ20071008, P14N, 54, 1, 23, X12027, 2, 20071104, 2251, 35.4985, 179.0185, 4392,    970.1, 2,   3.7746, 2,  34.2601, 2,  34.2619, 6,     37.6, 2,     37.1, 2,   115.44, 2,    42.08, 2,     0.01, 2,     3.03, 2,    0.359, 2,    0.172, 2,    0.011, 2, -999.000, 9,   2344.0, 2,   2353.5, 2,    7.3642,     25.00,   -999.0, 9,   -999.0,  -999.00, 9,   -999.0,   3.7035, 27.2275,   3.7748, 2, 2, 0.37, 0.15, 0.01, 0.018,  -999.00, 9, -999.00, -999.00, 9, -999.00
49NZ20071008, P14N, 54, 1, 22, X12028, 2, 20071104, 2251, 35.4985, 179.0185, 4392,   1131.0, 2,   3.2542, 2,  34.3509, 2,  34.3527, 2,     25.7, 2,     25.3, 2,   131.01, 2,    43.42, 2,     0.01, 2,     3.12, 2,    0.115, 2,    0.054, 2,    0.006, 2, -999.000, 9,   2368.0, 2,   2372.6, 2,    7.3492,     25.00,   -999.0, 9,   -999.0,  -999.00, 9,   -999.0,   3.1743, 27.3509,   3.2553, 2, 2, 0.41, 0.15, 0.01, 0.018,  -999.00, 9, -999.00, -999.00, 9, -999.00
49NZ20071008, P14N, 54, 1, 21, X12009, 2, 20071104, 2251, 35.4985, 179.0185, 4392,   1331.2, 2,   2.8136, 2,  34.4368, 2,  34.4371, 2,     29.5, 2,     26.0, 2,   143.76, 2,    43.79, 2,     0.01, 2,     3.13, 2,    0.042, 2,    0.020, 2,    0.004, 2, -999.000, 9,   2380.9, 2,   2389.6, 2,    7.3561,     25.00,   -999.0, 9,   -999.0,  -999.00, 9,   -999.0,   2.7219, 27.4604,   2.8138, 2, 2, 0.44, 0.16, 0.01, 0.018,  -999.00, 9, -999.00, -999.00, 9, -999.00
49NZ20071008, P14N, 54, 1, 20, X12026, 2, 20071104, 2251, 35.4985, 179.0185, 4392,   1529.6, 2,   2.4996, 2,  34.4811, 2,  34.4819, 2,     34.2, 2,     33.7, 2,   153.29, 2,    43.62, 2,     0.00, 2,     3.10, 2,    0.038, 2,    0.017, 2,    0.002, 2, -999.000, 9,   2385.7, 2,   2397.5, 2,    7.3706,     25.00,   -999.0, 9,   -999.0,  -999.00, 9,   -999.0,   2.3954, 27.5238,   2.4998, 2, 6, 0.46, 0.15, 0.01, 0.018,  -999.00, 9, -999.00, -999.00, 9, -999.00
49NZ20071008, P14N, 54, 1, 19, X12025, 2, 20071104, 2251, 35.4985, 179.0185, 4392,   1730.3, 2,   2.2446, 2,  34.5312, 2,  34.5309, 2,     42.6, 2,     42.4, 2,   159.76, 2,    43.23, 2,     0.00, 2,     3.06, 2,    0.015, 2,    0.006, 2,    0.000, 2, -999.000, 9,   2386.3, 2,   2406.1, 2,    7.3893,     25.00,   -999.0, 9,   -999.0,  -999.00, 9,   -999.0,   2.1273, 27.5859,   2.2447, 2, 2, 0.47, 0.15, 0.01, 0.018,  -999.00, 9, -999.00, -999.00, 9, -999.00
49NZ20071008, P14N, 54, 1, 18, X12024, 2, 20071104, 2251, 35.4985, 179.0185, 4392,   1929.7, 2,   2.0855, 2,  34.5633, 2,  34.5633, 2,     51.5, 2,     51.2, 2,   163.42, 2,    42.71, 2,     0.00, 2,     3.02, 2,    0.007, 2,    0.006, 2,    0.000, 2, -999.000, 9,   2385.0, 2,   2411.7, 2,    7.4074,     25.00,   -999.0, 9,   -999.0,  -999.00, 9,   -999.0,   1.9539, 27.6254,   2.0856, 2, 2, 0.48, 0.15, 0.01, 0.017,  -999.00, 9, -999.00, -999.00, 9, -999.00
49NZ20071008, P14N, 54, 1, 17, X12023, 2, 20071104, 2251, 35.4985, 179.0185, 4392,   2130.2, 2,   1.9341, 2,  34.5923, 2,  34.5922, 6,     65.5, 2,     64.1, 2,   165.51, 2,    41.95, 2,     0.01, 2,     2.96, 2,    0.001, 2,    0.001, 2,    0.000, 2, -999.000, 9,   2379.0, 2,   2416.0, 2,    7.4341,     25.00,   -999.0, 9,   -999.0,  -999.00, 9,   -999.0,   1.7878, 27.6615,   1.9342, 2, 2, 0.48, 0.15, 0.01, 0.017,  -999.00, 9, -999.00, -999.00, 9, -999.00
49NZ20071008, P14N, 54, 1, 16, X12022, 2, 20071104, 2251, 35.4985, 179.0185, 4392,   2331.2, 2,   1.8180, 2,  34.6147, 2,  34.6144, 2,     79.9, 2,     78.0, 2,   165.41, 2,    41.10, 2,     0.01, 2,     2.90, 2,    0.001, 2,    0.001, 2,    0.000, 2, -999.000, 9,   2372.8, 6,   2418.0, 2,    7.4598,     25.00,   -999.0, 9,   -999.0,  -999.00, 9,   -999.0,   1.6562, 27.6894,   1.8181, 2, 2, 0.48, 0.15, 0.01, 0.017,  -999.00, 9, -999.00, -999.00, 9, -999.00
49NZ20071008, P14N, 54, 1, 15, X12021, 2, 20071104, 2251, 35.4985, 179.0185, 4392,   2530.9, 2,   1.7181, 2,  34.6316, 2,  34.6310, 2,     92.7, 2,     91.4, 2,   163.97, 2,    40.09, 2,     0.00, 2,     2.83, 2,    0.000, 2,    0.000, 2,    0.000, 2, -999.000, 9,   2365.2, 2,   2419.3, 6,    7.4847,     25.00,   -999.0, 9,   -999.0,  -999.00, 9,   -999.0,   1.5404, 27.7115,   1.7182, 2, 2, 0.48, 0.15, 0.01, 0.017,  -999.00, 9, -999.00, -999.00, 9, -999.00
49NZ20071008, P14N, 54, 1, 14, X12020, 2, 20071104, 2251, 35.4985, 179.0185, 4392,   2729.9, 2,   1.6386, 2,  34.6453, 2,  34.6454, 2,    105.9, 2,    104.8, 2,   162.49, 2,    39.21, 2,     0.01, 2,     2.77, 2,    0.000, 2,    0.000, 2,    0.000, 2, -999.000, 9,   2356.5, 2,   2419.8, 2,    7.5087,     25.00,   -999.0, 9,   -999.0,  -999.00, 9,   -999.0,   1.4443, 27.7296,   1.6386, 2, 6, 0.48, 0.14, 0.01, 0.017,  -999.00, 9, -999.00, -999.00, 9, -999.00
49NZ20071008, P14N, 54, 1, 13, X12019, 2, 20071104, 2251, 35.4985, 179.0185, 4392,   2927.9, 2,   1.5728, 2,  34.6566, 2,  34.6566, 2,    117.6, 2,    116.8, 2,   159.60, 2,    38.42, 2,     0.01, 2,     2.71, 2, -999.000, 9, -999.000, 9, -999.000, 9, -999.000, 9,   2349.4, 2,   2420.0, 2,    7.5305,     25.00,   -999.0, 9,   -999.0,  -999.00, 9,   -999.0,   1.3613, 27.7446,   1.5728, 2, 2, 0.47, 0.14, 0.01, 0.017,  -999.00, 9, -999.00, -999.00, 9, -999.00
49NZ20071008, P14N, 54, 1, 12, X12040, 2, 20071104, 2251, 35.4985, 179.0185, 4392,   3172.0, 2,   1.5126, 2,  34.6671, 2,  34.6669, 6,    128.6, 2,    128.8, 2,   156.32, 2,    37.69, 2,     0.00, 2,     2.65, 2,    0.000, 2,    0.000, 2,    0.000, 2, -999.000, 9,   2340.3, 2,   2419.7, 2,    7.5512,     25.00,   -999.0, 9,   -999.0,  -999.00, 9,   -999.0,   1.2790, 27.7588,   1.5125, 2, 2, 0.46, 0.14, 0.01, 0.017,  -999.00, 9, -999.00, -999.00, 9, -999.00
49NZ20071008, P14N, 54, 1, 11, X12047, 4, 20071104, 2251, 35.4985, 179.0185, 4392,   3418.9, 2,   1.4773, 2,  34.6744, 2,  34.6637, 4,    137.3, 2,    125.0, 4,   157.34, 4,    37.95, 4,     0.00, 4,     2.67, 4, -999.000, 9, -999.000, 9, -999.000, 9, -999.000, 9,   2346.0, 4,   2420.4, 4,    7.5450,     25.00,   -999.0, 9,   -999.0,  -999.00, 9,   -999.0,   1.2200, 27.7687,   1.4773, 2, 4, 0.47, 0.14, 0.01, 0.017,  -999.00, 9, -999.00, -999.00, 9, -999.00
49NZ20071008, P14N, 54, 1, 10, X12017, 2, 20071104, 2251, 35.4985, 179.0185, 4392,   3670.8, 2,   1.4572, 2,  34.6798, 2,  34.6796, 2,    143.4, 2,    143.7, 2,   152.22, 2,    36.60, 2,     0.01, 2,     2.56, 2, -999.000, 9, -999.000, 9, -999.000, 9, -999.000, 9,   2332.3, 2,   2419.4, 2,    7.5775,     25.00,   -999.0, 9,   -999.0,  -999.00, 9,   -999.0,   1.1746, 27.7763,   1.4573, 2, 2, 0.45, 0.14, 0.01, 0.016,  -999.00, 9, -999.00, -999.00, 9, -999.00
49NZ20071008, P14N, 54, 1, 9, X12015, 2, 20071104, 2251, 35.4985, 179.0185, 4392,   3921.0, 2,   1.4528, 2,  34.6831, 2,  34.6832, 2,    147.6, 2,    147.8, 2,   151.02, 2,    36.18, 2,     0.01, 2,     2.54, 2,    0.000, 2,    0.000, 2,    0.000, 2, -999.000, 9,   2330.2, 2,   2420.5, 2,    7.5860,     25.00,   -999.0, 9,   -999.0,  -999.00, 9,   -999.0,   1.1438, 27.7810,   1.4529, 2, 2, 0.45, 0.13, 0.01, 0.016,  -999.00, 9, -999.00, -999.00, 9, -999.00
49NZ20071008, P14N, 54, 1, 8, X12046, 2, 20071104, 2251, 35.4985, 179.0185, 4392,   4168.3, 2,   1.4571, 2,  34.6858, 2,  34.6858, 2,    150.6, 2,    150.7, 2,   151.82, 2,    36.39, 2,     0.00, 2,     2.55, 2,    0.000, 2,    0.001, 2,    0.000, 2, -999.000, 9,   2327.3, 6,   2421.8, 2,    7.5909,     25.00,   -999.0, 9,   -999.0,  -999.00, 9,   -999.0,   1.1209, 27.7848,   1.4571, 2, 2, 0.45, 0.13, 0.01, 0.016,  -999.00, 9, -999.00, -999.00, 9, -999.00
49NZ20071008, P14N, 54, 1, 7, X12044, 9, 20071104, 2251, 35.4985, 179.0185, 4392,   2130.6, 2,   1.9339, 2,  34.5923, 2, -999.0000, 9,     65.5, 2,   -999.0, 9,  -999.00, 9,  -999.00, 9,  -999.00, 9,  -999.00, 9, -999.000, 9, -999.000, 9, -999.000, 9, -999.000, 9,   -999.0, 9,   -999.0, 9, -999.0000,   -999.00,   -999.0, 9,   -999.0,  -999.00, 9,   -999.0,   1.7876, 27.6615,   1.9340, 2, 9, -999.00, -999.00, -999.00, -999.000,  -999.00, 9, -999.00, -999.00, 9, -999.00
49NZ20071008, P14N, 54, 1, 6, X12048, 9, 20071104, 2251, 35.4985, 179.0185, 4392,    449.9, 2,   8.7764, 2,  34.1018, 2, -999.0000, 9,    195.3, 2,   -999.0, 9,  -999.00, 9,  -999.00, 9,  -999.00, 9,  -999.00, 9, -999.000, 9, -999.000, 9, -999.000, 9, -999.000, 9,   -999.0, 9,   -999.0, 9, -999.0000,   -999.00,   -999.0, 9,   -999.0,  -999.00, 9,   -999.0,   8.7281, 26.4576,   8.7790, 2, 9, -999.00, -999.00, -999.00, -999.000,  -999.00, 9, -999.00, -999.00, 9, -999.00
49NZ20071008, P14N, 54, 1, 5, X12014, 2, 20071104, 2251, 35.4985, 179.0185, 4392,    449.0, 2,   8.7878, 2,  34.1024, 2,  34.1024, 2,    195.4, 2,    197.1, 2,  -999.00, 9,  -999.00, 9,  -999.00, 9,  -999.00, 9, -999.000, 9, -999.000, 9, -999.000, 9, -999.000, 9,   -999.0, 9,   -999.0, 9, -999.0000,   -999.00,   -999.0, 9,   -999.0,  -999.00, 9,   -999.0,   8.7396, 26.4563,   8.7885, 2, 9, -999.00, -999.00, -999.00, -999.000,  -999.00, 9, -999.00, -999.00, 9, -999.00
49NZ20071008, P14N, 54, 1, 4, X12006, 9, 20071104, 2251, 35.4985, 179.0185, 4392,   2730.7, 2,   1.6384, 2,  34.6452, 2, -999.0000, 9,    105.9, 2,   -999.0, 9,  -999.00, 9,  -999.00, 9,  -999.00, 9,  -999.00, 9, -999.000, 9, -999.000, 9, -999.000, 9, -999.000, 9,   -999.0, 9,   -999.0, 9, -999.0000,   -999.00,   -999.0, 9,   -999.0,  -999.00, 9,   -999.0,   1.4440, 27.7295,   1.6385, 2, 9, -999.00, -999.00, -999.00, -999.000,  -999.00, 9, -999.00, -999.00, 9, -999.00
49NZ20071008, P14N, 54, 1, 3, X12013, 9, 20071104, 2251, 35.4985, 179.0185, 4392,   2928.5, 2,   1.5728, 2,  34.6567, 2, -999.0000, 9,    117.7, 2,   -999.0, 9,  -999.00, 9,  -999.00, 9,  -999.00, 9,  -999.00, 9, -999.000, 9, -999.000, 9, -999.000, 9, -999.000, 9,   -999.0, 9,   -999.0, 9, -999.0000,   -999.00,   -999.0, 9,   -999.0,  -999.00, 9,   -999.0,   1.3613, 27.7447,   1.5729, 2, 9, -999.00, -999.00, -999.00, -999.000,  -999.00, 9, -999.00, -999.00, 9, -999.00
49NZ20071008, P14N, 54, 1, 2, X12002, 9, 20071104, 2251, 35.4985, 179.0185, 4392,   3172.3, 2,   1.5125, 2,  34.6672, 2, -999.0000, 9,    128.6, 2,   -999.0, 9,  -999.00, 9,  -999.00, 9,  -999.00, 9,  -999.00, 9, -999.000, 9, -999.000, 9, -999.000, 9, -999.000, 9,   -999.0, 9,   -999.0, 9, -999.0000,   -999.00,   -999.0, 9,   -999.0,  -999.00, 9,   -999.0,   1.2789, 27.7589,   1.5125, 2, 9, -999.00, -999.00, -999.00, -999.000,  -999.00, 9, -999.00, -999.00, 9, -999.00
49NZ20071008, P14N, 54, 1, 1, X12001, 2, 20071104, 2251, 35.4985, 179.0185, 4392,   4456.5, 2,   1.4711, 2,  34.6883, 2,  34.6882, 6,    152.8, 2,    153.0, 2,   153.03, 2,    36.04, 2,     0.01, 2,     2.52, 2,    0.000, 2,    0.001, 2,    0.000, 2, -999.000, 9,   2325.3, 2,   2422.0, 2,    7.5967,     25.00,   -999.0, 9,   -999.0,  -999.00, 9,   -999.0,   1.1020, 27.7881,   1.4710, 2, 2, 0.46, 0.13, 0.01, 0.016,  -999.00, 9, -999.00, -999.00, 9, -999.00