BOTTLE,20221005CCHSIOAMB
EXPOCODE,SECT_ID,STNNBR,CASTNO,SAMPNO,BTLNBR,BTLNBR_FLAG_W,DATE,TIME,LATITUDE,LONGITUDE,DEPTH,CTDPRS,CTDPRS_FLAG_W,CTDTMP,CTDTMP_FLAG_W,CTDSAL,CTDSAL_FLAG_W,SALNTY,SALNTY_FLAG_W,CTDOXY,CTDOXY_FLAG_W,OXYGEN,OXYGEN_FLAG_W,SILCAT,SILCAT_FLAG_W,NITRAT,NITRAT_FLAG_W,NITRIT,NITRIT_FLAG_W,PHSPHT,PHSPHT_FLAG_W,CFC-11,CFC-11_FLAG_W,CFC-12,CFC-12_FLAG_W,CFC113,CFC113_FLAG_W,CCL4,CCL4_FLAG_W,TCARBN,TCARBN_FLAG_W,ALKALI,ALKALI_FLAG_W,PH_TOT,PH_TMP,DELC14,DELC14_FLAG_W,C14ERR,DELC13,DELC13_FLAG_W,C13ERR,THETA,SIG0,SBE35,SBE35_FLAG_W,PH_TOT_FLAG_W,SILUNC,NRAUNC,NRIUNC,PHPUNC,CS-137,CS-137_FLAG_W,CS137ER,PLUTO,PLUTO_FLAG_W,PLUTOER
,,,,,,,,,,,METERS,DBAR,,ITS-90,,PSS-78,,PSS-78,,UMOL/KG,,UMOL/KG,,UMOL/KG,,UMOL/KG,,UMOL/KG,,UMOL/KG,,PMOL/KG,,PMOL/KG,,PMOL/KG,,PMOL/KG,,UMOL/KG,,UMOL/KG,,,DEG C,/MILLE,,/MILLE,/MILLE,,/MILLE,DEG C,KG/M^3,ITS-90,,,UMOL/KG,UMOL/KG,UMOL/KG,UMOL/KG,DM/.1MG,,BQ/M^3,MBQ/M^3,,MBQ/M^3
49NZ20071008, P14N, 50, 1, 36, X12042, 2, 20071104, 0033, 37.4840, 179.0082, 5385,      9.2, 2,  18.9903, 2,  34.1683, 2,  34.1696, 2,    235.1, 2,    236.2, 2,     2.58, 2,     0.07, 2,     0.01, 2,     0.07, 2,    2.265, 2,    1.364, 2,    0.366, 4, -999.000, 9,   1972.4, 2,   2254.0, 2,    8.0323,     25.00,   -999.0, 1,   -999.0,  -999.00, 1,   -999.0,  18.9887, 24.3885,  18.9905, 2, 6, 0.12, 0.03, 0.01, 0.028,  -999.00, 9, -999.00, -999.00, 9, -999.00
49NZ20071008, P14N, 50, 1, 35, X12041, 2, 20071104, 0033, 37.4840, 179.0082, 5385,     49.9, 2,  16.0970, 2,  34.5694, 2,  34.5711, 2,    246.3, 2,    247.7, 2,     4.32, 2,     1.25, 2,     0.13, 2,     0.23, 2,    2.624, 2,    1.552, 2,    0.312, 4, -999.000, 9,   2023.2, 6,   2280.0, 2,    7.9807,     25.00,   -999.0, 1,   -999.0,  -999.00, 1,   -999.0,  16.0891, 25.3960,  16.1017, 2, 2, 0.13, 0.04, 0.01, 0.015,  -999.00, 9, -999.00, -999.00, 9, -999.00
49NZ20071008, P14N, 50, 1, 34, X12016, 2, 20071104, 0033, 37.4840, 179.0082, 5385,    100.3, 2,  14.2225, 2,  34.5027, 2,  34.5024, 2,    222.5, 2,    222.6, 2,     8.52, 2,     7.92, 2,     0.02, 2,     0.58, 2,    2.758, 2,    1.604, 2,    0.184, 2, -999.000, 9,   2056.9, 2,   2274.0, 6,    7.9080,     25.00,   -999.0, 1,   -999.0,  -999.00, 1,   -999.0,  14.2080, 25.7590,  14.2217, 2, 2, 0.14, 0.05, 0.01, 0.013,  -999.00, 9, -999.00, -999.00, 9, -999.00
49NZ20071008, P14N, 50, 1, 33, X12033, 2, 20071104, 0033, 37.4840, 179.0082, 5385,    150.2, 2,  13.3022, 2,  34.4572, 2,  34.4575, 2,    223.0, 2,    222.7, 2,    10.82, 2,     9.38, 2,     0.01, 2,     0.69, 2,    2.821, 6,    1.620, 6,    0.170, 6, -999.000, 9,   2068.3, 2,   2274.1, 2,    7.8872,     25.00,   -999.0, 1,   -999.0,  -999.00, 1,   -999.0,  13.2814, 25.9157,  13.3035, 2, 6, 0.14, 0.06, 0.01, 0.013,  -999.00, 9, -999.00, -999.00, 9, -999.00
49NZ20071008, P14N, 50, 1, 32, X12038, 2, 20071104, 0033, 37.4840, 179.0082, 5385,    199.3, 2,  12.5654, 2,  34.4077, 2,  34.4052, 2,    224.7, 2,    223.3, 2,    12.85, 2,    10.67, 2,     0.01, 2,     0.78, 2,    2.897, 2,    1.661, 2,    0.157, 2, -999.000, 9,   2078.7, 2,   2273.4, 2,    7.8645,     25.00,   -999.0, 1,   -999.0,  -999.00, 1,   -999.0,  12.5388, 26.0252,  12.5667, 2, 2, 0.15, 0.06, 0.01, 0.013,  -999.00, 9, -999.00, -999.00, 9, -999.00
49NZ20071008, P14N, 50, 1, 31, X12003, 2, 20071104, 0033, 37.4840, 179.0082, 5385,    249.2, 2,  11.5640, 2,  34.3274, 2,  34.3221, 6,    226.0, 2,    223.7, 2,    16.11, 2,    12.52, 2,     0.01, 2,     0.92, 2,    2.988, 2,    1.691, 2,    0.176, 2, -999.000, 9,   2090.2, 2,   2273.0, 2,    7.8358,     25.00,   -999.0, 1,   -999.0,  -999.00, 1,   -999.0,  11.5324, 26.1544,  11.5656, 2, 2, 0.15, 0.07, 0.01, 0.013,  -999.00, 9, -999.00, -999.00, 9, -999.00
49NZ20071008, P14N, 50, 1, 30, X12008, 2, 20071104, 0033, 37.4840, 179.0082, 5385,    330.3, 2,   9.6053, 2,  34.1282, 2,  34.1261, 2,    242.8, 2,    241.4, 2,    19.40, 2,    14.09, 2,     0.01, 2,     1.05, 2,    3.365, 2,    1.910, 2,    0.223, 2, -999.000, 9,   2102.3, 2,   2267.2, 2,    7.8034,     25.00,   -999.0, 1,   -999.0,  -999.00, 1,   -999.0,   9.5681, 26.3434,   9.6062, 2, 2, 0.16, 0.07, 0.01, 0.013,  -999.00, 9, -999.00, -999.00, 9, -999.00
49NZ20071008, P14N, 50, 1, 29, X12035, 2, 20071104, 0033, 37.4840, 179.0082, 5385,    430.4, 2,   8.0593, 2,  34.0450, 2,  34.0402, 2,    200.4, 2,    194.7, 2,    33.88, 2,    21.30, 2,     0.01, 2,     1.56, 2,    3.091, 2,    1.672, 2,    0.168, 2, -999.000, 9,   2152.8, 2,   2276.0, 2,    7.6952,     25.00,   -999.0, 1,   -999.0,  -999.00, 1,   -999.0,   8.0155, 26.5215,   8.0603, 2, 2, 0.19, 0.09, 0.01, 0.014,  -999.00, 9, -999.00, -999.00, 9, -999.00
49NZ20071008, P14N, 50, 1, 28, X12034, 2, 20071104, 0033, 37.4840, 179.0082, 5385,    532.7, 2,   6.3379, 2,  33.9863, 2,  33.9846, 6,    155.4, 2,    155.3, 2,    51.62, 2,    27.81, 2,     0.01, 2,     2.04, 2,    2.665, 2,    1.386, 2,    0.149, 2, -999.000, 9,   2203.8, 2,   2286.7, 2,    7.5903,     25.00,   -999.0, 1,   -999.0,  -999.00, 1,   -999.0,   6.2903, 26.7146,   6.3400, 2, 2, 0.23, 0.11, 0.01, 0.015,  -999.00, 9, -999.00, -999.00, 9, -999.00
49NZ20071008, P14N, 50, 1, 27, X12049, 2, 20071104, 0033, 37.4840, 179.0082, 5385,    631.1, 2,   5.1511, 2,  33.9892, 2,  33.9884, 2,    116.7, 2,    120.1, 2,    69.70, 2,    33.01, 2,     0.01, 2,     2.42, 2,    2.195, 2,    1.116, 2,    0.123, 2, -999.000, 9,   2249.3, 2,   2299.2, 2,    7.4970,     25.00,   -999.0, 1,   -999.0,  -999.00, 1,   -999.0,   5.1000, 26.8624,   5.1515, 2, 2, 0.27, 0.13, 0.01, 0.016,  -999.00, 9, -999.00, -999.00, 9, -999.00
49NZ20071008, P14N, 50, 1, 26, X12032, 2, 20071104, 0033, 37.4840, 179.0082, 5385,    730.0, 2,   4.6012, 2,  34.0963, 2,  34.0974, 2,     76.0, 2,     76.6, 2,    88.59, 2,    37.72, 2,     0.01, 2,     2.73, 2,    1.319, 2,    0.642, 2,    0.069, 2, -999.000, 9,   2292.4, 6,   2319.9, 2,    7.4267,     25.00,   -999.0, 1,   -999.0,  -999.00, 1,   -999.0,   4.5445, 27.0096,   4.6010, 2, 2, 0.31, 0.14, 0.01, 0.017,  -999.00, 9, -999.00, -999.00, 9, -999.00
49NZ20071008, P14N, 50, 1, 25, X12043, 2, 20071104, 0033, 37.4840, 179.0082, 5385,    829.6, 2,   4.0956, 2,  34.1829, 2,  34.1851, 2,     52.7, 2,     52.7, 2,   104.44, 2,    40.47, 2,     0.01, 2,     2.92, 2,    0.824, 2,    0.397, 2,    0.040, 2, -999.000, 9,   2324.7, 2,   2337.8, 6,    7.3832,     25.00,   -999.0, 1,   -999.0,  -999.00, 1,   -999.0,   4.0337, 27.1327,   4.0961, 2, 2, 0.35, 0.15, 0.01, 0.017,  -999.00, 9, -999.00, -999.00, 9, -999.00
49NZ20071008, P14N, 50, 1, 24, X12030, 2, 20071104, 0033, 37.4840, 179.0082, 5385,    931.6, 2,   3.7420, 2,  34.2578, 2,  34.2582, 2,     42.1, 2,     42.0, 2,   115.68, 2,    41.64, 2,     0.01, 2,     2.99, 2,    0.493, 2,    0.232, 2,    0.021, 2, -999.000, 9,   2342.2, 2,   2351.6, 2,    7.3694,     25.00,   -999.0, 1,   -999.0,  -999.00, 1,   -999.0,   3.6742, 27.2287,   3.7417, 2, 6, 0.37, 0.15, 0.01, 0.017,  -999.00, 9, -999.00, -999.00, 9, -999.00
49NZ20071008, P14N, 50, 1, 23, X12027, 2, 20071104, 0033, 37.4840, 179.0082, 5385,   1072.1, 2,   3.3077, 2,  34.3373, 2,  34.3386, 6,     33.5, 2,     33.1, 2,   128.72, 2,    42.71, 2,     0.01, 2,     3.06, 2,    0.217, 2,    0.103, 2,    0.008, 2, -999.000, 9,   2360.7, 2,   2367.9, 2,    7.3606,     25.00,   -999.0, 1,   -999.0,  -999.00, 1,   -999.0,   3.2320, 27.3347,   3.3078, 2, 2, 0.40, 0.15, 0.01, 0.018,  -999.00, 9, -999.00, -999.00, 9, -999.00
49NZ20071008, P14N, 50, 1, 22, X12028, 2, 20071104, 0033, 37.4840, 179.0082, 5385,   1273.9, 2,   2.8553, 2,  34.4144, 2,  34.4142, 2,     29.3, 2,     28.4, 2,   142.88, 2,    43.64, 2,     0.01, 2,     3.11, 2,    0.076, 2,    0.037, 2,    0.000, 2, -999.000, 9,   2376.9, 2,   2383.0, 2,    7.3567,     25.00,   -999.0, 1,   -999.0,  -999.00, 1,   -999.0,   2.7677, 27.4385,   2.8556, 2, 2, 0.43, 0.15, 0.01, 0.018,  -999.00, 9, -999.00, -999.00, 9, -999.00
49NZ20071008, P14N, 50, 1, 21, X12009, 2, 20071104, 0033, 37.4840, 179.0082, 5385,   1470.8, 2,   2.5359, 2,  34.4741, 2,  34.4739, 2,     30.8, 2,     31.7, 2,   152.29, 2,    43.76, 2,     0.01, 2,     3.11, 2,    0.037, 2,    0.015, 2,    0.000, 2, -999.000, 9,   2384.9, 2,   2395.4, 2,    7.3677,     25.00,   -999.0, 1,   -999.0,  -999.00, 1,   -999.0,   2.4360, 27.5148,   2.5361, 2, 2, 0.45, 0.16, 0.01, 0.018,  -999.00, 9, -999.00, -999.00, 9, -999.00
49NZ20071008, P14N, 50, 1, 20, X12026, 2, 20071104, 0033, 37.4840, 179.0082, 5385,   1672.7, 2,   2.2806, 2,  34.5230, 2,  34.5225, 2,     39.1, 2,     39.1, 2,   159.33, 2,    43.37, 2,     0.00, 2,     3.08, 2,    0.018, 2,    0.008, 2,    0.000, 2, -999.000, 9,   2388.8, 2,   2403.4, 2,    7.3858,     25.00,   -999.0, 1,   -999.0,  -999.00, 1,   -999.0,   2.1675, 27.5761,   2.2809, 2, 6, 0.47, 0.15, 0.01, 0.018,  -999.00, 9, -999.00, -999.00, 9, -999.00
49NZ20071008, P14N, 50, 1, 19, X12025, 2, 20071104, 0033, 37.4840, 179.0082, 5385,   1869.7, 2,   2.1094, 2,  34.5570, 2,  34.5567, 2,     49.2, 2,     48.9, 2,   163.34, 2,    42.85, 2,     0.01, 2,     3.03, 2,    0.015, 2,    0.007, 2,    0.000, 2, -999.000, 9,   2387.4, 2,   2409.5, 2,    7.4052,     25.00,   -999.0, 1,   -999.0,  -999.00, 1,   -999.0,   1.9824, 27.6181,   2.1095, 2, 2, 0.48, 0.15, 0.01, 0.018,  -999.00, 9, -999.00, -999.00, 9, -999.00
49NZ20071008, P14N, 50, 1, 18, X12024, 2, 20071104, 0033, 37.4840, 179.0082, 5385,   2072.5, 2,   1.9675, 2,  34.5848, 2,  34.5846, 2,     61.0, 2,     60.8, 2,   165.31, 2,    42.21, 2,     0.01, 2,     2.98, 2,    0.007, 2,    0.001, 2,    0.000, 2, -999.000, 9,   2384.5, 2,   2413.1, 2,    7.4281,     25.00,   -999.0, 1,   -999.0,  -999.00, 1,   -999.0,   1.8256, 27.6526,   1.9674, 2, 2, 0.48, 0.15, 0.01, 0.017,  -999.00, 9, -999.00, -999.00, 9, -999.00
49NZ20071008, P14N, 50, 1, 17, X12023, 2, 20071104, 0033, 37.4840, 179.0082, 5385,   2272.7, 2,   1.8465, 2,  34.6077, 2,  34.6074, 2,     73.8, 2,     74.1, 2,   165.76, 2,    41.28, 2,     0.01, 2,     2.92, 2,    0.003, 2,    0.001, 2,    0.000, 2, -999.000, 9,   2375.8, 2,   2416.2, 2,    7.4547,     25.00,   -999.0, 1,   -999.0,  -999.00, 1,   -999.0,   1.6894, 27.6814,   1.8466, 2, 2, 0.48, 0.15, 0.01, 0.017,  -999.00, 9, -999.00, -999.00, 9, -999.00
49NZ20071008, P14N, 50, 1, 16, X12022, 2, 20071104, 0033, 37.4840, 179.0082, 5385,   2470.4, 2,   1.7441, 2,  34.6267, 2,  34.6266, 6,     86.7, 2,     87.7, 2,   165.14, 2,    40.40, 2,     0.01, 2,     2.85, 2,    0.001, 2,    0.001, 2,    0.000, 2, -999.000, 9,   2368.2, 6,   2417.2, 2,    7.4783,     25.00,   -999.0, 1,   -999.0,  -999.00, 1,   -999.0,   1.5713, 27.7054,   1.7442, 2, 2, 0.48, 0.15, 0.01, 0.017,  -999.00, 9, -999.00, -999.00, 9, -999.00
49NZ20071008, P14N, 50, 1, 15, X12021, 2, 20071104, 0033, 37.4840, 179.0082, 5385,   2673.3, 2,   1.6609, 2,  34.6422, 2,  34.6421, 2,     99.2, 2,     99.8, 2,   163.66, 2,    39.73, 2,     0.01, 2,     2.79, 2,    0.004, 2,    0.002, 2,    0.000, 2, -999.000, 9,   2361.5, 2,   2419.3, 6,    7.4996,     25.00,   -999.0, 1,   -999.0,  -999.00, 1,   -999.0,   1.4714, 27.7251,   1.6610, 2, 2, 0.48, 0.14, 0.01, 0.017,  -999.00, 9, -999.00, -999.00, 9, -999.00
49NZ20071008, P14N, 50, 1, 14, X12020, 2, 20071104, 0033, 37.4840, 179.0082, 5385,   2871.8, 2,   1.5899, 2,  34.6539, 2,  34.6538, 2,    111.3, 2,    111.8, 2,   161.33, 2,    38.87, 2,     0.01, 2,     2.74, 2,    0.000, 2,    0.000, 2,    0.000, 2, -999.000, 9,   2353.6, 2,   2420.4, 2,    7.5220,     25.00,   -999.0, 1,   -999.0,  -999.00, 1,   -999.0,   1.3834, 27.7408,   1.5900, 2, 6, 0.47, 0.14, 0.01, 0.017,  -999.00, 9, -999.00, -999.00, 9, -999.00
49NZ20071008, P14N, 50, 1, 13, X12019, 2, 20071104, 0033, 37.4840, 179.0082, 5385,   3081.4, 2,   1.5426, 2,  34.6624, 2,  34.6624, 2,    121.5, 2,    121.9, 2,   158.99, 2,    38.22, 2,     0.01, 2,     2.69, 2, -999.000, 9, -999.000, 9, -999.000, 9, -999.000, 9,   2346.9, 2,   2419.9, 2,    7.5401,     25.00,   -999.0, 1,   -999.0,  -999.00, 1,   -999.0,   1.3171, 27.7523,   1.5426, 2, 2, 0.47, 0.14, 0.01, 0.017,  -999.00, 9, -999.00, -999.00, 9, -999.00
49NZ20071008, P14N, 50, 1, 12, X12040, 2, 20071104, 0033, 37.4840, 179.0082, 5385,   3330.9, 2,   1.4955, 2,  34.6712, 2,  34.6710, 2,    133.4, 2,    133.1, 2,   155.29, 2,    37.40, 2,     0.01, 2,     2.62, 2, -999.000, 9, -999.000, 9, -999.000, 9, -999.000, 9,   2338.8, 2,   2419.1, 2,    7.5585,     25.00,   -999.0, 1,   -999.0,  -999.00, 1,   -999.0,   1.2466, 27.7644,   1.4955, 2, 2, 0.46, 0.14, 0.01, 0.017,  -999.00, 9, -999.00, -999.00, 9, -999.00
49NZ20071008, P14N, 50, 1, 11, X12047, 2, 20071104, 0033, 37.4840, 179.0082, 5385,   3579.6, 2,   1.4682, 2,  34.6773, 2,  34.6775, 2,    140.1, 2,    141.0, 2,   153.25, 2,    36.94, 2,     0.01, 2,     2.58, 2,    0.002, 2,    0.000, 2,    0.000, 2, -999.000, 9,   2333.9, 2,   2418.1, 2,    7.5723,     25.00,   -999.0, 1,   -999.0,  -999.00, 1,   -999.0,   1.1947, 27.7728,   1.4682, 2, 2, 0.46, 0.14, 0.01, 0.016,  -999.00, 9, -999.00, -999.00, 9, -999.00
49NZ20071008, P14N, 50, 1, 10, X12017, 2, 20071104, 0033, 37.4840, 179.0082, 5385,   3831.1, 2,   1.4559, 2,  34.6818, 2,  34.6818, 2,    145.9, 2,    146.3, 2,   152.08, 2,    36.50, 2,     0.01, 2,     2.56, 2, -999.000, 9, -999.000, 9, -999.000, 9, -999.000, 9,   2330.1, 2,   2418.6, 2,    7.5819,     25.00,   -999.0, 1,   -999.0,  -999.00, 1,   -999.0,   1.1564, 27.7791,   1.4559, 2, 2, 0.45, 0.14, 0.01, 0.016,  -999.00, 9, -999.00, -999.00, 9, -999.00
49NZ20071008, P14N, 50, 1, 9, X12015, 2, 20071104, 0033, 37.4840, 179.0082, 5385,   4080.4, 2,   1.4574, 2,  34.6844, 2,  34.6847, 6,    149.8, 2,    149.8, 2,   151.28, 2,    36.33, 2,     0.01, 2,     2.54, 2, -999.000, 9, -999.000, 9, -999.000, 9, -999.000, 9,   2330.8, 2,   2418.3, 2,    7.5889,     25.00,   -999.0, 1,   -999.0,  -999.00, 1,   -999.0,   1.1309, 27.7829,   1.4573, 2, 2, 0.45, 0.13, 0.01, 0.016,  -999.00, 9, -999.00, -999.00, 9, -999.00
49NZ20071008, P14N, 50, 1, 8, X12046, 2, 20071104, 0033, 37.4840, 179.0082, 5385,   4331.3, 2,   1.4704, 2,  34.6863, 2,  34.6865, 2,    151.8, 2,    151.8, 2,   151.31, 2,    36.24, 2,     0.01, 2,     2.53, 2,    0.007, 2,    0.003, 2,    0.000, 2, -999.000, 9,   2326.6, 6,   2418.5, 2,    7.5926,     25.00,   -999.0, 1,   -999.0,  -999.00, 1,   -999.0,   1.1156, 27.7855,   1.4703, 2, 2, 0.45, 0.13, 0.01, 0.016,  -999.00, 9, -999.00, -999.00, 9, -999.00
49NZ20071008, P14N, 50, 1, 7, X12044, 2, 20071104, 0033, 37.4840, 179.0082, 5385,   4579.9, 2,   1.4891, 2,  34.6876, 2,  34.6878, 2,    153.2, 2,    153.2, 2,   151.45, 2,    36.10, 2,     0.01, 2,     2.52, 2, -999.000, 9, -999.000, 9, -999.000, 9, -999.000, 9,   2325.5, 2,   2419.3, 6,    7.5945,     25.00,   -999.0, 1,   -999.0,  -999.00, 1,   -999.0,   1.1052, 27.7873,   1.4891, 2, 2, 0.45, 0.13, 0.01, 0.016,  -999.00, 9, -999.00, -999.00, 9, -999.00
49NZ20071008, P14N, 50, 1, 6, X12048, 2, 20071104, 0033, 37.4840, 179.0082, 5385,   4830.1, 2,   1.5135, 2,  34.6886, 2,  34.6891, 2,    154.0, 2,    153.5, 2,   153.43, 2,    36.15, 2,     0.01, 2,     2.52, 2, -999.000, 9, -999.000, 9, -999.000, 9, -999.000, 9,   2326.1, 2,   2420.3, 2,    7.5972,     25.00,   -999.0, 1,   -999.0,  -999.00, 1,   -999.0,   1.0993, 27.7885,   1.5135, 2, 6, 0.46, 0.13, 0.01, 0.016,  -999.00, 9, -999.00, -999.00, 9, -999.00
49NZ20071008, P14N, 50, 1, 5, X12014, 2, 20071104, 0033, 37.4840, 179.0082, 5385,   5078.4, 2,   1.5407, 2,  34.6890, 2,  34.6892, 2,    154.4, 2,    154.3, 2,   152.88, 2,    36.07, 2,     0.01, 2,     2.51, 2,    0.004, 2,    0.002, 2,    0.000, 2, -999.000, 9,   2328.2, 2,   2419.8, 2,    7.5977,     25.00,   -999.0, 1,   -999.0,  -999.00, 1,   -999.0,   1.0955, 27.7890,   1.5407, 2, 2, 0.46, 0.13, 0.01, 0.016,  -999.00, 9, -999.00, -999.00, 9, -999.00
49NZ20071008, P14N, 50, 1, 4, X12006, 2, 20071104, 0033, 37.4840, 179.0082, 5385,   5329.4, 2,   1.5731, 2,  34.6889, 2,  34.6894, 2,    154.4, 2,    154.2, 2,   152.95, 2,    36.04, 2,     0.01, 2,     2.51, 2, -999.000, 9, -999.000, 9, -999.000, 9, -999.000, 9,   2326.8, 2,   2419.9, 2,    7.5987,     25.00,   -999.0, 1,   -999.0,  -999.00, 1,   -999.0,   1.0955, 27.7890,   1.5731, 2, 2, 0.46, 0.13, 0.01, 0.016,  -999.00, 9, -999.00, -999.00, 9, -999.00
49NZ20071008, P14N, 50, 1, 3, X12013, 2, 20071104, 0033, 37.4840, 179.0082, 5385,   5329.3, 2,   1.5731, 2,  34.6889, 2, -999.0000, 9,    154.4, 2,   -999.0, 9,  -999.00, 9,  -999.00, 9,  -999.00, 9,  -999.00, 9, -999.000, 9, -999.000, 9, -999.000, 9, -999.000, 9,   -999.0, 9,   -999.0, 9, -999.0000,   -999.00,   -999.0, 9,   -999.0,  -999.00, 9,   -999.0,   1.0956, 27.7890,   1.5731, 2, 9, -999.00, -999.00, -999.00, -999.000,  -999.00, 9, -999.00, -999.00, 9, -999.00
49NZ20071008, P14N, 50, 1, 2, X12002, 2, 20071104, 0033, 37.4840, 179.0082, 5385,   5329.7, 2,   1.5731, 2,  34.6889, 2, -999.0000, 9,    154.4, 2,   -999.0, 9,  -999.00, 9,  -999.00, 9,  -999.00, 9,  -999.00, 9, -999.000, 9, -999.000, 9, -999.000, 9, -999.000, 9,   -999.0, 9,   -999.0, 9, -999.0000,   -999.00,   -999.0, 9,   -999.0,  -999.00, 9,   -999.0,   1.0955, 27.7890,   1.5731, 2, 9, -999.00, -999.00, -999.00, -999.000,  -999.00, 9, -999.00, -999.00, 9, -999.00
49NZ20071008, P14N, 50, 1, 1, X12001, 2, 20071104, 0033, 37.4840, 179.0082, 5385,   5486.6, 2,   1.5939, 2,  34.6890, 2,  34.6891, 6,    154.1, 2,    154.2, 2,   153.21, 2,    36.10, 2,     0.01, 2,     2.52, 2,    0.000, 2,    0.002, 2,    0.000, 2, -999.000, 9,   2326.1, 2,   2420.2, 2,    7.5976,     25.00,   -999.0, 1,   -999.0,  -999.00, 1,   -999.0,   1.0956, 27.7890,   1.5939, 2, 2, 0.46, 0.13, 0.01, 0.016,  -999.00, 9, -999.00, -999.00, 9, -999.00