BOTTLE,20221005CCHSIOAMB
EXPOCODE,SECT_ID,STNNBR,CASTNO,SAMPNO,BTLNBR,BTLNBR_FLAG_W,DATE,TIME,LATITUDE,LONGITUDE,DEPTH,CTDPRS,CTDPRS_FLAG_W,CTDTMP,CTDTMP_FLAG_W,CTDSAL,CTDSAL_FLAG_W,SALNTY,SALNTY_FLAG_W,CTDOXY,CTDOXY_FLAG_W,OXYGEN,OXYGEN_FLAG_W,SILCAT,SILCAT_FLAG_W,NITRAT,NITRAT_FLAG_W,NITRIT,NITRIT_FLAG_W,PHSPHT,PHSPHT_FLAG_W,CFC-11,CFC-11_FLAG_W,CFC-12,CFC-12_FLAG_W,CFC113,CFC113_FLAG_W,CCL4,CCL4_FLAG_W,TCARBN,TCARBN_FLAG_W,ALKALI,ALKALI_FLAG_W,PH_TOT,PH_TMP,DELC14,DELC14_FLAG_W,C14ERR,DELC13,DELC13_FLAG_W,C13ERR,THETA,SIG0,SBE35,SBE35_FLAG_W,PH_TOT_FLAG_W,SILUNC,NRAUNC,NRIUNC,PHPUNC,CS-137,CS-137_FLAG_W,CS137ER,PLUTO,PLUTO_FLAG_W,PLUTOER
,,,,,,,,,,,METERS,DBAR,,ITS-90,,PSS-78,,PSS-78,,UMOL/KG,,UMOL/KG,,UMOL/KG,,UMOL/KG,,UMOL/KG,,UMOL/KG,,PMOL/KG,,PMOL/KG,,PMOL/KG,,PMOL/KG,,UMOL/KG,,UMOL/KG,,,DEG C,/MILLE,,/MILLE,/MILLE,,/MILLE,DEG C,KG/M^3,ITS-90,,,UMOL/KG,UMOL/KG,UMOL/KG,UMOL/KG,DM/.1MG,,BQ/M^3,MBQ/M^3,,MBQ/M^3
49NZ20071008, P01, P01_46, 1, 36, X12042, 2, 20071016, 1708, 46.9915, 168.3762, 6205,     11.0, 2,   8.9920, 2,  32.6228, 2,  32.6230, 2,    289.4, 2,    288.0, 2,    21.78, 2,    12.84, 2,     0.25, 2,     1.29, 2,    3.865, 2,    2.143, 2,    0.351, 2, -999.000, 9,   2034.9, 2,   2213.8, 2,    7.8519,     25.00,   -999.0, 9,   -999.0,  -999.00, 9,   -999.0,   8.9909, 25.2585,   8.9913, 2, 6, 0.17, 0.07, 0.01, 0.014,  -999.00, 9, -999.00, -999.00, 9, -999.00
49NZ20071008, P01, P01_46, 1, 35, X12041, 2, 20071016, 1708, 46.9915, 168.3762, 6205,     49.6, 2,   8.9389, 2,  32.6239, 2,  32.6257, 2,    288.8, 2,    287.6, 2,    21.90, 2,    12.95, 2,     0.26, 2,     1.31, 2,    3.862, 2,    2.133, 2,    0.348, 2, -999.000, 9,   2034.1, 6,   2213.3, 2,    7.8482,     25.00,   -999.0, 9,   -999.0,  -999.00, 9,   -999.0,   8.9338, 25.2682,   8.9390, 2, 2, 0.17, 0.07, 0.01, 0.014,  -999.00, 9, -999.00, -999.00, 9, -999.00
49NZ20071008, P01, P01_46, 1, 34, X12016, 2, 20071016, 1708, 46.9915, 168.3762, 6205,    100.2, 2,   3.1985, 2,  33.0803, 2,  33.0865, 2,    279.4, 2,    279.2, 2,    46.21, 2,    26.80, 2,     0.03, 2,     2.11, 2,    5.005, 2,    2.678, 2,    0.442, 2, -999.000, 9,   2142.4, 2,   2234.2, 6,    7.6269,     25.00,   -999.0, 9,   -999.0,  -999.00, 9,   -999.0,   3.1925, 26.3357,   3.1979, 2, 2, 0.22, 0.11, 0.01, 0.015,  -999.00, 9, -999.00, -999.00, 9, -999.00
49NZ20071008, P01, P01_46, 1, 33, X12033, 2, 20071016, 1708, 46.9915, 168.3762, 6205,    150.2, 2,   3.7161, 2,  33.6634, 2,  33.6606, 2,     98.1, 2,    100.9, 2,    75.93, 2,    39.73, 2,     0.02, 2,     2.87, 2,    2.986, 6,    1.501, 6,    0.219, 6, -999.000, 9,   2267.0, 2,   2276.7, 2,    7.3611,     25.00,   -999.0, 9,   -999.0,  -999.00, 9,   -999.0,   3.7063, 26.7522,   3.7154, 2, 6, 0.29, 0.14, 0.01, 0.017,  -999.00, 9, -999.00, -999.00, 9, -999.00
49NZ20071008, P01, P01_46, 1, 32, X12038, 2, 20071016, 1708, 46.9915, 168.3762, 6205,    201.1, 2,   3.8202, 2,  33.8859, 2,  33.8834, 2,     41.6, 2,     36.4, 2,    91.24, 2,    44.24, 2,     0.02, 2,     3.15, 2,    2.050, 2,    0.995, 2,    0.140, 2, -999.000, 9,   2318.0, 2,   2297.0, 2,    7.2773,     25.00,   -999.0, 9,   -999.0,  -999.00, 9,   -999.0,   3.8067, 26.9194,   3.8197, 2, 2, 0.32, 0.16, 0.01, 0.018,  -999.00, 9, -999.00, -999.00, 9, -999.00
49NZ20071008, P01, P01_46, 1, 31, X12003, 2, 20071016, 1708, 46.9915, 168.3762, 6205,    251.1, 2,   3.7558, 2,  33.9564, 2,  33.9559, 6,     26.5, 2,     27.9, 2,    97.61, 2,    44.59, 2,     0.02, 2,     3.17, 2,    1.689, 2,    0.806, 2,    0.110, 2, -999.000, 9,   2334.5, 2,   2308.1, 2,    7.2757,     25.00,   -999.0, 9,   -999.0,  -999.00, 9,   -999.0,   3.7390, 26.9822,   3.7553, 2, 2, 0.33, 0.16, 0.01, 0.018,  -999.00, 9, -999.00, -999.00, 9, -999.00
49NZ20071008, P01, P01_46, 1, 30, X12008, 2, 20071016, 1708, 46.9915, 168.3762, 6205,    333.4, 2,   3.7132, 2,  34.0698, 2,  34.0689, 2,     19.0, 2,     17.1, 2,   107.39, 2,    44.81, 2,     0.02, 2,     3.20, 2,    1.085, 2,    0.510, 2,    0.073, 2, -999.000, 9,   2342.5, 2,   2322.8, 2,    7.2788,     25.00,   -999.0, 9,   -999.0,  -999.00, 9,   -999.0,   3.6907, 27.0773,   3.7128, 2, 2, 0.36, 0.16, 0.01, 0.018,  -999.00, 9, -999.00, -999.00, 9, -999.00
49NZ20071008, P01, P01_46, 1, 29, X12035, 2, 20071016, 1708, 46.9915, 168.3762, 6205,    430.9, 2,   3.4580, 2,  34.1434, 2,  34.1424, 2,     19.6, 2,     21.9, 2,   117.64, 2,    44.17, 2,     0.02, 2,     3.17, 2,    0.824, 2,    0.391, 2,    0.056, 2, -999.000, 9,   2345.7, 2,   2337.8, 2,    7.3005,     25.00,   -999.0, 9,   -999.0,  -999.00, 9,   -999.0,   3.4294, 27.1613,   3.4581, 2, 2, 0.38, 0.16, 0.01, 0.018,  -999.00, 9, -999.00, -999.00, 9, -999.00
49NZ20071008, P01, P01_46, 1, 28, X12034, 2, 20071016, 1708, 46.9915, 168.3762, 6205,    529.5, 2,   3.3786, 2,  34.2201, 2,  34.2200, 2,     16.5, 2,     16.4, 2,   124.52, 2,    44.32, 2,     0.02, 2,     3.17, 2,    0.483, 2,    0.227, 2,    0.033, 2, -999.000, 9,   2357.9, 2,   2348.7, 2,    7.3064,     25.00,   -999.0, 9,   -999.0,  -999.00, 9,   -999.0,   3.3433, 27.2307,   3.3785, 2, 2, 0.39, 0.16, 0.01, 0.018,  -999.00, 9, -999.00, -999.00, 9, -999.00
49NZ20071008, P01, P01_46, 1, 27, X12049, 2, 20071016, 1708, 46.9915, 168.3762, 6205,    630.4, 2,   3.1653, 2,  34.2717, 2,  34.2718, 2,     21.7, 2,     19.5, 2,   132.20, 2,    44.10, 2,     0.01, 2,     3.17, 2,    0.382, 2,    0.178, 2,    0.026, 2, -999.000, 9,   2362.5, 2,   2358.9, 2,    7.3164,     25.00,   -999.0, 9,   -999.0,  -999.00, 9,   -999.0,   3.1238, 27.2924,   3.1631, 2, 2, 0.41, 0.16, 0.01, 0.018,  -999.00, 9, -999.00, -999.00, 9, -999.00
49NZ20071008, P01, P01_46, 1, 26, X12032, 2, 20071016, 1708, 46.9915, 168.3762, 6205,    731.2, 2,   3.0167, 2,  34.3263, 2,  34.3268, 2,     15.9, 2,     16.8, 2,   138.62, 2,    44.28, 2,     0.01, 2,     3.18, 2,    0.222, 6,    0.101, 6,    0.014, 6, -999.000, 9,   2374.8, 6,   2368.8, 2,    7.3205,     25.00,   -999.0, 9,   -999.0,  -999.00, 9,   -999.0,   2.9687, 27.3501,   3.0166, 2, 2, 0.42, 0.16, 0.01, 0.018,  -999.00, 9, -999.00, -999.00, 9, -999.00
49NZ20071008, P01, P01_46, 1, 25, X12043, 2, 20071016, 1708, 46.9915, 168.3762, 6205,    829.6, 2,   2.8721, 2,  34.3654, 2,  34.3659, 2,     17.8, 2,     17.2, 2,   143.85, 2,    44.41, 2,     0.01, 2,     3.18, 2,    0.138, 2,    0.063, 2,    0.018, 2, -999.000, 9,   2378.8, 2,   2375.8, 6,    7.3266,     25.00,   -999.0, 9,   -999.0,  -999.00, 9,   -999.0,   2.8179, 27.3948,   2.8719, 2, 2, 0.44, 0.16, 0.01, 0.018,  -999.00, 9, -999.00, -999.00, 9, -999.00
49NZ20071008, P01, P01_46, 1, 24, X12030, 2, 20071016, 1708, 46.9915, 168.3762, 6205,    931.3, 2,   2.7262, 2,  34.4006, 2,  34.4006, 2,     20.2, 2,     19.9, 2,   148.51, 2,    44.14, 2,     0.01, 2,     3.15, 2,    0.101, 2,    0.045, 2,    0.008, 2, -999.000, 9,   2381.5, 2,   2381.9, 2,    7.3359,     25.00,   -999.0, 9,   -999.0,  -999.00, 9,   -999.0,   2.6656, 27.4364,   2.7258, 2, 2, 0.45, 0.16, 0.01, 0.018,  -999.00, 9, -999.00, -999.00, 9, -999.00
49NZ20071008, P01, P01_46, 1, 23, X12027, 2, 20071016, 1708, 46.9915, 168.3762, 6205,   1071.1, 2,   2.5412, 2,  34.4446, 2,  34.4449, 6,     25.9, 2,     26.1, 2,   153.19, 2,    43.85, 2,     0.01, 2,     3.13, 2,    0.073, 2,    0.032, 2,    0.000, 2, -999.000, 9,   2382.6, 2,   2389.9, 2,    7.3536,     25.00,   -999.0, 9,   -999.0,  -999.00, 9,   -999.0,   2.4718, 27.4882,   2.5410, 2, 2, 0.46, 0.16, 0.01, 0.018,  -999.00, 9, -999.00, -999.00, 9, -999.00
49NZ20071008, P01, P01_46, 1, 22, X12028, 2, 20071016, 1708, 46.9915, 168.3762, 6205,   1272.1, 2,   2.3013, 2,  34.4983, 2,  34.4982, 2,     34.0, 2,     34.2, 2,   159.92, 2,    43.41, 2,     0.01, 2,     3.10, 2,    0.034, 2,    0.013, 2,    0.024, 3, -999.000, 9,   2383.3, 2,   2398.8, 2,    7.3753,     25.00,   -999.0, 9,   -999.0,  -999.00, 9,   -999.0,   2.2192, 27.5522,   2.3012, 2, 2, 0.47, 0.15, 0.01, 0.018,  -999.00, 9, -999.00, -999.00, 9, -999.00
49NZ20071008, P01, P01_46, 1, 21, X12009, 2, 20071016, 1708, 46.9915, 168.3762, 6205,   1470.9, 2,   2.1324, 2,  34.5374, 2,  34.5372, 2,     44.8, 2,     44.9, 2,   163.25, 2,    42.88, 2,     0.01, 2,     3.06, 2,    0.013, 2,    0.006, 2,    0.000, 2, -999.000, 9,   2383.8, 2,   2405.8, 2,    7.3926,     25.00,   -999.0, 9,   -999.0,  -999.00, 9,   -999.0,   2.0369, 27.5981,   2.1322, 2, 2, 0.48, 0.15, 0.01, 0.018,  -999.00, 9, -999.00, -999.00, 9, -999.00
49NZ20071008, P01, P01_46, 1, 20, X12026, 2, 20071016, 1708, 46.9915, 168.3762, 6205,   1671.8, 2,   1.9855, 2,  34.5711, 2,  34.5713, 2,     59.4, 2,     58.0, 2,   164.86, 2,    41.99, 2,     0.01, 2,     3.00, 2,    0.005, 2,    0.001, 2,    0.000, 2, -999.000, 9,   2381.1, 2,   2411.0, 2,    7.4203,     25.00,   -999.0, 9,   -999.0,  -999.00, 9,   -999.0,   1.8761, 27.6377,   1.9855, 2, 6, 0.48, 0.15, 0.01, 0.017,  -999.00, 9, -999.00, -999.00, 9, -999.00
49NZ20071008, P01, P01_46, 1, 19, X12025, 2, 20071016, 1708, 46.9915, 168.3762, 6205,   1869.9, 2,   1.8746, 2,  34.5951, 2,  34.5953, 2,     71.1, 2,     70.9, 2,   164.60, 2,    41.23, 2,     0.01, 2,     2.94, 2,    0.000, 2,    0.001, 2,    0.000, 2, -999.000, 9,   2376.2, 2,   2413.7, 2,    7.4444,     25.00,   -999.0, 9,   -999.0,  -999.00, 9,   -999.0,   1.7509, 27.6666,   1.8746, 2, 2, 0.48, 0.15, 0.01, 0.017,  -999.00, 9, -999.00, -999.00, 9, -999.00
49NZ20071008, P01, P01_46, 1, 18, X12024, 2, 20071016, 1708, 46.9915, 168.3762, 6205,   2069.4, 2,   1.7974, 2,  34.6121, 2,  34.6124, 2,     84.1, 2,     82.3, 2,   163.45, 2,    40.54, 2,     0.01, 2,     2.89, 2,    0.000, 2,    0.000, 2,    0.000, 2, -999.000, 9,   2365.4, 2,   2414.8, 2,    7.4694,     25.00,   -999.0, 9,   -999.0,  -999.00, 9,   -999.0,   1.6584, 27.6871,   1.7973, 2, 2, 0.48, 0.15, 0.01, 0.017,  -999.00, 9, -999.00, -999.00, 9, -999.00
49NZ20071008, P01, P01_46, 1, 17, X12023, 2, 20071016, 1708, 46.9915, 168.3762, 6205,   2270.7, 2,   1.7034, 2,  34.6296, 2,  34.6297, 2,     94.8, 2,     95.0, 2,   162.22, 2,    39.76, 2,     0.01, 2,     2.83, 2,    0.000, 2,    0.000, 2,    0.000, 2, -999.000, 9,   2358.3, 2,   2416.6, 2,    7.4916,     25.00,   -999.0, 9,   -999.0,  -999.00, 9,   -999.0,   1.5488, 27.7094,   1.7034, 2, 2, 0.48, 0.14, 0.01, 0.017,  -999.00, 9, -999.00, -999.00, 9, -999.00
49NZ20071008, P01, P01_46, 1, 16, X12022, 2, 20071016, 1708, 46.9915, 168.3762, 6205,   2470.2, 2,   1.6419, 2,  34.6413, 2,  34.6414, 2,    105.2, 2,    104.7, 2,   160.57, 2,    39.12, 2,     0.01, 2,     2.78, 2,    0.000, 2,    0.000, 2,    0.000, 2, -999.000, 9,   2350.8, 6,   2418.0, 2,    7.5104,     25.00,   -999.0, 9,   -999.0,  -999.00, 9,   -999.0,   1.4710, 27.7244,   1.6418, 2, 2, 0.47, 0.14, 0.01, 0.017,  -999.00, 9, -999.00, -999.00, 9, -999.00
49NZ20071008, P01, P01_46, 1, 15, X12021, 2, 20071016, 1708, 46.9915, 168.3762, 6205,   2670.2, 2,   1.5939, 2,  34.6508, 2,  34.6511, 2,    113.8, 2,    113.3, 2,   158.97, 2,    38.66, 2,     0.01, 2,     2.75, 2, -999.000, 9, -999.000, 9, -999.000, 9, -999.000, 9,   2349.4, 2,   2418.1, 6,    7.5250,     25.00,   -999.0, 9,   -999.0,  -999.00, 9,   -999.0,   1.4059, 27.7367,   1.5938, 2, 2, 0.47, 0.14, 0.01, 0.017,  -999.00, 9, -999.00, -999.00, 9, -999.00
49NZ20071008, P01, P01_46, 1, 14, X12020, 2, 20071016, 1708, 46.9915, 168.3762, 6205,   2870.4, 2,   1.5544, 2,  34.6584, 2,  34.6586, 6,    121.7, 2,    120.8, 2,   157.25, 2,    38.13, 2,     0.01, 2,     2.70, 2, -999.000, 9, -999.000, 9, -999.000, 9, -999.000, 9,   2344.0, 2,   2418.8, 2,    7.5391,     25.00,   -999.0, 9,   -999.0,  -999.00, 9,   -999.0,   1.3487, 27.7469,   1.5544, 2, 6, 0.46, 0.14, 0.01, 0.017,  -999.00, 9, -999.00, -999.00, 9, -999.00
49NZ20071008, P01, P01_46, 1, 13, X12019, 2, 20071016, 1708, 46.9915, 168.3762, 6205,   3080.8, 2,   1.5214, 2,  34.6653, 2,  34.6656, 2,    129.3, 2,    127.9, 2,   155.67, 2,    37.64, 2,     0.01, 2,     2.67, 2,    0.000, 2,    0.000, 2,    0.000, 2, -999.000, 9,   2338.1, 2,   2418.5, 2,    7.5525,     25.00,   -999.0, 9,   -999.0,  -999.00, 9,   -999.0,   1.2964, 27.7561,   1.5213, 2, 2, 0.46, 0.14, 0.01, 0.017,  -999.00, 9, -999.00, -999.00, 9, -999.00
49NZ20071008, P01, P01_46, 1, 12, X12040, 2, 20071016, 1708, 46.9915, 168.3762, 6205,   3331.0, 2,   1.4936, 2,  34.6718, 2,  34.6722, 2,    135.4, 2,    134.9, 2,   153.50, 2,    37.07, 2,     0.01, 2,     2.61, 2, -999.000, 9, -999.000, 9, -999.000, 9, -999.000, 9,   2332.0, 2,   2418.8, 2,    7.5632,     25.00,   -999.0, 9,   -999.0,  -999.00, 9,   -999.0,   1.2447, 27.7650,   1.4938, 2, 2, 0.46, 0.14, 0.01, 0.017,  -999.00, 9, -999.00, -999.00, 9, -999.00
49NZ20071008, P01, P01_46, 1, 11, X12047, 2, 20071016, 1708, 46.9915, 168.3762, 6205,   3579.3, 2,   1.4787, 2,  34.6764, 2,  34.6767, 2,    140.1, 2,    140.5, 2,   152.01, 2,    36.80, 2,     0.01, 2,     2.60, 2, -999.000, 9, -999.000, 9, -999.000, 9, -999.000, 9,   2326.9, 2,   2418.1, 2,    7.5747,     25.00,   -999.0, 9,   -999.0,  -999.00, 9,   -999.0,   1.2050, 27.7714,   1.4788, 2, 2, 0.45, 0.14, 0.01, 0.016,  -999.00, 9, -999.00, -999.00, 9, -999.00
49NZ20071008, P01, P01_46, 1, 10, X12010, 2, 20071016, 1708, 46.9915, 168.3762, 6205,   3829.0, 2,   1.4720, 2,  34.6801, 2,  34.6802, 2,    144.7, 2,    144.9, 2,   151.10, 2,    36.49, 2,     0.01, 2,     2.57, 2,    0.000, 2,    0.000, 2,    0.000, 2, -999.000, 9,   2327.6, 2,   2418.1, 2,    7.5812,     25.00,   -999.0, 9,   -999.0,  -999.00, 9,   -999.0,   1.1723, 27.7766,   1.4721, 2, 2, 0.45, 0.13, 0.01, 0.016,  -999.00, 9, -999.00, -999.00, 9, -999.00
49NZ20071008, P01, P01_46, 1, 9, X12015, 2, 20071016, 1708, 46.9915, 168.3762, 6205,   4078.3, 2,   1.4734, 2,  34.6830, 2,  34.6831, 2,    147.9, 2,    148.6, 2,   150.09, 2,    36.31, 2,     0.01, 2,     2.56, 2, -999.000, 9, -999.000, 9, -999.000, 9, -999.000, 9,   2327.1, 2,   2420.1, 3,    7.5868,     25.00,   -999.0, 9,   -999.0,  -999.00, 9,   -999.0,   1.1467, 27.7807,   1.4735, 2, 2, 0.45, 0.13, 0.01, 0.016,  -999.00, 9, -999.00, -999.00, 9, -999.00
49NZ20071008, P01, P01_46, 1, 8, X12046, 2, 20071016, 1708, 46.9915, 168.3762, 6205,   4328.8, 2,   1.4857, 2,  34.6848, 2,  34.6846, 2,    150.5, 2,    150.7, 2,   149.61, 2,    36.14, 2,     0.01, 2,     2.54, 2, -999.000, 9, -999.000, 9, -999.000, 9, -999.000, 9,   2324.8, 6,   2417.6, 2,    7.5904,     25.00,   -999.0, 9,   -999.0,  -999.00, 9,   -999.0,   1.1307, 27.7833,   1.4859, 2, 2, 0.45, 0.13, 0.01, 0.016,  -999.00, 9, -999.00, -999.00, 9, -999.00
49NZ20071008, P01, P01_46, 1, 7, X12044, 2, 20071016, 1708, 46.9915, 168.3762, 6205,   4579.4, 2,   1.5023, 2,  34.6861, 2,  34.6863, 6,    152.5, 2,    152.6, 2,   149.23, 2,    36.08, 2,     0.01, 2,     2.54, 2,    0.000, 2,    0.000, 2,    0.000, 2, -999.000, 9,   2321.2, 2,   2417.4, 6,    7.5931,     25.00,   -999.0, 9,   -999.0,  -999.00, 9,   -999.0,   1.1181, 27.7852,   1.5024, 2, 2, 0.45, 0.13, 0.01, 0.016,  -999.00, 9, -999.00, -999.00, 9, -999.00
49NZ20071008, P01, P01_46, 1, 6, X12048, 2, 20071016, 1708, 46.9915, 168.3762, 6205,   4829.3, 2,   1.5210, 2,  34.6874, 2,  34.6873, 2,    154.0, 2,    154.1, 2,   148.74, 2,    35.94, 2,     0.01, 2,     2.52, 2, -999.000, 9, -999.000, 9, -999.000, 9, -999.000, 9,   2319.2, 2,   2416.7, 2,    7.5959,     25.00,   -999.0, 9,   -999.0,  -999.00, 9,   -999.0,   1.1067, 27.7870,   1.5210, 2, 6, 0.45, 0.13, 0.01, 0.016,  -999.00, 9, -999.00, -999.00, 9, -999.00
49NZ20071008, P01, P01_46, 1, 5, X12014, 2, 20071016, 1708, 46.9915, 168.3762, 6205,   5081.1, 2,   1.5423, 2,  34.6884, 2,  34.6887, 2,    155.4, 2,    155.4, 2,   148.60, 2,    35.81, 2,     0.02, 2,     2.52, 2, -999.000, 9, -999.000, 9, -999.000, 9, -999.000, 9,   2318.8, 2,   2417.7, 2,    7.5983,     25.00,   -999.0, 9,   -999.0,  -999.00, 9,   -999.0,   1.0967, 27.7885,   1.5424, 2, 2, 0.45, 0.13, 0.01, 0.016,  -999.00, 9, -999.00, -999.00, 9, -999.00
49NZ20071008, P01, P01_46, 1, 4, X12006, 2, 20071016, 1708, 46.9915, 168.3762, 6205,   5329.2, 2,   1.5667, 2,  34.6893, 2,  34.6896, 2,    156.5, 2,    156.4, 2,   148.45, 2,    35.75, 2,     0.01, 2,     2.51, 2,    0.000, 2,    0.000, 2,    0.000, 2, -999.000, 9,   2320.8, 2,   2417.1, 2,    7.6004,     25.00,   -999.0, 9,   -999.0,  -999.00, 9,   -999.0,   1.0894, 27.7897,   1.5667, 2, 2, 0.45, 0.13, 0.01, 0.016,  -999.00, 9, -999.00, -999.00, 9, -999.00
49NZ20071008, P01, P01_46, 1, 3, X12013, 2, 20071016, 1708, 46.9915, 168.3762, 6205,   5580.5, 2,   1.5943, 2,  34.6898, 2,  34.6900, 2,    157.3, 2,    157.2, 2,   148.75, 2,    35.76, 2,     0.01, 2,     2.51, 2,    0.000, 2,    0.000, 2,    0.000, 2, -999.000, 9,   2314.0, 3,   2417.1, 2,    7.6002,     25.00,   -999.0, 9,   -999.0,  -999.00, 9,   -999.0,   1.0839, 27.7905,   1.5943, 2, 2, 0.45, 0.13, 0.01, 0.016,  -999.00, 9, -999.00, -999.00, 9, -999.00
49NZ20071008, P01, P01_46, 1, 2, X12002, 2, 20071016, 1708, 46.9915, 168.3762, 6205,   5830.8, 2,   1.6239, 2,  34.6904, 2,  34.6905, 2,    157.7, 2,    157.6, 2,   149.69, 2,    35.74, 2,     0.01, 2,     2.51, 2,    0.000, 2,    0.000, 2,    0.000, 2, -999.000, 9,   2320.7, 2,   2419.0, 2,    7.6018,     25.00,   -999.0, 9,   -999.0,  -999.00, 9,   -999.0,   1.0797, 27.7912,   1.6238, 2, 2, 0.45, 0.13, 0.01, 0.016,  -999.00, 9, -999.00, -999.00, 9, -999.00
49NZ20071008, P01, P01_46, 1, 1, X12001, 2, 20071016, 1708, 46.9915, 168.3762, 6205,   6334.6, 2,   1.6932, 2,  34.6906, 2,  34.6908, 6,    157.7, 2,    157.7, 2,   150.19, 2,    35.68, 2,     0.01, 2,     2.51, 2,    0.001, 2,    0.000, 2,    0.000, 2, -999.000, 9,   2315.0, 2,   2417.0, 2,    7.6027,     25.00,   -999.0, 9,   -999.0,  -999.00, 9,   -999.0,   1.0782, 27.7915,   1.6931, 2, 2, 0.45, 0.13, 0.01, 0.016,  -999.00, 9, -999.00, -999.00, 9, -999.00