BOTTLE,20221005CCHSIOAMB
EXPOCODE,SECT_ID,STNNBR,CASTNO,SAMPNO,BTLNBR,BTLNBR_FLAG_W,DATE,TIME,LATITUDE,LONGITUDE,DEPTH,CTDPRS,CTDPRS_FLAG_W,CTDTMP,CTDTMP_FLAG_W,CTDSAL,CTDSAL_FLAG_W,SALNTY,SALNTY_FLAG_W,CTDOXY,CTDOXY_FLAG_W,OXYGEN,OXYGEN_FLAG_W,SILCAT,SILCAT_FLAG_W,NITRAT,NITRAT_FLAG_W,NITRIT,NITRIT_FLAG_W,PHSPHT,PHSPHT_FLAG_W,CFC-11,CFC-11_FLAG_W,CFC-12,CFC-12_FLAG_W,CFC113,CFC113_FLAG_W,CCL4,CCL4_FLAG_W,TCARBN,TCARBN_FLAG_W,ALKALI,ALKALI_FLAG_W,PH_TOT,PH_TMP,DELC14,DELC14_FLAG_W,C14ERR,DELC13,DELC13_FLAG_W,C13ERR,THETA,SIG0,SBE35,SBE35_FLAG_W,PH_TOT_FLAG_W,SILUNC,NRAUNC,NRIUNC,PHPUNC,CS-137,CS-137_FLAG_W,CS137ER,PLUTO,PLUTO_FLAG_W,PLUTOER
,,,,,,,,,,,METERS,DBAR,,ITS-90,,PSS-78,,PSS-78,,UMOL/KG,,UMOL/KG,,UMOL/KG,,UMOL/KG,,UMOL/KG,,UMOL/KG,,PMOL/KG,,PMOL/KG,,PMOL/KG,,PMOL/KG,,UMOL/KG,,UMOL/KG,,,DEG C,/MILLE,,/MILLE,/MILLE,,/MILLE,DEG C,KG/M^3,ITS-90,,,UMOL/KG,UMOL/KG,UMOL/KG,UMOL/KG,DM/.1MG,,BQ/M^3,MBQ/M^3,,MBQ/M^3
49NZ20071008, P01, P01_47, 1, 36, X12042, 2, 20071017, 0009, 46.9868, 168.9917, 5214,     10.2, 2,   8.9193, 2,  32.6622, 2,  32.6623, 2,    289.9, 2,    290.3, 2,    23.85, 2,    14.16, 2,     0.24, 2,     1.37, 2,    3.904, 2,    2.136, 2,    0.364, 2, -999.000, 9,   -999.0, 9,   -999.0, 9, -999.0000,   -999.00,   -999.0, 9,   -999.0,  -999.00, 9,   -999.0,   8.9182, 25.3006,   8.9190, 2, 9, 0.17, 0.07, 0.01, 0.014,  -999.00, 9, -999.00, -999.00, 9, -999.00
49NZ20071008, P01, P01_47, 1, 35, X12041, 2, 20071017, 0009, 46.9868, 168.9917, 5214,     50.9, 2,   6.7726, 2,  32.8032, 2,  32.8064, 2,    292.3, 2,    297.4, 2,    30.60, 2,    17.88, 2,     0.35, 2,     1.62, 2, -999.000, 5, -999.000, 5, -999.000, 5, -999.000, 9,   -999.0, 9,   -999.0, 9, -999.0000,   -999.00,   -999.0, 9,   -999.0,  -999.00, 9,   -999.0,   6.7681, 25.7194,   6.7751, 2, 9, 0.19, 0.08, 0.00, 0.014,  -999.00, 9, -999.00, -999.00, 9, -999.00
49NZ20071008, P01, P01_47, 1, 34, X12016, 2, 20071017, 0009, 46.9868, 168.9917, 5214,    100.8, 2,   2.1084, 2,  33.1128, 2,  33.1274, 2,    291.6, 2,    291.8, 2,    46.50, 2,    27.25, 2,     0.02, 2,     2.13, 2,    5.327, 2,    2.839, 2,    0.472, 2, -999.000, 9,   -999.0, 9,   -999.0, 9, -999.0000,   -999.00,   -999.0, 9,   -999.0,  -999.00, 9,   -999.0,   2.1033, 26.4521,   2.1267, 2, 9, 0.22, 0.11, 0.01, 0.015,  -999.00, 1, -999.00, -999.00, 9, -999.00
49NZ20071008, P01, P01_47, 1, 33, X12033, 2, 20071017, 0009, 46.9868, 168.9917, 5214,    150.0, 2,   3.6388, 2,  33.6459, 2,  33.6423, 2,    107.2, 2,    113.7, 2,    75.38, 2,    38.72, 2,     0.02, 2,     2.81, 2,    3.111, 6,    1.582, 6,    0.230, 6, -999.000, 9,   -999.0, 9,   -999.0, 9, -999.0000,   -999.00,   -999.0, 9,   -999.0,  -999.00, 9,   -999.0,   3.6291, 26.7457,   3.6381, 2, 9, 0.28, 0.14, 0.01, 0.017,  -999.00, 9, -999.00, -999.00, 9, -999.00
49NZ20071008, P01, P01_47, 1, 32, X12038, 2, 20071017, 0009, 46.9868, 168.9917, 5214,    200.1, 2,   3.6548, 2,  33.8340, 2,  33.8244, 2,     67.5, 2,     63.4, 2,    89.47, 2,    42.37, 2,     0.02, 2,     3.03, 2,    2.408, 2,    1.193, 2,    0.178, 2, -999.000, 9,   -999.0, 9,   -999.0, 9, -999.0000,   -999.00,   -999.0, 9,   -999.0,  -999.00, 9,   -999.0,   3.6417, 26.8943,   3.6582, 2, 9, 0.32, 0.15, 0.01, 0.018,  -999.00, 1, -999.00, -999.00, 9, -999.00
49NZ20071008, P01, P01_47, 1, 31, X12003, 2, 20071017, 0009, 46.9868, 168.9917, 5214,    248.9, 2,   3.6113, 2,  33.9246, 2,  33.9205, 2,     47.4, 2,     40.3, 2,    98.36, 2,    43.74, 2,     0.02, 2,     3.13, 2,    1.897, 2,    0.924, 2,    0.142, 2, -999.000, 9,   -999.0, 9,   -999.0, 9, -999.0000,   -999.00,   -999.0, 9,   -999.0,  -999.00, 9,   -999.0,   3.5949, 26.9710,   3.6016, 2, 9, 0.34, 0.16, 0.01, 0.018,  -999.00, 9, -999.00, -999.00, 9, -999.00
49NZ20071008, P01, P01_47, 1, 30, X12008, 2, 20071017, 0009, 46.9868, 168.9917, 5214,    282.1, 2,   3.2798, 2,  33.9380, 2,  33.9422, 2,     38.6, 2,     47.3, 2,   102.35, 2,    43.10, 2,     0.02, 2,     3.11, 2,    1.827, 2,    0.899, 2,    0.132, 2, -999.000, 9,   -999.0, 9,   -999.0, 9, -999.0000,   -999.00,   -999.0, 9,   -999.0,  -999.00, 9,   -999.0,   3.2619, 27.0133,   3.2783, 2, 9, 0.34, 0.15, 0.01, 0.018,  -999.00, 9, -999.00, -999.00, 9, -999.00
49NZ20071008, P01, P01_47, 1, 29, X12035, 2, 20071017, 0009, 46.9868, 168.9917, 5214,    369.8, 2,   3.4814, 2,  34.0676, 2,  34.0654, 2,     36.9, 2,     30.9, 2,   110.52, 2,    43.58, 2,     0.02, 2,     3.13, 2,    1.207, 2,    0.584, 2,    0.086, 4, -999.000, 9,   -999.0, 9,   -999.0, 9, -999.0000,   -999.00,   -999.0, 9,   -999.0,  -999.00, 9,   -999.0,   3.4570, 27.0983,   3.4833, 2, 9, 0.36, 0.15, 0.01, 0.018,  -999.00, 1, -999.00, -999.00, 9, -999.00
49NZ20071008, P01, P01_47, 1, 28, X12034, 2, 20071017, 0009, 46.9868, 168.9917, 5214,    470.1, 2,   3.2972, 2,  34.1505, 2,  34.1509, 6,     18.0, 2,     28.2, 2,   120.52, 2,    43.56, 2,     0.02, 2,     3.12, 2,    0.879, 2,    0.422, 2,    0.069, 2, -999.000, 9,   -999.0, 9,   -999.0, 9, -999.0000,   -999.00,   -999.0, 9,   -999.0,  -999.00, 9,   -999.0,   3.2664, 27.1824,   3.2969, 2, 9, 0.38, 0.15, 0.01, 0.018,  -999.00, 9, -999.00, -999.00, 9, -999.00
49NZ20071008, P01, P01_47, 1, 27, X12049, 2, 20071017, 0009, 46.9868, 168.9917, 5214,    570.3, 2,   3.2967, 2,  34.2471, 2,  34.2485, 2,     14.5, 2,     14.1, 2,   128.44, 2,    44.40, 2,     0.02, 2,     3.18, 2,    0.384, 2,    0.176, 2,    0.022, 2, -999.000, 9,   -999.0, 9,   -999.0, 9, -999.0000,   -999.00,   -999.0, 9,   -999.0,  -999.00, 9,   -999.0,   3.2588, 27.2602,   3.2962, 2, 9, 0.40, 0.16, 0.01, 0.018,  -999.00, 1, -999.00, -999.00, 9, -999.00
49NZ20071008, P01, P01_47, 1, 26, X12032, 2, 20071017, 0009, 46.9868, 168.9917, 5214,    669.4, 2,   3.1246, 2,  34.2994, 2,  34.2987, 2,     15.6, 2,     15.3, 2,   134.59, 2,    44.38, 2,     0.02, 2,     3.17, 2,    0.265, 6,    0.125, 6,    0.018, 6, -999.000, 9,   -999.0, 9,   -999.0, 9, -999.0000,   -999.00,   -999.0, 9,   -999.0,  -999.00, 9,   -999.0,   3.0805, 27.3185,   3.1244, 2, 9, 0.42, 0.16, 0.01, 0.018,  -999.00, 9, -999.00, -999.00, 9, -999.00
49NZ20071008, P01, P01_47, 1, 25, X12043, 2, 20071017, 0009, 46.9868, 168.9917, 5214,    771.2, 2,   2.9540, 2,  34.3451, 2,  34.3439, 2,     17.5, 2,     17.5, 2,   140.47, 2,    44.23, 2,     0.02, 2,     3.16, 2,    0.186, 2,    0.087, 2,    0.009, 2, -999.000, 9,   -999.0, 9,   -999.0, 9, -999.0000,   -999.00,   -999.0, 9,   -999.0,  -999.00, 9,   -999.0,   2.9035, 27.3710,   2.9536, 2, 9, 0.43, 0.16, 0.01, 0.018,  -999.00, 1, -999.00, -999.00, 9, -999.00
49NZ20071008, P01, P01_47, 1, 24, X12030, 2, 20071017, 0009, 46.9868, 168.9917, 5214,    870.8, 2,   2.8326, 2,  34.3769, 2,  34.3769, 2,     18.1, 2,     18.0, 2,   144.82, 2,    44.26, 2,     0.02, 2,     3.16, 2,    0.127, 2,    0.061, 2,    0.014, 2, -999.000, 9,   -999.0, 9,   -999.0, 9, -999.0000,   -999.00,   -999.0, 9,   -999.0,  -999.00, 9,   -999.0,   2.7757, 27.4078,   2.8321, 2, 9, 0.44, 0.16, 0.01, 0.018,  -999.00, 9, -999.00, -999.00, 9, -999.00
49NZ20071008, P01, P01_47, 1, 23, X12027, 2, 20071017, 0009, 46.9868, 168.9917, 5214,    970.9, 2,   2.6798, 2,  34.4128, 2,  34.4128, 6,     22.4, 2,     20.3, 2,   149.52, 2,    44.11, 2,     0.02, 2,     3.15, 2,    0.112, 2,    0.051, 2,    0.010, 2, -999.000, 9,   -999.0, 9,   -999.0, 9, -999.0000,   -999.00,   -999.0, 9,   -999.0,  -999.00, 9,   -999.0,   2.6167, 27.4504,   2.6797, 2, 9, 0.45, 0.16, 0.01, 0.018,  -999.00, 1, -999.00, -999.00, 9, -999.00
49NZ20071008, P01, P01_47, 1, 22, X12028, 2, 20071017, 0009, 46.9868, 168.9917, 5214,   1131.4, 2,   2.4583, 2,  34.4631, 2,  34.4628, 2,     27.5, 2,     27.1, 2,   155.94, 2,    43.81, 2,     0.02, 2,     3.11, 2,    0.056, 2,    0.023, 2,    0.004, 2, -999.000, 9,   -999.0, 9,   -999.0, 9, -999.0000,   -999.00,   -999.0, 9,   -999.0,  -999.00, 9,   -999.0,   2.3852, 27.5103,   2.4579, 2, 9, 0.46, 0.16, 0.01, 0.018,  -999.00, 9, -999.00, -999.00, 9, -999.00
49NZ20071008, P01, P01_47, 1, 21, X12009, 2, 20071017, 0009, 46.9868, 168.9917, 5214,   1330.8, 2,   2.2693, 2,  34.5071, 2,  34.5073, 2,     37.9, 2,     36.7, 2,   160.53, 2,    43.31, 2,     0.02, 2,     3.08, 2,    0.038, 2,    0.017, 2,    0.007, 2, -999.000, 9,   -999.0, 9,   -999.0, 9, -999.0000,   -999.00,   -999.0, 9,   -999.0,  -999.00, 9,   -999.0,   2.1831, 27.5621,   2.2693, 2, 9, 0.47, 0.15, 0.01, 0.018,  -999.00, 9, -999.00, -999.00, 9, -999.00
49NZ20071008, P01, P01_47, 1, 20, X12026, 2, 20071017, 0009, 46.9868, 168.9917, 5214,   1531.4, 2,   2.0637, 2,  34.5530, 2,  34.5519, 2,     47.3, 2,     49.4, 2,   164.16, 2,    42.55, 2,     0.02, 2,     3.02, 2,    0.018, 2,    0.009, 2,    0.000, 2, -999.000, 9,   -999.0, 9,   -999.0, 9, -999.0000,   -999.00,   -999.0, 9,   -999.0,  -999.00, 9,   -999.0,   1.9643, 27.6163,   2.0639, 2, 9, 0.48, 0.15, 0.01, 0.018,  -999.00, 9, -999.00, -999.00, 9, -999.00
49NZ20071008, P01, P01_47, 1, 19, X12025, 2, 20071017, 0009, 46.9868, 168.9917, 5214,   1730.8, 2,   1.9394, 2,  34.5817, 2,  34.5813, 2,     61.1, 2,     63.3, 2,   164.56, 2,    41.69, 2,     0.02, 2,     2.96, 2,    0.010, 2,    0.003, 2,    0.007, 2, -999.000, 9,   -999.0, 9,   -999.0, 9, -999.0000,   -999.00,   -999.0, 9,   -999.0,  -999.00, 9,   -999.0,   1.8259, 27.6501,   1.9394, 2, 9, 0.48, 0.15, 0.01, 0.017,  -999.00, 1, -999.00, -999.00, 9, -999.00
49NZ20071008, P01, P01_47, 1, 18, X12024, 2, 20071017, 0009, 46.9868, 168.9917, 5214,   1931.3, 2,   1.8297, 2,  34.6032, 2,  34.6029, 2,     73.2, 2,     75.1, 2,   165.18, 2,    40.98, 2,     0.02, 2,     2.91, 2,    0.005, 2,    0.001, 2,    0.000, 4, -999.000, 9,   -999.0, 9,   -999.0, 9, -999.0000,   -999.00,   -999.0, 9,   -999.0,  -999.00, 9,   -999.0,   1.7016, 27.6768,   1.8296, 2, 9, 0.48, 0.15, 0.01, 0.017,  -999.00, 1, -999.00, -999.00, 9, -999.00
49NZ20071008, P01, P01_47, 1, 17, X12023, 2, 20071017, 0009, 46.9868, 168.9917, 5214,   2130.1, 2,   1.7162, 2,  34.6258, 2,  34.6258, 2,     87.7, 2,     91.5, 2,   162.61, 2,    39.97, 2,     0.02, 2,     2.83, 2,    0.006, 2,    0.003, 2,    0.000, 2, -999.000, 9,   -999.0, 9,   -999.0, 9, -999.0000,   -999.00,   -999.0, 9,   -999.0,  -999.00, 9,   -999.0,   1.5733, 27.7045,   1.7162, 2, 9, 0.48, 0.14, 0.01, 0.017,  -999.00, 1, -999.00, -999.00, 9, -999.00
49NZ20071008, P01, P01_47, 1, 16, X12022, 2, 20071017, 0009, 46.9868, 168.9917, 5214,   2330.3, 2,   1.6686, 2,  34.6357, 2,  34.6353, 6,     97.1, 2,     99.1, 2,   162.04, 2,    39.45, 2,     0.02, 2,     2.79, 2,    0.007, 2,    0.004, 2,    0.000, 2, -999.000, 9,   -999.0, 9,   -999.0, 9, -999.0000,   -999.00,   -999.0, 9,   -999.0,  -999.00, 9,   -999.0,   1.5095, 27.7171,   1.6685, 2, 9, 0.48, 0.14, 0.01, 0.017,  -999.00, 9, -999.00, -999.00, 9, -999.00
49NZ20071008, P01, P01_47, 1, 15, X12021, 2, 20071017, 0009, 46.9868, 168.9917, 5214,   2529.9, 2,   1.6090, 2,  34.6471, 2,  34.6468, 2,    107.7, 2,    109.1, 2,   160.30, 2,    38.90, 2,     0.02, 2,     2.74, 2,    0.001, 2,    0.002, 2,    0.000, 2, -999.000, 9,   -999.0, 9,   -999.0, 9, -999.0000,   -999.00,   -999.0, 9,   -999.0,  -999.00, 9,   -999.0,   1.4334, 27.7318,   1.6090, 2, 9, 0.47, 0.14, 0.01, 0.017,  -999.00, 9, -999.00, -999.00, 9, -999.00
49NZ20071008, P01, P01_47, 1, 14, X12020, 2, 20071017, 0009, 46.9868, 168.9917, 5214,   2729.8, 2,   1.5744, 2,  34.6547, 2,  34.6546, 2,    116.9, 2,    116.4, 2,   158.06, 2,    38.31, 2,     0.02, 2,     2.70, 2, -999.000, 9, -999.000, 9, -999.000, 9, -999.000, 9,   -999.0, 9,   -999.0, 9, -999.0000,   -999.00,   -999.0, 9,   -999.0,  -999.00, 9,   -999.0,   1.3814, 27.7416,   1.5744, 2, 9, 0.47, 0.14, 0.01, 0.017,  -999.00, 1, -999.00, -999.00, 9, -999.00
49NZ20071008, P01, P01_47, 1, 13, X12019, 2, 20071017, 0009, 46.9868, 168.9917, 5214,   2929.6, 2,   1.5369, 2,  34.6621, 2,  34.6620, 2,    124.7, 2,    124.1, 2,   156.40, 2,    37.91, 2,     0.02, 2,     2.67, 2, -999.000, 9, -999.000, 9, -999.000, 9, -999.000, 9,   -999.0, 9,   -999.0, 9, -999.0000,   -999.00,   -999.0, 9,   -999.0,  -999.00, 9,   -999.0,   1.3260, 27.7514,   1.5369, 2, 9, 0.46, 0.14, 0.01, 0.017,  -999.00, 1, -999.00, -999.00, 9, -999.00
49NZ20071008, P01, P01_47, 1, 12, X12040, 2, 20071017, 0009, 46.9868, 168.9917, 5214,   3169.3, 2,   1.4997, 2,  34.6693, 2,  34.6691, 2,    131.5, 2,    131.9, 2,   154.35, 2,    37.30, 2,     0.02, 2,     2.63, 2,    0.000, 2,    0.000, 2,    0.000, 2, -999.000, 9,   -999.0, 9,   -999.0, 9, -999.0000,   -999.00,   -999.0, 9,   -999.0,  -999.00, 9,   -999.0,   1.2666, 27.7614,   1.4997, 2, 9, 0.46, 0.14, 0.01, 0.017,  -999.00, 1, -999.00, -999.00, 9, -999.00
49NZ20071008, P01, P01_47, 1, 11, X12047, 2, 20071017, 0009, 46.9868, 168.9917, 5214,   3419.3, 2,   1.4876, 2,  34.6737, 2,  34.6737, 2,    137.6, 2,    137.0, 2,   152.79, 2,    37.00, 2,     0.02, 2,     2.61, 2, -999.000, 9, -999.000, 9, -999.000, 9, -999.000, 9,   -999.0, 9,   -999.0, 9, -999.0000,   -999.00,   -999.0, 9,   -999.0,  -999.00, 9,   -999.0,   1.2300, 27.7675,   1.4876, 2, 9, 0.46, 0.14, 0.01, 0.016,  -999.00, 9, -999.00, -999.00, 9, -999.00
49NZ20071008, P01, P01_47, 1, 10, X12010, 2, 20071017, 0009, 46.9868, 168.9917, 5214,   3668.8, 2,   1.4745, 2,  34.6781, 2,  34.6779, 6,    142.0, 2,    142.4, 2,   151.76, 2,    36.67, 2,     0.02, 2,     2.58, 2, -999.000, 9, -999.000, 9, -999.000, 9, -999.000, 9,   -999.0, 9,   -999.0, 9, -999.0000,   -999.00,   -999.0, 9,   -999.0,  -999.00, 9,   -999.0,   1.1916, 27.7737,   1.4745, 2, 9, 0.45, 0.14, 0.01, 0.016,  -999.00, 9, -999.00, -999.00, 9, -999.00
49NZ20071008, P01, P01_47, 1, 9, X12015, 2, 20071017, 0009, 46.9868, 168.9917, 5214,   3918.8, 2,   1.4734, 2,  34.6813, 2,  34.6812, 2,    146.3, 2,    146.3, 2,   150.58, 2,    36.52, 2,     0.02, 2,     2.56, 2,    0.003, 2,    0.002, 2,    0.001, 2, -999.000, 9,   -999.0, 9,   -999.0, 9, -999.0000,   -999.00,   -999.0, 9,   -999.0,  -999.00, 9,   -999.0,   1.1641, 27.7782,   1.4734, 2, 9, 0.45, 0.14, 0.01, 0.016,  -999.00, 1, -999.00, -999.00, 9, -999.00
49NZ20071008, P01, P01_47, 1, 8, X12046, 2, 20071017, 0009, 46.9868, 168.9917, 5214,   4167.8, 2,   1.4824, 2,  34.6832, 2,  34.6832, 2,    148.8, 2,    148.8, 2,   149.86, 2,    36.39, 2,     0.02, 2,     2.54, 2, -999.000, 9, -999.000, 9, -999.000, 9, -999.000, 9,   -999.0, 9,   -999.0, 9, -999.0000,   -999.00,   -999.0, 9,   -999.0,  -999.00, 9,   -999.0,   1.1456, 27.7810,   1.4823, 2, 9, 0.45, 0.13, 0.01, 0.016,  -999.00, 9, -999.00, -999.00, 9, -999.00
49NZ20071008, P01, P01_47, 1, 7, X12044, 2, 20071017, 0009, 46.9868, 168.9917, 5214,   4420.1, 2,   1.5002, 2,  34.6846, 2,  34.6844, 2,    150.3, 2,    150.3, 2,   149.47, 2,    36.07, 2,     0.02, 2,     2.54, 2, -999.000, 9, -999.000, 9, -999.000, 9, -999.000, 9,   -999.0, 9,   -999.0, 9, -999.0000,   -999.00,   -999.0, 9,   -999.0,  -999.00, 9,   -999.0,   1.1344, 27.7829,   1.5002, 2, 9, 0.45, 0.13, 0.01, 0.016,  -999.00, 9, -999.00, -999.00, 9, -999.00
49NZ20071008, P01, P01_47, 1, 6, X12048, 2, 20071017, 0009, 46.9868, 168.9917, 5214,   4669.4, 2,   1.5134, 2,  34.6865, 2,  34.6862, 2,    152.3, 2,    152.6, 2,   148.95, 2,    35.98, 2,     0.02, 2,     2.52, 2,    0.003, 2,    0.002, 2,    0.000, 2, -999.000, 9,   -999.0, 9,   -999.0, 9, -999.0000,   -999.00,   -999.0, 9,   -999.0,  -999.00, 9,   -999.0,   1.1183, 27.7855,   1.5136, 2, 9, 0.45, 0.13, 0.01, 0.016,  -999.00, 9, -999.00, -999.00, 9, -999.00
49NZ20071008, P01, P01_47, 1, 5, X12014, 2, 20071017, 0009, 46.9868, 168.9917, 5214,   4918.9, 2,   1.5364, 2,  34.6871, 2,  34.6873, 2,    153.5, 2,    154.0, 2,   148.72, 2,    35.95, 2,     0.02, 2,     2.51, 2,    0.002, 2,    0.000, 2,    0.000, 2, -999.000, 9,   -999.0, 9,   -999.0, 9, -999.0000,   -999.00,   -999.0, 9,   -999.0,  -999.00, 9,   -999.0,   1.1108, 27.7865,   1.5363, 2, 9, 0.45, 0.13, 0.01, 0.016,  -999.00, 9, -999.00, -999.00, 9, -999.00
49NZ20071008, P01, P01_47, 1, 4, X12006, 2, 20071017, 0009, 46.9868, 168.9917, 5214,   5169.4, 2,   1.5643, 2,  34.6875, 2,  34.6875, 2,    154.1, 2,    154.2, 2,   148.63, 2,    35.88, 2,     0.02, 2,     2.52, 2, -999.000, 9, -999.000, 9, -999.000, 9, -999.000, 9,   -999.0, 9,   -999.0, 9, -999.0000,   -999.00,   -999.0, 9,   -999.0,  -999.00, 9,   -999.0,   1.1071, 27.7870,   1.5641, 2, 9, 0.45, 0.13, 0.01, 0.016,  -999.00, 9, -999.00, -999.00, 9, -999.00
49NZ20071008, P01, P01_47, 1, 3, X12013, 2, 20071017, 0009, 46.9868, 168.9917, 5214,   3919.1, 2,   1.4730, 2,  34.6813, 2, -999.0000, 9,    146.3, 2,   -999.0, 9,  -999.00, 9,  -999.00, 9,  -999.00, 9,  -999.00, 9, -999.000, 9, -999.000, 9, -999.000, 9, -999.000, 9,   -999.0, 9,   -999.0, 9, -999.0000,   -999.00,   -999.0, 9,   -999.0,  -999.00, 9,   -999.0,   1.1636, 27.7782,   1.4730, 2, 9, -999.00, -999.00, -999.00, -999.000,  -999.00, 1, -999.00, -999.00, 9, -999.00
49NZ20071008, P01, P01_47, 1, 2, X12002, 2, 20071017, 0009, 46.9868, 168.9917, 5214,   5292.1, 2,   1.5772, 2,  34.6878, 2, -999.0000, 9,    154.5, 2,   -999.0, 9,  -999.00, 9,  -999.00, 9,  -999.00, 9,  -999.00, 9, -999.000, 9, -999.000, 9, -999.000, 9, -999.000, 9,   -999.0, 9,   -999.0, 9, -999.0000,   -999.00,   -999.0, 9,   -999.0,  -999.00, 9,   -999.0,   1.1042, 27.7875,   1.5771, 2, 9, -999.00, -999.00, -999.00, -999.000,  -999.00, 1, -999.00, -999.00, 9, -999.00
49NZ20071008, P01, P01_47, 1, 1, X12001, 2, 20071017, 0009, 46.9868, 168.9917, 5214,   5291.9, 2,   1.5772, 2,  34.6877, 2,  34.6877, 6,    154.5, 2,    154.5, 2,   148.71, 2,    35.81, 2,     0.02, 2,     2.52, 2,    0.000, 2,    0.000, 2,    0.000, 2, -999.000, 9,   -999.0, 9,   -999.0, 9, -999.0000,   -999.00,   -999.0, 9,   -999.0,  -999.00, 9,   -999.0,   1.1042, 27.7874,   1.5770, 2, 9, 0.45, 0.13, 0.01, 0.016,  -999.00, 1, -999.00, -999.00, 9, -999.00