BOTTLE,20221005CCHSIOAMB
EXPOCODE,SECT_ID,STNNBR,CASTNO,SAMPNO,BTLNBR,BTLNBR_FLAG_W,DATE,TIME,LATITUDE,LONGITUDE,DEPTH,CTDPRS,CTDPRS_FLAG_W,CTDTMP,CTDTMP_FLAG_W,CTDSAL,CTDSAL_FLAG_W,SALNTY,SALNTY_FLAG_W,CTDOXY,CTDOXY_FLAG_W,OXYGEN,OXYGEN_FLAG_W,SILCAT,SILCAT_FLAG_W,NITRAT,NITRAT_FLAG_W,NITRIT,NITRIT_FLAG_W,PHSPHT,PHSPHT_FLAG_W,CFC-11,CFC-11_FLAG_W,CFC-12,CFC-12_FLAG_W,CFC113,CFC113_FLAG_W,CCL4,CCL4_FLAG_W,TCARBN,TCARBN_FLAG_W,ALKALI,ALKALI_FLAG_W,PH_TOT,PH_TMP,DELC14,DELC14_FLAG_W,C14ERR,DELC13,DELC13_FLAG_W,C13ERR,THETA,SIG0,SBE35,SBE35_FLAG_W,PH_TOT_FLAG_W,SILUNC,NRAUNC,NRIUNC,PHPUNC,CS-137,CS-137_FLAG_W,CS137ER,PLUTO,PLUTO_FLAG_W,PLUTOER
,,,,,,,,,,,METERS,DBAR,,ITS-90,,PSS-78,,PSS-78,,UMOL/KG,,UMOL/KG,,UMOL/KG,,UMOL/KG,,UMOL/KG,,UMOL/KG,,PMOL/KG,,PMOL/KG,,PMOL/KG,,PMOL/KG,,UMOL/KG,,UMOL/KG,,,DEG C,/MILLE,,/MILLE,/MILLE,,/MILLE,DEG C,KG/M^3,ITS-90,,,UMOL/KG,UMOL/KG,UMOL/KG,UMOL/KG,DM/.1MG,,BQ/M^3,MBQ/M^3,,MBQ/M^3
49NZ20071008, P14N, 49, 1, 36, X12042, 2, 20071103, 1851, 37.9867, 178.9982, 5239,     10.2, 2,  18.7294, 2,  34.2161, 2,  34.2161, 2,    235.0, 2,    235.1, 2,     2.87, 2,     0.09, 2,     0.01, 2,     0.08, 2,    2.249, 2,    1.346, 2,    0.332, 4,    2.518, 4,   -999.0, 9,   -999.0, 9, -999.0000,   -999.00,   -999.0, 9,   -999.0,  -999.00, 9,   -999.0,  18.7276, 24.4909,  18.7300, 2, 9, 0.13, 0.03, 0.01, 0.025,  -999.00, 9, -999.00, -999.00, 9, -999.00
49NZ20071008, P14N, 49, 1, 35, X12041, 2, 20071103, 1851, 37.9867, 178.9982, 5239,     50.4, 2,  18.6691, 2,  34.2194, 2,  34.2287, 2,    235.3, 2,    235.7, 2,     2.94, 2,     0.13, 2,     0.02, 2,     0.09, 2,    2.267, 2,    1.348, 2,    0.330, 4,    2.357, 4,   -999.0, 9,   -999.0, 9, -999.0000,   -999.00,   -999.0, 9,   -999.0,  -999.00, 9,   -999.0,  18.6603, 24.5104,  18.6661, 2, 9, 0.13, 0.03, 0.01, 0.023,  -999.00, 9, -999.00, -999.00, 9, -999.00
49NZ20071008, P14N, 49, 1, 34, X12016, 2, 20071103, 1851, 37.9867, 178.9982, 5239,    100.7, 2,  14.1074, 2,  34.5108, 2,  34.5104, 2,    222.8, 2,    221.5, 2,     9.23, 2,     8.25, 2,     0.02, 2,     0.62, 2,    2.724, 2,    1.534, 2,    0.183, 2,    0.930, 4,   -999.0, 9,   -999.0, 9, -999.0000,   -999.00,   -999.0, 9,   -999.0,  -999.00, 9,   -999.0,  14.0929, 25.7895,  14.1082, 2, 9, 0.14, 0.06, 0.01, 0.013,  -999.00, 9, -999.00, -999.00, 9, -999.00
49NZ20071008, P14N, 49, 1, 33, X12033, 2, 20071103, 1851, 37.9867, 178.9982, 5239,    150.9, 2,  13.0040, 2,  34.4336, 2,  34.4336, 2,    220.8, 2,    220.0, 2,    12.41, 2,    10.25, 2,     0.02, 2,     0.76, 2,    2.812, 6,    1.570, 2,    0.172, 6,    1.103, 4,   -999.0, 9,   -999.0, 9, -999.0000,   -999.00,   -999.0, 9,   -999.0,  -999.00, 9,   -999.0,  12.9834, 25.9574,  13.0022, 2, 9, 0.15, 0.06, 0.01, 0.013,  -999.00, 9, -999.00, -999.00, 9, -999.00
49NZ20071008, P14N, 49, 1, 32, X12038, 2, 20071103, 1851, 37.9867, 178.9982, 5239,    202.1, 2,  11.8828, 2,  34.3570, 2,  34.3565, 2,    219.6, 2,    222.0, 2,    14.99, 2,    11.90, 2,     0.02, 2,     0.88, 2,    2.966, 2,    1.650, 2,    0.160, 2,    1.224, 4,   -999.0, 9,   -999.0, 9, -999.0000,   -999.00,   -999.0, 9,   -999.0,  -999.00, 9,   -999.0,  11.8568, 26.1167,  11.8844, 2, 9, 0.15, 0.07, 0.01, 0.013,  -999.00, 9, -999.00, -999.00, 9, -999.00
49NZ20071008, P14N, 49, 1, 31, X12003, 2, 20071103, 1851, 37.9867, 178.9982, 5239,    249.1, 2,  10.5657, 2,  34.2464, 2,  34.2356, 6,    218.3, 2,    220.0, 2,    20.13, 2,    14.64, 2,     0.01, 2,     1.08, 2,    3.085, 2,    1.696, 2,    0.200, 2,    1.436, 4,   -999.0, 9,   -999.0, 9, -999.0000,   -999.00,   -999.0, 9,   -999.0,  -999.00, 9,   -999.0,  10.5360, 26.2711,  10.5625, 2, 9, 0.16, 0.07, 0.01, 0.013,  -999.00, 9, -999.00, -999.00, 9, -999.00
49NZ20071008, P14N, 49, 1, 30, X12008, 2, 20071103, 1851, 37.9867, 178.9982, 5239,    301.2, 2,   9.6025, 2,  34.1724, 2,  34.1715, 2,    235.8, 2,    205.3, 2,    25.23, 2,    17.22, 2,     0.01, 2,     1.27, 2,    3.273, 4,    2.395, 4,    0.260, 4,    1.401, 4,   -999.0, 9,   -999.0, 9, -999.0000,   -999.00,   -999.0, 9,   -999.0,  -999.00, 9,   -999.0,   9.5686, 26.3778,   9.6056, 2, 9, 0.17, 0.08, 0.01, 0.014,  -999.00, 9, -999.00, -999.00, 9, -999.00
49NZ20071008, P14N, 49, 1, 29, X12035, 2, 20071103, 1851, 37.9867, 178.9982, 5239,    399.7, 2,   7.3624, 2,  33.9916, 2,  33.9880, 2,    204.6, 2,    191.8, 2,    38.01, 2,    22.90, 2,     0.01, 2,     1.69, 2,    3.121, 2,    1.644, 2,    0.184, 2,    1.905, 4,   -999.0, 9,   -999.0, 9, -999.0000,   -999.00,   -999.0, 9,   -999.0,  -999.00, 9,   -999.0,   7.3239, 26.5794,   7.3632, 2, 9, 0.20, 0.10, 0.01, 0.014,  -999.00, 9, -999.00, -999.00, 9, -999.00
49NZ20071008, P14N, 49, 1, 28, X12034, 2, 20071103, 1851, 37.9867, 178.9982, 5239,    499.2, 2,   6.0595, 2,  33.9544, 2,  33.9566, 6,    162.1, 2,    156.5, 2,    53.27, 2,    28.35, 2,     0.01, 2,     2.09, 2,    2.715, 2,    1.392, 2,    0.169, 2,    1.773, 4,   -999.0, 9,   -999.0, 9, -999.0000,   -999.00,   -999.0, 9,   -999.0,  -999.00, 9,   -999.0,   6.0161, 26.7244,   6.0627, 2, 9, 0.24, 0.11, 0.01, 0.015,  -999.00, 9, -999.00, -999.00, 9, -999.00
49NZ20071008, P14N, 49, 1, 27, X12049, 2, 20071103, 1851, 37.9867, 178.9982, 5239,    598.6, 2,   5.1458, 2,  34.0062, 2,  34.0094, 2,    114.0, 2,    110.9, 2,    72.36, 2,    33.88, 2,     0.01, 2,     2.48, 2,    1.980, 2,    0.991, 2,    0.102, 2,    1.241, 4,   -999.0, 9,   -999.0, 9, -999.0000,   -999.00,   -999.0, 9,   -999.0,  -999.00, 9,   -999.0,   5.0975, 26.8762,   5.1462, 2, 9, 0.28, 0.13, 0.01, 0.016,  -999.00, 9, -999.00, -999.00, 9, -999.00
49NZ20071008, P14N, 49, 1, 26, X12032, 2, 20071103, 1851, 37.9867, 178.9982, 5239,    699.8, 2,   4.4453, 2,  34.1101, 2,  34.1096, 2,     72.9, 2,     69.5, 2,    92.12, 2,    38.63, 2,     0.01, 2,     2.79, 2,    1.221, 6,    0.597, 6,    0.067, 6,    0.746, 4,   -999.0, 9,   -999.0, 9, -999.0000,   -999.00,   -999.0, 9,   -999.0,  -999.00, 9,   -999.0,   4.3920, 27.0371,   4.4455, 2, 9, 0.32, 0.14, 0.01, 0.017,  -999.00, 9, -999.00, -999.00, 9, -999.00
49NZ20071008, P14N, 49, 1, 25, X12043, 2, 20071103, 1851, 37.9867, 178.9982, 5239,    800.1, 2,   4.0531, 2,  34.2018, 2,  34.2024, 2,     51.8, 2,     50.2, 2,   105.88, 2,    40.71, 2,     0.01, 2,     2.93, 2,    0.661, 2,    0.321, 2,    0.035, 2,    0.436, 4,   -999.0, 9,   -999.0, 9, -999.0000,   -999.00,   -999.0, 9,   -999.0,  -999.00, 9,   -999.0,   3.9938, 27.1518,   4.0530, 2, 9, 0.35, 0.15, 0.01, 0.017,  -999.00, 9, -999.00, -999.00, 9, -999.00
49NZ20071008, P14N, 49, 1, 24, X12030, 2, 20071103, 1851, 37.9867, 178.9982, 5239,    899.6, 2,   3.6933, 2,  34.2670, 2,  34.2699, 2,     40.5, 2,     40.2, 2,   117.18, 2,    41.78, 2,     0.01, 2,     3.00, 2,    0.416, 2,    0.201, 2,    0.027, 2,    0.300, 4,   -999.0, 9,   -999.0, 9, -999.0000,   -999.00,   -999.0, 9,   -999.0,  -999.00, 9,   -999.0,   3.6284, 27.2405,   3.6917, 2, 9, 0.38, 0.15, 0.01, 0.017,  -999.00, 9, -999.00, -999.00, 9, -999.00
49NZ20071008, P14N, 49, 1, 23, X12027, 2, 20071103, 1851, 37.9867, 178.9982, 5239,    999.9, 2,   3.3990, 2,  34.3197, 2,  34.3213, 6,     34.6, 2,     33.2, 2,   126.12, 2,    42.73, 2,     0.01, 2,     3.06, 2,    0.232, 2,    0.110, 2,    0.018, 2,    0.186, 4,   -999.0, 9,   -999.0, 9, -999.0000,   -999.00,   -999.0, 9,   -999.0,  -999.00, 9,   -999.0,   3.3283, 27.3115,   3.3994, 2, 9, 0.40, 0.15, 0.01, 0.018,  -999.00, 9, -999.00, -999.00, 9, -999.00
49NZ20071008, P14N, 49, 1, 22, X12028, 2, 20071103, 1851, 37.9867, 178.9982, 5239,   1199.2, 2,   2.9350, 2,  34.4030, 2,  34.4033, 2,     28.6, 2,     29.6, 2,   140.15, 2,    43.45, 2,     0.01, 2,     3.10, 2,    0.088, 2,    0.045, 2,    0.000, 2,    0.123, 4,   -999.0, 9,   -999.0, 9, -999.0000,   -999.00,   -999.0, 9,   -999.0,  -999.00, 9,   -999.0,   2.8525, 27.4218,   2.9354, 2, 9, 0.43, 0.15, 0.01, 0.018,  -999.00, 9, -999.00, -999.00, 9, -999.00
49NZ20071008, P14N, 49, 1, 21, X12009, 2, 20071103, 1851, 37.9867, 178.9982, 5239,   1401.3, 2,   2.5824, 2,  34.4650, 2,  34.4650, 2,     32.3, 2,     32.4, 2,   150.45, 2,    43.56, 2,     0.01, 2,     3.10, 2,    0.041, 2,    0.017, 2,    0.000, 2,    0.085, 4,   -999.0, 9,   -999.0, 9, -999.0000,   -999.00,   -999.0, 9,   -999.0,  -999.00, 9,   -999.0,   2.4875, 27.5031,   2.5823, 2, 9, 0.45, 0.15, 0.01, 0.018,  -999.00, 9, -999.00, -999.00, 9, -999.00
49NZ20071008, P14N, 49, 1, 20, X12026, 2, 20071103, 1851, 37.9867, 178.9982, 5239,   1601.0, 2,   2.3316, 2,  34.5132, 2,  34.5125, 2,     36.1, 2,     35.7, 2,   158.22, 2,    43.59, 2,     0.01, 2,     3.09, 2,    0.011, 2,    0.004, 2,    0.000, 2,    0.058, 4,   -999.0, 9,   -999.0, 9, -999.0000,   -999.00,   -999.0, 9,   -999.0,  -999.00, 9,   -999.0,   2.2236, 27.5637,   2.3318, 2, 9, 0.47, 0.15, 0.01, 0.018,  -999.00, 9, -999.00, -999.00, 9, -999.00
49NZ20071008, P14N, 49, 1, 19, X12025, 2, 20071103, 1851, 37.9867, 178.9982, 5239,   1801.1, 2,   2.1423, 2,  34.5510, 2,  34.5510, 2,     43.0, 2,     43.6, 2,   163.25, 2,    43.23, 2,     0.01, 2,     3.05, 2,    0.002, 2,    0.000, 2,    0.000, 2,    0.029, 4,   -999.0, 9,   -999.0, 9, -999.0000,   -999.00,   -999.0, 9,   -999.0,  -999.00, 9,   -999.0,   2.0205, 27.6103,   2.1423, 2, 9, 0.48, 0.15, 0.01, 0.018,  -999.00, 9, -999.00, -999.00, 9, -999.00
49NZ20071008, P14N, 49, 1, 18, X12024, 2, 20071103, 1851, 37.9867, 178.9982, 5239,   2000.1, 2,   1.9968, 2,  34.5810, 2,  34.5808, 2,     55.1, 2,     55.7, 2,   165.42, 2,    42.51, 2,     0.01, 2,     3.00, 2,    0.000, 2,    0.000, 2,    0.000, 2,    0.015, 4,   -999.0, 9,   -999.0, 9, -999.0000,   -999.00,   -999.0, 9,   -999.0,  -999.00, 9,   -999.0,   1.8606, 27.6469,   1.9970, 2, 9, 0.48, 0.15, 0.01, 0.017,  -999.00, 9, -999.00, -999.00, 9, -999.00
49NZ20071008, P14N, 49, 1, 17, X12023, 2, 20071103, 1851, 37.9867, 178.9982, 5239,   2202.6, 2,   1.8714, 2,  34.6049, 2,  34.6048, 2,     69.8, 2,     66.9, 2,   167.31, 2,    41.91, 2,     0.01, 2,     2.95, 2,    0.000, 2,    0.000, 2,    0.000, 2,    0.037, 4,   -999.0, 9,   -999.0, 9, -999.0000,   -999.00,   -999.0, 9,   -999.0,  -999.00, 9,   -999.0,   1.7199, 27.6768,   1.8715, 2, 9, 0.49, 0.15, 0.01, 0.017,  -999.00, 9, -999.00, -999.00, 9, -999.00
49NZ20071008, P14N, 49, 1, 16, X12022, 2, 20071103, 1851, 37.9867, 178.9982, 5239,   2401.8, 2,   1.7661, 2,  34.6240, 2,  34.6237, 6,     82.8, 2,     80.5, 2,   167.14, 2,    41.00, 2,     0.01, 2,     2.89, 2,    0.000, 2,    0.000, 2,    0.000, 2,    0.047, 4,   -999.0, 9,   -999.0, 9, -999.0000,   -999.00,   -999.0, 9,   -999.0,  -999.00, 9,   -999.0,   1.5990, 27.7012,   1.7662, 2, 9, 0.49, 0.15, 0.01, 0.017,  -999.00, 9, -999.00, -999.00, 9, -999.00
49NZ20071008, P14N, 49, 1, 15, X12021, 2, 20071103, 1851, 37.9867, 178.9982, 5239,   2601.9, 2,   1.6752, 2,  34.6389, 2,  34.6388, 2,    100.3, 2,     97.1, 2,   163.84, 2,    39.85, 2,     0.01, 2,     2.81, 2,    0.000, 2,    0.000, 2,    0.000, 2,    0.025, 4,   -999.0, 9,   -999.0, 9, -999.0000,   -999.00,   -999.0, 9,   -999.0,  -999.00, 9,   -999.0,   1.4919, 27.7209,   1.6752, 2, 9, 0.48, 0.14, 0.01, 0.017,  -999.00, 9, -999.00, -999.00, 9, -999.00
49NZ20071008, P14N, 49, 1, 14, X12020, 2, 20071103, 1851, 37.9867, 178.9982, 5239,   2799.9, 2,   1.6093, 2,  34.6501, 2,  34.6500, 2,    111.1, 2,    109.6, 2,   161.50, 2,    39.04, 2,     0.01, 2,     2.75, 2,    0.000, 2,    0.000, 2,    0.000, 2,    0.024, 4,   -999.0, 9,   -999.0, 9, -999.0000,   -999.00,   -999.0, 9,   -999.0,  -999.00, 9,   -999.0,   1.4091, 27.7359,   1.6093, 2, 9, 0.47, 0.14, 0.01, 0.017,  -999.00, 9, -999.00, -999.00, 9, -999.00
49NZ20071008, P14N, 49, 1, 13, X12019, 2, 20071103, 1851, 37.9867, 178.9982, 5239,   3002.1, 2,   1.5507, 2,  34.6604, 2,  34.6604, 2,    121.5, 2,    120.5, 2,   158.87, 2,    38.24, 2,     0.01, 2,     2.69, 2,    0.000, 2,    0.000, 2,    0.000, 2,    0.045, 4,   -999.0, 9,   -999.0, 9, -999.0000,   -999.00,   -999.0, 9,   -999.0,  -999.00, 9,   -999.0,   1.3327, 27.7496,   1.5506, 2, 9, 0.47, 0.14, 0.01, 0.017,  -999.00, 9, -999.00, -999.00, 9, -999.00
49NZ20071008, P14N, 49, 1, 12, X12040, 2, 20071103, 1851, 37.9867, 178.9982, 5239,   3251.1, 2,   1.4987, 2,  34.6697, 2,  34.6699, 2,    131.9, 2,    131.4, 2,   155.65, 2,    37.51, 2,     0.01, 2,     2.63, 2, -999.000, 9, -999.000, 9, -999.000, 9,    0.003, 4,   -999.0, 9,   -999.0, 9, -999.0000,   -999.00,   -999.0, 9,   -999.0,  -999.00, 9,   -999.0,   1.2576, 27.7624,   1.4987, 2, 9, 0.46, 0.14, 0.01, 0.017,  -999.00, 9, -999.00, -999.00, 9, -999.00
49NZ20071008, P14N, 49, 1, 11, X12047, 2, 20071103, 1851, 37.9867, 178.9982, 5239,   3500.8, 2,   1.4678, 2,  34.6764, 2,  34.6762, 2,    139.6, 2,    139.9, 2,   153.38, 2,    36.99, 2,     0.01, 2,     2.59, 2, -999.000, 9, -999.000, 9, -999.000, 9,    0.030, 4,   -999.0, 9,   -999.0, 9, -999.0000,   -999.00,   -999.0, 9,   -999.0,  -999.00, 9,   -999.0,   1.2024, 27.7716,   1.4678, 2, 9, 0.46, 0.14, 0.01, 0.016,  -999.00, 9, -999.00, -999.00, 9, -999.00
49NZ20071008, P14N, 49, 1, 10, X12017, 2, 20071103, 1851, 37.9867, 178.9982, 5239,   3750.9, 2,   1.4520, 2,  34.6813, 2,  34.6809, 2,    145.4, 2,    145.6, 2,   155.38, 2,    37.44, 2,     0.01, 2,     2.62, 2,    0.000, 2,    0.000, 2,    0.000, 2,    0.000, 4,   -999.0, 9,   -999.0, 9, -999.0000,   -999.00,   -999.0, 9,   -999.0,  -999.00, 9,   -999.0,   1.1611, 27.7784,   1.4519, 2, 9, 0.46, 0.14, 0.01, 0.017,  -999.00, 9, -999.00, -999.00, 9, -999.00
49NZ20071008, P14N, 49, 1, 9, X12015, 2, 20071103, 1851, 37.9867, 178.9982, 5239,   4000.7, 2,   1.4497, 2,  34.6844, 2,  34.6843, 6,    150.0, 2,    149.7, 2,   150.94, 2,    36.26, 2,     0.01, 2,     2.54, 2, -999.000, 9, -999.000, 9, -999.000, 9,    0.022, 4,   -999.0, 9,   -999.0, 9, -999.0000,   -999.00,   -999.0, 9,   -999.0,  -999.00, 9,   -999.0,   1.1321, 27.7828,   1.4496, 2, 9, 0.45, 0.13, 0.01, 0.016,  -999.00, 9, -999.00, -999.00, 9, -999.00
49NZ20071008, P14N, 49, 1, 8, X12046, 2, 20071103, 1851, 37.9867, 178.9982, 5239,   4250.8, 2,   1.4577, 2,  34.6866, 2,  34.6866, 2,    152.3, 2,    152.4, 2,   150.85, 2,    36.14, 2,     0.01, 2,     2.52, 2, -999.000, 9, -999.000, 9, -999.000, 9,    0.000, 4,   -999.0, 9,   -999.0, 9, -999.0000,   -999.00,   -999.0, 9,   -999.0,  -999.00, 9,   -999.0,   1.1123, 27.7859,   1.4576, 2, 9, 0.45, 0.13, 0.01, 0.016,  -999.00, 9, -999.00, -999.00, 9, -999.00
49NZ20071008, P14N, 49, 1, 7, X12044, 2, 20071103, 1851, 37.9867, 178.9982, 5239,   4500.7, 2,   1.4760, 2,  34.6882, 2,  34.6879, 2,    153.2, 2,    153.3, 2,   152.56, 2,    36.18, 2,     0.01, 2,     2.52, 2,    0.000, 2,    0.000, 2,    0.000, 2,    0.000, 4,   -999.0, 9,   -999.0, 9, -999.0000,   -999.00,   -999.0, 9,   -999.0,  -999.00, 9,   -999.0,   1.1017, 27.7880,   1.4760, 2, 9, 0.45, 0.13, 0.01, 0.016,  -999.00, 9, -999.00, -999.00, 9, -999.00
49NZ20071008, P14N, 49, 1, 6, X12048, 2, 20071103, 1851, 37.9867, 178.9982, 5239,   4751.2, 2,   1.5020, 2,  34.6886, 2,  34.6886, 2,    153.8, 2,    153.9, 2,   153.13, 2,    36.13, 2,     0.01, 2,     2.51, 2, -999.000, 9, -999.000, 9, -999.000, 9,    0.007, 4,   -999.0, 9,   -999.0, 9, -999.0000,   -999.00,   -999.0, 9,   -999.0,  -999.00, 9,   -999.0,   1.0976, 27.7886,   1.5019, 2, 9, 0.46, 0.13, 0.01, 0.016,  -999.00, 9, -999.00, -999.00, 9, -999.00
49NZ20071008, P14N, 49, 1, 5, X12014, 2, 20071103, 1851, 37.9867, 178.9982, 5239,   5000.0, 2,   1.5305, 2,  34.6890, 2,  34.6888, 2,    154.3, 2,    154.3, 2,   152.46, 2,    35.96, 2,     0.01, 2,     2.51, 2, -999.000, 9, -999.000, 9, -999.000, 9,    0.000, 4,   -999.0, 9,   -999.0, 9, -999.0000,   -999.00,   -999.0, 9,   -999.0,  -999.00, 9,   -999.0,   1.0952, 27.7890,   1.5305, 2, 9, 0.45, 0.13, 0.01, 0.016,  -999.00, 9, -999.00, -999.00, 9, -999.00
49NZ20071008, P14N, 49, 1, 4, X12006, 2, 20071103, 1851, 37.9867, 178.9982, 5239,   5249.5, 2,   1.5625, 2,  34.6889, 2,  34.6890, 2,    154.4, 2,    154.4, 2,   152.92, 2,    36.03, 2,     0.01, 2,     2.51, 2,    0.000, 2,    0.000, 2,    0.000, 2,    0.000, 4,   -999.0, 9,   -999.0, 9, -999.0000,   -999.00,   -999.0, 9,   -999.0,  -999.00, 9,   -999.0,   1.0953, 27.7890,   1.5625, 2, 9, 0.46, 0.13, 0.01, 0.016,  -999.00, 9, -999.00, -999.00, 9, -999.00
49NZ20071008, P14N, 49, 1, 3, X12013, 9, 20071103, 1851, 37.9867, 178.9982, 5239,     10.3, 2,  18.7298, 2,  34.2158, 2, -999.0000, 9,    235.0, 2,   -999.0, 9,  -999.00, 9,  -999.00, 9,  -999.00, 9,  -999.00, 9, -999.000, 9, -999.000, 9, -999.000, 9, -999.000, 9,   -999.0, 9,   -999.0, 9, -999.0000,   -999.00,   -999.0, 9,   -999.0,  -999.00, 9,   -999.0,  18.7280, 24.4906,  18.7305, 2, 9, -999.00, -999.00, -999.00, -999.000,  -999.00, 9, -999.00, -999.00, 9, -999.00
49NZ20071008, P14N, 49, 1, 2, X12002, 9, 20071103, 1851, 37.9867, 178.9982, 5239,    202.0, 2,  11.8808, 2,  34.3571, 2, -999.0000, 9,    219.6, 2,   -999.0, 9,  -999.00, 9,  -999.00, 9,  -999.00, 9,  -999.00, 9, -999.000, 9, -999.000, 9, -999.000, 9, -999.000, 9,   -999.0, 9,   -999.0, 9, -999.0000,   -999.00,   -999.0, 9,   -999.0,  -999.00, 9,   -999.0,  11.8548, 26.1172,  11.8838, 2, 9, -999.00, -999.00, -999.00, -999.000,  -999.00, 9, -999.00, -999.00, 9, -999.00
49NZ20071008, P14N, 49, 1, 1, X12001, 2, 20071103, 1851, 37.9867, 178.9982, 5239,   5401.4, 2,   1.5823, 2,  34.6890, 2,  34.6889, 6,    154.2, 2,    154.3, 2,   153.04, 2,    36.11, 2,     0.01, 2,     2.52, 2,    0.000, 2,    0.002, 2,    0.004, 2,    0.002, 4,   -999.0, 9,   -999.0, 9, -999.0000,   -999.00,   -999.0, 9,   -999.0,  -999.00, 9,   -999.0,   1.0953, 27.7891,   1.5823, 2, 9, 0.46, 0.13, 0.01, 0.016,  -999.00, 9, -999.00, -999.00, 9, -999.00