BOTTLE,20221005CCHSIOAMB
EXPOCODE,SECT_ID,STNNBR,CASTNO,SAMPNO,BTLNBR,BTLNBR_FLAG_W,DATE,TIME,LATITUDE,LONGITUDE,DEPTH,CTDPRS,CTDPRS_FLAG_W,CTDTMP,CTDTMP_FLAG_W,CTDSAL,CTDSAL_FLAG_W,SALNTY,SALNTY_FLAG_W,CTDOXY,CTDOXY_FLAG_W,OXYGEN,OXYGEN_FLAG_W,SILCAT,SILCAT_FLAG_W,NITRAT,NITRAT_FLAG_W,NITRIT,NITRIT_FLAG_W,PHSPHT,PHSPHT_FLAG_W,CFC-11,CFC-11_FLAG_W,CFC-12,CFC-12_FLAG_W,CFC113,CFC113_FLAG_W,CCL4,CCL4_FLAG_W,TCARBN,TCARBN_FLAG_W,ALKALI,ALKALI_FLAG_W,PH_TOT,PH_TMP,DELC14,DELC14_FLAG_W,C14ERR,DELC13,DELC13_FLAG_W,C13ERR,THETA,SIG0,SBE35,SBE35_FLAG_W,PH_TOT_FLAG_W,SILUNC,NRAUNC,NRIUNC,PHPUNC,CS-137,CS-137_FLAG_W,CS137ER,PLUTO,PLUTO_FLAG_W,PLUTOER
,,,,,,,,,,,METERS,DBAR,,ITS-90,,PSS-78,,PSS-78,,UMOL/KG,,UMOL/KG,,UMOL/KG,,UMOL/KG,,UMOL/KG,,UMOL/KG,,PMOL/KG,,PMOL/KG,,PMOL/KG,,PMOL/KG,,UMOL/KG,,UMOL/KG,,,DEG C,/MILLE,,/MILLE,/MILLE,,/MILLE,DEG C,KG/M^3,ITS-90,,,UMOL/KG,UMOL/KG,UMOL/KG,UMOL/KG,DM/.1MG,,BQ/M^3,MBQ/M^3,,MBQ/M^3
49NZ20071008, P14N, 88, 1, 36, X12042, 2, 20071114, 0316, 18.5142, 179.0062, 4569,     10.2, 2,  27.6821, 2,  34.9593, 2,  34.9591, 2,    200.5, 2,    200.4, 2,     0.98, 2,     0.05, 2,     0.01, 2,     0.06, 2,    1.564, 2,    0.943, 2,    0.313, 4, -999.000, 9,   -999.0, 9,   -999.0, 9, -999.0000,   -999.00,   -999.0, 9,   -999.0,  -999.00, 9,   -999.0,  27.6797, 22.4683,  27.6808, 2, 9, 0.12, 0.03, 0.01, 0.029,  -999.00, 9, -999.00, -999.00, 9, -999.00
49NZ20071008, P14N, 88, 1, 35, X12041, 2, 20071114, 0316, 18.5142, 179.0062, 4569,     50.7, 2,  27.6043, 2,  34.9408, 2,  34.9417, 2,    200.4, 2,    200.7, 2,     0.94, 2,     0.04, 2,     0.00, 2,     0.06, 2,    1.568, 2,    0.947, 2,    0.332, 4, -999.000, 9,   -999.0, 9,   -999.0, 9, -999.0000,   -999.00,   -999.0, 9,   -999.0,  -999.00, 9,   -999.0,  27.5925, 22.4827,  27.6024, 2, 9, 0.12, 0.03, 0.01, 0.029,  -999.00, 9, -999.00, -999.00, 9, -999.00
49NZ20071008, P14N, 88, 1, 34, X12016, 2, 20071114, 0316, 18.5142, 179.0062, 4569,    100.7, 2,  25.0637, 2,  35.2334, 2,  35.2336, 2,    203.9, 2,    209.5, 2,     1.06, 2,     0.03, 2,     0.01, 2,     0.06, 2,    1.822, 2,    1.096, 2,    0.671, 4, -999.000, 9,   -999.0, 9,   -999.0, 9, -999.0000,   -999.00,   -999.0, 9,   -999.0,  -999.00, 9,   -999.0,  25.0418, 23.5049,  25.0652, 2, 9, 0.12, 0.03, 0.01, 0.029,  -999.00, 9, -999.00, -999.00, 9, -999.00
49NZ20071008, P14N, 88, 1, 33, X12033, 2, 20071114, 0316, 18.5142, 179.0062, 4569,    150.5, 2,  21.4876, 2,  35.0744, 2,  35.0716, 2,    191.3, 2,    193.7, 2,     1.86, 2,     0.89, 2,     0.06, 2,     0.16, 2,    2.122, 6,    1.246, 6,    0.269, 4, -999.000, 9,   -999.0, 9,   -999.0, 9, -999.0000,   -999.00,   -999.0, 9,   -999.0,  -999.00, 9,   -999.0,  21.4583, 24.4250,  21.4883, 2, 9, 0.12, 0.04, 0.01, 0.017,  -999.00, 9, -999.00, -999.00, 9, -999.00
49NZ20071008, P14N, 88, 1, 32, X12038, 2, 20071114, 0316, 18.5142, 179.0062, 4569,    200.3, 2,  18.5792, 2,  34.8591, 2,  34.8545, 2,    192.6, 2,    191.2, 2,     3.26, 2,     3.64, 2,     0.02, 2,     0.34, 2,    2.387, 2,    1.377, 2,    0.099, 4, -999.000, 9,   -999.0, 9,   -999.0, 9, -999.0000,   -999.00,   -999.0, 9,   -999.0,  -999.00, 9,   -999.0,  18.5441, 25.0288,  18.5797, 2, 9, 0.13, 0.04, 0.01, 0.014,  -999.00, 9, -999.00, -999.00, 9, -999.00
49NZ20071008, P14N, 88, 1, 31, X12003, 2, 20071114, 0316, 18.5142, 179.0062, 4569,    249.8, 2,  16.0346, 2,  34.6231, 2,  34.6125, 6,    187.9, 2,    189.5, 2,     6.09, 2,     7.18, 2,     0.01, 2,     0.59, 2,    2.624, 2,    1.485, 2,    0.037, 2, -999.000, 9,   -999.0, 9,   -999.0, 9, -999.0000,   -999.00,   -999.0, 9,   -999.0,  -999.00, 9,   -999.0,  15.9951, 25.4588,  16.0376, 2, 9, 0.13, 0.05, 0.01, 0.013,  -999.00, 9, -999.00, -999.00, 9, -999.00
49NZ20071008, P14N, 88, 1, 30, X12008, 2, 20071114, 0316, 18.5142, 179.0062, 4569,    300.8, 2,  13.5278, 2,  34.3943, 2,  34.3881, 2,    184.8, 2,    181.6, 2,    10.79, 2,    11.57, 2,     0.01, 2,     0.92, 2,    2.747, 2,    1.515, 2,    0.044, 2, -999.000, 9,   -999.0, 9,   -999.0, 9, -999.0000,   -999.00,   -999.0, 9,   -999.0,  -999.00, 9,   -999.0,  13.4854, 25.8255,  13.5197, 2, 9, 0.14, 0.07, 0.01, 0.013,  -999.00, 9, -999.00, -999.00, 9, -999.00
49NZ20071008, P14N, 88, 1, 29, X12035, 2, 20071114, 0316, 18.5142, 179.0062, 4569,    400.9, 2,   9.4369, 2,  34.1927, 2,  34.1909, 2,    141.8, 2,    135.0, 2,    29.58, 2,    23.40, 2,     0.01, 2,     1.77, 2,    2.301, 2,    1.151, 2,    0.049, 2, -999.000, 9,   -999.0, 9,   -999.0, 9, -999.0000,   -999.00,   -999.0, 9,   -999.0,  -999.00, 9,   -999.0,   9.3920, 26.4227,   9.4385, 2, 9, 0.18, 0.10, 0.01, 0.015,  -999.00, 9, -999.00, -999.00, 9, -999.00
49NZ20071008, P14N, 88, 1, 28, X12034, 2, 20071114, 0316, 18.5142, 179.0062, 4569,    499.0, 2,   7.3780, 2,  34.1699, 2,  34.1700, 6,     86.4, 2,     90.1, 2,    50.19, 2,    31.64, 2,     0.01, 2,     2.35, 2,    1.287, 2,    0.613, 2,    0.029, 2, -999.000, 9,   -999.0, 9,   -999.0, 9, -999.0000,   -999.00,   -999.0, 9,   -999.0,  -999.00, 9,   -999.0,   7.3295, 26.7190,   7.3797, 2, 9, 0.23, 0.12, 0.01, 0.016,  -999.00, 9, -999.00, -999.00, 9, -999.00
49NZ20071008, P14N, 88, 1, 27, X12049, 2, 20071114, 0316, 18.5142, 179.0062, 4569,    599.2, 2,   6.0170, 2,  34.2423, 2,  34.2427, 2,     55.3, 2,     57.3, 2,    70.00, 2,    37.25, 2,     0.01, 2,     2.74, 2,    0.472, 2,    0.230, 2,    0.011, 2, -999.000, 9,   -999.0, 9,   -999.0, 9, -999.0000,   -999.00,   -999.0, 9,   -999.0,  -999.00, 9,   -999.0,   5.9644, 26.9584,   6.0173, 2, 9, 0.27, 0.14, 0.01, 0.017,  -999.00, 9, -999.00, -999.00, 9, -999.00
49NZ20071008, P14N, 88, 1, 26, X12032, 2, 20071114, 0316, 18.5142, 179.0062, 4569,    701.6, 2,   5.3675, 2,  34.3495, 2,  34.3482, 2,     50.1, 2,     50.4, 2,    81.09, 2,    39.17, 2,     0.01, 2,     2.87, 2,    0.165, 6,    0.082, 6,    0.000, 6, -999.000, 9,   -999.0, 9,   -999.0, 9, -999.0000,   -999.00,   -999.0, 9,   -999.0,  -999.00, 9,   -999.0,   5.3088, 27.1234,   5.3681, 2, 9, 0.30, 0.14, 0.01, 0.017,  -999.00, 9, -999.00, -999.00, 9, -999.00
49NZ20071008, P14N, 88, 1, 25, X12043, 2, 20071114, 0316, 18.5142, 179.0062, 4569,    802.6, 2,   4.8473, 2,  34.4314, 2,  34.4311, 2,     56.1, 2,     55.2, 2,    90.60, 2,    39.93, 2,     0.01, 2,     2.91, 2,    0.053, 2,    0.025, 2,    0.000, 2, -999.000, 9,   -999.0, 9,   -999.0, 9, -999.0000,   -999.00,   -999.0, 9,   -999.0,  -999.00, 9,   -999.0,   4.7826, 27.2492,   4.8473, 2, 9, 0.32, 0.14, 0.01, 0.017,  -999.00, 9, -999.00, -999.00, 9, -999.00
49NZ20071008, P14N, 88, 1, 24, X12030, 2, 20071114, 0316, 18.5142, 179.0062, 4569,    902.8, 2,   4.3760, 2,  34.4881, 2,  34.4871, 2,     62.1, 2,     62.0, 2,    98.67, 2,    40.12, 2,     0.01, 2,     2.90, 2,    0.026, 2,    0.014, 2,    0.010, 2, -999.000, 9,   -999.0, 9,   -999.0, 9, -999.0000,   -999.00,   -999.0, 9,   -999.0,  -999.00, 9,   -999.0,   4.3058, 27.3467,   4.3752, 2, 9, 0.34, 0.15, 0.01, 0.017,  -999.00, 9, -999.00, -999.00, 9, -999.00
49NZ20071008, P14N, 88, 1, 23, X12027, 2, 20071114, 0316, 18.5142, 179.0062, 4569,    999.6, 2,   3.9916, 2,  34.5189, 2,  34.5189, 6,     67.6, 2,     67.5, 2,   106.19, 2,    40.20, 2,     0.01, 2,     2.91, 2,    0.013, 2,    0.007, 2,    0.000, 2, -999.000, 9,   -999.0, 9,   -999.0, 9, -999.0000,   -999.00,   -999.0, 9,   -999.0,  -999.00, 9,   -999.0,   3.9160, 27.4121,   3.9919, 2, 9, 0.35, 0.15, 0.01, 0.017,  -999.00, 9, -999.00, -999.00, 9, -999.00
49NZ20071008, P14N, 88, 1, 22, X12028, 2, 20071114, 0316, 18.5142, 179.0062, 4569,   1201.7, 2,   3.4189, 2,  34.5505, 2,  34.5507, 2,     73.3, 2,     73.6, 2,   117.58, 2,    40.40, 2,     0.01, 2,     2.91, 2,    0.007, 2,    0.005, 2,    0.000, 2, -999.000, 9,   -999.0, 9,   -999.0, 9, -999.0000,   -999.00,   -999.0, 9,   -999.0,  -999.00, 9,   -999.0,   3.3314, 27.4952,   3.4189, 2, 9, 0.38, 0.15, 0.01, 0.017,  -999.00, 9, -999.00, -999.00, 9, -999.00
49NZ20071008, P14N, 88, 1, 21, X12009, 2, 20071114, 0316, 18.5142, 179.0062, 4569,   1400.7, 2,   2.9349, 2,  34.5739, 2,  34.5740, 2,     78.4, 2,     79.5, 2,   127.76, 2,    40.32, 2,     0.01, 2,     2.90, 2,    0.003, 2,    0.003, 2,    0.000, 2, -999.000, 9,   -999.0, 9,   -999.0, 9, -999.0000,   -999.00,   -999.0, 9,   -999.0,  -999.00, 9,   -999.0,   2.8360, 27.5598,   2.9351, 2, 9, 0.40, 0.15, 0.01, 0.017,  -999.00, 9, -999.00, -999.00, 9, -999.00
49NZ20071008, P14N, 88, 1, 20, X12026, 2, 20071114, 0316, 18.5142, 179.0062, 4569,   1599.6, 2,   2.5677, 2,  34.5933, 2,  34.5935, 2,     85.9, 2,     86.7, 2,   135.40, 2,    40.10, 2,     0.01, 2,     2.87, 2,    0.000, 2,    0.000, 2,    0.000, 2, -999.000, 9,   -999.0, 9,   -999.0, 9, -999.0000,   -999.00,   -999.0, 9,   -999.0,  -999.00, 9,   -999.0,   2.4567, 27.6084,   2.5678, 2, 9, 0.42, 0.15, 0.01, 0.017,  -999.00, 9, -999.00, -999.00, 9, -999.00
49NZ20071008, P14N, 88, 1, 19, X12025, 2, 20071114, 0316, 18.5142, 179.0062, 4569,   1801.0, 2,   2.3288, 2,  34.6079, 2,  34.6082, 2,     93.0, 2,     93.0, 2,   140.37, 2,    39.81, 2,     0.01, 2,     2.84, 2,    0.000, 2,    0.000, 2,    0.000, 2, -999.000, 9,   -999.0, 9,   -999.0, 9, -999.0000,   -999.00,   -999.0, 9,   -999.0,  -999.00, 9,   -999.0,   2.2043, 27.6411,   2.3287, 2, 9, 0.43, 0.14, 0.01, 0.017,  -999.00, 9, -999.00, -999.00, 9, -999.00
49NZ20071008, P14N, 88, 1, 18, X12024, 2, 20071114, 0316, 18.5142, 179.0062, 4569,   2000.0, 2,   2.1064, 2,  34.6233, 2,  34.6234, 2,    100.9, 2,    100.6, 2,   144.70, 2,    39.39, 2,     0.01, 2,     2.80, 2,    0.000, 2,    0.000, 2,    0.000, 2, -999.000, 9,   -999.0, 9,   -999.0, 9, -999.0000,   -999.00,   -999.0, 9,   -999.0,  -999.00, 9,   -999.0,   1.9684, 27.6724,   2.1063, 2, 9, 0.44, 0.14, 0.01, 0.017,  -999.00, 9, -999.00, -999.00, 9, -999.00
49NZ20071008, P14N, 88, 1, 17, X12023, 2, 20071114, 0316, 18.5142, 179.0062, 4569,   2201.6, 2,   1.8967, 2,  34.6364, 2,  34.6365, 6,    108.8, 2,    108.6, 2,   148.38, 2,    38.99, 2,     0.01, 2,     2.76, 2,    0.000, 2,    0.000, 2,    0.000, 2, -999.000, 9,   -999.0, 9,   -999.0, 9, -999.0000,   -999.00,   -999.0, 9,   -999.0,  -999.00, 9,   -999.0,   1.7448, 27.7001,   1.8967, 2, 9, 0.45, 0.14, 0.01, 0.017,  -999.00, 9, -999.00, -999.00, 9, -999.00
49NZ20071008, P14N, 88, 1, 16, X12022, 2, 20071114, 0316, 18.5142, 179.0062, 4569,   2400.2, 2,   1.7719, 2,  34.6462, 2,  34.6467, 2,    115.9, 2,    115.4, 2,   149.68, 2,    38.58, 2,     0.01, 2,     2.72, 2,    0.005, 2,    0.005, 2,    0.000, 2, -999.000, 9,   -999.0, 9,   -999.0, 9, -999.0000,   -999.00,   -999.0, 9,   -999.0,  -999.00, 9,   -999.0,   1.6048, 27.7186,   1.7718, 2, 9, 0.45, 0.14, 0.01, 0.017,  -999.00, 9, -999.00, -999.00, 9, -999.00
49NZ20071008, P14N, 88, 1, 15, X12021, 2, 20071114, 0316, 18.5142, 179.0062, 4569,   2600.6, 2,   1.6770, 2,  34.6552, 2,  34.6552, 2,    122.6, 2,    121.9, 2,   150.24, 2,    38.07, 2,     0.01, 2,     2.69, 2, -999.000, 9, -999.000, 9, -999.000, 9, -999.000, 9,   -999.0, 9,   -999.0, 9, -999.0000,   -999.00,   -999.0, 9,   -999.0,  -999.00, 9,   -999.0,   1.4937, 27.7339,   1.6770, 2, 9, 0.45, 0.14, 0.01, 0.017,  -999.00, 9, -999.00, -999.00, 9, -999.00
49NZ20071008, P14N, 88, 1, 14, X12020, 2, 20071114, 0316, 18.5142, 179.0062, 4569,   2800.5, 2,   1.6147, 2,  34.6616, 2,  34.6618, 2,    128.6, 2,    127.9, 2,   149.89, 2,    37.72, 2,     0.01, 2,     2.66, 2,    0.002, 2,    0.002, 2,    0.000, 2, -999.000, 9,   -999.0, 9,   -999.0, 9, -999.0000,   -999.00,   -999.0, 9,   -999.0,  -999.00, 9,   -999.0,   1.4143, 27.7448,   1.6147, 2, 9, 0.45, 0.14, 0.01, 0.017,  -999.00, 9, -999.00, -999.00, 9, -999.00
49NZ20071008, P14N, 88, 1, 13, X12019, 2, 20071114, 0316, 18.5142, 179.0062, 4569,   3002.5, 2,   1.5612, 2,  34.6679, 2,  34.6680, 2,    134.0, 2,    133.9, 2,   149.15, 2,    37.31, 2,     0.01, 2,     2.63, 2, -999.000, 9, -999.000, 9, -999.000, 9, -999.000, 9,   -999.0, 9,   -999.0, 9, -999.0000,   -999.00,   -999.0, 9,   -999.0,  -999.00, 9,   -999.0,   1.3429, 27.7549,   1.5612, 2, 9, 0.45, 0.14, 0.01, 0.017,  -999.00, 9, -999.00, -999.00, 9, -999.00
49NZ20071008, P14N, 88, 1, 12, X12040, 2, 20071114, 0316, 18.5142, 179.0062, 4569,   3250.8, 2,   1.5152, 2,  34.6741, 2,  34.6741, 2,    140.6, 2,    140.2, 2,   147.48, 2,    36.86, 2,     0.01, 2,     2.59, 2, -999.000, 9, -999.000, 9, -999.000, 9, -999.000, 9,   -999.0, 9,   -999.0, 9, -999.0000,   -999.00,   -999.0, 9,   -999.0,  -999.00, 9,   -999.0,   1.2738, 27.7648,   1.5152, 2, 9, 0.44, 0.14, 0.01, 0.016,  -999.00, 9, -999.00, -999.00, 9, -999.00
49NZ20071008, P14N, 88, 1, 11, X12047, 2, 20071114, 0316, 18.5142, 179.0062, 4569,   3502.2, 2,   1.4923, 2,  34.6782, 2,  34.6778, 6,    145.1, 2,    144.9, 2,   146.16, 2,    36.58, 2,     0.01, 2,     2.57, 2,    0.002, 2,    0.004, 2,    0.000, 2, -999.000, 9,   -999.0, 9,   -999.0, 9, -999.0000,   -999.00,   -999.0, 9,   -999.0,  -999.00, 9,   -999.0,   1.2262, 27.7714,   1.4923, 2, 9, 0.44, 0.14, 0.01, 0.016,  -999.00, 9, -999.00, -999.00, 9, -999.00
49NZ20071008, P14N, 88, 1, 10, X12012, 2, 20071114, 0316, 18.5142, 179.0062, 4569,   3750.6, 2,   1.4714, 2,  34.6820, 2,  34.6824, 2,    150.4, 2,    150.1, 2,   144.33, 2,    36.16, 2,     0.01, 2,     2.53, 2, -999.000, 9, -999.000, 9, -999.000, 9, -999.000, 9,   -999.0, 9,   -999.0, 9, -999.0000,   -999.00,   -999.0, 9,   -999.0,  -999.00, 9,   -999.0,   1.1800, 27.7777,   1.4712, 2, 9, 0.44, 0.13, 0.01, 0.016,  -999.00, 9, -999.00, -999.00, 9, -999.00
49NZ20071008, P14N, 88, 1, 9, X12015, 2, 20071114, 0316, 18.5142, 179.0062, 4569,   4001.9, 2,   1.4711, 2,  34.6843, 2,  34.6844, 2,    153.3, 2,    153.4, 2,   143.10, 2,    35.97, 2,     0.01, 2,     2.52, 2, -999.000, 9, -999.000, 9, -999.000, 9, -999.000, 9,   -999.0, 9,   -999.0, 9, -999.0000,   -999.00,   -999.0, 9,   -999.0,  -999.00, 9,   -999.0,   1.1528, 27.7814,   1.4710, 2, 9, 0.43, 0.13, 0.01, 0.016,  -999.00, 9, -999.00, -999.00, 9, -999.00
49NZ20071008, P14N, 88, 1, 8, X12046, 2, 20071114, 0316, 18.5142, 179.0062, 4569,   4251.2, 2,   1.4790, 2,  34.6859, 2,  34.6859, 2,    155.8, 2,    155.7, 2,   141.99, 2,    35.79, 2,     0.01, 2,     2.51, 2,    0.002, 2,    0.003, 2,    0.000, 2, -999.000, 9,   -999.0, 9,   -999.0, 9, -999.0000,   -999.00,   -999.0, 9,   -999.0,  -999.00, 9,   -999.0,   1.1330, 27.7840,   1.4790, 2, 9, 0.43, 0.13, 0.01, 0.016,  -999.00, 9, -999.00, -999.00, 9, -999.00
49NZ20071008, P14N, 88, 1, 7, X12044, 2, 20071114, 0316, 18.5142, 179.0062, 4569,   4500.4, 2,   1.4922, 2,  34.6872, 2,  34.6875, 2,    157.8, 2,    157.8, 2,   140.74, 2,    35.70, 2,     0.01, 2,     2.51, 2, -999.000, 9, -999.000, 9, -999.000, 9, -999.000, 9,   -999.0, 9,   -999.0, 9, -999.0000,   -999.00,   -999.0, 9,   -999.0,  -999.00, 9,   -999.0,   1.1174, 27.7861,   1.4922, 2, 9, 0.43, 0.13, 0.01, 0.016,  -999.00, 9, -999.00, -999.00, 9, -999.00
49NZ20071008, P14N, 88, 1, 6, X12048, 9, 20071114, 0316, 18.5142, 179.0062, 4569,     10.0, 2,  27.6790, 2,  34.9589, 2, -999.0000, 9,    200.5, 2,   -999.0, 9,  -999.00, 9,  -999.00, 9,  -999.00, 9,  -999.00, 9, -999.000, 9, -999.000, 9, -999.000, 9, -999.000, 9,   -999.0, 9,   -999.0, 9, -999.0000,   -999.00,   -999.0, 9,   -999.0,  -999.00, 9,   -999.0,  27.6767, 22.4690,  27.6770, 2, 9, -999.00, -999.00, -999.00, -999.000,  -999.00, 9, -999.00, -999.00, 9, -999.00
49NZ20071008, P14N, 88, 1, 5, X12014, 9, 20071114, 0316, 18.5142, 179.0062, 4569,     50.6, 2,  27.6050, 2,  34.9407, 2, -999.0000, 9,    200.4, 2,   -999.0, 9,  -999.00, 9,  -999.00, 9,  -999.00, 9,  -999.00, 9, -999.000, 9, -999.000, 9, -999.000, 9, -999.000, 9,   -999.0, 9,   -999.0, 9, -999.0000,   -999.00,   -999.0, 9,   -999.0,  -999.00, 9,   -999.0,  27.5932, 22.4824,  27.6034, 2, 9, -999.00, -999.00, -999.00, -999.000,  -999.00, 9, -999.00, -999.00, 9, -999.00
49NZ20071008, P14N, 88, 1, 4, X12006, 9, 20071114, 0316, 18.5142, 179.0062, 4569,     99.8, 2,  25.1051, 2,  35.2322, 2, -999.0000, 9,    204.6, 2,   -999.0, 9,  -999.00, 9,  -999.00, 9,  -999.00, 9,  -999.00, 9, -999.000, 9, -999.000, 9, -999.000, 9, -999.000, 9,   -999.0, 9,   -999.0, 9, -999.0000,   -999.00,   -999.0, 9,   -999.0,  -999.00, 9,   -999.0,  25.0834, 23.4913,  25.1027, 2, 9, -999.00, -999.00, -999.00, -999.000,  -999.00, 9, -999.00, -999.00, 9, -999.00
49NZ20071008, P14N, 88, 1, 3, X12013, 9, 20071114, 0316, 18.5142, 179.0062, 4569,    150.3, 2,  21.4887, 2,  35.0735, 2, -999.0000, 9,    191.3, 2,   -999.0, 9,  -999.00, 9,  -999.00, 9,  -999.00, 9,  -999.00, 9, -999.000, 9, -999.000, 9, -999.000, 9, -999.000, 9,   -999.0, 9,   -999.0, 9, -999.0000,   -999.00,   -999.0, 9,   -999.0,  -999.00, 9,   -999.0,  21.4595, 24.4240,  21.4858, 2, 9, -999.00, -999.00, -999.00, -999.000,  -999.00, 9, -999.00, -999.00, 9, -999.00
49NZ20071008, P14N, 88, 1, 2, X12002, 9, 20071114, 0316, 18.5142, 179.0062, 4569,    200.2, 2,  18.5737, 2,  34.8588, 2, -999.0000, 9,    192.6, 2,   -999.0, 9,  -999.00, 9,  -999.00, 9,  -999.00, 9,  -999.00, 9, -999.000, 9, -999.000, 9, -999.000, 9, -999.000, 9,   -999.0, 9,   -999.0, 9, -999.0000,   -999.00,   -999.0, 9,   -999.0,  -999.00, 9,   -999.0,  18.5386, 25.0300,  18.5773, 2, 9, -999.00, -999.00, -999.00, -999.000,  -999.00, 9, -999.00, -999.00, 9, -999.00
49NZ20071008, P14N, 88, 1, 1, X12001, 2, 20071114, 0316, 18.5142, 179.0062, 4569,   4569.2, 2,   1.4983, 2,  34.6875, 2,  34.6874, 6,    158.1, 2,    158.0, 2,   140.61, 2,    35.72, 2,     0.01, 2,     2.50, 2,    0.000, 2,    0.001, 2,    0.000, 2, -999.000, 9,   -999.0, 9,   -999.0, 9, -999.0000,   -999.00,   -999.0, 9,   -999.0,  -999.00, 9,   -999.0,   1.1154, 27.7865,   1.4983, 2, 9, 0.43, 0.13, 0.01, 0.016,  -999.00, 9, -999.00, -999.00, 9, -999.00