BOTTLE,20221005CCHSIOAMB
EXPOCODE,SECT_ID,STNNBR,CASTNO,SAMPNO,BTLNBR,BTLNBR_FLAG_W,DATE,TIME,LATITUDE,LONGITUDE,DEPTH,CTDPRS,CTDPRS_FLAG_W,CTDTMP,CTDTMP_FLAG_W,CTDSAL,CTDSAL_FLAG_W,SALNTY,SALNTY_FLAG_W,CTDOXY,CTDOXY_FLAG_W,OXYGEN,OXYGEN_FLAG_W,SILCAT,SILCAT_FLAG_W,NITRAT,NITRAT_FLAG_W,NITRIT,NITRIT_FLAG_W,PHSPHT,PHSPHT_FLAG_W,CFC-11,CFC-11_FLAG_W,CFC-12,CFC-12_FLAG_W,CFC113,CFC113_FLAG_W,CCL4,CCL4_FLAG_W,TCARBN,TCARBN_FLAG_W,ALKALI,ALKALI_FLAG_W,PH_TOT,PH_TMP,DELC14,DELC14_FLAG_W,C14ERR,DELC13,DELC13_FLAG_W,C13ERR,THETA,SIG0,SBE35,SBE35_FLAG_W,PH_TOT_FLAG_W,SILUNC,NRAUNC,NRIUNC,PHPUNC,CS-137,CS-137_FLAG_W,CS137ER,PLUTO,PLUTO_FLAG_W,PLUTOER
,,,,,,,,,,,METERS,DBAR,,ITS-90,,PSS-78,,PSS-78,,UMOL/KG,,UMOL/KG,,UMOL/KG,,UMOL/KG,,UMOL/KG,,UMOL/KG,,PMOL/KG,,PMOL/KG,,PMOL/KG,,PMOL/KG,,UMOL/KG,,UMOL/KG,,,DEG C,/MILLE,,/MILLE,/MILLE,,/MILLE,DEG C,KG/M^3,ITS-90,,,UMOL/KG,UMOL/KG,UMOL/KG,UMOL/KG,DM/.1MG,,BQ/M^3,MBQ/M^3,,MBQ/M^3
49NZ20071008, P14N, 91, 1, 36, X12042, 2, 20071114, 1938, 17.0073, 178.9940, 4711,      9.7, 2,  27.8418, 2,  34.5655, 2,  34.5652, 2,    199.0, 2,    198.6, 2,     0.94, 2,     0.06, 2,     0.01, 2,     0.11, 2,    1.508, 2,    0.940, 2,    0.258, 4, -999.000, 9,   -999.0, 9,   -999.0, 9, -999.0000,   -999.00,   -999.0, 9,   -999.0,  -999.00, 9,   -999.0,  27.8395, 22.1202,  27.8418, 2, 9, 0.12, 0.03, 0.01, 0.021,  -999.00, 9, -999.00, -999.00, 9, -999.00
49NZ20071008, P14N, 91, 1, 35, X12041, 2, 20071114, 1938, 17.0073, 178.9940, 4711,     50.9, 2,  27.7835, 2,  34.9183, 2,  34.9197, 2,    200.1, 2,    200.4, 2,     0.81, 2,     0.05, 2,     0.01, 2,     0.06, 2,    1.514, 2,    0.940, 2,    0.415, 4, -999.000, 9,   -999.0, 9,   -999.0, 9, -999.0000,   -999.00,   -999.0, 9,   -999.0,  -999.00, 9,   -999.0,  27.7716, 22.4077,  27.7819, 2, 9, 0.12, 0.03, 0.01, 0.030,  -999.00, 9, -999.00, -999.00, 9, -999.00
49NZ20071008, P14N, 91, 1, 34, X12016, 2, 20071114, 1938, 17.0073, 178.9940, 4711,    100.2, 2,  25.5950, 2,  35.1019, 2,  35.0993, 2,    204.1, 2,    204.7, 2,     0.77, 2,     0.05, 2,     0.01, 2,     0.08, 2,    1.713, 2,    1.048, 2,    0.477, 4, -999.000, 9,   -999.0, 9,   -999.0, 9, -999.0000,   -999.00,   -999.0, 9,   -999.0,  -999.00, 9,   -999.0,  25.5729, 23.2427,  25.5954, 2, 9, 0.12, 0.03, 0.01, 0.024,  -999.00, 1, -999.00, -999.00, 9, -999.00
49NZ20071008, P14N, 91, 1, 33, X12033, 2, 20071114, 1938, 17.0073, 178.9940, 4711,    150.0, 2,  22.7905, 2,  35.1739, 2,  35.1799, 2,    188.3, 2,    188.1, 2,     1.36, 2,     0.95, 2,     0.05, 2,     0.16, 2,    1.956, 6,    1.179, 6,    0.251, 4, -999.000, 9,   -999.0, 9,   -999.0, 9, -999.0000,   -999.00,   -999.0, 9,   -999.0,  -999.00, 9,   -999.0,  22.7600, 24.1345,  22.7808, 2, 9, 0.12, 0.04, 0.01, 0.018,  -999.00, 9, -999.00, -999.00, 9, -999.00
49NZ20071008, P14N, 91, 1, 32, X12038, 2, 20071114, 1938, 17.0073, 178.9940, 4711,    199.9, 2,  19.5570, 2,  34.9111, 2,  34.9062, 2,    179.9, 2,    178.7, 2,     2.84, 2,     3.86, 2,     0.02, 2,     0.39, 2,    2.260, 2,    1.319, 2,    0.056, 2, -999.000, 9,   -999.0, 9,   -999.0, 9, -999.0000,   -999.00,   -999.0, 9,   -999.0,  -999.00, 9,   -999.0,  19.5206, 24.8193,  19.5510, 2, 9, 0.13, 0.04, 0.01, 0.013,  -999.00, 1, -999.00, -999.00, 9, -999.00
49NZ20071008, P14N, 91, 1, 31, X12003, 2, 20071114, 1938, 17.0073, 178.9940, 4711,    248.2, 2,  16.1814, 2,  34.5624, 2,  34.5529, 6,    176.9, 2,    176.6, 2,     5.95, 2,     7.68, 2,     0.01, 2,     0.66, 2,    2.560, 2,    1.471, 2,    0.064, 2, -999.000, 9,   -999.0, 9,   -999.0, 9, -999.0000,   -999.00,   -999.0, 9,   -999.0,  -999.00, 9,   -999.0,  16.1419, 25.3785,  16.1822, 2, 9, 0.13, 0.05, 0.01, 0.013,  -999.00, 9, -999.00, -999.00, 9, -999.00
49NZ20071008, P14N, 91, 1, 30, X12008, 2, 20071114, 1938, 17.0073, 178.9940, 4711,    299.9, 2,  12.5604, 2,  34.2747, 2,  34.2728, 2,    169.7, 2,    166.0, 2,    13.20, 2,    14.18, 2,     0.01, 2,     1.13, 2,    2.709, 2,    1.496, 2,    0.057, 2, -999.000, 9,   -999.0, 9,   -999.0, 9, -999.0000,   -999.00,   -999.0, 9,   -999.0,  -999.00, 9,   -999.0,  12.5202, 25.9256,  12.5600, 2, 9, 0.15, 0.07, 0.01, 0.013,  -999.00, 9, -999.00, -999.00, 9, -999.00
49NZ20071008, P14N, 91, 1, 29, X12035, 2, 20071114, 1938, 17.0073, 178.9940, 4711,    401.9, 2,   9.1455, 2,  34.2118, 2,  34.2111, 2,    120.0, 2,    116.8, 2,    32.74, 2,    25.55, 2,     0.01, 2,     1.94, 2,    1.978, 2,    0.979, 2,    0.062, 2, -999.000, 9,   -999.0, 9,   -999.0, 9, -999.0000,   -999.00,   -999.0, 9,   -999.0,  -999.00, 9,   -999.0,   9.1013, 26.4847,   9.1441, 2, 9, 0.19, 0.10, 0.01, 0.015,  -999.00, 1, -999.00, -999.00, 9, -999.00
49NZ20071008, P14N, 91, 1, 28, X12034, 2, 20071114, 1938, 17.0073, 178.9940, 4711,    499.4, 2,   7.2736, 2,  34.2743, 2,  34.2728, 6,     65.2, 2,     61.0, 2,    53.47, 2,    34.29, 2,     0.01, 2,     2.57, 2,    0.684, 2,    0.340, 2,    0.018, 2, -999.000, 9,   -999.0, 9,   -999.0, 9, -999.0000,   -999.00,   -999.0, 9,   -999.0,  -999.00, 9,   -999.0,   7.2253, 26.8158,   7.2743, 2, 9, 0.24, 0.13, 0.01, 0.016,  -999.00, 9, -999.00, -999.00, 9, -999.00
49NZ20071008, P14N, 91, 1, 27, X12049, 2, 20071114, 1938, 17.0073, 178.9940, 4711,    599.7, 2,   6.2271, 2,  34.3568, 2,  34.3561, 2,     44.2, 2,     43.5, 2,    68.25, 2,    38.21, 2,     0.00, 2,     2.83, 2,    0.194, 2,    0.102, 2,    0.003, 2, -999.000, 9,   -999.0, 9,   -999.0, 9, -999.0000,   -999.00,   -999.0, 9,   -999.0,  -999.00, 9,   -999.0,   6.1734, 27.0223,   6.2280, 2, 9, 0.27, 0.14, 0.01, 0.017,  -999.00, 1, -999.00, -999.00, 9, -999.00
49NZ20071008, P14N, 91, 1, 26, X12032, 2, 20071114, 1938, 17.0073, 178.9940, 4711,    701.2, 2,   5.5648, 2,  34.4379, 2,  34.4364, 2,     47.6, 2,     47.7, 2,    77.84, 2,    39.54, 2,     0.01, 2,     2.90, 2,    0.062, 6,    0.036, 6,    0.009, 6, -999.000, 9,   -999.0, 9,   -999.0, 9, -999.0000,   -999.00,   -999.0, 9,   -999.0,  -999.00, 9,   -999.0,   5.5049, 27.1699,   5.5662, 2, 9, 0.29, 0.14, 0.01, 0.017,  -999.00, 9, -999.00, -999.00, 9, -999.00
49NZ20071008, P14N, 91, 1, 25, X12043, 2, 20071114, 1938, 17.0073, 178.9940, 4711,    799.5, 2,   5.1063, 2,  34.4766, 2,  34.4770, 2,     51.8, 2,     51.4, 2,    85.29, 2,    40.30, 2,     0.01, 2,     2.93, 2,    0.028, 2,    0.020, 2,    0.003, 2, -999.000, 9,   -999.0, 9,   -999.0, 9, -999.0000,   -999.00,   -999.0, 9,   -999.0,  -999.00, 9,   -999.0,   5.0402, 27.2556,   5.1066, 2, 9, 0.31, 0.15, 0.01, 0.017,  -999.00, 1, -999.00, -999.00, 9, -999.00
49NZ20071008, P14N, 91, 1, 24, X12030, 2, 20071114, 1938, 17.0073, 178.9940, 4711,    899.5, 2,   4.7355, 2,  34.5030, 2,  34.5030, 2,     55.4, 2,     55.5, 2,    91.46, 2,    40.40, 2,     0.00, 2,     2.94, 2,    0.015, 2,    0.012, 2,    0.005, 2, -999.000, 9,   -999.0, 9,   -999.0, 9, -999.0000,   -999.00,   -999.0, 9,   -999.0,  -999.00, 9,   -999.0,   4.6630, 27.3195,   4.7353, 2, 9, 0.32, 0.15, 0.01, 0.017,  -999.00, 9, -999.00, -999.00, 9, -999.00
49NZ20071008, P14N, 91, 1, 23, X12027, 2, 20071114, 1938, 17.0073, 178.9940, 4711,   1001.2, 2,   4.2824, 2,  34.5248, 2,  34.5247, 6,     60.2, 2,     61.6, 2,    99.72, 2,    40.45, 2,     0.00, 2,     2.94, 2,    0.008, 2,    0.004, 2,    0.000, 2, -999.000, 9,   -999.0, 9,   -999.0, 9, -999.0000,   -999.00,   -999.0, 9,   -999.0,  -999.00, 9,   -999.0,   4.2044, 27.3867,   4.2827, 2, 9, 0.34, 0.15, 0.01, 0.017,  -999.00, 1, -999.00, -999.00, 9, -999.00
49NZ20071008, P14N, 91, 1, 22, X12028, 2, 20071114, 1938, 17.0073, 178.9940, 4711,   1201.8, 2,   3.6512, 2,  34.5473, 2,  34.5475, 2,     67.5, 2,     69.4, 2,   112.55, 2,    40.72, 2,     0.01, 2,     2.93, 2,    0.003, 2,    0.003, 2,    0.000, 2, -999.000, 9,   -999.0, 9,   -999.0, 9, -999.0000,   -999.00,   -999.0, 9,   -999.0,  -999.00, 9,   -999.0,   3.5616, 27.4703,   3.6518, 2, 9, 0.37, 0.15, 0.01, 0.017,  -999.00, 9, -999.00, -999.00, 9, -999.00
49NZ20071008, P14N, 91, 1, 21, X12009, 2, 20071114, 1938, 17.0073, 178.9940, 4711,   1399.7, 2,   3.1182, 2,  34.5667, 2,  34.5674, 2,     77.4, 2,     77.0, 2,   123.85, 2,    40.36, 2,     0.01, 2,     2.90, 2,    0.000, 2,    0.001, 2,    0.000, 2, -999.000, 9,   -999.0, 9,   -999.0, 9, -999.0000,   -999.00,   -999.0, 9,   -999.0,  -999.00, 9,   -999.0,   3.0174, 27.5376,   3.1179, 2, 9, 0.39, 0.15, 0.01, 0.017,  -999.00, 9, -999.00, -999.00, 9, -999.00
49NZ20071008, P14N, 91, 1, 20, X12026, 2, 20071114, 1938, 17.0073, 178.9940, 4711,   1602.1, 2,   2.6789, 2,  34.5892, 2,  34.5892, 2,     84.4, 2,     84.7, 2,   132.97, 2,    40.20, 2,     0.00, 2,     2.87, 2,    0.000, 2,    0.000, 2,    0.000, 2, -999.000, 9,   -999.0, 9,   -999.0, 9, -999.0000,   -999.00,   -999.0, 9,   -999.0,  -999.00, 9,   -999.0,   2.5664, 27.5958,   2.6791, 2, 9, 0.41, 0.15, 0.01, 0.017,  -999.00, 9, -999.00, -999.00, 9, -999.00
49NZ20071008, P14N, 91, 1, 19, X12025, 2, 20071114, 1938, 17.0073, 178.9940, 4711,   1802.5, 2,   2.3839, 2,  34.6083, 2,  34.6082, 2,     92.8, 2,     92.3, 2,   138.73, 2,    39.81, 2,     0.00, 2,     2.84, 2,    0.000, 2,    0.000, 2,    0.000, 2, -999.000, 9,   -999.0, 9,   -999.0, 9, -999.0000,   -999.00,   -999.0, 9,   -999.0,  -999.00, 9,   -999.0,   2.2585, 27.6370,   2.3840, 2, 9, 0.42, 0.14, 0.01, 0.017,  -999.00, 9, -999.00, -999.00, 9, -999.00
49NZ20071008, P14N, 91, 1, 18, X12024, 2, 20071114, 1938, 17.0073, 178.9940, 4711,   2003.0, 2,   2.1305, 2,  34.6242, 2,  34.6243, 2,    100.2, 2,    100.3, 2,   143.66, 2,    39.47, 2,     0.00, 2,     2.80, 2,    0.000, 2,    0.000, 2,    0.000, 2, -999.000, 9,   -999.0, 9,   -999.0, 9, -999.0000,   -999.00,   -999.0, 9,   -999.0,  -999.00, 9,   -999.0,   1.9918, 27.6712,   2.1311, 2, 9, 0.44, 0.14, 0.01, 0.017,  -999.00, 1, -999.00, -999.00, 9, -999.00
49NZ20071008, P14N, 91, 1, 17, X12023, 2, 20071114, 1938, 17.0073, 178.9940, 4711,   2204.2, 2,   1.9354, 2,  34.6378, 2,  34.6381, 6,    108.2, 2,    108.5, 2,   147.00, 2,    38.93, 2,     0.00, 2,     2.76, 2,    0.000, 2,    0.000, 2,    0.000, 2, -999.000, 9,   -999.0, 9,   -999.0, 9, -999.0000,   -999.00,   -999.0, 9,   -999.0,  -999.00, 9,   -999.0,   1.7826, 27.6984,   1.9354, 2, 9, 0.44, 0.14, 0.01, 0.017,  -999.00, 9, -999.00, -999.00, 9, -999.00
49NZ20071008, P14N, 91, 1, 16, X12022, 2, 20071114, 1938, 17.0073, 178.9940, 4711,   2404.2, 2,   1.7914, 2,  34.6494, 2,  34.6495, 2,    115.6, 2,    115.9, 2,   148.99, 2,    38.45, 2,     0.00, 2,     2.71, 2,    0.000, 2,    0.000, 2,    0.000, 2, -999.000, 9,   -999.0, 9,   -999.0, 9, -999.0000,   -999.00,   -999.0, 9,   -999.0,  -999.00, 9,   -999.0,   1.6236, 27.7198,   1.7913, 2, 9, 0.45, 0.14, 0.01, 0.017,  -999.00, 9, -999.00, -999.00, 9, -999.00
49NZ20071008, P14N, 91, 1, 15, X12021, 2, 20071114, 1938, 17.0073, 178.9940, 4711,   2596.2, 2,   1.7044, 2,  34.6572, 2,  34.6571, 2,    121.2, 2,    121.7, 2,   149.91, 2,    38.19, 2,     0.00, 2,     2.68, 2, -999.000, 9, -999.000, 9, -999.000, 9, -999.000, 9,   -999.0, 9,   -999.0, 9, -999.0000,   -999.00,   -999.0, 9,   -999.0,  -999.00, 9,   -999.0,   1.5210, 27.7336,   1.7043, 2, 9, 0.45, 0.14, 0.01, 0.017,  -999.00, 9, -999.00, -999.00, 9, -999.00
49NZ20071008, P14N, 91, 1, 14, X12020, 2, 20071114, 1938, 17.0073, 178.9940, 4711,   2797.3, 2,   1.6370, 2,  34.6634, 2,  34.6636, 2,    126.7, 2,    126.7, 2,   150.28, 2,    37.87, 2,     0.00, 2,     2.66, 2,    0.000, 2,    0.001, 2,    0.000, 2, -999.000, 9,   -999.0, 9,   -999.0, 9, -999.0000,   -999.00,   -999.0, 9,   -999.0,  -999.00, 9,   -999.0,   1.4364, 27.7447,   1.6369, 2, 9, 0.45, 0.14, 0.01, 0.017,  -999.00, 9, -999.00, -999.00, 9, -999.00
49NZ20071008, P14N, 91, 1, 13, X12019, 2, 20071114, 1938, 17.0073, 178.9940, 4711,   2998.2, 2,   1.5791, 2,  34.6697, 2,  34.6695, 2,    131.4, 2,    131.7, 2,   150.72, 2,    37.62, 2,     0.01, 2,     2.64, 2, -999.000, 9, -999.000, 9, -999.000, 9, -999.000, 9,   -999.0, 9,   -999.0, 9, -999.0000,   -999.00,   -999.0, 9,   -999.0,  -999.00, 9,   -999.0,   1.3608, 27.7551,   1.5790, 2, 9, 0.45, 0.14, 0.01, 0.017,  -999.00, 1, -999.00, -999.00, 9, -999.00
49NZ20071008, P14N, 91, 1, 12, X12040, 2, 20071114, 1938, 17.0073, 178.9940, 4711,   3248.9, 2,   1.5337, 2,  34.6739, 2,  34.6737, 2,    135.8, 2,    137.8, 2,   148.86, 2,    36.96, 2,     0.00, 2,     2.59, 2, -999.000, 9, -999.000, 9, -999.000, 9, -999.000, 9,   -999.0, 9,   -999.0, 9, -999.0000,   -999.00,   -999.0, 9,   -999.0,  -999.00, 9,   -999.0,   1.2920, 27.7633,   1.5337, 2, 9, 0.45, 0.14, 0.01, 0.016,  -999.00, 9, -999.00, -999.00, 9, -999.00
49NZ20071008, P14N, 91, 1, 11, X12047, 2, 20071114, 1938, 17.0073, 178.9940, 4711,   3494.6, 2,   1.5066, 2,  34.6776, 2,  34.6773, 6,    141.5, 2,    142.9, 2,   147.34, 2,    36.67, 2,     0.00, 2,     2.57, 2,    0.000, 2,    0.000, 2,    0.000, 2, -999.000, 9,   -999.0, 9,   -999.0, 9, -999.0000,   -999.00,   -999.0, 9,   -999.0,  -999.00, 9,   -999.0,   1.2409, 27.7699,   1.5066, 2, 9, 0.44, 0.14, 0.01, 0.016,  -999.00, 9, -999.00, -999.00, 9, -999.00
49NZ20071008, P14N, 91, 1, 10, X12012, 2, 20071114, 1938, 17.0073, 178.9940, 4711,   3749.1, 2,   1.4842, 2,  34.6819, 2,  34.6813, 2,    147.3, 2,    146.9, 2,   147.19, 2,    36.47, 2,     0.00, 2,     2.55, 2, -999.000, 9, -999.000, 9, -999.000, 9, -999.000, 9,   -999.0, 9,   -999.0, 9, -999.0000,   -999.00,   -999.0, 9,   -999.0,  -999.00, 9,   -999.0,   1.1926, 27.7767,   1.4842, 2, 9, 0.44, 0.13, 0.01, 0.016,  -999.00, 9, -999.00, -999.00, 9, -999.00
49NZ20071008, P14N, 91, 1, 9, X12015, 2, 20071114, 1938, 17.0073, 178.9940, 4711,   4000.0, 2,   1.4722, 2,  34.6847, 2,  34.6848, 2,    151.6, 2,    151.4, 2,   145.34, 2,    36.08, 2,     0.00, 2,     2.52, 2, -999.000, 9, -999.000, 9, -999.000, 9, -999.000, 9,   -999.0, 9,   -999.0, 9, -999.0000,   -999.00,   -999.0, 9,   -999.0,  -999.00, 9,   -999.0,   1.1541, 27.7816,   1.4721, 2, 9, 0.44, 0.13, 0.01, 0.016,  -999.00, 1, -999.00, -999.00, 9, -999.00
49NZ20071008, P14N, 91, 1, 8, X12046, 2, 20071114, 1938, 17.0073, 178.9940, 4711,   4247.2, 2,   1.4508, 2,  34.6883, 2,  34.6878, 2,    157.2, 2,    157.5, 2,   142.57, 2,    35.64, 2,     0.00, 2,     2.49, 2,    0.000, 2,    0.000, 2,    0.000, 2, -999.000, 9,   -999.0, 9,   -999.0, 9, -999.0000,   -999.00,   -999.0, 9,   -999.0,  -999.00, 9,   -999.0,   1.1060, 27.7878,   1.4508, 2, 9, 0.43, 0.13, 0.01, 0.016,  -999.00, 9, -999.00, -999.00, 9, -999.00
49NZ20071008, P14N, 91, 1, 7, X12044, 2, 20071114, 1938, 17.0073, 178.9940, 4711,   4500.5, 2,   1.4095, 2,  34.6931, 2,  34.6931, 2,    166.5, 2,    166.4, 2,   137.10, 2,    35.02, 2,     0.00, 2,     2.45, 2,    0.000, 2,    0.001, 2,    0.000, 2, -999.000, 9,   -999.0, 9,   -999.0, 9, -999.0000,   -999.00,   -999.0, 9,   -999.0,  -999.00, 9,   -999.0,   1.0372, 27.7962,   1.4095, 2, 9, 0.42, 0.13, 0.01, 0.016,  -999.00, 9, -999.00, -999.00, 9, -999.00
49NZ20071008, P14N, 91, 1, 6, X12048, 2, 20071114, 1938, 17.0073, 178.9940, 4711,   4770.9, 2,   1.3402, 2,  34.6998, 2, -999.0000, 9,    180.1, 2,   -999.0, 9,  -999.00, 9,  -999.00, 9,  -999.00, 9,  -999.00, 9, -999.000, 9, -999.000, 9, -999.000, 9, -999.000, 9,   -999.0, 9,   -999.0, 9, -999.0000,   -999.00,   -999.0, 9,   -999.0,  -999.00, 9,   -999.0,   0.9386, 27.8081,   1.3401, 2, 9, -999.00, -999.00, -999.00, -999.000,  -999.00, 1, -999.00, -999.00, 9, -999.00
49NZ20071008, P14N, 91, 1, 5, X12014, 2, 20071114, 1938, 17.0073, 178.9940, 4711,   2004.2, 2,   2.1234, 2,  34.6246, 2, -999.0000, 9,    100.2, 2,   -999.0, 9,  -999.00, 9,  -999.00, 9,  -999.00, 9,  -999.00, 9, -999.000, 9, -999.000, 9, -999.000, 9, -999.000, 9,   -999.0, 9,   -999.0, 9, -999.0000,   -999.00,   -999.0, 9,   -999.0,  -999.00, 9,   -999.0,   1.9848, 27.6721,   2.1232, 2, 9, -999.00, -999.00, -999.00, -999.000,  -999.00, 1, -999.00, -999.00, 9, -999.00
49NZ20071008, P14N, 91, 1, 4, X12006, 2, 20071114, 1938, 17.0073, 178.9940, 4711,   2998.6, 2,   1.5783, 2,  34.6697, 2, -999.0000, 9,    131.4, 2,   -999.0, 9,  -999.00, 9,  -999.00, 9,  -999.00, 9,  -999.00, 9, -999.000, 9, -999.000, 9, -999.000, 9, -999.000, 9,   -999.0, 9,   -999.0, 9, -999.0000,   -999.00,   -999.0, 9,   -999.0,  -999.00, 9,   -999.0,   1.3599, 27.7552,   1.5783, 2, 9, -999.00, -999.00, -999.00, -999.000,  -999.00, 1, -999.00, -999.00, 9, -999.00
49NZ20071008, P14N, 91, 1, 3, X12013, 2, 20071114, 1938, 17.0073, 178.9940, 4711,   4000.1, 2,   1.4721, 2,  34.6848, 2, -999.0000, 9,    151.6, 2,   -999.0, 9,  -999.00, 9,  -999.00, 9,  -999.00, 9,  -999.00, 9, -999.000, 9, -999.000, 9, -999.000, 9, -999.000, 9,   -999.0, 9,   -999.0, 9, -999.0000,   -999.00,   -999.0, 9,   -999.0,  -999.00, 9,   -999.0,   1.1540, 27.7817,   1.4722, 2, 9, -999.00, -999.00, -999.00, -999.000,  -999.00, 1, -999.00, -999.00, 9, -999.00
49NZ20071008, P14N, 91, 1, 2, X12002, 2, 20071114, 1938, 17.0073, 178.9940, 4711,   4771.1, 2,   1.3401, 2,  34.6999, 2, -999.0000, 9,    180.1, 2,   -999.0, 9,  -999.00, 9,  -999.00, 9,  -999.00, 9,  -999.00, 9, -999.000, 9, -999.000, 9, -999.000, 9, -999.000, 9,   -999.0, 9,   -999.0, 9, -999.0000,   -999.00,   -999.0, 9,   -999.0,  -999.00, 9,   -999.0,   0.9385, 27.8082,   1.3401, 2, 9, -999.00, -999.00, -999.00, -999.000,  -999.00, 1, -999.00, -999.00, 9, -999.00
49NZ20071008, P14N, 91, 1, 1, X12001, 2, 20071114, 1938, 17.0073, 178.9940, 4711,   4771.1, 2,   1.3402, 2,  34.6998, 2,  34.6998, 6,    180.1, 2,    180.2, 2,   129.09, 2,    34.06, 2,     0.00, 2,     2.38, 2,    0.002, 2,    0.000, 2,    0.000, 2, -999.000, 9,   -999.0, 9,   -999.0, 9, -999.0000,   -999.00,   -999.0, 9,   -999.0,  -999.00, 9,   -999.0,   0.9386, 27.8081,   1.3401, 2, 9, 0.40, 0.13, 0.01, 0.016,  -999.00, 1, -999.00, -999.00, 9, -999.00