BOTTLE,20221005CCHSIOAMB
EXPOCODE,SECT_ID,STNNBR,CASTNO,SAMPNO,BTLNBR,BTLNBR_FLAG_W,DATE,TIME,LATITUDE,LONGITUDE,DEPTH,CTDPRS,CTDPRS_FLAG_W,CTDTMP,CTDTMP_FLAG_W,CTDSAL,CTDSAL_FLAG_W,SALNTY,SALNTY_FLAG_W,CTDOXY,CTDOXY_FLAG_W,OXYGEN,OXYGEN_FLAG_W,SILCAT,SILCAT_FLAG_W,NITRAT,NITRAT_FLAG_W,NITRIT,NITRIT_FLAG_W,PHSPHT,PHSPHT_FLAG_W,CFC-11,CFC-11_FLAG_W,CFC-12,CFC-12_FLAG_W,CFC113,CFC113_FLAG_W,CCL4,CCL4_FLAG_W,TCARBN,TCARBN_FLAG_W,ALKALI,ALKALI_FLAG_W,PH_TOT,PH_TMP,DELC14,DELC14_FLAG_W,C14ERR,DELC13,DELC13_FLAG_W,C13ERR,THETA,SIG0,SBE35,SBE35_FLAG_W,PH_TOT_FLAG_W,SILUNC,NRAUNC,NRIUNC,PHPUNC,CS-137,CS-137_FLAG_W,CS137ER,PLUTO,PLUTO_FLAG_W,PLUTOER
,,,,,,,,,,,METERS,DBAR,,ITS-90,,PSS-78,,PSS-78,,UMOL/KG,,UMOL/KG,,UMOL/KG,,UMOL/KG,,UMOL/KG,,UMOL/KG,,PMOL/KG,,PMOL/KG,,PMOL/KG,,PMOL/KG,,UMOL/KG,,UMOL/KG,,,DEG C,/MILLE,,/MILLE,/MILLE,,/MILLE,DEG C,KG/M^3,ITS-90,,,UMOL/KG,UMOL/KG,UMOL/KG,UMOL/KG,DM/.1MG,,BQ/M^3,MBQ/M^3,,MBQ/M^3
49NZ20071008, P14N, 9, 1, 36, X12042, 2, 20071025, 0840, 54.9975, -177.1813, 3778,     10.6, 2,   5.7483, 2,  32.9824, 2,  32.9833, 2,    302.8, 2,    303.2, 2,    28.15, 2,    18.69, 2,     0.26, 2,     1.67, 2, -999.000, 9, -999.000, 9, -999.000, 9, -999.000, 9,   2083.2, 2,   2238.0, 2,    7.7842,     25.00,   -999.0, 9,   -999.0,  -999.00, 9,   -999.0,   5.7475, 25.9893,   5.7484, 2, 6, 0.18, 0.09, 0.01, 0.014,  -999.00, 9, -999.00, -999.00, 9, -999.00
49NZ20071008, P14N, 9, 1, 35, X12041, 2, 20071025, 0840, 54.9975, -177.1813, 3778,     49.9, 2,   5.4718, 2,  32.9973, 2,  32.9978, 2,    303.1, 2,    302.2, 2,    30.55, 2,    19.73, 2,     0.24, 2,     1.73, 2, -999.000, 9, -999.000, 9, -999.000, 9, -999.000, 9,   2089.5, 6,   2239.1, 2,    7.7678,     25.00,   -999.0, 9,   -999.0,  -999.00, 9,   -999.0,   5.4679, 26.0343,   5.4619, 2, 2, 0.19, 0.09, 0.01, 0.014,  -999.00, 9, -999.00, -999.00, 9, -999.00
49NZ20071008, P14N, 9, 1, 34, X12016, 2, 20071025, 0840, 54.9975, -177.1813, 3778,    100.7, 2,   2.5020, 2,  33.1818, 2,  33.1834, 2,    301.3, 2,    304.0, 2,    53.34, 2,    28.84, 2,     0.02, 2,     2.25, 2, -999.000, 9, -999.000, 9, -999.000, 9, -999.000, 9,   2149.6, 2,   2246.3, 6,    7.6297,     25.00,   -999.0, 9,   -999.0,  -999.00, 9,   -999.0,   2.4965, 26.4763,   2.5018, 2, 2, 0.24, 0.11, 0.01, 0.016,  -999.00, 9, -999.00, -999.00, 9, -999.00
49NZ20071008, P14N, 9, 1, 33, X12033, 2, 20071025, 0840, 54.9975, -177.1813, 3778,    151.0, 2,   2.1936, 2,  33.1924, 2,  33.1936, 2,    302.2, 2,    304.4, 2,    52.00, 2,    28.51, 2,     0.02, 2,     2.23, 2, -999.000, 9, -999.000, 9, -999.000, 9, -999.000, 9,   2153.0, 2,   2249.1, 2,    7.6308,     25.00,   -999.0, 9,   -999.0,  -999.00, 9,   -999.0,   2.1857, 26.5094,   2.1937, 2, 2, 0.23, 0.11, 0.01, 0.016,  -999.00, 9, -999.00, -999.00, 9, -999.00
49NZ20071008, P14N, 9, 1, 32, X12038, 2, 20071025, 0840, 54.9975, -177.1813, 3778,    199.4, 2,   3.3698, 2,  33.4264, 2,  33.4275, 2,    181.1, 2,    191.8, 2,    68.87, 2,    34.40, 2,     0.02, 2,     2.57, 2, -999.000, 9, -999.000, 9, -999.000, 9, -999.000, 9,   2217.9, 2,   2266.6, 2,    7.4875,     25.00,   -999.0, 9,   -999.0,  -999.00, 9,   -999.0,   3.3573, 26.5967,   3.3688, 2, 2, 0.27, 0.13, 0.01, 0.016,  -999.00, 9, -999.00, -999.00, 9, -999.00
49NZ20071008, P14N, 9, 1, 31, X12003, 2, 20071025, 0840, 54.9975, -177.1813, 3778,    248.8, 2,   3.9493, 2,  33.6426, 2,  33.6439, 6,    111.3, 2,    116.8, 2,    82.03, 2,    38.58, 2,     0.02, 2,     2.80, 2, -999.000, 9, -999.000, 9, -999.000, 9, -999.000, 9,   2267.2, 2,   2284.4, 2,    7.3956,     25.00,   -999.0, 9,   -999.0,  -999.00, 9,   -999.0,   3.9324, 26.7133,   3.9485, 2, 2, 0.30, 0.14, 0.01, 0.017,  -999.00, 9, -999.00, -999.00, 9, -999.00
49NZ20071008, P14N, 9, 1, 30, X12008, 2, 20071025, 0840, 54.9975, -177.1813, 3778,    281.4, 2,   3.9069, 2,  33.7197, 2,  33.7183, 2,     94.7, 2,    103.8, 2,    83.85, 2,    39.14, 2,     0.02, 2,     2.84, 2, -999.000, 9, -999.000, 9, -999.000, 9, -999.000, 9,   2278.1, 2,   2289.5, 2,    7.3807,     25.00,   -999.0, 9,   -999.0,  -999.00, 9,   -999.0,   3.8877, 26.7791,   3.9067, 2, 2, 0.30, 0.14, 0.01, 0.017,  -999.00, 9, -999.00, -999.00, 9, -999.00
49NZ20071008, P14N, 9, 1, 29, X12035, 2, 20071025, 0840, 54.9975, -177.1813, 3778,    370.6, 2,   3.8135, 2,  33.9204, 2,  33.9186, 2,     47.6, 2,     47.3, 2,   100.20, 2,    42.96, 2,     0.01, 2,     3.08, 2, -999.000, 9, -999.000, 9, -999.000, 9, -999.000, 9,   2324.0, 2,   2309.6, 2,    7.3102,     25.00,   -999.0, 9,   -999.0,  -999.00, 9,   -999.0,   3.7882, 26.9487,   3.8137, 2, 2, 0.34, 0.15, 0.01, 0.018,  -999.00, 9, -999.00, -999.00, 9, -999.00
49NZ20071008, P14N, 9, 1, 28, X12034, 2, 20071025, 0840, 54.9975, -177.1813, 3778,    471.7, 2,   3.6801, 2,  34.0501, 2,  34.0462, 6,     28.6, 2,     28.0, 2,   109.43, 2,    44.11, 2,     0.01, 2,     3.14, 2, -999.000, 9, -999.000, 9, -999.000, 9, -999.000, 9,   2340.9, 2,   2324.6, 2,    7.2963,     25.00,   -999.0, 9,   -999.0,  -999.00, 9,   -999.0,   3.6479, 27.0658,   3.6799, 2, 2, 0.36, 0.16, 0.01, 0.018,  -999.00, 9, -999.00, -999.00, 9, -999.00
49NZ20071008, P14N, 9, 1, 27, X12049, 2, 20071025, 0840, 54.9975, -177.1813, 3778,    570.6, 2,   3.5532, 2,  34.1270, 2,  34.1279, 2,     26.7, 2,     20.9, 2,   116.98, 2,    44.17, 2,     0.01, 2,     3.15, 2, -999.000, 9, -999.000, 9, -999.000, 9, -999.000, 9,   2351.5, 2,   2337.2, 2,    7.2975,     25.00,   -999.0, 9,   -999.0,  -999.00, 9,   -999.0,   3.5143, 27.1401,   3.5532, 2, 2, 0.38, 0.16, 0.01, 0.018,  -999.00, 9, -999.00, -999.00, 9, -999.00
49NZ20071008, P14N, 9, 1, 26, X12032, 2, 20071025, 0840, 54.9975, -177.1813, 3778,    670.7, 2,   3.4039, 2,  34.1914, 2,  34.1907, 2,     19.6, 2,     17.4, 2,   124.01, 2,    44.34, 2,     0.01, 2,     3.16, 2, -999.000, 9, -999.000, 9, -999.000, 9, -999.000, 9,   2360.5, 6,   2346.2, 2,    7.3019,     25.00,   -999.0, 9,   -999.0,  -999.00, 9,   -999.0,   3.3583, 27.2063,   3.4043, 2, 2, 0.39, 0.16, 0.01, 0.018,  -999.00, 9, -999.00, -999.00, 9, -999.00
49NZ20071008, P14N, 9, 1, 25, X12043, 2, 20071025, 0840, 54.9975, -177.1813, 3778,    772.2, 2,   3.2380, 2,  34.2494, 2,  34.2488, 2,     19.8, 2,     16.0, 2,   131.21, 2,    44.42, 2,     0.01, 2,     3.18, 2, -999.000, 9, -999.000, 9, -999.000, 9, -999.000, 9,   2371.4, 2,   2356.8, 6,    7.3074,     25.00,   -999.0, 9,   -999.0,  -999.00, 9,   -999.0,   3.1858, 27.2688,   3.2380, 2, 2, 0.41, 0.16, 0.01, 0.018,  -999.00, 9, -999.00, -999.00, 9, -999.00
49NZ20071008, P14N, 9, 1, 24, X12030, 2, 20071025, 0840, 54.9975, -177.1813, 3778,    871.7, 2,   3.0672, 2,  34.2993, 2,  34.2982, 2,     16.1, 2,     15.3, 2,   137.91, 2,    44.31, 2,     0.01, 2,     3.16, 2, -999.000, 9, -999.000, 9, -999.000, 9, -999.000, 9,   2375.3, 2,   2365.8, 2,    7.3124,     25.00,   -999.0, 9,   -999.0,  -999.00, 9,   -999.0,   3.0087, 27.3249,   3.0676, 2, 6, 0.42, 0.16, 0.01, 0.018,  -999.00, 9, -999.00, -999.00, 9, -999.00
49NZ20071008, P14N, 9, 1, 23, X12027, 2, 20071025, 0840, 54.9975, -177.1813, 3778,    970.9, 2,   2.9331, 2,  34.3377, 2,  34.3372, 6,     16.2, 2,     15.9, 2,   143.63, 2,    44.32, 2,     0.01, 2,     3.18, 2, -999.000, 9, -999.000, 9, -999.000, 9, -999.000, 9,   2381.1, 2,   2372.6, 2,    7.3189,     25.00,   -999.0, 9,   -999.0,  -999.00, 9,   -999.0,   2.8682, 27.3683,   2.9330, 2, 2, 0.43, 0.16, 0.01, 0.018,  -999.00, 9, -999.00, -999.00, 9, -999.00
49NZ20071008, P14N, 9, 1, 22, X12028, 2, 20071025, 0840, 54.9975, -177.1813, 3778,   1131.3, 2,   2.7128, 2,  34.3918, 2,  34.3925, 2,     17.0, 2,     17.1, 2,   153.53, 2,    44.20, 2,     0.01, 2,     3.17, 2, -999.000, 9, -999.000, 9, -999.000, 9, -999.000, 9,   2388.9, 2,   2382.4, 2,    7.3275,     25.00,   -999.0, 9,   -999.0,  -999.00, 9,   -999.0,   2.6376, 27.4318,   2.7128, 2, 2, 0.46, 0.16, 0.01, 0.018,  -999.00, 9, -999.00, -999.00, 9, -999.00
49NZ20071008, P14N, 9, 1, 21, X12009, 2, 20071025, 0840, 54.9975, -177.1813, 3778,   1328.9, 2,   2.4662, 2,  34.4539, 2,  34.4538, 2,     20.7, 2,     21.3, 2,   163.25, 2,    43.91, 2,     0.01, 2,     3.16, 2, -999.000, 9, -999.000, 9, -999.000, 9, -999.000, 9,   2395.1, 2,   2392.6, 2,    7.3406,     25.00,   -999.0, 9,   -999.0,  -999.00, 9,   -999.0,   2.3782, 27.5034,   2.4662, 2, 2, 0.48, 0.16, 0.01, 0.018,  -999.00, 9, -999.00, -999.00, 9, -999.00
49NZ20071008, P14N, 9, 1, 20, X12026, 2, 20071025, 0840, 54.9975, -177.1813, 3778,   1531.9, 2,   2.2522, 2,  34.5031, 2,  34.5027, 2,     27.8, 2,     28.2, 2,   173.31, 2,    43.42, 2,     0.01, 2,     3.14, 2, -999.000, 9, -999.000, 9, -999.000, 9, -999.000, 9,   2396.7, 2,   2402.1, 2,    7.3573,     25.00,   -999.0, 9,   -999.0,  -999.00, 9,   -999.0,   2.1507, 27.5615,   2.2524, 2, 6, 0.50, 0.15, 0.01, 0.018,  -999.00, 9, -999.00, -999.00, 9, -999.00
49NZ20071008, P14N, 9, 1, 19, X12025, 2, 20071025, 0840, 54.9975, -177.1813, 3778,   1730.9, 2,   2.0869, 2,  34.5410, 2,  34.5409, 2,     36.7, 2,     36.4, 2,   181.87, 2,    42.65, 2,     0.01, 2,     3.11, 2, -999.000, 9, -999.000, 9, -999.000, 9, -999.000, 9,   2394.9, 2,   2408.7, 2,    7.3748,     25.00,   -999.0, 9,   -999.0,  -999.00, 9,   -999.0,   1.9716, 27.6061,   2.0869, 2, 2, 0.52, 0.15, 0.01, 0.018,  -999.00, 9, -999.00, -999.00, 9, -999.00
49NZ20071008, P14N, 9, 1, 18, X12024, 2, 20071025, 0840, 54.9975, -177.1813, 3778,   1932.8, 2,   1.9456, 2,  34.5723, 2,  34.5720, 6,     46.6, 2,     46.0, 2,   190.34, 2,    41.78, 2,     0.01, 2,     3.09, 2, -999.000, 9, -999.000, 9, -999.000, 9, -999.000, 9,   2396.3, 2,   2415.3, 2,    7.3954,     25.00,   -999.0, 9,   -999.0,  -999.00, 9,   -999.0,   1.8158, 27.6434,   1.9459, 2, 2, 0.54, 0.15, 0.01, 0.018,  -999.00, 9, -999.00, -999.00, 9, -999.00
49NZ20071008, P14N, 9, 1, 17, X12023, 2, 20071025, 0840, 54.9975, -177.1813, 3778,   2131.5, 2,   1.8439, 2,  34.5956, 2,  34.5957, 2,     55.1, 2,     54.9, 2,   196.86, 2,    41.08, 2,     0.01, 2,     3.06, 2, -999.000, 9, -999.000, 9, -999.000, 9, -999.000, 9,   2392.3, 2,   2419.3, 2,    7.4120,     25.00,   -999.0, 9,   -999.0,  -999.00, 9,   -999.0,   1.6990, 27.6709,   1.8440, 2, 2, 0.55, 0.15, 0.01, 0.018,  -999.00, 9, -999.00, -999.00, 9, -999.00
49NZ20071008, P14N, 9, 1, 16, X12022, 2, 20071025, 0840, 54.9975, -177.1813, 3778,   2329.7, 2,   1.7710, 2,  34.6129, 2,  34.6128, 2,     63.3, 2,     63.2, 2,   201.30, 2,    40.51, 2,     0.01, 2,     3.03, 2, -999.000, 9, -999.000, 9, -999.000, 9, -999.000, 9,   2389.3, 6,   2423.0, 2,    7.4292,     25.00,   -999.0, 9,   -999.0,  -999.00, 9,   -999.0,   1.6102, 27.6914,   1.7710, 2, 2, 0.56, 0.15, 0.01, 0.018,  -999.00, 9, -999.00, -999.00, 9, -999.00
49NZ20071008, P14N, 9, 1, 15, X12021, 2, 20071025, 0840, 54.9975, -177.1813, 3778,   2529.0, 2,   1.7094, 2,  34.6274, 2,  34.6282, 2,     71.3, 2,     71.1, 2,   205.06, 2,    39.98, 2,     0.01, 2,     3.00, 2, -999.000, 9, -999.000, 9, -999.000, 9, -999.000, 9,   2388.9, 2,   2426.1, 6,    7.4457,     25.00,   -999.0, 9,   -999.0,  -999.00, 9,   -999.0,   1.5321, 27.7088,   1.7093, 2, 2, 0.57, 0.14, 0.01, 0.017,  -999.00, 9, -999.00, -999.00, 9, -999.00
49NZ20071008, P14N, 9, 1, 14, X12020, 2, 20071025, 0840, 54.9975, -177.1813, 3778,   2729.5, 2,   1.6576, 2,  34.6401, 2,  34.6406, 2,     78.2, 2,     78.6, 2,   208.82, 2,    39.31, 2,     0.01, 2,     2.98, 2, -999.000, 9, -999.000, 9, -999.000, 9, -999.000, 9,   2383.1, 2,   2427.9, 2,    7.4610,     25.00,   -999.0, 9,   -999.0,  -999.00, 9,   -999.0,   1.4630, 27.7241,   1.6575, 2, 6, 0.58, 0.14, 0.01, 0.017,  -999.00, 9, -999.00, -999.00, 9, -999.00
49NZ20071008, P14N, 9, 1, 13, X12019, 2, 20071025, 0840, 54.9975, -177.1813, 3778,   2929.9, 2,   1.6247, 2,  34.6494, 2,  34.6497, 6,     85.1, 2,     84.7, 2,   211.13, 2,    38.87, 2,     0.01, 2,     2.96, 2, -999.000, 9, -999.000, 9, -999.000, 9, -999.000, 9,   2380.9, 2,   2430.6, 2,    7.4727,     25.00,   -999.0, 9,   -999.0,  -999.00, 9,   -999.0,   1.4120, 27.7351,   1.6247, 2, 2, 0.58, 0.14, 0.01, 0.017,  -999.00, 9, -999.00, -999.00, 9, -999.00
49NZ20071008, P14N, 9, 1, 12, X12040, 2, 20071025, 0840, 54.9975, -177.1813, 3778,   3171.3, 2,   1.5995, 2,  34.6576, 2,  34.6582, 2,     90.7, 2,     90.6, 2,   213.21, 2,    38.35, 2,     0.01, 2,     2.93, 2, -999.000, 9, -999.000, 9, -999.000, 9, -999.000, 9,   2377.8, 2,   2431.9, 2,    7.4855,     25.00,   -999.0, 9,   -999.0,  -999.00, 9,   -999.0,   1.3640, 27.7452,   1.5994, 2, 2, 0.59, 0.14, 0.01, 0.017,  -999.00, 9, -999.00, -999.00, 9, -999.00
49NZ20071008, P14N, 9, 1, 11, X12047, 2, 20071025, 0840, 54.9975, -177.1813, 3778,   3421.6, 2,   1.5936, 2,  34.6631, 2,  34.6635, 2,     94.3, 2,     94.1, 2,   216.66, 2,    38.00, 2,     0.01, 2,     2.92, 2, -999.000, 9, -999.000, 9, -999.000, 9, -999.000, 9,   2379.9, 2,   2434.9, 2,    7.4931,     25.00,   -999.0, 9,   -999.0,  -999.00, 9,   -999.0,   1.3332, 27.7518,   1.5936, 2, 2, 0.60, 0.14, 0.01, 0.017,  -999.00, 9, -999.00, -999.00, 9, -999.00
49NZ20071008, P14N, 9, 1, 10, X12039, 9, 20071025, 0840, 54.9975, -177.1813, 3778,   3669.5, 2,   1.5917, 2,  34.6685, 2, -999.0000, 9,     97.6, 2,   -999.0, 9,  -999.00, 9,  -999.00, 9,  -999.00, 9,  -999.00, 9, -999.000, 9, -999.000, 9, -999.000, 9, -999.000, 9,   -999.0, 9,   -999.0, 9, -999.0000,   -999.00,   -999.0, 9,   -999.0,  -999.00, 9,   -999.0,   1.3057, 27.7581,   1.5916, 2, 9, -999.00, -999.00, -999.00, -999.000,  -999.00, 9, -999.00, -999.00, 9, -999.00
49NZ20071008, P14N, 9, 1, 9, X12015, 9, 20071025, 0840, 54.9975, -177.1813, 3778,     10.4, 2,   5.7482, 2,  32.9825, 2, -999.0000, 9,    302.8, 2,   -999.0, 9,  -999.00, 9,  -999.00, 9,  -999.00, 9,  -999.00, 9, -999.000, 9, -999.000, 9, -999.000, 9, -999.000, 9,   -999.0, 9,   -999.0, 9, -999.0000,   -999.00,   -999.0, 9,   -999.0,  -999.00, 9,   -999.0,   5.7474, 25.9894,   5.7479, 2, 9, -999.00, -999.00, -999.00, -999.000,  -999.00, 9, -999.00, -999.00, 9, -999.00
49NZ20071008, P14N, 9, 1, 8, X12046, 9, 20071025, 0840, 54.9975, -177.1813, 3778,   2329.2, 2,   1.7717, 2,  34.6126, 2, -999.0000, 9,     63.3, 2,   -999.0, 9,  -999.00, 9,  -999.00, 9,  -999.00, 9,  -999.00, 9, -999.000, 9, -999.000, 9, -999.000, 9, -999.000, 9,   -999.0, 9,   -999.0, 9, -999.0000,   -999.00,   -999.0, 9,   -999.0,  -999.00, 9,   -999.0,   1.6109, 27.6911,   1.7715, 2, 9, -999.00, -999.00, -999.00, -999.000,  -999.00, 9, -999.00, -999.00, 9, -999.00
49NZ20071008, P14N, 9, 1, 7, X12044, 9, 20071025, 0840, 54.9975, -177.1813, 3778,   2529.8, 2,   1.7094, 2,  34.6275, 2, -999.0000, 9,     71.3, 2,   -999.0, 9,  -999.00, 9,  -999.00, 9,  -999.00, 9,  -999.00, 9, -999.000, 9, -999.000, 9, -999.000, 9, -999.000, 9,   -999.0, 9,   -999.0, 9, -999.0000,   -999.00,   -999.0, 9,   -999.0,  -999.00, 9,   -999.0,   1.5320, 27.7089,   1.7094, 2, 9, -999.00, -999.00, -999.00, -999.000,  -999.00, 9, -999.00, -999.00, 9, -999.00
49NZ20071008, P14N, 9, 1, 6, X12048, 9, 20071025, 0840, 54.9975, -177.1813, 3778,   2729.5, 2,   1.6574, 2,  34.6401, 2, -999.0000, 9,     78.2, 2,   -999.0, 9,  -999.00, 9,  -999.00, 9,  -999.00, 9,  -999.00, 9, -999.000, 9, -999.000, 9, -999.000, 9, -999.000, 9,   -999.0, 9,   -999.0, 9, -999.0000,   -999.00,   -999.0, 9,   -999.0,  -999.00, 9,   -999.0,   1.4628, 27.7241,   1.6574, 2, 9, -999.00, -999.00, -999.00, -999.000,  -999.00, 9, -999.00, -999.00, 9, -999.00
49NZ20071008, P14N, 9, 1, 5, X12014, 9, 20071025, 0840, 54.9975, -177.1813, 3778,   2929.6, 2,   1.6247, 2,  34.6493, 2, -999.0000, 9,     85.1, 2,   -999.0, 9,  -999.00, 9,  -999.00, 9,  -999.00, 9,  -999.00, 9, -999.000, 9, -999.000, 9, -999.000, 9, -999.000, 9,   -999.0, 9,   -999.0, 9, -999.0000,   -999.00,   -999.0, 9,   -999.0,  -999.00, 9,   -999.0,   1.4120, 27.7351,   1.6247, 2, 9, -999.00, -999.00, -999.00, -999.000,  -999.00, 9, -999.00, -999.00, 9, -999.00
49NZ20071008, P14N, 9, 1, 4, X12006, 9, 20071025, 0840, 54.9975, -177.1813, 3778,   3170.5, 2,   1.5993, 2,  34.6577, 2, -999.0000, 9,     90.7, 2,   -999.0, 9,  -999.00, 9,  -999.00, 9,  -999.00, 9,  -999.00, 9, -999.000, 9, -999.000, 9, -999.000, 9, -999.000, 9,   -999.0, 9,   -999.0, 9, -999.0000,   -999.00,   -999.0, 9,   -999.0,  -999.00, 9,   -999.0,   1.3639, 27.7453,   1.5993, 2, 9, -999.00, -999.00, -999.00, -999.000,  -999.00, 9, -999.00, -999.00, 9, -999.00
49NZ20071008, P14N, 9, 1, 3, X12013, 9, 20071025, 0840, 54.9975, -177.1813, 3778,   3421.0, 2,   1.5937, 2,  34.6630, 2, -999.0000, 9,     94.3, 2,   -999.0, 9,  -999.00, 9,  -999.00, 9,  -999.00, 9,  -999.00, 9, -999.000, 9, -999.000, 9, -999.000, 9, -999.000, 9,   -999.0, 9,   -999.0, 9, -999.0000,   -999.00,   -999.0, 9,   -999.0,  -999.00, 9,   -999.0,   1.3334, 27.7517,   1.5936, 2, 9, -999.00, -999.00, -999.00, -999.000,  -999.00, 9, -999.00, -999.00, 9, -999.00
49NZ20071008, P14N, 9, 1, 2, X12002, 2, 20071025, 0840, 54.9975, -177.1813, 3778,   3669.6, 2,   1.5917, 2,  34.6685, 2,  34.6689, 2,     97.6, 2,     97.1, 2,   226.35, 2,    37.78, 2,     0.01, 2,     2.91, 2, -999.000, 9, -999.000, 9, -999.000, 9, -999.000, 9,   2380.1, 2,   2436.9, 2,    7.5011,     25.00,   -999.0, 9,   -999.0,  -999.00, 9,   -999.0,   1.3057, 27.7581,   1.5916, 2, 2, 0.62, 0.14, 0.01, 0.017,  -999.00, 9, -999.00, -999.00, 9, -999.00
49NZ20071008, P14N, 9, 1, 1, X12001, 2, 20071025, 0840, 54.9975, -177.1813, 3778,   3831.7, 2,   1.6058, 2,  34.6698, 2,  34.6702, 6,     98.5, 2,     97.9, 2,   232.29, 2,    37.75, 2,     0.01, 2,     2.91, 2, -999.000, 9, -999.000, 9, -999.000, 9, -999.000, 9,   2380.4, 2,   2440.2, 2,    7.5053,     25.00,   -999.0, 9,   -999.0,  -999.00, 9,   -999.0,   1.3022, 27.7593,   1.6056, 2, 2, 0.63, 0.14, 0.01, 0.017,  -999.00, 9, -999.00, -999.00, 9, -999.00