BOTTLE,20221005CCHSIOAMB
EXPOCODE,SECT_ID,STNNBR,CASTNO,SAMPNO,BTLNBR,BTLNBR_FLAG_W,DATE,TIME,LATITUDE,LONGITUDE,DEPTH,CTDPRS,CTDPRS_FLAG_W,CTDTMP,CTDTMP_FLAG_W,CTDSAL,CTDSAL_FLAG_W,SALNTY,SALNTY_FLAG_W,CTDOXY,CTDOXY_FLAG_W,OXYGEN,OXYGEN_FLAG_W,SILCAT,SILCAT_FLAG_W,NITRAT,NITRAT_FLAG_W,NITRIT,NITRIT_FLAG_W,PHSPHT,PHSPHT_FLAG_W,CFC-11,CFC-11_FLAG_W,CFC-12,CFC-12_FLAG_W,CFC113,CFC113_FLAG_W,CCL4,CCL4_FLAG_W,TCARBN,TCARBN_FLAG_W,ALKALI,ALKALI_FLAG_W,PH_TOT,PH_TMP,DELC14,DELC14_FLAG_W,C14ERR,DELC13,DELC13_FLAG_W,C13ERR,THETA,SIG0,SBE35,SBE35_FLAG_W,PH_TOT_FLAG_W,SILUNC,NRAUNC,NRIUNC,PHPUNC,CS-137,CS-137_FLAG_W,CS137ER,PLUTO,PLUTO_FLAG_W,PLUTOER
,,,,,,,,,,,METERS,DBAR,,ITS-90,,PSS-78,,PSS-78,,UMOL/KG,,UMOL/KG,,UMOL/KG,,UMOL/KG,,UMOL/KG,,UMOL/KG,,PMOL/KG,,PMOL/KG,,PMOL/KG,,PMOL/KG,,UMOL/KG,,UMOL/KG,,,DEG C,/MILLE,,/MILLE,/MILLE,,/MILLE,DEG C,KG/M^3,ITS-90,,,UMOL/KG,UMOL/KG,UMOL/KG,UMOL/KG,DM/.1MG,,BQ/M^3,MBQ/M^3,,MBQ/M^3
49NZ20071008, P14N, 85, 1, 36, X12042, 2, 20071113, 1044, 20.0057, 178.9997, 4149,      9.9, 2,  27.2634, 2,  35.1597, 2,  35.1604, 2,    200.4, 2,    201.4, 2,     0.79, 2,     0.07, 2,     0.00, 2,     0.05, 2,    1.573, 2,    0.967, 2,    0.358, 4, -999.000, 9,   1966.9, 2,   2314.4, 2,    8.1190,     25.00,   -999.0, 9,   -999.0,  -999.00, 9,   -999.0,  27.2611, 22.7544,  27.2585, 2, 6, 0.12, 0.03, 0.01, 0.035,  -999.00, 9, -999.00, -999.00, 9, -999.00
49NZ20071008, P14N, 85, 1, 35, X12041, 2, 20071113, 1044, 20.0057, 178.9997, 4149,     50.0, 2,  27.2238, 2,  35.1752, 2,  35.1773, 2,    201.1, 2,    202.2, 2,     0.71, 2,     0.06, 2,     0.00, 2,     0.05, 2,    1.582, 2,    0.962, 2,    0.431, 4, -999.000, 9,   1968.2, 6,   2315.6, 2,    8.1185,     25.00,   -999.0, 9,   -999.0,  -999.00, 9,   -999.0,  27.2123, 22.7818,  27.2232, 2, 2, 0.12, 0.03, 0.01, 0.034,  -999.00, 9, -999.00, -999.00, 9, -999.00
49NZ20071008, P14N, 85, 1, 34, X12016, 2, 20071113, 1044, 20.0057, 178.9997, 4149,    100.6, 2,  24.0624, 2,  35.2400, 2,  35.2374, 2,    201.4, 2,    203.4, 2,     1.03, 2,     0.07, 2,     0.01, 2,     0.07, 2,    1.896, 2,    1.154, 2,    0.533, 4, -999.000, 9,   2005.3, 2,   2319.2, 6,    8.0676,     25.00,   -999.0, 9,   -999.0,  -999.00, 9,   -999.0,  24.0412, 23.8108,  24.0630, 2, 2, 0.12, 0.03, 0.01, 0.028,  -999.00, 9, -999.00, -999.00, 9, -999.00
49NZ20071008, P14N, 85, 1, 33, X12033, 2, 20071113, 1044, 20.0057, 178.9997, 4149,    150.1, 2,  20.5276, 2,  35.0341, 2,  35.0384, 2,    187.5, 2,    186.4, 2,     2.11, 2,     2.19, 2,     0.02, 2,     0.25, 2,    2.192, 6,    1.287, 6,    0.155, 4, -999.000, 9,   2041.9, 2,   2306.8, 2,    7.9868,     25.00,   -999.0, 9,   -999.0,  -999.00, 9,   -999.0,  20.4993, 24.6550,  20.5417, 2, 2, 0.12, 0.04, 0.01, 0.015,  -999.00, 9, -999.00, -999.00, 9, -999.00
49NZ20071008, P14N, 85, 1, 32, X12038, 2, 20071113, 1044, 20.0057, 178.9997, 4149,    199.3, 2,  17.6000, 2,  34.7469, 2,  34.7391, 2,    182.2, 2,    183.7, 2,     4.34, 2,     5.63, 2,     0.01, 2,     0.48, 2,    2.486, 2,    1.421, 2,    0.058, 2, -999.000, 9,   2064.1, 2,   2288.6, 2,    7.9180,     25.00,   -999.0, 9,   -999.0,  -999.00, 9,   -999.0,  17.5664, 25.1842,  17.6001, 2, 2, 0.13, 0.05, 0.01, 0.013,  -999.00, 9, -999.00, -999.00, 9, -999.00
49NZ20071008, P14N, 85, 1, 31, X12003, 2, 20071113, 1044, 20.0057, 178.9997, 4149,    250.0, 2,  15.5923, 2,  34.5645, 2,  34.5533, 6,    186.4, 2,    187.1, 2,     6.63, 2,     7.96, 2,     0.01, 2,     0.64, 2,    2.663, 2,    1.511, 2,    0.041, 2, -999.000, 9,   2072.0, 2,   2276.8, 2,    7.8795,     25.00,   -999.0, 9,   -999.0,  -999.00, 9,   -999.0,  15.5535, 25.5135,  15.5917, 2, 2, 0.13, 0.06, 0.01, 0.013,  -999.00, 9, -999.00, -999.00, 9, -999.00
49NZ20071008, P14N, 85, 1, 30, X12008, 2, 20071113, 1044, 20.0057, 178.9997, 4149,    300.0, 2,  13.5519, 2,  34.4182, 2,  34.4119, 2,    193.9, 2,    195.5, 2,     9.92, 2,    10.53, 2,     0.01, 2,     0.80, 2,    2.773, 2,    1.562, 2,    0.044, 2, -999.000, 9,   2080.2, 2,   2271.0, 2,    7.8484,     25.00,   -999.0, 9,   -999.0,  -999.00, 9,   -999.0,  13.5096, 25.8390,  13.5573, 2, 2, 0.14, 0.06, 0.01, 0.013,  -999.00, 9, -999.00, -999.00, 9, -999.00
49NZ20071008, P14N, 85, 1, 29, X12035, 2, 20071113, 1044, 20.0057, 178.9997, 4149,    400.5, 2,  10.1558, 2,  34.1951, 2,  34.1932, 2,    159.5, 2,    159.9, 2,    23.67, 2,    19.96, 2,     0.00, 2,     1.49, 2,    2.641, 2,    1.379, 2,    0.054, 2, -999.000, 9,   2143.4, 2,   2270.1, 2,    7.6981,     25.00,   -999.0, 9,   -999.0,  -999.00, 9,   -999.0,  10.1089, 26.3049,  10.1559, 2, 2, 0.17, 0.09, 0.01, 0.014,  -999.00, 9, -999.00, -999.00, 9, -999.00
49NZ20071008, P14N, 85, 1, 28, X12034, 2, 20071113, 1044, 20.0057, 178.9997, 4149,    499.0, 2,   8.1906, 2,  34.1720, 2,  34.1713, 6,    108.3, 2,    107.2, 2,    40.86, 2,    28.61, 2,     0.00, 2,     2.13, 2,    1.713, 2,    0.827, 2,    0.052, 2, -999.000, 9,   2201.6, 3,   2284.0, 2,    7.5573,     25.00,   -999.0, 9,   -999.0,  -999.00, 9,   -999.0,   8.1390, 26.6028,   8.1914, 2, 2, 0.21, 0.11, 0.01, 0.015,  -999.00, 9, -999.00, -999.00, 9, -999.00
49NZ20071008, P14N, 85, 1, 27, X12049, 2, 20071113, 1044, 20.0057, 178.9997, 4149,    600.1, 2,   6.6076, 2,  34.2194, 2,  34.2192, 2,     63.4, 2,     65.0, 2,    61.35, 2,    35.44, 2,     0.00, 2,     2.62, 2,    0.689, 2,    0.338, 2,    0.020, 2, -999.000, 9,   2264.0, 2,   2305.9, 2,    7.4548,     25.00,   -999.0, 9,   -999.0,  -999.00, 9,   -999.0,   6.5523, 26.8643,   6.6087, 2, 2, 0.25, 0.13, 0.01, 0.017,  -999.00, 9, -999.00, -999.00, 9, -999.00
49NZ20071008, P14N, 85, 1, 26, X12032, 2, 20071113, 1044, 20.0057, 178.9997, 4149,    700.8, 2,   5.5712, 2,  34.2952, 2,  34.2967, 2,     50.0, 2,     50.1, 2,    78.06, 2,    38.93, 2,     0.01, 2,     2.85, 2,    0.252, 6,    0.128, 6,    0.007, 6, -999.000, 9,   2297.2, 6,   2328.5, 2,    7.4226,     25.00,   -999.0, 9,   -999.0,  -999.00, 9,   -999.0,   5.5115, 27.0561,   5.5754, 2, 2, 0.29, 0.14, 0.01, 0.017,  -999.00, 9, -999.00, -999.00, 9, -999.00
49NZ20071008, P14N, 85, 1, 25, X12043, 2, 20071113, 1044, 20.0057, 178.9997, 4149,    801.1, 2,   4.8819, 2,  34.3968, 2,  34.3973, 2,     48.8, 2,     48.0, 2,    90.25, 2,    40.55, 2,     0.00, 2,     2.94, 2,    0.065, 2,    0.037, 2,    0.000, 2, -999.000, 9,   2315.8, 2,   2348.0, 6,    7.4229,     25.00,   -999.0, 9,   -999.0,  -999.00, 9,   -999.0,   4.8172, 27.2179,   4.8824, 2, 2, 0.32, 0.15, 0.01, 0.017,  -999.00, 9, -999.00, -999.00, 9, -999.00
49NZ20071008, P14N, 85, 1, 24, X12030, 2, 20071113, 1044, 20.0057, 178.9997, 4149,    901.9, 2,   4.5177, 2,  34.4604, 2,  34.4602, 2,     56.5, 2,     54.7, 2,    96.61, 2,    40.49, 2,     0.00, 2,     2.93, 2,    0.022, 2,    0.013, 2,    0.000, 2, -999.000, 9,   2321.4, 2,   2359.1, 2,    7.4391,     25.00,   -999.0, 9,   -999.0,  -999.00, 9,   -999.0,   4.4466, 27.3095,   4.5180, 2, 6, 0.33, 0.15, 0.01, 0.017,  -999.00, 9, -999.00, -999.00, 9, -999.00
49NZ20071008, P14N, 85, 1, 23, X12027, 2, 20071113, 1044, 20.0057, 178.9997, 4149,   1001.4, 2,   4.0763, 2,  34.5086, 2,  34.5095, 6,     62.5, 2,     62.3, 2,   105.16, 2,    40.58, 2,     0.00, 2,     2.92, 2,    0.008, 2,    0.005, 2,    0.000, 2, -999.000, 9,   2329.8, 2,   2371.7, 2,    7.4529,     25.00,   -999.0, 9,   -999.0,  -999.00, 9,   -999.0,   3.9999, 27.3952,   4.0769, 2, 2, 0.35, 0.15, 0.01, 0.017,  -999.00, 9, -999.00, -999.00, 9, -999.00
49NZ20071008, P14N, 85, 1, 22, X12028, 2, 20071113, 1044, 20.0057, 178.9997, 4149,   1200.1, 2,   3.4416, 2,  34.5470, 2,  34.5476, 2,     69.7, 2,     70.1, 2,   117.67, 2,    40.65, 2,     0.00, 2,     2.92, 2,    0.003, 2,    0.002, 2,    0.000, 2, -999.000, 9,   2339.8, 2,   2386.2, 2,    7.4636,     25.00,   -999.0, 9,   -999.0,  -999.00, 9,   -999.0,   3.3541, 27.4903,   3.4417, 2, 2, 0.38, 0.15, 0.01, 0.017,  -999.00, 9, -999.00, -999.00, 9, -999.00
49NZ20071008, P14N, 85, 1, 21, X12009, 2, 20071113, 1044, 20.0057, 178.9997, 4149,   1401.0, 2,   2.9321, 2,  34.5713, 2,  34.5718, 2,     78.0, 2,     78.2, 2,   127.98, 2,    40.58, 2,     0.00, 2,     2.90, 2,    0.000, 2,    0.000, 2,    0.000, 2, -999.000, 9,   2348.6, 2,   2397.7, 2,    7.4744,     25.00,   -999.0, 9,   -999.0,  -999.00, 9,   -999.0,   2.8332, 27.5580,   2.9321, 2, 2, 0.40, 0.15, 0.01, 0.017,  -999.00, 9, -999.00, -999.00, 9, -999.00
49NZ20071008, P14N, 85, 1, 20, X12026, 2, 20071113, 1044, 20.0057, 178.9997, 4149,   1598.8, 2,   2.5916, 2,  34.5915, 2,  34.5920, 2,     85.8, 2,     85.8, 2,   135.05, 2,    40.14, 2,     0.00, 2,     2.85, 2,    0.000, 2,    0.000, 2,    0.000, 2, -999.000, 9,   2350.7, 2,   2404.6, 2,    7.4860,     25.00,   -999.0, 9,   -999.0,  -999.00, 9,   -999.0,   2.4804, 27.6050,   2.5916, 2, 6, 0.42, 0.15, 0.01, 0.017,  -999.00, 9, -999.00, -999.00, 9, -999.00
49NZ20071008, P14N, 85, 1, 19, X12025, 2, 20071113, 1044, 20.0057, 178.9997, 4149,   1801.0, 2,   2.2873, 2,  34.6103, 2,  34.6108, 2,     93.8, 2,     94.2, 2,   140.90, 2,    39.79, 2,     0.00, 2,     2.81, 2,    0.000, 2,    0.000, 2,    0.000, 2, -999.000, 9,   2350.5, 2,   2410.4, 2,    7.4996,     25.00,   -999.0, 9,   -999.0,  -999.00, 9,   -999.0,   2.1634, 27.6464,   2.2873, 2, 2, 0.43, 0.14, 0.01, 0.017,  -999.00, 9, -999.00, -999.00, 9, -999.00
49NZ20071008, P14N, 85, 1, 18, X12024, 2, 20071113, 1044, 20.0057, 178.9997, 4149,   2001.4, 2,   2.0454, 2,  34.6283, 2,  34.6286, 6,    103.2, 2,    103.2, 2,   145.27, 2,    39.31, 2,     0.01, 2,     2.78, 2,    0.000, 2,    0.000, 2,    0.000, 2, -999.000, 9,   2353.5, 2,   2414.9, 2,    7.5139,     25.00,   -999.0, 9,   -999.0,  -999.00, 9,   -999.0,   1.9082, 27.6811,   2.0454, 2, 2, 0.44, 0.14, 0.01, 0.017,  -999.00, 9, -999.00, -999.00, 9, -999.00
49NZ20071008, P14N, 85, 1, 17, X12023, 2, 20071113, 1044, 20.0057, 178.9997, 4149,   2201.2, 2,   1.9169, 2,  34.6368, 2,  34.6365, 2,    108.5, 2,    108.6, 2,   147.31, 2,    38.98, 2,     0.00, 2,     2.76, 2,    0.001, 2,    0.000, 2,    0.000, 2, -999.000, 9,   2348.9, 2,   2417.2, 2,    7.5223,     25.00,   -999.0, 9,   -999.0,  -999.00, 9,   -999.0,   1.7647, 27.6990,   1.9164, 2, 2, 0.44, 0.14, 0.01, 0.017,  -999.00, 9, -999.00, -999.00, 9, -999.00
49NZ20071008, P14N, 85, 1, 16, X12022, 2, 20071113, 1044, 20.0057, 178.9997, 4149,   2400.9, 2,   1.7546, 2,  34.6472, 2,  34.6471, 2,    116.0, 2,    116.3, 2,   149.60, 2,    38.62, 2,     0.00, 2,     2.71, 2,    0.000, 2,    0.000, 2,    0.000, 2, -999.000, 9,   2348.3, 6,   2419.8, 2,    7.5334,     25.00,   -999.0, 9,   -999.0,  -999.00, 9,   -999.0,   1.5877, 27.7206,   1.7546, 2, 2, 0.45, 0.14, 0.01, 0.017,  -999.00, 9, -999.00, -999.00, 9, -999.00
49NZ20071008, P14N, 85, 1, 15, X12021, 2, 20071113, 1044, 20.0057, 178.9997, 4149,   2598.7, 2,   1.6578, 2,  34.6561, 2,  34.6565, 2,    123.0, 2,    123.1, 2,   150.15, 2,    38.09, 2,     0.01, 2,     2.68, 2, -999.000, 9, -999.000, 9, -999.000, 9, -999.000, 9,   2346.7, 2,   2420.1, 6,    7.5450,     25.00,   -999.0, 9,   -999.0,  -999.00, 9,   -999.0,   1.4750, 27.7360,   1.6579, 2, 2, 0.45, 0.14, 0.01, 0.017,  -999.00, 9, -999.00, -999.00, 9, -999.00
49NZ20071008, P14N, 85, 1, 14, X12020, 2, 20071113, 1044, 20.0057, 178.9997, 4149,   2801.4, 2,   1.6032, 2,  34.6623, 2,  34.6625, 2,    128.0, 2,    128.3, 2,   149.80, 2,    37.72, 2,     0.01, 2,     2.64, 2,    0.000, 2,    0.000, 2,    0.000, 2, -999.000, 9,   2341.7, 2,   2420.5, 2,    7.5533,     25.00,   -999.0, 9,   -999.0,  -999.00, 9,   -999.0,   1.4029, 27.7462,   1.6033, 2, 6, 0.45, 0.14, 0.01, 0.017,  -999.00, 9, -999.00, -999.00, 9, -999.00
49NZ20071008, P14N, 85, 1, 13, X12019, 2, 20071113, 1044, 20.0057, 178.9997, 4149,   3000.2, 2,   1.5698, 2,  34.6670, 2,  34.6668, 6,    132.2, 2,    132.7, 2,   149.14, 2,    37.53, 2,     0.00, 2,     2.63, 2, -999.000, 9, -999.000, 9, -999.000, 9, -999.000, 9,   2337.2, 2,   2419.9, 2,    7.5601,     25.00,   -999.0, 9,   -999.0,  -999.00, 9,   -999.0,   1.3515, 27.7536,   1.5700, 2, 2, 0.45, 0.14, 0.01, 0.017,  -999.00, 9, -999.00, -999.00, 9, -999.00
49NZ20071008, P14N, 85, 1, 12, X12040, 2, 20071113, 1044, 20.0057, 178.9997, 4149,   3249.8, 2,   1.5305, 2,  34.6725, 2,  34.6723, 2,    138.5, 2,    138.8, 2,   147.22, 2,    37.14, 2,     0.00, 2,     2.59, 2, -999.000, 9, -999.000, 9, -999.000, 9, -999.000, 9,   2334.3, 2,   2419.9, 2,    7.5696,     25.00,   -999.0, 9,   -999.0,  -999.00, 9,   -999.0,   1.2888, 27.7624,   1.5304, 2, 2, 0.44, 0.14, 0.01, 0.016,  -999.00, 9, -999.00, -999.00, 9, -999.00
49NZ20071008, P14N, 85, 1, 11, X12047, 2, 20071113, 1044, 20.0057, 178.9997, 4149,   3499.2, 2,   1.5080, 2,  34.6769, 2,  34.6768, 2,    143.7, 2,    143.6, 2,   145.99, 2,    36.75, 2,     0.00, 2,     2.56, 2,    0.001, 2,    0.001, 2,    0.000, 2, -999.000, 9,   2330.4, 2,   2418.5, 2,    7.5776,     25.00,   -999.0, 9,   -999.0,  -999.00, 9,   -999.0,   1.2418, 27.7692,   1.5080, 2, 2, 0.44, 0.14, 0.01, 0.016,  -999.00, 9, -999.00, -999.00, 9, -999.00
49NZ20071008, P14N, 85, 1, 10, X12012, 2, 20071113, 1044, 20.0057, 178.9997, 4149,   3749.5, 2,   1.4771, 2,  34.6814, 2,  34.6813, 2,    149.6, 2,    149.8, 2,   144.03, 2,    36.34, 2,     0.00, 2,     2.53, 2, -999.000, 9, -999.000, 9, -999.000, 9, -999.000, 9,   2328.3, 2,   2416.9, 2,    7.5860,     25.00,   -999.0, 9,   -999.0,  -999.00, 9,   -999.0,   1.1857, 27.7768,   1.4771, 2, 2, 0.44, 0.13, 0.01, 0.016,  -999.00, 9, -999.00, -999.00, 9, -999.00
49NZ20071008, P14N, 85, 1, 9, X12015, 2, 20071113, 1044, 20.0057, 178.9997, 4149,   4000.6, 2,   1.4637, 2,  34.6850, 2,  34.6849, 2,    154.4, 2,    154.5, 2,   142.04, 2,    35.97, 2,     0.00, 2,     2.51, 2,    0.003, 2,    0.002, 2,    0.000, 2, -999.000, 9,   2322.6, 2,   2415.2, 2,    7.5923,     25.00,   -999.0, 9,   -999.0,  -999.00, 9,   -999.0,   1.1458, 27.7824,   1.4637, 2, 2, 0.43, 0.13, 0.01, 0.016,  -999.00, 9, -999.00, -999.00, 9, -999.00
49NZ20071008, P14N, 85, 1, 8, X12046, 9, 20071113, 1044, 20.0057, 178.9997, 4149,      9.8, 2,  27.2583, 2,  35.1599, 2, -999.0000, 9,    200.5, 2,   -999.0, 9,  -999.00, 9,  -999.00, 9,  -999.00, 9,  -999.00, 9, -999.000, 9, -999.000, 9, -999.000, 9, -999.000, 9,   -999.0, 9,   -999.0, 9, -999.0000,   -999.00,   -999.0, 9,   -999.0,  -999.00, 9,   -999.0,  27.2560, 22.7562,  27.2618, 2, 9, -999.00, -999.00, -999.00, -999.000,  -999.00, 9, -999.00, -999.00, 9, -999.00
49NZ20071008, P14N, 85, 1, 7, X12044, 9, 20071113, 1044, 20.0057, 178.9997, 4149,     50.0, 2,  27.2175, 2,  35.1760, 2, -999.0000, 9,    200.7, 2,   -999.0, 9,  -999.00, 9,  -999.00, 9,  -999.00, 9,  -999.00, 9, -999.000, 9, -999.000, 9, -999.000, 9, -999.000, 9,   -999.0, 9,   -999.0, 9, -999.0000,   -999.00,   -999.0, 9,   -999.0,  -999.00, 9,   -999.0,  27.2060, 22.7844,  27.2162, 2, 9, -999.00, -999.00, -999.00, -999.000,  -999.00, 9, -999.00, -999.00, 9, -999.00
49NZ20071008, P14N, 85, 1, 6, X12048, 9, 20071113, 1044, 20.0057, 178.9997, 4149,    100.1, 2,  24.0369, 2,  35.2359, 2, -999.0000, 9,    201.5, 2,   -999.0, 9,  -999.00, 9,  -999.00, 9,  -999.00, 9,  -999.00, 9, -999.000, 9, -999.000, 9, -999.000, 9, -999.000, 9,   -999.0, 9,   -999.0, 9, -999.0000,   -999.00,   -999.0, 9,   -999.0,  -999.00, 9,   -999.0,  24.0158, 23.8153,  24.0612, 2, 9, -999.00, -999.00, -999.00, -999.000,  -999.00, 9, -999.00, -999.00, 9, -999.00
49NZ20071008, P14N, 85, 1, 5, X12014, 9, 20071113, 1044, 20.0057, 178.9997, 4149,    149.8, 2,  20.4676, 2,  35.0266, 2, -999.0000, 9,    187.5, 2,   -999.0, 9,  -999.00, 9,  -999.00, 9,  -999.00, 9,  -999.00, 9, -999.000, 9, -999.000, 9, -999.000, 9, -999.000, 9,   -999.0, 9,   -999.0, 9, -999.0000,   -999.00,   -999.0, 9,   -999.0,  -999.00, 9,   -999.0,  20.4395, 24.6653,  20.4576, 2, 9, -999.00, -999.00, -999.00, -999.000,  -999.00, 9, -999.00, -999.00, 9, -999.00
49NZ20071008, P14N, 85, 1, 4, X12006, 9, 20071113, 1044, 20.0057, 178.9997, 4149,    199.0, 2,  17.5531, 2,  34.7441, 2, -999.0000, 9,    182.1, 2,   -999.0, 9,  -999.00, 9,  -999.00, 9,  -999.00, 9,  -999.00, 9, -999.000, 9, -999.000, 9, -999.000, 9, -999.000, 9,   -999.0, 9,   -999.0, 9, -999.0000,   -999.00,   -999.0, 9,   -999.0,  -999.00, 9,   -999.0,  17.5196, 25.1933,  17.5581, 2, 9, -999.00, -999.00, -999.00, -999.000,  -999.00, 9, -999.00, -999.00, 9, -999.00
49NZ20071008, P14N, 85, 1, 3, X12013, 9, 20071113, 1044, 20.0057, 178.9997, 4149,    249.6, 2,  15.5816, 2,  34.5629, 2, -999.0000, 9,    186.4, 2,   -999.0, 9,  -999.00, 9,  -999.00, 9,  -999.00, 9,  -999.00, 9, -999.000, 9, -999.000, 9, -999.000, 9, -999.000, 9,   -999.0, 9,   -999.0, 9, -999.0000,   -999.00,   -999.0, 9,   -999.0,  -999.00, 9,   -999.0,  15.5429, 25.5147,  15.5821, 2, 9, -999.00, -999.00, -999.00, -999.000,  -999.00, 9, -999.00, -999.00, 9, -999.00
49NZ20071008, P14N, 85, 1, 2, X12002, 9, 20071113, 1044, 20.0057, 178.9997, 4149,    299.5, 2,  13.5619, 2,  34.4188, 2, -999.0000, 9,    193.9, 2,   -999.0, 9,  -999.00, 9,  -999.00, 9,  -999.00, 9,  -999.00, 9, -999.000, 9, -999.000, 9, -999.000, 9, -999.000, 9,   -999.0, 9,   -999.0, 9, -999.0000,   -999.00,   -999.0, 9,   -999.0,  -999.00, 9,   -999.0,  13.5196, 25.8374,  13.5638, 2, 9, -999.00, -999.00, -999.00, -999.000,  -999.00, 9, -999.00, -999.00, 9, -999.00
49NZ20071008, P14N, 85, 1, 1, X12001, 2, 20071113, 1044, 20.0057, 178.9997, 4149,   4221.6, 2,   1.4648, 2,  34.6868, 2,  34.6869, 6,    157.2, 2,    157.1, 2,   140.75, 2,    35.79, 2,     0.00, 2,     2.49, 2,    0.002, 2,    0.000, 2,    0.000, 2, -999.000, 9,   2318.5, 2,   2414.2, 2,    7.5962,     25.00,   -999.0, 9,   -999.0,  -999.00, 9,   -999.0,   1.1225, 27.7854,   1.4648, 2, 2, 0.43, 0.13, 0.01, 0.016,  -999.00, 9, -999.00, -999.00, 9, -999.00