BOTTLE,20221005CCHSIOAMB
EXPOCODE,SECT_ID,STNNBR,CASTNO,SAMPNO,BTLNBR,BTLNBR_FLAG_W,DATE,TIME,LATITUDE,LONGITUDE,DEPTH,CTDPRS,CTDPRS_FLAG_W,CTDTMP,CTDTMP_FLAG_W,CTDSAL,CTDSAL_FLAG_W,SALNTY,SALNTY_FLAG_W,CTDOXY,CTDOXY_FLAG_W,OXYGEN,OXYGEN_FLAG_W,SILCAT,SILCAT_FLAG_W,NITRAT,NITRAT_FLAG_W,NITRIT,NITRIT_FLAG_W,PHSPHT,PHSPHT_FLAG_W,CFC-11,CFC-11_FLAG_W,CFC-12,CFC-12_FLAG_W,CFC113,CFC113_FLAG_W,CCL4,CCL4_FLAG_W,TCARBN,TCARBN_FLAG_W,ALKALI,ALKALI_FLAG_W,PH_TOT,PH_TMP,DELC14,DELC14_FLAG_W,C14ERR,DELC13,DELC13_FLAG_W,C13ERR,THETA,SIG0,SBE35,SBE35_FLAG_W,PH_TOT_FLAG_W,SILUNC,NRAUNC,NRIUNC,PHPUNC,CS-137,CS-137_FLAG_W,CS137ER,PLUTO,PLUTO_FLAG_W,PLUTOER
,,,,,,,,,,,METERS,DBAR,,ITS-90,,PSS-78,,PSS-78,,UMOL/KG,,UMOL/KG,,UMOL/KG,,UMOL/KG,,UMOL/KG,,UMOL/KG,,PMOL/KG,,PMOL/KG,,PMOL/KG,,PMOL/KG,,UMOL/KG,,UMOL/KG,,,DEG C,/MILLE,,/MILLE,/MILLE,,/MILLE,DEG C,KG/M^3,ITS-90,,,UMOL/KG,UMOL/KG,UMOL/KG,UMOL/KG,DM/.1MG,,BQ/M^3,MBQ/M^3,,MBQ/M^3
49NZ20071008, P14N, 28, 1, 36, X12042, 2, 20071021, 0859, 48.4878, 178.9898, 5536,     10.5, 2,   8.3160, 2,  32.7386, 2,  32.7390, 2,    292.9, 2,    292.3, 2,    24.18, 2,    14.65, 2,     0.29, 2,     1.38, 2,    3.943, 2,    2.191, 2,    0.402, 2, -999.000, 9,   2043.2, 2,   2210.3, 2,    7.8238,     25.00,   -999.0, 9,   -999.0,  -999.00, 9,   -999.0,   8.3150, 25.4519,   8.3162, 2, 6, 0.17, 0.07, 0.01, 0.014,  -999.00, 9, -999.00, -999.00, 9, -999.00
49NZ20071008, P14N, 28, 1, 35, X12041, 2, 20071021, 0859, 48.4878, 178.9898, 5536,     49.9, 2,   8.1723, 2,  32.7483, 2,  32.7508, 2,    293.5, 2,    293.5, 2,    24.35, 2,    14.85, 2,     0.29, 2,     1.40, 2,    3.985, 2,    2.204, 2,    0.359, 2, -999.000, 9,   2046.5, 6,   2210.8, 2,    7.8194,     25.00,   -999.0, 9,   -999.0,  -999.00, 9,   -999.0,   8.1674, 25.4813,   8.1687, 2, 2, 0.17, 0.07, 0.01, 0.014,  -999.00, 9, -999.00, -999.00, 9, -999.00
49NZ20071008, P14N, 28, 1, 34, X12016, 2, 20071021, 0859, 48.4878, 178.9898, 5536,     99.1, 2,   3.6920, 2,  33.0712, 2,  33.0734, 2,    309.7, 2,    308.2, 2,    33.12, 2,    20.91, 2,     0.02, 2,     1.70, 2,    5.156, 2,    2.804, 2,    0.495, 2, -999.000, 9,   2110.1, 2,   2230.6, 6,    7.7097,     25.00,   -999.0, 9,   -999.0,  -999.00, 9,   -999.0,   3.6857, 26.2827,   3.6897, 2, 2, 0.19, 0.09, 0.01, 0.014,  -999.00, 9, -999.00, -999.00, 9, -999.00
49NZ20071008, P14N, 28, 1, 33, X12033, 2, 20071021, 0859, 48.4878, 178.9898, 5536,    150.4, 2,   3.1499, 2,  33.4689, 2,  33.4728, 2,    237.1, 2,    208.9, 2,    57.74, 2,    30.82, 2,     0.02, 2,     2.32, 2,    4.243, 6,    2.240, 6,    0.332, 6, -999.000, 9,   2204.6, 2,   2263.5, 2,    7.5245,     25.00,   -999.0, 9,   -999.0,  -999.00, 9,   -999.0,   3.1408, 26.6503,   3.1497, 2, 2, 0.25, 0.12, 0.01, 0.016,  -999.00, 9, -999.00, -999.00, 9, -999.00
49NZ20071008, P14N, 28, 1, 32, X12038, 2, 20071021, 0859, 48.4878, 178.9898, 5536,    200.0, 2,   2.9953, 2,  33.6409, 2,  33.6409, 2,    152.8, 2,    137.6, 2,    75.69, 2,    37.11, 2,     0.01, 2,     2.71, 2,    3.456, 2,    1.774, 2,    0.245, 2, -999.000, 9,   2260.1, 2,   2280.6, 2,    7.4026,     25.00,   -999.0, 9,   -999.0,  -999.00, 9,   -999.0,   2.9833, 26.8017,   2.9947, 2, 2, 0.29, 0.14, 0.01, 0.017,  -999.00, 9, -999.00, -999.00, 9, -999.00
49NZ20071008, P14N, 28, 1, 31, X12003, 2, 20071021, 0859, 48.4878, 178.9898, 5536,    250.5, 2,   3.2287, 2,  33.7718, 2,  33.7732, 6,    104.2, 2,     92.6, 2,    85.87, 2,    40.16, 2,     0.01, 2,     2.90, 2,    2.738, 2,    1.366, 2,    0.194, 2, -999.000, 9,   2293.7, 2,   2291.8, 2,    7.3428,     25.00,   -999.0, 9,   -999.0,  -999.00, 9,   -999.0,   3.2130, 26.8853,   3.2283, 2, 2, 0.31, 0.15, 0.01, 0.017,  -999.00, 9, -999.00, -999.00, 9, -999.00
49NZ20071008, P14N, 28, 1, 30, X12008, 2, 20071021, 0859, 48.4878, 178.9898, 5536,    299.8, 2,   3.4089, 2,  33.8693, 2,  33.8706, 2,     46.4, 2,     70.8, 2,    92.15, 2,    41.20, 2,     0.01, 2,     2.96, 2,    2.311, 2,    1.138, 2,    0.163, 2, -999.000, 9,   2307.0, 2,   2301.3, 2,    7.3288,     25.00,   -999.0, 9,   -999.0,  -999.00, 9,   -999.0,   3.3896, 26.9467,   3.4088, 2, 2, 0.32, 0.15, 0.01, 0.017,  -999.00, 9, -999.00, -999.00, 9, -999.00
49NZ20071008, P14N, 28, 1, 29, X12035, 2, 20071021, 0859, 48.4878, 178.9898, 5536,    400.7, 2,   3.5535, 2,  34.0408, 2,  34.0400, 2,     37.1, 2,     31.9, 2,   106.58, 2,    43.70, 2,     0.01, 2,     3.12, 2,    1.343, 2,    0.640, 2,    0.087, 2, -999.000, 9,   2337.7, 2,   2320.6, 2,    7.2923,     25.00,   -999.0, 9,   -999.0,  -999.00, 9,   -999.0,   3.5267, 27.0702,   3.5532, 2, 2, 0.35, 0.16, 0.01, 0.018,  -999.00, 9, -999.00, -999.00, 9, -999.00
49NZ20071008, P14N, 28, 1, 28, X12034, 2, 20071021, 0859, 48.4878, 178.9898, 5536,    502.5, 2,   3.5329, 2,  34.1453, 2,  34.1438, 6,     23.5, 2,     31.3, 2,   114.32, 2,    43.07, 2,     0.01, 2,     3.08, 2,    0.903, 2,    0.428, 2,    0.053, 2, -999.000, 9,   2343.6, 2,   2337.1, 2,    7.3154,     25.00,   -999.0, 9,   -999.0,  -999.00, 9,   -999.0,   3.4989, 27.1561,   3.5327, 2, 2, 0.37, 0.15, 0.01, 0.018,  -999.00, 9, -999.00, -999.00, 9, -999.00
49NZ20071008, P14N, 28, 1, 27, X12049, 2, 20071021, 0859, 48.4878, 178.9898, 5536,    600.4, 2,   3.3971, 2,  34.2201, 2,  34.2183, 2,     18.1, 2,     17.9, 2,   123.48, 2,    44.35, 2,     0.01, 2,     3.15, 2,    0.496, 2,    0.230, 2,    0.033, 2, -999.000, 9,   2360.8, 2,   2348.6, 2,    7.3040,     25.00,   -999.0, 9,   -999.0,  -999.00, 9,   -999.0,   3.3566, 27.2294,   3.3970, 2, 2, 0.39, 0.16, 0.01, 0.018,  -999.00, 9, -999.00, -999.00, 9, -999.00
49NZ20071008, P14N, 28, 1, 26, X12032, 2, 20071021, 0859, 48.4878, 178.9898, 5536,    701.5, 2,   3.2072, 2,  34.2764, 2,  34.2760, 2,     20.7, 2,     21.5, 2,   130.63, 2,    43.95, 2,     0.01, 2,     3.13, 2,    0.372, 6,    0.175, 6,    0.029, 6, -999.000, 9,   2364.6, 6,   2358.4, 2,    7.3194,     25.00,   -999.0, 9,   -999.0,  -999.00, 9,   -999.0,   3.1603, 27.2927,   3.2067, 2, 2, 0.41, 0.16, 0.01, 0.018,  -999.00, 9, -999.00, -999.00, 9, -999.00
49NZ20071008, P14N, 28, 1, 25, X12043, 2, 20071021, 0859, 48.4878, 178.9898, 5536,    801.2, 2,   3.0361, 2,  34.3263, 2,  34.3254, 2,     25.8, 2,     26.4, 2,   136.16, 2,    43.50, 2,     0.01, 2,     3.12, 2,    0.293, 2,    0.137, 2,    0.021, 2, -999.000, 9,   2367.7, 2,   2367.6, 6,    7.3345,     25.00,   -999.0, 9,   -999.0,  -999.00, 9,   -999.0,   2.9830, 27.3489,   3.0362, 2, 2, 0.42, 0.15, 0.01, 0.018,  -999.00, 9, -999.00, -999.00, 9, -999.00
49NZ20071008, P14N, 28, 1, 24, X12030, 2, 20071021, 0859, 48.4878, 178.9898, 5536,    901.3, 2,   2.8728, 2,  34.3665, 2,  34.3656, 2,     23.5, 2,     23.2, 2,   142.26, 2,    43.87, 2,     0.01, 2,     3.13, 2,    0.183, 2,    0.085, 2,    0.011, 2, -999.000, 9,   2374.9, 2,   2375.1, 2,    7.3324,     25.00,   -999.0, 9,   -999.0,  -999.00, 9,   -999.0,   2.8134, 27.3961,   2.8725, 2, 6, 0.43, 0.16, 0.01, 0.018,  -999.00, 9, -999.00, -999.00, 9, -999.00
49NZ20071008, P14N, 28, 1, 23, X12027, 2, 20071021, 0859, 48.4878, 178.9898, 5536,   1002.1, 2,   2.7419, 2,  34.4004, 2,  34.4001, 6,     25.1, 2,     24.5, 2,   146.83, 2,    43.83, 2,     0.01, 2,     3.13, 2,    0.129, 2,    0.061, 2,    0.000, 2, -999.000, 9,   2379.1, 2,   2380.7, 2,    7.3392,     25.00,   -999.0, 9,   -999.0,  -999.00, 9,   -999.0,   2.6760, 27.4353,   2.7416, 2, 2, 0.44, 0.16, 0.01, 0.018,  -999.00, 9, -999.00, -999.00, 9, -999.00
49NZ20071008, P14N, 28, 1, 22, X12028, 2, 20071021, 0859, 48.4878, 178.9898, 5536,   1202.7, 2,   2.5028, 2,  34.4560, 2,  34.4555, 2,     29.7, 2,     28.6, 2,   154.41, 2,    43.72, 2,     0.01, 2,     3.11, 2,    0.065, 2,    0.031, 2,    0.007, 2, -999.000, 9,   2385.4, 2,   2391.0, 2,    7.3508,     25.00,   -999.0, 9,   -999.0,  -999.00, 9,   -999.0,   2.4240, 27.5013,   2.5024, 2, 2, 0.46, 0.16, 0.01, 0.018,  -999.00, 9, -999.00, -999.00, 9, -999.00
49NZ20071008, P14N, 28, 1, 21, X12009, 2, 20071021, 0859, 48.4878, 178.9898, 5536,   1401.9, 2,   2.2905, 2,  34.5049, 2,  34.5038, 2,     37.3, 2,     37.0, 2,   159.65, 2,    43.22, 2,     0.01, 2,     3.07, 2,    0.032, 2,    0.015, 2,    0.000, 2, -999.000, 9,   2385.6, 2,   2398.9, 2,    7.3719,     25.00,   -999.0, 9,   -999.0,  -999.00, 9,   -999.0,   2.1986, 27.5591,   2.2905, 2, 2, 0.47, 0.15, 0.01, 0.018,  -999.00, 9, -999.00, -999.00, 9, -999.00
49NZ20071008, P14N, 28, 1, 20, X12026, 2, 20071021, 0859, 48.4878, 178.9898, 5536,   1600.2, 2,   2.1370, 2,  34.5410, 2,  34.5405, 2,     48.1, 2,     47.6, 2,   162.50, 2,    42.69, 2,     0.01, 2,     3.03, 2,    0.014, 2,    0.008, 2,    0.000, 2, -999.000, 9,   2383.4, 2,   2405.4, 2,    7.3964,     25.00,   -999.0, 9,   -999.0,  -999.00, 9,   -999.0,   2.0314, 27.6015,   2.1369, 2, 6, 0.48, 0.15, 0.01, 0.018,  -999.00, 9, -999.00, -999.00, 9, -999.00
49NZ20071008, P14N, 28, 1, 19, X12025, 2, 20071021, 0859, 48.4878, 178.9898, 5536,   1802.1, 2,   2.0053, 2,  34.5694, 2,  34.5691, 2,     58.1, 2,     56.7, 2,   164.77, 2,    42.19, 2,     0.01, 2,     2.98, 2,    0.006, 2,    0.002, 2,    0.000, 2, -999.000, 9,   2381.4, 2,   2409.0, 2,    7.4147,     25.00,   -999.0, 9,   -999.0,  -999.00, 9,   -999.0,   1.8853, 27.6357,   2.0053, 2, 2, 0.48, 0.15, 0.01, 0.017,  -999.00, 9, -999.00, -999.00, 9, -999.00
49NZ20071008, P14N, 28, 1, 18, X12024, 2, 20071021, 0859, 48.4878, 178.9898, 5536,   2002.1, 2,   1.9001, 2,  34.5923, 2,  34.5916, 2,     68.7, 2,     67.3, 2,   165.67, 2,    41.54, 2,     0.01, 2,     2.93, 2,    0.003, 2,    0.003, 2,    0.000, 2, -999.000, 9,   2375.7, 2,   2413.8, 2,    7.4355,     25.00,   -999.0, 9,   -999.0,  -999.00, 9,   -999.0,   1.7651, 27.6632,   1.9003, 2, 2, 0.48, 0.15, 0.01, 0.017,  -999.00, 9, -999.00, -999.00, 9, -999.00
49NZ20071008, P14N, 28, 1, 17, X12023, 2, 20071021, 0859, 48.4878, 178.9898, 5536,   2200.7, 2,   1.7993, 2,  34.6124, 2,  34.6121, 2,     81.0, 2,     79.4, 2,   165.60, 2,    40.83, 2,     0.01, 2,     2.88, 2,    0.000, 2,    0.000, 2,    0.000, 2, -999.000, 9,   2371.6, 2,   2416.0, 2,    7.4594,     25.00,   -999.0, 9,   -999.0,  -999.00, 9,   -999.0,   1.6491, 27.6881,   1.7994, 2, 2, 0.48, 0.15, 0.01, 0.017,  -999.00, 9, -999.00, -999.00, 9, -999.00
49NZ20071008, P14N, 28, 1, 16, X12022, 2, 20071021, 0859, 48.4878, 178.9898, 5536,   2401.0, 2,   1.7141, 2,  34.6286, 2,  34.6281, 2,     91.2, 2,     90.7, 2,   165.20, 2,    40.01, 2,     0.01, 2,     2.84, 2,    0.000, 2,    0.000, 2,    0.000, 2, -999.000, 9,   2365.1, 6,   2417.8, 2,    7.4797,     25.00,   -999.0, 9,   -999.0,  -999.00, 9,   -999.0,   1.5480, 27.7086,   1.7141, 2, 2, 0.48, 0.14, 0.01, 0.017,  -999.00, 9, -999.00, -999.00, 9, -999.00
49NZ20071008, P14N, 28, 1, 15, X12021, 2, 20071021, 0859, 48.4878, 178.9898, 5536,   2601.2, 2,   1.6526, 2,  34.6409, 2,  34.6403, 6,    100.4, 2,    100.4, 2,   164.18, 2,    39.51, 2,     0.01, 2,     2.78, 2, -999.000, 9, -999.000, 9, -999.000, 9, -999.000, 9,   2359.3, 2,   2419.1, 2,    7.5002,     25.00,   -999.0, 9,   -999.0,  -999.00, 9,   -999.0,   1.4698, 27.7242,   1.6528, 2, 2, 0.48, 0.14, 0.01, 0.017,  -999.00, 9, -999.00, -999.00, 9, -999.00
49NZ20071008, P14N, 28, 1, 14, X12020, 2, 20071021, 0859, 48.4878, 178.9898, 5536,   2799.8, 2,   1.6018, 2,  34.6509, 2,  34.6504, 2,    109.6, 2,    109.7, 2,   162.46, 2,    38.84, 2,     0.01, 2,     2.74, 2, -999.000, 9, -999.000, 9, -999.000, 9, -999.000, 9,   2352.7, 2,   2419.4, 2,    7.5160,     25.00,   -999.0, 9,   -999.0,  -999.00, 9,   -999.0,   1.4018, 27.7371,   1.6019, 2, 6, 0.48, 0.14, 0.01, 0.017,  -999.00, 9, -999.00, -999.00, 9, -999.00
49NZ20071008, P14N, 28, 1, 13, X12019, 2, 20071021, 0859, 48.4878, 178.9898, 5536,   2999.7, 2,   1.5627, 2,  34.6590, 2,  34.6586, 2,    117.9, 2,    117.6, 2,   160.76, 2,    38.37, 2,     0.01, 2,     2.70, 2,    0.000, 2,    0.000, 2,    0.000, 2, -999.000, 9,   2348.5, 2,   2420.4, 2,    7.5306,     25.00,   -999.0, 9,   -999.0,  -999.00, 9,   -999.0,   1.3446, 27.7477,   1.5628, 2, 2, 0.47, 0.14, 0.01, 0.017,  -999.00, 9, -999.00, -999.00, 9, -999.00
49NZ20071008, P14N, 28, 1, 12, X12040, 2, 20071021, 0859, 48.4878, 178.9898, 5536,   3252.1, 2,   1.5161, 2,  34.6680, 2,  34.6679, 2,    127.5, 2,    127.8, 2,   157.91, 2,    37.75, 2,     0.01, 2,     2.64, 2, -999.000, 9, -999.000, 9, -999.000, 9, -999.000, 9,   2340.9, 2,   2419.7, 2,    7.5496,     25.00,   -999.0, 9,   -999.0,  -999.00, 9,   -999.0,   1.2745, 27.7599,   1.5162, 2, 2, 0.47, 0.14, 0.01, 0.017,  -999.00, 9, -999.00, -999.00, 9, -999.00
49NZ20071008, P14N, 28, 1, 11, X12047, 2, 20071021, 0859, 48.4878, 178.9898, 5536,   3501.3, 2,   1.4825, 2,  34.6748, 2,  34.6749, 2,    135.8, 2,    136.0, 2,   156.21, 2,    37.16, 2,     0.01, 2,     2.61, 2, -999.000, 9, -999.000, 9, -999.000, 9, -999.000, 9,   2335.6, 2,   2419.1, 2,    7.5648,     25.00,   -999.0, 9,   -999.0,  -999.00, 9,   -999.0,   1.2167, 27.7694,   1.4824, 2, 2, 0.46, 0.14, 0.01, 0.016,  -999.00, 9, -999.00, -999.00, 9, -999.00
49NZ20071008, P14N, 28, 1, 10, X12010, 2, 20071021, 0859, 48.4878, 178.9898, 5536,   3751.1, 2,   1.4671, 2,  34.6799, 2,  34.6796, 2,    141.8, 2,    142.1, 2,   154.68, 2,    36.80, 2,     0.01, 2,     2.57, 2,    0.017, 4,    0.006, 4,    0.000, 2, -999.000, 9,   2330.8, 2,   2419.1, 2,    7.5742,     25.00,   -999.0, 9,   -999.0,  -999.00, 9,   -999.0,   1.1758, 27.7762,   1.4672, 2, 2, 0.46, 0.14, 0.01, 0.016,  -999.00, 9, -999.00, -999.00, 9, -999.00
49NZ20071008, P14N, 28, 1, 9, X12015, 2, 20071021, 0859, 48.4878, 178.9898, 5536,   4000.7, 2,   1.4589, 2,  34.6838, 2,  34.6838, 6,    147.0, 2,    147.0, 2,   154.28, 2,    36.50, 2,     0.01, 2,     2.55, 2, -999.000, 9, -999.000, 9, -999.000, 9, -999.000, 9,   2328.5, 2,   2419.3, 2,    7.5838,     25.00,   -999.0, 9,   -999.0,  -999.00, 9,   -999.0,   1.1411, 27.7818,   1.4590, 2, 2, 0.46, 0.13, 0.01, 0.016,  -999.00, 9, -999.00, -999.00, 9, -999.00
49NZ20071008, P14N, 28, 1, 8, X12046, 2, 20071021, 0859, 48.4878, 178.9898, 5536,   4248.2, 2,   1.4646, 2,  34.6867, 2,  34.6865, 2,    149.9, 2,    150.1, 2,   154.77, 2,    36.26, 2,     0.01, 2,     2.53, 2, -999.000, 9, -999.000, 9, -999.000, 9, -999.000, 9,   2326.5, 6,   2421.8, 2,    7.5894,     25.00,   -999.0, 9,   -999.0,  -999.00, 9,   -999.0,   1.1193, 27.7856,   1.4649, 2, 2, 0.46, 0.13, 0.01, 0.016,  -999.00, 9, -999.00, -999.00, 9, -999.00
49NZ20071008, P14N, 28, 1, 7, X12044, 2, 20071021, 0859, 48.4878, 178.9898, 5536,   4499.1, 2,   1.4821, 2,  34.6880, 2,  34.6879, 2,    151.5, 2,    151.9, 2,   154.62, 2,    36.21, 2,     0.01, 2,     2.53, 2,    0.000, 2,    0.000, 2,    0.000, 2, -999.000, 9,   2325.5, 2,   2420.5, 6,    7.5935,     25.00,   -999.0, 9,   -999.0,  -999.00, 9,   -999.0,   1.1078, 27.7874,   1.4822, 2, 2, 0.46, 0.13, 0.01, 0.016,  -999.00, 9, -999.00, -999.00, 9, -999.00
49NZ20071008, P14N, 28, 1, 6, X12048, 2, 20071021, 0859, 48.4878, 178.9898, 5536,   4750.5, 2,   1.5070, 2,  34.6888, 2,  34.6898, 3,    152.6, 2,    152.6, 2,   155.81, 2,    36.07, 2,     0.01, 2,     2.52, 2, -999.000, 9, -999.000, 9, -999.000, 9, -999.000, 9,   2327.9, 2,   2420.9, 2,    7.5954,     25.00,   -999.0, 9,   -999.0,  -999.00, 9,   -999.0,   1.1025, 27.7884,   1.5071, 2, 6, 0.46, 0.13, 0.01, 0.016,  -999.00, 9, -999.00, -999.00, 9, -999.00
49NZ20071008, P14N, 28, 1, 5, X12014, 2, 20071021, 0859, 48.4878, 178.9898, 5536,   4999.8, 2,   1.5347, 2,  34.6891, 2,  34.6894, 2,    153.3, 2,    153.3, 2,   156.07, 2,    36.07, 2,     0.01, 2,     2.52, 2, -999.000, 9, -999.000, 9, -999.000, 9, -999.000, 9,   2326.7, 2,   2420.9, 2,    7.5957,     25.00,   -999.0, 9,   -999.0,  -999.00, 9,   -999.0,   1.0993, 27.7889,   1.5348, 2, 2, 0.46, 0.13, 0.01, 0.016,  -999.00, 9, -999.00, -999.00, 9, -999.00
49NZ20071008, P14N, 28, 1, 4, X12006, 2, 20071021, 0859, 48.4878, 178.9898, 5536,   5249.3, 2,   1.5627, 2,  34.6894, 2,  34.6894, 2,    154.4, 2,    154.0, 2,   154.74, 2,    36.04, 2,     0.01, 2,     2.51, 2,    0.000, 2,    0.002, 2,    0.000, 2, -999.000, 9,   2324.0, 2,   2419.4, 2,    7.5964,     25.00,   -999.0, 9,   -999.0,  -999.00, 9,   -999.0,   1.0956, 27.7894,   1.5627, 2, 2, 0.46, 0.13, 0.01, 0.016,  -999.00, 9, -999.00, -999.00, 9, -999.00
49NZ20071008, P14N, 28, 1, 3, X12013, 2, 20071021, 0859, 48.4878, 178.9898, 5536,   5498.8, 2,   1.5884, 2,  34.6899, 2,  34.6902, 2,    156.0, 2,    155.8, 2,   151.77, 2,    35.79, 2,     0.01, 2,     2.50, 2, -999.000, 9, -999.000, 9, -999.000, 9, -999.000, 9,   2321.5, 2,   2418.2, 2,    7.5969,     25.00,   -999.0, 9,   -999.0,  -999.00, 9,   -999.0,   1.0888, 27.7902,   1.5884, 2, 2, 0.45, 0.13, 0.01, 0.016,  -999.00, 9, -999.00, -999.00, 9, -999.00
49NZ20071008, P14N, 28, 1, 2, X12002, 9, 20071021, 0859, 48.4878, 178.9898, 5536,    800.3, 2,   3.0368, 2,  34.3262, 2, -999.0000, 9,     25.8, 2,   -999.0, 9,  -999.00, 9,  -999.00, 9,  -999.00, 9,  -999.00, 9, -999.000, 9, -999.000, 9, -999.000, 9, -999.000, 9,   -999.0, 9,   -999.0, 9, -999.0000,   -999.00,   -999.0, 9,   -999.0,  -999.00, 9,   -999.0,   2.9837, 27.3487,   3.0367, 2, 9, -999.00, -999.00, -999.00, -999.000,  -999.00, 9, -999.00, -999.00, 9, -999.00
49NZ20071008, P14N, 28, 1, 1, X12001, 2, 20071021, 0859, 48.4878, 178.9898, 5536,   5599.0, 2,   1.6003, 2,  34.6900, 2,  34.6903, 6,    156.0, 2,    156.1, 2,   151.61, 2,    35.85, 2,     0.01, 2,     2.51, 2,    0.000, 2,    0.000, 2,    0.000, 2, -999.000, 9,   2322.7, 2,   2417.8, 2,    7.5976,     25.00,   -999.0, 9,   -999.0,  -999.00, 9,   -999.0,   1.0873, 27.7904,   1.6003, 2, 2, 0.45, 0.13, 0.01, 0.016,  -999.00, 9, -999.00, -999.00, 9, -999.00