BOTTLE,20221005CCHSIOAMB
EXPOCODE,SECT_ID,STNNBR,CASTNO,SAMPNO,BTLNBR,BTLNBR_FLAG_W,DATE,TIME,LATITUDE,LONGITUDE,DEPTH,CTDPRS,CTDPRS_FLAG_W,CTDTMP,CTDTMP_FLAG_W,CTDSAL,CTDSAL_FLAG_W,SALNTY,SALNTY_FLAG_W,CTDOXY,CTDOXY_FLAG_W,OXYGEN,OXYGEN_FLAG_W,SILCAT,SILCAT_FLAG_W,NITRAT,NITRAT_FLAG_W,NITRIT,NITRIT_FLAG_W,PHSPHT,PHSPHT_FLAG_W,CFC-11,CFC-11_FLAG_W,CFC-12,CFC-12_FLAG_W,CFC113,CFC113_FLAG_W,CCL4,CCL4_FLAG_W,TCARBN,TCARBN_FLAG_W,ALKALI,ALKALI_FLAG_W,PH_TOT,PH_TMP,DELC14,DELC14_FLAG_W,C14ERR,DELC13,DELC13_FLAG_W,C13ERR,THETA,SIG0,SBE35,SBE35_FLAG_W,PH_TOT_FLAG_W,SILUNC,NRAUNC,NRIUNC,PHPUNC,CS-137,CS-137_FLAG_W,CS137ER,PLUTO,PLUTO_FLAG_W,PLUTOER
,,,,,,,,,,,METERS,DBAR,,ITS-90,,PSS-78,,PSS-78,,UMOL/KG,,UMOL/KG,,UMOL/KG,,UMOL/KG,,UMOL/KG,,UMOL/KG,,PMOL/KG,,PMOL/KG,,PMOL/KG,,PMOL/KG,,UMOL/KG,,UMOL/KG,,,DEG C,/MILLE,,/MILLE,/MILLE,,/MILLE,DEG C,KG/M^3,ITS-90,,,UMOL/KG,UMOL/KG,UMOL/KG,UMOL/KG,DM/.1MG,,BQ/M^3,MBQ/M^3,,MBQ/M^3
49NZ20071008, P14N, 12, 1, 36, X12042, 2, 20071024, 1708, 53.4923, -178.2375, 3767,     10.4, 2,   6.4828, 2,  32.9404, 2,  32.9410, 2,    295.9, 2,    295.9, 2,    30.13, 2,    18.68, 2,     0.23, 2,     1.66, 2, -999.000, 9, -999.000, 9, -999.000, 9, -999.000, 9,   -999.0, 9,   -999.0, 9, -999.0000,   -999.00,   -999.0, 9,   -999.0,  -999.00, 9,   -999.0,   6.4819, 25.8647,   6.4824, 2, 9, 0.19, 0.09, 0.01, 0.014,  -999.00, 9, -999.00, -999.00, 9, -999.00
49NZ20071008, P14N, 12, 1, 35, X12041, 2, 20071024, 1708, 53.4923, -178.2375, 3767,     49.5, 2,   5.8616, 2,  32.9846, 2,  32.9853, 2,    297.4, 2,    296.7, 2,    33.55, 2,    20.21, 2,     0.22, 2,     1.74, 2, -999.000, 9, -999.000, 9, -999.000, 9, -999.000, 9,   -999.0, 9,   -999.0, 9, -999.0000,   -999.00,   -999.0, 9,   -999.0,  -999.00, 9,   -999.0,   5.8576, 25.9777,   5.8594, 2, 9, 0.19, 0.09, 0.01, 0.014,  -999.00, 9, -999.00, -999.00, 9, -999.00
49NZ20071008, P14N, 12, 1, 34, X12016, 2, 20071024, 1708, 53.4923, -178.2375, 3767,    100.4, 2,   3.6454, 2,  33.2026, 2,  33.2105, 2,    250.5, 2,    259.9, 2,    53.70, 2,    28.90, 2,     0.03, 2,     2.22, 2,    4.232, 2,    2.466, 2,    0.420, 2, -999.000, 9,   -999.0, 9,   -999.0, 9, -999.0000,   -999.00,   -999.0, 9,   -999.0,  -999.00, 9,   -999.0,   3.6390, 26.3918,   3.6537, 2, 9, 0.24, 0.11, 0.01, 0.016,  -999.00, 1, -999.00, -999.00, 9, -999.00
49NZ20071008, P14N, 12, 1, 33, X12033, 2, 20071024, 1708, 53.4923, -178.2375, 3767,    150.9, 2,   3.7713, 2,  33.3332, 2,  33.3348, 2,    280.2, 2,    227.5, 2,    60.68, 2,    31.08, 2,     0.02, 2,     2.35, 2, -999.000, 9, -999.000, 9, -999.000, 9, -999.000, 9,   -999.0, 9,   -999.0, 9, -999.0000,   -999.00,   -999.0, 9,   -999.0,  -999.00, 9,   -999.0,   3.7614, 26.4839,   3.7749, 2, 9, 0.25, 0.12, 0.01, 0.016,  -999.00, 9, -999.00, -999.00, 9, -999.00
49NZ20071008, P14N, 12, 1, 32, X12038, 2, 20071024, 1708, 53.4923, -178.2375, 3767,    199.8, 2,   3.2573, 2,  33.3699, 2,  33.3789, 2,    241.8, 2,    223.3, 2,    64.09, 2,    32.61, 2,     0.02, 2,     2.44, 2,    3.870, 2,    2.223, 2,    0.325, 2, -999.000, 9,   -999.0, 9,   -999.0, 9, -999.0000,   -999.00,   -999.0, 9,   -999.0,  -999.00, 9,   -999.0,   3.2450, 26.5619,   3.2555, 2, 9, 0.26, 0.12, 0.01, 0.016,  -999.00, 1, -999.00, -999.00, 9, -999.00
49NZ20071008, P14N, 12, 1, 31, X12003, 2, 20071024, 1708, 53.4923, -178.2375, 3767,    250.3, 2,   3.8413, 2,  33.5888, 2,  33.5885, 6,    137.0, 2,    142.4, 2,    76.32, 2,    36.93, 2,     0.02, 2,     2.69, 2, -999.000, 9, -999.000, 9, -999.000, 9, -999.000, 9,   -999.0, 9,   -999.0, 9, -999.0000,   -999.00,   -999.0, 9,   -999.0,  -999.00, 9,   -999.0,   3.8245, 26.6812,   3.8410, 2, 9, 0.29, 0.14, 0.01, 0.017,  -999.00, 9, -999.00, -999.00, 9, -999.00
49NZ20071008, P14N, 12, 1, 30, X12008, 2, 20071024, 1708, 53.4923, -178.2375, 3767,    279.7, 2,   3.9301, 2,  33.6739, 2,  33.6799, 2,    113.2, 2,    103.9, 2,    84.43, 2,    39.40, 2,     0.02, 2,     2.84, 2,    2.540, 2,    1.346, 2,    0.173, 2, -999.000, 9,   -999.0, 9,   -999.0, 9, -999.0000,   -999.00,   -999.0, 9,   -999.0,  -999.00, 9,   -999.0,   3.9110, 26.7403,   3.9299, 2, 9, 0.30, 0.14, 0.01, 0.017,  -999.00, 9, -999.00, -999.00, 9, -999.00
49NZ20071008, P14N, 12, 1, 29, X12035, 2, 20071024, 1708, 53.4923, -178.2375, 3767,    369.1, 2,   3.8642, 2,  33.8714, 2,  33.8746, 2,     70.6, 2,     63.5, 2,    93.64, 2,    41.69, 2,     0.01, 2,     2.98, 2, -999.000, 9, -999.000, 9, -999.000, 9, -999.000, 9,   -999.0, 9,   -999.0, 9, -999.0000,   -999.00,   -999.0, 9,   -999.0,  -999.00, 9,   -999.0,   3.8388, 26.9047,   3.8641, 2, 9, 0.33, 0.15, 0.01, 0.017,  -999.00, 1, -999.00, -999.00, 9, -999.00
49NZ20071008, P14N, 12, 1, 28, X12034, 2, 20071024, 1708, 53.4923, -178.2375, 3767,    469.1, 2,   3.6824, 2,  33.9987, 2,  34.0010, 6,     48.9, 2,     45.9, 2,   105.67, 2,    42.79, 2,     0.02, 2,     3.05, 2,    1.369, 2,    0.680, 2,    0.089, 2, -999.000, 9,   -999.0, 9,   -999.0, 9, -999.0000,   -999.00,   -999.0, 9,   -999.0,  -999.00, 9,   -999.0,   3.6504, 27.0246,   3.6820, 2, 9, 0.35, 0.15, 0.01, 0.018,  -999.00, 9, -999.00, -999.00, 9, -999.00
49NZ20071008, P14N, 12, 1, 27, X12049, 2, 20071024, 1708, 53.4923, -178.2375, 3767,    570.4, 2,   3.5187, 2,  34.1119, 2,  34.1152, 2,     31.9, 2,     29.4, 2,   116.70, 2,    43.86, 2,     0.01, 2,     3.12, 2, -999.000, 9, -999.000, 9, -999.000, 9, -999.000, 9,   -999.0, 9,   -999.0, 9, -999.0000,   -999.00,   -999.0, 9,   -999.0,  -999.00, 9,   -999.0,   3.4799, 27.1314,   3.5184, 2, 9, 0.38, 0.16, 0.01, 0.018,  -999.00, 1, -999.00, -999.00, 9, -999.00
49NZ20071008, P14N, 12, 1, 26, X12032, 2, 20071024, 1708, 53.4923, -178.2375, 3767,    671.1, 2,   3.4293, 2,  34.1716, 2,  34.1722, 2,     22.4, 2,     22.1, 2,   122.04, 2,    44.12, 2,     0.01, 2,     3.13, 2,    0.662, 2,    0.316, 2,    0.043, 2, -999.000, 9,   -999.0, 9,   -999.0, 9, -999.0000,   -999.00,   -999.0, 9,   -999.0,  -999.00, 9,   -999.0,   3.3836, 27.1882,   3.4291, 2, 9, 0.39, 0.16, 0.01, 0.018,  -999.00, 9, -999.00, -999.00, 9, -999.00
49NZ20071008, P14N, 12, 1, 25, X12043, 2, 20071024, 1708, 53.4923, -178.2375, 3767,    769.9, 2,   3.2690, 2,  34.2320, 2,  34.2362, 2,     19.8, 2,     18.8, 2,   129.96, 2,    44.33, 2,     0.01, 2,     3.16, 2, -999.000, 9, -999.000, 9, -999.000, 9, -999.000, 9,   -999.0, 9,   -999.0, 9, -999.0000,   -999.00,   -999.0, 9,   -999.0,  -999.00, 9,   -999.0,   3.2168, 27.2521,   3.2660, 2, 9, 0.40, 0.16, 0.01, 0.018,  -999.00, 1, -999.00, -999.00, 9, -999.00
49NZ20071008, P14N, 12, 1, 24, X12030, 2, 20071024, 1708, 53.4923, -178.2375, 3767,    870.6, 2,   3.0858, 2,  34.2867, 2,  34.2880, 2,     19.0, 2,     19.4, 2,   136.79, 2,    44.16, 2,     0.01, 2,     3.15, 2,    0.344, 2,    0.160, 2,    0.016, 2, -999.000, 9,   -999.0, 9,   -999.0, 9, -999.0000,   -999.00,   -999.0, 9,   -999.0,  -999.00, 9,   -999.0,   3.0273, 27.3132,   3.0866, 2, 9, 0.42, 0.16, 0.01, 0.018,  -999.00, 9, -999.00, -999.00, 9, -999.00
49NZ20071008, P14N, 12, 1, 23, X12027, 2, 20071024, 1708, 53.4923, -178.2375, 3767,    969.7, 2,   2.9392, 2,  34.3240, 2,  34.3250, 6,     20.0, 2,     21.8, 2,   142.30, 2,    44.05, 2,     0.01, 2,     3.15, 2,    0.286, 2,    0.138, 2,    0.007, 2, -999.000, 9,   -999.0, 9,   -999.0, 9, -999.0000,   -999.00,   -999.0, 9,   -999.0,  -999.00, 9,   -999.0,   2.8744, 27.3568,   2.9378, 2, 9, 0.43, 0.16, 0.01, 0.018,  -999.00, 1, -999.00, -999.00, 9, -999.00
49NZ20071008, P14N, 12, 1, 22, X12028, 2, 20071024, 1708, 53.4923, -178.2375, 3767,   1129.7, 2,   2.7527, 2,  34.3779, 2,  34.3800, 2,     20.7, 2,     20.6, 2,   151.33, 2,    44.11, 2,     0.01, 2,     3.15, 2,    0.166, 2,    0.079, 2,    0.000, 2, -999.000, 9,   -999.0, 9,   -999.0, 9, -999.0000,   -999.00,   -999.0, 9,   -999.0,  -999.00, 9,   -999.0,   2.6773, 27.4172,   2.7523, 2, 9, 0.45, 0.16, 0.01, 0.018,  -999.00, 9, -999.00, -999.00, 9, -999.00
49NZ20071008, P14N, 12, 1, 21, X12009, 2, 20071024, 1708, 53.4923, -178.2375, 3767,   1330.4, 2,   2.5424, 2,  34.4379, 2,  34.4383, 2,     20.4, 2,     20.4, 2,   159.98, 2,    44.16, 2,     0.01, 2,     3.15, 2,    0.064, 2,    0.032, 2,    0.000, 2, -999.000, 9,   -999.0, 9,   -999.0, 9, -999.0000,   -999.00,   -999.0, 9,   -999.0,  -999.00, 9,   -999.0,   2.4535, 27.4843,   2.5425, 2, 9, 0.47, 0.16, 0.01, 0.018,  -999.00, 9, -999.00, -999.00, 9, -999.00
49NZ20071008, P14N, 12, 1, 20, X12026, 2, 20071024, 1708, 53.4923, -178.2375, 3767,   1529.9, 2,   2.2996, 2,  34.4931, 2,  34.4928, 2,     27.2, 2,     26.9, 2,   171.06, 2,    43.59, 2,     0.01, 2,     3.14, 2,    0.023, 2,    0.015, 2,    0.000, 2, -999.000, 9,   -999.0, 9,   -999.0, 9, -999.0000,   -999.00,   -999.0, 9,   -999.0,  -999.00, 9,   -999.0,   2.1977, 27.5497,   2.2999, 2, 9, 0.50, 0.15, 0.01, 0.018,  -999.00, 9, -999.00, -999.00, 9, -999.00
49NZ20071008, P14N, 12, 1, 19, X12025, 2, 20071024, 1708, 53.4923, -178.2375, 3767,   1729.7, 2,   2.1206, 2,  34.5337, 2,  34.5344, 2,     34.1, 2,     35.1, 2,   180.69, 2,    42.81, 2,     0.01, 2,     3.11, 2,    0.007, 2,    0.003, 2,    0.000, 2, -999.000, 9,   -999.0, 9,   -999.0, 9, -999.0000,   -999.00,   -999.0, 9,   -999.0,  -999.00, 9,   -999.0,   2.0050, 27.5977,   2.1205, 2, 9, 0.52, 0.15, 0.01, 0.018,  -999.00, 9, -999.00, -999.00, 9, -999.00
49NZ20071008, P14N, 12, 1, 18, X12024, 2, 20071024, 1708, 53.4923, -178.2375, 3767,   1929.2, 2,   1.9925, 2,  34.5631, 2,  34.5631, 6,     43.6, 2,     43.2, 2,   188.29, 2,    42.05, 2,     0.01, 2,     3.08, 2,    0.000, 2,    0.000, 2,    0.000, 2, -999.000, 9,   -999.0, 9,   -999.0, 9, -999.0000,   -999.00,   -999.0, 9,   -999.0,  -999.00, 9,   -999.0,   1.8623, 27.6324,   1.9923, 2, 9, 0.53, 0.15, 0.01, 0.018,  -999.00, 1, -999.00, -999.00, 9, -999.00
49NZ20071008, P14N, 12, 1, 17, X12023, 2, 20071024, 1708, 53.4923, -178.2375, 3767,   2131.1, 2,   1.8617, 2,  34.5917, 2,  34.5916, 2,     54.7, 2,     54.5, 2,   196.25, 2,    41.34, 2,     0.01, 2,     3.06, 2,    0.000, 2,    0.000, 2,    0.000, 2, -999.000, 9,   -999.0, 9,   -999.0, 9, -999.0000,   -999.00,   -999.0, 9,   -999.0,  -999.00, 9,   -999.0,   1.7165, 27.6665,   1.8618, 2, 9, 0.55, 0.15, 0.01, 0.018,  -999.00, 9, -999.00, -999.00, 9, -999.00
49NZ20071008, P14N, 12, 1, 16, X12022, 2, 20071024, 1708, 53.4923, -178.2375, 3767,   2330.5, 2,   1.7790, 2,  34.6112, 2,  34.6118, 2,     62.6, 2,     62.7, 2,   201.00, 2,    40.64, 2,     0.01, 2,     3.03, 2,    0.004, 2,    0.001, 2,    0.000, 2, -999.000, 9,   -999.0, 9,   -999.0, 9, -999.0000,   -999.00,   -999.0, 9,   -999.0,  -999.00, 9,   -999.0,   1.6180, 27.6895,   1.7789, 2, 9, 0.56, 0.15, 0.01, 0.018,  -999.00, 9, -999.00, -999.00, 9, -999.00
49NZ20071008, P14N, 12, 1, 15, X12021, 2, 20071024, 1708, 53.4923, -178.2375, 3767,   2531.6, 2,   1.7060, 2,  34.6280, 2,  34.6283, 2,     71.0, 2,     71.4, 2,   205.70, 2,    39.90, 2,     0.01, 2,     2.99, 2,    0.000, 2,    0.000, 2,    0.000, 2, -999.000, 9,   -999.0, 9,   -999.0, 9, -999.0000,   -999.00,   -999.0, 9,   -999.0,  -999.00, 9,   -999.0,   1.5285, 27.7096,   1.7059, 2, 9, 0.57, 0.14, 0.01, 0.017,  -999.00, 9, -999.00, -999.00, 9, -999.00
49NZ20071008, P14N, 12, 1, 14, X12020, 2, 20071024, 1708, 53.4923, -178.2375, 3767,   2730.6, 2,   1.6621, 2,  34.6393, 2,  34.6396, 2,     77.7, 2,     78.4, 2,   208.33, 2,    39.42, 2,     0.01, 2,     2.98, 2,    0.000, 2,    0.000, 2,    0.000, 2, -999.000, 9,   -999.0, 9,   -999.0, 9, -999.0000,   -999.00,   -999.0, 9,   -999.0,  -999.00, 9,   -999.0,   1.4673, 27.7231,   1.6621, 2, 9, 0.58, 0.14, 0.01, 0.017,  -999.00, 9, -999.00, -999.00, 9, -999.00
49NZ20071008, P14N, 12, 1, 13, X12019, 2, 20071024, 1708, 53.4923, -178.2375, 3767,   2931.0, 2,   1.6271, 2,  34.6489, 2,  34.6492, 6,     83.8, 2,     84.5, 2,   210.85, 2,    38.75, 2,     0.01, 2,     2.95, 2,    0.000, 2,    0.000, 2,    0.000, 2, -999.000, 9,   -999.0, 9,   -999.0, 9, -999.0000,   -999.00,   -999.0, 9,   -999.0,  -999.00, 9,   -999.0,   1.4142, 27.7346,   1.6270, 2, 9, 0.58, 0.14, 0.01, 0.017,  -999.00, 1, -999.00, -999.00, 9, -999.00
49NZ20071008, P14N, 12, 1, 12, X12040, 2, 20071024, 1708, 53.4923, -178.2375, 3767,   3171.9, 2,   1.6059, 2,  34.6566, 2,  34.6569, 2,     89.6, 2,     90.0, 2,   212.85, 2,    38.26, 2,     0.01, 2,     2.93, 2,    0.000, 2,    0.000, 2,    0.000, 2, -999.000, 9,   -999.0, 9,   -999.0, 9, -999.0000,   -999.00,   -999.0, 9,   -999.0,  -999.00, 9,   -999.0,   1.3702, 27.7439,   1.6058, 2, 9, 0.59, 0.14, 0.01, 0.017,  -999.00, 9, -999.00, -999.00, 9, -999.00
49NZ20071008, P14N, 12, 1, 11, X12047, 2, 20071024, 1708, 53.4923, -178.2375, 3767,   3422.0, 2,   1.5965, 2,  34.6624, 2,  34.6629, 2,     93.7, 2,     94.1, 2,   216.55, 2,    38.07, 2,     0.01, 2,     2.91, 2,    0.007, 2,    0.000, 2,    0.000, 2, -999.000, 9,   -999.0, 9,   -999.0, 9, -999.0000,   -999.00,   -999.0, 9,   -999.0,  -999.00, 9,   -999.0,   1.3360, 27.7511,   1.5964, 2, 9, 0.60, 0.14, 0.01, 0.017,  -999.00, 9, -999.00, -999.00, 9, -999.00
49NZ20071008, P14N, 12, 1, 10, X12010, 2, 20071024, 1708, 53.4923, -178.2375, 3767,   3670.8, 2,   1.5969, 2,  34.6671, 2,  34.6679, 2,     97.3, 2,     97.3, 2,   220.85, 2,    37.92, 2,     0.02, 2,     2.91, 2,    0.002, 2,    0.000, 2,    0.000, 2, -999.000, 9,   -999.0, 9,   -999.0, 9, -999.0000,   -999.00,   -999.0, 9,   -999.0,  -999.00, 9,   -999.0,   1.3107, 27.7566,   1.5967, 2, 9, 0.60, 0.14, 0.01, 0.017,  -999.00, 9, -999.00, -999.00, 9, -999.00
49NZ20071008, P14N, 12, 1, 9, X12015, 2, 20071024, 1708, 53.4923, -178.2375, 3767,   2932.0, 2,   1.6272, 2,  34.6489, 2, -999.0000, 9,     83.8, 2,   -999.0, 9,  -999.00, 9,  -999.00, 9,  -999.00, 9,  -999.00, 9, -999.000, 9, -999.000, 9, -999.000, 9, -999.000, 9,   -999.0, 9,   -999.0, 9, -999.0000,   -999.00,   -999.0, 9,   -999.0,  -999.00, 9,   -999.0,   1.4142, 27.7346,   1.6272, 2, 9, -999.00, -999.00, -999.00, -999.000,  -999.00, 1, -999.00, -999.00, 9, -999.00
49NZ20071008, P14N, 12, 1, 8, X12046, 2, 20071024, 1708, 53.4923, -178.2375, 3767,   3828.3, 2,   1.6027, 2,  34.6697, 2, -999.0000, 9,     99.4, 2,   -999.0, 9,  -999.00, 9,  -999.00, 9,  -999.00, 9,  -999.00, 9, -999.000, 9, -999.000, 9, -999.000, 9, -999.000, 9,   -999.0, 9,   -999.0, 9, -999.0000,   -999.00,   -999.0, 9,   -999.0,  -999.00, 9,   -999.0,   1.2996, 27.7594,   1.6025, 2, 9, -999.00, -999.00, -999.00, -999.000,  -999.00, 1, -999.00, -999.00, 9, -999.00
49NZ20071008, P14N, 12, 1, 7, X12044, 2, 20071024, 1708, 53.4923, -178.2375, 3767,   1929.5, 2,   1.9930, 2,  34.5630, 2, -999.0000, 9,     43.6, 2,   -999.0, 9,  -999.00, 9,  -999.00, 9,  -999.00, 9,  -999.00, 9, -999.000, 9, -999.000, 9, -999.000, 9, -999.000, 9,   -999.0, 9,   -999.0, 9, -999.0000,   -999.00,   -999.0, 9,   -999.0,  -999.00, 9,   -999.0,   1.8628, 27.6322,   1.9929, 2, 9, -999.00, -999.00, -999.00, -999.000,  -999.00, 1, -999.00, -999.00, 9, -999.00
49NZ20071008, P14N, 12, 1, 6, X12048, 2, 20071024, 1708, 53.4923, -178.2375, 3767,   2931.8, 2,   1.6272, 2,  34.6490, 2, -999.0000, 9,     83.8, 2,   -999.0, 9,  -999.00, 9,  -999.00, 9,  -999.00, 9,  -999.00, 9, -999.000, 9, -999.000, 9, -999.000, 9, -999.000, 9,   -999.0, 9,   -999.0, 9, -999.0000,   -999.00,   -999.0, 9,   -999.0,  -999.00, 9,   -999.0,   1.4142, 27.7347,   1.6273, 2, 9, -999.00, -999.00, -999.00, -999.000,  -999.00, 1, -999.00, -999.00, 9, -999.00
49NZ20071008, P14N, 12, 1, 5, X12014, 2, 20071024, 1708, 53.4923, -178.2375, 3767,   3827.9, 2,   1.6025, 2,  34.6698, 2, -999.0000, 9,     99.5, 2,   -999.0, 9,  -999.00, 9,  -999.00, 9,  -999.00, 9,  -999.00, 9, -999.000, 9, -999.000, 9, -999.000, 9, -999.000, 9,   -999.0, 9,   -999.0, 9, -999.0000,   -999.00,   -999.0, 9,   -999.0,  -999.00, 9,   -999.0,   1.2994, 27.7595,   1.6024, 2, 9, -999.00, -999.00, -999.00, -999.000,  -999.00, 1, -999.00, -999.00, 9, -999.00
49NZ20071008, P14N, 12, 1, 4, X12006, 2, 20071024, 1708, 53.4923, -178.2375, 3767,   1929.2, 2,   1.9926, 2,  34.5631, 2, -999.0000, 9,     43.6, 2,   -999.0, 9,  -999.00, 9,  -999.00, 9,  -999.00, 9,  -999.00, 9, -999.000, 9, -999.000, 9, -999.000, 9, -999.000, 9,   -999.0, 9,   -999.0, 9, -999.0000,   -999.00,   -999.0, 9,   -999.0,  -999.00, 9,   -999.0,   1.8624, 27.6323,   1.9925, 2, 9, -999.00, -999.00, -999.00, -999.000,  -999.00, 1, -999.00, -999.00, 9, -999.00
49NZ20071008, P14N, 12, 1, 3, X12013, 2, 20071024, 1708, 53.4923, -178.2375, 3767,   2931.5, 2,   1.6271, 2,  34.6490, 2, -999.0000, 9,     83.8, 2,   -999.0, 9,  -999.00, 9,  -999.00, 9,  -999.00, 9,  -999.00, 9, -999.000, 9, -999.000, 9, -999.000, 9, -999.000, 9,   -999.0, 9,   -999.0, 9, -999.0000,   -999.00,   -999.0, 9,   -999.0,  -999.00, 9,   -999.0,   1.4142, 27.7347,   1.6271, 2, 9, -999.00, -999.00, -999.00, -999.000,  -999.00, 1, -999.00, -999.00, 9, -999.00
49NZ20071008, P14N, 12, 1, 2, X12002, 2, 20071024, 1708, 53.4923, -178.2375, 3767,   3827.2, 2,   1.6025, 2,  34.6697, 2, -999.0000, 9,     99.5, 2,   -999.0, 9,  -999.00, 9,  -999.00, 9,  -999.00, 9,  -999.00, 9, -999.000, 9, -999.000, 9, -999.000, 9, -999.000, 9,   -999.0, 9,   -999.0, 9, -999.0000,   -999.00,   -999.0, 9,   -999.0,  -999.00, 9,   -999.0,   1.2995, 27.7594,   1.6024, 2, 9, -999.00, -999.00, -999.00, -999.000,  -999.00, 1, -999.00, -999.00, 9, -999.00
49NZ20071008, P14N, 12, 1, 1, X12001, 2, 20071024, 1708, 53.4923, -178.2375, 3767,   3826.2, 2,   1.6024, 2,  34.6697, 2,  34.6702, 6,     99.5, 2,     98.8, 2,   228.59, 2,    37.81, 2,     0.02, 2,     2.90, 2,    0.006, 2,    0.000, 2,    0.000, 2, -999.000, 9,   -999.0, 9,   -999.0, 9, -999.0000,   -999.00,   -999.0, 9,   -999.0,  -999.00, 9,   -999.0,   1.2995, 27.7594,   1.6023, 2, 9, 0.62, 0.14, 0.01, 0.017,  -999.00, 1, -999.00, -999.00, 9, -999.00