BOTTLE,20221005CCHSIOAMB
EXPOCODE,SECT_ID,STNNBR,CASTNO,SAMPNO,BTLNBR,BTLNBR_FLAG_W,DATE,TIME,LATITUDE,LONGITUDE,DEPTH,CTDPRS,CTDPRS_FLAG_W,CTDTMP,CTDTMP_FLAG_W,CTDSAL,CTDSAL_FLAG_W,SALNTY,SALNTY_FLAG_W,CTDOXY,CTDOXY_FLAG_W,OXYGEN,OXYGEN_FLAG_W,SILCAT,SILCAT_FLAG_W,NITRAT,NITRAT_FLAG_W,NITRIT,NITRIT_FLAG_W,PHSPHT,PHSPHT_FLAG_W,CFC-11,CFC-11_FLAG_W,CFC-12,CFC-12_FLAG_W,CFC113,CFC113_FLAG_W,CCL4,CCL4_FLAG_W,TCARBN,TCARBN_FLAG_W,ALKALI,ALKALI_FLAG_W,PH_TOT,PH_TMP,DELC14,DELC14_FLAG_W,C14ERR,DELC13,DELC13_FLAG_W,C13ERR,THETA,SIG0,SBE35,SBE35_FLAG_W,PH_TOT_FLAG_W,SILUNC,NRAUNC,NRIUNC,PHPUNC,CS-137,CS-137_FLAG_W,CS137ER,PLUTO,PLUTO_FLAG_W,PLUTOER
,,,,,,,,,,,METERS,DBAR,,ITS-90,,PSS-78,,PSS-78,,UMOL/KG,,UMOL/KG,,UMOL/KG,,UMOL/KG,,UMOL/KG,,UMOL/KG,,PMOL/KG,,PMOL/KG,,PMOL/KG,,PMOL/KG,,UMOL/KG,,UMOL/KG,,,DEG C,/MILLE,,/MILLE,/MILLE,,/MILLE,DEG C,KG/M^3,ITS-90,,,UMOL/KG,UMOL/KG,UMOL/KG,UMOL/KG,DM/.1MG,,BQ/M^3,MBQ/M^3,,MBQ/M^3
49NZ20071008, P14N, 38, 1, 36, X12042, 2, 20071101, 0051, 43.4990, 179.0127, 5811,      9.9, 2,  11.6698, 2,  33.0812, 2,  33.0811, 2,    272.2, 2,    272.2, 2,    12.25, 2,     7.12, 2,     0.19, 2,     0.78, 2,    3.228, 2,    1.833, 2,    0.309, 2, -999.000, 9,   -999.0, 9,   -999.0, 9, -999.0000,   -999.00,   -999.0, 9,   -999.0,  -999.00, 9,   -999.0,  11.6686, 25.1607,  11.6709, 2, 9, 0.15, 0.05, 0.01, 0.013,  -999.00, 9, -999.00, -999.00, 9, -999.00
49NZ20071008, P14N, 38, 1, 35, X12041, 2, 20071101, 0051, 43.4990, 179.0127, 5811,     49.3, 2,  11.6764, 2,  33.4306, 2,  33.4268, 2,    261.1, 2,    261.3, 2,    12.87, 2,     7.96, 2,     0.33, 2,     0.81, 2,    3.224, 2,    1.847, 2,    0.296, 2, -999.000, 9,   -999.0, 9,   -999.0, 9, -999.0000,   -999.00,   -999.0, 9,   -999.0,  -999.00, 9,   -999.0,  11.6702, 25.4318,  11.6725, 2, 9, 0.15, 0.06, 0.00, 0.013,  -999.00, 9, -999.00, -999.00, 9, -999.00
49NZ20071008, P14N, 38, 1, 34, X12016, 2, 20071101, 0051, 43.4990, 179.0127, 5811,     99.9, 2,   8.5236, 2,  33.9751, 2,  33.9751, 2,    260.5, 2,    257.9, 2,    20.74, 2,    14.62, 2,     0.02, 2,     1.13, 2,    3.616, 2,    2.022, 2,    0.287, 2, -999.000, 9,   -999.0, 9,   -999.0, 9, -999.0000,   -999.00,   -999.0, 9,   -999.0,  -999.00, 9,   -999.0,   8.5133, 26.3915,   8.5241, 2, 9, 0.16, 0.07, 0.01, 0.013,  -999.00, 9, -999.00, -999.00, 9, -999.00
49NZ20071008, P14N, 38, 1, 33, X12033, 2, 20071101, 0051, 43.4990, 179.0127, 5811,    149.7, 2,   8.1837, 2,  33.9577, 2,  33.9583, 2,    259.7, 2,    261.9, 2,    21.66, 2,    14.84, 2,     0.02, 2,     1.16, 2,    3.718, 6,    2.082, 6,    0.298, 6, -999.000, 9,   -999.0, 9,   -999.0, 9, -999.0000,   -999.00,   -999.0, 9,   -999.0,  -999.00, 9,   -999.0,   8.1686, 26.4301,   8.1844, 2, 9, 0.17, 0.07, 0.01, 0.013,  -999.00, 9, -999.00, -999.00, 9, -999.00
49NZ20071008, P14N, 38, 1, 32, X12038, 2, 20071101, 0051, 43.4990, 179.0127, 5811,    199.7, 2,   6.9743, 2,  33.8373, 2,  33.8373, 2,    254.9, 2,    254.4, 2,    27.03, 2,    17.77, 2,     0.02, 2,     1.37, 2,    3.801, 2,    2.094, 2,    0.303, 2, -999.000, 9,   -999.0, 9,   -999.0, 9, -999.0000,   -999.00,   -999.0, 9,   -999.0,  -999.00, 9,   -999.0,   6.9560, 26.5089,   6.9772, 2, 9, 0.18, 0.08, 0.01, 0.014,  -999.00, 9, -999.00, -999.00, 9, -999.00
49NZ20071008, P14N, 38, 1, 31, X12003, 2, 20071101, 0051, 43.4990, 179.0127, 5811,    249.7, 2,   6.5809, 2,  33.8647, 2,  33.8653, 6,    218.3, 2,    226.3, 2,    34.48, 2,    21.17, 2,     0.01, 2,     1.60, 2,    3.543, 2,    1.923, 2,    0.250, 2, -999.000, 9,   -999.0, 9,   -999.0, 9, -999.0000,   -999.00,   -999.0, 9,   -999.0,  -999.00, 9,   -999.0,   6.5587, 26.5837,   6.5804, 2, 9, 0.19, 0.09, 0.01, 0.014,  -999.00, 9, -999.00, -999.00, 9, -999.00
49NZ20071008, P14N, 38, 1, 30, X12008, 2, 20071101, 0051, 43.4990, 179.0127, 5811,    331.8, 2,   4.9195, 2,  33.8198, 2,  33.8207, 2,    169.5, 2,    167.2, 2,    57.61, 2,    29.61, 2,     0.01, 2,     2.21, 2,    3.154, 2,    1.658, 2,    0.226, 2, -999.000, 9,   -999.0, 9,   -999.0, 9, -999.0000,   -999.00,   -999.0, 9,   -999.0,  -999.00, 9,   -999.0,   4.8941, 26.7516,   4.9234, 2, 9, 0.25, 0.12, 0.01, 0.016,  -999.00, 9, -999.00, -999.00, 9, -999.00
49NZ20071008, P14N, 38, 1, 29, X12035, 2, 20071101, 0051, 43.4990, 179.0127, 5811,    430.6, 2,   4.7708, 2,  33.9891, 2,  33.9921, 2,    111.5, 2,    107.2, 2,    76.26, 2,    34.94, 2,     0.01, 2,     2.55, 2,    1.999, 2,    1.011, 2,    0.129, 2, -999.000, 9,   -999.0, 9,   -999.0, 9, -999.0000,   -999.00,   -999.0, 9,   -999.0,  -999.00, 9,   -999.0,   4.7378, 26.9033,   4.7713, 2, 9, 0.29, 0.13, 0.01, 0.016,  -999.00, 9, -999.00, -999.00, 9, -999.00
49NZ20071008, P14N, 38, 1, 28, X12034, 2, 20071101, 0051, 43.4990, 179.0127, 5811,    529.3, 2,   4.2371, 2,  34.0557, 2,  34.0563, 6,     75.3, 2,     75.2, 2,    91.55, 2,    38.57, 2,     0.00, 2,     2.80, 2,    1.528, 2,    0.760, 2,    0.098, 2, -999.000, 9,   -999.0, 9,   -999.0, 9, -999.0000,   -999.00,   -999.0, 9,   -999.0,  -999.00, 9,   -999.0,   4.1984, 27.0145,   4.2373, 2, 9, 0.32, 0.14, 0.01, 0.017,  -999.00, 9, -999.00, -999.00, 9, -999.00
49NZ20071008, P14N, 38, 1, 27, X12049, 2, 20071101, 0051, 43.4990, 179.0127, 5811,    630.2, 2,   3.7394, 2,  34.1070, 2,  34.1102, 2,     48.8, 2,     48.5, 2,   106.45, 2,    41.47, 2,     0.01, 2,     2.99, 2,    1.131, 2,    0.559, 2,    0.080, 2, -999.000, 9,   -999.0, 9,   -999.0, 9, -999.0000,   -999.00,   -999.0, 9,   -999.0,  -999.00, 9,   -999.0,   3.6952, 27.1065,   3.7396, 2, 9, 0.35, 0.15, 0.01, 0.017,  -999.00, 9, -999.00, -999.00, 9, -999.00
49NZ20071008, P14N, 38, 1, 26, X12032, 2, 20071101, 0051, 43.4990, 179.0127, 5811,    731.4, 2,   3.7427, 2,  34.2332, 2,  34.2337, 2,     40.6, 2,     39.6, 2,   114.50, 2,    41.96, 2,     0.00, 2,     3.01, 2,    0.525, 6,    0.252, 6,    0.030, 6, -999.000, 9,   -999.0, 9,   -999.0, 9, -999.0000,   -999.00,   -999.0, 9,   -999.0,  -999.00, 9,   -999.0,   3.6906, 27.2074,   3.7442, 2, 9, 0.37, 0.15, 0.01, 0.017,  -999.00, 9, -999.00, -999.00, 9, -999.00
49NZ20071008, P14N, 38, 1, 25, X12043, 2, 20071101, 0051, 43.4990, 179.0127, 5811,    830.8, 2,   3.3470, 2,  34.2800, 2,  34.2804, 2,     32.0, 2,     32.1, 2,   126.49, 2,    42.84, 2,     0.01, 2,     3.08, 2,    0.419, 2,    0.205, 2,    0.024, 2, -999.000, 9,   -999.0, 9,   -999.0, 9, -999.0000,   -999.00,   -999.0, 9,   -999.0,  -999.00, 9,   -999.0,   3.2897, 27.2835,   3.3475, 2, 9, 0.40, 0.15, 0.01, 0.018,  -999.00, 9, -999.00, -999.00, 9, -999.00
49NZ20071008, P14N, 38, 1, 24, X12030, 2, 20071101, 0051, 43.4990, 179.0127, 5811,    930.1, 2,   3.1739, 2,  34.3415, 2,  34.3431, 2,     30.4, 2,     30.2, 2,   132.83, 2,    43.13, 2,     0.00, 2,     3.08, 2,    0.216, 2,    0.109, 2,    0.012, 2, -999.000, 9,   -999.0, 9,   -999.0, 9, -999.0000,   -999.00,   -999.0, 9,   -999.0,  -999.00, 9,   -999.0,   3.1102, 27.3493,   3.1740, 2, 9, 0.41, 0.15, 0.01, 0.018,  -999.00, 9, -999.00, -999.00, 9, -999.00
49NZ20071008, P14N, 38, 1, 23, X12027, 2, 20071101, 0051, 43.4990, 179.0127, 5811,   1069.6, 2,   2.9348, 2,  34.3942, 2,  34.3946, 6,     27.9, 2,     27.2, 2,   140.37, 2,    43.62, 2,     0.00, 2,     3.12, 2,    0.102, 2,    0.050, 2,    0.011, 2, -999.000, 9,   -999.0, 9,   -999.0, 9, -999.0000,   -999.00,   -999.0, 9,   -999.0,  -999.00, 9,   -999.0,   2.8623, 27.4139,   2.9349, 2, 9, 0.43, 0.15, 0.01, 0.018,  -999.00, 9, -999.00, -999.00, 9, -999.00
49NZ20071008, P14N, 38, 1, 22, X12028, 2, 20071101, 0051, 43.4990, 179.0127, 5811,   1270.0, 2,   2.6388, 2,  34.4522, 2,  34.4520, 2,     27.8, 2,     27.6, 2,   149.69, 2,    43.95, 2,     0.00, 2,     3.13, 2,    0.040, 2,    0.015, 2,    0.007, 2, -999.000, 9,   -999.0, 9,   -999.0, 9, -999.0000,   -999.00,   -999.0, 9,   -999.0,  -999.00, 9,   -999.0,   2.5536, 27.4873,   2.6391, 2, 9, 0.45, 0.16, 0.01, 0.018,  -999.00, 9, -999.00, -999.00, 9, -999.00
49NZ20071008, P14N, 38, 1, 21, X12009, 2, 20071101, 0051, 43.4990, 179.0127, 5811,   1471.3, 2,   2.3728, 2,  34.4931, 2,  34.4932, 2,     37.1, 2,     37.2, 2,   157.05, 2,    43.24, 2,     0.00, 2,     3.09, 2,    0.054, 2,    0.027, 2,    0.009, 2, -999.000, 9,   -999.0, 9,   -999.0, 9, -999.0000,   -999.00,   -999.0, 9,   -999.0,  -999.00, 9,   -999.0,   2.2747, 27.5434,   2.3729, 2, 9, 0.46, 0.15, 0.01, 0.018,  -999.00, 9, -999.00, -999.00, 9, -999.00
49NZ20071008, P14N, 38, 1, 20, X12026, 2, 20071101, 0051, 43.4990, 179.0127, 5811,   1672.2, 2,   2.1725, 2,  34.5355, 2,  34.5351, 2,     44.9, 2,     46.9, 2,   161.85, 2,    42.82, 2,     0.00, 2,     3.05, 2,    0.031, 2,    0.017, 2,    0.004, 2, -999.000, 9,   -999.0, 9,   -999.0, 9, -999.0000,   -999.00,   -999.0, 9,   -999.0,  -999.00, 9,   -999.0,   2.0608, 27.5947,   2.1726, 2, 9, 0.48, 0.15, 0.01, 0.018,  -999.00, 9, -999.00, -999.00, 9, -999.00
49NZ20071008, P14N, 38, 1, 19, X12025, 2, 20071101, 0051, 43.4990, 179.0127, 5811,   1872.7, 2,   2.0299, 2,  34.5670, 2,  34.5663, 2,     55.5, 2,     57.7, 2,   163.67, 2,    42.15, 2,     0.00, 2,     2.98, 2,    0.019, 2,    0.011, 2,    0.004, 2, -999.000, 9,   -999.0, 9,   -999.0, 9, -999.0000,   -999.00,   -999.0, 9,   -999.0,  -999.00, 9,   -999.0,   1.9038, 27.6323,   2.0307, 2, 9, 0.48, 0.15, 0.01, 0.017,  -999.00, 9, -999.00, -999.00, 9, -999.00
49NZ20071008, P14N, 38, 1, 18, X12024, 2, 20071101, 0051, 43.4990, 179.0127, 5811,   2081.5, 2,   1.9209, 2,  34.5901, 2,  34.5890, 2,     66.7, 2,     68.3, 2,   164.46, 2,    41.57, 2,     0.00, 2,     2.94, 2,    0.007, 2,    0.006, 2,    0.000, 2, -999.000, 9,   -999.0, 9,   -999.0, 9, -999.0000,   -999.00,   -999.0, 9,   -999.0,  -999.00, 9,   -999.0,   1.7790, 27.6605,   1.9209, 2, 9, 0.48, 0.15, 0.01, 0.017,  -999.00, 9, -999.00, -999.00, 9, -999.00
49NZ20071008, P14N, 38, 1, 17, X12023, 2, 20071101, 0051, 43.4990, 179.0127, 5811,   2272.0, 2,   1.8210, 2,  34.6102, 2,  34.6101, 2,     77.2, 2,     79.6, 2,   164.76, 2,    40.80, 2,     0.00, 2,     2.90, 2,    0.000, 2,    0.000, 2,    0.000, 2, -999.000, 9,   -999.0, 9,   -999.0, 9, -999.0000,   -999.00,   -999.0, 9,   -999.0,  -999.00, 9,   -999.0,   1.6644, 27.6852,   1.8211, 2, 9, 0.48, 0.15, 0.01, 0.017,  -999.00, 9, -999.00, -999.00, 9, -999.00
49NZ20071008, P14N, 38, 1, 16, X12022, 2, 20071101, 0051, 43.4990, 179.0127, 5811,   2467.6, 2,   1.7417, 2,  34.6254, 2,  34.6257, 2,     88.8, 2,     90.6, 2,   164.22, 2,    40.10, 2,     0.01, 2,     2.85, 2,    0.000, 2,    0.000, 2,    0.000, 2, -999.000, 9,   -999.0, 9,   -999.0, 9, -999.0000,   -999.00,   -999.0, 9,   -999.0,  -999.00, 9,   -999.0,   1.5692, 27.7045,   1.7415, 2, 9, 0.48, 0.15, 0.01, 0.017,  -999.00, 9, -999.00, -999.00, 9, -999.00
49NZ20071008, P14N, 38, 1, 15, X12021, 2, 20071101, 0051, 43.4990, 179.0127, 5811,   2669.3, 2,   1.6729, 2,  34.6392, 2,  34.6392, 6,     98.7, 2,     98.6, 2,   164.16, 2,    39.70, 2,     0.00, 2,     2.80, 2, -999.000, 9, -999.000, 9, -999.000, 9, -999.000, 9,   -999.0, 9,   -999.0, 9, -999.0000,   -999.00,   -999.0, 9,   -999.0,  -999.00, 9,   -999.0,   1.4835, 27.7219,   1.6731, 2, 9, 0.48, 0.14, 0.01, 0.017,  -999.00, 9, -999.00, -999.00, 9, -999.00
49NZ20071008, P14N, 38, 1, 14, X12020, 2, 20071101, 0051, 43.4990, 179.0127, 5811,   2869.4, 2,   1.6059, 2,  34.6511, 2,  34.6514, 2,    108.2, 2,    110.0, 2,   162.15, 2,    38.93, 2,     0.00, 2,     2.75, 2,    0.006, 2,    0.004, 2,    0.000, 2, -999.000, 9,   -999.0, 9,   -999.0, 9, -999.0000,   -999.00,   -999.0, 9,   -999.0,  -999.00, 9,   -999.0,   1.3993, 27.7374,   1.6058, 2, 9, 0.48, 0.14, 0.01, 0.017,  -999.00, 9, -999.00, -999.00, 9, -999.00
49NZ20071008, P14N, 38, 1, 13, X12019, 2, 20071101, 0051, 43.4990, 179.0127, 5811,   3078.8, 2,   1.5637, 2,  34.6595, 2,  34.6594, 2,    118.4, 2,    118.6, 2,   160.27, 2,    38.35, 2,     0.01, 2,     2.71, 2, -999.000, 9, -999.000, 9, -999.000, 9, -999.000, 9,   -999.0, 9,   -999.0, 9, -999.0000,   -999.00,   -999.0, 9,   -999.0,  -999.00, 9,   -999.0,   1.3380, 27.7485,   1.5637, 2, 9, 0.47, 0.14, 0.01, 0.017,  -999.00, 9, -999.00, -999.00, 9, -999.00
49NZ20071008, P14N, 38, 1, 12, X12040, 2, 20071101, 0051, 43.4990, 179.0127, 5811,   3331.6, 2,   1.5250, 2,  34.6675, 2,  34.6674, 2,    128.2, 2,    128.0, 2,   157.72, 2,    37.72, 2,     0.01, 2,     2.65, 2, -999.000, 9, -999.000, 9, -999.000, 9, -999.000, 9,   -999.0, 9,   -999.0, 9, -999.0000,   -999.00,   -999.0, 9,   -999.0,  -999.00, 9,   -999.0,   1.2753, 27.7594,   1.5253, 2, 9, 0.47, 0.14, 0.01, 0.017,  -999.00, 9, -999.00, -999.00, 9, -999.00
49NZ20071008, P14N, 38, 1, 11, X12047, 2, 20071101, 0051, 43.4990, 179.0127, 5811,   3580.3, 2,   1.4924, 2,  34.6744, 2,  34.6741, 2,    136.3, 2,    136.3, 2,   155.79, 2,    37.22, 2,     0.00, 2,     2.61, 2,    0.012, 3,    0.007, 3,    0.000, 2, -999.000, 9,   -999.0, 9,   -999.0, 9, -999.0000,   -999.00,   -999.0, 9,   -999.0,  -999.00, 9,   -999.0,   1.2183, 27.7689,   1.4926, 2, 9, 0.46, 0.14, 0.01, 0.017,  -999.00, 9, -999.00, -999.00, 9, -999.00
49NZ20071008, P14N, 38, 1, 10, X12017, 2, 20071101, 0051, 43.4990, 179.0127, 5811,   3828.1, 2,   1.4757, 2,  34.6793, 2,  34.6794, 2,    142.3, 2,    142.4, 2,   154.39, 2,    36.78, 2,     0.01, 2,     2.58, 2, -999.000, 9, -999.000, 9, -999.000, 9, -999.000, 9,   -999.0, 9,   -999.0, 9, -999.0000,   -999.00,   -999.0, 9,   -999.0,  -999.00, 9,   -999.0,   1.1760, 27.7758,   1.4757, 2, 9, 0.46, 0.14, 0.01, 0.016,  -999.00, 9, -999.00, -999.00, 9, -999.00
49NZ20071008, P14N, 38, 1, 9, X12015, 2, 20071101, 0051, 43.4990, 179.0127, 5811,   4079.8, 2,   1.4699, 2,  34.6831, 2,  34.6840, 2,    147.1, 2,    147.3, 2,   153.75, 2,    36.56, 2,     0.00, 2,     2.56, 2, -999.000, 9, -999.000, 9, -999.000, 9, -999.000, 9,   -999.0, 9,   -999.0, 9, -999.0000,   -999.00,   -999.0, 9,   -999.0,  -999.00, 9,   -999.0,   1.1431, 27.7811,   1.4700, 2, 9, 0.46, 0.14, 0.01, 0.016,  -999.00, 9, -999.00, -999.00, 9, -999.00
49NZ20071008, P14N, 38, 1, 8, X12046, 2, 20071101, 0051, 43.4990, 179.0127, 5811,   4328.5, 2,   1.4765, 2,  34.6857, 2,  34.6856, 6,    150.2, 2,    150.2, 2,   153.96, 2,    36.37, 2,     0.01, 2,     2.54, 2,    0.010, 3,    0.008, 3,    0.000, 2, -999.000, 9,   -999.0, 9,   -999.0, 9, -999.0000,   -999.00,   -999.0, 9,   -999.0,  -999.00, 9,   -999.0,   1.1218, 27.7846,   1.4766, 2, 9, 0.46, 0.13, 0.01, 0.016,  -999.00, 9, -999.00, -999.00, 9, -999.00
49NZ20071008, P14N, 38, 1, 7, X12044, 2, 20071101, 0051, 43.4990, 179.0127, 5811,   4580.1, 2,   1.4933, 2,  34.6875, 2,  34.6874, 2,    151.5, 2,    151.8, 2,   155.03, 2,    36.29, 2,     0.01, 2,     2.54, 2, -999.000, 9, -999.000, 9, -999.000, 9, -999.000, 9,   -999.0, 9,   -999.0, 9, -999.0000,   -999.00,   -999.0, 9,   -999.0,  -999.00, 9,   -999.0,   1.1093, 27.7869,   1.4933, 2, 9, 0.46, 0.13, 0.01, 0.016,  -999.00, 9, -999.00, -999.00, 9, -999.00
49NZ20071008, P14N, 38, 1, 6, X12048, 2, 20071101, 0051, 43.4990, 179.0127, 5811,   4829.6, 2,   1.5174, 2,  34.6884, 2,  34.6886, 2,    152.4, 2,    152.5, 2,   156.06, 2,    36.21, 2,     0.01, 2,     2.53, 2, -999.000, 9, -999.000, 9, -999.000, 9, -999.000, 9,   -999.0, 9,   -999.0, 9, -999.0000,   -999.00,   -999.0, 9,   -999.0,  -999.00, 9,   -999.0,   1.1031, 27.7881,   1.5175, 2, 9, 0.46, 0.13, 0.01, 0.016,  -999.00, 9, -999.00, -999.00, 9, -999.00
49NZ20071008, P14N, 38, 1, 5, X12014, 2, 20071101, 0051, 43.4990, 179.0127, 5811,   5080.1, 2,   1.5482, 2,  34.6885, 2,  34.6889, 2,    152.4, 2,    152.4, 2,   156.37, 2,    36.25, 2,     0.01, 2,     2.53, 2,    0.000, 2,    0.000, 2,    0.000, 2, -999.000, 9,   -999.0, 9,   -999.0, 9, -999.0000,   -999.00,   -999.0, 9,   -999.0,  -999.00, 9,   -999.0,   1.1025, 27.7882,   1.5482, 2, 9, 0.46, 0.13, 0.01, 0.016,  -999.00, 9, -999.00, -999.00, 9, -999.00
49NZ20071008, P14N, 38, 1, 4, X12006, 2, 20071101, 0051, 43.4990, 179.0127, 5811,   5329.2, 2,   1.5794, 2,  34.6888, 2,  34.6893, 2,    152.8, 2,    152.6, 2,   156.32, 2,    36.21, 2,     0.00, 2,     2.53, 2, -999.000, 9, -999.000, 9, -999.000, 9, -999.000, 9,   -999.0, 9,   -999.0, 9, -999.0000,   -999.00,   -999.0, 9,   -999.0,  -999.00, 9,   -999.0,   1.1017, 27.7884,   1.5795, 2, 9, 0.46, 0.13, 0.01, 0.016,  -999.00, 9, -999.00, -999.00, 9, -999.00
49NZ20071008, P14N, 38, 1, 3, X12013, 2, 20071101, 0051, 43.4990, 179.0127, 5811,   5579.9, 2,   1.6121, 2,  34.6888, 2,  34.6887, 2,    152.8, 2,    152.7, 2,   156.38, 2,    36.22, 2,     0.01, 2,     2.53, 2, -999.000, 9, -999.000, 9, -999.000, 9, -999.000, 9,   -999.0, 9,   -999.0, 9, -999.0000,   -999.00,   -999.0, 9,   -999.0,  -999.00, 9,   -999.0,   1.1012, 27.7885,   1.6121, 2, 9, 0.46, 0.13, 0.01, 0.016,  -999.00, 9, -999.00, -999.00, 9, -999.00
49NZ20071008, P14N, 38, 1, 2, X12002, 2, 20071101, 0051, 43.4990, 179.0127, 5811,   5829.4, 2,   1.6461, 2,  34.6888, 2,  34.6889, 2,    153.1, 2,    152.8, 2,   156.34, 2,    36.19, 2,     0.00, 2,     2.53, 2,    0.000, 2,    0.000, 2,    0.000, 2, -999.000, 9,   -999.0, 9,   -999.0, 9, -999.0000,   -999.00,   -999.0, 9,   -999.0,  -999.00, 9,   -999.0,   1.1013, 27.7885,   1.6462, 2, 9, 0.46, 0.13, 0.01, 0.016,  -999.00, 9, -999.00, -999.00, 9, -999.00
49NZ20071008, P14N, 38, 1, 1, X12001, 2, 20071101, 0051, 43.4990, 179.0127, 5811,   5923.6, 2,   1.6593, 2,  34.6888, 2,  34.6890, 6,    152.7, 2,    152.8, 2,   156.30, 2,    36.11, 2,     0.01, 2,     2.53, 2,    0.000, 2,    0.001, 2,    0.000, 2, -999.000, 9,   -999.0, 9,   -999.0, 9, -999.0000,   -999.00,   -999.0, 9,   -999.0,  -999.00, 9,   -999.0,   1.1015, 27.7885,   1.6594, 2, 9, 0.46, 0.13, 0.01, 0.016,  -999.00, 9, -999.00, -999.00, 9, -999.00