BOTTLE,20221005CCHSIOAMB
EXPOCODE,SECT_ID,STNNBR,CASTNO,SAMPNO,BTLNBR,BTLNBR_FLAG_W,DATE,TIME,LATITUDE,LONGITUDE,DEPTH,CTDPRS,CTDPRS_FLAG_W,CTDTMP,CTDTMP_FLAG_W,CTDSAL,CTDSAL_FLAG_W,SALNTY,SALNTY_FLAG_W,CTDOXY,CTDOXY_FLAG_W,OXYGEN,OXYGEN_FLAG_W,SILCAT,SILCAT_FLAG_W,NITRAT,NITRAT_FLAG_W,NITRIT,NITRIT_FLAG_W,PHSPHT,PHSPHT_FLAG_W,CFC-11,CFC-11_FLAG_W,CFC-12,CFC-12_FLAG_W,CFC113,CFC113_FLAG_W,CCL4,CCL4_FLAG_W,TCARBN,TCARBN_FLAG_W,ALKALI,ALKALI_FLAG_W,PH_TOT,PH_TMP,DELC14,DELC14_FLAG_W,C14ERR,DELC13,DELC13_FLAG_W,C13ERR,THETA,SIG0,SBE35,SBE35_FLAG_W,PH_TOT_FLAG_W,SILUNC,NRAUNC,NRIUNC,PHPUNC,CS-137,CS-137_FLAG_W,CS137ER,PLUTO,PLUTO_FLAG_W,PLUTOER
,,,,,,,,,,,METERS,DBAR,,ITS-90,,PSS-78,,PSS-78,,UMOL/KG,,UMOL/KG,,UMOL/KG,,UMOL/KG,,UMOL/KG,,UMOL/KG,,PMOL/KG,,PMOL/KG,,PMOL/KG,,PMOL/KG,,UMOL/KG,,UMOL/KG,,,DEG C,/MILLE,,/MILLE,/MILLE,,/MILLE,DEG C,KG/M^3,ITS-90,,,UMOL/KG,UMOL/KG,UMOL/KG,UMOL/KG,DM/.1MG,,BQ/M^3,MBQ/M^3,,MBQ/M^3
49NZ20071008, P14N, 23, 1, 36, X12042, 2, 20071022, 1515, 50.4827, 179.2755, 6967,     10.4, 2,   7.3844, 2,  32.7368, 2,  32.7370, 2,    297.7, 2,    297.5, 2,    25.05, 2,    15.29, 2,     0.26, 2,     1.44, 2,    4.122, 2,    2.315, 2,    0.373, 2, -999.000, 9,   2054.1, 2,   2208.6, 2,    7.8059,     25.00,   -999.0, 1,   -999.0,  -999.00, 1,   -999.0,   7.3834, 25.5841,   7.3843, 2, 6, 0.17, 0.08, 0.01, 0.014,  -999.00, 9, -999.00, -999.00, 9, -999.00
49NZ20071008, P14N, 23, 1, 35, X12041, 2, 20071022, 1515, 50.4827, 179.2755, 6967,     50.4, 2,   4.6349, 2,  32.9432, 2,  32.9324, 2,    299.9, 2,    301.9, 2,    34.66, 2,    21.26, 2,     0.19, 2,     1.79, 2,    4.770, 2,    2.666, 2,    0.456, 2, -999.000, 9,   2099.3, 6,   2215.3, 2,    7.7107,     25.00,   -999.0, 1,   -999.0,  -999.00, 1,   -999.0,   4.6313, 26.0851,   4.6596, 2, 2, 0.20, 0.09, 0.01, 0.015,  -999.00, 9, -999.00, -999.00, 9, -999.00
49NZ20071008, P14N, 23, 1, 34, X12016, 2, 20071022, 1515, 50.4827, 179.2755, 6967,    100.8, 2,   3.3718, 2,  33.2791, 2,  33.2897, 2,    259.3, 2,    216.5, 2,    54.29, 2,    30.85, 2,     0.02, 2,     2.33, 2,    4.220, 2,    2.249, 2,    0.355, 2, -999.000, 9,   2187.6, 2,   2247.5, 6,    7.5359,     25.00,   -999.0, 1,   -999.0,  -999.00, 1,   -999.0,   3.3656, 26.4784,   3.3714, 2, 2, 0.24, 0.12, 0.01, 0.016,  -999.00, 9, -999.00, -999.00, 9, -999.00
49NZ20071008, P14N, 23, 1, 33, X12033, 2, 20071022, 1515, 50.4827, 179.2755, 6967,    151.5, 2,   3.6275, 2,  33.6927, 2,  33.7035, 2,    109.8, 2,     92.4, 2,    78.17, 2,    40.47, 2,     0.01, 2,     2.91, 2,    2.842, 6,    1.440, 6,    0.220, 6, -999.000, 9,   2282.4, 2,   2279.0, 2,    7.3450,     25.00,   -999.0, 1,   -999.0,  -999.00, 1,   -999.0,   3.6177, 26.7841,   3.6282, 2, 6, 0.29, 0.15, 0.01, 0.017,  -999.00, 9, -999.00, -999.00, 9, -999.00
49NZ20071008, P14N, 23, 1, 32, X12038, 2, 20071022, 1515, 50.4827, 179.2755, 6967,    199.9, 2,   3.7292, 2,  33.8697, 2,  33.8688, 2,     46.8, 2,     45.7, 2,    89.55, 2,    43.59, 2,     0.01, 2,     3.10, 2,    2.009, 2,    0.982, 2,    0.143, 2, -999.000, 9,   2318.7, 2,   2297.1, 2,    7.2851,     25.00,   -999.0, 1,   -999.0,  -999.00, 1,   -999.0,   3.7159, 26.9154,   3.7289, 2, 2, 0.32, 0.15, 0.01, 0.018,  -999.00, 9, -999.00, -999.00, 9, -999.00
49NZ20071008, P14N, 23, 1, 31, X12003, 2, 20071022, 1515, 50.4827, 179.2755, 6967,    251.7, 2,   3.6199, 2,  33.9346, 2,  33.9347, 6,     34.8, 2,     35.6, 2,    96.95, 2,    44.13, 2,     0.01, 2,     3.14, 2,    1.719, 2,    0.849, 2,    0.133, 2, -999.000, 9,   2332.4, 2,   2306.0, 2,    7.2767,     25.00,   -999.0, 1,   -999.0,  -999.00, 1,   -999.0,   3.6033, 26.9782,   3.6200, 2, 2, 0.33, 0.16, 0.01, 0.018,  -999.00, 9, -999.00, -999.00, 9, -999.00
49NZ20071008, P14N, 23, 1, 30, X12008, 2, 20071022, 1515, 50.4827, 179.2755, 6967,    330.0, 2,   3.6368, 2,  34.0507, 2,  34.0499, 2,     21.5, 2,     17.1, 2,   107.06, 2,    45.12, 2,     0.01, 2,     3.21, 2,    1.178, 2,    0.570, 2,    0.085, 2, -999.000, 9,   2350.5, 3,   2318.3, 2,    7.2705,     25.00,   -999.0, 1,   -999.0,  -999.00, 1,   -999.0,   3.6147, 27.0696,   3.6366, 2, 2, 0.35, 0.16, 0.01, 0.018,  -999.00, 9, -999.00, -999.00, 9, -999.00
49NZ20071008, P14N, 23, 1, 29, X12035, 2, 20071022, 1515, 50.4827, 179.2755, 6967,    431.5, 2,   3.5800, 2,  34.1384, 2,  34.1367, 2,     19.0, 2,     18.8, 2,   114.54, 2,    44.39, 2,     0.01, 2,     3.16, 2,    0.816, 2,    0.446, 2,    0.073, 2, -999.000, 9,   2352.4, 2,   2335.1, 2,    7.2953,     25.00,   -999.0, 1,   -999.0,  -999.00, 1,   -999.0,   3.5509, 27.1456,   3.5798, 2, 2, 0.37, 0.16, 0.01, 0.018,  -999.00, 9, -999.00, -999.00, 9, -999.00
49NZ20071008, P14N, 23, 1, 28, X12034, 2, 20071022, 1515, 50.4827, 179.2755, 6967,    529.0, 2,   3.4262, 2,  34.1996, 2,  34.1999, 6,     17.4, 2,     17.9, 2,   122.09, 2,    44.30, 2,     0.00, 2,     3.16, 2,    0.556, 2,    0.265, 2,    0.046, 2, -999.000, 9,   2359.2, 2,   2345.1, 2,    7.3034,     25.00,   -999.0, 1,   -999.0,  -999.00, 1,   -999.0,   3.3907, 27.2098,   3.4259, 2, 2, 0.39, 0.16, 0.01, 0.018,  -999.00, 9, -999.00, -999.00, 9, -999.00
49NZ20071008, P14N, 23, 1, 27, X12049, 2, 20071022, 1515, 50.4827, 179.2755, 6967,    630.9, 2,   3.2314, 2,  34.2559, 2,  34.2548, 2,     18.3, 2,     21.4, 2,   128.99, 2,    43.96, 2,     0.00, 2,     3.14, 2,    0.450, 2,    0.215, 2,    0.033, 2, -999.000, 9,   2365.1, 2,   2355.9, 2,    7.3177,     25.00,   -999.0, 1,   -999.0,  -999.00, 1,   -999.0,   3.1895, 27.2736,   3.2312, 2, 2, 0.40, 0.16, 0.01, 0.018,  -999.00, 9, -999.00, -999.00, 9, -999.00
49NZ20071008, P14N, 23, 1, 26, X12032, 2, 20071022, 1515, 50.4827, 179.2755, 6967,    729.9, 2,   3.0901, 2,  34.3072, 2,  34.3066, 2,     19.7, 2,     18.4, 2,   135.59, 2,    44.17, 2,     0.00, 2,     3.16, 2,    0.277, 6,    0.129, 6,    0.023, 2, -999.000, 9,   2375.1, 6,   2364.1, 2,    7.3191,     25.00,   -999.0, 1,   -999.0,  -999.00, 1,   -999.0,   3.0418, 27.3282,   3.0900, 2, 2, 0.42, 0.16, 0.01, 0.018,  -999.00, 9, -999.00, -999.00, 9, -999.00
49NZ20071008, P14N, 23, 1, 25, X12043, 2, 20071022, 1515, 50.4827, 179.2755, 6967,    828.8, 2,   2.9411, 2,  34.3513, 2,  34.3523, 2,     21.5, 2,     23.0, 2,   140.32, 2,    43.94, 2,     0.00, 2,     3.15, 2,    0.205, 2,    0.096, 2,    0.010, 3, -999.000, 9,   2378.3, 2,   2372.6, 6,    7.3335,     25.00,   -999.0, 1,   -999.0,  -999.00, 1,   -999.0,   2.8865, 27.3775,   2.9408, 2, 2, 0.43, 0.16, 0.01, 0.018,  -999.00, 9, -999.00, -999.00, 9, -999.00
49NZ20071008, P14N, 23, 1, 24, X12030, 2, 20071022, 1515, 50.4827, 179.2755, 6967,    931.7, 2,   2.7716, 2,  34.3943, 2,  34.3940, 2,     21.6, 2,     24.1, 2,   145.88, 2,    43.87, 2,     0.00, 2,     3.13, 2,    0.136, 2,    0.062, 2,    0.005, 2, -999.000, 9,   2381.3, 2,   2380.6, 2,    7.3407,     25.00,   -999.0, 1,   -999.0,  -999.00, 1,   -999.0,   2.7107, 27.4274,   2.7715, 2, 6, 0.44, 0.16, 0.01, 0.018,  -999.00, 9, -999.00, -999.00, 9, -999.00
49NZ20071008, P14N, 23, 1, 23, X12027, 2, 20071022, 1515, 50.4827, 179.2755, 6967,   1069.7, 2,   2.5793, 2,  34.4371, 2,  34.4375, 6,     23.6, 2,     25.6, 2,   152.39, 2,    43.93, 2,     0.00, 2,     3.13, 2,    0.080, 2,    0.037, 2,    0.006, 2, -999.000, 9,   2385.8, 2,   2387.9, 2,    7.3471,     25.00,   -999.0, 1,   -999.0,  -999.00, 1,   -999.0,   2.5097, 27.4790,   2.5791, 2, 2, 0.45, 0.16, 0.01, 0.018,  -999.00, 9, -999.00, -999.00, 9, -999.00
49NZ20071008, P14N, 23, 1, 22, X12028, 2, 20071022, 1515, 50.4827, 179.2755, 6967,   1270.6, 2,   2.3908, 2,  34.4803, 2,  34.4808, 2,     31.5, 2,     32.1, 2,   157.80, 2,    43.61, 2,     0.00, 2,     3.11, 2,    0.051, 2,    0.023, 2,    0.005, 2, -999.000, 9,   2387.3, 2,   2395.8, 2,    7.3633,     25.00,   -999.0, 1,   -999.0,  -999.00, 1,   -999.0,   2.3079, 27.5304,   2.3908, 2, 2, 0.47, 0.15, 0.01, 0.018,  -999.00, 9, -999.00, -999.00, 9, -999.00
49NZ20071008, P14N, 23, 1, 21, X12009, 2, 20071022, 1515, 50.4827, 179.2755, 6967,   1472.0, 2,   2.2072, 2,  34.5236, 2,  34.5232, 2,     39.5, 2,     41.7, 2,   161.50, 2,    43.12, 2,     0.00, 2,     3.07, 2,    0.024, 2,    0.010, 2,    0.007, 2, -999.000, 9,   2387.1, 2,   2402.3, 2,    7.3848,     25.00,   -999.0, 1,   -999.0,  -999.00, 1,   -999.0,   2.1108, 27.5812,   2.2071, 2, 2, 0.47, 0.15, 0.01, 0.018,  -999.00, 9, -999.00, -999.00, 9, -999.00
49NZ20071008, P14N, 23, 1, 20, X12026, 2, 20071022, 1515, 50.4827, 179.2755, 6967,   1669.1, 2,   2.0617, 2,  34.5564, 2,  34.5561, 2,     50.6, 2,     51.0, 2,   164.56, 2,    42.59, 2,     0.00, 2,     3.02, 2,    0.007, 2,    0.000, 2,    0.000, 2, -999.000, 9,   2386.6, 2,   2407.5, 2,    7.4058,     25.00,   -999.0, 1,   -999.0,  -999.00, 1,   -999.0,   1.9516, 27.6201,   2.0616, 2, 6, 0.48, 0.15, 0.01, 0.018,  -999.00, 9, -999.00, -999.00, 9, -999.00
49NZ20071008, P14N, 23, 1, 19, X12025, 2, 20071022, 1515, 50.4827, 179.2755, 6967,   1869.5, 2,   1.9443, 2,  34.5819, 2,  34.5811, 2,     61.2, 2,     62.1, 2,   165.41, 2,    41.90, 2,     0.00, 2,     2.98, 2,    0.000, 2,    0.000, 2,    0.000, 2, -999.000, 9,   2378.8, 2,   2403.8, 4,    7.4281,     25.00,   -999.0, 1,   -999.0,  -999.00, 1,   -999.0,   1.8196, 27.6507,   1.9444, 2, 2, 0.48, 0.15, 0.01, 0.017,  -999.00, 9, -999.00, -999.00, 9, -999.00
49NZ20071008, P14N, 23, 1, 18, X12024, 2, 20071022, 1515, 50.4827, 179.2755, 6967,   2069.2, 2,   1.8360, 2,  34.6020, 2,  34.6018, 2,     70.9, 2,     72.0, 2,   167.14, 2,    41.30, 2,     0.00, 2,     2.93, 2,    0.000, 2,    0.000, 2,    0.000, 2, -999.000, 9,   2375.4, 2,   2413.6, 2,    7.4456,     25.00,   -999.0, 1,   -999.0,  -999.00, 1,   -999.0,   1.6964, 27.6763,   1.8359, 2, 2, 0.49, 0.15, 0.01, 0.017,  -999.00, 9, -999.00, -999.00, 9, -999.00
49NZ20071008, P14N, 23, 1, 17, X12023, 2, 20071022, 1515, 50.4827, 179.2755, 6967,   2272.1, 2,   1.7405, 2,  34.6211, 2,  34.6204, 2,     82.9, 2,     84.0, 2,   166.91, 2,    40.55, 2,     0.00, 2,     2.88, 2,    0.000, 2,    0.000, 2,    0.000, 2, -999.000, 9,   2369.5, 2,   2416.7, 2,    7.4692,     25.00,   -999.0, 1,   -999.0,  -999.00, 1,   -999.0,   1.5852, 27.6999,   1.7408, 2, 2, 0.49, 0.15, 0.01, 0.017,  -999.00, 9, -999.00, -999.00, 9, -999.00
49NZ20071008, P14N, 23, 1, 16, X12022, 2, 20071022, 1515, 50.4827, 179.2755, 6967,   2469.7, 2,   1.6755, 2,  34.6342, 2,  34.6337, 2,     93.4, 2,     94.3, 2,   166.37, 2,    39.87, 2,     0.00, 2,     2.83, 2,    0.000, 2,    0.000, 2,    0.000, 2, -999.000, 9,   2367.3, 6,   2416.2, 2,    7.4894,     25.00,   -999.0, 1,   -999.0,  -999.00, 1,   -999.0,   1.5040, 27.7163,   1.6754, 2, 2, 0.49, 0.14, 0.01, 0.017,  -999.00, 9, -999.00, -999.00, 9, -999.00
49NZ20071008, P14N, 23, 1, 15, X12021, 2, 20071022, 1515, 50.4827, 179.2755, 6967,   2670.3, 2,   1.6247, 2,  34.6442, 2,  34.6439, 2,    102.0, 2,    102.7, 2,   164.98, 2,    39.33, 2,     0.00, 2,     2.79, 2, -999.000, 9, -999.000, 9, -999.000, 9, -999.000, 9,   2362.0, 2,   2419.2, 6,    7.5048,     25.00,   -999.0, 1,   -999.0,  -999.00, 1,   -999.0,   1.4361, 27.7293,   1.6247, 2, 2, 0.48, 0.14, 0.01, 0.017,  -999.00, 9, -999.00, -999.00, 9, -999.00
49NZ20071008, P14N, 23, 1, 14, X12020, 2, 20071022, 1515, 50.4827, 179.2755, 6967,   2870.2, 2,   1.5822, 2,  34.6531, 2,  34.6527, 6,    111.9, 2,    111.2, 2,   163.66, 2,    38.79, 2,     0.00, 2,     2.74, 2,    0.000, 2,    0.000, 2,    0.000, 2, -999.000, 9,   2356.3, 2,   2419.4, 2,    7.5206,     25.00,   -999.0, 1,   -999.0,  -999.00, 1,   -999.0,   1.3760, 27.7407,   1.5823, 2, 2, 0.48, 0.14, 0.01, 0.017,  -999.00, 9, -999.00, -999.00, 9, -999.00
49NZ20071008, P14N, 23, 1, 13, X12019, 2, 20071022, 1515, 50.4827, 179.2755, 6967,   3079.6, 2,   1.5417, 2,  34.6618, 2,  34.6613, 2,    120.1, 2,    120.2, 2,   161.87, 2,    38.24, 2,     0.01, 2,     2.71, 2, -999.000, 9, -999.000, 9, -999.000, 9, -999.000, 9,   2350.4, 2,   2419.9, 2,    7.5364,     25.00,   -999.0, 1,   -999.0,  -999.00, 1,   -999.0,   1.3164, 27.7519,   1.5418, 2, 2, 0.48, 0.14, 0.01, 0.017,  -999.00, 9, -999.00, -999.00, 9, -999.00
49NZ20071008, P14N, 23, 1, 12, X12040, 2, 20071022, 1515, 50.4827, 179.2755, 6967,   3330.7, 2,   1.5038, 2,  34.6701, 2,  34.6700, 2,    128.4, 2,    129.4, 2,   158.90, 2,    37.59, 2,     0.00, 2,     2.64, 2, -999.000, 9, -999.000, 9, -999.000, 9, -999.000, 9,   2344.6, 2,   2419.6, 2,    7.5538,     25.00,   -999.0, 1,   -999.0,  -999.00, 1,   -999.0,   1.2547, 27.7629,   1.5039, 2, 2, 0.47, 0.14, 0.01, 0.017,  -999.00, 9, -999.00, -999.00, 9, -999.00
49NZ20071008, P14N, 23, 1, 11, X12047, 3, 20071022, 1515, 50.4827, 179.2755, 6967,   3579.4, 2,   1.4818, 2,  34.6762, 2,  34.6759, 2,    135.4, 2,    136.4, 2,   157.31, 2,    37.18, 2,     0.01, 2,     2.62, 2,    0.062, 3,    0.072, 3,    0.013, 3, -999.000, 9,   2338.7, 2,   2414.4, 4,    7.5660,     25.00,   -999.0, 1,   -999.0,  -999.00, 1,   -999.0,   1.2080, 27.7711,   1.4819, 2, 2, 0.47, 0.14, 0.01, 0.017,  -999.00, 9, -999.00, -999.00, 9, -999.00
49NZ20071008, P14N, 23, 1, 10, X12010, 2, 20071022, 1515, 50.4827, 179.2755, 6967,   3830.9, 2,   1.4678, 2,  34.6811, 2,  34.6806, 2,    141.3, 2,    142.2, 2,   155.97, 2,    36.75, 2,     0.00, 2,     2.58, 2, -999.000, 9, -999.000, 9, -999.000, 9, -999.000, 9,   2333.7, 2,   2420.1, 2,    7.5762,     25.00,   -999.0, 1,   -999.0,  -999.00, 1,   -999.0,   1.1680, 27.7777,   1.4679, 2, 2, 0.46, 0.14, 0.01, 0.016,  -999.00, 9, -999.00, -999.00, 9, -999.00
49NZ20071008, P14N, 23, 1, 9, X12015, 2, 20071022, 1515, 50.4827, 179.2755, 6967,   4080.5, 2,   1.4651, 2,  34.6844, 2,  34.6840, 2,    147.4, 2,    147.4, 2,   153.55, 2,    36.37, 2,     0.00, 2,     2.56, 2, -999.000, 9, -999.000, 9, -999.000, 9, -999.000, 9,   2330.2, 2,   2420.0, 2,    7.5842,     25.00,   -999.0, 1,   -999.0,  -999.00, 1,   -999.0,   1.1384, 27.7825,   1.4652, 2, 2, 0.46, 0.13, 0.01, 0.016,  -999.00, 9, -999.00, -999.00, 9, -999.00
49NZ20071008, P14N, 23, 1, 8, X12046, 2, 20071022, 1515, 50.4827, 179.2755, 6967,   4330.8, 2,   1.4704, 2,  34.6870, 2,  34.6867, 2,    151.6, 2,    150.7, 2,   152.70, 2,    36.13, 2,     0.00, 2,     2.55, 2,    0.000, 2,    0.000, 2,    0.000, 2, -999.000, 9,   2328.8, 6,   2417.8, 2,    7.5887,     25.00,   -999.0, 1,   -999.0,  -999.00, 1,   -999.0,   1.1157, 27.7861,   1.4706, 2, 2, 0.45, 0.13, 0.01, 0.016,  -999.00, 9, -999.00, -999.00, 9, -999.00
49NZ20071008, P14N, 23, 1, 7, X12044, 2, 20071022, 1515, 50.4827, 179.2755, 6967,   4580.0, 2,   1.4834, 2,  34.6888, 2,  34.6883, 2,    152.9, 2,    153.0, 2,   152.35, 2,    36.06, 2,     0.00, 2,     2.53, 2, -999.000, 9, -999.000, 9, -999.000, 9, -999.000, 9,   2325.5, 2,   2417.5, 6,    7.5922,     25.00,   -999.0, 1,   -999.0,  -999.00, 1,   -999.0,   1.0997, 27.7886,   1.4835, 2, 2, 0.45, 0.13, 0.01, 0.016,  -999.00, 9, -999.00, -999.00, 9, -999.00
49NZ20071008, P14N, 23, 1, 6, X12048, 2, 20071022, 1515, 50.4827, 179.2755, 6967,   4830.3, 2,   1.4994, 2,  34.6903, 2,  34.6895, 6,    155.2, 2,    155.6, 2,   150.21, 2,    35.91, 2,     0.00, 2,     2.52, 2, -999.000, 9, -999.000, 9, -999.000, 9, -999.000, 9,   2323.0, 2,   2417.1, 2,    7.5962,     25.00,   -999.0, 1,   -999.0,  -999.00, 1,   -999.0,   1.0856, 27.7907,   1.4997, 2, 6, 0.45, 0.13, 0.01, 0.016,  -999.00, 9, -999.00, -999.00, 9, -999.00
49NZ20071008, P14N, 23, 1, 5, X12014, 2, 20071022, 1515, 50.4827, 179.2755, 6967,   5080.7, 2,   1.5215, 2,  34.6910, 2,  34.6905, 2,    157.2, 2,    157.5, 2,   148.44, 2,    35.76, 2,     0.00, 2,     2.50, 2,    0.000, 2,    0.000, 2,    0.000, 2, -999.000, 9,   2320.6, 2,   2416.5, 2,    7.5987,     25.00,   -999.0, 1,   -999.0,  -999.00, 1,   -999.0,   1.0767, 27.7919,   1.5216, 2, 2, 0.45, 0.13, 0.01, 0.016,  -999.00, 9, -999.00, -999.00, 9, -999.00
49NZ20071008, P14N, 23, 1, 4, X12006, 2, 20071022, 1515, 50.4827, 179.2755, 6967,   5332.7, 2,   1.5440, 2,  34.6920, 2,  34.6917, 2,    159.0, 2,    158.9, 2,   147.77, 2,    35.60, 2,     0.00, 2,     2.50, 2, -999.000, 9, -999.000, 9, -999.000, 9, -999.000, 9,   2320.4, 2,   2415.6, 2,    7.6004,     25.00,   -999.0, 1,   -999.0,  -999.00, 1,   -999.0,   1.0670, 27.7934,   1.5442, 2, 2, 0.44, 0.13, 0.01, 0.016,  -999.00, 9, -999.00, -999.00, 9, -999.00
49NZ20071008, P14N, 23, 1, 3, X12013, 2, 20071022, 1515, 50.4827, 179.2755, 6967,   5580.4, 2,   1.5761, 2,  34.6921, 2,  34.6929, 3,    159.2, 2,    159.0, 2,   147.81, 2,    35.57, 2,     0.00, 2,     2.50, 2,    0.000, 2,    0.000, 2,    0.000, 3, -999.000, 9,   2319.9, 2,   2415.7, 2,    7.5994,     25.00,   -999.0, 1,   -999.0,  -999.00, 1,   -999.0,   1.0664, 27.7935,   1.5763, 2, 2, 0.44, 0.13, 0.01, 0.016,  -999.00, 9, -999.00, -999.00, 9, -999.00
49NZ20071008, P14N, 23, 1, 2, X12002, 2, 20071022, 1515, 50.4827, 179.2755, 6967,   5829.2, 2,   1.6098, 2,  34.6920, 2,  34.6919, 2,    159.2, 2,    159.1, 2,   147.98, 2,    35.66, 2,     0.00, 2,     2.51, 2,    0.000, 2,    0.001, 2,    0.000, 2, -999.000, 9,   2320.2, 2,   2415.2, 2,    7.5998,     25.00,   -999.0, 1,   -999.0,  -999.00, 1,   -999.0,   1.0664, 27.7934,   1.6099, 2, 2, 0.44, 0.13, 0.01, 0.016,  -999.00, 9, -999.00, -999.00, 9, -999.00
49NZ20071008, P14N, 23, 1, 1, X12001, 2, 20071022, 1515, 50.4827, 179.2755, 6967,   6501.9, 2,   1.7047, 2,  34.6918, 2,  34.6919, 6,    159.4, 2,    159.5, 2,   147.50, 2,    35.59, 2,     0.01, 2,     2.50, 2,    0.000, 2,    0.000, 2,    0.000, 2, -999.000, 9,   2320.1, 2,   2414.9, 2,    7.6006,     25.00,   -999.0, 1,   -999.0,  -999.00, 1,   -999.0,   1.0660, 27.7933,   1.7048, 2, 2, 0.44, 0.13, 0.01, 0.016,  -999.00, 9, -999.00, -999.00, 9, -999.00