BOTTLE,20221005CCHSIOAMB
EXPOCODE,SECT_ID,STNNBR,CASTNO,SAMPNO,BTLNBR,BTLNBR_FLAG_W,DATE,TIME,LATITUDE,LONGITUDE,DEPTH,CTDPRS,CTDPRS_FLAG_W,CTDTMP,CTDTMP_FLAG_W,CTDSAL,CTDSAL_FLAG_W,SALNTY,SALNTY_FLAG_W,CTDOXY,CTDOXY_FLAG_W,OXYGEN,OXYGEN_FLAG_W,SILCAT,SILCAT_FLAG_W,NITRAT,NITRAT_FLAG_W,NITRIT,NITRIT_FLAG_W,PHSPHT,PHSPHT_FLAG_W,CFC-11,CFC-11_FLAG_W,CFC-12,CFC-12_FLAG_W,CFC113,CFC113_FLAG_W,CCL4,CCL4_FLAG_W,TCARBN,TCARBN_FLAG_W,ALKALI,ALKALI_FLAG_W,PH_TOT,PH_TMP,DELC14,DELC14_FLAG_W,C14ERR,DELC13,DELC13_FLAG_W,C13ERR,THETA,SIG0,SBE35,SBE35_FLAG_W,PH_TOT_FLAG_W,SILUNC,NRAUNC,NRIUNC,PHPUNC,CS-137,CS-137_FLAG_W,CS137ER,PLUTO,PLUTO_FLAG_W,PLUTOER
,,,,,,,,,,,METERS,DBAR,,ITS-90,,PSS-78,,PSS-78,,UMOL/KG,,UMOL/KG,,UMOL/KG,,UMOL/KG,,UMOL/KG,,UMOL/KG,,PMOL/KG,,PMOL/KG,,PMOL/KG,,PMOL/KG,,UMOL/KG,,UMOL/KG,,,DEG C,/MILLE,,/MILLE,/MILLE,,/MILLE,DEG C,KG/M^3,ITS-90,,,UMOL/KG,UMOL/KG,UMOL/KG,UMOL/KG,DM/.1MG,,BQ/M^3,MBQ/M^3,,MBQ/M^3
49NZ20071008, P14N, X01, 1, 36, X12042, 2, 20071030, 0041, 46.9832, 179.4533, 5679,      9.6, 2,   8.5724, 2,  32.7029, 2,  32.7029, 2,   -999.0, 9,    290.1, 2,    21.10, 2,    13.10, 2,     0.28, 2,     1.29, 2,    3.877, 2,    2.249, 2,    0.333, 2, -999.000, 9,   2038.1, 2,   2208.0, 2,    7.8347,     25.00,   -999.0, 1,   -999.0,  -999.00, 1,   -999.0,   8.5714, 25.3855,   8.5734, 2, 6, 0.17, 0.07, 0.01, 0.014,  -999.00, 9, -999.00, -999.00, 9, -999.00
49NZ20071008, P14N, X01, 1, 35, X12041, 2, 20071030, 0041, 46.9832, 179.4533, 5679,     49.9, 2,   8.5468, 2,  32.7057, 2,  32.7065, 2,    289.8, 2,    289.8, 2,    21.16, 2,    13.15, 2,     0.29, 2,     1.29, 2,    3.904, 2,    2.271, 2,    0.348, 2, -999.000, 9,   2038.7, 6,   2209.4, 2,    7.8334,     25.00,   -999.0, 1,   -999.0,  -999.00, 1,   -999.0,   8.5418, 25.3922,   8.5475, 2, 2, 0.17, 0.07, 0.01, 0.014,  -999.00, 9, -999.00, -999.00, 9, -999.00
49NZ20071008, P14N, X01, 1, 34, X12016, 2, 20071030, 0041, 46.9832, 179.4533, 5679,    100.4, 2,   3.9865, 2,  33.0935, 2,  33.0933, 2,    308.2, 2,    306.8, 2,    31.66, 2,    20.10, 2,     0.02, 2,     1.65, 2,    5.103, 2,    2.898, 2,    0.451, 2, -999.000, 9,   2106.9, 2,   2231.6, 6,    7.7178,     25.00,   -999.0, 1,   -999.0,  -999.00, 1,   -999.0,   3.9798, 26.2717,   3.9878, 2, 2, 0.19, 0.09, 0.01, 0.014,  -999.00, 9, -999.00, -999.00, 9, -999.00
49NZ20071008, P14N, X01, 1, 33, X12033, 2, 20071030, 0041, 46.9832, 179.4533, 5679,    149.0, 2,   3.4712, 2,  33.4024, 2,  33.4000, 2,    238.6, 2,    244.5, 2,    47.61, 2,    26.95, 2,     0.01, 2,     2.07, 2,    4.565, 2,    2.554, 2,    0.337, 6, -999.000, 9,   2169.7, 2,   2255.1, 2,    7.5970,     25.00,   -999.0, 1,   -999.0,  -999.00, 1,   -999.0,   3.4618, 26.5678,   3.4704, 2, 6, 0.22, 0.11, 0.01, 0.015,  -999.00, 9, -999.00, -999.00, 9, -999.00
49NZ20071008, P14N, X01, 1, 32, X12038, 2, 20071030, 0041, 46.9832, 179.4533, 5679,    200.2, 2,   3.4711, 2,  33.6466, 2,  33.6467, 2,    159.7, 2,    165.1, 2,    65.88, 2,    33.39, 2,     0.01, 2,     2.48, 2,    3.626, 2,    1.959, 2,    0.250, 2, -999.000, 9,   2234.2, 2,   2276.3, 2,    7.4710,     25.00,   -999.0, 1,   -999.0,  -999.00, 1,   -999.0,   3.4583, 26.7627,   3.4714, 2, 2, 0.26, 0.13, 0.01, 0.016,  -999.00, 9, -999.00, -999.00, 9, -999.00
49NZ20071008, P14N, X01, 1, 31, X12003, 2, 20071030, 0041, 46.9832, 179.4533, 5679,    250.1, 2,   3.4803, 2,  33.7686, 2,  33.7665, 6,    117.5, 2,    116.3, 2,    78.42, 2,    37.20, 2,     0.01, 2,     2.72, 2,    2.966, 2,    1.543, 2,    0.213, 2, -999.000, 9,   2271.3, 2,   2288.6, 2,    7.3994,     25.00,   -999.0, 1,   -999.0,  -999.00, 1,   -999.0,   3.4642, 26.8593,   3.4807, 2, 2, 0.29, 0.14, 0.01, 0.017,  -999.00, 9, -999.00, -999.00, 9, -999.00
49NZ20071008, P14N, X01, 1, 30, X12008, 2, 20071030, 0041, 46.9832, 179.4533, 5679,    299.7, 2,   3.6158, 2,  33.8640, 2,  33.8593, 2,     89.2, 2,     89.1, 2,    86.30, 2,    39.06, 2,     0.01, 2,     2.83, 2,    2.455, 2,    1.250, 2,    0.155, 2, -999.000, 9,   2293.3, 2,   2298.5, 2,    7.3676,     25.00,   -999.0, 1,   -999.0,  -999.00, 1,   -999.0,   3.5960, 26.9226,   3.6164, 2, 2, 0.31, 0.14, 0.01, 0.017,  -999.00, 9, -999.00, -999.00, 9, -999.00
49NZ20071008, P14N, X01, 1, 29, X12035, 2, 20071030, 0041, 46.9832, 179.4533, 5679,    401.4, 2,   3.5743, 2,  34.0180, 2,  34.0176, 2,     53.9, 2,     49.6, 2,   102.62, 2,    41.91, 2,     0.00, 2,     3.02, 2,    1.552, 2,    0.762, 2,    0.107, 2, -999.000, 9,   2325.2, 2,   2318.4, 2,    7.3253,     25.00,   -999.0, 1,   -999.0,  -999.00, 1,   -999.0,   3.5474, 27.0500,   3.5747, 2, 3, 0.34, 0.15, 0.01, 0.018,  -999.00, 9, -999.00, -999.00, 9, -999.00
49NZ20071008, P14N, X01, 1, 28, X12034, 2, 20071030, 0041, 46.9832, 179.4533, 5679,    500.1, 2,   3.5502, 2,  34.1294, 2,  34.1300, 6,     38.8, 2,     37.1, 2,   112.84, 2,    42.54, 2,     0.00, 2,     3.06, 2,    0.992, 2,    0.477, 2,    0.056, 2, -999.000, 9,   2340.0, 2,   2336.1, 2,    7.3273,     25.00,   -999.0, 1,   -999.0,  -999.00, 1,   -999.0,   3.5164, 27.1418,   3.5503, 2, 2, 0.37, 0.15, 0.01, 0.018,  -999.00, 9, -999.00, -999.00, 9, -999.00
49NZ20071008, P14N, X01, 1, 27, X12049, 2, 20071030, 0041, 46.9832, 179.4533, 5679,    601.7, 2,   3.3914, 2,  34.2109, 2,  34.2103, 2,     31.7, 2,     28.9, 2,   121.83, 2,    43.17, 2,     0.00, 2,     3.10, 2,    0.632, 2,    0.305, 2,    0.025, 2, -999.000, 9,   2353.6, 2,   2349.7, 2,    7.3238,     25.00,   -999.0, 1,   -999.0,  -999.00, 1,   -999.0,   3.3509, 27.2226,   3.3908, 2, 2, 0.39, 0.15, 0.01, 0.018,  -999.00, 9, -999.00, -999.00, 9, -999.00
49NZ20071008, P14N, X01, 1, 26, X12032, 2, 20071030, 0041, 46.9832, 179.4533, 5679,    701.0, 2,   3.2192, 2,  34.2738, 2,  34.2734, 2,     25.2, 2,     25.3, 2,   129.79, 2,    43.47, 2,     0.00, 2,     3.12, 2,    0.411, 2,    0.193, 2,    0.025, 2, -999.000, 9,   2364.1, 6,   2359.5, 2,    7.3280,     25.00,   -999.0, 1,   -999.0,  -999.00, 1,   -999.0,   3.1723, 27.2896,   3.2196, 2, 2, 0.40, 0.15, 0.01, 0.018,  -999.00, 9, -999.00, -999.00, 9, -999.00
49NZ20071008, P14N, X01, 1, 25, X12043, 2, 20071030, 0041, 46.9832, 179.4533, 5679,    804.5, 2,   3.0397, 2,  34.3301, 2,  34.3291, 2,     27.3, 2,     25.1, 2,   136.41, 2,    43.60, 2,     0.00, 2,     3.13, 2,    0.265, 6,    0.122, 6,    0.008, 6, -999.000, 9,   2369.8, 2,   2367.6, 6,    7.3371,     25.00,   -999.0, 1,   -999.0,  -999.00, 1,   -999.0,   2.9863, 27.3515,   3.0399, 2, 2, 0.42, 0.15, 0.01, 0.018,  -999.00, 9, -999.00, -999.00, 9, -999.00
49NZ20071008, P14N, X01, 1, 24, X12030, 2, 20071030, 0041, 46.9832, 179.4533, 5679,    902.0, 2,   2.8926, 2,  34.3737, 2,  34.3730, 2,     26.0, 2,     26.5, 2,   140.79, 2,    43.40, 2,     0.00, 2,     3.12, 2,    0.167, 2,    0.084, 2,    0.000, 2, -999.000, 9,   2374.4, 2,   2375.9, 2,    7.3436,     25.00,   -999.0, 1,   -999.0,  -999.00, 1,   -999.0,   2.8330, 27.4002,   2.8929, 2, 6, 0.43, 0.15, 0.01, 0.018,  -999.00, 9, -999.00, -999.00, 9, -999.00
49NZ20071008, P14N, X01, 1, 23, X12027, 2, 20071030, 0041, 46.9832, 179.4533, 5679,   1005.5, 2,   2.7344, 2,  34.4062, 2,  34.4055, 6,     26.8, 2,     26.4, 2,   146.59, 2,    43.64, 2,     0.00, 2,     3.13, 2,    0.126, 2,    0.060, 2,    0.003, 2, -999.000, 9,   2379.1, 2,   2382.2, 2,    7.3444,     25.00,   -999.0, 1,   -999.0,  -999.00, 1,   -999.0,   2.6683, 27.4406,   2.7348, 2, 2, 0.44, 0.15, 0.01, 0.018,  -999.00, 9, -999.00, -999.00, 9, -999.00
49NZ20071008, P14N, X01, 1, 22, X12028, 2, 20071030, 0041, 46.9832, 179.4533, 5679,   1201.2, 2,   2.4848, 2,  34.4610, 2,  34.4607, 2,     30.0, 2,     30.8, 2,   154.18, 2,    43.49, 2,     0.00, 2,     3.11, 2,    0.070, 2,    0.031, 2,    0.003, 2, -999.000, 9,   2388.5, 3,   2392.6, 2,    7.3594,     25.00,   -999.0, 1,   -999.0,  -999.00, 1,   -999.0,   2.4063, 27.5068,   2.4850, 2, 2, 0.46, 0.15, 0.01, 0.018,  -999.00, 9, -999.00, -999.00, 9, -999.00
49NZ20071008, P14N, X01, 1, 21, X12009, 2, 20071030, 0041, 46.9832, 179.4533, 5679,   1399.8, 2,   2.2761, 2,  34.5077, 2,  34.5072, 2,     38.3, 2,     38.8, 2,   159.78, 2,    43.20, 2,     0.00, 2,     3.08, 2,    0.035, 2,    0.014, 2,    0.037, 4, -999.000, 9,   2386.6, 2,   2400.1, 2,    7.3765,     25.00,   -999.0, 1,   -999.0,  -999.00, 1,   -999.0,   2.1845, 27.5624,   2.2763, 2, 2, 0.47, 0.15, 0.01, 0.018,  -999.00, 9, -999.00, -999.00, 9, -999.00
49NZ20071008, P14N, X01, 1, 20, X12026, 2, 20071030, 0041, 46.9832, 179.4533, 5679,   1603.0, 2,   2.1168, 2,  34.5447, 2,  34.5440, 2,     47.4, 2,     48.5, 2,   162.66, 2,    42.67, 2,     0.00, 2,     3.04, 2,    0.019, 2,    0.009, 2,    0.004, 2, -999.000, 9,   2388.7, 2,   2406.3, 2,    7.3985,     25.00,   -999.0, 1,   -999.0,  -999.00, 1,   -999.0,   2.0112, 27.6060,   2.1172, 2, 6, 0.48, 0.15, 0.01, 0.018,  -999.00, 9, -999.00, -999.00, 9, -999.00
49NZ20071008, P14N, X01, 1, 19, X12025, 2, 20071030, 0041, 46.9832, 179.4533, 5679,   1802.0, 2,   2.0022, 2,  34.5702, 2,  34.5702, 2,     57.5, 2,     57.2, 2,   164.52, 2,    42.06, 2,     0.00, 2,     3.00, 2,    0.004, 2,    0.003, 2,    0.000, 2, -999.000, 9,   2383.1, 2,   2409.9, 2,    7.4162,     25.00,   -999.0, 1,   -999.0,  -999.00, 1,   -999.0,   1.8822, 27.6365,   2.0024, 2, 2, 0.48, 0.15, 0.01, 0.017,  -999.00, 9, -999.00, -999.00, 9, -999.00
49NZ20071008, P14N, X01, 1, 18, X12024, 2, 20071030, 0041, 46.9832, 179.4533, 5679,   2001.1, 2,   1.8940, 2,  34.5930, 2,  34.5929, 2,     68.4, 2,     68.4, 2,   165.29, 2,    41.44, 2,     0.00, 2,     2.95, 2,    0.005, 2,    0.002, 2,    0.000, 2, -999.000, 9,   2379.9, 2,   2414.1, 2,    7.4381,     25.00,   -999.0, 1,   -999.0,  -999.00, 1,   -999.0,   1.7592, 27.6643,   1.8942, 2, 2, 0.48, 0.15, 0.01, 0.017,  -999.00, 9, -999.00, -999.00, 9, -999.00
49NZ20071008, P14N, X01, 1, 17, X12023, 2, 20071030, 0041, 46.9832, 179.4533, 5679,   2199.8, 2,   1.7960, 2,  34.6125, 2,  34.6123, 2,     76.5, 2,     79.1, 2,   165.81, 2,    40.76, 2,     0.00, 2,     2.90, 2,    0.000, 2,    0.000, 2,    0.000, 2, -999.000, 9,   2372.2, 2,   2415.7, 2,    7.4585,     25.00,   -999.0, 1,   -999.0,  -999.00, 1,   -999.0,   1.6460, 27.6884,   1.7963, 2, 2, 0.48, 0.15, 0.01, 0.017,  -999.00, 9, -999.00, -999.00, 9, -999.00
49NZ20071008, P14N, X01, 1, 16, X12022, 2, 20071030, 0041, 46.9832, 179.4533, 5679,   2400.9, 2,   1.7161, 2,  34.6282, 2,  34.6282, 2,     89.4, 2,     89.9, 2,   165.09, 2,    40.11, 2,     0.00, 2,     2.85, 2,    0.000, 2,    0.000, 2,    0.000, 2, -999.000, 9,   2367.1, 6,   2417.1, 2,    7.4790,     25.00,   -999.0, 1,   -999.0,  -999.00, 1,   -999.0,   1.5500, 27.7081,   1.7162, 2, 2, 0.48, 0.15, 0.01, 0.017,  -999.00, 9, -999.00, -999.00, 9, -999.00
49NZ20071008, P14N, X01, 1, 15, X12021, 2, 20071030, 0041, 46.9832, 179.4533, 5679,   2602.5, 2,   1.6454, 2,  34.6415, 2,  34.6415, 6,     99.8, 2,    100.9, 2,   163.79, 2,    39.36, 2,     0.00, 2,     2.80, 2, -999.000, 9, -999.000, 9, -999.000, 9, -999.000, 9,   2360.6, 2,   2418.5, 6,    7.5000,     25.00,   -999.0, 1,   -999.0,  -999.00, 1,   -999.0,   1.4626, 27.7252,   1.6457, 2, 2, 0.48, 0.14, 0.01, 0.017,  -999.00, 9, -999.00, -999.00, 9, -999.00
49NZ20071008, P14N, X01, 1, 14, X12020, 2, 20071030, 0041, 46.9832, 179.4533, 5679,   2802.8, 2,   1.5980, 2,  34.6511, 2,  34.6510, 2,    108.4, 2,    109.8, 2,   162.08, 2,    38.90, 2,     0.00, 2,     2.75, 2, -999.000, 9, -999.000, 9, -999.000, 9, -999.000, 9,   2356.0, 2,   2418.6, 2,    7.5175,     25.00,   -999.0, 1,   -999.0,  -999.00, 1,   -999.0,   1.3978, 27.7375,   1.5981, 2, 6, 0.48, 0.14, 0.01, 0.017,  -999.00, 9, -999.00, -999.00, 9, -999.00
49NZ20071008, P14N, X01, 1, 13, X12019, 2, 20071030, 0041, 46.9832, 179.4533, 5679,   3001.0, 2,   1.5622, 2,  34.6585, 2,  34.6586, 2,    117.5, 2,    117.9, 2,   160.41, 2,    38.20, 2,     0.00, 2,     2.71, 2,    0.000, 2,    0.002, 2,    0.000, 2, -999.000, 9,   2349.7, 2,   2419.2, 2,    7.5307,     25.00,   -999.0, 1,   -999.0,  -999.00, 1,   -999.0,   1.3440, 27.7473,   1.5623, 2, 2, 0.47, 0.14, 0.01, 0.017,  -999.00, 9, -999.00, -999.00, 9, -999.00
49NZ20071008, P14N, X01, 1, 12, X12040, 2, 20071030, 0041, 46.9832, 179.4533, 5679,   3251.8, 2,   1.5190, 2,  34.6673, 2,  34.6673, 2,    127.3, 2,    127.1, 2,   157.88, 2,    37.69, 2,     0.00, 2,     2.66, 2, -999.000, 9, -999.000, 9, -999.000, 9, -999.000, 9,   2343.8, 2,   2418.8, 2,    7.5478,     25.00,   -999.0, 1,   -999.0,  -999.00, 1,   -999.0,   1.2774, 27.7591,   1.5193, 2, 2, 0.47, 0.14, 0.01, 0.017,  -999.00, 9, -999.00, -999.00, 9, -999.00
49NZ20071008, P14N, X01, 1, 11, X12047, 2, 20071030, 0041, 46.9832, 179.4533, 5679,   3502.5, 2,   1.4921, 2,  34.6736, 2,  34.6737, 2,    134.9, 2,    134.7, 2,   156.00, 2,    37.24, 2,     0.00, 2,     2.62, 2, -999.000, 9, -999.000, 9, -999.000, 9, -999.000, 9,   2337.2, 2,   2419.2, 2,    7.5614,     25.00,   -999.0, 1,   -999.0,  -999.00, 1,   -999.0,   1.2260, 27.7677,   1.4923, 2, 2, 0.46, 0.14, 0.01, 0.017,  -999.00, 9, -999.00, -999.00, 9, -999.00
49NZ20071008, P14N, X01, 1, 10, X12017, 2, 20071030, 0041, 46.9832, 179.4533, 5679,   3754.1, 2,   1.4711, 2,  34.6791, 2,  34.6791, 2,    141.7, 2,    141.4, 2,   154.88, 2,    36.85, 2,     0.00, 2,     2.59, 2,    0.000, 2,    0.000, 2,    0.000, 2, -999.000, 9,   2333.5, 2,   2420.1, 2,    7.5734,     25.00,   -999.0, 1,   -999.0,  -999.00, 1,   -999.0,   1.1794, 27.7754,   1.4713, 2, 2, 0.46, 0.14, 0.01, 0.016,  -999.00, 9, -999.00, -999.00, 9, -999.00
49NZ20071008, P14N, X01, 1, 9, X12015, 2, 20071030, 0041, 46.9832, 179.4533, 5679,   4003.9, 2,   1.4647, 2,  34.6830, 2,  34.6830, 2,    146.4, 2,    146.5, 2,   153.75, 2,    36.43, 2,     0.00, 2,     2.56, 2, -999.000, 9, -999.000, 9, -999.000, 9, -999.000, 9,   2332.6, 2,   2421.2, 2,    7.5824,     25.00,   -999.0, 1,   -999.0,  -999.00, 1,   -999.0,   1.1464, 27.7808,   1.4648, 2, 2, 0.46, 0.13, 0.01, 0.016,  -999.00, 9, -999.00, -999.00, 9, -999.00
49NZ20071008, P14N, X01, 1, 8, X12046, 2, 20071030, 0041, 46.9832, 179.4533, 5679,   4253.0, 2,   1.4689, 2,  34.6857, 2,  34.6861, 6,    149.8, 2,    149.7, 2,   153.83, 2,    36.31, 2,     0.00, 2,     2.54, 2, -999.000, 9, -999.000, 9, -999.000, 9, -999.000, 9,   2327.8, 6,   2421.0, 2,    7.5890,     25.00,   -999.0, 1,   -999.0,  -999.00, 1,   -999.0,   1.1230, 27.7845,   1.4690, 2, 2, 0.46, 0.13, 0.01, 0.016,  -999.00, 9, -999.00, -999.00, 9, -999.00
49NZ20071008, P14N, X01, 1, 7, X12044, 2, 20071030, 0041, 46.9832, 179.4533, 5679,   4504.3, 2,   1.4853, 2,  34.6875, 2,  34.6877, 2,    151.1, 2,    151.3, 2,   154.88, 2,    36.16, 2,     0.00, 2,     2.54, 2,    0.002, 2,    0.000, 2,    0.000, 2, -999.000, 9,   2326.9, 2,   2421.4, 6,    7.5941,     25.00,   -999.0, 1,   -999.0,  -999.00, 1,   -999.0,   1.1103, 27.7868,   1.4854, 2, 2, 0.46, 0.13, 0.01, 0.016,  -999.00, 9, -999.00, -999.00, 9, -999.00
49NZ20071008, P14N, X01, 1, 6, X12048, 2, 20071030, 0041, 46.9832, 179.4533, 5679,   4752.9, 2,   1.5097, 2,  34.6884, 2,  34.6885, 2,    152.0, 2,    152.0, 2,   155.86, 2,    36.13, 2,     0.00, 2,     2.54, 2, -999.000, 9, -999.000, 9, -999.000, 9, -999.000, 9,   2327.6, 2,   2421.6, 2,    7.5952,     25.00,   -999.0, 1,   -999.0,  -999.00, 1,   -999.0,   1.1048, 27.7879,   1.5097, 2, 2, 0.46, 0.13, 0.01, 0.016,  -999.00, 9, -999.00, -999.00, 9, -999.00
49NZ20071008, P14N, X01, 1, 5, X12014, 2, 20071030, 0041, 46.9832, 179.4533, 5679,   4998.8, 2,   1.5377, 2,  34.6889, 2,  34.6891, 2,    152.5, 2,    152.5, 2,   157.01, 2,    36.15, 2,     0.00, 2,     2.54, 2, -999.000, 9, -999.000, 9, -999.000, 9, -999.000, 9,   2326.9, 2,   2421.6, 2,    7.5957,     25.00,   -999.0, 1,   -999.0,  -999.00, 1,   -999.0,   1.1023, 27.7885,   1.5378, 2, 2, 0.46, 0.13, 0.01, 0.016,  -999.00, 9, -999.00, -999.00, 9, -999.00
49NZ20071008, P14N, X01, 1, 4, X12006, 2, 20071030, 0041, 46.9832, 179.4533, 5679,   5248.8, 2,   1.5688, 2,  34.6889, 2,  34.6892, 2,    152.8, 2,    152.8, 2,   156.65, 2,    36.10, 2,     0.00, 2,     2.54, 2,    0.002, 2,    0.001, 2,    0.000, 2, -999.000, 9,   2327.2, 2,   2421.1, 2,    7.5962,     25.00,   -999.0, 1,   -999.0,  -999.00, 1,   -999.0,   1.1015, 27.7886,   1.5689, 2, 2, 0.46, 0.13, 0.01, 0.016,  -999.00, 9, -999.00, -999.00, 9, -999.00
49NZ20071008, P14N, X01, 1, 3, X12013, 2, 20071030, 0041, 46.9832, 179.4533, 5679,   5500.8, 2,   1.5999, 2,  34.6892, 2,  34.6888, 2,    153.2, 2,    153.3, 2,   155.74, 2,    36.05, 2,     0.00, 2,     2.53, 2,    0.001, 2,    0.000, 2,    0.000, 2, -999.000, 9,   2325.8, 2,   2421.2, 2,    7.5970,     25.00,   -999.0, 1,   -999.0,  -999.00, 1,   -999.0,   1.0996, 27.7889,   1.6000, 2, 2, 0.46, 0.13, 0.01, 0.016,  -999.00, 9, -999.00, -999.00, 9, -999.00
49NZ20071008, P14N, X01, 1, 2, X12002, 2, 20071030, 0041, 46.9832, 179.4533, 5679,   5500.3, 2,   1.6000, 2,  34.6892, 2, -999.0000, 9,    153.2, 2,   -999.0, 9,  -999.00, 9,  -999.00, 9,  -999.00, 9,  -999.00, 9, -999.000, 9, -999.000, 9, -999.000, 9, -999.000, 9,   -999.0, 9,   -999.0, 9, -999.0000,   -999.00,   -999.0, 9,   -999.0,  -999.00, 9,   -999.0,   1.0998, 27.7889,   1.6000, 2, 9, -999.00, -999.00, -999.00, -999.000,  -999.00, 9, -999.00, -999.00, 9, -999.00
49NZ20071008, P14N, X01, 1, 1, X12001, 2, 20071030, 0041, 46.9832, 179.4533, 5679,   5716.8, 2,   1.6272, 2,  34.6893, 2,  34.6893, 6,    153.6, 2,    153.6, 2,   155.45, 2,    35.90, 2,     0.00, 2,     2.53, 2,    0.000, 2,    0.004, 2,    0.000, 2, -999.000, 9,   2324.7, 2,   2420.0, 2,    7.5971,     25.00,   -999.0, 1,   -999.0,  -999.00, 1,   -999.0,   1.0979, 27.7891,   1.6273, 2, 2, 0.46, 0.13, 0.01, 0.016,  -999.00, 9, -999.00, -999.00, 9, -999.00