BOTTLE,20221005CCHSIOAMB
EXPOCODE,SECT_ID,STNNBR,CASTNO,SAMPNO,BTLNBR,BTLNBR_FLAG_W,DATE,TIME,LATITUDE,LONGITUDE,DEPTH,CTDPRS,CTDPRS_FLAG_W,CTDTMP,CTDTMP_FLAG_W,CTDSAL,CTDSAL_FLAG_W,SALNTY,SALNTY_FLAG_W,CTDOXY,CTDOXY_FLAG_W,OXYGEN,OXYGEN_FLAG_W,SILCAT,SILCAT_FLAG_W,NITRAT,NITRAT_FLAG_W,NITRIT,NITRIT_FLAG_W,PHSPHT,PHSPHT_FLAG_W,CFC-11,CFC-11_FLAG_W,CFC-12,CFC-12_FLAG_W,CFC113,CFC113_FLAG_W,CCL4,CCL4_FLAG_W,TCARBN,TCARBN_FLAG_W,ALKALI,ALKALI_FLAG_W,PH_TOT,PH_TMP,DELC14,DELC14_FLAG_W,C14ERR,DELC13,DELC13_FLAG_W,C13ERR,THETA,SIG0,SBE35,SBE35_FLAG_W,PH_TOT_FLAG_W,SILUNC,NRAUNC,NRIUNC,PHPUNC,CS-137,CS-137_FLAG_W,CS137ER,PLUTO,PLUTO_FLAG_W,PLUTOER
,,,,,,,,,,,METERS,DBAR,,ITS-90,,PSS-78,,PSS-78,,UMOL/KG,,UMOL/KG,,UMOL/KG,,UMOL/KG,,UMOL/KG,,UMOL/KG,,PMOL/KG,,PMOL/KG,,PMOL/KG,,PMOL/KG,,UMOL/KG,,UMOL/KG,,,DEG C,/MILLE,,/MILLE,/MILLE,,/MILLE,DEG C,KG/M^3,ITS-90,,,UMOL/KG,UMOL/KG,UMOL/KG,UMOL/KG,DM/.1MG,,BQ/M^3,MBQ/M^3,,MBQ/M^3
49NZ20071008, P14N, 58, 1, 36, X12042, 2, 20071105, 1802, 33.4807, 178.9897, 2938,     10.3, 2,  23.5851, 2,  34.4663, 2,  34.4729, 2,    216.0, 2,    215.5, 2,     1.91, 2,     0.04, 2,     0.01, 2,     0.05, 2,    1.859, 2,    1.129, 2,    0.309, 4, -999.000, 9,   1962.8, 2,   2267.8, 2,    8.0698,     25.00,   -999.0, 9,   -999.0,  -999.00, 9,   -999.0,  23.5830, 23.3599,  23.5765, 2, 6, 0.12, 0.03, 0.01, 0.032,  -999.00, 9, -999.00, -999.00, 9, -999.00
49NZ20071008, P14N, 58, 1, 35, X12041, 2, 20071105, 1802, 33.4807, 178.9897, 2938,     50.8, 2,  20.9277, 2,  34.4016, 2,  34.4002, 2,    250.5, 2,    246.0, 2,     2.48, 2,     0.03, 2,     0.01, 2,     0.07, 2,    2.207, 2,    1.327, 2,    0.819, 4, -999.000, 9,   1972.1, 6,   2264.9, 2,    8.0483,     25.00,   -999.0, 9,   -999.0,  -999.00, 9,   -999.0,  20.9181, 24.0606,  20.9351, 2, 2, 0.12, 0.03, 0.01, 0.027,  -999.00, 9, -999.00, -999.00, 9, -999.00
49NZ20071008, P14N, 58, 1, 34, X12016, 2, 20071105, 1802, 33.4807, 178.9897, 2938,    100.0, 2,  14.8783, 2,  34.5461, 2,  34.5460, 2,    217.5, 2,    217.6, 2,     7.47, 2,     7.24, 2,     0.03, 2,     0.55, 2,    2.716, 2,    1.574, 2,    0.175, 2, -999.000, 9,   2051.1, 2,   2275.8, 6,    7.9178,     25.00,   -999.0, 9,   -999.0,  -999.00, 9,   -999.0,  14.8633, 25.6518,  14.8798, 2, 2, 0.14, 0.05, 0.01, 0.013,  -999.00, 9, -999.00, -999.00, 9, -999.00
49NZ20071008, P14N, 58, 1, 33, X12033, 2, 20071105, 1802, 33.4807, 178.9897, 2938,    149.2, 2,  13.9053, 2,  34.4948, 2,  34.4925, 2,    219.6, 2,    220.2, 2,     9.41, 2,     8.49, 2,     0.02, 2,     0.63, 2,    2.796, 2,    1.614, 2,    0.153, 6, -999.000, 9,   2060.6, 2,   2275.1, 2,    7.8981,     25.00,   -999.0, 9,   -999.0,  -999.00, 9,   -999.0,  13.8840, 25.8209,  13.9079, 2, 2, 0.14, 0.06, 0.01, 0.013,  -999.00, 9, -999.00, -999.00, 9, -999.00
49NZ20071008, P14N, 58, 1, 32, X12038, 2, 20071105, 1802, 33.4807, 178.9897, 2938,    198.7, 2,  13.1731, 2,  34.4502, 2,  34.4477, 2,    221.1, 2,    221.4, 2,    11.43, 2,     9.74, 2,     0.01, 2,     0.73, 2,    2.834, 2,    1.612, 2,    0.158, 2, -999.000, 9,   2068.6, 2,   2274.4, 2,    7.8802,     25.00,   -999.0, 9,   -999.0,  -999.00, 9,   -999.0,  13.1457, 25.9377,  13.1756, 2, 2, 0.14, 0.06, 0.01, 0.013,  -999.00, 9, -999.00, -999.00, 9, -999.00
49NZ20071008, P14N, 58, 1, 31, X12003, 2, 20071105, 1802, 33.4807, 178.9897, 2938,    249.4, 2,  12.1003, 2,  34.3811, 2,  34.3794, 6,    205.6, 2,    204.9, 2,    16.61, 2,    13.06, 2,     0.01, 2,     0.95, 2,    2.797, 2,    1.561, 2,    0.110, 2, -999.000, 9,   2092.9, 2,   2276.8, 2,    7.8326,     25.00,   -999.0, 9,   -999.0,  -999.00, 9,   -999.0,  12.0677, 26.0955,  12.1014, 2, 2, 0.16, 0.07, 0.01, 0.013,  -999.00, 9, -999.00, -999.00, 9, -999.00
49NZ20071008, P14N, 58, 1, 30, X12008, 2, 20071105, 1802, 33.4807, 178.9897, 2938,    300.0, 2,  11.1814, 2,  34.3045, 2,  34.3030, 2,    208.6, 2,    208.4, 2,    18.87, 2,    14.28, 2,     0.01, 2,     1.05, 2,    2.948, 2,    1.640, 2,    0.129, 2, -999.000, 9,   2101.9, 2,   2274.7, 2,    7.8088,     25.00,   -999.0, 9,   -999.0,  -999.00, 9,   -999.0,  11.1441, 26.2078,  11.1826, 2, 2, 0.16, 0.07, 0.01, 0.013,  -999.00, 9, -999.00, -999.00, 9, -999.00
49NZ20071008, P14N, 58, 1, 29, X12035, 2, 20071105, 1802, 33.4807, 178.9897, 2938,    400.4, 2,   8.5979, 2,  34.0856, 2,  34.0823, 2,    206.4, 2,    200.1, 2,    30.11, 2,    19.72, 2,     0.01, 2,     1.45, 2,    3.106, 2,    1.673, 2,    0.169, 2, -999.000, 9,   2140.3, 2,   2273.8, 2,    7.7203,     25.00,   -999.0, 9,   -999.0,  -999.00, 9,   -999.0,   8.5556, 26.4717,   8.6023, 2, 2, 0.19, 0.09, 0.01, 0.014,  -999.00, 9, -999.00, -999.00, 9, -999.00
49NZ20071008, P14N, 58, 1, 28, X12034, 2, 20071105, 1802, 33.4807, 178.9897, 2938,    500.0, 2,   6.8057, 2,  34.0178, 2,  34.0174, 6,    161.2, 2,    155.1, 2,    48.14, 2,    27.03, 2,     0.01, 2,     1.98, 2,    2.575, 2,    1.326, 2,    0.129, 2, -999.000, 9,   2195.9, 2,   2284.0, 2,    7.6038,     25.00,   -999.0, 9,   -999.0,  -999.00, 9,   -999.0,   6.7593, 26.6777,   6.8066, 2, 2, 0.22, 0.11, 0.01, 0.015,  -999.00, 9, -999.00, -999.00, 9, -999.00
49NZ20071008, P14N, 58, 1, 27, X12049, 2, 20071105, 1802, 33.4807, 178.9897, 2938,    601.3, 2,   5.3550, 2,  34.0249, 2,  34.0243, 2,    115.3, 2,    113.4, 2,    69.75, 2,    33.27, 2,     0.01, 2,     2.43, 2,    1.960, 2,    0.984, 2,    0.105, 2, -999.000, 9,   2247.4, 2,   2302.3, 2,    7.4977,     25.00,   -999.0, 9,   -999.0,  -999.00, 9,   -999.0,   5.3055, 26.8667,   5.3572, 2, 2, 0.27, 0.13, 0.01, 0.016,  -999.00, 9, -999.00, -999.00, 9, -999.00
49NZ20071008, P14N, 58, 1, 26, X12032, 2, 20071105, 1802, 33.4807, 178.9897, 2938,    700.5, 2,   4.7466, 2,  34.1064, 2,  34.1078, 2,     73.2, 2,     73.3, 2,    86.82, 2,    37.82, 2,     0.01, 2,     2.74, 2,    1.122, 6,    0.539, 6,    0.055, 6, -999.000, 9,   2288.8, 6,   2320.5, 2,    7.4237,     25.00,   -999.0, 9,   -999.0,  -999.00, 9,   -999.0,   4.6916, 27.0015,   4.7467, 2, 2, 0.31, 0.14, 0.01, 0.017,  -999.00, 9, -999.00, -999.00, 9, -999.00
49NZ20071008, P14N, 58, 1, 25, X12043, 2, 20071105, 1802, 33.4807, 178.9897, 2938,    799.8, 2,   4.2473, 2,  34.1766, 2,  34.1780, 2,     52.5, 2,     53.8, 2,   100.33, 2,    40.20, 2,     0.01, 2,     2.90, 2,    0.721, 2,    0.343, 2,    0.027, 2, -999.000, 9,   2316.0, 2,   2335.1, 6,    7.3913,     25.00,   -999.0, 9,   -999.0,  -999.00, 9,   -999.0,   4.1869, 27.1118,   4.2473, 2, 2, 0.34, 0.15, 0.01, 0.017,  -999.00, 9, -999.00, -999.00, 9, -999.00
49NZ20071008, P14N, 58, 1, 24, X12030, 2, 20071105, 1802, 33.4807, 178.9897, 2938,    900.9, 2,   3.8350, 2,  34.2529, 2,  34.2538, 2,     38.5, 2,     40.7, 2,   112.95, 2,    41.61, 2,     0.01, 2,     3.00, 2,    0.405, 2,    0.191, 2,    0.016, 2, -999.000, 9,   2339.6, 2,   2349.8, 2,    7.3700,     25.00,   -999.0, 9,   -999.0,  -999.00, 9,   -999.0,   3.7690, 27.2153,   3.8354, 2, 6, 0.37, 0.15, 0.01, 0.017,  -999.00, 9, -999.00, -999.00, 9, -999.00
49NZ20071008, P14N, 58, 1, 23, X12027, 2, 20071105, 1802, 33.4807, 178.9897, 2938,    999.2, 2,   3.4757, 2,  34.3173, 2,  34.3205, 6,     29.7, 2,     30.5, 2,   124.25, 2,    42.94, 2,     0.01, 2,     3.08, 2,    0.194, 2,    0.090, 2,    0.011, 2, -999.000, 9,   2359.9, 2,   2363.3, 2,    7.3561,     25.00,   -999.0, 9,   -999.0,  -999.00, 9,   -999.0,   3.4045, 27.3023,   3.4767, 2, 2, 0.39, 0.15, 0.01, 0.018,  -999.00, 9, -999.00, -999.00, 9, -999.00
49NZ20071008, P14N, 58, 1, 22, X12028, 2, 20071105, 1802, 33.4807, 178.9897, 2938,   1200.2, 2,   2.9048, 2,  34.4206, 2,  34.4239, 2,     26.0, 2,     25.8, 2,   141.90, 2,    43.92, 2,     0.01, 2,     3.14, 2,    0.044, 2,    0.021, 2,    0.003, 2, -999.000, 9,   2381.6, 2,   2386.5, 2,    7.3524,     25.00,   -999.0, 9,   -999.0,  -999.00, 9,   -999.0,   2.8225, 27.4386,   2.9049, 2, 2, 0.43, 0.16, 0.01, 0.018,  -999.00, 9, -999.00, -999.00, 9, -999.00
49NZ20071008, P14N, 58, 1, 21, X12009, 2, 20071105, 1802, 33.4807, 178.9897, 2938,   1400.2, 2,   2.5825, 2,  34.4848, 2,  34.4851, 2,     31.5, 2,     31.3, 2,   150.40, 2,    43.70, 2,     0.01, 2,     3.11, 2,    0.014, 2,    0.006, 2,    0.000, 2, -999.000, 9,   2385.2, 2,   2396.8, 2,    7.3699,     25.00,   -999.0, 9,   -999.0,  -999.00, 9,   -999.0,   2.4876, 27.5189,   2.5824, 2, 2, 0.45, 0.16, 0.01, 0.018,  -999.00, 9, -999.00, -999.00, 9, -999.00
49NZ20071008, P14N, 58, 1, 20, X12026, 2, 20071105, 1802, 33.4807, 178.9897, 2938,   1602.2, 2,   2.2804, 2,  34.5390, 2,  34.5389, 6,     43.0, 2,     44.4, 2,   157.44, 2,    43.12, 2,     0.01, 2,     3.05, 2,    0.002, 2,    0.000, 2,    0.000, 2, -999.000, 9,   2387.9, 2,   2406.6, 2,    7.3960,     25.00,   -999.0, 9,   -999.0,  -999.00, 9,   -999.0,   2.1729, 27.5885,   2.2803, 2, 6, 0.47, 0.15, 0.01, 0.018,  -999.00, 9, -999.00, -999.00, 9, -999.00
49NZ20071008, P14N, 58, 1, 19, X12025, 2, 20071105, 1802, 33.4807, 178.9897, 2938,   1801.9, 2,   2.0506, 2,  34.5771, 2,  34.5774, 2,     60.5, 2,     60.1, 2,   160.86, 2,    42.22, 2,     0.01, 2,     2.98, 2,    0.000, 2,    0.000, 2,    0.000, 2, -999.000, 9,   2380.7, 2,   2413.2, 2,    7.4264,     25.00,   -999.0, 9,   -999.0,  -999.00, 9,   -999.0,   1.9299, 27.6384,   2.0505, 2, 2, 0.47, 0.15, 0.01, 0.017,  -999.00, 9, -999.00, -999.00, 9, -999.00
49NZ20071008, P14N, 58, 1, 18, X12024, 2, 20071105, 1802, 33.4807, 178.9897, 2938,   2000.4, 2,   1.8764, 2,  34.6050, 2,  34.6052, 2,     74.8, 2,     76.5, 2,   161.91, 2,    41.22, 2,     0.01, 2,     2.90, 2,    0.001, 2,    0.000, 2,    0.000, 2, -999.000, 9,   2373.0, 2,   2416.6, 2,    7.4571,     25.00,   -999.0, 9,   -999.0,  -999.00, 9,   -999.0,   1.7419, 27.6752,   1.8763, 2, 2, 0.48, 0.15, 0.01, 0.017,  -999.00, 9, -999.00, -999.00, 9, -999.00
49NZ20071008, P14N, 58, 1, 17, X12023, 2, 20071105, 1802, 33.4807, 178.9897, 2938,   2200.3, 2,   1.7744, 2,  34.6216, 2,  34.6220, 2,     87.4, 2,     87.9, 2,   161.88, 2,    40.25, 2,     0.01, 2,     2.85, 2,    0.000, 2,    0.000, 2,    0.000, 2, -999.000, 9,   2366.2, 2,   2418.7, 2,    7.4790,     25.00,   -999.0, 9,   -999.0,  -999.00, 9,   -999.0,   1.6247, 27.6973,   1.7743, 2, 2, 0.48, 0.15, 0.01, 0.017,  -999.00, 9, -999.00, -999.00, 9, -999.00
49NZ20071008, P14N, 58, 1, 16, X12022, 2, 20071105, 1802, 33.4807, 178.9897, 2938,   2401.8, 2,   1.6898, 2,  34.6352, 2,  34.6354, 6,     97.9, 2,     98.7, 2,   160.84, 2,    39.70, 2,     0.01, 2,     2.79, 2,    0.000, 2,    0.000, 2,    0.000, 2, -999.000, 9,   2361.3, 6,   2419.4, 2,    7.4988,     25.00,   -999.0, 9,   -999.0,  -999.00, 9,   -999.0,   1.5241, 27.7156,   1.6898, 2, 2, 0.47, 0.14, 0.01, 0.017,  -999.00, 9, -999.00, -999.00, 9, -999.00
49NZ20071008, P14N, 58, 1, 15, X12021, 2, 20071105, 1802, 33.4807, 178.9897, 2938,   2602.5, 2,   1.6105, 2,  34.6479, 2,  34.6483, 2,    109.6, 2,    110.1, 2,   159.24, 2,    38.92, 2,     0.01, 2,     2.74, 2,    0.000, 2,    0.000, 2,    0.000, 2, -999.000, 9,   2355.2, 2,   2419.8, 6,    7.5189,     25.00,   -999.0, 9,   -999.0,  -999.00, 9,   -999.0,   1.4284, 27.7328,   1.6105, 2, 2, 0.47, 0.14, 0.01, 0.017,  -999.00, 9, -999.00, -999.00, 9, -999.00
49NZ20071008, P14N, 58, 1, 14, X12020, 2, 20071105, 1802, 33.4807, 178.9897, 2938,   2800.5, 2,   1.5545, 2,  34.6573, 2,  34.6575, 2,    118.7, 2,    119.3, 2,   157.67, 2,    38.43, 2,     0.01, 2,     2.69, 2,    0.000, 2,    0.000, 2,    0.000, 2, -999.000, 9,   2348.1, 2,   2421.9, 2,    7.5367,     25.00,   -999.0, 9,   -999.0,  -999.00, 9,   -999.0,   1.3554, 27.7456,   1.5544, 2, 6, 0.47, 0.14, 0.01, 0.017,  -999.00, 9, -999.00, -999.00, 9, -999.00
49NZ20071008, P14N, 58, 1, 13, X12019, 9, 20071105, 1802, 33.4807, 178.9897, 2938,    800.4, 2,   4.2450, 2,  34.1772, 2, -999.0000, 9,     52.4, 2,   -999.0, 9,  -999.00, 9,  -999.00, 9,  -999.00, 9,  -999.00, 9, -999.000, 9, -999.000, 9, -999.000, 9, -999.000, 9,   -999.0, 9,   -999.0, 9, -999.0000,   -999.00,   -999.0, 9,   -999.0,  -999.00, 9,   -999.0,   4.1846, 27.1125,   4.2453, 2, 9, -999.00, -999.00, -999.00, -999.000,  -999.00, 9, -999.00, -999.00, 9, -999.00
49NZ20071008, P14N, 58, 1, 12, X12040, 9, 20071105, 1802, 33.4807, 178.9897, 2938,    900.9, 2,   3.8351, 2,  34.2528, 2, -999.0000, 9,     38.5, 2,   -999.0, 9,  -999.00, 9,  -999.00, 9,  -999.00, 9,  -999.00, 9, -999.000, 9, -999.000, 9, -999.000, 9, -999.000, 9,   -999.0, 9,   -999.0, 9, -999.0000,   -999.00,   -999.0, 9,   -999.0,  -999.00, 9,   -999.0,   3.7691, 27.2152,   3.8353, 2, 9, -999.00, -999.00, -999.00, -999.000,  -999.00, 9, -999.00, -999.00, 9, -999.00
49NZ20071008, P14N, 58, 1, 11, X12047, 9, 20071105, 1802, 33.4807, 178.9897, 2938,   2801.2, 2,   1.5533, 2,  34.6575, 2, -999.0000, 9,    118.8, 2,   -999.0, 9,  -999.00, 9,  -999.00, 9,  -999.00, 9,  -999.00, 9, -999.000, 9, -999.000, 9, -999.000, 9, -999.000, 9,   -999.0, 9,   -999.0, 9, -999.0000,   -999.00,   -999.0, 9,   -999.0,  -999.00, 9,   -999.0,   1.3541, 27.7458,   1.5534, 2, 9, -999.00, -999.00, -999.00, -999.000,  -999.00, 9, -999.00, -999.00, 9, -999.00
49NZ20071008, P14N, 58, 1, 10, X12017, 9, 20071105, 1802, 33.4807, 178.9897, 2938,   1199.8, 2,   2.9065, 2,  34.4204, 2, -999.0000, 9,     26.0, 2,   -999.0, 9,  -999.00, 9,  -999.00, 9,  -999.00, 9,  -999.00, 9, -999.000, 9, -999.000, 9, -999.000, 9, -999.000, 9,   -999.0, 9,   -999.0, 9, -999.0000,   -999.00,   -999.0, 9,   -999.0,  -999.00, 9,   -999.0,   2.8242, 27.4383,   2.9065, 2, 9, -999.00, -999.00, -999.00, -999.000,  -999.00, 9, -999.00, -999.00, 9, -999.00
49NZ20071008, P14N, 58, 1, 9, X12015, 9, 20071105, 1802, 33.4807, 178.9897, 2938,   1399.9, 2,   2.5823, 2,  34.4849, 2, -999.0000, 9,     31.5, 2,   -999.0, 9,  -999.00, 9,  -999.00, 9,  -999.00, 9,  -999.00, 9, -999.000, 9, -999.000, 9, -999.000, 9, -999.000, 9,   -999.0, 9,   -999.0, 9, -999.0000,   -999.00,   -999.0, 9,   -999.0,  -999.00, 9,   -999.0,   2.4875, 27.5190,   2.5823, 2, 9, -999.00, -999.00, -999.00, -999.000,  -999.00, 9, -999.00, -999.00, 9, -999.00
49NZ20071008, P14N, 58, 1, 8, X12046, 9, 20071105, 1802, 33.4807, 178.9897, 2938,   1601.9, 2,   2.2808, 2,  34.5390, 2, -999.0000, 9,     43.0, 2,   -999.0, 9,  -999.00, 9,  -999.00, 9,  -999.00, 9,  -999.00, 9, -999.000, 9, -999.000, 9, -999.000, 9, -999.000, 9,   -999.0, 9,   -999.0, 9, -999.0000,   -999.00,   -999.0, 9,   -999.0,  -999.00, 9,   -999.0,   2.1733, 27.5884,   2.2808, 2, 9, -999.00, -999.00, -999.00, -999.000,  -999.00, 9, -999.00, -999.00, 9, -999.00
49NZ20071008, P14N, 58, 1, 7, X12044, 9, 20071105, 1802, 33.4807, 178.9897, 2938,   1801.6, 2,   2.0501, 2,  34.5772, 2, -999.0000, 9,     60.5, 2,   -999.0, 9,  -999.00, 9,  -999.00, 9,  -999.00, 9,  -999.00, 9, -999.000, 9, -999.000, 9, -999.000, 9, -999.000, 9,   -999.0, 9,   -999.0, 9, -999.0000,   -999.00,   -999.0, 9,   -999.0,  -999.00, 9,   -999.0,   1.9295, 27.6385,   2.0502, 2, 9, -999.00, -999.00, -999.00, -999.000,  -999.00, 9, -999.00, -999.00, 9, -999.00
49NZ20071008, P14N, 58, 1, 6, X12048, 9, 20071105, 1802, 33.4807, 178.9897, 2938,   2000.0, 2,   1.8762, 2,  34.6050, 2, -999.0000, 9,     74.8, 2,   -999.0, 9,  -999.00, 9,  -999.00, 9,  -999.00, 9,  -999.00, 9, -999.000, 9, -999.000, 9, -999.000, 9, -999.000, 9,   -999.0, 9,   -999.0, 9, -999.0000,   -999.00,   -999.0, 9,   -999.0,  -999.00, 9,   -999.0,   1.7417, 27.6752,   1.8763, 2, 9, -999.00, -999.00, -999.00, -999.000,  -999.00, 9, -999.00, -999.00, 9, -999.00
49NZ20071008, P14N, 58, 1, 5, X12014, 9, 20071105, 1802, 33.4807, 178.9897, 2938,   2200.1, 2,   1.7749, 2,  34.6215, 2, -999.0000, 9,     87.4, 2,   -999.0, 9,  -999.00, 9,  -999.00, 9,  -999.00, 9,  -999.00, 9, -999.000, 9, -999.000, 9, -999.000, 9, -999.000, 9,   -999.0, 9,   -999.0, 9, -999.0000,   -999.00,   -999.0, 9,   -999.0,  -999.00, 9,   -999.0,   1.6252, 27.6972,   1.7748, 2, 9, -999.00, -999.00, -999.00, -999.000,  -999.00, 9, -999.00, -999.00, 9, -999.00
49NZ20071008, P14N, 58, 1, 4, X12006, 9, 20071105, 1802, 33.4807, 178.9897, 2938,   2402.4, 2,   1.6896, 2,  34.6352, 2, -999.0000, 9,     97.9, 2,   -999.0, 9,  -999.00, 9,  -999.00, 9,  -999.00, 9,  -999.00, 9, -999.000, 9, -999.000, 9, -999.000, 9, -999.000, 9,   -999.0, 9,   -999.0, 9, -999.0000,   -999.00,   -999.0, 9,   -999.0,  -999.00, 9,   -999.0,   1.5238, 27.7157,   1.6897, 2, 9, -999.00, -999.00, -999.00, -999.000,  -999.00, 9, -999.00, -999.00, 9, -999.00
49NZ20071008, P14N, 58, 1, 3, X12013, 9, 20071105, 1802, 33.4807, 178.9897, 2938,   2602.8, 2,   1.6109, 2,  34.6479, 2, -999.0000, 9,    109.7, 2,   -999.0, 9,  -999.00, 9,  -999.00, 9,  -999.00, 9,  -999.00, 9, -999.000, 9, -999.000, 9, -999.000, 9, -999.000, 9,   -999.0, 9,   -999.0, 9, -999.0000,   -999.00,   -999.0, 9,   -999.0,  -999.00, 9,   -999.0,   1.4287, 27.7328,   1.6107, 2, 9, -999.00, -999.00, -999.00, -999.000,  -999.00, 9, -999.00, -999.00, 9, -999.00
49NZ20071008, P14N, 58, 1, 2, X12002, 9, 20071105, 1802, 33.4807, 178.9897, 2938,   2801.6, 2,   1.5527, 2,  34.6575, 2, -999.0000, 9,    118.7, 2,   -999.0, 9,  -999.00, 9,  -999.00, 9,  -999.00, 9,  -999.00, 9, -999.000, 9, -999.000, 9, -999.000, 9, -999.000, 9,   -999.0, 9,   -999.0, 9, -999.0000,   -999.00,   -999.0, 9,   -999.0,  -999.00, 9,   -999.0,   1.3535, 27.7459,   1.5527, 2, 9, -999.00, -999.00, -999.00, -999.000,  -999.00, 9, -999.00, -999.00, 9, -999.00
49NZ20071008, P14N, 58, 1, 1, X12001, 2, 20071105, 1802, 33.4807, 178.9897, 2938,   2949.6, 2,   1.5262, 2,  34.6625, 2,  34.6625, 6,    124.3, 2,    124.2, 2,   156.80, 2,    38.11, 2,     0.01, 2,     2.67, 2,    0.000, 2,    0.000, 2,    0.000, 2, -999.000, 9,   2345.6, 2,   2420.7, 2,    7.5462,     25.00,   -999.0, 9,   -999.0,  -999.00, 9,   -999.0,   1.3137, 27.7527,   1.5257, 2, 2, 0.46, 0.14, 0.01, 0.017,  -999.00, 9, -999.00, -999.00, 9, -999.00