BOTTLE,20221005CCHSIOAMB
EXPOCODE,SECT_ID,STNNBR,CASTNO,SAMPNO,BTLNBR,BTLNBR_FLAG_W,DATE,TIME,LATITUDE,LONGITUDE,DEPTH,CTDPRS,CTDPRS_FLAG_W,CTDTMP,CTDTMP_FLAG_W,CTDSAL,CTDSAL_FLAG_W,SALNTY,SALNTY_FLAG_W,CTDOXY,CTDOXY_FLAG_W,OXYGEN,OXYGEN_FLAG_W,SILCAT,SILCAT_FLAG_W,NITRAT,NITRAT_FLAG_W,NITRIT,NITRIT_FLAG_W,PHSPHT,PHSPHT_FLAG_W,CFC-11,CFC-11_FLAG_W,CFC-12,CFC-12_FLAG_W,CFC113,CFC113_FLAG_W,CCL4,CCL4_FLAG_W,TCARBN,TCARBN_FLAG_W,ALKALI,ALKALI_FLAG_W,PH_TOT,PH_TMP,DELC14,DELC14_FLAG_W,C14ERR,DELC13,DELC13_FLAG_W,C13ERR,THETA,SIG0,SBE35,SBE35_FLAG_W,PH_TOT_FLAG_W,SILUNC,NRAUNC,NRIUNC,PHPUNC,CS-137,CS-137_FLAG_W,CS137ER,PLUTO,PLUTO_FLAG_W,PLUTOER
,,,,,,,,,,,METERS,DBAR,,ITS-90,,PSS-78,,PSS-78,,UMOL/KG,,UMOL/KG,,UMOL/KG,,UMOL/KG,,UMOL/KG,,UMOL/KG,,PMOL/KG,,PMOL/KG,,PMOL/KG,,PMOL/KG,,UMOL/KG,,UMOL/KG,,,DEG C,/MILLE,,/MILLE,/MILLE,,/MILLE,DEG C,KG/M^3,ITS-90,,,UMOL/KG,UMOL/KG,UMOL/KG,UMOL/KG,DM/.1MG,,BQ/M^3,MBQ/M^3,,MBQ/M^3
49NZ20071008, P14N, 62, 1, 36, X12042, 2, 20071106, 1633, 31.5040, 179.0142, 5049,     10.4, 2,  25.0719, 2,  34.9832, 2,  34.9829, 2,    210.1, 2,    210.3, 2,     1.76, 2,     0.07, 2,     0.01, 2,     0.03, 2,    1.660, 2,    1.058, 2,    0.406, 4, -999.000, 9,   -999.0, 9,   -999.0, 9, -999.0000,   -999.00,   -999.0, 9,   -999.0,  -999.00, 9,   -999.0,  25.0696, 23.3074,  25.0711, 2, 9, 0.12, 0.03, 0.01, 0.057,  -999.00, 9, -999.00, -999.00, 9, -999.00
49NZ20071008, P14N, 62, 1, 35, X12041, 2, 20071106, 1633, 31.5040, 179.0142, 5049,     49.6, 2,  25.0716, 2,  34.9813, 2,  34.9823, 2,    210.2, 2,    210.5, 2,     1.79, 2,     0.05, 2,     0.01, 2,     0.03, 2,    1.660, 2,    1.057, 2,    0.410, 4, -999.000, 9,   -999.0, 9,   -999.0, 9, -999.0000,   -999.00,   -999.0, 9,   -999.0,  -999.00, 9,   -999.0,  25.0608, 23.3086,  25.0741, 2, 9, 0.12, 0.03, 0.01, 0.054,  -999.00, 9, -999.00, -999.00, 9, -999.00
49NZ20071008, P14N, 62, 1, 34, X12016, 2, 20071106, 1633, 31.5040, 179.0142, 5049,    100.2, 2,  17.7640, 2,  34.7366, 2,  34.7376, 2,    232.7, 2,    230.7, 2,     2.86, 2,     0.30, 2,     0.10, 2,     0.13, 2,    2.358, 2,    1.459, 2,    0.429, 4, -999.000, 9,   -999.0, 9,   -999.0, 9, -999.0000,   -999.00,   -999.0, 9,   -999.0,  -999.00, 9,   -999.0,  17.7470, 25.1323,  17.7702, 2, 9, 0.13, 0.03, 0.01, 0.019,  -999.00, 9, -999.00, -999.00, 9, -999.00
49NZ20071008, P14N, 62, 1, 33, X12033, 2, 20071106, 1633, 31.5040, 179.0142, 5049,    149.8, 2,  16.5702, 2,  34.6857, 2,  34.6838, 2,    215.8, 2,    213.7, 2,     4.68, 2,     4.87, 2,     0.02, 2,     0.36, 2,    2.428, 6,    1.474, 6,    0.139, 6, -999.000, 9,   -999.0, 9,   -999.0, 9, -999.0000,   -999.00,   -999.0, 9,   -999.0,  -999.00, 9,   -999.0,  16.5460, 25.3798,  16.5668, 2, 9, 0.13, 0.05, 0.01, 0.014,  -999.00, 9, -999.00, -999.00, 9, -999.00
49NZ20071008, P14N, 62, 1, 32, X12038, 2, 20071106, 1633, 31.5040, 179.0142, 5049,    198.5, 2,  15.8468, 2,  34.6287, 2,  34.6272, 2,    212.0, 2,    212.4, 2,     5.94, 2,     6.01, 2,     0.02, 2,     0.44, 2,    2.505, 2,    1.505, 2,    0.132, 2, -999.000, 9,   -999.0, 9,   -999.0, 9, -999.0000,   -999.00,   -999.0, 9,   -999.0,  -999.00, 9,   -999.0,  15.8157, 25.5039,  15.8470, 2, 9, 0.13, 0.05, 0.01, 0.013,  -999.00, 9, -999.00, -999.00, 9, -999.00
49NZ20071008, P14N, 62, 1, 31, X12003, 2, 20071106, 1633, 31.5040, 179.0142, 5049,    250.4, 2,  14.8900, 2,  34.5598, 2,  34.5585, 6,    213.6, 2,    213.3, 2,     7.74, 2,     7.40, 2,     0.01, 2,     0.54, 2,    2.611, 2,    1.543, 2,    0.105, 2, -999.000, 9,   -999.0, 9,   -999.0, 9, -999.0000,   -999.00,   -999.0, 9,   -999.0,  -999.00, 9,   -999.0,  14.8523, 25.6648,  14.8889, 2, 9, 0.14, 0.05, 0.01, 0.013,  -999.00, 9, -999.00, -999.00, 9, -999.00
49NZ20071008, P14N, 62, 1, 30, X12008, 2, 20071106, 1633, 31.5040, 179.0142, 5049,    330.3, 2,  13.3964, 2,  34.4457, 2,  34.4443, 2,    227.0, 2,    227.1, 2,     9.34, 2,     8.23, 2,     0.01, 2,     0.61, 2,    2.774, 2,    1.622, 2,    0.144, 2, -999.000, 9,   -999.0, 9,   -999.0, 9, -999.0000,   -999.00,   -999.0, 9,   -999.0,  -999.00, 9,   -999.0,  13.3501, 25.8929,  13.3976, 2, 9, 0.14, 0.06, 0.01, 0.013,  -999.00, 9, -999.00, -999.00, 9, -999.00
49NZ20071008, P14N, 62, 1, 29, X12035, 2, 20071106, 1633, 31.5040, 179.0142, 5049,    431.4, 2,  11.3414, 2,  34.3028, 2,  34.3023, 2,    212.3, 2,    212.1, 2,    16.36, 2,    13.48, 2,     0.01, 2,     0.97, 2,    3.004, 2,    1.676, 2,    0.099, 2, -999.000, 9,   -999.0, 9,   -999.0, 9, -999.0000,   -999.00,   -999.0, 9,   -999.0,  -999.00, 9,   -999.0,  11.2870, 26.1805,  11.3413, 2, 9, 0.15, 0.07, 0.01, 0.013,  -999.00, 9, -999.00, -999.00, 9, -999.00
49NZ20071008, P14N, 62, 1, 28, X12034, 2, 20071106, 1633, 31.5040, 179.0142, 5049,    528.7, 2,   9.2105, 2,  34.1336, 2,  34.1303, 6,    199.4, 2,    198.3, 2,    26.70, 2,    18.74, 2,     0.01, 2,     1.36, 2,    3.017, 2,    1.639, 2,    0.143, 2, -999.000, 9,   -999.0, 9,   -999.0, 9, -999.0000,   -999.00,   -999.0, 9,   -999.0,  -999.00, 9,   -999.0,   9.1518, 26.4154,   9.2105, 2, 9, 0.18, 0.09, 0.01, 0.014,  -999.00, 9, -999.00, -999.00, 9, -999.00
49NZ20071008, P14N, 62, 1, 27, X12049, 2, 20071106, 1633, 31.5040, 179.0142, 5049,    630.6, 2,   7.0224, 2,  34.0152, 2,  34.0135, 2,    166.8, 2,    163.0, 2,    45.54, 2,    25.96, 2,     0.01, 2,     1.89, 2,    2.668, 2,    1.394, 2,    0.147, 2, -999.000, 9,   -999.0, 9,   -999.0, 9, -999.0000,   -999.00,   -999.0, 9,   -999.0,  -999.00, 9,   -999.0,   6.9623, 26.6482,   7.0247, 2, 9, 0.22, 0.11, 0.01, 0.015,  -999.00, 9, -999.00, -999.00, 9, -999.00
49NZ20071008, P14N, 62, 1, 26, X12032, 2, 20071106, 1633, 31.5040, 179.0142, 5049,    730.6, 2,   5.4742, 2,  34.0256, 2,  34.0277, 2,    118.3, 2,    111.5, 2,    69.68, 2,    33.30, 2,     0.01, 2,     2.43, 2,    1.859, 6,    0.930, 6,    0.092, 6, -999.000, 9,   -999.0, 9,   -999.0, 9, -999.0000,   -999.00,   -999.0, 9,   -999.0,  -999.00, 9,   -999.0,   5.4127, 26.8546,   5.4723, 2, 9, 0.27, 0.13, 0.01, 0.016,  -999.00, 9, -999.00, -999.00, 9, -999.00
49NZ20071008, P14N, 62, 1, 25, X12043, 2, 20071106, 1633, 31.5040, 179.0142, 5049,    831.3, 2,   4.6320, 2,  34.1130, 2,  34.1125, 2,     73.7, 2,     72.0, 2,    89.25, 2,    38.11, 2,     0.01, 2,     2.75, 2,    1.102, 2,    0.537, 2,    0.049, 2, -999.000, 9,   -999.0, 9,   -999.0, 9, -999.0000,   -999.00,   -999.0, 9,   -999.0,  -999.00, 9,   -999.0,   4.5666, 27.0205,   4.6325, 2, 9, 0.32, 0.14, 0.01, 0.017,  -999.00, 9, -999.00, -999.00, 9, -999.00
49NZ20071008, P14N, 62, 1, 24, X12030, 2, 20071106, 1633, 31.5040, 179.0142, 5049,    932.0, 2,   4.0657, 2,  34.2149, 2,  34.2137, 2,     49.6, 2,     46.3, 2,   106.16, 2,    41.02, 2,     0.01, 2,     2.94, 2,    0.530, 2,    0.252, 2,    0.021, 2, -999.000, 9,   -999.0, 9,   -999.0, 9, -999.0000,   -999.00,   -999.0, 9,   -999.0,  -999.00, 9,   -999.0,   3.9956, 27.1621,   4.0658, 2, 9, 0.35, 0.15, 0.01, 0.017,  -999.00, 9, -999.00, -999.00, 9, -999.00
49NZ20071008, P14N, 62, 1, 23, X12027, 2, 20071106, 1633, 31.5040, 179.0142, 5049,   1069.9, 2,   3.5282, 2,  34.3088, 2,  34.3099, 6,     35.2, 2,     33.2, 2,   122.77, 2,    42.68, 2,     0.01, 2,     3.06, 2,    0.227, 2,    0.102, 2,    0.009, 2, -999.000, 9,   -999.0, 9,   -999.0, 9, -999.0000,   -999.00,   -999.0, 9,   -999.0,  -999.00, 9,   -999.0,   3.4509, 27.2911,   3.5282, 2, 9, 0.39, 0.15, 0.01, 0.018,  -999.00, 9, -999.00, -999.00, 9, -999.00
49NZ20071008, P14N, 62, 1, 22, X12028, 2, 20071106, 1633, 31.5040, 179.0142, 5049,   1270.0, 2,   3.0480, 2,  34.4199, 2,  34.4212, 2,     24.8, 2,     24.2, 2,   137.82, 2,    43.93, 2,     0.01, 2,     3.14, 2,    0.030, 2,    0.013, 2,    0.003, 2, -999.000, 9,   -999.0, 9,   -999.0, 9, -999.0000,   -999.00,   -999.0, 9,   -999.0,  -999.00, 9,   -999.0,   2.9588, 27.4258,   3.0481, 2, 9, 0.42, 0.16, 0.01, 0.018,  -999.00, 9, -999.00, -999.00, 9, -999.00
49NZ20071008, P14N, 62, 1, 21, X12009, 2, 20071106, 1633, 31.5040, 179.0142, 5049,   1470.3, 2,   2.7070, 2,  34.4881, 2,  34.4893, 2,     31.5, 2,     31.4, 2,   147.01, 2,    43.83, 2,     0.01, 2,     3.12, 2,    0.004, 2,    0.002, 2,    0.000, 2, -999.000, 9,   -999.0, 9,   -999.0, 9, -999.0000,   -999.00,   -999.0, 9,   -999.0,  -999.00, 9,   -999.0,   2.6052, 27.5115,   2.7072, 2, 9, 0.44, 0.16, 0.01, 0.018,  -999.00, 9, -999.00, -999.00, 9, -999.00
49NZ20071008, P14N, 62, 1, 20, X12026, 2, 20071106, 1633, 31.5040, 179.0142, 5049,   1673.2, 2,   2.3652, 2,  34.5423, 2,  34.5418, 2,     44.2, 2,     44.0, 2,   155.20, 2,    43.22, 2,     0.01, 2,     3.06, 2,    0.000, 2,    0.000, 2,    0.000, 2, -999.000, 9,   -999.0, 9,   -999.0, 9, -999.0000,   -999.00,   -999.0, 9,   -999.0,  -999.00, 9,   -999.0,   2.2509, 27.5848,   2.3653, 2, 9, 0.46, 0.15, 0.01, 0.018,  -999.00, 9, -999.00, -999.00, 9, -999.00
49NZ20071008, P14N, 62, 1, 19, X12025, 2, 20071106, 1633, 31.5040, 179.0142, 5049,   1872.0, 2,   2.1134, 2,  34.5798, 2,  34.5797, 2,     58.9, 2,     59.7, 2,   159.85, 2,    42.30, 2,     0.01, 2,     2.99, 2,    0.000, 2,    0.000, 2,    0.000, 2, -999.000, 9,   -999.0, 9,   -999.0, 9, -999.0000,   -999.00,   -999.0, 9,   -999.0,  -999.00, 9,   -999.0,   1.9861, 27.6361,   2.1133, 2, 9, 0.47, 0.15, 0.01, 0.017,  -999.00, 9, -999.00, -999.00, 9, -999.00
49NZ20071008, P14N, 62, 1, 18, X12024, 2, 20071106, 1633, 31.5040, 179.0142, 5049,   2071.2, 2,   1.9309, 2,  34.6039, 2,  34.6040, 2,     73.9, 2,     73.9, 2,   161.59, 2,    41.41, 2,     0.01, 2,     2.92, 2,    0.000, 2,    0.000, 2,    0.000, 2, -999.000, 9,   -999.0, 9,   -999.0, 9, -999.0000,   -999.00,   -999.0, 9,   -999.0,  -999.00, 9,   -999.0,   1.7896, 27.6707,   1.9308, 2, 9, 0.47, 0.15, 0.01, 0.017,  -999.00, 9, -999.00, -999.00, 9, -999.00
49NZ20071008, P14N, 62, 1, 17, X12023, 2, 20071106, 1633, 31.5040, 179.0142, 5049,   2271.3, 2,   1.7959, 2,  34.6243, 2,  34.6243, 2,     88.4, 2,     88.6, 2,   161.25, 2,    40.31, 2,     0.01, 2,     2.85, 2,    0.000, 2,    0.000, 2,    0.000, 2, -999.000, 9,   -999.0, 9,   -999.0, 9, -999.0000,   -999.00,   -999.0, 9,   -999.0,  -999.00, 9,   -999.0,   1.6397, 27.6984,   1.7959, 2, 9, 0.47, 0.15, 0.01, 0.017,  -999.00, 9, -999.00, -999.00, 9, -999.00
49NZ20071008, P14N, 62, 1, 16, X12022, 2, 20071106, 1633, 31.5040, 179.0142, 5049,   2471.5, 2,   1.7066, 2,  34.6371, 2,  34.6369, 6,     98.2, 2,     98.7, 2,   160.96, 2,    39.71, 2,     0.01, 2,     2.80, 2,    0.000, 2,    0.000, 2,    0.000, 2, -999.000, 9,   -999.0, 9,   -999.0, 9, -999.0000,   -999.00,   -999.0, 9,   -999.0,  -999.00, 9,   -999.0,   1.5344, 27.7164,   1.7067, 2, 9, 0.47, 0.14, 0.01, 0.017,  -999.00, 9, -999.00, -999.00, 9, -999.00
49NZ20071008, P14N, 62, 1, 15, X12021, 2, 20071106, 1633, 31.5040, 179.0142, 5049,   2670.0, 2,   1.6311, 2,  34.6485, 2,  34.6479, 2,    108.8, 2,    109.0, 2,   159.33, 2,    39.04, 2,     0.01, 2,     2.75, 2,    0.000, 2,    0.000, 2,    0.000, 2, -999.000, 9,   -999.0, 9,   -999.0, 9, -999.0000,   -999.00,   -999.0, 9,   -999.0,  -999.00, 9,   -999.0,   1.4424, 27.7323,   1.6308, 2, 9, 0.47, 0.14, 0.01, 0.017,  -999.00, 9, -999.00, -999.00, 9, -999.00
49NZ20071008, P14N, 62, 1, 14, X12020, 2, 20071106, 1633, 31.5040, 179.0142, 5049,   2870.4, 2,   1.5761, 2,  34.6576, 2,  34.6570, 2,    117.5, 2,    117.4, 2,   158.33, 2,    38.55, 2,     0.01, 2,     2.71, 2,    0.000, 2,    0.000, 2,    0.000, 2, -999.000, 9,   -999.0, 9,   -999.0, 9, -999.0000,   -999.00,   -999.0, 9,   -999.0,  -999.00, 9,   -999.0,   1.3700, 27.7448,   1.5761, 2, 9, 0.47, 0.14, 0.01, 0.017,  -999.00, 9, -999.00, -999.00, 9, -999.00
49NZ20071008, P14N, 62, 1, 13, X12019, 2, 20071106, 1633, 31.5040, 179.0142, 5049,   3079.8, 2,   1.5300, 2,  34.6654, 2,  34.6652, 2,    125.9, 2,    126.1, 2,   156.33, 2,    37.93, 2,     0.01, 2,     2.66, 2, -999.000, 9, -999.000, 9, -999.000, 9, -999.000, 9,   -999.0, 9,   -999.0, 9, -999.0000,   -999.00,   -999.0, 9,   -999.0,  -999.00, 9,   -999.0,   1.3049, 27.7556,   1.5300, 2, 9, 0.46, 0.14, 0.01, 0.017,  -999.00, 9, -999.00, -999.00, 9, -999.00
49NZ20071008, P14N, 62, 1, 12, X12040, 2, 20071106, 1633, 31.5040, 179.0142, 5049,   3331.2, 2,   1.4928, 2,  34.6725, 2,  34.6721, 2,    133.8, 2,    134.0, 2,   154.72, 2,    37.38, 2,     0.01, 2,     2.61, 2, -999.000, 9, -999.000, 9, -999.000, 9, -999.000, 9,   -999.0, 9,   -999.0, 9, -999.0000,   -999.00,   -999.0, 9,   -999.0,  -999.00, 9,   -999.0,   1.2439, 27.7656,   1.4927, 2, 9, 0.46, 0.14, 0.01, 0.016,  -999.00, 9, -999.00, -999.00, 9, -999.00
49NZ20071008, P14N, 62, 1, 11, X12047, 2, 20071106, 1633, 31.5040, 179.0142, 5049,   3580.9, 2,   1.4808, 2,  34.6769, 2,  34.6763, 2,    139.1, 2,    138.9, 2,   153.47, 2,    37.06, 2,     0.01, 2,     2.59, 2,    0.000, 2,    0.000, 2,    0.000, 2, -999.000, 9,   -999.0, 9,   -999.0, 9, -999.0000,   -999.00,   -999.0, 9,   -999.0,  -999.00, 9,   -999.0,   1.2069, 27.7717,   1.4808, 2, 9, 0.46, 0.14, 0.01, 0.016,  -999.00, 9, -999.00, -999.00, 9, -999.00
49NZ20071008, P14N, 62, 1, 10, X12017, 2, 20071106, 1633, 31.5040, 179.0142, 5049,   3830.3, 2,   1.4661, 2,  34.6812, 2,  34.6810, 6,    144.4, 2,    144.5, 2,   152.14, 2,    36.73, 2,     0.01, 2,     2.57, 2, -999.000, 9, -999.000, 9, -999.000, 9, -999.000, 9,   -999.0, 9,   -999.0, 9, -999.0000,   -999.00,   -999.0, 9,   -999.0,  -999.00, 9,   -999.0,   1.1664, 27.7780,   1.4660, 2, 9, 0.45, 0.14, 0.01, 0.016,  -999.00, 9, -999.00, -999.00, 9, -999.00
49NZ20071008, P14N, 62, 1, 9, X12015, 2, 20071106, 1633, 31.5040, 179.0142, 5049,   4080.9, 2,   1.4727, 2,  34.6835, 2,  34.6832, 2,    147.7, 2,    147.5, 2,   151.23, 2,    36.54, 2,     0.01, 2,     2.55, 2, -999.000, 9, -999.000, 9, -999.000, 9, -999.000, 9,   -999.0, 9,   -999.0, 9, -999.0000,   -999.00,   -999.0, 9,   -999.0,  -999.00, 9,   -999.0,   1.1457, 27.7812,   1.4726, 2, 9, 0.45, 0.14, 0.01, 0.016,  -999.00, 9, -999.00, -999.00, 9, -999.00
49NZ20071008, P14N, 62, 1, 8, X12046, 2, 20071106, 1633, 31.5040, 179.0142, 5049,   4330.6, 2,   1.4796, 2,  34.6858, 2,  34.6855, 2,    150.5, 2,    150.3, 2,   150.50, 2,    36.39, 2,     0.01, 2,     2.54, 2,    0.000, 2,    0.000, 2,    0.000, 2, -999.000, 9,   -999.0, 9,   -999.0, 9, -999.0000,   -999.00,   -999.0, 9,   -999.0,  -999.00, 9,   -999.0,   1.1246, 27.7845,   1.4795, 2, 9, 0.45, 0.13, 0.01, 0.016,  -999.00, 9, -999.00, -999.00, 9, -999.00
49NZ20071008, P14N, 62, 1, 7, X12044, 2, 20071106, 1633, 31.5040, 179.0142, 5049,   4580.1, 2,   1.4883, 2,  34.6880, 2,  34.6878, 2,    153.6, 2,    153.7, 2,   148.77, 2,    36.09, 2,     0.01, 2,     2.52, 2, -999.000, 9, -999.000, 9, -999.000, 9, -999.000, 9,   -999.0, 9,   -999.0, 9, -999.0000,   -999.00,   -999.0, 9,   -999.0,  -999.00, 9,   -999.0,   1.1044, 27.7876,   1.4882, 2, 9, 0.45, 0.13, 0.01, 0.016,  -999.00, 9, -999.00, -999.00, 9, -999.00
49NZ20071008, P14N, 62, 1, 6, X12048, 2, 20071106, 1633, 31.5040, 179.0142, 5049,   4830.1, 2,   1.5038, 2,  34.6895, 2,  34.6892, 2,    156.5, 2,    156.0, 2,   147.16, 2,    35.97, 2,     0.01, 2,     2.51, 2, -999.000, 9, -999.000, 9, -999.000, 9, -999.000, 9,   -999.0, 9,   -999.0, 9, -999.0000,   -999.00,   -999.0, 9,   -999.0,  -999.00, 9,   -999.0,   1.0899, 27.7898,   1.5038, 2, 9, 0.44, 0.13, 0.01, 0.016,  -999.00, 9, -999.00, -999.00, 9, -999.00
49NZ20071008, P14N, 62, 1, 5, X12014, 2, 20071106, 1633, 31.5040, 179.0142, 5049,   5080.3, 2,   1.5236, 2,  34.6903, 2,  34.6904, 2,    158.7, 2,    158.1, 2,   145.20, 2,    35.77, 2,     0.01, 2,     2.49, 2,    0.000, 2,    0.000, 2,    0.000, 2, -999.000, 9,   -999.0, 9,   -999.0, 9, -999.0000,   -999.00,   -999.0, 9,   -999.0,  -999.00, 9,   -999.0,   1.0787, 27.7912,   1.5235, 2, 9, 0.44, 0.13, 0.01, 0.016,  -999.00, 9, -999.00, -999.00, 9, -999.00
49NZ20071008, P14N, 62, 1, 4, X12006, 9, 20071106, 1633, 31.5040, 179.0142, 5049,      9.8, 2,  25.0699, 2,  34.9834, 2, -999.0000, 9,    210.2, 2,   -999.0, 9,  -999.00, 9,  -999.00, 9,  -999.00, 9,  -999.00, 9, -999.000, 9, -999.000, 9, -999.000, 9, -999.000, 9,   -999.0, 9,   -999.0, 9, -999.0000,   -999.00,   -999.0, 9,   -999.0,  -999.00, 9,   -999.0,  25.0678, 23.3081,  25.0688, 2, 9, -999.00, -999.00, -999.00, -999.000,  -999.00, 9, -999.00, -999.00, 9, -999.00
49NZ20071008, P14N, 62, 1, 3, X12013, 2, 20071106, 1633, 31.5040, 179.0142, 5049,    549.7, 2,   8.8087, 2,  34.1086, 2,  34.1076, 2,    193.9, 2,    192.3, 2,  -999.00, 9,  -999.00, 9,  -999.00, 9,  -999.00, 9, -999.000, 9, -999.000, 9, -999.000, 9, -999.000, 9,   -999.0, 9,   -999.0, 9, -999.0000,   -999.00,   -999.0, 9,   -999.0,  -999.00, 9,   -999.0,   8.7493, 26.4596,   8.8103, 2, 9, -999.00, -999.00, -999.00, -999.000,  -999.00, 9, -999.00, -999.00, 9, -999.00
49NZ20071008, P14N, 62, 1, 2, X12002, 2, 20071106, 1633, 31.5040, 179.0142, 5049,    599.4, 2,   7.6071, 2,  34.0395, 2,  34.0393, 2,    175.3, 2,    173.6, 2,  -999.00, 9,  -999.00, 9,  -999.00, 9,  -999.00, 9, -999.000, 9, -999.000, 9, -999.000, 9, -999.000, 9,   -999.0, 9,   -999.0, 9, -999.0000,   -999.00,   -999.0, 9,   -999.0,  -999.00, 9,   -999.0,   7.5475, 26.5854,   7.6106, 2, 9, -999.00, -999.00, -999.00, -999.000,  -999.00, 9, -999.00, -999.00, 9, -999.00
49NZ20071008, P14N, 62, 1, 1, X12001, 2, 20071106, 1633, 31.5040, 179.0142, 5049,   5161.7, 2,   1.5315, 2,  34.6906, 2,  34.6903, 6,    159.1, 2,    158.7, 2,   144.82, 2,    35.84, 2,     0.01, 2,     2.49, 2,    0.000, 2,    0.000, 2,    0.000, 2, -999.000, 9,   -999.0, 9,   -999.0, 9, -999.0000,   -999.00,   -999.0, 9,   -999.0,  -999.00, 9,   -999.0,   1.0763, 27.7916,   1.5315, 2, 9, 0.44, 0.13, 0.01, 0.016,  -999.00, 9, -999.00, -999.00, 9, -999.00