BOTTLE,20221005CCHSIOAMB
EXPOCODE,SECT_ID,STNNBR,CASTNO,SAMPNO,BTLNBR,BTLNBR_FLAG_W,DATE,TIME,LATITUDE,LONGITUDE,DEPTH,CTDPRS,CTDPRS_FLAG_W,CTDTMP,CTDTMP_FLAG_W,CTDSAL,CTDSAL_FLAG_W,SALNTY,SALNTY_FLAG_W,CTDOXY,CTDOXY_FLAG_W,OXYGEN,OXYGEN_FLAG_W,SILCAT,SILCAT_FLAG_W,NITRAT,NITRAT_FLAG_W,NITRIT,NITRIT_FLAG_W,PHSPHT,PHSPHT_FLAG_W,CFC-11,CFC-11_FLAG_W,CFC-12,CFC-12_FLAG_W,CFC113,CFC113_FLAG_W,CCL4,CCL4_FLAG_W,TCARBN,TCARBN_FLAG_W,ALKALI,ALKALI_FLAG_W,PH_TOT,PH_TMP,DELC14,DELC14_FLAG_W,C14ERR,DELC13,DELC13_FLAG_W,C13ERR,THETA,SIG0,SBE35,SBE35_FLAG_W,PH_TOT_FLAG_W,SILUNC,NRAUNC,NRIUNC,PHPUNC,CS-137,CS-137_FLAG_W,CS137ER,PLUTO,PLUTO_FLAG_W,PLUTOER
,,,,,,,,,,,METERS,DBAR,,ITS-90,,PSS-78,,PSS-78,,UMOL/KG,,UMOL/KG,,UMOL/KG,,UMOL/KG,,UMOL/KG,,UMOL/KG,,PMOL/KG,,PMOL/KG,,PMOL/KG,,PMOL/KG,,UMOL/KG,,UMOL/KG,,,DEG C,/MILLE,,/MILLE,/MILLE,,/MILLE,DEG C,KG/M^3,ITS-90,,,UMOL/KG,UMOL/KG,UMOL/KG,UMOL/KG,DM/.1MG,,BQ/M^3,MBQ/M^3,,MBQ/M^3
49NZ20071008, P14N, 104, 1, 36, X12042, 2, 20071118, 0214, 10.5128, 179.0013, 5471,      9.7, 2,  28.1921, 2,  34.3395, 2,  34.3388, 2,    198.0, 2,    198.0, 2,     1.13, 2,     0.04, 2,     0.01, 2,     0.15, 2,    1.507, 2,    0.938, 2,    0.262, 4, -999.000, 9,   1930.5, 2,   2257.8, 2,    8.1182,     25.00,   -999.0, 9,   -999.0,  -999.00, 9,   -999.0,  28.1898, 21.8360,  28.1946, 2, 6, 0.12, 0.03, 0.01, 0.018,  -999.00, 9, -999.00, -999.00, 9, -999.00
49NZ20071008, P14N, 104, 1, 35, X12041, 2, 20071118, 0214, 10.5128, 179.0013, 5471,     50.7, 2,  28.1889, 2,  34.3364, 2,  34.3390, 2,    196.8, 2,    198.1, 2,     1.07, 2,     0.02, 2,     0.01, 2,     0.16, 2,    1.498, 2,    0.919, 2,    0.258, 4, -999.000, 9,   1928.1, 6,   2258.5, 2,    8.1181,     25.00,   -999.0, 9,   -999.0,  -999.00, 9,   -999.0,  28.1769, 21.8379,  28.1843, 2, 2, 0.12, 0.03, 0.01, 0.018,  -999.00, 9, -999.00, -999.00, 9, -999.00
49NZ20071008, P14N, 104, 1, 34, X12016, 2, 20071118, 0214, 10.5128, 179.0013, 5471,     99.5, 2,  23.3246, 2,  34.7287, 2,  34.7460, 2,    172.2, 2,    177.8, 2,     2.82, 2,     2.76, 2,     0.71, 2,     0.45, 2,    1.944, 2,    1.165, 2,    0.220, 4, -999.000, 9,   2031.9, 2,   2290.0, 6,    7.9863,     25.00,   -999.0, 9,   -999.0,  -999.00, 9,   -999.0,  23.3041, 23.6399,  23.2442, 2, 2, 0.13, 0.04, 0.00, 0.013,  -999.00, 9, -999.00, -999.00, 9, -999.00
49NZ20071008, P14N, 104, 1, 33, X12033, 2, 20071118, 0214, 10.5128, 179.0013, 5471,    149.9, 2,  16.3408, 2,  34.5617, 2,  34.5462, 2,    168.8, 2,    168.6, 2,     6.65, 2,     8.35, 2,     0.02, 2,     0.73, 2,    2.516, 6,    1.454, 6,    0.032, 6, -999.000, 9,   2084.7, 2,   2278.3, 2,    7.8570,     25.00,   -999.0, 9,   -999.0,  -999.00, 9,   -999.0,  16.3168, 25.3377,  16.3505, 2, 6, 0.13, 0.06, 0.01, 0.013,  -999.00, 9, -999.00, -999.00, 9, -999.00
49NZ20071008, P14N, 104, 1, 32, X12038, 2, 20071118, 0214, 10.5128, 179.0013, 5471,    199.7, 2,  11.3902, 2,  34.3573, 2,  34.3570, 2,    106.8, 2,    106.5, 2,    22.66, 2,    22.80, 2,     0.01, 2,     1.75, 2,    1.999, 2,    1.036, 2,    0.037, 4, -999.000, 9,   2174.3, 2,   2275.4, 2,    7.6347,     25.00,   -999.0, 9,   -999.0,  -999.00, 9,   -999.0,  11.3652, 26.2085,  11.3903, 2, 2, 0.17, 0.10, 0.01, 0.015,  -999.00, 9, -999.00, -999.00, 9, -999.00
49NZ20071008, P14N, 104, 1, 31, X12003, 2, 20071118, 0214, 10.5128, 179.0013, 5471,    251.1, 2,  10.8166, 2,  34.6421, 2,  34.6406, 6,     19.5, 2,     19.6, 2,    30.33, 2,    33.45, 2,     0.01, 2,     2.47, 2,    0.537, 2,    0.279, 2,    0.012, 2, -999.000, 9,   2251.0, 2,   2295.7, 2,    7.4752,     25.00,   -999.0, 9,   -999.0,  -999.00, 9,   -999.0,  10.7860, 26.5352,  10.8175, 2, 2, 0.19, 0.13, 0.01, 0.016,  -999.00, 9, -999.00, -999.00, 9, -999.00
49NZ20071008, P14N, 104, 1, 30, X12008, 2, 20071118, 0214, 10.5128, 179.0013, 5471,    330.7, 2,   9.6318, 2,  34.6201, 2,  34.6193, 2,     36.9, 2,     34.0, 2,    34.96, 2,    34.41, 2,     0.01, 2,     2.49, 2,    0.338, 2,    0.177, 2,    0.009, 2, -999.000, 9,   2255.8, 2,   2302.8, 2,    7.4831,     25.00,   -999.0, 9,   -999.0,  -999.00, 9,   -999.0,   9.5942, 26.7236,   9.6323, 2, 2, 0.20, 0.13, 0.01, 0.016,  -999.00, 9, -999.00, -999.00, 9, -999.00
49NZ20071008, P14N, 104, 1, 29, X12035, 2, 20071118, 0214, 10.5128, 179.0013, 5471,    430.8, 2,   8.6298, 2,  34.5736, 2,  34.5719, 2,     47.8, 2,     46.8, 2,    40.61, 2,    34.90, 2,     0.01, 2,     2.54, 2,    0.260, 2,    0.134, 2,    0.004, 2, -999.000, 9,   2257.2, 2,   2306.9, 2,    7.4881,     25.00,   -999.0, 9,   -999.0,  -999.00, 9,   -999.0,   8.5838, 26.8499,   8.6310, 2, 2, 0.21, 0.13, 0.01, 0.016,  -999.00, 9, -999.00, -999.00, 9, -999.00
49NZ20071008, P14N, 104, 1, 28, X12034, 2, 20071118, 0214, 10.5128, 179.0013, 5471,    532.1, 2,   7.6435, 2,  34.5487, 2,  34.5474, 6,     46.7, 2,     46.0, 2,    48.83, 2,    36.85, 2,     0.01, 2,     2.69, 2,    0.136, 2,    0.077, 2,    0.005, 2, -999.000, 9,   2272.5, 2,   2315.4, 2,    7.4701,     25.00,   -999.0, 9,   -999.0,  -999.00, 9,   -999.0,   7.5903, 26.9797,   7.6440, 2, 2, 0.23, 0.14, 0.01, 0.017,  -999.00, 9, -999.00, -999.00, 9, -999.00
49NZ20071008, P14N, 104, 1, 27, X12049, 2, 20071118, 0214, 10.5128, 179.0013, 5471,    631.4, 2,   6.7603, 2,  34.5321, 2,  34.5310, 2,     44.2, 2,     43.7, 2,    58.58, 2,    38.82, 2,     0.01, 2,     2.84, 2,    0.055, 2,    0.032, 2,    0.004, 2, -999.000, 9,   2288.4, 2,   2324.5, 2,    7.4513,     25.00,   -999.0, 9,   -999.0,  -999.00, 9,   -999.0,   6.7009, 27.0911,   6.7597, 2, 2, 0.25, 0.14, 0.01, 0.017,  -999.00, 9, -999.00, -999.00, 9, -999.00
49NZ20071008, P14N, 104, 1, 26, X12032, 2, 20071118, 0214, 10.5128, 179.0013, 5471,    732.0, 2,   6.0900, 2,  34.5295, 2,  34.5290, 2,     45.6, 2,     49.1, 2,    66.42, 2,    39.69, 2,     0.01, 2,     2.88, 2,    0.036, 6,    0.018, 6,    0.000, 6, -999.000, 9,   2296.2, 6,   2333.3, 2,    7.4527,     25.00,   -999.0, 9,   -999.0,  -999.00, 9,   -999.0,   6.0243, 27.1778,   6.0909, 2, 2, 0.27, 0.14, 0.01, 0.017,  -999.00, 9, -999.00, -999.00, 9, -999.00
49NZ20071008, P14N, 104, 1, 25, X12043, 2, 20071118, 0214, 10.5128, 179.0013, 5471,    830.7, 2,   5.4932, 2,  34.5339, 2,  34.5333, 2,     47.6, 2,     51.9, 2,    75.29, 2,    40.48, 2,     0.01, 2,     2.93, 2,    0.018, 2,    0.010, 2,    0.000, 2, -999.000, 9,   2306.7, 2,   2343.6, 6,    7.4507,     25.00,   -999.0, 9,   -999.0,  -999.00, 9,   -999.0,   5.4218, 27.2559,   5.4935, 2, 2, 0.28, 0.15, 0.01, 0.017,  -999.00, 9, -999.00, -999.00, 9, -999.00
49NZ20071008, P14N, 104, 1, 24, X12030, 2, 20071118, 0214, 10.5128, 179.0013, 5471,    931.2, 2,   4.9062, 2,  34.5388, 2,  34.5385, 2,     43.4, 2,     43.3, 2,    86.82, 2,    42.18, 2,     0.01, 2,     3.05, 2,    0.009, 2,    0.004, 2,    0.000, 2, -999.000, 9,   2327.1, 2,   2354.9, 2,    7.4270,     25.00,   -999.0, 9,   -999.0,  -999.00, 9,   -999.0,   4.8297, 27.3291,   4.9061, 2, 6, 0.31, 0.15, 0.01, 0.018,  -999.00, 9, -999.00, -999.00, 9, -999.00
49NZ20071008, P14N, 104, 1, 23, X12027, 2, 20071118, 0214, 10.5128, 179.0013, 5471,   1070.0, 2,   4.2850, 2,  34.5560, 2,  34.5563, 6,     58.9, 2,     59.1, 2,    97.57, 2,    41.50, 2,     0.01, 2,     3.00, 2,    0.005, 2,    0.002, 2,    0.000, 2, -999.000, 9,   2330.7, 2,   2367.4, 2,    7.4515,     25.00,   -999.0, 9,   -999.0,  -999.00, 9,   -999.0,   4.2011, 27.4118,   4.2847, 2, 2, 0.33, 0.15, 0.01, 0.017,  -999.00, 9, -999.00, -999.00, 9, -999.00
49NZ20071008, P14N, 104, 1, 22, X12028, 2, 20071118, 0214, 10.5128, 179.0013, 5471,   1270.1, 2,   3.5732, 2,  34.5789, 2,  34.5790, 2,     66.2, 2,     66.3, 2,   112.27, 2,    41.56, 2,     0.01, 2,     3.00, 2,    0.005, 2,    0.004, 2,    0.000, 2, -999.000, 9,   2342.3, 2,   2383.8, 2,    7.4599,     25.00,   -999.0, 9,   -999.0,  -999.00, 9,   -999.0,   3.4785, 27.5037,   3.5737, 2, 2, 0.37, 0.15, 0.01, 0.017,  -999.00, 9, -999.00, -999.00, 9, -999.00
49NZ20071008, P14N, 104, 1, 21, X12009, 2, 20071118, 0214, 10.5128, 179.0013, 5471,   1470.9, 2,   3.0693, 2,  34.5960, 2,  34.5965, 2,     77.5, 2,     78.3, 2,   122.89, 2,    40.85, 2,     0.01, 2,     2.93, 2,    0.004, 2,    0.004, 2,    0.000, 2, -999.000, 9,   2346.7, 2,   2394.7, 2,    7.4788,     25.00,   -999.0, 9,   -999.0,  -999.00, 9,   -999.0,   2.9631, 27.5660,   3.0694, 2, 2, 0.39, 0.15, 0.01, 0.017,  -999.00, 9, -999.00, -999.00, 9, -999.00
49NZ20071008, P14N, 104, 1, 20, X12026, 2, 20071118, 0214, 10.5128, 179.0013, 5471,   1669.9, 2,   2.5903, 2,  34.6151, 2,  34.6154, 2,     90.0, 2,     91.0, 2,   132.60, 2,    40.13, 2,     0.01, 2,     2.87, 2,    0.003, 2,    0.000, 2,    0.000, 2, -999.000, 9,   2350.7, 2,   2405.2, 2,    7.4997,     25.00,   -999.0, 9,   -999.0,  -999.00, 9,   -999.0,   2.4732, 27.6244,   2.5903, 2, 6, 0.41, 0.15, 0.01, 0.017,  -999.00, 9, -999.00, -999.00, 9, -999.00
49NZ20071008, P14N, 104, 1, 19, X12025, 2, 20071118, 0214, 10.5128, 179.0013, 5471,   1870.5, 2,   2.3389, 2,  34.6283, 2,  34.6287, 2,     96.3, 2,     97.5, 2,   137.43, 2,    39.56, 2,     0.01, 2,     2.82, 2,    0.002, 2,    0.001, 2,    0.000, 2, -999.000, 9,   2352.9, 2,   2411.5, 2,    7.5095,     25.00,   -999.0, 9,   -999.0,  -999.00, 9,   -999.0,   2.2084, 27.6571,   2.3391, 2, 2, 0.42, 0.14, 0.01, 0.017,  -999.00, 9, -999.00, -999.00, 9, -999.00
49NZ20071008, P14N, 104, 1, 18, X12024, 2, 20071118, 0214, 10.5128, 179.0013, 5471,   2068.8, 2,   2.1555, 2,  34.6391, 2,  34.6397, 2,    103.0, 2,    103.4, 2,   142.09, 2,    39.41, 2,     0.01, 2,     2.80, 2,    0.002, 2,    0.001, 2,    0.000, 2, -999.000, 9,   2352.9, 2,   2415.1, 2,    7.5205,     25.00,   -999.0, 9,   -999.0,  -999.00, 9,   -999.0,   2.0108, 27.6817,   2.1555, 2, 2, 0.43, 0.14, 0.01, 0.017,  -999.00, 9, -999.00, -999.00, 9, -999.00
49NZ20071008, P14N, 104, 1, 17, X12023, 2, 20071118, 0214, 10.5128, 179.0013, 5471,   2272.4, 2,   1.9946, 2,  34.6493, 2,  34.6496, 2,    109.4, 2,    109.4, 2,   145.34, 2,    39.03, 2,     0.01, 2,     2.76, 2, -999.000, 9, -999.000, 9, -999.000, 9, -999.000, 9,   2354.4, 2,   2419.0, 2,    7.5307,     25.00,   -999.0, 9,   -999.0,  -999.00, 9,   -999.0,   1.8348, 27.7036,   1.9946, 2, 2, 0.44, 0.14, 0.01, 0.017,  -999.00, 9, -999.00, -999.00, 9, -999.00
49NZ20071008, P14N, 104, 1, 16, X12022, 2, 20071118, 0214, 10.5128, 179.0013, 5471,   2469.7, 2,   1.8843, 2,  34.6568, 2,  34.6566, 6,    114.7, 2,    114.6, 2,   147.32, 2,    38.65, 2,     0.01, 2,     2.73, 2,    0.003, 2,    0.003, 2,    0.000, 2, -999.000, 9,   2351.1, 6,   2421.9, 2,    7.5399,     25.00,   -999.0, 9,   -999.0,  -999.00, 9,   -999.0,   1.7089, 27.7192,   1.8844, 2, 2, 0.44, 0.14, 0.01, 0.017,  -999.00, 9, -999.00, -999.00, 9, -999.00
49NZ20071008, P14N, 104, 1, 15, X12021, 2, 20071118, 0214, 10.5128, 179.0013, 5471,   2672.5, 2,   1.8119, 2,  34.6621, 2,  34.6620, 2,    119.1, 2,    118.7, 2,   148.39, 2,    38.44, 2,     0.01, 2,     2.71, 2, -999.000, 9, -999.000, 9, -999.000, 9, -999.000, 9,   2348.5, 2,   2422.9, 6,    7.5462,     25.00,   -999.0, 9,   -999.0,  -999.00, 9,   -999.0,   1.6194, 27.7302,   1.8120, 2, 2, 0.45, 0.14, 0.01, 0.017,  -999.00, 9, -999.00, -999.00, 9, -999.00
49NZ20071008, P14N, 104, 1, 14, X12020, 2, 20071118, 0214, 10.5128, 179.0013, 5471,   2870.6, 2,   1.7333, 2,  34.6655, 2,  34.6658, 2,    124.1, 2,    123.9, 2,   148.95, 2,    38.16, 2,     0.01, 2,     2.68, 2,    0.005, 2,    0.002, 2,    0.000, 2, -999.000, 9,   2347.1, 2,   2422.6, 2,    7.5539,     25.00,   -999.0, 9,   -999.0,  -999.00, 9,   -999.0,   1.5238, 27.7400,   1.7334, 2, 2, 0.45, 0.14, 0.01, 0.017,  -999.00, 9, -999.00, -999.00, 9, -999.00
49NZ20071008, P14N, 104, 1, 13, X12019, 2, 20071118, 0214, 10.5128, 179.0013, 5471,   3081.0, 2,   1.6458, 2,  34.6727, 2,  34.6724, 2,    131.5, 2,    130.5, 2,   149.55, 2,    37.68, 2,     0.01, 2,     2.64, 2, -999.000, 9, -999.000, 9, -999.000, 9, -999.000, 9,   2346.1, 2,   2423.3, 2,    7.5641,     25.00,   -999.0, 9,   -999.0,  -999.00, 9,   -999.0,   1.4180, 27.7534,   1.6460, 2, 2, 0.45, 0.14, 0.01, 0.017,  -999.00, 9, -999.00, -999.00, 9, -999.00
49NZ20071008, P14N, 104, 1, 12, X12040, 2, 20071118, 0214, 10.5128, 179.0013, 5471,   3329.7, 2,   1.5683, 2,  34.6780, 2,  34.6773, 2,    137.7, 2,    137.7, 2,   148.60, 2,    37.15, 2,     0.01, 2,     2.59, 2,    0.000, 2,    0.000, 2,    0.000, 2, -999.000, 9,   2338.9, 2,   2423.1, 2,    7.5736,     25.00,   -999.0, 9,   -999.0,  -999.00, 9,   -999.0,   1.3177, 27.7649,   1.5685, 2, 2, 0.45, 0.14, 0.01, 0.016,  -999.00, 9, -999.00, -999.00, 9, -999.00
49NZ20071008, P14N, 104, 1, 11, X12047, 2, 20071118, 0214, 10.5128, 179.0013, 5471,   3580.4, 2,   1.5108, 2,  34.6826, 2,  34.6824, 2,    144.8, 2,    144.8, 2,   147.13, 2,    36.62, 2,     0.01, 2,     2.56, 2, -999.000, 9, -999.000, 9, -999.000, 9, -999.000, 9,   2332.0, 2,   2420.8, 2,    7.5830,     25.00,   -999.0, 9,   -999.0,  -999.00, 9,   -999.0,   1.2361, 27.7742,   1.5108, 2, 2, 0.44, 0.14, 0.01, 0.016,  -999.00, 9, -999.00, -999.00, 9, -999.00
49NZ20071008, P14N, 104, 1, 10, X12012, 2, 20071118, 0214, 10.5128, 179.0013, 5471,   3832.3, 2,   1.4517, 2,  34.6867, 2,  34.6861, 2,    153.6, 2,    153.0, 2,   144.23, 2,    36.07, 2,     0.01, 2,     2.52, 2,    0.006, 2,    0.003, 2,    0.000, 2, -999.000, 9,   2324.2, 2,   2416.9, 2,    7.5927,     25.00,   -999.0, 9,   -999.0,  -999.00, 9,   -999.0,   1.1522, 27.7833,   1.4518, 2, 2, 0.44, 0.13, 0.01, 0.016,  -999.00, 9, -999.00, -999.00, 9, -999.00
49NZ20071008, P14N, 104, 1, 9, X12015, 2, 20071118, 0214, 10.5128, 179.0013, 5471,   4080.0, 2,   1.4028, 2,  34.6909, 2,  34.6907, 6,    162.7, 2,    161.5, 2,   140.18, 2,    35.49, 2,     0.01, 2,     2.49, 2, -999.000, 9, -999.000, 9, -999.000, 9, -999.000, 9,   2317.1, 2,   2411.1, 2,    7.6011,     25.00,   -999.0, 9,   -999.0,  -999.00, 9,   -999.0,   1.0779, 27.7917,   1.4028, 2, 2, 0.43, 0.13, 0.01, 0.016,  -999.00, 9, -999.00, -999.00, 9, -999.00
49NZ20071008, P14N, 104, 1, 8, X12046, 2, 20071118, 0214, 10.5128, 179.0013, 5471,   4331.6, 2,   1.3558, 2,  34.6956, 2,  34.6956, 2,    171.6, 2,    171.1, 2,   134.73, 2,    34.77, 2,     0.01, 2,     2.43, 2,    0.004, 2,    0.002, 2,    0.000, 2, -999.000, 9,   2307.8, 6,   2405.0, 2,    7.6109,     25.00,   -999.0, 9,   -999.0,  -999.00, 9,   -999.0,   1.0044, 27.8005,   1.3559, 2, 2, 0.42, 0.13, 0.01, 0.016,  -999.00, 9, -999.00, -999.00, 9, -999.00
49NZ20071008, P14N, 104, 1, 7, X12044, 2, 20071118, 0214, 10.5128, 179.0013, 5471,   4582.0, 2,   1.3171, 2,  34.6996, 2,  34.6997, 2,    178.9, 2,    179.1, 2,   130.18, 2,    34.28, 2,     0.01, 2,     2.39, 2,    0.003, 2,    0.002, 2,    0.000, 2, -999.000, 9,   2297.7, 2,   2399.5, 6,    7.6189,     25.00,   -999.0, 9,   -999.0,  -999.00, 9,   -999.0,   0.9383, 27.8080,   1.3172, 2, 2, 0.41, 0.13, 0.01, 0.016,  -999.00, 9, -999.00, -999.00, 9, -999.00
49NZ20071008, P14N, 104, 1, 6, X12048, 2, 20071118, 0214, 10.5128, 179.0013, 5471,   4831.3, 2,   1.3130, 2,  34.7014, 2,  34.7017, 2,    182.9, 2,    183.1, 2,   128.17, 2,    33.91, 2,     0.01, 2,     2.37, 2,    0.003, 2,    0.004, 2,    0.000, 2, -999.000, 9,   2296.0, 2,   2396.5, 2,    7.6222,     25.00,   -999.0, 9,   -999.0,  -999.00, 9,   -999.0,   0.9052, 27.8116,   1.3130, 2, 6, 0.40, 0.13, 0.01, 0.016,  -999.00, 9, -999.00, -999.00, 9, -999.00
49NZ20071008, P14N, 104, 1, 5, X12014, 2, 20071118, 0214, 10.5128, 179.0013, 5471,   5081.0, 2,   1.3233, 2,  34.7027, 2,  34.7027, 2,    185.4, 2,    185.7, 2,   126.59, 2,    33.76, 2,     0.01, 2,     2.36, 2,    0.001, 2,    0.000, 2,    0.000, 2, -999.000, 9,   2290.1, 2,   2394.6, 2,    7.6242,     25.00,   -999.0, 9,   -999.0,  -999.00, 9,   -999.0,   0.8851, 27.8140,   1.3232, 2, 2, 0.40, 0.13, 0.01, 0.016,  -999.00, 9, -999.00, -999.00, 9, -999.00
49NZ20071008, P14N, 104, 1, 4, X12006, 2, 20071118, 0214, 10.5128, 179.0013, 5471,   5329.9, 2,   1.3352, 2,  34.7036, 2,  34.7039, 2,    188.1, 2,    187.9, 2,   125.19, 2,    33.64, 2,     0.01, 2,     2.34, 2,    0.002, 2,    0.001, 2,    0.000, 2, -999.000, 9,   2288.2, 2,   2391.1, 2,    7.6254,     25.00,   -999.0, 9,   -999.0,  -999.00, 9,   -999.0,   0.8659, 27.8160,   1.3352, 2, 2, 0.39, 0.13, 0.01, 0.016,  -999.00, 9, -999.00, -999.00, 9, -999.00
49NZ20071008, P14N, 104, 1, 3, X12013, 2, 20071118, 0214, 10.5128, 179.0013, 5471,     30.4, 2,  28.1863, 2,  34.3375, 2,  34.3381, 2,    198.4, 2,    197.7, 2,  -999.00, 9,  -999.00, 9,  -999.00, 9,  -999.00, 9, -999.000, 9, -999.000, 9, -999.000, 9, -999.000, 9,   -999.0, 9,   -999.0, 9, -999.0000,   -999.00,   -999.0, 9,   -999.0,  -999.00, 9,   -999.0,  28.1791, 21.8380,  28.1847, 2, 9, -999.00, -999.00, -999.00, -999.000,  -999.00, 9, -999.00, -999.00, 9, -999.00
49NZ20071008, P14N, 104, 1, 2, X12002, 2, 20071118, 0214, 10.5128, 179.0013, 5471,     19.1, 2,  28.1808, 2,  34.3383, 2,  34.3382, 2,    198.2, 2,    198.0, 2,  -999.00, 9,  -999.00, 9,  -999.00, 9,  -999.00, 9, -999.000, 9, -999.000, 9, -999.000, 9, -999.000, 9,   -999.0, 9,   -999.0, 9, -999.0000,   -999.00,   -999.0, 9,   -999.0,  -999.00, 9,   -999.0,  28.1763, 21.8395,  28.1794, 2, 9, -999.00, -999.00, -999.00, -999.000,  -999.00, 9, -999.00, -999.00, 9, -999.00
49NZ20071008, P14N, 104, 1, 1, X12001, 2, 20071118, 0214, 10.5128, 179.0013, 5471,   5546.5, 2,   1.3515, 2,  34.7043, 2,  34.7048, 6,    189.4, 2,    189.5, 2,   124.17, 2,    33.39, 2,     0.01, 2,     2.33, 2,    0.005, 2,    0.004, 2,    0.000, 2, -999.000, 9,   2284.5, 2,   2388.5, 2,    7.6261,     25.00,   -999.0, 9,   -999.0,  -999.00, 9,   -999.0,   0.8543, 27.8173,   1.3516, 2, 2, 0.39, 0.13, 0.01, 0.016,  -999.00, 9, -999.00, -999.00, 9, -999.00