BOTTLE,20221005CCHSIOAMB
EXPOCODE,SECT_ID,STNNBR,CASTNO,SAMPNO,BTLNBR,BTLNBR_FLAG_W,DATE,TIME,LATITUDE,LONGITUDE,DEPTH,CTDPRS,CTDPRS_FLAG_W,CTDTMP,CTDTMP_FLAG_W,CTDSAL,CTDSAL_FLAG_W,SALNTY,SALNTY_FLAG_W,CTDOXY,CTDOXY_FLAG_W,OXYGEN,OXYGEN_FLAG_W,SILCAT,SILCAT_FLAG_W,NITRAT,NITRAT_FLAG_W,NITRIT,NITRIT_FLAG_W,PHSPHT,PHSPHT_FLAG_W,CFC-11,CFC-11_FLAG_W,CFC-12,CFC-12_FLAG_W,CFC113,CFC113_FLAG_W,CCL4,CCL4_FLAG_W,TCARBN,TCARBN_FLAG_W,ALKALI,ALKALI_FLAG_W,PH_TOT,PH_TMP,DELC14,DELC14_FLAG_W,C14ERR,DELC13,DELC13_FLAG_W,C13ERR,THETA,SIG0,SBE35,SBE35_FLAG_W,PH_TOT_FLAG_W,SILUNC,NRAUNC,NRIUNC,PHPUNC,CS-137,CS-137_FLAG_W,CS137ER,PLUTO,PLUTO_FLAG_W,PLUTOER
,,,,,,,,,,,METERS,DBAR,,ITS-90,,PSS-78,,PSS-78,,UMOL/KG,,UMOL/KG,,UMOL/KG,,UMOL/KG,,UMOL/KG,,UMOL/KG,,PMOL/KG,,PMOL/KG,,PMOL/KG,,PMOL/KG,,UMOL/KG,,UMOL/KG,,,DEG C,/MILLE,,/MILLE,/MILLE,,/MILLE,DEG C,KG/M^3,ITS-90,,,UMOL/KG,UMOL/KG,UMOL/KG,UMOL/KG,DM/.1MG,,BQ/M^3,MBQ/M^3,,MBQ/M^3
49NZ20071008, P14N, 29, 1, 36, X12042, 2, 20071021, 0215, 47.9918, 178.9927, 5312,      9.6, 2,   9.2499, 2,  32.7115, 2,  32.7114, 2,    286.6, 2,    286.7, 2,    18.30, 2,    11.92, 2,     0.20, 2,     1.21, 2,    3.766, 2,    2.096, 2,    0.348, 2, -999.000, 9,   -999.0, 9,   -999.0, 9, -999.0000,   -999.00,   -999.0, 9,   -999.0,  -999.00, 9,   -999.0,   9.2489, 25.2874,   9.2497, 2, 9, 0.16, 0.07, 0.01, 0.013,  -999.00, 9, -999.00, -999.00, 9, -999.00
49NZ20071008, P14N, 29, 1, 35, X12041, 2, 20071021, 0215, 47.9918, 178.9927, 5312,     49.9, 2,   9.2423, 2,  32.7113, 2,  32.7207, 2,    286.0, 2,    286.9, 2,    18.57, 2,    12.05, 2,     0.22, 2,     1.22, 2,    3.797, 2,    2.119, 2,    0.350, 2, -999.000, 9,   -999.0, 9,   -999.0, 9, -999.0000,   -999.00,   -999.0, 9,   -999.0,  -999.00, 9,   -999.0,   9.2370, 25.2891,   9.2417, 2, 9, 0.16, 0.07, 0.01, 0.013,  -999.00, 9, -999.00, -999.00, 9, -999.00
49NZ20071008, P14N, 29, 1, 34, X12016, 2, 20071021, 0215, 47.9918, 178.9927, 5312,     99.4, 2,   4.1851, 2,  33.0939, 2,  33.0951, 2,    308.1, 2,    305.7, 2,    31.14, 2,    19.79, 2,     0.02, 2,     1.63, 2,    5.078, 2,    2.763, 2,    0.462, 2, -999.000, 9,   -999.0, 9,   -999.0, 9, -999.0000,   -999.00,   -999.0, 9,   -999.0,  -999.00, 9,   -999.0,   4.1784, 26.2521,   4.1850, 2, 9, 0.19, 0.09, 0.01, 0.014,  -999.00, 9, -999.00, -999.00, 9, -999.00
49NZ20071008, P14N, 29, 1, 33, X12033, 2, 20071021, 0215, 47.9918, 178.9927, 5312,    150.3, 2,   3.2888, 2,  33.4033, 2,  33.4047, 2,    233.2, 2,    237.1, 2,    50.47, 2,    28.18, 2,     0.02, 2,     2.15, 2,    4.607, 6,    2.452, 6,    0.368, 6, -999.000, 9,   -999.0, 9,   -999.0, 9, -999.0000,   -999.00,   -999.0, 9,   -999.0,  -999.00, 9,   -999.0,   3.2796, 26.5854,   3.2886, 2, 9, 0.23, 0.11, 0.01, 0.015,  -999.00, 9, -999.00, -999.00, 9, -999.00
49NZ20071008, P14N, 29, 1, 32, X12038, 2, 20071021, 0215, 47.9918, 178.9927, 5312,    200.5, 2,   3.2715, 2,  33.6425, 2,  33.6409, 2,    151.7, 2,    157.8, 2,    69.31, 2,    34.61, 2,     0.01, 2,     2.56, 2,    3.690, 2,    1.910, 2,    0.270, 2, -999.000, 9,   -999.0, 9,   -999.0, 9, -999.0000,   -999.00,   -999.0, 9,   -999.0,  -999.00, 9,   -999.0,   3.2590, 26.7780,   3.2734, 2, 9, 0.27, 0.13, 0.01, 0.016,  -999.00, 9, -999.00, -999.00, 9, -999.00
49NZ20071008, P14N, 29, 1, 31, X12003, 2, 20071021, 0215, 47.9918, 178.9927, 5312,    250.3, 2,   3.3484, 2,  33.7541, 2,  33.7546, 6,    109.0, 2,    114.6, 2,    79.99, 2,    37.78, 2,     0.01, 2,     2.76, 2,    3.034, 2,    1.550, 2,    0.228, 2, -999.000, 9,   -999.0, 9,   -999.0, 9, -999.0000,   -999.00,   -999.0, 9,   -999.0,  -999.00, 9,   -999.0,   3.3325, 26.8602,   3.3484, 2, 9, 0.29, 0.14, 0.01, 0.017,  -999.00, 9, -999.00, -999.00, 9, -999.00
49NZ20071008, P14N, 29, 1, 30, X12008, 2, 20071021, 0215, 47.9918, 178.9927, 5312,    331.8, 2,   3.5515, 2,  33.9130, 2,  33.9098, 2,     68.4, 2,     70.3, 2,    93.10, 2,    40.73, 2,     0.01, 2,     2.94, 2,    2.153, 2,    1.077, 2,    0.159, 2, -999.000, 9,   -999.0, 9,   -999.0, 9, -999.0000,   -999.00,   -999.0, 9,   -999.0,  -999.00, 9,   -999.0,   3.5296, 26.9681,   3.5516, 2, 9, 0.32, 0.15, 0.01, 0.017,  -999.00, 9, -999.00, -999.00, 9, -999.00
49NZ20071008, P14N, 29, 1, 29, X12035, 2, 20071021, 0215, 47.9918, 178.9927, 5312,    430.5, 2,   3.5942, 2,  34.0499, 2,  34.0493, 2,     44.5, 2,     44.3, 2,   105.52, 2,    42.41, 2,     0.01, 2,     3.04, 2,    1.390, 2,    0.688, 2,    0.101, 2, -999.000, 9,   -999.0, 9,   -999.0, 9, -999.0000,   -999.00,   -999.0, 9,   -999.0,  -999.00, 9,   -999.0,   3.5652, 27.0737,   3.5936, 2, 9, 0.35, 0.15, 0.01, 0.018,  -999.00, 9, -999.00, -999.00, 9, -999.00
49NZ20071008, P14N, 29, 1, 28, X12034, 2, 20071021, 0215, 47.9918, 178.9927, 5312,    530.4, 2,   3.5157, 2,  34.1463, 2,  34.1459, 6,     34.6, 2,     33.6, 2,   114.93, 2,    42.92, 2,     0.01, 2,     3.08, 2,    0.925, 2,    0.455, 2,    0.066, 2, -999.000, 9,   -999.0, 9,   -999.0, 9, -999.0000,   -999.00,   -999.0, 9,   -999.0,  -999.00, 9,   -999.0,   3.4798, 27.1588,   3.5153, 2, 9, 0.37, 0.15, 0.01, 0.018,  -999.00, 9, -999.00, -999.00, 9, -999.00
49NZ20071008, P14N, 29, 1, 27, X12049, 2, 20071021, 0215, 47.9918, 178.9927, 5312,    628.7, 2,   3.3566, 2,  34.2250, 2,  34.2263, 2,     30.0, 2,     29.1, 2,   123.76, 2,    43.29, 2,     0.01, 2,     3.10, 2,    0.601, 2,    0.289, 2,    0.036, 2, -999.000, 9,   -999.0, 9,   -999.0, 9, -999.0000,   -999.00,   -999.0, 9,   -999.0,  -999.00, 9,   -999.0,   3.3143, 27.2373,   3.3564, 2, 9, 0.39, 0.15, 0.01, 0.018,  -999.00, 9, -999.00, -999.00, 9, -999.00
49NZ20071008, P14N, 29, 1, 26, X12032, 2, 20071021, 0215, 47.9918, 178.9927, 5312,    730.2, 2,   3.2057, 2,  34.2841, 2,  34.2845, 2,     28.9, 2,     27.5, 2,   130.54, 2,    43.38, 2,     0.01, 2,     3.11, 2,    0.395, 6,    0.191, 6,    0.024, 6, -999.000, 9,   -999.0, 9,   -999.0, 9, -999.0000,   -999.00,   -999.0, 9,   -999.0,  -999.00, 9,   -999.0,   3.1568, 27.2992,   3.2055, 2, 9, 0.41, 0.15, 0.01, 0.018,  -999.00, 9, -999.00, -999.00, 9, -999.00
49NZ20071008, P14N, 29, 1, 25, X12043, 3, 20071021, 0215, 47.9918, 178.9927, 5312,    829.5, 2,   3.0246, 2,  34.3298, 2,  34.3292, 2,     27.0, 2,     25.6, 2,   137.18, 2,    43.64, 2,     0.01, 2,     3.13, 2,    0.279, 2,    0.134, 2,    0.018, 2, -999.000, 9,   -999.0, 9,   -999.0, 9, -999.0000,   -999.00,   -999.0, 9,   -999.0,  -999.00, 9,   -999.0,   2.9695, 27.3529,   3.0235, 2, 9, 0.42, 0.15, 0.01, 0.018,  -999.00, 9, -999.00, -999.00, 9, -999.00
49NZ20071008, P14N, 29, 1, 24, X12030, 2, 20071021, 0215, 47.9918, 178.9927, 5312,    931.8, 2,   2.8514, 2,  34.3758, 2,  34.3761, 2,     26.0, 2,     24.9, 2,   143.36, 2,    43.68, 2,     0.01, 2,     3.13, 2,    0.172, 2,    0.082, 2,    0.012, 2, -999.000, 9,   -999.0, 9,   -999.0, 9, -999.0000,   -999.00,   -999.0, 9,   -999.0,  -999.00, 9,   -999.0,   2.7899, 27.4057,   2.8511, 2, 9, 0.43, 0.16, 0.01, 0.018,  -999.00, 9, -999.00, -999.00, 9, -999.00
49NZ20071008, P14N, 29, 1, 23, X12027, 2, 20071021, 0215, 47.9918, 178.9927, 5312,   1070.3, 2,   2.6498, 2,  34.4231, 2,  34.4244, 6,     27.4, 2,     26.8, 2,   150.20, 2,    43.69, 2,     0.01, 2,     3.13, 2,    0.105, 2,    0.056, 2,    0.006, 2, -999.000, 9,   -999.0, 9,   -999.0, 9, -999.0000,   -999.00,   -999.0, 9,   -999.0,  -999.00, 9,   -999.0,   2.5796, 27.4618,   2.6507, 2, 9, 0.45, 0.16, 0.01, 0.018,  -999.00, 9, -999.00, -999.00, 9, -999.00
49NZ20071008, P14N, 29, 1, 22, X12028, 2, 20071021, 0215, 47.9918, 178.9927, 5312,   1271.9, 2,   2.4032, 2,  34.4793, 2,  34.4789, 2,     33.1, 2,     33.2, 2,   157.01, 2,    43.41, 2,     0.01, 2,     3.10, 2,    0.056, 2,    0.029, 2,    0.000, 2, -999.000, 9,   -999.0, 9,   -999.0, 9, -999.0000,   -999.00,   -999.0, 9,   -999.0,  -999.00, 9,   -999.0,   2.3201, 27.5286,   2.4033, 2, 9, 0.46, 0.15, 0.01, 0.018,  -999.00, 9, -999.00, -999.00, 9, -999.00
49NZ20071008, P14N, 29, 1, 21, X12009, 2, 20071021, 0215, 47.9918, 178.9927, 5312,   1471.3, 2,   2.2289, 2,  34.5193, 2,  34.5201, 2,     41.4, 2,     41.8, 2,   161.21, 2,    42.98, 2,     0.01, 2,     3.07, 2,    0.028, 2,    0.015, 2,    0.000, 2, -999.000, 9,   -999.0, 9,   -999.0, 9, -999.0000,   -999.00,   -999.0, 9,   -999.0,  -999.00, 9,   -999.0,   2.1323, 27.5760,   2.2286, 2, 9, 0.47, 0.15, 0.01, 0.018,  -999.00, 9, -999.00, -999.00, 9, -999.00
49NZ20071008, P14N, 29, 1, 20, X12026, 2, 20071021, 0215, 47.9918, 178.9927, 5312,   1671.4, 2,   2.0713, 2,  34.5555, 2,  34.5559, 2,     51.4, 2,     52.4, 2,   163.86, 2,    42.44, 2,     0.01, 2,     3.02, 2,    0.010, 2,    0.005, 2,    0.000, 2, -999.000, 9,   -999.0, 9,   -999.0, 9, -999.0000,   -999.00,   -999.0, 9,   -999.0,  -999.00, 9,   -999.0,   1.9609, 27.6186,   2.0712, 2, 9, 0.48, 0.15, 0.01, 0.017,  -999.00, 9, -999.00, -999.00, 9, -999.00
49NZ20071008, P14N, 29, 1, 19, X12025, 2, 20071021, 0215, 47.9918, 178.9927, 5312,   1872.2, 2,   1.9558, 2,  34.5806, 2,  34.5800, 2,     62.7, 2,     62.0, 2,   165.19, 2,    41.86, 2,     0.01, 2,     2.98, 2,    0.002, 2,    0.000, 2,    0.000, 2, -999.000, 9,   -999.0, 9,   -999.0, 9, -999.0000,   -999.00,   -999.0, 9,   -999.0,  -999.00, 9,   -999.0,   1.8307, 27.6488,   1.9560, 2, 9, 0.48, 0.15, 0.01, 0.017,  -999.00, 9, -999.00, -999.00, 9, -999.00
49NZ20071008, P14N, 29, 1, 18, X12024, 2, 20071021, 0215, 47.9918, 178.9927, 5312,   2071.4, 2,   1.8385, 2,  34.6043, 2,  34.6039, 2,     74.7, 2,     74.9, 2,   165.59, 2,    41.04, 2,     0.01, 2,     2.92, 2,    0.006, 2,    0.005, 2,    0.000, 2, -999.000, 9,   -999.0, 9,   -999.0, 9, -999.0000,   -999.00,   -999.0, 9,   -999.0,  -999.00, 9,   -999.0,   1.6987, 27.6779,   1.8385, 2, 9, 0.48, 0.15, 0.01, 0.017,  -999.00, 9, -999.00, -999.00, 9, -999.00
49NZ20071008, P14N, 29, 1, 17, X12023, 2, 20071021, 0215, 47.9918, 178.9927, 5312,   2270.7, 2,   1.7489, 2,  34.6216, 2,  34.6215, 2,     84.4, 2,     86.6, 2,   165.32, 2,    40.36, 2,     0.01, 2,     2.86, 2,    0.000, 2,    0.000, 2,    0.000, 2, -999.000, 9,   -999.0, 9,   -999.0, 9, -999.0000,   -999.00,   -999.0, 9,   -999.0,  -999.00, 9,   -999.0,   1.5936, 27.6997,   1.7490, 2, 9, 0.48, 0.15, 0.01, 0.017,  -999.00, 9, -999.00, -999.00, 9, -999.00
49NZ20071008, P14N, 29, 1, 16, X12022, 2, 20071021, 0215, 47.9918, 178.9927, 5312,   2470.6, 2,   1.6725, 2,  34.6358, 2,  34.6355, 6,     95.6, 2,     96.6, 2,   164.94, 2,    39.70, 2,     0.01, 2,     2.81, 2,    0.003, 2,    0.001, 2,    0.000, 2, -999.000, 9,   -999.0, 9,   -999.0, 9, -999.0000,   -999.00,   -999.0, 9,   -999.0,  -999.00, 9,   -999.0,   1.5010, 27.7178,   1.6725, 2, 9, 0.48, 0.14, 0.01, 0.017,  -999.00, 9, -999.00, -999.00, 9, -999.00
49NZ20071008, P14N, 29, 1, 15, X12021, 2, 20071021, 0215, 47.9918, 178.9927, 5312,   2670.4, 2,   1.6218, 2,  34.6460, 2,  34.6457, 2,    104.6, 2,    105.5, 2,   163.54, 2,    39.16, 2,     0.01, 2,     2.78, 2, -999.000, 9, -999.000, 9, -999.000, 9, -999.000, 9,   -999.0, 9,   -999.0, 9, -999.0000,   -999.00,   -999.0, 9,   -999.0,  -999.00, 9,   -999.0,   1.4333, 27.7309,   1.6219, 2, 9, 0.48, 0.14, 0.01, 0.017,  -999.00, 9, -999.00, -999.00, 9, -999.00
49NZ20071008, P14N, 29, 1, 14, X12020, 2, 20071021, 0215, 47.9918, 178.9927, 5312,   2868.8, 2,   1.5764, 2,  34.6550, 2,  34.6551, 2,    113.3, 2,    114.2, 2,   161.81, 2,    38.59, 2,     0.01, 2,     2.73, 2, -999.000, 9, -999.000, 9, -999.000, 9, -999.000, 9,   -999.0, 9,   -999.0, 9, -999.0000,   -999.00,   -999.0, 9,   -999.0,  -999.00, 9,   -999.0,   1.3704, 27.7426,   1.5764, 2, 9, 0.47, 0.14, 0.01, 0.017,  -999.00, 9, -999.00, -999.00, 9, -999.00
49NZ20071008, P14N, 29, 1, 13, X12019, 2, 20071021, 0215, 47.9918, 178.9927, 5312,   3079.6, 2,   1.5360, 2,  34.6633, 2,  34.6631, 2,    121.0, 2,    122.5, 2,   159.83, 2,    38.14, 2,     0.01, 2,     2.69, 2, -999.000, 9, -999.000, 9, -999.000, 9, -999.000, 9,   -999.0, 9,   -999.0, 9, -999.0000,   -999.00,   -999.0, 9,   -999.0,  -999.00, 9,   -999.0,   1.3108, 27.7535,   1.5362, 2, 9, 0.47, 0.14, 0.01, 0.017,  -999.00, 9, -999.00, -999.00, 9, -999.00
49NZ20071008, P14N, 29, 1, 12, X12040, 2, 20071021, 0215, 47.9918, 178.9927, 5312,   3329.0, 2,   1.5008, 2,  34.6707, 2,  34.6706, 2,    130.4, 2,    131.7, 2,   157.07, 2,    37.34, 2,     0.00, 2,     2.63, 2,    0.002, 2,    0.003, 2,    0.000, 2, -999.000, 9,   -999.0, 9,   -999.0, 9, -999.0000,   -999.00,   -999.0, 9,   -999.0,  -999.00, 9,   -999.0,   1.2520, 27.7636,   1.5008, 2, 9, 0.46, 0.14, 0.01, 0.017,  -999.00, 9, -999.00, -999.00, 9, -999.00
49NZ20071008, P14N, 29, 1, 11, X12047, 2, 20071021, 0215, 47.9918, 178.9927, 5312,   3580.5, 2,   1.4816, 2,  34.6762, 2,  34.6761, 2,    137.8, 2,    138.3, 2,   155.16, 2,    37.05, 2,     0.00, 2,     2.60, 2, -999.000, 9, -999.000, 9, -999.000, 9, -999.000, 9,   -999.0, 9,   -999.0, 9, -999.0000,   -999.00,   -999.0, 9,   -999.0,  -999.00, 9,   -999.0,   1.2077, 27.7711,   1.4816, 2, 9, 0.46, 0.14, 0.01, 0.016,  -999.00, 9, -999.00, -999.00, 9, -999.00
49NZ20071008, P14N, 29, 1, 10, X12010, 2, 20071021, 0215, 47.9918, 178.9927, 5312,   3831.2, 2,   1.4657, 2,  34.6810, 2,  34.6808, 2,    144.0, 2,    144.4, 2,   153.52, 2,    36.57, 2,     0.00, 2,     2.57, 2, -999.000, 9, -999.000, 9, -999.000, 9, -999.000, 9,   -999.0, 9,   -999.0, 9, -999.0000,   -999.00,   -999.0, 9,   -999.0,  -999.00, 9,   -999.0,   1.1659, 27.7778,   1.4657, 2, 9, 0.46, 0.14, 0.01, 0.016,  -999.00, 9, -999.00, -999.00, 9, -999.00
49NZ20071008, P14N, 29, 1, 9, X12015, 2, 20071021, 0215, 47.9918, 178.9927, 5312,   4080.5, 2,   1.4597, 2,  34.6846, 2,  34.6847, 6,    147.9, 2,    148.5, 2,   154.00, 2,    36.47, 2,     0.01, 2,     2.56, 2, -999.000, 9, -999.000, 9, -999.000, 9, -999.000, 9,   -999.0, 9,   -999.0, 9, -999.0000,   -999.00,   -999.0, 9,   -999.0,  -999.00, 9,   -999.0,   1.1332, 27.7830,   1.4597, 2, 9, 0.46, 0.13, 0.01, 0.016,  -999.00, 9, -999.00, -999.00, 9, -999.00
49NZ20071008, P14N, 29, 1, 8, X12046, 2, 20071021, 0215, 47.9918, 178.9927, 5312,   4331.2, 2,   1.4711, 2,  34.6868, 2,  34.6867, 2,    150.7, 2,    150.7, 2,   154.89, 2,    36.32, 2,     0.00, 2,     2.54, 2,    0.000, 2,    0.000, 2,    0.000, 2, -999.000, 9,   -999.0, 9,   -999.0, 9, -999.0000,   -999.00,   -999.0, 9,   -999.0,  -999.00, 9,   -999.0,   1.1163, 27.7859,   1.4712, 2, 9, 0.46, 0.13, 0.01, 0.016,  -999.00, 9, -999.00, -999.00, 9, -999.00
49NZ20071008, P14N, 29, 1, 7, X12044, 2, 20071021, 0215, 47.9918, 178.9927, 5312,   4582.7, 2,   1.4910, 2,  34.6884, 2,  34.6882, 2,    151.7, 2,    151.8, 2,   156.07, 2,    36.25, 2,     0.01, 2,     2.54, 2, -999.000, 9, -999.000, 9, -999.000, 9, -999.000, 9,   -999.0, 9,   -999.0, 9, -999.0000,   -999.00,   -999.0, 9,   -999.0,  -999.00, 9,   -999.0,   1.1067, 27.7878,   1.4913, 2, 9, 0.46, 0.13, 0.01, 0.016,  -999.00, 9, -999.00, -999.00, 9, -999.00
49NZ20071008, P14N, 29, 1, 6, X12048, 2, 20071021, 0215, 47.9918, 178.9927, 5312,   4831.0, 2,   1.5152, 2,  34.6890, 2,  34.6891, 2,    152.7, 2,    152.8, 2,   156.47, 2,    36.14, 2,     0.01, 2,     2.53, 2, -999.000, 9, -999.000, 9, -999.000, 9, -999.000, 9,   -999.0, 9,   -999.0, 9, -999.0000,   -999.00,   -999.0, 9,   -999.0,  -999.00, 9,   -999.0,   1.1008, 27.7887,   1.5153, 2, 9, 0.46, 0.13, 0.01, 0.016,  -999.00, 9, -999.00, -999.00, 9, -999.00
49NZ20071008, P14N, 29, 1, 5, X12014, 2, 20071021, 0215, 47.9918, 178.9927, 5312,   5080.1, 2,   1.5450, 2,  34.6891, 2,  34.6890, 2,    153.2, 2,    153.0, 2,   156.71, 2,    36.16, 2,     0.00, 2,     2.53, 2, -999.000, 9, -999.000, 9, -999.000, 9, -999.000, 9,   -999.0, 9,   -999.0, 9, -999.0000,   -999.00,   -999.0, 9,   -999.0,  -999.00, 9,   -999.0,   1.0994, 27.7889,   1.5450, 2, 9, 0.46, 0.13, 0.01, 0.016,  -999.00, 9, -999.00, -999.00, 9, -999.00
49NZ20071008, P14N, 29, 1, 4, X12006, 2, 20071021, 0215, 47.9918, 178.9927, 5312,   5329.6, 2,   1.5736, 2,  34.6894, 2,  34.6896, 2,    154.1, 2,    154.1, 2,   155.64, 2,    35.99, 2,     0.01, 2,     2.52, 2, -999.000, 9, -999.000, 9, -999.000, 9, -999.000, 9,   -999.0, 9,   -999.0, 9, -999.0000,   -999.00,   -999.0, 9,   -999.0,  -999.00, 9,   -999.0,   1.0960, 27.7893,   1.5736, 2, 9, 0.46, 0.13, 0.01, 0.016,  -999.00, 9, -999.00, -999.00, 9, -999.00
49NZ20071008, P14N, 29, 1, 3, X12013, 9, 20071021, 0215, 47.9918, 178.9927, 5312,     49.9, 2,   9.2375, 2,  32.7124, 2, -999.0000, 9,    285.9, 2,   -999.0, 9,  -999.00, 9,  -999.00, 9,  -999.00, 9,  -999.00, 9, -999.000, 9, -999.000, 9, -999.000, 9, -999.000, 9,   -999.0, 9,   -999.0, 9, -999.0000,   -999.00,   -999.0, 9,   -999.0,  -999.00, 9,   -999.0,   9.2322, 25.2907,   9.2360, 2, 9, -999.00, -999.00, -999.00, -999.000,  -999.00, 9, -999.00, -999.00, 9, -999.00
49NZ20071008, P14N, 29, 1, 2, X12002, 9, 20071021, 0215, 47.9918, 178.9927, 5312,     99.4, 2,   4.1817, 2,  33.0940, 2, -999.0000, 9,    308.2, 2,   -999.0, 9,  -999.00, 9,  -999.00, 9,  -999.00, 9,  -999.00, 9, -999.000, 9, -999.000, 9, -999.000, 9, -999.000, 9,   -999.0, 9,   -999.0, 9, -999.0000,   -999.00,   -999.0, 9,   -999.0,  -999.00, 9,   -999.0,   4.1750, 26.2525,   4.1793, 2, 9, -999.00, -999.00, -999.00, -999.000,  -999.00, 9, -999.00, -999.00, 9, -999.00
49NZ20071008, P14N, 29, 1, 1, X12001, 2, 20071021, 0215, 47.9918, 178.9927, 5312,   5411.8, 2,   1.5820, 2,  34.6894, 2,  34.6896, 6,    154.5, 2,    154.5, 2,   154.49, 2,    35.96, 2,     0.01, 2,     2.52, 2,    0.000, 2,    0.000, 2,    0.000, 2, -999.000, 9,   -999.0, 9,   -999.0, 9, -999.0000,   -999.00,   -999.0, 9,   -999.0,  -999.00, 9,   -999.0,   1.0937, 27.7895,   1.5819, 2, 9, 0.46, 0.13, 0.01, 0.016,  -999.00, 9, -999.00, -999.00, 9, -999.00