BOTTLE,20221005CCHSIOAMB
EXPOCODE,SECT_ID,STNNBR,CASTNO,SAMPNO,BTLNBR,BTLNBR_FLAG_W,DATE,TIME,LATITUDE,LONGITUDE,DEPTH,CTDPRS,CTDPRS_FLAG_W,CTDTMP,CTDTMP_FLAG_W,CTDSAL,CTDSAL_FLAG_W,SALNTY,SALNTY_FLAG_W,CTDOXY,CTDOXY_FLAG_W,OXYGEN,OXYGEN_FLAG_W,SILCAT,SILCAT_FLAG_W,NITRAT,NITRAT_FLAG_W,NITRIT,NITRIT_FLAG_W,PHSPHT,PHSPHT_FLAG_W,CFC-11,CFC-11_FLAG_W,CFC-12,CFC-12_FLAG_W,CFC113,CFC113_FLAG_W,CCL4,CCL4_FLAG_W,TCARBN,TCARBN_FLAG_W,ALKALI,ALKALI_FLAG_W,PH_TOT,PH_TMP,DELC14,DELC14_FLAG_W,C14ERR,DELC13,DELC13_FLAG_W,C13ERR,THETA,SIG0,SBE35,SBE35_FLAG_W,PH_TOT_FLAG_W,SILUNC,NRAUNC,NRIUNC,PHPUNC,CS-137,CS-137_FLAG_W,CS137ER,PLUTO,PLUTO_FLAG_W,PLUTOER
,,,,,,,,,,,METERS,DBAR,,ITS-90,,PSS-78,,PSS-78,,UMOL/KG,,UMOL/KG,,UMOL/KG,,UMOL/KG,,UMOL/KG,,UMOL/KG,,PMOL/KG,,PMOL/KG,,PMOL/KG,,PMOL/KG,,UMOL/KG,,UMOL/KG,,,DEG C,/MILLE,,/MILLE,/MILLE,,/MILLE,DEG C,KG/M^3,ITS-90,,,UMOL/KG,UMOL/KG,UMOL/KG,UMOL/KG,DM/.1MG,,BQ/M^3,MBQ/M^3,,MBQ/M^3
49NZ20071008, P14N, 97, 1, 36, X12042, 2, 20071116, 0715, 14.0055, 178.9933, 5701,     10.5, 2,  27.9368, 2,  34.7018, 2,  34.7020, 2,    199.2, 2,    199.1, 2,     0.83, 2,     0.07, 2,     0.00, 2,     0.13, 2,    1.524, 2,    0.948, 2,    0.326, 4, -999.000, 9,   1951.2, 2,   2285.7, 2,    8.1117,     25.00,   -999.0, 1,   -999.0,  -999.00, 1,   -999.0,  27.9343, 22.1918,  27.9357, 2, 2, 0.12, 0.03, 0.01, 0.019,  -999.00, 9, -999.00, -999.00, 9, -999.00
49NZ20071008, P14N, 97, 1, 35, X12041, 2, 20071116, 0715, 14.0055, 178.9933, 5701,     50.4, 2,  27.9425, 2,  34.7008, 2,  34.7018, 2,    199.1, 2,    199.2, 2,     0.85, 2,     0.05, 2,     0.00, 2,     0.13, 2,    1.529, 2,    0.973, 2,    0.325, 4, -999.000, 9,   1951.8, 6,   2285.0, 2,    8.1122,     25.00,   -999.0, 1,   -999.0,  -999.00, 1,   -999.0,  27.9307, 22.1923,  27.9421, 2, 2, 0.12, 0.03, 0.01, 0.019,  -999.00, 9, -999.00, -999.00, 9, -999.00
49NZ20071008, P14N, 97, 1, 34, X12016, 2, 20071116, 0715, 14.0055, 178.9933, 5701,    100.1, 2,  26.6542, 2,  35.0313, 2,  35.0337, 2,    213.2, 2,    213.7, 2,     0.74, 2,     0.05, 2,     0.00, 2,     0.09, 2,    1.670, 2,    1.031, 2,    0.940, 4, -999.000, 9,   1971.2, 2,   2307.8, 6,    8.1092,     25.00,   -999.0, 1,   -999.0,  -999.00, 1,   -999.0,  26.6315, 22.8586,  26.6519, 2, 2, 0.12, 0.03, 0.01, 0.024,  -999.00, 9, -999.00, -999.00, 9, -999.00
49NZ20071008, P14N, 97, 1, 33, X12033, 2, 20071116, 0715, 14.0055, 178.9933, 5701,    150.4, 2,  23.9656, 2,  35.1716, 2,  35.1717, 2,    189.2, 2,    192.9, 2,     1.03, 2,     0.16, 2,     0.17, 2,     0.13, 2,    1.864, 6,    1.139, 6,    0.258, 4, -999.000, 9,   2011.8, 2,   2316.6, 2,    8.0506,     25.00,   -999.0, 1,   -999.0,  -999.00, 1,   -999.0,  23.9339, 23.7908,  23.9671, 2, 6, 0.12, 0.03, 0.01, 0.019,  -999.00, 9, -999.00, -999.00, 9, -999.00
49NZ20071008, P14N, 97, 1, 32, X12038, 2, 20071116, 0715, 14.0055, 178.9933, 5701,    199.1, 2,  19.4671, 2,  34.8870, 2,  34.8831, 2,    177.2, 2,    178.6, 2,     2.91, 2,     3.89, 2,     0.01, 2,     0.40, 2,    2.284, 2,    1.345, 2,    0.069, 2, -999.000, 9,   2056.7, 2,   2299.2, 2,    7.9432,     25.00,   -999.0, 1,   -999.0,  -999.00, 1,   -999.0,  19.4310, 24.8241,  19.4661, 2, 2, 0.13, 0.04, 0.01, 0.013,  -999.00, 9, -999.00, -999.00, 9, -999.00
49NZ20071008, P14N, 97, 1, 31, X12003, 2, 20071116, 0715, 14.0055, 178.9933, 5701,    248.3, 2,  14.5760, 2,  34.4156, 2,  34.4104, 6,    166.2, 2,    167.2, 2,     8.74, 2,    10.62, 2,     0.01, 2,     0.88, 2,    2.618, 2,    1.482, 2,    0.055, 2, -999.000, 9,   2093.7, 2,   2270.7, 2,    7.8201,     25.00,   -999.0, 1,   -999.0,  -999.00, 1,   -999.0,  14.5392, 25.6211,  14.5886, 2, 2, 0.14, 0.06, 0.01, 0.013,  -999.00, 9, -999.00, -999.00, 9, -999.00
49NZ20071008, P14N, 97, 1, 30, X12008, 2, 20071116, 0715, 14.0055, 178.9933, 5701,    299.0, 2,  11.5145, 2,  34.2995, 2,  34.2966, 2,    125.1, 2,    125.8, 2,    21.11, 2,    20.70, 2,     0.00, 2,     1.61, 2,    2.275, 2,    1.187, 2,    0.047, 2, -999.000, 9,   2157.2, 2,   2271.8, 2,    7.6654,     25.00,   -999.0, 1,   -999.0,  -999.00, 1,   -999.0,  11.4767, 26.1430,  11.5212, 2, 2, 0.17, 0.09, 0.01, 0.014,  -999.00, 9, -999.00, -999.00, 9, -999.00
49NZ20071008, P14N, 97, 1, 29, X12035, 2, 20071116, 0715, 14.0055, 178.9933, 5701,    400.0, 2,   8.6413, 2,  34.3703, 2,  34.3726, 2,     52.5, 2,     55.5, 2,    41.34, 2,    32.35, 2,     0.00, 2,     2.44, 2,    0.752, 2,    0.378, 2,    0.028, 2, -999.000, 9,   2245.4, 2,   2295.7, 2,    7.4877,     25.00,   -999.0, 1,   -999.0,  -999.00, 1,   -999.0,   8.5988, 26.6882,   8.6359, 2, 2, 0.21, 0.12, 0.01, 0.016,  -999.00, 9, -999.00, -999.00, 9, -999.00
49NZ20071008, P14N, 97, 1, 28, X12034, 2, 20071116, 0715, 14.0055, 178.9933, 5701,    500.3, 2,   7.6661, 2,  34.4454, 2,  34.4453, 6,     43.6, 2,     43.1, 2,    50.83, 2,    36.04, 2,     0.00, 2,     2.66, 2,    0.244, 2,    0.127, 2,    0.010, 2, -999.000, 9,   2267.2, 2,   2310.5, 2,    7.4579,     25.00,   -999.0, 1,   -999.0,  -999.00, 1,   -999.0,   7.6161, 26.8947,   7.6621, 2, 2, 0.23, 0.13, 0.01, 0.017,  -999.00, 9, -999.00, -999.00, 9, -999.00
49NZ20071008, P14N, 97, 1, 27, X12049, 2, 20071116, 0715, 14.0055, 178.9933, 5701,    599.2, 2,   6.7582, 2,  34.4759, 2,  34.4761, 2,     47.6, 2,     47.3, 2,    60.42, 2,    37.71, 2,     0.00, 2,     2.77, 2, -999.000, 5, -999.000, 5, -999.000, 5, -999.000, 9,   2283.7, 2,   2324.1, 2,    7.4557,     25.00,   -999.0, 1,   -999.0,  -999.00, 1,   -999.0,   6.7020, 27.0466,   6.7603, 2, 2, 0.25, 0.14, 0.01, 0.017,  -999.00, 9, -999.00, -999.00, 9, -999.00
49NZ20071008, P14N, 97, 1, 26, X12032, 2, 20071116, 0715, 14.0055, 178.9933, 5701,    700.0, 2,   6.0838, 2,  34.4919, 2,  34.4922, 2,     52.3, 2,     51.9, 2,    68.55, 2,    38.77, 2,     0.00, 2,     2.83, 2,    0.055, 6,    0.030, 6,    0.000, 6, -999.000, 9,   2293.2, 6,   2334.7, 2,    7.4576,     25.00,   -999.0, 1,   -999.0,  -999.00, 1,   -999.0,   6.0212, 27.1485,   6.0837, 2, 2, 0.27, 0.14, 0.01, 0.017,  -999.00, 9, -999.00, -999.00, 9, -999.00
49NZ20071008, P14N, 97, 1, 25, X12043, 2, 20071116, 0715, 14.0055, 178.9933, 5701,    800.2, 2,   5.5766, 2,  34.5051, 2,  34.5047, 2,     55.3, 2,     54.6, 2,    75.67, 2,    39.52, 2,     0.00, 2,     2.88, 2,    0.034, 2,    0.020, 2,    0.005, 2, -999.000, 9,   2300.3, 2,   2343.3, 6,    7.4575,     25.00,   -999.0, 1,   -999.0,  -999.00, 1,   -999.0,   5.5076, 27.2228,   5.5770, 2, 2, 0.29, 0.14, 0.01, 0.017,  -999.00, 9, -999.00, -999.00, 9, -999.00
49NZ20071008, P14N, 97, 1, 24, X12030, 2, 20071116, 0715, 14.0055, 178.9933, 5701,    901.3, 2,   5.0860, 2,  34.5188, 2,  34.5193, 2,     56.6, 2,     55.7, 2,    84.08, 2,    40.17, 2,     0.00, 2,     2.92, 2,    0.016, 2,    0.010, 2,    0.000, 2, -999.000, 9,   2311.5, 2,   2353.1, 2,    7.4546,     25.00,   -999.0, 1,   -999.0,  -999.00, 1,   -999.0,   5.0109, 27.2925,   5.0869, 2, 6, 0.30, 0.15, 0.01, 0.017,  -999.00, 9, -999.00, -999.00, 9, -999.00
49NZ20071008, P14N, 97, 1, 23, X12027, 2, 20071116, 0715, 14.0055, 178.9933, 5701,    999.7, 2,   4.6277, 2,  34.5319, 2,  34.5324, 6,     58.7, 2,     59.2, 2,    92.02, 2,    40.58, 2,     0.00, 2,     2.94, 2,    0.009, 2,    0.004, 2,    0.000, 2, -999.000, 9,   2319.5, 2,   2362.1, 2,    7.4565,     25.00,   -999.0, 1,   -999.0,  -999.00, 1,   -999.0,   4.5472, 27.3552,   4.6265, 2, 2, 0.32, 0.15, 0.01, 0.017,  -999.00, 9, -999.00, -999.00, 9, -999.00
49NZ20071008, P14N, 97, 1, 22, X12028, 2, 20071116, 0715, 14.0055, 178.9933, 5701,   1200.4, 2,   3.9258, 2,  34.5543, 2,  34.5546, 2,     64.2, 2,     63.8, 2,   106.44, 2,    41.01, 2,     0.00, 2,     2.96, 2,    0.002, 2,    0.000, 2,    0.000, 2, -999.000, 9,   2332.6, 2,   2377.4, 2,    7.4589,     25.00,   -999.0, 1,   -999.0,  -999.00, 1,   -999.0,   3.8338, 27.4487,   3.9254, 2, 2, 0.35, 0.15, 0.01, 0.017,  -999.00, 9, -999.00, -999.00, 9, -999.00
49NZ20071008, P14N, 97, 1, 21, X12009, 2, 20071116, 0715, 14.0055, 178.9933, 5701,   1398.9, 2,   3.3247, 2,  34.5771, 2,  34.5777, 2,     73.1, 2,     72.9, 2,   118.46, 2,    40.89, 2,     0.00, 2,     2.95, 2,    0.000, 2,    0.000, 2,    0.000, 2, -999.000, 9,   2343.6, 2,   2391.1, 2,    7.4706,     25.00,   -999.0, 1,   -999.0,  -999.00, 1,   -999.0,   3.2217, 27.5269,   3.3249, 2, 2, 0.38, 0.15, 0.01, 0.017,  -999.00, 9, -999.00, -999.00, 9, -999.00
49NZ20071008, P14N, 97, 1, 20, X12026, 2, 20071116, 0715, 14.0055, 178.9933, 5701,   1599.1, 2,   2.8045, 2,  34.5980, 2,  34.5988, 2,     82.6, 2,     83.0, 2,   129.49, 2,    40.46, 2,     0.00, 2,     2.90, 2,    0.000, 2,    0.000, 2,    0.000, 2, -999.000, 9,   2350.7, 2,   2402.5, 2,    7.4857,     25.00,   -999.0, 1,   -999.0,  -999.00, 1,   -999.0,   2.6907, 27.5920,   2.8046, 2, 6, 0.40, 0.15, 0.01, 0.017,  -999.00, 9, -999.00, -999.00, 9, -999.00
49NZ20071008, P14N, 97, 1, 19, X12025, 2, 20071116, 0715, 14.0055, 178.9933, 5701,   1798.4, 2,   2.4408, 2,  34.6167, 2,  34.6170, 2,     92.5, 2,     92.3, 2,   137.02, 2,    39.90, 2,     0.00, 2,     2.85, 2,    0.001, 2,    0.000, 2,    0.000, 2, -999.000, 9,   2351.9, 2,   2409.9, 2,    7.5000,     25.00,   -999.0, 1,   -999.0,  -999.00, 1,   -999.0,   2.3149, 27.6390,   2.4410, 2, 2, 0.42, 0.14, 0.01, 0.017,  -999.00, 9, -999.00, -999.00, 9, -999.00
49NZ20071008, P14N, 97, 1, 18, X12024, 2, 20071116, 0715, 14.0055, 178.9933, 5701,   1998.5, 2,   2.2115, 2,  34.6290, 2,  34.6291, 2,    100.6, 2,     99.6, 2,   141.72, 2,    39.44, 2,     0.00, 2,     2.81, 2,    0.000, 2,    0.000, 2,    0.000, 2, -999.000, 9,   2351.8, 2,   2414.7, 2,    7.5118,     25.00,   -999.0, 1,   -999.0,  -999.00, 1,   -999.0,   2.0720, 27.6687,   2.2118, 2, 2, 0.43, 0.14, 0.01, 0.017,  -999.00, 9, -999.00, -999.00, 9, -999.00
49NZ20071008, P14N, 97, 1, 17, X12023, 2, 20071116, 0715, 14.0055, 178.9933, 5701,   2200.3, 2,   2.0252, 2,  34.6411, 2,  34.6411, 2,    106.7, 2,    106.9, 2,   145.04, 2,    39.00, 2,     0.00, 2,     2.76, 2,    0.000, 2,    0.000, 2,    0.000, 2, -999.000, 9,   2351.4, 2,   2419.9, 2,    7.5247,     25.00,   -999.0, 1,   -999.0,  -999.00, 1,   -999.0,   1.8712, 27.6942,   2.0254, 2, 2, 0.44, 0.14, 0.01, 0.017,  -999.00, 9, -999.00, -999.00, 9, -999.00
49NZ20071008, P14N, 97, 1, 16, X12022, 2, 20071116, 0715, 14.0055, 178.9933, 5701,   2400.2, 2,   1.9011, 2,  34.6495, 2,  34.6496, 2,    112.8, 2,    112.6, 2,   147.11, 2,    38.72, 2,     0.00, 2,     2.73, 2,    0.005, 2,    0.001, 2,    0.000, 2, -999.000, 9,   2350.2, 6,   2421.4, 2,    7.5342,     25.00,   -999.0, 1,   -999.0,  -999.00, 1,   -999.0,   1.7316, 27.7116,   1.9011, 2, 2, 0.44, 0.14, 0.01, 0.017,  -999.00, 9, -999.00, -999.00, 9, -999.00
49NZ20071008, P14N, 97, 1, 15, X12021, 2, 20071116, 0715, 14.0055, 178.9933, 5701,   2599.7, 2,   1.7857, 2,  34.6559, 2,  34.6561, 6,    118.4, 2,    118.2, 2,   149.24, 2,    38.41, 2,     0.00, 2,     2.70, 2, -999.000, 9, -999.000, 9, -999.000, 9, -999.000, 9,   2349.0, 2,   2422.9, 6,    7.5428,     25.00,   -999.0, 1,   -999.0,  -999.00, 1,   -999.0,   1.6004, 27.7267,   1.7857, 2, 2, 0.45, 0.14, 0.01, 0.017,  -999.00, 9, -999.00, -999.00, 9, -999.00
49NZ20071008, P14N, 97, 1, 14, X12020, 2, 20071116, 0715, 14.0055, 178.9933, 5701,   2800.8, 2,   1.7017, 2,  34.6618, 2,  34.6614, 2,    123.8, 2,    123.3, 2,   150.52, 2,    37.95, 2,     0.00, 2,     2.67, 2,    0.001, 2,    0.000, 2,    0.002, 2, -999.000, 9,   2347.3, 2,   2424.3, 2,    7.5500,     25.00,   -999.0, 1,   -999.0,  -999.00, 1,   -999.0,   1.4995, 27.7388,   1.7017, 2, 6, 0.45, 0.14, 0.01, 0.017,  -999.00, 9, -999.00, -999.00, 9, -999.00
49NZ20071008, P14N, 97, 1, 13, X12019, 2, 20071116, 0715, 14.0055, 178.9933, 5701,   2999.8, 2,   1.6171, 2,  34.6683, 2,  34.6679, 2,    129.4, 2,    129.4, 2,   150.94, 2,    37.64, 2,     0.00, 2,     2.64, 2, -999.000, 9, -999.000, 9, -999.000, 9, -999.000, 9,   2343.9, 2,   2424.7, 2,    7.5594,     25.00,   -999.0, 1,   -999.0,  -999.00, 1,   -999.0,   1.3978, 27.7514,   1.6180, 2, 2, 0.45, 0.14, 0.01, 0.017,  -999.00, 9, -999.00, -999.00, 9, -999.00
49NZ20071008, P14N, 97, 1, 12, X12040, 2, 20071116, 0715, 14.0055, 178.9933, 5701,   3251.4, 2,   1.5511, 2,  34.6743, 2,  34.6740, 2,    135.7, 2,    135.7, 2,   150.47, 2,    36.96, 2,     0.00, 2,     2.59, 2, -999.000, 9, -999.000, 9, -999.000, 9, -999.000, 9,   2341.7, 2,   2423.7, 2,    7.5692,     25.00,   -999.0, 1,   -999.0,  -999.00, 1,   -999.0,   1.3087, 27.7625,   1.5513, 2, 2, 0.45, 0.14, 0.01, 0.016,  -999.00, 9, -999.00, -999.00, 9, -999.00
49NZ20071008, P14N, 97, 1, 11, X12047, 2, 20071116, 0715, 14.0055, 178.9933, 5701,   3499.8, 2,   1.5002, 2,  34.6798, 2,  34.6794, 2,    142.0, 2,    142.3, 2,   149.81, 2,    36.71, 2,     0.00, 2,     2.56, 2,    0.003, 2,    0.000, 2,    0.000, 2, -999.000, 9,   2335.7, 2,   2423.5, 2,    7.5789,     25.00,   -999.0, 1,   -999.0,  -999.00, 1,   -999.0,   1.2341, 27.7721,   1.5003, 2, 2, 0.45, 0.14, 0.01, 0.016,  -999.00, 9, -999.00, -999.00, 9, -999.00
49NZ20071008, P14N, 97, 1, 10, X12012, 2, 20071116, 0715, 14.0055, 178.9933, 5701,   3751.5, 2,   1.4563, 2,  34.6847, 2,  34.6844, 2,    149.4, 2,    149.6, 2,   146.71, 2,    36.36, 2,     0.00, 2,     2.53, 2, -999.000, 9, -999.000, 9, -999.000, 9, -999.000, 9,   2329.8, 2,   2420.5, 2,    7.5882,     25.00,   -999.0, 1,   -999.0,  -999.00, 1,   -999.0,   1.1652, 27.7809,   1.4564, 2, 2, 0.44, 0.13, 0.01, 0.016,  -999.00, 9, -999.00, -999.00, 9, -999.00
49NZ20071008, P14N, 97, 1, 9, X12015, 2, 20071116, 0715, 14.0055, 178.9933, 5701,   4000.3, 2,   1.4294, 2,  34.6882, 2,  34.6881, 2,    155.8, 2,    156.3, 2,   142.72, 2,    35.69, 2,     0.00, 2,     2.49, 2, -999.000, 9, -999.000, 9, -999.000, 9, -999.000, 9,   2321.2, 2,   2416.2, 2,    7.5956,     25.00,   -999.0, 1,   -999.0,  -999.00, 1,   -999.0,   1.1124, 27.7873,   1.4296, 2, 2, 0.43, 0.13, 0.01, 0.016,  -999.00, 9, -999.00, -999.00, 9, -999.00
49NZ20071008, P14N, 97, 1, 8, X12046, 2, 20071116, 0715, 14.0055, 178.9933, 5701,   4252.2, 2,   1.3888, 2,  34.6932, 2,  34.6931, 6,    165.6, 2,    166.4, 2,   136.92, 2,    35.02, 2,     0.00, 2,     2.44, 2, -999.000, 5, -999.000, 5, -999.000, 5, -999.000, 9,   2313.5, 6,   2410.5, 2,    7.6060,     25.00,   -999.0, 1,   -999.0,  -999.00, 1,   -999.0,   1.0453, 27.7958,   1.3889, 2, 2, 0.42, 0.13, 0.01, 0.016,  -999.00, 9, -999.00, -999.00, 9, -999.00
49NZ20071008, P14N, 97, 1, 7, X12044, 2, 20071116, 0715, 14.0055, 178.9933, 5701,   4499.7, 2,   1.3539, 2,  34.6975, 2,  34.6977, 2,    174.5, 2,    175.3, 2,   131.60, 2,    34.32, 2,     0.00, 2,     2.39, 2, -999.000, 9, -999.000, 9, -999.000, 9, -999.000, 9,   2301.9, 2,   2403.6, 6,    7.6148,     25.00,   -999.0, 1,   -999.0,  -999.00, 1,   -999.0,   0.9834, 27.8034,   1.3538, 2, 2, 0.41, 0.13, 0.01, 0.016,  -999.00, 9, -999.00, -999.00, 9, -999.00
49NZ20071008, P14N, 97, 1, 6, X12048, 2, 20071116, 0715, 14.0055, 178.9933, 5701,   4750.1, 2,   1.3380, 2,  34.7003, 2,  34.7001, 2,    180.7, 2,    180.9, 2,   128.29, 2,    33.97, 2,     0.00, 2,     2.37, 2, -999.000, 9, -999.000, 9, -999.000, 9, -999.000, 9,   2294.6, 2,   2398.8, 2,    7.6192,     25.00,   -999.0, 1,   -999.0,  -999.00, 1,   -999.0,   0.9390, 27.8085,   1.3381, 2, 6, 0.40, 0.13, 0.01, 0.016,  -999.00, 9, -999.00, -999.00, 9, -999.00
49NZ20071008, P14N, 97, 1, 5, X12014, 2, 20071116, 0715, 14.0055, 178.9933, 5701,   5000.5, 2,   1.3364, 2,  34.7019, 2,  34.7020, 2,    184.7, 2,    184.7, 2,   126.30, 2,    33.75, 2,     0.00, 2,     2.35, 2,    0.001, 2,    0.000, 2,    0.000, 2, -999.000, 9,   2291.6, 2,   2394.1, 2,    7.6216,     25.00,   -999.0, 1,   -999.0,  -999.00, 1,   -999.0,   0.9075, 27.8119,   1.3364, 2, 2, 0.40, 0.13, 0.01, 0.016,  -999.00, 9, -999.00, -999.00, 9, -999.00
49NZ20071008, P14N, 97, 1, 4, X12006, 2, 20071116, 0715, 14.0055, 178.9933, 5701,   5251.2, 2,   1.3524, 2,  34.7027, 2,  34.7030, 2,    186.6, 2,    186.4, 2,   125.53, 2,    33.54, 2,     0.00, 2,     2.33, 2, -999.000, 9, -999.000, 9, -999.000, 9, -999.000, 9,   2290.9, 2,   2395.4, 2,    7.6227,     25.00,   -999.0, 1,   -999.0,  -999.00, 1,   -999.0,   0.8923, 27.8136,   1.3524, 2, 2, 0.40, 0.13, 0.01, 0.016,  -999.00, 9, -999.00, -999.00, 9, -999.00
49NZ20071008, P14N, 97, 1, 3, X12013, 2, 20071116, 0715, 14.0055, 178.9933, 5701,   5499.7, 2,   1.3761, 2,  34.7031, 2,  34.7036, 2,    187.6, 2,    187.1, 2,   124.93, 2,    33.41, 2,     0.00, 2,     2.33, 2, -999.000, 9, -999.000, 9, -999.000, 9, -999.000, 9,   2289.4, 2,   2393.2, 2,    7.6244,     25.00,   -999.0, 1,   -999.0,  -999.00, 1,   -999.0,   0.8840, 27.8144,   1.3760, 2, 2, 0.39, 0.13, 0.01, 0.016,  -999.00, 9, -999.00, -999.00, 9, -999.00
49NZ20071008, P14N, 97, 1, 2, X12002, 2, 20071116, 0715, 14.0055, 178.9933, 5701,   5749.6, 2,   1.4023, 2,  34.7032, 2,  34.7035, 2,    188.1, 2,    187.5, 2,   124.73, 2,    33.43, 2,     0.00, 2,     2.33, 2, -999.000, 9, -999.000, 9, -999.000, 9, -999.000, 9,   2288.3, 2,   2393.0, 2,    7.6245,     25.00,   -999.0, 1,   -999.0,  -999.00, 1,   -999.0,   0.8771, 27.8149,   1.4024, 2, 2, 0.39, 0.13, 0.01, 0.016,  -999.00, 9, -999.00, -999.00, 9, -999.00
49NZ20071008, P14N, 97, 1, 1, X12001, 2, 20071116, 0715, 14.0055, 178.9933, 5701,   5779.8, 2,   1.4046, 2,  34.7032, 2,  34.7038, 6,    188.0, 2,    187.7, 2,   124.68, 2,    33.52, 2,     0.00, 2,     2.33, 2,    0.005, 2,    0.002, 2,    0.000, 2, -999.000, 9,   2288.8, 2,   2392.6, 2,    7.6244,     25.00,   -999.0, 1,   -999.0,  -999.00, 1,   -999.0,   0.8754, 27.8150,   1.4047, 2, 2, 0.39, 0.13, 0.01, 0.016,  -999.00, 9, -999.00, -999.00, 9, -999.00