BOTTLE,20221005CCHSIOAMB
EXPOCODE,SECT_ID,STNNBR,CASTNO,SAMPNO,BTLNBR,BTLNBR_FLAG_W,DATE,TIME,LATITUDE,LONGITUDE,DEPTH,CTDPRS,CTDPRS_FLAG_W,CTDTMP,CTDTMP_FLAG_W,CTDSAL,CTDSAL_FLAG_W,SALNTY,SALNTY_FLAG_W,CTDOXY,CTDOXY_FLAG_W,OXYGEN,OXYGEN_FLAG_W,SILCAT,SILCAT_FLAG_W,NITRAT,NITRAT_FLAG_W,NITRIT,NITRIT_FLAG_W,PHSPHT,PHSPHT_FLAG_W,CFC-11,CFC-11_FLAG_W,CFC-12,CFC-12_FLAG_W,CFC113,CFC113_FLAG_W,CCL4,CCL4_FLAG_W,TCARBN,TCARBN_FLAG_W,ALKALI,ALKALI_FLAG_W,PH_TOT,PH_TMP,DELC14,DELC14_FLAG_W,C14ERR,DELC13,DELC13_FLAG_W,C13ERR,THETA,SIG0,SBE35,SBE35_FLAG_W,PH_TOT_FLAG_W,SILUNC,NRAUNC,NRIUNC,PHPUNC,CS-137,CS-137_FLAG_W,CS137ER,PLUTO,PLUTO_FLAG_W,PLUTOER
,,,,,,,,,,,METERS,DBAR,,ITS-90,,PSS-78,,PSS-78,,UMOL/KG,,UMOL/KG,,UMOL/KG,,UMOL/KG,,UMOL/KG,,UMOL/KG,,PMOL/KG,,PMOL/KG,,PMOL/KG,,PMOL/KG,,UMOL/KG,,UMOL/KG,,,DEG C,/MILLE,,/MILLE,/MILLE,,/MILLE,DEG C,KG/M^3,ITS-90,,,UMOL/KG,UMOL/KG,UMOL/KG,UMOL/KG,DM/.1MG,,BQ/M^3,MBQ/M^3,,MBQ/M^3
49NZ20071008, P14N, 56, 1, 36, X12042, 2, 20071105, 0912, 34.4923, 178.9923, 3152,      9.9, 2,  23.0200, 2,  34.3321, 2,  34.3332, 2,    218.7, 2,    219.5, 2,     2.17, 2,     0.04, 2,     0.01, 2,     0.06, 2,    1.895, 2,    1.147, 2,    0.324, 4, -999.000, 9,   1963.1, 2,   2260.2, 2,    8.0541,     25.00,   -999.0, 1,   -999.0,  -999.00, 1,   -999.0,  23.0180, 23.4220,  23.0211, 2, 6, 0.12, 0.03, 0.01, 0.032,  -999.00, 9, -999.00, -999.00, 9, -999.00
49NZ20071008, P14N, 56, 1, 35, X12041, 2, 20071105, 0912, 34.4923, 178.9923, 3152,     49.8, 2,  19.7963, 2,  34.4745, 2,  34.4826, 2,    263.6, 2,    268.0, 2,     2.22, 2,     0.04, 2,     0.01, 2,     0.08, 2,    2.435, 2,    1.460, 2,    1.143, 4, -999.000, 9,   1981.8, 6,   2271.9, 2,    8.0377,     25.00,   -999.0, 1,   -999.0,  -999.00, 1,   -999.0,  19.7872, 24.4167,  19.7731, 2, 2, 0.12, 0.03, 0.01, 0.026,  -999.00, 9, -999.00, -999.00, 9, -999.00
49NZ20071008, P14N, 56, 1, 34, X12016, 2, 20071105, 0912, 34.4923, 178.9923, 3152,    100.9, 2,  15.3727, 2,  34.5668, 2,  34.5664, 2,    219.6, 2,    222.9, 2,     6.31, 2,     5.69, 2,     0.18, 2,     0.46, 2,    2.657, 2,    1.558, 2,    0.221, 4, -999.000, 9,   2041.9, 2,   2276.8, 6,    7.9345,     25.00,   -999.0, 1,   -999.0,  -999.00, 1,   -999.0,  15.3573, 25.5591,  15.3746, 2, 2, 0.13, 0.05, 0.01, 0.013,  -999.00, 9, -999.00, -999.00, 9, -999.00
49NZ20071008, P14N, 56, 1, 33, X12033, 2, 20071105, 0912, 34.4923, 178.9923, 3152,    151.9, 2,  14.1857, 2,  34.5036, 2,  34.5022, 2,    219.9, 2,    220.7, 2,     8.73, 2,     8.01, 2,     0.02, 2,     0.60, 2,    2.730, 6,    1.569, 6,    0.161, 6, -999.000, 9,   2056.3, 2,   2274.7, 2,    7.9035,     25.00,   -999.0, 1,   -999.0,  -999.00, 1,   -999.0,  14.1637, 25.7690,  14.1864, 2, 6, 0.14, 0.06, 0.01, 0.013,  -999.00, 9, -999.00, -999.00, 9, -999.00
49NZ20071008, P14N, 56, 1, 32, X12038, 2, 20071105, 0912, 34.4923, 178.9923, 3152,    199.9, 2,  13.4786, 2,  34.4660, 2,  34.4639, 2,    221.6, 2,    221.4, 2,    10.25, 2,     9.03, 2,     0.01, 2,     0.68, 2,    2.798, 2,    1.594, 2,    0.149, 2, -999.000, 9,   2064.0, 2,   2275.1, 2,    7.8870,     25.00,   -999.0, 1,   -999.0,  -999.00, 1,   -999.0,  13.4506, 25.8881,  13.4749, 2, 2, 0.14, 0.06, 0.01, 0.013,  -999.00, 9, -999.00, -999.00, 9, -999.00
49NZ20071008, P14N, 56, 1, 31, X12003, 2, 20071105, 0912, 34.4923, 178.9923, 3152,    249.9, 2,  12.5060, 2,  34.4053, 2,  34.4043, 6,    216.1, 2,    216.6, 2,    13.52, 2,    11.21, 2,     0.01, 2,     0.82, 2,    2.869, 2,    1.618, 2,    0.128, 2, -999.000, 9,   2082.5, 2,   2275.2, 2,    7.8556,     25.00,   -999.0, 1,   -999.0,  -999.00, 1,   -999.0,  12.4726, 26.0362,  12.5081, 2, 2, 0.15, 0.06, 0.01, 0.013,  -999.00, 9, -999.00, -999.00, 9, -999.00
49NZ20071008, P14N, 56, 1, 30, X12008, 2, 20071105, 0912, 34.4923, 178.9923, 3152,    330.6, 2,  10.6128, 2,  34.2563, 2,  34.2501, 2,    204.7, 2,    205.9, 2,    21.37, 2,    15.53, 2,     0.01, 2,     1.14, 2,    2.934, 2,    1.622, 2,    0.124, 2, -999.000, 9,   2112.3, 2,   2274.7, 2,    7.7878,     25.00,   -999.0, 1,   -999.0,  -999.00, 1,   -999.0,  10.5731, 26.2723,  10.6153, 2, 2, 0.17, 0.08, 0.01, 0.013,  -999.00, 9, -999.00, -999.00, 9, -999.00
49NZ20071008, P14N, 56, 1, 29, X12035, 2, 20071105, 0912, 34.4923, 178.9923, 3152,    431.5, 2,   8.1460, 2,  34.0571, 2,  34.0560, 2,    195.5, 2,    192.5, 2,    33.61, 2,    21.13, 2,     0.01, 2,     1.56, 2,    3.025, 2,    1.627, 2,    0.149, 2, -999.000, 9,   2151.8, 2,   2276.9, 2,    7.6958,     25.00,   -999.0, 1,   -999.0,  -999.00, 1,   -999.0,   8.1018, 26.5182,   8.1464, 2, 2, 0.19, 0.09, 0.01, 0.014,  -999.00, 9, -999.00, -999.00, 9, -999.00
49NZ20071008, P14N, 56, 1, 28, X12034, 2, 20071105, 0912, 34.4923, 178.9923, 3152,    529.5, 2,   6.4534, 2,  33.9929, 2,  33.9938, 6,    154.4, 2,    151.9, 2,    52.20, 2,    28.00, 2,     0.01, 2,     2.06, 2,    2.575, 2,    1.334, 2,    0.139, 2, -999.000, 9,   2205.6, 2,   2287.2, 2,    7.5840,     25.00,   -999.0, 1,   -999.0,  -999.00, 1,   -999.0,   6.4056, 26.7049,   6.4539, 2, 2, 0.23, 0.11, 0.01, 0.015,  -999.00, 9, -999.00, -999.00, 9, -999.00
49NZ20071008, P14N, 56, 1, 27, X12049, 2, 20071105, 0912, 34.4923, 178.9923, 3152,    631.0, 2,   5.2964, 2,  34.0294, 2,  34.0306, 2,    106.1, 2,    109.1, 2,    71.49, 2,    33.75, 2,     0.00, 2,     2.47, 2,    1.878, 2,    0.931, 2,    0.096, 2, -999.000, 9,   2253.3, 2,   2303.2, 2,    7.4889,     25.00,   -999.0, 1,   -999.0,  -999.00, 1,   -999.0,   5.2446, 26.8774,   5.2971, 2, 2, 0.28, 0.13, 0.01, 0.016,  -999.00, 9, -999.00, -999.00, 9, -999.00
49NZ20071008, P14N, 56, 1, 26, X12032, 2, 20071105, 0912, 34.4923, 178.9923, 3152,    731.3, 2,   4.6038, 2,  34.1129, 2,  34.1151, 2,     72.6, 2,     73.5, 2,    89.64, 2,    37.90, 2,     0.01, 2,     2.75, 2,    1.185, 6,    0.576, 6,    0.058, 6, -999.000, 9,   2293.8, 6,   2322.6, 2,    7.4211,     25.00,   -999.0, 1,   -999.0,  -999.00, 1,   -999.0,   4.5470, 27.0226,   4.6046, 2, 2, 0.32, 0.14, 0.01, 0.017,  -999.00, 9, -999.00, -999.00, 9, -999.00
49NZ20071008, P14N, 56, 1, 25, X12043, 2, 20071105, 0912, 34.4923, 178.9923, 3152,    830.4, 2,   4.0887, 2,  34.2012, 2,  34.2020, 2,     50.4, 2,     49.9, 2,   105.01, 2,    40.67, 2,     0.01, 2,     2.93, 2,    0.654, 2,    0.312, 2,    0.034, 2, -999.000, 9,   2324.7, 2,   2340.3, 6,    7.3824,     25.00,   -999.0, 1,   -999.0,  -999.00, 1,   -999.0,   4.0268, 27.1480,   4.0888, 2, 2, 0.35, 0.15, 0.01, 0.017,  -999.00, 9, -999.00, -999.00, 9, -999.00
49NZ20071008, P14N, 56, 1, 24, X12030, 2, 20071105, 0912, 34.4923, 178.9923, 3152,    930.8, 2,   3.7334, 2,  34.2677, 2,  34.2681, 2,     39.2, 2,     39.3, 2,   115.76, 2,    41.87, 2,     0.00, 2,     3.01, 2,    0.379, 2,    0.174, 2,    0.017, 2, -999.000, 9,   2341.4, 2,   2353.9, 2,    7.3675,     25.00,   -999.0, 1,   -999.0,  -999.00, 1,   -999.0,   3.6658, 27.2373,   3.7342, 2, 6, 0.37, 0.15, 0.01, 0.017,  -999.00, 9, -999.00, -999.00, 9, -999.00
49NZ20071008, P14N, 56, 1, 23, X12027, 2, 20071105, 0912, 34.4923, 178.9923, 3152,   1071.6, 2,   3.2820, 2,  34.3545, 2,  34.3551, 6,     30.1, 2,     29.5, 2,   129.71, 2,    43.05, 2,     0.00, 2,     3.10, 2,    0.139, 2,    0.066, 2,    0.007, 2, -999.000, 9,   2363.8, 2,   2371.5, 2,    7.3575,     25.00,   -999.0, 1,   -999.0,  -999.00, 1,   -999.0,   3.2066, 27.3507,   3.2824, 2, 2, 0.40, 0.15, 0.01, 0.018,  -999.00, 9, -999.00, -999.00, 9, -999.00
49NZ20071008, P14N, 56, 1, 22, X12028, 2, 20071105, 0912, 34.4923, 178.9923, 3152,   1271.1, 2,   2.8232, 2,  34.4392, 2,  34.4391, 2,     26.0, 2,     24.8, 2,   144.05, 2,    44.03, 2,     0.00, 2,     3.15, 2,    0.028, 2,    0.016, 2,    0.003, 2, -999.000, 9,   2380.5, 2,   2389.4, 2,    7.3534,     25.00,   -999.0, 1,   -999.0,  -999.00, 1,   -999.0,   2.7361, 27.4611,   2.8234, 2, 2, 0.44, 0.16, 0.01, 0.018,  -999.00, 9, -999.00, -999.00, 9, -999.00
49NZ20071008, P14N, 56, 1, 21, X12009, 2, 20071105, 0912, 34.4923, 178.9923, 3152,   1472.0, 2,   2.4821, 2,  34.5016, 2,  34.5021, 2,     36.2, 2,     35.9, 2,   152.47, 2,    43.57, 2,     0.01, 2,     3.10, 2,    0.013, 2,    0.007, 2,    0.000, 2, -999.000, 9,   2383.5, 2,   2400.5, 2,    7.3793,     25.00,   -999.0, 1,   -999.0,  -999.00, 1,   -999.0,   2.3826, 27.5413,   2.4820, 2, 2, 0.45, 0.15, 0.01, 0.018,  -999.00, 9, -999.00, -999.00, 9, -999.00
49NZ20071008, P14N, 56, 1, 20, X12026, 2, 20071105, 0912, 34.4923, 178.9923, 3152,   1670.6, 2,   2.3202, 2,  34.5313, 2,  34.5314, 2,     43.6, 2,     42.3, 2,   156.89, 2,    43.27, 2,     0.00, 2,     3.06, 2,    0.007, 2,    0.002, 2,    0.007, 2, -999.000, 9,   2386.4, 2,   2405.8, 2,    7.3908,     25.00,   -999.0, 1,   -999.0,  -999.00, 1,   -999.0,   2.2067, 27.5796,   2.3199, 2, 2, 0.46, 0.15, 0.01, 0.018,  -999.00, 9, -999.00, -999.00, 9, -999.00
49NZ20071008, P14N, 56, 1, 19, X12025, 2, 20071105, 0912, 34.4923, 178.9923, 3152,   1870.5, 2,   2.0843, 2,  34.5726, 2,  34.5726, 6,     56.5, 2,     56.6, 2,   161.32, 2,    42.34, 2,     0.00, 2,     3.00, 2,    0.000, 2,    0.000, 2,    0.003, 2, -999.000, 9,   2382.9, 2,   2413.1, 2,    7.4194,     25.00,   -999.0, 1,   -999.0,  -999.00, 1,   -999.0,   1.9576, 27.6326,   2.0844, 2, 2, 0.47, 0.15, 0.01, 0.017,  -999.00, 9, -999.00, -999.00, 9, -999.00
49NZ20071008, P14N, 56, 1, 18, X12024, 2, 20071105, 0912, 34.4923, 178.9923, 3152,   2071.1, 2,   1.9204, 2,  34.5987, 2,  34.5990, 2,     70.9, 2,     70.9, 2,   162.65, 2,    41.48, 2,     0.01, 2,     2.94, 2,    0.001, 2,    0.001, 2,    0.000, 2, -999.000, 9,   2374.9, 2,   2416.8, 2,    7.4463,     25.00,   -999.0, 1,   -999.0,  -999.00, 1,   -999.0,   1.7793, 27.6673,   1.9201, 2, 2, 0.48, 0.15, 0.01, 0.017,  -999.00, 9, -999.00, -999.00, 9, -999.00
49NZ20071008, P14N, 56, 1, 17, X12023, 2, 20071105, 0912, 34.4923, 178.9923, 3152,   2271.1, 2,   1.7844, 2,  34.6206, 2,  34.6209, 2,     86.4, 2,     86.8, 2,   161.86, 2,    40.48, 2,     0.00, 2,     2.85, 2,    0.004, 2,    0.000, 2,    0.000, 2, -999.000, 9,   2367.1, 2,   2418.4, 2,    7.4768,     25.00,   -999.0, 1,   -999.0,  -999.00, 1,   -999.0,   1.6284, 27.6962,   1.7847, 2, 2, 0.48, 0.15, 0.01, 0.017,  -999.00, 9, -999.00, -999.00, 9, -999.00
49NZ20071008, P14N, 56, 1, 16, X12022, 2, 20071105, 0912, 34.4923, 178.9923, 3152,   2469.0, 2,   1.6809, 2,  34.6370, 2,  34.6372, 6,     98.9, 2,     99.7, 2,   161.03, 2,    39.55, 2,     0.00, 2,     2.80, 2,    0.000, 2,    0.000, 2,    0.000, 2, -999.000, 9,   2358.3, 6,   2418.7, 2,    7.4994,     25.00,   -999.0, 1,   -999.0,  -999.00, 1,   -999.0,   1.5094, 27.7181,   1.6808, 2, 2, 0.47, 0.14, 0.01, 0.017,  -999.00, 9, -999.00, -999.00, 9, -999.00
49NZ20071008, P14N, 56, 1, 15, X12021, 2, 20071105, 0912, 34.4923, 178.9923, 3152,   2669.9, 2,   1.6273, 2,  34.6463, 2,  34.6468, 2,    108.3, 2,    108.6, 2,   159.66, 2,    38.92, 2,     0.01, 2,     2.75, 2,    0.000, 2,    0.000, 2,    0.000, 2, -999.000, 9,   2354.6, 2,   2420.0, 6,    7.5164,     25.00,   -999.0, 1,   -999.0,  -999.00, 1,   -999.0,   1.4387, 27.7308,   1.6272, 2, 2, 0.47, 0.14, 0.01, 0.017,  -999.00, 9, -999.00, -999.00, 9, -999.00
49NZ20071008, P14N, 56, 1, 14, X12020, 2, 20071105, 0912, 34.4923, 178.9923, 3152,   2869.5, 2,   1.5667, 2,  34.6565, 2,  34.6569, 2,    117.7, 2,    118.5, 2,   157.90, 2,    38.25, 2,     0.00, 2,     2.71, 2,    0.000, 2,    0.000, 2,    0.000, 2, -999.000, 9,   2348.7, 2,   2420.8, 2,    7.5339,     25.00,   -999.0, 1,   -999.0,  -999.00, 1,   -999.0,   1.3609, 27.7445,   1.5666, 2, 6, 0.47, 0.14, 0.01, 0.017,  -999.00, 9, -999.00, -999.00, 9, -999.00
49NZ20071008, P14N, 56, 1, 13, X12019, 2, 20071105, 0912, 34.4923, 178.9923, 3152,   3081.3, 2,   1.5106, 2,  34.6660, 2,  34.6664, 2,    127.8, 2,    128.4, 2,   155.70, 2,    37.81, 2,     0.01, 2,     2.65, 2,    0.000, 2,    0.000, 2,    0.000, 2, -999.000, 9,   2342.5, 2,   2421.1, 2,    7.5518,     25.00,   -999.0, 1,   -999.0,  -999.00, 1,   -999.0,   1.2858, 27.7574,   1.5106, 2, 2, 0.46, 0.14, 0.01, 0.017,  -999.00, 9, -999.00, -999.00, 9, -999.00
49NZ20071008, P14N, 56, 1, 12, X12040, 2, 20071105, 0912, 34.4923, 178.9923, 3152,   2071.2, 2,   1.9198, 2,  34.5989, 2, -999.0000, 9,     70.9, 2,   -999.0, 9,  -999.00, 9,  -999.00, 9,  -999.00, 9,  -999.00, 9, -999.000, 9, -999.000, 9, -999.000, 9, -999.000, 9,   -999.0, 9,   -999.0, 9, -999.0000,   -999.00,   -999.0, 9,   -999.0,  -999.00, 9,   -999.0,   1.7787, 27.6675,   1.9197, 2, 9, -999.00, -999.00, -999.00, -999.000,  -999.00, 9, -999.00, -999.00, 9, -999.00
49NZ20071008, P14N, 56, 1, 11, X12047, 2, 20071105, 0912, 34.4923, 178.9923, 3152,   2071.2, 2,   1.9206, 2,  34.5989, 2, -999.0000, 9,     70.9, 2,   -999.0, 9,  -999.00, 9,  -999.00, 9,  -999.00, 9,  -999.00, 9, -999.000, 9, -999.000, 9, -999.000, 9, -999.000, 9,   -999.0, 9,   -999.0, 9, -999.0000,   -999.00,   -999.0, 9,   -999.0,  -999.00, 9,   -999.0,   1.7795, 27.6674,   1.9208, 2, 9, -999.00, -999.00, -999.00, -999.000,  -999.00, 9, -999.00, -999.00, 9, -999.00
49NZ20071008, P14N, 56, 1, 10, X12017, 2, 20071105, 0912, 34.4923, 178.9923, 3152,   2070.7, 2,   1.9213, 2,  34.5988, 2, -999.0000, 9,     70.8, 2,   -999.0, 9,  -999.00, 9,  -999.00, 9,  -999.00, 9,  -999.00, 9, -999.000, 9, -999.000, 9, -999.000, 9, -999.000, 9,   -999.0, 9,   -999.0, 9, -999.0000,   -999.00,   -999.0, 9,   -999.0,  -999.00, 9,   -999.0,   1.7802, 27.6673,   1.9213, 2, 9, -999.00, -999.00, -999.00, -999.000,  -999.00, 9, -999.00, -999.00, 9, -999.00
49NZ20071008, P14N, 56, 1, 9, X12015, 2, 20071105, 0912, 34.4923, 178.9923, 3152,   2070.7, 2,   1.9211, 2,  34.5988, 2, -999.0000, 9,     70.8, 2,   -999.0, 9,  -999.00, 9,  -999.00, 9,  -999.00, 9,  -999.00, 9, -999.000, 9, -999.000, 9, -999.000, 9, -999.000, 9,   -999.0, 9,   -999.0, 9, -999.0000,   -999.00,   -999.0, 9,   -999.0,  -999.00, 9,   -999.0,   1.7801, 27.6673,   1.9210, 2, 9, -999.00, -999.00, -999.00, -999.000,  -999.00, 9, -999.00, -999.00, 9, -999.00
49NZ20071008, P14N, 56, 1, 8, X12046, 2, 20071105, 0912, 34.4923, 178.9923, 3152,   2070.2, 2,   1.9220, 2,  34.5989, 2, -999.0000, 9,     70.8, 2,   -999.0, 9,  -999.00, 9,  -999.00, 9,  -999.00, 9,  -999.00, 9, -999.000, 9, -999.000, 9, -999.000, 9, -999.000, 9,   -999.0, 9,   -999.0, 9, -999.0000,   -999.00,   -999.0, 9,   -999.0,  -999.00, 9,   -999.0,   1.7810, 27.6673,   1.9219, 2, 9, -999.00, -999.00, -999.00, -999.000,  -999.00, 9, -999.00, -999.00, 9, -999.00
49NZ20071008, P14N, 56, 1, 7, X12044, 2, 20071105, 0912, 34.4923, 178.9923, 3152,   3082.6, 2,   1.5108, 2,  34.6660, 2, -999.0000, 9,    127.9, 2,   -999.0, 9,  -999.00, 9,  -999.00, 9,  -999.00, 9,  -999.00, 9, -999.000, 9, -999.000, 9, -999.000, 9, -999.000, 9,   -999.0, 9,   -999.0, 9, -999.0000,   -999.00,   -999.0, 9,   -999.0,  -999.00, 9,   -999.0,   1.2859, 27.7574,   1.5108, 2, 9, -999.00, -999.00, -999.00, -999.000,  -999.00, 9, -999.00, -999.00, 9, -999.00
49NZ20071008, P14N, 56, 1, 6, X12048, 2, 20071105, 0912, 34.4923, 178.9923, 3152,   3082.8, 2,   1.5106, 2,  34.6660, 2, -999.0000, 9,    127.9, 2,   -999.0, 9,  -999.00, 9,  -999.00, 9,  -999.00, 9,  -999.00, 9, -999.000, 9, -999.000, 9, -999.000, 9, -999.000, 9,   -999.0, 9,   -999.0, 9, -999.0000,   -999.00,   -999.0, 9,   -999.0,  -999.00, 9,   -999.0,   1.2857, 27.7574,   1.5106, 2, 9, -999.00, -999.00, -999.00, -999.000,  -999.00, 9, -999.00, -999.00, 9, -999.00
49NZ20071008, P14N, 56, 1, 5, X12014, 2, 20071105, 0912, 34.4923, 178.9923, 3152,   3082.1, 2,   1.5107, 2,  34.6660, 2, -999.0000, 9,    127.8, 2,   -999.0, 9,  -999.00, 9,  -999.00, 9,  -999.00, 9,  -999.00, 9, -999.000, 9, -999.000, 9, -999.000, 9, -999.000, 9,   -999.0, 9,   -999.0, 9, -999.0000,   -999.00,   -999.0, 9,   -999.0,  -999.00, 9,   -999.0,   1.2859, 27.7574,   1.5106, 2, 9, -999.00, -999.00, -999.00, -999.000,  -999.00, 9, -999.00, -999.00, 9, -999.00
49NZ20071008, P14N, 56, 1, 4, X12006, 2, 20071105, 0912, 34.4923, 178.9923, 3152,   3082.3, 2,   1.5106, 2,  34.6660, 2, -999.0000, 9,    127.9, 2,   -999.0, 9,  -999.00, 9,  -999.00, 9,  -999.00, 9,  -999.00, 9, -999.000, 9, -999.000, 9, -999.000, 9, -999.000, 9,   -999.0, 9,   -999.0, 9, -999.0000,   -999.00,   -999.0, 9,   -999.0,  -999.00, 9,   -999.0,   1.2857, 27.7574,   1.5107, 2, 9, -999.00, -999.00, -999.00, -999.000,  -999.00, 9, -999.00, -999.00, 9, -999.00
49NZ20071008, P14N, 56, 1, 3, X12013, 2, 20071105, 0912, 34.4923, 178.9923, 3152,   3082.0, 2,   1.5105, 2,  34.6660, 2, -999.0000, 9,    127.8, 2,   -999.0, 9,  -999.00, 9,  -999.00, 9,  -999.00, 9,  -999.00, 9, -999.000, 9, -999.000, 9, -999.000, 9, -999.000, 9,   -999.0, 9,   -999.0, 9, -999.0000,   -999.00,   -999.0, 9,   -999.0,  -999.00, 9,   -999.0,   1.2857, 27.7574,   1.5104, 2, 9, -999.00, -999.00, -999.00, -999.000,  -999.00, 9, -999.00, -999.00, 9, -999.00
49NZ20071008, P14N, 56, 1, 2, X12002, 2, 20071105, 0912, 34.4923, 178.9923, 3152,   3081.1, 2,   1.5106, 2,  34.6661, 2, -999.0000, 9,    127.8, 2,   -999.0, 9,  -999.00, 9,  -999.00, 9,  -999.00, 9,  -999.00, 9, -999.000, 9, -999.000, 9, -999.000, 9, -999.000, 9,   -999.0, 9,   -999.0, 9, -999.0000,   -999.00,   -999.0, 9,   -999.0,  -999.00, 9,   -999.0,   1.2859, 27.7575,   1.5105, 2, 9, -999.00, -999.00, -999.00, -999.000,  -999.00, 9, -999.00, -999.00, 9, -999.00
49NZ20071008, P14N, 56, 1, 1, X12001, 2, 20071105, 0912, 34.4923, 178.9923, 3152,   3193.5, 2,   1.4746, 2,  34.6718, 2,  34.6720, 6,    134.2, 2,    134.3, 2,   154.91, 2,    37.30, 2,     0.01, 2,     2.62, 2,    0.000, 2,    0.000, 2,    0.000, 2, -999.000, 9,   2341.2, 2,   2421.2, 2,    7.5630,     25.00,   -999.0, 1,   -999.0,  -999.00, 1,   -999.0,   1.2397, 27.7653,   1.4745, 2, 2, 0.46, 0.14, 0.01, 0.017,  -999.00, 9, -999.00, -999.00, 9, -999.00