BOTTLE,20221005CCHSIOAMB
EXPOCODE,SECT_ID,STNNBR,CASTNO,SAMPNO,BTLNBR,BTLNBR_FLAG_W,DATE,TIME,LATITUDE,LONGITUDE,DEPTH,CTDPRS,CTDPRS_FLAG_W,CTDTMP,CTDTMP_FLAG_W,CTDSAL,CTDSAL_FLAG_W,SALNTY,SALNTY_FLAG_W,CTDOXY,CTDOXY_FLAG_W,OXYGEN,OXYGEN_FLAG_W,SILCAT,SILCAT_FLAG_W,NITRAT,NITRAT_FLAG_W,NITRIT,NITRIT_FLAG_W,PHSPHT,PHSPHT_FLAG_W,CFC-11,CFC-11_FLAG_W,CFC-12,CFC-12_FLAG_W,CFC113,CFC113_FLAG_W,CCL4,CCL4_FLAG_W,TCARBN,TCARBN_FLAG_W,ALKALI,ALKALI_FLAG_W,PH_TOT,PH_TMP,DELC14,DELC14_FLAG_W,C14ERR,DELC13,DELC13_FLAG_W,C13ERR,THETA,SIG0,SBE35,SBE35_FLAG_W,PH_TOT_FLAG_W,SILUNC,NRAUNC,NRIUNC,PHPUNC,CS-137,CS-137_FLAG_W,CS137ER,PLUTO,PLUTO_FLAG_W,PLUTOER
,,,,,,,,,,,METERS,DBAR,,ITS-90,,PSS-78,,PSS-78,,UMOL/KG,,UMOL/KG,,UMOL/KG,,UMOL/KG,,UMOL/KG,,UMOL/KG,,PMOL/KG,,PMOL/KG,,PMOL/KG,,PMOL/KG,,UMOL/KG,,UMOL/KG,,,DEG C,/MILLE,,/MILLE,/MILLE,,/MILLE,DEG C,KG/M^3,ITS-90,,,UMOL/KG,UMOL/KG,UMOL/KG,UMOL/KG,DM/.1MG,,BQ/M^3,MBQ/M^3,,MBQ/M^3
49NZ20071008, P14N, 71, 1, 36, X12042, 2, 20071108, 2205, 27.0047, 179.0112, 5436,      9.4, 2,  26.5605, 2,  35.1797, 2,  35.1808, 2,    204.8, 2,    205.3, 2,     1.08, 2,     0.03, 2,     0.01, 2,     0.04, 2,    1.621, 2,    1.009, 2,    0.456, 4, -999.000, 9,   -999.0, 9,   -999.0, 9, -999.0000,   -999.00,   -999.0, 9,   -999.0,  -999.00, 9,   -999.0,  26.5584, 22.9935,  26.5620, 2, 9, 0.12, 0.03, 0.01, 0.043,  -999.00, 9, -999.00, -999.00, 9, -999.00
49NZ20071008, P14N, 71, 1, 35, X12041, 2, 20071108, 2205, 27.0047, 179.0112, 5436,     50.5, 2,  26.4569, 2,  35.1766, 2,  35.1783, 2,    213.4, 2,    207.2, 2,     1.10, 2,     0.02, 2,     0.01, 2,     0.04, 2,    1.639, 2,    1.019, 2,    0.559, 4, -999.000, 9,   -999.0, 9,   -999.0, 9, -999.0000,   -999.00,   -999.0, 9,   -999.0,  -999.00, 9,   -999.0,  26.4455, 23.0268,  26.4591, 2, 9, 0.12, 0.03, 0.01, 0.040,  -999.00, 9, -999.00, -999.00, 9, -999.00
49NZ20071008, P14N, 71, 1, 34, X12016, 2, 20071108, 2205, 27.0047, 179.0112, 5436,    100.2, 2,  19.8953, 2,  34.9711, 2,  34.9663, 2,    213.8, 2,    217.9, 2,     2.13, 2,     0.04, 2,     0.01, 2,     0.08, 2,    2.245, 2,    1.355, 2,    0.536, 4, -999.000, 9,   -999.0, 9,   -999.0, 9, -999.0000,   -999.00,   -999.0, 9,   -999.0,  -999.00, 9,   -999.0,  19.8769, 24.7721,  19.8995, 2, 9, 0.12, 0.03, 0.01, 0.025,  -999.00, 9, -999.00, -999.00, 9, -999.00
49NZ20071008, P14N, 71, 1, 33, X12033, 2, 20071108, 2205, 27.0047, 179.0112, 5436,    150.3, 2,  17.5809, 2,  34.7660, 2,  34.7656, 2,    214.3, 2,    204.7, 2,     3.48, 2,     3.48, 2,     0.03, 2,     0.30, 2,    2.438, 6,    1.433, 6,    0.156, 6, -999.000, 9,   -999.0, 9,   -999.0, 9, -999.0000,   -999.00,   -999.0, 9,   -999.0,  -999.00, 9,   -999.0,  17.5556, 25.2014,  17.5837, 2, 9, 0.13, 0.04, 0.01, 0.014,  -999.00, 9, -999.00, -999.00, 9, -999.00
49NZ20071008, P14N, 71, 1, 32, X12038, 2, 20071108, 2205, 27.0047, 179.0112, 5436,    198.9, 2,  16.5172, 2,  34.6866, 2,  34.6849, 2,    213.2, 2,    209.6, 2,     4.79, 2,     5.21, 2,     0.01, 2,     0.39, 2,    2.521, 2,    1.463, 2,    0.113, 2, -999.000, 9,   -999.0, 9,   -999.0, 9, -999.0000,   -999.00,   -999.0, 9,   -999.0,  -999.00, 9,   -999.0,  16.4851, 25.3947,  16.5165, 2, 9, 0.13, 0.05, 0.01, 0.013,  -999.00, 9, -999.00, -999.00, 9, -999.00
49NZ20071008, P14N, 71, 1, 31, X12003, 9, 20071108, 2205, 27.0047, 179.0112, 5436,    251.4, 2,  15.1781, 2,  34.5836, 2, -999.0000, 9,    205.9, 2,   -999.0, 9,  -999.00, 9,  -999.00, 9,  -999.00, 9,  -999.00, 9, -999.000, 9, -999.000, 9, -999.000, 9, -999.000, 9,   -999.0, 9,   -999.0, 9, -999.0000,   -999.00,   -999.0, 9,   -999.0,  -999.00, 9,   -999.0,  15.1398, 25.6202,  15.1809, 2, 9, -999.00, -999.00, -999.00, -999.000,  -999.00, 9, -999.00, -999.00, 9, -999.00
49NZ20071008, P14N, 71, 1, 30, X12008, 2, 20071108, 2205, 27.0047, 179.0112, 5436,    332.0, 2,  13.3479, 2,  34.4548, 2,  34.4556, 2,    212.7, 2,    214.9, 2,    10.44, 2,     9.58, 2,     0.01, 2,     0.71, 2, -999.000, 5, -999.000, 5, -999.000, 5, -999.000, 9,   -999.0, 9,   -999.0, 9, -999.0000,   -999.00,   -999.0, 9,   -999.0,  -999.00, 9,   -999.0,  13.3014, 25.9098,  13.3468, 2, 9, 0.14, 0.06, 0.01, 0.013,  -999.00, 9, -999.00, -999.00, 9, -999.00
49NZ20071008, P14N, 71, 1, 29, X12035, 2, 20071108, 2205, 27.0047, 179.0112, 5436,    431.9, 2,  10.7031, 2,  34.2388, 2,  34.2409, 2,    201.5, 2,    198.1, 2,    19.18, 2,    15.62, 2,     0.01, 2,     1.14, 2,    2.984, 2,    1.579, 2,    0.106, 2, -999.000, 9,   -999.0, 9,   -999.0, 9, -999.0000,   -999.00,   -999.0, 9,   -999.0,  -999.00, 9,   -999.0,  10.6507, 26.2449,  10.7045, 2, 9, 0.16, 0.08, 0.01, 0.013,  -999.00, 9, -999.00, -999.00, 9, -999.00
49NZ20071008, P14N, 71, 1, 28, X12034, 2, 20071108, 2205, 27.0047, 179.0112, 5436,    530.4, 2,   8.8482, 2,  34.1253, 2,  34.1235, 6,    171.4, 2,    171.7, 2,    31.50, 2,    21.67, 2,     0.01, 2,     1.57, 2,    2.718, 2,    1.394, 2,    0.105, 2, -999.000, 9,   -999.0, 9,   -999.0, 9, -999.0000,   -999.00,   -999.0, 9,   -999.0,  -999.00, 9,   -999.0,   8.7907, 26.4662,   8.8502, 2, 9, 0.19, 0.09, 0.01, 0.014,  -999.00, 9, -999.00, -999.00, 9, -999.00
49NZ20071008, P14N, 71, 1, 27, X12049, 2, 20071108, 2205, 27.0047, 179.0112, 5436,    629.4, 2,   6.6304, 2,  34.0643, 2,  34.0642, 2,    126.2, 2,    120.7, 2,    55.00, 2,    30.43, 2,     0.01, 2,     2.21, 2,    1.844, 2,    0.914, 2,    0.076, 2, -999.000, 9,   -999.0, 9,   -999.0, 9, -999.0000,   -999.00,   -999.0, 9,   -999.0,  -999.00, 9,   -999.0,   6.5723, 26.7393,   6.6304, 2, 9, 0.24, 0.12, 0.01, 0.016,  -999.00, 9, -999.00, -999.00, 9, -999.00
49NZ20071008, P14N, 71, 1, 26, X12032, 2, 20071108, 2205, 27.0047, 179.0112, 5436,    729.2, 2,   5.3281, 2,  34.1006, 2,  34.1021, 2,     83.6, 2,     80.2, 2,    76.97, 2,    36.42, 2,     0.01, 2,     2.63, 2,    1.080, 6,    0.527, 6,    0.052, 6, -999.000, 9,   -999.0, 9,   -999.0, 9, -999.0000,   -999.00,   -999.0, 9,   -999.0,  -999.00, 9,   -999.0,   5.2674, 26.9312,   5.3288, 2, 9, 0.29, 0.13, 0.01, 0.017,  -999.00, 9, -999.00, -999.00, 9, -999.00
49NZ20071008, P14N, 71, 1, 25, X12043, 2, 20071108, 2205, 27.0047, 179.0112, 5436,    831.3, 2,   4.5953, 2,  34.2018, 2,  34.2048, 2,     49.5, 2,     48.3, 2,    94.66, 2,    40.32, 2,     0.01, 2,     2.91, 2,    0.438, 2,    0.211, 2,    0.010, 2, -999.000, 9,   -999.0, 9,   -999.0, 9, -999.0000,   -999.00,   -999.0, 9,   -999.0,  -999.00, 9,   -999.0,   4.5301, 27.0950,   4.5955, 2, 9, 0.33, 0.15, 0.01, 0.017,  -999.00, 9, -999.00, -999.00, 9, -999.00
49NZ20071008, P14N, 71, 1, 24, X12030, 2, 20071108, 2205, 27.0047, 179.0112, 5436,    929.8, 2,   4.0314, 2,  34.2883, 2,  34.2879, 2,     35.8, 2,     36.0, 2,   108.59, 2,    42.10, 2,     0.01, 2,     3.03, 2,    0.192, 2,    0.094, 2,    0.010, 2, -999.000, 9,   -999.0, 9,   -999.0, 9, -999.0000,   -999.00,   -999.0, 9,   -999.0,  -999.00, 9,   -999.0,   3.9617, 27.2240,   4.0318, 2, 9, 0.36, 0.15, 0.01, 0.018,  -999.00, 9, -999.00, -999.00, 9, -999.00
49NZ20071008, P14N, 71, 1, 23, X12027, 2, 20071108, 2205, 27.0047, 179.0112, 5436,   1070.1, 2,   3.6449, 2,  34.3818, 2,  34.3825, 6,     34.7, 2,     35.4, 2,   119.06, 2,    42.74, 2,     0.01, 2,     3.07, 2,    0.062, 2,    0.031, 2,    0.000, 2, -999.000, 9,   -999.0, 9,   -999.0, 9, -999.0000,   -999.00,   -999.0, 9,   -999.0,  -999.00, 9,   -999.0,   3.5665, 27.3380,   3.6451, 2, 9, 0.38, 0.15, 0.01, 0.018,  -999.00, 9, -999.00, -999.00, 9, -999.00
49NZ20071008, P14N, 71, 1, 22, X12028, 2, 20071108, 2205, 27.0047, 179.0112, 5436,   1269.6, 2,   3.0324, 2,  34.4771, 2,  34.4773, 2,     43.5, 2,     43.9, 2,   133.95, 2,    42.78, 2,     0.01, 2,     3.05, 2,    0.014, 2,    0.006, 2,    0.000, 2, -999.000, 9,   -999.0, 9,   -999.0, 9, -999.0000,   -999.00,   -999.0, 9,   -999.0,  -999.00, 9,   -999.0,   2.9433, 27.4728,   3.0322, 2, 9, 0.41, 0.15, 0.01, 0.018,  -999.00, 9, -999.00, -999.00, 9, -999.00
49NZ20071008, P14N, 71, 1, 21, X12009, 2, 20071108, 2205, 27.0047, 179.0112, 5436,   1471.1, 2,   2.6078, 2,  34.5308, 2,  34.5304, 2,     55.6, 2,     54.2, 2,   143.74, 2,    42.36, 2,     0.01, 2,     3.01, 2,    0.009, 2,    0.005, 2,    0.000, 2, -999.000, 9,   -999.0, 9,   -999.0, 9, -999.0000,   -999.00,   -999.0, 9,   -999.0,  -999.00, 9,   -999.0,   2.5069, 27.5541,   2.6080, 2, 9, 0.44, 0.15, 0.01, 0.017,  -999.00, 9, -999.00, -999.00, 9, -999.00
49NZ20071008, P14N, 71, 1, 20, X12026, 2, 20071108, 2205, 27.0047, 179.0112, 5436,   1669.8, 2,   2.2994, 2,  34.5699, 2,  34.5702, 2,     67.5, 2,     67.9, 2,   149.17, 2,    41.63, 2,     0.01, 2,     2.95, 2,    0.008, 2,    0.006, 2,    0.000, 2, -999.000, 9,   -999.0, 9,   -999.0, 9, -999.0000,   -999.00,   -999.0, 9,   -999.0,  -999.00, 9,   -999.0,   2.1861, 27.6121,   2.2991, 2, 9, 0.45, 0.15, 0.01, 0.017,  -999.00, 9, -999.00, -999.00, 9, -999.00
49NZ20071008, P14N, 71, 1, 19, X12025, 2, 20071108, 2205, 27.0047, 179.0112, 5436,   1869.2, 2,   2.0724, 2,  34.5978, 2,  34.5977, 2,     81.0, 2,     80.4, 2,   152.63, 2,    40.92, 2,     0.00, 2,     2.88, 2, -999.000, 5, -999.000, 5, -999.000, 5, -999.000, 9,   -999.0, 9,   -999.0, 9, -999.0000,   -999.00,   -999.0, 9,   -999.0,  -999.00, 9,   -999.0,   1.9459, 27.6537,   2.0723, 2, 9, 0.45, 0.15, 0.01, 0.017,  -999.00, 9, -999.00, -999.00, 9, -999.00
49NZ20071008, P14N, 71, 1, 18, X12024, 2, 20071108, 2205, 27.0047, 179.0112, 5436,   2070.6, 2,   1.9058, 2,  34.6177, 2,  34.6178, 2,     91.0, 2,     91.8, 2,   154.48, 2,    40.11, 2,     0.00, 2,     2.83, 2,    0.000, 2,    0.000, 2,    0.000, 2, -999.000, 9,   -999.0, 9,   -999.0, 9, -999.0000,   -999.00,   -999.0, 9,   -999.0,  -999.00, 9,   -999.0,   1.7649, 27.6836,   1.9056, 2, 9, 0.46, 0.15, 0.01, 0.017,  -999.00, 9, -999.00, -999.00, 9, -999.00
49NZ20071008, P14N, 71, 1, 17, X12023, 2, 20071108, 2205, 27.0047, 179.0112, 5436,   2271.0, 2,   1.7687, 2,  34.6341, 2,  34.6343, 2,    101.0, 2,    102.4, 2,   154.89, 2,    39.53, 2,     0.01, 2,     2.78, 2,    0.009, 2,    0.003, 2,    0.000, 2, -999.000, 9,   -999.0, 9,   -999.0, 9, -999.0000,   -999.00,   -999.0, 9,   -999.0,  -999.00, 9,   -999.0,   1.6129, 27.7082,   1.7686, 2, 9, 0.46, 0.14, 0.01, 0.017,  -999.00, 9, -999.00, -999.00, 9, -999.00
49NZ20071008, P14N, 71, 1, 16, X12022, 2, 20071108, 2205, 27.0047, 179.0112, 5436,   2470.0, 2,   1.6805, 2,  34.6447, 2,  34.6448, 6,    109.3, 2,    109.9, 2,   155.33, 2,    39.07, 2,     0.01, 2,     2.75, 2,    0.000, 2,    0.000, 2,    0.000, 2, -999.000, 9,   -999.0, 9,   -999.0, 9, -999.0000,   -999.00,   -999.0, 9,   -999.0,  -999.00, 9,   -999.0,   1.5089, 27.7244,   1.6804, 2, 9, 0.46, 0.14, 0.01, 0.017,  -999.00, 9, -999.00, -999.00, 9, -999.00
49NZ20071008, P14N, 71, 1, 15, X12021, 2, 20071108, 2205, 27.0047, 179.0112, 5436,   2670.6, 2,   1.6157, 2,  34.6543, 2,  34.6547, 2,    117.8, 2,    118.3, 2,   154.39, 2,    38.56, 2,     0.01, 2,     2.69, 2,    0.008, 2,    0.004, 2,    0.000, 2, -999.000, 9,   -999.0, 9,   -999.0, 9, -999.0000,   -999.00,   -999.0, 9,   -999.0,  -999.00, 9,   -999.0,   1.4273, 27.7380,   1.6157, 2, 9, 0.46, 0.14, 0.01, 0.017,  -999.00, 9, -999.00, -999.00, 9, -999.00
49NZ20071008, P14N, 71, 1, 14, X12020, 2, 20071108, 2205, 27.0047, 179.0112, 5436,   2870.1, 2,   1.5685, 2,  34.6612, 2,  34.6615, 2,    123.9, 2,    124.9, 2,   153.82, 2,    38.11, 2,     0.01, 2,     2.66, 2,    0.000, 2,    0.000, 2,    0.000, 2, -999.000, 9,   -999.0, 9,   -999.0, 9, -999.0000,   -999.00,   -999.0, 9,   -999.0,  -999.00, 9,   -999.0,   1.3626, 27.7482,   1.5683, 2, 9, 0.46, 0.14, 0.01, 0.017,  -999.00, 9, -999.00, -999.00, 9, -999.00
49NZ20071008, P14N, 71, 1, 13, X12019, 2, 20071108, 2205, 27.0047, 179.0112, 5436,   3078.1, 2,   1.5301, 2,  34.6680, 2,  34.6684, 2,    130.9, 2,    132.1, 2,   151.88, 2,    37.61, 2,     0.01, 2,     2.63, 2, -999.000, 9, -999.000, 9, -999.000, 9, -999.000, 9,   -999.0, 9,   -999.0, 9, -999.0000,   -999.00,   -999.0, 9,   -999.0,  -999.00, 9,   -999.0,   1.3052, 27.7577,   1.5299, 2, 9, 0.45, 0.14, 0.01, 0.017,  -999.00, 9, -999.00, -999.00, 9, -999.00
49NZ20071008, P14N, 71, 1, 12, X12040, 2, 20071108, 2205, 27.0047, 179.0112, 5436,   3331.1, 2,   1.4958, 2,  34.6738, 2,  34.6740, 2,    136.7, 2,    138.0, 2,   150.72, 2,    37.14, 2,     0.01, 2,     2.59, 2, -999.000, 9, -999.000, 9, -999.000, 9, -999.000, 9,   -999.0, 9,   -999.0, 9, -999.0000,   -999.00,   -999.0, 9,   -999.0,  -999.00, 9,   -999.0,   1.2469, 27.7664,   1.4957, 2, 9, 0.45, 0.14, 0.01, 0.016,  -999.00, 9, -999.00, -999.00, 9, -999.00
49NZ20071008, P14N, 71, 1, 11, X12047, 2, 20071108, 2205, 27.0047, 179.0112, 5436,   3579.8, 2,   1.4726, 2,  34.6784, 2,  34.6786, 2,    142.6, 2,    143.3, 2,   149.53, 2,    36.76, 2,     0.01, 2,     2.57, 2,    0.000, 2,    0.000, 2,    0.000, 2, -999.000, 9,   -999.0, 9,   -999.0, 9, -999.0000,   -999.00,   -999.0, 9,   -999.0,  -999.00, 9,   -999.0,   1.1990, 27.7735,   1.4724, 2, 9, 0.45, 0.14, 0.01, 0.016,  -999.00, 9, -999.00, -999.00, 9, -999.00
49NZ20071008, P14N, 71, 1, 10, X12017, 2, 20071108, 2205, 27.0047, 179.0112, 5436,   3829.3, 2,   1.4590, 2,  34.6822, 2,  34.6826, 2,    147.6, 2,    148.1, 2,   148.16, 2,    36.48, 2,     0.01, 2,     2.55, 2, -999.000, 9, -999.000, 9, -999.000, 9, -999.000, 9,   -999.0, 9,   -999.0, 9, -999.0000,   -999.00,   -999.0, 9,   -999.0,  -999.00, 9,   -999.0,   1.1596, 27.7792,   1.4588, 2, 9, 0.44, 0.13, 0.01, 0.016,  -999.00, 9, -999.00, -999.00, 9, -999.00
49NZ20071008, P14N, 71, 1, 9, X12015, 2, 20071108, 2205, 27.0047, 179.0112, 5436,   4079.6, 2,   1.4539, 2,  34.6852, 2,  34.6855, 6,    152.0, 2,    152.2, 2,   146.88, 2,    36.22, 2,     0.01, 2,     2.51, 2, -999.000, 9, -999.000, 9, -999.000, 9, -999.000, 9,   -999.0, 9,   -999.0, 9, -999.0000,   -999.00,   -999.0, 9,   -999.0,  -999.00, 9,   -999.0,   1.1276, 27.7838,   1.4538, 2, 9, 0.44, 0.13, 0.01, 0.016,  -999.00, 9, -999.00, -999.00, 9, -999.00
49NZ20071008, P14N, 71, 1, 8, X12046, 2, 20071108, 2205, 27.0047, 179.0112, 5436,   4328.4, 2,   1.4513, 2,  34.6881, 2,  34.6882, 2,    156.0, 2,    156.0, 2,   145.60, 2,    35.96, 2,     0.01, 2,     2.50, 2,    0.000, 2,    0.000, 2,    0.000, 2, -999.000, 9,   -999.0, 9,   -999.0, 9, -999.0000,   -999.00,   -999.0, 9,   -999.0,  -999.00, 9,   -999.0,   1.0974, 27.7882,   1.4511, 2, 9, 0.44, 0.13, 0.01, 0.016,  -999.00, 9, -999.00, -999.00, 9, -999.00
49NZ20071008, P14N, 71, 1, 7, X12044, 2, 20071108, 2205, 27.0047, 179.0112, 5436,   4579.3, 2,   1.4518, 2,  34.6905, 2,  34.6908, 2,    161.1, 2,    161.0, 2,   141.49, 2,    35.62, 2,     0.01, 2,     2.47, 2, -999.000, 9, -999.000, 9, -999.000, 9, -999.000, 9,   -999.0, 9,   -999.0, 9, -999.0000,   -999.00,   -999.0, 9,   -999.0,  -999.00, 9,   -999.0,   1.0691, 27.7921,   1.4517, 2, 9, 0.43, 0.13, 0.01, 0.016,  -999.00, 9, -999.00, -999.00, 9, -999.00
49NZ20071008, P14N, 71, 1, 6, X12048, 2, 20071108, 2205, 27.0047, 179.0112, 5436,   4830.0, 2,   1.4546, 2,  34.6928, 2,  34.6932, 2,    165.5, 2,    165.5, 2,   138.18, 2,    35.28, 2,     0.01, 2,     2.45, 2, -999.000, 9, -999.000, 9, -999.000, 9, -999.000, 9,   -999.0, 9,   -999.0, 9, -999.0000,   -999.00,   -999.0, 9,   -999.0,  -999.00, 9,   -999.0,   1.0423, 27.7957,   1.4545, 2, 9, 0.42, 0.13, 0.01, 0.016,  -999.00, 9, -999.00, -999.00, 9, -999.00
49NZ20071008, P14N, 71, 1, 5, X12014, 2, 20071108, 2205, 27.0047, 179.0112, 5436,   5077.5, 2,   1.4579, 2,  34.6951, 2,  34.6956, 2,    170.2, 2,    170.1, 2,   134.85, 2,    34.94, 2,     0.01, 2,     2.42, 2,    0.000, 2,    0.000, 2,    0.000, 2, -999.000, 9,   -999.0, 9,   -999.0, 9, -999.0000,   -999.00,   -999.0, 9,   -999.0,  -999.00, 9,   -999.0,   1.0156, 27.7993,   1.4579, 2, 9, 0.42, 0.13, 0.01, 0.016,  -999.00, 9, -999.00, -999.00, 9, -999.00
49NZ20071008, P14N, 71, 1, 4, X12006, 2, 20071108, 2205, 27.0047, 179.0112, 5436,   5329.6, 2,   1.4711, 2,  34.6966, 2,  34.6970, 2,    173.7, 2,    173.4, 2,   132.42, 2,    34.63, 2,     0.01, 2,     2.40, 2, -999.000, 9, -999.000, 9, -999.000, 9, -999.000, 9,   -999.0, 9,   -999.0, 9, -999.0000,   -999.00,   -999.0, 9,   -999.0,  -999.00, 9,   -999.0,   0.9971, 27.8017,   1.4710, 2, 9, 0.41, 0.13, 0.01, 0.016,  -999.00, 9, -999.00, -999.00, 9, -999.00
49NZ20071008, P14N, 71, 1, 3, X12013, 9, 20071108, 2205, 27.0047, 179.0112, 5436,     10.3, 2,  26.5646, 2,  35.1798, 2, -999.0000, 9,    205.1, 2,   -999.0, 9,  -999.00, 9,  -999.00, 9,  -999.00, 9,  -999.00, 9, -999.000, 9, -999.000, 9, -999.000, 9, -999.000, 9,   -999.0, 9,   -999.0, 9, -999.0000,   -999.00,   -999.0, 9,   -999.0,  -999.00, 9,   -999.0,  26.5623, 22.9924,  26.5665, 2, 9, -999.00, -999.00, -999.00, -999.000,  -999.00, 9, -999.00, -999.00, 9, -999.00
49NZ20071008, P14N, 71, 1, 2, X12002, 2, 20071108, 2205, 27.0047, 179.0112, 5436,    559.4, 2,   8.0612, 2,  34.0926, 2,  34.0927, 2,    155.5, 2,    157.6, 2,  -999.00, 9,  -999.00, 9,  -999.00, 9,  -999.00, 9, -999.000, 9, -999.000, 9, -999.000, 9, -999.000, 9,   -999.0, 9,   -999.0, 9, -999.0000,   -999.00,   -999.0, 9,   -999.0,  -999.00, 9,   -999.0,   8.0038, 26.5606,   8.0644, 2, 9, -999.00, -999.00, -999.00, -999.000,  -999.00, 9, -999.00, -999.00, 9, -999.00
49NZ20071008, P14N, 71, 1, 1, X12001, 2, 20071108, 2205, 27.0047, 179.0112, 5436,   5518.4, 2,   1.4917, 2,  34.6970, 2,  34.6972, 6,    174.7, 2,    174.6, 2,   131.96, 2,    34.66, 2,     0.01, 2,     2.40, 2,    0.000, 2,    0.000, 2,    0.000, 2, -999.000, 9,   -999.0, 9,   -999.0, 9, -999.0000,   -999.00,   -999.0, 9,   -999.0,  -999.00, 9,   -999.0,   0.9930, 27.8023,   1.4916, 2, 9, 0.41, 0.13, 0.01, 0.016,  -999.00, 9, -999.00, -999.00, 9, -999.00