BOTTLE,20221005CCHSIOAMB
EXPOCODE,SECT_ID,STNNBR,CASTNO,SAMPNO,BTLNBR,BTLNBR_FLAG_W,DATE,TIME,LATITUDE,LONGITUDE,DEPTH,CTDPRS,CTDPRS_FLAG_W,CTDTMP,CTDTMP_FLAG_W,CTDSAL,CTDSAL_FLAG_W,SALNTY,SALNTY_FLAG_W,CTDOXY,CTDOXY_FLAG_W,OXYGEN,OXYGEN_FLAG_W,SILCAT,SILCAT_FLAG_W,NITRAT,NITRAT_FLAG_W,NITRIT,NITRIT_FLAG_W,PHSPHT,PHSPHT_FLAG_W,CFC-11,CFC-11_FLAG_W,CFC-12,CFC-12_FLAG_W,CFC113,CFC113_FLAG_W,CCL4,CCL4_FLAG_W,TCARBN,TCARBN_FLAG_W,ALKALI,ALKALI_FLAG_W,PH_TOT,PH_TMP,DELC14,DELC14_FLAG_W,C14ERR,DELC13,DELC13_FLAG_W,C13ERR,THETA,SIG0,SBE35,SBE35_FLAG_W,PH_TOT_FLAG_W,SILUNC,NRAUNC,NRIUNC,PHPUNC,CS-137,CS-137_FLAG_W,CS137ER,PLUTO,PLUTO_FLAG_W,PLUTOER
,,,,,,,,,,,METERS,DBAR,,ITS-90,,PSS-78,,PSS-78,,UMOL/KG,,UMOL/KG,,UMOL/KG,,UMOL/KG,,UMOL/KG,,UMOL/KG,,PMOL/KG,,PMOL/KG,,PMOL/KG,,PMOL/KG,,UMOL/KG,,UMOL/KG,,,DEG C,/MILLE,,/MILLE,/MILLE,,/MILLE,DEG C,KG/M^3,ITS-90,,,UMOL/KG,UMOL/KG,UMOL/KG,UMOL/KG,DM/.1MG,,BQ/M^3,MBQ/M^3,,MBQ/M^3
49NZ20071008, P14N, 30, 1, 36, X12042, 2, 20071029, 1735, 47.4963, 178.9902, 4972,     16.7, 2,   8.7076, 2,  32.6980, 2,  32.6975, 2,    288.3, 2,    288.1, 2,    20.12, 2,    12.62, 2,     0.27, 2,     1.27, 2,    3.834, 2,    2.167, 2,    0.367, 2, -999.000, 9,   -999.0, 9,   -999.0, 9, -999.0000,   -999.00,   -999.0, 9,   -999.0,  -999.00, 9,   -999.0,   8.7059, 25.3612,   8.7089, 2, 9, 0.16, 0.07, 0.01, 0.014,  -999.00, 9, -999.00, -999.00, 9, -999.00
49NZ20071008, P14N, 30, 1, 35, X12041, 2, 20071029, 1735, 47.4963, 178.9902, 4972,     48.1, 2,   8.7002, 2,  32.6982, 2,  32.6988, 2,    288.3, 2,    288.1, 2,    20.13, 2,    12.71, 2,     0.27, 2,     1.27, 2,    3.859, 2,    2.162, 2,    0.342, 2, -999.000, 9,   -999.0, 9,   -999.0, 9, -999.0000,   -999.00,   -999.0, 9,   -999.0,  -999.00, 9,   -999.0,   8.6953, 25.3630,   8.7029, 2, 9, 0.16, 0.07, 0.01, 0.014,  -999.00, 9, -999.00, -999.00, 9, -999.00
49NZ20071008, P14N, 30, 1, 34, X12016, 2, 20071029, 1735, 47.4963, 178.9902, 4972,     99.2, 2,   3.3733, 2,  33.0670, 2,  33.0696, 2,    311.8, 2,    307.6, 2,    35.54, 2,    21.99, 2,     0.02, 2,     1.78, 2,    5.147, 2,    2.804, 2,    0.457, 2, -999.000, 9,   -999.0, 9,   -999.0, 9, -999.0000,   -999.00,   -999.0, 9,   -999.0,  -999.00, 9,   -999.0,   3.3672, 26.3092,   3.3722, 2, 9, 0.20, 0.09, 0.01, 0.015,  -999.00, 9, -999.00, -999.00, 9, -999.00
49NZ20071008, P14N, 30, 1, 33, X12033, 2, 20071029, 1735, 47.4963, 178.9902, 4972,    150.7, 2,   3.6144, 2,  33.4912, 2,  33.4906, 2,    239.1, 2,    228.1, 2,    50.44, 2,    28.23, 2,     0.02, 2,     2.14, 2,    4.363, 6,    2.338, 6,    0.332, 6, -999.000, 9,   -999.0, 9,   -999.0, 9, -999.0000,   -999.00,   -999.0, 9,   -999.0,  -999.00, 9,   -999.0,   3.6047, 26.6249,   3.6145, 2, 9, 0.23, 0.11, 0.01, 0.015,  -999.00, 9, -999.00, -999.00, 9, -999.00
49NZ20071008, P14N, 30, 1, 32, X12038, 2, 20071029, 1735, 47.4963, 178.9902, 4972,    199.6, 2,   3.3262, 2,  33.6607, 2,  33.6608, 2,    162.8, 2,    151.2, 2,    70.33, 2,    34.93, 2,     0.01, 2,     2.59, 2,    3.510, 2,    1.798, 2,    0.271, 2, -999.000, 9,   -999.0, 9,   -999.0, 9, -999.0000,   -999.00,   -999.0, 9,   -999.0,  -999.00, 9,   -999.0,   3.3137, 26.7875,   3.3260, 2, 9, 0.27, 0.13, 0.01, 0.016,  -999.00, 9, -999.00, -999.00, 9, -999.00
49NZ20071008, P14N, 30, 1, 31, X12003, 2, 20071029, 1735, 47.4963, 178.9902, 4972,    251.9, 2,   3.3652, 2,  33.7547, 2,  33.7546, 6,    114.9, 2,    115.1, 2,    79.65, 2,    37.60, 2,     0.01, 2,     2.76, 2,    2.988, 2,    1.515, 2,    0.204, 2, -999.000, 9,   -999.0, 9,   -999.0, 9, -999.0000,   -999.00,   -999.0, 9,   -999.0,  -999.00, 9,   -999.0,   3.3492, 26.8591,   3.3654, 2, 9, 0.29, 0.14, 0.01, 0.017,  -999.00, 9, -999.00, -999.00, 9, -999.00
49NZ20071008, P14N, 30, 1, 30, X12008, 2, 20071029, 1735, 47.4963, 178.9902, 4972,    281.4, 2,   3.4475, 2,  33.8209, 2,  33.8211, 2,     96.0, 2,     94.0, 2,    85.54, 2,    39.11, 2,     0.01, 2,     2.84, 2,    2.583, 2,    1.305, 2,    0.170, 2, -999.000, 9,   -999.0, 9,   -999.0, 9, -999.0000,   -999.00,   -999.0, 9,   -999.0,  -999.00, 9,   -999.0,   3.4293, 26.9043,   3.4477, 2, 9, 0.31, 0.14, 0.01, 0.017,  -999.00, 9, -999.00, -999.00, 9, -999.00
49NZ20071008, P14N, 30, 1, 29, X12035, 2, 20071029, 1735, 47.4963, 178.9902, 4972,    371.8, 2,   3.5409, 2,  33.9664, 2,  33.9658, 2,     58.6, 2,     57.9, 2,    98.50, 2,    41.58, 2,     0.01, 2,     2.99, 2,    1.772, 2,    0.881, 2,    0.120, 2, -999.000, 9,   -999.0, 9,   -999.0, 9, -999.0000,   -999.00,   -999.0, 9,   -999.0,  -999.00, 9,   -999.0,   3.5162, 27.0119,   3.5413, 2, 9, 0.34, 0.15, 0.01, 0.017,  -999.00, 9, -999.00, -999.00, 9, -999.00
49NZ20071008, P14N, 30, 1, 28, X12034, 2, 20071029, 1735, 47.4963, 178.9902, 4972,    472.1, 2,   3.5414, 2,  34.0857, 2,  34.0849, 2,     39.5, 2,     37.6, 2,   109.51, 2,    42.63, 2,     0.01, 2,     3.07, 2,    1.159, 2,    0.566, 2,    0.091, 2, -999.000, 9,   -999.0, 9,   -999.0, 9, -999.0000,   -999.00,   -999.0, 9,   -999.0,  -999.00, 9,   -999.0,   3.5096, 27.1076,   3.5416, 2, 9, 0.36, 0.15, 0.01, 0.018,  -999.00, 9, -999.00, -999.00, 9, -999.00
49NZ20071008, P14N, 30, 1, 27, X12049, 2, 20071029, 1735, 47.4963, 178.9902, 4972,    570.5, 2,   3.5270, 2,  34.1962, 2,  34.1959, 2,     33.5, 2,     32.9, 2,   117.76, 2,    42.57, 2,     0.01, 2,     3.06, 2,    0.698, 2,    0.342, 2,    0.050, 2, -999.000, 9,   -999.0, 9,   -999.0, 9, -999.0000,   -999.00,   -999.0, 9,   -999.0,  -999.00, 9,   -999.0,   3.4881, 27.1977,   3.5272, 2, 9, 0.38, 0.15, 0.01, 0.018,  -999.00, 9, -999.00, -999.00, 9, -999.00
49NZ20071008, P14N, 30, 1, 26, X12032, 2, 20071029, 1735, 47.4963, 178.9902, 4972,    668.7, 2,   3.3197, 2,  34.2499, 2,  34.2499, 2,     28.4, 2,     27.3, 2,   125.91, 2,    43.17, 2,     0.01, 2,     3.11, 2,    0.480, 6,    0.224, 6,    0.037, 6, -999.000, 9,   -999.0, 9,   -999.0, 9, -999.0000,   -999.00,   -999.0, 9,   -999.0,  -999.00, 9,   -999.0,   3.2746, 27.2609,   3.3198, 2, 9, 0.40, 0.15, 0.01, 0.018,  -999.00, 9, -999.00, -999.00, 9, -999.00
49NZ20071008, P14N, 30, 1, 25, X12043, 2, 20071029, 1735, 47.4963, 178.9902, 4972,    769.9, 2,   3.1503, 2,  34.3060, 2,  34.3055, 2,     27.2, 2,     27.5, 2,   132.23, 2,    43.31, 2,     0.01, 2,     3.11, 2,    0.366, 2,    0.184, 2,    0.032, 2, -999.000, 9,   -999.0, 9,   -999.0, 9, -999.0000,   -999.00,   -999.0, 9,   -999.0,  -999.00, 9,   -999.0,   3.0988, 27.3220,   3.1504, 2, 9, 0.41, 0.15, 0.01, 0.018,  -999.00, 9, -999.00, -999.00, 9, -999.00
49NZ20071008, P14N, 30, 1, 24, X12030, 2, 20071029, 1735, 47.4963, 178.9902, 4972,    870.5, 2,   2.9585, 2,  34.3500, 2,  34.3495, 2,     26.9, 2,     25.5, 2,   139.03, 2,    43.53, 2,     0.01, 2,     3.12, 2,    0.215, 2,    0.099, 2,    0.016, 2, -999.000, 9,   -999.0, 9,   -999.0, 9, -999.0000,   -999.00,   -999.0, 9,   -999.0,  -999.00, 9,   -999.0,   2.9008, 27.3752,   2.9589, 2, 9, 0.42, 0.15, 0.01, 0.018,  -999.00, 9, -999.00, -999.00, 9, -999.00
49NZ20071008, P14N, 30, 1, 23, X12027, 2, 20071029, 1735, 47.4963, 178.9902, 4972,    970.1, 2,   2.8213, 2,  34.3822, 2,  34.3825, 6,     25.3, 2,     24.8, 2,   143.91, 2,    43.71, 2,     0.01, 2,     3.13, 2,    0.150, 2,    0.072, 2,    0.000, 2, -999.000, 9,   -999.0, 9,   -999.0, 9, -999.0000,   -999.00,   -999.0, 9,   -999.0,  -999.00, 9,   -999.0,   2.7572, 27.4136,   2.8215, 2, 9, 0.44, 0.16, 0.01, 0.018,  -999.00, 9, -999.00, -999.00, 9, -999.00
49NZ20071008, P14N, 30, 1, 22, X12028, 2, 20071029, 1735, 47.4963, 178.9902, 4972,   1127.4, 2,   2.6111, 2,  34.4337, 2,  34.4331, 2,     28.1, 2,     27.7, 2,   150.98, 2,    43.60, 2,     0.01, 2,     3.12, 2,    0.082, 2,    0.041, 2,    0.000, 2, -999.000, 9,   -999.0, 9,   -999.0, 9, -999.0000,   -999.00,   -999.0, 9,   -999.0,  -999.00, 9,   -999.0,   2.5370, 27.4739,   2.6114, 2, 9, 0.45, 0.15, 0.01, 0.018,  -999.00, 9, -999.00, -999.00, 9, -999.00
49NZ20071008, P14N, 30, 1, 21, X12009, 2, 20071029, 1735, 47.4963, 178.9902, 4972,   1333.0, 2,   2.3753, 2,  34.4860, 2,  34.4854, 2,     34.3, 2,     34.3, 2,   157.19, 2,    43.25, 2,     0.01, 2,     3.09, 2,    0.040, 2,    0.017, 2,    0.000, 2, -999.000, 9,   -999.0, 9,   -999.0, 9, -999.0000,   -999.00,   -999.0, 9,   -999.0,  -999.00, 9,   -999.0,   2.2878, 27.5367,   2.3753, 2, 9, 0.46, 0.15, 0.01, 0.018,  -999.00, 9, -999.00, -999.00, 9, -999.00
49NZ20071008, P14N, 30, 1, 20, X12026, 2, 20071029, 1735, 47.4963, 178.9902, 4972,   1531.4, 2,   2.1872, 2,  34.5287, 2,  34.5284, 2,     43.5, 2,     43.6, 2,   161.62, 2,    42.83, 2,     0.01, 2,     3.06, 2,    0.017, 2,    0.012, 2,    0.000, 2, -999.000, 9,   -999.0, 9,   -999.0, 9, -999.0000,   -999.00,   -999.0, 9,   -999.0,  -999.00, 9,   -999.0,   2.0864, 27.5872,   2.1874, 2, 9, 0.47, 0.15, 0.01, 0.018,  -999.00, 9, -999.00, -999.00, 9, -999.00
49NZ20071008, P14N, 30, 1, 19, X12025, 2, 20071029, 1735, 47.4963, 178.9902, 4972,   1731.4, 2,   2.0509, 2,  34.5601, 2,  34.5596, 2,     53.3, 2,     54.2, 2,   163.73, 2,    42.23, 2,     0.01, 2,     3.01, 2,    0.003, 2,    0.003, 2,    0.000, 2, -999.000, 9,   -999.0, 9,   -999.0, 9, -999.0000,   -999.00,   -999.0, 9,   -999.0,  -999.00, 9,   -999.0,   1.9360, 27.6243,   2.0514, 2, 9, 0.48, 0.15, 0.01, 0.017,  -999.00, 9, -999.00, -999.00, 9, -999.00
49NZ20071008, P14N, 30, 1, 18, X12024, 2, 20071029, 1735, 47.4963, 178.9902, 4972,   1930.1, 2,   1.9300, 2,  34.5850, 2,  34.5849, 2,     63.3, 2,     63.6, 2,   165.18, 2,    41.82, 2,     0.01, 2,     2.96, 2,    0.000, 2,    0.001, 2,    0.000, 2, -999.000, 9,   -999.0, 9,   -999.0, 9, -999.0000,   -999.00,   -999.0, 9,   -999.0,  -999.00, 9,   -999.0,   1.8006, 27.6547,   1.9301, 2, 9, 0.48, 0.15, 0.01, 0.017,  -999.00, 9, -999.00, -999.00, 9, -999.00
49NZ20071008, P14N, 30, 1, 17, X12023, 2, 20071029, 1735, 47.4963, 178.9902, 4972,   2129.6, 2,   1.8222, 2,  34.6075, 2,  34.6070, 2,     74.8, 2,     75.7, 2,   166.24, 2,    40.92, 2,     0.01, 2,     2.91, 2,    0.000, 2,    0.000, 2,    0.000, 2, -999.000, 9,   -999.0, 9,   -999.0, 9, -999.0000,   -999.00,   -999.0, 9,   -999.0,  -999.00, 9,   -999.0,   1.6777, 27.6820,   1.8226, 2, 9, 0.48, 0.15, 0.01, 0.017,  -999.00, 9, -999.00, -999.00, 9, -999.00
49NZ20071008, P14N, 30, 1, 16, X12022, 2, 20071029, 1735, 47.4963, 178.9902, 4972,   2328.5, 2,   1.7414, 2,  34.6239, 2,  34.6239, 6,     85.4, 2,     85.6, 2,   165.86, 2,    40.44, 2,     0.01, 2,     2.87, 2,    0.000, 2,    0.000, 2,    0.000, 2, -999.000, 9,   -999.0, 9,   -999.0, 9, -999.0000,   -999.00,   -999.0, 9,   -999.0,  -999.00, 9,   -999.0,   1.5812, 27.7024,   1.7417, 2, 9, 0.48, 0.15, 0.01, 0.017,  -999.00, 9, -999.00, -999.00, 9, -999.00
49NZ20071008, P14N, 30, 1, 15, X12021, 2, 20071029, 1735, 47.4963, 178.9902, 4972,   2532.1, 2,   1.6710, 2,  34.6375, 2,  34.6374, 2,     96.6, 2,     96.3, 2,   164.97, 2,    39.86, 2,     0.01, 2,     2.82, 2,    0.000, 2,    0.000, 2,    0.000, 2, -999.000, 9,   -999.0, 9,   -999.0, 9, -999.0000,   -999.00,   -999.0, 9,   -999.0,  -999.00, 9,   -999.0,   1.4941, 27.7197,   1.6710, 2, 9, 0.48, 0.14, 0.01, 0.017,  -999.00, 9, -999.00, -999.00, 9, -999.00
49NZ20071008, P14N, 30, 1, 14, X12020, 2, 20071029, 1735, 47.4963, 178.9902, 4972,   2730.0, 2,   1.6120, 2,  34.6486, 2,  34.6485, 2,    106.2, 2,    106.3, 2,   163.22, 2,    39.13, 2,     0.01, 2,     2.77, 2, -999.000, 9, -999.000, 9, -999.000, 9, -999.000, 9,   -999.0, 9,   -999.0, 9, -999.0000,   -999.00,   -999.0, 9,   -999.0,  -999.00, 9,   -999.0,   1.4182, 27.7341,   1.6127, 2, 9, 0.48, 0.14, 0.01, 0.017,  -999.00, 9, -999.00, -999.00, 9, -999.00
49NZ20071008, P14N, 30, 1, 13, X12019, 2, 20071029, 1735, 47.4963, 178.9902, 4972,   2930.8, 2,   1.5662, 2,  34.6575, 2,  34.6570, 2,    115.6, 2,    115.5, 2,   161.56, 2,    38.48, 2,     0.01, 2,     2.72, 2, -999.000, 9, -999.000, 9, -999.000, 9, -999.000, 9,   -999.0, 9,   -999.0, 9, -999.0000,   -999.00,   -999.0, 9,   -999.0,  -999.00, 9,   -999.0,   1.3546, 27.7457,   1.5664, 2, 9, 0.47, 0.14, 0.01, 0.017,  -999.00, 9, -999.00, -999.00, 9, -999.00
49NZ20071008, P14N, 30, 1, 12, X12040, 2, 20071029, 1735, 47.4963, 178.9902, 4972,   3170.5, 2,   1.5219, 2,  34.6660, 2,  34.6657, 2,    125.6, 2,    125.6, 2,   158.53, 2,    37.79, 2,     0.01, 2,     2.66, 2, -999.000, 5, -999.000, 5, -999.000, 5, -999.000, 9,   -999.0, 9,   -999.0, 9, -999.0000,   -999.00,   -999.0, 9,   -999.0,  -999.00, 9,   -999.0,   1.2882, 27.7573,   1.5219, 2, 9, 0.47, 0.14, 0.01, 0.017,  -999.00, 9, -999.00, -999.00, 9, -999.00
49NZ20071008, P14N, 30, 1, 11, X12047, 2, 20071029, 1735, 47.4963, 178.9902, 4972,   3419.5, 2,   1.4839, 2,  34.6737, 2,  34.6736, 2,    134.5, 2,    134.9, 2,   156.05, 2,    37.31, 2,     0.01, 2,     2.62, 2, -999.000, 9, -999.000, 9, -999.000, 9, -999.000, 9,   -999.0, 9,   -999.0, 9, -999.0000,   -999.00,   -999.0, 9,   -999.0,  -999.00, 9,   -999.0,   1.2264, 27.7678,   1.4841, 2, 9, 0.46, 0.14, 0.01, 0.017,  -999.00, 9, -999.00, -999.00, 9, -999.00
49NZ20071008, P14N, 30, 1, 10, X12017, 2, 20071029, 1735, 47.4963, 178.9902, 4972,   3670.1, 2,   1.4690, 2,  34.6786, 2,  34.6786, 6,    141.6, 2,    141.0, 2,   154.59, 2,    36.84, 2,     0.01, 2,     2.59, 2, -999.000, 9, -999.000, 9, -999.000, 9, -999.000, 9,   -999.0, 9,   -999.0, 9, -999.0000,   -999.00,   -999.0, 9,   -999.0,  -999.00, 9,   -999.0,   1.1861, 27.7745,   1.4689, 2, 9, 0.46, 0.14, 0.01, 0.016,  -999.00, 9, -999.00, -999.00, 9, -999.00
49NZ20071008, P14N, 30, 1, 9, X12015, 2, 20071029, 1735, 47.4963, 178.9902, 4972,   3921.0, 2,   1.4535, 2,  34.6835, 2,  34.6833, 2,    146.7, 2,    147.0, 2,   153.48, 2,    36.53, 2,     0.01, 2,     2.56, 2, -999.000, 5, -999.000, 5, -999.000, 5, -999.000, 9,   -999.0, 9,   -999.0, 9, -999.0000,   -999.00,   -999.0, 9,   -999.0,  -999.00, 9,   -999.0,   1.1445, 27.7813,   1.4534, 2, 9, 0.46, 0.14, 0.01, 0.016,  -999.00, 9, -999.00, -999.00, 9, -999.00
49NZ20071008, P14N, 30, 1, 8, X12046, 2, 20071029, 1735, 47.4963, 178.9902, 4972,   4171.8, 2,   1.4587, 2,  34.6862, 2,  34.6862, 2,    149.6, 2,    150.0, 2,   153.51, 2,    36.30, 2,     0.01, 2,     2.54, 2, -999.000, 9, -999.000, 9, -999.000, 9, -999.000, 9,   -999.0, 9,   -999.0, 9, -999.0000,   -999.00,   -999.0, 9,   -999.0,  -999.00, 9,   -999.0,   1.1221, 27.7850,   1.4588, 2, 9, 0.46, 0.13, 0.01, 0.016,  -999.00, 9, -999.00, -999.00, 9, -999.00
49NZ20071008, P14N, 30, 1, 7, X12044, 2, 20071029, 1735, 47.4963, 178.9902, 4972,   4422.4, 2,   1.4726, 2,  34.6879, 2,  34.6883, 2,    151.7, 2,    151.9, 2,   155.07, 2,    36.26, 2,     0.01, 2,     2.53, 2, -999.000, 9, -999.000, 9, -999.000, 9, -999.000, 9,   -999.0, 9,   -999.0, 9, -999.0000,   -999.00,   -999.0, 9,   -999.0,  -999.00, 9,   -999.0,   1.1074, 27.7874,   1.4726, 2, 9, 0.46, 0.13, 0.01, 0.016,  -999.00, 9, -999.00, -999.00, 9, -999.00
49NZ20071008, P14N, 30, 1, 6, X12048, 2, 20071029, 1735, 47.4963, 178.9902, 4972,   4671.6, 2,   1.4954, 2,  34.6891, 2,  34.6889, 2,    152.8, 2,    152.8, 2,   155.88, 2,    36.13, 2,     0.01, 2,     2.53, 2,    0.000, 2,    0.000, 2,    0.000, 2, -999.000, 9,   -999.0, 9,   -999.0, 9, -999.0000,   -999.00,   -999.0, 9,   -999.0,  -999.00, 9,   -999.0,   1.1006, 27.7888,   1.4955, 2, 9, 0.46, 0.13, 0.01, 0.016,  -999.00, 9, -999.00, -999.00, 9, -999.00
49NZ20071008, P14N, 30, 1, 5, X12014, 2, 20071029, 1735, 47.4963, 178.9902, 4972,   4921.7, 2,   1.5238, 2,  34.6893, 2,  34.6894, 2,    153.4, 2,    153.2, 2,   155.91, 2,    36.22, 2,     0.01, 2,     2.53, 2, -999.000, 9, -999.000, 9, -999.000, 9, -999.000, 9,   -999.0, 9,   -999.0, 9, -999.0000,   -999.00,   -999.0, 9,   -999.0,  -999.00, 9,   -999.0,   1.0983, 27.7891,   1.5240, 2, 9, 0.46, 0.13, 0.01, 0.016,  -999.00, 9, -999.00, -999.00, 9, -999.00
49NZ20071008, P14N, 30, 1, 4, X12006, 9, 20071029, 1735, 47.4963, 178.9902, 4972,    200.8, 2,   3.3175, 2,  33.6620, 2, -999.0000, 9,    162.5, 2,   -999.0, 9,  -999.00, 9,  -999.00, 9,  -999.00, 9,  -999.00, 9, -999.000, 9, -999.000, 9, -999.000, 9, -999.000, 9,   -999.0, 9,   -999.0, 9, -999.0000,   -999.00,   -999.0, 9,   -999.0,  -999.00, 9,   -999.0,   3.3049, 26.7893,   3.3180, 2, 9, -999.00, -999.00, -999.00, -999.000,  -999.00, 9, -999.00, -999.00, 9, -999.00
49NZ20071008, P14N, 30, 1, 3, X12013, 2, 20071029, 1735, 47.4963, 178.9902, 4972,    127.4, 2,   3.4038, 2,  33.2233, 2,  33.2233, 2,    291.4, 2,    281.5, 2,  -999.00, 9,  -999.00, 9,  -999.00, 9,  -999.00, 9, -999.000, 9, -999.000, 9, -999.000, 9, -999.000, 9,   -999.0, 9,   -999.0, 9, -999.0000,   -999.00,   -999.0, 9,   -999.0,  -999.00, 9,   -999.0,   3.3959, 26.4312,   3.4041, 2, 9, -999.00, -999.00, -999.00, -999.000,  -999.00, 9, -999.00, -999.00, 9, -999.00
49NZ20071008, P14N, 30, 1, 2, X12002, 2, 20071029, 1735, 47.4963, 178.9902, 4972,     75.4, 2,   4.5627, 2,  33.1125, 2,  33.1138, 2,    307.3, 2,    303.3, 2,  -999.00, 9,  -999.00, 9,  -999.00, 9,  -999.00, 9, -999.000, 9, -999.000, 9, -999.000, 9, -999.000, 9,   -999.0, 9,   -999.0, 9, -999.0000,   -999.00,   -999.0, 9,   -999.0,  -999.00, 9,   -999.0,   4.5574, 26.2273,   4.5619, 2, 9, -999.00, -999.00, -999.00, -999.000,  -999.00, 9, -999.00, -999.00, 9, -999.00
49NZ20071008, P14N, 30, 1, 1, X12001, 2, 20071029, 1735, 47.4963, 178.9902, 4972,   5042.8, 2,   1.5346, 2,  34.6897, 2,  34.6885, 6,    154.5, 2,    154.3, 2,   154.28, 2,    36.07, 2,     0.01, 2,     2.52, 2,    0.000, 2,    0.002, 2,    0.000, 2, -999.000, 9,   -999.0, 9,   -999.0, 9, -999.0000,   -999.00,   -999.0, 9,   -999.0,  -999.00, 9,   -999.0,   1.0940, 27.7897,   1.5347, 2, 9, 0.46, 0.13, 0.01, 0.016,  -999.00, 9, -999.00, -999.00, 9, -999.00