BOTTLE,20221005CCHSIOAMB
EXPOCODE,SECT_ID,STNNBR,CASTNO,SAMPNO,BTLNBR,BTLNBR_FLAG_W,DATE,TIME,LATITUDE,LONGITUDE,DEPTH,CTDPRS,CTDPRS_FLAG_W,CTDTMP,CTDTMP_FLAG_W,CTDSAL,CTDSAL_FLAG_W,SALNTY,SALNTY_FLAG_W,CTDOXY,CTDOXY_FLAG_W,OXYGEN,OXYGEN_FLAG_W,SILCAT,SILCAT_FLAG_W,NITRAT,NITRAT_FLAG_W,NITRIT,NITRIT_FLAG_W,PHSPHT,PHSPHT_FLAG_W,CFC-11,CFC-11_FLAG_W,CFC-12,CFC-12_FLAG_W,CFC113,CFC113_FLAG_W,CCL4,CCL4_FLAG_W,TCARBN,TCARBN_FLAG_W,ALKALI,ALKALI_FLAG_W,PH_TOT,PH_TMP,DELC14,DELC14_FLAG_W,C14ERR,DELC13,DELC13_FLAG_W,C13ERR,THETA,SIG0,SBE35,SBE35_FLAG_W,PH_TOT_FLAG_W,SILUNC,NRAUNC,NRIUNC,PHPUNC,CS-137,CS-137_FLAG_W,CS137ER,PLUTO,PLUTO_FLAG_W,PLUTOER
,,,,,,,,,,,METERS,DBAR,,ITS-90,,PSS-78,,PSS-78,,UMOL/KG,,UMOL/KG,,UMOL/KG,,UMOL/KG,,UMOL/KG,,UMOL/KG,,PMOL/KG,,PMOL/KG,,PMOL/KG,,PMOL/KG,,UMOL/KG,,UMOL/KG,,,DEG C,/MILLE,,/MILLE,/MILLE,,/MILLE,DEG C,KG/M^3,ITS-90,,,UMOL/KG,UMOL/KG,UMOL/KG,UMOL/KG,DM/.1MG,,BQ/M^3,MBQ/M^3,,MBQ/M^3
49NZ20071008, P14N, 37, 1, 36, X12042, 2, 20071031, 1836, 43.9955, 178.9767, 5650,      9.7, 2,  10.9624, 2,  32.8504, 2,  32.8507, 2,    257.6, 2,    275.0, 2,    12.14, 2,     8.40, 2,     0.18, 2,     0.93, 2,    3.467, 2,    1.983, 2,    0.306, 2, -999.000, 9,   2019.9, 2,   2214.6, 2,    7.8868,     25.00,   -999.0, 9,   -999.0,  -999.00, 9,   -999.0,  10.9612, 25.1088,  10.9636, 2, 6, 0.15, 0.06, 0.01, 0.013,  -999.00, 9, -999.00, -999.00, 9, -999.00
49NZ20071008, P14N, 37, 1, 35, X12041, 2, 20071031, 1836, 43.9955, 178.9767, 5650,     49.7, 2,   9.0688, 2,  33.9364, 2,  33.9354, 2,    256.0, 2,    256.0, 2,    19.63, 2,    14.31, 2,     0.05, 2,     1.13, 2,    3.700, 2,    2.079, 2,    0.288, 2, -999.000, 9,   2095.6, 6,   2252.9, 2,    7.7964,     25.00,   -999.0, 9,   -999.0,  -999.00, 9,   -999.0,   9.0635, 26.2752,   9.0716, 2, 2, 0.16, 0.07, 0.01, 0.013,  -999.00, 9, -999.00, -999.00, 9, -999.00
49NZ20071008, P14N, 37, 1, 34, X12016, 2, 20071031, 1836, 43.9955, 178.9767, 5650,    100.3, 2,   7.8836, 2,  33.9152, 2,  33.9213, 2,    253.3, 2,    257.3, 2,    23.08, 2,    15.80, 2,     0.02, 2,     1.23, 2,    3.819, 2,    2.129, 2,    0.283, 2, -999.000, 9,   2107.0, 2,   2262.0, 6,    7.7729,     25.00,   -999.0, 9,   -999.0,  -999.00, 9,   -999.0,   7.8738, 26.4404,   7.8805, 2, 2, 0.17, 0.08, 0.01, 0.013,  -999.00, 9, -999.00, -999.00, 9, -999.00
49NZ20071008, P14N, 37, 1, 33, X12033, 2, 20071031, 1836, 43.9955, 178.9767, 5650,    149.7, 2,   6.9165, 2,  33.8405, 2,  33.8516, 2,    255.3, 2,    247.9, 2,    28.18, 2,    18.32, 2,     0.02, 2,     1.41, 2,    3.822, 6,    2.114, 6,    0.282, 6, -999.000, 9,   2125.5, 2,   2263.3, 2,    7.7366,     25.00,   -999.0, 9,   -999.0,  -999.00, 9,   -999.0,   6.9029, 26.5186,   6.9169, 2, 2, 0.18, 0.08, 0.01, 0.014,  -999.00, 9, -999.00, -999.00, 9, -999.00
49NZ20071008, P14N, 37, 1, 32, X12038, 2, 20071031, 1836, 43.9955, 178.9767, 5650,    199.2, 2,   5.8139, 2,  33.7765, 2,  33.7761, 2,    237.5, 2,    231.9, 2,    37.08, 2,    22.27, 2,     0.02, 2,     1.70, 2,    3.816, 2,    2.096, 2,    0.269, 2, -999.000, 9,   2151.3, 2,   2267.2, 2,    7.6735,     25.00,   -999.0, 9,   -999.0,  -999.00, 9,   -999.0,   5.7974, 26.6110,   5.8144, 2, 2, 0.20, 0.10, 0.01, 0.014,  -999.00, 9, -999.00, -999.00, 9, -999.00
49NZ20071008, P14N, 37, 1, 31, X12003, 2, 20071031, 1836, 43.9955, 178.9767, 5650,    249.3, 2,   5.5408, 2,  33.8331, 2,  33.8287, 6,    188.7, 2,    187.1, 2,    49.33, 2,    26.89, 2,     0.02, 2,     2.01, 2,    3.372, 2,    1.792, 2,    0.210, 2, -999.000, 9,   2187.2, 2,   2277.7, 2,    7.5948,     25.00,   -999.0, 9,   -999.0,  -999.00, 9,   -999.0,   5.5206, 26.6893,   5.5408, 2, 2, 0.23, 0.11, 0.01, 0.015,  -999.00, 9, -999.00, -999.00, 9, -999.00
49NZ20071008, P14N, 37, 1, 30, X12008, 2, 20071031, 1836, 43.9955, 178.9767, 5650,    298.9, 2,   4.7842, 2,  33.8223, 2,  33.8189, 2,    163.0, 2,    160.6, 2,    60.18, 2,    30.70, 2,     0.01, 2,     2.28, 2,    3.121, 2,    1.631, 2,    0.196, 2, -999.000, 9,   2218.9, 2,   2283.4, 2,    7.5293,     25.00,   -999.0, 9,   -999.0,  -999.00, 9,   -999.0,   4.7617, 26.7683,   4.7868, 2, 2, 0.25, 0.12, 0.01, 0.016,  -999.00, 9, -999.00, -999.00, 9, -999.00
49NZ20071008, P14N, 37, 1, 29, X12035, 2, 20071031, 1836, 43.9955, 178.9767, 5650,    400.2, 2,   4.0797, 2,  33.8861, 2,  33.8876, 2,    109.3, 2,    108.6, 2,    78.75, 2,    36.17, 2,     0.01, 2,     2.66, 2,    2.478, 2,    1.244, 2,    0.151, 2, -999.000, 9,   2270.2, 2,   2298.0, 2,    7.4263,     25.00,   -999.0, 9,   -999.0,  -999.00, 9,   -999.0,   4.0514, 26.8948,   4.0797, 2, 2, 0.29, 0.13, 0.01, 0.017,  -999.00, 9, -999.00, -999.00, 9, -999.00
49NZ20071008, P14N, 37, 1, 28, X12034, 2, 20071031, 1836, 43.9955, 178.9767, 5650,    500.0, 2,   4.4113, 2,  34.0855, 2,  34.0854, 6,     73.6, 2,     75.7, 2,    90.03, 2,    37.95, 2,     0.01, 2,     2.77, 2,    1.410, 2,    0.682, 2,    0.066, 2, -999.000, 9,   2293.1, 2,   2319.6, 2,    7.4143,     25.00,   -999.0, 9,   -999.0,  -999.00, 9,   -999.0,   4.3741, 27.0195,   4.4117, 2, 2, 0.32, 0.14, 0.01, 0.017,  -999.00, 9, -999.00, -999.00, 9, -999.00
49NZ20071008, P14N, 37, 1, 27, X12049, 2, 20071031, 1836, 43.9955, 178.9767, 5650,    600.6, 2,   4.0219, 2,  34.1676, 2,  34.1650, 2,     54.3, 2,     53.6, 2,   103.77, 2,    40.43, 2,     0.01, 2,     2.91, 2,    0.934, 2,    0.442, 2,    0.046, 2, -999.000, 9,   2319.3, 2,   2334.1, 2,    7.3791,     25.00,   -999.0, 9,   -999.0,  -999.00, 9,   -999.0,   3.9785, 27.1262,   4.0229, 2, 2, 0.35, 0.15, 0.01, 0.017,  -999.00, 9, -999.00, -999.00, 9, -999.00
49NZ20071008, P14N, 37, 1, 26, X12032, 2, 20071031, 1836, 43.9955, 178.9767, 5650,    699.8, 2,   3.5790, 2,  34.2160, 2,  34.2179, 2,     41.7, 2,     38.0, 2,   117.01, 2,    42.16, 2,     0.01, 2,     3.03, 2,    0.657, 6,    0.309, 6,    0.036, 6, -999.000, 9,   2341.6, 6,   2345.0, 2,    7.3502,     25.00,   -999.0, 9,   -999.0,  -999.00, 9,   -999.0,   3.5303, 27.2094,   3.5792, 2, 2, 0.38, 0.15, 0.01, 0.018,  -999.00, 9, -999.00, -999.00, 9, -999.00
49NZ20071008, P14N, 37, 1, 25, X12043, 2, 20071031, 1836, 43.9955, 178.9767, 5650,    800.5, 2,   3.4304, 2,  34.2904, 2,  34.2911, 2,     33.5, 2,     33.4, 2,   123.61, 2,    42.69, 2,     0.01, 2,     3.07, 2,    0.333, 2,    0.155, 2,    0.021, 2, -999.000, 9,   2352.4, 2,   2359.3, 6,    7.3568,     25.00,   -999.0, 9,   -999.0,  -999.00, 9,   -999.0,   3.3749, 27.2837,   3.4316, 2, 2, 0.39, 0.15, 0.01, 0.018,  -999.00, 9, -999.00, -999.00, 9, -999.00
49NZ20071008, P14N, 37, 1, 24, X12030, 2, 20071031, 1836, 43.9955, 178.9767, 5650,    900.6, 2,   3.0999, 2,  34.3289, 2,  34.3292, 2,     31.2, 2,     28.7, 2,   134.04, 2,    43.23, 2,     0.01, 2,     3.10, 2,    0.281, 2,    0.131, 2,    0.019, 2, -999.000, 9,   2364.8, 2,   2368.7, 2,    7.3442,     25.00,   -999.0, 9,   -999.0,  -999.00, 9,   -999.0,   3.0390, 27.3458,   3.1002, 2, 6, 0.41, 0.15, 0.01, 0.018,  -999.00, 9, -999.00, -999.00, 9, -999.00
49NZ20071008, P14N, 37, 1, 23, X12027, 2, 20071031, 1836, 43.9955, 178.9767, 5650,    999.6, 2,   2.9703, 2,  34.3698, 2,  34.3700, 6,     30.6, 2,     30.3, 2,   138.39, 2,    43.20, 2,     0.01, 2,     3.10, 2,    0.194, 2,    0.089, 2,    0.019, 2, -999.000, 9,   2368.9, 2,   2375.6, 2,    7.3506,     25.00,   -999.0, 9,   -999.0,  -999.00, 9,   -999.0,   2.9029, 27.3908,   2.9705, 2, 2, 0.42, 0.15, 0.01, 0.018,  -999.00, 9, -999.00, -999.00, 9, -999.00
49NZ20071008, P14N, 37, 1, 22, X12028, 2, 20071031, 1836, 43.9955, 178.9767, 5650,   1202.3, 2,   2.6599, 2,  34.4312, 2,  34.4313, 2,     31.8, 2,     31.4, 2,   148.35, 2,    43.42, 2,     0.01, 2,     3.11, 2,    0.111, 2,    0.050, 2,    0.000, 2, -999.000, 9,   2378.7, 2,   2386.3, 2,    7.3586,     25.00,   -999.0, 9,   -999.0,  -999.00, 9,   -999.0,   2.5797, 27.4682,   2.6601, 2, 2, 0.45, 0.15, 0.01, 0.018,  -999.00, 9, -999.00, -999.00, 9, -999.00
49NZ20071008, P14N, 37, 1, 21, X12009, 2, 20071031, 1836, 43.9955, 178.9767, 5650,   1400.8, 2,   2.4180, 2,  34.4853, 2,  34.4856, 2,     36.1, 2,     36.0, 2,   155.26, 2,    43.29, 2,     0.01, 2,     3.08, 2,    0.041, 2,    0.019, 2,    0.000, 2, -999.000, 9,   2383.2, 2,   2396.8, 2,    7.3714,     25.00,   -999.0, 9,   -999.0,  -999.00, 9,   -999.0,   2.3249, 27.5330,   2.4181, 2, 2, 0.46, 0.15, 0.01, 0.018,  -999.00, 9, -999.00, -999.00, 9, -999.00
49NZ20071008, P14N, 37, 1, 20, X12026, 2, 20071031, 1836, 43.9955, 178.9767, 5650,   1600.3, 2,   2.2262, 2,  34.5237, 2,  34.5245, 2,     43.5, 2,     43.5, 2,   160.37, 2,    42.96, 2,     0.01, 2,     3.06, 2,    0.024, 2,    0.011, 2,    0.011, 2, -999.000, 9,   2383.9, 2,   2403.0, 2,    7.3872,     25.00,   -999.0, 9,   -999.0,  -999.00, 9,   -999.0,   2.1196, 27.5805,   2.2264, 2, 6, 0.47, 0.15, 0.01, 0.018,  -999.00, 9, -999.00, -999.00, 9, -999.00
49NZ20071008, P14N, 37, 1, 19, X12025, 2, 20071031, 1836, 43.9955, 178.9767, 5650,   1800.7, 2,   2.0660, 2,  34.5586, 2,  34.5590, 2,     53.6, 2,     53.8, 2,   163.20, 2,    42.45, 2,     0.01, 2,     3.01, 2,    0.008, 2,    0.002, 2,    0.000, 2, -999.000, 9,   2383.2, 2,   2407.9, 2,    7.4097,     25.00,   -999.0, 9,   -999.0,  -999.00, 9,   -999.0,   1.9453, 27.6223,   2.0660, 2, 2, 0.48, 0.15, 0.01, 0.017,  -999.00, 9, -999.00, -999.00, 9, -999.00
49NZ20071008, P14N, 37, 1, 18, X12024, 2, 20071031, 1836, 43.9955, 178.9767, 5650,   1998.4, 2,   1.9580, 2,  34.5819, 2,  34.5824, 2,     61.2, 2,     62.4, 2,   165.15, 2,    41.96, 2,     0.01, 2,     2.97, 2,    0.000, 2,    0.000, 2,    0.000, 2, -999.000, 9,   2380.6, 2,   2412.3, 2,    7.4272,     25.00,   -999.0, 9,   -999.0,  -999.00, 9,   -999.0,   1.8225, 27.6506,   1.9582, 2, 2, 0.48, 0.15, 0.01, 0.017,  -999.00, 9, -999.00, -999.00, 9, -999.00
49NZ20071008, P14N, 37, 1, 17, X12023, 2, 20071031, 1836, 43.9955, 178.9767, 5650,   2200.1, 2,   1.8456, 2,  34.6057, 2,  34.6059, 2,     72.7, 2,     74.8, 2,   165.19, 2,    41.16, 2,     0.01, 2,     2.91, 2,    0.000, 2,    0.000, 2,    0.000, 2, -999.000, 9,   2374.7, 2,   2415.0, 2,    7.4521,     25.00,   -999.0, 9,   -999.0,  -999.00, 9,   -999.0,   1.6948, 27.6793,   1.8457, 2, 2, 0.48, 0.15, 0.01, 0.017,  -999.00, 9, -999.00, -999.00, 9, -999.00
49NZ20071008, P14N, 37, 1, 16, X12022, 2, 20071031, 1836, 43.9955, 178.9767, 5650,   2400.4, 2,   1.7488, 2,  34.6240, 2,  34.6244, 2,     84.5, 2,     87.4, 2,   164.72, 2,    40.41, 2,     0.01, 2,     2.85, 2,    0.000, 2,    0.000, 2,    0.000, 2, -999.000, 9,   2368.1, 6,   2417.9, 2,    7.4747,     25.00,   -999.0, 9,   -999.0,  -999.00, 9,   -999.0,   1.5822, 27.7024,   1.7488, 2, 2, 0.48, 0.15, 0.01, 0.017,  -999.00, 9, -999.00, -999.00, 9, -999.00
49NZ20071008, P14N, 37, 1, 15, X12021, 2, 20071031, 1836, 43.9955, 178.9767, 5650,   2603.4, 2,   1.6710, 2,  34.6387, 2,  34.6389, 6,     94.8, 2,     98.0, 2,   163.89, 2,    39.77, 2,     0.01, 2,     2.80, 2, -999.000, 9, -999.000, 9, -999.000, 9, -999.000, 9,   2360.9, 2,   2418.9, 2,    7.4959,     25.00,   -999.0, 9,   -999.0,  -999.00, 9,   -999.0,   1.4876, 27.7211,   1.6712, 2, 2, 0.48, 0.14, 0.01, 0.017,  -999.00, 9, -999.00, -999.00, 9, -999.00
49NZ20071008, P14N, 37, 1, 14, X12020, 2, 20071031, 1836, 43.9955, 178.9767, 5650,   2802.2, 2,   1.6147, 2,  34.6491, 2,  34.6494, 2,    105.8, 2,    108.2, 2,   162.07, 2,    39.08, 2,     0.01, 2,     2.75, 2, -999.000, 9, -999.000, 9, -999.000, 9, -999.000, 9,   2356.6, 2,   2419.3, 2,    7.5147,     25.00,   -999.0, 9,   -999.0,  -999.00, 9,   -999.0,   1.4142, 27.7348,   1.6148, 2, 6, 0.48, 0.14, 0.01, 0.017,  -999.00, 9, -999.00, -999.00, 9, -999.00
49NZ20071008, P14N, 37, 1, 13, X12019, 2, 20071031, 1836, 43.9955, 178.9767, 5650,   3001.0, 2,   1.5641, 2,  34.6584, 2,  34.6588, 2,    115.8, 2,    117.8, 2,   159.84, 2,    38.40, 2,     0.01, 2,     2.71, 2,    0.000, 2,    0.000, 2,    0.000, 2, -999.000, 9,   2350.1, 2,   2419.8, 2,    7.5313,     25.00,   -999.0, 9,   -999.0,  -999.00, 9,   -999.0,   1.3459, 27.7471,   1.5642, 2, 2, 0.47, 0.14, 0.01, 0.017,  -999.00, 9, -999.00, -999.00, 9, -999.00
49NZ20071008, P14N, 37, 1, 12, X12040, 2, 20071031, 1836, 43.9955, 178.9767, 5650,   3251.8, 2,   1.5167, 2,  34.6674, 2,  34.6680, 2,    126.1, 2,    127.9, 2,   157.47, 2,    37.73, 2,     0.01, 2,     2.65, 2, -999.000, 9, -999.000, 9, -999.000, 9, -999.000, 9,   2343.1, 2,   2419.5, 2,    7.5497,     25.00,   -999.0, 9,   -999.0,  -999.00, 9,   -999.0,   1.2752, 27.7593,   1.5168, 2, 2, 0.47, 0.14, 0.01, 0.017,  -999.00, 9, -999.00, -999.00, 9, -999.00
49NZ20071008, P14N, 37, 1, 11, X12047, 2, 20071031, 1836, 43.9955, 178.9767, 5650,   3500.3, 2,   1.4915, 2,  34.6734, 2,  34.6738, 2,    134.3, 2,    135.2, 2,   155.72, 2,    37.20, 2,     0.01, 2,     2.62, 2, -999.000, 9, -999.000, 9, -999.000, 9, -999.000, 9,   2337.2, 2,   2419.3, 2,    7.5620,     25.00,   -999.0, 9,   -999.0,  -999.00, 9,   -999.0,   1.2256, 27.7676,   1.4915, 2, 2, 0.46, 0.14, 0.01, 0.017,  -999.00, 9, -999.00, -999.00, 9, -999.00
49NZ20071008, P14N, 37, 1, 10, X12017, 2, 20071031, 1836, 43.9955, 178.9767, 5650,   3750.8, 2,   1.4710, 2,  34.6789, 2,  34.6790, 2,    141.3, 2,    141.9, 2,   154.11, 2,    36.91, 2,     0.01, 2,     2.58, 2,    0.000, 2,    0.000, 2,    0.000, 2, -999.000, 9,   2332.1, 2,   2419.3, 2,    7.5746,     25.00,   -999.0, 9,   -999.0,  -999.00, 9,   -999.0,   1.1796, 27.7752,   1.4711, 2, 2, 0.46, 0.14, 0.01, 0.016,  -999.00, 9, -999.00, -999.00, 9, -999.00
49NZ20071008, P14N, 37, 1, 9, X12015, 2, 20071031, 1836, 43.9955, 178.9767, 5650,   4000.3, 2,   1.4609, 2,  34.6831, 2,  34.6827, 2,    146.5, 2,    146.9, 2,   153.56, 2,    36.39, 2,     0.01, 2,     2.56, 2, -999.000, 9, -999.000, 9, -999.000, 9, -999.000, 9,   2329.3, 2,   2419.4, 2,    7.5839,     25.00,   -999.0, 9,   -999.0,  -999.00, 9,   -999.0,   1.1431, 27.7811,   1.4609, 2, 2, 0.46, 0.13, 0.01, 0.016,  -999.00, 9, -999.00, -999.00, 9, -999.00
49NZ20071008, P14N, 37, 1, 8, X12046, 2, 20071031, 1836, 43.9955, 178.9767, 5650,   4249.6, 2,   1.4660, 2,  34.6858, 2,  34.6860, 6,    149.7, 2,    149.8, 2,   154.48, 2,    36.41, 2,     0.01, 2,     2.54, 2, -999.000, 9, -999.000, 9, -999.000, 9, -999.000, 9,   2328.3, 6,   2421.4, 2,    7.5890,     25.00,   -999.0, 9,   -999.0,  -999.00, 9,   -999.0,   1.1205, 27.7848,   1.4660, 2, 2, 0.46, 0.13, 0.01, 0.016,  -999.00, 9, -999.00, -999.00, 9, -999.00
49NZ20071008, P14N, 37, 1, 7, X12044, 2, 20071031, 1836, 43.9955, 178.9767, 5650,   4499.5, 2,   1.4821, 2,  34.6877, 2,  34.6881, 2,    151.4, 2,    151.5, 2,   155.85, 2,    36.28, 2,     0.01, 2,     2.53, 2,    0.000, 2,    0.000, 2,    0.000, 2, -999.000, 9,   2327.6, 2,   2422.3, 6,    7.5935,     25.00,   -999.0, 9,   -999.0,  -999.00, 9,   -999.0,   1.1077, 27.7871,   1.4821, 2, 2, 0.46, 0.13, 0.01, 0.016,  -999.00, 9, -999.00, -999.00, 9, -999.00
49NZ20071008, P14N, 37, 1, 6, X12048, 2, 20071031, 1836, 43.9955, 178.9767, 5650,   4747.0, 2,   1.5065, 2,  34.6885, 2,  34.6888, 2,    152.4, 2,    152.3, 2,   156.45, 2,    36.05, 2,     0.01, 2,     2.53, 2, -999.000, 9, -999.000, 9, -999.000, 9, -999.000, 9,   2327.4, 2,   2421.3, 2,    7.5954,     25.00,   -999.0, 9,   -999.0,  -999.00, 9,   -999.0,   1.1024, 27.7882,   1.5066, 2, 6, 0.46, 0.13, 0.01, 0.016,  -999.00, 9, -999.00, -999.00, 9, -999.00
49NZ20071008, P14N, 37, 1, 5, X12014, 2, 20071031, 1836, 43.9955, 178.9767, 5650,   4997.6, 2,   1.5372, 2,  34.6886, 2,  34.6883, 2,    152.8, 2,    152.4, 2,   156.45, 2,    35.89, 2,     0.01, 2,     2.53, 2, -999.000, 9, -999.000, 9, -999.000, 9, -999.000, 9,   2328.2, 2,   2421.9, 2,    7.5958,     25.00,   -999.0, 9,   -999.0,  -999.00, 9,   -999.0,   1.1020, 27.7883,   1.5372, 2, 2, 0.46, 0.13, 0.01, 0.016,  -999.00, 9, -999.00, -999.00, 9, -999.00
49NZ20071008, P14N, 37, 1, 4, X12006, 2, 20071031, 1836, 43.9955, 178.9767, 5650,   5249.2, 2,   1.5689, 2,  34.6886, 2,  34.6888, 2,    152.8, 2,    152.5, 2,   156.14, 2,    35.93, 2,     0.01, 2,     2.53, 2,    0.000, 2,    0.000, 2,    0.000, 2, -999.000, 9,   2324.8, 3,   2420.7, 2,    7.5953,     25.00,   -999.0, 9,   -999.0,  -999.00, 9,   -999.0,   1.1016, 27.7883,   1.5689, 2, 2, 0.46, 0.13, 0.01, 0.016,  -999.00, 9, -999.00, -999.00, 9, -999.00
49NZ20071008, P14N, 37, 1, 3, X12013, 2, 20071031, 1836, 43.9955, 178.9767, 5650,   5499.4, 2,   1.6018, 2,  34.6887, 2,  34.6888, 2,    152.8, 2,    152.6, 2,   156.30, 2,    36.13, 2,     0.01, 2,     2.53, 2,    0.000, 2,    0.000, 2,    0.000, 2, -999.000, 9,   2326.1, 2,   2415.2, 3,    7.5961,     25.00,   -999.0, 9,   -999.0,  -999.00, 9,   -999.0,   1.1016, 27.7884,   1.6018, 2, 2, 0.46, 0.13, 0.01, 0.016,  -999.00, 9, -999.00, -999.00, 9, -999.00
49NZ20071008, P14N, 37, 1, 2, X12002, 2, 20071031, 1836, 43.9955, 178.9767, 5650,    223.1, 2,   5.5221, 2,  33.7870, 2,  33.7854, 2,    209.2, 2,    209.2, 2,  -999.00, 9,  -999.00, 9,  -999.00, 9,  -999.00, 9, -999.000, 9, -999.000, 9, -999.000, 9, -999.000, 9,   -999.0, 9,   -999.0, 9, -999.0000,   -999.00,   -999.0, 9,   -999.0,  -999.00, 9,   -999.0,   5.5041, 26.6548,   5.5206, 2, 9, -999.00, -999.00, -999.00, -999.000,  -999.00, 9, -999.00, -999.00, 9, -999.00
49NZ20071008, P14N, 37, 1, 1, X12001, 2, 20071031, 1836, 43.9955, 178.9767, 5650,   5755.2, 2,   1.6362, 2,  34.6886, 2,  34.6888, 6,    152.9, 2,    152.6, 2,   156.32, 2,    35.98, 2,     0.01, 2,     2.53, 2, -999.000, 9, -999.000, 9, -999.000, 9, -999.000, 9,   2326.6, 2,   2420.7, 2,    7.5955,     25.00,   -999.0, 9,   -999.0,  -999.00, 9,   -999.0,   1.1016, 27.7883,   1.6362, 2, 2, 0.46, 0.13, 0.01, 0.016,  -999.00, 9, -999.00, -999.00, 9, -999.00