BOTTLE,20221005CCHSIOAMB
EXPOCODE,SECT_ID,STNNBR,CASTNO,SAMPNO,BTLNBR,BTLNBR_FLAG_W,DATE,TIME,LATITUDE,LONGITUDE,DEPTH,CTDPRS,CTDPRS_FLAG_W,CTDTMP,CTDTMP_FLAG_W,CTDSAL,CTDSAL_FLAG_W,SALNTY,SALNTY_FLAG_W,CTDOXY,CTDOXY_FLAG_W,OXYGEN,OXYGEN_FLAG_W,SILCAT,SILCAT_FLAG_W,NITRAT,NITRAT_FLAG_W,NITRIT,NITRIT_FLAG_W,PHSPHT,PHSPHT_FLAG_W,CFC-11,CFC-11_FLAG_W,CFC-12,CFC-12_FLAG_W,CFC113,CFC113_FLAG_W,CCL4,CCL4_FLAG_W,TCARBN,TCARBN_FLAG_W,ALKALI,ALKALI_FLAG_W,PH_TOT,PH_TMP,DELC14,DELC14_FLAG_W,C14ERR,DELC13,DELC13_FLAG_W,C13ERR,THETA,SIG0,SBE35,SBE35_FLAG_W,PH_TOT_FLAG_W,SILUNC,NRAUNC,NRIUNC,PHPUNC,CS-137,CS-137_FLAG_W,CS137ER,PLUTO,PLUTO_FLAG_W,PLUTOER
,,,,,,,,,,,METERS,DBAR,,ITS-90,,PSS-78,,PSS-78,,UMOL/KG,,UMOL/KG,,UMOL/KG,,UMOL/KG,,UMOL/KG,,UMOL/KG,,PMOL/KG,,PMOL/KG,,PMOL/KG,,PMOL/KG,,UMOL/KG,,UMOL/KG,,,DEG C,/MILLE,,/MILLE,/MILLE,,/MILLE,DEG C,KG/M^3,ITS-90,,,UMOL/KG,UMOL/KG,UMOL/KG,UMOL/KG,DM/.1MG,,BQ/M^3,MBQ/M^3,,MBQ/M^3
49NZ20071008, P01, P01_40, 2, 36, X12042, 2, 20071014, 1735, 46.9920, 162.2597, 5654,      9.9, 2,   9.7490, 2,  32.6544, 2,  32.6544, 2,    285.2, 2,    283.7, 2,    17.27, 2,    10.41, 2,     0.17, 2,     1.12, 2,    3.729, 2,    2.079, 2,    0.344, 2, -999.000, 9,   2023.3, 2,   2213.7, 3,    7.8813,     25.00,   -999.0, 9,   -999.0,  -999.00, 9,   -999.0,   9.7479, 25.1624,   9.7492, 2, 6, 0.16, 0.06, 0.01, 0.013,  -999.00, 9, -999.00, -999.00, 9, -999.00
49NZ20071008, P01, P01_40, 2, 35, X12041, 2, 20071014, 1735, 46.9920, 162.2597, 5654,     48.9, 2,   6.1710, 2,  33.3870, 2,  33.3898, 2,    287.9, 2,    284.5, 2,    29.41, 2,    19.27, 2,     0.20, 2,     1.58, 2,    4.661, 2,    2.528, 2,    0.417, 2, -999.000, 9,   2113.0, 6,   2251.1, 2,    7.7416,     25.00,   -999.0, 9,   -999.0,  -999.00, 9,   -999.0,   6.1669, 26.2572,   6.1648, 2, 2, 0.18, 0.09, 0.01, 0.014,  -999.00, 9, -999.00, -999.00, 9, -999.00
49NZ20071008, P01, P01_40, 2, 34, X12016, 2, 20071014, 1735, 46.9920, 162.2597, 5654,     99.4, 2,   3.5008, 2,  33.3592, 2,  33.3671, 2,    282.9, 2,    282.8, 2,    39.91, 2,    23.55, 2,     0.02, 2,     1.85, 2,    4.942, 2,    2.647, 2,    0.420, 2, -999.000, 9,   2143.3, 2,   2253.5, 6,    7.6658,     25.00,   -999.0, 9,   -999.0,  -999.00, 9,   -999.0,   3.4946, 26.5303,   3.4914, 2, 2, 0.21, 0.10, 0.01, 0.015,  -999.00, 9, -999.00, -999.00, 9, -999.00
49NZ20071008, P01, P01_40, 2, 33, X12033, 2, 20071014, 1735, 46.9920, 162.2597, 5654,    149.7, 2,   2.2726, 2,  33.3754, 2,  33.3787, 2,    248.7, 2,    243.9, 2,    57.13, 2,    29.76, 2,     0.01, 2,     2.28, 2,    4.754, 2,    2.506, 2,    0.364, 2, -999.000, 9,   2192.0, 2,   2261.6, 2,    7.5523,     25.00,   -999.0, 9,   -999.0,  -999.00, 9,   -999.0,   2.2646, 26.6497,   2.2727, 2, 6, 0.24, 0.12, 0.01, 0.016,  -999.00, 9, -999.00, -999.00, 9, -999.00
49NZ20071008, P01, P01_40, 2, 32, X12038, 2, 20071014, 1735, 46.9920, 162.2597, 5654,    201.1, 2,   2.5686, 2,  33.5600, 2,  33.5602, 2,    161.2, 2,    166.0, 2,    74.23, 2,    35.59, 2,     0.01, 2,     2.64, 2,    3.763, 2,    1.919, 2,    0.303, 2, -999.000, 9,   2247.5, 2,   2276.4, 2,    7.4388,     25.00,   -999.0, 9,   -999.0,  -999.00, 9,   -999.0,   2.5573, 26.7737,   2.5666, 2, 2, 0.28, 0.13, 0.01, 0.017,  -999.00, 9, -999.00, -999.00, 9, -999.00
49NZ20071008, P01, P01_40, 2, 31, X12003, 2, 20071014, 1735, 46.9920, 162.2597, 5654,    249.9, 2,   2.9257, 2,  33.6926, 2,  33.6925, 6,    124.1, 2,    133.1, 2,    81.56, 2,    37.11, 2,     0.01, 2,     2.74, 2,    3.205, 2,    1.618, 2,    0.241, 2, -999.000, 9,   2267.9, 2,   2288.9, 2,    7.4052,     25.00,   -999.0, 9,   -999.0,  -999.00, 9,   -999.0,   2.9107, 26.8493,   2.9262, 2, 2, 0.30, 0.14, 0.01, 0.017,  -999.00, 9, -999.00, -999.00, 9, -999.00
49NZ20071008, P01, P01_40, 2, 30, X12008, 2, 20071014, 1735, 46.9920, 162.2597, 5654,    302.2, 2,   3.1054, 2,  33.7957, 2,  33.7982, 2,     97.7, 2,    103.5, 2,    88.53, 2,    38.91, 2,     0.01, 2,     2.84, 2,    2.681, 2,    1.341, 2,    0.196, 2, -999.000, 9,   2290.7, 2,   2298.0, 2,    7.3728,     25.00,   -999.0, 9,   -999.0,  -999.00, 9,   -999.0,   3.0867, 26.9159,   3.1051, 2, 2, 0.31, 0.14, 0.01, 0.017,  -999.00, 9, -999.00, -999.00, 9, -999.00
49NZ20071008, P01, P01_40, 2, 29, X12035, 2, 20071014, 1735, 46.9920, 162.2597, 5654,    402.4, 2,   3.3277, 2,  33.9834, 2,  33.9811, 2,     58.8, 2,     58.4, 2,   103.99, 2,    41.81, 2,     0.01, 2,     3.02, 2,    1.739, 2,    0.862, 2,    0.131, 2, -999.000, 9,   2326.2, 2,   2319.0, 2,    7.3294,     25.00,   -999.0, 9,   -999.0,  -999.00, 9,   -999.0,   3.3016, 27.0459,   3.3271, 2, 2, 0.35, 0.15, 0.01, 0.017,  -999.00, 9, -999.00, -999.00, 9, -999.00
49NZ20071008, P01, P01_40, 2, 28, X12034, 2, 20071014, 1735, 46.9920, 162.2597, 5654,    501.9, 2,   3.2947, 2,  34.0963, 2,  34.0956, 6,     43.7, 2,     44.0, 2,   114.70, 2,    42.46, 2,     0.01, 2,     3.06, 2,    1.190, 2,    0.579, 2,    0.088, 2, -999.000, 9,   2341.6, 2,   2333.1, 2,    7.3254,     25.00,   -999.0, 9,   -999.0,  -999.00, 9,   -999.0,   3.2618, 27.1396,   3.2952, 2, 2, 0.37, 0.15, 0.01, 0.018,  -999.00, 9, -999.00, -999.00, 9, -999.00
49NZ20071008, P01, P01_40, 2, 27, X12049, 2, 20071014, 1735, 46.9920, 162.2597, 5654,    599.7, 2,   3.1423, 2,  34.1792, 2,  34.1788, 2,     36.3, 2,     35.5, 2,   124.48, 2,    42.94, 2,     0.01, 2,     3.09, 2,    0.861, 2,    0.415, 2,    0.040, 2, -999.000, 9,   2355.2, 2,   2347.7, 2,    7.3244,     25.00,   -999.0, 9,   -999.0,  -999.00, 9,   -999.0,   3.1031, 27.2205,   3.1420, 2, 2, 0.39, 0.15, 0.01, 0.018,  -999.00, 9, -999.00, -999.00, 9, -999.00
49NZ20071008, P01, P01_40, 2, 26, X12032, 2, 20071014, 1735, 46.9920, 162.2597, 5654,    698.4, 2,   3.0929, 2,  34.2552, 2,  34.2559, 2,     28.3, 2,     32.1, 2,   130.94, 2,    43.14, 2,     0.01, 2,     3.10, 2,    0.572, 6,    0.273, 6,    0.038, 6, -999.000, 9,   2359.6, 6,   2357.2, 2,    7.3345,     25.00,   -999.0, 9,   -999.0,  -999.00, 9,   -999.0,   3.0469, 27.2862,   3.0930, 2, 2, 0.41, 0.15, 0.01, 0.018,  -999.00, 9, -999.00, -999.00, 9, -999.00
49NZ20071008, P01, P01_40, 2, 25, X12043, 2, 20071014, 1735, 46.9920, 162.2597, 5654,    800.6, 2,   3.0367, 2,  34.3268, 2,  34.3245, 2,     31.2, 2,     31.2, 2,   136.04, 2,    43.13, 2,     0.01, 2,     3.10, 2,    0.339, 2,    0.160, 2,    0.020, 2, -999.000, 9,   2365.2, 2,   2367.0, 6,    7.3466,     25.00,   -999.0, 9,   -999.0,  -999.00, 9,   -999.0,   2.9836, 27.3492,   3.0366, 2, 2, 0.42, 0.15, 0.01, 0.018,  -999.00, 9, -999.00, -999.00, 9, -999.00
49NZ20071008, P01, P01_40, 2, 24, X12030, 2, 20071014, 1735, 46.9920, 162.2597, 5654,    903.1, 2,   2.8612, 2,  34.3651, 2,  34.3643, 2,     32.3, 2,     31.6, 2,   140.95, 2,    43.25, 2,     0.00, 2,     3.09, 2,    0.262, 2,    0.122, 2,    0.015, 2, -999.000, 9,   2371.0, 2,   2374.9, 2,    7.3511,     25.00,   -999.0, 9,   -999.0,  -999.00, 9,   -999.0,   2.8018, 27.3961,   2.8614, 2, 6, 0.43, 0.15, 0.01, 0.018,  -999.00, 9, -999.00, -999.00, 9, -999.00
49NZ20071008, P01, P01_40, 2, 23, X12027, 2, 20071014, 1735, 46.9920, 162.2597, 5654,   1000.9, 2,   2.7436, 2,  34.3952, 2,  34.3956, 6,     32.3, 2,     32.0, 2,   145.19, 2,    43.28, 2,     0.00, 2,     3.10, 2,    0.195, 2,    0.091, 2,    0.012, 2, -999.000, 9,   2373.8, 2,   2381.3, 2,    7.3561,     25.00,   -999.0, 9,   -999.0,  -999.00, 9,   -999.0,   2.6778, 27.4310,   2.7435, 2, 2, 0.44, 0.15, 0.01, 0.018,  -999.00, 9, -999.00, -999.00, 9, -999.00
49NZ20071008, P01, P01_40, 2, 22, X12028, 2, 20071014, 1735, 46.9920, 162.2597, 5654,   1199.0, 2,   2.4805, 2,  34.4519, 2,  34.4523, 2,     35.2, 2,     34.2, 2,   154.30, 2,    43.35, 2,     0.00, 2,     3.09, 2,    0.115, 2,    0.054, 2,    0.010, 2, -999.000, 9,   2383.2, 2,   2348.8, 4,    7.3658,     25.00,   -999.0, 9,   -999.0,  -999.00, 9,   -999.0,   2.4022, 27.4999,   2.4805, 2, 2, 0.46, 0.15, 0.01, 0.018,  -999.00, 9, -999.00, -999.00, 9, -999.00
49NZ20071008, P01, P01_40, 2, 21, X12009, 2, 20071014, 1735, 46.9920, 162.2597, 5654,   1402.8, 2,   2.2969, 2,  34.4989, 2,  34.4989, 2,     39.5, 2,     38.7, 2,   159.74, 2,    43.20, 2,     0.00, 2,     3.08, 2,    0.057, 2,    0.026, 2,    0.000, 2, -999.000, 9,   2388.4, 2,   2399.2, 2,    7.3770,     25.00,   -999.0, 9,   -999.0,  -999.00, 9,   -999.0,   2.2049, 27.5538,   2.2968, 2, 2, 0.47, 0.15, 0.01, 0.018,  -999.00, 9, -999.00, -999.00, 9, -999.00
49NZ20071008, P01, P01_40, 2, 20, X12026, 2, 20071014, 1735, 46.9920, 162.2597, 5654,   1601.0, 2,   2.1665, 2,  34.5334, 2,  34.5333, 2,     49.5, 2,     47.7, 2,   161.69, 2,    42.68, 2,     0.00, 2,     3.03, 2,    0.032, 2,    0.015, 2,    0.000, 2, -999.000, 9,   2383.3, 2,   2404.4, 2,    7.3974,     25.00,   -999.0, 9,   -999.0,  -999.00, 9,   -999.0,   2.0605, 27.5930,   2.1665, 2, 6, 0.47, 0.15, 0.01, 0.018,  -999.00, 9, -999.00, -999.00, 9, -999.00
49NZ20071008, P01, P01_40, 2, 19, X12025, 2, 20071014, 1735, 46.9920, 162.2597, 5654,   1798.9, 2,   2.0160, 2,  34.5687, 2,  34.5692, 2,     57.5, 2,     58.0, 2,   164.15, 2,    42.08, 2,     0.00, 2,     2.98, 2,    0.011, 2,    0.005, 2,    0.000, 2, -999.000, 9,   2383.7, 2,   2409.7, 2,    7.4177,     25.00,   -999.0, 9,   -999.0,  -999.00, 9,   -999.0,   1.8961, 27.6343,   2.0161, 2, 2, 0.48, 0.15, 0.01, 0.017,  -999.00, 9, -999.00, -999.00, 9, -999.00
49NZ20071008, P01, P01_40, 2, 18, X12024, 2, 20071014, 1735, 46.9920, 162.2597, 5654,   2001.7, 2,   1.8881, 2,  34.5937, 2,  34.5937, 2,     67.5, 2,     68.2, 2,   166.93, 2,    41.44, 2,     0.00, 2,     2.94, 2,    0.003, 2,    0.001, 2,    0.000, 2, -999.000, 9,   2378.5, 2,   2413.5, 2,    7.4389,     25.00,   -999.0, 9,   -999.0,  -999.00, 9,   -999.0,   1.7534, 27.6653,   1.8882, 2, 2, 0.49, 0.15, 0.01, 0.017,  -999.00, 9, -999.00, -999.00, 9, -999.00
49NZ20071008, P01, P01_40, 2, 17, X12023, 2, 20071014, 1735, 46.9920, 162.2597, 5654,   2201.0, 2,   1.8050, 2,  34.6126, 2,  34.6124, 2,     79.3, 2,     81.2, 2,   164.63, 2,    40.59, 2,     0.00, 2,     2.88, 2,    0.000, 2,    0.000, 2,    0.000, 2, -999.000, 9,   2369.4, 2,   2415.6, 2,    7.4642,     25.00,   -999.0, 9,   -999.0,  -999.00, 9,   -999.0,   1.6547, 27.6879,   1.8050, 2, 2, 0.48, 0.15, 0.01, 0.017,  -999.00, 9, -999.00, -999.00, 9, -999.00
49NZ20071008, P01, P01_40, 2, 16, X12022, 2, 20071014, 1735, 46.9920, 162.2597, 5654,   2400.7, 2,   1.7148, 2,  34.6302, 2,  34.6303, 2,     92.2, 2,     93.6, 2,   163.88, 2,    40.00, 2,     0.00, 2,     2.83, 2,    0.000, 2,    0.000, 2,    0.000, 2, -999.000, 9,   2364.3, 6,   2417.8, 2,    7.4892,     25.00,   -999.0, 9,   -999.0,  -999.00, 9,   -999.0,   1.5487, 27.7098,   1.7148, 2, 2, 0.48, 0.14, 0.01, 0.017,  -999.00, 9, -999.00, -999.00, 9, -999.00
49NZ20071008, P01, P01_40, 2, 15, X12021, 2, 20071014, 1735, 46.9920, 162.2597, 5654,   2601.3, 2,   1.6499, 2,  34.6434, 2,  34.6432, 6,    103.9, 2,    105.6, 2,   160.50, 2,    39.23, 2,     0.00, 2,     2.76, 2, -999.000, 9, -999.000, 9, -999.000, 9, -999.000, 9,   2355.8, 2,   2418.3, 6,    7.5105,     25.00,   -999.0, 9,   -999.0,  -999.00, 9,   -999.0,   1.4671, 27.7264,   1.6500, 2, 2, 0.47, 0.14, 0.01, 0.017,  -999.00, 9, -999.00, -999.00, 9, -999.00
49NZ20071008, P01, P01_40, 2, 14, X12020, 2, 20071014, 1735, 46.9920, 162.2597, 5654,   2800.4, 2,   1.6094, 2,  34.6514, 2,  34.6518, 2,    113.1, 2,    113.0, 2,   159.16, 2,    38.69, 2,     0.00, 2,     2.72, 2,    0.000, 2,    0.000, 2,    0.000, 2, -999.000, 9,   2350.7, 2,   2418.6, 2,    7.5241,     25.00,   -999.0, 9,   -999.0,  -999.00, 9,   -999.0,   1.4092, 27.7370,   1.6094, 2, 2, 0.47, 0.14, 0.01, 0.017,  -999.00, 9, -999.00, -999.00, 9, -999.00
49NZ20071008, P01, P01_40, 2, 13, X12019, 2, 20071014, 1735, 46.9920, 162.2597, 5654,   3001.1, 2,   1.5648, 2,  34.6599, 2,  34.6600, 2,    121.5, 2,    121.9, 2,   156.52, 2,    38.25, 2,     0.01, 2,     2.69, 2, -999.000, 9, -999.000, 9, -999.000, 9, -999.000, 9,   2345.5, 2,   2419.0, 2,    7.5401,     25.00,   -999.0, 9,   -999.0,  -999.00, 9,   -999.0,   1.3466, 27.7483,   1.5648, 2, 2, 0.46, 0.14, 0.01, 0.017,  -999.00, 9, -999.00, -999.00, 9, -999.00
49NZ20071008, P01, P01_40, 2, 12, X12040, 2, 20071014, 1735, 46.9920, 162.2597, 5654,   3250.1, 2,   1.5269, 2,  34.6676, 2,  34.6676, 2,    130.5, 2,    130.4, 2,   154.01, 2,    37.66, 2,     0.00, 2,     2.63, 2, -999.000, 9, -999.000, 9, -999.000, 9, -999.000, 9,   2343.2, 2,   2418.7, 2,    7.5549,     25.00,   -999.0, 9,   -999.0,  -999.00, 9,   -999.0,   1.2853, 27.7587,   1.5269, 2, 2, 0.46, 0.14, 0.01, 0.017,  -999.00, 9, -999.00, -999.00, 9, -999.00
49NZ20071008, P01, P01_40, 2, 11, X12047, 2, 20071014, 1735, 46.9920, 162.2597, 5654,   3500.2, 2,   1.4979, 2,  34.6739, 2,  34.6740, 2,    137.6, 2,    137.8, 2,   151.43, 2,    37.15, 2,     0.00, 2,     2.60, 2,    0.000, 2,    0.000, 2,    0.000, 2, -999.000, 9,   2336.0, 2,   2419.6, 2,    7.5675,     25.00,   -999.0, 9,   -999.0,  -999.00, 9,   -999.0,   1.2318, 27.7676,   1.4978, 2, 2, 0.45, 0.14, 0.01, 0.016,  -999.00, 9, -999.00, -999.00, 9, -999.00
49NZ20071008, P01, P01_40, 2, 10, X12010, 4, 20071014, 1735, 46.9920, 162.2597, 5654,   3749.8, 2,   1.4823, 2,  34.6784, 2,  34.6736, 4,    143.1, 2,    138.3, 4,   151.89, 4,    37.13, 4,     0.00, 4,     2.60, 4, -999.000, 9, -999.000, 9, -999.000, 9, -999.000, 9,   2333.4, 4,   2418.5, 4,    7.5690,     25.00,   -999.0, 9,   -999.0,  -999.00, 9,   -999.0,   1.1907, 27.7740,   1.4822, 2, 4, 0.45, 0.14, 0.01, 0.016,  -999.00, 9, -999.00, -999.00, 9, -999.00
49NZ20071008, P01, P01_40, 2, 9, X12015, 2, 20071014, 1735, 46.9920, 162.2597, 5654,   4000.3, 2,   1.4775, 2,  34.6818, 2,  34.6815, 2,    147.4, 2,    147.4, 2,   149.14, 2,    36.60, 2,     0.00, 2,     2.56, 2, -999.000, 9, -999.000, 9, -999.000, 9, -999.000, 9,   2327.1, 2,   2417.6, 2,    7.5845,     25.00,   -999.0, 9,   -999.0,  -999.00, 9,   -999.0,   1.1592, 27.7789,   1.4776, 2, 2, 0.45, 0.14, 0.01, 0.016,  -999.00, 9, -999.00, -999.00, 9, -999.00
49NZ20071008, P01, P01_40, 2, 8, X12046, 2, 20071014, 1735, 46.9920, 162.2597, 5654,   4250.9, 2,   1.4777, 2,  34.6847, 2,  34.6844, 6,    151.3, 2,    151.3, 2,   148.02, 2,    36.29, 2,     0.00, 2,     2.53, 2,    0.000, 2,    0.000, 2,    0.000, 2, -999.000, 9,   2325.9, 6,   2417.8, 2,    7.5896,     25.00,   -999.0, 9,   -999.0,  -999.00, 9,   -999.0,   1.1317, 27.7831,   1.4779, 2, 2, 0.44, 0.13, 0.01, 0.016,  -999.00, 9, -999.00, -999.00, 9, -999.00
49NZ20071008, P01, P01_40, 2, 7, X12044, 2, 20071014, 1735, 46.9920, 162.2597, 5654,   4499.5, 2,   1.4837, 2,  34.6868, 2,  34.6870, 2,    154.4, 2,    154.2, 2,   147.77, 2,    36.15, 2,     0.00, 2,     2.54, 2, -999.000, 9, -999.000, 9, -999.000, 9, -999.000, 9,   2323.4, 2,   2417.5, 6,    7.5943,     25.00,   -999.0, 9,   -999.0,  -999.00, 9,   -999.0,   1.1093, 27.7863,   1.4837, 2, 2, 0.44, 0.13, 0.01, 0.016,  -999.00, 9, -999.00, -999.00, 9, -999.00
49NZ20071008, P01, P01_40, 2, 6, X12048, 2, 20071014, 1735, 46.9920, 162.2597, 5654,   4750.3, 2,   1.4970, 2,  34.6886, 2,  34.6886, 2,    156.7, 2,    156.5, 2,   146.82, 2,    35.92, 2,     0.00, 2,     2.51, 2, -999.000, 9, -999.000, 9, -999.000, 9, -999.000, 9,   2321.7, 2,   2416.6, 2,    7.5983,     25.00,   -999.0, 9,   -999.0,  -999.00, 9,   -999.0,   1.0928, 27.7889,   1.4970, 2, 6, 0.44, 0.13, 0.01, 0.016,  -999.00, 9, -999.00, -999.00, 9, -999.00
49NZ20071008, P01, P01_40, 2, 5, X12014, 2, 20071014, 1735, 46.9920, 162.2597, 5654,   5000.4, 2,   1.5176, 2,  34.6898, 2,  34.6898, 2,    158.0, 2,    157.8, 2,   147.19, 2,    35.82, 2,     0.00, 2,     2.50, 2,    0.000, 2,    0.002, 2,    0.000, 2, -999.000, 9,   2321.9, 2,   2415.8, 2,    7.5999,     25.00,   -999.0, 9,   -999.0,  -999.00, 9,   -999.0,   1.0827, 27.7905,   1.5177, 2, 2, 0.44, 0.13, 0.01, 0.016,  -999.00, 9, -999.00, -999.00, 9, -999.00
49NZ20071008, P01, P01_40, 2, 4, X12006, 2, 20071014, 1735, 46.9920, 162.2597, 5654,   5250.3, 2,   1.5446, 2,  34.6903, 2,  34.6897, 2,    158.5, 2,    158.1, 2,   148.29, 2,    35.88, 2,     0.00, 2,     2.51, 2, -999.000, 9, -999.000, 9, -999.000, 9, -999.000, 9,   2321.5, 2,   2416.8, 2,    7.6009,     25.00,   -999.0, 9,   -999.0,  -999.00, 9,   -999.0,   1.0780, 27.7913,   1.5445, 2, 2, 0.45, 0.13, 0.01, 0.016,  -999.00, 9, -999.00, -999.00, 9, -999.00
49NZ20071008, P01, P01_40, 2, 3, X12013, 2, 20071014, 1735, 46.9920, 162.2597, 5654,   5499.3, 2,   1.5751, 2,  34.6905, 2,  34.6905, 2,    158.8, 2,    158.4, 2,   148.33, 2,    35.76, 2,     0.00, 2,     2.50, 2,    0.001, 2,    0.002, 2,    0.000, 2, -999.000, 9,   2320.0, 2,   2416.7, 2,    7.6006,     25.00,   -999.0, 9,   -999.0,  -999.00, 9,   -999.0,   1.0759, 27.7916,   1.5749, 2, 2, 0.45, 0.13, 0.01, 0.016,  -999.00, 9, -999.00, -999.00, 9, -999.00
49NZ20071008, P01, P01_40, 2, 2, X12002, 9, 20071014, 1735, 46.9920, 162.2597, 5654,    300.9, 2,   3.1058, 2,  33.7963, 2, -999.0000, 9,     98.2, 2,   -999.0, 9,  -999.00, 9,  -999.00, 9,  -999.00, 9,  -999.00, 9, -999.000, 9, -999.000, 9, -999.000, 9, -999.000, 9,   -999.0, 9,   -999.0, 9, -999.0000,   -999.00,   -999.0, 9,   -999.0,  -999.00, 9,   -999.0,   3.0872, 26.9164,   3.1059, 2, 9, -999.00, -999.00, -999.00, -999.000,  -999.00, 9, -999.00, -999.00, 9, -999.00
49NZ20071008, P01, P01_40, 2, 1, X12001, 2, 20071014, 1735, 46.9920, 162.2597, 5654,   5767.2, 2,   1.6047, 2,  34.6911, 2,  34.6908, 6,    160.1, 2,    159.9, 2,   146.29, 2,    35.70, 2,     0.00, 2,     2.50, 2,    0.000, 2,    0.000, 2,    0.000, 2, -999.000, 9,   2318.7, 2,   2415.4, 2,    7.6025,     25.00,   -999.0, 9,   -999.0,  -999.00, 9,   -999.0,   1.0696, 27.7924,   1.6044, 2, 2, 0.44, 0.13, 0.01, 0.016,  -999.00, 9, -999.00, -999.00, 9, -999.00