BOTTLE,20221005CCHSIOAMB
EXPOCODE,SECT_ID,STNNBR,CASTNO,SAMPNO,BTLNBR,BTLNBR_FLAG_W,DATE,TIME,LATITUDE,LONGITUDE,DEPTH,CTDPRS,CTDPRS_FLAG_W,CTDTMP,CTDTMP_FLAG_W,CTDSAL,CTDSAL_FLAG_W,SALNTY,SALNTY_FLAG_W,CTDOXY,CTDOXY_FLAG_W,OXYGEN,OXYGEN_FLAG_W,SILCAT,SILCAT_FLAG_W,NITRAT,NITRAT_FLAG_W,NITRIT,NITRIT_FLAG_W,PHSPHT,PHSPHT_FLAG_W,CFC-11,CFC-11_FLAG_W,CFC-12,CFC-12_FLAG_W,CFC113,CFC113_FLAG_W,CCL4,CCL4_FLAG_W,TCARBN,TCARBN_FLAG_W,ALKALI,ALKALI_FLAG_W,PH_TOT,PH_TMP,DELC14,DELC14_FLAG_W,C14ERR,DELC13,DELC13_FLAG_W,C13ERR,THETA,SIG0,SBE35,SBE35_FLAG_W,PH_TOT_FLAG_W,SILUNC,NRAUNC,NRIUNC,PHPUNC,CS-137,CS-137_FLAG_W,CS137ER,PLUTO,PLUTO_FLAG_W,PLUTOER
,,,,,,,,,,,METERS,DBAR,,ITS-90,,PSS-78,,PSS-78,,UMOL/KG,,UMOL/KG,,UMOL/KG,,UMOL/KG,,UMOL/KG,,UMOL/KG,,PMOL/KG,,PMOL/KG,,PMOL/KG,,PMOL/KG,,UMOL/KG,,UMOL/KG,,,DEG C,/MILLE,,/MILLE,/MILLE,,/MILLE,DEG C,KG/M^3,ITS-90,,,UMOL/KG,UMOL/KG,UMOL/KG,UMOL/KG,DM/.1MG,,BQ/M^3,MBQ/M^3,,MBQ/M^3
49NZ20071008, P14N, 84, 1, 36, X12042, 2, 20071113, 0539, 20.5073, 178.9980, 3226,     10.0, 2,  27.1766, 2,  35.2393, 2,  35.2393, 2,    201.7, 2,    201.7, 2,     0.95, 2,     0.07, 2,     0.01, 2,     0.05, 2,    1.577, 2,    0.991, 2,    0.334, 4, -999.000, 9,   -999.0, 9,   -999.0, 9, -999.0000,   -999.00,   -999.0, 9,   -999.0,  -999.00, 9,   -999.0,  27.1743, 22.8422,  27.1759, 2, 9, 0.12, 0.03, 0.01, 0.036,  -999.00, 9, -999.00, -999.00, 9, -999.00
49NZ20071008, P14N, 84, 1, 35, X12041, 2, 20071113, 0539, 20.5073, 178.9980, 3226,     50.6, 2,  27.1419, 2,  35.2343, 2,  35.2359, 2,    202.5, 2,    202.0, 2,     0.91, 2,     0.06, 2,     0.01, 2,     0.04, 2,    1.575, 2,    0.978, 2,    0.351, 4, -999.000, 9,   -999.0, 9,   -999.0, 9, -999.0000,   -999.00,   -999.0, 9,   -999.0,  -999.00, 9,   -999.0,  27.1302, 22.8526,  27.1400, 2, 9, 0.12, 0.03, 0.01, 0.040,  -999.00, 9, -999.00, -999.00, 9, -999.00
49NZ20071008, P14N, 84, 1, 34, X12016, 2, 20071113, 0539, 20.5073, 178.9980, 3226,    100.6, 2,  23.6926, 2,  35.2602, 2,  35.2577, 2,    207.9, 2,    207.5, 2,     1.22, 2,     0.07, 2,     0.01, 2,     0.06, 2,    1.901, 2,    1.164, 2,    0.513, 4, -999.000, 9,   -999.0, 9,   -999.0, 9, -999.0000,   -999.00,   -999.0, 9,   -999.0,  -999.00, 9,   -999.0,  23.6716, 23.9353,  23.7039, 2, 9, 0.12, 0.03, 0.01, 0.030,  -999.00, 9, -999.00, -999.00, 9, -999.00
49NZ20071008, P14N, 84, 1, 33, X12033, 2, 20071113, 0539, 20.5073, 178.9980, 3226,    150.0, 2,  20.6828, 2,  35.0706, 2,  35.0679, 2,    193.0, 2,    192.8, 2,     2.07, 2,     1.56, 2,     0.03, 2,     0.19, 2,    2.153, 6,    1.295, 6,    0.221, 4, -999.000, 9,   -999.0, 9,   -999.0, 9, -999.0000,   -999.00,   -999.0, 9,   -999.0,  -999.00, 9,   -999.0,  20.6544, 24.6412,  20.6835, 2, 9, 0.12, 0.04, 0.01, 0.016,  -999.00, 9, -999.00, -999.00, 9, -999.00
49NZ20071008, P14N, 84, 1, 32, X12038, 2, 20071113, 0539, 20.5073, 178.9980, 3226,    203.0, 2,  18.0142, 2,  34.8165, 2,  34.8208, 2,    193.3, 2,    193.4, 2,     3.61, 2,     4.00, 2,     0.01, 2,     0.35, 2,    2.392, 2,    1.422, 2,    0.104, 4, -999.000, 9,   -999.0, 9,   -999.0, 9, -999.0000,   -999.00,   -999.0, 9,   -999.0,  -999.00, 9,   -999.0,  17.9794, 25.1366,  18.0196, 2, 9, 0.13, 0.04, 0.01, 0.014,  -999.00, 9, -999.00, -999.00, 9, -999.00
49NZ20071008, P14N, 84, 1, 31, X12003, 2, 20071113, 0539, 20.5073, 178.9980, 3226,    249.6, 2,  16.3263, 2,  34.6561, 2,  34.6517, 6,    193.1, 2,    193.8, 2,     5.38, 2,     6.27, 2,     0.01, 2,     0.50, 2,    2.563, 2,    1.497, 2,    0.059, 2, -999.000, 9,   -999.0, 9,   -999.0, 9, -999.0000,   -999.00,   -999.0, 9,   -999.0,  -999.00, 9,   -999.0,  16.2863, 25.4173,  16.3270, 2, 9, 0.13, 0.05, 0.01, 0.013,  -999.00, 9, -999.00, -999.00, 9, -999.00
49NZ20071008, P14N, 84, 1, 30, X12008, 2, 20071113, 0539, 20.5073, 178.9980, 3226,    281.3, 2,  15.1319, 2,  34.5516, 2,  34.5414, 2,    197.3, 2,    196.2, 2,     7.09, 2,     7.92, 2,     0.01, 2,     0.61, 2,    2.674, 2,    1.562, 2,    0.049, 2, -999.000, 9,   -999.0, 9,   -999.0, 9, -999.0000,   -999.00,   -999.0, 9,   -999.0,  -999.00, 9,   -999.0,  15.0891, 25.6066,  15.1332, 2, 9, 0.13, 0.05, 0.01, 0.013,  -999.00, 9, -999.00, -999.00, 9, -999.00
49NZ20071008, P14N, 84, 1, 29, X12035, 2, 20071113, 0539, 20.5073, 178.9980, 3226,    371.9, 2,  11.7940, 2,  34.3071, 2,  34.3001, 2,    193.1, 2,    198.4, 2,    15.08, 2,    13.54, 2,     0.01, 2,     0.99, 2,    2.846, 2,    1.610, 2,    0.071, 2, -999.000, 9,   -999.0, 9,   -999.0, 9, -999.0000,   -999.00,   -999.0, 9,   -999.0,  -999.00, 9,   -999.0,  11.7460, 26.0988,  11.7953, 2, 9, 0.15, 0.07, 0.01, 0.013,  -999.00, 9, -999.00, -999.00, 9, -999.00
49NZ20071008, P14N, 84, 1, 28, X12034, 2, 20071113, 0539, 20.5073, 178.9980, 3226,    471.2, 2,   8.9802, 2,  34.1590, 2,  34.1579, 6,    135.6, 2,    136.1, 2,    33.21, 2,    24.50, 2,     0.01, 2,     1.81, 2,    2.234, 2,    1.127, 2,    0.061, 2, -999.000, 9,   -999.0, 9,   -999.0, 9, -999.0000,   -999.00,   -999.0, 9,   -999.0,  -999.00, 9,   -999.0,   8.9288, 26.4709,   8.9829, 2, 9, 0.19, 0.10, 0.01, 0.015,  -999.00, 9, -999.00, -999.00, 9, -999.00
49NZ20071008, P14N, 84, 1, 27, X12049, 2, 20071113, 0539, 20.5073, 178.9980, 3226,    569.9, 2,   6.3325, 2,  34.1349, 2,  34.1341, 2,     81.1, 2,     80.7, 2,    61.92, 2,    34.38, 2,     0.00, 2,     2.52, 2,    1.035, 2,    0.500, 2,    0.028, 2, -999.000, 9,   -999.0, 9,   -999.0, 9, -999.0000,   -999.00,   -999.0, 9,   -999.0,  -999.00, 9,   -999.0,   6.2813, 26.8331,   6.3329, 2, 9, 0.26, 0.13, 0.01, 0.016,  -999.00, 9, -999.00, -999.00, 9, -999.00
49NZ20071008, P14N, 84, 1, 26, X12032, 2, 20071113, 0539, 20.5073, 178.9980, 3226,    669.2, 2,   5.1891, 2,  34.2371, 2,  34.2405, 2,     47.8, 2,     47.2, 2,    83.31, 2,    39.48, 2,     0.01, 2,     2.89, 2,    0.323, 6,    0.161, 6,    0.017, 6, -999.000, 9,   -999.0, 9,   -999.0, 9, -999.0000,   -999.00,   -999.0, 9,   -999.0,  -999.00, 9,   -999.0,   5.1343, 27.0549,   5.1895, 2, 9, 0.30, 0.14, 0.01, 0.017,  -999.00, 9, -999.00, -999.00, 9, -999.00
49NZ20071008, P14N, 84, 1, 25, X12043, 2, 20071113, 0539, 20.5073, 178.9980, 3226,    768.8, 2,   4.8996, 2,  34.3537, 2,  34.3593, 3,     44.2, 2,     44.1, 2,    90.24, 2,    40.43, 2,     0.01, 2,     2.96, 2,    0.101, 2,    0.051, 2,    0.000, 2, -999.000, 9,   -999.0, 9,   -999.0, 9, -999.0000,   -999.00,   -999.0, 9,   -999.0,  -999.00, 9,   -999.0,   4.8376, 27.1814,   4.9006, 2, 9, 0.32, 0.15, 0.01, 0.017,  -999.00, 9, -999.00, -999.00, 9, -999.00
49NZ20071008, P14N, 84, 1, 24, X12030, 2, 20071113, 0539, 20.5073, 178.9980, 3226,    872.9, 2,   4.5930, 2,  34.4392, 2,  34.4394, 2,     51.3, 2,     50.9, 2,    95.47, 2,    40.65, 2,     0.01, 2,     2.94, 2,    0.035, 2,    0.021, 2,    0.000, 2, -999.000, 9,   -999.0, 9,   -999.0, 9, -999.0000,   -999.00,   -999.0, 9,   -999.0,  -999.00, 9,   -999.0,   4.5239, 27.2842,   4.5931, 2, 9, 0.33, 0.15, 0.01, 0.017,  -999.00, 9, -999.00, -999.00, 9, -999.00
49NZ20071008, P14N, 84, 1, 23, X12027, 2, 20071113, 0539, 20.5073, 178.9980, 3226,    973.7, 2,   4.2656, 2,  34.4887, 2,  34.4895, 6,     59.3, 2,     58.6, 2,   101.62, 2,    40.50, 2,     0.01, 2,     2.93, 2,    0.018, 2,    0.013, 2,    0.000, 2, -999.000, 9,   -999.0, 9,   -999.0, 9, -999.0000,   -999.00,   -999.0, 9,   -999.0,  -999.00, 9,   -999.0,   4.1902, 27.3595,   4.2667, 2, 9, 0.34, 0.15, 0.01, 0.017,  -999.00, 9, -999.00, -999.00, 9, -999.00
49NZ20071008, P14N, 84, 1, 22, X12028, 2, 20071113, 0539, 20.5073, 178.9980, 3226,   1131.8, 2,   3.6745, 2,  34.5296, 2,  34.5293, 2,     65.6, 2,     66.3, 2,   113.03, 2,    40.64, 2,     0.00, 2,     2.93, 2,    0.005, 2,    0.004, 2,    0.000, 2, -999.000, 9,   -999.0, 9,   -999.0, 9, -999.0000,   -999.00,   -999.0, 9,   -999.0,  -999.00, 9,   -999.0,   3.5905, 27.4534,   3.6747, 2, 9, 0.37, 0.15, 0.01, 0.017,  -999.00, 9, -999.00, -999.00, 9, -999.00
49NZ20071008, P14N, 84, 1, 21, X12009, 2, 20071113, 0539, 20.5073, 178.9980, 3226,   1333.4, 2,   3.1857, 2,  34.5575, 2,  34.5575, 2,     73.0, 2,     73.5, 2,   122.95, 2,    40.63, 2,     0.01, 2,     2.92, 2,    0.001, 2,    0.003, 2,    0.000, 2, -999.000, 9,   -999.0, 9,   -999.0, 9, -999.0000,   -999.00,   -999.0, 9,   -999.0,  -999.00, 9,   -999.0,   3.0897, 27.5236,   3.1858, 2, 9, 0.39, 0.15, 0.01, 0.017,  -999.00, 9, -999.00, -999.00, 9, -999.00
49NZ20071008, P14N, 84, 1, 20, X12026, 2, 20071113, 0539, 20.5073, 178.9980, 3226,   1531.7, 2,   2.6994, 2,  34.5787, 2,  34.5792, 2,     82.1, 2,     81.8, 2,   133.17, 2,    40.32, 2,     0.01, 2,     2.89, 2,    0.006, 2,    0.003, 2,    0.000, 2, -999.000, 9,   -999.0, 9,   -999.0, 9, -999.0000,   -999.00,   -999.0, 9,   -999.0,  -999.00, 9,   -999.0,   2.5924, 27.5851,   2.6990, 2, 9, 0.41, 0.15, 0.01, 0.017,  -999.00, 9, -999.00, -999.00, 9, -999.00
49NZ20071008, P14N, 84, 1, 19, X12025, 2, 20071113, 0539, 20.5073, 178.9980, 3226,   1733.9, 2,   2.4429, 2,  34.5959, 2,  34.5959, 6,     89.0, 2,     88.5, 2,   138.21, 2,    40.05, 2,     0.01, 2,     2.85, 2,    0.001, 2,    0.001, 2,    0.000, 2, -999.000, 9,   -999.0, 9,   -999.0, 9, -999.0000,   -999.00,   -999.0, 9,   -999.0,  -999.00, 9,   -999.0,   2.3225, 27.6218,   2.4435, 2, 9, 0.42, 0.14, 0.01, 0.017,  -999.00, 9, -999.00, -999.00, 9, -999.00
49NZ20071008, P14N, 84, 1, 18, X12024, 2, 20071113, 0539, 20.5073, 178.9980, 3226,   1933.4, 2,   2.1852, 2,  34.6128, 2,  34.6134, 2,     96.4, 2,     96.1, 2,   143.53, 2,    39.57, 2,     0.01, 2,     2.81, 2,    0.002, 2,    0.002, 2,    0.000, 2, -999.000, 9,   -999.0, 9,   -999.0, 9, -999.0000,   -999.00,   -999.0, 9,   -999.0,  -999.00, 9,   -999.0,   2.0516, 27.6574,   2.1851, 2, 9, 0.43, 0.14, 0.01, 0.017,  -999.00, 9, -999.00, -999.00, 9, -999.00
49NZ20071008, P14N, 84, 1, 17, X12023, 2, 20071113, 0539, 20.5073, 178.9980, 3226,   2129.9, 2,   1.9684, 2,  34.6284, 2,  34.6289, 2,    104.7, 2,    104.5, 2,   147.28, 2,    39.20, 2,     0.00, 2,     2.78, 2,    0.002, 2,    0.001, 2,    0.000, 2, -999.000, 9,   -999.0, 9,   -999.0, 9, -999.0000,   -999.00,   -999.0, 9,   -999.0,  -999.00, 9,   -999.0,   1.8215, 27.6879,   1.9684, 2, 9, 0.44, 0.14, 0.01, 0.017,  -999.00, 9, -999.00, -999.00, 9, -999.00
49NZ20071008, P14N, 84, 1, 16, X12022, 2, 20071113, 0539, 20.5073, 178.9980, 3226,   2330.1, 2,   1.8330, 2,  34.6399, 2,  34.6401, 2,    111.8, 2,    111.6, 2,   148.57, 2,    38.69, 2,     0.01, 2,     2.73, 2,    0.004, 2,    0.002, 2,    0.000, 2, -999.000, 9,   -999.0, 9,   -999.0, 9, -999.0000,   -999.00,   -999.0, 9,   -999.0,  -999.00, 9,   -999.0,   1.6710, 27.7085,   1.8330, 2, 9, 0.45, 0.14, 0.01, 0.017,  -999.00, 9, -999.00, -999.00, 9, -999.00
49NZ20071008, P14N, 84, 1, 15, X12021, 2, 20071113, 0539, 20.5073, 178.9980, 3226,   2529.1, 2,   1.7265, 2,  34.6491, 2,  34.6494, 6,    118.1, 2,    117.8, 2,   149.99, 2,    38.48, 2,     0.00, 2,     2.70, 2, -999.000, 9, -999.000, 9, -999.000, 9, -999.000, 9,   -999.0, 9,   -999.0, 9, -999.0000,   -999.00,   -999.0, 9,   -999.0,  -999.00, 9,   -999.0,   1.5487, 27.7250,   1.7264, 2, 9, 0.45, 0.14, 0.01, 0.017,  -999.00, 9, -999.00, -999.00, 9, -999.00
49NZ20071008, P14N, 84, 1, 14, X12020, 2, 20071113, 0539, 20.5073, 178.9980, 3226,   2729.5, 2,   1.6526, 2,  34.6568, 2,  34.6573, 2,    124.3, 2,    123.9, 2,   150.20, 2,    37.93, 2,     0.00, 2,     2.67, 2, -999.000, 9, -999.000, 9, -999.000, 9, -999.000, 9,   -999.0, 9,   -999.0, 9, -999.0000,   -999.00,   -999.0, 9,   -999.0,  -999.00, 9,   -999.0,   1.4580, 27.7378,   1.6526, 2, 9, 0.45, 0.14, 0.01, 0.017,  -999.00, 9, -999.00, -999.00, 9, -999.00
49NZ20071008, P14N, 84, 1, 13, X12019, 2, 20071113, 0539, 20.5073, 178.9980, 3226,   2930.0, 2,   1.6114, 2,  34.6625, 2,  34.6625, 2,    129.2, 2,    129.0, 2,   149.55, 2,    37.68, 2,     0.01, 2,     2.65, 2,    0.001, 2,    0.002, 2,    0.000, 2, -999.000, 9,   -999.0, 9,   -999.0, 9, -999.0000,   -999.00,   -999.0, 9,   -999.0,  -999.00, 9,   -999.0,   1.3989, 27.7466,   1.6112, 2, 9, 0.45, 0.14, 0.01, 0.017,  -999.00, 9, -999.00, -999.00, 9, -999.00
49NZ20071008, P14N, 84, 1, 12, X12040, 2, 20071113, 0539, 20.5073, 178.9980, 3226,   3170.9, 2,   1.5331, 2,  34.6713, 2,  34.6713, 2,    138.0, 2,    137.9, 2,   147.39, 2,    36.96, 2,     0.00, 2,     2.59, 2, -999.000, 9, -999.000, 9, -999.000, 9, -999.000, 9,   -999.0, 9,   -999.0, 9, -999.0000,   -999.00,   -999.0, 9,   -999.0,  -999.00, 9,   -999.0,   1.2991, 27.7608,   1.5330, 2, 9, 0.44, 0.14, 0.01, 0.016,  -999.00, 9, -999.00, -999.00, 9, -999.00
49NZ20071008, P14N, 84, 1, 11, X12047, 9, 20071113, 0539, 20.5073, 178.9980, 3226,     10.6, 2,  27.1772, 2,  35.2392, 2, -999.0000, 9,    201.7, 2,   -999.0, 9,  -999.00, 9,  -999.00, 9,  -999.00, 9,  -999.00, 9, -999.000, 9, -999.000, 9, -999.000, 9, -999.000, 9,   -999.0, 9,   -999.0, 9, -999.0000,   -999.00,   -999.0, 9,   -999.0,  -999.00, 9,   -999.0,  27.1748, 22.8420,  27.1755, 2, 9, -999.00, -999.00, -999.00, -999.000,  -999.00, 9, -999.00, -999.00, 9, -999.00
49NZ20071008, P14N, 84, 1, 10, X12012, 9, 20071113, 0539, 20.5073, 178.9980, 3226,     50.4, 2,  27.1434, 2,  35.2337, 2, -999.0000, 9,    202.5, 2,   -999.0, 9,  -999.00, 9,  -999.00, 9,  -999.00, 9,  -999.00, 9, -999.000, 9, -999.000, 9, -999.000, 9, -999.000, 9,   -999.0, 9,   -999.0, 9, -999.0000,   -999.00,   -999.0, 9,   -999.0,  -999.00, 9,   -999.0,  27.1318, 22.8516,  27.1410, 2, 9, -999.00, -999.00, -999.00, -999.000,  -999.00, 9, -999.00, -999.00, 9, -999.00
49NZ20071008, P14N, 84, 1, 9, X12015, 9, 20071113, 0539, 20.5073, 178.9980, 3226,    100.5, 2,  23.6942, 2,  35.2590, 2, -999.0000, 9,    208.0, 2,   -999.0, 9,  -999.00, 9,  -999.00, 9,  -999.00, 9,  -999.00, 9, -999.000, 9, -999.000, 9, -999.000, 9, -999.000, 9,   -999.0, 9,   -999.0, 9, -999.0000,   -999.00,   -999.0, 9,   -999.0,  -999.00, 9,   -999.0,  23.6732, 23.9339,  23.7076, 2, 9, -999.00, -999.00, -999.00, -999.000,  -999.00, 9, -999.00, -999.00, 9, -999.00
49NZ20071008, P14N, 84, 1, 8, X12046, 9, 20071113, 0539, 20.5073, 178.9980, 3226,    149.9, 2,  20.6895, 2,  35.0699, 2, -999.0000, 9,    192.9, 2,   -999.0, 9,  -999.00, 9,  -999.00, 9,  -999.00, 9,  -999.00, 9, -999.000, 9, -999.000, 9, -999.000, 9, -999.000, 9,   -999.0, 9,   -999.0, 9, -999.0000,   -999.00,   -999.0, 9,   -999.0,  -999.00, 9,   -999.0,  20.6611, 24.6389,  20.6851, 2, 9, -999.00, -999.00, -999.00, -999.000,  -999.00, 9, -999.00, -999.00, 9, -999.00
49NZ20071008, P14N, 84, 1, 7, X12044, 9, 20071113, 0539, 20.5073, 178.9980, 3226,    205.2, 2,  17.9589, 2,  34.8118, 2, -999.0000, 9,    193.3, 2,   -999.0, 9,  -999.00, 9,  -999.00, 9,  -999.00, 9,  -999.00, 9, -999.000, 9, -999.000, 9, -999.000, 9, -999.000, 9,   -999.0, 9,   -999.0, 9, -999.0000,   -999.00,   -999.0, 9,   -999.0,  -999.00, 9,   -999.0,  17.9238, 25.1467,  17.9635, 2, 9, -999.00, -999.00, -999.00, -999.000,  -999.00, 9, -999.00, -999.00, 9, -999.00
49NZ20071008, P14N, 84, 1, 6, X12048, 9, 20071113, 0539, 20.5073, 178.9980, 3226,    249.6, 2,  16.3198, 2,  34.6551, 2, -999.0000, 9,    193.2, 2,   -999.0, 9,  -999.00, 9,  -999.00, 9,  -999.00, 9,  -999.00, 9, -999.000, 9, -999.000, 9, -999.000, 9, -999.000, 9,   -999.0, 9,   -999.0, 9, -999.0000,   -999.00,   -999.0, 9,   -999.0,  -999.00, 9,   -999.0,  16.2798, 25.4180,  16.3192, 2, 9, -999.00, -999.00, -999.00, -999.000,  -999.00, 9, -999.00, -999.00, 9, -999.00
49NZ20071008, P14N, 84, 1, 5, X12014, 9, 20071113, 0539, 20.5073, 178.9980, 3226,    281.8, 2,  15.0754, 2,  34.5473, 2, -999.0000, 9,    197.5, 2,   -999.0, 9,  -999.00, 9,  -999.00, 9,  -999.00, 9,  -999.00, 9, -999.000, 9, -999.000, 9, -999.000, 9, -999.000, 9,   -999.0, 9,   -999.0, 9, -999.0000,   -999.00,   -999.0, 9,   -999.0,  -999.00, 9,   -999.0,  15.0326, 25.6157,  15.0864, 2, 9, -999.00, -999.00, -999.00, -999.000,  -999.00, 9, -999.00, -999.00, 9, -999.00
49NZ20071008, P14N, 84, 1, 4, X12006, 9, 20071113, 0539, 20.5073, 178.9980, 3226,    370.8, 2,  11.8143, 2,  34.3080, 2, -999.0000, 9,    193.4, 2,   -999.0, 9,  -999.00, 9,  -999.00, 9,  -999.00, 9,  -999.00, 9, -999.000, 9, -999.000, 9, -999.000, 9, -999.000, 9,   -999.0, 9,   -999.0, 9, -999.0000,   -999.00,   -999.0, 9,   -999.0,  -999.00, 9,   -999.0,  11.7664, 26.0957,  11.8154, 2, 9, -999.00, -999.00, -999.00, -999.000,  -999.00, 9, -999.00, -999.00, 9, -999.00
49NZ20071008, P14N, 84, 1, 3, X12013, 9, 20071113, 0539, 20.5073, 178.9980, 3226,    469.4, 2,   9.0126, 2,  34.1571, 2, -999.0000, 9,    136.5, 2,   -999.0, 9,  -999.00, 9,  -999.00, 9,  -999.00, 9,  -999.00, 9, -999.000, 9, -999.000, 9, -999.000, 9, -999.000, 9,   -999.0, 9,   -999.0, 9, -999.0000,   -999.00,   -999.0, 9,   -999.0,  -999.00, 9,   -999.0,   8.9613, 26.4642,   9.0161, 2, 9, -999.00, -999.00, -999.00, -999.000,  -999.00, 9, -999.00, -999.00, 9, -999.00
49NZ20071008, P14N, 84, 1, 2, X12002, 9, 20071113, 0539, 20.5073, 178.9980, 3226,   3239.0, 2,   1.5144, 2,  34.6734, 2, -999.0000, 9,    140.3, 2,   -999.0, 9,  -999.00, 9,  -999.00, 9,  -999.00, 9,  -999.00, 9, -999.000, 9, -999.000, 9, -999.000, 9, -999.000, 9,   -999.0, 9,   -999.0, 9, -999.0000,   -999.00,   -999.0, 9,   -999.0,  -999.00, 9,   -999.0,   1.2741, 27.7642,   1.5145, 2, 9, -999.00, -999.00, -999.00, -999.000,  -999.00, 9, -999.00, -999.00, 9, -999.00
49NZ20071008, P14N, 84, 1, 1, X12001, 2, 20071113, 0539, 20.5073, 178.9980, 3226,   3239.1, 2,   1.5146, 2,  34.6735, 2,  34.6737, 6,    140.3, 2,    140.2, 2,   147.07, 2,    36.93, 2,     0.00, 2,     2.59, 2,    0.000, 2,    0.000, 2,    0.000, 2, -999.000, 9,   -999.0, 9,   -999.0, 9, -999.0000,   -999.00,   -999.0, 9,   -999.0,  -999.00, 9,   -999.0,   1.2743, 27.7643,   1.5146, 2, 9, 0.44, 0.14, 0.01, 0.016,  -999.00, 9, -999.00, -999.00, 9, -999.00