BOTTLE,20221005CCHSIOAMB
EXPOCODE,SECT_ID,STNNBR,CASTNO,SAMPNO,BTLNBR,BTLNBR_FLAG_W,DATE,TIME,LATITUDE,LONGITUDE,DEPTH,CTDPRS,CTDPRS_FLAG_W,CTDTMP,CTDTMP_FLAG_W,CTDSAL,CTDSAL_FLAG_W,SALNTY,SALNTY_FLAG_W,CTDOXY,CTDOXY_FLAG_W,OXYGEN,OXYGEN_FLAG_W,SILCAT,SILCAT_FLAG_W,NITRAT,NITRAT_FLAG_W,NITRIT,NITRIT_FLAG_W,PHSPHT,PHSPHT_FLAG_W,CFC-11,CFC-11_FLAG_W,CFC-12,CFC-12_FLAG_W,CFC113,CFC113_FLAG_W,CCL4,CCL4_FLAG_W,TCARBN,TCARBN_FLAG_W,ALKALI,ALKALI_FLAG_W,PH_TOT,PH_TMP,DELC14,DELC14_FLAG_W,C14ERR,DELC13,DELC13_FLAG_W,C13ERR,THETA,SIG0,SBE35,SBE35_FLAG_W,PH_TOT_FLAG_W,SILUNC,NRAUNC,NRIUNC,PHPUNC,CS-137,CS-137_FLAG_W,CS137ER,PLUTO,PLUTO_FLAG_W,PLUTOER
,,,,,,,,,,,METERS,DBAR,,ITS-90,,PSS-78,,PSS-78,,UMOL/KG,,UMOL/KG,,UMOL/KG,,UMOL/KG,,UMOL/KG,,UMOL/KG,,PMOL/KG,,PMOL/KG,,PMOL/KG,,PMOL/KG,,UMOL/KG,,UMOL/KG,,,DEG C,/MILLE,,/MILLE,/MILLE,,/MILLE,DEG C,KG/M^3,ITS-90,,,UMOL/KG,UMOL/KG,UMOL/KG,UMOL/KG,DM/.1MG,,BQ/M^3,MBQ/M^3,,MBQ/M^3
49NZ20071008, P01, P01_57, 1, 36, X12042, 2, 20071019, 1052, 47.0062, 174.9590, 5695,     10.6, 2,   9.4651, 2,  32.6578, 2,  32.6579, 2,    287.9, 2,    286.7, 2,    23.51, 2,    14.92, 2,     0.25, 2,     1.40, 2,    3.755, 2,    2.113, 2,    0.364, 2, -999.000, 9,   -999.0, 9,   -999.0, 9, -999.0000,   -999.00,   -999.0, 9,   -999.0,  -999.00, 9,   -999.0,   9.4640, 25.2110,   9.4634, 2, 9, 0.17, 0.07, 0.01, 0.014,  -999.00, 9, -999.00, -999.00, 9, -999.00
49NZ20071008, P01, P01_57, 1, 35, X12041, 2, 20071019, 1052, 47.0062, 174.9590, 5695,     50.3, 2,   4.9117, 2,  33.0529, 2,  33.0324, 2,    303.1, 2,    304.0, 2,    27.82, 2,    17.64, 2,     0.50, 2,     1.57, 2,    4.840, 2,    2.667, 2,    0.464, 2, -999.000, 9,   -999.0, 9,   -999.0, 9, -999.0000,   -999.00,   -999.0, 9,   -999.0,  -999.00, 9,   -999.0,   4.9080, 26.1420,   4.9540, 2, 9, 0.18, 0.08, 0.00, 0.014,  -999.00, 9, -999.00, -999.00, 9, -999.00
49NZ20071008, P01, P01_57, 1, 34, X12016, 2, 20071019, 1052, 47.0062, 174.9590, 5695,    100.4, 2,   3.0269, 2,  33.1194, 2,  33.1424, 2,    307.8, 2,    300.8, 2,    36.68, 2,    22.37, 2,     0.02, 2,     1.81, 2,    5.217, 2,    2.834, 2,    0.473, 2, -999.000, 9,   -999.0, 9,   -999.0, 9, -999.0000,   -999.00,   -999.0, 9,   -999.0,  -999.00, 9,   -999.0,   3.0210, 26.3822,   3.0262, 2, 9, 0.20, 0.10, 0.01, 0.015,  -999.00, 9, -999.00, -999.00, 9, -999.00
49NZ20071008, P01, P01_57, 1, 33, X12033, 2, 20071019, 1052, 47.0062, 174.9590, 5695,    151.1, 2,   3.8443, 2,  33.6031, 2,  33.6070, 2,    207.1, 2,    201.7, 2,    55.34, 2,    29.41, 2,     0.01, 2,     2.23, 2,    4.036, 6,    2.131, 6,    0.296, 6, -999.000, 9,   -999.0, 9,   -999.0, 9, -999.0000,   -999.00,   -999.0, 9,   -999.0,  -999.00, 9,   -999.0,   3.8343, 26.6916,   3.8445, 2, 9, 0.24, 0.12, 0.01, 0.016,  -999.00, 9, -999.00, -999.00, 9, -999.00
49NZ20071008, P01, P01_57, 1, 32, X12038, 2, 20071019, 1052, 47.0062, 174.9590, 5695,    200.6, 2,   3.3378, 2,  33.6730, 2,  33.6776, 2,    152.1, 2,    152.1, 2,    70.72, 2,    34.46, 2,     0.01, 2,     2.57, 2,    3.498, 2,    1.817, 2,    0.244, 2, -999.000, 9,   -999.0, 9,   -999.0, 9, -999.0000,   -999.00,   -999.0, 9,   -999.0,  -999.00, 9,   -999.0,   3.3252, 26.7962,   3.3384, 2, 9, 0.27, 0.13, 0.01, 0.016,  -999.00, 9, -999.00, -999.00, 9, -999.00
49NZ20071008, P01, P01_57, 1, 31, X12003, 2, 20071019, 1052, 47.0062, 174.9590, 5695,    250.6, 2,   3.6514, 2,  33.8190, 2,  33.8183, 6,    111.0, 2,    108.0, 2,    80.87, 2,    37.37, 2,     0.01, 2,     2.73, 2,    2.775, 2,    1.408, 2,    0.193, 2, -999.000, 9,   -999.0, 9,   -999.0, 9, -999.0000,   -999.00,   -999.0, 9,   -999.0,  -999.00, 9,   -999.0,   3.6349, 26.8831,   3.6507, 2, 9, 0.30, 0.14, 0.01, 0.017,  -999.00, 9, -999.00, -999.00, 9, -999.00
49NZ20071008, P01, P01_57, 1, 30, X12008, 2, 20071019, 1052, 47.0062, 174.9590, 5695,    301.3, 2,   3.7171, 2,  33.8954, 2,  33.8970, 2,     87.2, 2,     86.1, 2,    87.21, 2,    38.80, 2,     0.01, 2,     2.83, 2,    2.345, 2,    1.163, 2,    0.161, 2, -999.000, 9,   -999.0, 9,   -999.0, 9, -999.0000,   -999.00,   -999.0, 9,   -999.0,  -999.00, 9,   -999.0,   3.6969, 26.9378,   3.7170, 2, 9, 0.31, 0.14, 0.01, 0.017,  -999.00, 9, -999.00, -999.00, 9, -999.00
49NZ20071008, P01, P01_57, 1, 29, X12035, 2, 20071019, 1052, 47.0062, 174.9590, 5695,    400.4, 2,   3.6480, 2,  34.0200, 2,  34.0224, 2,     55.0, 2,     53.2, 2,   101.30, 2,    41.43, 2,     0.01, 2,     2.99, 2,    1.588, 2,    0.762, 2,    0.106, 2, -999.000, 9,   -999.0, 9,   -999.0, 9, -999.0000,   -999.00,   -999.0, 9,   -999.0,  -999.00, 9,   -999.0,   3.6210, 27.0445,   3.6477, 2, 9, 0.34, 0.15, 0.01, 0.017,  -999.00, 9, -999.00, -999.00, 9, -999.00
49NZ20071008, P01, P01_57, 1, 28, X12034, 2, 20071019, 1052, 47.0062, 174.9590, 5695,    500.3, 2,   3.5828, 2,  34.1402, 2,  34.1437, 6,     41.1, 2,     39.0, 2,   112.79, 2,    42.27, 2,     0.01, 2,     3.05, 2,    0.982, 2,    0.474, 2,    0.057, 2, -999.000, 9,   -999.0, 9,   -999.0, 9, -999.0000,   -999.00,   -999.0, 9,   -999.0,  -999.00, 9,   -999.0,   3.5488, 27.1473,   3.5830, 2, 9, 0.37, 0.15, 0.01, 0.018,  -999.00, 9, -999.00, -999.00, 9, -999.00
49NZ20071008, P01, P01_57, 1, 27, X12049, 2, 20071019, 1052, 47.0062, 174.9590, 5695,    600.2, 2,   3.3930, 2,  34.2224, 2,  34.2228, 2,     32.7, 2,     30.4, 2,   122.57, 2,    42.88, 2,     0.01, 2,     3.08, 2,    0.626, 2,    0.298, 2,    0.041, 4, -999.000, 9,   -999.0, 9,   -999.0, 9, -999.0000,   -999.00,   -999.0, 9,   -999.0,  -999.00, 9,   -999.0,   3.3526, 27.2316,   3.3924, 2, 9, 0.39, 0.15, 0.01, 0.018,  -999.00, 9, -999.00, -999.00, 9, -999.00
49NZ20071008, P01, P01_57, 1, 26, X12032, 2, 20071019, 1052, 47.0062, 174.9590, 5695,    699.8, 2,   3.2348, 2,  34.2797, 2,  34.2805, 2,     29.9, 2,     29.1, 2,   129.29, 2,    42.93, 2,     0.01, 2,     3.10, 2,    0.431, 6,    0.207, 6,    0.027, 6, -999.000, 9,   -999.0, 9,   -999.0, 9, -999.0000,   -999.00,   -999.0, 9,   -999.0,  -999.00, 9,   -999.0,   3.1879, 27.2928,   3.2347, 2, 9, 0.40, 0.15, 0.01, 0.018,  -999.00, 9, -999.00, -999.00, 9, -999.00
49NZ20071008, P01, P01_57, 1, 25, X12043, 2, 20071019, 1052, 47.0062, 174.9590, 5695,    800.4, 2,   3.0349, 2,  34.3296, 2,  34.3303, 2,     27.9, 2,     27.9, 2,   136.38, 2,    43.22, 2,     0.01, 2,     3.11, 2,    0.298, 2,    0.141, 2,    0.020, 2, -999.000, 9,   -999.0, 9,   -999.0, 9, -999.0000,   -999.00,   -999.0, 9,   -999.0,  -999.00, 9,   -999.0,   2.9818, 27.3516,   3.0346, 2, 9, 0.42, 0.15, 0.01, 0.018,  -999.00, 9, -999.00, -999.00, 9, -999.00
49NZ20071008, P01, P01_57, 1, 24, X12030, 2, 20071019, 1052, 47.0062, 174.9590, 5695,    901.8, 2,   2.8872, 2,  34.3766, 2,  34.3744, 2,     27.9, 2,     28.3, 2,   141.06, 2,    43.31, 2,     0.01, 2,     3.10, 2,    0.187, 2,    0.088, 2,    0.018, 2, -999.000, 9,   -999.0, 9,   -999.0, 9, -999.0000,   -999.00,   -999.0, 9,   -999.0,  -999.00, 9,   -999.0,   2.8277, 27.4030,   2.8876, 2, 9, 0.43, 0.15, 0.01, 0.018,  -999.00, 9, -999.00, -999.00, 9, -999.00
49NZ20071008, P01, P01_57, 1, 23, X12027, 2, 20071019, 1052, 47.0062, 174.9590, 5695,    999.3, 2,   2.7618, 2,  34.4063, 2,  34.4068, 6,     28.4, 2,     29.2, 2,   145.52, 2,    43.24, 2,     0.01, 2,     3.10, 2,    0.133, 2,    0.063, 2,    0.011, 2, -999.000, 9,   -999.0, 9,   -999.0, 9, -999.0000,   -999.00,   -999.0, 9,   -999.0,  -999.00, 9,   -999.0,   2.6960, 27.4383,   2.7619, 2, 9, 0.44, 0.15, 0.01, 0.018,  -999.00, 9, -999.00, -999.00, 9, -999.00
49NZ20071008, P01, P01_57, 1, 22, X12028, 2, 20071019, 1052, 47.0062, 174.9590, 5695,   1200.9, 2,   2.4978, 2,  34.4627, 2,  34.4637, 2,     32.3, 2,     32.8, 2,   153.93, 2,    43.32, 2,     0.01, 2,     3.10, 2,    0.070, 2,    0.030, 2,    0.008, 2, -999.000, 9,   -999.0, 9,   -999.0, 9, -999.0000,   -999.00,   -999.0, 9,   -999.0,  -999.00, 9,   -999.0,   2.4192, 27.5071,   2.4977, 2, 9, 0.46, 0.15, 0.01, 0.018,  -999.00, 9, -999.00, -999.00, 9, -999.00
49NZ20071008, P01, P01_57, 1, 21, X12009, 2, 20071019, 1052, 47.0062, 174.9590, 5695,   1401.4, 2,   2.2916, 2,  34.5064, 2,  34.5058, 2,     39.7, 2,     39.7, 2,   159.16, 2,    42.89, 2,     0.01, 2,     3.08, 2,    0.041, 2,    0.017, 2,    0.004, 2, -999.000, 9,   -999.0, 9,   -999.0, 9, -999.0000,   -999.00,   -999.0, 9,   -999.0,  -999.00, 9,   -999.0,   2.1998, 27.5602,   2.2916, 2, 9, 0.47, 0.15, 0.01, 0.018,  -999.00, 9, -999.00, -999.00, 9, -999.00
49NZ20071008, P01, P01_57, 1, 20, X12026, 2, 20071019, 1052, 47.0062, 174.9590, 5695,   1599.3, 2,   2.1409, 2,  34.5419, 2,  34.5418, 2,     48.3, 2,     49.1, 2,   162.28, 2,    42.58, 2,     0.00, 2,     3.03, 2,    0.018, 2,    0.007, 2,    0.005, 2, -999.000, 9,   -999.0, 9,   -999.0, 9, -999.0000,   -999.00,   -999.0, 9,   -999.0,  -999.00, 9,   -999.0,   2.0353, 27.6018,   2.1408, 2, 9, 0.48, 0.15, 0.01, 0.018,  -999.00, 9, -999.00, -999.00, 9, -999.00
49NZ20071008, P01, P01_57, 1, 19, X12025, 2, 20071019, 1052, 47.0062, 174.9590, 5695,   1800.6, 2,   1.9900, 2,  34.5729, 2,  34.5726, 2,     57.5, 2,     59.1, 2,   164.98, 2,    41.88, 2,     0.01, 2,     2.99, 2,    0.007, 2,    0.000, 2,    0.007, 2, -999.000, 9,   -999.0, 9,   -999.0, 9, -999.0000,   -999.00,   -999.0, 9,   -999.0,  -999.00, 9,   -999.0,   1.8703, 27.6396,   1.9900, 2, 9, 0.48, 0.15, 0.01, 0.017,  -999.00, 9, -999.00, -999.00, 9, -999.00
49NZ20071008, P01, P01_57, 1, 18, X12024, 2, 20071019, 1052, 47.0062, 174.9590, 5695,   2000.0, 2,   1.8905, 2,  34.5938, 2,  34.5936, 2,     69.5, 2,     69.7, 2,   165.78, 2,    41.25, 2,     0.01, 2,     2.94, 2,    0.000, 2,    0.000, 2,    0.000, 2, -999.000, 9,   -999.0, 9,   -999.0, 9, -999.0000,   -999.00,   -999.0, 9,   -999.0,  -999.00, 9,   -999.0,   1.7559, 27.6652,   1.8905, 2, 9, 0.48, 0.15, 0.01, 0.017,  -999.00, 9, -999.00, -999.00, 9, -999.00
49NZ20071008, P01, P01_57, 1, 17, X12023, 2, 20071019, 1052, 47.0062, 174.9590, 5695,   2200.2, 2,   1.7860, 2,  34.6141, 2,  34.6139, 2,     80.6, 2,     81.2, 2,   166.15, 2,    40.62, 2,     0.01, 2,     2.89, 2,    0.000, 2,    0.000, 2,    0.000, 2, -999.000, 9,   -999.0, 9,   -999.0, 9, -999.0000,   -999.00,   -999.0, 9,   -999.0,  -999.00, 9,   -999.0,   1.6361, 27.6905,   1.7860, 2, 9, 0.48, 0.15, 0.01, 0.017,  -999.00, 9, -999.00, -999.00, 9, -999.00
49NZ20071008, P01, P01_57, 1, 16, X12022, 2, 20071019, 1052, 47.0062, 174.9590, 5695,   2399.8, 2,   1.7152, 2,  34.6284, 2,  34.6282, 2,     91.8, 2,     91.3, 2,   165.08, 2,    39.93, 2,     0.01, 2,     2.84, 2,    0.000, 2,    0.000, 2,    0.000, 2, -999.000, 9,   -999.0, 9,   -999.0, 9, -999.0000,   -999.00,   -999.0, 9,   -999.0,  -999.00, 9,   -999.0,   1.5492, 27.7083,   1.7152, 2, 9, 0.48, 0.14, 0.01, 0.017,  -999.00, 9, -999.00, -999.00, 9, -999.00
49NZ20071008, P01, P01_57, 1, 15, X12021, 2, 20071019, 1052, 47.0062, 174.9590, 5695,   2601.0, 2,   1.6495, 2,  34.6411, 2,  34.6409, 6,    102.0, 2,    101.4, 2,   164.23, 2,    39.31, 2,     0.01, 2,     2.79, 2, -999.000, 9, -999.000, 9, -999.000, 9, -999.000, 9,   -999.0, 9,   -999.0, 9, -999.0000,   -999.00,   -999.0, 9,   -999.0,  -999.00, 9,   -999.0,   1.4668, 27.7245,   1.6492, 2, 9, 0.48, 0.14, 0.01, 0.017,  -999.00, 9, -999.00, -999.00, 9, -999.00
49NZ20071008, P01, P01_57, 1, 14, X12020, 2, 20071019, 1052, 47.0062, 174.9590, 5695,   2800.6, 2,   1.5956, 2,  34.6514, 2,  34.6515, 2,    111.2, 2,    111.5, 2,   161.79, 2,    38.67, 2,     0.01, 2,     2.74, 2,    0.000, 2,    0.000, 2,    0.000, 2, -999.000, 9,   -999.0, 9,   -999.0, 9, -999.0000,   -999.00,   -999.0, 9,   -999.0,  -999.00, 9,   -999.0,   1.3956, 27.7380,   1.5956, 2, 9, 0.47, 0.14, 0.01, 0.017,  -999.00, 9, -999.00, -999.00, 9, -999.00
49NZ20071008, P01, P01_57, 1, 13, X12019, 2, 20071019, 1052, 47.0062, 174.9590, 5695,   2998.8, 2,   1.5558, 2,  34.6596, 2,  34.6595, 2,    119.2, 2,    119.8, 2,   160.24, 2,    38.13, 2,     0.01, 2,     2.69, 2, -999.000, 9, -999.000, 9, -999.000, 9, -999.000, 9,   -999.0, 9,   -999.0, 9, -999.0000,   -999.00,   -999.0, 9,   -999.0,  -999.00, 9,   -999.0,   1.3380, 27.7486,   1.5558, 2, 9, 0.47, 0.14, 0.01, 0.017,  -999.00, 9, -999.00, -999.00, 9, -999.00
49NZ20071008, P01, P01_57, 1, 12, X12040, 2, 20071019, 1052, 47.0062, 174.9590, 5695,   3248.7, 2,   1.5174, 2,  34.6677, 2,  34.6675, 2,    128.6, 2,    128.9, 2,   157.40, 2,    37.35, 2,     0.01, 2,     2.64, 2, -999.000, 9, -999.000, 9, -999.000, 9, -999.000, 9,   -999.0, 9,   -999.0, 9, -999.0000,   -999.00,   -999.0, 9,   -999.0,  -999.00, 9,   -999.0,   1.2761, 27.7595,   1.5175, 2, 9, 0.47, 0.14, 0.01, 0.017,  -999.00, 9, -999.00, -999.00, 9, -999.00
49NZ20071008, P01, P01_57, 1, 11, X12047, 2, 20071019, 1052, 47.0062, 174.9590, 5695,   3499.4, 2,   1.4885, 2,  34.6743, 2,  34.6744, 2,    135.9, 2,    136.5, 2,   155.37, 2,    37.13, 2,     0.01, 2,     2.61, 2,    0.000, 2,    0.000, 2,    0.000, 2, -999.000, 9,   -999.0, 9,   -999.0, 9, -999.0000,   -999.00,   -999.0, 9,   -999.0,  -999.00, 9,   -999.0,   1.2228, 27.7685,   1.4886, 2, 9, 0.46, 0.14, 0.01, 0.017,  -999.00, 9, -999.00, -999.00, 9, -999.00
49NZ20071008, P01, P01_57, 1, 10, X12010, 2, 20071019, 1052, 47.0062, 174.9590, 5695,   3749.6, 2,   1.4723, 2,  34.6792, 2,  34.6807, 3,    141.9, 2,    142.2, 2,   154.12, 2,    36.64, 2,     0.01, 2,     2.58, 2, -999.000, 9, -999.000, 9, -999.000, 9, -999.000, 9,   -999.0, 9,   -999.0, 9, -999.0000,   -999.00,   -999.0, 9,   -999.0,  -999.00, 9,   -999.0,   1.1810, 27.7754,   1.4724, 2, 9, 0.46, 0.14, 0.01, 0.016,  -999.00, 9, -999.00, -999.00, 9, -999.00
49NZ20071008, P01, P01_57, 1, 9, X12015, 2, 20071019, 1052, 47.0062, 174.9590, 5695,   4000.2, 2,   1.4673, 2,  34.6829, 2,  34.6827, 2,    146.6, 2,    146.8, 2,   152.97, 2,    36.40, 2,     0.01, 2,     2.56, 2, -999.000, 9, -999.000, 9, -999.000, 9, -999.000, 9,   -999.0, 9,   -999.0, 9, -999.0000,   -999.00,   -999.0, 9,   -999.0,  -999.00, 9,   -999.0,   1.1493, 27.7805,   1.4674, 2, 9, 0.46, 0.13, 0.01, 0.016,  -999.00, 9, -999.00, -999.00, 9, -999.00
49NZ20071008, P01, P01_57, 1, 8, X12046, 2, 20071019, 1052, 47.0062, 174.9590, 5695,   4249.4, 2,   1.4717, 2,  34.6856, 2,  34.6854, 6,    149.9, 2,    150.0, 2,   152.87, 2,    36.23, 2,     0.01, 2,     2.55, 2,    0.000, 2,    0.000, 2,    0.000, 2, -999.000, 9,   -999.0, 9,   -999.0, 9, -999.0000,   -999.00,   -999.0, 9,   -999.0,  -999.00, 9,   -999.0,   1.1261, 27.7842,   1.4717, 2, 9, 0.46, 0.13, 0.01, 0.016,  -999.00, 9, -999.00, -999.00, 9, -999.00
49NZ20071008, P01, P01_57, 1, 7, X12044, 2, 20071019, 1052, 47.0062, 174.9590, 5695,   4500.9, 2,   1.4847, 2,  34.6874, 2,  34.6877, 2,    152.2, 2,    152.2, 2,   153.17, 2,    36.01, 2,     0.01, 2,     2.53, 2, -999.000, 9, -999.000, 9, -999.000, 9, -999.000, 9,   -999.0, 9,   -999.0, 9, -999.0000,   -999.00,   -999.0, 9,   -999.0,  -999.00, 9,   -999.0,   1.1101, 27.7868,   1.4847, 2, 9, 0.46, 0.13, 0.01, 0.016,  -999.00, 9, -999.00, -999.00, 9, -999.00
49NZ20071008, P01, P01_57, 1, 6, X12048, 2, 20071019, 1052, 47.0062, 174.9590, 5695,   4750.1, 2,   1.5079, 2,  34.6886, 2,  34.6883, 2,    153.0, 2,    153.0, 2,   153.87, 2,    35.98, 2,     0.01, 2,     2.53, 2, -999.000, 9, -999.000, 9, -999.000, 9, -999.000, 9,   -999.0, 9,   -999.0, 9, -999.0000,   -999.00,   -999.0, 9,   -999.0,  -999.00, 9,   -999.0,   1.1034, 27.7881,   1.5082, 2, 9, 0.46, 0.13, 0.01, 0.016,  -999.00, 9, -999.00, -999.00, 9, -999.00
49NZ20071008, P01, P01_57, 1, 5, X12014, 2, 20071019, 1052, 47.0062, 174.9590, 5695,   4998.8, 2,   1.5349, 2,  34.6890, 2,  34.6890, 2,    153.5, 2,    153.3, 2,   155.16, 2,    36.10, 2,     0.01, 2,     2.53, 2,    0.000, 2,    0.000, 2,    0.000, 2, -999.000, 9,   -999.0, 9,   -999.0, 9, -999.0000,   -999.00,   -999.0, 9,   -999.0,  -999.00, 9,   -999.0,   1.0996, 27.7888,   1.5351, 2, 9, 0.46, 0.13, 0.01, 0.016,  -999.00, 9, -999.00, -999.00, 9, -999.00
49NZ20071008, P01, P01_57, 1, 4, X12006, 2, 20071019, 1052, 47.0062, 174.9590, 5695,   5249.3, 2,   1.5639, 2,  34.6892, 2,  34.6892, 2,    154.4, 2,    154.0, 2,   154.35, 2,    36.11, 2,     0.01, 2,     2.53, 2, -999.000, 9, -999.000, 9, -999.000, 9, -999.000, 9,   -999.0, 9,   -999.0, 9, -999.0000,   -999.00,   -999.0, 9,   -999.0,  -999.00, 9,   -999.0,   1.0967, 27.7891,   1.5639, 2, 9, 0.46, 0.13, 0.01, 0.016,  -999.00, 9, -999.00, -999.00, 9, -999.00
49NZ20071008, P01, P01_57, 1, 3, X12013, 2, 20071019, 1052, 47.0062, 174.9590, 5695,   5499.3, 2,   1.5926, 2,  34.6896, 2,  34.6899, 2,    155.2, 2,    155.0, 2,   152.65, 2,    35.91, 2,     0.01, 2,     2.52, 2, -999.000, 9, -999.000, 9, -999.000, 9, -999.000, 9,   -999.0, 9,   -999.0, 9, -999.0000,   -999.00,   -999.0, 9,   -999.0,  -999.00, 9,   -999.0,   1.0928, 27.7897,   1.5926, 2, 9, 0.45, 0.13, 0.01, 0.016,  -999.00, 9, -999.00, -999.00, 9, -999.00
49NZ20071008, P01, P01_57, 1, 2, X12002, 2, 20071019, 1052, 47.0062, 174.9590, 5695,   3749.7, 2,   1.4722, 2,  34.6792, 2,  34.6792, 2,    141.9, 2,    142.3, 2,   154.00, 2,    36.79, 2,     0.01, 2,     2.59, 2, -999.000, 9, -999.000, 9, -999.000, 9, -999.000, 9,   -999.0, 9,   -999.0, 9, -999.0000,   -999.00,   -999.0, 9,   -999.0,  -999.00, 9,   -999.0,   1.1809, 27.7754,   1.4722, 2, 9, 0.46, 0.14, 0.01, 0.016,  -999.00, 9, -999.00, -999.00, 9, -999.00
49NZ20071008, P01, P01_57, 1, 1, X12001, 2, 20071019, 1052, 47.0062, 174.9590, 5695,   5775.6, 2,   1.6253, 2,  34.6900, 2,  34.6899, 6,    156.1, 2,    156.1, 2,   151.70, 2,    35.76, 2,     0.01, 2,     2.51, 2,    0.000, 2,    0.000, 2,    0.000, 2, -999.000, 9,   -999.0, 9,   -999.0, 9, -999.0000,   -999.00,   -999.0, 9,   -999.0,  -999.00, 9,   -999.0,   1.0884, 27.7903,   1.6253, 2, 9, 0.45, 0.13, 0.01, 0.016,  -999.00, 9, -999.00, -999.00, 9, -999.00