BOTTLE,20221005CCHSIOAMB
EXPOCODE,SECT_ID,STNNBR,CASTNO,SAMPNO,BTLNBR,BTLNBR_FLAG_W,DATE,TIME,LATITUDE,LONGITUDE,DEPTH,CTDPRS,CTDPRS_FLAG_W,CTDTMP,CTDTMP_FLAG_W,CTDSAL,CTDSAL_FLAG_W,SALNTY,SALNTY_FLAG_W,CTDOXY,CTDOXY_FLAG_W,OXYGEN,OXYGEN_FLAG_W,SILCAT,SILCAT_FLAG_W,NITRAT,NITRAT_FLAG_W,NITRIT,NITRIT_FLAG_W,PHSPHT,PHSPHT_FLAG_W,CFC-11,CFC-11_FLAG_W,CFC-12,CFC-12_FLAG_W,CFC113,CFC113_FLAG_W,CCL4,CCL4_FLAG_W,TCARBN,TCARBN_FLAG_W,ALKALI,ALKALI_FLAG_W,PH_TOT,PH_TMP,DELC14,DELC14_FLAG_W,C14ERR,DELC13,DELC13_FLAG_W,C13ERR,THETA,SIG0,SBE35,SBE35_FLAG_W,PH_TOT_FLAG_W,SILUNC,NRAUNC,NRIUNC,PHPUNC,CS-137,CS-137_FLAG_W,CS137ER,PLUTO,PLUTO_FLAG_W,PLUTOER
,,,,,,,,,,,METERS,DBAR,,ITS-90,,PSS-78,,PSS-78,,UMOL/KG,,UMOL/KG,,UMOL/KG,,UMOL/KG,,UMOL/KG,,UMOL/KG,,PMOL/KG,,PMOL/KG,,PMOL/KG,,PMOL/KG,,UMOL/KG,,UMOL/KG,,,DEG C,/MILLE,,/MILLE,/MILLE,,/MILLE,DEG C,KG/M^3,ITS-90,,,UMOL/KG,UMOL/KG,UMOL/KG,UMOL/KG,DM/.1MG,,BQ/M^3,MBQ/M^3,,MBQ/M^3
49NZ20071008, P01, P01_56, 1, 36, X12042, 2, 20071019, 0330, 47.0052, 173.8300, 5811,     10.2, 2,   8.9389, 2,  32.6605, 2,  32.6603, 2,    290.5, 2,    290.4, 2,    21.56, 2,    14.04, 2,     0.25, 2,     1.33, 2,    3.846, 2,    2.125, 2,    0.369, 2, -999.000, 9,   2034.9, 2,   2208.9, 2,    7.8377,     25.00,   -999.0, 1,   -999.0,  -999.00, 1,   -999.0,   8.9378, 25.2963,   8.9379, 2, 6, 0.17, 0.07, 0.01, 0.014,  -999.00, 9, -999.00, -999.00, 9, -999.00
49NZ20071008, P01, P01_56, 1, 35, X12041, 2, 20071019, 0330, 47.0052, 173.8300, 5811,     50.2, 2,   8.5948, 2,  32.6688, 2,  32.6928, 2,    290.5, 2,    291.7, 2,    23.51, 2,    14.46, 2,     0.29, 2,     1.38, 2,    4.060, 2,    2.249, 2,    0.381, 2, -999.000, 9,   2048.1, 6,   2211.7, 2,    7.8159,     25.00,   -999.0, 1,   -999.0,  -999.00, 1,   -999.0,   8.5897, 25.3560,   8.5926, 2, 2, 0.17, 0.07, 0.01, 0.014,  -999.00, 9, -999.00, -999.00, 9, -999.00
49NZ20071008, P01, P01_56, 1, 34, X12016, 2, 20071019, 0330, 47.0052, 173.8300, 5811,    100.8, 2,   2.9915, 2,  33.0389, 2,  33.0413, 2,    302.9, 2,    303.6, 2,    43.53, 2,    25.62, 2,     0.02, 2,     2.01, 2,    5.298, 2,    2.862, 2,    0.470, 2, -999.000, 9,   2128.8, 2,   2232.9, 6,    7.6566,     25.00,   -999.0, 1,   -999.0,  -999.00, 1,   -999.0,   2.9856, 26.3210,   2.9920, 2, 2, 0.21, 0.10, 0.01, 0.015,  -999.00, 9, -999.00, -999.00, 9, -999.00
49NZ20071008, P01, P01_56, 1, 33, X12033, 2, 20071019, 0330, 47.0052, 173.8300, 5811,    150.3, 2,   3.4817, 2,  33.5914, 2,  33.6012, 2,    126.3, 2,    124.6, 2,    73.43, 2,    38.29, 2,     0.01, 2,     2.78, 2,    3.271, 6,    1.654, 6,    0.243, 6, -999.000, 9,   2262.2, 2,   2274.1, 2,    7.3892,     25.00,   -999.0, 1,   -999.0,  -999.00, 1,   -999.0,   3.4722, 26.7174,   3.4820, 2, 6, 0.28, 0.14, 0.01, 0.017,  -999.00, 9, -999.00, -999.00, 9, -999.00
49NZ20071008, P01, P01_56, 1, 32, X12038, 2, 20071019, 0330, 47.0052, 173.8300, 5811,    199.3, 2,   3.6111, 2,  33.8297, 2,  33.8329, 2,     47.1, 2,     54.8, 2,    89.33, 2,    43.19, 2,     0.01, 2,     3.08, 2,    2.326, 2,    1.139, 2,    0.162, 2, -999.000, 9,   2315.0, 2,   2296.2, 2,    7.2935,     25.00,   -999.0, 1,   -999.0,  -999.00, 1,   -999.0,   3.5981, 26.8951,   3.6107, 2, 2, 0.32, 0.15, 0.01, 0.018,  -999.00, 9, -999.00, -999.00, 9, -999.00
49NZ20071008, P01, P01_56, 1, 31, X12003, 2, 20071019, 0330, 47.0052, 173.8300, 5811,    248.9, 2,   3.7092, 2,  33.9293, 2,  33.9330, 6,     27.4, 2,     28.6, 2,    96.66, 2,    44.75, 2,     0.01, 2,     3.18, 2,    1.817, 2,    0.871, 2,    0.127, 2, -999.000, 9,   2332.7, 2,   2307.0, 2,    7.2643,     25.00,   -999.0, 1,   -999.0,  -999.00, 1,   -999.0,   3.6926, 26.9652,   3.7089, 2, 2, 0.33, 0.16, 0.01, 0.018,  -999.00, 9, -999.00, -999.00, 9, -999.00
49NZ20071008, P01, P01_56, 1, 30, X12008, 2, 20071019, 0330, 47.0052, 173.8300, 5811,    280.4, 2,   3.6742, 2,  33.9775, 2,  33.9783, 2,     21.6, 2,     23.7, 2,   100.84, 2,    44.97, 2,     0.01, 2,     3.19, 2,    1.579, 2,    0.747, 2,    0.109, 2, -999.000, 9,   2342.1, 2,   2312.3, 2,    7.2660,     25.00,   -999.0, 1,   -999.0,  -999.00, 1,   -999.0,   3.6555, 27.0072,   3.6741, 2, 2, 0.34, 0.16, 0.01, 0.018,  -999.00, 9, -999.00, -999.00, 9, -999.00
49NZ20071008, P01, P01_56, 1, 29, X12035, 2, 20071019, 0330, 47.0052, 173.8300, 5811,    369.3, 2,   3.6200, 2,  34.0864, 2,  34.0866, 2,     23.2, 2,     17.2, 2,   110.70, 2,    44.89, 2,     0.01, 2,     3.19, 2,    1.017, 2,    0.477, 2,    0.059, 2, -999.000, 9,   2353.4, 2,   2328.8, 2,    7.2773,     25.00,   -999.0, 1,   -999.0,  -999.00, 1,   -999.0,   3.5952, 27.0998,   3.6197, 2, 2, 0.36, 0.16, 0.01, 0.018,  -999.00, 9, -999.00, -999.00, 9, -999.00
49NZ20071008, P01, P01_56, 1, 28, X12034, 2, 20071019, 0330, 47.0052, 173.8300, 5811,    470.3, 2,   3.4821, 2,  34.1715, 2,  34.1718, 6,     17.5, 2,     16.7, 2,   119.34, 2,    44.49, 2,     0.01, 2,     3.16, 2,    0.661, 2,    0.316, 2,    0.049, 2, -999.000, 9,   2359.3, 2,   2341.8, 2,    7.2950,     25.00,   -999.0, 1,   -999.0,  -999.00, 1,   -999.0,   3.4506, 27.1817,   3.4817, 2, 2, 0.38, 0.16, 0.01, 0.018,  -999.00, 9, -999.00, -999.00, 9, -999.00
49NZ20071008, P01, P01_56, 1, 27, X12049, 2, 20071019, 0330, 47.0052, 173.8300, 5811,    569.6, 2,   3.2922, 2,  34.2266, 2,  34.2268, 2,     18.8, 2,     18.7, 2,   126.92, 2,    44.24, 2,     0.01, 2,     3.16, 2,    0.514, 2,    0.243, 2,    0.028, 2, -999.000, 9,   2364.8, 2,   2353.4, 2,    7.3066,     25.00,   -999.0, 1,   -999.0,  -999.00, 1,   -999.0,   3.2544, 27.2442,   3.2919, 2, 2, 0.40, 0.16, 0.01, 0.018,  -999.00, 9, -999.00, -999.00, 9, -999.00
49NZ20071008, P01, P01_56, 1, 26, X12032, 2, 20071019, 0330, 47.0052, 173.8300, 5811,    670.9, 2,   3.1411, 2,  34.2893, 2,  34.2893, 2,     19.6, 2,     18.2, 2,   133.82, 2,    44.13, 2,     0.01, 2,     3.16, 2,    0.327, 6,    0.156, 6,    0.023, 6, -999.000, 9,   2371.2, 6,   2362.4, 2,    7.3160,     25.00,   -999.0, 1,   -999.0,  -999.00, 1,   -999.0,   3.0968, 27.3089,   3.1408, 2, 2, 0.41, 0.16, 0.01, 0.018,  -999.00, 9, -999.00, -999.00, 9, -999.00
49NZ20071008, P01, P01_56, 1, 25, X12043, 2, 20071019, 0330, 47.0052, 173.8300, 5811,    770.6, 2,   3.0020, 2,  34.3328, 2,  34.3331, 2,     17.6, 2,     17.3, 2,   139.24, 2,    44.32, 2,     0.01, 2,     3.17, 2,    0.205, 2,    0.100, 2,    0.012, 2, -999.000, 9,   2376.3, 2,   2370.3, 6,    7.3199,     25.00,   -999.0, 1,   -999.0,  -999.00, 1,   -999.0,   2.9513, 27.3569,   3.0019, 2, 2, 0.43, 0.16, 0.01, 0.018,  -999.00, 9, -999.00, -999.00, 9, -999.00
49NZ20071008, P01, P01_56, 1, 24, X12030, 2, 20071019, 0330, 47.0052, 173.8300, 5811,    870.4, 2,   2.8337, 2,  34.3718, 2,  34.3731, 2,     20.7, 2,     20.0, 2,   144.37, 2,    44.17, 2,     0.01, 2,     3.14, 2,    0.158, 2,    0.077, 2,    0.013, 2, -999.000, 9,   2380.0, 2,   2377.3, 2,    7.3276,     25.00,   -999.0, 1,   -999.0,  -999.00, 1,   -999.0,   2.7768, 27.4036,   2.8335, 2, 6, 0.44, 0.16, 0.01, 0.018,  -999.00, 9, -999.00, -999.00, 9, -999.00
49NZ20071008, P01, P01_56, 1, 23, X12027, 2, 20071019, 0330, 47.0052, 173.8300, 5811,    971.7, 2,   2.7049, 2,  34.4073, 2,  34.4074, 6,     21.0, 2,     21.0, 2,   148.95, 2,    44.19, 2,     0.01, 2,     3.14, 2,    0.102, 2,    0.052, 2,    0.007, 2, -999.000, 9,   2383.8, 2,   2383.9, 2,    7.3354,     25.00,   -999.0, 1,   -999.0,  -999.00, 1,   -999.0,   2.6416, 27.4438,   2.7048, 2, 2, 0.45, 0.16, 0.01, 0.018,  -999.00, 9, -999.00, -999.00, 9, -999.00
49NZ20071008, P01, P01_56, 1, 22, X12028, 2, 20071019, 0330, 47.0052, 173.8300, 5811,   1130.3, 2,   2.4757, 2,  34.4593, 2,  34.4604, 2,     26.1, 2,     27.1, 2,   155.97, 2,    43.89, 2,     0.01, 2,     3.12, 2,    0.061, 2,    0.028, 2,    0.006, 2, -999.000, 9,   2387.4, 2,   2392.5, 2,    7.3527,     25.00,   -999.0, 1,   -999.0,  -999.00, 1,   -999.0,   2.4025, 27.5058,   2.4755, 2, 2, 0.46, 0.16, 0.01, 0.018,  -999.00, 9, -999.00, -999.00, 9, -999.00
49NZ20071008, P01, P01_56, 1, 21, X12009, 2, 20071019, 0330, 47.0052, 173.8300, 5811,   1330.9, 2,   2.2611, 2,  34.5084, 2,  34.5084, 2,     35.2, 2,     35.4, 2,   161.26, 2,    43.46, 2,     0.01, 2,     3.08, 2,    0.024, 2,    0.012, 2,    0.000, 2, -999.000, 9,   2387.8, 2,   2401.6, 2,    7.3720,     25.00,   -999.0, 1,   -999.0,  -999.00, 1,   -999.0,   2.1749, 27.5638,   2.2610, 2, 2, 0.47, 0.15, 0.01, 0.018,  -999.00, 9, -999.00, -999.00, 9, -999.00
49NZ20071008, P01, P01_56, 1, 20, X12026, 2, 20071019, 0330, 47.0052, 173.8300, 5811,   1529.9, 2,   2.0770, 2,  34.5496, 2,  34.5495, 2,     46.7, 2,     47.9, 2,   164.82, 2,    42.81, 2,     0.01, 2,     3.03, 2,    0.013, 2,    0.007, 2,    0.000, 2, -999.000, 9,   2385.6, 2,   2408.0, 2,    7.3983,     25.00,   -999.0, 1,   -999.0,  -999.00, 1,   -999.0,   1.9776, 27.6126,   2.0770, 2, 6, 0.48, 0.15, 0.01, 0.018,  -999.00, 9, -999.00, -999.00, 9, -999.00
49NZ20071008, P01, P01_56, 1, 19, X12025, 2, 20071019, 0330, 47.0052, 173.8300, 5811,   1730.0, 2,   1.9573, 2,  34.5764, 2,  34.5765, 2,     59.6, 2,     59.3, 2,   166.05, 2,    42.10, 2,     0.01, 2,     2.98, 2,    0.009, 2,    0.005, 2,    0.000, 2, -999.000, 9,   2383.5, 2,   2412.3, 2,    7.4210,     25.00,   -999.0, 1,   -999.0,  -999.00, 1,   -999.0,   1.8437, 27.6445,   1.9572, 2, 2, 0.48, 0.15, 0.01, 0.017,  -999.00, 9, -999.00, -999.00, 9, -999.00
49NZ20071008, P01, P01_56, 1, 18, X12024, 2, 20071019, 0330, 47.0052, 173.8300, 5811,   1929.8, 2,   1.8523, 2,  34.5990, 2,  34.5986, 2,     70.8, 2,     71.5, 2,   165.90, 2,    41.30, 2,     0.01, 2,     2.93, 2,    0.003, 2,    0.002, 2,    0.000, 2, -999.000, 9,   2374.4, 2,   2414.8, 2,    7.4452,     25.00,   -999.0, 1,   -999.0,  -999.00, 1,   -999.0,   1.7240, 27.6717,   1.8523, 2, 2, 0.48, 0.15, 0.01, 0.017,  -999.00, 9, -999.00, -999.00, 9, -999.00
49NZ20071008, P01, P01_56, 1, 17, X12023, 2, 20071019, 0330, 47.0052, 173.8300, 5811,   2129.1, 2,   1.7620, 2,  34.6172, 2,  34.6174, 2,     83.4, 2,     83.8, 2,   165.35, 2,    40.54, 2,     0.01, 2,     2.87, 2,    0.000, 2,    0.000, 2,    0.000, 2, -999.000, 9,   2371.4, 2,   2417.0, 2,    7.4680,     25.00,   -999.0, 1,   -999.0,  -999.00, 1,   -999.0,   1.6185, 27.6943,   1.7619, 2, 2, 0.48, 0.15, 0.01, 0.017,  -999.00, 9, -999.00, -999.00, 9, -999.00
49NZ20071008, P01, P01_56, 1, 16, X12022, 2, 20071019, 0330, 47.0052, 173.8300, 5811,   2329.9, 2,   1.6761, 2,  34.6343, 2,  34.6343, 2,     95.7, 2,     97.0, 2,   163.43, 2,    39.71, 2,     0.01, 2,     2.81, 2,    0.000, 2,    0.000, 2,    0.000, 2, -999.000, 9,   2363.2, 6,   2417.6, 2,    7.4940,     25.00,   -999.0, 1,   -999.0,  -999.00, 1,   -999.0,   1.5169, 27.7154,   1.6762, 2, 2, 0.48, 0.14, 0.01, 0.017,  -999.00, 9, -999.00, -999.00, 9, -999.00
49NZ20071008, P01, P01_56, 1, 15, X12021, 2, 20071019, 0330, 47.0052, 173.8300, 5811,   2529.0, 2,   1.6258, 2,  34.6442, 2,  34.6442, 2,    104.4, 2,    105.6, 2,   162.07, 2,    39.20, 2,     0.01, 2,     2.77, 2,    0.002, 2,    0.002, 2,    0.000, 2, -999.000, 9,   2357.3, 2,   2419.1, 6,    7.5094,     25.00,   -999.0, 1,   -999.0,  -999.00, 1,   -999.0,   1.4500, 27.7282,   1.6258, 2, 2, 0.48, 0.14, 0.01, 0.017,  -999.00, 9, -999.00, -999.00, 9, -999.00
49NZ20071008, P01, P01_56, 1, 14, X12020, 2, 20071019, 0330, 47.0052, 173.8300, 5811,   2730.8, 2,   1.5831, 2,  34.6527, 2,  34.6526, 6,    112.1, 2,    113.1, 2,   161.04, 2,    38.75, 2,     0.01, 2,     2.73, 2, -999.000, 9, -999.000, 9, -999.000, 9, -999.000, 9,   2354.6, 2,   2419.8, 2,    7.5217,     25.00,   -999.0, 1,   -999.0,  -999.00, 1,   -999.0,   1.3898, 27.7394,   1.5831, 2, 2, 0.47, 0.14, 0.01, 0.017,  -999.00, 9, -999.00, -999.00, 9, -999.00
49NZ20071008, P01, P01_56, 1, 13, X12019, 2, 20071019, 0330, 47.0052, 173.8300, 5811,   2930.4, 2,   1.5374, 2,  34.6614, 2,  34.6615, 2,    120.4, 2,    121.9, 2,   158.97, 2,    38.16, 2,     0.01, 2,     2.69, 2, -999.000, 9, -999.000, 9, -999.000, 9, -999.000, 9,   2345.0, 2,   2419.7, 2,    7.5392,     25.00,   -999.0, 1,   -999.0,  -999.00, 1,   -999.0,   1.3265, 27.7509,   1.5375, 2, 2, 0.47, 0.14, 0.01, 0.017,  -999.00, 9, -999.00, -999.00, 9, -999.00
49NZ20071008, P01, P01_56, 1, 12, X12040, 2, 20071019, 0330, 47.0052, 173.8300, 5811,   3170.2, 2,   1.5011, 2,  34.6689, 2,  34.6689, 2,    129.0, 2,    130.4, 2,   156.34, 2,    37.55, 2,     0.01, 2,     2.63, 2,    0.000, 2,    0.000, 2,    0.000, 2, -999.000, 9,   2342.0, 2,   2419.1, 2,    7.5548,     25.00,   -999.0, 1,   -999.0,  -999.00, 1,   -999.0,   1.2679, 27.7610,   1.5011, 2, 2, 0.46, 0.14, 0.01, 0.017,  -999.00, 9, -999.00, -999.00, 9, -999.00
49NZ20071008, P01, P01_56, 1, 11, X12047, 2, 20071019, 0330, 47.0052, 173.8300, 5811,   3420.2, 2,   1.4819, 2,  34.6742, 2,  34.6743, 2,    135.9, 2,    136.5, 2,   154.67, 2,    37.16, 2,     0.01, 2,     2.61, 2, -999.000, 9, -999.000, 9, -999.000, 9, -999.000, 9,   2335.1, 2,   2419.6, 2,    7.5661,     25.00,   -999.0, 1,   -999.0,  -999.00, 1,   -999.0,   1.2244, 27.7683,   1.4820, 2, 2, 0.46, 0.14, 0.01, 0.016,  -999.00, 9, -999.00, -999.00, 9, -999.00
49NZ20071008, P01, P01_56, 1, 10, X12010, 2, 20071019, 0330, 47.0052, 173.8300, 5811,   3671.0, 2,   1.4630, 2,  34.6794, 2,  34.6793, 2,    143.1, 2,    142.9, 2,   153.18, 2,    36.82, 2,     0.01, 2,     2.57, 2, -999.000, 9, -999.000, 9, -999.000, 9, -999.000, 9,   2333.0, 2,   2419.5, 2,    7.5756,     25.00,   -999.0, 1,   -999.0,  -999.00, 1,   -999.0,   1.1802, 27.7756,   1.4630, 2, 2, 0.46, 0.14, 0.01, 0.016,  -999.00, 9, -999.00, -999.00, 9, -999.00
49NZ20071008, P01, P01_56, 1, 9, X12015, 2, 20071019, 0330, 47.0052, 173.8300, 5811,   3920.3, 2,   1.4535, 2,  34.6836, 2,  34.6835, 2,    146.9, 2,    147.7, 2,   152.41, 2,    36.46, 2,     0.01, 2,     2.55, 2,    0.003, 2,    0.001, 2,    0.000, 2, -999.000, 9,   2327.8, 2,   2419.4, 2,    7.5844,     25.00,   -999.0, 1,   -999.0,  -999.00, 1,   -999.0,   1.1445, 27.7814,   1.4537, 2, 2, 0.45, 0.13, 0.01, 0.016,  -999.00, 9, -999.00, -999.00, 9, -999.00
49NZ20071008, P01, P01_56, 1, 8, X12046, 2, 20071019, 0330, 47.0052, 173.8300, 5811,   4169.5, 2,   1.4611, 2,  34.6857, 2,  34.6858, 2,    150.3, 2,    150.4, 2,   152.42, 2,    36.33, 2,     0.01, 2,     2.54, 2, -999.000, 9, -999.000, 9, -999.000, 9, -999.000, 9,   2327.0, 6,   2420.0, 2,    7.5886,     25.00,   -999.0, 1,   -999.0,  -999.00, 1,   -999.0,   1.1247, 27.7844,   1.4611, 2, 2, 0.45, 0.13, 0.01, 0.016,  -999.00, 9, -999.00, -999.00, 9, -999.00
49NZ20071008, P01, P01_56, 1, 7, X12044, 2, 20071019, 0330, 47.0052, 173.8300, 5811,   4420.4, 2,   1.4748, 2,  34.6875, 2,  34.6875, 6,    151.9, 2,    152.7, 2,   152.06, 2,    36.18, 2,     0.01, 2,     2.53, 2, -999.000, 9, -999.000, 9, -999.000, 9, -999.000, 9,   2325.5, 2,   2419.2, 6,    7.5935,     25.00,   -999.0, 1,   -999.0,  -999.00, 1,   -999.0,   1.1097, 27.7869,   1.4749, 2, 2, 0.45, 0.13, 0.01, 0.016,  -999.00, 9, -999.00, -999.00, 9, -999.00
49NZ20071008, P01, P01_56, 1, 6, X12048, 2, 20071019, 0330, 47.0052, 173.8300, 5811,   4671.7, 2,   1.4970, 2,  34.6887, 2,  34.6885, 2,    153.1, 2,    153.5, 2,   153.41, 2,    36.14, 2,     0.01, 2,     2.52, 2,    0.000, 2,    0.000, 2,    0.000, 2, -999.000, 9,   2325.5, 2,   2420.8, 2,    7.5945,     25.00,   -999.0, 1,   -999.0,  -999.00, 1,   -999.0,   1.1021, 27.7884,   1.4971, 2, 6, 0.46, 0.13, 0.01, 0.016,  -999.00, 9, -999.00, -999.00, 9, -999.00
49NZ20071008, P01, P01_56, 1, 5, X12014, 2, 20071019, 0330, 47.0052, 173.8300, 5811,   4919.5, 2,   1.5236, 2,  34.6891, 2,  34.6901, 2,    153.4, 2,    153.7, 2,   154.18, 2,    36.13, 2,     0.01, 2,     2.52, 2, -999.000, 9, -999.000, 9, -999.000, 9, -999.000, 9,   2325.5, 2,   2421.5, 2,    7.5972,     25.00,   -999.0, 1,   -999.0,  -999.00, 1,   -999.0,   1.0983, 27.7889,   1.5236, 2, 2, 0.46, 0.13, 0.01, 0.016,  -999.00, 9, -999.00, -999.00, 9, -999.00
49NZ20071008, P01, P01_56, 1, 4, X12006, 2, 20071019, 0330, 47.0052, 173.8300, 5811,   5170.0, 2,   1.5542, 2,  34.6894, 2,  34.6895, 2,    153.8, 2,    154.0, 2,   154.18, 2,    36.13, 2,     0.01, 2,     2.52, 2, -999.000, 9, -999.000, 9, -999.000, 9, -999.000, 9,   2325.8, 2,   2420.3, 2,    7.5966,     25.00,   -999.0, 1,   -999.0,  -999.00, 1,   -999.0,   1.0972, 27.7892,   1.5544, 2, 2, 0.46, 0.13, 0.01, 0.016,  -999.00, 9, -999.00, -999.00, 9, -999.00
49NZ20071008, P01, P01_56, 1, 3, X12013, 2, 20071019, 0330, 47.0052, 173.8300, 5811,   5420.4, 2,   1.5856, 2,  34.6896, 2,  34.6893, 2,    154.1, 2,    154.2, 2,   153.89, 2,    36.08, 2,     0.01, 2,     2.52, 2,    0.002, 2,    0.003, 2,    0.000, 2, -999.000, 9,   2326.4, 2,   2420.6, 2,    7.5970,     25.00,   -999.0, 1,   -999.0,  -999.00, 1,   -999.0,   1.0961, 27.7895,   1.5857, 2, 2, 0.46, 0.13, 0.01, 0.016,  -999.00, 9, -999.00, -999.00, 9, -999.00
49NZ20071008, P01, P01_56, 1, 2, X12002, 2, 20071019, 0330, 47.0052, 173.8300, 5811,   5669.7, 2,   1.6183, 2,  34.6895, 2,  34.6894, 2,    154.2, 2,    154.5, 2,   153.37, 2,    36.09, 2,     0.01, 2,     2.52, 2, -999.000, 9, -999.000, 9, -999.000, 9, -999.000, 9,   2325.5, 2,   2419.8, 2,    7.5971,     25.00,   -999.0, 1,   -999.0,  -999.00, 1,   -999.0,   1.0955, 27.7894,   1.6183, 2, 2, 0.46, 0.13, 0.01, 0.016,  -999.00, 9, -999.00, -999.00, 9, -999.00
49NZ20071008, P01, P01_56, 1, 1, X12001, 2, 20071019, 0330, 47.0052, 173.8300, 5811,   5903.8, 2,   1.6495, 2,  34.6895, 2,  34.6893, 6,    154.4, 2,    154.7, 2,   153.05, 2,    36.05, 2,     0.01, 2,     2.52, 2,    0.002, 2,    0.003, 2,    0.000, 2, -999.000, 9,   2324.3, 2,   2419.5, 2,    7.5977,     25.00,   -999.0, 1,   -999.0,  -999.00, 1,   -999.0,   1.0947, 27.7895,   1.6493, 2, 2, 0.46, 0.13, 0.01, 0.016,  -999.00, 9, -999.00, -999.00, 9, -999.00