BOTTLE,20221005CCHSIOAMB
EXPOCODE,SECT_ID,STNNBR,CASTNO,SAMPNO,BTLNBR,BTLNBR_FLAG_W,DATE,TIME,LATITUDE,LONGITUDE,DEPTH,CTDPRS,CTDPRS_FLAG_W,CTDTMP,CTDTMP_FLAG_W,CTDSAL,CTDSAL_FLAG_W,SALNTY,SALNTY_FLAG_W,CTDOXY,CTDOXY_FLAG_W,OXYGEN,OXYGEN_FLAG_W,SILCAT,SILCAT_FLAG_W,NITRAT,NITRAT_FLAG_W,NITRIT,NITRIT_FLAG_W,PHSPHT,PHSPHT_FLAG_W,CFC-11,CFC-11_FLAG_W,CFC-12,CFC-12_FLAG_W,CFC113,CFC113_FLAG_W,CCL4,CCL4_FLAG_W,TCARBN,TCARBN_FLAG_W,ALKALI,ALKALI_FLAG_W,PH_TOT,PH_TMP,DELC14,DELC14_FLAG_W,C14ERR,DELC13,DELC13_FLAG_W,C13ERR,THETA,SIG0,SBE35,SBE35_FLAG_W,PH_TOT_FLAG_W,SILUNC,NRAUNC,NRIUNC,PHPUNC,CS-137,CS-137_FLAG_W,CS137ER,PLUTO,PLUTO_FLAG_W,PLUTOER
,,,,,,,,,,,METERS,DBAR,,ITS-90,,PSS-78,,PSS-78,,UMOL/KG,,UMOL/KG,,UMOL/KG,,UMOL/KG,,UMOL/KG,,UMOL/KG,,PMOL/KG,,PMOL/KG,,PMOL/KG,,PMOL/KG,,UMOL/KG,,UMOL/KG,,,DEG C,/MILLE,,/MILLE,/MILLE,,/MILLE,DEG C,KG/M^3,ITS-90,,,UMOL/KG,UMOL/KG,UMOL/KG,UMOL/KG,DM/.1MG,,BQ/M^3,MBQ/M^3,,MBQ/M^3
49NZ20071008, P14N, 25, 1, 36, X12042, 2, 20071022, 0304, 50.0068, 178.9935, 4981,      9.9, 2,   8.0636, 2,  32.7553, 2,  32.7551, 2,    293.5, 2,    294.0, 2,    23.44, 2,    14.28, 2,     0.28, 2,     1.37, 2,    3.972, 2,    2.201, 2,    0.362, 2, -999.000, 9,   2048.0, 2,   2211.1, 2,    7.8220,     25.00,   -999.0, 9,   -999.0,  -999.00, 9,   -999.0,   8.0626, 25.5022,   8.0634, 2, 6, 0.17, 0.07, 0.01, 0.014,  -999.00, 9, -999.00, -999.00, 9, -999.00
49NZ20071008, P14N, 25, 1, 35, X12041, 2, 20071022, 0304, 50.0068, 178.9935, 4981,     49.7, 2,   8.0269, 2,  32.7561, 2,  32.7580, 2,    293.3, 2,    293.0, 2,    23.46, 2,    14.37, 2,     0.28, 2,     1.38, 2,    3.988, 2,    2.213, 2,    0.377, 2, -999.000, 9,   2048.5, 6,   2210.3, 2,    7.8187,     25.00,   -999.0, 9,   -999.0,  -999.00, 9,   -999.0,   8.0221, 25.5087,   8.0308, 2, 2, 0.17, 0.07, 0.01, 0.014,  -999.00, 9, -999.00, -999.00, 9, -999.00
49NZ20071008, P14N, 25, 1, 34, X12016, 2, 20071022, 0304, 50.0068, 178.9935, 4981,    100.3, 2,   3.6333, 2,  33.0266, 2,  33.0291, 2,    306.6, 2,    306.8, 2,    35.91, 2,    21.93, 2,     0.03, 2,     1.79, 2,    5.073, 2,    2.771, 2,    0.458, 2, -999.000, 9,   2111.9, 2,   2228.9, 6,    7.6987,     25.00,   -999.0, 9,   -999.0,  -999.00, 9,   -999.0,   3.6270, 26.2528,   3.6336, 2, 2, 0.20, 0.09, 0.01, 0.015,  -999.00, 9, -999.00, -999.00, 9, -999.00
49NZ20071008, P14N, 25, 1, 33, X12033, 2, 20071022, 0304, 50.0068, 178.9935, 4981,    150.7, 2,   3.1469, 2,  33.4903, 2,  33.4853, 2,    202.6, 2,    192.1, 2,    61.29, 2,    32.49, 2,     0.02, 2,     2.43, 2,    4.098, 6,    2.166, 2,    0.335, 6, -999.000, 9,   2217.1, 2,   2263.2, 2,    7.4943,     25.00,   -999.0, 9,   -999.0,  -999.00, 9,   -999.0,   3.1378, 26.6677,   3.1459, 2, 6, 0.25, 0.12, 0.01, 0.016,  -999.00, 9, -999.00, -999.00, 9, -999.00
49NZ20071008, P14N, 25, 1, 32, X12038, 2, 20071022, 0304, 50.0068, 178.9935, 4981,    197.6, 2,   3.2247, 2,  33.6972, 2,  33.6989, 2,    122.4, 2,    115.5, 2,    78.73, 2,    38.48, 2,     0.02, 2,     2.80, 2,    3.172, 2,    1.636, 2,    0.225, 2, -999.000, 9,   2275.0, 2,   2283.5, 2,    7.3727,     25.00,   -999.0, 9,   -999.0,  -999.00, 9,   -999.0,   3.2125, 26.8259,   3.2250, 2, 2, 0.29, 0.14, 0.01, 0.017,  -999.00, 9, -999.00, -999.00, 9, -999.00
49NZ20071008, P14N, 25, 1, 31, X12003, 2, 20071022, 0304, 50.0068, 178.9935, 4981,    249.0, 2,   3.3923, 2,  33.8335, 2,  33.8387, 6,     74.6, 2,     67.2, 2,    90.56, 2,    41.94, 2,     0.02, 2,     3.00, 2,    2.436, 2,    1.242, 2,    0.158, 2, -999.000, 9,   2312.2, 2,   2297.0, 2,    7.3106,     25.00,   -999.0, 9,   -999.0,  -999.00, 9,   -999.0,   3.3764, 26.9194,   3.3929, 2, 2, 0.32, 0.15, 0.01, 0.017,  -999.00, 9, -999.00, -999.00, 9, -999.00
49NZ20071008, P14N, 25, 1, 30, X12008, 2, 20071022, 0304, 50.0068, 178.9935, 4981,    300.6, 2,   3.5171, 2,  33.9180, 2,  33.9214, 2,     47.9, 2,     45.2, 2,    97.00, 2,    43.28, 2,     0.02, 2,     3.09, 2,    1.966, 2,    0.993, 2,    0.124, 2, -999.000, 9,   2326.0, 2,   2305.8, 2,    7.2910,     25.00,   -999.0, 9,   -999.0,  -999.00, 9,   -999.0,   3.4974, 26.9752,   3.5167, 2, 2, 0.33, 0.15, 0.01, 0.018,  -999.00, 9, -999.00, -999.00, 9, -999.00
49NZ20071008, P14N, 25, 1, 29, X12035, 2, 20071022, 0304, 50.0068, 178.9935, 4981,    401.3, 2,   3.5332, 2,  34.0619, 2,  34.0611, 2,     31.1, 2,     29.9, 2,   109.07, 2,    43.76, 2,     0.01, 2,     3.13, 2,    1.261, 2,    0.631, 2,    0.108, 2, -999.000, 9,   2343.9, 2,   2324.8, 2,    7.2955,     25.00,   -999.0, 9,   -999.0,  -999.00, 9,   -999.0,   3.5065, 27.0890,   3.5327, 2, 2, 0.36, 0.16, 0.01, 0.018,  -999.00, 9, -999.00, -999.00, 9, -999.00
49NZ20071008, P14N, 25, 1, 28, X12034, 2, 20071022, 0304, 50.0068, 178.9935, 4981,    500.6, 2,   3.4490, 2,  34.1537, 2,  34.1537, 6,     25.3, 2,     25.1, 2,   117.95, 2,    43.74, 2,     0.01, 2,     3.12, 2,    0.837, 2,    0.424, 2,    0.053, 2, -999.000, 9,   2353.4, 2,   2338.6, 2,    7.3084,     25.00,   -999.0, 9,   -999.0,  -999.00, 9,   -999.0,   3.4155, 27.1709,   3.4481, 2, 2, 0.38, 0.16, 0.01, 0.018,  -999.00, 9, -999.00, -999.00, 9, -999.00
49NZ20071008, P14N, 25, 1, 27, X12049, 2, 20071022, 0304, 50.0068, 178.9935, 4981,    601.1, 2,   3.3378, 2,  34.2197, 2,  34.2198, 2,     21.3, 2,     20.8, 2,   125.17, 2,    43.99, 2,     0.01, 2,     3.14, 2,    0.560, 2,    0.281, 2,    0.073, 2, -999.000, 9,   2362.8, 2,   2349.9, 2,    7.3118,     25.00,   -999.0, 9,   -999.0,  -999.00, 9,   -999.0,   3.2976, 27.2347,   3.3377, 2, 2, 0.39, 0.16, 0.01, 0.018,  -999.00, 9, -999.00, -999.00, 9, -999.00
49NZ20071008, P14N, 25, 1, 26, X12032, 2, 20071022, 0304, 50.0068, 178.9935, 4981,    701.2, 2,   3.1979, 2,  34.2857, 2,  34.2852, 2,     24.0, 2,     24.5, 2,   131.13, 2,    43.60, 2,     0.01, 2,     3.12, 2,    0.387, 6,    0.199, 6,    0.037, 6, -999.000, 9,   2365.2, 6,   2359.4, 2,    7.3308,     25.00,   -999.0, 9,   -999.0,  -999.00, 9,   -999.0,   3.1511, 27.3010,   3.1980, 2, 2, 0.41, 0.15, 0.01, 0.018,  -999.00, 9, -999.00, -999.00, 9, -999.00
49NZ20071008, P14N, 25, 1, 25, X12043, 2, 20071022, 0304, 50.0068, 178.9935, 4981,    801.0, 2,   3.0352, 2,  34.3302, 2,  34.3295, 2,     25.0, 2,     23.5, 2,   137.15, 2,    43.78, 2,     0.01, 2,     3.13, 2,    0.266, 2,    0.134, 2,    0.021, 2, -999.000, 9,   2372.0, 2,   2368.2, 6,    7.3346,     25.00,   -999.0, 9,   -999.0,  -999.00, 9,   -999.0,   2.9821, 27.3521,   3.0349, 2, 2, 0.42, 0.16, 0.01, 0.018,  -999.00, 9, -999.00, -999.00, 9, -999.00
49NZ20071008, P14N, 25, 1, 24, X12030, 2, 20071022, 0304, 50.0068, 178.9935, 4981,    901.0, 2,   2.8809, 2,  34.3690, 2,  34.3692, 2,     25.1, 2,     23.8, 2,   142.31, 2,    43.74, 2,     0.01, 2,     3.12, 2,    0.188, 2,    0.093, 2,    0.011, 2, -999.000, 9,   2376.7, 2,   2374.8, 2,    7.3391,     25.00,   -999.0, 9,   -999.0,  -999.00, 9,   -999.0,   2.8215, 27.3974,   2.8808, 2, 6, 0.43, 0.16, 0.01, 0.018,  -999.00, 9, -999.00, -999.00, 9, -999.00
49NZ20071008, P14N, 25, 1, 23, X12027, 2, 20071022, 0304, 50.0068, 178.9935, 4981,   1002.6, 2,   2.7309, 2,  34.4045, 2,  34.4037, 6,     25.5, 2,     25.6, 2,   147.20, 2,    43.77, 2,     0.01, 2,     3.12, 2,    0.135, 2,    0.067, 2,    0.008, 2, -999.000, 9,   2381.3, 2,   2381.3, 2,    7.3437,     25.00,   -999.0, 9,   -999.0,  -999.00, 9,   -999.0,   2.6651, 27.4395,   2.7308, 2, 2, 0.44, 0.16, 0.01, 0.018,  -999.00, 9, -999.00, -999.00, 9, -999.00
49NZ20071008, P14N, 25, 1, 22, X12028, 2, 20071022, 0304, 50.0068, 178.9935, 4981,   1201.2, 2,   2.4701, 2,  34.4623, 2,  34.4626, 2,     28.6, 2,     28.9, 2,   155.70, 2,    43.74, 2,     0.01, 2,     3.11, 2,    0.069, 2,    0.034, 2,    0.008, 2, -999.000, 9,   2387.2, 2,   2392.8, 2,    7.3545,     25.00,   -999.0, 9,   -999.0,  -999.00, 9,   -999.0,   2.3917, 27.5091,   2.4700, 2, 2, 0.46, 0.16, 0.01, 0.018,  -999.00, 9, -999.00, -999.00, 9, -999.00
49NZ20071008, P14N, 25, 1, 21, X12009, 2, 20071022, 0304, 50.0068, 178.9935, 4981,   1401.5, 2,   2.2813, 2,  34.5055, 2,  34.5050, 2,     36.3, 2,     36.2, 2,   160.71, 2,    43.34, 2,     0.01, 2,     3.08, 2,    0.036, 2,    0.015, 2,    0.000, 2, -999.000, 9,   2388.8, 2,   2400.5, 2,    7.3725,     25.00,   -999.0, 9,   -999.0,  -999.00, 9,   -999.0,   2.1896, 27.5603,   2.2814, 2, 2, 0.47, 0.15, 0.01, 0.018,  -999.00, 9, -999.00, -999.00, 9, -999.00
49NZ20071008, P14N, 25, 1, 20, X12026, 2, 20071022, 0304, 50.0068, 178.9935, 4981,   1600.0, 2,   2.1258, 2,  34.5424, 2,  34.5416, 2,     46.3, 2,     46.8, 2,   163.39, 2,    42.82, 2,     0.01, 2,     3.04, 2,    0.023, 2,    0.011, 2,    0.000, 2, -999.000, 9,   2386.0, 2,   2406.0, 2,    7.3976,     25.00,   -999.0, 9,   -999.0,  -999.00, 9,   -999.0,   2.0204, 27.6035,   2.1259, 2, 2, 0.48, 0.15, 0.01, 0.018,  -999.00, 9, -999.00, -999.00, 9, -999.00
49NZ20071008, P14N, 25, 1, 19, X12025, 2, 20071022, 0304, 50.0068, 178.9935, 4981,   1799.6, 2,   1.9987, 2,  34.5706, 2,  34.5704, 2,     57.0, 2,     57.3, 2,   165.30, 2,    42.16, 2,     0.01, 2,     2.99, 2,    0.007, 2,    0.002, 2,    0.000, 2, -999.000, 9,   2382.2, 2,   2410.1, 2,    7.4187,     25.00,   -999.0, 9,   -999.0,  -999.00, 9,   -999.0,   1.8790, 27.6371,   1.9987, 2, 2, 0.48, 0.15, 0.01, 0.017,  -999.00, 9, -999.00, -999.00, 9, -999.00
49NZ20071008, P14N, 25, 1, 18, X12024, 2, 20071022, 0304, 50.0068, 178.9935, 4981,   2000.0, 2,   1.8769, 2,  34.5956, 2,  34.5955, 2,     68.9, 2,     69.3, 2,   166.17, 2,    41.41, 2,     0.01, 2,     2.94, 2,    0.000, 2,    0.000, 2,    0.000, 2, -999.000, 9,   2380.9, 2,   2412.7, 2,    7.4415,     25.00,   -999.0, 9,   -999.0,  -999.00, 9,   -999.0,   1.7425, 27.6676,   1.8769, 2, 2, 0.48, 0.15, 0.01, 0.017,  -999.00, 9, -999.00, -999.00, 9, -999.00
49NZ20071008, P14N, 25, 1, 17, X12023, 2, 20071022, 0304, 50.0068, 178.9935, 4981,   2202.0, 2,   1.7798, 2,  34.6140, 2,  34.6138, 2,     79.8, 2,     79.8, 2,   167.39, 2,    40.78, 2,     0.01, 2,     2.89, 2,    0.001, 2,    0.000, 2,    0.000, 2, -999.000, 9,   2373.1, 2,   2415.5, 2,    7.4619,     25.00,   -999.0, 9,   -999.0,  -999.00, 9,   -999.0,   1.6299, 27.6908,   1.7798, 2, 2, 0.49, 0.15, 0.01, 0.017,  -999.00, 9, -999.00, -999.00, 9, -999.00
49NZ20071008, P14N, 25, 1, 16, X12022, 2, 20071022, 0304, 50.0068, 178.9935, 4981,   2402.2, 2,   1.7025, 2,  34.6286, 2,  34.6285, 6,     89.7, 2,     90.3, 2,   166.82, 2,    40.14, 2,     0.01, 2,     2.84, 2,    0.001, 2,    0.003, 2,    0.000, 2, -999.000, 9,   2367.6, 6,   2417.1, 2,    7.4814,     25.00,   -999.0, 9,   -999.0,  -999.00, 9,   -999.0,   1.5365, 27.7094,   1.7024, 2, 2, 0.49, 0.15, 0.01, 0.017,  -999.00, 9, -999.00, -999.00, 9, -999.00
49NZ20071008, P14N, 25, 1, 15, X12021, 2, 20071022, 0304, 50.0068, 178.9935, 4981,   2600.3, 2,   1.6433, 2,  34.6418, 2,  34.6413, 2,    100.5, 2,    101.1, 2,   165.72, 2,    39.39, 2,     0.01, 2,     2.79, 2, -999.000, 9, -999.000, 9, -999.000, 9, -999.000, 9,   2360.8, 2,   2419.0, 6,    7.5009,     25.00,   -999.0, 9,   -999.0,  -999.00, 9,   -999.0,   1.4607, 27.7255,   1.6434, 2, 2, 0.48, 0.14, 0.01, 0.017,  -999.00, 9, -999.00, -999.00, 9, -999.00
49NZ20071008, P14N, 25, 1, 14, X12020, 2, 20071022, 0304, 50.0068, 178.9935, 4981,   2801.4, 2,   1.5894, 2,  34.6519, 2,  34.6513, 2,    110.1, 2,    111.1, 2,   163.56, 2,    38.72, 2,     0.01, 2,     2.74, 2, -999.000, 9, -999.000, 9, -999.000, 9, -999.000, 9,   2355.2, 2,   2418.8, 2,    7.5190,     25.00,   -999.0, 9,   -999.0,  -999.00, 9,   -999.0,   1.3895, 27.7388,   1.5893, 2, 6, 0.48, 0.14, 0.01, 0.017,  -999.00, 9, -999.00, -999.00, 9, -999.00
49NZ20071008, P14N, 25, 1, 13, X12019, 2, 20071022, 0304, 50.0068, 178.9935, 4981,   3001.0, 2,   1.5512, 2,  34.6604, 2,  34.6607, 2,    118.9, 2,    120.1, 2,   160.75, 2,    38.12, 2,     0.01, 2,     2.70, 2,    0.000, 2,    0.001, 2,    0.000, 2, -999.000, 9,   2349.3, 2,   2419.4, 2,    7.5351,     25.00,   -999.0, 9,   -999.0,  -999.00, 9,   -999.0,   1.3333, 27.7496,   1.5512, 2, 2, 0.47, 0.14, 0.01, 0.017,  -999.00, 9, -999.00, -999.00, 9, -999.00
49NZ20071008, P14N, 25, 1, 12, X12040, 2, 20071022, 0304, 50.0068, 178.9935, 4981,   3251.0, 2,   1.5124, 2,  34.6691, 2,  34.6689, 2,    130.2, 2,    130.6, 2,   156.41, 2,    37.39, 2,     0.01, 2,     2.64, 2, -999.000, 9, -999.000, 9, -999.000, 9, -999.000, 9,   2344.3, 2,   2418.6, 2,    7.5533,     25.00,   -999.0, 9,   -999.0,  -999.00, 9,   -999.0,   1.2710, 27.7610,   1.5124, 2, 2, 0.46, 0.14, 0.01, 0.017,  -999.00, 9, -999.00, -999.00, 9, -999.00
49NZ20071008, P14N, 25, 1, 11, X12047, 2, 20071022, 0304, 50.0068, 178.9935, 4981,   3499.9, 2,   1.4845, 2,  34.6749, 2,  34.6750, 2,    136.5, 2,    137.0, 2,   155.26, 2,    37.05, 2,     0.01, 2,     2.61, 2, -999.000, 9, -999.000, 9, -999.000, 9, -999.000, 9,   2337.8, 2,   2419.2, 2,    7.5661,     25.00,   -999.0, 9,   -999.0,  -999.00, 9,   -999.0,   1.2188, 27.7693,   1.4845, 2, 2, 0.46, 0.14, 0.01, 0.016,  -999.00, 9, -999.00, -999.00, 9, -999.00
49NZ20071008, P14N, 25, 1, 10, X12010, 2, 20071022, 0304, 50.0068, 178.9935, 4981,   3750.2, 2,   1.4672, 2,  34.6799, 2,  34.6801, 6,    143.4, 2,    143.1, 2,   153.61, 2,    36.75, 2,     0.01, 2,     2.58, 2,    0.000, 2,    0.001, 2,    0.000, 2, -999.000, 9,   2332.7, 2,   2418.6, 2,    7.5751,     25.00,   -999.0, 9,   -999.0,  -999.00, 9,   -999.0,   1.1760, 27.7762,   1.4673, 2, 2, 0.46, 0.14, 0.01, 0.016,  -999.00, 9, -999.00, -999.00, 9, -999.00
49NZ20071008, P14N, 25, 1, 9, X12015, 2, 20071022, 0304, 50.0068, 178.9935, 4981,   3998.8, 2,   1.4574, 2,  34.6839, 2,  34.6844, 2,    148.4, 2,    148.6, 2,   151.73, 2,    36.32, 2,     0.01, 2,     2.55, 2, -999.000, 9, -999.000, 9, -999.000, 9, -999.000, 9,   2328.8, 2,   2417.7, 2,    7.5849,     25.00,   -999.0, 9,   -999.0,  -999.00, 9,   -999.0,   1.1398, 27.7820,   1.4575, 2, 2, 0.45, 0.13, 0.01, 0.016,  -999.00, 9, -999.00, -999.00, 9, -999.00
49NZ20071008, P14N, 25, 1, 8, X12046, 2, 20071022, 0304, 50.0068, 178.9935, 4981,   4249.3, 2,   1.4628, 2,  34.6866, 2,  34.6866, 2,    151.3, 2,    151.2, 2,   152.82, 2,    36.27, 2,     0.01, 2,     2.54, 2, -999.000, 9, -999.000, 9, -999.000, 9, -999.000, 9,   2327.6, 6,   2419.7, 2,    7.5899,     25.00,   -999.0, 9,   -999.0,  -999.00, 9,   -999.0,   1.1174, 27.7856,   1.4629, 2, 2, 0.46, 0.13, 0.01, 0.016,  -999.00, 9, -999.00, -999.00, 9, -999.00
49NZ20071008, P14N, 25, 1, 7, X12044, 2, 20071022, 0304, 50.0068, 178.9935, 4981,   4501.0, 2,   1.4823, 2,  34.6877, 2,  34.6879, 2,    152.7, 2,    152.6, 2,   153.41, 2,    36.20, 2,     0.01, 2,     2.53, 2,    0.000, 2,    0.000, 2,    0.000, 2, -999.000, 9,   2326.2, 2,   2419.4, 6,    7.5928,     25.00,   -999.0, 9,   -999.0,  -999.00, 9,   -999.0,   1.1078, 27.7872,   1.4824, 2, 2, 0.46, 0.13, 0.01, 0.016,  -999.00, 9, -999.00, -999.00, 9, -999.00
49NZ20071008, P14N, 25, 1, 6, X12048, 2, 20071022, 0304, 50.0068, 178.9935, 4981,   4749.8, 2,   1.4971, 2,  34.6891, 2,  34.6897, 2,    155.1, 2,    155.2, 2,   151.17, 2,    35.98, 2,     0.01, 2,     2.52, 2, -999.000, 9, -999.000, 9, -999.000, 9, -999.000, 9,   2322.9, 2,   2417.1, 2,    7.5959,     25.00,   -999.0, 9,   -999.0,  -999.00, 9,   -999.0,   1.0930, 27.7893,   1.4970, 2, 6, 0.45, 0.13, 0.01, 0.016,  -999.00, 9, -999.00, -999.00, 9, -999.00
49NZ20071008, P14N, 25, 1, 5, X12014, 2, 20071022, 0304, 50.0068, 178.9935, 4981,   4998.4, 2,   1.5079, 2,  34.6909, 2,  34.6913, 2,    159.0, 2,    159.0, 2,   146.22, 2,    35.64, 2,     0.01, 2,     2.50, 2, -999.000, 9, -999.000, 9, -999.000, 9, -999.000, 9,   2318.5, 2,   2413.8, 2,    7.5997,     25.00,   -999.0, 9,   -999.0,  -999.00, 9,   -999.0,   1.0736, 27.7920,   1.5079, 2, 2, 0.44, 0.13, 0.01, 0.016,  -999.00, 9, -999.00, -999.00, 9, -999.00
49NZ20071008, P14N, 25, 1, 4, X12006, 9, 20071022, 0304, 50.0068, 178.9935, 4981,     49.3, 2,   8.0218, 2,  32.7565, 2, -999.0000, 9,    293.3, 2,   -999.0, 9,  -999.00, 9,  -999.00, 9,  -999.00, 9,  -999.00, 9, -999.000, 9, -999.000, 9, -999.000, 9, -999.000, 9,   -999.0, 9,   -999.0, 9, -999.0000,   -999.00,   -999.0, 9,   -999.0,  -999.00, 9,   -999.0,   8.0170, 25.5098,   8.0234, 2, 9, -999.00, -999.00, -999.00, -999.000,  -999.00, 9, -999.00, -999.00, 9, -999.00
49NZ20071008, P14N, 25, 1, 3, X12013, 9, 20071022, 0304, 50.0068, 178.9935, 4981,    100.7, 2,   3.6286, 2,  33.0282, 2, -999.0000, 9,    306.2, 2,   -999.0, 9,  -999.00, 9,  -999.00, 9,  -999.00, 9,  -999.00, 9, -999.000, 9, -999.000, 9, -999.000, 9, -999.000, 9,   -999.0, 9,   -999.0, 9, -999.0000,   -999.00,   -999.0, 9,   -999.0,  -999.00, 9,   -999.0,   3.6222, 26.2545,   3.6289, 2, 9, -999.00, -999.00, -999.00, -999.000,  -999.00, 9, -999.00, -999.00, 9, -999.00
49NZ20071008, P14N, 25, 1, 2, X12002, 9, 20071022, 0304, 50.0068, 178.9935, 4981,    151.1, 2,   3.1455, 2,  33.4990, 2, -999.0000, 9,    201.3, 2,   -999.0, 9,  -999.00, 9,  -999.00, 9,  -999.00, 9,  -999.00, 9, -999.000, 9, -999.000, 9, -999.000, 9, -999.000, 9,   -999.0, 9,   -999.0, 9, -999.0000,   -999.00,   -999.0, 9,   -999.0,  -999.00, 9,   -999.0,   3.1364, 26.6748,   3.1452, 2, 9, -999.00, -999.00, -999.00, -999.000,  -999.00, 9, -999.00, -999.00, 9, -999.00
49NZ20071008, P14N, 25, 1, 1, X12001, 2, 20071022, 0304, 50.0068, 178.9935, 4981,   5119.0, 2,   1.5180, 2,  34.6912, 2,  34.6913, 6,    160.0, 2,    159.9, 2,   145.53, 2,    35.52, 2,     0.01, 2,     2.49, 2,    0.000, 2,    0.000, 2,    0.000, 2, -999.000, 9,   2318.1, 2,   2413.6, 2,    7.6005,     25.00,   -999.0, 9,   -999.0,  -999.00, 9,   -999.0,   1.0686, 27.7926,   1.5180, 2, 2, 0.44, 0.13, 0.01, 0.016,  -999.00, 9, -999.00, -999.00, 9, -999.00