BOTTLE,20221005CCHSIOAMB
EXPOCODE,SECT_ID,STNNBR,CASTNO,SAMPNO,BTLNBR,BTLNBR_FLAG_W,DATE,TIME,LATITUDE,LONGITUDE,DEPTH,CTDPRS,CTDPRS_FLAG_W,CTDTMP,CTDTMP_FLAG_W,CTDSAL,CTDSAL_FLAG_W,SALNTY,SALNTY_FLAG_W,CTDOXY,CTDOXY_FLAG_W,OXYGEN,OXYGEN_FLAG_W,SILCAT,SILCAT_FLAG_W,NITRAT,NITRAT_FLAG_W,NITRIT,NITRIT_FLAG_W,PHSPHT,PHSPHT_FLAG_W,CFC-11,CFC-11_FLAG_W,CFC-12,CFC-12_FLAG_W,CFC113,CFC113_FLAG_W,CCL4,CCL4_FLAG_W,TCARBN,TCARBN_FLAG_W,ALKALI,ALKALI_FLAG_W,PH_TOT,PH_TMP,DELC14,DELC14_FLAG_W,C14ERR,DELC13,DELC13_FLAG_W,C13ERR,THETA,SIG0,SBE35,SBE35_FLAG_W,PH_TOT_FLAG_W,SILUNC,NRAUNC,NRIUNC,PHPUNC,CS-137,CS-137_FLAG_W,CS137ER,PLUTO,PLUTO_FLAG_W,PLUTOER
,,,,,,,,,,,METERS,DBAR,,ITS-90,,PSS-78,,PSS-78,,UMOL/KG,,UMOL/KG,,UMOL/KG,,UMOL/KG,,UMOL/KG,,UMOL/KG,,PMOL/KG,,PMOL/KG,,PMOL/KG,,PMOL/KG,,UMOL/KG,,UMOL/KG,,,DEG C,/MILLE,,/MILLE,/MILLE,,/MILLE,DEG C,KG/M^3,ITS-90,,,UMOL/KG,UMOL/KG,UMOL/KG,UMOL/KG,DM/.1MG,,BQ/M^3,MBQ/M^3,,MBQ/M^3
49NZ20071008, P14N, 47, 1, 36, X12042, 2, 20071103, 0716, 38.9705, 179.0253, 5529,     10.5, 2,  18.2784, 2,  34.1851, 2,  34.1855, 2,    238.5, 2,    238.0, 2,     2.89, 2,     0.08, 2,     0.01, 2,     0.10, 2,    2.306, 2,    1.378, 2,    0.309, 4, -999.000, 9,   1981.1, 2,   2257.8, 2,    8.0267,     25.00,   -999.0, 9,   -999.0,  -999.00, 9,   -999.0,  18.2766, 24.5798,  18.2789, 2, 6, 0.13, 0.03, 0.01, 0.022,  -999.00, 9, -999.00, -999.00, 9, -999.00
49NZ20071008, P14N, 47, 1, 35, X12041, 2, 20071103, 0716, 38.9705, 179.0253, 5529,     50.9, 2,  18.1247, 2,  34.1771, 2,  34.1796, 2,    237.8, 2,    238.6, 2,     3.00, 2,     0.07, 2,     0.01, 2,     0.11, 2,    2.323, 2,    1.385, 2,    0.301, 4, -999.000, 9,   1982.6, 6,   2257.6, 2,    8.0255,     25.00,   -999.0, 9,   -999.0,  -999.00, 9,   -999.0,  18.1160, 24.6134,  18.1270, 2, 2, 0.13, 0.03, 0.01, 0.021,  -999.00, 9, -999.00, -999.00, 9, -999.00
49NZ20071008, P14N, 47, 1, 34, X12016, 2, 20071103, 0716, 38.9705, 179.0253, 5529,    101.0, 2,  13.0800, 2,  34.3982, 2,  34.3985, 2,    228.4, 2,    230.6, 2,    11.48, 2,     9.43, 2,     0.03, 2,     0.71, 2,    2.907, 2,    1.645, 2,    0.225, 2, -999.000, 9,   2069.2, 2,   2272.5, 6,    7.8841,     25.00,   -999.0, 9,   -999.0,  -999.00, 9,   -999.0,  13.0662, 25.9134,  13.0803, 2, 2, 0.14, 0.06, 0.01, 0.013,  -999.00, 9, -999.00, -999.00, 9, -999.00
49NZ20071008, P14N, 47, 1, 33, X12033, 2, 20071103, 0716, 38.9705, 179.0253, 5529,    151.4, 2,  11.7850, 2,  34.3516, 2,  34.3524, 2,    214.7, 2,    217.4, 2,    16.00, 2,    12.49, 2,     0.02, 2,     0.92, 2,    2.876, 6,    1.593, 6,    0.167, 6, -999.000, 9,   2092.5, 2,   2273.9, 2,    7.8384,     25.00,   -999.0, 9,   -999.0,  -999.00, 9,   -999.0,  11.7657, 26.1297,  11.7805, 2, 6, 0.15, 0.07, 0.01, 0.013,  -999.00, 9, -999.00, -999.00, 9, -999.00
49NZ20071008, P14N, 47, 1, 32, X12038, 2, 20071103, 0716, 38.9705, 179.0253, 5529,    199.1, 2,  10.5670, 2,  34.2464, 2,  34.2428, 2,    221.1, 2,    218.3, 2,    19.98, 2,    14.64, 2,     0.02, 2,     1.09, 2,    3.008, 2,    1.641, 2,    0.180, 2, -999.000, 9,   2108.8, 2,   2273.5, 2,    7.8019,     25.00,   -999.0, 9,   -999.0,  -999.00, 9,   -999.0,  10.5433, 26.2698,  10.5589, 2, 2, 0.16, 0.07, 0.01, 0.013,  -999.00, 9, -999.00, -999.00, 9, -999.00
49NZ20071008, P14N, 47, 1, 31, X12003, 2, 20071103, 0716, 38.9705, 179.0253, 5529,    248.8, 2,   9.2192, 2,  34.0812, 2,  34.0811, 6,    244.4, 2,    249.2, 2,    19.17, 2,    14.02, 2,     0.02, 2,     1.07, 2,    3.504, 2,    1.918, 2,    0.259, 2, -999.000, 9,   2100.7, 2,   2265.8, 2,    7.7997,     25.00,   -999.0, 9,   -999.0,  -999.00, 9,   -999.0,   9.1920, 26.3679,   9.2202, 2, 2, 0.16, 0.07, 0.01, 0.013,  -999.00, 9, -999.00, -999.00, 9, -999.00
49NZ20071008, P14N, 47, 1, 30, X12008, 2, 20071103, 0716, 38.9705, 179.0253, 5529,    330.2, 2,   8.5987, 2,  34.0754, 2,  34.0746, 2,    227.2, 2,    237.6, 2,    23.80, 2,    16.15, 2,     0.02, 2,     1.21, 2,    3.431, 2,    1.865, 2,    0.245, 2, -999.000, 9,   2118.5, 2,   2269.1, 2,    7.7705,     25.00,   -999.0, 9,   -999.0,  -999.00, 9,   -999.0,   8.5640, 26.4623,   8.5986, 2, 2, 0.17, 0.08, 0.01, 0.013,  -999.00, 9, -999.00, -999.00, 9, -999.00
49NZ20071008, P14N, 47, 1, 29, X12035, 2, 20071103, 0716, 38.9705, 179.0253, 5529,    432.8, 2,   6.5417, 2,  33.9652, 2,  33.9567, 2,    171.1, 2,    174.6, 2,    46.18, 2,    25.77, 2,     0.02, 2,     1.91, 2,    2.949, 2,    1.524, 2,    0.179, 2, -999.000, 9,   2186.6, 2,   2280.0, 2,    7.6199,     25.00,   -999.0, 9,   -999.0,  -999.00, 9,   -999.0,   6.5027, 26.6704,   6.5442, 2, 2, 0.22, 0.10, 0.01, 0.015,  -999.00, 9, -999.00, -999.00, 9, -999.00
49NZ20071008, P14N, 47, 1, 28, X12034, 2, 20071103, 0716, 38.9705, 179.0253, 5529,    527.5, 2,   5.2960, 2,  33.9712, 2,  33.9751, 6,    123.6, 2,    126.3, 2,    66.72, 2,    32.35, 2,     0.01, 2,     2.37, 2,    2.280, 2,    1.154, 2,    0.125, 2, -999.000, 9,   2242.3, 2,   2296.5, 2,    7.5098,     25.00,   -999.0, 9,   -999.0,  -999.00, 9,   -999.0,   5.2531, 26.8303,   5.2950, 2, 2, 0.27, 0.12, 0.01, 0.016,  -999.00, 9, -999.00, -999.00, 9, -999.00
49NZ20071008, P14N, 47, 1, 27, X12049, 2, 20071103, 0716, 38.9705, 179.0253, 5529,    628.9, 2,   4.5944, 2,  34.0677, 2,  34.0688, 2,     86.0, 2,     82.7, 2,    85.91, 2,    37.25, 2,     0.01, 2,     2.71, 2,    1.499, 2,    0.741, 2,    0.089, 2, -999.000, 9,   2287.1, 2,   2315.4, 2,    7.4282,     25.00,   -999.0, 9,   -999.0,  -999.00, 9,   -999.0,   4.5461, 26.9868,   4.5967, 2, 2, 0.31, 0.14, 0.01, 0.017,  -999.00, 9, -999.00, -999.00, 9, -999.00
49NZ20071008, P14N, 47, 1, 26, X12032, 2, 20071103, 0716, 38.9705, 179.0253, 5529,    727.3, 2,   4.1728, 2,  34.1575, 2,  34.1586, 2,     59.0, 2,     55.9, 2,   100.91, 2,    40.04, 2,     0.01, 2,     2.89, 2,    0.939, 6,    0.454, 6,    0.052, 6, -999.000, 9,   2320.1, 6,   2331.6, 2,    7.3863,     25.00,   -999.0, 9,   -999.0,  -999.00, 9,   -999.0,   4.1187, 27.1037,   4.1730, 2, 2, 0.34, 0.14, 0.01, 0.017,  -999.00, 9, -999.00, -999.00, 9, -999.00
49NZ20071008, P14N, 47, 1, 25, X12043, 2, 20071103, 0716, 38.9705, 179.0253, 5529,    828.0, 2,   3.8562, 2,  34.2318, 2,  34.2323, 2,     44.2, 2,     43.1, 2,   111.84, 2,    41.51, 2,     0.01, 2,     2.98, 2,    0.535, 2,    0.259, 2,    0.029, 2, -999.000, 9,   2338.6, 2,   2345.9, 6,    7.3725,     25.00,   -999.0, 9,   -999.0,  -999.00, 9,   -999.0,   3.7959, 27.1958,   3.8562, 2, 2, 0.37, 0.15, 0.01, 0.017,  -999.00, 9, -999.00, -999.00, 9, -999.00
49NZ20071008, P14N, 47, 1, 24, X12030, 2, 20071103, 0716, 38.9705, 179.0253, 5529,    930.2, 2,   3.5252, 2,  34.2976, 2,  34.3000, 2,     39.0, 2,     36.7, 2,   122.31, 2,    42.24, 2,     0.01, 2,     3.04, 2,    0.319, 2,    0.149, 2,    0.021, 2, -999.000, 9,   2354.0, 2,   2359.4, 2,    7.3657,     25.00,   -999.0, 9,   -999.0,  -999.00, 9,   -999.0,   3.4591, 27.2814,   3.5253, 2, 6, 0.39, 0.15, 0.01, 0.018,  -999.00, 9, -999.00, -999.00, 9, -999.00
49NZ20071008, P14N, 47, 1, 23, X12027, 2, 20071103, 0716, 38.9705, 179.0253, 5529,   1068.9, 2,   3.1725, 2,  34.3576, 2,  34.3583, 6,     30.7, 2,     30.6, 2,   132.75, 2,    43.16, 2,     0.01, 2,     3.09, 2,    0.154, 2,    0.075, 2,    0.012, 2, -999.000, 9,   2369.8, 2,   2371.8, 2,    7.3607,     25.00,   -999.0, 9,   -999.0,  -999.00, 9,   -999.0,   3.0982, 27.3633,   3.1729, 2, 2, 0.41, 0.15, 0.01, 0.018,  -999.00, 9, -999.00, -999.00, 9, -999.00
49NZ20071008, P14N, 47, 1, 22, X12028, 2, 20071103, 0716, 38.9705, 179.0253, 5529,   1268.7, 2,   2.7851, 2,  34.4285, 2,  34.4297, 2,     29.8, 2,     29.7, 2,   144.85, 2,    43.55, 2,     0.01, 2,     3.11, 2,    0.068, 2,    0.030, 2,    0.000, 2, -999.000, 9,   2381.5, 2,   2386.6, 2,    7.3616,     25.00,   -999.0, 9,   -999.0,  -999.00, 9,   -999.0,   2.6986, 27.4558,   2.7854, 2, 2, 0.44, 0.15, 0.01, 0.018,  -999.00, 9, -999.00, -999.00, 9, -999.00
49NZ20071008, P14N, 47, 1, 21, X12009, 2, 20071103, 0716, 38.9705, 179.0253, 5529,   1472.1, 2,   2.4742, 2,  34.4846, 2,  34.4845, 2,     34.6, 2,     34.4, 2,   153.77, 2,    43.57, 2,     0.01, 2,     3.10, 2,    0.031, 2,    0.014, 2,    0.000, 2, -999.000, 9,   2388.5, 2,   2395.8, 2,    7.3729,     25.00,   -999.0, 9,   -999.0,  -999.00, 9,   -999.0,   2.3749, 27.5283,   2.4745, 2, 2, 0.46, 0.15, 0.01, 0.018,  -999.00, 9, -999.00, -999.00, 9, -999.00
49NZ20071008, P14N, 47, 1, 20, X12026, 2, 20071103, 0716, 38.9705, 179.0253, 5529,   1668.9, 2,   2.2668, 2,  34.5250, 2,  34.5254, 2,     38.7, 2,     36.2, 2,   160.70, 2,    43.61, 2,     0.01, 2,     3.09, 2,    0.010, 2,    0.005, 2,    0.000, 2, -999.000, 9,   2392.5, 2,   2404.6, 2,    7.3797,     25.00,   -999.0, 9,   -999.0,  -999.00, 9,   -999.0,   2.1542, 27.5788,   2.2667, 2, 6, 0.47, 0.15, 0.01, 0.018,  -999.00, 9, -999.00, -999.00, 9, -999.00
49NZ20071008, P14N, 47, 1, 19, X12025, 2, 20071103, 0716, 38.9705, 179.0253, 5529,   1868.8, 2,   2.0865, 2,  34.5639, 2,  34.5640, 2,     47.6, 2,     47.7, 2,   164.37, 2,    43.01, 2,     0.01, 2,     3.04, 2,    0.003, 2,    0.002, 2,    0.000, 2, -999.000, 9,   2390.5, 2,   2410.2, 2,    7.4044,     25.00,   -999.0, 9,   -999.0,  -999.00, 9,   -999.0,   1.9599, 27.6254,   2.0864, 2, 2, 0.48, 0.15, 0.01, 0.018,  -999.00, 9, -999.00, -999.00, 9, -999.00
49NZ20071008, P14N, 47, 1, 18, X12024, 2, 20071103, 0716, 38.9705, 179.0253, 5529,   2070.7, 2,   1.9500, 2,  34.5904, 2,  34.5900, 2,     57.2, 2,     60.0, 2,   166.13, 2,    42.23, 2,     0.01, 2,     2.98, 2,    0.009, 2,    0.007, 2,    0.000, 2, -999.000, 9,   2386.9, 2,   2414.7, 2,    7.4268,     25.00,   -999.0, 9,   -999.0,  -999.00, 9,   -999.0,   1.8085, 27.6584,   1.9503, 2, 2, 0.48, 0.15, 0.01, 0.017,  -999.00, 9, -999.00, -999.00, 9, -999.00
49NZ20071008, P14N, 47, 1, 17, X12023, 2, 20071103, 0716, 38.9705, 179.0253, 5529,   2270.6, 2,   1.8230, 2,  34.6134, 2,  34.6131, 2,     71.6, 2,     73.8, 2,   166.98, 2,    41.29, 2,     0.01, 2,     2.92, 2,    0.008, 2,    0.003, 2,    0.000, 2, -999.000, 9,   2381.5, 2,   2417.6, 2,    7.4525,     25.00,   -999.0, 9,   -999.0,  -999.00, 9,   -999.0,   1.6664, 27.6877,   1.8229, 2, 2, 0.49, 0.15, 0.01, 0.017,  -999.00, 9, -999.00, -999.00, 9, -999.00
49NZ20071008, P14N, 47, 1, 16, X12022, 2, 20071103, 0716, 38.9705, 179.0253, 5529,   2473.8, 2,   1.7287, 2,  34.6300, 2,  34.6300, 6,     83.9, 2,     87.4, 2,   165.90, 2,    40.55, 2,     0.01, 2,     2.86, 2,    0.011, 2,    0.007, 2,    0.000, 2, -999.000, 9,   2373.0, 6,   2418.9, 2,    7.4786,     25.00,   -999.0, 9,   -999.0,  -999.00, 9,   -999.0,   1.5559, 27.7091,   1.7287, 2, 2, 0.48, 0.15, 0.01, 0.017,  -999.00, 9, -999.00, -999.00, 9, -999.00
49NZ20071008, P14N, 47, 1, 15, X12021, 2, 20071103, 0716, 38.9705, 179.0253, 5529,   2673.5, 2,   1.6584, 2,  34.6425, 2,  34.6424, 2,    101.0, 2,     98.7, 2,   164.39, 2,    39.71, 2,     0.01, 2,     2.80, 2, -999.000, 9, -999.000, 9, -999.000, 9, -999.000, 9,   2363.9, 2,   2420.1, 6,    7.5001,     25.00,   -999.0, 9,   -999.0,  -999.00, 9,   -999.0,   1.4689, 27.7256,   1.6586, 2, 2, 0.48, 0.14, 0.01, 0.017,  -999.00, 9, -999.00, -999.00, 9, -999.00
49NZ20071008, P14N, 47, 1, 14, X12020, 2, 20071103, 0716, 38.9705, 179.0253, 5529,   2878.4, 2,   1.5986, 2,  34.6527, 2,  34.6526, 2,    112.2, 2,    111.8, 2,   161.17, 2,    38.84, 2,     0.01, 2,     2.74, 2,    0.000, 2,    0.000, 2,    0.000, 2, -999.000, 9,   2356.1, 2,   2418.8, 2,    7.5219,     25.00,   -999.0, 9,   -999.0,  -999.00, 9,   -999.0,   1.3913, 27.7393,   1.5988, 2, 6, 0.47, 0.14, 0.01, 0.017,  -999.00, 9, -999.00, -999.00, 9, -999.00
49NZ20071008, P14N, 47, 1, 13, X12019, 2, 20071103, 0716, 38.9705, 179.0253, 5529,   3087.0, 2,   1.5489, 2,  34.6617, 2,  34.6619, 2,    121.9, 2,    121.7, 2,   158.79, 2,    38.09, 2,     0.01, 2,     2.69, 2, -999.000, 9, -999.000, 9, -999.000, 9, -999.000, 9,   2350.8, 2,   2419.2, 2,    7.5411,     25.00,   -999.0, 9,   -999.0,  -999.00, 9,   -999.0,   1.3227, 27.7514,   1.5490, 2, 2, 0.47, 0.14, 0.01, 0.017,  -999.00, 9, -999.00, -999.00, 9, -999.00
49NZ20071008, P14N, 47, 1, 12, X12040, 2, 20071103, 0716, 38.9705, 179.0253, 5529,   3328.0, 2,   1.5009, 2,  34.6705, 2,  34.6707, 2,    132.0, 2,    132.5, 2,   155.43, 2,    37.37, 2,     0.01, 2,     2.63, 2, -999.000, 9, -999.000, 9, -999.000, 9, -999.000, 9,   2342.2, 2,   2418.9, 2,    7.5580,     25.00,   -999.0, 9,   -999.0,  -999.00, 9,   -999.0,   1.2522, 27.7634,   1.5010, 2, 2, 0.46, 0.14, 0.01, 0.017,  -999.00, 9, -999.00, -999.00, 9, -999.00
49NZ20071008, P14N, 47, 1, 11, X12047, 2, 20071103, 0716, 38.9705, 179.0253, 5529,   3577.0, 2,   1.4741, 2,  34.6766, 2,  34.6767, 2,    140.1, 2,    139.6, 2,   153.89, 2,    36.97, 2,     0.01, 2,     2.59, 2,    0.000, 2,    0.000, 2,    0.000, 2, -999.000, 9,   2337.2, 2,   2417.6, 2,    7.5718,     25.00,   -999.0, 9,   -999.0,  -999.00, 9,   -999.0,   1.2008, 27.7719,   1.4741, 2, 2, 0.46, 0.14, 0.01, 0.016,  -999.00, 9, -999.00, -999.00, 9, -999.00
49NZ20071008, P14N, 47, 1, 10, X12017, 2, 20071103, 0716, 38.9705, 179.0253, 5529,   3830.7, 2,   1.4615, 2,  34.6812, 2,  34.6812, 2,    146.0, 2,    145.2, 2,   152.47, 2,    36.70, 2,     0.01, 2,     2.57, 2, -999.000, 9, -999.000, 9, -999.000, 9, -999.000, 9,   2333.0, 2,   2418.6, 2,    7.5797,     25.00,   -999.0, 9,   -999.0,  -999.00, 9,   -999.0,   1.1619, 27.7782,   1.4615, 2, 2, 0.45, 0.14, 0.01, 0.016,  -999.00, 9, -999.00, -999.00, 9, -999.00
49NZ20071008, P14N, 47, 1, 9, X12015, 2, 20071103, 0716, 38.9705, 179.0253, 5529,   4082.4, 2,   1.4587, 2,  34.6845, 2,  34.6848, 6,    149.5, 2,    149.8, 2,   151.22, 2,    36.28, 2,     0.01, 2,     2.54, 2, -999.000, 9, -999.000, 9, -999.000, 9, -999.000, 9,   2329.8, 2,   2418.1, 2,    7.5882,     25.00,   -999.0, 9,   -999.0,  -999.00, 9,   -999.0,   1.1320, 27.7829,   1.4588, 2, 2, 0.45, 0.13, 0.01, 0.016,  -999.00, 9, -999.00, -999.00, 9, -999.00
49NZ20071008, P14N, 47, 1, 8, X12046, 2, 20071103, 0716, 38.9705, 179.0253, 5529,   4331.6, 2,   1.4701, 2,  34.6863, 2,  34.6867, 2,    151.6, 2,    152.0, 2,   151.04, 2,    36.17, 2,     0.01, 2,     2.53, 2,    0.000, 2,    0.000, 2,    0.000, 2, -999.000, 9,   2328.9, 6,   2418.7, 2,    7.5924,     25.00,   -999.0, 9,   -999.0,  -999.00, 9,   -999.0,   1.1153, 27.7855,   1.4701, 2, 2, 0.45, 0.13, 0.01, 0.016,  -999.00, 9, -999.00, -999.00, 9, -999.00
49NZ20071008, P14N, 47, 1, 7, X12044, 2, 20071103, 0716, 38.9705, 179.0253, 5529,   4583.1, 2,   1.4892, 2,  34.6876, 2,  34.6880, 2,    153.3, 2,    153.4, 2,   151.35, 2,    36.05, 2,     0.01, 2,     2.53, 2, -999.000, 9, -999.000, 9, -999.000, 9, -999.000, 9,   2327.6, 2,   2418.0, 6,    7.5942,     25.00,   -999.0, 9,   -999.0,  -999.00, 9,   -999.0,   1.1049, 27.7873,   1.4892, 2, 2, 0.45, 0.13, 0.01, 0.016,  -999.00, 9, -999.00, -999.00, 9, -999.00
49NZ20071008, P14N, 47, 1, 6, X12048, 2, 20071103, 0716, 38.9705, 179.0253, 5529,   4834.0, 2,   1.5137, 2,  34.6885, 2,  34.6887, 2,    154.1, 2,    153.7, 2,   153.25, 2,    36.13, 2,     0.01, 2,     2.52, 2, -999.000, 9, -999.000, 9, -999.000, 9, -999.000, 9,   2327.3, 2,   2420.4, 2,    7.5960,     25.00,   -999.0, 9,   -999.0,  -999.00, 9,   -999.0,   1.0990, 27.7884,   1.5139, 2, 2, 0.46, 0.13, 0.01, 0.016,  -999.00, 9, -999.00, -999.00, 9, -999.00
49NZ20071008, P14N, 47, 1, 5, X12014, 2, 20071103, 0716, 38.9705, 179.0253, 5529,   5084.6, 2,   1.5412, 2,  34.6889, 2,  34.6894, 2,    154.4, 2,    154.4, 2,   153.09, 2,    35.96, 2,     0.01, 2,     2.51, 2,    0.031, 4,    0.015, 4,    0.008, 4, -999.000, 9,   2327.7, 2,   2418.8, 2,    7.5970,     25.00,   -999.0, 9,   -999.0,  -999.00, 9,   -999.0,   1.0952, 27.7890,   1.5411, 2, 2, 0.46, 0.13, 0.01, 0.016,  -999.00, 9, -999.00, -999.00, 9, -999.00
49NZ20071008, P14N, 47, 1, 4, X12006, 2, 20071103, 0716, 38.9705, 179.0253, 5529,   5329.2, 2,   1.5726, 2,  34.6889, 2,  34.6894, 2,    154.6, 2,    154.3, 2,   152.92, 2,    36.05, 2,     0.01, 2,     2.52, 2, -999.000, 9, -999.000, 9, -999.000, 9, -999.000, 9,   2326.1, 2,   2419.7, 2,    7.5986,     25.00,   -999.0, 9,   -999.0,  -999.00, 9,   -999.0,   1.0951, 27.7890,   1.5726, 2, 2, 0.46, 0.13, 0.01, 0.016,  -999.00, 9, -999.00, -999.00, 9, -999.00
49NZ20071008, P14N, 47, 1, 3, X12013, 2, 20071103, 0716, 38.9705, 179.0253, 5529,   5576.4, 2,   1.6052, 2,  34.6891, 2,  34.6893, 2,    154.6, 2,    154.2, 2,   152.85, 2,    36.03, 2,     0.01, 2,     2.51, 2,    2.306, 4,    1.368, 4,    0.305, 4, -999.000, 9,   2327.5, 2,   2419.4, 2,    7.5972,     25.00,   -999.0, 9,   -999.0,  -999.00, 9,   -999.0,   1.0950, 27.7891,   1.6053, 2, 2, 0.46, 0.13, 0.01, 0.016,  -999.00, 9, -999.00, -999.00, 9, -999.00
49NZ20071008, P14N, 47, 1, 2, X12002, 9, 20071103, 0716, 38.9705, 179.0253, 5529,     10.1, 2,  18.2791, 2,  34.1850, 2, -999.0000, 9,    238.6, 2,   -999.0, 9,  -999.00, 9,  -999.00, 9,  -999.00, 9,  -999.00, 9, -999.000, 9, -999.000, 9, -999.000, 9, -999.000, 9,   -999.0, 9,   -999.0, 9, -999.0000,   -999.00,   -999.0, 9,   -999.0,  -999.00, 9,   -999.0,  18.2774, 24.5795,  18.2793, 2, 9, -999.00, -999.00, -999.00, -999.000,  -999.00, 9, -999.00, -999.00, 9, -999.00
49NZ20071008, P14N, 47, 1, 1, X12001, 2, 20071103, 0716, 38.9705, 179.0253, 5529,   5622.0, 2,   1.6114, 2,  34.6891, 2,  34.6893, 6,    154.2, 2,    154.3, 2,   153.01, 2,    36.07, 2,     0.01, 2,     2.52, 2,    0.005, 2,    0.003, 2,    0.000, 2, -999.000, 9,   2328.3, 2,   2419.3, 2,    7.5979,     25.00,   -999.0, 9,   -999.0,  -999.00, 9,   -999.0,   1.0951, 27.7891,   1.6115, 2, 2, 0.46, 0.13, 0.01, 0.016,  -999.00, 9, -999.00, -999.00, 9, -999.00