BOTTLE,20221005CCHSIOAMB
EXPOCODE,SECT_ID,STNNBR,CASTNO,SAMPNO,BTLNBR,BTLNBR_FLAG_W,DATE,TIME,LATITUDE,LONGITUDE,DEPTH,CTDPRS,CTDPRS_FLAG_W,CTDTMP,CTDTMP_FLAG_W,CTDSAL,CTDSAL_FLAG_W,SALNTY,SALNTY_FLAG_W,CTDOXY,CTDOXY_FLAG_W,OXYGEN,OXYGEN_FLAG_W,SILCAT,SILCAT_FLAG_W,NITRAT,NITRAT_FLAG_W,NITRIT,NITRIT_FLAG_W,PHSPHT,PHSPHT_FLAG_W,CFC-11,CFC-11_FLAG_W,CFC-12,CFC-12_FLAG_W,CFC113,CFC113_FLAG_W,CCL4,CCL4_FLAG_W,TCARBN,TCARBN_FLAG_W,ALKALI,ALKALI_FLAG_W,PH_TOT,PH_TMP,DELC14,DELC14_FLAG_W,C14ERR,DELC13,DELC13_FLAG_W,C13ERR,THETA,SIG0,SBE35,SBE35_FLAG_W,PH_TOT_FLAG_W,SILUNC,NRAUNC,NRIUNC,PHPUNC,CS-137,CS-137_FLAG_W,CS137ER,PLUTO,PLUTO_FLAG_W,PLUTOER
,,,,,,,,,,,METERS,DBAR,,ITS-90,,PSS-78,,PSS-78,,UMOL/KG,,UMOL/KG,,UMOL/KG,,UMOL/KG,,UMOL/KG,,UMOL/KG,,PMOL/KG,,PMOL/KG,,PMOL/KG,,PMOL/KG,,UMOL/KG,,UMOL/KG,,,DEG C,/MILLE,,/MILLE,/MILLE,,/MILLE,DEG C,KG/M^3,ITS-90,,,UMOL/KG,UMOL/KG,UMOL/KG,UMOL/KG,DM/.1MG,,BQ/M^3,MBQ/M^3,,MBQ/M^3
49NZ20071008, P14N, 66, 1, 36, X12042, 2, 20071107, 1545, 29.4972, 178.9962, 5133,     10.6, 2,  25.4164, 2,  35.0479, 2,  35.0490, 2,    209.7, 2,    209.2, 2,     1.42, 2,     0.06, 2,     0.01, 2,     0.04, 2,    1.681, 2,    1.049, 2,    0.444, 4, -999.000, 9,   -999.0, 9,   -999.0, 9, -999.0000,   -999.00,   -999.0, 9,   -999.0,  -999.00, 9,   -999.0,  25.4141, 23.2508,  25.4153, 2, 9, 0.12, 0.03, 0.01, 0.040,  -999.00, 9, -999.00, -999.00, 9, -999.00
49NZ20071008, P14N, 66, 1, 35, X12041, 2, 20071107, 1545, 29.4972, 178.9962, 5133,     50.2, 2,  23.4802, 2,  34.9247, 2,  34.9431, 2,    232.3, 2,    230.1, 2,     1.77, 2,     0.04, 2,     0.00, 2,     0.05, 2, -999.000, 5, -999.000, 5, -999.000, 5, -999.000, 9,   -999.0, 9,   -999.0, 9, -999.0000,   -999.00,   -999.0, 9,   -999.0,  -999.00, 9,   -999.0,  23.4698, 23.7403,  23.4275, 2, 9, 0.12, 0.03, 0.01, 0.036,  -999.00, 9, -999.00, -999.00, 9, -999.00
49NZ20071008, P14N, 66, 1, 34, X12016, 2, 20071107, 1545, 29.4972, 178.9962, 5133,    100.8, 2,  17.7961, 2,  34.7382, 2,  34.7363, 2,    227.2, 2,    232.4, 2,     2.74, 2,     0.16, 2,     0.03, 2,     0.12, 2,    2.392, 2,    1.435, 2,    0.372, 4, -999.000, 9,   -999.0, 9,   -999.0, 9, -999.0000,   -999.00,   -999.0, 9,   -999.0,  -999.00, 9,   -999.0,  17.7790, 25.1257,  17.7919, 2, 9, 0.13, 0.03, 0.01, 0.020,  -999.00, 9, -999.00, -999.00, 9, -999.00
49NZ20071008, P14N, 66, 1, 33, X12033, 2, 20071107, 1545, 29.4972, 178.9962, 5133,    150.9, 2,  16.4230, 2,  34.6604, 2,  34.6596, 2,    218.2, 2,    218.3, 2,     4.38, 2,     4.01, 2,     0.09, 2,     0.33, 2,    2.508, 6,    1.484, 6,    0.189, 6, -999.000, 9,   -999.0, 9,   -999.0, 9, -999.0000,   -999.00,   -999.0, 9,   -999.0,  -999.00, 9,   -999.0,  16.3988, 25.3946,  16.4235, 2, 9, 0.13, 0.04, 0.01, 0.014,  -999.00, 9, -999.00, -999.00, 9, -999.00
49NZ20071008, P14N, 66, 1, 32, X12038, 2, 20071107, 1545, 29.4972, 178.9962, 5133,    203.2, 2,  15.3490, 2,  34.5975, 2,  34.5997, 2,    211.6, 2,    210.4, 2,     6.88, 2,     6.94, 2,     0.01, 2,     0.52, 2, -999.000, 5, -999.000, 5, -999.000, 5, -999.000, 9,   -999.0, 9,   -999.0, 9, -999.0000,   -999.00,   -999.0, 9,   -999.0,  -999.00, 9,   -999.0,  15.3178, 25.5915,  15.3588, 2, 9, 0.13, 0.05, 0.01, 0.013,  -999.00, 9, -999.00, -999.00, 9, -999.00
49NZ20071008, P14N, 66, 1, 31, X12003, 2, 20071107, 1545, 29.4972, 178.9962, 5133,    249.8, 2,  14.5300, 2,  34.5420, 2,  34.5408, 6,    209.8, 2,    208.8, 2,     8.65, 2,     8.40, 2,     0.01, 2,     0.62, 2,    2.672, 2,    1.539, 2,    0.092, 2, -999.000, 9,   -999.0, 9,   -999.0, 9, -999.0000,   -999.00,   -999.0, 9,   -999.0,  -999.00, 9,   -999.0,  14.4931, 25.7286,  14.5301, 2, 9, 0.14, 0.06, 0.01, 0.013,  -999.00, 9, -999.00, -999.00, 9, -999.00
49NZ20071008, P14N, 66, 1, 30, X12008, 2, 20071107, 1545, 29.4972, 178.9962, 5133,    280.6, 2,  13.7617, 2,  34.4925, 2,  34.4922, 2,    213.7, 2,    213.1, 2,    10.15, 2,     9.23, 2,     0.01, 2,     0.68, 2,    2.701, 2,    1.536, 2,    0.091, 2, -999.000, 9,   -999.0, 9,   -999.0, 9, -999.0000,   -999.00,   -999.0, 9,   -999.0,  -999.00, 9,   -999.0,  13.7217, 25.8528,  13.7639, 2, 9, 0.14, 0.06, 0.01, 0.013,  -999.00, 9, -999.00, -999.00, 9, -999.00
49NZ20071008, P14N, 66, 1, 29, X12035, 2, 20071107, 1545, 29.4972, 178.9962, 5133,    371.8, 2,  11.8025, 2,  34.3449, 2,  34.3466, 2,    216.9, 2,    215.2, 2,    14.42, 2,    12.29, 2,     0.01, 2,     0.90, 2,    2.964, 2,    1.678, 2,    0.113, 2, -999.000, 9,   -999.0, 9,   -999.0, 9, -999.0000,   -999.00,   -999.0, 9,   -999.0,  -999.00, 9,   -999.0,  11.7545, 26.1266,  11.8014, 2, 9, 0.15, 0.07, 0.01, 0.013,  -999.00, 9, -999.00, -999.00, 9, -999.00
49NZ20071008, P14N, 66, 1, 28, X12034, 2, 20071107, 1545, 29.4972, 178.9962, 5133,    472.1, 2,   9.4045, 2,  34.1535, 2,  34.1543, 6,    199.2, 2,    197.5, 2,    25.91, 2,    18.26, 2,     0.01, 2,     1.33, 2,    2.955, 2,    1.610, 2,    0.135, 2, -999.000, 9,   -999.0, 9,   -999.0, 9, -999.0000,   -999.00,   -999.0, 9,   -999.0,  -999.00, 9,   -999.0,   9.3516, 26.3987,   9.4069, 2, 9, 0.18, 0.08, 0.01, 0.014,  -999.00, 9, -999.00, -999.00, 9, -999.00
49NZ20071008, P14N, 66, 1, 27, X12049, 2, 20071107, 1545, 29.4972, 178.9962, 5133,    570.7, 2,   7.1996, 2,  34.0241, 2,  34.0241, 2,    168.0, 2,    165.0, 2,    43.36, 2,    25.25, 2,     0.02, 2,     1.85, 2,    2.673, 2,    1.402, 2,    0.133, 2, -999.000, 9,   -999.0, 9,   -999.0, 9, -999.0000,   -999.00,   -999.0, 9,   -999.0,  -999.00, 9,   -999.0,   7.1447, 26.6301,   7.2004, 2, 9, 0.21, 0.10, 0.01, 0.015,  -999.00, 9, -999.00, -999.00, 9, -999.00
49NZ20071008, P14N, 66, 1, 26, X12032, 2, 20071107, 1545, 29.4972, 178.9962, 5133,    672.9, 2,   5.5520, 2,  34.0420, 2,  34.0411, 2,    114.1, 2,    108.8, 2,    68.46, 2,    33.27, 2,     0.01, 2,     2.42, 2,    1.750, 6,    0.881, 6,    0.083, 6, -999.000, 9,   -999.0, 9,   -999.0, 9, -999.0000,   -999.00,   -999.0, 9,   -999.0,  -999.00, 9,   -999.0,   5.4952, 26.8577,   5.5518, 2, 9, 0.27, 0.13, 0.01, 0.016,  -999.00, 9, -999.00, -999.00, 9, -999.00
49NZ20071008, P14N, 66, 1, 25, X12043, 2, 20071107, 1545, 29.4972, 178.9962, 5133,    774.9, 2,   4.6898, 2,  34.1177, 2,  34.1170, 2,     72.1, 2,     70.4, 2,    87.73, 2,    38.01, 2,     0.01, 2,     2.75, 2,    1.015, 2,    0.494, 2,    0.039, 2, -999.000, 9,   -999.0, 9,   -999.0, 9, -999.0000,   -999.00,   -999.0, 9,   -999.0,  -999.00, 9,   -999.0,   4.6288, 27.0174,   4.6906, 2, 9, 0.31, 0.14, 0.01, 0.017,  -999.00, 9, -999.00, -999.00, 9, -999.00
49NZ20071008, P14N, 66, 1, 24, X12030, 2, 20071107, 1545, 29.4972, 178.9962, 5133,    871.1, 2,   4.1163, 2,  34.2016, 2,  34.2008, 2,     46.7, 2,     47.3, 2,   104.30, 2,    40.66, 2,     0.01, 2,     2.93, 2,    0.548, 2,    0.265, 2,    0.018, 2, -999.000, 9,   -999.0, 9,   -999.0, 9, -999.0000,   -999.00,   -999.0, 9,   -999.0,  -999.00, 9,   -999.0,   4.0509, 27.1458,   4.1167, 2, 9, 0.35, 0.15, 0.01, 0.017,  -999.00, 9, -999.00, -999.00, 9, -999.00
49NZ20071008, P14N, 66, 1, 23, X12027, 2, 20071107, 1545, 29.4972, 178.9962, 5133,    971.5, 2,   3.7404, 2,  34.2787, 2,  34.2781, 6,     34.0, 2,     33.1, 2,   115.93, 2,    42.53, 2,     0.00, 2,     3.06, 2,    0.242, 2,    0.115, 2,    0.010, 2, -999.000, 9,   -999.0, 9,   -999.0, 9, -999.0000,   -999.00,   -999.0, 9,   -999.0,  -999.00, 9,   -999.0,   3.6694, 27.2457,   3.7420, 2, 9, 0.37, 0.15, 0.01, 0.018,  -999.00, 9, -999.00, -999.00, 9, -999.00
49NZ20071008, P14N, 66, 1, 22, X12028, 2, 20071107, 1545, 29.4972, 178.9962, 5133,   1132.4, 2,   3.3099, 2,  34.3805, 2,  34.3796, 2,     28.2, 2,     27.3, 2,   129.09, 2,    43.52, 2,     0.01, 2,     3.11, 2,    0.059, 2,    0.028, 2,    0.006, 2, -999.000, 9,   -999.0, 9,   -999.0, 9, -999.0000,   -999.00,   -999.0, 9,   -999.0,  -999.00, 9,   -999.0,   3.2294, 27.3693,   3.3101, 2, 9, 0.40, 0.15, 0.01, 0.018,  -999.00, 9, -999.00, -999.00, 9, -999.00
49NZ20071008, P14N, 66, 1, 21, X12009, 2, 20071107, 1545, 29.4972, 178.9962, 5133,   1331.3, 2,   2.8496, 2,  34.4659, 2,  34.4659, 2,     32.8, 2,     31.2, 2,   142.37, 2,    43.61, 2,     0.00, 2,     3.11, 2,    0.013, 2,    0.006, 2,    0.000, 2, -999.000, 9,   -999.0, 9,   -999.0, 9, -999.0000,   -999.00,   -999.0, 9,   -999.0,  -999.00, 9,   -999.0,   2.7574, 27.4805,   2.8496, 2, 9, 0.43, 0.15, 0.01, 0.018,  -999.00, 9, -999.00, -999.00, 9, -999.00
49NZ20071008, P14N, 66, 1, 20, X12026, 2, 20071107, 1545, 29.4972, 178.9962, 5133,   1532.1, 2,   2.5005, 2,  34.5270, 2,  34.5268, 2,     42.7, 2,     43.8, 2,   150.44, 2,    43.13, 2,     0.00, 2,     3.06, 2,    0.001, 2,    0.000, 2,    0.000, 2, -999.000, 9,   -999.0, 9,   -999.0, 9, -999.0000,   -999.00,   -999.0, 9,   -999.0,  -999.00, 9,   -999.0,   2.3960, 27.5605,   2.5008, 2, 9, 0.45, 0.15, 0.01, 0.018,  -999.00, 9, -999.00, -999.00, 9, -999.00
49NZ20071008, P14N, 66, 1, 19, X12025, 2, 20071107, 1545, 29.4972, 178.9962, 5133,   1731.0, 2,   2.2106, 2,  34.5703, 2,  34.5700, 2,     58.6, 2,     59.9, 2,   155.38, 2,    42.16, 2,     0.01, 2,     2.99, 2,    0.000, 2,    0.000, 2,    0.000, 2, -999.000, 9,   -999.0, 9,   -999.0, 9, -999.0000,   -999.00,   -999.0, 9,   -999.0,  -999.00, 9,   -999.0,   2.0935, 27.6199,   2.2106, 2, 9, 0.46, 0.15, 0.01, 0.017,  -999.00, 9, -999.00, -999.00, 9, -999.00
49NZ20071008, P14N, 66, 1, 18, X12024, 2, 20071107, 1545, 29.4972, 178.9962, 5133,   1930.9, 2,   1.9924, 2,  34.5993, 2,  34.5995, 2,     71.9, 2,     74.2, 2,   158.62, 2,    41.25, 2,     0.01, 2,     2.92, 2,    0.000, 2,    0.000, 2,    0.000, 2, -999.000, 9,   -999.0, 9,   -999.0, 9, -999.0000,   -999.00,   -999.0, 9,   -999.0,  -999.00, 9,   -999.0,   1.8619, 27.6614,   1.9923, 2, 9, 0.47, 0.15, 0.01, 0.017,  -999.00, 9, -999.00, -999.00, 9, -999.00
49NZ20071008, P14N, 66, 1, 17, X12023, 2, 20071107, 1545, 29.4972, 178.9962, 5133,   2131.4, 2,   1.8398, 2,  34.6197, 2,  34.6196, 2,     86.5, 2,     87.2, 2,   159.66, 2,    40.44, 2,     0.01, 2,     2.85, 2,    0.000, 2,    0.000, 2,    0.000, 2, -999.000, 9,   -999.0, 9,   -999.0, 9, -999.0000,   -999.00,   -999.0, 9,   -999.0,  -999.00, 9,   -999.0,   1.6948, 27.6906,   1.8398, 2, 9, 0.47, 0.15, 0.01, 0.017,  -999.00, 9, -999.00, -999.00, 9, -999.00
49NZ20071008, P14N, 66, 1, 16, X12022, 2, 20071107, 1545, 29.4972, 178.9962, 5133,   2331.3, 2,   1.7279, 2,  34.6346, 2,  34.6346, 6,     96.0, 2,     97.1, 2,   160.46, 2,    39.86, 2,     0.01, 2,     2.81, 2,    0.000, 2,    0.000, 2,    0.000, 2, -999.000, 9,   -999.0, 9,   -999.0, 9, -999.0000,   -999.00,   -999.0, 9,   -999.0,  -999.00, 9,   -999.0,   1.5676, 27.7120,   1.7278, 2, 9, 0.47, 0.14, 0.01, 0.017,  -999.00, 9, -999.00, -999.00, 9, -999.00
49NZ20071008, P14N, 66, 1, 15, X12021, 2, 20071107, 1545, 29.4972, 178.9962, 5133,   2531.3, 2,   1.6489, 2,  34.6461, 2,  34.6460, 2,    105.4, 2,    107.3, 2,   159.49, 2,    39.13, 2,     0.01, 2,     2.76, 2,    0.000, 2,    0.000, 2,    0.000, 2, -999.000, 9,   -999.0, 9,   -999.0, 9, -999.0000,   -999.00,   -999.0, 9,   -999.0,  -999.00, 9,   -999.0,   1.4724, 27.7281,   1.6489, 2, 9, 0.47, 0.14, 0.01, 0.017,  -999.00, 9, -999.00, -999.00, 9, -999.00
49NZ20071008, P14N, 66, 1, 14, X12020, 2, 20071107, 1545, 29.4972, 178.9962, 5133,   2733.4, 2,   1.5813, 2,  34.6561, 2,  34.6558, 2,    116.7, 2,    117.1, 2,   157.88, 2,    38.43, 2,     0.01, 2,     2.71, 2,    0.000, 2,    0.000, 2,    0.000, 2, -999.000, 9,   -999.0, 9,   -999.0, 9, -999.0000,   -999.00,   -999.0, 9,   -999.0,  -999.00, 9,   -999.0,   1.3878, 27.7423,   1.5815, 2, 9, 0.47, 0.14, 0.01, 0.017,  -999.00, 9, -999.00, -999.00, 9, -999.00
49NZ20071008, P14N, 66, 1, 13, X12019, 2, 20071107, 1545, 29.4972, 178.9962, 5133,   2931.0, 2,   1.5310, 2,  34.6640, 2,  34.6641, 2,    123.8, 2,    125.3, 2,   156.33, 2,    37.95, 2,     0.01, 2,     2.67, 2, -999.000, 9, -999.000, 9, -999.000, 9, -999.000, 9,   -999.0, 9,   -999.0, 9, -999.0000,   -999.00,   -999.0, 9,   -999.0,  -999.00, 9,   -999.0,   1.3201, 27.7534,   1.5309, 2, 9, 0.46, 0.14, 0.01, 0.017,  -999.00, 9, -999.00, -999.00, 9, -999.00
49NZ20071008, P14N, 66, 1, 12, X12040, 2, 20071107, 1545, 29.4972, 178.9962, 5133,   3169.8, 2,   1.4888, 2,  34.6715, 2,  34.6713, 2,    132.5, 2,    133.5, 2,   154.07, 2,    37.37, 2,     0.01, 2,     2.61, 2,    0.000, 2,    0.000, 2,    0.000, 2, -999.000, 9,   -999.0, 9,   -999.0, 9, -999.0000,   -999.00,   -999.0, 9,   -999.0,  -999.00, 9,   -999.0,   1.2559, 27.7639,   1.4888, 2, 9, 0.46, 0.14, 0.01, 0.017,  -999.00, 9, -999.00, -999.00, 9, -999.00
49NZ20071008, P14N, 66, 1, 11, X12047, 2, 20071107, 1545, 29.4972, 178.9962, 5133,   3419.5, 2,   1.4616, 2,  34.6770, 2,  34.6770, 2,    139.8, 2,    139.7, 2,   153.28, 2,    36.89, 2,     0.01, 2,     2.59, 2, -999.000, 9, -999.000, 9, -999.000, 9, -999.000, 9,   -999.0, 9,   -999.0, 9, -999.0000,   -999.00,   -999.0, 9,   -999.0,  -999.00, 9,   -999.0,   1.2046, 27.7719,   1.4615, 2, 9, 0.46, 0.14, 0.01, 0.016,  -999.00, 9, -999.00, -999.00, 9, -999.00
49NZ20071008, P14N, 66, 1, 10, X12017, 2, 20071107, 1545, 29.4972, 178.9962, 5133,   3668.3, 2,   1.4479, 2,  34.6813, 2,  34.6811, 6,    144.3, 2,    145.2, 2,   151.53, 2,    36.54, 2,     0.01, 2,     2.57, 2, -999.000, 9, -999.000, 9, -999.000, 9, -999.000, 9,   -999.0, 9,   -999.0, 9, -999.0000,   -999.00,   -999.0, 9,   -999.0,  -999.00, 9,   -999.0,   1.1658, 27.7781,   1.4478, 2, 9, 0.45, 0.14, 0.01, 0.016,  -999.00, 9, -999.00, -999.00, 9, -999.00
49NZ20071008, P14N, 66, 1, 9, X12015, 2, 20071107, 1545, 29.4972, 178.9962, 5133,   3918.8, 2,   1.4513, 2,  34.6836, 2,  34.6838, 2,    148.0, 2,    147.9, 2,   151.28, 2,    36.45, 2,     0.00, 2,     2.55, 2,    0.000, 2,    0.001, 2,    0.000, 2, -999.000, 9,   -999.0, 9,   -999.0, 9, -999.0000,   -999.00,   -999.0, 9,   -999.0,  -999.00, 9,   -999.0,   1.1425, 27.7815,   1.4511, 2, 9, 0.45, 0.13, 0.01, 0.016,  -999.00, 9, -999.00, -999.00, 9, -999.00
49NZ20071008, P14N, 66, 1, 8, X12046, 2, 20071107, 1545, 29.4972, 178.9962, 5133,   4169.8, 2,   1.4541, 2,  34.6866, 2,  34.6862, 2,    151.5, 2,    151.2, 2,   150.73, 2,    36.24, 2,     0.00, 2,     2.53, 2, -999.000, 9, -999.000, 9, -999.000, 9, -999.000, 9,   -999.0, 9,   -999.0, 9, -999.0000,   -999.00,   -999.0, 9,   -999.0,  -999.00, 9,   -999.0,   1.1179, 27.7856,   1.4542, 2, 9, 0.45, 0.13, 0.01, 0.016,  -999.00, 9, -999.00, -999.00, 9, -999.00
49NZ20071008, P14N, 66, 1, 7, X12044, 2, 20071107, 1545, 29.4972, 178.9962, 5133,   4419.4, 2,   1.4594, 2,  34.6887, 2,  34.6885, 2,    154.4, 2,    155.2, 2,   147.79, 2,    35.88, 2,     0.01, 2,     2.51, 2, -999.000, 9, -999.000, 9, -999.000, 9, -999.000, 9,   -999.0, 9,   -999.0, 9, -999.0000,   -999.00,   -999.0, 9,   -999.0,  -999.00, 9,   -999.0,   1.0949, 27.7889,   1.4593, 2, 9, 0.44, 0.13, 0.01, 0.016,  -999.00, 9, -999.00, -999.00, 9, -999.00
49NZ20071008, P14N, 66, 1, 6, X12048, 2, 20071107, 1545, 29.4972, 178.9962, 5133,   4668.8, 2,   1.4700, 2,  34.6904, 2,  34.6901, 2,    158.7, 2,    158.6, 2,   144.83, 2,    35.64, 2,     0.00, 2,     2.50, 2,    0.000, 2,    0.000, 2,    0.000, 2, -999.000, 9,   -999.0, 9,   -999.0, 9, -999.0000,   -999.00,   -999.0, 9,   -999.0,  -999.00, 9,   -999.0,   1.0763, 27.7914,   1.4699, 2, 9, 0.44, 0.13, 0.01, 0.016,  -999.00, 9, -999.00, -999.00, 9, -999.00
49NZ20071008, P14N, 66, 1, 5, X12014, 2, 20071107, 1545, 29.4972, 178.9962, 5133,   4917.9, 2,   1.4899, 2,  34.6912, 2,  34.6910, 2,    160.9, 2,    160.6, 2,   142.96, 2,    35.53, 2,     0.01, 2,     2.49, 2, -999.000, 9, -999.000, 9, -999.000, 9, -999.000, 9,   -999.0, 9,   -999.0, 9, -999.0000,   -999.00,   -999.0, 9,   -999.0,  -999.00, 9,   -999.0,   1.0659, 27.7928,   1.4898, 2, 9, 0.43, 0.13, 0.01, 0.016,  -999.00, 9, -999.00, -999.00, 9, -999.00
49NZ20071008, P14N, 66, 1, 4, X12006, 9, 20071107, 1545, 29.4972, 178.9962, 5133,    472.4, 2,   9.4077, 2,  34.1538, 2, -999.0000, 9,    199.2, 2,   -999.0, 9,  -999.00, 9,  -999.00, 9,  -999.00, 9,  -999.00, 9, -999.000, 9, -999.000, 9, -999.000, 9, -999.000, 9,   -999.0, 9,   -999.0, 9, -999.0000,   -999.00,   -999.0, 9,   -999.0,  -999.00, 9,   -999.0,   9.3547, 26.3984,   9.4092, 2, 9, -999.00, -999.00, -999.00, -999.000,  -999.00, 9, -999.00, -999.00, 9, -999.00
49NZ20071008, P14N, 66, 1, 3, X12013, 9, 20071107, 1545, 29.4972, 178.9962, 5133,    571.9, 2,   7.1823, 2,  34.0239, 2, -999.0000, 9,    167.3, 2,   -999.0, 9,  -999.00, 9,  -999.00, 9,  -999.00, 9,  -999.00, 9, -999.000, 9, -999.000, 9, -999.000, 9, -999.000, 9,   -999.0, 9,   -999.0, 9, -999.0000,   -999.00,   -999.0, 9,   -999.0,  -999.00, 9,   -999.0,   7.1274, 26.6323,   7.1852, 2, 9, -999.00, -999.00, -999.00, -999.000,  -999.00, 9, -999.00, -999.00, 9, -999.00
49NZ20071008, P14N, 66, 1, 2, X12002, 9, 20071107, 1545, 29.4972, 178.9962, 5133,   3420.0, 2,   1.4616, 2,  34.6770, 2, -999.0000, 9,    139.8, 2,   -999.0, 9,  -999.00, 9,  -999.00, 9,  -999.00, 9,  -999.00, 9, -999.000, 9, -999.000, 9, -999.000, 9, -999.000, 9,   -999.0, 9,   -999.0, 9, -999.0000,   -999.00,   -999.0, 9,   -999.0,  -999.00, 9,   -999.0,   1.2046, 27.7719,   1.4615, 2, 9, -999.00, -999.00, -999.00, -999.000,  -999.00, 9, -999.00, -999.00, 9, -999.00
49NZ20071008, P14N, 66, 1, 1, X12001, 2, 20071107, 1545, 29.4972, 178.9962, 5133,   5208.5, 2,   1.5104, 2,  34.6926, 2,  34.6927, 6,    163.9, 2,    163.5, 2,   140.63, 2,    35.37, 2,     0.00, 2,     2.47, 2,    0.000, 2,    0.000, 2,    0.000, 2, -999.000, 9,   -999.0, 9,   -999.0, 9, -999.0000,   -999.00,   -999.0, 9,   -999.0,  -999.00, 9,   -999.0,   1.0502, 27.7950,   1.5104, 2, 9, 0.43, 0.13, 0.01, 0.016,  -999.00, 9, -999.00, -999.00, 9, -999.00