BOTTLE,20221005CCHSIOAMB
EXPOCODE,SECT_ID,STNNBR,CASTNO,SAMPNO,BTLNBR,BTLNBR_FLAG_W,DATE,TIME,LATITUDE,LONGITUDE,DEPTH,CTDPRS,CTDPRS_FLAG_W,CTDTMP,CTDTMP_FLAG_W,CTDSAL,CTDSAL_FLAG_W,SALNTY,SALNTY_FLAG_W,CTDOXY,CTDOXY_FLAG_W,OXYGEN,OXYGEN_FLAG_W,SILCAT,SILCAT_FLAG_W,NITRAT,NITRAT_FLAG_W,NITRIT,NITRIT_FLAG_W,PHSPHT,PHSPHT_FLAG_W,CFC-11,CFC-11_FLAG_W,CFC-12,CFC-12_FLAG_W,CFC113,CFC113_FLAG_W,CCL4,CCL4_FLAG_W,TCARBN,TCARBN_FLAG_W,ALKALI,ALKALI_FLAG_W,PH_TOT,PH_TMP,DELC14,DELC14_FLAG_W,C14ERR,DELC13,DELC13_FLAG_W,C13ERR,THETA,SIG0,SBE35,SBE35_FLAG_W,PH_TOT_FLAG_W,SILUNC,NRAUNC,NRIUNC,PHPUNC,CS-137,CS-137_FLAG_W,CS137ER,PLUTO,PLUTO_FLAG_W,PLUTOER
,,,,,,,,,,,METERS,DBAR,,ITS-90,,PSS-78,,PSS-78,,UMOL/KG,,UMOL/KG,,UMOL/KG,,UMOL/KG,,UMOL/KG,,UMOL/KG,,PMOL/KG,,PMOL/KG,,PMOL/KG,,PMOL/KG,,UMOL/KG,,UMOL/KG,,,DEG C,/MILLE,,/MILLE,/MILLE,,/MILLE,DEG C,KG/M^3,ITS-90,,,UMOL/KG,UMOL/KG,UMOL/KG,UMOL/KG,DM/.1MG,,BQ/M^3,MBQ/M^3,,MBQ/M^3
49NZ20071008, P14N, 94, 1, 36, X12042, 2, 20071115, 1315, 15.5092, 178.9935, 5327,     10.0, 2,  27.8654, 2,  34.7597, 2,  34.7592, 2,    199.3, 2,    199.3, 2,     0.98, 2,     0.07, 2,     0.01, 2,     0.11, 2,    1.547, 2,    0.926, 2,    0.271, 4, -999.000, 9,   1952.8, 2,   2288.7, 2,    8.1154,     25.00,   -999.0, 9,   -999.0,  -999.00, 9,   -999.0,  27.8631, 22.2586,  27.8646, 2, 6, 0.12, 0.03, 0.01, 0.021,  -999.00, 9, -999.00, -999.00, 9, -999.00
49NZ20071008, P14N, 94, 1, 35, X12041, 2, 20071115, 1315, 15.5092, 178.9935, 5327,     50.6, 2,  27.8745, 2,  34.7590, 2,  34.7599, 2,    199.4, 2,    199.2, 2,     0.98, 2,     0.05, 2,     0.01, 2,     0.11, 2,    1.550, 2,    0.942, 2,    0.282, 4, -999.000, 9,   1951.9, 6,   2288.4, 2,    8.1159,     25.00,   -999.0, 9,   -999.0,  -999.00, 9,   -999.0,  27.8626, 22.2582,  27.8731, 2, 2, 0.12, 0.03, 0.01, 0.021,  -999.00, 9, -999.00, -999.00, 9, -999.00
49NZ20071008, P14N, 94, 1, 34, X12016, 2, 20071115, 1315, 15.5092, 178.9935, 5327,    100.1, 2,  26.7302, 2,  35.0560, 2,  35.0572, 2,    212.3, 2,    211.9, 2,     0.89, 2,     0.05, 2,     0.01, 2,     0.09, 2,    1.702, 2,    1.040, 2,    0.775, 4, -999.000, 9,   1971.7, 2,   2308.3, 6,    8.1107,     25.00,   -999.0, 9,   -999.0,  -999.00, 9,   -999.0,  26.7074, 22.8531,  26.7281, 2, 2, 0.12, 0.03, 0.01, 0.024,  -999.00, 9, -999.00, -999.00, 9, -999.00
49NZ20071008, P14N, 94, 1, 33, X12033, 2, 20071115, 1315, 15.5092, 178.9935, 5327,    149.9, 2,  23.9712, 2,  35.1601, 2,  35.1603, 2,    191.9, 2,    192.7, 2,     1.20, 2,     0.13, 2,     0.21, 2,     0.13, 2,    1.904, 6,    1.124, 6,    0.257, 4, -999.000, 9,   2014.2, 2,   2314.5, 2,    8.0499,     25.00,   -999.0, 9,   -999.0,  -999.00, 9,   -999.0,  23.9396, 23.7804,  23.9674, 2, 6, 0.12, 0.03, 0.01, 0.019,  -999.00, 9, -999.00, -999.00, 9, -999.00
49NZ20071008, P14N, 94, 1, 32, X12038, 2, 20071115, 1315, 15.5092, 178.9935, 5327,    199.9, 2,  20.3669, 2,  34.9827, 2,  34.9783, 2,    179.6, 2,    179.3, 2,     2.40, 2,     2.97, 2,     0.03, 2,     0.35, 2,    2.249, 2,    1.301, 2,    0.079, 2, -999.000, 9,   2056.5, 2,   2305.2, 2,    7.9608,     25.00,   -999.0, 9,   -999.0,  -999.00, 9,   -999.0,  20.3295, 24.6612,  20.3713, 2, 2, 0.12, 0.04, 0.01, 0.014,  -999.00, 9, -999.00, -999.00, 9, -999.00
49NZ20071008, P14N, 94, 1, 31, X12003, 2, 20071115, 1315, 15.5092, 178.9935, 5327,    248.9, 2,  15.6132, 2,  34.5166, 2,  34.5034, 6,    178.9, 2,    177.3, 2,     6.88, 2,     8.47, 2,     0.02, 2,     0.72, 2,    2.227, 3,    1.213, 3,    0.038, 3, -999.000, 9,   2080.2, 2,   2273.8, 2,    7.8612,     25.00,   -999.0, 9,   -999.0,  -999.00, 9,   -999.0,  15.5745, 25.4719,  15.6158, 2, 2, 0.13, 0.06, 0.01, 0.013,  -999.00, 9, -999.00, -999.00, 9, -999.00
49NZ20071008, P14N, 94, 1, 30, X12008, 2, 20071115, 1315, 15.5092, 178.9935, 5327,    300.4, 2,  12.1461, 2,  34.2580, 2,  34.2538, 2,    166.7, 2,    160.6, 2,    15.10, 2,    15.68, 2,     0.01, 2,     1.25, 2,    2.754, 2,    1.461, 2,    0.054, 2, -999.000, 9,   2120.7, 2,   2264.5, 2,    7.7465,     25.00,   -999.0, 9,   -999.0,  -999.00, 9,   -999.0,  12.1067, 25.9924,  12.1477, 2, 2, 0.15, 0.08, 0.01, 0.013,  -999.00, 9, -999.00, -999.00, 9, -999.00
49NZ20071008, P14N, 94, 1, 29, X12035, 2, 20071115, 1315, 15.5092, 178.9935, 5327,    400.1, 2,   8.9527, 2,  34.3103, 2,  34.3092, 2,     78.2, 2,     76.1, 2,    37.59, 2,    29.80, 2,     0.01, 2,     2.27, 2,    1.262, 2,    0.600, 2,    0.027, 2, -999.000, 9,   2223.7, 2,   2286.5, 2,    7.5262,     25.00,   -999.0, 9,   -999.0,  -999.00, 9,   -999.0,   8.9093, 26.5925,   8.9576, 2, 2, 0.20, 0.12, 0.01, 0.016,  -999.00, 9, -999.00, -999.00, 9, -999.00
49NZ20071008, P14N, 94, 1, 28, X12034, 2, 20071115, 1315, 15.5092, 178.9935, 5327,    499.8, 2,   7.0843, 2,  34.3604, 2,  34.3632, 6,     48.8, 2,     47.2, 2,    57.01, 2,    36.28, 2,     0.01, 2,     2.71, 2,    0.328, 2,    0.158, 2,    0.017, 2, -999.000, 9,   2274.1, 2,   2311.3, 2,    7.4493,     25.00,   -999.0, 9,   -999.0,  -999.00, 9,   -999.0,   7.0366, 26.9099,   7.0847, 2, 2, 0.24, 0.13, 0.01, 0.017,  -999.00, 9, -999.00, -999.00, 9, -999.00
49NZ20071008, P14N, 94, 1, 27, X12049, 2, 20071115, 1315, 15.5092, 178.9935, 5327,    599.7, 2,   6.4996, 2,  34.4464, 2,  34.4460, 2,     48.3, 2,     48.1, 2,    63.84, 2,    37.93, 2,     0.01, 2,     2.80, 2,    0.112, 2,    0.054, 2,    0.005, 2, -999.000, 9,   2286.3, 2,   2324.3, 2,    7.4539,     25.00,   -999.0, 9,   -999.0,  -999.00, 9,   -999.0,   6.4446, 27.0577,   6.5003, 2, 2, 0.26, 0.14, 0.01, 0.017,  -999.00, 9, -999.00, -999.00, 9, -999.00
49NZ20071008, P14N, 94, 1, 26, X12032, 2, 20071115, 1315, 15.5092, 178.9935, 5327,    700.5, 2,   5.8601, 2,  34.4853, 2,  34.4848, 2,     54.9, 2,     54.6, 2,    71.58, 2,    38.80, 2,     0.01, 2,     2.85, 2,    0.054, 6,    0.027, 6,    0.012, 6, -999.000, 9,   2292.9, 6,   2336.3, 2,    7.4613,     25.00,   -999.0, 9,   -999.0,  -999.00, 9,   -999.0,   5.7987, 27.1713,   5.8607, 2, 2, 0.28, 0.14, 0.01, 0.017,  -999.00, 9, -999.00, -999.00, 9, -999.00
49NZ20071008, P14N, 94, 1, 25, X12043, 2, 20071115, 1315, 15.5092, 178.9935, 5327,    800.4, 2,   5.3917, 2,  34.5046, 2,  34.5034, 2,     56.7, 2,     56.6, 2,    78.74, 2,    39.67, 2,     0.01, 2,     2.89, 2,    0.033, 2,    0.016, 2,    0.004, 2, -999.000, 9,   2301.3, 2,   2345.2, 6,    7.4601,     25.00,   -999.0, 9,   -999.0,  -999.00, 9,   -999.0,   5.3238, 27.2445,   5.3919, 2, 2, 0.29, 0.14, 0.01, 0.017,  -999.00, 9, -999.00, -999.00, 9, -999.00
49NZ20071008, P14N, 94, 1, 24, X12030, 2, 20071115, 1315, 15.5092, 178.9935, 5327,    900.5, 2,   4.9934, 2,  34.5168, 2,  34.5168, 2,     58.1, 2,     57.8, 2,    85.51, 2,    40.25, 2,     0.01, 2,     2.92, 2,    0.015, 2,    0.009, 2,    0.000, 2, -999.000, 9,   2310.4, 2,   2353.6, 2,    7.4584,     25.00,   -999.0, 9,   -999.0,  -999.00, 9,   -999.0,   4.9191, 27.3015,   4.9941, 2, 6, 0.31, 0.15, 0.01, 0.017,  -999.00, 9, -999.00, -999.00, 9, -999.00
49NZ20071008, P14N, 94, 1, 23, X12027, 2, 20071115, 1315, 15.5092, 178.9935, 5327,    999.8, 2,   4.5528, 2,  34.5311, 2,  34.5309, 6,     60.2, 2,     60.0, 2,    93.72, 2,    40.73, 2,     0.01, 2,     2.95, 2,    0.010, 2,    0.005, 2,    0.000, 2, -999.000, 9,   2321.4, 2,   2363.0, 2,    7.4595,     25.00,   -999.0, 9,   -999.0,  -999.00, 9,   -999.0,   4.4729, 27.3628,   4.5531, 2, 2, 0.33, 0.15, 0.01, 0.017,  -999.00, 9, -999.00, -999.00, 9, -999.00
49NZ20071008, P14N, 94, 1, 22, X12028, 2, 20071115, 1315, 15.5092, 178.9935, 5327,   1202.1, 2,   3.8050, 2,  34.5552, 2,  34.5550, 2,     66.1, 2,     66.0, 2,   108.73, 2,    40.95, 2,     0.01, 2,     2.97, 2,    0.000, 2,    0.000, 2,    0.000, 2, -999.000, 9,   2333.4, 2,   2379.6, 2,    7.4629,     25.00,   -999.0, 9,   -999.0,  -999.00, 9,   -999.0,   3.7139, 27.4615,   3.8052, 2, 2, 0.36, 0.15, 0.01, 0.017,  -999.00, 9, -999.00, -999.00, 9, -999.00
49NZ20071008, P14N, 94, 1, 21, X12009, 2, 20071115, 1315, 15.5092, 178.9935, 5327,   1401.3, 2,   3.2479, 2,  34.5751, 2,  34.5753, 2,     73.4, 2,     73.5, 2,   120.64, 2,    40.90, 2,     0.01, 2,     2.95, 2,    0.000, 2,    0.000, 2,    0.000, 2, -999.000, 9,   2343.5, 2,   2390.9, 2,    7.4722,     25.00,   -999.0, 9,   -999.0,  -999.00, 9,   -999.0,   3.1456, 27.5325,   3.2482, 2, 2, 0.38, 0.15, 0.01, 0.017,  -999.00, 9, -999.00, -999.00, 9, -999.00
49NZ20071008, P14N, 94, 1, 20, X12026, 2, 20071115, 1315, 15.5092, 178.9935, 5327,   1600.7, 2,   2.7845, 2,  34.5939, 2,  34.5943, 2,     83.6, 2,     83.0, 2,   130.28, 2,    40.53, 2,     0.01, 2,     2.91, 2,    0.000, 2,    0.000, 2,    0.000, 2, -999.000, 9,   2348.1, 2,   2400.3, 2,    7.4858,     25.00,   -999.0, 9,   -999.0,  -999.00, 9,   -999.0,   2.6708, 27.5904,   2.7846, 2, 6, 0.41, 0.15, 0.01, 0.017,  -999.00, 9, -999.00, -999.00, 9, -999.00
49NZ20071008, P14N, 94, 1, 19, X12025, 2, 20071115, 1315, 15.5092, 178.9935, 5327,   1801.4, 2,   2.4318, 2,  34.6130, 2,  34.6130, 2,     92.6, 2,     91.9, 2,   137.54, 2,    40.09, 2,     0.01, 2,     2.87, 2,    0.000, 2,    0.000, 2,    0.000, 2, -999.000, 9,   2348.4, 2,   2408.3, 2,    7.5011,     25.00,   -999.0, 9,   -999.0,  -999.00, 9,   -999.0,   2.3058, 27.6368,   2.4321, 2, 2, 0.42, 0.15, 0.01, 0.017,  -999.00, 9, -999.00, -999.00, 9, -999.00
49NZ20071008, P14N, 94, 1, 18, X12024, 2, 20071115, 1315, 15.5092, 178.9935, 5327,   2000.7, 2,   2.2107, 2,  34.6273, 2,  34.6274, 2,    100.8, 2,     99.7, 2,   141.80, 2,    39.66, 2,     0.01, 2,     2.82, 2,    0.000, 2,    0.000, 2,    0.000, 2, -999.000, 9,   2350.3, 2,   2413.4, 2,    7.5129,     25.00,   -999.0, 9,   -999.0,  -999.00, 9,   -999.0,   2.0710, 27.6674,   2.2108, 2, 2, 0.43, 0.14, 0.01, 0.017,  -999.00, 9, -999.00, -999.00, 9, -999.00
49NZ20071008, P14N, 94, 1, 17, X12023, 2, 20071115, 1315, 15.5092, 178.9935, 5327,   2201.1, 2,   2.0111, 2,  34.6380, 2,  34.6382, 2,    108.0, 2,    107.2, 2,   145.15, 2,    39.11, 2,     0.01, 2,     2.77, 2,    0.000, 2,    0.000, 2,    0.000, 2, -999.000, 9,   2349.8, 2,   2415.7, 2,    7.5248,     25.00,   -999.0, 9,   -999.0,  -999.00, 9,   -999.0,   1.8573, 27.6928,   2.0109, 2, 2, 0.44, 0.14, 0.01, 0.017,  -999.00, 9, -999.00, -999.00, 9, -999.00
49NZ20071008, P14N, 94, 1, 16, X12022, 2, 20071115, 1315, 15.5092, 178.9935, 5327,   2400.2, 2,   1.8701, 2,  34.6476, 2,  34.6475, 6,    114.1, 2,    113.2, 2,   147.99, 2,    38.90, 2,     0.01, 2,     2.75, 2,    0.000, 2,    0.000, 2,    0.000, 2, -999.000, 9,   2348.8, 6,   2418.8, 2,    7.5348,     25.00,   -999.0, 9,   -999.0,  -999.00, 9,   -999.0,   1.7012, 27.7124,   1.8701, 2, 2, 0.44, 0.14, 0.01, 0.017,  -999.00, 9, -999.00, -999.00, 9, -999.00
49NZ20071008, P14N, 94, 1, 15, X12021, 2, 20071115, 1315, 15.5092, 178.9935, 5327,   2600.7, 2,   1.7559, 2,  34.6557, 2,  34.6559, 2,    120.7, 2,    119.4, 2,   149.90, 2,    38.51, 2,     0.01, 2,     2.72, 2, -999.000, 9, -999.000, 9, -999.000, 9, -999.000, 9,   2345.0, 2,   2421.2, 6,    7.5448,     25.00,   -999.0, 9,   -999.0,  -999.00, 9,   -999.0,   1.5711, 27.7287,   1.7559, 2, 2, 0.45, 0.14, 0.01, 0.017,  -999.00, 9, -999.00, -999.00, 9, -999.00
49NZ20071008, P14N, 94, 1, 14, X12020, 2, 20071115, 1315, 15.5092, 178.9935, 5327,   2801.1, 2,   1.6614, 2,  34.6625, 2,  34.6624, 2,    125.6, 2,    125.5, 2,   150.61, 2,    38.04, 2,     0.01, 2,     2.68, 2,    0.000, 2,    0.000, 2,    0.000, 2, -999.000, 9,   2342.5, 2,   2422.0, 2,    7.5538,     25.00,   -999.0, 9,   -999.0,  -999.00, 9,   -999.0,   1.4600, 27.7422,   1.6615, 2, 6, 0.45, 0.14, 0.01, 0.017,  -999.00, 9, -999.00, -999.00, 9, -999.00
49NZ20071008, P14N, 94, 1, 13, X12019, 2, 20071115, 1315, 15.5092, 178.9935, 5327,   3001.6, 2,   1.6082, 2,  34.6689, 2,  34.6686, 2,    131.5, 2,    130.1, 2,   151.12, 2,    37.77, 2,     0.01, 2,     2.66, 2, -999.000, 9, -999.000, 9, -999.000, 9, -999.000, 9,   2340.6, 2,   2423.0, 2,    7.5624,     25.00,   -999.0, 9,   -999.0,  -999.00, 9,   -999.0,   1.3889, 27.7525,   1.6082, 2, 2, 0.45, 0.14, 0.01, 0.017,  -999.00, 9, -999.00, -999.00, 9, -999.00
49NZ20071008, P14N, 94, 1, 12, X12040, 2, 20071115, 1315, 15.5092, 178.9935, 5327,   3249.9, 2,   1.5418, 2,  34.6749, 2,  34.6745, 2,    137.5, 2,    136.8, 2,   150.40, 2,    37.20, 2,     0.01, 2,     2.60, 2, -999.000, 9, -999.000, 9, -999.000, 9, -999.000, 9,   2339.7, 2,   2421.8, 2,    7.5721,     25.00,   -999.0, 9,   -999.0,  -999.00, 9,   -999.0,   1.2998, 27.7636,   1.5417, 2, 2, 0.45, 0.14, 0.01, 0.016,  -999.00, 9, -999.00, -999.00, 9, -999.00
49NZ20071008, P14N, 94, 1, 11, X12047, 2, 20071115, 1315, 15.5092, 178.9935, 5327,   3499.9, 2,   1.5061, 2,  34.6796, 2,  34.6794, 2,    142.6, 2,    142.2, 2,   149.06, 2,    36.77, 2,     0.01, 2,     2.59, 2,    0.000, 2,    0.001, 2,    0.000, 2, -999.000, 9,   2335.6, 2,   2421.9, 2,    7.5797,     25.00,   -999.0, 9,   -999.0,  -999.00, 9,   -999.0,   1.2398, 27.7715,   1.5060, 2, 2, 0.45, 0.14, 0.01, 0.016,  -999.00, 9, -999.00, -999.00, 9, -999.00
49NZ20071008, P14N, 94, 1, 10, X12012, 2, 20071115, 1315, 15.5092, 178.9935, 5327,   3749.5, 2,   1.4769, 2,  34.6834, 2,  34.6827, 2,    147.7, 2,    147.4, 2,   147.85, 2,    36.65, 2,     0.01, 2,     2.56, 2, -999.000, 9, -999.000, 9, -999.000, 9, -999.000, 9,   2329.0, 2,   2420.1, 2,    7.5868,     25.00,   -999.0, 9,   -999.0,  -999.00, 9,   -999.0,   1.1855, 27.7784,   1.4769, 2, 2, 0.44, 0.14, 0.01, 0.016,  -999.00, 9, -999.00, -999.00, 9, -999.00
49NZ20071008, P14N, 94, 1, 9, X12015, 2, 20071115, 1315, 15.5092, 178.9935, 5327,   3999.7, 2,   1.4481, 2,  34.6867, 2,  34.6868, 6,    153.5, 2,    153.6, 2,   145.08, 2,    36.16, 2,     0.00, 2,     2.53, 2, -999.000, 9, -999.000, 9, -999.000, 9, -999.000, 9,   2322.9, 2,   2417.5, 2,    7.5941,     25.00,   -999.0, 9,   -999.0,  -999.00, 9,   -999.0,   1.1307, 27.7848,   1.4481, 2, 2, 0.44, 0.13, 0.01, 0.016,  -999.00, 9, -999.00, -999.00, 9, -999.00
49NZ20071008, P14N, 94, 1, 8, X12046, 2, 20071115, 1315, 15.5092, 178.9935, 5327,   4250.6, 2,   1.4180, 2,  34.6908, 2,  34.6906, 2,    160.8, 2,    161.7, 2,   139.85, 2,    35.55, 2,     0.01, 2,     2.48, 2,    0.000, 2,    0.000, 2,    0.000, 2, -999.000, 9,   2314.7, 6,   2412.3, 2,    7.6017,     25.00,   -999.0, 9,   -999.0,  -999.00, 9,   -999.0,   1.0738, 27.7919,   1.4180, 2, 2, 0.43, 0.13, 0.01, 0.016,  -999.00, 9, -999.00, -999.00, 9, -999.00
49NZ20071008, P14N, 94, 1, 7, X12044, 2, 20071115, 1315, 15.5092, 178.9935, 5327,   4500.7, 2,   1.3893, 2,  34.6946, 2,  34.6946, 2,    170.2, 2,    169.3, 2,   135.62, 2,    34.97, 2,     0.00, 2,     2.44, 2, -999.000, 9, -999.000, 9, -999.000, 9, -999.000, 9,   2307.3, 2,   2406.0, 6,    7.6098,     25.00,   -999.0, 9,   -999.0,  -999.00, 9,   -999.0,   1.0176, 27.7988,   1.3893, 2, 2, 0.42, 0.13, 0.01, 0.016,  -999.00, 9, -999.00, -999.00, 9, -999.00
49NZ20071008, P14N, 94, 1, 6, X12048, 2, 20071115, 1315, 15.5092, 178.9935, 5327,   4750.7, 2,   1.3405, 2,  34.7000, 2,  34.7001, 2,    180.4, 2,    180.5, 2,   128.32, 2,    34.09, 2,     0.01, 2,     2.38, 2, -999.000, 9, -999.000, 9, -999.000, 9, -999.000, 9,   2295.1, 2,   2398.2, 2,    7.6195,     25.00,   -999.0, 9,   -999.0,  -999.00, 9,   -999.0,   0.9413, 27.8081,   1.3404, 2, 2, 0.40, 0.13, 0.01, 0.016,  -999.00, 9, -999.00, -999.00, 9, -999.00
49NZ20071008, P14N, 94, 1, 5, X12014, 2, 20071115, 1315, 15.5092, 178.9935, 5327,   4999.2, 2,   1.3259, 2,  34.7024, 2,  34.7024, 2,    185.9, 2,    185.7, 2,   125.55, 2,    33.77, 2,     0.01, 2,     2.36, 2,    0.000, 2,    0.000, 2,    0.000, 2, -999.000, 9,   2287.9, 2,   2393.6, 2,    7.6233,     25.00,   -999.0, 9,   -999.0,  -999.00, 9,   -999.0,   0.8976, 27.8130,   1.3259, 2, 2, 0.40, 0.13, 0.01, 0.016,  -999.00, 9, -999.00, -999.00, 9, -999.00
49NZ20071008, P14N, 94, 1, 4, X12006, 2, 20071115, 1315, 15.5092, 178.9935, 5327,   5249.4, 2,   1.3458, 2,  34.7030, 2,  34.7030, 2,    187.5, 2,    187.2, 2,   124.92, 2,    33.64, 2,     0.00, 2,     2.35, 2, -999.000, 9, -999.000, 9, -999.000, 9, -999.000, 9,   2284.3, 4,   2391.4, 2,    7.6249,     25.00,   -999.0, 9,   -999.0,  -999.00, 9,   -999.0,   0.8862, 27.8142,   1.3457, 2, 2, 0.39, 0.13, 0.01, 0.016,  -999.00, 9, -999.00, -999.00, 9, -999.00
49NZ20071008, P14N, 94, 1, 3, X12013, 9, 20071115, 1315, 15.5092, 178.9935, 5327,    900.4, 2,   4.9943, 2,  34.5168, 2, -999.0000, 9,     58.1, 2,   -999.0, 9,  -999.00, 9,  -999.00, 9,  -999.00, 9,  -999.00, 9, -999.000, 9, -999.000, 9, -999.000, 9, -999.000, 9,   -999.0, 9,   -999.0, 9, -999.0000,   -999.00,   -999.0, 9,   -999.0,  -999.00, 9,   -999.0,   4.9200, 27.3014,   4.9947, 2, 9, -999.00, -999.00, -999.00, -999.000,  -999.00, 9, -999.00, -999.00, 9, -999.00
49NZ20071008, P14N, 94, 1, 2, X12002, 9, 20071115, 1315, 15.5092, 178.9935, 5327,   5418.9, 2,   1.3656, 2,  34.7031, 2, -999.0000, 9,    187.6, 2,   -999.0, 9,  -999.00, 9,  -999.00, 9,  -999.00, 9,  -999.00, 9, -999.000, 9, -999.000, 9, -999.000, 9, -999.000, 9,   -999.0, 9,   -999.0, 9, -999.0000,   -999.00,   -999.0, 9,   -999.0,  -999.00, 9,   -999.0,   0.8841, 27.8144,   1.3656, 2, 9, -999.00, -999.00, -999.00, -999.000,  -999.00, 9, -999.00, -999.00, 9, -999.00
49NZ20071008, P14N, 94, 1, 1, X12001, 2, 20071115, 1315, 15.5092, 178.9935, 5327,   5418.3, 2,   1.3656, 2,  34.7030, 2,  34.7032, 6,    187.7, 2,    187.5, 2,   124.75, 2,    33.75, 2,     0.01, 2,     2.35, 2,    0.001, 2,    0.003, 2,    0.000, 2, -999.000, 9,   2284.2, 2,   2391.2, 2,    7.6245,     25.00,   -999.0, 9,   -999.0,  -999.00, 9,   -999.0,   0.8842, 27.8143,   1.3657, 2, 2, 0.39, 0.13, 0.01, 0.016,  -999.00, 9, -999.00, -999.00, 9, -999.00