BOTTLE,20221005CCHSIOAMB
EXPOCODE,SECT_ID,STNNBR,CASTNO,SAMPNO,BTLNBR,BTLNBR_FLAG_W,DATE,TIME,LATITUDE,LONGITUDE,DEPTH,CTDPRS,CTDPRS_FLAG_W,CTDTMP,CTDTMP_FLAG_W,CTDSAL,CTDSAL_FLAG_W,SALNTY,SALNTY_FLAG_W,CTDOXY,CTDOXY_FLAG_W,OXYGEN,OXYGEN_FLAG_W,SILCAT,SILCAT_FLAG_W,NITRAT,NITRAT_FLAG_W,NITRIT,NITRIT_FLAG_W,PHSPHT,PHSPHT_FLAG_W,CFC-11,CFC-11_FLAG_W,CFC-12,CFC-12_FLAG_W,CFC113,CFC113_FLAG_W,CCL4,CCL4_FLAG_W,TCARBN,TCARBN_FLAG_W,ALKALI,ALKALI_FLAG_W,PH_TOT,PH_TMP,DELC14,DELC14_FLAG_W,C14ERR,DELC13,DELC13_FLAG_W,C13ERR,THETA,SIG0,SBE35,SBE35_FLAG_W,PH_TOT_FLAG_W,SILUNC,NRAUNC,NRIUNC,PHPUNC,CS-137,CS-137_FLAG_W,CS137ER,PLUTO,PLUTO_FLAG_W,PLUTOER
,,,,,,,,,,,METERS,DBAR,,ITS-90,,PSS-78,,PSS-78,,UMOL/KG,,UMOL/KG,,UMOL/KG,,UMOL/KG,,UMOL/KG,,UMOL/KG,,PMOL/KG,,PMOL/KG,,PMOL/KG,,PMOL/KG,,UMOL/KG,,UMOL/KG,,,DEG C,/MILLE,,/MILLE,/MILLE,,/MILLE,DEG C,KG/M^3,ITS-90,,,UMOL/KG,UMOL/KG,UMOL/KG,UMOL/KG,DM/.1MG,,BQ/M^3,MBQ/M^3,,MBQ/M^3
49NZ20071008, P14N, X04, 1, 36, X12042, 2, 20071118, 1419, 9.4957, 178.8233, 5640,     10.1, 2,  28.2982, 2,  34.2102, 2,  34.2270, 2,    197.9, 2,    197.3, 2,     1.02, 2,     0.06, 2,     0.01, 2,     0.15, 2,    1.498, 2,    0.943, 2,    0.262, 4, -999.000, 9,   1918.7, 2,   2252.2, 2,    8.1215,     25.00,   -999.0, 1,   -999.0,  -999.00, 1,   -999.0,  28.2958, 21.7041,  28.2976, 2, 6, 0.12, 0.03, 0.01, 0.018,  -999.00, 9, -999.00, -999.00, 9, -999.00
49NZ20071008, P14N, X04, 1, 35, X12041, 2, 20071118, 1419, 9.4957, 178.8233, 5640,     49.2, 2,  28.3599, 2,  34.2810, 2,  34.2825, 2,    197.4, 2,    197.1, 2,     1.04, 2,     0.04, 2,     0.01, 2,     0.15, 2,    1.486, 2,    0.922, 2,    0.260, 4, -999.000, 9,   1923.7, 6,   2255.5, 2,    8.1207,     25.00,   -999.0, 1,   -999.0,  -999.00, 1,   -999.0,  28.3482, 21.7401,  28.3573, 2, 2, 0.12, 0.03, 0.01, 0.018,  -999.00, 9, -999.00, -999.00, 9, -999.00
49NZ20071008, P14N, X04, 1, 34, X12016, 2, 20071118, 1419, 9.4957, 178.8233, 5640,     99.5, 2,  23.7152, 2,  34.8871, 2,  34.8925, 2,    197.9, 2,    200.9, 2,     1.45, 2,     0.09, 2,     0.03, 2,     0.17, 2,    1.941, 2,    1.185, 2,    0.364, 4, -999.000, 9,   2011.1, 2,   2303.5, 6,    8.0372,     25.00,   -999.0, 1,   -999.0,  -999.00, 1,   -999.0,  23.6945, 23.6460,  23.7186, 2, 2, 0.12, 0.03, 0.01, 0.017,  -999.00, 9, -999.00, -999.00, 9, -999.00
49NZ20071008, P14N, X04, 1, 33, X12033, 2, 20071118, 1419, 9.4957, 178.8233, 5640,    150.1, 2,  14.9210, 2,  34.4548, 2,  34.4506, 2,    152.5, 2,    154.8, 2,     9.36, 2,    11.59, 2,     0.03, 2,     0.96, 2,    2.513, 6,    1.427, 6,    0.054, 6, -999.000, 9,   2106.6, 2,   2274.3, 2,    7.8046,     25.00,   -999.0, 1,   -999.0,  -999.00, 1,   -999.0,  14.8985, 25.5738,  14.9263, 2, 6, 0.14, 0.07, 0.01, 0.013,  -999.00, 9, -999.00, -999.00, 9, -999.00
49NZ20071008, P14N, X04, 1, 32, X12038, 2, 20071118, 1419, 9.4957, 178.8233, 5640,    199.9, 2,  11.4422, 2,  34.5395, 2,  34.5464, 2,     53.5, 2,     41.9, 2,    26.38, 2,    29.57, 2,     0.01, 2,     2.23, 2,    1.084, 2,    0.562, 2,    0.029, 2, -999.000, 9,   2227.7, 2,   2289.4, 2,    7.5248,     25.00,   -999.0, 1,   -999.0,  -999.00, 1,   -999.0,  11.4170, 26.3408,  11.4413, 2, 2, 0.18, 0.12, 0.01, 0.016,  -999.00, 9, -999.00, -999.00, 9, -999.00
49NZ20071008, P14N, X04, 1, 31, X12003, 2, 20071118, 1419, 9.4957, 178.8233, 5640,    250.5, 2,  10.5589, 2,  34.6676, 2,  34.6664, 6,     15.0, 2,     14.6, 2,    31.32, 2,    34.29, 2,     0.01, 2,     2.51, 2,    0.361, 2,    0.194, 2,    0.013, 2, -999.000, 9,   2258.0, 2,   2300.2, 2,    7.4627,     25.00,   -999.0, 1,   -999.0,  -999.00, 1,   -999.0,  10.5289, 26.6007,  10.5514, 2, 2, 0.19, 0.13, 0.01, 0.016,  -999.00, 9, -999.00, -999.00, 9, -999.00
49NZ20071008, P14N, X04, 1, 30, X12008, 2, 20071118, 1419, 9.4957, 178.8233, 5640,    302.2, 2,   9.8638, 2,  34.6513, 2,  34.6499, 2,     20.6, 2,     20.8, 2,    33.74, 2,    35.04, 2,     0.01, 2,     2.54, 2,    0.257, 2,    0.137, 2,    0.008, 2, -999.000, 9,   2261.0, 2,   2303.9, 2,    7.4627,     25.00,   -999.0, 1,   -999.0,  -999.00, 1,   -999.0,   9.8290, 26.7087,   9.8670, 2, 2, 0.19, 0.13, 0.01, 0.016,  -999.00, 9, -999.00, -999.00, 9, -999.00
49NZ20071008, P14N, X04, 1, 29, X12035, 2, 20071118, 1419, 9.4957, 178.8233, 5640,    400.2, 2,   9.0549, 2,  34.6187, 2,  34.6162, 2,     32.9, 2,     33.1, 2,    37.69, 2,    35.56, 2,     0.01, 2,     2.58, 2,    0.196, 2,    0.104, 2,    0.004, 2, -999.000, 9,   2261.0, 2,   2307.9, 2,    7.4712,     25.00,   -999.0, 1,   -999.0,  -999.00, 1,   -999.0,   9.0110, 26.8178,   9.0560, 2, 2, 0.20, 0.13, 0.01, 0.016,  -999.00, 9, -999.00, -999.00, 9, -999.00
49NZ20071008, P14N, X04, 1, 28, X12034, 2, 20071118, 1419, 9.4957, 178.8233, 5640,    502.1, 2,   7.9410, 2,  34.5710, 2,  34.5698, 6,     36.6, 2,     36.7, 2,    46.15, 2,    37.17, 2,     0.01, 2,     2.71, 2,    0.093, 2,    0.049, 2,    0.007, 2, -999.000, 9,   2275.5, 2,   2314.9, 2,    7.4583,     25.00,   -999.0, 1,   -999.0,  -999.00, 1,   -999.0,   7.8897, 26.9533,   7.9413, 2, 2, 0.22, 0.14, 0.01, 0.017,  -999.00, 9, -999.00, -999.00, 9, -999.00
49NZ20071008, P14N, X04, 1, 27, X12049, 2, 20071118, 1419, 9.4957, 178.8233, 5640,    601.3, 2,   6.9637, 2,  34.5400, 2,  34.5392, 2,     36.4, 2,     37.8, 2,    56.43, 2,    38.94, 2,     0.00, 2,     2.85, 2,    0.040, 2,    0.019, 2,    0.000, 2, -999.000, 9,   2287.0, 2,   2324.3, 2,    7.4455,     25.00,   -999.0, 1,   -999.0,  -999.00, 1,   -999.0,   6.9063, 27.0693,   6.9640, 2, 2, 0.24, 0.14, 0.01, 0.017,  -999.00, 9, -999.00, -999.00, 9, -999.00
49NZ20071008, P14N, X04, 1, 26, X12032, 2, 20071118, 1419, 9.4957, 178.8233, 5640,    699.1, 2,   6.1753, 2,  34.5297, 2,  34.5298, 2,     47.2, 2,     45.6, 2,    65.62, 2,    39.89, 2,     0.01, 2,     2.90, 2,    0.025, 6,    0.015, 6,    0.000, 6, -999.000, 9,   2296.7, 6,   2334.2, 2,    7.4475,     25.00,   -999.0, 1,   -999.0,  -999.00, 1,   -999.0,   6.1123, 27.1667,   6.1758, 2, 2, 0.26, 0.14, 0.01, 0.017,  -999.00, 9, -999.00, -999.00, 9, -999.00
49NZ20071008, P14N, X04, 1, 25, X12043, 2, 20071118, 1419, 9.4957, 178.8233, 5640,    802.0, 2,   5.5115, 2,  34.5340, 2,  34.5340, 2,     54.5, 2,     53.7, 2,    73.97, 2,    40.30, 2,     0.01, 2,     2.92, 2,    0.016, 2,    0.008, 2,    0.000, 2, -999.000, 9,   2302.9, 2,   2343.9, 6,    7.4553,     25.00,   -999.0, 1,   -999.0,  -999.00, 1,   -999.0,   5.4427, 27.2535,   5.5103, 2, 2, 0.28, 0.15, 0.01, 0.017,  -999.00, 9, -999.00, -999.00, 9, -999.00
49NZ20071008, P14N, X04, 1, 24, X12030, 2, 20071118, 1419, 9.4957, 178.8233, 5640,    901.5, 2,   4.9393, 2,  34.5420, 2,  34.5412, 2,     60.4, 2,     58.0, 2,    84.04, 2,    40.67, 2,     0.01, 2,     2.93, 2,    0.008, 2,    0.003, 2,    0.000, 2, -999.000, 9,   2313.9, 2,   2354.4, 2,    7.4577,     25.00,   -999.0, 1,   -999.0,  -999.00, 1,   -999.0,   4.8652, 27.3276,   4.9399, 2, 6, 0.30, 0.15, 0.01, 0.017,  -999.00, 9, -999.00, -999.00, 9, -999.00
49NZ20071008, P14N, X04, 1, 23, X12027, 2, 20071118, 1419, 9.4957, 178.8233, 5640,   1000.0, 2,   4.5367, 2,  34.5494, 2,  34.5495, 6,     64.4, 2,     64.6, 2,    91.42, 2,    40.65, 2,     0.01, 2,     2.92, 2,    0.005, 2,    0.001, 2,    0.000, 2, -999.000, 9,   2318.2, 2,   2363.2, 2,    7.4656,     25.00,   -999.0, 1,   -999.0,  -999.00, 1,   -999.0,   4.4568, 27.3791,   4.5371, 2, 2, 0.32, 0.15, 0.01, 0.017,  -999.00, 9, -999.00, -999.00, 9, -999.00
49NZ20071008, P14N, X04, 1, 22, X12028, 2, 20071118, 1419, 9.4957, 178.8233, 5640,   1202.5, 2,   3.7561, 2,  34.5755, 2,  34.5757, 2,     70.8, 2,     70.5, 2,   106.51, 2,    41.07, 2,     0.01, 2,     2.96, 2,    0.000, 2,    0.000, 2,    0.000, 2, -999.000, 9,   2332.9, 2,   2380.6, 2,    7.4700,     25.00,   -999.0, 1,   -999.0,  -999.00, 1,   -999.0,   3.6654, 27.4826,   3.7565, 2, 2, 0.35, 0.15, 0.01, 0.017,  -999.00, 9, -999.00, -999.00, 9, -999.00
49NZ20071008, P14N, X04, 1, 21, X12009, 2, 20071118, 1419, 9.4957, 178.8233, 5640,   1398.6, 2,   3.2292, 2,  34.5944, 2,  34.5944, 2,     77.0, 2,     77.3, 2,   118.05, 2,    40.96, 2,     0.01, 2,     2.95, 2,    0.000, 2,    0.000, 2,    0.000, 2, -999.000, 9,   2342.3, 2,   2392.6, 2,    7.4786,     25.00,   -999.0, 1,   -999.0,  -999.00, 1,   -999.0,   3.1272, 27.5495,   3.2288, 2, 2, 0.38, 0.15, 0.01, 0.017,  -999.00, 9, -999.00, -999.00, 9, -999.00
49NZ20071008, P14N, X04, 1, 20, X12026, 2, 20071118, 1419, 9.4957, 178.8233, 5640,   1600.2, 2,   2.8244, 2,  34.6095, 2,  34.6095, 2,     85.3, 2,     85.2, 2,   127.20, 2,    40.49, 2,     0.01, 2,     2.90, 2,    0.000, 4,    0.000, 4,    0.000, 4, -999.000, 9,   2346.2, 2,   2402.1, 2,    7.4915,     25.00,   -999.0, 1,   -999.0,  -999.00, 1,   -999.0,   2.7102, 27.5994,   2.8244, 2, 6, 0.40, 0.15, 0.01, 0.017,  -999.00, 9, -999.00, -999.00, 9, -999.00
49NZ20071008, P14N, X04, 1, 19, X12025, 2, 20071118, 1419, 9.4957, 178.8233, 5640,   1801.8, 2,   2.4631, 2,  34.6250, 2,  34.6254, 2,     94.0, 2,     94.6, 2,   134.86, 2,    39.86, 2,     0.01, 2,     2.85, 2,    0.000, 4,    0.000, 4,    0.000, 4, -999.000, 9,   2348.3, 2,   2411.1, 2,    7.5070,     25.00,   -999.0, 1,   -999.0,  -999.00, 1,   -999.0,   2.3366, 27.6438,   2.4632, 2, 2, 0.42, 0.14, 0.01, 0.017,  -999.00, 9, -999.00, -999.00, 9, -999.00
49NZ20071008, P14N, X04, 1, 18, X12024, 2, 20071118, 1419, 9.4957, 178.8233, 5640,   1999.9, 2,   2.1999, 2,  34.6384, 2,  34.6393, 2,    102.0, 2,    102.2, 2,   140.68, 2,    39.43, 2,     0.01, 2,     2.80, 2,    0.000, 4,    0.000, 4,    0.000, 4, -999.000, 9,   2353.9, 2,   2417.3, 2,    7.5197,     25.00,   -999.0, 1,   -999.0,  -999.00, 1,   -999.0,   2.0604, 27.6772,   2.1999, 2, 2, 0.43, 0.14, 0.01, 0.017,  -999.00, 9, -999.00, -999.00, 9, -999.00
49NZ20071008, P14N, X04, 1, 17, X12023, 2, 20071118, 1419, 9.4957, 178.8233, 5640,   2202.6, 2,   2.0549, 2,  34.6481, 2,  34.6480, 2,    107.1, 2,    107.7, 2,   143.61, 2,    39.08, 2,     0.01, 2,     2.77, 2, -999.000, 9, -999.000, 9, -999.000, 9, -999.000, 9,   2355.6, 2,   2420.7, 2,    7.5289,     25.00,   -999.0, 1,   -999.0,  -999.00, 1,   -999.0,   1.9002, 27.6976,   2.0552, 2, 2, 0.43, 0.14, 0.01, 0.017,  -999.00, 9, -999.00, -999.00, 9, -999.00
49NZ20071008, P14N, X04, 1, 16, X12022, 2, 20071118, 1419, 9.4957, 178.8233, 5640,   2400.3, 2,   1.9501, 2,  34.6549, 2,  34.6547, 2,    112.2, 2,    112.4, 2,   145.29, 2,    38.81, 2,     0.01, 2,     2.75, 2,    0.000, 4,    0.000, 4,    0.000, 4, -999.000, 9,   2353.1, 6,   2422.5, 2,    7.5375,     25.00,   -999.0, 1,   -999.0,  -999.00, 1,   -999.0,   1.7797, 27.7123,   1.9510, 2, 2, 0.44, 0.14, 0.01, 0.017,  -999.00, 9, -999.00, -999.00, 9, -999.00
49NZ20071008, P14N, X04, 1, 15, X12021, 2, 20071118, 1419, 9.4957, 178.8233, 5640,   2601.6, 2,   1.8479, 2,  34.6613, 2,  34.6613, 6,    117.3, 2,    117.5, 2,   146.54, 2,    38.41, 2,     0.01, 2,     2.71, 2, -999.000, 9, -999.000, 9, -999.000, 9, -999.000, 9,   2352.8, 2,   2424.9, 6,    7.5457,     25.00,   -999.0, 1,   -999.0,  -999.00, 1,   -999.0,   1.6612, 27.7265,   1.8477, 2, 2, 0.44, 0.14, 0.01, 0.017,  -999.00, 9, -999.00, -999.00, 9, -999.00
49NZ20071008, P14N, X04, 1, 14, X12020, 2, 20071118, 1419, 9.4957, 178.8233, 5640,   2799.9, 2,   1.7734, 2,  34.6664, 2,  34.6668, 2,    121.6, 2,    121.9, 2,   148.05, 2,    38.19, 2,     0.01, 2,     2.69, 2,    0.000, 4,    0.000, 4,    0.000, 4, -999.000, 9,   2351.5, 2,   2426.5, 2,    7.5532,     25.00,   -999.0, 1,   -999.0,  -999.00, 1,   -999.0,   1.5697, 27.7373,   1.7732, 2, 2, 0.44, 0.14, 0.01, 0.017,  -999.00, 9, -999.00, -999.00, 9, -999.00
49NZ20071008, P14N, X04, 1, 13, X12019, 2, 20071118, 1419, 9.4957, 178.8233, 5640,   3000.7, 2,   1.7085, 2,  34.6701, 2,  34.6702, 2,    127.0, 2,    127.4, 2,   147.87, 2,    37.79, 2,     0.01, 2,     2.66, 2, -999.000, 9, -999.000, 9, -999.000, 9, -999.000, 9,   2347.2, 2,   2425.0, 2,    7.5604,     25.00,   -999.0, 1,   -999.0,  -999.00, 1,   -999.0,   1.4871, 27.7464,   1.7084, 2, 2, 0.44, 0.14, 0.01, 0.017,  -999.00, 9, -999.00, -999.00, 9, -999.00
49NZ20071008, P14N, X04, 1, 12, X12040, 2, 20071118, 1419, 9.4957, 178.8233, 5640,   3250.8, 2,   1.6294, 2,  34.6750, 2,  34.6748, 2,    133.4, 2,    133.7, 2,   147.73, 2,    37.31, 2,     0.01, 2,     2.61, 2,    0.000, 2,    0.000, 2,    0.000, 2, -999.000, 9,   2341.0, 2,   2424.9, 2,    7.5692,     25.00,   -999.0, 1,   -999.0,  -999.00, 1,   -999.0,   1.3853, 27.7576,   1.6294, 2, 2, 0.44, 0.14, 0.01, 0.017,  -999.00, 9, -999.00, -999.00, 9, -999.00
49NZ20071008, P14N, X04, 1, 11, X12047, 2, 20071118, 1419, 9.4957, 178.8233, 5640,   3500.8, 2,   1.5573, 2,  34.6806, 2,  34.6808, 2,    140.7, 2,    141.2, 2,   146.78, 2,    36.78, 2,     0.01, 2,     2.58, 2, -999.000, 9, -999.000, 9, -999.000, 9, -999.000, 9,   2334.2, 2,   2423.6, 2,    7.5793,     25.00,   -999.0, 1,   -999.0,  -999.00, 1,   -999.0,   1.2896, 27.7689,   1.5574, 2, 2, 0.44, 0.14, 0.01, 0.016,  -999.00, 9, -999.00, -999.00, 9, -999.00
49NZ20071008, P14N, X04, 1, 10, X12012, 2, 20071118, 1419, 9.4957, 178.8233, 5640,   3749.9, 2,   1.4869, 2,  34.6853, 2,  34.6849, 2,    148.8, 2,    149.8, 2,   144.34, 2,    36.32, 2,     0.01, 2,     2.54, 2,    0.000, 2,    0.000, 2,    0.000, 2, -999.000, 9,   2326.3, 2,   2417.7, 2,    7.5901,     25.00,   -999.0, 1,   -999.0,  -999.00, 1,   -999.0,   1.1951, 27.7793,   1.4870, 2, 2, 0.44, 0.13, 0.01, 0.016,  -999.00, 9, -999.00, -999.00, 9, -999.00
49NZ20071008, P14N, X04, 1, 9, X12015, 2, 20071118, 1419, 9.4957, 178.8233, 5640,   4000.3, 2,   1.4122, 2,  34.6908, 2,  34.6908, 6,    159.4, 2,    160.5, 2,   139.64, 2,    35.52, 2,     0.01, 2,     2.48, 2, -999.000, 9, -999.000, 9, -999.000, 9, -999.000, 9,   2316.9, 2,   2413.5, 2,    7.6023,     25.00,   -999.0, 1,   -999.0,  -999.00, 1,   -999.0,   1.0957, 27.7905,   1.4123, 2, 2, 0.43, 0.13, 0.01, 0.016,  -999.00, 9, -999.00, -999.00, 9, -999.00
49NZ20071008, P14N, X04, 1, 8, X12046, 2, 20071118, 1419, 9.4957, 178.8233, 5640,   4252.1, 2,   1.3615, 2,  34.6950, 2,  34.6946, 2,    168.9, 2,    169.4, 2,   135.13, 2,    34.92, 2,     0.01, 2,     2.43, 2,    0.000, 2,    0.000, 2,    0.000, 2, -999.000, 9,   2307.8, 6,   2408.5, 2,    7.6106,     25.00,   -999.0, 1,   -999.0,  -999.00, 1,   -999.0,   1.0188, 27.7990,   1.3615, 2, 2, 0.42, 0.13, 0.01, 0.016,  -999.00, 9, -999.00, -999.00, 9, -999.00
49NZ20071008, P14N, X04, 1, 7, X12044, 2, 20071118, 1419, 9.4957, 178.8233, 5640,   4500.1, 2,   1.3186, 2,  34.6989, 2,  34.6989, 2,    177.1, 2,    177.6, 2,   130.57, 2,    34.35, 2,     0.01, 2,     2.40, 2,    0.000, 2,    0.000, 2,    0.000, 2, -999.000, 9,   2297.8, 2,   2402.0, 6,    7.6176,     25.00,   -999.0, 1,   -999.0,  -999.00, 1,   -999.0,   0.9492, 27.8068,   1.3186, 2, 2, 0.41, 0.13, 0.01, 0.016,  -999.00, 9, -999.00, -999.00, 9, -999.00
49NZ20071008, P14N, X04, 1, 6, X12048, 3, 20071118, 1419, 9.4957, 178.8233, 5640,   4750.6, 2,   1.3048, 2,  34.7015, 2,  34.7005, 3,    183.0, 2,    183.1, 2,   127.01, 2,    33.84, 2,     0.01, 2,     2.36, 2,    0.000, 4,    0.000, 4,    0.000, 4, -999.000, 9,   2290.3, 2,   2396.8, 2,    7.6241,     25.00,   -999.0, 1,   -999.0,  -999.00, 1,   -999.0,   0.9068, 27.8116,   1.3049, 2, 2, 0.40, 0.13, 0.01, 0.016,  -999.00, 9, -999.00, -999.00, 9, -999.00
49NZ20071008, P14N, X04, 1, 5, X12014, 2, 20071118, 1419, 9.4957, 178.8233, 5640,   5002.0, 2,   1.3158, 2,  34.7028, 2,  34.7028, 2,    186.1, 2,    186.3, 2,   125.36, 2,    33.64, 2,     0.01, 2,     2.34, 2,    0.000, 4,    0.000, 4,    0.000, 4, -999.000, 9,   2287.2, 2,   2393.2, 2,    7.6235,     25.00,   -999.0, 1,   -999.0,  -999.00, 1,   -999.0,   0.8875, 27.8139,   1.3158, 2, 2, 0.39, 0.13, 0.01, 0.016,  -999.00, 9, -999.00, -999.00, 9, -999.00
49NZ20071008, P14N, X04, 1, 4, X12006, 2, 20071118, 1419, 9.4957, 178.8233, 5640,   5250.4, 2,   1.3366, 2,  34.7033, 2,  34.7032, 2,    187.7, 2,    187.4, 2,   124.55, 2,    33.48, 2,     0.01, 2,     2.33, 2,    0.000, 4,    0.000, 4,    0.000, 4, -999.000, 9,   2288.6, 2,   2392.7, 2,    7.6240,     25.00,   -999.0, 1,   -999.0,  -999.00, 1,   -999.0,   0.8772, 27.8150,   1.3368, 2, 2, 0.39, 0.13, 0.01, 0.016,  -999.00, 9, -999.00, -999.00, 9, -999.00
49NZ20071008, P14N, X04, 1, 3, X12013, 2, 20071118, 1419, 9.4957, 178.8233, 5640,   5500.9, 2,   1.3599, 2,  34.7038, 2,  34.7035, 2,    188.5, 2,    188.3, 2,   124.42, 2,    33.45, 2,     0.01, 2,     2.33, 2,    0.000, 4,    0.000, 4,    0.000, 4, -999.000, 9,   2285.1, 2,   2391.5, 2,    7.6254,     25.00,   -999.0, 1,   -999.0,  -999.00, 1,   -999.0,   0.8682, 27.8160,   1.3600, 2, 2, 0.39, 0.13, 0.01, 0.016,  -999.00, 9, -999.00, -999.00, 9, -999.00
49NZ20071008, P14N, X04, 1, 2, X12002, 2, 20071118, 1419, 9.4957, 178.8233, 5640,      9.6, 2,  28.3063, 2,  34.2210, 2, -999.0000, 9,    198.1, 2,   -999.0, 9,  -999.00, 9,  -999.00, 9,  -999.00, 9,  -999.00, 9, -999.000, 9, -999.000, 9, -999.000, 9, -999.000, 9,   -999.0, 9,   -999.0, 9, -999.0000,   -999.00,   -999.0, 9,   -999.0,  -999.00, 9,   -999.0,  28.3040, 21.7095,  28.3076, 2, 9, -999.00, -999.00, -999.00, -999.000,  -999.00, 9, -999.00, -999.00, 9, -999.00
49NZ20071008, P14N, X04, 1, 1, X12001, 2, 20071118, 1419, 9.4957, 178.8233, 5640,   5705.3, 2,   1.3799, 2,  34.7039, 2,  34.7041, 6,    188.9, 2,    189.0, 2,   124.09, 2,    33.48, 2,     0.01, 2,     2.34, 2,    0.000, 4,    0.000, 4,    0.000, 4, -999.000, 9,   2286.5, 2,   2390.8, 2,    7.6253,     25.00,   -999.0, 1,   -999.0,  -999.00, 1,   -999.0,   0.8613, 27.8165,   1.3800, 2, 2, 0.39, 0.13, 0.01, 0.016,  -999.00, 9, -999.00, -999.00, 9, -999.00