BOTTLE,20221005CCHSIOAMB
EXPOCODE,SECT_ID,STNNBR,CASTNO,SAMPNO,BTLNBR,BTLNBR_FLAG_W,DATE,TIME,LATITUDE,LONGITUDE,DEPTH,CTDPRS,CTDPRS_FLAG_W,CTDTMP,CTDTMP_FLAG_W,CTDSAL,CTDSAL_FLAG_W,SALNTY,SALNTY_FLAG_W,CTDOXY,CTDOXY_FLAG_W,OXYGEN,OXYGEN_FLAG_W,SILCAT,SILCAT_FLAG_W,NITRAT,NITRAT_FLAG_W,NITRIT,NITRIT_FLAG_W,PHSPHT,PHSPHT_FLAG_W,CFC-11,CFC-11_FLAG_W,CFC-12,CFC-12_FLAG_W,CFC113,CFC113_FLAG_W,CCL4,CCL4_FLAG_W,TCARBN,TCARBN_FLAG_W,ALKALI,ALKALI_FLAG_W,PH_TOT,PH_TMP,DELC14,DELC14_FLAG_W,C14ERR,DELC13,DELC13_FLAG_W,C13ERR,THETA,SIG0,SBE35,SBE35_FLAG_W,PH_TOT_FLAG_W,SILUNC,NRAUNC,NRIUNC,PHPUNC,CS-137,CS-137_FLAG_W,CS137ER,PLUTO,PLUTO_FLAG_W,PLUTOER
,,,,,,,,,,,METERS,DBAR,,ITS-90,,PSS-78,,PSS-78,,UMOL/KG,,UMOL/KG,,UMOL/KG,,UMOL/KG,,UMOL/KG,,UMOL/KG,,PMOL/KG,,PMOL/KG,,PMOL/KG,,PMOL/KG,,UMOL/KG,,UMOL/KG,,,DEG C,/MILLE,,/MILLE,/MILLE,,/MILLE,DEG C,KG/M^3,ITS-90,,,UMOL/KG,UMOL/KG,UMOL/KG,UMOL/KG,DM/.1MG,,BQ/M^3,MBQ/M^3,,MBQ/M^3
49NZ20071008, P14N, 26, 1, 36, X12042, 2, 20071021, 2112, 49.4910, 178.9915, 4876,      9.4, 2,   7.9121, 2,  32.7368, 2,  32.7369, 2,    294.2, 2,    294.6, 2,    24.72, 2,    15.00, 2,     0.28, 2,     1.41, 2,    4.055, 2,    2.248, 2,    0.379, 2, -999.000, 9,   -999.0, 9,   -999.0, 9, -999.0000,   -999.00,   -999.0, 9,   -999.0,  -999.00, 9,   -999.0,   7.9112, 25.5096,   7.9126, 2, 9, 0.17, 0.07, 0.01, 0.014,  -999.00, 9, -999.00, -999.00, 9, -999.00
49NZ20071008, P14N, 26, 1, 35, X12041, 2, 20071021, 2112, 49.4910, 178.9915, 4876,     50.6, 2,   7.8993, 2,  32.7355, 2,  32.7368, 2,    292.2, 2,    294.3, 2,    24.70, 2,    14.98, 2,     0.28, 2,     1.41, 2,    4.068, 2,    2.261, 2,    0.375, 2, -999.000, 9,   -999.0, 9,   -999.0, 9, -999.0000,   -999.00,   -999.0, 9,   -999.0,  -999.00, 9,   -999.0,   7.8944, 25.5110,   7.8983, 2, 9, 0.17, 0.07, 0.01, 0.014,  -999.00, 9, -999.00, -999.00, 9, -999.00
49NZ20071008, P14N, 26, 1, 34, X12016, 2, 20071021, 2112, 49.4910, 178.9915, 4876,     99.7, 2,   3.7136, 2,  33.0001, 2,  33.0012, 2,    312.1, 2,    310.8, 2,    35.55, 2,    21.86, 2,     0.03, 2,     1.79, 2,    5.153, 2,    2.822, 2,    0.484, 2, -999.000, 9,   -999.0, 9,   -999.0, 9, -999.0000,   -999.00,   -999.0, 9,   -999.0,  -999.00, 9,   -999.0,   3.7072, 26.2240,   3.7130, 2, 9, 0.20, 0.09, 0.01, 0.015,  -999.00, 9, -999.00, -999.00, 9, -999.00
49NZ20071008, P14N, 26, 1, 33, X12033, 2, 20071021, 2112, 49.4910, 178.9915, 4876,    150.4, 2,   3.2557, 2,  33.2251, 2,  33.2263, 2,    250.5, 2,    258.1, 2,    46.55, 2,    26.90, 2,     0.02, 2,     2.09, 2,    4.751, 6,    2.560, 6,    0.402, 6, -999.000, 9,   -999.0, 9,   -999.0, 9, -999.0000,   -999.00,   -999.0, 9,   -999.0,  -999.00, 9,   -999.0,   3.2465, 26.4463,   3.2583, 2, 9, 0.22, 0.11, 0.01, 0.015,  -999.00, 9, -999.00, -999.00, 9, -999.00
49NZ20071008, P14N, 26, 1, 32, X12038, 2, 20071021, 2112, 49.4910, 178.9915, 4876,    199.0, 2,   3.2172, 2,  33.6931, 2,  33.6937, 2,    129.3, 2,    124.8, 2,    76.80, 2,    37.32, 2,     0.02, 2,     2.75, 2,    3.290, 2,    1.677, 2,    0.240, 2, -999.000, 9,   -999.0, 9,   -999.0, 9, -999.0000,   -999.00,   -999.0, 9,   -999.0,  -999.00, 9,   -999.0,   3.2049, 26.8233,   3.2171, 2, 9, 0.29, 0.14, 0.01, 0.017,  -999.00, 9, -999.00, -999.00, 9, -999.00
49NZ20071008, P14N, 26, 1, 31, X12003, 2, 20071021, 2112, 49.4910, 178.9915, 4876,    251.0, 2,   3.3895, 2,  33.8229, 2,  33.8231, 6,     81.8, 2,     74.3, 2,    88.58, 2,    41.20, 2,     0.01, 2,     2.97, 2,    2.544, 2,    1.257, 2,    0.180, 2, -999.000, 9,   -999.0, 9,   -999.0, 9, -999.0000,   -999.00,   -999.0, 9,   -999.0,  -999.00, 9,   -999.0,   3.3735, 26.9112,   3.3892, 2, 9, 0.31, 0.15, 0.01, 0.017,  -999.00, 9, -999.00, -999.00, 9, -999.00
49NZ20071008, P14N, 26, 1, 30, X12008, 2, 20071021, 2112, 49.4910, 178.9915, 4876,    329.2, 2,   3.5356, 2,  33.9581, 2,  33.9573, 2,     44.9, 2,     42.0, 2,    99.45, 2,    43.24, 2,     0.01, 2,     3.10, 2,    1.812, 2,    0.875, 2,    0.110, 2, -999.000, 9,   -999.0, 9,   -999.0, 9, -999.0000,   -999.00,   -999.0, 9,   -999.0,  -999.00, 9,   -999.0,   3.5139, 27.0055,   3.5354, 2, 9, 0.34, 0.15, 0.01, 0.018,  -999.00, 9, -999.00, -999.00, 9, -999.00
49NZ20071008, P14N, 26, 1, 29, X12035, 2, 20071021, 2112, 49.4910, 178.9915, 4876,    432.0, 2,   3.5302, 2,  34.0810, 2,  34.0794, 2,     29.4, 2,     28.6, 2,   110.49, 2,    43.71, 2,     0.01, 2,     3.13, 2,    1.160, 2,    0.549, 2,    0.072, 2, -999.000, 9,   -999.0, 9,   -999.0, 9, -999.0000,   -999.00,   -999.0, 9,   -999.0,  -999.00, 9,   -999.0,   3.5013, 27.1047,   3.5301, 2, 9, 0.36, 0.16, 0.01, 0.018,  -999.00, 9, -999.00, -999.00, 9, -999.00
49NZ20071008, P14N, 26, 1, 28, X12034, 2, 20071021, 2112, 49.4910, 178.9915, 4876,    530.9, 2,   3.4452, 2,  34.1670, 2,  34.1653, 6,     23.4, 2,     23.4, 2,   118.71, 2,    43.79, 2,     0.01, 2,     3.13, 2,    0.771, 2,    0.361, 2,    0.048, 2, -999.000, 9,   -999.0, 9,   -999.0, 9, -999.0000,   -999.00,   -999.0, 9,   -999.0,  -999.00, 9,   -999.0,   3.4096, 27.1821,   3.4450, 2, 9, 0.38, 0.16, 0.01, 0.018,  -999.00, 9, -999.00, -999.00, 9, -999.00
49NZ20071008, P14N, 26, 1, 27, X12049, 2, 20071021, 2112, 49.4910, 178.9915, 4876,    631.6, 2,   3.2777, 2,  34.2463, 2,  34.2450, 2,     21.3, 2,     21.3, 2,   127.41, 2,    43.83, 2,     0.01, 2,     3.14, 2,    0.471, 2,    0.219, 2,    0.030, 2, -999.000, 9,   -999.0, 9,   -999.0, 9, -999.0000,   -999.00,   -999.0, 9,   -999.0,  -999.00, 9,   -999.0,   3.2355, 27.2617,   3.2772, 2, 9, 0.40, 0.16, 0.01, 0.018,  -999.00, 9, -999.00, -999.00, 9, -999.00
49NZ20071008, P14N, 26, 1, 26, X12032, 2, 20071021, 2112, 49.4910, 178.9915, 4876,    732.4, 2,   3.0983, 2,  34.3024, 2,  34.3005, 2,     20.3, 2,     20.5, 2,   134.64, 2,    43.85, 2,     0.01, 2,     3.15, 2,    0.319, 6,    0.148, 6,    0.025, 6, -999.000, 9,   -999.0, 9,   -999.0, 9, -999.0000,   -999.00,   -999.0, 9,   -999.0,  -999.00, 9,   -999.0,   3.0498, 27.3236,   3.0981, 2, 9, 0.42, 0.16, 0.01, 0.018,  -999.00, 9, -999.00, -999.00, 9, -999.00
49NZ20071008, P14N, 26, 1, 25, X12043, 2, 20071021, 2112, 49.4910, 178.9915, 4876,    831.0, 2,   2.9558, 2,  34.3446, 2,  34.3444, 2,     21.7, 2,     21.9, 2,   139.78, 2,    43.90, 2,     0.01, 2,     3.15, 2,    0.218, 2,    0.100, 2,    0.008, 2, -999.000, 9,   -999.0, 9,   -999.0, 9, -999.0000,   -999.00,   -999.0, 9,   -999.0,  -999.00, 9,   -999.0,   2.9010, 27.3708,   2.9555, 2, 9, 0.43, 0.16, 0.01, 0.018,  -999.00, 9, -999.00, -999.00, 9, -999.00
49NZ20071008, P14N, 26, 1, 24, X12030, 2, 20071021, 2112, 49.4910, 178.9915, 4876,    932.1, 2,   2.8096, 2,  34.3814, 2,  34.3793, 2,     22.2, 2,     22.5, 2,   144.65, 2,    43.73, 2,     0.01, 2,     3.14, 2,    0.150, 2,    0.072, 2,    0.006, 2, -999.000, 9,   -999.0, 9,   -999.0, 9, -999.0000,   -999.00,   -999.0, 9,   -999.0,  -999.00, 9,   -999.0,   2.7484, 27.4138,   2.8097, 2, 9, 0.44, 0.16, 0.01, 0.018,  -999.00, 9, -999.00, -999.00, 9, -999.00
49NZ20071008, P14N, 26, 1, 23, X12027, 2, 20071021, 2112, 49.4910, 178.9915, 4876,   1073.2, 2,   2.6354, 2,  34.4245, 2,  34.4228, 6,     24.9, 2,     25.3, 2,   149.98, 2,    43.78, 2,     0.01, 2,     3.13, 2,    0.094, 2,    0.045, 2,    0.004, 2, -999.000, 9,   -999.0, 9,   -999.0, 9, -999.0000,   -999.00,   -999.0, 9,   -999.0,  -999.00, 9,   -999.0,   2.5651, 27.4642,   2.6353, 2, 9, 0.45, 0.16, 0.01, 0.018,  -999.00, 9, -999.00, -999.00, 9, -999.00
49NZ20071008, P14N, 26, 1, 22, X12028, 2, 20071021, 2112, 49.4910, 178.9915, 4876,   1272.2, 2,   2.3955, 2,  34.4793, 2,  34.4785, 2,     30.4, 2,     30.7, 2,   157.42, 2,    43.57, 2,     0.01, 2,     3.11, 2,    0.036, 2,    0.020, 2,    0.000, 2, -999.000, 9,   -999.0, 9,   -999.0, 9, -999.0000,   -999.00,   -999.0, 9,   -999.0,  -999.00, 9,   -999.0,   2.3125, 27.5292,   2.3955, 2, 9, 0.47, 0.15, 0.01, 0.018,  -999.00, 9, -999.00, -999.00, 9, -999.00
49NZ20071008, P14N, 26, 1, 21, X12009, 2, 20071021, 2112, 49.4910, 178.9915, 4876,   1471.2, 2,   2.2001, 2,  34.5235, 2,  34.5226, 2,     38.4, 2,     39.7, 2,   162.16, 2,    43.18, 2,     0.01, 2,     3.07, 2,    0.013, 2,    0.006, 2,    0.000, 2, -999.000, 9,   -999.0, 9,   -999.0, 9, -999.0000,   -999.00,   -999.0, 9,   -999.0,  -999.00, 9,   -999.0,   2.1039, 27.5817,   2.2001, 2, 9, 0.48, 0.15, 0.01, 0.018,  -999.00, 9, -999.00, -999.00, 9, -999.00
49NZ20071008, P14N, 26, 1, 20, X12026, 2, 20071021, 2112, 49.4910, 178.9915, 4876,   1670.4, 2,   2.0689, 2,  34.5542, 2,  34.5537, 2,     48.6, 2,     49.2, 2,   164.29, 2,    42.59, 2,     0.01, 2,     3.03, 2,    0.003, 2,    0.002, 2,    0.000, 2, -999.000, 9,   -999.0, 9,   -999.0, 9, -999.0000,   -999.00,   -999.0, 9,   -999.0,  -999.00, 9,   -999.0,   1.9586, 27.6177,   2.0690, 2, 9, 0.48, 0.15, 0.01, 0.018,  -999.00, 9, -999.00, -999.00, 9, -999.00
49NZ20071008, P14N, 26, 1, 19, X12025, 2, 20071021, 2112, 49.4910, 178.9915, 4876,   1871.2, 2,   1.9530, 2,  34.5803, 2,  34.5795, 2,     59.5, 2,     60.5, 2,   165.54, 2,    41.92, 2,     0.01, 2,     2.98, 2,    0.000, 2,    0.000, 2,    0.000, 2, -999.000, 9,   -999.0, 9,   -999.0, 9, -999.0000,   -999.00,   -999.0, 9,   -999.0,  -999.00, 9,   -999.0,   1.8281, 27.6488,   1.9532, 2, 9, 0.48, 0.15, 0.01, 0.017,  -999.00, 9, -999.00, -999.00, 9, -999.00
49NZ20071008, P14N, 26, 1, 18, X12024, 2, 20071021, 2112, 49.4910, 178.9915, 4876,   2070.8, 2,   1.8422, 2,  34.6026, 2,  34.6022, 2,     70.9, 2,     72.1, 2,   166.45, 2,    41.31, 2,     0.01, 2,     2.93, 2,    0.000, 2,    0.000, 2,    0.000, 2, -999.000, 9,   -999.0, 9,   -999.0, 9, -999.0000,   -999.00,   -999.0, 9,   -999.0,  -999.00, 9,   -999.0,   1.7024, 27.6763,   1.8425, 2, 9, 0.49, 0.15, 0.01, 0.017,  -999.00, 9, -999.00, -999.00, 9, -999.00
49NZ20071008, P14N, 26, 1, 17, X12023, 2, 20071021, 2112, 49.4910, 178.9915, 4876,   2269.2, 2,   1.7502, 2,  34.6198, 2,  34.6196, 2,     82.0, 2,     83.3, 2,   166.45, 2,    40.58, 2,     0.01, 2,     2.87, 2,    0.000, 2,    0.000, 2,    0.000, 2, -999.000, 9,   -999.0, 9,   -999.0, 9, -999.0000,   -999.00,   -999.0, 9,   -999.0,  -999.00, 9,   -999.0,   1.5950, 27.6981,   1.7503, 2, 9, 0.49, 0.15, 0.01, 0.017,  -999.00, 9, -999.00, -999.00, 9, -999.00
49NZ20071008, P14N, 26, 1, 16, X12022, 2, 20071021, 2112, 49.4910, 178.9915, 4876,   2469.2, 2,   1.6837, 2,  34.6340, 2,  34.6338, 6,     93.2, 2,     93.9, 2,   165.45, 2,    39.93, 2,     0.01, 2,     2.82, 2,    0.000, 2,    0.000, 2,    0.000, 2, -999.000, 9,   -999.0, 9,   -999.0, 9, -999.0000,   -999.00,   -999.0, 9,   -999.0,  -999.00, 9,   -999.0,   1.5121, 27.7156,   1.6837, 2, 9, 0.48, 0.14, 0.01, 0.017,  -999.00, 9, -999.00, -999.00, 9, -999.00
49NZ20071008, P14N, 26, 1, 15, X12021, 2, 20071021, 2112, 49.4910, 178.9915, 4876,   2668.3, 2,   1.6229, 2,  34.6454, 2,  34.6451, 2,    103.2, 2,    103.8, 2,   164.27, 2,    39.26, 2,     0.01, 2,     2.78, 2, -999.000, 9, -999.000, 9, -999.000, 9, -999.000, 9,   -999.0, 9,   -999.0, 9, -999.0000,   -999.00,   -999.0, 9,   -999.0,  -999.00, 9,   -999.0,   1.4346, 27.7304,   1.6231, 2, 9, 0.48, 0.14, 0.01, 0.017,  -999.00, 9, -999.00, -999.00, 9, -999.00
49NZ20071008, P14N, 26, 1, 14, X12020, 2, 20071021, 2112, 49.4910, 178.9915, 4876,   2869.8, 2,   1.5804, 2,  34.6541, 2,  34.6541, 2,    111.8, 2,    112.5, 2,   162.50, 2,    38.76, 2,     0.01, 2,     2.74, 2,    0.000, 2,    0.000, 2,    0.000, 2, -999.000, 9,   -999.0, 9,   -999.0, 9, -999.0000,   -999.00,   -999.0, 9,   -999.0,  -999.00, 9,   -999.0,   1.3743, 27.7416,   1.5803, 2, 9, 0.48, 0.14, 0.01, 0.017,  -999.00, 9, -999.00, -999.00, 9, -999.00
49NZ20071008, P14N, 26, 1, 13, X12019, 2, 20071021, 2112, 49.4910, 178.9915, 4876,   3079.5, 2,   1.5396, 2,  34.6625, 2,  34.6625, 2,    121.3, 2,    121.7, 2,   160.07, 2,    38.13, 2,     0.01, 2,     2.69, 2, -999.000, 9, -999.000, 9, -999.000, 9, -999.000, 9,   -999.0, 9,   -999.0, 9, -999.0000,   -999.00,   -999.0, 9,   -999.0,  -999.00, 9,   -999.0,   1.3144, 27.7526,   1.5397, 2, 9, 0.47, 0.14, 0.01, 0.017,  -999.00, 9, -999.00, -999.00, 9, -999.00
49NZ20071008, P14N, 26, 1, 12, X12040, 2, 20071021, 2112, 49.4910, 178.9915, 4876,   3329.8, 2,   1.5059, 2,  34.6702, 2,  34.6700, 2,    131.0, 2,    130.8, 2,   157.18, 2,    37.39, 2,     0.01, 2,     2.63, 2, -999.000, 9, -999.000, 9, -999.000, 9, -999.000, 9,   -999.0, 9,   -999.0, 9, -999.0000,   -999.00,   -999.0, 9,   -999.0,  -999.00, 9,   -999.0,   1.2569, 27.7628,   1.5059, 2, 9, 0.46, 0.14, 0.01, 0.017,  -999.00, 9, -999.00, -999.00, 9, -999.00
49NZ20071008, P14N, 26, 1, 11, X12047, 2, 20071021, 2112, 49.4910, 178.9915, 4876,   3579.9, 2,   1.4792, 2,  34.6763, 2,  34.6763, 2,    137.6, 2,    137.9, 2,   155.49, 2,    36.99, 2,     0.01, 2,     2.60, 2,    0.000, 2,    0.000, 2,    0.000, 2, -999.000, 9,   -999.0, 9,   -999.0, 9, -999.0000,   -999.00,   -999.0, 9,   -999.0,  -999.00, 9,   -999.0,   1.2054, 27.7713,   1.4792, 2, 9, 0.46, 0.14, 0.01, 0.016,  -999.00, 9, -999.00, -999.00, 9, -999.00
49NZ20071008, P14N, 26, 1, 10, X12010, 2, 20071021, 2112, 49.4910, 178.9915, 4876,   3831.2, 2,   1.4618, 2,  34.6814, 2,  34.6813, 6,    144.0, 2,    144.2, 2,   154.12, 2,    36.66, 2,     0.01, 2,     2.57, 2, -999.000, 9, -999.000, 9, -999.000, 9, -999.000, 9,   -999.0, 9,   -999.0, 9, -999.0000,   -999.00,   -999.0, 9,   -999.0,  -999.00, 9,   -999.0,   1.1621, 27.7784,   1.4618, 2, 9, 0.46, 0.14, 0.01, 0.016,  -999.00, 9, -999.00, -999.00, 9, -999.00
49NZ20071008, P14N, 26, 1, 9, X12015, 2, 20071021, 2112, 49.4910, 178.9915, 4876,   4079.6, 2,   1.4594, 2,  34.6847, 2,  34.6852, 2,    148.5, 2,    148.4, 2,   153.55, 2,    36.41, 2,     0.01, 2,     2.55, 2, -999.000, 9, -999.000, 9, -999.000, 9, -999.000, 9,   -999.0, 9,   -999.0, 9, -999.0000,   -999.00,   -999.0, 9,   -999.0,  -999.00, 9,   -999.0,   1.1330, 27.7831,   1.4595, 2, 9, 0.46, 0.13, 0.01, 0.016,  -999.00, 9, -999.00, -999.00, 9, -999.00
49NZ20071008, P14N, 26, 1, 8, X12046, 2, 20071021, 2112, 49.4910, 178.9915, 4876,   4330.2, 2,   1.4707, 2,  34.6867, 2,  34.6869, 2,    151.0, 2,    151.0, 2,   153.48, 2,    36.23, 2,     0.01, 2,     2.53, 2,    0.000, 2,    0.000, 2,    0.000, 2, -999.000, 9,   -999.0, 9,   -999.0, 9, -999.0000,   -999.00,   -999.0, 9,   -999.0,  -999.00, 9,   -999.0,   1.1160, 27.7858,   1.4707, 2, 9, 0.46, 0.13, 0.01, 0.016,  -999.00, 9, -999.00, -999.00, 9, -999.00
49NZ20071008, P14N, 26, 1, 7, X12044, 2, 20071021, 2112, 49.4910, 178.9915, 4876,   4578.8, 2,   1.4884, 2,  34.6882, 2,  34.6885, 2,    152.4, 2,    152.5, 2,   154.39, 2,    36.14, 2,     0.01, 2,     2.52, 2, -999.000, 9, -999.000, 9, -999.000, 9, -999.000, 9,   -999.0, 9,   -999.0, 9, -999.0000,   -999.00,   -999.0, 9,   -999.0,  -999.00, 9,   -999.0,   1.1047, 27.7878,   1.4885, 2, 9, 0.46, 0.13, 0.01, 0.016,  -999.00, 9, -999.00, -999.00, 9, -999.00
49NZ20071008, P14N, 26, 1, 6, X12048, 2, 20071021, 2112, 49.4910, 178.9915, 4876,   4830.6, 2,   1.5135, 2,  34.6889, 2,  34.6892, 2,    153.4, 2,    153.2, 2,   154.95, 2,    36.09, 2,     0.01, 2,     2.52, 2, -999.000, 9, -999.000, 9, -999.000, 9, -999.000, 9,   -999.0, 9,   -999.0, 9, -999.0000,   -999.00,   -999.0, 9,   -999.0,  -999.00, 9,   -999.0,   1.0992, 27.7887,   1.5135, 2, 9, 0.46, 0.13, 0.01, 0.016,  -999.00, 9, -999.00, -999.00, 9, -999.00
49NZ20071008, P14N, 26, 1, 5, X12014, 2, 20071021, 2112, 49.4910, 178.9915, 4876,    125.8, 2,   3.5721, 2,  33.0325, 2,  33.0312, 2,    300.9, 2,    305.8, 2,  -999.00, 9,  -999.00, 9,  -999.00, 9,  -999.00, 9, -999.000, 9, -999.000, 9, -999.000, 9, -999.000, 9,   -999.0, 9,   -999.0, 9, -999.0000,   -999.00,   -999.0, 9,   -999.0,  -999.00, 9,   -999.0,   3.5642, 26.2635,   3.5746, 2, 9, -999.00, -999.00, -999.00, -999.000,  -999.00, 9, -999.00, -999.00, 9, -999.00
49NZ20071008, P14N, 26, 1, 4, X12006, 2, 20071021, 2112, 49.4910, 178.9915, 4876,    175.2, 2,   3.1200, 2,  33.5398, 2,  33.5396, 2,    171.0, 2,    175.5, 2,  -999.00, 9,  -999.00, 9,  -999.00, 9,  -999.00, 9, -999.000, 9, -999.000, 9, -999.000, 9, -999.000, 9,   -999.0, 9,   -999.0, 9, -999.0000,   -999.00,   -999.0, 9,   -999.0,  -999.00, 9,   -999.0,   3.1094, 26.7097,   3.1216, 2, 9, -999.00, -999.00, -999.00, -999.000,  -999.00, 9, -999.00, -999.00, 9, -999.00
49NZ20071008, P14N, 26, 1, 3, X12013, 9, 20071021, 2112, 49.4910, 178.9915, 4876,     50.1, 2,   7.8959, 2,  32.7361, 2, -999.0000, 9,    292.4, 2,   -999.0, 9,  -999.00, 9,  -999.00, 9,  -999.00, 9,  -999.00, 9, -999.000, 9, -999.000, 9, -999.000, 9, -999.000, 9,   -999.0, 9,   -999.0, 9, -999.0000,   -999.00,   -999.0, 9,   -999.0,  -999.00, 9,   -999.0,   7.8911, 25.5119,   7.8945, 2, 9, -999.00, -999.00, -999.00, -999.000,  -999.00, 9, -999.00, -999.00, 9, -999.00
49NZ20071008, P14N, 26, 1, 2, X12002, 9, 20071021, 2112, 49.4910, 178.9915, 4876,      9.3, 2,   7.9123, 2,  32.7369, 2, -999.0000, 9,    294.1, 2,   -999.0, 9,  -999.00, 9,  -999.00, 9,  -999.00, 9,  -999.00, 9, -999.000, 9, -999.000, 9, -999.000, 9, -999.000, 9,   -999.0, 9,   -999.0, 9, -999.0000,   -999.00,   -999.0, 9,   -999.0,  -999.00, 9,   -999.0,   7.9114, 25.5096,   7.9119, 2, 9, -999.00, -999.00, -999.00, -999.000,  -999.00, 9, -999.00, -999.00, 9, -999.00
49NZ20071008, P14N, 26, 1, 1, X12001, 2, 20071021, 2112, 49.4910, 178.9915, 4876,   4965.0, 2,   1.5284, 2,  34.6892, 2,  34.6894, 6,    153.8, 2,    153.7, 2,   154.54, 2,    36.06, 2,     0.01, 2,     2.52, 2,    0.000, 2,    0.000, 2,    0.000, 2, -999.000, 9,   -999.0, 9,   -999.0, 9, -999.0000,   -999.00,   -999.0, 9,   -999.0,  -999.00, 9,   -999.0,   1.0975, 27.7891,   1.5286, 2, 9, 0.46, 0.13, 0.01, 0.016,  -999.00, 9, -999.00, -999.00, 9, -999.00