BOTTLE,20221005CCHSIOAMB
EXPOCODE,SECT_ID,STNNBR,CASTNO,SAMPNO,BTLNBR,BTLNBR_FLAG_W,DATE,TIME,LATITUDE,LONGITUDE,DEPTH,CTDPRS,CTDPRS_FLAG_W,CTDTMP,CTDTMP_FLAG_W,CTDSAL,CTDSAL_FLAG_W,SALNTY,SALNTY_FLAG_W,CTDOXY,CTDOXY_FLAG_W,OXYGEN,OXYGEN_FLAG_W,SILCAT,SILCAT_FLAG_W,NITRAT,NITRAT_FLAG_W,NITRIT,NITRIT_FLAG_W,PHSPHT,PHSPHT_FLAG_W,CFC-11,CFC-11_FLAG_W,CFC-12,CFC-12_FLAG_W,CFC113,CFC113_FLAG_W,CCL4,CCL4_FLAG_W,TCARBN,TCARBN_FLAG_W,ALKALI,ALKALI_FLAG_W,PH_TOT,PH_TMP,DELC14,DELC14_FLAG_W,C14ERR,DELC13,DELC13_FLAG_W,C13ERR,THETA,SIG0,SBE35,SBE35_FLAG_W,PH_TOT_FLAG_W,SILUNC,NRAUNC,NRIUNC,PHPUNC,CS-137,CS-137_FLAG_W,CS137ER,PLUTO,PLUTO_FLAG_W,PLUTOER
,,,,,,,,,,,METERS,DBAR,,ITS-90,,PSS-78,,PSS-78,,UMOL/KG,,UMOL/KG,,UMOL/KG,,UMOL/KG,,UMOL/KG,,UMOL/KG,,PMOL/KG,,PMOL/KG,,PMOL/KG,,PMOL/KG,,UMOL/KG,,UMOL/KG,,,DEG C,/MILLE,,/MILLE,/MILLE,,/MILLE,DEG C,KG/M^3,ITS-90,,,UMOL/KG,UMOL/KG,UMOL/KG,UMOL/KG,DM/.1MG,,BQ/M^3,MBQ/M^3,,MBQ/M^3
49NZ20071008, P14N, 90, 1, 36, X12042, 2, 20071114, 1348, 17.5127, 179.0005, 4869,     10.0, 2,  27.6367, 2,  34.7823, 2,  34.7821, 2,    199.3, 2,    199.0, 2,     0.92, 2,     0.05, 2,     0.01, 2,     0.10, 2,    1.564, 2,    0.956, 2,    0.230, 4, -999.000, 9,   1948.2, 2,   2290.7, 2,    8.1203,     25.00,   -999.0, 9,   -999.0,  -999.00, 9,   -999.0,  27.6344, 22.3499,  27.6360, 2, 6, 0.12, 0.03, 0.01, 0.022,  -999.00, 9, -999.00, -999.00, 9, -999.00
49NZ20071008, P14N, 90, 1, 35, X12041, 2, 20071114, 1348, 17.5127, 179.0005, 4869,     50.7, 2,  27.6149, 2,  35.0801, 2,  35.0801, 2,    199.5, 2,    200.8, 2,     0.84, 2,     0.04, 2,     0.01, 2,     0.05, 2,    1.580, 2,    0.968, 2,    0.395, 4, -999.000, 9,   1961.3, 6,   2309.9, 2,    8.1230,     25.00,   -999.0, 9,   -999.0,  -999.00, 9,   -999.0,  27.6031, 22.5841,  27.6150, 2, 2, 0.12, 0.03, 0.01, 0.035,  -999.00, 9, -999.00, -999.00, 9, -999.00
49NZ20071008, P14N, 90, 1, 34, X12016, 2, 20071114, 1348, 17.5127, 179.0005, 4869,    100.9, 2,  26.4855, 2,  35.2177, 2,  35.2190, 2,    213.7, 2,    212.1, 2,     0.89, 2,     0.04, 2,     0.01, 2,     0.06, 2,    1.730, 2,    1.046, 2,    0.833, 4, -999.000, 9,   1977.5, 2,   2318.4, 6,    8.1076,     25.00,   -999.0, 9,   -999.0,  -999.00, 9,   -999.0,  26.4627, 23.0524,  26.4879, 2, 2, 0.12, 0.03, 0.01, 0.032,  -999.00, 9, -999.00, -999.00, 9, -999.00
49NZ20071008, P14N, 90, 1, 33, X12033, 2, 20071114, 1348, 17.5127, 179.0005, 4869,    151.4, 2,  22.9240, 2,  35.2078, 2,  35.2074, 2,    200.1, 2,    202.0, 2,     1.39, 2,     0.08, 2,     0.11, 2,     0.09, 2,    2.004, 6,    1.181, 6,    0.315, 4, -999.000, 9,   2016.4, 2,   2317.9, 2,    8.0462,     25.00,   -999.0, 9,   -999.0,  -999.00, 9,   -999.0,  22.8931, 24.1220,  22.9238, 2, 6, 0.12, 0.03, 0.01, 0.023,  -999.00, 9, -999.00, -999.00, 9, -999.00
49NZ20071008, P14N, 90, 1, 32, X12038, 2, 20071114, 1348, 17.5127, 179.0005, 4869,    201.6, 2,  19.4203, 2,  34.9482, 2,  34.9473, 2,    188.6, 2,    189.9, 2,     2.71, 2,     2.93, 2,     0.02, 2,     0.28, 2,    2.327, 2,    1.343, 2,    0.145, 2, -999.000, 9,   2043.9, 2,   2300.2, 2,    7.9678,     25.00,   -999.0, 9,   -999.0,  -999.00, 9,   -999.0,  19.3838, 24.8831,  19.4234, 2, 2, 0.12, 0.04, 0.01, 0.014,  -999.00, 9, -999.00, -999.00, 9, -999.00
49NZ20071008, P14N, 90, 1, 31, X12003, 2, 20071114, 1348, 17.5127, 179.0005, 4869,    249.1, 2,  16.6310, 2,  34.6847, 2,  34.6827, 6,    189.5, 2,    191.8, 2,     5.03, 2,     6.12, 2,     0.01, 2,     0.49, 2,    2.604, 2,    1.477, 2,    0.042, 2, -999.000, 9,   2059.1, 2,   2283.2, 2,    7.9172,     25.00,   -999.0, 9,   -999.0,  -999.00, 9,   -999.0,  16.5905, 25.3687,  16.6289, 2, 2, 0.13, 0.05, 0.01, 0.013,  -999.00, 9, -999.00, -999.00, 9, -999.00
49NZ20071008, P14N, 90, 1, 30, X12008, 2, 20071114, 1348, 17.5127, 179.0005, 4869,    279.5, 2,  14.6561, 2,  34.5031, 2,  34.4968, 2,    195.5, 2,    194.2, 2,     7.83, 2,     8.83, 2,     0.01, 2,     0.68, 2,    2.774, 2,    1.542, 2,    0.050, 2, -999.000, 9,   2071.5, 2,   2274.4, 2,    7.8734,     25.00,   -999.0, 9,   -999.0,  -999.00, 9,   -999.0,  14.6145, 25.6725,  14.6582, 2, 2, 0.14, 0.06, 0.01, 0.013,  -999.00, 9, -999.00, -999.00, 9, -999.00
49NZ20071008, P14N, 90, 1, 29, X12035, 2, 20071114, 1348, 17.5127, 179.0005, 4869,    370.9, 2,  11.4542, 2,  34.2776, 2,  34.2761, 2,    192.3, 2,    195.6, 2,    15.95, 2,    14.32, 2,     0.01, 2,     1.05, 2,    2.929, 2,    1.578, 2,    0.066, 2, -999.000, 9,   2103.3, 2,   2268.3, 2,    7.7968,     25.00,   -999.0, 9,   -999.0,  -999.00, 9,   -999.0,  11.4073, 26.1388,  11.4489, 2, 2, 0.15, 0.07, 0.01, 0.013,  -999.00, 9, -999.00, -999.00, 9, -999.00
49NZ20071008, P14N, 90, 1, 28, X12034, 2, 20071114, 1348, 17.5127, 179.0005, 4869,    469.7, 2,   8.5137, 2,  34.2087, 2,  34.2071, 6,     96.6, 2,    100.7, 2,    38.89, 2,    28.44, 2,     0.01, 2,     2.14, 2,    1.689, 2,    0.797, 2,    0.042, 2, -999.000, 9,   2211.3, 2,   2283.7, 2,    7.5547,     25.00,   -999.0, 9,   -999.0,  -999.00, 9,   -999.0,   8.4641, 26.5823,   8.5146, 2, 2, 0.20, 0.11, 0.01, 0.015,  -999.00, 9, -999.00, -999.00, 9, -999.00
49NZ20071008, P14N, 90, 1, 27, X12049, 2, 20071114, 1348, 17.5127, 179.0005, 4869,    568.5, 2,   6.5828, 2,  34.2388, 2,  34.2392, 2,     58.0, 2,     61.0, 2,    61.83, 2,    35.89, 2,     0.01, 2,     2.65, 2,    0.637, 2,    0.298, 2,    0.018, 2, -999.000, 9,   2269.7, 2,   2307.2, 2,    7.4511,     25.00,   -999.0, 9,   -999.0,  -999.00, 9,   -999.0,   6.5306, 26.8825,   6.5842, 2, 2, 0.26, 0.13, 0.01, 0.017,  -999.00, 9, -999.00, -999.00, 9, -999.00
49NZ20071008, P14N, 90, 1, 26, X12032, 2, 20071114, 1348, 17.5127, 179.0005, 4869,    671.1, 2,   5.7147, 2,  34.3410, 2,  34.3410, 2,     47.7, 2,     47.5, 2,    75.51, 2,    38.96, 2,     0.01, 2,     2.85, 2,    0.190, 6,    0.088, 6,    0.005, 6, -999.000, 9,   2299.2, 6,   2329.0, 2,    7.4279,     25.00,   -999.0, 9,   -999.0,  -999.00, 9,   -999.0,   5.6569, 27.0747,   5.7151, 2, 2, 0.29, 0.14, 0.01, 0.017,  -999.00, 9, -999.00, -999.00, 9, -999.00
49NZ20071008, P14N, 90, 1, 25, X12043, 2, 20071114, 1348, 17.5127, 179.0005, 4869,    770.2, 2,   5.1950, 2,  34.4270, 2,  34.4283, 2,     56.1, 2,     54.5, 2,    84.32, 2,    39.70, 2,     0.01, 2,     2.88, 2,    0.072, 2,    0.033, 2,    0.004, 2, -999.000, 9,   2308.3, 2,   2345.5, 6,    7.4452,     25.00,   -999.0, 9,   -999.0,  -999.00, 9,   -999.0,   5.1311, 27.2057,   5.1951, 2, 2, 0.30, 0.14, 0.01, 0.017,  -999.00, 9, -999.00, -999.00, 9, -999.00
49NZ20071008, P14N, 90, 1, 24, X12030, 2, 20071114, 1348, 17.5127, 179.0005, 4869,    870.2, 2,   4.8137, 2,  34.4751, 2,  34.4757, 2,     60.5, 2,     60.1, 2,    90.60, 2,    39.75, 2,     0.01, 2,     2.87, 2,    0.032, 2,    0.015, 2,    0.000, 2, -999.000, 9,   2313.2, 2,   2356.0, 2,    7.4568,     25.00,   -999.0, 9,   -999.0,  -999.00, 9,   -999.0,   4.7433, 27.2883,   4.8132, 2, 6, 0.32, 0.14, 0.01, 0.017,  -999.00, 9, -999.00, -999.00, 9, -999.00
49NZ20071008, P14N, 90, 1, 23, X12027, 2, 20071114, 1348, 17.5127, 179.0005, 4869,    971.1, 2,   4.3785, 2,  34.5087, 2,  34.5084, 6,     63.1, 2,     64.0, 2,    98.40, 2,    40.29, 2,     0.01, 2,     2.91, 2,    0.013, 2,    0.007, 2,    0.000, 2, -999.000, 9,   2320.6, 2,   2365.6, 2,    7.4608,     25.00,   -999.0, 9,   -999.0,  -999.00, 9,   -999.0,   4.3024, 27.3634,   4.3789, 2, 2, 0.34, 0.15, 0.01, 0.017,  -999.00, 9, -999.00, -999.00, 9, -999.00
49NZ20071008, P14N, 90, 1, 22, X12028, 2, 20071114, 1348, 17.5127, 179.0005, 4869,   1131.3, 2,   3.7450, 2,  34.5393, 2,  34.5390, 2,     67.8, 2,     68.7, 2,   110.60, 2,    40.58, 2,     0.01, 2,     2.92, 2,    0.004, 2,    0.003, 2,    0.000, 2, -999.000, 9,   2333.4, 2,   2379.9, 2,    7.4658,     25.00,   -999.0, 9,   -999.0,  -999.00, 9,   -999.0,   3.6604, 27.4542,   3.7449, 2, 2, 0.36, 0.15, 0.01, 0.017,  -999.00, 9, -999.00, -999.00, 9, -999.00
49NZ20071008, P14N, 90, 1, 21, X12009, 2, 20071114, 1348, 17.5127, 179.0005, 4869,   1330.2, 2,   3.2640, 2,  34.5616, 2,  34.5615, 2,     72.7, 2,     73.4, 2,   120.94, 2,    40.90, 2,     0.00, 2,     2.93, 2,    0.000, 2,    0.000, 2,    0.000, 2, -999.000, 9,   2342.8, 2,   2390.3, 2,    7.4722,     25.00,   -999.0, 9,   -999.0,  -999.00, 9,   -999.0,   3.1674, 27.5196,   3.2641, 2, 2, 0.39, 0.15, 0.01, 0.017,  -999.00, 9, -999.00, -999.00, 9, -999.00
49NZ20071008, P14N, 90, 1, 20, X12026, 2, 20071114, 1348, 17.5127, 179.0005, 4869,   1530.6, 2,   2.7585, 2,  34.5855, 2,  34.5852, 2,     82.3, 2,     82.7, 2,   131.27, 2,    40.49, 2,     0.01, 2,     2.89, 2,    0.000, 2,    0.000, 2,    0.000, 2, -999.000, 9,   2350.9, 2,   2400.6, 2,    7.4832,     25.00,   -999.0, 9,   -999.0,  -999.00, 9,   -999.0,   2.6509, 27.5855,   2.7589, 2, 2, 0.41, 0.15, 0.01, 0.017,  -999.00, 9, -999.00, -999.00, 9, -999.00
49NZ20071008, P14N, 90, 1, 19, X12025, 2, 20071114, 1348, 17.5127, 179.0005, 4869,   1730.8, 2,   2.4287, 2,  34.6055, 2,  34.6057, 2,     91.0, 2,     90.7, 2,   138.21, 2,    40.17, 2,     0.00, 2,     2.86, 2,    0.000, 2,    0.000, 2,    0.000, 2, -999.000, 9,   2351.1, 2,   2408.3, 2,    7.4968,     25.00,   -999.0, 9,   -999.0,  -999.00, 9,   -999.0,   2.3087, 27.6306,   2.4286, 2, 2, 0.42, 0.15, 0.01, 0.017,  -999.00, 9, -999.00, -999.00, 9, -999.00
49NZ20071008, P14N, 90, 1, 18, X12024, 2, 20071114, 1348, 17.5127, 179.0005, 4869,   1930.2, 2,   2.1858, 2,  34.6213, 2,  34.6212, 2,     98.2, 2,     98.7, 2,   142.88, 2,    39.81, 2,     0.01, 2,     2.81, 2,    0.000, 2,    0.001, 2,    0.000, 2, -999.000, 9,   2352.1, 2,   2414.0, 2,    7.5087,     25.00,   -999.0, 9,   -999.0,  -999.00, 9,   -999.0,   2.0525, 27.6641,   2.1858, 2, 2, 0.43, 0.14, 0.01, 0.017,  -999.00, 9, -999.00, -999.00, 9, -999.00
49NZ20071008, P14N, 90, 1, 17, X12023, 2, 20071114, 1348, 17.5127, 179.0005, 4869,   2129.9, 2,   1.9742, 2,  34.6362, 2,  34.6361, 2,    107.1, 2,    106.8, 2,   146.54, 2,    39.41, 2,     0.00, 2,     2.77, 2,    0.000, 2,    0.000, 2,    0.000, 2, -999.000, 9,   2350.7, 2,   2417.6, 2,    7.5232,     25.00,   -999.0, 9,   -999.0,  -999.00, 9,   -999.0,   1.8271, 27.6937,   1.9742, 2, 2, 0.44, 0.14, 0.01, 0.017,  -999.00, 9, -999.00, -999.00, 9, -999.00
49NZ20071008, P14N, 90, 1, 16, X12022, 2, 20071114, 1348, 17.5127, 179.0005, 4869,   2332.6, 2,   1.8248, 2,  34.6461, 2,  34.6457, 6,    114.3, 2,    113.8, 2,   148.47, 2,    38.76, 2,     0.01, 2,     2.73, 2,    0.000, 2,    0.000, 2,    0.000, 2, -999.000, 9,   2350.5, 6,   2419.0, 2,    7.5335,     25.00,   -999.0, 9,   -999.0,  -999.00, 9,   -999.0,   1.6627, 27.7141,   1.8247, 2, 2, 0.45, 0.14, 0.01, 0.017,  -999.00, 9, -999.00, -999.00, 9, -999.00
49NZ20071008, P14N, 90, 1, 15, X12021, 2, 20071114, 1348, 17.5127, 179.0005, 4869,   2531.3, 2,   1.7277, 2,  34.6545, 2,  34.6544, 2,    119.9, 2,    120.0, 2,   150.03, 2,    38.44, 2,     0.00, 2,     2.70, 2, -999.000, 9, -999.000, 9, -999.000, 9, -999.000, 9,   2344.5, 3,   2421.3, 6,    7.5438,     25.00,   -999.0, 9,   -999.0,  -999.00, 9,   -999.0,   1.5497, 27.7293,   1.7277, 2, 2, 0.45, 0.14, 0.01, 0.017,  -999.00, 9, -999.00, -999.00, 9, -999.00
49NZ20071008, P14N, 90, 1, 14, X12020, 2, 20071114, 1348, 17.5127, 179.0005, 4869,   2730.5, 2,   1.6316, 2,  34.6629, 2,  34.6625, 2,    126.5, 2,    126.7, 2,   150.44, 2,    38.09, 2,     0.00, 2,     2.66, 2, -999.000, 9, -999.000, 9, -999.000, 9, -999.000, 9,   2344.9, 2,   2422.5, 2,    7.5549,     25.00,   -999.0, 9,   -999.0,  -999.00, 9,   -999.0,   1.4373, 27.7442,   1.6315, 2, 6, 0.45, 0.14, 0.01, 0.017,  -999.00, 9, -999.00, -999.00, 9, -999.00
49NZ20071008, P14N, 90, 1, 13, X12019, 2, 20071114, 1348, 17.5127, 179.0005, 4869,   2931.1, 2,   1.5742, 2,  34.6682, 2,  34.6684, 2,    131.9, 2,    132.3, 2,   149.74, 2,    37.68, 2,     0.00, 2,     2.63, 2,    0.000, 2,    0.000, 2,    0.000, 2, -999.000, 9,   2341.7, 2,   2421.6, 2,    7.5632,     25.00,   -999.0, 9,   -999.0,  -999.00, 9,   -999.0,   1.3624, 27.7538,   1.5741, 2, 2, 0.45, 0.14, 0.01, 0.017,  -999.00, 9, -999.00, -999.00, 9, -999.00
49NZ20071008, P14N, 90, 1, 12, X12040, 2, 20071114, 1348, 17.5127, 179.0005, 4869,   3170.9, 2,   1.5296, 2,  34.6730, 2,  34.6731, 2,    137.8, 2,    137.9, 2,   148.76, 2,    37.33, 2,     0.00, 2,     2.60, 2, -999.000, 9, -999.000, 9, -999.000, 9, -999.000, 9,   2338.8, 2,   2421.1, 2,    7.5710,     25.00,   -999.0, 9,   -999.0,  -999.00, 9,   -999.0,   1.2957, 27.7624,   1.5295, 2, 2, 0.45, 0.14, 0.01, 0.016,  -999.00, 9, -999.00, -999.00, 9, -999.00
49NZ20071008, P14N, 90, 1, 11, X12047, 2, 20071114, 1348, 17.5127, 179.0005, 4869,   3423.0, 2,   1.4975, 2,  34.6786, 2,  34.6782, 2,    141.7, 2,    142.1, 2,   148.83, 2,    37.03, 2,     0.00, 2,     2.58, 2, -999.000, 9, -999.000, 9, -999.000, 9, -999.000, 9,   2336.2, 2,   2422.3, 2,    7.5786,     25.00,   -999.0, 9,   -999.0,  -999.00, 9,   -999.0,   1.2393, 27.7708,   1.4975, 2, 2, 0.45, 0.14, 0.01, 0.016,  -999.00, 9, -999.00, -999.00, 9, -999.00
49NZ20071008, P14N, 90, 1, 10, X12012, 2, 20071114, 1348, 17.5127, 179.0005, 4869,   3670.6, 2,   1.4655, 2,  34.6825, 2,  34.6823, 6,    147.7, 2,    148.4, 2,   146.46, 2,    36.50, 2,     0.01, 2,     2.55, 2,    0.000, 2,    0.000, 2,    0.000, 2, -999.000, 9,   2331.1, 2,   2420.0, 2,    7.5861,     25.00,   -999.0, 9,   -999.0,  -999.00, 9,   -999.0,   1.1826, 27.7779,   1.4655, 2, 2, 0.44, 0.14, 0.01, 0.016,  -999.00, 9, -999.00, -999.00, 9, -999.00
49NZ20071008, P14N, 90, 1, 9, X12015, 2, 20071114, 1348, 17.5127, 179.0005, 4869,   3919.8, 2,   1.4511, 2,  34.6856, 2,  34.6854, 2,    152.7, 2,    153.1, 2,   144.40, 2,    36.27, 2,     0.00, 2,     2.52, 2, -999.000, 9, -999.000, 9, -999.000, 9, -999.000, 9,   2325.2, 2,   2418.4, 2,    7.5924,     25.00,   -999.0, 9,   -999.0,  -999.00, 9,   -999.0,   1.1422, 27.7831,   1.4511, 2, 2, 0.44, 0.13, 0.01, 0.016,  -999.00, 9, -999.00, -999.00, 9, -999.00
49NZ20071008, P14N, 90, 1, 8, X12046, 2, 20071114, 1348, 17.5127, 179.0005, 4869,   4171.6, 2,   1.4290, 2,  34.6892, 2,  34.6891, 2,    159.0, 2,    159.1, 2,   141.36, 2,    35.82, 2,     0.00, 2,     2.49, 2, -999.000, 9, -999.000, 9, -999.000, 9, -999.000, 9,   2318.6, 6,   2415.0, 2,    7.5991,     25.00,   -999.0, 9,   -999.0,  -999.00, 9,   -999.0,   1.0933, 27.7894,   1.4290, 2, 2, 0.43, 0.13, 0.01, 0.016,  -999.00, 9, -999.00, -999.00, 9, -999.00
49NZ20071008, P14N, 90, 1, 7, X12044, 2, 20071114, 1348, 17.5127, 179.0005, 4869,   4420.8, 2,   1.4078, 2,  34.6926, 2,  34.6924, 2,    165.9, 2,    165.6, 2,   137.80, 2,    35.48, 2,     0.00, 2,     2.45, 2,    0.000, 2,    0.000, 2,    0.000, 2, -999.000, 9,   2311.8, 2,   2410.1, 6,    7.6057,     25.00,   -999.0, 9,   -999.0,  -999.00, 9,   -999.0,   1.0447, 27.7953,   1.4078, 2, 2, 0.42, 0.13, 0.01, 0.016,  -999.00, 9, -999.00, -999.00, 9, -999.00
49NZ20071008, P14N, 90, 1, 6, X12048, 2, 20071114, 1348, 17.5127, 179.0005, 4869,   4670.7, 2,   1.3790, 2,  34.6965, 2,  34.6963, 2,    173.5, 2,    173.4, 2,   133.05, 2,    34.85, 2,     0.00, 2,     2.41, 2, -999.000, 9, -999.000, 9, -999.000, 9, -999.000, 9,   2302.9, 2,   2404.3, 2,    7.6130,     25.00,   -999.0, 9,   -999.0,  -999.00, 9,   -999.0,   0.9880, 27.8022,   1.3789, 2, 6, 0.41, 0.13, 0.01, 0.016,  -999.00, 9, -999.00, -999.00, 9, -999.00
49NZ20071008, P14N, 90, 1, 5, X12014, 9, 20071114, 1348, 17.5127, 179.0005, 4869,    370.7, 2,  11.4868, 2,  34.2801, 2, -999.0000, 9,    192.6, 2,   -999.0, 9,  -999.00, 9,  -999.00, 9,  -999.00, 9,  -999.00, 9, -999.000, 9, -999.000, 9, -999.000, 9, -999.000, 9,   -999.0, 9,   -999.0, 9, -999.0000,   -999.00,   -999.0, 9,   -999.0,  -999.00, 9,   -999.0,  11.4398, 26.1348,  11.4908, 2, 9, -999.00, -999.00, -999.00, -999.000,  -999.00, 9, -999.00, -999.00, 9, -999.00
49NZ20071008, P14N, 90, 1, 4, X12006, 9, 20071114, 1348, 17.5127, 179.0005, 4869,    469.8, 2,   8.5151, 2,  34.2086, 2, -999.0000, 9,     96.6, 2,   -999.0, 9,  -999.00, 9,  -999.00, 9,  -999.00, 9,  -999.00, 9, -999.000, 9, -999.000, 9, -999.000, 9, -999.000, 9,   -999.0, 9,   -999.0, 9, -999.0000,   -999.00,   -999.0, 9,   -999.0,  -999.00, 9,   -999.0,   8.4655, 26.5820,   8.5159, 2, 9, -999.00, -999.00, -999.00, -999.000,  -999.00, 9, -999.00, -999.00, 9, -999.00
49NZ20071008, P14N, 90, 1, 3, X12013, 9, 20071114, 1348, 17.5127, 179.0005, 4869,    569.2, 2,   6.5822, 2,  34.2391, 2, -999.0000, 9,     58.0, 2,   -999.0, 9,  -999.00, 9,  -999.00, 9,  -999.00, 9,  -999.00, 9, -999.000, 9, -999.000, 9, -999.000, 9, -999.000, 9,   -999.0, 9,   -999.0, 9, -999.0000,   -999.00,   -999.0, 9,   -999.0,  -999.00, 9,   -999.0,   6.5299, 26.8828,   6.5818, 2, 9, -999.00, -999.00, -999.00, -999.000,  -999.00, 9, -999.00, -999.00, 9, -999.00
49NZ20071008, P14N, 90, 1, 2, X12002, 9, 20071114, 1348, 17.5127, 179.0005, 4869,    671.4, 2,   5.7148, 2,  34.3410, 2, -999.0000, 9,     47.8, 2,   -999.0, 9,  -999.00, 9,  -999.00, 9,  -999.00, 9,  -999.00, 9, -999.000, 9, -999.000, 9, -999.000, 9, -999.000, 9,   -999.0, 9,   -999.0, 9, -999.0000,   -999.00,   -999.0, 9,   -999.0,  -999.00, 9,   -999.0,   5.6570, 27.0747,   5.7151, 2, 9, -999.00, -999.00, -999.00, -999.000,  -999.00, 9, -999.00, -999.00, 9, -999.00
49NZ20071008, P14N, 90, 1, 1, X12001, 2, 20071114, 1348, 17.5127, 179.0005, 4869,   4945.7, 2,   1.3399, 2,  34.7012, 2,  34.7016, 6,    183.1, 2,    183.2, 2,   127.17, 2,    34.09, 2,     0.00, 2,     2.37, 2,    0.000, 2,    0.001, 2,    0.000, 2, -999.000, 9,   2294.2, 2,   2396.7, 2,    7.6219,     25.00,   -999.0, 9,   -999.0,  -999.00, 9,   -999.0,   0.9175, 27.8107,   1.3399, 2, 6, 0.40, 0.13, 0.01, 0.016,  -999.00, 9, -999.00, -999.00, 9, -999.00