BOTTLE,20221005CCHSIOAMB
EXPOCODE,SECT_ID,STNNBR,CASTNO,SAMPNO,BTLNBR,BTLNBR_FLAG_W,DATE,TIME,LATITUDE,LONGITUDE,DEPTH,CTDPRS,CTDPRS_FLAG_W,CTDTMP,CTDTMP_FLAG_W,CTDSAL,CTDSAL_FLAG_W,SALNTY,SALNTY_FLAG_W,CTDOXY,CTDOXY_FLAG_W,OXYGEN,OXYGEN_FLAG_W,SILCAT,SILCAT_FLAG_W,NITRAT,NITRAT_FLAG_W,NITRIT,NITRIT_FLAG_W,PHSPHT,PHSPHT_FLAG_W,CFC-11,CFC-11_FLAG_W,CFC-12,CFC-12_FLAG_W,CFC113,CFC113_FLAG_W,CCL4,CCL4_FLAG_W,TCARBN,TCARBN_FLAG_W,ALKALI,ALKALI_FLAG_W,PH_TOT,PH_TMP,DELC14,DELC14_FLAG_W,C14ERR,DELC13,DELC13_FLAG_W,C13ERR,THETA,SIG0,SBE35,SBE35_FLAG_W,PH_TOT_FLAG_W,SILUNC,NRAUNC,NRIUNC,PHPUNC,CS-137,CS-137_FLAG_W,CS137ER,PLUTO,PLUTO_FLAG_W,PLUTOER
,,,,,,,,,,,METERS,DBAR,,ITS-90,,PSS-78,,PSS-78,,UMOL/KG,,UMOL/KG,,UMOL/KG,,UMOL/KG,,UMOL/KG,,UMOL/KG,,PMOL/KG,,PMOL/KG,,PMOL/KG,,PMOL/KG,,UMOL/KG,,UMOL/KG,,,DEG C,/MILLE,,/MILLE,/MILLE,,/MILLE,DEG C,KG/M^3,ITS-90,,,UMOL/KG,UMOL/KG,UMOL/KG,UMOL/KG,DM/.1MG,,BQ/M^3,MBQ/M^3,,MBQ/M^3
49NZ20071008, P14N, 60, 1, 36, X12042, 2, 20071106, 0442, 32.4848, 179.0083, 5346,     10.6, 2,  24.1283, 2,  34.5948, 2,  34.5948, 2,    213.1, 2,    213.6, 2,     1.52, 2,     0.05, 2,     0.00, 2,     0.05, 2,    1.753, 2,    1.091, 2,    0.321, 4,    2.020, 4,   1960.4, 2,   2275.6, 2,    8.0877,     25.00,   -999.0, 9,   -999.0,  -999.00, 9,   -999.0,  24.1261, 23.2973,  24.1221, 2, 6, 0.12, 0.03, 0.01, 0.037,  -999.00, 9, -999.00, -999.00, 9, -999.00
49NZ20071008, P14N, 60, 1, 35, X12041, 2, 20071106, 0442, 32.4848, 179.0083, 5346,     50.2, 2,  21.2090, 2,  34.5691, 2,  34.5935, 2,    223.0, 2,    223.9, 2,     3.16, 2,     0.14, 2,     0.01, 2,     0.11, 2,    2.095, 2,    1.270, 2,    0.654, 4,    1.107, 4,   1995.1, 6,   2279.7, 2,    8.0378,     25.00,   -999.0, 9,   -999.0,  -999.00, 9,   -999.0,  21.1994, 24.1117,  21.1888, 2, 2, 0.13, 0.03, 0.01, 0.021,  -999.00, 9, -999.00, -999.00, 9, -999.00
49NZ20071008, P14N, 60, 1, 34, X12016, 2, 20071106, 0442, 32.4848, 179.0083, 5346,    100.7, 2,  17.5987, 2,  34.7300, 2,  34.7270, 2,    186.2, 2,    189.0, 2,     6.54, 2,     6.43, 2,     0.02, 2,     0.48, 2,    2.283, 2,    1.353, 2,    0.076, 2,    0.592, 4,   2047.9, 2,   2284.7, 6,    7.9489,     25.00,   -999.0, 9,   -999.0,  -999.00, 9,   -999.0,  17.5817, 25.1675,  17.5942, 2, 2, 0.13, 0.05, 0.01, 0.013,  -999.00, 9, -999.00, -999.00, 9, -999.00
49NZ20071008, P14N, 60, 1, 33, X12033, 2, 20071106, 0442, 32.4848, 179.0083, 5346,    151.1, 2,  16.5640, 2,  34.6959, 2,  34.6939, 2,    197.3, 2,    201.5, 2,     6.05, 2,     6.31, 2,     0.01, 2,     0.47, 2,    2.406, 6,    1.418, 6,    0.074, 6,    0.701, 4,   2045.9, 2,   2282.8, 2,    7.9452,     25.00,   -999.0, 9,   -999.0,  -999.00, 9,   -999.0,  16.5396, 25.3891,  16.5655, 2, 6, 0.13, 0.05, 0.01, 0.013,  -999.00, 9, -999.00, -999.00, 9, -999.00
49NZ20071008, P14N, 60, 1, 32, X12038, 2, 20071106, 0442, 32.4848, 179.0083, 5346,    198.7, 2,  15.5044, 2,  34.6126, 2,  34.6080, 2,    207.2, 2,    206.8, 2,     7.36, 2,     7.36, 2,     0.01, 2,     0.55, 2,    2.539, 2,    1.485, 2,    0.101, 2,    0.727, 4,   2055.3, 2,   2278.9, 2,    7.9245,     25.00,   -999.0, 9,   -999.0,  -999.00, 9,   -999.0,  15.4737, 25.5684,  15.5064, 2, 2, 0.14, 0.05, 0.01, 0.013,  -999.00, 9, -999.00, -999.00, 9, -999.00
49NZ20071008, P14N, 60, 1, 31, X12003, 2, 20071106, 0442, 32.4848, 179.0083, 5346,    250.5, 2,  14.2039, 2,  34.5121, 2,  34.5098, 6,    221.4, 2,    219.6, 2,     8.93, 2,     8.17, 2,     0.01, 2,     0.62, 2,    2.682, 2,    1.566, 2,    0.155, 2,    0.938, 4,   2060.7, 2,   2274.3, 2,    7.9047,     25.00,   -999.0, 9,   -999.0,  -999.00, 9,   -999.0,  14.1674, 25.7748,  14.2044, 2, 2, 0.14, 0.06, 0.01, 0.013,  -999.00, 9, -999.00, -999.00, 9, -999.00
49NZ20071008, P14N, 60, 1, 30, X12008, 2, 20071106, 0442, 32.4848, 179.0083, 5346,    279.7, 2,  13.6252, 2,  34.4795, 2,  34.4749, 2,    214.3, 2,    217.3, 2,    10.78, 2,     9.41, 2,     0.01, 2,     0.70, 2,    2.709, 2,    1.570, 2,    0.142, 2,    0.965, 4,   2068.4, 2,   2274.6, 2,    7.8866,     25.00,   -999.0, 9,   -999.0,  -999.00, 9,   -999.0,  13.5856, 25.8709,  13.6136, 2, 2, 0.14, 0.06, 0.01, 0.013,  -999.00, 9, -999.00, -999.00, 9, -999.00
49NZ20071008, P14N, 60, 1, 29, X12035, 2, 20071106, 0442, 32.4848, 179.0083, 5346,    372.2, 2,  11.7785, 2,  34.3496, 2,  34.3499, 2,    217.2, 2,    218.3, 2,    15.43, 2,    12.36, 2,     0.01, 2,     0.91, 2,    2.883, 2,    1.642, 2,    0.134, 2,    1.086, 4,   2092.8, 2,   2273.7, 2,    7.8379,     25.00,   -999.0, 9,   -999.0,  -999.00, 9,   -999.0,  11.7305, 26.1348,  11.7756, 2, 2, 0.15, 0.07, 0.01, 0.013,  -999.00, 9, -999.00, -999.00, 9, -999.00
49NZ20071008, P14N, 60, 1, 28, X12034, 2, 20071106, 0442, 32.4848, 179.0083, 5346,    469.4, 2,   9.5051, 2,  34.1563, 2,  34.1466, 6,    205.7, 2,    205.2, 2,    25.61, 2,    17.77, 2,     0.01, 2,     1.31, 2,    3.016, 2,    1.664, 2,    0.156, 2,    1.337, 4,   2129.7, 2,   2273.4, 2,    7.7514,     25.00,   -999.0, 9,   -999.0,  -999.00, 9,   -999.0,   9.4521, 26.3845,   9.5051, 2, 2, 0.18, 0.08, 0.01, 0.014,  -999.00, 9, -999.00, -999.00, 9, -999.00
49NZ20071008, P14N, 60, 1, 27, X12049, 2, 20071106, 0442, 32.4848, 179.0083, 5346,    570.1, 2,   7.2241, 2,  34.0223, 2,  34.0206, 2,    166.7, 2,    165.8, 2,    43.93, 2,    25.44, 2,     0.00, 2,     1.88, 2,    2.670, 2,    1.405, 2,    0.132, 2,    1.400, 4,   2184.4, 2,   2281.8, 2,    7.6281,     25.00,   -999.0, 9,   -999.0,  -999.00, 9,   -999.0,   7.1692, 26.6253,   7.2252, 2, 2, 0.22, 0.10, 0.01, 0.015,  -999.00, 9, -999.00, -999.00, 9, -999.00
49NZ20071008, P14N, 60, 1, 26, X12032, 9, 20071106, 0442, 32.4848, 179.0083, 5346,    670.2, 2,   5.6003, 2,  34.0123, 2, -999.0000, 9,    123.4, 2,   -999.0, 9,  -999.00, 9,  -999.00, 9,  -999.00, 9,  -999.00, 9, -999.000, 9, -999.000, 9, -999.000, 9, -999.000, 9,   -999.0, 9,   -999.0, 9, -999.0000,   -999.00,   -999.0, 9,   -999.0,  -999.00, 9,   -999.0,   5.5435, 26.8284,   5.6000, 2, 9, -999.00, -999.00, -999.00, -999.000,  -999.00, 9, -999.00, -999.00, 9, -999.00
49NZ20071008, P14N, 60, 1, 25, X12043, 2, 20071106, 0442, 32.4848, 179.0083, 5346,    769.7, 2,   4.7953, 2,  34.0891, 2,  34.0907, 2,     83.5, 2,     82.2, 2,    84.47, 2,    36.86, 2,     0.00, 2,     2.68, 2,    1.324, 2,    0.654, 2,    0.073, 2,    0.782, 4,   2284.7, 2,   2316.9, 6,    7.4381,     25.00,   -999.0, 9,   -999.0,  -999.00, 9,   -999.0,   4.7342, 26.9831,   4.7943, 2, 2, 0.30, 0.14, 0.01, 0.017,  -999.00, 9, -999.00, -999.00, 9, -999.00
49NZ20071008, P14N, 60, 1, 24, X12030, 2, 20071106, 0442, 32.4848, 179.0083, 5346,    871.0, 2,   4.2601, 2,  34.1823, 2,  34.1821, 2,     55.2, 2,     54.2, 2,   100.37, 2,    39.97, 2,     0.00, 2,     2.89, 2,    0.698, 2,    0.334, 2,    0.029, 2,    0.430, 4,   2320.3, 2,   2334.4, 2,    7.3895,     25.00,   -999.0, 9,   -999.0,  -999.00, 9,   -999.0,   4.1938, 27.1156,   4.2576, 2, 2, 0.34, 0.14, 0.01, 0.017,  -999.00, 9, -999.00, -999.00, 9, -999.00
49NZ20071008, P14N, 60, 1, 23, X12027, 2, 20071106, 0442, 32.4848, 179.0083, 5346,    970.2, 2,   3.8103, 2,  34.2600, 2,  34.2604, 6,     39.1, 2,     39.0, 2,   113.79, 2,    41.81, 2,     0.00, 2,     3.02, 2,    0.353, 2,    0.168, 2,    0.015, 2,    0.250, 4,   2341.4, 2,   2352.0, 2,    7.3675,     25.00,   -999.0, 9,   -999.0,  -999.00, 9,   -999.0,   3.7389, 27.2239,   3.8105, 2, 2, 0.37, 0.15, 0.01, 0.018,  -999.00, 9, -999.00, -999.00, 9, -999.00
49NZ20071008, P14N, 60, 1, 22, X12028, 2, 20071106, 0442, 32.4848, 179.0083, 5346,   1129.6, 2,   3.2410, 2,  34.3714, 2,  34.3708, 2,     29.3, 2,     28.2, 2,   130.84, 2,    43.31, 2,     0.00, 2,     3.12, 2,    0.090, 2,    0.044, 2,    0.004, 2,    0.098, 4,   2371.0, 2,   2373.9, 2,    7.3561,     25.00,   -999.0, 9,   -999.0,  -999.00, 9,   -999.0,   3.1613, 27.3684,   3.2411, 2, 2, 0.41, 0.15, 0.01, 0.018,  -999.00, 9, -999.00, -999.00, 9, -999.00
49NZ20071008, P14N, 60, 1, 21, X12009, 2, 20071106, 0442, 32.4848, 179.0083, 5346,   1330.4, 2,   2.7801, 2,  34.4471, 2,  34.4472, 2,     29.5, 2,     29.2, 2,   144.82, 2,    43.73, 2,     0.00, 2,     3.13, 2,    0.035, 2,    0.014, 2,    0.004, 2,    0.081, 4,   2383.1, 2,   2389.7, 2,    7.3615,     25.00,   -999.0, 9,   -999.0,  -999.00, 9,   -999.0,   2.6887, 27.4715,   2.7802, 2, 2, 0.44, 0.16, 0.01, 0.018,  -999.00, 9, -999.00, -999.00, 9, -999.00
49NZ20071008, P14N, 60, 1, 20, X12026, 2, 20071106, 0442, 32.4848, 179.0083, 5346,   1531.6, 2,   2.4713, 2,  34.5069, 2,  34.5068, 2,     36.8, 2,     36.4, 2,   153.00, 2,    43.47, 2,     0.00, 2,     3.10, 2,    0.012, 2,    0.005, 2,    0.003, 2,    0.036, 4,   2386.7, 2,   2401.3, 2,    7.3786,     25.00,   -999.0, 9,   -999.0,  -999.00, 9,   -999.0,   2.3672, 27.5468,   2.4715, 2, 6, 0.46, 0.15, 0.01, 0.018,  -999.00, 9, -999.00, -999.00, 9, -999.00
49NZ20071008, P14N, 60, 1, 19, X12025, 2, 20071106, 0442, 32.4848, 179.0083, 5346,   1732.0, 2,   2.2070, 2,  34.5544, 2,  34.5538, 2,     50.5, 2,     50.0, 2,   158.60, 2,    42.68, 2,     0.00, 2,     3.04, 2,    0.001, 2,    0.000, 2,    0.000, 2,    0.000, 4,   2385.9, 2,   2409.1, 2,    7.4063,     25.00,   -999.0, 9,   -999.0,  -999.00, 9,   -999.0,   2.0900, 27.6075,   2.2071, 2, 2, 0.47, 0.15, 0.01, 0.018,  -999.00, 9, -999.00, -999.00, 9, -999.00
49NZ20071008, P14N, 60, 1, 18, X12024, 2, 20071106, 0442, 32.4848, 179.0083, 5346,   1929.9, 2,   2.0235, 2,  34.5890, 2,  34.5886, 2,     66.3, 2,     65.4, 2,   160.71, 2,    41.78, 2,     0.00, 2,     2.98, 2,    0.000, 2,    0.000, 2,    0.000, 2,    0.000, 4,   2380.2, 2,   2414.2, 2,    7.4365,     25.00,   -999.0, 9,   -999.0,  -999.00, 9,   -999.0,   1.8927, 27.6508,   2.0236, 2, 2, 0.47, 0.15, 0.01, 0.017,  -999.00, 9, -999.00, -999.00, 9, -999.00
49NZ20071008, P14N, 60, 1, 17, X12023, 2, 20071106, 0442, 32.4848, 179.0083, 5346,   2131.4, 2,   1.8786, 2,  34.6107, 2,  34.6104, 2,     79.1, 2,     79.1, 2,   161.43, 2,    40.93, 2,     0.00, 2,     2.91, 2,    0.000, 2,    0.000, 2,    0.000, 2,    0.008, 4,   2375.8, 2,   2417.7, 2,    7.4624,     25.00,   -999.0, 9,   -999.0,  -999.00, 9,   -999.0,   1.7331, 27.6805,   1.8786, 2, 2, 0.47, 0.15, 0.01, 0.017,  -999.00, 9, -999.00, -999.00, 9, -999.00
49NZ20071008, P14N, 60, 1, 16, X12022, 2, 20071106, 0442, 32.4848, 179.0083, 5346,   2331.5, 2,   1.7597, 2,  34.6261, 2,  34.6258, 2,     91.2, 2,     90.4, 2,   161.72, 2,    40.22, 2,     0.01, 2,     2.85, 2,    0.000, 2,    0.001, 2,    0.000, 2,    0.000, 4,   2369.9, 6,   2418.4, 2,    7.4829,     25.00,   -999.0, 9,   -999.0,  -999.00, 9,   -999.0,   1.5989, 27.7028,   1.7596, 2, 2, 0.47, 0.15, 0.01, 0.017,  -999.00, 9, -999.00, -999.00, 9, -999.00
49NZ20071008, P14N, 60, 1, 15, X12021, 2, 20071106, 0442, 32.4848, 179.0083, 5346,   2530.4, 2,   1.6872, 2,  34.6397, 2,  34.6394, 2,    101.9, 2,    101.5, 2,   160.28, 2,    39.55, 2,     0.00, 2,     2.80, 2,    0.000, 2,    0.001, 2,    0.000, 2,    0.013, 4,   2363.2, 2,   2419.8, 6,    7.5036,     25.00,   -999.0, 9,   -999.0,  -999.00, 9,   -999.0,   1.5101, 27.7203,   1.6873, 2, 2, 0.47, 0.14, 0.01, 0.017,  -999.00, 9, -999.00, -999.00, 9, -999.00
49NZ20071008, P14N, 60, 1, 14, X12020, 2, 20071106, 0442, 32.4848, 179.0083, 5346,   2730.5, 2,   1.6114, 2,  34.6503, 2,  34.6501, 2,    110.5, 2,    111.5, 2,   159.01, 2,    38.85, 2,     0.01, 2,     2.75, 2,    0.000, 2,    0.000, 2,    0.000, 2,    0.000, 4,   2356.5, 2,   2419.8, 2,    7.5213,     25.00,   -999.0, 9,   -999.0,  -999.00, 9,   -999.0,   1.4176, 27.7355,   1.6114, 2, 6, 0.47, 0.14, 0.01, 0.017,  -999.00, 9, -999.00, -999.00, 9, -999.00
49NZ20071008, P14N, 60, 1, 13, X12019, 2, 20071106, 0442, 32.4848, 179.0083, 5346,   2930.7, 2,   1.5661, 2,  34.6589, 2,  34.6585, 2,    119.4, 2,    120.0, 2,   157.57, 2,    38.37, 2,     0.00, 2,     2.71, 2, -999.000, 9, -999.000, 9, -999.000, 9,    0.009, 4,   2352.0, 2,   2421.5, 2,    7.5373,     25.00,   -999.0, 9,   -999.0,  -999.00, 9,   -999.0,   1.3545, 27.7469,   1.5661, 2, 2, 0.47, 0.14, 0.01, 0.017,  -999.00, 9, -999.00, -999.00, 9, -999.00
49NZ20071008, P14N, 60, 1, 12, X12040, 2, 20071106, 0442, 32.4848, 179.0083, 5346,   3169.9, 2,   1.5189, 2,  34.6672, 2,  34.6669, 2,    128.1, 2,    128.6, 2,   155.62, 2,    37.65, 2,     0.00, 2,     2.66, 2,    0.000, 2,    0.000, 2,    0.000, 2,    0.000, 4,   2344.6, 2,   2421.2, 2,    7.5521,     25.00,   -999.0, 9,   -999.0,  -999.00, 9,   -999.0,   1.2854, 27.7584,   1.5188, 2, 2, 0.46, 0.14, 0.01, 0.017,  -999.00, 9, -999.00, -999.00, 9, -999.00
49NZ20071008, P14N, 60, 1, 11, X12047, 2, 20071106, 0442, 32.4848, 179.0083, 5346,   3420.5, 2,   1.4935, 2,  34.6733, 2,  34.6730, 2,    135.0, 2,    135.4, 2,   154.31, 2,    37.27, 2,     0.00, 2,     2.63, 2, -999.000, 9, -999.000, 9, -999.000, 9,    0.000, 4,   2343.0, 2,   2420.9, 2,    7.5644,     25.00,   -999.0, 9,   -999.0,  -999.00, 9,   -999.0,   1.2356, 27.7668,   1.4935, 2, 2, 0.46, 0.14, 0.01, 0.017,  -999.00, 9, -999.00, -999.00, 9, -999.00
49NZ20071008, P14N, 60, 1, 10, X12017, 2, 20071106, 0442, 32.4848, 179.0083, 5346,   3673.0, 2,   1.4804, 2,  34.6777, 2,  34.6777, 2,    140.2, 2,    140.6, 2,   153.07, 2,    36.89, 2,     0.00, 2,     2.60, 2, -999.000, 9, -999.000, 9, -999.000, 9,    0.000, 4,   2337.2, 2,   2421.2, 2,    7.5741,     25.00,   -999.0, 9,   -999.0,  -999.00, 9,   -999.0,   1.1969, 27.7731,   1.4803, 2, 2, 0.46, 0.14, 0.01, 0.016,  -999.00, 9, -999.00, -999.00, 9, -999.00
49NZ20071008, P14N, 60, 1, 9, X12015, 2, 20071106, 0442, 32.4848, 179.0083, 5346,   3919.5, 2,   1.4752, 2,  34.6812, 2,  34.6810, 2,    144.5, 2,    144.9, 2,   151.89, 2,    36.65, 2,     0.00, 2,     2.58, 2,    0.000, 2,    0.000, 2,    0.000, 2,    0.000, 4,   2335.4, 2,   2421.3, 2,    7.5812,     25.00,   -999.0, 9,   -999.0,  -999.00, 9,   -999.0,   1.1657, 27.7780,   1.4751, 2, 2, 0.45, 0.14, 0.01, 0.016,  -999.00, 9, -999.00, -999.00, 9, -999.00
49NZ20071008, P14N, 60, 1, 8, X12046, 2, 20071106, 0442, 32.4848, 179.0083, 5346,   4171.7, 2,   1.4766, 2,  34.6840, 2,  34.6841, 2,    148.6, 2,    148.7, 2,   150.53, 2,    36.42, 2,     0.00, 2,     2.56, 2, -999.000, 9, -999.000, 9, -999.000, 9,    0.003, 4,   2333.3, 6,   2420.8, 2,    7.5870,     25.00,   -999.0, 9,   -999.0,  -999.00, 9,   -999.0,   1.1395, 27.7821,   1.4766, 2, 2, 0.45, 0.13, 0.01, 0.016,  -999.00, 9, -999.00, -999.00, 9, -999.00
49NZ20071008, P14N, 60, 1, 7, X12044, 2, 20071106, 0442, 32.4848, 179.0083, 5346,   4419.1, 2,   1.4830, 2,  34.6865, 2,  34.6860, 2,    152.1, 2,    152.1, 2,   148.87, 2,    36.10, 2,     0.01, 2,     2.54, 2, -999.000, 9, -999.000, 9, -999.000, 9,    0.011, 4,   2331.4, 2,   2420.1, 6,    7.5920,     25.00,   -999.0, 9,   -999.0,  -999.00, 9,   -999.0,   1.1178, 27.7855,   1.4829, 2, 2, 0.45, 0.13, 0.01, 0.016,  -999.00, 9, -999.00, -999.00, 9, -999.00
49NZ20071008, P14N, 60, 1, 6, X12048, 2, 20071106, 0442, 32.4848, 179.0083, 5346,   4670.5, 2,   1.4875, 2,  34.6889, 2,  34.6884, 2,    155.7, 2,    156.2, 2,   146.42, 2,    35.84, 2,     0.00, 2,     2.52, 2,    0.000, 2,    0.000, 2,    0.000, 2,    0.004, 4,   2326.1, 2,   2417.9, 2,    7.5981,     25.00,   -999.0, 9,   -999.0,  -999.00, 9,   -999.0,   1.0931, 27.7891,   1.4875, 2, 6, 0.44, 0.13, 0.01, 0.016,  -999.00, 9, -999.00, -999.00, 9, -999.00
49NZ20071008, P14N, 60, 1, 5, X12014, 2, 20071106, 0442, 32.4848, 179.0083, 5346,   4921.2, 2,   1.4933, 2,  34.6910, 2,  34.6906, 2,    160.2, 2,    160.3, 2,   142.99, 2,    35.48, 2,     0.00, 2,     2.50, 2, -999.000, 9, -999.000, 9, -999.000, 9,    0.001, 4,   2321.2, 2,   2415.4, 2,    7.6027,     25.00,   -999.0, 9,   -999.0,  -999.00, 9,   -999.0,   1.0688, 27.7924,   1.4933, 2, 2, 0.43, 0.13, 0.01, 0.016,  -999.00, 9, -999.00, -999.00, 9, -999.00
49NZ20071008, P14N, 60, 1, 4, X12006, 2, 20071106, 0442, 32.4848, 179.0083, 5346,   5170.0, 2,   1.5017, 2,  34.6930, 2,  34.6927, 2,    164.4, 2,    164.4, 2,   139.78, 2,    35.29, 2,     0.00, 2,     2.48, 2,    0.004, 2,    0.004, 2,    0.000, 2,    0.002, 4,   2318.2, 2,   2413.4, 2,    7.6081,     25.00,   -999.0, 9,   -999.0,  -999.00, 9,   -999.0,   1.0465, 27.7955,   1.5016, 2, 2, 0.43, 0.13, 0.01, 0.016,  -999.00, 9, -999.00, -999.00, 9, -999.00
49NZ20071008, P14N, 60, 1, 3, X12013, 9, 20071106, 0442, 32.4848, 179.0083, 5346,     10.4, 2,  24.0870, 2,  34.5861, 2, -999.0000, 9,    213.4, 2,   -999.0, 9,  -999.00, 9,  -999.00, 9,  -999.00, 9,  -999.00, 9, -999.000, 9, -999.000, 9, -999.000, 9, -999.000, 9,   -999.0, 9,   -999.0, 9, -999.0000,   -999.00,   -999.0, 9,   -999.0,  -999.00, 9,   -999.0,  24.0848, 23.3029,  24.0878, 2, 9, -999.00, -999.00, -999.00, -999.000,  -999.00, 9, -999.00, -999.00, 9, -999.00
49NZ20071008, P14N, 60, 1, 2, X12002, 9, 20071106, 0442, 32.4848, 179.0083, 5346,   3419.7, 2,   1.4934, 2,  34.6733, 2, -999.0000, 9,    134.9, 2,   -999.0, 9,  -999.00, 9,  -999.00, 9,  -999.00, 9,  -999.00, 9, -999.000, 9, -999.000, 9, -999.000, 9, -999.000, 9,   -999.0, 9,   -999.0, 9, -999.0000,   -999.00,   -999.0, 9,   -999.0,  -999.00, 9,   -999.0,   1.2356, 27.7668,   1.4934, 2, 9, -999.00, -999.00, -999.00, -999.000,  -999.00, 9, -999.00, -999.00, 9, -999.00
49NZ20071008, P14N, 60, 1, 1, X12001, 2, 20071106, 0442, 32.4848, 179.0083, 5346,   5426.0, 2,   1.5205, 2,  34.6942, 2,  34.6943, 6,    167.3, 2,    166.8, 2,   138.10, 2,    35.07, 2,     0.00, 2,     2.46, 2,    0.003, 2,    0.001, 2,    0.000, 2,    0.018, 4,   2313.6, 2,   2412.2, 2,    7.6104,     25.00,   -999.0, 9,   -999.0,  -999.00, 9,   -999.0,   1.0326, 27.7975,   1.5205, 2, 2, 0.42, 0.13, 0.01, 0.016,  -999.00, 9, -999.00, -999.00, 9, -999.00