BOTTLE,20221005CCHSIOAMB
EXPOCODE,SECT_ID,STNNBR,CASTNO,SAMPNO,BTLNBR,BTLNBR_FLAG_W,DATE,TIME,LATITUDE,LONGITUDE,DEPTH,CTDPRS,CTDPRS_FLAG_W,CTDTMP,CTDTMP_FLAG_W,CTDSAL,CTDSAL_FLAG_W,SALNTY,SALNTY_FLAG_W,CTDOXY,CTDOXY_FLAG_W,OXYGEN,OXYGEN_FLAG_W,SILCAT,SILCAT_FLAG_W,NITRAT,NITRAT_FLAG_W,NITRIT,NITRIT_FLAG_W,PHSPHT,PHSPHT_FLAG_W,CFC-11,CFC-11_FLAG_W,CFC-12,CFC-12_FLAG_W,CFC113,CFC113_FLAG_W,CCL4,CCL4_FLAG_W,TCARBN,TCARBN_FLAG_W,ALKALI,ALKALI_FLAG_W,PH_TOT,PH_TMP,DELC14,DELC14_FLAG_W,C14ERR,DELC13,DELC13_FLAG_W,C13ERR,THETA,SIG0,SBE35,SBE35_FLAG_W,PH_TOT_FLAG_W,SILUNC,NRAUNC,NRIUNC,PHPUNC,CS-137,CS-137_FLAG_W,CS137ER,PLUTO,PLUTO_FLAG_W,PLUTOER
,,,,,,,,,,,METERS,DBAR,,ITS-90,,PSS-78,,PSS-78,,UMOL/KG,,UMOL/KG,,UMOL/KG,,UMOL/KG,,UMOL/KG,,UMOL/KG,,PMOL/KG,,PMOL/KG,,PMOL/KG,,PMOL/KG,,UMOL/KG,,UMOL/KG,,,DEG C,/MILLE,,/MILLE,/MILLE,,/MILLE,DEG C,KG/M^3,ITS-90,,,UMOL/KG,UMOL/KG,UMOL/KG,UMOL/KG,DM/.1MG,,BQ/M^3,MBQ/M^3,,MBQ/M^3
49NZ20071008, P14N, 18, 1, 36, X12042, 2, 20071023, 1447, 51.6280, -179.9382, 1890,     10.6, 2,   6.3567, 2,  33.1010, 2,  33.1025, 2,    289.0, 2,    290.5, 2,    37.35, 2,    21.43, 2,     0.21, 2,     1.82, 2,    4.186, 2,    2.207, 2,    0.427, 4, -999.000, 9,   -999.0, 9,   -999.0, 9, -999.0000,   -999.00,   -999.0, 9,   -999.0,  -999.00, 9,   -999.0,   6.3558, 26.0076,   6.3564, 2, 9, 0.20, 0.09, 0.01, 0.015,  -999.00, 9, -999.00, -999.00, 9, -999.00
49NZ20071008, P14N, 18, 1, 35, X12041, 2, 20071023, 1447, 51.6280, -179.9382, 1890,     50.7, 2,   6.2781, 2,  33.1222, 2,  33.1248, 2,    285.9, 2,    286.3, 2,    39.14, 2,    22.19, 2,     0.22, 2,     1.85, 2, -999.000, 9, -999.000, 9, -999.000, 9, -999.000, 9,   -999.0, 9,   -999.0, 9, -999.0000,   -999.00,   -999.0, 9,   -999.0,  -999.00, 9,   -999.0,   6.2738, 26.0347,   6.2770, 2, 9, 0.21, 0.09, 0.01, 0.015,  -999.00, 9, -999.00, -999.00, 9, -999.00
49NZ20071008, P14N, 18, 1, 34, X12016, 2, 20071023, 1447, 51.6280, -179.9382, 1890,    100.6, 2,   5.3226, 2,  33.3694, 2,  33.3705, 2,    213.5, 2,    214.5, 2,    59.26, 2,    29.38, 2,     0.16, 2,     2.27, 2,    3.534, 2,    1.835, 2,    0.302, 2, -999.000, 9,   -999.0, 9,   -999.0, 9, -999.0000,   -999.00,   -999.0, 9,   -999.0,  -999.00, 9,   -999.0,   5.3148, 26.3466,   5.3227, 2, 9, 0.25, 0.12, 0.01, 0.016,  -999.00, 9, -999.00, -999.00, 9, -999.00
49NZ20071008, P14N, 18, 1, 33, X12033, 2, 20071023, 1447, 51.6280, -179.9382, 1890,    150.5, 2,   5.0295, 2,  33.4299, 2,  33.4300, 2,    200.4, 2,    194.2, 2,    63.44, 2,    31.12, 2,     0.08, 2,     2.36, 2, -999.000, 9, -999.000, 9, -999.000, 9, -999.000, 9,   -999.0, 9,   -999.0, 9, -999.0000,   -999.00,   -999.0, 9,   -999.0,  -999.00, 9,   -999.0,   5.0181, 26.4285,   5.0295, 2, 9, 0.26, 0.12, 0.01, 0.016,  -999.00, 9, -999.00, -999.00, 9, -999.00
49NZ20071008, P14N, 18, 1, 32, X12038, 2, 20071023, 1447, 51.6280, -179.9382, 1890,    199.9, 2,   4.6518, 2,  33.4949, 2,  33.4955, 2,    178.3, 2,    176.2, 2,    68.50, 2,    32.75, 2,     0.04, 2,     2.46, 2,    3.173, 2,    1.630, 2,    0.275, 2, -999.000, 9,   -999.0, 9,   -999.0, 9, -999.0000,   -999.00,   -999.0, 9,   -999.0,  -999.00, 9,   -999.0,   4.6372, 26.5222,   4.6532, 2, 9, 0.27, 0.12, 0.01, 0.016,  -999.00, 9, -999.00, -999.00, 9, -999.00
49NZ20071008, P14N, 18, 1, 31, X12003, 2, 20071023, 1447, 51.6280, -179.9382, 1890,    250.7, 2,   4.5684, 2,  33.6230, 2,  33.6133, 6,    168.2, 2,    142.9, 2,    75.44, 2,    34.87, 2,     0.03, 2,     2.57, 2, -999.000, 9, -999.000, 9, -999.000, 9, -999.000, 9,   -999.0, 9,   -999.0, 9, -999.0000,   -999.00,   -999.0, 9,   -999.0,  -999.00, 9,   -999.0,   4.5501, 26.6333,   4.5683, 2, 9, 0.28, 0.13, 0.01, 0.016,  -999.00, 9, -999.00, -999.00, 9, -999.00
49NZ20071008, P14N, 18, 1, 30, X12008, 2, 20071023, 1447, 51.6280, -179.9382, 1890,    279.8, 2,   4.4561, 2,  33.6427, 2,  33.6476, 2,    144.2, 2,    134.5, 2,    78.08, 2,    35.70, 2,     0.02, 2,     2.62, 2,    2.655, 2,    1.352, 2,    0.219, 2, -999.000, 9,   -999.0, 9,   -999.0, 9, -999.0000,   -999.00,   -999.0, 9,   -999.0,  -999.00, 9,   -999.0,   4.4359, 26.6612,   4.4557, 2, 9, 0.29, 0.13, 0.01, 0.017,  -999.00, 9, -999.00, -999.00, 9, -999.00
49NZ20071008, P14N, 18, 1, 29, X12035, 2, 20071023, 1447, 51.6280, -179.9382, 1890,    370.5, 2,   3.9944, 2,  33.8468, 2,  33.8485, 2,     88.3, 2,     88.1, 2,    93.50, 2,    39.25, 2,     0.02, 2,     2.83, 2, -999.000, 9, -999.000, 9, -999.000, 9, -999.000, 9,   -999.0, 9,   -999.0, 9, -999.0000,   -999.00,   -999.0, 9,   -999.0,  -999.00, 9,   -999.0,   3.9686, 26.8720,   3.9946, 2, 9, 0.32, 0.14, 0.01, 0.017,  -999.00, 9, -999.00, -999.00, 9, -999.00
49NZ20071008, P14N, 18, 1, 28, X12034, 2, 20071023, 1447, 51.6280, -179.9382, 1890,    469.8, 2,   3.7480, 2,  33.9589, 2,  33.9597, 6,     66.7, 2,     67.8, 2,   103.93, 2,    40.83, 2,     0.01, 2,     2.93, 2,    1.559, 2,    0.788, 2,    0.124, 2, -999.000, 9,   -999.0, 9,   -999.0, 9, -999.0000,   -999.00,   -999.0, 9,   -999.0,  -999.00, 9,   -999.0,   3.7157, 26.9865,   3.7478, 2, 9, 0.35, 0.15, 0.01, 0.017,  -999.00, 9, -999.00, -999.00, 9, -999.00
49NZ20071008, P14N, 18, 1, 27, X12049, 2, 20071023, 1447, 51.6280, -179.9382, 1890,    571.2, 2,   3.6227, 2,  34.0650, 2,  34.0696, 2,     36.6, 2,     32.7, 2,   111.79, 2,    43.59, 2,     0.01, 2,     3.10, 2,    1.114, 2,    0.532, 2,    0.085, 2, -999.000, 9,   -999.0, 9,   -999.0, 9, -999.0000,   -999.00,   -999.0, 9,   -999.0,  -999.00, 9,   -999.0,   3.5835, 27.0840,   3.6223, 2, 9, 0.36, 0.15, 0.01, 0.018,  -999.00, 9, -999.00, -999.00, 9, -999.00
49NZ20071008, P14N, 18, 1, 26, X12032, 2, 20071023, 1447, 51.6280, -179.9382, 1890,    671.2, 2,   3.4938, 2,  34.1322, 2,  34.1363, 2,     27.7, 2,     27.6, 2,   118.68, 2,    43.96, 2,     0.02, 2,     3.13, 2,    0.856, 2,    0.416, 2,    0.059, 2, -999.000, 9,   -999.0, 9,   -999.0, 9, -999.0000,   -999.00,   -999.0, 9,   -999.0,  -999.00, 9,   -999.0,   3.4478, 27.1506,   3.4937, 2, 9, 0.38, 0.16, 0.01, 0.018,  -999.00, 9, -999.00, -999.00, 9, -999.00
49NZ20071008, P14N, 18, 1, 25, X12043, 2, 20071023, 1447, 51.6280, -179.9382, 1890,    771.2, 2,   3.3341, 2,  34.1762, 2,  34.1786, 2,     34.6, 2,     34.6, 2,   123.73, 2,    43.27, 2,     0.01, 2,     3.09, 2,    0.788, 2,    0.388, 2,    0.052, 2, -999.000, 9,   -999.0, 9,   -999.0, 9, -999.0000,   -999.00,   -999.0, 9,   -999.0,  -999.00, 9,   -999.0,   3.2815, 27.2015,   3.3340, 2, 9, 0.39, 0.15, 0.01, 0.018,  -999.00, 9, -999.00, -999.00, 9, -999.00
49NZ20071008, P14N, 18, 1, 24, X12030, 2, 20071023, 1447, 51.6280, -179.9382, 1890,    870.7, 2,   3.1397, 2,  34.2498, 2,  34.2477, 2,     32.0, 2,     31.9, 2,   130.97, 2,    43.34, 2,     0.02, 2,     3.09, 2,    0.582, 2,    0.286, 2,    0.047, 2, -999.000, 9,   -999.0, 9,   -999.0, 9, -999.0000,   -999.00,   -999.0, 9,   -999.0,  -999.00, 9,   -999.0,   3.0809, 27.2789,   3.1393, 2, 9, 0.41, 0.15, 0.01, 0.018,  -999.00, 9, -999.00, -999.00, 9, -999.00
49NZ20071008, P14N, 18, 1, 23, X12027, 2, 20071023, 1447, 51.6280, -179.9382, 1890,    970.1, 2,   3.0533, 2,  34.2777, 2,  34.2803, 6,     31.3, 2,     31.5, 2,   135.02, 2,    43.38, 2,     0.02, 2,     3.09, 2,    0.498, 2,    0.241, 2,    0.034, 2, -999.000, 9,   -999.0, 9,   -999.0, 9, -999.0000,   -999.00,   -999.0, 9,   -999.0,  -999.00, 9,   -999.0,   2.9876, 27.3096,   3.0528, 2, 9, 0.42, 0.15, 0.01, 0.018,  -999.00, 9, -999.00, -999.00, 9, -999.00
49NZ20071008, P14N, 18, 1, 22, X12028, 2, 20071023, 1447, 51.6280, -179.9382, 1890,   1130.3, 2,   2.8004, 2,  34.3595, 2,  34.3598, 2,     30.2, 2,     30.2, 2,   144.56, 2,    43.63, 2,     0.02, 2,     3.10, 2,    0.314, 2,    0.147, 2,    0.025, 2, -999.000, 9,   -999.0, 9,   -999.0, 9, -999.0000,   -999.00,   -999.0, 9,   -999.0,  -999.00, 9,   -999.0,   2.7245, 27.3984,   2.8003, 2, 9, 0.44, 0.15, 0.01, 0.018,  -999.00, 9, -999.00, -999.00, 9, -999.00
49NZ20071008, P14N, 18, 1, 21, X12009, 2, 20071023, 1447, 51.6280, -179.9382, 1890,   1328.4, 2,   2.6666, 2,  34.4035, 2,  34.4031, 2,     30.6, 2,     30.7, 2,   149.50, 2,    43.59, 2,     0.01, 2,     3.10, 2,    0.207, 2,    0.103, 2,    0.020, 2, -999.000, 9,   -999.0, 9,   -999.0, 9, -999.0000,   -999.00,   -999.0, 9,   -999.0,  -999.00, 9,   -999.0,   2.5767, 27.4464,   2.6664, 2, 9, 0.45, 0.15, 0.01, 0.018,  -999.00, 9, -999.00, -999.00, 9, -999.00
49NZ20071008, P14N, 18, 1, 20, X12026, 2, 20071023, 1447, 51.6280, -179.9382, 1890,   1532.6, 2,   2.6569, 2,  34.4096, 2,  34.4090, 6,     31.0, 2,     31.2, 2,   150.35, 2,    43.60, 2,     0.02, 2,     3.09, 2,    0.198, 2,    0.096, 2,    0.016, 2, -999.000, 9,   -999.0, 9,   -999.0, 9, -999.0000,   -999.00,   -999.0, 9,   -999.0,  -999.00, 9,   -999.0,   2.5508, 27.4534,   2.6569, 2, 9, 0.45, 0.15, 0.01, 0.018,  -999.00, 9, -999.00, -999.00, 9, -999.00
49NZ20071008, P14N, 18, 1, 19, X12025, 2, 20071023, 1447, 51.6280, -179.9382, 1890,   1729.2, 2,   2.6289, 2,  34.4204, 2,  34.4204, 2,     32.0, 2,     31.9, 2,   151.91, 2,    43.52, 2,     0.01, 2,     3.10, 2,    0.180, 2,    0.087, 2,    0.019, 2, -999.000, 9,   -999.0, 9,   -999.0, 9, -999.0000,   -999.00,   -999.0, 9,   -999.0,  -999.00, 9,   -999.0,   2.5069, 27.4658,   2.6286, 2, 9, 0.45, 0.15, 0.01, 0.018,  -999.00, 9, -999.00, -999.00, 9, -999.00
49NZ20071008, P14N, 18, 1, 18, X12024, 9, 20071023, 1447, 51.6280, -179.9382, 1890,     10.9, 2,   6.3555, 2,  33.1011, 2, -999.0000, 9,    288.9, 2,   -999.0, 9,  -999.00, 9,  -999.00, 9,  -999.00, 9,  -999.00, 9, -999.000, 9, -999.000, 9, -999.000, 9, -999.000, 9,   -999.0, 9,   -999.0, 9, -999.0000,   -999.00,   -999.0, 9,   -999.0,  -999.00, 9,   -999.0,   6.3546, 26.0078,   6.3553, 2, 9, -999.00, -999.00, -999.00, -999.000,  -999.00, 9, -999.00, -999.00, 9, -999.00
49NZ20071008, P14N, 18, 1, 17, X12023, 9, 20071023, 1447, 51.6280, -179.9382, 1890,     50.8, 2,   6.2773, 2,  33.1224, 2, -999.0000, 9,    285.9, 2,   -999.0, 9,  -999.00, 9,  -999.00, 9,  -999.00, 9,  -999.00, 9, -999.000, 9, -999.000, 9, -999.000, 9, -999.000, 9,   -999.0, 9,   -999.0, 9, -999.0000,   -999.00,   -999.0, 9,   -999.0,  -999.00, 9,   -999.0,   6.2730, 26.0349,   6.2774, 2, 9, -999.00, -999.00, -999.00, -999.000,  -999.00, 9, -999.00, -999.00, 9, -999.00
49NZ20071008, P14N, 18, 1, 16, X12022, 9, 20071023, 1447, 51.6280, -179.9382, 1890,    100.2, 2,   5.3228, 2,  33.3688, 2, -999.0000, 9,    213.7, 2,   -999.0, 9,  -999.00, 9,  -999.00, 9,  -999.00, 9,  -999.00, 9, -999.000, 9, -999.000, 9, -999.000, 9, -999.000, 9,   -999.0, 9,   -999.0, 9, -999.0000,   -999.00,   -999.0, 9,   -999.0,  -999.00, 9,   -999.0,   5.3150, 26.3461,   5.3227, 2, 9, -999.00, -999.00, -999.00, -999.000,  -999.00, 9, -999.00, -999.00, 9, -999.00
49NZ20071008, P14N, 18, 1, 15, X12021, 9, 20071023, 1447, 51.6280, -179.9382, 1890,    150.6, 2,   5.0278, 2,  33.4300, 2, -999.0000, 9,    200.4, 2,   -999.0, 9,  -999.00, 9,  -999.00, 9,  -999.00, 9,  -999.00, 9, -999.000, 9, -999.000, 9, -999.000, 9, -999.000, 9,   -999.0, 9,   -999.0, 9, -999.0000,   -999.00,   -999.0, 9,   -999.0,  -999.00, 9,   -999.0,   5.0164, 26.4288,   5.0254, 2, 9, -999.00, -999.00, -999.00, -999.000,  -999.00, 9, -999.00, -999.00, 9, -999.00
49NZ20071008, P14N, 18, 1, 14, X12020, 9, 20071023, 1447, 51.6280, -179.9382, 1890,    200.8, 2,   4.6563, 2,  33.4953, 2, -999.0000, 9,    178.1, 2,   -999.0, 9,  -999.00, 9,  -999.00, 9,  -999.00, 9,  -999.00, 9, -999.000, 9, -999.000, 9, -999.000, 9, -999.000, 9,   -999.0, 9,   -999.0, 9, -999.0000,   -999.00,   -999.0, 9,   -999.0,  -999.00, 9,   -999.0,   4.6416, 26.5221,   4.6567, 2, 9, -999.00, -999.00, -999.00, -999.000,  -999.00, 9, -999.00, -999.00, 9, -999.00
49NZ20071008, P14N, 18, 1, 13, X12019, 9, 20071023, 1447, 51.6280, -179.9382, 1890,    250.6, 2,   4.5674, 2,  33.6231, 2, -999.0000, 9,    168.2, 2,   -999.0, 9,  -999.00, 9,  -999.00, 9,  -999.00, 9,  -999.00, 9, -999.000, 9, -999.000, 9, -999.000, 9, -999.000, 9,   -999.0, 9,   -999.0, 9, -999.0000,   -999.00,   -999.0, 9,   -999.0,  -999.00, 9,   -999.0,   4.5491, 26.6335,   4.5679, 2, 9, -999.00, -999.00, -999.00, -999.000,  -999.00, 9, -999.00, -999.00, 9, -999.00
49NZ20071008, P14N, 18, 1, 12, X12040, 9, 20071023, 1447, 51.6280, -179.9382, 1890,    280.5, 2,   4.4537, 2,  33.6433, 2, -999.0000, 9,    143.8, 2,   -999.0, 9,  -999.00, 9,  -999.00, 9,  -999.00, 9,  -999.00, 9, -999.000, 9, -999.000, 9, -999.000, 9, -999.000, 9,   -999.0, 9,   -999.0, 9, -999.0000,   -999.00,   -999.0, 9,   -999.0,  -999.00, 9,   -999.0,   4.4334, 26.6619,   4.4545, 2, 9, -999.00, -999.00, -999.00, -999.000,  -999.00, 9, -999.00, -999.00, 9, -999.00
49NZ20071008, P14N, 18, 1, 11, X12047, 9, 20071023, 1447, 51.6280, -179.9382, 1890,    369.5, 2,   3.9977, 2,  33.8443, 2, -999.0000, 9,     88.6, 2,   -999.0, 9,  -999.00, 9,  -999.00, 9,  -999.00, 9,  -999.00, 9, -999.000, 9, -999.000, 9, -999.000, 9, -999.000, 9,   -999.0, 9,   -999.0, 9, -999.0000,   -999.00,   -999.0, 9,   -999.0,  -999.00, 9,   -999.0,   3.9719, 26.8696,   3.9974, 2, 9, -999.00, -999.00, -999.00, -999.000,  -999.00, 9, -999.00, -999.00, 9, -999.00
49NZ20071008, P14N, 18, 1, 10, X12010, 9, 20071023, 1447, 51.6280, -179.9382, 1890,    470.4, 2,   3.7484, 2,  33.9587, 2, -999.0000, 9,     66.6, 2,   -999.0, 9,  -999.00, 9,  -999.00, 9,  -999.00, 9,  -999.00, 9, -999.000, 9, -999.000, 9, -999.000, 9, -999.000, 9,   -999.0, 9,   -999.0, 9, -999.0000,   -999.00,   -999.0, 9,   -999.0,  -999.00, 9,   -999.0,   3.7161, 26.9863,   3.7481, 2, 9, -999.00, -999.00, -999.00, -999.000,  -999.00, 9, -999.00, -999.00, 9, -999.00
49NZ20071008, P14N, 18, 1, 9, X12015, 9, 20071023, 1447, 51.6280, -179.9382, 1890,    571.7, 2,   3.6219, 2,  34.0655, 2, -999.0000, 9,     36.5, 2,   -999.0, 9,  -999.00, 9,  -999.00, 9,  -999.00, 9,  -999.00, 9, -999.000, 9, -999.000, 9, -999.000, 9, -999.000, 9,   -999.0, 9,   -999.0, 9, -999.0000,   -999.00,   -999.0, 9,   -999.0,  -999.00, 9,   -999.0,   3.5826, 27.0845,   3.6218, 2, 9, -999.00, -999.00, -999.00, -999.000,  -999.00, 9, -999.00, -999.00, 9, -999.00
49NZ20071008, P14N, 18, 1, 8, X12046, 9, 20071023, 1447, 51.6280, -179.9382, 1890,    671.3, 2,   3.4932, 2,  34.1322, 2, -999.0000, 9,     27.7, 2,   -999.0, 9,  -999.00, 9,  -999.00, 9,  -999.00, 9,  -999.00, 9, -999.000, 9, -999.000, 9, -999.000, 9, -999.000, 9,   -999.0, 9,   -999.0, 9, -999.0000,   -999.00,   -999.0, 9,   -999.0,  -999.00, 9,   -999.0,   3.4472, 27.1507,   3.4934, 2, 9, -999.00, -999.00, -999.00, -999.000,  -999.00, 9, -999.00, -999.00, 9, -999.00
49NZ20071008, P14N, 18, 1, 7, X12044, 9, 20071023, 1447, 51.6280, -179.9382, 1890,    770.8, 2,   3.3364, 2,  34.1754, 2, -999.0000, 9,     34.6, 2,   -999.0, 9,  -999.00, 9,  -999.00, 9,  -999.00, 9,  -999.00, 9, -999.000, 9, -999.000, 9, -999.000, 9, -999.000, 9,   -999.0, 9,   -999.0, 9, -999.0000,   -999.00,   -999.0, 9,   -999.0,  -999.00, 9,   -999.0,   3.2838, 27.2006,   3.3359, 2, 9, -999.00, -999.00, -999.00, -999.000,  -999.00, 9, -999.00, -999.00, 9, -999.00
49NZ20071008, P14N, 18, 1, 6, X12048, 9, 20071023, 1447, 51.6280, -179.9382, 1890,    870.5, 2,   3.1400, 2,  34.2497, 2, -999.0000, 9,     32.0, 2,   -999.0, 9,  -999.00, 9,  -999.00, 9,  -999.00, 9,  -999.00, 9, -999.000, 9, -999.000, 9, -999.000, 9, -999.000, 9,   -999.0, 9,   -999.0, 9, -999.0000,   -999.00,   -999.0, 9,   -999.0,  -999.00, 9,   -999.0,   3.0812, 27.2787,   3.1395, 2, 9, -999.00, -999.00, -999.00, -999.000,  -999.00, 9, -999.00, -999.00, 9, -999.00
49NZ20071008, P14N, 18, 1, 5, X12014, 9, 20071023, 1447, 51.6280, -179.9382, 1890,    970.0, 2,   3.0696, 2,  34.2724, 2, -999.0000, 9,     31.3, 2,   -999.0, 9,  -999.00, 9,  -999.00, 9,  -999.00, 9,  -999.00, 9, -999.000, 9, -999.000, 9, -999.000, 9, -999.000, 9,   -999.0, 9,   -999.0, 9, -999.0000,   -999.00,   -999.0, 9,   -999.0,  -999.00, 9,   -999.0,   3.0038, 27.3039,   3.0699, 2, 9, -999.00, -999.00, -999.00, -999.000,  -999.00, 9, -999.00, -999.00, 9, -999.00
49NZ20071008, P14N, 18, 1, 4, X12006, 9, 20071023, 1447, 51.6280, -179.9382, 1890,   1130.8, 2,   2.8013, 2,  34.3593, 2, -999.0000, 9,     30.3, 2,   -999.0, 9,  -999.00, 9,  -999.00, 9,  -999.00, 9,  -999.00, 9, -999.000, 9, -999.000, 9, -999.000, 9, -999.000, 9,   -999.0, 9,   -999.0, 9, -999.0000,   -999.00,   -999.0, 9,   -999.0,  -999.00, 9,   -999.0,   2.7254, 27.3982,   2.8011, 2, 9, -999.00, -999.00, -999.00, -999.000,  -999.00, 9, -999.00, -999.00, 9, -999.00
49NZ20071008, P14N, 18, 1, 3, X12013, 9, 20071023, 1447, 51.6280, -179.9382, 1890,   1328.1, 2,   2.6673, 2,  34.4033, 2, -999.0000, 9,     30.6, 2,   -999.0, 9,  -999.00, 9,  -999.00, 9,  -999.00, 9,  -999.00, 9, -999.000, 9, -999.000, 9, -999.000, 9, -999.000, 9,   -999.0, 9,   -999.0, 9, -999.0000,   -999.00,   -999.0, 9,   -999.0,  -999.00, 9,   -999.0,   2.5774, 27.4462,   2.6674, 2, 9, -999.00, -999.00, -999.00, -999.000,  -999.00, 9, -999.00, -999.00, 9, -999.00
49NZ20071008, P14N, 18, 1, 2, X12002, 9, 20071023, 1447, 51.6280, -179.9382, 1890,   1901.6, 2,   2.6145, 2,  34.4291, 2, -999.0000, 9,     32.0, 2,   -999.0, 9,  -999.00, 9,  -999.00, 9,  -999.00, 9,  -999.00, 9, -999.000, 9, -999.000, 9, -999.000, 9, -999.000, 9,   -999.0, 9,   -999.0, 9, -999.0000,   -999.00,   -999.0, 9,   -999.0,  -999.00, 9,   -999.0,   2.4780, 27.4753,   2.6143, 2, 9, -999.00, -999.00, -999.00, -999.000,  -999.00, 9, -999.00, -999.00, 9, -999.00
49NZ20071008, P14N, 18, 1, 1, X12001, 2, 20071023, 1447, 51.6280, -179.9382, 1890,   1902.0, 2,   2.6148, 2,  34.4290, 2,  34.4287, 6,     32.0, 2,     32.2, 2,   153.02, 2,    43.54, 2,     0.02, 2,     3.10, 2,    0.166, 2,    0.079, 2,    0.021, 2, -999.000, 9,   -999.0, 9,   -999.0, 9, -999.0000,   -999.00,   -999.0, 9,   -999.0,  -999.00, 9,   -999.0,   2.4783, 27.4752,   2.6146, 2, 9, 0.46, 0.15, 0.01, 0.018,  -999.00, 9, -999.00, -999.00, 9, -999.00