BOTTLE,20221005CCHSIOAMB
EXPOCODE,SECT_ID,STNNBR,CASTNO,SAMPNO,BTLNBR,BTLNBR_FLAG_W,DATE,TIME,LATITUDE,LONGITUDE,DEPTH,CTDPRS,CTDPRS_FLAG_W,CTDTMP,CTDTMP_FLAG_W,CTDSAL,CTDSAL_FLAG_W,SALNTY,SALNTY_FLAG_W,CTDOXY,CTDOXY_FLAG_W,OXYGEN,OXYGEN_FLAG_W,SILCAT,SILCAT_FLAG_W,NITRAT,NITRAT_FLAG_W,NITRIT,NITRIT_FLAG_W,PHSPHT,PHSPHT_FLAG_W,CFC-11,CFC-11_FLAG_W,CFC-12,CFC-12_FLAG_W,CFC113,CFC113_FLAG_W,CCL4,CCL4_FLAG_W,TCARBN,TCARBN_FLAG_W,ALKALI,ALKALI_FLAG_W,PH_TOT,PH_TMP,DELC14,DELC14_FLAG_W,C14ERR,DELC13,DELC13_FLAG_W,C13ERR,THETA,SIG0,SBE35,SBE35_FLAG_W,PH_TOT_FLAG_W,SILUNC,NRAUNC,NRIUNC,PHPUNC,CS-137,CS-137_FLAG_W,CS137ER,PLUTO,PLUTO_FLAG_W,PLUTOER
,,,,,,,,,,,METERS,DBAR,,ITS-90,,PSS-78,,PSS-78,,UMOL/KG,,UMOL/KG,,UMOL/KG,,UMOL/KG,,UMOL/KG,,UMOL/KG,,PMOL/KG,,PMOL/KG,,PMOL/KG,,PMOL/KG,,UMOL/KG,,UMOL/KG,,,DEG C,/MILLE,,/MILLE,/MILLE,,/MILLE,DEG C,KG/M^3,ITS-90,,,UMOL/KG,UMOL/KG,UMOL/KG,UMOL/KG,DM/.1MG,,BQ/M^3,MBQ/M^3,,MBQ/M^3
49NZ20071008, P01, P01_35, 1, 36, X12042, 2, 20071012, 2351, 45.5638, 157.4850, 5022,     11.2, 2,  10.0541, 2,  32.5973, 2,  32.5971, 2,    282.3, 2,    283.4, 2,    14.64, 2,     9.78, 2,     0.19, 2,     1.11, 2,    3.605, 2,    1.975, 2,    0.345, 2,    4.690, 4,   -999.0, 9,   -999.0, 9, -999.0000,   -999.00,   -999.0, 9,   -999.0,  -999.00, 9,   -999.0,  10.0528, 25.0675,  10.0533, 2, 9, 0.15, 0.06, 0.01, 0.013,  -999.00, 9, -999.00, -999.00, 9, -999.00
49NZ20071008, P01, P01_35, 1, 35, X12041, 2, 20071012, 2351, 45.5638, 157.4850, 5022,     50.6, 2,   6.2217, 2,  32.8152, 2,  32.8192, 2,    300.4, 2,    308.6, 2,    26.76, 2,    16.06, 2,     0.55, 2,     1.55, 2,    4.702, 2,    2.515, 2,    0.433, 2,    5.851, 4,   -999.0, 9,   -999.0, 9, -999.0000,   -999.00,   -999.0, 9,   -999.0,  -999.00, 9,   -999.0,   6.2175, 25.7995,   6.2218, 2, 9, 0.18, 0.08, 0.00, 0.014,  -999.00, 9, -999.00, -999.00, 9, -999.00
49NZ20071008, P01, P01_35, 1, 34, X12016, 2, 20071012, 2351, 45.5638, 157.4850, 5022,    101.6, 2,   1.3454, 2,  33.0698, 2,  33.0704, 2,    317.4, 2,    315.6, 2,    42.50, 2,    25.65, 2,     0.03, 2,     2.02, 2,    5.519, 2,    2.901, 2,    0.512, 2,    6.848, 4,   -999.0, 9,   -999.0, 9, -999.0000,   -999.00,   -999.0, 9,   -999.0,  -999.00, 9,   -999.0,   1.3409, 26.4717,   1.3459, 2, 9, 0.21, 0.10, 0.01, 0.015,  -999.00, 9, -999.00, -999.00, 9, -999.00
49NZ20071008, P01, P01_35, 1, 33, X12033, 2, 20071012, 2351, 45.5638, 157.4850, 5022,    152.6, 2,   2.5612, 2,  33.5119, 2,  33.5069, 2,    145.8, 2,    161.7, 2,    71.69, 2,    37.03, 2,     0.01, 2,     2.72, 2,    3.750, 6,    1.905, 6,    0.304, 6,    3.704, 4,   -999.0, 9,   -999.0, 9, -999.0000,   -999.00,   -999.0, 9,   -999.0,  -999.00, 9,   -999.0,   2.5527, 26.7356,   2.5642, 2, 9, 0.28, 0.14, 0.01, 0.017,  -999.00, 9, -999.00, -999.00, 9, -999.00
49NZ20071008, P01, P01_35, 1, 32, X12038, 2, 20071012, 2351, 45.5638, 157.4850, 5022,    199.1, 2,   3.1612, 2,  33.7528, 2,  33.7529, 2,     64.8, 2,     82.8, 2,    89.08, 2,    41.62, 2,     0.01, 2,     3.00, 2,    2.617, 2,    1.299, 2,    0.198, 2,    2.293, 4,   -999.0, 9,   -999.0, 9, -999.0000,   -999.00,   -999.0, 9,   -999.0,  -999.00, 9,   -999.0,   3.1490, 26.8761,   3.1611, 2, 9, 0.31, 0.15, 0.01, 0.017,  -999.00, 9, -999.00, -999.00, 9, -999.00
49NZ20071008, P01, P01_35, 1, 31, X12003, 2, 20071012, 2351, 45.5638, 157.4850, 5022,    250.2, 2,   3.3677, 2,  33.8840, 2,  33.8817, 6,     41.2, 2,     45.8, 2,    98.05, 2,    43.93, 2,     0.01, 2,     3.13, 2,    2.016, 2,    0.989, 2,    0.140, 2,    1.642, 4,   -999.0, 9,   -999.0, 9, -999.0000,   -999.00,   -999.0, 9,   -999.0,  -999.00, 9,   -999.0,   3.3517, 26.9619,   3.3680, 2, 9, 0.33, 0.16, 0.01, 0.018,  -999.00, 9, -999.00, -999.00, 9, -999.00
49NZ20071008, P01, P01_35, 1, 30, X12008, 2, 20071012, 2351, 45.5638, 157.4850, 5022,    331.5, 2,   3.3744, 2,  34.0225, 2,  34.0209, 2,     29.2, 2,     29.9, 2,   109.76, 2,    44.31, 2,     0.01, 2,     3.17, 2,    1.364, 2,    0.668, 2,    0.105, 2,    1.143, 4,   -999.0, 9,   -999.0, 9, -999.0000,   -999.00,   -999.0, 9,   -999.0,  -999.00, 9,   -999.0,   3.3529, 27.0722,   3.3744, 2, 9, 0.36, 0.16, 0.01, 0.018,  -999.00, 9, -999.00, -999.00, 9, -999.00
49NZ20071008, P01, P01_35, 1, 29, X12035, 2, 20071012, 2351, 45.5638, 157.4850, 5022,    432.7, 2,   3.3145, 2,  34.1300, 2,  34.1289, 2,     21.3, 2,     22.8, 2,   119.89, 2,    44.34, 2,     0.01, 2,     3.17, 2,    0.901, 2,    0.437, 2,    0.068, 2,    0.764, 4,   -999.0, 9,   -999.0, 9, -999.0000,   -999.00,   -999.0, 9,   -999.0,  -999.00, 9,   -999.0,   3.2863, 27.1642,   3.3143, 2, 9, 0.38, 0.16, 0.01, 0.018,  -999.00, 9, -999.00, -999.00, 9, -999.00
49NZ20071008, P01, P01_35, 1, 28, X12034, 2, 20071012, 2351, 45.5638, 157.4850, 5022,    530.1, 2,   3.2282, 2,  34.2024, 2,  34.2006, 6,     20.6, 2,     19.0, 2,   127.04, 2,    44.33, 2,     0.01, 2,     3.17, 2,    0.628, 2,    0.299, 2,    0.042, 2,    0.544, 4,   -999.0, 9,   -999.0, 9, -999.0000,   -999.00,   -999.0, 9,   -999.0,  -999.00, 9,   -999.0,   3.1935, 27.2306,   3.2285, 2, 9, 0.40, 0.16, 0.01, 0.018,  -999.00, 9, -999.00, -999.00, 9, -999.00
49NZ20071008, P01, P01_35, 1, 27, X12049, 2, 20071012, 2351, 45.5638, 157.4850, 5022,    629.7, 2,   3.0088, 2,  34.2595, 2,  34.2581, 2,     19.5, 2,     21.7, 2,   134.53, 2,    43.97, 2,     0.01, 2,     3.15, 2,    0.506, 2,    0.247, 2,    0.041, 2,    0.461, 4,   -999.0, 9,   -999.0, 9, -999.0000,   -999.00,   -999.0, 9,   -999.0,  -999.00, 9,   -999.0,   2.9681, 27.2968,   3.0088, 2, 9, 0.41, 0.16, 0.01, 0.018,  -999.00, 9, -999.00, -999.00, 9, -999.00
49NZ20071008, P01, P01_35, 1, 26, X12032, 2, 20071012, 2351, 45.5638, 157.4850, 5022,    731.2, 2,   2.9539, 2,  34.3227, 2,  34.3213, 2,     19.4, 2,     17.9, 2,   140.25, 2,    44.17, 2,     0.01, 2,     3.17, 2,    0.268, 6,    0.126, 6,    0.018, 6,    0.283, 4,   -999.0, 9,   -999.0, 9, -999.0000,   -999.00,   -999.0, 9,   -999.0,  -999.00, 9,   -999.0,   2.9063, 27.3528,   2.9542, 2, 9, 0.43, 0.16, 0.01, 0.018,  -999.00, 9, -999.00, -999.00, 9, -999.00
49NZ20071008, P01, P01_35, 1, 25, X12043, 2, 20071012, 2351, 45.5638, 157.4850, 5022,    829.6, 2,   2.7864, 2,  34.3731, 2,  34.3733, 2,     18.4, 2,     17.3, 2,   147.48, 2,    44.30, 2,     0.01, 2,     3.17, 2,    0.179, 2,    0.086, 2,    0.009, 2,    0.171, 4,   -999.0, 9,   -999.0, 9, -999.0000,   -999.00,   -999.0, 9,   -999.0,  -999.00, 9,   -999.0,   2.7328, 27.4085,   2.7863, 2, 9, 0.44, 0.16, 0.01, 0.018,  -999.00, 9, -999.00, -999.00, 9, -999.00
49NZ20071008, P01, P01_35, 1, 24, X12030, 2, 20071012, 2351, 45.5638, 157.4850, 5022,    930.4, 2,   2.6209, 2,  34.4125, 2,  34.4124, 2,     20.0, 2,     19.4, 2,   153.36, 2,    44.04, 2,     0.01, 2,     3.16, 2,    0.109, 2,    0.050, 2,    0.008, 2,    0.156, 4,   -999.0, 9,   -999.0, 9, -999.0000,   -999.00,   -999.0, 9,   -999.0,  -999.00, 9,   -999.0,   2.5612, 27.4549,   2.6207, 2, 9, 0.46, 0.16, 0.01, 0.018,  -999.00, 9, -999.00, -999.00, 9, -999.00
49NZ20071008, P01, P01_35, 1, 23, X12027, 2, 20071012, 2351, 45.5638, 157.4850, 5022,   1069.4, 2,   2.4410, 2,  34.4551, 2,  34.4549, 6,     25.0, 2,     25.4, 2,   158.81, 2,    43.78, 2,     0.01, 2,     3.14, 2,    0.091, 2,    0.045, 2,    0.012, 2,    0.124, 4,   -999.0, 9,   -999.0, 9, -999.0000,   -999.00,   -999.0, 9,   -999.0,  -999.00, 9,   -999.0,   2.3726, 27.5049,   2.4407, 2, 9, 0.47, 0.16, 0.01, 0.018,  -999.00, 9, -999.00, -999.00, 9, -999.00
49NZ20071008, P01, P01_35, 1, 22, X12028, 2, 20071012, 2351, 45.5638, 157.4850, 5022,   1270.8, 2,   2.2317, 2,  34.5033, 2,  34.5033, 2,     39.8, 2,     39.3, 2,   162.47, 2,    42.88, 2,     0.01, 2,     3.07, 2,    0.083, 2,    0.039, 2,    0.019, 2,    0.086, 4,   -999.0, 9,   -999.0, 9, -999.0000,   -999.00,   -999.0, 9,   -999.0,  -999.00, 9,   -999.0,   2.1503, 27.5617,   2.2317, 2, 9, 0.48, 0.15, 0.01, 0.018,  -999.00, 9, -999.00, -999.00, 9, -999.00
49NZ20071008, P01, P01_35, 1, 21, X12009, 2, 20071012, 2351, 45.5638, 157.4850, 5022,   1469.6, 2,   2.0954, 2,  34.5414, 2,  34.5414, 2,     52.9, 2,     51.1, 2,   163.62, 2,    42.33, 2,     0.01, 2,     3.02, 2,    0.057, 2,    0.030, 2,    0.000, 2,    0.048, 4,   -999.0, 9,   -999.0, 9, -999.0000,   -999.00,   -999.0, 9,   -999.0,  -999.00, 9,   -999.0,   2.0004, 27.6042,   2.0953, 2, 9, 0.48, 0.15, 0.01, 0.017,  -999.00, 9, -999.00, -999.00, 9, -999.00
49NZ20071008, P01, P01_35, 1, 20, X12026, 2, 20071012, 2351, 45.5638, 157.4850, 5022,   1672.0, 2,   1.9720, 2,  34.5734, 2,  34.5726, 2,     62.3, 2,     61.2, 2,   165.20, 2,    41.83, 2,     0.00, 2,     2.98, 2,    0.018, 2,    0.005, 2,    0.011, 2,    0.029, 4,   -999.0, 9,   -999.0, 9, -999.0000,   -999.00,   -999.0, 9,   -999.0,  -999.00, 9,   -999.0,   1.8628, 27.6406,   1.9719, 2, 9, 0.48, 0.15, 0.01, 0.017,  -999.00, 9, -999.00, -999.00, 9, -999.00
49NZ20071008, P01, P01_35, 1, 19, X12025, 2, 20071012, 2351, 45.5638, 157.4850, 5022,   1870.5, 2,   1.8512, 2,  34.6000, 2,  34.5997, 2,     73.8, 2,     73.5, 2,   165.40, 2,    41.12, 2,     0.01, 2,     2.91, 2,    0.004, 2,    0.003, 2,    0.000, 2,    0.009, 4,   -999.0, 9,   -999.0, 9, -999.0000,   -999.00,   -999.0, 9,   -999.0,  -999.00, 9,   -999.0,   1.7277, 27.6723,   1.8511, 2, 9, 0.48, 0.15, 0.01, 0.017,  -999.00, 9, -999.00, -999.00, 9, -999.00
49NZ20071008, P01, P01_35, 1, 18, X12024, 2, 20071012, 2351, 45.5638, 157.4850, 5022,   2068.7, 2,   1.7597, 2,  34.6184, 2,  34.6181, 2,     84.2, 2,     84.0, 2,   165.60, 2,    40.40, 2,     0.01, 2,     2.86, 2,    0.001, 2,    0.001, 2,    0.000, 2,    0.010, 4,   -999.0, 9,   -999.0, 9, -999.0000,   -999.00,   -999.0, 9,   -999.0,  -999.00, 9,   -999.0,   1.6213, 27.6950,   1.7598, 2, 9, 0.48, 0.15, 0.01, 0.017,  -999.00, 9, -999.00, -999.00, 9, -999.00
49NZ20071008, P01, P01_35, 1, 17, X12023, 2, 20071012, 2351, 45.5638, 157.4850, 5022,   2269.2, 2,   1.6787, 2,  34.6345, 2,  34.6345, 6,     97.7, 2,     97.4, 2,   162.57, 2,    39.45, 2,     0.01, 2,     2.80, 2,    0.002, 2,    0.000, 2,    0.000, 2,    0.019, 4,   -999.0, 9,   -999.0, 9, -999.0000,   -999.00,   -999.0, 9,   -999.0,  -999.00, 9,   -999.0,   1.5246, 27.7151,   1.6788, 2, 9, 0.48, 0.14, 0.01, 0.017,  -999.00, 9, -999.00, -999.00, 9, -999.00
49NZ20071008, P01, P01_35, 1, 16, X12022, 2, 20071012, 2351, 45.5638, 157.4850, 5022,   2469.7, 2,   1.6194, 2,  34.6466, 2,  34.6464, 2,    109.5, 2,    109.4, 2,   158.93, 2,    38.86, 2,     0.00, 2,     2.75, 2,    0.001, 2,    0.000, 2,    0.000, 2,    0.000, 4,   -999.0, 9,   -999.0, 9, -999.0000,   -999.00,   -999.0, 9,   -999.0,  -999.00, 9,   -999.0,   1.4489, 27.7303,   1.6193, 2, 9, 0.47, 0.14, 0.01, 0.017,  -999.00, 9, -999.00, -999.00, 9, -999.00
49NZ20071008, P01, P01_35, 1, 15, X12021, 2, 20071012, 2351, 45.5638, 157.4850, 5022,   2670.7, 2,   1.5664, 2,  34.6565, 2,  34.6562, 2,    118.2, 2,    119.0, 2,   156.21, 2,    38.27, 2,     0.01, 2,     2.69, 2, -999.000, 9, -999.000, 9, -999.000, 9, -999.000, 9,   -999.0, 9,   -999.0, 9, -999.0000,   -999.00,   -999.0, 9,   -999.0,  -999.00, 9,   -999.0,   1.3789, 27.7433,   1.5664, 2, 9, 0.46, 0.14, 0.01, 0.017,  -999.00, 9, -999.00, -999.00, 9, -999.00
49NZ20071008, P01, P01_35, 1, 14, X12020, 2, 20071012, 2351, 45.5638, 157.4850, 5022,   2869.4, 2,   1.5334, 2,  34.6629, 2,  34.6631, 2,    125.1, 2,    125.6, 2,   154.70, 2,    37.93, 2,     0.01, 2,     2.66, 2, -999.000, 9, -999.000, 9, -999.000, 9, -999.000, 9,   -999.0, 9,   -999.0, 9, -999.0000,   -999.00,   -999.0, 9,   -999.0,  -999.00, 9,   -999.0,   1.3283, 27.7520,   1.5333, 2, 9, 0.46, 0.14, 0.01, 0.017,  -999.00, 9, -999.00, -999.00, 9, -999.00
49NZ20071008, P01, P01_35, 1, 13, X12019, 2, 20071012, 2351, 45.5638, 157.4850, 5022,   3080.4, 2,   1.5047, 2,  34.6687, 2,  34.6682, 2,    131.8, 2,    131.7, 2,   153.21, 2,    37.50, 2,     0.00, 2,     2.63, 2,    0.000, 2,    0.000, 2,    0.000, 2,    0.000, 4,   -999.0, 9,   -999.0, 9, -999.0000,   -999.00,   -999.0, 9,   -999.0,  -999.00, 9,   -999.0,   1.2801, 27.7600,   1.5046, 2, 9, 0.46, 0.14, 0.01, 0.017,  -999.00, 9, -999.00, -999.00, 9, -999.00
49NZ20071008, P01, P01_35, 1, 12, X12040, 2, 20071012, 2351, 45.5638, 157.4850, 5022,   3331.2, 2,   1.4774, 2,  34.6745, 2,  34.6737, 2,    138.2, 2,    138.5, 2,   151.22, 2,    36.94, 2,     0.00, 2,     2.59, 2, -999.000, 9, -999.000, 9, -999.000, 9, -999.000, 9,   -999.0, 9,   -999.0, 9, -999.0000,   -999.00,   -999.0, 9,   -999.0,  -999.00, 9,   -999.0,   1.2289, 27.7683,   1.4774, 2, 9, 0.45, 0.14, 0.01, 0.016,  -999.00, 9, -999.00, -999.00, 9, -999.00
49NZ20071008, P01, P01_35, 1, 11, X12047, 2, 20071012, 2351, 45.5638, 157.4850, 5022,   3580.1, 2,   1.4616, 2,  34.6790, 2,  34.6786, 6,    143.7, 2,    143.8, 2,   149.74, 2,    36.69, 2,     0.00, 2,     2.57, 2, -999.000, 9, -999.000, 9, -999.000, 9, -999.000, 9,   -999.0, 9,   -999.0, 9, -999.0000,   -999.00,   -999.0, 9,   -999.0,  -999.00, 9,   -999.0,   1.1882, 27.7747,   1.4615, 2, 9, 0.45, 0.14, 0.01, 0.016,  -999.00, 9, -999.00, -999.00, 9, -999.00
49NZ20071008, P01, P01_35, 1, 10, X12010, 2, 20071012, 2351, 45.5638, 157.4850, 5022,   3828.1, 2,   1.4493, 2,  34.6829, 2,  34.6826, 2,    148.3, 2,    148.7, 2,   149.01, 2,    36.37, 2,     0.00, 2,     2.54, 2,    0.000, 2,    0.000, 2,    0.000, 2,    0.003, 4,   -999.0, 9,   -999.0, 9, -999.0000,   -999.00,   -999.0, 9,   -999.0,  -999.00, 9,   -999.0,   1.1503, 27.7804,   1.4492, 2, 9, 0.45, 0.13, 0.01, 0.016,  -999.00, 9, -999.00, -999.00, 9, -999.00
49NZ20071008, P01, P01_35, 1, 9, X12015, 2, 20071012, 2351, 45.5638, 157.4850, 5022,   4080.9, 2,   1.4512, 2,  34.6855, 2,  34.6849, 2,    151.9, 2,    152.0, 2,   148.21, 2,    36.17, 2,     0.00, 2,     2.52, 2, -999.000, 9, -999.000, 9, -999.000, 9, -999.000, 9,   -999.0, 9,   -999.0, 9, -999.0000,   -999.00,   -999.0, 9,   -999.0,  -999.00, 9,   -999.0,   1.1248, 27.7842,   1.4511, 2, 9, 0.45, 0.13, 0.01, 0.016,  -999.00, 9, -999.00, -999.00, 9, -999.00
49NZ20071008, P01, P01_35, 1, 8, X12046, 2, 20071012, 2351, 45.5638, 157.4850, 5022,   4329.8, 2,   1.4619, 2,  34.6874, 2,  34.6872, 2,    154.0, 2,    154.1, 2,   147.95, 2,    35.94, 2,     0.00, 2,     2.51, 2, -999.000, 9, -999.000, 9, -999.000, 9, -999.000, 9,   -999.0, 9,   -999.0, 9, -999.0000,   -999.00,   -999.0, 9,   -999.0,  -999.00, 9,   -999.0,   1.1075, 27.7869,   1.4617, 2, 9, 0.44, 0.13, 0.01, 0.016,  -999.00, 9, -999.00, -999.00, 9, -999.00
49NZ20071008, P01, P01_35, 1, 7, X12044, 2, 20071012, 2351, 45.5638, 157.4850, 5022,   4578.7, 2,   1.4801, 2,  34.6885, 2,  34.6884, 2,    155.4, 2,    155.4, 2,   148.16, 2,    35.91, 2,     0.00, 2,     2.50, 2,    0.003, 2,    0.000, 2,    0.000, 2,    0.019, 4,   -999.0, 9,   -999.0, 9, -999.0000,   -999.00,   -999.0, 9,   -999.0,  -999.00, 9,   -999.0,   1.0966, 27.7886,   1.4798, 2, 9, 0.44, 0.13, 0.01, 0.016,  -999.00, 9, -999.00, -999.00, 9, -999.00
49NZ20071008, P01, P01_35, 1, 6, X12048, 2, 20071012, 2351, 45.5638, 157.4850, 5022,   4829.0, 2,   1.5031, 2,  34.6894, 2,  34.6890, 2,    156.4, 2,    156.3, 2,   148.53, 2,    35.79, 2,     0.00, 2,     2.50, 2, -999.000, 9, -999.000, 9, -999.000, 9, -999.000, 9,   -999.0, 9,   -999.0, 9, -999.0000,   -999.00,   -999.0, 9,   -999.0,  -999.00, 9,   -999.0,   1.0894, 27.7897,   1.5030, 2, 9, 0.45, 0.13, 0.01, 0.016,  -999.00, 9, -999.00, -999.00, 9, -999.00
49NZ20071008, P01, P01_35, 1, 5, X12014, 9, 20071012, 2351, 45.5638, 157.4850, 5022,     11.6, 2,  10.0525, 2,  32.5974, 2, -999.0000, 9,    282.3, 2,   -999.0, 9,  -999.00, 9,  -999.00, 9,  -999.00, 9,  -999.00, 9, -999.000, 9, -999.000, 9, -999.000, 9, -999.000, 9,   -999.0, 9,   -999.0, 9, -999.0000,   -999.00,   -999.0, 9,   -999.0,  -999.00, 9,   -999.0,  10.0512, 25.0678,  10.0520, 2, 9, -999.00, -999.00, -999.00, -999.000,  -999.00, 9, -999.00, -999.00, 9, -999.00
49NZ20071008, P01, P01_35, 1, 4, X12006, 9, 20071012, 2351, 45.5638, 157.4850, 5022,    530.8, 2,   3.2313, 2,  34.2024, 2, -999.0000, 9,     20.5, 2,   -999.0, 9,  -999.00, 9,  -999.00, 9,  -999.00, 9,  -999.00, 9, -999.000, 9, -999.000, 9, -999.000, 9, -999.000, 9,   -999.0, 9,   -999.0, 9, -999.0000,   -999.00,   -999.0, 9,   -999.0,  -999.00, 9,   -999.0,   3.1965, 27.2303,   3.2310, 2, 9, -999.00, -999.00, -999.00, -999.000,  -999.00, 9, -999.00, -999.00, 9, -999.00
49NZ20071008, P01, P01_35, 1, 3, X12013, 9, 20071012, 2351, 45.5638, 157.4850, 5022,    530.5, 2,   3.2303, 2,  34.2028, 2, -999.0000, 9,     20.5, 2,   -999.0, 9,  -999.00, 9,  -999.00, 9,  -999.00, 9,  -999.00, 9, -999.000, 9, -999.000, 9, -999.000, 9, -999.000, 9,   -999.0, 9,   -999.0, 9, -999.0000,   -999.00,   -999.0, 9,   -999.0,  -999.00, 9,   -999.0,   3.1956, 27.2307,   3.2303, 2, 9, -999.00, -999.00, -999.00, -999.000,  -999.00, 9, -999.00, -999.00, 9, -999.00
49NZ20071008, P01, P01_35, 1, 2, X12002, 9, 20071012, 2351, 45.5638, 157.4850, 5022,    530.6, 2,   3.2304, 2,  34.2030, 2, -999.0000, 9,     20.5, 2,   -999.0, 9,  -999.00, 9,  -999.00, 9,  -999.00, 9,  -999.00, 9, -999.000, 9, -999.000, 9, -999.000, 9, -999.000, 9,   -999.0, 9,   -999.0, 9, -999.0000,   -999.00,   -999.0, 9,   -999.0,  -999.00, 9,   -999.0,   3.1956, 27.2309,   3.2302, 2, 9, -999.00, -999.00, -999.00, -999.000,  -999.00, 9, -999.00, -999.00, 9, -999.00
49NZ20071008, P01, P01_35, 1, 1, X12001, 2, 20071012, 2351, 45.5638, 157.4850, 5022,   5100.7, 2,   1.5316, 2,  34.6900, 2,  34.6890, 6,    157.0, 2,    156.9, 2,   149.32, 2,    35.81, 2,     0.01, 2,     2.51, 2,    0.008, 2,    0.001, 2,    0.000, 2,    0.026, 4,   -999.0, 9,   -999.0, 9, -999.0000,   -999.00,   -999.0, 9,   -999.0,  -999.00, 9,   -999.0,   1.0840, 27.7906,   1.5313, 2, 9, 0.45, 0.13, 0.01, 0.016,  -999.00, 9, -999.00, -999.00, 9, -999.00