BOTTLE,20221005CCHSIOAMB
EXPOCODE,SECT_ID,STNNBR,CASTNO,SAMPNO,BTLNBR,BTLNBR_FLAG_W,DATE,TIME,LATITUDE,LONGITUDE,DEPTH,CTDPRS,CTDPRS_FLAG_W,CTDTMP,CTDTMP_FLAG_W,CTDSAL,CTDSAL_FLAG_W,SALNTY,SALNTY_FLAG_W,CTDOXY,CTDOXY_FLAG_W,OXYGEN,OXYGEN_FLAG_W,SILCAT,SILCAT_FLAG_W,NITRAT,NITRAT_FLAG_W,NITRIT,NITRIT_FLAG_W,PHSPHT,PHSPHT_FLAG_W,CFC-11,CFC-11_FLAG_W,CFC-12,CFC-12_FLAG_W,CFC113,CFC113_FLAG_W,CCL4,CCL4_FLAG_W,TCARBN,TCARBN_FLAG_W,ALKALI,ALKALI_FLAG_W,PH_TOT,PH_TMP,DELC14,DELC14_FLAG_W,C14ERR,DELC13,DELC13_FLAG_W,C13ERR,THETA,SIG0,SBE35,SBE35_FLAG_W,PH_TOT_FLAG_W,SILUNC,NRAUNC,NRIUNC,PHPUNC,CS-137,CS-137_FLAG_W,CS137ER,PLUTO,PLUTO_FLAG_W,PLUTOER
,,,,,,,,,,,METERS,DBAR,,ITS-90,,PSS-78,,PSS-78,,UMOL/KG,,UMOL/KG,,UMOL/KG,,UMOL/KG,,UMOL/KG,,UMOL/KG,,PMOL/KG,,PMOL/KG,,PMOL/KG,,PMOL/KG,,UMOL/KG,,UMOL/KG,,,DEG C,/MILLE,,/MILLE,/MILLE,,/MILLE,DEG C,KG/M^3,ITS-90,,,UMOL/KG,UMOL/KG,UMOL/KG,UMOL/KG,DM/.1MG,,BQ/M^3,MBQ/M^3,,MBQ/M^3
49NZ20071008, P01, P01_59, 1, 36, X12042, 2, 20071020, 0118, 46.9968, 177.1767, 5675,     10.0, 2,   9.2966, 2,  32.7004, 2,  32.7005, 2,    287.4, 2,    288.2, 2,    20.84, 2,    14.01, 2,     0.25, 2,     1.34, 2,    3.755, 2,    2.095, 2,    0.363, 2, -999.000, 9,   -999.0, 9,   -999.0, 9, -999.0000,   -999.00,   -999.0, 9,   -999.0,  -999.00, 9,   -999.0,   9.2955, 25.2713,   9.2961, 2, 9, 0.16, 0.07, 0.01, 0.014,  -999.00, 9, -999.00, -999.00, 9, -999.00
49NZ20071008, P01, P01_59, 1, 35, X12041, 2, 20071020, 0118, 46.9968, 177.1767, 5675,     49.1, 2,   9.1511, 2,  32.7101, 2,  32.7068, 2,    284.0, 2,    288.1, 2,    20.99, 2,    14.12, 2,     0.26, 2,     1.36, 2,    3.776, 2,    2.107, 2,    0.355, 2, -999.000, 9,   -999.0, 9,   -999.0, 9, -999.0000,   -999.00,   -999.0, 9,   -999.0,  -999.00, 9,   -999.0,   9.1459, 25.3026,   9.1471, 2, 9, 0.17, 0.07, 0.01, 0.014,  -999.00, 9, -999.00, -999.00, 9, -999.00
49NZ20071008, P01, P01_59, 1, 34, X12016, 2, 20071020, 0118, 46.9968, 177.1767, 5675,    102.1, 2,   3.4692, 2,  33.0630, 2,  33.0650, 2,    310.5, 2,    310.0, 2,    33.75, 2,    21.09, 2,     0.02, 2,     1.73, 2,    5.192, 2,    2.831, 2,    0.487, 2, -999.000, 9,   -999.0, 9,   -999.0, 9, -999.0000,   -999.00,   -999.0, 9,   -999.0,  -999.00, 9,   -999.0,   3.4629, 26.2972,   3.4688, 2, 9, 0.19, 0.09, 0.01, 0.014,  -999.00, 1, -999.00, -999.00, 9, -999.00
49NZ20071008, P01, P01_59, 1, 33, X12033, 2, 20071020, 0118, 46.9968, 177.1767, 5675,    150.0, 2,   3.2292, 2,  33.4147, 2,  33.4168, 2,    236.3, 2,    234.3, 2,    51.51, 2,    28.31, 2,     0.01, 2,     2.17, 2,    4.465, 6,    2.380, 6,    0.359, 6, -999.000, 9,   -999.0, 9,   -999.0, 9, -999.0000,   -999.00,   -999.0, 9,   -999.0,  -999.00, 9,   -999.0,   3.2200, 26.5999,   3.2291, 2, 9, 0.23, 0.11, 0.01, 0.015,  -999.00, 9, -999.00, -999.00, 9, -999.00
49NZ20071008, P01, P01_59, 1, 32, X12038, 2, 20071020, 0118, 46.9968, 177.1767, 5675,    200.0, 2,   3.2456, 2,  33.6445, 2,  33.6468, 2,    160.1, 2,    157.4, 2,    69.73, 2,    34.54, 2,     0.00, 2,     2.56, 2,    3.597, 2,    1.860, 2,    0.268, 2, -999.000, 9,   -999.0, 9,   -999.0, 9, -999.0000,   -999.00,   -999.0, 9,   -999.0,  -999.00, 9,   -999.0,   3.2332, 26.7820,   3.2453, 2, 9, 0.27, 0.13, 0.01, 0.016,  -999.00, 1, -999.00, -999.00, 9, -999.00
49NZ20071008, P01, P01_59, 1, 31, X12003, 2, 20071020, 0118, 46.9968, 177.1767, 5675,    250.7, 2,   3.5997, 2,  33.7770, 2,  33.7790, 6,    114.8, 2,    119.6, 2,    77.26, 2,    36.55, 2,     0.00, 2,     2.68, 2,    2.951, 2,    1.492, 2,    0.205, 2, -999.000, 9,   -999.0, 9,   -999.0, 9, -999.0000,   -999.00,   -999.0, 9,   -999.0,  -999.00, 9,   -999.0,   3.5833, 26.8546,   3.6002, 2, 9, 0.29, 0.14, 0.01, 0.017,  -999.00, 9, -999.00, -999.00, 9, -999.00
49NZ20071008, P01, P01_59, 1, 30, X12008, 2, 20071020, 0118, 46.9968, 177.1767, 5675,    280.6, 2,   3.4588, 2,  33.8027, 2,  33.8027, 2,     98.0, 2,    105.6, 2,    82.82, 2,    37.95, 2,     0.00, 2,     2.78, 2,    2.770, 2,    1.388, 2,    0.200, 2, -999.000, 9,   -999.0, 9,   -999.0, 9, -999.0000,   -999.00,   -999.0, 9,   -999.0,  -999.00, 9,   -999.0,   3.4407, 26.8887,   3.4604, 2, 9, 0.30, 0.14, 0.01, 0.017,  -999.00, 9, -999.00, -999.00, 9, -999.00
49NZ20071008, P01, P01_59, 1, 29, X12035, 2, 20071020, 0118, 46.9968, 177.1767, 5675,    371.6, 2,   3.6690, 2,  33.9574, 2,  33.9562, 2,     44.4, 2,     64.6, 2,    95.39, 2,    41.01, 2,     0.00, 2,     2.95, 2,    1.920, 2,    0.938, 2,    0.126, 2, -999.000, 9,   -999.0, 9,   -999.0, 9, -999.0000,   -999.00,   -999.0, 9,   -999.0,  -999.00, 9,   -999.0,   3.6440, 26.9923,   3.6664, 2, 9, 0.33, 0.15, 0.01, 0.017,  -999.00, 1, -999.00, -999.00, 9, -999.00
49NZ20071008, P01, P01_59, 1, 28, X12034, 2, 20071020, 0118, 46.9968, 177.1767, 5675,    470.2, 2,   3.5500, 2,  34.0723, 2,  34.0745, 6,     36.2, 2,     39.6, 2,   108.69, 2,    42.74, 2,     0.00, 2,     3.07, 2,    1.248, 2,    0.600, 2,    0.086, 2, -999.000, 9,   -999.0, 9,   -999.0, 9, -999.0000,   -999.00,   -999.0, 9,   -999.0,  -999.00, 9,   -999.0,   3.5183, 27.0961,   3.5497, 2, 9, 0.36, 0.15, 0.01, 0.018,  -999.00, 9, -999.00, -999.00, 9, -999.00
49NZ20071008, P01, P01_59, 1, 27, X12049, 2, 20071020, 0118, 46.9968, 177.1767, 5675,    570.7, 2,   3.4156, 2,  34.1576, 2,  34.1585, 2,     26.7, 2,     30.1, 2,   118.39, 2,    43.34, 2,     0.00, 2,     3.10, 2,    0.862, 2,    0.412, 2,    0.057, 2, -999.000, 9,   -999.0, 9,   -999.0, 9, -999.0000,   -999.00,   -999.0, 9,   -999.0,  -999.00, 9,   -999.0,   3.3772, 27.1776,   3.4157, 2, 9, 0.38, 0.15, 0.01, 0.018,  -999.00, 1, -999.00, -999.00, 9, -999.00
49NZ20071008, P01, P01_59, 1, 26, X12032, 2, 20071020, 0118, 46.9968, 177.1767, 5675,    671.4, 2,   3.2730, 2,  34.2376, 2,  34.2374, 2,     23.4, 2,     24.4, 2,   127.10, 2,    43.71, 2,     0.00, 2,     3.13, 2,    0.537, 6,    0.256, 6,    0.035, 6, -999.000, 9,   -999.0, 9,   -999.0, 9, -999.0000,   -999.00,   -999.0, 9,   -999.0,  -999.00, 9,   -999.0,   3.2280, 27.2555,   3.2731, 2, 9, 0.40, 0.16, 0.01, 0.018,  -999.00, 9, -999.00, -999.00, 9, -999.00
49NZ20071008, P01, P01_59, 1, 25, X12043, 2, 20071020, 0118, 46.9968, 177.1767, 5675,    772.4, 2,   3.1225, 2,  34.2938, 2,  34.2936, 2,     26.3, 2,     23.6, 2,   133.45, 2,    43.68, 2,     0.00, 2,     3.13, 2,    0.365, 2,    0.171, 2,    0.018, 2, -999.000, 9,   -999.0, 9,   -999.0, 9, -999.0000,   -999.00,   -999.0, 9,   -999.0,  -999.00, 9,   -999.0,   3.0710, 27.3149,   3.1221, 2, 9, 0.41, 0.16, 0.01, 0.018,  -999.00, 1, -999.00, -999.00, 9, -999.00
49NZ20071008, P01, P01_59, 1, 24, X12030, 2, 20071020, 0118, 46.9968, 177.1767, 5675,    872.1, 2,   2.9699, 2,  34.3429, 2,  34.3425, 2,     24.2, 2,     25.3, 2,   138.45, 2,    43.57, 2,     0.00, 2,     3.11, 2,    0.252, 2,    0.122, 2,    0.012, 2, -999.000, 9,   -999.0, 9,   -999.0, 9, -999.0000,   -999.00,   -999.0, 9,   -999.0,  -999.00, 9,   -999.0,   2.9120, 27.3685,   2.9700, 2, 9, 0.42, 0.15, 0.01, 0.018,  -999.00, 9, -999.00, -999.00, 9, -999.00
49NZ20071008, P01, P01_59, 1, 23, X12027, 2, 20071020, 0118, 46.9968, 177.1767, 5675,    971.0, 2,   2.8171, 2,  34.3815, 2,  34.3812, 6,     25.3, 2,     25.7, 2,   144.09, 2,    43.61, 2,     0.00, 2,     3.13, 2,    0.177, 2,    0.083, 2,    0.000, 2, -999.000, 9,   -999.0, 9,   -999.0, 9, -999.0000,   -999.00,   -999.0, 9,   -999.0,  -999.00, 9,   -999.0,   2.7530, 27.4135,   2.8170, 2, 9, 0.44, 0.15, 0.01, 0.018,  -999.00, 1, -999.00, -999.00, 9, -999.00
49NZ20071008, P01, P01_59, 1, 22, X12028, 2, 20071020, 0118, 46.9968, 177.1767, 5675,   1131.1, 2,   2.5790, 2,  34.4403, 2,  34.4403, 2,     28.6, 2,     29.5, 2,   151.65, 2,    43.51, 2,     0.00, 2,     3.12, 2,    0.097, 2,    0.047, 2,    0.000, 2, -999.000, 9,   -999.0, 9,   -999.0, 9, -999.0000,   -999.00,   -999.0, 9,   -999.0,  -999.00, 9,   -999.0,   2.5049, 27.4819,   2.5790, 2, 9, 0.45, 0.15, 0.01, 0.018,  -999.00, 9, -999.00, -999.00, 9, -999.00
49NZ20071008, P01, P01_59, 1, 21, X12009, 2, 20071020, 0118, 46.9968, 177.1767, 5675,   1329.8, 2,   2.3585, 2,  34.4923, 2,  34.4923, 2,     36.3, 2,     36.4, 2,   157.18, 2,    43.35, 2,     0.00, 2,     3.09, 2,    0.046, 2,    0.021, 2,    0.000, 2, -999.000, 9,   -999.0, 9,   -999.0, 9, -999.0000,   -999.00,   -999.0, 9,   -999.0,  -999.00, 9,   -999.0,   2.2714, 27.5431,   2.3585, 2, 9, 0.46, 0.15, 0.01, 0.018,  -999.00, 9, -999.00, -999.00, 9, -999.00
49NZ20071008, P01, P01_59, 1, 20, X12026, 2, 20071020, 0118, 46.9968, 177.1767, 5675,   1531.2, 2,   2.2007, 2,  34.5284, 2,  34.5285, 2,     44.3, 2,     44.2, 2,   160.81, 2,    42.89, 2,     0.00, 2,     3.05, 2,    0.025, 2,    0.013, 2,    0.000, 2, -999.000, 9,   -999.0, 9,   -999.0, 9, -999.0000,   -999.00,   -999.0, 9,   -999.0,  -999.00, 9,   -999.0,   2.0998, 27.5859,   2.2008, 2, 9, 0.47, 0.15, 0.01, 0.018,  -999.00, 9, -999.00, -999.00, 9, -999.00
49NZ20071008, P01, P01_59, 1, 19, X12025, 2, 20071020, 0118, 46.9968, 177.1767, 5675,   1731.3, 2,   2.0494, 2,  34.5605, 2,  34.5608, 2,     53.7, 2,     53.8, 2,   163.83, 2,    42.35, 2,     0.00, 2,     3.02, 2,    0.014, 2,    0.011, 2,    0.012, 3, -999.000, 9,   -999.0, 9,   -999.0, 9, -999.0000,   -999.00,   -999.0, 9,   -999.0,  -999.00, 9,   -999.0,   1.9345, 27.6247,   2.0494, 2, 9, 0.48, 0.15, 0.01, 0.017,  -999.00, 1, -999.00, -999.00, 9, -999.00
49NZ20071008, P01, P01_59, 1, 18, X12024, 2, 20071020, 0118, 46.9968, 177.1767, 5675,   1932.4, 2,   1.9290, 2,  34.5859, 2,  34.5859, 2,     65.1, 2,     65.0, 2,   165.26, 2,    41.72, 2,     0.00, 2,     2.96, 2,    0.023, 2,    0.009, 2,    0.006, 2, -999.000, 9,   -999.0, 9,   -999.0, 9, -999.0000,   -999.00,   -999.0, 9,   -999.0,  -999.00, 9,   -999.0,   1.7994, 27.6555,   1.9292, 2, 9, 0.48, 0.15, 0.01, 0.017,  -999.00, 1, -999.00, -999.00, 9, -999.00
49NZ20071008, P01, P01_59, 1, 17, X12023, 2, 20071020, 0118, 46.9968, 177.1767, 5675,   2132.2, 2,   1.8407, 2,  34.6038, 2,  34.6039, 2,     75.4, 2,     74.4, 2,   165.90, 2,    41.11, 2,     0.00, 2,     2.92, 2,    0.000, 2,    0.000, 2,    0.000, 2, -999.000, 9,   -999.0, 9,   -999.0, 9, -999.0000,   -999.00,   -999.0, 9,   -999.0,  -999.00, 9,   -999.0,   1.6957, 27.6777,   1.8407, 2, 9, 0.48, 0.15, 0.01, 0.017,  -999.00, 1, -999.00, -999.00, 9, -999.00
49NZ20071008, P01, P01_59, 1, 16, X12022, 2, 20071020, 0118, 46.9968, 177.1767, 5675,   2330.1, 2,   1.7463, 2,  34.6220, 2,  34.6219, 2,     86.9, 2,     85.9, 2,   165.91, 2,    40.45, 2,     0.00, 2,     2.87, 2,    0.003, 2,    0.003, 2,    0.000, 2, -999.000, 9,   -999.0, 9,   -999.0, 9, -999.0000,   -999.00,   -999.0, 9,   -999.0,  -999.00, 9,   -999.0,   1.5859, 27.7005,   1.7462, 2, 9, 0.48, 0.15, 0.01, 0.017,  -999.00, 9, -999.00, -999.00, 9, -999.00
49NZ20071008, P01, P01_59, 1, 15, X12021, 2, 20071020, 0118, 46.9968, 177.1767, 5675,   2530.0, 2,   1.6756, 2,  34.6358, 2,  34.6356, 6,     97.1, 2,     96.9, 2,   164.82, 2,    39.66, 2,     0.00, 2,     2.82, 2,    0.001, 2,    0.000, 2,    0.000, 2, -999.000, 9,   -999.0, 9,   -999.0, 9, -999.0000,   -999.00,   -999.0, 9,   -999.0,  -999.00, 9,   -999.0,   1.4988, 27.7180,   1.6756, 2, 9, 0.48, 0.14, 0.01, 0.017,  -999.00, 9, -999.00, -999.00, 9, -999.00
49NZ20071008, P01, P01_59, 1, 14, X12020, 2, 20071020, 0118, 46.9968, 177.1767, 5675,   2732.6, 2,   1.6232, 2,  34.6465, 2,  34.6459, 2,    106.8, 2,    105.9, 2,   163.32, 2,    39.16, 2,     0.00, 2,     2.77, 2, -999.000, 9, -999.000, 9, -999.000, 9, -999.000, 9,   -999.0, 9,   -999.0, 9, -999.0000,   -999.00,   -999.0, 9,   -999.0,  -999.00, 9,   -999.0,   1.4290, 27.7316,   1.6233, 2, 9, 0.48, 0.14, 0.01, 0.017,  -999.00, 1, -999.00, -999.00, 9, -999.00
49NZ20071008, P01, P01_59, 1, 13, X12019, 2, 20071020, 0118, 46.9968, 177.1767, 5675,   2933.2, 2,   1.5760, 2,  34.6562, 2,  34.6561, 2,    116.8, 2,    115.4, 2,   160.88, 2,    38.53, 2,     0.00, 2,     2.73, 2, -999.000, 9, -999.000, 9, -999.000, 9, -999.000, 9,   -999.0, 9,   -999.0, 9, -999.0000,   -999.00,   -999.0, 9,   -999.0,  -999.00, 9,   -999.0,   1.3640, 27.7441,   1.5761, 2, 9, 0.47, 0.14, 0.01, 0.017,  -999.00, 1, -999.00, -999.00, 9, -999.00
49NZ20071008, P01, P01_59, 1, 12, X12040, 2, 20071020, 0118, 46.9968, 177.1767, 5675,   3166.4, 2,   1.5272, 2,  34.6653, 2,  34.6653, 2,    126.3, 2,    125.4, 2,   158.76, 2,    37.79, 2,     0.01, 2,     2.67, 2,    0.001, 2,    0.000, 2,    0.000, 2, -999.000, 9,   -999.0, 9,   -999.0, 9, -999.0000,   -999.00,   -999.0, 9,   -999.0,  -999.00, 9,   -999.0,   1.2938, 27.7563,   1.5273, 2, 9, 0.47, 0.14, 0.01, 0.017,  -999.00, 1, -999.00, -999.00, 9, -999.00
49NZ20071008, P01, P01_59, 1, 11, X12047, 2, 20071020, 0118, 46.9968, 177.1767, 5675,   3418.2, 2,   1.4959, 2,  34.6725, 2,  34.6723, 2,    133.8, 2,    133.7, 2,   156.11, 2,    37.28, 2,     0.00, 2,     2.63, 2, -999.000, 9, -999.000, 9, -999.000, 9, -999.000, 9,   -999.0, 9,   -999.0, 9, -999.0000,   -999.00,   -999.0, 9,   -999.0,  -999.00, 9,   -999.0,   1.2382, 27.7660,   1.4960, 2, 9, 0.46, 0.14, 0.01, 0.017,  -999.00, 9, -999.00, -999.00, 9, -999.00
49NZ20071008, P01, P01_59, 1, 10, X12010, 2, 20071020, 0118, 46.9968, 177.1767, 5675,   3672.2, 2,   1.4742, 2,  34.6781, 2,  34.6782, 2,    140.3, 2,    140.6, 2,   154.49, 2,    36.89, 2,     0.01, 2,     2.60, 2, -999.000, 9, -999.000, 9, -999.000, 9, -999.000, 9,   -999.0, 9,   -999.0, 9, -999.0000,   -999.00,   -999.0, 9,   -999.0,  -999.00, 9,   -999.0,   1.1910, 27.7738,   1.4743, 2, 9, 0.46, 0.14, 0.01, 0.016,  -999.00, 1, -999.00, -999.00, 9, -999.00
49NZ20071008, P01, P01_59, 1, 9, X12015, 2, 20071020, 0118, 46.9968, 177.1767, 5675,   3921.7, 2,   1.4653, 2,  34.6822, 2,  34.6822, 2,    145.3, 2,    145.4, 2,   153.44, 2,    36.59, 2,     0.01, 2,     2.57, 2,    0.000, 2,    0.000, 2,    0.000, 2, -999.000, 9,   -999.0, 9,   -999.0, 9, -999.0000,   -999.00,   -999.0, 9,   -999.0,  -999.00, 9,   -999.0,   1.1559, 27.7795,   1.4654, 2, 9, 0.46, 0.14, 0.01, 0.016,  -999.00, 1, -999.00, -999.00, 9, -999.00
49NZ20071008, P01, P01_59, 1, 8, X12046, 2, 20071020, 0118, 46.9968, 177.1767, 5675,   4170.4, 2,   1.4668, 2,  34.6853, 2,  34.6852, 6,    148.8, 2,    148.9, 2,   153.51, 2,    36.35, 2,     0.01, 2,     2.56, 2, -999.000, 9, -999.000, 9, -999.000, 9, -999.000, 9,   -999.0, 9,   -999.0, 9, -999.0000,   -999.00,   -999.0, 9,   -999.0,  -999.00, 9,   -999.0,   1.1301, 27.7837,   1.4670, 2, 9, 0.46, 0.13, 0.01, 0.016,  -999.00, 1, -999.00, -999.00, 9, -999.00
49NZ20071008, P01, P01_59, 1, 7, X12044, 2, 20071020, 0118, 46.9968, 177.1767, 5675,   4421.2, 2,   1.4778, 2,  34.6873, 2,  34.6874, 2,    151.3, 2,    151.3, 2,   153.93, 2,    36.04, 2,     0.01, 2,     2.55, 2, -999.000, 9, -999.000, 9, -999.000, 9, -999.000, 9,   -999.0, 9,   -999.0, 9, -999.0000,   -999.00,   -999.0, 9,   -999.0,  -999.00, 9,   -999.0,   1.1126, 27.7865,   1.4779, 2, 9, 0.46, 0.13, 0.01, 0.016,  -999.00, 9, -999.00, -999.00, 9, -999.00
49NZ20071008, P01, P01_59, 1, 6, X12048, 2, 20071020, 0118, 46.9968, 177.1767, 5675,   4670.5, 2,   1.4987, 2,  34.6888, 2,  34.6882, 2,    152.3, 2,    152.5, 2,   155.12, 2,    36.15, 2,     0.00, 2,     2.54, 2,    0.001, 2,    0.003, 2,    0.000, 2, -999.000, 9,   -999.0, 9,   -999.0, 9, -999.0000,   -999.00,   -999.0, 9,   -999.0,  -999.00, 9,   -999.0,   1.1039, 27.7883,   1.4989, 2, 9, 0.46, 0.13, 0.01, 0.016,  -999.00, 1, -999.00, -999.00, 9, -999.00
49NZ20071008, P01, P01_59, 1, 5, X12014, 2, 20071020, 0118, 46.9968, 177.1767, 5675,   4921.2, 2,   1.5261, 2,  34.6893, 2,  34.6891, 2,    152.9, 2,    152.8, 2,   156.08, 2,    36.13, 2,     0.00, 2,     2.54, 2, -999.000, 9, -999.000, 9, -999.000, 9, -999.000, 9,   -999.0, 9,   -999.0, 9, -999.0000,   -999.00,   -999.0, 9,   -999.0,  -999.00, 9,   -999.0,   1.1005, 27.7889,   1.5263, 2, 9, 0.46, 0.13, 0.01, 0.016,  -999.00, 1, -999.00, -999.00, 9, -999.00
49NZ20071008, P01, P01_59, 1, 4, X12006, 2, 20071020, 0118, 46.9968, 177.1767, 5675,   5169.3, 2,   1.5559, 2,  34.6894, 2,  34.6895, 2,    153.3, 2,    153.3, 2,   155.78, 2,    36.11, 2,     0.01, 2,     2.54, 2, -999.000, 9, -999.000, 9, -999.000, 9, -999.000, 9,   -999.0, 9,   -999.0, 9, -999.0000,   -999.00,   -999.0, 9,   -999.0,  -999.00, 9,   -999.0,   1.0990, 27.7891,   1.5560, 2, 9, 0.46, 0.13, 0.01, 0.016,  -999.00, 1, -999.00, -999.00, 9, -999.00
49NZ20071008, P01, P01_59, 1, 3, X12013, 2, 20071020, 0118, 46.9968, 177.1767, 5675,   5419.5, 2,   1.5846, 2,  34.6896, 2,  34.6893, 2,    154.0, 2,    154.1, 2,   154.42, 2,    35.97, 2,     0.01, 2,     2.53, 2,    0.002, 2,    0.000, 2,    0.000, 2, -999.000, 9,   -999.0, 9,   -999.0, 9, -999.0000,   -999.00,   -999.0, 9,   -999.0,  -999.00, 9,   -999.0,   1.0952, 27.7896,   1.5847, 2, 9, 0.46, 0.13, 0.01, 0.016,  -999.00, 9, -999.00, -999.00, 9, -999.00
49NZ20071008, P01, P01_59, 1, 2, X12002, 2, 20071020, 0118, 46.9968, 177.1767, 5675,   5670.7, 2,   1.6122, 2,  34.6899, 2,  34.6901, 2,    155.8, 2,    155.6, 2,   151.94, 2,    35.93, 2,     0.01, 2,     2.52, 2, -999.000, 9, -999.000, 9, -999.000, 9, -999.000, 9,   -999.0, 9,   -999.0, 9, -999.0000,   -999.00,   -999.0, 9,   -999.0,  -999.00, 9,   -999.0,   1.0895, 27.7902,   1.6121, 2, 9, 0.45, 0.13, 0.01, 0.016,  -999.00, 1, -999.00, -999.00, 9, -999.00
49NZ20071008, P01, P01_59, 1, 1, X12001, 2, 20071020, 0118, 46.9968, 177.1767, 5675,   5776.7, 2,   1.6243, 2,  34.6900, 2,  34.6902, 6,    156.1, 2,    156.1, 2,   151.15, 2,    35.84, 2,     0.01, 2,     2.52, 2,    0.000, 2,    0.000, 2,    0.000, 2, -999.000, 9,   -999.0, 9,   -999.0, 9, -999.0000,   -999.00,   -999.0, 9,   -999.0,  -999.00, 9,   -999.0,   1.0873, 27.7904,   1.6243, 2, 9, 0.45, 0.13, 0.01, 0.016,  -999.00, 1, -999.00, -999.00, 9, -999.00