BOTTLE,20221005CCHSIOAMB
EXPOCODE,SECT_ID,STNNBR,CASTNO,SAMPNO,BTLNBR,BTLNBR_FLAG_W,DATE,TIME,LATITUDE,LONGITUDE,DEPTH,CTDPRS,CTDPRS_FLAG_W,CTDTMP,CTDTMP_FLAG_W,CTDSAL,CTDSAL_FLAG_W,SALNTY,SALNTY_FLAG_W,CTDOXY,CTDOXY_FLAG_W,OXYGEN,OXYGEN_FLAG_W,SILCAT,SILCAT_FLAG_W,NITRAT,NITRAT_FLAG_W,NITRIT,NITRIT_FLAG_W,PHSPHT,PHSPHT_FLAG_W,CFC-11,CFC-11_FLAG_W,CFC-12,CFC-12_FLAG_W,CFC113,CFC113_FLAG_W,CCL4,CCL4_FLAG_W,TCARBN,TCARBN_FLAG_W,ALKALI,ALKALI_FLAG_W,PH_TOT,PH_TMP,DELC14,DELC14_FLAG_W,C14ERR,DELC13,DELC13_FLAG_W,C13ERR,THETA,SIG0,SBE35,SBE35_FLAG_W,PH_TOT_FLAG_W,SILUNC,NRAUNC,NRIUNC,PHPUNC,CS-137,CS-137_FLAG_W,CS137ER,PLUTO,PLUTO_FLAG_W,PLUTOER
,,,,,,,,,,,METERS,DBAR,,ITS-90,,PSS-78,,PSS-78,,UMOL/KG,,UMOL/KG,,UMOL/KG,,UMOL/KG,,UMOL/KG,,UMOL/KG,,PMOL/KG,,PMOL/KG,,PMOL/KG,,PMOL/KG,,UMOL/KG,,UMOL/KG,,,DEG C,/MILLE,,/MILLE,/MILLE,,/MILLE,DEG C,KG/M^3,ITS-90,,,UMOL/KG,UMOL/KG,UMOL/KG,UMOL/KG,DM/.1MG,,BQ/M^3,MBQ/M^3,,MBQ/M^3
49NZ20071008, P14N, 45, 1, 36, X12042, 2, 20071102, 1828, 40.0063, 179.0120, 5446,     10.9, 2,  17.3252, 2,  34.0175, 2,  34.0181, 2,    241.1, 2,    241.8, 2,     3.18, 2,     0.12, 2,     0.02, 2,     0.12, 2,    2.474, 2,    1.442, 2,    0.289, 4, -999.000, 9,   -999.0, 9,   -999.0, 9, -999.0000,   -999.00,   -999.0, 9,   -999.0,  -999.00, 9,   -999.0,  17.3234, 24.6834,  17.3256, 2, 9, 0.13, 0.03, 0.01, 0.020,  -999.00, 9, -999.00, -999.00, 9, -999.00
49NZ20071008, P14N, 45, 1, 35, X12041, 2, 20071102, 1828, 40.0063, 179.0120, 5446,     50.4, 2,  17.3229, 2,  34.0151, 2,  34.0360, 2,    240.1, 2,    242.9, 2,     3.40, 2,     0.33, 2,     0.03, 2,     0.13, 2,    2.504, 2,    1.455, 2,    0.307, 4, -999.000, 9,   -999.0, 9,   -999.0, 9, -999.0000,   -999.00,   -999.0, 9,   -999.0,  -999.00, 9,   -999.0,  17.3146, 24.6837,  17.3254, 2, 9, 0.13, 0.03, 0.01, 0.019,  -999.00, 9, -999.00, -999.00, 9, -999.00
49NZ20071008, P14N, 45, 1, 34, X12016, 2, 20071102, 1828, 40.0063, 179.0120, 5446,    100.7, 2,  11.9701, 2,  34.3143, 2,  34.3115, 2,    228.3, 2,    234.7, 2,    13.27, 2,    11.07, 2,     0.03, 2,     0.83, 2,    3.125, 2,    1.728, 2,    0.240, 2, -999.000, 9,   -999.0, 9,   -999.0, 9, -999.0000,   -999.00,   -999.0, 9,   -999.0,  -999.00, 9,   -999.0,  11.9571, 26.0646,  11.9715, 2, 9, 0.15, 0.06, 0.01, 0.013,  -999.00, 9, -999.00, -999.00, 9, -999.00
49NZ20071008, P14N, 45, 1, 33, X12033, 2, 20071102, 1828, 40.0063, 179.0120, 5446,    151.3, 2,  10.3991, 2,  34.1977, 2,  34.1970, 2,    246.0, 2,    243.2, 2,    16.23, 2,    12.79, 2,     0.02, 2,     0.96, 2,    3.366, 6,    1.837, 6,    0.254, 6, -999.000, 9,   -999.0, 9,   -999.0, 9, -999.0000,   -999.00,   -999.0, 9,   -999.0,  -999.00, 9,   -999.0,  10.3813, 26.2600,  10.4004, 2, 9, 0.15, 0.07, 0.01, 0.013,  -999.00, 9, -999.00, -999.00, 9, -999.00
49NZ20071008, P14N, 45, 1, 32, X12038, 2, 20071102, 1828, 40.0063, 179.0120, 5446,    199.8, 2,   9.2822, 2,  34.0826, 2,  34.0815, 2,    253.4, 2,    252.9, 2,    18.44, 2,    13.59, 2,     0.02, 2,     1.03, 2,    3.610, 2,    1.949, 2,    0.276, 2, -999.000, 9,   -999.0, 9,   -999.0, 9, -999.0000,   -999.00,   -999.0, 9,   -999.0,  -999.00, 9,   -999.0,   9.2603, 26.3580,   9.2824, 2, 9, 0.16, 0.07, 0.01, 0.013,  -999.00, 9, -999.00, -999.00, 9, -999.00
49NZ20071008, P14N, 45, 1, 31, X12003, 2, 20071102, 1828, 40.0063, 179.0120, 5446,    249.6, 2,   8.6802, 2,  34.0311, 2,  34.0343, 6,    248.8, 2,    247.0, 2,    21.01, 2,    14.91, 2,     0.02, 2,     1.14, 2,    3.658, 2,    1.961, 2,    0.264, 2, -999.000, 9,   -999.0, 9,   -999.0, 9, -999.0000,   -999.00,   -999.0, 9,   -999.0,  -999.00, 9,   -999.0,   8.6539, 26.4137,   8.6807, 2, 9, 0.17, 0.07, 0.01, 0.013,  -999.00, 9, -999.00, -999.00, 9, -999.00
49NZ20071008, P14N, 45, 1, 30, X12008, 2, 20071102, 1828, 40.0063, 179.0120, 5446,    278.7, 2,   8.5899, 2,  34.0628, 2,  34.0579, 2,    230.7, 2,    238.8, 2,    23.53, 2,    16.10, 2,     0.02, 2,     1.21, 2,    3.542, 2,    1.881, 2,    0.251, 2, -999.000, 9,   -999.0, 9,   -999.0, 9, -999.0000,   -999.00,   -999.0, 9,   -999.0,  -999.00, 9,   -999.0,   8.5607, 26.4530,   8.5916, 2, 9, 0.17, 0.08, 0.01, 0.013,  -999.00, 9, -999.00, -999.00, 9, -999.00
49NZ20071008, P14N, 45, 1, 29, X12035, 2, 20071102, 1828, 40.0063, 179.0120, 5446,    369.1, 2,   6.7262, 2,  33.9680, 2,  33.9620, 2,    179.7, 2,    176.9, 2,    44.32, 2,    25.37, 2,     0.01, 2,     1.87, 2,    3.045, 2,    1.544, 2,    0.189, 2, -999.000, 9,   -999.0, 9,   -999.0, 9, -999.0000,   -999.00,   -999.0, 9,   -999.0,  -999.00, 9,   -999.0,   6.6926, 26.6474,   6.7248, 2, 9, 0.22, 0.10, 0.01, 0.015,  -999.00, 9, -999.00, -999.00, 9, -999.00
49NZ20071008, P14N, 45, 1, 28, X12034, 2, 20071102, 1828, 40.0063, 179.0120, 5446,    469.9, 2,   5.4362, 2,  33.9577, 2,  33.9600, 6,    131.0, 2,    132.4, 2,    63.06, 2,    31.62, 2,     0.01, 2,     2.32, 2,    2.495, 2,    1.236, 2,    0.158, 2, -999.000, 9,   -999.0, 9,   -999.0, 9, -999.0000,   -999.00,   -999.0, 9,   -999.0,  -999.00, 9,   -999.0,   5.3977, 26.8026,   5.4370, 2, 9, 0.26, 0.12, 0.01, 0.016,  -999.00, 9, -999.00, -999.00, 9, -999.00
49NZ20071008, P14N, 45, 1, 27, X12049, 2, 20071102, 1828, 40.0063, 179.0120, 5446,    569.5, 2,   4.6812, 2,  34.0169, 2,  34.0184, 2,     88.5, 2,     92.9, 2,    80.76, 2,    36.35, 2,     0.01, 2,     2.65, 2,    1.858, 2,    0.904, 2,    0.102, 2, -999.000, 9,   -999.0, 9,   -999.0, 9, -999.0000,   -999.00,   -999.0, 9,   -999.0,  -999.00, 9,   -999.0,   4.6374, 26.9365,   4.6817, 2, 9, 0.30, 0.13, 0.01, 0.017,  -999.00, 9, -999.00, -999.00, 9, -999.00
49NZ20071008, P14N, 45, 1, 26, X12032, 2, 20071102, 1828, 40.0063, 179.0120, 5446,    669.7, 2,   4.2489, 2,  34.1171, 2,  34.1190, 2,     62.1, 2,     61.5, 2,    96.39, 2,    39.55, 2,     0.01, 2,     2.86, 2,    1.187, 6,    0.567, 6,    0.068, 6, -999.000, 9,   -999.0, 9,   -999.0, 9, -999.0000,   -999.00,   -999.0, 9,   -999.0,  -999.00, 9,   -999.0,   4.1990, 27.0632,   4.2493, 2, 9, 0.33, 0.14, 0.01, 0.017,  -999.00, 9, -999.00, -999.00, 9, -999.00
49NZ20071008, P14N, 45, 1, 25, X12043, 2, 20071102, 1828, 40.0063, 179.0120, 5446,    769.8, 2,   3.9629, 2,  34.2024, 2,  34.2033, 2,     48.0, 2,     46.9, 2,   107.78, 2,    40.96, 2,     0.01, 2,     2.95, 2,    0.704, 2,    0.330, 2,    0.043, 2, -999.000, 9,   -999.0, 9,   -999.0, 9, -999.0000,   -999.00,   -999.0, 9,   -999.0,  -999.00, 9,   -999.0,   3.9066, 27.1612,   3.9632, 2, 9, 0.36, 0.15, 0.01, 0.017,  -999.00, 9, -999.00, -999.00, 9, -999.00
49NZ20071008, P14N, 45, 1, 24, X12030, 2, 20071102, 1828, 40.0063, 179.0120, 5446,    869.9, 2,   3.6710, 2,  34.2644, 2,  34.2667, 2,     37.5, 2,     37.6, 2,   117.06, 2,    42.08, 2,     0.01, 2,     3.02, 2,    0.396, 2,    0.184, 2,    0.018, 2, -999.000, 9,   -999.0, 9,   -999.0, 9, -999.0000,   -999.00,   -999.0, 9,   -999.0,  -999.00, 9,   -999.0,   3.6086, 27.2404,   3.6716, 2, 9, 0.38, 0.15, 0.01, 0.018,  -999.00, 9, -999.00, -999.00, 9, -999.00
49NZ20071008, P14N, 45, 1, 23, X12027, 2, 20071102, 1828, 40.0063, 179.0120, 5446,    970.1, 2,   3.3869, 2,  34.3183, 2,  34.3194, 6,     32.8, 2,     32.0, 2,   126.33, 2,    42.78, 2,     0.01, 2,     3.07, 2,    0.229, 2,    0.107, 2,    0.017, 2, -999.000, 9,   -999.0, 9,   -999.0, 9, -999.0000,   -999.00,   -999.0, 9,   -999.0,  -999.00, 9,   -999.0,   3.3186, 27.3113,   3.3871, 2, 9, 0.40, 0.15, 0.01, 0.018,  -999.00, 9, -999.00, -999.00, 9, -999.00
49NZ20071008, P14N, 45, 1, 22, X12028, 2, 20071102, 1828, 40.0063, 179.0120, 5446,   1131.6, 2,   3.0113, 2,  34.3846, 2,  34.3854, 2,     26.5, 2,     26.8, 2,   138.17, 2,    43.54, 2,     0.01, 2,     3.12, 2,    0.094, 2,    0.044, 2,    0.000, 2, -999.000, 9,   -999.0, 9,   -999.0, 9, -999.0000,   -999.00,   -999.0, 9,   -999.0,  -999.00, 9,   -999.0,   2.9334, 27.3998,   3.0112, 2, 9, 0.42, 0.15, 0.01, 0.018,  -999.00, 9, -999.00, -999.00, 9, -999.00
49NZ20071008, P14N, 45, 1, 21, X12009, 2, 20071102, 1828, 40.0063, 179.0120, 5446,   1331.2, 2,   2.6685, 2,  34.4484, 2,  34.4484, 2,     24.6, 2,     27.6, 2,   148.43, 2,    43.87, 2,     0.01, 2,     3.13, 2,    0.040, 2,    0.018, 2,    0.000, 2, -999.000, 9,   -999.0, 9,   -999.0, 9, -999.0000,   -999.00,   -999.0, 9,   -999.0,  -999.00, 9,   -999.0,   2.5782, 27.4821,   2.6688, 2, 9, 0.45, 0.16, 0.01, 0.018,  -999.00, 9, -999.00, -999.00, 9, -999.00
49NZ20071008, P14N, 45, 1, 20, X12026, 2, 20071102, 1828, 40.0063, 179.0120, 5446,   1530.4, 2,   2.4375, 2,  34.4932, 2,  34.4932, 2,     33.7, 2,     31.6, 2,   155.41, 2,    43.75, 2,     0.01, 2,     3.12, 2,    0.020, 2,    0.006, 2,    0.000, 2, -999.000, 9,   -999.0, 9,   -999.0, 9, -999.0000,   -999.00,   -999.0, 9,   -999.0,  -999.00, 9,   -999.0,   2.3339, 27.5386,   2.4375, 2, 9, 0.46, 0.16, 0.01, 0.018,  -999.00, 9, -999.00, -999.00, 9, -999.00
49NZ20071008, P14N, 45, 1, 19, X12025, 2, 20071102, 1828, 40.0063, 179.0120, 5446,   1731.1, 2,   2.2225, 2,  34.5356, 2,  34.5361, 2,     41.0, 2,     39.7, 2,   161.27, 2,    43.40, 2,     0.01, 2,     3.07, 2,    0.004, 2,    0.004, 2,    0.000, 2, -999.000, 9,   -999.0, 9,   -999.0, 9, -999.0000,   -999.00,   -999.0, 9,   -999.0,  -999.00, 9,   -999.0,   2.1054, 27.5912,   2.2225, 2, 9, 0.47, 0.15, 0.01, 0.018,  -999.00, 9, -999.00, -999.00, 9, -999.00
49NZ20071008, P14N, 45, 1, 18, X12024, 2, 20071102, 1828, 40.0063, 179.0120, 5446,   1934.3, 2,   2.0474, 2,  34.5726, 2,  34.5717, 2,     52.9, 2,     51.7, 2,   164.69, 2,    42.72, 2,     0.01, 2,     3.02, 2,    0.000, 2,    0.000, 2,    0.000, 2, -999.000, 9,   -999.0, 9,   -999.0, 9, -999.0000,   -999.00,   -999.0, 9,   -999.0,  -999.00, 9,   -999.0,   1.9159, 27.6358,   2.0476, 2, 9, 0.48, 0.15, 0.01, 0.018,  -999.00, 9, -999.00, -999.00, 9, -999.00
49NZ20071008, P14N, 45, 1, 17, X12023, 2, 20071102, 1828, 40.0063, 179.0120, 5446,   2133.4, 2,   1.9063, 2,  34.5982, 2,  34.5980, 2,     64.3, 2,     64.9, 2,   166.18, 2,    41.93, 2,     0.01, 2,     2.97, 2,    0.001, 2,    0.001, 2,    0.000, 2, -999.000, 9,   -999.0, 9,   -999.0, 9, -999.0000,   -999.00,   -999.0, 9,   -999.0,  -999.00, 9,   -999.0,   1.7602, 27.6684,   1.9063, 2, 9, 0.48, 0.15, 0.01, 0.017,  -999.00, 9, -999.00, -999.00, 9, -999.00
49NZ20071008, P14N, 45, 1, 16, X12022, 2, 20071102, 1828, 40.0063, 179.0120, 5446,   2331.7, 2,   1.8088, 2,  34.6167, 2,  34.6166, 2,     75.9, 2,     76.4, 2,   166.69, 2,    41.18, 2,     0.01, 2,     2.91, 2,    0.000, 2,    0.000, 2,    0.000, 2, -999.000, 9,   -999.0, 9,   -999.0, 9, -999.0000,   -999.00,   -999.0, 9,   -999.0,  -999.00, 9,   -999.0,   1.6471, 27.6917,   1.8088, 2, 9, 0.49, 0.15, 0.01, 0.017,  -999.00, 9, -999.00, -999.00, 9, -999.00
49NZ20071008, P14N, 45, 1, 15, X12021, 2, 20071102, 1828, 40.0063, 179.0120, 5446,   2530.3, 2,   1.7242, 2,  34.6317, 2,  34.6317, 6,     89.4, 2,     87.3, 2,   166.62, 2,    40.50, 2,     0.01, 2,     2.86, 2, -999.000, 5, -999.000, 5, -999.000, 5, -999.000, 9,   -999.0, 9,   -999.0, 9, -999.0000,   -999.00,   -999.0, 9,   -999.0,  -999.00, 9,   -999.0,   1.5464, 27.7112,   1.7242, 2, 9, 0.49, 0.15, 0.01, 0.017,  -999.00, 9, -999.00, -999.00, 9, -999.00
49NZ20071008, P14N, 45, 1, 14, X12020, 2, 20071102, 1828, 40.0063, 179.0120, 5446,   2732.5, 2,   1.6408, 2,  34.6455, 2,  34.6457, 2,    103.3, 2,    103.1, 2,   163.02, 2,    39.47, 2,     0.01, 2,     2.79, 2, -999.000, 9, -999.000, 9, -999.000, 9, -999.000, 9,   -999.0, 9,   -999.0, 9, -999.0000,   -999.00,   -999.0, 9,   -999.0,  -999.00, 9,   -999.0,   1.4462, 27.7296,   1.6407, 2, 9, 0.48, 0.14, 0.01, 0.017,  -999.00, 9, -999.00, -999.00, 9, -999.00
49NZ20071008, P14N, 45, 1, 13, X12019, 2, 20071102, 1828, 40.0063, 179.0120, 5446,   2932.0, 2,   1.5920, 2,  34.6543, 2,  34.6545, 2,    113.6, 2,    112.5, 2,   160.88, 2,    38.87, 2,     0.01, 2,     2.74, 2, -999.000, 9, -999.000, 9, -999.000, 9, -999.000, 9,   -999.0, 9,   -999.0, 9, -999.0000,   -999.00,   -999.0, 9,   -999.0,  -999.00, 9,   -999.0,   1.3798, 27.7414,   1.5920, 2, 9, 0.47, 0.14, 0.01, 0.017,  -999.00, 9, -999.00, -999.00, 9, -999.00
49NZ20071008, P14N, 45, 1, 12, X12040, 2, 20071102, 1828, 40.0063, 179.0120, 5446,   3170.9, 2,   1.5373, 2,  34.6641, 2,  34.6641, 2,    125.0, 2,    124.1, 2,   157.76, 2,    37.96, 2,     0.01, 2,     2.67, 2,    0.000, 2,    0.000, 2,    0.000, 2, -999.000, 9,   -999.0, 9,   -999.0, 9, -999.0000,   -999.00,   -999.0, 9,   -999.0,  -999.00, 9,   -999.0,   1.3032, 27.7547,   1.5373, 2, 9, 0.47, 0.14, 0.01, 0.017,  -999.00, 9, -999.00, -999.00, 9, -999.00
49NZ20071008, P14N, 45, 1, 11, X12047, 2, 20071102, 1828, 40.0063, 179.0120, 5446,   3420.2, 2,   1.4914, 2,  34.6728, 2,  34.6730, 2,    134.7, 2,    134.7, 2,   155.12, 2,    37.29, 2,     0.01, 2,     2.62, 2, -999.000, 9, -999.000, 9, -999.000, 9, -999.000, 9,   -999.0, 9,   -999.0, 9, -999.0000,   -999.00,   -999.0, 9,   -999.0,  -999.00, 9,   -999.0,   1.2336, 27.7666,   1.4914, 2, 9, 0.46, 0.14, 0.01, 0.017,  -999.00, 9, -999.00, -999.00, 9, -999.00
49NZ20071008, P14N, 45, 1, 10, X12017, 2, 20071102, 1828, 40.0063, 179.0120, 5446,   3671.4, 2,   1.4697, 2,  34.6784, 2,  34.6784, 2,    141.9, 2,    141.6, 2,   153.53, 2,    36.81, 2,     0.01, 2,     2.58, 2, -999.000, 9, -999.000, 9, -999.000, 9, -999.000, 9,   -999.0, 9,   -999.0, 9, -999.0000,   -999.00,   -999.0, 9,   -999.0,  -999.00, 9,   -999.0,   1.1867, 27.7743,   1.4696, 2, 9, 0.46, 0.14, 0.01, 0.016,  -999.00, 9, -999.00, -999.00, 9, -999.00
49NZ20071008, P14N, 45, 1, 9, X12015, 2, 20071102, 1828, 40.0063, 179.0120, 5446,   3920.0, 2,   1.4594, 2,  34.6824, 2,  34.6824, 2,    146.8, 2,    147.0, 2,   152.20, 2,    36.45, 2,     0.01, 2,     2.56, 2,    0.000, 2,    0.000, 2,    0.000, 2, -999.000, 9,   -999.0, 9,   -999.0, 9, -999.0000,   -999.00,   -999.0, 9,   -999.0,  -999.00, 9,   -999.0,   1.1503, 27.7800,   1.4593, 2, 9, 0.45, 0.13, 0.01, 0.016,  -999.00, 9, -999.00, -999.00, 9, -999.00
49NZ20071008, P14N, 45, 1, 8, X12046, 2, 20071102, 1828, 40.0063, 179.0120, 5446,   4169.5, 2,   1.4615, 2,  34.6855, 2,  34.6852, 6,    150.3, 2,    150.4, 2,   151.71, 2,    36.30, 2,     0.01, 2,     2.54, 2, -999.000, 9, -999.000, 9, -999.000, 9, -999.000, 9,   -999.0, 9,   -999.0, 9, -999.0000,   -999.00,   -999.0, 9,   -999.0,  -999.00, 9,   -999.0,   1.1251, 27.7842,   1.4616, 2, 9, 0.45, 0.13, 0.01, 0.016,  -999.00, 9, -999.00, -999.00, 9, -999.00
49NZ20071008, P14N, 45, 1, 7, X12044, 2, 20071102, 1828, 40.0063, 179.0120, 5446,   4418.8, 2,   1.4765, 2,  34.6870, 2,  34.6868, 2,    151.9, 2,    152.0, 2,   152.47, 2,    36.18, 2,     0.01, 2,     2.53, 2, -999.000, 9, -999.000, 9, -999.000, 9, -999.000, 9,   -999.0, 9,   -999.0, 9, -999.0000,   -999.00,   -999.0, 9,   -999.0,  -999.00, 9,   -999.0,   1.1116, 27.7863,   1.4765, 2, 9, 0.45, 0.13, 0.01, 0.016,  -999.00, 9, -999.00, -999.00, 9, -999.00
49NZ20071008, P14N, 45, 1, 6, X12048, 2, 20071102, 1828, 40.0063, 179.0120, 5446,   4669.4, 2,   1.4984, 2,  34.6881, 2,  34.6879, 2,    152.8, 2,    152.8, 2,   153.33, 2,    36.11, 2,     0.01, 2,     2.53, 2,    0.001, 2,    0.000, 2,    0.000, 2, -999.000, 9,   -999.0, 9,   -999.0, 9, -999.0000,   -999.00,   -999.0, 9,   -999.0,  -999.00, 9,   -999.0,   1.1038, 27.7878,   1.4985, 2, 9, 0.46, 0.13, 0.01, 0.016,  -999.00, 9, -999.00, -999.00, 9, -999.00
49NZ20071008, P14N, 45, 1, 5, X12014, 2, 20071102, 1828, 40.0063, 179.0120, 5446,   4919.4, 2,   1.5248, 2,  34.6886, 2,  34.6886, 2,    153.4, 2,    153.4, 2,   153.24, 2,    36.18, 2,     0.01, 2,     2.53, 2, -999.000, 9, -999.000, 9, -999.000, 9, -999.000, 9,   -999.0, 9,   -999.0, 9, -999.0000,   -999.00,   -999.0, 9,   -999.0,  -999.00, 9,   -999.0,   1.0995, 27.7885,   1.5248, 2, 9, 0.46, 0.13, 0.01, 0.016,  -999.00, 9, -999.00, -999.00, 9, -999.00
49NZ20071008, P14N, 45, 1, 4, X12006, 2, 20071102, 1828, 40.0063, 179.0120, 5446,   5169.3, 2,   1.5545, 2,  34.6889, 2,  34.6888, 2,    153.7, 2,    153.8, 2,   153.67, 2,    36.10, 2,     0.01, 2,     2.52, 2, -999.000, 9, -999.000, 9, -999.000, 9, -999.000, 9,   -999.0, 9,   -999.0, 9, -999.0000,   -999.00,   -999.0, 9,   -999.0,  -999.00, 9,   -999.0,   1.0976, 27.7888,   1.5545, 2, 9, 0.46, 0.13, 0.01, 0.016,  -999.00, 9, -999.00, -999.00, 9, -999.00
49NZ20071008, P14N, 45, 1, 3, X12013, 2, 20071102, 1828, 40.0063, 179.0120, 5446,   5419.0, 2,   1.5867, 2,  34.6890, 2,  34.6891, 2,    153.9, 2,    153.8, 2,   153.64, 2,    36.03, 2,     0.01, 2,     2.52, 2,    0.000, 2,    0.000, 2,    0.000, 2, -999.000, 9,   -999.0, 9,   -999.0, 9, -999.0000,   -999.00,   -999.0, 9,   -999.0,  -999.00, 9,   -999.0,   1.0973, 27.7889,   1.5868, 2, 9, 0.46, 0.13, 0.01, 0.016,  -999.00, 9, -999.00, -999.00, 9, -999.00
49NZ20071008, P14N, 45, 1, 2, X12002, 2, 20071102, 1828, 40.0063, 179.0120, 5446,    318.7, 2,   7.6835, 2,  34.0123, 2,  34.0120, 2,    198.8, 2,    196.0, 2,  -999.00, 9,  -999.00, 9,  -999.00, 9,  -999.00, 9, -999.000, 9, -999.000, 9, -999.000, 9, -999.000, 9,   -999.0, 9,   -999.0, 9, -999.0000,   -999.00,   -999.0, 9,   -999.0,  -999.00, 9,   -999.0,   7.6522, 26.5490,   7.6838, 2, 9, -999.00, -999.00, -999.00, -999.000,  -999.00, 9, -999.00, -999.00, 9, -999.00
49NZ20071008, P14N, 45, 1, 1, X12001, 2, 20071102, 1828, 40.0063, 179.0120, 5446,   5560.2, 2,   1.6054, 2,  34.6889, 2,  34.6891, 6,    153.8, 2,    153.8, 2,   153.59, 2,    36.10, 2,     0.01, 2,     2.53, 2,    0.002, 2,    0.000, 2,    0.000, 2, -999.000, 9,   -999.0, 9,   -999.0, 9, -999.0000,   -999.00,   -999.0, 9,   -999.0,  -999.00, 9,   -999.0,   1.0973, 27.7888,   1.6054, 2, 9, 0.46, 0.13, 0.01, 0.016,  -999.00, 9, -999.00, -999.00, 9, -999.00