BOTTLE,20221005CCHSIOAMB
EXPOCODE,SECT_ID,STNNBR,CASTNO,SAMPNO,BTLNBR,BTLNBR_FLAG_W,DATE,TIME,LATITUDE,LONGITUDE,DEPTH,CTDPRS,CTDPRS_FLAG_W,CTDTMP,CTDTMP_FLAG_W,CTDSAL,CTDSAL_FLAG_W,SALNTY,SALNTY_FLAG_W,CTDOXY,CTDOXY_FLAG_W,OXYGEN,OXYGEN_FLAG_W,SILCAT,SILCAT_FLAG_W,NITRAT,NITRAT_FLAG_W,NITRIT,NITRIT_FLAG_W,PHSPHT,PHSPHT_FLAG_W,CFC-11,CFC-11_FLAG_W,CFC-12,CFC-12_FLAG_W,CFC113,CFC113_FLAG_W,CCL4,CCL4_FLAG_W,TCARBN,TCARBN_FLAG_W,ALKALI,ALKALI_FLAG_W,PH_TOT,PH_TMP,DELC14,DELC14_FLAG_W,C14ERR,DELC13,DELC13_FLAG_W,C13ERR,THETA,SIG0,SBE35,SBE35_FLAG_W,PH_TOT_FLAG_W,SILUNC,NRAUNC,NRIUNC,PHPUNC,CS-137,CS-137_FLAG_W,CS137ER,PLUTO,PLUTO_FLAG_W,PLUTOER
,,,,,,,,,,,METERS,DBAR,,ITS-90,,PSS-78,,PSS-78,,UMOL/KG,,UMOL/KG,,UMOL/KG,,UMOL/KG,,UMOL/KG,,UMOL/KG,,PMOL/KG,,PMOL/KG,,PMOL/KG,,PMOL/KG,,UMOL/KG,,UMOL/KG,,,DEG C,/MILLE,,/MILLE,/MILLE,,/MILLE,DEG C,KG/M^3,ITS-90,,,UMOL/KG,UMOL/KG,UMOL/KG,UMOL/KG,DM/.1MG,,BQ/M^3,MBQ/M^3,,MBQ/M^3
49NZ20071008, P01, P01_39, 1, 36, X12042, 2, 20071014, 1039, 47.0012, 161.1533, 5432,     10.0, 2,   9.2937, 2,  32.6406, 2,  32.6411, 2,    286.8, 2,    287.0, 2,    19.71, 2,    11.92, 2,     0.21, 2,     1.24, 2,    3.805, 2,    2.098, 2,    0.357, 2, -999.000, 9,   -999.0, 9,   -999.0, 9, -999.0000,   -999.00,   -999.0, 9,   -999.0,  -999.00, 9,   -999.0,   9.2926, 25.2250,   9.2928, 2, 9, 0.16, 0.07, 0.01, 0.013,  -999.00, 9, -999.00, -999.00, 9, -999.00
49NZ20071008, P01, P01_39, 1, 35, X12041, 2, 20071014, 1039, 47.0012, 161.1533, 5432,     50.4, 2,   8.0441, 2,  32.6912, 2,  32.6890, 2,    283.3, 2,    292.6, 2,    22.39, 2,    13.43, 2,     0.34, 2,     1.37, 2,    4.178, 2,    2.293, 2,    0.386, 2, -999.000, 9,   -999.0, 9,   -999.0, 9, -999.0000,   -999.00,   -999.0, 9,   -999.0,  -999.00, 9,   -999.0,   8.0392, 25.4552,   7.9903, 2, 9, 0.17, 0.10, 0.01, 0.014,  -999.00, 9, -999.00, -999.00, 9, -999.00
49NZ20071008, P01, P01_39, 1, 34, X12016, 2, 20071014, 1039, 47.0012, 161.1533, 5432,     98.3, 2,   1.5223, 2,  33.0899, 2,  33.0868, 2,    316.6, 2,    314.3, 2,    42.31, 2,    25.58, 2,     0.04, 2,     2.02, 2,    5.765, 2,    3.045, 2,    0.503, 2, -999.000, 9,   -999.0, 9,   -999.0, 9, -999.0000,   -999.00,   -999.0, 9,   -999.0,  -999.00, 9,   -999.0,   1.5178, 26.4760,   1.5225, 2, 9, 0.21, 0.12, 0.01, 0.015,  -999.00, 9, -999.00, -999.00, 9, -999.00
49NZ20071008, P01, P01_39, 1, 33, X12033, 2, 20071014, 1039, 47.0012, 161.1533, 5432,    150.4, 2,   2.7943, 2,  33.5730, 2,  33.5729, 2,    131.9, 2,    137.2, 2,    76.25, 2,    38.49, 2,     0.01, 2,     2.81, 2,    3.547, 6,    1.807, 6,    0.272, 6, -999.000, 9,   -999.0, 9,   -999.0, 9, -999.0000,   -999.00,   -999.0, 9,   -999.0,  -999.00, 9,   -999.0,   2.7856, 26.7648,   2.7973, 2, 9, 0.29, 0.15, 0.01, 0.017,  -999.00, 9, -999.00, -999.00, 9, -999.00
49NZ20071008, P01, P01_39, 1, 32, X12038, 2, 20071014, 1039, 47.0012, 161.1533, 5432,    200.1, 2,   3.3369, 2,  33.8032, 2,  33.8127, 2,     62.1, 2,     58.0, 2,    92.26, 2,    43.30, 2,     0.02, 2,     3.08, 2,    2.394, 2,    1.187, 2,    0.177, 2, -999.000, 9,   -999.0, 9,   -999.0, 9, -999.0000,   -999.00,   -999.0, 9,   -999.0,  -999.00, 9,   -999.0,   3.3243, 26.9001,   3.3416, 2, 9, 0.32, 0.16, 0.01, 0.018,  -999.00, 9, -999.00, -999.00, 9, -999.00
49NZ20071008, P01, P01_39, 1, 31, X12003, 2, 20071014, 1039, 47.0012, 161.1533, 5432,    249.0, 2,   3.5392, 2,  33.9381, 2,  33.9376, 6,     31.7, 2,     30.1, 2,   101.32, 2,    44.69, 2,     0.02, 2,     3.19, 2,    1.770, 2,    0.860, 2,    0.123, 2, -999.000, 9,   -999.0, 9,   -999.0, 9, -999.0000,   -999.00,   -999.0, 9,   -999.0,  -999.00, 9,   -999.0,   3.5229, 26.9887,   3.5390, 2, 9, 0.34, 0.16, 0.01, 0.018,  -999.00, 9, -999.00, -999.00, 9, -999.00
49NZ20071008, P01, P01_39, 1, 30, X12008, 2, 20071014, 1039, 47.0012, 161.1533, 5432,    279.4, 2,   3.4655, 2,  33.9681, 2,  33.9692, 2,     27.4, 2,     29.3, 2,   104.43, 2,    44.66, 2,     0.02, 2,     3.18, 2,    1.573, 4,    0.754, 4,    0.103, 4, -999.000, 9,   -999.0, 9,   -999.0, 9, -999.0000,   -999.00,   -999.0, 9,   -999.0,  -999.00, 9,   -999.0,   3.4473, 27.0199,   3.4659, 2, 9, 0.35, 0.16, 0.01, 0.018,  -999.00, 9, -999.00, -999.00, 9, -999.00
49NZ20071008, P01, P01_39, 1, 29, X12035, 2, 20071014, 1039, 47.0012, 161.1533, 5432,    369.6, 2,   3.3815, 2,  34.0736, 2,  34.0739, 2,     21.9, 2,     26.0, 2,   113.74, 2,    44.39, 2,     0.02, 2,     3.16, 2,    1.155, 2,    0.558, 2,    0.083, 2, -999.000, 9,   -999.0, 9,   -999.0, 9, -999.0000,   -999.00,   -999.0, 9,   -999.0,  -999.00, 9,   -999.0,   3.3574, 27.1125,   3.3813, 2, 9, 0.37, 0.16, 0.01, 0.018,  -999.00, 9, -999.00, -999.00, 9, -999.00
49NZ20071008, P01, P01_39, 1, 28, X12034, 2, 20071014, 1039, 47.0012, 161.1533, 5432,    470.9, 2,   3.2817, 2,  34.1742, 2,  34.1719, 6,     19.8, 2,     25.9, 2,   122.39, 2,    43.77, 2,     0.02, 2,     3.12, 2,    0.792, 2,    0.377, 2,    0.050, 2, -999.000, 9,   -999.0, 9,   -999.0, 9, -999.0000,   -999.00,   -999.0, 9,   -999.0,  -999.00, 9,   -999.0,   3.2509, 27.2028,   3.2805, 2, 9, 0.39, 0.16, 0.01, 0.018,  -999.00, 9, -999.00, -999.00, 9, -999.00
49NZ20071008, P01, P01_39, 1, 27, X12049, 2, 20071014, 1039, 47.0012, 161.1533, 5432,    572.7, 2,   3.1075, 2,  34.2463, 2,  34.2458, 2,     15.8, 2,     19.4, 2,   131.96, 2,    44.29, 2,     0.02, 2,     3.16, 2,    0.499, 2,    0.238, 2,    0.033, 2, -999.000, 9,   -999.0, 9,   -999.0, 9, -999.0000,   -999.00,   -999.0, 9,   -999.0,  -999.00, 9,   -999.0,   3.0703, 27.2770,   3.1075, 2, 9, 0.41, 0.16, 0.01, 0.018,  -999.00, 9, -999.00, -999.00, 9, -999.00
49NZ20071008, P01, P01_39, 1, 26, X12032, 2, 20071014, 1039, 47.0012, 161.1533, 5432,    669.5, 2,   2.9776, 2,  34.2989, 2,  34.3000, 2,     20.9, 2,     19.1, 2,   138.11, 2,    44.12, 2,     0.01, 2,     3.15, 2,    0.344, 6,    0.163, 6,    0.022, 6, -999.000, 9,   -999.0, 9,   -999.0, 9, -999.0000,   -999.00,   -999.0, 9,   -999.0,  -999.00, 9,   -999.0,   2.9342, 27.3313,   2.9773, 2, 9, 0.42, 0.16, 0.01, 0.018,  -999.00, 9, -999.00, -999.00, 9, -999.00
49NZ20071008, P01, P01_39, 1, 25, X12043, 2, 20071014, 1039, 47.0012, 161.1533, 5432,    770.2, 2,   2.8865, 2,  34.3466, 2,  34.3474, 2,     16.7, 2,     15.0, 2,   144.20, 2,    44.42, 2,     0.01, 2,     3.17, 2,    0.190, 2,    0.087, 2,    0.017, 2, -999.000, 9,   -999.0, 9,   -999.0, 9, -999.0000,   -999.00,   -999.0, 9,   -999.0,  -999.00, 9,   -999.0,   2.8365, 27.3782,   2.8865, 2, 9, 0.44, 0.16, 0.01, 0.018,  -999.00, 9, -999.00, -999.00, 9, -999.00
49NZ20071008, P01, P01_39, 1, 24, X12030, 2, 20071014, 1039, 47.0012, 161.1533, 5432,    872.0, 2,   2.7332, 2,  34.3858, 2,  34.3850, 2,     17.4, 2,     17.5, 2,   149.11, 2,    44.41, 2,     0.01, 2,     3.15, 2,    0.136, 2,    0.063, 2,    0.013, 2, -999.000, 9,   -999.0, 9,   -999.0, 9, -999.0000,   -999.00,   -999.0, 9,   -999.0,  -999.00, 9,   -999.0,   2.6769, 27.4235,   2.7331, 2, 9, 0.45, 0.16, 0.01, 0.018,  -999.00, 9, -999.00, -999.00, 9, -999.00
49NZ20071008, P01, P01_39, 1, 23, X12027, 2, 20071014, 1039, 47.0012, 161.1533, 5432,    971.2, 2,   2.6022, 2,  34.4172, 2,  34.4169, 6,     19.6, 2,     20.6, 2,   153.50, 2,    44.26, 2,     0.01, 2,     3.14, 2,    0.109, 2,    0.047, 2,    0.006, 2, -999.000, 9,   -999.0, 9,   -999.0, 9, -999.0000,   -999.00,   -999.0, 9,   -999.0,  -999.00, 9,   -999.0,   2.5397, 27.4605,   2.6022, 2, 9, 0.46, 0.16, 0.01, 0.018,  -999.00, 9, -999.00, -999.00, 9, -999.00
49NZ20071008, P01, P01_39, 1, 22, X12028, 2, 20071014, 1039, 47.0012, 161.1533, 5432,   1130.8, 2,   2.4158, 2,  34.4667, 2,  34.4661, 2,     24.8, 2,     24.9, 2,   159.75, 2,    43.98, 2,     0.01, 2,     3.12, 2,    0.049, 2,    0.022, 2,    0.006, 2, -999.000, 9,   -999.0, 9,   -999.0, 9, -999.0000,   -999.00,   -999.0, 9,   -999.0,  -999.00, 9,   -999.0,   2.3431, 27.5166,   2.4157, 2, 9, 0.47, 0.15, 0.01, 0.018,  -999.00, 9, -999.00, -999.00, 9, -999.00
49NZ20071008, P01, P01_39, 1, 21, X12009, 2, 20071014, 1039, 47.0012, 161.1533, 5432,   1329.3, 2,   2.2306, 2,  34.5102, 2,  34.5105, 2,     35.7, 2,     35.4, 2,   163.95, 2,    43.31, 2,     0.01, 2,     3.08, 2,    0.029, 2,    0.011, 2,    0.006, 2, -999.000, 9,   -999.0, 9,   -999.0, 9, -999.0000,   -999.00,   -999.0, 9,   -999.0,  -999.00, 9,   -999.0,   2.1449, 27.5677,   2.2305, 2, 9, 0.48, 0.15, 0.01, 0.018,  -999.00, 9, -999.00, -999.00, 9, -999.00
49NZ20071008, P01, P01_39, 1, 20, X12026, 2, 20071014, 1039, 47.0012, 161.1533, 5432,   1531.4, 2,   2.0759, 2,  34.5473, 2,  34.5472, 2,     48.7, 2,     47.7, 2,   166.00, 2,    42.54, 2,     0.01, 2,     3.03, 2,    0.012, 2,    0.005, 2,    0.000, 2, -999.000, 9,   -999.0, 9,   -999.0, 9, -999.0000,   -999.00,   -999.0, 9,   -999.0,  -999.00, 9,   -999.0,   1.9764, 27.6108,   2.0759, 2, 9, 0.48, 0.15, 0.01, 0.018,  -999.00, 9, -999.00, -999.00, 9, -999.00
49NZ20071008, P01, P01_39, 1, 19, X12025, 2, 20071014, 1039, 47.0012, 161.1533, 5432,   1731.1, 2,   1.9414, 2,  34.5782, 2,  34.5784, 2,     59.8, 2,     59.5, 2,   168.34, 2,    41.87, 2,     0.01, 2,     2.98, 2,    0.003, 2,    0.002, 2,    0.000, 2, -999.000, 9,   -999.0, 9,   -999.0, 9, -999.0000,   -999.00,   -999.0, 9,   -999.0,  -999.00, 9,   -999.0,   1.8279, 27.6471,   1.9415, 2, 9, 0.49, 0.15, 0.01, 0.017,  -999.00, 9, -999.00, -999.00, 9, -999.00
49NZ20071008, P01, P01_39, 1, 18, X12024, 2, 20071014, 1039, 47.0012, 161.1533, 5432,   1930.4, 2,   1.8337, 2,  34.6027, 2,  34.6032, 2,     73.0, 2,     73.6, 2,   166.62, 2,    41.10, 2,     0.01, 2,     2.92, 2,    0.000, 2,    0.001, 2,    0.000, 2, -999.000, 9,   -999.0, 9,   -999.0, 9, -999.0000,   -999.00,   -999.0, 9,   -999.0,  -999.00, 9,   -999.0,   1.7056, 27.6761,   1.8338, 2, 9, 0.49, 0.15, 0.01, 0.017,  -999.00, 9, -999.00, -999.00, 9, -999.00
49NZ20071008, P01, P01_39, 1, 17, X12023, 2, 20071014, 1039, 47.0012, 161.1533, 5432,   2131.5, 2,   1.7463, 2,  34.6211, 2,  34.6210, 2,     86.2, 2,     86.1, 2,   165.17, 2,    40.43, 2,     0.01, 2,     2.86, 2,    0.000, 2,    0.001, 2,    0.000, 2, -999.000, 9,   -999.0, 9,   -999.0, 9, -999.0000,   -999.00,   -999.0, 9,   -999.0,  -999.00, 9,   -999.0,   1.6028, 27.6985,   1.7463, 2, 9, 0.48, 0.14, 0.01, 0.017,  -999.00, 9, -999.00, -999.00, 9, -999.00
49NZ20071008, P01, P01_39, 1, 16, X12022, 2, 20071014, 1039, 47.0012, 161.1533, 5432,   2331.6, 2,   1.6692, 2,  34.6364, 2,  34.6367, 6,     98.7, 2,     99.0, 2,   162.77, 2,    39.40, 2,     0.01, 2,     2.78, 2,    0.000, 2,    0.000, 2,    0.000, 2, -999.000, 9,   -999.0, 9,   -999.0, 9, -999.0000,   -999.00,   -999.0, 9,   -999.0,  -999.00, 9,   -999.0,   1.5099, 27.7177,   1.6693, 2, 9, 0.48, 0.14, 0.01, 0.017,  -999.00, 9, -999.00, -999.00, 9, -999.00
49NZ20071008, P01, P01_39, 1, 15, X12021, 2, 20071014, 1039, 47.0012, 161.1533, 5432,   2530.4, 2,   1.6165, 2,  34.6471, 2,  34.6471, 2,    108.6, 2,    109.0, 2,   160.11, 2,    38.76, 2,     0.01, 2,     2.74, 2,    0.000, 2,    0.000, 2,    0.000, 2, -999.000, 9,   -999.0, 9,   -999.0, 9, -999.0000,   -999.00,   -999.0, 9,   -999.0,  -999.00, 9,   -999.0,   1.4407, 27.7312,   1.6167, 2, 9, 0.47, 0.14, 0.01, 0.017,  -999.00, 9, -999.00, -999.00, 9, -999.00
49NZ20071008, P01, P01_39, 1, 14, X12020, 2, 20071014, 1039, 47.0012, 161.1533, 5432,   2729.0, 2,   1.5737, 2,  34.6553, 2,  34.6554, 2,    117.7, 2,    117.1, 2,   158.43, 2,    38.28, 2,     0.01, 2,     2.70, 2, -999.000, 9, -999.000, 9, -999.000, 9, -999.000, 9,   -999.0, 9,   -999.0, 9, -999.0000,   -999.00,   -999.0, 9,   -999.0,  -999.00, 9,   -999.0,   1.3808, 27.7422,   1.5739, 2, 9, 0.47, 0.14, 0.01, 0.017,  -999.00, 9, -999.00, -999.00, 9, -999.00
49NZ20071008, P01, P01_39, 1, 13, X12019, 2, 20071014, 1039, 47.0012, 161.1533, 5432,   2930.1, 2,   1.5353, 2,  34.6625, 2,  34.6629, 2,    124.6, 2,    124.9, 2,   155.90, 2,    37.94, 2,     0.01, 2,     2.66, 2, -999.000, 9, -999.000, 9, -999.000, 9, -999.000, 9,   -999.0, 9,   -999.0, 9, -999.0000,   -999.00,   -999.0, 9,   -999.0,  -999.00, 9,   -999.0,   1.3244, 27.7519,   1.5353, 2, 9, 0.46, 0.14, 0.01, 0.017,  -999.00, 9, -999.00, -999.00, 9, -999.00
49NZ20071008, P01, P01_39, 1, 12, X12040, 2, 20071014, 1039, 47.0012, 161.1533, 5432,   3170.9, 2,   1.5008, 2,  34.6695, 2,  34.6698, 2,    132.2, 2,    132.8, 2,   153.57, 2,    37.40, 2,     0.01, 2,     2.62, 2,    0.000, 2,    0.000, 2,    0.000, 2, -999.000, 9,   -999.0, 9,   -999.0, 9, -999.0000,   -999.00,   -999.0, 9,   -999.0,  -999.00, 9,   -999.0,   1.2676, 27.7616,   1.5008, 2, 9, 0.46, 0.14, 0.01, 0.017,  -999.00, 9, -999.00, -999.00, 9, -999.00
49NZ20071008, P01, P01_39, 1, 11, X12047, 2, 20071014, 1039, 47.0012, 161.1533, 5432,   3420.6, 2,   1.4767, 2,  34.6751, 2,  34.6754, 2,    139.0, 2,    139.4, 2,   151.62, 2,    36.90, 2,     0.01, 2,     2.58, 2, -999.000, 9, -999.000, 9, -999.000, 9, -999.000, 9,   -999.0, 9,   -999.0, 9, -999.0000,   -999.00,   -999.0, 9,   -999.0,  -999.00, 9,   -999.0,   1.2192, 27.7694,   1.4768, 2, 9, 0.45, 0.14, 0.01, 0.016,  -999.00, 9, -999.00, -999.00, 9, -999.00
49NZ20071008, P01, P01_39, 1, 10, X12010, 2, 20071014, 1039, 47.0012, 161.1533, 5432,   3670.3, 2,   1.4632, 2,  34.6793, 2,  34.6793, 2,    144.7, 2,    144.7, 2,   150.29, 2,    36.58, 2,     0.01, 2,     2.56, 2, -999.000, 9, -999.000, 9, -999.000, 9, -999.000, 9,   -999.0, 9,   -999.0, 9, -999.0000,   -999.00,   -999.0, 9,   -999.0,  -999.00, 9,   -999.0,   1.1805, 27.7754,   1.4631, 2, 9, 0.45, 0.13, 0.01, 0.016,  -999.00, 9, -999.00, -999.00, 9, -999.00
49NZ20071008, P01, P01_39, 1, 9, X12015, 2, 20071014, 1039, 47.0012, 161.1533, 5432,   3920.2, 2,   1.4623, 2,  34.6822, 2,  34.6824, 6,    148.6, 2,    148.4, 2,   149.22, 2,    36.25, 2,     0.01, 2,     2.55, 2,    0.001, 2,    0.000, 2,    0.000, 2, -999.000, 9,   -999.0, 9,   -999.0, 9, -999.0000,   -999.00,   -999.0, 9,   -999.0,  -999.00, 9,   -999.0,   1.1531, 27.7796,   1.4624, 2, 9, 0.45, 0.13, 0.01, 0.016,  -999.00, 9, -999.00, -999.00, 9, -999.00
49NZ20071008, P01, P01_39, 1, 8, X12046, 2, 20071014, 1039, 47.0012, 161.1533, 5432,   4169.3, 2,   1.4616, 2,  34.6850, 2,  34.6851, 2,    152.1, 2,    152.2, 2,   148.09, 2,    35.96, 2,     0.01, 2,     2.52, 2, -999.000, 9, -999.000, 9, -999.000, 9, -999.000, 9,   -999.0, 9,   -999.0, 9, -999.0000,   -999.00,   -999.0, 9,   -999.0,  -999.00, 9,   -999.0,   1.1252, 27.7838,   1.4617, 2, 9, 0.44, 0.13, 0.01, 0.016,  -999.00, 9, -999.00, -999.00, 9, -999.00
49NZ20071008, P01, P01_39, 1, 7, X12044, 2, 20071014, 1039, 47.0012, 161.1533, 5432,   4421.4, 2,   1.4700, 2,  34.6873, 2,  34.6874, 2,    155.0, 2,    154.9, 2,   147.23, 2,    35.88, 2,     0.01, 2,     2.50, 2, -999.000, 9, -999.000, 9, -999.000, 9, -999.000, 9,   -999.0, 9,   -999.0, 9, -999.0000,   -999.00,   -999.0, 9,   -999.0,  -999.00, 9,   -999.0,   1.1050, 27.7870,   1.4701, 2, 9, 0.44, 0.13, 0.01, 0.016,  -999.00, 9, -999.00, -999.00, 9, -999.00
49NZ20071008, P01, P01_39, 1, 6, X12048, 2, 20071014, 1039, 47.0012, 161.1533, 5432,   4670.8, 2,   1.4851, 2,  34.6889, 2,  34.6887, 2,    156.9, 2,    156.7, 2,   147.30, 2,    35.80, 2,     0.01, 2,     2.50, 2,    0.004, 2,    0.001, 2,    0.000, 2, -999.000, 9,   -999.0, 9,   -999.0, 9, -999.0000,   -999.00,   -999.0, 9,   -999.0,  -999.00, 9,   -999.0,   1.0907, 27.7893,   1.4851, 2, 9, 0.44, 0.13, 0.01, 0.016,  -999.00, 9, -999.00, -999.00, 9, -999.00
49NZ20071008, P01, P01_39, 1, 5, X12014, 2, 20071014, 1039, 47.0012, 161.1533, 5432,   4920.9, 2,   1.5073, 2,  34.6897, 2,  34.6898, 2,    158.1, 2,    157.8, 2,   146.89, 2,    35.74, 2,     0.01, 2,     2.49, 2, -999.000, 9, -999.000, 9, -999.000, 9, -999.000, 9,   -999.0, 9,   -999.0, 9, -999.0000,   -999.00,   -999.0, 9,   -999.0,  -999.00, 9,   -999.0,   1.0824, 27.7905,   1.5073, 2, 9, 0.44, 0.13, 0.01, 0.016,  -999.00, 9, -999.00, -999.00, 9, -999.00
49NZ20071008, P01, P01_39, 1, 4, X12006, 2, 20071014, 1039, 47.0012, 161.1533, 5432,   5172.2, 2,   1.5339, 2,  34.6903, 2,  34.6903, 2,    158.6, 2,    158.3, 2,   147.67, 2,    35.51, 2,     0.01, 2,     2.49, 2,    0.007, 2,    0.004, 2,    0.006, 2, -999.000, 9,   -999.0, 9,   -999.0, 9, -999.0000,   -999.00,   -999.0, 9,   -999.0,  -999.00, 9,   -999.0,   1.0774, 27.7913,   1.5338, 2, 9, 0.44, 0.13, 0.01, 0.016,  -999.00, 9, -999.00, -999.00, 9, -999.00
49NZ20071008, P01, P01_39, 1, 3, X12013, 9, 20071014, 1039, 47.0012, 161.1533, 5432,     10.5, 2,   9.2943, 2,  32.6408, 2, -999.0000, 9,    286.7, 2,   -999.0, 9,  -999.00, 9,  -999.00, 9,  -999.00, 9,  -999.00, 9, -999.000, 9, -999.000, 9, -999.000, 9, -999.000, 9,   -999.0, 9,   -999.0, 9, -999.0000,   -999.00,   -999.0, 9,   -999.0,  -999.00, 9,   -999.0,   9.2932, 25.2251,   9.2936, 2, 9, -999.00, -999.00, -999.00, -999.000,  -999.00, 9, -999.00, -999.00, 9, -999.00
49NZ20071008, P01, P01_39, 1, 2, X12002, 9, 20071014, 1039, 47.0012, 161.1533, 5432,   1532.2, 2,   2.0763, 2,  34.5470, 2, -999.0000, 9,     48.8, 2,   -999.0, 9,  -999.00, 9,  -999.00, 9,  -999.00, 9,  -999.00, 9, -999.000, 9, -999.000, 9, -999.000, 9, -999.000, 9,   -999.0, 9,   -999.0, 9, -999.0000,   -999.00,   -999.0, 9,   -999.0,  -999.00, 9,   -999.0,   1.9767, 27.6105,   2.0762, 2, 9, -999.00, -999.00, -999.00, -999.000,  -999.00, 9, -999.00, -999.00, 9, -999.00
49NZ20071008, P01, P01_39, 1, 1, X12001, 2, 20071014, 1039, 47.0012, 161.1533, 5432,   5435.1, 2,   1.5609, 2,  34.6910, 2,  34.6912, 6,    159.4, 2,    159.2, 2,   147.12, 2,    35.59, 2,     0.01, 2,     2.48, 2,    0.000, 2,    0.000, 2,    0.000, 2, -999.000, 9,   -999.0, 9,   -999.0, 9, -999.0000,   -999.00,   -999.0, 9,   -999.0,  -999.00, 9,   -999.0,   1.0704, 27.7923,   1.5607, 2, 9, 0.44, 0.13, 0.01, 0.016,  -999.00, 9, -999.00, -999.00, 9, -999.00