BOTTLE,20221005CCHSIOAMB
EXPOCODE,SECT_ID,STNNBR,CASTNO,SAMPNO,BTLNBR,BTLNBR_FLAG_W,DATE,TIME,LATITUDE,LONGITUDE,DEPTH,CTDPRS,CTDPRS_FLAG_W,CTDTMP,CTDTMP_FLAG_W,CTDSAL,CTDSAL_FLAG_W,SALNTY,SALNTY_FLAG_W,CTDOXY,CTDOXY_FLAG_W,OXYGEN,OXYGEN_FLAG_W,SILCAT,SILCAT_FLAG_W,NITRAT,NITRAT_FLAG_W,NITRIT,NITRIT_FLAG_W,PHSPHT,PHSPHT_FLAG_W,CFC-11,CFC-11_FLAG_W,CFC-12,CFC-12_FLAG_W,CFC113,CFC113_FLAG_W,CCL4,CCL4_FLAG_W,TCARBN,TCARBN_FLAG_W,ALKALI,ALKALI_FLAG_W,PH_TOT,PH_TMP,DELC14,DELC14_FLAG_W,C14ERR,DELC13,DELC13_FLAG_W,C13ERR,THETA,SIG0,SBE35,SBE35_FLAG_W,PH_TOT_FLAG_W,SILUNC,NRAUNC,NRIUNC,PHPUNC,CS-137,CS-137_FLAG_W,CS137ER,PLUTO,PLUTO_FLAG_W,PLUTOER
,,,,,,,,,,,METERS,DBAR,,ITS-90,,PSS-78,,PSS-78,,UMOL/KG,,UMOL/KG,,UMOL/KG,,UMOL/KG,,UMOL/KG,,UMOL/KG,,PMOL/KG,,PMOL/KG,,PMOL/KG,,PMOL/KG,,UMOL/KG,,UMOL/KG,,,DEG C,/MILLE,,/MILLE,/MILLE,,/MILLE,DEG C,KG/M^3,ITS-90,,,UMOL/KG,UMOL/KG,UMOL/KG,UMOL/KG,DM/.1MG,,BQ/M^3,MBQ/M^3,,MBQ/M^3
49NZ20071008, P14N, 15, 1, 36, X12042, 2, 20071024, 0254, 52.2613, -178.9923, 3308,      9.9, 2,   6.3252, 2,  33.0335, 2,  33.0338, 2,    295.8, 2,    295.8, 2,    33.63, 2,    20.32, 2,     0.22, 2,     1.72, 2,    4.349, 2,    2.330, 2,    0.392, 2, -999.000, 9,   2098.1, 2,   2235.3, 2,    7.7543,     25.00,   -999.0, 9,   -999.0,  -999.00, 9,   -999.0,   6.3244, 25.9583,   6.3252, 2, 6, 0.19, 0.09, 0.01, 0.014,  -999.00, 9, -999.00, -999.00, 9, -999.00
49NZ20071008, P14N, 15, 1, 35, X12041, 2, 20071024, 0254, 52.2613, -178.9923, 3308,     50.6, 2,   6.3167, 2,  33.0362, 2,  33.0377, 2,    292.8, 2,    294.5, 2,    33.94, 2,    20.48, 2,     0.22, 2,     1.74, 2,    4.354, 2,    2.321, 2,    0.395, 2, -999.000, 9,   2098.7, 6,   2241.1, 2,    7.7498,     25.00,   -999.0, 9,   -999.0,  -999.00, 9,   -999.0,   6.3124, 25.9619,   6.3170, 2, 2, 0.19, 0.09, 0.01, 0.014,  -999.00, 9, -999.00, -999.00, 9, -999.00
49NZ20071008, P14N, 15, 1, 34, X12016, 2, 20071024, 0254, 52.2613, -178.9923, 3308,    100.5, 2,   4.1390, 2,  33.2875, 2,  33.2881, 2,    225.0, 2,    233.5, 2,    57.17, 2,    29.94, 2,     0.02, 2,     2.28, 2,    4.241, 2,    2.200, 2,    0.350, 2, -999.000, 9,   2177.4, 2,   2253.9, 6,    7.5735,     25.00,   -999.0, 9,   -999.0,  -999.00, 9,   -999.0,   4.1322, 26.4106,   4.1389, 2, 2, 0.24, 0.12, 0.01, 0.016,  -999.00, 9, -999.00, -999.00, 9, -999.00
49NZ20071008, P14N, 15, 1, 33, X12033, 2, 20071024, 0254, 52.2613, -178.9923, 3308,    152.3, 2,   3.9874, 2,  33.3586, 2,  33.3591, 2,    223.4, 2,    220.6, 2,    62.13, 2,    31.30, 2,     0.02, 2,     2.36, 2,    4.045, 6,    2.092, 6,    0.341, 2, -999.000, 9,   2191.5, 2,   2260.8, 2,    7.5476,     25.00,   -999.0, 9,   -999.0,  -999.00, 9,   -999.0,   3.9772, 26.4828,   3.9873, 2, 6, 0.26, 0.12, 0.01, 0.016,  -999.00, 9, -999.00, -999.00, 9, -999.00
49NZ20071008, P14N, 15, 1, 32, X12038, 2, 20071024, 0254, 52.2613, -178.9923, 3308,    198.2, 2,   4.0184, 2,  33.4203, 2,  33.4207, 2,    198.3, 2,    199.0, 2,    66.24, 2,    32.61, 2,     0.02, 2,     2.44, 2,    3.774, 2,    1.940, 2,    0.296, 2, -999.000, 9,   2206.6, 2,   2264.4, 2,    7.5166,     25.00,   -999.0, 9,   -999.0,  -999.00, 9,   -999.0,   4.0050, 26.5291,   4.0183, 2, 2, 0.26, 0.12, 0.01, 0.016,  -999.00, 9, -999.00, -999.00, 9, -999.00
49NZ20071008, P14N, 15, 1, 31, X12003, 2, 20071024, 0254, 52.2613, -178.9923, 3308,    250.0, 2,   4.1751, 2,  33.5439, 2,  33.5421, 6,    164.4, 2,    160.3, 2,    73.00, 2,    34.47, 2,     0.02, 2,     2.55, 2,    3.191, 2,    1.626, 2,    0.241, 2, -999.000, 9,   2230.0, 2,   2275.8, 2,    7.4751,     25.00,   -999.0, 9,   -999.0,  -999.00, 9,   -999.0,   4.1577, 26.6118,   4.1756, 2, 2, 0.28, 0.13, 0.01, 0.016,  -999.00, 9, -999.00, -999.00, 9, -999.00
49NZ20071008, P14N, 15, 1, 30, X12008, 2, 20071024, 0254, 52.2613, -178.9923, 3308,    280.7, 2,   3.8725, 2,  33.5866, 2,  33.5891, 2,    145.2, 2,    143.4, 2,    77.47, 2,    36.81, 2,     0.02, 2,     2.69, 2,    3.134, 2,    1.589, 2,    0.238, 2, -999.000, 9,   2248.7, 2,   2278.7, 2,    7.4310,     25.00,   -999.0, 9,   -999.0,  -999.00, 9,   -999.0,   3.8535, 26.6765,   3.8728, 2, 2, 0.29, 0.14, 0.01, 0.017,  -999.00, 9, -999.00, -999.00, 9, -999.00
49NZ20071008, P14N, 15, 1, 29, X12035, 2, 20071024, 0254, 52.2613, -178.9923, 3308,    369.9, 2,   3.8985, 2,  33.7841, 2,  33.7881, 2,     93.7, 2,     83.7, 2,    88.98, 2,    40.62, 2,     0.01, 2,     2.92, 2,    2.368, 2,    1.171, 2,    0.145, 2, -999.000, 9,   2292.1, 2,   2294.7, 2,    7.3512,     25.00,   -999.0, 9,   -999.0,  -999.00, 9,   -999.0,   3.8730, 26.8318,   3.8982, 2, 2, 0.31, 0.15, 0.01, 0.017,  -999.00, 9, -999.00, -999.00, 9, -999.00
49NZ20071008, P14N, 15, 1, 28, X12034, 2, 20071024, 0254, 52.2613, -178.9923, 3308,    469.6, 2,   3.7196, 2,  33.9620, 2,  33.9623, 6,     53.9, 2,     53.9, 2,   103.19, 2,    42.30, 2,     0.01, 2,     3.03, 2,    1.615, 2,    0.793, 2,    0.113, 2, -999.000, 9,   2320.8, 2,   2316.3, 2,    7.3277,     25.00,   -999.0, 9,   -999.0,  -999.00, 9,   -999.0,   3.6874, 26.9918,   3.7195, 2, 2, 0.35, 0.15, 0.01, 0.018,  -999.00, 9, -999.00, -999.00, 9, -999.00
49NZ20071008, P14N, 15, 1, 27, X12049, 2, 20071024, 0254, 52.2613, -178.9923, 3308,    570.8, 2,   3.5962, 2,  34.0458, 2,  34.0456, 2,     43.6, 2,     43.1, 2,   110.88, 2,    42.91, 2,     0.01, 2,     3.06, 2,    1.270, 2,    0.622, 2,    0.092, 2, -999.000, 9,   2333.9, 2,   2328.1, 2,    7.3224,     25.00,   -999.0, 9,   -999.0,  -999.00, 9,   -999.0,   3.5571, 27.0713,   3.5960, 2, 2, 0.36, 0.15, 0.01, 0.018,  -999.00, 9, -999.00, -999.00, 9, -999.00
49NZ20071008, P14N, 15, 1, 26, X12032, 2, 20071024, 0254, 52.2613, -178.9923, 3308,    670.0, 2,   3.4743, 2,  34.1259, 2,  34.1267, 2,     44.2, 2,     31.2, 2,   118.58, 2,    43.62, 2,     0.01, 2,     3.11, 2,    0.939, 6,    0.458, 6,    0.076, 6, -999.000, 9,   2347.3, 6,   2337.9, 2,    7.3127,     25.00,   -999.0, 9,   -999.0,  -999.00, 9,   -999.0,   3.4285, 27.1474,   3.4741, 2, 2, 0.38, 0.15, 0.01, 0.018,  -999.00, 9, -999.00, -999.00, 9, -999.00
49NZ20071008, P14N, 15, 1, 25, X12043, 2, 20071024, 0254, 52.2613, -178.9923, 3308,    771.8, 2,   3.2825, 2,  34.2009, 2,  34.2005, 2,     31.9, 2,     28.2, 2,   127.54, 2,    43.76, 2,     0.01, 2,     3.13, 2,    0.691, 2,    0.343, 2,    0.047, 2, -999.000, 9,   2357.2, 2,   2349.9, 6,    7.3190,     25.00,   -999.0, 9,   -999.0,  -999.00, 9,   -999.0,   3.2302, 27.2260,   3.2827, 2, 2, 0.40, 0.16, 0.01, 0.018,  -999.00, 9, -999.00, -999.00, 9, -999.00
49NZ20071008, P14N, 15, 1, 24, X12030, 2, 20071024, 0254, 52.2613, -178.9923, 3308,    872.1, 2,   3.1026, 2,  34.2697, 2,  34.2690, 2,     18.8, 2,     23.8, 2,   135.36, 2,    43.89, 2,     0.01, 2,     3.13, 2,    0.470, 2,    0.225, 2,    0.024, 2, -999.000, 9,   2366.6, 2,   2360.8, 2,    7.3213,     25.00,   -999.0, 9,   -999.0,  -999.00, 9,   -999.0,   3.0439, 27.2981,   3.1025, 2, 6, 0.42, 0.16, 0.01, 0.018,  -999.00, 9, -999.00, -999.00, 9, -999.00
49NZ20071008, P14N, 15, 1, 23, X12027, 2, 20071024, 0254, 52.2613, -178.9923, 3308,    970.8, 2,   2.9466, 2,  34.3272, 2,  34.3269, 6,     22.5, 2,     18.8, 2,   143.02, 2,    44.17, 2,     0.01, 2,     3.15, 2,    0.273, 2,    0.129, 2,    0.017, 2, -999.000, 9,   2376.5, 2,   2370.3, 2,    7.3201,     25.00,   -999.0, 9,   -999.0,  -999.00, 9,   -999.0,   2.8816, 27.3587,   2.9464, 2, 2, 0.43, 0.16, 0.01, 0.018,  -999.00, 9, -999.00, -999.00, 9, -999.00
49NZ20071008, P14N, 15, 1, 22, X12028, 2, 20071024, 0254, 52.2613, -178.9923, 3308,   1131.0, 2,   2.7521, 2,  34.3789, 2,  34.3791, 2,     29.8, 2,     20.3, 2,   151.49, 2,    44.13, 2,     0.01, 2,     3.16, 2,    0.191, 2,    0.095, 2,    0.013, 2, -999.000, 9,   2383.3, 2,   2379.5, 2,    7.3282,     25.00,   -999.0, 9,   -999.0,  -999.00, 9,   -999.0,   2.6766, 27.4181,   2.7521, 2, 2, 0.45, 0.16, 0.01, 0.018,  -999.00, 9, -999.00, -999.00, 9, -999.00
49NZ20071008, P14N, 15, 1, 21, X12009, 2, 20071024, 0254, 52.2613, -178.9923, 3308,   1330.8, 2,   2.4980, 2,  34.4459, 2,  34.4456, 2,     18.2, 2,     18.5, 2,   162.83, 2,    44.18, 2,     0.01, 2,     3.17, 2,    0.067, 2,    0.028, 2,    0.015, 2, -999.000, 9,   2393.2, 2,   2390.0, 2,    7.3324,     25.00,   -999.0, 9,   -999.0,  -999.00, 9,   -999.0,   2.4095, 27.4944,   2.4979, 2, 2, 0.48, 0.16, 0.01, 0.018,  -999.00, 9, -999.00, -999.00, 9, -999.00
49NZ20071008, P14N, 15, 1, 20, X12026, 2, 20071024, 0254, 52.2613, -178.9923, 3308,   1531.5, 2,   2.3483, 2,  34.4815, 2,  34.4815, 2,     23.2, 2,     24.0, 2,   170.25, 2,    43.79, 2,     0.01, 2,     3.15, 2,    0.042, 2,    0.021, 2,    0.000, 2, -999.000, 9,   2394.3, 2,   2397.1, 2,    7.3464,     25.00,   -999.0, 9,   -999.0,  -999.00, 9,   -999.0,   2.2457, 27.5365,   2.3483, 2, 2, 0.49, 0.16, 0.01, 0.018,  -999.00, 9, -999.00, -999.00, 9, -999.00
49NZ20071008, P14N, 15, 1, 19, X12025, 2, 20071024, 0254, 52.2613, -178.9923, 3308,   1730.4, 2,   2.1261, 2,  34.5282, 2,  34.5285, 6,     39.4, 2,     40.6, 2,   182.31, 2,    42.43, 2,     0.01, 2,     3.11, 2,    0.054, 2,    0.032, 2,    0.000, 2, -999.000, 9,   2390.5, 3,   2406.3, 2,    7.3789,     25.00,   -999.0, 9,   -999.0,  -999.00, 9,   -999.0,   2.0103, 27.5928,   2.1261, 2, 2, 0.52, 0.15, 0.01, 0.018,  -999.00, 9, -999.00, -999.00, 9, -999.00
49NZ20071008, P14N, 15, 1, 18, X12024, 2, 20071024, 0254, 52.2613, -178.9923, 3308,   1930.4, 2,   1.9889, 2,  34.5620, 2,  34.5618, 2,     46.6, 2,     46.1, 2,   189.60, 2,    41.95, 2,     0.01, 2,     3.08, 2,    0.016, 2,    0.006, 2,    0.000, 2, -999.000, 9,   2393.5, 2,   2412.2, 2,    7.3926,     25.00,   -999.0, 9,   -999.0,  -999.00, 9,   -999.0,   1.8587, 27.6318,   1.9890, 2, 2, 0.54, 0.15, 0.01, 0.018,  -999.00, 9, -999.00, -999.00, 9, -999.00
49NZ20071008, P14N, 15, 1, 17, X12023, 2, 20071024, 0254, 52.2613, -178.9923, 3308,   2131.1, 2,   1.8599, 2,  34.5915, 2,  34.5916, 2,     55.3, 2,     55.4, 2,   196.94, 2,    41.20, 2,     0.01, 2,     3.06, 2,    0.014, 2,    0.006, 2,    0.000, 2, -999.000, 9,   2391.2, 2,   2417.8, 2,    7.4125,     25.00,   -999.0, 9,   -999.0,  -999.00, 9,   -999.0,   1.7147, 27.6664,   1.8599, 2, 2, 0.55, 0.15, 0.01, 0.018,  -999.00, 9, -999.00, -999.00, 9, -999.00
49NZ20071008, P14N, 15, 1, 16, X12022, 2, 20071024, 0254, 52.2613, -178.9923, 3308,   2330.1, 2,   1.7700, 2,  34.6125, 2,  34.6127, 2,     63.4, 2,     63.8, 2,   202.17, 2,    40.44, 2,     0.01, 2,     3.03, 2,    0.000, 2,    0.000, 2,    0.000, 2, -999.000, 9,   2389.0, 6,   2422.1, 2,    7.4298,     25.00,   -999.0, 9,   -999.0,  -999.00, 9,   -999.0,   1.6092, 27.6912,   1.7699, 2, 2, 0.56, 0.15, 0.01, 0.018,  -999.00, 9, -999.00, -999.00, 9, -999.00
49NZ20071008, P14N, 15, 1, 15, X12021, 2, 20071024, 0254, 52.2613, -178.9923, 3308,   2529.8, 2,   1.6997, 2,  34.6291, 2,  34.6291, 6,     71.8, 2,     72.0, 2,   206.47, 2,    39.89, 2,     0.01, 2,     3.00, 2,    0.000, 2,    0.000, 2,    0.000, 2, -999.000, 9,   2385.4, 2,   2425.4, 6,    7.4478,     25.00,   -999.0, 9,   -999.0,  -999.00, 9,   -999.0,   1.5225, 27.7109,   1.6996, 2, 2, 0.57, 0.14, 0.01, 0.017,  -999.00, 9, -999.00, -999.00, 9, -999.00
49NZ20071008, P14N, 15, 1, 14, X12020, 2, 20071024, 0254, 52.2613, -178.9923, 3308,   2730.5, 2,   1.6539, 2,  34.6408, 2,  34.6413, 2,     79.2, 2,     78.9, 2,   209.29, 2,    39.38, 2,     0.01, 2,     2.99, 2,    0.001, 2,    0.000, 2,    0.000, 2, -999.000, 9,   2383.1, 2,   2426.2, 2,    7.4608,     25.00,   -999.0, 9,   -999.0,  -999.00, 9,   -999.0,   1.4593, 27.7249,   1.6538, 2, 6, 0.58, 0.14, 0.01, 0.017,  -999.00, 9, -999.00, -999.00, 9, -999.00
49NZ20071008, P14N, 15, 1, 13, X12019, 2, 20071024, 0254, 52.2613, -178.9923, 3308,   2930.1, 2,   1.6196, 2,  34.6501, 2,  34.6506, 2,     85.3, 2,     85.2, 2,   211.61, 2,    38.84, 2,     0.00, 2,     2.96, 2,    0.004, 2,    0.001, 2,    0.000, 2, -999.000, 9,   2380.7, 2,   2428.9, 2,    7.4730,     25.00,   -999.0, 9,   -999.0,  -999.00, 9,   -999.0,   1.4070, 27.7361,   1.6195, 2, 2, 0.58, 0.14, 0.01, 0.017,  -999.00, 9, -999.00, -999.00, 9, -999.00
49NZ20071008, P14N, 15, 1, 12, X12040, 2, 20071024, 0254, 52.2613, -178.9923, 3308,   3169.9, 2,   1.5969, 2,  34.6581, 2,  34.6586, 2,     90.9, 2,     90.9, 2,   214.55, 2,    38.38, 2,     0.01, 2,     2.92, 2,    0.005, 2,    0.000, 2,    0.000, 2, -999.000, 9,   2379.5, 2,   2431.9, 2,    7.4853,     25.00,   -999.0, 9,   -999.0,  -999.00, 9,   -999.0,   1.3616, 27.7457,   1.5968, 2, 2, 0.59, 0.14, 0.01, 0.017,  -999.00, 9, -999.00, -999.00, 9, -999.00
49NZ20071008, P14N, 15, 1, 11, X12047, 9, 20071024, 0254, 52.2613, -178.9923, 3308,     10.4, 2,   6.3248, 2,  33.0335, 2, -999.0000, 9,    295.8, 2,   -999.0, 9,  -999.00, 9,  -999.00, 9,  -999.00, 9,  -999.00, 9, -999.000, 9, -999.000, 9, -999.000, 9, -999.000, 9,   -999.0, 9,   -999.0, 9, -999.0000,   -999.00,   -999.0, 9,   -999.0,  -999.00, 9,   -999.0,   6.3239, 25.9583,   6.3248, 2, 9, -999.00, -999.00, -999.00, -999.000,  -999.00, 9, -999.00, -999.00, 9, -999.00
49NZ20071008, P14N, 15, 1, 10, X12010, 9, 20071024, 0254, 52.2613, -178.9923, 3308,     50.0, 2,   6.3147, 2,  33.0366, 2, -999.0000, 9,    292.8, 2,   -999.0, 9,  -999.00, 9,  -999.00, 9,  -999.00, 9,  -999.00, 9, -999.000, 9, -999.000, 9, -999.000, 9, -999.000, 9,   -999.0, 9,   -999.0, 9, -999.0000,   -999.00,   -999.0, 9,   -999.0,  -999.00, 9,   -999.0,   6.3105, 25.9625,   6.3140, 2, 9, -999.00, -999.00, -999.00, -999.000,  -999.00, 9, -999.00, -999.00, 9, -999.00
49NZ20071008, P14N, 15, 1, 9, X12015, 9, 20071024, 0254, 52.2613, -178.9923, 3308,    100.5, 2,   4.1406, 2,  33.2869, 2, -999.0000, 9,    225.0, 2,   -999.0, 9,  -999.00, 9,  -999.00, 9,  -999.00, 9,  -999.00, 9, -999.000, 9, -999.000, 9, -999.000, 9, -999.000, 9,   -999.0, 9,   -999.0, 9, -999.0000,   -999.00,   -999.0, 9,   -999.0,  -999.00, 9,   -999.0,   4.1338, 26.4100,   4.1412, 2, 9, -999.00, -999.00, -999.00, -999.000,  -999.00, 9, -999.00, -999.00, 9, -999.00
49NZ20071008, P14N, 15, 1, 8, X12046, 9, 20071024, 0254, 52.2613, -178.9923, 3308,    152.7, 2,   3.9868, 2,  33.3586, 2, -999.0000, 9,    223.2, 2,   -999.0, 9,  -999.00, 9,  -999.00, 9,  -999.00, 9,  -999.00, 9, -999.000, 9, -999.000, 9, -999.000, 9, -999.000, 9,   -999.0, 9,   -999.0, 9, -999.0000,   -999.00,   -999.0, 9,   -999.0,  -999.00, 9,   -999.0,   3.9766, 26.4829,   3.9866, 2, 9, -999.00, -999.00, -999.00, -999.000,  -999.00, 9, -999.00, -999.00, 9, -999.00
49NZ20071008, P14N, 15, 1, 7, X12044, 9, 20071024, 0254, 52.2613, -178.9923, 3308,    199.5, 2,   4.0188, 2,  33.4206, 2, -999.0000, 9,    198.5, 2,   -999.0, 9,  -999.00, 9,  -999.00, 9,  -999.00, 9,  -999.00, 9, -999.000, 9, -999.000, 9, -999.000, 9, -999.000, 9,   -999.0, 9,   -999.0, 9, -999.0000,   -999.00,   -999.0, 9,   -999.0,  -999.00, 9,   -999.0,   4.0053, 26.5293,   4.0187, 2, 9, -999.00, -999.00, -999.00, -999.000,  -999.00, 9, -999.00, -999.00, 9, -999.00
49NZ20071008, P14N, 15, 1, 6, X12048, 9, 20071024, 0254, 52.2613, -178.9923, 3308,    248.7, 2,   4.1771, 2,  33.5427, 2, -999.0000, 9,    165.0, 2,   -999.0, 9,  -999.00, 9,  -999.00, 9,  -999.00, 9,  -999.00, 9, -999.000, 9, -999.000, 9, -999.000, 9, -999.000, 9,   -999.0, 9,   -999.0, 9, -999.0000,   -999.00,   -999.0, 9,   -999.0,  -999.00, 9,   -999.0,   4.1598, 26.6106,   4.1772, 2, 9, -999.00, -999.00, -999.00, -999.000,  -999.00, 9, -999.00, -999.00, 9, -999.00
49NZ20071008, P14N, 15, 1, 5, X12014, 9, 20071024, 0254, 52.2613, -178.9923, 3308,    280.0, 2,   3.8762, 2,  33.5861, 2, -999.0000, 9,    145.5, 2,   -999.0, 9,  -999.00, 9,  -999.00, 9,  -999.00, 9,  -999.00, 9, -999.000, 9, -999.000, 9, -999.000, 9, -999.000, 9,   -999.0, 9,   -999.0, 9, -999.0000,   -999.00,   -999.0, 9,   -999.0,  -999.00, 9,   -999.0,   3.8573, 26.6758,   3.8752, 2, 9, -999.00, -999.00, -999.00, -999.000,  -999.00, 9, -999.00, -999.00, 9, -999.00
49NZ20071008, P14N, 15, 1, 4, X12006, 9, 20071024, 0254, 52.2613, -178.9923, 3308,    370.1, 2,   3.8981, 2,  33.7837, 2, -999.0000, 9,     93.7, 2,   -999.0, 9,  -999.00, 9,  -999.00, 9,  -999.00, 9,  -999.00, 9, -999.000, 9, -999.000, 9, -999.000, 9, -999.000, 9,   -999.0, 9,   -999.0, 9, -999.0000,   -999.00,   -999.0, 9,   -999.0,  -999.00, 9,   -999.0,   3.8726, 26.8315,   3.8976, 2, 9, -999.00, -999.00, -999.00, -999.000,  -999.00, 9, -999.00, -999.00, 9, -999.00
49NZ20071008, P14N, 15, 1, 3, X12013, 9, 20071024, 0254, 52.2613, -178.9923, 3308,    469.6, 2,   3.7197, 2,  33.9620, 2, -999.0000, 9,     53.9, 2,   -999.0, 9,  -999.00, 9,  -999.00, 9,  -999.00, 9,  -999.00, 9, -999.000, 9, -999.000, 9, -999.000, 9, -999.000, 9,   -999.0, 9,   -999.0, 9, -999.0000,   -999.00,   -999.0, 9,   -999.0,  -999.00, 9,   -999.0,   3.6875, 26.9917,   3.7195, 2, 9, -999.00, -999.00, -999.00, -999.000,  -999.00, 9, -999.00, -999.00, 9, -999.00
49NZ20071008, P14N, 15, 1, 2, X12002, 9, 20071024, 0254, 52.2613, -178.9923, 3308,    571.2, 2,   3.5963, 2,  34.0462, 2, -999.0000, 9,     43.6, 2,   -999.0, 9,  -999.00, 9,  -999.00, 9,  -999.00, 9,  -999.00, 9, -999.000, 9, -999.000, 9, -999.000, 9, -999.000, 9,   -999.0, 9,   -999.0, 9, -999.0000,   -999.00,   -999.0, 9,   -999.0,  -999.00, 9,   -999.0,   3.5572, 27.0716,   3.5962, 2, 9, -999.00, -999.00, -999.00, -999.000,  -999.00, 9, -999.00, -999.00, 9, -999.00
49NZ20071008, P14N, 15, 1, 1, X12001, 2, 20071024, 0254, 52.2613, -178.9923, 3308,   3347.4, 2,   1.5927, 2,  34.6621, 2,  34.6625, 6,     92.2, 2,     92.2, 2,   221.72, 2,    38.21, 2,     0.01, 2,     2.94, 2,    0.008, 2,    0.001, 2,    0.000, 2, -999.000, 9,   2381.3, 2,   2434.2, 2,    7.4893,     25.00,   -999.0, 9,   -999.0,  -999.00, 9,   -999.0,   1.3398, 27.7505,   1.5925, 2, 2, 0.61, 0.14, 0.01, 0.017,  -999.00, 9, -999.00, -999.00, 9, -999.00