BOTTLE,20221005CCHSIOAMB
EXPOCODE,SECT_ID,STNNBR,CASTNO,SAMPNO,BTLNBR,BTLNBR_FLAG_W,DATE,TIME,LATITUDE,LONGITUDE,DEPTH,CTDPRS,CTDPRS_FLAG_W,CTDTMP,CTDTMP_FLAG_W,CTDSAL,CTDSAL_FLAG_W,SALNTY,SALNTY_FLAG_W,CTDOXY,CTDOXY_FLAG_W,OXYGEN,OXYGEN_FLAG_W,SILCAT,SILCAT_FLAG_W,NITRAT,NITRAT_FLAG_W,NITRIT,NITRIT_FLAG_W,PHSPHT,PHSPHT_FLAG_W,CFC-11,CFC-11_FLAG_W,CFC-12,CFC-12_FLAG_W,CFC113,CFC113_FLAG_W,CCL4,CCL4_FLAG_W,TCARBN,TCARBN_FLAG_W,ALKALI,ALKALI_FLAG_W,PH_TOT,PH_TMP,DELC14,DELC14_FLAG_W,C14ERR,DELC13,DELC13_FLAG_W,C13ERR,THETA,SIG0,SBE35,SBE35_FLAG_W,PH_TOT_FLAG_W,SILUNC,NRAUNC,NRIUNC,PHPUNC,CS-137,CS-137_FLAG_W,CS137ER,PLUTO,PLUTO_FLAG_W,PLUTOER
,,,,,,,,,,,METERS,DBAR,,ITS-90,,PSS-78,,PSS-78,,UMOL/KG,,UMOL/KG,,UMOL/KG,,UMOL/KG,,UMOL/KG,,UMOL/KG,,PMOL/KG,,PMOL/KG,,PMOL/KG,,PMOL/KG,,UMOL/KG,,UMOL/KG,,,DEG C,/MILLE,,/MILLE,/MILLE,,/MILLE,DEG C,KG/M^3,ITS-90,,,UMOL/KG,UMOL/KG,UMOL/KG,UMOL/KG,DM/.1MG,,BQ/M^3,MBQ/M^3,,MBQ/M^3
49NZ20071008, P14N, 8, 1, 36, X12042, 2, 20071025, 1342, 55.4982, -176.8382, 3753,      9.5, 2,   5.7964, 2,  32.8949, 2,  32.8959, 2,    300.5, 2,    301.5, 2,    31.21, 2,    17.39, 2,     0.23, 2,     1.58, 2, -999.000, 9, -999.000, 9, -999.000, 9, -999.000, 9,   -999.0, 9,   -999.0, 9, -999.0000,   -999.00,   -999.0, 9,   -999.0,  -999.00, 9,   -999.0,   5.7956, 25.9143,   5.7961, 2, 9, 0.19, 0.08, 0.01, 0.014,  -999.00, 9, -999.00, -999.00, 9, -999.00
49NZ20071008, P14N, 8, 1, 35, X12041, 2, 20071025, 1342, 55.4982, -176.8382, 3753,     49.9, 2,   5.7764, 2,  32.9028, 2,  32.9046, 2,    298.4, 2,    300.4, 2,    31.26, 2,    17.57, 2,     0.22, 2,     1.60, 2, -999.000, 9, -999.000, 9, -999.000, 9, -999.000, 9,   -999.0, 9,   -999.0, 9, -999.0000,   -999.00,   -999.0, 9,   -999.0,  -999.00, 9,   -999.0,   5.7724, 25.9233,   5.7751, 2, 9, 0.19, 0.08, 0.01, 0.014,  -999.00, 9, -999.00, -999.00, 9, -999.00
49NZ20071008, P14N, 8, 1, 34, X12016, 2, 20071025, 1342, 55.4982, -176.8382, 3753,    101.5, 2,   2.6959, 2,  33.1683, 2,  33.1682, 2,    278.7, 2,    300.9, 2,    51.16, 2,    27.98, 2,     0.02, 2,     2.18, 2, -999.000, 9, -999.000, 9, -999.000, 9, -999.000, 9,   -999.0, 9,   -999.0, 9, -999.0000,   -999.00,   -999.0, 9,   -999.0,  -999.00, 9,   -999.0,   2.6902, 26.4495,   2.6949, 2, 9, 0.23, 0.11, 0.01, 0.015,  -999.00, 9, -999.00, -999.00, 9, -999.00
49NZ20071008, P14N, 8, 1, 33, X12033, 2, 20071025, 1342, 55.4982, -176.8382, 3753,    149.9, 2,   3.4812, 2,  33.3172, 2,  33.3183, 2,    252.0, 2,    240.9, 2,    59.96, 2,    31.07, 2,     0.02, 2,     2.36, 2, -999.000, 9, -999.000, 9, -999.000, 9, -999.000, 9,   -999.0, 9,   -999.0, 9, -999.0000,   -999.00,   -999.0, 9,   -999.0,  -999.00, 9,   -999.0,   3.4718, 26.4989,   3.4774, 2, 9, 0.25, 0.12, 0.01, 0.016,  -999.00, 9, -999.00, -999.00, 9, -999.00
49NZ20071008, P14N, 8, 1, 32, X12038, 2, 20071025, 1342, 55.4982, -176.8382, 3753,    198.6, 2,   3.9688, 2,  33.5156, 2,  33.5172, 2,    164.9, 2,    165.1, 2,    71.63, 2,    34.86, 2,     0.02, 2,     2.58, 2, -999.000, 9, -999.000, 9, -999.000, 9, -999.000, 9,   -999.0, 9,   -999.0, 9, -999.0000,   -999.00,   -999.0, 9,   -999.0,  -999.00, 9,   -999.0,   3.9554, 26.6099,   3.9683, 2, 9, 0.28, 0.13, 0.01, 0.016,  -999.00, 9, -999.00, -999.00, 9, -999.00
49NZ20071008, P14N, 8, 1, 31, X12003, 2, 20071025, 1342, 55.4982, -176.8382, 3753,    249.8, 2,   3.9541, 2,  33.6451, 2,  33.6474, 6,    128.6, 2,    128.2, 2,    79.79, 2,    37.40, 2,     0.01, 2,     2.73, 2, -999.000, 9, -999.000, 9, -999.000, 9, -999.000, 9,   -999.0, 9,   -999.0, 9, -999.0000,   -999.00,   -999.0, 9,   -999.0,  -999.00, 9,   -999.0,   3.9371, 26.7148,   3.9540, 2, 9, 0.29, 0.14, 0.01, 0.017,  -999.00, 9, -999.00, -999.00, 9, -999.00
49NZ20071008, P14N, 8, 1, 30, X12008, 2, 20071025, 1342, 55.4982, -176.8382, 3753,    330.1, 2,   3.8520, 2,  33.8062, 2,  33.8090, 2,     78.2, 2,     85.4, 2,    91.20, 2,    40.28, 2,     0.01, 2,     2.92, 2, -999.000, 9, -999.000, 9, -999.000, 9, -999.000, 9,   -999.0, 9,   -999.0, 9, -999.0000,   -999.00,   -999.0, 9,   -999.0,  -999.00, 9,   -999.0,   3.8295, 26.8537,   3.8514, 2, 9, 0.32, 0.15, 0.01, 0.017,  -999.00, 9, -999.00, -999.00, 9, -999.00
49NZ20071008, P14N, 8, 1, 29, X12035, 2, 20071025, 1342, 55.4982, -176.8382, 3753,    429.8, 2,   3.7606, 2,  33.9602, 2,  33.9622, 2,     53.2, 2,     46.2, 2,   101.95, 2,    42.93, 2,     0.01, 2,     3.07, 2, -999.000, 9, -999.000, 9, -999.000, 9, -999.000, 9,   -999.0, 9,   -999.0, 9, -999.0000,   -999.00,   -999.0, 9,   -999.0,  -999.00, 9,   -999.0,   3.7312, 26.9860,   3.7614, 2, 9, 0.34, 0.15, 0.01, 0.018,  -999.00, 9, -999.00, -999.00, 9, -999.00
49NZ20071008, P14N, 8, 1, 28, X12034, 2, 20071025, 1342, 55.4982, -176.8382, 3753,    530.8, 2,   3.6448, 2,  34.0789, 2,  34.0804, 6,     21.9, 2,     23.8, 2,   111.58, 2,    44.32, 2,     0.01, 2,     3.15, 2, -999.000, 9, -999.000, 9, -999.000, 9, -999.000, 9,   -999.0, 9,   -999.0, 9, -999.0000,   -999.00,   -999.0, 9,   -999.0,  -999.00, 9,   -999.0,   3.6084, 27.0926,   3.6451, 2, 9, 0.36, 0.16, 0.01, 0.018,  -999.00, 9, -999.00, -999.00, 9, -999.00
49NZ20071008, P14N, 8, 1, 27, X12049, 2, 20071025, 1342, 55.4982, -176.8382, 3753,    630.0, 2,   3.5038, 2,  34.1516, 2,  34.1540, 2,     22.9, 2,     19.1, 2,   119.48, 2,    44.47, 2,     0.01, 2,     3.17, 2, -999.000, 9, -999.000, 9, -999.000, 9, -999.000, 9,   -999.0, 9,   -999.0, 9, -999.0000,   -999.00,   -999.0, 9,   -999.0,  -999.00, 9,   -999.0,   3.4607, 27.1649,   3.5032, 2, 9, 0.38, 0.16, 0.01, 0.018,  -999.00, 9, -999.00, -999.00, 9, -999.00
49NZ20071008, P14N, 8, 1, 26, X12032, 2, 20071025, 1342, 55.4982, -176.8382, 3753,    732.7, 2,   3.2912, 2,  34.2224, 2,  34.2240, 2,     19.3, 2,     19.8, 2,   128.73, 2,    44.23, 2,     0.01, 2,     3.16, 2, -999.000, 9, -999.000, 9, -999.000, 9, -999.000, 9,   -999.0, 9,   -999.0, 9, -999.0000,   -999.00,   -999.0, 9,   -999.0,  -999.00, 9,   -999.0,   3.2417, 27.2421,   3.2909, 2, 9, 0.40, 0.16, 0.01, 0.018,  -999.00, 9, -999.00, -999.00, 9, -999.00
49NZ20071008, P14N, 8, 1, 25, X12043, 2, 20071025, 1342, 55.4982, -176.8382, 3753,    831.4, 2,   3.1631, 2,  34.2719, 2,  34.2727, 2,     17.6, 2,     17.2, 2,   134.56, 2,    44.46, 2,     0.01, 2,     3.18, 2, -999.000, 9, -999.000, 9, -999.000, 9, -999.000, 9,   -999.0, 9,   -999.0, 9, -999.0000,   -999.00,   -999.0, 9,   -999.0,  -999.00, 9,   -999.0,   3.1070, 27.2940,   3.1612, 2, 9, 0.42, 0.16, 0.01, 0.018,  -999.00, 9, -999.00, -999.00, 9, -999.00
49NZ20071008, P14N, 8, 1, 24, X12030, 2, 20071025, 1342, 55.4982, -176.8382, 3753,    929.9, 2,   2.9853, 2,  34.3187, 2,  34.3199, 2,     18.6, 2,     18.2, 2,   141.20, 2,    44.20, 2,     0.00, 2,     3.16, 2, -999.000, 9, -999.000, 9, -999.000, 9, -999.000, 9,   -999.0, 9,   -999.0, 9, -999.0000,   -999.00,   -999.0, 9,   -999.0,  -999.00, 9,   -999.0,   2.9231, 27.3481,   2.9852, 2, 9, 0.43, 0.16, 0.01, 0.018,  -999.00, 9, -999.00, -999.00, 9, -999.00
49NZ20071008, P14N, 8, 1, 23, X12027, 2, 20071025, 1342, 55.4982, -176.8382, 3753,   1070.3, 2,   2.7953, 2,  34.3710, 2,  34.3724, 6,     19.1, 2,     18.1, 2,   149.66, 2,    44.19, 2,     0.00, 2,     3.17, 2, -999.000, 9, -999.000, 9, -999.000, 9, -999.000, 9,   -999.0, 9,   -999.0, 9, -999.0000,   -999.00,   -999.0, 9,   -999.0,  -999.00, 9,   -999.0,   2.7240, 27.4076,   2.7943, 2, 9, 0.45, 0.16, 0.01, 0.018,  -999.00, 9, -999.00, -999.00, 9, -999.00
49NZ20071008, P14N, 8, 1, 22, X12028, 2, 20071025, 1342, 55.4982, -176.8382, 3753,   1272.4, 2,   2.5436, 2,  34.4355, 2,  34.4337, 2,     19.9, 2,     19.6, 2,   159.95, 2,    44.20, 2,     0.00, 2,     3.17, 2, -999.000, 9, -999.000, 9, -999.000, 9, -999.000, 9,   -999.0, 9,   -999.0, 9, -999.0000,   -999.00,   -999.0, 9,   -999.0,  -999.00, 9,   -999.0,   2.4592, 27.4820,   2.5431, 2, 9, 0.47, 0.16, 0.01, 0.018,  -999.00, 9, -999.00, -999.00, 9, -999.00
49NZ20071008, P14N, 8, 1, 21, X12009, 2, 20071025, 1342, 55.4982, -176.8382, 3753,   1470.2, 2,   2.3143, 2,  34.4882, 2,  34.4892, 2,     25.8, 2,     26.1, 2,   171.21, 2,    43.65, 2,     0.01, 2,     3.15, 2, -999.000, 9, -999.000, 9, -999.000, 9, -999.000, 9,   -999.0, 9,   -999.0, 9, -999.0000,   -999.00,   -999.0, 9,   -999.0,  -999.00, 9,   -999.0,   2.2169, 27.5443,   2.3140, 2, 9, 0.50, 0.16, 0.01, 0.018,  -999.00, 9, -999.00, -999.00, 9, -999.00
49NZ20071008, P14N, 8, 1, 20, X12026, 2, 20071025, 1342, 55.4982, -176.8382, 3753,   1670.6, 2,   2.1159, 2,  34.5325, 2,  34.5328, 2,     35.9, 2,     36.0, 2,   181.80, 2,    42.88, 2,     0.00, 2,     3.12, 2, -999.000, 9, -999.000, 9, -999.000, 9, -999.000, 9,   -999.0, 9,   -999.0, 9, -999.0000,   -999.00,   -999.0, 9,   -999.0,  -999.00, 9,   -999.0,   2.0050, 27.5967,   2.1149, 2, 9, 0.52, 0.15, 0.01, 0.018,  -999.00, 9, -999.00, -999.00, 9, -999.00
49NZ20071008, P14N, 8, 1, 19, X12025, 2, 20071025, 1342, 55.4982, -176.8382, 3753,   1871.6, 2,   1.9596, 2,  34.5683, 2,  34.5684, 6,     44.2, 2,     45.3, 2,   190.24, 2,    42.11, 2,     0.00, 2,     3.10, 2, -999.000, 9, -999.000, 9, -999.000, 9, -999.000, 9,   -999.0, 9,   -999.0, 9, -999.0000,   -999.00,   -999.0, 9,   -999.0,  -999.00, 9,   -999.0,   1.8346, 27.6387,   1.9594, 2, 9, 0.54, 0.15, 0.01, 0.018,  -999.00, 9, -999.00, -999.00, 9, -999.00
49NZ20071008, P14N, 8, 1, 18, X12024, 2, 20071025, 1342, 55.4982, -176.8382, 3753,   2069.5, 2,   1.8548, 2,  34.5923, 2,  34.5925, 2,     53.3, 2,     53.5, 2,   196.37, 2,    41.38, 2,     0.00, 2,     3.07, 2, -999.000, 9, -999.000, 9, -999.000, 9, -999.000, 9,   -999.0, 9,   -999.0, 9, -999.0000,   -999.00,   -999.0, 9,   -999.0,  -999.00, 9,   -999.0,   1.7149, 27.6671,   1.8543, 2, 9, 0.55, 0.15, 0.01, 0.018,  -999.00, 9, -999.00, -999.00, 9, -999.00
49NZ20071008, P14N, 8, 1, 17, X12023, 2, 20071025, 1342, 55.4982, -176.8382, 3753,   2270.1, 2,   1.7751, 2,  34.6110, 2,  34.6115, 2,     61.4, 2,     62.4, 2,   201.39, 2,    40.67, 2,     0.00, 2,     3.04, 2, -999.000, 9, -999.000, 9, -999.000, 9, -999.000, 9,   -999.0, 9,   -999.0, 9, -999.0000,   -999.00,   -999.0, 9,   -999.0,  -999.00, 9,   -999.0,   1.6194, 27.6892,   1.7753, 2, 9, 0.56, 0.15, 0.01, 0.018,  -999.00, 9, -999.00, -999.00, 9, -999.00
49NZ20071008, P14N, 8, 1, 16, X12022, 2, 20071025, 1342, 55.4982, -176.8382, 3753,   2473.0, 2,   1.7148, 2,  34.6255, 2,  34.6261, 2,     69.4, 2,     70.0, 2,   204.87, 2,    40.19, 2,     0.00, 2,     3.02, 2, -999.000, 9, -999.000, 9, -999.000, 9, -999.000, 9,   -999.0, 9,   -999.0, 9, -999.0000,   -999.00,   -999.0, 9,   -999.0,  -999.00, 9,   -999.0,   1.5424, 27.7066,   1.7148, 2, 9, 0.57, 0.15, 0.01, 0.018,  -999.00, 9, -999.00, -999.00, 9, -999.00
49NZ20071008, P14N, 8, 1, 15, X12021, 2, 20071025, 1342, 55.4982, -176.8382, 3753,   2670.2, 2,   1.6738, 2,  34.6362, 2,  34.6368, 2,     75.9, 2,     76.1, 2,   207.87, 2,    39.59, 2,     0.00, 2,     3.00, 2, -999.000, 9, -999.000, 9, -999.000, 9, -999.000, 9,   -999.0, 9,   -999.0, 9, -999.0000,   -999.00,   -999.0, 9,   -999.0,  -999.00, 9,   -999.0,   1.4843, 27.7193,   1.6737, 2, 9, 0.58, 0.14, 0.01, 0.017,  -999.00, 9, -999.00, -999.00, 9, -999.00
49NZ20071008, P14N, 8, 1, 14, X12020, 2, 20071025, 1342, 55.4982, -176.8382, 3753,   2871.9, 2,   1.6380, 2,  34.6460, 2,  34.6465, 6,     82.0, 2,     82.3, 2,   210.88, 2,    39.11, 2,     0.00, 2,     2.98, 2, -999.000, 9, -999.000, 9, -999.000, 9, -999.000, 9,   -999.0, 9,   -999.0, 9, -999.0000,   -999.00,   -999.0, 9,   -999.0,  -999.00, 9,   -999.0,   1.4305, 27.7311,   1.6380, 2, 9, 0.58, 0.14, 0.01, 0.017,  -999.00, 9, -999.00, -999.00, 9, -999.00
49NZ20071008, P14N, 8, 1, 13, X12019, 2, 20071025, 1342, 55.4982, -176.8382, 3753,   3080.3, 2,   1.6099, 2,  34.6543, 2,  34.6547, 2,     88.2, 2,     88.2, 2,   213.08, 2,    38.66, 2,     0.00, 2,     2.96, 2, -999.000, 9, -999.000, 9, -999.000, 9, -999.000, 9,   -999.0, 9,   -999.0, 9, -999.0000,   -999.00,   -999.0, 9,   -999.0,  -999.00, 9,   -999.0,   1.3831, 27.7412,   1.6099, 2, 9, 0.59, 0.14, 0.01, 0.017,  -999.00, 9, -999.00, -999.00, 9, -999.00
49NZ20071008, P14N, 8, 1, 12, X12040, 2, 20071025, 1342, 55.4982, -176.8382, 3753,   3330.5, 2,   1.5977, 2,  34.6608, 2,  34.6611, 2,     92.6, 2,     92.5, 2,   215.69, 2,    38.25, 2,     0.01, 2,     2.92, 2, -999.000, 9, -999.000, 9, -999.000, 9, -999.000, 9,   -999.0, 9,   -999.0, 9, -999.0000,   -999.00,   -999.0, 9,   -999.0,  -999.00, 9,   -999.0,   1.3464, 27.7490,   1.5977, 2, 9, 0.59, 0.14, 0.01, 0.017,  -999.00, 9, -999.00, -999.00, 9, -999.00
49NZ20071008, P14N, 8, 1, 11, X12047, 2, 20071025, 1342, 55.4982, -176.8382, 3753,   3580.1, 2,   1.5958, 2,  34.6656, 2,  34.6662, 2,     96.0, 2,     95.7, 2,   219.84, 2,    38.06, 2,     0.01, 2,     2.93, 2, -999.000, 9, -999.000, 9, -999.000, 9, -999.000, 9,   -999.0, 9,   -999.0, 9, -999.0000,   -999.00,   -999.0, 9,   -999.0,  -999.00, 9,   -999.0,   1.3191, 27.7548,   1.5958, 2, 9, 0.60, 0.14, 0.01, 0.017,  -999.00, 9, -999.00, -999.00, 9, -999.00
49NZ20071008, P14N, 8, 1, 10, X12039, 9, 20071025, 1342, 55.4982, -176.8382, 3753,      9.2, 2,   5.7971, 2,  32.8950, 2, -999.0000, 9,    300.5, 2,   -999.0, 9,  -999.00, 9,  -999.00, 9,  -999.00, 9,  -999.00, 9, -999.000, 9, -999.000, 9, -999.000, 9, -999.000, 9,   -999.0, 9,   -999.0, 9, -999.0000,   -999.00,   -999.0, 9,   -999.0,  -999.00, 9,   -999.0,   5.7964, 25.9143,   5.7969, 2, 9, -999.00, -999.00, -999.00, -999.000,  -999.00, 9, -999.00, -999.00, 9, -999.00
49NZ20071008, P14N, 8, 1, 9, X12015, 9, 20071025, 1342, 55.4982, -176.8382, 3753,    831.5, 2,   3.1628, 2,  34.2717, 2, -999.0000, 9,     17.6, 2,   -999.0, 9,  -999.00, 9,  -999.00, 9,  -999.00, 9,  -999.00, 9, -999.000, 9, -999.000, 9, -999.000, 9, -999.000, 9,   -999.0, 9,   -999.0, 9, -999.0000,   -999.00,   -999.0, 9,   -999.0,  -999.00, 9,   -999.0,   3.1067, 27.2939,   3.1618, 2, 9, -999.00, -999.00, -999.00, -999.000,  -999.00, 9, -999.00, -999.00, 9, -999.00
49NZ20071008, P14N, 8, 1, 8, X12046, 9, 20071025, 1342, 55.4982, -176.8382, 3753,    930.2, 2,   2.9847, 2,  34.3190, 2, -999.0000, 9,     18.6, 2,   -999.0, 9,  -999.00, 9,  -999.00, 9,  -999.00, 9,  -999.00, 9, -999.000, 9, -999.000, 9, -999.000, 9, -999.000, 9,   -999.0, 9,   -999.0, 9, -999.0000,   -999.00,   -999.0, 9,   -999.0,  -999.00, 9,   -999.0,   2.9225, 27.3484,   2.9847, 2, 9, -999.00, -999.00, -999.00, -999.000,  -999.00, 9, -999.00, -999.00, 9, -999.00
49NZ20071008, P14N, 8, 1, 7, X12044, 9, 20071025, 1342, 55.4982, -176.8382, 3753,   1069.8, 2,   2.7945, 2,  34.3712, 2, -999.0000, 9,     19.0, 2,   -999.0, 9,  -999.00, 9,  -999.00, 9,  -999.00, 9,  -999.00, 9, -999.000, 9, -999.000, 9, -999.000, 9, -999.000, 9,   -999.0, 9,   -999.0, 9, -999.0000,   -999.00,   -999.0, 9,   -999.0,  -999.00, 9,   -999.0,   2.7232, 27.4078,   2.7945, 2, 9, -999.00, -999.00, -999.00, -999.000,  -999.00, 9, -999.00, -999.00, 9, -999.00
49NZ20071008, P14N, 8, 1, 6, X12048, 9, 20071025, 1342, 55.4982, -176.8382, 3753,   1272.7, 2,   2.5424, 2,  34.4359, 2, -999.0000, 9,     19.9, 2,   -999.0, 9,  -999.00, 9,  -999.00, 9,  -999.00, 9,  -999.00, 9, -999.000, 9, -999.000, 9, -999.000, 9, -999.000, 9,   -999.0, 9,   -999.0, 9, -999.0000,   -999.00,   -999.0, 9,   -999.0,  -999.00, 9,   -999.0,   2.4580, 27.4824,   2.5418, 2, 9, -999.00, -999.00, -999.00, -999.000,  -999.00, 9, -999.00, -999.00, 9, -999.00
49NZ20071008, P14N, 8, 1, 5, X12014, 9, 20071025, 1342, 55.4982, -176.8382, 3753,   1470.6, 2,   2.3167, 2,  34.4878, 2, -999.0000, 9,     25.8, 2,   -999.0, 9,  -999.00, 9,  -999.00, 9,  -999.00, 9,  -999.00, 9, -999.000, 9, -999.000, 9, -999.000, 9, -999.000, 9,   -999.0, 9,   -999.0, 9, -999.0000,   -999.00,   -999.0, 9,   -999.0,  -999.00, 9,   -999.0,   2.2193, 27.5437,   2.3159, 2, 9, -999.00, -999.00, -999.00, -999.000,  -999.00, 9, -999.00, -999.00, 9, -999.00
49NZ20071008, P14N, 8, 1, 4, X12006, 9, 20071025, 1342, 55.4982, -176.8382, 3753,   1670.8, 2,   2.1149, 2,  34.5326, 2, -999.0000, 9,     35.9, 2,   -999.0, 9,  -999.00, 9,  -999.00, 9,  -999.00, 9,  -999.00, 9, -999.000, 9, -999.000, 9, -999.000, 9, -999.000, 9,   -999.0, 9,   -999.0, 9, -999.0000,   -999.00,   -999.0, 9,   -999.0,  -999.00, 9,   -999.0,   2.0040, 27.5969,   2.1147, 2, 9, -999.00, -999.00, -999.00, -999.000,  -999.00, 9, -999.00, -999.00, 9, -999.00
49NZ20071008, P14N, 8, 1, 3, X12013, 9, 20071025, 1342, 55.4982, -176.8382, 3753,   1871.0, 2,   1.9580, 2,  34.5687, 2, -999.0000, 9,     44.2, 2,   -999.0, 9,  -999.00, 9,  -999.00, 9,  -999.00, 9,  -999.00, 9, -999.000, 9, -999.000, 9, -999.000, 9, -999.000, 9,   -999.0, 9,   -999.0, 9, -999.0000,   -999.00,   -999.0, 9,   -999.0,  -999.00, 9,   -999.0,   1.8331, 27.6391,   1.9585, 2, 9, -999.00, -999.00, -999.00, -999.000,  -999.00, 9, -999.00, -999.00, 9, -999.00
49NZ20071008, P14N, 8, 1, 2, X12002, 9, 20071025, 1342, 55.4982, -176.8382, 3753,   3805.2, 2,   1.6033, 2,  34.6692, 2, -999.0000, 9,     98.3, 2,   -999.0, 9,  -999.00, 9,  -999.00, 9,  -999.00, 9,  -999.00, 9, -999.000, 9, -999.000, 9, -999.000, 9, -999.000, 9,   -999.0, 9,   -999.0, 9, -999.0000,   -999.00,   -999.0, 9,   -999.0,  -999.00, 9,   -999.0,   1.3027, 27.7588,   1.6030, 2, 9, -999.00, -999.00, -999.00, -999.000,  -999.00, 9, -999.00, -999.00, 9, -999.00
49NZ20071008, P14N, 8, 1, 1, X12001, 2, 20071025, 1342, 55.4982, -176.8382, 3753,   3805.6, 2,   1.6032, 2,  34.6693, 2,  34.6698, 6,     98.3, 2,     97.8, 2,   231.14, 2,    37.82, 2,     0.00, 2,     2.92, 2, -999.000, 9, -999.000, 9, -999.000, 9, -999.000, 9,   -999.0, 9,   -999.0, 9, -999.0000,   -999.00,   -999.0, 9,   -999.0,  -999.00, 9,   -999.0,   1.3025, 27.7589,   1.6030, 2, 9, 0.63, 0.14, 0.01, 0.017,  -999.00, 9, -999.00, -999.00, 9, -999.00