BOTTLE,20221005CCHSIOAMB
EXPOCODE,SECT_ID,STNNBR,CASTNO,SAMPNO,BTLNBR,BTLNBR_FLAG_W,DATE,TIME,LATITUDE,LONGITUDE,DEPTH,CTDPRS,CTDPRS_FLAG_W,CTDTMP,CTDTMP_FLAG_W,CTDSAL,CTDSAL_FLAG_W,SALNTY,SALNTY_FLAG_W,CTDOXY,CTDOXY_FLAG_W,OXYGEN,OXYGEN_FLAG_W,SILCAT,SILCAT_FLAG_W,NITRAT,NITRAT_FLAG_W,NITRIT,NITRIT_FLAG_W,PHSPHT,PHSPHT_FLAG_W,CFC-11,CFC-11_FLAG_W,CFC-12,CFC-12_FLAG_W,CFC113,CFC113_FLAG_W,CCL4,CCL4_FLAG_W,TCARBN,TCARBN_FLAG_W,ALKALI,ALKALI_FLAG_W,PH_TOT,PH_TMP,DELC14,DELC14_FLAG_W,C14ERR,DELC13,DELC13_FLAG_W,C13ERR,THETA,SIG0,SBE35,SBE35_FLAG_W,PH_TOT_FLAG_W,SILUNC,NRAUNC,NRIUNC,PHPUNC,CS-137,CS-137_FLAG_W,CS137ER,PLUTO,PLUTO_FLAG_W,PLUTOER
,,,,,,,,,,,METERS,DBAR,,ITS-90,,PSS-78,,PSS-78,,UMOL/KG,,UMOL/KG,,UMOL/KG,,UMOL/KG,,UMOL/KG,,UMOL/KG,,PMOL/KG,,PMOL/KG,,PMOL/KG,,PMOL/KG,,UMOL/KG,,UMOL/KG,,,DEG C,/MILLE,,/MILLE,/MILLE,,/MILLE,DEG C,KG/M^3,ITS-90,,,UMOL/KG,UMOL/KG,UMOL/KG,UMOL/KG,DM/.1MG,,BQ/M^3,MBQ/M^3,,MBQ/M^3
49NZ20071008, P01, P01_55, 1, 36, X12042, 2, 20071018, 2031, 46.9962, 172.7168, 5639,     10.3, 2,   8.6601, 2,  32.6628, 2,  32.6641, 2,    290.5, 2,    291.7, 2,    21.46, 2,    13.79, 2,     0.25, 2,     1.33, 2,    3.962, 2,    2.202, 2,    0.354, 2, -999.000, 9,   -999.0, 9,   -999.0, 9, -999.0000,   -999.00,   -999.0, 9,   -999.0,  -999.00, 9,   -999.0,   8.6591, 25.3408,   8.6606, 2, 9, 0.17, 0.07, 0.01, 0.014,  -999.00, 9, -999.00, -999.00, 9, -999.00
49NZ20071008, P01, P01_55, 1, 35, X12041, 2, 20071018, 2031, 46.9962, 172.7168, 5639,     50.0, 2,   7.1632, 2,  32.7581, 2,  32.7515, 2,    286.2, 2,    295.3, 2,    25.93, 2,    16.11, 2,     0.27, 2,     1.49, 2,    4.383, 2,    2.413, 2,    0.405, 2, -999.000, 9,   -999.0, 9,   -999.0, 9, -999.0000,   -999.00,   -999.0, 9,   -999.0,  -999.00, 9,   -999.0,   7.1587, 25.6316,   7.1463, 2, 9, 0.18, 0.08, 0.01, 0.014,  -999.00, 9, -999.00, -999.00, 9, -999.00
49NZ20071008, P01, P01_55, 1, 34, X12016, 2, 20071018, 2031, 46.9962, 172.7168, 5639,    100.5, 2,   2.8914, 2,  33.0890, 2,  33.0968, 2,    311.8, 2,    302.2, 2,    42.43, 2,    24.97, 2,     0.03, 2,     1.97, 2,    5.283, 2,    2.852, 2,    0.488, 2, -999.000, 9,   -999.0, 9,   -999.0, 9, -999.0000,   -999.00,   -999.0, 9,   -999.0,  -999.00, 9,   -999.0,   2.8856, 26.3696,   2.8907, 2, 9, 0.21, 0.10, 0.01, 0.015,  -999.00, 1, -999.00, -999.00, 9, -999.00
49NZ20071008, P01, P01_55, 1, 33, X12033, 2, 20071018, 2031, 46.9962, 172.7168, 5639,    150.0, 2,   3.0528, 2,  33.4923, 2,  33.5102, 2,    154.7, 2,    184.5, 2,    64.71, 2,    33.65, 2,     0.02, 2,     2.49, 2,    4.058, 2,    2.127, 2,    0.323, 2, -999.000, 9,   -999.0, 9,   -999.0, 9, -999.0000,   -999.00,   -999.0, 9,   -999.0,  -999.00, 9,   -999.0,   3.0438, 26.6777,   3.0486, 2, 9, 0.26, 0.13, 0.01, 0.016,  -999.00, 9, -999.00, -999.00, 9, -999.00
49NZ20071008, P01, P01_55, 1, 32, X12038, 2, 20071018, 2031, 46.9962, 172.7168, 5639,    200.6, 2,   3.7086, 2,  33.7911, 2,  33.7947, 2,     72.7, 2,     67.2, 2,    85.48, 2,    42.14, 2,     0.02, 2,     3.00, 2,    2.800, 4,    2.070, 4,    0.302, 4, -999.000, 9,   -999.0, 9,   -999.0, 9, -999.0000,   -999.00,   -999.0, 9,   -999.0,  -999.00, 9,   -999.0,   3.6954, 26.8549,   3.7083, 2, 9, 0.31, 0.15, 0.01, 0.017,  -999.00, 1, -999.00, -999.00, 9, -999.00
49NZ20071008, P01, P01_55, 1, 31, X12003, 2, 20071018, 2031, 46.9962, 172.7168, 5639,    250.5, 2,   3.3932, 2,  33.8717, 2,  33.8729, 6,     64.2, 2,     56.5, 2,    94.54, 2,    42.76, 2,     0.02, 2,     3.06, 2,    2.205, 2,    1.097, 2,    0.162, 2, -999.000, 9,   -999.0, 9,   -999.0, 9, -999.0000,   -999.00,   -999.0, 9,   -999.0,  -999.00, 9,   -999.0,   3.3772, 26.9497,   3.3930, 2, 9, 0.33, 0.15, 0.01, 0.018,  -999.00, 9, -999.00, -999.00, 9, -999.00
49NZ20071008, P01, P01_55, 1, 30, X12008, 2, 20071018, 2031, 46.9962, 172.7168, 5639,    330.5, 2,   3.5959, 2,  34.0173, 2,  34.0159, 2,     19.1, 2,     27.2, 2,   104.61, 2,    44.35, 2,     0.02, 2,     3.16, 2,    1.418, 2,    0.686, 2,    0.097, 2, -999.000, 9,   -999.0, 9,   -999.0, 9, -999.0000,   -999.00,   -999.0, 9,   -999.0,  -999.00, 9,   -999.0,   3.5739, 27.0469,   3.5958, 2, 9, 0.35, 0.16, 0.01, 0.018,  -999.00, 9, -999.00, -999.00, 9, -999.00
49NZ20071008, P01, P01_55, 1, 29, X12035, 2, 20071018, 2031, 46.9962, 172.7168, 5639,    430.6, 2,   3.5256, 2,  34.1132, 2,  34.1124, 2,     17.3, 2,     24.3, 2,   113.42, 2,    44.13, 2,     0.02, 2,     3.13, 2,    0.966, 2,    0.462, 2,    0.068, 2, -999.000, 9,   -999.0, 9,   -999.0, 9, -999.0000,   -999.00,   -999.0, 9,   -999.0,  -999.00, 9,   -999.0,   3.4968, 27.1308,   3.5240, 2, 9, 0.37, 0.16, 0.01, 0.018,  -999.00, 1, -999.00, -999.00, 9, -999.00
49NZ20071008, P01, P01_55, 1, 28, X12034, 2, 20071018, 2031, 46.9962, 172.7168, 5639,    531.0, 2,   3.4158, 2,  34.2053, 2,  34.2044, 6,     16.8, 2,     15.4, 2,   122.80, 2,    44.46, 2,     0.02, 2,     3.16, 2,    0.541, 2,    0.256, 2,    0.032, 2, -999.000, 9,   -999.0, 9,   -999.0, 9, -999.0000,   -999.00,   -999.0, 9,   -999.0,  -999.00, 9,   -999.0,   3.3802, 27.2154,   3.4157, 2, 9, 0.39, 0.16, 0.01, 0.018,  -999.00, 9, -999.00, -999.00, 9, -999.00
49NZ20071008, P01, P01_55, 1, 27, X12049, 2, 20071018, 2031, 46.9962, 172.7168, 5639,    630.2, 2,   3.2365, 2,  34.2675, 2,  34.2673, 2,     15.7, 2,     15.7, 2,   130.40, 2,    44.39, 2,     0.02, 2,     3.16, 2,    0.352, 2,    0.166, 2,    0.019, 4, -999.000, 9,   -999.0, 9,   -999.0, 9, -999.0000,   -999.00,   -999.0, 9,   -999.0,  -999.00, 9,   -999.0,   3.1946, 27.2824,   3.2362, 2, 9, 0.41, 0.16, 0.01, 0.018,  -999.00, 1, -999.00, -999.00, 9, -999.00
49NZ20071008, P01, P01_55, 1, 26, X12032, 2, 20071018, 2031, 46.9962, 172.7168, 5639,    730.4, 2,   3.0698, 2,  34.3153, 2,  34.3153, 2,     16.8, 2,     17.3, 2,   136.36, 2,    44.19, 2,     0.02, 2,     3.15, 2,    0.247, 6,    0.119, 6,    0.016, 6, -999.000, 9,   -999.0, 9,   -999.0, 9, -999.0000,   -999.00,   -999.0, 9,   -999.0,  -999.00, 9,   -999.0,   3.0216, 27.3365,   3.0697, 2, 9, 0.42, 0.16, 0.01, 0.018,  -999.00, 9, -999.00, -999.00, 9, -999.00
49NZ20071008, P01, P01_55, 1, 25, X12043, 2, 20071018, 2031, 46.9962, 172.7168, 5639,    830.1, 2,   2.9032, 2,  34.3598, 2,  34.3601, 2,     17.9, 2,     17.5, 2,   142.50, 2,    44.28, 2,     0.02, 2,     3.16, 2,    0.158, 2,    0.078, 2,    0.010, 2, -999.000, 9,   -999.0, 9,   -999.0, 9, -999.0000,   -999.00,   -999.0, 9,   -999.0,  -999.00, 9,   -999.0,   2.8488, 27.3876,   2.9029, 2, 9, 0.43, 0.16, 0.01, 0.018,  -999.00, 1, -999.00, -999.00, 9, -999.00
49NZ20071008, P01, P01_55, 1, 24, X12030, 2, 20071018, 2031, 46.9962, 172.7168, 5639,    930.6, 2,   2.7505, 2,  34.3967, 2,  34.3965, 2,     19.4, 2,     19.4, 2,   147.50, 2,    44.12, 2,     0.02, 2,     3.14, 2,    0.113, 2,    0.055, 2,    0.010, 2, -999.000, 9,   -999.0, 9,   -999.0, 9, -999.0000,   -999.00,   -999.0, 9,   -999.0,  -999.00, 9,   -999.0,   2.6898, 27.4311,   2.7502, 2, 9, 0.44, 0.16, 0.01, 0.018,  -999.00, 9, -999.00, -999.00, 9, -999.00
49NZ20071008, P01, P01_55, 1, 23, X12027, 2, 20071018, 2031, 46.9962, 172.7168, 5639,   1071.1, 2,   2.5409, 2,  34.4427, 2,  34.4428, 6,     24.0, 2,     25.6, 2,   153.73, 2,    43.86, 2,     0.02, 2,     3.13, 2,    0.080, 2,    0.038, 2,    0.000, 2, -999.000, 9,   -999.0, 9,   -999.0, 9, -999.0000,   -999.00,   -999.0, 9,   -999.0,  -999.00, 9,   -999.0,   2.4715, 27.4867,   2.5406, 2, 9, 0.46, 0.16, 0.01, 0.018,  -999.00, 1, -999.00, -999.00, 9, -999.00
49NZ20071008, P01, P01_55, 1, 22, X12028, 2, 20071018, 2031, 46.9962, 172.7168, 5639,   1270.6, 2,   2.3200, 2,  34.4942, 2,  34.4949, 2,     33.5, 2,     34.2, 2,   159.80, 2,    43.48, 2,     0.02, 2,     3.09, 2,    0.043, 2,    0.020, 2,    0.000, 2, -999.000, 9,   -999.0, 9,   -999.0, 9, -999.0000,   -999.00,   -999.0, 9,   -999.0,  -999.00, 9,   -999.0,   2.2378, 27.5473,   2.3199, 2, 9, 0.47, 0.15, 0.01, 0.018,  -999.00, 9, -999.00, -999.00, 9, -999.00
49NZ20071008, P01, P01_55, 1, 21, X12009, 2, 20071018, 2031, 46.9962, 172.7168, 5639,   1469.3, 2,   2.1453, 2,  34.5393, 2,  34.5397, 2,     47.8, 2,     48.5, 2,   161.50, 2,    42.65, 2,     0.02, 2,     3.02, 2,    0.019, 2,    0.007, 2,    0.000, 2, -999.000, 9,   -999.0, 9,   -999.0, 9, -999.0000,   -999.00,   -999.0, 9,   -999.0,  -999.00, 9,   -999.0,   2.0498, 27.5986,   2.1451, 2, 9, 0.47, 0.15, 0.01, 0.017,  -999.00, 9, -999.00, -999.00, 9, -999.00
49NZ20071008, P01, P01_55, 1, 20, X12026, 2, 20071018, 2031, 46.9962, 172.7168, 5639,   1669.7, 2,   2.0115, 2,  34.5693, 2,  34.5689, 2,     57.7, 2,     59.4, 2,   162.89, 2,    42.06, 2,     0.02, 2,     2.98, 2,    0.004, 2,    0.002, 2,    0.000, 2, -999.000, 9,   -999.0, 9,   -999.0, 9, -999.0000,   -999.00,   -999.0, 9,   -999.0,  -999.00, 9,   -999.0,   1.9020, 27.6343,   2.0114, 2, 9, 0.48, 0.15, 0.01, 0.017,  -999.00, 9, -999.00, -999.00, 9, -999.00
49NZ20071008, P01, P01_55, 1, 19, X12025, 2, 20071018, 2031, 46.9962, 172.7168, 5639,   1869.8, 2,   1.9008, 2,  34.5925, 2,  34.5920, 2,     69.4, 2,     70.4, 2,   163.37, 2,    41.40, 2,     0.02, 2,     2.93, 2,    0.000, 2,    0.000, 2,    0.000, 2, -999.000, 9,   -999.0, 9,   -999.0, 9, -999.0000,   -999.00,   -999.0, 9,   -999.0,  -999.00, 9,   -999.0,   1.7767, 27.6625,   1.9007, 2, 9, 0.48, 0.15, 0.01, 0.017,  -999.00, 1, -999.00, -999.00, 9, -999.00
49NZ20071008, P01, P01_55, 1, 18, X12024, 2, 20071018, 2031, 46.9962, 172.7168, 5639,   2069.5, 2,   1.8005, 2,  34.6110, 2,  34.6108, 2,     79.6, 2,     81.0, 2,   164.22, 2,    40.67, 2,     0.02, 2,     2.87, 2,    0.000, 2,    0.000, 2,    0.000, 2, -999.000, 9,   -999.0, 9,   -999.0, 9, -999.0000,   -999.00,   -999.0, 9,   -999.0,  -999.00, 9,   -999.0,   1.6614, 27.6860,   1.8003, 2, 9, 0.48, 0.15, 0.01, 0.017,  -999.00, 1, -999.00, -999.00, 9, -999.00
49NZ20071008, P01, P01_55, 1, 17, X12023, 2, 20071018, 2031, 46.9962, 172.7168, 5639,   2270.8, 2,   1.7193, 2,  34.6268, 2,  34.6268, 2,     91.4, 2,     91.7, 2,   163.32, 2,    40.04, 2,     0.02, 2,     2.82, 2,    0.000, 2,    0.000, 2,    0.000, 2, -999.000, 9,   -999.0, 9,   -999.0, 9, -999.0000,   -999.00,   -999.0, 9,   -999.0,  -999.00, 9,   -999.0,   1.5644, 27.7060,   1.7193, 2, 9, 0.48, 0.14, 0.01, 0.017,  -999.00, 1, -999.00, -999.00, 9, -999.00
49NZ20071008, P01, P01_55, 1, 16, X12022, 2, 20071018, 2031, 46.9962, 172.7168, 5639,   2469.6, 2,   1.6514, 2,  34.6392, 2,  34.6392, 2,    100.3, 2,    100.4, 2,   163.74, 2,    39.35, 2,     0.02, 2,     2.78, 2,    0.000, 2,    0.000, 2,    0.000, 2, -999.000, 9,   -999.0, 9,   -999.0, 9, -999.0000,   -999.00,   -999.0, 9,   -999.0,  -999.00, 9,   -999.0,   1.4804, 27.7220,   1.6513, 2, 9, 0.48, 0.14, 0.01, 0.017,  -999.00, 9, -999.00, -999.00, 9, -999.00
49NZ20071008, P01, P01_55, 1, 15, X12021, 2, 20071018, 2031, 46.9962, 172.7168, 5639,   2669.0, 2,   1.5986, 2,  34.6498, 2,  34.6497, 6,    109.7, 2,    109.8, 2,   162.20, 2,    38.70, 2,     0.02, 2,     2.73, 2, -999.000, 9, -999.000, 9, -999.000, 9, -999.000, 9,   -999.0, 9,   -999.0, 9, -999.0000,   -999.00,   -999.0, 9,   -999.0,  -999.00, 9,   -999.0,   1.4107, 27.7356,   1.5987, 2, 9, 0.48, 0.14, 0.01, 0.017,  -999.00, 9, -999.00, -999.00, 9, -999.00
49NZ20071008, P01, P01_55, 1, 14, X12020, 2, 20071018, 2031, 46.9962, 172.7168, 5639,   2869.5, 2,   1.5571, 2,  34.6580, 2,  34.6580, 2,    118.1, 2,    117.9, 2,   160.48, 2,    38.33, 2,     0.02, 2,     2.70, 2, -999.000, 9, -999.000, 9, -999.000, 9, -999.000, 9,   -999.0, 9,   -999.0, 9, -999.0000,   -999.00,   -999.0, 9,   -999.0,  -999.00, 9,   -999.0,   1.3515, 27.7464,   1.5571, 2, 9, 0.47, 0.14, 0.01, 0.017,  -999.00, 1, -999.00, -999.00, 9, -999.00
49NZ20071008, P01, P01_55, 1, 13, X12019, 2, 20071018, 2031, 46.9962, 172.7168, 5639,   3080.8, 2,   1.5231, 2,  34.6650, 2,  34.6647, 2,    126.1, 2,    125.7, 2,   157.98, 2,    37.88, 2,     0.02, 2,     2.66, 2,    0.000, 2,    0.000, 2,    0.000, 2, -999.000, 9,   -999.0, 9,   -999.0, 9, -999.0000,   -999.00,   -999.0, 9,   -999.0,  -999.00, 9,   -999.0,   1.2981, 27.7558,   1.5231, 2, 9, 0.47, 0.14, 0.01, 0.017,  -999.00, 1, -999.00, -999.00, 9, -999.00
49NZ20071008, P01, P01_55, 1, 12, X12040, 2, 20071018, 2031, 46.9962, 172.7168, 5639,   3330.3, 2,   1.4925, 2,  34.6719, 2,  34.6720, 2,    134.7, 2,    134.2, 2,   154.86, 2,    37.18, 2,     0.02, 2,     2.61, 2, -999.000, 9, -999.000, 9, -999.000, 9, -999.000, 9,   -999.0, 9,   -999.0, 9, -999.0000,   -999.00,   -999.0, 9,   -999.0,  -999.00, 9,   -999.0,   1.2437, 27.7651,   1.4925, 2, 9, 0.46, 0.14, 0.01, 0.017,  -999.00, 1, -999.00, -999.00, 9, -999.00
49NZ20071008, P01, P01_55, 1, 11, X12047, 2, 20071018, 2031, 46.9962, 172.7168, 5639,   3580.9, 2,   1.4698, 2,  34.6777, 2,  34.6775, 2,    140.9, 2,    141.1, 2,   153.01, 2,    36.81, 2,     0.02, 2,     2.58, 2, -999.000, 9, -999.000, 9, -999.000, 9, -999.000, 9,   -999.0, 9,   -999.0, 9, -999.0000,   -999.00,   -999.0, 9,   -999.0,  -999.00, 9,   -999.0,   1.1962, 27.7730,   1.4699, 2, 9, 0.46, 0.14, 0.01, 0.016,  -999.00, 9, -999.00, -999.00, 9, -999.00
49NZ20071008, P01, P01_55, 1, 10, X12010, 2, 20071018, 2031, 46.9962, 172.7168, 5639,   3832.2, 2,   1.4626, 2,  34.6814, 2,  34.6807, 2,    146.0, 2,    145.7, 2,   151.66, 2,    36.44, 2,     0.02, 2,     2.56, 2,    0.000, 2,    0.000, 2,    0.000, 2, -999.000, 9,   -999.0, 9,   -999.0, 9, -999.0000,   -999.00,   -999.0, 9,   -999.0,  -999.00, 9,   -999.0,   1.1628, 27.7784,   1.4626, 2, 9, 0.45, 0.13, 0.01, 0.016,  -999.00, 1, -999.00, -999.00, 9, -999.00
49NZ20071008, P01, P01_55, 1, 9, X12015, 2, 20071018, 2031, 46.9962, 172.7168, 5639,   4080.1, 2,   1.4646, 2,  34.6841, 2,  34.6838, 2,    149.1, 2,    149.2, 2,   151.01, 2,    36.31, 2,     0.02, 2,     2.54, 2, -999.000, 9, -999.000, 9, -999.000, 9, -999.000, 9,   -999.0, 9,   -999.0, 9, -999.0000,   -999.00,   -999.0, 9,   -999.0,  -999.00, 9,   -999.0,   1.1380, 27.7822,   1.4647, 2, 9, 0.45, 0.13, 0.01, 0.016,  -999.00, 1, -999.00, -999.00, 9, -999.00
49NZ20071008, P01, P01_55, 1, 8, X12046, 2, 20071018, 2031, 46.9962, 172.7168, 5639,   4331.3, 2,   1.4752, 2,  34.6862, 2,  34.6859, 6,    151.4, 2,    151.5, 2,   150.81, 2,    36.15, 2,     0.02, 2,     2.53, 2, -999.000, 9, -999.000, 9, -999.000, 9, -999.000, 9,   -999.0, 9,   -999.0, 9, -999.0000,   -999.00,   -999.0, 9,   -999.0,  -999.00, 9,   -999.0,   1.1203, 27.7851,   1.4753, 2, 9, 0.45, 0.13, 0.01, 0.016,  -999.00, 1, -999.00, -999.00, 9, -999.00
49NZ20071008, P01, P01_55, 1, 7, X12044, 2, 20071018, 2031, 46.9962, 172.7168, 5639,   4581.6, 2,   1.4928, 2,  34.6876, 2,  34.6873, 2,    153.1, 2,    153.1, 2,   150.76, 2,    36.05, 2,     0.02, 2,     2.52, 2,    0.000, 2,    0.000, 2,    0.000, 2, -999.000, 9,   -999.0, 9,   -999.0, 9, -999.0000,   -999.00,   -999.0, 9,   -999.0,  -999.00, 9,   -999.0,   1.1086, 27.7870,   1.4930, 2, 9, 0.45, 0.13, 0.01, 0.016,  -999.00, 9, -999.00, -999.00, 9, -999.00
49NZ20071008, P01, P01_55, 1, 6, X12048, 2, 20071018, 2031, 46.9962, 172.7168, 5639,   4829.6, 2,   1.5154, 2,  34.6886, 2,  34.6884, 2,    153.9, 2,    154.0, 2,   151.50, 2,    35.99, 2,     0.02, 2,     2.51, 2, -999.000, 9, -999.000, 9, -999.000, 9, -999.000, 9,   -999.0, 9,   -999.0, 9, -999.0000,   -999.00,   -999.0, 9,   -999.0,  -999.00, 9,   -999.0,   1.1012, 27.7883,   1.5154, 2, 9, 0.45, 0.13, 0.01, 0.016,  -999.00, 1, -999.00, -999.00, 9, -999.00
49NZ20071008, P01, P01_55, 1, 5, X12014, 2, 20071018, 2031, 46.9962, 172.7168, 5639,   5079.3, 2,   1.5421, 2,  34.6890, 2,  34.6891, 2,    154.5, 2,    154.5, 2,   151.90, 2,    35.93, 2,     0.02, 2,     2.52, 2, -999.000, 9, -999.000, 9, -999.000, 9, -999.000, 9,   -999.0, 9,   -999.0, 9, -999.0000,   -999.00,   -999.0, 9,   -999.0,  -999.00, 9,   -999.0,   1.0967, 27.7890,   1.5422, 2, 9, 0.45, 0.13, 0.01, 0.016,  -999.00, 1, -999.00, -999.00, 9, -999.00
49NZ20071008, P01, P01_55, 1, 4, X12006, 2, 20071018, 2031, 46.9962, 172.7168, 5639,   5330.6, 2,   1.5716, 2,  34.6894, 2,  34.6895, 2,    154.7, 2,    155.0, 2,   152.17, 2,    35.93, 2,     0.02, 2,     2.51, 2,    0.000, 2,    0.000, 2,    0.000, 2, -999.000, 9,   -999.0, 9,   -999.0, 9, -999.0000,   -999.00,   -999.0, 9,   -999.0,  -999.00, 9,   -999.0,   1.0939, 27.7895,   1.5716, 2, 9, 0.45, 0.13, 0.01, 0.016,  -999.00, 1, -999.00, -999.00, 9, -999.00
49NZ20071008, P01, P01_55, 1, 3, X12013, 2, 20071018, 2031, 46.9962, 172.7168, 5639,   5580.5, 2,   1.6043, 2,  34.6894, 2,  34.6895, 2,    154.9, 2,    155.1, 2,   152.15, 2,    36.00, 2,     0.02, 2,     2.51, 2, -999.000, 9, -999.000, 9, -999.000, 9, -999.000, 9,   -999.0, 9,   -999.0, 9, -999.0000,   -999.00,   -999.0, 9,   -999.0,  -999.00, 9,   -999.0,   1.0936, 27.7895,   1.6042, 2, 9, 0.45, 0.13, 0.01, 0.016,  -999.00, 9, -999.00, -999.00, 9, -999.00
49NZ20071008, P01, P01_55, 1, 2, X12002, 2, 20071018, 2031, 46.9962, 172.7168, 5639,   5720.1, 2,   1.6230, 2,  34.6895, 2, -999.0000, 9,    154.7, 2,   -999.0, 9,  -999.00, 9,  -999.00, 9,  -999.00, 9,  -999.00, 9, -999.000, 9, -999.000, 9, -999.000, 9, -999.000, 9,   -999.0, 9,   -999.0, 9, -999.0000,   -999.00,   -999.0, 9,   -999.0,  -999.00, 9,   -999.0,   1.0934, 27.7896,   1.6229, 2, 9, -999.00, -999.00, -999.00, -999.000,  -999.00, 1, -999.00, -999.00, 9, -999.00
49NZ20071008, P01, P01_55, 1, 1, X12001, 2, 20071018, 2031, 46.9962, 172.7168, 5639,   5719.2, 2,   1.6229, 2,  34.6895, 2,  34.6892, 6,    154.8, 2,    155.0, 2,   152.19, 2,    36.00, 2,     0.02, 2,     2.51, 2,    0.000, 2,    0.000, 2,    0.000, 2, -999.000, 9,   -999.0, 9,   -999.0, 9, -999.0000,   -999.00,   -999.0, 9,   -999.0,  -999.00, 9,   -999.0,   1.0935, 27.7896,   1.6229, 2, 9, 0.45, 0.13, 0.01, 0.016,  -999.00, 1, -999.00, -999.00, 9, -999.00