BOTTLE,20221005CCHSIOAMB
EXPOCODE,SECT_ID,STNNBR,CASTNO,SAMPNO,BTLNBR,BTLNBR_FLAG_W,DATE,TIME,LATITUDE,LONGITUDE,DEPTH,CTDPRS,CTDPRS_FLAG_W,CTDTMP,CTDTMP_FLAG_W,CTDSAL,CTDSAL_FLAG_W,SALNTY,SALNTY_FLAG_W,CTDOXY,CTDOXY_FLAG_W,OXYGEN,OXYGEN_FLAG_W,SILCAT,SILCAT_FLAG_W,NITRAT,NITRAT_FLAG_W,NITRIT,NITRIT_FLAG_W,PHSPHT,PHSPHT_FLAG_W,CFC-11,CFC-11_FLAG_W,CFC-12,CFC-12_FLAG_W,CFC113,CFC113_FLAG_W,CCL4,CCL4_FLAG_W,TCARBN,TCARBN_FLAG_W,ALKALI,ALKALI_FLAG_W,PH_TOT,PH_TMP,DELC14,DELC14_FLAG_W,C14ERR,DELC13,DELC13_FLAG_W,C13ERR,THETA,SIG0,SBE35,SBE35_FLAG_W,PH_TOT_FLAG_W,SILUNC,NRAUNC,NRIUNC,PHPUNC,CS-137,CS-137_FLAG_W,CS137ER,PLUTO,PLUTO_FLAG_W,PLUTOER
,,,,,,,,,,,METERS,DBAR,,ITS-90,,PSS-78,,PSS-78,,UMOL/KG,,UMOL/KG,,UMOL/KG,,UMOL/KG,,UMOL/KG,,UMOL/KG,,PMOL/KG,,PMOL/KG,,PMOL/KG,,PMOL/KG,,UMOL/KG,,UMOL/KG,,,DEG C,/MILLE,,/MILLE,/MILLE,,/MILLE,DEG C,KG/M^3,ITS-90,,,UMOL/KG,UMOL/KG,UMOL/KG,UMOL/KG,DM/.1MG,,BQ/M^3,MBQ/M^3,,MBQ/M^3
49NZ20071008, P14N, 1, 1, 36, X12042, 2, 20071027, 0013, 59.0018, -173.9957, 123,     11.0, 2,   5.4005, 2,  32.4786, 2,  32.4790, 2,    302.2, 2,    301.3, 2,    28.92, 2,    10.98, 2,     0.24, 2,     1.21, 2, -999.000, 9, -999.000, 9, -999.000, 9, -999.000, 9,   -999.0, 9,   -999.0, 9, -999.0000,   -999.00,   -999.0, 9,   -999.0,  -999.00, 9,   -999.0,   5.3997, 25.6317,   5.4002, 2, 9, 0.18, 0.06, 0.01, 0.013,  -999.00, 9, -999.00, -999.00, 9, -999.00
49NZ20071008, P14N, 1, 1, 35, X12041, 2, 20071027, 0013, 59.0018, -173.9957, 123,     51.0, 2,   2.7610, 2,  32.9014, 2,  32.9014, 2,    270.2, 2,    270.5, 2,    51.14, 2,    28.62, 2,     0.04, 2,     2.25, 2, -999.000, 9, -999.000, 9, -999.000, 9, -999.000, 9,   -999.0, 9,   -999.0, 9, -999.0000,   -999.00,   -999.0, 9,   -999.0,  -999.00, 9,   -999.0,   2.7582, 26.2306,   2.7620, 2, 9, 0.23, 0.11, 0.01, 0.016,  -999.00, 9, -999.00, -999.00, 9, -999.00
49NZ20071008, P14N, 1, 1, 34, X12016, 2, 20071027, 0013, 59.0018, -173.9957, 123,    101.5, 2,   3.0294, 2,  33.1655, 2,  33.1656, 2,    230.5, 2,    228.0, 2,    67.62, 2,    32.15, 2,     0.06, 2,     2.50, 2, -999.000, 9, -999.000, 9, -999.000, 9, -999.000, 9,   -999.0, 9,   -999.0, 9, -999.0000,   -999.00,   -999.0, 9,   -999.0,  -999.00, 9,   -999.0,   3.0235, 26.4187,   3.0379, 2, 9, 0.27, 0.12, 0.01, 0.016,  -999.00, 9, -999.00, -999.00, 9, -999.00
49NZ20071008, P14N, 1, 1, 19, X12025, 9, 20071027, 0013, 59.0018, -173.9957, 123,    113.5, 2,   3.2362, 2,  33.2641, 2, -999.0000, 9,    208.2, 2,   -999.0, 9,  -999.00, 9,  -999.00, 9,  -999.00, 9,  -999.00, 9, -999.000, 9, -999.000, 9, -999.000, 9, -999.000, 9,   -999.0, 9,   -999.0, 9, -999.0000,   -999.00,   -999.0, 9,   -999.0,  -999.00, 9,   -999.0,   3.2293, 26.4790,   3.2363, 2, 9, -999.00, -999.00, -999.00, -999.000,  -999.00, 9, -999.00, -999.00, 9, -999.00
49NZ20071008, P14N, 1, 1, 18, X12024, 9, 20071027, 0013, 59.0018, -173.9957, 123,     10.9, 2,   5.4004, 2,  32.4786, 2, -999.0000, 9,    302.2, 2,   -999.0, 9,  -999.00, 9,  -999.00, 9,  -999.00, 9,  -999.00, 9, -999.000, 9, -999.000, 9, -999.000, 9, -999.000, 9,   -999.0, 9,   -999.0, 9, -999.0000,   -999.00,   -999.0, 9,   -999.0,  -999.00, 9,   -999.0,   5.3996, 25.6317,   5.4003, 2, 9, -999.00, -999.00, -999.00, -999.000,  -999.00, 9, -999.00, -999.00, 9, -999.00
49NZ20071008, P14N, 1, 1, 17, X12023, 9, 20071027, 0013, 59.0018, -173.9957, 123,     51.5, 2,   2.7584, 2,  32.9004, 2, -999.0000, 9,    270.2, 2,   -999.0, 9,  -999.00, 9,  -999.00, 9,  -999.00, 9,  -999.00, 9, -999.000, 9, -999.000, 9, -999.000, 9, -999.000, 9,   -999.0, 9,   -999.0, 9, -999.0000,   -999.00,   -999.0, 9,   -999.0,  -999.00, 9,   -999.0,   2.7555, 26.2301,   2.7576, 2, 9, -999.00, -999.00, -999.00, -999.000,  -999.00, 9, -999.00, -999.00, 9, -999.00
49NZ20071008, P14N, 1, 1, 16, X12022, 9, 20071027, 0013, 59.0018, -173.9957, 123,    101.0, 2,   3.0138, 2,  33.1573, 2, -999.0000, 9,    231.2, 2,   -999.0, 9,  -999.00, 9,  -999.00, 9,  -999.00, 9,  -999.00, 9, -999.000, 9, -999.000, 9, -999.000, 9, -999.000, 9,   -999.0, 9,   -999.0, 9, -999.0000,   -999.00,   -999.0, 9,   -999.0,  -999.00, 9,   -999.0,   3.0079, 26.4136,   3.0121, 2, 9, -999.00, -999.00, -999.00, -999.000,  -999.00, 9, -999.00, -999.00, 9, -999.00
49NZ20071008, P14N, 1, 1, 1, X12001, 2, 20071027, 0013, 59.0018, -173.9957, 123,    113.7, 2,   3.2362, 2,  33.2640, 2,  33.2637, 6,    208.1, 2,    207.3, 2,    71.18, 2,    33.21, 2,     0.08, 2,     2.60, 2, -999.000, 9, -999.000, 9, -999.000, 9, -999.000, 9,   -999.0, 9,   -999.0, 9, -999.0000,   -999.00,   -999.0, 9,   -999.0,  -999.00, 9,   -999.0,   3.2293, 26.4789,   3.2363, 2, 9, 0.28, 0.13, 0.01, 0.016,  -999.00, 9, -999.00, -999.00, 9, -999.00
49NZ20071008, P14N, 2, 1, 36, X12042, 2, 20071027, 0304, 58.4983, -174.4172, 147,      9.6, 2,   5.2325, 2,  32.2649, 2,  32.2665, 2,    303.9, 2,    303.5, 2,    27.35, 2,    10.59, 2,     0.32, 2,     1.18, 2, -999.000, 9, -999.000, 9, -999.000, 9, -999.000, 9,   -999.0, 9,   -999.0, 9, -999.0000,   -999.00,   -999.0, 9,   -999.0,  -999.00, 9,   -999.0,   5.2318, 25.4817,   5.2323, 2, 9, 0.18, 0.06, 0.01, 0.013,  -999.00, 9, -999.00, -999.00, 9, -999.00
49NZ20071008, P14N, 2, 1, 35, X12041, 2, 20071027, 0304, 58.4983, -174.4172, 147,     49.6, 2,   3.8414, 2,  32.7976, 2,  32.7942, 2,    256.5, 2,    253.8, 2,    47.13, 2,    24.72, 2,     0.07, 2,     2.01, 2, -999.000, 9, -999.000, 9, -999.000, 9, -999.000, 9,   -999.0, 9,   -999.0, 9, -999.0000,   -999.00,   -999.0, 9,   -999.0,  -999.00, 9,   -999.0,   3.8382, 26.0503,   3.8371, 2, 9, 0.22, 0.10, 0.01, 0.015,  -999.00, 9, -999.00, -999.00, 9, -999.00
49NZ20071008, P14N, 2, 1, 34, X12016, 2, 20071027, 0304, 58.4983, -174.4172, 147,    100.5, 2,   3.2511, 2,  33.0620, 2,  33.0669, 2,    245.8, 2,    246.5, 2,    56.34, 2,    30.24, 2,     0.02, 2,     2.34, 2, -999.000, 9, -999.000, 9, -999.000, 9, -999.000, 9,   -999.0, 9,   -999.0, 9, -999.0000,   -999.00,   -999.0, 9,   -999.0,  -999.00, 9,   -999.0,   3.2450, 26.3164,   3.2509, 2, 9, 0.24, 0.12, 0.01, 0.016,  -999.00, 9, -999.00, -999.00, 9, -999.00
49NZ20071008, P14N, 2, 1, 19, X12025, 9, 20071027, 0304, 58.4983, -174.4172, 147,    137.1, 2,   3.3094, 2,  33.2713, 2, -999.0000, 9,    220.2, 2,   -999.0, 9,  -999.00, 9,  -999.00, 9,  -999.00, 9,  -999.00, 9, -999.000, 9, -999.000, 9, -999.000, 9, -999.000, 9,   -999.0, 9,   -999.0, 9, -999.0000,   -999.00,   -999.0, 9,   -999.0,  -999.00, 9,   -999.0,   3.3010, 26.4782,   3.3093, 2, 9, -999.00, -999.00, -999.00, -999.000,  -999.00, 9, -999.00, -999.00, 9, -999.00
49NZ20071008, P14N, 2, 1, 18, X12024, 9, 20071027, 0304, 58.4983, -174.4172, 147,      9.6, 2,   5.2311, 2,  32.2648, 2, -999.0000, 9,    303.9, 2,   -999.0, 9,  -999.00, 9,  -999.00, 9,  -999.00, 9,  -999.00, 9, -999.000, 9, -999.000, 9, -999.000, 9, -999.000, 9,   -999.0, 9,   -999.0, 9, -999.0000,   -999.00,   -999.0, 9,   -999.0,  -999.00, 9,   -999.0,   5.2304, 25.4817,   5.2309, 2, 9, -999.00, -999.00, -999.00, -999.000,  -999.00, 9, -999.00, -999.00, 9, -999.00
49NZ20071008, P14N, 2, 1, 17, X12023, 9, 20071027, 0304, 58.4983, -174.4172, 147,     49.6, 2,   3.8321, 2,  32.7996, 2, -999.0000, 9,    256.4, 2,   -999.0, 9,  -999.00, 9,  -999.00, 9,  -999.00, 9,  -999.00, 9, -999.000, 9, -999.000, 9, -999.000, 9, -999.000, 9,   -999.0, 9,   -999.0, 9, -999.0000,   -999.00,   -999.0, 9,   -999.0,  -999.00, 9,   -999.0,   3.8289, 26.0528,   3.8296, 2, 9, -999.00, -999.00, -999.00, -999.000,  -999.00, 9, -999.00, -999.00, 9, -999.00
49NZ20071008, P14N, 2, 1, 16, X12022, 9, 20071027, 0304, 58.4983, -174.4172, 147,    100.4, 2,   3.2517, 2,  33.0614, 2, -999.0000, 9,    245.8, 2,   -999.0, 9,  -999.00, 9,  -999.00, 9,  -999.00, 9,  -999.00, 9, -999.000, 9, -999.000, 9, -999.000, 9, -999.000, 9,   -999.0, 9,   -999.0, 9, -999.0000,   -999.00,   -999.0, 9,   -999.0,  -999.00, 9,   -999.0,   3.2457, 26.3159,   3.2516, 2, 9, -999.00, -999.00, -999.00, -999.000,  -999.00, 9, -999.00, -999.00, 9, -999.00
49NZ20071008, P14N, 2, 1, 5, X12014, 9, 20071027, 0304, 58.4983, -174.4172, 147,     49.6, 2,   3.8243, 2,  32.8010, 2, -999.0000, 9,    256.3, 2,   -999.0, 9,  -999.00, 9,  -999.00, 9,  -999.00, 9,  -999.00, 9, -999.000, 9, -999.000, 9, -999.000, 9, -999.000, 9,   -999.0, 9,   -999.0, 9, -999.0000,   -999.00,   -999.0, 9,   -999.0,  -999.00, 9,   -999.0,   3.8211, 26.0546,   3.8237, 2, 9, -999.00, -999.00, -999.00, -999.000,  -999.00, 9, -999.00, -999.00, 9, -999.00
49NZ20071008, P14N, 2, 1, 1, X12001, 2, 20071027, 0304, 58.4983, -174.4172, 147,    137.2, 2,   3.3090, 2,  33.2713, 2,  33.2723, 6,    220.3, 2,    221.0, 2,    65.53, 2,    32.44, 2,     0.04, 2,     2.48, 2, -999.000, 9, -999.000, 9, -999.000, 9, -999.000, 9,   -999.0, 9,   -999.0, 9, -999.0000,   -999.00,   -999.0, 9,   -999.0,  -999.00, 9,   -999.0,   3.3006, 26.4782,   3.3089, 2, 9, 0.26, 0.12, 0.01, 0.016,  -999.00, 9, -999.00, -999.00, 9, -999.00