BOTTLE,20221005CCHSIOAMB
EXPOCODE,SECT_ID,STNNBR,CASTNO,SAMPNO,BTLNBR,BTLNBR_FLAG_W,DATE,TIME,LATITUDE,LONGITUDE,DEPTH,CTDPRS,CTDPRS_FLAG_W,CTDTMP,CTDTMP_FLAG_W,CTDSAL,CTDSAL_FLAG_W,SALNTY,SALNTY_FLAG_W,CTDOXY,CTDOXY_FLAG_W,OXYGEN,OXYGEN_FLAG_W,SILCAT,SILCAT_FLAG_W,NITRAT,NITRAT_FLAG_W,NITRIT,NITRIT_FLAG_W,PHSPHT,PHSPHT_FLAG_W,CFC-11,CFC-11_FLAG_W,CFC-12,CFC-12_FLAG_W,CFC113,CFC113_FLAG_W,CCL4,CCL4_FLAG_W,TCARBN,TCARBN_FLAG_W,ALKALI,ALKALI_FLAG_W,PH_TOT,PH_TMP,DELC14,DELC14_FLAG_W,C14ERR,DELC13,DELC13_FLAG_W,C13ERR,THETA,SIG0,SBE35,SBE35_FLAG_W,PH_TOT_FLAG_W,SILUNC,NRAUNC,NRIUNC,PHPUNC,CS-137,CS-137_FLAG_W,CS137ER,PLUTO,PLUTO_FLAG_W,PLUTOER
,,,,,,,,,,,METERS,DBAR,,ITS-90,,PSS-78,,PSS-78,,UMOL/KG,,UMOL/KG,,UMOL/KG,,UMOL/KG,,UMOL/KG,,UMOL/KG,,PMOL/KG,,PMOL/KG,,PMOL/KG,,PMOL/KG,,UMOL/KG,,UMOL/KG,,,DEG C,/MILLE,,/MILLE,/MILLE,,/MILLE,DEG C,KG/M^3,ITS-90,,,UMOL/KG,UMOL/KG,UMOL/KG,UMOL/KG,DM/.1MG,,BQ/M^3,MBQ/M^3,,MBQ/M^3
49NZ20071008, P14N, 69, 1, 36, X12042, 2, 20071108, 1002, 27.9908, 178.9987, 5287,     10.0, 2,  25.6799, 2,  35.1908, 2,  35.1924, 2,    208.3, 2,    208.5, 2,     1.52, 2,     0.06, 2,     0.01, 2,     0.03, 2,    1.683, 2,    1.038, 2,    0.457, 4,    1.693, 4,   -999.0, 9,   -999.0, 9, -999.0000,   -999.00,   -999.0, 9,   -999.0,  -999.00, 9,   -999.0,  25.6777, 23.2775,  25.6705, 2, 9, 0.12, 0.03, 0.01, 0.047,  -999.00, 9, -999.00, -999.00, 9, -999.00
49NZ20071008, P14N, 69, 1, 35, X12041, 2, 20071108, 1002, 27.9908, 178.9987, 5287,     50.4, 2,  25.6568, 2,  35.1862, 2,  35.1862, 2,    224.9, 2,    208.8, 2,     1.51, 2,     0.05, 2,     0.01, 2,     0.03, 2,    1.693, 2,    1.048, 2,    0.485, 4,    1.341, 4,   -999.0, 9,   -999.0, 9, -999.0000,   -999.00,   -999.0, 9,   -999.0,  -999.00, 9,   -999.0,  25.6457, 23.2839,  25.6510, 2, 9, 0.12, 0.03, 0.01, 0.049,  -999.00, 9, -999.00, -999.00, 9, -999.00
49NZ20071008, P14N, 69, 1, 34, X12016, 2, 20071108, 1002, 27.9908, 178.9987, 5287,    100.3, 2,  18.5149, 2,  34.7774, 2,  34.7769, 2,    234.0, 2,    234.9, 2,     2.31, 2,     0.05, 2,     0.01, 2,     0.07, 2,    2.326, 2,    1.399, 2,    0.622, 4,    1.175, 4,   -999.0, 9,   -999.0, 9, -999.0000,   -999.00,   -999.0, 9,   -999.0,  -999.00, 9,   -999.0,  18.4974, 24.9781,  18.5151, 2, 9, 0.12, 0.03, 0.01, 0.028,  -999.00, 9, -999.00, -999.00, 9, -999.00
49NZ20071008, P14N, 69, 1, 33, X12033, 2, 20071108, 1002, 27.9908, 178.9987, 5287,    150.4, 2,  17.1894, 2,  34.7263, 2,  34.7247, 2,    214.9, 2,    214.1, 2,     3.73, 2,     3.89, 2,     0.03, 2,     0.30, 2,    2.441, 6,    1.436, 6,    0.161, 6,    1.093, 4,   -999.0, 9,   -999.0, 9, -999.0000,   -999.00,   -999.0, 9,   -999.0,  -999.00, 9,   -999.0,  17.1645, 25.2650,  17.1933, 2, 9, 0.13, 0.04, 0.01, 0.014,  -999.00, 9, -999.00, -999.00, 9, -999.00
49NZ20071008, P14N, 69, 1, 32, X12038, 2, 20071108, 1002, 27.9908, 178.9987, 5287,    200.9, 2,  16.3628, 2,  34.6728, 2,  34.6704, 2,    210.2, 2,    210.9, 2,     5.39, 2,     5.62, 2,     0.01, 2,     0.42, 2,    2.516, 2,    1.459, 2,    0.115, 2,    0.825, 4,   -999.0, 9,   -999.0, 9, -999.0000,   -999.00,   -999.0, 9,   -999.0,  -999.00, 9,   -999.0,  16.3306, 25.4199,  16.3641, 2, 9, 0.13, 0.05, 0.01, 0.013,  -999.00, 9, -999.00, -999.00, 9, -999.00
49NZ20071008, P14N, 69, 1, 31, X12003, 2, 20071108, 1002, 27.9908, 178.9987, 5287,    250.7, 2,  15.4171, 2,  34.6080, 2,  34.6033, 6,    206.0, 2,    206.4, 2,     7.28, 2,     7.39, 2,     0.01, 2,     0.54, 2,    2.625, 2,    1.498, 2,    0.085, 2,    0.768, 4,   -999.0, 9,   -999.0, 9, -999.0000,   -999.00,   -999.0, 9,   -999.0,  -999.00, 9,   -999.0,  15.3785, 25.5861,  15.4220, 2, 9, 0.14, 0.05, 0.01, 0.013,  -999.00, 9, -999.00, -999.00, 9, -999.00
49NZ20071008, P14N, 69, 1, 30, X12008, 2, 20071108, 1002, 27.9908, 178.9987, 5287,    281.1, 2,  14.5792, 2,  34.5466, 2,  34.5454, 2,    210.6, 2,    208.2, 2,     8.61, 2,     8.40, 2,     0.01, 2,     0.61, 2,    2.698, 2,    1.529, 2,    0.078, 2,    0.758, 4,   -999.0, 9,   -999.0, 9, -999.0000,   -999.00,   -999.0, 9,   -999.0,  -999.00, 9,   -999.0,  14.5375, 25.7227,  14.5748, 2, 9, 0.14, 0.06, 0.01, 0.013,  -999.00, 9, -999.00, -999.00, 9, -999.00
49NZ20071008, P14N, 69, 1, 29, X12035, 2, 20071108, 1002, 27.9908, 178.9987, 5287,    372.4, 2,  12.8505, 2,  34.4256, 2,  34.4233, 2,    207.3, 2,    208.0, 2,    12.55, 2,    11.22, 2,     0.01, 2,     0.82, 2,    2.831, 2,    1.558, 2,    0.082, 2,    0.000, 4,   -999.0, 9,   -999.0, 9, -999.0000,   -999.00,   -999.0, 9,   -999.0,  -999.00, 9,   -999.0,  12.7996, 25.9877,  12.8510, 2, 9, 0.15, 0.06, 0.01, 0.013,  -999.00, 9, -999.00, -999.00, 9, -999.00
49NZ20071008, P14N, 69, 1, 28, X12034, 2, 20071108, 1002, 27.9908, 178.9987, 5287,    470.1, 2,  10.3035, 2,  34.2253, 2,  34.2229, 6,    201.8, 2,    201.1, 2,    21.79, 2,    16.36, 2,     0.01, 2,     1.20, 2,    2.978, 2,    1.599, 2,    0.116, 2,    0.000, 4,   -999.0, 9,   -999.0, 9, -999.0000,   -999.00,   -999.0, 9,   -999.0,  -999.00, 9,   -999.0,  10.2477, 26.3046,  10.3056, 2, 9, 0.17, 0.08, 0.01, 0.013,  -999.00, 9, -999.00, -999.00, 9, -999.00
49NZ20071008, P14N, 69, 1, 27, X12049, 2, 20071108, 1002, 27.9908, 178.9987, 5287,    569.7, 2,   7.7676, 2,  34.0563, 2,  34.0562, 2,    171.3, 2,    171.6, 2,    38.68, 2,    23.65, 2,     0.01, 2,     1.74, 2,    2.735, 2,    1.411, 2,    0.128, 2,    1.267, 4,   -999.0, 9,   -999.0, 9, -999.0000,   -999.00,   -999.0, 9,   -999.0,  -999.00, 9,   -999.0,   7.7104, 26.5751,   7.7671, 2, 9, 0.20, 0.10, 0.01, 0.014,  -999.00, 9, -999.00, -999.00, 9, -999.00
49NZ20071008, P14N, 69, 1, 26, X12032, 2, 20071108, 1002, 27.9908, 178.9987, 5287,    668.4, 2,   6.1025, 2,  34.0287, 2,  34.0289, 2,    126.0, 2,    123.7, 2,    60.80, 2,    31.26, 2,     0.01, 2,     2.29, 2,    2.013, 6,    1.003, 6,    0.102, 6,    1.056, 4,   -999.0, 9,   -999.0, 9, -999.0000,   -999.00,   -999.0, 9,   -999.0,  -999.00, 9,   -999.0,   6.0433, 26.7797,   6.0976, 2, 9, 0.25, 0.12, 0.01, 0.016,  -999.00, 9, -999.00, -999.00, 9, -999.00
49NZ20071008, P14N, 69, 1, 25, X12043, 2, 20071108, 1002, 27.9908, 178.9987, 5287,    769.6, 2,   4.7886, 2,  34.1206, 2,  34.1211, 2,     76.0, 2,     69.7, 2,    86.83, 2,    37.99, 2,     0.01, 2,     2.76, 2,    0.958, 2,    0.459, 2,    0.036, 2,    0.572, 4,   -999.0, 9,   -999.0, 9, -999.0000,   -999.00,   -999.0, 9,   -999.0,  -999.00, 9,   -999.0,   4.7275, 27.0088,   4.7870, 2, 9, 0.31, 0.14, 0.01, 0.017,  -999.00, 9, -999.00, -999.00, 9, -999.00
49NZ20071008, P14N, 69, 1, 24, X12030, 2, 20071108, 1002, 27.9908, 178.9987, 5287,    869.8, 2,   4.2066, 2,  34.2183, 2,  34.2197, 2,     47.0, 2,     43.7, 2,   102.96, 2,    41.27, 2,     0.01, 2,     2.97, 2,    0.395, 2,    0.189, 2,    0.013, 2,    0.291, 4,   -999.0, 9,   -999.0, 9, -999.0000,   -999.00,   -999.0, 9,   -999.0,  -999.00, 9,   -999.0,   4.1407, 27.1498,   4.2073, 2, 9, 0.35, 0.15, 0.01, 0.017,  -999.00, 9, -999.00, -999.00, 9, -999.00
49NZ20071008, P14N, 69, 1, 23, X12027, 2, 20071108, 1002, 27.9908, 178.9987, 5287,    969.6, 2,   3.8755, 2,  34.2961, 2,  34.2978, 6,     35.3, 2,     34.0, 2,   113.05, 2,    42.37, 2,     0.01, 2,     3.06, 2,    0.162, 2,    0.076, 2,    0.007, 2,    0.134, 4,   -999.0, 9,   -999.0, 9, -999.0000,   -999.00,   -999.0, 9,   -999.0,  -999.00, 9,   -999.0,   3.8036, 27.2462,   3.8754, 2, 9, 0.37, 0.15, 0.01, 0.018,  -999.00, 9, -999.00, -999.00, 9, -999.00
49NZ20071008, P14N, 69, 1, 22, X12028, 2, 20071108, 1002, 27.9908, 178.9987, 5287,   1130.1, 2,   3.3012, 2,  34.4048, 2,  34.4058, 2,     31.9, 2,     31.6, 2,   128.70, 2,    43.31, 2,     0.01, 2,     3.11, 2,    0.038, 2,    0.019, 2,    0.000, 2,    0.064, 4,   -999.0, 9,   -999.0, 9, -999.0000,   -999.00,   -999.0, 9,   -999.0,  -999.00, 9,   -999.0,   3.2209, 27.3895,   3.3014, 2, 9, 0.40, 0.15, 0.01, 0.018,  -999.00, 9, -999.00, -999.00, 9, -999.00
49NZ20071008, P14N, 69, 1, 21, X12009, 2, 20071108, 1002, 27.9908, 178.9987, 5287,   1329.9, 2,   2.8531, 2,  34.4869, 2,  34.4876, 2,     41.2, 2,     41.2, 2,   139.93, 2,    43.06, 2,     0.01, 2,     3.07, 2,    0.005, 2,    0.002, 2,    0.000, 2,    0.008, 4,   -999.0, 9,   -999.0, 9, -999.0000,   -999.00,   -999.0, 9,   -999.0,  -999.00, 9,   -999.0,   2.7609, 27.4970,   2.8532, 2, 9, 0.43, 0.15, 0.01, 0.018,  -999.00, 9, -999.00, -999.00, 9, -999.00
49NZ20071008, P14N, 69, 1, 20, X12026, 2, 20071108, 1002, 27.9908, 178.9987, 5287,   1528.4, 2,   2.5041, 2,  34.5372, 2,  34.5383, 2,     53.0, 2,     53.5, 2,   147.48, 2,    42.45, 2,     0.00, 2,     3.02, 2,    0.000, 2,    0.000, 2,    0.000, 2,    0.023, 4,   -999.0, 9,   -999.0, 9, -999.0000,   -999.00,   -999.0, 9,   -999.0,  -999.00, 9,   -999.0,   2.3998, 27.5683,   2.5044, 2, 9, 0.44, 0.15, 0.01, 0.018,  -999.00, 9, -999.00, -999.00, 9, -999.00
49NZ20071008, P14N, 69, 1, 19, X12025, 2, 20071108, 1002, 27.9908, 178.9987, 5287,   1731.2, 2,   2.2350, 2,  34.5717, 2,  34.5714, 2,     65.6, 2,     64.8, 2,   152.84, 2,    41.80, 2,     0.01, 2,     2.97, 2,    0.000, 2,    0.000, 2,    0.000, 2,    0.010, 4,   -999.0, 9,   -999.0, 9, -999.0000,   -999.00,   -999.0, 9,   -999.0,  -999.00, 9,   -999.0,   2.1176, 27.6191,   2.2347, 2, 9, 0.46, 0.15, 0.01, 0.017,  -999.00, 9, -999.00, -999.00, 9, -999.00
49NZ20071008, P14N, 69, 1, 18, X12024, 2, 20071108, 1002, 27.9908, 178.9987, 5287,   1929.4, 2,   2.0250, 2,  34.5989, 2,  34.5990, 2,     79.5, 2,     78.6, 2,   155.41, 2,    41.10, 2,     0.01, 2,     2.90, 2,    0.000, 2,    0.000, 2,    0.000, 2,    0.030, 4,   -999.0, 9,   -999.0, 9, -999.0000,   -999.00,   -999.0, 9,   -999.0,  -999.00, 9,   -999.0,   1.8942, 27.6586,   2.0249, 2, 9, 0.46, 0.15, 0.01, 0.017,  -999.00, 9, -999.00, -999.00, 9, -999.00
49NZ20071008, P14N, 69, 1, 17, X12023, 2, 20071108, 1002, 27.9908, 178.9987, 5287,   2130.9, 2,   1.8665, 2,  34.6191, 2,  34.6191, 2,     92.1, 2,     90.8, 2,   156.48, 2,    40.28, 2,     0.01, 2,     2.84, 2,    0.000, 2,    0.000, 2,    0.000, 2,    0.000, 4,   -999.0, 9,   -999.0, 9, -999.0000,   -999.00,   -999.0, 9,   -999.0,  -999.00, 9,   -999.0,   1.7212, 27.6881,   1.8664, 2, 9, 0.46, 0.15, 0.01, 0.017,  -999.00, 9, -999.00, -999.00, 9, -999.00
49NZ20071008, P14N, 69, 1, 16, X12022, 2, 20071108, 1002, 27.9908, 178.9987, 5287,   2330.5, 2,   1.7474, 2,  34.6352, 2,  34.6352, 2,    103.1, 2,    102.3, 2,   156.42, 2,    39.57, 2,     0.01, 2,     2.79, 2,    0.000, 2,    0.000, 2,    0.000, 2,    0.018, 4,   -999.0, 9,   -999.0, 9, -999.0000,   -999.00,   -999.0, 9,   -999.0,  -999.00, 9,   -999.0,   1.5869, 27.7110,   1.7473, 2, 9, 0.46, 0.14, 0.01, 0.017,  -999.00, 9, -999.00, -999.00, 9, -999.00
49NZ20071008, P14N, 69, 1, 15, X12021, 2, 20071108, 1002, 27.9908, 178.9987, 5287,   2529.3, 2,   1.6645, 2,  34.6470, 2,  34.6469, 6,    111.5, 2,    111.5, 2,   155.77, 2,    38.93, 2,     0.01, 2,     2.74, 2,    0.000, 2,    0.000, 2,    0.000, 2,    0.000, 4,   -999.0, 9,   -999.0, 9, -999.0000,   -999.00,   -999.0, 9,   -999.0,  -999.00, 9,   -999.0,   1.4879, 27.7277,   1.6645, 2, 9, 0.46, 0.14, 0.01, 0.017,  -999.00, 9, -999.00, -999.00, 9, -999.00
49NZ20071008, P14N, 69, 1, 14, X12020, 2, 20071108, 1002, 27.9908, 178.9987, 5287,   2729.2, 2,   1.6018, 2,  34.6555, 2,  34.6557, 2,    118.6, 2,    118.9, 2,   155.29, 2,    38.49, 2,     0.01, 2,     2.70, 2,    0.000, 2,    0.000, 2,    0.000, 2,    0.033, 4,   -999.0, 9,   -999.0, 9, -999.0000,   -999.00,   -999.0, 9,   -999.0,  -999.00, 9,   -999.0,   1.4083, 27.7404,   1.6017, 2, 9, 0.46, 0.14, 0.01, 0.017,  -999.00, 9, -999.00, -999.00, 9, -999.00
49NZ20071008, P14N, 69, 1, 13, X12019, 2, 20071108, 1002, 27.9908, 178.9987, 5287,   2929.9, 2,   1.5570, 2,  34.6623, 2,  34.6624, 2,    125.7, 2,    125.1, 2,   154.39, 2,    37.99, 2,     0.00, 2,     2.66, 2, -999.000, 9, -999.000, 9, -999.000, 9,    0.003, 4,   -999.0, 9,   -999.0, 9, -999.0000,   -999.00,   -999.0, 9,   -999.0,  -999.00, 9,   -999.0,   1.3457, 27.7503,   1.5569, 2, 9, 0.46, 0.14, 0.01, 0.017,  -999.00, 9, -999.00, -999.00, 9, -999.00
49NZ20071008, P14N, 69, 1, 12, X12040, 2, 20071108, 1002, 27.9908, 178.9987, 5287,   3170.2, 2,   1.5153, 2,  34.6694, 2,  34.6694, 2,    132.6, 2,    132.6, 2,   152.85, 2,    37.48, 2,     0.00, 2,     2.63, 2,    0.000, 2,    0.000, 2,    0.000, 2,    0.034, 4,   -999.0, 9,   -999.0, 9, -999.0000,   -999.00,   -999.0, 9,   -999.0,  -999.00, 9,   -999.0,   1.2818, 27.7604,   1.5152, 2, 9, 0.46, 0.14, 0.01, 0.017,  -999.00, 9, -999.00, -999.00, 9, -999.00
49NZ20071008, P14N, 69, 1, 11, X12047, 2, 20071108, 1002, 27.9908, 178.9987, 5287,   3419.8, 2,   1.4901, 2,  34.6747, 2,  34.6744, 2,    138.3, 2,    138.3, 2,   151.73, 2,    37.22, 2,     0.00, 2,     2.59, 2, -999.000, 9, -999.000, 9, -999.000, 9,    0.005, 4,   -999.0, 9,   -999.0, 9, -999.0000,   -999.00,   -999.0, 9,   -999.0,  -999.00, 9,   -999.0,   1.2324, 27.7681,   1.4900, 2, 9, 0.45, 0.14, 0.01, 0.016,  -999.00, 9, -999.00, -999.00, 9, -999.00
49NZ20071008, P14N, 69, 1, 10, X12017, 2, 20071108, 1002, 27.9908, 178.9987, 5287,   3669.3, 2,   1.4656, 2,  34.6797, 2,  34.6796, 2,    144.1, 2,    144.2, 2,   150.25, 2,    36.76, 2,     0.00, 2,     2.57, 2, -999.000, 9, -999.000, 9, -999.000, 9,    0.033, 4,   -999.0, 9,   -999.0, 9, -999.0000,   -999.00,   -999.0, 9,   -999.0,  -999.00, 9,   -999.0,   1.1829, 27.7756,   1.4655, 2, 9, 0.45, 0.14, 0.01, 0.016,  -999.00, 9, -999.00, -999.00, 9, -999.00
49NZ20071008, P14N, 69, 1, 9, X12015, 2, 20071108, 1002, 27.9908, 178.9987, 5287,   3916.8, 2,   1.4556, 2,  34.6833, 2,  34.6831, 6,    149.0, 2,    148.8, 2,   148.89, 2,    36.51, 2,     0.00, 2,     2.55, 2,    0.001, 2,    0.000, 2,    0.000, 2,    0.005, 4,   -999.0, 9,   -999.0, 9, -999.0000,   -999.00,   -999.0, 9,   -999.0,  -999.00, 9,   -999.0,   1.1469, 27.7810,   1.4555, 2, 9, 0.45, 0.14, 0.01, 0.016,  -999.00, 9, -999.00, -999.00, 9, -999.00
49NZ20071008, P14N, 69, 1, 8, X12046, 2, 20071108, 1002, 27.9908, 178.9987, 5287,   4170.5, 2,   1.4535, 2,  34.6862, 2,  34.6860, 2,    152.8, 2,    152.8, 2,   147.78, 2,    36.19, 2,     0.00, 2,     2.53, 2, -999.000, 9, -999.000, 9, -999.000, 9,    0.017, 4,   -999.0, 9,   -999.0, 9, -999.0000,   -999.00,   -999.0, 9,   -999.0,  -999.00, 9,   -999.0,   1.1172, 27.7853,   1.4534, 2, 9, 0.44, 0.13, 0.01, 0.016,  -999.00, 9, -999.00, -999.00, 9, -999.00
49NZ20071008, P14N, 69, 1, 7, X12044, 2, 20071108, 1002, 27.9908, 178.9987, 5287,   4419.9, 2,   1.4551, 2,  34.6888, 2,  34.6887, 2,    156.7, 2,    156.8, 2,   145.44, 2,    35.84, 2,     0.01, 2,     2.51, 2, -999.000, 9, -999.000, 9, -999.000, 9,    0.000, 4,   -999.0, 9,   -999.0, 9, -999.0000,   -999.00,   -999.0, 9,   -999.0,  -999.00, 9,   -999.0,   1.0907, 27.7892,   1.4550, 2, 9, 0.44, 0.13, 0.01, 0.016,  -999.00, 9, -999.00, -999.00, 9, -999.00
49NZ20071008, P14N, 69, 1, 6, X12048, 2, 20071108, 1002, 27.9908, 178.9987, 5287,   4669.5, 2,   1.4592, 2,  34.6910, 2,  34.6911, 2,    160.9, 2,    160.9, 2,   142.47, 2,    35.59, 2,     0.00, 2,     2.48, 2,    0.000, 2,    0.000, 2,    0.000, 2,    0.033, 4,   -999.0, 9,   -999.0, 9, -999.0000,   -999.00,   -999.0, 9,   -999.0,  -999.00, 9,   -999.0,   1.0658, 27.7927,   1.4591, 2, 9, 0.43, 0.13, 0.01, 0.016,  -999.00, 9, -999.00, -999.00, 9, -999.00
49NZ20071008, P14N, 69, 1, 5, X12014, 2, 20071108, 1002, 27.9908, 178.9987, 5287,   4918.6, 2,   1.4655, 2,  34.6930, 2,  34.6932, 2,    165.4, 2,    165.3, 2,   139.02, 2,    35.24, 2,     0.00, 2,     2.46, 2,    0.000, 2,    0.000, 2,    0.000, 2,    0.000, 4,   -999.0, 9,   -999.0, 9, -999.0000,   -999.00,   -999.0, 9,   -999.0,  -999.00, 9,   -999.0,   1.0422, 27.7958,   1.4654, 2, 9, 0.42, 0.13, 0.01, 0.016,  -999.00, 9, -999.00, -999.00, 9, -999.00
49NZ20071008, P14N, 69, 1, 4, X12006, 2, 20071108, 1002, 27.9908, 178.9987, 5287,   5168.1, 2,   1.4696, 2,  34.6952, 2,  34.6954, 2,    170.1, 2,    170.0, 2,   135.41, 2,    34.96, 2,     0.01, 2,     2.43, 2, -999.000, 9, -999.000, 9, -999.000, 9,    0.014, 4,   -999.0, 9,   -999.0, 9, -999.0000,   -999.00,   -999.0, 9,   -999.0,  -999.00, 9,   -999.0,   1.0158, 27.7994,   1.4695, 2, 9, 0.42, 0.13, 0.01, 0.016,  -999.00, 9, -999.00, -999.00, 9, -999.00
49NZ20071008, P14N, 69, 1, 3, X12013, 9, 20071108, 1002, 27.9908, 178.9987, 5287,     10.2, 2,  25.7696, 2,  35.1933, 2, -999.0000, 9,    207.8, 2,   -999.0, 9,  -999.00, 9,  -999.00, 9,  -999.00, 9,  -999.00, 9, -999.000, 9, -999.000, 9, -999.000, 9, -999.000, 9,   -999.0, 9,   -999.0, 9, -999.0000,   -999.00,   -999.0, 9,   -999.0,  -999.00, 9,   -999.0,  25.7673, 23.2516,  25.7681, 2, 9, -999.00, -999.00, -999.00, -999.000,  -999.00, 9, -999.00, -999.00, 9, -999.00
49NZ20071008, P14N, 69, 1, 2, X12002, 9, 20071108, 1002, 27.9908, 178.9987, 5287,   5363.1, 2,   1.4745, 2,  34.6968, 2, -999.0000, 9,    173.9, 2,   -999.0, 9,  -999.00, 9,  -999.00, 9,  -999.00, 9,  -999.00, 9, -999.000, 9, -999.000, 9, -999.000, 9, -999.000, 9,   -999.0, 9,   -999.0, 9, -999.0000,   -999.00,   -999.0, 9,   -999.0,  -999.00, 9,   -999.0,   0.9962, 27.8020,   1.4744, 2, 9, -999.00, -999.00, -999.00, -999.000,  -999.00, 9, -999.00, -999.00, 9, -999.00
49NZ20071008, P14N, 69, 1, 1, X12001, 2, 20071108, 1002, 27.9908, 178.9987, 5287,   5362.9, 2,   1.4745, 2,  34.6968, 2,  34.6972, 6,    173.9, 2,    173.7, 2,   132.51, 2,    34.66, 2,     0.01, 2,     2.41, 2,    0.002, 2,    0.001, 2,    0.000, 2,    0.002, 4,   -999.0, 9,   -999.0, 9, -999.0000,   -999.00,   -999.0, 9,   -999.0,  -999.00, 9,   -999.0,   0.9962, 27.8020,   1.4744, 2, 9, 0.41, 0.13, 0.01, 0.016,  -999.00, 9, -999.00, -999.00, 9, -999.00