BOTTLE,20221005CCHSIOAMB
EXPOCODE,SECT_ID,STNNBR,CASTNO,SAMPNO,BTLNBR,BTLNBR_FLAG_W,DATE,TIME,LATITUDE,LONGITUDE,DEPTH,CTDPRS,CTDPRS_FLAG_W,CTDTMP,CTDTMP_FLAG_W,CTDSAL,CTDSAL_FLAG_W,SALNTY,SALNTY_FLAG_W,CTDOXY,CTDOXY_FLAG_W,OXYGEN,OXYGEN_FLAG_W,SILCAT,SILCAT_FLAG_W,NITRAT,NITRAT_FLAG_W,NITRIT,NITRIT_FLAG_W,PHSPHT,PHSPHT_FLAG_W,CFC-11,CFC-11_FLAG_W,CFC-12,CFC-12_FLAG_W,CFC113,CFC113_FLAG_W,CCL4,CCL4_FLAG_W,TCARBN,TCARBN_FLAG_W,ALKALI,ALKALI_FLAG_W,PH_TOT,PH_TMP,DELC14,DELC14_FLAG_W,C14ERR,DELC13,DELC13_FLAG_W,C13ERR,THETA,SIG0,SBE35,SBE35_FLAG_W,PH_TOT_FLAG_W,SILUNC,NRAUNC,NRIUNC,PHPUNC,CS-137,CS-137_FLAG_W,CS137ER,PLUTO,PLUTO_FLAG_W,PLUTOER
,,,,,,,,,,,METERS,DBAR,,ITS-90,,PSS-78,,PSS-78,,UMOL/KG,,UMOL/KG,,UMOL/KG,,UMOL/KG,,UMOL/KG,,UMOL/KG,,PMOL/KG,,PMOL/KG,,PMOL/KG,,PMOL/KG,,UMOL/KG,,UMOL/KG,,,DEG C,/MILLE,,/MILLE,/MILLE,,/MILLE,DEG C,KG/M^3,ITS-90,,,UMOL/KG,UMOL/KG,UMOL/KG,UMOL/KG,DM/.1MG,,BQ/M^3,MBQ/M^3,,MBQ/M^3
49NZ20071008, P14N, 43, 1, 36, X12042, 2, 20071102, 0620, 40.9732, 178.9973, 5435,     10.9, 2,  16.1432, 2,  33.8184, 2,  33.8185, 2,    248.5, 2,    247.1, 2,     2.84, 2,     0.36, 2,     0.03, 2,     0.19, 2,    2.720, 2,    1.538, 2,    0.287, 4, -999.000, 9,   -999.0, 9,   -999.0, 9, -999.0000,   -999.00,   -999.0, 9,   -999.0,  -999.00, 9,   -999.0,  16.1415, 24.8066,  16.1433, 2, 9, 0.13, 0.03, 0.01, 0.016,  -999.00, 9, -999.00, -999.00, 9, -999.00
49NZ20071008, P14N, 43, 1, 35, X12041, 2, 20071102, 0620, 40.9732, 178.9973, 5435,     51.4, 2,  15.4815, 2,  33.7367, 2,  33.7437, 2,    247.3, 2,    250.3, 2,     3.27, 2,     0.67, 2,     0.05, 2,     0.24, 2,    2.702, 2,    1.540, 2,    0.281, 2, -999.000, 9,   -999.0, 9,   -999.0, 9, -999.0000,   -999.00,   -999.0, 9,   -999.0,  -999.00, 9,   -999.0,  15.4737, 24.8940,  15.4841, 2, 9, 0.13, 0.03, 0.01, 0.015,  -999.00, 9, -999.00, -999.00, 9, -999.00
49NZ20071008, P14N, 43, 1, 34, X12016, 2, 20071102, 0620, 40.9732, 178.9973, 5435,    101.6, 2,  10.2774, 2,  34.1517, 2,  34.1541, 2,    248.7, 2,    247.1, 2,    15.89, 2,    12.65, 2,     0.03, 2,     0.98, 2,    3.447, 2,    1.884, 2,    0.274, 2, -999.000, 9,   -999.0, 9,   -999.0, 9, -999.0000,   -999.00,   -999.0, 9,   -999.0,  -999.00, 9,   -999.0,  10.2656, 26.2441,  10.2750, 2, 9, 0.15, 0.07, 0.01, 0.013,  -999.00, 1, -999.00, -999.00, 9, -999.00
49NZ20071008, P14N, 43, 1, 33, X12033, 2, 20071102, 0620, 40.9732, 178.9973, 5435,    151.2, 2,   9.2103, 2,  34.0566, 2,  34.0569, 2,    258.3, 2,    256.9, 2,    17.75, 2,    13.10, 2,     0.02, 2,     1.02, 2,    3.673, 2,    1.985, 2,    0.285, 6, -999.000, 9,   -999.0, 9,   -999.0, 9, -999.0000,   -999.00,   -999.0, 9,   -999.0,  -999.00, 9,   -999.0,   9.1939, 26.3484,   9.2103, 2, 9, 0.16, 0.07, 0.01, 0.013,  -999.00, 9, -999.00, -999.00, 9, -999.00
49NZ20071008, P14N, 43, 1, 32, X12038, 2, 20071102, 0620, 40.9732, 178.9973, 5435,    201.4, 2,   8.6996, 2,  34.0115, 2,  34.0103, 2,    261.7, 2,    258.5, 2,    19.34, 2,    13.77, 2,     0.02, 2,     1.08, 2,    3.665, 2,    1.979, 2,    0.287, 2, -999.000, 9,   -999.0, 9,   -999.0, 9, -999.0000,   -999.00,   -999.0, 9,   -999.0,  -999.00, 9,   -999.0,   8.6785, 26.3946,   8.7005, 2, 9, 0.16, 0.07, 0.01, 0.013,  -999.00, 1, -999.00, -999.00, 9, -999.00
49NZ20071008, P14N, 43, 1, 31, X12003, 2, 20071102, 0620, 40.9732, 178.9973, 5435,    250.2, 2,   8.3320, 2,  34.0134, 2,  34.0130, 6,    238.6, 2,    236.5, 2,    24.12, 2,    16.50, 2,     0.01, 2,     1.26, 2,    3.558, 2,    1.888, 2,    0.262, 2, -999.000, 9,   -999.0, 9,   -999.0, 9, -999.0000,   -999.00,   -999.0, 9,   -999.0,  -999.00, 9,   -999.0,   8.3063, 26.4531,   8.3327, 2, 9, 0.17, 0.08, 0.01, 0.013,  -999.00, 9, -999.00, -999.00, 9, -999.00
49NZ20071008, P14N, 43, 1, 30, X12008, 2, 20071102, 0620, 40.9732, 178.9973, 5435,    302.6, 2,   7.0627, 2,  33.9365, 2,  33.9403, 2,    205.7, 2,    205.2, 2,    35.68, 2,    21.96, 2,     0.01, 2,     1.64, 2,    3.436, 2,    1.793, 2,    0.214, 2, -999.000, 9,   -999.0, 9,   -999.0, 9, -999.0000,   -999.00,   -999.0, 9,   -999.0,  -999.00, 9,   -999.0,   7.0345, 26.5763,   7.0638, 2, 9, 0.20, 0.09, 0.01, 0.014,  -999.00, 9, -999.00, -999.00, 9, -999.00
49NZ20071008, P14N, 43, 1, 29, X12035, 2, 20071102, 0620, 40.9732, 178.9973, 5435,    399.8, 2,   5.6792, 2,  33.9147, 2,  33.9139, 2,    153.7, 2,    153.7, 2,    55.64, 2,    29.22, 2,     0.01, 2,     2.16, 2,    2.872, 2,    1.447, 2,    0.185, 2, -999.000, 9,   -999.0, 9,   -999.0, 9, -999.0000,   -999.00,   -999.0, 9,   -999.0,  -999.00, 9,   -999.0,   5.6459, 26.7388,   5.6817, 2, 9, 0.24, 0.11, 0.01, 0.015,  -999.00, 1, -999.00, -999.00, 9, -999.00
49NZ20071008, P14N, 43, 1, 28, X12034, 2, 20071102, 0620, 40.9732, 178.9973, 5435,    500.4, 2,   4.8072, 2,  33.9995, 2,  34.0018, 6,    101.1, 2,    101.2, 2,    76.87, 2,    35.23, 2,     0.01, 2,     2.59, 2,    1.980, 2,    0.972, 2,    0.109, 2, -999.000, 9,   -999.0, 9,   -999.0, 9, -999.0000,   -999.00,   -999.0, 9,   -999.0,  -999.00, 9,   -999.0,   4.7685, 26.9081,   4.8074, 2, 9, 0.29, 0.13, 0.01, 0.016,  -999.00, 9, -999.00, -999.00, 9, -999.00
49NZ20071008, P14N, 43, 1, 27, X12049, 2, 20071102, 0620, 40.9732, 178.9973, 5435,    600.5, 2,   4.4114, 2,  34.0765, 2,  34.0767, 2,     71.1, 2,     74.4, 2,    90.08, 2,    38.18, 2,     0.01, 2,     2.78, 2,    1.433, 2,    0.692, 2,    0.079, 2, -999.000, 9,   -999.0, 9,   -999.0, 9, -999.0000,   -999.00,   -999.0, 9,   -999.0,  -999.00, 9,   -999.0,   4.3663, 27.0132,   4.4117, 2, 9, 0.32, 0.14, 0.01, 0.017,  -999.00, 1, -999.00, -999.00, 9, -999.00
49NZ20071008, P14N, 43, 1, 26, X12032, 2, 20071102, 0620, 40.9732, 178.9973, 5435,    700.9, 2,   4.0973, 2,  34.1586, 2,  34.1593, 2,     50.3, 2,     53.7, 2,   102.35, 2,    40.13, 2,     0.01, 2,     2.91, 2,    0.932, 6,    0.445, 6,    0.059, 6, -999.000, 9,   -999.0, 9,   -999.0, 9, -999.0000,   -999.00,   -999.0, 9,   -999.0,  -999.00, 9,   -999.0,   4.0457, 27.1121,   4.0971, 2, 9, 0.34, 0.15, 0.01, 0.017,  -999.00, 9, -999.00, -999.00, 9, -999.00
49NZ20071008, P14N, 43, 1, 25, X12043, 2, 20071102, 0620, 40.9732, 178.9973, 5435,    801.7, 2,   3.7905, 2,  34.2337, 2,  34.2334, 2,     40.3, 2,     41.8, 2,   113.56, 2,    41.42, 2,     0.01, 2,     3.00, 2,    0.559, 2,    0.262, 2,    0.025, 2, -999.000, 9,   -999.0, 9,   -999.0, 9, -999.0000,   -999.00,   -999.0, 9,   -999.0,  -999.00, 9,   -999.0,   3.7327, 27.2036,   3.7904, 2, 9, 0.37, 0.15, 0.01, 0.017,  -999.00, 1, -999.00, -999.00, 9, -999.00
49NZ20071008, P14N, 43, 1, 24, X12030, 2, 20071102, 0620, 40.9732, 178.9973, 5435,    901.2, 2,   3.5446, 2,  34.2885, 2,  34.2893, 2,     33.4, 2,     34.6, 2,   121.44, 2,    42.41, 2,     0.01, 2,     3.05, 2,    0.300, 2,    0.137, 2,    0.007, 2, -999.000, 9,   -999.0, 9,   -999.0, 9, -999.0000,   -999.00,   -999.0, 9,   -999.0,  -999.00, 9,   -999.0,   3.4806, 27.2720,   3.5446, 2, 9, 0.39, 0.15, 0.01, 0.018,  -999.00, 9, -999.00, -999.00, 9, -999.00
49NZ20071008, P14N, 43, 1, 23, X12027, 2, 20071102, 0620, 40.9732, 178.9973, 5435,   1000.7, 2,   3.2757, 2,  34.3381, 2,  34.3392, 6,     31.9, 2,     31.1, 2,   129.83, 2,    42.90, 2,     0.01, 2,     3.09, 2,    0.185, 2,    0.084, 2,    0.000, 2, -999.000, 9,   -999.0, 9,   -999.0, 9, -999.0000,   -999.00,   -999.0, 9,   -999.0,  -999.00, 9,   -999.0,   3.2059, 27.3377,   3.2764, 2, 9, 0.40, 0.15, 0.01, 0.018,  -999.00, 1, -999.00, -999.00, 9, -999.00
49NZ20071008, P14N, 43, 1, 22, X12028, 2, 20071102, 0620, 40.9732, 178.9973, 5435,   1202.2, 2,   2.8620, 2,  34.4106, 2,  34.4110, 2,     28.0, 2,     25.5, 2,   143.04, 2,    43.76, 2,     0.00, 2,     3.14, 2,    0.066, 2,    0.032, 2,    0.000, 2, -999.000, 9,   -999.0, 9,   -999.0, 9, -999.0000,   -999.00,   -999.0, 9,   -999.0,  -999.00, 9,   -999.0,   2.7800, 27.4344,   2.8624, 2, 9, 0.43, 0.16, 0.01, 0.018,  -999.00, 9, -999.00, -999.00, 9, -999.00
49NZ20071008, P14N, 43, 1, 21, X12009, 2, 20071102, 0620, 40.9732, 178.9973, 5435,   1400.5, 2,   2.5494, 2,  34.4669, 2,  34.4668, 2,     28.8, 2,     29.6, 2,   152.15, 2,    43.82, 2,     0.01, 2,     3.12, 2,    0.038, 2,    0.016, 2,    0.000, 2, -999.000, 9,   -999.0, 9,   -999.0, 9, -999.0000,   -999.00,   -999.0, 9,   -999.0,  -999.00, 9,   -999.0,   2.4549, 27.5074,   2.5495, 2, 9, 0.45, 0.16, 0.01, 0.018,  -999.00, 9, -999.00, -999.00, 9, -999.00
49NZ20071008, P14N, 43, 1, 20, X12026, 2, 20071102, 0620, 40.9732, 178.9973, 5435,   1600.8, 2,   2.2990, 2,  34.5203, 2,  34.5203, 2,     31.1, 2,     31.5, 2,   160.59, 2,    43.90, 2,     0.01, 2,     3.11, 2,    0.005, 2,    0.001, 2,    0.000, 2, -999.000, 9,   -999.0, 9,   -999.0, 9, -999.0000,   -999.00,   -999.0, 9,   -999.0,  -999.00, 9,   -999.0,   2.1914, 27.5720,   2.2993, 2, 9, 0.47, 0.16, 0.01, 0.018,  -999.00, 9, -999.00, -999.00, 9, -999.00
49NZ20071008, P14N, 43, 1, 19, X12025, 2, 20071102, 0620, 40.9732, 178.9973, 5435,   1801.5, 2,   2.1329, 2,  34.5544, 2,  34.5540, 2,     42.8, 2,     43.1, 2,   163.76, 2,    43.27, 2,     0.00, 2,     3.06, 2,    0.002, 2,    0.000, 2,    0.000, 2, -999.000, 9,   -999.0, 9,   -999.0, 9, -999.0000,   -999.00,   -999.0, 9,   -999.0,  -999.00, 9,   -999.0,   2.0112, 27.6138,   2.1331, 2, 9, 0.48, 0.15, 0.01, 0.018,  -999.00, 1, -999.00, -999.00, 9, -999.00
49NZ20071008, P14N, 43, 1, 18, X12024, 2, 20071102, 0620, 40.9732, 178.9973, 5435,   2000.8, 2,   1.9715, 2,  34.5865, 2,  34.5861, 2,     51.5, 2,     54.3, 2,   167.33, 2,    42.60, 2,     0.01, 2,     3.02, 2,    0.000, 2,    0.000, 2,    0.000, 2, -999.000, 9,   -999.0, 9,   -999.0, 9, -999.0000,   -999.00,   -999.0, 9,   -999.0,  -999.00, 9,   -999.0,   1.8356, 27.6532,   1.9715, 2, 9, 0.49, 0.15, 0.01, 0.017,  -999.00, 1, -999.00, -999.00, 9, -999.00
49NZ20071008, P14N, 43, 1, 17, X12023, 2, 20071102, 0620, 40.9732, 178.9973, 5435,   2202.3, 2,   1.8496, 2,  34.6077, 2,  34.6072, 2,     68.9, 2,     69.3, 2,   167.54, 2,    41.63, 2,     0.01, 2,     2.94, 2,    0.000, 2,    0.000, 2,    0.000, 2, -999.000, 9,   -999.0, 9,   -999.0, 9, -999.0000,   -999.00,   -999.0, 9,   -999.0,  -999.00, 9,   -999.0,   1.6985, 27.6806,   1.8497, 2, 9, 0.49, 0.15, 0.01, 0.017,  -999.00, 1, -999.00, -999.00, 9, -999.00
49NZ20071008, P14N, 43, 1, 16, X12022, 2, 20071102, 0620, 40.9732, 178.9973, 5435,   2401.9, 2,   1.7519, 2,  34.6262, 2,  34.6258, 6,     80.6, 2,     81.4, 2,   167.78, 2,    40.90, 2,     0.01, 2,     2.88, 2,    0.000, 2,    0.000, 2,    0.000, 2, -999.000, 9,   -999.0, 9,   -999.0, 9, -999.0000,   -999.00,   -999.0, 9,   -999.0,  -999.00, 9,   -999.0,   1.5851, 27.7039,   1.7519, 2, 9, 0.49, 0.15, 0.01, 0.017,  -999.00, 9, -999.00, -999.00, 9, -999.00
49NZ20071008, P14N, 43, 1, 15, X12021, 2, 20071102, 0620, 40.9732, 178.9973, 5435,   2605.1, 2,   1.6693, 2,  34.6404, 2,  34.6401, 2,     93.5, 2,     95.8, 2,   165.11, 2,    40.03, 2,     0.01, 2,     2.83, 2, -999.000, 9, -999.000, 9, -999.000, 9, -999.000, 9,   -999.0, 9,   -999.0, 9, -999.0000,   -999.00,   -999.0, 9,   -999.0,  -999.00, 9,   -999.0,   1.4858, 27.7227,   1.6694, 2, 9, 0.48, 0.14, 0.01, 0.017,  -999.00, 9, -999.00, -999.00, 9, -999.00
49NZ20071008, P14N, 43, 1, 14, X12020, 2, 20071102, 0620, 40.9732, 178.9973, 5435,   2800.2, 2,   1.6126, 2,  34.6505, 2,  34.6505, 2,    104.2, 2,    106.0, 2,   163.27, 2,    39.35, 2,     0.01, 2,     2.76, 2, -999.000, 9, -999.000, 9, -999.000, 9, -999.000, 9,   -999.0, 9,   -999.0, 9, -999.0000,   -999.00,   -999.0, 9,   -999.0,  -999.00, 9,   -999.0,   1.4123, 27.7360,   1.6126, 2, 9, 0.48, 0.14, 0.01, 0.017,  -999.00, 1, -999.00, -999.00, 9, -999.00
49NZ20071008, P14N, 43, 1, 13, X12019, 2, 20071102, 0620, 40.9732, 178.9973, 5435,   3002.3, 2,   1.5688, 2,  34.6586, 2,  34.6582, 2,    112.6, 2,    115.2, 2,   161.33, 2,    38.62, 2,     0.00, 2,     2.72, 2,    0.000, 2,    0.000, 2,    0.000, 2, -999.000, 9,   -999.0, 9,   -999.0, 9, -999.0000,   -999.00,   -999.0, 9,   -999.0,  -999.00, 9,   -999.0,   1.3504, 27.7469,   1.5688, 2, 9, 0.47, 0.14, 0.01, 0.017,  -999.00, 1, -999.00, -999.00, 9, -999.00
49NZ20071008, P14N, 43, 1, 12, X12040, 2, 20071102, 0620, 40.9732, 178.9973, 5435,   3251.0, 2,   1.5234, 2,  34.6672, 2,  34.6670, 2,    125.0, 2,    126.3, 2,   157.93, 2,    37.83, 2,     0.00, 2,     2.66, 2, -999.000, 9, -999.000, 9, -999.000, 9, -999.000, 9,   -999.0, 9,   -999.0, 9, -999.0000,   -999.00,   -999.0, 9,   -999.0,  -999.00, 9,   -999.0,   1.2818, 27.7587,   1.5234, 2, 9, 0.47, 0.14, 0.01, 0.017,  -999.00, 1, -999.00, -999.00, 9, -999.00
49NZ20071008, P14N, 43, 1, 11, X12047, 2, 20071102, 0620, 40.9732, 178.9973, 5435,   3501.2, 2,   1.4882, 2,  34.6744, 2,  34.6741, 2,    135.4, 2,    135.6, 2,   155.53, 2,    37.16, 2,     0.00, 2,     2.61, 2, -999.000, 9, -999.000, 9, -999.000, 9, -999.000, 9,   -999.0, 9,   -999.0, 9, -999.0000,   -999.00,   -999.0, 9,   -999.0,  -999.00, 9,   -999.0,   1.2223, 27.7686,   1.4882, 2, 9, 0.46, 0.14, 0.01, 0.017,  -999.00, 9, -999.00, -999.00, 9, -999.00
49NZ20071008, P14N, 43, 1, 10, X12017, 2, 20071102, 0620, 40.9732, 178.9973, 5435,   3750.0, 2,   1.4704, 2,  34.6795, 2,  34.6793, 2,    142.3, 2,    141.9, 2,   154.30, 2,    36.78, 2,     0.00, 2,     2.59, 2,    0.000, 2,    0.000, 2,    0.000, 2, -999.000, 9,   -999.0, 9,   -999.0, 9, -999.0000,   -999.00,   -999.0, 9,   -999.0,  -999.00, 9,   -999.0,   1.1791, 27.7757,   1.4705, 2, 9, 0.46, 0.14, 0.01, 0.016,  -999.00, 1, -999.00, -999.00, 9, -999.00
49NZ20071008, P14N, 43, 1, 9, X12015, 2, 20071102, 0620, 40.9732, 178.9973, 5435,   4001.2, 2,   1.4648, 2,  34.6832, 2,  34.6831, 6,    147.2, 2,    146.7, 2,   153.29, 2,    36.50, 2,     0.00, 2,     2.56, 2, -999.000, 9, -999.000, 9, -999.000, 9, -999.000, 9,   -999.0, 9,   -999.0, 9, -999.0000,   -999.00,   -999.0, 9,   -999.0,  -999.00, 9,   -999.0,   1.1468, 27.7809,   1.4648, 2, 9, 0.46, 0.13, 0.01, 0.016,  -999.00, 1, -999.00, -999.00, 9, -999.00
49NZ20071008, P14N, 43, 1, 8, X12046, 2, 20071102, 0620, 40.9732, 178.9973, 5435,   4249.9, 2,   1.4704, 2,  34.6858, 2,  34.6859, 2,    150.3, 2,    149.9, 2,   153.49, 2,    36.17, 2,     0.00, 2,     2.54, 2, -999.000, 9, -999.000, 9, -999.000, 9, -999.000, 9,   -999.0, 9,   -999.0, 9, -999.0000,   -999.00,   -999.0, 9,   -999.0,  -999.00, 9,   -999.0,   1.1248, 27.7845,   1.4704, 2, 9, 0.46, 0.13, 0.01, 0.016,  -999.00, 1, -999.00, -999.00, 9, -999.00
49NZ20071008, P14N, 43, 1, 7, X12044, 2, 20071102, 0620, 40.9732, 178.9973, 5435,   4501.5, 2,   1.4860, 2,  34.6876, 2,  34.6876, 2,    152.0, 2,    151.5, 2,   154.49, 2,    36.17, 2,     0.00, 2,     2.53, 2,    0.000, 2,    0.000, 2,    0.000, 2, -999.000, 9,   -999.0, 9,   -999.0, 9, -999.0000,   -999.00,   -999.0, 9,   -999.0,  -999.00, 9,   -999.0,   1.1113, 27.7868,   1.4859, 2, 9, 0.46, 0.13, 0.01, 0.016,  -999.00, 9, -999.00, -999.00, 9, -999.00
49NZ20071008, P14N, 43, 1, 6, X12048, 2, 20071102, 0620, 40.9732, 178.9973, 5435,   4750.5, 2,   1.5093, 2,  34.6884, 2,  34.6882, 2,    152.5, 2,    152.6, 2,   154.14, 2,    36.19, 2,     0.00, 2,     2.53, 2, -999.000, 9, -999.000, 9, -999.000, 9, -999.000, 9,   -999.0, 9,   -999.0, 9, -999.0000,   -999.00,   -999.0, 9,   -999.0,  -999.00, 9,   -999.0,   1.1047, 27.7880,   1.5093, 2, 9, 0.46, 0.13, 0.01, 0.016,  -999.00, 1, -999.00, -999.00, 9, -999.00
49NZ20071008, P14N, 43, 1, 5, X12014, 2, 20071102, 0620, 40.9732, 178.9973, 5435,   4998.4, 2,   1.5362, 2,  34.6890, 2,  34.6887, 2,    153.2, 2,    152.9, 2,   154.44, 2,    36.12, 2,     0.00, 2,     2.52, 2, -999.000, 9, -999.000, 9, -999.000, 9, -999.000, 9,   -999.0, 9,   -999.0, 9, -999.0000,   -999.00,   -999.0, 9,   -999.0,  -999.00, 9,   -999.0,   1.1009, 27.7886,   1.5363, 2, 9, 0.46, 0.13, 0.01, 0.016,  -999.00, 1, -999.00, -999.00, 9, -999.00
49NZ20071008, P14N, 43, 1, 4, X12006, 2, 20071102, 0620, 40.9732, 178.9973, 5435,   5250.1, 2,   1.5658, 2,  34.6891, 2,  34.6891, 2,    153.9, 2,    153.4, 2,   154.15, 2,    36.06, 2,     0.00, 2,     2.52, 2,    0.000, 2,    0.000, 2,    0.000, 2, -999.000, 9,   -999.0, 9,   -999.0, 9, -999.0000,   -999.00,   -999.0, 9,   -999.0,  -999.00, 9,   -999.0,   1.0985, 27.7889,   1.5658, 2, 9, 0.46, 0.13, 0.01, 0.016,  -999.00, 1, -999.00, -999.00, 9, -999.00
49NZ20071008, P14N, 43, 1, 3, X12013, 2, 20071102, 0620, 40.9732, 178.9973, 5435,   5501.4, 2,   1.5981, 2,  34.6892, 2,  34.6893, 2,    154.1, 2,    153.6, 2,   153.83, 2,    35.98, 2,     0.00, 2,     2.52, 2, -999.000, 9, -999.000, 9, -999.000, 9, -999.000, 9,   -999.0, 9,   -999.0, 9, -999.0000,   -999.00,   -999.0, 9,   -999.0,  -999.00, 9,   -999.0,   1.0978, 27.7890,   1.5981, 2, 9, 0.46, 0.13, 0.01, 0.016,  -999.00, 9, -999.00, -999.00, 9, -999.00
49NZ20071008, P14N, 43, 1, 2, X12002, 2, 20071102, 0620, 40.9732, 178.9973, 5435,   5582.9, 2,   1.6091, 2,  34.6892, 2, -999.0000, 9,    153.9, 2,   -999.0, 9,  -999.00, 9,  -999.00, 9,  -999.00, 9,  -999.00, 9, -999.000, 9, -999.000, 9, -999.000, 9, -999.000, 9,   -999.0, 9,   -999.0, 9, -999.0000,   -999.00,   -999.0, 9,   -999.0,  -999.00, 9,   -999.0,   1.0979, 27.7890,   1.6091, 2, 9, -999.00, -999.00, -999.00, -999.000,  -999.00, 1, -999.00, -999.00, 9, -999.00
49NZ20071008, P14N, 43, 1, 1, X12001, 2, 20071102, 0620, 40.9732, 178.9973, 5435,   5583.0, 2,   1.6090, 2,  34.6892, 2,  34.6891, 6,    153.9, 2,    153.5, 2,   153.96, 2,    36.07, 2,     0.01, 2,     2.52, 2,    0.000, 2,    0.000, 2,    0.000, 2, -999.000, 9,   -999.0, 9,   -999.0, 9, -999.0000,   -999.00,   -999.0, 9,   -999.0,  -999.00, 9,   -999.0,   1.0978, 27.7890,   1.6091, 2, 9, 0.46, 0.13, 0.01, 0.016,  -999.00, 1, -999.00, -999.00, 9, -999.00