BOTTLE,20221005CCHSIOAMB
EXPOCODE,SECT_ID,STNNBR,CASTNO,SAMPNO,BTLNBR,BTLNBR_FLAG_W,DATE,TIME,LATITUDE,LONGITUDE,DEPTH,CTDPRS,CTDPRS_FLAG_W,CTDTMP,CTDTMP_FLAG_W,CTDSAL,CTDSAL_FLAG_W,SALNTY,SALNTY_FLAG_W,CTDOXY,CTDOXY_FLAG_W,OXYGEN,OXYGEN_FLAG_W,SILCAT,SILCAT_FLAG_W,NITRAT,NITRAT_FLAG_W,NITRIT,NITRIT_FLAG_W,PHSPHT,PHSPHT_FLAG_W,CFC-11,CFC-11_FLAG_W,CFC-12,CFC-12_FLAG_W,CFC113,CFC113_FLAG_W,CCL4,CCL4_FLAG_W,TCARBN,TCARBN_FLAG_W,ALKALI,ALKALI_FLAG_W,PH_TOT,PH_TMP,DELC14,DELC14_FLAG_W,C14ERR,DELC13,DELC13_FLAG_W,C13ERR,THETA,SIG0,SBE35,SBE35_FLAG_W,PH_TOT_FLAG_W,SILUNC,NRAUNC,NRIUNC,PHPUNC,CS-137,CS-137_FLAG_W,CS137ER,PLUTO,PLUTO_FLAG_W,PLUTOER
,,,,,,,,,,,METERS,DBAR,,ITS-90,,PSS-78,,PSS-78,,UMOL/KG,,UMOL/KG,,UMOL/KG,,UMOL/KG,,UMOL/KG,,UMOL/KG,,PMOL/KG,,PMOL/KG,,PMOL/KG,,PMOL/KG,,UMOL/KG,,UMOL/KG,,,DEG C,/MILLE,,/MILLE,/MILLE,,/MILLE,DEG C,KG/M^3,ITS-90,,,UMOL/KG,UMOL/KG,UMOL/KG,UMOL/KG,DM/.1MG,,BQ/M^3,MBQ/M^3,,MBQ/M^3
49NZ20071008, P14N, 52, 1, 36, X12042, 2, 20071104, 1148, 36.4968, 179.0090, 4522,      9.9, 2,  20.0686, 2,  34.1359, 2,  34.1375, 2,    230.9, 2,    230.5, 2,     2.26, 2,     0.05, 2,     0.01, 2,     0.07, 2,    2.171, 2,    1.316, 2,    0.323, 4, -999.000, 9,   1972.1, 2,   2249.4, 2,    8.0335,     25.00,   -999.0, 9,   -999.0,  -999.00, 9,   -999.0,  20.0668, 24.0852,  20.0688, 2, 6, 0.12, 0.03, 0.01, 0.028,  -999.00, 9, -999.00, -999.00, 9, -999.00
49NZ20071008, P14N, 52, 1, 35, X12041, 2, 20071104, 1148, 36.4968, 179.0090, 4522,     49.8, 2,  20.0792, 2,  34.1393, 2,  34.1472, 2,    237.1, 2,    231.6, 2,     2.29, 2,     0.03, 2,     0.01, 2,     0.07, 2,    2.174, 2,    1.324, 2,    0.352, 4, -999.000, 9,   1972.4, 6,   2252.0, 2,    8.0339,     25.00,   -999.0, 9,   -999.0,  -999.00, 9,   -999.0,  20.0700, 24.0869,  20.0784, 2, 2, 0.12, 0.03, 0.01, 0.027,  -999.00, 9, -999.00, -999.00, 9, -999.00
49NZ20071008, P14N, 52, 1, 34, X12016, 2, 20071104, 1148, 36.4968, 179.0090, 4522,     99.8, 2,  14.7574, 2,  34.4999, 2,  34.4978, 2,    227.0, 2,    230.6, 2,     6.09, 2,     5.11, 2,     0.46, 2,     0.47, 2,    2.793, 2,    1.645, 2,    0.245, 2, -999.000, 9,   2049.6, 2,   2271.9, 6,    7.9232,     25.00,   -999.0, 9,   -999.0,  -999.00, 9,   -999.0,  14.7426, 25.6424,  14.7548, 2, 2, 0.13, 0.05, 0.00, 0.013,  -999.00, 9, -999.00, -999.00, 9, -999.00
49NZ20071008, P14N, 52, 1, 33, X12033, 2, 20071104, 1148, 36.4968, 179.0090, 4522,    149.5, 2,  13.8734, 2,  34.4840, 2,  34.4833, 2,    224.2, 2,    222.9, 2,     9.03, 2,     8.18, 2,     0.02, 2,     0.61, 2,    2.818, 2,    1.638, 2,    0.166, 6, -999.000, 9,   2061.3, 2,   2274.1, 2,    7.8996,     25.00,   -999.0, 9,   -999.0,  -999.00, 9,   -999.0,  13.8521, 25.8192,  13.8741, 2, 2, 0.14, 0.06, 0.01, 0.013,  -999.00, 9, -999.00, -999.00, 9, -999.00
49NZ20071008, P14N, 52, 1, 32, X12038, 2, 20071104, 1148, 36.4968, 179.0090, 4522,    200.5, 2,  13.1479, 2,  34.4435, 2,  34.4414, 2,    227.5, 2,    226.3, 2,    10.50, 2,     9.11, 2,     0.01, 2,     0.68, 2,    2.910, 2,    1.679, 2,    0.172, 2, -999.000, 9,   2069.9, 2,   2273.2, 2,    7.8846,     25.00,   -999.0, 9,   -999.0,  -999.00, 9,   -999.0,  13.1203, 25.9376,  13.1491, 2, 2, 0.14, 0.06, 0.01, 0.013,  -999.00, 9, -999.00, -999.00, 9, -999.00
49NZ20071008, P14N, 52, 1, 31, X12003, 2, 20071104, 1148, 36.4968, 179.0090, 4522,    251.6, 2,  12.3922, 2,  34.3903, 2,  34.3880, 6,    230.3, 2,    228.9, 2,    12.41, 2,    10.33, 2,     0.01, 2,     0.77, 2,    2.974, 2,    1.703, 2,    0.165, 2, -999.000, 9,   2079.5, 2,   2271.8, 2,    7.8655,     25.00,   -999.0, 9,   -999.0,  -999.00, 9,   -999.0,  12.3588, 26.0466,  12.3935, 2, 2, 0.15, 0.06, 0.01, 0.013,  -999.00, 9, -999.00, -999.00, 9, -999.00
49NZ20071008, P14N, 52, 1, 30, X12008, 2, 20071104, 1148, 36.4968, 179.0090, 4522,    303.0, 2,  11.5423, 2,  34.3266, 2,  34.3271, 2,    226.6, 2,    225.4, 2,    15.24, 2,    12.12, 2,     0.01, 2,     0.89, 2,    3.016, 2,    1.707, 2,    0.165, 2, -999.000, 9,   2089.4, 2,   2271.8, 2,    7.8392,     25.00,   -999.0, 9,   -999.0,  -999.00, 9,   -999.0,  11.5039, 26.1591,  11.5524, 2, 2, 0.15, 0.07, 0.01, 0.013,  -999.00, 9, -999.00, -999.00, 9, -999.00
49NZ20071008, P14N, 52, 1, 29, X12035, 2, 20071104, 1148, 36.4968, 179.0090, 4522,    402.6, 2,   9.5728, 2,  34.1470, 2,  34.1444, 2,    240.3, 2,    223.7, 2,    22.11, 2,    15.69, 2,     0.01, 2,     1.17, 2,    3.233, 2,    1.808, 2,    0.198, 2, -999.000, 9,   2114.4, 2,   2269.6, 2,    7.7813,     25.00,   -999.0, 9,   -999.0,  -999.00, 9,   -999.0,   9.5273, 26.3648,   9.5723, 2, 2, 0.17, 0.08, 0.01, 0.013,  -999.00, 9, -999.00, -999.00, 9, -999.00
49NZ20071008, P14N, 52, 1, 28, X12034, 2, 20071104, 1148, 36.4968, 179.0090, 4522,    500.3, 2,   7.3188, 2,  33.9984, 2,  33.9969, 6,    186.0, 2,    182.8, 2,    39.43, 2,    23.68, 2,     0.01, 2,     1.74, 2,    3.034, 2,    1.622, 2,    0.158, 2, -999.000, 9,   2170.1, 2,   2276.9, 2,    7.6560,     25.00,   -999.0, 9,   -999.0,  -999.00, 9,   -999.0,   7.2705, 26.5923,   7.3190, 2, 2, 0.21, 0.10, 0.01, 0.014,  -999.00, 9, -999.00, -999.00, 9, -999.00
49NZ20071008, P14N, 52, 1, 27, X12049, 2, 20071104, 1148, 36.4968, 179.0090, 4522,    600.2, 2,   5.8568, 2,  33.9738, 2,  33.9738, 2,    142.0, 2,    140.8, 2,    58.28, 2,    30.07, 2,     0.01, 2,     2.21, 2,    2.506, 2,    1.293, 2,    0.146, 2, -999.000, 9,   2221.8, 2,   2289.9, 2,    7.5495,     25.00,   -999.0, 9,   -999.0,  -999.00, 9,   -999.0,   5.8051, 26.7661,   5.8574, 2, 2, 0.25, 0.12, 0.01, 0.016,  -999.00, 9, -999.00, -999.00, 9, -999.00
49NZ20071008, P14N, 52, 1, 26, X12032, 2, 20071104, 1148, 36.4968, 179.0090, 4522,    701.5, 2,   4.8886, 2,  34.0313, 2,  34.0322, 2,     99.0, 2,     98.0, 2,    78.29, 2,    35.47, 2,     0.01, 2,     2.59, 2,    1.800, 6,    0.898, 6,    0.096, 6, -999.000, 9,   2269.2, 6,   2308.5, 2,    7.4595,     25.00,   -999.0, 9,   -999.0,  -999.00, 9,   -999.0,   4.8328, 26.9262,   4.8891, 2, 2, 0.29, 0.13, 0.01, 0.016,  -999.00, 9, -999.00, -999.00, 9, -999.00
49NZ20071008, P14N, 52, 1, 25, X12043, 2, 20071104, 1148, 36.4968, 179.0090, 4522,    803.2, 2,   4.4019, 2,  34.1273, 2,  34.1274, 2,     65.7, 2,     66.8, 2,    94.22, 2,    38.85, 2,     0.01, 2,     2.81, 2,    1.145, 2,    0.558, 2,    0.061, 2, -999.000, 9,   2308.0, 2,   2325.6, 6,    7.4053,     25.00,   -999.0, 9,   -999.0,  -999.00, 9,   -999.0,   4.3403, 27.0563,   4.4022, 2, 2, 0.33, 0.14, 0.01, 0.017,  -999.00, 9, -999.00, -999.00, 9, -999.00
49NZ20071008, P14N, 52, 1, 24, X12030, 2, 20071104, 1148, 36.4968, 179.0090, 4522,    899.2, 2,   4.0103, 2,  34.2069, 2,  34.2086, 2,     45.7, 2,     46.6, 2,   107.59, 2,    41.07, 2,     0.01, 2,     2.95, 2,    0.628, 2,    0.298, 2,    0.024, 2, -999.000, 9,   2330.0, 2,   2341.6, 2,    7.3771,     25.00,   -999.0, 9,   -999.0,  -999.00, 9,   -999.0,   3.9433, 27.1610,   4.0107, 2, 6, 0.36, 0.15, 0.01, 0.017,  -999.00, 9, -999.00, -999.00, 9, -999.00
49NZ20071008, P14N, 52, 1, 23, X12027, 2, 20071104, 1148, 36.4968, 179.0090, 4522,   1000.4, 2,   3.6386, 2,  34.2742, 2,  34.2755, 6,     35.6, 2,     36.6, 2,   119.01, 2,    42.33, 2,     0.01, 2,     3.05, 2,    0.355, 2,    0.164, 2,    0.011, 2, -999.000, 9,   2349.0, 2,   2355.0, 2,    7.3608,     25.00,   -999.0, 9,   -999.0,  -999.00, 9,   -999.0,   3.5661, 27.2523,   3.6388, 2, 2, 0.38, 0.15, 0.01, 0.018,  -999.00, 9, -999.00, -999.00, 9, -999.00
49NZ20071008, P14N, 52, 1, 22, X12028, 2, 20071104, 1148, 36.4968, 179.0090, 4522,   1199.9, 2,   3.1063, 2,  34.3690, 2,  34.3705, 2,     25.7, 2,     25.9, 2,   135.71, 2,    43.65, 2,     0.01, 2,     3.12, 2,    0.106, 2,    0.048, 2,    0.000, 2, -999.000, 9,   2374.6, 2,   2376.4, 2,    7.3511,     25.00,   -999.0, 9,   -999.0,  -999.00, 9,   -999.0,   3.0222, 27.3793,   3.1066, 2, 2, 0.42, 0.16, 0.01, 0.018,  -999.00, 9, -999.00, -999.00, 9, -999.00
49NZ20071008, P14N, 52, 1, 21, X12009, 2, 20071104, 1148, 36.4968, 179.0090, 4522,   1400.1, 2,   2.6965, 2,  34.4501, 2,  34.4502, 2,     28.8, 2,     27.1, 2,   148.15, 2,    44.04, 2,     0.01, 2,     3.13, 2,    0.039, 2,    0.016, 2,    0.000, 2, -999.000, 9,   2389.2, 2,   2391.2, 2,    7.3599,     25.00,   -999.0, 9,   -999.0,  -999.00, 9,   -999.0,   2.6005, 27.4816,   2.6967, 2, 2, 0.44, 0.16, 0.01, 0.018,  -999.00, 9, -999.00, -999.00, 9, -999.00
49NZ20071008, P14N, 52, 1, 20, X12026, 2, 20071104, 1148, 36.4968, 179.0090, 4522,   1601.0, 2,   2.4375, 2,  34.5036, 2,  34.5035, 2,     32.3, 2,     32.5, 2,   155.32, 2,    43.90, 2,     0.01, 2,     3.12, 2,    0.010, 2,    0.003, 2,    0.000, 2, -999.000, 9,   2392.0, 2,   2401.0, 2,    7.3719,     25.00,   -999.0, 9,   -999.0,  -999.00, 9,   -999.0,   2.3283, 27.5474,   2.4378, 2, 6, 0.46, 0.16, 0.01, 0.018,  -999.00, 9, -999.00, -999.00, 9, -999.00
49NZ20071008, P14N, 52, 1, 19, X12025, 2, 20071104, 1148, 36.4968, 179.0090, 4522,   1801.1, 2,   2.2146, 2,  34.5417, 2,  34.5415, 2,     45.5, 2,     42.0, 2,   161.10, 2,    43.25, 2,     0.01, 2,     3.07, 2,    0.006, 2,    0.003, 2,    0.000, 2, -999.000, 9,   2395.9, 2,   2407.4, 2,    7.3913,     25.00,   -999.0, 9,   -999.0,  -999.00, 9,   -999.0,   2.0919, 27.5972,   2.2148, 2, 2, 0.47, 0.15, 0.01, 0.018,  -999.00, 9, -999.00, -999.00, 9, -999.00
49NZ20071008, P14N, 52, 1, 18, X12024, 2, 20071104, 1148, 36.4968, 179.0090, 4522,   2001.6, 2,   2.0561, 2,  34.5713, 2,  34.5713, 2,     52.5, 2,     51.8, 2,   164.63, 2,    42.83, 2,     0.01, 2,     3.03, 2,    0.000, 2,    0.000, 2,    0.000, 2, -999.000, 9,   2392.5, 2,   2413.4, 2,    7.4110,     25.00,   -999.0, 9,   -999.0,  -999.00, 9,   -999.0,   1.9189, 27.6346,   2.0560, 2, 2, 0.48, 0.15, 0.01, 0.018,  -999.00, 9, -999.00, -999.00, 9, -999.00
49NZ20071008, P14N, 52, 1, 17, X12023, 2, 20071104, 1148, 36.4968, 179.0090, 4522,   2200.4, 2,   1.9110, 2,  34.5984, 2,  34.5984, 6,     70.5, 2,     66.2, 2,   165.95, 2,    41.88, 2,     0.01, 2,     2.96, 2,    0.000, 2,    0.000, 2,    0.000, 2, -999.000, 9,   2386.1, 2,   2415.7, 2,    7.4373,     25.00,   -999.0, 9,   -999.0,  -999.00, 9,   -999.0,   1.7591, 27.6686,   1.9111, 2, 2, 0.48, 0.15, 0.01, 0.017,  -999.00, 9, -999.00, -999.00, 9, -999.00
49NZ20071008, P14N, 52, 1, 16, X12022, 2, 20071104, 1148, 36.4968, 179.0090, 4522,   2400.1, 2,   1.7751, 2,  34.6204, 2,  34.6204, 2,     86.1, 2,     84.0, 2,   165.16, 2,    40.63, 2,     0.01, 2,     2.88, 2,    0.000, 2,    0.000, 2,    0.000, 2, -999.000, 9,   2372.7, 6,   2417.0, 2,    7.4695,     25.00,   -999.0, 9,   -999.0,  -999.00, 9,   -999.0,   1.6080, 27.6976,   1.7753, 2, 2, 0.48, 0.15, 0.01, 0.017,  -999.00, 9, -999.00, -999.00, 9, -999.00
49NZ20071008, P14N, 52, 1, 15, X12021, 2, 20071104, 1148, 36.4968, 179.0090, 4522,   2600.9, 2,   1.6801, 2,  34.6378, 2,  34.6376, 2,     97.7, 2,     97.2, 2,   163.82, 2,    39.78, 2,     0.01, 2,     2.82, 2,    0.000, 2,    0.000, 2,    0.000, 2, -999.000, 9,   2365.4, 2,   2418.6, 6,    7.4951,     25.00,   -999.0, 9,   -999.0,  -999.00, 9,   -999.0,   1.4968, 27.7197,   1.6803, 2, 2, 0.48, 0.14, 0.01, 0.017,  -999.00, 9, -999.00, -999.00, 9, -999.00
49NZ20071008, P14N, 52, 1, 14, X12020, 2, 20071104, 1148, 36.4968, 179.0090, 4522,   2800.7, 2,   1.6146, 2,  34.6492, 2,  34.6495, 2,    110.3, 2,    109.2, 2,   161.51, 2,    39.04, 2,     0.01, 2,     2.76, 2,    0.000, 2,    0.000, 2,    0.000, 2, -999.000, 9,   2359.5, 2,   2419.4, 2,    7.5161,     25.00,   -999.0, 9,   -999.0,  -999.00, 9,   -999.0,   1.4142, 27.7349,   1.6147, 2, 6, 0.47, 0.14, 0.01, 0.017,  -999.00, 9, -999.00, -999.00, 9, -999.00
49NZ20071008, P14N, 52, 1, 13, X12019, 2, 20071104, 1148, 36.4968, 179.0090, 4522,   2998.2, 2,   1.5555, 2,  34.6595, 2,  34.6597, 2,    120.4, 2,    120.4, 2,   158.77, 2,    38.26, 2,     0.01, 2,     2.70, 2,    0.000, 2,    0.000, 2,    0.000, 2, -999.000, 9,   2350.9, 2,   2419.3, 2,    7.5358,     25.00,   -999.0, 9,   -999.0,  -999.00, 9,   -999.0,   1.3377, 27.7485,   1.5555, 2, 2, 0.47, 0.14, 0.01, 0.017,  -999.00, 9, -999.00, -999.00, 9, -999.00
49NZ20071008, P14N, 52, 1, 12, X12040, 2, 20071104, 1148, 36.4968, 179.0090, 4522,   3249.3, 2,   1.4987, 2,  34.6695, 2,  34.6696, 2,    132.3, 2,    131.8, 2,   155.37, 2,    37.46, 2,     0.01, 2,     2.63, 2, -999.000, 9, -999.000, 9, -999.000, 9, -999.000, 9,   2343.4, 2,   2419.0, 2,    7.5569,     25.00,   -999.0, 9,   -999.0,  -999.00, 9,   -999.0,   1.2578, 27.7622,   1.4987, 2, 2, 0.46, 0.14, 0.01, 0.017,  -999.00, 9, -999.00, -999.00, 9, -999.00
49NZ20071008, P14N, 52, 1, 11, X12047, 2, 20071104, 1148, 36.4968, 179.0090, 4522,   3499.1, 2,   1.4652, 2,  34.6764, 2,  34.6765, 6,    139.7, 2,    140.1, 2,   153.40, 2,    36.95, 2,     0.01, 2,     2.59, 2, -999.000, 9, -999.000, 9, -999.000, 9, -999.000, 9,   2337.3, 2,   2418.6, 2,    7.5708,     25.00,   -999.0, 9,   -999.0,  -999.00, 9,   -999.0,   1.2001, 27.7718,   1.4652, 2, 2, 0.46, 0.14, 0.01, 0.016,  -999.00, 9, -999.00, -999.00, 9, -999.00
49NZ20071008, P14N, 52, 1, 10, X12017, 2, 20071104, 1148, 36.4968, 179.0090, 4522,   3749.2, 2,   1.4538, 2,  34.6808, 2,  34.6808, 2,    145.1, 2,    145.1, 2,   152.24, 2,    36.69, 2,     0.01, 2,     2.57, 2,    0.002, 2,    0.000, 2,    0.000, 2, -999.000, 9,   2333.4, 2,   2419.7, 2,    7.5813,     25.00,   -999.0, 9,   -999.0,  -999.00, 9,   -999.0,   1.1630, 27.7778,   1.4538, 2, 2, 0.45, 0.14, 0.01, 0.016,  -999.00, 9, -999.00, -999.00, 9, -999.00
49NZ20071008, P14N, 52, 1, 9, X12015, 2, 20071104, 1148, 36.4968, 179.0090, 4522,   4000.7, 2,   1.4524, 2,  34.6840, 2,  34.6842, 2,    149.0, 2,    148.9, 2,   151.76, 2,    36.39, 2,     0.01, 2,     2.54, 2, -999.000, 9, -999.000, 9, -999.000, 9, -999.000, 9,   2329.2, 3,   2420.0, 2,    7.5878,     25.00,   -999.0, 9,   -999.0,  -999.00, 9,   -999.0,   1.1348, 27.7823,   1.4524, 2, 2, 0.45, 0.13, 0.01, 0.016,  -999.00, 9, -999.00, -999.00, 9, -999.00
49NZ20071008, P14N, 52, 1, 8, X12046, 2, 20071104, 1148, 36.4968, 179.0090, 4522,   4251.0, 2,   1.4608, 2,  34.6863, 2,  34.6867, 2,    151.2, 2,    151.5, 2,   152.28, 2,    36.34, 2,     0.01, 2,     2.54, 2, -999.000, 9, -999.000, 9, -999.000, 9, -999.000, 9,   2333.6, 6,   2420.8, 2,    7.5928,     25.00,   -999.0, 9,   -999.0,  -999.00, 9,   -999.0,   1.1153, 27.7855,   1.4606, 2, 2, 0.45, 0.13, 0.01, 0.016,  -999.00, 9, -999.00, -999.00, 9, -999.00
49NZ20071008, P14N, 52, 1, 7, X12044, 2, 20071104, 1148, 36.4968, 179.0090, 4522,   4499.2, 2,   1.4732, 2,  34.6883, 2,  34.6884, 2,    153.5, 2,    153.5, 2,   152.72, 2,    36.18, 2,     0.01, 2,     2.53, 2,    0.001, 2,    0.000, 2,    0.000, 2, -999.000, 9,   2329.4, 2,   2420.1, 6,    7.5970,     25.00,   -999.0, 9,   -999.0,  -999.00, 9,   -999.0,   1.0991, 27.7882,   1.4731, 2, 2, 0.45, 0.13, 0.01, 0.016,  -999.00, 9, -999.00, -999.00, 9, -999.00
49NZ20071008, P14N, 52, 1, 6, X12048, 9, 20071104, 1148, 36.4968, 179.0090, 4522,      9.9, 2,  20.0703, 2,  34.1368, 2, -999.0000, 9,    230.9, 2,   -999.0, 9,  -999.00, 9,  -999.00, 9,  -999.00, 9,  -999.00, 9, -999.000, 9, -999.000, 9, -999.000, 9, -999.000, 9,   -999.0, 9,   -999.0, 9, -999.0000,   -999.00,   -999.0, 9,   -999.0,  -999.00, 9,   -999.0,  20.0685, 24.0854,  20.0705, 2, 9, -999.00, -999.00, -999.00, -999.000,  -999.00, 9, -999.00, -999.00, 9, -999.00
49NZ20071008, P14N, 52, 1, 5, X12014, 9, 20071104, 1148, 36.4968, 179.0090, 4522,     49.8, 2,  20.0605, 2,  34.1399, 2, -999.0000, 9,    237.4, 2,   -999.0, 9,  -999.00, 9,  -999.00, 9,  -999.00, 9,  -999.00, 9, -999.000, 9, -999.000, 9, -999.000, 9, -999.000, 9,   -999.0, 9,   -999.0, 9, -999.0000,   -999.00,   -999.0, 9,   -999.0,  -999.00, 9,   -999.0,  20.0513, 24.0923,  20.0589, 2, 9, -999.00, -999.00, -999.00, -999.000,  -999.00, 9, -999.00, -999.00, 9, -999.00
49NZ20071008, P14N, 52, 1, 4, X12006, 9, 20071104, 1148, 36.4968, 179.0090, 4522,    100.0, 2,  14.7624, 2,  34.4990, 2, -999.0000, 9,    227.1, 2,   -999.0, 9,  -999.00, 9,  -999.00, 9,  -999.00, 9,  -999.00, 9, -999.000, 9, -999.000, 9, -999.000, 9, -999.000, 9,   -999.0, 9,   -999.0, 9, -999.0000,   -999.00,   -999.0, 9,   -999.0,  -999.00, 9,   -999.0,  14.7475, 25.6407,  14.7678, 2, 9, -999.00, -999.00, -999.00, -999.000,  -999.00, 9, -999.00, -999.00, 9, -999.00
49NZ20071008, P14N, 52, 1, 3, X12013, 9, 20071104, 1148, 36.4968, 179.0090, 4522,    149.2, 2,  13.8842, 2,  34.4843, 2, -999.0000, 9,    224.2, 2,   -999.0, 9,  -999.00, 9,  -999.00, 9,  -999.00, 9,  -999.00, 9, -999.000, 9, -999.000, 9, -999.000, 9, -999.000, 9,   -999.0, 9,   -999.0, 9, -999.0000,   -999.00,   -999.0, 9,   -999.0,  -999.00, 9,   -999.0,  13.8629, 25.8172,  13.8854, 2, 9, -999.00, -999.00, -999.00, -999.000,  -999.00, 9, -999.00, -999.00, 9, -999.00
49NZ20071008, P14N, 52, 1, 2, X12002, 9, 20071104, 1148, 36.4968, 179.0090, 4522,    200.9, 2,  13.1476, 2,  34.4435, 2, -999.0000, 9,    227.5, 2,   -999.0, 9,  -999.00, 9,  -999.00, 9,  -999.00, 9,  -999.00, 9, -999.000, 9, -999.000, 9, -999.000, 9, -999.000, 9,   -999.0, 9,   -999.0, 9, -999.0000,   -999.00,   -999.0, 9,   -999.0,  -999.00, 9,   -999.0,  13.1199, 25.9377,  13.1485, 2, 9, -999.00, -999.00, -999.00, -999.000,  -999.00, 9, -999.00, -999.00, 9, -999.00
49NZ20071008, P14N, 52, 1, 1, X12001, 2, 20071104, 1148, 36.4968, 179.0090, 4522,   4596.5, 2,   1.4834, 2,  34.6886, 2,  34.6890, 6,    153.5, 2,    153.2, 2,   153.12, 2,    36.17, 2,     0.01, 2,     2.53, 2,    0.002, 2,    0.000, 2,    0.003, 2, -999.000, 9,   2329.6, 2,   2420.9, 2,    7.5965,     25.00,   -999.0, 9,   -999.0,  -999.00, 9,   -999.0,   1.0978, 27.7886,   1.4834, 2, 2, 0.46, 0.13, 0.01, 0.016,  -999.00, 9, -999.00, -999.00, 9, -999.00