BOTTLE,20221005CCHSIOAMB
EXPOCODE,SECT_ID,STNNBR,CASTNO,SAMPNO,BTLNBR,BTLNBR_FLAG_W,DATE,TIME,LATITUDE,LONGITUDE,DEPTH,CTDPRS,CTDPRS_FLAG_W,CTDTMP,CTDTMP_FLAG_W,CTDSAL,CTDSAL_FLAG_W,SALNTY,SALNTY_FLAG_W,CTDOXY,CTDOXY_FLAG_W,OXYGEN,OXYGEN_FLAG_W,SILCAT,SILCAT_FLAG_W,NITRAT,NITRAT_FLAG_W,NITRIT,NITRIT_FLAG_W,PHSPHT,PHSPHT_FLAG_W,CFC-11,CFC-11_FLAG_W,CFC-12,CFC-12_FLAG_W,CFC113,CFC113_FLAG_W,CCL4,CCL4_FLAG_W,TCARBN,TCARBN_FLAG_W,ALKALI,ALKALI_FLAG_W,PH_TOT,PH_TMP,DELC14,DELC14_FLAG_W,C14ERR,DELC13,DELC13_FLAG_W,C13ERR,THETA,SIG0,SBE35,SBE35_FLAG_W,PH_TOT_FLAG_W,SILUNC,NRAUNC,NRIUNC,PHPUNC,CS-137,CS-137_FLAG_W,CS137ER,PLUTO,PLUTO_FLAG_W,PLUTOER
,,,,,,,,,,,METERS,DBAR,,ITS-90,,PSS-78,,PSS-78,,UMOL/KG,,UMOL/KG,,UMOL/KG,,UMOL/KG,,UMOL/KG,,UMOL/KG,,PMOL/KG,,PMOL/KG,,PMOL/KG,,PMOL/KG,,UMOL/KG,,UMOL/KG,,,DEG C,/MILLE,,/MILLE,/MILLE,,/MILLE,DEG C,KG/M^3,ITS-90,,,UMOL/KG,UMOL/KG,UMOL/KG,UMOL/KG,DM/.1MG,,BQ/M^3,MBQ/M^3,,MBQ/M^3
49NZ20071008, P01, P01_51, 1, 36, X12042, 2, 20071017, 1739, 46.9705, 169.8093, 4050,      9.8, 2,   9.1597, 2,  32.6466, 2,  32.6460, 2,    288.6, 2,    288.7, 2,    21.60, 2,    14.78, 2,     0.26, 2,     1.39, 2,    3.785, 2,    2.105, 2,    0.342, 2, -999.000, 9,   2035.0, 2,   2202.0, 2,    7.8369,     25.00,   -999.0, 9,   -999.0,  -999.00, 9,   -999.0,   9.1587, 25.2509,   9.1590, 2, 6, 0.17, 0.07, 0.01, 0.014,  -999.00, 9, -999.00, -999.00, 9, -999.00
49NZ20071008, P01, P01_51, 1, 35, X12041, 2, 20071017, 1739, 46.9705, 169.8093, 4050,     50.1, 2,   8.7964, 2,  32.6680, 2,  32.6700, 2,    284.3, 2,    288.4, 2,    23.35, 2,    15.55, 2,     0.30, 2,     1.44, 2,    3.915, 2,    2.175, 2,    0.370, 2, -999.000, 9,   2038.0, 6,   2208.1, 2,    7.8216,     25.00,   -999.0, 9,   -999.0,  -999.00, 9,   -999.0,   8.7913, 25.3247,   8.8070, 2, 2, 0.17, 0.08, 0.01, 0.014,  -999.00, 9, -999.00, -999.00, 9, -999.00
49NZ20071008, P01, P01_51, 1, 34, X12016, 2, 20071017, 1739, 46.9705, 169.8093, 4050,    100.5, 2,   3.1031, 2,  33.2238, 2,  33.2445, 2,    261.5, 2,    232.1, 2,    53.60, 2,    30.30, 2,     0.03, 2,     2.31, 2,    4.525, 2,    2.404, 2,    0.395, 2, -999.000, 9,   2174.6, 2,   2246.5, 6,    7.5501,     25.00,   -999.0, 9,   -999.0,  -999.00, 9,   -999.0,   3.0971, 26.4587,   3.1024, 2, 2, 0.24, 0.12, 0.01, 0.016,  -999.00, 9, -999.00, -999.00, 9, -999.00
49NZ20071008, P01, P01_51, 1, 33, X12033, 2, 20071017, 1739, 46.9705, 169.8093, 4050,    150.0, 2,   3.6764, 2,  33.7412, 2,  33.7492, 2,     80.9, 2,     74.2, 2,    82.16, 2,    41.78, 2,     0.02, 2,     3.00, 2,    2.654, 6,    1.346, 6,    0.202, 6, -999.000, 9,   2295.1, 2,   2286.0, 2,    7.3169,     25.00,   -999.0, 9,   -999.0,  -999.00, 9,   -999.0,   3.6666, 26.8180,   3.6766, 2, 2, 0.30, 0.15, 0.01, 0.017,  -999.00, 9, -999.00, -999.00, 9, -999.00
49NZ20071008, P01, P01_51, 1, 32, X12038, 2, 20071017, 1739, 46.9705, 169.8093, 4050,    203.5, 2,   3.7393, 2,  33.9247, 2,  33.9223, 2,     29.8, 2,     27.7, 2,    95.54, 2,    44.81, 2,     0.02, 2,     3.18, 2,    1.842, 2,    0.910, 2,    0.127, 2, -999.000, 9,   2333.9, 2,   2304.3, 2,    7.2595,     25.00,   -999.0, 9,   -999.0,  -999.00, 9,   -999.0,   3.7258, 26.9583,   3.7386, 2, 2, 0.33, 0.16, 0.01, 0.018,  -999.00, 9, -999.00, -999.00, 9, -999.00
49NZ20071008, P01, P01_51, 1, 31, X12003, 2, 20071017, 1739, 46.9705, 169.8093, 4050,    249.2, 2,   3.7002, 2,  33.9886, 2,  33.9904, 6,     19.5, 2,     18.8, 2,   101.75, 2,    45.16, 2,     0.02, 2,     3.21, 2,    1.486, 2,    0.725, 2,    0.100, 2, -999.000, 9,   2342.8, 2,   2312.8, 2,    7.2553,     25.00,   -999.0, 9,   -999.0,  -999.00, 9,   -999.0,   3.6836, 27.0133,   3.7000, 2, 2, 0.34, 0.16, 0.01, 0.018,  -999.00, 9, -999.00, -999.00, 9, -999.00
49NZ20071008, P01, P01_51, 1, 30, X12008, 2, 20071017, 1739, 46.9705, 169.8093, 4050,    300.6, 2,   3.7007, 2,  34.0468, 2,  34.0481, 2,     17.6, 2,     17.3, 2,   106.22, 2,    44.87, 2,     0.02, 2,     3.20, 2,    1.197, 2,    0.580, 2,    0.083, 2, -999.000, 9,   2346.2, 2,   2323.0, 2,    7.2677,     25.00,   -999.0, 9,   -999.0,  -999.00, 9,   -999.0,   3.6805, 27.0600,   3.7006, 2, 2, 0.35, 0.16, 0.01, 0.018,  -999.00, 9, -999.00, -999.00, 9, -999.00
49NZ20071008, P01, P01_51, 1, 29, X12035, 2, 20071017, 1739, 46.9705, 169.8093, 4050,    400.1, 2,   3.5317, 2,  34.1464, 2,  34.1469, 2,     16.9, 2,     16.7, 2,   116.56, 2,    44.49, 2,     0.02, 2,     3.17, 2,    0.747, 2,    0.365, 2,    0.054, 2, -999.000, 9,   2351.8, 2,   2337.3, 2,    7.2866,     25.00,   -999.0, 9,   -999.0,  -999.00, 9,   -999.0,   3.5050, 27.1565,   3.5315, 2, 2, 0.38, 0.16, 0.01, 0.018,  -999.00, 9, -999.00, -999.00, 9, -999.00
49NZ20071008, P01, P01_51, 1, 28, X12034, 2, 20071017, 1739, 46.9705, 169.8093, 4050,    501.1, 2,   3.3764, 2,  34.2141, 2,  34.2143, 6,     15.5, 2,     15.5, 2,   124.18, 2,    44.36, 2,     0.02, 2,     3.17, 2,    0.495, 2,    0.231, 2,    0.016, 4, -999.000, 9,   2361.4, 2,   2349.1, 2,    7.2955,     25.00,   -999.0, 9,   -999.0,  -999.00, 9,   -999.0,   3.3431, 27.2259,   3.3763, 2, 2, 0.39, 0.16, 0.01, 0.018,  -999.00, 9, -999.00, -999.00, 9, -999.00
49NZ20071008, P01, P01_51, 1, 27, X12049, 2, 20071017, 1739, 46.9705, 169.8093, 4050,    600.6, 2,   3.2168, 2,  34.2707, 2,  34.2711, 2,     15.3, 2,     15.3, 2,   131.11, 2,    44.36, 2,     0.01, 2,     3.17, 2,    0.336, 2,    0.157, 2,    0.020, 2, -999.000, 9,   2372.2, 2,   2358.4, 2,    7.3055,     25.00,   -999.0, 9,   -999.0,  -999.00, 9,   -999.0,   3.1771, 27.2866,   3.2165, 2, 2, 0.41, 0.16, 0.01, 0.018,  -999.00, 9, -999.00, -999.00, 9, -999.00
49NZ20071008, P01, P01_51, 1, 26, X12032, 2, 20071017, 1739, 46.9705, 169.8093, 4050,    700.2, 2,   3.0565, 2,  34.3180, 2,  34.3179, 2,     16.5, 2,     15.9, 2,   137.30, 2,    44.37, 2,     0.01, 2,     3.17, 2,    0.223, 6,    0.106, 6,    0.017, 6, -999.000, 9,   2376.5, 6,   2367.7, 2,    7.3145,     25.00,   -999.0, 9,   -999.0,  -999.00, 9,   -999.0,   3.0105, 27.3397,   3.0563, 2, 2, 0.42, 0.16, 0.01, 0.018,  -999.00, 9, -999.00, -999.00, 9, -999.00
49NZ20071008, P01, P01_51, 1, 25, X12043, 2, 20071017, 1739, 46.9705, 169.8093, 4050,    801.6, 2,   2.9144, 2,  34.3562, 2,  34.3559, 2,     17.4, 2,     17.1, 2,   142.18, 2,    44.27, 2,     0.02, 2,     3.17, 2,    0.157, 2,    0.072, 2,    0.007, 2, -999.000, 9,   2376.0, 2,   2374.0, 6,    7.3199,     25.00,   -999.0, 9,   -999.0,  -999.00, 9,   -999.0,   2.8620, 27.3836,   2.9144, 2, 2, 0.43, 0.16, 0.01, 0.018,  -999.00, 9, -999.00, -999.00, 9, -999.00
49NZ20071008, P01, P01_51, 1, 24, X12030, 2, 20071017, 1739, 46.9705, 169.8093, 4050,    901.4, 2,   2.7571, 2,  34.3946, 2,  34.3942, 2,     19.2, 2,     19.1, 2,   147.20, 2,    44.18, 2,     0.01, 2,     3.15, 2,    0.107, 2,    0.053, 2,    0.005, 2, -999.000, 9,   2381.7, 2,   2382.3, 2,    7.3292,     25.00,   -999.0, 9,   -999.0,  -999.00, 9,   -999.0,   2.6985, 27.4287,   2.7571, 2, 6, 0.44, 0.16, 0.01, 0.018,  -999.00, 9, -999.00, -999.00, 9, -999.00
49NZ20071008, P01, P01_51, 1, 23, X12027, 2, 20071017, 1739, 46.9705, 169.8093, 4050,   1002.4, 2,   2.6224, 2,  34.4261, 2,  34.4261, 6,     21.6, 2,     21.9, 2,   151.31, 2,    44.05, 2,     0.01, 2,     3.14, 2,    0.077, 2,    0.034, 2,    0.004, 2, -999.000, 9,   2383.2, 2,   2387.6, 2,    7.3363,     25.00,   -999.0, 9,   -999.0,  -999.00, 9,   -999.0,   2.5574, 27.4661,   2.6223, 2, 2, 0.45, 0.16, 0.01, 0.018,  -999.00, 9, -999.00, -999.00, 9, -999.00
49NZ20071008, P01, P01_51, 1, 22, X12028, 2, 20071017, 1739, 46.9705, 169.8093, 4050,   1201.5, 2,   2.3673, 2,  34.4832, 2,  34.4837, 2,     29.5, 2,     30.1, 2,   158.72, 2,    43.75, 2,     0.01, 2,     3.11, 2,    0.038, 2,    0.017, 2,    0.000, 2, -999.000, 9,   2388.4, 2,   2397.6, 2,    7.3565,     25.00,   -999.0, 9,   -999.0,  -999.00, 9,   -999.0,   2.2898, 27.5342,   2.3672, 2, 2, 0.47, 0.16, 0.01, 0.018,  -999.00, 9, -999.00, -999.00, 9, -999.00
49NZ20071008, P01, P01_51, 1, 21, X12009, 2, 20071017, 1739, 46.9705, 169.8093, 4050,   1401.8, 2,   2.1501, 2,  34.5324, 2,  34.5319, 2,     41.1, 2,     42.5, 2,   163.17, 2,    42.95, 2,     0.01, 2,     3.06, 2,    0.011, 2,    0.007, 2,    0.000, 2, -999.000, 9,   2388.0, 2,   2405.3, 2,    7.3830,     25.00,   -999.0, 9,   -999.0,  -999.00, 9,   -999.0,   2.0597, 27.5923,   2.1502, 2, 2, 0.48, 0.15, 0.01, 0.018,  -999.00, 9, -999.00, -999.00, 9, -999.00
49NZ20071008, P01, P01_51, 1, 20, X12026, 2, 20071017, 1739, 46.9705, 169.8093, 4050,   1600.1, 2,   2.0163, 2,  34.5633, 2,  34.5630, 2,     53.8, 2,     54.4, 2,   164.86, 2,    42.23, 2,     0.01, 2,     3.00, 2,    0.005, 2,    0.002, 2,    0.000, 2, -999.000, 9,   2384.6, 2,   2406.3, 3,    7.4099,     25.00,   -999.0, 9,   -999.0,  -999.00, 9,   -999.0,   1.9122, 27.6287,   2.0162, 2, 6, 0.48, 0.15, 0.01, 0.017,  -999.00, 9, -999.00, -999.00, 9, -999.00
49NZ20071008, P01, P01_51, 1, 19, X12025, 2, 20071017, 1739, 46.9705, 169.8093, 4050,   1800.8, 2,   1.8881, 2,  34.5896, 2,  34.5897, 2,     64.9, 2,     66.0, 2,   166.59, 2,    41.63, 2,     0.01, 2,     2.96, 2,    0.000, 2,    0.001, 2,    0.000, 2, -999.000, 9,   2379.7, 2,   2414.3, 2,    7.4323,     25.00,   -999.0, 9,   -999.0,  -999.00, 9,   -999.0,   1.7697, 27.6608,   1.8881, 2, 2, 0.49, 0.15, 0.01, 0.017,  -999.00, 9, -999.00, -999.00, 9, -999.00
49NZ20071008, P01, P01_51, 1, 18, X12024, 2, 20071017, 1739, 46.9705, 169.8093, 4050,   2001.1, 2,   1.7812, 2,  34.6109, 2,  34.6110, 6,     75.8, 2,     78.4, 2,   166.84, 2,    40.76, 2,     0.01, 2,     2.89, 2,    0.000, 2,    0.000, 2,    0.000, 2, -999.000, 9,   2368.3, 2,   2416.1, 2,    7.4559,     25.00,   -999.0, 9,   -999.0,  -999.00, 9,   -999.0,   1.6481, 27.6870,   1.7811, 2, 2, 0.49, 0.15, 0.01, 0.017,  -999.00, 9, -999.00, -999.00, 9, -999.00
49NZ20071008, P01, P01_51, 1, 17, X12023, 2, 20071017, 1739, 46.9705, 169.8093, 4050,   2201.7, 2,   1.6932, 2,  34.6286, 2,  34.6288, 2,     91.7, 2,     92.4, 2,   165.02, 2,    39.90, 2,     0.01, 2,     2.83, 2,    0.000, 2,    0.000, 2,    0.000, 2, -999.000, 9,   2360.1, 2,   2417.0, 2,    7.4835,     25.00,   -999.0, 9,   -999.0,  -999.00, 9,   -999.0,   1.5447, 27.7089,   1.6931, 2, 2, 0.48, 0.14, 0.01, 0.017,  -999.00, 9, -999.00, -999.00, 9, -999.00
49NZ20071008, P01, P01_51, 1, 16, X12022, 2, 20071017, 1739, 46.9705, 169.8093, 4050,   2400.5, 2,   1.6407, 2,  34.6392, 2,  34.6394, 2,    100.5, 2,    101.9, 2,   163.07, 2,    39.29, 2,     0.01, 2,     2.79, 2,    0.000, 2,    0.000, 2,    0.000, 2, -999.000, 9,   2357.7, 6,   2418.3, 2,    7.5014,     25.00,   -999.0, 9,   -999.0,  -999.00, 9,   -999.0,   1.4759, 27.7224,   1.6407, 2, 2, 0.48, 0.14, 0.01, 0.017,  -999.00, 9, -999.00, -999.00, 9, -999.00
49NZ20071008, P01, P01_51, 1, 15, X12021, 2, 20071017, 1739, 46.9705, 169.8093, 4050,   2602.0, 2,   1.6133, 2,  34.6458, 2,  34.6464, 2,    106.3, 2,    107.8, 2,   162.26, 2,    38.78, 2,     0.01, 2,     2.76, 2, -999.000, 9, -999.000, 9, -999.000, 9, -999.000, 9,   2358.9, 3,   2418.3, 2,    7.5121,     25.00,   -999.0, 9,   -999.0,  -999.00, 9,   -999.0,   1.4312, 27.7309,   1.6132, 2, 2, 0.48, 0.14, 0.01, 0.017,  -999.00, 9, -999.00, -999.00, 9, -999.00
49NZ20071008, P01, P01_51, 1, 14, X12020, 2, 20071017, 1739, 46.9705, 169.8093, 4050,   2800.5, 2,   1.5676, 2,  34.6550, 2,  34.6551, 2,    115.6, 2,    116.7, 2,   160.15, 2,    38.30, 2,     0.01, 2,     2.71, 2,    0.000, 2,    0.000, 2,    0.000, 2, -999.000, 9,   2348.2, 2,   2420.3, 2,    7.5290,     25.00,   -999.0, 9,   -999.0,  -999.00, 9,   -999.0,   1.3682, 27.7428,   1.5676, 2, 6, 0.47, 0.14, 0.01, 0.017,  -999.00, 9, -999.00, -999.00, 9, -999.00
49NZ20071008, P01, P01_51, 1, 13, X12019, 2, 20071017, 1739, 46.9705, 169.8093, 4050,   3001.6, 2,   1.5527, 2,  34.6597, 2,  34.6597, 6,    120.5, 2,    121.3, 2,   158.93, 2,    38.01, 2,     0.01, 2,     2.69, 2, -999.000, 9, -999.000, 9, -999.000, 9, -999.000, 9,   2344.8, 2,   2418.6, 2,    7.5369,     25.00,   -999.0, 9,   -999.0,  -999.00, 9,   -999.0,   1.3347, 27.7489,   1.5527, 2, 2, 0.47, 0.14, 0.01, 0.017,  -999.00, 9, -999.00, -999.00, 9, -999.00
49NZ20071008, P01, P01_51, 1, 12, X12040, 2, 20071017, 1739, 46.9705, 169.8093, 4050,   3251.5, 2,   1.5193, 2,  34.6672, 2,  34.6675, 2,    127.3, 2,    129.4, 2,   156.67, 2,    37.43, 2,     0.01, 2,     2.65, 2, -999.000, 9, -999.000, 9, -999.000, 9, -999.000, 9,   2340.0, 2,   2417.7, 2,    7.5515,     25.00,   -999.0, 9,   -999.0,  -999.00, 9,   -999.0,   1.2777, 27.7589,   1.5193, 2, 2, 0.46, 0.14, 0.01, 0.017,  -999.00, 9, -999.00, -999.00, 9, -999.00
49NZ20071008, P01, P01_51, 1, 11, X12047, 2, 20071017, 1739, 46.9705, 169.8093, 4050,   3502.3, 2,   1.4813, 2,  34.6748, 2,  34.6752, 2,    137.5, 2,    138.5, 2,   153.69, 2,    36.86, 2,     0.01, 2,     2.60, 2,    0.000, 2,    0.000, 2,    0.000, 2, -999.000, 9,   2338.6, 3,   2409.4, 4,    7.5667,     25.00,   -999.0, 9,   -999.0,  -999.00, 9,   -999.0,   1.2154, 27.7694,   1.4811, 2, 2, 0.46, 0.14, 0.01, 0.016,  -999.00, 9, -999.00, -999.00, 9, -999.00
49NZ20071008, P01, P01_51, 1, 10, X12010, 2, 20071017, 1739, 46.9705, 169.8093, 4050,   3750.5, 2,   1.4693, 2,  34.6790, 2,  34.6785, 3,    143.6, 2,    144.0, 2,   152.05, 2,    36.56, 2,     0.01, 2,     2.57, 2, -999.000, 9, -999.000, 9, -999.000, 9, -999.000, 9,   2329.1, 2,   2418.6, 2,    7.5768,     25.00,   -999.0, 9,   -999.0,  -999.00, 9,   -999.0,   1.1780, 27.7754,   1.4690, 2, 2, 0.45, 0.14, 0.01, 0.016,  -999.00, 9, -999.00, -999.00, 9, -999.00
49NZ20071008, P01, P01_51, 1, 9, X12015, 9, 20071017, 1739, 46.9705, 169.8093, 4050,      9.9, 2,   9.1588, 2,  32.6463, 2, -999.0000, 9,    288.7, 2,   -999.0, 9,  -999.00, 9,  -999.00, 9,  -999.00, 9,  -999.00, 9, -999.000, 9, -999.000, 9, -999.000, 9, -999.000, 9,   -999.0, 9,   -999.0, 9, -999.0000,   -999.00,   -999.0, 9,   -999.0,  -999.00, 9,   -999.0,   9.1578, 25.2508,   9.1581, 2, 9, -999.00, -999.00, -999.00, -999.000,  -999.00, 9, -999.00, -999.00, 9, -999.00
49NZ20071008, P01, P01_51, 1, 8, X12046, 9, 20071017, 1739, 46.9705, 169.8093, 4050,    201.8, 2,   3.7402, 2,  33.9243, 2, -999.0000, 9,     30.7, 2,   -999.0, 9,  -999.00, 9,  -999.00, 9,  -999.00, 9,  -999.00, 9, -999.000, 9, -999.000, 9, -999.000, 9, -999.000, 9,   -999.0, 9,   -999.0, 9, -999.0000,   -999.00,   -999.0, 9,   -999.0,  -999.00, 9,   -999.0,   3.7268, 26.9579,   3.7395, 2, 9, -999.00, -999.00, -999.00, -999.000,  -999.00, 9, -999.00, -999.00, 9, -999.00
49NZ20071008, P01, P01_51, 1, 7, X12044, 9, 20071017, 1739, 46.9705, 169.8093, 4050,    201.6, 2,   3.7393, 2,  33.9249, 2, -999.0000, 9,     30.7, 2,   -999.0, 9,  -999.00, 9,  -999.00, 9,  -999.00, 9,  -999.00, 9, -999.000, 9, -999.000, 9, -999.000, 9, -999.000, 9,   -999.0, 9,   -999.0, 9, -999.0000,   -999.00,   -999.0, 9,   -999.0,  -999.00, 9,   -999.0,   3.7259, 26.9585,   3.7390, 2, 9, -999.00, -999.00, -999.00, -999.000,  -999.00, 9, -999.00, -999.00, 9, -999.00
49NZ20071008, P01, P01_51, 1, 6, X12048, 9, 20071017, 1739, 46.9705, 169.8093, 4050,    201.9, 2,   3.7392, 2,  33.9251, 2, -999.0000, 9,     30.6, 2,   -999.0, 9,  -999.00, 9,  -999.00, 9,  -999.00, 9,  -999.00, 9, -999.000, 9, -999.000, 9, -999.000, 9, -999.000, 9,   -999.0, 9,   -999.0, 9, -999.0000,   -999.00,   -999.0, 9,   -999.0,  -999.00, 9,   -999.0,   3.7258, 26.9586,   3.7389, 2, 9, -999.00, -999.00, -999.00, -999.000,  -999.00, 9, -999.00, -999.00, 9, -999.00
49NZ20071008, P01, P01_51, 1, 5, X12014, 9, 20071017, 1739, 46.9705, 169.8093, 4050,    201.8, 2,   3.7392, 2,  33.9251, 2, -999.0000, 9,     30.6, 2,   -999.0, 9,  -999.00, 9,  -999.00, 9,  -999.00, 9,  -999.00, 9, -999.000, 9, -999.000, 9, -999.000, 9, -999.000, 9,   -999.0, 9,   -999.0, 9, -999.0000,   -999.00,   -999.0, 9,   -999.0,  -999.00, 9,   -999.0,   3.7258, 26.9586,   3.7391, 2, 9, -999.00, -999.00, -999.00, -999.000,  -999.00, 9, -999.00, -999.00, 9, -999.00
49NZ20071008, P01, P01_51, 1, 4, X12006, 9, 20071017, 1739, 46.9705, 169.8093, 4050,    201.7, 2,   3.7396, 2,  33.9248, 2, -999.0000, 9,     30.7, 2,   -999.0, 9,  -999.00, 9,  -999.00, 9,  -999.00, 9,  -999.00, 9, -999.000, 9, -999.000, 9, -999.000, 9, -999.000, 9,   -999.0, 9,   -999.0, 9, -999.0000,   -999.00,   -999.0, 9,   -999.0,  -999.00, 9,   -999.0,   3.7262, 26.9584,   3.7396, 2, 9, -999.00, -999.00, -999.00, -999.000,  -999.00, 9, -999.00, -999.00, 9, -999.00
49NZ20071008, P01, P01_51, 1, 3, X12013, 9, 20071017, 1739, 46.9705, 169.8093, 4050,    201.7, 2,   3.7392, 2,  33.9251, 2, -999.0000, 9,     30.7, 2,   -999.0, 9,  -999.00, 9,  -999.00, 9,  -999.00, 9,  -999.00, 9, -999.000, 9, -999.000, 9, -999.000, 9, -999.000, 9,   -999.0, 9,   -999.0, 9, -999.0000,   -999.00,   -999.0, 9,   -999.0,  -999.00, 9,   -999.0,   3.7258, 26.9586,   3.7389, 2, 9, -999.00, -999.00, -999.00, -999.000,  -999.00, 9, -999.00, -999.00, 9, -999.00
49NZ20071008, P01, P01_51, 1, 2, X12002, 9, 20071017, 1739, 46.9705, 169.8093, 4050,    201.7, 2,   3.7388, 2,  33.9251, 2, -999.0000, 9,     30.6, 2,   -999.0, 9,  -999.00, 9,  -999.00, 9,  -999.00, 9,  -999.00, 9, -999.000, 9, -999.000, 9, -999.000, 9, -999.000, 9,   -999.0, 9,   -999.0, 9, -999.0000,   -999.00,   -999.0, 9,   -999.0,  -999.00, 9,   -999.0,   3.7254, 26.9587,   3.7383, 2, 9, -999.00, -999.00, -999.00, -999.000,  -999.00, 9, -999.00, -999.00, 9, -999.00
49NZ20071008, P01, P01_51, 1, 1, X12001, 2, 20071017, 1739, 46.9705, 169.8093, 4050,   3990.1, 2,   1.4568, 2,  34.6832, 2,  34.6839, 6,    148.8, 2,    149.1, 2,   150.90, 2,    36.28, 2,     0.01, 2,     2.55, 2,    0.000, 2,    0.000, 2,    0.000, 2, -999.000, 9,   2331.2, 2,   2422.3, 2,    7.5849,     25.00,   -999.0, 9,   -999.0,  -999.00, 9,   -999.0,   1.1402, 27.7813,   1.4566, 2, 2, 0.45, 0.13, 0.01, 0.016,  -999.00, 9, -999.00, -999.00, 9, -999.00