BOTTLE,20221005CCHSIOAMB
EXPOCODE,SECT_ID,STNNBR,CASTNO,SAMPNO,BTLNBR,BTLNBR_FLAG_W,DATE,TIME,LATITUDE,LONGITUDE,DEPTH,CTDPRS,CTDPRS_FLAG_W,CTDTMP,CTDTMP_FLAG_W,CTDSAL,CTDSAL_FLAG_W,SALNTY,SALNTY_FLAG_W,CTDOXY,CTDOXY_FLAG_W,OXYGEN,OXYGEN_FLAG_W,SILCAT,SILCAT_FLAG_W,NITRAT,NITRAT_FLAG_W,NITRIT,NITRIT_FLAG_W,PHSPHT,PHSPHT_FLAG_W,CFC-11,CFC-11_FLAG_W,CFC-12,CFC-12_FLAG_W,CFC113,CFC113_FLAG_W,CCL4,CCL4_FLAG_W,TCARBN,TCARBN_FLAG_W,ALKALI,ALKALI_FLAG_W,PH_TOT,PH_TMP,DELC14,DELC14_FLAG_W,C14ERR,DELC13,DELC13_FLAG_W,C13ERR,THETA,SIG0,SBE35,SBE35_FLAG_W,PH_TOT_FLAG_W,SILUNC,NRAUNC,NRIUNC,PHPUNC,CS-137,CS-137_FLAG_W,CS137ER,PLUTO,PLUTO_FLAG_W,PLUTOER
,,,,,,,,,,,METERS,DBAR,,ITS-90,,PSS-78,,PSS-78,,UMOL/KG,,UMOL/KG,,UMOL/KG,,UMOL/KG,,UMOL/KG,,UMOL/KG,,PMOL/KG,,PMOL/KG,,PMOL/KG,,PMOL/KG,,UMOL/KG,,UMOL/KG,,,DEG C,/MILLE,,/MILLE,/MILLE,,/MILLE,DEG C,KG/M^3,ITS-90,,,UMOL/KG,UMOL/KG,UMOL/KG,UMOL/KG,DM/.1MG,,BQ/M^3,MBQ/M^3,,MBQ/M^3
49NZ20071008, P14N, 87, 1, 36, X12042, 2, 20071113, 2139, 19.0143, 178.9898, 4825,     10.0, 2,  27.6277, 2,  34.9543, 2,  34.9547, 2,    200.1, 2,    200.2, 2,     0.88, 2,     0.06, 2,     0.00, 2,     0.06, 2,    1.551, 2,    0.954, 2,    0.359, 4, -999.000, 9,   1950.8, 2,   2301.3, 2,    8.1263,     25.00,   -999.0, 1,   -999.0,  -999.00, 1,   -999.0,  27.6254, 22.4822,  27.6272, 2, 6, 0.12, 0.03, 0.01, 0.032,  -999.00, 9, -999.00, -999.00, 9, -999.00
49NZ20071008, P14N, 87, 1, 35, X12041, 2, 20071113, 2139, 19.0143, 178.9898, 4825,     50.2, 2,  27.6096, 2,  34.9517, 2,  34.9553, 2,    200.4, 2,    200.4, 2,     0.88, 2,     0.05, 2,     0.01, 2,     0.06, 2,    1.553, 2,    0.957, 2,    0.359, 4, -999.000, 9,   1951.0, 6,   2300.4, 2,    8.1266,     25.00,   -999.0, 1,   -999.0,  -999.00, 1,   -999.0,  27.5979, 22.4891,  27.6040, 2, 2, 0.12, 0.03, 0.01, 0.031,  -999.00, 9, -999.00, -999.00, 9, -999.00
49NZ20071008, P14N, 87, 1, 34, X12016, 2, 20071113, 2139, 19.0143, 178.9898, 4825,    101.3, 2,  23.9215, 2,  35.2051, 2,  35.2051, 2,    203.4, 2,    204.6, 2,     1.19, 2,     0.06, 2,     0.00, 2,     0.07, 2,    1.876, 2,    1.130, 2,    0.525, 4, -999.000, 9,   2001.1, 2,   2315.9, 6,    8.0713,     25.00,   -999.0, 1,   -999.0,  -999.00, 1,   -999.0,  23.9002, 23.8262,  23.9236, 2, 2, 0.12, 0.03, 0.01, 0.027,  -999.00, 9, -999.00, -999.00, 9, -999.00
49NZ20071008, P14N, 87, 1, 33, X12033, 2, 20071113, 2139, 19.0143, 178.9898, 4825,    151.1, 2,  20.5710, 2,  35.0353, 2,  35.0366, 2,    193.0, 2,    195.9, 2,     2.07, 2,     1.27, 2,     0.02, 2,     0.17, 2,    2.167, 6,    1.295, 2,    0.263, 4, -999.000, 9,   2029.5, 2,   2304.9, 2,    8.0037,     25.00,   -999.0, 1,   -999.0,  -999.00, 1,   -999.0,  20.5425, 24.6444,  20.5785, 2, 6, 0.12, 0.04, 0.01, 0.017,  -999.00, 9, -999.00, -999.00, 9, -999.00
49NZ20071008, P14N, 87, 1, 32, X12038, 2, 20071113, 2139, 19.0143, 178.9898, 4825,    202.0, 2,  17.7415, 2,  34.7761, 2,  34.7774, 2,    191.5, 2,    188.2, 2,     3.98, 2,     4.85, 2,     0.01, 2,     0.42, 2,    2.439, 2,    1.402, 2,    0.068, 2, -999.000, 9,   2054.0, 2,   2291.2, 2,    7.9342,     25.00,   -999.0, 1,   -999.0,  -999.00, 1,   -999.0,  17.7072, 25.1723,  17.7445, 2, 2, 0.13, 0.05, 0.01, 0.013,  -999.00, 9, -999.00, -999.00, 9, -999.00
49NZ20071008, P14N, 87, 1, 31, X12003, 2, 20071113, 2139, 19.0143, 178.9898, 4825,    249.9, 2,  15.1900, 2,  34.5443, 2,  34.5378, 6,    189.6, 2,    189.0, 2,     7.21, 2,     8.26, 2,     0.01, 2,     0.66, 2,    2.667, 2,    1.497, 2,    0.039, 2, -999.000, 9,   2071.4, 2,   2276.3, 2,    7.8769,     25.00,   -999.0, 1,   -999.0,  -999.00, 1,   -999.0,  15.1519, 25.5872,  15.1925, 2, 2, 0.13, 0.06, 0.01, 0.013,  -999.00, 9, -999.00, -999.00, 9, -999.00
49NZ20071008, P14N, 87, 1, 30, X12008, 2, 20071113, 2139, 19.0143, 178.9898, 4825,    280.5, 2,  13.5988, 2,  34.3998, 2,  34.3969, 2,    185.2, 2,    184.0, 2,    10.25, 2,    11.07, 2,     0.01, 2,     0.88, 2,    2.719, 2,    1.500, 2,    0.049, 2, -999.000, 9,   2088.1, 2,   2270.7, 2,    7.8296,     25.00,   -999.0, 1,   -999.0,  -999.00, 1,   -999.0,  13.5591, 25.8146,  13.5964, 2, 2, 0.14, 0.06, 0.01, 0.013,  -999.00, 9, -999.00, -999.00, 9, -999.00
49NZ20071008, P14N, 87, 1, 29, X12035, 2, 20071113, 2139, 19.0143, 178.9898, 4825,    369.5, 2,   9.8683, 2,  34.2008, 2,  34.1989, 2,    149.7, 2,    144.4, 2,    26.27, 2,    21.71, 2,     0.01, 2,     1.64, 2,    2.446, 2,    1.247, 2,    0.050, 2, -999.000, 9,   2159.6, 2,   2272.3, 2,    7.6637,     25.00,   -999.0, 1,   -999.0,  -999.00, 1,   -999.0,   9.8258, 26.3572,   9.8684, 2, 2, 0.18, 0.09, 0.01, 0.014,  -999.00, 9, -999.00, -999.00, 9, -999.00
49NZ20071008, P14N, 87, 1, 28, X12034, 2, 20071113, 2139, 19.0143, 178.9898, 4825,    469.2, 2,   7.7927, 2,  34.1565, 2,  34.1561, 6,    102.8, 2,    102.9, 2,    44.66, 2,    29.65, 2,     0.01, 2,     2.20, 2,    1.594, 2,    0.772, 2,    0.038, 2, -999.000, 9,   2218.5, 2,   2287.1, 2,    7.5403,     25.00,   -999.0, 1,   -999.0,  -999.00, 1,   -999.0,   7.7457, 26.6488,   7.8157, 2, 2, 0.22, 0.12, 0.01, 0.016,  -999.00, 9, -999.00, -999.00, 9, -999.00
49NZ20071008, P14N, 87, 1, 27, X12049, 2, 20071113, 2139, 19.0143, 178.9898, 4825,    569.7, 2,   6.3396, 2,  34.2306, 2,  34.2286, 2,     60.1, 2,     61.0, 2,    65.23, 2,    36.35, 2,     0.01, 2,     2.68, 2,    0.579, 2,    0.287, 2,    0.017, 2, -999.000, 9,   2273.7, 2,   2309.9, 2,    7.4454,     25.00,   -999.0, 1,   -999.0,  -999.00, 1,   -999.0,   6.2883, 26.9078,   6.3461, 2, 2, 0.26, 0.13, 0.01, 0.017,  -999.00, 9, -999.00, -999.00, 9, -999.00
49NZ20071008, P14N, 87, 1, 26, X12032, 2, 20071113, 2139, 19.0143, 178.9898, 4825,    671.2, 2,   5.5238, 2,  34.3352, 2,  34.3347, 2,     50.3, 2,     50.0, 2,    78.69, 2,    38.98, 2,     0.01, 2,     2.86, 2,    0.182, 2,    0.091, 2,    0.000, 2, -999.000, 9,   2300.1, 6,   2330.2, 2,    7.4286,     25.00,   -999.0, 1,   -999.0,  -999.00, 1,   -999.0,   5.4670, 27.0932,   5.5237, 2, 2, 0.29, 0.14, 0.01, 0.017,  -999.00, 9, -999.00, -999.00, 9, -999.00
49NZ20071008, P14N, 87, 1, 25, X12043, 2, 20071113, 2139, 19.0143, 178.9898, 4825,    770.1, 2,   5.0084, 2,  34.4057, 2,  34.4070, 2,     52.6, 2,     52.6, 2,    87.74, 2,    39.89, 2,     0.01, 2,     2.91, 2,    0.086, 2,    0.046, 2,    0.000, 2, -999.000, 9,   2311.6, 2,   2346.3, 6,    7.4353,     25.00,   -999.0, 1,   -999.0,  -999.00, 1,   -999.0,   4.9456, 27.2103,   5.0073, 2, 2, 0.31, 0.14, 0.01, 0.017,  -999.00, 9, -999.00, -999.00, 9, -999.00
49NZ20071008, P14N, 87, 1, 24, X12030, 2, 20071113, 2139, 19.0143, 178.9898, 4825,    869.7, 2,   4.5785, 2,  34.4642, 2,  34.4643, 2,     58.8, 2,     58.8, 2,    95.28, 2,    40.21, 2,     0.01, 2,     2.89, 2,    0.042, 2,    0.028, 2,    0.000, 2, -999.000, 9,   2317.7, 2,   2358.0, 2,    7.4494,     25.00,   -999.0, 1,   -999.0,  -999.00, 1,   -999.0,   4.5097, 27.3056,   4.5787, 2, 2, 0.33, 0.15, 0.01, 0.017,  -999.00, 9, -999.00, -999.00, 9, -999.00
49NZ20071008, P14N, 87, 1, 23, X12027, 2, 20071113, 2139, 19.0143, 178.9898, 4825,    969.8, 2,   4.2383, 2,  34.4990, 2,  34.5006, 6,     63.3, 2,     62.2, 2,   101.85, 2,    40.28, 2,     0.01, 2,     2.91, 2,    0.027, 2,    0.015, 2,    0.000, 2, -999.000, 9,   2328.6, 2,   2367.5, 2,    7.4546,     25.00,   -999.0, 1,   -999.0,  -999.00, 1,   -999.0,   4.1634, 27.3705,   4.2383, 2, 2, 0.34, 0.15, 0.01, 0.017,  -999.00, 9, -999.00, -999.00, 9, -999.00
49NZ20071008, P14N, 87, 1, 22, X12028, 2, 20071113, 2139, 19.0143, 178.9898, 4825,   1129.8, 2,   3.6423, 2,  34.5355, 2,  34.5359, 2,     67.9, 2,     67.2, 2,   113.52, 2,    40.74, 2,     0.01, 2,     2.93, 2,    0.010, 2,    0.008, 2,    0.000, 2, -999.000, 9,   2338.2, 2,   2381.4, 2,    7.4594,     25.00,   -999.0, 1,   -999.0,  -999.00, 1,   -999.0,   3.5588, 27.4612,   3.6422, 2, 2, 0.37, 0.15, 0.01, 0.017,  -999.00, 9, -999.00, -999.00, 9, -999.00
49NZ20071008, P14N, 87, 1, 21, X12009, 2, 20071113, 2139, 19.0143, 178.9898, 4825,   1331.4, 2,   3.1092, 2,  34.5622, 2,  34.5623, 2,     74.5, 2,     75.1, 2,   124.29, 2,    40.62, 2,     0.00, 2,     2.91, 2,    0.001, 2,    0.001, 2,    0.000, 2, -999.000, 9,   2346.6, 2,   2393.0, 2,    7.4703,     25.00,   -999.0, 1,   -999.0,  -999.00, 1,   -999.0,   3.0141, 27.5343,   3.1093, 2, 2, 0.39, 0.15, 0.01, 0.017,  -999.00, 9, -999.00, -999.00, 9, -999.00
49NZ20071008, P14N, 87, 1, 20, X12026, 2, 20071113, 2139, 19.0143, 178.9898, 4825,   1530.6, 2,   2.6741, 2,  34.5851, 2,  34.5851, 2,     82.7, 2,     83.5, 2,   133.31, 2,    40.35, 2,     0.01, 2,     2.87, 2,    0.000, 2,    0.000, 2,    0.000, 2, -999.000, 9,   2349.7, 2,   2402.3, 2,    7.4830,     25.00,   -999.0, 1,   -999.0,  -999.00, 1,   -999.0,   2.5675, 27.5924,   2.6734, 2, 6, 0.41, 0.15, 0.01, 0.017,  -999.00, 9, -999.00, -999.00, 9, -999.00
49NZ20071008, P14N, 87, 1, 19, X12025, 2, 20071113, 2139, 19.0143, 178.9898, 4825,   1734.6, 2,   2.3608, 2,  34.6058, 2,  34.6055, 2,     90.7, 2,     91.8, 2,   139.31, 2,    39.93, 2,     0.01, 2,     2.82, 2,    0.000, 2,    0.001, 2,    0.000, 2, -999.000, 9,   2350.7, 2,   2409.2, 2,    7.4962,     25.00,   -999.0, 1,   -999.0,  -999.00, 1,   -999.0,   2.2414, 27.6364,   2.3612, 2, 2, 0.43, 0.14, 0.01, 0.017,  -999.00, 9, -999.00, -999.00, 9, -999.00
49NZ20071008, P14N, 87, 1, 18, X12024, 2, 20071113, 2139, 19.0143, 178.9898, 4825,   1934.3, 2,   2.1496, 2,  34.6217, 2,  34.6214, 2,     98.8, 2,     99.5, 2,   143.36, 2,    39.55, 2,     0.01, 2,     2.79, 2,    0.004, 2,    0.003, 2,    0.000, 2, -999.000, 9,   2352.3, 2,   2408.4, 3,    7.5078,     25.00,   -999.0, 1,   -999.0,  -999.00, 1,   -999.0,   2.0165, 27.6673,   2.1496, 2, 2, 0.43, 0.14, 0.01, 0.017,  -999.00, 9, -999.00, -999.00, 9, -999.00
49NZ20071008, P14N, 87, 1, 17, X12023, 2, 20071113, 2139, 19.0143, 178.9898, 4825,   2130.0, 2,   1.9738, 2,  34.6336, 2,  34.6337, 2,    106.2, 2,    106.4, 2,   146.17, 2,    39.14, 2,     0.01, 2,     2.76, 2,    0.000, 2,    0.000, 2,    0.000, 2, -999.000, 9,   2350.8, 2,   2414.9, 2,    7.5197,     25.00,   -999.0, 1,   -999.0,  -999.00, 1,   -999.0,   1.8268, 27.6916,   1.9737, 2, 2, 0.44, 0.14, 0.01, 0.017,  -999.00, 9, -999.00, -999.00, 9, -999.00
49NZ20071008, P14N, 87, 1, 16, X12022, 2, 20071113, 2139, 19.0143, 178.9898, 4825,   2331.0, 2,   1.8226, 2,  34.6452, 2,  34.6453, 6,    113.7, 2,    113.9, 2,   148.46, 2,    38.69, 2,     0.01, 2,     2.72, 2,    0.001, 2,    0.000, 2,    0.000, 2, -999.000, 9,   2348.2, 6,   2418.3, 2,    7.5314,     25.00,   -999.0, 1,   -999.0,  -999.00, 1,   -999.0,   1.6607, 27.7135,   1.8228, 2, 2, 0.45, 0.14, 0.01, 0.017,  -999.00, 9, -999.00, -999.00, 9, -999.00
49NZ20071008, P14N, 87, 1, 15, X12021, 2, 20071113, 2139, 19.0143, 178.9898, 4825,   2529.8, 2,   1.7202, 2,  34.6536, 2,  34.6538, 2,    120.2, 2,    120.1, 2,   149.69, 2,    38.21, 2,     0.01, 2,     2.68, 2, -999.000, 9, -999.000, 9, -999.000, 9, -999.000, 9,   2344.8, 2,   2420.1, 6,    7.5423,     25.00,   -999.0, 1,   -999.0,  -999.00, 1,   -999.0,   1.5425, 27.7291,   1.7201, 2, 2, 0.45, 0.14, 0.01, 0.017,  -999.00, 9, -999.00, -999.00, 9, -999.00
49NZ20071008, P14N, 87, 1, 14, X12020, 2, 20071113, 2139, 19.0143, 178.9898, 4825,   2730.1, 2,   1.6426, 2,  34.6600, 2,  34.6601, 2,    125.7, 2,    125.7, 2,   149.87, 2,    37.99, 2,     0.01, 2,     2.66, 2, -999.000, 9, -999.000, 9, -999.000, 9, -999.000, 9,   2342.8, 2,   2420.8, 2,    7.5507,     25.00,   -999.0, 1,   -999.0,  -999.00, 1,   -999.0,   1.4481, 27.7411,   1.6425, 2, 6, 0.45, 0.14, 0.01, 0.017,  -999.00, 9, -999.00, -999.00, 9, -999.00
49NZ20071008, P14N, 87, 1, 13, X12019, 2, 20071113, 2139, 19.0143, 178.9898, 4825,   2929.0, 2,   1.5861, 2,  34.6652, 2,  34.6647, 2,    131.0, 2,    131.1, 2,   149.27, 2,    37.66, 2,     0.00, 2,     2.63, 2,    0.000, 2,    0.000, 2,    0.000, 2, -999.000, 9,   2341.5, 2,   2419.8, 2,    7.5582,     25.00,   -999.0, 1,   -999.0,  -999.00, 1,   -999.0,   1.3742, 27.7506,   1.5862, 2, 2, 0.45, 0.14, 0.01, 0.017,  -999.00, 9, -999.00, -999.00, 9, -999.00
49NZ20071008, P14N, 87, 1, 12, X12040, 2, 20071113, 2139, 19.0143, 178.9898, 4825,   3170.5, 2,   1.5424, 2,  34.6712, 2,  34.6713, 2,    137.0, 2,    137.0, 2,   148.11, 2,    37.13, 2,     0.01, 2,     2.59, 2, -999.000, 9, -999.000, 9, -999.000, 9, -999.000, 9,   2338.1, 2,   2420.8, 2,    7.5669,     25.00,   -999.0, 1,   -999.0,  -999.00, 1,   -999.0,   1.3082, 27.7600,   1.5422, 2, 2, 0.44, 0.14, 0.01, 0.016,  -999.00, 9, -999.00, -999.00, 9, -999.00
49NZ20071008, P14N, 87, 1, 11, X12047, 2, 20071113, 2139, 19.0143, 178.9898, 4825,   3418.8, 2,   1.5069, 2,  34.6762, 2,  34.6762, 2,    142.5, 2,    142.6, 2,   146.74, 2,    36.73, 2,     0.01, 2,     2.57, 2, -999.000, 9, -999.000, 9, -999.000, 9, -999.000, 9,   2332.9, 2,   2418.8, 2,    7.5752,     25.00,   -999.0, 1,   -999.0,  -999.00, 1,   -999.0,   1.2489, 27.7682,   1.5068, 2, 2, 0.44, 0.14, 0.01, 0.016,  -999.00, 9, -999.00, -999.00, 9, -999.00
49NZ20071008, P14N, 87, 1, 10, X12012, 2, 20071113, 2139, 19.0143, 178.9898, 4825,   3669.8, 2,   1.4754, 2,  34.6811, 2,  34.6807, 6,    148.3, 2,    148.5, 2,   144.91, 2,    36.39, 2,     0.01, 2,     2.54, 2,    0.002, 2,    0.002, 2,    0.000, 2, -999.000, 9,   2329.1, 2,   2417.1, 2,    7.5836,     25.00,   -999.0, 1,   -999.0,  -999.00, 1,   -999.0,   1.1924, 27.7761,   1.4753, 2, 2, 0.44, 0.13, 0.01, 0.016,  -999.00, 9, -999.00, -999.00, 9, -999.00
49NZ20071008, P14N, 87, 1, 9, X12015, 2, 20071113, 2139, 19.0143, 178.9898, 4825,   3917.6, 2,   1.4756, 2,  34.6831, 2,  34.6829, 2,    151.4, 2,    151.6, 2,   143.62, 2,    36.15, 2,     0.01, 2,     2.53, 2, -999.000, 9, -999.000, 9, -999.000, 9, -999.000, 9,   2326.4, 2,   2415.9, 2,    7.5883,     25.00,   -999.0, 1,   -999.0,  -999.00, 1,   -999.0,   1.1663, 27.7795,   1.4756, 2, 2, 0.43, 0.13, 0.01, 0.016,  -999.00, 9, -999.00, -999.00, 9, -999.00
49NZ20071008, P14N, 87, 1, 8, X12046, 2, 20071113, 2139, 19.0143, 178.9898, 4825,   4171.2, 2,   1.4769, 2,  34.6855, 2,  34.6852, 2,    154.5, 2,    154.9, 2,   141.85, 2,    35.93, 2,     0.00, 2,     2.50, 2, -999.000, 9, -999.000, 9, -999.000, 9, -999.000, 9,   2322.7, 6,   2416.5, 2,    7.5926,     25.00,   -999.0, 1,   -999.0,  -999.00, 1,   -999.0,   1.1398, 27.7832,   1.4768, 2, 2, 0.43, 0.13, 0.01, 0.016,  -999.00, 9, -999.00, -999.00, 9, -999.00
49NZ20071008, P14N, 87, 1, 7, X12044, 2, 20071113, 2139, 19.0143, 178.9898, 4825,   4419.6, 2,   1.4905, 2,  34.6867, 2,  34.6869, 2,    156.8, 2,    156.7, 2,   141.15, 2,    35.73, 2,     0.00, 2,     2.50, 2,    0.000, 2,    0.002, 2,    0.000, 2, -999.000, 9,   2320.5, 2,   2415.0, 6,    7.5945,     25.00,   -999.0, 1,   -999.0,  -999.00, 1,   -999.0,   1.1251, 27.7852,   1.4904, 2, 2, 0.43, 0.13, 0.01, 0.016,  -999.00, 9, -999.00, -999.00, 9, -999.00
49NZ20071008, P14N, 87, 1, 6, X12048, 2, 20071113, 2139, 19.0143, 178.9898, 4825,   4668.1, 2,   1.5068, 2,  34.6877, 2,  34.6877, 2,    158.6, 2,    158.4, 2,   140.31, 2,    35.68, 2,     0.00, 2,     2.49, 2, -999.000, 9, -999.000, 9, -999.000, 9, -999.000, 9,   2321.7, 2,   2413.1, 2,    7.5968,     25.00,   -999.0, 1,   -999.0,  -999.00, 1,   -999.0,   1.1120, 27.7868,   1.5067, 2, 6, 0.43, 0.13, 0.01, 0.016,  -999.00, 9, -999.00, -999.00, 9, -999.00
49NZ20071008, P14N, 87, 1, 5, X12014, 2, 20071113, 2139, 19.0143, 178.9898, 4825,    429.5, 2,   8.4769, 2,  34.1660, 2,  34.1662, 2,    118.5, 2,    118.5, 2,  -999.00, 9,  -999.00, 9,  -999.00, 9,  -999.00, 9, -999.000, 9, -999.000, 9, -999.000, 9, -999.000, 9,   -999.0, 9,   -999.0, 9, -999.0000,   -999.00,   -999.0, 9,   -999.0,  -999.00, 9,   -999.0,   8.4318, 26.5537,   8.4786, 2, 9, -999.00, -999.00, -999.00, -999.000,  -999.00, 9, -999.00, -999.00, 9, -999.00
49NZ20071008, P14N, 87, 1, 4, X12006, 9, 20071113, 2139, 19.0143, 178.9898, 4825,    468.6, 2,   7.7626, 2,  34.1569, 2, -999.0000, 9,    102.6, 2,   -999.0, 9,  -999.00, 9,  -999.00, 9,  -999.00, 9,  -999.00, 9, -999.000, 9, -999.000, 9, -999.000, 9, -999.000, 9,   -999.0, 9,   -999.0, 9, -999.0000,   -999.00,   -999.0, 9,   -999.0,  -999.00, 9,   -999.0,   7.7158, 26.6534,   7.7672, 2, 9, -999.00, -999.00, -999.00, -999.000,  -999.00, 9, -999.00, -999.00, 9, -999.00
49NZ20071008, P14N, 87, 1, 3, X12013, 9, 20071113, 2139, 19.0143, 178.9898, 4825,    569.5, 2,   6.3312, 2,  34.2305, 2, -999.0000, 9,     60.1, 2,   -999.0, 9,  -999.00, 9,  -999.00, 9,  -999.00, 9,  -999.00, 9, -999.000, 9, -999.000, 9, -999.000, 9, -999.000, 9,   -999.0, 9,   -999.0, 9, -999.0000,   -999.00,   -999.0, 9,   -999.0,  -999.00, 9,   -999.0,   6.2800, 26.9088,   6.3316, 2, 9, -999.00, -999.00, -999.00, -999.000,  -999.00, 9, -999.00, -999.00, 9, -999.00
49NZ20071008, P14N, 87, 1, 2, X12002, 9, 20071113, 2139, 19.0143, 178.9898, 4825,    670.3, 2,   5.5273, 2,  34.3346, 2, -999.0000, 9,     50.3, 2,   -999.0, 9,  -999.00, 9,  -999.00, 9,  -999.00, 9,  -999.00, 9, -999.000, 9, -999.000, 9, -999.000, 9, -999.000, 9,   -999.0, 9,   -999.0, 9, -999.0000,   -999.00,   -999.0, 9,   -999.0,  -999.00, 9,   -999.0,   5.4705, 27.0923,   5.5256, 2, 9, -999.00, -999.00, -999.00, -999.000,  -999.00, 9, -999.00, -999.00, 9, -999.00
49NZ20071008, P14N, 87, 1, 1, X12001, 2, 20071113, 2139, 19.0143, 178.9898, 4825,   4889.6, 2,   1.5228, 2,  34.6886, 2,  34.6886, 6,    160.0, 2,    160.1, 2,   139.41, 2,    35.52, 2,     0.01, 2,     2.48, 2,    0.001, 2,    0.003, 2,    0.000, 2, -999.000, 9,   2317.7, 2,   2411.9, 2,    7.5989,     25.00,   -999.0, 1,   -999.0,  -999.00, 1,   -999.0,   1.1012, 27.7883,   1.5229, 2, 2, 0.43, 0.13, 0.01, 0.016,  -999.00, 9, -999.00, -999.00, 9, -999.00