BOTTLE,20221005CCHSIOAMB
EXPOCODE,SECT_ID,STNNBR,CASTNO,SAMPNO,BTLNBR,BTLNBR_FLAG_W,DATE,TIME,LATITUDE,LONGITUDE,DEPTH,CTDPRS,CTDPRS_FLAG_W,CTDTMP,CTDTMP_FLAG_W,CTDSAL,CTDSAL_FLAG_W,SALNTY,SALNTY_FLAG_W,CTDOXY,CTDOXY_FLAG_W,OXYGEN,OXYGEN_FLAG_W,SILCAT,SILCAT_FLAG_W,NITRAT,NITRAT_FLAG_W,NITRIT,NITRIT_FLAG_W,PHSPHT,PHSPHT_FLAG_W,CFC-11,CFC-11_FLAG_W,CFC-12,CFC-12_FLAG_W,CFC113,CFC113_FLAG_W,CCL4,CCL4_FLAG_W,TCARBN,TCARBN_FLAG_W,ALKALI,ALKALI_FLAG_W,PH_TOT,PH_TMP,DELC14,DELC14_FLAG_W,C14ERR,DELC13,DELC13_FLAG_W,C13ERR,THETA,SIG0,SBE35,SBE35_FLAG_W,PH_TOT_FLAG_W,SILUNC,NRAUNC,NRIUNC,PHPUNC,CS-137,CS-137_FLAG_W,CS137ER,PLUTO,PLUTO_FLAG_W,PLUTOER
,,,,,,,,,,,METERS,DBAR,,ITS-90,,PSS-78,,PSS-78,,UMOL/KG,,UMOL/KG,,UMOL/KG,,UMOL/KG,,UMOL/KG,,UMOL/KG,,PMOL/KG,,PMOL/KG,,PMOL/KG,,PMOL/KG,,UMOL/KG,,UMOL/KG,,,DEG C,/MILLE,,/MILLE,/MILLE,,/MILLE,DEG C,KG/M^3,ITS-90,,,UMOL/KG,UMOL/KG,UMOL/KG,UMOL/KG,DM/.1MG,,BQ/M^3,MBQ/M^3,,MBQ/M^3
49NZ20071008, P14N, 109, 1, 36, X12042, 2, 20071119, 0708, 8.5040, 178.9870, 6069,      9.0, 2,  28.2564, 2,  34.0521, 2,  34.0504, 2,    198.3, 2,    197.6, 2,     0.98, 2,     0.06, 2,     0.01, 2,     0.13, 2,    1.467, 2,    0.920, 2,    0.235, 4, -999.000, 9,   1909.0, 2,   2239.1, 2,    8.1259,     25.00,   -999.0, 9,   -999.0,  -999.00, 9,   -999.0,  28.2543, 21.5990,  28.2560, 2, 2, 0.12, 0.03, 0.01, 0.019,  -999.00, 9, -999.00, -999.00, 9, -999.00
49NZ20071008, P14N, 109, 1, 35, X12041, 2, 20071119, 0708, 8.5040, 178.9870, 6069,     49.7, 2,  28.2729, 2,  34.0631, 2,  34.0750, 2,    198.3, 2,    197.6, 2,     0.93, 2,     0.04, 2,     0.01, 2,     0.13, 2,    1.476, 2,    0.931, 2,    0.253, 4, -999.000, 9,   1908.7, 6,   2241.9, 2,    8.1253,     25.00,   -999.0, 9,   -999.0,  -999.00, 9,   -999.0,  28.2611, 21.6049,  28.2723, 2, 2, 0.12, 0.03, 0.01, 0.019,  -999.00, 9, -999.00, -999.00, 9, -999.00
49NZ20071008, P14N, 109, 1, 34, X12016, 2, 20071119, 0708, 8.5040, 178.9870, 6069,     99.8, 2,  22.6982, 2,  34.7869, 2,  34.7877, 2,    211.3, 2,    194.9, 2,     1.98, 2,     0.68, 2,     0.05, 2,     0.28, 2,    1.966, 2,    1.179, 2,    0.347, 4, -999.000, 9,   2019.0, 2,   2297.3, 6,    8.0120,     25.00,   -999.0, 9,   -999.0,  -999.00, 9,   -999.0,  22.6780, 23.8643,  22.6727, 2, 2, 0.12, 0.03, 0.01, 0.014,  -999.00, 9, -999.00, -999.00, 9, -999.00
49NZ20071008, P14N, 109, 1, 33, X12033, 2, 20071119, 0708, 8.5040, 178.9870, 6069,    150.2, 2,  13.8646, 2,  34.4093, 2,  34.4098, 2,    155.5, 2,    139.4, 2,    12.37, 2,    14.76, 2,     0.02, 2,     1.19, 2,    2.400, 6,    1.321, 6,    0.041, 6, -999.000, 9,   2124.5, 2,   2272.2, 2,    7.7556,     25.00,   -999.0, 9,   -999.0,  -999.00, 9,   -999.0,  13.8432, 25.7633,  13.8667, 2, 6, 0.15, 0.07, 0.01, 0.013,  -999.00, 9, -999.00, -999.00, 9, -999.00
49NZ20071008, P14N, 109, 1, 32, X12038, 2, 20071119, 0708, 8.5040, 178.9870, 6069,    200.8, 2,  11.2270, 2,  34.6075, 2,  34.5987, 2,     49.2, 2,     31.9, 2,    27.97, 2,    31.29, 2,     0.01, 2,     2.33, 2,    0.826, 2,    0.435, 2,    0.022, 2, -999.000, 9,   2238.0, 2,   2292.7, 2,    7.5049,     25.00,   -999.0, 9,   -999.0,  -999.00, 9,   -999.0,  11.2020, 26.4332,  11.2257, 2, 2, 0.18, 0.12, 0.01, 0.016,  -999.00, 9, -999.00, -999.00, 9, -999.00
49NZ20071008, P14N, 109, 1, 31, X12003, 2, 20071119, 0708, 8.5040, 178.9870, 6069,    251.1, 2,  10.4156, 2,  34.6778, 2,  34.6766, 6,     17.7, 2,     17.1, 2,    31.47, 2,    34.58, 2,     0.01, 2,     2.50, 2,    0.335, 2,    0.188, 2,    0.013, 2, -999.000, 9,   2257.3, 2,   2301.7, 2,    7.4686,     25.00,   -999.0, 9,   -999.0,  -999.00, 9,   -999.0,  10.3857, 26.6338,  10.4169, 2, 2, 0.19, 0.13, 0.01, 0.016,  -999.00, 9, -999.00, -999.00, 9, -999.00
49NZ20071008, P14N, 109, 1, 30, X12008, 2, 20071119, 0708, 8.5040, 178.9870, 6069,    300.4, 2,   9.9507, 2,  34.6691, 2,  34.6674, 2,     31.6, 2,     23.8, 2,    32.92, 2,    34.80, 2,     0.01, 2,     2.52, 2,    0.278, 2,    0.156, 2,    0.012, 2, -999.000, 9,   2257.4, 2,   2303.7, 2,    7.4718,     25.00,   -999.0, 9,   -999.0,  -999.00, 9,   -999.0,   9.9159, 26.7079,   9.9508, 2, 2, 0.19, 0.13, 0.01, 0.016,  -999.00, 9, -999.00, -999.00, 9, -999.00
49NZ20071008, P14N, 109, 1, 29, X12035, 2, 20071119, 0708, 8.5040, 178.9870, 6069,    399.5, 2,   8.8550, 2,  34.6081, 2,  34.6070, 2,     41.1, 2,     41.7, 2,    38.33, 2,    35.22, 2,     0.01, 2,     2.55, 2,    0.223, 2,    0.123, 2,    0.004, 2, -999.000, 9,   2256.3, 2,   2307.7, 2,    7.4842,     25.00,   -999.0, 9,   -999.0,  -999.00, 9,   -999.0,   8.8117, 26.8412,   8.8555, 2, 2, 0.20, 0.13, 0.01, 0.016,  -999.00, 9, -999.00, -999.00, 9, -999.00
49NZ20071008, P14N, 109, 1, 28, X12034, 2, 20071119, 0708, 8.5040, 178.9870, 6069,    497.3, 2,   7.9547, 2,  34.5689, 2,  34.5679, 6,     37.4, 2,     36.6, 2,    46.26, 2,    37.05, 2,     0.01, 2,     2.71, 2,    0.097, 2,    0.053, 2,    0.000, 2, -999.000, 9,   2272.2, 2,   2314.2, 2,    7.4590,     25.00,   -999.0, 9,   -999.0,  -999.00, 9,   -999.0,   7.9039, 26.9496,   7.9542, 2, 2, 0.22, 0.14, 0.01, 0.017,  -999.00, 9, -999.00, -999.00, 9, -999.00
49NZ20071008, P14N, 109, 1, 27, X12049, 2, 20071119, 0708, 8.5040, 178.9870, 6069,    599.7, 2,   7.0930, 2,  34.5457, 2,  34.5449, 2,     42.7, 2,     43.2, 2,    54.24, 2,    38.39, 2,     0.01, 2,     2.80, 2,    0.058, 2,    0.030, 2,    0.000, 2, -999.000, 9,   2280.2, 2,   2321.9, 2,    7.4579,     25.00,   -999.0, 9,   -999.0,  -999.00, 9,   -999.0,   7.0352, 27.0560,   7.0930, 2, 2, 0.24, 0.14, 0.01, 0.017,  -999.00, 9, -999.00, -999.00, 9, -999.00
49NZ20071008, P14N, 109, 1, 26, X12032, 2, 20071119, 0708, 8.5040, 178.9870, 6069,    699.5, 2,   6.2974, 2,  34.5360, 2,  34.5341, 2,     45.6, 2,     45.6, 2,    63.62, 2,    39.87, 2,     0.01, 2,     2.90, 2,    0.026, 6,    0.014, 6,    0.000, 6, -999.000, 9,   2293.9, 6,   2331.6, 2,    7.4509,     25.00,   -999.0, 9,   -999.0,  -999.00, 9,   -999.0,   6.2337, 27.1560,   6.2976, 2, 2, 0.26, 0.14, 0.01, 0.017,  -999.00, 9, -999.00, -999.00, 9, -999.00
49NZ20071008, P14N, 109, 1, 25, X12043, 2, 20071119, 0708, 8.5040, 178.9870, 6069,    801.5, 2,   5.4485, 2,  34.5353, 2,  34.5354, 2,     53.5, 2,     51.5, 2,    75.34, 2,    40.74, 2,     0.01, 2,     2.95, 2,    0.011, 2,    0.005, 2,    0.000, 2, -999.000, 9,   2306.3, 2,   2344.5, 6,    7.4516,     25.00,   -999.0, 9,   -999.0,  -999.00, 9,   -999.0,   5.3801, 27.2620,   5.4483, 2, 2, 0.28, 0.15, 0.01, 0.017,  -999.00, 9, -999.00, -999.00, 9, -999.00
49NZ20071008, P14N, 109, 1, 24, X12030, 2, 20071119, 0708, 8.5040, 178.9870, 6069,    898.7, 2,   4.9375, 2,  34.5467, 2,  34.5473, 2,     56.4, 2,     55.9, 2,    83.05, 2,    41.13, 2,     0.01, 2,     2.97, 2, -999.000, 5, -999.000, 5, -999.000, 5, -999.000, 9,   2314.4, 2,   2354.1, 2,    7.4522,     25.00,   -999.0, 9,   -999.0,  -999.00, 9,   -999.0,   4.8637, 27.3315,   4.9382, 2, 6, 0.30, 0.15, 0.01, 0.017,  -999.00, 9, -999.00, -999.00, 9, -999.00
49NZ20071008, P14N, 109, 1, 23, X12027, 2, 20071119, 0708, 8.5040, 178.9870, 6069,   1000.2, 2,   4.5057, 2,  34.5568, 2,  34.5569, 6,     58.0, 2,     59.1, 2,    91.30, 2,    41.45, 2,     0.01, 2,     3.01, 2,    0.000, 2,    0.000, 2,    0.000, 2, -999.000, 9,   2323.8, 2,   2363.4, 2,    7.4539,     25.00,   -999.0, 9,   -999.0,  -999.00, 9,   -999.0,   4.4261, 27.3883,   4.5056, 2, 2, 0.32, 0.15, 0.01, 0.017,  -999.00, 9, -999.00, -999.00, 9, -999.00
49NZ20071008, P14N, 109, 1, 22, X12028, 2, 20071119, 0708, 8.5040, 178.9870, 6069,   1202.2, 2,   3.8019, 2,  34.5742, 2,  34.5743, 2,     68.1, 2,     69.3, 2,   105.76, 2,    41.21, 2,     0.01, 2,     2.97, 2,    0.000, 2,    0.000, 2,    0.000, 2, -999.000, 9,   2332.4, 2,   2378.3, 2,    7.4681,     25.00,   -999.0, 9,   -999.0,  -999.00, 9,   -999.0,   3.7108, 27.4770,   3.8018, 2, 2, 0.35, 0.15, 0.01, 0.017,  -999.00, 9, -999.00, -999.00, 9, -999.00
49NZ20071008, P14N, 109, 1, 21, X12009, 2, 20071119, 0708, 8.5040, 178.9870, 6069,   1401.5, 2,   3.2781, 2,  34.5904, 2,  34.5906, 2,     77.5, 2,     78.2, 2,   117.01, 2,    40.76, 2,     0.01, 2,     2.94, 2,    0.000, 2,    0.000, 2,    0.000, 2, -999.000, 9,   2340.8, 2,   2390.7, 2,    7.4823,     25.00,   -999.0, 9,   -999.0,  -999.00, 9,   -999.0,   3.1754, 27.5418,   3.2782, 2, 2, 0.38, 0.15, 0.01, 0.017,  -999.00, 9, -999.00, -999.00, 9, -999.00
49NZ20071008, P14N, 109, 1, 20, X12026, 2, 20071119, 0708, 8.5040, 178.9870, 6069,   1601.4, 2,   2.8467, 2,  34.6067, 2,  34.6067, 2,     85.3, 2,     86.8, 2,   126.20, 2,    40.31, 2,     0.01, 2,     2.89, 2,    0.000, 2,    0.000, 2,    0.000, 2, -999.000, 9,   2344.6, 2,   2400.4, 2,    7.4948,     25.00,   -999.0, 9,   -999.0,  -999.00, 9,   -999.0,   2.7321, 27.5953,   2.8466, 2, 6, 0.40, 0.15, 0.01, 0.017,  -999.00, 9, -999.00, -999.00, 9, -999.00
49NZ20071008, P14N, 109, 1, 19, X12025, 2, 20071119, 0708, 8.5040, 178.9870, 6069,   1801.9, 2,   2.5146, 2,  34.6221, 2,  34.6223, 2,     93.8, 2,     93.9, 2,   133.64, 2,    39.94, 2,     0.01, 2,     2.85, 2,    0.001, 2,    0.000, 2,    0.000, 2, -999.000, 9,   2350.9, 2,   2409.1, 2,    7.5056,     25.00,   -999.0, 9,   -999.0,  -999.00, 9,   -999.0,   2.3874, 27.6373,   2.5146, 2, 2, 0.41, 0.14, 0.01, 0.017,  -999.00, 9, -999.00, -999.00, 9, -999.00
49NZ20071008, P14N, 109, 1, 18, X12024, 2, 20071119, 0708, 8.5040, 178.9870, 6069,   2000.1, 2,   2.2434, 2,  34.6372, 2,  34.6369, 2,    100.0, 2,    100.5, 2,   139.87, 2,    39.62, 2,     0.01, 2,     2.82, 2,    0.001, 2,    0.000, 2,    0.000, 2, -999.000, 9,   2353.5, 2,   2415.5, 2,    7.5172,     25.00,   -999.0, 9,   -999.0,  -999.00, 9,   -999.0,   2.1032, 27.6728,   2.2433, 2, 2, 0.43, 0.14, 0.01, 0.017,  -999.00, 9, -999.00, -999.00, 9, -999.00
49NZ20071008, P14N, 109, 1, 17, X12023, 2, 20071119, 0708, 8.5040, 178.9870, 6069,   2203.0, 2,   2.0550, 2,  34.6479, 2,  34.6482, 2,    106.1, 2,    106.7, 2,   143.87, 2,    39.33, 2,     0.01, 2,     2.77, 2,    0.001, 2,    0.000, 2,    0.000, 2, -999.000, 9,   2354.5, 2,   2420.6, 2,    7.5271,     25.00,   -999.0, 9,   -999.0,  -999.00, 9,   -999.0,   1.9003, 27.6974,   2.0550, 2, 2, 0.44, 0.14, 0.01, 0.017,  -999.00, 9, -999.00, -999.00, 9, -999.00
49NZ20071008, P14N, 109, 1, 16, X12022, 2, 20071119, 0708, 8.5040, 178.9870, 6069,   2401.5, 2,   1.9504, 2,  34.6555, 2,  34.6554, 2,    110.5, 2,    111.3, 2,   146.36, 2,    38.96, 2,     0.01, 2,     2.75, 2, -999.000, 9, -999.000, 9, -999.000, 9, -999.000, 9,   2353.9, 6,   2423.5, 2,    7.5367,     25.00,   -999.0, 9,   -999.0,  -999.00, 9,   -999.0,   1.7799, 27.7128,   1.9504, 2, 2, 0.44, 0.14, 0.01, 0.017,  -999.00, 9, -999.00, -999.00, 9, -999.00
49NZ20071008, P14N, 109, 1, 15, X12021, 2, 20071119, 0708, 8.5040, 178.9870, 6069,   2600.4, 2,   1.8657, 2,  34.6617, 2,  34.6613, 2,    115.7, 2,    115.6, 2,   147.83, 2,    38.69, 2,     0.01, 2,     2.72, 2,    0.005, 2,    0.004, 2,    0.000, 2, -999.000, 9,   2354.9, 2,   2425.0, 6,    7.5443,     25.00,   -999.0, 9,   -999.0,  -999.00, 9,   -999.0,   1.6787, 27.7254,   1.8657, 2, 2, 0.44, 0.14, 0.01, 0.017,  -999.00, 9, -999.00, -999.00, 9, -999.00
49NZ20071008, P14N, 109, 1, 14, X12020, 2, 20071119, 0708, 8.5040, 178.9870, 6069,   2800.6, 2,   1.7832, 2,  34.6670, 2,  34.6666, 6,    121.2, 2,    121.0, 2,   148.88, 2,    38.35, 2,     0.00, 2,     2.69, 2, -999.000, 9, -999.000, 9, -999.000, 9, -999.000, 9,   2352.1, 2,   2426.8, 2,    7.5521,     25.00,   -999.0, 9,   -999.0,  -999.00, 9,   -999.0,   1.5793, 27.7371,   1.7832, 2, 6, 0.45, 0.14, 0.01, 0.017,  -999.00, 9, -999.00, -999.00, 9, -999.00
49NZ20071008, P14N, 109, 1, 13, X12019, 2, 20071119, 0708, 8.5040, 178.9870, 6069,   3001.5, 2,   1.7136, 2,  34.6709, 2,  34.6706, 2,    127.4, 2,    126.8, 2,   148.19, 2,    37.82, 2,     0.01, 2,     2.66, 2,    0.000, 2,    0.000, 2,    0.000, 2, -999.000, 9,   2349.4, 2,   2426.2, 2,    7.5608,     25.00,   -999.0, 9,   -999.0,  -999.00, 9,   -999.0,   1.4920, 27.7467,   1.7136, 2, 2, 0.45, 0.14, 0.01, 0.017,  -999.00, 9, -999.00, -999.00, 9, -999.00
49NZ20071008, P14N, 109, 1, 12, X12040, 2, 20071119, 0708, 8.5040, 178.9870, 6069,   3250.0, 2,   1.6223, 2,  34.6762, 2,  34.6761, 2,    135.2, 2,    134.8, 2,   147.48, 2,    37.31, 2,     0.01, 2,     2.61, 2, -999.000, 9, -999.000, 9, -999.000, 9, -999.000, 9,   2342.4, 2,   2425.5, 2,    7.5716,     25.00,   -999.0, 9,   -999.0,  -999.00, 9,   -999.0,   1.3784, 27.7591,   1.6223, 2, 2, 0.44, 0.14, 0.01, 0.016,  -999.00, 9, -999.00, -999.00, 9, -999.00
49NZ20071008, P14N, 109, 1, 11, X12047, 2, 20071119, 0708, 8.5040, 178.9870, 6069,   3501.0, 2,   1.5395, 2,  34.6819, 2,  34.6821, 2,    143.1, 2,    143.2, 2,   146.28, 2,    36.90, 2,     0.01, 2,     2.57, 2,    0.001, 2,    0.001, 2,    0.000, 2, -999.000, 9,   2334.3, 2,   2423.2, 2,    7.5827,     25.00,   -999.0, 9,   -999.0,  -999.00, 9,   -999.0,   1.2723, 27.7712,   1.5394, 2, 2, 0.44, 0.14, 0.01, 0.016,  -999.00, 9, -999.00, -999.00, 9, -999.00
49NZ20071008, P14N, 109, 1, 10, X12012, 2, 20071119, 0708, 8.5040, 178.9870, 6069,   3748.9, 2,   1.4784, 2,  34.6860, 2,  34.6860, 2,    151.3, 2,    151.3, 2,   143.50, 2,    36.29, 2,     0.01, 2,     2.53, 2, -999.000, 9, -999.000, 9, -999.000, 9, -999.000, 9,   2329.8, 2,   2419.7, 2,    7.5922,     25.00,   -999.0, 9,   -999.0,  -999.00, 9,   -999.0,   1.1870, 27.7804,   1.4782, 2, 2, 0.43, 0.13, 0.01, 0.016,  -999.00, 9, -999.00, -999.00, 9, -999.00
49NZ20071008, P14N, 109, 1, 9, X12015, 2, 20071119, 0708, 8.5040, 178.9870, 6069,   4001.8, 2,   1.4100, 2,  34.6909, 2,  34.6912, 2,    161.3, 2,    161.3, 2,   139.01, 2,    35.64, 2,     0.01, 2,     2.48, 2,    0.005, 2,    0.004, 2,    0.000, 2, -999.000, 9,   2318.1, 2,   2413.7, 2,    7.6036,     25.00,   -999.0, 9,   -999.0,  -999.00, 9,   -999.0,   1.0934, 27.7907,   1.4100, 2, 2, 0.42, 0.13, 0.01, 0.016,  -999.00, 9, -999.00, -999.00, 9, -999.00
49NZ20071008, P14N, 109, 1, 8, X12046, 2, 20071119, 0708, 8.5040, 178.9870, 6069,   4249.2, 2,   1.3400, 2,  34.6963, 2,  34.6965, 2,    171.0, 2,    172.3, 2,   133.58, 2,    34.73, 2,     0.01, 2,     2.42, 2, -999.000, 9, -999.000, 9, -999.000, 9, -999.000, 9,   2309.2, 6,   2406.1, 2,    7.6132,     25.00,   -999.0, 9,   -999.0,  -999.00, 9,   -999.0,   0.9982, 27.8015,   1.3402, 2, 2, 0.41, 0.13, 0.01, 0.016,  -999.00, 9, -999.00, -999.00, 9, -999.00
49NZ20071008, P14N, 109, 1, 7, X12044, 2, 20071119, 0708, 8.5040, 178.9870, 6069,   4501.0, 2,   1.3195, 2,  34.6990, 2,  34.6992, 6,    178.5, 2,    177.8, 2,   130.68, 2,    34.44, 2,     0.01, 2,     2.39, 2,    0.005, 2,    0.001, 2,    0.000, 2, -999.000, 9,   2301.0, 2,   2401.6, 6,    7.6179,     25.00,   -999.0, 9,   -999.0,  -999.00, 9,   -999.0,   0.9499, 27.8068,   1.3196, 2, 2, 0.41, 0.13, 0.01, 0.016,  -999.00, 9, -999.00, -999.00, 9, -999.00
49NZ20071008, P14N, 109, 1, 6, X12048, 2, 20071119, 0708, 8.5040, 178.9870, 6069,   4747.9, 2,   1.3039, 2,  34.7015, 2,  34.7020, 3,    182.3, 2,    182.8, 2,   128.17, 2,    33.92, 2,     0.01, 2,     2.36, 2,    0.002, 2,    0.005, 2,    0.000, 2, -999.000, 9,   2295.6, 2,   2398.3, 2,    7.6225,     25.00,   -999.0, 9,   -999.0,  -999.00, 9,   -999.0,   0.9062, 27.8117,   1.3040, 2, 6, 0.40, 0.13, 0.01, 0.016,  -999.00, 9, -999.00, -999.00, 9, -999.00
49NZ20071008, P14N, 109, 1, 5, X12014, 2, 20071119, 0708, 8.5040, 178.9870, 6069,   5000.6, 2,   1.3085, 2,  34.7030, 2,  34.7030, 2,    185.7, 2,    186.2, 2,   126.11, 2,    33.74, 2,     0.01, 2,     2.35, 2,    0.002, 2,    0.002, 2,    0.000, 2, -999.000, 9,   2293.1, 2,   2393.7, 2,    7.6246,     25.00,   -999.0, 9,   -999.0,  -999.00, 9,   -999.0,   0.8806, 27.8145,   1.3086, 2, 2, 0.40, 0.13, 0.01, 0.016,  -999.00, 9, -999.00, -999.00, 9, -999.00
49NZ20071008, P14N, 109, 1, 4, X12006, 2, 20071119, 0708, 8.5040, 178.9870, 6069,   5248.7, 2,   1.3232, 2,  34.7038, 2,  34.7047, 3,    188.1, 2,    188.4, 2,   124.90, 2,    33.51, 2,     0.01, 2,     2.33, 2,    0.008, 2,    0.006, 2,    0.000, 2, -999.000, 9,   2288.1, 2,   2391.9, 2,    7.6257,     25.00,   -999.0, 9,   -999.0,  -999.00, 9,   -999.0,   0.8644, 27.8162,   1.3232, 2, 2, 0.39, 0.13, 0.01, 0.016,  -999.00, 9, -999.00, -999.00, 9, -999.00
49NZ20071008, P14N, 109, 1, 3, X12013, 2, 20071119, 0708, 8.5040, 178.9870, 6069,   5499.1, 2,   1.3422, 2,  34.7045, 2,  34.7042, 2,    189.9, 2,    190.2, 2,   123.96, 2,    33.36, 2,     0.01, 2,     2.33, 2,    0.005, 2,    0.006, 2,    0.000, 2, -999.000, 9,   2286.9, 2,   2389.0, 2,    7.6259,     25.00,   -999.0, 9,   -999.0,  -999.00, 9,   -999.0,   0.8514, 27.8176,   1.3422, 2, 2, 0.39, 0.13, 0.01, 0.016,  -999.00, 9, -999.00, -999.00, 9, -999.00
49NZ20071008, P14N, 109, 1, 2, X12002, 2, 20071119, 0708, 8.5040, 178.9870, 6069,   5750.4, 2,   1.3721, 2,  34.7046, 2,  34.7046, 2,    190.2, 2,    190.2, 2,   123.65, 2,    33.43, 2,     0.01, 2,     2.32, 2,    0.008, 2,    0.004, 2,    0.000, 2, -999.000, 9,   2286.5, 2,   2389.3, 2,    7.6257,     25.00,   -999.0, 9,   -999.0,  -999.00, 9,   -999.0,   0.8479, 27.8179,   1.3721, 2, 2, 0.39, 0.13, 0.01, 0.016,  -999.00, 9, -999.00, -999.00, 9, -999.00
49NZ20071008, P14N, 109, 1, 1, X12001, 2, 20071119, 0708, 8.5040, 178.9870, 6069,   6162.1, 2,   1.4284, 2,  34.7044, 2,  34.7045, 6,    190.1, 2,    190.3, 2,   123.56, 2,    33.46, 2,     0.02, 2,     2.32, 2,    0.012, 2,    0.007, 2,    0.000, 2, -999.000, 9,   2287.0, 2,   2389.4, 2,    7.6266,     25.00,   -999.0, 9,   -999.0,  -999.00, 9,   -999.0,   0.8475, 27.8178,   1.4283, 2, 2, 0.39, 0.13, 0.01, 0.016,  -999.00, 9, -999.00, -999.00, 9, -999.00