BOTTLE,20221005CCHSIOAMB
EXPOCODE,SECT_ID,STNNBR,CASTNO,SAMPNO,BTLNBR,BTLNBR_FLAG_W,DATE,TIME,LATITUDE,LONGITUDE,DEPTH,CTDPRS,CTDPRS_FLAG_W,CTDTMP,CTDTMP_FLAG_W,CTDSAL,CTDSAL_FLAG_W,SALNTY,SALNTY_FLAG_W,CTDOXY,CTDOXY_FLAG_W,OXYGEN,OXYGEN_FLAG_W,SILCAT,SILCAT_FLAG_W,NITRAT,NITRAT_FLAG_W,NITRIT,NITRIT_FLAG_W,PHSPHT,PHSPHT_FLAG_W,CFC-11,CFC-11_FLAG_W,CFC-12,CFC-12_FLAG_W,CFC113,CFC113_FLAG_W,CCL4,CCL4_FLAG_W,TCARBN,TCARBN_FLAG_W,ALKALI,ALKALI_FLAG_W,PH_TOT,PH_TMP,DELC14,DELC14_FLAG_W,C14ERR,DELC13,DELC13_FLAG_W,C13ERR,THETA,SIG0,SBE35,SBE35_FLAG_W,PH_TOT_FLAG_W,SILUNC,NRAUNC,NRIUNC,PHPUNC,CS-137,CS-137_FLAG_W,CS137ER,PLUTO,PLUTO_FLAG_W,PLUTOER
,,,,,,,,,,,METERS,DBAR,,ITS-90,,PSS-78,,PSS-78,,UMOL/KG,,UMOL/KG,,UMOL/KG,,UMOL/KG,,UMOL/KG,,UMOL/KG,,PMOL/KG,,PMOL/KG,,PMOL/KG,,PMOL/KG,,UMOL/KG,,UMOL/KG,,,DEG C,/MILLE,,/MILLE,/MILLE,,/MILLE,DEG C,KG/M^3,ITS-90,,,UMOL/KG,UMOL/KG,UMOL/KG,UMOL/KG,DM/.1MG,,BQ/M^3,MBQ/M^3,,MBQ/M^3
49NZ20071008, P01, P01_42, 1, 36, X12042, 2, 20071015, 0753, 47.0017, 164.5102, 5880,     10.1, 2,   8.9384, 2,  32.7260, 2,  32.7263, 2,    289.3, 2,    288.7, 2,    25.36, 2,    14.06, 2,     0.25, 2,     1.37, 2,    3.861, 2,    2.111, 2,    0.411, 4, -999.000, 9,   2042.2, 2,   2217.7, 2,    7.8406,     25.00,   -999.0, 9,   -999.0,  -999.00, 9,   -999.0,   8.9374, 25.3476,   8.9376, 2, 6, 0.17, 0.07, 0.01, 0.014,  -999.00, 9, -999.00, -999.00, 9, -999.00
49NZ20071008, P01, P01_42, 1, 35, X12041, 2, 20071015, 0753, 47.0017, 164.5102, 5880,     48.9, 2,   8.2417, 2,  32.7618, 2,  32.7376, 2,    289.0, 2,    289.0, 2,    26.65, 2,    14.56, 2,     0.26, 2,     1.40, 2,    3.908, 2,    2.151, 2,    0.371, 2, -999.000, 9,   2049.2, 6,   2216.4, 2,    7.8325,     25.00,   -999.0, 9,   -999.0,  -999.00, 9,   -999.0,   8.2369, 25.4817,   8.1364, 2, 2, 0.17, 0.07, 0.01, 0.014,  -999.00, 9, -999.00, -999.00, 9, -999.00
49NZ20071008, P01, P01_42, 1, 34, X12016, 2, 20071015, 0753, 47.0017, 164.5102, 5880,     99.4, 2,   2.3645, 2,  33.1491, 2,  33.1478, 2,    315.3, 2,    313.4, 2,    38.80, 2,    23.84, 2,     0.02, 2,     1.90, 2,    5.361, 2,    2.880, 2,    0.478, 2, -999.000, 9,   2132.5, 2,   2240.2, 6,    7.6741,     25.00,   -999.0, 9,   -999.0,  -999.00, 9,   -999.0,   2.3592, 26.4612,   2.3663, 2, 2, 0.20, 0.10, 0.01, 0.015,  -999.00, 9, -999.00, -999.00, 9, -999.00
49NZ20071008, P01, P01_42, 1, 33, X12033, 2, 20071015, 0753, 47.0017, 164.5102, 5880,    150.1, 2,   2.4355, 2,  33.4540, 2,  33.4537, 2,    229.6, 2,    201.4, 2,    64.63, 2,    33.28, 2,     0.01, 2,     2.50, 2,    4.256, 2,    2.253, 2,    0.340, 2, -999.000, 9,   2219.2, 2,   2266.5, 2,    7.4878,     25.00,   -999.0, 9,   -999.0,  -999.00, 9,   -999.0,   2.4273, 26.6996,   2.4362, 2, 6, 0.26, 0.13, 0.01, 0.016,  -999.00, 9, -999.00, -999.00, 9, -999.00
49NZ20071008, P01, P01_42, 1, 32, X12038, 2, 20071015, 0753, 47.0017, 164.5102, 5880,    198.9, 2,   2.8652, 2,  33.6764, 2,  33.6793, 2,    130.7, 2,    114.1, 2,    83.76, 2,    39.36, 2,     0.01, 2,     2.88, 2,    3.127, 2,    1.603, 2,    0.245, 2, -999.000, 9,   2281.8, 2,   2286.5, 2,    7.3603,     25.00,   -999.0, 9,   -999.0,  -999.00, 9,   -999.0,   2.8535, 26.8414,   2.8640, 2, 2, 0.30, 0.14, 0.01, 0.017,  -999.00, 9, -999.00, -999.00, 9, -999.00
49NZ20071008, P01, P01_42, 1, 31, X12003, 2, 20071015, 0753, 47.0017, 164.5102, 5880,    249.1, 2,   3.1397, 2,  33.8125, 2,  33.8137, 6,     80.8, 2,     73.0, 2,    93.37, 2,    41.85, 2,     0.01, 2,     3.03, 2,    2.455, 2,    1.234, 2,    0.188, 2, -999.000, 9,   2310.1, 2,   2298.2, 2,    7.3132,     25.00,   -999.0, 9,   -999.0,  -999.00, 9,   -999.0,   3.1243, 26.9259,   3.1384, 2, 2, 0.32, 0.15, 0.01, 0.018,  -999.00, 9, -999.00, -999.00, 9, -999.00
49NZ20071008, P01, P01_42, 1, 30, X12008, 2, 20071015, 0753, 47.0017, 164.5102, 5880,    280.0, 2,   3.1919, 2,  33.8579, 2,  33.8582, 2,     65.3, 2,     63.2, 2,    96.72, 2,    42.32, 2,     0.01, 2,     3.06, 2,    2.233, 2,    1.126, 2,    0.164, 2, -999.000, 9,   2318.3, 2,   2303.9, 2,    7.3070,     25.00,   -999.0, 9,   -999.0,  -999.00, 9,   -999.0,   3.1744, 26.9576,   3.1920, 2, 2, 0.33, 0.15, 0.01, 0.018,  -999.00, 9, -999.00, -999.00, 9, -999.00
49NZ20071008, P01, P01_42, 1, 29, X12035, 2, 20071015, 0753, 47.0017, 164.5102, 5880,    369.9, 2,   3.3840, 2,  34.0182, 2,  34.0139, 2,     35.0, 2,     33.0, 2,   108.73, 2,    43.90, 2,     0.01, 2,     3.16, 2,    1.444, 2,    0.711, 2,    0.103, 2, -999.000, 9,   2341.5, 2,   2322.3, 2,    7.2882,     25.00,   -999.0, 9,   -999.0,  -999.00, 9,   -999.0,   3.3599, 27.0681,   3.3804, 2, 2, 0.36, 0.16, 0.01, 0.018,  -999.00, 9, -999.00, -999.00, 9, -999.00
49NZ20071008, P01, P01_42, 1, 28, X12034, 2, 20071015, 0753, 47.0017, 164.5102, 5880,    469.1, 2,   3.3632, 2,  34.1246, 2,  34.1255, 6,     20.7, 2,     24.4, 2,   119.08, 2,    43.94, 2,     0.01, 2,     3.16, 2,    0.929, 2,    0.447, 2,    0.060, 2, -999.000, 9,   2354.0, 2,   2336.3, 2,    7.2924,     25.00,   -999.0, 9,   -999.0,  -999.00, 9,   -999.0,   3.3323, 27.1556,   3.3609, 2, 2, 0.38, 0.16, 0.01, 0.018,  -999.00, 9, -999.00, -999.00, 9, -999.00
49NZ20071008, P01, P01_42, 1, 27, X12049, 2, 20071015, 0753, 47.0017, 164.5102, 5880,    570.5, 2,   3.2409, 2,  34.2189, 2,  34.2182, 2,     20.5, 2,     20.7, 2,   127.52, 2,    44.03, 2,     0.01, 2,     3.16, 2,    0.575, 2,    0.279, 2,    0.042, 2, -999.000, 9,   2363.4, 2,   2351.1, 2,    7.3057,     25.00,   -999.0, 9,   -999.0,  -999.00, 9,   -999.0,   3.2033, 27.2428,   3.2406, 2, 2, 0.40, 0.16, 0.01, 0.018,  -999.00, 9, -999.00, -999.00, 9, -999.00
49NZ20071008, P01, P01_42, 1, 26, X12032, 2, 20071015, 0753, 47.0017, 164.5102, 5880,    670.1, 2,   3.1084, 2,  34.2757, 2,  34.2775, 2,     19.1, 2,     18.3, 2,   134.65, 2,    44.12, 2,     0.00, 2,     3.17, 2,    0.378, 6,    0.182, 6,    0.029, 6, -999.000, 9,   2370.6, 2,   2360.5, 2,    7.3115,     25.00,   -999.0, 9,   -999.0,  -999.00, 9,   -999.0,   3.0643, 27.3010,   3.1080, 2, 2, 0.42, 0.16, 0.01, 0.018,  -999.00, 9, -999.00, -999.00, 9, -999.00
49NZ20071008, P01, P01_42, 1, 25, X12043, 2, 20071015, 0753, 47.0017, 164.5102, 5880,    770.5, 2,   2.9415, 2,  34.3275, 2,  34.3287, 2,     18.7, 2,     19.0, 2,   141.45, 2,    44.13, 2,     0.00, 2,     3.17, 2,    0.261, 2,    0.124, 2,    0.016, 2, -999.000, 9,   2376.8, 2,   2369.5, 6,    7.3218,     25.00,   -999.0, 9,   -999.0,  -999.00, 9,   -999.0,   2.8912, 27.3581,   2.9426, 2, 2, 0.43, 0.16, 0.01, 0.018,  -999.00, 9, -999.00, -999.00, 9, -999.00
49NZ20071008, P01, P01_42, 1, 24, X12030, 2, 20071015, 0753, 47.0017, 164.5102, 5880,    870.5, 2,   2.8306, 2,  34.3691, 2,  34.3700, 2,     18.1, 2,     17.1, 2,   146.16, 2,    44.26, 2,     0.00, 2,     3.16, 2,    0.152, 2,    0.073, 2,    0.008, 2, -999.000, 9,   2382.4, 2,   2376.6, 2,    7.3235,     25.00,   -999.0, 9,   -999.0,  -999.00, 9,   -999.0,   2.7737, 27.4017,   2.8308, 2, 6, 0.44, 0.16, 0.01, 0.018,  -999.00, 9, -999.00, -999.00, 9, -999.00
49NZ20071008, P01, P01_42, 1, 23, X12027, 2, 20071015, 0753, 47.0017, 164.5102, 5880,    969.7, 2,   2.6995, 2,  34.4003, 2,  34.4000, 6,     18.6, 2,     19.3, 2,   150.84, 2,    44.12, 2,     0.01, 2,     3.16, 2,    0.120, 2,    0.056, 2,    0.000, 2, -999.000, 9,   2385.7, 2,   2382.2, 2,    7.3287,     25.00,   -999.0, 9,   -999.0,  -999.00, 9,   -999.0,   2.6363, 27.4386,   2.6989, 2, 2, 0.45, 0.16, 0.01, 0.018,  -999.00, 9, -999.00, -999.00, 9, -999.00
49NZ20071008, P01, P01_42, 1, 22, X12028, 2, 20071015, 0753, 47.0017, 164.5102, 5880,   1131.0, 2,   2.4904, 2,  34.4502, 2,  34.4500, 2,     22.0, 2,     22.2, 2,   158.40, 2,    44.09, 2,     0.01, 2,     3.16, 2,    0.066, 2,    0.032, 2,    0.000, 2, -999.000, 9,   2394.2, 3,   2392.5, 2,    7.3386,     25.00,   -999.0, 9,   -999.0,  -999.00, 9,   -999.0,   2.4171, 27.4973,   2.4902, 2, 2, 0.47, 0.16, 0.01, 0.018,  -999.00, 9, -999.00, -999.00, 9, -999.00
49NZ20071008, P01, P01_42, 1, 21, X12009, 2, 20071015, 0753, 47.0017, 164.5102, 5880,   1332.3, 2,   2.2810, 2,  34.4997, 2,  34.4996, 2,     32.7, 2,     33.2, 2,   163.20, 2,    43.44, 2,     0.01, 2,     3.10, 2,    0.045, 2,    0.019, 2,    0.000, 2, -999.000, 9,   2391.1, 2,   2399.6, 2,    7.3647,     25.00,   -999.0, 9,   -999.0,  -999.00, 9,   -999.0,   2.1945, 27.5553,   2.2811, 2, 2, 0.48, 0.15, 0.01, 0.018,  -999.00, 9, -999.00, -999.00, 9, -999.00
49NZ20071008, P01, P01_42, 1, 20, X12026, 2, 20071015, 0753, 47.0017, 164.5102, 5880,   1530.7, 2,   2.1165, 2,  34.5397, 2,  34.5398, 2,     44.8, 2,     45.2, 2,   165.92, 2,    42.70, 2,     0.00, 2,     3.06, 2,    0.027, 2,    0.012, 2,    0.000, 2, -999.000, 9,   2388.2, 2,   2405.9, 2,    7.3911,     25.00,   -999.0, 9,   -999.0,  -999.00, 9,   -999.0,   2.0166, 27.6015,   2.1166, 2, 6, 0.48, 0.15, 0.01, 0.018,  -999.00, 9, -999.00, -999.00, 9, -999.00
49NZ20071008, P01, P01_42, 1, 19, X12025, 2, 20071015, 0753, 47.0017, 164.5102, 5880,   1731.6, 2,   1.9849, 2,  34.5707, 2,  34.5707, 2,     56.5, 2,     56.0, 2,   166.98, 2,    42.10, 2,     0.01, 2,     3.00, 2,    0.007, 2,    0.003, 2,    0.000, 2, -999.000, 9,   2387.8, 2,   2409.6, 2,    7.4139,     25.00,   -999.0, 9,   -999.0,  -999.00, 9,   -999.0,   1.8708, 27.6379,   1.9849, 2, 2, 0.49, 0.15, 0.01, 0.017,  -999.00, 9, -999.00, -999.00, 9, -999.00
49NZ20071008, P01, P01_42, 1, 18, X12024, 2, 20071015, 0753, 47.0017, 164.5102, 5880,   1930.9, 2,   1.8814, 2,  34.5950, 2,  34.5950, 2,     70.0, 2,     68.8, 2,   166.81, 2,    41.35, 2,     0.01, 2,     2.95, 2,    0.005, 2,    0.002, 2,    0.000, 2, -999.000, 9,   2381.6, 2,   2413.4, 2,    7.4397,     25.00,   -999.0, 9,   -999.0,  -999.00, 9,   -999.0,   1.7526, 27.6664,   1.8815, 2, 2, 0.49, 0.15, 0.01, 0.017,  -999.00, 9, -999.00, -999.00, 9, -999.00
49NZ20071008, P01, P01_42, 1, 17, X12023, 2, 20071015, 0753, 47.0017, 164.5102, 5880,   2130.2, 2,   1.7854, 2,  34.6154, 2,  34.6159, 2,     83.1, 2,     82.3, 2,   165.40, 2,    40.61, 2,     0.01, 2,     2.89, 2,    0.003, 2,    0.001, 2,    0.000, 2, -999.000, 9,   2370.7, 2,   2415.4, 2,    7.4671,     25.00,   -999.0, 9,   -999.0,  -999.00, 9,   -999.0,   1.6414, 27.6911,   1.7854, 2, 2, 0.48, 0.15, 0.01, 0.017,  -999.00, 9, -999.00, -999.00, 9, -999.00
49NZ20071008, P01, P01_42, 1, 16, X12022, 2, 20071015, 0753, 47.0017, 164.5102, 5880,   2328.9, 2,   1.7010, 2,  34.6321, 2,  34.6322, 2,     94.7, 2,     94.9, 2,   163.54, 2,    39.75, 2,     0.01, 2,     2.83, 2,    0.000, 2,    0.000, 2,    0.000, 2, -999.000, 9,   2364.3, 6,   2417.8, 2,    7.4906,     25.00,   -999.0, 9,   -999.0,  -999.00, 9,   -999.0,   1.5414, 27.7119,   1.7011, 2, 2, 0.48, 0.14, 0.01, 0.017,  -999.00, 9, -999.00, -999.00, 9, -999.00
49NZ20071008, P01, P01_42, 1, 15, X12021, 2, 20071015, 0753, 47.0017, 164.5102, 5880,   2532.0, 2,   1.6446, 2,  34.6432, 2,  34.6432, 6,    105.2, 2,    104.4, 2,   161.51, 2,    39.21, 2,     0.01, 2,     2.78, 2,    0.000, 2,    0.002, 2,    0.000, 2, -999.000, 9,   2358.4, 2,   2417.6, 6,    7.5071,     25.00,   -999.0, 9,   -999.0,  -999.00, 9,   -999.0,   1.4681, 27.7261,   1.6447, 2, 2, 0.47, 0.14, 0.01, 0.017,  -999.00, 9, -999.00, -999.00, 9, -999.00
49NZ20071008, P01, P01_42, 1, 14, X12020, 2, 20071015, 0753, 47.0017, 164.5102, 5880,   2730.4, 2,   1.5903, 2,  34.6533, 2,  34.6531, 2,    114.5, 2,    114.5, 2,   158.98, 2,    38.55, 2,     0.01, 2,     2.73, 2, -999.000, 9, -999.000, 9, -999.000, 9, -999.000, 9,   2351.7, 2,   2418.2, 2,    7.5263,     25.00,   -999.0, 9,   -999.0,  -999.00, 9,   -999.0,   1.3969, 27.7394,   1.5904, 2, 6, 0.47, 0.14, 0.01, 0.017,  -999.00, 9, -999.00, -999.00, 9, -999.00
49NZ20071008, P01, P01_42, 1, 13, X12019, 2, 20071015, 0753, 47.0017, 164.5102, 5880,   2930.3, 2,   1.5521, 2,  34.6609, 2,  34.6608, 2,    122.3, 2,    122.6, 2,   156.94, 2,    38.03, 2,     0.00, 2,     2.69, 2, -999.000, 9, -999.000, 9, -999.000, 9, -999.000, 9,   2347.6, 2,   2418.6, 2,    7.5400,     25.00,   -999.0, 9,   -999.0,  -999.00, 9,   -999.0,   1.3408, 27.7495,   1.5522, 2, 2, 0.46, 0.14, 0.01, 0.017,  -999.00, 9, -999.00, -999.00, 9, -999.00
49NZ20071008, P01, P01_42, 1, 12, X12040, 2, 20071015, 0753, 47.0017, 164.5102, 5880,   3169.7, 2,   1.5170, 2,  34.6680, 2,  34.6682, 2,    129.9, 2,    130.4, 2,   154.56, 2,    37.61, 2,     0.00, 2,     2.64, 2,    0.000, 2,    0.000, 2,    0.000, 2, -999.000, 9,   2341.5, 2,   2419.0, 2,    7.5550,     25.00,   -999.0, 9,   -999.0,  -999.00, 9,   -999.0,   1.2835, 27.7592,   1.5171, 2, 2, 0.46, 0.14, 0.01, 0.017,  -999.00, 9, -999.00, -999.00, 9, -999.00
49NZ20071008, P01, P01_42, 1, 11, X12047, 2, 20071015, 0753, 47.0017, 164.5102, 5880,   3419.6, 2,   1.4935, 2,  34.6736, 2,  34.6735, 2,    137.1, 2,    136.9, 2,   152.94, 2,    37.08, 2,     0.01, 2,     2.61, 2, -999.000, 9, -999.000, 9, -999.000, 9, -999.000, 9,   2337.6, 2,   2417.5, 2,    7.5663,     25.00,   -999.0, 9,   -999.0,  -999.00, 9,   -999.0,   1.2357, 27.7671,   1.4936, 2, 2, 0.46, 0.14, 0.01, 0.016,  -999.00, 9, -999.00, -999.00, 9, -999.00
49NZ20071008, P01, P01_42, 1, 10, X12010, 2, 20071015, 0753, 47.0017, 164.5102, 5880,   3670.3, 2,   1.4763, 2,  34.6782, 2,  34.6781, 2,    142.4, 2,    142.5, 2,   151.30, 2,    36.74, 2,     0.01, 2,     2.58, 2, -999.000, 9, -999.000, 9, -999.000, 9, -999.000, 9,   2333.9, 2,   2418.3, 2,    7.5755,     25.00,   -999.0, 9,   -999.0,  -999.00, 9,   -999.0,   1.1932, 27.7737,   1.4764, 2, 2, 0.45, 0.14, 0.01, 0.016,  -999.00, 9, -999.00, -999.00, 9, -999.00
49NZ20071008, P01, P01_42, 1, 9, X12015, 2, 20071015, 0753, 47.0017, 164.5102, 5880,   3919.9, 2,   1.4720, 2,  34.6815, 2,  34.6813, 2,    146.3, 2,    146.7, 2,   150.13, 2,    36.50, 2,     0.00, 2,     2.56, 2,    0.000, 2,    0.000, 2,    0.000, 2, -999.000, 9,   2330.8, 2,   2417.8, 2,    7.5829,     25.00,   -999.0, 9,   -999.0,  -999.00, 9,   -999.0,   1.1626, 27.7784,   1.4722, 2, 2, 0.45, 0.14, 0.01, 0.016,  -999.00, 9, -999.00, -999.00, 9, -999.00
49NZ20071008, P01, P01_42, 1, 8, X12046, 2, 20071015, 0753, 47.0017, 164.5102, 5880,   4172.4, 2,   1.4729, 2,  34.6842, 2,  34.6842, 2,    150.0, 2,    150.3, 2,   149.31, 2,    36.29, 2,     0.00, 2,     2.54, 2, -999.000, 9, -999.000, 9, -999.000, 9, -999.000, 9,   2329.2, 6,   2418.5, 2,    7.5892,     25.00,   -999.0, 9,   -999.0,  -999.00, 9,   -999.0,   1.1358, 27.7824,   1.4729, 2, 2, 0.45, 0.13, 0.01, 0.016,  -999.00, 9, -999.00, -999.00, 9, -999.00
49NZ20071008, P01, P01_42, 1, 7, X12044, 2, 20071015, 0753, 47.0017, 164.5102, 5880,   4419.9, 2,   1.4821, 2,  34.6863, 2,  34.6860, 2,    152.6, 2,    152.9, 2,   148.53, 2,    36.14, 2,     0.00, 2,     2.53, 2, -999.000, 9, -999.000, 9, -999.000, 9, -999.000, 9,   2326.7, 2,   2417.4, 6,    7.5932,     25.00,   -999.0, 9,   -999.0,  -999.00, 9,   -999.0,   1.1169, 27.7854,   1.4821, 2, 2, 0.45, 0.13, 0.01, 0.016,  -999.00, 9, -999.00, -999.00, 9, -999.00
49NZ20071008, P01, P01_42, 1, 6, X12048, 2, 20071015, 0753, 47.0017, 164.5102, 5880,   4672.1, 2,   1.4952, 2,  34.6882, 2,  34.6879, 2,    155.0, 2,    155.0, 2,   148.06, 2,    35.92, 2,     0.00, 2,     2.52, 2,    0.000, 2,    0.000, 2,    0.000, 2, -999.000, 9,   2328.2, 2,   2417.3, 2,    7.5955,     25.00,   -999.0, 9,   -999.0,  -999.00, 9,   -999.0,   1.1003, 27.7881,   1.4953, 2, 2, 0.44, 0.13, 0.01, 0.016,  -999.00, 9, -999.00, -999.00, 9, -999.00
49NZ20071008, P01, P01_42, 1, 5, X12014, 2, 20071015, 0753, 47.0017, 164.5102, 5880,   4922.7, 2,   1.5143, 2,  34.6895, 2,  34.6892, 2,    156.6, 2,    156.5, 2,   148.00, 2,    35.89, 2,     0.01, 2,     2.51, 2, -999.000, 9, -999.000, 9, -999.000, 9, -999.000, 9,   2324.4, 2,   2417.5, 2,    7.6009,     25.00,   -999.0, 9,   -999.0,  -999.00, 9,   -999.0,   1.0889, 27.7898,   1.5144, 2, 2, 0.44, 0.13, 0.01, 0.016,  -999.00, 9, -999.00, -999.00, 9, -999.00
49NZ20071008, P01, P01_42, 1, 4, X12006, 2, 20071015, 0753, 47.0017, 164.5102, 5880,   5169.7, 2,   1.5356, 2,  34.6906, 2,  34.6906, 2,    157.6, 2,    157.5, 2,   149.65, 2,    35.77, 2,     0.00, 2,     2.50, 2, -999.000, 9, -999.000, 9, -999.000, 9, -999.000, 9,   2326.9, 2,   2417.8, 2,    7.6024,     25.00,   -999.0, 9,   -999.0,  -999.00, 9,   -999.0,   1.0793, 27.7914,   1.5357, 2, 2, 0.45, 0.13, 0.01, 0.016,  -999.00, 9, -999.00, -999.00, 9, -999.00
49NZ20071008, P01, P01_42, 1, 3, X12013, 2, 20071015, 0753, 47.0017, 164.5102, 5880,   5419.6, 2,   1.5677, 2,  34.6907, 2,  34.6903, 2,    157.9, 2,    157.5, 2,   150.06, 2,    35.83, 2,     0.00, 2,     2.50, 2,    0.000, 2,    0.000, 2,    0.000, 2, -999.000, 9,   2324.4, 2,   2417.5, 2,    7.6029,     25.00,   -999.0, 9,   -999.0,  -999.00, 9,   -999.0,   1.0789, 27.7915,   1.5676, 2, 2, 0.45, 0.13, 0.01, 0.016,  -999.00, 9, -999.00, -999.00, 9, -999.00
49NZ20071008, P01, P01_42, 1, 2, X12002, 2, 20071015, 0753, 47.0017, 164.5102, 5880,   5670.6, 2,   1.6012, 2,  34.6907, 2,  34.6906, 2,    158.0, 2,    157.6, 2,   150.00, 2,    35.78, 2,     0.00, 2,     2.50, 2, -999.000, 9, -999.000, 9, -999.000, 9, -999.000, 9,   2324.7, 2,   2417.6, 2,    7.6027,     25.00,   -999.0, 9,   -999.0,  -999.00, 9,   -999.0,   1.0789, 27.7915,   1.6011, 2, 2, 0.45, 0.13, 0.01, 0.016,  -999.00, 9, -999.00, -999.00, 9, -999.00
49NZ20071008, P01, P01_42, 1, 1, X12001, 2, 20071015, 0753, 47.0017, 164.5102, 5880,   5970.0, 2,   1.6426, 2,  34.6906, 2,  34.6907, 6,    157.9, 2,    157.5, 2,   150.07, 2,    35.77, 2,     0.00, 2,     2.50, 2,    0.000, 2,    0.000, 2,    0.000, 2, -999.000, 9,   2327.4, 2,   2418.7, 2,    7.6013,     25.00,   -999.0, 9,   -999.0,  -999.00, 9,   -999.0,   1.0792, 27.7914,   1.6425, 2, 2, 0.45, 0.13, 0.01, 0.016,  -999.00, 9, -999.00, -999.00, 9, -999.00