BOTTLE,20221005CCHSIOAMB
EXPOCODE,SECT_ID,STNNBR,CASTNO,SAMPNO,BTLNBR,BTLNBR_FLAG_W,DATE,TIME,LATITUDE,LONGITUDE,DEPTH,CTDPRS,CTDPRS_FLAG_W,CTDTMP,CTDTMP_FLAG_W,CTDSAL,CTDSAL_FLAG_W,SALNTY,SALNTY_FLAG_W,CTDOXY,CTDOXY_FLAG_W,OXYGEN,OXYGEN_FLAG_W,SILCAT,SILCAT_FLAG_W,NITRAT,NITRAT_FLAG_W,NITRIT,NITRIT_FLAG_W,PHSPHT,PHSPHT_FLAG_W,CFC-11,CFC-11_FLAG_W,CFC-12,CFC-12_FLAG_W,CFC113,CFC113_FLAG_W,CCL4,CCL4_FLAG_W,TCARBN,TCARBN_FLAG_W,ALKALI,ALKALI_FLAG_W,PH_TOT,PH_TMP,DELC14,DELC14_FLAG_W,C14ERR,DELC13,DELC13_FLAG_W,C13ERR,THETA,SIG0,SBE35,SBE35_FLAG_W,PH_TOT_FLAG_W,SILUNC,NRAUNC,NRIUNC,PHPUNC,CS-137,CS-137_FLAG_W,CS137ER,PLUTO,PLUTO_FLAG_W,PLUTOER
,,,,,,,,,,,METERS,DBAR,,ITS-90,,PSS-78,,PSS-78,,UMOL/KG,,UMOL/KG,,UMOL/KG,,UMOL/KG,,UMOL/KG,,UMOL/KG,,PMOL/KG,,PMOL/KG,,PMOL/KG,,PMOL/KG,,UMOL/KG,,UMOL/KG,,,DEG C,/MILLE,,/MILLE,/MILLE,,/MILLE,DEG C,KG/M^3,ITS-90,,,UMOL/KG,UMOL/KG,UMOL/KG,UMOL/KG,DM/.1MG,,BQ/M^3,MBQ/M^3,,MBQ/M^3
49NZ20071008, P14N, 72, 1, 36, X12042, 2, 20071109, 0356, 26.4955, 179.0018, 5567,     10.7, 2,  26.3392, 2,  35.1233, 2,  35.1230, 2,    207.1, 2,    206.3, 2,     1.25, 2,     0.06, 2,     0.01, 2,     0.03, 2,    1.620, 2,    1.006, 2,    0.407, 4, -999.000, 9,   -999.0, 9,   -999.0, 9, -999.0000,   -999.00,   -999.0, 9,   -999.0,  -999.00, 9,   -999.0,  26.3368, 23.0209,  26.3380, 2, 9, 0.12, 0.03, 0.01, 0.054,  -999.00, 9, -999.00, -999.00, 9, -999.00
49NZ20071008, P14N, 72, 1, 35, X12041, 2, 20071109, 0356, 26.4955, 179.0018, 5567,     50.0, 2,  26.2485, 2,  35.1386, 2,  35.1374, 2,    206.9, 2,    206.8, 2,     1.34, 2,     0.04, 2,     0.01, 2,     0.03, 2,    1.632, 2,    1.011, 2,    0.437, 4, -999.000, 9,   -999.0, 9,   -999.0, 9, -999.0000,   -999.00,   -999.0, 9,   -999.0,  -999.00, 9,   -999.0,  26.2373, 23.0637,  26.2487, 2, 9, 0.12, 0.03, 0.01, 0.051,  -999.00, 9, -999.00, -999.00, 9, -999.00
49NZ20071008, P14N, 72, 1, 34, X12016, 2, 20071109, 0356, 26.4955, 179.0018, 5567,    101.0, 2,  20.3867, 2,  34.9470, 2,  34.9504, 2,    221.6, 2,    227.2, 2,     2.06, 2,     0.04, 2,     0.01, 2,     0.06, 2,    2.204, 2,    1.327, 2,    0.917, 4, -999.000, 9,   -999.0, 9,   -999.0, 9, -999.0000,   -999.00,   -999.0, 9,   -999.0,  -999.00, 9,   -999.0,  20.3678, 24.6238,  20.3809, 2, 9, 0.12, 0.03, 0.01, 0.032,  -999.00, 1, -999.00, -999.00, 9, -999.00
49NZ20071008, P14N, 72, 1, 33, X12033, 2, 20071109, 0356, 26.4955, 179.0018, 5567,    151.4, 2,  17.8587, 2,  34.7945, 2,  34.7925, 2,    198.7, 2,    200.3, 2,     3.47, 2,     3.37, 2,     0.04, 2,     0.31, 2,    2.403, 6,    1.418, 6,    0.118, 6, -999.000, 9,   -999.0, 9,   -999.0, 9, -999.0000,   -999.00,   -999.0, 9,   -999.0,  -999.00, 9,   -999.0,  17.8329, 25.1557,  17.8596, 2, 9, 0.13, 0.04, 0.01, 0.014,  -999.00, 9, -999.00, -999.00, 9, -999.00
49NZ20071008, P14N, 72, 1, 32, X12038, 2, 20071109, 0356, 26.4955, 179.0018, 5567,    200.5, 2,  16.4546, 2,  34.6885, 2,  34.6849, 2,    199.0, 2,    199.4, 2,     5.16, 2,     5.99, 2,     0.01, 2,     0.46, 2,    2.559, 2,    1.484, 2,    0.058, 2, -999.000, 9,   -999.0, 9,   -999.0, 9, -999.0000,   -999.00,   -999.0, 9,   -999.0,  -999.00, 9,   -999.0,  16.4223, 25.4107,  16.4559, 2, 9, 0.13, 0.05, 0.01, 0.013,  -999.00, 1, -999.00, -999.00, 9, -999.00
49NZ20071008, P14N, 72, 1, 31, X12003, 2, 20071109, 0356, 26.4955, 179.0018, 5567,    249.2, 2,  15.0888, 2,  34.5797, 2,  34.5753, 6,    200.9, 2,    201.2, 2,     7.37, 2,     7.92, 2,     0.01, 2,     0.59, 2,    2.698, 2,    1.546, 2,    0.046, 2, -999.000, 9,   -999.0, 9,   -999.0, 9, -999.0000,   -999.00,   -999.0, 9,   -999.0,  -999.00, 9,   -999.0,  15.0510, 25.6367,  15.0900, 2, 9, 0.14, 0.05, 0.01, 0.013,  -999.00, 9, -999.00, -999.00, 9, -999.00
49NZ20071008, P14N, 72, 1, 30, X12008, 2, 20071109, 0356, 26.4955, 179.0018, 5567,    280.6, 2,  14.2893, 2,  34.5107, 2,  34.5096, 2,    202.5, 2,    202.2, 2,     8.60, 2,     8.92, 2,     0.01, 2,     0.67, 2,    2.787, 2,    1.578, 2,    0.049, 2, -999.000, 9,   -999.0, 9,   -999.0, 9, -999.0000,   -999.00,   -999.0, 9,   -999.0,  -999.00, 9,   -999.0,  14.2482, 25.7566,  14.2920, 2, 9, 0.14, 0.06, 0.01, 0.013,  -999.00, 9, -999.00, -999.00, 9, -999.00
49NZ20071008, P14N, 72, 1, 29, X12035, 2, 20071109, 0356, 26.4955, 179.0018, 5567,    369.9, 2,  11.8841, 2,  34.3188, 2,  34.3185, 2,    199.0, 2,    200.2, 2,    14.73, 2,    13.20, 2,     0.01, 2,     0.98, 2,    2.946, 2,    1.610, 2,    0.067, 2, -999.000, 9,   -999.0, 9,   -999.0, 9, -999.0000,   -999.00,   -999.0, 9,   -999.0,  -999.00, 9,   -999.0,  11.8361, 26.0910,  11.8854, 2, 9, 0.15, 0.07, 0.01, 0.013,  -999.00, 1, -999.00, -999.00, 9, -999.00
49NZ20071008, P14N, 72, 1, 28, X12034, 2, 20071109, 0356, 26.4955, 179.0018, 5567,    468.5, 2,   9.5259, 2,  34.1618, 2,  34.1595, 6,    187.1, 2,    181.3, 2,    26.26, 2,    19.50, 2,     0.01, 2,     1.43, 2,    2.839, 2,    1.500, 2,    0.096, 2, -999.000, 9,   -999.0, 9,   -999.0, 9, -999.0000,   -999.00,   -999.0, 9,   -999.0,  -999.00, 9,   -999.0,   9.4730, 26.3854,   9.5297, 2, 9, 0.18, 0.09, 0.01, 0.014,  -999.00, 9, -999.00, -999.00, 9, -999.00
49NZ20071008, P14N, 72, 1, 27, X12049, 2, 20071109, 0356, 26.4955, 179.0018, 5567,    569.5, 2,   7.2886, 2,  34.0637, 2,  34.0633, 2,    152.4, 2,    143.2, 2,    46.07, 2,    27.19, 2,     0.01, 2,     1.98, 2,    2.262, 2,    1.153, 2,    0.077, 2, -999.000, 9,   -999.0, 9,   -999.0, 9, -999.0000,   -999.00,   -999.0, 9,   -999.0,  -999.00, 9,   -999.0,   7.2334, 26.6489,   7.2887, 2, 9, 0.22, 0.11, 0.01, 0.015,  -999.00, 1, -999.00, -999.00, 9, -999.00
49NZ20071008, P14N, 72, 1, 26, X12032, 2, 20071109, 0356, 26.4955, 179.0018, 5567,    671.7, 2,   5.8897, 2,  34.0788, 2,  34.0826, 2,     99.6, 2,     95.0, 2,    66.68, 2,    33.97, 2,     0.01, 2,     2.47, 2,    1.353, 6,    0.663, 6,    0.059, 2, -999.000, 9,   -999.0, 9,   -999.0, 9, -999.0000,   -999.00,   -999.0, 9,   -999.0,  -999.00, 9,   -999.0,   5.8312, 26.8458,   5.8912, 2, 9, 0.27, 0.13, 0.01, 0.016,  -999.00, 9, -999.00, -999.00, 9, -999.00
49NZ20071008, P14N, 72, 1, 25, X12043, 2, 20071109, 0356, 26.4955, 179.0018, 5567,    771.7, 2,   4.8977, 2,  34.1530, 2,  34.1550, 2,     61.3, 2,     59.5, 2,    87.11, 2,    38.71, 2,     0.01, 2,     2.82, 2,    0.658, 2,    0.315, 2,    0.027, 4, -999.000, 9,   -999.0, 9,   -999.0, 9, -999.0000,   -999.00,   -999.0, 9,   -999.0,  -999.00, 9,   -999.0,   4.8357, 27.0224,   4.8986, 2, 9, 0.31, 0.14, 0.01, 0.017,  -999.00, 1, -999.00, -999.00, 9, -999.00
49NZ20071008, P14N, 72, 1, 24, X12030, 2, 20071109, 0356, 26.4955, 179.0018, 5567,    869.9, 2,   4.3059, 2,  34.2451, 2,  34.2466, 2,     40.8, 2,     40.4, 2,   101.84, 2,    41.27, 2,     0.01, 2,     2.98, 2,    0.284, 2,    0.138, 2,    0.009, 2, -999.000, 9,   -999.0, 9,   -999.0, 9, -999.0000,   -999.00,   -999.0, 9,   -999.0,  -999.00, 9,   -999.0,   4.2393, 27.1606,   4.3069, 2, 9, 0.34, 0.15, 0.01, 0.017,  -999.00, 9, -999.00, -999.00, 9, -999.00
49NZ20071008, P14N, 72, 1, 23, X12027, 2, 20071109, 0356, 26.4955, 179.0018, 5567,    970.1, 2,   3.8740, 2,  34.3098, 2,  34.3127, 6,     34.2, 2,     33.8, 2,   113.31, 2,    42.42, 2,     0.01, 2,     3.06, 2,    0.144, 2,    0.069, 2,    0.005, 2, -999.000, 9,   -999.0, 9,   -999.0, 9, -999.0000,   -999.00,   -999.0, 9,   -999.0,  -999.00, 9,   -999.0,   3.8021, 27.2573,   3.8745, 2, 9, 0.37, 0.15, 0.01, 0.018,  -999.00, 1, -999.00, -999.00, 9, -999.00
49NZ20071008, P14N, 72, 1, 22, X12028, 2, 20071109, 0356, 26.4955, 179.0018, 5567,   1131.0, 2,   3.4079, 2,  34.4183, 2,  34.4199, 2,     38.3, 2,     37.1, 2,   125.19, 2,    42.79, 2,     0.01, 2,     3.08, 2,    0.032, 2,    0.016, 2,    0.001, 2, -999.000, 9,   -999.0, 9,   -999.0, 9, -999.0000,   -999.00,   -999.0, 9,   -999.0,  -999.00, 9,   -999.0,   3.3265, 27.3903,   3.4079, 2, 9, 0.39, 0.15, 0.01, 0.018,  -999.00, 9, -999.00, -999.00, 9, -999.00
49NZ20071008, P14N, 72, 1, 21, X12009, 2, 20071109, 0356, 26.4955, 179.0018, 5567,   1329.9, 2,   2.9079, 2,  34.4970, 2,  34.4979, 2,     47.5, 2,     48.0, 2,   136.82, 2,    42.48, 2,     0.01, 2,     3.04, 2,    0.010, 2,    0.007, 2,    0.000, 2, -999.000, 9,   -999.0, 9,   -999.0, 9, -999.0000,   -999.00,   -999.0, 9,   -999.0,  -999.00, 9,   -999.0,   2.8152, 27.5003,   2.9079, 2, 9, 0.42, 0.15, 0.01, 0.018,  -999.00, 9, -999.00, -999.00, 9, -999.00
49NZ20071008, P14N, 72, 1, 20, X12026, 2, 20071109, 0356, 26.4955, 179.0018, 5567,   1531.0, 2,   2.5172, 2,  34.5486, 2,  34.5495, 2,     61.5, 2,     62.2, 2,   144.52, 2,    41.80, 2,     0.01, 2,     2.99, 2,    0.004, 2,    0.001, 2,    0.000, 2, -999.000, 9,   -999.0, 9,   -999.0, 9, -999.0000,   -999.00,   -999.0, 9,   -999.0,  -999.00, 9,   -999.0,   2.4125, 27.5764,   2.5153, 2, 9, 0.44, 0.15, 0.01, 0.017,  -999.00, 9, -999.00, -999.00, 9, -999.00
49NZ20071008, P14N, 72, 1, 19, X12025, 2, 20071109, 0356, 26.4955, 179.0018, 5567,   1729.4, 2,   2.2606, 2,  34.5787, 2,  34.5791, 2,     73.6, 2,     73.2, 2,   149.01, 2,    41.11, 2,     0.01, 2,     2.94, 2,    0.006, 2,    0.002, 2,    0.000, 2, -999.000, 9,   -999.0, 9,   -999.0, 9, -999.0000,   -999.00,   -999.0, 9,   -999.0,  -999.00, 9,   -999.0,   2.1430, 27.6227,   2.2605, 2, 9, 0.45, 0.15, 0.01, 0.017,  -999.00, 1, -999.00, -999.00, 9, -999.00
49NZ20071008, P14N, 72, 1, 18, X12024, 2, 20071109, 0356, 26.4955, 179.0018, 5567,   1929.8, 2,   2.0177, 2,  34.6073, 2,  34.6081, 2,     87.6, 2,     87.6, 2,   152.20, 2,    40.25, 2,     0.01, 2,     2.86, 2,    0.003, 2,    0.003, 2,    0.000, 2, -999.000, 9,   -999.0, 9,   -999.0, 9, -999.0000,   -999.00,   -999.0, 9,   -999.0,  -999.00, 9,   -999.0,   1.8869, 27.6659,   2.0177, 2, 9, 0.45, 0.15, 0.01, 0.017,  -999.00, 1, -999.00, -999.00, 9, -999.00
49NZ20071008, P14N, 72, 1, 17, X12023, 2, 20071109, 0356, 26.4955, 179.0018, 5567,   2131.4, 2,   1.8608, 2,  34.6245, 2,  34.6244, 2,     96.4, 2,     96.9, 2,   154.11, 2,    39.75, 2,     0.01, 2,     2.82, 2,    0.001, 2,    0.002, 2,    0.000, 2, -999.000, 9,   -999.0, 9,   -999.0, 9, -999.0000,   -999.00,   -999.0, 9,   -999.0,  -999.00, 9,   -999.0,   1.7155, 27.6929,   1.8604, 2, 9, 0.46, 0.14, 0.01, 0.017,  -999.00, 1, -999.00, -999.00, 9, -999.00
49NZ20071008, P14N, 72, 1, 16, X12022, 2, 20071109, 0356, 26.4955, 179.0018, 5567,   2330.7, 2,   1.7376, 2,  34.6390, 2,  34.6398, 2,    105.6, 2,    106.6, 2,   154.58, 2,    39.19, 2,     0.00, 2,     2.77, 2,    0.002, 2,    0.002, 2,    0.000, 2, -999.000, 9,   -999.0, 9,   -999.0, 9, -999.0000,   -999.00,   -999.0, 9,   -999.0,  -999.00, 9,   -999.0,   1.5772, 27.7148,   1.7374, 2, 9, 0.46, 0.14, 0.01, 0.017,  -999.00, 9, -999.00, -999.00, 9, -999.00
49NZ20071008, P14N, 72, 1, 15, X12021, 2, 20071109, 0356, 26.4955, 179.0018, 5567,   2530.9, 2,   1.6632, 2,  34.6495, 2,  34.6500, 6,    114.3, 2,    115.1, 2,   153.87, 2,    38.59, 2,     0.00, 2,     2.73, 2,    0.004, 2,    0.002, 2,    0.000, 2, -999.000, 9,   -999.0, 9,   -999.0, 9, -999.0000,   -999.00,   -999.0, 9,   -999.0,  -999.00, 9,   -999.0,   1.4865, 27.7298,   1.6631, 2, 9, 0.46, 0.14, 0.01, 0.017,  -999.00, 9, -999.00, -999.00, 9, -999.00
49NZ20071008, P14N, 72, 1, 14, X12020, 2, 20071109, 0356, 26.4955, 179.0018, 5567,   2730.6, 2,   1.6070, 2,  34.6574, 2,  34.6578, 2,    121.3, 2,    121.9, 2,   153.47, 2,    38.19, 2,     0.00, 2,     2.70, 2,    0.004, 2,    0.003, 2,    0.000, 2, -999.000, 9,   -999.0, 9,   -999.0, 9, -999.0000,   -999.00,   -999.0, 9,   -999.0,  -999.00, 9,   -999.0,   1.4132, 27.7415,   1.6068, 2, 9, 0.46, 0.14, 0.01, 0.017,  -999.00, 1, -999.00, -999.00, 9, -999.00
49NZ20071008, P14N, 72, 1, 13, X12019, 2, 20071109, 0356, 26.4955, 179.0018, 5567,   2931.6, 2,   1.5646, 2,  34.6637, 2,  34.6640, 2,    127.5, 2,    127.8, 2,   152.58, 2,    37.78, 2,     0.00, 2,     2.67, 2, -999.000, 9, -999.000, 9, -999.000, 9, -999.000, 9,   -999.0, 9,   -999.0, 9, -999.0000,   -999.00,   -999.0, 9,   -999.0,  -999.00, 9,   -999.0,   1.3529, 27.7509,   1.5644, 2, 9, 0.45, 0.14, 0.01, 0.017,  -999.00, 1, -999.00, -999.00, 9, -999.00
49NZ20071008, P14N, 72, 1, 12, X12040, 2, 20071109, 0356, 26.4955, 179.0018, 5567,   3172.2, 2,   1.5182, 2,  34.6708, 2,  34.6709, 2,    134.8, 2,    135.2, 2,   151.09, 2,    37.29, 2,     0.00, 2,     2.62, 2,    0.003, 2,    0.002, 2,    0.000, 2, -999.000, 9,   -999.0, 9,   -999.0, 9, -999.0000,   -999.00,   -999.0, 9,   -999.0,  -999.00, 9,   -999.0,   1.2844, 27.7614,   1.5181, 2, 9, 0.45, 0.14, 0.01, 0.017,  -999.00, 1, -999.00, -999.00, 9, -999.00
49NZ20071008, P14N, 72, 1, 11, X12047, 2, 20071109, 0356, 26.4955, 179.0018, 5567,   3421.1, 2,   1.4812, 2,  34.6764, 2,  34.6766, 2,    139.9, 2,    140.9, 2,   150.26, 2,    36.83, 2,     0.00, 2,     2.59, 2, -999.000, 9, -999.000, 9, -999.000, 9, -999.000, 9,   -999.0, 9,   -999.0, 9, -999.0000,   -999.00,   -999.0, 9,   -999.0,  -999.00, 9,   -999.0,   1.2236, 27.7701,   1.4811, 2, 9, 0.45, 0.14, 0.01, 0.016,  -999.00, 9, -999.00, -999.00, 9, -999.00
49NZ20071008, P14N, 72, 1, 10, X12017, 2, 20071109, 0356, 26.4955, 179.0018, 5567,   3669.5, 2,   1.4652, 2,  34.6803, 2,  34.6806, 2,    145.4, 2,    145.6, 2,   149.08, 2,    36.50, 2,     0.00, 2,     2.57, 2, -999.000, 9, -999.000, 9, -999.000, 9, -999.000, 9,   -999.0, 9,   -999.0, 9, -999.0000,   -999.00,   -999.0, 9,   -999.0,  -999.00, 9,   -999.0,   1.1825, 27.7761,   1.4651, 2, 9, 0.45, 0.13, 0.01, 0.016,  -999.00, 1, -999.00, -999.00, 9, -999.00
49NZ20071008, P14N, 72, 1, 9, X12015, 2, 20071109, 0356, 26.4955, 179.0018, 5567,   3918.7, 2,   1.4541, 2,  34.6837, 2,  34.6838, 2,    149.8, 2,    150.5, 2,   147.51, 2,    36.28, 2,     0.00, 2,     2.55, 2,    0.001, 2,    0.002, 2,    0.000, 2, -999.000, 9,   -999.0, 9,   -999.0, 9, -999.0000,   -999.00,   -999.0, 9,   -999.0,  -999.00, 9,   -999.0,   1.1453, 27.7814,   1.4539, 2, 9, 0.44, 0.13, 0.01, 0.016,  -999.00, 1, -999.00, -999.00, 9, -999.00
49NZ20071008, P14N, 72, 1, 8, X12046, 2, 20071109, 0356, 26.4955, 179.0018, 5567,   4170.7, 2,   1.4512, 2,  34.6866, 2,  34.6870, 6,    154.7, 2,    155.0, 2,   144.85, 2,    35.94, 2,     0.00, 2,     2.53, 2, -999.000, 9, -999.000, 9, -999.000, 9, -999.000, 9,   -999.0, 9,   -999.0, 9, -999.0000,   -999.00,   -999.0, 9,   -999.0,  -999.00, 9,   -999.0,   1.1149, 27.7858,   1.4511, 2, 9, 0.44, 0.13, 0.01, 0.016,  -999.00, 1, -999.00, -999.00, 9, -999.00
49NZ20071008, P14N, 72, 1, 7, X12044, 2, 20071109, 0356, 26.4955, 179.0018, 5567,   4420.4, 2,   1.4484, 2,  34.6893, 2,  34.6898, 2,    158.9, 2,    159.4, 2,   141.98, 2,    35.57, 2,     0.00, 2,     2.50, 2, -999.000, 9, -999.000, 9, -999.000, 9, -999.000, 9,   -999.0, 9,   -999.0, 9, -999.0000,   -999.00,   -999.0, 9,   -999.0,  -999.00, 9,   -999.0,   1.0841, 27.7901,   1.4483, 2, 9, 0.43, 0.13, 0.01, 0.016,  -999.00, 9, -999.00, -999.00, 9, -999.00
49NZ20071008, P14N, 72, 1, 6, X12048, 2, 20071109, 0356, 26.4955, 179.0018, 5567,   4670.9, 2,   1.4519, 2,  34.6915, 2,  34.6916, 2,    163.2, 2,    163.4, 2,   139.91, 2,    35.33, 2,     0.00, 2,     2.48, 2,    0.000, 2,    0.000, 2,    0.000, 2, -999.000, 9,   -999.0, 9,   -999.0, 9, -999.0000,   -999.00,   -999.0, 9,   -999.0,  -999.00, 9,   -999.0,   1.0585, 27.7936,   1.4517, 2, 9, 0.43, 0.13, 0.01, 0.016,  -999.00, 1, -999.00, -999.00, 9, -999.00
49NZ20071008, P14N, 72, 1, 5, X12014, 2, 20071109, 0356, 26.4955, 179.0018, 5567,   4922.4, 2,   1.4564, 2,  34.6938, 2,  34.6941, 2,    167.3, 2,    167.5, 2,   136.62, 2,    35.02, 2,     0.00, 2,     2.46, 2, -999.000, 9, -999.000, 9, -999.000, 9, -999.000, 9,   -999.0, 9,   -999.0, 9, -999.0000,   -999.00,   -999.0, 9,   -999.0,  -999.00, 9,   -999.0,   1.0330, 27.7971,   1.4563, 2, 9, 0.42, 0.13, 0.01, 0.016,  -999.00, 1, -999.00, -999.00, 9, -999.00
49NZ20071008, P14N, 72, 1, 4, X12006, 2, 20071109, 0356, 26.4955, 179.0018, 5567,   5168.8, 2,   1.4661, 2,  34.6954, 2,  34.6956, 2,    170.9, 2,    171.0, 2,   134.40, 2,    34.81, 2,     0.00, 2,     2.44, 2, -999.000, 9, -999.000, 9, -999.000, 9, -999.000, 9,   -999.0, 9,   -999.0, 9, -999.0000,   -999.00,   -999.0, 9,   -999.0,  -999.00, 9,   -999.0,   1.0123, 27.7997,   1.4660, 2, 9, 0.41, 0.13, 0.01, 0.016,  -999.00, 1, -999.00, -999.00, 9, -999.00
49NZ20071008, P14N, 72, 1, 3, X12013, 2, 20071109, 0356, 26.4955, 179.0018, 5567,   5419.7, 2,   1.4832, 2,  34.6967, 2,  34.6971, 2,    173.8, 2,    173.5, 2,   132.64, 2,    34.55, 2,     0.00, 2,     2.42, 2,    0.000, 2,    0.001, 2,    0.000, 2, -999.000, 9,   -999.0, 9,   -999.0, 9, -999.0000,   -999.00,   -999.0, 9,   -999.0,  -999.00, 9,   -999.0,   0.9974, 27.8018,   1.4831, 2, 9, 0.41, 0.13, 0.01, 0.016,  -999.00, 9, -999.00, -999.00, 9, -999.00
49NZ20071008, P14N, 72, 1, 2, X12002, 2, 20071109, 0356, 26.4955, 179.0018, 5567,   5651.6, 2,   1.5074, 2,  34.6972, 2, -999.0000, 9,    175.2, 2,   -999.0, 9,  -999.00, 9,  -999.00, 9,  -999.00, 9,  -999.00, 9, -999.000, 9, -999.000, 9, -999.000, 9, -999.000, 9,   -999.0, 9,   -999.0, 9, -999.0000,   -999.00,   -999.0, 9,   -999.0,  -999.00, 9,   -999.0,   0.9910, 27.8026,   1.5073, 2, 9, -999.00, -999.00, -999.00, -999.000,  -999.00, 1, -999.00, -999.00, 9, -999.00
49NZ20071008, P14N, 72, 1, 1, X12001, 2, 20071109, 0356, 26.4955, 179.0018, 5567,   5650.8, 2,   1.5074, 2,  34.6972, 2,  34.6974, 6,    175.1, 2,    174.8, 2,   131.59, 2,    34.46, 2,     0.00, 2,     2.42, 2,    0.002, 2,    0.002, 2,    0.000, 2, -999.000, 9,   -999.0, 9,   -999.0, 9, -999.0000,   -999.00,   -999.0, 9,   -999.0,  -999.00, 9,   -999.0,   0.9911, 27.8026,   1.5073, 2, 9, 0.41, 0.13, 0.01, 0.016,  -999.00, 1, -999.00, -999.00, 9, -999.00