BOTTLE,20221005CCHSIOAMB
EXPOCODE,SECT_ID,STNNBR,CASTNO,SAMPNO,BTLNBR,BTLNBR_FLAG_W,DATE,TIME,LATITUDE,LONGITUDE,DEPTH,CTDPRS,CTDPRS_FLAG_W,CTDTMP,CTDTMP_FLAG_W,CTDSAL,CTDSAL_FLAG_W,SALNTY,SALNTY_FLAG_W,CTDOXY,CTDOXY_FLAG_W,OXYGEN,OXYGEN_FLAG_W,SILCAT,SILCAT_FLAG_W,NITRAT,NITRAT_FLAG_W,NITRIT,NITRIT_FLAG_W,PHSPHT,PHSPHT_FLAG_W,CFC-11,CFC-11_FLAG_W,CFC-12,CFC-12_FLAG_W,CFC113,CFC113_FLAG_W,CCL4,CCL4_FLAG_W,TCARBN,TCARBN_FLAG_W,ALKALI,ALKALI_FLAG_W,PH_TOT,PH_TMP,DELC14,DELC14_FLAG_W,C14ERR,DELC13,DELC13_FLAG_W,C13ERR,THETA,SIG0,SBE35,SBE35_FLAG_W,PH_TOT_FLAG_W,SILUNC,NRAUNC,NRIUNC,PHPUNC,CS-137,CS-137_FLAG_W,CS137ER,PLUTO,PLUTO_FLAG_W,PLUTOER
,,,,,,,,,,,METERS,DBAR,,ITS-90,,PSS-78,,PSS-78,,UMOL/KG,,UMOL/KG,,UMOL/KG,,UMOL/KG,,UMOL/KG,,UMOL/KG,,PMOL/KG,,PMOL/KG,,PMOL/KG,,PMOL/KG,,UMOL/KG,,UMOL/KG,,,DEG C,/MILLE,,/MILLE,/MILLE,,/MILLE,DEG C,KG/M^3,ITS-90,,,UMOL/KG,UMOL/KG,UMOL/KG,UMOL/KG,DM/.1MG,,BQ/M^3,MBQ/M^3,,MBQ/M^3
49NZ20071008, P14N, 100, 1, 36, X12042, 2, 20071117, 0151, 12.5103, 178.9937, 5972,      9.9, 2,  28.0811, 2,  34.5622, 2,  34.5614, 2,    198.4, 2,    198.6, 2,     0.93, 2,     0.06, 2,     0.01, 2,     0.18, 2,    1.545, 2,    0.936, 2,    0.283, 4, -999.000, 9,   1937.8, 2,   2274.7, 2,    8.1147,     25.00,   -999.0, 9,   -999.0,  -999.00, 9,   -999.0,  28.0788, 22.0397,  28.0805, 2, 6, 0.12, 0.03, 0.01, 0.017,  -999.00, 9, -999.00, -999.00, 9, -999.00
49NZ20071008, P14N, 100, 1, 35, X12041, 2, 20071117, 0151, 12.5103, 178.9937, 5972,     50.5, 2,  28.0486, 2,  34.5585, 2,  34.5584, 2,    198.3, 2,    198.5, 2,     0.92, 2,     0.04, 2,     0.01, 2,     0.18, 2,    1.543, 2,    0.944, 2,    0.289, 4, -999.000, 9,   1939.2, 6,   2274.0, 2,    8.1140,     25.00,   -999.0, 9,   -999.0,  -999.00, 9,   -999.0,  28.0367, 22.0507,  28.0467, 2, 2, 0.12, 0.03, 0.01, 0.017,  -999.00, 9, -999.00, -999.00, 9, -999.00
49NZ20071008, P14N, 100, 1, 34, X12016, 2, 20071117, 0151, 12.5103, 178.9937, 5972,    100.3, 2,  26.0875, 2,  34.9831, 2,  34.9820, 2,    207.5, 2,    211.3, 2,     0.93, 2,     0.04, 2,     0.01, 2,     0.10, 2,    1.738, 2,    1.050, 2,    0.660, 4, -999.000, 9,   1973.2, 2,   2304.4, 6,    8.0965,     25.00,   -999.0, 9,   -999.0,  -999.00, 9,   -999.0,  26.0651, 23.0003,  26.0857, 2, 2, 0.12, 0.03, 0.01, 0.022,  -999.00, 9, -999.00, -999.00, 9, -999.00
49NZ20071008, P14N, 100, 1, 33, X12033, 2, 20071117, 0151, 12.5103, 178.9937, 5972,    149.6, 2,  20.5710, 2,  34.8530, 2,  34.8549, 2,    178.6, 2,    180.5, 2,     2.66, 2,     2.66, 2,     0.04, 2,     0.39, 2,    2.197, 6,    1.283, 6,    0.177, 4, -999.000, 9,   2049.2, 2,   2299.6, 2,    7.9577,     25.00,   -999.0, 9,   -999.0,  -999.00, 9,   -999.0,  20.5428, 24.5054,  20.5651, 2, 6, 0.12, 0.04, 0.01, 0.013,  -999.00, 9, -999.00, -999.00, 9, -999.00
49NZ20071008, P14N, 100, 1, 32, X12038, 2, 20071117, 0151, 12.5103, 178.9937, 5972,    201.7, 2,  14.2933, 2,  34.3956, 2,  34.3942, 2,    150.6, 2,    150.8, 2,    10.75, 2,    12.84, 2,     0.01, 2,     1.08, 2,    2.530, 2,    1.383, 2,    0.061, 2, -999.000, 9,   2109.0, 2,   2271.9, 2,    7.7814,     25.00,   -999.0, 9,   -999.0,  -999.00, 9,   -999.0,  14.2639, 25.6644,  14.3153, 2, 2, 0.14, 0.07, 0.01, 0.013,  -999.00, 9, -999.00, -999.00, 9, -999.00
49NZ20071008, P14N, 100, 1, 31, X12003, 2, 20071117, 0151, 12.5103, 178.9937, 5972,    252.6, 2,  10.6177, 2,  34.3651, 2,  34.3649, 6,     85.7, 2,     81.6, 2,    27.22, 2,    26.13, 2,     0.01, 2,     2.05, 2,    1.650, 2,    0.825, 2,    0.030, 2, -999.000, 9,   2199.3, 2,   2280.4, 2,    7.5669,     25.00,   -999.0, 9,   -999.0,  -999.00, 9,   -999.0,  10.5874, 26.3545,  10.6211, 2, 2, 0.18, 0.11, 0.01, 0.015,  -999.00, 9, -999.00, -999.00, 9, -999.00
49NZ20071008, P14N, 100, 1, 30, X12008, 2, 20071117, 0151, 12.5103, 178.9937, 5972,    300.9, 2,   9.6772, 2,  34.4488, 2,  34.4483, 2,     41.8, 2,     47.4, 2,    34.70, 2,    31.23, 2,     0.01, 2,     2.40, 2,    0.878, 2,    0.428, 2,    0.015, 2, -999.000, 9,   2239.3, 2,   2291.9, 2,    7.4903,     25.00,   -999.0, 9,   -999.0,  -999.00, 9,   -999.0,   9.6430, 26.5816,   9.6775, 2, 2, 0.20, 0.12, 0.01, 0.016,  -999.00, 9, -999.00, -999.00, 9, -999.00
49NZ20071008, P14N, 100, 1, 29, X12035, 2, 20071117, 0151, 12.5103, 178.9937, 5972,    399.8, 2,   8.7275, 2,  34.5726, 2,  34.5713, 2,     39.1, 2,     38.5, 2,    40.65, 2,    35.47, 2,     0.01, 2,     2.58, 2,    0.226, 2,    0.117, 2,    0.009, 2, -999.000, 9,   2260.2, 2,   2307.3, 2,    7.4745,     25.00,   -999.0, 9,   -999.0,  -999.00, 9,   -999.0,   8.6846, 26.8334,   8.7279, 2, 2, 0.21, 0.13, 0.01, 0.016,  -999.00, 9, -999.00, -999.00, 9, -999.00
49NZ20071008, P14N, 100, 1, 28, X12034, 2, 20071117, 0151, 12.5103, 178.9937, 5972,    503.2, 2,   7.6784, 2,  34.5474, 2,  34.5465, 6,     42.2, 2,     42.2, 2,    48.86, 2,    37.03, 2,     0.01, 2,     2.71, 2,    0.110, 2,    0.059, 2,    0.015, 2, -999.000, 9,   2271.6, 2,   2316.2, 2,    7.4635,     25.00,   -999.0, 9,   -999.0,  -999.00, 9,   -999.0,   7.6280, 26.9732,   7.6793, 2, 2, 0.23, 0.14, 0.01, 0.017,  -999.00, 9, -999.00, -999.00, 9, -999.00
49NZ20071008, P14N, 100, 1, 27, X12049, 2, 20071117, 0151, 12.5103, 178.9937, 5972,    601.2, 2,   6.9146, 2,  34.5328, 2,  34.5311, 2,     42.6, 2,     40.9, 2,    57.23, 2,    38.70, 2,     0.01, 2,     2.84, 2,    0.046, 2,    0.024, 2,    0.012, 2, -999.000, 9,   2285.4, 2,   2325.4, 2,    7.4488,     25.00,   -999.0, 9,   -999.0,  -999.00, 9,   -999.0,   6.8575, 27.0703,   6.9150, 2, 2, 0.24, 0.14, 0.01, 0.017,  -999.00, 9, -999.00, -999.00, 9, -999.00
49NZ20071008, P14N, 100, 1, 26, X12032, 2, 20071117, 0151, 12.5103, 178.9937, 5972,    699.1, 2,   6.2561, 2,  34.5232, 2,  34.5229, 2,     37.0, 2,     37.4, 2,    65.96, 2,    40.37, 2,     0.01, 2,     2.95, 2,    0.018, 6,    0.009, 6,    0.000, 6, -999.000, 9,   2304.9, 6,   2333.8, 2,    7.4343,     25.00,   -999.0, 9,   -999.0,  -999.00, 9,   -999.0,   6.1927, 27.1512,   6.2558, 2, 2, 0.26, 0.15, 0.01, 0.017,  -999.00, 9, -999.00, -999.00, 9, -999.00
49NZ20071008, P14N, 100, 1, 25, X12043, 2, 20071117, 0151, 12.5103, 178.9937, 5972,    800.6, 2,   5.5954, 2,  34.5241, 2,  34.5235, 2,     38.8, 2,     39.1, 2,    75.83, 2,    41.42, 2,     0.01, 2,     3.02, 2,    0.005, 2,    0.004, 2,    0.000, 2, -999.000, 9,   2313.0, 2,   2343.8, 6,    7.4270,     25.00,   -999.0, 9,   -999.0,  -999.00, 9,   -999.0,   5.5262, 27.2355,   5.5957, 2, 2, 0.29, 0.15, 0.01, 0.018,  -999.00, 9, -999.00, -999.00, 9, -999.00
49NZ20071008, P14N, 100, 1, 24, X12030, 2, 20071117, 0151, 12.5103, 178.9937, 5972,    900.6, 2,   5.1378, 2,  34.5345, 2,  34.5337, 2,     41.6, 2,     41.2, 2,    82.90, 2,    42.09, 2,     0.01, 2,     3.04, 2,    0.005, 2,    0.004, 2,    0.000, 2, -999.000, 9,   2318.8, 2,   2351.9, 2,    7.4249,     25.00,   -999.0, 9,   -999.0,  -999.00, 9,   -999.0,   5.0624, 27.2989,   5.1385, 2, 2, 0.30, 0.15, 0.01, 0.018,  -999.00, 9, -999.00, -999.00, 9, -999.00
49NZ20071008, P14N, 100, 1, 23, X12027, 2, 20071117, 0151, 12.5103, 178.9937, 5972,   1002.1, 2,   4.7471, 2,  34.5444, 2,  34.5438, 6,     49.8, 2,     50.0, 2,    88.91, 2,    41.89, 2,     0.01, 2,     3.03, 2,    0.001, 2,    0.001, 2,    0.014, 2, -999.000, 9,   2324.2, 2,   2358.9, 2,    7.4375,     25.00,   -999.0, 9,   -999.0,  -999.00, 9,   -999.0,   4.6655, 27.3521,   4.7475, 2, 2, 0.31, 0.15, 0.01, 0.018,  -999.00, 9, -999.00, -999.00, 9, -999.00
49NZ20071008, P14N, 100, 1, 22, X12028, 2, 20071117, 0151, 12.5103, 178.9937, 5972,   1201.4, 2,   3.9531, 2,  34.5657, 2,  34.5650, 2,     62.1, 2,     60.6, 2,   104.42, 2,    41.63, 2,     0.01, 2,     3.02, 2,    0.000, 2,    0.001, 2,    0.000, 2, -999.000, 9,   2344.2, 3,   2376.1, 2,    7.4510,     25.00,   -999.0, 9,   -999.0,  -999.00, 9,   -999.0,   3.8607, 27.4550,   3.9538, 2, 2, 0.35, 0.15, 0.01, 0.017,  -999.00, 9, -999.00, -999.00, 9, -999.00
49NZ20071008, P14N, 100, 1, 21, X12009, 2, 20071117, 0151, 12.5103, 178.9937, 5972,   1400.7, 2,   3.3250, 2,  34.5812, 2,  34.5815, 3,     73.1, 2,     72.5, 2,   118.10, 2,    41.12, 2,     0.00, 2,     2.96, 2,    0.000, 2,    0.000, 2,    0.000, 2, -999.000, 9,   2344.4, 2,   2390.0, 2,    7.4688,     25.00,   -999.0, 9,   -999.0,  -999.00, 9,   -999.0,   3.2219, 27.5301,   3.3250, 2, 2, 0.38, 0.15, 0.01, 0.017,  -999.00, 9, -999.00, -999.00, 9, -999.00
49NZ20071008, P14N, 100, 1, 20, X12026, 2, 20071117, 0151, 12.5103, 178.9937, 5972,   1600.7, 2,   2.8700, 2,  34.6011, 2,  34.6010, 2,     83.3, 2,     82.8, 2,   127.32, 2,    40.57, 2,     0.00, 2,     2.91, 2,    0.000, 2,    0.000, 2,    0.000, 2, -999.000, 9,   2350.2, 2,   2400.0, 2,    7.4853,     25.00,   -999.0, 9,   -999.0,  -999.00, 9,   -999.0,   2.7552, 27.5887,   2.8703, 2, 6, 0.40, 0.15, 0.01, 0.017,  -999.00, 9, -999.00, -999.00, 9, -999.00
49NZ20071008, P14N, 100, 1, 19, X12025, 2, 20071117, 0151, 12.5103, 178.9937, 5972,   1801.5, 2,   2.5413, 2,  34.6169, 2,  34.6170, 2,     91.7, 2,     90.4, 2,   134.46, 2,    40.20, 2,     0.01, 2,     2.87, 2,    0.000, 2,    0.001, 2,    0.000, 2, -999.000, 9,   2353.8, 2,   2408.6, 2,    7.4974,     25.00,   -999.0, 9,   -999.0,  -999.00, 9,   -999.0,   2.4138, 27.6309,   2.5414, 2, 2, 0.41, 0.15, 0.01, 0.017,  -999.00, 9, -999.00, -999.00, 9, -999.00
49NZ20071008, P14N, 100, 1, 18, X12024, 2, 20071117, 0151, 12.5103, 178.9937, 5972,   2001.5, 2,   2.2617, 2,  34.6311, 2,  34.6311, 2,    100.6, 2,    100.1, 2,   139.85, 2,    39.62, 2,     0.00, 2,     2.82, 2,    0.000, 2,    0.000, 2,    0.000, 2, -999.000, 9,   2354.3, 2,   2413.5, 2,    7.5135,     25.00,   -999.0, 9,   -999.0,  -999.00, 9,   -999.0,   2.1212, 27.6664,   2.2619, 2, 2, 0.43, 0.14, 0.01, 0.017,  -999.00, 9, -999.00, -999.00, 9, -999.00
49NZ20071008, P14N, 100, 1, 17, X12023, 2, 20071117, 0151, 12.5103, 178.9937, 5972,   2202.7, 2,   2.0909, 2,  34.6430, 2,  34.6433, 2,    106.9, 2,    105.9, 2,   143.23, 2,    39.30, 2,     0.00, 2,     2.79, 2,    0.000, 2,    0.000, 2,    0.000, 2, -999.000, 9,   2354.0, 2,   2417.9, 2,    7.5246,     25.00,   -999.0, 9,   -999.0,  -999.00, 9,   -999.0,   1.9356, 27.6907,   2.0910, 2, 2, 0.43, 0.14, 0.01, 0.017,  -999.00, 9, -999.00, -999.00, 9, -999.00
49NZ20071008, P14N, 100, 1, 16, X12022, 2, 20071117, 0151, 12.5103, 178.9937, 5972,   2402.3, 2,   1.9497, 2,  34.6496, 2,  34.6492, 3,    113.2, 2,    112.7, 2,   145.50, 2,    38.78, 2,     0.01, 2,     2.74, 2,    0.000, 2,    0.000, 2,    0.000, 2, -999.000, 9,   2354.8, 6,   2420.0, 2,    7.5340,     25.00,   -999.0, 9,   -999.0,  -999.00, 9,   -999.0,   1.7792, 27.7081,   1.9498, 2, 2, 0.44, 0.14, 0.01, 0.017,  -999.00, 9, -999.00, -999.00, 9, -999.00
49NZ20071008, P14N, 100, 1, 15, X12021, 2, 20071117, 0151, 12.5103, 178.9937, 5972,   2601.3, 2,   1.8328, 2,  34.6582, 2,  34.6580, 2,    118.3, 2,    118.9, 2,   146.92, 2,    38.39, 2,     0.01, 2,     2.72, 2, -999.000, 9, -999.000, 9, -999.000, 9, -999.000, 9,   2349.8, 2,   2422.1, 6,    7.5453,     25.00,   -999.0, 9,   -999.0,  -999.00, 9,   -999.0,   1.6464, 27.7251,   1.8328, 2, 2, 0.44, 0.14, 0.01, 0.017,  -999.00, 9, -999.00, -999.00, 9, -999.00
49NZ20071008, P14N, 100, 1, 14, X12020, 2, 20071117, 0151, 12.5103, 178.9937, 5972,   2801.2, 2,   1.7471, 2,  34.6639, 2,  34.6638, 6,    123.5, 2,    124.0, 2,   148.02, 2,    38.17, 2,     0.00, 2,     2.69, 2,    0.000, 2,    0.000, 2,    0.000, 2, -999.000, 9,   2346.8, 2,   2423.1, 2,    7.5527,     25.00,   -999.0, 9,   -999.0,  -999.00, 9,   -999.0,   1.5439, 27.7372,   1.7474, 2, 6, 0.44, 0.14, 0.01, 0.017,  -999.00, 9, -999.00, -999.00, 9, -999.00
49NZ20071008, P14N, 100, 1, 13, X12019, 2, 20071117, 0151, 12.5103, 178.9937, 5972,   3001.7, 2,   1.6735, 2,  34.6680, 2,  34.6679, 2,    128.1, 2,    128.5, 2,   148.77, 2,    37.74, 2,     0.00, 2,     2.67, 2, -999.000, 9, -999.000, 9, -999.000, 9, -999.000, 9,   2345.7, 2,   2422.9, 2,    7.5594,     25.00,   -999.0, 9,   -999.0,  -999.00, 9,   -999.0,   1.4528, 27.7472,   1.6737, 2, 2, 0.45, 0.14, 0.01, 0.017,  -999.00, 9, -999.00, -999.00, 9, -999.00
49NZ20071008, P14N, 100, 1, 12, X12040, 2, 20071117, 0151, 12.5103, 178.9937, 5972,   3251.5, 2,   1.6010, 2,  34.6746, 2,  34.6744, 2,    133.2, 2,    134.2, 2,   149.42, 2,    37.37, 2,     0.00, 2,     2.61, 2, -999.000, 9, -999.000, 9, -999.000, 9, -999.000, 9,   2340.0, 2,   2424.1, 2,    7.5680,     25.00,   -999.0, 9,   -999.0,  -999.00, 9,   -999.0,   1.3575, 27.7593,   1.6012, 2, 2, 0.45, 0.14, 0.01, 0.017,  -999.00, 9, -999.00, -999.00, 9, -999.00
49NZ20071008, P14N, 100, 1, 11, X12047, 2, 20071117, 0151, 12.5103, 178.9937, 5972,   3502.3, 2,   1.5333, 2,  34.6792, 2,  34.6791, 2,    140.8, 2,    141.1, 2,   148.75, 2,    37.08, 2,     0.00, 2,     2.59, 2,    0.000, 2,    0.000, 2,    0.000, 2, -999.000, 9,   2335.0, 2,   2422.3, 2,    7.5771,     25.00,   -999.0, 9,   -999.0,  -999.00, 9,   -999.0,   1.2661, 27.7694,   1.5334, 2, 2, 0.45, 0.14, 0.01, 0.016,  -999.00, 9, -999.00, -999.00, 9, -999.00
49NZ20071008, P14N, 100, 1, 10, X12012, 2, 20071117, 0151, 12.5103, 178.9937, 5972,   3752.0, 2,   1.4783, 2,  34.6840, 2,  34.6834, 2,    147.9, 2,    148.3, 2,   146.70, 2,    36.48, 2,     0.00, 2,     2.55, 2, -999.000, 9, -999.000, 9, -999.000, 9, -999.000, 9,   2330.3, 2,   2420.2, 2,    7.5865,     25.00,   -999.0, 9,   -999.0,  -999.00, 9,   -999.0,   1.1866, 27.7788,   1.4783, 2, 2, 0.44, 0.13, 0.01, 0.016,  -999.00, 9, -999.00, -999.00, 9, -999.00
49NZ20071008, P14N, 100, 1, 9, X12015, 2, 20071117, 0151, 12.5103, 178.9937, 5972,   4003.3, 2,   1.4394, 2,  34.6882, 2,  34.6876, 2,    156.2, 2,    155.8, 2,   143.03, 2,    35.90, 2,     0.00, 2,     2.52, 2, -999.000, 9, -999.000, 9, -999.000, 9, -999.000, 9,   2322.9, 2,   2415.9, 2,    7.5948,     25.00,   -999.0, 9,   -999.0,  -999.00, 9,   -999.0,   1.1218, 27.7866,   1.4395, 2, 2, 0.43, 0.13, 0.01, 0.016,  -999.00, 9, -999.00, -999.00, 9, -999.00
49NZ20071008, P14N, 100, 1, 8, X12046, 2, 20071117, 0151, 12.5103, 178.9937, 5972,   4249.7, 2,   1.3966, 2,  34.6924, 2,  34.6921, 6,    164.5, 2,    164.7, 2,   138.33, 2,    35.29, 2,     0.00, 2,     2.47, 2,    0.000, 2,    0.000, 2,    0.000, 2, -999.000, 9,   2313.6, 6,   2410.3, 2,    7.6037,     25.00,   -999.0, 9,   -999.0,  -999.00, 9,   -999.0,   1.0531, 27.7946,   1.3965, 2, 2, 0.42, 0.13, 0.01, 0.016,  -999.00, 9, -999.00, -999.00, 9, -999.00
49NZ20071008, P14N, 100, 1, 7, X12044, 2, 20071117, 0151, 12.5103, 178.9937, 5972,   4500.9, 2,   1.3584, 2,  34.6967, 2,  34.6966, 2,    173.6, 2,    173.7, 2,   133.06, 2,    34.67, 2,     0.00, 2,     2.42, 2, -999.000, 9, -999.000, 9, -999.000, 9, -999.000, 9,   2303.0, 2,   2403.6, 6,    7.6123,     25.00,   -999.0, 9,   -999.0,  -999.00, 9,   -999.0,   0.9877, 27.8025,   1.3585, 2, 2, 0.41, 0.13, 0.01, 0.016,  -999.00, 9, -999.00, -999.00, 9, -999.00
49NZ20071008, P14N, 100, 1, 6, X12048, 2, 20071117, 0151, 12.5103, 178.9937, 5972,   4751.1, 2,   1.3253, 2,  34.7006, 2,  34.7004, 2,    181.1, 2,    181.5, 2,   128.37, 2,    34.05, 2,     0.00, 2,     2.39, 2, -999.000, 9, -999.000, 9, -999.000, 9, -999.000, 9,   2293.8, 2,   2398.3, 2,    7.6197,     25.00,   -999.0, 9,   -999.0,  -999.00, 9,   -999.0,   0.9265, 27.8096,   1.3254, 2, 6, 0.40, 0.13, 0.01, 0.016,  -999.00, 9, -999.00, -999.00, 9, -999.00
49NZ20071008, P14N, 100, 1, 5, X12014, 2, 20071117, 0151, 12.5103, 178.9937, 5972,   5001.3, 2,   1.3224, 2,  34.7026, 2,  34.7024, 2,    185.6, 2,    185.5, 2,   126.26, 2,    33.72, 2,     0.00, 2,     2.36, 2,    0.000, 2,    0.000, 2,    0.000, 2, -999.000, 9,   2290.7, 2,   2393.6, 2,    7.6227,     25.00,   -999.0, 9,   -999.0,  -999.00, 9,   -999.0,   0.8939, 27.8133,   1.3224, 2, 2, 0.40, 0.13, 0.01, 0.016,  -999.00, 9, -999.00, -999.00, 9, -999.00
49NZ20071008, P14N, 100, 1, 4, X12006, 2, 20071117, 0151, 12.5103, 178.9937, 5972,   5250.0, 2,   1.3403, 2,  34.7035, 2,  34.7037, 2,    187.6, 2,    187.2, 2,   125.20, 2,    33.61, 2,     0.00, 2,     2.35, 2, -999.000, 9, -999.000, 9, -999.000, 9, -999.000, 9,   2287.3, 2,   2392.6, 2,    7.6240,     25.00,   -999.0, 9,   -999.0,  -999.00, 9,   -999.0,   0.8808, 27.8149,   1.3404, 2, 2, 0.39, 0.13, 0.01, 0.016,  -999.00, 9, -999.00, -999.00, 9, -999.00
49NZ20071008, P14N, 100, 1, 3, X12013, 2, 20071117, 0151, 12.5103, 178.9937, 5972,   5498.8, 2,   1.3647, 2,  34.7037, 2,  34.7040, 2,    188.2, 2,    187.7, 2,   125.01, 2,    33.56, 2,     0.00, 2,     2.35, 2, -999.000, 9, -999.000, 9, -999.000, 9, -999.000, 9,   2288.8, 2,   2391.8, 2,    7.6248,     25.00,   -999.0, 9,   -999.0,  -999.00, 9,   -999.0,   0.8731, 27.8156,   1.3648, 2, 2, 0.39, 0.13, 0.01, 0.016,  -999.00, 9, -999.00, -999.00, 9, -999.00
49NZ20071008, P14N, 100, 1, 2, X12002, 2, 20071117, 0151, 12.5103, 178.9937, 5972,   5749.1, 2,   1.3936, 2,  34.7039, 2,  34.7042, 2,    188.6, 2,    188.0, 2,   125.04, 2,    33.55, 2,     0.00, 2,     2.35, 2,    0.000, 2,    0.000, 2,    0.000, 2, -999.000, 9,   2286.0, 2,   2391.5, 2,    7.6249,     25.00,   -999.0, 9,   -999.0,  -999.00, 9,   -999.0,   0.8688, 27.8160,   1.3936, 2, 2, 0.39, 0.13, 0.01, 0.016,  -999.00, 9, -999.00, -999.00, 9, -999.00
49NZ20071008, P14N, 100, 1, 1, X12001, 2, 20071117, 0151, 12.5103, 178.9937, 5972,   6072.3, 2,   1.4361, 2,  34.7039, 2,  34.7039, 6,    188.4, 2,    188.2, 2,   124.87, 2,    33.57, 2,     0.00, 2,     2.35, 2,    0.000, 2,    0.000, 2,    0.000, 2, -999.000, 9,   2285.6, 2,   2392.0, 2,    7.6246,     25.00,   -999.0, 9,   -999.0,  -999.00, 9,   -999.0,   0.8670, 27.8161,   1.4362, 2, 2, 0.39, 0.13, 0.01, 0.016,  -999.00, 9, -999.00, -999.00, 9, -999.00