BOTTLE,20221005CCHSIOAMB
EXPOCODE,SECT_ID,STNNBR,CASTNO,SAMPNO,BTLNBR,BTLNBR_FLAG_W,DATE,TIME,LATITUDE,LONGITUDE,DEPTH,CTDPRS,CTDPRS_FLAG_W,CTDTMP,CTDTMP_FLAG_W,CTDSAL,CTDSAL_FLAG_W,SALNTY,SALNTY_FLAG_W,CTDOXY,CTDOXY_FLAG_W,OXYGEN,OXYGEN_FLAG_W,SILCAT,SILCAT_FLAG_W,NITRAT,NITRAT_FLAG_W,NITRIT,NITRIT_FLAG_W,PHSPHT,PHSPHT_FLAG_W,CFC-11,CFC-11_FLAG_W,CFC-12,CFC-12_FLAG_W,CFC113,CFC113_FLAG_W,CCL4,CCL4_FLAG_W,TCARBN,TCARBN_FLAG_W,ALKALI,ALKALI_FLAG_W,PH_TOT,PH_TMP,DELC14,DELC14_FLAG_W,C14ERR,DELC13,DELC13_FLAG_W,C13ERR,THETA,SIG0,SBE35,SBE35_FLAG_W,PH_TOT_FLAG_W,SILUNC,NRAUNC,NRIUNC,PHPUNC,CS-137,CS-137_FLAG_W,CS137ER,PLUTO,PLUTO_FLAG_W,PLUTOER
,,,,,,,,,,,METERS,DBAR,,ITS-90,,PSS-78,,PSS-78,,UMOL/KG,,UMOL/KG,,UMOL/KG,,UMOL/KG,,UMOL/KG,,UMOL/KG,,PMOL/KG,,PMOL/KG,,PMOL/KG,,PMOL/KG,,UMOL/KG,,UMOL/KG,,,DEG C,/MILLE,,/MILLE,/MILLE,,/MILLE,DEG C,KG/M^3,ITS-90,,,UMOL/KG,UMOL/KG,UMOL/KG,UMOL/KG,DM/.1MG,,BQ/M^3,MBQ/M^3,,MBQ/M^3
49NZ20071008, P14N, 55, 1, 36, X12042, 2, 20071105, 0409, 35.0015, 179.0007, 3947,     10.8, 2,  22.9121, 2,  34.3451, 2,  34.3451, 2,    218.8, 2,    220.1, 2,     2.29, 2,     0.06, 2,     0.01, 2,     0.06, 2,    1.895, 2,    1.148, 2,    0.354, 4, -999.000, 9,   -999.0, 9,   -999.0, 9, -999.0000,   -999.00,   -999.0, 9,   -999.0,  -999.00, 9,   -999.0,  22.9099, 23.4629,  22.9115, 2, 9, 0.12, 0.03, 0.01, 0.029,  -999.00, 9, -999.00, -999.00, 9, -999.00
49NZ20071008, P14N, 55, 1, 35, X12041, 2, 20071105, 0409, 35.0015, 179.0007, 3947,     50.7, 2,  21.7944, 2,  34.4065, 2,  34.3847, 2,    248.6, 2,    234.2, 2,     2.40, 2,     0.04, 2,     0.01, 2,     0.07, 2,    2.071, 2,    1.247, 2,    0.756, 4, -999.000, 9,   -999.0, 9,   -999.0, 9, -999.0000,   -999.00,   -999.0, 9,   -999.0,  -999.00, 9,   -999.0,  21.7845, 23.8269,  21.8353, 2, 9, 0.12, 0.03, 0.01, 0.028,  -999.00, 9, -999.00, -999.00, 9, -999.00
49NZ20071008, P14N, 55, 1, 34, X12016, 2, 20071105, 0409, 35.0015, 179.0007, 3947,    101.0, 2,  14.4940, 2,  34.4604, 2,  34.4602, 2,    233.4, 2,    236.5, 2,     6.52, 2,     4.93, 2,     0.31, 2,     0.45, 2,    2.866, 2,    1.643, 2,    0.259, 2, -999.000, 9,   -999.0, 9,   -999.0, 9, -999.0000,   -999.00,   -999.0, 9,   -999.0,  -999.00, 9,   -999.0,  14.4792, 25.6686,  14.4927, 2, 9, 0.13, 0.05, 0.01, 0.013,  -999.00, 1, -999.00, -999.00, 9, -999.00
49NZ20071008, P14N, 55, 1, 33, X12033, 2, 20071105, 0409, 35.0015, 179.0007, 3947,    150.7, 2,  13.3745, 2,  34.4419, 2,  34.4406, 2,    225.3, 2,    226.1, 2,     9.37, 2,     8.31, 2,     0.01, 2,     0.63, 2,    2.862, 6,    1.618, 6,    0.184, 6, -999.000, 9,   -999.0, 9,   -999.0, 9, -999.0000,   -999.00,   -999.0, 9,   -999.0,  -999.00, 9,   -999.0,  13.3535, 25.8892,  13.3754, 2, 9, 0.14, 0.06, 0.01, 0.013,  -999.00, 9, -999.00, -999.00, 9, -999.00
49NZ20071008, P14N, 55, 1, 32, X12038, 2, 20071105, 0409, 35.0015, 179.0007, 3947,    199.6, 2,  12.8311, 2,  34.4128, 2,  34.4122, 2,    227.5, 2,    225.8, 2,    10.61, 2,     9.40, 2,     0.01, 2,     0.70, 2,    2.907, 2,    1.634, 2,    0.171, 2, -999.000, 9,   -999.0, 9,   -999.0, 9, -999.0000,   -999.00,   -999.0, 9,   -999.0,  -999.00, 9,   -999.0,  12.8040, 25.9770,  12.8310, 2, 9, 0.14, 0.06, 0.01, 0.013,  -999.00, 1, -999.00, -999.00, 9, -999.00
49NZ20071008, P14N, 55, 1, 31, X12003, 2, 20071105, 0409, 35.0015, 179.0007, 3947,    250.1, 2,  11.9589, 2,  34.3480, 2,  34.3473, 6,    224.5, 2,    227.4, 2,    12.84, 2,    10.94, 2,     0.01, 2,     0.81, 2,    3.027, 2,    1.678, 2,    0.159, 2, -999.000, 9,   -999.0, 9,   -999.0, 9, -999.0000,   -999.00,   -999.0, 9,   -999.0,  -999.00, 9,   -999.0,  11.9265, 26.0966,  11.9579, 2, 9, 0.15, 0.06, 0.01, 0.013,  -999.00, 9, -999.00, -999.00, 9, -999.00
49NZ20071008, P14N, 55, 1, 30, X12008, 2, 20071105, 0409, 35.0015, 179.0007, 3947,    300.9, 2,  11.1639, 2,  34.2889, 2,  34.2878, 2,    222.2, 2,    220.1, 2,    16.28, 2,    13.21, 2,     0.01, 2,     0.97, 2,    3.052, 2,    1.684, 2,    0.152, 2, -999.000, 9,   -999.0, 9,   -999.0, 9, -999.0000,   -999.00,   -999.0, 9,   -999.0,  -999.00, 9,   -999.0,  11.1266, 26.1989,  11.1656, 2, 9, 0.15, 0.07, 0.01, 0.013,  -999.00, 9, -999.00, -999.00, 9, -999.00
49NZ20071008, P14N, 55, 1, 29, X12035, 2, 20071105, 0409, 35.0015, 179.0007, 3947,    398.5, 2,   9.4126, 2,  34.1338, 2,  34.1316, 2,    212.7, 2,    212.6, 2,    23.38, 2,    17.08, 2,     0.01, 2,     1.25, 2,    3.200, 2,    1.733, 2,    0.165, 2, -999.000, 9,   -999.0, 9,   -999.0, 9, -999.0000,   -999.00,   -999.0, 9,   -999.0,  -999.00, 9,   -999.0,   9.3681, 26.3806,   9.4127, 2, 9, 0.17, 0.08, 0.01, 0.013,  -999.00, 1, -999.00, -999.00, 9, -999.00
49NZ20071008, P14N, 55, 1, 28, X12034, 2, 20071105, 0409, 35.0015, 179.0007, 3947,    500.1, 2,   7.4163, 2,  34.0129, 2,  34.0117, 6,    179.1, 2,    179.3, 2,    39.48, 2,    23.84, 2,     0.01, 2,     1.74, 2,    2.957, 2,    1.535, 2,    0.168, 2, -999.000, 9,   -999.0, 9,   -999.0, 9, -999.0000,   -999.00,   -999.0, 9,   -999.0,  -999.00, 9,   -999.0,   7.3676, 26.5901,   7.4184, 2, 9, 0.21, 0.10, 0.01, 0.014,  -999.00, 9, -999.00, -999.00, 9, -999.00
49NZ20071008, P14N, 55, 1, 27, X12049, 2, 20071105, 0409, 35.0015, 179.0007, 3947,    600.6, 2,   5.9853, 2,  33.9907, 2,  33.9905, 2,    133.8, 2,    137.4, 2,    58.00, 2,    30.16, 2,     0.00, 2,     2.20, 2,    2.361, 2,    1.189, 2,    0.145, 2, -999.000, 9,   -999.0, 9,   -999.0, 9, -999.0000,   -999.00,   -999.0, 9,   -999.0,  -999.00, 9,   -999.0,   5.9330, 26.7635,   5.9856, 2, 9, 0.25, 0.12, 0.01, 0.016,  -999.00, 1, -999.00, -999.00, 9, -999.00
49NZ20071008, P14N, 55, 1, 26, X12032, 2, 20071105, 0409, 35.0015, 179.0007, 3947,    700.7, 2,   5.0638, 2,  34.0399, 2,  34.0437, 2,     89.8, 2,     96.4, 2,    76.96, 2,    35.45, 2,     0.01, 2,     2.57, 2,    1.680, 2,    0.831, 2,    0.096, 6, -999.000, 9,   -999.0, 9,   -999.0, 9, -999.0000,   -999.00,   -999.0, 9,   -999.0,  -999.00, 9,   -999.0,   5.0071, 26.9133,   5.0638, 2, 9, 0.29, 0.13, 0.01, 0.016,  -999.00, 9, -999.00, -999.00, 9, -999.00
49NZ20071008, P14N, 55, 1, 25, X12043, 2, 20071105, 0409, 35.0015, 179.0007, 3947,    799.9, 2,   4.5065, 2,  34.1225, 2,  34.1235, 2,     56.7, 2,     63.3, 2,    92.45, 2,    39.15, 2,     0.01, 2,     2.82, 2,    0.935, 2,    0.451, 2,    0.033, 2, -999.000, 9,   -999.0, 9,   -999.0, 9, -999.0000,   -999.00,   -999.0, 9,   -999.0,  -999.00, 9,   -999.0,   4.4446, 27.0413,   4.5081, 2, 9, 0.32, 0.14, 0.01, 0.017,  -999.00, 1, -999.00, -999.00, 9, -999.00
49NZ20071008, P14N, 55, 1, 24, X12030, 2, 20071105, 0409, 35.0015, 179.0007, 3947,    898.9, 2,   4.0082, 2,  34.2037, 2,  34.2058, 2,     40.9, 2,     42.6, 2,   107.50, 2,    41.48, 2,     0.01, 2,     2.97, 2,    0.509, 2,    0.245, 2,    0.031, 2, -999.000, 9,   -999.0, 9,   -999.0, 9, -999.0000,   -999.00,   -999.0, 9,   -999.0,  -999.00, 9,   -999.0,   3.9413, 27.1587,   4.0081, 2, 9, 0.36, 0.15, 0.01, 0.017,  -999.00, 9, -999.00, -999.00, 9, -999.00
49NZ20071008, P14N, 55, 1, 23, X12027, 2, 20071105, 0409, 35.0015, 179.0007, 3947,   1001.3, 2,   3.6016, 2,  34.2792, 2,  34.2797, 6,     27.8, 2,     29.0, 2,   120.11, 2,    42.98, 2,     0.00, 2,     3.08, 2,    0.217, 2,    0.104, 2,    0.011, 2, -999.000, 9,   -999.0, 9,   -999.0, 9, -999.0000,   -999.00,   -999.0, 9,   -999.0,  -999.00, 9,   -999.0,   3.5293, 27.2599,   3.6021, 2, 9, 0.38, 0.15, 0.01, 0.018,  -999.00, 1, -999.00, -999.00, 9, -999.00
49NZ20071008, P14N, 55, 1, 22, X12028, 2, 20071105, 0409, 35.0015, 179.0007, 3947,   1203.6, 2,   3.0843, 2,  34.3927, 2,  34.3931, 2,     25.8, 2,     25.3, 2,   136.19, 2,    43.78, 2,     0.00, 2,     3.13, 2,    0.063, 2,    0.031, 2,    0.000, 2, -999.000, 9,   -999.0, 9,   -999.0, 9, -999.0000,   -999.00,   -999.0, 9,   -999.0,  -999.00, 9,   -999.0,   3.0001, 27.4002,   3.0846, 2, 9, 0.42, 0.16, 0.01, 0.018,  -999.00, 9, -999.00, -999.00, 9, -999.00
49NZ20071008, P14N, 55, 1, 21, X12009, 2, 20071105, 0409, 35.0015, 179.0007, 3947,   1399.5, 2,   2.7124, 2,  34.4624, 2,  34.4638, 2,     26.7, 2,     26.1, 2,   148.01, 2,    44.16, 2,     0.00, 2,     3.14, 2,    0.016, 2,    0.008, 2,    0.000, 2, -999.000, 9,   -999.0, 9,   -999.0, 9, -999.0000,   -999.00,   -999.0, 9,   -999.0,  -999.00, 9,   -999.0,   2.6162, 27.4900,   2.7124, 2, 9, 0.44, 0.16, 0.01, 0.018,  -999.00, 9, -999.00, -999.00, 9, -999.00
49NZ20071008, P14N, 55, 1, 20, X12026, 2, 20071105, 0409, 35.0015, 179.0007, 3947,   1600.1, 2,   2.3861, 2,  34.5201, 2,  34.5206, 2,     37.1, 2,     37.6, 2,   156.05, 2,    43.50, 2,     0.01, 2,     3.09, 2,    0.007, 2,    0.003, 2,    0.000, 2, -999.000, 9,   -999.0, 9,   -999.0, 9, -999.0000,   -999.00,   -999.0, 9,   -999.0,  -999.00, 9,   -999.0,   2.2775, 27.5648,   2.3862, 2, 9, 0.46, 0.15, 0.01, 0.018,  -999.00, 9, -999.00, -999.00, 9, -999.00
49NZ20071008, P14N, 55, 1, 19, X12025, 2, 20071105, 0409, 35.0015, 179.0007, 3947,   1799.5, 2,   2.1750, 2,  34.5570, 2,  34.5576, 2,     49.9, 2,     49.8, 2,   160.46, 2,    42.94, 2,     0.00, 2,     3.03, 2,    0.001, 2,    0.001, 2,    0.000, 2, -999.000, 9,   -999.0, 9,   -999.0, 9, -999.0000,   -999.00,   -999.0, 9,   -999.0,  -999.00, 9,   -999.0,   2.0529, 27.6126,   2.1751, 2, 9, 0.47, 0.15, 0.01, 0.018,  -999.00, 9, -999.00, -999.00, 9, -999.00
49NZ20071008, P14N, 55, 1, 18, X12024, 2, 20071105, 0409, 35.0015, 179.0007, 3947,   2000.4, 2,   1.9707, 2,  34.5897, 2,  34.5900, 2,     63.3, 2,     64.5, 2,   163.58, 2,    42.02, 2,     0.00, 2,     2.97, 2,    0.000, 2,    0.000, 2,    0.000, 2, -999.000, 9,   -999.0, 9,   -999.0, 9, -999.0000,   -999.00,   -999.0, 9,   -999.0,  -999.00, 9,   -999.0,   1.8348, 27.6558,   1.9709, 2, 9, 0.48, 0.15, 0.01, 0.017,  -999.00, 1, -999.00, -999.00, 9, -999.00
49NZ20071008, P14N, 55, 1, 17, X12023, 2, 20071105, 0409, 35.0015, 179.0007, 3947,   2199.5, 2,   1.8172, 2,  34.6136, 2,  34.6140, 6,     77.1, 2,     77.9, 2,   165.26, 2,    41.15, 2,     0.00, 2,     2.90, 2,    0.001, 2,    0.001, 2,    0.000, 2, -999.000, 9,   -999.0, 9,   -999.0, 9, -999.0000,   -999.00,   -999.0, 9,   -999.0,  -999.00, 9,   -999.0,   1.6668, 27.6878,   1.8175, 2, 9, 0.48, 0.15, 0.01, 0.017,  -999.00, 9, -999.00, -999.00, 9, -999.00
49NZ20071008, P14N, 55, 1, 16, X12022, 2, 20071105, 0409, 35.0015, 179.0007, 3947,   2401.5, 2,   1.7004, 2,  34.6333, 2,  34.6332, 2,     93.2, 2,     95.1, 2,   162.76, 2,    39.97, 2,     0.00, 2,     2.82, 2,    0.008, 2,    0.003, 2,    0.000, 2, -999.000, 9,   -999.0, 9,   -999.0, 9, -999.0000,   -999.00,   -999.0, 9,   -999.0,  -999.00, 9,   -999.0,   1.5345, 27.7133,   1.7006, 2, 9, 0.48, 0.14, 0.01, 0.017,  -999.00, 9, -999.00, -999.00, 9, -999.00
49NZ20071008, P14N, 55, 1, 15, X12021, 2, 20071105, 0409, 35.0015, 179.0007, 3947,   2600.7, 2,   1.6296, 2,  34.6452, 2,  34.6456, 2,    106.1, 2,    106.9, 2,   160.57, 2,    39.21, 2,     0.00, 2,     2.76, 2,    0.000, 2,    0.000, 2,    0.000, 2, -999.000, 9,   -999.0, 9,   -999.0, 9, -999.0000,   -999.00,   -999.0, 9,   -999.0,  -999.00, 9,   -999.0,   1.4473, 27.7293,   1.6296, 2, 9, 0.47, 0.14, 0.01, 0.017,  -999.00, 9, -999.00, -999.00, 9, -999.00
49NZ20071008, P14N, 55, 1, 14, X12020, 2, 20071105, 0409, 35.0015, 179.0007, 3947,   2799.7, 2,   1.5613, 2,  34.6564, 2,  34.6567, 2,    116.3, 2,    118.0, 2,   158.31, 2,    38.49, 2,     0.00, 2,     2.71, 2,    0.000, 2,    0.000, 2,    0.000, 2, -999.000, 9,   -999.0, 9,   -999.0, 9, -999.0000,   -999.00,   -999.0, 9,   -999.0,  -999.00, 9,   -999.0,   1.3621, 27.7444,   1.5614, 2, 9, 0.47, 0.14, 0.01, 0.017,  -999.00, 9, -999.00, -999.00, 9, -999.00
49NZ20071008, P14N, 55, 1, 13, X12019, 2, 20071105, 0409, 35.0015, 179.0007, 3947,   3002.7, 2,   1.5201, 2,  34.6642, 2,  34.6642, 6,    125.2, 2,    126.0, 2,   156.69, 2,    38.01, 2,     0.00, 2,     2.66, 2,    0.000, 2,    0.000, 2,    0.000, 2, -999.000, 9,   -999.0, 9,   -999.0, 9, -999.0000,   -999.00,   -999.0, 9,   -999.0,  -999.00, 9,   -999.0,   1.3027, 27.7548,   1.5201, 2, 9, 0.46, 0.14, 0.01, 0.017,  -999.00, 1, -999.00, -999.00, 9, -999.00
49NZ20071008, P14N, 55, 1, 12, X12040, 2, 20071105, 0409, 35.0015, 179.0007, 3947,   3249.5, 2,   1.4779, 2,  34.6722, 2,  34.6724, 2,    134.3, 2,    134.6, 2,   154.79, 2,    37.31, 2,     0.01, 2,     2.61, 2, -999.000, 9, -999.000, 9, -999.000, 9, -999.000, 9,   -999.0, 9,   -999.0, 9, -999.0000,   -999.00,   -999.0, 9,   -999.0,  -999.00, 9,   -999.0,   1.2375, 27.7658,   1.4780, 2, 9, 0.46, 0.14, 0.01, 0.016,  -999.00, 9, -999.00, -999.00, 9, -999.00
49NZ20071008, P14N, 55, 1, 11, X12047, 2, 20071105, 0409, 35.0015, 179.0007, 3947,   3499.6, 2,   1.4640, 2,  34.6768, 2,  34.6769, 2,    139.6, 2,    139.9, 2,   153.59, 2,    37.08, 2,     0.01, 2,     2.59, 2, -999.000, 9, -999.000, 9, -999.000, 9, -999.000, 9,   -999.0, 9,   -999.0, 9, -999.0000,   -999.00,   -999.0, 9,   -999.0,  -999.00, 9,   -999.0,   1.1988, 27.7722,   1.4639, 2, 9, 0.46, 0.14, 0.01, 0.016,  -999.00, 9, -999.00, -999.00, 9, -999.00
49NZ20071008, P14N, 55, 1, 10, X12017, 2, 20071105, 0409, 35.0015, 179.0007, 3947,   3751.0, 2,   1.4311, 2,  34.6836, 2,  34.6838, 2,    147.5, 2,    147.8, 2,   152.51, 2,    36.49, 2,     0.01, 2,     2.55, 2,    0.001, 2,    0.000, 2,    0.000, 2, -999.000, 9,   -999.0, 9,   -999.0, 9, -999.0000,   -999.00,   -999.0, 9,   -999.0,  -999.00, 9,   -999.0,   1.1407, 27.7816,   1.4311, 2, 9, 0.45, 0.13, 0.01, 0.016,  -999.00, 9, -999.00, -999.00, 9, -999.00
49NZ20071008, P14N, 55, 1, 9, X12015, 2, 20071105, 0409, 35.0015, 179.0007, 3947,   3002.0, 2,   1.5202, 2,  34.6642, 2, -999.0000, 9,    125.2, 2,   -999.0, 9,  -999.00, 9,  -999.00, 9,  -999.00, 9,  -999.00, 9, -999.000, 9, -999.000, 9, -999.000, 9, -999.000, 9,   -999.0, 9,   -999.0, 9, -999.0000,   -999.00,   -999.0, 9,   -999.0,  -999.00, 9,   -999.0,   1.3028, 27.7548,   1.5203, 2, 9, -999.00, -999.00, -999.00, -999.000,  -999.00, 1, -999.00, -999.00, 9, -999.00
49NZ20071008, P14N, 55, 1, 8, X12046, 2, 20071105, 0409, 35.0015, 179.0007, 3947,   3984.7, 2,   1.4293, 2,  34.6868, 2, -999.0000, 9,    151.1, 2,   -999.0, 9,  -999.00, 9,  -999.00, 9,  -999.00, 9,  -999.00, 9, -999.000, 9, -999.000, 9, -999.000, 9, -999.000, 9,   -999.0, 9,   -999.0, 9, -999.0000,   -999.00,   -999.0, 9,   -999.0,  -999.00, 9,   -999.0,   1.1140, 27.7860, -999.0000, 9, 9, -999.00, -999.00, -999.00, -999.000,  -999.00, 1, -999.00, -999.00, 9, -999.00
49NZ20071008, P14N, 55, 1, 7, X12044, 2, 20071105, 0409, 35.0015, 179.0007, 3947,   2000.9, 2,   1.9707, 2,  34.5897, 2, -999.0000, 9,     63.4, 2,   -999.0, 9,  -999.00, 9,  -999.00, 9,  -999.00, 9,  -999.00, 9, -999.000, 9, -999.000, 9, -999.000, 9, -999.000, 9,   -999.0, 9,   -999.0, 9, -999.0000,   -999.00,   -999.0, 9,   -999.0,  -999.00, 9,   -999.0,   1.8348, 27.6558,   1.9708, 2, 9, -999.00, -999.00, -999.00, -999.000,  -999.00, 1, -999.00, -999.00, 9, -999.00
49NZ20071008, P14N, 55, 1, 6, X12048, 2, 20071105, 0409, 35.0015, 179.0007, 3947,   3001.8, 2,   1.5204, 2,  34.6641, 2, -999.0000, 9,    125.2, 2,   -999.0, 9,  -999.00, 9,  -999.00, 9,  -999.00, 9,  -999.00, 9, -999.000, 9, -999.000, 9, -999.000, 9, -999.000, 9,   -999.0, 9,   -999.0, 9, -999.0000,   -999.00,   -999.0, 9,   -999.0,  -999.00, 9,   -999.0,   1.3030, 27.7547,   1.5204, 2, 9, -999.00, -999.00, -999.00, -999.000,  -999.00, 1, -999.00, -999.00, 9, -999.00
49NZ20071008, P14N, 55, 1, 5, X12014, 2, 20071105, 0409, 35.0015, 179.0007, 3947,   3984.7, 2,   1.4292, 2,  34.6869, 2, -999.0000, 9,    151.1, 2,   -999.0, 9,  -999.00, 9,  -999.00, 9,  -999.00, 9,  -999.00, 9, -999.000, 9, -999.000, 9, -999.000, 9, -999.000, 9,   -999.0, 9,   -999.0, 9, -999.0000,   -999.00,   -999.0, 9,   -999.0,  -999.00, 9,   -999.0,   1.1139, 27.7861,   1.4293, 2, 9, -999.00, -999.00, -999.00, -999.000,  -999.00, 1, -999.00, -999.00, 9, -999.00
49NZ20071008, P14N, 55, 1, 4, X12006, 2, 20071105, 0409, 35.0015, 179.0007, 3947,   2000.9, 2,   1.9704, 2,  34.5897, 2, -999.0000, 9,     63.4, 2,   -999.0, 9,  -999.00, 9,  -999.00, 9,  -999.00, 9,  -999.00, 9, -999.000, 9, -999.000, 9, -999.000, 9, -999.000, 9,   -999.0, 9,   -999.0, 9, -999.0000,   -999.00,   -999.0, 9,   -999.0,  -999.00, 9,   -999.0,   1.8345, 27.6558,   1.9704, 2, 9, -999.00, -999.00, -999.00, -999.000,  -999.00, 1, -999.00, -999.00, 9, -999.00
49NZ20071008, P14N, 55, 1, 3, X12013, 2, 20071105, 0409, 35.0015, 179.0007, 3947,   3002.2, 2,   1.5204, 2,  34.6641, 2, -999.0000, 9,    125.2, 2,   -999.0, 9,  -999.00, 9,  -999.00, 9,  -999.00, 9,  -999.00, 9, -999.000, 9, -999.000, 9, -999.000, 9, -999.000, 9,   -999.0, 9,   -999.0, 9, -999.0000,   -999.00,   -999.0, 9,   -999.0,  -999.00, 9,   -999.0,   1.3030, 27.7547,   1.5205, 2, 9, -999.00, -999.00, -999.00, -999.000,  -999.00, 1, -999.00, -999.00, 9, -999.00
49NZ20071008, P14N, 55, 1, 2, X12002, 2, 20071105, 0409, 35.0015, 179.0007, 3947,   3985.0, 2,   1.4293, 2,  34.6868, 2, -999.0000, 9,    151.1, 2,   -999.0, 9,  -999.00, 9,  -999.00, 9,  -999.00, 9,  -999.00, 9, -999.000, 9, -999.000, 9, -999.000, 9, -999.000, 9,   -999.0, 9,   -999.0, 9, -999.0000,   -999.00,   -999.0, 9,   -999.0,  -999.00, 9,   -999.0,   1.1140, 27.7860,   1.4293, 2, 9, -999.00, -999.00, -999.00, -999.000,  -999.00, 1, -999.00, -999.00, 9, -999.00
49NZ20071008, P14N, 55, 1, 1, X12001, 2, 20071105, 0409, 35.0015, 179.0007, 3947,   3985.3, 2,   1.4293, 2,  34.6868, 2,  34.6868, 6,    151.1, 2,    151.1, 2,   153.16, 2,    36.36, 2,     0.01, 2,     2.54, 2,    0.004, 2,    0.000, 2,    0.000, 2, -999.000, 9,   -999.0, 9,   -999.0, 9, -999.0000,   -999.00,   -999.0, 9,   -999.0,  -999.00, 9,   -999.0,   1.1140, 27.7860,   1.4294, 2, 9, 0.46, 0.13, 0.01, 0.016,  -999.00, 1, -999.00, -999.00, 9, -999.00