BOTTLE,20221005CCHSIOAMB
EXPOCODE,SECT_ID,STNNBR,CASTNO,SAMPNO,BTLNBR,BTLNBR_FLAG_W,DATE,TIME,LATITUDE,LONGITUDE,DEPTH,CTDPRS,CTDPRS_FLAG_W,CTDTMP,CTDTMP_FLAG_W,CTDSAL,CTDSAL_FLAG_W,SALNTY,SALNTY_FLAG_W,CTDOXY,CTDOXY_FLAG_W,OXYGEN,OXYGEN_FLAG_W,SILCAT,SILCAT_FLAG_W,NITRAT,NITRAT_FLAG_W,NITRIT,NITRIT_FLAG_W,PHSPHT,PHSPHT_FLAG_W,CFC-11,CFC-11_FLAG_W,CFC-12,CFC-12_FLAG_W,CFC113,CFC113_FLAG_W,CCL4,CCL4_FLAG_W,TCARBN,TCARBN_FLAG_W,ALKALI,ALKALI_FLAG_W,PH_TOT,PH_TMP,DELC14,DELC14_FLAG_W,C14ERR,DELC13,DELC13_FLAG_W,C13ERR,THETA,SIG0,SBE35,SBE35_FLAG_W,PH_TOT_FLAG_W,SILUNC,NRAUNC,NRIUNC,PHPUNC,CS-137,CS-137_FLAG_W,CS137ER,PLUTO,PLUTO_FLAG_W,PLUTOER
,,,,,,,,,,,METERS,DBAR,,ITS-90,,PSS-78,,PSS-78,,UMOL/KG,,UMOL/KG,,UMOL/KG,,UMOL/KG,,UMOL/KG,,UMOL/KG,,PMOL/KG,,PMOL/KG,,PMOL/KG,,PMOL/KG,,UMOL/KG,,UMOL/KG,,,DEG C,/MILLE,,/MILLE,/MILLE,,/MILLE,DEG C,KG/M^3,ITS-90,,,UMOL/KG,UMOL/KG,UMOL/KG,UMOL/KG,DM/.1MG,,BQ/M^3,MBQ/M^3,,MBQ/M^3
49NZ20071008, P01, P01_53, 1, 36, X12042, 2, 20071018, 0509, 46.9935, 170.4700, 6341,     10.2, 2,   9.3513, 2,  32.6598, 2,  32.6598, 2,    289.0, 2,    287.9, 2,    22.05, 2,    15.01, 2,     0.27, 2,     1.40, 2,    3.793, 2,    2.120, 2,    0.359, 2, -999.000, 9,   -999.0, 9,   -999.0, 9, -999.0000,   -999.00,   -999.0, 9,   -999.0,  -999.00, 9,   -999.0,   9.3502, 25.2309,   9.3509, 2, 9, 0.17, 0.07, 0.01, 0.014,  -999.00, 9, -999.00, -999.00, 9, -999.00
49NZ20071008, P01, P01_53, 1, 35, X12041, 2, 20071018, 0509, 46.9935, 170.4700, 6341,     49.9, 2,   9.3000, 2,  32.6535, 2,  32.6570, 2,    287.5, 2,    286.8, 2,    22.04, 2,    15.08, 2,     0.27, 2,     1.40, 2,    3.827, 2,    2.169, 2,    0.376, 4, -999.000, 9,   -999.0, 9,   -999.0, 9, -999.0000,   -999.00,   -999.0, 9,   -999.0,  -999.00, 9,   -999.0,   9.2947, 25.2348,   9.2902, 2, 9, 0.17, 0.08, 0.01, 0.014,  -999.00, 9, -999.00, -999.00, 9, -999.00
49NZ20071008, P01, P01_53, 1, 34, X12016, 2, 20071018, 0509, 46.9935, 170.4700, 6341,    100.9, 2,   2.8001, 2,  33.0755, 2,  33.0841, 2,    299.3, 2,    299.3, 2,    43.36, 2,    25.70, 2,     0.02, 2,     2.03, 2,    5.258, 2,    2.854, 2,    0.481, 2, -999.000, 9,   -999.0, 9,   -999.0, 9, -999.0000,   -999.00,   -999.0, 9,   -999.0,  -999.00, 9,   -999.0,   2.7944, 26.3666,   2.8001, 2, 9, 0.21, 0.10, 0.01, 0.015,  -999.00, 1, -999.00, -999.00, 9, -999.00
49NZ20071008, P01, P01_53, 1, 33, X12033, 2, 20071018, 0509, 46.9935, 170.4700, 6341,    150.6, 2,   3.5813, 2,  33.6814, 2,  33.6835, 2,    111.2, 2,     96.3, 2,    78.11, 2,    40.20, 2,     0.01, 2,     2.91, 2,    2.946, 2,    1.513, 2,    0.229, 6, -999.000, 9,   -999.0, 9,   -999.0, 9, -999.0000,   -999.00,   -999.0, 9,   -999.0,  -999.00, 9,   -999.0,   3.5716, 26.7795,   3.5803, 2, 9, 0.29, 0.15, 0.01, 0.017,  -999.00, 9, -999.00, -999.00, 9, -999.00
49NZ20071008, P01, P01_53, 1, 32, X12038, 2, 20071018, 0509, 46.9935, 170.4700, 6341,    202.5, 2,   3.6751, 2,  33.8593, 2,  33.8583, 2,     43.7, 2,     44.5, 2,    90.47, 2,    43.95, 2,     0.01, 2,     3.12, 2,    2.152, 2,    1.059, 2,    0.158, 2, -999.000, 9,   -999.0, 9,   -999.0, 9, -999.0000,   -999.00,   -999.0, 9,   -999.0,  -999.00, 9,   -999.0,   3.6618, 26.9125,   3.6751, 2, 9, 0.32, 0.16, 0.01, 0.018,  -999.00, 1, -999.00, -999.00, 9, -999.00
49NZ20071008, P01, P01_53, 1, 31, X12003, 2, 20071018, 0509, 46.9935, 170.4700, 6341,    252.4, 2,   3.7277, 2,  33.9603, 2,  33.9578, 6,     22.4, 2,     23.6, 2,    98.12, 2,    45.10, 2,     0.02, 2,     3.20, 2,    1.644, 2,    0.790, 2,    0.116, 2, -999.000, 9,   -999.0, 9,   -999.0, 9, -999.0000,   -999.00,   -999.0, 9,   -999.0,  -999.00, 9,   -999.0,   3.7108, 26.9881,   3.7275, 2, 9, 0.33, 0.16, 0.01, 0.018,  -999.00, 9, -999.00, -999.00, 9, -999.00
49NZ20071008, P01, P01_53, 1, 30, X12008, 2, 20071018, 0509, 46.9935, 170.4700, 6341,    280.7, 2,   3.7437, 2,  34.0058, 2,  34.0055, 2,     18.9, 2,     18.8, 2,   101.56, 2,    45.22, 2,     0.01, 2,     3.20, 2,    1.396, 2,    0.664, 2,    0.097, 2, -999.000, 9,   -999.0, 9,   -999.0, 9, -999.0000,   -999.00,   -999.0, 9,   -999.0,  -999.00, 9,   -999.0,   3.7248, 27.0230,   3.7434, 2, 9, 0.34, 0.16, 0.01, 0.018,  -999.00, 9, -999.00, -999.00, 9, -999.00
49NZ20071008, P01, P01_53, 1, 29, X12035, 2, 20071018, 0509, 46.9935, 170.4700, 6341,    370.2, 2,   3.6267, 2,  34.0999, 2,  34.0993, 2,     17.9, 2,     16.8, 2,   111.10, 2,    44.71, 2,     0.01, 2,     3.18, 2,    0.949, 2,    0.448, 2,    0.064, 2, -999.000, 9,   -999.0, 9,   -999.0, 9, -999.0000,   -999.00,   -999.0, 9,   -999.0,  -999.00, 9,   -999.0,   3.6018, 27.1100,   3.6260, 2, 9, 0.36, 0.16, 0.01, 0.018,  -999.00, 1, -999.00, -999.00, 9, -999.00
49NZ20071008, P01, P01_53, 1, 28, X12034, 2, 20071018, 0509, 46.9935, 170.4700, 6341,    469.9, 2,   3.4474, 2,  34.1820, 2,  34.1815, 6,     17.1, 2,     17.2, 2,   120.15, 2,    44.33, 2,     0.01, 2,     3.16, 2,    0.628, 2,    0.298, 2,    0.044, 2, -999.000, 9,   -999.0, 9,   -999.0, 9, -999.0000,   -999.00,   -999.0, 9,   -999.0,  -999.00, 9,   -999.0,   3.4161, 27.1933,   3.4470, 2, 9, 0.38, 0.16, 0.01, 0.018,  -999.00, 9, -999.00, -999.00, 9, -999.00
49NZ20071008, P01, P01_53, 1, 27, X12049, 2, 20071018, 0509, 46.9935, 170.4700, 6341,    571.7, 2,   3.2814, 2,  34.2424, 2,  34.2413, 2,     16.4, 2,     16.5, 2,   127.52, 2,    44.28, 2,     0.01, 2,     3.16, 2,    0.438, 2,    0.210, 2,    0.030, 2, -999.000, 9,   -999.0, 9,   -999.0, 9, -999.0000,   -999.00,   -999.0, 9,   -999.0,  -999.00, 9,   -999.0,   3.2435, 27.2578,   3.2808, 2, 9, 0.40, 0.16, 0.01, 0.018,  -999.00, 1, -999.00, -999.00, 9, -999.00
49NZ20071008, P01, P01_53, 1, 26, X12032, 2, 20071018, 0509, 46.9935, 170.4700, 6341,    670.8, 2,   3.1312, 2,  34.2960, 2,  34.2949, 2,     16.7, 2,     16.1, 2,   134.02, 2,    44.26, 2,     0.01, 2,     3.16, 2,    0.281, 6,    0.133, 6,    0.022, 6, -999.000, 9,   -999.0, 9,   -999.0, 9, -999.0000,   -999.00,   -999.0, 9,   -999.0,  -999.00, 9,   -999.0,   3.0869, 27.3151,   3.1306, 2, 9, 0.41, 0.16, 0.01, 0.018,  -999.00, 9, -999.00, -999.00, 9, -999.00
49NZ20071008, P01, P01_53, 1, 25, X12043, 2, 20071018, 0509, 46.9935, 170.4700, 6341,    771.6, 2,   2.9654, 2,  34.3415, 2,  34.3402, 2,     17.7, 2,     16.6, 2,   140.03, 2,    44.34, 2,     0.01, 2,     3.16, 2,    0.192, 2,    0.092, 2,    0.022, 2, -999.000, 9,   -999.0, 9,   -999.0, 9, -999.0000,   -999.00,   -999.0, 9,   -999.0,  -999.00, 9,   -999.0,   2.9148, 27.3671,   2.9652, 2, 9, 0.43, 0.16, 0.01, 0.018,  -999.00, 1, -999.00, -999.00, 9, -999.00
49NZ20071008, P01, P01_53, 1, 24, X12030, 2, 20071018, 0509, 46.9935, 170.4700, 6341,    870.3, 2,   2.8338, 2,  34.3747, 2,  34.3743, 2,     18.2, 2,     18.1, 2,   144.73, 2,    44.12, 2,     0.01, 2,     3.16, 2,    0.139, 2,    0.066, 2,    0.012, 2, -999.000, 9,   -999.0, 9,   -999.0, 9, -999.0000,   -999.00,   -999.0, 9,   -999.0,  -999.00, 9,   -999.0,   2.7769, 27.4059,   2.8336, 2, 9, 0.44, 0.16, 0.01, 0.018,  -999.00, 9, -999.00, -999.00, 9, -999.00
49NZ20071008, P01, P01_53, 1, 23, X12027, 2, 20071018, 0509, 46.9935, 170.4700, 6341,    970.4, 2,   2.6797, 2,  34.4119, 2,  34.4116, 6,     19.5, 2,     19.4, 2,   149.82, 2,    44.36, 2,     0.01, 2,     3.16, 2,    0.089, 2,    0.042, 2,    0.008, 2, -999.000, 9,   -999.0, 9,   -999.0, 9, -999.0000,   -999.00,   -999.0, 9,   -999.0,  -999.00, 9,   -999.0,   2.6166, 27.4496,   2.6794, 2, 9, 0.45, 0.16, 0.01, 0.018,  -999.00, 1, -999.00, -999.00, 9, -999.00
49NZ20071008, P01, P01_53, 1, 22, X12028, 2, 20071018, 0509, 46.9935, 170.4700, 6341,   1132.1, 2,   2.4643, 2,  34.4616, 2,  34.4613, 2,     25.5, 2,     25.9, 2,   155.98, 2,    43.80, 2,     0.01, 2,     3.12, 2,    0.071, 2,    0.030, 2,    0.009, 2, -999.000, 9,   -999.0, 9,   -999.0, 9, -999.0000,   -999.00,   -999.0, 9,   -999.0,  -999.00, 9,   -999.0,   2.3911, 27.5086,   2.4637, 2, 9, 0.46, 0.16, 0.01, 0.018,  -999.00, 9, -999.00, -999.00, 9, -999.00
49NZ20071008, P01, P01_53, 1, 21, X12009, 2, 20071018, 0509, 46.9935, 170.4700, 6341,   1332.1, 2,   2.2686, 2,  34.5062, 2,  34.5052, 2,     37.0, 2,     35.8, 2,   160.82, 2,    43.26, 2,     0.01, 2,     3.08, 2,    0.043, 2,    0.017, 2,    0.004, 2, -999.000, 9,   -999.0, 9,   -999.0, 9, -999.0000,   -999.00,   -999.0, 9,   -999.0,  -999.00, 9,   -999.0,   2.1823, 27.5614,   2.2685, 2, 9, 0.47, 0.15, 0.01, 0.018,  -999.00, 9, -999.00, -999.00, 9, -999.00
49NZ20071008, P01, P01_53, 1, 20, X12026, 2, 20071018, 0509, 46.9935, 170.4700, 6341,   1531.4, 2,   2.1002, 2,  34.5463, 2,  34.5453, 2,     49.0, 2,     48.0, 2,   163.45, 2,    42.76, 2,     0.01, 2,     3.03, 2,    0.019, 2,    0.008, 2,    0.004, 2, -999.000, 9,   -999.0, 9,   -999.0, 9, -999.0000,   -999.00,   -999.0, 9,   -999.0,  -999.00, 9,   -999.0,   2.0004, 27.6081,   2.1001, 2, 9, 0.48, 0.15, 0.01, 0.018,  -999.00, 9, -999.00, -999.00, 9, -999.00
49NZ20071008, P01, P01_53, 1, 19, X12025, 2, 20071018, 0509, 46.9935, 170.4700, 6341,   1732.7, 2,   1.9671, 2,  34.5758, 2,  34.5754, 2,     60.5, 2,     60.3, 2,   164.60, 2,    42.03, 2,     0.01, 2,     2.98, 2,    0.011, 2,    0.005, 2,    0.000, 2, -999.000, 9,   -999.0, 9,   -999.0, 9, -999.0000,   -999.00,   -999.0, 9,   -999.0,  -999.00, 9,   -999.0,   1.8531, 27.6433,   1.9670, 2, 9, 0.48, 0.15, 0.01, 0.017,  -999.00, 1, -999.00, -999.00, 9, -999.00
49NZ20071008, P01, P01_53, 1, 18, X12024, 2, 20071018, 0509, 46.9935, 170.4700, 6341,   1930.6, 2,   1.8639, 2,  34.5980, 2,  34.5979, 2,     72.8, 2,     72.4, 2,   164.57, 2,    41.20, 2,     0.01, 2,     2.92, 2,    0.015, 2,    0.005, 2,    0.000, 2, -999.000, 9,   -999.0, 9,   -999.0, 9, -999.0000,   -999.00,   -999.0, 9,   -999.0,  -999.00, 9,   -999.0,   1.7354, 27.6701,   1.8638, 2, 9, 0.48, 0.15, 0.01, 0.017,  -999.00, 1, -999.00, -999.00, 9, -999.00
49NZ20071008, P01, P01_53, 1, 17, X12023, 2, 20071018, 0509, 46.9935, 170.4700, 6341,   2130.6, 2,   1.7666, 2,  34.6169, 2,  34.6170, 2,     85.5, 2,     84.2, 2,   164.23, 2,    40.58, 2,     0.01, 2,     2.87, 2,    0.001, 2,    0.001, 2,    0.000, 2, -999.000, 9,   -999.0, 9,   -999.0, 9, -999.0000,   -999.00,   -999.0, 9,   -999.0,  -999.00, 9,   -999.0,   1.6229, 27.6937,   1.7665, 2, 9, 0.48, 0.15, 0.01, 0.017,  -999.00, 1, -999.00, -999.00, 9, -999.00
49NZ20071008, P01, P01_53, 1, 16, X12022, 2, 20071018, 0509, 46.9935, 170.4700, 6341,   2330.9, 2,   1.6857, 2,  34.6321, 2,  34.6320, 2,     95.3, 2,     94.6, 2,   164.02, 2,    39.79, 2,     0.01, 2,     2.82, 2,    0.000, 2,    0.000, 2,    0.000, 2, -999.000, 9,   -999.0, 9,   -999.0, 9, -999.0000,   -999.00,   -999.0, 9,   -999.0,  -999.00, 9,   -999.0,   1.5262, 27.7130,   1.6858, 2, 9, 0.48, 0.14, 0.01, 0.017,  -999.00, 9, -999.00, -999.00, 9, -999.00
49NZ20071008, P01, P01_53, 1, 15, X12021, 2, 20071018, 0509, 46.9935, 170.4700, 6341,   2531.5, 2,   1.6384, 2,  34.6414, 2,  34.6412, 2,    101.7, 2,    101.9, 2,   164.11, 2,    39.25, 2,     0.01, 2,     2.78, 2,    0.002, 2,    0.002, 2,    0.000, 2, -999.000, 9,   -999.0, 9,   -999.0, 9, -999.0000,   -999.00,   -999.0, 9,   -999.0,  -999.00, 9,   -999.0,   1.4621, 27.7251,   1.6384, 2, 9, 0.48, 0.14, 0.01, 0.017,  -999.00, 9, -999.00, -999.00, 9, -999.00
49NZ20071008, P01, P01_53, 1, 14, X12020, 2, 20071018, 0509, 46.9935, 170.4700, 6341,   2730.8, 2,   1.6067, 2,  34.6492, 2,  34.6489, 6,    107.0, 2,    109.4, 2,   162.27, 2,    38.80, 2,     0.01, 2,     2.75, 2, -999.000, 9, -999.000, 9, -999.000, 9, -999.000, 9,   -999.0, 9,   -999.0, 9, -999.0000,   -999.00,   -999.0, 9,   -999.0,  -999.00, 9,   -999.0,   1.4129, 27.7349,   1.6068, 2, 9, 0.48, 0.14, 0.01, 0.017,  -999.00, 1, -999.00, -999.00, 9, -999.00
49NZ20071008, P01, P01_53, 1, 13, X12019, 2, 20071018, 0509, 46.9935, 170.4700, 6341,   2931.2, 2,   1.5678, 2,  34.6576, 2,  34.6572, 2,    116.0, 2,    117.9, 2,   159.51, 2,    38.51, 2,     0.01, 2,     2.71, 2, -999.000, 9, -999.000, 9, -999.000, 9, -999.000, 9,   -999.0, 9,   -999.0, 9, -999.0000,   -999.00,   -999.0, 9,   -999.0,  -999.00, 9,   -999.0,   1.3561, 27.7457,   1.5680, 2, 9, 0.47, 0.14, 0.01, 0.017,  -999.00, 1, -999.00, -999.00, 9, -999.00
49NZ20071008, P01, P01_53, 1, 12, X12040, 2, 20071018, 0509, 46.9935, 170.4700, 6341,   3170.7, 2,   1.5246, 2,  34.6660, 2,  34.6660, 2,    126.4, 2,    127.3, 2,   156.92, 2,    37.77, 2,     0.01, 2,     2.67, 2,    0.001, 2,    0.000, 2,    0.000, 2, -999.000, 9,   -999.0, 9,   -999.0, 9, -999.0000,   -999.00,   -999.0, 9,   -999.0,  -999.00, 9,   -999.0,   1.2908, 27.7571,   1.5246, 2, 9, 0.46, 0.14, 0.01, 0.017,  -999.00, 1, -999.00, -999.00, 9, -999.00
49NZ20071008, P01, P01_53, 1, 11, X12047, 2, 20071018, 0509, 46.9935, 170.4700, 6341,   3421.1, 2,   1.4954, 2,  34.6728, 2,  34.6726, 2,    135.6, 2,    135.2, 2,   154.52, 2,    37.29, 2,     0.01, 2,     2.62, 2, -999.000, 9, -999.000, 9, -999.000, 9, -999.000, 9,   -999.0, 9,   -999.0, 9, -999.0000,   -999.00,   -999.0, 9,   -999.0,  -999.00, 9,   -999.0,   1.2374, 27.7663,   1.4954, 2, 9, 0.46, 0.14, 0.01, 0.017,  -999.00, 9, -999.00, -999.00, 9, -999.00
49NZ20071008, P01, P01_53, 1, 10, X12010, 2, 20071018, 0509, 46.9935, 170.4700, 6341,   3670.9, 2,   1.4748, 2,  34.6781, 2,  34.6778, 2,    141.9, 2,    141.8, 2,   152.65, 2,    36.79, 2,     0.01, 2,     2.59, 2, -999.000, 9, -999.000, 9, -999.000, 9, -999.000, 9,   -999.0, 9,   -999.0, 9, -999.0000,   -999.00,   -999.0, 9,   -999.0,  -999.00, 9,   -999.0,   1.1917, 27.7737,   1.4748, 2, 9, 0.45, 0.14, 0.01, 0.016,  -999.00, 1, -999.00, -999.00, 9, -999.00
49NZ20071008, P01, P01_53, 1, 9, X12015, 2, 20071018, 0509, 46.9935, 170.4700, 6341,   3920.0, 2,   1.4670, 2,  34.6821, 2,  34.6819, 2,    147.0, 2,    146.7, 2,   151.03, 2,    36.61, 2,     0.01, 2,     2.56, 2,    0.000, 2,    0.001, 2,    0.000, 2, -999.000, 9,   -999.0, 9,   -999.0, 9, -999.0000,   -999.00,   -999.0, 9,   -999.0,  -999.00, 9,   -999.0,   1.1577, 27.7793,   1.4671, 2, 9, 0.45, 0.14, 0.01, 0.016,  -999.00, 1, -999.00, -999.00, 9, -999.00
49NZ20071008, P01, P01_53, 1, 8, X12046, 2, 20071018, 0509, 46.9935, 170.4700, 6341,   4171.1, 2,   1.4709, 2,  34.6846, 2,  34.6844, 2,    150.0, 2,    150.0, 2,   150.28, 2,    36.28, 2,     0.01, 2,     2.55, 2, -999.000, 9, -999.000, 9, -999.000, 9, -999.000, 9,   -999.0, 9,   -999.0, 9, -999.0000,   -999.00,   -999.0, 9,   -999.0,  -999.00, 9,   -999.0,   1.1340, 27.7829,   1.4710, 2, 9, 0.45, 0.13, 0.01, 0.016,  -999.00, 1, -999.00, -999.00, 9, -999.00
49NZ20071008, P01, P01_53, 1, 7, X12044, 2, 20071018, 0509, 46.9935, 170.4700, 6341,   4421.6, 2,   1.4846, 2,  34.6863, 2,  34.6860, 2,    152.1, 2,    152.1, 2,   149.96, 2,    36.24, 2,     0.02, 2,     2.53, 2, -999.000, 9, -999.000, 9, -999.000, 9, -999.000, 9,   -999.0, 9,   -999.0, 9, -999.0000,   -999.00,   -999.0, 9,   -999.0,  -999.00, 9,   -999.0,   1.1191, 27.7853,   1.4847, 2, 9, 0.45, 0.13, 0.01, 0.016,  -999.00, 9, -999.00, -999.00, 9, -999.00
49NZ20071008, P01, P01_53, 1, 6, X12048, 2, 20071018, 0509, 46.9935, 170.4700, 6341,   4670.5, 2,   1.5046, 2,  34.6875, 2,  34.6871, 6,    153.5, 2,    153.4, 2,   149.99, 2,    36.20, 2,     0.01, 2,     2.53, 2,    0.002, 2,    0.001, 2,    0.000, 2, -999.000, 9,   -999.0, 9,   -999.0, 9, -999.0000,   -999.00,   -999.0, 9,   -999.0,  -999.00, 9,   -999.0,   1.1096, 27.7869,   1.5048, 2, 9, 0.45, 0.13, 0.01, 0.016,  -999.00, 1, -999.00, -999.00, 9, -999.00
49NZ20071008, P01, P01_53, 1, 5, X12014, 2, 20071018, 0509, 46.9935, 170.4700, 6341,   4922.1, 2,   1.5277, 2,  34.6883, 2,  34.6881, 2,    154.5, 2,    154.2, 2,   149.89, 2,    36.03, 2,     0.02, 2,     2.53, 2, -999.000, 9, -999.000, 9, -999.000, 9, -999.000, 9,   -999.0, 9,   -999.0, 9, -999.0000,   -999.00,   -999.0, 9,   -999.0,  -999.00, 9,   -999.0,   1.1020, 27.7880,   1.5278, 2, 9, 0.45, 0.13, 0.01, 0.016,  -999.00, 1, -999.00, -999.00, 9, -999.00
49NZ20071008, P01, P01_53, 1, 4, X12006, 2, 20071018, 0509, 46.9935, 170.4700, 6341,   5170.9, 2,   1.5544, 2,  34.6889, 2,  34.6885, 2,    155.1, 2,    154.6, 2,   150.49, 2,    35.92, 2,     0.01, 2,     2.52, 2, -999.000, 9, -999.000, 9, -999.000, 9, -999.000, 9,   -999.0, 9,   -999.0, 9, -999.0000,   -999.00,   -999.0, 9,   -999.0,  -999.00, 9,   -999.0,   1.0973, 27.7888,   1.5544, 2, 9, 0.45, 0.13, 0.01, 0.016,  -999.00, 1, -999.00, -999.00, 9, -999.00
49NZ20071008, P01, P01_53, 1, 3, X12013, 2, 20071018, 0509, 46.9935, 170.4700, 6341,   5421.2, 2,   1.5830, 2,  34.6895, 2,  34.6910, 3,    155.6, 2,    155.3, 2,   150.51, 2,    35.99, 2,     0.02, 2,     2.52, 2,    0.001, 2,    0.002, 2,    0.000, 2, -999.000, 9,   -999.0, 9,   -999.0, 9, -999.0000,   -999.00,   -999.0, 9,   -999.0,  -999.00, 9,   -999.0,   1.0935, 27.7896,   1.5831, 2, 9, 0.45, 0.13, 0.01, 0.016,  -999.00, 9, -999.00, -999.00, 9, -999.00
49NZ20071008, P01, P01_53, 1, 2, X12002, 2, 20071018, 0509, 46.9935, 170.4700, 6341,   5669.6, 2,   1.6146, 2,  34.6898, 2,  34.6895, 2,    155.7, 2,    155.4, 2,   150.65, 2,    36.07, 2,     0.01, 2,     2.52, 2,    0.000, 2,    0.000, 2,    0.000, 2, -999.000, 9,   -999.0, 9,   -999.0, 9, -999.0000,   -999.00,   -999.0, 9,   -999.0,  -999.00, 9,   -999.0,   1.0919, 27.7899,   1.6147, 2, 9, 0.45, 0.13, 0.01, 0.016,  -999.00, 1, -999.00, -999.00, 9, -999.00
49NZ20071008, P01, P01_53, 1, 1, X12001, 2, 20071018, 0509, 46.9935, 170.4700, 6341,   6462.9, 2,   1.7263, 2,  34.6897, 2,  34.6895, 6,    155.6, 2,    155.3, 2,   151.59, 2,    35.93, 2,     0.02, 2,     2.52, 2,    0.000, 2,    0.000, 2,    0.000, 2, -999.000, 9,   -999.0, 9,   -999.0, 9, -999.0000,   -999.00,   -999.0, 9,   -999.0,  -999.00, 9,   -999.0,   1.0922, 27.7899,   1.7262, 2, 9, 0.45, 0.13, 0.01, 0.016,  -999.00, 1, -999.00, -999.00, 9, -999.00