BOTTLE,20221005CCHSIOAMB
EXPOCODE,SECT_ID,STNNBR,CASTNO,SAMPNO,BTLNBR,BTLNBR_FLAG_W,DATE,TIME,LATITUDE,LONGITUDE,DEPTH,CTDPRS,CTDPRS_FLAG_W,CTDTMP,CTDTMP_FLAG_W,CTDSAL,CTDSAL_FLAG_W,SALNTY,SALNTY_FLAG_W,CTDOXY,CTDOXY_FLAG_W,OXYGEN,OXYGEN_FLAG_W,SILCAT,SILCAT_FLAG_W,NITRAT,NITRAT_FLAG_W,NITRIT,NITRIT_FLAG_W,PHSPHT,PHSPHT_FLAG_W,CFC-11,CFC-11_FLAG_W,CFC-12,CFC-12_FLAG_W,CFC113,CFC113_FLAG_W,CCL4,CCL4_FLAG_W,TCARBN,TCARBN_FLAG_W,ALKALI,ALKALI_FLAG_W,PH_TOT,PH_TMP,DELC14,DELC14_FLAG_W,C14ERR,DELC13,DELC13_FLAG_W,C13ERR,THETA,SIG0,SBE35,SBE35_FLAG_W,PH_TOT_FLAG_W,SILUNC,NRAUNC,NRIUNC,PHPUNC,CS-137,CS-137_FLAG_W,CS137ER,PLUTO,PLUTO_FLAG_W,PLUTOER
,,,,,,,,,,,METERS,DBAR,,ITS-90,,PSS-78,,PSS-78,,UMOL/KG,,UMOL/KG,,UMOL/KG,,UMOL/KG,,UMOL/KG,,UMOL/KG,,PMOL/KG,,PMOL/KG,,PMOL/KG,,PMOL/KG,,UMOL/KG,,UMOL/KG,,,DEG C,/MILLE,,/MILLE,/MILLE,,/MILLE,DEG C,KG/M^3,ITS-90,,,UMOL/KG,UMOL/KG,UMOL/KG,UMOL/KG,DM/.1MG,,BQ/M^3,MBQ/M^3,,MBQ/M^3
49NZ20071008, P14N, 70, 1, 36, X12042, 2, 20071108, 1624, 27.4885, 179.0115, 5340,      9.9, 2,  25.6040, 2,  35.1395, 2,  35.1404, 2,    209.2, 2,    208.7, 2,     1.55, 2,     0.06, 2,     0.01, 2,     0.05, 2,    1.685, 2,    1.038, 2,    0.433, 4, -999.000, 9,   1982.5, 2,   2310.9, 2,    8.0920,     25.00,   -999.0, 9,   -999.0,  -999.00, 9,   -999.0,  25.6018, 23.2622,  25.6011, 2, 6, 0.12, 0.03, 0.01, 0.034,  -999.00, 9, -999.00, -999.00, 9, -999.00
49NZ20071008, P14N, 70, 1, 35, X12041, 2, 20071108, 1624, 27.4885, 179.0115, 5340,     50.1, 2,  25.5740, 2,  35.1415, 2,  35.1273, 2,    209.1, 2,    212.1, 2,     1.58, 2,     0.05, 2,     0.01, 2,     0.05, 2,    1.727, 2,    1.080, 2,    0.590, 4, -999.000, 9,   1984.4, 6,   2310.3, 2,    8.0894,     25.00,   -999.0, 9,   -999.0,  -999.00, 9,   -999.0,  25.5630, 23.2757,  25.5818, 2, 2, 0.12, 0.03, 0.01, 0.036,  -999.00, 9, -999.00, -999.00, 9, -999.00
49NZ20071008, P14N, 70, 1, 34, X12016, 2, 20071108, 1624, 27.4885, 179.0115, 5340,    100.2, 2,  18.5248, 2,  34.8329, 2,  34.8323, 2,    217.5, 2,    215.2, 2,     2.74, 2,     0.65, 2,     0.06, 2,     0.15, 2,    2.353, 2,    1.405, 2,    0.318, 4, -999.000, 9,   2026.3, 2,   2291.3, 6,    7.9921,     25.00,   -999.0, 9,   -999.0,  -999.00, 9,   -999.0,  18.5073, 25.0180,  18.5268, 2, 2, 0.13, 0.03, 0.01, 0.018,  -999.00, 9, -999.00, -999.00, 9, -999.00
49NZ20071008, P14N, 70, 1, 33, X12033, 2, 20071108, 1624, 27.4885, 179.0115, 5340,    151.0, 2,  16.9892, 2,  34.7163, 2,  34.7161, 2,    209.5, 2,    212.3, 2,     4.01, 2,     4.12, 2,     0.03, 2,     0.32, 2,    2.477, 6,    1.461, 6,    0.140, 6, -999.000, 9,   2034.3, 2,   2281.5, 2,    7.9649,     25.00,   -999.0, 9,   -999.0,  -999.00, 9,   -999.0,  16.9644, 25.3050,  16.9904, 2, 6, 0.13, 0.04, 0.01, 0.014,  -999.00, 9, -999.00, -999.00, 9, -999.00
49NZ20071008, P14N, 70, 1, 32, X12038, 2, 20071108, 1624, 27.4885, 179.0115, 5340,    201.1, 2,  16.0374, 2,  34.6510, 2,  34.6510, 2,    209.4, 2,    205.5, 2,     5.68, 2,     6.15, 2,     0.02, 2,     0.46, 2,    2.575, 2,    1.498, 2,    0.080, 2, -999.000, 9,   2050.1, 2,   2279.3, 2,    7.9330,     25.00,   -999.0, 9,   -999.0,  -999.00, 9,   -999.0,  16.0056, 25.4779,  16.0393, 2, 2, 0.13, 0.05, 0.01, 0.013,  -999.00, 9, -999.00, -999.00, 9, -999.00
49NZ20071008, P14N, 70, 1, 31, X12003, 2, 20071108, 1624, 27.4885, 179.0115, 5340,    249.2, 2,  14.9907, 2,  34.5689, 2,  34.5682, 6,    205.8, 2,    208.5, 2,     7.49, 2,     7.57, 2,     0.01, 2,     0.56, 2,    2.667, 2,    1.526, 2,    0.075, 2, -999.000, 9,   2057.7, 2,   2275.3, 2,    7.9116,     25.00,   -999.0, 9,   -999.0,  -999.00, 9,   -999.0,  14.9530, 25.6498,  14.9889, 2, 2, 0.14, 0.05, 0.01, 0.013,  -999.00, 9, -999.00, -999.00, 9, -999.00
49NZ20071008, P14N, 70, 1, 30, X12008, 2, 20071108, 1624, 27.4885, 179.0115, 5340,    300.4, 2,  13.8679, 2,  34.4955, 2,  34.4941, 2,    209.8, 2,    208.0, 2,     9.92, 2,     9.49, 2,     0.01, 2,     0.70, 2,    2.759, 2,    1.555, 2,    0.063, 2, -999.000, 9,   2071.9, 2,   2273.9, 2,    7.8812,     25.00,   -999.0, 9,   -999.0,  -999.00, 9,   -999.0,  13.8248, 25.8337,  13.8679, 2, 2, 0.14, 0.06, 0.01, 0.013,  -999.00, 9, -999.00, -999.00, 9, -999.00
49NZ20071008, P14N, 70, 1, 29, X12035, 2, 20071108, 1624, 27.4885, 179.0115, 5340,    400.0, 2,  11.7684, 2,  34.3413, 2,  34.3404, 2,    207.5, 2,    206.1, 2,    15.82, 2,    13.25, 2,     0.01, 2,     0.96, 2,    2.896, 2,    1.592, 2,    0.077, 2, -999.000, 9,   2098.2, 2,   2273.1, 2,    7.8222,     25.00,   -999.0, 9,   -999.0,  -999.00, 9,   -999.0,  11.7168, 26.1309,  11.7652, 2, 2, 0.15, 0.07, 0.01, 0.013,  -999.00, 9, -999.00, -999.00, 9, -999.00
49NZ20071008, P14N, 70, 1, 28, X12034, 2, 20071108, 1624, 27.4885, 179.0115, 5340,    500.6, 2,   9.2521, 2,  34.1460, 2,  34.1449, 6,    185.5, 2,    190.6, 2,    27.57, 2,    19.20, 2,     0.01, 2,     1.39, 2,    2.916, 2,    1.553, 2,    0.117, 2, -999.000, 9,   2139.4, 2,   2273.9, 2,    7.7283,     25.00,   -999.0, 9,   -999.0,  -999.00, 9,   -999.0,   9.1965, 26.4179,   9.2590, 2, 2, 0.18, 0.09, 0.01, 0.014,  -999.00, 9, -999.00, -999.00, 9, -999.00
49NZ20071008, P14N, 70, 1, 27, X12049, 2, 20071108, 1624, 27.4885, 179.0115, 5340,    601.8, 2,   7.0120, 2,  34.0487, 2,  34.0488, 2,    148.2, 2,    142.6, 2,    48.06, 2,    27.67, 2,     0.01, 2,     2.01, 2,    2.276, 2,    1.147, 2,    0.096, 2, -999.000, 9,   2201.8, 2,   2285.0, 2,    7.5906,     25.00,   -999.0, 9,   -999.0,  -999.00, 9,   -999.0,   6.9548, 26.6756,   7.0132, 2, 2, 0.22, 0.11, 0.01, 0.015,  -999.00, 9, -999.00, -999.00, 9, -999.00
49NZ20071008, P14N, 70, 1, 26, X12032, 2, 20071108, 1624, 27.4885, 179.0115, 5340,    701.9, 2,   5.5067, 2,  34.0658, 2,  34.0643, 2,     98.0, 2,     97.7, 2,    71.08, 2,    34.45, 2,     0.01, 2,     2.50, 2,    1.495, 6,    0.731, 6,    0.060, 6, -999.000, 9,   2259.7, 6,   2305.4, 2,    7.4778,     25.00,   -999.0, 9,   -999.0,  -999.00, 9,   -999.0,   5.4475, 26.8823,   5.5068, 2, 2, 0.28, 0.13, 0.01, 0.016,  -999.00, 9, -999.00, -999.00, 9, -999.00
49NZ20071008, P14N, 70, 1, 25, X12043, 2, 20071108, 1624, 27.4885, 179.0115, 5340,    802.1, 2,   4.7312, 2,  34.1468, 2,  34.1464, 2,     63.0, 2,     61.7, 2,    89.13, 2,    38.94, 2,     0.01, 2,     2.81, 2,    0.739, 2,    0.351, 2,    0.037, 2, -999.000, 9,   2303.5, 2,   2323.5, 6,    7.4092,     25.00,   -999.0, 9,   -999.0,  -999.00, 9,   -999.0,   4.6676, 27.0362,   4.7333, 2, 2, 0.32, 0.14, 0.01, 0.017,  -999.00, 9, -999.00, -999.00, 9, -999.00
49NZ20071008, P14N, 70, 1, 24, X12030, 2, 20071108, 1624, 27.4885, 179.0115, 5340,    900.8, 2,   4.1893, 2,  34.2380, 2,  34.2323, 3,     42.7, 2,     41.8, 2,   103.20, 2,    41.31, 2,     0.01, 2,     2.97, 2,    0.326, 2,    0.151, 2,    0.013, 2, -999.000, 9,   2335.1, 2,   2342.0, 2,    7.3755,     25.00,   -999.0, 9,   -999.0,  -999.00, 9,   -999.0,   4.1209, 27.1675,   4.1896, 2, 6, 0.35, 0.15, 0.01, 0.017,  -999.00, 9, -999.00, -999.00, 9, -999.00
49NZ20071008, P14N, 70, 1, 23, X12027, 2, 20071108, 1624, 27.4885, 179.0115, 5340,   1002.1, 2,   3.7343, 2,  34.3211, 2,  34.3199, 6,     34.2, 2,     32.4, 2,   116.56, 2,    42.73, 2,     0.01, 2,     3.08, 2,    0.133, 2,    0.062, 2,    0.008, 2, -999.000, 9,   2351.8, 2,   2359.3, 2,    7.3641,     25.00,   -999.0, 9,   -999.0,  -999.00, 9,   -999.0,   3.6608, 27.2803,   3.7350, 2, 2, 0.38, 0.15, 0.01, 0.018,  -999.00, 9, -999.00, -999.00, 9, -999.00
49NZ20071008, P14N, 70, 1, 22, X12028, 2, 20071108, 1624, 27.4885, 179.0115, 5340,   1201.8, 2,   3.1905, 2,  34.4470, 2,  34.4466, 2,     38.9, 2,     38.6, 2,   130.65, 2,    42.87, 2,     0.01, 2,     3.08, 2,    0.017, 2,    0.006, 2,    0.000, 2, -999.000, 9,   2364.6, 2,   2381.7, 2,    7.3865,     25.00,   -999.0, 9,   -999.0,  -999.00, 9,   -999.0,   3.1054, 27.4339,   3.1909, 2, 2, 0.41, 0.15, 0.01, 0.018,  -999.00, 9, -999.00, -999.00, 9, -999.00
49NZ20071008, P14N, 70, 1, 21, X12009, 2, 20071108, 1624, 27.4885, 179.0115, 5340,   1400.7, 2,   2.7383, 2,  34.5158, 2,  34.5155, 2,     50.5, 2,     50.9, 2,   140.91, 2,    42.49, 2,     0.01, 2,     3.03, 2,    0.002, 2,    0.001, 2,    0.000, 2, -999.000, 9,   2369.5, 2,   2395.4, 2,    7.4112,     25.00,   -999.0, 9,   -999.0,  -999.00, 9,   -999.0,   2.6416, 27.5305,   2.7384, 2, 2, 0.43, 0.15, 0.01, 0.018,  -999.00, 9, -999.00, -999.00, 9, -999.00
49NZ20071008, P14N, 70, 1, 20, X12026, 2, 20071108, 1624, 27.4885, 179.0115, 5340,   1601.3, 2,   2.4028, 2,  34.5527, 2,  34.5525, 2,     59.3, 2,     59.5, 2,   148.75, 2,    42.09, 2,     0.01, 2,     2.99, 2,    0.000, 2,    0.001, 2,    0.010, 2, -999.000, 9,   2375.7, 2,   2403.9, 2,    7.4277,     25.00,   -999.0, 9,   -999.0,  -999.00, 9,   -999.0,   2.2938, 27.5896,   2.4028, 2, 6, 0.45, 0.15, 0.01, 0.017,  -999.00, 9, -999.00, -999.00, 9, -999.00
49NZ20071008, P14N, 70, 1, 19, X12025, 2, 20071108, 1624, 27.4885, 179.0115, 5340,   1803.2, 2,   2.1304, 2,  34.5862, 2,  34.5865, 2,     72.6, 2,     72.3, 2,   153.72, 2,    41.31, 2,     0.01, 2,     2.93, 2,    0.000, 2,    0.000, 2,    0.000, 2, -999.000, 9,   2372.6, 2,   2411.0, 2,    7.4514,     25.00,   -999.0, 9,   -999.0,  -999.00, 9,   -999.0,   2.0085, 27.6395,   2.1304, 2, 2, 0.46, 0.15, 0.01, 0.017,  -999.00, 9, -999.00, -999.00, 9, -999.00
49NZ20071008, P14N, 70, 1, 18, X12024, 2, 20071108, 1624, 27.4885, 179.0115, 5340,   2001.1, 2,   1.9555, 2,  34.6099, 2,  34.6098, 2,     84.9, 2,     85.9, 2,   154.99, 2,    40.52, 2,     0.01, 2,     2.86, 2,    0.000, 2,    0.000, 2,    0.000, 2, -999.000, 9,   2366.1, 2,   2413.5, 2,    7.4763,     25.00,   -999.0, 9,   -999.0,  -999.00, 9,   -999.0,   1.8197, 27.6732,   1.9556, 2, 2, 0.46, 0.15, 0.01, 0.017,  -999.00, 9, -999.00, -999.00, 9, -999.00
49NZ20071008, P14N, 70, 1, 17, X12023, 2, 20071108, 1624, 27.4885, 179.0115, 5340,   2201.4, 2,   1.8271, 2,  34.6254, 2,  34.6252, 2,     95.1, 2,     95.3, 2,   156.05, 2,    39.91, 2,     0.01, 2,     2.82, 2,    0.000, 2,    0.000, 2,    0.000, 2, -999.000, 9,   2362.8, 2,   2417.2, 2,    7.4934,     25.00,   -999.0, 9,   -999.0,  -999.00, 9,   -999.0,   1.6764, 27.6965,   1.8272, 2, 2, 0.46, 0.14, 0.01, 0.017,  -999.00, 9, -999.00, -999.00, 9, -999.00
49NZ20071008, P14N, 70, 1, 16, X12022, 2, 20071108, 1624, 27.4885, 179.0115, 5340,   2401.9, 2,   1.7192, 2,  34.6393, 2,  34.6393, 6,    105.5, 2,    105.1, 2,   156.18, 2,    39.32, 2,     0.01, 2,     2.77, 2,    0.000, 2,    0.000, 2,    0.000, 2, -999.000, 9,   2358.3, 6,   2418.3, 2,    7.5110,     25.00,   -999.0, 9,   -999.0,  -999.00, 9,   -999.0,   1.5529, 27.7168,   1.7191, 2, 2, 0.46, 0.14, 0.01, 0.017,  -999.00, 9, -999.00, -999.00, 9, -999.00
49NZ20071008, P14N, 70, 1, 15, X12021, 2, 20071108, 1624, 27.4885, 179.0115, 5340,   2600.3, 2,   1.6412, 2,  34.6500, 2,  34.6501, 2,    113.5, 2,    114.0, 2,   155.68, 2,    38.78, 2,     0.01, 2,     2.73, 2,    0.000, 2,    0.000, 2,    0.000, 2, -999.000, 9,   2352.7, 2,   2419.1, 6,    7.5265,     25.00,   -999.0, 9,   -999.0,  -999.00, 9,   -999.0,   1.4586, 27.7323,   1.6414, 2, 2, 0.46, 0.14, 0.01, 0.017,  -999.00, 9, -999.00, -999.00, 9, -999.00
49NZ20071008, P14N, 70, 1, 14, X12020, 2, 20071108, 1624, 27.4885, 179.0115, 5340,   2800.6, 2,   1.5823, 2,  34.6581, 2,  34.6582, 2,    120.3, 2,    121.0, 2,   155.25, 2,    38.28, 2,     0.00, 2,     2.69, 2,    0.000, 2,    0.000, 2,    0.000, 2, -999.000, 9,   2351.5, 2,   2419.5, 2,    7.5388,     25.00,   -999.0, 9,   -999.0,  -999.00, 9,   -999.0,   1.3826, 27.7443,   1.5822, 2, 6, 0.46, 0.14, 0.01, 0.017,  -999.00, 9, -999.00, -999.00, 9, -999.00
49NZ20071008, P14N, 70, 1, 13, X12019, 2, 20071108, 1624, 27.4885, 179.0115, 5340,   3001.2, 2,   1.5361, 2,  34.6656, 2,  34.6655, 2,    127.7, 2,    128.8, 2,   153.51, 2,    37.74, 2,     0.01, 2,     2.65, 2,    0.000, 2,    0.000, 2,    0.000, 2, -999.000, 9,   2344.8, 2,   2418.9, 2,    7.5527,     25.00,   -999.0, 9,   -999.0,  -999.00, 9,   -999.0,   1.3184, 27.7548,   1.5360, 2, 2, 0.46, 0.14, 0.01, 0.017,  -999.00, 9, -999.00, -999.00, 9, -999.00
49NZ20071008, P14N, 70, 1, 12, X12040, 2, 20071108, 1624, 27.4885, 179.0115, 5340,   3251.9, 2,   1.5038, 2,  34.6714, 2,  34.6713, 2,    134.2, 2,    134.7, 2,   152.70, 2,    37.35, 2,     0.01, 2,     2.61, 2, -999.000, 9, -999.000, 9, -999.000, 9, -999.000, 9,   2340.5, 2,   2420.1, 2,    7.5621,     25.00,   -999.0, 9,   -999.0,  -999.00, 9,   -999.0,   1.2625, 27.7634,   1.5038, 2, 2, 0.45, 0.14, 0.01, 0.016,  -999.00, 9, -999.00, -999.00, 9, -999.00
49NZ20071008, P14N, 70, 1, 11, X12047, 2, 20071108, 1624, 27.4885, 179.0115, 5340,   3499.9, 2,   1.4745, 2,  34.6772, 2,  34.6770, 2,    140.8, 2,    141.3, 2,   151.14, 2,    36.96, 2,     0.01, 2,     2.58, 2, -999.000, 9, -999.000, 9, -999.000, 9, -999.000, 9,   2337.0, 2,   2419.8, 2,    7.5729,     25.00,   -999.0, 9,   -999.0,  -999.00, 9,   -999.0,   1.2090, 27.7717,   1.4745, 2, 2, 0.45, 0.14, 0.01, 0.016,  -999.00, 9, -999.00, -999.00, 9, -999.00
49NZ20071008, P14N, 70, 1, 10, X12017, 2, 20071108, 1624, 27.4885, 179.0115, 5340,   3751.3, 2,   1.4579, 2,  34.6813, 2,  34.6810, 2,    146.1, 2,    145.9, 2,   150.32, 2,    36.67, 2,     0.01, 2,     2.56, 2,    0.001, 2,    0.000, 2,    0.000, 2, -999.000, 9,   2331.9, 2,   2418.7, 2,    7.5812,     25.00,   -999.0, 9,   -999.0,  -999.00, 9,   -999.0,   1.1668, 27.7780,   1.4579, 2, 2, 0.45, 0.14, 0.01, 0.016,  -999.00, 9, -999.00, -999.00, 9, -999.00
49NZ20071008, P14N, 70, 1, 9, X12015, 2, 20071108, 1624, 27.4885, 179.0115, 5340,   4001.0, 2,   1.4528, 2,  34.6845, 2,  34.6843, 6,    149.7, 2,    149.7, 2,   149.63, 2,    36.36, 2,     0.01, 2,     2.54, 2, -999.000, 9, -999.000, 9, -999.000, 9, -999.000, 9,   2329.6, 2,   2419.5, 2,    7.5878,     25.00,   -999.0, 9,   -999.0,  -999.00, 9,   -999.0,   1.1351, 27.7828,   1.4527, 2, 2, 0.45, 0.13, 0.01, 0.016,  -999.00, 9, -999.00, -999.00, 9, -999.00
49NZ20071008, P14N, 70, 1, 8, X12046, 2, 20071108, 1624, 27.4885, 179.0115, 5340,   4251.5, 2,   1.4559, 2,  34.6870, 2,  34.6873, 2,    153.1, 2,    152.9, 2,   148.94, 2,    36.14, 2,     0.01, 2,     2.53, 2, -999.000, 9, -999.000, 9, -999.000, 9, -999.000, 9,   2327.6, 6,   2419.0, 2,    7.5936,     25.00,   -999.0, 9,   -999.0,  -999.00, 9,   -999.0,   1.1105, 27.7864,   1.4558, 2, 2, 0.45, 0.13, 0.01, 0.016,  -999.00, 9, -999.00, -999.00, 9, -999.00
49NZ20071008, P14N, 70, 1, 7, X12044, 2, 20071108, 1624, 27.4885, 179.0115, 5340,   4502.2, 2,   1.4585, 2,  34.6894, 2,  34.6893, 2,    157.7, 2,    157.9, 2,   144.62, 2,    35.74, 2,     0.01, 2,     2.50, 2,    0.000, 2,    0.000, 2,    0.000, 2, -999.000, 9,   2322.5, 2,   2416.0, 6,    7.5984,     25.00,   -999.0, 9,   -999.0,  -999.00, 9,   -999.0,   1.0845, 27.7901,   1.4584, 2, 2, 0.44, 0.13, 0.01, 0.016,  -999.00, 9, -999.00, -999.00, 9, -999.00
49NZ20071008, P14N, 70, 1, 6, X12048, 2, 20071108, 1624, 27.4885, 179.0115, 5340,   4751.4, 2,   1.4648, 2,  34.6915, 2,  34.6914, 2,    161.8, 2,    161.8, 2,   141.70, 2,    35.51, 2,     0.01, 2,     2.48, 2, -999.000, 9, -999.000, 9, -999.000, 9, -999.000, 9,   2318.2, 2,   2413.5, 2,    7.6035,     25.00,   -999.0, 9,   -999.0,  -999.00, 9,   -999.0,   1.0615, 27.7933,   1.4647, 2, 6, 0.43, 0.13, 0.01, 0.016,  -999.00, 9, -999.00, -999.00, 9, -999.00
49NZ20071008, P14N, 70, 1, 5, X12014, 2, 20071108, 1624, 27.4885, 179.0115, 5340,   4999.2, 2,   1.4683, 2,  34.6936, 2,  34.6936, 2,    166.5, 2,    166.6, 2,   137.92, 2,    35.14, 2,     0.01, 2,     2.45, 2, -999.000, 9, -999.000, 9, -999.000, 9, -999.000, 9,   2314.2, 2,   2409.5, 2,    7.6082,     25.00,   -999.0, 9,   -999.0,  -999.00, 9,   -999.0,   1.0352, 27.7968,   1.4682, 2, 2, 0.42, 0.13, 0.01, 0.016,  -999.00, 9, -999.00, -999.00, 9, -999.00
49NZ20071008, P14N, 70, 1, 4, X12006, 2, 20071108, 1624, 27.4885, 179.0115, 5340,   5249.1, 2,   1.4722, 2,  34.6959, 2,  34.6958, 2,    171.4, 2,    171.3, 2,   134.33, 2,    34.74, 2,     0.01, 2,     2.42, 2,    0.000, 2,    0.000, 2,    0.000, 2, -999.000, 9,   2307.9, 2,   2406.0, 2,    7.6119,     25.00,   -999.0, 9,   -999.0,  -999.00, 9,   -999.0,   1.0082, 27.8004,   1.4722, 2, 2, 0.41, 0.13, 0.01, 0.016,  -999.00, 9, -999.00, -999.00, 9, -999.00
49NZ20071008, P14N, 70, 1, 3, X12013, 9, 20071108, 1624, 27.4885, 179.0115, 5340,    150.5, 2,  16.9868, 2,  34.7159, 2, -999.0000, 9,    209.5, 2,   -999.0, 9,  -999.00, 9,  -999.00, 9,  -999.00, 9,  -999.00, 9, -999.000, 9, -999.000, 9, -999.000, 9, -999.000, 9,   -999.0, 9,   -999.0, 9, -999.0000,   -999.00,   -999.0, 9,   -999.0,  -999.00, 9,   -999.0,  16.9621, 25.3052,  16.9864, 2, 9, -999.00, -999.00, -999.00, -999.000,  -999.00, 9, -999.00, -999.00, 9, -999.00
49NZ20071008, P14N, 70, 1, 2, X12002, 9, 20071108, 1624, 27.4885, 179.0115, 5340,    151.8, 2,  16.9783, 2,  34.7156, 2, -999.0000, 9,    209.4, 2,   -999.0, 9,  -999.00, 9,  -999.00, 9,  -999.00, 9,  -999.00, 9, -999.000, 9, -999.000, 9, -999.000, 9, -999.000, 9,   -999.0, 9,   -999.0, 9, -999.0000,   -999.00,   -999.0, 9,   -999.0,  -999.00, 9,   -999.0,  16.9533, 25.3070,  16.9803, 2, 9, -999.00, -999.00, -999.00, -999.000,  -999.00, 9, -999.00, -999.00, 9, -999.00
49NZ20071008, P14N, 70, 1, 1, X12001, 2, 20071108, 1624, 27.4885, 179.0115, 5340,   5427.7, 2,   1.4843, 2,  34.6968, 2,  34.6970, 6,    173.6, 2,    173.4, 2,   132.78, 2,    34.66, 2,     0.01, 2,     2.41, 2,    0.000, 2,    0.000, 2,    0.000, 2, -999.000, 9,   2305.4, 2,   2404.6, 2,    7.6137,     25.00,   -999.0, 9,   -999.0,  -999.00, 9,   -999.0,   0.9974, 27.8019,   1.4843, 2, 2, 0.41, 0.13, 0.01, 0.016,  -999.00, 9, -999.00, -999.00, 9, -999.00