BOTTLE,20221005CCHSIOAMB
EXPOCODE,SECT_ID,STNNBR,CASTNO,SAMPNO,BTLNBR,BTLNBR_FLAG_W,DATE,TIME,LATITUDE,LONGITUDE,DEPTH,CTDPRS,CTDPRS_FLAG_W,CTDTMP,CTDTMP_FLAG_W,CTDSAL,CTDSAL_FLAG_W,SALNTY,SALNTY_FLAG_W,CTDOXY,CTDOXY_FLAG_W,OXYGEN,OXYGEN_FLAG_W,SILCAT,SILCAT_FLAG_W,NITRAT,NITRAT_FLAG_W,NITRIT,NITRIT_FLAG_W,PHSPHT,PHSPHT_FLAG_W,CFC-11,CFC-11_FLAG_W,CFC-12,CFC-12_FLAG_W,CFC113,CFC113_FLAG_W,CCL4,CCL4_FLAG_W,TCARBN,TCARBN_FLAG_W,ALKALI,ALKALI_FLAG_W,PH_TOT,PH_TMP,DELC14,DELC14_FLAG_W,C14ERR,DELC13,DELC13_FLAG_W,C13ERR,THETA,SIG0,SBE35,SBE35_FLAG_W,PH_TOT_FLAG_W,SILUNC,NRAUNC,NRIUNC,PHPUNC,CS-137,CS-137_FLAG_W,CS137ER,PLUTO,PLUTO_FLAG_W,PLUTOER
,,,,,,,,,,,METERS,DBAR,,ITS-90,,PSS-78,,PSS-78,,UMOL/KG,,UMOL/KG,,UMOL/KG,,UMOL/KG,,UMOL/KG,,UMOL/KG,,PMOL/KG,,PMOL/KG,,PMOL/KG,,PMOL/KG,,UMOL/KG,,UMOL/KG,,,DEG C,/MILLE,,/MILLE,/MILLE,,/MILLE,DEG C,KG/M^3,ITS-90,,,UMOL/KG,UMOL/KG,UMOL/KG,UMOL/KG,DM/.1MG,,BQ/M^3,MBQ/M^3,,MBQ/M^3
49NZ20071008, P14N, 4, 1, 36, X12042, 2, 20071027, 1119, 57.4948, -175.2553, 3464,      9.7, 2,   5.4793, 2,  32.7251, 2,  32.7262, 2,    300.2, 2,    300.1, 2,    33.70, 2,    15.45, 2,     0.18, 2,     1.47, 2, -999.000, 9, -999.000, 9, -999.000, 9, -999.000, 9,   -999.0, 9,   -999.0, 9, -999.0000,   -999.00,   -999.0, 9,   -999.0,  -999.00, 9,   -999.0,   5.4786, 25.8176,   5.4789, 2, 9, 0.19, 0.08, 0.01, 0.014,  -999.00, 9, -999.00, -999.00, 9, -999.00
49NZ20071008, P14N, 4, 1, 35, X12041, 2, 20071027, 1119, 57.4948, -175.2553, 3464,     50.5, 2,   3.7714, 2,  33.0662, 2,  33.0677, 2,    246.5, 2,    236.7, 2,    53.79, 2,    28.53, 2,     0.03, 2,     2.22, 2, -999.000, 9, -999.000, 9, -999.000, 9, -999.000, 9,   -999.0, 9,   -999.0, 9, -999.0000,   -999.00,   -999.0, 9,   -999.0,  -999.00, 9,   -999.0,   3.7682, 26.2708,   3.7712, 2, 9, 0.24, 0.11, 0.01, 0.016,  -999.00, 9, -999.00, -999.00, 9, -999.00
49NZ20071008, P14N, 4, 1, 34, X12016, 2, 20071027, 1119, 57.4948, -175.2553, 3464,    101.5, 2,   3.4053, 2,  33.1741, 2,  33.1759, 2,    247.5, 2,    248.6, 2,    57.33, 2,    30.01, 2,     0.02, 2,     2.30, 2, -999.000, 9, -999.000, 9, -999.000, 9, -999.000, 9,   -999.0, 9,   -999.0, 9, -999.0000,   -999.00,   -999.0, 9,   -999.0,  -999.00, 9,   -999.0,   3.3990, 26.3916,   3.4052, 2, 9, 0.25, 0.12, 0.01, 0.016,  -999.00, 1, -999.00, -999.00, 9, -999.00
49NZ20071008, P14N, 4, 1, 33, X12033, 2, 20071027, 1119, 57.4948, -175.2553, 3464,    150.5, 2,   2.9462, 2,  33.2061, 2,  33.2067, 2,    270.0, 2,    277.7, 2,    56.61, 2,    29.90, 2,     0.02, 2,     2.30, 2, -999.000, 9, -999.000, 9, -999.000, 9, -999.000, 9,   -999.0, 9,   -999.0, 9, -999.0000,   -999.00,   -999.0, 9,   -999.0,  -999.00, 9,   -999.0,   2.9374, 26.4586,   2.9462, 2, 9, 0.24, 0.12, 0.01, 0.016,  -999.00, 9, -999.00, -999.00, 9, -999.00
49NZ20071008, P14N, 4, 1, 32, X12038, 2, 20071027, 1119, 57.4948, -175.2553, 3464,    199.0, 2,   3.2517, 2,  33.3075, 2,  33.3102, 2,    227.1, 2,    234.7, 2,    62.80, 2,    31.84, 2,     0.02, 2,     2.41, 2, -999.000, 9, -999.000, 9, -999.000, 9, -999.000, 9,   -999.0, 9,   -999.0, 9, -999.0000,   -999.00,   -999.0, 9,   -999.0,  -999.00, 9,   -999.0,   3.2395, 26.5127,   3.2504, 2, 9, 0.26, 0.12, 0.01, 0.016,  -999.00, 1, -999.00, -999.00, 9, -999.00
49NZ20071008, P14N, 4, 1, 31, X12003, 2, 20071027, 1119, 57.4948, -175.2553, 3464,    249.0, 2,   3.7840, 2,  33.4960, 2,  33.4995, 6,    162.7, 2,    159.8, 2,    75.13, 2,    35.27, 2,     0.02, 2,     2.60, 2, -999.000, 9, -999.000, 9, -999.000, 9, -999.000, 9,   -999.0, 9,   -999.0, 9, -999.0000,   -999.00,   -999.0, 9,   -999.0,  -999.00, 9,   -999.0,   3.7674, 26.6129,   3.7838, 2, 9, 0.28, 0.13, 0.01, 0.016,  -999.00, 9, -999.00, -999.00, 9, -999.00
49NZ20071008, P14N, 4, 1, 30, X12008, 2, 20071027, 1119, 57.4948, -175.2553, 3464,    301.5, 2,   3.9127, 2,  33.6454, 2,  33.6443, 2,    123.6, 2,    119.4, 2,    83.68, 2,    37.85, 2,     0.01, 2,     2.77, 2, -999.000, 9, -999.000, 9, -999.000, 9, -999.000, 9,   -999.0, 9,   -999.0, 9, -999.0000,   -999.00,   -999.0, 9,   -999.0,  -999.00, 9,   -999.0,   3.8921, 26.7195,   3.9134, 2, 9, 0.30, 0.14, 0.01, 0.017,  -999.00, 9, -999.00, -999.00, 9, -999.00
49NZ20071008, P14N, 4, 1, 29, X12035, 2, 20071027, 1119, 57.4948, -175.2553, 3464,    400.4, 2,   3.8650, 2,  33.8651, 2,  33.8640, 2,     63.4, 2,     60.4, 2,    96.77, 2,    42.13, 2,     0.01, 2,     3.01, 2, -999.000, 9, -999.000, 9, -999.000, 9, -999.000, 9,   -999.0, 9,   -999.0, 9, -999.0000,   -999.00,   -999.0, 9,   -999.0,  -999.00, 9,   -999.0,   3.8374, 26.8998,   3.8656, 2, 9, 0.33, 0.15, 0.01, 0.017,  -999.00, 1, -999.00, -999.00, 9, -999.00
49NZ20071008, P14N, 4, 1, 28, X12034, 2, 20071027, 1119, 57.4948, -175.2553, 3464,    502.3, 2,   3.6608, 2,  34.0120, 2,  34.0101, 6,     37.1, 2,     39.6, 2,   109.92, 2,    43.18, 2,     0.02, 2,     3.08, 2, -999.000, 9, -999.000, 9, -999.000, 9, -999.000, 9,   -999.0, 9,   -999.0, 9, -999.0000,   -999.00,   -999.0, 9,   -999.0,  -999.00, 9,   -999.0,   3.6265, 27.0375,   3.6608, 2, 9, 0.36, 0.15, 0.01, 0.018,  -999.00, 9, -999.00, -999.00, 9, -999.00
49NZ20071008, P14N, 4, 1, 27, X12049, 2, 20071027, 1119, 57.4948, -175.2553, 3464,    599.3, 2,   3.4845, 2,  34.1223, 2,  34.1239, 2,     24.9, 2,     24.7, 2,   120.08, 2,    44.04, 2,     0.01, 2,     3.14, 2, -999.000, 9, -999.000, 9, -999.000, 9, -999.000, 9,   -999.0, 9,   -999.0, 9, -999.0000,   -999.00,   -999.0, 9,   -999.0,  -999.00, 9,   -999.0,   3.4438, 27.1431,   3.4845, 2, 9, 0.38, 0.16, 0.01, 0.018,  -999.00, 1, -999.00, -999.00, 9, -999.00
49NZ20071008, P14N, 4, 1, 26, X12032, 2, 20071027, 1119, 57.4948, -175.2553, 3464,    700.4, 2,   3.3225, 2,  34.1942, 2,  34.1950, 2,     20.1, 2,     19.9, 2,   127.75, 2,    44.25, 2,     0.01, 2,     3.16, 2, -999.000, 9, -999.000, 9, -999.000, 9, -999.000, 9,   -999.0, 9,   -999.0, 9, -999.0000,   -999.00,   -999.0, 9,   -999.0,  -999.00, 9,   -999.0,   3.2752, 27.2165,   3.3226, 2, 9, 0.40, 0.16, 0.01, 0.018,  -999.00, 9, -999.00, -999.00, 9, -999.00
49NZ20071008, P14N, 4, 1, 25, X12043, 2, 20071027, 1119, 57.4948, -175.2553, 3464,    799.6, 2,   3.1447, 2,  34.2537, 2,  34.2551, 2,     18.2, 2,     17.6, 2,   135.65, 2,    44.38, 2,     0.01, 2,     3.17, 2, -999.000, 9, -999.000, 9, -999.000, 9, -999.000, 9,   -999.0, 9,   -999.0, 9, -999.0000,   -999.00,   -999.0, 9,   -999.0,  -999.00, 9,   -999.0,   3.0911, 27.2810,   3.1447, 2, 9, 0.42, 0.16, 0.01, 0.018,  -999.00, 1, -999.00, -999.00, 9, -999.00
49NZ20071008, P14N, 4, 1, 24, X12030, 2, 20071027, 1119, 57.4948, -175.2553, 3464,    900.4, 2,   2.9880, 2,  34.3028, 2,  34.3035, 2,     17.5, 2,     17.3, 2,   142.32, 2,    44.00, 2,     0.01, 2,     3.16, 2, -999.000, 9, -999.000, 9, -999.000, 9, -999.000, 9,   -999.0, 9,   -999.0, 9, -999.0000,   -999.00,   -999.0, 9,   -999.0,  -999.00, 9,   -999.0,   2.9280, 27.3350,   2.9877, 2, 9, 0.43, 0.16, 0.01, 0.018,  -999.00, 9, -999.00, -999.00, 9, -999.00
49NZ20071008, P14N, 4, 1, 23, X12027, 2, 20071027, 1119, 57.4948, -175.2553, 3464,   1000.5, 2,   2.8279, 2,  34.3498, 2,  34.3504, 6,     17.7, 2,     17.5, 2,   149.23, 2,    44.22, 2,     0.01, 2,     3.17, 2, -999.000, 9, -999.000, 9, -999.000, 9, -999.000, 9,   -999.0, 9,   -999.0, 9, -999.0000,   -999.00,   -999.0, 9,   -999.0,  -999.00, 9,   -999.0,   2.7616, 27.3874,   2.8278, 2, 9, 0.45, 0.16, 0.01, 0.018,  -999.00, 1, -999.00, -999.00, 9, -999.00
49NZ20071008, P14N, 4, 1, 22, X12028, 2, 20071027, 1119, 57.4948, -175.2553, 3464,   1201.1, 2,   2.5459, 2,  34.4244, 2,  34.4239, 2,     20.5, 2,     20.9, 2,   162.29, 2,    43.87, 2,     0.01, 2,     3.16, 2, -999.000, 9, -999.000, 9, -999.000, 9, -999.000, 9,   -999.0, 9,   -999.0, 9, -999.0000,   -999.00,   -999.0, 9,   -999.0,  -999.00, 9,   -999.0,   2.4669, 27.4725,   2.5460, 2, 9, 0.48, 0.16, 0.01, 0.018,  -999.00, 9, -999.00, -999.00, 9, -999.00
49NZ20071008, P14N, 4, 1, 21, X12009, 2, 20071027, 1119, 57.4948, -175.2553, 3464,   1400.1, 2,   2.3350, 2,  34.4761, 2,  34.4764, 2,     27.0, 2,     26.8, 2,   173.21, 2,    43.28, 2,     0.01, 2,     3.14, 2, -999.000, 9, -999.000, 9, -999.000, 9, -999.000, 9,   -999.0, 9,   -999.0, 9, -999.0000,   -999.00,   -999.0, 9,   -999.0,  -999.00, 9,   -999.0,   2.2429, 27.5324,   2.3349, 2, 9, 0.50, 0.15, 0.01, 0.018,  -999.00, 9, -999.00, -999.00, 9, -999.00
49NZ20071008, P14N, 4, 1, 20, X12026, 2, 20071027, 1119, 57.4948, -175.2553, 3464,   1601.6, 2,   2.1332, 2,  34.5238, 2,  34.5238, 2,     36.0, 2,     36.0, 2,   184.21, 2,    42.50, 2,     0.01, 2,     3.12, 2, -999.000, 9, -999.000, 9, -999.000, 9, -999.000, 9,   -999.0, 9,   -999.0, 9, -999.0000,   -999.00,   -999.0, 9,   -999.0,  -999.00, 9,   -999.0,   2.0276, 27.5880,   2.1334, 2, 9, 0.52, 0.15, 0.01, 0.018,  -999.00, 9, -999.00, -999.00, 9, -999.00
49NZ20071008, P14N, 4, 1, 19, X12025, 2, 20071027, 1119, 57.4948, -175.2553, 3464,   1800.6, 2,   1.9759, 2,  34.5607, 2,  34.5611, 6,     44.4, 2,     45.3, 2,   193.05, 2,    41.86, 2,     0.01, 2,     3.10, 2, -999.000, 9, -999.000, 9, -999.000, 9, -999.000, 9,   -999.0, 9,   -999.0, 9, -999.0000,   -999.00,   -999.0, 9,   -999.0,  -999.00, 9,   -999.0,   1.8564, 27.6309,   1.9761, 2, 9, 0.54, 0.15, 0.01, 0.018,  -999.00, 9, -999.00, -999.00, 9, -999.00
49NZ20071008, P14N, 4, 1, 18, X12024, 2, 20071027, 1119, 57.4948, -175.2553, 3464,   1999.7, 2,   1.8667, 2,  34.5870, 2,  34.5867, 2,     52.1, 2,     53.1, 2,   198.73, 2,    41.16, 2,     0.01, 2,     3.07, 2, -999.000, 9, -999.000, 9, -999.000, 9, -999.000, 9,   -999.0, 9,   -999.0, 9, -999.0000,   -999.00,   -999.0, 9,   -999.0,  -999.00, 9,   -999.0,   1.7325, 27.6615,   1.8667, 2, 9, 0.56, 0.15, 0.01, 0.018,  -999.00, 1, -999.00, -999.00, 9, -999.00
49NZ20071008, P14N, 4, 1, 17, X12023, 2, 20071027, 1119, 57.4948, -175.2553, 3464,   2200.7, 2,   1.7882, 2,  34.6057, 2,  34.6062, 2,     60.6, 2,     61.1, 2,   204.54, 2,    40.51, 2,     0.01, 2,     3.04, 2, -999.000, 9, -999.000, 9, -999.000, 9, -999.000, 9,   -999.0, 9,   -999.0, 9, -999.0000,   -999.00,   -999.0, 9,   -999.0,  -999.00, 9,   -999.0,   1.6383, 27.6835,   1.7881, 2, 9, 0.57, 0.15, 0.01, 0.018,  -999.00, 9, -999.00, -999.00, 9, -999.00
49NZ20071008, P14N, 4, 1, 16, X12022, 2, 20071027, 1119, 57.4948, -175.2553, 3464,   2399.7, 2,   1.7225, 2,  34.6217, 2,  34.6219, 2,     67.8, 2,     68.5, 2,   209.20, 2,    39.93, 2,     0.01, 2,     3.01, 2, -999.000, 9, -999.000, 9, -999.000, 9, -999.000, 9,   -999.0, 9,   -999.0, 9, -999.0000,   -999.00,   -999.0, 9,   -999.0,  -999.00, 9,   -999.0,   1.5564, 27.7024,   1.7226, 2, 9, 0.58, 0.14, 0.01, 0.017,  -999.00, 9, -999.00, -999.00, 9, -999.00
49NZ20071008, P14N, 4, 1, 15, X12021, 2, 20071027, 1119, 57.4948, -175.2553, 3464,   2600.3, 2,   1.6690, 2,  34.6353, 2,  34.6354, 6,     74.7, 2,     75.3, 2,   213.20, 2,    39.42, 2,     0.01, 2,     2.99, 2, -999.000, 9, -999.000, 9, -999.000, 9, -999.000, 9,   -999.0, 9,   -999.0, 9, -999.0000,   -999.00,   -999.0, 9,   -999.0,  -999.00, 9,   -999.0,   1.4860, 27.7185,   1.6691, 2, 9, 0.59, 0.14, 0.01, 0.017,  -999.00, 9, -999.00, -999.00, 9, -999.00
49NZ20071008, P14N, 4, 1, 14, X12020, 2, 20071027, 1119, 57.4948, -175.2553, 3464,   2800.8, 2,   1.6280, 2,  34.6462, 2,  34.6466, 2,     81.2, 2,     81.3, 2,   217.83, 2,    38.92, 2,     0.01, 2,     2.97, 2, -999.000, 9, -999.000, 9, -999.000, 9, -999.000, 9,   -999.0, 9,   -999.0, 9, -999.0000,   -999.00,   -999.0, 9,   -999.0,  -999.00, 9,   -999.0,   1.4274, 27.7315,   1.6280, 2, 9, 0.60, 0.14, 0.01, 0.017,  -999.00, 9, -999.00, -999.00, 9, -999.00
49NZ20071008, P14N, 4, 1, 13, X12019, 2, 20071027, 1119, 57.4948, -175.2553, 3464,   2999.8, 2,   1.5977, 2,  34.6551, 2,  34.6559, 2,     86.4, 2,     86.6, 2,   222.41, 2,    38.43, 2,     0.01, 2,     2.95, 2, -999.000, 9, -999.000, 9, -999.000, 9, -999.000, 9,   -999.0, 9,   -999.0, 9, -999.0000,   -999.00,   -999.0, 9,   -999.0,  -999.00, 9,   -999.0,   1.3789, 27.7421,   1.5976, 2, 9, 0.61, 0.14, 0.01, 0.017,  -999.00, 1, -999.00, -999.00, 9, -999.00
49NZ20071008, P14N, 4, 1, 12, X12040, 2, 20071027, 1119, 57.4948, -175.2553, 3464,   3249.5, 2,   1.5868, 2,  34.6616, 2,  34.6622, 2,     90.9, 2,     90.7, 2,   224.06, 2,    38.12, 2,     0.01, 2,     2.93, 2, -999.000, 9, -999.000, 9, -999.000, 9, -999.000, 9,   -999.0, 9,   -999.0, 9, -999.0000,   -999.00,   -999.0, 9,   -999.0,  -999.00, 9,   -999.0,   1.3439, 27.7498,   1.5867, 2, 9, 0.61, 0.14, 0.01, 0.017,  -999.00, 9, -999.00, -999.00, 9, -999.00
49NZ20071008, P14N, 4, 1, 11, X12047, 2, 20071027, 1119, 57.4948, -175.2553, 3464,   3509.9, 2,   1.5821, 2,  34.6679, 2, -999.0000, 9,     93.5, 2,   -999.0, 9,  -999.00, 9,  -999.00, 9,  -999.00, 9,  -999.00, 9, -999.000, 9, -999.000, 9, -999.000, 9, -999.000, 9,   -999.0, 9,   -999.0, 9, -999.0000,   -999.00,   -999.0, 9,   -999.0,  -999.00, 9,   -999.0,   1.3130, 27.7571,   1.5819, 2, 9, -999.00, -999.00, -999.00, -999.000,  -999.00, 9, -999.00, -999.00, 9, -999.00
49NZ20071008, P14N, 4, 1, 10, X12017, 2, 20071027, 1119, 57.4948, -175.2553, 3464,   1999.8, 2,   1.8666, 2,  34.5871, 2, -999.0000, 9,     52.1, 2,   -999.0, 9,  -999.00, 9,  -999.00, 9,  -999.00, 9,  -999.00, 9, -999.000, 9, -999.000, 9, -999.000, 9, -999.000, 9,   -999.0, 9,   -999.0, 9, -999.0000,   -999.00,   -999.0, 9,   -999.0,  -999.00, 9,   -999.0,   1.7324, 27.6615,   1.8667, 2, 9, -999.00, -999.00, -999.00, -999.000,  -999.00, 1, -999.00, -999.00, 9, -999.00
49NZ20071008, P14N, 4, 1, 9, X12015, 2, 20071027, 1119, 57.4948, -175.2553, 3464,   2999.6, 2,   1.5979, 2,  34.6551, 2, -999.0000, 9,     86.4, 2,   -999.0, 9,  -999.00, 9,  -999.00, 9,  -999.00, 9,  -999.00, 9, -999.000, 9, -999.000, 9, -999.000, 9, -999.000, 9,   -999.0, 9,   -999.0, 9, -999.0000,   -999.00,   -999.0, 9,   -999.0,  -999.00, 9,   -999.0,   1.3791, 27.7421,   1.5979, 2, 9, -999.00, -999.00, -999.00, -999.000,  -999.00, 1, -999.00, -999.00, 9, -999.00
49NZ20071008, P14N, 4, 1, 8, X12046, 2, 20071027, 1119, 57.4948, -175.2553, 3464,   3509.7, 2,   1.5822, 2,  34.6678, 2, -999.0000, 9,     93.6, 2,   -999.0, 9,  -999.00, 9,  -999.00, 9,  -999.00, 9,  -999.00, 9, -999.000, 9, -999.000, 9, -999.000, 9, -999.000, 9,   -999.0, 9,   -999.0, 9, -999.0000,   -999.00,   -999.0, 9,   -999.0,  -999.00, 9,   -999.0,   1.3131, 27.7570,   1.5819, 2, 9, -999.00, -999.00, -999.00, -999.000,  -999.00, 1, -999.00, -999.00, 9, -999.00
49NZ20071008, P14N, 4, 1, 7, X12044, 2, 20071027, 1119, 57.4948, -175.2553, 3464,   1999.6, 2,   1.8672, 2,  34.5870, 2, -999.0000, 9,     52.1, 2,   -999.0, 9,  -999.00, 9,  -999.00, 9,  -999.00, 9,  -999.00, 9, -999.000, 9, -999.000, 9, -999.000, 9, -999.000, 9,   -999.0, 9,   -999.0, 9, -999.0000,   -999.00,   -999.0, 9,   -999.0,  -999.00, 9,   -999.0,   1.7330, 27.6614,   1.8673, 2, 9, -999.00, -999.00, -999.00, -999.000,  -999.00, 1, -999.00, -999.00, 9, -999.00
49NZ20071008, P14N, 4, 1, 6, X12048, 2, 20071027, 1119, 57.4948, -175.2553, 3464,   3000.1, 2,   1.5978, 2,  34.6552, 2, -999.0000, 9,     86.4, 2,   -999.0, 9,  -999.00, 9,  -999.00, 9,  -999.00, 9,  -999.00, 9, -999.000, 9, -999.000, 9, -999.000, 9, -999.000, 9,   -999.0, 9,   -999.0, 9, -999.0000,   -999.00,   -999.0, 9,   -999.0,  -999.00, 9,   -999.0,   1.3789, 27.7422,   1.5977, 2, 9, -999.00, -999.00, -999.00, -999.000,  -999.00, 1, -999.00, -999.00, 9, -999.00
49NZ20071008, P14N, 4, 1, 5, X12014, 2, 20071027, 1119, 57.4948, -175.2553, 3464,   3509.8, 2,   1.5821, 2,  34.6679, 2, -999.0000, 9,     93.5, 2,   -999.0, 9,  -999.00, 9,  -999.00, 9,  -999.00, 9,  -999.00, 9, -999.000, 9, -999.000, 9, -999.000, 9, -999.000, 9,   -999.0, 9,   -999.0, 9, -999.0000,   -999.00,   -999.0, 9,   -999.0,  -999.00, 9,   -999.0,   1.3130, 27.7571,   1.5818, 2, 9, -999.00, -999.00, -999.00, -999.000,  -999.00, 1, -999.00, -999.00, 9, -999.00
49NZ20071008, P14N, 4, 1, 4, X12006, 2, 20071027, 1119, 57.4948, -175.2553, 3464,   1999.4, 2,   1.8679, 2,  34.5868, 2, -999.0000, 9,     52.1, 2,   -999.0, 9,  -999.00, 9,  -999.00, 9,  -999.00, 9,  -999.00, 9, -999.000, 9, -999.000, 9, -999.000, 9, -999.000, 9,   -999.0, 9,   -999.0, 9, -999.0000,   -999.00,   -999.0, 9,   -999.0,  -999.00, 9,   -999.0,   1.7337, 27.6612,   1.8680, 2, 9, -999.00, -999.00, -999.00, -999.000,  -999.00, 1, -999.00, -999.00, 9, -999.00
49NZ20071008, P14N, 4, 1, 3, X12013, 2, 20071027, 1119, 57.4948, -175.2553, 3464,   3000.4, 2,   1.5977, 2,  34.6551, 2, -999.0000, 9,     86.4, 2,   -999.0, 9,  -999.00, 9,  -999.00, 9,  -999.00, 9,  -999.00, 9, -999.000, 9, -999.000, 9, -999.000, 9, -999.000, 9,   -999.0, 9,   -999.0, 9, -999.0000,   -999.00,   -999.0, 9,   -999.0,  -999.00, 9,   -999.0,   1.3788, 27.7421,   1.5976, 2, 9, -999.00, -999.00, -999.00, -999.000,  -999.00, 1, -999.00, -999.00, 9, -999.00
49NZ20071008, P14N, 4, 1, 2, X12002, 2, 20071027, 1119, 57.4948, -175.2553, 3464,   3509.9, 2,   1.5820, 2,  34.6679, 2, -999.0000, 9,     93.5, 2,   -999.0, 9,  -999.00, 9,  -999.00, 9,  -999.00, 9,  -999.00, 9, -999.000, 9, -999.000, 9, -999.000, 9, -999.000, 9,   -999.0, 9,   -999.0, 9, -999.0000,   -999.00,   -999.0, 9,   -999.0,  -999.00, 9,   -999.0,   1.3129, 27.7571,   1.5818, 2, 9, -999.00, -999.00, -999.00, -999.000,  -999.00, 1, -999.00, -999.00, 9, -999.00
49NZ20071008, P14N, 4, 1, 1, X12001, 2, 20071027, 1119, 57.4948, -175.2553, 3464,   3509.8, 2,   1.5821, 2,  34.6678, 2,  34.6684, 6,     93.5, 2,     93.4, 2,   235.38, 2,    37.86, 2,     0.01, 2,     2.93, 2, -999.000, 9, -999.000, 9, -999.000, 9, -999.000, 9,   -999.0, 9,   -999.0, 9, -999.0000,   -999.00,   -999.0, 9,   -999.0,  -999.00, 9,   -999.0,   1.3130, 27.7570,   1.5819, 2, 9, 0.64, 0.14, 0.01, 0.017,  -999.00, 1, -999.00, -999.00, 9, -999.00