BOTTLE,20221005CCHSIOAMB
EXPOCODE,SECT_ID,STNNBR,CASTNO,SAMPNO,BTLNBR,BTLNBR_FLAG_W,DATE,TIME,LATITUDE,LONGITUDE,DEPTH,CTDPRS,CTDPRS_FLAG_W,CTDTMP,CTDTMP_FLAG_W,CTDSAL,CTDSAL_FLAG_W,SALNTY,SALNTY_FLAG_W,CTDOXY,CTDOXY_FLAG_W,OXYGEN,OXYGEN_FLAG_W,SILCAT,SILCAT_FLAG_W,NITRAT,NITRAT_FLAG_W,NITRIT,NITRIT_FLAG_W,PHSPHT,PHSPHT_FLAG_W,CFC-11,CFC-11_FLAG_W,CFC-12,CFC-12_FLAG_W,CFC113,CFC113_FLAG_W,CCL4,CCL4_FLAG_W,TCARBN,TCARBN_FLAG_W,ALKALI,ALKALI_FLAG_W,PH_TOT,PH_TMP,DELC14,DELC14_FLAG_W,C14ERR,DELC13,DELC13_FLAG_W,C13ERR,THETA,SIG0,SBE35,SBE35_FLAG_W,PH_TOT_FLAG_W,SILUNC,NRAUNC,NRIUNC,PHPUNC,CS-137,CS-137_FLAG_W,CS137ER,PLUTO,PLUTO_FLAG_W,PLUTOER
,,,,,,,,,,,METERS,DBAR,,ITS-90,,PSS-78,,PSS-78,,UMOL/KG,,UMOL/KG,,UMOL/KG,,UMOL/KG,,UMOL/KG,,UMOL/KG,,PMOL/KG,,PMOL/KG,,PMOL/KG,,PMOL/KG,,UMOL/KG,,UMOL/KG,,,DEG C,/MILLE,,/MILLE,/MILLE,,/MILLE,DEG C,KG/M^3,ITS-90,,,UMOL/KG,UMOL/KG,UMOL/KG,UMOL/KG,DM/.1MG,,BQ/M^3,MBQ/M^3,,MBQ/M^3
49NZ20071008, P14N, 16, 1, 36, X12042, 2, 20071023, 2239, 52.0690, -179.3823, 2979,     10.4, 2,   5.9213, 2,  33.2103, 2,  33.2127, 2,    282.0, 2,    278.0, 2,    46.16, 2,    24.70, 2,     0.20, 2,     2.00, 2,    3.842, 2,    2.244, 2,    0.315, 2, -999.000, 9,   -999.0, 9,   -999.0, 9, -999.0000,   -999.00,   -999.0, 9,   -999.0,  -999.00, 9,   -999.0,   5.9205, 26.1484,   5.9213, 2, 9, 0.22, 0.10, 0.01, 0.015,  -999.00, 9, -999.00, -999.00, 9, -999.00
49NZ20071008, P14N, 16, 1, 35, X12041, 2, 20071023, 2239, 52.0690, -179.3823, 2979,     50.8, 2,   5.8182, 2,  33.2374, 2,  33.2382, 2,    263.4, 2,    267.6, 2,    48.26, 2,    25.57, 2,     0.18, 2,     2.06, 2, -999.000, 9, -999.000, 9, -999.000, 9, -999.000, 9,   -999.0, 9,   -999.0, 9, -999.0000,   -999.00,   -999.0, 9,   -999.0,  -999.00, 9,   -999.0,   5.8141, 26.1828,   5.8182, 2, 9, 0.23, 0.10, 0.01, 0.015,  -999.00, 9, -999.00, -999.00, 9, -999.00
49NZ20071008, P14N, 16, 1, 34, X12016, 2, 20071023, 2239, 52.0690, -179.3823, 2979,     99.5, 2,   5.3960, 2,  33.3578, 2,  33.3600, 2,    218.9, 2,    230.5, 2,    57.84, 2,    28.92, 2,     0.18, 2,     2.25, 2,    3.455, 2,    1.974, 2,    0.281, 2, -999.000, 9,   -999.0, 9,   -999.0, 9, -999.0000,   -999.00,   -999.0, 9,   -999.0,  -999.00, 9,   -999.0,   5.3882, 26.3288,   5.3953, 2, 9, 0.25, 0.11, 0.01, 0.016,  -999.00, 9, -999.00, -999.00, 9, -999.00
49NZ20071008, P14N, 16, 1, 33, X12033, 2, 20071023, 2239, 52.0690, -179.3823, 2979,    150.8, 2,   4.8881, 2,  33.4608, 2,  33.4624, 2,    170.2, 2,    181.6, 2,    65.19, 2,    31.98, 2,     0.03, 2,     2.41, 2, -999.000, 9, -999.000, 9, -999.000, 9, -999.000, 9,   -999.0, 9,   -999.0, 9, -999.0000,   -999.00,   -999.0, 9,   -999.0,  -999.00, 9,   -999.0,   4.8769, 26.4688,   4.8878, 2, 9, 0.26, 0.12, 0.01, 0.016,  -999.00, 9, -999.00, -999.00, 9, -999.00
49NZ20071008, P14N, 16, 1, 32, X12038, 2, 20071023, 2239, 52.0690, -179.3823, 2979,    198.9, 2,   4.4622, 2,  33.6372, 2,  33.6377, 2,    141.8, 2,    137.2, 2,    77.12, 2,    35.31, 2,     0.02, 2,     2.60, 2,    2.617, 2,    1.402, 2,    0.184, 2, -999.000, 9,   -999.0, 9,   -999.0, 9, -999.0000,   -999.00,   -999.0, 9,   -999.0,  -999.00, 9,   -999.0,   4.4479, 26.6555,   4.4618, 2, 9, 0.29, 0.13, 0.01, 0.016,  -999.00, 9, -999.00, -999.00, 9, -999.00
49NZ20071008, P14N, 16, 1, 31, X12003, 2, 20071023, 2239, 52.0690, -179.3823, 2979,    249.7, 2,   4.3474, 2,  33.6806, 2,  33.6806, 6,    126.9, 2,    126.0, 2,    80.12, 2,    36.30, 2,     0.01, 2,     2.66, 2, -999.000, 9, -999.000, 9, -999.000, 9, -999.000, 9,   -999.0, 9,   -999.0, 9, -999.0000,   -999.00,   -999.0, 9,   -999.0,  -999.00, 9,   -999.0,   4.3296, 26.7025,   4.3469, 2, 9, 0.30, 0.13, 0.01, 0.017,  -999.00, 9, -999.00, -999.00, 9, -999.00
49NZ20071008, P14N, 16, 1, 30, X12008, 2, 20071023, 2239, 52.0690, -179.3823, 2979,    299.1, 2,   4.1931, 2,  33.7516, 2,  33.7501, 2,    110.0, 2,    109.8, 2,    85.34, 2,    37.58, 2,     0.01, 2,     2.74, 2,    2.272, 2,    1.185, 2,    0.181, 2, -999.000, 9,   -999.0, 9,   -999.0, 9, -999.0000,   -999.00,   -999.0, 9,   -999.0,  -999.00, 9,   -999.0,   4.1720, 26.7755,   4.1929, 2, 9, 0.31, 0.14, 0.01, 0.017,  -999.00, 9, -999.00, -999.00, 9, -999.00
49NZ20071008, P14N, 16, 1, 29, X12035, 2, 20071023, 2239, 52.0690, -179.3823, 2979,    399.5, 2,   3.8317, 2,  33.9179, 2,  33.9178, 2,     74.9, 2,     74.9, 2,    99.63, 2,    40.34, 2,     0.01, 2,     2.91, 2, -999.000, 9, -999.000, 9, -999.000, 9, -999.000, 9,   -999.0, 9,   -999.0, 9, -999.0000,   -999.00,   -999.0, 9,   -999.0,  -999.00, 9,   -999.0,   3.8042, 26.9451,   3.8316, 2, 9, 0.34, 0.15, 0.01, 0.017,  -999.00, 9, -999.00, -999.00, 9, -999.00
49NZ20071008, P14N, 16, 1, 28, X12034, 2, 20071023, 2239, 52.0690, -179.3823, 2979,    499.0, 2,   3.6204, 2,  34.0288, 2,  34.0305, 6,     50.6, 2,     54.8, 2,   110.08, 2,    41.75, 2,     0.01, 2,     3.00, 2,    1.278, 2,    0.633, 2,    0.118, 2, -999.000, 9,   -999.0, 9,   -999.0, 9, -999.0000,   -999.00,   -999.0, 9,   -999.0,  -999.00, 9,   -999.0,   3.5864, 27.0548,   3.6205, 2, 9, 0.36, 0.15, 0.01, 0.017,  -999.00, 9, -999.00, -999.00, 9, -999.00
49NZ20071008, P14N, 16, 1, 27, X12049, 2, 20071023, 2239, 52.0690, -179.3823, 2979,    600.6, 2,   3.4401, 2,  34.1242, 2,  34.1248, 2,     38.1, 2,     38.6, 2,   118.90, 2,    42.96, 2,     0.01, 2,     3.08, 2, -999.000, 9, -999.000, 9, -999.000, 9, -999.000, 9,   -999.0, 9,   -999.0, 9, -999.0000,   -999.00,   -999.0, 9,   -999.0,  -999.00, 9,   -999.0,   3.3995, 27.1489,   3.4402, 2, 9, 0.38, 0.15, 0.01, 0.018,  -999.00, 9, -999.00, -999.00, 9, -999.00
49NZ20071008, P14N, 16, 1, 26, X12032, 2, 20071023, 2239, 52.0690, -179.3823, 2979,    699.5, 2,   3.2789, 2,  34.2109, 2,  34.2104, 2,     23.3, 2,     24.6, 2,   127.54, 2,    43.91, 2,     0.00, 2,     3.14, 2,    0.587, 2,    0.277, 2,    0.036, 2, -999.000, 9,   -999.0, 9,   -999.0, 9, -999.0000,   -999.00,   -999.0, 9,   -999.0,  -999.00, 9,   -999.0,   3.2319, 27.2338,   3.2788, 2, 9, 0.40, 0.16, 0.01, 0.018,  -999.00, 9, -999.00, -999.00, 9, -999.00
49NZ20071008, P14N, 16, 1, 25, X12043, 2, 20071023, 2239, 52.0690, -179.3823, 2979,    799.2, 2,   3.1534, 2,  34.2613, 2,  34.2629, 2,     26.3, 2,     20.2, 2,   133.77, 2,    44.25, 2,     0.01, 2,     3.15, 2, -999.000, 9, -999.000, 9, -999.000, 9, -999.000, 9,   -999.0, 9,   -999.0, 9, -999.0000,   -999.00,   -999.0, 9,   -999.0,  -999.00, 9,   -999.0,   3.0998, 27.2862,   3.1535, 2, 9, 0.41, 0.16, 0.01, 0.018,  -999.00, 9, -999.00, -999.00, 9, -999.00
49NZ20071008, P14N, 16, 1, 24, X12030, 2, 20071023, 2239, 52.0690, -179.3823, 2979,    900.4, 2,   2.9864, 2,  34.3061, 2,  34.3064, 2,     22.3, 2,     22.9, 2,   140.03, 2,    43.87, 2,     0.00, 2,     3.14, 2,    0.347, 2,    0.166, 2,    0.014, 4, -999.000, 9,   -999.0, 9,   -999.0, 9, -999.0000,   -999.00,   -999.0, 9,   -999.0,  -999.00, 9,   -999.0,   2.9264, 27.3378,   2.9866, 2, 9, 0.43, 0.16, 0.01, 0.018,  -999.00, 9, -999.00, -999.00, 9, -999.00
49NZ20071008, P14N, 16, 1, 23, X12027, 2, 20071023, 2239, 52.0690, -179.3823, 2979,    999.6, 2,   2.8685, 2,  34.3324, 2,  34.3336, 6,     28.6, 2,     28.8, 2,   143.90, 2,    43.47, 2,     0.00, 2,     3.12, 2,    0.347, 2,    0.168, 2,    0.011, 2, -999.000, 9,   -999.0, 9,   -999.0, 9, -999.0000,   -999.00,   -999.0, 9,   -999.0,  -999.00, 9,   -999.0,   2.8020, 27.3699,   2.8679, 2, 9, 0.44, 0.15, 0.01, 0.018,  -999.00, 9, -999.00, -999.00, 9, -999.00
49NZ20071008, P14N, 16, 1, 22, X12028, 2, 20071023, 2239, 52.0690, -179.3823, 2979,   1201.6, 2,   2.6034, 2,  34.4044, 2,  34.4063, 2,     31.1, 2,     30.8, 2,   156.79, 2,    43.40, 2,     0.00, 2,     3.12, 2,    0.210, 2,    0.102, 2,    0.010, 2, -999.000, 9,   -999.0, 9,   -999.0, 9, -999.0000,   -999.00,   -999.0, 9,   -999.0,  -999.00, 9,   -999.0,   2.5238, 27.4516,   2.6033, 2, 9, 0.46, 0.15, 0.01, 0.018,  -999.00, 9, -999.00, -999.00, 9, -999.00
49NZ20071008, P14N, 16, 1, 21, X12009, 2, 20071023, 2239, 52.0690, -179.3823, 2979,   1400.0, 2,   2.3753, 2,  34.4657, 2,  34.4664, 2,     32.6, 2,     32.9, 2,   168.86, 2,    43.05, 2,     0.00, 2,     3.12, 2,    0.109, 2,    0.050, 2,    0.000, 2, -999.000, 9,   -999.0, 9,   -999.0, 9, -999.0000,   -999.00,   -999.0, 9,   -999.0,  -999.00, 9,   -999.0,   2.2827, 27.5208,   2.3755, 2, 9, 0.49, 0.15, 0.01, 0.018,  -999.00, 9, -999.00, -999.00, 9, -999.00
49NZ20071008, P14N, 16, 1, 20, X12026, 2, 20071023, 2239, 52.0690, -179.3823, 2979,   1600.0, 2,   2.1304, 2,  34.5257, 2,  34.5254, 6,     38.9, 2,     39.1, 2,   181.00, 2,    42.61, 2,     0.00, 2,     3.11, 2,    0.037, 2,    0.017, 2,    0.008, 2, -999.000, 9,   -999.0, 9,   -999.0, 9, -999.0000,   -999.00,   -999.0, 9,   -999.0,  -999.00, 9,   -999.0,   2.0250, 27.5897,   2.1297, 2, 9, 0.52, 0.15, 0.01, 0.018,  -999.00, 9, -999.00, -999.00, 9, -999.00
49NZ20071008, P14N, 16, 1, 19, X12025, 2, 20071023, 2239, 52.0690, -179.3823, 2979,   1799.4, 2,   1.9792, 2,  34.5611, 2,  34.5618, 2,     45.6, 2,     46.8, 2,   189.45, 2,    41.86, 2,     0.00, 2,     3.08, 2,    0.014, 2,    0.007, 2,    0.000, 2, -999.000, 9,   -999.0, 9,   -999.0, 9, -999.0000,   -999.00,   -999.0, 9,   -999.0,  -999.00, 9,   -999.0,   1.8598, 27.6310,   1.9790, 2, 9, 0.54, 0.15, 0.01, 0.018,  -999.00, 9, -999.00, -999.00, 9, -999.00
49NZ20071008, P14N, 16, 1, 18, X12024, 2, 20071023, 2239, 52.0690, -179.3823, 2979,   1999.3, 2,   1.8695, 2,  34.5866, 2,  34.5878, 2,     53.4, 2,     55.2, 2,   195.93, 2,    41.12, 2,     0.00, 2,     3.05, 2,    0.004, 2,    0.004, 2,    0.000, 2, -999.000, 9,   -999.0, 9,   -999.0, 9, -999.0000,   -999.00,   -999.0, 9,   -999.0,  -999.00, 9,   -999.0,   1.7353, 27.6609,   1.8677, 2, 9, 0.55, 0.15, 0.01, 0.018,  -999.00, 9, -999.00, -999.00, 9, -999.00
49NZ20071008, P14N, 16, 1, 17, X12023, 2, 20071023, 2239, 52.0690, -179.3823, 2979,   2201.5, 2,   1.7640, 2,  34.6114, 2,  34.6116, 2,     62.8, 2,     63.4, 2,   201.78, 2,    40.53, 2,     0.00, 2,     3.04, 2,    0.000, 2,    0.000, 2,    0.000, 2, -999.000, 9,   -999.0, 9,   -999.0, 9, -999.0000,   -999.00,   -999.0, 9,   -999.0,  -999.00, 9,   -999.0,   1.6144, 27.6899,   1.7638, 2, 9, 0.56, 0.15, 0.01, 0.018,  -999.00, 9, -999.00, -999.00, 9, -999.00
49NZ20071008, P14N, 16, 1, 16, X12022, 2, 20071023, 2239, 52.0690, -179.3823, 2979,   2399.9, 2,   1.7199, 2,  34.6231, 2,  34.6232, 6,     68.6, 2,     69.0, 2,   204.91, 2,    40.04, 2,     0.00, 2,     3.02, 2,    0.000, 2,    0.001, 2,    0.000, 2, -999.000, 9,   -999.0, 9,   -999.0, 9, -999.0000,   -999.00,   -999.0, 9,   -999.0,  -999.00, 9,   -999.0,   1.5538, 27.7037,   1.7197, 2, 9, 0.57, 0.14, 0.01, 0.017,  -999.00, 9, -999.00, -999.00, 9, -999.00
49NZ20071008, P14N, 16, 1, 15, X12021, 2, 20071023, 2239, 52.0690, -179.3823, 2979,   2600.0, 2,   1.6815, 2,  34.6336, 2,  34.6335, 2,     75.3, 2,     75.0, 2,   207.20, 2,    39.61, 2,     0.00, 2,     2.99, 2,    0.000, 2,    0.001, 2,    0.000, 2, -999.000, 9,   -999.0, 9,   -999.0, 9, -999.0000,   -999.00,   -999.0, 9,   -999.0,  -999.00, 9,   -999.0,   1.4983, 27.7162,   1.6813, 2, 9, 0.57, 0.14, 0.01, 0.017,  -999.00, 9, -999.00, -999.00, 9, -999.00
49NZ20071008, P14N, 16, 1, 14, X12020, 2, 20071023, 2239, 52.0690, -179.3823, 2979,   2801.0, 2,   1.6336, 2,  34.6454, 2,  34.6457, 2,     81.8, 2,     82.2, 2,   210.85, 2,    39.15, 2,     0.00, 2,     2.97, 2,    0.000, 2,    0.003, 2,    0.000, 2, -999.000, 9,   -999.0, 9,   -999.0, 9, -999.0000,   -999.00,   -999.0, 9,   -999.0,  -999.00, 9,   -999.0,   1.4328, 27.7305,   1.6335, 2, 9, 0.58, 0.14, 0.01, 0.017,  -999.00, 9, -999.00, -999.00, 9, -999.00
49NZ20071008, P14N, 16, 1, 13, X12019, 9, 20071023, 2239, 52.0690, -179.3823, 2979,    249.6, 2,   4.3474, 2,  33.6805, 2, -999.0000, 9,    126.9, 2,   -999.0, 9,  -999.00, 9,  -999.00, 9,  -999.00, 9,  -999.00, 9, -999.000, 9, -999.000, 9, -999.000, 9, -999.000, 9,   -999.0, 9,   -999.0, 9, -999.0000,   -999.00,   -999.0, 9,   -999.0,  -999.00, 9,   -999.0,   4.3296, 26.7024,   4.3471, 2, 9, -999.00, -999.00, -999.00, -999.000,  -999.00, 9, -999.00, -999.00, 9, -999.00
49NZ20071008, P14N, 16, 1, 12, X12040, 9, 20071023, 2239, 52.0690, -179.3823, 2979,    299.5, 2,   4.1924, 2,  33.7529, 2, -999.0000, 9,    109.8, 2,   -999.0, 9,  -999.00, 9,  -999.00, 9,  -999.00, 9,  -999.00, 9, -999.000, 9, -999.000, 9, -999.000, 9, -999.000, 9,   -999.0, 9,   -999.0, 9, -999.0000,   -999.00,   -999.0, 9,   -999.0,  -999.00, 9,   -999.0,   4.1713, 26.7766,   4.1923, 2, 9, -999.00, -999.00, -999.00, -999.000,  -999.00, 9, -999.00, -999.00, 9, -999.00
49NZ20071008, P14N, 16, 1, 11, X12047, 9, 20071023, 2239, 52.0690, -179.3823, 2979,    399.8, 2,   3.8320, 2,  33.9183, 2, -999.0000, 9,     74.7, 2,   -999.0, 9,  -999.00, 9,  -999.00, 9,  -999.00, 9,  -999.00, 9, -999.000, 9, -999.000, 9, -999.000, 9, -999.000, 9,   -999.0, 9,   -999.0, 9, -999.0000,   -999.00,   -999.0, 9,   -999.0,  -999.00, 9,   -999.0,   3.8045, 26.9454,   3.8318, 2, 9, -999.00, -999.00, -999.00, -999.000,  -999.00, 9, -999.00, -999.00, 9, -999.00
49NZ20071008, P14N, 16, 1, 10, X12010, 9, 20071023, 2239, 52.0690, -179.3823, 2979,    498.8, 2,   3.6215, 2,  34.0281, 2, -999.0000, 9,     50.6, 2,   -999.0, 9,  -999.00, 9,  -999.00, 9,  -999.00, 9,  -999.00, 9, -999.000, 9, -999.000, 9, -999.000, 9, -999.000, 9,   -999.0, 9,   -999.0, 9, -999.0000,   -999.00,   -999.0, 9,   -999.0,  -999.00, 9,   -999.0,   3.5876, 27.0542,   3.6216, 2, 9, -999.00, -999.00, -999.00, -999.000,  -999.00, 9, -999.00, -999.00, 9, -999.00
49NZ20071008, P14N, 16, 1, 9, X12015, 9, 20071023, 2239, 52.0690, -179.3823, 2979,    601.0, 2,   3.4394, 2,  34.1242, 2, -999.0000, 9,     38.1, 2,   -999.0, 9,  -999.00, 9,  -999.00, 9,  -999.00, 9,  -999.00, 9, -999.000, 9, -999.000, 9, -999.000, 9, -999.000, 9,   -999.0, 9,   -999.0, 9, -999.0000,   -999.00,   -999.0, 9,   -999.0,  -999.00, 9,   -999.0,   3.3988, 27.1489,   3.4395, 2, 9, -999.00, -999.00, -999.00, -999.000,  -999.00, 9, -999.00, -999.00, 9, -999.00
49NZ20071008, P14N, 16, 1, 8, X12046, 9, 20071023, 2239, 52.0690, -179.3823, 2979,    699.6, 2,   3.2780, 2,  34.2113, 2, -999.0000, 9,     23.3, 2,   -999.0, 9,  -999.00, 9,  -999.00, 9,  -999.00, 9,  -999.00, 9, -999.000, 9, -999.000, 9, -999.000, 9, -999.000, 9,   -999.0, 9,   -999.0, 9, -999.0000,   -999.00,   -999.0, 9,   -999.0,  -999.00, 9,   -999.0,   3.2310, 27.2342,   3.2780, 2, 9, -999.00, -999.00, -999.00, -999.000,  -999.00, 9, -999.00, -999.00, 9, -999.00
49NZ20071008, P14N, 16, 1, 7, X12044, 9, 20071023, 2239, 52.0690, -179.3823, 2979,    798.9, 2,   3.1540, 2,  34.2609, 2, -999.0000, 9,     26.3, 2,   -999.0, 9,  -999.00, 9,  -999.00, 9,  -999.00, 9,  -999.00, 9, -999.000, 9, -999.000, 9, -999.000, 9, -999.000, 9,   -999.0, 9,   -999.0, 9, -999.0000,   -999.00,   -999.0, 9,   -999.0,  -999.00, 9,   -999.0,   3.1004, 27.2859,   3.1539, 2, 9, -999.00, -999.00, -999.00, -999.000,  -999.00, 9, -999.00, -999.00, 9, -999.00
49NZ20071008, P14N, 16, 1, 6, X12048, 9, 20071023, 2239, 52.0690, -179.3823, 2979,    900.2, 2,   2.9870, 2,  34.3062, 2, -999.0000, 9,     22.3, 2,   -999.0, 9,  -999.00, 9,  -999.00, 9,  -999.00, 9,  -999.00, 9, -999.000, 9, -999.000, 9, -999.000, 9, -999.000, 9,   -999.0, 9,   -999.0, 9, -999.0000,   -999.00,   -999.0, 9,   -999.0,  -999.00, 9,   -999.0,   2.9270, 27.3378,   2.9870, 2, 9, -999.00, -999.00, -999.00, -999.000,  -999.00, 9, -999.00, -999.00, 9, -999.00
49NZ20071008, P14N, 16, 1, 5, X12014, 9, 20071023, 2239, 52.0690, -179.3823, 2979,    999.4, 2,   2.8677, 2,  34.3325, 2, -999.0000, 9,     28.5, 2,   -999.0, 9,  -999.00, 9,  -999.00, 9,  -999.00, 9,  -999.00, 9, -999.000, 9, -999.000, 9, -999.000, 9, -999.000, 9,   -999.0, 9,   -999.0, 9, -999.0000,   -999.00,   -999.0, 9,   -999.0,  -999.00, 9,   -999.0,   2.8012, 27.3701,   2.8660, 2, 9, -999.00, -999.00, -999.00, -999.000,  -999.00, 9, -999.00, -999.00, 9, -999.00
49NZ20071008, P14N, 16, 1, 4, X12006, 9, 20071023, 2239, 52.0690, -179.3823, 2979,   1201.5, 2,   2.6033, 2,  34.4044, 2, -999.0000, 9,     31.1, 2,   -999.0, 9,  -999.00, 9,  -999.00, 9,  -999.00, 9,  -999.00, 9, -999.000, 9, -999.000, 9, -999.000, 9, -999.000, 9,   -999.0, 9,   -999.0, 9, -999.0000,   -999.00,   -999.0, 9,   -999.0,  -999.00, 9,   -999.0,   2.5237, 27.4516,   2.6033, 2, 9, -999.00, -999.00, -999.00, -999.000,  -999.00, 9, -999.00, -999.00, 9, -999.00
49NZ20071008, P14N, 16, 1, 3, X12013, 9, 20071023, 2239, 52.0690, -179.3823, 2979,   1400.2, 2,   2.3736, 2,  34.4661, 2, -999.0000, 9,     32.7, 2,   -999.0, 9,  -999.00, 9,  -999.00, 9,  -999.00, 9,  -999.00, 9, -999.000, 9, -999.000, 9, -999.000, 9, -999.000, 9,   -999.0, 9,   -999.0, 9, -999.0000,   -999.00,   -999.0, 9,   -999.0,  -999.00, 9,   -999.0,   2.2810, 27.5213,   2.3736, 2, 9, -999.00, -999.00, -999.00, -999.000,  -999.00, 9, -999.00, -999.00, 9, -999.00
49NZ20071008, P14N, 16, 1, 2, X12002, 9, 20071023, 2239, 52.0690, -179.3823, 2979,   1599.9, 2,   2.1301, 2,  34.5258, 2, -999.0000, 9,     38.9, 2,   -999.0, 9,  -999.00, 9,  -999.00, 9,  -999.00, 9,  -999.00, 9, -999.000, 9, -999.000, 9, -999.000, 9, -999.000, 9,   -999.0, 9,   -999.0, 9, -999.0000,   -999.00,   -999.0, 9,   -999.0,  -999.00, 9,   -999.0,   2.0247, 27.5898,   2.1301, 2, 9, -999.00, -999.00, -999.00, -999.000,  -999.00, 9, -999.00, -999.00, 9, -999.00
49NZ20071008, P14N, 16, 1, 1, X12001, 2, 20071023, 2239, 52.0690, -179.3823, 2979,   2975.3, 2,   1.6328, 2,  34.6485, 2,  34.6487, 6,     84.1, 2,     84.1, 2,   212.46, 2,    38.92, 2,     0.01, 2,     2.97, 2,    0.000, 2,    0.000, 2,    0.000, 2, -999.000, 9,   -999.0, 9,   -999.0, 9, -999.0000,   -999.00,   -999.0, 9,   -999.0,  -999.00, 9,   -999.0,   1.4156, 27.7342,   1.6323, 2, 9, 0.59, 0.14, 0.01, 0.017,  -999.00, 9, -999.00, -999.00, 9, -999.00