BOTTLE,20221005CCHSIOAMB
EXPOCODE,SECT_ID,STNNBR,CASTNO,SAMPNO,BTLNBR,BTLNBR_FLAG_W,DATE,TIME,LATITUDE,LONGITUDE,DEPTH,CTDPRS,CTDPRS_FLAG_W,CTDTMP,CTDTMP_FLAG_W,CTDSAL,CTDSAL_FLAG_W,SALNTY,SALNTY_FLAG_W,CTDOXY,CTDOXY_FLAG_W,OXYGEN,OXYGEN_FLAG_W,SILCAT,SILCAT_FLAG_W,NITRAT,NITRAT_FLAG_W,NITRIT,NITRIT_FLAG_W,PHSPHT,PHSPHT_FLAG_W,CFC-11,CFC-11_FLAG_W,CFC-12,CFC-12_FLAG_W,CFC113,CFC113_FLAG_W,CCL4,CCL4_FLAG_W,TCARBN,TCARBN_FLAG_W,ALKALI,ALKALI_FLAG_W,PH_TOT,PH_TMP,DELC14,DELC14_FLAG_W,C14ERR,DELC13,DELC13_FLAG_W,C13ERR,THETA,SIG0,SBE35,SBE35_FLAG_W,PH_TOT_FLAG_W,SILUNC,NRAUNC,NRIUNC,PHPUNC,CS-137,CS-137_FLAG_W,CS137ER,PLUTO,PLUTO_FLAG_W,PLUTOER
,,,,,,,,,,,METERS,DBAR,,ITS-90,,PSS-78,,PSS-78,,UMOL/KG,,UMOL/KG,,UMOL/KG,,UMOL/KG,,UMOL/KG,,UMOL/KG,,PMOL/KG,,PMOL/KG,,PMOL/KG,,PMOL/KG,,UMOL/KG,,UMOL/KG,,,DEG C,/MILLE,,/MILLE,/MILLE,,/MILLE,DEG C,KG/M^3,ITS-90,,,UMOL/KG,UMOL/KG,UMOL/KG,UMOL/KG,DM/.1MG,,BQ/M^3,MBQ/M^3,,MBQ/M^3
49NZ20071008, P01, P01_34, 1, 36, X12042, 2, 20071012, 1636, 45.0730, 156.6372, 4766,     11.2, 2,  10.9333, 2,  32.6201, 2,  32.6202, 2,    277.6, 2,    277.6, 2,    15.32, 2,     9.90, 2,     0.16, 2,     1.08, 2,    3.544, 2,    1.968, 2,    0.305, 2, -999.000, 9,   2014.4, 2,   2211.3, 2,    7.8988,     25.00,   -999.0, 9,   -999.0,  -999.00, 9,   -999.0,  10.9320, 24.9347,  10.9325, 2, 6, 0.15, 0.06, 0.01, 0.013,  -999.00, 9, -999.00, -999.00, 9, -999.00
49NZ20071008, P01, P01_34, 1, 35, X12041, 2, 20071012, 1636, 45.0730, 156.6372, 4766,     50.9, 2,   2.7633, 2,  33.0342, 2,  33.0363, 2,    320.1, 2,    320.1, 2,    37.83, 2,    23.30, 2,     0.23, 2,     1.91, 2,    5.772, 2,    3.053, 2,    0.537, 2, -999.000, 9,   2122.6, 6,   2232.8, 2,    7.6866,     25.00,   -999.0, 9,   -999.0,  -999.00, 9,   -999.0,   2.7605, 26.3365,   2.7670, 2, 2, 0.20, 0.10, 0.01, 0.015,  -999.00, 9, -999.00, -999.00, 9, -999.00
49NZ20071008, P01, P01_34, 1, 34, X12016, 2, 20071012, 1636, 45.0730, 156.6372, 4766,    100.7, 2,   1.6518, 2,  33.1675, 2,  33.1718, 2,    284.8, 2,    290.6, 2,    48.66, 2,    27.65, 2,     0.02, 2,     2.14, 2,    5.520, 2,    2.895, 2,    0.498, 2, -999.000, 9,   2160.8, 2,   2243.5, 6,    7.6096,     25.00,   -999.0, 9,   -999.0,  -999.00, 9,   -999.0,   1.6470, 26.5292,   1.6518, 2, 2, 0.23, 0.11, 0.01, 0.015,  -999.00, 9, -999.00, -999.00, 9, -999.00
49NZ20071008, P01, P01_34, 1, 33, X12033, 2, 20071012, 1636, 45.0730, 156.6372, 4766,    151.4, 2,   2.5841, 2,  33.5325, 2,  33.5283, 2,    157.3, 2,    161.3, 2,    75.11, 2,    36.55, 2,     0.01, 2,     2.70, 2,    3.767, 6,    1.929, 6,    0.310, 6, -999.000, 9,   2250.5, 2,   2275.6, 2,    7.4273,     25.00,   -999.0, 9,   -999.0,  -999.00, 9,   -999.0,   2.5756, 26.7502,   2.5818, 2, 6, 0.28, 0.14, 0.01, 0.017,  -999.00, 9, -999.00, -999.00, 9, -999.00
49NZ20071008, P01, P01_34, 1, 32, X12038, 2, 20071012, 1636, 45.0730, 156.6372, 4766,    200.2, 2,   2.8949, 2,  33.7045, 2,  33.7066, 2,    106.8, 2,    105.7, 2,    87.24, 2,    39.78, 2,     0.01, 2,     2.90, 2,    2.980, 2,    1.512, 2,    0.232, 2, -999.000, 9,   2288.8, 2,   2291.3, 2,    7.3545,     25.00,   -999.0, 9,   -999.0,  -999.00, 9,   -999.0,   2.8830, 26.8613,   2.8946, 2, 2, 0.31, 0.14, 0.01, 0.017,  -999.00, 9, -999.00, -999.00, 9, -999.00
49NZ20071008, P01, P01_34, 1, 31, X12003, 2, 20071012, 1636, 45.0730, 156.6372, 4766,    252.0, 2,   3.2670, 2,  33.8512, 2,  33.8516, 6,     67.8, 2,     60.8, 2,    96.86, 2,    42.59, 2,     0.02, 2,     3.06, 2,    2.228, 2,    1.106, 2,    0.165, 2, -999.000, 9,   2320.0, 2,   2302.5, 2,    7.3041,     25.00,   -999.0, 9,   -999.0,  -999.00, 9,   -999.0,   3.2511, 26.9452,   3.2670, 2, 2, 0.33, 0.15, 0.01, 0.018,  -999.00, 9, -999.00, -999.00, 9, -999.00
49NZ20071008, P01, P01_34, 1, 30, X12008, 2, 20071012, 1636, 45.0730, 156.6372, 4766,    298.5, 2,   3.4368, 2,  33.9438, 2,  33.9454, 2,     46.7, 2,     38.6, 2,   103.26, 2,    43.82, 2,     0.01, 2,     3.14, 2,    1.749, 2,    0.854, 2,    0.135, 2, -999.000, 9,   2334.8, 2,   2311.7, 2,    7.2850,     25.00,   -999.0, 9,   -999.0,  -999.00, 9,   -999.0,   3.4174, 27.0034,   3.4394, 2, 2, 0.35, 0.16, 0.01, 0.018,  -999.00, 9, -999.00, -999.00, 9, -999.00
49NZ20071008, P01, P01_34, 1, 29, X12035, 2, 20071012, 1636, 45.0730, 156.6372, 4766,    398.9, 2,   3.2476, 2,  34.0619, 2,  34.0664, 2,     39.0, 2,     34.3, 2,   115.10, 2,    43.37, 2,     0.01, 2,     3.13, 2,    1.223, 2,    0.596, 2,    0.085, 2, -999.000, 9,   2348.2, 2,   2323.0, 2,    7.3010,     25.00,   -999.0, 9,   -999.0,  -999.00, 9,   -999.0,   3.2219, 27.1159,   3.2472, 2, 2, 0.37, 0.15, 0.01, 0.018,  -999.00, 9, -999.00, -999.00, 9, -999.00
49NZ20071008, P01, P01_34, 1, 28, X12034, 2, 20071012, 1636, 45.0730, 156.6372, 4766,    499.3, 2,   3.1344, 2,  34.1594, 2,  34.1600, 6,     28.2, 2,     29.5, 2,   124.82, 2,    43.48, 2,     0.01, 2,     3.13, 2,    0.869, 2,    0.422, 2,    0.061, 2, -999.000, 9,   2357.4, 2,   2344.5, 2,    7.3099,     25.00,   -999.0, 9,   -999.0,  -999.00, 9,   -999.0,   3.1022, 27.2047,   3.1339, 2, 2, 0.39, 0.15, 0.01, 0.018,  -999.00, 9, -999.00, -999.00, 9, -999.00
49NZ20071008, P01, P01_34, 1, 27, X12049, 2, 20071012, 1636, 45.0730, 156.6372, 4766,    599.5, 2,   2.9585, 2,  34.2264, 2,  34.2280, 2,     28.1, 2,     28.9, 2,   132.39, 2,    43.46, 2,     0.01, 2,     3.14, 2,    0.668, 2,    0.327, 2,    0.048, 2, -999.000, 9,   2363.6, 2,   2341.4, 4,    7.3183,     25.00,   -999.0, 9,   -999.0,  -999.00, 9,   -999.0,   2.9202, 27.2748,   2.9586, 2, 2, 0.41, 0.15, 0.01, 0.018,  -999.00, 9, -999.00, -999.00, 9, -999.00
49NZ20071008, P01, P01_34, 1, 26, X12032, 2, 20071012, 1636, 45.0730, 156.6372, 4766,    699.1, 2,   2.8740, 2,  34.2941, 2,  34.2947, 2,     25.0, 2,     27.0, 2,   138.76, 2,    43.52, 2,     0.01, 2,     3.14, 2,    0.454, 6,    0.219, 6,    0.038, 6, -999.000, 9,   2371.5, 6,   2360.8, 3,    7.3280,     25.00,   -999.0, 9,   -999.0,  -999.00, 9,   -999.0,   2.8291, 27.3369,   2.8739, 2, 2, 0.42, 0.15, 0.01, 0.018,  -999.00, 9, -999.00, -999.00, 9, -999.00
49NZ20071008, P01, P01_34, 1, 25, X12043, 2, 20071012, 1636, 45.0730, 156.6372, 4766,    799.4, 2,   2.7871, 2,  34.3537, 2,  34.3552, 2,     32.0, 2,     30.4, 2,   143.15, 2,    43.24, 2,     0.01, 2,     3.12, 2,    0.305, 2,    0.144, 2,    0.019, 2, -999.000, 9,   2375.9, 2,   2373.2, 6,    7.3451,     25.00,   -999.0, 9,   -999.0,  -999.00, 9,   -999.0,   2.7356, 27.3928,   2.7871, 2, 2, 0.43, 0.15, 0.01, 0.018,  -999.00, 9, -999.00, -999.00, 9, -999.00
49NZ20071008, P01, P01_34, 1, 24, X12030, 2, 20071012, 1636, 45.0730, 156.6372, 4766,    900.0, 2,   2.5952, 2,  34.3902, 2,  34.3909, 2,     32.0, 2,     29.8, 2,   150.12, 2,    43.42, 2,     0.01, 2,     3.13, 2,    0.244, 2,    0.118, 2,    0.029, 2, -999.000, 9,   2380.8, 2,   2377.2, 3,    7.3469,     25.00,   -999.0, 9,   -999.0,  -999.00, 9,   -999.0,   2.5378, 27.4390,   2.5952, 2, 2, 0.45, 0.15, 0.01, 0.018,  -999.00, 9, -999.00, -999.00, 9, -999.00
49NZ20071008, P01, P01_34, 1, 23, X12027, 2, 20071012, 1636, 45.0730, 156.6372, 4766,   1000.7, 2,   2.5156, 2,  34.4307, 2,  34.4310, 6,     37.7, 2,     35.8, 2,   151.46, 2,    43.05, 2,     0.01, 2,     3.09, 2,    0.176, 2,    0.083, 2,    0.033, 2, -999.000, 9,   2381.0, 2,   2376.9, 4,    7.3633,     25.00,   -999.0, 9,   -999.0,  -999.00, 9,   -999.0,   2.4516, 27.4788,   2.5155, 2, 2, 0.45, 0.15, 0.01, 0.018,  -999.00, 9, -999.00, -999.00, 9, -999.00
49NZ20071008, P01, P01_34, 1, 22, X12028, 2, 20071012, 1636, 45.0730, 156.6372, 4766,   1200.7, 2,   2.3464, 2,  34.4839, 2,  34.4844, 2,     42.0, 2,     41.6, 2,   156.43, 2,    42.73, 2,     0.01, 2,     3.07, 2,    0.095, 2,    0.044, 2,    0.014, 2, -999.000, 9,   2383.8, 2,   2395.7, 2,    7.3827,     25.00,   -999.0, 9,   -999.0,  -999.00, 9,   -999.0,   2.2692, 27.5366,   2.3463, 2, 2, 0.46, 0.15, 0.01, 0.018,  -999.00, 9, -999.00, -999.00, 9, -999.00
49NZ20071008, P01, P01_34, 1, 21, X12009, 2, 20071012, 1636, 45.0730, 156.6372, 4766,   1401.3, 2,   2.1805, 2,  34.5256, 2,  34.5258, 2,     47.2, 2,     50.1, 2,   159.86, 2,    42.44, 2,     0.01, 2,     3.04, 2,    0.056, 2,    0.026, 2,    0.000, 2, -999.000, 9,   2383.6, 2,   2400.6, 2,    7.4030,     25.00,   -999.0, 9,   -999.0,  -999.00, 9,   -999.0,   2.0898, 27.5845,   2.1804, 2, 2, 0.47, 0.15, 0.01, 0.018,  -999.00, 9, -999.00, -999.00, 9, -999.00
49NZ20071008, P01, P01_34, 1, 20, X12026, 2, 20071012, 1636, 45.0730, 156.6372, 4766,   1600.3, 2,   2.0584, 2,  34.5597, 2,  34.5596, 2,     56.2, 2,     59.2, 2,   161.37, 2,    41.99, 2,     0.01, 2,     2.99, 2,    0.023, 2,    0.011, 2,    0.000, 2, -999.000, 9,   2382.1, 2,   2291.6, 4,    7.4222,     25.00,   -999.0, 9,   -999.0,  -999.00, 9,   -999.0,   1.9537, 27.6226,   2.0584, 2, 6, 0.47, 0.15, 0.01, 0.017,  -999.00, 9, -999.00, -999.00, 9, -999.00
49NZ20071008, P01, P01_34, 1, 19, X12025, 2, 20071012, 1636, 45.0730, 156.6372, 4766,   1799.9, 2,   1.9489, 2,  34.5859, 2,  34.5858, 2,     68.1, 2,     69.4, 2,   161.57, 2,    41.41, 2,     0.01, 2,     2.94, 2,    0.010, 2,    0.004, 2,    0.000, 2, -999.000, 9,   2375.1, 2,   2411.5, 2,    7.4427,     25.00,   -999.0, 9,   -999.0,  -999.00, 9,   -999.0,   1.8298, 27.6531,   1.9488, 2, 2, 0.47, 0.15, 0.01, 0.017,  -999.00, 9, -999.00, -999.00, 9, -999.00
49NZ20071008, P01, P01_34, 1, 18, X12024, 2, 20071012, 1636, 45.0730, 156.6372, 4766,   2000.5, 2,   1.8250, 2,  34.6065, 2,  34.6065, 2,     75.1, 2,     76.7, 2,   165.94, 2,    40.81, 2,     0.01, 2,     2.92, 2,    0.001, 2,    0.000, 2,    0.000, 2, -999.000, 9,   2375.8, 3,   2416.2, 2,    7.4567,     25.00,   -999.0, 9,   -999.0,  -999.00, 9,   -999.0,   1.6913, 27.6802,   1.8251, 2, 2, 0.48, 0.15, 0.01, 0.017,  -999.00, 9, -999.00, -999.00, 9, -999.00
49NZ20071008, P01, P01_34, 1, 17, X12023, 2, 20071012, 1636, 45.0730, 156.6372, 4766,   2200.8, 2,   1.7449, 2,  34.6241, 2,  34.6242, 6,     89.7, 2,     90.4, 2,   162.78, 2,    40.12, 2,     0.01, 2,     2.85, 2,    0.000, 2,    0.001, 2,    0.000, 2, -999.000, 9,   2367.1, 2,   2413.6, 2,    7.4825,     25.00,   -999.0, 9,   -999.0,  -999.00, 9,   -999.0,   1.5956, 27.7015,   1.7448, 2, 2, 0.48, 0.15, 0.01, 0.017,  -999.00, 9, -999.00, -999.00, 9, -999.00
49NZ20071008, P01, P01_34, 1, 16, X12022, 2, 20071012, 1636, 45.0730, 156.6372, 4766,   2401.5, 2,   1.6593, 2,  34.6401, 2,  34.6396, 2,    102.9, 2,    103.4, 2,   160.59, 2,    39.20, 2,     0.01, 2,     2.78, 2,    0.000, 2,    0.000, 2,    0.000, 2, -999.000, 9,   2358.8, 6,   2415.8, 2,    7.5067,     25.00,   -999.0, 9,   -999.0,  -999.00, 9,   -999.0,   1.4941, 27.7218,   1.6593, 2, 2, 0.47, 0.14, 0.01, 0.017,  -999.00, 9, -999.00, -999.00, 9, -999.00
49NZ20071008, P01, P01_34, 1, 15, X12021, 2, 20071012, 1636, 45.0730, 156.6372, 4766,   2601.2, 2,   1.5984, 2,  34.6513, 2,  34.6508, 2,    113.3, 2,    113.5, 2,   158.32, 2,    38.51, 2,     0.01, 2,     2.73, 2, -999.000, 9, -999.000, 9, -999.000, 9, -999.000, 9,   2354.2, 2,   2417.6, 2,    7.5252,     25.00,   -999.0, 9,   -999.0,  -999.00, 9,   -999.0,   1.4166, 27.7363,   1.5985, 2, 2, 0.47, 0.14, 0.01, 0.017,  -999.00, 9, -999.00, -999.00, 9, -999.00
49NZ20071008, P01, P01_34, 1, 14, X12020, 2, 20071012, 1636, 45.0730, 156.6372, 4766,   2800.2, 2,   1.5610, 2,  34.6584, 2,  34.6583, 2,    120.9, 2,    120.6, 2,   156.85, 2,    38.22, 2,     0.01, 2,     2.69, 2,    0.000, 2,    0.000, 2,    0.000, 2, -999.000, 9,   2348.9, 2,   2418.5, 2,    7.5387,     25.00,   -999.0, 9,   -999.0,  -999.00, 9,   -999.0,   1.3617, 27.7460,   1.5609, 2, 6, 0.46, 0.14, 0.01, 0.017,  -999.00, 9, -999.00, -999.00, 9, -999.00
49NZ20071008, P01, P01_34, 1, 13, X12019, 2, 20071012, 1636, 45.0730, 156.6372, 4766,   3001.1, 2,   1.5263, 2,  34.6651, 2,  34.6648, 2,    127.8, 2,    127.6, 2,   154.91, 2,    37.67, 2,     0.01, 2,     2.65, 2, -999.000, 9, -999.000, 9, -999.000, 9, -999.000, 9,   2343.2, 2,   2416.9, 2,    7.5506,     25.00,   -999.0, 9,   -999.0,  -999.00, 9,   -999.0,   1.3089, 27.7551,   1.5262, 2, 2, 0.46, 0.14, 0.01, 0.017,  -999.00, 9, -999.00, -999.00, 9, -999.00
49NZ20071008, P01, P01_34, 1, 12, X12040, 2, 20071012, 1636, 45.0730, 156.6372, 4766,   3250.2, 2,   1.4923, 2,  34.6719, 2,  34.6715, 2,    135.5, 2,    135.3, 2,   152.72, 2,    37.02, 2,     0.01, 2,     2.61, 2, -999.000, 9, -999.000, 9, -999.000, 9, -999.000, 9,   2339.2, 2,   2418.2, 2,    7.5637,     25.00,   -999.0, 9,   -999.0,  -999.00, 9,   -999.0,   1.2515, 27.7646,   1.4923, 2, 2, 0.45, 0.14, 0.01, 0.016,  -999.00, 9, -999.00, -999.00, 9, -999.00
49NZ20071008, P01, P01_34, 1, 11, X12047, 2, 20071012, 1636, 45.0730, 156.6372, 4766,   3500.6, 2,   1.4646, 2,  34.6775, 2,  34.6775, 6,    142.1, 2,    142.2, 2,   150.73, 2,    36.66, 2,     0.00, 2,     2.58, 2,    0.000, 2,    0.000, 2,    0.000, 2, -999.000, 9,   2335.0, 2,   2417.2, 2,    7.5753,     25.00,   -999.0, 9,   -999.0,  -999.00, 9,   -999.0,   1.1993, 27.7727,   1.4645, 2, 2, 0.45, 0.14, 0.01, 0.016,  -999.00, 9, -999.00, -999.00, 9, -999.00
49NZ20071008, P01, P01_34, 1, 10, X12010, 2, 20071012, 1636, 45.0730, 156.6372, 4766,   3751.6, 2,   1.4509, 2,  34.6818, 2,  34.6814, 2,    146.9, 2,    147.4, 2,   149.41, 2,    36.36, 2,     0.01, 2,     2.55, 2, -999.000, 9, -999.000, 9, -999.000, 9, -999.000, 9,   2331.4, 2,   2416.2, 2,    7.5845,     25.00,   -999.0, 9,   -999.0,  -999.00, 9,   -999.0,   1.1600, 27.7788,   1.4507, 2, 2, 0.45, 0.13, 0.01, 0.016,  -999.00, 9, -999.00, -999.00, 9, -999.00
49NZ20071008, P01, P01_34, 1, 9, X12015, 2, 20071012, 1636, 45.0730, 156.6372, 4766,   4000.7, 2,   1.4462, 2,  34.6851, 2,  34.6847, 2,    151.0, 2,    151.5, 2,   148.44, 2,    36.20, 2,     0.01, 2,     2.52, 2, -999.000, 9, -999.000, 9, -999.000, 9, -999.000, 9,   2324.9, 2,   2422.6, 4,    7.5912,     25.00,   -999.0, 9,   -999.0,  -999.00, 9,   -999.0,   1.1287, 27.7836,   1.4461, 2, 2, 0.45, 0.13, 0.01, 0.016,  -999.00, 9, -999.00, -999.00, 9, -999.00
49NZ20071008, P01, P01_34, 1, 8, X12046, 2, 20071012, 1636, 45.0730, 156.6372, 4766,   4251.8, 2,   1.4510, 2,  34.6874, 2,  34.6881, 3,    154.5, 2,    154.4, 2,   148.06, 2,    35.91, 2,     0.01, 2,     2.50, 2,    0.000, 2,    0.000, 2,    0.000, 2, -999.000, 9,   2324.2, 6,   2416.9, 2,    7.5955,     25.00,   -999.0, 9,   -999.0,  -999.00, 9,   -999.0,   1.1057, 27.7870,   1.4508, 2, 2, 0.44, 0.13, 0.01, 0.016,  -999.00, 9, -999.00, -999.00, 9, -999.00
49NZ20071008, P01, P01_34, 1, 7, X12044, 2, 20071012, 1636, 45.0730, 156.6372, 4766,   4501.0, 2,   1.4664, 2,  34.6888, 2,  34.6898, 3,    156.0, 2,    156.1, 2,   148.36, 2,    35.92, 2,     0.01, 2,     2.50, 2, -999.000, 9, -999.000, 9, -999.000, 9, -999.000, 9,   2322.7, 2,   2416.3, 6,    7.5984,     25.00,   -999.0, 9,   -999.0,  -999.00, 9,   -999.0,   1.0923, 27.7891,   1.4661, 2, 2, 0.45, 0.13, 0.01, 0.016,  -999.00, 9, -999.00, -999.00, 9, -999.00
49NZ20071008, P01, P01_34, 1, 6, X12048, 2, 20071012, 1636, 45.0730, 156.6372, 4766,   4750.8, 2,   1.4892, 2,  34.6896, 2,  34.6893, 2,    156.9, 2,    157.0, 2,   148.92, 2,    35.77, 2,     0.01, 2,     2.50, 2, -999.000, 9, -999.000, 9, -999.000, 9, -999.000, 9,   2323.5, 2,   2418.1, 2,    7.6002,     25.00,   -999.0, 9,   -999.0,  -999.00, 9,   -999.0,   1.0852, 27.7902,   1.4888, 2, 6, 0.45, 0.13, 0.01, 0.016,  -999.00, 9, -999.00, -999.00, 9, -999.00
49NZ20071008, P01, P01_34, 1, 5, X12014, 9, 20071012, 1636, 45.0730, 156.6372, 4766,    297.9, 2,   3.4853, 2,  33.9480, 2, -999.0000, 9,     46.6, 2,   -999.0, 9,  -999.00, 9,  -999.00, 9,  -999.00, 9,  -999.00, 9, -999.000, 9, -999.000, 9, -999.000, 9, -999.000, 9,   -999.0, 9,   -999.0, 9, -999.0000,   -999.00,   -999.0, 9,   -999.0,  -999.00, 9,   -999.0,   3.4659, 27.0021,   3.4853, 2, 9, -999.00, -999.00, -999.00, -999.000,  -999.00, 9, -999.00, -999.00, 9, -999.00
49NZ20071008, P01, P01_34, 1, 4, X12006, 9, 20071012, 1636, 45.0730, 156.6372, 4766,    297.8, 2,   3.4838, 2,  33.9479, 2, -999.0000, 9,     46.6, 2,   -999.0, 9,  -999.00, 9,  -999.00, 9,  -999.00, 9,  -999.00, 9, -999.000, 9, -999.000, 9, -999.000, 9, -999.000, 9,   -999.0, 9,   -999.0, 9, -999.0000,   -999.00,   -999.0, 9,   -999.0,  -999.00, 9,   -999.0,   3.4644, 27.0022,   3.4845, 2, 9, -999.00, -999.00, -999.00, -999.000,  -999.00, 9, -999.00, -999.00, 9, -999.00
49NZ20071008, P01, P01_34, 1, 3, X12013, 9, 20071012, 1636, 45.0730, 156.6372, 4766,    297.6, 2,   3.4763, 2,  33.9474, 2, -999.0000, 9,     46.7, 2,   -999.0, 9,  -999.00, 9,  -999.00, 9,  -999.00, 9,  -999.00, 9, -999.000, 9, -999.000, 9, -999.000, 9, -999.000, 9,   -999.0, 9,   -999.0, 9, -999.0000,   -999.00,   -999.0, 9,   -999.0,  -999.00, 9,   -999.0,   3.4569, 27.0025,   3.4789, 2, 9, -999.00, -999.00, -999.00, -999.000,  -999.00, 9, -999.00, -999.00, 9, -999.00
49NZ20071008, P01, P01_34, 1, 2, X12002, 9, 20071012, 1636, 45.0730, 156.6372, 4766,    298.1, 2,   3.4535, 2,  33.9455, 2, -999.0000, 9,     46.7, 2,   -999.0, 9,  -999.00, 9,  -999.00, 9,  -999.00, 9,  -999.00, 9, -999.000, 9, -999.000, 9, -999.000, 9, -999.000, 9,   -999.0, 9,   -999.0, 9, -999.0000,   -999.00,   -999.0, 9,   -999.0,  -999.00, 9,   -999.0,   3.4341, 27.0031,   3.4553, 2, 9, -999.00, -999.00, -999.00, -999.000,  -999.00, 9, -999.00, -999.00, 9, -999.00
49NZ20071008, P01, P01_34, 1, 1, X12001, 2, 20071012, 1636, 45.0730, 156.6372, 4766,   4852.6, 2,   1.5017, 2,  34.6896, 2,  34.6898, 6,    156.8, 2,    156.8, 2,   148.90, 2,    35.83, 2,     0.01, 2,     2.51, 2,    0.003, 2,    0.000, 2,    0.000, 2, -999.000, 9,   2322.3, 2,   2417.4, 2,    7.6006,     25.00,   -999.0, 9,   -999.0,  -999.00, 9,   -999.0,   1.0852, 27.7902,   1.5015, 2, 2, 0.45, 0.13, 0.01, 0.016,  -999.00, 9, -999.00, -999.00, 9, -999.00