BOTTLE,20221005CCHSIOAMB
EXPOCODE,SECT_ID,STNNBR,CASTNO,SAMPNO,BTLNBR,BTLNBR_FLAG_W,DATE,TIME,LATITUDE,LONGITUDE,DEPTH,CTDPRS,CTDPRS_FLAG_W,CTDTMP,CTDTMP_FLAG_W,CTDSAL,CTDSAL_FLAG_W,SALNTY,SALNTY_FLAG_W,CTDOXY,CTDOXY_FLAG_W,OXYGEN,OXYGEN_FLAG_W,SILCAT,SILCAT_FLAG_W,NITRAT,NITRAT_FLAG_W,NITRIT,NITRIT_FLAG_W,PHSPHT,PHSPHT_FLAG_W,CFC-11,CFC-11_FLAG_W,CFC-12,CFC-12_FLAG_W,CFC113,CFC113_FLAG_W,CCL4,CCL4_FLAG_W,TCARBN,TCARBN_FLAG_W,ALKALI,ALKALI_FLAG_W,PH_TOT,PH_TMP,DELC14,DELC14_FLAG_W,C14ERR,DELC13,DELC13_FLAG_W,C13ERR,THETA,SIG0,SBE35,SBE35_FLAG_W,PH_TOT_FLAG_W,SILUNC,NRAUNC,NRIUNC,PHPUNC,CS-137,CS-137_FLAG_W,CS137ER,PLUTO,PLUTO_FLAG_W,PLUTOER
,,,,,,,,,,,METERS,DBAR,,ITS-90,,PSS-78,,PSS-78,,UMOL/KG,,UMOL/KG,,UMOL/KG,,UMOL/KG,,UMOL/KG,,UMOL/KG,,PMOL/KG,,PMOL/KG,,PMOL/KG,,PMOL/KG,,UMOL/KG,,UMOL/KG,,,DEG C,/MILLE,,/MILLE,/MILLE,,/MILLE,DEG C,KG/M^3,ITS-90,,,UMOL/KG,UMOL/KG,UMOL/KG,UMOL/KG,DM/.1MG,,BQ/M^3,MBQ/M^3,,MBQ/M^3
49NZ20071008, P14N, 40, 1, 36, X12042, 2, 20071101, 1301, 42.4790, 179.0030, 5851,     10.1, 2,  13.3548, 2,  33.5065, 2,  33.5119, 2,    261.0, 2,    260.1, 2,     6.71, 2,     2.87, 2,     0.15, 2,     0.43, 2,    2.956, 2,    1.728, 2,    0.259, 2,    4.569, 4,   -999.0, 9,   -999.0, 9, -999.0000,   -999.00,   -999.0, 9,   -999.0,  -999.00, 9,   -999.0,  13.3534, 25.1654,  13.3641, 2, 9, 0.13, 0.04, 0.01, 0.013,  -999.00, 9, -999.00, -999.00, 9, -999.00
49NZ20071008, P14N, 40, 1, 35, X12041, 2, 20071101, 1301, 42.4790, 179.0030, 5851,     50.5, 2,  13.7568, 2,  33.6504, 2,  33.6528, 2,    256.5, 2,    256.7, 2,     5.48, 2,     2.17, 2,     0.15, 2,     0.35, 2,    2.907, 2,    1.709, 2,    0.276, 2,    4.434, 4,   -999.0, 9,   -999.0, 9, -999.0000,   -999.00,   -999.0, 9,   -999.0,  -999.00, 9,   -999.0,  13.7497, 25.1960,  13.7577, 2, 9, 0.13, 0.04, 0.01, 0.014,  -999.00, 9, -999.00, -999.00, 9, -999.00
49NZ20071008, P14N, 40, 1, 34, X12016, 2, 20071101, 1301, 42.4790, 179.0030, 5851,    100.4, 2,  10.6056, 2,  34.2223, 2,  34.2219, 2,    231.7, 2,    235.3, 2,    17.02, 2,    13.25, 2,     0.02, 2,     0.99, 2,    3.215, 2,    1.841, 2,    0.230, 2,    2.411, 4,   -999.0, 9,   -999.0, 9, -999.0000,   -999.00,   -999.0, 9,   -999.0,  -999.00, 9,   -999.0,  10.5937, 26.2422,  10.6061, 2, 9, 0.16, 0.07, 0.01, 0.013,  -999.00, 9, -999.00, -999.00, 9, -999.00
49NZ20071008, P14N, 40, 1, 33, X12033, 2, 20071101, 1301, 42.4790, 179.0030, 5851,    150.0, 2,   9.4730, 2,  34.1136, 2,  34.1112, 2,    245.4, 2,    243.8, 2,    19.54, 2,    14.31, 2,     0.02, 2,     1.08, 2,    3.432, 6,    1.952, 6,    0.254, 6,    2.860, 4,   -999.0, 9,   -999.0, 9, -999.0000,   -999.00,   -999.0, 9,   -999.0,  -999.00, 9,   -999.0,   9.4564, 26.3503,   9.4740, 2, 9, 0.16, 0.07, 0.01, 0.013,  -999.00, 9, -999.00, -999.00, 9, -999.00
49NZ20071008, P14N, 40, 1, 32, X12038, 2, 20071101, 1301, 42.4790, 179.0030, 5851,    200.3, 2,   8.6638, 2,  34.0271, 2,  34.0262, 2,    254.9, 2,    254.8, 2,    20.91, 2,    14.66, 2,     0.02, 2,     1.12, 2,    3.645, 2,    2.056, 2,    0.265, 2,    3.348, 4,   -999.0, 9,   -999.0, 9, -999.0000,   -999.00,   -999.0, 9,   -999.0,  -999.00, 9,   -999.0,   8.6428, 26.4123,   8.6652, 2, 9, 0.17, 0.07, 0.01, 0.013,  -999.00, 9, -999.00, -999.00, 9, -999.00
49NZ20071008, P14N, 40, 1, 31, X12003, 2, 20071101, 1301, 42.4790, 179.0030, 5851,    249.8, 2,   8.3094, 2,  34.0268, 2,  34.0238, 6,    232.2, 2,    235.5, 2,    25.11, 2,    16.96, 2,     0.02, 2,     1.28, 2,    3.463, 2,    1.935, 2,    0.231, 2,    3.199, 4,   -999.0, 9,   -999.0, 9, -999.0000,   -999.00,   -999.0, 9,   -999.0,  -999.00, 9,   -999.0,   8.2838, 26.4670,   8.3102, 2, 9, 0.17, 0.08, 0.01, 0.014,  -999.00, 9, -999.00, -999.00, 9, -999.00
49NZ20071008, P14N, 40, 1, 30, X12008, 2, 20071101, 1301, 42.4790, 179.0030, 5851,    301.3, 2,   7.2274, 2,  33.9616, 2,  33.9603, 2,    195.5, 2,    203.4, 2,    36.14, 2,    22.07, 2,     0.02, 2,     1.64, 2,    3.303, 2,    1.792, 2,    0.219, 2,    3.149, 4,   -999.0, 9,   -999.0, 9, -999.0000,   -999.00,   -999.0, 9,   -999.0,  -999.00, 9,   -999.0,   7.1989, 26.5733,   7.2278, 2, 9, 0.20, 0.09, 0.01, 0.014,  -999.00, 9, -999.00, -999.00, 9, -999.00
49NZ20071008, P14N, 40, 1, 29, X12035, 2, 20071101, 1301, 42.4790, 179.0030, 5851,    399.1, 2,   5.8439, 2,  33.9321, 2,  33.9315, 2,    152.0, 2,    155.0, 2,    54.65, 2,    28.95, 2,     0.01, 2,     2.14, 2,    2.808, 2,    1.469, 2,    0.171, 2,    2.620, 4,   -999.0, 9,   -999.0, 9, -999.0000,   -999.00,   -999.0, 9,   -999.0,  -999.00, 9,   -999.0,   5.8102, 26.7324,   5.8432, 2, 9, 0.24, 0.11, 0.01, 0.015,  -999.00, 9, -999.00, -999.00, 9, -999.00
49NZ20071008, P14N, 40, 1, 28, X12034, 2, 20071101, 1301, 42.4790, 179.0030, 5851,    501.3, 2,   4.9440, 2,  33.9830, 2,  33.9819, 6,    104.8, 2,    113.9, 2,    72.54, 2,    34.00, 2,     0.01, 2,     2.50, 2,    2.170, 2,    1.095, 2,    0.117, 2,    1.994, 4,   -999.0, 9,   -999.0, 9, -999.0000,   -999.00,   -999.0, 9,   -999.0,  -999.00, 9,   -999.0,   4.9047, 26.8798,   4.9446, 2, 9, 0.28, 0.13, 0.01, 0.016,  -999.00, 9, -999.00, -999.00, 9, -999.00
49NZ20071008, P14N, 40, 1, 27, X12049, 2, 20071101, 1301, 42.4790, 179.0030, 5851,    600.7, 2,   4.4158, 2,  34.0747, 2,  34.0757, 2,     72.3, 2,     75.4, 2,    90.00, 2,    38.11, 2,     0.01, 2,     2.77, 2,    1.454, 2,    0.717, 2,    0.076, 2,    1.355, 4,   -999.0, 9,   -999.0, 9, -999.0000,   -999.00,   -999.0, 9,   -999.0,  -999.00, 9,   -999.0,   4.3706, 27.0113,   4.4155, 2, 9, 0.32, 0.14, 0.01, 0.017,  -999.00, 9, -999.00, -999.00, 9, -999.00
49NZ20071008, P14N, 40, 1, 26, X12032, 2, 20071101, 1301, 42.4790, 179.0030, 5851,    702.1, 2,   4.1530, 2,  34.1711, 2,  34.1711, 2,     51.5, 2,     53.9, 2,   102.23, 2,    40.32, 2,     0.01, 2,     2.91, 2,    0.869, 6,    0.414, 6,    0.048, 6,    0.790, 4,   -999.0, 9,   -999.0, 9, -999.0000,   -999.00,   -999.0, 9,   -999.0,  -999.00, 9,   -999.0,   4.1010, 27.1163,   4.1524, 2, 9, 0.34, 0.15, 0.01, 0.017,  -999.00, 9, -999.00, -999.00, 9, -999.00
49NZ20071008, P14N, 40, 1, 25, X12043, 2, 20071101, 1301, 42.4790, 179.0030, 5851,    800.0, 2,   3.7868, 2,  34.2443, 2,  34.2460, 2,     40.4, 2,     41.3, 2,   114.40, 2,    41.61, 2,     0.01, 2,     3.00, 2,    0.501, 2,    0.236, 2,    0.027, 2,    0.514, 4,   -999.0, 9,   -999.0, 9, -999.0000,   -999.00,   -999.0, 9,   -999.0,  -999.00, 9,   -999.0,   3.7292, 27.2124,   3.7869, 2, 9, 0.37, 0.15, 0.01, 0.017,  -999.00, 9, -999.00, -999.00, 9, -999.00
49NZ20071008, P14N, 40, 1, 24, X12030, 2, 20071101, 1301, 42.4790, 179.0030, 5851,    901.4, 2,   3.5186, 2,  34.2932, 2,  34.2935, 2,     34.8, 2,     36.2, 2,   122.44, 2,    42.32, 2,     0.01, 2,     3.04, 2,    0.344, 2,    0.164, 2,    0.015, 2,    0.434, 4,   -999.0, 9,   -999.0, 9, -999.0000,   -999.00,   -999.0, 9,   -999.0,  -999.00, 9,   -999.0,   3.4548, 27.2783,   3.5188, 2, 9, 0.39, 0.15, 0.01, 0.018,  -999.00, 9, -999.00, -999.00, 9, -999.00
49NZ20071008, P14N, 40, 1, 23, X12027, 2, 20071101, 1301, 42.4790, 179.0030, 5851,   1002.6, 2,   3.1650, 2,  34.3516, 2,  34.3509, 6,     28.6, 2,     29.1, 2,   133.26, 2,    43.21, 2,     0.01, 2,     3.10, 2,    0.174, 2,    0.078, 2,    0.012, 2,    0.201, 4,   -999.0, 9,   -999.0, 9, -999.0000,   -999.00,   -999.0, 9,   -999.0,  -999.00, 9,   -999.0,   3.0959, 27.3587,   3.1651, 2, 9, 0.41, 0.15, 0.01, 0.018,  -999.00, 9, -999.00, -999.00, 9, -999.00
49NZ20071008, P14N, 40, 1, 22, X12028, 2, 20071101, 1301, 42.4790, 179.0030, 5851,   1201.1, 2,   2.8105, 2,  34.4201, 2,  34.4205, 2,     24.5, 2,     24.9, 2,   144.79, 2,    43.91, 2,     0.01, 2,     3.14, 2,    0.054, 2,    0.024, 2,    0.002, 2,    0.118, 4,   -999.0, 9,   -999.0, 9, -999.0000,   -999.00,   -999.0, 9,   -999.0,  -999.00, 9,   -999.0,   2.7290, 27.4464,   2.8107, 2, 9, 0.44, 0.16, 0.01, 0.018,  -999.00, 9, -999.00, -999.00, 9, -999.00
49NZ20071008, P14N, 40, 1, 21, X12009, 2, 20071101, 1301, 42.4790, 179.0030, 5851,   1401.0, 2,   2.5312, 2,  34.4751, 2,  34.4751, 2,     26.6, 2,     27.1, 2,   153.53, 2,    44.05, 2,     0.01, 2,     3.13, 2,    0.020, 2,    0.009, 2,    0.000, 2,    0.056, 4,   -999.0, 9,   -999.0, 9, -999.0000,   -999.00,   -999.0, 9,   -999.0,  -999.00, 9,   -999.0,   2.4369, 27.5155,   2.5314, 2, 9, 0.46, 0.16, 0.01, 0.018,  -999.00, 9, -999.00, -999.00, 9, -999.00
49NZ20071008, P14N, 40, 1, 20, X12026, 2, 20071101, 1301, 42.4790, 179.0030, 5851,   1601.2, 2,   2.3005, 2,  34.5161, 2,  34.5159, 2,     34.4, 2,     36.9, 2,   159.51, 2,    43.55, 2,     0.01, 2,     3.09, 2,    0.015, 2,    0.006, 2,    0.000, 2,    0.059, 4,   -999.0, 9,   -999.0, 9, -999.0000,   -999.00,   -999.0, 9,   -999.0,  -999.00, 9,   -999.0,   2.1929, 27.5685,   2.3005, 2, 9, 0.47, 0.15, 0.01, 0.018,  -999.00, 9, -999.00, -999.00, 9, -999.00
49NZ20071008, P14N, 40, 1, 19, X12025, 2, 20071101, 1301, 42.4790, 179.0030, 5851,   1800.5, 2,   2.1360, 2,  34.5486, 2,  34.5488, 2,     47.3, 2,     48.2, 2,   162.83, 2,    42.76, 2,     0.01, 2,     3.03, 2,    0.008, 2,    0.005, 2,    0.000, 2,    0.037, 4,   -999.0, 9,   -999.0, 9, -999.0000,   -999.00,   -999.0, 9,   -999.0,  -999.00, 9,   -999.0,   2.0144, 27.6089,   2.1361, 2, 9, 0.48, 0.15, 0.01, 0.018,  -999.00, 9, -999.00, -999.00, 9, -999.00
49NZ20071008, P14N, 40, 1, 18, X12024, 2, 20071101, 1301, 42.4790, 179.0030, 5851,   2001.4, 2,   1.9996, 2,  34.5765, 2,  34.5762, 2,     59.0, 2,     59.3, 2,   164.78, 2,    42.00, 2,     0.01, 2,     2.99, 2,    0.000, 2,    0.000, 2,    0.000, 2,    0.015, 4,   -999.0, 9,   -999.0, 9, -999.0000,   -999.00,   -999.0, 9,   -999.0,  -999.00, 9,   -999.0,   1.8632, 27.6431,   1.9995, 2, 9, 0.48, 0.15, 0.01, 0.017,  -999.00, 9, -999.00, -999.00, 9, -999.00
49NZ20071008, P14N, 40, 1, 17, X12023, 2, 20071101, 1301, 42.4790, 179.0030, 5851,   2200.7, 2,   1.8897, 2,  34.5988, 2,  34.5987, 2,     70.8, 2,     70.5, 2,   165.49, 2,    41.41, 2,     0.01, 2,     2.94, 2,    0.000, 2,    0.000, 2,    0.000, 2,    0.002, 4,   -999.0, 9,   -999.0, 9, -999.0000,   -999.00,   -999.0, 9,   -999.0,  -999.00, 9,   -999.0,   1.7381, 27.6705,   1.8896, 2, 9, 0.48, 0.15, 0.01, 0.017,  -999.00, 9, -999.00, -999.00, 9, -999.00
49NZ20071008, P14N, 40, 1, 16, X12022, 2, 20071101, 1301, 42.4790, 179.0030, 5851,   2400.9, 2,   1.7905, 2,  34.6186, 2,  34.6181, 2,     81.2, 2,     81.4, 2,   166.24, 2,    40.73, 2,     0.01, 2,     2.89, 2,    0.000, 2,    0.000, 2,    0.000, 2,    0.000, 4,   -999.0, 9,   -999.0, 9, -999.0000,   -999.00,   -999.0, 9,   -999.0,  -999.00, 9,   -999.0,   1.6231, 27.6950,   1.7906, 2, 9, 0.48, 0.15, 0.01, 0.017,  -999.00, 9, -999.00, -999.00, 9, -999.00
49NZ20071008, P14N, 40, 1, 15, X12021, 2, 20071101, 1301, 42.4790, 179.0030, 5851,   2600.9, 2,   1.7012, 2,  34.6351, 2,  34.6348, 6,     94.2, 2,     94.4, 2,   164.49, 2,    39.90, 2,     0.01, 2,     2.82, 2, -999.000, 9, -999.000, 9, -999.000, 9,    0.005, 4,   -999.0, 9,   -999.0, 9, -999.0000,   -999.00,   -999.0, 9,   -999.0,  -999.00, 9,   -999.0,   1.5175, 27.7160,   1.7013, 2, 9, 0.48, 0.14, 0.01, 0.017,  -999.00, 9, -999.00, -999.00, 9, -999.00
49NZ20071008, P14N, 40, 1, 14, X12020, 2, 20071101, 1301, 42.4790, 179.0030, 5851,   2800.9, 2,   1.6422, 2,  34.6460, 2,  34.6459, 2,    103.6, 2,    104.3, 2,   163.18, 2,    39.33, 2,     0.01, 2,     2.78, 2, -999.000, 9, -999.000, 9, -999.000, 9,    0.113, 4,   -999.0, 9,   -999.0, 9, -999.0000,   -999.00,   -999.0, 9,   -999.0,  -999.00, 9,   -999.0,   1.4413, 27.7303,   1.6421, 2, 9, 0.48, 0.14, 0.01, 0.017,  -999.00, 9, -999.00, -999.00, 9, -999.00
49NZ20071008, P14N, 40, 1, 13, X12019, 2, 20071101, 1301, 42.4790, 179.0030, 5851,   3001.5, 2,   1.5875, 2,  34.6561, 2,  34.6558, 2,    114.0, 2,    114.6, 2,   161.21, 2,    38.60, 2,     0.01, 2,     2.73, 2,    0.000, 2,    0.000, 2,    0.000, 2,    0.000, 4,   -999.0, 9,   -999.0, 9, -999.0000,   -999.00,   -999.0, 9,   -999.0,  -999.00, 9,   -999.0,   1.3687, 27.7436,   1.5875, 2, 9, 0.47, 0.14, 0.01, 0.017,  -999.00, 9, -999.00, -999.00, 9, -999.00
49NZ20071008, P14N, 40, 1, 12, X12040, 2, 20071101, 1301, 42.4790, 179.0030, 5851,   3251.0, 2,   1.5380, 2,  34.6655, 2,  34.6652, 2,    124.5, 2,    124.7, 2,   158.55, 2,    37.95, 2,     0.01, 2,     2.67, 2, -999.000, 9, -999.000, 9, -999.000, 9,    0.032, 4,   -999.0, 9,   -999.0, 9, -999.0000,   -999.00,   -999.0, 9,   -999.0,  -999.00, 9,   -999.0,   1.2960, 27.7564,   1.5381, 2, 9, 0.47, 0.14, 0.01, 0.017,  -999.00, 9, -999.00, -999.00, 9, -999.00
49NZ20071008, P14N, 40, 1, 11, X12047, 2, 20071101, 1301, 42.4790, 179.0030, 5851,   3501.0, 2,   1.5037, 2,  34.6727, 2,  34.6722, 2,    133.3, 2,    133.6, 2,   156.28, 2,    37.38, 2,     0.01, 2,     2.63, 2, -999.000, 9, -999.000, 9, -999.000, 9,    0.006, 4,   -999.0, 9,   -999.0, 9, -999.0000,   -999.00,   -999.0, 9,   -999.0,  -999.00, 9,   -999.0,   1.2374, 27.7662,   1.5038, 2, 9, 0.46, 0.14, 0.01, 0.017,  -999.00, 9, -999.00, -999.00, 9, -999.00
49NZ20071008, P14N, 40, 1, 10, X12017, 2, 20071101, 1301, 42.4790, 179.0030, 5851,   3750.8, 2,   1.4789, 2,  34.6787, 2,  34.6782, 2,    140.8, 2,    140.8, 2,   154.51, 2,    36.82, 2,     0.01, 2,     2.59, 2,    0.000, 2,    0.000, 2,    0.000, 2,    0.000, 4,   -999.0, 9,   -999.0, 9, -999.0000,   -999.00,   -999.0, 9,   -999.0,  -999.00, 9,   -999.0,   1.1873, 27.7745,   1.4789, 2, 9, 0.46, 0.14, 0.01, 0.016,  -999.00, 9, -999.00, -999.00, 9, -999.00
49NZ20071008, P14N, 40, 1, 9, X12015, 2, 20071101, 1301, 42.4790, 179.0030, 5851,   4001.9, 2,   1.4701, 2,  34.6828, 2,  34.6825, 2,    146.0, 2,    146.0, 2,   153.39, 2,    36.51, 2,     0.01, 2,     2.56, 2, -999.000, 9, -999.000, 9, -999.000, 9,    0.007, 4,   -999.0, 9,   -999.0, 9, -999.0000,   -999.00,   -999.0, 9,   -999.0,  -999.00, 9,   -999.0,   1.1518, 27.7802,   1.4702, 2, 9, 0.46, 0.14, 0.01, 0.016,  -999.00, 9, -999.00, -999.00, 9, -999.00
49NZ20071008, P14N, 40, 1, 8, X12046, 2, 20071101, 1301, 42.4790, 179.0030, 5851,   4250.6, 2,   1.4707, 2,  34.6859, 2,  34.6857, 6,    149.6, 2,    149.7, 2,   153.56, 2,    36.29, 2,     0.01, 2,     2.55, 2, -999.000, 9, -999.000, 9, -999.000, 9,    0.007, 4,   -999.0, 9,   -999.0, 9, -999.0000,   -999.00,   -999.0, 9,   -999.0,  -999.00, 9,   -999.0,   1.1250, 27.7845,   1.4708, 2, 9, 0.46, 0.13, 0.01, 0.016,  -999.00, 9, -999.00, -999.00, 9, -999.00
49NZ20071008, P14N, 40, 1, 7, X12044, 2, 20071101, 1301, 42.4790, 179.0030, 5851,   4500.7, 2,   1.4870, 2,  34.6876, 2,  34.6873, 2,    151.5, 2,    151.3, 2,   154.18, 2,    36.21, 2,     0.01, 2,     2.53, 2,    0.000, 2,    0.000, 2,    0.000, 2,    0.004, 4,   -999.0, 9,   -999.0, 9, -999.0000,   -999.00,   -999.0, 9,   -999.0,  -999.00, 9,   -999.0,   1.1123, 27.7868,   1.4870, 2, 9, 0.46, 0.13, 0.01, 0.016,  -999.00, 9, -999.00, -999.00, 9, -999.00
49NZ20071008, P14N, 40, 1, 6, X12048, 2, 20071101, 1301, 42.4790, 179.0030, 5851,   4752.5, 2,   1.5107, 2,  34.6885, 2,  34.6888, 2,    152.1, 2,    151.9, 2,   155.23, 2,    36.17, 2,     0.01, 2,     2.53, 2, -999.000, 9, -999.000, 9, -999.000, 9, -999.000, 5,   -999.0, 9,   -999.0, 9, -999.0000,   -999.00,   -999.0, 9,   -999.0,  -999.00, 9,   -999.0,   1.1058, 27.7880,   1.5108, 2, 9, 0.46, 0.13, 0.01, 0.016,  -999.00, 9, -999.00, -999.00, 9, -999.00
49NZ20071008, P14N, 40, 1, 5, X12014, 2, 20071101, 1301, 42.4790, 179.0030, 5851,   5001.7, 2,   1.5389, 2,  34.6890, 2,  34.6886, 2,    152.7, 2,    152.5, 2,   155.64, 2,    36.20, 2,     0.01, 2,     2.53, 2, -999.000, 9, -999.000, 9, -999.000, 9,    0.055, 4,   -999.0, 9,   -999.0, 9, -999.0000,   -999.00,   -999.0, 9,   -999.0,  -999.00, 9,   -999.0,   1.1031, 27.7885,   1.5389, 2, 9, 0.46, 0.13, 0.01, 0.016,  -999.00, 9, -999.00, -999.00, 9, -999.00
49NZ20071008, P14N, 40, 1, 4, X12006, 2, 20071101, 1301, 42.4790, 179.0030, 5851,   5249.9, 2,   1.5697, 2,  34.6890, 2,  34.6888, 2,    152.8, 2,    152.7, 2,   155.78, 2,    36.18, 2,     0.01, 2,     2.53, 2,    0.000, 2,    0.000, 2,    0.000, 2,    0.000, 4,   -999.0, 9,   -999.0, 9, -999.0000,   -999.00,   -999.0, 9,   -999.0,  -999.00, 9,   -999.0,   1.1022, 27.7886,   1.5697, 2, 9, 0.46, 0.13, 0.01, 0.016,  -999.00, 9, -999.00, -999.00, 9, -999.00
49NZ20071008, P14N, 40, 1, 3, X12013, 2, 20071101, 1301, 42.4790, 179.0030, 5851,   5498.9, 2,   1.6022, 2,  34.6891, 2,  34.6889, 2,    153.2, 2,    152.5, 2,   155.84, 2,    36.18, 2,     0.01, 2,     2.53, 2, -999.000, 9, -999.000, 9, -999.000, 9,    0.008, 4,   -999.0, 9,   -999.0, 9, -999.0000,   -999.00,   -999.0, 9,   -999.0,  -999.00, 9,   -999.0,   1.1021, 27.7886,   1.6022, 2, 9, 0.46, 0.13, 0.01, 0.016,  -999.00, 9, -999.00, -999.00, 9, -999.00
49NZ20071008, P14N, 40, 1, 2, X12002, 2, 20071101, 1301, 42.4790, 179.0030, 5851,   5749.9, 2,   1.6354, 2,  34.6891, 2,  34.6887, 2,    153.2, 2,    152.9, 2,   155.63, 2,    36.14, 2,     0.01, 2,     2.53, 2,    0.000, 2,    0.000, 2,    0.000, 2,    0.000, 4,   -999.0, 9,   -999.0, 9, -999.0000,   -999.00,   -999.0, 9,   -999.0,  -999.00, 9,   -999.0,   1.1015, 27.7887,   1.6355, 2, 9, 0.46, 0.13, 0.01, 0.016,  -999.00, 9, -999.00, -999.00, 9, -999.00
49NZ20071008, P14N, 40, 1, 1, X12001, 2, 20071101, 1301, 42.4790, 179.0030, 5851,   5896.9, 2,   1.6555, 2,  34.6892, 2,  34.6891, 6,    153.2, 2,    153.2, 2,   155.60, 2,    36.10, 2,     0.01, 2,     2.53, 2,    0.000, 2,    0.000, 2,    0.000, 2,    0.008, 4,   -999.0, 9,   -999.0, 9, -999.0000,   -999.00,   -999.0, 9,   -999.0,  -999.00, 9,   -999.0,   1.1014, 27.7888,   1.6556, 2, 9, 0.46, 0.13, 0.01, 0.016,  -999.00, 9, -999.00, -999.00, 9, -999.00