BOTTLE,20221005CCHSIOAMB
EXPOCODE,SECT_ID,STNNBR,CASTNO,SAMPNO,BTLNBR,BTLNBR_FLAG_W,DATE,TIME,LATITUDE,LONGITUDE,DEPTH,CTDPRS,CTDPRS_FLAG_W,CTDTMP,CTDTMP_FLAG_W,CTDSAL,CTDSAL_FLAG_W,SALNTY,SALNTY_FLAG_W,CTDOXY,CTDOXY_FLAG_W,OXYGEN,OXYGEN_FLAG_W,SILCAT,SILCAT_FLAG_W,NITRAT,NITRAT_FLAG_W,NITRIT,NITRIT_FLAG_W,PHSPHT,PHSPHT_FLAG_W,CFC-11,CFC-11_FLAG_W,CFC-12,CFC-12_FLAG_W,CFC113,CFC113_FLAG_W,CCL4,CCL4_FLAG_W,TCARBN,TCARBN_FLAG_W,ALKALI,ALKALI_FLAG_W,PH_TOT,PH_TMP,DELC14,DELC14_FLAG_W,C14ERR,DELC13,DELC13_FLAG_W,C13ERR,THETA,SIG0,SBE35,SBE35_FLAG_W,PH_TOT_FLAG_W,SILUNC,NRAUNC,NRIUNC,PHPUNC,CS-137,CS-137_FLAG_W,CS137ER,PLUTO,PLUTO_FLAG_W,PLUTOER
,,,,,,,,,,,METERS,DBAR,,ITS-90,,PSS-78,,PSS-78,,UMOL/KG,,UMOL/KG,,UMOL/KG,,UMOL/KG,,UMOL/KG,,UMOL/KG,,PMOL/KG,,PMOL/KG,,PMOL/KG,,PMOL/KG,,UMOL/KG,,UMOL/KG,,,DEG C,/MILLE,,/MILLE,/MILLE,,/MILLE,DEG C,KG/M^3,ITS-90,,,UMOL/KG,UMOL/KG,UMOL/KG,UMOL/KG,DM/.1MG,,BQ/M^3,MBQ/M^3,,MBQ/M^3
49NZ20071008, P14N, 20, 1, 36, X12042, 2, 20071023, 0740, 51.1742, 179.7445, 2340,     11.0, 2,   5.8361, 2,  33.1834, 2,  33.1849, 2,    286.9, 2,    284.0, 2,    47.17, 2,    24.67, 2,     0.26, 2,     2.01, 2,    4.099, 2,    2.303, 2,    0.326, 2, -999.000, 9,   2137.4, 2,   2250.7, 2,    7.6820,     25.00,   -999.0, 9,   -999.0,  -999.00, 9,   -999.0,   5.8352, 26.1375,   5.8365, 2, 2, 0.22, 0.10, 0.01, 0.015,  -999.00, 9, -999.00, -999.00, 9, -999.00
49NZ20071008, P14N, 20, 1, 35, X12041, 2, 20071023, 0740, 51.1742, 179.7445, 2340,     50.0, 2,   5.6343, 2,  33.2812, 2,  33.2811, 2,    245.5, 2,    258.1, 2,    52.84, 2,    27.09, 2,     0.25, 2,     2.14, 2,    3.838, 2,    2.144, 2,    0.346, 2, -999.000, 9,   2162.3, 6,   2256.7, 2,    7.6322,     25.00,   -999.0, 9,   -999.0,  -999.00, 9,   -999.0,   5.6303, 26.2395,   5.6339, 2, 2, 0.24, 0.11, 0.01, 0.015,  -999.00, 9, -999.00, -999.00, 9, -999.00
49NZ20071008, P14N, 20, 1, 34, X12016, 2, 20071023, 0740, 51.1742, 179.7445, 2340,    101.6, 2,   5.2335, 2,  33.3670, 2,  33.3670, 2,    196.8, 2,    209.4, 2,    59.92, 2,    29.70, 2,     0.12, 2,     2.28, 2,    3.526, 2,    1.927, 2,    0.282, 2, -999.000, 9,   2188.0, 2,   2262.5, 6,    7.5703,     25.00,   -999.0, 9,   -999.0,  -999.00, 9,   -999.0,   5.2257, 26.3550,   5.2328, 2, 2, 0.25, 0.12, 0.01, 0.016,  -999.00, 9, -999.00, -999.00, 9, -999.00
49NZ20071008, P14N, 20, 1, 33, X12033, 2, 20071023, 0740, 51.1742, 179.7445, 2340,    150.2, 2,   4.8748, 2,  33.4412, 2,  33.4403, 2,    182.0, 2,    184.5, 2,    64.28, 2,    31.74, 2,     0.02, 2,     2.40, 2,    3.327, 6,    1.789, 6,    0.267, 6, -999.000, 9,   2207.6, 2,   2268.3, 2,    7.5304,     25.00,   -999.0, 9,   -999.0,  -999.00, 9,   -999.0,   4.8636, 26.4547,   4.8751, 2, 6, 0.26, 0.12, 0.01, 0.016,  -999.00, 9, -999.00, -999.00, 9, -999.00
49NZ20071008, P14N, 20, 1, 32, X12038, 2, 20071023, 0740, 51.1742, 179.7445, 2340,    201.1, 2,   4.7430, 2,  33.5439, 2,  33.5391, 2,    151.9, 2,    158.9, 2,    70.27, 2,    33.47, 2,     0.02, 2,     2.50, 2,    3.024, 2,    1.611, 2,    0.248, 2, -999.000, 9,   2226.0, 2,   2275.5, 2,    7.4956,     25.00,   -999.0, 9,   -999.0,  -999.00, 9,   -999.0,   4.7282, 26.5511,   4.7428, 2, 2, 0.27, 0.13, 0.01, 0.016,  -999.00, 9, -999.00, -999.00, 9, -999.00
49NZ20071008, P14N, 20, 1, 31, X12003, 2, 20071023, 0740, 51.1742, 179.7445, 2340,    250.5, 2,   4.6377, 2,  33.6262, 2,  33.6260, 6,    126.2, 2,    136.3, 2,    74.25, 2,    35.05, 2,     0.02, 2,     2.59, 2,    2.762, 2,    1.450, 2,    0.188, 2, -999.000, 9,   2246.8, 2,   2281.2, 2,    7.4593,     25.00,   -999.0, 9,   -999.0,  -999.00, 9,   -999.0,   4.6193, 26.6284,   4.6370, 2, 2, 0.28, 0.13, 0.01, 0.016,  -999.00, 9, -999.00, -999.00, 9, -999.00
49NZ20071008, P14N, 20, 1, 30, X12008, 2, 20071023, 0740, 51.1742, 179.7445, 2340,    330.5, 2,   4.4131, 2,  33.7963, 2,  33.7951, 2,     81.0, 2,     88.5, 2,    81.78, 2,    38.84, 2,     0.01, 2,     2.80, 2,    2.282, 2,    1.166, 2,    0.146, 2, -999.000, 9,   2282.9, 2,   2292.8, 2,    7.3826,     25.00,   -999.0, 9,   -999.0,  -999.00, 9,   -999.0,   4.3891, 26.7882,   4.4128, 2, 2, 0.30, 0.14, 0.01, 0.017,  -999.00, 9, -999.00, -999.00, 9, -999.00
49NZ20071008, P14N, 20, 1, 29, X12035, 2, 20071023, 0740, 51.1742, 179.7445, 2340,    429.6, 2,   4.1448, 2,  33.9668, 2,  33.9658, 2,     31.8, 2,     29.5, 2,    90.62, 2,    43.64, 2,     0.01, 2,     3.10, 2,    1.684, 2,    0.794, 2,    0.094, 2, -999.000, 9,   2326.6, 2,   2303.2, 2,    7.2872,     25.00,   -999.0, 9,   -999.0,  -999.00, 9,   -999.0,   4.1141, 26.9526,   4.1445, 2, 2, 0.32, 0.15, 0.01, 0.018,  -999.00, 9, -999.00, -999.00, 9, -999.00
49NZ20071008, P14N, 20, 1, 28, X12034, 2, 20071023, 0740, 51.1742, 179.7445, 2340,    530.1, 2,   3.8923, 2,  34.0893, 2,  34.0891, 6,     22.2, 2,     23.3, 2,   104.85, 2,    43.86, 2,     0.01, 2,     3.11, 2,    0.981, 2,    0.464, 2,    0.048, 2, -999.000, 9,   2342.4, 2,   2325.4, 2,    7.2989,     25.00,   -999.0, 9,   -999.0,  -999.00, 9,   -999.0,   3.8549, 27.0764,   3.8925, 2, 2, 0.35, 0.16, 0.01, 0.018,  -999.00, 9, -999.00, -999.00, 9, -999.00
49NZ20071008, P14N, 20, 1, 27, X12049, 2, 20071023, 0740, 51.1742, 179.7445, 2340,    631.4, 2,   3.6593, 2,  34.1736, 2,  34.1730, 2,     15.9, 2,     15.5, 2,   114.94, 2,    44.47, 2,     0.01, 2,     3.16, 2,    0.576, 2,    0.267, 2,    0.032, 2, -999.000, 9,   2355.9, 2,   2329.5, 2,    7.2989,     25.00,   -999.0, 9,   -999.0,  -999.00, 9,   -999.0,   3.6153, 27.1674,   3.6593, 2, 2, 0.37, 0.16, 0.01, 0.018,  -999.00, 9, -999.00, -999.00, 9, -999.00
49NZ20071008, P14N, 20, 1, 26, X12032, 2, 20071023, 0740, 51.1742, 179.7445, 2340,    733.0, 2,   3.4616, 2,  34.2358, 2,  34.2353, 2,     15.7, 2,     15.1, 2,   123.15, 2,    44.38, 2,     0.01, 2,     3.16, 2,    0.371, 6,    0.177, 6,    0.022, 6, -999.000, 9,   2364.1, 6,   2348.0, 2,    7.3074,     25.00,   -999.0, 9,   -999.0,  -999.00, 9,   -999.0,   3.4110, 27.2367,   3.4615, 2, 2, 0.39, 0.16, 0.01, 0.018,  -999.00, 9, -999.00, -999.00, 9, -999.00
49NZ20071008, P14N, 20, 1, 25, X12043, 2, 20071023, 0740, 51.1742, 179.7445, 2340,    829.4, 2,   3.2830, 2,  34.2780, 2,  34.2776, 2,     15.9, 2,     15.9, 2,   129.61, 2,    44.34, 2,     0.01, 2,     3.17, 2,    0.284, 2,    0.135, 2,    0.017, 2, -999.000, 9,   2372.7, 2,   2359.5, 6,    7.3144,     25.00,   -999.0, 9,   -999.0,  -999.00, 9,   -999.0,   3.2263, 27.2879,   3.2827, 2, 2, 0.40, 0.16, 0.01, 0.018,  -999.00, 9, -999.00, -999.00, 9, -999.00
49NZ20071008, P14N, 20, 1, 24, X12030, 2, 20071023, 0740, 51.1742, 179.7445, 2340,    930.1, 2,   3.1330, 2,  34.3145, 2,  34.3140, 2,     18.2, 2,     17.0, 2,   134.71, 2,    44.19, 2,     0.01, 2,     3.15, 2,    0.223, 2,    0.102, 2,    0.008, 2, -999.000, 9,   2375.8, 2,   2366.5, 2,    7.3192,     25.00,   -999.0, 9,   -999.0,  -999.00, 9,   -999.0,   3.0697, 27.3315,   3.1331, 2, 6, 0.42, 0.16, 0.01, 0.018,  -999.00, 9, -999.00, -999.00, 9, -999.00
49NZ20071008, P14N, 20, 1, 23, X12027, 2, 20071023, 0740, 51.1742, 179.7445, 2340,   1071.8, 2,   2.8639, 2,  34.3793, 2,  34.3786, 6,     18.3, 2,     18.4, 2,   143.78, 2,    44.28, 2,     0.01, 2,     3.16, 2,    0.112, 2,    0.056, 2,    0.005, 2, -999.000, 9,   2383.2, 2,   2377.9, 2,    7.3312,     25.00,   -999.0, 9,   -999.0,  -999.00, 9,   -999.0,   2.7919, 27.4083,   2.8640, 2, 2, 0.44, 0.16, 0.01, 0.018,  -999.00, 9, -999.00, -999.00, 9, -999.00
49NZ20071008, P14N, 20, 1, 22, X12028, 2, 20071023, 0740, 51.1742, 179.7445, 2340,   1271.7, 2,   2.6069, 2,  34.4350, 2,  34.4339, 2,     25.7, 2,     24.7, 2,   151.58, 2,    44.12, 2,     0.00, 2,     3.13, 2,    0.081, 2,    0.042, 2,    0.012, 2, -999.000, 9,   2388.6, 2,   2388.1, 2,    7.3470,     25.00,   -999.0, 9,   -999.0,  -999.00, 9,   -999.0,   2.5219, 27.4763,   2.6068, 2, 2, 0.45, 0.16, 0.01, 0.018,  -999.00, 9, -999.00, -999.00, 9, -999.00
49NZ20071008, P14N, 20, 1, 21, X12009, 2, 20071023, 0740, 51.1742, 179.7445, 2340,   1471.0, 2,   2.3787, 2,  34.4861, 2,  34.4858, 2,     33.9, 2,     31.2, 2,   158.10, 2,    43.71, 2,     0.01, 2,     3.10, 2,    0.038, 2,    0.017, 2,    0.000, 2, -999.000, 9,   2391.3, 2,   2397.7, 2,    7.3626,     25.00,   -999.0, 9,   -999.0,  -999.00, 9,   -999.0,   2.2805, 27.5373,   2.3785, 2, 2, 0.47, 0.16, 0.01, 0.018,  -999.00, 9, -999.00, -999.00, 9, -999.00
49NZ20071008, P14N, 20, 1, 20, X12026, 2, 20071023, 0740, 51.1742, 179.7445, 2340,   1671.0, 2,   2.0954, 2,  34.5452, 2,  34.5450, 2,     51.2, 2,     50.3, 2,   163.17, 2,    42.58, 2,     0.01, 2,     3.02, 2,    0.023, 2,    0.011, 2,    0.000, 2, -999.000, 9,   2385.3, 2,   2407.1, 2,    7.4032,     25.00,   -999.0, 9,   -999.0,  -999.00, 9,   -999.0,   1.9847, 27.6085,   2.0955, 2, 6, 0.48, 0.15, 0.01, 0.018,  -999.00, 9, -999.00, -999.00, 9, -999.00
49NZ20071008, P14N, 20, 1, 19, X12025, 2, 20071023, 0740, 51.1742, 179.7445, 2340,   1872.5, 2,   1.9936, 2,  34.5675, 2,  34.5662, 6,     58.4, 2,     59.2, 2,   164.13, 2,    42.04, 2,     0.01, 2,     2.98, 2,    0.012, 2,    0.006, 2,    0.007, 3, -999.000, 9,   2381.0, 2,   2409.1, 2,    7.4198,     25.00,   -999.0, 9,   -999.0,  -999.00, 9,   -999.0,   1.8680, 27.6355,   1.9945, 2, 2, 0.48, 0.15, 0.01, 0.017,  -999.00, 9, -999.00, -999.00, 9, -999.00
49NZ20071008, P14N, 20, 1, 18, X12024, 2, 20071023, 0740, 51.1742, 179.7445, 2340,   2072.4, 2,   1.8865, 2,  34.5891, 2,  34.5891, 2,     70.2, 2,     72.0, 2,   164.51, 2,    41.30, 2,     0.01, 2,     2.92, 2,    0.012, 2,    0.005, 2,    0.000, 2, -999.000, 9,   2375.4, 2,   2412.6, 2,    7.4456,     25.00,   -999.0, 9,   -999.0,  -999.00, 9,   -999.0,   1.7459, 27.6621,   1.8864, 2, 2, 0.48, 0.15, 0.01, 0.017,  -999.00, 9, -999.00, -999.00, 9, -999.00
49NZ20071008, P14N, 20, 1, 17, X12023, 2, 20071023, 0740, 51.1742, 179.7445, 2340,   2271.0, 2,   1.8261, 2,  34.6026, 2,  34.6051, 3,     79.9, 2,     80.4, 2,   164.67, 2,    40.83, 2,     0.01, 2,     2.89, 2,    0.000, 2,    0.000, 2,    0.000, 2, -999.000, 9,   2372.2, 2,   2414.6, 2,    7.4626,     25.00,   -999.0, 9,   -999.0,  -999.00, 9,   -999.0,   1.6695, 27.6787,   1.8256, 2, 2, 0.48, 0.15, 0.01, 0.017,  -999.00, 9, -999.00, -999.00, 9, -999.00
49NZ20071008, P14N, 20, 1, 16, X12022, 9, 20071023, 0740, 51.1742, 179.7445, 2340,     11.0, 2,   5.8359, 2,  33.1828, 2, -999.0000, 9,    286.9, 2,   -999.0, 9,  -999.00, 9,  -999.00, 9,  -999.00, 9,  -999.00, 9, -999.000, 9, -999.000, 9, -999.000, 9, -999.000, 9,   -999.0, 9,   -999.0, 9, -999.0000,   -999.00,   -999.0, 9,   -999.0,  -999.00, 9,   -999.0,   5.8350, 26.1371,   5.8360, 2, 9, -999.00, -999.00, -999.00, -999.000,  -999.00, 9, -999.00, -999.00, 9, -999.00
49NZ20071008, P14N, 20, 1, 15, X12021, 9, 20071023, 0740, 51.1742, 179.7445, 2340,     50.5, 2,   5.6315, 2,  33.2822, 2, -999.0000, 9,    244.7, 2,   -999.0, 9,  -999.00, 9,  -999.00, 9,  -999.00, 9,  -999.00, 9, -999.000, 9, -999.000, 9, -999.000, 9, -999.000, 9,   -999.0, 9,   -999.0, 9, -999.0000,   -999.00,   -999.0, 9,   -999.0,  -999.00, 9,   -999.0,   5.6275, 26.2407,   5.6314, 2, 9, -999.00, -999.00, -999.00, -999.000,  -999.00, 9, -999.00, -999.00, 9, -999.00
49NZ20071008, P14N, 20, 1, 14, X12020, 9, 20071023, 0740, 51.1742, 179.7445, 2340,    101.6, 2,   5.2315, 2,  33.3666, 2, -999.0000, 9,    196.8, 2,   -999.0, 9,  -999.00, 9,  -999.00, 9,  -999.00, 9,  -999.00, 9, -999.000, 9, -999.000, 9, -999.000, 9, -999.000, 9,   -999.0, 9,   -999.0, 9, -999.0000,   -999.00,   -999.0, 9,   -999.0,  -999.00, 9,   -999.0,   5.2237, 26.3549,   5.2322, 2, 9, -999.00, -999.00, -999.00, -999.000,  -999.00, 9, -999.00, -999.00, 9, -999.00
49NZ20071008, P14N, 20, 1, 13, X12019, 9, 20071023, 0740, 51.1742, 179.7445, 2340,    151.1, 2,   4.8794, 2,  33.4399, 2, -999.0000, 9,    181.7, 2,   -999.0, 9,  -999.00, 9,  -999.00, 9,  -999.00, 9,  -999.00, 9, -999.000, 9, -999.000, 9, -999.000, 9, -999.000, 9,   -999.0, 9,   -999.0, 9, -999.0000,   -999.00,   -999.0, 9,   -999.0,  -999.00, 9,   -999.0,   4.8682, 26.4532,   4.8787, 2, 9, -999.00, -999.00, -999.00, -999.000,  -999.00, 9, -999.00, -999.00, 9, -999.00
49NZ20071008, P14N, 20, 1, 12, X12040, 9, 20071023, 0740, 51.1742, 179.7445, 2340,    200.8, 2,   4.7405, 2,  33.5412, 2, -999.0000, 9,    152.5, 2,   -999.0, 9,  -999.00, 9,  -999.00, 9,  -999.00, 9,  -999.00, 9, -999.000, 9, -999.000, 9, -999.000, 9, -999.000, 9,   -999.0, 9,   -999.0, 9, -999.0000,   -999.00,   -999.0, 9,   -999.0,  -999.00, 9,   -999.0,   4.7257, 26.5493,   4.7405, 2, 9, -999.00, -999.00, -999.00, -999.000,  -999.00, 9, -999.00, -999.00, 9, -999.00
49NZ20071008, P14N, 20, 1, 11, X12047, 9, 20071023, 0740, 51.1742, 179.7445, 2340,    250.3, 2,   4.6299, 2,  33.6236, 2, -999.0000, 9,    126.5, 2,   -999.0, 9,  -999.00, 9,  -999.00, 9,  -999.00, 9,  -999.00, 9, -999.000, 9, -999.000, 9, -999.000, 9, -999.000, 9,   -999.0, 9,   -999.0, 9, -999.0000,   -999.00,   -999.0, 9,   -999.0,  -999.00, 9,   -999.0,   4.6115, 26.6272,   4.6291, 2, 9, -999.00, -999.00, -999.00, -999.000,  -999.00, 9, -999.00, -999.00, 9, -999.00
49NZ20071008, P14N, 20, 1, 10, X12010, 9, 20071023, 0740, 51.1742, 179.7445, 2340,    330.7, 2,   4.4144, 2,  33.7937, 2, -999.0000, 9,     81.2, 2,   -999.0, 9,  -999.00, 9,  -999.00, 9,  -999.00, 9,  -999.00, 9, -999.000, 9, -999.000, 9, -999.000, 9, -999.000, 9,   -999.0, 9,   -999.0, 9, -999.0000,   -999.00,   -999.0, 9,   -999.0,  -999.00, 9,   -999.0,   4.3904, 26.7860,   4.4142, 2, 9, -999.00, -999.00, -999.00, -999.000,  -999.00, 9, -999.00, -999.00, 9, -999.00
49NZ20071008, P14N, 20, 1, 9, X12015, 9, 20071023, 0740, 51.1742, 179.7445, 2340,    429.8, 2,   4.1450, 2,  33.9669, 2, -999.0000, 9,     31.8, 2,   -999.0, 9,  -999.00, 9,  -999.00, 9,  -999.00, 9,  -999.00, 9, -999.000, 9, -999.000, 9, -999.000, 9, -999.000, 9,   -999.0, 9,   -999.0, 9, -999.0000,   -999.00,   -999.0, 9,   -999.0,  -999.00, 9,   -999.0,   4.1142, 26.9526,   4.1447, 2, 9, -999.00, -999.00, -999.00, -999.000,  -999.00, 9, -999.00, -999.00, 9, -999.00
49NZ20071008, P14N, 20, 1, 8, X12046, 9, 20071023, 0740, 51.1742, 179.7445, 2340,    530.0, 2,   3.8888, 2,  34.0903, 2, -999.0000, 9,     22.2, 2,   -999.0, 9,  -999.00, 9,  -999.00, 9,  -999.00, 9,  -999.00, 9, -999.000, 9, -999.000, 9, -999.000, 9, -999.000, 9,   -999.0, 9,   -999.0, 9, -999.0000,   -999.00,   -999.0, 9,   -999.0,  -999.00, 9,   -999.0,   3.8514, 27.0776,   3.8883, 2, 9, -999.00, -999.00, -999.00, -999.000,  -999.00, 9, -999.00, -999.00, 9, -999.00
49NZ20071008, P14N, 20, 1, 7, X12044, 9, 20071023, 0740, 51.1742, 179.7445, 2340,    631.5, 2,   3.6538, 2,  34.1756, 2, -999.0000, 9,     15.9, 2,   -999.0, 9,  -999.00, 9,  -999.00, 9,  -999.00, 9,  -999.00, 9, -999.000, 9, -999.000, 9, -999.000, 9, -999.000, 9,   -999.0, 9,   -999.0, 9, -999.0000,   -999.00,   -999.0, 9,   -999.0,  -999.00, 9,   -999.0,   3.6098, 27.1695,   3.6542, 2, 9, -999.00, -999.00, -999.00, -999.000,  -999.00, 9, -999.00, -999.00, 9, -999.00
49NZ20071008, P14N, 20, 1, 6, X12048, 9, 20071023, 0740, 51.1742, 179.7445, 2340,    732.2, 2,   3.4628, 2,  34.2357, 2, -999.0000, 9,     15.7, 2,   -999.0, 9,  -999.00, 9,  -999.00, 9,  -999.00, 9,  -999.00, 9, -999.000, 9, -999.000, 9, -999.000, 9, -999.000, 9,   -999.0, 9,   -999.0, 9, -999.0000,   -999.00,   -999.0, 9,   -999.0,  -999.00, 9,   -999.0,   3.4123, 27.2365,   3.4627, 2, 9, -999.00, -999.00, -999.00, -999.000,  -999.00, 9, -999.00, -999.00, 9, -999.00
49NZ20071008, P14N, 20, 1, 5, X12014, 9, 20071023, 0740, 51.1742, 179.7445, 2340,    830.5, 2,   3.2846, 2,  34.2776, 2, -999.0000, 9,     15.9, 2,   -999.0, 9,  -999.00, 9,  -999.00, 9,  -999.00, 9,  -999.00, 9, -999.000, 9, -999.000, 9, -999.000, 9, -999.000, 9,   -999.0, 9,   -999.0, 9, -999.0000,   -999.00,   -999.0, 9,   -999.0,  -999.00, 9,   -999.0,   3.2278, 27.2874,   3.2846, 2, 9, -999.00, -999.00, -999.00, -999.000,  -999.00, 9, -999.00, -999.00, 9, -999.00
49NZ20071008, P14N, 20, 1, 4, X12006, 9, 20071023, 0740, 51.1742, 179.7445, 2340,    931.4, 2,   3.1337, 2,  34.3141, 2, -999.0000, 9,     18.3, 2,   -999.0, 9,  -999.00, 9,  -999.00, 9,  -999.00, 9,  -999.00, 9, -999.000, 9, -999.000, 9, -999.000, 9, -999.000, 9,   -999.0, 9,   -999.0, 9, -999.0000,   -999.00,   -999.0, 9,   -999.0,  -999.00, 9,   -999.0,   3.0703, 27.3311,   3.1336, 2, 9, -999.00, -999.00, -999.00, -999.000,  -999.00, 9, -999.00, -999.00, 9, -999.00
49NZ20071008, P14N, 20, 1, 3, X12013, 9, 20071023, 0740, 51.1742, 179.7445, 2340,   1072.9, 2,   2.8651, 2,  34.3790, 2, -999.0000, 9,     18.3, 2,   -999.0, 9,  -999.00, 9,  -999.00, 9,  -999.00, 9,  -999.00, 9, -999.000, 9, -999.000, 9, -999.000, 9, -999.000, 9,   -999.0, 9,   -999.0, 9, -999.0000,   -999.00,   -999.0, 9,   -999.0,  -999.00, 9,   -999.0,   2.7930, 27.4079,   2.8653, 2, 9, -999.00, -999.00, -999.00, -999.000,  -999.00, 9, -999.00, -999.00, 9, -999.00
49NZ20071008, P14N, 20, 1, 2, X12002, 9, 20071023, 0740, 51.1742, 179.7445, 2340,   1273.6, 2,   2.6050, 2,  34.4353, 2, -999.0000, 9,     25.8, 2,   -999.0, 9,  -999.00, 9,  -999.00, 9,  -999.00, 9,  -999.00, 9, -999.000, 9, -999.000, 9, -999.000, 9, -999.000, 9,   -999.0, 9,   -999.0, 9, -999.0000,   -999.00,   -999.0, 9,   -999.0,  -999.00, 9,   -999.0,   2.5199, 27.4767,   2.6050, 2, 9, -999.00, -999.00, -999.00, -999.000,  -999.00, 9, -999.00, -999.00, 9, -999.00
49NZ20071008, P14N, 20, 1, 1, X12001, 2, 20071023, 0740, 51.1742, 179.7445, 2340,   2393.2, 2,   1.7987, 2,  34.6092, 2,  34.6091, 6,     82.9, 2,     83.0, 2,   164.56, 2,    40.61, 2,     0.01, 2,     2.87, 2,    0.000, 2,    0.002, 2,    0.000, 2, -999.000, 9,   2369.8, 2,   2415.0, 2,    7.4674,     25.00,   -999.0, 9,   -999.0,  -999.00, 9,   -999.0,   1.6319, 27.6868,   1.7985, 2, 2, 0.48, 0.15, 0.01, 0.017,  -999.00, 9, -999.00, -999.00, 9, -999.00