BOTTLE,20221005CCHSIOAMB
EXPOCODE,SECT_ID,STNNBR,CASTNO,SAMPNO,BTLNBR,BTLNBR_FLAG_W,DATE,TIME,LATITUDE,LONGITUDE,DEPTH,CTDPRS,CTDPRS_FLAG_W,CTDTMP,CTDTMP_FLAG_W,CTDSAL,CTDSAL_FLAG_W,SALNTY,SALNTY_FLAG_W,CTDOXY,CTDOXY_FLAG_W,OXYGEN,OXYGEN_FLAG_W,SILCAT,SILCAT_FLAG_W,NITRAT,NITRAT_FLAG_W,NITRIT,NITRIT_FLAG_W,PHSPHT,PHSPHT_FLAG_W,CFC-11,CFC-11_FLAG_W,CFC-12,CFC-12_FLAG_W,CFC113,CFC113_FLAG_W,CCL4,CCL4_FLAG_W,TCARBN,TCARBN_FLAG_W,ALKALI,ALKALI_FLAG_W,PH_TOT,PH_TMP,DELC14,DELC14_FLAG_W,C14ERR,DELC13,DELC13_FLAG_W,C13ERR,THETA,SIG0,SBE35,SBE35_FLAG_W,PH_TOT_FLAG_W,SILUNC,NRAUNC,NRIUNC,PHPUNC,CS-137,CS-137_FLAG_W,CS137ER,PLUTO,PLUTO_FLAG_W,PLUTOER
,,,,,,,,,,,METERS,DBAR,,ITS-90,,PSS-78,,PSS-78,,UMOL/KG,,UMOL/KG,,UMOL/KG,,UMOL/KG,,UMOL/KG,,UMOL/KG,,PMOL/KG,,PMOL/KG,,PMOL/KG,,PMOL/KG,,UMOL/KG,,UMOL/KG,,,DEG C,/MILLE,,/MILLE,/MILLE,,/MILLE,DEG C,KG/M^3,ITS-90,,,UMOL/KG,UMOL/KG,UMOL/KG,UMOL/KG,DM/.1MG,,BQ/M^3,MBQ/M^3,,MBQ/M^3
49NZ20071008, P14N, 11, 1, 36, X12042, 2, 20071024, 2222, 53.9945, -177.8892, 3800,     10.9, 2,   6.2720, 2,  32.9558, 2,  32.9565, 2,    296.9, 2,    298.1, 2,    30.86, 2,    19.07, 2,     0.23, 2,     1.68, 2,    4.085, 2,    2.431, 2,    0.411, 2, -999.000, 9,   2085.1, 2,   2232.7, 2,    7.7713,     25.00,   -999.0, 1,   -999.0,  -999.00, 1,   -999.0,   6.2711, 25.9038,   6.2716, 2, 2, 0.19, 0.09, 0.01, 0.014,  -999.00, 9, -999.00, -999.00, 9, -999.00
49NZ20071008, P14N, 11, 1, 35, X12041, 2, 20071024, 2222, 53.9945, -177.8892, 3800,     50.7, 2,   6.1832, 2,  32.9610, 2,  32.9616, 2,    295.8, 2,    295.8, 2,    31.44, 2,    19.35, 2,     0.23, 2,     1.70, 2,    4.091, 2,    2.429, 2,    0.386, 2, -999.000, 9,   2089.8, 6,   2233.4, 2,    7.7643,     25.00,   -999.0, 1,   -999.0,  -999.00, 1,   -999.0,   6.1790, 25.9194,   6.1839, 2, 2, 0.19, 0.09, 0.01, 0.014,  -999.00, 9, -999.00, -999.00, 9, -999.00
49NZ20071008, P14N, 11, 1, 34, X12016, 2, 20071024, 2222, 53.9945, -177.8892, 3800,    100.0, 2,   3.7852, 2,  33.2368, 2,  33.2355, 2,    233.5, 2,    257.0, 2,    54.80, 2,    29.17, 2,     0.03, 2,     2.25, 2,    4.244, 2,    2.480, 2,    0.361, 2, -999.000, 9,   2165.2, 2,   2249.2, 6,    7.5943,     25.00,   -999.0, 1,   -999.0,  -999.00, 1,   -999.0,   3.7787, 26.4055,   3.7940, 2, 2, 0.24, 0.11, 0.01, 0.016,  -999.00, 9, -999.00, -999.00, 9, -999.00
49NZ20071008, P14N, 11, 1, 33, X12033, 2, 20071024, 2222, 53.9945, -177.8892, 3800,    149.9, 2,   2.4828, 2,  33.2077, 2,  33.2089, 2,    297.4, 2,    296.7, 2,    53.70, 2,    29.02, 2,     0.02, 2,     2.24, 2,    4.882, 6,    2.870, 6,    0.444, 6, -999.000, 9,   2158.1, 2,   2248.0, 2,    7.6205,     25.00,   -999.0, 1,   -999.0,  -999.00, 1,   -999.0,   2.4746, 26.4988,   2.4820, 2, 6, 0.24, 0.11, 0.01, 0.016,  -999.00, 9, -999.00, -999.00, 9, -999.00
49NZ20071008, P14N, 11, 1, 32, X12038, 2, 20071024, 2222, 53.9945, -177.8892, 3800,    201.7, 2,   4.0231, 2,  33.5560, 2,  33.5547, 2,    156.5, 2,    151.1, 2,    73.47, 2,    35.54, 2,     0.02, 2,     2.61, 2,    3.010, 2,    1.651, 2,    0.248, 2, -999.000, 9,   2238.8, 2,   2274.1, 2,    7.4504,     25.00,   -999.0, 1,   -999.0,  -999.00, 1,   -999.0,   4.0094, 26.6365,   4.0226, 2, 2, 0.28, 0.13, 0.01, 0.017,  -999.00, 9, -999.00, -999.00, 9, -999.00
49NZ20071008, P14N, 11, 1, 31, X12003, 2, 20071024, 2222, 53.9945, -177.8892, 3800,    250.4, 2,   3.9584, 2,  33.6466, 2,  33.6486, 6,    121.9, 2,    120.4, 2,    78.00, 2,    37.76, 2,     0.02, 2,     2.75, 2,    2.764, 2,    1.478, 2,    0.232, 2, -999.000, 9,   2260.8, 2,   2280.7, 2,    7.4009,     25.00,   -999.0, 1,   -999.0,  -999.00, 1,   -999.0,   3.9413, 26.7155,   3.9584, 2, 2, 0.29, 0.14, 0.01, 0.017,  -999.00, 9, -999.00, -999.00, 9, -999.00
49NZ20071008, P14N, 11, 1, 30, X12008, 2, 20071024, 2222, 53.9945, -177.8892, 3800,    331.0, 2,   3.8925, 2,  33.8209, 2,  33.8223, 2,     81.1, 2,     79.6, 2,    90.72, 2,    40.39, 2,     0.02, 2,     2.92, 2,    2.104, 2,    1.080, 2,    0.147, 2, -999.000, 9,   2294.9, 2,   2298.9, 2,    7.3541,     25.00,   -999.0, 1,   -999.0,  -999.00, 1,   -999.0,   3.8698, 26.8614,   3.8924, 2, 2, 0.32, 0.15, 0.01, 0.017,  -999.00, 9, -999.00, -999.00, 9, -999.00
49NZ20071008, P14N, 11, 1, 29, X12035, 2, 20071024, 2222, 53.9945, -177.8892, 3800,    430.5, 2,   3.7512, 2,  34.0027, 2,  34.0023, 2,     42.3, 2,     30.8, 2,   104.59, 2,    43.91, 2,     0.02, 2,     3.13, 2,    1.348, 2,    0.650, 2,    0.103, 2, -999.000, 9,   2338.7, 2,   2318.4, 2,    7.2899,     25.00,   -999.0, 1,   -999.0,  -999.00, 1,   -999.0,   3.7217, 27.0208,   3.7512, 2, 2, 0.35, 0.16, 0.01, 0.018,  -999.00, 9, -999.00, -999.00, 9, -999.00
49NZ20071008, P14N, 11, 1, 28, X12034, 2, 20071024, 2222, 53.9945, -177.8892, 3800,    529.7, 2,   3.6444, 2,  34.0953, 2,  34.0962, 6,     20.6, 2,     19.2, 2,   112.58, 2,    44.34, 2,     0.01, 2,     3.16, 2,    0.925, 2,    0.439, 2,    0.056, 2, -999.000, 9,   2348.9, 2,   2330.7, 2,    7.2866,     25.00,   -999.0, 1,   -999.0,  -999.00, 1,   -999.0,   3.6081, 27.1057,   3.6441, 2, 2, 0.37, 0.16, 0.01, 0.018,  -999.00, 9, -999.00, -999.00, 9, -999.00
49NZ20071008, P14N, 11, 1, 27, X12049, 2, 20071024, 2222, 53.9945, -177.8892, 3800,    629.0, 2,   3.4894, 2,  34.1570, 2,  34.1572, 2,     21.0, 2,     20.2, 2,   119.87, 2,    44.14, 2,     0.01, 2,     3.15, 2,    0.712, 2,    0.335, 2,    0.062, 2, -999.000, 9,   2353.6, 2,   2341.1, 2,    7.2990,     25.00,   -999.0, 1,   -999.0,  -999.00, 1,   -999.0,   3.4465, 27.1705,   3.4894, 2, 2, 0.38, 0.16, 0.01, 0.018,  -999.00, 9, -999.00, -999.00, 9, -999.00
49NZ20071008, P14N, 11, 1, 26, X12032, 2, 20071024, 2222, 53.9945, -177.8892, 3800,    730.2, 2,   3.3188, 2,  34.2191, 2,  34.2218, 2,     17.3, 2,     16.9, 2,   127.96, 2,    44.25, 2,     0.01, 2,     3.17, 2,    0.489, 6,    0.229, 6,    0.027, 6, -999.000, 9,   2366.0, 6,   2352.1, 2,    7.3034,     25.00,   -999.0, 1,   -999.0,  -999.00, 1,   -999.0,   3.2693, 27.2369,   3.3186, 2, 2, 0.40, 0.16, 0.01, 0.018,  -999.00, 9, -999.00, -999.00, 9, -999.00
49NZ20071008, P14N, 11, 1, 25, X12043, 2, 20071024, 2222, 53.9945, -177.8892, 3800,    829.8, 2,   3.1849, 2,  34.2697, 2,  34.2710, 2,     15.0, 2,     15.0, 2,   133.88, 2,    44.40, 2,     0.01, 2,     3.18, 2,    0.333, 2,    0.154, 2,    0.019, 2, -999.000, 9,   2372.8, 2,   2360.2, 6,    7.3075,     25.00,   -999.0, 1,   -999.0,  -999.00, 1,   -999.0,   3.1288, 27.2903,   3.1848, 2, 2, 0.41, 0.16, 0.01, 0.018,  -999.00, 9, -999.00, -999.00, 9, -999.00
49NZ20071008, P14N, 11, 1, 24, X12030, 2, 20071024, 2222, 53.9945, -177.8892, 3800,    929.9, 2,   3.0270, 2,  34.3107, 2,  34.3114, 2,     15.5, 2,     15.4, 2,   140.04, 2,    44.24, 2,     0.01, 2,     3.17, 2,    0.247, 2,    0.111, 2,    0.010, 2, -999.000, 9,   2376.2, 2,   2367.7, 2,    7.3139,     25.00,   -999.0, 1,   -999.0,  -999.00, 1,   -999.0,   2.9645, 27.3380,   3.0269, 2, 6, 0.43, 0.16, 0.01, 0.018,  -999.00, 9, -999.00, -999.00, 9, -999.00
49NZ20071008, P14N, 11, 1, 23, X12027, 2, 20071024, 2222, 53.9945, -177.8892, 3800,   1069.3, 2,   2.8221, 2,  34.3635, 2,  34.3645, 6,     16.4, 2,     16.4, 2,   148.82, 2,    44.22, 2,     0.01, 2,     3.17, 2,    0.167, 2,    0.082, 2,    0.000, 2, -999.000, 9,   2383.1, 2,   2377.1, 2,    7.3200,     25.00,   -999.0, 1,   -999.0,  -999.00, 1,   -999.0,   2.7507, 27.3993,   2.8222, 2, 2, 0.45, 0.16, 0.01, 0.018,  -999.00, 9, -999.00, -999.00, 9, -999.00
49NZ20071008, P14N, 11, 1, 22, X12028, 2, 20071024, 2222, 53.9945, -177.8892, 3800,   1269.7, 2,   2.5852, 2,  34.4261, 2,  34.4263, 2,     19.0, 2,     18.9, 2,   158.49, 2,    44.03, 2,     0.01, 2,     3.16, 2,    0.083, 2,    0.041, 2,    0.000, 2, -999.000, 9,   2391.8, 2,   2388.9, 2,    7.3309,     25.00,   -999.0, 1,   -999.0,  -999.00, 1,   -999.0,   2.5006, 27.4710,   2.5852, 2, 2, 0.47, 0.16, 0.01, 0.018,  -999.00, 9, -999.00, -999.00, 9, -999.00
49NZ20071008, P14N, 11, 1, 21, X12009, 2, 20071024, 2222, 53.9945, -177.8892, 3800,   1471.9, 2,   2.3162, 2,  34.4878, 2,  34.4881, 2,     26.2, 2,     26.3, 2,   170.63, 2,    43.45, 2,     0.01, 2,     3.14, 2,    0.032, 2,    0.016, 2,    0.000, 2, -999.000, 9,   2394.3, 2,   2398.9, 2,    7.3504,     25.00,   -999.0, 1,   -999.0,  -999.00, 1,   -999.0,   2.2187, 27.5438,   2.3163, 2, 2, 0.49, 0.15, 0.01, 0.018,  -999.00, 9, -999.00, -999.00, 9, -999.00
49NZ20071008, P14N, 11, 1, 20, X12026, 2, 20071024, 2222, 53.9945, -177.8892, 3800,   1669.1, 2,   2.1259, 2,  34.5322, 2,  34.5318, 2,     34.8, 2,     34.8, 2,   179.30, 2,    42.83, 2,     0.01, 2,     3.11, 2,    0.021, 2,    0.009, 2,    0.000, 2, -999.000, 9,   2394.6, 2,   2407.7, 2,    7.3697,     25.00,   -999.0, 1,   -999.0,  -999.00, 1,   -999.0,   2.0150, 27.5957,   2.1259, 2, 6, 0.51, 0.15, 0.01, 0.018,  -999.00, 9, -999.00, -999.00, 9, -999.00
49NZ20071008, P14N, 11, 1, 19, X12025, 2, 20071024, 2222, 53.9945, -177.8892, 3800,   1871.1, 2,   1.9770, 2,  34.5656, 2,  34.5655, 2,     44.4, 2,     43.9, 2,   187.74, 2,    41.96, 2,     0.01, 2,     3.09, 2,    0.009, 2,    0.003, 2,    0.000, 2, -999.000, 9,   2394.0, 2,   2413.5, 2,    7.3885,     25.00,   -999.0, 1,   -999.0,  -999.00, 1,   -999.0,   1.8518, 27.6352,   1.9771, 2, 2, 0.53, 0.15, 0.01, 0.018,  -999.00, 9, -999.00, -999.00, 9, -999.00
49NZ20071008, P14N, 11, 1, 18, X12024, 2, 20071024, 2222, 53.9945, -177.8892, 3800,   2070.2, 2,   1.8640, 2,  34.5909, 2,  34.5909, 6,     53.3, 2,     53.4, 2,   194.99, 2,    41.20, 2,     0.01, 2,     3.05, 2,    0.000, 2,    0.000, 2,    0.000, 2, -999.000, 9,   2394.5, 2,   2419.3, 2,    7.4077,     25.00,   -999.0, 1,   -999.0,  -999.00, 1,   -999.0,   1.7239, 27.6653,   1.8639, 2, 2, 0.55, 0.15, 0.01, 0.018,  -999.00, 9, -999.00, -999.00, 9, -999.00
49NZ20071008, P14N, 11, 1, 17, X12023, 2, 20071024, 2222, 53.9945, -177.8892, 3800,   2269.7, 2,   1.7960, 2,  34.6073, 2,  34.6073, 2,     60.6, 2,     60.8, 2,   198.95, 2,    40.61, 2,     0.01, 2,     3.03, 2, -999.000, 5, -999.000, 5, -999.000, 5, -999.000, 9,   2389.6, 2,   2421.9, 2,    7.4232,     25.00,   -999.0, 1,   -999.0,  -999.00, 1,   -999.0,   1.6400, 27.6847,   1.7960, 2, 2, 0.56, 0.15, 0.01, 0.018,  -999.00, 9, -999.00, -999.00, 9, -999.00
49NZ20071008, P14N, 11, 1, 16, X12022, 2, 20071024, 2222, 53.9945, -177.8892, 3800,   2470.4, 2,   1.7380, 2,  34.6213, 2,  34.6214, 2,     67.6, 2,     68.1, 2,   202.73, 2,    40.10, 2,     0.01, 2,     3.01, 2,    0.000, 2,    0.000, 2,    0.008, 3, -999.000, 9,   2386.7, 6,   2424.3, 2,    7.4381,     25.00,   -999.0, 1,   -999.0,  -999.00, 1,   -999.0,   1.5654, 27.7014,   1.7378, 2, 2, 0.56, 0.15, 0.01, 0.017,  -999.00, 9, -999.00, -999.00, 9, -999.00
49NZ20071008, P14N, 11, 1, 15, X12021, 2, 20071024, 2222, 53.9945, -177.8892, 3800,   2670.7, 2,   1.6807, 2,  34.6351, 2,  34.6353, 2,     75.5, 2,     75.9, 2,   206.99, 2,    39.39, 2,     0.01, 2,     2.98, 2,    0.000, 2,    0.000, 2,    0.000, 2, -999.000, 9,   2386.3, 2,   2426.8, 6,    7.4533,     25.00,   -999.0, 1,   -999.0,  -999.00, 1,   -999.0,   1.4910, 27.7180,   1.6808, 2, 2, 0.57, 0.14, 0.01, 0.017,  -999.00, 9, -999.00, -999.00, 9, -999.00
49NZ20071008, P14N, 11, 1, 14, X12020, 2, 20071024, 2222, 53.9945, -177.8892, 3800,   2870.0, 2,   1.6352, 2,  34.6463, 2,  34.6468, 2,     82.8, 2,     83.2, 2,   210.02, 2,    38.95, 2,     0.01, 2,     2.96, 2,    0.000, 2,    0.000, 2,    0.000, 2, -999.000, 9,   2384.4, 2,   2429.5, 2,    7.4687,     25.00,   -999.0, 1,   -999.0,  -999.00, 1,   -999.0,   1.4279, 27.7315,   1.6351, 2, 6, 0.58, 0.14, 0.01, 0.017,  -999.00, 9, -999.00, -999.00, 9, -999.00
49NZ20071008, P14N, 11, 1, 13, X12019, 2, 20071024, 2222, 53.9945, -177.8892, 3800,   3081.6, 2,   1.6100, 2,  34.6542, 2,  34.6547, 6,     88.5, 2,     88.5, 2,   212.43, 2,    38.50, 2,     0.01, 2,     2.93, 2,    0.000, 2,    0.000, 2,    0.000, 2, -999.000, 9,   2379.3, 2,   2431.5, 2,    7.4794,     25.00,   -999.0, 1,   -999.0,  -999.00, 1,   -999.0,   1.3830, 27.7411,   1.6099, 2, 2, 0.59, 0.14, 0.01, 0.017,  -999.00, 9, -999.00, -999.00, 9, -999.00
49NZ20071008, P14N, 11, 1, 12, X12040, 2, 20071024, 2222, 53.9945, -177.8892, 3800,   3332.3, 2,   1.5961, 2,  34.6610, 2,  34.6617, 2,     93.2, 2,     93.0, 2,   214.84, 2,    37.97, 2,     0.01, 2,     2.92, 2,    0.000, 4,    0.000, 2,    0.000, 2, -999.000, 9,   2379.6, 2,   2433.2, 2,    7.4890,     25.00,   -999.0, 1,   -999.0,  -999.00, 1,   -999.0,   1.3447, 27.7492,   1.5961, 2, 2, 0.59, 0.14, 0.01, 0.017,  -999.00, 9, -999.00, -999.00, 9, -999.00
49NZ20071008, P14N, 11, 1, 11, X12047, 2, 20071024, 2222, 53.9945, -177.8892, 3800,   3582.4, 2,   1.5915, 2,  34.6664, 2,  34.6668, 2,     97.1, 2,     96.8, 2,   218.81, 2,    37.75, 2,     0.01, 2,     2.91, 2,    0.002, 2,    0.001, 2,    0.000, 2, -999.000, 9,   2375.8, 2,   2434.7, 2,    7.4969,     25.00,   -999.0, 1,   -999.0,  -999.00, 1,   -999.0,   1.3146, 27.7557,   1.5915, 2, 2, 0.60, 0.14, 0.01, 0.017,  -999.00, 9, -999.00, -999.00, 9, -999.00
49NZ20071008, P14N, 11, 1, 10, X12010, 2, 20071024, 2222, 53.9945, -177.8892, 3800,   3828.4, 2,   1.5959, 2,  34.6702, 2,  34.6707, 2,    103.1, 2,    102.5, 2,   221.73, 2,    37.53, 2,     0.01, 2,     2.87, 2,    0.004, 2,    0.000, 2,    0.000, 2, -999.000, 9,   2373.4, 2,   2436.7, 2,    7.5101,     25.00,   -999.0, 1,   -999.0,  -999.00, 1,   -999.0,   1.2930, 27.7603,   1.5957, 2, 2, 0.61, 0.14, 0.01, 0.017,  -999.00, 9, -999.00, -999.00, 9, -999.00
49NZ20071008, P14N, 11, 1, 9, X12015, 2, 20071024, 2222, 53.9945, -177.8892, 3800,   2070.6, 2,   1.8632, 2,  34.5911, 2, -999.0000, 9,     53.3, 2,   -999.0, 9,  -999.00, 9,  -999.00, 9,  -999.00, 9,  -999.00, 9, -999.000, 9, -999.000, 9, -999.000, 9, -999.000, 9,   -999.0, 9,   -999.0, 9, -999.0000,   -999.00,   -999.0, 9,   -999.0,  -999.00, 9,   -999.0,   1.7231, 27.6655,   1.8630, 2, 9, -999.00, -999.00, -999.00, -999.000,  -999.00, 9, -999.00, -999.00, 9, -999.00
49NZ20071008, P14N, 11, 1, 8, X12046, 2, 20071024, 2222, 53.9945, -177.8892, 3800,   2070.5, 2,   1.8637, 2,  34.5910, 2, -999.0000, 9,     53.3, 2,   -999.0, 9,  -999.00, 9,  -999.00, 9,  -999.00, 9,  -999.00, 9, -999.000, 9, -999.000, 9, -999.000, 9, -999.000, 9,   -999.0, 9,   -999.0, 9, -999.0000,   -999.00,   -999.0, 9,   -999.0,  -999.00, 9,   -999.0,   1.7236, 27.6654,   1.8635, 2, 9, -999.00, -999.00, -999.00, -999.000,  -999.00, 9, -999.00, -999.00, 9, -999.00
49NZ20071008, P14N, 11, 1, 7, X12044, 2, 20071024, 2222, 53.9945, -177.8892, 3800,   2070.7, 2,   1.8636, 2,  34.5910, 2, -999.0000, 9,     53.3, 2,   -999.0, 9,  -999.00, 9,  -999.00, 9,  -999.00, 9,  -999.00, 9, -999.000, 9, -999.000, 9, -999.000, 9, -999.000, 9,   -999.0, 9,   -999.0, 9, -999.0000,   -999.00,   -999.0, 9,   -999.0,  -999.00, 9,   -999.0,   1.7235, 27.6654,   1.8636, 2, 9, -999.00, -999.00, -999.00, -999.000,  -999.00, 9, -999.00, -999.00, 9, -999.00
49NZ20071008, P14N, 11, 1, 6, X12048, 2, 20071024, 2222, 53.9945, -177.8892, 3800,   2070.2, 2,   1.8643, 2,  34.5907, 2, -999.0000, 9,     53.3, 2,   -999.0, 9,  -999.00, 9,  -999.00, 9,  -999.00, 9,  -999.00, 9, -999.000, 9, -999.000, 9, -999.000, 9, -999.000, 9,   -999.0, 9,   -999.0, 9, -999.0000,   -999.00,   -999.0, 9,   -999.0,  -999.00, 9,   -999.0,   1.7242, 27.6651,   1.8641, 2, 9, -999.00, -999.00, -999.00, -999.000,  -999.00, 9, -999.00, -999.00, 9, -999.00
49NZ20071008, P14N, 11, 1, 5, X12014, 2, 20071024, 2222, 53.9945, -177.8892, 3800,   3083.9, 2,   1.6101, 2,  34.6543, 2, -999.0000, 9,     88.5, 2,   -999.0, 9,  -999.00, 9,  -999.00, 9,  -999.00, 9,  -999.00, 9, -999.000, 9, -999.000, 9, -999.000, 9, -999.000, 9,   -999.0, 9,   -999.0, 9, -999.0000,   -999.00,   -999.0, 9,   -999.0,  -999.00, 9,   -999.0,   1.3829, 27.7412,   1.6101, 2, 9, -999.00, -999.00, -999.00, -999.000,  -999.00, 9, -999.00, -999.00, 9, -999.00
49NZ20071008, P14N, 11, 1, 4, X12006, 2, 20071024, 2222, 53.9945, -177.8892, 3800,   3083.0, 2,   1.6101, 2,  34.6543, 2, -999.0000, 9,     88.5, 2,   -999.0, 9,  -999.00, 9,  -999.00, 9,  -999.00, 9,  -999.00, 9, -999.000, 9, -999.000, 9, -999.000, 9, -999.000, 9,   -999.0, 9,   -999.0, 9, -999.0000,   -999.00,   -999.0, 9,   -999.0,  -999.00, 9,   -999.0,   1.3830, 27.7412,   1.6100, 2, 9, -999.00, -999.00, -999.00, -999.000,  -999.00, 9, -999.00, -999.00, 9, -999.00
49NZ20071008, P14N, 11, 1, 3, X12013, 2, 20071024, 2222, 53.9945, -177.8892, 3800,   3082.5, 2,   1.6101, 2,  34.6542, 2, -999.0000, 9,     88.6, 2,   -999.0, 9,  -999.00, 9,  -999.00, 9,  -999.00, 9,  -999.00, 9, -999.000, 9, -999.000, 9, -999.000, 9, -999.000, 9,   -999.0, 9,   -999.0, 9, -999.0000,   -999.00,   -999.0, 9,   -999.0,  -999.00, 9,   -999.0,   1.3830, 27.7411,   1.6100, 2, 9, -999.00, -999.00, -999.00, -999.000,  -999.00, 9, -999.00, -999.00, 9, -999.00
49NZ20071008, P14N, 11, 1, 2, X12002, 2, 20071024, 2222, 53.9945, -177.8892, 3800,   3081.7, 2,   1.6099, 2,  34.6544, 2, -999.0000, 9,     88.6, 2,   -999.0, 9,  -999.00, 9,  -999.00, 9,  -999.00, 9,  -999.00, 9, -999.000, 9, -999.000, 9, -999.000, 9, -999.000, 9,   -999.0, 9,   -999.0, 9, -999.0000,   -999.00,   -999.0, 9,   -999.0,  -999.00, 9,   -999.0,   1.3829, 27.7413,   1.6099, 2, 9, -999.00, -999.00, -999.00, -999.000,  -999.00, 9, -999.00, -999.00, 9, -999.00
49NZ20071008, P14N, 11, 1, 1, X12001, 2, 20071024, 2222, 53.9945, -177.8892, 3800,   3852.1, 2,   1.5985, 2,  34.6702, 2,  34.6708, 6,    103.1, 2,    102.5, 2,   221.72, 2,    37.59, 2,     0.01, 2,     2.87, 2,    0.008, 2,    0.002, 2,    0.000, 2, -999.000, 9,   2373.7, 2,   2437.4, 2,    7.5112,     25.00,   -999.0, 1,   -999.0,  -999.00, 1,   -999.0,   1.2930, 27.7603,   1.5983, 2, 2, 0.61, 0.14, 0.01, 0.017,  -999.00, 9, -999.00, -999.00, 9, -999.00