BOTTLE,20221005CCHSIOAMB
EXPOCODE,SECT_ID,STNNBR,CASTNO,SAMPNO,BTLNBR,BTLNBR_FLAG_W,DATE,TIME,LATITUDE,LONGITUDE,DEPTH,CTDPRS,CTDPRS_FLAG_W,CTDTMP,CTDTMP_FLAG_W,CTDSAL,CTDSAL_FLAG_W,SALNTY,SALNTY_FLAG_W,CTDOXY,CTDOXY_FLAG_W,OXYGEN,OXYGEN_FLAG_W,SILCAT,SILCAT_FLAG_W,NITRAT,NITRAT_FLAG_W,NITRIT,NITRIT_FLAG_W,PHSPHT,PHSPHT_FLAG_W,CFC-11,CFC-11_FLAG_W,CFC-12,CFC-12_FLAG_W,CFC113,CFC113_FLAG_W,CCL4,CCL4_FLAG_W,TCARBN,TCARBN_FLAG_W,ALKALI,ALKALI_FLAG_W,PH_TOT,PH_TMP,DELC14,DELC14_FLAG_W,C14ERR,DELC13,DELC13_FLAG_W,C13ERR,THETA,SIG0,SBE35,SBE35_FLAG_W,PH_TOT_FLAG_W,SILUNC,NRAUNC,NRIUNC,PHPUNC,CS-137,CS-137_FLAG_W,CS137ER,PLUTO,PLUTO_FLAG_W,PLUTOER
,,,,,,,,,,,METERS,DBAR,,ITS-90,,PSS-78,,PSS-78,,UMOL/KG,,UMOL/KG,,UMOL/KG,,UMOL/KG,,UMOL/KG,,UMOL/KG,,PMOL/KG,,PMOL/KG,,PMOL/KG,,PMOL/KG,,UMOL/KG,,UMOL/KG,,,DEG C,/MILLE,,/MILLE,/MILLE,,/MILLE,DEG C,KG/M^3,ITS-90,,,UMOL/KG,UMOL/KG,UMOL/KG,UMOL/KG,DM/.1MG,,BQ/M^3,MBQ/M^3,,MBQ/M^3
49NZ20071008, P01, P01_32, 1, 36, X12042, 2, 20071011, 1606, 44.0805, 154.9827, 5343,      9.9, 2,  12.5189, 2,  32.6187, 2,  32.6188, 2,    272.4, 2,    272.3, 2,    11.66, 2,     6.34, 2,     0.12, 2,     0.87, 2,    3.112, 2,    1.792, 2,    0.373, 2, -999.000, 9,   1990.7, 2,   2219.1, 2,    7.9564,     25.00,   -999.0, 1,   -999.0,  -999.00, 1,   -999.0,  12.5176, 24.6423,  12.5177, 2, 2, 0.14, 0.05, 0.01, 0.013,  -999.00, 9, -999.00, -999.00, 9, -999.00
49NZ20071008, P01, P01_32, 1, 35, X12041, 2, 20071011, 1606, 44.0805, 154.9827, 5343,     50.1, 2,   5.5342, 2,  33.1053, 2,  33.0903, 2,    314.5, 2,    324.4, 2,    29.48, 2,    16.66, 2,     0.40, 2,     1.63, 2,    4.952, 2,    2.701, 2,    0.472, 2, -999.000, 9,   2094.8, 6,   2244.0, 2,    7.7766,     25.00,   -999.0, 1,   -999.0,  -999.00, 1,   -999.0,   5.5303, 26.1123,   5.5477, 2, 2, 0.18, 0.08, 0.00, 0.014,  -999.00, 9, -999.00, -999.00, 9, -999.00
49NZ20071008, P01, P01_32, 1, 34, X12016, 2, 20071011, 1606, 44.0805, 154.9827, 5343,     99.9, 2,   1.7126, 2,  33.1142, 2,  33.1261, 2,    301.5, 2,    305.5, 2,    44.53, 2,    26.14, 2,     0.02, 2,     2.06, 2,    5.360, 2,    2.892, 2,    0.507, 2, -999.000, 9,   2145.8, 2,   2244.1, 6,    7.6350,     25.00,   -999.0, 1,   -999.0,  -999.00, 1,   -999.0,   1.7078, 26.4822,   1.7122, 2, 2, 0.22, 0.11, 0.01, 0.015,  -999.00, 9, -999.00, -999.00, 9, -999.00
49NZ20071008, P01, P01_32, 1, 33, X12033, 2, 20071011, 1606, 44.0805, 154.9827, 5343,    150.2, 2,   2.0487, 2,  33.3817, 2,  33.3867, 2,    203.2, 2,    214.3, 2,    64.79, 2,    33.19, 2,     0.01, 2,     2.51, 2,    4.248, 6,    2.204, 6,    0.378, 6, -999.000, 9,   2213.1, 2,   2264.5, 2,    7.4948,     25.00,   -999.0, 1,   -999.0,  -999.00, 1,   -999.0,   2.0410, 26.6721,   2.0482, 2, 6, 0.26, 0.13, 0.01, 0.016,  -999.00, 9, -999.00, -999.00, 9, -999.00
49NZ20071008, P01, P01_32, 1, 32, X12038, 2, 20071011, 1606, 44.0805, 154.9827, 5343,    201.2, 2,   2.7464, 2,  33.6530, 2,  33.6527, 2,    118.6, 2,    122.3, 2,    83.60, 2,    39.04, 2,     0.02, 2,     2.86, 2,    3.069, 2,    1.556, 2,    0.245, 2, -999.000, 9,   2276.1, 2,   2286.5, 2,    7.3707,     25.00,   -999.0, 1,   -999.0,  -999.00, 1,   -999.0,   2.7347, 26.8330,   2.7460, 2, 2, 0.30, 0.14, 0.01, 0.017,  -999.00, 9, -999.00, -999.00, 9, -999.00
49NZ20071008, P01, P01_32, 1, 31, X12003, 2, 20071011, 1606, 44.0805, 154.9827, 5343,    248.7, 2,   2.9370, 2,  33.7800, 2,  33.7809, 6,     87.0, 2,     88.4, 2,    92.88, 2,    40.79, 2,     0.01, 2,     2.97, 2,    2.513, 2,    1.270, 2,    0.205, 2, -999.000, 9,   2301.2, 2,   2298.8, 2,    7.3327,     25.00,   -999.0, 1,   -999.0,  -999.00, 1,   -999.0,   2.9220, 26.9181,   2.9372, 2, 2, 0.32, 0.15, 0.01, 0.017,  -999.00, 9, -999.00, -999.00, 9, -999.00
49NZ20071008, P01, P01_32, 1, 30, X12008, 2, 20071011, 1606, 44.0805, 154.9827, 5343,    329.4, 2,   3.1430, 2,  33.9367, 2,  33.9386, 2,     52.7, 2,     54.3, 2,   104.29, 2,    42.75, 2,     0.01, 2,     3.09, 2,    1.792, 2,    0.895, 2,    0.147, 2, -999.000, 9,   2327.1, 2,   2315.1, 2,    7.3042,     25.00,   -999.0, 1,   -999.0,  -999.00, 1,   -999.0,   3.1223, 27.0252,   3.1429, 2, 2, 0.35, 0.15, 0.01, 0.018,  -999.00, 9, -999.00, -999.00, 9, -999.00
49NZ20071008, P01, P01_32, 1, 29, X12035, 2, 20071011, 1606, 44.0805, 154.9827, 5343,    431.1, 2,   3.2191, 2,  34.0815, 2,  34.0808, 2,     34.5, 2,     33.6, 2,   116.55, 2,    43.59, 2,     0.01, 2,     3.14, 2,    1.127, 2,    0.555, 2,    0.085, 2, -999.000, 9,   2347.4, 2,   2333.4, 2,    7.2996,     25.00,   -999.0, 1,   -999.0,  -999.00, 1,   -999.0,   3.1913, 27.1343,   3.2189, 2, 2, 0.38, 0.15, 0.01, 0.018,  -999.00, 9, -999.00, -999.00, 9, -999.00
49NZ20071008, P01, P01_32, 1, 28, X12034, 2, 20071011, 1606, 44.0805, 154.9827, 5343,    529.8, 2,   3.1358, 2,  34.1799, 2,  34.1803, 6,     27.6, 2,     25.8, 2,   126.39, 2,    43.86, 2,     0.01, 2,     3.15, 2,    0.743, 2,    0.364, 2,    0.048, 2, -999.000, 9,   2360.0, 2,   2347.7, 2,    7.3044,     25.00,   -999.0, 1,   -999.0,  -999.00, 1,   -999.0,   3.1015, 27.2212,   3.1358, 2, 2, 0.40, 0.16, 0.01, 0.018,  -999.00, 9, -999.00, -999.00, 9, -999.00
49NZ20071008, P01, P01_32, 1, 27, X12049, 2, 20071011, 1606, 44.0805, 154.9827, 5343,    629.9, 2,   2.9936, 2,  34.2502, 2,  34.2505, 2,     27.0, 2,     27.2, 2,   133.49, 2,    43.64, 2,     0.01, 2,     3.14, 2,    0.551, 2,    0.276, 2,    0.035, 4, -999.000, 9,   2364.5, 2,   2358.9, 2,    7.3199,     25.00,   -999.0, 1,   -999.0,  -999.00, 1,   -999.0,   2.9530, 27.2908,   2.9937, 2, 2, 0.41, 0.15, 0.01, 0.018,  -999.00, 9, -999.00, -999.00, 9, -999.00
49NZ20071008, P01, P01_32, 1, 26, X12032, 2, 20071011, 1606, 44.0805, 154.9827, 5343,    729.5, 2,   2.9517, 2,  34.3239, 2,  34.3239, 2,     16.4, 2,     15.8, 2,   141.68, 2,    44.44, 2,     0.01, 2,     3.19, 2,    0.247, 6,    0.120, 6,    0.026, 6, -999.000, 9,   2377.5, 6,   2369.0, 2,    7.3114,     25.00,   -999.0, 1,   -999.0,  -999.00, 1,   -999.0,   2.9042, 27.3540,   2.9514, 2, 2, 0.43, 0.16, 0.01, 0.018,  -999.00, 9, -999.00, -999.00, 9, -999.00
49NZ20071008, P01, P01_32, 1, 25, X12043, 2, 20071011, 1606, 44.0805, 154.9827, 5343,    829.6, 2,   2.7924, 2,  34.3578, 2,  34.3570, 2,     19.0, 2,     21.0, 2,   146.10, 2,    44.11, 2,     0.01, 2,     3.16, 2,    0.238, 2,    0.116, 2,    0.021, 2, -999.000, 9,   2380.4, 2,   2376.1, 6,    7.3261,     25.00,   -999.0, 1,   -999.0,  -999.00, 1,   -999.0,   2.7388, 27.3958,   2.7927, 2, 2, 0.44, 0.16, 0.01, 0.018,  -999.00, 9, -999.00, -999.00, 9, -999.00
49NZ20071008, P01, P01_32, 1, 24, X12030, 2, 20071011, 1606, 44.0805, 154.9827, 5343,    931.1, 2,   2.5734, 2,  34.3862, 2,  34.3859, 2,     31.5, 2,     31.3, 2,   149.84, 2,    43.23, 2,     0.00, 2,     3.12, 2,    0.268, 2,    0.132, 2,    0.022, 2, -999.000, 9,   2378.5, 2,   2382.1, 2,    7.3456,     25.00,   -999.0, 1,   -999.0,  -999.00, 1,   -999.0,   2.5140, 27.4379,   2.5732, 2, 6, 0.45, 0.15, 0.01, 0.018,  -999.00, 9, -999.00, -999.00, 9, -999.00
49NZ20071008, P01, P01_32, 1, 23, X12027, 2, 20071011, 1606, 44.0805, 154.9827, 5343,   1069.7, 2,   2.4046, 2,  34.4379, 2,  34.4383, 6,     36.8, 2,     36.8, 2,   155.35, 2,    42.99, 2,     0.01, 2,     3.10, 2,    0.188, 2,    0.091, 2,    0.019, 2, -999.000, 9,   2380.1, 2,   2389.3, 2,    7.3608,     25.00,   -999.0, 1,   -999.0,  -999.00, 1,   -999.0,   2.3365, 27.4941,   2.4046, 2, 2, 0.46, 0.15, 0.01, 0.018,  -999.00, 9, -999.00, -999.00, 9, -999.00
49NZ20071008, P01, P01_32, 1, 22, X12028, 2, 20071011, 1606, 44.0805, 154.9827, 5343,   1269.5, 2,   2.2172, 2,  34.4904, 2,  34.4912, 2,     47.2, 2,     46.9, 2,   159.83, 2,    42.38, 2,     0.01, 2,     3.04, 2,    0.133, 2,    0.064, 2,    0.011, 2, -999.000, 9,   2379.5, 2,   2399.5, 2,    7.3866,     25.00,   -999.0, 1,   -999.0,  -999.00, 1,   -999.0,   2.1361, 27.5526,   2.2171, 2, 2, 0.47, 0.15, 0.01, 0.018,  -999.00, 9, -999.00, -999.00, 9, -999.00
49NZ20071008, P01, P01_32, 1, 21, X12009, 2, 20071011, 1606, 44.0805, 154.9827, 5343,   1472.2, 2,   2.1298, 2,  34.5308, 2,  34.5313, 2,     53.1, 2,     53.4, 2,   160.50, 2,    42.15, 2,     0.01, 2,     3.02, 2,    0.064, 2,    0.027, 2,    0.010, 2, -999.000, 9,   2379.9, 2,   2402.6, 2,    7.4051,     25.00,   -999.0, 1,   -999.0,  -999.00, 1,   -999.0,   2.0343, 27.5930,   2.1297, 2, 2, 0.47, 0.15, 0.01, 0.018,  -999.00, 9, -999.00, -999.00, 9, -999.00
49NZ20071008, P01, P01_32, 1, 20, X12026, 2, 20071011, 1606, 44.0805, 154.9827, 5343,   1671.7, 2,   2.0281, 2,  34.5620, 2,  34.5620, 2,     63.6, 2,     63.2, 2,   161.01, 2,    41.69, 2,     0.00, 2,     2.98, 2,    0.034, 2,    0.014, 2,    0.007, 2, -999.000, 9,   2378.7, 2,   2409.1, 2,    7.4270,     25.00,   -999.0, 1,   -999.0,  -999.00, 1,   -999.0,   1.9182, 27.6271,   2.0281, 2, 6, 0.47, 0.15, 0.01, 0.017,  -999.00, 9, -999.00, -999.00, 9, -999.00
49NZ20071008, P01, P01_32, 1, 19, X12025, 2, 20071011, 1606, 44.0805, 154.9827, 5343,   1872.3, 2,   1.9376, 2,  34.5899, 2,  34.5897, 2,     72.2, 2,     71.7, 2,   160.81, 2,    41.18, 2,     0.01, 2,     2.93, 2,    0.003, 2,    0.002, 2,    0.000, 2, -999.000, 9,   2373.6, 2,   2412.4, 2,    7.4452,     25.00,   -999.0, 1,   -999.0,  -999.00, 1,   -999.0,   1.8128, 27.6577,   1.9376, 2, 2, 0.47, 0.15, 0.01, 0.017,  -999.00, 9, -999.00, -999.00, 9, -999.00
49NZ20071008, P01, P01_32, 1, 18, X12024, 2, 20071011, 1606, 44.0805, 154.9827, 5343,   2073.2, 2,   1.8214, 2,  34.6113, 2,  34.6112, 2,     82.8, 2,     82.9, 2,   161.95, 2,    40.59, 2,     0.01, 2,     2.87, 2,    0.000, 2,    0.000, 2,    0.000, 2, -999.000, 9,   2368.5, 2,   2414.7, 2,    7.4678,     25.00,   -999.0, 1,   -999.0,  -999.00, 1,   -999.0,   1.6817, 27.6848,   1.8214, 2, 2, 0.48, 0.15, 0.01, 0.017,  -999.00, 9, -999.00, -999.00, 9, -999.00
49NZ20071008, P01, P01_32, 1, 17, X12023, 2, 20071011, 1606, 44.0805, 154.9827, 5343,   2273.1, 2,   1.7271, 2,  34.6283, 2,  34.6283, 2,     92.7, 2,     93.4, 2,   161.94, 2,    39.93, 2,     0.01, 2,     2.83, 2,    0.000, 2,    0.000, 2,    0.000, 2, -999.000, 9,   2367.0, 3,   2417.9, 2,    7.4872,     25.00,   -999.0, 1,   -999.0,  -999.00, 1,   -999.0,   1.5719, 27.7066,   1.7270, 2, 2, 0.48, 0.14, 0.01, 0.017,  -999.00, 9, -999.00, -999.00, 9, -999.00
49NZ20071008, P01, P01_32, 1, 16, X12022, 2, 20071011, 1606, 44.0805, 154.9827, 5343,   2468.9, 2,   1.6552, 2,  34.6417, 2,  34.6420, 6,    103.9, 2,    104.9, 2,   159.68, 2,    39.14, 2,     0.01, 2,     2.78, 2,    0.000, 2,    0.000, 2,    0.000, 2, -999.000, 9,   2359.0, 6,   2417.7, 2,    7.5090,     25.00,   -999.0, 1,   -999.0,  -999.00, 1,   -999.0,   1.4842, 27.7238,   1.6551, 2, 2, 0.47, 0.14, 0.01, 0.017,  -999.00, 9, -999.00, -999.00, 9, -999.00
49NZ20071008, P01, P01_32, 1, 15, X12021, 2, 20071011, 1606, 44.0805, 154.9827, 5343,   2668.8, 2,   1.6017, 2,  34.6516, 2,  34.6515, 2,    113.0, 2,    114.2, 2,   157.84, 2,    38.55, 2,     0.01, 2,     2.72, 2, -999.000, 9, -999.000, 9, -999.000, 9, -999.000, 9,   2352.9, 2,   2418.6, 6,    7.5263,     25.00,   -999.0, 1,   -999.0,  -999.00, 1,   -999.0,   1.4137, 27.7368,   1.6017, 2, 2, 0.47, 0.14, 0.01, 0.017,  -999.00, 9, -999.00, -999.00, 9, -999.00
49NZ20071008, P01, P01_32, 1, 14, X12020, 2, 20071011, 1606, 44.0805, 154.9827, 5343,   2870.7, 2,   1.5579, 2,  34.6596, 2,  34.6597, 2,    121.7, 2,    122.3, 2,   155.95, 2,    38.08, 2,     0.01, 2,     2.68, 2, -999.000, 9, -999.000, 9, -999.000, 9, -999.000, 9,   2349.0, 2,   2418.8, 2,    7.5403,     25.00,   -999.0, 1,   -999.0,  -999.00, 1,   -999.0,   1.3521, 27.7476,   1.5578, 2, 6, 0.46, 0.14, 0.01, 0.017,  -999.00, 9, -999.00, -999.00, 9, -999.00
49NZ20071008, P01, P01_32, 1, 13, X12019, 2, 20071011, 1606, 44.0805, 154.9827, 5343,   3080.2, 2,   1.5257, 2,  34.6660, 2,  34.6656, 2,    129.1, 2,    129.3, 2,   154.10, 2,    37.58, 2,     0.01, 2,     2.65, 2,    0.000, 2,    0.000, 2,    0.000, 2, -999.000, 9,   2343.0, 2,   2419.7, 2,    7.5524,     25.00,   -999.0, 1,   -999.0,  -999.00, 1,   -999.0,   1.3007, 27.7564,   1.5257, 2, 2, 0.46, 0.14, 0.01, 0.017,  -999.00, 9, -999.00, -999.00, 9, -999.00
49NZ20071008, P01, P01_32, 1, 12, X12040, 2, 20071011, 1606, 44.0805, 154.9827, 5343,   3330.6, 2,   1.4935, 2,  34.6725, 2,  34.6721, 2,    136.1, 2,    136.5, 2,   152.13, 2,    37.03, 2,     0.01, 2,     2.60, 2, -999.000, 9, -999.000, 9, -999.000, 9, -999.000, 9,   2339.9, 2,   2417.9, 2,    7.5652,     25.00,   -999.0, 1,   -999.0,  -999.00, 1,   -999.0,   1.2447, 27.7655,   1.4936, 2, 2, 0.45, 0.14, 0.01, 0.016,  -999.00, 9, -999.00, -999.00, 9, -999.00
49NZ20071008, P01, P01_32, 1, 11, X12047, 2, 20071011, 1606, 44.0805, 154.9827, 5343,   3580.7, 2,   1.4744, 2,  34.6773, 2,  34.6773, 2,    142.1, 2,    142.1, 2,   150.75, 2,    36.74, 2,     0.00, 2,     2.58, 2, -999.000, 9, -999.000, 9, -999.000, 9, -999.000, 9,   2335.6, 2,   2417.9, 2,    7.5754,     25.00,   -999.0, 1,   -999.0,  -999.00, 1,   -999.0,   1.2007, 27.7724,   1.4745, 2, 2, 0.45, 0.14, 0.01, 0.016,  -999.00, 9, -999.00, -999.00, 9, -999.00
49NZ20071008, P01, P01_32, 1, 10, X12010, 2, 20071011, 1606, 44.0805, 154.9827, 5343,   3830.1, 2,   1.4621, 2,  34.6812, 2,  34.6813, 2,    146.7, 2,    147.0, 2,   149.45, 2,    36.45, 2,     0.00, 2,     2.56, 2,    0.000, 2,    0.000, 2,    0.000, 2, -999.000, 9,   2329.7, 2,   2417.2, 2,    7.5822,     25.00,   -999.0, 1,   -999.0,  -999.00, 1,   -999.0,   1.1626, 27.7782,   1.4621, 2, 2, 0.45, 0.13, 0.01, 0.016,  -999.00, 9, -999.00, -999.00, 9, -999.00
49NZ20071008, P01, P01_32, 1, 9, X12015, 2, 20071011, 1606, 44.0805, 154.9827, 5343,   4080.8, 2,   1.4628, 2,  34.6839, 2,  34.6837, 6,    150.6, 2,    150.6, 2,   148.41, 2,    36.19, 2,     0.00, 2,     2.54, 2, -999.000, 9, -999.000, 9, -999.000, 9, -999.000, 9,   2307.4, 4,   2417.7, 2,    7.5891,     25.00,   -999.0, 1,   -999.0,  -999.00, 1,   -999.0,   1.1361, 27.7821,   1.4628, 2, 2, 0.45, 0.13, 0.01, 0.016,  -999.00, 9, -999.00, -999.00, 9, -999.00
49NZ20071008, P01, P01_32, 1, 8, X12046, 2, 20071011, 1606, 44.0805, 154.9827, 5343,   4329.3, 2,   1.4654, 2,  34.6865, 2,  34.6867, 2,    153.9, 2,    154.0, 2,   147.65, 2,    35.95, 2,     0.00, 2,     2.51, 2, -999.000, 9, -999.000, 9, -999.000, 9, -999.000, 9,   2316.2, 3,   2417.3, 2,    7.5940,     25.00,   -999.0, 1,   -999.0,  -999.00, 1,   -999.0,   1.1110, 27.7860,   1.4654, 2, 2, 0.44, 0.13, 0.01, 0.016,  -999.00, 9, -999.00, -999.00, 9, -999.00
49NZ20071008, P01, P01_32, 1, 7, X12044, 2, 20071011, 1606, 44.0805, 154.9827, 5343,   4581.3, 2,   1.4773, 2,  34.6884, 2,  34.6885, 2,    156.3, 2,    156.3, 2,   147.28, 2,    35.85, 2,     0.00, 2,     2.51, 2,    0.001, 2,    0.000, 2,    0.000, 2, -999.000, 9,   2321.4, 2,   2417.1, 6,    7.5978,     25.00,   -999.0, 1,   -999.0,  -999.00, 1,   -999.0,   1.0936, 27.7887,   1.4773, 2, 2, 0.44, 0.13, 0.01, 0.016,  -999.00, 9, -999.00, -999.00, 9, -999.00
49NZ20071008, P01, P01_32, 1, 6, X12048, 2, 20071011, 1606, 44.0805, 154.9827, 5343,   4829.7, 2,   1.4967, 2,  34.6896, 2,  34.6894, 2,    157.7, 2,    157.7, 2,   147.46, 2,    35.77, 2,     0.00, 2,     2.50, 2, -999.000, 9, -999.000, 9, -999.000, 9, -999.000, 9,   2320.2, 2,   2416.1, 2,    7.5999,     25.00,   -999.0, 1,   -999.0,  -999.00, 1,   -999.0,   1.0831, 27.7903,   1.4965, 2, 6, 0.44, 0.13, 0.01, 0.016,  -999.00, 9, -999.00, -999.00, 9, -999.00
49NZ20071008, P01, P01_32, 1, 5, X12014, 2, 20071011, 1606, 44.0805, 154.9827, 5343,   5080.0, 2,   1.5225, 2,  34.6902, 2,  34.6904, 2,    158.2, 2,    158.3, 2,   147.35, 2,    35.65, 2,     0.00, 2,     2.50, 2,    0.002, 2,    0.001, 2,    0.000, 2, -999.000, 9,   2319.6, 2,   2417.0, 2,    7.6006,     25.00,   -999.0, 1,   -999.0,  -999.00, 1,   -999.0,   1.0777, 27.7912,   1.5223, 2, 2, 0.44, 0.13, 0.01, 0.016,  -999.00, 9, -999.00, -999.00, 9, -999.00
49NZ20071008, P01, P01_32, 1, 4, X12006, 2, 20071011, 1606, 44.0805, 154.9827, 5343,   5330.7, 2,   1.5522, 2,  34.6905, 2,  34.6906, 2,    158.7, 2,    158.5, 2,   148.13, 2,    35.70, 2,     0.01, 2,     2.49, 2, -999.000, 9, -999.000, 9, -999.000, 9, -999.000, 9,   2319.7, 2,   2416.6, 2,    7.6011,     25.00,   -999.0, 1,   -999.0,  -999.00, 1,   -999.0,   1.0752, 27.7916,   1.5520, 2, 2, 0.44, 0.13, 0.01, 0.016,  -999.00, 9, -999.00, -999.00, 9, -999.00
49NZ20071008, P01, P01_32, 1, 3, X12013, 9, 20071011, 1606, 44.0805, 154.9827, 5343,     10.2, 2,  12.5187, 2,  32.6190, 2, -999.0000, 9,    272.4, 2,   -999.0, 9,  -999.00, 9,  -999.00, 9,  -999.00, 9,  -999.00, 9, -999.000, 9, -999.000, 9, -999.000, 9, -999.000, 9,   -999.0, 9,   -999.0, 9, -999.0000,   -999.00,   -999.0, 9,   -999.0,  -999.00, 9,   -999.0,  12.5174, 24.6425,  12.5178, 2, 9, -999.00, -999.00, -999.00, -999.000,  -999.00, 9, -999.00, -999.00, 9, -999.00
49NZ20071008, P01, P01_32, 1, 2, X12002, 9, 20071011, 1606, 44.0805, 154.9827, 5343,   5451.2, 2,   1.5679, 2,  34.6905, 2, -999.0000, 9,    158.6, 2,   -999.0, 9,  -999.00, 9,  -999.00, 9,  -999.00, 9,  -999.00, 9, -999.000, 9, -999.000, 9, -999.000, 9, -999.000, 9,   -999.0, 9,   -999.0, 9, -999.0000,   -999.00,   -999.0, 9,   -999.0,  -999.00, 9,   -999.0,   1.0751, 27.7916,   1.5677, 2, 9, -999.00, -999.00, -999.00, -999.000,  -999.00, 9, -999.00, -999.00, 9, -999.00
49NZ20071008, P01, P01_32, 1, 1, X12001, 2, 20071011, 1606, 44.0805, 154.9827, 5343,   5451.4, 2,   1.5679, 2,  34.6905, 2,  34.6906, 6,    158.6, 2,    158.4, 2,   148.26, 2,    35.66, 2,     0.01, 2,     2.50, 2,    0.004, 2,    0.000, 2,    0.000, 2, -999.000, 9,   2319.6, 2,   2417.1, 2,    7.6008,     25.00,   -999.0, 1,   -999.0,  -999.00, 1,   -999.0,   1.0751, 27.7916,   1.5677, 2, 2, 0.45, 0.13, 0.01, 0.016,  -999.00, 9, -999.00, -999.00, 9, -999.00