BOTTLE,20221005CCHSIOAMB
EXPOCODE,SECT_ID,STNNBR,CASTNO,SAMPNO,BTLNBR,BTLNBR_FLAG_W,DATE,TIME,LATITUDE,LONGITUDE,DEPTH,CTDPRS,CTDPRS_FLAG_W,CTDTMP,CTDTMP_FLAG_W,CTDSAL,CTDSAL_FLAG_W,SALNTY,SALNTY_FLAG_W,CTDOXY,CTDOXY_FLAG_W,OXYGEN,OXYGEN_FLAG_W,SILCAT,SILCAT_FLAG_W,NITRAT,NITRAT_FLAG_W,NITRIT,NITRIT_FLAG_W,PHSPHT,PHSPHT_FLAG_W,CFC-11,CFC-11_FLAG_W,CFC-12,CFC-12_FLAG_W,CFC113,CFC113_FLAG_W,CCL4,CCL4_FLAG_W,TCARBN,TCARBN_FLAG_W,ALKALI,ALKALI_FLAG_W,PH_TOT,PH_TMP,DELC14,DELC14_FLAG_W,C14ERR,DELC13,DELC13_FLAG_W,C13ERR,THETA,SIG0,SBE35,SBE35_FLAG_W,PH_TOT_FLAG_W,SILUNC,NRAUNC,NRIUNC,PHPUNC,CS-137,CS-137_FLAG_W,CS137ER,PLUTO,PLUTO_FLAG_W,PLUTOER
,,,,,,,,,,,METERS,DBAR,,ITS-90,,PSS-78,,PSS-78,,UMOL/KG,,UMOL/KG,,UMOL/KG,,UMOL/KG,,UMOL/KG,,UMOL/KG,,PMOL/KG,,PMOL/KG,,PMOL/KG,,PMOL/KG,,UMOL/KG,,UMOL/KG,,,DEG C,/MILLE,,/MILLE,/MILLE,,/MILLE,DEG C,KG/M^3,ITS-90,,,UMOL/KG,UMOL/KG,UMOL/KG,UMOL/KG,DM/.1MG,,BQ/M^3,MBQ/M^3,,MBQ/M^3
49NZ20071008, P14N, 98, 1, 36, X12042, 2, 20071116, 1501, 13.5073, 178.9843, 3862,     10.1, 2,  27.9741, 2,  34.6795, 2,  34.6802, 2,    198.8, 2,    198.6, 2,     1.09, 2,     0.04, 2,     0.01, 2,     0.11, 2,    1.504, 2,    0.932, 2,    0.281, 4, -999.000, 9,   1950.0, 2,   2283.1, 2,    8.1129,     25.00,   -999.0, 9,   -999.0,  -999.00, 9,   -999.0,  27.9717, 22.1629,  27.9729, 2, 6, 0.12, 0.03, 0.01, 0.020,  -999.00, 9, -999.00, -999.00, 9, -999.00
49NZ20071008, P14N, 98, 1, 35, X12041, 2, 20071116, 1501, 13.5073, 178.9843, 3862,     49.8, 2,  27.9805, 2,  34.6795, 2,  34.6807, 2,    198.7, 2,    198.6, 2,     1.08, 2,     0.02, 2,     0.01, 2,     0.11, 2,    1.515, 2,    0.946, 2,    0.283, 4, -999.000, 9,   1949.2, 6,   2283.2, 2,    8.1128,     25.00,   -999.0, 9,   -999.0,  -999.00, 9,   -999.0,  27.9688, 22.1638,  27.9797, 2, 2, 0.12, 0.03, 0.01, 0.021,  -999.00, 9, -999.00, -999.00, 9, -999.00
49NZ20071008, P14N, 98, 1, 34, X12016, 2, 20071116, 1501, 13.5073, 178.9843, 3862,     99.9, 2,  26.7414, 2,  35.0078, 2,  35.0095, 2,    213.4, 2,    213.5, 2,     0.95, 2,     0.03, 2,     0.01, 2,     0.08, 2,    1.622, 2,    1.015, 2,    0.759, 4, -999.000, 9,   1967.5, 2,   2305.5, 6,    8.1087,     25.00,   -999.0, 9,   -999.0,  -999.00, 9,   -999.0,  26.7186, 22.8132,  26.7430, 2, 2, 0.12, 0.03, 0.01, 0.025,  -999.00, 9, -999.00, -999.00, 9, -999.00
49NZ20071008, P14N, 98, 1, 33, X12033, 2, 20071116, 1501, 13.5073, 178.9843, 3862,    150.1, 2,  23.6004, 2,  35.1570, 2,  35.1556, 2,    189.8, 2,    191.0, 2,     1.35, 2,     0.32, 2,     0.14, 2,     0.14, 2,    1.887, 6,    1.147, 6,    0.238, 4, -999.000, 9,   2016.3, 2,   2315.7, 2,    8.0409,     25.00,   -999.0, 9,   -999.0,  -999.00, 9,   -999.0,  23.5692, 23.8872,  23.6005, 2, 2, 0.12, 0.03, 0.01, 0.019,  -999.00, 9, -999.00, -999.00, 9, -999.00
49NZ20071008, P14N, 98, 1, 32, X12038, 2, 20071116, 1501, 13.5073, 178.9843, 3862,    201.7, 2,  16.9110, 2,  34.6366, 2,  34.6360, 2,    171.0, 2,    176.3, 2,     5.26, 2,     6.73, 2,     0.01, 2,     0.59, 2,    2.483, 2,    1.444, 2,    0.045, 2, -999.000, 9,   2072.7, 2,   2282.7, 2,    7.8892,     25.00,   -999.0, 9,   -999.0,  -999.00, 9,   -999.0,  16.8779, 25.2642,  16.9143, 2, 2, 0.13, 0.05, 0.01, 0.013,  -999.00, 9, -999.00, -999.00, 9, -999.00
49NZ20071008, P14N, 98, 1, 31, X12003, 2, 20071116, 1501, 13.5073, 178.9843, 3862,    251.7, 2,  12.2771, 2,  34.2897, 2,  34.2891, 6,    154.7, 2,    148.5, 2,    15.57, 2,    16.48, 2,     0.01, 2,     1.30, 2,    2.524, 2,    1.378, 2,    0.050, 2, -999.000, 9,   2128.5, 2,   2266.5, 2,    7.7307,     25.00,   -999.0, 9,   -999.0,  -999.00, 9,   -999.0,  12.2439, 25.9908,  12.2774, 2, 2, 0.15, 0.08, 0.01, 0.014,  -999.00, 9, -999.00, -999.00, 9, -999.00
49NZ20071008, P14N, 98, 1, 30, X12008, 2, 20071116, 1501, 13.5073, 178.9843, 3862,    330.5, 2,   9.7184, 2,  34.3805, 2,  34.3828, 2,     71.6, 2,     66.8, 2,    33.15, 2,    29.43, 2,     0.01, 2,     2.24, 2,    1.191, 2,    0.595, 2,    0.020, 2, -999.000, 9,   2223.2, 2,   2286.7, 2,    7.5260,     25.00,   -999.0, 9,   -999.0,  -999.00, 9,   -999.0,   9.6808, 26.5219,   9.7193, 2, 2, 0.19, 0.12, 0.01, 0.016,  -999.00, 9, -999.00, -999.00, 9, -999.00
49NZ20071008, P14N, 98, 1, 29, X12035, 2, 20071116, 1501, 13.5073, 178.9843, 3862,    430.7, 2,   8.3850, 2,  34.5046, 2,  34.4973, 2,     43.3, 2,     41.9, 2,    43.79, 2,    35.15, 2,     0.01, 2,     2.58, 2,    0.301, 2,    0.156, 2,    0.006, 2, -999.000, 9,   2261.4, 2,   2305.2, 2,    7.4705,     25.00,   -999.0, 9,   -999.0,  -999.00, 9,   -999.0,   8.3398, 26.8334,   8.3842, 2, 2, 0.22, 0.13, 0.01, 0.016,  -999.00, 9, -999.00, -999.00, 9, -999.00
49NZ20071008, P14N, 98, 1, 28, X12034, 2, 20071116, 1501, 13.5073, 178.9843, 3862,    531.0, 2,   7.1453, 2,  34.4988, 2,  34.4971, 6,     43.8, 2,     44.3, 2,    55.22, 2,    37.49, 2,     0.00, 2,     2.75, 2,    0.107, 2,    0.060, 2,    0.008, 2, -999.000, 9,   2276.5, 2,   2318.7, 2,    7.4583,     25.00,   -999.0, 9,   -999.0,  -999.00, 9,   -999.0,   7.0942, 27.0109,   7.1466, 2, 2, 0.24, 0.14, 0.01, 0.017,  -999.00, 9, -999.00, -999.00, 9, -999.00
49NZ20071008, P14N, 98, 1, 27, X12049, 2, 20071116, 1501, 13.5073, 178.9843, 3862,    629.2, 2,   6.4537, 2,  34.5011, 2,  34.5011, 2,     45.3, 2,     46.6, 2,    63.45, 2,    38.82, 2,     0.01, 2,     2.83, 2,    0.057, 2,    0.030, 2,    0.006, 2, -999.000, 9,   2287.9, 2,   2328.4, 2,    7.4522,     25.00,   -999.0, 9,   -999.0,  -999.00, 9,   -999.0,   6.3960, 27.1072,   6.4542, 2, 2, 0.26, 0.14, 0.01, 0.017,  -999.00, 9, -999.00, -999.00, 9, -999.00
49NZ20071008, P14N, 98, 1, 26, X12032, 2, 20071116, 1501, 13.5073, 178.9843, 3862,    730.1, 2,   5.8576, 2,  34.5147, 2,  34.5128, 2,     47.8, 2,     48.6, 2,    71.25, 2,    40.03, 2,     0.00, 2,     2.90, 2,    0.029, 6,    0.014, 6,    0.002, 6, -999.000, 9,   2299.9, 6,   2338.0, 2,    7.4496,     25.00,   -999.0, 9,   -999.0,  -999.00, 9,   -999.0,   5.7934, 27.1952,   5.8585, 2, 2, 0.28, 0.14, 0.01, 0.017,  -999.00, 9, -999.00, -999.00, 9, -999.00
49NZ20071008, P14N, 98, 1, 25, X12043, 2, 20071116, 1501, 13.5073, 178.9843, 3862,    829.9, 2,   5.2733, 2,  34.5231, 2,  34.5229, 2,     50.3, 2,     50.4, 2,    80.43, 2,    40.85, 2,     0.00, 2,     2.95, 2,    0.011, 2,    0.007, 2,    0.008, 2, -999.000, 9,   2310.2, 2,   2349.1, 6,    7.4466,     25.00,   -999.0, 9,   -999.0,  -999.00, 9,   -999.0,   5.2034, 27.2734,   5.2746, 2, 2, 0.30, 0.15, 0.01, 0.017,  -999.00, 9, -999.00, -999.00, 9, -999.00
49NZ20071008, P14N, 98, 1, 24, X12030, 2, 20071116, 1501, 13.5073, 178.9843, 3862,    931.0, 2,   4.9148, 2,  34.5376, 2,  34.5375, 2,     43.1, 2,     44.4, 2,    86.64, 2,    42.03, 2,     0.00, 2,     3.04, 2,    0.000, 2,    0.001, 2,    0.000, 2, -999.000, 9,   2325.0, 2,   2355.7, 2,    7.4307,     25.00,   -999.0, 9,   -999.0,  -999.00, 9,   -999.0,   4.8383, 27.3272,   4.9148, 2, 6, 0.31, 0.15, 0.01, 0.018,  -999.00, 9, -999.00, -999.00, 9, -999.00
49NZ20071008, P14N, 98, 1, 23, X12027, 2, 20071116, 1501, 13.5073, 178.9843, 3862,   1069.5, 2,   4.3827, 2,  34.5509, 2,  34.5508, 6,     51.4, 2,     52.6, 2,    96.48, 2,    42.04, 2,     0.01, 2,     3.05, 2,    0.000, 2,    0.000, 2,    0.000, 2, -999.000, 9,   2330.0, 2,   2367.5, 2,    7.4417,     25.00,   -999.0, 9,   -999.0,  -999.00, 9,   -999.0,   4.2980, 27.3974,   4.3828, 2, 2, 0.33, 0.15, 0.01, 0.018,  -999.00, 9, -999.00, -999.00, 9, -999.00
49NZ20071008, P14N, 98, 1, 22, X12028, 2, 20071116, 1501, 13.5073, 178.9843, 3862,   1271.7, 2,   3.6402, 2,  34.5636, 2,  34.5635, 2,     66.4, 2,     67.7, 2,   111.66, 2,    41.16, 2,     0.00, 2,     2.96, 2,    0.000, 2,    0.001, 2,    0.000, 2, -999.000, 9,   2336.3, 2,   2382.8, 2,    7.4638,     25.00,   -999.0, 9,   -999.0,  -999.00, 9,   -999.0,   3.5448, 27.4850,   3.6394, 2, 2, 0.36, 0.15, 0.01, 0.017,  -999.00, 9, -999.00, -999.00, 9, -999.00
49NZ20071008, P14N, 98, 1, 21, X12009, 2, 20071116, 1501, 13.5073, 178.9843, 3862,   1471.9, 2,   3.1789, 2,  34.5824, 2,  34.5824, 2,     74.8, 2,     75.5, 2,   121.22, 2,    40.84, 2,     0.01, 2,     2.94, 2,    0.000, 2,    0.001, 2,    0.000, 2, -999.000, 9,   2343.8, 2,   2392.9, 2,    7.4753,     25.00,   -999.0, 9,   -999.0,  -999.00, 9,   -999.0,   3.0714, 27.5452,   3.1790, 2, 2, 0.39, 0.15, 0.01, 0.017,  -999.00, 9, -999.00, -999.00, 9, -999.00
49NZ20071008, P14N, 98, 1, 20, X12026, 2, 20071116, 1501, 13.5073, 178.9843, 3862,   1672.3, 2,   2.6625, 2,  34.6045, 2,  34.6044, 2,     85.0, 2,     86.1, 2,   132.33, 2,    40.37, 2,     0.00, 2,     2.88, 2,    0.000, 2,    0.000, 2,    0.000, 2, -999.000, 9,   2348.6, 2,   2404.3, 2,    7.4918,     25.00,   -999.0, 9,   -999.0,  -999.00, 9,   -999.0,   2.5443, 27.6099,   2.6625, 2, 6, 0.41, 0.15, 0.01, 0.017,  -999.00, 9, -999.00, -999.00, 9, -999.00
49NZ20071008, P14N, 98, 1, 19, X12025, 2, 20071116, 1501, 13.5073, 178.9843, 3862,   1869.6, 2,   2.3940, 2,  34.6196, 2,  34.6197, 6,     95.0, 2,     94.8, 2,   137.54, 2,    39.77, 2,     0.00, 2,     2.83, 2,    0.000, 2,    0.000, 2,    0.000, 2, -999.000, 9,   2348.7, 2,   2410.5, 2,    7.5059,     25.00,   -999.0, 9,   -999.0,  -999.00, 9,   -999.0,   2.2628, 27.6457,   2.3940, 2, 2, 0.42, 0.14, 0.01, 0.017,  -999.00, 9, -999.00, -999.00, 9, -999.00
49NZ20071008, P14N, 98, 1, 18, X12024, 2, 20071116, 1501, 13.5073, 178.9843, 3862,   2070.3, 2,   2.1609, 2,  34.6338, 2,  34.6339, 2,    101.9, 2,    102.2, 2,   142.10, 4,    39.49, 4,     0.00, 4,     2.80, 4,    0.000, 2,    0.000, 2,    0.000, 2, -999.000, 9,   2351.0, 2,   2415.3, 2,    7.5184,     25.00,   -999.0, 9,   -999.0,  -999.00, 9,   -999.0,   2.0160, 27.6770,   2.1610, 2, 2, 0.43, 0.14, 0.01, 0.017,  -999.00, 9, -999.00, -999.00, 9, -999.00
49NZ20071008, P14N, 98, 1, 17, X12023, 2, 20071116, 1501, 13.5073, 178.9843, 3862,   2270.7, 2,   1.9835, 2,  34.6456, 2,  34.6456, 2,    108.5, 2,    109.3, 2,   145.34, 2,    39.04, 2,     0.01, 2,     2.76, 2,    0.000, 2,    0.000, 2,    0.000, 2, -999.000, 9,   2352.2, 2,   2419.1, 2,    7.5301,     25.00,   -999.0, 9,   -999.0,  -999.00, 9,   -999.0,   1.8241, 27.7015,   1.9835, 2, 2, 0.44, 0.14, 0.01, 0.017,  -999.00, 9, -999.00, -999.00, 9, -999.00
49NZ20071008, P14N, 98, 1, 16, X12022, 2, 20071116, 1501, 13.5073, 178.9843, 3862,   2471.3, 2,   1.8767, 2,  34.6524, 2,  34.6525, 2,    113.7, 2,    114.1, 2,   147.71, 2,    38.77, 2,     0.01, 2,     2.74, 2,    0.000, 2,    0.000, 2,    0.000, 2, -999.000, 9,   2349.2, 6,   2422.0, 2,    7.5379,     25.00,   -999.0, 9,   -999.0,  -999.00, 9,   -999.0,   1.7013, 27.7163,   1.8767, 2, 2, 0.44, 0.14, 0.01, 0.017,  -999.00, 9, -999.00, -999.00, 9, -999.00
49NZ20071008, P14N, 98, 1, 15, X12021, 2, 20071116, 1501, 13.5073, 178.9843, 3862,   2671.6, 2,   1.7748, 2,  34.6599, 2,  34.6598, 6,    119.9, 2,    119.8, 2,   148.76, 2,    38.39, 2,     0.01, 2,     2.70, 2,    0.000, 2,    0.000, 2,    0.000, 2, -999.000, 9,   2346.3, 2,   2422.9, 6,    7.5469,     25.00,   -999.0, 9,   -999.0,  -999.00, 9,   -999.0,   1.5831, 27.7312,   1.7747, 2, 2, 0.45, 0.14, 0.01, 0.017,  -999.00, 9, -999.00, -999.00, 9, -999.00
49NZ20071008, P14N, 98, 1, 14, X12020, 2, 20071116, 1501, 13.5073, 178.9843, 3862,   2870.6, 2,   1.6957, 2,  34.6657, 2,  34.6653, 2,    125.8, 2,    125.1, 2,   149.61, 2,    38.11, 2,     0.01, 2,     2.66, 2, -999.000, 9, -999.000, 9, -999.000, 9, -999.000, 9,   2345.2, 2,   2423.2, 2,    7.5552,     25.00,   -999.0, 9,   -999.0,  -999.00, 9,   -999.0,   1.4870, 27.7428,   1.6957, 2, 6, 0.45, 0.14, 0.01, 0.017,  -999.00, 9, -999.00, -999.00, 9, -999.00
49NZ20071008, P14N, 98, 1, 13, X12019, 2, 20071116, 1501, 13.5073, 178.9843, 3862,   3082.6, 2,   1.6329, 2,  34.6707, 2,  34.6702, 2,    130.2, 2,    130.0, 2,   149.88, 2,    37.71, 2,     0.00, 2,     2.64, 2, -999.000, 9, -999.000, 9, -999.000, 9, -999.000, 9,   2343.9, 2,   2422.9, 2,    7.5625,     25.00,   -999.0, 9,   -999.0,  -999.00, 9,   -999.0,   1.4052, 27.7527,   1.6329, 2, 2, 0.45, 0.14, 0.01, 0.017,  -999.00, 9, -999.00, -999.00, 9, -999.00
49NZ20071008, P14N, 98, 1, 12, X12040, 2, 20071116, 1501, 13.5073, 178.9843, 3862,   3331.2, 2,   1.5505, 2,  34.6768, 2,  34.6769, 3,    138.4, 2,    137.9, 2,   149.02, 2,    37.08, 2,     0.01, 2,     2.59, 2,    0.000, 2,    0.000, 2,    0.000, 2, -999.000, 9,   2335.4, 2,   2423.1, 2,    7.5734,     25.00,   -999.0, 9,   -999.0,  -999.00, 9,   -999.0,   1.3002, 27.7651,   1.5507, 2, 2, 0.45, 0.14, 0.01, 0.016,  -999.00, 9, -999.00, -999.00, 9, -999.00
49NZ20071008, P14N, 98, 1, 11, X12047, 2, 20071116, 1501, 13.5073, 178.9843, 3862,   3580.4, 2,   1.4927, 2,  34.6817, 2,  34.6811, 2,    145.6, 2,    144.7, 2,   147.68, 2,    36.68, 2,     0.01, 2,     2.56, 2,    0.000, 2,    0.000, 2,    0.000, 2, -999.000, 9,   2331.0, 2,   2421.3, 2,    7.5825,     25.00,   -999.0, 9,   -999.0,  -999.00, 9,   -999.0,   1.2185, 27.7748,   1.4930, 2, 2, 0.44, 0.14, 0.01, 0.016,  -999.00, 9, -999.00, -999.00, 9, -999.00
49NZ20071008, P14N, 98, 1, 10, X12012, 2, 20071116, 1501, 13.5073, 178.9843, 3862,   3830.6, 2,   1.4324, 2,  34.6870, 2,  34.6865, 2,    154.0, 2,    153.8, 2,   143.98, 2,    36.05, 2,     0.01, 2,     2.52, 2,    0.000, 2,    0.000, 2,    0.000, 2, -999.000, 9,   2322.4, 2,   2417.4, 2,    7.5936,     25.00,   -999.0, 9,   -999.0,  -999.00, 9,   -999.0,   1.1336, 27.7849,   1.4323, 2, 2, 0.44, 0.13, 0.01, 0.016,  -999.00, 9, -999.00, -999.00, 9, -999.00
49NZ20071008, P14N, 98, 1, 9, X12015, 9, 20071116, 1501, 13.5073, 178.9843, 3862,    629.2, 2,   6.4540, 2,  34.5011, 2, -999.0000, 9,     45.3, 2,   -999.0, 9,  -999.00, 9,  -999.00, 9,  -999.00, 9,  -999.00, 9, -999.000, 9, -999.000, 9, -999.000, 9, -999.000, 9,   -999.0, 9,   -999.0, 9, -999.0000,   -999.00,   -999.0, 9,   -999.0,  -999.00, 9,   -999.0,   6.3963, 27.1072,   6.4545, 2, 9, -999.00, -999.00, -999.00, -999.000,  -999.00, 9, -999.00, -999.00, 9, -999.00
49NZ20071008, P14N, 98, 1, 8, X12046, 9, 20071116, 1501, 13.5073, 178.9843, 3862,    730.4, 2,   5.8628, 2,  34.5150, 2, -999.0000, 9,     47.8, 2,   -999.0, 9,  -999.00, 9,  -999.00, 9,  -999.00, 9,  -999.00, 9, -999.000, 9, -999.000, 9, -999.000, 9, -999.000, 9,   -999.0, 9,   -999.0, 9, -999.0000,   -999.00,   -999.0, 9,   -999.0,  -999.00, 9,   -999.0,   5.7986, 27.1948,   5.8631, 2, 9, -999.00, -999.00, -999.00, -999.000,  -999.00, 9, -999.00, -999.00, 9, -999.00
49NZ20071008, P14N, 98, 1, 7, X12044, 9, 20071116, 1501, 13.5073, 178.9843, 3862,    830.1, 2,   5.2642, 2,  34.5233, 2, -999.0000, 9,     50.3, 2,   -999.0, 9,  -999.00, 9,  -999.00, 9,  -999.00, 9,  -999.00, 9, -999.000, 9, -999.000, 9, -999.000, 9, -999.000, 9,   -999.0, 9,   -999.0, 9, -999.0000,   -999.00,   -999.0, 9,   -999.0,  -999.00, 9,   -999.0,   5.1944, 27.2746,   5.2659, 2, 9, -999.00, -999.00, -999.00, -999.000,  -999.00, 9, -999.00, -999.00, 9, -999.00
49NZ20071008, P14N, 98, 1, 6, X12048, 9, 20071116, 1501, 13.5073, 178.9843, 3862,    931.6, 2,   4.9125, 2,  34.5377, 2, -999.0000, 9,     43.1, 2,   -999.0, 9,  -999.00, 9,  -999.00, 9,  -999.00, 9,  -999.00, 9, -999.000, 9, -999.000, 9, -999.000, 9, -999.000, 9,   -999.0, 9,   -999.0, 9, -999.0000,   -999.00,   -999.0, 9,   -999.0,  -999.00, 9,   -999.0,   4.8359, 27.3275,   4.9135, 2, 9, -999.00, -999.00, -999.00, -999.000,  -999.00, 9, -999.00, -999.00, 9, -999.00
49NZ20071008, P14N, 98, 1, 5, X12014, 9, 20071116, 1501, 13.5073, 178.9843, 3862,   1069.7, 2,   4.3843, 2,  34.5508, 2, -999.0000, 9,     51.4, 2,   -999.0, 9,  -999.00, 9,  -999.00, 9,  -999.00, 9,  -999.00, 9, -999.000, 9, -999.000, 9, -999.000, 9, -999.000, 9,   -999.0, 9,   -999.0, 9, -999.0000,   -999.00,   -999.0, 9,   -999.0,  -999.00, 9,   -999.0,   4.2996, 27.3972,   4.3844, 2, 9, -999.00, -999.00, -999.00, -999.000,  -999.00, 9, -999.00, -999.00, 9, -999.00
49NZ20071008, P14N, 98, 1, 4, X12006, 9, 20071116, 1501, 13.5073, 178.9843, 3862,   1271.6, 2,   3.6395, 2,  34.5638, 2, -999.0000, 9,     66.4, 2,   -999.0, 9,  -999.00, 9,  -999.00, 9,  -999.00, 9,  -999.00, 9, -999.000, 9, -999.000, 9, -999.000, 9, -999.000, 9,   -999.0, 9,   -999.0, 9, -999.0000,   -999.00,   -999.0, 9,   -999.0,  -999.00, 9,   -999.0,   3.5441, 27.4852,   3.6396, 2, 9, -999.00, -999.00, -999.00, -999.000,  -999.00, 9, -999.00, -999.00, 9, -999.00
49NZ20071008, P14N, 98, 1, 3, X12013, 9, 20071116, 1501, 13.5073, 178.9843, 3862,   1472.1, 2,   3.1797, 2,  34.5822, 2, -999.0000, 9,     74.8, 2,   -999.0, 9,  -999.00, 9,  -999.00, 9,  -999.00, 9,  -999.00, 9, -999.000, 9, -999.000, 9, -999.000, 9, -999.000, 9,   -999.0, 9,   -999.0, 9, -999.0000,   -999.00,   -999.0, 9,   -999.0,  -999.00, 9,   -999.0,   3.0721, 27.5450,   3.1799, 2, 9, -999.00, -999.00, -999.00, -999.000,  -999.00, 9, -999.00, -999.00, 9, -999.00
49NZ20071008, P14N, 98, 1, 2, X12002, 9, 20071116, 1501, 13.5073, 178.9843, 3862,   1472.4, 2,   3.1792, 2,  34.5823, 2, -999.0000, 9,     74.7, 2,   -999.0, 9,  -999.00, 9,  -999.00, 9,  -999.00, 9,  -999.00, 9, -999.000, 9, -999.000, 9, -999.000, 9, -999.000, 9,   -999.0, 9,   -999.0, 9, -999.0000,   -999.00,   -999.0, 9,   -999.0,  -999.00, 9,   -999.0,   3.0716, 27.5451,   3.1795, 2, 9, -999.00, -999.00, -999.00, -999.000,  -999.00, 9, -999.00, -999.00, 9, -999.00
49NZ20071008, P14N, 98, 1, 1, X12001, 2, 20071116, 1501, 13.5073, 178.9843, 3862,   3891.9, 2,   1.4334, 2,  34.6872, 2,  34.6872, 6,    155.0, 2,    154.7, 2,   143.62, 2,    35.98, 2,     0.00, 2,     2.51, 2,    0.000, 2,    0.000, 2,    0.000, 2, -999.000, 9,   2320.8, 2,   2416.2, 2,    7.5947,     25.00,   -999.0, 9,   -999.0,  -999.00, 9,   -999.0,   1.1280, 27.7854,   1.4333, 2, 2, 0.43, 0.13, 0.01, 0.016,  -999.00, 9, -999.00, -999.00, 9, -999.00