BOTTLE,20221005CCHSIOAMB
EXPOCODE,SECT_ID,STNNBR,CASTNO,SAMPNO,BTLNBR,BTLNBR_FLAG_W,DATE,TIME,LATITUDE,LONGITUDE,DEPTH,CTDPRS,CTDPRS_FLAG_W,CTDTMP,CTDTMP_FLAG_W,CTDSAL,CTDSAL_FLAG_W,SALNTY,SALNTY_FLAG_W,CTDOXY,CTDOXY_FLAG_W,OXYGEN,OXYGEN_FLAG_W,SILCAT,SILCAT_FLAG_W,NITRAT,NITRAT_FLAG_W,NITRIT,NITRIT_FLAG_W,PHSPHT,PHSPHT_FLAG_W,CFC-11,CFC-11_FLAG_W,CFC-12,CFC-12_FLAG_W,CFC113,CFC113_FLAG_W,CCL4,CCL4_FLAG_W,TCARBN,TCARBN_FLAG_W,ALKALI,ALKALI_FLAG_W,PH_TOT,PH_TMP,DELC14,DELC14_FLAG_W,C14ERR,DELC13,DELC13_FLAG_W,C13ERR,THETA,SIG0,SBE35,SBE35_FLAG_W,PH_TOT_FLAG_W,SILUNC,NRAUNC,NRIUNC,PHPUNC,CS-137,CS-137_FLAG_W,CS137ER,PLUTO,PLUTO_FLAG_W,PLUTOER
,,,,,,,,,,,METERS,DBAR,,ITS-90,,PSS-78,,PSS-78,,UMOL/KG,,UMOL/KG,,UMOL/KG,,UMOL/KG,,UMOL/KG,,UMOL/KG,,PMOL/KG,,PMOL/KG,,PMOL/KG,,PMOL/KG,,UMOL/KG,,UMOL/KG,,,DEG C,/MILLE,,/MILLE,/MILLE,,/MILLE,DEG C,KG/M^3,ITS-90,,,UMOL/KG,UMOL/KG,UMOL/KG,UMOL/KG,DM/.1MG,,BQ/M^3,MBQ/M^3,,MBQ/M^3
49NZ20071008, P14N, 83, 1, 36, X12042, 2, 20071113, 0105, 21.0047, 178.9967, 2796,      9.4, 2,  27.0184, 2,  35.2461, 2,  35.2452, 2,    200.8, 2,    202.3, 2,     0.75, 2,     0.03, 2,     0.00, 2,     0.04, 2,    1.593, 2,    0.993, 2,    0.393, 4, -999.000, 9,   -999.0, 9,   -999.0, 9, -999.0000,   -999.00,   -999.0, 9,   -999.0,  -999.00, 9,   -999.0,  27.0162, 22.8980,  27.0180, 2, 9, 0.12, 0.03, 0.01, 0.038,  -999.00, 9, -999.00, -999.00, 9, -999.00
49NZ20071008, P14N, 83, 1, 35, X12041, 2, 20071113, 0105, 21.0047, 178.9967, 2796,     50.3, 2,  26.9501, 2,  35.2418, 2,  35.2423, 2,    201.5, 2,    202.4, 2,     0.78, 2,     0.03, 2,     0.00, 2,     0.05, 2,    1.583, 2,    0.982, 2,    0.373, 4, -999.000, 9,   -999.0, 9,   -999.0, 9, -999.0000,   -999.00,   -999.0, 9,   -999.0,  -999.00, 9,   -999.0,  26.9386, 22.9195,  26.9491, 2, 9, 0.12, 0.03, 0.01, 0.037,  -999.00, 9, -999.00, -999.00, 9, -999.00
49NZ20071008, P14N, 83, 1, 34, X12016, 2, 20071113, 0105, 21.0047, 178.9967, 2796,    100.4, 2,  24.6760, 2,  35.2877, 2,  35.2874, 2,    211.4, 2,    212.3, 2,     0.88, 2,     0.01, 2,     0.01, 2,     0.05, 2,    1.837, 2,    1.128, 2,    0.748, 4, -999.000, 9,   -999.0, 9,   -999.0, 9, -999.0000,   -999.00,   -999.0, 9,   -999.0,  -999.00, 9,   -999.0,  24.6544, 23.6634,  24.6766, 2, 9, 0.12, 0.03, 0.01, 0.033,  -999.00, 9, -999.00, -999.00, 9, -999.00
49NZ20071008, P14N, 83, 1, 33, X12033, 2, 20071113, 0105, 21.0047, 178.9967, 2796,    150.1, 2,  21.6962, 2,  35.1547, 2,  35.1498, 2,    192.9, 2,    195.6, 2,     1.58, 2,     0.77, 2,     0.05, 2,     0.14, 2,    2.069, 6,    1.236, 6,    0.318, 4, -999.000, 9,   -999.0, 9,   -999.0, 9, -999.0000,   -999.00,   -999.0, 9,   -999.0,  -999.00, 9,   -999.0,  21.6668, 24.4284,  21.6977, 2, 9, 0.12, 0.03, 0.01, 0.018,  -999.00, 9, -999.00, -999.00, 9, -999.00
49NZ20071008, P14N, 83, 1, 32, X12038, 2, 20071113, 0105, 21.0047, 178.9967, 2796,    199.3, 2,  18.1463, 2,  34.8281, 2,  34.8227, 2,    193.7, 2,    193.0, 2,     3.55, 2,     4.03, 2,     0.01, 2,     0.36, 2,    2.397, 2,    1.390, 2,    0.116, 4, -999.000, 9,   -999.0, 9,   -999.0, 9, -999.0000,   -999.00,   -999.0, 9,   -999.0,  -999.00, 9,   -999.0,  18.1119, 25.1128,  18.1467, 2, 9, 0.13, 0.04, 0.01, 0.014,  -999.00, 9, -999.00, -999.00, 9, -999.00
49NZ20071008, P14N, 83, 1, 31, X12003, 2, 20071113, 0105, 21.0047, 178.9967, 2796,    250.4, 2,  15.6117, 2,  34.5918, 2,  34.5871, 6,    196.6, 2,    195.8, 2,     6.12, 2,     7.09, 2,     0.01, 2,     0.56, 2,    2.644, 2,    1.519, 2,    0.061, 2, -999.000, 9,   -999.0, 9,   -999.0, 9, -999.0000,   -999.00,   -999.0, 9,   -999.0,  -999.00, 9,   -999.0,  15.5728, 25.5302,  15.6129, 2, 9, 0.13, 0.05, 0.01, 0.013,  -999.00, 9, -999.00, -999.00, 9, -999.00
49NZ20071008, P14N, 83, 1, 30, X12008, 2, 20071113, 0105, 21.0047, 178.9967, 2796,    331.4, 2,  12.4748, 2,  34.3489, 2,  34.3471, 2,    200.7, 2,    198.1, 2,    12.49, 2,    12.13, 2,     0.01, 2,     0.91, 2,    2.823, 2,    1.579, 2,    0.077, 2, -999.000, 9,   -999.0, 9,   -999.0, 9, -999.0000,   -999.00,   -999.0, 9,   -999.0,  -999.00, 9,   -999.0,  12.4305, 26.0006,  12.4761, 2, 9, 0.15, 0.07, 0.01, 0.013,  -999.00, 9, -999.00, -999.00, 9, -999.00
49NZ20071008, P14N, 83, 1, 29, X12035, 2, 20071113, 0105, 21.0047, 178.9967, 2796,    430.0, 2,   9.4257, 2,  34.1578, 2,  34.1563, 2,    167.1, 2,    160.6, 2,    27.58, 2,    21.33, 2,     0.01, 2,     1.58, 2,    2.598, 2,    1.338, 2,    0.086, 2, -999.000, 9,   -999.0, 9,   -999.0, 9, -999.0000,   -999.00,   -999.0, 9,   -999.0,  -999.00, 9,   -999.0,   9.3775, 26.3978,   9.4271, 2, 9, 0.18, 0.09, 0.01, 0.014,  -999.00, 9, -999.00, -999.00, 9, -999.00
49NZ20071008, P14N, 83, 1, 28, X12034, 2, 20071113, 0105, 21.0047, 178.9967, 2796,    529.8, 2,   7.3366, 2,  34.1090, 2,  34.1076, 6,    111.8, 2,    112.3, 2,    47.75, 2,    29.87, 2,     0.01, 2,     2.19, 2,    1.717, 2,    0.839, 2,    0.054, 2, -999.000, 9,   -999.0, 9,   -999.0, 9, -999.0000,   -999.00,   -999.0, 9,   -999.0,  -999.00, 9,   -999.0,   7.2852, 26.6773,   7.3401, 2, 9, 0.22, 0.12, 0.01, 0.015,  -999.00, 9, -999.00, -999.00, 9, -999.00
49NZ20071008, P14N, 83, 1, 27, X12049, 2, 20071113, 0105, 21.0047, 178.9967, 2796,    632.0, 2,   5.7128, 2,  34.1516, 2,  34.1522, 2,     59.5, 2,     65.2, 2,    71.83, 2,    37.02, 2,     0.01, 2,     2.70, 2,    0.701, 2,    0.344, 2,    0.024, 2, -999.000, 9,   -999.0, 9,   -999.0, 9, -999.0000,   -999.00,   -999.0, 9,   -999.0,  -999.00, 9,   -999.0,   5.6587, 26.9246,   5.7120, 2, 9, 0.28, 0.14, 0.01, 0.017,  -999.00, 9, -999.00, -999.00, 9, -999.00
49NZ20071008, P14N, 83, 1, 26, X12032, 2, 20071113, 0105, 21.0047, 178.9967, 2796,    731.5, 2,   5.0418, 2,  34.2854, 2,  34.2859, 2,     43.1, 2,     44.0, 2,    86.50, 2,    40.12, 2,     0.00, 2,     2.93, 2,    0.205, 6,    0.104, 6,    0.007, 6, -999.000, 9,   -999.0, 9,   -999.0, 9, -999.0000,   -999.00,   -999.0, 9,   -999.0,  -999.00, 9,   -999.0,   4.9823, 27.1107,   5.0425, 2, 9, 0.31, 0.15, 0.01, 0.017,  -999.00, 9, -999.00, -999.00, 9, -999.00
49NZ20071008, P14N, 83, 1, 25, X12043, 2, 20071113, 0105, 21.0047, 178.9967, 2796,    830.9, 2,   4.6934, 2,  34.3922, 2,  34.3932, 2,     45.3, 2,     45.6, 2,    93.89, 2,    40.88, 2,     0.01, 2,     2.97, 2,    0.061, 2,    0.032, 2,    0.000, 2, -999.000, 9,   -999.0, 9,   -999.0, 9, -999.0000,   -999.00,   -999.0, 9,   -999.0,  -999.00, 9,   -999.0,   4.6273, 27.2355,   4.6936, 2, 9, 0.33, 0.15, 0.01, 0.017,  -999.00, 9, -999.00, -999.00, 9, -999.00
49NZ20071008, P14N, 83, 1, 24, X12030, 2, 20071113, 0105, 21.0047, 178.9967, 2796,    929.3, 2,   4.4607, 2,  34.4502, 2,  34.4531, 2,     50.5, 2,     52.2, 2,    98.01, 2,    40.60, 2,     0.00, 2,     2.96, 2,    0.026, 2,    0.014, 2,    0.000, 2, -999.000, 9,   -999.0, 9,   -999.0, 9, -999.0000,   -999.00,   -999.0, 9,   -999.0,  -999.00, 9,   -999.0,   4.3877, 27.3078,   4.4609, 2, 9, 0.33, 0.15, 0.01, 0.017,  -999.00, 9, -999.00, -999.00, 9, -999.00
49NZ20071008, P14N, 83, 1, 23, X12027, 2, 20071113, 0105, 21.0047, 178.9967, 2796,   1069.9, 2,   3.9314, 2,  34.5135, 2,  34.5140, 6,     61.6, 2,     62.9, 2,   107.54, 2,    40.62, 2,     0.00, 2,     2.94, 2,    0.008, 2,    0.005, 2,    0.000, 2, -999.000, 9,   -999.0, 9,   -999.0, 9, -999.0000,   -999.00,   -999.0, 9,   -999.0,  -999.00, 9,   -999.0,   3.8504, 27.4145,   3.9313, 2, 9, 0.36, 0.15, 0.01, 0.017,  -999.00, 9, -999.00, -999.00, 9, -999.00
49NZ20071008, P14N, 83, 1, 22, X12028, 2, 20071113, 0105, 21.0047, 178.9967, 2796,   1270.7, 2,   3.2923, 2,  34.5435, 2,  34.5443, 2,     69.4, 2,     70.2, 2,   120.96, 2,    40.70, 2,     0.00, 2,     2.93, 2,    0.000, 2,    0.000, 2,    0.000, 2, -999.000, 9,   -999.0, 9,   -999.0, 9, -999.0000,   -999.00,   -999.0, 9,   -999.0,  -999.00, 9,   -999.0,   3.2004, 27.5021,   3.2925, 2, 9, 0.39, 0.15, 0.01, 0.017,  -999.00, 9, -999.00, -999.00, 9, -999.00
49NZ20071008, P14N, 83, 1, 21, X12009, 2, 20071113, 0105, 21.0047, 178.9967, 2796,   1469.8, 2,   2.8588, 2,  34.5687, 2,  34.5695, 2,     78.1, 2,     78.2, 2,   129.70, 2,    40.48, 2,     0.00, 2,     2.90, 2,    0.001, 2,    0.000, 2,    0.000, 2, -999.000, 9,   -999.0, 9,   -999.0, 9, -999.0000,   -999.00,   -999.0, 9,   -999.0,  -999.00, 9,   -999.0,   2.7551, 27.5629,   2.8588, 2, 9, 0.40, 0.15, 0.01, 0.017,  -999.00, 9, -999.00, -999.00, 9, -999.00
49NZ20071008, P14N, 83, 1, 20, X12026, 2, 20071113, 0105, 21.0047, 178.9967, 2796,   1670.0, 2,   2.5161, 2,  34.5891, 2,  34.5899, 2,     85.0, 2,     85.7, 2,   137.07, 2,    40.15, 2,     0.00, 2,     2.86, 2,    0.006, 2,    0.003, 2,    0.000, 2, -999.000, 9,   -999.0, 9,   -999.0, 9, -999.0000,   -999.00,   -999.0, 9,   -999.0,  -999.00, 9,   -999.0,   2.4000, 27.6098,   2.5163, 2, 9, 0.42, 0.15, 0.01, 0.017,  -999.00, 9, -999.00, -999.00, 9, -999.00
49NZ20071008, P14N, 83, 1, 19, X12025, 2, 20071113, 0105, 21.0047, 178.9967, 2796,   1871.7, 2,   2.1759, 2,  34.6112, 2,  34.6118, 2,     94.0, 2,     95.0, 2,   143.87, 2,    39.58, 2,     0.00, 2,     2.82, 2,    0.000, 2,    0.000, 2,    0.000, 2, -999.000, 9,   -999.0, 9,   -999.0, 9, -999.0000,   -999.00,   -999.0, 9,   -999.0,  -999.00, 9,   -999.0,   2.0476, 27.6564,   2.1758, 2, 9, 0.44, 0.14, 0.01, 0.017,  -999.00, 9, -999.00, -999.00, 9, -999.00
49NZ20071008, P14N, 83, 1, 18, X12024, 2, 20071113, 0105, 21.0047, 178.9967, 2796,   2068.9, 2,   1.9374, 2,  34.6291, 2,  34.6296, 6,    103.8, 2,    104.2, 2,   147.70, 2,    39.20, 2,     0.00, 2,     2.77, 2,    0.001, 2,    0.001, 2,    0.000, 2, -999.000, 9,   -999.0, 9,   -999.0, 9, -999.0000,   -999.00,   -999.0, 9,   -999.0,  -999.00, 9,   -999.0,   1.7961, 27.6904,   1.9374, 2, 9, 0.44, 0.14, 0.01, 0.017,  -999.00, 9, -999.00, -999.00, 9, -999.00
49NZ20071008, P14N, 83, 1, 17, X12023, 2, 20071113, 0105, 21.0047, 178.9967, 2796,   2269.7, 2,   1.7851, 2,  34.6421, 2,  34.6427, 2,    111.7, 2,    112.7, 2,   149.48, 2,    38.80, 2,     0.00, 2,     2.73, 2,    0.000, 2,    0.000, 2,    0.000, 2, -999.000, 9,   -999.0, 9,   -999.0, 9, -999.0000,   -999.00,   -999.0, 9,   -999.0,  -999.00, 9,   -999.0,   1.6291, 27.7134,   1.7849, 2, 9, 0.45, 0.14, 0.01, 0.017,  -999.00, 9, -999.00, -999.00, 9, -999.00
49NZ20071008, P14N, 83, 1, 16, X12022, 2, 20071113, 0105, 21.0047, 178.9967, 2796,   2471.1, 2,   1.7307, 2,  34.6481, 2,  34.6487, 2,    116.4, 2,    117.0, 2,   149.89, 2,    38.42, 2,     0.00, 2,     2.70, 2,    0.000, 2,    0.000, 2,    0.000, 2, -999.000, 9,   -999.0, 9,   -999.0, 9, -999.0000,   -999.00,   -999.0, 9,   -999.0,  -999.00, 9,   -999.0,   1.5580, 27.7236,   1.7306, 2, 9, 0.45, 0.14, 0.01, 0.017,  -999.00, 9, -999.00, -999.00, 9, -999.00
49NZ20071008, P14N, 83, 1, 15, X12021, 2, 20071113, 0105, 21.0047, 178.9967, 2796,   2670.3, 2,   1.6506, 2,  34.6566, 2,  34.6570, 2,    123.9, 2,    123.9, 2,   149.56, 2,    37.89, 2,     0.00, 2,     2.67, 2,    0.003, 2,    0.004, 2,    0.000, 2, -999.000, 9,   -999.0, 9,   -999.0, 9, -999.0000,   -999.00,   -999.0, 9,   -999.0,  -999.00, 9,   -999.0,   1.4615, 27.7374,   1.6504, 2, 9, 0.45, 0.14, 0.01, 0.017,  -999.00, 9, -999.00, -999.00, 9, -999.00
49NZ20071008, P14N, 83, 1, 14, X12020, 9, 20071113, 0105, 21.0047, 178.9967, 2796,    729.9, 2,   5.0475, 2,  34.2849, 2, -999.0000, 9,     43.1, 2,   -999.0, 9,  -999.00, 9,  -999.00, 9,  -999.00, 9,  -999.00, 9, -999.000, 9, -999.000, 9, -999.000, 9, -999.000, 9,   -999.0, 9,   -999.0, 9, -999.0000,   -999.00,   -999.0, 9,   -999.0,  -999.00, 9,   -999.0,   4.9881, 27.1097,   5.0473, 2, 9, -999.00, -999.00, -999.00, -999.000,  -999.00, 9, -999.00, -999.00, 9, -999.00
49NZ20071008, P14N, 83, 1, 13, X12019, 9, 20071113, 0105, 21.0047, 178.9967, 2796,    831.3, 2,   4.6938, 2,  34.3921, 2, -999.0000, 9,     45.4, 2,   -999.0, 9,  -999.00, 9,  -999.00, 9,  -999.00, 9,  -999.00, 9, -999.000, 9, -999.000, 9, -999.000, 9, -999.000, 9,   -999.0, 9,   -999.0, 9, -999.0000,   -999.00,   -999.0, 9,   -999.0,  -999.00, 9,   -999.0,   4.6277, 27.2354,   4.6939, 2, 9, -999.00, -999.00, -999.00, -999.000,  -999.00, 9, -999.00, -999.00, 9, -999.00
49NZ20071008, P14N, 83, 1, 12, X12040, 9, 20071113, 0105, 21.0047, 178.9967, 2796,    928.5, 2,   4.4607, 2,  34.4502, 2, -999.0000, 9,     50.5, 2,   -999.0, 9,  -999.00, 9,  -999.00, 9,  -999.00, 9,  -999.00, 9, -999.000, 9, -999.000, 9, -999.000, 9, -999.000, 9,   -999.0, 9,   -999.0, 9, -999.0000,   -999.00,   -999.0, 9,   -999.0,  -999.00, 9,   -999.0,   4.3877, 27.3078,   4.4608, 2, 9, -999.00, -999.00, -999.00, -999.000,  -999.00, 9, -999.00, -999.00, 9, -999.00
49NZ20071008, P14N, 83, 1, 11, X12047, 9, 20071113, 0105, 21.0047, 178.9967, 2796,   1069.4, 2,   3.9313, 2,  34.5136, 2, -999.0000, 9,     61.6, 2,   -999.0, 9,  -999.00, 9,  -999.00, 9,  -999.00, 9,  -999.00, 9, -999.000, 9, -999.000, 9, -999.000, 9, -999.000, 9,   -999.0, 9,   -999.0, 9, -999.0000,   -999.00,   -999.0, 9,   -999.0,  -999.00, 9,   -999.0,   3.8504, 27.4146,   3.9318, 2, 9, -999.00, -999.00, -999.00, -999.000,  -999.00, 9, -999.00, -999.00, 9, -999.00
49NZ20071008, P14N, 83, 1, 10, X12012, 9, 20071113, 0105, 21.0047, 178.9967, 2796,   1270.7, 2,   3.2925, 2,  34.5436, 2, -999.0000, 9,     69.4, 2,   -999.0, 9,  -999.00, 9,  -999.00, 9,  -999.00, 9,  -999.00, 9, -999.000, 9, -999.000, 9, -999.000, 9, -999.000, 9,   -999.0, 9,   -999.0, 9, -999.0000,   -999.00,   -999.0, 9,   -999.0,  -999.00, 9,   -999.0,   3.2006, 27.5021,   3.2925, 2, 9, -999.00, -999.00, -999.00, -999.000,  -999.00, 9, -999.00, -999.00, 9, -999.00
49NZ20071008, P14N, 83, 1, 9, X12015, 9, 20071113, 0105, 21.0047, 178.9967, 2796,   1470.0, 2,   2.8575, 2,  34.5688, 2, -999.0000, 9,     78.1, 2,   -999.0, 9,  -999.00, 9,  -999.00, 9,  -999.00, 9,  -999.00, 9, -999.000, 9, -999.000, 9, -999.000, 9, -999.000, 9,   -999.0, 9,   -999.0, 9, -999.0000,   -999.00,   -999.0, 9,   -999.0,  -999.00, 9,   -999.0,   2.7538, 27.5631,   2.8578, 2, 9, -999.00, -999.00, -999.00, -999.000,  -999.00, 9, -999.00, -999.00, 9, -999.00
49NZ20071008, P14N, 83, 1, 8, X12046, 9, 20071113, 0105, 21.0047, 178.9967, 2796,   1669.9, 2,   2.5155, 2,  34.5891, 2, -999.0000, 9,     85.0, 2,   -999.0, 9,  -999.00, 9,  -999.00, 9,  -999.00, 9,  -999.00, 9, -999.000, 9, -999.000, 9, -999.000, 9, -999.000, 9,   -999.0, 9,   -999.0, 9, -999.0000,   -999.00,   -999.0, 9,   -999.0,  -999.00, 9,   -999.0,   2.3994, 27.6099,   2.5151, 2, 9, -999.00, -999.00, -999.00, -999.000,  -999.00, 9, -999.00, -999.00, 9, -999.00
49NZ20071008, P14N, 83, 1, 7, X12044, 9, 20071113, 0105, 21.0047, 178.9967, 2796,   1871.9, 2,   2.1759, 2,  34.6114, 2, -999.0000, 9,     94.0, 2,   -999.0, 9,  -999.00, 9,  -999.00, 9,  -999.00, 9,  -999.00, 9, -999.000, 9, -999.000, 9, -999.000, 9, -999.000, 9,   -999.0, 9,   -999.0, 9, -999.0000,   -999.00,   -999.0, 9,   -999.0,  -999.00, 9,   -999.0,   2.0476, 27.6566,   2.1759, 2, 9, -999.00, -999.00, -999.00, -999.000,  -999.00, 9, -999.00, -999.00, 9, -999.00
49NZ20071008, P14N, 83, 1, 6, X12048, 9, 20071113, 0105, 21.0047, 178.9967, 2796,   2069.7, 2,   1.9372, 2,  34.6291, 2, -999.0000, 9,    103.8, 2,   -999.0, 9,  -999.00, 9,  -999.00, 9,  -999.00, 9,  -999.00, 9, -999.000, 9, -999.000, 9, -999.000, 9, -999.000, 9,   -999.0, 9,   -999.0, 9, -999.0000,   -999.00,   -999.0, 9,   -999.0,  -999.00, 9,   -999.0,   1.7959, 27.6904,   1.9374, 2, 9, -999.00, -999.00, -999.00, -999.000,  -999.00, 9, -999.00, -999.00, 9, -999.00
49NZ20071008, P14N, 83, 1, 5, X12014, 9, 20071113, 0105, 21.0047, 178.9967, 2796,   2269.7, 2,   1.7856, 2,  34.6421, 2, -999.0000, 9,    111.7, 2,   -999.0, 9,  -999.00, 9,  -999.00, 9,  -999.00, 9,  -999.00, 9, -999.000, 9, -999.000, 9, -999.000, 9, -999.000, 9,   -999.0, 9,   -999.0, 9, -999.0000,   -999.00,   -999.0, 9,   -999.0,  -999.00, 9,   -999.0,   1.6296, 27.7134,   1.7852, 2, 9, -999.00, -999.00, -999.00, -999.000,  -999.00, 9, -999.00, -999.00, 9, -999.00
49NZ20071008, P14N, 83, 1, 4, X12006, 9, 20071113, 0105, 21.0047, 178.9967, 2796,   2470.9, 2,   1.7307, 2,  34.6480, 2, -999.0000, 9,    116.4, 2,   -999.0, 9,  -999.00, 9,  -999.00, 9,  -999.00, 9,  -999.00, 9, -999.000, 9, -999.000, 9, -999.000, 9, -999.000, 9,   -999.0, 9,   -999.0, 9, -999.0000,   -999.00,   -999.0, 9,   -999.0,  -999.00, 9,   -999.0,   1.5581, 27.7235,   1.7307, 2, 9, -999.00, -999.00, -999.00, -999.000,  -999.00, 9, -999.00, -999.00, 9, -999.00
49NZ20071008, P14N, 83, 1, 3, X12013, 2, 20071113, 0105, 21.0047, 178.9967, 2796,     30.0, 2,  26.9846, 2,  35.2436, 2,  35.2435, 2,    202.0, 2,    202.4, 2,  -999.00, 9,  -999.00, 9,  -999.00, 9,  -999.00, 9, -999.000, 9, -999.000, 9, -999.000, 9, -999.000, 9,   -999.0, 9,   -999.0, 9, -999.0000,   -999.00,   -999.0, 9,   -999.0,  -999.00, 9,   -999.0,  26.9777, 22.9084,  26.9840, 2, 9, -999.00, -999.00, -999.00, -999.000,  -999.00, 9, -999.00, -999.00, 9, -999.00
49NZ20071008, P14N, 83, 1, 2, X12002, 2, 20071113, 0105, 21.0047, 178.9967, 2796,     19.9, 2,  27.0040, 2,  35.2450, 2,  35.2446, 2,    202.3, 2,    202.4, 2,  -999.00, 9,  -999.00, 9,  -999.00, 9,  -999.00, 9, -999.000, 9, -999.000, 9, -999.000, 9, -999.000, 9,   -999.0, 9,   -999.0, 9, -999.0000,   -999.00,   -999.0, 9,   -999.0,  -999.00, 9,   -999.0,  26.9994, 22.9025,  27.0033, 2, 9, -999.00, -999.00, -999.00, -999.000,  -999.00, 9, -999.00, -999.00, 9, -999.00
49NZ20071008, P14N, 83, 1, 1, X12001, 2, 20071113, 0105, 21.0047, 178.9967, 2796,   2832.4, 2,   1.5995, 2,  34.6621, 2,  34.6628, 6,    128.9, 2,    128.8, 2,   149.09, 2,    37.65, 2,     0.00, 2,     2.65, 2,    0.000, 2,    0.000, 2,    0.000, 2, -999.000, 9,   -999.0, 9,   -999.0, 9, -999.0000,   -999.00,   -999.0, 9,   -999.0,  -999.00, 9,   -999.0,   1.3964, 27.7465,   1.5992, 2, 9, 0.45, 0.14, 0.01, 0.017,  -999.00, 9, -999.00, -999.00, 9, -999.00