BOTTLE,20221005CCHSIOAMB
EXPOCODE,SECT_ID,STNNBR,CASTNO,SAMPNO,BTLNBR,BTLNBR_FLAG_W,DATE,TIME,LATITUDE,LONGITUDE,DEPTH,CTDPRS,CTDPRS_FLAG_W,CTDTMP,CTDTMP_FLAG_W,CTDSAL,CTDSAL_FLAG_W,SALNTY,SALNTY_FLAG_W,CTDOXY,CTDOXY_FLAG_W,OXYGEN,OXYGEN_FLAG_W,SILCAT,SILCAT_FLAG_W,NITRAT,NITRAT_FLAG_W,NITRIT,NITRIT_FLAG_W,PHSPHT,PHSPHT_FLAG_W,CFC-11,CFC-11_FLAG_W,CFC-12,CFC-12_FLAG_W,CFC113,CFC113_FLAG_W,CCL4,CCL4_FLAG_W,TCARBN,TCARBN_FLAG_W,ALKALI,ALKALI_FLAG_W,PH_TOT,PH_TMP,DELC14,DELC14_FLAG_W,C14ERR,DELC13,DELC13_FLAG_W,C13ERR,THETA,SIG0,SBE35,SBE35_FLAG_W,PH_TOT_FLAG_W,SILUNC,NRAUNC,NRIUNC,PHPUNC,CS-137,CS-137_FLAG_W,CS137ER,PLUTO,PLUTO_FLAG_W,PLUTOER
,,,,,,,,,,,METERS,DBAR,,ITS-90,,PSS-78,,PSS-78,,UMOL/KG,,UMOL/KG,,UMOL/KG,,UMOL/KG,,UMOL/KG,,UMOL/KG,,PMOL/KG,,PMOL/KG,,PMOL/KG,,PMOL/KG,,UMOL/KG,,UMOL/KG,,,DEG C,/MILLE,,/MILLE,/MILLE,,/MILLE,DEG C,KG/M^3,ITS-90,,,UMOL/KG,UMOL/KG,UMOL/KG,UMOL/KG,DM/.1MG,,BQ/M^3,MBQ/M^3,,MBQ/M^3
49NZ20071008, P14N, 32, 1, 36, X12042, 2, 20071030, 0725, 46.4883, 179.0060, 5636,     10.2, 2,   8.8188, 2,  32.6864, 2,  32.6865, 2,    288.5, 2,    288.6, 2,    21.06, 2,    13.48, 2,     0.29, 2,     1.32, 2,    3.589, 2,    2.058, 2,    0.328, 2, -999.000, 9,   -999.0, 9,   -999.0, 9, -999.0000,   -999.00,   -999.0, 9,   -999.0,  -999.00, 9,   -999.0,   8.8178, 25.3350,   8.8195, 2, 9, 0.17, 0.07, 0.01, 0.014,  -999.00, 9, -999.00, -999.00, 9, -999.00
49NZ20071008, P14N, 32, 1, 35, X12041, 2, 20071030, 0725, 46.4883, 179.0060, 5636,     50.0, 2,   8.8119, 2,  32.6875, 2,  32.6877, 2,    287.2, 2,    288.7, 2,    21.05, 2,    13.49, 2,     0.29, 2,     1.32, 2,    3.693, 2,    2.108, 2,    0.345, 2, -999.000, 9,   -999.0, 9,   -999.0, 9, -999.0000,   -999.00,   -999.0, 9,   -999.0,  -999.00, 9,   -999.0,   8.8068, 25.3376,   8.8124, 2, 9, 0.17, 0.07, 0.01, 0.014,  -999.00, 9, -999.00, -999.00, 9, -999.00
49NZ20071008, P14N, 32, 1, 34, X12016, 2, 20071030, 0725, 46.4883, 179.0060, 5636,    100.2, 2,   4.2119, 2,  33.1144, 2,  33.1137, 2,    306.2, 2,    305.4, 2,    30.18, 2,    19.08, 2,     0.02, 2,     1.59, 2,    4.960, 2,    2.780, 2,    0.418, 2, -999.000, 9,   -999.0, 9,   -999.0, 9, -999.0000,   -999.00,   -999.0, 9,   -999.0,  -999.00, 9,   -999.0,   4.2051, 26.2656,   4.2107, 2, 9, 0.19, 0.09, 0.01, 0.014,  -999.00, 1, -999.00, -999.00, 9, -999.00
49NZ20071008, P14N, 32, 1, 33, X12033, 2, 20071030, 0725, 46.4883, 179.0060, 5636,    151.2, 2,   4.1079, 2,  33.5119, 2,  33.5045, 2,    242.7, 2,    246.1, 2,    42.93, 2,    24.67, 2,     0.02, 2,     1.92, 2,    4.261, 2,    2.341, 2,    0.314, 6, -999.000, 9,   -999.0, 9,   -999.0, 9, -999.0000,   -999.00,   -999.0, 9,   -999.0,  -999.00, 9,   -999.0,   4.0976, 26.5925,   4.1091, 2, 9, 0.21, 0.10, 0.01, 0.015,  -999.00, 9, -999.00, -999.00, 9, -999.00
49NZ20071008, P14N, 32, 1, 32, X12038, 2, 20071030, 0725, 46.4883, 179.0060, 5636,    202.1, 2,   3.5846, 2,  33.6622, 2,  33.6602, 2,    172.3, 2,    168.2, 2,    65.02, 2,    32.62, 2,     0.02, 2,     2.44, 2,    3.406, 2,    1.793, 2,    0.241, 2, -999.000, 9,   -999.0, 9,   -999.0, 9, -999.0000,   -999.00,   -999.0, 9,   -999.0,  -999.00, 9,   -999.0,   3.5715, 26.7643,   3.5844, 2, 9, 0.26, 0.12, 0.01, 0.016,  -999.00, 1, -999.00, -999.00, 9, -999.00
49NZ20071008, P14N, 32, 1, 31, X12003, 2, 20071030, 0725, 46.4883, 179.0060, 5636,    250.3, 2,   3.7709, 2,  33.7946, 2,  33.7946, 6,    134.7, 2,    122.8, 2,    75.51, 2,    35.84, 2,     0.01, 2,     2.63, 2,    2.792, 2,    1.437, 2,    0.185, 2, -999.000, 9,   -999.0, 9,   -999.0, 9, -999.0000,   -999.00,   -999.0, 9,   -999.0,  -999.00, 9,   -999.0,   3.7542, 26.8519,   3.7717, 2, 9, 0.29, 0.13, 0.01, 0.017,  -999.00, 9, -999.00, -999.00, 9, -999.00
49NZ20071008, P14N, 32, 1, 30, X12008, 2, 20071030, 0725, 46.4883, 179.0060, 5636,    331.3, 2,   3.6357, 2,  33.8947, 2,  33.8949, 2,     92.3, 2,     81.6, 2,    89.29, 2,    39.31, 2,     0.01, 2,     2.87, 2,    2.171, 2,    1.142, 2,    0.168, 2, -999.000, 9,   -999.0, 9,   -999.0, 9, -999.0000,   -999.00,   -999.0, 9,   -999.0,  -999.00, 9,   -999.0,   3.6136, 26.9454,   3.6360, 2, 9, 0.32, 0.14, 0.01, 0.017,  -999.00, 9, -999.00, -999.00, 9, -999.00
49NZ20071008, P14N, 32, 1, 29, X12035, 2, 20071030, 0725, 46.4883, 179.0060, 5636,    433.3, 2,   3.5507, 2,  34.0057, 2,  34.0040, 2,     54.1, 2,     51.5, 2,   102.32, 2,    42.08, 2,     0.01, 2,     3.01, 2,    1.547, 2,    0.765, 2,    0.146, 2, -999.000, 9,   -999.0, 9,   -999.0, 9, -999.0000,   -999.00,   -999.0, 9,   -999.0,  -999.00, 9,   -999.0,   3.5217, 27.0427,   3.5506, 2, 9, 0.34, 0.15, 0.01, 0.017,  -999.00, 1, -999.00, -999.00, 9, -999.00
49NZ20071008, P14N, 32, 1, 28, X12034, 2, 20071030, 0725, 46.4883, 179.0060, 5636,    529.0, 2,   3.6040, 2,  34.1330, 2,  34.1332, 6,     41.7, 2,     38.9, 2,   111.71, 2,    42.31, 2,     0.01, 2,     3.04, 2,    0.964, 2,    0.465, 2,    0.067, 2, -999.000, 9,   -999.0, 9,   -999.0, 9, -999.0000,   -999.00,   -999.0, 9,   -999.0,  -999.00, 9,   -999.0,   3.5679, 27.1397,   3.6041, 2, 9, 0.36, 0.15, 0.01, 0.018,  -999.00, 9, -999.00, -999.00, 9, -999.00
49NZ20071008, P14N, 32, 1, 27, X12049, 2, 20071030, 0725, 46.4883, 179.0060, 5636,    629.1, 2,   3.4944, 2,  34.2155, 2,  34.2151, 2,     33.5, 2,     32.8, 2,   119.70, 2,    42.57, 2,     0.01, 2,     3.06, 2,    0.614, 2,    0.293, 2,    0.032, 2, -999.000, 9,   -999.0, 9,   -999.0, 9, -999.0000,   -999.00,   -999.0, 9,   -999.0,  -999.00, 9,   -999.0,   3.4514, 27.2167,   3.4947, 2, 9, 0.38, 0.15, 0.01, 0.018,  -999.00, 1, -999.00, -999.00, 9, -999.00
49NZ20071008, P14N, 32, 1, 26, X12032, 2, 20071030, 0725, 46.4883, 179.0060, 5636,    731.8, 2,   3.3161, 2,  34.2849, 2,  34.2851, 2,     31.1, 2,     30.4, 2,   127.61, 2,    42.82, 2,     0.01, 2,     3.08, 2,    0.371, 6,    0.170, 6,    0.021, 6, -999.000, 9,   -999.0, 9,   -999.0, 9, -999.0000,   -999.00,   -999.0, 9,   -999.0,  -999.00, 9,   -999.0,   3.2664, 27.2896,   3.3160, 2, 9, 0.40, 0.15, 0.01, 0.018,  -999.00, 9, -999.00, -999.00, 9, -999.00
49NZ20071008, P14N, 32, 1, 25, X12043, 2, 20071030, 0725, 46.4883, 179.0060, 5636,    831.2, 2,   3.1017, 2,  34.3313, 2,  34.3302, 2,     29.0, 2,     28.5, 2,   134.61, 2,    43.39, 2,     0.01, 2,     3.11, 2,    0.236, 2,    0.112, 2,    0.000, 2, -999.000, 9,   -999.0, 9,   -999.0, 9, -999.0000,   -999.00,   -999.0, 9,   -999.0,  -999.00, 9,   -999.0,   3.0459, 27.3471,   3.1019, 2, 9, 0.42, 0.15, 0.01, 0.018,  -999.00, 1, -999.00, -999.00, 9, -999.00
49NZ20071008, P14N, 32, 1, 24, X12030, 2, 20071030, 0725, 46.4883, 179.0060, 5636,    929.4, 2,   2.9283, 2,  34.3693, 2,  34.3694, 2,     28.3, 2,     28.0, 2,   140.25, 2,    43.28, 2,     0.01, 2,     3.11, 2,    0.174, 2,    0.078, 2,    0.027, 2, -999.000, 9,   -999.0, 9,   -999.0, 9, -999.0000,   -999.00,   -999.0, 9,   -999.0,  -999.00, 9,   -999.0,   2.8664, 27.3937,   2.9287, 2, 9, 0.43, 0.15, 0.01, 0.018,  -999.00, 9, -999.00, -999.00, 9, -999.00
49NZ20071008, P14N, 32, 1, 23, X12027, 2, 20071030, 0725, 46.4883, 179.0060, 5636,   1070.2, 2,   2.6993, 2,  34.4139, 2,  34.4146, 6,     28.4, 2,     26.9, 2,   148.33, 2,    43.70, 2,     0.01, 2,     3.12, 2,    0.097, 2,    0.045, 2,    0.000, 2, -999.000, 9,   -999.0, 9,   -999.0, 9, -999.0000,   -999.00,   -999.0, 9,   -999.0,  -999.00, 9,   -999.0,   2.6287, 27.4502,   2.6996, 2, 9, 0.45, 0.16, 0.01, 0.018,  -999.00, 1, -999.00, -999.00, 9, -999.00
49NZ20071008, P14N, 32, 1, 22, X12028, 2, 20071030, 0725, 46.4883, 179.0060, 5636,   1268.8, 2,   2.4342, 2,  34.4741, 2,  34.4750, 2,     32.4, 2,     33.1, 2,   155.75, 2,    43.59, 2,     0.01, 2,     3.10, 2,    0.053, 2,    0.022, 2,    0.000, 2, -999.000, 9,   -999.0, 9,   -999.0, 9, -999.0000,   -999.00,   -999.0, 9,   -999.0,  -999.00, 9,   -999.0,   2.3510, 27.5219,   2.4341, 2, 9, 0.46, 0.15, 0.01, 0.018,  -999.00, 9, -999.00, -999.00, 9, -999.00
49NZ20071008, P14N, 32, 1, 21, X12009, 2, 20071030, 0725, 46.4883, 179.0060, 5636,   1469.3, 2,   2.2521, 2,  34.5133, 2,  34.5139, 2,     39.6, 2,     39.6, 2,   161.02, 2,    43.10, 2,     0.01, 2,     3.07, 2,    0.022, 2,    0.013, 2,    0.000, 2, -999.000, 9,   -999.0, 9,   -999.0, 9, -999.0000,   -999.00,   -999.0, 9,   -999.0,  -999.00, 9,   -999.0,   2.1554, 27.5693,   2.2521, 2, 9, 0.47, 0.15, 0.01, 0.018,  -999.00, 9, -999.00, -999.00, 9, -999.00
49NZ20071008, P14N, 32, 1, 20, X12026, 2, 20071030, 0725, 46.4883, 179.0060, 5636,   1668.6, 2,   2.1020, 2,  34.5493, 2,  34.5497, 2,     50.6, 2,     50.6, 2,   162.75, 2,    42.52, 2,     0.01, 2,     3.02, 2,    0.022, 2,    0.009, 2,    0.000, 2, -999.000, 9,   -999.0, 9,   -999.0, 9, -999.0000,   -999.00,   -999.0, 9,   -999.0,  -999.00, 9,   -999.0,   1.9914, 27.6113,   2.1022, 2, 9, 0.48, 0.15, 0.01, 0.017,  -999.00, 9, -999.00, -999.00, 9, -999.00
49NZ20071008, P14N, 32, 1, 19, X12025, 2, 20071030, 0725, 46.4883, 179.0060, 5636,   1871.3, 2,   1.9818, 2,  34.5758, 2,  34.5756, 2,     59.1, 2,     60.5, 2,   164.74, 2,    42.09, 2,     0.01, 2,     2.97, 2,    0.009, 2,    0.005, 2,    0.000, 2, -999.000, 9,   -999.0, 9,   -999.0, 9, -999.0000,   -999.00,   -999.0, 9,   -999.0,  -999.00, 9,   -999.0,   1.8565, 27.6430,   1.9819, 2, 9, 0.48, 0.15, 0.01, 0.017,  -999.00, 1, -999.00, -999.00, 9, -999.00
49NZ20071008, P14N, 32, 1, 18, X12024, 2, 20071030, 0725, 46.4883, 179.0060, 5636,   2069.7, 2,   1.8706, 2,  34.5988, 2,  34.5989, 2,     69.8, 2,     71.4, 2,   165.31, 2,    41.44, 2,     0.01, 2,     2.92, 2,    0.004, 2,    0.001, 2,    0.000, 2, -999.000, 9,   -999.0, 9,   -999.0, 9, -999.0000,   -999.00,   -999.0, 9,   -999.0,  -999.00, 9,   -999.0,   1.7304, 27.6711,   1.8709, 2, 9, 0.48, 0.15, 0.01, 0.017,  -999.00, 1, -999.00, -999.00, 9, -999.00
49NZ20071008, P14N, 32, 1, 17, X12023, 2, 20071030, 0725, 46.4883, 179.0060, 5636,   2272.5, 2,   1.7667, 2,  34.6189, 2,  34.6192, 2,     81.4, 2,     84.0, 2,   165.49, 2,    40.54, 2,     0.01, 2,     2.87, 2,    0.000, 2,    0.002, 2,    0.000, 2, -999.000, 9,   -999.0, 9,   -999.0, 9, -999.0000,   -999.00,   -999.0, 9,   -999.0,  -999.00, 9,   -999.0,   1.6109, 27.6962,   1.7666, 2, 9, 0.48, 0.15, 0.01, 0.017,  -999.00, 1, -999.00, -999.00, 9, -999.00
49NZ20071008, P14N, 32, 1, 16, X12022, 2, 20071030, 0725, 46.4883, 179.0060, 5636,   2471.9, 2,   1.6918, 2,  34.6335, 2,  34.6335, 2,     92.2, 2,     93.8, 2,   164.99, 2,    39.99, 2,     0.01, 2,     2.82, 2,    0.000, 2,    0.000, 2,    0.000, 2, -999.000, 9,   -999.0, 9,   -999.0, 9, -999.0000,   -999.00,   -999.0, 9,   -999.0,  -999.00, 9,   -999.0,   1.5198, 27.7146,   1.6919, 2, 9, 0.48, 0.14, 0.01, 0.017,  -999.00, 9, -999.00, -999.00, 9, -999.00
49NZ20071008, P14N, 32, 1, 15, X12021, 2, 20071030, 0725, 46.4883, 179.0060, 5636,   2670.8, 2,   1.6342, 2,  34.6445, 2,  34.6447, 6,    101.8, 2,    103.6, 2,   163.45, 2,    39.34, 2,     0.01, 2,     2.77, 2, -999.000, 9, -999.000, 9, -999.000, 9, -999.000, 9,   -999.0, 9,   -999.0, 9, -999.0000,   -999.00,   -999.0, 9,   -999.0,  -999.00, 9,   -999.0,   1.4454, 27.7289,   1.6342, 2, 9, 0.48, 0.14, 0.01, 0.017,  -999.00, 9, -999.00, -999.00, 9, -999.00
49NZ20071008, P14N, 32, 1, 14, X12020, 2, 20071030, 0725, 46.4883, 179.0060, 5636,   2868.2, 2,   1.5851, 2,  34.6539, 2,  34.6542, 2,    111.0, 2,    112.7, 2,   161.80, 2,    38.77, 2,     0.01, 2,     2.73, 2,    0.000, 2,    0.000, 2,    0.000, 2, -999.000, 9,   -999.0, 9,   -999.0, 9, -999.0000,   -999.00,   -999.0, 9,   -999.0,  -999.00, 9,   -999.0,   1.3790, 27.7411,   1.5852, 2, 9, 0.47, 0.14, 0.01, 0.017,  -999.00, 1, -999.00, -999.00, 9, -999.00
49NZ20071008, P14N, 32, 1, 13, X12019, 2, 20071030, 0725, 46.4883, 179.0060, 5636,   3080.6, 2,   1.5407, 2,  34.6624, 2,  34.6624, 2,    120.6, 2,    121.8, 2,   159.85, 2,    38.12, 2,     0.01, 2,     2.68, 2, -999.000, 9, -999.000, 9, -999.000, 9, -999.000, 9,   -999.0, 9,   -999.0, 9, -999.0000,   -999.00,   -999.0, 9,   -999.0,  -999.00, 9,   -999.0,   1.3153, 27.7524,   1.5410, 2, 9, 0.47, 0.14, 0.01, 0.017,  -999.00, 1, -999.00, -999.00, 9, -999.00
49NZ20071008, P14N, 32, 1, 12, X12040, 2, 20071030, 0725, 46.4883, 179.0060, 5636,   3330.1, 2,   1.5033, 2,  34.6701, 2,  34.6702, 2,    129.6, 2,    130.7, 2,   157.08, 2,    37.54, 2,     0.01, 2,     2.64, 2, -999.000, 9, -999.000, 9, -999.000, 9, -999.000, 9,   -999.0, 9,   -999.0, 9, -999.0000,   -999.00,   -999.0, 9,   -999.0,  -999.00, 9,   -999.0,   1.2543, 27.7630,   1.5034, 2, 9, 0.46, 0.14, 0.01, 0.017,  -999.00, 1, -999.00, -999.00, 9, -999.00
49NZ20071008, P14N, 32, 1, 11, X12047, 2, 20071030, 0725, 46.4883, 179.0060, 5636,   3580.9, 2,   1.4805, 2,  34.6760, 2,  34.6758, 2,    137.3, 2,    137.9, 2,   155.43, 2,    37.11, 2,     0.01, 2,     2.60, 2,    0.000, 2,    0.000, 2,    0.000, 2, -999.000, 9,   -999.0, 9,   -999.0, 9, -999.0000,   -999.00,   -999.0, 9,   -999.0,  -999.00, 9,   -999.0,   1.2066, 27.7710,   1.4807, 2, 9, 0.46, 0.14, 0.01, 0.016,  -999.00, 9, -999.00, -999.00, 9, -999.00
49NZ20071008, P14N, 32, 1, 10, X12017, 2, 20071030, 0725, 46.4883, 179.0060, 5636,   3830.1, 2,   1.4682, 2,  34.6804, 2,  34.6803, 2,    142.3, 2,    143.4, 2,   154.18, 2,    36.59, 2,     0.01, 2,     2.57, 2, -999.000, 9, -999.000, 9, -999.000, 9, -999.000, 9,   -999.0, 9,   -999.0, 9, -999.0000,   -999.00,   -999.0, 9,   -999.0,  -999.00, 9,   -999.0,   1.1685, 27.7772,   1.4684, 2, 9, 0.46, 0.14, 0.01, 0.016,  -999.00, 1, -999.00, -999.00, 9, -999.00
49NZ20071008, P14N, 32, 1, 9, X12015, 2, 20071030, 0725, 46.4883, 179.0060, 5636,   4080.8, 2,   1.4655, 2,  34.6838, 2,  34.6838, 2,    147.1, 2,    147.6, 2,   153.54, 2,    36.32, 2,     0.01, 2,     2.55, 2, -999.000, 9, -999.000, 9, -999.000, 9, -999.000, 9,   -999.0, 9,   -999.0, 9, -999.0000,   -999.00,   -999.0, 9,   -999.0,  -999.00, 9,   -999.0,   1.1388, 27.7819,   1.4656, 2, 9, 0.46, 0.13, 0.01, 0.016,  -999.00, 1, -999.00, -999.00, 9, -999.00
49NZ20071008, P14N, 32, 1, 8, X12046, 2, 20071030, 0725, 46.4883, 179.0060, 5636,   4330.1, 2,   1.4743, 2,  34.6861, 2,  34.6861, 6,    150.2, 2,    150.2, 2,   153.86, 2,    36.26, 2,     0.01, 2,     2.54, 2,    0.005, 2,    0.001, 2,    0.000, 2, -999.000, 9,   -999.0, 9,   -999.0, 9, -999.0000,   -999.00,   -999.0, 9,   -999.0,  -999.00, 9,   -999.0,   1.1195, 27.7851,   1.4743, 2, 9, 0.46, 0.13, 0.01, 0.016,  -999.00, 1, -999.00, -999.00, 9, -999.00
49NZ20071008, P14N, 32, 1, 7, X12044, 2, 20071030, 0725, 46.4883, 179.0060, 5636,   4581.4, 2,   1.4915, 2,  34.6878, 2,  34.6878, 2,    151.9, 2,    151.8, 2,   155.13, 2,    36.14, 2,     0.01, 2,     2.53, 2, -999.000, 9, -999.000, 9, -999.000, 9, -999.000, 9,   -999.0, 9,   -999.0, 9, -999.0000,   -999.00,   -999.0, 9,   -999.0,  -999.00, 9,   -999.0,   1.1074, 27.7872,   1.4915, 2, 9, 0.46, 0.13, 0.01, 0.016,  -999.00, 9, -999.00, -999.00, 9, -999.00
49NZ20071008, P14N, 32, 1, 6, X12048, 2, 20071030, 0725, 46.4883, 179.0060, 5636,   4831.9, 2,   1.5165, 2,  34.6885, 2,  34.6883, 2,    152.6, 2,    152.6, 2,   155.96, 2,    35.99, 2,     0.01, 2,     2.53, 2, -999.000, 9, -999.000, 9, -999.000, 9, -999.000, 9,   -999.0, 9,   -999.0, 9, -999.0000,   -999.00,   -999.0, 9,   -999.0,  -999.00, 9,   -999.0,   1.1020, 27.7882,   1.5164, 2, 9, 0.46, 0.13, 0.01, 0.016,  -999.00, 1, -999.00, -999.00, 9, -999.00
49NZ20071008, P14N, 32, 1, 5, X12014, 2, 20071030, 0725, 46.4883, 179.0060, 5636,   5081.8, 2,   1.5466, 2,  34.6889, 2,  34.6889, 2,    153.0, 2,    152.9, 2,   156.26, 2,    35.91, 2,     0.01, 2,     2.53, 2,    0.005, 2,    0.005, 2,    0.000, 2, -999.000, 9,   -999.0, 9,   -999.0, 9, -999.0000,   -999.00,   -999.0, 9,   -999.0,  -999.00, 9,   -999.0,   1.1008, 27.7886,   1.5467, 2, 9, 0.46, 0.13, 0.01, 0.016,  -999.00, 1, -999.00, -999.00, 9, -999.00
49NZ20071008, P14N, 32, 1, 4, X12006, 2, 20071030, 0725, 46.4883, 179.0060, 5636,   5330.3, 2,   1.5774, 2,  34.6891, 2,  34.6891, 2,    153.3, 2,    153.3, 2,   156.25, 2,    36.14, 2,     0.01, 2,     2.52, 2, -999.000, 9, -999.000, 9, -999.000, 9, -999.000, 9,   -999.0, 9,   -999.0, 9, -999.0000,   -999.00,   -999.0, 9,   -999.0,  -999.00, 9,   -999.0,   1.0996, 27.7888,   1.5773, 2, 9, 0.46, 0.13, 0.01, 0.016,  -999.00, 1, -999.00, -999.00, 9, -999.00
49NZ20071008, P14N, 32, 1, 3, X12013, 2, 20071030, 0725, 46.4883, 179.0060, 5636,   5578.9, 2,   1.6081, 2,  34.6893, 2,  34.6893, 2,    153.9, 2,    153.8, 2,   155.65, 2,    36.04, 2,     0.01, 2,     2.52, 2, -999.000, 9, -999.000, 9, -999.000, 9, -999.000, 9,   -999.0, 9,   -999.0, 9, -999.0000,   -999.00,   -999.0, 9,   -999.0,  -999.00, 9,   -999.0,   1.0975, 27.7892,   1.6081, 2, 9, 0.46, 0.13, 0.01, 0.016,  -999.00, 9, -999.00, -999.00, 9, -999.00
49NZ20071008, P14N, 32, 1, 2, X12002, 2, 20071030, 0725, 46.4883, 179.0060, 5636,   5710.5, 2,   1.6246, 2,  34.6894, 2, -999.0000, 9,    154.3, 2,   -999.0, 9,  -999.00, 9,  -999.00, 9,  -999.00, 9,  -999.00, 9, -999.000, 9, -999.000, 9, -999.000, 9, -999.000, 9,   -999.0, 9,   -999.0, 9, -999.0000,   -999.00,   -999.0, 9,   -999.0,  -999.00, 9,   -999.0,   1.0962, 27.7893,   1.6247, 2, 9, -999.00, -999.00, -999.00, -999.000,  -999.00, 1, -999.00, -999.00, 9, -999.00
49NZ20071008, P14N, 32, 1, 1, X12001, 2, 20071030, 0725, 46.4883, 179.0060, 5636,   5711.4, 2,   1.6246, 2,  34.6894, 2,  34.6894, 6,    154.3, 2,    154.1, 2,   155.16, 2,    35.93, 2,     0.01, 2,     2.52, 2,    0.001, 2,    0.000, 2,    0.000, 2, -999.000, 9,   -999.0, 9,   -999.0, 9, -999.0000,   -999.00,   -999.0, 9,   -999.0,  -999.00, 9,   -999.0,   1.0961, 27.7893,   1.6246, 2, 9, 0.46, 0.13, 0.01, 0.016,  -999.00, 1, -999.00, -999.00, 9, -999.00