BOTTLE,20221005CCHSIOAMB
EXPOCODE,SECT_ID,STNNBR,CASTNO,SAMPNO,BTLNBR,BTLNBR_FLAG_W,DATE,TIME,LATITUDE,LONGITUDE,DEPTH,CTDPRS,CTDPRS_FLAG_W,CTDTMP,CTDTMP_FLAG_W,CTDSAL,CTDSAL_FLAG_W,SALNTY,SALNTY_FLAG_W,CTDOXY,CTDOXY_FLAG_W,OXYGEN,OXYGEN_FLAG_W,SILCAT,SILCAT_FLAG_W,NITRAT,NITRAT_FLAG_W,NITRIT,NITRIT_FLAG_W,PHSPHT,PHSPHT_FLAG_W,CFC-11,CFC-11_FLAG_W,CFC-12,CFC-12_FLAG_W,CFC113,CFC113_FLAG_W,CCL4,CCL4_FLAG_W,TCARBN,TCARBN_FLAG_W,ALKALI,ALKALI_FLAG_W,PH_TOT,PH_TMP,DELC14,DELC14_FLAG_W,C14ERR,DELC13,DELC13_FLAG_W,C13ERR,THETA,SIG0,SBE35,SBE35_FLAG_W,PH_TOT_FLAG_W,SILUNC,NRAUNC,NRIUNC,PHPUNC,CS-137,CS-137_FLAG_W,CS137ER,PLUTO,PLUTO_FLAG_W,PLUTOER
,,,,,,,,,,,METERS,DBAR,,ITS-90,,PSS-78,,PSS-78,,UMOL/KG,,UMOL/KG,,UMOL/KG,,UMOL/KG,,UMOL/KG,,UMOL/KG,,PMOL/KG,,PMOL/KG,,PMOL/KG,,PMOL/KG,,UMOL/KG,,UMOL/KG,,,DEG C,/MILLE,,/MILLE,/MILLE,,/MILLE,DEG C,KG/M^3,ITS-90,,,UMOL/KG,UMOL/KG,UMOL/KG,UMOL/KG,DM/.1MG,,BQ/M^3,MBQ/M^3,,MBQ/M^3
49NZ20071008, P14N, 53, 1, 36, X12042, 2, 20071104, 1726, 35.9838, 179.0100, 4482,     10.1, 2,  21.2550, 2,  34.3649, 2,  34.3655, 2,    225.9, 2,    225.7, 2,     2.36, 2,     0.06, 2,     0.01, 2,     0.07, 2,    2.048, 2,    1.235, 2,    0.406, 4, -999.000, 9,   -999.0, 9,   -999.0, 9, -999.0000,   -999.00,   -999.0, 9,   -999.0,  -999.00, 9,   -999.0,  21.2531, 23.9416,  21.2550, 2, 9, 0.12, 0.03, 0.01, 0.026,  -999.00, 9, -999.00, -999.00, 9, -999.00
49NZ20071008, P14N, 53, 1, 35, X12041, 2, 20071104, 1726, 35.9838, 179.0100, 4482,     50.1, 2,  17.8578, 2,  34.5567, 2,  34.5591, 2,    264.8, 2,    265.2, 2,     2.84, 2,     0.07, 2,     0.01, 2,     0.11, 2,    2.593, 2,    1.514, 2,    1.552, 4, -999.000, 9,   -999.0, 9,   -999.0, 9, -999.0000,   -999.00,   -999.0, 9,   -999.0,  -999.00, 9,   -999.0,  17.8493, 24.9695,  17.8595, 2, 9, 0.13, 0.03, 0.01, 0.021,  -999.00, 9, -999.00, -999.00, 9, -999.00
49NZ20071008, P14N, 53, 1, 34, X12016, 2, 20071104, 1726, 35.9838, 179.0100, 4482,    100.5, 2,  15.0901, 2,  34.5403, 2,  34.5389, 2,    218.5, 2,    223.4, 2,     6.25, 2,     6.04, 2,     0.04, 2,     0.47, 2,    2.726, 2,    1.565, 2,    0.219, 2, -999.000, 9,   -999.0, 9,   -999.0, 9, -999.0000,   -999.00,   -999.0, 9,   -999.0,  -999.00, 9,   -999.0,  15.0749, 25.6011,  15.0911, 2, 9, 0.13, 0.05, 0.01, 0.013,  -999.00, 9, -999.00, -999.00, 9, -999.00
49NZ20071008, P14N, 53, 1, 33, X12033, 2, 20071104, 1726, 35.9838, 179.0100, 4482,    151.1, 2,  14.0703, 2,  34.4860, 2,  34.4847, 2,    221.9, 2,    223.6, 2,     8.16, 2,     7.48, 2,     0.02, 2,     0.57, 2,    2.809, 2,    1.597, 2,    0.174, 6, -999.000, 9,   -999.0, 9,   -999.0, 9, -999.0000,   -999.00,   -999.0, 9,   -999.0,  -999.00, 9,   -999.0,  14.0485, 25.7797,  14.0713, 2, 9, 0.14, 0.05, 0.01, 0.013,  -999.00, 9, -999.00, -999.00, 9, -999.00
49NZ20071008, P14N, 53, 1, 32, X12038, 2, 20071104, 1726, 35.9838, 179.0100, 4482,    199.3, 2,  13.4727, 2,  34.4530, 2,  34.4520, 2,    226.3, 2,    227.5, 2,     8.91, 2,     7.98, 2,     0.01, 2,     0.61, 2,    2.851, 2,    1.603, 2,    0.162, 2, -999.000, 9,   -999.0, 9,   -999.0, 9, -999.0000,   -999.00,   -999.0, 9,   -999.0,  -999.00, 9,   -999.0,  13.4448, 25.8792,  13.4733, 2, 9, 0.14, 0.06, 0.01, 0.013,  -999.00, 9, -999.00, -999.00, 9, -999.00
49NZ20071008, P14N, 53, 1, 31, X12003, 2, 20071104, 1726, 35.9838, 179.0100, 4482,    251.7, 2,  12.8000, 2,  34.4229, 2,  34.4207, 6,    224.9, 2,    223.7, 2,    11.47, 2,     9.85, 2,     0.01, 2,     0.74, 2,    2.872, 2,    1.598, 2,    0.178, 2, -999.000, 9,   -999.0, 9,   -999.0, 9, -999.0000,   -999.00,   -999.0, 9,   -999.0,  -999.00, 9,   -999.0,  12.7659, 25.9923,  12.8026, 2, 9, 0.14, 0.06, 0.01, 0.013,  -999.00, 9, -999.00, -999.00, 9, -999.00
49NZ20071008, P14N, 53, 1, 30, X12008, 2, 20071104, 1726, 35.9838, 179.0100, 4482,    328.6, 2,  11.7185, 2,  34.3451, 2,  34.3437, 2,    228.6, 2,    216.3, 2,    15.75, 2,    12.54, 2,     0.01, 2,     0.93, 2,    2.919, 2,    1.608, 2,    0.150, 2, -999.000, 9,   -999.0, 9,   -999.0, 9, -999.0000,   -999.00,   -999.0, 9,   -999.0,  -999.00, 9,   -999.0,  11.6764, 26.1414,  11.7193, 2, 9, 0.15, 0.07, 0.01, 0.013,  -999.00, 9, -999.00, -999.00, 9, -999.00
49NZ20071008, P14N, 53, 1, 29, X12035, 2, 20071104, 1726, 35.9838, 179.0100, 4482,    430.8, 2,   9.6121, 2,  34.1624, 2,  34.1587, 2,    205.7, 2,    206.5, 2,    23.89, 2,    17.16, 2,     0.01, 2,     1.27, 2,    3.088, 2,    1.643, 2,    0.155, 2, -999.000, 9,   -999.0, 9,   -999.0, 9, -999.0000,   -999.00,   -999.0, 9,   -999.0,  -999.00, 9,   -999.0,   9.5633, 26.3710,   9.6130, 2, 9, 0.17, 0.08, 0.01, 0.014,  -999.00, 9, -999.00, -999.00, 9, -999.00
49NZ20071008, P14N, 53, 1, 28, X12034, 2, 20071104, 1726, 35.9838, 179.0100, 4482,    531.0, 2,   7.1157, 2,  34.0052, 2,  34.0034, 6,    179.2, 2,    171.5, 2,    43.08, 2,    24.91, 2,     0.01, 2,     1.84, 2,    2.813, 2,    1.441, 2,    0.170, 2, -999.000, 9,   -999.0, 9,   -999.0, 9, -999.0000,   -999.00,   -999.0, 9,   -999.0,  -999.00, 9,   -999.0,   7.0651, 26.6262,   7.1166, 2, 9, 0.21, 0.10, 0.01, 0.015,  -999.00, 9, -999.00, -999.00, 9, -999.00
49NZ20071008, P14N, 53, 1, 27, X12049, 2, 20071104, 1726, 35.9838, 179.0100, 4482,    631.6, 2,   5.6106, 2,  34.0002, 2,  34.0001, 2,    129.7, 2,    125.9, 2,    63.61, 2,    31.46, 2,     0.01, 2,     2.31, 2,    2.159, 2,    1.072, 2,    0.127, 2, -999.000, 9,   -999.0, 9,   -999.0, 9, -999.0000,   -999.00,   -999.0, 9,   -999.0,  -999.00, 9,   -999.0,   5.5572, 26.8172,   5.6112, 2, 9, 0.26, 0.12, 0.01, 0.016,  -999.00, 9, -999.00, -999.00, 9, -999.00
49NZ20071008, P14N, 53, 1, 26, X12032, 2, 20071104, 1726, 35.9838, 179.0100, 4482,    731.6, 2,   4.7987, 2,  34.0901, 2,  34.0893, 2,     81.1, 2,     80.1, 2,    84.15, 2,    37.12, 2,     0.01, 2,     2.69, 2,    1.266, 6,    0.613, 6,    0.059, 6, -999.000, 9,   -999.0, 9,   -999.0, 9, -999.0000,   -999.00,   -999.0, 9,   -999.0,  -999.00, 9,   -999.0,   4.7408, 26.9831,   4.7999, 2, 9, 0.30, 0.14, 0.01, 0.017,  -999.00, 9, -999.00, -999.00, 9, -999.00
49NZ20071008, P14N, 53, 1, 25, X12043, 2, 20071104, 1726, 35.9838, 179.0100, 4482,    832.4, 2,   4.2625, 2,  34.1680, 2,  34.1670, 2,     55.9, 2,     54.3, 2,    99.19, 2,    40.19, 2,     0.01, 2,     2.89, 2,    0.736, 2,    0.351, 2,    0.039, 2, -999.000, 9,   -999.0, 9,   -999.0, 9, -999.0000,   -999.00,   -999.0, 9,   -999.0,  -999.00, 9,   -999.0,   4.1993, 27.1036,   4.2629, 2, 9, 0.34, 0.15, 0.01, 0.017,  -999.00, 9, -999.00, -999.00, 9, -999.00
49NZ20071008, P14N, 53, 1, 24, X12030, 2, 20071104, 1726, 35.9838, 179.0100, 4482,    930.6, 2,   3.8561, 2,  34.2392, 2,  34.2391, 2,     40.5, 2,     39.1, 2,   111.82, 2,    41.85, 2,     0.01, 2,     2.99, 2,    0.399, 2,    0.185, 2,    0.014, 2, -999.000, 9,   -999.0, 9,   -999.0, 9, -999.0000,   -999.00,   -999.0, 9,   -999.0,  -999.00, 9,   -999.0,   3.7876, 27.2025,   3.8562, 2, 9, 0.37, 0.15, 0.01, 0.017,  -999.00, 9, -999.00, -999.00, 9, -999.00
49NZ20071008, P14N, 53, 1, 23, X12027, 2, 20071104, 1726, 35.9838, 179.0100, 4482,   1070.9, 2,   3.3693, 2,  34.3263, 2,  34.3257, 6,     29.2, 2,     27.4, 2,   126.81, 2,    43.36, 2,     0.01, 2,     3.10, 2,    0.153, 2,    0.072, 2,    0.005, 2, -999.000, 9,   -999.0, 9,   -999.0, 9, -999.0000,   -999.00,   -999.0, 9,   -999.0,  -999.00, 9,   -999.0,   3.2932, 27.3201,   3.3691, 2, 9, 0.40, 0.15, 0.01, 0.018,  -999.00, 9, -999.00, -999.00, 9, -999.00
49NZ20071008, P14N, 53, 1, 22, X12028, 2, 20071104, 1726, 35.9838, 179.0100, 4482,   1270.5, 2,   2.9282, 2,  34.4079, 2,  34.4088, 2,     28.6, 2,     29.8, 2,   140.26, 2,    43.57, 2,     0.01, 2,     3.10, 2,    0.084, 2,    0.040, 2,    0.003, 2, -999.000, 9,   -999.0, 9,   -999.0, 9, -999.0000,   -999.00,   -999.0, 9,   -999.0,  -999.00, 9,   -999.0,   2.8402, 27.4268,   2.9284, 2, 9, 0.43, 0.15, 0.01, 0.018,  -999.00, 9, -999.00, -999.00, 9, -999.00
49NZ20071008, P14N, 53, 1, 21, X12009, 2, 20071104, 1726, 35.9838, 179.0100, 4482,   1471.1, 2,   2.5821, 2,  34.4686, 2,  34.4691, 2,     32.1, 2,     33.1, 2,   150.57, 2,    43.48, 2,     0.01, 2,     3.09, 2,    0.037, 2,    0.017, 2,    0.000, 2, -999.000, 9,   -999.0, 9,   -999.0, 9, -999.0000,   -999.00,   -999.0, 9,   -999.0,  -999.00, 9,   -999.0,   2.4817, 27.5065,   2.5822, 2, 9, 0.45, 0.15, 0.01, 0.018,  -999.00, 9, -999.00, -999.00, 9, -999.00
49NZ20071008, P14N, 53, 1, 20, X12026, 2, 20071104, 1726, 35.9838, 179.0100, 4482,   1671.9, 2,   2.3129, 2,  34.5181, 2,  34.5181, 2,     37.7, 2,     38.0, 2,   158.66, 2,    43.46, 2,     0.01, 2,     3.08, 2,    0.011, 2,    0.005, 2,    0.000, 2, -999.000, 9,   -999.0, 9,   -999.0, 9, -999.0000,   -999.00,   -999.0, 9,   -999.0,  -999.00, 9,   -999.0,   2.1995, 27.5696,   2.3133, 2, 9, 0.47, 0.15, 0.01, 0.018,  -999.00, 9, -999.00, -999.00, 9, -999.00
49NZ20071008, P14N, 53, 1, 19, X12025, 2, 20071104, 1726, 35.9838, 179.0100, 4482,   1871.0, 2,   2.1200, 2,  34.5550, 2,  34.5552, 2,     49.1, 2,     51.5, 2,   161.71, 2,    42.75, 2,     0.01, 2,     3.01, 2,    0.006, 2,    0.001, 2,    0.000, 2, -999.000, 9,   -999.0, 9,   -999.0, 9, -999.0000,   -999.00,   -999.0, 9,   -999.0,  -999.00, 9,   -999.0,   1.9928, 27.6157,   2.1201, 2, 9, 0.47, 0.15, 0.01, 0.017,  -999.00, 9, -999.00, -999.00, 9, -999.00
49NZ20071008, P14N, 53, 1, 18, X12024, 2, 20071104, 1726, 35.9838, 179.0100, 4482,   2071.5, 2,   1.9830, 2,  34.5842, 2,  34.5840, 2,     60.5, 2,     59.3, 2,   165.24, 2,    42.24, 2,     0.01, 2,     2.98, 2,    0.001, 2,    0.000, 2,    0.000, 2, -999.000, 9,   -999.0, 9,   -999.0, 9, -999.0000,   -999.00,   -999.0, 9,   -999.0,  -999.00, 9,   -999.0,   1.8410, 27.6510,   1.9832, 2, 9, 0.48, 0.15, 0.01, 0.017,  -999.00, 9, -999.00, -999.00, 9, -999.00
49NZ20071008, P14N, 53, 1, 17, X12023, 2, 20071104, 1726, 35.9838, 179.0100, 4482,   2271.3, 2,   1.8555, 2,  34.6086, 2,  34.6086, 6,     73.2, 2,     73.1, 2,   165.81, 2,    41.41, 2,     0.01, 2,     2.91, 2,    0.000, 2,    0.000, 2,    0.000, 2, -999.000, 9,   -999.0, 9,   -999.0, 9, -999.0000,   -999.00,   -999.0, 9,   -999.0,  -999.00, 9,   -999.0,   1.6983, 27.6813,   1.8558, 2, 9, 0.48, 0.15, 0.01, 0.017,  -999.00, 9, -999.00, -999.00, 9, -999.00
49NZ20071008, P14N, 53, 1, 16, X12022, 2, 20071104, 1726, 35.9838, 179.0100, 4482,   2473.3, 2,   1.7508, 2,  34.6265, 2,  34.6266, 2,     85.2, 2,     85.5, 2,   165.84, 2,    40.56, 2,     0.01, 2,     2.87, 2,    0.000, 2,    0.000, 2,    0.000, 2, -999.000, 9,   -999.0, 9,   -999.0, 9, -999.0000,   -999.00,   -999.0, 9,   -999.0,  -999.00, 9,   -999.0,   1.5777, 27.7047,   1.7510, 2, 9, 0.48, 0.15, 0.01, 0.017,  -999.00, 9, -999.00, -999.00, 9, -999.00
49NZ20071008, P14N, 53, 1, 15, X12021, 2, 20071104, 1726, 35.9838, 179.0100, 4482,   2671.5, 2,   1.6671, 2,  34.6407, 2,  34.6411, 2,     98.2, 2,     98.9, 2,   163.66, 2,    39.75, 2,     0.01, 2,     2.80, 2,    0.000, 2,    0.000, 2,    0.000, 2, -999.000, 9,   -999.0, 9,   -999.0, 9, -999.0000,   -999.00,   -999.0, 9,   -999.0,  -999.00, 9,   -999.0,   1.4776, 27.7235,   1.6673, 2, 9, 0.48, 0.14, 0.01, 0.017,  -999.00, 9, -999.00, -999.00, 9, -999.00
49NZ20071008, P14N, 53, 1, 14, X12020, 2, 20071104, 1726, 35.9838, 179.0100, 4482,   2869.6, 2,   1.5886, 2,  34.6535, 2,  34.6539, 2,    113.3, 2,    113.1, 2,   160.59, 2,    38.81, 2,     0.01, 2,     2.72, 2,    0.000, 2,    0.001, 2,    0.000, 2, -999.000, 9,   -999.0, 9,   -999.0, 9, -999.0000,   -999.00,   -999.0, 9,   -999.0,  -999.00, 9,   -999.0,   1.3823, 27.7406,   1.5887, 2, 9, 0.47, 0.14, 0.01, 0.017,  -999.00, 9, -999.00, -999.00, 9, -999.00
49NZ20071008, P14N, 53, 1, 13, X12019, 2, 20071104, 1726, 35.9838, 179.0100, 4482,   3081.6, 2,   1.5269, 2,  34.6639, 2,  34.6640, 2,    124.5, 2,    124.7, 2,   157.42, 2,    37.73, 2,     0.01, 2,     2.66, 2, -999.000, 9, -999.000, 9, -999.000, 9, -999.000, 9,   -999.0, 9,   -999.0, 9, -999.0000,   -999.00,   -999.0, 9,   -999.0,  -999.00, 9,   -999.0,   1.3018, 27.7547,   1.5271, 2, 9, 0.47, 0.14, 0.01, 0.017,  -999.00, 9, -999.00, -999.00, 9, -999.00
49NZ20071008, P14N, 53, 1, 12, X12040, 2, 20071104, 1726, 35.9838, 179.0100, 4482,   3331.6, 2,   1.4796, 2,  34.6726, 2,  34.6729, 6,    135.7, 2,    135.6, 2,   154.55, 2,    37.27, 2,     0.01, 2,     2.61, 2, -999.000, 9, -999.000, 9, -999.000, 9, -999.000, 9,   -999.0, 9,   -999.0, 9, -999.0000,   -999.00,   -999.0, 9,   -999.0,  -999.00, 9,   -999.0,   1.2310, 27.7666,   1.4797, 2, 9, 0.46, 0.14, 0.01, 0.016,  -999.00, 9, -999.00, -999.00, 9, -999.00
49NZ20071008, P14N, 53, 1, 11, X12047, 2, 20071104, 1726, 35.9838, 179.0100, 4482,   3580.8, 2,   1.4535, 2,  34.6786, 2,  34.6788, 2,    142.7, 2,    142.8, 2,   152.68, 2,    36.70, 2,     0.00, 2,     2.58, 2,    0.000, 2,    0.000, 2,    0.000, 2, -999.000, 9,   -999.0, 9,   -999.0, 9, -999.0000,   -999.00,   -999.0, 9,   -999.0,  -999.00, 9,   -999.0,   1.1803, 27.7749,   1.4535, 2, 9, 0.45, 0.14, 0.01, 0.016,  -999.00, 9, -999.00, -999.00, 9, -999.00
49NZ20071008, P14N, 53, 1, 10, X12017, 2, 20071104, 1726, 35.9838, 179.0100, 4482,   3832.1, 2,   1.4427, 2,  34.6829, 2,  34.6830, 2,    147.9, 2,    147.7, 2,   151.90, 2,    36.48, 2,     0.01, 2,     2.54, 2, -999.000, 9, -999.000, 9, -999.000, 9, -999.000, 9,   -999.0, 9,   -999.0, 9, -999.0000,   -999.00,   -999.0, 9,   -999.0,  -999.00, 9,   -999.0,   1.1435, 27.7808,   1.4429, 2, 9, 0.45, 0.13, 0.01, 0.016,  -999.00, 9, -999.00, -999.00, 9, -999.00
49NZ20071008, P14N, 53, 1, 9, X12015, 2, 20071104, 1726, 35.9838, 179.0100, 4482,   4080.8, 2,   1.4446, 2,  34.6858, 2,  34.6855, 2,    150.9, 2,    151.0, 2,   151.85, 2,    36.25, 2,     0.01, 2,     2.52, 2, -999.000, 9, -999.000, 9, -999.000, 9, -999.000, 9,   -999.0, 9,   -999.0, 9, -999.0000,   -999.00,   -999.0, 9,   -999.0,  -999.00, 9,   -999.0,   1.1184, 27.7849,   1.4447, 2, 9, 0.45, 0.13, 0.01, 0.016,  -999.00, 9, -999.00, -999.00, 9, -999.00
49NZ20071008, P14N, 53, 1, 8, X12046, 2, 20071104, 1726, 35.9838, 179.0100, 4482,   4329.5, 2,   1.4588, 2,  34.6875, 2,  34.6877, 2,    152.8, 2,    153.0, 2,   152.16, 2,    36.02, 2,     0.01, 2,     2.52, 2,    0.003, 2,    0.000, 2,    0.000, 2, -999.000, 9,   -999.0, 9,   -999.0, 9, -999.0000,   -999.00,   -999.0, 9,   -999.0,  -999.00, 9,   -999.0,   1.1045, 27.7872,   1.4589, 2, 9, 0.45, 0.13, 0.01, 0.016,  -999.00, 9, -999.00, -999.00, 9, -999.00
49NZ20071008, P14N, 53, 1, 7, X12044, 9, 20071104, 1726, 35.9838, 179.0100, 4482,     10.1, 2,  21.2595, 2,  34.3648, 2, -999.0000, 9,    225.8, 2,   -999.0, 9,  -999.00, 9,  -999.00, 9,  -999.00, 9,  -999.00, 9, -999.000, 9, -999.000, 9, -999.000, 9, -999.000, 9,   -999.0, 9,   -999.0, 9, -999.0000,   -999.00,   -999.0, 9,   -999.0,  -999.00, 9,   -999.0,  21.2576, 23.9403,  21.2576, 2, 9, -999.00, -999.00, -999.00, -999.000,  -999.00, 9, -999.00, -999.00, 9, -999.00
49NZ20071008, P14N, 53, 1, 6, X12048, 9, 20071104, 1726, 35.9838, 179.0100, 4482,    929.5, 2,   3.8573, 2,  34.2390, 2, -999.0000, 9,     40.5, 2,   -999.0, 9,  -999.00, 9,  -999.00, 9,  -999.00, 9,  -999.00, 9, -999.000, 9, -999.000, 9, -999.000, 9, -999.000, 9,   -999.0, 9,   -999.0, 9, -999.0000,   -999.00,   -999.0, 9,   -999.0,  -999.00, 9,   -999.0,   3.7889, 27.2022,   3.8576, 2, 9, -999.00, -999.00, -999.00, -999.000,  -999.00, 9, -999.00, -999.00, 9, -999.00
49NZ20071008, P14N, 53, 1, 5, X12014, 9, 20071104, 1726, 35.9838, 179.0100, 4482,   1071.5, 2,   3.3669, 2,  34.3267, 2, -999.0000, 9,     29.1, 2,   -999.0, 9,  -999.00, 9,  -999.00, 9,  -999.00, 9,  -999.00, 9, -999.000, 9, -999.000, 9, -999.000, 9, -999.000, 9,   -999.0, 9,   -999.0, 9, -999.0000,   -999.00,   -999.0, 9,   -999.0,  -999.00, 9,   -999.0,   3.2908, 27.3206,   3.3676, 2, 9, -999.00, -999.00, -999.00, -999.000,  -999.00, 9, -999.00, -999.00, 9, -999.00
49NZ20071008, P14N, 53, 1, 4, X12006, 9, 20071104, 1726, 35.9838, 179.0100, 4482,   1271.3, 2,   2.9281, 2,  34.4080, 2, -999.0000, 9,     28.5, 2,   -999.0, 9,  -999.00, 9,  -999.00, 9,  -999.00, 9,  -999.00, 9, -999.000, 9, -999.000, 9, -999.000, 9, -999.000, 9,   -999.0, 9,   -999.0, 9, -999.0000,   -999.00,   -999.0, 9,   -999.0,  -999.00, 9,   -999.0,   2.8400, 27.4269,   2.9284, 2, 9, -999.00, -999.00, -999.00, -999.000,  -999.00, 9, -999.00, -999.00, 9, -999.00
49NZ20071008, P14N, 53, 1, 3, X12013, 9, 20071104, 1726, 35.9838, 179.0100, 4482,   1471.4, 2,   2.5820, 2,  34.4686, 2, -999.0000, 9,     32.1, 2,   -999.0, 9,  -999.00, 9,  -999.00, 9,  -999.00, 9,  -999.00, 9, -999.000, 9, -999.000, 9, -999.000, 9, -999.000, 9,   -999.0, 9,   -999.0, 9, -999.0000,   -999.00,   -999.0, 9,   -999.0,  -999.00, 9,   -999.0,   2.4815, 27.5065,   2.5822, 2, 9, -999.00, -999.00, -999.00, -999.000,  -999.00, 9, -999.00, -999.00, 9, -999.00
49NZ20071008, P14N, 53, 1, 2, X12002, 9, 20071104, 1726, 35.9838, 179.0100, 4482,   1672.1, 2,   2.3134, 2,  34.5180, 2, -999.0000, 9,     37.7, 2,   -999.0, 9,  -999.00, 9,  -999.00, 9,  -999.00, 9,  -999.00, 9, -999.000, 9, -999.000, 9, -999.000, 9, -999.000, 9,   -999.0, 9,   -999.0, 9, -999.0000,   -999.00,   -999.0, 9,   -999.0,  -999.00, 9,   -999.0,   2.1999, 27.5694,   2.3137, 2, 9, -999.00, -999.00, -999.00, -999.000,  -999.00, 9, -999.00, -999.00, 9, -999.00
49NZ20071008, P14N, 53, 1, 1, X12001, 2, 20071104, 1726, 35.9838, 179.0100, 4482,   4551.9, 2,   1.4790, 2,  34.6882, 2,  34.6883, 6,    153.2, 2,    153.2, 2,   153.10, 2,    36.15, 2,     0.01, 2,     2.52, 2,    0.002, 2,    0.000, 2,    0.000, 2, -999.000, 9,   -999.0, 9,   -999.0, 9, -999.0000,   -999.00,   -999.0, 9,   -999.0,  -999.00, 9,   -999.0,   1.0987, 27.7882,   1.4790, 2, 9, 0.46, 0.13, 0.01, 0.016,  -999.00, 9, -999.00, -999.00, 9, -999.00