BOTTLE,20221005CCHSIOAMB
EXPOCODE,SECT_ID,STNNBR,CASTNO,SAMPNO,BTLNBR,BTLNBR_FLAG_W,DATE,TIME,LATITUDE,LONGITUDE,DEPTH,CTDPRS,CTDPRS_FLAG_W,CTDTMP,CTDTMP_FLAG_W,CTDSAL,CTDSAL_FLAG_W,SALNTY,SALNTY_FLAG_W,CTDOXY,CTDOXY_FLAG_W,OXYGEN,OXYGEN_FLAG_W,SILCAT,SILCAT_FLAG_W,NITRAT,NITRAT_FLAG_W,NITRIT,NITRIT_FLAG_W,PHSPHT,PHSPHT_FLAG_W,CFC-11,CFC-11_FLAG_W,CFC-12,CFC-12_FLAG_W,CFC113,CFC113_FLAG_W,CCL4,CCL4_FLAG_W,TCARBN,TCARBN_FLAG_W,ALKALI,ALKALI_FLAG_W,PH_TOT,PH_TMP,DELC14,DELC14_FLAG_W,C14ERR,DELC13,DELC13_FLAG_W,C13ERR,THETA,SIG0,SBE35,SBE35_FLAG_W,PH_TOT_FLAG_W,SILUNC,NRAUNC,NRIUNC,PHPUNC,CS-137,CS-137_FLAG_W,CS137ER,PLUTO,PLUTO_FLAG_W,PLUTOER
,,,,,,,,,,,METERS,DBAR,,ITS-90,,PSS-78,,PSS-78,,UMOL/KG,,UMOL/KG,,UMOL/KG,,UMOL/KG,,UMOL/KG,,UMOL/KG,,PMOL/KG,,PMOL/KG,,PMOL/KG,,PMOL/KG,,UMOL/KG,,UMOL/KG,,,DEG C,/MILLE,,/MILLE,/MILLE,,/MILLE,DEG C,KG/M^3,ITS-90,,,UMOL/KG,UMOL/KG,UMOL/KG,UMOL/KG,DM/.1MG,,BQ/M^3,MBQ/M^3,,MBQ/M^3
49NZ20071008, P14N, 21, 1, 36, X12042, 2, 20071023, 0305, 50.9417, 179.5692, 3997,     10.0, 2,   6.0365, 2,  32.7840, 2,  32.7843, 2,    304.3, 2,    305.2, 2,    29.71, 2,    17.34, 2,     0.21, 2,     1.55, 2,    4.342, 2,    2.533, 2,    0.408, 2, -999.000, 9,   -999.0, 9,   -999.0, 9, -999.0000,   -999.00,   -999.0, 9,   -999.0,  -999.00, 9,   -999.0,   6.0357, 25.7975,   6.0366, 2, 9, 0.18, 0.08, 0.01, 0.014,  -999.00, 9, -999.00, -999.00, 9, -999.00
49NZ20071008, P14N, 21, 1, 35, X12041, 2, 20071023, 0305, 50.9417, 179.5692, 3997,     51.3, 2,   5.3315, 2,  32.9794, 2,  32.9701, 2,    269.4, 2,    272.1, 2,    36.81, 2,    22.10, 2,     0.17, 2,     1.84, 2,    4.348, 2,    2.499, 2,    0.391, 2, -999.000, 9,   -999.0, 9,   -999.0, 9, -999.0000,   -999.00,   -999.0, 9,   -999.0,  -999.00, 9,   -999.0,   5.3276, 26.0364,   5.3319, 2, 9, 0.20, 0.09, 0.01, 0.015,  -999.00, 9, -999.00, -999.00, 9, -999.00
49NZ20071008, P14N, 21, 1, 34, X12016, 2, 20071023, 0305, 50.9417, 179.5692, 3997,    101.3, 2,   4.6860, 2,  33.5728, 2,  33.5750, 2,    147.3, 2,    137.7, 2,    60.80, 2,    34.08, 2,     0.03, 2,     2.50, 2,    3.212, 2,    1.758, 2,    0.260, 2, -999.000, 9,   -999.0, 9,   -999.0, 9, -999.0000,   -999.00,   -999.0, 9,   -999.0,  -999.00, 9,   -999.0,   4.6786, 26.5795,   4.6856, 2, 9, 0.25, 0.13, 0.01, 0.016,  -999.00, 9, -999.00, -999.00, 9, -999.00
49NZ20071008, P14N, 21, 1, 33, X12033, 2, 20071023, 0305, 50.9417, 179.5692, 3997,    150.2, 2,   4.6004, 2,  33.7757, 2,  33.7692, 2,     87.6, 2,     87.4, 2,    71.30, 2,    38.39, 2,     0.02, 2,     2.74, 2,    2.666, 2,    1.420, 2,    0.183, 2, -999.000, 9,   -999.0, 9,   -999.0, 9, -999.0000,   -999.00,   -999.0, 9,   -999.0,  -999.00, 9,   -999.0,   4.5895, 26.7502,   4.6004, 2, 9, 0.28, 0.14, 0.01, 0.017,  -999.00, 9, -999.00, -999.00, 9, -999.00
49NZ20071008, P14N, 21, 1, 32, X12038, 2, 20071023, 0305, 50.9417, 179.5692, 3997,    200.5, 2,   4.4052, 2,  33.8752, 2,  33.8778, 2,     50.9, 2,     53.0, 2,    79.82, 2,    41.51, 2,     0.02, 2,     2.95, 2,    2.184, 2,    1.118, 2,    0.151, 2, -999.000, 9,   -999.0, 9,   -999.0, 9, -999.0000,   -999.00,   -999.0, 9,   -999.0,  -999.00, 9,   -999.0,   4.3908, 26.8506,   4.4051, 2, 9, 0.29, 0.15, 0.01, 0.017,  -999.00, 9, -999.00, -999.00, 9, -999.00
49NZ20071008, P14N, 21, 1, 31, X12003, 2, 20071023, 0305, 50.9417, 179.5692, 3997,    251.2, 2,   4.2095, 2,  33.9628, 2,  33.9618, 6,     32.2, 2,     28.5, 2,    88.42, 2,    43.66, 2,     0.02, 2,     3.09, 2,    1.693, 2,    0.849, 2,    0.120, 2, -999.000, 9,   -999.0, 9,   -999.0, 9, -999.0000,   -999.00,   -999.0, 9,   -999.0,  -999.00, 9,   -999.0,   4.1917, 26.9413,   4.2094, 2, 9, 0.31, 0.16, 0.01, 0.018,  -999.00, 9, -999.00, -999.00, 9, -999.00
49NZ20071008, P14N, 21, 1, 30, X12008, 2, 20071023, 0305, 50.9417, 179.5692, 3997,    281.7, 2,   4.1147, 2,  34.0034, 2,  34.0012, 2,     25.3, 2,     27.6, 2,    93.79, 2,    43.57, 2,     0.02, 2,     3.09, 2,    1.422, 2,    0.712, 2,    0.097, 2, -999.000, 9,   -999.0, 9,   -999.0, 9, -999.0000,   -999.00,   -999.0, 9,   -999.0,  -999.00, 9,   -999.0,   4.0949, 26.9836,   4.1145, 2, 9, 0.33, 0.15, 0.01, 0.018,  -999.00, 9, -999.00, -999.00, 9, -999.00
49NZ20071008, P14N, 21, 1, 29, X12035, 2, 20071023, 0305, 50.9417, 179.5692, 3997,    370.3, 2,   3.9329, 2,  34.0906, 2,  34.0899, 2,     18.5, 2,     18.5, 2,   103.66, 2,    44.14, 2,     0.01, 2,     3.14, 2, -999.000, 5, -999.000, 5, -999.000, 5, -999.000, 9,   -999.0, 9,   -999.0, 9, -999.0000,   -999.00,   -999.0, 9,   -999.0,  -999.00, 9,   -999.0,   3.9071, 27.0722,   3.9327, 2, 9, 0.35, 0.16, 0.01, 0.018,  -999.00, 9, -999.00, -999.00, 9, -999.00
49NZ20071008, P14N, 21, 1, 28, X12034, 2, 20071023, 0305, 50.9417, 179.5692, 3997,    470.8, 2,   3.7310, 2,  34.1653, 2,  34.1645, 6,     16.1, 2,     15.4, 2,   113.11, 2,    44.30, 2,     0.02, 2,     3.16, 2,    0.578, 2,    0.282, 2,    0.042, 2, -999.000, 9,   -999.0, 9,   -999.0, 9, -999.0000,   -999.00,   -999.0, 9,   -999.0,  -999.00, 9,   -999.0,   3.6985, 27.1526,   3.7305, 2, 9, 0.37, 0.16, 0.01, 0.018,  -999.00, 9, -999.00, -999.00, 9, -999.00
49NZ20071008, P14N, 21, 1, 27, X12049, 2, 20071023, 0305, 50.9417, 179.5692, 3997,    572.1, 2,   3.4913, 2,  34.2193, 2,  34.2184, 2,     15.5, 2,     16.0, 2,   121.71, 2,    44.26, 2,     0.01, 2,     3.16, 2,    0.435, 2,    0.214, 2,    0.029, 2, -999.000, 9,   -999.0, 9,   -999.0, 9, -999.0000,   -999.00,   -999.0, 9,   -999.0,  -999.00, 9,   -999.0,   3.4524, 27.2196,   3.4910, 2, 9, 0.39, 0.16, 0.01, 0.018,  -999.00, 9, -999.00, -999.00, 9, -999.00
49NZ20071008, P14N, 21, 1, 26, X12032, 2, 20071023, 0305, 50.9417, 179.5692, 3997,    671.4, 2,   3.3224, 2,  34.2581, 2,  34.2590, 2,     16.7, 2,     16.8, 2,   127.64, 2,    44.24, 2,     0.01, 2,     3.15, 2,    0.349, 2,    0.171, 2,    0.016, 2, -999.000, 9,   -999.0, 9,   -999.0, 9, -999.0000,   -999.00,   -999.0, 9,   -999.0,  -999.00, 9,   -999.0,   3.2771, 27.2672,   3.3221, 2, 9, 0.40, 0.16, 0.01, 0.018,  -999.00, 9, -999.00, -999.00, 9, -999.00
49NZ20071008, P14N, 21, 1, 25, X12043, 2, 20071023, 0305, 50.9417, 179.5692, 3997,    772.0, 2,   3.1472, 2,  34.3043, 2,  34.3038, 2,     17.7, 2,     17.5, 2,   134.05, 2,    44.19, 2,     0.01, 2,     3.16, 2,    0.251, 2,    0.121, 2,    0.009, 2, -999.000, 9,   -999.0, 9,   -999.0, 9, -999.0000,   -999.00,   -999.0, 9,   -999.0,  -999.00, 9,   -999.0,   3.0955, 27.3210,   3.1470, 2, 9, 0.41, 0.16, 0.01, 0.018,  -999.00, 9, -999.00, -999.00, 9, -999.00
49NZ20071008, P14N, 21, 1, 24, X12030, 2, 20071023, 0305, 50.9417, 179.5692, 3997,    870.2, 2,   2.9975, 2,  34.3452, 2,  34.3457, 2,     17.4, 2,     17.4, 2,   139.38, 2,    44.10, 2,     0.02, 2,     3.14, 2,    0.157, 2,    0.073, 2,    0.006, 2, -999.000, 9,   -999.0, 9,   -999.0, 9, -999.0000,   -999.00,   -999.0, 9,   -999.0,  -999.00, 9,   -999.0,   2.9396, 27.3678,   2.9974, 2, 9, 0.43, 0.16, 0.01, 0.018,  -999.00, 9, -999.00, -999.00, 9, -999.00
49NZ20071008, P14N, 21, 1, 23, X12027, 2, 20071023, 0305, 50.9417, 179.5692, 3997,    970.8, 2,   2.8806, 2,  34.3722, 2,  34.3712, 6,     19.1, 2,     19.0, 2,   143.17, 2,    44.13, 2,     0.02, 2,     3.15, 2,    0.128, 2,    0.062, 2,    0.008, 2, -999.000, 9,   -999.0, 9,   -999.0, 9, -999.0000,   -999.00,   -999.0, 9,   -999.0,  -999.00, 9,   -999.0,   2.8160, 27.4005,   2.8807, 2, 9, 0.43, 0.16, 0.01, 0.018,  -999.00, 9, -999.00, -999.00, 9, -999.00
49NZ20071008, P14N, 21, 1, 22, X12028, 2, 20071023, 0305, 50.9417, 179.5692, 3997,   1131.1, 2,   2.6180, 2,  34.4300, 2,  34.4294, 2,     23.5, 2,     24.0, 2,   151.62, 2,    43.89, 2,     0.02, 2,     3.13, 2,    0.076, 2,    0.036, 2,    0.000, 2, -999.000, 9,   -999.0, 9,   -999.0, 9, -999.0000,   -999.00,   -999.0, 9,   -999.0,  -999.00, 9,   -999.0,   2.5436, 27.4704,   2.6180, 2, 9, 0.45, 0.16, 0.01, 0.018,  -999.00, 9, -999.00, -999.00, 9, -999.00
49NZ20071008, P14N, 21, 1, 21, X12009, 2, 20071023, 0305, 50.9417, 179.5692, 3997,   1331.5, 2,   2.4058, 2,  34.4785, 2,  34.4779, 2,     29.3, 2,     30.4, 2,   157.32, 2,    43.72, 2,     0.02, 2,     3.11, 2,    0.045, 2,    0.018, 2,    0.000, 2, -999.000, 9,   -999.0, 9,   -999.0, 9, -999.0000,   -999.00,   -999.0, 9,   -999.0,  -999.00, 9,   -999.0,   2.3182, 27.5282,   2.4063, 2, 9, 0.47, 0.16, 0.01, 0.018,  -999.00, 9, -999.00, -999.00, 9, -999.00
49NZ20071008, P14N, 21, 1, 20, X12026, 2, 20071023, 0305, 50.9417, 179.5692, 3997,   1531.8, 2,   2.1967, 2,  34.5242, 2,  34.5243, 2,     40.7, 2,     42.0, 2,   162.01, 2,    43.06, 2,     0.02, 2,     3.05, 2, -999.000, 9, -999.000, 9, -999.000, 9, -999.000, 9,   -999.0, 9,   -999.0, 9, -999.0000,   -999.00,   -999.0, 9,   -999.0,  -999.00, 9,   -999.0,   2.0958, 27.5828,   2.1965, 2, 9, 0.48, 0.15, 0.01, 0.018,  -999.00, 9, -999.00, -999.00, 9, -999.00
49NZ20071008, P14N, 21, 1, 19, X12025, 2, 20071023, 0305, 50.9417, 179.5692, 3997,   1731.7, 2,   2.0550, 2,  34.5530, 2,  34.5520, 2,     51.2, 2,     55.1, 2,   162.85, 2,    42.19, 2,     0.02, 2,     3.00, 2,    0.020, 2,    0.008, 2,    0.000, 2, -999.000, 9,   -999.0, 9,   -999.0, 9, -999.0000,   -999.00,   -999.0, 9,   -999.0,  -999.00, 9,   -999.0,   1.9400, 27.6182,   2.0552, 2, 9, 0.48, 0.15, 0.01, 0.017,  -999.00, 9, -999.00, -999.00, 9, -999.00
49NZ20071008, P14N, 21, 1, 18, X12024, 2, 20071023, 0305, 50.9417, 179.5692, 3997,   1930.8, 2,   1.9614, 2,  34.5766, 2,  34.5762, 6,     59.9, 2,     60.5, 2,   165.72, 2,    41.95, 2,     0.01, 2,     2.97, 2, -999.000, 9, -999.000, 9, -999.000, 9, -999.000, 9,   -999.0, 9,   -999.0, 9, -999.0000,   -999.00,   -999.0, 9,   -999.0,  -999.00, 9,   -999.0,   1.8315, 27.6456,   1.9611, 2, 9, 0.48, 0.15, 0.01, 0.017,  -999.00, 9, -999.00, -999.00, 9, -999.00
49NZ20071008, P14N, 21, 1, 17, X12023, 2, 20071023, 0305, 50.9417, 179.5692, 3997,   2129.9, 2,   1.8366, 2,  34.6013, 2,  34.6012, 2,     71.8, 2,     74.5, 2,   166.05, 2,    41.11, 2,     0.02, 2,     2.91, 2,    0.008, 2,    0.004, 2,    0.000, 2, -999.000, 9,   -999.0, 9,   -999.0, 9, -999.0000,   -999.00,   -999.0, 9,   -999.0,  -999.00, 9,   -999.0,   1.6919, 27.6760,   1.8364, 2, 9, 0.48, 0.15, 0.01, 0.017,  -999.00, 9, -999.00, -999.00, 9, -999.00
49NZ20071008, P14N, 21, 1, 16, X12022, 2, 20071023, 0305, 50.9417, 179.5692, 3997,   2330.6, 2,   1.7346, 2,  34.6207, 2,  34.6204, 2,     87.4, 2,     87.7, 2,   165.67, 2,    40.36, 2,     0.01, 2,     2.85, 2, -999.000, 9, -999.000, 9, -999.000, 9, -999.000, 9,   -999.0, 9,   -999.0, 9, -999.0000,   -999.00,   -999.0, 9,   -999.0,  -999.00, 9,   -999.0,   1.5743, 27.7003,   1.7346, 2, 9, 0.48, 0.15, 0.01, 0.017,  -999.00, 9, -999.00, -999.00, 9, -999.00
49NZ20071008, P14N, 21, 1, 15, X12021, 2, 20071023, 0305, 50.9417, 179.5692, 3997,   2529.9, 2,   1.6780, 2,  34.6330, 2,  34.6328, 2,     96.4, 2,     95.7, 2,   165.35, 2,    39.79, 2,     0.02, 2,     2.81, 2,    0.002, 2,    0.002, 2,    0.000, 2, -999.000, 9,   -999.0, 9,   -999.0, 9, -999.0000,   -999.00,   -999.0, 9,   -999.0,  -999.00, 9,   -999.0,   1.5011, 27.7156,   1.6778, 2, 9, 0.48, 0.14, 0.01, 0.017,  -999.00, 9, -999.00, -999.00, 9, -999.00
49NZ20071008, P14N, 21, 1, 14, X12020, 2, 20071023, 0305, 50.9417, 179.5692, 3997,   2729.6, 2,   1.6313, 2,  34.6430, 2,  34.6432, 2,    104.6, 2,    103.8, 2,   164.37, 2,    39.24, 2,     0.02, 2,     2.77, 2, -999.000, 9, -999.000, 9, -999.000, 9, -999.000, 9,   -999.0, 9,   -999.0, 9, -999.0000,   -999.00,   -999.0, 9,   -999.0,  -999.00, 9,   -999.0,   1.4372, 27.7282,   1.6313, 2, 9, 0.48, 0.14, 0.01, 0.017,  -999.00, 9, -999.00, -999.00, 9, -999.00
49NZ20071008, P14N, 21, 1, 13, X12019, 2, 20071023, 0305, 50.9417, 179.5692, 3997,   2931.6, 2,   1.5830, 2,  34.6533, 2,  34.6531, 6,    112.6, 2,    112.2, 2,   163.37, 2,    38.70, 2,     0.02, 2,     2.74, 2, -999.000, 9, -999.000, 9, -999.000, 9, -999.000, 9,   -999.0, 9,   -999.0, 9, -999.0000,   -999.00,   -999.0, 9,   -999.0,  -999.00, 9,   -999.0,   1.3710, 27.7413,   1.5830, 2, 9, 0.48, 0.14, 0.01, 0.017,  -999.00, 9, -999.00, -999.00, 9, -999.00
49NZ20071008, P14N, 21, 1, 12, X12040, 2, 20071023, 0305, 50.9417, 179.5692, 3997,   3171.0, 2,   1.5337, 2,  34.6625, 2,  34.6627, 2,    121.4, 2,    122.7, 2,   160.87, 2,    37.89, 2,     0.02, 2,     2.67, 2,    0.000, 2,    0.000, 2,    0.000, 2, -999.000, 9,   -999.0, 9,   -999.0, 9, -999.0000,   -999.00,   -999.0, 9,   -999.0,  -999.00, 9,   -999.0,   1.2997, 27.7537,   1.5336, 2, 9, 0.47, 0.14, 0.01, 0.017,  -999.00, 9, -999.00, -999.00, 9, -999.00
49NZ20071008, P14N, 21, 1, 11, X12047, 2, 20071023, 0305, 50.9417, 179.5692, 3997,   3419.6, 2,   1.4998, 2,  34.6707, 2,  34.6704, 2,    131.0, 2,    130.9, 2,   159.69, 2,    37.45, 2,     0.02, 2,     2.64, 2, -999.000, 9, -999.000, 9, -999.000, 9, -999.000, 9,   -999.0, 9,   -999.0, 9, -999.0000,   -999.00,   -999.0, 9,   -999.0,  -999.00, 9,   -999.0,   1.2419, 27.7643,   1.4999, 2, 9, 0.47, 0.14, 0.01, 0.017,  -999.00, 9, -999.00, -999.00, 9, -999.00
49NZ20071008, P14N, 21, 1, 10, X12010, 2, 20071023, 0305, 50.9417, 179.5692, 3997,   3672.2, 2,   1.4685, 2,  34.6778, 2,  34.6777, 2,    138.4, 2,    139.2, 2,   157.55, 2,    36.90, 2,     0.02, 2,     2.60, 2, -999.000, 9, -999.000, 9, -999.000, 9, -999.000, 9,   -999.0, 9,   -999.0, 9, -999.0000,   -999.00,   -999.0, 9,   -999.0,  -999.00, 9,   -999.0,   1.1854, 27.7739,   1.4685, 2, 9, 0.47, 0.14, 0.01, 0.016,  -999.00, 9, -999.00, -999.00, 9, -999.00
49NZ20071008, P14N, 21, 1, 9, X12015, 2, 20071023, 0305, 50.9417, 179.5692, 3997,   3920.3, 2,   1.4397, 2,  34.6845, 2,  34.6846, 2,    147.2, 2,    147.7, 2,   154.99, 2,    36.33, 2,     0.02, 2,     2.56, 2,    0.003, 2,    0.002, 2,    0.000, 2, -999.000, 9,   -999.0, 9,   -999.0, 9, -999.0000,   -999.00,   -999.0, 9,   -999.0,  -999.00, 9,   -999.0,   1.1311, 27.7830,   1.4396, 2, 9, 0.46, 0.13, 0.01, 0.016,  -999.00, 9, -999.00, -999.00, 9, -999.00
49NZ20071008, P14N, 21, 1, 8, X12046, 9, 20071023, 0305, 50.9417, 179.5692, 3997,     51.5, 2,   5.3391, 2,  32.9783, 2, -999.0000, 9,    269.6, 2,   -999.0, 9,  -999.00, 9,  -999.00, 9,  -999.00, 9,  -999.00, 9, -999.000, 9, -999.000, 9, -999.000, 9, -999.000, 9,   -999.0, 9,   -999.0, 9, -999.0000,   -999.00,   -999.0, 9,   -999.0,  -999.00, 9,   -999.0,   5.3352, 26.0346,   5.3311, 2, 9, -999.00, -999.00, -999.00, -999.000,  -999.00, 9, -999.00, -999.00, 9, -999.00
49NZ20071008, P14N, 21, 1, 7, X12044, 9, 20071023, 0305, 50.9417, 179.5692, 3997,    100.9, 2,   4.6869, 2,  33.5723, 2, -999.0000, 9,    147.6, 2,   -999.0, 9,  -999.00, 9,  -999.00, 9,  -999.00, 9,  -999.00, 9, -999.000, 9, -999.000, 9, -999.000, 9, -999.000, 9,   -999.0, 9,   -999.0, 9, -999.0000,   -999.00,   -999.0, 9,   -999.0,  -999.00, 9,   -999.0,   4.6796, 26.5790,   4.6866, 2, 9, -999.00, -999.00, -999.00, -999.000,  -999.00, 9, -999.00, -999.00, 9, -999.00
49NZ20071008, P14N, 21, 1, 6, X12048, 9, 20071023, 0305, 50.9417, 179.5692, 3997,    149.9, 2,   4.5871, 2,  33.7792, 2, -999.0000, 9,     87.3, 2,   -999.0, 9,  -999.00, 9,  -999.00, 9,  -999.00, 9,  -999.00, 9, -999.000, 9, -999.000, 9, -999.000, 9, -999.000, 9,   -999.0, 9,   -999.0, 9, -999.0000,   -999.00,   -999.0, 9,   -999.0,  -999.00, 9,   -999.0,   4.5762, 26.7545,   4.5868, 2, 9, -999.00, -999.00, -999.00, -999.000,  -999.00, 9, -999.00, -999.00, 9, -999.00
49NZ20071008, P14N, 21, 1, 5, X12014, 9, 20071023, 0305, 50.9417, 179.5692, 3997,    200.6, 2,   4.4058, 2,  33.8756, 2, -999.0000, 9,     50.8, 2,   -999.0, 9,  -999.00, 9,  -999.00, 9,  -999.00, 9,  -999.00, 9, -999.000, 9, -999.000, 9, -999.000, 9, -999.000, 9,   -999.0, 9,   -999.0, 9, -999.0000,   -999.00,   -999.0, 9,   -999.0,  -999.00, 9,   -999.0,   4.3914, 26.8509,   4.4056, 2, 9, -999.00, -999.00, -999.00, -999.000,  -999.00, 9, -999.00, -999.00, 9, -999.00
49NZ20071008, P14N, 21, 1, 4, X12006, 9, 20071023, 0305, 50.9417, 179.5692, 3997,    251.2, 2,   4.2112, 2,  33.9618, 2, -999.0000, 9,     32.2, 2,   -999.0, 9,  -999.00, 9,  -999.00, 9,  -999.00, 9,  -999.00, 9, -999.000, 9, -999.000, 9, -999.000, 9, -999.000, 9,   -999.0, 9,   -999.0, 9, -999.0000,   -999.00,   -999.0, 9,   -999.0,  -999.00, 9,   -999.0,   4.1934, 26.9403,   4.2110, 2, 9, -999.00, -999.00, -999.00, -999.000,  -999.00, 9, -999.00, -999.00, 9, -999.00
49NZ20071008, P14N, 21, 1, 3, X12013, 9, 20071023, 0305, 50.9417, 179.5692, 3997,    282.7, 2,   4.1134, 2,  34.0031, 2, -999.0000, 9,     25.1, 2,   -999.0, 9,  -999.00, 9,  -999.00, 9,  -999.00, 9,  -999.00, 9, -999.000, 9, -999.000, 9, -999.000, 9, -999.000, 9,   -999.0, 9,   -999.0, 9, -999.0000,   -999.00,   -999.0, 9,   -999.0,  -999.00, 9,   -999.0,   4.0935, 26.9835,   4.1134, 2, 9, -999.00, -999.00, -999.00, -999.000,  -999.00, 9, -999.00, -999.00, 9, -999.00
49NZ20071008, P14N, 21, 1, 2, X12002, 9, 20071023, 0305, 50.9417, 179.5692, 3997,    370.9, 2,   3.9327, 2,  34.0905, 2, -999.0000, 9,     18.5, 2,   -999.0, 9,  -999.00, 9,  -999.00, 9,  -999.00, 9,  -999.00, 9, -999.000, 9, -999.000, 9, -999.000, 9, -999.000, 9,   -999.0, 9,   -999.0, 9, -999.0000,   -999.00,   -999.0, 9,   -999.0,  -999.00, 9,   -999.0,   3.9069, 27.0722,   3.9329, 2, 9, -999.00, -999.00, -999.00, -999.000,  -999.00, 9, -999.00, -999.00, 9, -999.00
49NZ20071008, P14N, 21, 1, 1, X12001, 2, 20071023, 0305, 50.9417, 179.5692, 3997,   4064.9, 2,   1.4323, 2,  34.6871, 2,  34.6873, 6,    150.4, 2,    151.0, 2,   154.41, 2,    36.13, 2,     0.02, 2,     2.55, 2,    0.000, 2,    0.000, 2,    0.000, 2, -999.000, 9,   -999.0, 9,   -999.0, 9, -999.0000,   -999.00,   -999.0, 9,   -999.0,  -999.00, 9,   -999.0,   1.1082, 27.7867,   1.4322, 2, 9, 0.46, 0.13, 0.01, 0.016,  -999.00, 9, -999.00, -999.00, 9, -999.00