BOTTLE,20221005CCHSIOAMB
EXPOCODE,SECT_ID,STNNBR,CASTNO,SAMPNO,BTLNBR,BTLNBR_FLAG_W,DATE,TIME,LATITUDE,LONGITUDE,DEPTH,CTDPRS,CTDPRS_FLAG_W,CTDTMP,CTDTMP_FLAG_W,CTDSAL,CTDSAL_FLAG_W,SALNTY,SALNTY_FLAG_W,CTDOXY,CTDOXY_FLAG_W,OXYGEN,OXYGEN_FLAG_W,SILCAT,SILCAT_FLAG_W,NITRAT,NITRAT_FLAG_W,NITRIT,NITRIT_FLAG_W,PHSPHT,PHSPHT_FLAG_W,CFC-11,CFC-11_FLAG_W,CFC-12,CFC-12_FLAG_W,CFC113,CFC113_FLAG_W,CCL4,CCL4_FLAG_W,TCARBN,TCARBN_FLAG_W,ALKALI,ALKALI_FLAG_W,PH_TOT,PH_TMP,DELC14,DELC14_FLAG_W,C14ERR,DELC13,DELC13_FLAG_W,C13ERR,THETA,SIG0,SBE35,SBE35_FLAG_W,PH_TOT_FLAG_W,SILUNC,NRAUNC,NRIUNC,PHPUNC,CS-137,CS-137_FLAG_W,CS137ER,PLUTO,PLUTO_FLAG_W,PLUTOER
,,,,,,,,,,,METERS,DBAR,,ITS-90,,PSS-78,,PSS-78,,UMOL/KG,,UMOL/KG,,UMOL/KG,,UMOL/KG,,UMOL/KG,,UMOL/KG,,PMOL/KG,,PMOL/KG,,PMOL/KG,,PMOL/KG,,UMOL/KG,,UMOL/KG,,,DEG C,/MILLE,,/MILLE,/MILLE,,/MILLE,DEG C,KG/M^3,ITS-90,,,UMOL/KG,UMOL/KG,UMOL/KG,UMOL/KG,DM/.1MG,,BQ/M^3,MBQ/M^3,,MBQ/M^3
49NZ20071008, P14N, 10, 1, 36, X12042, 2, 20071025, 0326, 54.4932, -177.5557, 3791,      9.3, 2,   6.2266, 2,  33.0049, 2,  33.0053, 2,    298.2, 2,    298.1, 2,    28.60, 2,    19.07, 2,     0.23, 2,     1.66, 2, -999.000, 5, -999.000, 5, -999.000, 5, -999.000, 9,   -999.0, 9,   -999.0, 9, -999.0000,   -999.00,   -999.0, 9,   -999.0,  -999.00, 9,   -999.0,   6.2258, 25.9482,   6.2265, 2, 9, 0.18, 0.09, 0.01, 0.014,  -999.00, 9, -999.00, -999.00, 9, -999.00
49NZ20071008, P14N, 10, 1, 35, X12041, 2, 20071025, 0326, 54.4932, -177.5557, 3791,     49.9, 2,   6.0365, 2,  33.0024, 2,  33.0035, 2,    298.0, 2,    299.4, 2,    29.54, 2,    19.43, 2,     0.23, 2,     1.69, 2, -999.000, 9, -999.000, 9, -999.000, 9, -999.000, 9,   -999.0, 9,   -999.0, 9, -999.0000,   -999.00,   -999.0, 9,   -999.0,  -999.00, 9,   -999.0,   6.0324, 25.9703,   6.0357, 2, 9, 0.18, 0.09, 0.01, 0.014,  -999.00, 9, -999.00, -999.00, 9, -999.00
49NZ20071008, P14N, 10, 1, 34, X12016, 2, 20071025, 0326, 54.4932, -177.5557, 3791,    100.9, 2,   3.6882, 2,  33.2515, 2,  33.2520, 2,    268.3, 2,    255.9, 2,    55.42, 2,    29.41, 2,     0.02, 2,     2.25, 2,    4.552, 2,    2.472, 2,    0.401, 2, -999.000, 9,   -999.0, 9,   -999.0, 9, -999.0000,   -999.00,   -999.0, 9,   -999.0,  -999.00, 9,   -999.0,   3.6817, 26.4267,   3.6894, 2, 9, 0.24, 0.12, 0.01, 0.016,  -999.00, 9, -999.00, -999.00, 9, -999.00
49NZ20071008, P14N, 10, 1, 33, X12033, 2, 20071025, 0326, 54.4932, -177.5557, 3791,    149.9, 2,   3.3664, 2,  33.2959, 2,  33.2968, 2,    235.1, 2,    249.8, 2,    58.57, 2,    30.26, 2,     0.02, 2,     2.31, 2, -999.000, 9, -999.000, 9, -999.000, 9, -999.000, 9,   -999.0, 9,   -999.0, 9, -999.0000,   -999.00,   -999.0, 9,   -999.0,  -999.00, 9,   -999.0,   3.3571, 26.4927,   3.3655, 2, 9, 0.25, 0.12, 0.01, 0.016,  -999.00, 9, -999.00, -999.00, 9, -999.00
49NZ20071008, P14N, 10, 1, 32, X12038, 2, 20071025, 0326, 54.4932, -177.5557, 3791,    199.9, 2,   3.9916, 2,  33.4498, 2,  33.4524, 2,    188.9, 2,    188.1, 2,    67.84, 2,    33.26, 2,     0.02, 2,     2.49, 2,    3.558, 2,    1.908, 2,    0.294, 2, -999.000, 9,   -999.0, 9,   -999.0, 9, -999.0000,   -999.00,   -999.0, 9,   -999.0,  -999.00, 9,   -999.0,   3.9781, 26.5553,   3.9920, 2, 9, 0.27, 0.13, 0.01, 0.016,  -999.00, 9, -999.00, -999.00, 9, -999.00
49NZ20071008, P14N, 10, 1, 31, X12003, 2, 20071025, 0326, 54.4932, -177.5557, 3791,    251.2, 2,   3.8698, 2,  33.5436, 2,  33.5435, 6,    163.0, 2,    158.6, 2,    73.64, 2,    35.51, 2,     0.02, 2,     2.62, 2, -999.000, 9, -999.000, 9, -999.000, 9, -999.000, 9,   -999.0, 9,   -999.0, 9, -999.0000,   -999.00,   -999.0, 9,   -999.0,  -999.00, 9,   -999.0,   3.8529, 26.6424,   3.8706, 2, 9, 0.28, 0.13, 0.01, 0.017,  -999.00, 9, -999.00, -999.00, 9, -999.00
49NZ20071008, P14N, 10, 1, 30, X12008, 2, 20071025, 0326, 54.4932, -177.5557, 3791,    299.4, 2,   3.8907, 2,  33.6524, 2,  33.6527, 2,    126.6, 2,    123.7, 2,    80.32, 2,    37.88, 2,     0.01, 2,     2.75, 2,    2.822, 2,    1.474, 2,    0.210, 2, -999.000, 9,   -999.0, 9,   -999.0, 9, -999.0000,   -999.00,   -999.0, 9,   -999.0,  -999.00, 9,   -999.0,   3.8703, 26.7272,   3.8906, 2, 9, 0.30, 0.14, 0.01, 0.017,  -999.00, 9, -999.00, -999.00, 9, -999.00
49NZ20071008, P14N, 10, 1, 29, X12035, 2, 20071025, 0326, 54.4932, -177.5557, 3791,    401.0, 2,   3.8476, 2,  33.8136, 2,  33.8159, 2,     89.1, 2,     85.1, 2,    91.78, 2,    40.34, 2,     0.01, 2,     2.91, 2, -999.000, 9, -999.000, 9, -999.000, 9, -999.000, 9,   -999.0, 9,   -999.0, 9, -999.0000,   -999.00,   -999.0, 9,   -999.0,  -999.00, 9,   -999.0,   3.8200, 26.8605,   3.8472, 2, 9, 0.32, 0.15, 0.01, 0.017,  -999.00, 9, -999.00, -999.00, 9, -999.00
49NZ20071008, P14N, 10, 1, 28, X12034, 2, 20071025, 0326, 54.4932, -177.5557, 3791,    499.1, 2,   3.7183, 2,  33.9232, 2,  33.9235, 6,     70.9, 2,     67.2, 2,   100.82, 2,    41.35, 2,     0.01, 2,     2.97, 2,    1.720, 2,    0.885, 2,    0.138, 2, -999.000, 9,   -999.0, 9,   -999.0, 9, -999.0000,   -999.00,   -999.0, 9,   -999.0,  -999.00, 9,   -999.0,   3.6840, 26.9612,   3.7181, 2, 9, 0.34, 0.15, 0.01, 0.017,  -999.00, 9, -999.00, -999.00, 9, -999.00
49NZ20071008, P14N, 10, 1, 27, X12049, 2, 20071025, 0326, 54.4932, -177.5557, 3791,    599.5, 2,   3.6324, 2,  33.9978, 2,  33.9994, 2,     53.8, 2,     53.1, 2,   107.49, 2,    42.19, 2,     0.01, 2,     3.03, 2, -999.000, 9, -999.000, 9, -999.000, 9, -999.000, 9,   -999.0, 9,   -999.0, 9, -999.0000,   -999.00,   -999.0, 9,   -999.0,  -999.00, 9,   -999.0,   3.5911, 27.0297,   3.6326, 2, 9, 0.36, 0.15, 0.01, 0.018,  -999.00, 9, -999.00, -999.00, 9, -999.00
49NZ20071008, P14N, 10, 1, 26, X12032, 2, 20071025, 0326, 54.4932, -177.5557, 3791,    702.1, 2,   3.2162, 2,  34.2204, 2,  34.2221, 2,     26.5, 2,     25.9, 2,   130.29, 2,    43.85, 2,     0.01, 2,     3.14, 2,    0.600, 2,    0.298, 2,    0.041, 2, -999.000, 9,   -999.0, 9,   -999.0, 9, -999.0000,   -999.00,   -999.0, 9,   -999.0,  -999.00, 9,   -999.0,   3.1693, 27.2472,   3.2141, 2, 9, 0.41, 0.16, 0.01, 0.018,  -999.00, 9, -999.00, -999.00, 9, -999.00
49NZ20071008, P14N, 10, 1, 25, X12043, 2, 20071025, 0326, 54.4932, -177.5557, 3791,    800.2, 2,   2.7614, 2,  34.3697, 2,  34.3718, 2,     20.2, 2,     20.5, 2,   150.40, 2,    44.10, 2,     0.01, 2,     3.16, 2, -999.000, 9, -999.000, 9, -999.000, 9, -999.000, 9,   -999.0, 9,   -999.0, 9, -999.0000,   -999.00,   -999.0, 9,   -999.0,  -999.00, 9,   -999.0,   2.7100, 27.4078,   2.7588, 2, 9, 0.45, 0.16, 0.01, 0.018,  -999.00, 9, -999.00, -999.00, 9, -999.00
49NZ20071008, P14N, 10, 1, 24, X12030, 2, 20071025, 0326, 54.4932, -177.5557, 3791,    901.8, 2,   2.6550, 2,  34.3990, 2,  34.3989, 2,     20.6, 2,     21.0, 2,   154.65, 2,    43.95, 2,     0.01, 2,     3.15, 2,    0.153, 2,    0.073, 2,    0.013, 2, -999.000, 9,   -999.0, 9,   -999.0, 9, -999.0000,   -999.00,   -999.0, 9,   -999.0,  -999.00, 9,   -999.0,   2.5971, 27.4410,   2.6553, 2, 9, 0.46, 0.16, 0.01, 0.018,  -999.00, 9, -999.00, -999.00, 9, -999.00
49NZ20071008, P14N, 10, 1, 23, X12027, 2, 20071025, 0326, 54.4932, -177.5557, 3791,   1000.1, 2,   2.6163, 2,  34.4099, 2,  34.4099, 6,     21.2, 2,     21.2, 2,   156.48, 2,    43.89, 2,     0.01, 2,     3.16, 2,    0.132, 2,    0.064, 2,    0.005, 2, -999.000, 9,   -999.0, 9,   -999.0, 9, -999.0000,   -999.00,   -999.0, 9,   -999.0,  -999.00, 9,   -999.0,   2.5516, 27.4537,   2.6161, 2, 9, 0.46, 0.16, 0.01, 0.018,  -999.00, 9, -999.00, -999.00, 9, -999.00
49NZ20071008, P14N, 10, 1, 22, X12028, 2, 20071025, 0326, 54.4932, -177.5557, 3791,   1200.8, 2,   2.4952, 2,  34.4413, 2,  34.4420, 2,     23.2, 2,     23.0, 2,   162.53, 2,    43.76, 2,     0.01, 2,     3.15, 2,    0.095, 2,    0.046, 2,    0.012, 2, -999.000, 9,   -999.0, 9,   -999.0, 9, -999.0000,   -999.00,   -999.0, 9,   -999.0,  -999.00, 9,   -999.0,   2.4166, 27.4902,   2.4953, 2, 9, 0.48, 0.16, 0.01, 0.018,  -999.00, 9, -999.00, -999.00, 9, -999.00
49NZ20071008, P14N, 10, 1, 21, X12009, 2, 20071025, 0326, 54.4932, -177.5557, 3791,   1401.2, 2,   2.3367, 2,  34.4805, 2,  34.4814, 2,     26.6, 2,     26.8, 2,   170.55, 2,    43.57, 2,     0.01, 2,     3.14, 2,    0.056, 2,    0.028, 2,    0.002, 2, -999.000, 9,   -999.0, 9,   -999.0, 9, -999.0000,   -999.00,   -999.0, 9,   -999.0,  -999.00, 9,   -999.0,   2.2444, 27.5358,   2.3364, 2, 9, 0.49, 0.15, 0.01, 0.018,  -999.00, 9, -999.00, -999.00, 9, -999.00
49NZ20071008, P14N, 10, 1, 20, X12026, 2, 20071025, 0326, 54.4932, -177.5557, 3791,   1602.6, 2,   2.1378, 2,  34.5269, 2,  34.5272, 2,     34.3, 2,     34.5, 2,   180.14, 2,    42.89, 2,     0.01, 2,     3.12, 2,    0.026, 2,    0.015, 2,    0.000, 2, -999.000, 9,   -999.0, 9,   -999.0, 9, -999.0000,   -999.00,   -999.0, 9,   -999.0,  -999.00, 9,   -999.0,   2.0321, 27.5901,   2.1378, 2, 9, 0.52, 0.15, 0.01, 0.018,  -999.00, 9, -999.00, -999.00, 9, -999.00
49NZ20071008, P14N, 10, 1, 19, X12025, 2, 20071025, 0326, 54.4932, -177.5557, 3791,   1801.2, 2,   1.9859, 2,  34.5618, 2,  34.5621, 2,     42.8, 2,     43.1, 2,   188.10, 2,    42.19, 2,     0.01, 2,     3.09, 2,    0.010, 2,    0.003, 2,    0.000, 2, -999.000, 9,   -999.0, 9,   -999.0, 9, -999.0000,   -999.00,   -999.0, 9,   -999.0,  -999.00, 9,   -999.0,   1.8662, 27.6310,   1.9857, 2, 9, 0.53, 0.15, 0.01, 0.018,  -999.00, 9, -999.00, -999.00, 9, -999.00
49NZ20071008, P14N, 10, 1, 18, X12024, 2, 20071025, 0326, 54.4932, -177.5557, 3791,   2000.9, 2,   1.8870, 2,  34.5851, 2,  34.5849, 6,     51.2, 2,     50.5, 2,   193.88, 2,    41.61, 2,     0.01, 2,     3.07, 2,    0.002, 2,    0.001, 2,    0.000, 2, -999.000, 9,   -999.0, 9,   -999.0, 9, -999.0000,   -999.00,   -999.0, 9,   -999.0,  -999.00, 9,   -999.0,   1.7524, 27.6584,   1.8871, 2, 9, 0.55, 0.15, 0.01, 0.018,  -999.00, 9, -999.00, -999.00, 9, -999.00
49NZ20071008, P14N, 10, 1, 17, X12023, 2, 20071025, 0326, 54.4932, -177.5557, 3791,   2203.1, 2,   1.7996, 2,  34.6053, 2,  34.6056, 2,     59.3, 2,     59.4, 2,   199.04, 2,    40.88, 2,     0.01, 2,     3.05, 2,    0.003, 2,    0.003, 2,    0.000, 2, -999.000, 9,   -999.0, 9,   -999.0, 9, -999.0000,   -999.00,   -999.0, 9,   -999.0,  -999.00, 9,   -999.0,   1.6493, 27.6824,   1.7991, 2, 9, 0.56, 0.15, 0.01, 0.018,  -999.00, 9, -999.00, -999.00, 9, -999.00
49NZ20071008, P14N, 10, 1, 16, X12022, 2, 20071025, 0326, 54.4932, -177.5557, 3791,   2400.2, 2,   1.7304, 2,  34.6216, 2,  34.6217, 2,     67.5, 2,     67.6, 2,   203.56, 2,    40.16, 2,     0.01, 2,     3.01, 2,    0.001, 2,    0.003, 2,    0.000, 2, -999.000, 9,   -999.0, 9,   -999.0, 9, -999.0000,   -999.00,   -999.0, 9,   -999.0,  -999.00, 9,   -999.0,   1.5641, 27.7018,   1.7303, 2, 9, 0.57, 0.15, 0.01, 0.017,  -999.00, 9, -999.00, -999.00, 9, -999.00
49NZ20071008, P14N, 10, 1, 15, X12021, 2, 20071025, 0326, 54.4932, -177.5557, 3791,   2601.8, 2,   1.6792, 2,  34.6343, 2,  34.6352, 2,     75.0, 2,     75.0, 2,   206.42, 2,    39.71, 2,     0.01, 2,     3.01, 2,    0.001, 2,    0.002, 2,    0.000, 2, -999.000, 9,   -999.0, 9,   -999.0, 9, -999.0000,   -999.00,   -999.0, 9,   -999.0,  -999.00, 9,   -999.0,   1.4958, 27.7170,   1.6792, 2, 9, 0.57, 0.14, 0.01, 0.017,  -999.00, 9, -999.00, -999.00, 9, -999.00
49NZ20071008, P14N, 10, 1, 14, X12020, 2, 20071025, 0326, 54.4932, -177.5557, 3791,   2801.0, 2,   1.6403, 2,  34.6445, 2,  34.6451, 2,     81.1, 2,     81.4, 2,   209.43, 2,    39.18, 2,     0.01, 2,     2.97, 2,    0.003, 2,    0.002, 2,    0.000, 2, -999.000, 9,   -999.0, 9,   -999.0, 9, -999.0000,   -999.00,   -999.0, 9,   -999.0,  -999.00, 9,   -999.0,   1.4394, 27.7293,   1.6404, 2, 9, 0.58, 0.14, 0.01, 0.017,  -999.00, 9, -999.00, -999.00, 9, -999.00
49NZ20071008, P14N, 10, 1, 13, X12019, 2, 20071025, 0326, 54.4932, -177.5557, 3791,   3001.8, 2,   1.6060, 2,  34.6537, 2,  34.6544, 6,     87.3, 2,     88.1, 2,   212.03, 2,    38.65, 2,     0.01, 2,     2.94, 2,    0.006, 2,    0.004, 2,    0.000, 2, -999.000, 9,   -999.0, 9,   -999.0, 9, -999.0000,   -999.00,   -999.0, 9,   -999.0,  -999.00, 9,   -999.0,   1.3868, 27.7405,   1.6061, 2, 9, 0.59, 0.14, 0.01, 0.017,  -999.00, 9, -999.00, -999.00, 9, -999.00
49NZ20071008, P14N, 10, 1, 12, X12040, 2, 20071025, 0326, 54.4932, -177.5557, 3791,   3250.7, 2,   1.5911, 2,  34.6605, 2,  34.6608, 2,     92.5, 2,     92.8, 2,   214.25, 2,    38.25, 2,     0.02, 2,     2.92, 2,    0.000, 2,    0.000, 2,    0.000, 2, -999.000, 9,   -999.0, 9,   -999.0, 9, -999.0000,   -999.00,   -999.0, 9,   -999.0,  -999.00, 9,   -999.0,   1.3479, 27.7486,   1.5910, 2, 9, 0.59, 0.14, 0.01, 0.017,  -999.00, 9, -999.00, -999.00, 9, -999.00
49NZ20071008, P14N, 10, 1, 11, X12047, 2, 20071025, 0326, 54.4932, -177.5557, 3791,   3498.6, 2,   1.5906, 2,  34.6649, 2,  34.6655, 2,     95.9, 2,     95.7, 2,   217.36, 2,    37.87, 2,     0.01, 2,     2.91, 2,    0.006, 2,    0.005, 2,    0.000, 2, -999.000, 9,   -999.0, 9,   -999.0, 9, -999.0000,   -999.00,   -999.0, 9,   -999.0,  -999.00, 9,   -999.0,   1.3224, 27.7540,   1.5905, 2, 9, 0.60, 0.14, 0.01, 0.017,  -999.00, 9, -999.00, -999.00, 9, -999.00
49NZ20071008, P14N, 10, 1, 10, X12010, 3, 20071025, 0326, 54.4932, -177.5557, 3791,   3752.0, 2,   1.5895, 2,  34.6696, 2,  34.6700, 2,    102.2, 2,    102.4, 2,   217.62, 2,    37.63, 2,     0.01, 2,     2.87, 2,    0.012, 2,    0.002, 2,    0.000, 2, -999.000, 9,   -999.0, 9,   -999.0, 9, -999.0000,   -999.00,   -999.0, 9,   -999.0,  -999.00, 9,   -999.0,   1.2949, 27.7597,   1.5893, 2, 9, 0.60, 0.14, 0.01, 0.017,  -999.00, 9, -999.00, -999.00, 9, -999.00
49NZ20071008, P14N, 10, 1, 9, X12015, 9, 20071025, 0326, 54.4932, -177.5557, 3791,      9.4, 2,   6.2215, 2,  33.0048, 2, -999.0000, 9,    298.2, 2,   -999.0, 9,  -999.00, 9,  -999.00, 9,  -999.00, 9,  -999.00, 9, -999.000, 9, -999.000, 9, -999.000, 9, -999.000, 9,   -999.0, 9,   -999.0, 9, -999.0000,   -999.00,   -999.0, 9,   -999.0,  -999.00, 9,   -999.0,   6.2207, 25.9488,   6.2212, 2, 9, -999.00, -999.00, -999.00, -999.000,  -999.00, 9, -999.00, -999.00, 9, -999.00
49NZ20071008, P14N, 10, 1, 8, X12046, 9, 20071025, 0326, 54.4932, -177.5557, 3791,   1602.5, 2,   2.1377, 2,  34.5270, 2, -999.0000, 9,     34.3, 2,   -999.0, 9,  -999.00, 9,  -999.00, 9,  -999.00, 9,  -999.00, 9, -999.000, 9, -999.000, 9, -999.000, 9, -999.000, 9,   -999.0, 9,   -999.0, 9, -999.0000,   -999.00,   -999.0, 9,   -999.0,  -999.00, 9,   -999.0,   2.0320, 27.5902,   2.1376, 2, 9, -999.00, -999.00, -999.00, -999.000,  -999.00, 9, -999.00, -999.00, 9, -999.00
49NZ20071008, P14N, 10, 1, 7, X12044, 9, 20071025, 0326, 54.4932, -177.5557, 3791,   1801.4, 2,   1.9858, 2,  34.5618, 2, -999.0000, 9,     42.8, 2,   -999.0, 9,  -999.00, 9,  -999.00, 9,  -999.00, 9,  -999.00, 9, -999.000, 9, -999.000, 9, -999.000, 9, -999.000, 9,   -999.0, 9,   -999.0, 9, -999.0000,   -999.00,   -999.0, 9,   -999.0,  -999.00, 9,   -999.0,   1.8661, 27.6311,   1.9857, 2, 9, -999.00, -999.00, -999.00, -999.000,  -999.00, 9, -999.00, -999.00, 9, -999.00
49NZ20071008, P14N, 10, 1, 6, X12048, 9, 20071025, 0326, 54.4932, -177.5557, 3791,   2001.3, 2,   1.8886, 2,  34.5847, 2, -999.0000, 9,     51.2, 2,   -999.0, 9,  -999.00, 9,  -999.00, 9,  -999.00, 9,  -999.00, 9, -999.000, 9, -999.000, 9, -999.000, 9, -999.000, 9,   -999.0, 9,   -999.0, 9, -999.0000,   -999.00,   -999.0, 9,   -999.0,  -999.00, 9,   -999.0,   1.7539, 27.6580,   1.8887, 2, 9, -999.00, -999.00, -999.00, -999.000,  -999.00, 9, -999.00, -999.00, 9, -999.00
49NZ20071008, P14N, 10, 1, 5, X12014, 9, 20071025, 0326, 54.4932, -177.5557, 3791,   2202.7, 2,   1.7981, 2,  34.6057, 2, -999.0000, 9,     59.3, 2,   -999.0, 9,  -999.00, 9,  -999.00, 9,  -999.00, 9,  -999.00, 9, -999.000, 9, -999.000, 9, -999.000, 9, -999.000, 9,   -999.0, 9,   -999.0, 9, -999.0000,   -999.00,   -999.0, 9,   -999.0,  -999.00, 9,   -999.0,   1.6478, 27.6828,   1.7982, 2, 9, -999.00, -999.00, -999.00, -999.000,  -999.00, 9, -999.00, -999.00, 9, -999.00
49NZ20071008, P14N, 10, 1, 4, X12006, 9, 20071025, 0326, 54.4932, -177.5557, 3791,   2400.0, 2,   1.7295, 2,  34.6219, 2, -999.0000, 9,     67.5, 2,   -999.0, 9,  -999.00, 9,  -999.00, 9,  -999.00, 9,  -999.00, 9, -999.000, 9, -999.000, 9, -999.000, 9, -999.000, 9,   -999.0, 9,   -999.0, 9, -999.0000,   -999.00,   -999.0, 9,   -999.0,  -999.00, 9,   -999.0,   1.5633, 27.7021,   1.7297, 2, 9, -999.00, -999.00, -999.00, -999.000,  -999.00, 9, -999.00, -999.00, 9, -999.00
49NZ20071008, P14N, 10, 1, 3, X12013, 9, 20071025, 0326, 54.4932, -177.5557, 3791,   2600.8, 2,   1.6790, 2,  34.6343, 2, -999.0000, 9,     75.0, 2,   -999.0, 9,  -999.00, 9,  -999.00, 9,  -999.00, 9,  -999.00, 9, -999.000, 9, -999.000, 9, -999.000, 9, -999.000, 9,   -999.0, 9,   -999.0, 9, -999.0000,   -999.00,   -999.0, 9,   -999.0,  -999.00, 9,   -999.0,   1.4957, 27.7170,   1.6790, 2, 9, -999.00, -999.00, -999.00, -999.000,  -999.00, 9, -999.00, -999.00, 9, -999.00
49NZ20071008, P14N, 10, 1, 2, X12002, 9, 20071025, 0326, 54.4932, -177.5557, 3791,   2800.7, 2,   1.6409, 2,  34.6443, 2, -999.0000, 9,     81.1, 2,   -999.0, 9,  -999.00, 9,  -999.00, 9,  -999.00, 9,  -999.00, 9, -999.000, 9, -999.000, 9, -999.000, 9, -999.000, 9,   -999.0, 9,   -999.0, 9, -999.0000,   -999.00,   -999.0, 9,   -999.0,  -999.00, 9,   -999.0,   1.4400, 27.7291,   1.6405, 2, 9, -999.00, -999.00, -999.00, -999.000,  -999.00, 9, -999.00, -999.00, 9, -999.00
49NZ20071008, P14N, 10, 1, 1, X12001, 2, 20071025, 0326, 54.4932, -177.5557, 3791,   3842.2, 2,   1.5970, 2,  34.6703, 2,  34.6706, 6,    103.4, 2,    103.0, 2,   219.82, 2,    37.73, 2,     0.02, 2,     2.88, 2,    0.021, 2,    0.004, 2,    0.000, 2, -999.000, 9,   -999.0, 9,   -999.0, 9, -999.0000,   -999.00,   -999.0, 9,   -999.0,  -999.00, 9,   -999.0,   1.2926, 27.7604,   1.5968, 2, 9, 0.60, 0.14, 0.01, 0.017,  -999.00, 9, -999.00, -999.00, 9, -999.00