BOTTLE,20221005CCHSIOAMB
EXPOCODE,SECT_ID,STNNBR,CASTNO,SAMPNO,BTLNBR,BTLNBR_FLAG_W,DATE,TIME,LATITUDE,LONGITUDE,DEPTH,CTDPRS,CTDPRS_FLAG_W,CTDTMP,CTDTMP_FLAG_W,CTDSAL,CTDSAL_FLAG_W,SALNTY,SALNTY_FLAG_W,CTDOXY,CTDOXY_FLAG_W,OXYGEN,OXYGEN_FLAG_W,SILCAT,SILCAT_FLAG_W,NITRAT,NITRAT_FLAG_W,NITRIT,NITRIT_FLAG_W,PHSPHT,PHSPHT_FLAG_W,CFC-11,CFC-11_FLAG_W,CFC-12,CFC-12_FLAG_W,CFC113,CFC113_FLAG_W,CCL4,CCL4_FLAG_W,TCARBN,TCARBN_FLAG_W,ALKALI,ALKALI_FLAG_W,PH_TOT,PH_TMP,DELC14,DELC14_FLAG_W,C14ERR,DELC13,DELC13_FLAG_W,C13ERR,THETA,SIG0,SBE35,SBE35_FLAG_W,PH_TOT_FLAG_W,SILUNC,NRAUNC,NRIUNC,PHPUNC,CS-137,CS-137_FLAG_W,CS137ER,PLUTO,PLUTO_FLAG_W,PLUTOER
,,,,,,,,,,,METERS,DBAR,,ITS-90,,PSS-78,,PSS-78,,UMOL/KG,,UMOL/KG,,UMOL/KG,,UMOL/KG,,UMOL/KG,,UMOL/KG,,PMOL/KG,,PMOL/KG,,PMOL/KG,,PMOL/KG,,UMOL/KG,,UMOL/KG,,,DEG C,/MILLE,,/MILLE,/MILLE,,/MILLE,DEG C,KG/M^3,ITS-90,,,UMOL/KG,UMOL/KG,UMOL/KG,UMOL/KG,DM/.1MG,,BQ/M^3,MBQ/M^3,,MBQ/M^3
49NZ20071008, P14N, 35, 1, 36, X12042, 2, 20071031, 0546, 45.0107, 179.0142, 5775,     10.7, 2,  11.3189, 2,  33.0570, 2,  33.0568, 2,    271.1, 2,    271.5, 2,    11.06, 2,     7.23, 2,     0.20, 2,     0.82, 2,    3.346, 2,    1.954, 2,    0.298, 2, -999.000, 9,   -999.0, 9,   -999.0, 9, -999.0000,   -999.00,   -999.0, 9,   -999.0,  -999.00, 9,   -999.0,  11.3176, 25.2058,  11.3197, 2, 9, 0.14, 0.05, 0.01, 0.013,  -999.00, 9, -999.00, -999.00, 9, -999.00
49NZ20071008, P14N, 35, 1, 35, X12041, 2, 20071031, 0546, 45.0107, 179.0142, 5775,     51.0, 2,  11.2666, 2,  33.1347, 2,  33.1084, 2,    267.5, 2,    270.7, 2,    11.44, 2,     7.37, 2,     0.21, 2,     0.82, 2,    3.346, 2,    1.956, 2,    0.300, 2, -999.000, 9,   -999.0, 9,   -999.0, 9, -999.0000,   -999.00,   -999.0, 9,   -999.0,  -999.00, 9,   -999.0,  11.2604, 25.2766,  11.2643, 2, 9, 0.14, 0.05, 0.01, 0.013,  -999.00, 9, -999.00, -999.00, 9, -999.00
49NZ20071008, P14N, 35, 1, 34, X12016, 2, 20071031, 0546, 45.0107, 179.0142, 5775,     99.7, 2,   7.7981, 2,  33.8884, 2,  33.8859, 2,    259.5, 2,    257.6, 2,    23.19, 2,    16.02, 2,     0.03, 2,     1.25, 2,    3.805, 2,    2.180, 2,    0.278, 2, -999.000, 9,   -999.0, 9,   -999.0, 9, -999.0000,   -999.00,   -999.0, 9,   -999.0,  -999.00, 9,   -999.0,   7.7884, 26.4318,   7.7979, 2, 9, 0.17, 0.08, 0.01, 0.013,  -999.00, 9, -999.00, -999.00, 9, -999.00
49NZ20071008, P14N, 35, 1, 33, X12033, 2, 20071031, 0546, 45.0107, 179.0142, 5775,    151.4, 2,   6.9065, 2,  33.8211, 2,  33.8204, 2,    254.9, 2,    258.2, 2,    26.29, 2,    17.47, 2,     0.03, 2,     1.36, 2,    3.896, 6,    2.216, 6,    0.308, 6, -999.000, 9,   -999.0, 9,   -999.0, 9, -999.0000,   -999.00,   -999.0, 9,   -999.0,  -999.00, 9,   -999.0,   6.8928, 26.5047,   6.9075, 2, 9, 0.18, 0.08, 0.01, 0.014,  -999.00, 9, -999.00, -999.00, 9, -999.00
49NZ20071008, P14N, 35, 1, 32, X12038, 2, 20071031, 0546, 45.0107, 179.0142, 5775,    201.3, 2,   6.3194, 2,  33.8177, 2,  33.8182, 2,    225.3, 2,    236.0, 2,    33.76, 2,    20.81, 2,     0.02, 2,     1.60, 2,    3.748, 2,    2.105, 2,    0.275, 2, -999.000, 9,   -999.0, 9,   -999.0, 9, -999.0000,   -999.00,   -999.0, 9,   -999.0,  -999.00, 9,   -999.0,   6.3020, 26.5801,   6.3200, 2, 9, 0.19, 0.09, 0.01, 0.014,  -999.00, 9, -999.00, -999.00, 9, -999.00
49NZ20071008, P14N, 35, 1, 31, X12003, 2, 20071031, 0546, 45.0107, 179.0142, 5775,    251.4, 2,   5.4782, 2,  33.8305, 2,  33.8306, 6,    184.0, 2,    187.3, 2,    49.48, 2,    26.91, 2,     0.02, 2,     2.02, 2,    3.327, 2,    1.810, 2,    0.217, 2, -999.000, 9,   -999.0, 9,   -999.0, 9, -999.0000,   -999.00,   -999.0, 9,   -999.0,  -999.00, 9,   -999.0,   5.4580, 26.6947,   5.4773, 2, 9, 0.23, 0.11, 0.01, 0.015,  -999.00, 9, -999.00, -999.00, 9, -999.00
49NZ20071008, P14N, 35, 1, 30, X12008, 2, 20071031, 0546, 45.0107, 179.0142, 5775,    331.7, 2,   4.5026, 2,  33.8492, 2,  33.8479, 2,    140.4, 2,    140.0, 2,    67.31, 2,    32.89, 2,     0.01, 2,     2.43, 2,    2.831, 2,    1.485, 2,    0.195, 2, -999.000, 9,   -999.0, 9,   -999.0, 9, -999.0000,   -999.00,   -999.0, 9,   -999.0,  -999.00, 9,   -999.0,   4.4782, 26.8206,   4.5021, 2, 9, 0.27, 0.12, 0.01, 0.016,  -999.00, 9, -999.00, -999.00, 9, -999.00
49NZ20071008, P14N, 35, 1, 29, X12035, 2, 20071031, 0546, 45.0107, 179.0142, 5775,    431.5, 2,   4.4692, 2,  33.9950, 2,  33.9931, 2,     88.2, 2,     92.3, 2,    81.78, 2,    36.88, 2,     0.01, 2,     2.68, 2,    1.923, 2,    0.963, 2,    0.110, 2, -999.000, 9,   -999.0, 9,   -999.0, 9, -999.0000,   -999.00,   -999.0, 9,   -999.0,  -999.00, 9,   -999.0,   4.4372, 26.9408,   4.4696, 2, 9, 0.30, 0.14, 0.01, 0.017,  -999.00, 9, -999.00, -999.00, 9, -999.00
49NZ20071008, P14N, 35, 1, 28, X12034, 2, 20071031, 0546, 45.0107, 179.0142, 5775,    529.8, 2,   4.1328, 2,  34.0831, 2,  34.0824, 6,     65.0, 2,     66.4, 2,    95.54, 2,    39.36, 2,     0.01, 2,     2.85, 2,    1.358, 2,    0.663, 2,    0.075, 2, -999.000, 9,   -999.0, 9,   -999.0, 9, -999.0000,   -999.00,   -999.0, 9,   -999.0,  -999.00, 9,   -999.0,   4.0944, 27.0471,   4.1347, 2, 9, 0.33, 0.14, 0.01, 0.017,  -999.00, 9, -999.00, -999.00, 9, -999.00
49NZ20071008, P14N, 35, 1, 27, X12049, 2, 20071031, 0546, 45.0107, 179.0142, 5775,    629.1, 2,   3.8181, 2,  34.1669, 2,  34.1681, 2,     43.5, 2,     44.8, 2,   108.80, 2,    41.38, 2,     0.01, 2,     2.98, 2,    0.845, 2,    0.406, 2,    0.049, 2, -999.000, 9,   -999.0, 9,   -999.0, 9, -999.0000,   -999.00,   -999.0, 9,   -999.0,  -999.00, 9,   -999.0,   3.7735, 27.1464,   3.8188, 2, 9, 0.36, 0.15, 0.01, 0.017,  -999.00, 9, -999.00, -999.00, 9, -999.00
49NZ20071008, P14N, 35, 1, 26, X12032, 2, 20071031, 0546, 45.0107, 179.0142, 5775,    728.1, 2,   3.5963, 2,  34.2362, 2,  34.2356, 2,     38.0, 2,     36.3, 2,   118.29, 2,    42.27, 2,     0.01, 2,     3.04, 2,    0.547, 6,    0.258, 6,    0.021, 6, -999.000, 9,   -999.0, 9,   -999.0, 9, -999.0000,   -999.00,   -999.0, 9,   -999.0,  -999.00, 9,   -999.0,   3.5453, 27.2241,   3.5966, 2, 9, 0.38, 0.15, 0.01, 0.018,  -999.00, 9, -999.00, -999.00, 9, -999.00
49NZ20071008, P14N, 35, 1, 25, X12043, 2, 20071031, 0546, 45.0107, 179.0142, 5775,    830.9, 2,   3.3858, 2,  34.3035, 2,  34.3035, 2,     33.5, 2,     33.0, 2,   125.74, 2,    42.75, 2,     0.01, 2,     3.08, 2,    0.309, 2,    0.146, 2,    0.018, 2, -999.000, 9,   -999.0, 9,   -999.0, 9, -999.0000,   -999.00,   -999.0, 9,   -999.0,  -999.00, 9,   -999.0,   3.3283, 27.2986,   3.3859, 2, 9, 0.40, 0.15, 0.01, 0.018,  -999.00, 9, -999.00, -999.00, 9, -999.00
49NZ20071008, P14N, 35, 1, 24, X12030, 2, 20071031, 0546, 45.0107, 179.0142, 5775,    929.4, 2,   3.1771, 2,  34.3457, 2,  34.3468, 2,     32.4, 2,     32.2, 2,   132.23, 2,    42.91, 2,     0.01, 2,     3.08, 2,    0.213, 2,    0.103, 2,    0.000, 2, -999.000, 9,   -999.0, 9,   -999.0, 9, -999.0000,   -999.00,   -999.0, 9,   -999.0,  -999.00, 9,   -999.0,   3.1135, 27.3523,   3.1769, 2, 9, 0.41, 0.15, 0.01, 0.018,  -999.00, 9, -999.00, -999.00, 9, -999.00
49NZ20071008, P14N, 35, 1, 23, X12027, 2, 20071031, 0546, 45.0107, 179.0142, 5775,   1069.4, 2,   2.8591, 2,  34.3966, 2,  34.3993, 3,     27.4, 2,     29.2, 2,   142.24, 2,    43.43, 2,     0.01, 2,     3.11, 2,    0.121, 2,    0.061, 2,    0.000, 2, -999.000, 9,   -999.0, 9,   -999.0, 9, -999.0000,   -999.00,   -999.0, 9,   -999.0,  -999.00, 9,   -999.0,   2.7873, 27.4225,   2.8592, 2, 9, 0.43, 0.15, 0.01, 0.018,  -999.00, 9, -999.00, -999.00, 9, -999.00
49NZ20071008, P14N, 35, 1, 22, X12028, 2, 20071031, 0546, 45.0107, 179.0142, 5775,   1270.8, 2,   2.6013, 2,  34.4462, 2,  34.4463, 2,     32.2, 2,     31.3, 2,   150.43, 2,    43.41, 2,     0.01, 2,     3.12, 2,    0.078, 2,    0.040, 2,    0.000, 2, -999.000, 9,   -999.0, 9,   -999.0, 9, -999.0000,   -999.00,   -999.0, 9,   -999.0,  -999.00, 9,   -999.0,   2.5164, 27.4856,   2.6014, 2, 9, 0.45, 0.15, 0.01, 0.018,  -999.00, 9, -999.00, -999.00, 9, -999.00
49NZ20071008, P14N, 35, 1, 21, X12009, 2, 20071031, 0546, 45.0107, 179.0142, 5775,   1471.7, 2,   2.3642, 2,  34.4952, 2,  34.4950, 2,     38.3, 2,     37.4, 2,   156.84, 2,    43.25, 2,     0.01, 2,     3.08, 2,    0.043, 2,    0.021, 2,    0.000, 2, -999.000, 9,   -999.0, 9,   -999.0, 9, -999.0000,   -999.00,   -999.0, 9,   -999.0,  -999.00, 9,   -999.0,   2.2661, 27.5458,   2.3641, 2, 9, 0.46, 0.15, 0.01, 0.018,  -999.00, 9, -999.00, -999.00, 9, -999.00
49NZ20071008, P14N, 35, 1, 20, X12026, 2, 20071031, 0546, 45.0107, 179.0142, 5775,   1669.6, 2,   2.1780, 2,  34.5366, 2,  34.5368, 2,     46.5, 2,     45.6, 2,   161.28, 2,    42.86, 2,     0.01, 2,     3.05, 2,    0.021, 2,    0.010, 2,    0.000, 2, -999.000, 9,   -999.0, 9,   -999.0, 9, -999.0000,   -999.00,   -999.0, 9,   -999.0,  -999.00, 9,   -999.0,   2.0664, 27.5951,   2.1780, 2, 9, 0.47, 0.15, 0.01, 0.018,  -999.00, 9, -999.00, -999.00, 9, -999.00
49NZ20071008, P14N, 35, 1, 19, X12025, 2, 20071031, 0546, 45.0107, 179.0142, 5775,   1870.9, 2,   2.0413, 2,  34.5658, 2,  34.5660, 2,     58.5, 2,     57.3, 2,   163.11, 2,    42.06, 2,     0.01, 2,     2.99, 2,    0.030, 2,    0.008, 2,    0.000, 2, -999.000, 9,   -999.0, 9,   -999.0, 9, -999.0000,   -999.00,   -999.0, 9,   -999.0,  -999.00, 9,   -999.0,   1.9152, 27.6305,   2.0414, 2, 9, 0.48, 0.15, 0.01, 0.017,  -999.00, 9, -999.00, -999.00, 9, -999.00
49NZ20071008, P14N, 35, 1, 18, X12024, 2, 20071031, 0546, 45.0107, 179.0142, 5775,   2071.3, 2,   1.9249, 2,  34.5893, 2,  34.5892, 2,     66.8, 2,     67.1, 2,   164.85, 2,    41.57, 2,     0.01, 2,     2.95, 2,    0.016, 2,    0.006, 2,    0.000, 2, -999.000, 9,   -999.0, 9,   -999.0, 9, -999.0000,   -999.00,   -999.0, 9,   -999.0,  -999.00, 9,   -999.0,   1.7838, 27.6594,   1.9251, 2, 9, 0.48, 0.15, 0.01, 0.017,  -999.00, 9, -999.00, -999.00, 9, -999.00
49NZ20071008, P14N, 35, 1, 17, X12023, 2, 20071031, 0546, 45.0107, 179.0142, 5775,   2269.1, 2,   1.8228, 2,  34.6101, 2,  34.6100, 2,     78.4, 2,     78.2, 2,   164.99, 2,    40.97, 2,     0.01, 2,     2.91, 2,    0.003, 2,    0.003, 2,    0.000, 2, -999.000, 9,   -999.0, 9,   -999.0, 9, -999.0000,   -999.00,   -999.0, 9,   -999.0,  -999.00, 9,   -999.0,   1.6664, 27.6850,   1.8230, 2, 9, 0.48, 0.15, 0.01, 0.017,  -999.00, 9, -999.00, -999.00, 9, -999.00
49NZ20071008, P14N, 35, 1, 16, X12022, 2, 20071031, 0546, 45.0107, 179.0142, 5775,   2470.5, 2,   1.7318, 2,  34.6280, 2,  34.6277, 2,     89.7, 2,     89.1, 2,   164.73, 2,    40.42, 2,     0.01, 2,     2.85, 2,    0.000, 2,    0.000, 2,    0.000, 2, -999.000, 9,   -999.0, 9,   -999.0, 9, -999.0000,   -999.00,   -999.0, 9,   -999.0,  -999.00, 9,   -999.0,   1.5593, 27.7073,   1.7319, 2, 9, 0.48, 0.15, 0.01, 0.017,  -999.00, 9, -999.00, -999.00, 9, -999.00
49NZ20071008, P14N, 35, 1, 15, X12021, 2, 20071031, 0546, 45.0107, 179.0142, 5775,   2670.2, 2,   1.6652, 2,  34.6404, 2,  34.6403, 6,    100.3, 2,    100.1, 2,   163.49, 2,    39.48, 2,     0.01, 2,     2.80, 2, -999.000, 9, -999.000, 9, -999.000, 9, -999.000, 9,   -999.0, 9,   -999.0, 9, -999.0000,   -999.00,   -999.0, 9,   -999.0,  -999.00, 9,   -999.0,   1.4759, 27.7234,   1.6653, 2, 9, 0.48, 0.14, 0.01, 0.017,  -999.00, 9, -999.00, -999.00, 9, -999.00
49NZ20071008, P14N, 35, 1, 14, X12020, 2, 20071031, 0546, 45.0107, 179.0142, 5775,   2869.8, 2,   1.6071, 2,  34.6512, 2,  34.6512, 2,    109.0, 2,    110.1, 2,   161.80, 2,    38.90, 2,     0.01, 2,     2.75, 2,    0.000, 2,    0.000, 2,    0.000, 2, -999.000, 9,   -999.0, 9,   -999.0, 9, -999.0000,   -999.00,   -999.0, 9,   -999.0,  -999.00, 9,   -999.0,   1.4004, 27.7374,   1.6071, 2, 9, 0.47, 0.14, 0.01, 0.017,  -999.00, 9, -999.00, -999.00, 9, -999.00
49NZ20071008, P14N, 35, 1, 13, X12019, 2, 20071031, 0546, 45.0107, 179.0142, 5775,   3080.7, 2,   1.5632, 2,  34.6596, 2,  34.6596, 2,    118.7, 2,    118.3, 2,   160.25, 2,    38.29, 2,     0.01, 2,     2.71, 2, -999.000, 9, -999.000, 9, -999.000, 9, -999.000, 9,   -999.0, 9,   -999.0, 9, -999.0000,   -999.00,   -999.0, 9,   -999.0,  -999.00, 9,   -999.0,   1.3373, 27.7486,   1.5632, 2, 9, 0.47, 0.14, 0.01, 0.017,  -999.00, 9, -999.00, -999.00, 9, -999.00
49NZ20071008, P14N, 35, 1, 12, X12040, 2, 20071031, 0546, 45.0107, 179.0142, 5775,   3331.8, 2,   1.5195, 2,  34.6680, 2,  34.6680, 2,    128.1, 2,    128.1, 2,   157.59, 2,    37.70, 2,     0.01, 2,     2.65, 2, -999.000, 9, -999.000, 9, -999.000, 9, -999.000, 9,   -999.0, 9,   -999.0, 9, -999.0000,   -999.00,   -999.0, 9,   -999.0,  -999.00, 9,   -999.0,   1.2699, 27.7602,   1.5195, 2, 9, 0.47, 0.14, 0.01, 0.017,  -999.00, 9, -999.00, -999.00, 9, -999.00
49NZ20071008, P14N, 35, 1, 11, X12047, 2, 20071031, 0546, 45.0107, 179.0142, 5775,   3579.3, 2,   1.4907, 2,  34.6747, 2,  34.6744, 2,    136.3, 2,    136.3, 2,   155.40, 2,    37.21, 2,     0.01, 2,     2.62, 2,    0.000, 2,    0.000, 2,    0.000, 2, -999.000, 9,   -999.0, 9,   -999.0, 9, -999.0000,   -999.00,   -999.0, 9,   -999.0,  -999.00, 9,   -999.0,   1.2167, 27.7693,   1.4908, 2, 9, 0.46, 0.14, 0.01, 0.017,  -999.00, 9, -999.00, -999.00, 9, -999.00
49NZ20071008, P14N, 35, 1, 10, X12017, 2, 20071031, 0546, 45.0107, 179.0142, 5775,   3828.9, 2,   1.4771, 2,  34.6793, 2,  34.6791, 2,    142.3, 2,    142.2, 2,   154.02, 2,    36.85, 2,     0.01, 2,     2.58, 2, -999.000, 9, -999.000, 9, -999.000, 9, -999.000, 9,   -999.0, 9,   -999.0, 9, -999.0000,   -999.00,   -999.0, 9,   -999.0,  -999.00, 9,   -999.0,   1.1773, 27.7757,   1.4772, 2, 9, 0.46, 0.14, 0.01, 0.016,  -999.00, 9, -999.00, -999.00, 9, -999.00
49NZ20071008, P14N, 35, 1, 9, X12015, 2, 20071031, 0546, 45.0107, 179.0142, 5775,   4080.6, 2,   1.4704, 2,  34.6832, 2,  34.6834, 2,    146.4, 2,    146.9, 2,   153.57, 2,    36.60, 2,     0.01, 2,     2.57, 2, -999.000, 9, -999.000, 9, -999.000, 9, -999.000, 9,   -999.0, 9,   -999.0, 9, -999.0000,   -999.00,   -999.0, 9,   -999.0,  -999.00, 9,   -999.0,   1.1435, 27.7811,   1.4706, 2, 9, 0.46, 0.14, 0.01, 0.016,  -999.00, 9, -999.00, -999.00, 9, -999.00
49NZ20071008, P14N, 35, 1, 8, X12046, 2, 20071031, 0546, 45.0107, 179.0142, 5775,   4330.7, 2,   1.4784, 2,  34.6856, 2,  34.6855, 6,    149.7, 2,    149.7, 2,   153.98, 2,    36.28, 2,     0.01, 2,     2.55, 2,    0.000, 2,    0.002, 2,    0.000, 2, -999.000, 9,   -999.0, 9,   -999.0, 9, -999.0000,   -999.00,   -999.0, 9,   -999.0,  -999.00, 9,   -999.0,   1.1234, 27.7844,   1.4784, 2, 9, 0.46, 0.13, 0.01, 0.016,  -999.00, 9, -999.00, -999.00, 9, -999.00
49NZ20071008, P14N, 35, 1, 7, X12044, 2, 20071031, 0546, 45.0107, 179.0142, 5775,   4580.1, 2,   1.4934, 2,  34.6877, 2,  34.6875, 2,    151.0, 2,    151.4, 2,   155.46, 2,    36.25, 2,     0.01, 2,     2.54, 2, -999.000, 9, -999.000, 9, -999.000, 9, -999.000, 9,   -999.0, 9,   -999.0, 9, -999.0000,   -999.00,   -999.0, 9,   -999.0,  -999.00, 9,   -999.0,   1.1094, 27.7870,   1.4935, 2, 9, 0.46, 0.13, 0.01, 0.016,  -999.00, 9, -999.00, -999.00, 9, -999.00
49NZ20071008, P14N, 35, 1, 6, X12048, 2, 20071031, 0546, 45.0107, 179.0142, 5775,   4831.2, 2,   1.5190, 2,  34.6884, 2,  34.6883, 2,    151.9, 2,    152.2, 2,   156.64, 2,    36.15, 2,     0.01, 2,     2.53, 2, -999.000, 9, -999.000, 9, -999.000, 9, -999.000, 9,   -999.0, 9,   -999.0, 9, -999.0000,   -999.00,   -999.0, 9,   -999.0,  -999.00, 9,   -999.0,   1.1045, 27.7880,   1.5191, 2, 9, 0.46, 0.13, 0.01, 0.016,  -999.00, 9, -999.00, -999.00, 9, -999.00
49NZ20071008, P14N, 35, 1, 5, X12014, 2, 20071031, 0546, 45.0107, 179.0142, 5775,   5080.3, 2,   1.5483, 2,  34.6887, 2,  34.6886, 2,    152.4, 2,    152.3, 2,   156.63, 2,    36.21, 2,     0.01, 2,     2.54, 2,    0.008, 2,    0.001, 2,    0.000, 2, -999.000, 9,   -999.0, 9,   -999.0, 9, -999.0000,   -999.00,   -999.0, 9,   -999.0,  -999.00, 9,   -999.0,   1.1026, 27.7883,   1.5485, 2, 9, 0.46, 0.13, 0.01, 0.016,  -999.00, 9, -999.00, -999.00, 9, -999.00
49NZ20071008, P14N, 35, 1, 4, X12006, 2, 20071031, 0546, 45.0107, 179.0142, 5775,   5329.8, 2,   1.5804, 2,  34.6888, 2,  34.6889, 2,    152.5, 2,    152.3, 2,   156.88, 2,    36.09, 2,     0.01, 2,     2.54, 2, -999.000, 9, -999.000, 9, -999.000, 9, -999.000, 9,   -999.0, 9,   -999.0, 9, -999.0000,   -999.00,   -999.0, 9,   -999.0,  -999.00, 9,   -999.0,   1.1025, 27.7884,   1.5806, 2, 9, 0.46, 0.13, 0.01, 0.016,  -999.00, 9, -999.00, -999.00, 9, -999.00
49NZ20071008, P14N, 35, 1, 3, X12013, 2, 20071031, 0546, 45.0107, 179.0142, 5775,   5579.8, 2,   1.6128, 2,  34.6889, 2,  34.6885, 2,    152.5, 2,    152.5, 2,   156.56, 2,    36.22, 2,     0.01, 2,     2.54, 2, -999.000, 9, -999.000, 9, -999.000, 9, -999.000, 9,   -999.0, 9,   -999.0, 9, -999.0000,   -999.00,   -999.0, 9,   -999.0,  -999.00, 9,   -999.0,   1.1019, 27.7885,   1.6129, 2, 9, 0.46, 0.13, 0.01, 0.016,  -999.00, 9, -999.00, -999.00, 9, -999.00
49NZ20071008, P14N, 35, 1, 2, X12002, 2, 20071031, 0546, 45.0107, 179.0142, 5775,     25.7, 2,  11.3159, 2,  33.0555, 2,  33.0554, 2,    270.9, 2,    271.7, 2,  -999.00, 9,  -999.00, 9,  -999.00, 9,  -999.00, 9, -999.000, 9, -999.000, 9, -999.000, 9, -999.000, 9,   -999.0, 9,   -999.0, 9, -999.0000,   -999.00,   -999.0, 9,   -999.0,  -999.00, 9,   -999.0,  11.3128, 25.2056,  11.3170, 2, 9, -999.00, -999.00, -999.00, -999.000,  -999.00, 9, -999.00, -999.00, 9, -999.00
49NZ20071008, P14N, 35, 1, 1, X12001, 2, 20071031, 0546, 45.0107, 179.0142, 5775,   5927.9, 2,   1.6588, 2,  34.6890, 2,  34.6891, 6,    152.8, 2,    152.9, 2,   156.57, 2,    36.13, 2,     0.01, 2,     2.53, 2,    0.008, 2,    0.005, 2,    0.000, 2, -999.000, 9,   -999.0, 9,   -999.0, 9, -999.0000,   -999.00,   -999.0, 9,   -999.0,  -999.00, 9,   -999.0,   1.1004, 27.7887,   1.6590, 2, 9, 0.46, 0.13, 0.01, 0.016,  -999.00, 9, -999.00, -999.00, 9, -999.00