BOTTLE,20221005CCHSIOAMB
EXPOCODE,SECT_ID,STNNBR,CASTNO,SAMPNO,BTLNBR,BTLNBR_FLAG_W,DATE,TIME,LATITUDE,LONGITUDE,DEPTH,CTDPRS,CTDPRS_FLAG_W,CTDTMP,CTDTMP_FLAG_W,CTDSAL,CTDSAL_FLAG_W,SALNTY,SALNTY_FLAG_W,CTDOXY,CTDOXY_FLAG_W,OXYGEN,OXYGEN_FLAG_W,SILCAT,SILCAT_FLAG_W,NITRAT,NITRAT_FLAG_W,NITRIT,NITRIT_FLAG_W,PHSPHT,PHSPHT_FLAG_W,CFC-11,CFC-11_FLAG_W,CFC-12,CFC-12_FLAG_W,CFC113,CFC113_FLAG_W,CCL4,CCL4_FLAG_W,TCARBN,TCARBN_FLAG_W,ALKALI,ALKALI_FLAG_W,PH_TOT,PH_TMP,DELC14,DELC14_FLAG_W,C14ERR,DELC13,DELC13_FLAG_W,C13ERR,THETA,SIG0,SBE35,SBE35_FLAG_W,PH_TOT_FLAG_W,SILUNC,NRAUNC,NRIUNC,PHPUNC,CS-137,CS-137_FLAG_W,CS137ER,PLUTO,PLUTO_FLAG_W,PLUTOER
,,,,,,,,,,,METERS,DBAR,,ITS-90,,PSS-78,,PSS-78,,UMOL/KG,,UMOL/KG,,UMOL/KG,,UMOL/KG,,UMOL/KG,,UMOL/KG,,PMOL/KG,,PMOL/KG,,PMOL/KG,,PMOL/KG,,UMOL/KG,,UMOL/KG,,,DEG C,/MILLE,,/MILLE,/MILLE,,/MILLE,DEG C,KG/M^3,ITS-90,,,UMOL/KG,UMOL/KG,UMOL/KG,UMOL/KG,DM/.1MG,,BQ/M^3,MBQ/M^3,,MBQ/M^3
49NZ20071008, P14N, 96, 1, 36, X12042, 2, 20071116, 0109, 14.5088, 178.9835, 5476,      9.7, 2,  27.9441, 2,  34.7118, 2,  34.7118, 2,    199.2, 2,    198.8, 2,     1.05, 2,     0.05, 2,     0.00, 2,     0.12, 2,    1.520, 2,    0.954, 2,    0.237, 4, -999.000, 9,   -999.0, 9,   -999.0, 9, -999.0000,   -999.00,   -999.0, 9,   -999.0,  -999.00, 9,   -999.0,  27.9418, 22.1969,  27.9440, 2, 9, 0.12, 0.03, 0.01, 0.020,  -999.00, 9, -999.00, -999.00, 9, -999.00
49NZ20071008, P14N, 96, 1, 35, X12041, 2, 20071116, 0109, 14.5088, 178.9835, 5476,     51.1, 2,  27.9303, 2,  34.7210, 2,  34.7229, 2,    199.0, 2,    199.0, 2,     1.04, 2,     0.05, 2,     0.00, 2,     0.12, 2,    1.523, 2,    0.953, 2,    0.249, 4, -999.000, 9,   -999.0, 9,   -999.0, 9, -999.0000,   -999.00,   -999.0, 9,   -999.0,  -999.00, 9,   -999.0,  27.9183, 22.2115,  27.9293, 2, 9, 0.12, 0.03, 0.01, 0.020,  -999.00, 9, -999.00, -999.00, 9, -999.00
49NZ20071008, P14N, 96, 1, 34, X12016, 2, 20071116, 0109, 14.5088, 178.9835, 5476,    100.0, 2,  26.0720, 2,  35.0374, 2,  35.0390, 2,    210.3, 2,    211.0, 2,     0.88, 2,     0.03, 2,     0.00, 2,     0.09, 2,    1.707, 2,    1.068, 2,    0.614, 4, -999.000, 9,   -999.0, 9,   -999.0, 9, -999.0000,   -999.00,   -999.0, 9,   -999.0,  -999.00, 9,   -999.0,  26.0496, 23.0461,  26.0709, 2, 9, 0.12, 0.03, 0.01, 0.023,  -999.00, 1, -999.00, -999.00, 9, -999.00
49NZ20071008, P14N, 96, 1, 33, X12033, 2, 20071116, 0109, 14.5088, 178.9835, 5476,    151.1, 2,  22.9028, 2,  35.1358, 2,  35.1349, 2,    186.3, 2,    186.8, 2,     1.33, 2,     0.85, 2,     0.03, 2,     0.19, 2,    1.952, 6,    1.193, 6,    0.214, 4, -999.000, 9,   -999.0, 9,   -999.0, 9, -999.0000,   -999.00,   -999.0, 9,   -999.0,  -999.00, 9,   -999.0,  22.8720, 24.0734,  22.9020, 2, 9, 0.12, 0.04, 0.01, 0.016,  -999.00, 9, -999.00, -999.00, 9, -999.00
49NZ20071008, P14N, 96, 1, 32, X12038, 2, 20071116, 0109, 14.5088, 178.9835, 5476,    201.6, 2,  19.0447, 2,  34.8517, 2,  34.8469, 2,    176.9, 2,    178.3, 2,     3.32, 2,     4.36, 2,     0.01, 2,     0.43, 2,    2.303, 2,    1.356, 2,    0.063, 2, -999.000, 9,   -999.0, 9,   -999.0, 9, -999.0000,   -999.00,   -999.0, 9,   -999.0,  -999.00, 9,   -999.0,  19.0087, 24.9056,  19.0540, 2, 9, 0.13, 0.04, 0.01, 0.013,  -999.00, 1, -999.00, -999.00, 9, -999.00
49NZ20071008, P14N, 96, 1, 31, X12003, 2, 20071116, 0109, 14.5088, 178.9835, 5476,    250.1, 2,  14.1944, 2,  34.3940, 2,  34.3914, 6,    158.8, 2,    159.4, 2,    10.13, 2,    12.04, 2,     0.01, 2,     0.99, 2,    2.571, 2,    1.441, 2,    0.037, 2, -999.000, 9,   -999.0, 9,   -999.0, 9, -999.0000,   -999.00,   -999.0, 9,   -999.0,  -999.00, 9,   -999.0,  14.1580, 25.6855,  14.1933, 2, 9, 0.14, 0.07, 0.01, 0.013,  -999.00, 9, -999.00, -999.00, 9, -999.00
49NZ20071008, P14N, 96, 1, 30, X12008, 2, 20071116, 0109, 14.5088, 178.9835, 5476,    280.0, 2,  12.4572, 2,  34.2942, 2,  34.2891, 2,    153.2, 2,    157.0, 2,    14.77, 2,    15.59, 2,     0.01, 2,     1.23, 2,    2.593, 2,    1.424, 2,    0.061, 2, -999.000, 9,   -999.0, 9,   -999.0, 9, -999.0000,   -999.00,   -999.0, 9,   -999.0,  -999.00, 9,   -999.0,  12.4199, 25.9603,  12.4569, 2, 9, 0.15, 0.08, 0.01, 0.013,  -999.00, 9, -999.00, -999.00, 9, -999.00
49NZ20071008, P14N, 96, 1, 29, X12035, 2, 20071116, 0109, 14.5088, 178.9835, 5476,    370.3, 2,   9.0737, 2,  34.2477, 2,  34.2516, 2,     84.5, 2,     97.2, 2,    35.34, 2,    27.59, 2,     0.00, 2,     2.09, 2,    1.592, 2,    0.785, 2,    0.033, 2, -999.000, 9,   -999.0, 9,   -999.0, 9, -999.0000,   -999.00,   -999.0, 9,   -999.0,  -999.00, 9,   -999.0,   9.0333, 26.5237,   9.0745, 2, 9, 0.20, 0.11, 0.01, 0.015,  -999.00, 1, -999.00, -999.00, 9, -999.00
49NZ20071008, P14N, 96, 1, 28, X12034, 2, 20071116, 0109, 14.5088, 178.9835, 5476,    470.6, 2,   7.7727, 2,  34.4278, 2,  34.4269, 6,     45.2, 2,     43.3, 2,    49.64, 2,    35.63, 2,     0.00, 2,     2.64, 2,    0.304, 2,    0.148, 2,    0.008, 2, -999.000, 9,   -999.0, 9,   -999.0, 9, -999.0000,   -999.00,   -999.0, 9,   -999.0,  -999.00, 9,   -999.0,   7.7254, 26.8649,   7.7732, 2, 9, 0.23, 0.13, 0.01, 0.017,  -999.00, 9, -999.00, -999.00, 9, -999.00
49NZ20071008, P14N, 96, 1, 27, X12049, 2, 20071116, 0109, 14.5088, 178.9835, 5476,    570.8, 2,   6.8606, 2,  34.4664, 2,  34.4656, 2,     48.0, 2,     47.0, 2,    59.25, 2,    37.60, 2,     0.00, 2,     2.75, 2,    0.114, 2,    0.057, 2,    0.009, 2, -999.000, 9,   -999.0, 9,   -999.0, 9, -999.0000,   -999.00,   -999.0, 9,   -999.0,  -999.00, 9,   -999.0,   6.8068, 27.0249,   6.8609, 2, 9, 0.25, 0.14, 0.01, 0.017,  -999.00, 1, -999.00, -999.00, 9, -999.00
49NZ20071008, P14N, 96, 1, 26, X12032, 2, 20071116, 0109, 14.5088, 178.9835, 5476,    672.2, 2,   6.1890, 2,  34.4869, 2,  34.4858, 2,     51.6, 2,     51.4, 2,    67.21, 2,    38.72, 2,     0.00, 2,     2.82, 2,    0.062, 6,    0.030, 6,    0.018, 6, -999.000, 9,   -999.0, 9,   -999.0, 9, -999.0000,   -999.00,   -999.0, 9,   -999.0,  -999.00, 9,   -999.0,   6.1285, 27.1308,   6.1894, 2, 9, 0.27, 0.14, 0.01, 0.017,  -999.00, 9, -999.00, -999.00, 9, -999.00
49NZ20071008, P14N, 96, 1, 25, X12043, 2, 20071116, 0109, 14.5088, 178.9835, 5476,    770.2, 2,   5.5828, 2,  34.5081, 2,  34.5075, 2,     53.7, 2,     53.2, 2,    75.54, 2,    39.79, 2,     0.00, 2,     2.89, 2,    0.024, 2,    0.015, 2,    0.002, 2, -999.000, 9,   -999.0, 9,   -999.0, 9, -999.0000,   -999.00,   -999.0, 9,   -999.0,  -999.00, 9,   -999.0,   5.5165, 27.2241,   5.5829, 2, 9, 0.29, 0.14, 0.01, 0.017,  -999.00, 1, -999.00, -999.00, 9, -999.00
49NZ20071008, P14N, 96, 1, 24, X12030, 2, 20071116, 0109, 14.5088, 178.9835, 5476,    872.2, 2,   5.1222, 2,  34.5156, 2,  34.5156, 2,     54.7, 2,     55.3, 2,    83.23, 2,    40.31, 2,     0.00, 2,     2.91, 2,    0.012, 2,    0.007, 2,    0.011, 2, -999.000, 9,   -999.0, 9,   -999.0, 9, -999.0000,   -999.00,   -999.0, 9,   -999.0,  -999.00, 9,   -999.0,   5.0495, 27.2855,   5.1224, 2, 9, 0.30, 0.15, 0.01, 0.017,  -999.00, 9, -999.00, -999.00, 9, -999.00
49NZ20071008, P14N, 96, 1, 23, X12027, 2, 20071116, 0109, 14.5088, 178.9835, 5476,    971.4, 2,   4.7139, 2,  34.5284, 2,  34.5280, 6,     57.3, 2,     57.6, 2,    90.60, 2,    40.70, 2,     0.00, 2,     2.94, 2,    0.005, 2,    0.002, 2,    0.000, 2, -999.000, 9,   -999.0, 9,   -999.0, 9, -999.0000,   -999.00,   -999.0, 9,   -999.0,  -999.00, 9,   -999.0,   4.6353, 27.3427,   4.7143, 2, 9, 0.32, 0.15, 0.01, 0.017,  -999.00, 1, -999.00, -999.00, 9, -999.00
49NZ20071008, P14N, 96, 1, 22, X12028, 2, 20071116, 0109, 14.5088, 178.9835, 5476,   1133.3, 2,   4.1695, 2,  34.5444, 2,  34.5443, 2,     61.9, 2,     61.5, 2,   101.34, 2,    41.01, 2,     0.00, 2,     2.97, 2,    0.004, 2,    0.005, 2,    0.000, 2, -999.000, 9,   -999.0, 9,   -999.0, 9, -999.0000,   -999.00,   -999.0, 9,   -999.0,  -999.00, 9,   -999.0,   4.0811, 27.4153,   4.1699, 2, 9, 0.34, 0.15, 0.01, 0.017,  -999.00, 9, -999.00, -999.00, 9, -999.00
49NZ20071008, P14N, 96, 1, 21, X12009, 2, 20071116, 0109, 14.5088, 178.9835, 5476,   1331.3, 2,   3.4397, 2,  34.5666, 2,  34.5664, 2,     70.5, 2,     70.6, 2,   116.38, 2,    40.86, 2,     0.00, 2,     2.95, 2,    0.000, 2,    0.000, 2,    0.000, 2, -999.000, 9,   -999.0, 9,   -999.0, 9, -999.0000,   -999.00,   -999.0, 9,   -999.0,  -999.00, 9,   -999.0,   3.3412, 27.5071,   3.4417, 2, 9, 0.38, 0.15, 0.01, 0.017,  -999.00, 9, -999.00, -999.00, 9, -999.00
49NZ20071008, P14N, 96, 1, 20, X12026, 2, 20071116, 0109, 14.5088, 178.9835, 5476,   1532.1, 2,   2.9283, 2,  34.5895, 2,  34.5894, 2,     78.3, 2,     78.6, 2,   127.25, 2,    40.73, 2,     0.00, 2,     2.92, 2,    0.000, 2,    0.000, 2,    0.000, 2, -999.000, 9,   -999.0, 9,   -999.0, 9, -999.0000,   -999.00,   -999.0, 9,   -999.0,  -999.00, 9,   -999.0,   2.8186, 27.5738,   2.9284, 2, 9, 0.40, 0.15, 0.01, 0.017,  -999.00, 9, -999.00, -999.00, 9, -999.00
49NZ20071008, P14N, 96, 1, 19, X12025, 2, 20071116, 0109, 14.5088, 178.9835, 5476,   1732.7, 2,   2.5487, 2,  34.6079, 2,  34.6080, 2,     87.6, 2,     87.9, 2,   135.15, 2,    40.21, 2,     0.00, 2,     2.88, 2,    0.000, 2,    0.000, 2,    0.000, 2, -999.000, 9,   -999.0, 9,   -999.0, 9, -999.0000,   -999.00,   -999.0, 9,   -999.0,  -999.00, 9,   -999.0,   2.4269, 27.6226,   2.5488, 2, 9, 0.42, 0.15, 0.01, 0.017,  -999.00, 1, -999.00, -999.00, 9, -999.00
49NZ20071008, P14N, 96, 1, 18, X12024, 2, 20071116, 0109, 14.5088, 178.9835, 5476,   1930.2, 2,   2.2831, 2,  34.6223, 2,  34.6221, 2,     96.2, 2,     96.9, 2,   140.09, 2,    39.66, 2,     0.00, 2,     2.82, 2,    0.000, 2,    0.000, 2,    0.000, 2, -999.000, 9,   -999.0, 9,   -999.0, 9, -999.0000,   -999.00,   -999.0, 9,   -999.0,  -999.00, 9,   -999.0,   2.1483, 27.6572,   2.2832, 2, 9, 0.43, 0.14, 0.01, 0.017,  -999.00, 1, -999.00, -999.00, 9, -999.00
49NZ20071008, P14N, 96, 1, 17, X12023, 2, 20071116, 0109, 14.5088, 178.9835, 5476,   2130.0, 2,   2.0883, 2,  34.6332, 2,  34.6330, 2,    104.0, 2,    103.8, 2,   144.14, 2,    39.37, 2,     0.00, 2,     2.78, 2,    0.000, 2,    0.000, 2,    0.000, 2, -999.000, 9,   -999.0, 9,   -999.0, 9, -999.0000,   -999.00,   -999.0, 9,   -999.0,  -999.00, 9,   -999.0,   1.9394, 27.6826,   2.0883, 2, 9, 0.44, 0.14, 0.01, 0.017,  -999.00, 1, -999.00, -999.00, 9, -999.00
49NZ20071008, P14N, 96, 1, 16, X12022, 2, 20071116, 0109, 14.5088, 178.9835, 5476,   2330.4, 2,   1.9034, 2,  34.6451, 2,  34.6449, 2,    111.7, 2,    111.5, 2,   147.50, 2,    38.88, 2,     0.00, 2,     2.74, 2,    0.001, 2,    0.001, 2,    0.000, 2, -999.000, 9,   -999.0, 9,   -999.0, 9, -999.0000,   -999.00,   -999.0, 9,   -999.0,  -999.00, 9,   -999.0,   1.7401, 27.7075,   1.9035, 2, 9, 0.44, 0.14, 0.01, 0.017,  -999.00, 9, -999.00, -999.00, 9, -999.00
49NZ20071008, P14N, 96, 1, 15, X12021, 2, 20071116, 0109, 14.5088, 178.9835, 5476,   2531.2, 2,   1.7626, 2,  34.6553, 2,  34.6551, 6,    118.3, 2,    118.8, 2,   149.45, 2,    38.44, 2,     0.00, 2,     2.70, 2, -999.000, 9, -999.000, 9, -999.000, 9, -999.000, 9,   -999.0, 9,   -999.0, 9, -999.0000,   -999.00,   -999.0, 9,   -999.0,  -999.00, 9,   -999.0,   1.5839, 27.7274,   1.7628, 2, 9, 0.45, 0.14, 0.01, 0.017,  -999.00, 9, -999.00, -999.00, 9, -999.00
49NZ20071008, P14N, 96, 1, 14, X12020, 2, 20071116, 0109, 14.5088, 178.9835, 5476,   2730.7, 2,   1.6848, 2,  34.6624, 2,  34.6622, 2,    123.6, 2,    123.8, 2,   150.54, 2,    38.14, 2,     0.00, 2,     2.68, 2, -999.000, 9, -999.000, 9, -999.000, 9, -999.000, 9,   -999.0, 9,   -999.0, 9, -999.0000,   -999.00,   -999.0, 9,   -999.0,  -999.00, 9,   -999.0,   1.4894, 27.7400,   1.6849, 2, 9, 0.45, 0.14, 0.01, 0.017,  -999.00, 1, -999.00, -999.00, 9, -999.00
49NZ20071008, P14N, 96, 1, 13, X12019, 2, 20071116, 0109, 14.5088, 178.9835, 5476,   2931.6, 2,   1.6116, 2,  34.6684, 2,  34.6681, 2,    128.9, 2,    129.4, 2,   150.83, 2,    37.76, 2,     0.00, 2,     2.65, 2,    0.000, 2,    0.001, 2,    0.000, 2, -999.000, 9,   -999.0, 9,   -999.0, 9, -999.0000,   -999.00,   -999.0, 9,   -999.0,  -999.00, 9,   -999.0,   1.3989, 27.7514,   1.6116, 2, 9, 0.45, 0.14, 0.01, 0.017,  -999.00, 1, -999.00, -999.00, 9, -999.00
49NZ20071008, P14N, 96, 1, 12, X12040, 2, 20071116, 0109, 14.5088, 178.9835, 5476,   3171.6, 2,   1.5384, 2,  34.6747, 2,  34.6744, 2,    134.6, 2,    136.3, 2,   150.54, 2,    37.25, 2,     0.00, 2,     2.60, 2, -999.000, 9, -999.000, 9, -999.000, 9, -999.000, 9,   -999.0, 9,   -999.0, 9, -999.0000,   -999.00,   -999.0, 9,   -999.0,  -999.00, 9,   -999.0,   1.3042, 27.7631,   1.5385, 2, 9, 0.45, 0.14, 0.01, 0.016,  -999.00, 1, -999.00, -999.00, 9, -999.00
49NZ20071008, P14N, 96, 1, 11, X12047, 3, 20071116, 0109, 14.5088, 178.9835, 5476,   3421.4, 2,   1.4989, 2,  34.6791, 2,  34.6795, 3,    141.0, 2,    141.5, 2,   149.42, 2,    36.85, 2,    -0.01, 2,     2.57, 2, -999.000, 9, -999.000, 9, -999.000, 9, -999.000, 9,   -999.0, 9,   -999.0, 9, -999.0000,   -999.00,   -999.0, 9,   -999.0,  -999.00, 9,   -999.0,   1.2408, 27.7711,   1.4990, 2, 9, 0.45, 0.14, 0.01, 0.016,  -999.00, 9, -999.00, -999.00, 9, -999.00
49NZ20071008, P14N, 96, 1, 10, X12012, 2, 20071116, 0109, 14.5088, 178.9835, 5476,   3670.5, 2,   1.4670, 2,  34.6836, 2,  34.6834, 2,    147.0, 2,    148.0, 2,   147.12, 2,    36.47, 2,    -0.01, 2,     2.54, 2,    0.002, 2,    0.000, 2,    0.000, 2, -999.000, 9,   -999.0, 9,   -999.0, 9, -999.0000,   -999.00,   -999.0, 9,   -999.0,  -999.00, 9,   -999.0,   1.1841, 27.7787,   1.4670, 2, 9, 0.44, 0.13, 0.01, 0.016,  -999.00, 1, -999.00, -999.00, 9, -999.00
49NZ20071008, P14N, 96, 1, 9, X12015, 2, 20071116, 0109, 14.5088, 178.9835, 5476,   3922.4, 2,   1.4384, 2,  34.6869, 2,  34.6870, 6,    153.7, 2,    154.1, 2,   144.39, 2,    36.07, 2,     0.00, 2,     2.51, 2, -999.000, 9, -999.000, 9, -999.000, 9, -999.000, 9,   -999.0, 9,   -999.0, 9, -999.0000,   -999.00,   -999.0, 9,   -999.0,  -999.00, 9,   -999.0,   1.1296, 27.7851,   1.4384, 2, 9, 0.44, 0.13, 0.01, 0.016,  -999.00, 1, -999.00, -999.00, 9, -999.00
49NZ20071008, P14N, 96, 1, 8, X12046, 2, 20071116, 0109, 14.5088, 178.9835, 5476,   4170.5, 2,   1.3967, 2,  34.6917, 2,  34.6916, 2,    162.6, 2,    163.7, 2,   138.65, 2,    35.31, 2,     0.00, 2,     2.46, 2, -999.000, 9, -999.000, 9, -999.000, 9, -999.000, 9,   -999.0, 9,   -999.0, 9, -999.0000,   -999.00,   -999.0, 9,   -999.0,  -999.00, 9,   -999.0,   1.0620, 27.7935,   1.3968, 2, 9, 0.42, 0.13, 0.01, 0.016,  -999.00, 1, -999.00, -999.00, 9, -999.00
49NZ20071008, P14N, 96, 1, 7, X12044, 2, 20071116, 0109, 14.5088, 178.9835, 5476,   4420.7, 2,   1.3663, 2,  34.6957, 2,  34.6957, 2,    171.2, 2,    171.7, 2,   134.01, 2,    34.73, 2,     0.00, 2,     2.42, 2,    0.003, 2,    0.006, 2,    0.000, 2, -999.000, 9,   -999.0, 9,   -999.0, 9, -999.0000,   -999.00,   -999.0, 9,   -999.0,  -999.00, 9,   -999.0,   1.0045, 27.8005,   1.3663, 2, 9, 0.41, 0.13, 0.01, 0.016,  -999.00, 9, -999.00, -999.00, 9, -999.00
49NZ20071008, P14N, 96, 1, 6, X12048, 2, 20071116, 0109, 14.5088, 178.9835, 5476,   4670.8, 2,   1.3410, 2,  34.6993, 2,  34.6994, 2,    178.5, 2,    179.2, 2,   129.16, 2,    34.15, 2,     0.00, 2,     2.38, 2, -999.000, 9, -999.000, 9, -999.000, 9, -999.000, 9,   -999.0, 9,   -999.0, 9, -999.0000,   -999.00,   -999.0, 9,   -999.0,  -999.00, 9,   -999.0,   0.9512, 27.8069,   1.3410, 2, 9, 0.40, 0.13, 0.01, 0.016,  -999.00, 1, -999.00, -999.00, 9, -999.00
49NZ20071008, P14N, 96, 1, 5, X12014, 2, 20071116, 0109, 14.5088, 178.9835, 5476,   4922.6, 2,   1.3276, 2,  34.7018, 2,  34.7018, 2,    184.5, 2,    184.4, 2,   126.33, 2,    33.92, 2,     0.00, 2,     2.35, 2, -999.000, 9, -999.000, 9, -999.000, 9, -999.000, 9,   -999.0, 9,   -999.0, 9, -999.0000,   -999.00,   -999.0, 9,   -999.0,  -999.00, 9,   -999.0,   0.9084, 27.8118,   1.3275, 2, 9, 0.40, 0.13, 0.01, 0.016,  -999.00, 1, -999.00, -999.00, 9, -999.00
49NZ20071008, P14N, 96, 1, 4, X12006, 2, 20071116, 0109, 14.5088, 178.9835, 5476,   5169.7, 2,   1.3391, 2,  34.7029, 2,  34.7028, 2,    186.8, 2,    186.8, 2,   125.17, 2,    33.60, 2,     0.00, 2,     2.34, 2,    0.004, 2,    0.002, 2,    0.000, 2, -999.000, 9,   -999.0, 9,   -999.0, 9, -999.0000,   -999.00,   -999.0, 9,   -999.0,  -999.00, 9,   -999.0,   0.8895, 27.8139,   1.3391, 2, 9, 0.39, 0.13, 0.01, 0.016,  -999.00, 1, -999.00, -999.00, 9, -999.00
49NZ20071008, P14N, 96, 1, 3, X12013, 2, 20071116, 0109, 14.5088, 178.9835, 5476,   5420.4, 2,   1.3657, 2,  34.7030, 2,  34.7035, 2,    187.6, 2,    187.3, 2,   124.79, 2,    33.59, 2,     0.00, 2,     2.34, 2, -999.000, 9, -999.000, 9, -999.000, 9, -999.000, 9,   -999.0, 9,   -999.0, 9, -999.0000,   -999.00,   -999.0, 9,   -999.0,  -999.00, 9,   -999.0,   0.8840, 27.8143,   1.3656, 2, 9, 0.39, 0.13, 0.01, 0.016,  -999.00, 9, -999.00, -999.00, 9, -999.00
49NZ20071008, P14N, 96, 1, 2, X12002, 2, 20071116, 0109, 14.5088, 178.9835, 5476,   5570.1, 2,   1.3788, 2,  34.7033, 2, -999.0000, 9,    187.6, 2,   -999.0, 9,  -999.00, 9,  -999.00, 9,  -999.00, 9,  -999.00, 9, -999.000, 9, -999.000, 9, -999.000, 9, -999.000, 9,   -999.0, 9,   -999.0, 9, -999.0000,   -999.00,   -999.0, 9,   -999.0,  -999.00, 9,   -999.0,   0.8776, 27.8150,   1.3789, 2, 9, -999.00, -999.00, -999.00, -999.000,  -999.00, 1, -999.00, -999.00, 9, -999.00
49NZ20071008, P14N, 96, 1, 1, X12001, 2, 20071116, 0109, 14.5088, 178.9835, 5476,   5570.3, 2,   1.3788, 2,  34.7032, 2,  34.7034, 6,    187.7, 2,    187.5, 2,   124.75, 2,    33.46, 2,     0.00, 2,     2.34, 2,    0.000, 2,    0.000, 2,    0.000, 2, -999.000, 9,   -999.0, 9,   -999.0, 9, -999.0000,   -999.00,   -999.0, 9,   -999.0,  -999.00, 9,   -999.0,   0.8776, 27.8149,   1.3788, 2, 9, 0.39, 0.13, 0.01, 0.016,  -999.00, 1, -999.00, -999.00, 9, -999.00