BOTTLE,20221005CCHSIOAMB
EXPOCODE,SECT_ID,STNNBR,CASTNO,SAMPNO,BTLNBR,BTLNBR_FLAG_W,DATE,TIME,LATITUDE,LONGITUDE,DEPTH,CTDPRS,CTDPRS_FLAG_W,CTDTMP,CTDTMP_FLAG_W,CTDSAL,CTDSAL_FLAG_W,SALNTY,SALNTY_FLAG_W,CTDOXY,CTDOXY_FLAG_W,OXYGEN,OXYGEN_FLAG_W,SILCAT,SILCAT_FLAG_W,NITRAT,NITRAT_FLAG_W,NITRIT,NITRIT_FLAG_W,PHSPHT,PHSPHT_FLAG_W,CFC-11,CFC-11_FLAG_W,CFC-12,CFC-12_FLAG_W,CFC113,CFC113_FLAG_W,CCL4,CCL4_FLAG_W,TCARBN,TCARBN_FLAG_W,ALKALI,ALKALI_FLAG_W,PH_TOT,PH_TMP,DELC14,DELC14_FLAG_W,C14ERR,DELC13,DELC13_FLAG_W,C13ERR,THETA,SIG0,SBE35,SBE35_FLAG_W,PH_TOT_FLAG_W,SILUNC,NRAUNC,NRIUNC,PHPUNC,CS-137,CS-137_FLAG_W,CS137ER,PLUTO,PLUTO_FLAG_W,PLUTOER
,,,,,,,,,,,METERS,DBAR,,ITS-90,,PSS-78,,PSS-78,,UMOL/KG,,UMOL/KG,,UMOL/KG,,UMOL/KG,,UMOL/KG,,UMOL/KG,,PMOL/KG,,PMOL/KG,,PMOL/KG,,PMOL/KG,,UMOL/KG,,UMOL/KG,,,DEG C,/MILLE,,/MILLE,/MILLE,,/MILLE,DEG C,KG/M^3,ITS-90,,,UMOL/KG,UMOL/KG,UMOL/KG,UMOL/KG,DM/.1MG,,BQ/M^3,MBQ/M^3,,MBQ/M^3
49NZ20071008, P01, P01_60, 2, 36, X12042, 2, 20071020, 0909, 46.9990, 178.2913, 5752,     10.6, 2,   9.4432, 2,  32.6745, 2,  32.6740, 2,    287.8, 2,    286.1, 2,    19.73, 2,    13.04, 2,     0.24, 2,     1.26, 2,    3.758, 2,    2.116, 2,    0.348, 2, -999.000, 9,   2032.4, 2,   2208.6, 2,    7.8463,     25.00,   -999.0, 1,   -999.0,  -999.00, 1,   -999.0,   9.4421, 25.2277,   9.4425, 2, 2, 0.16, 0.07, 0.01, 0.014,  -999.00, 9, -999.00, -999.00, 9, -999.00
49NZ20071008, P01, P01_60, 2, 35, X12041, 2, 20071020, 0909, 46.9990, 178.2913, 5752,     50.0, 2,   9.4193, 2,  32.6762, 2,  32.6776, 2,    287.3, 2,    286.3, 2,    19.90, 2,    13.07, 2,     0.25, 2,     1.28, 2,    3.775, 2,    2.115, 2,    0.384, 2, -999.000, 9,   2031.1, 6,   2207.8, 2,    7.8448,     25.00,   -999.0, 1,   -999.0,  -999.00, 1,   -999.0,   9.4139, 25.2334,   9.4186, 2, 2, 0.16, 0.07, 0.01, 0.014,  -999.00, 9, -999.00, -999.00, 9, -999.00
49NZ20071008, P01, P01_60, 2, 34, X12016, 2, 20071020, 0909, 46.9990, 178.2913, 5752,    100.8, 2,   4.0753, 2,  33.1368, 2,  33.1370, 2,    308.6, 2,    303.6, 2,    30.86, 2,    19.54, 2,     0.02, 2,     1.61, 2,    5.042, 2,    2.757, 2,    0.468, 2, -999.000, 9,   2100.5, 2,   2232.3, 6,    7.7200,     25.00,   -999.0, 1,   -999.0,  -999.00, 1,   -999.0,   4.0685, 26.2973,   4.0749, 2, 2, 0.19, 0.09, 0.01, 0.014,  -999.00, 9, -999.00, -999.00, 9, -999.00
49NZ20071008, P01, P01_60, 2, 33, X12033, 2, 20071020, 0909, 46.9990, 178.2913, 5752,    149.7, 2,   3.7247, 2,  33.5091, 2,  33.5083, 2,    236.5, 2,    232.8, 2,    48.87, 2,    27.07, 2,     0.02, 2,     2.07, 2,    4.415, 6,    2.350, 6,    0.418, 4, -999.000, 9,   2174.7, 2,   2260.6, 2,    7.5888,     25.00,   -999.0, 1,   -999.0,  -999.00, 1,   -999.0,   3.7149, 26.6285,   3.7246, 2, 6, 0.23, 0.11, 0.01, 0.015,  -999.00, 9, -999.00, -999.00, 9, -999.00
49NZ20071008, P01, P01_60, 2, 32, X12038, 2, 20071020, 0909, 46.9990, 178.2913, 5752,    201.1, 2,   3.5938, 2,  33.6704, 2,  33.6717, 2,    166.8, 2,    162.1, 2,    65.75, 2,    33.17, 2,     0.02, 2,     2.47, 2,    3.625, 2,    1.874, 2,    0.269, 2, -999.000, 9,   2228.6, 2,   2277.5, 2,    7.4735,     25.00,   -999.0, 1,   -999.0,  -999.00, 1,   -999.0,   3.5808, 26.7699,   3.5971, 2, 2, 0.26, 0.13, 0.01, 0.016,  -999.00, 9, -999.00, -999.00, 9, -999.00
49NZ20071008, P01, P01_60, 2, 31, X12003, 2, 20071020, 0909, 46.9990, 178.2913, 5752,    251.5, 2,   3.5342, 2,  33.7686, 2,  33.7657, 6,    120.2, 2,    120.6, 2,    77.36, 2,    36.73, 2,     0.02, 2,     2.69, 2,    3.041, 2,    1.559, 2,    0.230, 2, -999.000, 9,   2267.4, 2,   2287.8, 2,    7.4069,     25.00,   -999.0, 1,   -999.0,  -999.00, 1,   -999.0,   3.5179, 26.8542,   3.5332, 2, 2, 0.29, 0.14, 0.01, 0.017,  -999.00, 9, -999.00, -999.00, 9, -999.00
49NZ20071008, P01, P01_60, 2, 30, X12008, 2, 20071020, 0909, 46.9990, 178.2913, 5752,    300.9, 2,   3.4663, 2,  33.8437, 2,  33.8439, 2,     89.5, 2,     87.6, 2,    87.61, 2,    39.46, 2,     0.02, 2,     2.86, 2,    2.543, 2,    1.292, 2,    0.193, 2, -999.000, 9,   2286.7, 2,   2298.4, 2,    7.3575,     25.00,   -999.0, 1,   -999.0,  -999.00, 1,   -999.0,   3.4468, 26.9208,   3.4665, 2, 2, 0.31, 0.14, 0.01, 0.017,  -999.00, 9, -999.00, -999.00, 9, -999.00
49NZ20071008, P01, P01_60, 2, 29, X12035, 2, 20071020, 0909, 46.9990, 178.2913, 5752,    402.2, 2,   3.6883, 2,  34.0140, 2,  34.0129, 2,     48.1, 2,     55.8, 2,    99.34, 2,    41.23, 2,     0.02, 2,     2.97, 2,    1.643, 2,    0.825, 2,    0.109, 2, -999.000, 9,   2316.1, 2,   2315.9, 2,    7.3365,     25.00,   -999.0, 1,   -999.0,  -999.00, 1,   -999.0,   3.6610, 27.0358,   3.6899, 2, 2, 0.34, 0.15, 0.01, 0.017,  -999.00, 9, -999.00, -999.00, 9, -999.00
49NZ20071008, P01, P01_60, 2, 28, X12034, 2, 20071020, 0909, 46.9990, 178.2913, 5752,    501.4, 2,   3.5210, 2,  34.1056, 2,  34.1056, 6,     39.7, 2,     37.4, 2,   111.74, 2,    42.61, 2,     0.01, 2,     3.06, 2,    1.138, 2,    0.555, 2,    0.088, 2, -999.000, 9,   2336.4, 2,   2331.4, 2,    7.3220,     25.00,   -999.0, 1,   -999.0,  -999.00, 1,   -999.0,   3.4872, 27.1257,   3.5207, 2, 2, 0.36, 0.15, 0.01, 0.018,  -999.00, 9, -999.00, -999.00, 9, -999.00
49NZ20071008, P01, P01_60, 2, 27, X12049, 2, 20071020, 0909, 46.9990, 178.2913, 5752,    600.6, 2,   3.3457, 2,  34.1940, 2,  34.1941, 2,     31.1, 2,     29.3, 2,   122.19, 2,    43.10, 2,     0.01, 2,     3.10, 2,    0.729, 2,    0.353, 2,    0.052, 2, -999.000, 9,   2345.2, 2,   2346.1, 2,    7.3230,     25.00,   -999.0, 1,   -999.0,  -999.00, 1,   -999.0,   3.3055, 27.2134,   3.3453, 2, 2, 0.39, 0.15, 0.01, 0.018,  -999.00, 9, -999.00, -999.00, 9, -999.00
49NZ20071008, P01, P01_60, 2, 26, X12032, 2, 20071020, 0909, 46.9990, 178.2913, 5752,    700.6, 2,   3.2290, 2,  34.2651, 2,  34.2645, 2,     26.3, 2,     28.0, 2,   128.82, 2,    43.27, 2,     0.01, 2,     3.10, 2,    0.476, 6,    0.230, 6,    0.030, 6, -999.000, 9,   2357.8, 6,   2356.6, 2,    7.3318,     25.00,   -999.0, 1,   -999.0,  -999.00, 1,   -999.0,   3.1821, 27.2817,   3.2287, 2, 2, 0.40, 0.15, 0.01, 0.018,  -999.00, 9, -999.00, -999.00, 9, -999.00
49NZ20071008, P01, P01_60, 2, 25, X12043, 2, 20071020, 0909, 46.9990, 178.2913, 5752,    799.9, 2,   3.0763, 2,  34.3177, 2,  34.3176, 2,     27.3, 2,     27.4, 2,   134.97, 2,    43.42, 2,     0.01, 2,     3.11, 2,    0.339, 2,    0.160, 2,    0.020, 2, -999.000, 9,   2362.4, 2,   2365.4, 6,    7.3373,     25.00,   -999.0, 1,   -999.0,  -999.00, 1,   -999.0,   3.0230, 27.3383,   3.0761, 2, 2, 0.42, 0.15, 0.01, 0.018,  -999.00, 9, -999.00, -999.00, 9, -999.00
49NZ20071008, P01, P01_60, 2, 24, X12030, 2, 20071020, 0909, 46.9990, 178.2913, 5752,    898.6, 2,   2.9324, 2,  34.3620, 2,  34.3618, 2,     28.3, 2,     28.1, 2,   139.64, 2,    43.25, 2,     0.01, 2,     3.10, 2,    0.216, 2,    0.100, 2,    0.010, 2, -999.000, 9,   2371.1, 2,   2373.8, 2,    7.3460,     25.00,   -999.0, 1,   -999.0,  -999.00, 1,   -999.0,   2.8728, 27.3872,   2.9321, 2, 6, 0.43, 0.15, 0.01, 0.018,  -999.00, 9, -999.00, -999.00, 9, -999.00
49NZ20071008, P01, P01_60, 2, 23, X12027, 2, 20071020, 0909, 46.9990, 178.2913, 5752,    999.8, 2,   2.7792, 2,  34.3936, 2,  34.3936, 6,     28.8, 2,     27.1, 2,   145.44, 2,    43.47, 2,     0.01, 2,     3.12, 2,    0.156, 2,    0.074, 2,    0.006, 2, -999.000, 9,   2377.7, 2,   2379.6, 2,    7.3444,     25.00,   -999.0, 1,   -999.0,  -999.00, 1,   -999.0,   2.7132, 27.4266,   2.7789, 2, 2, 0.44, 0.15, 0.01, 0.018,  -999.00, 9, -999.00, -999.00, 9, -999.00
49NZ20071008, P01, P01_60, 2, 22, X12028, 2, 20071020, 0909, 46.9990, 178.2913, 5752,   1201.9, 2,   2.5258, 2,  34.4562, 2,  34.4551, 2,     32.1, 2,     31.2, 2,   153.09, 2,    43.44, 2,     0.01, 2,     3.11, 2,    0.073, 2,    0.038, 2,    0.008, 2, -999.000, 9,   2385.4, 2,   2391.2, 2,    7.3606,     25.00,   -999.0, 1,   -999.0,  -999.00, 1,   -999.0,   2.4468, 27.4996,   2.5258, 2, 2, 0.46, 0.15, 0.01, 0.018,  -999.00, 9, -999.00, -999.00, 9, -999.00
49NZ20071008, P01, P01_60, 2, 21, X12009, 2, 20071020, 0909, 46.9990, 178.2913, 5752,   1403.0, 2,   2.3287, 2,  34.4987, 2,  34.4977, 2,     37.9, 2,     37.0, 2,   158.52, 2,    43.31, 2,     0.01, 2,     3.08, 2,    0.037, 2,    0.015, 2,    0.000, 2, -999.000, 9,   2384.3, 2,   2398.2, 2,    7.3734,     25.00,   -999.0, 1,   -999.0,  -999.00, 1,   -999.0,   2.2363, 27.5510,   2.3286, 2, 2, 0.47, 0.15, 0.01, 0.018,  -999.00, 9, -999.00, -999.00, 9, -999.00
49NZ20071008, P01, P01_60, 2, 20, X12026, 2, 20071020, 0909, 46.9990, 178.2913, 5752,   1603.2, 2,   2.1539, 2,  34.5376, 2,  34.5368, 2,     46.3, 2,     46.3, 2,   162.49, 2,    42.65, 2,     0.01, 2,     3.03, 2,    0.021, 2,    0.007, 2,    0.000, 2, -999.000, 9,   2386.5, 2,   2403.9, 2,    7.3935,     25.00,   -999.0, 1,   -999.0,  -999.00, 1,   -999.0,   2.0479, 27.5974,   2.1538, 2, 6, 0.48, 0.15, 0.01, 0.018,  -999.00, 9, -999.00, -999.00, 9, -999.00
49NZ20071008, P01, P01_60, 2, 19, X12025, 2, 20071020, 0909, 46.9990, 178.2913, 5752,   1799.0, 2,   2.0123, 2,  34.5694, 2,  34.5685, 2,     56.0, 2,     58.1, 2,   164.28, 2,    42.07, 2,     0.01, 2,     2.98, 2,    0.006, 2,    0.002, 2,    0.000, 2, -999.000, 9,   2384.5, 2,   2409.2, 2,    7.4209,     25.00,   -999.0, 1,   -999.0,  -999.00, 1,   -999.0,   1.8924, 27.6351,   2.0123, 2, 2, 0.48, 0.15, 0.01, 0.017,  -999.00, 9, -999.00, -999.00, 9, -999.00
49NZ20071008, P01, P01_60, 2, 18, X12024, 2, 20071020, 0909, 46.9990, 178.2913, 5752,   1999.8, 2,   1.9030, 2,  34.5917, 2,  34.5911, 2,     67.0, 2,     66.6, 2,   166.10, 2,    41.55, 2,     0.01, 2,     2.95, 2,    0.000, 2,    0.000, 2,    0.000, 2, -999.000, 9,   2378.2, 2,   2412.8, 2,    7.4380,     25.00,   -999.0, 1,   -999.0,  -999.00, 1,   -999.0,   1.7682, 27.6625,   1.9031, 2, 2, 0.48, 0.15, 0.01, 0.017,  -999.00, 9, -999.00, -999.00, 9, -999.00
49NZ20071008, P01, P01_60, 2, 17, X12023, 2, 20071020, 0909, 46.9990, 178.2913, 5752,   2199.2, 2,   1.7959, 2,  34.6122, 2,  34.6119, 2,     78.4, 2,     78.8, 2,   166.79, 2,    40.75, 2,     0.01, 2,     2.89, 2,    0.000, 2,    0.000, 2,    0.000, 2, -999.000, 9,   2375.5, 2,   2415.4, 2,    7.4591,     25.00,   -999.0, 1,   -999.0,  -999.00, 1,   -999.0,   1.6459, 27.6882,   1.7958, 2, 2, 0.49, 0.15, 0.01, 0.017,  -999.00, 9, -999.00, -999.00, 9, -999.00
49NZ20071008, P01, P01_60, 2, 16, X12022, 2, 20071020, 0909, 46.9990, 178.2913, 5752,   2398.4, 2,   1.7153, 2,  34.6293, 2,  34.6290, 2,     90.6, 2,     91.5, 2,   164.99, 2,    39.95, 2,     0.01, 2,     2.83, 2,    0.000, 2,    0.000, 2,    0.000, 2, -999.000, 9,   2367.3, 2,   2416.7, 2,    7.4849,     25.00,   -999.0, 1,   -999.0,  -999.00, 1,   -999.0,   1.5494, 27.7090,   1.7154, 2, 2, 0.48, 0.14, 0.01, 0.017,  -999.00, 9, -999.00, -999.00, 9, -999.00
49NZ20071008, P01, P01_60, 2, 15, X12021, 2, 20071020, 0909, 46.9990, 178.2913, 5752,   2599.4, 2,   1.6555, 2,  34.6411, 2,  34.6403, 6,    101.0, 2,    100.9, 2,   163.56, 2,    39.41, 2,     0.01, 2,     2.78, 2, -999.000, 9, -999.000, 9, -999.000, 9, -999.000, 9,   2354.1, 3,   2418.0, 6,    7.5015,     25.00,   -999.0, 1,   -999.0,  -999.00, 1,   -999.0,   1.4728, 27.7241,   1.6555, 2, 2, 0.48, 0.14, 0.01, 0.017,  -999.00, 9, -999.00, -999.00, 9, -999.00
49NZ20071008, P01, P01_60, 2, 14, X12020, 2, 20071020, 0909, 46.9990, 178.2913, 5752,   2800.9, 2,   1.5985, 2,  34.6518, 2,  34.6514, 2,    110.6, 2,    110.9, 2,   161.73, 2,    38.74, 2,     0.01, 2,     2.73, 2,    0.000, 2,    0.000, 2,    0.000, 2, -999.000, 9,   2355.5, 2,   2417.9, 2,    7.5191,     25.00,   -999.0, 1,   -999.0,  -999.00, 1,   -999.0,   1.3984, 27.7381,   1.5984, 2, 6, 0.47, 0.14, 0.01, 0.017,  -999.00, 9, -999.00, -999.00, 9, -999.00
49NZ20071008, P01, P01_60, 2, 13, X12019, 2, 20071020, 0909, 46.9990, 178.2913, 5752,   3001.3, 2,   1.5613, 2,  34.6595, 2,  34.6586, 2,    119.0, 2,    118.3, 2,   160.56, 2,    38.29, 2,     0.01, 2,     2.70, 2, -999.000, 9, -999.000, 9, -999.000, 9, -999.000, 9,   2350.4, 2,   2418.7, 2,    7.5344,     25.00,   -999.0, 1,   -999.0,  -999.00, 1,   -999.0,   1.3431, 27.7482,   1.5615, 2, 2, 0.47, 0.14, 0.01, 0.017,  -999.00, 9, -999.00, -999.00, 9, -999.00
49NZ20071008, P01, P01_60, 2, 12, X12040, 2, 20071020, 0909, 46.9990, 178.2913, 5752,   3251.3, 2,   1.5231, 2,  34.6672, 2,  34.6668, 2,    129.5, 2,    127.6, 2,   157.82, 2,    37.59, 2,     0.01, 2,     2.65, 2, -999.000, 9, -999.000, 9, -999.000, 9, -999.000, 9,   2339.1, 3,   2419.9, 2,    7.5490,     25.00,   -999.0, 1,   -999.0,  -999.00, 1,   -999.0,   1.2815, 27.7587,   1.5232, 2, 2, 0.47, 0.14, 0.01, 0.017,  -999.00, 9, -999.00, -999.00, 9, -999.00
49NZ20071008, P01, P01_60, 2, 11, X12047, 2, 20071020, 0909, 46.9990, 178.2913, 5752,   3500.5, 2,   1.4992, 2,  34.6733, 2,  34.6726, 2,    133.9, 2,    134.1, 2,   156.31, 2,    37.32, 2,     0.01, 2,     2.61, 2,    0.000, 2,    0.000, 2,    0.000, 2, -999.000, 9,   2337.4, 2,   2420.3, 2,    7.5612,     25.00,   -999.0, 1,   -999.0,  -999.00, 1,   -999.0,   1.2331, 27.7670,   1.4992, 2, 2, 0.46, 0.14, 0.01, 0.016,  -999.00, 9, -999.00, -999.00, 9, -999.00
49NZ20071008, P01, P01_60, 2, 10, X12010, 2, 20071020, 0909, 46.9990, 178.2913, 5752,   3751.7, 2,   1.4810, 2,  34.6785, 2,  34.6779, 2,    140.4, 2,    140.5, 2,   154.75, 2,    36.79, 2,     0.01, 2,     2.58, 2, -999.000, 9, -999.000, 9, -999.000, 9, -999.000, 9,   2335.5, 3,   2418.9, 2,    7.5721,     25.00,   -999.0, 1,   -999.0,  -999.00, 1,   -999.0,   1.1893, 27.7742,   1.4810, 2, 2, 0.46, 0.14, 0.01, 0.016,  -999.00, 9, -999.00, -999.00, 9, -999.00
49NZ20071008, P01, P01_60, 2, 9, X12015, 2, 20071020, 0909, 46.9990, 178.2913, 5752,   3999.8, 2,   1.4717, 2,  34.6826, 2,  34.6823, 2,    146.0, 2,    145.4, 2,   154.34, 2,    36.57, 2,     0.01, 2,     2.55, 2, -999.000, 9, -999.000, 9, -999.000, 9, -999.000, 9,   2327.4, 2,   2418.6, 2,    7.5813,     25.00,   -999.0, 1,   -999.0,  -999.00, 1,   -999.0,   1.1536, 27.7800,   1.4718, 2, 2, 0.46, 0.14, 0.01, 0.016,  -999.00, 9, -999.00, -999.00, 9, -999.00
49NZ20071008, P01, P01_60, 2, 8, X12046, 2, 20071020, 0909, 46.9990, 178.2913, 5752,   4253.8, 2,   1.4734, 2,  34.6857, 2,  34.6852, 6,    149.5, 2,    149.2, 2,   154.03, 2,    36.34, 2,     0.01, 2,     2.54, 2,    0.000, 2,    0.000, 2,    0.000, 2, -999.000, 9,   2327.6, 2,   2420.2, 2,    7.5887,     25.00,   -999.0, 1,   -999.0,  -999.00, 1,   -999.0,   1.1272, 27.7842,   1.4734, 2, 2, 0.46, 0.13, 0.01, 0.016,  -999.00, 9, -999.00, -999.00, 9, -999.00
49NZ20071008, P01, P01_60, 2, 7, X12044, 2, 20071020, 0909, 46.9990, 178.2913, 5752,   4499.4, 2,   1.4868, 2,  34.6875, 2,  34.6869, 2,    151.5, 2,    151.4, 2,   154.14, 2,    36.03, 2,     0.01, 2,     2.52, 2, -999.000, 9, -999.000, 9, -999.000, 9, -999.000, 9,   2327.0, 2,   2419.6, 2,    7.5926,     25.00,   -999.0, 1,   -999.0,  -999.00, 1,   -999.0,   1.1123, 27.7867,   1.4869, 2, 2, 0.46, 0.13, 0.01, 0.016,  -999.00, 9, -999.00, -999.00, 9, -999.00
49NZ20071008, P01, P01_60, 2, 6, X12048, 2, 20071020, 0909, 46.9990, 178.2913, 5752,   4753.6, 2,   1.5106, 2,  34.6884, 2,  34.6881, 2,    152.1, 2,    152.4, 2,   154.85, 2,    36.06, 2,     0.01, 2,     2.52, 2, -999.000, 9, -999.000, 9, -999.000, 9, -999.000, 9,   2329.2, 2,   2417.4, 3,    7.5950,     25.00,   -999.0, 1,   -999.0,  -999.00, 1,   -999.0,   1.1056, 27.7879,   1.5108, 2, 6, 0.46, 0.13, 0.01, 0.016,  -999.00, 9, -999.00, -999.00, 9, -999.00
49NZ20071008, P01, P01_60, 2, 5, X12014, 2, 20071020, 0909, 46.9990, 178.2913, 5752,   5000.4, 2,   1.5376, 2,  34.6890, 2,  34.6887, 2,    152.8, 2,    152.4, 2,   156.23, 2,    36.07, 2,     0.01, 2,     2.52, 2,    0.000, 2,    0.000, 2,    0.000, 2, -999.000, 9,   2328.1, 2,   2419.8, 2,    7.5970,     25.00,   -999.0, 1,   -999.0,  -999.00, 1,   -999.0,   1.1020, 27.7886,   1.5378, 2, 2, 0.46, 0.13, 0.01, 0.016,  -999.00, 9, -999.00, -999.00, 9, -999.00
49NZ20071008, P01, P01_60, 2, 4, X12006, 2, 20071020, 0909, 46.9990, 178.2913, 5752,   5249.6, 2,   1.5672, 2,  34.6893, 2,  34.6892, 2,    153.2, 2,    152.9, 2,   156.56, 2,    36.15, 2,     0.01, 2,     2.51, 2, -999.000, 9, -999.000, 9, -999.000, 9, -999.000, 9,   2327.0, 2,   2420.0, 2,    7.5961,     25.00,   -999.0, 1,   -999.0,  -999.00, 1,   -999.0,   1.0999, 27.7890,   1.5673, 2, 2, 0.46, 0.13, 0.01, 0.016,  -999.00, 9, -999.00, -999.00, 9, -999.00
49NZ20071008, P01, P01_60, 2, 3, X12013, 2, 20071020, 0909, 46.9990, 178.2913, 5752,   5497.6, 2,   1.5973, 2,  34.6894, 2,  34.6892, 2,    153.8, 2,    153.6, 2,   155.84, 2,    36.06, 2,     0.01, 2,     2.51, 2, -999.000, 9, -999.000, 9, -999.000, 9, -999.000, 9,   2324.4, 2,   2419.9, 2,    7.5960,     25.00,   -999.0, 1,   -999.0,  -999.00, 1,   -999.0,   1.0975, 27.7892,   1.5973, 2, 2, 0.46, 0.13, 0.01, 0.016,  -999.00, 9, -999.00, -999.00, 9, -999.00
49NZ20071008, P01, P01_60, 2, 2, X12002, 2, 20071020, 0909, 46.9990, 178.2913, 5752,   5749.6, 2,   1.6280, 2,  34.6896, 2,  34.6898, 2,    154.6, 2,    154.4, 2,   154.43, 2,    35.91, 2,     0.00, 2,     2.51, 2,    0.000, 2,    0.000, 2,    0.000, 2, -999.000, 9,   2325.9, 2,   2418.9, 2,    7.5981,     25.00,   -999.0, 1,   -999.0,  -999.00, 1,   -999.0,   1.0944, 27.7896,   1.6281, 2, 2, 0.46, 0.13, 0.01, 0.016,  -999.00, 9, -999.00, -999.00, 9, -999.00
49NZ20071008, P01, P01_60, 2, 1, X12001, 2, 20071020, 0909, 46.9990, 178.2913, 5752,   5862.4, 2,   1.6434, 2,  34.6894, 2,  34.6898, 6,    154.4, 2,    154.4, 2,   154.67, 2,    36.03, 2,     0.01, 2,     2.51, 2,    0.000, 2,    0.000, 2,    0.000, 2, -999.000, 9,   2325.0, 2,   2420.8, 3,    7.5971,     25.00,   -999.0, 1,   -999.0,  -999.00, 1,   -999.0,   1.0943, 27.7895,   1.6432, 2, 2, 0.46, 0.13, 0.01, 0.016,  -999.00, 9, -999.00, -999.00, 9, -999.00