BOTTLE,20221005CCHSIOAMB
EXPOCODE,SECT_ID,STNNBR,CASTNO,SAMPNO,BTLNBR,BTLNBR_FLAG_W,DATE,TIME,LATITUDE,LONGITUDE,DEPTH,CTDPRS,CTDPRS_FLAG_W,CTDTMP,CTDTMP_FLAG_W,CTDSAL,CTDSAL_FLAG_W,SALNTY,SALNTY_FLAG_W,CTDOXY,CTDOXY_FLAG_W,OXYGEN,OXYGEN_FLAG_W,SILCAT,SILCAT_FLAG_W,NITRAT,NITRAT_FLAG_W,NITRIT,NITRIT_FLAG_W,PHSPHT,PHSPHT_FLAG_W,CFC-11,CFC-11_FLAG_W,CFC-12,CFC-12_FLAG_W,CFC113,CFC113_FLAG_W,CCL4,CCL4_FLAG_W,TCARBN,TCARBN_FLAG_W,ALKALI,ALKALI_FLAG_W,PH_TOT,PH_TMP,DELC14,DELC14_FLAG_W,C14ERR,DELC13,DELC13_FLAG_W,C13ERR,THETA,SIG0,SBE35,SBE35_FLAG_W,PH_TOT_FLAG_W,SILUNC,NRAUNC,NRIUNC,PHPUNC,CS-137,CS-137_FLAG_W,CS137ER,PLUTO,PLUTO_FLAG_W,PLUTOER
,,,,,,,,,,,METERS,DBAR,,ITS-90,,PSS-78,,PSS-78,,UMOL/KG,,UMOL/KG,,UMOL/KG,,UMOL/KG,,UMOL/KG,,UMOL/KG,,PMOL/KG,,PMOL/KG,,PMOL/KG,,PMOL/KG,,UMOL/KG,,UMOL/KG,,,DEG C,/MILLE,,/MILLE,/MILLE,,/MILLE,DEG C,KG/M^3,ITS-90,,,UMOL/KG,UMOL/KG,UMOL/KG,UMOL/KG,DM/.1MG,,BQ/M^3,MBQ/M^3,,MBQ/M^3
49NZ20071008, P01, P01_44, 2, 36, X12042, 2, 20071016, 0300, 46.9842, 166.7428, 5930,     10.2, 2,   8.4965, 2,  32.6983, 2,  32.6981, 2,    291.9, 2,    292.3, 2,    24.34, 2,    14.30, 2,     0.24, 2,     1.39, 2,    3.959, 2,    2.177, 2,    0.377, 2, -999.000, 9,   2046.8, 2,   2214.6, 2,    7.8344,     25.00,   -999.0, 9,   -999.0,  -999.00, 9,   -999.0,   8.4955, 25.3933,   8.4962, 2, 6, 0.17, 0.07, 0.01, 0.014,  -999.00, 9, -999.00, -999.00, 9, -999.00
49NZ20071008, P01, P01_44, 2, 35, X12041, 2, 20071016, 0300, 46.9842, 166.7428, 5930,     50.0, 2,   8.5339, 2,  32.7489, 2,  32.7503, 2,    278.5, 2,    289.9, 2,    27.41, 2,    15.62, 2,     0.26, 2,     1.47, 2,    3.950, 2,    2.166, 2,    0.379, 2, -999.000, 9,   2046.9, 6,   2218.9, 2,    7.8298,     25.00,   -999.0, 9,   -999.0,  -999.00, 9,   -999.0,   8.5289, 25.4280,   8.5322, 2, 2, 0.18, 0.08, 0.01, 0.014,  -999.00, 9, -999.00, -999.00, 9, -999.00
49NZ20071008, P01, P01_44, 2, 34, X12016, 2, 20071016, 0300, 46.9842, 166.7428, 5930,    100.5, 2,   2.8873, 2,  33.0663, 2,  33.0670, 2,    309.9, 2,    312.2, 2,    46.29, 2,    26.15, 2,     0.02, 2,     2.06, 2,    5.341, 2,    2.863, 2,    0.485, 2, -999.000, 9,   2128.9, 2,   2236.0, 6,    7.6625,     25.00,   -999.0, 9,   -999.0,  -999.00, 9,   -999.0,   2.8815, 26.3519,   2.8876, 2, 2, 0.22, 0.11, 0.01, 0.015,  -999.00, 9, -999.00, -999.00, 9, -999.00
49NZ20071008, P01, P01_44, 2, 33, X12033, 2, 20071016, 0300, 46.9842, 166.7428, 5930,    150.9, 2,   3.3209, 2,  33.2618, 2,  33.2785, 2,    225.3, 2,    239.1, 2,    58.27, 2,    31.09, 2,     0.02, 2,     2.35, 2,    4.374, 6,    2.311, 6,    0.355, 6, -999.000, 9,   2177.0, 2,   2251.3, 2,    7.5555,     25.00,   -999.0, 9,   -999.0,  -999.00, 9,   -999.0,   3.3116, 26.4696,   3.3222, 2, 2, 0.25, 0.12, 0.01, 0.016,  -999.00, 9, -999.00, -999.00, 9, -999.00
49NZ20071008, P01, P01_44, 2, 32, X12038, 2, 20071016, 0300, 46.9842, 166.7428, 5930,    199.7, 2,   4.0368, 2,  33.6034, 2,  33.6063, 2,    118.1, 2,    126.9, 2,    74.76, 2,    37.46, 2,     0.02, 2,     2.71, 2,    3.023, 2,    1.533, 2,    0.210, 2, -999.000, 9,   2251.5, 2,   2276.0, 2,    7.4105,     25.00,   -999.0, 9,   -999.0,  -999.00, 9,   -999.0,   4.0232, 26.6728,   4.0375, 2, 2, 0.28, 0.14, 0.01, 0.017,  -999.00, 9, -999.00, -999.00, 9, -999.00
49NZ20071008, P01, P01_44, 2, 31, X12003, 2, 20071016, 0300, 46.9842, 166.7428, 5930,    249.1, 2,   3.9328, 2,  33.7602, 2,  33.7600, 6,     73.7, 2,     82.6, 2,    82.81, 2,    40.43, 2,     0.01, 2,     2.90, 2,    2.515, 2,    1.250, 2,    0.176, 2, -999.000, 9,   2290.9, 2,   2289.6, 2,    7.3473,     25.00,   -999.0, 9,   -999.0,  -999.00, 9,   -999.0,   3.9158, 26.8084,   3.9344, 2, 2, 0.30, 0.15, 0.01, 0.017,  -999.00, 9, -999.00, -999.00, 9, -999.00
49NZ20071008, P01, P01_44, 2, 30, X12008, 2, 20071016, 0300, 46.9842, 166.7428, 5930,    283.2, 2,   3.8314, 2,  33.8234, 2,  33.8189, 2,     51.9, 2,     65.4, 2,    87.21, 2,    41.79, 2,     0.01, 2,     2.98, 2,    2.332, 2,    1.146, 2,    0.166, 2, -999.000, 9,   2301.1, 2,   2294.5, 2,    7.3221,     25.00,   -999.0, 9,   -999.0,  -999.00, 9,   -999.0,   3.8122, 26.8691,   3.8313, 2, 2, 0.31, 0.15, 0.01, 0.017,  -999.00, 9, -999.00, -999.00, 9, -999.00
49NZ20071008, P01, P01_44, 2, 29, X12035, 2, 20071016, 0300, 46.9842, 166.7428, 5930,    368.8, 2,   3.8359, 2,  33.9795, 2,  33.9813, 2,     27.8, 2,     30.0, 2,    99.00, 2,    43.97, 2,     0.01, 2,     3.13, 2,    1.523, 2,    0.728, 2,    0.093, 2, -999.000, 9,   2329.0, 2,   2312.7, 2,    7.2854,     25.00,   -999.0, 9,   -999.0,  -999.00, 9,   -999.0,   3.8106, 26.9935,   3.8364, 2, 2, 0.34, 0.16, 0.01, 0.018,  -999.00, 9, -999.00, -999.00, 9, -999.00
49NZ20071008, P01, P01_44, 2, 28, X12034, 2, 20071016, 0300, 46.9842, 166.7428, 5930,    470.7, 2,   3.6838, 2,  34.0922, 2,  34.0919, 6,     20.1, 2,     19.5, 2,   109.61, 2,    44.49, 2,     0.01, 2,     3.16, 2,    0.981, 2,    0.462, 2,    0.062, 2, -999.000, 9,   2347.0, 2,   2328.7, 2,    7.2878,     25.00,   -999.0, 9,   -999.0,  -999.00, 9,   -999.0,   3.6516, 27.0990,   3.6822, 2, 2, 0.36, 0.16, 0.01, 0.018,  -999.00, 9, -999.00, -999.00, 9, -999.00
49NZ20071008, P01, P01_44, 2, 27, X12049, 2, 20071016, 0300, 46.9842, 166.7428, 5930,    570.5, 2,   3.4994, 2,  34.1790, 2,  34.1803, 2,     17.6, 2,     16.9, 2,   119.63, 2,    44.25, 2,     0.01, 2,     3.15, 2,    0.617, 2,    0.291, 2,    0.033, 2, -999.000, 9,   2355.7, 2,   2342.8, 2,    7.3007,     25.00,   -999.0, 9,   -999.0,  -999.00, 9,   -999.0,   3.4607, 27.1867,   3.4994, 2, 2, 0.38, 0.16, 0.01, 0.018,  -999.00, 9, -999.00, -999.00, 9, -999.00
49NZ20071008, P01, P01_44, 2, 26, X12032, 2, 20071016, 0300, 46.9842, 166.7428, 5930,    671.6, 2,   3.3187, 2,  34.2472, 2,  34.2471, 2,     16.9, 2,     16.7, 2,   127.24, 2,    44.27, 2,     0.01, 2,     3.15, 2,    0.397, 6,    0.186, 6,    0.023, 6, -999.000, 9,   2366.0, 2,   2354.8, 2,    7.3105,     25.00,   -999.0, 9,   -999.0,  -999.00, 9,   -999.0,   3.2734, 27.2589,   3.3185, 2, 2, 0.40, 0.16, 0.01, 0.018,  -999.00, 9, -999.00, -999.00, 9, -999.00
49NZ20071008, P01, P01_44, 2, 25, X12043, 2, 20071016, 0300, 46.9842, 166.7428, 5930,    770.8, 2,   3.1490, 2,  34.2931, 2,  34.2927, 2,     16.7, 2,     16.7, 2,   133.88, 2,    44.14, 2,     0.01, 2,     3.15, 2,    0.292, 2,    0.138, 2,    0.019, 2, -999.000, 9,   2370.8, 2,   2362.8, 6,    7.3157,     25.00,   -999.0, 9,   -999.0,  -999.00, 9,   -999.0,   3.0974, 27.3119,   3.1489, 2, 2, 0.41, 0.16, 0.01, 0.018,  -999.00, 9, -999.00, -999.00, 9, -999.00
49NZ20071008, P01, P01_44, 2, 24, X12030, 2, 20071016, 0300, 46.9842, 166.7428, 5930,    872.4, 2,   2.9710, 2,  34.3269, 2,  34.3258, 2,     20.3, 2,     22.2, 2,   138.85, 2,    43.76, 2,     0.01, 2,     3.14, 2,    0.286, 2,    0.135, 2,    0.016, 2, -999.000, 9,   2372.1, 3,   2369.4, 2,    7.3293,     25.00,   -999.0, 9,   -999.0,  -999.00, 9,   -999.0,   2.9131, 27.3556,   2.9708, 2, 6, 0.42, 0.16, 0.01, 0.018,  -999.00, 9, -999.00, -999.00, 9, -999.00
49NZ20071008, P01, P01_44, 2, 23, X12027, 2, 20071016, 0300, 46.9842, 166.7428, 5930,    972.8, 2,   2.8382, 2,  34.3766, 2,  34.3755, 6,     19.3, 2,     19.7, 2,   144.57, 2,    44.06, 2,     0.01, 2,     3.15, 2,    0.147, 2,    0.073, 2,    0.008, 2, -999.000, 9,   2382.2, 2,   2378.0, 2,    7.3335,     25.00,   -999.0, 9,   -999.0,  -999.00, 9,   -999.0,   2.7738, 27.4077,   2.8383, 2, 2, 0.44, 0.16, 0.01, 0.018,  -999.00, 9, -999.00, -999.00, 9, -999.00
49NZ20071008, P01, P01_44, 2, 22, X12028, 2, 20071016, 0300, 46.9842, 166.7428, 5930,   1133.5, 2,   2.6011, 2,  34.4335, 2,  34.4314, 2,     24.5, 2,     24.6, 2,   151.45, 2,    43.86, 2,     0.01, 2,     3.13, 2,    0.084, 2,    0.038, 2,    0.005, 2, -999.000, 9,   2382.3, 3,   2388.3, 2,    7.3474,     25.00,   -999.0, 9,   -999.0,  -999.00, 9,   -999.0,   2.5266, 27.4746,   2.6018, 2, 2, 0.45, 0.16, 0.01, 0.018,  -999.00, 9, -999.00, -999.00, 9, -999.00
49NZ20071008, P01, P01_44, 2, 21, X12009, 2, 20071016, 0300, 46.9842, 166.7428, 5930,   1331.5, 2,   2.3540, 2,  34.4879, 2,  34.4881, 2,     31.8, 2,     32.0, 2,   158.35, 2,    43.34, 2,     0.01, 2,     3.10, 2,    0.048, 2,    0.021, 2,    0.011, 2, -999.000, 9,   2387.1, 2,   2397.8, 2,    7.3629,     25.00,   -999.0, 9,   -999.0,  -999.00, 9,   -999.0,   2.2669, 27.5399,   2.3539, 2, 2, 0.47, 0.15, 0.01, 0.018,  -999.00, 9, -999.00, -999.00, 9, -999.00
49NZ20071008, P01, P01_44, 2, 20, X12026, 2, 20071016, 0300, 46.9842, 166.7428, 5930,   1533.9, 2,   2.1722, 2,  34.5298, 2,  34.5297, 2,     42.3, 2,     42.3, 2,   162.98, 2,    42.89, 2,     0.01, 2,     3.05, 2,    0.022, 2,    0.010, 2,    0.000, 2, -999.000, 9,   2387.6, 2,   2404.5, 2,    7.3874,     25.00,   -999.0, 9,   -999.0,  -999.00, 9,   -999.0,   2.0714, 27.5893,   2.1722, 2, 6, 0.48, 0.15, 0.01, 0.018,  -999.00, 9, -999.00, -999.00, 9, -999.00
49NZ20071008, P01, P01_44, 2, 19, X12025, 2, 20071016, 0300, 46.9842, 166.7428, 5930,   1731.1, 2,   2.0267, 2,  34.5629, 2,  34.5626, 2,     53.7, 2,     53.6, 2,   165.17, 2,    42.39, 2,     0.01, 2,     3.00, 2,    0.015, 2,    0.007, 2,    0.000, 2, -999.000, 9,   2380.8, 2,   2409.3, 2,    7.4091,     25.00,   -999.0, 9,   -999.0,  -999.00, 9,   -999.0,   1.9121, 27.6283,   2.0266, 2, 2, 0.48, 0.15, 0.01, 0.017,  -999.00, 9, -999.00, -999.00, 9, -999.00
49NZ20071008, P01, P01_44, 2, 18, X12024, 2, 20071016, 0300, 46.9842, 166.7428, 5930,   1931.0, 2,   1.9030, 2,  34.5894, 2,  34.5893, 2,     64.3, 2,     66.1, 2,   166.12, 2,    41.55, 2,     0.01, 2,     2.95, 2,    0.010, 2,    0.002, 2,    0.000, 2, -999.000, 9,   2373.8, 2,   2413.2, 2,    7.4359,     25.00,   -999.0, 9,   -999.0,  -999.00, 9,   -999.0,   1.7739, 27.6603,   1.9030, 2, 2, 0.48, 0.15, 0.01, 0.017,  -999.00, 9, -999.00, -999.00, 9, -999.00
49NZ20071008, P01, P01_44, 2, 17, X12023, 2, 20071016, 0300, 46.9842, 166.7428, 5930,   2130.9, 2,   1.7966, 2,  34.6122, 2,  34.6123, 2,     76.6, 2,     81.0, 2,   164.55, 2,    40.64, 2,     0.01, 2,     2.87, 2,    0.004, 2,    0.004, 2,    0.000, 2, -999.000, 9,   2366.7, 2,   2416.0, 2,    7.4644,     25.00,   -999.0, 9,   -999.0,  -999.00, 9,   -999.0,   1.6524, 27.6877,   1.7966, 2, 2, 0.48, 0.15, 0.01, 0.017,  -999.00, 9, -999.00, -999.00, 9, -999.00
49NZ20071008, P01, P01_44, 2, 16, X12022, 2, 20071016, 0300, 46.9842, 166.7428, 5930,   2330.9, 2,   1.7300, 2,  34.6271, 2,  34.6268, 2,     90.7, 2,     92.2, 2,   162.59, 2,    39.90, 2,     0.01, 2,     2.83, 2,    0.006, 2,    0.000, 2,    0.000, 2, -999.000, 9,   2361.7, 2,   2417.9, 2,    7.4853,     25.00,   -999.0, 9,   -999.0,  -999.00, 9,   -999.0,   1.5698, 27.7058,   1.7299, 2, 2, 0.48, 0.14, 0.01, 0.017,  -999.00, 9, -999.00, -999.00, 9, -999.00
49NZ20071008, P01, P01_44, 2, 15, X12021, 2, 20071016, 0300, 46.9842, 166.7428, 5930,   2531.7, 2,   1.6643, 2,  34.6399, 2,  34.6400, 2,    101.8, 2,    102.6, 2,   160.95, 2,    39.30, 2,     0.01, 2,     2.78, 2,    0.002, 2,    0.002, 2,    0.000, 2, -999.000, 9,   2356.3, 2,   2418.1, 6,    7.5053,     25.00,   -999.0, 9,   -999.0,  -999.00, 9,   -999.0,   1.4875, 27.7221,   1.6644, 2, 2, 0.47, 0.14, 0.01, 0.017,  -999.00, 9, -999.00, -999.00, 9, -999.00
49NZ20071008, P01, P01_44, 2, 14, X12020, 2, 20071016, 0300, 46.9842, 166.7428, 5930,   2730.9, 2,   1.6098, 2,  34.6503, 2,  34.6501, 6,    110.3, 2,    112.1, 2,   159.08, 2,    38.72, 2,     0.01, 2,     2.73, 2, -999.000, 9, -999.000, 9, -999.000, 9, -999.000, 9,   2349.7, 2,   2419.0, 2,    7.5230,     25.00,   -999.0, 9,   -999.0,  -999.00, 9,   -999.0,   1.4160, 27.7356,   1.6098, 2, 6, 0.47, 0.14, 0.01, 0.017,  -999.00, 9, -999.00, -999.00, 9, -999.00
49NZ20071008, P01, P01_44, 2, 13, X12019, 2, 20071016, 0300, 46.9842, 166.7428, 5930,   2929.6, 2,   1.5711, 2,  34.6579, 2,  34.6581, 2,    118.0, 2,    119.7, 2,   157.30, 2,    38.25, 2,     0.01, 2,     2.69, 2, -999.000, 9, -999.000, 9, -999.000, 9, -999.000, 9,   2345.2, 2,   2418.7, 2,    7.5366,     25.00,   -999.0, 9,   -999.0,  -999.00, 9,   -999.0,   1.3595, 27.7458,   1.5711, 2, 2, 0.47, 0.14, 0.01, 0.017,  -999.00, 9, -999.00, -999.00, 9, -999.00
49NZ20071008, P01, P01_44, 2, 12, X12040, 2, 20071016, 0300, 46.9842, 166.7428, 5930,   3171.7, 2,   1.5304, 2,  34.6658, 2,  34.6661, 2,    127.2, 2,    128.3, 2,   155.11, 2,    37.56, 2,     0.01, 2,     2.64, 2,    0.000, 2,    0.000, 2,    0.000, 2, -999.000, 9,   2339.1, 2,   2418.2, 2,    7.5521,     25.00,   -999.0, 9,   -999.0,  -999.00, 9,   -999.0,   1.2964, 27.7565,   1.5303, 2, 2, 0.46, 0.14, 0.01, 0.017,  -999.00, 9, -999.00, -999.00, 9, -999.00
49NZ20071008, P01, P01_44, 2, 11, X12047, 2, 20071016, 0300, 46.9842, 166.7428, 5930,   3421.2, 2,   1.5007, 2,  34.6722, 2,  34.6722, 2,    134.6, 2,    135.6, 2,   153.42, 2,    37.22, 2,     0.01, 2,     2.61, 2, -999.000, 9, -999.000, 9, -999.000, 9, -999.000, 9,   2334.0, 2,   2419.2, 2,    7.5653,     25.00,   -999.0, 9,   -999.0,  -999.00, 9,   -999.0,   1.2426, 27.7655,   1.5007, 2, 2, 0.46, 0.14, 0.01, 0.016,  -999.00, 9, -999.00, -999.00, 9, -999.00
49NZ20071008, P01, P01_44, 2, 10, X12010, 2, 20071016, 0300, 46.9842, 166.7428, 5930,   3669.8, 2,   1.4873, 2,  34.6769, 2,  34.6769, 2,    140.2, 2,    141.0, 2,   151.91, 2,    36.88, 2,     0.01, 2,     2.58, 2, -999.000, 9, -999.000, 9, -999.000, 9, -999.000, 9,   2330.1, 2,   2418.4, 2,    7.5738,     25.00,   -999.0, 9,   -999.0,  -999.00, 9,   -999.0,   1.2040, 27.7719,   1.4873, 2, 2, 0.45, 0.14, 0.01, 0.016,  -999.00, 9, -999.00, -999.00, 9, -999.00
49NZ20071008, P01, P01_44, 2, 9, X12015, 2, 20071016, 0300, 46.9842, 166.7428, 5930,   3918.6, 2,   1.4806, 2,  34.6805, 2,  34.6803, 2,    144.5, 2,    145.2, 2,   150.90, 2,    36.55, 2,     0.01, 2,     2.56, 2,    0.000, 2,    0.002, 2,    0.000, 2, -999.000, 9,   2329.5, 2,   2418.4, 2,    7.5818,     25.00,   -999.0, 9,   -999.0,  -999.00, 9,   -999.0,   1.1711, 27.7770,   1.4809, 2, 2, 0.45, 0.14, 0.01, 0.016,  -999.00, 9, -999.00, -999.00, 9, -999.00
49NZ20071008, P01, P01_44, 2, 8, X12046, 2, 20071016, 0300, 46.9842, 166.7428, 5930,   4170.8, 2,   1.4829, 2,  34.6831, 2,  34.6829, 2,    148.0, 2,    148.8, 2,   149.94, 2,    36.37, 2,     0.01, 2,     2.54, 2, -999.000, 9, -999.000, 9, -999.000, 9, -999.000, 9,   2324.4, 6,   2417.8, 2,    7.5866,     25.00,   -999.0, 9,   -999.0,  -999.00, 9,   -999.0,   1.1457, 27.7809,   1.4830, 2, 2, 0.45, 0.13, 0.01, 0.016,  -999.00, 9, -999.00, -999.00, 9, -999.00
49NZ20071008, P01, P01_44, 2, 7, X12044, 2, 20071016, 0300, 46.9842, 166.7428, 5930,   4420.1, 2,   1.4903, 2,  34.6855, 2,  34.6854, 6,    151.1, 2,    151.7, 2,   149.23, 2,    36.17, 2,     0.01, 2,     2.53, 2, -999.000, 9, -999.000, 9, -999.000, 9, -999.000, 9,   2324.2, 2,   2417.9, 6,    7.5924,     25.00,   -999.0, 9,   -999.0,  -999.00, 9,   -999.0,   1.1248, 27.7842,   1.4904, 2, 2, 0.45, 0.13, 0.01, 0.016,  -999.00, 9, -999.00, -999.00, 9, -999.00
49NZ20071008, P01, P01_44, 2, 6, X12048, 2, 20071016, 0300, 46.9842, 166.7428, 5930,   4670.3, 2,   1.5027, 2,  34.6872, 2,  34.6871, 2,    153.5, 2,    154.1, 2,   148.42, 2,    36.01, 2,     0.01, 2,     2.51, 2,    0.000, 2,    0.000, 2,    0.000, 2, -999.000, 9,   2319.5, 2,   2418.6, 2,    7.5949,     25.00,   -999.0, 9,   -999.0,  -999.00, 9,   -999.0,   1.1078, 27.7868,   1.5028, 2, 6, 0.45, 0.13, 0.01, 0.016,  -999.00, 9, -999.00, -999.00, 9, -999.00
49NZ20071008, P01, P01_44, 2, 5, X12014, 2, 20071016, 0300, 46.9842, 166.7428, 5930,   4921.5, 2,   1.5202, 2,  34.6888, 2,  34.6888, 2,    155.1, 2,    155.8, 2,   148.48, 2,    35.82, 2,     0.01, 2,     2.50, 2, -999.000, 9, -999.000, 9, -999.000, 9, -999.000, 9,   2319.3, 2,   2417.9, 2,    7.5985,     25.00,   -999.0, 9,   -999.0,  -999.00, 9,   -999.0,   1.0948, 27.7889,   1.5204, 2, 2, 0.45, 0.13, 0.01, 0.016,  -999.00, 9, -999.00, -999.00, 9, -999.00
49NZ20071008, P01, P01_44, 2, 4, X12006, 2, 20071016, 0300, 46.9842, 166.7428, 5930,   5169.9, 2,   1.5439, 2,  34.6895, 2,  34.6897, 2,    156.4, 2,    156.5, 2,   148.91, 2,    35.90, 2,     0.01, 2,     2.50, 2, -999.000, 9, -999.000, 9, -999.000, 9, -999.000, 9,   2318.9, 2,   2416.7, 2,    7.6002,     25.00,   -999.0, 9,   -999.0,  -999.00, 9,   -999.0,   1.0873, 27.7900,   1.5438, 2, 2, 0.45, 0.13, 0.01, 0.016,  -999.00, 9, -999.00, -999.00, 9, -999.00
49NZ20071008, P01, P01_44, 2, 3, X12013, 2, 20071016, 0300, 46.9842, 166.7428, 5930,   5419.1, 2,   1.5685, 2,  34.6906, 2,  34.6904, 2,    157.3, 2,    157.4, 2,   149.90, 2,    35.81, 2,     0.01, 2,     2.49, 2,    0.002, 2,    0.004, 2,    0.000, 2, -999.000, 9,   2319.2, 2,   2416.9, 2,    7.6018,     25.00,   -999.0, 9,   -999.0,  -999.00, 9,   -999.0,   1.0798, 27.7914,   1.5685, 2, 2, 0.45, 0.13, 0.01, 0.016,  -999.00, 9, -999.00, -999.00, 9, -999.00
49NZ20071008, P01, P01_44, 2, 2, X12002, 2, 20071016, 0300, 46.9842, 166.7428, 5930,   5670.1, 2,   1.6018, 2,  34.6906, 2,  34.6906, 2,    157.4, 2,    157.4, 2,   150.14, 2,    35.81, 2,     0.01, 2,     2.49, 2,    0.009, 2,    0.002, 2,    0.000, 2, -999.000, 9,   2316.0, 2,   2418.6, 2,    7.6008,     25.00,   -999.0, 9,   -999.0,  -999.00, 9,   -999.0,   1.0796, 27.7914,   1.6018, 2, 2, 0.45, 0.13, 0.01, 0.016,  -999.00, 9, -999.00, -999.00, 9, -999.00
49NZ20071008, P01, P01_44, 2, 1, X12001, 2, 20071016, 0300, 46.9842, 166.7428, 5930,   6071.3, 2,   1.6574, 2,  34.6905, 2,  34.6906, 6,    157.3, 2,    157.4, 2,   150.32, 2,    35.87, 2,     0.01, 2,     2.50, 2,    0.002, 2,    0.000, 2,    0.000, 2, -999.000, 9,   2318.4, 2,   2416.1, 2,    7.6016,     25.00,   -999.0, 9,   -999.0,  -999.00, 9,   -999.0,   1.0798, 27.7913,   1.6573, 2, 2, 0.45, 0.13, 0.01, 0.016,  -999.00, 9, -999.00, -999.00, 9, -999.00