BOTTLE,20221005CCHSIOAMB
EXPOCODE,SECT_ID,STNNBR,CASTNO,SAMPNO,BTLNBR,BTLNBR_FLAG_W,DATE,TIME,LATITUDE,LONGITUDE,DEPTH,CTDPRS,CTDPRS_FLAG_W,CTDTMP,CTDTMP_FLAG_W,CTDSAL,CTDSAL_FLAG_W,SALNTY,SALNTY_FLAG_W,CTDOXY,CTDOXY_FLAG_W,OXYGEN,OXYGEN_FLAG_W,SILCAT,SILCAT_FLAG_W,NITRAT,NITRAT_FLAG_W,NITRIT,NITRIT_FLAG_W,PHSPHT,PHSPHT_FLAG_W,CFC-11,CFC-11_FLAG_W,CFC-12,CFC-12_FLAG_W,CFC113,CFC113_FLAG_W,CCL4,CCL4_FLAG_W,TCARBN,TCARBN_FLAG_W,ALKALI,ALKALI_FLAG_W,PH_TOT,PH_TMP,DELC14,DELC14_FLAG_W,C14ERR,DELC13,DELC13_FLAG_W,C13ERR,THETA,SIG0,SBE35,SBE35_FLAG_W,PH_TOT_FLAG_W,SILUNC,NRAUNC,NRIUNC,PHPUNC,CS-137,CS-137_FLAG_W,CS137ER,PLUTO,PLUTO_FLAG_W,PLUTOER
,,,,,,,,,,,METERS,DBAR,,ITS-90,,PSS-78,,PSS-78,,UMOL/KG,,UMOL/KG,,UMOL/KG,,UMOL/KG,,UMOL/KG,,UMOL/KG,,PMOL/KG,,PMOL/KG,,PMOL/KG,,PMOL/KG,,UMOL/KG,,UMOL/KG,,,DEG C,/MILLE,,/MILLE,/MILLE,,/MILLE,DEG C,KG/M^3,ITS-90,,,UMOL/KG,UMOL/KG,UMOL/KG,UMOL/KG,DM/.1MG,,BQ/M^3,MBQ/M^3,,MBQ/M^3
49NZ20071008, P14N, 67, 1, 36, X12042, 2, 20071107, 2138, 28.9912, 179.0053, 5358,     11.3, 2,  25.7812, 2,  35.2229, 2,  35.2229, 2,    208.1, 2,    208.2, 2,     1.38, 2,     0.06, 2,     0.00, 2,     0.04, 2,    1.644, 2,    1.024, 2,    0.515, 4, -999.000, 9,   1982.5, 2,   2314.9, 2,    8.1000,     25.00,   -999.0, 9,   -999.0,  -999.00, 9,   -999.0,  25.7787, 23.2704,  25.7809, 2, 6, 0.12, 0.03, 0.01, 0.038,  -999.00, 9, -999.00, -999.00, 9, -999.00
49NZ20071008, P14N, 67, 1, 35, X12041, 2, 20071107, 2138, 28.9912, 179.0053, 5358,     51.5, 2,  21.5622, 2,  34.8136, 2,  34.8135, 2,    243.8, 2,    248.5, 2,     2.01, 2,     0.05, 2,     0.00, 2,     0.06, 2,    2.218, 2,    1.352, 2,    4.207, 4, -999.000, 9,   1983.9, 6,   2289.4, 2,    8.0609,     25.00,   -999.0, 9,   -999.0,  -999.00, 9,   -999.0,  21.5522, 24.2007,  21.5640, 2, 2, 0.12, 0.03, 0.01, 0.032,  -999.00, 9, -999.00, -999.00, 9, -999.00
49NZ20071008, P14N, 67, 1, 34, X12016, 2, 20071107, 2138, 28.9912, 179.0053, 5358,    102.0, 2,  18.0036, 2,  34.7690, 2,  34.7694, 2,    226.5, 2,    225.7, 2,     2.59, 2,     0.08, 2,     0.02, 2,     0.12, 2,    2.342, 2,    1.389, 2,    0.292, 4, -999.000, 9,   2013.9, 2,   2287.4, 6,    8.0041,     25.00,   -999.0, 9,   -999.0,  -999.00, 9,   -999.0,  17.9861, 25.0985,  18.0018, 2, 2, 0.12, 0.03, 0.01, 0.020,  -999.00, 9, -999.00, -999.00, 9, -999.00
49NZ20071008, P14N, 67, 1, 33, X12033, 2, 20071107, 2138, 28.9912, 179.0053, 5358,    152.0, 2,  16.8764, 2,  34.7107, 2,  34.7113, 2,    212.8, 2,    212.8, 2,     4.21, 2,     4.51, 2,     0.02, 2,     0.35, 2,    2.445, 6,    1.435, 6,    0.138, 6, -999.000, 9,   2029.7, 2,   2282.7, 2,    7.9664,     25.00,   -999.0, 9,   -999.0,  -999.00, 9,   -999.0,  16.8515, 25.3273,  16.8812, 2, 6, 0.13, 0.05, 0.01, 0.014,  -999.00, 9, -999.00, -999.00, 9, -999.00
49NZ20071008, P14N, 67, 1, 32, X12038, 2, 20071107, 2138, 28.9912, 179.0053, 5358,    199.2, 2,  16.1340, 2,  34.6512, 2,  34.6504, 2,    211.5, 2,    212.3, 2,     5.54, 2,     5.65, 2,     0.01, 2,     0.43, 2,    2.521, 2,    1.461, 2,    0.116, 2, -999.000, 9,   2038.2, 2,   2279.8, 2,    7.9478,     25.00,   -999.0, 9,   -999.0,  -999.00, 9,   -999.0,  16.1024, 25.4558,  16.1342, 2, 2, 0.13, 0.05, 0.01, 0.013,  -999.00, 9, -999.00, -999.00, 9, -999.00
49NZ20071008, P14N, 67, 1, 31, X12003, 2, 20071107, 2138, 28.9912, 179.0053, 5358,    250.7, 2,  15.3568, 2,  34.5970, 2,  34.5967, 6,    211.1, 2,    211.1, 2,     7.01, 2,     6.95, 2,     0.01, 2,     0.52, 2,    2.589, 2,    1.482, 2,    0.115, 2, -999.000, 9,   2048.5, 2,   2278.1, 2,    7.9261,     25.00,   -999.0, 9,   -999.0,  -999.00, 9,   -999.0,  15.3183, 25.5910,  15.3565, 2, 2, 0.13, 0.05, 0.01, 0.013,  -999.00, 9, -999.00, -999.00, 9, -999.00
49NZ20071008, P14N, 67, 1, 30, X12008, 2, 20071107, 2138, 28.9912, 179.0053, 5358,    300.2, 2,  14.0048, 2,  34.5083, 2,  34.5076, 2,    212.8, 2,    211.5, 2,     9.70, 2,     9.03, 2,     0.01, 2,     0.66, 2,    2.703, 2,    1.512, 2,    0.091, 2, -999.000, 9,   2063.7, 2,   2275.5, 2,    7.8917,     25.00,   -999.0, 9,   -999.0,  -999.00, 9,   -999.0,  13.9614, 25.8151,  14.0051, 2, 2, 0.14, 0.06, 0.01, 0.013,  -999.00, 9, -999.00, -999.00, 9, -999.00
49NZ20071008, P14N, 67, 1, 29, X12035, 2, 20071107, 2138, 28.9912, 179.0053, 5358,    400.6, 2,  11.7184, 2,  34.3399, 2,  34.3397, 2,    207.5, 2,    206.0, 2,    16.24, 2,    13.39, 2,     0.01, 2,     0.97, 2,    2.900, 2,    1.583, 2,    0.095, 2, -999.000, 9,   2094.5, 2,   2274.2, 2,    7.8212,     25.00,   -999.0, 9,   -999.0,  -999.00, 9,   -999.0,  11.6669, 26.1392,  11.7183, 2, 2, 0.15, 0.07, 0.01, 0.013,  -999.00, 9, -999.00, -999.00, 9, -999.00
49NZ20071008, P14N, 67, 1, 28, X12034, 2, 20071107, 2138, 28.9912, 179.0053, 5358,    497.3, 2,   9.4361, 2,  34.1584, 2,  34.1561, 6,    192.9, 2,    189.4, 2,    26.44, 2,    18.99, 2,     0.01, 2,     1.38, 2,    2.901, 2,    1.511, 2,    0.120, 2, -999.000, 9,   2134.0, 2,   2273.5, 2,    7.7323,     25.00,   -999.0, 9,   -999.0,  -999.00, 9,   -999.0,   9.3802, 26.3979,   9.4356, 2, 2, 0.18, 0.09, 0.01, 0.014,  -999.00, 9, -999.00, -999.00, 9, -999.00
49NZ20071008, P14N, 67, 1, 27, X12049, 2, 20071107, 2138, 28.9912, 179.0053, 5358,    601.0, 2,   6.9214, 2,  34.0288, 2,  34.0285, 2,    154.2, 2,    151.6, 2,    47.73, 2,    27.06, 2,     0.01, 2,     1.97, 2,    2.448, 2,    1.245, 2,    0.118, 2, -999.000, 9,   2193.8, 2,   2285.2, 2,    7.6025,     25.00,   -999.0, 9,   -999.0,  -999.00, 9,   -999.0,   6.8647, 26.6721,   6.9216, 2, 2, 0.22, 0.11, 0.01, 0.015,  -999.00, 9, -999.00, -999.00, 9, -999.00
49NZ20071008, P14N, 67, 1, 26, X12032, 2, 20071107, 2138, 28.9912, 179.0053, 5358,    702.1, 2,   5.4522, 2,  34.0380, 2,  34.0379, 2,    108.8, 2,    107.9, 2,    69.71, 2,    33.66, 2,     0.01, 2,     2.45, 2,    1.758, 6,    0.871, 6,    0.092, 6, -999.000, 9,   2248.9, 6,   2302.2, 2,    7.4936,     25.00,   -999.0, 9,   -999.0,  -999.00, 9,   -999.0,   5.3933, 26.8667,   5.4516, 2, 2, 0.27, 0.13, 0.01, 0.016,  -999.00, 9, -999.00, -999.00, 9, -999.00
49NZ20071008, P14N, 67, 1, 25, X12043, 2, 20071107, 2138, 28.9912, 179.0053, 5358,    801.7, 2,   4.6148, 2,  34.1311, 2,  34.1311, 2,     65.2, 2,     66.1, 2,    90.39, 2,    38.68, 2,     0.01, 2,     2.79, 2,    0.912, 2,    0.444, 2,    0.039, 2, -999.000, 9,   2299.4, 2,   2325.3, 6,    7.4124,     25.00,   -999.0, 9,   -999.0,  -999.00, 9,   -999.0,   4.5520, 27.0365,   4.6149, 2, 2, 0.32, 0.14, 0.01, 0.017,  -999.00, 9, -999.00, -999.00, 9, -999.00
49NZ20071008, P14N, 67, 1, 24, X12030, 2, 20071107, 2138, 28.9912, 179.0053, 5358,    901.2, 2,   4.1028, 2,  34.2091, 2,  34.2104, 2,     44.9, 2,     45.3, 2,   104.99, 2,    41.12, 2,     0.01, 2,     2.95, 2,    0.482, 2,    0.233, 2,    0.022, 2, -999.000, 9,   2327.5, 2,   2341.3, 2,    7.3779,     25.00,   -999.0, 9,   -999.0,  -999.00, 9,   -999.0,   4.0350, 27.1534,   4.1031, 2, 6, 0.35, 0.15, 0.01, 0.017,  -999.00, 9, -999.00, -999.00, 9, -999.00
49NZ20071008, P14N, 67, 1, 23, X12027, 2, 20071107, 2138, 28.9912, 179.0053, 5358,   1002.4, 2,   3.6265, 2,  34.3016, 2,  34.3022, 6,     31.6, 2,     31.2, 2,   119.23, 2,    42.82, 2,     0.00, 2,     3.07, 2,    0.185, 2,    0.089, 2,    0.007, 2, -999.000, 9,   2354.7, 2,   2360.3, 2,    7.3583,     25.00,   -999.0, 9,   -999.0,  -999.00, 9,   -999.0,   3.5539, 27.2754,   3.6272, 2, 2, 0.38, 0.15, 0.01, 0.018,  -999.00, 9, -999.00, -999.00, 9, -999.00
49NZ20071008, P14N, 67, 1, 22, X12028, 2, 20071107, 2138, 28.9912, 179.0053, 5358,   1199.6, 2,   3.1180, 2,  34.4269, 2,  34.4279, 2,     30.6, 2,     30.2, 2,   133.99, 2,    43.59, 2,     0.01, 2,     3.11, 2,    0.027, 2,    0.015, 2,    0.000, 2, -999.000, 9,   2370.6, 2,   2381.8, 2,    7.3689,     25.00,   -999.0, 9,   -999.0,  -999.00, 9,   -999.0,   3.0337, 27.4245,   3.1179, 2, 2, 0.41, 0.15, 0.01, 0.018,  -999.00, 9, -999.00, -999.00, 9, -999.00
49NZ20071008, P14N, 67, 1, 21, X12009, 2, 20071107, 2138, 28.9912, 179.0053, 5358,   1401.9, 2,   2.7320, 2,  34.4959, 2,  34.4957, 2,     41.2, 2,     39.0, 2,   143.83, 2,    43.36, 2,     0.00, 2,     3.08, 2,    0.008, 2,    0.004, 2,    0.000, 2, -999.000, 9,   2377.2, 2,   2395.7, 2,    7.3884,     25.00,   -999.0, 9,   -999.0,  -999.00, 9,   -999.0,   2.6354, 27.5152,   2.7320, 2, 2, 0.44, 0.15, 0.01, 0.018,  -999.00, 9, -999.00, -999.00, 9, -999.00
49NZ20071008, P14N, 67, 1, 20, X12026, 2, 20071107, 2138, 28.9912, 179.0053, 5358,   1601.3, 2,   2.4241, 2,  34.5442, 2,  34.5439, 2,     57.7, 2,     53.1, 2,   149.74, 2,    42.56, 2,     0.00, 2,     3.01, 2,    0.005, 2,    0.002, 2,    0.000, 2, -999.000, 9,   2377.3, 2,   2405.5, 2,    7.4166,     25.00,   -999.0, 9,   -999.0,  -999.00, 9,   -999.0,   2.3149, 27.5810,   2.4244, 2, 6, 0.45, 0.15, 0.01, 0.017,  -999.00, 9, -999.00, -999.00, 9, -999.00
49NZ20071008, P14N, 67, 1, 19, X12025, 2, 20071107, 2138, 28.9912, 179.0053, 5358,   1801.5, 2,   2.1463, 2,  34.5827, 2,  34.5826, 2,     72.8, 2,     70.1, 2,   153.64, 2,    41.51, 2,     0.00, 2,     2.93, 2,    0.002, 2,    0.003, 2,    0.000, 2, -999.000, 9,   2372.5, 2,   2411.8, 2,    7.4481,     25.00,   -999.0, 9,   -999.0,  -999.00, 9,   -999.0,   2.0243, 27.6354,   2.1463, 2, 2, 0.46, 0.15, 0.01, 0.017,  -999.00, 9, -999.00, -999.00, 9, -999.00
49NZ20071008, P14N, 67, 1, 18, X12024, 2, 20071107, 2138, 28.9912, 179.0053, 5358,   2003.6, 2,   1.9439, 2,  34.6093, 2,  34.6090, 2,     85.5, 2,     84.6, 2,   155.45, 2,    40.68, 2,     0.00, 2,     2.86, 2,    0.000, 2,    0.001, 2,    0.000, 2, -999.000, 9,   2365.8, 2,   2415.1, 2,    7.4746,     25.00,   -999.0, 9,   -999.0,  -999.00, 9,   -999.0,   1.8081, 27.6736,   1.9439, 2, 2, 0.46, 0.15, 0.01, 0.017,  -999.00, 9, -999.00, -999.00, 9, -999.00
49NZ20071008, P14N, 67, 1, 17, X12023, 2, 20071107, 2138, 28.9912, 179.0053, 5358,   2201.1, 2,   1.8179, 2,  34.6258, 2,  34.6258, 2,     95.5, 2,     95.1, 2,   156.24, 2,    39.97, 2,     0.00, 2,     2.82, 2,    0.001, 2,    0.001, 2,    0.000, 2, -999.000, 9,   2362.7, 2,   2418.2, 2,    7.4944,     25.00,   -999.0, 9,   -999.0,  -999.00, 9,   -999.0,   1.6674, 27.6975,   1.8179, 2, 2, 0.46, 0.14, 0.01, 0.017,  -999.00, 9, -999.00, -999.00, 9, -999.00
49NZ20071008, P14N, 67, 1, 16, X12022, 2, 20071107, 2138, 28.9912, 179.0053, 5358,   2400.6, 2,   1.7255, 2,  34.6385, 2,  34.6386, 6,    105.3, 2,    104.7, 2,   155.31, 2,    39.22, 2,     0.00, 2,     2.76, 2,    0.004, 2,    0.001, 2,    0.000, 2, -999.000, 9,   2357.1, 6,   2419.4, 2,    7.5114,     25.00,   -999.0, 9,   -999.0,  -999.00, 9,   -999.0,   1.5592, 27.7157,   1.7255, 2, 2, 0.46, 0.14, 0.01, 0.017,  -999.00, 9, -999.00, -999.00, 9, -999.00
49NZ20071008, P14N, 67, 1, 15, X12021, 2, 20071107, 2138, 28.9912, 179.0053, 5358,   2600.0, 2,   1.6509, 2,  34.6495, 2,  34.6497, 2,    114.5, 2,    114.0, 2,   154.95, 2,    38.81, 2,     0.00, 2,     2.72, 2,    0.002, 2,    0.002, 2,    0.000, 2, -999.000, 9,   2355.1, 2,   2419.9, 2,    7.5281,     25.00,   -999.0, 9,   -999.0,  -999.00, 9,   -999.0,   1.4682, 27.7312,   1.6508, 2, 2, 0.46, 0.14, 0.01, 0.017,  -999.00, 9, -999.00, -999.00, 9, -999.00
49NZ20071008, P14N, 67, 1, 14, X12020, 2, 20071107, 2138, 28.9912, 179.0053, 5358,   2801.1, 2,   1.5930, 2,  34.6572, 2,  34.6572, 2,    120.1, 2,    120.6, 2,   154.68, 2,    38.37, 2,     0.00, 2,     2.69, 2,    0.004, 2,    0.005, 2,    0.000, 2, -999.000, 9,   2347.7, 2,   2421.0, 2,    7.5395,     25.00,   -999.0, 9,   -999.0,  -999.00, 9,   -999.0,   1.3930, 27.7428,   1.5929, 2, 6, 0.46, 0.14, 0.01, 0.017,  -999.00, 9, -999.00, -999.00, 9, -999.00
49NZ20071008, P14N, 67, 1, 13, X12019, 2, 20071107, 2138, 28.9912, 179.0053, 5358,   2999.9, 2,   1.5498, 2,  34.6633, 2,  34.6636, 2,    126.3, 2,    126.1, 2,   154.29, 2,    38.00, 2,     0.00, 2,     2.66, 2,    0.005, 2,    0.002, 2,    0.000, 2, -999.000, 9,   2347.7, 2,   2420.6, 2,    7.5485,     25.00,   -999.0, 9,   -999.0,  -999.00, 9,   -999.0,   1.3320, 27.7520,   1.5497, 2, 2, 0.46, 0.14, 0.01, 0.017,  -999.00, 9, -999.00, -999.00, 9, -999.00
49NZ20071008, P14N, 67, 1, 12, X12040, 2, 20071107, 2138, 28.9912, 179.0053, 5358,   3249.8, 2,   1.5085, 2,  34.6706, 2,  34.6709, 2,    134.9, 2,    133.7, 2,   152.57, 2,    37.43, 2,     0.00, 2,     2.61, 2, -999.000, 9, -999.000, 9, -999.000, 9, -999.000, 9,   2342.3, 2,   2422.0, 2,    7.5623,     25.00,   -999.0, 9,   -999.0,  -999.00, 9,   -999.0,   1.2673, 27.7624,   1.5083, 2, 2, 0.45, 0.14, 0.01, 0.016,  -999.00, 9, -999.00, -999.00, 9, -999.00
49NZ20071008, P14N, 67, 1, 11, X12047, 2, 20071107, 2138, 28.9912, 179.0053, 5358,   3499.2, 2,   1.4811, 2,  34.6760, 2,  34.6760, 2,    139.7, 2,    139.3, 2,   152.09, 2,    37.14, 2,     0.00, 2,     2.58, 2, -999.000, 9, -999.000, 9, -999.000, 9, -999.000, 9,   2335.9, 2,   2420.7, 2,    7.5714,     25.00,   -999.0, 9,   -999.0,  -999.00, 9,   -999.0,   1.2156, 27.7703,   1.4810, 2, 2, 0.45, 0.14, 0.01, 0.016,  -999.00, 9, -999.00, -999.00, 9, -999.00
49NZ20071008, P14N, 67, 1, 10, X12017, 2, 20071107, 2138, 28.9912, 179.0053, 5358,   3748.9, 2,   1.4615, 2,  34.6806, 2,  34.6809, 2,    144.8, 2,    144.6, 2,   151.27, 2,    36.81, 2,     0.00, 2,     2.56, 2,    0.000, 2,    0.000, 2,    0.000, 2, -999.000, 9,   2334.7, 2,   2420.8, 2,    7.5809,     25.00,   -999.0, 9,   -999.0,  -999.00, 9,   -999.0,   1.1706, 27.7772,   1.4613, 2, 2, 0.45, 0.14, 0.01, 0.016,  -999.00, 9, -999.00, -999.00, 9, -999.00
49NZ20071008, P14N, 67, 1, 9, X12015, 2, 20071107, 2138, 28.9912, 179.0053, 5358,   3998.2, 2,   1.4604, 2,  34.6836, 2,  34.6837, 6,    148.5, 2,    148.1, 2,   150.87, 2,    36.62, 2,     0.00, 2,     2.54, 2, -999.000, 9, -999.000, 9, -999.000, 9, -999.000, 9,   2331.3, 2,   2421.2, 2,    7.5867,     25.00,   -999.0, 9,   -999.0,  -999.00, 9,   -999.0,   1.1428, 27.7815,   1.4603, 2, 2, 0.45, 0.14, 0.01, 0.016,  -999.00, 9, -999.00, -999.00, 9, -999.00
49NZ20071008, P14N, 67, 1, 8, X12046, 2, 20071107, 2138, 28.9912, 179.0053, 5358,   4250.2, 2,   1.4638, 2,  34.6861, 2,  34.6862, 2,    152.2, 2,    151.7, 2,   149.54, 2,    36.35, 2,     0.00, 2,     2.52, 2, -999.000, 9, -999.000, 9, -999.000, 9, -999.000, 9,   2327.8, 6,   2420.1, 2,    7.5927,     25.00,   -999.0, 9,   -999.0,  -999.00, 9,   -999.0,   1.1183, 27.7852,   1.4637, 2, 2, 0.45, 0.13, 0.01, 0.016,  -999.00, 9, -999.00, -999.00, 9, -999.00
49NZ20071008, P14N, 67, 1, 7, X12044, 2, 20071107, 2138, 28.9912, 179.0053, 5358,   4499.1, 2,   1.4731, 2,  34.6882, 2,  34.6882, 2,    155.3, 2,    154.8, 2,   147.90, 2,    36.04, 2,     0.00, 2,     2.51, 2,    0.002, 2,    0.000, 2,    0.000, 2, -999.000, 9,   2324.5, 2,   2419.1, 6,    7.5966,     25.00,   -999.0, 9,   -999.0,  -999.00, 9,   -999.0,   1.0991, 27.7882,   1.4731, 2, 2, 0.44, 0.13, 0.01, 0.016,  -999.00, 9, -999.00, -999.00, 9, -999.00
49NZ20071008, P14N, 67, 1, 6, X12048, 2, 20071107, 2138, 28.9912, 179.0053, 5358,   4748.8, 2,   1.4786, 2,  34.6904, 2,  34.6905, 2,    159.2, 2,    158.9, 2,   144.09, 2,    35.77, 2,     0.00, 2,     2.49, 2, -999.000, 9, -999.000, 9, -999.000, 9, -999.000, 9,   2320.0, 2,   2416.9, 2,    7.6019,     25.00,   -999.0, 9,   -999.0,  -999.00, 9,   -999.0,   1.0752, 27.7915,   1.4786, 2, 2, 0.44, 0.13, 0.01, 0.016,  -999.00, 9, -999.00, -999.00, 9, -999.00
49NZ20071008, P14N, 67, 1, 5, X12014, 2, 20071107, 2138, 28.9912, 179.0053, 5358,   4999.5, 2,   1.4842, 2,  34.6923, 2,  34.6925, 2,    164.0, 2,    163.9, 2,   139.81, 2,    35.48, 2,     0.00, 2,     2.45, 2, -999.000, 9, -999.000, 9, -999.000, 9, -999.000, 9,   2313.0, 2,   2413.4, 2,    7.6066,     25.00,   -999.0, 9,   -999.0,  -999.00, 9,   -999.0,   1.0505, 27.7947,   1.4841, 2, 2, 0.43, 0.13, 0.01, 0.016,  -999.00, 9, -999.00, -999.00, 9, -999.00
49NZ20071008, P14N, 67, 1, 4, X12006, 2, 20071107, 2138, 28.9912, 179.0053, 5358,   5249.8, 2,   1.4855, 2,  34.6948, 2,  34.6951, 2,    168.8, 2,    169.1, 2,   135.91, 2,    34.98, 2,     0.00, 2,     2.42, 2,    0.000, 2,    0.000, 2,    0.000, 2, -999.000, 9,   2309.3, 2,   2409.5, 2,    7.6113,     25.00,   -999.0, 9,   -999.0,  -999.00, 9,   -999.0,   1.0210, 27.7987,   1.4856, 2, 2, 0.42, 0.13, 0.01, 0.016,  -999.00, 9, -999.00, -999.00, 9, -999.00
49NZ20071008, P14N, 67, 1, 3, X12013, 2, 20071107, 2138, 28.9912, 179.0053, 5358,     30.2, 2,  25.7799, 2,  35.2201, 2,  35.2222, 2,    207.8, 2,    208.2, 2,  -999.00, 9,  -999.00, 9,  -999.00, 9,  -999.00, 9, -999.000, 9, -999.000, 9, -999.000, 9, -999.000, 9,   -999.0, 9,   -999.0, 9, -999.0000,   -999.00,   -999.0, 9,   -999.0,  -999.00, 9,   -999.0,  25.7732, 23.2700,  25.7789, 2, 9, -999.00, -999.00, -999.00, -999.000,  -999.00, 9, -999.00, -999.00, 9, -999.00
49NZ20071008, P14N, 67, 1, 2, X12002, 2, 20071107, 2138, 28.9912, 179.0053, 5358,     21.2, 2,  25.7807, 2,  35.2225, 2,  35.2227, 2,    207.0, 2,    208.2, 2,  -999.00, 9,  -999.00, 9,  -999.00, 9,  -999.00, 9, -999.000, 9, -999.000, 9, -999.000, 9, -999.000, 9,   -999.0, 9,   -999.0, 9, -999.0000,   -999.00,   -999.0, 9,   -999.0,  -999.00, 9,   -999.0,  25.7760, 23.2709,  25.7800, 2, 9, -999.00, -999.00, -999.00, -999.000,  -999.00, 9, -999.00, -999.00, 9, -999.00
49NZ20071008, P14N, 67, 1, 1, X12001, 2, 20071107, 2138, 28.9912, 179.0053, 5358,   5427.8, 2,   1.4840, 2,  34.6967, 2,  34.6975, 6,    173.5, 2,    173.4, 2,   132.49, 2,    34.73, 2,     0.00, 2,     2.40, 2,    0.000, 2,    0.000, 2,    0.000, 2, -999.000, 9,   2306.0, 2,   2405.5, 2,    7.6158,     25.00,   -999.0, 9,   -999.0,  -999.00, 9,   -999.0,   0.9971, 27.8018,   1.4843, 2, 2, 0.41, 0.13, 0.01, 0.016,  -999.00, 9, -999.00, -999.00, 9, -999.00