BOTTLE,20221005CCHSIOAMB
EXPOCODE,SECT_ID,STNNBR,CASTNO,SAMPNO,BTLNBR,BTLNBR_FLAG_W,DATE,TIME,LATITUDE,LONGITUDE,DEPTH,CTDPRS,CTDPRS_FLAG_W,CTDTMP,CTDTMP_FLAG_W,CTDSAL,CTDSAL_FLAG_W,SALNTY,SALNTY_FLAG_W,CTDOXY,CTDOXY_FLAG_W,OXYGEN,OXYGEN_FLAG_W,SILCAT,SILCAT_FLAG_W,NITRAT,NITRAT_FLAG_W,NITRIT,NITRIT_FLAG_W,PHSPHT,PHSPHT_FLAG_W,CFC-11,CFC-11_FLAG_W,CFC-12,CFC-12_FLAG_W,CFC113,CFC113_FLAG_W,CCL4,CCL4_FLAG_W,TCARBN,TCARBN_FLAG_W,ALKALI,ALKALI_FLAG_W,PH_TOT,PH_TMP,DELC14,DELC14_FLAG_W,C14ERR,DELC13,DELC13_FLAG_W,C13ERR,THETA,SIG0,SBE35,SBE35_FLAG_W,PH_TOT_FLAG_W,SILUNC,NRAUNC,NRIUNC,PHPUNC,CS-137,CS-137_FLAG_W,CS137ER,PLUTO,PLUTO_FLAG_W,PLUTOER
,,,,,,,,,,,METERS,DBAR,,ITS-90,,PSS-78,,PSS-78,,UMOL/KG,,UMOL/KG,,UMOL/KG,,UMOL/KG,,UMOL/KG,,UMOL/KG,,PMOL/KG,,PMOL/KG,,PMOL/KG,,PMOL/KG,,UMOL/KG,,UMOL/KG,,,DEG C,/MILLE,,/MILLE,/MILLE,,/MILLE,DEG C,KG/M^3,ITS-90,,,UMOL/KG,UMOL/KG,UMOL/KG,UMOL/KG,DM/.1MG,,BQ/M^3,MBQ/M^3,,MBQ/M^3
49NZ20071008, P01, P01_52, 1, 36, X12042, 2, 20071017, 2249, 46.9855, 169.9970, 4922,     10.3, 2,   9.1100, 2,  32.6537, 2,  32.6540, 2,    289.0, 2,    290.0, 2,    22.55, 2,    15.22, 2,     0.26, 2,     1.41, 2,    3.831, 2,    2.102, 2,    0.352, 2, -999.000, 9,   2036.2, 2,   2209.2, 2,    7.8364,     25.00,   -999.0, 9,   -999.0,  -999.00, 9,   -999.0,   9.1089, 25.2642,   9.1097, 2, 6, 0.17, 0.08, 0.01, 0.014,  -999.00, 9, -999.00, -999.00, 9, -999.00
49NZ20071008, P01, P01_52, 1, 35, X12041, 2, 20071017, 2249, 46.9855, 169.9970, 4922,     51.1, 2,   9.0307, 2,  32.6552, 2,  32.6628, 2,    284.7, 2,    288.9, 2,    23.02, 2,    15.46, 2,     0.27, 2,     1.44, 2,    3.889, 2,    2.134, 2,    0.369, 2, -999.000, 9,   2039.8, 6,   2203.9, 2,    7.8294,     25.00,   -999.0, 9,   -999.0,  -999.00, 9,   -999.0,   9.0254, 25.2785,   9.0312, 2, 2, 0.17, 0.08, 0.01, 0.014,  -999.00, 9, -999.00, -999.00, 9, -999.00
49NZ20071008, P01, P01_52, 1, 34, X12016, 2, 20071017, 2249, 46.9855, 169.9970, 4922,    100.3, 2,   3.0542, 2,  33.0606, 2,  33.0669, 2,    283.6, 2,    292.2, 2,    44.90, 2,    26.20, 2,     0.02, 2,     2.07, 2,    5.174, 2,    2.756, 2,    0.461, 2, -999.000, 9,   2133.7, 2,   2236.4, 6,    7.6407,     25.00,   -999.0, 9,   -999.0,  -999.00, 9,   -999.0,   3.0483, 26.3329,   3.0529, 2, 2, 0.22, 0.11, 0.01, 0.015,  -999.00, 9, -999.00, -999.00, 9, -999.00
49NZ20071008, P01, P01_52, 1, 33, X12033, 2, 20071017, 2249, 46.9855, 169.9970, 4922,    150.5, 2,   3.5675, 2,  33.6788, 2,  33.6898, 2,     97.2, 2,     95.3, 2,    78.78, 2,    40.29, 2,     0.01, 2,     2.91, 2,    2.932, 6,    1.461, 6,    0.208, 6, -999.000, 9,   2279.5, 2,   2281.8, 2,    7.3461,     25.00,   -999.0, 9,   -999.0,  -999.00, 9,   -999.0,   3.5578, 26.7788,   3.5686, 2, 6, 0.29, 0.15, 0.01, 0.017,  -999.00, 9, -999.00, -999.00, 9, -999.00
49NZ20071008, P01, P01_52, 1, 32, X12038, 2, 20071017, 2249, 46.9855, 169.9970, 4922,    201.5, 2,   3.7668, 2,  33.8966, 2,  33.8945, 2,     36.9, 2,     35.2, 2,    92.26, 2,    44.23, 2,     0.01, 2,     3.15, 2,    2.012, 2,    0.961, 2,    0.134, 2, -999.000, 9,   2327.7, 2,   2300.4, 2,    7.2682,     25.00,   -999.0, 9,   -999.0,  -999.00, 9,   -999.0,   3.7534, 26.9332,   3.7667, 2, 2, 0.32, 0.16, 0.01, 0.018,  -999.00, 9, -999.00, -999.00, 9, -999.00
49NZ20071008, P01, P01_52, 1, 31, X12003, 2, 20071017, 2249, 46.9855, 169.9970, 4922,    248.4, 2,   3.7494, 2,  33.9635, 2,  33.9635, 6,     22.5, 2,     22.8, 2,    98.44, 2,    44.93, 2,     0.01, 2,     3.20, 2,    1.630, 4,    0.791, 4,    0.097, 4, -999.000, 9,   2334.4, 2,   2308.5, 2,    7.2599,     25.00,   -999.0, 9,   -999.0,  -999.00, 9,   -999.0,   3.7328, 26.9885,   3.7492, 2, 2, 0.34, 0.16, 0.01, 0.018,  -999.00, 9, -999.00, -999.00, 9, -999.00
49NZ20071008, P01, P01_52, 1, 30, X12008, 2, 20071017, 2249, 46.9855, 169.9970, 4922,    330.4, 2,   3.6592, 2,  34.0760, 2,  34.0762, 2,     16.4, 2,     16.3, 2,   109.22, 2,    44.87, 2,     0.01, 2,     3.21, 2,    1.048, 2,    0.494, 2,    0.067, 2, -999.000, 9,   2351.5, 2,   2325.5, 2,    7.2748,     25.00,   -999.0, 9,   -999.0,  -999.00, 9,   -999.0,   3.6370, 27.0875,   3.6592, 2, 2, 0.36, 0.16, 0.01, 0.018,  -999.00, 9, -999.00, -999.00, 9, -999.00
49NZ20071008, P01, P01_52, 1, 29, X12035, 2, 20071017, 2249, 46.9855, 169.9970, 4922,    430.2, 2,   3.5045, 2,  34.1625, 2,  34.1622, 2,     16.9, 2,     16.6, 2,   118.25, 2,    44.27, 2,     0.01, 2,     3.17, 2,    0.692, 2,    0.326, 2,    0.050, 2, -999.000, 9,   2360.0, 2,   2339.3, 2,    7.2913,     25.00,   -999.0, 9,   -999.0,  -999.00, 9,   -999.0,   3.4758, 27.1721,   3.5044, 2, 2, 0.38, 0.16, 0.01, 0.018,  -999.00, 9, -999.00, -999.00, 9, -999.00
49NZ20071008, P01, P01_52, 1, 28, X12034, 2, 20071017, 2249, 46.9855, 169.9970, 4922,    530.0, 2,   3.3095, 2,  34.2269, 2,  34.2266, 6,     18.8, 2,     18.7, 2,   126.16, 2,    44.05, 2,     0.00, 2,     3.16, 2,    0.513, 2,    0.239, 2,    0.037, 2, -999.000, 9,   2363.8, 2,   2349.7, 2,    7.3053,     25.00,   -999.0, 9,   -999.0,  -999.00, 9,   -999.0,   3.2744, 27.2426,   3.3093, 2, 2, 0.40, 0.16, 0.01, 0.018,  -999.00, 9, -999.00, -999.00, 9, -999.00
49NZ20071008, P01, P01_52, 1, 27, X12049, 2, 20071017, 2249, 46.9855, 169.9970, 4922,    630.1, 2,   3.1742, 2,  34.2777, 2,  34.2772, 2,     16.9, 2,     16.7, 2,   132.26, 2,    44.24, 2,     0.00, 2,     3.18, 2,    0.334, 2,    0.161, 2,    0.027, 2, -999.000, 9,   2365.4, 2,   2359.5, 2,    7.3112,     25.00,   -999.0, 9,   -999.0,  -999.00, 9,   -999.0,   3.1326, 27.2964,   3.1740, 2, 2, 0.41, 0.16, 0.01, 0.018,  -999.00, 9, -999.00, -999.00, 9, -999.00
49NZ20071008, P01, P01_52, 1, 26, X12032, 2, 20071017, 2249, 46.9855, 169.9970, 4922,    730.1, 2,   3.0193, 2,  34.3234, 2,  34.3230, 2,     17.3, 2,     17.0, 2,   138.39, 2,    44.20, 2,     0.00, 2,     3.17, 2,    0.234, 6,    0.110, 6,    0.011, 6, -999.000, 9,   2375.2, 6,   2367.7, 2,    7.3192,     25.00,   -999.0, 9,   -999.0,  -999.00, 9,   -999.0,   2.9714, 27.3476,   3.0192, 2, 2, 0.42, 0.16, 0.01, 0.018,  -999.00, 9, -999.00, -999.00, 9, -999.00
49NZ20071008, P01, P01_52, 1, 25, X12043, 2, 20071017, 2249, 46.9855, 169.9970, 4922,    830.4, 2,   2.8554, 2,  34.3673, 2,  34.3670, 2,     18.2, 2,     18.3, 2,   144.02, 2,    44.30, 2,     0.00, 2,     3.18, 2,    0.155, 2,    0.074, 2,    0.008, 2, -999.000, 9,   2380.3, 2,   2376.6, 6,    7.3238,     25.00,   -999.0, 9,   -999.0,  -999.00, 9,   -999.0,   2.8013, 27.3979,   2.8552, 2, 2, 0.44, 0.16, 0.01, 0.018,  -999.00, 9, -999.00, -999.00, 9, -999.00
49NZ20071008, P01, P01_52, 1, 24, X12030, 2, 20071017, 2249, 46.9855, 169.9970, 4922,    930.3, 2,   2.7314, 2,  34.3987, 2,  34.3987, 2,     19.5, 2,     19.8, 2,   148.12, 2,    44.07, 2,     0.00, 2,     3.15, 2,    0.109, 2,    0.054, 2,    0.010, 2, -999.000, 9,   2384.6, 2,   2382.8, 2,    7.3340,     25.00,   -999.0, 9,   -999.0,  -999.00, 9,   -999.0,   2.6709, 27.4344,   2.7313, 2, 2, 0.44, 0.16, 0.01, 0.018,  -999.00, 9, -999.00, -999.00, 9, -999.00
49NZ20071008, P01, P01_52, 1, 23, X12027, 2, 20071017, 2249, 46.9855, 169.9970, 4922,   1070.4, 2,   2.5455, 2,  34.4422, 2,  34.4427, 6,     24.1, 2,     24.3, 2,   153.80, 2,    43.92, 2,     0.00, 2,     3.14, 2,    0.072, 2,    0.031, 2,    0.014, 2, -999.000, 9,   2390.9, 2,   2389.2, 2,    7.3444,     25.00,   -999.0, 9,   -999.0,  -999.00, 9,   -999.0,   2.4762, 27.4859,   2.5453, 2, 2, 0.46, 0.16, 0.01, 0.018,  -999.00, 9, -999.00, -999.00, 9, -999.00
49NZ20071008, P01, P01_52, 1, 22, X12028, 2, 20071017, 2249, 46.9855, 169.9970, 4922,   1271.2, 2,   2.3009, 2,  34.4990, 2,  34.4993, 2,     34.0, 2,     34.1, 2,   160.05, 2,    43.43, 2,     0.00, 2,     3.10, 2,    0.034, 2,    0.016, 2,    0.000, 2, -999.000, 9,   2388.8, 2,   2402.9, 3,    7.3674,     25.00,   -999.0, 9,   -999.0,  -999.00, 9,   -999.0,   2.2188, 27.5527,   2.3009, 2, 2, 0.47, 0.15, 0.01, 0.018,  -999.00, 9, -999.00, -999.00, 9, -999.00
49NZ20071008, P01, P01_52, 1, 21, X12009, 2, 20071017, 2249, 46.9855, 169.9970, 4922,   1469.2, 2,   2.1246, 2,  34.5397, 2,  34.5406, 2,     44.8, 2,     46.0, 2,   163.49, 2,    42.74, 2,     0.00, 2,     3.05, 2,    0.018, 2,    0.006, 2,    0.000, 2, -999.000, 9,   2384.9, 2,   2406.9, 2,    7.3936,     25.00,   -999.0, 9,   -999.0,  -999.00, 9,   -999.0,   2.0293, 27.6006,   2.1242, 2, 2, 0.48, 0.15, 0.01, 0.018,  -999.00, 9, -999.00, -999.00, 9, -999.00
49NZ20071008, P01, P01_52, 1, 20, X12026, 2, 20071017, 2249, 46.9855, 169.9970, 4922,   1671.1, 2,   1.9780, 2,  34.5719, 2,  34.5721, 2,     56.3, 2,     58.1, 2,   165.17, 2,    42.16, 2,     0.00, 2,     3.00, 2,    0.012, 2,    0.009, 2,    0.000, 2, -999.000, 9,   2388.0, 3,   2417.7, 3,    7.4178,     25.00,   -999.0, 9,   -999.0,  -999.00, 9,   -999.0,   1.8688, 27.6390,   1.9779, 2, 6, 0.48, 0.15, 0.01, 0.017,  -999.00, 9, -999.00, -999.00, 9, -999.00
49NZ20071008, P01, P01_52, 1, 19, X12025, 2, 20071017, 2249, 46.9855, 169.9970, 4922,   1869.3, 2,   1.8615, 2,  34.5956, 2,  34.5954, 2,     67.4, 2,     69.0, 2,   166.66, 2,    41.37, 2,     0.00, 2,     2.95, 2,    0.015, 2,    0.007, 2,    0.000, 2, -999.000, 9,   2379.5, 2,   2414.1, 2,    7.4388,     25.00,   -999.0, 9,   -999.0,  -999.00, 9,   -999.0,   1.7380, 27.6679,   1.8614, 2, 2, 0.49, 0.15, 0.01, 0.017,  -999.00, 9, -999.00, -999.00, 9, -999.00
49NZ20071008, P01, P01_52, 1, 18, X12024, 2, 20071017, 2249, 46.9855, 169.9970, 4922,   2070.8, 2,   1.7797, 2,  34.6123, 2,  34.6124, 2,     79.3, 2,     79.3, 2,   166.84, 2,    40.76, 2,     0.00, 2,     2.91, 2,    0.003, 2,    0.001, 2,    0.000, 2, -999.000, 9,   2378.2, 3,   2415.8, 2,    7.4608,     25.00,   -999.0, 9,   -999.0,  -999.00, 9,   -999.0,   1.6408, 27.6887,   1.7796, 2, 2, 0.49, 0.15, 0.01, 0.017,  -999.00, 9, -999.00, -999.00, 9, -999.00
49NZ20071008, P01, P01_52, 1, 17, X12023, 2, 20071017, 2249, 46.9855, 169.9970, 4922,   2269.7, 2,   1.7073, 2,  34.6277, 2,  34.6277, 2,     93.3, 2,     91.5, 2,   164.74, 2,    40.00, 2,     0.00, 2,     2.85, 2,    0.002, 2,    0.001, 2,    0.000, 2, -999.000, 9,   2366.8, 2,   2420.3, 3,    7.4831,     25.00,   -999.0, 9,   -999.0,  -999.00, 9,   -999.0,   1.5527, 27.7075,   1.7072, 2, 2, 0.48, 0.14, 0.01, 0.017,  -999.00, 9, -999.00, -999.00, 9, -999.00
49NZ20071008, P01, P01_52, 1, 16, X12022, 2, 20071017, 2249, 46.9855, 169.9970, 4922,   2471.8, 2,   1.6361, 2,  34.6412, 2,  34.6412, 6,    102.7, 2,    101.8, 2,   164.49, 2,    39.32, 2,     0.00, 2,     2.80, 2,    0.002, 2,    0.004, 2,    0.000, 2, -999.000, 9,   2362.3, 6,   2418.4, 2,    7.5028,     25.00,   -999.0, 9,   -999.0,  -999.00, 9,   -999.0,   1.4652, 27.7247,   1.6361, 2, 2, 0.48, 0.14, 0.01, 0.017,  -999.00, 9, -999.00, -999.00, 9, -999.00
49NZ20071008, P01, P01_52, 1, 15, X12021, 2, 20071017, 2249, 46.9855, 169.9970, 4922,   2671.2, 2,   1.5895, 2,  34.6507, 2,  34.6512, 2,    110.5, 2,    110.6, 2,   162.42, 2,    38.68, 2,     0.00, 2,     2.76, 2, -999.000, 9, -999.000, 9, -999.000, 9, -999.000, 9,   2356.7, 2,   2421.3, 3,    7.5181,     25.00,   -999.0, 9,   -999.0,  -999.00, 9,   -999.0,   1.4015, 27.7369,   1.5896, 2, 2, 0.48, 0.14, 0.01, 0.017,  -999.00, 9, -999.00, -999.00, 9, -999.00
49NZ20071008, P01, P01_52, 1, 14, X12020, 2, 20071017, 2249, 46.9855, 169.9970, 4922,   2868.6, 2,   1.5552, 2,  34.6581, 2,  34.6584, 2,    118.5, 2,    118.5, 2,   160.17, 2,    38.26, 2,     0.00, 2,     2.72, 2, -999.000, 9, -999.000, 9, -999.000, 9, -999.000, 9,   2352.0, 2,   2422.1, 3,    7.5329,     25.00,   -999.0, 9,   -999.0,  -999.00, 9,   -999.0,   1.3497, 27.7466,   1.5551, 2, 6, 0.47, 0.14, 0.01, 0.017,  -999.00, 9, -999.00, -999.00, 9, -999.00
49NZ20071008, P01, P01_52, 1, 13, X12019, 2, 20071017, 2249, 46.9855, 169.9970, 4922,   3080.3, 2,   1.5139, 2,  34.6662, 2,  34.6663, 2,    127.9, 2,    127.7, 2,   157.40, 2,    37.70, 2,     0.00, 2,     2.68, 2,    0.004, 2,    0.001, 2,    0.000, 2, -999.000, 9,   2345.0, 2,   2419.7, 2,    7.5493,     25.00,   -999.0, 9,   -999.0,  -999.00, 9,   -999.0,   1.2892, 27.7574,   1.5139, 2, 2, 0.47, 0.14, 0.01, 0.017,  -999.00, 9, -999.00, -999.00, 9, -999.00
49NZ20071008, P01, P01_52, 1, 12, X12040, 2, 20071017, 2249, 46.9855, 169.9970, 4922,   3331.1, 2,   1.4761, 2,  34.6737, 2,  34.6740, 2,    136.6, 2,    136.5, 2,   154.21, 2,    36.98, 2,     0.00, 2,     2.61, 2, -999.000, 9, -999.000, 9, -999.000, 9, -999.000, 9,   2336.6, 2,   2419.1, 2,    7.5630,     25.00,   -999.0, 9,   -999.0,  -999.00, 9,   -999.0,   1.2276, 27.7677,   1.4761, 2, 2, 0.46, 0.14, 0.01, 0.016,  -999.00, 9, -999.00, -999.00, 9, -999.00
49NZ20071008, P01, P01_52, 1, 11, X12047, 2, 20071017, 2249, 46.9855, 169.9970, 4922,   3579.1, 2,   1.4553, 2,  34.6789, 2,  34.6794, 2,    143.2, 2,    143.1, 2,   152.14, 2,    36.67, 2,     0.00, 2,     2.60, 2, -999.000, 9, -999.000, 9, -999.000, 9, -999.000, 9,   2331.1, 2,   2419.1, 2,    7.5761,     25.00,   -999.0, 9,   -999.0,  -999.00, 9,   -999.0,   1.1822, 27.7750,   1.4554, 2, 2, 0.45, 0.14, 0.01, 0.016,  -999.00, 9, -999.00, -999.00, 9, -999.00
49NZ20071008, P01, P01_52, 1, 10, X12010, 2, 20071017, 2249, 46.9855, 169.9970, 4922,   3829.5, 2,   1.4479, 2,  34.6828, 2,  34.6829, 6,    148.0, 2,    147.8, 2,   150.81, 2,    36.31, 2,     0.00, 2,     2.56, 2,    0.000, 2,    0.000, 2,    0.000, 2, -999.000, 9,   2329.0, 2,   2417.9, 2,    7.5834,     25.00,   -999.0, 9,   -999.0,  -999.00, 9,   -999.0,   1.1488, 27.7804,   1.4479, 2, 2, 0.45, 0.13, 0.01, 0.016,  -999.00, 9, -999.00, -999.00, 9, -999.00
49NZ20071008, P01, P01_52, 1, 9, X12015, 2, 20071017, 2249, 46.9855, 169.9970, 4922,   4080.8, 2,   1.4532, 2,  34.6851, 2,  34.6851, 2,    150.7, 2,    150.9, 2,   150.23, 2,    36.19, 2,     0.00, 2,     2.55, 2, -999.000, 9, -999.000, 9, -999.000, 9, -999.000, 9,   2324.5, 2,   2419.7, 2,    7.5894,     25.00,   -999.0, 9,   -999.0,  -999.00, 9,   -999.0,   1.1268, 27.7838,   1.4532, 2, 2, 0.45, 0.13, 0.01, 0.016,  -999.00, 9, -999.00, -999.00, 9, -999.00
49NZ20071008, P01, P01_52, 1, 8, X12046, 2, 20071017, 2249, 46.9855, 169.9970, 4922,   4330.1, 2,   1.4680, 2,  34.6866, 2,  34.6869, 2,    152.7, 2,    152.7, 2,   149.78, 2,    36.00, 2,     0.00, 2,     2.54, 2, -999.000, 9, -999.000, 9, -999.000, 9, -999.000, 9,   2324.0, 2,   2419.2, 2,    7.5918,     25.00,   -999.0, 9,   -999.0,  -999.00, 9,   -999.0,   1.1134, 27.7859,   1.4681, 2, 2, 0.45, 0.13, 0.01, 0.016,  -999.00, 9, -999.00, -999.00, 9, -999.00
49NZ20071008, P01, P01_52, 1, 7, X12044, 2, 20071017, 2249, 46.9855, 169.9970, 4922,   4581.5, 2,   1.4894, 2,  34.6874, 2,  34.6879, 2,    154.0, 2,    153.9, 2,   149.69, 2,    35.95, 2,     0.00, 2,     2.53, 2,    0.000, 2,    0.000, 2,    0.000, 2, -999.000, 9,   2318.2, 3,   2418.2, 6,    7.5941,     25.00,   -999.0, 9,   -999.0,  -999.00, 9,   -999.0,   1.1053, 27.7871,   1.4893, 2, 2, 0.45, 0.13, 0.01, 0.016,  -999.00, 9, -999.00, -999.00, 9, -999.00
49NZ20071008, P01, P01_52, 1, 6, X12048, 2, 20071017, 2249, 46.9855, 169.9970, 4922,   4828.9, 2,   1.5135, 2,  34.6881, 2,  34.6885, 2,    154.8, 2,    154.6, 2,   149.61, 2,    35.89, 2,     0.00, 2,     2.53, 2, -999.000, 9, -999.000, 9, -999.000, 9, -999.000, 9,   2323.2, 2,   2418.8, 2,    7.5951,     25.00,   -999.0, 9,   -999.0,  -999.00, 9,   -999.0,   1.0995, 27.7880,   1.5134, 2, 6, 0.45, 0.13, 0.01, 0.016,  -999.00, 9, -999.00, -999.00, 9, -999.00
49NZ20071008, P01, P01_52, 1, 5, X12014, 9, 20071017, 2249, 46.9855, 169.9970, 4922,   2868.8, 2,   1.5553, 2,  34.6580, 2, -999.0000, 9,    118.5, 2,   -999.0, 9,  -999.00, 9,  -999.00, 9,  -999.00, 9,  -999.00, 9, -999.000, 9, -999.000, 9, -999.000, 9, -999.000, 9,   -999.0, 9,   -999.0, 9, -999.0000,   -999.00,   -999.0, 9,   -999.0,  -999.00, 9,   -999.0,   1.3498, 27.7465,   1.5552, 2, 9, -999.00, -999.00, -999.00, -999.000,  -999.00, 9, -999.00, -999.00, 9, -999.00
49NZ20071008, P01, P01_52, 1, 4, X12006, 9, 20071017, 2249, 46.9855, 169.9970, 4922,   3080.9, 2,   1.5140, 2,  34.6661, 2, -999.0000, 9,    127.9, 2,   -999.0, 9,  -999.00, 9,  -999.00, 9,  -999.00, 9,  -999.00, 9, -999.000, 9, -999.000, 9, -999.000, 9, -999.000, 9,   -999.0, 9,   -999.0, 9, -999.0000,   -999.00,   -999.0, 9,   -999.0,  -999.00, 9,   -999.0,   1.2892, 27.7573,   1.5140, 2, 9, -999.00, -999.00, -999.00, -999.000,  -999.00, 9, -999.00, -999.00, 9, -999.00
49NZ20071008, P01, P01_52, 1, 3, X12013, 9, 20071017, 2249, 46.9855, 169.9970, 4922,   3080.8, 2,   1.5140, 2,  34.6661, 2, -999.0000, 9,    127.9, 2,   -999.0, 9,  -999.00, 9,  -999.00, 9,  -999.00, 9,  -999.00, 9, -999.000, 9, -999.000, 9, -999.000, 9, -999.000, 9,   -999.0, 9,   -999.0, 9, -999.0000,   -999.00,   -999.0, 9,   -999.0,  -999.00, 9,   -999.0,   1.2892, 27.7573,   1.5140, 2, 9, -999.00, -999.00, -999.00, -999.000,  -999.00, 9, -999.00, -999.00, 9, -999.00
49NZ20071008, P01, P01_52, 1, 2, X12002, 9, 20071017, 2249, 46.9855, 169.9970, 4922,   3080.6, 2,   1.5140, 2,  34.6661, 2, -999.0000, 9,    127.9, 2,   -999.0, 9,  -999.00, 9,  -999.00, 9,  -999.00, 9,  -999.00, 9, -999.000, 9, -999.000, 9, -999.000, 9, -999.000, 9,   -999.0, 9,   -999.0, 9, -999.0000,   -999.00,   -999.0, 9,   -999.0,  -999.00, 9,   -999.0,   1.2892, 27.7573,   1.5140, 2, 9, -999.00, -999.00, -999.00, -999.000,  -999.00, 9, -999.00, -999.00, 9, -999.00
49NZ20071008, P01, P01_52, 1, 1, X12001, 2, 20071017, 2249, 46.9855, 169.9970, 4922,   5014.8, 2,   1.5357, 2,  34.6881, 2,  34.6886, 6,    154.7, 2,    154.8, 2,   149.94, 2,    35.88, 2,     0.00, 2,     2.53, 2,    0.000, 2,    0.000, 2,    0.000, 2, -999.000, 9,   2326.1, 2,   2417.3, 2,    7.5948,     25.00,   -999.0, 9,   -999.0,  -999.00, 9,   -999.0,   1.0985, 27.7881,   1.5356, 2, 2, 0.45, 0.13, 0.01, 0.016,  -999.00, 9, -999.00, -999.00, 9, -999.00