BOTTLE,20221004CCHSIOAMB
EXPOCODE,SECT_ID,STNNBR,CASTNO,SAMPNO,BTLNBR,BTLNBR_FLAG_W,DATE,TIME,LATITUDE,LONGITUDE,DEPTH,CTDPRS,CTDTMP,CTDSAL,CTDSAL_FLAG_W,SALNTY,SALNTY_FLAG_W,OXYGEN,OXYGEN_FLAG_W,SILCAT,SILCAT_FLAG_W,NITRAT,NITRAT_FLAG_W,NITRIT,NITRIT_FLAG_W,PHSPHT,PHSPHT_FLAG_W
,,,,,,,,,,,,DBAR,ITS-90,PSS-78,,PSS-78,,UMOL/KG,,UMOL/KG,,UMOL/KG,,UMOL/KG,,UMOL/KG,
 06AQANTVIII_2,  SR02,   211,  1,     23,     23,2,19891022,0647,-59.0500,   2.4000, 5570,     21.5,  -1.8471,  34.3161,3,  34.3140,2,    323.6,2,    65.45,2,    28.60,2,     0.33,2,     2.00,2
 06AQANTVIII_2,  SR02,   211,  1,     22,     22,2,19891022,0647,-59.0500,   2.4000, 5570,     39.5,  -1.8471,  34.3141,3,-999.0000,9,   -999.0,9,  -999.00,9,  -999.00,9,  -999.00,9,  -999.00,9
 06AQANTVIII_2,  SR02,   211,  1,     21,     21,2,19891022,0647,-59.0500,   2.4000, 5570,     60.2,  -1.8441,  34.3154,3,  34.3140,2,    323.6,2,    65.54,2,    28.60,2,     0.31,2,     2.00,2
 06AQANTVIII_2,  SR02,   211,  1,     20,     20,2,19891022,0647,-59.0500,   2.4000, 5570,     78.8,  -1.8441,  34.3145,3,-999.0000,9,   -999.0,9,  -999.00,9,  -999.00,9,  -999.00,9,  -999.00,9
 06AQANTVIII_2,  SR02,   211,  1,     19,     19,2,19891022,0647,-59.0500,   2.4000, 5570,     99.6,  -1.8391,  34.3148,3,  34.3150,2,    323.5,2,    65.45,2,    28.60,2,     0.32,2,     2.01,2
 06AQANTVIII_2,  SR02,   211,  1,     18,     18,2,19891022,0647,-59.0500,   2.4000, 5570,    148.4,  -1.0617,  34.4165,3,-999.0000,9,   -999.0,9,  -999.00,9,  -999.00,9,  -999.00,9,  -999.00,9
 06AQANTVIII_2,  SR02,   211,  1,     17,     17,2,19891022,0647,-59.0500,   2.4000, 5570,    209.0,   0.2543,  34.6491,3,  34.6550,2,    200.2,2,   111.21,2,    33.60,2,     0.02,2,     2.36,2
 06AQANTVIII_2,  SR02,   211,  1,     16,     16,2,19891022,0647,-59.0500,   2.4000, 5570,    228.3,   0.3713,  34.6635,3,-999.0000,9,   -999.0,9,  -999.00,9,  -999.00,9,  -999.00,9,  -999.00,9
 06AQANTVIII_2,  SR02,   211,  1,     15,     15,2,19891022,0647,-59.0500,   2.4000, 5570,    269.7,   0.3943,  34.6692,3,  34.6720,2,    197.6,2,   114.16,2,    33.70,2,     0.03,2,     2.37,2
 06AQANTVIII_2,  SR02,   211,  1,     14,     14,2,19891022,0647,-59.0500,   2.4000, 5570,    300.1,   0.4143,  34.6743,3,  34.6780,2,    195.9,2,   116.02,2,    33.70,2,     0.02,2,     2.38,2
 06AQANTVIII_2,  SR02,   211,  1,     13,     13,2,19891022,0647,-59.0500,   2.4000, 5570,    400.3,   0.3563,  34.6770,3,  34.6780,2,    196.4,2,   118.68,2,    33.80,2,     0.00,2,     2.39,2
 06AQANTVIII_2,  SR02,   211,  1,     12,     12,2,19891022,0647,-59.0500,   2.4000, 5570,    506.7,   0.3153,  34.6771,3,  34.6780,2,    195.2,2,   121.13,2,    34.00,2,     0.02,2,     2.39,2
 06AQANTVIII_2,  SR02,   211,  1,     11,     11,2,19891022,0647,-59.0500,   2.4000, 5570,   1000.3,   0.0824,  34.6694,3,  34.6700,2,    210.6,2,   123.20,2,    33.40,2,     0.02,2,     2.36,2
 06AQANTVIII_2,  SR02,   211,  1,     10,     10,2,19891022,0647,-59.0500,   2.4000, 5570,   1497.4,  -0.0876,  34.6619,3,  34.6640,2,    220.7,2,   123.69,2,    32.90,2,     0.03,2,     2.35,2
 06AQANTVIII_2,  SR02,   211,  1,      9,      9,2,19891022,0647,-59.0500,   2.4000, 5570,   1997.4,  -0.2225,  34.6575,3,  34.6570,2,    231.2,2,   121.82,2,    32.70,2,     0.02,2,     2.31,2
 06AQANTVIII_2,  SR02,   211,  1,      8,      8,2,19891022,0647,-59.0500,   2.4000, 5570,   2504.1,  -0.2976,  34.6551,3,  34.6560,2,    234.4,2,   121.72,2,    32.50,2,     0.00,2,     2.32,2
 06AQANTVIII_2,  SR02,   211,  1,      7,      7,2,19891022,0647,-59.0500,   2.4000, 5570,   2998.3,  -0.3626,  34.6506,3,  34.6520,2,    239.6,2,   120.45,2,    32.30,2,     0.00,2,     2.29,2
 06AQANTVIII_2,  SR02,   211,  1,      6,      6,2,19891022,0647,-59.0500,   2.4000, 5570,   3504.3,  -0.4166,  34.6476,3,  34.6520,2,    243.1,2,   118.58,2,    32.20,2,     0.00,2,     2.29,2
 06AQANTVIII_2,  SR02,   211,  1,      5,      5,2,19891022,0647,-59.0500,   2.4000, 5570,   3997.3,  -0.4746,  34.6445,3,  34.6490,2,    249.0,2,   116.52,2,    32.10,2,     0.00,2,     2.29,2
 06AQANTVIII_2,  SR02,   211,  1,      4,      4,2,19891022,0647,-59.0500,   2.4000, 5570,   4502.9,  -0.4956,  34.6407,3,  34.6440,2,    250.9,2,   113.18,2,    32.00,2,     0.00,2,     2.28,2
 06AQANTVIII_2,  SR02,   211,  1,      3,      3,2,19891022,0647,-59.0500,   2.4000, 5570,   4997.0,  -0.4616,  34.6401,3,  34.6420,2,    251.7,2,   113.08,2,    32.00,2,    -0.02,4,     2.27,2
 06AQANTVIII_2,  SR02,   211,  1,      2,      2,2,19891022,0647,-59.0500,   2.4000, 5570,   5559.4,  -0.4056,  34.6425,3,  34.6410,2,    251.0,2,   115.04,2,    32.10,2,     0.01,2,     2.27,2
 06AQANTVIII_2,  SR02,   211,  1,      1,      1,2,19891022,0647,-59.0500,   2.4000, 5570,   5609.8,  -0.3996,  34.6423,3,  34.6440,2,    251.4,2,   114.45,2,    32.10,2,     0.00,2,     2.27,2
 06AQANTVIII_2,  SR02,   212,  1,     24,     24,2,19891022,1843,-58.2167,   3.2167, 5119,     10.1,  -1.8401,  34.3016,3,-999.0000,9,   -999.0,9,  -999.00,9,  -999.00,9,  -999.00,9,  -999.00,9
 06AQANTVIII_2,  SR02,   212,  1,     23,     23,2,19891022,1843,-58.2167,   3.2167, 5119,     19.7,  -1.8381,  34.3014,3,  34.3020,2,    328.4,2,    66.43,2,    28.70,2,     0.34,2,     2.03,2
 06AQANTVIII_2,  SR02,   212,  1,     22,     22,2,19891022,1843,-58.2167,   3.2167, 5119,     39.5,  -1.8381,  34.3026,3,-999.0000,9,   -999.0,9,  -999.00,9,  -999.00,9,  -999.00,9,  -999.00,9
 06AQANTVIII_2,  SR02,   212,  1,     21,     21,2,19891022,1843,-58.2167,   3.2167, 5119,     59.8,  -1.8351,  34.3027,3,  34.3030,2,    328.0,2,    66.63,2,    28.80,2,     0.33,2,     2.03,2
 06AQANTVIII_2,  SR02,   212,  1,     20,     20,2,19891022,1843,-58.2167,   3.2167, 5119,     80.4,  -1.8311,  34.3043,3,-999.0000,9,   -999.0,9,    66.63,2,    28.80,2,     0.32,2,     2.03,2
 06AQANTVIII_2,  SR02,   212,  1,     19,     19,2,19891022,1843,-58.2167,   3.2167, 5119,     97.3,  -1.8181,  34.3034,3,  34.3040,2,    328.0,2,    66.63,2,    28.80,2,     0.32,2,     2.03,2
 06AQANTVIII_2,  SR02,   212,  1,     18,     18,2,19891022,1843,-58.2167,   3.2167, 5119,    155.9,  -0.4156,  34.5026,3,-999.0000,9,   -999.0,9,  -999.00,9,  -999.00,9,  -999.00,9,  -999.00,9
 06AQANTVIII_2,  SR02,   212,  1,     17,     17,2,19891022,1843,-58.2167,   3.2167, 5119,    211.7,   0.1874,  34.6112,3,  34.6080,2,    221.5,2,    99.92,2,    32.60,2,     0.02,2,     2.29,2
 06AQANTVIII_2,  SR02,   212,  1,     16,     16,2,19891022,1843,-58.2167,   3.2167, 5119,    248.8,   0.3123,  34.6338,3,-999.0000,9,   -999.0,9,   103.84,2,    32.90,2,     0.03,2,     2.32,2
 06AQANTVIII_2,  SR02,   212,  1,     15,     15,2,19891022,1843,-58.2167,   3.2167, 5119,    301.0,   0.4153,  34.6572,3,  34.6580,2,    207.5,2,   107.97,2,    33.00,2,     0.03,2,     2.31,2
 06AQANTVIII_2,  SR02,   212,  1,     14,     14,2,19891022,1843,-58.2167,   3.2167, 5119,    349.6,   0.4303,  34.6664,3,  34.6660,2,    204.6,2,   110.52,2,    33.20,2,     0.03,2,     2.33,2
 06AQANTVIII_2,  SR02,   212,  1,     13,     13,2,19891022,1843,-58.2167,   3.2167, 5119,    405.4,   0.4273,  34.6732,3,  34.6740,2,    207.9,2,   112.68,2,    33.30,2,     0.03,2,     2.34,2
 06AQANTVIII_2,  SR02,   212,  1,     12,     12,2,19891022,1843,-58.2167,   3.2167, 5119,    528.9,   0.3953,  34.6780,3,  34.6790,2,    201.6,2,   116.02,2,    33.50,2,     0.02,2,     2.35,2
 06AQANTVIII_2,  SR02,   212,  1,     11,     11,2,19891022,1843,-58.2167,   3.2167, 5119,    760.1,   0.2943,  34.6774,3,  34.6760,2,    201.6,2,   120.05,2,    33.80,2,     0.02,2,     2.38,2
 06AQANTVIII_2,  SR02,   212,  1,     10,     10,2,19891022,1843,-58.2167,   3.2167, 5119,   1004.9,   0.1744,  34.6716,3,  34.6700,2,    209.6,2,   120.84,2,    33.50,2,     0.03,2,     2.37,2
 06AQANTVIII_2,  SR02,   212,  1,      9,      9,2,19891022,1843,-58.2167,   3.2167, 5119,   1500.9,  -0.0236,  34.6649,3,  34.6660,2,    219.5,2,   122.31,2,    33.40,2,     0.02,2,     2.34,2
 06AQANTVIII_2,  SR02,   212,  1,      8,      8,2,19891022,1843,-58.2167,   3.2167, 5119,   2012.6,  -0.1806,  34.6592,3,  34.6610,2,    229.3,2,   122.31,2,    33.10,2,     0.02,2,     2.32,2
 06AQANTVIII_2,  SR02,   212,  1,      7,      7,2,19891022,1843,-58.2167,   3.2167, 5119,   2500.3,  -0.2725,  34.6556,3,  34.6570,2,    234.7,2,   122.02,2,    32.90,2,     0.03,2,     2.31,2
 06AQANTVIII_2,  SR02,   212,  1,      6,      6,2,19891022,1843,-58.2167,   3.2167, 5119,   2997.3,  -0.3196,  34.6534,3,  34.6540,2,    237.8,2,   121.43,2,    32.50,2,     0.03,2,     2.31,2
 06AQANTVIII_2,  SR02,   212,  1,      5,      5,2,19891022,1843,-58.2167,   3.2167, 5119,   3495.9,  -0.3746,  34.6498,3,  34.6500,2,    238.1,2,   117.99,2,    32.50,2,     0.03,2,     2.31,2
 06AQANTVIII_2,  SR02,   212,  1,      4,      4,2,19891022,1843,-58.2167,   3.2167, 5119,   3973.5,  -0.4156,  34.6466,3,  34.6470,2,    245.5,2,   117.20,2,    32.20,2,     0.03,2,     2.28,2
 06AQANTVIII_2,  SR02,   212,  1,      3,      3,2,19891022,1843,-58.2167,   3.2167, 5119,   4497.2,  -0.4386,  34.6431,3,  34.6450,2,    249.2,2,   114.95,2,    32.20,2,     0.02,2,     2.28,2
 06AQANTVIII_2,  SR02,   212,  1,      2,      2,2,19891022,1843,-58.2167,   3.2167, 5119,   5172.6,  -0.4266,  34.6413,3,  34.6420,2,    251.3,2,   113.47,2,    32.10,2,     0.03,2,     2.27,2
 06AQANTVIII_2,  SR02,   212,  1,      1,      1,2,19891022,1843,-58.2167,   3.2167, 5119,   5225.3,  -0.4236,  34.6401,3,  34.6420,2,    250.9,2,   114.26,2,    32.10,2,     0.04,2,     2.27,2
 06AQANTVIII_2,  SR02,   213,  1,     17,     17,2,19891023,0509,-57.2500,   4.0333, 4348,    120.3,  -1.6500,  34.3163,3,-999.0000,9,   -999.0,9,  -999.00,9,  -999.00,9,  -999.00,9,  -999.00,9
 06AQANTVIII_2,  SR02,   213,  1,     16,     16,2,19891023,0509,-57.2500,   4.0333, 4348,    200.5,   0.2323,  34.6284,3,  34.6280,2,    215.9,2,   102.76,2,    32.60,2,    -0.01,4,     2.28,2
 06AQANTVIII_2,  SR02,   213,  1,     15,     15,2,19891023,0509,-57.2500,   4.0333, 4348,    247.6,   0.4013,  34.6543,3,-999.0000,9,   -999.0,9,  -999.00,9,  -999.00,9,  -999.00,9,  -999.00,9
 06AQANTVIII_2,  SR02,   213,  1,     14,     14,2,19891023,0509,-57.2500,   4.0333, 4348,    299.5,   0.3843,  34.6619,3,  34.6660,2,    204.8,2,   110.23,2,    33.00,2,     0.01,2,     2.32,2
 06AQANTVIII_2,  SR02,   213,  1,     13,     13,2,19891023,0509,-57.2500,   4.0333, 4348,    350.9,   0.4993,  34.6776,3,  34.6800,2,    204.3,2,   112.19,2,    32.90,2,     0.00,2,     2.32,2
 06AQANTVIII_2,  SR02,   213,  1,     12,     12,2,19891023,0509,-57.2500,   4.0333, 4348,    408.3,   0.4373,  34.6790,3,  34.6790,2,    203.5,2,   114.45,2,    33.00,2,     0.02,2,     2.33,2
 06AQANTVIII_2,  SR02,   213,  1,     11,     11,2,19891023,0509,-57.2500,   4.0333, 4348,    501.8,   0.3803,  34.6786,3,  34.6790,2,    203.4,2,   117.01,2,    33.20,2,     0.00,2,     2.35,2
 06AQANTVIII_2,  SR02,   213,  1,     10,     10,2,19891023,0509,-57.2500,   4.0333, 4348,    762.2,   0.2413,  34.6758,3,  34.6790,2,    205.9,2,   120.35,2,    33.30,2,     0.00,2,     2.35,2
 06AQANTVIII_2,  SR02,   213,  1,      9,      9,2,19891023,0509,-57.2500,   4.0333, 4348,   1000.0,   0.1264,  34.6735,3,  34.6710,2,    210.4,2,   121.82,2,    33.30,2,     0.02,2,     2.34,2
 06AQANTVIII_2,  SR02,   213,  1,      8,      8,2,19891023,0509,-57.2500,   4.0333, 4348,   1503.0,  -0.0746,  34.6633,3,  34.6650,2,    222.9,2,   122.41,2,    33.00,2,    -0.01,4,     2.34,2
 06AQANTVIII_2,  SR02,   213,  1,      7,      7,2,19891023,0509,-57.2500,   4.0333, 4348,   1997.0,  -0.2036,  34.6605,3,  34.6600,2,    231.5,2,   122.41,2,    32.80,2,     0.00,2,     2.33,2
 06AQANTVIII_2,  SR02,   213,  1,      6,      6,2,19891023,0509,-57.2500,   4.0333, 4348,   2496.0,  -0.2886,  34.6561,3,  34.6560,2,    235.6,2,   122.12,2,    32.70,2,    -0.02,4,     2.32,2
 06AQANTVIII_2,  SR02,   213,  1,      5,      5,2,19891023,0509,-57.2500,   4.0333, 4348,   2996.8,  -0.3426,  34.6531,3,  34.6530,2,    238.8,2,   121.53,2,    32.50,2,    -0.02,4,     2.29,2
 06AQANTVIII_2,  SR02,   213,  1,      4,      4,2,19891023,0509,-57.2500,   4.0333, 4348,   3500.5,  -0.3926,  34.6482,3,  34.6490,2,    242.8,2,   119.27,2,    32.40,2,    -0.01,4,     2.29,2
 06AQANTVIII_2,  SR02,   213,  1,      3,      3,2,19891023,0509,-57.2500,   4.0333, 4348,   3993.2,  -0.4176,  34.6482,3,  34.6450,2,    245.7,2,   117.50,2,    32.40,2,    -0.01,4,     2.28,2
 06AQANTVIII_2,  SR02,   213,  1,      2,      2,2,19891023,0509,-57.2500,   4.0333, 4348,   4413.4,  -0.4206,  34.6460,3,  34.6460,2,    247.3,2,   116.71,2,    32.20,2,    -0.02,4,     2.27,2
 06AQANTVIII_2,  SR02,   213,  1,      1,      1,2,19891023,0509,-57.2500,   4.0333, 4348,   4461.4,  -0.4206,  34.6460,3,  34.6470,2,    247.8,2,   116.52,2,    32.30,2,    -0.03,4,     2.27,2
 06AQANTVIII_2,  SR02,   214,  1,     24,     24,2,19891023,1244,-56.8000,   4.5000, 5213,     21.6,  -1.8401,  34.2672,3,  34.2670,2,    324.1,2,    68.89,2,    28.91,2,     0.31,2,     2.00,2
 06AQANTVIII_2,  SR02,   214,  1,     23,     23,2,19891023,1244,-56.8000,   4.5000, 5213,     21.8,  -1.8391,  34.2659,3,-999.0000,9,   -999.0,9,  -999.00,9,  -999.00,9,  -999.00,9,  -999.00,9
 06AQANTVIII_2,  SR02,   214,  1,     22,     22,2,19891023,1244,-56.8000,   4.5000, 5213,     52.3,  -1.8401,  34.2682,3,  34.2670,2,    324.1,2,    69.08,2,    28.91,2,     0.30,2,     2.00,2
 06AQANTVIII_2,  SR02,   214,  1,     21,     21,2,19891023,1244,-56.8000,   4.5000, 5213,     52.5,  -1.8411,  34.2678,3,-999.0000,9,   -999.0,9,  -999.00,9,  -999.00,9,  -999.00,9,  -999.00,9
 06AQANTVIII_2,  SR02,   214,  1,     20,     20,2,19891023,1244,-56.8000,   4.5000, 5213,     81.5,  -1.8381,  34.2679,3,  34.2660,2,    323.4,2,    69.08,2,    28.91,2,     0.30,2,     1.99,2
 06AQANTVIII_2,  SR02,   214,  1,     19,     19,2,19891023,1244,-56.8000,   4.5000, 5213,     82.1,  -1.8371,  34.2678,3,-999.0000,9,   -999.0,9,  -999.00,9,  -999.00,9,  -999.00,9,  -999.00,9
 06AQANTVIII_2,  SR02,   214,  1,     18,     18,2,19891023,1244,-56.8000,   4.5000, 5213,    101.6,  -1.8341,  34.2698,3,  34.2680,2,    323.9,2,    69.08,2,    28.91,2,     0.28,2,     1.99,2
 06AQANTVIII_2,  SR02,   214,  1,     17,     17,2,19891023,1244,-56.8000,   4.5000, 5213,    101.9,  -1.8341,  34.2655,3,-999.0000,9,   -999.0,9,  -999.00,9,  -999.00,9,  -999.00,9,  -999.00,9
 06AQANTVIII_2,  SR02,   214,  1,     16,     16,2,19891023,1244,-56.8000,   4.5000, 5213,    151.9,  -0.8577,  34.4301,3,  34.4360,2,    276.0,2,    81.75,2,    30.70,2,     0.06,2,     2.12,2
 06AQANTVIII_2,  SR02,   214,  1,     15,     15,2,19891023,1244,-56.8000,   4.5000, 5213,    152.0,  -0.8557,  34.4387,3,-999.0000,9,   -999.0,9,  -999.00,9,  -999.00,9,  -999.00,9,  -999.00,9
 06AQANTVIII_2,  SR02,   214,  1,     13,     13,2,19891023,1244,-56.8000,   4.5000, 5213,    202.6,   0.4073,  34.6240,3,-999.0000,9,   -999.0,9,  -999.00,9,  -999.00,9,  -999.00,9,  -999.00,9
 06AQANTVIII_2,  SR02,   214,  1,     14,     14,2,19891023,1244,-56.8000,   4.5000, 5213,    202.8,   0.4053,  34.6248,3,  34.6260,2,    215.6,2,    99.72,2,    32.40,2,     0.03,2,     2.25,2
 06AQANTVIII_2,  SR02,   214,  1,     11,     11,2,19891023,1244,-56.8000,   4.5000, 5213,    245.3,   0.5423,  34.6536,3,-999.0000,9,   -999.0,9,  -999.00,9,  -999.00,9,  -999.00,9,  -999.00,9
 06AQANTVIII_2,  SR02,   214,  1,     12,     12,2,19891023,1244,-56.8000,   4.5000, 5213,    246.2,   0.5483,  34.6555,3,  34.6550,2,    208.8,2,   104.43,2,    32.50,2,     0.04,2,     2.25,2
 06AQANTVIII_2,  SR02,   214,  1,      9,      9,2,19891023,1244,-56.8000,   4.5000, 5213,    299.6,   0.5893,  34.6677,3,-999.0000,9,   -999.0,9,  -999.00,9,  -999.00,9,  -999.00,9,  -999.00,9
 06AQANTVIII_2,  SR02,   214,  1,     10,     10,2,19891023,1244,-56.8000,   4.5000, 5213,    302.6,   0.5863,  34.6693,3,  34.6680,2,    206.4,2,   106.99,2,    32.50,2,     0.03,2,     2.25,2
 06AQANTVIII_2,  SR02,   214,  1,      7,      7,2,19891023,1244,-56.8000,   4.5000, 5213,    427.2,   0.3793,  34.6704,3,-999.0000,9,   -999.0,9,  -999.00,9,  -999.00,9,  -999.00,9,  -999.00,9
 06AQANTVIII_2,  SR02,   214,  1,      8,      8,2,19891023,1244,-56.8000,   4.5000, 5213,    429.4,   0.3763,  34.6712,3,  34.6720,2,    201.1,2,   114.55,2,    33.40,2,     0.01,2,     2.31,2
 06AQANTVIII_2,  SR02,   214,  1,      5,      5,2,19891023,1244,-56.8000,   4.5000, 5213,    508.4,   0.3733,  34.6763,3,-999.0000,9,   -999.0,9,  -999.00,9,  -999.00,9,  -999.00,9,  -999.00,9
 06AQANTVIII_2,  SR02,   214,  1,      6,      6,2,19891023,1244,-56.8000,   4.5000, 5213,    513.8,   0.3733,  34.6757,3,  34.6790,2,    200.0,2,   117.79,2,    33.60,2,     0.01,2,     2.32,2
 06AQANTVIII_2,  SR02,   214,  1,      4,      4,2,19891023,1244,-56.8000,   4.5000, 5213,    755.9,   0.2833,  34.6759,3,  34.6770,2,    201.5,2,   121.03,2,    33.50,2,     0.01,2,     2.32,2
 06AQANTVIII_2,  SR02,   214,  1,      3,      3,2,19891023,1244,-56.8000,   4.5000, 5213,    756.1,   0.2833,  34.6758,3,-999.0000,9,   -999.0,9,  -999.00,9,  -999.00,9,  -999.00,9,  -999.00,9
 06AQANTVIII_2,  SR02,   214,  1,      2,      2,2,19891023,1244,-56.8000,   4.5000, 5213,   1000.3,   0.1664,  34.6707,3,  34.6750,2,    208.8,2,   122.11,2,    33.20,2,     0.03,2,     2.31,2
 06AQANTVIII_2,  SR02,   214,  1,      1,      1,2,19891023,1244,-56.8000,   4.5000, 5213,   1001.5,   0.1654,  34.6711,3,-999.0000,9,   -999.0,9,  -999.00,9,  -999.00,9,  -999.00,9,  -999.00,9