BOTTLE,20221004CCHSIOAMB
EXPOCODE,SECT_ID,STNNBR,CASTNO,SAMPNO,BTLNBR,BTLNBR_FLAG_W,DATE,TIME,LATITUDE,LONGITUDE,DEPTH,CTDPRS,CTDTMP,CTDSAL,CTDSAL_FLAG_W,SALNTY,SALNTY_FLAG_W,OXYGEN,OXYGEN_FLAG_W,SILCAT,SILCAT_FLAG_W,NITRAT,NITRAT_FLAG_W,NITRIT,NITRIT_FLAG_W,PHSPHT,PHSPHT_FLAG_W
,,,,,,,,,,,,DBAR,ITS-90,PSS-78,,PSS-78,,UMOL/KG,,UMOL/KG,,UMOL/KG,,UMOL/KG,,UMOL/KG,
 06AQANTVIII_2,  SR04,   145,  1,     23,     23,4,19890912,1920,-63.3333, -53.0000,  434,      9.3,  -1.8699,  34.4469,3,  34.5850,4,    304.2,2,    74.87,2,    30.80,2,     0.03,2,     2.13,2
 06AQANTVIII_2,  SR04,   145,  1,     22,     22,4,19890912,1920,-63.3333, -53.0000,  434,     47.9,  -1.8639,  34.4506,3,  34.4510,2,   -999.0,9,  -999.00,9,  -999.00,9,  -999.00,9,  -999.00,9
 06AQANTVIII_2,  SR04,   145,  1,     21,     21,4,19890912,1920,-63.3333, -53.0000,  434,     47.9,  -1.8639,  34.4506,3,  34.4530,2,   -999.0,9,  -999.00,9,  -999.00,9,  -999.00,9,  -999.00,9
 06AQANTVIII_2,  SR04,   145,  1,     20,     20,4,19890912,1920,-63.3333, -53.0000,  434,     47.9,  -1.8629,  34.4494,3,  34.4520,2,   -999.0,9,  -999.00,9,  -999.00,9,  -999.00,9,  -999.00,9
 06AQANTVIII_2,  SR04,   145,  1,     19,     19,4,19890912,1920,-63.3333, -53.0000,  434,     47.9,  -1.8639,  34.4506,3,  34.4540,2,   -999.0,9,  -999.00,9,  -999.00,9,  -999.00,9,  -999.00,9
 06AQANTVIII_2,  SR04,   145,  1,     18,     18,4,19890912,1920,-63.3333, -53.0000,  434,     47.9,  -1.8629,  34.4494,3,  34.4530,2,   -999.0,9,  -999.00,9,  -999.00,9,  -999.00,9,  -999.00,9
 06AQANTVIII_2,  SR04,   145,  1,     17,     17,4,19890912,1920,-63.3333, -53.0000,  434,     47.9,  -1.8639,  34.4492,3,  34.4530,2,   -999.0,9,  -999.00,9,  -999.00,9,  -999.00,9,  -999.00,9
 06AQANTVIII_2,  SR04,   145,  1,     16,     16,4,19890912,1920,-63.3333, -53.0000,  434,     47.9,  -1.8649,  34.4503,3,  34.4550,2,   -999.0,9,  -999.00,9,  -999.00,9,  -999.00,9,  -999.00,9
 06AQANTVIII_2,  SR04,   145,  1,     15,     15,4,19890912,1920,-63.3333, -53.0000,  434,     47.9,  -1.8649,  34.4489,3,  34.4550,2,   -999.0,9,  -999.00,9,  -999.00,9,  -999.00,9,  -999.00,9
 06AQANTVIII_2,  SR04,   145,  1,     14,     14,4,19890912,1920,-63.3333, -53.0000,  434,     47.9,  -1.8649,  34.4503,3,  34.4530,2,   -999.0,9,  -999.00,9,  -999.00,9,  -999.00,9,  -999.00,9
 06AQANTVIII_2,  SR04,   145,  1,     13,     13,4,19890912,1920,-63.3333, -53.0000,  434,     47.9,  -1.8639,  34.4492,3,  34.4530,2,   -999.0,9,  -999.00,9,  -999.00,9,  -999.00,9,  -999.00,9
 06AQANTVIII_2,  SR04,   145,  1,     12,     12,4,19890912,1920,-63.3333, -53.0000,  434,     47.9,  -1.8639,  34.4492,3,  34.4520,2,   -999.0,9,  -999.00,9,  -999.00,9,  -999.00,9,  -999.00,9
 06AQANTVIII_2,  SR04,   145,  1,     11,     11,4,19890912,1920,-63.3333, -53.0000,  434,     47.9,  -1.8629,  34.4494,3,  34.4540,2,   -999.0,9,  -999.00,9,  -999.00,9,  -999.00,9,  -999.00,9
 06AQANTVIII_2,  SR04,   145,  1,     10,     10,4,19890912,1920,-63.3333, -53.0000,  434,     48.0,  -1.8619,  34.4496,3,  34.4520,2,   -999.0,9,  -999.00,9,  -999.00,9,  -999.00,9,  -999.00,9
 06AQANTVIII_2,  SR04,   145,  1,      9,      9,4,19890912,1920,-63.3333, -53.0000,  434,     48.0,  -1.8619,  34.4496,3,  34.4510,2,    303.7,2,    74.58,2,    30.70,2,     0.01,2,     2.13,2
 06AQANTVIII_2,  SR04,   145,  1,      8,      8,4,19890912,1920,-63.3333, -53.0000,  434,    150.8,  -1.8079,  34.5022,3,  34.5050,2,    309.7,2,    74.87,2,    30.70,2,     0.01,2,     2.15,2
 06AQANTVIII_2,  SR04,   145,  1,      7,      7,4,19890912,1920,-63.3333, -53.0000,  434,    250.0,  -1.7608,  34.5160,3,  34.5190,2,   -999.0,9,  -999.00,9,  -999.00,9,  -999.00,9,  -999.00,9
 06AQANTVIII_2,  SR04,   145,  1,      6,      6,4,19890912,1920,-63.3333, -53.0000,  434,    250.0,  -1.7608,  34.5160,3,  34.5220,2,   -999.0,9,  -999.00,9,  -999.00,9,  -999.00,9,  -999.00,9
 06AQANTVIII_2,  SR04,   145,  1,      5,      5,4,19890912,1920,-63.3333, -53.0000,  434,    250.0,  -1.7608,  34.5160,3,  34.5280,3,    305.1,2,    77.72,2,    30.90,2,     0.01,2,     2.14,2
 06AQANTVIII_2,  SR04,   145,  1,      4,      4,4,19890912,1920,-63.3333, -53.0000,  434,    300.0,  -1.2404,  34.5617,3,  34.5690,2,    277.5,2,    84.79,2,    31.20,2,     0.01,2,     2.18,2
 06AQANTVIII_2,  SR04,   145,  1,      3,      3,4,19890912,1920,-63.3333, -53.0000,  434,    349.3,  -1.1624,  34.5744,3,  34.5730,2,    275.4,2,    85.67,2,    31.30,2,     0.01,2,     2.20,2
 06AQANTVIII_2,  SR04,   145,  1,      2,      2,4,19890912,1920,-63.3333, -53.0000,  434,    400.1,  -1.0593,  34.5845,3,  34.5900,2,    270.7,2,    87.44,2,    31.20,2,     0.01,2,     2.19,2
 06AQANTVIII_2,  SR04,   145,  1,      1,      1,4,19890912,1920,-63.3333, -53.0000,  434,    435.4,  -1.0513,  34.5863,3,  34.5840,2,    271.2,2,    87.54,2,    31.30,2,     0.01,2,     2.20,2
 06AQANTVIII_2,  SR04,   146,  1,     12,     12,2,19890912,2355,-63.4333, -52.5833,  490,      9.7,  -1.8419,  34.4140,3,  34.4180,2,    300.2,2,    73.30,2,    30.80,2,     0.01,2,     2.13,2
 06AQANTVIII_2,  SR04,   146,  1,     11,     11,2,19890912,2355,-63.4333, -52.5833,  490,     50.1,  -1.8219,  34.4101,3,  34.4160,2,    299.5,2,    73.11,2,    30.70,2,     0.02,2,     2.12,2
 06AQANTVIII_2,  SR04,   146,  1,     10,     10,2,19890912,2355,-63.4333, -52.5833,  490,     99.2,  -1.8069,  34.4107,3,  34.4160,2,    299.1,2,    73.11,2,    30.90,2,     0.02,2,     2.18,2
 06AQANTVIII_2,  SR04,   146,  1,      9,      9,2,19890912,2355,-63.4333, -52.5833,  490,    149.9,  -1.4136,  34.4832,3,  34.5060,3,    280.5,2,    79.88,2,    32.50,2,     0.04,2,     2.30,2
 06AQANTVIII_2,  SR04,   146,  1,      8,      8,2,19890912,2355,-63.4333, -52.5833,  490,    200.7,  -1.1213,  34.5329,3,  34.5840,3,    248.2,2,    91.08,2,    31.60,2,     0.00,2,     2.21,2
 06AQANTVIII_2,  SR04,   146,  1,      6,      6,2,19890912,2355,-63.4333, -52.5833,  490,    250.2,  -0.3849,  34.6070,3,-999.0000,9,    244.5,2,    94.41,2,    31.80,2,     0.00,2,     2.24,2
 06AQANTVIII_2,  SR04,   146,  1,      7,      7,2,19890912,2355,-63.4333, -52.5833,  490,    251.1,  -0.4009,  34.5965,3,  34.6050,2,    244.2,2,    94.42,2,    31.80,2,     0.00,2,     2.22,2
 06AQANTVIII_2,  SR04,   146,  1,      5,      5,2,19890912,2355,-63.4333, -52.5833,  490,    300.8,  -0.3148,  34.6132,3,  34.6090,2,    251.5,2,    93.92,2,    31.80,2,     0.00,2,     2.22,2
 06AQANTVIII_2,  SR04,   146,  1,      4,      4,2,19890912,2355,-63.4333, -52.5833,  490,    353.7,  -1.2354,  34.5789,3,  34.5810,2,    277.0,2,    83.90,2,    31.20,2,     0.00,2,     2.19,2
 06AQANTVIII_2,  SR04,   146,  1,      3,      3,2,19890912,2355,-63.4333, -52.5833,  490,    401.1,  -1.2364,  34.5809,3,  34.5820,2,    277.4,2,    84.20,2,    31.20,2,     0.00,2,     2.19,2
 06AQANTVIII_2,  SR04,   146,  1,      2,      2,2,19890912,2355,-63.4333, -52.5833,  490,    449.0,  -1.1824,  34.5906,3,  34.5900,2,    275.1,2,    85.67,2,    31.30,2,     0.00,2,     2.19,2
 06AQANTVIII_2,  SR04,   146,  1,      1,      1,2,19890912,2355,-63.4333, -52.5833,  490,    496.1,  -1.1414,  34.5966,3,  34.5570,3,    273.3,2,    86.36,2,    31.30,2,     0.00,2,     2.20,2
 06AQANTVIII_2,  SR04,   147,  1,     24,     24,2,19890913,0434,-63.5000, -52.1000,  989,      9.9,  -1.8389,  34.4118,3,  34.4140,2,    301.2,2,    71.04,2,    30.70,2,    -0.01,4,     2.08,2
 06AQANTVIII_2,  SR04,   147,  1,     23,     23,2,19890913,0434,-63.5000, -52.1000,  989,     10.0,  -1.8369,  34.4122,3,-999.0000,9,   -999.0,9,  -999.00,9,  -999.00,9,  -999.00,9,  -999.00,9
 06AQANTVIII_2,  SR04,   147,  1,     21,     21,2,19890913,0434,-63.5000, -52.1000,  989,     48.6,  -1.8379,  34.4171,3,-999.0000,9,   -999.0,9,  -999.00,9,  -999.00,9,  -999.00,9,  -999.00,9
 06AQANTVIII_2,  SR04,   147,  1,     22,     22,2,19890913,0434,-63.5000, -52.1000,  989,     48.7,  -1.8359,  34.4175,3,  34.4190,2,    309.5,2,    71.04,2,    30.80,2,    -0.01,4,     2.09,2
 06AQANTVIII_2,  SR04,   147,  1,     19,     19,2,19890913,0434,-63.5000, -52.1000,  989,     78.6,  -1.8369,  34.4250,3,-999.0000,9,   -999.0,9,  -999.00,9,  -999.00,9,  -999.00,9,  -999.00,9
 06AQANTVIII_2,  SR04,   147,  1,     20,     20,2,19890913,0434,-63.5000, -52.1000,  989,     78.7,  -1.8379,  34.4275,3,  34.4290,2,    308.9,2,    70.65,2,    30.80,2,    -0.01,4,     2.09,2
 06AQANTVIII_2,  SR04,   147,  1,     17,     17,2,19890913,0434,-63.5000, -52.1000,  989,     99.0,  -1.8259,  34.4343,3,-999.0000,9,   -999.0,9,  -999.00,9,  -999.00,9,  -999.00,9,  -999.00,9
 06AQANTVIII_2,  SR04,   147,  1,     18,     18,2,19890913,0434,-63.5000, -52.1000,  989,     99.2,  -1.8299,  34.4318,3,  34.4350,2,    301.3,2,    70.16,2,    30.70,2,    -0.01,4,     2.09,2
 06AQANTVIII_2,  SR04,   147,  1,     15,     15,2,19890913,0434,-63.5000, -52.1000,  989,    149.2,  -1.7928,  34.4382,3,-999.0000,9,   -999.0,9,  -999.00,9,  -999.00,9,  -999.00,9,  -999.00,9
 06AQANTVIII_2,  SR04,   147,  1,     16,     16,2,19890913,0434,-63.5000, -52.1000,  989,    149.5,  -1.8029,  34.4400,3,  34.4360,2,    301.1,2,    70.35,2,    30.70,2,    -0.01,4,     2.10,2
 06AQANTVIII_2,  SR04,   147,  1,     13,     13,2,19890913,0434,-63.5000, -52.1000,  989,    249.1,  -0.7881,  34.5256,3,-999.0000,9,   -999.0,9,  -999.00,9,  -999.00,9,  -999.00,9,  -999.00,9
 06AQANTVIII_2,  SR04,   147,  1,     14,     14,2,19890913,0434,-63.5000, -52.1000,  989,    249.8,  -0.8212,  34.5250,3,  34.5260,2,    262.2,2,    81.06,2,    31.50,2,    -0.01,4,     2.18,2
 06AQANTVIII_2,  SR04,   147,  1,     11,     11,2,19890913,0434,-63.5000, -52.1000,  989,    299.9,  -0.4880,  34.5627,3,-999.0000,9,   -999.0,9,  -999.00,9,  -999.00,9,  -999.00,9,  -999.00,9
 06AQANTVIII_2,  SR04,   147,  1,     12,     12,2,19890913,0434,-63.5000, -52.1000,  989,    300.8,  -0.4880,  34.5621,3,  34.5660,2,    247.3,2,    86.36,2,    31.90,2,    -0.01,4,     2.18,2
 06AQANTVIII_2,  SR04,   147,  1,      9,      9,2,19890913,0434,-63.5000, -52.1000,  989,    403.2,   0.2049,  34.6371,3,-999.0000,9,   -999.0,9,  -999.00,9,  -999.00,9,  -999.00,9,  -999.00,9
 06AQANTVIII_2,  SR04,   147,  1,     10,     10,2,19890913,0434,-63.5000, -52.1000,  989,    404.0,   0.2338,  34.6382,3,  34.6330,2,    221.5,2,    96.67,2,    32.30,2,    -0.01,4,     2.23,2
 06AQANTVIII_2,  SR04,   147,  1,      7,      7,2,19890913,0434,-63.5000, -52.1000,  989,    498.1,   0.2638,  34.6567,3,-999.0000,9,   -999.0,9,  -999.00,9,  -999.00,9,  -999.00,9,  -999.00,9
 06AQANTVIII_2,  SR04,   147,  1,      8,      8,2,19890913,0434,-63.5000, -52.1000,  989,    499.1,   0.2628,  34.6533,3,  34.6420,3,    225.6,2,   100.21,2,    32.40,2,    -0.01,4,  -999.00,9
 06AQANTVIII_2,  SR04,   147,  1,      6,      6,2,19890913,0434,-63.5000, -52.1000,  989,    750.6,  -0.5290,  34.6331,3,  34.6320,2,    246.0,2,    99.82,2,    32.20,2,    -0.01,4,     2.20,2
 06AQANTVIII_2,  SR04,   147,  1,      5,      5,2,19890913,0434,-63.5000, -52.1000,  989,    818.2,  -1.2675,  34.5892,3,-999.0000,9,   -999.0,9,  -999.00,9,  -999.00,9,  -999.00,9,  -999.00,9
 06AQANTVIII_2,  SR04,   147,  1,      3,      3,2,19890913,0434,-63.5000, -52.1000,  989,    899.5,  -0.7951,  34.6340,3,-999.0000,9,   -999.0,9,  -999.00,9,  -999.00,9,  -999.00,9,  -999.00,9
 06AQANTVIII_2,  SR04,   147,  1,      4,      4,2,19890913,0434,-63.5000, -52.1000,  989,    899.6,  -0.7961,  34.6337,3,  34.6260,2,    262.5,2,    93.04,2,    31.80,2,    -0.01,4,     2.20,2
 06AQANTVIII_2,  SR04,   147,  1,      2,      2,2,19890913,0434,-63.5000, -52.1000,  989,    949.2,  -0.9543,  34.6274,3,  34.6200,2,    267.9,2,    85.67,2,    31.50,2,     0.00,2,     2.19,2
 06AQANTVIII_2,  SR04,   147,  1,      1,      1,2,19890913,0434,-63.5000, -52.1000,  989,    949.2,  -0.9543,  34.6274,3,  34.6090,4,    274.5,2,    84.20,2,    31.30,2,     0.00,2,     2.15,2
 06AQANTVIII_2,  SR04,   149,  1,     12,     12,2,19890913,1527,-63.4833, -51.7000, 1461,     23.7,  -1.8299,  34.4226,3,  34.4290,2,    299.6,2,    72.42,2,    30.80,2,    -0.05,4,     2.08,2
 06AQANTVIII_2,  SR04,   149,  1,     11,     11,2,19890913,1527,-63.4833, -51.7000, 1461,     98.7,  -1.8008,  34.4269,3,  34.4360,2,    300.3,2,    72.42,2,    30.80,2,    -0.05,4,     2.08,2
 06AQANTVIII_2,  SR04,   149,  1,     10,     10,2,19890913,1527,-63.4833, -51.7000, 1461,    197.9,  -1.0693,  34.4960,3,  34.4980,2,    271.2,2,    79.39,2,    31.50,2,    -0.05,4,     2.13,2
 06AQANTVIII_2,  SR04,   149,  1,      9,      9,2,19890913,1527,-63.4833, -51.7000, 1461,    397.1,   0.3728,  34.6492,3,  34.6710,3,    213.5,2,   101.19,2,    32.70,2,    -0.05,4,     2.23,2
 06AQANTVIII_2,  SR04,   149,  1,      8,      8,2,19890913,1527,-63.4833, -51.7000, 1461,    596.5,   0.4337,  34.6709,3,  34.6760,2,    205.7,2,   110.23,2,    33.10,2,    -0.04,4,     2.25,2
 06AQANTVIII_2,  SR04,   149,  1,      7,      7,2,19890913,1527,-63.4833, -51.7000, 1461,    796.5,   0.3278,  34.6760,3,  34.6780,2,    209.9,2,   114.35,2,    33.10,2,    -0.04,4,     2.28,2
 06AQANTVIII_2,  SR04,   149,  1,      6,      6,2,19890913,1527,-63.4833, -51.7000, 1461,    997.2,  -0.0347,  34.6508,3,  34.6550,2,    225.1,2,   110.43,2,    32.80,2,    -0.02,4,     2.23,2
 06AQANTVIII_2,  SR04,   149,  1,      5,      5,2,19890913,1527,-63.4833, -51.7000, 1461,   1197.7,  -0.3539,  34.6367,3,  34.6410,2,    241.6,2,   106.30,2,    32.50,2,    -0.02,4,     2.24,2
 06AQANTVIII_2,  SR04,   149,  1,      4,      4,2,19890913,1527,-63.4833, -51.7000, 1461,   1297.7,  -0.5600,  34.6328,3,  34.6430,4,    248.8,2,   101.29,2,    32.50,2,    -0.02,4,     2.22,2
 06AQANTVIII_2,  SR04,   149,  1,      3,      3,2,19890913,1527,-63.4833, -51.7000, 1461,   1397.6,  -0.9483,  34.6168,3,  34.6110,2,    270.1,2,    88.91,2,    31.70,2,    -0.02,4,     2.17,2
 06AQANTVIII_2,  SR04,   149,  1,      2,      2,2,19890913,1527,-63.4833, -51.7000, 1461,   1449.2,  -1.1203,  34.6120,3,  34.6100,2,    274.9,2,    84.10,2,    31.40,2,    -0.02,4,     2.15,2
 06AQANTVIII_2,  SR04,   149,  1,      1,      1,2,19890913,1527,-63.4833, -51.7000, 1461,   1473.2,  -1.1374,  34.6072,3,  34.6090,2,    282.2,2,    83.80,2,    31.40,2,    -0.02,4,     2.14,2
 06AQANTVIII_2,  SR04,   150,  1,     12,     12,2,19890913,2053,-63.4833, -51.3833, 1973,     13.8,  -1.8529,  34.4387,3,  34.4410,2,    301.4,2,    73.89,2,    30.70,2,     0.00,2,     2.12,2
 06AQANTVIII_2,  SR04,   150,  1,     11,     11,2,19890913,2053,-63.4833, -51.3833, 1973,     47.8,  -1.8499,  34.4401,3,  34.4420,2,    300.9,2,    73.99,2,    30.70,2,     0.00,2,     2.12,2
 06AQANTVIII_2,  SR04,   150,  1,     10,     10,2,19890913,2053,-63.4833, -51.3833, 1973,    147.5,  -1.8199,  34.4505,3,  34.4450,2,    299.6,2,    74.18,2,    30.80,2,     0.00,2,     2.13,2
 06AQANTVIII_2,  SR04,   150,  1,      9,      9,2,19890913,2053,-63.4833, -51.3833, 1973,    246.3,  -0.8862,  34.5186,3,  34.5270,2,    257.9,2,    84.20,2,    31.50,2,     0.00,2,     2.18,2
 06AQANTVIII_2,  SR04,   150,  1,      8,      8,2,19890913,2053,-63.4833, -51.3833, 1973,    345.4,   0.2258,  34.6351,3,  34.6330,2,    216.3,2,    97.26,2,    32.40,2,     0.00,2,     2.26,2
 06AQANTVIII_2,  SR04,   150,  1,      7,      7,2,19890913,2053,-63.4833, -51.3833, 1973,    495.0,   0.4847,  34.6718,3,  34.6710,2,    205.6,2,   105.71,2,    32.70,2,     0.00,2,     2.28,2
 06AQANTVIII_2,  SR04,   150,  1,      6,      6,2,19890913,2053,-63.4833, -51.3833, 1973,    696.1,   0.3997,  34.6753,3,  34.6730,2,    205.3,2,   110.13,2,    32.90,2,     0.00,2,     2.30,2
 06AQANTVIII_2,  SR04,   150,  1,      5,      5,2,19890913,2053,-63.4833, -51.3833, 1973,    996.3,   0.3428,  34.6771,3,  34.6780,2,    208.2,2,   116.61,2,    33.00,2,     0.00,2,     2.31,2
 06AQANTVIII_2,  SR04,   150,  1,      4,      4,2,19890913,2053,-63.4833, -51.3833, 1973,   1196.3,   0.2378,  34.6742,3,  34.6740,2,    211.1,2,   118.48,2,    32.90,2,     0.00,2,     2.31,2
 06AQANTVIII_2,  SR04,   150,  1,      3,      3,2,19890913,2053,-63.4833, -51.3833, 1973,   1397.9,   0.1119,  34.6679,3,  34.6680,2,    217.4,2,   118.09,2,    33.20,2,     0.00,2,     2.36,2
 06AQANTVIII_2,  SR04,   150,  1,      2,      2,2,19890913,2053,-63.4833, -51.3833, 1973,   1748.8,  -0.6410,  34.6371,3,  34.6370,2,    252.5,2,   101.39,2,    31.80,2,     0.00,2,     2.24,2
 06AQANTVIII_2,  SR04,   150,  1,      1,      1,2,19890913,2053,-63.4833, -51.3833, 1973,   1995.3,  -1.0193,  34.6214,3,  34.6230,2,    273.4,2,    86.75,2,    31.10,2,     0.00,2,     2.17,2