BOTTLE,20221004CCHSIOAMB
EXPOCODE,SECT_ID,STNNBR,CASTNO,SAMPNO,BTLNBR,BTLNBR_FLAG_W,DATE,TIME,LATITUDE,LONGITUDE,DEPTH,CTDPRS,CTDTMP,CTDSAL,CTDSAL_FLAG_W,SALNTY,SALNTY_FLAG_W,OXYGEN,OXYGEN_FLAG_W,SILCAT,SILCAT_FLAG_W,NITRAT,NITRAT_FLAG_W,NITRIT,NITRIT_FLAG_W,PHSPHT,PHSPHT_FLAG_W
,,,,,,,,,,,,DBAR,ITS-90,PSS-78,,PSS-78,,UMOL/KG,,UMOL/KG,,UMOL/KG,,UMOL/KG,,UMOL/KG,
 06AQANTVIII_2,  SR02,   219,  1,     24,     24,2,19891024,1348,-54.5667,   6.4000, 3163,     13.2,  -1.7190,  34.0995,3,-999.0000,9,   -999.0,9,  -999.00,9,  -999.00,9,  -999.00,9,  -999.00,9
 06AQANTVIII_2,  SR02,   219,  1,     23,     23,2,19891024,1348,-54.5667,   6.4000, 3163,     23.1,  -1.7320,  34.0997,3,  34.0970,2,    341.4,2,    66.05,2,    29.31,2,     0.27,2,     2.01,2
 06AQANTVIII_2,  SR02,   219,  1,     22,     22,2,19891024,1348,-54.5667,   6.4000, 3163,     44.1,  -1.7640,  34.1049,3,-999.0000,9,   -999.0,9,  -999.00,9,  -999.00,9,  -999.00,9,  -999.00,9
 06AQANTVIII_2,  SR02,   219,  1,     21,     21,2,19891024,1348,-54.5667,   6.4000, 3163,     64.1,  -1.7711,  34.1087,3,  34.1080,2,    340.9,2,    66.24,2,    29.31,2,     0.29,2,     2.02,2
 06AQANTVIII_2,  SR02,   219,  1,     20,     20,2,19891024,1348,-54.5667,   6.4000, 3163,     81.8,  -1.7520,  34.1144,3,-999.0000,9,   -999.0,9,  -999.00,9,  -999.00,9,  -999.00,9,  -999.00,9
 06AQANTVIII_2,  SR02,   219,  1,     19,     19,2,19891024,1348,-54.5667,   6.4000, 3163,    101.6,  -1.7030,  34.1234,3,  34.1260,2,    337.0,2,    66.73,2,    29.51,2,     0.25,2,     2.04,2
 06AQANTVIII_2,  SR02,   219,  1,     18,     18,2,19891024,1348,-54.5667,   6.4000, 3163,    123.0,  -1.5759,  34.1528,3,-999.0000,9,   -999.0,9,  -999.00,9,  -999.00,9,  -999.00,9,  -999.00,9
 06AQANTVIII_2,  SR02,   219,  1,     17,     17,2,19891024,1348,-54.5667,   6.4000, 3163,    151.3,  -1.0997,  34.2564,3,  34.2770,3,    299.7,2,    72.33,2,    30.61,2,     0.16,2,     2.11,2
 06AQANTVIII_2,  SR02,   219,  1,     16,     16,2,19891024,1348,-54.5667,   6.4000, 3163,    200.6,   0.8692,  34.5555,3,-999.0000,9,   -999.0,9,  -999.00,9,  -999.00,9,  -999.00,9,  -999.00,9
 06AQANTVIII_2,  SR02,   219,  1,     15,     15,2,19891024,1348,-54.5667,   6.4000, 3163,    222.3,   1.0172,  34.5939,3,  34.6000,2,    205.3,2,    88.72,2,    32.90,2,     0.02,2,     2.29,2
 06AQANTVIII_2,  SR02,   219,  1,     14,     14,2,19891024,1348,-54.5667,   6.4000, 3163,    251.8,   1.0661,  34.6123,3,  34.6170,2,    202.1,2,    90.29,2,    32.90,2,     0.01,2,     2.29,2
 06AQANTVIII_2,  SR02,   219,  1,     13,     13,2,19891024,1348,-54.5667,   6.4000, 3163,    286.4,   1.1241,  34.6343,3,  34.6380,2,    199.2,2,    91.76,2,    32.80,2,     0.01,2,     2.30,2
 06AQANTVIII_2,  SR02,   219,  1,     12,     12,2,19891024,1348,-54.5667,   6.4000, 3163,    300.8,   1.1311,  34.6451,3,  34.6430,2,    198.7,2,    92.35,2,    32.80,2,     0.02,2,     2.28,2
 06AQANTVIII_2,  SR02,   219,  1,     11,     11,2,19891024,1348,-54.5667,   6.4000, 3163,    352.3,   1.1661,  34.6609,3,  34.6670,2,    198.3,2,    94.51,2,    32.60,2,     0.00,2,     2.26,2
 06AQANTVIII_2,  SR02,   219,  1,     10,     10,2,19891024,1348,-54.5667,   6.4000, 3163,    392.8,   1.1810,  34.6785,3,  34.6790,2,    197.3,2,    95.88,2,    32.30,2,     0.00,2,     2.25,2
 06AQANTVIII_2,  SR02,   219,  1,      9,      9,2,19891024,1348,-54.5667,   6.4000, 3163,    500.7,   1.0901,  34.6936,3,  34.6930,2,    198.7,2,   100.21,2,    32.20,2,     0.01,2,     2.24,2
 06AQANTVIII_2,  SR02,   219,  1,      8,      8,2,19891024,1348,-54.5667,   6.4000, 3163,    752.1,   0.7592,  34.6909,3,  34.6910,2,   -999.0,9,   108.65,2,    32.40,2,     0.00,2,     2.27,2
 06AQANTVIII_2,  SR02,   219,  1,      7,      7,2,19891024,1348,-54.5667,   6.4000, 3163,   1000.9,   0.5133,  34.6842,3,  34.6810,2,    208.0,2,   114.25,2,    32.70,2,    -0.01,4,     2.29,2
 06AQANTVIII_2,  SR02,   219,  1,      6,      6,2,19891024,1348,-54.5667,   6.4000, 3163,   1499.4,   0.1934,  34.6731,3,  34.6710,2,    212.5,2,   120.35,2,    33.00,2,    -0.01,4,     2.33,2
 06AQANTVIII_2,  SR02,   219,  1,      5,      5,2,19891024,1348,-54.5667,   6.4000, 3163,   2000.0,   0.0034,  34.6640,3,  34.6640,2,   -999.0,9,   122.70,2,    32.90,2,    -0.01,4,     2.32,2
 06AQANTVIII_2,  SR02,   219,  1,      4,      4,2,19891024,1348,-54.5667,   6.4000, 3163,   2496.9,  -0.1106,  34.6595,3,  34.6610,2,    228.2,2,   123.98,2,    32.80,2,     0.00,2,     2.30,2
 06AQANTVIII_2,  SR02,   219,  1,      3,      3,2,19891024,1348,-54.5667,   6.4000, 3163,   2999.2,  -0.1276,  34.6587,3,  34.6580,2,    230.6,2,   124.47,2,    32.80,2,     0.00,2,     2.31,2
 06AQANTVIII_2,  SR02,   219,  1,      2,      2,2,19891024,1348,-54.5667,   6.4000, 3163,   3172.1,  -0.1176,  34.6591,3,  34.6620,2,   -999.0,9,   124.87,2,    32.80,2,     0.00,2,     2.31,2
 06AQANTVIII_2,  SR02,   219,  1,      1,      1,2,19891024,1348,-54.5667,   6.4000, 3163,   3216.4,  -0.1166,  34.6588,3,  34.6630,2,    230.9,2,   124.77,2,    32.80,2,     0.00,2,     2.30,2
 06AQANTVIII_2,  SR02,   220,  1,     24,     24,2,19891024,1934,-54.1000,   6.7667, 2571,     11.9,  -1.6590,  34.0991,3,  34.0980,2,    347.3,2,    67.03,2,    29.21,2,     0.29,2,     2.02,2
 06AQANTVIII_2,  SR02,   220,  1,     23,     23,2,19891024,1934,-54.1000,   6.7667, 2571,     12.1,  -1.6590,  34.0990,3,-999.0000,9,   -999.0,9,  -999.00,9,  -999.00,9,  -999.00,9,  -999.00,9
 06AQANTVIII_2,  SR02,   220,  1,     22,     22,2,19891024,1934,-54.1000,   6.7667, 2571,     20.3,  -1.6820,  34.0980,3,-999.0000,9,   -999.0,9,  -999.00,9,  -999.00,9,  -999.00,9,  -999.00,9
 06AQANTVIII_2,  SR02,   220,  1,     20,     20,2,19891024,1934,-54.1000,   6.7667, 2571,     40.4,  -1.7580,  34.0987,3,  34.0980,2,    346.6,2,    67.13,2,    29.21,2,     0.29,2,     2.02,2
 06AQANTVIII_2,  SR02,   220,  1,     21,     21,2,19891024,1934,-54.1000,   6.7667, 2571,     40.6,  -1.7550,  34.0993,3,-999.0000,9,   -999.0,9,  -999.00,9,  -999.00,9,  -999.00,9,  -999.00,9
 06AQANTVIII_2,  SR02,   220,  1,     19,     19,2,19891024,1934,-54.1000,   6.7667, 2571,     61.2,  -1.7560,  34.1027,3,-999.0000,9,   -999.0,9,  -999.00,9,  -999.00,9,  -999.00,9,  -999.00,9
 06AQANTVIII_2,  SR02,   220,  1,     18,     18,2,19891024,1934,-54.1000,   6.7667, 2571,     80.4,  -1.7560,  34.1030,3,  34.1030,2,    345.2,2,    67.23,2,    29.31,2,     0.27,2,     2.01,2
 06AQANTVIII_2,  SR02,   220,  1,     17,     17,2,19891024,1934,-54.1000,   6.7667, 2571,     80.7,  -1.7560,  34.1029,3,-999.0000,9,   -999.0,9,  -999.00,9,  -999.00,9,  -999.00,9,  -999.00,9
 06AQANTVIII_2,  SR02,   220,  1,     16,     16,2,19891024,1934,-54.1000,   6.7667, 2571,    101.2,  -1.7310,  34.1085,3,  34.1070,2,    344.1,2,    67.42,2,    29.31,2,     0.27,2,     2.02,2
 06AQANTVIII_2,  SR02,   220,  1,     15,     15,2,19891024,1934,-54.1000,   6.7667, 2571,    101.7,  -1.7350,  34.1058,3,-999.0000,9,   -999.0,9,  -999.00,9,  -999.00,9,  -999.00,9,  -999.00,9
 06AQANTVIII_2,  SR02,   220,  1,     13,     13,2,19891024,1934,-54.1000,   6.7667, 2571,    150.4,  -1.2137,  34.2462,3,-999.0000,9,   -999.0,9,  -999.00,9,  -999.00,9,  -999.00,9,  -999.00,9
 06AQANTVIII_2,  SR02,   220,  1,     14,     14,2,19891024,1934,-54.1000,   6.7667, 2571,    151.0,  -1.4209,  34.1898,3,  34.2170,3,    316.7,2,    69.48,2,    30.21,2,     0.25,2,     2.08,2
 06AQANTVIII_2,  SR02,   220,  1,     12,     12,2,19891024,1934,-54.1000,   6.7667, 2571,    200.1,  -0.1166,  34.4078,3,  34.4040,2,    261.9,2,    77.53,2,    31.80,2,     0.09,2,     2.20,2
 06AQANTVIII_2,  SR02,   220,  1,     11,     11,2,19891024,1934,-54.1000,   6.7667, 2571,    200.9,  -0.1146,  34.4037,3,-999.0000,9,   -999.0,9,  -999.00,9,  -999.00,9,  -999.00,9,  -999.00,9
 06AQANTVIII_2,  SR02,   220,  1,     10,     10,2,19891024,1934,-54.1000,   6.7667, 2571,    281.7,   1.0841,  34.5983,3,  34.6000,2,    204.7,2,    88.42,2,    32.90,2,     0.02,2,     2.30,2
 06AQANTVIII_2,  SR02,   220,  1,      9,      9,2,19891024,1934,-54.1000,   6.7667, 2571,    281.7,   1.0861,  34.5974,3,-999.0000,9,   -999.0,9,  -999.00,9,  -999.00,9,  -999.00,9,  -999.00,9
 06AQANTVIII_2,  SR02,   220,  1,      8,      8,2,19891024,1934,-54.1000,   6.7667, 2571,    349.9,   1.2870,  34.6609,3,  34.6600,2,    194.6,2,    92.64,2,    32.70,2,     0.03,2,     2.29,2
 06AQANTVIII_2,  SR02,   220,  1,      7,      7,2,19891024,1934,-54.1000,   6.7667, 2571,    402.5,   1.2810,  34.6741,3,  34.6740,2,    195.0,2,    94.21,2,    32.50,2,     0.01,2,     2.26,2
 06AQANTVIII_2,  SR02,   220,  1,      6,      6,2,19891024,1934,-54.1000,   6.7667, 2571,    501.5,   1.1870,  34.6902,3,  34.6910,2,    197.8,2,    97.65,2,    32.20,2,     0.03,2,     2.24,2
 06AQANTVIII_2,  SR02,   220,  1,      5,      5,2,19891024,1934,-54.1000,   6.7667, 2571,    501.8,   1.1870,  34.6913,3,-999.0000,9,   -999.0,9,  -999.00,9,  -999.00,9,  -999.00,9,  -999.00,9
 06AQANTVIII_2,  SR02,   220,  1,      4,      4,2,19891024,1934,-54.1000,   6.7667, 2571,    748.9,   0.8762,  34.6949,3,  34.6950,2,    202.2,2,   106.69,2,    32.30,2,     0.02,2,     2.26,2
 06AQANTVIII_2,  SR02,   220,  1,      3,      3,2,19891024,1934,-54.1000,   6.7667, 2571,    749.2,   0.8762,  34.6948,3,-999.0000,9,   -999.0,9,  -999.00,9,  -999.00,9,  -999.00,9,  -999.00,9
 06AQANTVIII_2,  SR02,   220,  1,      1,      1,2,19891024,1934,-54.1000,   6.7667, 2571,   1024.4,   0.5653,  34.6835,3,-999.0000,9,   -999.0,9,  -999.00,9,  -999.00,9,  -999.00,9,  -999.00,9
 06AQANTVIII_2,  SR02,   220,  1,      2,      2,2,19891024,1934,-54.1000,   6.7667, 2571,   1025.1,   0.5663,  34.6833,3,  34.6860,2,    206.4,2,   113.27,2,    32.70,2,     0.02,2,     2.28,2
 06AQANTVIII_2,  SR02,   221,  1,     23,     23,2,19891024,2308,-53.6667,   7.1333, 3387,     11.2,  -1.4209,  33.9083,3,-999.0000,9,   -999.0,9,  -999.00,9,  -999.00,9,  -999.00,9,  -999.00,9
 06AQANTVIII_2,  SR02,   221,  1,     24,     24,2,19891024,2308,-53.6667,   7.1333, 3387,     11.5,  -1.4049,  33.9106,3,  33.9110,2,    351.9,2,    58.78,2,    28.91,2,     0.26,2,     1.98,2
 06AQANTVIII_2,  SR02,   221,  1,     22,     22,2,19891024,2308,-53.6667,   7.1333, 3387,     20.8,  -1.4259,  33.9259,3,  33.9260,2,    351.3,2,    59.08,2,    28.91,2,     0.27,2,     1.96,2
 06AQANTVIII_2,  SR02,   221,  1,     21,     21,2,19891024,2308,-53.6667,   7.1333, 3387,     39.5,  -1.4049,  33.9469,3,-999.0000,9,   -999.0,9,  -999.00,9,  -999.00,9,  -999.00,9,  -999.00,9
 06AQANTVIII_2,  SR02,   221,  1,     20,     20,2,19891024,2308,-53.6667,   7.1333, 3387,     59.7,  -1.5609,  33.9669,3,  33.9630,2,    352.5,2,    60.75,2,    29.01,2,     0.27,2,     1.97,2
 06AQANTVIII_2,  SR02,   221,  1,     19,     19,2,19891024,2308,-53.6667,   7.1333, 3387,     80.5,  -1.5659,  33.9845,3,-999.0000,9,   -999.0,9,  -999.00,9,  -999.00,9,  -999.00,9,  -999.00,9
 06AQANTVIII_2,  SR02,   221,  1,     18,     18,2,19891024,2308,-53.6667,   7.1333, 3387,     98.6,  -1.5178,  33.9972,3,  33.9980,2,    348.2,2,    61.73,2,    29.31,2,     0.26,2,     2.02,2
 06AQANTVIII_2,  SR02,   221,  1,     17,     17,2,19891024,2308,-53.6667,   7.1333, 3387,    119.5,  -1.4459,  34.0056,3,-999.0000,9,   -999.0,9,  -999.00,9,  -999.00,9,  -999.00,9,  -999.00,9
 06AQANTVIII_2,  SR02,   221,  1,     16,     16,2,19891024,2308,-53.6667,   7.1333, 3387,    150.2,  -0.0906,  34.2448,3,  34.2410,2,    275.8,2,    65.84,2,    32.11,2,     0.11,2,     2.19,2
 06AQANTVIII_2,  SR02,   221,  1,     15,     15,2,19891024,2308,-53.6667,   7.1333, 3387,    199.4,   0.9392,  34.4137,3,-999.0000,9,   -999.0,9,  -999.00,9,  -999.00,9,  -999.00,9,  -999.00,9
 06AQANTVIII_2,  SR02,   221,  1,     14,     14,2,19891024,2308,-53.6667,   7.1333, 3387,    199.7,   0.9402,  34.4137,3,  34.4200,2,    219.9,2,    73.60,2,    33.80,2,     0.01,2,     2.34,2
 06AQANTVIII_2,  SR02,   221,  1,     13,     13,2,19891024,2308,-53.6667,   7.1333, 3387,    248.1,   1.5029,  34.5197,3,  34.5260,2,    190.7,2,    79.39,2,    34.40,2,     0.02,2,     2.40,2
 06AQANTVIII_2,  SR02,   221,  1,     12,     12,2,19891024,2308,-53.6667,   7.1333, 3387,    300.0,   1.6318,  34.5653,3,  34.5650,2,    184.6,2,    81.65,2,    34.30,2,     0.02,2,     2.38,2
 06AQANTVIII_2,  SR02,   221,  1,     11,     11,2,19891024,2308,-53.6667,   7.1333, 3387,    348.1,   1.7348,  34.6170,3,  34.6170,2,    180.9,2,    84.59,2,    33.80,2,     0.02,2,     2.36,2
 06AQANTVIII_2,  SR02,   221,  1,     10,     10,2,19891024,2308,-53.6667,   7.1333, 3387,    397.2,   1.7568,  34.6431,3,  34.6460,2,    180.7,2,    85.87,2,    33.40,2,     0.01,2,     2.32,2
 06AQANTVIII_2,  SR02,   221,  1,      9,      9,2,19891024,2308,-53.6667,   7.1333, 3387,    499.1,   1.7038,  34.6760,3,  34.6810,2,    184.5,2,    88.32,2,    32.70,2,     0.02,2,     2.29,2
 06AQANTVIII_2,  SR02,   221,  1,      8,      8,2,19891024,2308,-53.6667,   7.1333, 3387,    740.7,   1.4919,  34.7115,3,  34.7130,2,    193.0,2,    93.43,2,    31.80,2,     0.03,2,     2.22,2
 06AQANTVIII_2,  SR02,   221,  1,      7,      7,2,19891024,2308,-53.6667,   7.1333, 3387,    997.6,   1.2030,  34.7105,3,  34.7110,2,    198.4,2,   101.09,2,    31.90,2,     0.02,2,     2.24,2
 06AQANTVIII_2,  SR02,   221,  1,      6,      6,2,19891024,2308,-53.6667,   7.1333, 3387,   1496.2,   0.7402,  34.6920,3,  34.6950,2,    205.4,2,   112.29,2,    32.50,2,     0.03,2,     2.28,2
 06AQANTVIII_2,  SR02,   221,  1,      5,      5,2,19891024,2308,-53.6667,   7.1333, 3387,   1997.4,   0.3953,  34.6785,3,  34.6800,2,    210.4,2,   119.66,2,    33.00,2,     0.01,2,     2.33,2
 06AQANTVIII_2,  SR02,   221,  1,      4,      4,2,19891024,2308,-53.6667,   7.1333, 3387,   2498.1,   0.1244,  34.6692,3,  34.6690,2,    219.1,2,   123.49,2,    33.10,2,     0.01,2,     2.33,2
 06AQANTVIII_2,  SR02,   221,  1,      3,      3,2,19891024,2308,-53.6667,   7.1333, 3387,   2997.0,  -0.0176,  34.6631,3,  34.6630,2,    226.6,2,   124.47,2,    33.00,2,     0.02,2,     2.34,2
 06AQANTVIII_2,  SR02,   221,  1,      2,      2,2,19891024,2308,-53.6667,   7.1333, 3387,   3388.6,  -0.0976,  34.6583,3,  34.6600,2,    230.7,2,   125.06,2,    32.90,2,     0.04,2,     2.33,2
 06AQANTVIII_2,  SR02,   221,  1,      1,      1,2,19891024,2308,-53.6667,   7.1333, 3387,   3436.2,  -0.1046,  34.6577,3,  34.6520,2,    231.9,2,   124.96,2,    32.90,2,     0.03,2,     2.33,2
 06AQANTVIII_2,  SR02,   222,  1,     24,     24,2,19891025,0431,-53.2167,   7.4833, 2739,     13.7,  -1.1457,  33.8997,3,  33.8970,2,   -999.0,9,  -999.00,9,  -999.00,9,  -999.00,9,  -999.00,9
 06AQANTVIII_2,  SR02,   222,  1,     23,     23,2,19891025,0431,-53.2167,   7.4833, 2739,     14.0,  -1.1597,  33.8989,3,-999.0000,9,    352.8,2,    54.26,2,    28.61,2,     0.28,2,     2.00,2
 06AQANTVIII_2,  SR02,   222,  1,     22,     22,2,19891025,0431,-53.2167,   7.4833, 2739,     22.4,  -1.1597,  33.9019,3,-999.0000,9,   -999.0,9,  -999.00,9,  -999.00,9,  -999.00,9,  -999.00,9
 06AQANTVIII_2,  SR02,   222,  1,     20,     20,2,19891025,0431,-53.2167,   7.4833, 2739,     43.1,  -1.1507,  33.9022,3,  33.9040,2,    353.4,2,    54.16,2,    28.61,2,     0.28,2,     1.95,2
 06AQANTVIII_2,  SR02,   222,  1,     21,     21,2,19891025,0431,-53.2167,   7.4833, 2739,     43.8,  -1.1537,  33.9024,3,-999.0000,9,   -999.0,9,  -999.00,9,  -999.00,9,  -999.00,9,  -999.00,9
 06AQANTVIII_2,  SR02,   222,  1,     19,     19,2,19891025,0431,-53.2167,   7.4833, 2739,     63.8,  -1.2358,  33.9062,3,-999.0000,9,   -999.0,9,  -999.00,9,  -999.00,9,  -999.00,9,  -999.00,9
 06AQANTVIII_2,  SR02,   222,  1,     18,     18,2,19891025,0431,-53.2167,   7.4833, 2739,     85.4,  -1.2868,  33.9093,3,  33.9080,2,    352.5,2,    54.85,2,    28.61,2,     0.27,2,     1.96,2
 06AQANTVIII_2,  SR02,   222,  1,     17,     17,2,19891025,0431,-53.2167,   7.4833, 2739,     85.8,  -1.2918,  33.9079,3,-999.0000,9,   -999.0,9,  -999.00,9,  -999.00,9,  -999.00,9,  -999.00,9
 06AQANTVIII_2,  SR02,   222,  1,     15,     15,2,19891025,0431,-53.2167,   7.4833, 2739,    102.5,  -1.3198,  33.9155,3,-999.0000,9,   -999.0,9,  -999.00,9,  -999.00,9,  -999.00,9,  -999.00,9
 06AQANTVIII_2,  SR02,   222,  1,     16,     16,2,19891025,0431,-53.2167,   7.4833, 2739,    102.6,  -1.3188,  33.9157,3,  33.9140,2,    351.7,2,    55.54,2,    28.71,2,     0.28,2,     1.96,2
 06AQANTVIII_2,  SR02,   222,  1,     13,     13,2,19891025,0431,-53.2167,   7.4833, 2739,    153.5,  -0.1546,  34.1536,3,-999.0000,9,   -999.0,9,  -999.00,9,  -999.00,9,  -999.00,9,  -999.00,9
 06AQANTVIII_2,  SR02,   222,  1,     14,     14,2,19891025,0431,-53.2167,   7.4833, 2739,    153.8,  -0.1446,  34.1635,3,  34.1660,2,    283.0,2,    60.05,2,    31.61,2,     0.17,2,     2.18,2
 06AQANTVIII_2,  SR02,   222,  1,     12,     12,2,19891025,0431,-53.2167,   7.4833, 2739,    204.4,   0.8772,  34.3385,3,  34.3410,2,    230.2,2,    67.12,2,    33.50,2,     0.05,2,     2.33,2
 06AQANTVIII_2,  SR02,   222,  1,     11,     11,2,19891025,0431,-53.2167,   7.4833, 2739,    205.0,   0.8692,  34.3393,3,-999.0000,9,   -999.0,9,  -999.00,9,  -999.00,9,  -999.00,9,  -999.00,9
 06AQANTVIII_2,  SR02,   222,  1,      9,      9,2,19891025,0431,-53.2167,   7.4833, 2739,    283.0,   1.8178,  34.5193,3,-999.0000,9,   -999.0,9,  -999.00,9,  -999.00,9,  -999.00,9,  -999.00,9
 06AQANTVIII_2,  SR02,   222,  1,     10,     10,2,19891025,0431,-53.2167,   7.4833, 2739,    283.8,   1.8188,  34.5177,3,  34.5200,2,    180.5,2,    75.36,2,    34.90,2,     0.04,2,     2.42,2
 06AQANTVIII_2,  SR02,   222,  1,      8,      8,2,19891025,0431,-53.2167,   7.4833, 2739,    358.6,   1.8407,  34.5808,3,  34.5830,2,    176.7,2,    80.07,2,    34.50,2,     0.04,2,     2.39,2
 06AQANTVIII_2,  SR02,   222,  1,      7,      7,2,19891025,0431,-53.2167,   7.4833, 2739,    405.2,   1.8717,  34.6048,3,  34.6090,2,    175.5,2,    81.54,2,    34.20,2,     0.04,2,     2.38,2
 06AQANTVIII_2,  SR02,   222,  1,      6,      6,2,19891025,0431,-53.2167,   7.4833, 2739,    505.0,   2.0036,  34.6664,3,  34.6700,2,    175.9,2,    82.72,2,    33.10,2,     0.01,2,     2.31,2
 06AQANTVIII_2,  SR02,   222,  1,      5,      5,2,19891025,0431,-53.2167,   7.4833, 2739,    505.5,   2.0026,  34.6672,3,-999.0000,9,   -999.0,9,  -999.00,9,  -999.00,9,  -999.00,9,  -999.00,9
 06AQANTVIII_2,  SR02,   222,  1,      3,      3,2,19891025,0431,-53.2167,   7.4833, 2739,    757.1,   1.8208,  34.7151,3,-999.0000,9,   -999.0,9,  -999.00,9,  -999.00,9,  -999.00,9,  -999.00,9
 06AQANTVIII_2,  SR02,   222,  1,      4,      4,2,19891025,0431,-53.2167,   7.4833, 2739,    757.3,   1.8268,  34.7147,3,  34.7170,2,    187.0,2,    85.76,2,    31.80,2,     0.02,2,     2.20,2
 06AQANTVIII_2,  SR02,   222,  1,      1,      1,2,19891025,0431,-53.2167,   7.4833, 2739,   1010.7,   1.5698,  34.7249,3,-999.0000,9,   -999.0,9,  -999.00,9,  -999.00,9,  -999.00,9,  -999.00,9
 06AQANTVIII_2,  SR02,   222,  1,      2,      2,2,19891025,0431,-53.2167,   7.4833, 2739,   1011.2,   1.5648,  34.7238,3,  34.7280,2,    194.4,2,    91.85,2,    31.40,2,     0.02,2,     2.19,2