BOTTLE,20221004CCHSIOAMB
EXPOCODE,SECT_ID,STNNBR,CASTNO,SAMPNO,BTLNBR,BTLNBR_FLAG_W,DATE,TIME,LATITUDE,LONGITUDE,DEPTH,CTDPRS,CTDTMP,CTDSAL,CTDSAL_FLAG_W,SALNTY,SALNTY_FLAG_W,OXYGEN,OXYGEN_FLAG_W,SILCAT,SILCAT_FLAG_W,NITRAT,NITRAT_FLAG_W,NITRIT,NITRIT_FLAG_W,PHSPHT,PHSPHT_FLAG_W
,,,,,,,,,,,,DBAR,ITS-90,PSS-78,,PSS-78,,UMOL/KG,,UMOL/KG,,UMOL/KG,,UMOL/KG,,UMOL/KG,
 06AQANTVIII_2,  SR02,   199,  1,     24,     24,2,19891013,1105,-68.9500,  -7.9667, 3527,      9.7,  -1.7420,  34.4580,3,  34.4610,2,    277.1,2,    81.95,2,    31.10,2,     0.16,2,     2.19,2
 06AQANTVIII_2,  SR02,   199,  1,     23,     23,2,19891013,1105,-68.9500,  -7.9667, 3527,      9.7,  -1.7450,  34.4586,3,-999.0000,9,   -999.0,9,  -999.00,9,  -999.00,9,  -999.00,9,  -999.00,9
 06AQANTVIII_2,  SR02,   199,  1,     22,     22,2,19891013,1105,-68.9500,  -7.9667, 3527,     20.1,  -1.7400,  34.4600,3,-999.0000,9,    277.2,2,    81.95,2,    31.20,2,     0.16,2,     2.19,2
 06AQANTVIII_2,  SR02,   199,  1,     21,     21,2,19891013,1105,-68.9500,  -7.9667, 3527,     40.2,  -1.7210,  34.4610,3,-999.0000,9,    276.1,2,    82.14,2,    31.20,2,     0.16,2,     2.19,2
 06AQANTVIII_2,  SR02,   199,  1,     20,     20,2,19891013,1105,-68.9500,  -7.9667, 3527,     60.2,  -1.6650,  34.4610,3,-999.0000,9,    273.9,2,    82.73,2,    31.30,2,     0.15,2,     2.21,2
 06AQANTVIII_2,  SR02,   199,  1,     19,     19,2,19891013,1105,-68.9500,  -7.9667, 3527,     79.7,  -0.5866,  34.5682,3,-999.0000,9,   -999.0,9,  -999.00,9,  -999.00,9,  -999.00,9,  -999.00,9
 06AQANTVIII_2,  SR02,   199,  1,     18,     18,2,19891013,1105,-68.9500,  -7.9667, 3527,     79.7,  -0.5706,  34.5769,3,  34.5860,2,    246.4,2,    88.13,2,    31.70,2,     0.04,2,     2.24,2
 06AQANTVIII_2,  SR02,   199,  1,     17,     17,2,19891013,1105,-68.9500,  -7.9667, 3527,     98.8,   0.0294,  34.6202,3,-999.0000,9,    231.9,2,    91.47,2,    31.80,2,     0.04,2,     2.25,2
 06AQANTVIII_2,  SR02,   199,  1,     16,     16,2,19891013,1105,-68.9500,  -7.9667, 3527,    139.7,   0.1074,  34.6299,3,-999.0000,9,    230.3,2,    92.25,2,    31.90,2,     0.03,2,     2.26,2
 06AQANTVIII_2,  SR02,   199,  1,     14,     14,2,19891013,1105,-68.9500,  -7.9667, 3527,    199.4,   0.2603,  34.6413,3,  34.6430,2,    224.1,2,    93.92,2,    32.00,2,     0.03,2,     2.27,2
 06AQANTVIII_2,  SR02,   199,  1,     15,     15,2,19891013,1105,-68.9500,  -7.9667, 3527,    199.5,   0.2603,  34.6412,3,-999.0000,9,   -999.0,9,  -999.00,9,  -999.00,9,  -999.00,9,  -999.00,9
 06AQANTVIII_2,  SR02,   199,  1,     13,     13,2,19891013,1105,-68.9500,  -7.9667, 3527,    298.8,   0.4563,  34.6614,3,  34.6620,2,    217.5,2,    97.06,2,    32.10,2,     0.01,2,     2.27,2
 06AQANTVIII_2,  SR02,   199,  1,     12,     12,2,19891013,1105,-68.9500,  -7.9667, 3527,    399.0,   0.6762,  34.6827,3,  34.6830,2,    209.7,2,   101.78,2,    32.20,2,     0.01,2,     2.29,2
 06AQANTVIII_2,  SR02,   199,  1,     10,     10,2,19891013,1105,-68.9500,  -7.9667, 3527,    479.3,   0.6822,  34.6872,3,  34.6880,2,    208.5,2,   104.72,2,    32.30,2,     0.02,2,     2.29,2
 06AQANTVIII_2,  SR02,   199,  1,     11,     11,2,19891013,1105,-68.9500,  -7.9667, 3527,    479.6,   0.6812,  34.6868,3,-999.0000,9,   -999.0,9,  -999.00,9,  -999.00,9,  -999.00,9,  -999.00,9
 06AQANTVIII_2,  SR02,   199,  1,      8,      8,2,19891013,1105,-68.9500,  -7.9667, 3527,   1000.4,   0.3413,  34.6769,3,  34.6770,2,    211.1,2,   115.04,2,    32.70,2,     0.02,2,     2.34,2
 06AQANTVIII_2,  SR02,   199,  1,      9,      9,2,19891013,1105,-68.9500,  -7.9667, 3527,   1000.5,   0.3423,  34.6758,3,-999.0000,9,   -999.0,9,  -999.00,9,  -999.00,9,  -999.00,9,  -999.00,9
 06AQANTVIII_2,  SR02,   199,  1,      6,      6,2,19891013,1105,-68.9500,  -7.9667, 3527,   1996.3,  -0.0506,  34.6637,3,  34.6650,2,    225.8,2,   120.25,2,    32.60,2,     0.01,2,     2.34,2
 06AQANTVIII_2,  SR02,   199,  1,      7,      7,2,19891013,1105,-68.9500,  -7.9667, 3527,   1996.5,  -0.0496,  34.6638,3,-999.0000,9,   -999.0,9,  -999.00,9,  -999.00,9,  -999.00,9,  -999.00,9
 06AQANTVIII_2,  SR02,   199,  1,      4,      4,2,19891013,1105,-68.9500,  -7.9667, 3527,   2998.5,  -0.2056,  34.6559,3,  34.6590,2,    235.4,2,   120.15,2,    32.60,2,     0.02,2,     2.32,2
 06AQANTVIII_2,  SR02,   199,  1,      5,      5,2,19891013,1105,-68.9500,  -7.9667, 3527,   2998.6,  -0.2056,  34.6559,3,-999.0000,9,   -999.0,9,  -999.00,9,  -999.00,9,  -999.00,9,  -999.00,9
 06AQANTVIII_2,  SR02,   199,  1,      3,      3,2,19891013,1105,-68.9500,  -7.9667, 3527,   3496.5,  -0.2105,  34.6532,3,  34.6550,2,    238.2,2,   120.64,2,    32.90,2,     0.01,2,     2.32,2
 06AQANTVIII_2,  SR02,   199,  1,      2,      2,2,19891013,1105,-68.9500,  -7.9667, 3527,   3546.7,  -0.2085,  34.6534,3,  34.6570,2,    238.4,2,   120.84,2,    32.90,2,     0.02,2,     2.32,2
 06AQANTVIII_2,  SR02,   199,  1,      1,      1,2,19891013,1105,-68.9500,  -7.9667, 3527,   3595.3,  -0.2115,  34.6536,3,  34.6570,2,    239.3,2,   120.84,2,    32.80,2,     0.02,2,     2.32,2
 06AQANTVIII_2,  SR02,   200,  1,     23,     23,2,19891015,0133,-68.5667,  -7.7000, 3937,     11.0,  -1.8021,  34.4813,3,  34.4770,2,    284.4,2,    78.21,2,    31.40,2,     0.22,2,     2.18,2
 06AQANTVIII_2,  SR02,   200,  1,     22,     22,2,19891015,0133,-68.5667,  -7.7000, 3937,     20.7,  -1.8021,  34.4819,3,  34.4740,2,    286.3,2,    78.11,2,    31.40,2,     0.22,2,     2.18,2
 06AQANTVIII_2,  SR02,   200,  1,     21,     21,2,19891015,0133,-68.5667,  -7.7000, 3937,     41.1,  -1.7891,  34.4786,3,  34.4890,3,    286.7,2,    78.41,2,    31.30,2,     0.23,2,     2.20,2
 06AQANTVIII_2,  SR02,   200,  1,     20,     20,2,19891015,0133,-68.5667,  -7.7000, 3937,     60.3,  -1.7190,  34.4851,3,  34.4840,2,    282.5,2,    78.70,2,    31.40,2,     0.22,2,     2.19,2
 06AQANTVIII_2,  SR02,   200,  1,     19,     19,2,19891015,0133,-68.5667,  -7.7000, 3937,    101.0,  -1.6109,  34.4975,3,  34.5000,2,    280.5,2,    80.57,2,    31.60,2,     0.18,2,     2.20,2
 06AQANTVIII_2,  SR02,   200,  1,     18,     18,2,19891015,0133,-68.5667,  -7.7000, 3937,    200.3,  -0.0336,  34.6177,3,  34.6180,2,    231.6,2,    91.37,2,    32.30,2,     0.03,2,     2.27,2
 06AQANTVIII_2,  SR02,   200,  1,     17,     17,2,19891015,0133,-68.5667,  -7.7000, 3937,    301.0,   0.5353,  34.6705,3,  34.6700,2,    211.1,2,    99.72,2,    32.50,2,     0.04,2,     2.29,2
 06AQANTVIII_2,  SR02,   200,  1,     16,     16,2,19891015,0133,-68.5667,  -7.7000, 3937,    600.3,   0.5873,  34.6849,3,  34.6850,2,    207.8,2,   107.97,2,    32.70,2,     0.03,2,     2.31,2
 06AQANTVIII_2,  SR02,   200,  1,     15,     15,2,19891015,0133,-68.5667,  -7.7000, 3937,    799.0,   0.5323,  34.6888,3,  34.6880,2,    204.3,2,   113.37,2,    33.00,2,     0.03,2,     2.34,2
 06AQANTVIII_2,  SR02,   200,  1,     14,     14,2,19891015,0133,-68.5667,  -7.7000, 3937,    998.2,   0.4283,  34.6851,3,  34.6860,2,    204.8,2,   116.91,2,    33.30,2,     0.03,2,     2.36,2
 06AQANTVIII_2,  SR02,   200,  1,     13,     13,2,19891015,0133,-68.5667,  -7.7000, 3937,   1247.4,   0.2733,  34.6767,3,  34.6750,2,    210.3,2,   118.77,2,    33.30,2,     0.03,2,     2.35,2
 06AQANTVIII_2,  SR02,   200,  1,     12,     12,2,19891015,0133,-68.5667,  -7.7000, 3937,   1502.2,   0.1504,  34.6697,3,  34.6730,2,    215.5,2,   119.36,2,    33.30,2,     0.02,2,     2.34,2
 06AQANTVIII_2,  SR02,   200,  1,     11,     11,2,19891015,0133,-68.5667,  -7.7000, 3937,   1748.3,   0.0604,  34.6681,3,  34.6680,2,    219.4,2,   120.54,2,    33.20,2,     0.02,2,     2.36,2
 06AQANTVIII_2,  SR02,   200,  1,     10,     10,2,19891015,0133,-68.5667,  -7.7000, 3937,   1997.1,  -0.0106,  34.6645,3,  34.6660,2,    222.2,2,   121.03,2,    33.10,2,     0.03,2,     2.33,2
 06AQANTVIII_2,  SR02,   200,  1,      9,      9,2,19891015,0133,-68.5667,  -7.7000, 3937,   2243.8,  -0.0776,  34.6625,3,  34.6630,2,    225.4,2,   121.13,2,    33.00,2,     0.02,2,     2.35,2
 06AQANTVIII_2,  SR02,   200,  1,      8,      8,2,19891015,0133,-68.5667,  -7.7000, 3937,   2503.2,  -0.1276,  34.6608,3,  34.6620,2,    229.2,2,   120.94,2,    33.00,2,     0.01,2,     2.35,2
 06AQANTVIII_2,  SR02,   200,  1,      7,      7,2,19891015,0133,-68.5667,  -7.7000, 3937,   2747.6,  -0.1666,  34.6595,3,  34.6610,2,    231.8,2,   120.84,2,    32.90,2,     0.02,2,     2.34,2
 06AQANTVIII_2,  SR02,   200,  1,      6,      6,2,19891015,0133,-68.5667,  -7.7000, 3937,   2997.8,  -0.1976,  34.6578,3,  34.6580,2,    233.7,2,   120.64,2,    32.80,2,     0.01,2,     2.33,2
 06AQANTVIII_2,  SR02,   200,  1,      5,      5,2,19891015,0133,-68.5667,  -7.7000, 3937,   3397.8,  -0.2195,  34.6555,3,  34.6560,2,    235.2,2,   121.62,2,    32.80,2,     0.01,2,     2.33,2
 06AQANTVIII_2,  SR02,   200,  1,      4,      4,2,19891015,0133,-68.5667,  -7.7000, 3937,   3700.2,  -0.2056,  34.6537,3,  34.6540,2,    235.9,2,   121.82,2,    32.80,2,     0.01,2,     2.33,2
 06AQANTVIII_2,  SR02,   200,  1,      3,      3,2,19891015,0133,-68.5667,  -7.7000, 3937,   3898.0,  -0.2175,  34.6547,3,  34.6560,2,    237.5,2,   121.82,2,    32.70,2,     0.02,2,     2.34,2
 06AQANTVIII_2,  SR02,   200,  1,      2,      2,2,19891015,0133,-68.5667,  -7.7000, 3937,   3967.9,  -0.2265,  34.6551,3,  34.6550,2,    237.7,2,   122.21,2,    32.70,2,     0.02,2,     2.32,2
 06AQANTVIII_2,  SR02,   200,  1,      1,      1,2,19891015,0133,-68.5667,  -7.7000, 3937,   4016.0,  -0.2345,  34.6541,3,  34.6560,2,    238.4,2,   122.31,2,    32.80,2,     0.01,2,     2.33,2
 06AQANTVIII_2,  SR02,   201,  1,     24,     24,2,19891015,1104,-68.1333,  -7.1833, 4250,      9.7,  -1.8011,  34.4544,3,-999.0000,9,   -999.0,9,  -999.00,9,  -999.00,9,  -999.00,9,  -999.00,9
 06AQANTVIII_2,  SR02,   201,  1,     23,     23,2,19891015,1104,-68.1333,  -7.1833, 4250,     21.3,  -1.8031,  34.4548,3,-999.0000,9,   -999.0,9,  -999.00,9,  -999.00,9,  -999.00,9,  -999.00,9
 06AQANTVIII_2,  SR02,   201,  1,     22,     22,2,19891015,1104,-68.1333,  -7.1833, 4250,     21.3,  -1.8031,  34.4548,3,  34.4520,2,    292.3,2,    71.53,2,    30.40,2,     0.30,2,     2.08,2
 06AQANTVIII_2,  SR02,   201,  1,     21,     21,2,19891015,1104,-68.1333,  -7.1833, 4250,     38.8,  -1.7971,  34.4559,3,-999.0000,9,   -999.0,9,  -999.00,9,  -999.00,9,  -999.00,9,  -999.00,9
 06AQANTVIII_2,  SR02,   201,  1,     19,     19,2,19891015,1104,-68.1333,  -7.1833, 4250,     61.8,  -1.7660,  34.4593,3,-999.0000,9,   -999.0,9,  -999.00,9,  -999.00,9,  -999.00,9,  -999.00,9
 06AQANTVIII_2,  SR02,   201,  1,     20,     20,2,19891015,1104,-68.1333,  -7.1833, 4250,     61.9,  -1.7721,  34.4537,3,  34.4550,2,    291.4,2,    72.02,2,    30.50,2,     0.28,2,     2.10,2
 06AQANTVIII_2,  SR02,   201,  1,     18,     18,2,19891015,1104,-68.1333,  -7.1833, 4250,     81.5,  -0.7976,  34.5614,3,-999.0000,9,   -999.0,9,    87.25,2,    32.10,2,     0.07,2,     2.21,2
 06AQANTVIII_2,  SR02,   201,  1,     17,     17,2,19891015,1104,-68.1333,  -7.1833, 4250,    101.5,  -0.4326,  34.5708,3,-999.0000,9,   -999.0,9,    94.32,2,    32.40,2,     0.03,2,     2.26,2
 06AQANTVIII_2,  SR02,   201,  1,     16,     16,2,19891015,1104,-68.1333,  -7.1833, 4250,    160.8,   0.3963,  34.6466,3,-999.0000,9,   -999.0,9,    93.72,2,    32.30,2,     0.05,2,     2.24,2
 06AQANTVIII_2,  SR02,   201,  1,     15,     15,2,19891015,1104,-68.1333,  -7.1833, 4250,    221.2,   0.3203,  34.6442,3,-999.0000,9,   -999.0,9,    95.49,2,    32.30,2,     0.04,2,     2.22,2
 06AQANTVIII_2,  SR02,   201,  1,     14,     14,2,19891015,1104,-68.1333,  -7.1833, 4250,    268.0,   0.4303,  34.6564,3,  34.6880,4,    202.1,2,   103.45,2,    32.50,2,     0.04,2,     2.26,2
 06AQANTVIII_2,  SR02,   201,  1,     12,     12,2,19891015,1104,-68.1333,  -7.1833, 4250,    455.5,   0.7162,  34.6876,3,  34.6890,2,    201.1,2,   113.57,2,    33.10,2,     0.02,2,     2.31,2
 06AQANTVIII_2,  SR02,   201,  1,     13,     13,2,19891015,1104,-68.1333,  -7.1833, 4250,    456.6,   0.7162,  34.6870,3,-999.0000,9,   -999.0,9,  -999.00,9,  -999.00,9,  -999.00,9,  -999.00,9
 06AQANTVIII_2,  SR02,   201,  1,     11,     11,2,19891015,1104,-68.1333,  -7.1833, 4250,    751.3,   0.5643,  34.6880,3,  34.6860,2,    203.8,2,   117.10,2,    33.20,2,     0.01,2,     2.32,2
 06AQANTVIII_2,  SR02,   201,  1,      9,      9,2,19891015,1104,-68.1333,  -7.1833, 4250,    999.4,   0.4303,  34.6845,3,-999.0000,9,   -999.0,9,  -999.00,9,  -999.00,9,  -999.00,9,  -999.00,9
 06AQANTVIII_2,  SR02,   201,  1,     10,     10,2,19891015,1104,-68.1333,  -7.1833, 4250,   1000.4,   0.4303,  34.6839,3,  34.6870,2,    202.6,2,   117.10,2,    33.20,2,     0.03,2,     2.31,2
 06AQANTVIII_2,  SR02,   201,  1,      7,      7,2,19891015,1104,-68.1333,  -7.1833, 4250,   1998.7,  -0.0016,  34.6664,3,-999.0000,9,   -999.0,9,  -999.00,9,  -999.00,9,  -999.00,9,  -999.00,9
 06AQANTVIII_2,  SR02,   201,  1,      8,      8,2,19891015,1104,-68.1333,  -7.1833, 4250,   1999.2,  -0.0026,  34.6660,3,  34.6650,2,    221.4,2,   120.84,2,    32.80,2,     0.02,2,     2.35,2
 06AQANTVIII_2,  SR02,   201,  1,      5,      5,2,19891015,1104,-68.1333,  -7.1833, 4250,   2995.6,  -0.1976,  34.6592,3,-999.0000,9,   -999.0,9,  -999.00,9,  -999.00,9,  -999.00,9,  -999.00,9
 06AQANTVIII_2,  SR02,   201,  1,      6,      6,2,19891015,1104,-68.1333,  -7.1833, 4250,   2996.3,  -0.1976,  34.6589,3,  34.6590,2,    234.9,2,   120.54,2,    32.60,2,     0.01,2,     2.32,2
 06AQANTVIII_2,  SR02,   201,  1,      4,      4,2,19891015,1104,-68.1333,  -7.1833, 4250,   3497.8,  -0.2515,  34.6560,3,  34.6520,2,    239.5,2,   122.71,2,    32.50,2,     0.01,2,     2.28,2
 06AQANTVIII_2,  SR02,   201,  1,      3,      3,2,19891015,1104,-68.1333,  -7.1833, 4250,   3998.3,  -0.2846,  34.6540,3,  34.6530,2,    241.3,2,   123.49,2,    32.50,2,     0.01,2,     2.29,2
 06AQANTVIII_2,  SR02,   201,  1,      2,      2,2,19891015,1104,-68.1333,  -7.1833, 4250,   4237.2,  -0.2856,  34.6515,3,  34.6510,2,    240.8,2,   124.77,2,    32.50,2,     0.02,2,     2.29,2
 06AQANTVIII_2,  SR02,   201,  1,      1,      1,2,19891015,1104,-68.1333,  -7.1833, 4250,   4339.6,  -0.2916,  34.6534,3,  34.6510,2,    241.3,2,   124.87,2,    32.60,2,     0.01,2,     2.29,2
 06AQANTVIII_2,  SR02,   202,  1,     24,     24,2,19891016,0430,-67.3833,  -6.1500, 4821,     12.2,  -1.8101,  34.4287,3,  34.4270,2,    304.5,2,    64.16,2,    29.80,2,     0.29,2,     2.10,2
 06AQANTVIII_2,  SR02,   202,  1,     23,     23,2,19891016,0430,-67.3833,  -6.1500, 4821,     20.8,  -1.8111,  34.4285,3,  34.4310,2,    303.8,2,    64.26,2,    29.80,2,     0.29,2,     2.09,2
 06AQANTVIII_2,  SR02,   202,  1,     22,     22,2,19891016,0430,-67.3833,  -6.1500, 4821,     41.0,  -1.7981,  34.4338,3,  34.4370,2,    302.4,2,    64.46,2,    29.80,2,     0.29,2,     2.09,2
 06AQANTVIII_2,  SR02,   202,  1,     21,     21,2,19891016,0430,-67.3833,  -6.1500, 4821,     60.7,  -1.7941,  34.4388,3,  34.4460,2,    305.0,2,    64.65,2,    29.90,2,     0.29,2,     2.10,2
 06AQANTVIII_2,  SR02,   202,  1,     20,     20,2,19891016,0430,-67.3833,  -6.1500, 4821,     80.0,  -1.4459,  34.4579,3,  34.4770,3,    285.1,2,    69.57,2,    30.60,2,     0.25,2,     2.15,2
 06AQANTVIII_2,  SR02,   202,  1,     19,     19,2,19891016,0430,-67.3833,  -6.1500, 4821,    100.8,   0.4443,  34.6246,3,  34.6100,3,    214.3,2,    89.21,2,    33.00,2,     0.03,2,     2.29,2
 06AQANTVIII_2,  SR02,   202,  1,     18,     18,2,19891016,0430,-67.3833,  -6.1500, 4821,    179.6,   1.0641,  34.6836,3,  34.6860,2,    191.6,2,    97.26,2,    33.00,2,    -0.01,4,     2.32,2
 06AQANTVIII_2,  SR02,   202,  1,     17,     17,2,19891016,0430,-67.3833,  -6.1500, 4821,    200.6,   1.0372,  34.6870,3,  34.6900,2,    193.3,2,    98.34,2,    32.90,2,     0.01,2,     2.31,2
 06AQANTVIII_2,  SR02,   202,  1,     16,     16,2,19891016,0430,-67.3833,  -6.1500, 4821,    399.8,   0.8272,  34.6951,3,  34.6950,2,    198.6,2,   105.22,2,    32.70,2,     0.01,2,     2.31,2
 06AQANTVIII_2,  SR02,   202,  1,     15,     15,2,19891016,0430,-67.3833,  -6.1500, 4821,    500.2,   0.7292,  34.6939,3,  34.6930,2,    199.7,2,   108.36,2,    32.80,2,     0.01,2,     2.30,2
 06AQANTVIII_2,  SR02,   202,  1,     14,     14,2,19891016,0430,-67.3833,  -6.1500, 4821,    600.1,   0.6372,  34.6917,3,  34.6940,2,    199.6,2,   111.01,2,    33.00,2,     0.01,2,     2.33,2
 06AQANTVIII_2,  SR02,   202,  1,     13,     13,2,19891016,0430,-67.3833,  -6.1500, 4821,    799.3,   0.4653,  34.6870,3,  34.6870,2,    202.4,2,   115.73,2,    33.30,2,     0.02,2,     2.34,2
 06AQANTVIII_2,  SR02,   202,  1,     12,     12,2,19891016,0430,-67.3833,  -6.1500, 4821,   1005.3,   0.3393,  34.6803,3,  34.6830,2,    204.4,2,   118.77,2,    33.50,2,     0.02,2,     2.37,2
 06AQANTVIII_2,  SR02,   202,  1,     11,     11,2,19891016,0430,-67.3833,  -6.1500, 4821,   1498.3,   0.1384,  34.6733,3,  34.6730,2,    213.6,2,   121.62,2,    33.40,2,     0.01,2,     2.36,2
 06AQANTVIII_2,  SR02,   202,  1,     10,     10,2,19891016,0430,-67.3833,  -6.1500, 4821,   1998.2,  -0.0336,  34.6657,3,  34.6650,2,    220.7,2,   122.02,2,    33.10,2,     0.01,2,     2.33,2
 06AQANTVIII_2,  SR02,   202,  1,      9,      9,2,19891016,0430,-67.3833,  -6.1500, 4821,   2498.0,  -0.1616,  34.6604,3,  34.6620,2,    230.5,2,   121.72,2,    32.80,2,     0.01,2,     2.31,2
 06AQANTVIII_2,  SR02,   202,  1,      8,      8,2,19891016,0430,-67.3833,  -6.1500, 4821,   3001.1,  -0.2445,  34.6575,3,  34.6600,2,    233.3,2,   121.04,2,    32.70,2,     0.01,2,     2.29,2
 06AQANTVIII_2,  SR02,   202,  1,      7,      7,2,19891016,0430,-67.3833,  -6.1500, 4821,   3499.0,  -0.2906,  34.6541,3,  34.6540,2,    239.9,2,   120.94,2,    32.60,2,     0.01,2,     2.29,2
 06AQANTVIII_2,  SR02,   202,  1,      6,      6,2,19891016,0430,-67.3833,  -6.1500, 4821,   3998.7,  -0.3236,  34.6534,3,  34.6530,2,    240.9,2,   122.21,2,    32.60,2,     0.01,2,     2.29,2
 06AQANTVIII_2,  SR02,   202,  1,      5,      5,2,19891016,0430,-67.3833,  -6.1500, 4821,   4248.2,  -0.3306,  34.6513,3,  34.6560,2,    241.3,2,   122.71,2,    32.60,2,     0.01,2,     2.30,2
 06AQANTVIII_2,  SR02,   202,  1,      4,      4,2,19891016,0430,-67.3833,  -6.1500, 4821,   4498.5,  -0.3396,  34.6517,3,  34.6560,2,    242.3,2,   124.18,2,    32.50,2,     0.01,2,     2.29,2
 06AQANTVIII_2,  SR02,   202,  1,      3,      3,2,19891016,0430,-67.3833,  -6.1500, 4821,   4814.6,  -0.4496,  34.6466,3,  34.6480,2,    247.7,2,   119.07,2,    32.50,2,     0.01,2,     2.27,2
 06AQANTVIII_2,  SR02,   202,  1,      2,      2,2,19891016,0430,-67.3833,  -6.1500, 4821,   4865.7,  -0.4656,  34.6452,3,  34.6500,2,    249.0,2,   120.25,2,    32.40,2,     0.03,2,     2.26,2
 06AQANTVIII_2,  SR02,   202,  1,      1,      1,2,19891016,0430,-67.3833,  -6.1500, 4821,   4917.6,  -0.4706,  34.6432,3,  34.6480,2,    248.4,2,   121.43,2,    32.50,2,     0.02,2,     2.28,2