BOTTLE,20221004CCHSIOAMB
EXPOCODE,SECT_ID,STNNBR,CASTNO,SAMPNO,BTLNBR,BTLNBR_FLAG_W,DATE,TIME,LATITUDE,LONGITUDE,DEPTH,CTDPRS,CTDTMP,CTDSAL,CTDSAL_FLAG_W,SALNTY,SALNTY_FLAG_W,OXYGEN,OXYGEN_FLAG_W,SILCAT,SILCAT_FLAG_W,NITRAT,NITRAT_FLAG_W,NITRIT,NITRIT_FLAG_W,PHSPHT,PHSPHT_FLAG_W
,,,,,,,,,,,,DBAR,ITS-90,PSS-78,,PSS-78,,UMOL/KG,,UMOL/KG,,UMOL/KG,,UMOL/KG,,UMOL/KG,
 06AQANTVIII_2,  SR04,   155,  1,     18,     18,2,19890916,0724,-64.3000, -46.7000, 4331,     49.1,  -1.8359,  34.4024,3,  34.4000,2,    298.3,2,    77.82,2,    29.30,2,     0.35,2,     2.05,2
 06AQANTVIII_2,  SR04,   155,  1,     17,     17,2,19890916,0724,-64.3000, -46.7000, 4331,     78.6,  -1.7378,  34.3990,3,  34.4030,2,    296.1,2,    77.82,2,    29.20,2,     0.35,2,     2.05,2
 06AQANTVIII_2,  SR04,   155,  1,     16,     16,2,19890916,0724,-64.3000, -46.7000, 4331,    138.4,   0.0300,  34.6366,3,  34.6310,2,    215.8,2,    98.15,2,    32.80,2,     0.10,2,     2.33,2
 06AQANTVIII_2,  SR04,   155,  1,     15,     15,2,19890916,0724,-64.3000, -46.7000, 4331,    183.4,   0.3588,  34.6691,3,  34.6670,2,    200.8,2,   104.04,2,    33.20,2,     0.09,2,     2.34,2
 06AQANTVIII_2,  SR04,   155,  1,     14,     14,2,19890916,0724,-64.3000, -46.7000, 4331,    247.2,   0.4137,  34.6746,3,  34.6720,2,    200.1,2,   105.61,2,    33.20,2,     0.09,2,     2.33,2
 06AQANTVIII_2,  SR04,   155,  1,     13,     13,2,19890916,0724,-64.3000, -46.7000, 4331,    376.0,   0.5607,  34.6917,3,  34.6910,2,    195.4,2,   114.45,2,    33.50,2,     0.09,2,     2.37,2
 06AQANTVIII_2,  SR04,   155,  1,     12,     12,2,19890916,0724,-64.3000, -46.7000, 4331,    496.3,   0.4817,  34.6911,3,  34.6880,2,    196.3,2,   117.20,2,    33.70,2,     0.09,2,     2.35,2
 06AQANTVIII_2,  SR04,   155,  1,     11,     11,2,19890916,0724,-64.3000, -46.7000, 4331,    795.4,   0.3268,  34.6850,3,  34.6830,2,    200.2,2,   121.92,2,    33.80,2,     0.09,2,     2.37,2
 06AQANTVIII_2,  SR04,   155,  1,     10,     10,2,19890916,0724,-64.3000, -46.7000, 4331,    994.7,   0.2358,  34.6814,3,  34.6790,2,    202.6,2,   124.08,2,    33.70,2,  -999.00,9,     2.36,2
 06AQANTVIII_2,  SR04,   155,  1,      9,      9,2,19890916,0724,-64.3000, -46.7000, 4331,   1495.5,   0.0300,  34.6728,3,  34.6720,2,    216.2,2,   124.08,2,    33.20,2,  -999.00,9,     2.34,2
 06AQANTVIII_2,  SR04,   155,  1,      8,      8,2,19890916,0724,-64.3000, -46.7000, 4331,   2499.6,  -0.2247,  34.6645,3,-999.0000,9,   -999.0,9,  -999.00,9,  -999.00,9,  -999.00,9,  -999.00,9
 06AQANTVIII_2,  SR04,   155,  1,      7,      7,2,19890916,0724,-64.3000, -46.7000, 4331,   3503.5,  -0.3418,  34.6593,3,  34.6560,2,    241.8,2,   120.94,2,    32.40,2,     0.01,2,     2.28,2
 06AQANTVIII_2,  SR04,   155,  1,      5,      5,2,19890916,0724,-64.3000, -46.7000, 4331,   4204.4,  -0.4349,  34.6510,3,  34.6500,2,    247.3,2,   123.39,2,    32.40,2,     0.01,2,     2.28,2
 06AQANTVIII_2,  SR04,   155,  1,      6,      6,2,19890916,0724,-64.3000, -46.7000, 4331,   4204.6,  -0.4349,  34.6535,3,-999.0000,9,   -999.0,9,  -999.00,9,  -999.00,9,  -999.00,9,  -999.00,9
 06AQANTVIII_2,  SR04,   155,  1,      3,      3,2,19890916,0724,-64.3000, -46.7000, 4331,   4304.9,  -0.4810,  34.6491,3,  34.6480,2,    248.2,2,   124.18,2,    32.50,2,  -999.00,9,     2.29,2
 06AQANTVIII_2,  SR04,   155,  1,      4,      4,2,19890916,0724,-64.3000, -46.7000, 4331,   4305.1,  -0.4810,  34.6490,3,-999.0000,9,   -999.0,9,  -999.00,9,  -999.00,9,  -999.00,9,  -999.00,9
 06AQANTVIII_2,  SR04,   155,  1,      1,      1,2,19890916,0724,-64.3000, -46.7000, 4331,   4355.4,  -0.5010,  34.6475,3,  34.6460,2,    249.3,2,   122.41,2,    32.40,2,     0.01,2,     2.29,2
 06AQANTVIII_2,  SR04,   155,  1,      2,      2,2,19890916,0724,-64.3000, -46.7000, 4331,   4355.5,  -0.5000,  34.6476,3,-999.0000,9,   -999.0,9,  -999.00,9,  -999.00,9,  -999.00,9,  -999.00,9
 06AQANTVIII_2,  SR04,   156,  1,     24,     24,2,19890916,1723,-64.4667, -45.5667, 4442,      9.4,  -1.8489,  34.4270,3,  34.4290,2,    294.9,2,    77.53,2,    30.10,2,     0.23,2,     2.09,2
 06AQANTVIII_2,  SR04,   156,  1,     23,     23,2,19890916,1723,-64.4667, -45.5667, 4442,      9.4,  -1.8479,  34.4286,3,-999.0000,9,   -999.0,9,  -999.00,9,  -999.00,9,  -999.00,9,  -999.00,9
 06AQANTVIII_2,  SR04,   156,  1,     22,     22,2,19890916,1723,-64.4667, -45.5667, 4442,     48.9,  -1.8419,  34.4282,3,-999.0000,9,   -999.0,9,  -999.00,9,  -999.00,9,  -999.00,9,  -999.00,9
 06AQANTVIII_2,  SR04,   156,  1,     21,     21,2,19890916,1723,-64.4667, -45.5667, 4442,     48.9,  -1.8459,  34.4272,3,-999.0000,9,   -999.0,9,  -999.00,9,  -999.00,9,  -999.00,9,  -999.00,9
 06AQANTVIII_2,  SR04,   156,  1,     20,     20,2,19890916,1723,-64.4667, -45.5667, 4442,     74.1,  -1.8249,  34.4312,3,  34.4300,2,    294.3,2,    77.53,2,    30.20,2,     0.25,2,     2.10,2
 06AQANTVIII_2,  SR04,   156,  1,     19,     19,2,19890916,1723,-64.4667, -45.5667, 4442,     74.1,  -1.8269,  34.4294,3,-999.0000,9,   -999.0,9,  -999.00,9,  -999.00,9,  -999.00,9,  -999.00,9
 06AQANTVIII_2,  SR04,   156,  1,     18,     18,2,19890916,1723,-64.4667, -45.5667, 4442,     98.5,  -1.8169,  34.4243,3,-999.0000,9,   -999.0,9,  -999.00,9,  -999.00,9,  -999.00,9,  -999.00,9
 06AQANTVIII_2,  SR04,   156,  1,     17,     17,2,19890916,1723,-64.4667, -45.5667, 4442,    148.4,  -0.3759,  34.5869,3,-999.0000,9,   -999.0,9,  -999.00,9,  -999.00,9,  -999.00,9,  -999.00,9
 06AQANTVIII_2,  SR04,   156,  1,     16,     16,2,19890916,1723,-64.4667, -45.5667, 4442,    196.3,   0.3178,  34.6646,3,-999.0000,9,   -999.0,9,  -999.00,9,  -999.00,9,  -999.00,9,  -999.00,9
 06AQANTVIII_2,  SR04,   156,  1,     14,     14,2,19890916,1723,-64.4667, -45.5667, 4442,    297.1,   0.5197,  34.6862,3,  34.6850,2,    196.2,2,   111.99,2,    34.30,2,     0.01,2,     2.37,2
 06AQANTVIII_2,  SR04,   156,  1,     15,     15,2,19890916,1723,-64.4667, -45.5667, 4442,    297.2,   0.5207,  34.6850,3,-999.0000,9,   -999.0,9,  -999.00,9,  -999.00,9,  -999.00,9,  -999.00,9
 06AQANTVIII_2,  SR04,   156,  1,     12,     12,2,19890916,1723,-64.4667, -45.5667, 4442,    396.9,   0.4647,  34.6868,3,  34.6850,2,    197.3,2,   115.33,2,    34.20,2,     0.01,2,     2.39,2
 06AQANTVIII_2,  SR04,   156,  1,     13,     13,2,19890916,1723,-64.4667, -45.5667, 4442,    397.0,   0.4667,  34.6859,3,-999.0000,9,   -999.0,9,  -999.00,9,  -999.00,9,  -999.00,9,  -999.00,9
 06AQANTVIII_2,  SR04,   156,  1,     10,     10,2,19890916,1723,-64.4667, -45.5667, 4442,    996.1,   0.1709,  34.6776,3,  34.6780,2,    207.5,2,   121.92,2,    33.90,2,     0.01,2,     2.36,2
 06AQANTVIII_2,  SR04,   156,  1,     11,     11,2,19890916,1723,-64.4667, -45.5667, 4442,    996.4,   0.1709,  34.6774,3,-999.0000,9,   -999.0,9,  -999.00,9,  -999.00,9,  -999.00,9,  -999.00,9
 06AQANTVIII_2,  SR04,   156,  1,      9,      9,2,19890916,1723,-64.4667, -45.5667, 4442,   1998.0,  -0.1758,  34.6623,3,  34.6620,2,    229.7,2,   124.96,2,    33.30,2,     0.01,2,     2.33,2
 06AQANTVIII_2,  SR04,   156,  1,      7,      7,2,19890916,1723,-64.4667, -45.5667, 4442,   2750.9,  -0.2888,  34.6594,3,-999.0000,9,   -999.0,9,  -999.00,9,  -999.00,9,  -999.00,9,  -999.00,9
 06AQANTVIII_2,  SR04,   156,  1,      8,      8,2,19890916,1723,-64.4667, -45.5667, 4442,   2751.4,  -0.2878,  34.6580,3,  34.6590,2,    237.2,2,   123.20,2,    33.10,2,     0.01,2,     2.30,2
 06AQANTVIII_2,  SR04,   156,  1,      6,      6,2,19890916,1723,-64.4667, -45.5667, 4442,   3762.7,  -0.3819,  34.6542,3,  34.6560,2,    245.3,2,   122.31,2,    32.80,2,     0.01,2,     2.29,2
 06AQANTVIII_2,  SR04,   156,  1,      5,      5,2,19890916,1723,-64.4667, -45.5667, 4442,   4257.1,  -0.4680,  34.6496,3,  34.6480,2,    249.5,2,   119.27,2,    32.70,2,     0.01,2,     2.29,2
 06AQANTVIII_2,  SR04,   156,  1,      3,      3,2,19890916,1723,-64.4667, -45.5667, 4442,   4375.6,  -0.5100,  34.6456,3,-999.0000,9,   -999.0,9,  -999.00,9,  -999.00,9,  -999.00,9,  -999.00,9
 06AQANTVIII_2,  SR04,   156,  1,      4,      4,2,19890916,1723,-64.4667, -45.5667, 4442,   4375.8,  -0.5110,  34.6466,3,  34.6460,2,    252.1,2,   117.99,2,    32.60,2,     0.01,2,     2.30,2
 06AQANTVIII_2,  SR04,   156,  1,      2,      2,2,19890916,1723,-64.4667, -45.5667, 4442,   4476.6,  -0.5560,  34.6425,3,  34.6440,2,    253.9,2,   116.71,2,    32.60,2,     0.01,2,     2.30,2
 06AQANTVIII_2,  SR04,   156,  1,      1,      1,2,19890916,1723,-64.4667, -45.5667, 4442,   4530.2,  -0.5891,  34.6397,3,  34.6400,2,    254.9,2,   118.09,2,    32.60,2,     0.01,2,     2.30,2
 06AQANTVIII_2,  SR04,   157,  1,     24,     24,2,19890917,0604,-64.7500, -45.5000, 4518,      8.3,  -1.8409,  34.4656,3,  34.4610,2,    294.7,2,    79.20,2,  -999.00,9,     0.18,2,     2.09,2
 06AQANTVIII_2,  SR04,   157,  1,     23,     23,2,19890917,0604,-64.7500, -45.5000, 4518,     53.7,  -1.8079,  34.4621,3,  34.4620,2,    294.3,2,    79.20,2,    28.60,2,     0.17,2,     2.09,2
 06AQANTVIII_2,  SR04,   157,  1,     22,     22,2,19890917,0604,-64.7500, -45.5000, 4518,     97.9,  -1.7598,  34.4670,3,  34.6380,4,    209.1,2,   106.81,2,    31.60,2,     0.01,2,     2.31,2
 06AQANTVIII_2,  SR04,   157,  1,     21,     21,2,19890917,0604,-64.7500, -45.5000, 4518,    295.9,   0.4717,  34.6897,3,  34.6830,2,    193.1,2,   115.83,2,    32.60,2,     0.01,2,     2.36,2
 06AQANTVIII_2,  SR04,   157,  1,     20,     20,2,19890917,0604,-64.7500, -45.5000, 4518,    396.0,   0.4007,  34.6885,3,  34.6840,2,    193.2,2,   118.97,2,    32.80,2,     0.01,2,     2.37,2
 06AQANTVIII_2,  SR04,   157,  1,     19,     19,2,19890917,0604,-64.7500, -45.5000, 4518,    597.3,   0.2948,  34.6874,3,  34.6820,2,    196.7,2,   122.31,2,    32.90,2,     0.00,2,     2.39,2
 06AQANTVIII_2,  SR04,   157,  1,     18,     18,2,19890917,0604,-64.7500, -45.5000, 4518,    796.4,   0.2108,  34.6837,3,  34.6770,2,    202.3,2,   124.18,2,    32.70,2,     0.00,2,     2.37,2
 06AQANTVIII_2,  SR04,   157,  1,     17,     17,2,19890917,0604,-64.7500, -45.5000, 4518,    995.3,   0.1239,  34.6794,3,  34.6750,2,    208.7,2,   124.18,2,    32.40,2,    -0.01,4,     2.36,2
 06AQANTVIII_2,  SR04,   157,  1,     16,     16,2,19890917,0604,-64.7500, -45.5000, 4518,   1196.0,   0.0510,  34.6765,3,  34.6720,2,    213.5,2,   123.88,2,    32.30,2,    -0.01,4,     2.35,2
 06AQANTVIII_2,  SR04,   157,  1,     15,     15,2,19890917,0604,-64.7500, -45.5000, 4518,   1496.1,  -0.0657,  34.6704,3,  34.6670,2,    221.1,2,   123.69,2,    32.30,2,    -0.01,4,     2.35,2
 06AQANTVIII_2,  SR04,   157,  1,     13,     13,2,19890917,0604,-64.7500, -45.5000, 4518,   1997.3,  -0.1958,  34.6629,3,  34.6610,2,    231.0,2,   122.70,2,    32.10,2,     0.00,2,     2.34,2
 06AQANTVIII_2,  SR04,   157,  1,     14,     14,2,19890917,0604,-64.7500, -45.5000, 4518,   1997.9,  -0.1948,  34.6628,3,  34.6610,2,   -999.0,9,   122.70,2,    32.10,2,    -0.01,4,     2.31,2
 06AQANTVIII_2,  SR04,   157,  1,     11,     11,2,19890917,0604,-64.7500, -45.5000, 4518,   2499.3,  -0.2628,  34.6605,3,  34.6590,2,    235.4,2,   122.12,2,    32.00,2,    -0.01,4,     2.31,2
 06AQANTVIII_2,  SR04,   157,  1,     12,     12,2,19890917,0604,-64.7500, -45.5000, 4518,   2499.8,  -0.2638,  34.6614,3,  34.6590,2,   -999.0,9,   122.12,2,    32.00,2,     0.00,2,     2.31,2
 06AQANTVIII_2,  SR04,   157,  1,      9,      9,2,19890917,0604,-64.7500, -45.5000, 4518,   3001.4,  -0.3178,  34.6591,3,  34.6580,2,    237.9,2,   121.13,2,    31.90,2,    -0.01,4,     2.30,2
 06AQANTVIII_2,  SR04,   157,  1,     10,     10,2,19890917,0604,-64.7500, -45.5000, 4518,   3001.8,  -0.3188,  34.6600,3,  34.6580,2,   -999.0,9,   121.33,2,    31.90,2,    -0.01,4,     2.31,2
 06AQANTVIII_2,  SR04,   157,  1,      7,      7,2,19890917,0604,-64.7500, -45.5000, 4518,   3504.6,  -0.3649,  34.6562,3,  34.6550,2,    242.7,2,   120.05,2,    31.80,2,    -0.01,4,     2.29,2
 06AQANTVIII_2,  SR04,   157,  1,      8,      8,2,19890917,0604,-64.7500, -45.5000, 4518,   3504.9,  -0.3649,  34.6561,3,  34.6570,2,   -999.0,9,   120.05,2,    31.80,2,    -0.01,4,     2.30,2
 06AQANTVIII_2,  SR04,   157,  1,      5,      5,2,19890917,0604,-64.7500, -45.5000, 4518,   4205.0,  -0.4439,  34.6505,3,  34.6490,2,    248.0,2,   118.29,2,    31.80,2,    -0.01,4,     2.30,2
 06AQANTVIII_2,  SR04,   157,  1,      6,      6,2,19890917,0604,-64.7500, -45.5000, 4518,   4205.3,  -0.4439,  34.6503,3,  34.6490,2,   -999.0,9,   118.48,2,    31.90,2,    -0.01,4,     2.30,2
 06AQANTVIII_2,  SR04,   157,  1,      4,      4,2,19890917,0604,-64.7500, -45.5000, 4518,   4460.3,  -0.5310,  34.6454,3,  34.6440,2,    251.6,2,   116.22,2,    31.90,2,    -0.01,4,     2.30,2
 06AQANTVIII_2,  SR04,   157,  1,      3,      3,2,19890917,0604,-64.7500, -45.5000, 4518,   4510.5,  -0.5460,  34.6436,3,  34.6440,2,    252.3,2,   115.53,2,    32.00,2,    -0.01,4,     2.28,2
 06AQANTVIII_2,  SR04,   157,  1,      2,      2,2,19890917,0604,-64.7500, -45.5000, 4518,   4560.8,  -0.5750,  34.6404,3,  34.6400,2,    252.7,2,   116.42,2,    31.90,2,    -0.01,4,     2.29,2
 06AQANTVIII_2,  SR04,   157,  1,      1,      1,2,19890917,0604,-64.7500, -45.5000, 4518,   4611.6,  -0.5881,  34.6377,3,  34.6370,2,    253.5,2,   118.48,2,    32.10,2,    -0.01,4,     2.29,2
 06AQANTVIII_2,  SR04,   158,  2,     24,     24,2,19890921,0601,-64.6000, -43.4833, 4628,     10.3,  -1.8476,  34.4553,3,  34.4460,2,    291.9,2,    79.29,2,    30.20,2,     0.11,2,     2.10,2
 06AQANTVIII_2,  SR04,   158,  2,     23,     23,2,19890921,0601,-64.6000, -43.4833, 4628,     10.3,  -1.8476,  34.4553,3,-999.0000,9,   -999.0,9,  -999.00,9,  -999.00,9,  -999.00,9,  -999.00,9
 06AQANTVIII_2,  SR04,   158,  2,     22,     22,2,19890921,0601,-64.6000, -43.4833, 4628,     48.9,  -1.8446,  34.4561,3,  34.4560,2,    291.3,2,    79.49,2,    30.20,2,     0.10,2,     2.10,2
 06AQANTVIII_2,  SR04,   158,  2,     21,     21,2,19890921,0601,-64.6000, -43.4833, 4628,     48.9,  -1.8436,  34.4549,3,-999.0000,9,   -999.0,9,  -999.00,9,  -999.00,9,  -999.00,9,  -999.00,9
 06AQANTVIII_2,  SR04,   158,  2,     19,     19,2,19890921,0601,-64.6000, -43.4833, 4628,     70.5,  -1.8316,  34.4577,3,-999.0000,9,   -999.0,9,  -999.00,9,  -999.00,9,  -999.00,9,  -999.00,9
 06AQANTVIII_2,  SR04,   158,  2,     20,     20,2,19890921,0601,-64.6000, -43.4833, 4628,     70.6,  -1.8356,  34.4567,3,  34.4550,2,    291.3,2,    79.49,2,    30.20,2,     0.10,2,     2.10,2
 06AQANTVIII_2,  SR04,   158,  2,     18,     18,2,19890921,0601,-64.6000, -43.4833, 4628,     98.8,  -1.7675,  34.4724,3,-999.0000,9,   -999.0,9,  -999.00,9,  -999.00,9,  -999.00,9,  -999.00,9
 06AQANTVIII_2,  SR04,   158,  2,     17,     17,2,19890921,0601,-64.6000, -43.4833, 4628,    149.3,  -0.8859,  34.5525,3,-999.0000,9,   -999.0,9,  -999.00,9,  -999.00,9,  -999.00,9,  -999.00,9
 06AQANTVIII_2,  SR04,   158,  2,     16,     16,2,19890921,0601,-64.6000, -43.4833, 4628,    198.0,   0.0835,  34.6505,3,-999.0000,9,   -999.0,9,  -999.00,9,  -999.00,9,  -999.00,9,  -999.00,9
 06AQANTVIII_2,  SR04,   158,  2,     14,     14,2,19890921,0601,-64.6000, -43.4833, 4628,    298.2,   0.3784,  34.6868,3,  34.6800,2,    191.7,2,   120.84,2,    34.30,2,    -0.01,4,     2.40,2
 06AQANTVIII_2,  SR04,   158,  2,     15,     15,2,19890921,0601,-64.6000, -43.4833, 4628,    298.5,   0.3794,  34.6842,3,-999.0000,9,   -999.0,9,  -999.00,9,  -999.00,9,  -999.00,9,  -999.00,9
 06AQANTVIII_2,  SR04,   158,  2,     12,     12,2,19890921,0601,-64.6000, -43.4833, 4628,    404.8,   0.3444,  34.6874,3,  34.6820,2,    193.4,2,   121.72,2,    34.20,2,    -0.01,4,     2.40,2
 06AQANTVIII_2,  SR04,   158,  2,     13,     13,2,19890921,0601,-64.6000, -43.4833, 4628,    405.0,   0.3434,  34.6858,3,-999.0000,9,   -999.0,9,  -999.00,9,  -999.00,9,  -999.00,9,  -999.00,9
 06AQANTVIII_2,  SR04,   158,  2,     10,     10,2,19890921,0601,-64.6000, -43.4833, 4628,    996.9,   0.1025,  34.6802,3,  34.6740,2,    209.6,2,   124.37,2,    33.60,2,    -0.01,4,     2.37,2
 06AQANTVIII_2,  SR04,   158,  2,     11,     11,2,19890921,0601,-64.6000, -43.4833, 4628,    998.0,   0.1025,  34.6796,3,-999.0000,9,   -999.0,9,  -999.00,9,  -999.00,9,  -999.00,9,  -999.00,9
 06AQANTVIII_2,  SR04,   158,  2,      9,      9,2,19890921,0601,-64.6000, -43.4833, 4628,   2000.7,  -0.1944,  34.6672,3,  34.6620,2,    230.4,2,   123.10,2,    32.90,2,    -0.01,4,     2.32,2
 06AQANTVIII_2,  SR04,   158,  2,      7,      7,2,19890921,0601,-64.6000, -43.4833, 4628,   2752.5,  -0.2954,  34.6647,3,-999.0000,9,   -999.0,9,  -999.00,9,  -999.00,9,  -999.00,9,  -999.00,9
 06AQANTVIII_2,  SR04,   158,  2,      8,      8,2,19890921,0601,-64.6000, -43.4833, 4628,   2754.3,  -0.2954,  34.6651,3,  34.6580,2,    236.9,2,   122.02,2,    32.70,2,    -0.01,4,     2.31,2
 06AQANTVIII_2,  SR04,   158,  2,      6,      6,2,19890921,0601,-64.6000, -43.4833, 4628,   3755.0,  -0.3955,  34.6556,3,  34.6520,2,    244.3,2,   120.54,2,    32.30,2,    -0.01,4,     2.28,2
 06AQANTVIII_2,  SR04,   158,  2,      5,      5,2,19890921,0601,-64.6000, -43.4833, 4628,   4256.3,  -0.4836,  34.6511,3,  34.6460,2,    249.7,2,   116.12,2,    32.20,2,    -0.01,4,     2.27,2
 06AQANTVIII_2,  SR04,   158,  2,      3,      3,2,19890921,0601,-64.6000, -43.4833, 4628,   4477.3,  -0.5386,  34.6481,3,-999.0000,9,   -999.0,9,  -999.00,9,  -999.00,9,  -999.00,9,  -999.00,9
 06AQANTVIII_2,  SR04,   158,  2,      4,      4,2,19890921,0601,-64.6000, -43.4833, 4628,   4479.6,  -0.5376,  34.6473,3,  34.6440,2,    252.6,2,   114.65,2,    32.10,2,    -0.01,4,     2.27,2
 06AQANTVIII_2,  SR04,   158,  2,      2,      2,2,19890921,0601,-64.6000, -43.4833, 4628,   4626.6,  -0.5797,  34.6431,3,  34.6370,2,    253.9,2,   114.06,2,    32.10,2,    -0.01,4,     2.26,2
 06AQANTVIII_2,  SR04,   158,  2,      1,      1,2,19890921,0601,-64.6000, -43.4833, 4628,   4681.7,  -0.5937,  34.6415,3,  34.6380,2,    254.8,2,   114.36,2,    32.10,2,     0.00,2,     2.25,2