BOTTLE,20221004CCHSIOAMB
EXPOCODE,SECT_ID,STNNBR,CASTNO,SAMPNO,BTLNBR,BTLNBR_FLAG_W,DATE,TIME,LATITUDE,LONGITUDE,DEPTH,CTDPRS,CTDTMP,CTDSAL,CTDSAL_FLAG_W,SALNTY,SALNTY_FLAG_W,OXYGEN,OXYGEN_FLAG_W,SILCAT,SILCAT_FLAG_W,NITRAT,NITRAT_FLAG_W,NITRIT,NITRIT_FLAG_W,PHSPHT,PHSPHT_FLAG_W
,,,,,,,,,,,,DBAR,ITS-90,PSS-78,,PSS-78,,UMOL/KG,,UMOL/KG,,UMOL/KG,,UMOL/KG,,UMOL/KG,
 06AQANTVIII_2,  SR04,   175,  1,     24,     24,2,19891003,0242,-67.5833, -22.3833, 4852,     10.5,  -1.8576,  34.4910,3,  34.4790,3,    300.5,2,    69.76,2,    29.00,2,     0.34,2,     2.07,2
 06AQANTVIII_2,  SR04,   175,  1,     23,     23,2,19891003,0242,-67.5833, -22.3833, 4852,     49.5,  -1.8526,  34.4891,3,  34.4840,2,    301.4,2,    69.76,2,    29.00,2,     0.34,2,     2.05,2
 06AQANTVIII_2,  SR04,   175,  1,     22,     22,2,19891003,0242,-67.5833, -22.3833, 4852,     96.7,  -1.8216,  34.4894,3,  34.4860,2,    300.4,2,    69.96,2,    29.00,2,     0.33,2,     2.05,2
 06AQANTVIII_2,  SR04,   175,  1,     21,     21,2,19891003,0242,-67.5833, -22.3833, 4852,    148.8,   0.2794,  34.6587,3,  34.6540,2,    201.4,2,   100.90,2,    33.30,2,     0.03,2,     2.32,2
 06AQANTVIII_2,  SR04,   175,  1,     20,     20,2,19891003,0242,-67.5833, -22.3833, 4852,    237.4,   0.5713,  34.6858,3,  34.6810,2,    195.2,2,   108.16,2,    33.50,2,     0.03,2,     2.35,2
 06AQANTVIII_2,  SR04,   175,  1,     19,     19,2,19891003,0242,-67.5833, -22.3833, 4852,    296.8,   0.5943,  34.6921,3,  34.6870,2,    193.0,2,   112.39,2,    33.60,2,     0.03,2,     2.34,2
 06AQANTVIII_2,  SR04,   175,  1,     18,     18,2,19891003,0242,-67.5833, -22.3833, 4852,    497.8,   0.4594,  34.6907,3,  34.6850,2,    196.3,2,   117.00,2,    33.70,2,     0.03,2,     2.35,2
 06AQANTVIII_2,  SR04,   175,  1,     17,     17,2,19891003,0242,-67.5833, -22.3833, 4852,    745.6,   0.3144,  34.6861,3,  34.6810,2,    197.7,2,   121.52,2,    33.90,2,     0.03,2,     2.37,2
 06AQANTVIII_2,  SR04,   175,  1,     16,     16,2,19891003,0242,-67.5833, -22.3833, 4852,    995.6,   0.2104,  34.6832,3,  34.6780,2,    204.7,2,   123.29,2,    33.70,2,     0.03,2,     2.37,2
 06AQANTVIII_2,  SR04,   175,  1,     15,     15,2,19891003,0242,-67.5833, -22.3833, 4852,   1245.6,   0.1125,  34.6783,3,  34.6730,2,    209.8,2,   123.69,2,    33.40,2,     0.03,2,     2.35,2
 06AQANTVIII_2,  SR04,   175,  1,     14,     14,2,19891003,0242,-67.5833, -22.3833, 4852,   1495.8,   0.0195,  34.6751,3,  34.6680,2,    216.3,2,   123.39,2,    33.10,2,     0.03,2,     2.33,2
 06AQANTVIII_2,  SR04,   175,  1,     13,     13,2,19891003,0242,-67.5833, -22.3833, 4852,   1998.6,  -0.1333,  34.6696,3,  34.6600,2,    225.1,2,   123.10,2,    32.90,2,     0.04,2,     2.31,2
 06AQANTVIII_2,  SR04,   175,  1,     12,     12,2,19891003,0242,-67.5833, -22.3833, 4852,   2502.7,  -0.2313,  34.6654,3,  34.6590,2,    232.4,2,   122.51,2,    32.60,2,     0.04,2,     2.31,2
 06AQANTVIII_2,  SR04,   175,  1,     11,     11,2,19891003,0242,-67.5833, -22.3833, 4852,   2997.0,  -0.2934,  34.6619,3,  34.6580,2,    235.8,2,   122.02,2,    32.40,2,     0.04,2,     2.30,2
 06AQANTVIII_2,  SR04,   175,  1,     10,     10,2,19891003,0242,-67.5833, -22.3833, 4852,   3503.5,  -0.3414,  34.6583,3,  34.6550,2,    240.0,2,   120.94,2,    32.30,2,     0.04,2,     2.30,2
 06AQANTVIII_2,  SR04,   175,  1,      9,      9,2,19891003,0242,-67.5833, -22.3833, 4852,   4005.4,  -0.3755,  34.6545,3,  34.6530,2,    243.5,2,   122.41,2,    32.30,2,     0.04,2,     2.28,2
 06AQANTVIII_2,  SR04,   175,  1,      5,      5,2,19891003,0242,-67.5833, -22.3833, 4852,   4504.8,  -0.4435,  34.6477,3,  34.6490,2,    245.4,2,   117.20,2,    32.30,2,     0.04,2,     2.30,2
 06AQANTVIII_2,  SR04,   175,  1,      6,      6,2,19891003,0242,-67.5833, -22.3833, 4852,   4505.0,  -0.4435,  34.6476,3,  34.6480,2,    250.2,2,   117.20,2,    32.20,2,     0.04,2,     2.29,2
 06AQANTVIII_2,  SR04,   175,  1,      7,      7,2,19891003,0242,-67.5833, -22.3833, 4852,   4505.2,  -0.4435,  34.6475,3,  34.6510,2,    248.4,2,   116.81,2,    32.20,2,     0.04,2,     2.30,2
 06AQANTVIII_2,  SR04,   175,  1,      8,      8,2,19891003,0242,-67.5833, -22.3833, 4852,   4505.6,  -0.4445,  34.6484,3,  34.6480,2,   -999.0,9,  -999.00,9,  -999.00,9,  -999.00,9,  -999.00,9
 06AQANTVIII_2,  SR04,   175,  1,      4,      4,2,19891003,0242,-67.5833, -22.3833, 4852,   4760.2,  -0.4806,  34.6498,3,  34.6490,2,    248.5,2,   121.33,2,    32.30,2,     0.04,2,     2.30,2
 06AQANTVIII_2,  SR04,   175,  1,      3,      3,2,19891003,0242,-67.5833, -22.3833, 4852,   4856.4,  -0.4986,  34.6459,3,  34.6450,2,    252.8,2,   122.71,2,    32.40,2,     0.04,2,     2.29,2
 06AQANTVIII_2,  SR04,   175,  1,      2,      2,2,19891003,0242,-67.5833, -22.3833, 4852,   4906.2,  -0.5256,  34.6417,3,  34.6410,2,    250.3,2,   122.61,2,    32.40,2,     0.04,2,     2.29,2
 06AQANTVIII_2,  SR04,   175,  1,      1,      1,2,19891003,0242,-67.5833, -22.3833, 4852,   4953.8,  -0.5466,  34.6397,3,  34.6400,2,    252.4,2,   119.46,2,    32.30,2,     0.04,2,     2.28,2
 06AQANTVIII_2,  SR04,   176,  1,     24,     24,2,19891003,1345,-67.7833, -21.3000, 4875,      8.7,  -1.8406,  34.4736,3,  34.4640,2,    301.2,2,    67.80,2,    29.30,2,     0.32,2,     2.06,2
 06AQANTVIII_2,  SR04,   176,  1,     23,     23,2,19891003,1345,-67.7833, -21.3000, 4875,      8.7,  -1.8396,  34.4738,3,-999.0000,9,   -999.0,9,  -999.00,9,  -999.00,9,  -999.00,9,  -999.00,9
 06AQANTVIII_2,  SR04,   176,  1,     22,     22,2,19891003,1345,-67.7833, -21.3000, 4875,     18.5,  -1.8396,  34.4730,3,-999.0000,9,   -999.0,9,  -999.00,9,  -999.00,9,  -999.00,9,  -999.00,9
 06AQANTVIII_2,  SR04,   176,  1,     21,     21,2,19891003,1345,-67.7833, -21.3000, 4875,     38.3,  -1.8376,  34.4717,3,-999.0000,9,   -999.0,9,  -999.00,9,  -999.00,9,  -999.00,9,  -999.00,9
 06AQANTVIII_2,  SR04,   176,  1,     20,     20,2,19891003,1345,-67.7833, -21.3000, 4875,     38.3,  -1.8396,  34.4726,3,  34.4650,2,    301.1,2,    67.99,2,    29.40,2,     0.32,2,     2.08,2
 06AQANTVIII_2,  SR04,   176,  1,     19,     19,2,19891003,1345,-67.7833, -21.3000, 4875,     58.2,  -1.8386,  34.4724,3,-999.0000,9,   -999.0,9,  -999.00,9,  -999.00,9,  -999.00,9,  -999.00,9
 06AQANTVIII_2,  SR04,   176,  1,     18,     18,2,19891003,1345,-67.7833, -21.3000, 4875,     77.8,  -1.8226,  34.4732,3,-999.0000,9,   -999.0,9,  -999.00,9,  -999.00,9,  -999.00,9,  -999.00,9
 06AQANTVIII_2,  SR04,   176,  1,     16,     16,2,19891003,1345,-67.7833, -21.3000, 4875,     98.0,  -1.7635,  34.4780,3,  34.4710,2,    299.7,2,    68.48,2,    29.40,2,     0.32,2,     2.06,2
 06AQANTVIII_2,  SR04,   176,  1,     17,     17,2,19891003,1345,-67.7833, -21.3000, 4875,     98.1,  -1.7725,  34.4800,3,-999.0000,9,   -999.0,9,  -999.00,9,  -999.00,9,  -999.00,9,  -999.00,9
 06AQANTVIII_2,  SR04,   176,  1,     15,     15,2,19891003,1345,-67.7833, -21.3000, 4875,    167.4,   0.4424,  34.6659,3,-999.0000,9,   -999.0,9,  -999.00,9,  -999.00,9,  -999.00,9,  -999.00,9
 06AQANTVIII_2,  SR04,   176,  1,     13,     13,2,19891003,1345,-67.7833, -21.3000, 4875,    236.2,   0.7072,  34.6954,3,-999.0000,9,   -999.0,9,  -999.00,9,  -999.00,9,  -999.00,9,  -999.00,9
 06AQANTVIII_2,  SR04,   176,  1,     14,     14,2,19891003,1345,-67.7833, -21.3000, 4875,    236.4,   0.7082,  34.6941,3,  34.6870,2,    194.1,2,   108.85,2,    33.30,2,     0.00,2,     2.33,2
 06AQANTVIII_2,  SR04,   176,  1,     11,     11,2,19891003,1345,-67.7833, -21.3000, 4875,    497.3,   0.4584,  34.6903,3,-999.0000,9,   -999.0,9,  -999.00,9,  -999.00,9,  -999.00,9,  -999.00,9
 06AQANTVIII_2,  SR04,   176,  1,     12,     12,2,19891003,1345,-67.7833, -21.3000, 4875,    497.4,   0.4584,  34.6916,3,  34.6870,2,    196.3,2,   117.10,2,    33.60,2,     0.02,2,     2.36,2
 06AQANTVIII_2,  SR04,   176,  1,      9,      9,2,19891003,1345,-67.7833, -21.3000, 4875,    994.1,   0.2184,  34.6822,3,-999.0000,9,   -999.0,9,  -999.00,9,  -999.00,9,  -999.00,9,  -999.00,9
 06AQANTVIII_2,  SR04,   176,  1,     10,     10,2,19891003,1345,-67.7833, -21.3000, 4875,    994.5,   0.2174,  34.6831,3,  34.6830,2,    203.5,2,   123.00,2,    33.60,2,     0.03,2,     2.37,2
 06AQANTVIII_2,  SR04,   176,  1,      7,      7,2,19891003,1345,-67.7833, -21.3000, 4875,   2000.0,  -0.1253,  34.6695,3,-999.0000,9,   -999.0,9,  -999.00,9,  -999.00,9,  -999.00,9,  -999.00,9
 06AQANTVIII_2,  SR04,   176,  1,      8,      8,2,19891003,1345,-67.7833, -21.3000, 4875,   2000.3,  -0.1253,  34.6707,3,  34.6760,2,    224.4,2,   123.10,2,    32.90,2,     0.00,2,     2.31,2
 06AQANTVIII_2,  SR04,   176,  1,      5,      5,2,19891003,1345,-67.7833, -21.3000, 4875,   3002.3,  -0.2934,  34.6614,3,-999.0000,9,   -999.0,9,  -999.00,9,  -999.00,9,  -999.00,9,  -999.00,9
 06AQANTVIII_2,  SR04,   176,  1,      6,      6,2,19891003,1345,-67.7833, -21.3000, 4875,   3002.8,  -0.2934,  34.6611,3,  34.6630,2,    235.7,2,   121.53,2,    32.60,2,     0.02,2,     2.30,2
 06AQANTVIII_2,  SR04,   176,  1,      4,      4,2,19891003,1345,-67.7833, -21.3000, 4875,   4005.7,  -0.3735,  34.6558,3,  34.6560,2,    242.9,2,   122.21,2,    32.50,2,     0.01,2,     2.29,2
 06AQANTVIII_2,  SR04,   176,  1,      3,      3,2,19891003,1345,-67.7833, -21.3000, 4875,   4505.2,  -0.4215,  34.6500,3,  34.6480,2,    246.6,2,   119.17,2,    32.40,2,     0.02,2,     2.29,2
 06AQANTVIII_2,  SR04,   176,  1,      2,      2,2,19891003,1345,-67.7833, -21.3000, 4875,   4754.9,  -0.4776,  34.6492,3,  34.6470,2,    249.4,2,   116.12,2,    32.30,2,     0.02,2,     2.28,2
 06AQANTVIII_2,  SR04,   176,  1,      1,      1,2,19891003,1345,-67.7833, -21.3000, 4875,   4979.3,  -0.5036,  34.6440,3,  34.6430,2,    250.1,2,   123.00,2,    32.80,2,     0.01,2,     2.29,2
 06AQANTVIII_2,  SR04,   177,  1,     24,     24,2,19891004,0046,-68.0500, -20.0167, 4855,      9.5,  -1.8386,  34.4625,3,  34.4660,2,    300.4,2,    68.19,2,    29.40,2,     0.35,2,     2.09,2
 06AQANTVIII_2,  SR04,   177,  1,     23,     23,2,19891004,0046,-68.0500, -20.0167, 4855,     48.4,  -1.8436,  34.4625,3,  34.4660,2,    298.6,2,    68.39,2,    29.30,2,     0.34,2,     2.09,2
 06AQANTVIII_2,  SR04,   177,  1,     22,     22,2,19891004,0046,-68.0500, -20.0167, 4855,     97.2,  -1.7745,  34.4693,3,  34.4760,2,    295.9,2,    69.47,2,    29.40,2,     0.33,2,     2.09,2
 06AQANTVIII_2,  SR04,   177,  1,     21,     21,2,19891004,0046,-68.0500, -20.0167, 4855,    147.0,   0.3664,  34.6487,3,  34.6510,2,    202.9,2,    98.54,2,    32.90,2,     0.04,2,     2.33,2
 06AQANTVIII_2,  SR04,   177,  1,     20,     20,2,19891004,0046,-68.0500, -20.0167, 4855,    230.6,   0.7292,  34.6850,3,  34.6880,2,    193.2,2,   107.38,2,    33.00,2,     0.04,2,     2.33,2
 06AQANTVIII_2,  SR04,   177,  1,     19,     19,2,19891004,0046,-68.0500, -20.0167, 4855,    296.7,   0.6862,  34.6883,3,  34.6890,2,    194.7,2,   110.72,2,    33.00,2,     0.04,2,     2.33,2
 06AQANTVIII_2,  SR04,   177,  1,     18,     18,2,19891004,0046,-68.0500, -20.0167, 4855,    496.5,   0.4744,  34.6892,3,  34.6840,2,    198.0,2,   116.81,2,    33.40,2,     0.04,2,     2.35,2
 06AQANTVIII_2,  SR04,   177,  1,     17,     17,2,19891004,0046,-68.0500, -20.0167, 4855,    744.8,   0.3254,  34.6847,3,  34.6810,2,    200.0,2,   121.13,2,    33.50,2,     0.04,2,     2.38,2
 06AQANTVIII_2,  SR04,   177,  1,     16,     16,2,19891004,0046,-68.0500, -20.0167, 4855,    994.9,   0.2274,  34.6814,3,  34.6770,2,    204.5,2,   122.80,2,    33.40,2,     0.04,2,     2.37,2
 06AQANTVIII_2,  SR04,   177,  1,     15,     15,2,19891004,0046,-68.0500, -20.0167, 4855,   1243.7,   0.1285,  34.6781,3,  34.6540,4,    210.4,2,   123.19,2,    33.20,2,     0.04,2,     2.36,2
 06AQANTVIII_2,  SR04,   177,  1,     14,     14,2,19891004,0046,-68.0500, -20.0167, 4855,   1495.5,   0.0415,  34.6749,3,  34.6700,2,    215.8,2,   123.19,2,    33.10,2,     0.04,2,     2.34,2
 06AQANTVIII_2,  SR04,   177,  1,     13,     13,2,19891004,0046,-68.0500, -20.0167, 4855,   1997.4,  -0.1153,  34.6674,3,  34.6640,2,    224.4,2,   123.20,2,    32.80,2,     0.04,2,     2.33,2
 06AQANTVIII_2,  SR04,   177,  1,     12,     12,2,19891004,0046,-68.0500, -20.0167, 4855,   2500.4,  -0.2183,  34.6625,3,  34.6590,2,    231.0,2,   122.70,2,    32.70,2,     0.03,2,     2.31,2
 06AQANTVIII_2,  SR04,   177,  1,     11,     11,2,19891004,0046,-68.0500, -20.0167, 4855,   3001.0,  -0.2844,  34.6591,3,  34.6570,2,    235.6,2,   121.82,2,    32.50,2,     0.03,2,     2.30,2
 06AQANTVIII_2,  SR04,   177,  1,     10,     10,2,19891004,0046,-68.0500, -20.0167, 4855,   3503.6,  -0.3314,  34.6556,3,  34.6540,2,    239.2,2,   121.33,2,    32.40,2,     0.03,2,     2.29,2
 06AQANTVIII_2,  SR04,   177,  1,      9,      9,2,19891004,0046,-68.0500, -20.0167, 4855,   4002.8,  -0.3624,  34.6542,3,  34.6520,2,    242.7,2,   122.41,2,    32.40,2,     0.03,2,     2.30,2
 06AQANTVIII_2,  SR04,   177,  1,      8,      8,2,19891004,0046,-68.0500, -20.0167, 4855,   4255.1,  -0.3715,  34.6532,3,  34.6520,2,   -999.0,9,  -999.00,9,  -999.00,9,  -999.00,9,  -999.00,9
 06AQANTVIII_2,  SR04,   177,  1,      5,      5,2,19891004,0046,-68.0500, -20.0167, 4855,   4504.6,  -0.3985,  34.6524,3,  34.6520,2,    249.1,2,   121.82,2,    32.30,2,     0.03,2,     2.29,2
 06AQANTVIII_2,  SR04,   177,  1,      6,      6,2,19891004,0046,-68.0500, -20.0167, 4855,   4504.7,  -0.3975,  34.6513,3,  34.6510,2,    245.7,2,   121.92,2,    32.30,2,     0.03,2,     2.28,2
 06AQANTVIII_2,  SR04,   177,  1,      7,      7,2,19891004,0046,-68.0500, -20.0167, 4855,   4504.9,  -0.3985,  34.6523,3,  34.6510,2,    245.4,2,   121.92,2,    32.30,2,     0.03,2,     2.28,2
 06AQANTVIII_2,  SR04,   177,  1,      4,      4,2,19891004,0046,-68.0500, -20.0167, 4855,   4756.3,  -0.4565,  34.6498,3,  34.6500,2,    248.5,2,   119.76,2,    32.30,2,     0.02,2,     2.27,2
 06AQANTVIII_2,  SR04,   177,  1,      3,      3,2,19891004,0046,-68.0500, -20.0167, 4855,   4855.2,  -0.4706,  34.6496,3,  34.6480,2,    248.7,2,   121.92,2,    32.30,2,     0.04,2,     2.28,2
 06AQANTVIII_2,  SR04,   177,  1,      2,      2,2,19891004,0046,-68.0500, -20.0167, 4855,   4905.2,  -0.4816,  34.6486,3,  34.6460,2,    248.6,2,   122.02,2,    32.30,2,     0.04,2,     2.28,2
 06AQANTVIII_2,  SR04,   177,  1,      1,      1,2,19891004,0046,-68.0500, -20.0167, 4855,   4956.5,  -0.5156,  34.6426,3,  34.6420,2,    249.7,2,   124.18,2,    32.40,2,     0.03,2,     2.29,2
 06AQANTVIII_2,  SR04,   178,  1,     23,     23,2,19891004,1025,-68.3667, -18.7333, 4756,     16.8,  -1.8175,  34.4567,3,-999.0000,9,   -999.0,9,  -999.00,9,  -999.00,9,  -999.00,9,  -999.00,9
 06AQANTVIII_2,  SR04,   178,  1,     22,     22,2,19891004,1025,-68.3667, -18.7333, 4756,     16.8,  -1.8195,  34.4604,3,-999.0000,9,   -999.0,9,  -999.00,9,  -999.00,9,  -999.00,9,  -999.00,9
 06AQANTVIII_2,  SR04,   178,  1,     24,     24,2,19891004,1025,-68.3667, -18.7333, 4756,     16.9,  -1.8155,  34.4571,3,  34.4540,2,    296.5,2,    68.58,2,    29.70,2,     0.30,2,     2.09,2
 06AQANTVIII_2,  SR04,   178,  1,     21,     21,2,19891004,1025,-68.3667, -18.7333, 4756,     40.4,  -1.8005,  34.4647,3,-999.0000,9,   -999.0,9,  -999.00,9,  -999.00,9,  -999.00,9,  -999.00,9
 06AQANTVIII_2,  SR04,   178,  1,     20,     20,2,19891004,1025,-68.3667, -18.7333, 4756,     58.8,  -1.7775,  34.4720,3,  34.4680,2,    298.0,2,    68.09,2,    29.70,2,     0.31,2,     2.07,2
 06AQANTVIII_2,  SR04,   178,  1,     19,     19,2,19891004,1025,-68.3667, -18.7333, 4756,     58.8,  -1.7805,  34.4755,3,-999.0000,9,   -999.0,9,  -999.00,9,  -999.00,9,  -999.00,9,  -999.00,9
 06AQANTVIII_2,  SR04,   178,  1,     18,     18,2,19891004,1025,-68.3667, -18.7333, 4756,     78.0,  -1.6884,  34.5009,3,-999.0000,9,   -999.0,9,  -999.00,9,  -999.00,9,  -999.00,9,  -999.00,9
 06AQANTVIII_2,  SR04,   178,  1,     17,     17,2,19891004,1025,-68.3667, -18.7333, 4756,     99.4,  -1.4772,  34.4990,3,-999.0000,9,   -999.0,9,  -999.00,9,  -999.00,9,  -999.00,9,  -999.00,9
 06AQANTVIII_2,  SR04,   178,  1,     16,     16,2,19891004,1025,-68.3667, -18.7333, 4756,    147.8,   0.3384,  34.6458,3,-999.0000,9,   -999.0,9,  -999.00,9,  -999.00,9,  -999.00,9,  -999.00,9
 06AQANTVIII_2,  SR04,   178,  1,     14,     14,2,19891004,1025,-68.3667, -18.7333, 4756,    218.1,   0.7962,  34.6915,3,  34.6880,2,    194.0,2,   105.51,2,    33.00,2,     0.04,2,     2.31,2
 06AQANTVIII_2,  SR04,   178,  1,     15,     15,2,19891004,1025,-68.3667, -18.7333, 4756,    218.3,   0.7952,  34.6899,3,-999.0000,9,   -999.0,9,  -999.00,9,  -999.00,9,  -999.00,9,  -999.00,9
 06AQANTVIII_2,  SR04,   178,  1,     13,     13,2,19891004,1025,-68.3667, -18.7333, 4756,    277.1,   0.7852,  34.6954,3,  34.6930,2,    197.3,2,   108.16,2,    33.00,2,     0.04,2,     2.31,2
 06AQANTVIII_2,  SR04,   178,  1,     11,     11,2,19891004,1025,-68.3667, -18.7333, 4756,    497.2,   0.5304,  34.6900,3,-999.0000,9,   -999.0,9,  -999.00,9,  -999.00,9,  -999.00,9,  -999.00,9
 06AQANTVIII_2,  SR04,   178,  1,     12,     12,2,19891004,1025,-68.3667, -18.7333, 4756,    497.8,   0.5304,  34.6896,3,  34.6860,2,    198.6,2,   115.33,2,    33.30,2,     0.03,2,     2.33,2
 06AQANTVIII_2,  SR04,   178,  1,     10,     10,2,19891004,1025,-68.3667, -18.7333, 4756,    994.8,   0.2564,  34.6805,3,  34.6780,2,    203.9,2,   122.31,2,    33.50,2,     0.04,2,     2.34,2
 06AQANTVIII_2,  SR04,   178,  1,      9,      9,2,19891004,1025,-68.3667, -18.7333, 4756,   1028.3,   0.2454,  34.6787,3,-999.0000,9,   -999.0,9,  -999.00,9,  -999.00,9,  -999.00,9,  -999.00,9
 06AQANTVIII_2,  SR04,   178,  1,      8,      8,2,19891004,1025,-68.3667, -18.7333, 4756,   2001.9,  -0.0883,  34.6643,3,  34.6630,2,    224.5,2,   123.39,2,    32.90,2,     0.04,2,     2.32,2
 06AQANTVIII_2,  SR04,   178,  1,      7,      7,2,19891004,1025,-68.3667, -18.7333, 4756,   2001.9,  -0.0873,  34.6632,3,-999.0000,9,   -999.0,9,  -999.00,9,  -999.00,9,  -999.00,9,  -999.00,9
 06AQANTVIII_2,  SR04,   178,  1,      5,      5,2,19891004,1025,-68.3667, -18.7333, 4756,   3000.6,  -0.2744,  34.6574,3,-999.0000,9,   -999.0,9,  -999.00,9,  -999.00,9,  -999.00,9,  -999.00,9
 06AQANTVIII_2,  SR04,   178,  1,      6,      6,2,19891004,1025,-68.3667, -18.7333, 4756,   3001.1,  -0.2744,  34.6571,3,  34.6570,2,    235.3,2,   121.92,2,    32.60,2,     0.03,2,     2.28,2
 06AQANTVIII_2,  SR04,   178,  1,      4,      4,2,19891004,1025,-68.3667, -18.7333, 4756,   3507.3,  -0.3294,  34.6535,3,  34.6560,2,    239.2,2,   121.23,2,    32.50,2,     0.03,2,     2.28,2
 06AQANTVIII_2,  SR04,   178,  1,      3,      3,2,19891004,1025,-68.3667, -18.7333, 4756,   4004.4,  -0.3584,  34.6520,3,  34.6520,2,    243.7,2,   122.71,2,    32.50,2,     0.04,2,     2.28,2
 06AQANTVIII_2,  SR04,   178,  1,      2,      2,2,19891004,1025,-68.3667, -18.7333, 4756,   4505.4,  -0.3935,  34.6492,3,  34.6510,2,    245.5,2,   122.61,2,    32.40,2,     0.04,2,     2.28,2
 06AQANTVIII_2,  SR04,   178,  1,      1,      1,2,19891004,1025,-68.3667, -18.7333, 4756,   4858.1,  -0.5066,  34.6405,3,  34.6420,2,    249.2,2,   127.13,2,    32.50,2,     0.02,2,     2.29,2