BOTTLE,20221004CCHSIOAMB
EXPOCODE,SECT_ID,STNNBR,CASTNO,SAMPNO,BTLNBR,BTLNBR_FLAG_W,DATE,TIME,LATITUDE,LONGITUDE,DEPTH,CTDPRS,CTDTMP,CTDSAL,CTDSAL_FLAG_W,SALNTY,SALNTY_FLAG_W,OXYGEN,OXYGEN_FLAG_W,SILCAT,SILCAT_FLAG_W,NITRAT,NITRAT_FLAG_W,NITRIT,NITRIT_FLAG_W,PHSPHT,PHSPHT_FLAG_W
,,,,,,,,,,,,DBAR,ITS-90,PSS-78,,PSS-78,,UMOL/KG,,UMOL/KG,,UMOL/KG,,UMOL/KG,,UMOL/KG,
 06AQANTVIII_2,  SR04,   183,  1,     24,     24,2,19891006,1240,-70.3500, -13.4000, 2895,      9.8,  -1.7995,  34.4889,3,-999.0000,9,   -999.0,9,  -999.00,9,  -999.00,9,  -999.00,9,  -999.00,9
 06AQANTVIII_2,  SR04,   183,  1,     23,     23,2,19891006,1240,-70.3500, -13.4000, 2895,     20.0,  -1.7955,  34.4887,3,-999.0000,9,   -999.0,9,  -999.00,9,  -999.00,9,  -999.00,9,  -999.00,9
 06AQANTVIII_2,  SR04,   183,  1,     22,     22,2,19891006,1240,-70.3500, -13.4000, 2895,     20.0,  -1.7945,  34.4890,3,  34.4850,2,    284.6,2,    80.57,2,    31.50,2,     0.04,2,     2.24,2
 06AQANTVIII_2,  SR04,   183,  1,     21,     21,2,19891006,1240,-70.3500, -13.4000, 2895,     39.1,  -1.7735,  34.4925,3,-999.0000,9,   -999.0,9,  -999.00,9,  -999.00,9,  -999.00,9,  -999.00,9
 06AQANTVIII_2,  SR04,   183,  1,     19,     19,2,19891006,1240,-70.3500, -13.4000, 2895,     59.0,  -1.7865,  34.4904,3,-999.0000,9,   -999.0,9,  -999.00,9,  -999.00,9,  -999.00,9,  -999.00,9
 06AQANTVIII_2,  SR04,   183,  1,     20,     20,2,19891006,1240,-70.3500, -13.4000, 2895,     59.1,  -1.7885,  34.4871,3,  34.4860,2,    286.0,2,    80.77,2,    31.50,2,     0.05,2,     2.22,2
 06AQANTVIII_2,  SR04,   183,  1,     18,     18,2,19891006,1240,-70.3500, -13.4000, 2895,     78.5,  -1.7645,  34.4940,3,-999.0000,9,   -999.0,9,  -999.00,9,  -999.00,9,  -999.00,9,  -999.00,9
 06AQANTVIII_2,  SR04,   183,  1,     17,     17,2,19891006,1240,-70.3500, -13.4000, 2895,     98.9,  -1.6134,  34.5100,3,-999.0000,9,   -999.0,9,  -999.00,9,  -999.00,9,  -999.00,9,  -999.00,9
 06AQANTVIII_2,  SR04,   183,  1,     15,     15,2,19891006,1240,-70.3500, -13.4000, 2895,    173.8,   0.0725,  34.6184,3,-999.0000,9,   -999.0,9,  -999.00,9,  -999.00,9,  -999.00,9,  -999.00,9
 06AQANTVIII_2,  SR04,   183,  1,     16,     16,2,19891006,1240,-70.3500, -13.4000, 2895,    174.5,   0.0795,  34.6113,3,  34.6180,2,    226.3,2,    91.17,2,    32.30,2,     0.00,2,     2.29,2
 06AQANTVIII_2,  SR04,   183,  1,     13,     13,2,19891006,1240,-70.3500, -13.4000, 2895,    297.7,   0.7792,  34.6836,3,-999.0000,9,   -999.0,9,  -999.00,9,  -999.00,9,  -999.00,9,  -999.00,9
 06AQANTVIII_2,  SR04,   183,  1,     14,     14,2,19891006,1240,-70.3500, -13.4000, 2895,    298.9,   0.7792,  34.6842,3,  34.6800,2,    206.3,2,    98.73,2,    32.30,2,     0.01,2,     2.30,2
 06AQANTVIII_2,  SR04,   183,  1,     11,     11,2,19891006,1240,-70.3500, -13.4000, 2895,    512.7,   0.6243,  34.6886,3,-999.0000,9,   -999.0,9,  -999.00,9,  -999.00,9,  -999.00,9,  -999.00,9
 06AQANTVIII_2,  SR04,   183,  1,     12,     12,2,19891006,1240,-70.3500, -13.4000, 2895,    513.2,   0.6252,  34.6885,3,  34.6860,2,    208.1,2,   105.41,2,    32.40,2,     0.00,2,     2.29,2
 06AQANTVIII_2,  SR04,   183,  1,      9,      9,2,19891006,1240,-70.3500, -13.4000, 2895,    996.2,   0.3044,  34.6792,3,-999.0000,9,   -999.0,9,  -999.00,9,  -999.00,9,  -999.00,9,  -999.00,9
 06AQANTVIII_2,  SR04,   183,  1,     10,     10,2,19891006,1240,-70.3500, -13.4000, 2895,    997.9,   0.3044,  34.6782,3,  34.6530,4,    212.9,2,   114.75,2,    32.80,2,     0.00,2,     2.33,2
 06AQANTVIII_2,  SR04,   183,  1,      8,      8,2,19891006,1240,-70.3500, -13.4000, 2895,   1506.0,   0.0825,  34.6710,3,  34.6690,2,    220.4,2,   118.77,2,    32.90,2,     0.00,2,     2.33,2
 06AQANTVIII_2,  SR04,   183,  1,      6,      6,2,19891006,1240,-70.3500, -13.4000, 2895,   1998.4,  -0.0573,  34.6683,3,  34.6640,2,    226.3,2,   119.76,2,    32.70,2,     0.00,2,     2.32,2
 06AQANTVIII_2,  SR04,   183,  1,      7,      7,2,19891006,1240,-70.3500, -13.4000, 2895,   1999.6,  -0.0573,  34.6690,3,-999.0000,9,   -999.0,9,  -999.00,9,  -999.00,9,  -999.00,9,  -999.00,9
 06AQANTVIII_2,  SR04,   183,  1,      5,      5,2,19891006,1240,-70.3500, -13.4000, 2895,   2500.1,  -0.1533,  34.6655,3,-999.0000,9,   -999.0,9,  -999.00,9,  -999.00,9,  -999.00,9,  -999.00,9
 06AQANTVIII_2,  SR04,   183,  1,      4,      4,2,19891006,1240,-70.3500, -13.4000, 2895,   2878.9,  -0.1533,  34.6639,3,  34.6630,2,    232.3,2,   120.54,2,    32.60,2,     0.00,2,     2.32,2
 06AQANTVIII_2,  SR04,   183,  1,      3,      3,2,19891006,1240,-70.3500, -13.4000, 2895,   2880.9,  -0.1533,  34.6642,3,-999.0000,9,   -999.0,9,  -999.00,9,  -999.00,9,  -999.00,9,  -999.00,9
 06AQANTVIII_2,  SR04,   183,  1,      2,      2,2,19891006,1240,-70.3500, -13.4000, 2895,   2881.2,  -0.1543,  34.6652,3,  34.6600,2,    232.8,2,   120.64,2,    32.60,2,     0.00,2,     2.31,2
 06AQANTVIII_2,  SR04,   183,  1,      1,      1,2,19891006,1240,-70.3500, -13.4000, 2895,   2930.3,  -0.1543,  34.6640,3,  34.6620,2,    232.8,2,   120.74,2,    32.60,2,     0.00,2,     2.30,2
 06AQANTVIII_2,  SR04,   184,  1,     24,     24,2,19891006,2026,-70.4333, -13.0000, 2398,      7.5,  -1.8155,  34.4779,3,  34.4700,2,    290.1,2,    72.32,2,    32.10,2,     0.05,2,     2.15,2
 06AQANTVIII_2,  SR04,   184,  1,     21,     21,2,19891006,2026,-70.4333, -13.0000, 2398,     18.6,  -1.7985,  34.4774,3,  34.4750,2,    290.3,2,    72.12,2,    32.10,2,     0.04,2,     2.15,2
 06AQANTVIII_2,  SR04,   184,  1,     23,     23,2,19891006,2026,-70.4333, -13.0000, 2398,     18.7,  -1.8065,  34.4782,3,  34.4710,2,    290.7,2,    72.32,2,    32.10,2,     0.06,2,     2.14,2
 06AQANTVIII_2,  SR04,   184,  1,     22,     22,2,19891006,2026,-70.4333, -13.0000, 2398,     18.7,  -1.8035,  34.4775,3,  34.4710,2,    290.1,2,    72.12,2,    32.20,2,     0.05,2,     2.15,2
 06AQANTVIII_2,  SR04,   184,  1,     20,     20,2,19891006,2026,-70.4333, -13.0000, 2398,     37.3,  -1.8065,  34.4771,3,  34.4730,2,    289.9,2,    72.12,2,    32.10,2,     0.06,2,     2.15,2
 06AQANTVIII_2,  SR04,   184,  1,     19,     19,2,19891006,2026,-70.4333, -13.0000, 2398,     77.4,  -1.7945,  34.4773,3,  34.4760,2,    288.5,2,    72.51,2,    32.10,2,     0.04,2,     2.15,2
 06AQANTVIII_2,  SR04,   184,  1,     18,     18,2,19891006,2026,-70.4333, -13.0000, 2398,     96.0,  -1.6424,  34.4836,3,  34.4810,2,    285.2,2,    73.30,2,    32.20,2,     0.04,2,     2.16,2
 06AQANTVIII_2,  SR04,   184,  1,     17,     17,2,19891006,2026,-70.4333, -13.0000, 2398,    146.4,   0.1605,  34.6119,3,  34.6070,2,    228.6,2,    86.65,2,    33.20,2,     0.02,2,     2.23,2
 06AQANTVIII_2,  SR04,   184,  1,     16,     16,2,19891006,2026,-70.4333, -13.0000, 2398,    177.3,   0.4044,  34.6328,3,  34.6310,2,    219.6,2,    89.01,2,    33.20,2,     0.03,2,     2.24,2
 06AQANTVIII_2,  SR04,   184,  1,     15,     15,2,19891006,2026,-70.4333, -13.0000, 2398,    247.0,   0.6572,  34.6650,3,  34.6590,2,    210.9,2,    93.82,2,    33.30,2,     0.04,2,     2.25,2
 06AQANTVIII_2,  SR04,   184,  1,     14,     14,2,19891006,2026,-70.4333, -13.0000, 2398,    312.6,   0.7702,  34.6813,3,  34.6800,2,    206.7,2,    96.96,2,    33.20,2,     0.03,2,     2.24,2
 06AQANTVIII_2,  SR04,   184,  1,     13,     13,2,19891006,2026,-70.4333, -13.0000, 2398,    396.0,   0.7812,  34.6894,3,  34.6860,2,    206.0,2,    99.81,2,    33.20,2,     0.02,2,     2.25,2
 06AQANTVIII_2,  SR04,   184,  1,     12,     12,2,19891006,2026,-70.4333, -13.0000, 2398,    512.6,   0.6882,  34.6905,3,  34.6880,2,    207.7,2,   103.25,2,    33.30,2,     0.03,2,     2.27,2
 06AQANTVIII_2,  SR04,   184,  1,     11,     11,2,19891006,2026,-70.4333, -13.0000, 2398,    597.0,   0.6073,  34.6885,3,  34.6850,2,    210.7,2,   105.90,2,    33.40,2,     0.03,2,     2.27,2
 06AQANTVIII_2,  SR04,   184,  1,     10,     10,2,19891006,2026,-70.4333, -13.0000, 2398,    746.2,   0.4474,  34.6824,3,  34.6800,2,    211.4,2,   109.05,2,    33.40,2,     0.03,2,     2.29,2
 06AQANTVIII_2,  SR04,   184,  1,      9,      9,2,19891006,2026,-70.4333, -13.0000, 2398,    995.9,   0.3114,  34.6785,3,  34.6750,2,    213.8,2,   112.88,2,    33.60,2,     0.01,2,     2.30,2
 06AQANTVIII_2,  SR04,   184,  1,      8,      8,2,19891006,2026,-70.4333, -13.0000, 2398,   1260.2,   0.1805,  34.6731,3,  34.6700,2,    217.9,2,   115.34,2,    33.70,2,     0.02,2,     2.31,2
 06AQANTVIII_2,  SR04,   184,  1,      7,      7,2,19891006,2026,-70.4333, -13.0000, 2398,   1497.8,   0.0995,  34.6707,3,  34.6700,2,    220.2,2,   117.10,2,    33.60,2,     0.03,2,     2.31,2
 06AQANTVIII_2,  SR04,   184,  1,      6,      6,2,19891006,2026,-70.4333, -13.0000, 2398,   1748.0,   0.0285,  34.6687,3,  34.6660,2,    222.5,2,   118.68,2,    33.50,2,     0.02,2,     2.31,2
 06AQANTVIII_2,  SR04,   184,  1,      5,      5,2,19891006,2026,-70.4333, -13.0000, 2398,   1998.6,  -0.0262,  34.6669,3,  34.6630,2,    224.6,2,   119.76,2,    33.40,2,     0.03,2,     2.31,2
 06AQANTVIII_2,  SR04,   184,  1,      4,      4,2,19891006,2026,-70.4333, -13.0000, 2398,   2239.9,  -0.0633,  34.6639,3,  34.6630,2,    226.6,2,   120.05,2,    33.30,2,     0.01,2,     2.32,2
 06AQANTVIII_2,  SR04,   184,  1,      3,      3,2,19891006,2026,-70.4333, -13.0000, 2398,   2311.9,  -0.0673,  34.6624,3,  34.6620,2,    227.1,2,   120.45,2,    33.40,2,     0.01,2,     2.31,2
 06AQANTVIII_2,  SR04,   184,  1,      2,      2,2,19891006,2026,-70.4333, -13.0000, 2398,   2362.3,  -0.0703,  34.6635,3,  34.6620,2,    227.1,2,   120.25,2,    33.10,2,     0.00,2,     2.31,2
 06AQANTVIII_2,  SR04,   184,  1,      1,      1,2,19891006,2026,-70.4333, -13.0000, 2398,   2414.0,  -0.0693,  34.6609,3,  34.6620,2,    227.5,2,   120.54,2,    33.00,2,     0.01,2,     2.30,2
 06AQANTVIII_2,  SR04,   185,  1,     24,     24,2,19891007,0315,-70.6333, -12.5000, 2109,     10.0,  -1.8115,  34.4570,3,  34.4550,2,    295.5,2,    68.29,2,    31.30,2,     0.03,2,     2.11,2
 06AQANTVIII_2,  SR04,   185,  1,     23,     23,2,19891007,0315,-70.6333, -12.5000, 2109,     19.5,  -1.8105,  34.4582,3,  34.4570,2,    294.7,2,    68.09,2,    31.20,2,     0.05,2,     2.11,2
 06AQANTVIII_2,  SR04,   185,  1,     22,     22,2,19891007,0315,-70.6333, -12.5000, 2109,     39.9,  -1.8065,  34.4586,3,  34.4570,2,    293.4,2,    68.09,2,    31.40,2,     0.03,2,     2.12,2
 06AQANTVIII_2,  SR04,   185,  1,     21,     21,2,19891007,0315,-70.6333, -12.5000, 2109,     59.8,  -1.8005,  34.4569,3,  34.4580,2,    293.5,2,    67.90,2,    31.40,2,     0.03,2,     2.12,2
 06AQANTVIII_2,  SR04,   185,  1,     20,     20,2,19891007,0315,-70.6333, -12.5000, 2109,     79.4,  -1.7905,  34.4579,3,  34.4570,2,    293.6,2,    67.90,2,    30.90,2,     0.05,2,     2.12,2
 06AQANTVIII_2,  SR04,   185,  1,     19,     19,2,19891007,0315,-70.6333, -12.5000, 2109,     99.5,  -1.7945,  34.4580,3,  34.4570,2,    294.3,2,    67.99,2,    30.80,2,     0.04,2,     2.11,2
 06AQANTVIII_2,  SR04,   185,  1,     17,     17,2,19891007,0315,-70.6333, -12.5000, 2109,    141.8,  -1.7845,  34.4583,3,  34.4800,4,    287.4,2,    70.35,2,    31.40,2,     0.02,2,     2.13,2
 06AQANTVIII_2,  SR04,   185,  1,     18,     18,2,19891007,0315,-70.6333, -12.5000, 2109,    142.0,  -1.7865,  34.4591,3,  34.4580,2,    293.4,2,    68.19,2,    30.70,2,     0.03,2,     2.13,2
 06AQANTVIII_2,  SR04,   185,  1,     16,     16,2,19891007,0315,-70.6333, -12.5000, 2109,    217.8,  -1.1600,  34.5098,3,  34.5110,2,    275.7,2,    74.28,2,    31.70,2,     0.01,2,     2.16,2
 06AQANTVIII_2,  SR04,   185,  1,     15,     15,2,19891007,0315,-70.6333, -12.5000, 2109,    278.6,  -0.8818,  34.5305,3,  34.5350,2,    263.7,2,    77.13,2,    32.20,2,     0.01,2,     2.17,2
 06AQANTVIII_2,  SR04,   185,  1,     14,     14,2,19891007,0315,-70.6333, -12.5000, 2109,    338.3,   0.3194,  34.6278,3,  34.6340,2,    219.9,2,    89.01,2,    32.50,2,     0.01,2,     2.22,2
 06AQANTVIII_2,  SR04,   185,  1,     13,     13,2,19891007,0315,-70.6333, -12.5000, 2109,    427.3,   0.8092,  34.6798,3,  34.6800,2,    206.1,2,    95.00,2,    32.60,2,     0.02,2,     2.23,2
 06AQANTVIII_2,  SR04,   185,  1,     12,     12,2,19891007,0315,-70.6333, -12.5000, 2109,    466.9,   0.7892,  34.6826,3,  34.6900,2,    208.1,2,    96.57,2,    32.60,2,     0.01,2,     2.24,2
 06AQANTVIII_2,  SR04,   185,  1,     11,     11,2,19891007,0315,-70.6333, -12.5000, 2109,    499.7,   0.7512,  34.6837,3,  34.6820,2,    207.2,2,    97.65,2,    32.70,2,     0.01,2,     2.24,2
 06AQANTVIII_2,  SR04,   185,  1,     10,     10,2,19891007,0315,-70.6333, -12.5000, 2109,    599.8,   0.6712,  34.6856,3,  34.6830,2,    208.4,2,   100.40,2,    32.70,2,     0.01,2,     2.24,2
 06AQANTVIII_2,  SR04,   185,  1,      9,      9,2,19891007,0315,-70.6333, -12.5000, 2109,    749.4,   0.5713,  34.6838,3,  34.6830,2,    210.5,2,   103.25,2,    32.70,2,     0.02,2,     2.25,2
 06AQANTVIII_2,  SR04,   185,  1,      8,      8,2,19891007,0315,-70.6333, -12.5000, 2109,   1011.4,   0.3744,  34.6781,3,  34.6770,2,    214.4,2,   108.16,2,    33.10,2,     0.00,2,     2.28,2
 06AQANTVIII_2,  SR04,   185,  1,      7,      7,2,19891007,0315,-70.6333, -12.5000, 2109,   1249.0,   0.2714,  34.6749,3,  34.6740,2,    215.3,2,   111.21,2,    33.10,2,     0.01,2,     2.28,2
 06AQANTVIII_2,  SR04,   185,  1,      6,      6,2,19891007,0315,-70.6333, -12.5000, 2109,   1498.0,   0.1615,  34.6727,3,  34.6710,2,    217.3,2,   114.45,2,    33.00,2,     0.02,2,     2.29,2
 06AQANTVIII_2,  SR04,   185,  1,      5,      5,2,19891007,0315,-70.6333, -12.5000, 2109,   1748.9,   0.0955,  34.6705,3,  34.6750,2,    219.4,2,   116.42,2,    32.90,2,     0.02,2,     2.30,2
 06AQANTVIII_2,  SR04,   185,  1,      4,      4,2,19891007,0315,-70.6333, -12.5000, 2109,   1988.1,   0.0635,  34.6696,3,  34.6680,2,    220.9,2,   117.20,2,    33.10,2,     0.01,2,     2.29,2
 06AQANTVIII_2,  SR04,   185,  1,      3,      3,2,19891007,0315,-70.6333, -12.5000, 2109,   2023.3,   0.0555,  34.6699,3,  34.6680,2,    221.1,2,   117.40,2,    33.10,2,     0.01,2,     2.28,2
 06AQANTVIII_2,  SR04,   185,  1,      2,      2,2,19891007,0315,-70.6333, -12.5000, 2109,   2078.2,   0.0515,  34.6680,3,  34.6660,2,    221.2,2,   117.69,2,    33.10,2,     0.02,2,     2.29,2
 06AQANTVIII_2,  SR04,   185,  1,      1,      1,2,19891007,0315,-70.6333, -12.5000, 2109,   2118.1,   0.0405,  34.6664,3,  34.6670,2,    221.8,2,   118.38,2,    33.10,2,     0.01,2,     2.29,2
 06AQANTVIII_2,  SR04,   186,  1,     22,     22,2,19891007,0928,-70.7833, -12.2000, 1780,     17.7,  -1.8035,  34.4109,3,  34.4080,2,    313.5,2,    61.12,2,    30.30,2,     0.00,2,     2.09,2
 06AQANTVIII_2,  SR04,   186,  1,     21,     21,2,19891007,0928,-70.7833, -12.2000, 1780,     37.0,  -1.8085,  34.4114,3,-999.0000,9,   -999.0,9,  -999.00,9,  -999.00,9,  -999.00,9,  -999.00,9
 06AQANTVIII_2,  SR04,   186,  1,     19,     19,2,19891007,0928,-70.7833, -12.2000, 1780,     57.7,  -1.8065,  34.4112,3,-999.0000,9,   -999.0,9,  -999.00,9,  -999.00,9,  -999.00,9,  -999.00,9
 06AQANTVIII_2,  SR04,   186,  1,     20,     20,2,19891007,0928,-70.7833, -12.2000, 1780,     57.9,  -1.8045,  34.4116,3,  34.4130,2,    314.1,2,    61.12,2,    30.30,2,     0.01,2,     2.09,2
 06AQANTVIII_2,  SR04,   186,  1,     18,     18,2,19891007,0928,-70.7833, -12.2000, 1780,     76.2,  -1.8125,  34.4106,3,-999.0000,9,   -999.0,9,  -999.00,9,  -999.00,9,  -999.00,9,  -999.00,9
 06AQANTVIII_2,  SR04,   186,  1,     17,     17,2,19891007,0928,-70.7833, -12.2000, 1780,     94.7,  -1.8075,  34.4140,3,-999.0000,9,   -999.0,9,  -999.00,9,  -999.00,9,  -999.00,9,  -999.00,9
 06AQANTVIII_2,  SR04,   186,  1,     15,     15,2,19891007,0928,-70.7833, -12.2000, 1780,    137.2,  -1.8175,  34.4139,3,-999.0000,9,   -999.0,9,  -999.00,9,  -999.00,9,  -999.00,9,  -999.00,9
 06AQANTVIII_2,  SR04,   186,  1,     16,     16,2,19891007,0928,-70.7833, -12.2000, 1780,    137.9,  -1.8115,  34.4121,3,  34.4140,2,    315.2,2,    60.63,2,    30.30,2,     0.01,2,     2.08,2
 06AQANTVIII_2,  SR04,   186,  1,     13,     13,2,19891007,0928,-70.7833, -12.2000, 1780,    224.5,  -0.7337,  34.4967,3,-999.0000,9,   -999.0,9,  -999.00,9,  -999.00,9,  -999.00,9,  -999.00,9
 06AQANTVIII_2,  SR04,   186,  1,     14,     14,2,19891007,0928,-70.7833, -12.2000, 1780,    225.5,  -0.7047,  34.5036,3,  34.5060,2,    264.4,2,    75.16,2,    31.40,2,     0.02,2,     2.18,2
 06AQANTVIII_2,  SR04,   186,  1,     11,     11,2,19891007,0928,-70.7833, -12.2000, 1780,    323.4,  -0.0533,  34.5807,3,-999.0000,9,   -999.0,9,  -999.00,9,  -999.00,9,  -999.00,9,  -999.00,9
 06AQANTVIII_2,  SR04,   186,  1,     12,     12,2,19891007,0928,-70.7833, -12.2000, 1780,    323.9,  -0.0533,  34.5804,3,  34.5750,2,    239.1,2,    83.41,2,    32.00,2,     0.01,2,     2.23,2
 06AQANTVIII_2,  SR04,   186,  1,     10,     10,2,19891007,0928,-70.7833, -12.2000, 1780,    446.7,   0.6103,  34.6528,3,  34.6500,2,    213.1,2,    92.15,2,    32.40,2,     0.00,2,     2.25,2
 06AQANTVIII_2,  SR04,   186,  1,      8,      8,2,19891007,0928,-70.7833, -12.2000, 1780,    576.5,   0.8002,  34.6840,3,  34.6820,2,    206.6,2,    97.95,2,    32.30,2,     0.00,2,     2.25,2
 06AQANTVIII_2,  SR04,   186,  1,      9,      9,2,19891007,0928,-70.7833, -12.2000, 1780,    577.6,   0.7992,  34.6845,3,-999.0000,9,   -999.0,9,  -999.00,9,  -999.00,9,  -999.00,9,  -999.00,9
 06AQANTVIII_2,  SR04,   186,  1,      7,      7,2,19891007,0928,-70.7833, -12.2000, 1780,    745.8,   0.6302,  34.6817,3,  34.6810,2,    209.9,2,   102.37,2,    32.40,2,     0.00,2,     2.27,2
 06AQANTVIII_2,  SR04,   186,  1,      5,      5,2,19891007,0928,-70.7833, -12.2000, 1780,    999.6,   0.3974,  34.6735,3,-999.0000,9,   -999.0,9,  -999.00,9,  -999.00,9,  -999.00,9,  -999.00,9
 06AQANTVIII_2,  SR04,   186,  1,      6,      6,2,19891007,0928,-70.7833, -12.2000, 1780,   1001.1,   0.3974,  34.6739,3,  34.6720,2,    213.8,2,   107.97,2,    32.50,2,     0.00,2,     2.29,2
 06AQANTVIII_2,  SR04,   186,  1,      4,      4,2,19891007,0928,-70.7833, -12.2000, 1780,   1486.9,   0.1995,  34.6712,3,  34.6680,2,    217.3,2,   115.93,2,    32.90,2,     0.00,2,     2.31,2
 06AQANTVIII_2,  SR04,   186,  1,      3,      3,2,19891007,0928,-70.7833, -12.2000, 1780,   1487.6,   0.1995,  34.6708,3,-999.0000,9,   -999.0,9,  -999.00,9,  -999.00,9,  -999.00,9,  -999.00,9
 06AQANTVIII_2,  SR04,   186,  1,      2,      2,2,19891007,0928,-70.7833, -12.2000, 1780,   1674.6,   0.1475,  34.6705,3,  34.6700,2,    217.9,2,   117.79,2,    32.90,2,    -0.01,4,     2.32,2
 06AQANTVIII_2,  SR04,   186,  1,      1,      1,2,19891007,0928,-70.7833, -12.2000, 1780,   1776.6,   0.1125,  34.6704,3,  34.6680,2,    219.5,2,   118.97,2,    32.90,2,     0.00,2,     2.32,2