BOTTLE,20221004CCHSIOAMB
EXPOCODE,SECT_ID,STNNBR,CASTNO,SAMPNO,BTLNBR,BTLNBR_FLAG_W,DATE,TIME,LATITUDE,LONGITUDE,DEPTH,CTDPRS,CTDTMP,CTDSAL,CTDSAL_FLAG_W,SALNTY,SALNTY_FLAG_W,OXYGEN,OXYGEN_FLAG_W,SILCAT,SILCAT_FLAG_W,NITRAT,NITRAT_FLAG_W,NITRIT,NITRIT_FLAG_W,PHSPHT,PHSPHT_FLAG_W
,,,,,,,,,,,,DBAR,ITS-90,PSS-78,,PSS-78,,UMOL/KG,,UMOL/KG,,UMOL/KG,,UMOL/KG,,UMOL/KG,
 06AQANTVIII_2,  SR04,   179,  1,     24,     24,2,19891004,1840,-68.8167, -17.9500, 4743,      8.2,  -1.8306,  34.4451,3,  34.4420,2,    296.0,2,    69.76,2,    30.00,2,     0.24,2,     2.09,2
 06AQANTVIII_2,  SR04,   179,  1,     23,     23,2,19891004,1840,-68.8167, -17.9500, 4743,     38.7,  -1.8075,  34.4451,3,  34.4450,2,    296.0,2,    69.76,2,    30.00,2,     0.25,2,     2.09,2
 06AQANTVIII_2,  SR04,   179,  1,     22,     22,2,19891004,1840,-68.8167, -17.9500, 4743,     68.5,  -1.7485,  34.4541,3,  34.4570,2,    290.9,2,    70.55,2,    30.10,2,     0.23,2,     2.11,2
 06AQANTVIII_2,  SR04,   179,  1,     21,     21,2,19891004,1840,-68.8167, -17.9500, 4743,    117.3,   0.0215,  34.6112,3,  34.6110,2,    216.9,2,    90.48,2,    32.40,2,     0.06,2,     2.27,2
 06AQANTVIII_2,  SR04,   179,  1,     20,     20,2,19891004,1840,-68.8167, -17.9500, 4743,    196.7,   0.8692,  34.6889,3,  34.6840,2,    195.6,2,   100.60,2,    32.80,2,     0.02,2,     2.31,2
 06AQANTVIII_2,  SR04,   179,  1,     19,     19,2,19891004,1840,-68.8167, -17.9500, 4743,    246.1,   0.8912,  34.6990,3,  34.6920,2,    195.5,2,   103.25,2,    32.70,2,     0.01,2,     2.30,2
 06AQANTVIII_2,  SR04,   179,  1,     18,     18,2,19891004,1840,-68.8167, -17.9500, 4743,    296.6,   0.8542,  34.6991,3,  34.6930,2,    195.3,2,   105.02,2,    32.70,2,     0.02,2,     2.29,2
 06AQANTVIII_2,  SR04,   179,  1,     17,     17,2,19891004,1840,-68.8167, -17.9500, 4743,    495.7,   0.6193,  34.6988,3,  34.6910,2,    200.5,2,   111.99,2,    32.90,2,     0.01,2,     2.31,2
 06AQANTVIII_2,  SR04,   179,  1,     16,     16,2,19891004,1840,-68.8167, -17.9500, 4743,    745.0,   0.4294,  34.6944,3,  34.6850,2,    201.5,2,   117.00,2,    33.20,2,     0.00,2,     2.33,2
 06AQANTVIII_2,  SR04,   179,  1,     15,     15,2,19891004,1840,-68.8167, -17.9500, 4743,    994.4,   0.3034,  34.6897,3,  34.6800,2,    204.8,2,   120.34,2,    33.30,2,     0.00,2,     2.34,2
 06AQANTVIII_2,  SR04,   179,  1,     14,     14,2,19891004,1840,-68.8167, -17.9500, 4743,   1244.4,   0.2015,  34.6879,3,  34.6770,3,    208.5,2,   121.43,2,    33.20,2,     0.01,2,     2.33,2
 06AQANTVIII_2,  SR04,   179,  1,     13,     13,2,19891004,1840,-68.8167, -17.9500, 4743,   1494.9,   0.1015,  34.6812,3,  34.6720,2,    213.1,2,   122.41,2,    33.00,2,     0.02,2,     2.32,2
 06AQANTVIII_2,  SR04,   179,  1,     12,     12,2,19891004,1840,-68.8167, -17.9500, 4743,   1998.2,  -0.0613,  34.6716,3,  34.6650,2,    221.9,2,   122.41,2,    32.80,2,     0.02,2,     2.31,2
 06AQANTVIII_2,  SR04,   179,  1,     11,     11,2,19891004,1840,-68.8167, -17.9500, 4743,   2498.8,  -0.1804,  34.6671,3,  34.6610,2,    228.8,2,   122.21,2,    32.70,2,     0.01,2,     2.30,2
 06AQANTVIII_2,  SR04,   179,  1,     10,     10,2,19891004,1840,-68.8167, -17.9500, 4743,   3001.3,  -0.2543,  34.6609,3,  34.6570,2,    233.8,2,   121.33,2,    32.50,2,     0.01,2,     2.30,2
 06AQANTVIII_2,  SR04,   179,  1,      9,      9,2,19891004,1840,-68.8167, -17.9500, 4743,   3503.4,  -0.3044,  34.6565,3,  34.6540,2,    237.9,2,   121.04,2,    32.30,2,     0.00,2,     2.29,2
 06AQANTVIII_2,  SR04,   179,  1,      8,      8,2,19891004,1840,-68.8167, -17.9500, 4743,   4004.8,  -0.3354,  34.6540,3,  34.6530,2,    241.2,2,   122.71,2,    32.20,2,     0.02,2,  -999.00,9
 06AQANTVIII_2,  SR04,   179,  1,      7,      7,2,19891004,1840,-68.8167, -17.9500, 4743,   4254.2,  -0.3424,  34.6545,3,  34.6530,2,    242.3,2,   123.39,2,    32.30,2,     0.02,2,     2.27,2
 06AQANTVIII_2,  SR04,   179,  1,      4,      4,2,19891004,1840,-68.8167, -17.9500, 4743,   4505.2,  -0.3534,  34.6535,3,  34.6520,2,   -999.0,9,   124.57,2,    32.40,2,     0.00,2,     2.30,2
 06AQANTVIII_2,  SR04,   179,  1,      6,      6,2,19891004,1840,-68.8167, -17.9500, 4743,   4505.3,  -0.3534,  34.6521,3,  34.6520,2,    243.3,2,   124.47,2,    32.30,2,     0.00,2,     2.29,2
 06AQANTVIII_2,  SR04,   179,  1,      5,      5,2,19891004,1840,-68.8167, -17.9500, 4743,   4505.3,  -0.3534,  34.6534,3,  34.6540,2,    242.9,2,   124.57,2,    32.40,2,     0.00,2,     2.29,2
 06AQANTVIII_2,  SR04,   179,  1,      3,      3,2,19891004,1840,-68.8167, -17.9500, 4743,   4741.4,  -0.4345,  34.6501,3,  34.6490,2,    246.4,2,   123.39,2,    32.40,2,     0.02,2,     2.30,2
 06AQANTVIII_2,  SR04,   179,  1,      2,      2,2,19891004,1840,-68.8167, -17.9500, 4743,   4789.6,  -0.4515,  34.6496,3,  34.6480,2,    246.5,2,   125.06,2,    32.40,2,     0.01,2,     2.30,2
 06AQANTVIII_2,  SR04,   179,  1,      1,      1,2,19891004,1840,-68.8167, -17.9500, 4743,   4842.5,  -0.4525,  34.6491,3,  34.6500,2,    246.3,2,   126.34,2,    32.50,2,     0.00,2,     2.29,2
 06AQANTVIII_2,  SR04,   180,  1,     24,     24,2,19891005,0400,-69.1667, -16.8167, 4715,      9.5,  -1.8346,  34.4708,3,  34.4630,2,    297.6,2,    69.86,2,    30.00,2,     0.25,2,     2.15,2
 06AQANTVIII_2,  SR04,   180,  1,     23,     23,2,19891005,0400,-69.1667, -16.8167, 4715,     39.1,  -1.8316,  34.4686,3,  34.4620,2,    299.1,2,    69.86,2,    30.00,2,     0.25,2,     2.12,2
 06AQANTVIII_2,  SR04,   180,  1,     22,     22,2,19891005,0400,-69.1667, -16.8167, 4715,     70.0,  -1.8115,  34.4640,3,  34.4640,2,    298.9,2,    69.76,2,    30.00,2,     0.24,2,     2.12,2
 06AQANTVIII_2,  SR04,   180,  1,     21,     21,2,19891005,0400,-69.1667, -16.8167, 4715,    118.5,  -0.6586,  34.6404,3,  34.6240,4,    215.6,2,    91.27,2,    32.40,2,     0.05,2,     2.30,2
 06AQANTVIII_2,  SR04,   180,  1,     20,     20,2,19891005,0400,-69.1667, -16.8167, 4715,    198.3,   0.8132,  34.6792,3,  34.6810,2,    195.5,2,    99.52,2,    32.60,2,     0.05,2,     2.32,2
 06AQANTVIII_2,  SR04,   180,  1,     19,     19,2,19891005,0400,-69.1667, -16.8167, 4715,    248.2,   0.9022,  34.6960,3,  34.6930,2,    195.7,2,   102.96,2,    32.50,2,     0.05,2,     2.31,2
 06AQANTVIII_2,  SR04,   180,  1,     18,     18,2,19891005,0400,-69.1667, -16.8167, 4715,    296.5,   0.8622,  34.6985,3,  34.6940,2,    196.6,2,   105.31,2,    32.50,2,     0.02,2,     2.31,2
 06AQANTVIII_2,  SR04,   180,  1,     17,     17,2,19891005,0400,-69.1667, -16.8167, 4715,    495.2,   0.5963,  34.6923,3,  34.6890,2,    198.8,2,   112.98,2,    32.90,2,     0.02,2,     2.34,2
 06AQANTVIII_2,  SR04,   180,  1,     16,     16,2,19891005,0400,-69.1667, -16.8167, 4715,    745.7,   0.4154,  34.6864,3,  34.6830,2,    200.6,2,   118.18,2,    33.20,2,     0.04,2,     2.35,2
 06AQANTVIII_2,  SR04,   180,  1,     15,     15,2,19891005,0400,-69.1667, -16.8167, 4715,    995.4,   0.2954,  34.6803,3,  34.6790,2,    204.5,2,   120.84,2,    33.20,2,     0.02,2,     2.37,2
 06AQANTVIII_2,  SR04,   180,  1,     14,     14,2,19891005,0400,-69.1667, -16.8167, 4715,   1245.4,   0.1925,  34.6769,3,  34.6750,2,    209.3,2,   121.92,2,    33.00,2,     0.04,2,     2.34,2
 06AQANTVIII_2,  SR04,   180,  1,     13,     13,2,19891005,0400,-69.1667, -16.8167, 4715,   1496.0,   0.0995,  34.6736,3,  34.6620,4,    214.0,2,   122.21,2,    33.00,2,     0.03,2,     2.34,2
 06AQANTVIII_2,  SR04,   180,  1,     12,     12,2,19891005,0400,-69.1667, -16.8167, 4715,   1998.6,  -0.0683,  34.6673,3,  34.6650,2,    224.2,2,   122.70,2,    32.70,2,     0.03,2,     2.35,2
 06AQANTVIII_2,  SR04,   180,  1,     11,     11,2,19891005,0400,-69.1667, -16.8167, 4715,   2500.4,  -0.1854,  34.6627,3,  34.6610,2,    230.9,2,   122.41,2,    32.60,2,     0.02,2,     2.33,2
 06AQANTVIII_2,  SR04,   180,  1,     10,     10,2,19891005,0400,-69.1667, -16.8167, 4715,   3001.3,  -0.2604,  34.6594,3,  34.6570,2,    235.7,2,   121.72,2,    32.40,2,     0.02,2,     2.28,2
 06AQANTVIII_2,  SR04,   180,  1,      9,      9,2,19891005,0400,-69.1667, -16.8167, 4715,   3503.6,  -0.3114,  34.6555,3,  34.6520,2,    239.4,2,   121.72,2,    32.30,2,     0.02,2,     2.30,2
 06AQANTVIII_2,  SR04,   180,  1,      8,      8,2,19891005,0400,-69.1667, -16.8167, 4715,   4006.1,  -0.3424,  34.6537,3,  34.6520,2,    243.6,2,   123.30,2,    32.30,2,     0.02,2,     2.29,2
 06AQANTVIII_2,  SR04,   180,  1,      5,      5,2,19891005,0400,-69.1667, -16.8167, 4715,   4506.4,  -0.3645,  34.6537,3,  34.6510,2,    245.1,2,   123.88,2,    32.30,2,     0.02,2,     2.30,2
 06AQANTVIII_2,  SR04,   180,  1,      7,      7,2,19891005,0400,-69.1667, -16.8167, 4715,   4506.5,  -0.3634,  34.6512,3,  34.6510,2,   -999.0,9,  -999.00,9,  -999.00,9,  -999.00,9,  -999.00,9
 06AQANTVIII_2,  SR04,   180,  1,      6,      6,2,19891005,0400,-69.1667, -16.8167, 4715,   4506.5,  -0.3634,  34.6524,3,  34.6500,2,    244.1,2,   124.08,2,    32.30,2,     0.02,2,     2.28,2
 06AQANTVIII_2,  SR04,   180,  1,      3,      3,2,19891005,0400,-69.1667, -16.8167, 4715,   4706.5,  -0.4405,  34.6499,3,  34.6480,2,    247.5,2,   123.30,2,    32.40,2,     0.01,2,     2.28,2
 06AQANTVIII_2,  SR04,   180,  1,      4,      4,2,19891005,0400,-69.1667, -16.8167, 4715,   4707.3,  -0.4385,  34.6486,3,  34.6480,2,    247.9,2,   123.30,2,    32.40,2,     0.02,2,     2.28,2
 06AQANTVIII_2,  SR04,   180,  1,      2,      2,2,19891005,0400,-69.1667, -16.8167, 4715,   4756.0,  -0.4575,  34.6488,3,  34.6470,2,    246.7,2,   126.05,2,    32.30,2,     0.02,2,     2.30,2
 06AQANTVIII_2,  SR04,   180,  1,      1,      1,2,19891005,0400,-69.1667, -16.8167, 4715,   4811.3,  -0.4555,  34.6505,3,  34.6490,2,    246.8,2,   127.32,2,    32.40,2,     0.02,2,     2.29,2
 06AQANTVIII_2,  SR04,   181,  1,     21,     21,4,19891005,1353,-69.6333, -15.7000, 4711,     38.9,  -1.6394,  34.4809,3,-999.0000,9,    291.6,2,    73.89,2,    30.90,2,     0.24,2,     2.18,2
 06AQANTVIII_2,  SR04,   181,  1,     20,     20,4,19891005,1353,-69.6333, -15.7000, 4711,     49.8,  -1.5713,  34.4838,3,  34.4710,3,   -999.0,9,  -999.00,9,  -999.00,9,  -999.00,9,  -999.00,9
 06AQANTVIII_2,  SR04,   181,  1,     19,     19,4,19891005,1353,-69.6333, -15.7000, 4711,     49.8,  -1.5623,  34.4859,3,-999.0000,9,    284.8,2,    75.26,2,    31.10,2,     0.21,2,     2.17,2
 06AQANTVIII_2,  SR04,   181,  1,     18,     18,4,19891005,1353,-69.6333, -15.7000, 4711,     68.8,  -1.3792,  34.4929,3,  34.6870,4,   -999.0,9,  -999.00,9,  -999.00,9,  -999.00,9,  -999.00,9
 06AQANTVIII_2,  SR04,   181,  1,     17,     17,4,19891005,1353,-69.6333, -15.7000, 4711,     99.0,   0.2114,  34.6286,3,-999.0000,9,   -999.0,9,  -999.00,9,  -999.00,9,  -999.00,9,  -999.00,9
 06AQANTVIII_2,  SR04,   181,  1,     16,     16,4,19891005,1353,-69.6333, -15.7000, 4711,    148.4,   0.5534,  34.6669,3,-999.0000,9,   -999.0,9,  -999.00,9,  -999.00,9,  -999.00,9,  -999.00,9
 06AQANTVIII_2,  SR04,   181,  1,     15,     15,4,19891005,1353,-69.6333, -15.7000, 4711,    208.4,   0.8582,  34.6865,3,-999.0000,9,   -999.0,9,  -999.00,9,  -999.00,9,  -999.00,9,  -999.00,9
 06AQANTVIII_2,  SR04,   181,  1,     13,     13,4,19891005,1353,-69.6333, -15.7000, 4711,    277.5,   0.8192,  34.6941,3,-999.0000,9,   -999.0,9,   101.29,2,    32.60,2,     0.04,2,     2.29,2
 06AQANTVIII_2,  SR04,   181,  1,     12,     12,4,19891005,1353,-69.6333, -15.7000, 4711,    497.0,   0.7152,  34.7011,3,  34.6890,4,   -999.0,9,  -999.00,9,  -999.00,9,  -999.00,9,  -999.00,9
 06AQANTVIII_2,  SR04,   181,  1,     11,     11,4,19891005,1353,-69.6333, -15.7000, 4711,    497.0,   0.7162,  34.7000,3,  34.6960,2,   -999.0,9,   109.54,2,    32.90,2,     0.03,2,     2.31,2
 06AQANTVIII_2,  SR04,   181,  1,     10,     10,4,19891005,1353,-69.6333, -15.7000, 4711,    994.6,   0.3664,  34.6882,3,-999.0000,9,   -999.0,9,  -999.00,9,  -999.00,9,  -999.00,9,  -999.00,9
 06AQANTVIII_2,  SR04,   181,  1,      9,      9,4,19891005,1353,-69.6333, -15.7000, 4711,    994.6,   0.3644,  34.6878,3,  34.6840,2,    205.6,2,   119.56,2,    33.50,2,     0.04,2,     2.37,2
 06AQANTVIII_2,  SR04,   181,  1,      7,      7,4,19891005,1353,-69.6333, -15.7000, 4711,   1997.1,  -0.0332,  34.6728,3,-999.0000,9,   -999.0,9,  -999.00,9,  -999.00,9,  -999.00,9,  -999.00,9
 06AQANTVIII_2,  SR04,   181,  1,      8,      8,4,19891005,1353,-69.6333, -15.7000, 4711,   1997.3,  -0.0322,  34.6729,3,  34.6670,2,    222.2,2,   123.10,2,    33.20,2,     0.05,2,     2.35,2
 06AQANTVIII_2,  SR04,   181,  1,      6,      6,4,19891005,1353,-69.6333, -15.7000, 4711,   3001.2,  -0.2373,  34.6635,3,  34.6580,2,    234.8,2,   122.12,2,    32.90,2,     0.03,2,     2.34,2
 06AQANTVIII_2,  SR04,   181,  1,      5,      5,4,19891005,1353,-69.6333, -15.7000, 4711,   3001.2,  -0.2363,  34.6624,3,-999.0000,9,   -999.0,9,  -999.00,9,  -999.00,9,  -999.00,9,  -999.00,9
 06AQANTVIII_2,  SR04,   181,  1,      4,      4,4,19891005,1353,-69.6333, -15.7000, 4711,   3502.6,  -0.2914,  34.6579,3,  34.6560,2,    239.3,2,   121.62,2,    32.70,2,     0.03,2,     2.32,2
 06AQANTVIII_2,  SR04,   181,  1,      3,      3,4,19891005,1353,-69.6333, -15.7000, 4711,   4005.1,  -0.3274,  34.6562,3,  34.6520,2,    242.6,2,   123.29,2,    32.60,2,     0.04,2,     2.29,2
 06AQANTVIII_2,  SR04,   181,  1,      2,      2,4,19891005,1353,-69.6333, -15.7000, 4711,   4505.5,  -0.3454,  34.6548,3,  34.6500,2,    245.8,2,   125.55,2,    32.70,2,     0.04,2,     2.30,2
 06AQANTVIII_2,  SR04,   181,  1,      1,      1,4,19891005,1353,-69.6333, -15.7000, 4711,   4811.1,  -0.4565,  34.6481,3,  34.6480,2,    248.8,2,   126.44,2,    32.70,2,     0.04,2,     2.28,2
 06AQANTVIII_2,  SR04,   182,  1,     23,     23,2,19891006,0430,-70.0000, -14.6667, 4690,      8.1,  -1.8506,  34.4867,3,  34.4850,2,    295.9,2,    75.56,2,    30.70,2,     0.20,2,     2.15,2
 06AQANTVIII_2,  SR04,   182,  1,     22,     22,2,19891006,0430,-70.0000, -14.6667, 4690,     48.4,  -1.8406,  34.4897,3,  34.4860,2,    295.2,2,    75.56,2,    30.70,2,     0.20,2,     2.15,2
 06AQANTVIII_2,  SR04,   182,  1,     21,     21,2,19891006,0430,-70.0000, -14.6667, 4690,     97.0,  -1.7225,  34.4887,3,  34.4950,2,    294.3,2,    76.34,2,    31.00,2,     0.19,2,     2.15,2
 06AQANTVIII_2,  SR04,   182,  1,     20,     20,2,19891006,0430,-70.0000, -14.6667, 4690,    147.0,   0.0575,  34.6111,3,  34.6210,2,    228.0,2,    90.88,2,    32.30,2,     0.02,2,     2.26,2
 06AQANTVIII_2,  SR04,   182,  1,     19,     19,2,19891006,0430,-70.0000, -14.6667, 4690,    298.0,   0.7782,  34.6926,3,  34.6790,3,    204.5,2,    99.52,2,    32.40,2,     0.02,2,     2.27,2
 06AQANTVIII_2,  SR04,   182,  1,     18,     18,2,19891006,0430,-70.0000, -14.6667, 4690,    298.0,   0.7802,  34.6916,3,  34.6810,3,    205.2,2,    99.22,2,    32.40,2,     0.01,2,     2.27,2
 06AQANTVIII_2,  SR04,   182,  1,     17,     17,2,19891006,0430,-70.0000, -14.6667, 4690,    395.6,   0.8092,  34.7014,3,  34.6940,2,    202.3,2,   105.21,2,    32.50,2,     0.02,2,     2.27,2
 06AQANTVIII_2,  SR04,   182,  1,     16,     16,2,19891006,0430,-70.0000, -14.6667, 4690,    495.4,   0.7242,  34.7013,3,  34.6940,2,    201.9,2,   108.46,2,    32.60,2,     0.03,2,     2.28,2
 06AQANTVIII_2,  SR04,   182,  1,     15,     15,2,19891006,0430,-70.0000, -14.6667, 4690,    744.6,   0.5324,  34.6958,3,  34.6870,2,    203.8,2,   113.86,2,    33.00,2,     0.03,2,     2.30,2
 06AQANTVIII_2,  SR04,   182,  1,     14,     14,2,19891006,0430,-70.0000, -14.6667, 4690,    995.1,   0.3824,  34.6909,3,  34.6820,2,    207.9,2,   117.79,2,    33.10,2,     0.01,2,     2.32,2
 06AQANTVIII_2,  SR04,   182,  1,     13,     13,2,19891006,0430,-70.0000, -14.6667, 4690,   1243.9,   0.2714,  34.6842,3,  34.6780,2,    206.8,2,   120.15,2,    33.30,2,     0.01,2,     2.34,2
 06AQANTVIII_2,  SR04,   182,  1,     12,     12,2,19891006,0430,-70.0000, -14.6667, 4690,   1501.2,   0.1665,  34.6798,3,  34.6750,2,    214.5,2,   121.33,2,    33.20,2,     0.02,2,     2.33,2
 06AQANTVIII_2,  SR04,   182,  1,     11,     11,2,19891006,0430,-70.0000, -14.6667, 4690,   1746.0,   0.0755,  34.6741,3,  34.6710,2,    217.8,2,   121.92,2,    33.10,2,     0.03,2,     2.33,2
 06AQANTVIII_2,  SR04,   182,  1,     10,     10,2,19891006,0430,-70.0000, -14.6667, 4690,   1998.1,  -0.0082,  34.6716,3,  34.6660,2,    221.4,2,   122.11,2,    33.00,2,     0.03,2,     2.34,2
 06AQANTVIII_2,  SR04,   182,  1,      9,      9,2,19891006,0430,-70.0000, -14.6667, 4690,   2498.5,  -0.1353,  34.6665,3,  34.6620,2,    228.9,2,   122.41,2,    32.70,2,     0.02,2,     2.32,2
 06AQANTVIII_2,  SR04,   182,  1,      8,      8,2,19891006,0430,-70.0000, -14.6667, 4690,   3003.4,  -0.2163,  34.6629,3,  34.6600,2,    235.2,2,   121.43,2,    32.60,2,     0.02,2,     2.30,2
 06AQANTVIII_2,  SR04,   182,  1,      7,      7,2,19891006,0430,-70.0000, -14.6667, 4690,   3502.5,  -0.2704,  34.6597,3,  34.6580,2,    239.8,2,   121.43,2,    32.60,2,     0.01,2,     2.30,2
 06AQANTVIII_2,  SR04,   182,  1,      6,      6,2,19891006,0430,-70.0000, -14.6667, 4690,   4003.7,  -0.2994,  34.6586,3,  34.6570,2,    243.9,2,   121.72,2,    32.60,2,     0.01,2,     2.28,2
 06AQANTVIII_2,  SR04,   182,  1,      5,      5,2,19891006,0430,-70.0000, -14.6667, 4690,   4253.1,  -0.3074,  34.6563,3,  34.6540,2,    242.4,2,   123.49,2,    32.60,2,     0.02,2,     2.29,2
 06AQANTVIII_2,  SR04,   182,  1,      4,      4,2,19891006,0430,-70.0000, -14.6667, 4690,   4506.2,  -0.3254,  34.6564,3,  34.6570,2,    244.6,2,   124.77,2,    32.50,2,     0.00,2,     2.28,2
 06AQANTVIII_2,  SR04,   182,  1,      3,      3,2,19891006,0430,-70.0000, -14.6667, 4690,   4688.0,  -0.3845,  34.6540,3,  34.6500,2,    247.7,2,   123.88,2,    32.60,2,     0.00,2,     2.28,2
 06AQANTVIII_2,  SR04,   182,  1,      2,      2,2,19891006,0430,-70.0000, -14.6667, 4690,   4733.1,  -0.4055,  34.6537,3,  34.6500,2,    247.9,2,   123.30,2,    32.60,2,     0.00,2,     2.28,2
 06AQANTVIII_2,  SR04,   182,  1,      1,      1,2,19891006,0430,-70.0000, -14.6667, 4690,   4788.0,  -0.4345,  34.6516,3,  34.6490,2,    248.1,2,   123.69,2,    32.60,2,     0.01,2,     2.29,2