BOTTLE,20221004CCHSIOAMB
EXPOCODE,SECT_ID,STNNBR,CASTNO,SAMPNO,BTLNBR,BTLNBR_FLAG_W,DATE,TIME,LATITUDE,LONGITUDE,DEPTH,CTDPRS,CTDTMP,CTDSAL,CTDSAL_FLAG_W,SALNTY,SALNTY_FLAG_W,OXYGEN,OXYGEN_FLAG_W,SILCAT,SILCAT_FLAG_W,NITRAT,NITRAT_FLAG_W,NITRIT,NITRIT_FLAG_W,PHSPHT,PHSPHT_FLAG_W
,,,,,,,,,,,,DBAR,ITS-90,PSS-78,,PSS-78,,UMOL/KG,,UMOL/KG,,UMOL/KG,,UMOL/KG,,UMOL/KG,
 06AQANTVIII_2,  SR04,   151,  1,     24,     24,2,19890914,0309,-63.7667, -50.8833, 2450,     10.5,  -1.8529,  34.4476,3,  34.4440,2,    293.9,2,    74.77,2,    30.70,2,     0.00,2,     2.11,2
 06AQANTVIII_2,  SR04,   151,  1,     23,     23,2,19890914,0309,-63.7667, -50.8833, 2450,     10.5,  -1.8559,  34.4469,3,-999.0000,9,   -999.0,9,  -999.00,9,  -999.00,9,  -999.00,9,  -999.00,9
 06AQANTVIII_2,  SR04,   151,  1,     22,     22,2,19890914,0309,-63.7667, -50.8833, 2450,     27.5,  -1.8529,  34.4476,3,-999.0000,9,   -999.0,9,  -999.00,9,  -999.00,9,  -999.00,9,  -999.00,9
 06AQANTVIII_2,  SR04,   151,  1,     21,     21,2,19890914,0309,-63.7667, -50.8833, 2450,     27.5,  -1.8549,  34.4472,3,-999.0000,9,   -999.0,9,  -999.00,9,  -999.00,9,  -999.00,9,  -999.00,9
 06AQANTVIII_2,  SR04,   151,  1,     20,     20,2,19890914,0309,-63.7667, -50.8833, 2450,     58.1,  -1.8489,  34.4481,3,  34.4430,2,    293.9,2,    74.87,2,    30.60,2,     0.00,2,     2.11,2
 06AQANTVIII_2,  SR04,   151,  1,     19,     19,2,19890914,0309,-63.7667, -50.8833, 2450,     58.1,  -1.8479,  34.4441,3,-999.0000,9,   -999.0,9,  -999.00,9,  -999.00,9,  -999.00,9,  -999.00,9
 06AQANTVIII_2,  SR04,   151,  1,     18,     18,2,19890914,0309,-63.7667, -50.8833, 2450,     98.6,  -1.8079,  34.4439,3,  34.4440,2,    293.5,2,    75.36,2,    30.70,2,     0.00,2,     2.10,2
 06AQANTVIII_2,  SR04,   151,  1,     17,     17,2,19890914,0309,-63.7667, -50.8833, 2450,     98.7,  -1.8089,  34.4478,3,-999.0000,9,   -999.0,9,  -999.00,9,  -999.00,9,  -999.00,9,  -999.00,9
 06AQANTVIII_2,  SR04,   151,  1,     16,     16,2,19890914,0309,-63.7667, -50.8833, 2450,    148.1,  -1.1474,  34.5131,3,  34.5080,2,    263.6,2,    82.63,2,    31.50,2,     0.00,2,     2.16,2
 06AQANTVIII_2,  SR04,   151,  1,     15,     15,2,19890914,0309,-63.7667, -50.8833, 2450,    148.1,  -1.1103,  34.5116,3,-999.0000,9,   -999.0,9,  -999.00,9,  -999.00,9,  -999.00,9,  -999.00,9
 06AQANTVIII_2,  SR04,   151,  1,     14,     14,2,19890914,0309,-63.7667, -50.8833, 2450,    198.3,  -0.3088,  34.5724,3,  34.5760,2,    236.7,2,    90.00,2,    32.20,2,     0.00,2,     2.21,2
 06AQANTVIII_2,  SR04,   151,  1,     13,     13,2,19890914,0309,-63.7667, -50.8833, 2450,    218.4,  -0.2418,  34.5922,3,-999.0000,9,   -999.0,9,  -999.00,9,  -999.00,9,  -999.00,9,  -999.00,9
 06AQANTVIII_2,  SR04,   151,  1,     12,     12,2,19890914,0309,-63.7667, -50.8833, 2450,    396.2,   0.4717,  34.6709,3,-999.0000,9,    206.4,2,   105.22,2,    32.90,2,     0.00,2,     2.28,2
 06AQANTVIII_2,  SR04,   151,  1,     11,     11,2,19890914,0309,-63.7667, -50.8833, 2450,    495.7,   0.4297,  34.6753,3,  34.6720,2,    205.5,2,   108.16,2,    33.00,2,     0.00,2,     2.30,2
 06AQANTVIII_2,  SR04,   151,  1,     10,     10,2,19890914,0309,-63.7667, -50.8833, 2450,    608.1,   0.3997,  34.6772,3,-999.0000,9,    205.1,2,   110.62,2,    33.20,2,     0.00,2,     2.30,2
 06AQANTVIII_2,  SR04,   151,  1,      9,      9,2,19890914,0309,-63.7667, -50.8833, 2450,    795.0,   0.3887,  34.6798,3,  34.6790,2,    206.6,2,   115.24,2,    33.40,2,     0.00,2,     2.30,2
 06AQANTVIII_2,  SR04,   151,  1,      8,      8,2,19890914,0309,-63.7667, -50.8833, 2450,    995.3,   0.2888,  34.6787,3,-999.0000,9,    208.2,2,   118.58,2,    33.30,2,     0.00,2,     2.31,2
 06AQANTVIII_2,  SR04,   151,  1,      7,      7,2,19890914,0309,-63.7667, -50.8833, 2450,   1245.1,   0.1739,  34.6728,3,  34.6720,2,    213.1,2,   120.54,2,    33.20,2,     0.00,2,     2.30,2
 06AQANTVIII_2,  SR04,   151,  1,      6,      6,2,19890914,0309,-63.7667, -50.8833, 2450,   1496.4,   0.0490,  34.6677,3,-999.0000,9,    218.6,2,   121.03,2,    33.00,2,     0.00,2,     2.30,2
 06AQANTVIII_2,  SR04,   151,  1,      5,      5,2,19890914,0309,-63.7667, -50.8833, 2450,   1757.2,  -0.0807,  34.6598,3,  34.6620,2,    224.4,2,   121.04,2,    32.90,2,     0.00,2,     2.31,2
 06AQANTVIII_2,  SR04,   151,  1,      4,      4,2,19890914,0309,-63.7667, -50.8833, 2450,   1997.6,  -0.2107,  34.6568,3,-999.0000,9,    231.3,2,   119.27,2,    32.80,2,     0.00,2,     2.29,2
 06AQANTVIII_2,  SR04,   151,  1,      3,      3,2,19890914,0309,-63.7667, -50.8833, 2450,   2379.4,  -0.8322,  34.6260,3,  34.6310,2,    264.5,2,    92.65,2,    31.70,2,     0.00,2,     2.20,2
 06AQANTVIII_2,  SR04,   151,  1,      2,      2,2,19890914,0309,-63.7667, -50.8833, 2450,   2430.0,  -0.9733,  34.6244,3,  34.6240,2,    272.4,2,    87.05,2,    31.50,2,     0.00,2,     2.20,2
 06AQANTVIII_2,  SR04,   151,  1,      1,      1,2,19890914,0309,-63.7667, -50.8833, 2450,   2481.9,  -1.0193,  34.6233,3,  34.6230,2,    277.1,2,    85.87,2,    31.50,2,     0.00,2,     2.23,2
 06AQANTVIII_2,  SR04,   152,  1,     21,     21,2,19890914,2125,-63.8667, -49.9500, 2950,     14.4,  -1.8389,  34.4422,3,-999.0000,9,    286.1,2,    81.26,2,    29.90,2,     0.01,2,     2.05,2
 06AQANTVIII_2,  SR04,   152,  1,     20,     20,2,19890914,2125,-63.8667, -49.9500, 2950,     48.8,  -1.8389,  34.4475,3,  34.4410,2,    285.7,2,    81.46,2,    29.90,2,     0.00,2,     2.10,2
 06AQANTVIII_2,  SR04,   152,  1,     19,     19,2,19890914,2125,-63.8667, -49.9500, 2950,     97.6,  -1.8239,  34.4540,3,  34.4420,3,    285.9,2,    81.26,2,    30.00,2,     0.00,2,     2.10,2
 06AQANTVIII_2,  SR04,   152,  1,     18,     18,2,19890914,2125,-63.8667, -49.9500, 2950,    296.6,   0.3348,  34.6590,3,-999.0000,9,    208.6,2,   103.65,2,    32.20,2,     0.00,2,     2.25,2
 06AQANTVIII_2,  SR04,   152,  1,     17,     17,2,19890914,2125,-63.8667, -49.9500, 2950,    494.7,   0.2888,  34.6669,3,  34.6660,2,    205.0,2,   109.83,2,    32.80,2,     0.00,2,     2.28,2
 06AQANTVIII_2,  SR04,   152,  1,     16,     16,2,19890914,2125,-63.8667, -49.9500, 2950,    993.3,   0.2638,  34.6790,3,  34.6800,2,    202.3,2,   116.12,2,    33.90,2,     0.02,2,     2.40,2
 06AQANTVIII_2,  SR04,   152,  1,     15,     15,2,19890914,2125,-63.8667, -49.9500, 2950,   1245.1,   0.1589,  34.6764,3,  34.6770,2,    207.7,2,   119.66,2,    33.00,2,     0.01,2,     2.29,2
 06AQANTVIII_2,  SR04,   152,  1,     14,     14,2,19890914,2125,-63.8667, -49.9500, 2950,   1492.1,   0.0520,  34.6739,3,  34.6720,2,    212.2,2,   121.13,2,    33.10,2,     0.01,2,     2.29,2
 06AQANTVIII_2,  SR04,   152,  1,     13,     13,2,19890914,2125,-63.8667, -49.9500, 2950,   1746.9,  -0.0437,  34.6693,3,  34.6680,2,    217.9,2,   121.62,2,    33.10,2,     0.01,2,     2.29,2
 06AQANTVIII_2,  SR04,   152,  1,     12,     12,2,19890914,2125,-63.8667, -49.9500, 2950,   1998.2,  -0.1318,  34.6628,3,-999.0000,9,    222.6,2,   121.62,2,    33.00,2,     0.01,2,     2.28,2
 06AQANTVIII_2,  SR04,   152,  1,     11,     11,2,19890914,2125,-63.8667, -49.9500, 2950,   2248.9,  -0.2008,  34.6626,3,  34.6610,2,    227.1,2,   121.33,2,    33.00,2,     0.01,2,     2.26,2
 06AQANTVIII_2,  SR04,   152,  1,     10,     10,2,19890914,2125,-63.8667, -49.9500, 2950,   2499.8,  -0.2848,  34.6596,3,  34.6570,2,    230.8,2,   120.54,2,    32.90,2,     0.01,2,     2.26,2
 06AQANTVIII_2,  SR04,   152,  1,      9,      9,2,19890914,2125,-63.8667, -49.9500, 2950,   2750.7,  -0.5340,  34.6454,3,  34.6560,3,    235.1,2,   120.05,2,    31.90,2,     0.01,2,     2.27,2
 06AQANTVIII_2,  SR04,   152,  1,      8,      8,2,19890914,2125,-63.8667, -49.9500, 2950,   2854.4,  -0.8142,  34.6325,3,-999.0000,9,   -999.0,9,  -999.00,9,  -999.00,9,  -999.00,9,  -999.00,9
 06AQANTVIII_2,  SR04,   152,  1,      7,      7,2,19890914,2125,-63.8667, -49.9500, 2950,   2854.5,  -0.8142,  34.6338,3,  34.6270,2,    266.4,2,    90.88,2,    31.00,2,     0.01,2,     2.19,2
 06AQANTVIII_2,  SR04,   152,  1,      6,      6,2,19890914,2125,-63.8667, -49.9500, 2950,   2899.5,  -0.9143,  34.6317,3,  34.6180,4,   -999.0,9,  -999.00,9,  -999.00,9,  -999.00,9,  -999.00,9
 06AQANTVIII_2,  SR04,   152,  1,      5,      5,2,19890914,2125,-63.8667, -49.9500, 2950,   2899.9,  -0.9133,  34.6317,3,  34.6260,2,    271.3,2,    87.83,2,    30.90,2,     0.01,2,     2.19,2
 06AQANTVIII_2,  SR04,   152,  1,      3,      3,2,19890914,2125,-63.8667, -49.9500, 2950,   2948.5,  -1.0234,  34.6270,3,  34.6210,2,    275.5,2,    84.29,2,    30.80,2,     0.01,2,     2.18,2
 06AQANTVIII_2,  SR04,   152,  1,      4,      4,2,19890914,2125,-63.8667, -49.9500, 2950,   2948.6,  -1.0244,  34.6267,3,-999.0000,9,   -999.0,9,  -999.00,9,  -999.00,9,  -999.00,9,  -999.00,9
 06AQANTVIII_2,  SR04,   152,  1,      2,      2,2,19890914,2125,-63.8667, -49.9500, 2950,   2995.2,  -1.0193,  34.6285,3,  34.6190,2,   -999.0,9,  -999.00,9,  -999.00,9,  -999.00,9,  -999.00,9
 06AQANTVIII_2,  SR04,   152,  1,      1,      1,2,19890914,2125,-63.8667, -49.9500, 2950,   2995.3,  -1.0193,  34.6271,3,  34.6250,2,    276.4,2,    84.20,2,    30.90,2,     0.01,2,     2.22,2
 06AQANTVIII_2,  SR04,   153,  1,     24,     24,2,19890915,0211,-63.9333, -49.1500, 3477,     10.0,  -1.8469,  34.4300,3,  34.4260,2,    288.5,2,    84.11,2,    29.96,2,    -0.01,4,     2.13,2
 06AQANTVIII_2,  SR04,   153,  1,     23,     23,2,19890915,0211,-63.9333, -49.1500, 3477,     47.6,  -1.8489,  34.4346,3,  34.4280,2,    288.3,2,    84.11,2,    29.94,2,    -0.01,4,     2.13,2
 06AQANTVIII_2,  SR04,   153,  1,     22,     22,2,19890915,0211,-63.9333, -49.1500, 3477,     78.2,  -1.8369,  34.4330,3,  34.4270,2,    288.3,2,    84.21,2,    30.02,2,    -0.01,4,     2.12,2
 06AQANTVIII_2,  SR04,   153,  1,     21,     21,2,19890915,0211,-63.9333, -49.1500, 3477,    346.1,   0.2968,  34.6745,3,  34.6750,2,    204.0,2,   109.24,2,    32.94,2,    -0.01,4,     2.34,2
 06AQANTVIII_2,  SR04,   153,  1,     20,     20,2,19890915,0211,-63.9333, -49.1500, 3477,    503.3,   0.3827,  34.6780,3,  34.6800,2,    201.1,2,   114.06,2,    33.13,2,    -0.01,4,     2.35,2
 06AQANTVIII_2,  SR04,   153,  1,     19,     19,2,19890915,0211,-63.9333, -49.1500, 3477,    599.0,   0.4047,  34.6816,3,  34.6840,2,    200.2,2,   117.59,2,    33.31,2,    -0.01,4,     2.35,2
 06AQANTVIII_2,  SR04,   153,  1,     18,     18,2,19890915,0211,-63.9333, -49.1500, 3477,    995.9,   0.2458,  34.6858,3,  34.6800,2,    206.3,2,   122.60,2,    33.18,2,     0.00,2,     2.35,2
 06AQANTVIII_2,  SR04,   153,  1,     17,     17,2,19890915,0211,-63.9333, -49.1500, 3477,   1244.5,   0.1169,  34.6791,3,  34.6730,2,    213.2,2,   122.80,2,    33.05,2,     0.00,2,     2.33,2
 06AQANTVIII_2,  SR04,   153,  1,     16,     16,2,19890915,0211,-63.9333, -49.1500, 3477,   1496.7,   0.0250,  34.6741,3,  34.6710,2,    217.8,2,   123.29,2,    33.02,2,     0.00,2,     2.33,2
 06AQANTVIII_2,  SR04,   153,  1,     15,     15,2,19890915,0211,-63.9333, -49.1500, 3477,   1745.8,  -0.0567,  34.6708,3,  34.6660,2,    223.3,2,   123.10,2,    32.89,2,     0.00,2,     2.33,2
 06AQANTVIII_2,  SR04,   153,  1,     14,     14,2,19890915,0211,-63.9333, -49.1500, 3477,   1997.5,  -0.1277,  34.6669,3,  34.6650,2,    226.6,2,   122.80,2,    32.87,2,     0.00,2,     2.32,2
 06AQANTVIII_2,  SR04,   153,  1,     13,     13,2,19890915,0211,-63.9333, -49.1500, 3477,   2247.0,  -0.1918,  34.6642,3,  34.6600,2,    230.6,2,   122.02,2,    32.73,2,     0.00,2,     2.31,2
 06AQANTVIII_2,  SR04,   153,  1,     12,     12,2,19890915,0211,-63.9333, -49.1500, 3477,   2509.4,  -0.2347,  34.6623,3,  34.6590,2,    233.3,2,   121.82,2,    32.60,2,     0.00,2,     2.30,2
 06AQANTVIII_2,  SR04,   153,  1,     11,     11,2,19890915,0211,-63.9333, -49.1500, 3477,   2750.8,  -0.2638,  34.6598,3,-999.0000,9,   -999.0,9,  -999.00,9,  -999.00,9,  -999.00,9,  -999.00,9
 06AQANTVIII_2,  SR04,   153,  1,     10,     10,2,19890915,0211,-63.9333, -49.1500, 3477,   3001.3,  -0.2948,  34.6582,3,  34.6560,2,    238.1,2,   121.04,2,    32.37,2,     0.00,2,     2.28,2
 06AQANTVIII_2,  SR04,   153,  1,      9,      9,2,19890915,0211,-63.9333, -49.1500, 3477,   3251.6,  -0.3398,  34.6535,3,  34.6530,2,    240.7,2,   120.54,2,    32.34,2,     0.00,2,     2.28,2
 06AQANTVIII_2,  SR04,   153,  1,      7,      7,2,19890915,0211,-63.9333, -49.1500, 3477,   3382.0,  -0.4289,  34.6487,3,  34.6490,2,    245.0,2,   120.74,2,    32.32,2,     0.00,2,     2.28,2
 06AQANTVIII_2,  SR04,   153,  1,      8,      8,2,19890915,0211,-63.9333, -49.1500, 3477,   3382.1,  -0.4249,  34.6494,3,-999.0000,9,   -999.0,9,  -999.00,9,  -999.00,9,  -999.00,9,  -999.00,9
 06AQANTVIII_2,  SR04,   153,  1,      6,      6,2,19890915,0211,-63.9333, -49.1500, 3477,   3432.9,  -0.5350,  34.6392,3,-999.0000,9,   -999.0,9,  -999.00,9,  -999.00,9,  -999.00,9,  -999.00,9
 06AQANTVIII_2,  SR04,   153,  1,      5,      5,2,19890915,0211,-63.9333, -49.1500, 3477,   3432.9,  -0.5420,  34.6391,3,  34.6400,2,    254.7,2,   106.50,2,    31.98,2,     0.00,2,     2.24,2
 06AQANTVIII_2,  SR04,   153,  1,      4,      4,2,19890915,0211,-63.9333, -49.1500, 3477,   3482.0,  -0.7001,  34.6291,3,-999.0000,9,   -999.0,9,  -999.00,9,  -999.00,9,  -999.00,9,  -999.00,9
 06AQANTVIII_2,  SR04,   153,  1,      3,      3,2,19890915,0211,-63.9333, -49.1500, 3477,   3482.1,  -0.7091,  34.6311,3,  34.6300,2,    264.4,2,    95.00,2,    31.75,2,     0.00,2,     2.24,2
 06AQANTVIII_2,  SR04,   153,  1,      2,      2,2,19890915,0211,-63.9333, -49.1500, 3477,   3531.4,  -0.8682,  34.6230,3,-999.0000,9,   -999.0,9,  -999.00,9,  -999.00,9,  -999.00,9,  -999.00,9
 06AQANTVIII_2,  SR04,   153,  1,      1,      1,2,19890915,0211,-63.9333, -49.1500, 3477,   3531.5,  -0.8762,  34.6213,3,  34.6240,2,    272.5,2,    87.83,2,    31.51,2,     0.00,2,     2.20,2
 06AQANTVIII_2,  SR04,   154,  1,     23,     23,2,19890915,2010,-64.1167, -47.9500, 4054,      8.2,  -1.8289,  34.4225,3,-999.0000,9,   -999.0,9,  -999.00,9,  -999.00,9,  -999.00,9,  -999.00,9
 06AQANTVIII_2,  SR04,   154,  1,     24,     24,2,19890915,2010,-64.1167, -47.9500, 4054,      8.3,  -1.8239,  34.4194,3,  34.4250,2,    284.9,2,    80.97,2,    30.40,2,     0.03,2,     2.17,2
 06AQANTVIII_2,  SR04,   154,  1,     22,     22,2,19890915,2010,-64.1167, -47.9500, 4054,     28.0,  -1.8429,  34.4218,3,-999.0000,9,   -999.0,9,  -999.00,9,  -999.00,9,  -999.00,9,  -999.00,9
 06AQANTVIII_2,  SR04,   154,  1,     21,     21,2,19890915,2010,-64.1167, -47.9500, 4054,     57.4,  -1.8239,  34.4269,3,-999.0000,9,   -999.0,9,  -999.00,9,  -999.00,9,  -999.00,9,  -999.00,9
 06AQANTVIII_2,  SR04,   154,  1,     20,     20,2,19890915,2010,-64.1167, -47.9500, 4054,     57.4,  -1.8199,  34.4194,3,  34.4260,2,    284.7,2,    81.06,2,    30.30,2,     0.02,2,     2.16,2
 06AQANTVIII_2,  SR04,   154,  1,     19,     19,2,19890915,2010,-64.1167, -47.9500, 4054,     77.9,  -1.7568,  34.4252,3,-999.0000,9,   -999.0,9,  -999.00,9,  -999.00,9,  -999.00,9,  -999.00,9
 06AQANTVIII_2,  SR04,   154,  1,     18,     18,2,19890915,2010,-64.1167, -47.9500, 4054,    147.9,   0.1769,  34.6451,3,-999.0000,9,   -999.0,9,  -999.00,9,  -999.00,9,  -999.00,9,  -999.00,9
 06AQANTVIII_2,  SR04,   154,  1,     16,     16,2,19890915,2010,-64.1167, -47.9500, 4054,    596.6,   0.4207,  34.6859,3,  34.6860,2,    199.3,2,   115.92,2,    33.50,2,    -0.01,4,     2.42,2
 06AQANTVIII_2,  SR04,   154,  1,     17,     17,2,19890915,2010,-64.1167, -47.9500, 4054,    597.5,   0.4217,  34.6843,3,-999.0000,9,   -999.0,9,  -999.00,9,  -999.00,9,  -999.00,9,  -999.00,9
 06AQANTVIII_2,  SR04,   154,  1,     14,     14,2,19890915,2010,-64.1167, -47.9500, 4054,    895.2,   0.3258,  34.6832,3,  34.6830,2,    201.7,2,   120.44,2,    33.60,2,    -0.01,4,     2.42,2
 06AQANTVIII_2,  SR04,   154,  1,     15,     15,2,19890915,2010,-64.1167, -47.9500, 4054,    896.5,   0.3268,  34.6826,3,-999.0000,9,   -999.0,9,  -999.00,9,  -999.00,9,  -999.00,9,  -999.00,9
 06AQANTVIII_2,  SR04,   154,  1,     12,     12,2,19890915,2010,-64.1167, -47.9500, 4054,   1598.3,   0.0430,  34.6690,3,  34.6720,2,    217.5,2,   122.61,2,    33.10,2,    -0.01,4,     2.38,2
 06AQANTVIII_2,  SR04,   154,  1,     13,     13,2,19890915,2010,-64.1167, -47.9500, 4054,   1598.9,   0.0440,  34.6675,3,-999.0000,9,   -999.0,9,  -999.00,9,  -999.00,9,  -999.00,9,  -999.00,9
 06AQANTVIII_2,  SR04,   154,  1,     10,     10,2,19890915,2010,-64.1167, -47.9500, 4054,   1996.2,  -0.0877,  34.6623,3,  34.6650,2,    224.2,2,   122.51,2,    32.90,2,    -0.01,4,     2.37,2
 06AQANTVIII_2,  SR04,   154,  1,     11,     11,2,19890915,2010,-64.1167, -47.9500, 4054,   1997.5,  -0.0877,  34.6629,3,-999.0000,9,   -999.0,9,  -999.00,9,  -999.00,9,  -999.00,9,  -999.00,9
 06AQANTVIII_2,  SR04,   154,  1,      8,      8,2,19890915,2010,-64.1167, -47.9500, 4054,   2502.0,  -0.2087,  34.6605,3,  34.6620,2,    231.2,2,   122.21,2,    32.70,2,    -0.01,4,     2.39,2
 06AQANTVIII_2,  SR04,   154,  1,      9,      9,2,19890915,2010,-64.1167, -47.9500, 4054,   2502.9,  -0.2087,  34.6600,3,-999.0000,9,   -999.0,9,  -999.00,9,  -999.00,9,  -999.00,9,  -999.00,9
 06AQANTVIII_2,  SR04,   154,  1,      7,      7,2,19890915,2010,-64.1167, -47.9500, 4054,   3001.2,  -0.2638,  34.6559,3,  34.6600,2,    236.4,2,   119.95,2,    32.50,2,    -0.01,4,     2.37,2
 06AQANTVIII_2,  SR04,   154,  1,      5,      5,2,19890915,2010,-64.1167, -47.9500, 4054,   3504.0,  -0.3018,  34.6564,3,-999.0000,9,   -999.0,9,  -999.00,9,  -999.00,9,  -999.00,9,  -999.00,9
 06AQANTVIII_2,  SR04,   154,  1,      6,      6,2,19890915,2010,-64.1167, -47.9500, 4054,   3504.4,  -0.3008,  34.6564,3,  34.6590,2,    239.6,2,   120.05,2,    32.50,2,    -0.01,4,     2.32,2
 06AQANTVIII_2,  SR04,   154,  1,      3,      3,2,19890915,2010,-64.1167, -47.9500, 4054,   4004.6,  -0.3859,  34.6514,3,-999.0000,9,   -999.0,9,  -999.00,9,  -999.00,9,  -999.00,9,  -999.00,9
 06AQANTVIII_2,  SR04,   154,  1,      4,      4,2,19890915,2010,-64.1167, -47.9500, 4054,   4004.9,  -0.3839,  34.6503,3,  34.6520,2,    244.4,2,   121.72,2,    32.40,2,    -0.01,4,     2.37,2
 06AQANTVIII_2,  SR04,   154,  1,      2,      2,2,19890915,2010,-64.1167, -47.9500, 4054,   4099.6,  -0.5921,  34.6371,3,  34.6360,2,    259.8,2,   101.09,2,    31.80,2,    -0.01,4,     2.31,2
 06AQANTVIII_2,  SR04,   154,  1,      1,      1,2,19890915,2010,-64.1167, -47.9500, 4054,   4135.1,  -0.7111,  34.6308,3,  34.6330,2,    266.4,2,    93.53,2,    31.50,2,    -0.01,4,     2.23,2