BOTTLE,20221004CCHSIOAMB
EXPOCODE,SECT_ID,STNNBR,CASTNO,SAMPNO,BTLNBR,BTLNBR_FLAG_W,DATE,TIME,LATITUDE,LONGITUDE,DEPTH,CTDPRS,CTDTMP,CTDSAL,CTDSAL_FLAG_W,SALNTY,SALNTY_FLAG_W,OXYGEN,OXYGEN_FLAG_W,SILCAT,SILCAT_FLAG_W,NITRAT,NITRAT_FLAG_W,NITRIT,NITRIT_FLAG_W,PHSPHT,PHSPHT_FLAG_W
,,,,,,,,,,,,DBAR,ITS-90,PSS-78,,PSS-78,,UMOL/KG,,UMOL/KG,,UMOL/KG,,UMOL/KG,,UMOL/KG,
 06AQANTVIII_2,  SR04,   187,  1,     24,     24,2,19891008,1211,-70.9667, -11.8333, 1146,      8.6,  -1.8706,  34.3976,3,-999.0000,9,   -999.0,9,  -999.00,9,  -999.00,9,  -999.00,9,  -999.00,9
 06AQANTVIII_2,  SR04,   187,  1,     23,     23,2,19891008,1211,-70.9667, -11.8333, 1146,     18.8,  -1.8696,  34.3954,3,-999.0000,9,   -999.0,9,  -999.00,9,  -999.00,9,  -999.00,9,  -999.00,9
 06AQANTVIII_2,  SR04,   187,  1,     22,     22,2,19891008,1211,-70.9667, -11.8333, 1146,     18.9,  -1.8706,  34.3965,3,  34.3590,4,    323.0,2,    58.76,2,    29.90,2,     0.00,2,     2.06,2
 06AQANTVIII_2,  SR04,   187,  1,     21,     21,2,19891008,1211,-70.9667, -11.8333, 1146,     37.8,  -1.8696,  34.3970,3,-999.0000,9,   -999.0,9,  -999.00,9,  -999.00,9,  -999.00,9,  -999.00,9
 06AQANTVIII_2,  SR04,   187,  1,     19,     19,2,19891008,1211,-70.9667, -11.8333, 1146,     58.2,  -1.8696,  34.3964,3,-999.0000,9,   -999.0,9,  -999.00,9,  -999.00,9,  -999.00,9,  -999.00,9
 06AQANTVIII_2,  SR04,   187,  1,     20,     20,2,19891008,1211,-70.9667, -11.8333, 1146,     58.3,  -1.8696,  34.3977,3,  34.3900,2,    324.0,2,    58.86,2,    29.90,2,     0.01,2,     2.07,2
 06AQANTVIII_2,  SR04,   187,  1,     18,     18,2,19891008,1211,-70.9667, -11.8333, 1146,     78.2,  -1.8696,  34.3974,3,-999.0000,9,   -999.0,9,  -999.00,9,  -999.00,9,  -999.00,9,  -999.00,9
 06AQANTVIII_2,  SR04,   187,  1,     17,     17,2,19891008,1211,-70.9667, -11.8333, 1146,     99.0,  -1.8686,  34.3967,3,-999.0000,9,   -999.0,9,  -999.00,9,  -999.00,9,  -999.00,9,  -999.00,9
 06AQANTVIII_2,  SR04,   187,  1,     15,     15,2,19891008,1211,-70.9667, -11.8333, 1146,    149.1,  -1.8636,  34.3961,3,-999.0000,9,   -999.0,9,  -999.00,9,  -999.00,9,  -999.00,9,  -999.00,9
 06AQANTVIII_2,  SR04,   187,  1,     16,     16,2,19891008,1211,-70.9667, -11.8333, 1146,    149.4,  -1.8636,  34.3959,3,  34.3920,2,    327.9,2,    58.86,2,    30.00,2,     0.01,2,     2.07,2
 06AQANTVIII_2,  SR04,   187,  1,     14,     14,2,19891008,1211,-70.9667, -11.8333, 1146,    199.1,  -1.8626,  34.3961,3,-999.0000,9,   -999.0,9,  -999.00,9,  -999.00,9,  -999.00,9,  -999.00,9
 06AQANTVIII_2,  SR04,   187,  1,     12,     12,2,19891008,1211,-70.9667, -11.8333, 1146,    302.5,  -1.8556,  34.3952,3,  34.3900,2,    323.2,2,    58.96,2,    30.10,2,     0.00,2,     2.08,2
 06AQANTVIII_2,  SR04,   187,  1,     13,     13,2,19891008,1211,-70.9667, -11.8333, 1146,    302.8,  -1.8556,  34.3950,3,  34.3970,2,    323.9,2,    58.86,2,    30.00,2,     0.01,2,     2.07,2
 06AQANTVIII_2,  SR04,   187,  1,     10,     10,2,19891008,1211,-70.9667, -11.8333, 1146,    398.7,  -1.8586,  34.3954,3,  34.3790,4,    324.3,2,    58.96,2,    29.90,2,     0.02,2,     2.09,2
 06AQANTVIII_2,  SR04,   187,  1,     11,     11,2,19891008,1211,-70.9667, -11.8333, 1146,    399.6,  -1.8576,  34.3951,3,-999.0000,9,   -999.0,9,  -999.00,9,  -999.00,9,  -999.00,9,  -999.00,9
 06AQANTVIII_2,  SR04,   187,  1,      9,      9,2,19891008,1211,-70.9667, -11.8333, 1146,    448.9,  -1.8456,  34.3985,3,  34.3940,2,    322.8,2,    59.25,2,    30.10,2,     0.02,2,     2.09,2
 06AQANTVIII_2,  SR04,   187,  1,      8,      8,2,19891008,1211,-70.9667, -11.8333, 1146,    511.0,  -1.0060,  34.4803,3,  34.4730,2,    279.7,2,    71.53,2,    31.20,2,     0.02,2,     2.17,2
 06AQANTVIII_2,  SR04,   187,  1,      7,      7,2,19891008,1211,-70.9667, -11.8333, 1146,    599.8,   0.1235,  34.5909,3,-999.0000,9,   -999.0,9,  -999.00,9,  -999.00,9,  -999.00,9,  -999.00,9
 06AQANTVIII_2,  SR04,   187,  1,      5,      5,2,19891008,1211,-70.9667, -11.8333, 1146,    789.7,   0.6203,  34.6530,3,-999.0000,9,   -999.0,9,  -999.00,9,  -999.00,9,  -999.00,9,  -999.00,9
 06AQANTVIII_2,  SR04,   187,  1,      6,      6,2,19891008,1211,-70.9667, -11.8333, 1146,    790.5,   0.6302,  34.6582,3,  34.6500,2,    212.9,2,    96.18,2,    32.30,2,     0.00,2,     2.27,2
 06AQANTVIII_2,  SR04,   187,  1,      3,      3,2,19891008,1211,-70.9667, -11.8333, 1146,    999.4,   0.5374,  34.6681,3,-999.0000,9,   -999.0,9,  -999.00,9,  -999.00,9,  -999.00,9,  -999.00,9
 06AQANTVIII_2,  SR04,   187,  1,      4,      4,2,19891008,1211,-70.9667, -11.8333, 1146,   1022.1,   0.5294,  34.6694,3,  34.6620,2,    211.4,2,   104.43,2,    32.40,2,     0.00,2,     2.26,2
 06AQANTVIII_2,  SR04,   187,  1,      2,      2,2,19891008,1211,-70.9667, -11.8333, 1146,   1127.0,   0.4174,  34.6701,3,  34.6660,2,    213.7,2,   110.52,2,    32.70,2,     0.01,2,     2.34,2
 06AQANTVIII_2,  SR04,   187,  1,      1,      1,2,19891008,1211,-70.9667, -11.8333, 1146,   1172.1,   0.2984,  34.6694,3,  34.6660,2,    214.0,2,   113.37,2,    32.80,2,     0.01,2,     2.32,2
 06AQANTVIII_2,  SR04,   188,  1,     18,     18,2,19891008,1654,-71.0167, -11.6500,  402,     19.5,  -1.8905,  34.3857,3,  34.3850,2,    328.6,2,    58.76,2,    30.10,2,     0.02,2,     2.05,2
 06AQANTVIII_2,  SR04,   188,  1,     17,     17,2,19891008,1654,-71.0167, -11.6500,  402,     39.9,  -1.8895,  34.3853,3,  34.3860,2,    328.5,2,    58.76,2,    30.00,2,     0.02,2,     2.06,2
 06AQANTVIII_2,  SR04,   188,  1,     16,     16,2,19891008,1654,-71.0167, -11.6500,  402,     59.7,  -1.8895,  34.3864,3,  34.3860,2,    328.4,2,    58.56,2,    30.00,2,     0.03,2,     2.04,2
 06AQANTVIII_2,  SR04,   188,  1,     14,     14,2,19891008,1654,-71.0167, -11.6500,  402,     79.9,  -1.8895,  34.3859,3,-999.0000,9,   -999.0,9,  -999.00,9,  -999.00,9,  -999.00,9,  -999.00,9
 06AQANTVIII_2,  SR04,   188,  1,     10,     10,2,19891008,1654,-71.0167, -11.6500,  402,     79.9,  -1.8875,  34.3850,3,-999.0000,9,   -999.0,9,  -999.00,9,  -999.00,9,  -999.00,9,  -999.00,9
 06AQANTVIII_2,  SR04,   188,  1,      9,      9,2,19891008,1654,-71.0167, -11.6500,  402,     79.9,  -1.8885,  34.3861,3,-999.0000,9,   -999.0,9,  -999.00,9,  -999.00,9,  -999.00,9,  -999.00,9
 06AQANTVIII_2,  SR04,   188,  1,     15,     15,2,19891008,1654,-71.0167, -11.6500,  402,     80.0,  -1.8885,  34.3847,3,-999.0000,9,   -999.0,9,  -999.00,9,  -999.00,9,  -999.00,9,  -999.00,9
 06AQANTVIII_2,  SR04,   188,  1,     13,     13,2,19891008,1654,-71.0167, -11.6500,  402,     80.0,  -1.8885,  34.3861,3,-999.0000,9,   -999.0,9,  -999.00,9,  -999.00,9,  -999.00,9,  -999.00,9
 06AQANTVIII_2,  SR04,   188,  1,     12,     12,2,19891008,1654,-71.0167, -11.6500,  402,     80.0,  -1.8885,  34.3861,3,-999.0000,9,   -999.0,9,  -999.00,9,  -999.00,9,  -999.00,9,  -999.00,9
 06AQANTVIII_2,  SR04,   188,  1,     11,     11,2,19891008,1654,-71.0167, -11.6500,  402,     80.0,  -1.8885,  34.3861,3,-999.0000,9,   -999.0,9,  -999.00,9,  -999.00,9,  -999.00,9,  -999.00,9
 06AQANTVIII_2,  SR04,   188,  1,      8,      8,2,19891008,1654,-71.0167, -11.6500,  402,    100.8,  -1.8875,  34.3854,3,  34.3860,2,    330.5,2,    58.56,2,    30.00,2,     0.02,2,     2.06,2
 06AQANTVIII_2,  SR04,   188,  1,      7,      7,2,19891008,1654,-71.0167, -11.6500,  402,    151.2,  -1.8815,  34.3863,3,  34.3870,2,    329.0,2,    58.86,2,    30.00,2,     0.01,2,     2.04,2
 06AQANTVIII_2,  SR04,   188,  1,      6,      6,2,19891008,1654,-71.0167, -11.6500,  402,    200.2,  -1.8785,  34.3874,3,  34.3870,2,    327.3,2,    58.86,2,    30.10,2,     0.02,2,     2.04,2
 06AQANTVIII_2,  SR04,   188,  1,      5,      5,2,19891008,1654,-71.0167, -11.6500,  402,    250.9,  -1.8765,  34.3872,3,  34.3890,2,    326.6,2,    58.96,2,    30.10,2,     0.02,2,     2.05,2
 06AQANTVIII_2,  SR04,   188,  1,      4,      4,2,19891008,1654,-71.0167, -11.6500,  402,    301.8,  -1.8736,  34.3872,3,  34.3890,2,    327.0,2,    58.96,2,    30.00,2,     0.01,2,     2.05,2
 06AQANTVIII_2,  SR04,   188,  1,      3,      3,2,19891008,1654,-71.0167, -11.6500,  402,    351.2,  -1.8716,  34.3880,3,  34.3870,2,    327.0,2,    58.96,2,    30.00,2,     0.03,2,     2.05,2
 06AQANTVIII_2,  SR04,   188,  1,      2,      2,2,19891008,1654,-71.0167, -11.6500,  402,    380.3,  -1.8745,  34.3867,3,  34.3890,2,   -999.0,9,    58.96,2,    30.10,2,     0.03,2,     2.05,2
 06AQANTVIII_2,  SR04,   188,  1,      1,      1,2,19891008,1654,-71.0167, -11.6500,  402,    380.3,  -1.8736,  34.3869,3,  34.3890,2,    328.0,2,    58.96,2,    30.00,2,     0.01,2,     2.04,2
 06AQANTVIII_2,  SR04,   189,  1,     14,     14,2,19891008,1900,-71.0667, -11.3667,  507,      4.2,  -1.9055,  34.3551,3,-999.0000,9,    331.4,2,    58.17,2,    29.70,2,     0.01,2,     2.04,2
 06AQANTVIII_2,  SR04,   189,  1,     13,     13,2,19891008,1900,-71.0667, -11.3667,  507,      4.2,  -1.9055,  34.3551,3,  34.3560,2,    333.0,2,    58.07,2,    29.80,2,     0.01,2,     2.05,2
 06AQANTVIII_2,  SR04,   189,  1,     12,     12,2,19891008,1900,-71.0667, -11.3667,  507,     18.9,  -1.9055,  34.3560,3,  34.3530,2,    332.2,2,    58.07,2,    29.80,2,     0.01,2,     2.04,2
 06AQANTVIII_2,  SR04,   189,  1,     11,     11,2,19891008,1900,-71.0667, -11.3667,  507,     48.1,  -1.8985,  34.3552,3,  34.3530,2,    330.7,2,    58.17,2,    29.90,2,     0.00,2,     2.06,2
 06AQANTVIII_2,  SR04,   189,  1,     10,     10,2,19891008,1900,-71.0667, -11.3667,  507,     73.6,  -1.8985,  34.3560,3,  34.3550,2,    330.1,2,    58.07,2,    29.90,2,     0.01,2,     2.05,2
 06AQANTVIII_2,  SR04,   189,  1,      9,      9,2,19891008,1900,-71.0667, -11.3667,  507,     98.8,  -1.8945,  34.3592,3,  34.3580,2,    331.1,2,    58.07,2,    29.90,2,     0.01,2,     2.05,2
 06AQANTVIII_2,  SR04,   189,  1,      8,      8,2,19891008,1900,-71.0667, -11.3667,  507,    148.9,  -1.8935,  34.3580,3,  34.3550,2,    330.7,2,    58.17,2,    29.90,2,     0.02,2,     2.06,2
 06AQANTVIII_2,  SR04,   189,  1,      7,      7,2,19891008,1900,-71.0667, -11.3667,  507,    198.0,  -1.8945,  34.3591,3,  34.3580,2,    331.0,2,    58.17,2,    29.90,2,     0.02,2,     2.05,2
 06AQANTVIII_2,  SR04,   189,  1,      6,      6,2,19891008,1900,-71.0667, -11.3667,  507,    248.7,  -1.8925,  34.3623,3,  34.3610,2,    330.8,2,    58.17,2,    29.90,2,     0.02,2,     2.05,2
 06AQANTVIII_2,  SR04,   189,  1,      5,      5,2,19891008,1900,-71.0667, -11.3667,  507,    298.9,  -1.8885,  34.3632,3,  34.3620,2,    329.6,2,    58.27,2,    29.90,2,     0.01,2,     2.05,2
 06AQANTVIII_2,  SR04,   189,  1,      4,      4,2,19891008,1900,-71.0667, -11.3667,  507,    348.6,  -1.8835,  34.3632,3,  34.3640,2,    330.5,2,    58.27,2,    29.90,2,     0.00,2,     2.05,2
 06AQANTVIII_2,  SR04,   189,  1,      3,      3,2,19891008,1900,-71.0667, -11.3667,  507,    398.5,  -1.8855,  34.3683,3,  34.3710,2,    329.6,2,    58.27,2,    29.90,2,     0.01,2,     2.05,2
 06AQANTVIII_2,  SR04,   189,  1,      2,      2,2,19891008,1900,-71.0667, -11.3667,  507,    450.4,  -1.8845,  34.3688,3,  34.3720,2,    329.7,2,    58.27,2,    29.90,2,     0.01,2,     2.04,2
 06AQANTVIII_2,  SR04,   189,  1,      1,      1,2,19891008,1900,-71.0667, -11.3667,  507,    501.0,  -1.8805,  34.3738,3,  34.3810,2,    329.0,2,    58.37,2,    30.00,2,     0.01,2,     2.04,2
 06AQANTVIII_2,  SR02,   192,  1,     17,     17,2,19891011,2235,-70.4167,  -8.2167,  455,     18.8,  -1.8711,  34.3601,3,  34.4630,3,    323.1,2,    60.24,2,    30.20,2,     0.05,2,     2.07,2
 06AQANTVIII_2,  SR02,   192,  1,     12,     12,2,19891011,2235,-70.4167,  -8.2167,  455,     39.0,  -1.8671,  34.3618,3,  34.4470,3,    323.9,2,    60.33,2,    30.20,2,     0.03,2,     2.08,2
 06AQANTVIII_2,  SR02,   192,  1,     11,     11,2,19891011,2235,-70.4167,  -8.2167,  455,     59.1,  -1.8631,  34.3663,3,  34.4490,3,    324.9,2,    60.04,2,    30.20,2,     0.03,2,     2.05,2
 06AQANTVIII_2,  SR02,   192,  1,     10,     10,2,19891011,2235,-70.4167,  -8.2167,  455,     79.9,  -1.8621,  34.3697,3,  34.4210,3,    323.9,2,    59.94,2,    30.10,2,     0.04,2,     2.07,2
 06AQANTVIII_2,  SR02,   192,  1,      9,      9,2,19891011,2235,-70.4167,  -8.2167,  455,    100.2,  -1.8621,  34.3704,3,  34.4520,3,    323.7,2,    59.94,2,    30.20,2,     0.04,2,     2.08,2
 06AQANTVIII_2,  SR02,   192,  1,      8,      8,2,19891011,2235,-70.4167,  -8.2167,  455,    147.3,  -1.8611,  34.3708,3,  34.4500,3,    323.7,2,    59.74,2,    30.10,2,     0.03,2,     2.06,2
 06AQANTVIII_2,  SR02,   192,  1,      7,      7,2,19891011,2235,-70.4167,  -8.2167,  455,    200.5,  -1.8591,  34.3745,3,  34.4570,3,    324.1,2,    59.45,2,    30.10,2,     0.03,2,     2.06,2
 06AQANTVIII_2,  SR02,   192,  1,      6,      6,2,19891011,2235,-70.4167,  -8.2167,  455,    252.1,  -1.8581,  34.3736,3,  34.3760,2,    323.7,2,    59.74,2,    30.10,2,     0.04,2,     2.08,2
 06AQANTVIII_2,  SR02,   192,  1,      5,      5,2,19891011,2235,-70.4167,  -8.2167,  455,    299.4,  -1.8571,  34.3743,3,  34.3770,2,    323.9,2,    59.55,2,    30.10,2,     0.03,2,     2.06,2
 06AQANTVIII_2,  SR02,   192,  1,      4,      4,2,19891011,2235,-70.4167,  -8.2167,  455,    362.5,  -1.8401,  34.3758,3,  34.3780,2,    323.5,2,    59.74,2,    30.10,2,     0.03,2,     2.07,2
 06AQANTVIII_2,  SR02,   192,  1,      3,      3,2,19891011,2235,-70.4167,  -8.2167,  455,    400.4,  -1.8161,  34.3826,3,  34.3930,3,    316.9,2,    61.22,2,    30.20,2,     0.04,2,     2.08,2
 06AQANTVIII_2,  SR02,   192,  1,      2,      2,2,19891011,2235,-70.4167,  -8.2167,  455,    441.9,  -1.0817,  34.4671,3,  34.4720,2,    285.9,2,    70.55,2,    30.90,2,     0.04,2,     2.12,2
 06AQANTVIII_2,  SR02,   192,  1,      1,      1,2,19891011,2235,-70.4167,  -8.2167,  455,    457.5,  -0.8436,  34.4954,3,  34.4860,2,    280.3,2,    72.81,2,    31.00,2,     0.02,2,     2.14,2
 06AQANTVIII_2,  SR02,   193,  1,     17,     17,2,19891012,0030,-70.3000,  -8.1667, 1159,     19.2,  -1.8691,  34.4052,3,  34.5830,4,    323.3,2,    59.15,2,    30.10,2,     0.02,2,     2.08,2
 06AQANTVIII_2,  SR02,   193,  1,     12,     12,2,19891012,0030,-70.3000,  -8.1667, 1159,     80.1,  -1.8611,  34.4020,3,  34.5760,4,    322.7,2,    59.15,2,    30.00,2,     0.02,2,     2.07,2
 06AQANTVIII_2,  SR02,   193,  1,     11,     11,2,19891012,0030,-70.3000,  -8.1667, 1159,    200.3,  -1.8251,  34.4093,3,  34.5670,4,    320.8,2,    59.64,2,    30.20,2,     0.03,2,     2.09,2
 06AQANTVIII_2,  SR02,   193,  1,     10,     10,2,19891012,0030,-70.3000,  -8.1667, 1159,    336.0,  -1.6840,  34.4223,3,  34.5530,4,    303.3,2,    63.97,2,    30.50,2,     0.02,2,     2.11,2
 06AQANTVIII_2,  SR02,   193,  1,      9,      9,2,19891012,0030,-70.3000,  -8.1667, 1159,    370.6,  -1.6169,  34.4463,3,  34.5860,4,    304.2,2,    63.67,2,    30.60,2,     0.02,2,     2.12,2
 06AQANTVIII_2,  SR02,   193,  1,      8,      8,2,19891012,0030,-70.3000,  -8.1667, 1159,    504.6,  -0.3586,  34.5534,3,  34.6550,4,    250.2,2,    80.17,2,    31.70,2,     0.02,2,     2.21,2
 06AQANTVIII_2,  SR02,   193,  1,      7,      7,2,19891012,0030,-70.3000,  -8.1667, 1159,    599.9,   0.0844,  34.6020,3,  34.7050,4,    233.5,2,    86.65,2,    32.00,2,     0.02,2,     2.23,2
 06AQANTVIII_2,  SR02,   193,  1,      6,      6,2,19891012,0030,-70.3000,  -8.1667, 1159,    700.7,   0.2803,  34.6215,3,  34.7330,4,    224.8,2,    90.19,2,    32.10,2,     0.01,2,     2.24,2
 06AQANTVIII_2,  SR02,   193,  1,      5,      5,2,19891012,0030,-70.3000,  -8.1667, 1159,    801.3,   0.4133,  34.6383,3,  34.7550,4,    218.5,2,    93.23,2,    32.10,2,     0.02,2,     2.25,2
 06AQANTVIII_2,  SR02,   193,  1,      4,      4,2,19891012,0030,-70.3000,  -8.1667, 1159,    905.7,   0.5523,  34.6620,3,  34.7720,4,    213.3,2,    99.72,2,    32.20,2,     0.02,2,     2.27,2
 06AQANTVIII_2,  SR02,   193,  1,      3,      3,2,19891012,0030,-70.3000,  -8.1667, 1159,   1051.5,   0.4663,  34.6730,3,  34.7770,4,    212.4,2,   107.08,2,    32.40,2,     0.02,2,     2.29,2
 06AQANTVIII_2,  SR02,   193,  1,      2,      2,2,19891012,0030,-70.3000,  -8.1667, 1159,   1110.2,   0.4403,  34.6718,3,  34.7710,4,    212.7,2,   108.36,2,    32.50,2,     0.02,2,     2.28,2
 06AQANTVIII_2,  SR02,   193,  1,      1,      1,2,19891012,0030,-70.3000,  -8.1667, 1159,   1160.8,   0.4243,  34.6731,3,  34.7780,4,    213.5,2,   109.44,2,    32.60,2,     0.01,2,     2.28,2