BOTTLE,20221004CCHSIOAMB
EXPOCODE,SECT_ID,STNNBR,CASTNO,SAMPNO,BTLNBR,BTLNBR_FLAG_W,DATE,TIME,LATITUDE,LONGITUDE,DEPTH,CTDPRS,CTDTMP,CTDSAL,CTDSAL_FLAG_W,SALNTY,SALNTY_FLAG_W,OXYGEN,OXYGEN_FLAG_W,SILCAT,SILCAT_FLAG_W,NITRAT,NITRAT_FLAG_W,NITRIT,NITRIT_FLAG_W,PHSPHT,PHSPHT_FLAG_W
,,,,,,,,,,,,DBAR,ITS-90,PSS-78,,PSS-78,,UMOL/KG,,UMOL/KG,,UMOL/KG,,UMOL/KG,,UMOL/KG,
 06AQANTVIII_2,  SR04,   171,  1,     24,     24,2,19890930,1830,-66.7167, -27.2333, 4812,      8.1,  -1.8426,  34.5011,3,  34.5000,2,    307.9,2,    70.06,2,    28.20,2,     0.29,2,     2.01,2
 06AQANTVIII_2,  SR04,   171,  1,     23,     23,2,19890930,1830,-66.7167, -27.2333, 4812,      8.1,  -1.8406,  34.5002,3,-999.0000,9,   -999.0,9,  -999.00,9,  -999.00,9,  -999.00,9,  -999.00,9
 06AQANTVIII_2,  SR04,   171,  1,     22,     22,2,19890930,1830,-66.7167, -27.2333, 4812,     18.1,  -1.8376,  34.5001,3,-999.0000,9,   -999.0,9,  -999.00,9,  -999.00,9,  -999.00,9,  -999.00,9
 06AQANTVIII_2,  SR04,   171,  1,     20,     20,2,19890930,1830,-66.7167, -27.2333, 4812,     37.2,  -1.8466,  34.5010,3,  34.5020,2,    306.3,2,    70.25,2,    28.20,2,     0.29,2,     2.02,2
 06AQANTVIII_2,  SR04,   171,  1,     21,     21,2,19890930,1830,-66.7167, -27.2333, 4812,     37.3,  -1.8456,  34.5012,3,-999.0000,9,   -999.0,9,  -999.00,9,  -999.00,9,  -999.00,9,  -999.00,9
 06AQANTVIII_2,  SR04,   171,  1,     19,     19,2,19890930,1830,-66.7167, -27.2333, 4812,     57.7,  -1.8456,  34.5020,3,-999.0000,9,   -999.0,9,  -999.00,9,  -999.00,9,  -999.00,9,  -999.00,9
 06AQANTVIII_2,  SR04,   171,  1,     18,     18,2,19890930,1830,-66.7167, -27.2333, 4812,     77.1,  -1.8306,  34.5014,3,-999.0000,9,   -999.0,9,  -999.00,9,  -999.00,9,  -999.00,9,  -999.00,9
 06AQANTVIII_2,  SR04,   171,  1,     16,     16,2,19890930,1830,-66.7167, -27.2333, 4812,     97.1,  -1.7995,  34.4943,3,  34.5100,3,    298.2,2,    72.12,2,  -999.00,9,     0.26,2,     2.04,2
 06AQANTVIII_2,  SR04,   171,  1,     17,     17,2,19890930,1830,-66.7167, -27.2333, 4812,     97.2,  -1.8155,  34.5002,3,-999.0000,9,   -999.0,9,  -999.00,9,  -999.00,9,  -999.00,9,  -999.00,9
 06AQANTVIII_2,  SR04,   171,  1,     15,     15,2,19890930,1830,-66.7167, -27.2333, 4812,    118.4,  -0.7117,  34.5790,3,-999.0000,9,   -999.0,9,  -999.00,9,  -999.00,9,  -999.00,9,  -999.00,9
 06AQANTVIII_2,  SR04,   171,  1,     14,     14,2,19890930,1830,-66.7167, -27.2333, 4812,    177.2,   0.3284,  34.6670,3,-999.0000,9,   -999.0,9,  -999.00,9,  -999.00,9,  -999.00,9,  -999.00,9
 06AQANTVIII_2,  SR04,   171,  1,     13,     13,2,19890930,1830,-66.7167, -27.2333, 4812,    276.0,   0.4614,  34.6811,3,-999.0000,9,   -999.0,9,  -999.00,9,  -999.00,9,  -999.00,9,  -999.00,9
 06AQANTVIII_2,  SR04,   171,  1,     12,     12,2,19890930,1830,-66.7167, -27.2333, 4812,    276.0,   0.4614,  34.6784,3,  34.6780,2,    195.3,2,   109.34,2,    33.50,2,     0.01,2,     2.32,2
 06AQANTVIII_2,  SR04,   171,  1,     10,     10,2,19890930,1830,-66.7167, -27.2333, 4812,    495.6,   0.3824,  34.6886,3,  34.6760,3,    193.8,2,   119.66,2,    33.80,2,     0.02,2,     2.35,2
 06AQANTVIII_2,  SR04,   171,  1,     11,     11,2,19890930,1830,-66.7167, -27.2333, 4812,    496.3,   0.3824,  34.6882,3,-999.0000,9,   -999.0,9,  -999.00,9,  -999.00,9,  -999.00,9,  -999.00,9
 06AQANTVIII_2,  SR04,   171,  1,      8,      8,2,19890930,1830,-66.7167, -27.2333, 4812,   1001.6,   0.1635,  34.6819,3,  34.6760,2,    205.7,2,   123.29,2,    33.70,2,     0.01,2,     2.34,2
 06AQANTVIII_2,  SR04,   171,  1,      9,      9,2,19890930,1830,-66.7167, -27.2333, 4812,   1002.0,   0.1635,  34.6817,3,-999.0000,9,   -999.0,9,  -999.00,9,  -999.00,9,  -999.00,9,  -999.00,9
 06AQANTVIII_2,  SR04,   171,  1,      7,      7,2,19890930,1830,-66.7167, -27.2333, 4812,   1998.0,  -0.1674,  34.6670,3,  34.6640,2,    227.5,2,   122.80,2,    32.70,2,     0.01,2,     2.29,2
 06AQANTVIII_2,  SR04,   171,  1,      5,      5,2,19890930,1830,-66.7167, -27.2333, 4812,   3000.6,  -0.3054,  34.6629,3,-999.0000,9,   -999.0,9,  -999.00,9,  -999.00,9,  -999.00,9,  -999.00,9
 06AQANTVIII_2,  SR04,   171,  1,      6,      6,2,19890930,1830,-66.7167, -27.2333, 4812,   3001.3,  -0.3044,  34.6628,3,  34.6580,2,    236.4,2,   121.53,2,    32.40,2,     0.01,2,     2.27,2
 06AQANTVIII_2,  SR04,   171,  1,      4,      4,2,19890930,1830,-66.7167, -27.2333, 4812,   4006.8,  -0.3915,  34.6597,3,  34.6550,2,    243.6,2,   121.62,2,    32.10,2,     0.00,2,     2.26,2
 06AQANTVIII_2,  SR04,   171,  1,      3,      3,2,19890930,1830,-66.7167, -27.2333, 4812,   4504.7,  -0.4706,  34.6531,3,  34.6500,2,    248.5,2,   117.01,2,    32.00,2,     0.01,2,     2.22,2
 06AQANTVIII_2,  SR04,   171,  1,      2,      2,2,19890930,1830,-66.7167, -27.2333, 4812,   4756.5,  -0.5026,  34.6495,3,  34.6480,2,    248.9,2,   122.71,2,    32.20,2,     0.03,2,     2.22,2
 06AQANTVIII_2,  SR04,   171,  1,      1,      1,2,19890930,1830,-66.7167, -27.2333, 4812,   4910.8,  -0.5666,  34.6376,3,  34.6380,2,    253.2,2,   118.97,2,    32.10,2,     0.01,2,     2.25,2
 06AQANTVIII_2,  SR04,   172,  1,     24,     24,2,19891001,1830,-67.0000, -26.0333, 4778,      9.2,  -1.8496,  34.5017,3,  34.4990,2,    304.2,2,    70.06,2,    28.20,2,     0.30,2,     2.02,2
 06AQANTVIII_2,  SR04,   172,  1,     23,     23,2,19891001,1830,-67.0000, -26.0333, 4778,     48.8,  -1.8446,  34.5007,3,  34.4990,2,    304.4,2,    70.06,2,    28.10,2,     0.29,2,     2.00,2
 06AQANTVIII_2,  SR04,   172,  1,     22,     22,2,19891001,1830,-67.0000, -26.0333, 4778,     97.6,  -1.8386,  34.4981,3,  34.4990,2,    304.0,2,    70.06,2,    28.20,2,     0.29,2,     2.02,2
 06AQANTVIII_2,  SR04,   172,  1,     21,     21,2,19891001,1830,-67.0000, -26.0333, 4778,    147.3,  -1.7805,  34.5071,3,  34.5210,3,    292.2,2,    74.08,2,    28.50,2,     0.27,2,     2.08,2
 06AQANTVIII_2,  SR04,   172,  1,     20,     20,2,19891001,1830,-67.0000, -26.0333, 4778,    177.3,   0.1785,  34.6594,3,  34.6560,2,    204.2,2,   104.24,2,    33.10,2,     0.02,2,     2.30,2
 06AQANTVIII_2,  SR04,   172,  1,     19,     19,2,19891001,1830,-67.0000, -26.0333, 4778,    236.7,   0.2234,  34.6673,3,  34.6660,2,    199.9,2,   107.08,2,    33.20,2,     0.01,2,     2.33,2
 06AQANTVIII_2,  SR04,   172,  1,     18,     18,2,19891001,1830,-67.0000, -26.0333, 4778,    308.0,   0.4754,  34.6832,3,  34.6810,2,    194.1,2,   112.19,2,    33.50,2,     0.01,2,     2.35,2
 06AQANTVIII_2,  SR04,   172,  1,     17,     17,2,19891001,1830,-67.0000, -26.0333, 4778,    496.0,   0.3824,  34.6866,3,  34.6840,2,    193.0,2,   119.85,2,    33.80,2,     0.01,2,     2.37,2
 06AQANTVIII_2,  SR04,   172,  1,     16,     16,2,19891001,1830,-67.0000, -26.0333, 4778,    745.5,   0.2674,  34.6836,3,  34.6810,2,    197.6,2,   122.90,2,    33.70,2,     0.01,2,     2.36,2
 06AQANTVIII_2,  SR04,   172,  1,     15,     15,2,19891001,1830,-67.0000, -26.0333, 4778,    994.7,   0.1615,  34.6781,3,  34.6770,2,    204.7,2,   124.08,2,    33.30,2,     0.01,2,     2.35,2
 06AQANTVIII_2,  SR04,   172,  1,     14,     14,2,19891001,1830,-67.0000, -26.0333, 4778,   1245.1,   0.0605,  34.6749,3,  34.6730,2,    211.6,2,   123.98,2,    33.10,2,     0.01,2,     2.34,2
 06AQANTVIII_2,  SR04,   172,  1,     13,     13,2,19891001,1830,-67.0000, -26.0333, 4778,   1495.9,  -0.0272,  34.6693,3,  34.6690,2,    217.3,2,   123.69,2,    32.90,2,     0.01,2,     2.31,2
 06AQANTVIII_2,  SR04,   172,  1,     12,     12,2,19891001,1830,-67.0000, -26.0333, 4778,   2001.6,  -0.1614,  34.6663,3,  34.6630,2,    226.7,2,   123.20,2,    32.70,2,     0.01,2,     2.31,2
 06AQANTVIII_2,  SR04,   172,  1,     11,     11,2,19891001,1830,-67.0000, -26.0333, 4778,   2499.6,  -0.2503,  34.6617,3,  34.6600,2,    233.2,2,   122.41,2,    32.40,2,     0.01,2,     2.30,2
 06AQANTVIII_2,  SR04,   172,  1,     10,     10,2,19891001,1830,-67.0000, -26.0333, 4778,   3003.0,  -0.3064,  34.6573,3,  34.6560,2,    235.7,2,   121.92,2,    32.30,2,     0.01,2,     2.25,2
 06AQANTVIII_2,  SR04,   172,  1,      9,      9,2,19891001,1830,-67.0000, -26.0333, 4778,   3502.0,  -0.3544,  34.6535,3,  34.6550,2,    240.3,2,   121.13,2,    32.20,2,     0.01,2,     2.26,2
 06AQANTVIII_2,  SR04,   172,  1,      8,      8,2,19891001,1830,-67.0000, -26.0333, 4778,   4009.0,  -0.3925,  34.6520,3,  34.6520,2,    243.9,2,   121.92,2,    32.20,2,     0.01,2,     2.26,2
 06AQANTVIII_2,  SR04,   172,  1,      7,      7,2,19891001,1830,-67.0000, -26.0333, 4778,   4255.9,  -0.4275,  34.6482,3,  34.6510,2,    245.9,2,   119.27,2,    32.10,2,     0.01,2,     2.27,2
 06AQANTVIII_2,  SR04,   172,  1,      6,      6,2,19891001,1830,-67.0000, -26.0333, 4778,   4506.4,  -0.4786,  34.6451,3,  34.6500,2,    248.6,2,   116.62,2,    32.10,2,     0.01,2,     2.25,2
 06AQANTVIII_2,  SR04,   172,  1,      4,      4,2,19891001,1830,-67.0000, -26.0333, 4778,   4759.5,  -0.5176,  34.6449,3,  34.6470,2,    250.3,2,   118.97,2,    32.10,2,     0.01,2,     2.27,2
 06AQANTVIII_2,  SR04,   172,  1,      5,      5,2,19891001,1830,-67.0000, -26.0333, 4778,   4759.8,  -0.5176,  34.6448,3,  34.6460,2,    250.0,2,   118.78,2,    32.10,2,     0.01,2,     2.24,2
 06AQANTVIII_2,  SR04,   172,  1,      3,      3,2,19891001,1830,-67.0000, -26.0333, 4778,   4776.8,  -0.5226,  34.6444,3,  34.6460,2,    250.6,2,   118.29,2,    32.10,2,     0.01,2,     2.24,2
 06AQANTVIII_2,  SR04,   172,  1,      2,      2,2,19891001,1830,-67.0000, -26.0333, 4778,   4827.3,  -0.5416,  34.6403,3,  34.6430,2,    251.2,2,   117.99,2,    32.10,2,     0.01,2,     2.25,2
 06AQANTVIII_2,  SR04,   172,  1,      1,      1,2,19891001,1830,-67.0000, -26.0333, 4778,   4877.8,  -0.5696,  34.6358,3,  34.6370,2,    253.0,2,   118.38,2,    32.10,2,     0.01,2,     2.24,2
 06AQANTVIII_2,  SR04,   173,  1,     24,     24,2,19891002,0415,-67.2167, -24.8000, 4799,     10.4,  -1.8606,  34.4647,3,  34.4420,3,    291.9,2,    74.97,2,    28.80,2,     0.12,2,     2.02,2
 06AQANTVIII_2,  SR04,   173,  1,     23,     23,2,19891002,0415,-67.2167, -24.8000, 4799,     48.3,  -1.8396,  34.4938,3,  34.4890,2,    300.6,2,    71.43,2,    28.20,2,     0.11,2,     2.00,2
 06AQANTVIII_2,  SR04,   173,  1,     22,     22,2,19891002,0415,-67.2167, -24.8000, 4799,     95.2,  -1.7785,  34.5024,3,  34.4940,2,    297.9,2,    71.82,2,    28.40,2,     0.10,2,     2.01,2
 06AQANTVIII_2,  SR04,   173,  1,     21,     21,2,19891002,0415,-67.2167, -24.8000, 4799,    151.2,   0.3684,  34.6640,3,  34.6580,2,    200.9,2,   101.98,2,    33.30,2,     0.01,2,     2.27,2
 06AQANTVIII_2,  SR04,   173,  1,     20,     20,2,19891002,0415,-67.2167, -24.8000, 4799,    221.0,   0.5124,  34.6851,3,  34.6740,3,    193.7,2,   106.39,2,    33.60,2,     0.00,2,     2.29,2
 06AQANTVIII_2,  SR04,   173,  1,     19,     19,2,19891002,0415,-67.2167, -24.8000, 4799,    251.2,   0.5803,  34.6860,3,  34.6820,2,    193.9,2,   109.34,2,    33.60,2,     0.00,2,     2.31,2
 06AQANTVIII_2,  SR04,   173,  1,     18,     18,2,19891002,0415,-67.2167, -24.8000, 4799,    308.0,   0.5893,  34.6913,3,  34.6850,2,    192.6,2,   112.68,2,    33.60,2,     0.00,2,     2.30,2
 06AQANTVIII_2,  SR04,   173,  1,     17,     17,2,19891002,0415,-67.2167, -24.8000, 4799,    494.2,   0.4244,  34.6890,3,  34.6840,2,    194.3,2,   118.87,2,    33.90,2,     0.00,2,     2.32,2
 06AQANTVIII_2,  SR04,   173,  1,     16,     16,2,19891002,0415,-67.2167, -24.8000, 4799,    745.0,   0.2914,  34.6845,3,  34.6800,2,    197.5,2,   122.90,2,    34.00,2,     0.00,2,     2.34,2
 06AQANTVIII_2,  SR04,   173,  1,     15,     15,2,19891002,0415,-67.2167, -24.8000, 4799,    995.3,   0.1875,  34.6814,3,  34.6750,2,    203.5,2,   124.37,2,    33.70,2,     0.00,2,     2.33,2
 06AQANTVIII_2,  SR04,   173,  1,     14,     14,2,19891002,0415,-67.2167, -24.8000, 4799,   1245.8,   0.0865,  34.6769,3,  34.6740,2,    211.2,2,   124.37,2,    33.50,2,     0.00,2,     2.29,2
 06AQANTVIII_2,  SR04,   173,  1,     13,     13,2,19891002,0415,-67.2167, -24.8000, 4799,   1496.3,  -0.0052,  34.6734,3,  34.6690,2,    217.4,2,   124.37,2,    33.30,2,     0.00,2,     2.27,2
 06AQANTVIII_2,  SR04,   173,  1,     12,     12,2,19891002,0415,-67.2167, -24.8000, 4799,   1999.1,  -0.1463,  34.6679,3,  34.6640,2,    225.2,2,   123.69,2,    33.10,2,     0.00,2,     2.28,2
 06AQANTVIII_2,  SR04,   173,  1,     11,     11,2,19891002,0415,-67.2167, -24.8000, 4799,   2498.7,  -0.2413,  34.6613,3,  34.6600,2,    233.5,2,   122.90,2,    33.00,2,     0.00,2,     2.26,2
 06AQANTVIII_2,  SR04,   173,  1,     10,     10,2,19891002,0415,-67.2167, -24.8000, 4799,   3000.9,  -0.3004,  34.6608,3,  34.6580,2,    235.7,2,   122.12,2,    32.70,2,     0.00,2,     2.25,2
 06AQANTVIII_2,  SR04,   173,  1,      9,      9,2,19891002,0415,-67.2167, -24.8000, 4799,   3502.6,  -0.3484,  34.6557,3,  34.6550,2,    239.9,2,   121.33,2,    32.50,2,    -0.01,4,     2.23,2
 06AQANTVIII_2,  SR04,   173,  1,      8,      8,2,19891002,0415,-67.2167, -24.8000, 4799,   4005.6,  -0.3965,  34.6528,3,  34.6520,2,    243.3,2,   121.13,2,    32.50,2,    -0.01,4,     2.24,2
 06AQANTVIII_2,  SR04,   173,  1,      7,      7,2,19891002,0415,-67.2167, -24.8000, 4799,   4254.1,  -0.4335,  34.6491,3,  34.6500,2,    246.8,2,   118.58,2,    32.40,2,    -0.01,4,     2.23,2
 06AQANTVIII_2,  SR04,   173,  1,      6,      6,2,19891002,0415,-67.2167, -24.8000, 4799,   4504.2,  -0.4956,  34.6478,3,  34.6460,2,    250.8,2,   114.75,2,    32.30,2,    -0.01,4,     2.22,2
 06AQANTVIII_2,  SR04,   173,  1,      4,      4,2,19891002,0415,-67.2167, -24.8000, 4799,   4756.0,  -0.5316,  34.6461,3,  34.6450,2,   -999.0,9,   115.53,2,    32.40,2,    -0.01,4,     2.21,2
 06AQANTVIII_2,  SR04,   173,  1,      5,      5,2,19891002,0415,-67.2167, -24.8000, 4799,   4756.1,  -0.5316,  34.6448,3,  34.6450,2,    252.7,2,   115.53,2,    32.40,2,    -0.01,4,     2.21,2
 06AQANTVIII_2,  SR04,   173,  1,      3,      3,2,19891002,0415,-67.2167, -24.8000, 4799,   4796.8,  -0.5406,  34.6441,3,  34.6430,2,    252.6,2,   114.36,2,    32.40,2,    -0.01,4,     2.21,2
 06AQANTVIII_2,  SR04,   173,  1,      2,      2,2,19891002,0415,-67.2167, -24.8000, 4799,   4842.6,  -0.5576,  34.6398,3,  34.6400,2,    253.3,2,   114.06,2,    32.30,2,    -0.01,4,     2.21,2
 06AQANTVIII_2,  SR04,   173,  1,      1,      1,2,19891002,0415,-67.2167, -24.8000, 4799,   4896.9,  -0.5737,  34.6389,3,  34.6380,2,    253.7,2,   116.32,2,    32.40,2,    -0.01,4,     2.23,2
 06AQANTVIII_2,  SR04,   174,  1,     24,     24,2,19891002,1316,-67.4167, -23.7167, 4826,     10.0,  -1.8626,  34.4788,3,  34.4850,2,    290.1,2,    74.58,2,    29.00,2,     0.27,2,     2.09,2
 06AQANTVIII_2,  SR04,   174,  1,     23,     23,2,19891002,1316,-67.4167, -23.7167, 4826,     10.0,  -1.8626,  34.4788,3,-999.0000,9,   -999.0,9,  -999.00,9,  -999.00,9,  -999.00,9,  -999.00,9
 06AQANTVIII_2,  SR04,   174,  1,     22,     22,2,19891002,1316,-67.4167, -23.7167, 4826,     19.1,  -1.8616,  34.4800,3,-999.0000,9,   -999.0,9,  -999.00,9,  -999.00,9,  -999.00,9,  -999.00,9
 06AQANTVIII_2,  SR04,   174,  1,     20,     20,2,19891002,1316,-67.4167, -23.7167, 4826,     38.0,  -1.8606,  34.4789,3,  34.4740,2,    289.8,2,    74.28,2,    28.90,2,     0.27,2,     2.09,2
 06AQANTVIII_2,  SR04,   174,  1,     21,     21,2,19891002,1316,-67.4167, -23.7167, 4826,     38.1,  -1.8596,  34.4776,3,-999.0000,9,   -999.0,9,  -999.00,9,  -999.00,9,  -999.00,9,  -999.00,9
 06AQANTVIII_2,  SR04,   174,  1,     19,     19,2,19891002,1316,-67.4167, -23.7167, 4826,     58.1,  -1.8616,  34.4807,3,-999.0000,9,   -999.0,9,  -999.00,9,  -999.00,9,  -999.00,9,  -999.00,9
 06AQANTVIII_2,  SR04,   174,  1,     18,     18,2,19891002,1316,-67.4167, -23.7167, 4826,     78.3,  -1.8486,  34.4886,3,-999.0000,9,   -999.0,9,  -999.00,9,  -999.00,9,  -999.00,9,  -999.00,9
 06AQANTVIII_2,  SR04,   174,  1,     16,     16,2,19891002,1316,-67.4167, -23.7167, 4826,     97.3,  -1.8105,  34.4821,3,  34.4740,2,    299.3,2,    70.94,2,    28.00,2,     0.30,2,     2.04,2
 06AQANTVIII_2,  SR04,   174,  1,     17,     17,2,19891002,1316,-67.4167, -23.7167, 4826,     97.5,  -1.8306,  34.4928,3,-999.0000,9,   -999.0,9,  -999.00,9,  -999.00,9,  -999.00,9,  -999.00,9
 06AQANTVIII_2,  SR04,   174,  1,     15,     15,2,19891002,1316,-67.4167, -23.7167, 4826,    177.2,   0.2654,  34.6608,3,-999.0000,9,   -999.0,9,  -999.00,9,  -999.00,9,  -999.00,9,  -999.00,9
 06AQANTVIII_2,  SR04,   174,  1,     13,     13,2,19891002,1316,-67.4167, -23.7167, 4826,    277.0,   0.5334,  34.6866,3,-999.0000,9,   -999.0,9,  -999.00,9,  -999.00,9,  -999.00,9,  -999.00,9
 06AQANTVIII_2,  SR04,   174,  1,     14,     14,2,19891002,1316,-67.4167, -23.7167, 4826,    277.2,   0.5334,  34.6865,3,  34.4860,4,    192.3,2,   112.19,2,    33.60,2,     0.03,2,     2.37,2
 06AQANTVIII_2,  SR04,   174,  1,     11,     11,2,19891002,1316,-67.4167, -23.7167, 4826,    500.0,   0.3994,  34.6866,3,-999.0000,9,   -999.0,9,  -999.00,9,  -999.00,9,  -999.00,9,  -999.00,9
 06AQANTVIII_2,  SR04,   174,  1,     12,     12,2,19891002,1316,-67.4167, -23.7167, 4826,    500.1,   0.4004,  34.6854,3,  34.6840,2,    193.5,2,   118.97,2,    34.00,2,     0.04,2,     2.39,2
 06AQANTVIII_2,  SR04,   174,  1,      9,      9,2,19891002,1316,-67.4167, -23.7167, 4826,    995.7,   0.1925,  34.6790,3,-999.0000,9,   -999.0,9,  -999.00,9,  -999.00,9,  -999.00,9,  -999.00,9
 06AQANTVIII_2,  SR04,   174,  1,     10,     10,2,19891002,1316,-67.4167, -23.7167, 4826,    996.4,   0.1925,  34.6786,3,  34.6600,4,    205.3,2,   122.90,2,    33.50,2,     0.05,2,     2.37,2
 06AQANTVIII_2,  SR04,   174,  1,      7,      7,2,19891002,1316,-67.4167, -23.7167, 4826,   2002.7,  -0.1403,  34.6671,3,-999.0000,9,   -999.0,9,  -999.00,9,  -999.00,9,  -999.00,9,  -999.00,9
 06AQANTVIII_2,  SR04,   174,  1,      8,      8,2,19891002,1316,-67.4167, -23.7167, 4826,   2003.0,  -0.1403,  34.6669,3,  34.6640,2,    226.1,2,   123.00,2,    32.90,2,     0.03,2,     2.33,2
 06AQANTVIII_2,  SR04,   174,  1,      5,      5,2,19891002,1316,-67.4167, -23.7167, 4826,   3003.4,  -0.2974,  34.6600,3,-999.0000,9,   -999.0,9,  -999.00,9,  -999.00,9,  -999.00,9,  -999.00,9
 06AQANTVIII_2,  SR04,   174,  1,      6,      6,2,19891002,1316,-67.4167, -23.7167, 4826,   3004.2,  -0.2974,  34.6609,3,  34.6570,2,    234.9,2,   121.53,2,    32.60,2,     0.03,2,     2.30,2
 06AQANTVIII_2,  SR04,   174,  1,      4,      4,2,19891002,1316,-67.4167, -23.7167, 4826,   4009.6,  -0.3735,  34.6541,3,  34.6530,2,    242.4,2,   122.12,2,  -999.00,9,     0.03,2,     2.29,2
 06AQANTVIII_2,  SR04,   174,  1,      3,      3,2,19891002,1316,-67.4167, -23.7167, 4826,   4505.7,  -0.4305,  34.6513,3,  34.6510,2,    246.0,2,   120.15,2,    32.60,2,     0.02,2,     2.27,2
 06AQANTVIII_2,  SR04,   174,  1,      2,      2,2,19891002,1316,-67.4167, -23.7167, 4826,   4755.2,  -0.4816,  34.6459,3,  34.6480,2,    248.2,2,   120.45,2,  -999.00,9,     0.04,2,     2.29,2
 06AQANTVIII_2,  SR04,   174,  1,      1,      1,2,19891002,1316,-67.4167, -23.7167, 4826,   4928.3,  -0.5496,  34.6390,3,  34.6400,2,    251.8,2,   120.45,2,    32.40,2,     0.02,2,     2.28,2