BOTTLE,20221004CCHSIOAMB
EXPOCODE,SECT_ID,STNNBR,CASTNO,SAMPNO,BTLNBR,BTLNBR_FLAG_W,DATE,TIME,LATITUDE,LONGITUDE,DEPTH,CTDPRS,CTDTMP,CTDSAL,CTDSAL_FLAG_W,SALNTY,SALNTY_FLAG_W,OXYGEN,OXYGEN_FLAG_W,SILCAT,SILCAT_FLAG_W,NITRAT,NITRAT_FLAG_W,NITRIT,NITRIT_FLAG_W,PHSPHT,PHSPHT_FLAG_W
,,,,,,,,,,,,DBAR,ITS-90,PSS-78,,PSS-78,,UMOL/KG,,UMOL/KG,,UMOL/KG,,UMOL/KG,,UMOL/KG,
 06AQANTVIII_2,  SR02,   215,  1,     24,     24,2,19891023,1955,-56.4167,   4.6333, 4375,     10.8,  -1.8061,  34.2692,3,-999.0000,9,   -999.0,9,  -999.00,9,  -999.00,9,  -999.00,9,  -999.00,9
 06AQANTVIII_2,  SR02,   215,  1,     23,     23,2,19891023,1955,-56.4167,   4.6333, 4375,     20.9,  -1.8011,  34.2680,3,  34.2670,2,    328.1,2,    70.07,2,    29.31,2,     0.30,2,     2.03,2
 06AQANTVIII_2,  SR02,   215,  1,     22,     22,2,19891023,1955,-56.4167,   4.6333, 4375,     39.5,  -1.7971,  34.2681,3,-999.0000,9,   -999.0,9,  -999.00,9,  -999.00,9,  -999.00,9,  -999.00,9
 06AQANTVIII_2,  SR02,   215,  1,     21,     21,2,19891023,1955,-56.4167,   4.6333, 4375,     61.1,  -1.7801,  34.2693,3,  34.2670,2,    327.3,2,    70.36,2,    29.31,2,     0.30,2,     2.03,2
 06AQANTVIII_2,  SR02,   215,  1,     20,     20,2,19891023,1955,-56.4167,   4.6333, 4375,     80.5,  -1.7781,  34.2670,3,-999.0000,9,   -999.0,9,  -999.00,9,  -999.00,9,  -999.00,9,  -999.00,9
 06AQANTVIII_2,  SR02,   215,  1,     19,     19,2,19891023,1955,-56.4167,   4.6333, 4375,    100.3,  -1.7240,  34.2671,3,  34.2800,3,    320.6,2,    71.44,2,    29.61,2,     0.27,2,     2.04,2
 06AQANTVIII_2,  SR02,   215,  1,     18,     18,2,19891023,1955,-56.4167,   4.6333, 4375,    120.4,  -1.3198,  34.3234,3,-999.0000,9,   -999.0,9,  -999.00,9,  -999.00,9,  -999.00,9,  -999.00,9
 06AQANTVIII_2,  SR02,   215,  1,     17,     17,2,19891023,1955,-56.4167,   4.6333, 4375,    150.9,   0.9632,  34.5826,3,  34.5820,2,    208.0,2,    88.82,2,    32.90,2,     0.02,2,     2.30,2
 06AQANTVIII_2,  SR02,   215,  1,     16,     16,2,19891023,1955,-56.4167,   4.6333, 4375,    200.9,   1.1281,  34.6415,3,-999.0000,9,   -999.0,9,  -999.00,9,  -999.00,9,  -999.00,9,  -999.00,9
 06AQANTVIII_2,  SR02,   215,  1,     15,     15,2,19891023,1955,-56.4167,   4.6333, 4375,    251.1,   1.0651,  34.6560,3,  34.6590,2,    200.9,2,    96.67,2,    32.50,2,     0.02,2,     2.28,2
 06AQANTVIII_2,  SR02,   215,  1,     14,     14,2,19891023,1955,-56.4167,   4.6333, 4375,    299.8,   1.0072,  34.6686,3,  34.6700,2,    201.7,2,    99.03,2,    32.40,2,     0.02,2,     2.27,2
 06AQANTVIII_2,  SR02,   215,  1,     13,     13,2,19891023,1955,-56.4167,   4.6333, 4375,    349.7,   1.0092,  34.6808,3,  34.6810,2,    202.0,2,   101.19,2,    32.40,2,     0.01,2,     2.26,2
 06AQANTVIII_2,  SR02,   215,  1,     12,     12,2,19891023,1955,-56.4167,   4.6333, 4375,    405.9,   0.9132,  34.6850,3,  34.6840,2,    201.7,2,   104.33,2,    32.40,2,     0.02,2,     2.27,2
 06AQANTVIII_2,  SR02,   215,  1,     11,     11,2,19891023,1955,-56.4167,   4.6333, 4375,    499.8,   0.8752,  34.6906,3,  34.6930,2,    202.7,2,   107.48,2,    32.40,2,     0.02,2,     2.26,2
 06AQANTVIII_2,  SR02,   215,  1,     10,     10,2,19891023,1955,-56.4167,   4.6333, 4375,    750.5,   0.5573,  34.6849,3,  34.6860,2,    206.0,2,   114.75,2,    32.80,2,     0.02,2,     2.30,2
 06AQANTVIII_2,  SR02,   215,  1,      9,      9,2,19891023,1955,-56.4167,   4.6333, 4375,    997.0,   0.3853,  34.6803,3,  34.6800,2,    208.1,2,   118.97,2,    33.10,2,     0.01,2,     2.32,2
 06AQANTVIII_2,  SR02,   215,  1,      8,      8,2,19891023,1955,-56.4167,   4.6333, 4375,   1499.6,   0.1234,  34.6707,3,  34.6710,2,    214.1,2,   123.10,2,    33.20,2,     0.01,2,     2.34,2
 06AQANTVIII_2,  SR02,   215,  1,      7,      7,2,19891023,1955,-56.4167,   4.6333, 4375,   1996.7,  -0.0436,  34.6628,3,  34.6660,2,    227.3,2,   124.87,2,    33.00,2,     0.01,2,     2.32,2
 06AQANTVIII_2,  SR02,   215,  1,      6,      6,2,19891023,1955,-56.4167,   4.6333, 4375,   2496.9,  -0.1666,  34.6581,3,  34.6590,2,    231.2,2,   124.47,2,    32.90,2,     0.02,2,     2.34,2
 06AQANTVIII_2,  SR02,   215,  1,      5,      5,2,19891023,1955,-56.4167,   4.6333, 4375,   2997.2,  -0.2445,  34.6544,3,  34.6560,2,    235.6,2,   124.57,2,    32.80,2,     0.02,2,     2.32,2
 06AQANTVIII_2,  SR02,   215,  1,      4,      4,2,19891023,1955,-56.4167,   4.6333, 4375,   3489.6,  -0.2936,  34.6511,3,  34.6520,2,    239.3,2,   123.88,2,    32.60,2,     0.01,2,     2.29,2
 06AQANTVIII_2,  SR02,   215,  1,      3,      3,2,19891023,1955,-56.4167,   4.6333, 4375,   3997.1,  -0.3146,  34.6500,3,  34.6500,2,    242.4,2,   122.80,2,    32.60,2,     0.01,2,     2.28,2
 06AQANTVIII_2,  SR02,   215,  1,      2,      2,2,19891023,1955,-56.4167,   4.6333, 4375,   4489.0,  -0.3066,  34.6474,3,  34.6500,2,    243.7,2,   122.41,2,    32.50,2,     0.02,2,     2.28,2
 06AQANTVIII_2,  SR02,   215,  1,      1,      1,2,19891023,1955,-56.4167,   4.6333, 4375,   4538.9,  -0.3016,  34.6476,3,  34.6480,2,    244.0,2,   121.13,2,    32.50,2,     0.01,2,     2.29,2
 06AQANTVIII_2,  SR02,   216,  1,     23,     23,2,19891024,0206,-55.9000,   5.2333, 3408,     20.6,  -1.6009,  34.1954,3,-999.0000,9,   -999.0,9,  -999.00,9,  -999.00,9,  -999.00,9,  -999.00,9
 06AQANTVIII_2,  SR02,   216,  1,     24,     24,2,19891024,0206,-55.9000,   5.2333, 3408,     20.8,  -1.5999,  34.1955,3,  34.1970,2,    312.7,2,    70.37,2,    29.91,2,     0.26,2,     2.07,2
 06AQANTVIII_2,  SR02,   216,  1,     22,     22,2,19891024,0206,-55.9000,   5.2333, 3408,     51.9,  -1.4838,  34.2168,3,  34.2160,2,    308.9,2,    70.86,2,    30.01,2,     0.24,2,     2.08,2
 06AQANTVIII_2,  SR02,   216,  1,     21,     21,2,19891024,0206,-55.9000,   5.2333, 3408,     52.1,  -1.4738,  34.2204,3,-999.0000,9,   -999.0,9,  -999.00,9,  -999.00,9,  -999.00,9,  -999.00,9
 06AQANTVIII_2,  SR02,   216,  1,     19,     19,2,19891024,0206,-55.9000,   5.2333, 3408,     83.6,  -1.1257,  34.2763,3,-999.0000,9,   -999.0,9,  -999.00,9,  -999.00,9,  -999.00,9,  -999.00,9
 06AQANTVIII_2,  SR02,   216,  1,     20,     20,2,19891024,0206,-55.9000,   5.2333, 3408,     83.8,  -1.1587,  34.2686,3,  34.2740,2,    294.5,2,    72.23,2,    30.51,2,     0.19,2,     2.11,2
 06AQANTVIII_2,  SR02,   216,  1,     17,     17,2,19891024,0206,-55.9000,   5.2333, 3408,    104.3,  -0.7216,  34.3403,3,-999.0000,9,   -999.0,9,  -999.00,9,  -999.00,9,  -999.00,9,  -999.00,9
 06AQANTVIII_2,  SR02,   216,  1,     18,     18,2,19891024,0206,-55.9000,   5.2333, 3408,    105.3,  -0.5826,  34.3614,3,  34.3570,2,    275.4,2,    75.17,2,    31.10,2,     0.14,2,     2.15,2
 06AQANTVIII_2,  SR02,   216,  1,     15,     15,2,19891024,0206,-55.9000,   5.2333, 3408,    153.8,   1.3680,  34.6004,3,-999.0000,9,   -999.0,9,  -999.00,9,  -999.00,9,  -999.00,9,  -999.00,9
 06AQANTVIII_2,  SR02,   216,  1,     16,     16,2,19891024,0206,-55.9000,   5.2333, 3408,    155.7,   1.3630,  34.5984,3,  34.5990,2,    193.8,2,    86.16,2,    33.30,2,     0.01,2,     2.33,2
 06AQANTVIII_2,  SR02,   216,  1,     13,     13,2,19891024,0206,-55.9000,   5.2333, 3408,    203.5,   1.5249,  34.6388,3,-999.0000,9,   -999.0,9,  -999.00,9,  -999.00,9,  -999.00,9,  -999.00,9
 06AQANTVIII_2,  SR02,   216,  1,     14,     14,2,19891024,0206,-55.9000,   5.2333, 3408,    205.2,   1.5289,  34.6411,3,  34.6400,2,    187.1,2,    88.12,2,    33.10,2,     0.03,2,     2.32,2
 06AQANTVIII_2,  SR02,   216,  1,     11,     11,2,19891024,0206,-55.9000,   5.2333, 3408,    241.2,   1.5528,  34.6560,3,-999.0000,9,   -999.0,9,  -999.00,9,  -999.00,9,  -999.00,9,  -999.00,9
 06AQANTVIII_2,  SR02,   216,  1,     12,     12,2,19891024,0206,-55.9000,   5.2333, 3408,    242.5,   1.5518,  34.6563,3,  34.6570,2,    186.7,2,    89.01,2,    33.00,2,     0.02,2,     2.30,2
 06AQANTVIII_2,  SR02,   216,  1,      9,      9,2,19891024,0206,-55.9000,   5.2333, 3408,    293.9,   1.5339,  34.6728,3,-999.0000,9,   -999.0,9,  -999.00,9,  -999.00,9,  -999.00,9,  -999.00,9
 06AQANTVIII_2,  SR02,   216,  1,     10,     10,2,19891024,0206,-55.9000,   5.2333, 3408,    294.4,   1.5339,  34.6725,3,  34.6760,2,    188.0,2,    90.48,2,    32.70,2,     0.01,2,     2.27,2
 06AQANTVIII_2,  SR02,   216,  1,      7,      7,2,19891024,0206,-55.9000,   5.2333, 3408,    408.5,   1.4230,  34.7034,3,-999.0000,9,   -999.0,9,  -999.00,9,  -999.00,9,  -999.00,9,  -999.00,9
 06AQANTVIII_2,  SR02,   216,  1,      8,      8,2,19891024,0206,-55.9000,   5.2333, 3408,    430.5,   1.4080,  34.7047,3,  34.7080,2,    193.7,2,    93.03,2,    31.90,2,     0.01,2,     2.21,2
 06AQANTVIII_2,  SR02,   216,  1,      5,      5,2,19891024,0206,-55.9000,   5.2333, 3408,    507.1,   1.3140,  34.7058,3,-999.0000,9,   -999.0,9,  -999.00,9,  -999.00,9,  -999.00,9,  -999.00,9
 06AQANTVIII_2,  SR02,   216,  1,      6,      6,2,19891024,0206,-55.9000,   5.2333, 3408,    509.5,   1.3140,  34.7057,3,  34.7080,2,    195.9,2,    96.57,2,    31.90,2,     0.02,2,     2.22,2
 06AQANTVIII_2,  SR02,   216,  1,      3,      3,2,19891024,0206,-55.9000,   5.2333, 3408,    757.3,   0.9852,  34.6990,3,-999.0000,9,   -999.0,9,  -999.00,9,  -999.00,9,  -999.00,9,  -999.00,9
 06AQANTVIII_2,  SR02,   216,  1,      4,      4,2,19891024,0206,-55.9000,   5.2333, 3408,    758.2,   0.9662,  34.6990,3,  34.7010,2,    200.6,2,   105.71,2,    32.20,2,     0.01,2,     2.24,2
 06AQANTVIII_2,  SR02,   216,  1,      2,      2,2,19891024,0206,-55.9000,   5.2333, 3408,   1002.8,   0.5983,  34.6855,3,  34.6870,2,    206.1,2,   112.98,2,    32.60,2,     0.03,2,     2.28,2
 06AQANTVIII_2,  SR02,   216,  1,      1,      1,2,19891024,0206,-55.9000,   5.2333, 3408,   1004.1,   0.6043,  34.6859,3,-999.0000,9,   -999.0,9,  -999.00,9,  -999.00,9,  -999.00,9,  -999.00,9
 06AQANTVIII_2,  SR02,   217,  1,     24,     24,2,19891024,0520,-55.4667,   5.6333, 3109,     13.3,  -1.7691,  34.1598,3,-999.0000,9,   -999.0,9,  -999.00,9,  -999.00,9,  -999.00,9,  -999.00,9
 06AQANTVIII_2,  SR02,   217,  1,     23,     23,2,19891024,0520,-55.4667,   5.6333, 3109,     21.3,  -1.7701,  34.1585,3,  34.1580,2,    325.3,2,    67.81,2,    29.61,2,     0.28,2,     2.08,2
 06AQANTVIII_2,  SR02,   217,  1,     22,     22,2,19891024,0520,-55.4667,   5.6333, 3109,     41.5,  -1.7410,  34.1621,3,-999.0000,9,   -999.0,9,  -999.00,9,  -999.00,9,  -999.00,9,  -999.00,9
 06AQANTVIII_2,  SR02,   217,  1,     21,     21,2,19891024,0520,-55.4667,   5.6333, 3109,     60.9,  -1.7260,  34.1629,3,  34.1610,2,   -999.0,9,    68.01,2,    29.71,2,     0.29,2,     2.09,2
 06AQANTVIII_2,  SR02,   217,  1,     20,     20,2,19891024,0520,-55.4667,   5.6333, 3109,     83.1,  -1.7110,  34.1646,3,-999.0000,9,   -999.0,9,  -999.00,9,  -999.00,9,  -999.00,9,  -999.00,9
 06AQANTVIII_2,  SR02,   217,  1,     19,     19,2,19891024,0520,-55.4667,   5.6333, 3109,    102.3,  -1.6680,  34.1723,3,  34.1740,2,    323.3,2,    68.50,2,    29.81,2,     0.27,2,     2.08,2
 06AQANTVIII_2,  SR02,   217,  1,     18,     18,2,19891024,0520,-55.4667,   5.6333, 3109,    121.2,  -1.6299,  34.1789,3,-999.0000,9,   -999.0,9,  -999.00,9,  -999.00,9,  -999.00,9,  -999.00,9
 06AQANTVIII_2,  SR02,   217,  1,     17,     17,2,19891024,0520,-55.4667,   5.6333, 3109,    151.8,  -1.3078,  34.2293,3,  34.2300,2,    311.8,2,    70.36,2,    30.21,2,     0.24,2,     2.13,2
 06AQANTVIII_2,  SR02,   217,  1,     16,     16,2,19891024,0520,-55.4667,   5.6333, 3109,    201.3,   0.7722,  34.5332,3,-999.0000,9,   -999.0,9,  -999.00,9,  -999.00,9,  -999.00,9,  -999.00,9
 06AQANTVIII_2,  SR02,   217,  1,     15,     15,2,19891024,0520,-55.4667,   5.6333, 3109,    222.3,   1.1041,  34.5937,3,  34.6020,2,    203.0,2,    87.74,2,    33.00,2,     0.03,2,     2.33,2
 06AQANTVIII_2,  SR02,   217,  1,     14,     14,2,19891024,0520,-55.4667,   5.6333, 3109,    252.2,   1.2130,  34.6261,3,  34.6280,2,    197.2,2,    90.09,2,    32.90,2,     0.03,2,     2.32,2
 06AQANTVIII_2,  SR02,   217,  1,     13,     13,2,19891024,0520,-55.4667,   5.6333, 3109,    285.9,   1.2320,  34.6492,3,  34.6520,2,    195.8,2,    91.86,2,    32.80,2,     0.03,2,     2.31,2
 06AQANTVIII_2,  SR02,   217,  1,     12,     12,2,19891024,0520,-55.4667,   5.6333, 3109,    303.8,   1.2990,  34.6605,3,  34.6580,2,    195.1,2,    92.54,2,    32.70,2,     0.02,2,     2.31,2
 06AQANTVIII_2,  SR02,   217,  1,     11,     11,2,19891024,0520,-55.4667,   5.6333, 3109,    351.7,   1.2140,  34.6690,3,  34.6680,2,    197.1,2,    94.21,2,    32.50,2,     0.03,2,     2.29,2
 06AQANTVIII_2,  SR02,   217,  1,     10,     10,2,19891024,0520,-55.4667,   5.6333, 3109,    403.9,   1.1920,  34.6769,3,  34.6780,2,    196.9,2,    95.59,2,    32.40,2,     0.04,2,     2.28,2
 06AQANTVIII_2,  SR02,   217,  1,      9,      9,2,19891024,0520,-55.4667,   5.6333, 3109,    501.4,   1.2170,  34.7001,3,  34.7010,2,    197.2,2,    98.14,2,    32.10,2,     0.04,2,  -999.00,9
 06AQANTVIII_2,  SR02,   217,  1,      8,      8,2,19891024,0520,-55.4667,   5.6333, 3109,    753.7,   0.8802,  34.6950,3,  34.6970,2,    202.1,2,   106.89,2,    32.40,2,     0.02,2,  -999.00,9
 06AQANTVIII_2,  SR02,   217,  1,      7,      7,2,19891024,0520,-55.4667,   5.6333, 3109,   1009.6,   0.6063,  34.6852,3,  34.6850,2,    205.7,2,   112.68,2,    32.70,2,     0.03,2,  -999.00,9
 06AQANTVIII_2,  SR02,   217,  1,      6,      6,2,19891024,0520,-55.4667,   5.6333, 3109,   1504.6,   0.2653,  34.6736,3,  34.6740,2,    209.7,2,   119.85,2,    33.30,2,     0.03,2,  -999.00,9
 06AQANTVIII_2,  SR02,   217,  1,      5,      5,2,19891024,0520,-55.4667,   5.6333, 3109,   2001.4,   0.0594,  34.6669,3,  34.6670,2,    218.3,2,   122.51,2,    33.40,2,     0.03,2,  -999.00,9
 06AQANTVIII_2,  SR02,   217,  1,      4,      4,2,19891024,0520,-55.4667,   5.6333, 3109,   2500.6,  -0.0886,  34.6609,3,  34.6610,2,    227.2,2,   123.59,2,    33.00,2,     0.02,2,  -999.00,9
 06AQANTVIII_2,  SR02,   217,  1,      3,      3,2,19891024,0520,-55.4667,   5.6333, 3109,   2995.3,  -0.1496,  34.6572,3,  34.6570,2,    230.6,2,   124.18,2,    32.90,2,     0.02,2,  -999.00,9
 06AQANTVIII_2,  SR02,   217,  1,      2,      2,2,19891024,0520,-55.4667,   5.6333, 3109,   3085.5,  -0.1586,  34.6585,3,  34.6570,2,    231.8,2,   124.77,2,    32.80,2,     0.04,2,  -999.00,9
 06AQANTVIII_2,  SR02,   217,  1,      1,      1,2,19891024,0520,-55.4667,   5.6333, 3109,   3135.0,  -0.1646,  34.6568,3,  34.6570,2,    232.6,2,   124.77,2,    32.90,2,     0.05,2,  -999.00,9
 06AQANTVIII_2,  SR02,   218,  1,     23,     23,2,19891024,1028,-55.0000,   6.0167, 3083,     19.9,  -1.7821,  34.1245,3,-999.0000,9,   -999.0,9,    67.42,2,    29.41,2,     0.25,2,     2.01,2
 06AQANTVIII_2,  SR02,   218,  1,     22,     22,2,19891024,1028,-55.0000,   6.0167, 3083,     50.8,  -1.7420,  34.1353,3,  34.1350,2,    337.5,2,    67.22,2,    29.31,2,     0.26,2,     2.02,2
 06AQANTVIII_2,  SR02,   218,  1,     21,     21,2,19891024,1028,-55.0000,   6.0167, 3083,     51.2,  -1.7400,  34.1341,3,-999.0000,9,   -999.0,9,    67.42,2,    29.41,2,     0.25,2,     2.01,2
 06AQANTVIII_2,  SR02,   218,  1,     19,     19,2,19891024,1028,-55.0000,   6.0167, 3083,     79.6,  -1.7080,  34.1418,3,-999.0000,9,   -999.0,9,  -999.00,9,  -999.00,9,  -999.00,9,  -999.00,9
 06AQANTVIII_2,  SR02,   218,  1,     20,     20,2,19891024,1028,-55.0000,   6.0167, 3083,     80.4,  -1.7130,  34.1401,3,  34.1380,2,    334.3,2,    67.52,2,    29.41,2,     0.25,2,     2.03,2
 06AQANTVIII_2,  SR02,   218,  1,     17,     17,2,19891024,1028,-55.0000,   6.0167, 3083,     98.6,  -1.6850,  34.1450,3,-999.0000,9,   -999.0,9,  -999.00,9,  -999.00,9,  -999.00,9,  -999.00,9
 06AQANTVIII_2,  SR02,   218,  1,     18,     18,2,19891024,1028,-55.0000,   6.0167, 3083,     99.3,  -1.6840,  34.1448,3,  34.1450,2,    333.6,2,    67.52,2,    29.51,2,     0.26,2,     2.04,2
 06AQANTVIII_2,  SR02,   218,  1,     16,     16,2,19891024,1028,-55.0000,   6.0167, 3083,    150.7,  -0.4416,  34.3315,3,  34.4000,3,    265.7,2,    77.43,2,    31.60,2,     0.07,2,     2.16,2
 06AQANTVIII_2,  SR02,   218,  1,     15,     15,2,19891024,1028,-55.0000,   6.0167, 3083,    151.3,  -0.2405,  34.3665,3,-999.0000,9,   -999.0,9,  -999.00,9,  -999.00,9,  -999.00,9,  -999.00,9
 06AQANTVIII_2,  SR02,   218,  1,     13,     13,2,19891024,1028,-55.0000,   6.0167, 3083,    199.1,   0.9922,  34.5746,3,-999.0000,9,   -999.0,9,  -999.00,9,  -999.00,9,  -999.00,9,  -999.00,9
 06AQANTVIII_2,  SR02,   218,  1,     14,     14,2,19891024,1028,-55.0000,   6.0167, 3083,    200.0,   0.9622,  34.5635,3,  34.5700,2,    209.2,2,    86.75,2,    32.90,2,     0.02,2,     2.28,2
 06AQANTVIII_2,  SR02,   218,  1,     12,     12,2,19891024,1028,-55.0000,   6.0167, 3083,    238.7,   1.2150,  34.6320,3,  34.6320,2,    196.5,2,    90.58,2,    32.90,2,     0.02,2,     2.28,2
 06AQANTVIII_2,  SR02,   218,  1,     11,     11,2,19891024,1028,-55.0000,   6.0167, 3083,    240.1,   1.2140,  34.6310,3,-999.0000,9,   -999.0,9,  -999.00,9,  -999.00,9,  -999.00,9,  -999.00,9
 06AQANTVIII_2,  SR02,   218,  1,     10,     10,2,19891024,1028,-55.0000,   6.0167, 3083,    288.7,   1.2670,  34.6643,3,  34.6660,2,    194.4,2,    92.94,2,    32.60,2,     0.02,2,     2.27,2
 06AQANTVIII_2,  SR02,   218,  1,      9,      9,2,19891024,1028,-55.0000,   6.0167, 3083,    290.1,   1.2680,  34.6636,3,-999.0000,9,   -999.0,9,  -999.00,9,  -999.00,9,  -999.00,9,  -999.00,9
 06AQANTVIII_2,  SR02,   218,  1,      8,      8,2,19891024,1028,-55.0000,   6.0167, 3083,    401.7,   1.2010,  34.6868,3,  34.6870,2,    196.0,2,    96.57,2,    32.20,2,     0.01,2,     2.23,2
 06AQANTVIII_2,  SR02,   218,  1,      7,      7,2,19891024,1028,-55.0000,   6.0167, 3083,    401.8,   1.2000,  34.6879,3,-999.0000,9,   -999.0,9,  -999.00,9,  -999.00,9,  -999.00,9,  -999.00,9
 06AQANTVIII_2,  SR02,   218,  1,      6,      6,2,19891024,1028,-55.0000,   6.0167, 3083,    501.7,   1.1141,  34.6943,3,  34.6950,2,    198.3,2,   100.01,2,    32.20,2,     0.02,2,     2.23,2
 06AQANTVIII_2,  SR02,   218,  1,      5,      5,2,19891024,1028,-55.0000,   6.0167, 3083,    502.3,   1.1131,  34.6950,3,-999.0000,9,   -999.0,9,  -999.00,9,  -999.00,9,  -999.00,9,  -999.00,9
 06AQANTVIII_2,  SR02,   218,  1,      3,      3,2,19891024,1028,-55.0000,   6.0167, 3083,    749.9,   0.8492,  34.6922,3,-999.0000,9,   -999.0,9,  -999.00,9,  -999.00,9,  -999.00,9,  -999.00,9
 06AQANTVIII_2,  SR02,   218,  1,      4,      4,2,19891024,1028,-55.0000,   6.0167, 3083,    750.3,   0.8492,  34.6933,3,  34.6950,2,    202.7,2,   107.28,2,    32.40,2,     0.02,2,     2.26,2
 06AQANTVIII_2,  SR02,   218,  1,      2,      2,2,19891024,1028,-55.0000,   6.0167, 3083,   1021.3,   0.5843,  34.6837,3,  34.6880,2,    206.1,2,   112.88,2,    32.70,2,     0.03,2,     2.27,2
 06AQANTVIII_2,  SR02,   218,  1,      1,      1,2,19891024,1028,-55.0000,   6.0167, 3083,   1021.5,   0.5833,  34.6834,3,-999.0000,9,   -999.0,9,  -999.00,9,  -999.00,9,  -999.00,9,  -999.00,9