BOTTLE,20221004CCHSIOAMB
EXPOCODE,SECT_ID,STNNBR,CASTNO,SAMPNO,BTLNBR,BTLNBR_FLAG_W,DATE,TIME,LATITUDE,LONGITUDE,DEPTH,CTDPRS,CTDTMP,CTDSAL,CTDSAL_FLAG_W,SALNTY,SALNTY_FLAG_W,OXYGEN,OXYGEN_FLAG_W,SILCAT,SILCAT_FLAG_W,NITRAT,NITRAT_FLAG_W,NITRIT,NITRIT_FLAG_W,PHSPHT,PHSPHT_FLAG_W
,,,,,,,,,,,,DBAR,ITS-90,PSS-78,,PSS-78,,UMOL/KG,,UMOL/KG,,UMOL/KG,,UMOL/KG,,UMOL/KG,
 06AQANTVIII_2,  SR04,   163,  1,     23,     23,2,19890923,1520,-65.6667, -38.7500, 4631,     20.4,  -1.8676,  34.4844,3,  34.4800,2,    299.6,2,    73.50,2,    29.60,2,     0.26,2,     2.04,2
 06AQANTVIII_2,  SR04,   163,  1,     22,     22,2,19890923,1520,-65.6667, -38.7500, 4631,     99.5,  -1.8586,  34.4841,3,  34.4810,2,    299.0,2,    73.50,2,    29.60,2,     0.26,2,     2.07,2
 06AQANTVIII_2,  SR04,   163,  1,     21,     21,2,19890923,1520,-65.6667, -38.7500, 4631,    148.8,  -1.7885,  34.4839,3,  34.4850,2,    298.6,2,    73.99,2,    29.60,2,     0.26,2,     2.05,2
 06AQANTVIII_2,  SR04,   163,  1,     20,     20,2,19890923,1520,-65.6667, -38.7500, 4631,    319.4,   0.3894,  34.6850,3,  34.6810,2,    191.8,2,   116.81,2,    34.30,2,    -0.02,4,     2.38,2
 06AQANTVIII_2,  SR04,   163,  1,     19,     19,2,19890923,1520,-65.6667, -38.7500, 4631,    499.4,   0.3034,  34.6857,3,  34.6810,2,    194.2,2,   121.03,2,    34.30,2,    -0.02,4,     2.40,2
 06AQANTVIII_2,  SR04,   163,  1,     18,     18,2,19890923,1520,-65.6667, -38.7500, 4631,    758.2,   0.1875,  34.6825,3,  34.6770,2,    202.4,2,   122.80,2,    33.90,2,    -0.02,4,     2.35,2
 06AQANTVIII_2,  SR04,   163,  1,     17,     17,2,19890923,1520,-65.6667, -38.7500, 4631,    997.1,   0.0835,  34.6781,3,  34.6730,2,    209.2,2,   122.90,2,    33.60,2,    -0.02,4,     2.37,2
 06AQANTVIII_2,  SR04,   163,  1,     16,     16,2,19890923,1520,-65.6667, -38.7500, 4631,   1500.2,  -0.0813,  34.6703,3,  34.6660,2,    221.5,2,   122.41,2,    33.10,2,    -0.02,4,     2.30,2
 06AQANTVIII_2,  SR04,   163,  1,     15,     15,2,19890923,1520,-65.6667, -38.7500, 4631,   1999.9,  -0.2093,  34.6667,3,  34.6610,2,    231.3,2,   121.33,2,    32.90,2,    -0.02,4,     2.30,2
 06AQANTVIII_2,  SR04,   163,  1,     14,     14,2,19890923,1520,-65.6667, -38.7500, 4631,   2250.3,  -0.2493,  34.6649,3,  34.6600,2,    234.2,2,   120.94,2,    32.80,2,    -0.02,4,     2.28,2
 06AQANTVIII_2,  SR04,   163,  1,     13,     13,2,19890923,1520,-65.6667, -38.7500, 4631,   2501.6,  -0.2744,  34.6643,3,  34.6580,2,    235.1,2,   120.84,2,    32.60,2,    -0.02,4,     2.27,2
 06AQANTVIII_2,  SR04,   163,  1,     12,     12,2,19890923,1520,-65.6667, -38.7500, 4631,   2757.4,  -0.3034,  34.6578,3,  34.6590,2,    235.6,2,   120.64,2,    32.50,2,    -0.02,4,     2.28,2
 06AQANTVIII_2,  SR04,   163,  1,     11,     11,2,19890923,1520,-65.6667, -38.7500, 4631,   3002.7,  -0.3284,  34.6625,3,  34.6570,2,    238.0,2,   120.05,2,    32.60,2,    -0.02,4,     2.25,2
 06AQANTVIII_2,  SR04,   163,  1,     10,     10,2,19890923,1520,-65.6667, -38.7500, 4631,   3503.9,  -0.3735,  34.6580,3,  34.6560,2,    242.2,2,   119.56,2,    32.40,2,    -0.02,4,     2.27,2
 06AQANTVIII_2,  SR04,   163,  1,      9,      9,2,19890923,1520,-65.6667, -38.7500, 4631,   4006.7,  -0.4145,  34.6550,3,-999.0000,9,   -999.0,9,  -999.00,9,  -999.00,9,  -999.00,9,  -999.00,9
 06AQANTVIII_2,  SR04,   163,  1,      8,      8,2,19890923,1520,-65.6667, -38.7500, 4631,   4006.8,  -0.4145,  34.6550,3,  34.6520,2,    245.7,2,   119.66,2,    32.30,2,    -0.02,4,     2.26,2
 06AQANTVIII_2,  SR04,   163,  1,      7,      7,2,19890923,1520,-65.6667, -38.7500, 4631,   4255.3,  -0.4595,  34.6515,3,  34.6490,2,    248.4,2,   116.42,2,    32.30,2,    -0.02,4,     2.24,2
 06AQANTVIII_2,  SR04,   163,  1,      6,      6,2,19890923,1520,-65.6667, -38.7500, 4631,   4616.1,  -0.5426,  34.6452,3,  34.6430,2,    251.0,2,   120.94,2,    33.20,2,    -0.02,4,     2.23,2
 06AQANTVIII_2,  SR04,   163,  1,      5,      5,2,19890923,1520,-65.6667, -38.7500, 4631,   4616.3,  -0.5436,  34.6436,3,-999.0000,9,   -999.0,9,  -999.00,9,  -999.00,9,  -999.00,9,  -999.00,9
 06AQANTVIII_2,  SR04,   163,  1,      4,      4,2,19890923,1520,-65.6667, -38.7500, 4631,   4664.4,  -0.5686,  34.6397,3,  34.6370,2,    251.5,2,   121.43,2,    32.40,2,    -0.02,4,     2.27,2
 06AQANTVIII_2,  SR04,   163,  1,      3,      3,2,19890923,1520,-65.6667, -38.7500, 4631,   4666.4,  -0.5686,  34.6388,3,-999.0000,9,   -999.0,9,  -999.00,9,  -999.00,9,  -999.00,9,  -999.00,9
 06AQANTVIII_2,  SR04,   163,  1,      2,      2,2,19890923,1520,-65.6667, -38.7500, 4631,   4714.8,  -0.5837,  34.6369,3,  34.6370,2,    253.0,2,   118.88,2,    32.30,2,    -0.02,4,     2.26,2
 06AQANTVIII_2,  SR04,   163,  1,      1,      1,2,19890923,1520,-65.6667, -38.7500, 4631,   4715.6,  -0.5837,  34.6366,3,  34.6370,2,    253.1,2,   118.88,2,    32.40,2,     0.02,2,     2.26,2
 06AQANTVIII_2,  SR04,   164,  1,     23,     23,4,19890924,1055,-65.6500, -36.5167, 4721,     10.0,  -1.8546,  34.4883,3,  34.4860,2,   -999.0,9,    73.30,2,    30.00,2,     0.25,2,     2.11,2
 06AQANTVIII_2,  SR04,   164,  1,     22,     22,4,19890924,1055,-65.6500, -36.5167, 4721,     18.5,  -1.8566,  34.4893,3,-999.0000,9,   -999.0,9,  -999.00,9,  -999.00,9,  -999.00,9,  -999.00,9
 06AQANTVIII_2,  SR04,   164,  1,     21,     21,4,19890924,1055,-65.6500, -36.5167, 4721,     37.7,  -1.8526,  34.4874,3,-999.0000,9,   -999.0,9,  -999.00,9,  -999.00,9,  -999.00,9,  -999.00,9
 06AQANTVIII_2,  SR04,   164,  1,     20,     20,4,19890924,1055,-65.6500, -36.5167, 4721,     57.3,  -1.8516,  34.4874,3,  34.4860,2,   -999.0,9,  -999.00,9,  -999.00,9,  -999.00,9,  -999.00,9
 06AQANTVIII_2,  SR04,   164,  1,     19,     19,4,19890924,1055,-65.6500, -36.5167, 4721,     57.3,  -1.8516,  34.4874,3,-999.0000,9,    299.1,2,    73.40,2,    29.60,2,     0.25,2,     2.12,2
 06AQANTVIII_2,  SR04,   164,  1,     18,     18,4,19890924,1055,-65.6500, -36.5167, 4721,     77.6,  -1.8496,  34.4872,3,-999.0000,9,   -999.0,9,  -999.00,9,  -999.00,9,  -999.00,9,  -999.00,9
 06AQANTVIII_2,  SR04,   164,  1,     17,     17,4,19890924,1055,-65.6500, -36.5167, 4721,     97.7,  -1.8366,  34.4884,3,  34.4870,2,   -999.0,9,  -999.00,9,  -999.00,9,  -999.00,9,  -999.00,9
 06AQANTVIII_2,  SR04,   164,  1,     16,     16,4,19890924,1055,-65.6500, -36.5167, 4721,     97.7,  -1.8296,  34.4886,3,-999.0000,9,    299.9,2,    73.40,2,    29.60,2,     0.24,2,     2.11,2
 06AQANTVIII_2,  SR04,   164,  1,     15,     15,4,19890924,1055,-65.6500, -36.5167, 4721,    127.6,  -1.7965,  34.4936,3,  34.6800,4,   -999.0,9,  -999.00,9,  -999.00,9,  -999.00,9,  -999.00,9
 06AQANTVIII_2,  SR04,   164,  1,     13,     13,4,19890924,1055,-65.6500, -36.5167, 4721,    236.3,   0.3854,  34.6822,3,  34.6820,2,   -999.0,9,  -999.00,9,  -999.00,9,  -999.00,9,  -999.00,9
 06AQANTVIII_2,  SR04,   164,  1,     14,     14,4,19890924,1055,-65.6500, -36.5167, 4721,    236.4,   0.3864,  34.6810,3,-999.0000,9,    191.0,2,   114.45,2,    34.40,2,     0.00,2,     2.44,2
 06AQANTVIII_2,  SR04,   164,  1,     12,     12,4,19890924,1055,-65.6500, -36.5167, 4721,    317.3,   0.3784,  34.6844,3,-999.0000,9,    190.2,2,   117.50,2,    34.40,2,     0.00,2,     2.46,2
 06AQANTVIII_2,  SR04,   164,  1,     11,     11,4,19890924,1055,-65.6500, -36.5167, 4721,    317.3,   0.3784,  34.6844,3,  34.6820,2,   -999.0,9,  -999.00,9,  -999.00,9,  -999.00,9,  -999.00,9
 06AQANTVIII_2,  SR04,   164,  1,      9,      9,4,19890924,1055,-65.6500, -36.5167, 4721,    498.9,   0.2934,  34.6840,3,  34.6730,3,   -999.0,9,  -999.00,9,  -999.00,9,  -999.00,9,  -999.00,9
 06AQANTVIII_2,  SR04,   164,  1,     10,     10,4,19890924,1055,-65.6500, -36.5167, 4721,    499.2,   0.2934,  34.6838,3,-999.0000,9,    194.1,2,   121.43,2,    34.40,2,     0.00,2,     2.46,2
 06AQANTVIII_2,  SR04,   164,  1,      7,      7,4,19890924,1055,-65.6500, -36.5167, 4721,   1004.5,   0.0645,  34.6762,3,  34.6620,3,   -999.0,9,  -999.00,9,  -999.00,9,  -999.00,9,  -999.00,9
 06AQANTVIII_2,  SR04,   164,  1,      8,      8,4,19890924,1055,-65.6500, -36.5167, 4721,   1004.8,   0.0645,  34.6760,3,-999.0000,9,    209.8,2,   122.80,2,    33.70,2,     0.00,2,     2.42,2
 06AQANTVIII_2,  SR04,   164,  1,      6,      6,4,19890924,1055,-65.6500, -36.5167, 4721,   1997.4,  -0.2143,  34.6648,3,-999.0000,9,    232.3,2,   121.23,2,    33.10,2,    -0.01,4,     2.38,2
 06AQANTVIII_2,  SR04,   164,  1,      5,      5,4,19890924,1055,-65.6500, -36.5167, 4721,   3002.5,  -0.3284,  34.6607,3,  34.6560,2,   -999.0,9,  -999.00,9,  -999.00,9,  -999.00,9,  -999.00,9
 06AQANTVIII_2,  SR04,   164,  1,      4,      4,4,19890924,1055,-65.6500, -36.5167, 4721,   3504.4,  -0.3735,  34.6568,3,  34.6470,2,    241.2,2,   119.37,2,    32.60,2,    -0.01,4,     2.34,2
 06AQANTVIII_2,  SR04,   164,  1,      3,      3,4,19890924,1055,-65.6500, -36.5167, 4721,   4259.4,  -0.4826,  34.6488,3,  34.6400,2,    248.8,2,   114.65,2,    32.40,2,    -0.01,4,     2.32,2
 06AQANTVIII_2,  SR04,   164,  1,      2,      2,4,19890924,1055,-65.6500, -36.5167, 4721,   4703.2,  -0.5817,  34.6386,3,-999.0000,9,    254.1,2,   113.37,2,    32.40,2,    -0.01,4,     2.30,2
 06AQANTVIII_2,  SR04,   164,  1,      1,      1,4,19890924,1055,-65.6500, -36.5167, 4721,   4817.5,  -0.5997,  34.6369,3,  34.6370,2,    256.2,2,   109.74,2,    32.30,2,    -0.01,4,     2.29,2
 06AQANTVIII_2,  SR04,   165,  1,     24,     24,2,19890925,0355,-66.0333, -35.0667, 4722,     10.0,  -1.8536,  34.4851,3,  34.4850,2,    293.2,2,    75.26,2,    29.60,2,     0.17,2,     2.07,2
 06AQANTVIII_2,  SR04,   165,  1,     23,     23,2,19890925,0355,-66.0333, -35.0667, 4722,     49.2,  -1.8526,  34.4841,3,  34.4900,2,    294.6,2,    75.26,2,    29.60,2,     0.17,2,     2.06,2
 06AQANTVIII_2,  SR04,   165,  1,     22,     22,2,19890925,0355,-66.0333, -35.0667, 4722,     98.8,  -1.8035,  34.4849,3,  34.4930,2,    289.6,2,    76.25,2,    29.80,2,     0.15,2,     2.07,2
 06AQANTVIII_2,  SR04,   165,  1,     21,     21,2,19890925,0355,-66.0333, -35.0667, 4722,    109.1,  -1.7775,  34.4887,3,  34.4970,2,    287.8,2,    76.84,2,    29.80,2,     0.15,2,     2.08,2
 06AQANTVIII_2,  SR04,   165,  1,     20,     20,2,19890925,0355,-66.0333, -35.0667, 4722,    198.4,   0.3544,  34.6700,3,  34.6700,2,    197.7,2,   107.97,2,    33.80,2,    -0.02,4,     2.33,2
 06AQANTVIII_2,  SR04,   165,  1,     19,     19,2,19890925,0355,-66.0333, -35.0667, 4722,    239.0,   0.4604,  34.6814,3,  34.6790,2,    194.2,2,   111.50,2,    33.90,2,    -0.02,4,     2.35,2
 06AQANTVIII_2,  SR04,   165,  1,     18,     18,2,19890925,0355,-66.0333, -35.0667, 4722,    500.5,   0.3524,  34.6870,3,  34.6810,2,    194.8,2,   121.03,2,    34.20,2,    -0.02,4,     2.37,2
 06AQANTVIII_2,  SR04,   165,  1,     17,     17,2,19890925,0355,-66.0333, -35.0667, 4722,    746.5,   0.2494,  34.6855,3,  34.6800,2,    199.5,2,   123.59,2,    34.10,2,    -0.02,4,     2.37,2
 06AQANTVIII_2,  SR04,   165,  1,     15,     15,2,19890925,0355,-66.0333, -35.0667, 4722,    996.2,   0.1465,  34.6817,3,  34.6760,2,    207.6,2,   124.28,2,    33.70,2,    -0.02,4,     2.34,2
 06AQANTVIII_2,  SR04,   165,  1,     16,     16,2,19890925,0355,-66.0333, -35.0667, 4722,    997.0,   0.1445,  34.6795,3,  34.6750,2,    207.3,2,   124.28,2,    33.70,2,    -0.02,4,     2.34,2
 06AQANTVIII_2,  SR04,   165,  1,     14,     14,2,19890925,0355,-66.0333, -35.0667, 4722,   1246.2,   0.0485,  34.6777,3,  34.6700,2,    213.2,2,   124.28,2,    33.50,2,    -0.02,4,     2.31,2
 06AQANTVIII_2,  SR04,   165,  1,     13,     13,2,19890925,0355,-66.0333, -35.0667, 4722,   1496.7,  -0.0392,  34.6730,3,  34.6680,2,    221.1,2,   124.08,2,    33.30,2,    -0.02,4,     2.31,2
 06AQANTVIII_2,  SR04,   165,  1,     12,     12,2,19890925,0355,-66.0333, -35.0667, 4722,   2004.1,  -0.1744,  34.6664,3,  34.6630,2,    227.7,2,   123.59,2,    33.00,2,    -0.02,4,     2.29,2
 06AQANTVIII_2,  SR04,   165,  1,     11,     11,2,19890925,0355,-66.0333, -35.0667, 4722,   2500.6,  -0.2573,  34.6622,3,  34.6600,2,    233.9,2,   122.70,2,    32.80,2,    -0.02,4,     2.27,2
 06AQANTVIII_2,  SR04,   165,  1,      9,      9,2,19890925,0355,-66.0333, -35.0667, 4722,   3003.6,  -0.3164,  34.6608,3,  34.6580,2,    237.9,2,   121.92,2,    32.70,2,    -0.01,4,     2.27,2
 06AQANTVIII_2,  SR04,   165,  1,     10,     10,2,19890925,0355,-66.0333, -35.0667, 4722,   3004.2,  -0.3164,  34.6605,3,  34.6600,2,    237.7,2,   122.12,2,    32.70,2,    -0.02,4,     2.27,2
 06AQANTVIII_2,  SR04,   165,  1,      8,      8,2,19890925,0355,-66.0333, -35.0667, 4722,   3508.6,  -0.3645,  34.6571,3,  34.6550,2,    241.5,2,   121.43,2,    32.60,2,    -0.01,4,     2.26,2
 06AQANTVIII_2,  SR04,   165,  1,      6,      6,2,19890925,0355,-66.0333, -35.0667, 4722,   4004.5,  -0.3975,  34.6561,3,  34.6550,2,    244.9,2,   122.41,2,    32.50,2,    -0.01,4,     2.26,2
 06AQANTVIII_2,  SR04,   165,  1,      7,      7,2,19890925,0355,-66.0333, -35.0667, 4722,   4005.1,  -0.3965,  34.6560,3,  34.6550,2,    244.6,2,   122.41,2,    32.50,2,    -0.01,4,     2.26,2
 06AQANTVIII_2,  SR04,   165,  1,      5,      5,2,19890925,0355,-66.0333, -35.0667, 4722,   4254.7,  -0.4315,  34.6531,3,  34.6510,2,    246.9,2,   120.25,2,    32.50,2,    -0.01,4,     2.25,2
 06AQANTVIII_2,  SR04,   165,  1,      4,      4,2,19890925,0355,-66.0333, -35.0667, 4722,   4511.0,  -0.5016,  34.6475,3,  34.6470,2,    250.5,2,   116.62,2,    32.40,2,    -0.01,4,     2.25,2
 06AQANTVIII_2,  SR04,   165,  1,      3,      3,2,19890925,0355,-66.0333, -35.0667, 4722,   4690.2,  -0.5486,  34.6427,3,  34.6430,2,    252.0,2,   118.58,2,    32.40,2,    -0.01,4,     2.23,2
 06AQANTVIII_2,  SR04,   165,  1,      2,      2,2,19890925,0355,-66.0333, -35.0667, 4722,   4739.9,  -0.5757,  34.6391,3,  34.6390,2,    253.2,2,   119.37,2,    32.50,2,    -0.01,4,     2.24,2
 06AQANTVIII_2,  SR04,   165,  1,      1,      1,2,19890925,0355,-66.0333, -35.0667, 4722,   4784.7,  -0.5997,  34.6356,3,  34.6360,2,    256.0,2,   112.10,2,    32.30,2,    -0.01,4,     2.23,2
 06AQANTVIII_2,  SR04,   166,  1,     23,     23,2,19890925,1515,-66.4000, -34.0167, 4678,      9.7,  -1.8486,  34.4922,3,-999.0000,9,   -999.0,9,  -999.00,9,  -999.00,9,  -999.00,9,  -999.00,9
 06AQANTVIII_2,  SR04,   166,  1,     24,     24,2,19890925,1515,-66.4000, -34.0167, 4678,     10.1,  -1.8476,  34.4922,3,  34.4920,2,    296.9,2,    73.59,2,    29.20,2,     0.19,2,     2.04,2
 06AQANTVIII_2,  SR04,   166,  1,     22,     22,2,19890925,1515,-66.4000, -34.0167, 4678,     18.9,  -1.8476,  34.4921,3,-999.0000,9,   -999.0,9,  -999.00,9,  -999.00,9,  -999.00,9,  -999.00,9
 06AQANTVIII_2,  SR04,   166,  1,     21,     21,2,19890925,1515,-66.4000, -34.0167, 4678,     39.1,  -1.8456,  34.4921,3,-999.0000,9,   -999.0,9,  -999.00,9,  -999.00,9,  -999.00,9,  -999.00,9
 06AQANTVIII_2,  SR04,   166,  1,     19,     19,2,19890925,1515,-66.4000, -34.0167, 4678,     57.8,  -1.8426,  34.4933,3,-999.0000,9,   -999.0,9,  -999.00,9,  -999.00,9,  -999.00,9,  -999.00,9
 06AQANTVIII_2,  SR04,   166,  1,     20,     20,2,19890925,1515,-66.4000, -34.0167, 4678,     57.9,  -1.8426,  34.4918,3,  34.4920,2,    297.3,2,    73.59,2,    29.20,2,     0.19,2,     2.05,2
 06AQANTVIII_2,  SR04,   166,  1,     18,     18,2,19890925,1515,-66.4000, -34.0167, 4678,     79.5,  -1.8386,  34.4928,3,-999.0000,9,   -999.0,9,  -999.00,9,  -999.00,9,  -999.00,9,  -999.00,9
 06AQANTVIII_2,  SR04,   166,  1,     16,     16,2,19890925,1515,-66.4000, -34.0167, 4678,     97.9,  -1.8316,  34.4952,3,  34.4910,2,    296.9,2,    73.59,2,    29.10,2,     0.21,2,     2.06,2
 06AQANTVIII_2,  SR04,   166,  1,     17,     17,2,19890925,1515,-66.4000, -34.0167, 4678,     98.0,  -1.8306,  34.4967,3,-999.0000,9,   -999.0,9,  -999.00,9,  -999.00,9,  -999.00,9,  -999.00,9
 06AQANTVIII_2,  SR04,   166,  1,     15,     15,2,19890925,1515,-66.4000, -34.0167, 4678,    128.8,  -1.8035,  34.4957,3,-999.0000,9,   -999.0,9,  -999.00,9,  -999.00,9,  -999.00,9,  -999.00,9
 06AQANTVIII_2,  SR04,   166,  1,     13,     13,2,19890925,1515,-66.4000, -34.0167, 4678,    237.2,   0.4574,  34.6803,3,-999.0000,9,   -999.0,9,  -999.00,9,  -999.00,9,  -999.00,9,  -999.00,9
 06AQANTVIII_2,  SR04,   166,  1,     14,     14,2,19890925,1515,-66.4000, -34.0167, 4678,    237.5,   0.4574,  34.6801,3,  34.6780,2,    195.7,2,   110.52,2,    34.00,2,     0.00,2,     2.37,2
 06AQANTVIII_2,  SR04,   166,  1,     11,     11,2,19890925,1515,-66.4000, -34.0167, 4678,    318.1,   0.4564,  34.6853,3,-999.0000,9,   -999.0,9,  -999.00,9,  -999.00,9,  -999.00,9,  -999.00,9
 06AQANTVIII_2,  SR04,   166,  1,     12,     12,2,19890925,1515,-66.4000, -34.0167, 4678,    322.3,   0.4584,  34.6858,3,  34.6820,2,    194.4,2,   115.53,2,    34.20,2,    -0.01,4,     2.37,2
 06AQANTVIII_2,  SR04,   166,  1,      9,      9,2,19890925,1515,-66.4000, -34.0167, 4678,    498.1,   0.3574,  34.6866,3,-999.0000,9,   -999.0,9,  -999.00,9,  -999.00,9,  -999.00,9,  -999.00,9
 06AQANTVIII_2,  SR04,   166,  1,     10,     10,2,19890925,1515,-66.4000, -34.0167, 4678,    499.7,   0.3574,  34.6856,3,  34.6840,2,    195.6,2,   120.54,2,    34.20,2,     0.00,2,     2.37,2
 06AQANTVIII_2,  SR04,   166,  1,      7,      7,2,19890925,1515,-66.4000, -34.0167, 4678,   1010.8,   0.1345,  34.6792,3,-999.0000,9,   -999.0,9,  -999.00,9,  -999.00,9,  -999.00,9,  -999.00,9
 06AQANTVIII_2,  SR04,   166,  1,      8,      8,2,19890925,1515,-66.4000, -34.0167, 4678,   1011.8,   0.1345,  34.6786,3,  34.6770,2,    208.3,2,   124.08,2,    33.70,2,     0.00,2,     2.35,2
 06AQANTVIII_2,  SR04,   166,  1,      6,      6,2,19890925,1515,-66.4000, -34.0167, 4678,   1999.3,  -0.1804,  34.6655,3,  34.6620,2,    232.2,2,   123.00,2,    33.10,2,     0.00,2,     2.32,2
 06AQANTVIII_2,  SR04,   166,  1,      4,      4,2,19890925,1515,-66.4000, -34.0167, 4678,   3507.7,  -0.3655,  34.6561,3,  34.6560,2,    242.6,2,   121.23,2,    32.50,2,     0.00,2,     2.27,2
 06AQANTVIII_2,  SR04,   166,  1,      5,      5,2,19890925,1515,-66.4000, -34.0167, 4678,   3508.0,  -0.3655,  34.6559,3,-999.0000,9,   -999.0,9,  -999.00,9,  -999.00,9,  -999.00,9,  -999.00,9
 06AQANTVIII_2,  SR04,   166,  1,      3,      3,2,19890925,1515,-66.4000, -34.0167, 4678,   4254.0,  -0.4305,  34.6515,3,  34.6510,2,   -999.0,9,   119.86,2,    32.50,2,     0.00,2,     2.26,2
 06AQANTVIII_2,  SR04,   166,  1,      2,      2,2,19890925,1515,-66.4000, -34.0167, 4678,   4705.7,  -0.5316,  34.6453,3,  34.6440,2,    251.3,2,   122.61,2,    32.60,2,     0.00,2,     2.27,2
 06AQANTVIII_2,  SR04,   166,  1,      1,      1,2,19890925,1515,-66.4000, -34.0167, 4678,   4758.5,  -0.5837,  34.6355,3,  34.6400,2,    255.4,2,   119.96,2,    32.50,2,     0.00,2,     2.26,2