BOTTLE,20221004CCHSIOAMB
EXPOCODE,SECT_ID,STNNBR,CASTNO,SAMPNO,BTLNBR,BTLNBR_FLAG_W,DATE,TIME,LATITUDE,LONGITUDE,DEPTH,CTDPRS,CTDTMP,CTDSAL,CTDSAL_FLAG_W,SALNTY,SALNTY_FLAG_W,OXYGEN,OXYGEN_FLAG_W,SILCAT,SILCAT_FLAG_W,NITRAT,NITRAT_FLAG_W,NITRIT,NITRIT_FLAG_W,PHSPHT,PHSPHT_FLAG_W
,,,,,,,,,,,,DBAR,ITS-90,PSS-78,,PSS-78,,UMOL/KG,,UMOL/KG,,UMOL/KG,,UMOL/KG,,UMOL/KG,
 06AQANTVIII_2,  SR04,   137,  1,     23,     23,2,19890911,1600,-62.0000, -57.0000,  702,      9.5,  -1.7008,  34.0366,3,-999.0000,9,   -999.0,9,  -999.00,9,  -999.00,9,  -999.00,9,  -999.00,9
 06AQANTVIII_2,  SR04,   137,  1,     22,     22,2,19890911,1600,-62.0000, -57.0000,  702,      9.5,  -1.6968,  34.0390,3,  34.0390,2,    336.6,2,    73.22,2,    30.61,2,     0.03,2,     2.13,2
 06AQANTVIII_2,  SR04,   137,  1,     20,     20,2,19890911,1600,-62.0000, -57.0000,  702,     19.1,  -1.6857,  34.0439,3,  34.0430,2,    335.9,2,    73.13,2,    30.61,2,     0.02,2,     2.14,2
 06AQANTVIII_2,  SR04,   137,  1,     21,     21,2,19890911,1600,-62.0000, -57.0000,  702,     19.2,  -1.6837,  34.0444,3,-999.0000,9,   -999.0,9,  -999.00,9,  -999.00,9,  -999.00,9,  -999.00,9
 06AQANTVIII_2,  SR04,   137,  1,     19,     19,2,19890911,1600,-62.0000, -57.0000,  702,     39.1,  -1.6347,  34.0648,3,-999.0000,9,   -999.0,9,  -999.00,9,  -999.00,9,  -999.00,9,  -999.00,9
 06AQANTVIII_2,  SR04,   137,  1,     17,     17,2,19890911,1600,-62.0000, -57.0000,  702,     59.1,  -1.6067,  34.0745,3,-999.0000,9,   -999.0,9,  -999.00,9,  -999.00,9,  -999.00,9,  -999.00,9
 06AQANTVIII_2,  SR04,   137,  1,     18,     18,2,19890911,1600,-62.0000, -57.0000,  702,     59.2,  -1.5997,  34.0761,3,  34.0690,2,    333.1,2,    73.42,2,    30.71,2,     0.01,2,     2.14,2
 06AQANTVIII_2,  SR04,   137,  1,     16,     16,2,19890911,1600,-62.0000, -57.0000,  702,     79.6,  -1.5236,  34.0872,3,  34.0820,2,    331.0,2,    73.62,2,    30.71,2,     0.00,2,     2.14,2
 06AQANTVIII_2,  SR04,   137,  1,     15,     15,2,19890911,1600,-62.0000, -57.0000,  702,     79.6,  -1.5226,  34.0860,3,-999.0000,9,   -999.0,9,  -999.00,9,  -999.00,9,  -999.00,9,  -999.00,9
 06AQANTVIII_2,  SR04,   137,  1,     14,     14,2,19890911,1600,-62.0000, -57.0000,  702,     99.5,  -1.1394,  34.1688,3,  34.1600,2,    325.6,2,    74.10,2,    30.91,2,    -0.01,4,     2.16,2
 06AQANTVIII_2,  SR04,   137,  1,     13,     13,2,19890911,1600,-62.0000, -57.0000,  702,     99.5,  -1.1394,  34.1798,3,-999.0000,9,   -999.0,9,  -999.00,9,  -999.00,9,  -999.00,9,  -999.00,9
 06AQANTVIII_2,  SR04,   137,  1,     11,     11,2,19890911,1600,-62.0000, -57.0000,  702,    149.2,  -0.9663,  34.2196,3,-999.0000,9,   -999.0,9,  -999.00,9,  -999.00,9,  -999.00,9,  -999.00,9
 06AQANTVIII_2,  SR04,   137,  1,     12,     12,2,19890911,1600,-62.0000, -57.0000,  702,    149.3,  -0.9623,  34.2137,3,  34.2070,2,    320.3,2,    74.69,2,    31.11,2,    -0.02,4,     2.20,2
 06AQANTVIII_2,  SR04,   137,  1,      9,      9,2,19890911,1600,-62.0000, -57.0000,  702,    199.3,  -1.0203,  34.2405,3,-999.0000,9,   -999.0,9,  -999.00,9,  -999.00,9,  -999.00,9,  -999.00,9
 06AQANTVIII_2,  SR04,   137,  1,     10,     10,2,19890911,1600,-62.0000, -57.0000,  702,    199.5,  -0.9933,  34.2356,3,  34.2470,3,    309.0,2,    76.56,2,    31.31,2,    -0.02,4,     2.19,2
 06AQANTVIII_2,  SR04,   137,  1,      7,      7,2,19890911,1600,-62.0000, -57.0000,  702,    299.2,  -0.3428,  34.3379,3,-999.0000,9,   -999.0,9,  -999.00,9,  -999.00,9,  -999.00,9,  -999.00,9
 06AQANTVIII_2,  SR04,   137,  1,      8,      8,2,19890911,1600,-62.0000, -57.0000,  702,    299.3,  -0.3428,  34.3405,3,  34.3310,2,    285.2,2,    79.30,2,    31.60,2,     0.19,2,     2.24,2
 06AQANTVIII_2,  SR04,   137,  1,      6,      6,2,19890911,1600,-62.0000, -57.0000,  702,    399.7,   0.1599,  34.4685,3,  34.4620,2,    246.2,2,    84.60,2,    32.10,2,     0.18,2,     2.23,2
 06AQANTVIII_2,  SR04,   137,  1,      5,      5,2,19890911,1600,-62.0000, -57.0000,  702,    399.7,   0.1529,  34.4711,3,-999.0000,9,   -999.0,9,  -999.00,9,  -999.00,9,  -999.00,9,  -999.00,9
 06AQANTVIII_2,  SR04,   137,  1,      3,      3,2,19890911,1600,-62.0000, -57.0000,  702,    500.2,   0.2708,  34.5157,3,-999.0000,9,   -999.0,9,  -999.00,9,  -999.00,9,  -999.00,9,  -999.00,9
 06AQANTVIII_2,  SR04,   137,  1,      4,      4,2,19890911,1600,-62.0000, -57.0000,  702,    500.6,   0.2368,  34.5155,3,  34.5200,2,    232.0,2,    87.25,2,    32.30,2,     0.18,2,     2.29,2
 06AQANTVIII_2,  SR04,   137,  1,      2,      2,2,19890911,1600,-62.0000, -57.0000,  702,    700.6,   0.2039,  34.5642,3,  34.5340,3,    239.2,2,    87.74,2,    32.10,2,     0.16,2,     2.25,2
 06AQANTVIII_2,  SR04,   137,  1,      1,      1,2,19890911,1600,-62.0000, -57.0000,  702,    700.6,   0.2039,  34.5642,3,-999.0000,9,   -999.0,9,  -999.00,9,  -999.00,9,  -999.00,9,  -999.00,9
 06AQANTVIII_2,  SR04,   138,  1,     24,     24,2,19890911,1940,-62.1667, -56.5333, 1122,      8.9,  -1.6657,  34.0722,3,  34.0840,3,    337.6,2,    75.68,2,    30.41,2,     0.06,2,     2.17,2
 06AQANTVIII_2,  SR04,   138,  1,     23,     23,2,19890911,1940,-62.1667, -56.5333, 1122,      9.0,  -1.6677,  34.0745,3,-999.0000,9,   -999.0,9,  -999.00,9,  -999.00,9,  -999.00,9,  -999.00,9
 06AQANTVIII_2,  SR04,   138,  1,     22,     22,2,19890911,1940,-62.1667, -56.5333, 1122,     18.9,  -1.6757,  34.0981,3,  34.0960,2,    337.2,2,    75.97,2,    30.41,2,     0.07,2,     2.18,2
 06AQANTVIII_2,  SR04,   138,  1,     21,     21,2,19890911,1940,-62.1667, -56.5333, 1122,     18.9,  -1.6757,  34.0912,3,-999.0000,9,   -999.0,9,  -999.00,9,  -999.00,9,  -999.00,9,  -999.00,9
 06AQANTVIII_2,  SR04,   138,  1,     20,     20,2,19890911,1940,-62.1667, -56.5333, 1122,     29.3,  -1.6757,  34.1123,3,  34.1200,2,    335.4,2,    76.46,2,    30.61,2,     0.06,2,     2.19,2
 06AQANTVIII_2,  SR04,   138,  1,     19,     19,2,19890911,1940,-62.1667, -56.5333, 1122,     29.8,  -1.6757,  34.1134,3,-999.0000,9,   -999.0,9,  -999.00,9,  -999.00,9,  -999.00,9,  -999.00,9
 06AQANTVIII_2,  SR04,   138,  1,     17,     17,2,19890911,1940,-62.1667, -56.5333, 1122,     38.6,  -1.6737,  34.1291,3,-999.0000,9,   -999.0,9,  -999.00,9,  -999.00,9,  -999.00,9,  -999.00,9
 06AQANTVIII_2,  SR04,   138,  1,     18,     18,2,19890911,1940,-62.1667, -56.5333, 1122,     38.7,  -1.6727,  34.1279,3,  34.1500,3,    333.1,2,    76.95,2,    30.61,2,     0.04,2,     2.17,2
 06AQANTVIII_2,  SR04,   138,  1,     15,     15,2,19890911,1940,-62.1667, -56.5333, 1122,     57.8,  -1.6587,  34.1802,3,-999.0000,9,   -999.0,9,  -999.00,9,  -999.00,9,  -999.00,9,  -999.00,9
 06AQANTVIII_2,  SR04,   138,  1,     16,     16,2,19890911,1940,-62.1667, -56.5333, 1122,     58.0,  -1.6597,  34.1771,3,  34.1860,2,    331.2,2,    77.74,2,    30.71,2,     0.05,2,     2.18,2
 06AQANTVIII_2,  SR04,   138,  1,     13,     13,2,19890911,1940,-62.1667, -56.5333, 1122,     78.5,  -1.6687,  34.1910,3,-999.0000,9,   -999.0,9,  -999.00,9,  -999.00,9,  -999.00,9,  -999.00,9
 06AQANTVIII_2,  SR04,   138,  1,     14,     14,2,19890911,1940,-62.1667, -56.5333, 1122,     78.8,  -1.6697,  34.1920,3,  34.2000,2,    330.6,2,    78.03,2,    30.71,2,     0.04,2,     2.18,2
 06AQANTVIII_2,  SR04,   138,  1,     11,     11,2,19890911,1940,-62.1667, -56.5333, 1122,    100.7,  -1.6727,  34.1981,3,-999.0000,9,   -999.0,9,  -999.00,9,  -999.00,9,  -999.00,9,  -999.00,9
 06AQANTVIII_2,  SR04,   138,  1,     12,     12,2,19890911,1940,-62.1667, -56.5333, 1122,    101.7,  -1.6737,  34.2000,3,  34.2020,2,    329.9,2,    78.03,2,    30.61,2,     0.03,2,     2.17,2
 06AQANTVIII_2,  SR04,   138,  1,     10,     10,2,19890911,1940,-62.1667, -56.5333, 1122,    146.4,  -1.6687,  34.2659,3,  34.3040,3,    316.0,2,    80.39,2,    31.01,2,     0.02,2,     2.19,2
 06AQANTVIII_2,  SR04,   138,  1,      9,      9,2,19890911,1940,-62.1667, -56.5333, 1122,    146.6,  -1.6837,  34.2678,3,-999.0000,9,   -999.0,9,  -999.00,9,  -999.00,9,  -999.00,9,  -999.00,9
 06AQANTVIII_2,  SR04,   138,  1,      7,      7,2,19890911,1940,-62.1667, -56.5333, 1122,    250.2,  -0.7321,  34.4376,3,-999.0000,9,   -999.0,9,  -999.00,9,  -999.00,9,  -999.00,9,  -999.00,9
 06AQANTVIII_2,  SR04,   138,  1,      8,      8,2,19890911,1940,-62.1667, -56.5333, 1122,    254.2,  -0.7931,  34.4288,3,  34.4420,3,    279.2,2,    83.91,2,    31.50,2,     0.01,2,     2.23,2
 06AQANTVIII_2,  SR04,   138,  1,      5,      5,2,19890911,1940,-62.1667, -56.5333, 1122,    398.5,  -1.0983,  34.4943,3,-999.0000,9,   -999.0,9,  -999.00,9,  -999.00,9,  -999.00,9,  -999.00,9
 06AQANTVIII_2,  SR04,   138,  1,      6,      6,2,19890911,1940,-62.1667, -56.5333, 1122,    399.3,  -1.0863,  34.4951,3,  34.5000,2,    283.3,2,    85.09,2,    31.40,2,     0.01,2,     2.23,2
 06AQANTVIII_2,  SR04,   138,  1,      3,      3,2,19890911,1940,-62.1667, -56.5333, 1122,    645.0,  -0.9393,  34.5264,3,-999.0000,9,   -999.0,9,  -999.00,9,  -999.00,9,  -999.00,9,  -999.00,9
 06AQANTVIII_2,  SR04,   138,  1,      4,      4,2,19890911,1940,-62.1667, -56.5333, 1122,    645.2,  -0.9383,  34.5265,3,  34.5260,2,    271.0,2,    86.76,2,    31.60,2,     0.02,2,     2.24,2
 06AQANTVIII_2,  SR04,   138,  1,      1,      1,2,19890911,1940,-62.1667, -56.5333, 1122,    998.0,  -1.0843,  34.5406,3,-999.0000,9,   -999.0,9,  -999.00,9,  -999.00,9,  -999.00,9,  -999.00,9
 06AQANTVIII_2,  SR04,   138,  1,      2,      2,2,19890911,1940,-62.1667, -56.5333, 1122,    999.9,  -1.0863,  34.5417,3,  34.5400,2,    279.2,2,    85.87,2,    31.30,2,     0.02,2,     2.23,2
 06AQANTVIII_2,  SR04,   139,  1,     24,     24,2,19890911,2223,-62.3333, -56.1667,  424,      9.3,  -1.7588,  34.3522,3,-999.0000,9,    324.1,2,    78.28,2,    30.77,2,     0.04,2,     2.19,2
 06AQANTVIII_2,  SR04,   139,  1,     22,     22,2,19890911,2223,-62.3333, -56.1667,  424,     18.7,  -1.7598,  34.3529,3,  34.3540,2,    324.4,2,    78.42,2,    30.80,2,     0.04,2,     2.19,2
 06AQANTVIII_2,  SR04,   139,  1,     23,     23,2,19890911,2223,-62.3333, -56.1667,  424,     19.1,  -1.7538,  34.3527,3,-999.0000,9,   -999.0,9,  -999.00,9,  -999.00,9,  -999.00,9,  -999.00,9
 06AQANTVIII_2,  SR04,   139,  1,     20,     20,2,19890911,2223,-62.3333, -56.1667,  424,     38.8,  -1.7598,  34.3805,3,  34.3850,2,    322.0,2,    78.41,2,    30.80,2,     0.04,2,     2.18,2
 06AQANTVIII_2,  SR04,   139,  1,     21,     21,2,19890911,2223,-62.3333, -56.1667,  424,     39.0,  -1.7588,  34.3778,3,-999.0000,9,   -999.0,9,  -999.00,9,  -999.00,9,  -999.00,9,  -999.00,9
 06AQANTVIII_2,  SR04,   139,  1,     19,     19,2,19890911,2223,-62.3333, -56.1667,  424,     58.1,  -1.7488,  34.3888,3,-999.0000,9,   -999.0,9,  -999.00,9,  -999.00,9,  -999.00,9,  -999.00,9
 06AQANTVIII_2,  SR04,   139,  1,     18,     18,2,19890911,2223,-62.3333, -56.1667,  424,     58.5,  -1.7468,  34.3918,3,  34.3920,2,    321.0,2,    78.41,2,    30.80,2,     0.03,2,     2.18,2
 06AQANTVIII_2,  SR04,   139,  1,     17,     17,2,19890911,2223,-62.3333, -56.1667,  424,     79.0,  -1.7218,  34.3943,3,-999.0000,9,   -999.0,9,  -999.00,9,  -999.00,9,  -999.00,9,  -999.00,9
 06AQANTVIII_2,  SR04,   139,  1,     16,     16,2,19890911,2223,-62.3333, -56.1667,  424,     79.0,  -1.7268,  34.3917,3,  34.3970,2,    320.7,2,    78.41,2,    30.80,2,     0.03,2,     2.18,2
 06AQANTVIII_2,  SR04,   139,  1,     14,     14,2,19890911,2223,-62.3333, -56.1667,  424,     98.4,  -1.7268,  34.3973,3,  34.3980,2,    319.8,2,    78.41,2,    30.90,2,     0.04,2,     2.18,2
 06AQANTVIII_2,  SR04,   139,  1,     15,     15,2,19890911,2223,-62.3333, -56.1667,  424,     98.6,  -1.7268,  34.3972,3,-999.0000,9,   -999.0,9,  -999.00,9,  -999.00,9,  -999.00,9,  -999.00,9
 06AQANTVIII_2,  SR04,   139,  1,     13,     13,2,19890911,2223,-62.3333, -56.1667,  424,    149.4,  -1.7338,  34.4339,3,-999.0000,9,   -999.0,9,  -999.00,9,  -999.00,9,  -999.00,9,  -999.00,9
 06AQANTVIII_2,  SR04,   139,  1,     12,     12,2,19890911,2223,-62.3333, -56.1667,  424,    150.1,  -1.7268,  34.4351,3,  34.4500,3,    314.4,2,    78.12,2,    30.70,2,     0.03,2,     2.17,2
 06AQANTVIII_2,  SR04,   139,  1,     10,     10,2,19890911,2223,-62.3333, -56.1667,  424,    199.2,  -1.6687,  34.4878,3,  34.4880,2,    308.4,2,    78.41,2,    30.80,2,     0.02,2,     2.18,2
 06AQANTVIII_2,  SR04,   139,  1,     11,     11,2,19890911,2223,-62.3333, -56.1667,  424,    199.4,  -1.6717,  34.4842,3,-999.0000,9,   -999.0,9,  -999.00,9,  -999.00,9,  -999.00,9,  -999.00,9
 06AQANTVIII_2,  SR04,   139,  1,      4,      4,2,19890911,2223,-62.3333, -56.1667,  424,    300.1,  -1.1504,  34.5411,3,  34.5460,2,    279.5,2,    85.09,2,    31.20,2,     0.02,2,     2.22,2
 06AQANTVIII_2,  SR04,   139,  1,      5,      5,2,19890911,2223,-62.3333, -56.1667,  424,    300.3,  -1.1444,  34.5423,3,  34.5460,2,   -999.0,9,  -999.00,9,  -999.00,9,  -999.00,9,  -999.00,9
 06AQANTVIII_2,  SR04,   139,  1,      6,      6,2,19890911,2223,-62.3333, -56.1667,  424,    300.4,  -1.1434,  34.5425,3,  34.5450,2,    279.4,2,    85.09,2,    31.10,2,     0.02,2,     2.21,2
 06AQANTVIII_2,  SR04,   139,  1,      7,      7,2,19890911,2223,-62.3333, -56.1667,  424,    300.5,  -1.1414,  34.5429,3,-999.0000,9,   -999.0,9,  -999.00,9,  -999.00,9,  -999.00,9,  -999.00,9
 06AQANTVIII_2,  SR04,   139,  1,      8,      8,2,19890911,2223,-62.3333, -56.1667,  424,    300.8,  -1.1384,  34.5433,3,  34.5440,2,    280.0,2,    85.28,2,    31.10,2,     0.02,2,     2.21,2
 06AQANTVIII_2,  SR04,   139,  1,      9,      9,2,19890911,2223,-62.3333, -56.1667,  424,    300.9,  -1.1374,  34.5435,3,-999.0000,9,   -999.0,9,  -999.00,9,  -999.00,9,  -999.00,9,  -999.00,9
 06AQANTVIII_2,  SR04,   139,  1,      3,      3,2,19890911,2223,-62.3333, -56.1667,  424,    417.7,  -1.1864,  34.5499,3,  34.5520,2,   -999.0,9,  -999.00,9,  -999.00,9,  -999.00,9,  -999.00,9
 06AQANTVIII_2,  SR04,   139,  1,      2,      2,2,19890911,2223,-62.3333, -56.1667,  424,    417.7,  -1.1864,  34.5499,3,  34.5530,2,    282.2,2,    84.59,2,    31.10,2,     0.03,2,     2.22,2
 06AQANTVIII_2,  SR04,   139,  1,      1,      1,2,19890911,2223,-62.3333, -56.1667,  424,    417.8,  -1.1864,  34.5498,3,-999.0000,9,   -999.0,9,  -999.00,9,  -999.00,9,  -999.00,9,  -999.00,9
 06AQANTVIII_2,  SR04,   140,  1,     23,     23,2,19890912,0051,-62.5000, -55.7617, -999,      8.9,  -1.8908,  34.5539,3,-999.0000,9,   -999.0,9,  -999.00,9,  -999.00,9,  -999.00,9,  -999.00,9
 06AQANTVIII_2,  SR04,   140,  1,     22,     22,2,19890912,0051,-62.5000, -55.7617, -999,      8.9,  -1.8908,  34.5539,3,  34.5600,2,    324.6,2,    76.14,2,    30.00,2,     0.00,2,     2.18,2
 06AQANTVIII_2,  SR04,   140,  1,     21,     21,2,19890912,0051,-62.5000, -55.7617, -999,     19.0,  -1.8918,  34.5541,3,-999.0000,9,   -999.0,9,  -999.00,9,  -999.00,9,  -999.00,9,  -999.00,9
 06AQANTVIII_2,  SR04,   140,  1,     20,     20,2,19890912,0051,-62.5000, -55.7617, -999,     19.0,  -1.8918,  34.5541,3,  34.5600,2,    323.8,2,    76.14,2,    30.10,2,     0.01,2,     2.18,2
 06AQANTVIII_2,  SR04,   140,  1,     19,     19,2,19890912,0051,-62.5000, -55.7617, -999,     39.4,  -1.8928,  34.5560,3,-999.0000,9,   -999.0,9,  -999.00,9,  -999.00,9,  -999.00,9,  -999.00,9
 06AQANTVIII_2,  SR04,   140,  1,     18,     18,2,19890912,0051,-62.5000, -55.7617, -999,     39.4,  -1.8928,  34.5560,3,  34.5610,2,    323.4,2,    76.14,2,    30.00,2,     0.01,2,     2.17,2
 06AQANTVIII_2,  SR04,   140,  1,     16,     16,2,19890912,0051,-62.5000, -55.7617, -999,     59.0,  -1.8928,  34.5545,3,  34.5620,2,    324.0,2,    76.34,2,    30.00,2,     0.01,2,     2.17,2
 06AQANTVIII_2,  SR04,   140,  1,     17,     17,2,19890912,0051,-62.5000, -55.7617, -999,     59.1,  -1.8928,  34.5558,3,-999.0000,9,   -999.0,9,  -999.00,9,  -999.00,9,  -999.00,9,  -999.00,9
 06AQANTVIII_2,  SR04,   140,  1,     15,     15,2,19890912,0051,-62.5000, -55.7617, -999,     79.6,  -1.8948,  34.5603,3,-999.0000,9,   -999.0,9,  -999.00,9,  -999.00,9,  -999.00,9,  -999.00,9
 06AQANTVIII_2,  SR04,   140,  1,     14,     14,2,19890912,0051,-62.5000, -55.7617, -999,     81.2,  -1.8948,  34.5592,3,  34.5660,2,    323.5,2,    76.14,2,    30.40,2,     0.01,2,     2.19,2
 06AQANTVIII_2,  SR04,   140,  1,     12,     12,2,19890912,0051,-62.5000, -55.7617, -999,    100.2,  -1.8958,  34.5733,3,  34.5700,2,    323.9,2,    76.34,2,    30.30,2,     0.01,2,     2.19,2
 06AQANTVIII_2,  SR04,   140,  1,     13,     13,2,19890912,0051,-62.5000, -55.7617, -999,    100.3,  -1.8958,  34.5732,3,-999.0000,9,   -999.0,9,  -999.00,9,  -999.00,9,  -999.00,9,  -999.00,9
 06AQANTVIII_2,  SR04,   140,  1,     11,     11,2,19890912,0051,-62.5000, -55.7617, -999,    148.3,  -1.8958,  34.5644,3,-999.0000,9,   -999.0,9,  -999.00,9,  -999.00,9,  -999.00,9,  -999.00,9
 06AQANTVIII_2,  SR04,   140,  1,     10,     10,2,19890912,0051,-62.5000, -55.7617, -999,    148.3,  -1.8958,  34.5630,3,  34.5680,2,    323.5,2,    76.44,2,    30.40,2,     0.01,2,     2.19,2
 06AQANTVIII_2,  SR04,   140,  1,      9,      9,2,19890912,0051,-62.5000, -55.7617, -999,    148.3,  -1.8958,  34.5630,3,  34.5700,2,   -999.0,9,  -999.00,9,  -999.00,9,  -999.00,9,  -999.00,9
 06AQANTVIII_2,  SR04,   140,  1,      8,      8,2,19890912,0051,-62.5000, -55.7617, -999,    148.3,  -1.8938,  34.5620,3,  34.5880,4,    323.7,2,    76.44,2,    30.30,2,     0.01,2,     2.17,2
 06AQANTVIII_2,  SR04,   140,  1,      7,      7,2,19890912,0051,-62.5000, -55.7617, -999,    148.4,  -1.8918,  34.5624,3,  34.5700,2,   -999.0,9,  -999.00,9,  -999.00,9,  -999.00,9,  -999.00,9
 06AQANTVIII_2,  SR04,   140,  1,      6,      6,2,19890912,0051,-62.5000, -55.7617, -999,    148.4,  -1.8928,  34.5622,3,  34.5700,2,    325.0,2,    76.44,2,    30.40,2,     0.01,2,     2.19,2
 06AQANTVIII_2,  SR04,   140,  1,      4,      4,2,19890912,0051,-62.5000, -55.7617, -999,    148.4,  -1.8928,  34.5636,3,  34.5690,2,    323.3,2,    76.34,2,  -999.00,9,     0.02,2,     2.18,2
 06AQANTVIII_2,  SR04,   140,  1,      3,      3,2,19890912,0051,-62.5000, -55.7617, -999,    148.4,  -1.8938,  34.5662,3,-999.0000,9,   -999.0,9,  -999.00,9,  -999.00,9,  -999.00,9,  -999.00,9
 06AQANTVIII_2,  SR04,   140,  1,      5,      5,2,19890912,0051,-62.5000, -55.7617, -999,    148.5,  -1.8928,  34.5635,3,  34.5700,2,   -999.0,9,  -999.00,9,  -999.00,9,  -999.00,9,  -999.00,9
 06AQANTVIII_2,  SR04,   140,  1,      2,      2,2,19890912,0051,-62.5000, -55.7617, -999,    178.3,  -1.8898,  34.5631,3,  34.5700,2,    330.4,2,    76.34,2,    30.40,2,     0.02,2,     2.18,2
 06AQANTVIII_2,  SR04,   140,  1,      1,      1,2,19890912,0051,-62.5000, -55.7617, -999,    178.3,  -1.8898,  34.5631,3,-999.0000,9,   -999.0,9,  -999.00,9,  -999.00,9,  -999.00,9,  -999.00,9