BOTTLE,20221004CCHSIOAMB
EXPOCODE,SECT_ID,STNNBR,CASTNO,SAMPNO,BTLNBR,BTLNBR_FLAG_W,DATE,TIME,LATITUDE,LONGITUDE,DEPTH,CTDPRS,CTDTMP,CTDSAL,CTDSAL_FLAG_W,SALNTY,SALNTY_FLAG_W,OXYGEN,OXYGEN_FLAG_W,SILCAT,SILCAT_FLAG_W,NITRAT,NITRAT_FLAG_W,NITRIT,NITRIT_FLAG_W,PHSPHT,PHSPHT_FLAG_W
,,,,,,,,,,,,DBAR,ITS-90,PSS-78,,PSS-78,,UMOL/KG,,UMOL/KG,,UMOL/KG,,UMOL/KG,,UMOL/KG,
 06AQANTVIII_2,  SR02,   194,  1,     24,     24,2,19891012,0350,-70.1167,  -8.1833, 2120,     21.4,  -1.8241,  34.4158,3,  34.4060,2,    313.1,2,    61.71,2,    30.30,2,     0.02,2,     2.12,2
 06AQANTVIII_2,  SR02,   194,  1,     23,     23,2,19891012,0350,-70.1167,  -8.1833, 2120,     50.0,  -1.8171,  34.4168,3,  34.4150,2,    313.4,2,    61.71,2,    30.30,2,     0.02,2,     2.12,2
 06AQANTVIII_2,  SR02,   194,  1,     22,     22,2,19891012,0350,-70.1167,  -8.1833, 2120,     79.8,  -1.8181,  34.4152,3,  34.4140,2,   -999.0,9,  -999.00,9,  -999.00,9,  -999.00,9,  -999.00,9
 06AQANTVIII_2,  SR02,   194,  1,     21,     21,2,19891012,0350,-70.1167,  -8.1833, 2120,     79.8,  -1.8171,  34.4141,3,  34.4160,2,   -999.0,9,  -999.00,9,  -999.00,9,  -999.00,9,  -999.00,9
 06AQANTVIII_2,  SR02,   194,  1,     20,     20,2,19891012,0350,-70.1167,  -8.1833, 2120,     79.8,  -1.8161,  34.4143,3,  34.4170,2,   -999.0,9,  -999.00,9,  -999.00,9,  -999.00,9,  -999.00,9
 06AQANTVIII_2,  SR02,   194,  1,     19,     19,2,19891012,0350,-70.1167,  -8.1833, 2120,     79.8,  -1.8171,  34.4155,3,  34.4140,2,    313.5,2,    61.61,2,    30.30,2,     0.02,2,     2.11,2
 06AQANTVIII_2,  SR02,   194,  1,     18,     18,2,19891012,0350,-70.1167,  -8.1833, 2120,     79.8,  -1.8161,  34.4143,3,  34.4150,2,    313.5,2,    61.61,2,    30.30,2,     0.02,2,     2.11,2
 06AQANTVIII_2,  SR02,   194,  1,     17,     17,2,19891012,0350,-70.1167,  -8.1833, 2120,    120.3,  -1.8091,  34.4147,3,  34.4180,2,    315.9,2,    61.61,2,    30.30,2,     0.01,2,     2.12,2
 06AQANTVIII_2,  SR02,   194,  1,     16,     16,2,19891012,0350,-70.1167,  -8.1833, 2120,    181.7,  -1.7380,  34.4207,3,  34.4310,4,    306.0,2,    63.08,2,    30.50,2,     0.01,2,     2.12,2
 06AQANTVIII_2,  SR02,   194,  1,     15,     15,2,19891012,0350,-70.1167,  -8.1833, 2120,    199.2,  -1.5619,  34.4378,3,  34.4420,2,    302.5,2,    64.16,2,    30.60,2,     0.00,2,     2.14,2
 06AQANTVIII_2,  SR02,   194,  1,     14,     14,2,19891012,0350,-70.1167,  -8.1833, 2120,    300.3,  -1.3248,  34.4714,3,  34.4850,4,    285.7,2,    69.37,2,    31.10,2,     0.01,2,     2.16,2
 06AQANTVIII_2,  SR02,   194,  1,     13,     13,2,19891012,0350,-70.1167,  -8.1833, 2120,    380.8,  -0.7946,  34.5272,3,  34.5430,4,    257.8,2,    78.11,2,    31.60,2,     0.00,2,     2.22,2
 06AQANTVIII_2,  SR02,   194,  1,     12,     12,2,19891012,0350,-70.1167,  -8.1833, 2120,    407.9,  -0.3846,  34.5597,3,  34.5590,2,    250.1,2,    80.27,2,    31.80,2,     0.00,2,     2.22,2
 06AQANTVIII_2,  SR02,   194,  1,     11,     11,2,19891012,0350,-70.1167,  -8.1833, 2120,    602.6,   0.4483,  34.6448,3,  34.6540,2,    218.4,2,    93.72,2,    32.20,2,     0.01,2,     2.25,2
 06AQANTVIII_2,  SR02,   194,  1,     10,     10,2,19891012,0350,-70.1167,  -8.1833, 2120,    701.6,   0.5643,  34.6637,3,  34.6710,2,    213.4,2,    98.14,2,    32.20,2,     0.00,2,     2.26,2
 06AQANTVIII_2,  SR02,   194,  1,      9,      9,2,19891012,0350,-70.1167,  -8.1833, 2120,    801.1,   0.6602,  34.6801,3,  34.6850,2,    209.6,2,   103.15,2,    32.30,2,     0.00,2,     2.27,2
 06AQANTVIII_2,  SR02,   194,  1,      8,      8,2,19891012,0350,-70.1167,  -8.1833, 2120,   1011.9,   0.4603,  34.6746,3,  34.6800,2,    212.3,2,   108.46,2,    32.50,2,    -0.01,4,     2.30,2
 06AQANTVIII_2,  SR02,   194,  1,      7,      7,2,19891012,0350,-70.1167,  -8.1833, 2120,   1201.0,   0.3453,  34.6724,3,  34.6790,2,    214.8,2,   112.09,2,    32.60,2,     0.01,2,     2.30,2
 06AQANTVIII_2,  SR02,   194,  1,      6,      6,2,19891012,0350,-70.1167,  -8.1833, 2120,   1401.1,   0.2443,  34.6693,3,  34.7830,4,    216.2,2,   115.14,2,    32.80,2,     0.02,2,     2.31,2
 06AQANTVIII_2,  SR02,   194,  1,      5,      5,2,19891012,0350,-70.1167,  -8.1833, 2120,   1599.4,   0.1834,  34.6682,3,  34.7760,4,    217.9,2,   116.12,2,    32.80,2,     0.02,2,     2.31,2
 06AQANTVIII_2,  SR02,   194,  1,      4,      4,2,19891012,0350,-70.1167,  -8.1833, 2120,   1800.4,   0.1434,  34.6672,3,  34.7790,4,    218.7,2,   118.28,2,    32.80,2,     0.02,2,     2.32,2
 06AQANTVIII_2,  SR02,   194,  1,      3,      3,2,19891012,0350,-70.1167,  -8.1833, 2120,   1969.3,   0.1124,  34.6655,3,  34.7760,4,    220.3,2,   119.27,2,    32.80,2,    -0.01,4,     2.32,2
 06AQANTVIII_2,  SR02,   194,  1,      2,      2,2,19891012,0350,-70.1167,  -8.1833, 2120,   2027.9,   0.1004,  34.6662,3,  34.7780,4,    220.3,2,   119.76,2,    32.80,2,     0.01,2,     2.30,2
 06AQANTVIII_2,  SR02,   194,  1,      1,      1,2,19891012,0350,-70.1167,  -8.1833, 2120,   2076.5,   0.0894,  34.6659,3,  34.7750,4,    221.1,2,   119.76,2,    32.80,2,     0.01,2,     2.32,2
 06AQANTVIII_2,  SR02,   195,  1,     24,     24,2,19891012,1455,-69.6167,  -8.2167, 2348,     10.3,  -1.7721,  34.4760,3,-999.0000,9,    287.3,2,    74.87,2,    31.20,2,     0.07,2,     2.07,2
 06AQANTVIII_2,  SR02,   195,  1,     23,     23,2,19891012,1455,-69.6167,  -8.2167, 2348,     22.6,  -1.7711,  34.4751,3,-999.0000,9,   -999.0,9,    75.07,2,    31.20,2,     0.09,2,     2.10,2
 06AQANTVIII_2,  SR02,   195,  1,     22,     22,2,19891012,1455,-69.6167,  -8.2167, 2348,     22.6,  -1.7721,  34.4762,3,  34.4750,2,    285.5,2,    75.07,2,    31.20,2,     0.08,2,     2.08,2
 06AQANTVIII_2,  SR02,   195,  1,     21,     21,2,19891012,1455,-69.6167,  -8.2167, 2348,     41.0,  -1.7731,  34.4751,3,-999.0000,9,    286.3,2,    75.46,2,    31.30,2,     0.10,2,     2.05,2
 06AQANTVIII_2,  SR02,   195,  1,     20,     20,2,19891012,1455,-69.6167,  -8.2167, 2348,     61.2,  -1.7711,  34.4762,3,  34.4810,2,    285.2,2,    75.26,2,    31.30,2,     0.09,2,     2.08,2
 06AQANTVIII_2,  SR02,   195,  1,     19,     19,2,19891012,1455,-69.6167,  -8.2167, 2348,     61.2,  -1.7731,  34.4772,3,-999.0000,9,   -999.0,9,    75.26,2,    31.40,2,     0.09,2,     2.09,2
 06AQANTVIII_2,  SR02,   195,  1,     18,     18,2,19891012,1455,-69.6167,  -8.2167, 2348,     80.9,  -1.7580,  34.4802,3,-999.0000,9,    285.5,2,    74.97,2,    31.30,2,     0.09,2,     2.09,2
 06AQANTVIII_2,  SR02,   195,  1,     17,     17,2,19891012,1455,-69.6167,  -8.2167, 2348,     99.9,  -1.5359,  34.5175,3,-999.0000,9,    280.8,2,    76.44,2,    31.40,2,     0.08,2,     2.10,2
 06AQANTVIII_2,  SR02,   195,  1,     16,     16,2,19891012,1455,-69.6167,  -8.2167, 2348,    150.5,  -0.3046,  34.5857,3,-999.0000,9,    241.4,2,    85.87,2,    32.10,2,     0.01,2,     2.17,2
 06AQANTVIII_2,  SR02,   195,  1,     14,     14,2,19891012,1455,-69.6167,  -8.2167, 2348,    201.6,   0.1184,  34.6244,3,  34.4720,4,    227.7,2,    90.78,2,    32.20,2,     0.01,2,     2.17,2
 06AQANTVIII_2,  SR02,   195,  1,     15,     15,2,19891012,1455,-69.6167,  -8.2167, 2348,    201.7,   0.1174,  34.6242,3,-999.0000,9,   -999.0,9,    90.39,2,    32.20,2,     0.01,2,     2.19,2
 06AQANTVIII_2,  SR02,   195,  1,     13,     13,2,19891012,1455,-69.6167,  -8.2167, 2348,    320.6,   0.3603,  34.6472,3,  34.4790,4,    220.2,2,    94.31,2,    32.20,2,     0.02,2,     2.19,2
 06AQANTVIII_2,  SR02,   195,  1,     12,     12,2,19891012,1455,-69.6167,  -8.2167, 2348,    441.3,   0.3933,  34.6548,3,  34.6290,4,    219.5,2,    96.28,2,    32.20,2,     0.02,2,     2.20,2
 06AQANTVIII_2,  SR02,   195,  1,     10,     10,2,19891012,1455,-69.6167,  -8.2167, 2348,    539.0,   0.5133,  34.6706,3,  34.6570,4,    213.6,2,   101.68,2,    32.30,2,     0.03,2,     2.20,2
 06AQANTVIII_2,  SR02,   195,  1,     11,     11,2,19891012,1455,-69.6167,  -8.2167, 2348,    539.3,   0.5473,  34.6663,3,-999.0000,9,   -999.0,9,   101.29,2,    32.30,2,     0.00,2,     2.22,2
 06AQANTVIII_2,  SR02,   195,  1,      8,      8,2,19891012,1455,-69.6167,  -8.2167, 2348,    752.3,   0.4953,  34.6790,3,  34.6790,2,    212.0,2,   108.16,2,    32.50,2,     0.00,2,     2.23,2
 06AQANTVIII_2,  SR02,   195,  1,      9,      9,2,19891012,1455,-69.6167,  -8.2167, 2348,    752.4,   0.4953,  34.6803,3,-999.0000,9,   -999.0,9,   107.87,2,    32.50,2,     0.01,2,     2.22,2
 06AQANTVIII_2,  SR02,   195,  1,      6,      6,2,19891012,1455,-69.6167,  -8.2167, 2348,    998.9,   0.3523,  34.6748,3,  34.6750,2,    213.6,2,   112.88,2,    32.80,2,     0.01,2,     2.25,2
 06AQANTVIII_2,  SR02,   195,  1,      7,      7,2,19891012,1455,-69.6167,  -8.2167, 2348,    999.3,   0.3503,  34.6755,3,-999.0000,9,   -999.0,9,   112.78,2,    32.80,2,     0.01,2,     2.28,2
 06AQANTVIII_2,  SR02,   195,  1,      5,      5,2,19891012,1455,-69.6167,  -8.2167, 2348,   1499.6,   0.1334,  34.6699,3,  34.6730,2,    218.5,2,   118.28,2,    33.00,2,     0.01,2,     2.27,2
 06AQANTVIII_2,  SR02,   195,  1,      3,      3,2,19891012,1455,-69.6167,  -8.2167, 2348,   2001.2,  -0.0106,  34.6641,3,-999.0000,9,   -999.0,9,   120.25,2,    32.90,2,     0.02,2,     2.28,2
 06AQANTVIII_2,  SR02,   195,  1,      4,      4,2,19891012,1455,-69.6167,  -8.2167, 2348,   2001.4,  -0.0086,  34.6631,3,  34.6650,2,    224.6,2,   120.25,2,    32.90,2,     0.02,2,     2.27,2
 06AQANTVIII_2,  SR02,   195,  1,      2,      2,2,19891012,1455,-69.6167,  -8.2167, 2348,   2249.0,  -0.0646,  34.6623,3,  34.6650,2,    227.9,2,   121.23,2,    32.80,2,     0.02,2,     2.27,2
 06AQANTVIII_2,  SR02,   195,  1,      1,      1,2,19891012,1455,-69.6167,  -8.2167, 2348,   2402.1,  -0.0876,  34.6598,3,  34.6640,2,    228.8,2,   121.43,2,    32.80,2,     0.01,2,     2.28,2
 06AQANTVIII_2,  SR02,   197,  1,     24,     24,4,19891012,2000,-69.4833,  -8.2167, 3062,     19.3,  -1.8011,  34.4839,3,  34.4720,4,    285.7,2,    80.86,2,    31.30,2,     0.14,2,     2.16,2
 06AQANTVIII_2,  SR02,   197,  1,     23,     23,4,19891012,2000,-69.4833,  -8.2167, 3062,     39.6,  -1.7971,  34.4841,3,  34.4910,2,    286.1,2,    80.96,2,    31.30,2,     0.14,2,     2.16,2
 06AQANTVIII_2,  SR02,   197,  1,     22,     22,4,19891012,2000,-69.4833,  -8.2167, 3062,     39.6,  -1.7961,  34.4815,3,  34.4850,2,    285.7,2,    80.96,2,    31.30,2,     0.14,2,     2.16,2
 06AQANTVIII_2,  SR02,   197,  1,     21,     21,4,19891012,2000,-69.4833,  -8.2167, 3062,     39.6,  -1.7991,  34.4836,3,  34.4950,4,    285.6,2,    80.77,2,    31.30,2,     0.13,2,     2.15,2
 06AQANTVIII_2,  SR02,   197,  1,     20,     20,4,19891012,2000,-69.4833,  -8.2167, 3062,     59.1,  -1.7871,  34.4862,3,  34.4880,2,    284.7,2,    80.47,2,    31.30,2,     0.13,2,     2.15,2
 06AQANTVIII_2,  SR02,   197,  1,     19,     19,4,19891012,2000,-69.4833,  -8.2167, 3062,     79.0,  -1.7380,  34.4873,3,  34.5190,4,    276.2,2,    80.96,2,    31.40,2,     0.11,2,     2.17,2
 06AQANTVIII_2,  SR02,   197,  1,     18,     18,4,19891012,2000,-69.4833,  -8.2167, 3062,     96.8,  -1.3969,  34.5120,3,  34.6010,4,    237.1,2,    88.92,2,    32.00,2,     0.02,2,     2.23,2
 06AQANTVIII_2,  SR02,   197,  1,     17,     17,4,19891012,2000,-69.4833,  -8.2167, 3062,    147.3,  -0.1736,  34.6044,3,  34.6010,2,    212.5,2,    96.48,2,    32.20,2,     0.02,2,     2.24,2
 06AQANTVIII_2,  SR02,   197,  1,     16,     16,4,19891012,2000,-69.4833,  -8.2167, 3062,    249.6,   0.6063,  34.6636,3,  34.6840,4,    207.5,2,   100.89,2,    32.20,2,     0.02,2,     2.25,2
 06AQANTVIII_2,  SR02,   197,  1,     15,     15,4,19891012,2000,-69.4833,  -8.2167, 3062,    348.0,   0.7342,  34.6842,3,  34.6840,2,    208.2,2,   105.02,2,    32.30,2,     0.01,2,     2.25,2
 06AQANTVIII_2,  SR02,   197,  1,     14,     14,4,19891012,2000,-69.4833,  -8.2167, 3062,    497.3,   0.6492,  34.6873,3,  34.6810,2,    210.4,2,   110.23,2,    32.60,2,     0.02,2,     2.28,2
 06AQANTVIII_2,  SR02,   197,  1,     13,     13,4,19891012,2000,-69.4833,  -8.2167, 3062,    746.8,   0.4743,  34.6820,3,  34.6780,2,    213.8,2,   114.16,2,    32.80,2,     0.02,2,     2.30,2
 06AQANTVIII_2,  SR02,   197,  1,     12,     12,4,19891012,2000,-69.4833,  -8.2167, 3062,    996.1,   0.3403,  34.6751,3,  34.6720,2,    217.4,2,   116.71,2,    32.90,2,     0.00,2,     2.30,2
 06AQANTVIII_2,  SR02,   197,  1,     11,     11,4,19891012,2000,-69.4833,  -8.2167, 3062,   1246.2,   0.2133,  34.6729,3,  34.6690,2,   -999.0,9,   118.48,2,    32.80,2,     0.01,2,     2.30,2
 06AQANTVIII_2,  SR02,   197,  1,     10,     10,4,19891012,2000,-69.4833,  -8.2167, 3062,   1495.5,   0.1004,  34.6682,3,  34.6660,2,    223.5,2,   119.27,2,    32.80,2,     0.01,2,     2.31,2
 06AQANTVIII_2,  SR02,   197,  1,      9,      9,4,19891012,2000,-69.4833,  -8.2167, 3062,   1745.8,   0.0064,  34.6662,3,  34.6640,2,    226.5,2,   119.76,2,    32.70,2,     0.02,2,     2.31,2
 06AQANTVIII_2,  SR02,   197,  1,      8,      8,4,19891012,2000,-69.4833,  -8.2167, 3062,   1995.2,  -0.0526,  34.6619,3,  34.6620,2,    230.5,2,   120.25,2,    32.70,2,     0.00,2,     2.30,2
 06AQANTVIII_2,  SR02,   197,  1,      7,      7,4,19891012,2000,-69.4833,  -8.2167, 3062,   2245.7,  -0.0986,  34.6618,3,  34.6620,2,    230.4,2,   120.74,2,    32.70,2,     0.01,2,     2.30,2
 06AQANTVIII_2,  SR02,   197,  1,      6,      6,4,19891012,2000,-69.4833,  -8.2167, 3062,   2495.6,  -0.1236,  34.6605,3,  34.6620,2,    232.9,2,   120.94,2,    32.70,2,     0.02,2,     2.30,2
 06AQANTVIII_2,  SR02,   197,  1,      5,      5,4,19891012,2000,-69.4833,  -8.2167, 3062,   2746.4,  -0.1376,  34.6607,3,  34.6600,2,    232.3,2,   121.13,2,    32.70,2,     0.01,2,     2.31,2
 06AQANTVIII_2,  SR02,   197,  1,      4,      4,4,19891012,2000,-69.4833,  -8.2167, 3062,   2996.4,  -0.1456,  34.6571,3,  34.6520,2,    234.1,2,   121.13,2,    32.70,2,     0.01,2,     2.29,2
 06AQANTVIII_2,  SR02,   197,  1,      3,      3,4,19891012,2000,-69.4833,  -8.2167, 3062,   3026.7,  -0.1486,  34.6587,3,  34.6630,2,    234.7,2,   121.13,2,    32.70,2,     0.01,2,     2.29,2
 06AQANTVIII_2,  SR02,   197,  1,      2,      2,4,19891012,2000,-69.4833,  -8.2167, 3062,   3076.6,  -0.1506,  34.6589,3,  34.6590,2,   -999.0,9,   121.13,2,    32.70,2,     0.01,2,     2.28,2
 06AQANTVIII_2,  SR02,   197,  1,      1,      1,4,19891012,2000,-69.4833,  -8.2167, 3062,   3128.9,  -0.1476,  34.6564,3,  34.6620,2,    235.1,2,   120.94,2,    32.70,2,     0.01,2,     2.29,2
 06AQANTVIII_2,  SR02,   198,  1,     17,     17,2,19891013,0055,-69.2333,  -8.2000, 3607,    349.6,   0.7162,  34.6832,3,  34.6860,2,    207.2,2,   102.37,2,    32.30,2,     0.03,2,     2.25,2
 06AQANTVIII_2,  SR02,   198,  1,     15,     15,2,19891013,0055,-69.2333,  -8.2000, 3607,    349.6,   0.7152,  34.6843,3,  34.6840,2,    208.2,2,   102.37,2,    32.30,2,     0.03,2,     2.25,2
 06AQANTVIII_2,  SR02,   198,  1,     16,     16,2,19891013,0055,-69.2333,  -8.2000, 3607,    349.7,   0.7162,  34.6844,3,  34.6860,2,    207.1,2,   102.37,2,    32.30,2,     0.02,2,     2.26,2
 06AQANTVIII_2,  SR02,   198,  1,     14,     14,2,19891013,0055,-69.2333,  -8.2000, 3607,    499.2,   0.6023,  34.6845,3,  34.6850,2,    209.6,2,   106.39,2,    32.40,2,     0.01,2,     2.27,2
 06AQANTVIII_2,  SR02,   198,  1,     13,     13,2,19891013,0055,-69.2333,  -8.2000, 3607,    748.4,   0.4553,  34.6805,3,  34.6820,2,    210.3,2,   111.41,2,    32.70,2,     0.02,2,     2.30,2
 06AQANTVIII_2,  SR02,   198,  1,     12,     12,2,19891013,0055,-69.2333,  -8.2000, 3607,    998.5,   0.3133,  34.6743,3,  34.6760,2,    212.4,2,   114.94,2,    32.90,2,     0.02,2,     2.31,2
 06AQANTVIII_2,  SR02,   198,  1,     11,     11,2,19891013,0055,-69.2333,  -8.2000, 3607,   1247.5,   0.1994,  34.6714,3,  34.6730,2,    215.4,2,   118.19,2,    32.90,2,     0.02,2,     2.32,2
 06AQANTVIII_2,  SR02,   198,  1,     10,     10,2,19891013,0055,-69.2333,  -8.2000, 3607,   1497.4,   0.1094,  34.6683,3,  34.6690,2,    218.7,2,   119.17,2,    32.90,2,     0.02,2,     2.31,2
 06AQANTVIII_2,  SR02,   198,  1,      9,      9,2,19891013,0055,-69.2333,  -8.2000, 3607,   1747.0,   0.0274,  34.6641,3,  34.6660,2,    222.4,2,   119.86,2,    32.80,2,     0.03,2,     2.31,2
 06AQANTVIII_2,  SR02,   198,  1,      8,      8,2,19891013,0055,-69.2333,  -8.2000, 3607,   1998.1,  -0.0436,  34.6634,3,  34.6640,2,    225.5,2,   120.45,2,    32.80,2,     0.02,2,     2.31,2
 06AQANTVIII_2,  SR02,   198,  1,      7,      7,2,19891013,0055,-69.2333,  -8.2000, 3607,   2247.1,  -0.0936,  34.6622,3,  34.6620,2,    228.4,2,   120.35,2,    32.70,2,     0.02,2,     2.31,2
 06AQANTVIII_2,  SR02,   198,  1,      6,      6,2,19891013,0055,-69.2333,  -8.2000, 3607,   2497.4,  -0.1466,  34.6607,3,  34.6600,2,    231.7,2,   120.35,2,    32.80,2,     0.01,2,     2.31,2
 06AQANTVIII_2,  SR02,   198,  1,      5,      5,2,19891013,0055,-69.2333,  -8.2000, 3607,   2747.8,  -0.1736,  34.6586,3,  34.6570,2,    233.5,2,   120.35,2,    32.70,2,     0.02,2,     2.31,2
 06AQANTVIII_2,  SR02,   198,  1,      4,      4,2,19891013,0055,-69.2333,  -8.2000, 3607,   2997.6,  -0.1856,  34.6568,3,  34.6560,2,    234.8,2,   120.84,2,    32.70,2,     0.03,2,     2.30,2
 06AQANTVIII_2,  SR02,   198,  1,      3,      3,2,19891013,0055,-69.2333,  -8.2000, 3607,   3559.0,  -0.1886,  34.6548,3,  34.6570,2,    236.4,2,   121.13,2,    32.70,2,     0.04,2,     2.30,2
 06AQANTVIII_2,  SR02,   198,  1,      2,      2,2,19891013,0055,-69.2333,  -8.2000, 3607,   3608.0,  -0.1846,  34.6549,3,  34.6570,2,    237.0,2,   121.13,2,    32.70,2,     0.04,2,     2.31,2
 06AQANTVIII_2,  SR02,   198,  1,      1,      1,2,19891013,0055,-69.2333,  -8.2000, 3607,   3655.5,  -0.1806,  34.6545,3,  34.4810,4,    236.3,2,   121.13,2,    32.70,2,     0.01,2,     2.31,2