BOTTLE,20221004CCHSIOAMB
EXPOCODE,SECT_ID,STNNBR,CASTNO,SAMPNO,BTLNBR,BTLNBR_FLAG_W,DATE,TIME,LATITUDE,LONGITUDE,DEPTH,CTDPRS,CTDTMP,CTDSAL,CTDSAL_FLAG_W,SALNTY,SALNTY_FLAG_W,OXYGEN,OXYGEN_FLAG_W,SILCAT,SILCAT_FLAG_W,NITRAT,NITRAT_FLAG_W,NITRIT,NITRIT_FLAG_W,PHSPHT,PHSPHT_FLAG_W
,,,,,,,,,,,,DBAR,ITS-90,PSS-78,,PSS-78,,UMOL/KG,,UMOL/KG,,UMOL/KG,,UMOL/KG,,UMOL/KG,
 06AQANTVIII_2,  SR02,   203,  1,     24,     24,4,19891016,1550,-66.6167,  -5.1667, 4752,     13.8,  -1.7911,  34.3860,3,-999.0000,9,    302.5,2,    65.25,2,    30.10,2,     0.31,2,  -999.00,9
 06AQANTVIII_2,  SR02,   203,  1,     23,     23,4,19891016,1550,-66.6167,  -5.1667, 4752,     21.0,  -1.7901,  34.3843,3,-999.0000,9,    301.4,2,    65.25,2,    30.10,2,     0.29,2,  -999.00,9
 06AQANTVIII_2,  SR02,   203,  1,     22,     22,4,19891016,1550,-66.6167,  -5.1667, 4752,     21.0,  -1.7861,  34.3853,3,  34.3650,4,    301.6,2,  -999.00,9,    30.10,2,     0.31,2,     2.05,2
 06AQANTVIII_2,  SR02,   203,  1,     21,     21,4,19891016,1550,-66.6167,  -5.1667, 4752,     40.6,  -1.7801,  34.3852,3,-999.0000,9,    299.9,2,    66.13,2,    30.20,2,     0.30,2,     2.07,2
 06AQANTVIII_2,  SR02,   203,  1,     20,     20,4,19891016,1550,-66.6167,  -5.1667, 4752,     40.6,  -1.7761,  34.3875,3,  34.3920,2,    298.5,2,    66.13,2,    30.20,2,     0.32,2,     2.09,2
 06AQANTVIII_2,  SR02,   203,  1,     19,     19,4,19891016,1550,-66.6167,  -5.1667, 4752,     60.9,  -1.6189,  34.3998,3,-999.0000,9,    292.6,2,  -999.00,9,    30.50,2,     0.26,2,     2.10,2
 06AQANTVIII_2,  SR02,   203,  1,     18,     18,4,19891016,1550,-66.6167,  -5.1667, 4752,     80.5,  -1.3588,  34.4219,3,-999.0000,9,    287.2,2,  -999.00,9,    30.70,2,     0.26,2,     2.10,2
 06AQANTVIII_2,  SR02,   203,  1,     17,     17,4,19891016,1550,-66.6167,  -5.1667, 4752,    101.3,  -1.0217,  34.4590,3,-999.0000,9,    254.9,2,  -999.00,9,    31.60,2,     0.17,2,     2.17,2
 06AQANTVIII_2,  SR02,   203,  1,     16,     16,4,19891016,1550,-66.6167,  -5.1667, 4752,    151.6,   0.6322,  34.6223,3,-999.0000,9,    202.8,2,    90.68,2,    32.80,2,     0.08,2,     2.25,2
 06AQANTVIII_2,  SR02,   203,  1,     14,     14,4,19891016,1550,-66.6167,  -5.1667, 4752,    271.0,   1.1171,  34.6940,3,  34.6940,2,    192.8,2,    97.26,2,    32.60,2,     0.05,2,     2.25,2
 06AQANTVIII_2,  SR02,   203,  1,     15,     15,4,19891016,1550,-66.6167,  -5.1667, 4752,    272.2,   1.1011,  34.6944,3,-999.0000,9,    193.1,2,    97.16,2,    32.50,2,     0.05,2,     2.24,2
 06AQANTVIII_2,  SR02,   203,  1,     12,     12,4,19891016,1550,-66.6167,  -5.1667, 4752,    518.8,   0.7662,  34.6945,3,  34.6940,2,    200.1,2,   105.71,2,    32.60,2,     0.07,2,     2.25,2
 06AQANTVIII_2,  SR02,   203,  1,     13,     13,4,19891016,1550,-66.6167,  -5.1667, 4752,    519.9,   0.7612,  34.6942,3,-999.0000,9,    200.2,2,   105.80,2,    32.60,2,     0.06,2,     2.26,2
 06AQANTVIII_2,  SR02,   203,  1,     11,     11,4,19891016,1550,-66.6167,  -5.1667, 4752,   1002.8,   0.3773,  34.6817,3,-999.0000,9,   -999.0,9,  -999.00,9,  -999.00,9,  -999.00,9,  -999.00,9
 06AQANTVIII_2,  SR02,   203,  1,     10,     10,4,19891016,1550,-66.6167,  -5.1667, 4752,   1501.4,   0.1464,  34.6725,3,  34.6550,4,    213.4,2,   120.64,2,    33.20,2,     0.08,2,     2.32,2
 06AQANTVIII_2,  SR02,   203,  1,      9,      9,4,19891016,1550,-66.6167,  -5.1667, 4752,   2000.8,  -0.0246,  34.6655,3,-999.0000,9,    221.4,2,   121.33,2,    33.00,2,     0.06,2,     2.31,2
 06AQANTVIII_2,  SR02,   203,  1,      8,      8,4,19891016,1550,-66.6167,  -5.1667, 4752,   2511.1,  -0.1466,  34.6602,3,  34.6610,2,    227.8,2,   121.82,2,    32.90,2,     0.05,2,     2.28,2
 06AQANTVIII_2,  SR02,   203,  1,      7,      7,4,19891016,1550,-66.6167,  -5.1667, 4752,   2996.6,  -0.2255,  34.6578,3,-999.0000,9,    234.5,2,   121.43,2,    32.80,2,     0.07,3,     2.26,2
 06AQANTVIII_2,  SR02,   203,  1,      6,      6,4,19891016,1550,-66.6167,  -5.1667, 4752,   3497.9,  -0.2816,  34.6548,3,  34.6560,2,    238.5,2,   120.15,2,    32.50,2,     0.05,2,     2.26,2
 06AQANTVIII_2,  SR02,   203,  1,      5,      5,4,19891016,1550,-66.6167,  -5.1667, 4752,   3999.5,  -0.3166,  34.6516,3,  34.6570,2,    238.1,2,   120.64,2,    32.50,2,     0.07,3,     2.25,2
 06AQANTVIII_2,  SR02,   203,  1,      4,      4,4,19891016,1550,-66.6167,  -5.1667, 4752,   4495.2,  -0.3346,  34.6500,3,  34.6530,2,    242.1,2,   124.18,2,    32.60,2,     0.05,2,     2.24,2
 06AQANTVIII_2,  SR02,   203,  1,      3,      3,4,19891016,1550,-66.6167,  -5.1667, 4752,   4726.9,  -0.4156,  34.6473,3,  34.6460,2,    246.4,2,   119.86,2,    32.50,2,     0.04,2,     2.23,2
 06AQANTVIII_2,  SR02,   203,  1,      2,      2,4,19891016,1550,-66.6167,  -5.1667, 4752,   4776.8,  -0.4496,  34.6453,3,  34.6420,2,    247.6,2,   119.07,2,    32.40,2,     0.08,3,     2.25,2
 06AQANTVIII_2,  SR02,   203,  1,      1,      1,4,19891016,1550,-66.6167,  -5.1667, 4752,   4825.9,  -0.4816,  34.6441,3,  34.6450,2,    249.4,2,   120.55,2,    32.40,2,     0.04,2,     2.23,2
 06AQANTVIII_2,  SR02,   204,  1,     24,     24,2,19891017,2003,-65.3000,  -4.0833, 4976,     30.7,  -1.8371,  34.3575,3,  34.3590,2,    303.7,2,    65.84,2,    29.90,2,     0.26,2,     2.08,2
 06AQANTVIII_2,  SR02,   204,  1,     23,     23,2,19891017,2003,-65.3000,  -4.0833, 4976,     80.2,  -1.7921,  34.3753,3,  34.3810,2,    312.2,2,    62.20,2,    29.50,2,     0.28,2,     2.04,2
 06AQANTVIII_2,  SR02,   204,  1,     22,     22,2,19891017,2003,-65.3000,  -4.0833, 4976,     80.2,  -1.7901,  34.3744,3,  34.3810,2,    311.3,2,    62.20,2,    29.40,2,     0.29,2,     2.04,2
 06AQANTVIII_2,  SR02,   204,  1,     21,     21,2,19891017,2003,-65.3000,  -4.0833, 4976,     80.2,  -1.7911,  34.3755,3,  34.3810,2,    311.5,2,    62.30,2,    29.40,2,     0.29,2,     2.04,2
 06AQANTVIII_2,  SR02,   204,  1,     20,     20,2,19891017,2003,-65.3000,  -4.0833, 4976,     80.2,  -1.7901,  34.3758,3,  34.3820,2,   -999.0,9,    62.30,2,    29.40,2,     0.28,2,     2.05,2
 06AQANTVIII_2,  SR02,   204,  1,     19,     19,2,19891017,2003,-65.3000,  -4.0833, 4976,     80.2,  -1.7871,  34.3737,3,  34.3820,2,   -999.0,9,    62.40,2,    29.40,2,     0.27,2,     2.05,2
 06AQANTVIII_2,  SR02,   204,  1,     18,     18,2,19891017,2003,-65.3000,  -4.0833, 4976,     80.2,  -1.7871,  34.3751,3,  34.3820,2,   -999.0,9,    62.40,2,    29.40,2,     0.28,2,     2.05,2
 06AQANTVIII_2,  SR02,   204,  1,     17,     17,2,19891017,2003,-65.3000,  -4.0833, 4976,     99.5,  -1.6640,  34.3887,3,  34.3880,2,    307.1,2,    63.77,2,    29.60,2,     0.26,2,     2.06,2
 06AQANTVIII_2,  SR02,   204,  1,     16,     16,2,19891017,2003,-65.3000,  -4.0833, 4976,    349.0,   0.7942,  34.6843,3,  34.6880,2,    197.2,2,   106.39,2,    32.90,2,     0.01,2,     2.30,2
 06AQANTVIII_2,  SR02,   204,  1,     15,     15,2,19891017,2003,-65.3000,  -4.0833, 4976,    498.8,   0.6233,  34.6885,3,  34.6880,2,    200.9,2,   111.01,2,    32.80,2,     0.03,2,     2.30,2
 06AQANTVIII_2,  SR02,   204,  1,     14,     14,2,19891017,2003,-65.3000,  -4.0833, 4976,    747.8,   0.4213,  34.6811,3,  34.6850,2,    200.5,2,   118.09,2,    33.30,2,     0.03,2,     2.33,2
 06AQANTVIII_2,  SR02,   204,  1,     13,     13,2,19891017,2003,-65.3000,  -4.0833, 4976,    997.8,   0.2893,  34.6778,3,  34.6800,2,    202.9,2,   121.52,2,    33.50,2,     0.04,2,     2.35,2
 06AQANTVIII_2,  SR02,   204,  1,     12,     12,2,19891017,2003,-65.3000,  -4.0833, 4976,   1497.0,   0.0934,  34.6682,3,  34.6720,2,    214.7,2,   123.49,2,    33.20,2,     0.04,2,     2.33,2
 06AQANTVIII_2,  SR02,   204,  1,     11,     11,2,19891017,2003,-65.3000,  -4.0833, 4976,   2495.1,  -0.1736,  34.6587,3,  34.6620,2,    228.9,2,   123.20,2,    32.70,2,     0.01,2,     2.31,2
 06AQANTVIII_2,  SR02,   204,  1,     10,     10,2,19891017,2003,-65.3000,  -4.0833, 4976,   2495.1,  -0.1736,  34.6587,3,  34.6620,2,    229.3,2,   123.20,2,    32.80,2,     0.04,2,     2.29,2
 06AQANTVIII_2,  SR02,   204,  1,      9,      9,2,19891017,2003,-65.3000,  -4.0833, 4976,   2495.1,  -0.1736,  34.6587,3,  34.6620,2,    229.4,2,   123.20,2,    32.70,2,     0.03,2,     2.30,2
 06AQANTVIII_2,  SR02,   204,  1,      7,      7,2,19891017,2003,-65.3000,  -4.0833, 4976,   2495.1,  -0.1736,  34.6587,3,  34.6630,2,   -999.0,9,   123.39,2,    32.70,2,     0.01,2,     2.31,2
 06AQANTVIII_2,  SR02,   204,  1,      6,      6,2,19891017,2003,-65.3000,  -4.0833, 4976,   2495.1,  -0.1736,  34.6587,3,  34.6630,2,   -999.0,9,   123.39,2,    32.70,2,     0.02,2,     2.30,2
 06AQANTVIII_2,  SR02,   204,  1,      8,      8,2,19891017,2003,-65.3000,  -4.0833, 4976,   2495.2,  -0.1746,  34.6598,3,  34.6630,2,   -999.0,9,   123.20,2,    32.70,2,     0.02,2,     2.30,2
 06AQANTVIII_2,  SR02,   204,  1,      5,      5,2,19891017,2003,-65.3000,  -4.0833, 4976,   2995.3,  -0.2525,  34.6580,3,  34.6580,2,    233.6,2,   122.80,2,    32.60,2,     0.01,2,     2.29,2
 06AQANTVIII_2,  SR02,   204,  1,      4,      4,2,19891017,2003,-65.3000,  -4.0833, 4976,   3996.7,  -0.3346,  34.6516,3,  34.6520,2,    240.8,2,   124.28,2,    32.40,2,     0.03,2,     2.27,2
 06AQANTVIII_2,  SR02,   204,  1,      3,      3,2,19891017,2003,-65.3000,  -4.0833, 4976,   4973.3,  -0.4636,  34.6453,3,  34.6450,2,    249.6,2,   118.58,2,    32.30,2,     0.03,2,     2.26,2
 06AQANTVIII_2,  SR02,   204,  1,      2,      2,2,19891017,2003,-65.3000,  -4.0833, 4976,   5034.2,  -0.4686,  34.6423,3,  34.6430,2,    249.5,2,   119.17,2,    32.30,2,     0.04,2,     2.26,2
 06AQANTVIII_2,  SR02,   204,  1,      1,      1,2,19891017,2003,-65.3000,  -4.0833, 4976,   5083.4,  -0.4666,  34.6418,3,  34.6440,2,    252.1,2,   120.15,2,    32.30,2,     0.03,2,     2.25,2
 06AQANTVIII_2,  SR02,   205,  1,     24,     24,2,19891018,2213,-64.4500,  -3.1667, 5115,     10.4,  -1.8421,  34.3453,3,-999.0000,9,   -999.0,9,    59.25,2,    29.00,2,     0.33,2,     1.99,2
 06AQANTVIII_2,  SR02,   205,  1,     23,     23,2,19891018,2213,-64.4500,  -3.1667, 5115,     21.6,  -1.8421,  34.3450,3,  34.3400,2,    324.1,2,    59.16,2,    29.10,2,     0.32,2,     2.01,2
 06AQANTVIII_2,  SR02,   205,  1,     22,     22,2,19891018,2213,-64.4500,  -3.1667, 5115,     40.9,  -1.8401,  34.3455,3,  34.3430,2,    323.5,2,    59.25,2,    29.10,2,     0.33,2,     2.01,2
 06AQANTVIII_2,  SR02,   205,  1,     21,     21,2,19891018,2213,-64.4500,  -3.1667, 5115,     60.8,  -1.8391,  34.3454,3,-999.0000,9,   -999.0,9,    59.16,2,    29.10,2,     0.32,2,     2.03,2
 06AQANTVIII_2,  SR02,   205,  1,     20,     20,2,19891018,2213,-64.4500,  -3.1667, 5115,     80.3,  -1.8371,  34.3472,3,  34.3470,2,    323.8,2,    59.16,2,    29.10,2,     0.32,2,     2.01,2
 06AQANTVIII_2,  SR02,   205,  1,     19,     19,2,19891018,2213,-64.4500,  -3.1667, 5115,     96.3,  -1.8381,  34.3548,3,-999.0000,9,   -999.0,9,    58.96,2,    29.10,2,     0.33,2,     2.00,2
 06AQANTVIII_2,  SR02,   205,  1,     18,     18,2,19891018,2213,-64.4500,  -3.1667, 5115,    134.5,  -1.5699,  34.3875,3,  34.4300,3,    280.7,2,    72.71,2,    30.90,2,     0.18,2,     2.12,2
 06AQANTVIII_2,  SR02,   205,  1,     17,     17,2,19891018,2213,-64.4500,  -3.1667, 5115,    150.6,  -0.4466,  34.4842,3,-999.0000,9,   -999.0,9,    87.55,2,    32.50,2,     0.06,2,     2.24,2
 06AQANTVIII_2,  SR02,   205,  1,     16,     16,2,19891018,2213,-64.4500,  -3.1667, 5115,    190.7,   0.4843,  34.6143,3,  34.6200,2,    208.2,2,    96.18,2,    33.00,2,     0.05,2,     2.29,2
 06AQANTVIII_2,  SR02,   205,  1,     15,     15,2,19891018,2213,-64.4500,  -3.1667, 5115,    209.4,   0.7072,  34.6417,3,-999.0000,9,   -999.0,9,   100.01,2,    33.10,2,     0.04,2,     2.29,2
 06AQANTVIII_2,  SR02,   205,  1,     14,     14,2,19891018,2213,-64.4500,  -3.1667, 5115,    241.3,   0.8532,  34.6712,3,  34.6730,2,    197.9,2,   102.56,2,    32.90,2,     0.03,2,     2.27,2
 06AQANTVIII_2,  SR02,   205,  1,     13,     13,2,19891018,2213,-64.4500,  -3.1667, 5115,    311.5,   0.8412,  34.6883,3,  34.6880,2,    196.9,2,   106.30,2,    32.70,2,     0.04,2,     2.27,2
 06AQANTVIII_2,  SR02,   205,  1,     12,     12,2,19891018,2213,-64.4500,  -3.1667, 5115,    524.0,   0.5133,  34.6854,3,  34.6840,2,    198.0,2,   116.12,2,    33.40,2,     0.04,2,     2.33,2
 06AQANTVIII_2,  SR02,   205,  1,     11,     11,2,19891018,2213,-64.4500,  -3.1667, 5115,   1001.6,   0.2103,  34.6758,3,  34.6750,2,    203.5,2,   123.69,2,    33.70,2,     0.04,2,     2.34,2
 06AQANTVIII_2,  SR02,   205,  1,     10,     10,2,19891018,2213,-64.4500,  -3.1667, 5115,   1503.4,   0.0204,  34.6685,3,  34.6670,2,    215.1,2,   124.37,2,    33.30,2,     0.04,2,     2.32,2
 06AQANTVIII_2,  SR02,   205,  1,      9,      9,2,19891018,2213,-64.4500,  -3.1667, 5115,   2000.7,  -0.1266,  34.6621,3,  34.6610,2,    223.9,2,   124.18,2,    33.00,2,     0.03,2,     2.31,2
 06AQANTVIII_2,  SR02,   205,  1,      8,      8,2,19891018,2213,-64.4500,  -3.1667, 5115,   2511.4,  -0.2275,  34.6581,3,  34.6580,2,    232.2,2,   123.39,2,    32.70,2,     0.03,2,     2.28,2
 06AQANTVIII_2,  SR02,   205,  1,      7,      7,2,19891018,2213,-64.4500,  -3.1667, 5115,   3000.1,  -0.2876,  34.6553,3,  34.6560,2,    234.1,2,   123.00,2,    32.70,2,     0.04,2,     2.28,2
 06AQANTVIII_2,  SR02,   205,  1,      6,      6,2,19891018,2213,-64.4500,  -3.1667, 5115,   3498.1,  -0.3446,  34.6521,3,  34.6530,2,    243.1,2,   123.20,2,    32.50,2,     0.03,2,     2.27,2
 06AQANTVIII_2,  SR02,   205,  1,      5,      5,2,19891018,2213,-64.4500,  -3.1667, 5115,   3995.6,  -0.3756,  34.6512,3,  34.6510,2,    239.8,2,   123.98,2,    32.60,2,     0.02,2,     2.27,2
 06AQANTVIII_2,  SR02,   205,  1,      4,      4,2,19891018,2213,-64.4500,  -3.1667, 5115,   4489.0,  -0.4376,  34.6467,3,  34.6480,2,    246.0,2,   120.25,2,    32.40,2,     0.03,2,     2.26,2
 06AQANTVIII_2,  SR02,   205,  1,      3,      3,2,19891018,2213,-64.4500,  -3.1667, 5115,   4994.6,  -0.4756,  34.6423,3,  34.6430,2,    249.1,2,   119.17,2,    32.40,2,     0.03,2,     2.26,2
 06AQANTVIII_2,  SR02,   205,  1,      2,      2,2,19891018,2213,-64.4500,  -3.1667, 5115,   5171.1,  -0.4566,  34.6405,3,  34.6440,2,    249.0,2,   119.66,2,    32.40,2,     0.05,2,     2.25,2
 06AQANTVIII_2,  SR02,   205,  1,      1,      1,2,19891018,2213,-64.4500,  -3.1667, 5115,   5217.3,  -0.4526,  34.6405,3,  34.6460,2,    249.0,2,   119.46,2,    32.40,2,     0.04,2,     2.25,2
 06AQANTVIII_2,  SR02,   206,  1,     24,     24,2,19891019,1308,-63.5667,  -2.1500, 5187,     12.2,  -1.8431,  34.3657,3,-999.0000,9,   -999.0,9,  -999.00,9,  -999.00,9,  -999.00,9,  -999.00,9
 06AQANTVIII_2,  SR02,   206,  1,     23,     23,2,19891019,1308,-63.5667,  -2.1500, 5187,     21.1,  -1.8411,  34.3631,3,  34.3610,2,    321.7,2,    59.74,2,    29.20,2,     0.31,2,     2.01,2
 06AQANTVIII_2,  SR02,   206,  1,     22,     22,2,19891019,1308,-63.5667,  -2.1500, 5187,     40.7,  -1.8411,  34.3644,3,  34.3620,2,    321.6,2,    59.74,2,    29.20,2,     0.31,2,     2.03,2
 06AQANTVIII_2,  SR02,   206,  1,     21,     21,2,19891019,1308,-63.5667,  -2.1500, 5187,     60.8,  -1.8401,  34.3642,3,-999.0000,9,   -999.0,9,  -999.00,9,  -999.00,9,  -999.00,9,  -999.00,9
 06AQANTVIII_2,  SR02,   206,  1,     20,     20,2,19891019,1308,-63.5667,  -2.1500, 5187,     80.3,  -1.8381,  34.3646,3,  34.3650,2,    321.9,2,    59.74,2,    29.10,2,     0.31,2,     2.03,2
 06AQANTVIII_2,  SR02,   206,  1,     19,     19,2,19891019,1308,-63.5667,  -2.1500, 5187,    100.5,  -1.8371,  34.3630,3,-999.0000,9,   -999.0,9,  -999.00,9,  -999.00,9,  -999.00,9,  -999.00,9
 06AQANTVIII_2,  SR02,   206,  1,     18,     18,2,19891019,1308,-63.5667,  -2.1500, 5187,    125.3,  -1.8301,  34.3654,3,-999.0000,9,   -999.0,9,  -999.00,9,  -999.00,9,  -999.00,9,  -999.00,9
 06AQANTVIII_2,  SR02,   206,  1,     17,     17,2,19891019,1308,-63.5667,  -2.1500, 5187,    151.5,  -1.8111,  34.3698,3,  34.3650,2,    321.6,2,    60.14,2,    29.20,2,     0.31,2,     2.04,2
 06AQANTVIII_2,  SR02,   206,  1,     16,     16,2,19891019,1308,-63.5667,  -2.1500, 5187,    172.2,  -1.2258,  34.4316,3,  34.5190,3,    244.3,2,    85.09,2,    32.20,2,     0.07,2,     2.24,2
 06AQANTVIII_2,  SR02,   206,  1,     15,     15,2,19891019,1308,-63.5667,  -2.1500, 5187,    241.5,   0.8022,  34.6680,3,-999.0000,9,   -999.0,9,  -999.00,9,  -999.00,9,  -999.00,9,  -999.00,9
 06AQANTVIII_2,  SR02,   206,  1,     14,     14,2,19891019,1308,-63.5667,  -2.1500, 5187,    290.1,   0.7632,  34.6828,3,  34.6810,2,    197.1,2,   107.28,2,    33.10,2,     0.02,2,     2.32,2
 06AQANTVIII_2,  SR02,   206,  1,     13,     13,2,19891019,1308,-63.5667,  -2.1500, 5187,    500.5,   0.5053,  34.6846,3,  34.6840,2,    199.0,2,   115.73,2,    33.40,2,     0.02,2,     2.34,2
 06AQANTVIII_2,  SR02,   206,  1,     12,     12,2,19891019,1308,-63.5667,  -2.1500, 5187,    762.3,   0.3203,  34.6780,3,  34.6780,2,    200.9,2,   120.54,2,    33.70,2,     0.02,2,     2.36,2
 06AQANTVIII_2,  SR02,   206,  1,     11,     11,2,19891019,1308,-63.5667,  -2.1500, 5187,    999.1,   0.2173,  34.6761,3,  34.6750,2,    204.1,2,   123.29,2,    33.80,2,     0.02,2,     2.37,2
 06AQANTVIII_2,  SR02,   206,  1,     10,     10,2,19891019,1308,-63.5667,  -2.1500, 5187,   1500.9,   0.0374,  34.6682,3,  34.6680,2,    216.5,2,   123.98,2,    33.30,2,     0.02,2,     2.34,2
 06AQANTVIII_2,  SR02,   206,  1,      9,      9,2,19891019,1308,-63.5667,  -2.1500, 5187,   1999.2,  -0.1136,  34.6629,3,  34.6600,2,    224.5,2,   123.79,2,    33.00,2,     0.02,2,     2.31,2
 06AQANTVIII_2,  SR02,   206,  1,      8,      8,2,19891019,1308,-63.5667,  -2.1500, 5187,   2505.0,  -0.2115,  34.6591,3,  34.6580,2,    231.1,2,   123.00,2,    32.80,2,     0.02,2,     2.32,2
 06AQANTVIII_2,  SR02,   206,  1,      7,      7,2,19891019,1308,-63.5667,  -2.1500, 5187,   3000.4,  -0.2755,  34.6556,3,  34.6550,2,    235.0,2,   122.51,2,    32.70,2,     0.01,2,     2.31,2
 06AQANTVIII_2,  SR02,   206,  1,      6,      6,2,19891019,1308,-63.5667,  -2.1500, 5187,   3499.0,  -0.3216,  34.6541,3,  34.6510,2,    239.0,2,   122.41,2,    32.60,2,     0.01,2,     2.28,2
 06AQANTVIII_2,  SR02,   206,  1,      5,      5,2,19891019,1308,-63.5667,  -2.1500, 5187,   3998.6,  -0.3536,  34.6521,3,  34.6520,2,    241.6,2,   123.69,2,    32.50,2,     0.02,2,     2.28,2
 06AQANTVIII_2,  SR02,   206,  1,      4,      4,2,19891019,1308,-63.5667,  -2.1500, 5187,   4499.8,  -0.3986,  34.6493,3,  34.6490,2,    245.7,2,   121.53,2,    32.40,2,     0.02,2,     2.26,2
 06AQANTVIII_2,  SR02,   206,  1,      3,      3,2,19891019,1308,-63.5667,  -2.1500, 5187,   4997.4,  -0.4676,  34.6433,3,  34.6440,2,    251.1,2,   118.48,2,    32.40,2,     0.02,2,     2.25,2
 06AQANTVIII_2,  SR02,   206,  1,      2,      2,2,19891019,1308,-63.5667,  -2.1500, 5187,   5249.4,  -0.4496,  34.6413,3,  34.6440,2,    250.3,2,   119.17,2,    32.40,2,     0.02,2,     2.27,2
 06AQANTVIII_2,  SR02,   206,  1,      1,      1,2,19891019,1308,-63.5667,  -2.1500, 5187,   5296.4,  -0.4446,  34.6415,3,  34.6420,2,    250.2,2,   118.97,2,    32.30,2,     0.01,2,     2.26,2