BOTTLE,20221004CCHSIOAMB
EXPOCODE,SECT_ID,STNNBR,CASTNO,SAMPNO,BTLNBR,BTLNBR_FLAG_W,DATE,TIME,LATITUDE,LONGITUDE,DEPTH,CTDPRS,CTDTMP,CTDSAL,CTDSAL_FLAG_W,SALNTY,SALNTY_FLAG_W,OXYGEN,OXYGEN_FLAG_W,SILCAT,SILCAT_FLAG_W,NITRAT,NITRAT_FLAG_W,NITRIT,NITRIT_FLAG_W,PHSPHT,PHSPHT_FLAG_W
,,,,,,,,,,,,DBAR,ITS-90,PSS-78,,PSS-78,,UMOL/KG,,UMOL/KG,,UMOL/KG,,UMOL/KG,,UMOL/KG,
 06AQANTVIII_2,  SR04,   141,  1,     24,     24,2,19890912,0308,-62.6667, -55.3500,  180,      9.4,  -1.8739,  34.5733,3,-999.0000,9,    326.3,2,    76.09,2,    30.19,2,     0.04,2,     2.18,2
 06AQANTVIII_2,  SR04,   141,  1,     23,     23,2,19890912,0308,-62.6667, -55.3500,  180,     20.7,  -1.8808,  34.5806,3,  34.5720,2,   -999.0,9,  -999.00,9,  -999.00,9,  -999.00,9,  -999.00,9
 06AQANTVIII_2,  SR04,   141,  1,     22,     22,2,19890912,0308,-62.6667, -55.3500,  180,     20.7,  -1.8808,  34.5806,3,-999.0000,9,    328.3,2,    76.28,2,    30.38,2,     0.04,2,     2.21,2
 06AQANTVIII_2,  SR04,   141,  1,     21,     21,2,19890912,0308,-62.6667, -55.3500,  180,     38.3,  -1.8828,  34.5888,3,  34.5840,2,   -999.0,9,  -999.00,9,  -999.00,9,  -999.00,9,  -999.00,9
 06AQANTVIII_2,  SR04,   141,  1,     20,     20,2,19890912,0308,-62.6667, -55.3500,  180,     38.3,  -1.8838,  34.5913,3,-999.0000,9,    326.9,2,    76.29,2,    30.64,2,     0.04,2,     2.23,2
 06AQANTVIII_2,  SR04,   141,  1,     19,     19,2,19890912,0308,-62.6667, -55.3500,  180,     58.7,  -1.8878,  34.5954,3,  34.5920,2,   -999.0,9,  -999.00,9,  -999.00,9,  -999.00,9,  -999.00,9
 06AQANTVIII_2,  SR04,   141,  1,     18,     18,2,19890912,0308,-62.6667, -55.3500,  180,     58.7,  -1.8918,  34.5987,3,-999.0000,9,    326.6,2,    76.48,2,    30.26,2,     0.04,2,     2.19,2
 06AQANTVIII_2,  SR04,   141,  1,     17,     17,2,19890912,0308,-62.6667, -55.3500,  180,     79.4,  -1.8908,  34.5938,3,  34.5960,2,   -999.0,9,  -999.00,9,  -999.00,9,  -999.00,9,  -999.00,9
 06AQANTVIII_2,  SR04,   141,  1,     16,     16,2,19890912,0308,-62.6667, -55.3500,  180,     79.5,  -1.8908,  34.5937,3,-999.0000,9,   -999.0,9,    76.50,2,    30.17,2,     0.05,2,     2.19,2
 06AQANTVIII_2,  SR04,   141,  1,     15,     15,2,19890912,0308,-62.6667, -55.3500,  180,     99.1,  -1.8938,  34.5986,3,  34.6070,2,   -999.0,9,  -999.00,9,  -999.00,9,  -999.00,9,  -999.00,9
 06AQANTVIII_2,  SR04,   141,  1,     14,     14,2,19890912,0308,-62.6667, -55.3500,  180,     99.1,  -1.8958,  34.6009,3,-999.0000,9,    327.0,2,    76.69,2,    29.59,2,     0.05,2,     2.21,2
 06AQANTVIII_2,  SR04,   141,  1,     11,     11,2,19890912,0308,-62.6667, -55.3500,  180,    148.2,  -1.8938,  34.6205,3,-999.0000,9,   -999.0,9,  -999.00,9,  -999.00,9,  -999.00,9,  -999.00,9
 06AQANTVIII_2,  SR04,   141,  1,      5,      5,2,19890912,0308,-62.6667, -55.3500,  180,    148.2,  -1.8918,  34.6195,3,  34.6210,2,   -999.0,9,  -999.00,9,  -999.00,9,  -999.00,9,  -999.00,9
 06AQANTVIII_2,  SR04,   141,  1,     13,     13,2,19890912,0308,-62.6667, -55.3500,  180,    148.3,  -1.8938,  34.6162,3,  34.6190,2,   -999.0,9,  -999.00,9,  -999.00,9,  -999.00,9,  -999.00,9
 06AQANTVIII_2,  SR04,   141,  1,     12,     12,2,19890912,0308,-62.6667, -55.3500,  180,    148.3,  -1.8938,  34.6162,3,-999.0000,9,    328.4,2,    76.87,2,    30.27,2,     0.05,2,     2.19,2
 06AQANTVIII_2,  SR04,   141,  1,     10,     10,2,19890912,0308,-62.6667, -55.3500,  180,    148.3,  -1.8918,  34.6195,3,-999.0000,9,    330.9,2,    76.89,2,    30.32,2,     0.05,2,     2.20,2
 06AQANTVIII_2,  SR04,   141,  1,      9,      9,2,19890912,0308,-62.6667, -55.3500,  180,    148.3,  -1.8918,  34.6181,3,  34.6220,2,   -999.0,9,  -999.00,9,  -999.00,9,  -999.00,9,  -999.00,9
 06AQANTVIII_2,  SR04,   141,  1,      8,      8,2,19890912,0308,-62.6667, -55.3500,  180,    148.3,  -1.8898,  34.6172,3,  34.6220,2,   -999.0,9,    77.08,2,    30.57,2,     0.06,2,     2.21,2
 06AQANTVIII_2,  SR04,   141,  1,      7,      7,2,19890912,0308,-62.6667, -55.3500,  180,    148.3,  -1.8948,  34.6188,3,  34.6220,2,   -999.0,9,  -999.00,9,  -999.00,9,  -999.00,9,  -999.00,9
 06AQANTVIII_2,  SR04,   141,  1,      6,      6,2,19890912,0308,-62.6667, -55.3500,  180,    148.3,  -1.8928,  34.6193,3,  34.6240,2,    328.6,2,    77.22,2,    30.10,2,     0.02,2,     2.19,2
 06AQANTVIII_2,  SR04,   141,  1,      4,      4,2,19890912,0308,-62.6667, -55.3500,  180,    182.9,  -1.8778,  34.6334,3,  34.6280,2,    329.2,2,    77.02,2,    30.20,2,     0.02,2,     2.21,2
 06AQANTVIII_2,  SR04,   141,  1,      3,      3,2,19890912,0308,-62.6667, -55.3500,  180,    182.9,  -1.8778,  34.6334,3,  34.6270,2,   -999.0,9,  -999.00,9,  -999.00,9,  -999.00,9,  -999.00,9
 06AQANTVIII_2,  SR04,   141,  1,      2,      2,2,19890912,0308,-62.6667, -55.3500,  180,    182.9,  -1.8778,  34.6362,3,  34.6270,2,    330.7,2,    77.02,2,    30.20,2,     0.02,2,     2.20,2
 06AQANTVIII_2,  SR04,   142,  1,     24,      1,2,19890912,0546,-62.8333, -54.9000,  190,      2.4,  -1.8988,  34.6271,3,-999.0000,9,   -999.0,9,  -999.00,9,  -999.00,9,  -999.00,9,  -999.00,9
 06AQANTVIII_2,  SR04,   142,  1,     23,     24,2,19890912,0546,-62.8333, -54.9000,  190,      9.6,  -1.9018,  34.6276,3,  34.6320,2,    331.0,2,    78.20,2,    30.70,2,     0.02,2,     2.18,2
 06AQANTVIII_2,  SR04,   142,  1,     22,     23,2,19890912,0546,-62.8333, -54.9000,  190,     19.5,  -1.9028,  34.6284,3,-999.0000,9,   -999.0,9,  -999.00,9,  -999.00,9,  -999.00,9,  -999.00,9
 06AQANTVIII_2,  SR04,   142,  1,     21,     22,2,19890912,0546,-62.8333, -54.9000,  190,     19.6,  -1.9028,  34.6283,3,  34.6330,2,    330.9,2,    78.10,2,    30.70,2,     0.02,2,     2.18,2
 06AQANTVIII_2,  SR04,   142,  1,     20,     21,2,19890912,0546,-62.8333, -54.9000,  190,     40.0,  -1.9028,  34.6313,3,-999.0000,9,   -999.0,9,  -999.00,9,  -999.00,9,  -999.00,9,  -999.00,9
 06AQANTVIII_2,  SR04,   142,  1,     19,     20,2,19890912,0546,-62.8333, -54.9000,  190,     40.0,  -1.9038,  34.6324,3,-999.0000,9,    331.3,2,    78.10,2,    30.80,2,     0.02,2,     2.18,2
 06AQANTVIII_2,  SR04,   142,  1,     18,     19,2,19890912,0546,-62.8333, -54.9000,  190,     61.7,  -1.9028,  34.6304,3,-999.0000,9,   -999.0,9,  -999.00,9,  -999.00,9,  -999.00,9,  -999.00,9
 06AQANTVIII_2,  SR04,   142,  1,     17,     18,2,19890912,0546,-62.8333, -54.9000,  190,     62.2,  -1.9028,  34.6315,3,  34.6360,2,    331.0,2,    78.30,2,    30.70,2,     0.02,2,     2.19,2
 06AQANTVIII_2,  SR04,   142,  1,     15,     16,2,19890912,0546,-62.8333, -54.9000,  190,     80.2,  -1.9018,  34.6331,3,  34.6380,2,    331.4,2,    78.20,2,    30.70,2,     0.02,2,     2.18,2
 06AQANTVIII_2,  SR04,   142,  1,     16,     17,2,19890912,0546,-62.8333, -54.9000,  190,     80.3,  -1.9018,  34.6330,3,-999.0000,9,   -999.0,9,  -999.00,9,  -999.00,9,  -999.00,9,  -999.00,9
 06AQANTVIII_2,  SR04,   142,  1,     13,     14,2,19890912,0546,-62.8333, -54.9000,  190,     99.7,  -1.9018,  34.6376,3,  34.6380,2,    331.7,2,    78.20,2,    30.70,2,     0.02,2,     2.19,2
 06AQANTVIII_2,  SR04,   142,  1,     14,     15,2,19890912,0546,-62.8333, -54.9000,  190,     99.8,  -1.9018,  34.6389,3,-999.0000,9,   -999.0,9,  -999.00,9,  -999.00,9,  -999.00,9,  -999.00,9
 06AQANTVIII_2,  SR04,   142,  1,      5,      6,2,19890912,0546,-62.8333, -54.9000,  190,    150.6,  -1.8978,  34.6354,3,  34.6410,2,    331.2,2,    78.20,2,    30.60,2,     0.02,2,     2.19,2
 06AQANTVIII_2,  SR04,   142,  1,      4,      5,2,19890912,0546,-62.8333, -54.9000,  190,    150.6,  -1.8988,  34.6352,3,-999.0000,9,   -999.0,9,  -999.00,9,  -999.00,9,  -999.00,9,  -999.00,9
 06AQANTVIII_2,  SR04,   142,  1,     12,     13,2,19890912,0546,-62.8333, -54.9000,  190,    150.7,  -1.8998,  34.6405,3,  34.6420,2,   -999.0,9,  -999.00,9,  -999.00,9,  -999.00,9,  -999.00,9
 06AQANTVIII_2,  SR04,   142,  1,     11,     12,2,19890912,0546,-62.8333, -54.9000,  190,    150.7,  -1.8988,  34.6393,3,  34.6400,2,    331.5,2,    78.20,2,    30.60,2,     0.01,2,     2.18,2
 06AQANTVIII_2,  SR04,   142,  1,     10,     11,2,19890912,0546,-62.8333, -54.9000,  190,    150.7,  -1.8988,  34.6365,3,  34.6410,2,   -999.0,9,  -999.00,9,  -999.00,9,  -999.00,9,  -999.00,9
 06AQANTVIII_2,  SR04,   142,  1,      9,     10,2,19890912,0546,-62.8333, -54.9000,  190,    150.7,  -1.8988,  34.6379,3,  34.6400,2,    331.4,2,    78.40,2,    30.60,2,     0.03,2,     2.18,2
 06AQANTVIII_2,  SR04,   142,  1,      8,      9,2,19890912,0546,-62.8333, -54.9000,  190,    150.7,  -1.8988,  34.6379,3,  34.6400,2,   -999.0,9,  -999.00,9,  -999.00,9,  -999.00,9,  -999.00,9
 06AQANTVIII_2,  SR04,   142,  1,      7,      8,2,19890912,0546,-62.8333, -54.9000,  190,    150.7,  -1.8988,  34.6393,3,  34.6390,2,    331.7,2,    78.40,2,    30.60,2,     0.03,2,     2.19,2
 06AQANTVIII_2,  SR04,   142,  1,      6,      7,2,19890912,0546,-62.8333, -54.9000,  190,    150.7,  -1.8978,  34.6353,3,  34.6400,2,   -999.0,9,  -999.00,9,  -999.00,9,  -999.00,9,  -999.00,9
 06AQANTVIII_2,  SR04,   142,  1,      3,      4,2,19890912,0546,-62.8333, -54.9000,  190,    176.9,  -1.8958,  34.6609,3,  34.6630,2,    333.2,2,    78.30,2,    30.50,2,     0.02,2,     2.19,2
 06AQANTVIII_2,  SR04,   142,  1,      2,      3,2,19890912,0546,-62.8333, -54.9000,  190,    176.9,  -1.8918,  34.6618,3,-999.0000,9,   -999.0,9,  -999.00,9,  -999.00,9,  -999.00,9,  -999.00,9
 06AQANTVIII_2,  SR04,   143,  1,     24,     24,2,19890912,0818,-63.0000, -54.5133, -999,      9.1,  -1.8998,  34.5775,3,-999.0000,9,    326.3,2,    78.04,2,    30.44,2,     0.05,2,     2.18,2
 06AQANTVIII_2,  SR04,   143,  1,     23,     23,2,19890912,0818,-63.0000, -54.5133, -999,      9.1,  -1.8998,  34.5775,3,-999.0000,9,   -999.0,9,  -999.00,9,  -999.00,9,  -999.00,9,  -999.00,9
 06AQANTVIII_2,  SR04,   143,  1,     22,     22,2,19890912,0818,-63.0000, -54.5133, -999,     19.6,  -1.8998,  34.5792,3,  34.5850,2,    329.3,2,    78.06,2,    30.45,2,     0.04,2,     2.19,2
 06AQANTVIII_2,  SR04,   143,  1,     21,     21,2,19890912,0818,-63.0000, -54.5133, -999,     19.6,  -1.8998,  34.5792,3,-999.0000,9,   -999.0,9,  -999.00,9,  -999.00,9,  -999.00,9,  -999.00,9
 06AQANTVIII_2,  SR04,   143,  1,     20,     20,2,19890912,0818,-63.0000, -54.5133, -999,     39.6,  -1.8998,  34.5792,3,  34.5910,4,    326.3,2,    77.91,2,    30.45,2,     0.04,2,     2.17,2
 06AQANTVIII_2,  SR04,   143,  1,     19,     19,2,19890912,0818,-63.0000, -54.5133, -999,     40.4,  -1.8998,  34.5787,3,-999.0000,9,   -999.0,9,  -999.00,9,  -999.00,9,  -999.00,9,  -999.00,9
 06AQANTVIII_2,  SR04,   143,  1,     18,     18,2,19890912,0818,-63.0000, -54.5133, -999,     59.6,  -1.8998,  34.5805,3,  34.5830,2,    326.3,2,    77.93,2,    30.52,2,     0.04,2,     2.17,2
 06AQANTVIII_2,  SR04,   143,  1,     17,     17,2,19890912,0818,-63.0000, -54.5133, -999,     59.6,  -1.8998,  34.5805,3,-999.0000,9,   -999.0,9,  -999.00,9,  -999.00,9,  -999.00,9,  -999.00,9
 06AQANTVIII_2,  SR04,   143,  1,     16,     16,2,19890912,0818,-63.0000, -54.5133, -999,     79.9,  -1.8998,  34.5789,3,  34.5840,2,    325.9,2,    77.94,2,    30.53,2,     0.04,2,     2.18,2
 06AQANTVIII_2,  SR04,   143,  1,     15,     15,2,19890912,0818,-63.0000, -54.5133, -999,     80.3,  -1.8998,  34.5786,3,-999.0000,9,   -999.0,9,  -999.00,9,  -999.00,9,  -999.00,9,  -999.00,9
 06AQANTVIII_2,  SR04,   143,  1,     13,     13,2,19890912,0818,-63.0000, -54.5133, -999,    100.0,  -1.8988,  34.5790,3,-999.0000,9,   -999.0,9,  -999.00,9,  -999.00,9,  -999.00,9,  -999.00,9
 06AQANTVIII_2,  SR04,   143,  1,     14,     14,2,19890912,0818,-63.0000, -54.5133, -999,    100.3,  -1.8988,  34.5788,3,  34.5830,2,    327.3,2,    77.96,2,    30.53,2,     0.04,2,     2.18,2
 06AQANTVIII_2,  SR04,   143,  1,     11,     11,2,19890912,0818,-63.0000, -54.5133, -999,    149.4,  -1.9038,  34.5871,3,-999.0000,9,   -999.0,9,  -999.00,9,  -999.00,9,  -999.00,9,  -999.00,9
 06AQANTVIII_2,  SR04,   143,  1,     12,     12,2,19890912,0818,-63.0000, -54.5133, -999,    149.6,  -1.9038,  34.5898,3,  34.5920,2,    328.1,2,    77.98,2,    30.60,2,     0.04,2,     2.19,2
 06AQANTVIII_2,  SR04,   143,  1,      5,      5,2,19890912,0818,-63.0000, -54.5133, -999,    200.6,  -1.9068,  34.5973,3,  34.6060,2,   -999.0,9,  -999.00,9,  -999.00,9,  -999.00,9,  -999.00,9
 06AQANTVIII_2,  SR04,   143,  1,      6,      6,2,19890912,0818,-63.0000, -54.5133, -999,    200.7,  -1.9058,  34.5961,3,  34.6000,2,    330.3,2,    78.02,2,    30.68,2,     0.03,2,     2.18,2
 06AQANTVIII_2,  SR04,   143,  1,      8,      8,2,19890912,0818,-63.0000, -54.5133, -999,    200.8,  -1.9058,  34.5960,3,  34.6020,2,    328.7,2,    78.01,2,    30.61,2,     0.03,2,     2.19,2
 06AQANTVIII_2,  SR04,   143,  1,      7,      7,2,19890912,0818,-63.0000, -54.5133, -999,    200.8,  -1.9058,  34.5960,3,-999.0000,9,   -999.0,9,  -999.00,9,  -999.00,9,  -999.00,9,  -999.00,9
 06AQANTVIII_2,  SR04,   143,  1,      9,      9,2,19890912,0818,-63.0000, -54.5133, -999,    200.9,  -1.9058,  34.5959,3,-999.0000,9,   -999.0,9,  -999.00,9,  -999.00,9,  -999.00,9,  -999.00,9
 06AQANTVIII_2,  SR04,   143,  1,     10,     10,2,19890912,0818,-63.0000, -54.5133, -999,    201.0,  -1.9048,  34.5947,3,  34.6000,2,    328.7,2,    77.99,2,    30.67,2,     0.03,2,     2.19,2
 06AQANTVIII_2,  SR04,   143,  1,      4,      4,2,19890912,0818,-63.0000, -54.5133, -999,    295.2,  -1.9048,  34.6441,3,  34.6480,2,    332.1,2,    77.55,2,    30.75,2,     0.03,2,     2.20,2
 06AQANTVIII_2,  SR04,   143,  1,      3,      3,2,19890912,0818,-63.0000, -54.5133, -999,    295.2,  -1.9048,  34.6441,3,  34.6540,2,   -999.0,9,  -999.00,9,  -999.00,9,  -999.00,9,  -999.00,9
 06AQANTVIII_2,  SR04,   143,  1,      2,      2,2,19890912,0818,-63.0000, -54.5133, -999,    295.2,  -1.9048,  34.6441,3,  34.6460,2,    331.8,2,    77.57,2,    30.76,2,     0.03,2,     2.19,2
 06AQANTVIII_2,  SR04,   143,  1,      1,      1,2,19890912,0818,-63.0000, -54.5133, -999,    295.2,  -1.9048,  34.6469,3,-999.0000,9,   -999.0,9,  -999.00,9,  -999.00,9,  -999.00,9,  -999.00,9
 06AQANTVIII_2,  SR04,   144,  1,     20,     20,2,19890912,1153,-63.1667, -54.0667,  211,      9.5,  -1.8449,  34.4793,3,  34.4860,2,    309.7,2,    75.85,2,    30.10,2,     0.00,2,     2.16,2
 06AQANTVIII_2,  SR04,   144,  1,     19,     19,2,19890912,1153,-63.1667, -54.0667,  211,     19.4,  -1.8719,  34.4821,3,-999.0000,9,   -999.0,9,  -999.00,9,  -999.00,9,  -999.00,9,  -999.00,9
 06AQANTVIII_2,  SR04,   144,  1,     18,     18,2,19890912,1153,-63.1667, -54.0667,  211,     19.4,  -1.8719,  34.4821,3,  34.4880,2,    309.8,2,    75.85,2,    30.10,2,     0.00,2,     2.15,2
 06AQANTVIII_2,  SR04,   144,  1,     17,     17,2,19890912,1153,-63.1667, -54.0667,  211,     39.1,  -1.8778,  34.4935,3,-999.0000,9,   -999.0,9,  -999.00,9,  -999.00,9,  -999.00,9,  -999.00,9
 06AQANTVIII_2,  SR04,   144,  1,     16,     16,2,19890912,1153,-63.1667, -54.0667,  211,     39.1,  -1.8798,  34.4972,3,  34.5030,2,    310.4,2,    76.34,2,    30.00,2,     0.00,2,     2.15,2
 06AQANTVIII_2,  SR04,   144,  1,     14,     14,2,19890912,1153,-63.1667, -54.0667,  211,     59.7,  -1.8878,  34.5216,3,  34.5250,2,    311.1,2,    77.03,2,    30.00,2,     0.00,2,     2.15,2
 06AQANTVIII_2,  SR04,   144,  1,     15,     15,2,19890912,1153,-63.1667, -54.0667,  211,     59.9,  -1.8878,  34.5214,3,-999.0000,9,   -999.0,9,  -999.00,9,  -999.00,9,  -999.00,9,  -999.00,9
 06AQANTVIII_2,  SR04,   144,  1,     12,     12,2,19890912,1153,-63.1667, -54.0667,  211,     99.9,  -1.8868,  34.5678,3,  34.5740,2,    318.1,2,    77.72,2,    30.10,2,     0.01,2,     2.16,2
 06AQANTVIII_2,  SR04,   144,  1,     13,     13,2,19890912,1153,-63.1667, -54.0667,  211,    100.0,  -1.8878,  34.5717,3,-999.0000,9,   -999.0,9,  -999.00,9,  -999.00,9,  -999.00,9,  -999.00,9
 06AQANTVIII_2,  SR04,   144,  1,      4,      4,2,19890912,1153,-63.1667, -54.0667,  211,    150.0,  -1.9008,  34.6084,3,  34.6180,2,    319.6,2,    78.11,2,    30.00,2,     0.01,2,     2.16,2
 06AQANTVIII_2,  SR04,   144,  1,      5,      5,2,19890912,1153,-63.1667, -54.0667,  211,    150.2,  -1.8998,  34.6071,3,-999.0000,9,   -999.0,9,  -999.00,9,  -999.00,9,  -999.00,9,  -999.00,9
 06AQANTVIII_2,  SR04,   144,  1,      6,      6,2,19890912,1153,-63.1667, -54.0667,  211,    150.3,  -1.8998,  34.6071,3,  34.6160,2,    323.3,2,    78.20,2,    30.00,2,     0.01,2,     2.16,2
 06AQANTVIII_2,  SR04,   144,  1,      9,      9,2,19890912,1153,-63.1667, -54.0667,  211,    150.4,  -1.8978,  34.6061,3,-999.0000,9,   -999.0,9,  -999.00,9,  -999.00,9,  -999.00,9,  -999.00,9
 06AQANTVIII_2,  SR04,   144,  1,      8,      8,2,19890912,1153,-63.1667, -54.0667,  211,    150.4,  -1.8978,  34.6061,3,  34.6130,2,    319.2,2,    78.20,2,    30.10,2,     0.01,2,     2.15,2
 06AQANTVIII_2,  SR04,   144,  1,      7,      7,2,19890912,1153,-63.1667, -54.0667,  211,    150.4,  -1.8978,  34.6061,3,  34.6140,2,   -999.0,9,  -999.00,9,  -999.00,9,  -999.00,9,  -999.00,9
 06AQANTVIII_2,  SR04,   144,  1,     11,     11,2,19890912,1153,-63.1667, -54.0667,  211,    150.5,  -1.9008,  34.6081,3,-999.0000,9,   -999.0,9,  -999.00,9,  -999.00,9,  -999.00,9,  -999.00,9
 06AQANTVIII_2,  SR04,   144,  1,     10,     10,2,19890912,1153,-63.1667, -54.0667,  211,    150.5,  -1.8988,  34.6058,3,  34.6120,2,    319.3,2,    78.01,2,    30.10,2,     0.01,2,     2.16,2
 06AQANTVIII_2,  SR04,   144,  1,      1,      1,2,19890912,1153,-63.1667, -54.0667,  211,    208.4,  -1.9048,  34.6460,3,-999.0000,9,   -999.0,9,  -999.00,9,  -999.00,9,  -999.00,9,  -999.00,9
 06AQANTVIII_2,  SR04,   144,  1,      3,      3,2,19890912,1153,-63.1667, -54.0667,  211,    209.0,  -1.9048,  34.6457,3,-999.0000,9,   -999.0,9,  -999.00,9,  -999.00,9,  -999.00,9,  -999.00,9
 06AQANTVIII_2,  SR04,   144,  1,      2,      2,2,19890912,1153,-63.1667, -54.0667,  211,    209.0,  -1.9048,  34.6457,3,  34.6470,2,    322.2,2,    78.60,2,    29.90,2,     0.01,2,     2.16,2