BOTTLE,20221004CCHSIOAMB
EXPOCODE,SECT_ID,STNNBR,CASTNO,SAMPNO,BTLNBR,BTLNBR_FLAG_W,DATE,TIME,LATITUDE,LONGITUDE,DEPTH,CTDPRS,CTDTMP,CTDSAL,CTDSAL_FLAG_W,SALNTY,SALNTY_FLAG_W,OXYGEN,OXYGEN_FLAG_W,SILCAT,SILCAT_FLAG_W,NITRAT,NITRAT_FLAG_W,NITRIT,NITRIT_FLAG_W,PHSPHT,PHSPHT_FLAG_W
,,,,,,,,,,,,DBAR,ITS-90,PSS-78,,PSS-78,,UMOL/KG,,UMOL/KG,,UMOL/KG,,UMOL/KG,,UMOL/KG,
 06AQANTVIII_2,  SR04,   159,  1,     24,     24,2,19890921,2128,-64.9500, -42.5500, 4640,      8.7,  -1.8606,  34.4544,3,  34.4490,2,    292.3,2,    77.82,2,    29.90,2,     0.18,2,     2.08,2
 06AQANTVIII_2,  SR04,   159,  1,     23,     23,2,19890921,2128,-64.9500, -42.5500, 4640,     47.7,  -1.8576,  34.4552,3,  34.4500,2,    292.9,2,    77.82,2,    29.90,2,     0.18,2,     2.08,2
 06AQANTVIII_2,  SR04,   159,  1,     22,     22,2,19890921,2128,-64.9500, -42.5500, 4640,     64.6,  -1.8466,  34.4525,3,  34.4520,2,    291.7,2,    77.82,2,    30.00,2,     0.18,2,     2.08,2
 06AQANTVIII_2,  SR04,   159,  1,     21,     21,2,19890921,2128,-64.9500, -42.5500, 4640,     97.9,  -1.7425,  34.4639,3,  34.4600,2,    289.4,2,    78.51,2,    30.10,2,     0.15,2,     2.09,2
 06AQANTVIII_2,  SR04,   159,  1,     20,     20,2,19890921,2128,-64.9500, -42.5500, 4640,    285.1,   0.3934,  34.6856,3,  34.6790,2,    191.5,2,   116.51,2,    34.20,2,    -0.01,4,     2.40,2
 06AQANTVIII_2,  SR04,   159,  1,     19,     19,2,19890921,2128,-64.9500, -42.5500, 4640,    396.1,   0.3474,  34.6895,3,  34.6800,2,    191.2,2,   120.34,2,    34.30,2,    -0.01,4,     2.41,2
 06AQANTVIII_2,  SR04,   159,  1,     18,     18,2,19890921,2128,-64.9500, -42.5500, 4640,    500.6,   0.2954,  34.6885,3,  34.6780,3,    195.5,2,   122.01,2,    34.30,2,    -0.01,4,     2.40,2
 06AQANTVIII_2,  SR04,   159,  1,     17,     17,2,19890921,2128,-64.9500, -42.5500, 4640,    593.8,   0.2434,  34.6878,3,  34.6800,2,    197.2,2,   123.10,2,    34.10,2,     0.00,2,     2.39,2
 06AQANTVIII_2,  SR04,   159,  1,     16,     16,2,19890921,2128,-64.9500, -42.5500, 4640,    795.5,   0.1615,  34.6864,3,  34.6770,2,    203.4,2,   123.59,2,    33.90,2,    -0.02,4,     2.37,2
 06AQANTVIII_2,  SR04,   159,  1,     15,     15,2,19890921,2128,-64.9500, -42.5500, 4640,    995.1,   0.0815,  34.6823,3,  34.6740,2,    209.3,2,   123.59,2,    33.60,2,    -0.01,4,     2.37,2
 06AQANTVIII_2,  SR04,   159,  1,     14,     14,2,19890921,2128,-64.9500, -42.5500, 4640,   1497.8,  -0.0763,  34.6749,3,  34.6680,2,    220.7,2,   123.10,2,    33.10,2,    -0.01,4,     2.33,2
 06AQANTVIII_2,  SR04,   159,  1,     13,     13,2,19890921,2128,-64.9500, -42.5500, 4640,   1997.1,  -0.2083,  34.6703,3,  34.6620,2,    230.2,2,   122.21,2,    32.90,2,    -0.01,4,     2.31,2
 06AQANTVIII_2,  SR04,   159,  1,     12,     12,2,19890921,2128,-64.9500, -42.5500, 4640,   2505.5,  -0.2774,  34.6670,3,  34.6590,2,    233.8,2,   121.72,2,    32.60,2,    -0.01,4,     2.30,2
 06AQANTVIII_2,  SR04,   159,  1,     10,     10,2,19890921,2128,-64.9500, -42.5500, 4640,   3000.4,  -0.3294,  34.6632,3,  34.6580,2,    237.6,2,   120.74,2,    32.50,2,    -0.01,4,     2.29,2
 06AQANTVIII_2,  SR04,   159,  1,     11,     11,2,19890921,2128,-64.9500, -42.5500, 4640,   3000.8,  -0.3294,  34.6643,3,  34.6560,2,   -999.0,9,  -999.00,9,  -999.00,9,  -999.00,9,  -999.00,9
 06AQANTVIII_2,  SR04,   159,  1,      8,      8,2,19890921,2128,-64.9500, -42.5500, 4640,   3508.6,  -0.3785,  34.6598,3,  34.6550,2,    242.3,2,   119.95,2,    32.40,2,    -0.01,4,     2.30,2
 06AQANTVIII_2,  SR04,   159,  1,      9,      9,2,19890921,2128,-64.9500, -42.5500, 4640,   3508.8,  -0.3785,  34.6597,3,  34.6550,2,   -999.0,9,  -999.00,9,  -999.00,9,  -999.00,9,  -999.00,9
 06AQANTVIII_2,  SR04,   159,  1,      7,      7,2,19890921,2128,-64.9500, -42.5500, 4640,   4005.2,  -0.4265,  34.6564,3,  34.6510,2,   -999.0,9,  -999.00,9,  -999.00,9,  -999.00,9,  -999.00,9
 06AQANTVIII_2,  SR04,   159,  1,      6,      6,2,19890921,2128,-64.9500, -42.5500, 4640,   4005.2,  -0.4265,  34.6564,3,  34.6520,2,    246.0,2,   119.66,2,    32.40,2,     0.01,2,     2.29,2
 06AQANTVIII_2,  SR04,   159,  1,      4,      4,2,19890921,2128,-64.9500, -42.5500, 4640,   4509.4,  -0.5476,  34.6472,3,  34.6430,2,    251.6,2,   114.65,2,    32.30,2,     0.00,2,     2.26,2
 06AQANTVIII_2,  SR04,   159,  1,      5,      5,2,19890921,2128,-64.9500, -42.5500, 4640,   4509.6,  -0.5476,  34.6471,3,  34.6450,2,   -999.0,9,  -999.00,9,  -999.00,9,  -999.00,9,  -999.00,9
 06AQANTVIII_2,  SR04,   159,  1,      3,      3,2,19890921,2128,-64.9500, -42.5500, 4640,   4629.7,  -0.5817,  34.6414,3,  34.6390,2,    253.3,2,   114.36,2,    32.20,2,    -0.01,4,     2.27,2
 06AQANTVIII_2,  SR04,   159,  1,      2,      2,2,19890921,2128,-64.9500, -42.5500, 4640,   4678.1,  -0.5957,  34.6384,3,  34.6340,2,    253.8,2,   116.81,2,    32.20,2,     0.00,2,     2.26,2
 06AQANTVIII_2,  SR04,   159,  1,      1,      1,2,19890921,2128,-64.9500, -42.5500, 4640,   4733.6,  -0.6017,  34.6379,3,  34.6360,2,    255.0,2,   114.95,2,    32.40,2,     0.00,2,     2.37,2
 06AQANTVIII_2,  SR04,   160,  1,     24,     24,2,19890922,0504,-65.2167, -41.5167, 4667,      9.2,  -1.8586,  34.4572,3,  34.4600,2,    297.8,2,    76.35,2,    29.90,2,     0.20,2,     2.08,2
 06AQANTVIII_2,  SR04,   160,  1,     23,     23,2,19890922,0504,-65.2167, -41.5167, 4667,     47.9,  -1.8586,  34.4571,3,  34.4880,4,    297.3,2,    76.25,2,    29.90,2,     0.20,2,     2.07,2
 06AQANTVIII_2,  SR04,   160,  1,     22,     22,2,19890922,0504,-65.2167, -41.5167, 4667,     73.3,  -1.8576,  34.4576,3,  34.4930,4,    297.0,2,    76.44,2,    29.90,2,     0.20,2,     2.06,2
 06AQANTVIII_2,  SR04,   160,  1,     21,     21,2,19890922,0504,-65.2167, -41.5167, 4667,     97.8,  -1.8446,  34.4587,3,  34.5100,4,    297.0,2,    76.44,2,    29.90,2,     0.20,2,     2.06,2
 06AQANTVIII_2,  SR04,   160,  1,     20,     20,2,19890922,0504,-65.2167, -41.5167, 4667,    287.3,   0.3424,  34.6804,3,  34.6750,2,    191.9,2,   116.91,2,    34.40,2,     0.00,2,     2.38,2
 06AQANTVIII_2,  SR04,   160,  1,     19,     19,2,19890922,0504,-65.2167, -41.5167, 4667,    396.2,   0.3354,  34.6845,3,  34.6820,2,    191.6,2,   120.74,2,    34.40,2,     0.01,2,     2.40,2
 06AQANTVIII_2,  SR04,   160,  1,     18,     18,2,19890922,0504,-65.2167, -41.5167, 4667,    498.9,   0.2884,  34.6825,3,  34.6800,2,    193.4,2,   122.02,2,    34.30,2,     0.01,2,     2.39,2
 06AQANTVIII_2,  SR04,   160,  1,     17,     17,2,19890922,0504,-65.2167, -41.5167, 4667,    595.8,   0.2384,  34.6824,3,  34.6790,2,    198.7,2,   122.70,2,    34.00,2,    -0.01,4,     2.34,2
 06AQANTVIII_2,  SR04,   160,  1,     16,     16,2,19890922,0504,-65.2167, -41.5167, 4667,    794.1,   0.1295,  34.6775,3,  34.6760,2,    204.0,2,   123.69,2,    33.90,2,     0.01,2,     2.32,2
 06AQANTVIII_2,  SR04,   160,  1,     15,     15,2,19890922,0504,-65.2167, -41.5167, 4667,    992.3,   0.0595,  34.6749,3,  34.6700,2,    211.7,2,   123.19,2,    33.50,2,     0.00,2,     2.35,2
 06AQANTVIII_2,  SR04,   160,  1,     14,     14,2,19890922,0504,-65.2167, -41.5167, 4667,   1494.8,  -0.1013,  34.6703,3,  34.6670,2,    222.9,2,   122.80,2,    33.20,2,     0.00,2,     2.32,2
 06AQANTVIII_2,  SR04,   160,  1,     13,     13,2,19890922,0504,-65.2167, -41.5167, 4667,   1997.3,  -0.2163,  34.6671,3,  34.6620,2,    230.8,2,   121.82,2,    32.80,2,     0.01,2,     2.29,2
 06AQANTVIII_2,  SR04,   160,  1,     12,     12,2,19890922,0504,-65.2167, -41.5167, 4667,   2500.3,  -0.2844,  34.6652,3,  34.6610,2,    235.7,2,   121.23,2,    32.70,2,    -0.01,4,     2.27,2
 06AQANTVIII_2,  SR04,   160,  1,     10,     10,2,19890922,0504,-65.2167, -41.5167, 4667,   3000.7,  -0.3414,  34.6630,3,  34.6580,2,    238.9,2,   120.25,2,    32.60,2,    -0.01,4,     2.27,2
 06AQANTVIII_2,  SR04,   160,  1,     11,     11,2,19890922,0504,-65.2167, -41.5167, 4667,   3001.1,  -0.3414,  34.6628,3,  34.6560,2,    239.9,2,   120.54,2,    32.60,2,     0.00,2,     2.29,2
 06AQANTVIII_2,  SR04,   160,  1,      8,      8,2,19890922,0504,-65.2167, -41.5167, 4667,   3508.3,  -0.3935,  34.6587,3,  34.6540,2,    243.0,2,   119.66,2,    32.40,2,     0.00,2,     2.26,2
 06AQANTVIII_2,  SR04,   160,  1,      9,      9,2,19890922,0504,-65.2167, -41.5167, 4667,   3508.6,  -0.3925,  34.6588,3,  34.6550,2,    243.4,2,   119.66,2,    32.50,2,     0.00,2,     2.27,2
 06AQANTVIII_2,  SR04,   160,  1,      6,      6,2,19890922,0504,-65.2167, -41.5167, 4667,   4001.4,  -0.4575,  34.6540,3,  34.6500,2,    247.6,2,   118.09,2,    32.30,2,    -0.01,4,     2.25,2
 06AQANTVIII_2,  SR04,   160,  1,      7,      7,2,19890922,0504,-65.2167, -41.5167, 4667,   4001.7,  -0.4565,  34.6528,3,  34.6510,2,    246.9,2,   118.09,2,    32.30,2,     0.00,2,     2.27,2
 06AQANTVIII_2,  SR04,   160,  1,      4,      4,2,19890922,0504,-65.2167, -41.5167, 4667,   4506.5,  -0.5897,  34.6398,3,  34.6400,2,    255.6,2,   109.64,2,    32.10,2,     0.00,2,     2.24,2
 06AQANTVIII_2,  SR04,   160,  1,      5,      5,2,19890922,0504,-65.2167, -41.5167, 4667,   4507.8,  -0.5897,  34.6405,3,  34.6400,2,    255.0,2,   110.13,2,    32.10,2,    -0.01,4,     2.24,2
 06AQANTVIII_2,  SR04,   160,  1,      3,      3,2,19890922,0504,-65.2167, -41.5167, 4667,   4608.3,  -0.6037,  34.6391,3,  34.6370,2,    256.0,2,   110.13,2,    32.10,2,     0.01,2,     2.24,2
 06AQANTVIII_2,  SR04,   160,  1,      2,      2,2,19890922,0504,-65.2167, -41.5167, 4667,   4707.5,  -0.6097,  34.6363,3,  34.6360,2,    256.4,2,   109.35,2,    32.20,2,     0.00,2,     2.23,2
 06AQANTVIII_2,  SR04,   160,  1,      1,      1,2,19890922,0504,-65.2167, -41.5167, 4667,   4759.0,  -0.6147,  34.6352,3,  34.6330,2,    257.9,2,   109.05,2,    32.10,2,     0.01,2,     2.23,2
 06AQANTVIII_2,  SR04,   161,  1,     24,     24,2,19890922,1447,-65.4000, -40.3000, 4658,      8.0,  -1.8516,  34.4780,3,  34.4790,2,    300.6,2,    74.58,2,    29.80,2,     0.21,2,     2.06,2
 06AQANTVIII_2,  SR04,   161,  1,     23,     23,2,19890922,1447,-65.4000, -40.3000, 4658,      8.0,  -1.8526,  34.4791,3,-999.0000,9,   -999.0,9,  -999.00,9,  -999.00,9,  -999.00,9,  -999.00,9
 06AQANTVIII_2,  SR04,   161,  1,     22,     22,2,19890922,1447,-65.4000, -40.3000, 4658,     49.4,  -1.8446,  34.4767,3,  34.4780,2,    299.6,2,    74.58,2,    29.90,2,     0.21,2,     2.07,2
 06AQANTVIII_2,  SR04,   161,  1,     21,     21,2,19890922,1447,-65.4000, -40.3000, 4658,     49.4,  -1.8456,  34.4764,3,-999.0000,9,   -999.0,9,  -999.00,9,  -999.00,9,  -999.00,9,  -999.00,9
 06AQANTVIII_2,  SR04,   161,  1,     19,     19,2,19890922,1447,-65.4000, -40.3000, 4658,     74.5,  -1.8456,  34.4784,3,-999.0000,9,   -999.0,9,  -999.00,9,  -999.00,9,  -999.00,9,  -999.00,9
 06AQANTVIII_2,  SR04,   161,  1,     20,     20,2,19890922,1447,-65.4000, -40.3000, 4658,     74.6,  -1.8436,  34.4774,3,  34.4780,2,    299.6,2,    74.58,2,    29.80,2,     0.21,2,     2.03,2
 06AQANTVIII_2,  SR04,   161,  1,     18,     18,2,19890922,1447,-65.4000, -40.3000, 4658,    100.2,  -1.8306,  34.4822,3,-999.0000,9,   -999.0,9,    75.07,2,    29.80,2,     0.21,2,     2.05,2
 06AQANTVIII_2,  SR04,   161,  1,     17,     17,2,19890922,1447,-65.4000, -40.3000, 4658,    149.4,  -0.9249,  34.5566,3,-999.0000,9,   -999.0,9,    89.80,2,    31.90,2,     0.05,2,     2.18,2
 06AQANTVIII_2,  SR04,   161,  1,     16,     16,2,19890922,1447,-65.4000, -40.3000, 4658,    199.8,  -0.3665,  34.6048,3,-999.0000,9,   -999.0,9,   100.21,2,    33.10,2,     0.01,2,     2.28,2
 06AQANTVIII_2,  SR04,   161,  1,     15,     15,2,19890922,1447,-65.4000, -40.3000, 4658,    277.7,   0.4024,  34.6781,3,-999.0000,9,   -999.0,9,  -999.00,9,  -999.00,9,  -999.00,9,  -999.00,9
 06AQANTVIII_2,  SR04,   161,  1,     14,     14,2,19890922,1447,-65.4000, -40.3000, 4658,    277.7,   0.4004,  34.6791,3,  34.6770,2,    193.0,2,   114.55,2,    34.30,2,    -0.01,4,     2.39,2
 06AQANTVIII_2,  SR04,   161,  1,     13,     13,2,19890922,1447,-65.4000, -40.3000, 4658,    397.7,   0.3614,  34.6827,3,-999.0000,9,   -999.0,9,   119.66,2,    34.40,2,    -0.01,4,     2.34,2
 06AQANTVIII_2,  SR04,   161,  1,     12,     12,2,19890922,1447,-65.4000, -40.3000, 4658,    597.9,   0.2534,  34.6826,3,  34.6780,2,    196.5,2,   122.70,2,    34.30,2,    -0.01,4,     2.38,2
 06AQANTVIII_2,  SR04,   161,  1,     11,     11,2,19890922,1447,-65.4000, -40.3000, 4658,    597.9,   0.2544,  34.6815,3,-999.0000,9,   -999.0,9,  -999.00,9,  -999.00,9,  -999.00,9,  -999.00,9
 06AQANTVIII_2,  SR04,   161,  1,      9,      9,2,19890922,1447,-65.4000, -40.3000, 4658,    996.2,   0.0775,  34.6749,3,-999.0000,9,   -999.0,9,  -999.00,9,  -999.00,9,  -999.00,9,  -999.00,9
 06AQANTVIII_2,  SR04,   161,  1,     10,     10,2,19890922,1447,-65.4000, -40.3000, 4658,    996.4,   0.0785,  34.6749,3,  34.6710,2,    210.4,2,   123.69,2,    33.70,2,    -0.01,4,     2.34,2
 06AQANTVIII_2,  SR04,   161,  1,      8,      8,2,19890922,1447,-65.4000, -40.3000, 4658,   2000.2,  -0.2074,  34.6642,3,  34.6610,2,    230.2,2,   122.21,2,    33.10,2,    -0.01,4,     2.31,2
 06AQANTVIII_2,  SR04,   161,  1,      7,      7,2,19890922,1447,-65.4000, -40.3000, 4658,   2498.7,  -0.2794,  34.6616,3,-999.0000,9,   -999.0,9,   121.33,2,    32.80,2,    -0.01,4,     2.28,2
 06AQANTVIII_2,  SR04,   161,  1,      6,      6,2,19890922,1447,-65.4000, -40.3000, 4658,   3003.8,  -0.3334,  34.6586,3,  34.6540,2,    238.1,2,   120.35,2,    32.70,2,    -0.01,4,     2.26,2
 06AQANTVIII_2,  SR04,   161,  1,      4,      4,2,19890922,1447,-65.4000, -40.3000, 4658,   4007.7,  -0.4335,  34.6517,3,  34.6490,2,    246.0,2,   119.37,2,    32.50,2,    -0.01,4,     2.26,2
 06AQANTVIII_2,  SR04,   161,  1,      5,      5,2,19890922,1447,-65.4000, -40.3000, 4658,   4007.8,  -0.4345,  34.6528,3,-999.0000,9,   -999.0,9,  -999.00,9,  -999.00,9,  -999.00,9,  -999.00,9
 06AQANTVIII_2,  SR04,   161,  1,      3,      3,2,19890922,1447,-65.4000, -40.3000, 4658,   4507.7,  -0.5436,  34.6461,3,  34.6440,2,    251.2,2,   115.83,2,    32.40,2,    -0.01,4,     2.24,2
 06AQANTVIII_2,  SR04,   161,  1,      2,      2,2,19890922,1447,-65.4000, -40.3000, 4658,   4656.5,  -0.5947,  34.6392,3,  34.6360,2,    254.1,2,   116.22,2,    32.40,2,    -0.01,4,     2.24,2
 06AQANTVIII_2,  SR04,   161,  1,      1,      1,2,19890922,1447,-65.4000, -40.3000, 4658,   4746.3,  -0.5997,  34.6375,3,  34.6350,2,    255.2,2,   113.57,2,    32.40,2,    -0.01,4,     2.25,2
 06AQANTVIII_2,  SR04,   162,  1,     24,     24,2,19890923,0837,-65.6333, -39.2167, 4626,      9.3,  -1.8686,  34.4795,3,  34.4760,2,    297.5,2,    74.08,2,    29.70,2,     0.21,2,     2.04,2
 06AQANTVIII_2,  SR04,   162,  1,     23,     23,2,19890923,0837,-65.6333, -39.2167, 4626,     48.5,  -1.8666,  34.4796,3,  34.4770,2,    297.5,2,    74.08,2,    29.80,2,     0.23,2,     2.07,2
 06AQANTVIII_2,  SR04,   162,  1,     22,     22,2,19890923,0837,-65.6333, -39.2167, 4626,     73.0,  -1.8616,  34.4788,3,  34.4770,2,   -999.0,9,    73.89,2,    29.70,2,     0.22,2,     2.03,2
 06AQANTVIII_2,  SR04,   162,  1,     21,     21,2,19890923,0837,-65.6333, -39.2167, 4626,     98.1,  -1.8566,  34.4804,3,  34.4770,2,    297.3,2,    73.89,2,    29.70,2,     0.22,2,     2.05,2
 06AQANTVIII_2,  SR04,   162,  1,     20,     20,2,19890923,0837,-65.6333, -39.2167, 4626,    296.8,   0.3724,  34.6824,3,  34.6780,2,    194.3,2,   115.83,2,    34.40,2,    -0.01,4,     2.38,2
 06AQANTVIII_2,  SR04,   162,  1,     19,     19,2,19890923,0837,-65.6333, -39.2167, 4626,    496.0,   0.3144,  34.6844,3,  34.6800,2,    194.5,2,   120.74,2,    34.30,2,    -0.01,4,     2.38,2
 06AQANTVIII_2,  SR04,   162,  1,     18,     18,2,19890923,0837,-65.6333, -39.2167, 4626,    752.5,   0.1925,  34.6812,3,  34.6760,2,    202.2,2,   122.51,2,    33.90,2,    -0.01,4,     2.34,2
 06AQANTVIII_2,  SR04,   162,  1,     17,     17,2,19890923,0837,-65.6333, -39.2167, 4626,    994.7,   0.0915,  34.6766,3,  34.6730,2,    209.5,2,   122.90,2,    33.70,2,    -0.01,4,     2.34,2
 06AQANTVIII_2,  SR04,   162,  1,     16,     16,2,19890923,0837,-65.6333, -39.2167, 4626,   1497.1,  -0.0813,  34.6686,3,  34.6660,2,    222.1,2,   122.02,2,    33.20,2,     0.00,2,     2.28,2
 06AQANTVIII_2,  SR04,   162,  1,     15,     15,2,19890923,0837,-65.6333, -39.2167, 4626,   2002.0,  -0.2044,  34.6640,3,  34.6600,2,    232.2,2,   121.03,2,    33.00,2,     0.00,2,     2.28,2
 06AQANTVIII_2,  SR04,   162,  1,     14,     14,2,19890923,0837,-65.6333, -39.2167, 4626,   2248.3,  -0.2413,  34.6634,3,  34.6590,2,    234.1,2,   120.74,2,    32.90,2,     0.02,2,     2.29,2
 06AQANTVIII_2,  SR04,   162,  1,     13,     13,2,19890923,0837,-65.6333, -39.2167, 4626,   2499.5,  -0.2754,  34.6608,3,  34.6580,2,    235.4,2,   120.25,2,    32.80,2,     0.00,2,     2.26,2
 06AQANTVIII_2,  SR04,   162,  1,     12,     12,2,19890923,0837,-65.6333, -39.2167, 4626,   2756.4,  -0.3014,  34.6604,3,  34.6590,2,    236.3,2,   120.25,2,    32.50,2,     0.00,2,     2.27,2
 06AQANTVIII_2,  SR04,   162,  1,     11,     11,2,19890923,0837,-65.6333, -39.2167, 4626,   3000.3,  -0.3274,  34.6588,3,  34.6570,2,    239.2,2,   119.66,2,    32.50,2,    -0.01,4,     2.27,2
 06AQANTVIII_2,  SR04,   162,  1,     10,     10,2,19890923,0837,-65.6333, -39.2167, 4626,   3502.8,  -0.3775,  34.6561,3,  34.6540,2,    243.1,2,   119.17,2,    32.40,2,    -0.02,4,     2.25,2
 06AQANTVIII_2,  SR04,   162,  1,      9,      9,2,19890923,0837,-65.6333, -39.2167, 4626,   4006.2,  -0.4195,  34.6532,3,-999.0000,9,   -999.0,9,  -999.00,9,  -999.00,9,  -999.00,9,  -999.00,9
 06AQANTVIII_2,  SR04,   162,  1,      8,      8,2,19890923,0837,-65.6333, -39.2167, 4626,   4006.3,  -0.4195,  34.6532,3,  34.6510,2,    246.2,2,   119.27,2,    32.40,2,    -0.01,4,     2.24,2
 06AQANTVIII_2,  SR04,   162,  1,      7,      7,2,19890923,0837,-65.6333, -39.2167, 4626,   4502.2,  -0.5226,  34.6469,3,  34.6460,2,    251.7,2,   114.95,2,    32.30,2,    -0.02,4,     2.25,2
 06AQANTVIII_2,  SR04,   162,  1,      6,      6,2,19890923,0837,-65.6333, -39.2167, 4626,   4569.9,  -0.5336,  34.6465,3,  34.6460,2,    252.3,2,   115.73,2,    32.30,2,     0.00,2,     2.25,2
 06AQANTVIII_2,  SR04,   162,  1,      5,      5,2,19890923,0837,-65.6333, -39.2167, 4626,   4571.2,  -0.5336,  34.6472,3,-999.0000,9,   -999.0,9,  -999.00,9,  -999.00,9,  -999.00,9,  -999.00,9
 06AQANTVIII_2,  SR04,   162,  1,      4,      4,2,19890923,0837,-65.6333, -39.2167, 4626,   4625.1,  -0.5426,  34.6443,3,  34.6430,2,    252.0,2,   117.01,2,    32.40,2,     0.00,2,     2.25,2
 06AQANTVIII_2,  SR04,   162,  1,      3,      3,2,19890923,0837,-65.6333, -39.2167, 4626,   4671.0,  -0.5767,  34.6400,3,-999.0000,9,   -999.0,9,  -999.00,9,  -999.00,9,  -999.00,9,  -999.00,9
 06AQANTVIII_2,  SR04,   162,  1,      2,      2,2,19890923,0837,-65.6333, -39.2167, 4626,   4672.0,  -0.5716,  34.6404,3,  34.6380,2,    254.4,2,   118.09,2,    32.30,2,    -0.01,4,     2.24,2
 06AQANTVIII_2,  SR04,   162,  1,      1,      1,2,19890923,0837,-65.6333, -39.2167, 4626,   4724.5,  -0.5817,  34.6382,3,-999.0000,9,   -999.0,9,  -999.00,9,  -999.00,9,  -999.00,9,  -999.00,9