BOTTLE,20221004CCHSIOAMB
# Split rows with missing pressure into residual file
#BOTTLE,20010503WHPSIOKJU
#code : jjward hyd_to_exchange.pl 
#original files copied from HTML directory: 20010502
#original HYD file: sr02_ahy.txt   Thu May  3 13:24:59 2001
#original SUM file: sr02_asu.txt   Wed Mar 28 11:52:02 2001
EXPOCODE,SECT_ID,STNNBR,CASTNO,SAMPNO,BTLNBR,BTLNBR_FLAG_W,DATE,TIME,LATITUDE,LONGITUDE,DEPTH,CTDPRS,CTDTMP,CTDSAL,CTDSAL_FLAG_W,SALNTY,SALNTY_FLAG_W,OXYGEN,OXYGEN_FLAG_W,SILCAT,SILCAT_FLAG_W,NITRAT,NITRAT_FLAG_W,NITRIT,NITRIT_FLAG_W,PHSPHT,PHSPHT_FLAG_W
,,,,,,,,,,,,DBAR,ITS-90,PSS-78,,PSS-78,,UMOL/KG,,UMOL/KG,,UMOL/KG,,UMOL/KG,,UMOL/KG,
 06AQANTVIII_2,  SR04,   119,  1,     22,     22,2,19890910,0728,-58.0167, -59.7500, -999,     18.8,  -0.4459,  33.8978,3,  33.9020,2,    350.1,2,    19.27,2,    27.01,2,     0.26,2,     1.94,2
 06AQANTVIII_2,  SR04,   119,  1,     21,     21,2,19890910,0728,-58.0167, -59.7500, -999,     18.9,  -0.4469,  33.8961,3,-999.0000,9,   -999.0,9,  -999.00,9,  -999.00,9,  -999.00,9,  -999.00,9
 06AQANTVIII_2,  SR04,   119,  1,     19,     19,2,19890910,0728,-58.0167, -59.7500, -999,     41.6,  -0.4419,  33.8992,3,-999.0000,9,   -999.0,9,  -999.00,9,  -999.00,9,  -999.00,9,  -999.00,9
 06AQANTVIII_2,  SR04,   119,  1,     20,     20,2,19890910,0728,-58.0167, -59.7500, -999,     41.7,  -0.4409,  33.8981,3,  33.9020,2,    346.1,2,    19.27,2,    27.01,2,     0.28,2,     1.96,2
 06AQANTVIII_2,  SR04,   119,  1,     18,     18,2,19890910,0728,-58.0167, -59.7500, -999,     58.4,  -0.4399,  33.8974,3,  33.9060,2,    346.1,2,    19.36,2,    27.01,2,     0.29,2,     1.93,2
 06AQANTVIII_2,  SR04,   119,  1,     17,     17,2,19890910,0728,-58.0167, -59.7500, -999,     59.1,  -0.4399,  33.8970,3,-999.0000,9,   -999.0,9,  -999.00,9,  -999.00,9,  -999.00,9,  -999.00,9
 06AQANTVIII_2,  SR04,   119,  1,     16,     16,2,19890910,0728,-58.0167, -59.7500, -999,     79.7,  -0.4419,  33.8973,3,  33.9090,3,    346.3,2,    19.36,2,    26.51,2,     0.30,2,     1.93,2
 06AQANTVIII_2,  SR04,   119,  1,     15,     15,2,19890910,0728,-58.0167, -59.7500, -999,     81.1,  -0.4419,  33.8978,3,-999.0000,9,   -999.0,9,  -999.00,9,  -999.00,9,  -999.00,9,  -999.00,9
 06AQANTVIII_2,  SR04,   119,  1,     14,     14,2,19890910,0728,-58.0167, -59.7500, -999,     96.2,  -0.4399,  33.8971,3,-999.0000,9,   -999.0,9,    27.33,2,    29.61,2,     0.16,2,     2.07,2
 06AQANTVIII_2,  SR04,   119,  1,     13,     13,2,19890910,0728,-58.0167, -59.7500, -999,     99.5,  -0.4099,  33.9045,3,  34.0190,3,   -999.0,9,  -999.00,9,  -999.00,9,  -999.00,9,  -999.00,9
 06AQANTVIII_2,  SR04,   119,  1,     11,     11,2,19890910,0728,-58.0167, -59.7500, -999,    144.7,   0.1089,  34.0181,3,-999.0000,9,   -999.0,9,  -999.00,9,  -999.00,9,  -999.00,9,  -999.00,9
 06AQANTVIII_2,  SR04,   119,  1,     12,     12,2,19890910,0728,-58.0167, -59.7500, -999,    145.3,   0.0660,  33.9980,3,  34.0420,3,    312.5,2,    32.44,2,    29.71,2,     0.11,2,     2.08,2
 06AQANTVIII_2,  SR04,   119,  1,      9,      9,2,19890910,0728,-58.0167, -59.7500, -999,    196.3,   1.0533,  34.2275,3,-999.0000,9,   -999.0,9,  -999.00,9,  -999.00,9,  -999.00,9,  -999.00,9
 06AQANTVIII_2,  SR04,   119,  1,     10,     10,2,19890910,0728,-58.0167, -59.7500, -999,    196.8,   1.0543,  34.2287,3,  34.2420,3,    254.5,2,    51.10,2,    33.31,2,     0.00,2,     2.28,2
 06AQANTVIII_2,  SR04,   119,  1,      7,      7,2,19890910,0728,-58.0167, -59.7500, -999,    296.1,   1.7629,  34.4100,3,-999.0000,9,   -999.0,9,  -999.00,9,  -999.00,9,  -999.00,9,  -999.00,9
 06AQANTVIII_2,  SR04,   119,  1,      8,      8,2,19890910,0728,-58.0167, -59.7500, -999,    296.7,   1.7610,  34.4042,3,  34.4170,3,    203.6,2,    63.58,2,    34.20,2,    -0.01,4,     2.40,2
 06AQANTVIII_2,  SR04,   119,  1,      5,      5,2,19890910,0728,-58.0167, -59.7500, -999,    498.1,   2.0587,  34.5853,3,-999.0000,9,   -999.0,9,  -999.00,9,  -999.00,9,  -999.00,9,  -999.00,9
 06AQANTVIII_2,  SR04,   119,  1,      6,      6,2,19890910,0728,-58.0167, -59.7500, -999,    498.6,   2.0577,  34.5861,3,  34.5860,2,    176.4,2,    75.65,2,    34.20,2,    -0.01,4,     2.40,2
 06AQANTVIII_2,  SR04,   119,  1,      3,      3,2,19890910,0728,-58.0167, -59.7500, -999,    748.5,   2.0647,  34.6715,3,-999.0000,9,   -999.0,9,  -999.00,9,  -999.00,9,  -999.00,9,  -999.00,9
 06AQANTVIII_2,  SR04,   119,  1,      4,      4,2,19890910,0728,-58.0167, -59.7500, -999,    749.8,   2.0627,  34.6730,3,  34.6740,2,    174.7,2,    81.74,2,    32.50,2,    -0.01,4,     2.36,2
 06AQANTVIII_2,  SR04,   119,  1,      2,      2,2,19890910,0728,-58.0167, -59.7500, -999,   1022.5,   1.9198,  34.7139,3,  34.7120,2,    181.0,2,    86.35,2,    32.30,2,    -0.01,4,     2.24,2
 06AQANTVIII_2,  SR04,   119,  1,      1,      1,2,19890910,0728,-58.0167, -59.7500, -999,   1023.8,   1.9168,  34.7140,3,-999.0000,9,   -999.0,9,  -999.00,9,  -999.00,9,  -999.00,9,  -999.00,9
 06AQANTVIII_2,  SR04,   124,  1,     24,     24,2,19890910,1323,-59.0000, -59.4167, 4046,      9.7,  -0.4269,  33.9242,3,  33.9270,2,    345.0,2,    33.42,2,    26.71,2,     0.34,2,     1.91,2
 06AQANTVIII_2,  SR04,   124,  1,     23,     23,2,19890910,1323,-59.0000, -59.4167, 4046,      9.7,  -0.4289,  33.9251,3,-999.0000,9,   -999.0,9,  -999.00,9,  -999.00,9,  -999.00,9,  -999.00,9
 06AQANTVIII_2,  SR04,   124,  1,     21,     21,2,19890910,1323,-59.0000, -59.4167, 4046,     19.9,  -0.4319,  33.9251,3,-999.0000,9,   -999.0,9,  -999.00,9,  -999.00,9,  -999.00,9,  -999.00,9
 06AQANTVIII_2,  SR04,   124,  1,     22,     22,2,19890910,1323,-59.0000, -59.4167, 4046,     20.1,  -0.4309,  33.9252,3,  33.9250,2,    345.0,2,    33.52,2,    26.51,2,     0.34,2,     1.91,2
 06AQANTVIII_2,  SR04,   124,  1,     20,     20,2,19890910,1323,-59.0000, -59.4167, 4046,     39.5,  -0.4319,  33.9268,3,  33.9250,2,    345.3,2,    33.81,2,    26.21,2,     0.35,2,     1.92,2
 06AQANTVIII_2,  SR04,   124,  1,     19,     19,2,19890910,1323,-59.0000, -59.4167, 4046,     40.3,  -0.4309,  33.9265,3,-999.0000,9,   -999.0,9,  -999.00,9,  -999.00,9,  -999.00,9,  -999.00,9
 06AQANTVIII_2,  SR04,   124,  1,     17,     17,2,19890910,1323,-59.0000, -59.4167, 4046,     59.4,  -0.4289,  33.9263,3,-999.0000,9,   -999.0,9,  -999.00,9,  -999.00,9,  -999.00,9,  -999.00,9
 06AQANTVIII_2,  SR04,   124,  1,     18,     18,2,19890910,1323,-59.0000, -59.4167, 4046,     59.5,  -0.4289,  33.9249,3,  33.9250,2,    345.0,2,    33.81,2,    27.01,2,     0.35,2,     1.93,2
 06AQANTVIII_2,  SR04,   124,  1,     16,     16,2,19890910,1323,-59.0000, -59.4167, 4046,     79.8,  -0.4299,  33.9273,3,  33.9250,2,    344.8,2,    33.32,2,  -999.00,9,     0.32,2,     1.94,2
 06AQANTVIII_2,  SR04,   124,  1,     15,     15,2,19890910,1323,-59.0000, -59.4167, 4046,     82.9,  -0.4249,  33.9279,3,-999.0000,9,   -999.0,9,  -999.00,9,  -999.00,9,  -999.00,9,  -999.00,9
 06AQANTVIII_2,  SR04,   124,  1,     13,     13,2,19890910,1323,-59.0000, -59.4167, 4046,     99.3,  -0.4079,  33.9339,3,-999.0000,9,   -999.0,9,  -999.00,9,  -999.00,9,  -999.00,9,  -999.00,9
 06AQANTVIII_2,  SR04,   124,  1,     14,     14,2,19890910,1323,-59.0000, -59.4167, 4046,     99.6,  -0.4129,  33.9393,3,  33.9390,2,    339.7,2,    34.80,2,    27.21,2,     0.32,2,     1.94,2
 06AQANTVIII_2,  SR04,   124,  1,     12,     12,2,19890910,1323,-59.0000, -59.4167, 4046,    150.2,   0.1669,  34.1213,3,  34.1230,2,    294.0,2,    50.71,2,    30.41,2,     0.01,2,     2.16,2
 06AQANTVIII_2,  SR04,   124,  1,     11,     11,2,19890910,1323,-59.0000, -59.4167, 4046,    152.3,   0.1919,  34.1291,3,-999.0000,9,   -999.0,9,  -999.00,9,  -999.00,9,  -999.00,9,  -999.00,9
 06AQANTVIII_2,  SR04,   124,  1,      9,      9,2,19890910,1323,-59.0000, -59.4167, 4046,    198.5,   0.6007,  34.2533,3,-999.0000,9,   -999.0,9,  -999.00,9,  -999.00,9,  -999.00,9,  -999.00,9
 06AQANTVIII_2,  SR04,   124,  1,     10,     10,2,19890910,1323,-59.0000, -59.4167, 4046,    198.7,   0.5817,  34.2495,3,  34.2570,2,    257.7,2,    59.65,2,    32.21,2,     0.00,2,     2.28,2
 06AQANTVIII_2,  SR04,   124,  1,      7,      7,2,19890910,1323,-59.0000, -59.4167, 4046,    298.4,   1.3332,  34.4603,3,-999.0000,9,   -999.0,9,  -999.00,9,  -999.00,9,  -999.00,9,  -999.00,9
 06AQANTVIII_2,  SR04,   124,  1,      8,      8,2,19890910,1323,-59.0000, -59.4167, 4046,    298.6,   1.3282,  34.4568,3,  34.4580,2,    206.4,2,    72.32,2,    33.90,2,    -0.01,4,     2.40,2
 06AQANTVIII_2,  SR04,   124,  1,      6,      6,2,19890910,1323,-59.0000, -59.4167, 4046,    498.6,   1.8459,  34.6167,3,  34.6170,2,    178.6,2,    80.37,2,    33.00,2,    -0.01,4,     2.34,2
 06AQANTVIII_2,  SR04,   124,  1,      5,      5,2,19890910,1323,-59.0000, -59.4167, 4046,    498.8,   1.8469,  34.6180,3,-999.0000,9,   -999.0,9,  -999.00,9,  -999.00,9,  -999.00,9,  -999.00,9
 06AQANTVIII_2,  SR04,   124,  1,      4,      4,2,19890910,1323,-59.0000, -59.4167, 4046,    749.4,   1.8099,  34.7029,3,  34.6980,2,    181.5,2,    87.43,2,    32.10,2,    -0.02,4,     2.30,2
 06AQANTVIII_2,  SR04,   124,  1,      3,      3,2,19890910,1323,-59.0000, -59.4167, 4046,    749.5,   1.8089,  34.7039,3,-999.0000,9,   -999.0,9,  -999.00,9,  -999.00,9,  -999.00,9,  -999.00,9
 06AQANTVIII_2,  SR04,   124,  1,      2,      2,2,19890910,1323,-59.0000, -59.4167, 4046,   1021.1,   1.5840,  34.7170,3,  34.7740,3,    187.5,2,    94.90,2,    31.90,2,    -0.01,4,     2.27,2
 06AQANTVIII_2,  SR04,   124,  1,      1,      1,2,19890910,1323,-59.0000, -59.4167, 4046,   1021.3,   1.5920,  34.7182,3,-999.0000,9,   -999.0,9,  -999.00,9,  -999.00,9,  -999.00,9,  -999.00,9
 06AQANTVIII_2,  SR04,   129,  1,     24,     24,2,19890910,2026,-59.9833, -59.0000, 3352,      8.6,  -0.5680,  33.8934,3,  33.8910,2,    347.5,2,    23.10,2,    26.71,2,     0.31,2,     1.87,2
 06AQANTVIII_2,  SR04,   129,  1,     23,     23,2,19890910,2026,-59.9833, -59.0000, 3352,      8.8,  -0.5680,  33.8933,3,-999.0000,9,   -999.0,9,  -999.00,9,  -999.00,9,  -999.00,9,  -999.00,9
 06AQANTVIII_2,  SR04,   129,  1,     22,     22,2,19890910,2026,-59.9833, -59.0000, 3352,     18.4,  -0.5720,  33.8945,3,  33.8900,2,    349.7,2,    23.10,2,    26.61,2,     0.31,2,     1.86,2
 06AQANTVIII_2,  SR04,   129,  1,     21,     21,2,19890910,2026,-59.9833, -59.0000, 3352,     18.4,  -0.5720,  33.8945,3,-999.0000,9,   -999.0,9,  -999.00,9,  -999.00,9,  -999.00,9,  -999.00,9
 06AQANTVIII_2,  SR04,   129,  1,     19,     19,2,19890910,2026,-59.9833, -59.0000, 3352,     37.8,  -0.5670,  33.8943,3,-999.0000,9,   -999.0,9,  -999.00,9,  -999.00,9,  -999.00,9,  -999.00,9
 06AQANTVIII_2,  SR04,   129,  1,     20,     20,2,19890910,2026,-59.9833, -59.0000, 3352,     38.2,  -0.5680,  33.8938,3,  33.8900,2,    346.2,2,    23.10,2,    26.31,2,     0.31,2,     1.87,2
 06AQANTVIII_2,  SR04,   129,  1,     17,     17,2,19890910,2026,-59.9833, -59.0000, 3352,     58.5,  -0.5710,  33.8939,3,-999.0000,9,   -999.0,9,  -999.00,9,  -999.00,9,  -999.00,9,  -999.00,9
 06AQANTVIII_2,  SR04,   129,  1,     18,     18,2,19890910,2026,-59.9833, -59.0000, 3352,     59.0,  -0.5720,  33.8948,3,  33.8910,2,    346.3,2,    23.10,2,    26.61,2,     0.31,2,     1.88,2
 06AQANTVIII_2,  SR04,   129,  1,     16,     16,2,19890910,2026,-59.9833, -59.0000, 3352,     78.4,  -0.5720,  33.8934,3,  33.8910,2,    347.2,2,    23.10,2,    26.61,2,     0.31,2,     1.86,2
 06AQANTVIII_2,  SR04,   129,  1,     15,     15,2,19890910,2026,-59.9833, -59.0000, 3352,     78.6,  -0.5680,  33.8983,3,-999.0000,9,   -999.0,9,  -999.00,9,  -999.00,9,  -999.00,9,  -999.00,9
 06AQANTVIII_2,  SR04,   129,  1,     13,     13,2,19890910,2026,-59.9833, -59.0000, 3352,     98.9,  -0.5720,  33.8928,3,-999.0000,9,   -999.0,9,  -999.00,9,  -999.00,9,  -999.00,9,  -999.00,9
 06AQANTVIII_2,  SR04,   129,  1,     14,     14,2,19890910,2026,-59.9833, -59.0000, 3352,     99.0,  -0.5720,  33.8927,3,  33.8910,2,    346.3,2,    23.30,2,    26.21,2,     0.31,2,     1.87,2
 06AQANTVIII_2,  SR04,   129,  1,     11,     11,2,19890910,2026,-59.9833, -59.0000, 3352,    149.0,   0.0860,  34.0467,3,-999.0000,9,   -999.0,9,  -999.00,9,  -999.00,9,  -999.00,9,  -999.00,9
 06AQANTVIII_2,  SR04,   129,  1,     12,     12,2,19890910,2026,-59.9833, -59.0000, 3352,    149.3,   0.0810,  34.0429,3,  34.0640,3,    300.8,2,    35.58,2,    28.71,2,     0.13,2,     2.06,2
 06AQANTVIII_2,  SR04,   129,  1,     10,     10,2,19890910,2026,-59.9833, -59.0000, 3352,    197.9,   1.0933,  34.2694,3,  34.2890,3,    238.6,2,    53.95,2,    31.71,2,     0.02,2,     2.29,2
 06AQANTVIII_2,  SR04,   129,  1,      9,      9,2,19890910,2026,-59.9833, -59.0000, 3352,    197.9,   1.0873,  34.2709,3,-999.0000,9,   -999.0,9,  -999.00,9,  -999.00,9,  -999.00,9,  -999.00,9
 06AQANTVIII_2,  SR04,   129,  1,      7,      7,2,19890910,2026,-59.9833, -59.0000, 3352,    299.1,   1.8239,  34.4609,3,-999.0000,9,   -999.0,9,  -999.00,9,  -999.00,9,  -999.00,9,  -999.00,9
 06AQANTVIII_2,  SR04,   129,  1,      8,      8,2,19890910,2026,-59.9833, -59.0000, 3352,    300.1,   1.8259,  34.4607,3,-999.0000,9,   -999.0,9,  -999.00,9,  -999.00,9,  -999.00,9,  -999.00,9
 06AQANTVIII_2,  SR04,   129,  1,      5,      5,2,19890910,2026,-59.9833, -59.0000, 3352,    498.4,   2.0108,  34.6123,3,-999.0000,9,   -999.0,9,  -999.00,9,  -999.00,9,  -999.00,9,  -999.00,9
 06AQANTVIII_2,  SR04,   129,  1,      6,      6,2,19890910,2026,-59.9833, -59.0000, 3352,    498.8,   2.0108,  34.6120,3,  34.6160,2,    174.6,2,    78.01,2,    32.00,2,     0.01,2,     2.31,2
 06AQANTVIII_2,  SR04,   129,  1,      4,      4,2,19890910,2026,-59.9833, -59.0000, 3352,    749.2,   2.0078,  34.6874,3,  34.6870,2,    178.6,2,    83.11,2,    31.90,2,     0.00,2,     2.23,2
 06AQANTVIII_2,  SR04,   129,  1,      3,      3,2,19890910,2026,-59.9833, -59.0000, 3352,    771.3,   1.9918,  34.6901,3,-999.0000,9,   -999.0,9,  -999.00,9,  -999.00,9,  -999.00,9,  -999.00,9
 06AQANTVIII_2,  SR04,   129,  1,      1,      1,2,19890910,2026,-59.9833, -59.0000, 3352,   1023.7,   1.8139,  34.7189,3,-999.0000,9,   -999.0,9,  -999.00,9,  -999.00,9,  -999.00,9,  -999.00,9
 06AQANTVIII_2,  SR04,   129,  1,      2,      2,2,19890910,2026,-59.9833, -59.0000, 3352,   1024.0,   1.8139,  34.7200,3,  34.7190,2,    182.4,2,    89.89,2,    31.50,2,     0.00,2,     2.18,2
 06AQANTVIII_2,  SR04,   134,  1,     24,     24,2,19890911,0157,-61.0000, -58.7000, 5184,     10.8,  -1.4996,  33.8583,3,-999.0000,9,   -999.0,9,    37.75,2,    27.41,2,     0.40,2,     1.97,2
 06AQANTVIII_2,  SR04,   134,  1,     23,     23,2,19890911,0157,-61.0000, -58.7000, 5184,     10.8,  -1.4996,  33.8583,3,-999.0000,9,   -999.0,9,  -999.00,9,  -999.00,9,  -999.00,9,  -999.00,9
 06AQANTVIII_2,  SR04,   134,  1,     22,     22,2,19890911,0157,-61.0000, -58.7000, 5184,     19.6,  -1.4996,  33.8585,3,  33.8560,2,    353.1,2,    37.55,2,    27.51,2,     0.40,2,     1.95,2
 06AQANTVIII_2,  SR04,   134,  1,     21,     21,2,19890911,0157,-61.0000, -58.7000, 5184,     20.0,  -1.4976,  33.8587,3,-999.0000,9,   -999.0,9,  -999.00,9,  -999.00,9,  -999.00,9,  -999.00,9
 06AQANTVIII_2,  SR04,   134,  1,     20,     20,2,19890911,0157,-61.0000, -58.7000, 5184,     37.9,  -1.4986,  33.8571,3,  33.8570,2,   -999.0,9,    37.75,2,    27.81,2,     0.41,2,     1.95,2
 06AQANTVIII_2,  SR04,   134,  1,     19,     19,2,19890911,0157,-61.0000, -58.7000, 5184,     39.6,  -1.4966,  33.8579,3,-999.0000,9,   -999.0,9,  -999.00,9,  -999.00,9,  -999.00,9,  -999.00,9
 06AQANTVIII_2,  SR04,   134,  1,     18,     18,2,19890911,0157,-61.0000, -58.7000, 5184,     59.1,  -1.4926,  33.8579,3,  33.8590,2,    351.5,2,    37.26,2,    27.41,2,     0.41,2,     1.94,2
 06AQANTVIII_2,  SR04,   134,  1,     17,     17,2,19890911,0157,-61.0000, -58.7000, 5184,     59.2,  -1.4876,  33.8591,3,-999.0000,9,   -999.0,9,  -999.00,9,  -999.00,9,  -999.00,9,  -999.00,9
 06AQANTVIII_2,  SR04,   134,  1,     16,     16,2,19890911,0157,-61.0000, -58.7000, 5184,     78.4,  -1.4356,  33.8765,3,  33.8750,2,    351.2,2,    34.11,2,    27.71,2,     0.38,2,     1.95,2
 06AQANTVIII_2,  SR04,   134,  1,     15,     15,2,19890911,0157,-61.0000, -58.7000, 5184,     78.7,  -1.4316,  33.8772,3,-999.0000,9,   -999.0,9,  -999.00,9,  -999.00,9,  -999.00,9,  -999.00,9
 06AQANTVIII_2,  SR04,   134,  1,     13,     13,2,19890911,0157,-61.0000, -58.7000, 5184,     98.7,  -1.4306,  33.8789,3,-999.0000,9,   -999.0,9,  -999.00,9,  -999.00,9,  -999.00,9,  -999.00,9
 06AQANTVIII_2,  SR04,   134,  1,     14,     14,2,19890911,0157,-61.0000, -58.7000, 5184,     99.0,  -1.4366,  33.8787,3,  33.8720,2,    350.0,2,    34.11,2,    27.81,2,     0.39,2,     1.94,2
 06AQANTVIII_2,  SR04,   134,  1,     11,     11,2,19890911,0157,-61.0000, -58.7000, 5184,    149.2,  -0.0247,  34.1883,3,-999.0000,9,   -999.0,9,  -999.00,9,  -999.00,9,  -999.00,9,  -999.00,9
 06AQANTVIII_2,  SR04,   134,  1,     12,     12,2,19890911,0157,-61.0000, -58.7000, 5184,    149.4,  -0.0166,  34.1764,3,  34.1850,2,    269.3,2,    57.10,2,    31.71,2,     0.10,2,     2.23,2
 06AQANTVIII_2,  SR04,   134,  1,     10,     10,2,19890911,0157,-61.0000, -58.7000, 5184,    200.1,   1.0903,  34.4132,3,  34.4060,2,    210.7,2,    58.27,2,    32.10,2,     0.09,2,     2.25,2
 06AQANTVIII_2,  SR04,   134,  1,      9,      9,2,19890911,0157,-61.0000, -58.7000, 5184,    200.3,   1.0933,  34.4137,3,-999.0000,9,   -999.0,9,  -999.00,9,  -999.00,9,  -999.00,9,  -999.00,9
 06AQANTVIII_2,  SR04,   134,  1,      7,      7,2,19890911,0157,-61.0000, -58.7000, 5184,    297.8,   1.6230,  34.5630,3,-999.0000,9,   -999.0,9,  -999.00,9,  -999.00,9,  -999.00,9,  -999.00,9
 06AQANTVIII_2,  SR04,   134,  1,      8,      8,2,19890911,0157,-61.0000, -58.7000, 5184,    298.7,   1.6230,  34.5624,3,  34.5590,2,    182.6,2,    77.81,2,    34.50,2,     0.08,2,     2.38,2
 06AQANTVIII_2,  SR04,   134,  1,      6,      6,2,19890911,0157,-61.0000, -58.7000, 5184,    498.7,   1.8958,  34.6792,3,  34.6550,3,    176.9,2,    83.41,2,    35.50,3,     0.08,2,     2.27,2
 06AQANTVIII_2,  SR04,   134,  1,      5,      5,2,19890911,0157,-61.0000, -58.7000, 5184,    499.0,   1.8948,  34.6789,3,-999.0000,9,   -999.0,9,  -999.00,9,  -999.00,9,  -999.00,9,  -999.00,9
 06AQANTVIII_2,  SR04,   134,  1,      4,      4,2,19890911,0157,-61.0000, -58.7000, 5184,    748.1,   1.7829,  34.7203,3,  34.7160,2,    182.8,2,    89.30,2,    32.70,2,     0.07,2,     2.23,2
 06AQANTVIII_2,  SR04,   134,  1,      3,      3,2,19890911,0157,-61.0000, -58.7000, 5184,    748.3,   1.7829,  34.7201,3,-999.0000,9,   -999.0,9,  -999.00,9,  -999.00,9,  -999.00,9,  -999.00,9
 06AQANTVIII_2,  SR04,   134,  1,      2,      2,2,19890911,0157,-61.0000, -58.7000, 5184,   1027.3,   1.5550,  34.7254,3,  34.7260,2,    188.8,2,    96.47,2,    32.00,2,     0.05,2,     2.22,2
 06AQANTVIII_2,  SR04,   134,  1,      1,      1,2,19890911,0157,-61.0000, -58.7000, 5184,   1028.4,   1.5550,  34.7260,3,-999.0000,9,   -999.0,9,  -999.00,9,  -999.00,9,  -999.00,9,  -999.00,9