BOTTLE,20221004CCHSIOAMB
EXPOCODE,SECT_ID,STNNBR,CASTNO,SAMPNO,BTLNBR,BTLNBR_FLAG_W,DATE,TIME,LATITUDE,LONGITUDE,DEPTH,CTDPRS,CTDTMP,CTDSAL,CTDSAL_FLAG_W,SALNTY,SALNTY_FLAG_W,OXYGEN,OXYGEN_FLAG_W,SILCAT,SILCAT_FLAG_W,NITRAT,NITRAT_FLAG_W,NITRIT,NITRIT_FLAG_W,PHSPHT,PHSPHT_FLAG_W
,,,,,,,,,,,,DBAR,ITS-90,PSS-78,,PSS-78,,UMOL/KG,,UMOL/KG,,UMOL/KG,,UMOL/KG,,UMOL/KG,
 06AQANTVIII_2,  SR02,   207,  1,     23,     23,2,19891020,0417,-62.6500,  -1.1833, 5285,     21.3,  -1.8311,  34.3272,3,  34.3280,2,    331.2,2,    56.99,2,    28.70,2,     0.36,2,     2.02,2
 06AQANTVIII_2,  SR02,   207,  1,     22,     22,2,19891020,0417,-62.6500,  -1.1833, 5285,     40.5,  -1.8261,  34.3271,3,  34.3250,2,    330.6,2,    57.19,2,    28.70,2,     0.36,2,     2.00,2
 06AQANTVIII_2,  SR02,   207,  1,     21,     21,2,19891020,0417,-62.6500,  -1.1833, 5285,     60.8,  -1.8101,  34.3331,3,  34.3320,2,   -999.0,9,  -999.00,9,  -999.00,9,  -999.00,9,  -999.00,9
 06AQANTVIII_2,  SR02,   207,  1,     20,     20,2,19891020,0417,-62.6500,  -1.1833, 5285,     80.0,  -1.8041,  34.3235,3,  34.3270,2,    330.7,2,    57.19,2,    28.70,2,     0.36,2,     2.02,2
 06AQANTVIII_2,  SR02,   207,  1,     19,     19,2,19891020,0417,-62.6500,  -1.1833, 5285,     99.9,  -1.5619,  34.2940,3,  34.3600,3,   -999.0,9,  -999.00,9,  -999.00,9,  -999.00,9,  -999.00,9
 06AQANTVIII_2,  SR02,   207,  1,     18,     18,2,19891020,0417,-62.6500,  -1.1833, 5285,    124.4,   0.3433,  34.5848,3,  34.5950,3,   -999.0,9,  -999.00,9,  -999.00,9,  -999.00,9,  -999.00,9
 06AQANTVIII_2,  SR02,   207,  1,     17,     17,2,19891020,0417,-62.6500,  -1.1833, 5285,    150.1,   0.5843,  34.6342,3,  34.6380,2,    203.5,2,   100.60,2,    33.20,2,     0.03,2,     2.35,2
 06AQANTVIII_2,  SR02,   207,  1,     16,     16,2,19891020,0417,-62.6500,  -1.1833, 5285,    199.9,   0.7312,  34.6664,3,  34.6690,2,    199.0,2,   104.24,2,    33.00,2,     0.02,2,     2.33,2
 06AQANTVIII_2,  SR02,   207,  1,     15,     15,2,19891020,0417,-62.6500,  -1.1833, 5285,    249.3,   0.7372,  34.6809,3,  34.6810,2,    198.0,2,   106.98,2,    32.90,2,     0.05,2,     2.33,2
 06AQANTVIII_2,  SR02,   207,  1,     14,     14,2,19891020,0417,-62.6500,  -1.1833, 5285,    299.9,   0.6832,  34.6813,3,  34.6850,2,   -999.0,9,  -999.00,9,  -999.00,9,  -999.00,9,  -999.00,9
 06AQANTVIII_2,  SR02,   207,  1,     13,     13,2,19891020,0417,-62.6500,  -1.1833, 5285,    349.7,   0.6682,  34.6868,3,  34.6890,2,   -999.0,9,  -999.00,9,  -999.00,9,  -999.00,9,  -999.00,9
 06AQANTVIII_2,  SR02,   207,  1,     12,     12,2,19891020,0417,-62.6500,  -1.1833, 5285,    498.9,   0.4883,  34.6817,3,  34.6820,2,    200.5,2,   116.22,2,    33.20,2,     0.03,2,     2.36,2
 06AQANTVIII_2,  SR02,   207,  1,     11,     11,2,19891020,0417,-62.6500,  -1.1833, 5285,    748.6,   0.3153,  34.6764,3,  34.6790,2,    202.8,2,   120.74,2,    33.50,2,     0.02,2,     2.38,2
 06AQANTVIII_2,  SR02,   207,  1,     10,     10,2,19891020,0417,-62.6500,  -1.1833, 5285,    998.6,   0.2044,  34.6744,3,  34.6740,2,    206.6,2,   122.90,2,    33.50,2,     0.04,2,     2.39,2
 06AQANTVIII_2,  SR02,   207,  1,      9,      9,2,19891020,0417,-62.6500,  -1.1833, 5285,   1495.9,   0.0114,  34.6664,3,  34.6660,2,    217.7,2,   123.49,2,    33.20,2,     0.02,2,     2.37,2
 06AQANTVIII_2,  SR02,   207,  1,      8,      8,2,19891020,0417,-62.6500,  -1.1833, 5285,   1996.3,  -0.1326,  34.6586,3,  34.6620,2,    225.9,2,   123.88,2,    32.70,2,     0.03,2,     2.36,2
 06AQANTVIII_2,  SR02,   207,  1,      7,      7,2,19891020,0417,-62.6500,  -1.1833, 5285,   2496.6,  -0.2365,  34.6551,3,  34.6580,2,    232.4,2,   123.00,2,  -999.00,9,     0.01,2,     2.32,2
 06AQANTVIII_2,  SR02,   207,  1,      6,      6,2,19891020,0417,-62.6500,  -1.1833, 5285,   2996.2,  -0.3006,  34.6534,3,  34.6550,2,    236.2,2,   123.00,2,  -999.00,9,     0.02,2,     2.32,2
 06AQANTVIII_2,  SR02,   207,  1,      5,      5,2,19891020,0417,-62.6500,  -1.1833, 5285,   3497.6,  -0.3536,  34.6504,3,  34.6520,2,    239.4,2,   123.20,2,    32.50,2,     0.01,2,     2.33,2
 06AQANTVIII_2,  SR02,   207,  1,      4,      4,2,19891020,0417,-62.6500,  -1.1833, 5285,   4000.2,  -0.3946,  34.6492,3,  34.6520,2,    243.9,2,   123.30,2,    32.40,2,     0.02,2,     2.31,2
 06AQANTVIII_2,  SR02,   207,  1,      3,      3,2,19891020,0417,-62.6500,  -1.1833, 5285,   4498.3,  -0.4556,  34.6461,3,  34.6460,2,    248.5,2,   118.19,2,    32.40,2,     0.01,2,     2.32,2
 06AQANTVIII_2,  SR02,   207,  1,      2,      2,2,19891020,0417,-62.6500,  -1.1833, 5285,   5303.2,  -0.4406,  34.6423,3,  34.6430,2,    250.1,2,   118.48,2,    32.20,2,     0.03,2,     2.29,2
 06AQANTVIII_2,  SR02,   207,  1,      1,      1,2,19891020,0417,-62.6500,  -1.1833, 5285,   5404.0,  -0.4296,  34.6431,3,  34.6440,2,    250.3,2,   119.17,2,    32.30,2,     0.02,2,     2.30,2
 06AQANTVIII_2,  SR02,   208,  1,     24,     24,2,19891020,1533,-61.7500,  -0.2167, 5324,     11.7,  -1.8331,  34.2753,3,-999.0000,9,   -999.0,9,  -999.00,9,  -999.00,9,  -999.00,9,  -999.00,9
 06AQANTVIII_2,  SR02,   208,  1,     23,     23,2,19891020,1533,-61.7500,  -0.2167, 5324,     21.7,  -1.8331,  34.2744,3,  34.3930,3,    327.6,2,    57.88,2,    28.11,2,     0.36,2,     1.97,2
 06AQANTVIII_2,  SR02,   208,  1,     22,     22,2,19891020,1533,-61.7500,  -0.2167, 5324,     42.2,  -1.8301,  34.2730,3,-999.0000,9,   -999.0,9,  -999.00,9,  -999.00,9,  -999.00,9,  -999.00,9
 06AQANTVIII_2,  SR02,   208,  1,     21,     21,2,19891020,1533,-61.7500,  -0.2167, 5324,     61.8,  -1.8211,  34.2750,3,  34.3980,3,    328.1,2,    57.88,2,    28.21,2,     0.35,2,     1.95,2
 06AQANTVIII_2,  SR02,   208,  1,     20,     20,2,19891020,1533,-61.7500,  -0.2167, 5324,     81.4,  -1.8211,  34.2735,3,-999.0000,9,   -999.0,9,  -999.00,9,  -999.00,9,  -999.00,9,  -999.00,9
 06AQANTVIII_2,  SR02,   208,  1,     19,     19,2,19891020,1533,-61.7500,  -0.2167, 5324,    102.3,  -1.6590,  34.2875,3,  34.4040,3,    281.0,2,    75.37,2,    30.51,2,     0.19,2,     2.12,2
 06AQANTVIII_2,  SR02,   208,  1,     18,     18,2,19891020,1533,-61.7500,  -0.2167, 5324,    135.8,   0.3213,  34.6063,3,-999.0000,9,   -999.0,9,  -999.00,9,  -999.00,9,  -999.00,9,  -999.00,9
 06AQANTVIII_2,  SR02,   208,  1,     17,     17,2,19891020,1533,-61.7500,  -0.2167, 5324,    172.0,   0.5303,  34.6591,3,  34.6620,2,    198.5,2,   108.07,2,    33.50,2,     0.01,2,     2.33,2
 06AQANTVIII_2,  SR02,   208,  1,     16,     16,2,19891020,1533,-61.7500,  -0.2167, 5324,    220.9,   0.5473,  34.6733,3,-999.0000,9,   -999.0,9,  -999.00,9,  -999.00,9,  -999.00,9,  -999.00,9
 06AQANTVIII_2,  SR02,   208,  1,     15,     15,2,19891020,1533,-61.7500,  -0.2167, 5324,    265.6,   0.5133,  34.6781,3,  34.6780,2,    195.8,2,   114.65,2,    33.60,2,     0.01,2,     2.32,2
 06AQANTVIII_2,  SR02,   208,  1,     14,     14,2,19891020,1533,-61.7500,  -0.2167, 5324,    301.1,   0.4723,  34.6768,3,  34.6780,2,    195.6,2,   115.63,2,    33.60,2,     0.01,2,     2.34,2
 06AQANTVIII_2,  SR02,   208,  1,     13,     13,2,19891020,1533,-61.7500,  -0.2167, 5324,    350.2,   0.4283,  34.6773,3,  34.6790,2,    195.6,2,   117.79,2,    33.80,2,     0.01,2,     2.35,2
 06AQANTVIII_2,  SR02,   208,  1,     12,     12,2,19891020,1533,-61.7500,  -0.2167, 5324,    500.4,   0.3293,  34.6771,3,  34.6780,2,    197.1,2,   120.84,2,    33.90,2,     0.01,2,     2.38,2
 06AQANTVIII_2,  SR02,   208,  1,     11,     11,2,19891020,1533,-61.7500,  -0.2167, 5324,    749.0,   0.2163,  34.6744,3,  34.6750,2,    201.2,2,   123.69,2,    33.80,2,     0.00,2,     2.38,2
 06AQANTVIII_2,  SR02,   208,  1,     10,     10,2,19891020,1533,-61.7500,  -0.2167, 5324,    997.4,   0.1154,  34.6699,3,  34.6740,2,    208.5,2,   123.98,2,    33.50,2,     0.01,2,     2.35,2
 06AQANTVIII_2,  SR02,   208,  1,      9,      9,2,19891020,1533,-61.7500,  -0.2167, 5324,   1498.4,  -0.0636,  34.6612,3,  34.6640,2,    220.1,2,   124.08,2,    33.10,2,     0.01,2,     2.33,2
 06AQANTVIII_2,  SR02,   208,  1,      8,      8,2,19891020,1533,-61.7500,  -0.2167, 5324,   1997.6,  -0.1936,  34.6594,3,  34.6620,2,    227.9,2,   123.59,2,    32.80,2,     0.01,2,     2.30,2
 06AQANTVIII_2,  SR02,   208,  1,      7,      7,2,19891020,1533,-61.7500,  -0.2167, 5324,   2497.0,  -0.2735,  34.6556,3,  34.6570,2,    233.1,2,   123.10,2,    32.70,2,     0.02,2,     2.30,2
 06AQANTVIII_2,  SR02,   208,  1,      6,      6,2,19891020,1533,-61.7500,  -0.2167, 5324,   2997.7,  -0.3376,  34.6530,3,  34.6540,2,    237.6,2,   122.41,2,    32.60,2,     0.01,2,     2.29,2
 06AQANTVIII_2,  SR02,   208,  1,      5,      5,2,19891020,1533,-61.7500,  -0.2167, 5324,   3498.3,  -0.3866,  34.6508,3,  34.6500,2,    241.4,2,   122.41,2,    32.50,2,     0.01,2,     2.29,2
 06AQANTVIII_2,  SR02,   208,  1,      4,      4,2,19891020,1533,-61.7500,  -0.2167, 5324,   4001.0,  -0.4406,  34.6468,3,  34.6490,2,    245.6,2,   120.64,2,    32.30,2,     0.01,2,     2.28,2
 06AQANTVIII_2,  SR02,   208,  1,      3,      3,2,19891020,1533,-61.7500,  -0.2167, 5324,   4497.1,  -0.4906,  34.6441,3,  34.6460,2,    249.8,2,   116.81,2,    32.20,2,     0.01,2,     2.27,2
 06AQANTVIII_2,  SR02,   208,  1,      2,      2,2,19891020,1533,-61.7500,  -0.2167, 5324,   5338.0,  -0.4366,  34.6429,3,  34.6450,2,    250.7,2,   118.68,2,    32.20,2,     0.01,2,     2.26,2
 06AQANTVIII_2,  SR02,   208,  1,      1,      1,2,19891020,1533,-61.7500,  -0.2167, 5324,   5443.9,  -0.4236,  34.6426,3,  34.6440,2,    250.3,2,   118.78,2,    32.20,2,     0.01,2,     2.26,2
 06AQANTVIII_2,  SR02,   209,  1,     24,     24,2,19891021,0608,-60.8500,   0.6667, 5358,     10.4,  -1.8521,  34.3043,3,-999.0000,9,   -999.0,9,    56.90,2,    27.60,2,     0.39,2,     1.91,2
 06AQANTVIII_2,  SR02,   209,  1,     23,     23,2,19891021,0608,-60.8500,   0.6667, 5358,     19.7,  -1.8541,  34.3033,3,  34.3030,2,    335.1,2,    56.90,2,    27.70,2,     0.40,2,     1.91,2
 06AQANTVIII_2,  SR02,   209,  1,     22,     22,2,19891021,0608,-60.8500,   0.6667, 5358,     39.5,  -1.8611,  34.3056,3,-999.0000,9,   -999.0,9,    57.09,2,    27.70,2,     0.39,2,     1.91,2
 06AQANTVIII_2,  SR02,   209,  1,     21,     21,2,19891021,0608,-60.8500,   0.6667, 5358,     59.4,  -1.8601,  34.3069,3,  34.3060,2,    334.3,2,    57.39,2,    27.90,2,     0.39,2,     1.92,2
 06AQANTVIII_2,  SR02,   209,  1,     20,     20,2,19891021,0608,-60.8500,   0.6667, 5358,     79.3,  -1.8591,  34.3096,3,-999.0000,9,   -999.0,9,    57.78,2,    27.70,2,     0.38,2,     1.93,2
 06AQANTVIII_2,  SR02,   209,  1,     19,     19,2,19891021,0608,-60.8500,   0.6667, 5358,     99.8,  -1.8501,  34.3139,3,  34.3130,2,    332.7,2,    58.27,2,    27.90,2,     0.37,2,     1.93,2
 06AQANTVIII_2,  SR02,   209,  1,     18,     18,2,19891021,0608,-60.8500,   0.6667, 5358,    132.6,  -1.6960,  34.3404,3,-999.0000,9,   -999.0,9,    70.16,2,    29.50,2,     0.26,2,     2.04,2
 06AQANTVIII_2,  SR02,   209,  1,     17,     17,2,19891021,0608,-60.8500,   0.6667, 5358,    188.6,   0.6073,  34.6781,3,  34.6800,2,    192.5,2,   112.49,2,    33.90,2,     0.02,2,     2.35,2
 06AQANTVIII_2,  SR02,   209,  1,     16,     16,2,19891021,0608,-60.8500,   0.6667, 5358,    219.3,   0.5643,  34.6804,3,-999.0000,9,   -999.0,9,   113.96,2,    33.90,2,     0.03,2,     2.35,2
 06AQANTVIII_2,  SR02,   209,  1,     15,     15,2,19891021,0608,-60.8500,   0.6667, 5358,    264.5,   0.5113,  34.6814,3,  34.6790,2,   -999.0,9,   116.02,2,    34.00,2,     0.02,2,     2.37,2
 06AQANTVIII_2,  SR02,   209,  1,     14,     14,2,19891021,0608,-60.8500,   0.6667, 5358,    300.0,   0.4733,  34.6806,3,  34.6800,2,    195.0,2,   117.50,2,    34.00,2,     0.03,2,     2.34,2
 06AQANTVIII_2,  SR02,   209,  1,     13,     13,2,19891021,0608,-60.8500,   0.6667, 5358,    350.2,   0.4313,  34.6808,3,  34.6810,2,    196.4,2,   118.77,2,    34.00,2,     0.02,2,     2.36,2
 06AQANTVIII_2,  SR02,   209,  1,     12,     12,2,19891021,0608,-60.8500,   0.6667, 5358,    504.0,   0.3233,  34.6794,3,  34.6790,2,    195.7,2,   122.31,2,    34.10,2,     0.04,2,     2.36,2
 06AQANTVIII_2,  SR02,   209,  1,     11,     11,2,19891021,0608,-60.8500,   0.6667, 5358,    750.3,   0.2153,  34.6750,3,  34.6760,2,    202.1,2,   124.28,2,    34.00,2,     0.02,2,     2.37,2
 06AQANTVIII_2,  SR02,   209,  1,     10,     10,2,19891021,0608,-60.8500,   0.6667, 5358,    998.7,   0.1104,  34.6724,3,  34.6700,2,    209.9,2,   124.47,2,    33.60,2,     0.01,2,     2.34,2
 06AQANTVIII_2,  SR02,   209,  1,      9,      9,2,19891021,0608,-60.8500,   0.6667, 5358,   1498.3,  -0.0656,  34.6637,3,  34.6640,2,    219.3,2,   124.37,2,    33.20,2,     0.02,2,     2.32,2
 06AQANTVIII_2,  SR02,   209,  1,      8,      8,2,19891021,0608,-60.8500,   0.6667, 5358,   2003.0,  -0.1996,  34.6595,3,  34.6590,2,    228.4,2,   123.88,2,    33.00,2,     0.02,2,     2.30,2
 06AQANTVIII_2,  SR02,   209,  1,      7,      7,2,19891021,0608,-60.8500,   0.6667, 5358,   2495.5,  -0.2795,  34.6581,3,  34.6570,2,    233.0,2,   123.39,2,    32.90,2,     0.03,2,     2.29,2
 06AQANTVIII_2,  SR02,   209,  1,      6,      6,2,19891021,0608,-60.8500,   0.6667, 5358,   2997.9,  -0.3436,  34.6549,3,  34.6540,2,    237.5,2,   122.51,2,    32.60,2,     0.02,2,     2.28,2
 06AQANTVIII_2,  SR02,   209,  1,      5,      5,2,19891021,0608,-60.8500,   0.6667, 5358,   3498.9,  -0.3986,  34.6515,3,  34.6480,2,    242.3,2,   122.21,2,    32.60,2,     0.03,2,     2.27,2
 06AQANTVIII_2,  SR02,   209,  1,      4,      4,2,19891021,0608,-60.8500,   0.6667, 5358,   4002.2,  -0.4546,  34.6481,3,  34.6490,2,    246.3,2,   119.96,2,    32.40,2,     0.03,2,     2.27,2
 06AQANTVIII_2,  SR02,   209,  1,      3,      3,2,19891021,0608,-60.8500,   0.6667, 5358,   4499.1,  -0.5036,  34.6438,3,  34.6430,2,    250.7,2,   115.53,2,    32.30,2,     0.02,2,     2.24,2
 06AQANTVIII_2,  SR02,   209,  1,      2,      2,2,19891021,0608,-60.8500,   0.6667, 5358,   5382.3,  -0.4346,  34.6441,3,  34.6440,2,    250.3,2,   117.99,2,    32.30,2,     0.03,2,     2.25,2
 06AQANTVIII_2,  SR02,   209,  1,      1,      1,2,19891021,0608,-60.8500,   0.6667, 5358,   5477.9,  -0.4216,  34.6426,3,  34.6420,2,    250.3,2,   118.19,2,    32.30,2,     0.03,2,     2.25,2
 06AQANTVIII_2,  SR02,   210,  1,     24,     24,2,19891021,1714,-59.9500,   1.5167, 4978,      9.0,  -1.8521,  34.3369,3,-999.0000,9,   -999.0,9,    62.50,2,    28.10,2,     0.32,2,     1.98,2
 06AQANTVIII_2,  SR02,   210,  1,     23,     23,2,19891021,1714,-59.9500,   1.5167, 4978,     21.9,  -1.8531,  34.3381,3,  34.3410,2,    323.1,2,    62.69,2,    28.10,2,     0.31,2,     1.97,2
 06AQANTVIII_2,  SR02,   210,  1,     22,     22,2,19891021,1714,-59.9500,   1.5167, 4978,     40.1,  -1.8491,  34.3384,3,-999.0000,9,   -999.0,9,    62.79,2,    28.10,2,     0.35,2,     1.96,2
 06AQANTVIII_2,  SR02,   210,  1,     21,     21,2,19891021,1714,-59.9500,   1.5167, 4978,     60.8,  -1.8441,  34.3387,3,  34.3370,2,    322.8,2,    62.89,2,    28.20,2,     0.33,2,     1.98,2
 06AQANTVIII_2,  SR02,   210,  1,     20,     20,2,19891021,1714,-59.9500,   1.5167, 4978,     81.4,  -1.8461,  34.3389,3,-999.0000,9,   -999.0,9,    62.89,2,    28.20,2,     0.32,2,     1.97,2
 06AQANTVIII_2,  SR02,   210,  1,     19,     19,2,19891021,1714,-59.9500,   1.5167, 4978,    102.0,  -1.8291,  34.3394,3,  34.3400,2,    321.3,2,    63.09,2,    28.40,2,     0.32,2,     1.96,2
 06AQANTVIII_2,  SR02,   210,  1,     18,     18,2,19891021,1714,-59.9500,   1.5167, 4978,    150.3,  -0.4686,  34.5176,3,-999.0000,9,   -999.0,9,  -999.00,9,  -999.00,9,  -999.00,9,  -999.00,9
 06AQANTVIII_2,  SR02,   210,  1,     17,     17,2,19891021,1714,-59.9500,   1.5167, 4978,    210.8,   0.6113,  34.6794,3,  34.6790,2,    192.9,2,   112.98,2,    33.50,2,     0.03,2,     2.35,2
 06AQANTVIII_2,  SR02,   210,  1,     16,     16,2,19891021,1714,-59.9500,   1.5167, 4978,    241.3,   0.5533,  34.6805,3,-999.0000,9,   -999.0,9,   115.04,2,    33.60,2,     0.04,2,     2.36,2
 06AQANTVIII_2,  SR02,   210,  1,     15,     15,2,19891021,1714,-59.9500,   1.5167, 4978,    271.8,   0.5113,  34.6806,3,  34.6820,2,    194.0,2,   116.61,2,    33.70,2,     0.03,2,     2.37,2
 06AQANTVIII_2,  SR02,   210,  1,     14,     14,2,19891021,1714,-59.9500,   1.5167, 4978,    299.7,   0.4903,  34.6823,3,  34.6810,2,    194.1,2,   117.10,2,    33.70,2,     0.08,2,     2.35,2
 06AQANTVIII_2,  SR02,   210,  1,     13,     13,2,19891021,1714,-59.9500,   1.5167, 4978,    403.1,   0.4103,  34.6791,3,  34.6770,2,    194.9,2,   119.56,2,    33.90,2,     0.05,2,     2.37,2
 06AQANTVIII_2,  SR02,   210,  1,     12,     12,2,19891021,1714,-59.9500,   1.5167, 4978,    504.2,   0.3393,  34.6781,3,  34.6790,2,    195.7,2,   119.95,2,    34.00,2,     0.05,2,     2.38,2
 06AQANTVIII_2,  SR02,   210,  1,     11,     11,2,19891021,1714,-59.9500,   1.5167, 4978,    751.0,   0.2263,  34.6751,3,  34.6760,2,    201.6,2,   124.37,2,    33.90,2,     0.06,2,     2.38,2
 06AQANTVIII_2,  SR02,   210,  1,     10,     10,2,19891021,1714,-59.9500,   1.5167, 4978,   1003.3,   0.1074,  34.6716,3,  34.6710,2,    209.3,2,   124.87,2,    33.60,2,     0.05,2,     2.37,2
 06AQANTVIII_2,  SR02,   210,  1,      9,      9,2,19891021,1714,-59.9500,   1.5167, 4978,   1501.4,  -0.0796,  34.6631,3,  34.6640,2,    221.2,2,   124.57,2,    33.10,2,     0.04,2,     2.34,2
 06AQANTVIII_2,  SR02,   210,  1,      8,      8,2,19891021,1714,-59.9500,   1.5167, 4978,   2008.7,  -0.2085,  34.6599,3,  34.6600,2,    230.0,2,   123.88,2,    32.90,2,     0.06,2,     2.32,2
 06AQANTVIII_2,  SR02,   210,  1,      7,      7,2,19891021,1714,-59.9500,   1.5167, 4978,   2495.0,  -0.2846,  34.6561,3,  34.6570,2,    233.7,2,   123.39,2,    32.70,2,     0.05,2,     2.30,2
 06AQANTVIII_2,  SR02,   210,  1,      6,      6,2,19891021,1714,-59.9500,   1.5167, 4978,   3000.4,  -0.3496,  34.6536,3,  34.6560,2,    238.9,2,   122.51,2,    32.50,2,     0.04,2,     2.29,2
 06AQANTVIII_2,  SR02,   210,  1,      5,      5,2,19891021,1714,-59.9500,   1.5167, 4978,   3500.3,  -0.4066,  34.6503,3,  34.6480,2,    242.7,2,   122.21,2,    32.50,2,     0.02,2,     2.28,2
 06AQANTVIII_2,  SR02,   210,  1,      4,      4,2,19891021,1714,-59.9500,   1.5167, 4978,   4004.1,  -0.4776,  34.6463,3,  34.6360,4,    247.3,2,   117.99,2,    32.30,2,     0.04,2,     2.25,2
 06AQANTVIII_2,  SR02,   210,  1,      3,      3,2,19891021,1714,-59.9500,   1.5167, 4978,   4497.9,  -0.5206,  34.6408,3,  34.6390,2,    251.6,2,   114.45,2,    32.20,2,     0.02,2,     2.25,2
 06AQANTVIII_2,  SR02,   210,  1,      2,      2,2,19891021,1714,-59.9500,   1.5167, 4978,   5021.3,  -0.4756,  34.6422,3,  34.6400,2,    250.8,2,   117.60,2,    32.40,2,     0.03,2,     2.26,2
 06AQANTVIII_2,  SR02,   210,  1,      1,      1,2,19891021,1714,-59.9500,   1.5167, 4978,   5072.8,  -0.4696,  34.6417,3,  34.6430,2,    251.1,2,   117.79,2,    32.40,2,     0.02,2,     2.26,2