BOTTLE,20221004CCHSIOAMB
EXPOCODE,SECT_ID,STNNBR,CASTNO,SAMPNO,BTLNBR,BTLNBR_FLAG_W,DATE,TIME,LATITUDE,LONGITUDE,DEPTH,CTDPRS,CTDTMP,CTDSAL,CTDSAL_FLAG_W,SALNTY,SALNTY_FLAG_W,OXYGEN,OXYGEN_FLAG_W,SILCAT,SILCAT_FLAG_W,NITRAT,NITRAT_FLAG_W,NITRIT,NITRIT_FLAG_W,PHSPHT,PHSPHT_FLAG_W
,,,,,,,,,,,,DBAR,ITS-90,PSS-78,,PSS-78,,UMOL/KG,,UMOL/KG,,UMOL/KG,,UMOL/KG,,UMOL/KG,
 06AQANTVIII_2,  SR04,   167,  1,     24,     24,2,19890926,0106,-66.5833, -32.8500, 4689,     47.6,  -1.8436,  34.5024,3,  34.4970,2,    300.0,2,    73.20,2,    29.00,2,     0.26,2,     2.07,2
 06AQANTVIII_2,  SR04,   167,  1,     23,     23,2,19890926,0106,-66.5833, -32.8500, 4689,     94.9,  -1.8376,  34.5013,3,  34.5040,2,    299.3,2,    73.20,2,    29.00,2,     0.25,2,     2.06,2
 06AQANTVIII_2,  SR04,   167,  1,     22,     22,2,19890926,0106,-66.5833, -32.8500, 4689,    117.5,  -1.8236,  34.4998,3,  34.4990,2,    298.9,2,    73.40,2,    29.00,2,     0.26,2,     2.06,2
 06AQANTVIII_2,  SR04,   167,  1,     21,     21,2,19890926,0106,-66.5833, -32.8500, 4689,    198.2,   0.2224,  34.6582,3,  34.6550,2,    202.4,2,   106.00,2,    33.60,2,     0.03,2,     2.35,2
 06AQANTVIII_2,  SR04,   167,  1,     20,     20,2,19890926,0106,-66.5833, -32.8500, 4689,    236.4,   0.2674,  34.6647,3,  34.6590,2,    200.6,2,   106.89,2,    33.70,2,     0.03,2,     2.36,2
 06AQANTVIII_2,  SR04,   167,  1,     19,     19,2,19890926,0106,-66.5833, -32.8500, 4689,    319.9,   0.4584,  34.6859,3,  34.6800,2,    192.1,2,   115.92,2,    34.20,2,     0.03,2,     2.38,2
 06AQANTVIII_2,  SR04,   167,  1,     18,     18,2,19890926,0106,-66.5833, -32.8500, 4689,    497.3,   0.3624,  34.6854,3,  34.6790,2,    192.1,2,   121.43,2,    34.40,2,     0.03,2,     2.39,2
 06AQANTVIII_2,  SR04,   167,  1,     17,     17,2,19890926,0106,-66.5833, -32.8500, 4689,    747.5,   0.2404,  34.6824,3,  34.6750,2,    198.7,2,   124.18,2,    34.30,2,     0.03,2,     2.38,2
 06AQANTVIII_2,  SR04,   167,  1,     16,     16,2,19890926,0106,-66.5833, -32.8500, 4689,    997.6,   0.1315,  34.6810,3,  34.6710,3,    205.7,2,   124.77,2,    33.90,2,     0.02,2,     2.36,2
 06AQANTVIII_2,  SR04,   167,  1,     15,     15,2,19890926,0106,-66.5833, -32.8500, 4689,   1248.2,   0.0425,  34.6760,3,  34.6680,2,    213.0,2,   124.77,2,    33.60,2,     0.05,2,     2.35,2
 06AQANTVIII_2,  SR04,   167,  1,     14,     14,2,19890926,0106,-66.5833, -32.8500, 4689,   1497.9,  -0.0412,  34.6715,3,  34.6610,3,    218.4,2,   124.37,2,    33.40,2,     0.04,2,     2.34,2
 06AQANTVIII_2,  SR04,   167,  1,     13,     13,2,19890926,0106,-66.5833, -32.8500, 4689,   2002.7,  -0.1684,  34.6660,3,  34.6580,2,    226.8,2,   123.79,2,    33.00,2,     0.03,2,     2.31,2
 06AQANTVIII_2,  SR04,   167,  1,     12,     12,2,19890926,0106,-66.5833, -32.8500, 4689,   2500.3,  -0.2533,  34.6638,3,  34.6580,2,    234.1,2,   123.10,2,    32.90,2,     0.03,2,     2.30,2
 06AQANTVIII_2,  SR04,   167,  1,     10,     10,2,19890926,0106,-66.5833, -32.8500, 4689,   3000.7,  -0.3104,  34.6615,3,  34.6540,2,    236.2,2,   122.31,2,    32.60,2,     0.03,2,     2.29,2
 06AQANTVIII_2,  SR04,   167,  1,     11,     11,2,19890926,0106,-66.5833, -32.8500, 4689,   3001.1,  -0.3104,  34.6600,3,  34.6570,2,   -999.0,9,   122.12,2,    32.70,2,     0.03,2,     2.28,2
 06AQANTVIII_2,  SR04,   167,  1,      9,      9,2,19890926,0106,-66.5833, -32.8500, 4689,   3492.7,  -0.3544,  34.6562,3,  34.6530,2,    240.4,2,   121.62,2,    32.60,2,     0.02,2,     2.28,2
 06AQANTVIII_2,  SR04,   167,  1,      8,      8,2,19890926,0106,-66.5833, -32.8500, 4689,   4002.0,  -0.3875,  34.6547,3,  34.6530,2,   -999.0,9,   121.43,2,    32.50,2,    -0.01,4,     2.27,2
 06AQANTVIII_2,  SR04,   167,  1,      7,      7,2,19890926,0106,-66.5833, -32.8500, 4689,   4002.5,  -0.3875,  34.6545,3,  34.6510,2,    243.9,2,   121.43,2,    32.60,2,    -0.01,4,     2.27,2
 06AQANTVIII_2,  SR04,   167,  1,      6,      6,2,19890926,0106,-66.5833, -32.8500, 4689,   4253.7,  -0.4075,  34.6523,3,  34.6510,2,    245.2,2,   121.82,2,    32.60,2,    -0.03,4,     2.27,2
 06AQANTVIII_2,  SR04,   167,  1,      5,      5,2,19890926,0106,-66.5833, -32.8500, 4689,   4486.9,  -0.4545,  34.6497,3,  34.6410,2,    247.2,2,   119.96,2,    32.60,2,    -0.01,4,     2.29,2
 06AQANTVIII_2,  SR04,   167,  1,      4,      4,2,19890926,0106,-66.5833, -32.8500, 4689,   4630.6,  -0.4846,  34.6496,3,  34.6480,2,    248.6,2,   124.18,2,    32.60,2,    -0.02,4,     2.26,2
 06AQANTVIII_2,  SR04,   167,  1,      3,      3,2,19890926,0106,-66.5833, -32.8500, 4689,   4678.6,  -0.4926,  34.6492,3,  34.6400,2,    248.2,2,   125.46,2,    32.60,2,    -0.03,4,     2.26,2
 06AQANTVIII_2,  SR04,   167,  1,      2,      2,2,19890926,0106,-66.5833, -32.8500, 4689,   4764.5,  -0.5376,  34.6394,3,  34.6400,2,   -999.0,9,   123.79,2,    32.50,2,    -0.01,4,     2.26,2
 06AQANTVIII_2,  SR04,   167,  1,      1,      1,2,19890926,0106,-66.5833, -32.8500, 4689,   4764.5,  -0.5376,  34.6394,3,  34.6360,2,    251.4,2,   122.61,2,    32.50,2,    -0.01,4,     2.25,2
 06AQANTVIII_2,  SR04,   168,  1,     22,     22,2,19890926,1446,-66.6000, -31.4833, 4699,     19.4,  -1.8566,  34.4992,3,-999.0000,9,    295.1,2,    73.00,2,    29.30,2,     0.23,2,     2.06,2
 06AQANTVIII_2,  SR04,   168,  1,     21,     21,2,19890926,1446,-66.6000, -31.4833, 4699,     38.9,  -1.8546,  34.4995,3,  34.4970,2,   -999.0,9,  -999.00,9,  -999.00,9,  -999.00,9,  -999.00,9
 06AQANTVIII_2,  SR04,   168,  1,     20,     20,2,19890926,1446,-66.6000, -31.4833, 4699,     57.5,  -1.8526,  34.5005,3,-999.0000,9,    296.6,2,    73.00,2,    29.30,2,     0.23,2,     2.05,2
 06AQANTVIII_2,  SR04,   168,  1,     19,     19,2,19890926,1446,-66.6000, -31.4833, 4699,     75.8,  -1.8516,  34.5000,3,-999.0000,9,   -999.0,9,  -999.00,9,  -999.00,9,  -999.00,9,  -999.00,9
 06AQANTVIII_2,  SR04,   168,  1,     17,     17,2,19890926,1446,-66.6000, -31.4833, 4699,     97.0,  -1.8466,  34.5013,3,-999.0000,9,   -999.0,9,  -999.00,9,  -999.00,9,  -999.00,9,  -999.00,9
 06AQANTVIII_2,  SR04,   168,  1,     18,     18,2,19890926,1446,-66.6000, -31.4833, 4699,     97.3,  -1.8486,  34.5007,3,-999.0000,9,   -999.0,9,  -999.00,9,  -999.00,9,  -999.00,9,  -999.00,9
 06AQANTVIII_2,  SR04,   168,  1,     16,     16,2,19890926,1446,-66.6000, -31.4833, 4699,    129.3,  -1.8376,  34.5020,3,  34.4990,2,    296.4,2,    73.20,2,    29.20,2,     0.23,2,     2.06,2
 06AQANTVIII_2,  SR04,   168,  1,     14,     14,2,19890926,1446,-66.6000, -31.4833, 4699,    245.8,   0.3234,  34.6697,3,  34.6700,2,    196.0,2,   110.03,2,    34.10,2,     0.02,2,     2.36,2
 06AQANTVIII_2,  SR04,   168,  1,     15,     15,2,19890926,1446,-66.6000, -31.4833, 4699,    246.3,   0.3214,  34.6704,3,-999.0000,9,   -999.0,9,  -999.00,9,  -999.00,9,  -999.00,9,  -999.00,9
 06AQANTVIII_2,  SR04,   168,  1,     12,     12,2,19890926,1446,-66.6000, -31.4833, 4699,    319.4,   0.4424,  34.6831,3,  34.6810,2,    191.3,2,   115.63,2,    34.40,2,     0.01,2,     2.37,2
 06AQANTVIII_2,  SR04,   168,  1,     13,     13,2,19890926,1446,-66.6000, -31.4833, 4699,    319.8,   0.4434,  34.6843,3,-999.0000,9,   -999.0,9,  -999.00,9,  -999.00,9,  -999.00,9,  -999.00,9
 06AQANTVIII_2,  SR04,   168,  1,     10,     10,2,19890926,1446,-66.6000, -31.4833, 4699,    499.9,   0.3464,  34.6843,3,  34.6570,4,   -999.0,9,  -999.00,9,  -999.00,9,  -999.00,9,  -999.00,9
 06AQANTVIII_2,  SR04,   168,  1,     11,     11,2,19890926,1446,-66.6000, -31.4833, 4699,    502.9,   0.3434,  34.6845,3,-999.0000,9,   -999.0,9,  -999.00,9,  -999.00,9,  -999.00,9,  -999.00,9
 06AQANTVIII_2,  SR04,   168,  1,      8,      8,2,19890926,1446,-66.6000, -31.4833, 4699,   1015.8,   0.1165,  34.6767,3,  34.6750,2,    206.5,2,   124.37,2,    33.80,2,     0.00,2,     2.36,2
 06AQANTVIII_2,  SR04,   168,  1,      9,      9,2,19890926,1446,-66.6000, -31.4833, 4699,   1017.1,   0.1155,  34.6771,3,-999.0000,9,   -999.0,9,  -999.00,9,  -999.00,9,  -999.00,9,  -999.00,9
 06AQANTVIII_2,  SR04,   168,  1,      7,      7,2,19890926,1446,-66.6000, -31.4833, 4699,   1999.6,  -0.1794,  34.6679,3,-999.0000,9,   -999.0,9,  -999.00,9,  -999.00,9,  -999.00,9,  -999.00,9
 06AQANTVIII_2,  SR04,   168,  1,      5,      5,2,19890926,1446,-66.6000, -31.4833, 4699,   3503.7,  -0.3685,  34.6584,3,-999.0000,9,   -999.0,9,  -999.00,9,  -999.00,9,  -999.00,9,  -999.00,9
 06AQANTVIII_2,  SR04,   168,  1,      6,      6,2,19890926,1446,-66.6000, -31.4833, 4699,   3504.2,  -0.3685,  34.6582,3,  34.6640,2,    227.7,2,   123.59,2,    33.30,2,     0.02,2,     2.33,2
 06AQANTVIII_2,  SR04,   168,  1,      4,      4,2,19890926,1446,-66.6000, -31.4833, 4699,   4252.0,  -0.4425,  34.6511,3,  34.6550,2,    240.4,2,   121.04,2,    32.70,2,     0.02,2,     2.29,2
 06AQANTVIII_2,  SR04,   168,  1,      3,      3,2,19890926,1446,-66.6000, -31.4833, 4699,   4704.6,  -0.5426,  34.6457,3,  34.6550,2,    246.2,2,   118.78,2,    32.60,2,     0.02,2,     2.28,2
 06AQANTVIII_2,  SR04,   168,  1,      2,      2,2,19890926,1446,-66.6000, -31.4833, 4699,   4782.4,  -0.5777,  34.6393,3,  34.6500,3,    250.5,2,   117.79,2,    32.60,2,     0.02,2,     2.28,2
 06AQANTVIII_2,  SR04,   168,  1,      1,      1,2,19890926,1446,-66.6000, -31.4833, 4699,   4784.1,  -0.5797,  34.6395,3,  34.6420,2,    252.9,2,   116.12,2,    32.60,2,     0.02,2,     2.27,2
 06AQANTVIII_2,  SR04,   169,  1,     24,     24,2,19890926,2350,-66.7333, -30.5000, 4686,      2.9,  -1.8396,  34.4883,3,  34.4890,2,    293.9,2,    72.81,2,    28.60,2,     0.29,2,     2.07,2
 06AQANTVIII_2,  SR04,   169,  1,     23,     23,2,19890926,2350,-66.7333, -30.5000, 4686,     47.9,  -1.8246,  34.4866,3,  34.4910,2,    294.0,2,    73.00,2,    28.60,2,     0.28,2,     2.06,2
 06AQANTVIII_2,  SR04,   169,  1,     22,     22,2,19890926,2350,-66.7333, -30.5000, 4686,     98.2,  -1.7975,  34.4954,3,  34.6890,4,    293.7,2,    72.91,2,    28.70,2,     0.26,2,     2.07,2
 06AQANTVIII_2,  SR04,   169,  1,     21,     21,2,19890926,2350,-66.7333, -30.5000, 4686,    237.3,   0.5134,  34.6813,3,  34.6790,2,    194.6,2,   109.15,2,    33.50,2,     0.01,2,     2.36,2
 06AQANTVIII_2,  SR04,   169,  1,     20,     20,2,19890926,2350,-66.7333, -30.5000, 4686,    317.8,   0.5414,  34.6881,3,  34.6870,2,    193.1,2,   113.66,2,    33.70,2,     0.01,2,     2.36,2
 06AQANTVIII_2,  SR04,   169,  1,     19,     19,2,19890926,2350,-66.7333, -30.5000, 4686,    497.1,   0.4034,  34.6869,3,  34.6840,2,    195.5,2,   119.46,2,    33.90,2,     0.01,2,     2.39,2
 06AQANTVIII_2,  SR04,   169,  1,     18,     18,2,19890926,2350,-66.7333, -30.5000, 4686,    756.9,   0.2894,  34.6855,3,  34.6830,2,    199.1,2,   122.80,2,    33.70,2,     0.01,2,     2.38,2
 06AQANTVIII_2,  SR04,   169,  1,     16,     16,2,19890926,2350,-66.7333, -30.5000, 4686,    995.7,   0.1855,  34.6816,3,  34.6790,2,    207.2,2,   123.88,2,    33.40,2,     0.01,2,     2.37,2
 06AQANTVIII_2,  SR04,   169,  1,     17,     17,2,19890926,2350,-66.7333, -30.5000, 4686,    997.7,   0.1855,  34.6817,3,  34.6790,2,    205.7,2,   123.98,2,    33.40,2,    -0.01,4,     2.37,2
 06AQANTVIII_2,  SR04,   169,  1,     15,     15,2,19890926,2350,-66.7333, -30.5000, 4686,   1246.0,   0.0875,  34.6778,3,  34.6730,2,    211.0,2,   124.57,2,    33.30,2,     0.01,2,     2.35,2
 06AQANTVIII_2,  SR04,   169,  1,     14,     14,2,19890926,2350,-66.7333, -30.5000, 4686,   1497.0,  -0.0052,  34.6724,3,  34.6700,2,    216.7,2,   124.47,2,    33.10,2,     0.01,2,     2.34,2
 06AQANTVIII_2,  SR04,   169,  1,     13,     13,2,19890926,2350,-66.7333, -30.5000, 4686,   1998.2,  -0.1463,  34.6675,3,  34.6640,2,    225.6,2,   123.79,2,    32.80,2,     0.02,2,     2.33,2
 06AQANTVIII_2,  SR04,   169,  1,     12,     12,2,19890926,2350,-66.7333, -30.5000, 4686,   2495.7,  -0.2383,  34.6625,3,  34.6620,2,    230.2,2,   123.00,2,    32.60,2,     0.02,2,     2.30,2
 06AQANTVIII_2,  SR04,   169,  1,     10,     10,2,19890926,2350,-66.7333, -30.5000, 4686,   3000.9,  -0.2994,  34.6605,3,  34.6590,2,    236.1,2,   122.12,2,    32.40,2,     0.02,2,     2.31,2
 06AQANTVIII_2,  SR04,   169,  1,     11,     11,2,19890926,2350,-66.7333, -30.5000, 4686,   3001.5,  -0.2994,  34.6602,3,  34.6560,2,    235.9,2,   122.31,2,    32.40,2,     0.02,2,     2.30,2
 06AQANTVIII_2,  SR04,   169,  1,      9,      9,2,19890926,2350,-66.7333, -30.5000, 4686,   3503.1,  -0.3474,  34.6570,3,  34.6560,2,    239.2,2,   121.53,2,    32.30,2,     0.02,2,     2.30,2
 06AQANTVIII_2,  SR04,   169,  1,      8,      8,2,19890926,2350,-66.7333, -30.5000, 4686,   4000.8,  -0.3795,  34.6548,3,  34.6550,2,    243.8,2,   122.71,2,    32.30,2,     0.02,2,     2.28,2
 06AQANTVIII_2,  SR04,   169,  1,      7,      7,2,19890926,2350,-66.7333, -30.5000, 4686,   4002.2,  -0.3795,  34.6542,3,  34.6530,2,    244.0,2,   122.51,2,    32.30,2,     0.02,2,     2.29,2
 06AQANTVIII_2,  SR04,   169,  1,      6,      6,2,19890926,2350,-66.7333, -30.5000, 4686,   4254.0,  -0.3945,  34.6543,3,  34.6530,2,    244.6,2,   122.80,2,    32.30,2,     0.02,2,     2.28,2
 06AQANTVIII_2,  SR04,   169,  1,      5,      5,2,19890926,2350,-66.7333, -30.5000, 4686,   4500.7,  -0.4435,  34.6510,3,  34.6530,2,    245.8,2,   120.35,2,    32.30,2,     0.02,2,     2.28,2
 06AQANTVIII_2,  SR04,   169,  1,      4,      4,2,19890926,2350,-66.7333, -30.5000, 4686,   4501.1,  -0.4445,  34.6519,3,  34.6520,2,    246.7,2,   120.45,2,    32.30,2,     0.02,2,     2.28,2
 06AQANTVIII_2,  SR04,   169,  1,      3,      3,2,19890926,2350,-66.7333, -30.5000, 4686,   4675.1,  -0.4816,  34.6495,3,  34.6500,2,    247.1,2,   124.47,2,    32.30,2,     0.02,2,     2.28,2
 06AQANTVIII_2,  SR04,   169,  1,      2,      2,2,19890926,2350,-66.7333, -30.5000, 4686,   4724.8,  -0.4906,  34.6484,3,  34.6480,2,    247.2,2,   125.36,2,    32.30,2,     0.02,2,     2.28,2
 06AQANTVIII_2,  SR04,   169,  1,      1,      1,2,19890926,2350,-66.7333, -30.5000, 4686,   4772.6,  -0.5206,  34.6441,3,  34.6420,2,   -999.0,9,   127.23,2,    32.40,2,     0.02,2,     2.29,2
 06AQANTVIII_2,  SR04,   170,  1,     24,     24,2,19890927,0810,-66.9000, -29.2333, 4702,      7.5,  -1.8075,  34.4928,3,  34.4910,2,    285.7,2,    75.17,2,    29.30,2,     0.21,2,     2.07,2
 06AQANTVIII_2,  SR04,   170,  1,     23,     23,2,19890927,0810,-66.9000, -29.2333, 4702,     19.1,  -1.7955,  34.4951,3,  34.4900,2,    285.3,2,    75.16,2,    29.40,2,     0.21,2,     2.06,2
 06AQANTVIII_2,  SR04,   170,  1,     22,     22,2,19890927,0810,-66.9000, -29.2333, 4702,     39.2,  -1.7865,  34.4927,3,  34.4940,2,    287.2,2,    75.26,2,    29.40,2,     0.22,2,     2.07,2
 06AQANTVIII_2,  SR04,   170,  1,     21,     21,2,19890927,0810,-66.9000, -29.2333, 4702,     97.8,  -0.7457,  34.6132,3,  34.6000,3,    231.6,2,    92.06,2,    32.20,2,     0.09,2,     2.22,2
 06AQANTVIII_2,  SR04,   170,  1,     20,     20,2,19890927,0810,-66.9000, -29.2333, 4702,    147.1,   0.4174,  34.6795,3,  34.6700,2,    196.1,2,   104.33,2,    33.70,2,     0.01,2,     2.30,2
 06AQANTVIII_2,  SR04,   170,  1,     19,     19,2,19890927,0810,-66.9000, -29.2333, 4702,    196.8,   0.5394,  34.6828,3,  34.6810,2,    193.7,2,   107.67,2,    33.80,2,     0.02,2,     2.32,2
 06AQANTVIII_2,  SR04,   170,  1,     18,     18,2,19890927,0810,-66.9000, -29.2333, 4702,    245.9,   0.5703,  34.6880,3,  34.6960,2,    193.7,2,   111.11,2,    33.20,2,     0.00,2,     2.31,2
 06AQANTVIII_2,  SR04,   170,  1,     17,     17,2,19890927,0810,-66.9000, -29.2333, 4702,    494.7,   0.3974,  34.6880,3,  34.6830,2,    195.2,2,   119.76,2,    33.20,2,    -0.01,4,     2.33,2
 06AQANTVIII_2,  SR04,   170,  1,     16,     16,2,19890927,0810,-66.9000, -29.2333, 4702,    745.2,   0.2874,  34.6845,3,  34.6820,2,    197.2,2,   121.33,2,    33.50,2,    -0.01,4,     2.35,2
 06AQANTVIII_2,  SR04,   170,  1,     15,     15,2,19890927,0810,-66.9000, -29.2333, 4702,    994.6,   0.1855,  34.6823,3,  34.6780,2,    204.7,2,   122.51,2,    33.10,2,    -0.01,4,     2.32,2
 06AQANTVIII_2,  SR04,   170,  1,     14,     14,2,19890927,0810,-66.9000, -29.2333, 4702,   1243.0,   0.0805,  34.6767,3,  34.6740,2,    212.0,2,   122.80,2,    32.80,2,    -0.01,4,     2.31,2
 06AQANTVIII_2,  SR04,   170,  1,     13,     13,2,19890927,0810,-66.9000, -29.2333, 4702,   1493.7,  -0.0112,  34.6726,3,  34.6710,2,    216.4,2,   123.00,2,    32.70,2,    -0.01,4,     2.30,2
 06AQANTVIII_2,  SR04,   170,  1,     12,     12,2,19890927,0810,-66.9000, -29.2333, 4702,   1747.4,  -0.0883,  34.6686,3,  34.6660,2,    221.9,2,   123.10,2,    32.70,2,    -0.01,4,     2.29,2
 06AQANTVIII_2,  SR04,   170,  1,     11,     11,2,19890927,0810,-66.9000, -29.2333, 4702,   1997.2,  -0.1543,  34.6660,3,  34.6640,2,    226.2,2,   122.41,2,    32.50,2,     0.00,2,     2.28,2
 06AQANTVIII_2,  SR04,   170,  1,     10,     10,2,19890927,0810,-66.9000, -29.2333, 4702,   2499.4,  -0.2433,  34.6623,3,  34.6590,2,    231.9,2,   121.92,2,    32.30,2,     0.00,2,     2.26,2
 06AQANTVIII_2,  SR04,   170,  1,      9,      9,2,19890927,0810,-66.9000, -29.2333, 4702,   3000.8,  -0.3054,  34.6603,3,  34.6580,2,    235.6,2,   120.94,2,    32.10,2,     0.00,2,     2.25,2
 06AQANTVIII_2,  SR04,   170,  1,      8,      8,2,19890927,0810,-66.9000, -29.2333, 4702,   3504.2,  -0.3514,  34.6576,3,  34.6560,2,    242.8,2,   120.35,2,    32.10,2,    -0.02,4,     2.24,2
 06AQANTVIII_2,  SR04,   170,  1,      7,      7,2,19890927,0810,-66.9000, -29.2333, 4702,   3754.4,  -0.3695,  34.6571,3,  34.6560,2,    241.6,2,   120.94,2,    32.00,2,     0.00,2,     2.24,2
 06AQANTVIII_2,  SR04,   170,  1,      6,      6,2,19890927,0810,-66.9000, -29.2333, 4702,   4004.3,  -0.3845,  34.6558,3,  34.6560,2,    242.8,2,   121.33,2,    32.00,2,    -0.02,4,     2.24,2
 06AQANTVIII_2,  SR04,   170,  1,      5,      5,2,19890927,0810,-66.9000, -29.2333, 4702,   4253.9,  -0.4005,  34.6551,3,  34.6520,2,    244.2,2,   121.13,2,    32.00,2,     0.00,2,     2.24,2
 06AQANTVIII_2,  SR04,   170,  1,      4,      4,2,19890927,0810,-66.9000, -29.2333, 4702,   4507.6,  -0.4535,  34.6512,3,  34.6510,2,    246.6,2,   119.46,2,    32.00,2,    -0.03,4,     2.24,2
 06AQANTVIII_2,  SR04,   170,  1,      3,      3,2,19890927,0810,-66.9000, -29.2333, 4702,   4696.6,  -0.4886,  34.6485,3,  34.6500,2,    246.8,2,   124.47,2,    32.20,2,    -0.03,4,     2.25,2
 06AQANTVIII_2,  SR04,   170,  1,      2,      2,2,19890927,0810,-66.9000, -29.2333, 4702,   4742.3,  -0.5096,  34.6452,3,  34.6440,2,    247.3,2,   125.65,2,    32.20,2,     0.00,2,     2.25,2
 06AQANTVIII_2,  SR04,   170,  1,      1,      1,2,19890927,0810,-66.9000, -29.2333, 4702,   4797.6,  -0.5666,  34.6371,3,  34.6390,2,    251.7,2,   120.15,2,    32.10,2,     0.00,2,     2.22,2