BOTTLE,20221004CCHSIOAMB
EXPOCODE,SECT_ID,STNNBR,CASTNO,SAMPNO,BTLNBR,DATE,TIME,LATITUDE,LONGITUDE,DEPTH,CTDPRS,CTDTMP,CTDSAL,CTDSAL_FLAG_W,SALNTY,SALNTY_FLAG_W,CTDOXY,CTDOXY_FLAG_W,OXYGEN,OXYGEN_FLAG_W,SILCAT,SILCAT_FLAG_W,NO2+NO3,NO2+NO3_FLAG_W,PHSPHT,PHSPHT_FLAG_W,THETA,CTDRAW
,,,,,,,,,,,DBAR,ITS-90,PSS-78,,PSS-78,,ML/L,,ML/L,,UMOL/L,,UMOL/L,,UMOL/L,,DEG C,
      74CD50_1,  ACM8,   018,  1,    302,   -999,19900715,0150, 63.0067, -17.1350, 1297,     92.4,   7.9681,  35.2115,2,  35.2125,2,      6.4,2,      6.4,2,     6.10,2,    14.60,2,     0.86,2,  7.9588,   -999
      74CD50_1,  ACM8,   018,  1,    301,   -999,19900715,0150, 63.0067, -17.1350, 1297,     93.2,   7.9332,  35.2033,2,  35.1995,2,      6.5,2,      6.5,2,     6.30,2,    14.80,2,     0.88,2,  7.9239,   -999
      74CD50_1,  ACM8,   018,  1,    300,   -999,19900715,0150, 63.0067, -17.1350, 1297,    463.1,   7.4057,  35.1909,2,  35.1885,2,      6.4,2,      6.4,2,     6.30,2,    15.10,2,     0.90,2,  7.3599,   -999
      74CD50_1,  ACM8,   018,  1,    299,   -999,19900715,0150, 63.0067, -17.1350, 1297,    501.2,   7.3892,  35.1886,2,  35.1875,2,      6.4,2,      6.4,2,     6.60,2,    15.10,2,     0.91,2,  7.3396,   -999
      74CD50_1,  ACM8,   018,  1,    298,   -999,19900715,0150, 63.0067, -17.1350, 1297,    599.5,   7.2239,  35.1749,2,  35.1720,2,      6.4,2,      6.4,2,     7.30,2,    15.30,2,     0.92,2,  7.1649,   -999
      74CD50_1,  ACM8,   018,  1,    297,   -999,19900715,0150, 63.0067, -17.1350, 1297,    699.0,   6.9037,  35.1493,2,  35.1495,2,      6.3,2,      6.2,2,     8.20,2,    15.80,2,     0.95,2,  6.8362,   -999
      74CD50_1,  ACM8,   018,  1,    296,   -999,19900715,0150, 63.0067, -17.1350, 1297,    797.3,   6.2672,  35.1089,2,  35.1120,2,      6.1,2,      6.1,2,     9.30,2,    16.50,2,     1.00,2,  6.1935,   -999
      74CD50_1,  ACM8,   018,  1,    295,   -999,19900715,0150, 63.0067, -17.1350, 1297,    892.1,   5.5496,  35.0654,2,  35.0650,2,      6.0,2,      6.0,2,     8.90,2,    17.40,2,     1.08,2,  5.4715,   -999
      74CD50_1,  ACM8,   018,  1,    294,   -999,19900715,0150, 63.0067, -17.1350, 1297,    990.1,   4.7712,  35.0379,2,  35.0390,2,      6.3,2,      6.2,2,     7.80,2,    16.60,2,     1.02,2,  4.6896,   -999
      74CD50_1,  ACM8,   018,  1,    293,   -999,19900715,0150, 63.0067, -17.1350, 1297,   1090.0,   4.5111,  35.0502,2,  35.0505,2,      6.5,2,      6.5,2,     8.20,2,    15.30,2,     0.95,2,  4.4226,   -999
      74CD50_1,  ACM8,   018,  1,    291,   -999,19900715,0150, 63.0067, -17.1350, 1297,   1293.2,   3.9311,  35.0313,2,  35.0320,2,      6.5,2,      6.6,2,     8.10,2,    15.30,2,     0.96,2,  3.8300,   -999
      74CD50_1,  ACM8,   018,  1,    292,   -999,19900715,0150, 63.0067, -17.1350, 1297,   1293.2,   3.9311,  35.0313,2,  35.0325,2,      6.5,2,      6.5,2,     8.20,2,    15.40,2,     0.96,2,  3.8300,   -999
      74CD50_1,  ACM8,   019,  1,    314,   -999,19900715,0432, 63.2100, -17.2100, 1322,      6.7,  10.5778,  35.1474,2,  35.1455,2,      6.7,2,      6.8,2,     2.20,2,     3.80,2,     0.26,2, 10.5770,   -999
      74CD50_1,  ACM8,   019,  1,    313,   -999,19900715,0432, 63.2100, -17.2100, 1322,    102.4,   7.8255,  35.2091,2,  35.2090,2,      6.4,2,      6.4,2,     6.20,2,    14.20,2,     0.88,2,  7.8153,   -999
      74CD50_1,  ACM8,   019,  1,    312,   -999,19900715,0432, 63.2100, -17.2100, 1322,    204.0,   7.5670,  35.1937,2,  35.1935,2,      6.5,2,      6.5,2,     6.20,2,    14.20,2,     0.88,2,  7.5469,   -999
      74CD50_1,  ACM8,   019,  1,    311,   -999,19900715,0432, 63.2100, -17.2100, 1322,    304.2,   7.5073,  35.1959,2,  35.1970,2,      6.5,2,      6.5,2,     6.10,2,    14.20,2,     0.88,2,  7.4773,   -999
      74CD50_1,  ACM8,   019,  1,    310,   -999,19900715,0432, 63.2100, -17.2100, 1322,    400.5,   7.4576,  35.1957,2,  35.1955,2,      6.5,2,      6.5,2,     6.00,2,    14.10,2,     0.87,2,  7.4180,   -999
      74CD50_1,  ACM8,   019,  1,    309,   -999,19900715,0432, 63.2100, -17.2100, 1322,    499.9,   7.3365,  35.1842,2,  35.1840,2,      6.4,2,      6.5,2,     6.30,2,    14.40,2,     0.90,2,  7.2872,   -999
      74CD50_1,  ACM8,   019,  1,    308,   -999,19900715,0432, 63.2100, -17.2100, 1322,    601.4,   7.0912,  35.1607,2,  35.1625,2,      6.3,2,      6.3,2,     6.80,2,    14.90,2,     0.93,2,  7.0327,   -999
      74CD50_1,  ACM8,   019,  1,    307,   -999,19900715,0432, 63.2100, -17.2100, 1322,    705.4,   6.2673,  35.0797,2,  35.0775,2,      5.8,2,      5.6,2,     9.50,2,    17.40,2,     1.09,2,  6.2026,   -999
      74CD50_1,  ACM8,   019,  1,    306,   -999,19900715,0432, 63.2100, -17.2100, 1322,    907.2,   4.9377,  35.0377,2,  35.0395,2,      6.2,2,      6.1,2,     9.10,2,    16.30,2,     1.04,2,  4.8624,   -999
      74CD50_1,  ACM8,   019,  1,    305,   -999,19900715,0432, 63.2100, -17.2100, 1322,   1107.2,   4.4123,  35.0414,2,  35.0415,2,      6.5,2,      6.5,2,     8.10,2,    15.20,2,     0.97,2,  4.3232,   -999
      74CD50_1,  ACM8,   019,  1,    304,   -999,19900715,0432, 63.2100, -17.2100, 1322,   1207.7,   4.3181,  35.0359,2,  35.0355,2,      6.4,2,      6.5,2,     8.20,2,    15.20,2,     0.97,2,  4.2209,   -999
      74CD50_1,  ACM8,   019,  1,    303,   -999,19900715,0432, 63.2100, -17.2100, 1322,   1321.6,   4.3062,  35.0334,2,  35.0355,2,      6.3,2,      6.6,2,     8.30,2,    15.20,2,     0.98,2,  4.1988,   -999
      74CD50_1,  ACM8,   020,  1,    323,   -999,19900715,0714, 63.2000, -17.3683,  660,      8.3,  10.4892,  35.1231,2,  35.1250,2,      6.6,2,      6.8,2,     2.00,2,     3.30,2,     0.27,2, 10.4882,   -999
      74CD50_1,  ACM8,   020,  1,    322,   -999,19900715,0714, 63.2000, -17.3683,  660,    103.9,   7.7339,  35.1915,2,  35.1915,2,      6.4,2,      5.3,2,     5.80,2,    14.10,2,     0.96,2,  7.7236,   -999
      74CD50_1,  ACM8,   020,  1,    321,   -999,19900715,0714, 63.2000, -17.3683,  660,    205.7,   7.4519,  35.1902,2,  35.1910,2,      6.4,2,      6.4,2,     6.20,2,    14.50,2,     0.89,2,  7.4318,   -999
      74CD50_1,  ACM8,   020,  1,    320,   -999,19900715,0714, 63.2000, -17.3683,  660,    304.8,   7.3319,  35.1842,2,  35.1840,2,      6.5,2,      6.4,2,     6.30,2,    14.50,2,     0.89,2,  7.3023,   -999
      74CD50_1,  ACM8,   020,  1,    319,   -999,19900715,0714, 63.2000, -17.3683,  660,    405.9,   7.1920,  35.1731,2,  35.1750,2,      6.4,2,      6.3,2,     6.70,2,    14.70,2,     0.91,2,  7.1527,   -999
      74CD50_1,  ACM8,   020,  1,    318,   -999,19900715,0714, 63.2000, -17.3683,  660,    504.6,   7.0799,  35.1695,2,  35.1690,2,      6.4,2,      6.3,2,     6.60,2,    14.70,2,     0.91,2,  7.0311,   -999
      74CD50_1,  ACM8,   020,  1,    317,   -999,19900715,0714, 63.2000, -17.3683,  660,    605.2,   6.7038,  35.1450,2,  35.1475,2,      6.4,2,      6.4,2,     6.80,2,    14.80,2,     0.92,2,  6.6467,   -999
      74CD50_1,  ACM8,   020,  1,    315,   -999,19900715,0714, 63.2000, -17.3683,  660,    653.6,   6.2534,  35.1230,2,  35.1190,2,      6.5,2,      6.4,2,     7.10,2,    14.80,2,     0.93,2,  6.1937,   -999
      74CD50_1,  ACM8,   020,  1,    316,   -999,19900715,0714, 63.2000, -17.3683,  660,    653.6,   6.2534,  35.1230,2,  35.1220,2,      6.5,2,      6.4,2,     7.00,2,    14.60,2,     0.92,2,  6.1937,   -999
      74CD50_1,  ACM8,   021,  1,    335,   -999,19900716,0020, 62.1733, -15.5300, 2222,      8.2,  11.2919,  35.1749,2,  35.1775,2,      6.4,2,      6.6,2,     1.40,2,     3.20,2,     0.22,2, 11.2909,   -999
      74CD50_1,  ACM8,   021,  1,    334,   -999,19900716,0020, 62.1733, -15.5300, 2222,    204.3,   7.6948,  35.2017,2,  35.1995,2,      6.4,2,      6.5,2,     6.10,2,    14.50,2,     0.90,2,  7.6745,   -999
      74CD50_1,  ACM8,   021,  1,    333,   -999,19900716,0020, 62.1733, -15.5300, 2222,    396.5,   7.4572,  35.1769,2,  35.1745,2,      6.5,2,      6.5,2,     6.30,2,    15.00,2,     0.92,2,  7.4181,   -999
      74CD50_1,  ACM8,   021,  1,    332,   -999,19900716,0020, 62.1733, -15.5300, 2222,    596.4,   7.2031,  35.1604,2,  35.1580,2,      6.4,2,      6.3,2,     6.80,2,    14.60,2,     0.94,2,  7.1446,   -999
      74CD50_1,  ACM8,   021,  1,    331,   -999,19900716,0020, 62.1733, -15.5300, 2222,    802.7,   6.5329,  35.0951,2,  35.0930,2,      5.8,2,      5.7,2,     9.10,2,    17.30,2,     1.09,2,  6.4571,   -999
      74CD50_1,  ACM8,   021,  1,    330,   -999,19900716,0020, 62.1733, -15.5300, 2222,   1003.8,   5.3918,  35.0240,2,  35.0235,2,      5.6,2,      5.6,2,    10.60,2,    18.30,2,     1.16,2,  5.3043,   -999
      74CD50_1,  ACM8,   021,  1,    329,   -999,19900716,0020, 62.1733, -15.5300, 2222,   1200.6,   4.5394,  34.9596,2,  34.9590,2,      6.0,2,      6.0,2,    10.60,2,    18.10,2,     1.15,2,  4.4409,   -999
      74CD50_1,  ACM8,   021,  1,    328,   -999,19900716,0020, 62.1733, -15.5300, 2222,   1396.3,   4.1188,  34.9322,2,  34.9335,2,      6.2,2,      6.2,2,    10.30,2,    17.80,2,     1.12,2,  4.0068,   -999
      74CD50_1,  ACM8,   021,  1,    327,   -999,19900716,0020, 62.1733, -15.5300, 2222,   1597.6,   3.8330,  34.9189,2,  34.9195,2,      6.4,2,      6.4,2,    10.10,2,    17.30,2,     1.09,2,  3.7059,   -999
      74CD50_1,  ACM8,   021,  1,    326,   -999,19900716,0020, 62.1733, -15.5300, 2222,   1808.7,   3.6530,  34.9202,2,  34.9245,2,      6.5,2,      6.5,2,    10.00,2,    16.90,2,     1.08,2,  3.5088,   -999
      74CD50_1,  ACM8,   021,  1,    325,   -999,19900716,0020, 62.1733, -15.5300, 2222,   2113.0,   2.2115,  34.9625,2,  34.9630,2,      6.7,2,      6.7,2,     9.50,2,    15.30,2,     0.98,2,  2.0610,   -999
      74CD50_1,  ACM8,   021,  1,    324,   -999,19900716,0020, 62.1733, -15.5300, 2222,   2222.0,   1.8688,  34.9623,2,  34.9610,2,      6.7,2,      6.8,2,     9.20,2,    15.00,2,     0.98,2,  1.7144,   -999
      74CD50_1,  ACM8,   022,  1,    347,   -999,19900716,1425, 62.3200, -15.0667, 2030,      7.4,  11.5451,  35.1646,2,  35.1645,2,      6.5,2,      6.7,2,     1.40,2,     2.60,2,     0.18,2, 11.5442,   -999
      74CD50_1,  ACM8,   022,  1,    346,   -999,19900716,1425, 62.3200, -15.0667, 2030,    204.4,   7.7759,  35.2183,2,  35.2170,2,      6.4,2,      6.5,2,     6.10,2,    14.20,2,     0.88,2,  7.7555,   -999
      74CD50_1,  ACM8,   022,  1,    345,   -999,19900716,1425, 62.3200, -15.0667, 2030,    404.7,   7.6135,  35.2048,2,  35.2030,2,      6.5,2,      6.5,2,     6.20,2,    14.20,2,     0.88,2,  7.5730,   -999
      74CD50_1,  ACM8,   022,  1,    344,   -999,19900716,1425, 62.3200, -15.0667, 2030,    607.7,   7.4126,  35.1860,2,  35.1870,2,      6.5,2,      6.4,2,     6.30,2,    14.40,2,     0.89,2,  7.3519,   -999
      74CD50_1,  ACM8,   022,  1,    343,   -999,19900716,1425, 62.3200, -15.0667, 2030,    811.1,   6.6288,  35.1025,2,  35.1010,2,      5.9,2,      5.9,2,     8.00,2,    16.00,2,     1.00,2,  6.5516,   -999
      74CD50_1,  ACM8,   022,  1,    342,   -999,19900716,1425, 62.3200, -15.0667, 2030,   1013.9,   5.4091,  35.0252,2,  35.0240,2,      5.6,2,      5.6,2,    10.50,2,    18.40,2,     1.15,2,  5.3205,   -999
      74CD50_1,  ACM8,   022,  1,    341,   -999,19900716,1425, 62.3200, -15.0667, 2030,   1216.9,   4.5399,  34.9617,2,  34.9625,2,      6.0,2,      6.1,2,    10.50,2,    18.30,2,     1.16,2,  4.4399,   -999
      74CD50_1,  ACM8,   022,  1,    340,   -999,19900716,1425, 62.3200, -15.0667, 2030,   1419.4,   3.9555,  34.9191,2,  34.9200,2,      6.3,2,      6.3,2,    10.30,2,    17.90,2,     1.11,2,  3.8432,   -999
      74CD50_1,  ACM8,   022,  1,    339,   -999,19900716,1425, 62.3200, -15.0667, 2030,   1624.5,   3.6866,  34.9148,2,  34.9160,2,      6.5,2,      6.5,2,    10.10,2,    17.10,2,     1.09,2,  3.5589,   -999
      74CD50_1,  ACM8,   022,  1,    338,   -999,19900716,1425, 62.3200, -15.0667, 2030,   1824.4,   3.5636,  34.9471,2,  34.9475,2,      6.5,2,      6.5,2,    10.70,2,    16.90,2,     1.06,2,  3.4191,   -999
      74CD50_1,  ACM8,   022,  1,    337,   -999,19900716,1425, 62.3200, -15.0667, 2030,   1922.4,   3.2093,  34.9672,2,  34.9675,2,      6.5,2,      6.5,2,    10.10,2,    16.30,2,     1.05,2,  3.0606,   -999
      74CD50_1,  ACM8,   022,  1,    336,   -999,19900716,1425, 62.3200, -15.0667, 2030,   2034.8,   2.8048,  34.9761,2,  34.9770,2,      6.4,2,      6.5,2,    11.70,2,    16.10,2,     1.05,2,  2.6519,   -999
      74CD50_1,  ACM8,   023,  1,    359,   -999,19900716,1827, 62.4667, -14.6483, 1761,     10.3,  11.3424,  35.1651,2,  35.1595,2,      6.9,2,      6.7,2,     1.30,2,     2.00,2,     0.17,2, 11.3411,   -999
      74CD50_1,  ACM8,   023,  1,    358,   -999,19900716,1827, 62.4667, -14.6483, 1761,     10.4,  11.3168,  35.1544,2,  35.1610,2,      6.9,2,      6.7,2,     1.20,2,     2.00,2,     0.18,2, 11.3155,   -999
      74CD50_1,  ACM8,   023,  1,    357,   -999,19900716,1827, 62.4667, -14.6483, 1761,    205.1,   7.8124,  35.2171,2,  35.2225,2,      6.5,2,      6.5,2,     5.90,2,    13.80,2,     0.87,2,  7.7918,   -999
      74CD50_1,  ACM8,   023,  1,    356,   -999,19900716,1827, 62.4667, -14.6483, 1761,    407.6,   7.7012,  35.2178,2,  35.2140,2,      6.5,2,      6.5,2,     5.90,2,    13.70,2,     0.87,2,  7.6601,   -999
      74CD50_1,  ACM8,   023,  1,    355,   -999,19900716,1827, 62.4667, -14.6483, 1761,    609.5,   7.5487,  35.2012,2,  35.1995,2,      6.5,2,      6.5,2,     6.00,2,    13.80,2,     0.89,2,  7.4872,   -999
      74CD50_1,  ACM8,   023,  1,    354,   -999,19900716,1827, 62.4667, -14.6483, 1761,    812.5,   6.8969,  35.1240,2,  35.1255,2,      6.1,2,      5.9,2,     8.20,2,    16.00,2,     1.03,2,  6.8179,   -999
      74CD50_1,  ACM8,   023,  1,    353,   -999,19900716,1827, 62.4667, -14.6483, 1761,   1014.5,   5.5096,  35.0317,2,  35.0345,2,      5.6,2,      5.6,2,    10.40,2,    18.00,2,     1.16,2,  5.4202,   -999
      74CD50_1,  ACM8,   023,  1,    352,   -999,19900716,1827, 62.4667, -14.6483, 1761,   1116.8,   5.0442,  35.0171,2,  35.0125,2,      5.9,2,      6.0,2,    10.20,2,    17.50,2,     1.12,2,  4.9489,   -999
      74CD50_1,  ACM8,   023,  1,    351,   -999,19900716,1827, 62.4667, -14.6483, 1761,   1319.8,   4.1914,  34.9431,2,  34.9435,2,      6.2,2,      6.2,2,    10.10,2,    17.30,2,     1.12,2,  4.0856,   -999
      74CD50_1,  ACM8,   023,  1,    350,   -999,19900716,1827, 62.4667, -14.6483, 1761,   1421.4,   3.8843,  34.9184,2,  34.9195,2,      6.3,2,      6.4,2,    10.00,2,    17.20,2,     1.10,2,  3.7726,   -999
      74CD50_1,  ACM8,   023,  1,    349,   -999,19900716,1827, 62.4667, -14.6483, 1761,   1620.4,   3.7293,  34.9479,2,  34.9480,2,      6.4,2,      6.5,2,     9.90,2,    16.20,2,     1.06,2,  3.6014,   -999
      74CD50_1,  ACM8,   023,  1,    348,   -999,19900716,1827, 62.4667, -14.6483, 1761,   1761.5,   2.6774,  34.9667,2,  34.9660,2,      6.5,2,      6.6,2,     9.40,2,    15.30,2,     0.99,2,  2.5504,   -999
      74CD50_1,  ACM8,   024,  1,    371,   -999,19900716,2132, 62.6317, -14.1683, 1465,     31.3,  10.7779,  35.1927,2,  35.1970,2,      6.7,2,      6.6,2,     1.90,2,     4.30,2,     0.31,2, 10.7741,   -999
      74CD50_1,  ACM8,   024,  1,    370,   -999,19900716,2132, 62.6317, -14.1683, 1465,    111.5,   7.9981,  35.2332,2,  35.2320,2,      6.4,2,      6.4,2,     5.90,2,    14.00,2,     0.88,2,  7.9869,   -999
      74CD50_1,  ACM8,   024,  1,    369,   -999,19900716,2132, 62.6317, -14.1683, 1465,    316.8,   7.7987,  35.2293,2,  35.2275,2,      6.5,2,      6.5,2,     5.90,2,    13.80,2,     0.86,2,  7.7668,   -999
      74CD50_1,  ACM8,   024,  1,    368,   -999,19900716,2132, 62.6317, -14.1683, 1465,    512.2,   7.6242,  35.2034,2,  35.2030,2,      6.5,2,      6.5,2,     6.10,2,    13.90,2,     0.88,2,  7.5726,   -999
      74CD50_1,  ACM8,   024,  1,    367,   -999,19900716,2132, 62.6317, -14.1683, 1465,    714.5,   7.4862,  35.1911,2,  35.1910,2,      6.4,2,      6.4,2,     6.30,2,    14.20,2,     0.89,2,  7.4139,   -999
      74CD50_1,  ACM8,   024,  1,    366,   -999,19900716,2132, 62.6317, -14.1683, 1465,    837.4,   7.2333,  35.1617,2,  35.1620,2,      6.2,2,      6.3,2,     7.10,2,    15.00,2,     0.95,2,  7.1496,   -999
      74CD50_1,  ACM8,   024,  1,    365,   -999,19900716,2132, 62.6317, -14.1683, 1465,    938.7,   6.6959,  35.1234,2,  35.1225,2,      5.7,2,      5.8,2,     8.70,2,    16.40,2,     1.05,2,  6.6053,   -999
      74CD50_1,  ACM8,   024,  1,    364,   -999,19900716,2132, 62.6317, -14.1683, 1465,   1111.0,   5.5309,  35.0527,2,  35.0530,2,      5.8,2,      5.8,2,    10.00,2,    17.40,2,     1.10,2,  5.4321,   -999
      74CD50_1,  ACM8,   024,  1,    363,   -999,19900716,2132, 62.6317, -14.1683, 1465,   1300.0,   4.2628,  34.9660,2,  34.9665,2,      6.2,2,      6.2,2,    10.30,2,    17.00,2,     1.10,2,  4.1580,   -999
      74CD50_1,  ACM8,   024,  1,    362,   -999,19900716,2132, 62.6317, -14.1683, 1465,   1359.5,   3.9645,  34.9803,2,  34.9785,2,      6.4,2,      6.4,2,     9.80,2,    16.30,2,     1.05,2,  3.8573,   -999
      74CD50_1,  ACM8,   024,  1,    361,   -999,19900716,2132, 62.6317, -14.1683, 1465,   1397.8,   3.4333,  34.9478,2,  34.9475,2,      6.5,2,      6.5,2,    10.80,2,    16.40,2,     1.06,2,  3.3284,   -999
      74CD50_1,  ACM8,   024,  1,    360,   -999,19900716,2132, 62.6317, -14.1683, 1465,   1483.9,   2.6040,  34.9809,2,  34.9815,2,      6.6,2,      6.7,2,     8.80,2,    15.00,2,     0.97,2,  2.5010,   -999
      74CD50_1,  ACM8,   025,  1,    382,   -999,19900717,0026, 62.7833, -13.6933, 1120,    105.6,   8.0533,  35.2510,2,  35.2500,2,      6.3,2,      6.3,2,     5.50,2,    14.10,2,     0.87,2,  8.0426,   -999
      74CD50_1,  ACM8,   025,  1,    383,   -999,19900717,0026, 62.7833, -13.6933, 1120,    105.6,   8.0533,  35.2510,2,  35.2500,2,      6.3,2,      6.3,2,     5.50,2,    14.10,2,     0.88,2,  8.0426,   -999
      74CD50_1,  ACM8,   025,  1,    381,   -999,19900717,0026, 62.7833, -13.6933, 1120,    206.4,   7.9147,  35.2405,2,  35.2395,2,      6.4,2,      6.4,2,     5.70,2,    14.00,2,     0.87,2,  7.8939,   -999
      74CD50_1,  ACM8,   025,  1,    380,   -999,19900717,0026, 62.7833, -13.6933, 1120,    406.5,   7.7550,  35.2216,2,  35.2215,2,      6.4,2,      6.4,2,     5.90,2,    14.00,2,     0.88,2,  7.7139,   -999
      74CD50_1,  ACM8,   025,  1,    379,   -999,19900717,0026, 62.7833, -13.6933, 1120,    607.1,   7.6142,  35.2068,2,  35.2070,2,      6.4,2,      6.4,2,     5.90,2,    14.30,2,     0.89,2,  7.5527,   -999
      74CD50_1,  ACM8,   025,  1,    378,   -999,19900717,0026, 62.7833, -13.6933, 1120,    811.1,   7.2477,  35.1799,2,  35.1800,2,      6.0,2,      6.2,2,     6.70,2,    15.10,2,     0.94,2,  7.1667,   -999
      74CD50_1,  ACM8,   025,  1,    377,   -999,19900717,0026, 62.7833, -13.6933, 1120,    861.2,   6.8337,  35.1537,2,  35.1540,2,      6.1,2,      6.1,2,     7.30,2,    15.60,2,     0.97,2,  6.7500,   -999
      74CD50_1,  ACM8,   025,  1,    376,   -999,19900717,0026, 62.7833, -13.6933, 1120,    911.6,   6.0838,  35.0934,2,  35.0940,2,      5.8,2,      5.7,2,     9.30,2,    17.50,2,     1.10,2,  6.0001,   -999
      74CD50_1,  ACM8,   025,  1,    375,   -999,19900717,0026, 62.7833, -13.6933, 1120,    960.5,   5.5046,  35.0899,2,  35.0885,2,      6.2,2,      6.2,2,     8.00,2,    15.80,2,     1.00,2,  5.4203,   -999
      74CD50_1,  ACM8,   025,  1,    374,   -999,19900717,0026, 62.7833, -13.6933, 1120,   1008.9,   4.2956,  35.0495,2,  35.0490,2,      6.4,2,      6.3,2,     8.20,2,    15.50,2,     0.99,2,  4.2160,   -999
      74CD50_1,  ACM8,   025,  1,    373,   -999,19900717,0026, 62.7833, -13.6933, 1120,   1057.3,   2.2062,  34.9766,2,  34.9765,2,      6.8,2,      6.8,2,     7.70,2,    14.70,2,     0.95,2,  2.1396,   -999
      74CD50_1,  ACM8,   025,  1,    372,   -999,19900717,0026, 62.7833, -13.6933, 1120,   1108.6,   2.1607,  34.9749,2,  34.9765,2,      6.8,2,      6.7,2,     7.80,2,    14.70,2,     0.98,2,  2.0909,   -999