BOTTLE,20221004CCHSIOAMB
EXPOCODE,SECT_ID,STNNBR,CASTNO,SAMPNO,BTLNBR,DATE,TIME,LATITUDE,LONGITUDE,DEPTH,CTDPRS,CTDTMP,CTDSAL,CTDSAL_FLAG_W,SALNTY,SALNTY_FLAG_W,CTDOXY,CTDOXY_FLAG_W,OXYGEN,OXYGEN_FLAG_W,SILCAT,SILCAT_FLAG_W,NO2+NO3,NO2+NO3_FLAG_W,PHSPHT,PHSPHT_FLAG_W,THETA,CTDRAW
,,,,,,,,,,,DBAR,ITS-90,PSS-78,,PSS-78,,ML/L,,ML/L,,UMOL/L,,UMOL/L,,UMOL/L,,DEG C,
      74CD50_1,  ACM8,   026,  1,    395,   -999,19900717,0302, 62.9433, -13.2383,  820,      4.4,  11.2660,  35.1966,2,  35.1980,2,      6.6,2,      6.7,2,     0.80,2,     1.50,2,     0.14,2, 11.2654,   -999
      74CD50_1,  ACM8,   026,  1,    394,   -999,19900717,0302, 62.9433, -13.2383,  820,    100.6,   7.9856,  35.2443,2,  35.2445,2,      6.4,2,      6.3,2,     5.70,2,    14.50,2,     0.90,2,  7.9755,   -999
      74CD50_1,  ACM8,   026,  1,    393,   -999,19900717,0302, 62.9433, -13.2383,  820,    200.7,   7.7980,  35.2243,2,  35.2265,2,      6.4,2,      6.4,2,     5.90,2,    14.40,2,     0.88,2,  7.7779,   -999
      74CD50_1,  ACM8,   026,  1,    392,   -999,19900717,0302, 62.9433, -13.2383,  820,    301.3,   7.7872,  35.2305,2,  35.2300,2,      6.4,2,      6.4,2,     5.80,2,    14.20,2,     0.87,2,  7.7569,   -999
      74CD50_1,  ACM8,   026,  1,    391,   -999,19900717,0302, 62.9433, -13.2383,  820,    401.7,   7.7260,  35.2235,2,  35.2240,2,      6.5,2,      6.4,2,     5.90,2,    14.20,2,     0.87,2,  7.6855,   -999
      74CD50_1,  ACM8,   026,  1,    390,   -999,19900717,0302, 62.9433, -13.2383,  820,    501.9,   7.5749,  35.2041,2,  35.2045,2,      6.5,2,      6.4,2,     6.10,2,    14.50,2,     0.89,2,  7.5245,   -999
      74CD50_1,  ACM8,   026,  1,    389,   -999,19900717,0302, 62.9433, -13.2383,  820,    603.2,   7.3934,  35.1886,2,  35.1905,2,      6.2,2,      6.2,2,     6.70,2,    15.10,2,     0.94,2,  7.3333,   -999
      74CD50_1,  ACM8,   026,  1,    388,   -999,19900717,0302, 62.9433, -13.2383,  820,    653.3,   7.2203,  35.1777,2,  35.1795,2,      6.2,2,      6.2,2,     6.80,2,    15.30,2,     0.94,2,  7.1559,   -999
      74CD50_1,  ACM8,   026,  1,    387,   -999,19900717,0302, 62.9433, -13.2383,  820,    703.6,   6.8232,  35.1519,2,  35.1515,2,      6.1,2,      6.0,2,     7.70,2,    16.10,2,     0.99,2,  6.7556,   -999
      74CD50_1,  ACM8,   026,  1,    386,   -999,19900717,0302, 62.9433, -13.2383,  820,    732.8,   6.0391,  35.1184,2,  35.1160,2,      6.2,2,      6.2,2,     7.50,2,    15.50,2,     0.97,2,  5.9730,   -999
      74CD50_1,  ACM8,   026,  1,    385,   -999,19900717,0302, 62.9433, -13.2383,  820,    762.3,   5.1189,  35.0758,2,  35.0765,2,      6.1,2,      6.2,2,     8.10,2,    15.70,2,     1.00,2,  5.0553,   -999
      74CD50_1,  ACM8,   026,  1,    384,   -999,19900717,0302, 62.9433, -13.2383,  820,    809.9,   3.6705,  35.0389,2,  35.0395,2,      6.5,2,      6.5,2,     8.10,2,    15.20,2,     0.97,2,  3.6118,   -999
      74CD50_1,  ACM8,   027,  1,    403,   -999,19900717,0520, 63.0933, -12.7767,  535,      8.3,  10.7994,  35.2438,2,  35.2420,2,      6.7,2,      7.0,2,    -0.30,2,     2.40,2,     0.24,2, 10.7984,   -999
      74CD50_1,  ACM8,   027,  1,    402,   -999,19900717,0520, 63.0933, -12.7767,  535,    105.1,   8.3286,  35.2714,2,  35.2740,2,      6.3,2,      6.4,2,     4.60,2,    12.90,2,     0.83,2,  8.3177,   -999
      74CD50_1,  ACM8,   027,  1,    401,   -999,19900717,0520, 63.0933, -12.7767,  535,    205.8,   7.9380,  35.2441,2,  35.2460,2,      6.3,2,      6.4,2,     5.70,2,    13.60,2,     0.96,2,  7.9171,   -999
      74CD50_1,  ACM8,   027,  1,    400,   -999,19900717,0520, 63.0933, -12.7767,  535,    306.7,   7.7343,  35.2278,2,  35.2300,2,      6.4,2,      6.4,2,     5.80,2,    13.70,2,     0.87,2,  7.7036,   -999
      74CD50_1,  ACM8,   027,  1,    399,   -999,19900717,0520, 63.0933, -12.7767,  535,    405.9,   6.9121,  35.1737,2,  35.1760,2,      6.4,2,      6.4,2,     6.40,2,    14.20,2,     0.90,2,  6.8737,   -999
      74CD50_1,  ACM8,   027,  1,    398,   -999,19900717,0520, 63.0933, -12.7767,  535,    455.2,   5.4337,  35.1189,2,  35.1150,2,      6.5,2,      6.5,2,     6.70,2,    14.10,2,     0.90,2,  5.3956,   -999
      74CD50_1,  ACM8,   027,  1,    396,   -999,19900717,0520, 63.0933, -12.7767,  535,    522.5,   2.5681,  34.9397,2,  34.9405,2,      6.9,2,      6.8,2,     7.40,2,    14.10,2,     0.93,2,  2.5360,   -999
      74CD50_1,  ACM8,   027,  1,    397,   -999,19900717,0520, 63.0933, -12.7767,  535,    522.5,   2.5681,  34.9397,2,  34.9405,2,      6.9,2,      6.8,2,     7.50,2,    14.20,2,     0.92,2,  2.5360,   -999
      74CD50_1,  ACM8,   028,  1,    410,   -999,19900717,0723, 63.2367, -12.3267,  435,      7.8,  10.7474,  35.2212,2,  35.2210,2,      7.1,2,      7.0,2,    -0.20,2,     2.50,2,     0.24,2, 10.7465,   -999
      74CD50_1,  ACM8,   028,  1,    409,   -999,19900717,0723, 63.2367, -12.3267,  435,      9.3,  10.4314,  35.2038,2,  35.2025,2,      7.1,2,      6.9,2,  -999.00,5,     3.10,2,     0.27,2, 10.4303,   -999
      74CD50_1,  ACM8,   028,  1,    408,   -999,19900717,0723, 63.2367, -12.3267,  435,    103.5,   7.9776,  35.2242,2,  35.2275,2,      6.3,2,      6.4,2,     5.00,2,    12.80,2,     0.82,2,  7.9671,   -999
      74CD50_1,  ACM8,   028,  1,    407,   -999,19900717,0723, 63.2367, -12.3267,  435,    204.3,   7.7187,  35.2256,2,  35.2270,2,      6.3,2,      6.4,2,     5.70,2,    13.50,2,     0.88,2,  7.6984,   -999
      74CD50_1,  ACM8,   028,  1,    406,   -999,19900717,0723, 63.2367, -12.3267,  435,    304.7,   7.1417,  35.1827,2,  35.1820,2,      6.3,2,      6.7,2,     6.20,2,    14.00,2,     0.89,2,  7.1125,   -999
      74CD50_1,  ACM8,   028,  1,    405,   -999,19900717,0723, 63.2367, -12.3267,  435,    391.7,   4.6241,  35.0202,2,  35.0150,2,      6.7,2,      6.6,2,     7.00,2,    14.00,2,     0.91,2,  4.5940,   -999
      74CD50_1,  ACM8,   028,  1,    404,   -999,19900717,0723, 63.2367, -12.3267,  435,    423.7,   1.6565,  34.8904,2,  34.8905,2,      7.2,2,      7.0,2,     7.40,2,    13.80,2,     0.94,2,  1.6339,   -999
      74CD50_1,  ACM8,   030,  1,    425,   -999,19900717,1210, 63.5533, -11.4150,  322,     30.8,   7.8153,  35.0184,2,  35.0230,2,      7.0,2,      6.9,2,     1.50,2,     6.30,2,     0.50,2,  7.8123,   -999
      74CD50_1,  ACM8,   030,  1,    424,   -999,19900717,1210, 63.5533, -11.4150,  322,     90.8,   7.8400,  35.2370,2,  35.2385,2,      6.3,2,      6.4,2,     5.60,2,    14.40,2,     0.90,2,  7.8310,   -999
      74CD50_1,  ACM8,   030,  1,    423,   -999,19900717,1210, 63.5533, -11.4150,  322,    150.4,   7.6031,  35.2119,2,  35.2155,2,      6.4,2,      6.4,2,     5.80,2,    14.40,2,     0.88,2,  7.5883,   -999
      74CD50_1,  ACM8,   030,  1,    422,   -999,19900717,1210, 63.5533, -11.4150,  322,    200.1,   6.9362,  35.1490,2,  35.1485,2,      6.4,2,      6.4,2,     6.00,2,    14.90,2,     0.96,2,  6.9175,   -999
      74CD50_1,  ACM8,   030,  1,    421,   -999,19900717,1210, 63.5533, -11.4150,  322,    249.6,   5.4221,  35.0645,2,  35.0650,2,      6.7,2,      6.5,2,     6.60,2,    14.50,2,     0.90,2,  5.4016,   -999
      74CD50_1,  ACM8,   030,  1,    420,   -999,19900717,1210, 63.5533, -11.4150,  322,    286.2,   4.5692,  35.0192,2,  35.0170,2,      6.7,2,      6.7,2,     6.80,2,    14.50,2,     0.91,2,  4.5476,   -999
      74CD50_1,  ACM8,   030,  1,    419,   -999,19900717,1210, 63.5533, -11.4150,  322,    312.5,   4.2977,  35.0004,2,  34.9990,2,      6.8,2,      6.7,2,     6.80,2,    14.30,2,     0.91,2,  4.2747,   -999
      74CD50_1,  ACM8,   031,  1,    432,   -999,19900717,1412, 63.7017, -10.9300,  385,     58.1,   7.9978,  35.2336,2,  35.2350,2,      6.5,2,      6.5,2,     5.00,2,    14.00,2,     0.83,2,  7.9920,   -999
      74CD50_1,  ACM8,   031,  1,    431,   -999,19900717,1412, 63.7017, -10.9300,  385,    149.0,   7.4287,  35.2006,2,  35.2030,2,      6.3,2,      6.4,2,     6.00,2,    15.00,2,     0.90,2,  7.4142,   -999
      74CD50_1,  ACM8,   031,  1,    430,   -999,19900717,1412, 63.7017, -10.9300,  385,    233.9,   5.0360,  35.0033,2,  35.0010,2,      6.5,2,      6.7,2,     6.20,2,    14.50,2,     0.89,2,  5.0176,   -999
      74CD50_1,  ACM8,   031,  1,    429,   -999,19900717,1412, 63.7017, -10.9300,  385,    274.1,   4.1104,  34.9937,2,  34.9945,2,      6.6,2,      6.7,2,     7.00,2,    14.10,2,     0.93,2,  4.0907,   -999
      74CD50_1,  ACM8,   031,  1,    428,   -999,19900717,1412, 63.7017, -10.9300,  385,    316.3,   1.6222,  34.8641,2,  34.8660,2,      7.2,2,      7.1,2,     7.00,2,    14.40,2,     0.91,2,  1.6058,   -999
      74CD50_1,  ACM8,   031,  1,    426,   -999,19900717,1412, 63.7017, -10.9300,  385,    344.7,   0.9012,  34.8374,2,  34.8295,2,      7.3,2,      7.2,2,     7.00,2,    14.20,2,     0.93,2,  0.8853,   -999
      74CD50_1,  ACM8,   031,  1,    427,   -999,19900717,1412, 63.7017, -10.9300,  385,    344.7,   0.9012,  34.8374,2,  34.8365,2,      7.3,2,      7.2,2,     7.00,2,    14.20,2,     0.91,2,  0.8853,   -999
      74CD50_1,  ACM8,   032,  1,    444,   -999,19900717,1621, 63.8583, -10.4500,  518,      5.4,   9.9715,  35.1422,2,  35.1590,2,      7.0,2,      7.3,2,     0.20,2,     4.20,2,     0.29,2,  9.9709,   -999
      74CD50_1,  ACM8,   032,  1,    443,   -999,19900717,1621, 63.8583, -10.4500,  518,     24.9,   6.6014,  34.7215,2,  34.7205,2,      7.7,2,      7.6,2,    -0.40,2,     2.70,2,     0.23,2,  6.5992,   -999
      74CD50_1,  ACM8,   032,  1,    442,   -999,19900717,1621, 63.8583, -10.4500,  518,     51.6,   4.8904,  34.6314,2,  34.6300,2,      7.7,2,      7.4,2,     0.80,2,     4.70,2,     0.36,2,  4.8865,   -999
      74CD50_1,  ACM8,   032,  1,    441,   -999,19900717,1621, 63.8583, -10.4500,  518,    101.4,   5.6063,  34.8680,2,  34.8710,2,      6.5,2,      7.0,2,     3.40,2,    10.10,2,     0.64,2,  5.5980,   -999
      74CD50_1,  ACM8,   032,  1,    440,   -999,19900717,1621, 63.8583, -10.4500,  518,    152.0,   6.8545,  35.1290,2,  35.1275,2,      6.4,2,      6.5,2,     5.80,2,    14.90,2,     0.85,2,  6.8404,   -999
      74CD50_1,  ACM8,   032,  1,    439,   -999,19900717,1621, 63.8583, -10.4500,  518,    201.8,   4.8848,  34.9496,2,  34.9470,2,      6.8,2,      6.8,2,     5.40,2,    13.60,2,     0.82,2,  4.8692,   -999
      74CD50_1,  ACM8,   032,  1,    438,   -999,19900717,1621, 63.8583, -10.4500,  518,    251.9,   3.6704,  34.9277,2,  34.9270,2,      6.9,2,      7.0,2,     6.60,2,    14.80,2,     0.88,2,  3.6532,   -999
      74CD50_1,  ACM8,   032,  1,    437,   -999,19900717,1621, 63.8583, -10.4500,  518,    301.1,   2.5412,  34.9128,2,  34.9100,2,      7.0,2,      7.0,2,     7.10,2,    15.40,2,     0.91,2,  2.5233,   -999
      74CD50_1,  ACM8,   032,  1,    436,   -999,19900717,1621, 63.8583, -10.4500,  518,    350.4,   0.9444,  34.8488,2,  34.8475,2,      7.3,2,      7.2,2,     6.60,2,    15.50,2,     0.89,2,  0.9280,   -999
      74CD50_1,  ACM8,   032,  1,    435,   -999,19900717,1621, 63.8583, -10.4500,  518,    399.7,   0.1343,  34.8623,2,  34.8660,2,      7.2,2,      7.1,2,     7.50,2,    15.00,2,     0.92,2,  0.1182,   -999
      74CD50_1,  ACM8,   032,  1,    434,   -999,19900717,1621, 63.8583, -10.4500,  518,    449.1,  -0.2153,  34.8948,2,  34.8945,2,      7.0,2,      6.9,2,     8.60,2,    15.30,2,     0.94,2, -0.2323,   -999
      74CD50_1,  ACM8,   032,  1,    433,   -999,19900717,1621, 63.8583, -10.4500,  518,    502.4,  -0.2267,  34.8959,2,  34.8955,2,      7.0,2,      6.9,2,     8.70,2,    15.30,2,     0.95,2, -0.2459,   -999
      74CD50_1,  ACM8,   033,  1,    452,   -999,19900717,1827, 63.9983, -10.0083,  646,      6.6,   9.7692,  35.1620,2,  35.1650,2,      7.1,2,      7.1,2,     1.10,2,     5.10,2,     0.33,2,  9.7685,   -999
      74CD50_1,  ACM8,   033,  1,    451,   -999,19900717,1827, 63.9983, -10.0083,  646,    102.0,   7.9585,  35.2459,2,  35.2450,2,      6.3,2,      6.4,2,     5.40,2,    13.50,2,     0.81,2,  7.9482,   -999
      74CD50_1,  ACM8,   033,  1,    450,   -999,19900717,1827, 63.9983, -10.0083,  646,    201.2,   7.4379,  35.1952,2,  35.1925,2,      6.3,2,      6.4,2,     5.90,2,    14.00,2,     0.84,2,  7.4183,   -999
      74CD50_1,  ACM8,   033,  1,    449,   -999,19900717,1827, 63.9983, -10.0083,  646,    259.2,   3.9714,  34.8282,2,  34.8310,2,      6.6,2,      7.1,2,     4.50,2,    11.00,2,     0.73,2,  3.9532,   -999
      74CD50_1,  ACM8,   033,  1,    448,   -999,19900717,1827, 63.9983, -10.0083,  646,    349.4,   1.3307,  34.8159,2,  34.8135,2,      7.4,2,      7.4,2,     6.40,2,    13.10,2,     0.86,2,  1.3133,   -999
      74CD50_1,  ACM8,   033,  1,    447,   -999,19900717,1827, 63.9983, -10.0083,  646,    496.3,  -0.2619,  34.8981,2,  34.8975,2,      7.0,2,      7.0,2,     8.50,2,    14.30,2,     0.94,2, -0.2808,   -999
      74CD50_1,  ACM8,   033,  1,    446,   -999,19900717,1827, 63.9983, -10.0083,  646,    595.8,  -0.4457,  34.9057,2,  34.9050,2,      7.0,2,      6.9,2,     9.20,2,    14.30,2,     0.95,2, -0.4680,   -999
      74CD50_1,  ACM8,   033,  1,    445,   -999,19900717,1827, 63.9983, -10.0083,  646,    636.5,  -0.4453,  34.9058,2,  34.9045,2,      7.0,2,      6.9,2,     9.20,2,    14.30,2,     0.94,2, -0.4693,   -999
      74CD50_1,  ACM8,   034,  1,    459,   -999,19900717,2043, 64.1517,  -9.5250,  890,      7.5,   9.8831,  35.2174,2,  35.2135,2,      7.2,2,      7.2,2,     0.20,2,     4.20,2,     0.26,2,  9.8822,   -999
      74CD50_1,  ACM8,   034,  1,    458,   -999,19900717,2043, 64.1517,  -9.5250,  890,    102.6,   7.7984,  35.2380,2,  35.2360,2,      6.3,2,      6.4,2,     5.70,2,    13.80,2,     0.79,2,  7.7882,   -999
      74CD50_1,  ACM8,   034,  1,    457,   -999,19900717,2043, 64.1517,  -9.5250,  890,    203.1,   6.1799,  35.0890,2,  35.0875,2,      6.5,2,      6.5,2,     6.20,2,    14.10,2,     0.83,2,  6.1621,   -999
      74CD50_1,  ACM8,   034,  1,    456,   -999,19900717,2043, 64.1517,  -9.5250,  890,    404.0,   0.3474,  34.8536,2,  34.8575,2,      7.3,2,      7.2,2,     6.30,2,    13.60,2,     0.84,2,  0.3304,   -999
      74CD50_1,  ACM8,   034,  1,    455,   -999,19900717,2043, 64.1517,  -9.5250,  890,    603.9,  -0.3664,  34.9047,2,  34.9025,2,      7.0,2,      7.0,2,     8.00,2,    14.30,2,     0.89,2, -0.3894,   -999
      74CD50_1,  ACM8,   034,  1,    454,   -999,19900717,2043, 64.1517,  -9.5250,  890,    803.3,  -0.5180,  34.9076,2,  34.9060,2,      7.0,2,      6.9,2,     9.20,2,    14.40,2,     0.90,2, -0.5490,   -999
      74CD50_1,  ACM8,   034,  1,    453,   -999,19900717,2043, 64.1517,  -9.5250,  890,    862.1,  -0.5884,  34.9087,2,  34.9070,2,      6.9,2,      6.9,2,     9.60,2,    14.40,2,     0.89,2, -0.6216,   -999
      74CD50_1,  ACM8,   035,  1,    469,   -999,19900717,2308, 64.3050,  -9.0433, 1010,      8.4,   9.4563,  35.1141,2,  35.1295,2,      7.2,2,      7.3,2,     0.40,2,     4.00,2,     0.31,2,  9.4554,   -999
      74CD50_1,  ACM8,   035,  1,    468,   -999,19900717,2308, 64.3050,  -9.0433, 1010,     33.4,   8.5726,  35.1908,2,  35.1925,2,      7.0,2,      6.7,2,     2.90,2,     9.50,2,     0.63,2,  8.5691,   -999
      74CD50_1,  ACM8,   035,  1,    467,   -999,19900717,2308, 64.3050,  -9.0433, 1010,     73.7,   7.7718,  35.2343,2,  35.2320,2,      6.5,2,      6.4,2,     6.00,2,    14.00,2,     0.86,2,  7.7645,   -999
      74CD50_1,  ACM8,   035,  1,    466,   -999,19900717,2308, 64.3050,  -9.0433, 1010,     73.8,   7.7696,  35.2354,2,  35.2275,2,      6.5,2,      6.4,2,     6.10,2,    14.00,2,     0.86,2,  7.7623,   -999
      74CD50_1,  ACM8,   035,  1,    465,   -999,19900717,2308, 64.3050,  -9.0433, 1010,    104.0,   6.3809,  35.0388,2,  35.0360,2,      6.7,2,      6.7,2,     5.30,2,    12.40,2,     0.79,2,  6.3717,   -999
      74CD50_1,  ACM8,   035,  1,    464,   -999,19900717,2308, 64.3050,  -9.0433, 1010,    134.1,   6.1366,  35.0808,2,  35.0800,2,      6.4,2,      6.5,2,     6.20,2,    13.80,2,     0.86,2,  6.1249,   -999
      74CD50_1,  ACM8,   035,  1,    463,   -999,19900717,2308, 64.3050,  -9.0433, 1010,    203.8,   2.7858,  34.8520,2,  34.8545,2,      7.0,2,      7.2,2,     6.30,2,    13.30,2,     0.85,2,  2.7735,   -999
      74CD50_1,  ACM8,   035,  1,    462,   -999,19900717,2308, 64.3050,  -9.0433, 1010,    252.2,   1.4145,  34.8055,2,  34.8060,2,      7.5,2,      7.4,2,     6.30,2,    13.20,2,     0.86,2,  1.4020,   -999
      74CD50_1,  ACM8,   035,  1,    461,   -999,19900717,2308, 64.3050,  -9.0433, 1010,    502.4,  -0.2548,  34.9058,2,  34.9000,2,      7.2,2,      7.0,2,     7.70,2,    14.20,2,     0.92,2, -0.2739,   -999
      74CD50_1,  ACM8,   035,  1,    460,   -999,19900717,2308, 64.3050,  -9.0433, 1010,    974.3,  -0.6609,  34.9099,2,  34.9065,2,      6.7,2,      7.0,2,    10.20,2,    14.60,2,     0.97,2, -0.6988,   -999
      74CD50_1,  ACM8,   036,  1,    480,   -999,19900718,0143, 64.4583,  -8.5217, 1040,      9.2,   8.6919,  34.9986,2,  34.9420,2,      7.8,2,      7.7,2,     0.00,2,     2.40,2,     0.20,2,  8.6909,   -999
      74CD50_1,  ACM8,   036,  1,    481,   -999,19900718,0143, 64.4583,  -8.5217, 1040,      9.2,   8.6121,  34.9346,2,  34.9950,2,      7.8,2,      7.7,2,  -999.00,5,     2.30,2,     0.19,2,  8.6111,   -999
      74CD50_1,  ACM8,   036,  1,    479,   -999,19900718,0143, 64.4583,  -8.5217, 1040,     74.5,   4.7484,  34.8820,2,  34.8815,2,      6.8,2,      7.0,2,     4.60,2,    11.10,2,     0.75,2,  4.7428,   -999
      74CD50_1,  ACM8,   036,  1,    478,   -999,19900718,0143, 64.4583,  -8.5217, 1040,    154.9,   1.3527,  34.7909,2,  34.7895,2,      7.6,2,      7.5,2,     6.00,2,    13.10,2,     0.84,2,  1.3453,   -999
      74CD50_1,  ACM8,   036,  1,    477,   -999,19900718,0143, 64.4583,  -8.5217, 1040,    233.2,   0.6780,  34.8830,2,  34.8815,2,      7.2,2,      7.2,2,     6.00,2,    13.70,2,     0.89,2,  0.6678,   -999
      74CD50_1,  ACM8,   036,  1,    476,   -999,19900718,0143, 64.4583,  -8.5217, 1040,    301.5,   0.2964,  34.8863,2,  34.8870,2,      7.2,2,      7.2,2,     6.40,2,    13.90,2,     0.89,2,  0.2840,   -999
      74CD50_1,  ACM8,   036,  1,    475,   -999,19900718,0143, 64.4583,  -8.5217, 1040,    402.9,   0.0825,  34.8909,2,  34.8810,2,      7.2,2,      7.2,2,     6.50,2,    14.00,2,     0.90,2,  0.0664,   -999
      74CD50_1,  ACM8,   036,  1,    474,   -999,19900718,0143, 64.4583,  -8.5217, 1040,    504.5,  -0.1224,  34.9028,2,  34.9025,2,      7.1,2,      7.0,2,     7.80,2,    14.30,2,     0.93,2, -0.1422,   -999
      74CD50_1,  ACM8,   036,  1,    473,   -999,19900718,0143, 64.4583,  -8.5217, 1040,    604.4,  -0.2931,  34.9016,2,  34.9025,2,      7.0,2,      7.0,2,     7.80,2,    14.20,2,     0.93,2, -0.3165,   -999
      74CD50_1,  ACM8,   036,  1,    472,   -999,19900718,0143, 64.4583,  -8.5217, 1040,    705.8,  -0.3588,  34.9031,2,  34.9030,2,      7.0,2,      7.0,2,     8.00,2,    14.30,2,     0.93,2, -0.3863,   -999
      74CD50_1,  ACM8,   036,  1,    471,   -999,19900718,0143, 64.4583,  -8.5217, 1040,    808.1,  -0.4653,  34.9054,2,  34.9040,2,      7.0,2,      7.1,2,     8.70,2,    14.40,2,     0.95,2, -0.4969,   -999
      74CD50_1,  ACM8,   036,  1,    470,   -999,19900718,0143, 64.4583,  -8.5217, 1040,   1001.3,  -0.8395,  34.9060,2,  34.9085,2,      6.8,2,      7.0,2,    10.80,2,    14.90,2,     0.96,2, -0.8773,   -999