BOTTLE,20221004CCHSIOAMB
EXPOCODE,SECT_ID,STNNBR,CASTNO,SAMPNO,BTLNBR,DATE,TIME,LATITUDE,LONGITUDE,DEPTH,CTDPRS,CTDTMP,CTDSAL,CTDSAL_FLAG_W,SALNTY,SALNTY_FLAG_W,CTDOXY,CTDOXY_FLAG_W,OXYGEN,OXYGEN_FLAG_W,SILCAT,SILCAT_FLAG_W,NO2+NO3,NO2+NO3_FLAG_W,PHSPHT,PHSPHT_FLAG_W,THETA,CTDRAW
,,,,,,,,,,,DBAR,ITS-90,PSS-78,,PSS-78,,ML/L,,ML/L,,UMOL/L,,UMOL/L,,UMOL/L,,DEG C,
      74CD50_1,  ACM8,   052,  1,    578,   -999,19900719,2224, 63.0400, -13.3867,  890,      8.6,  11.5540,  35.2035,2,  35.2050,2,      6.6,2,      6.8,2,     1.00,2,     0.80,2,     0.13,2, 11.5529,   -999
      74CD50_1,  ACM8,   052,  1,    577,   -999,19900719,2224, 63.0400, -13.3867,  890,     53.9,   8.4338,  35.2471,2,  35.2490,2,      6.5,2,      6.4,2,     4.60,2,    12.90,2,     0.79,2,  8.4282,   -999
      74CD50_1,  ACM8,   052,  1,    576,   -999,19900719,2224, 63.0400, -13.3867,  890,    355.0,   7.8049,  35.2320,2,  35.2320,2,      6.4,2,      6.4,2,     6.10,2,    13.80,2,     0.85,2,  7.7690,   -999
      74CD50_1,  ACM8,   052,  1,    575,   -999,19900719,2224, 63.0400, -13.3867,  890,    687.7,   7.3280,  35.1841,2,  35.1830,2,      6.3,2,      6.2,2,     7.10,2,    14.90,2,     0.92,2,  7.2594,   -999
      74CD50_1,  ACM8,   052,  1,    574,   -999,19900719,2224, 63.0400, -13.3867,  890,    885.7,   3.3446,  35.0246,2,  35.0250,2,      6.6,2,      6.5,2,     8.50,2,    15.10,2,     0.95,2,  3.2821,   -999
      74CD50_1,  ACM8,   053,  1,    583,   -999,19900719,2359, 62.9417, -13.2500,  825,      9.3,  11.3494,  35.2129,2,  35.2120,2,      6.5,2,      6.8,2,  -999.00,5,  -999.00,5,  -999.00,5, 11.3483,   -999
      74CD50_1,  ACM8,   053,  1,    582,   -999,19900719,2359, 62.9417, -13.2500,  825,     54.5,   8.4594,  35.2505,2,  35.2500,2,      6.3,2,      6.4,2,     4.60,2,    12.80,2,     0.78,2,  8.4537,   -999
      74CD50_1,  ACM8,   053,  1,    580,   -999,19900719,2359, 62.9417, -13.2500,  825,    695.9,   6.9331,  35.1599,2,  35.1600,2,      6.2,2,      6.0,2,     7.80,2,    15.50,2,     0.96,2,  6.8657,   -999
      74CD50_1,  ACM8,   053,  1,    581,   -999,19900719,2359, 62.9417, -13.2500,  825,    695.9,   6.9331,  35.1599,2,  35.1610,2,      6.2,2,      6.0,2,     7.80,2,    15.40,2,     0.95,2,  6.8657,   -999
      74CD50_1,  ACM8,   053,  1,    579,   -999,19900719,2359, 62.9417, -13.2500,  825,    816.9,   2.9944,  35.0143,2,  35.0150,2,      6.6,2,      6.7,2,     8.60,2,    15.00,2,     0.96,2,  2.9394,   -999
      74CD50_1,  ACM8,   054,  1,    590,   -999,19900720,1333, 61.8933,  -9.0883,  585,      7.7,  11.2079,  35.2102,2,  35.2110,2,      6.6,2,      6.7,2,     0.90,2,     3.60,2,     0.28,2, 11.2070,   -999
      74CD50_1,  ACM8,   054,  1,    589,   -999,19900720,1333, 61.8933,  -9.0883,  585,     77.5,   9.5018,  35.2481,2,  35.2460,2,      6.6,2,      6.6,2,     2.80,2,     8.30,2,     0.53,2,  9.4931,   -999
      74CD50_1,  ACM8,   054,  1,    588,   -999,19900720,1333, 61.8933,  -9.0883,  585,    247.3,   8.0370,  35.2528,2,  35.2540,2,      6.4,2,      6.5,2,     5.90,2,    13.80,2,     0.80,2,  8.0118,   -999
      74CD50_1,  ACM8,   054,  1,    587,   -999,19900720,1333, 61.8933,  -9.0883,  585,    398.9,   7.4922,  35.2167,2,  35.2170,2,      6.3,2,      6.4,2,     6.40,2,    14.10,2,     0.81,2,  7.4527,   -999
      74CD50_1,  ACM8,   054,  1,    586,   -999,19900720,1333, 61.8933,  -9.0883,  585,    448.9,   5.7814,  35.1271,2,  35.1280,2,      6.8,2,      6.6,2,     6.60,2,    13.90,2,     0.81,2,  5.7426,   -999
      74CD50_1,  ACM8,   054,  1,    585,   -999,19900720,1333, 61.8933,  -9.0883,  585,    498.2,   1.2281,  34.9467,2,  34.9440,2,      7.2,2,      6.9,2,     8.00,2,    14.50,2,     0.88,2,  1.2029,   -999
      74CD50_1,  ACM8,   054,  1,    584,   -999,19900720,1333, 61.8933,  -9.0883,  585,    569.0,   0.4626,  34.9246,2,  34.9250,2,      7.0,2,      6.9,2,     8.40,2,    14.60,2,     0.89,2,  0.4371,   -999
      74CD50_1,  ACM8,   055,  1,    599,   -999,19900720,1503, 61.8133,  -9.2783,  730,     15.4,  11.1832,  35.2291,2,  35.2310,2,      6.7,2,      6.6,2,     1.30,2,     4.30,2,     0.31,2, 11.1813,   -999
      74CD50_1,  ACM8,   055,  1,    598,   -999,19900720,1503, 61.8133,  -9.2783,  730,    102.8,   8.6800,  35.2866,2,  35.2860,2,      6.3,2,      6.3,2,     4.10,2,    12.80,2,     0.77,2,  8.6691,   -999
      74CD50_1,  ACM8,   055,  1,    597,   -999,19900720,1503, 61.8133,  -9.2783,  730,    303.6,   7.9286,  35.2456,2,  35.2450,2,      6.4,2,      6.9,2,     6.10,2,    14.00,2,     0.84,2,  7.8977,   -999
      74CD50_1,  ACM8,   055,  1,    596,   -999,19900720,1503, 61.8133,  -9.2783,  730,    454.7,   7.7482,  35.2297,2,  35.2290,2,      6.3,2,      6.4,2,     6.30,2,    14.00,2,     0.84,2,  7.7021,   -999
      74CD50_1,  ACM8,   055,  1,    595,   -999,19900720,1503, 61.8133,  -9.2783,  730,    502.9,   5.1902,  35.1011,2,  35.1040,2,      6.7,2,      6.7,2,     6.90,2,    14.10,2,     0.87,2,  5.1489,   -999
      74CD50_1,  ACM8,   055,  1,    594,   -999,19900720,1503, 61.8133,  -9.2783,  730,    554.3,   4.1631,  35.0556,2,  35.0550,2,      6.8,2,      6.8,2,     6.90,2,    14.10,2,     0.85,2,  4.1218,   -999
      74CD50_1,  ACM8,   055,  1,    592,   -999,19900720,1503, 61.8133,  -9.2783,  730,    650.5,   0.6374,  34.9328,2,  34.9310,2,      7.1,2,      6.9,2,     8.60,2,    14.60,2,     0.89,2,  0.6069,   -999
      74CD50_1,  ACM8,   055,  1,    593,   -999,19900720,1503, 61.8133,  -9.2783,  730,    650.5,   0.6374,  34.9328,2,-999.0000,5,      7.1,2,   -999.0,5,  -999.00,5,  -999.00,5,  -999.00,5,  0.6069,   -999
      74CD50_1,  ACM8,   055,  1,    591,   -999,19900720,1503, 61.8133,  -9.2783,  730,    713.9,   0.0046,  34.9162,2,  34.9160,2,      7.0,2,      6.9,2,     9.00,2,    14.70,2,     0.89,2, -0.0255,   -999
      74CD50_1,  ACM8,   056,  1,    606,   -999,19900720,1708, 61.7283,  -9.4350,  860,      8.0,  11.5148,  35.2207,2,  35.2230,2,      6.4,2,      6.6,2,     0.80,2,     3.30,2,     0.23,2, 11.5138,   -999
      74CD50_1,  ACM8,   056,  1,    605,   -999,19900720,1708, 61.7283,  -9.4350,  860,    104.6,   8.4091,  35.2842,2,  35.2810,2,      6.3,2,      6.3,2,     5.10,2,    13.20,2,     0.77,2,  8.3982,   -999
      74CD50_1,  ACM8,   056,  1,    604,   -999,19900720,1708, 61.7283,  -9.4350,  860,    302.0,   7.9897,  35.2518,2,  35.2290,2,      6.4,2,      6.4,2,     6.40,2,    13.80,2,     0.80,2,  7.9588,   -999
      74CD50_1,  ACM8,   056,  1,    603,   -999,19900720,1708, 61.7283,  -9.4350,  860,    502.2,   7.7791,  35.2308,2,  35.2290,2,      6.4,2,      6.4,2,     6.30,2,    13.80,2,     0.82,2,  7.7279,   -999
      74CD50_1,  ACM8,   056,  1,    602,   -999,19900720,1708, 61.7283,  -9.4350,  860,    650.9,   2.5386,  34.9828,2,  34.9820,2,      7.0,2,      7.0,2,     7.40,2,    13.90,2,     0.84,2,  2.4980,   -999
      74CD50_1,  ACM8,   056,  1,    601,   -999,19900720,1708, 61.7283,  -9.4350,  860,    797.5,   0.2902,  34.9147,2,  34.9160,2,      7.1,2,      7.1,2,     8.70,2,    14.40,2,     0.88,2,  0.2541,   -999
      74CD50_1,  ACM8,   056,  1,    600,   -999,19900720,1708, 61.7283,  -9.4350,  860,    850.8,   0.2668,  34.9186,2,  34.9170,2,      7.1,2,      7.0,2,     8.60,2,    14.40,2,     0.89,2,  0.2281,   -999
      74CD50_1,  ACM8,   057,  1,    612,   -999,19900720,1853, 61.6450,  -9.6150, 1000,      9.0,  12.1256,  35.2089,2,  35.2110,2,      6.4,2,      6.6,2,     1.50,2,     1.30,2,     0.16,2, 12.1244,   -999
      74CD50_1,  ACM8,   057,  1,    611,   -999,19900720,1853, 61.6450,  -9.6150, 1000,    104.2,   8.3909,  35.2724,2,  35.2730,2,      6.3,2,      6.5,2,     5.50,2,    13.60,2,     0.81,2,  8.3801,   -999
      74CD50_1,  ACM8,   057,  1,    610,   -999,19900720,1853, 61.6450,  -9.6150, 1000,    404.7,   7.8052,  35.2211,2,  35.2220,2,      6.4,2,      6.4,2,     6.50,2,    13.90,2,     0.85,2,  7.7641,   -999
      74CD50_1,  ACM8,   057,  1,    609,   -999,19900720,1853, 61.6450,  -9.6150, 1000,    684.3,   7.3319,  35.1830,2,  35.1850,2,      6.0,2,      6.0,2,     7.70,2,    15.20,2,     0.92,2,  7.2636,   -999
      74CD50_1,  ACM8,   057,  1,    608,   -999,19900720,1853, 61.6450,  -9.6150, 1000,    881.2,   3.7674,  35.0275,2,  35.0260,2,      6.8,2,      6.8,2,     7.00,2,    13.80,2,     0.83,2,  3.7023,   -999
      74CD50_1,  ACM8,   057,  1,    607,   -999,19900720,1853, 61.6450,  -9.6150, 1000,    957.8,  -0.3208,  34.9154,2,  34.9130,2,      7.0,2,      6.9,2,     9.80,2,    14.50,2,     0.90,2, -0.3608,   -999