BOTTLE,20221004CCHSIOAMB
EXPOCODE,SECT_ID,STNNBR,CASTNO,SAMPNO,BTLNBR,DATE,TIME,LATITUDE,LONGITUDE,DEPTH,CTDPRS,CTDTMP,CTDSAL,CTDSAL_FLAG_W,SALNTY,SALNTY_FLAG_W,CTDOXY,CTDOXY_FLAG_W,OXYGEN,OXYGEN_FLAG_W,SILCAT,SILCAT_FLAG_W,NO2+NO3,NO2+NO3_FLAG_W,PHSPHT,PHSPHT_FLAG_W,THETA,CTDRAW
,,,,,,,,,,,DBAR,ITS-90,PSS-78,,PSS-78,,ML/L,,ML/L,,UMOL/L,,UMOL/L,,UMOL/L,,DEG C,
      74CD50_1,  ACM8,   011,  1,    217,   -999,19900713,2158, 61.8283, -15.6017, 2290,     82.0,   8.2108,  35.2558,2,  35.2540,2,      6.3,2,      6.4,2,     5.50,2,    14.10,2,     0.87,2,  8.2024,   -999
      74CD50_1,  ACM8,   011,  1,    218,   -999,19900713,2158, 61.8283, -15.6017, 2290,     82.0,   8.2108,  35.2558,2,  35.2540,2,      6.3,2,      6.4,2,     5.50,2,    14.10,2,     0.87,2,  8.2024,   -999
      74CD50_1,  ACM8,   011,  1,    216,   -999,19900713,2158, 61.8283, -15.6017, 2290,    304.0,   7.8079,  35.2283,2,  35.2270,2,      6.5,2,      6.5,2,     5.80,2,    14.00,2,     0.88,2,  7.7773,   -999
      74CD50_1,  ACM8,   011,  1,    215,   -999,19900713,2158, 61.8283, -15.6017, 2290,    504.8,   7.6213,  35.2078,2,  35.2030,2,      6.5,2,      6.5,2,     6.10,2,    14.30,2,     0.89,2,  7.5704,   -999
      74CD50_1,  ACM8,   011,  1,    214,   -999,19900713,2158, 61.8283, -15.6017, 2290,    808.7,   7.1311,  35.1528,2,  35.1515,2,      6.4,2,      6.4,2,     6.90,2,    15.20,2,     0.95,2,  7.0510,   -999
      74CD50_1,  ACM8,   011,  1,    213,   -999,19900713,2158, 61.8283, -15.6017, 2290,   1011.7,   5.8893,  35.0504,2,  35.0530,2,      5.6,2,      5.5,2,    10.20,2,    18.50,2,     1.15,2,  5.7972,   -999
      74CD50_1,  ACM8,   011,  1,    212,   -999,19900713,2158, 61.8283, -15.6017, 2290,   1210.2,   4.8555,  34.9832,2,  34.9850,2,      5.8,2,      5.8,2,    10.50,2,    18.50,2,     1.16,2,  4.7533,   -999
      74CD50_1,  ACM8,   011,  1,    211,   -999,19900713,2158, 61.8283, -15.6017, 2290,   1412.0,   4.1324,  34.9307,2,  34.9335,2,      6.2,2,      6.2,2,    10.30,2,    18.00,2,     1.13,2,  4.0188,   -999
      74CD50_1,  ACM8,   011,  1,    210,   -999,19900713,2158, 61.8283, -15.6017, 2290,   1715.2,   3.7721,  34.9196,2,  34.9195,2,      6.5,2,      6.5,2,     9.90,2,    17.30,2,     1.09,2,  3.6350,   -999
      74CD50_1,  ACM8,   011,  1,    209,   -999,19900713,2158, 61.8283, -15.6017, 2290,   2004.5,   3.5705,  34.9463,2,  34.9490,2,      6.5,2,      6.5,2,    10.70,2,    16.90,2,     1.07,2,  3.4089,   -999
      74CD50_1,  ACM8,   011,  1,    208,   -999,19900713,2158, 61.8283, -15.6017, 2290,   2206.4,   2.2679,  34.9651,2,  34.9680,2,      6.7,2,      6.7,2,     9.10,2,    15.40,2,     0.98,2,  2.1082,   -999
      74CD50_1,  ACM8,   011,  1,    207,   -999,19900713,2158, 61.8283, -15.6017, 2290,   2287.1,   2.0068,  34.9662,2,  34.9625,2,      6.7,2,      6.8,2,     9.20,2,    15.20,2,     0.99,2,  1.8442,   -999
      74CD50_1,  ACM8,   012,  1,    230,   -999,19900714,0714, 62.0617, -16.0600, 2218,      9.8,  11.1263,  35.1711,2,  35.1750,2,      6.5,2,      6.6,2,     1.40,2,     3.10,2,     0.21,2, 11.1251,   -999
      74CD50_1,  ACM8,   012,  1,    229,   -999,19900714,0714, 62.0617, -16.0600, 2218,    204.6,   7.6597,  35.1952,2,  35.1975,2,      6.6,2,      6.5,2,     6.10,2,    14.60,2,     0.91,2,  7.6395,   -999
      74CD50_1,  ACM8,   012,  1,    228,   -999,19900714,0714, 62.0617, -16.0600, 2218,    406.7,   7.5346,  35.1948,2,  35.1925,2,      6.6,2,      6.5,2,     6.10,2,    14.60,2,     0.91,2,  7.4942,   -999
      74CD50_1,  ACM8,   012,  1,    227,   -999,19900714,0714, 62.0617, -16.0600, 2218,    604.1,   7.2216,  35.1611,2,  35.1600,2,      6.5,2,      6.4,2,     6.80,2,    15.20,2,     0.94,2,  7.1622,   -999
      74CD50_1,  ACM8,   012,  1,    226,   -999,19900714,0714, 62.0617, -16.0600, 2218,    810.5,   6.7125,  35.1220,2,  35.1205,2,      6.3,2,      6.3,2,     7.30,2,    15.90,2,     0.99,2,  6.6349,   -999
      74CD50_1,  ACM8,   012,  1,    225,   -999,19900714,0714, 62.0617, -16.0600, 2218,   1013.4,   5.4167,  35.0257,2,  35.0235,2,      5.7,2,      5.6,2,    10.40,2,    18.80,2,     1.17,2,  5.3282,   -999
      74CD50_1,  ACM8,   012,  1,    224,   -999,19900714,0714, 62.0617, -16.0600, 2218,   1220.3,   4.4738,  34.9571,2,  34.9560,2,      6.0,2,      6.0,2,    10.40,2,    18.40,2,     1.17,2,  4.3742,   -999
      74CD50_1,  ACM8,   012,  1,    223,   -999,19900714,0714, 62.0617, -16.0600, 2218,   1423.2,   4.0277,  34.9281,2,  34.9280,2,      6.4,2,      6.3,2,    10.20,2,    18.00,2,     1.13,2,  3.9142,   -999
      74CD50_1,  ACM8,   012,  1,    222,   -999,19900714,0714, 62.0617, -16.0600, 2218,   1625.2,   3.8810,  34.9335,2,  34.9310,2,      6.5,2,      6.5,2,     9.80,2,    17.30,2,     1.10,2,  3.7508,   -999
      74CD50_1,  ACM8,   012,  1,    221,   -999,19900714,0714, 62.0617, -16.0600, 2218,   1827.0,   3.7364,  34.9346,2,  34.9355,2,      6.5,2,      6.5,2,     9.90,2,    17.10,2,     1.08,2,  3.5894,   -999
      74CD50_1,  ACM8,   012,  1,    220,   -999,19900714,0714, 62.0617, -16.0600, 2218,   2026.1,   3.6379,  34.9741,2,  34.9770,2,      6.4,2,      6.5,2,     9.70,2,    16.40,2,     1.04,2,  3.4732,   -999
      74CD50_1,  ACM8,   012,  1,    219,   -999,19900714,0714, 62.0617, -16.0600, 2218,   2244.3,   1.7077,  34.9594,2,  34.9590,2,      6.7,2,      6.8,2,     9.30,2,    15.20,2,     0.98,2,  1.5540,   -999
      74CD50_1,  ACM8,   013,  1,    242,   -999,19900714,1033, 62.2967, -16.3150, 2120,    105.6,   7.9116,  35.2171,2,  35.2115,2,      6.5,2,      6.4,2,     6.30,2,    14.60,2,     0.87,2,  7.9010,   -999
      74CD50_1,  ACM8,   013,  1,    241,   -999,19900714,1033, 62.2967, -16.3150, 2120,    306.7,   7.5864,  35.1993,2,  35.1950,2,      6.5,2,      6.5,2,     6.20,2,    14.30,2,     0.85,2,  7.5560,   -999
      74CD50_1,  ACM8,   013,  1,    240,   -999,19900714,1033, 62.2967, -16.3150, 2120,    514.8,   7.2877,  35.1667,2,  35.1630,2,      6.4,2,      6.4,2,     6.90,2,    14.90,2,     0.90,2,  7.2371,   -999
      74CD50_1,  ACM8,   013,  1,    239,   -999,19900714,1033, 62.2967, -16.3150, 2120,    708.8,   6.9386,  35.1358,2,  35.1315,2,      6.3,2,      6.0,2,     7.50,2,    15.70,2,     0.94,2,  6.8699,   -999
      74CD50_1,  ACM8,   013,  1,    238,   -999,19900714,1033, 62.2967, -16.3150, 2120,    912.0,   5.8229,  35.0533,2,  35.0470,2,      5.6,2,      5.5,2,    10.40,2,    18.40,2,     1.10,2,  5.7411,   -999
      74CD50_1,  ACM8,   013,  1,    236,   -999,19900714,1033, 62.2967, -16.3150, 2120,   1116.0,   4.7442,  34.9802,2,  34.9745,2,      5.9,2,      5.8,2,    10.40,2,    18.30,2,     1.09,2,  4.6516,   -999
      74CD50_1,  ACM8,   013,  1,    237,   -999,19900714,1033, 62.2967, -16.3150, 2120,   1116.0,   4.7442,  34.9802,2,  34.9750,2,      5.9,2,      5.8,2,    10.50,2,    18.30,2,     1.10,2,  4.6516,   -999
      74CD50_1,  ACM8,   013,  1,    235,   -999,19900714,1033, 62.2967, -16.3150, 2120,   1314.7,   4.0929,  34.9260,2,  34.9280,2,      6.2,2,      6.2,2,    10.20,2,    17.90,2,     1.06,2,  3.9886,   -999
      74CD50_1,  ACM8,   013,  1,    234,   -999,19900714,1033, 62.2967, -16.3150, 2120,   1513.6,   3.7546,  34.9080,2,  34.9075,2,      6.4,2,      6.5,2,    10.10,2,    17.50,2,     1.07,2,  3.6361,   -999
      74CD50_1,  ACM8,   013,  1,    233,   -999,19900714,1033, 62.2967, -16.3150, 2120,   1715.4,   3.5921,  34.9077,2,  34.9090,2,      6.5,2,      6.5,2,    10.30,2,    17.20,2,     1.05,2,  3.4573,   -999
      74CD50_1,  ACM8,   013,  1,    232,   -999,19900714,1033, 62.2967, -16.3150, 2120,   1920.8,   3.5780,  34.9550,2,  34.9550,2,      6.4,2,      6.5,2,    10.70,2,    16.60,2,     1.02,2,  3.4243,   -999
      74CD50_1,  ACM8,   013,  1,    231,   -999,19900714,1033, 62.2967, -16.3150, 2120,   2142.5,   2.2416,  34.9605,2,  34.9610,2,      6.6,2,      6.7,2,     9.70,2,    15.50,2,     0.98,2,  2.0879,   -999
      74CD50_1,  ACM8,   014,  1,    254,   -999,19900714,1540, 62.5000, -16.5617, 2065,     10.9,  10.8739,  35.1916,2,  35.1880,2,      6.5,2,      6.6,2,     1.70,2,     3.20,2,     0.24,2, 10.8726,   -999
      74CD50_1,  ACM8,   014,  1,    253,   -999,19900714,1540, 62.5000, -16.5617, 2065,    206.6,   7.7372,  35.2137,2,  35.2125,2,      6.5,2,      6.5,2,     6.00,2,    13.90,2,     0.87,2,  7.7166,   -999
      74CD50_1,  ACM8,   014,  1,    252,   -999,19900714,1540, 62.5000, -16.5617, 2065,    405.4,   7.6108,  35.2052,2,  35.2040,2,      6.5,2,      6.5,2,     6.10,2,    13.90,2,     0.87,2,  7.5702,   -999
      74CD50_1,  ACM8,   014,  1,    251,   -999,19900714,1540, 62.5000, -16.5617, 2065,    604.1,   7.3623,  35.1815,2,  35.1800,2,      6.4,2,      6.4,2,     6.50,2,    14.30,2,     0.90,2,  7.3022,   -999
      74CD50_1,  ACM8,   014,  1,    250,   -999,19900714,1540, 62.5000, -16.5617, 2065,    808.0,   6.2633,  35.0757,2,  35.0750,2,      5.6,2,      5.6,2,     9.80,2,    17.60,2,     1.11,2,  6.1887,   -999
      74CD50_1,  ACM8,   014,  1,    249,   -999,19900714,1540, 62.5000, -16.5617, 2065,   1015.3,   4.9047,  34.9861,2,  34.9870,2,      5.7,2,      5.8,2,    10.60,2,    18.10,2,     1.15,2,  4.8200,   -999
      74CD50_1,  ACM8,   014,  1,    248,   -999,19900714,1540, 62.5000, -16.5617, 2065,   1214.3,   4.2076,  34.9409,2,  34.9405,2,      6.2,2,      6.2,2,    10.50,2,    17.70,2,     1.11,2,  4.1110,   -999
      74CD50_1,  ACM8,   014,  1,    247,   -999,19900714,1540, 62.5000, -16.5617, 2065,   1414.8,   3.8864,  34.9176,2,  34.9220,2,      6.4,2,      6.4,2,    10.30,2,    17.30,2,     1.10,2,  3.7753,   -999
      74CD50_1,  ACM8,   014,  1,    246,   -999,19900714,1540, 62.5000, -16.5617, 2065,   1611.8,   3.6607,  34.9157,2,  34.9175,2,      6.5,2,      6.5,2,    10.30,2,    16.90,2,     1.08,2,  3.5345,   -999
      74CD50_1,  ACM8,   014,  1,    245,   -999,19900714,1540, 62.5000, -16.5617, 2065,   1810.8,   3.5691,  34.9751,2,  34.9775,2,      6.4,2,      6.5,2,     9.90,2,    15.90,2,     1.02,2,  3.4257,   -999
      74CD50_1,  ACM8,   014,  1,    244,   -999,19900714,1540, 62.5000, -16.5617, 2065,   1956.6,   2.7869,  34.9647,2,  34.9650,2,      6.5,2,      6.5,2,    11.00,2,    15.90,2,     1.02,2,  2.6414,   -999
      74CD50_1,  ACM8,   014,  1,    243,   -999,19900714,1540, 62.5000, -16.5617, 2065,   2070.0,   2.2786,  34.9655,2,  34.9650,2,      6.6,2,      6.7,2,     9.60,2,    15.30,2,     1.00,2,  2.1307,   -999
      74CD50_1,  ACM8,   015,  1,    266,   -999,19900714,1825, 62.6883, -16.7900, 1830,      7.4,  11.0667,  35.1718,2,  35.1710,2,      6.5,2,   -999.0,5,     1.30,2,     3.00,2,     0.20,2, 11.0658,   -999
      74CD50_1,  ACM8,   015,  1,    265,   -999,19900714,1825, 62.6883, -16.7900, 1830,    202.6,   7.5855,  35.1873,2,  35.1875,2,      6.5,2,      6.6,2,     6.30,2,    14.50,2,     0.90,2,  7.5656,   -999
      74CD50_1,  ACM8,   015,  1,    264,   -999,19900714,1825, 62.6883, -16.7900, 1830,    394.7,   7.4360,  35.1768,2,  35.1760,2,      6.5,2,      6.5,2,     6.30,2,    14.40,2,     0.90,2,  7.3971,   -999
      74CD50_1,  ACM8,   015,  1,    263,   -999,19900714,1825, 62.6883, -16.7900, 1830,    588.7,   7.2919,  35.1710,2,  35.1720,2,      6.4,2,      6.4,2,     6.40,2,    14.60,2,     0.91,2,  7.2337,   -999
      74CD50_1,  ACM8,   015,  1,    262,   -999,19900714,1825, 62.6883, -16.7900, 1830,    790.3,   6.8369,  35.1232,2,  35.1235,2,      6.2,2,      6.0,2,     7.90,2,    16.10,2,     1.01,2,  6.7606,   -999
      74CD50_1,  ACM8,   015,  1,    261,   -999,19900714,1825, 62.6883, -16.7900, 1830,    990.0,   5.8000,  35.0568,2,  35.0565,2,      5.6,2,      5.7,2,     9.80,2,    17.70,2,     1.11,2,  5.7108,   -999
      74CD50_1,  ACM8,   015,  1,    260,   -999,19900714,1825, 62.6883, -16.7900, 1830,   1093.6,   5.3726,  35.0489,2,  35.0485,2,      6.0,2,      5.6,2,     9.40,2,    17.00,2,     1.07,2,  5.2768,   -999
      74CD50_1,  ACM8,   015,  1,    259,   -999,19900714,1825, 62.6883, -16.7900, 1830,   1196.4,   4.7578,  34.9919,2,  34.9935,2,      6.0,2,      6.0,2,    10.20,2,    17.70,2,     1.11,2,  4.6577,   -999
      74CD50_1,  ACM8,   015,  1,    258,   -999,19900714,1825, 62.6883, -16.7900, 1830,   1402.2,   4.0852,  34.9689,2,  34.9695,2,      6.4,2,      6.3,2,     9.80,2,    16.90,2,     1.08,2,  3.9729,   -999
      74CD50_1,  ACM8,   015,  1,    257,   -999,19900714,1825, 62.6883, -16.7900, 1830,   1608.2,   2.9210,  34.9692,2,  34.9705,2,      6.5,2,      6.6,2,     9.30,2,    15.60,2,     1.01,2,  2.8040,   -999
      74CD50_1,  ACM8,   015,  1,    256,   -999,19900714,1825, 62.6883, -16.7900, 1830,   1829.1,   2.2392,  34.9672,2,  34.9665,2,      6.7,2,      6.7,2,     8.60,2,    14.90,2,     0.97,2,  2.1125,   -999
      74CD50_1,  ACM8,   015,  1,    255,   -999,19900714,1825, 62.6883, -16.7900, 1830,   1830.1,   2.2391,  34.9679,2,  34.9670,2,      6.7,2,      6.8,2,     8.60,2,    14.90,2,     0.99,2,  2.1123,   -999
      74CD50_1,  ACM8,   016,  1,    278,   -999,19900714,2043, 62.8050, -16.9017, 1675,     32.2,   9.8009,  35.1945,2,  35.1870,2,      6.7,2,      6.6,2,     3.30,2,     7.30,2,     0.50,2,  9.7972,   -999
      74CD50_1,  ACM8,   016,  1,    277,   -999,19900714,2043, 62.8050, -16.9017, 1675,    114.8,   7.9177,  35.2188,2,  35.2180,2,      6.4,2,      6.4,2,     6.00,2,    14.30,2,     0.87,2,  7.9062,   -999
      74CD50_1,  ACM8,   016,  1,    276,   -999,19900714,2043, 62.8050, -16.9017, 1675,    409.0,   7.5774,  35.1978,2,  35.1965,2,      6.5,2,      6.5,2,     6.00,2,    14.10,2,     0.87,2,  7.5366,   -999
      74CD50_1,  ACM8,   016,  1,    275,   -999,19900714,2043, 62.8050, -16.9017, 1675,    706.4,   7.3283,  35.1761,2,  35.1740,2,      6.4,2,      6.4,2,     6.40,2,    14.60,2,     0.90,2,  7.2578,   -999
      74CD50_1,  ACM8,   016,  1,    274,   -999,19900714,2043, 62.8050, -16.9017, 1675,   1018.7,   5.7885,  35.0675,2,  35.0680,2,      5.8,2,      5.8,2,     9.50,2,    17.30,2,     1.07,2,  5.6965,   -999
      74CD50_1,  ACM8,   016,  1,    273,   -999,19900714,2043, 62.8050, -16.9017, 1675,   1317.4,   3.9038,  34.9658,2,  34.9685,2,      6.4,2,      6.4,2,     9.70,2,    16.60,2,     1.03,2,  3.8010,   -999
      74CD50_1,  ACM8,   016,  1,    272,   -999,19900714,2043, 62.8050, -16.9017, 1675,   1451.4,   3.5897,  35.0195,2,  35.0200,2,      6.6,2,      6.6,2,     7.90,2,    14.90,2,     0.95,2,  3.4783,   -999
      74CD50_1,  ACM8,   016,  1,    271,   -999,19900714,2043, 62.8050, -16.9017, 1675,   1547.0,   2.7202,  34.9794,2,  34.9810,2,      6.7,2,      6.7,2,     8.20,2,    14.80,2,     0.95,2,  2.6107,   -999
      74CD50_1,  ACM8,   016,  1,    270,   -999,19900714,2043, 62.8050, -16.9017, 1675,   1604.8,   2.6974,  34.9798,2,  34.9790,2,      6.7,2,      6.7,2,     8.30,2,    14.80,2,     0.95,2,  2.5834,   -999
      74CD50_1,  ACM8,   016,  1,    269,   -999,19900714,2043, 62.8050, -16.9017, 1675,   1606.9,   2.6941,  34.9775,2,  34.9775,2,      6.7,2,      6.7,2,     8.20,2,    14.80,2,     0.95,2,  2.5799,   -999
      74CD50_1,  ACM8,   016,  1,    268,   -999,19900714,2043, 62.8050, -16.9017, 1675,   1676.4,   2.6990,  34.9798,2,  34.9785,2,      6.7,2,      6.7,2,     8.20,2,    14.80,2,     0.94,2,  2.5790,   -999
      74CD50_1,  ACM8,   016,  1,    267,   -999,19900714,2043, 62.8050, -16.9017, 1675,   1677.8,   2.6944,  34.9781,2,  34.9790,2,      6.7,2,      6.7,2,     8.30,2,    14.90,2,     0.96,2,  2.5743,   -999
      74CD50_1,  ACM8,   017,  1,    289,   -999,19900714,2312, 62.9000, -17.0150, 1550,    111.7,   7.9099,  35.2249,2,  35.2235,2,      6.5,2,      6.4,2,  -999.00,5,  -999.00,5,  -999.00,5,  7.8987,   -999
      74CD50_1,  ACM8,   017,  1,    290,   -999,19900714,2312, 62.9000, -17.0150, 1550,    111.7,   7.9099,  35.2249,2,  35.2245,2,      6.5,2,      6.5,2,  -999.00,5,  -999.00,5,  -999.00,5,  7.8987,   -999
      74CD50_1,  ACM8,   017,  1,    288,   -999,19900714,2312, 62.9000, -17.0150, 1550,    364.2,   7.6221,  35.2055,2,  35.2035,2,      6.6,2,      6.5,2,  -999.00,5,  -999.00,5,  -999.00,5,  7.5858,   -999
      74CD50_1,  ACM8,   017,  1,    287,   -999,19900714,2312, 62.9000, -17.0150, 1550,    666.5,   7.3458,  35.1718,2,  35.1720,2,      6.5,2,      6.4,2,  -999.00,5,  -999.00,5,  -999.00,5,  7.2794,   -999
      74CD50_1,  ACM8,   017,  1,    286,   -999,19900714,2312, 62.9000, -17.0150, 1550,    960.7,   5.5977,  35.0534,2,  35.0520,2,      5.8,2,      5.8,2,  -999.00,5,  -999.00,5,  -999.00,5,  5.5127,   -999
      74CD50_1,  ACM8,   017,  1,    285,   -999,19900714,2312, 62.9000, -17.0150, 1550,   1021.6,   5.2035,  35.0291,2,  35.0280,2,      6.0,2,      5.9,2,  -999.00,5,  -999.00,5,  -999.00,5,  5.1158,   -999
      74CD50_1,  ACM8,   017,  1,    284,   -999,19900714,2312, 62.9000, -17.0150, 1550,   1122.9,   4.5984,  35.0085,2,  35.0095,2,      6.2,2,      6.2,2,  -999.00,5,  -999.00,5,  -999.00,5,  4.5064,   -999
      74CD50_1,  ACM8,   017,  1,    283,   -999,19900714,2312, 62.9000, -17.0150, 1550,   1222.6,   4.0416,  35.0341,2,  35.0370,2,      6.5,2,      6.5,2,  -999.00,5,  -999.00,5,  -999.00,5,  3.9456,   -999
      74CD50_1,  ACM8,   017,  1,    281,   -999,19900714,2312, 62.9000, -17.0150, 1550,   1366.8,   3.6864,  35.0221,2,  35.0240,2,      6.6,2,      6.6,2,     8.10,2,    15.20,2,     0.96,2,  3.5814,   -999
      74CD50_1,  ACM8,   017,  1,    282,   -999,19900714,2312, 62.9000, -17.0150, 1550,   1370.6,   3.6846,  35.0227,2,  35.0240,2,      6.6,2,      6.6,2,  -999.00,5,  -999.00,5,  -999.00,5,  3.5792,   -999
      74CD50_1,  ACM8,   017,  1,    279,   -999,19900714,2312, 62.9000, -17.0150, 1550,   1537.2,   3.3038,  34.9998,2,  35.0015,2,      6.6,2,      6.6,2,     8.70,2,    15.40,2,     0.97,2,  3.1882,   -999
      74CD50_1,  ACM8,   017,  1,    280,   -999,19900714,2312, 62.9000, -17.0150, 1550,   1540.4,   3.3036,  35.0008,2,  35.0015,2,      6.5,2,      6.6,2,     8.70,2,    15.40,2,     0.98,2,  3.1877,   -999