BOTTLE,20221004CCHSIOAMB
# Removed every other line in station 012 that were exactly duplicated
#BOTTLE,20020318WHPSIOKJU
#code : jjward hyd_to_exchange.pl 
#original files copied from HTML directory: 20020318
#original HYD file: ar25_chy.txt   Wed Sep  5 11:40:58 2001
#original SUM file: ar25_csu.txt   Fri Sep  7 11:26:28 2001
EXPOCODE,SECT_ID,STNNBR,CASTNO,SAMPNO,BTLNBR,DATE,TIME,LATITUDE,LONGITUDE,DEPTH,CTDPRS,CTDTMP,CTDSAL,CTDSAL_FLAG_W,SALNTY,SALNTY_FLAG_W,CTDOXY,CTDOXY_FLAG_W,OXYGEN,OXYGEN_FLAG_W,SILCAT,SILCAT_FLAG_W,NO2+NO3,NO2+NO3_FLAG_W,PHSPHT,PHSPHT_FLAG_W,THETA,CTDRAW
,,,,,,,,,,,DBAR,ITS-90,PSS-78,,PSS-78,,ML/L,,ML/L,,UMOL/L,,UMOL/L,,UMOL/L,,DEG C,
      74CD50_1,  ACM8,   001,  1,    111,   -999,19900711,0845, 60.1750,  -6.0633, 1212,   1182.0,  -0.7833,  34.9081,2,  34.9080,2,   -999.0,5,      7.2,2,    10.80,2,    14.90,2,     0.90,2, -0.8307,   -999
      74CD50_1,  ACM8,   001,  1,    112,   -999,19900711,0845, 60.1750,  -6.0633, 1212,   1182.0,  -0.7833,  34.9081,2,  34.9080,2,   -999.0,5,      7.2,2,    10.70,2,    14.80,2,     0.88,2, -0.8307,   -999
      74CD50_1,  ACM8,   001,  1,    113,   -999,19900711,0845, 60.1750,  -6.0633, 1212,   1182.0,  -0.7833,  34.9081,2,  34.9080,2,   -999.0,5,      7.2,2,    10.80,2,    14.90,2,     0.88,2, -0.8307,   -999
      74CD50_1,  ACM8,   001,  1,    114,   -999,19900711,0845, 60.1750,  -6.0633, 1212,   1182.0,  -0.7833,  34.9081,2,  34.9080,2,   -999.0,5,      7.3,2,    10.80,2,    14.90,2,     0.88,2, -0.8307,   -999
      74CD50_1,  ACM8,   001,  1,    115,   -999,19900711,0845, 60.1750,  -6.0633, 1212,   1182.0,  -0.7833,  34.9081,2,  34.9080,2,   -999.0,5,      7.2,2,    10.80,2,    14.90,2,     0.88,2, -0.8307,   -999
      74CD50_1,  ACM8,   001,  1,    116,   -999,19900711,0845, 60.1750,  -6.0633, 1212,   1182.0,  -0.7833,  34.9081,2,  34.9080,2,   -999.0,5,      7.3,2,    10.80,2,    14.80,2,     0.88,2, -0.8307,   -999
      74CD50_1,  ACM8,   001,  1,    117,   -999,19900711,0845, 60.1750,  -6.0633, 1212,   1182.0,  -0.7833,  34.9081,2,  34.9080,2,   -999.0,5,      7.2,2,    10.80,2,    14.90,2,     0.89,2, -0.8307,   -999
      74CD50_1,  ACM8,   001,  1,    118,   -999,19900711,0845, 60.1750,  -6.0633, 1212,   1182.0,  -0.7833,  34.9081,2,  34.9080,2,   -999.0,5,      7.3,2,    10.80,2,    15.00,2,     0.88,2, -0.8307,   -999
      74CD50_1,  ACM8,   001,  1,    119,   -999,19900711,0845, 60.1750,  -6.0633, 1212,   1182.0,  -0.7833,  34.9081,2,  34.9080,2,   -999.0,5,      7.3,2,    10.80,2,    15.00,2,     0.86,2, -0.8307,   -999
      74CD50_1,  ACM8,   001,  1,    120,   -999,19900711,0845, 60.1750,  -6.0633, 1212,   1182.0,  -0.7833,  34.9081,2,  34.9080,2,   -999.0,5,      7.2,2,    10.80,2,    15.00,2,     0.86,2, -0.8307,   -999
      74CD50_1,  ACM8,   001,  1,    121,   -999,19900711,0845, 60.1750,  -6.0633, 1212,   1182.0,  -0.7833,  34.9081,2,  34.9080,2,   -999.0,5,      7.3,2,    10.80,2,    14.90,2,     0.84,2, -0.8307,   -999
      74CD50_1,  ACM8,   001,  1,    122,   -999,19900711,0845, 60.1750,  -6.0633, 1212,   1182.0,  -0.7833,  34.9081,2,  34.9080,2,   -999.0,5,      7.3,2,    10.80,2,    15.00,2,     0.85,2, -0.8307,   -999
      74CD50_1,  ACM8,   003,  1,    137,   -999,19900712,2118, 60.5617, -12.8850,  602,    102.1,   8.7425,  35.2937,2,  35.2925,2,      6.4,2,      6.4,2,     5.10,2,    13.10,2,     0.79,2,  8.7316,   -999
      74CD50_1,  ACM8,   003,  1,    138,   -999,19900712,2118, 60.5617, -12.8850,  602,    102.1,   8.7425,  35.2937,2,  35.2915,2,      6.4,2,      6.4,2,     5.10,2,    13.10,2,     0.78,2,  8.7316,   -999
      74CD50_1,  ACM8,   003,  1,    135,   -999,19900712,2118, 60.5617, -12.8850,  602,    302.4,   8.2690,  35.2648,2,  35.2665,2,      6.4,2,      6.4,2,     5.60,2,    13.30,2,     0.81,2,  8.2374,   -999
      74CD50_1,  ACM8,   003,  1,    136,   -999,19900712,2118, 60.5617, -12.8850,  602,    302.4,   8.2690,  35.2648,2,  35.2665,2,      6.4,2,      6.4,2,     5.60,2,    13.30,2,     0.81,2,  8.2374,   -999
      74CD50_1,  ACM8,   003,  1,    134,   -999,19900712,2118, 60.5617, -12.8850,  602,    402.6,   8.0618,  35.2469,2,  35.2480,2,      6.5,2,      6.4,2,     5.80,2,    13.60,2,     0.82,2,  8.0201,   -999
      74CD50_1,  ACM8,   003,  1,    133,   -999,19900712,2118, 60.5617, -12.8850,  602,    501.7,   7.9992,  35.2494,2,  35.2495,2,      6.5,2,      6.5,2,     5.80,2,    13.50,2,     0.83,2,  7.9473,   -999
      74CD50_1,  ACM8,   003,  1,    132,   -999,19900712,2118, 60.5617, -12.8850,  602,    594.0,   7.9272,  35.2418,2,  35.2420,2,      6.3,2,      6.4,2,     6.40,2,    13.70,2,     0.85,2,  7.8656,   -999
      74CD50_1,  ACM8,   003,  1,    131,   -999,19900712,2118, 60.5617, -12.8850,  602,    594.1,   7.9274,  35.2418,2,  35.2430,2,      6.3,2,      6.4,2,     6.40,2,    13.70,2,     0.83,2,  7.8658,   -999
      74CD50_1,  ACM8,   004,  1,    145,   -999,19900712,2319, 60.6500, -13.0500, 1045,    101.2,   9.4100,  35.3796,2,  35.3780,2,      6.3,2,      6.3,2,     4.60,2,    12.00,2,     0.70,2,  9.3987,   -999
      74CD50_1,  ACM8,   004,  1,    144,   -999,19900712,2319, 60.6500, -13.0500, 1045,    249.8,   8.7138,  35.3163,2,  35.3155,2,      6.5,2,      6.4,2,     5.10,2,    12.80,2,     0.75,2,  8.6870,   -999
      74CD50_1,  ACM8,   004,  1,    142,   -999,19900712,2319, 60.6500, -13.0500, 1045,    403.6,   8.4462,  35.2879,2,  35.2895,2,      6.4,2,      6.4,2,     5.50,2,    13.10,2,     0.79,2,  8.4033,   -999
      74CD50_1,  ACM8,   004,  1,    143,   -999,19900712,2319, 60.6500, -13.0500, 1045,    403.6,   8.4462,  35.2879,2,  35.2900,2,      6.4,2,      6.4,2,     5.50,2,    13.20,2,     0.79,2,  8.4033,   -999
      74CD50_1,  ACM8,   004,  1,    141,   -999,19900712,2319, 60.6500, -13.0500, 1045,    790.8,   7.6055,  35.1970,2,  35.1990,2,      6.4,2,      6.1,2,     7.10,2,    14.70,2,     0.89,2,  7.5245,   -999
      74CD50_1,  ACM8,   004,  1,    140,   -999,19900712,2319, 60.6500, -13.0500, 1045,    938.7,   6.0362,  35.1003,2,  35.1015,2,      5.8,2,      5.8,2,     9.70,2,    16.80,2,     1.03,2,  5.9502,   -999
      74CD50_1,  ACM8,   004,  1,    139,   -999,19900712,2319, 60.6500, -13.0500, 1045,   1044.2,   5.8577,  35.1172,2,  35.1155,2,      6.0,2,      6.0,2,     8.90,2,    15.70,2,     0.97,2,  5.7626,   -999
      74CD50_1,  ACM8,   004,  1,    146,   -999,19900712,2319, 60.6500, -13.0500, 1045,   1044.2,   5.8577,  35.1172,2,  35.1155,2,      6.0,2,      6.1,2,     8.90,2,    15.90,2,     0.94,2,  5.7626,   -999
      74CD50_1,  ACM8,   005,  1,    154,   -999,19900713,0125, 60.7367, -13.2200, 1440,     21.5,  11.2031,  35.2131,2,  35.2150,2,      6.4,2,      6.6,2,     0.90,2,     3.60,2,     0.24,2, 11.2004,   -999
      74CD50_1,  ACM8,   005,  1,    153,   -999,19900713,0125, 60.7367, -13.2200, 1440,    102.2,   8.7002,  35.2842,2,  35.2840,2,      6.4,2,      6.4,2,     5.40,2,    13.80,2,     0.82,2,  8.6894,   -999
      74CD50_1,  ACM8,   005,  1,    152,   -999,19900713,0125, 60.7367, -13.2200, 1440,    455.2,   7.7789,  35.2130,2,  35.2140,2,      6.4,2,      6.5,2,     6.10,2,    14.50,2,     0.87,2,  7.7326,   -999
      74CD50_1,  ACM8,   005,  1,    151,   -999,19900713,0125, 60.7367, -13.2200, 1440,    707.2,   7.5281,  35.1959,2,  35.1930,2,      6.5,2,      6.5,2,     6.30,2,    14.70,2,     0.89,2,  7.4564,   -999
      74CD50_1,  ACM8,   005,  1,    150,   -999,19900713,0125, 60.7367, -13.2200, 1440,    959.3,   6.2959,  35.0924,2,  35.0920,2,      5.6,2,      5.5,2,    10.00,2,    18.10,2,     1.11,2,  6.2060,   -999
      74CD50_1,  ACM8,   005,  1,    149,   -999,19900713,0125, 60.7367, -13.2200, 1440,   1163.5,   5.5180,  35.0716,2,  35.0580,2,      6.2,2,      5.9,2,    10.00,2,    17.50,2,     1.09,2,  5.4141,   -999
      74CD50_1,  ACM8,   005,  1,    148,   -999,19900713,0125, 60.7367, -13.2200, 1440,   1314.5,   4.9276,  35.0572,2,  35.0570,2,      6.2,2,      6.2,2,     9.90,2,    16.40,2,     1.02,2,  4.8147,   -999
      74CD50_1,  ACM8,   005,  1,    147,   -999,19900713,0125, 60.7367, -13.2200, 1440,   1440.6,   4.6437,  35.0253,2,  35.0280,2,      6.2,2,      6.3,2,    10.40,2,    16.70,2,     1.05,2,  4.5218,   -999
      74CD50_1,  ACM8,   006,  1,    162,   -999,19900713,0351, 60.8383, -13.4300, 1667,     14.6,  11.3572,  35.2004,2,  35.2025,2,      6.3,2,      6.6,2,     0.80,2,     2.50,2,     0.18,2, 11.3554,   -999
      74CD50_1,  ACM8,   006,  1,    161,   -999,19900713,0351, 60.8383, -13.4300, 1667,    309.9,   7.7942,  35.2115,2,  35.2095,2,      6.4,2,      6.4,2,     6.30,2,    14.80,2,     0.88,2,  7.7629,   -999
      74CD50_1,  ACM8,   006,  1,    160,   -999,19900713,0351, 60.8383, -13.4300, 1667,    602.5,   7.5350,  35.1974,2,  35.1985,2,      6.5,2,      6.4,2,     6.30,2,    14.90,2,     0.89,2,  7.4743,   -999
      74CD50_1,  ACM8,   006,  1,    159,   -999,19900713,0351, 60.8383, -13.4300, 1667,    887.1,   6.2374,  35.0886,2,  35.0905,2,      5.6,2,      5.6,2,     9.90,2,    18.40,2,     1.12,2,  6.1551,   -999
      74CD50_1,  ACM8,   006,  1,    158,   -999,19900713,0351, 60.8383, -13.4300, 1667,    987.0,   5.5739,  35.0500,2,  35.0480,2,      5.7,2,      5.7,2,    10.40,2,    18.60,2,     1.12,2,  5.4866,   -999
      74CD50_1,  ACM8,   006,  1,    157,   -999,19900713,0351, 60.8383, -13.4300, 1667,   1091.5,   4.9098,  34.9989,2,  34.9970,2,      5.9,2,      5.9,2,    10.60,2,    18.70,2,     1.15,2,  4.8180,   -999
      74CD50_1,  ACM8,   006,  1,    156,   -999,19900713,0351, 60.8383, -13.4300, 1667,   1391.8,   3.8318,  34.9205,2,  34.9210,2,      6.4,2,      6.4,2,    10.70,2,    18.00,2,     1.11,2,  3.7233,   -999
      74CD50_1,  ACM8,   006,  1,    155,   -999,19900713,0351, 60.8383, -13.4300, 1667,   1648.3,   3.3312,  34.9499,2,  34.9490,2,      6.4,2,      6.4,2,    12.60,2,    17.50,2,     1.08,2,  3.2057,   -999
      74CD50_1,  ACM8,   007,  1,    172,   -999,19900713,0627, 60.9183, -13.6033, 1675,      5.5,  11.5803,  35.2148,2,  35.2150,2,      6.3,2,      6.5,2,     0.40,2,     2.70,2,     0.22,2, 11.5796,   -999
      74CD50_1,  ACM8,   007,  1,    171,   -999,19900713,0627, 60.9183, -13.6033, 1675,    202.2,   7.9750,  35.2335,2,  35.2320,2,      6.4,2,      6.5,2,     6.00,2,    14.20,2,     0.88,2,  7.9545,   -999
      74CD50_1,  ACM8,   007,  1,    170,   -999,19900713,0627, 60.9183, -13.6033, 1675,    403.4,   7.6400,  35.2008,2,  35.1980,2,      6.4,2,      6.4,2,     6.30,2,    14.50,2,     0.89,2,  7.5996,   -999
      74CD50_1,  ACM8,   007,  1,    169,   -999,19900713,0627, 60.9183, -13.6033, 1675,    604.7,   7.1982,  35.1538,2,  35.1530,2,      6.2,2,      6.1,2,     7.60,2,    15.80,2,     0.98,2,  7.1389,   -999
      74CD50_1,  ACM8,   007,  1,    168,   -999,19900713,0627, 60.9183, -13.6033, 1675,    806.7,   5.9472,  35.0711,2,  35.0705,2,      5.6,2,      5.5,2,    10.20,2,    18.20,2,     1.14,2,  5.8746,   -999
      74CD50_1,  ACM8,   007,  1,    167,   -999,19900713,0627, 60.9183, -13.6033, 1675,   1006.7,   4.7734,  34.9883,2,  34.9875,2,      5.9,2,      5.9,2,    10.50,2,    18.10,2,     1.14,2,  4.6904,   -999
      74CD50_1,  ACM8,   007,  1,    166,   -999,19900713,0627, 60.9183, -13.6033, 1675,   1201.8,   4.0852,  34.9337,2,  34.9375,2,      6.3,2,      6.3,2,    10.50,2,    17.80,2,     1.12,2,  3.9909,   -999
      74CD50_1,  ACM8,   007,  1,    165,   -999,19900713,0627, 60.9183, -13.6033, 1675,   1400.9,   3.6892,  34.9148,2,  34.9165,2,      6.4,2,      6.5,2,    10.70,2,    17.50,2,     1.10,2,  3.5814,   -999
      74CD50_1,  ACM8,   007,  1,    164,   -999,19900713,0627, 60.9183, -13.6033, 1675,   1672.7,   3.2771,  34.9529,2,  34.9525,2,      6.4,2,      6.4,2,    12.90,2,    17.10,2,     1.08,2,  3.1501,   -999
      74CD50_1,  ACM8,   007,  1,    163,   -999,19900713,0627, 60.9183, -13.6033, 1675,   1673.2,   3.2744,  34.9524,2,  34.9530,2,      6.3,2,      6.4,2,    12.90,2,    17.00,2,     1.08,2,  3.1473,   -999
      74CD50_1,  ACM8,   008,  1,    181,   -999,19900713,1001, 61.1317, -14.1083, 1759,    298.1,   7.8290,  35.2290,2,  35.2295,2,      6.5,2,      6.5,2,     5.70,2,    14.10,2,     0.86,2,  7.7989,   -999
      74CD50_1,  ACM8,   008,  1,    182,   -999,19900713,1001, 61.1317, -14.1083, 1759,    298.1,   7.8290,  35.2290,2,  35.2280,2,      6.5,2,      6.5,2,     5.80,2,    14.10,2,     0.86,2,  7.7989,   -999
      74CD50_1,  ACM8,   008,  1,    180,   -999,19900713,1001, 61.1317, -14.1083, 1759,    497.1,   7.6289,  35.2046,2,  35.2060,2,      6.5,2,      6.5,2,     6.00,2,    14.30,2,     0.88,2,  7.5788,   -999
      74CD50_1,  ACM8,   008,  1,    179,   -999,19900713,1001, 61.1317, -14.1083, 1759,    699.2,   7.4661,  35.1910,2,  35.1910,2,      6.5,2,      6.5,2,     6.10,2,    14.50,2,     0.89,2,  7.3956,   -999
      74CD50_1,  ACM8,   008,  1,    178,   -999,19900713,1001, 61.1317, -14.1083, 1759,   1055.1,   5.6188,  35.0556,2,  35.0550,2,      5.7,2,      5.7,2,    10.30,2,    18.20,2,     1.13,2,  5.5246,   -999
      74CD50_1,  ACM8,   008,  1,    177,   -999,19900713,1001, 61.1317, -14.1083, 1759,   1264.8,   4.3833,  34.9557,2,  34.9570,2,      6.1,2,      6.1,2,    10.20,2,    18.10,2,     1.12,2,  4.2805,   -999
      74CD50_1,  ACM8,   008,  1,    176,   -999,19900713,1001, 61.1317, -14.1083, 1759,   1387.4,   4.1554,  34.9569,2,  34.9560,2,      6.2,2,      6.3,2,    10.70,2,    17.70,2,     1.10,2,  4.0437,   -999
      74CD50_1,  ACM8,   008,  1,    175,   -999,19900713,1001, 61.1317, -14.1083, 1759,   1566.0,   3.6690,  34.9208,2,  34.9205,2,      6.5,2,      6.5,2,    10.70,2,    17.50,2,     1.10,2,  3.5468,   -999
      74CD50_1,  ACM8,   008,  1,    174,   -999,19900713,1001, 61.1317, -14.1083, 1759,   1766.8,   3.2941,  34.9508,2,  34.9500,2,      6.4,2,      6.4,2,    12.60,2,    17.10,2,     1.09,2,  3.1584,   -999
      74CD50_1,  ACM8,   008,  1,    173,   -999,19900713,1001, 61.1317, -14.1083, 1759,   1776.4,   3.2188,  34.9509,2,  34.9520,2,      6.4,2,      6.4,2,    13.00,2,    17.10,2,     1.08,2,  3.0833,   -999
      74CD50_1,  ACM8,   009,  1,    194,   -999,19900713,1355, 61.3883, -14.5933, 2070,    206.5,   7.9320,  35.2388,2,  35.2350,2,      6.5,2,      6.5,2,     5.90,2,    13.80,2,     0.85,2,  7.9112,   -999
      74CD50_1,  ACM8,   009,  1,    192,   -999,19900713,1355, 61.3883, -14.5933, 2070,    506.0,   7.6934,  35.2121,2,  35.2120,2,      6.5,2,      6.5,2,     6.00,2,    13.90,2,     0.87,2,  7.6421,   -999
      74CD50_1,  ACM8,   009,  1,    193,   -999,19900713,1355, 61.3883, -14.5933, 2070,    506.0,   7.6934,  35.2121,2,  35.2120,2,      6.5,2,      6.5,2,     6.00,2,    13.80,2,     0.87,2,  7.6421,   -999
      74CD50_1,  ACM8,   009,  1,    191,   -999,19900713,1355, 61.3883, -14.5933, 2070,    706.2,   7.5874,  35.2033,2,  35.2030,2,      6.5,2,      6.5,2,     6.10,2,    14.00,2,     0.87,2,  7.5156,   -999
      74CD50_1,  ACM8,   009,  1,    190,   -999,19900713,1355, 61.3883, -14.5933, 2070,    939.2,   7.2354,  35.1605,2,  35.1615,2,      6.4,2,      6.3,2,     7.00,2,    14.90,2,     0.94,2,  7.1409,   -999
      74CD50_1,  ACM8,   009,  1,    188,   -999,19900713,1355, 61.3883, -14.5933, 2070,   1093.1,   6.2346,  35.0754,2,  35.0750,2,      5.6,2,      5.5,2,    10.00,2,    17.70,2,     1.13,2,  6.1317,   -999
      74CD50_1,  ACM8,   009,  1,    189,   -999,19900713,1355, 61.3883, -14.5933, 2070,   1102.2,   6.1549,  35.0788,2,  35.0815,2,      5.6,2,      5.6,2,    10.10,2,    17.70,2,     1.12,2,  6.0517,   -999
      74CD50_1,  ACM8,   009,  1,    187,   -999,19900713,1355, 61.3883, -14.5933, 2070,   1246.5,   5.2055,  35.0125,2,  35.0125,2,      5.6,2,      5.7,2,    10.70,2,    18.10,2,     1.15,2,  5.0965,   -999
      74CD50_1,  ACM8,   009,  1,    186,   -999,19900713,1355, 61.3883, -14.5933, 2070,   1405.2,   4.4742,  34.9680,2,  34.9670,2,      6.0,2,      6.1,2,    10.70,2,    17.70,2,     1.12,2,  4.3576,   -999
      74CD50_1,  ACM8,   009,  1,    185,   -999,19900713,1355, 61.3883, -14.5933, 2070,   1716.1,   3.6820,  34.9189,2,  34.9185,2,      6.5,2,      6.5,2,    10.90,2,    17.10,2,     1.09,2,  3.5460,   -999
      74CD50_1,  ACM8,   009,  1,    184,   -999,19900713,1355, 61.3883, -14.5933, 2070,   1821.6,   3.5501,  34.9250,2,  34.9270,2,      6.5,2,      6.5,2,    11.20,2,    16.90,2,     1.09,2,  3.4061,   -999
      74CD50_1,  ACM8,   009,  1,    183,   -999,19900713,1355, 61.3883, -14.5933, 2070,   2033.4,   3.2527,  34.9642,2,  34.9620,2,      6.4,2,      6.4,2,    12.80,2,    16.50,2,     1.07,2,  3.0932,   -999
      74CD50_1,  ACM8,   010,  1,    206,   -999,19900713,1812, 61.6050, -15.1133, 2157,     10.9,  11.4343,  35.1881,2,  35.1915,2,      6.4,2,      6.6,2,     1.00,2,     2.60,2,     0.18,2, 11.4329,   -999
      74CD50_1,  ACM8,   010,  1,    205,   -999,19900713,1812, 61.6050, -15.1133, 2157,    205.6,   7.8616,  35.2258,2,  35.2240,2,      6.5,2,      6.5,2,     6.00,2,    14.10,2,     0.84,2,  7.8410,   -999
      74CD50_1,  ACM8,   010,  1,    204,   -999,19900713,1812, 61.6050, -15.1133, 2157,    407.8,   7.6034,  35.1970,2,  35.1945,2,      6.5,2,      6.5,2,     6.20,2,    14.30,2,     0.85,2,  7.5626,   -999
      74CD50_1,  ACM8,   010,  1,    203,   -999,19900713,1812, 61.6050, -15.1133, 2157,    606.8,   7.5617,  35.2051,2,  35.2040,2,      6.5,2,      6.5,2,     6.00,2,    14.20,2,     0.85,2,  7.5004,   -999
      74CD50_1,  ACM8,   010,  1,    202,   -999,19900713,1812, 61.6050, -15.1133, 2157,    807.5,   7.1991,  35.1610,2,  35.1605,2,      6.5,2,      6.5,2,     6.70,2,    14.80,2,     0.90,2,  7.1188,   -999
      74CD50_1,  ACM8,   010,  1,    201,   -999,19900713,1812, 61.6050, -15.1133, 2157,    998.1,   6.0389,  35.0564,2,  35.0635,2,      5.6,2,      5.5,2,    10.20,2,    18.20,2,     1.11,2,  5.9471,   -999
      74CD50_1,  ACM8,   010,  1,    200,   -999,19900713,1812, 61.6050, -15.1133, 2157,   1200.6,   4.9495,  34.9961,2,  34.9975,2,      5.8,2,      5.8,2,    10.70,2,    18.30,2,     1.12,2,  4.8473,   -999
      74CD50_1,  ACM8,   010,  1,    199,   -999,19900713,1812, 61.6050, -15.1133, 2157,   1392.0,   4.3130,  34.9587,2,  34.9575,2,      6.2,2,      6.2,2,    10.80,2,    17.80,2,     1.11,2,  4.1992,   -999
      74CD50_1,  ACM8,   010,  1,    198,   -999,19900713,1812, 61.6050, -15.1133, 2157,   1585.5,   3.8375,  34.9214,2,  34.9220,2,      6.4,2,      6.4,2,    10.50,2,    17.20,2,     1.08,2,  3.7115,   -999
      74CD50_1,  ACM8,   010,  1,    197,   -999,19900713,1812, 61.6050, -15.1133, 2157,   1784.1,   3.5819,  34.9248,2,  34.9275,2,      6.5,2,      6.5,2,    11.00,2,    17.10,2,     1.08,2,  3.4410,   -999
      74CD50_1,  ACM8,   010,  1,    196,   -999,19900713,1812, 61.6050, -15.1133, 2157,   1985.2,   3.3156,  34.9685,2,  34.9680,2,      6.4,2,      6.5,2,    11.50,2,    16.30,2,     1.03,2,  3.1596,   -999
      74CD50_1,  ACM8,   010,  1,    195,   -999,19900713,1812, 61.6050, -15.1133, 2157,   2162.1,   2.8560,  34.9775,2,  34.9750,2,      6.4,2,      6.5,2,    12.90,2,    16.20,2,     1.04,2,  2.6907,   -999