BOTTLE,20221004CCHSIOAMB
EXPOCODE,SECT_ID,STNNBR,CASTNO,SAMPNO,BTLNBR,DATE,TIME,LATITUDE,LONGITUDE,DEPTH,CTDPRS,CTDTMP,CTDSAL,CTDSAL_FLAG_W,SALNTY,SALNTY_FLAG_W,CTDOXY,CTDOXY_FLAG_W,OXYGEN,OXYGEN_FLAG_W,SILCAT,SILCAT_FLAG_W,NO2+NO3,NO2+NO3_FLAG_W,PHSPHT,PHSPHT_FLAG_W,THETA,CTDRAW
,,,,,,,,,,,DBAR,ITS-90,PSS-78,,PSS-78,,ML/L,,ML/L,,UMOL/L,,UMOL/L,,UMOL/L,,DEG C,
      74CD50_1,  ACM8,   037,  1,    493,   -999,19900718,0415, 64.5267,  -8.3167, 2380,    209.2,   1.0214,  34.8378,2,  34.8390,2,      7.4,2,      7.4,2,     6.00,2,    13.10,2,     0.89,2,  1.0118,   -999
      74CD50_1,  ACM8,   037,  1,    492,   -999,19900718,0415, 64.5267,  -8.3167, 2380,    408.4,   0.2251,  34.8902,2,  34.8900,2,      7.4,2,      7.2,2,     6.30,2,    13.80,2,     0.94,2,  0.2083,   -999
      74CD50_1,  ACM8,   037,  1,    491,   -999,19900718,0415, 64.5267,  -8.3167, 2380,    611.4,  -0.1651,  34.9036,2,  34.9020,2,      7.4,2,      7.0,2,     7.30,2,    14.00,2,     0.95,2, -0.1894,   -999
      74CD50_1,  ACM8,   037,  1,    490,   -999,19900718,0415, 64.5267,  -8.3167, 2380,    810.6,  -0.4787,  34.9064,2,  34.9060,2,      7.5,2,      7.0,2,     8.40,2,    14.20,2,     0.97,2, -0.5103,   -999
      74CD50_1,  ACM8,   037,  1,    489,   -999,19900718,0415, 64.5267,  -8.3167, 2380,   1004.9,  -0.6463,  34.9073,2,  34.9070,2,      7.5,2,      7.0,2,     9.10,2,    14.30,2,     0.99,2, -0.6859,   -999
      74CD50_1,  ACM8,   037,  1,    488,   -999,19900718,0415, 64.5267,  -8.3167, 2380,   1210.8,  -0.7522,  34.9100,2,  34.9090,2,      7.6,2,      7.0,2,    10.30,2,    14.50,2,     0.99,2, -0.8011,   -999
      74CD50_1,  ACM8,   037,  1,    486,   -999,19900718,0415, 64.5267,  -8.3167, 2380,   1408.5,  -0.8114,  34.9089,2,  34.9090,2,      7.6,2,      7.0,2,    10.40,2,    14.60,2,     0.99,2, -0.8701,   -999
      74CD50_1,  ACM8,   037,  1,    487,   -999,19900718,0415, 64.5267,  -8.3167, 2380,   1408.5,  -0.8114,  34.9089,2,  34.9090,2,      7.6,2,      7.0,2,    10.30,2,    14.50,2,     0.99,2, -0.8701,   -999
      74CD50_1,  ACM8,   037,  1,    485,   -999,19900718,0415, 64.5267,  -8.3167, 2380,   1607.3,  -0.8576,  34.9057,2,  34.9090,2,      7.7,2,      7.0,2,    10.90,2,    14.70,2,     1.00,2, -0.9268,   -999
      74CD50_1,  ACM8,   037,  1,    484,   -999,19900718,0415, 64.5267,  -8.3167, 2380,   1804.1,  -0.8824,  34.9098,2,  34.9090,2,      7.7,2,      7.0,2,    10.90,2,    14.70,2,     1.00,2, -0.9629,   -999
      74CD50_1,  ACM8,   037,  1,    483,   -999,19900718,0415, 64.5267,  -8.3167, 2380,   2010.1,  -0.8986,  34.9097,2,  34.9090,2,      7.8,2,      7.0,2,    11.20,2,    14.70,2,     1.01,2, -0.9917,   -999
      74CD50_1,  ACM8,   037,  1,    482,   -999,19900718,0415, 64.5267,  -8.3167, 2380,   2351.2,  -0.9082,  34.9106,2,  34.9085,2,      7.8,2,      7.1,2,    11.50,2,    14.80,2,     1.01,2, -1.0238,   -999
      74CD50_1,  ACM8,   038,  1,    499,   -999,19900718,1840, 64.3683, -12.4550,  243,     17.9,   4.5980,  34.4590,2,  34.4555,2,      7.9,2,      8.2,2,     0.70,2,     1.50,2,     0.16,2,  4.5967,   -999
      74CD50_1,  ACM8,   038,  1,    498,   -999,19900718,1840, 64.3683, -12.4550,  243,     51.3,   5.5097,  34.8175,2,  34.8205,2,      6.9,2,      6.9,2,     4.50,2,     9.90,2,     0.79,2,  5.5056,   -999
      74CD50_1,  ACM8,   038,  1,    497,   -999,19900718,1840, 64.3683, -12.4550,  243,    146.0,   2.1461,  34.6230,2,  34.6235,2,      7.5,2,      7.4,2,     3.30,2,     8.20,2,     0.67,2,  2.1382,   -999
      74CD50_1,  ACM8,   038,  1,    496,   -999,19900718,1840, 64.3683, -12.4550,  243,    147.4,   2.2500,  34.6678,2,  34.6625,2,      7.5,2,      7.4,2,     4.80,2,    10.50,2,     0.79,2,  2.2418,   -999
      74CD50_1,  ACM8,   038,  1,    495,   -999,19900718,1840, 64.3683, -12.4550,  243,    195.0,   0.9303,  34.7222,2,  34.7225,2,      7.4,2,      7.5,2,     6.50,2,    12.80,2,     0.92,2,  0.9216,   -999
      74CD50_1,  ACM8,   038,  1,    494,   -999,19900718,1840, 64.3683, -12.4550,  243,    218.3,   0.8534,  34.7261,2,  34.7255,2,      7.3,2,      7.4,2,     6.60,2,    13.00,2,     0.95,2,  0.8437,   -999
      74CD50_1,  ACM8,   039,  1,    504,   -999,19900718,1947, 64.3217, -12.3117,  465,      7.9,   6.2013,  34.4672,2,  34.4655,2,      7.9,2,      8.0,2,     0.40,2,     1.40,2,     0.14,2,  6.2007,   -999
      74CD50_1,  ACM8,   039,  1,    503,   -999,19900718,1947, 64.3217, -12.3117,  465,     82.9,   7.1297,  35.0595,2,  35.0585,2,      6.2,2,      6.5,2,     5.50,2,    12.30,2,     0.84,2,  7.1219,   -999
      74CD50_1,  ACM8,   039,  1,    502,   -999,19900718,1947, 64.3217, -12.3117,  465,    154.4,   2.6105,  34.5491,2,  34.5495,2,      7.6,2,      7.6,2,     3.10,2,     7.80,2,     0.65,2,  2.6016,   -999
      74CD50_1,  ACM8,   039,  1,    501,   -999,19900718,1947, 64.3217, -12.3117,  465,    249.2,   1.1265,  34.6569,2,  34.6560,2,      7.4,2,      7.4,2,     5.60,2,    11.80,2,     0.87,2,  1.1149,   -999
      74CD50_1,  ACM8,   039,  1,    500,   -999,19900718,1947, 64.3217, -12.3117,  465,    433.9,  -0.0253,  34.8347,2,  34.8325,2,      7.3,2,      7.2,2,     7.10,2,    13.60,2,     0.94,2, -0.0423,   -999
      74CD50_1,  ACM8,   040,  1,    508,   -999,19900718,2057, 64.2700, -12.1750,  446,      6.0,   9.8314,  35.1862,2,  35.1960,2,      7.1,2,      7.0,2,     1.50,2,     5.60,2,     0.42,2,  9.8307,   -999
      74CD50_1,  ACM8,   040,  1,    507,   -999,19900718,2057, 64.2700, -12.1750,  446,    200.5,   7.6850,  35.2207,2,  35.2205,2,      6.2,2,      6.3,2,     6.20,2,    14.20,2,     0.89,2,  7.6651,   -999
      74CD50_1,  ACM8,   040,  1,    506,   -999,19900718,2057, 64.2700, -12.1750,  446,    379.6,   3.4322,  34.9931,2,  34.9930,2,      6.7,2,      6.7,2,     7.90,2,    14.80,2,     0.95,2,  3.4066,   -999
      74CD50_1,  ACM8,   040,  1,    505,   -999,19900718,2057, 64.2700, -12.1750,  446,    432.1,   2.1656,  34.9034,2,  34.9020,2,      6.9,2,      6.9,2,     7.70,2,    14.40,2,     0.97,2,  2.1408,   -999
      74CD50_1,  ACM8,   041,  1,    513,   -999,19900718,2213, 64.2167, -12.0467,  425,      9.7,   9.7243,  35.1550,2,  35.1545,2,      7.0,2,      7.1,2,     1.30,2,     4.40,2,     0.33,2,  9.7232,   -999
      74CD50_1,  ACM8,   041,  1,    512,   -999,19900718,2213, 64.2167, -12.0467,  425,     51.8,   8.3897,  35.2227,2,  35.2235,2,      6.5,2,      6.4,2,     5.00,2,    12.00,2,     0.76,2,  8.3843,   -999
      74CD50_1,  ACM8,   041,  1,    511,   -999,19900718,2213, 64.2167, -12.0467,  425,    289.7,   7.4405,  35.1978,2,  35.1975,2,      6.3,2,      6.4,2,     6.50,2,    14.40,2,     0.90,2,  7.4121,   -999
      74CD50_1,  ACM8,   041,  1,    510,   -999,19900718,2213, 64.2167, -12.0467,  425,    383.2,   4.0340,  35.0295,2,  35.0290,2,      6.5,2,      6.5,2,     8.10,2,    15.00,2,     0.96,2,  4.0063,   -999
      74CD50_1,  ACM8,   041,  1,    509,   -999,19900718,2213, 64.2167, -12.0467,  425,    416.0,   3.7110,  35.0088,2,  35.0090,2,      6.5,2,      6.5,2,     8.00,2,    14.90,2,     0.98,2,  3.6819,   -999
      74CD50_1,  ACM8,   042,  1,    516,   -999,19900718,2319, 64.1667, -11.9100,  383,      6.6,   9.8403,  35.1366,2,  35.1375,2,      7.0,2,      7.0,2,     1.00,2,     4.20,2,     0.34,2,  9.8395,   -999
      74CD50_1,  ACM8,   042,  1,    515,   -999,19900718,2319, 64.1667, -11.9100,  383,    200.3,   7.4170,  35.1928,2,  35.1935,2,      6.3,2,      6.3,2,     6.40,2,    14.50,2,     0.89,2,  7.3976,   -999
      74CD50_1,  ACM8,   042,  1,    514,   -999,19900718,2319, 64.1667, -11.9100,  383,    378.0,   0.9977,  34.8000,2,  34.7985,2,      7.3,2,      7.2,2,     7.00,2,    13.60,2,     0.91,2,  0.9799,   -999
      74CD50_1,  ACM8,   043,  1,    520,   -999,19900719,0147, 64.0233, -12.4117,  490,     10.4,  10.1317,  35.1791,2,  35.1740,2,   -999.0,5,      7.2,2,     1.10,2,     2.90,2,     0.25,2, 10.1305,   -999
      74CD50_1,  ACM8,   043,  1,    519,   -999,19900719,0147, 64.0233, -12.4117,  490,    202.7,   7.7274,  35.2216,2,  35.2220,2,   -999.0,5,      6.3,2,     6.20,2,    14.20,2,     0.87,2,  7.7073,   -999
      74CD50_1,  ACM8,   043,  1,    518,   -999,19900719,0147, 64.0233, -12.4117,  490,    402.2,   6.8470,  35.1422,2,  35.1430,2,   -999.0,5,      6.4,2,     6.50,2,    14.40,2,     0.88,2,  6.8091,   -999
      74CD50_1,  ACM8,   043,  1,    517,   -999,19900719,0147, 64.0233, -12.4117,  490,    471.9,   3.0219,  34.9521,2,  34.9520,2,   -999.0,5,      6.8,2,     7.60,2,    14.50,2,     0.94,2,  2.9914,   -999
      74CD50_1,  ACM8,   044,  1,    521,   -999,19900719,0837, 63.7150, -14.4000,  310,    298.6,   7.5566,  35.2080,2,  35.2080,2,      6.3,2,      6.3,2,     6.40,2,    14.30,2,     0.95,2,  7.5271,   -999
      74CD50_1,  ACM8,   044,  1,    522,   -999,19900719,0837, 63.7150, -14.4000,  310,    298.6,   7.5566,  35.2080,2,  35.2080,2,      6.3,2,      6.3,2,     6.40,2,    14.30,2,     0.93,2,  7.5271,   -999
      74CD50_1,  ACM8,   045,  1,    524,   -999,19900719,0941, 63.7033, -14.3683,  700,    302.7,   7.5974,  35.2099,2,  35.2095,2,      6.4,2,      6.4,2,     6.20,2,    14.30,2,     0.94,2,  7.5673,   -999
      74CD50_1,  ACM8,   045,  1,    525,   -999,19900719,0941, 63.7033, -14.3683,  700,    302.7,   7.5974,  35.2099,2,  35.2100,2,      6.4,2,      6.4,2,     6.30,2,    14.20,2,     0.94,2,  7.5673,   -999
      74CD50_1,  ACM8,   045,  1,    523,   -999,19900719,0941, 63.7033, -14.3683,  700,    691.3,   4.4536,  35.0225,2,  35.0220,2,      6.7,2,      6.6,2,     7.30,2,    14.40,2,     0.96,2,  4.3999,   -999
      74CD50_1,  ACM8,   046,  1,    533,   -999,19900719,1121, 63.6167, -14.2650, 1180,     12.4,  10.3292,  35.1898,2,  35.1855,2,      6.8,2,      6.9,2,     2.60,2,     3.50,2,     0.28,2, 10.3277,   -999
      74CD50_1,  ACM8,   046,  1,    532,   -999,19900719,1121, 63.6167, -14.2650, 1180,     12.5,  10.2294,  35.2341,2,  35.2310,2,      6.8,2,      6.4,2,     6.20,2,    14.10,2,     0.92,2, 10.2280,   -999
      74CD50_1,  ACM8,   046,  1,    531,   -999,19900719,1121, 63.6167, -14.2650, 1180,    153.9,   7.8053,  35.2282,2,  35.2305,2,      6.4,2,      6.4,2,     6.20,2,    14.10,2,     0.91,2,  7.7899,   -999
      74CD50_1,  ACM8,   046,  1,    530,   -999,19900719,1121, 63.6167, -14.2650, 1180,    605.6,   7.3871,  35.1913,2,  35.1910,2,      6.4,2,      6.4,2,     6.60,2,    14.50,2,     0.94,2,  7.3268,   -999
      74CD50_1,  ACM8,   046,  1,    529,   -999,19900719,1121, 63.6167, -14.2650, 1180,    752.3,   6.1274,  35.1226,2,  35.1220,2,      6.3,2,      6.2,2,     7.80,2,    15.30,2,     0.99,2,  6.0589,   -999
      74CD50_1,  ACM8,   046,  1,    528,   -999,19900719,1121, 63.6167, -14.2650, 1180,    858.9,   4.9932,  35.0737,2,  35.0745,2,      6.4,2,      6.3,2,     8.20,2,    15.40,2,     1.01,2,  4.9217,   -999
      74CD50_1,  ACM8,   046,  1,    527,   -999,19900719,1121, 63.6167, -14.2650, 1180,   1003.2,   4.3083,  35.0430,2,  35.0438,2,      6.5,2,      6.7,2,     8.00,2,    14.70,2,     0.98,2,  4.2291,   -999
      74CD50_1,  ACM8,   046,  1,    526,   -999,19900719,1121, 63.6167, -14.2650, 1180,   1186.4,   2.8373,  34.9687,2,  34.9685,2,      6.7,2,      6.7,2,     8.00,2,    14.60,2,     0.98,2,  2.7556,   -999
      74CD50_1,  ACM8,   047,  1,    543,   -999,19900719,1315, 63.5117, -14.1333, 1415,     10.2,  10.6922,  35.2055,2,  35.2020,2,      6.8,2,   -999.0,5,     1.30,2,     3.00,2,     0.26,2, 10.6910,   -999
      74CD50_1,  ACM8,   047,  1,    542,   -999,19900719,1315, 63.5117, -14.1333, 1415,    104.6,   7.9814,  35.2480,2,  35.2470,2,      6.3,2,   -999.0,5,     6.00,2,    14.10,2,     0.94,2,  7.9708,   -999
      74CD50_1,  ACM8,   047,  1,    541,   -999,19900719,1315, 63.5117, -14.1333, 1415,    406.9,   7.7627,  35.2273,2,  35.0320,2,      6.4,2,   -999.0,5,     6.10,2,    14.00,2,     0.91,2,  7.7215,   -999
      74CD50_1,  ACM8,   047,  1,    540,   -999,19900719,1315, 63.5117, -14.1333, 1415,    659.9,   7.4960,  35.1981,2,  35.1995,2,      6.4,2,   -999.0,5,     6.70,2,    14.50,2,     0.95,2,  7.4295,   -999
      74CD50_1,  ACM8,   047,  1,    539,   -999,19900719,1315, 63.5117, -14.1333, 1415,    891.7,   6.1644,  35.1016,2,  35.1020,2,      5.8,2,   -999.0,5,     9.50,2,    16.90,2,     1.10,2,  6.0821,   -999
      74CD50_1,  ACM8,   047,  1,    538,   -999,19900719,1315, 63.5117, -14.1333, 1415,    944.3,   4.8929,  35.0151,2,  35.0150,2,      6.0,2,   -999.0,5,    10.50,2,    17.60,2,     1.19,2,  4.8146,   -999
      74CD50_1,  ACM8,   047,  1,    537,   -999,19900719,1315, 63.5117, -14.1333, 1415,   1065.9,   4.2957,  34.9856,2,  34.9875,2,      6.2,2,   -999.0,5,    10.10,2,    17.00,2,     1.12,2,  4.2113,   -999
      74CD50_1,  ACM8,   047,  1,    536,   -999,19900719,1315, 63.5117, -14.1333, 1415,   1166.6,   3.5476,  34.9991,2,  34.9925,2,      6.4,2,   -999.0,5,     9.60,2,    16.10,2,     1.06,2,  3.4609,   -999
      74CD50_1,  ACM8,   047,  1,    535,   -999,19900719,1315, 63.5117, -14.1333, 1415,   1267.1,   3.3021,  35.0012,2,  35.0040,2,      6.5,2,   -999.0,5,     9.10,2,    15.50,2,     1.02,2,  3.2095,   -999
      74CD50_1,  ACM8,   047,  1,    534,   -999,19900719,1315, 63.5117, -14.1333, 1415,   1412.3,   3.1966,  35.0147,2,  35.0155,2,      6.5,2,   -999.0,5,     8.80,2,    15.20,2,     1.03,2,  3.0929,   -999
      74CD50_1,  ACM8,   048,  1,    551,   -999,19900719,1512, 63.4217, -13.9833, 1337,      7.6,  10.6887,  35.1702,2,  35.1770,2,      6.9,2,      6.7,2,     1.80,2,     2.90,2,     0.28,2, 10.6878,   -999
      74CD50_1,  ACM8,   048,  1,    550,   -999,19900719,1512, 63.4217, -13.9833, 1337,    103.1,   8.1147,  35.2413,2,  35.2360,2,      6.3,2,      6.4,2,     5.80,2,    14.40,2,     0.98,2,  8.1042,   -999
      74CD50_1,  ACM8,   048,  1,    549,   -999,19900719,1512, 63.4217, -13.9833, 1337,    708.0,   7.5019,  35.1996,2,  35.1990,2,      6.3,2,      6.3,2,     6.80,2,    14.50,2,     0.97,2,  7.4303,   -999
      74CD50_1,  ACM8,   048,  1,    548,   -999,19900719,1512, 63.4217, -13.9833, 1337,   1161.8,   4.2601,  34.9696,2,  34.9690,2,      6.2,2,      6.2,2,    10.30,2,    17.30,2,     1.17,2,  4.1676,   -999
      74CD50_1,  ACM8,   048,  1,    547,   -999,19900719,1512, 63.4217, -13.9833, 1337,   1200.5,   3.7399,  34.9963,2,  34.9980,2,      6.4,2,      6.4,2,     9.60,2,    16.30,2,     1.11,2,  3.6487,   -999
      74CD50_1,  ACM8,   048,  1,    546,   -999,19900719,1512, 63.4217, -13.9833, 1337,   1240.6,   3.1678,  34.9796,2,  34.9800,2,      6.5,2,      6.5,2,     9.80,2,    16.00,2,     1.09,2,  3.0787,   -999
      74CD50_1,  ACM8,   048,  1,    545,   -999,19900719,1512, 63.4217, -13.9833, 1337,   1309.6,   2.8464,  35.0002,2,  34.9990,2,      6.6,2,      6.6,2,     8.80,2,    15.10,2,     1.05,2,  2.7548,   -999
      74CD50_1,  ACM8,   048,  1,    544,   -999,19900719,1512, 63.4217, -13.9833, 1337,   1338.0,   2.6186,  34.9952,2,  34.9930,2,      6.7,2,      6.7,2,     8.60,2,    15.00,2,     1.05,2,  2.5271,   -999
      74CD50_1,  ACM8,   049,  1,    558,   -999,19900719,1706, 63.3283, -13.8317, 1305,      7.8,  11.0258,  35.1787,2,  35.1820,2,      6.9,2,      6.9,2,     1.20,2,     1.90,2,     0.22,2, 11.0248,   -999
      74CD50_1,  ACM8,   049,  1,    557,   -999,19900719,1706, 63.3283, -13.8317, 1305,    505.9,   7.6564,  35.2155,2,  35.2130,2,      6.4,2,      6.4,2,     6.30,2,    14.20,2,     0.94,2,  7.6053,   -999
      74CD50_1,  ACM8,   049,  1,    556,   -999,19900719,1706, 63.3283, -13.8317, 1305,   1114.2,   5.1405,  35.0444,2,  35.0430,2,      6.0,2,      6.0,2,     9.80,2,    17.20,2,     1.12,2,  5.0446,   -999
      74CD50_1,  ACM8,   049,  1,    555,   -999,19900719,1706, 63.3283, -13.8317, 1305,   1164.4,   4.2241,  35.0507,2,  35.0510,2,      6.4,2,      6.4,2,     8.40,2,    15.40,2,     1.02,2,  4.1315,   -999
      74CD50_1,  ACM8,   049,  1,    554,   -999,19900719,1706, 63.3283, -13.8317, 1305,   1213.3,   2.8026,  35.0031,2,  35.0020,2,      6.7,2,      6.6,2,     8.60,2,    15.10,2,     1.00,2,  2.7190,   -999
      74CD50_1,  ACM8,   049,  1,    553,   -999,19900719,1706, 63.3283, -13.8317, 1305,   1263.6,   2.2885,  34.9805,2,  34.9810,2,      6.7,2,      6.7,2,     8.30,2,    14.80,2,     0.98,2,  2.2061,   -999
      74CD50_1,  ACM8,   049,  1,    552,   -999,19900719,1706, 63.3283, -13.8317, 1305,   1302.6,   2.2861,  34.9822,2,  34.9810,2,      6.7,2,      6.9,2,     8.40,2,    14.90,2,     0.98,2,  2.2008,   -999
      74CD50_1,  ACM8,   050,  1,    566,   -999,19900719,1903, 63.2350, -13.6867, 1190,     12.4,  11.4981,  35.1392,2,  35.1420,2,      6.5,2,      6.7,2,     1.50,2,     0.60,2,     0.11,2, 11.4966,   -999
      74CD50_1,  ACM8,   050,  1,    565,   -999,19900719,1903, 63.2350, -13.6867, 1190,    257.8,   7.8310,  35.2353,2,  35.2350,2,      6.4,2,      6.4,2,     6.20,2,    13.80,2,     0.85,2,  7.8050,   -999
      74CD50_1,  ACM8,   050,  1,    564,   -999,19900719,1903, 63.2350, -13.6867, 1190,    713.0,   7.4886,  35.1955,2,  35.1960,2,      6.5,2,      6.4,2,     6.60,2,    14.30,2,     0.89,2,  7.4165,   -999
      74CD50_1,  ACM8,   050,  1,    563,   -999,19900719,1903, 63.2350, -13.6867, 1190,    895.2,   6.6747,  35.1262,2,  35.1220,2,      5.8,2,      5.7,2,     9.20,2,    16.90,2,     1.05,2,  6.5887,   -999
      74CD50_1,  ACM8,   050,  1,    562,   -999,19900719,1903, 63.2350, -13.6867, 1190,    949.5,   6.2581,  35.1027,2,  35.1040,2,      5.9,2,      5.7,2,     9.50,2,    17.00,2,     1.07,2,  6.1695,   -999
      74CD50_1,  ACM8,   050,  1,    561,   -999,19900719,1903, 63.2350, -13.6867, 1190,   1128.8,   2.9113,  35.0075,2,  35.0710,2,      6.7,2,      6.3,2,     8.30,2,    15.20,2,     0.97,2,  2.8333,   -999
      74CD50_1,  ACM8,   050,  1,    560,   -999,19900719,1903, 63.2350, -13.6867, 1190,   1147.6,   2.7109,  34.9988,2,  34.9990,2,      6.7,2,      6.8,2,     8.60,2,    14.80,2,     0.97,2,  2.6333,   -999
      74CD50_1,  ACM8,   050,  1,    559,   -999,19900719,1903, 63.2350, -13.6867, 1190,   1198.7,   2.6888,  34.9987,2,  34.9980,2,      6.7,2,   -999.0,5,     8.50,2,    14.80,2,     0.97,2,  2.6075,   -999
      74CD50_1,  ACM8,   051,  1,    573,   -999,19900719,2044, 63.1350, -13.5367, 1005,      9.8,  11.3479,  35.1829,2,  35.1840,2,      6.6,2,      6.7,2,     1.20,2,     1.20,2,     0.16,2, 11.3467,   -999
      74CD50_1,  ACM8,   051,  1,    572,   -999,19900719,2044, 63.1350, -13.5367, 1005,     56.4,   8.2367,  35.2472,2,  35.2460,2,      6.5,2,      6.3,2,     5.20,2,    13.80,2,     0.85,2,  8.2309,   -999
      74CD50_1,  ACM8,   051,  1,    571,   -999,19900719,2044, 63.1350, -13.5367, 1005,    356.3,   7.7872,  35.2300,2,  35.2300,2,      6.5,2,      6.4,2,     6.20,2,    13.90,2,     0.86,2,  7.7512,   -999
      74CD50_1,  ACM8,   051,  1,    570,   -999,19900719,2044, 63.1350, -13.5367, 1005,    778.8,   7.2315,  35.1719,2,  35.1720,2,      6.2,2,      6.1,2,     7.60,2,    15.40,2,     0.95,2,  7.1539,   -999
      74CD50_1,  ACM8,   051,  1,    569,   -999,19900719,2044, 63.1350, -13.5367, 1005,    879.2,   5.5343,  35.1031,2,  35.1030,2,      6.3,2,      6.4,2,     8.30,2,    15.40,2,     0.97,2,  5.4574,   -999
      74CD50_1,  ACM8,   051,  1,    568,   -999,19900719,2044, 63.1350, -13.5367, 1005,    949.5,   3.7008,  35.0239,2,  35.0260,2,      6.5,2,      6.6,2,     8.90,2,    15.40,2,     0.97,2,  3.6307,   -999
      74CD50_1,  ACM8,   051,  1,    567,   -999,19900719,2044, 63.1350, -13.5367, 1005,   1000.5,   3.0343,  35.0107,2,  35.0110,2,      6.6,2,      6.7,2,     8.30,2,    14.90,2,     0.94,2,  2.9652,   -999