BOTTLE,20221004CCHSIOAMB
EXPOCODE,SECT_ID,STNNBR,CASTNO,SAMPNO,BTLNBR,BTLNBR_FLAG_W,DATE,TIME,LATITUDE,LONGITUDE,DEPTH,CTDPRS,CTDTMP,CTDSAL,CTDSAL_FLAG_W,SALNTY,SALNTY_FLAG_W,CTDOXY,CTDOXY_FLAG_W,OXYGEN,OXYGEN_FLAG_W,SILCAT,SILCAT_FLAG_W,NO2+NO3,NO2+NO3_FLAG_W,PHSPHT,PHSPHT_FLAG_W,REVPRS,THETA,CTDRAW,REVTMP
,,,,,,,,,,,,DBAR,ITS-90,PSS-78,,PSS-78,,UMOL/KG,,UMOL/KG,,UMOL/KG,,UMOL/KG,,UMOL/KG,,DBAR,ITS-90,,DEG C
     32WC034_1,  PRS2,     2, 10,     18,     18,2,19920215,0528, 22.7503,-157.9998, 4000,     11.4,  23.0448,  34.9793,2,  34.9786,2,    214.3,2,   -999.0,5,  -999.00,5,  -999.00,5,  -999.00,5,  -999.0, 23.0425,     10,-999.000
     32WC034_1,  PRS2,     2, 10,     17,     17,2,19920215,0528, 22.7503,-157.9998, 4000,     51.5,  23.0174,  35.1478,2,  35.1481,2,    214.0,2,   -999.0,5,  -999.00,5,  -999.00,5,  -999.00,5,  -999.0, 23.0069,     50,-999.000
     32WC034_1,  PRS2,     2, 10,     16,     16,2,19920215,0528, 22.7503,-157.9998, 4000,    162.1,  20.0304,  35.3641,2,  35.3639,2,    204.5,2,    206.5,2,  -999.00,5,  -999.00,5,  -999.00,5,  -999.0, 20.0004,    160,-999.000
     32WC034_1,  PRS2,     2, 10,     15,     15,2,19920215,0528, 22.7503,-157.9998, 4000,    213.7,  19.6132,  35.3112,2,  35.3118,2,    203.3,2,    202.7,2,  -999.00,5,  -999.00,5,  -999.00,5,  -999.0, 19.5741,    212,-999.000
     32WC034_1,  PRS2,     2, 10,     14,     14,2,19920215,0528, 22.7503,-157.9998, 4000,    229.6,  19.2350,  35.2435,2,  35.2439,2,    202.1,2,    204.6,2,     2.64,2,     1.95,2,     0.21,2,  -999.0, 19.1936,    229,-999.000
     32WC034_1,  PRS2,     2, 10,     13,     13,2,19920215,0528, 22.7503,-157.9998, 4000,    239.0,  18.9278,  35.1899,2,  35.1909,2,    202.1,2,    202.3,2,  -999.00,5,  -999.00,5,  -999.00,5,  -999.0, 18.8852,    237,-999.000
     32WC034_1,  PRS2,     2, 10,     12,     12,2,19920215,0528, 22.7503,-157.9998, 4000,    253.1,  18.4437,  35.1038,2,  35.1054,2,    201.2,2,    199.3,2,     2.95,2,     2.40,2,     0.23,2,  -999.0, 18.3994,    251,-999.000
     32WC034_1,  PRS2,     2, 10,     11,     11,2,19920215,0528, 22.7503,-157.9998, 4000,    278.1,  16.1700,  34.7579,2,  34.7556,2,    197.4,2,    197.8,2,     5.23,2,     5.12,2,     0.48,2,  -999.0, 16.1256,    276,-999.000
     32WC034_1,  PRS2,     2, 10,     10,     10,3,19920215,0528, 22.7503,-157.9998, 4000,    301.6,  14.8628,  34.5745,2,  34.5823,2,    196.2,2,    199.5,2,     7.07,2,     7.02,2,     0.56,2,  -999.0, 14.8175,    299,-999.000
     32WC034_1,  PRS2,     2, 10,      9,      9,2,19920215,0528, 22.7503,-157.9998, 4000,    330.8,  12.9509,  34.3598,2,  34.3636,2,    202.1,2,    204.1,2,     9.36,2,     9.46,2,     0.70,2,  -999.0, 12.9055,    328,-999.000
     32WC034_1,  PRS2,     2, 10,      8,      8,2,19920215,0528, 22.7503,-157.9998, 4000,    356.3,  11.4167,  34.2226,2,  34.2221,2,    203.5,2,    187.2,2,    13.08,2,    12.65,2,     0.92,2,  -999.0, 11.3718,    354,-999.000
     32WC034_1,  PRS2,     2, 10,      7,      6,2,19920215,0528, 22.7503,-157.9998, 4000,    402.1,  10.0087,  34.1499,2,  34.1486,2,    184.5,2,    118.5,4,    21.11,2,    17.51,2,     1.27,2,  -999.0,  9.9620,    402,-999.000
     32WC034_1,  PRS2,     2, 10,      6,      7,2,19920215,0528, 22.7503,-157.9998, 4000,    504.9,   7.5503,  34.0937,2,  34.0965,2,    119.6,2,     64.8,4,    44.25,2,    28.48,2,     2.04,2,  -999.0,  7.5006,    503,-999.000
     32WC034_1,  PRS2,     2, 10,      5,     26,2,19920215,0528, 22.7503,-157.9998, 4000,    608.4,   5.8408,  34.1182,2,  34.1172,2,     63.9,2,     42.0,2,    70.20,2,    36.51,2,     2.64,2,  -999.0,  5.7883,    606,-999.000
     32WC034_1,  PRS2,     2, 10,      4,     25,2,19920215,0528, 22.7503,-157.9998, 4000,    704.4,   4.9973,  34.2388,2,  34.2378,2,     38.8,2,     32.9,2,    99.07,4,    41.57,2,     3.00,2,  -999.0,  4.9404,    701,-999.000
     32WC034_1,  PRS2,     2, 10,      3,      3,2,19920215,0528, 22.7503,-157.9998, 4000,    803.9,   4.6113,  34.3578,2,  34.3581,2,     32.1,2,     35.8,2,    99.55,2,    41.75,2,     3.01,2,  -999.0,  4.5480,    802,-999.000
     32WC034_1,  PRS2,     2, 10,      2,      2,2,19920215,0528, 22.7503,-157.9998, 4000,    903.0,   4.3765,  34.4120,2,  34.4122,2,     34.0,2,     41.4,2,   103.97,2,    42.14,2,     3.03,2,  -999.0,  4.3063,    900,-999.000
     32WC034_1,  PRS2,     2, 10,      1,      1,2,19920215,0528, 22.7503,-157.9998, 4000,   1005.5,   4.0371,  34.4652,2,  34.4680,2,     40.4,2,   -999.0,5,   110.79,2,    42.23,2,     3.02,2,  -999.0,  3.9607,   1004,-999.000
     32WC034_1,  PRS2,     2, 11,     13,     13,2,19920215,0832, 22.7532,-157.9925, 4000,     13.6,  23.0195,  35.0157,2,  35.0156,2,    212.2,2,   -999.0,5,  -999.00,5,  -999.00,5,  -999.00,5,  -999.0, 23.0167,     11,-999.000
     32WC034_1,  PRS2,     2, 11,     12,     12,2,19920215,0832, 22.7532,-157.9925, 4000,     53.1,  23.0037,  35.1444,2,  35.1444,2,    213.6,2,   -999.0,5,  -999.00,5,  -999.00,5,  -999.00,5,  -999.0, 22.9928,     50,-999.000
     32WC034_1,  PRS2,     2, 11,     11,     11,2,19920215,0832, 22.7532,-157.9925, 4000,    108.6,  22.8661,  35.1660,2,  35.1655,2,    211.9,2,    213.4,2,  -999.00,5,  -999.00,5,  -999.00,5,  -999.0, 22.8440,    106,-999.000
     32WC034_1,  PRS2,     2, 11,     10,     10,2,19920215,0832, 22.7532,-157.9925, 4000,    118.3,  21.9680,  35.2296,2,  35.2228,2,    206.7,2,    205.0,2,  -999.00,5,  -999.00,5,  -999.00,5,  -999.0, 21.9446,    115,-999.000
     32WC034_1,  PRS2,     2, 11,      9,      9,2,19920215,0832, 22.7532,-157.9925, 4000,    127.4,  21.6503,  35.2548,2,  35.2504,2,    206.8,2,    210.9,2,  -999.00,5,  -999.00,5,  -999.00,5,  -999.0, 21.6254,    126,-999.000
     32WC034_1,  PRS2,     2, 11,      8,      8,2,19920215,0832, 22.7532,-157.9925, 4000,    138.0,  20.9469,  35.3192,2,  35.3160,2,    205.0,2,    209.8,2,     1.72,2,     0.62,2,     0.12,2,  -999.0, 20.9205,    136,-999.000
     32WC034_1,  PRS2,     2, 11,      7,      6,2,19920215,0832, 22.7532,-157.9925, 4000,    153.1,  20.5440,  35.3439,2,  35.3440,2,    205.9,2,    202.9,2,     1.80,2,     0.77,2,     0.13,2,  -999.0, 20.5151,    150,-999.000
     32WC034_1,  PRS2,     2, 11,      6,      7,2,19920215,0832, 22.7532,-157.9925, 4000,    162.3,  20.3320,  35.3533,2,  35.3511,2,    204.6,2,    204.9,2,  -999.00,5,  -999.00,5,  -999.00,5,  -999.0, 20.3016,    160,-999.000
     32WC034_1,  PRS2,     2, 11,      5,     26,2,19920215,0832, 22.7532,-157.9925, 4000,    177.0,  20.1475,  35.3606,2,  35.3601,2,    204.1,2,    203.2,2,     1.78,2,     0.96,2,     0.14,2,  -999.0, 20.1146,    175,-999.000
     32WC034_1,  PRS2,     2, 11,      4,     25,2,19920215,0832, 22.7532,-157.9925, 4000,    187.8,  20.0195,  35.3628,2,  35.3625,2,    203.8,2,    209.3,2,  -999.00,5,  -999.00,5,  -999.00,5,  -999.0, 19.9847,    184,-999.000
     32WC034_1,  PRS2,     2, 11,      3,      3,2,19920215,0832, 22.7532,-157.9925, 4000,    204.8,  19.8977,  35.3583,2,  35.3605,2,    203.4,2,    203.3,2,     1.88,2,     1.13,2,     0.14,2,  -999.0, 19.8599,    200,-999.000
     32WC034_1,  PRS2,     2, 11,      2,      2,2,19920215,0832, 22.7532,-157.9925, 4000,    503.8,   7.7787,  34.0907,2,  34.0912,2,    128.1,2,   -999.0,5,  -999.00,5,  -999.00,5,  -999.00,5,  -999.0,  7.7282,    502,-999.000
     32WC034_1,  PRS2,     2, 11,      1,      1,2,19920215,0832, 22.7532,-157.9925, 4000,   1004.4,   3.9431,  34.4728,2,  34.4731,2,     41.7,2,   -999.0,5,  -999.00,5,  -999.00,5,  -999.00,5,  -999.0,  3.8676,   1003,-999.000
     32WC034_1,  PRS2,     2, 12,     17,     17,2,19920215,1135, 22.7522,-157.9978, 4000,      5.6,  22.9832,  35.0230,2,  35.0206,2,    214.0,2,    213.2,2,     1.90,2,     0.00,2,     0.09,2,  -999.0, 22.9821,      3,-999.000
     32WC034_1,  PRS2,     2, 12,     18,     18,2,19920215,1135, 22.7522,-157.9978, 4000,      5.7,  22.9818,  35.0225,2,-999.0000,5,    214.0,2,   -999.0,5,  -999.00,5,  -999.00,5,  -999.00,5,  -999.0, 22.9807,      4,-999.000
     32WC034_1,  PRS2,     2, 12,     16,     16,2,19920215,1135, 22.7522,-157.9978, 4000,     16.0,  22.9908,  35.0291,2,  35.0270,2,    213.9,2,    214.9,2,  -999.00,5,  -999.00,5,  -999.00,5,  -999.0, 22.9875,     13,-999.000
     32WC034_1,  PRS2,     2, 12,     14,     14,2,19920215,1135, 22.7522,-157.9978, 4000,     29.9,  23.0100,  35.1176,2,  35.0623,3,    213.4,3,    213.4,2,     1.87,2,     0.00,2,     0.07,2,  -999.0, 23.0039,     28,-999.000
     32WC034_1,  PRS2,     2, 12,     15,     15,2,19920215,1135, 22.7522,-157.9978, 4000,     31.3,  23.0116,  35.1340,2,-999.0000,5,    213.4,2,   -999.0,5,  -999.00,5,  -999.00,5,  -999.00,5,  -999.0, 23.0052,     28,-999.000
     32WC034_1,  PRS2,     2, 12,     13,     13,2,19920215,1135, 22.7522,-157.9978, 4000,     37.6,  23.0126,  35.1413,2,  35.1404,2,    213.0,2,    221.0,2,     1.80,2,     0.00,2,     0.07,2,  -999.0, 23.0049,     34,-999.000
     32WC034_1,  PRS2,     2, 12,     12,     12,3,19920215,1135, 22.7522,-157.9978, 4000,     47.8,  23.0095,  35.1440,2,-999.0000,5,    213.2,2,    210.4,2,  -999.00,5,  -999.00,5,  -999.00,5,  -999.0, 22.9998,     44,-999.000
     32WC034_1,  PRS2,     2, 12,     11,     11,2,19920215,1135, 22.7522,-157.9978, 4000,     63.9,  22.9903,  35.1501,2,  35.1536,2,    212.9,2,    215.7,2,     1.94,2,     0.00,2,     0.07,2,  -999.0, 22.9772,     62,-999.000
     32WC034_1,  PRS2,     2, 12,     10,     10,2,19920215,1135, 22.7522,-157.9978, 4000,     77.3,  22.9947,  35.1538,2,  35.1544,2,    213.2,2,    209.9,2,     1.67,2,     0.00,2,     0.07,2,  -999.0, 22.9789,     75,-999.000
     32WC034_1,  PRS2,     2, 12,      9,      9,2,19920215,1135, 22.7522,-157.9978, 4000,     85.0,  22.9909,  35.1527,2,  35.1560,2,    212.9,2,    211.9,2,     1.61,2,     0.01,2,     0.12,2,  -999.0, 22.9736,     84,-999.000
     32WC034_1,  PRS2,     2, 12,      8,      8,2,19920215,1135, 22.7522,-157.9978, 4000,     91.8,  22.9902,  35.1519,2,-999.0000,5,    213.0,2,    212.5,2,  -999.00,5,  -999.00,5,  -999.00,5,  -999.0, 22.9714,     89,-999.000
     32WC034_1,  PRS2,     2, 12,      7,      6,2,19920215,1135, 22.7522,-157.9978, 4000,     92.5,  22.9900,  35.1516,2,-999.0000,5,    213.0,2,   -999.0,5,     1.46,2,     0.01,2,     0.07,2,  -999.0, 22.9711,     90,-999.000
     32WC034_1,  PRS2,     2, 12,      6,      7,2,19920215,1135, 22.7522,-157.9978, 4000,     93.2,  22.9898,  35.1510,2,  35.1093,4,    213.0,3,   -999.0,5,  -999.00,5,  -999.00,5,  -999.00,5,  -999.0, 22.9708,     90,-999.000
     32WC034_1,  PRS2,     2, 12,      5,     26,2,19920215,1135, 22.7522,-157.9978, 4000,    154.8,  20.5245,  35.3444,2,  35.3448,2,    205.7,2,   -999.0,5,  -999.00,5,  -999.00,5,  -999.00,5,  -999.0, 20.4953,    152,-999.000
     32WC034_1,  PRS2,     2, 12,      4,     25,2,19920215,1135, 22.7522,-157.9978, 4000,    174.1,  20.1733,  35.3583,2,  35.3595,2,    204.5,2,   -999.0,5,  -999.00,5,  -999.00,5,  -999.00,5,  -999.0, 20.1408,    173,-999.000
     32WC034_1,  PRS2,     2, 12,      3,      3,2,19920215,1135, 22.7522,-157.9978, 4000,    200.6,  19.9573,  35.3628,2,  35.3651,2,    203.9,2,   -999.0,5,  -999.00,5,  -999.00,5,  -999.00,5,  -999.0, 19.9202,    200,-999.000
     32WC034_1,  PRS2,     2, 12,      2,      2,2,19920215,1135, 22.7522,-157.9978, 4000,    500.7,   8.1216,  34.1166,2,  34.1170,2,    128.0,2,   -999.0,5,  -999.00,5,  -999.00,5,  -999.00,5,  -999.0,  8.0701,    500,-999.000
     32WC034_1,  PRS2,     2, 12,      1,      1,2,19920215,1135, 22.7522,-157.9978, 4000,   1001.3,   3.8274,  34.4842,2,  34.4868,2,     43.3,2,   -999.0,5,  -999.00,5,  -999.00,5,  -999.00,5,  -999.0,  3.7530,    998,-999.000
     32WC034_1,  PRS2,     2, 13,     15,     15,2,19920215,1515, 22.7600,-158.0022, 4710,      7.3,  22.9783,  35.0762,2,  35.0770,2,    215.1,1,   -999.0,9,  -999.00,9,  -999.00,9,  -999.00,9,  -999.0, 22.9768,      6,-999.000
     32WC034_1,  PRS2,     2, 13,     13,     13,2,19920215,1515, 22.7600,-158.0022, 4710,     27.7,  22.9879,  35.0839,2,  35.0784,2,    215.0,1,   -999.0,9,  -999.00,9,  -999.00,9,  -999.00,9,  -999.0, 22.9822,     26,-999.000
     32WC034_1,  PRS2,     2, 13,     14,     14,2,19920215,1515, 22.7600,-158.0022, 4710,     27.8,  22.9880,  35.0841,2,-999.0000,5,    215.0,1,   -999.0,9,  -999.00,9,  -999.00,9,  -999.00,9,  -999.0, 22.9823,     27,-999.000
     32WC034_1,  PRS2,     2, 13,     12,     12,2,19920215,1515, 22.7600,-158.0022, 4710,     27.9,  22.9857,  35.0821,2,  35.0904,2,    215.0,1,   -999.0,9,  -999.00,9,  -999.00,9,  -999.00,9,  -999.0, 22.9800,     26,-999.000
     32WC034_1,  PRS2,     2, 13,     11,     11,2,19920215,1515, 22.7600,-158.0022, 4710,     52.9,  22.9945,  35.1535,2,  35.1570,2,    214.3,1,   -999.0,9,  -999.00,9,  -999.00,9,  -999.00,9,  -999.0, 22.9837,     52,-999.000
     32WC034_1,  PRS2,     2, 13,     10,     10,2,19920215,1515, 22.7600,-158.0022, 4710,     78.4,  22.9952,  35.1525,2,  35.1532,2,    213.9,1,   -999.0,9,  -999.00,9,  -999.00,9,  -999.00,9,  -999.0, 22.9792,     77,-999.000
     32WC034_1,  PRS2,     2, 13,      9,      9,2,19920215,1515, 22.7600,-158.0022, 4710,     88.9,  22.9767,  35.1526,2,  35.1531,2,    213.3,1,   -999.0,9,  -999.00,9,  -999.00,9,  -999.00,9,  -999.0, 22.9586,     87,-999.000
     32WC034_1,  PRS2,     2, 13,      8,      8,2,19920215,1515, 22.7600,-158.0022, 4710,     98.7,  22.5101,  35.1920,2,  35.1950,2,    209.1,1,   -999.0,9,  -999.00,9,  -999.00,9,  -999.00,9,  -999.0, 22.4902,     98,-999.000
     32WC034_1,  PRS2,     2, 13,      7,      6,2,19920215,1515, 22.7600,-158.0022, 4710,    103.6,  21.5523,  35.2635,2,  35.2513,2,    206.2,1,   -999.0,9,  -999.00,9,  -999.00,9,  -999.00,9,  -999.0, 21.5321,    101,-999.000
     32WC034_1,  PRS2,     2, 13,      6,      7,2,19920215,1515, 22.7600,-158.0022, 4710,    108.1,  21.4460,  35.2708,2,  34.5799,4,    207.7,1,   -999.0,9,  -999.00,9,  -999.00,9,  -999.00,9,  -999.0, 21.4250,    107,-999.000
     32WC034_1,  PRS2,     2, 13,      5,     26,2,19920215,1515, 22.7600,-158.0022, 4710,    115.9,  21.3709,  35.2777,2,  35.2764,2,    207.5,1,   -999.0,9,  -999.00,9,  -999.00,9,  -999.00,9,  -999.0, 21.3485,    114,-999.000
     32WC034_1,  PRS2,     2, 13,      4,     25,2,19920215,1515, 22.7600,-158.0022, 4710,    147.4,  20.3540,  35.3519,2,  35.3522,2,    205.7,1,   -999.0,9,  -999.00,9,  -999.00,9,  -999.00,9,  -999.0, 20.3264,    147,-999.000
     32WC034_1,  PRS2,     2, 13,      3,      3,2,19920215,1515, 22.7600,-158.0022, 4710,    203.4,  19.9151,  35.3591,2,  35.3623,2,    204.5,1,   -999.0,9,  -999.00,9,  -999.00,9,  -999.00,9,  -999.0, 19.8775,    201,-999.000
     32WC034_1,  PRS2,     2, 13,      2,      2,2,19920215,1515, 22.7600,-158.0022, 4710,    523.5,   6.9764,  34.1343,2,  34.1314,2,     88.6,1,   -999.0,9,  -999.00,9,  -999.00,9,  -999.00,9,  -999.0,  6.9270,    520,-999.000
     32WC034_1,  PRS2,     2, 13,      1,      1,2,19920215,1515, 22.7600,-158.0022, 4710,   1024.8,   3.8572,  34.4817,2,  34.4819,2,     43.2,1,   -999.0,9,  -999.00,9,  -999.00,9,  -999.00,9,  -999.0,  3.7807,   1024,-999.000