BOTTLE,20221004CCHSIOAMB
# Extracted rows missing a pressure into residual file, while there is CTDRAW value, there is a big offset between the raw and reported pressure in some places
#BOTTLE,20020812WHPSIOKJU
#code : jjward hyd_to_exchange.pl 
#original files copied from HTML directory: 20020812
#original HYD file: hot34.sea   Mon Aug 12 12:31:47 2002
#original SUM file: hot34.sum   Mon Aug 12 12:29:49 2002
EXPOCODE,SECT_ID,STNNBR,CASTNO,SAMPNO,BTLNBR,BTLNBR_FLAG_W,DATE,TIME,LATITUDE,LONGITUDE,DEPTH,CTDPRS,CTDTMP,CTDSAL,CTDSAL_FLAG_W,SALNTY,SALNTY_FLAG_W,CTDOXY,CTDOXY_FLAG_W,OXYGEN,OXYGEN_FLAG_W,SILCAT,SILCAT_FLAG_W,NO2+NO3,NO2+NO3_FLAG_W,PHSPHT,PHSPHT_FLAG_W,REVPRS,THETA,CTDRAW,REVTMP
,,,,,,,,,,,,DBAR,ITS-90,PSS-78,,PSS-78,,UMOL/KG,,UMOL/KG,,UMOL/KG,,UMOL/KG,,UMOL/KG,,DBAR,ITS-90,,DEG C
     32WC034_1,  PRS2,     1,  1,     20,     20,2,19920213,0145, 21.3443,-158.2738, 1500,      2.4,  23.7659,  34.9351,2,-999.0000,5,    210.6,2,   -999.0,5,  -999.00,5,  -999.00,5,  -999.00,5,  -999.0, 23.7655,      4,-999.000
     32WC034_1,  PRS2,     1,  1,     19,     19,2,19920213,0145, 21.3443,-158.2738, 1500,     22.3,  23.7762,  34.9348,2,  34.9338,2,    210.8,2,    211.2,2,     1.09,2,     0.01,2,     0.09,2,  -999.0, 23.7716,     24,-999.000
     32WC034_1,  PRS2,     1,  1,     18,     18,2,19920213,0145, 21.3443,-158.2738, 1500,     22.9,  23.7764,  34.9348,2,  34.9340,2,    210.9,2,    211.2,2,     1.06,2,     0.01,2,     0.09,2,  -999.0, 23.7716,     25,-999.000
     32WC034_1,  PRS2,     1,  1,     17,     17,2,19920213,0145, 21.3443,-158.2738, 1500,     43.4,  23.7814,  34.9341,2,  34.9332,2,    211.1,2,    211.0,2,     1.25,2,     0.01,2,     0.10,2,  -999.0, 23.7724,     46,-999.000
     32WC034_1,  PRS2,     1,  1,     16,     16,2,19920213,0145, 21.3443,-158.2738, 1500,     58.5,  23.7755,  34.9407,2,  34.9391,2,    212.1,2,    211.1,2,     1.30,2,     0.01,2,     0.09,2,  -999.0, 23.7633,     61,-999.000
     32WC034_1,  PRS2,     1,  1,     15,     15,2,19920213,0145, 21.3443,-158.2738, 1500,     73.9,  23.7839,  34.9667,2,  34.9678,2,    211.6,2,    211.0,2,     1.42,2,     0.02,2,     0.09,2,  -999.0, 23.7684,     76,-999.000
     32WC034_1,  PRS2,     1,  1,     14,     14,2,19920213,0145, 21.3443,-158.2738, 1500,     94.5,  23.7625,  34.9622,2,  34.9643,2,    211.0,2,    212.1,2,     1.36,2,     0.02,2,     0.09,2,  -999.0, 23.7428,     96,-999.000
     32WC034_1,  PRS2,     1,  1,     13,     13,2,19920213,0145, 21.3443,-158.2738, 1500,    104.4,  23.6837,  34.9758,2,  34.7800,4,    210.7,3,    209.8,2,     1.38,2,     0.02,2,     0.09,2,  -999.0, 23.6619,    106,-999.000
     32WC034_1,  PRS2,     1,  1,     12,     12,2,19920213,0145, 21.3443,-158.2738, 1500,    115.0,  22.5365,  35.1021,2,  35.1017,2,    203.8,2,    203.7,2,     1.82,2,     0.37,2,     0.14,2,  -999.0, 22.5133,    118,-999.000
     32WC034_1,  PRS2,     1,  1,     11,     11,2,19920213,0145, 21.3443,-158.2738, 1500,    123.9,  22.0419,  35.1046,2,  35.1050,2,    200.9,2,    201.7,2,     1.99,2,     0.65,2,     0.16,2,  -999.0, 22.0174,    126,-999.000
     32WC034_1,  PRS2,     1,  1,     10,     10,2,19920213,0145, 21.3443,-158.2738, 1500,    148.7,  20.3868,  35.1065,2,  35.1076,2,    193.8,2,    195.7,2,     2.47,2,     1.71,2,     0.22,2,  -999.0, 20.3589,    151,-999.000
     32WC034_1,  PRS2,     1,  1,      9,      9,2,19920213,0145, 21.3443,-158.2738, 1500,    174.3,  17.6700,  34.8748,2,  34.8750,2,    188.8,2,    187.9,2,     4.55,2,     4.57,2,     0.41,2,  -999.0, 17.6405,    176,-999.000
     32WC034_1,  PRS2,     1,  1,      8,      8,2,19920213,0145, 21.3443,-158.2738, 1500,    199.8,  16.2052,  34.7189,2,  34.7226,2,    189.3,2,    189.2,2,     6.27,2,     6.02,2,     0.51,2,  -999.0, 16.1734,    201,-999.000
     32WC034_1,  PRS2,     1,  1,      7,      6,2,19920213,0145, 21.3443,-158.2738, 1500,    222.5,  15.6210,  34.6474,2,  34.6467,2,    189.8,2,    188.7,2,     6.84,2,     6.89,2,     0.57,2,  -999.0, 15.5864,    224,-999.000
     32WC034_1,  PRS2,     1,  1,      6,      7,2,19920213,0145, 21.3443,-158.2738, 1500,    249.6,  13.6006,  34.4236,2,  34.4231,2,    184.6,2,    186.8,2,    10.12,2,    10.02,2,     0.79,2,  -999.0, 13.5653,    252,-999.000
     32WC034_1,  PRS2,     1,  1,      5,     26,2,19920213,0145, 21.3443,-158.2738, 1500,    297.6,  11.2039,  34.2252,2,  34.2257,2,    175.0,2,    177.1,2,    17.13,2,    15.35,2,     1.16,2,  -999.0, 11.1669,    300,-999.000
     32WC034_1,  PRS2,     1,  1,      4,     25,2,19920213,0145, 21.3443,-158.2738, 1500,    399.9,   8.3004,  34.1352,2,  34.1333,2,    125.0,2,    124.6,2,    45.02,3,    26.03,2,     1.92,2,  -999.0,  8.2590,    402,-999.000
     32WC034_1,  PRS2,     1,  1,      3,      3,2,19920213,0145, 21.3443,-158.2738, 1500,    496.5,   7.0839,  34.1527,2,  34.1512,2,     87.6,2,     84.9,2,    54.10,2,    31.55,2,     2.35,2,  -999.0,  7.0367,    497,-999.000
     32WC034_1,  PRS2,     1,  1,      2,      2,2,19920213,0145, 21.3443,-158.2738, 1500,    747.6,   5.2067,  34.3732,2,  34.3722,2,     34.1,2,     33.3,2,    87.55,2,    40.23,2,     2.97,2,  -999.0,  5.1448,    750,-999.000
     32WC034_1,  PRS2,     1,  1,      1,      1,2,19920213,0145, 21.3443,-158.2738, 1500,   1000.1,   4.4351,  34.4798,2,  34.4800,2,     36.8,2,     39.7,2,   102.23,2,    41.57,2,     3.02,2,  -999.0,  4.3561,   1001,-999.000
     32WC034_1,  PRS2,     2,  2,     20,     20,2,19920213,2020, 22.7645,-157.9715, 4725,   1193.7,   3.4749,  34.5274,2,  34.5267,2,   -999.0,5,     53.3,2,   122.31,2,    41.58,2,     2.95,2,  -999.0,  3.3877,   1195,-999.000
     32WC034_1,  PRS2,     2,  2,     19,     19,2,19920213,2020, 22.7645,-157.9715, 4725,   1386.4,   3.0931,  34.5543,2,  34.5554,2,   -999.0,5,     61.3,2,   130.76,2,    41.76,2,     2.95,2,  -999.0,  2.9937,   1389,-999.000
     32WC034_1,  PRS2,     2,  2,     18,     18,2,19920213,2020, 22.7645,-157.9715, 4725,   1587.3,   2.7099,  34.5779,2,  34.5797,2,   -999.0,5,     72.6,2,   137.56,2,    41.02,2,     2.89,2,  -999.0,  2.5982,   1590,-999.000
     32WC034_1,  PRS2,     2,  2,     17,     17,2,19920213,2020, 22.7645,-157.9715, 4725,   1774.6,   2.3817,  34.5989,2,  34.5978,2,   -999.0,5,     78.7,2,   146.37,2,    40.83,2,     2.86,2,  -999.0,  2.2587,   1777,-999.000
     32WC034_1,  PRS2,     2,  2,     16,     16,2,19920213,2020, 22.7645,-157.9715, 4725,   1973.1,   2.1501,  34.6135,2,  34.6120,2,   -999.0,5,     84.9,2,   151.72,2,    40.44,2,     2.84,2,  -999.0,  2.0137,   1977,-999.000
     32WC034_1,  PRS2,     2,  4,     23,     23,2,19920214,0908, 22.7480,-158.0043, 4000,     14.3,  23.0475,  35.1376,2,  35.1367,2,    213.4,2,    212.4,2,     1.94,2,    -0.01,2,     0.08,2,  -999.0, 23.0446,     12,-999.000
     32WC034_1,  PRS2,     2,  4,     22,     22,2,19920214,0908, 22.7480,-158.0043, 4000,     54.6,  23.0609,  35.1424,2,  35.1418,2,    214.1,2,    212.9,2,     1.79,2,    -0.01,2,     0.07,2,  -999.0, 23.0498,     53,-999.000
     32WC034_1,  PRS2,     2,  4,     21,     21,2,19920214,0908, 22.7480,-158.0043, 4000,     82.2,  23.0690,  35.1449,2,  35.1450,2,    214.4,2,    212.5,2,     1.88,2,    -0.01,2,     0.07,2,  -999.0, 23.0522,     80,-999.000
     32WC034_1,  PRS2,     2,  4,     20,     20,2,19920214,0908, 22.7480,-158.0043, 4000,    115.1,  21.5332,  35.2658,2,  35.2677,2,    206.3,2,    207.5,2,     3.31,4,     0.44,2,     0.12,2,  -999.0, 21.5108,    114,-999.000
     32WC034_1,  PRS2,     2,  4,     19,     19,2,19920214,0908, 22.7480,-158.0043, 4000,    131.9,  20.6767,  35.3333,2,  35.3308,2,    206.9,2,    206.8,2,     2.12,2,     0.68,2,     0.13,2,  -999.0, 20.6517,    129,-999.000
     32WC034_1,  PRS2,     2,  4,     18,     18,2,19920214,0908, 22.7480,-158.0043, 4000,    200.2,  19.8969,  35.3584,2,  35.3601,2,    206.1,2,    204.0,2,     2.23,2,     1.10,2,     0.14,2,  -999.0, 19.8599,    197,-999.000
     32WC034_1,  PRS2,     2,  4,     17,     17,2,19920214,0908, 22.7480,-158.0043, 4000,    239.1,  19.3483,  35.2624,2,  35.2661,2,    204.5,2,    203.2,2,     3.15,2,     1.50,2,     0.17,2,  -999.0, 19.3050,    239,-999.000
     32WC034_1,  PRS2,     2,  4,     16,     16,2,19920214,0908, 22.7480,-158.0043, 4000,    342.5,  13.5322,  34.4123,2,  34.4132,2,    198.3,2,    201.8,2,     8.77,2,     8.52,2,     0.64,2,  -999.0, 13.4838,    340,-999.000
     32WC034_1,  PRS2,     2,  4,     15,     15,2,19920214,0908, 22.7480,-158.0043, 4000,    375.6,  11.6112,  34.2370,2,-999.0000,5,    204.6,2,    203.0,2,    12.87,2,    12.38,2,     0.90,2,  -999.0, 11.5633,    374,-999.000
     32WC034_1,  PRS2,     2,  4,     14,     14,2,19920214,0908, 22.7480,-158.0043, 4000,    401.2,  10.3927,  34.1597,2,  34.1598,2,    194.8,2,    192.1,2,    18.46,2,    16.57,2,     1.17,2,  -999.0, 10.3450,    400,-999.000
     32WC034_1,  PRS2,     2,  4,     13,     13,2,19920214,0908, 22.7480,-158.0043, 4000,    407.8,  10.2218,  34.1554,2,  34.1537,2,    192.1,2,    187.9,2,    19.60,2,    16.94,2,     1.22,2,  -999.0, 10.1738,    407,-999.000
     32WC034_1,  PRS2,     2,  4,     12,     12,2,19920214,0908, 22.7480,-158.0043, 4000,    456.7,   8.9649,  34.1156,2,  34.1141,2,    176.6,2,    160.4,2,    29.55,2,    22.14,2,     1.60,2,  -999.0,  8.9152,    454,-999.000
     32WC034_1,  PRS2,     2,  4,     11,     11,2,19920214,0908, 22.7480,-158.0043, 4000,    517.5,   7.7896,  34.1079,2,  34.1069,2,    121.3,2,    116.9,2,    43.04,2,    28.36,2,     2.04,2,  -999.0,  7.7376,    515,-999.000
     32WC034_1,  PRS2,     2,  4,     10,     10,3,19920214,0908, 22.7480,-158.0043, 4000,    578.2,   6.6868,  34.1149,2,  34.1125,2,     90.1,2,     80.9,2,    57.44,2,    33.40,2,     2.42,2,  -999.0,  6.6333,    577,-999.000
     32WC034_1,  PRS2,     2,  4,      9,      9,4,19920214,0908, 22.7480,-158.0043, 4000,    640.3,   5.4534,  34.1491,2,-999.0000,5,     55.9,2,   -999.0,5,  -999.00,5,  -999.00,5,  -999.00,5,  -999.0,  5.3998,    638,-999.000
     32WC034_1,  PRS2,     2,  4,      8,      8,2,19920214,0908, 22.7480,-158.0043, 4000,    696.8,   4.9522,  34.2386,2,  34.2368,2,     41.0,2,     36.0,2,    89.84,2,    40.52,2,     2.92,2,  -999.0,  4.8963,    695,-999.000
     32WC034_1,  PRS2,     2,  4,      7,      6,2,19920214,0908, 22.7480,-158.0043, 4000,    748.9,   4.8163,  34.2962,2,  34.2929,2,     35.0,2,     32.4,2,    93.83,2,    41.23,2,     2.98,2,  -999.0,  4.7566,    746,-999.000
     32WC034_1,  PRS2,     2,  4,      6,      7,2,19920214,0908, 22.7480,-158.0043, 4000,    779.9,   4.6075,  34.3524,2,  34.3924,4,     33.3,3,     37.9,4,   103.00,4,    41.60,2,     3.00,2,  -999.0,  4.5463,    779,-999.000
     32WC034_1,  PRS2,     2,  4,      5,     26,2,19920214,0908, 22.7480,-158.0043, 4000,    800.8,   4.5320,  34.3691,2,  34.3689,2,     34.1,2,     32.1,2,   100.94,2,    41.88,2,     3.05,2,  -999.0,  4.4695,    798,-999.000
     32WC034_1,  PRS2,     2,  4,      4,     25,2,19920214,0908, 22.7480,-158.0043, 4000,    849.2,   4.3900,  34.4076,2,  34.4067,2,     35.2,2,     33.9,2,   103.42,2,    41.99,2,     3.03,2,  -999.0,  4.3243,    849,-999.000
     32WC034_1,  PRS2,     2,  4,      3,      3,2,19920214,0908, 22.7480,-158.0043, 4000,    883.5,   4.3065,  34.4272,2,  34.4279,2,     36.6,2,     36.4,2,   105.65,2,    42.63,3,     3.03,2,  -999.0,  4.2384,    881,-999.000
     32WC034_1,  PRS2,     2,  4,      2,      2,2,19920214,0908, 22.7480,-158.0043, 4000,    976.3,   3.9517,  34.4705,2,  34.4910,4,     42.8,3,     43.1,2,   112.58,2,    42.24,2,     3.02,2,  -999.0,  3.8784,    975,-999.000
     32WC034_1,  PRS2,     2,  4,      1,      1,2,19920214,0908, 22.7480,-158.0043, 4000,   1056.7,   3.7401,  34.4917,2,  34.4908,2,     46.5,2,     46.3,2,   116.73,2,    42.06,2,     3.01,2,  -999.0,  3.6618,   1056,-999.000
     32WC034_1,  PRS2,     2,  5,     24,     27,2,19920214,1310, 22.7588,-157.9912, 4000,      3.1,  22.9056,  34.9031,2,-999.0000,5,    211.0,1,   -999.0,9,  -999.00,9,  -999.00,9,  -999.00,9,  -999.0, 22.9050,      2,-999.000
     32WC034_1,  PRS2,     2,  5,     23,     23,2,19920214,1310, 22.7588,-157.9912, 4000,     11.6,  23.0132,  35.0810,2,  35.0788,2,    210.9,1,   -999.0,9,  -999.00,9,  -999.00,9,  -999.00,9,  -999.0, 23.0108,      9,-999.000
     32WC034_1,  PRS2,     2,  5,     22,     22,2,19920214,1310, 22.7588,-157.9912, 4000,     21.3,  23.0509,  35.1408,2,  35.1389,2,    212.3,1,   -999.0,9,  -999.00,9,  -999.00,9,  -999.00,9,  -999.0, 23.0466,     21,-999.000
     32WC034_1,  PRS2,     2,  5,     21,     21,2,19920214,1310, 22.7588,-157.9912, 4000,     31.8,  23.0524,  35.1415,2,  35.1401,2,    212.1,1,   -999.0,9,  -999.00,9,  -999.00,9,  -999.00,9,  -999.0, 23.0459,     31,-999.000
     32WC034_1,  PRS2,     2,  5,     20,     20,2,19920214,1310, 22.7588,-157.9912, 4000,     41.5,  23.0595,  35.1460,2,  35.1446,2,    212.3,1,   -999.0,9,  -999.00,9,  -999.00,9,  -999.00,9,  -999.0, 23.0510,     39,-999.000
     32WC034_1,  PRS2,     2,  5,     19,     19,2,19920214,1310, 22.7588,-157.9912, 4000,     51.9,  23.0581,  35.1441,2,  35.1432,2,    212.3,1,   -999.0,9,  -999.00,9,  -999.00,9,  -999.00,9,  -999.0, 23.0475,     52,-999.000
     32WC034_1,  PRS2,     2,  5,     18,     18,2,19920214,1310, 22.7588,-157.9912, 4000,     61.1,  23.0611,  35.1460,2,-999.0000,5,    212.2,1,   -999.0,9,  -999.00,9,  -999.00,9,  -999.00,9,  -999.0, 23.0486,     59,-999.000
     32WC034_1,  PRS2,     2,  5,     17,     17,2,19920214,1310, 22.7588,-157.9912, 4000,     71.9,  23.0643,  35.1467,2,  35.1469,2,    212.2,1,   -999.0,9,  -999.00,9,  -999.00,9,  -999.00,9,  -999.0, 23.0496,     70,-999.000
     32WC034_1,  PRS2,     2,  5,     16,     16,2,19920214,1310, 22.7588,-157.9912, 4000,     82.1,  23.0648,  35.1468,2,  35.1473,2,    212.6,1,   -999.0,9,  -999.00,9,  -999.00,9,  -999.00,9,  -999.0, 23.0481,     80,-999.000
     32WC034_1,  PRS2,     2,  5,     15,     15,2,19920214,1310, 22.7588,-157.9912, 4000,     92.6,  23.0664,  35.1472,2,  35.1479,2,    212.5,1,   -999.0,9,  -999.00,9,  -999.00,9,  -999.00,9,  -999.0, 23.0474,     90,-999.000
     32WC034_1,  PRS2,     2,  5,     14,     14,2,19920214,1310, 22.7588,-157.9912, 4000,    102.9,  23.0651,  35.1470,2,  35.1477,2,    212.5,1,   -999.0,9,  -999.00,9,  -999.00,9,  -999.00,9,  -999.0, 23.0441,    101,-999.000
     32WC034_1,  PRS2,     2,  5,     13,     13,2,19920214,1310, 22.7588,-157.9912, 4000,    112.8,  23.0518,  35.1436,2,  35.1446,2,    212.4,1,   -999.0,9,  -999.00,9,  -999.00,9,  -999.00,9,  -999.0, 23.0287,    111,-999.000
     32WC034_1,  PRS2,     2,  5,     12,     12,2,19920214,1310, 22.7588,-157.9912, 4000,    122.4,  22.9481,  35.1610,2,  35.1572,2,    211.8,1,   -999.0,9,  -999.00,9,  -999.00,9,  -999.00,9,  -999.0, 22.9232,    120,-999.000
     32WC034_1,  PRS2,     2,  5,     11,     11,2,19920214,1310, 22.7588,-157.9912, 4000,    131.9,  21.4233,  35.2708,2,  35.2703,2,    207.2,1,   -999.0,9,  -999.00,9,  -999.00,9,  -999.00,9,  -999.0, 21.3977,    131,-999.000
     32WC034_1,  PRS2,     2,  5,     10,     10,2,19920214,1310, 22.7588,-157.9912, 4000,    161.9,  20.4866,  35.3453,2,  35.3487,2,    206.0,1,   -999.0,9,  -999.00,9,  -999.00,9,  -999.00,9,  -999.0, 20.4561,    163,-999.000
     32WC034_1,  PRS2,     2,  5,      9,      9,2,19920214,1310, 22.7588,-157.9912, 4000,    343.1,  12.8222,  34.3448,2,  34.3439,2,    199.7,1,   -999.0,9,  -999.00,9,  -999.00,9,  -999.00,9,  -999.0, 12.7755,    344,-999.000
     32WC034_1,  PRS2,     2,  5,      8,      8,2,19920214,1310, 22.7588,-157.9912, 4000,    374.6,  11.8052,  34.2535,2,  34.2543,2,    201.9,1,   -999.0,9,  -999.00,9,  -999.00,9,  -999.00,9,  -999.0, 11.7569,    374,-999.000
     32WC034_1,  PRS2,     2,  5,      7,      6,2,19920214,1310, 22.7588,-157.9912, 4000,    403.9,  10.3248,  34.1590,2,  34.1561,2,    190.2,1,   -999.0,9,  -999.00,9,  -999.00,9,  -999.00,9,  -999.0, 10.2769,    403,-999.000
     32WC034_1,  PRS2,     2,  5,      6,      7,2,19920214,1310, 22.7588,-157.9912, 4000,    444.7,   9.5655,  34.1345,2,  34.1337,2,    174.6,1,   -999.0,9,  -999.00,9,  -999.00,9,  -999.00,9,  -999.0,  9.5152,    443,-999.000
     32WC034_1,  PRS2,     2,  5,      5,     26,2,19920214,1310, 22.7588,-157.9912, 4000,    586.7,   6.4804,  34.1803,2,  34.1753,2,     61.5,1,   -999.0,9,  -999.00,9,  -999.00,9,  -999.00,9,  -999.0,  6.4270,    584,-999.000
     32WC034_1,  PRS2,     2,  5,      4,     25,2,19920214,1310, 22.7588,-157.9912, 4000,    611.1,   6.1271,  34.1890,2,-999.0000,5,     52.8,1,   -999.0,9,  -999.00,9,  -999.00,9,  -999.00,9,  -999.0,  6.0730,    608,-999.000
     32WC034_1,  PRS2,     2,  5,      3,      3,2,19920214,1310, 22.7588,-157.9912, 4000,    633.7,   5.5528,  34.1573,2,-999.0000,5,     55.5,1,   -999.0,9,  -999.00,9,  -999.00,9,  -999.00,9,  -999.0,  5.4994,    633,-999.000
     32WC034_1,  PRS2,     2,  5,      2,      2,2,19920214,1310, 22.7588,-157.9912, 4000,    656.9,   5.3011,  34.1901,2,  34.1919,2,     47.0,1,   -999.0,9,  -999.00,9,  -999.00,9,  -999.00,9,  -999.0,  5.2468,    656,-999.000
     32WC034_1,  PRS2,     2,  5,      1,      1,2,19920214,1310, 22.7588,-157.9912, 4000,   1009.1,   3.9483,  34.4715,2,-999.0000,5,     42.7,1,   -999.0,9,  -999.00,9,  -999.00,9,  -999.00,9,  -999.0,  3.8723,   1006,-999.000