BOTTLE,20221004CCHSIOAMB
EXPOCODE,SECT_ID,STNNBR,CASTNO,SAMPNO,BTLNBR,BTLNBR_FLAG_W,DATE,TIME,LATITUDE,LONGITUDE,DEPTH,CTDPRS,CTDTMP,CTDSAL,CTDSAL_FLAG_W,SALNTY,SALNTY_FLAG_W,CTDOXY,CTDOXY_FLAG_W,OXYGEN,OXYGEN_FLAG_W,SILCAT,SILCAT_FLAG_W,NO2+NO3,NO2+NO3_FLAG_W,PHSPHT,PHSPHT_FLAG_W,REVPRS,THETA,CTDRAW,REVTMP
,,,,,,,,,,,,DBAR,ITS-90,PSS-78,,PSS-78,,UMOL/KG,,UMOL/KG,,UMOL/KG,,UMOL/KG,,UMOL/KG,,DBAR,ITS-90,,DEG C
     32WC034_1,  PRS2,     2,  6,     23,     23,2,19920214,1714, 22.7610,-157.9713, 4660,     27.2,  23.0481,  35.1374,2,  35.1357,2,    211.2,1,   -999.0,9,  -999.00,9,  -999.00,9,  -999.00,9,  -999.0, 23.0425,     30,-999.000
     32WC034_1,  PRS2,     2,  6,     22,     22,2,19920214,1714, 22.7610,-157.9713, 4660,     47.4,  23.0548,  35.1399,2,  35.1401,2,    211.1,1,   -999.0,9,  -999.00,9,  -999.00,9,  -999.00,9,  -999.0, 23.0451,     50,-999.000
     32WC034_1,  PRS2,     2,  6,     21,     21,2,19920214,1714, 22.7610,-157.9713, 4660,     78.1,  23.0582,  35.1445,2,  35.1432,2,    211.4,1,   -999.0,9,  -999.00,9,  -999.00,9,  -999.00,9,  -999.0, 23.0422,     81,-999.000
     32WC034_1,  PRS2,     2,  6,     20,     20,2,19920214,1714, 22.7610,-157.9713, 4660,     83.5,  23.0559,  35.1441,2,  35.1430,2,    211.5,1,   -999.0,9,  -999.00,9,  -999.00,9,  -999.00,9,  -999.0, 23.0388,     85,-999.000
     32WC034_1,  PRS2,     2,  6,     19,     19,2,19920214,1714, 22.7610,-157.9713, 4660,    103.7,  23.0184,  35.1497,2,  35.1552,2,    210.8,1,   -999.0,9,  -999.00,9,  -999.00,9,  -999.00,9,  -999.0, 22.9972,    107,-999.000
     32WC034_1,  PRS2,     2,  6,     18,     18,4,19920214,1714, 22.7610,-157.9713, 4660,    124.3,  21.0117,  35.3161,2,-999.0000,5,    205.2,1,   -999.0,9,  -999.00,9,  -999.00,9,  -999.00,9,  -999.0, 20.9879,    127,-999.000
     32WC034_1,  PRS2,     2,  6,     17,     17,2,19920214,1714, 22.7610,-157.9713, 4660,    129.0,  20.8379,  35.3272,2,  35.3254,2,    205.2,1,   -999.0,9,  -999.00,9,  -999.00,9,  -999.00,9,  -999.0, 20.8134,    130,-999.000
     32WC034_1,  PRS2,     2,  6,     16,     16,2,19920214,1714, 22.7610,-157.9713, 4660,    134.2,  20.7467,  35.3342,2,  35.3361,2,    205.3,1,   -999.0,9,  -999.00,9,  -999.00,9,  -999.00,9,  -999.0, 20.7212,    136,-999.000
     32WC034_1,  PRS2,     2,  6,     15,     15,2,19920214,1714, 22.7610,-157.9713, 4660,    139.0,  20.5097,  35.3473,2,  35.3440,2,    204.8,1,   -999.0,9,  -999.00,9,  -999.00,9,  -999.00,9,  -999.0, 20.4835,    141,-999.000
     32WC034_1,  PRS2,     2,  6,     14,     14,4,19920214,1714, 22.7610,-157.9713, 4660,    144.1,  20.4768,  35.3490,2,  35.3463,2,    205.0,1,   -999.0,9,  -999.00,9,  -999.00,9,  -999.00,9,  -999.0, 20.4497,    145,-999.000
     32WC034_1,  PRS2,     2,  6,     13,     13,2,19920214,1714, 22.7610,-157.9713, 4660,    154.4,  20.2969,  35.3551,2,  35.3534,2,    204.0,1,   -999.0,9,  -999.00,9,  -999.00,9,  -999.00,9,  -999.0, 20.2680,    156,-999.000
     32WC034_1,  PRS2,     2,  6,     12,     12,2,19920214,1714, 22.7610,-157.9713, 4660,    154.6,  20.2932,  35.3553,2,  35.3538,2,    204.0,1,   -999.0,9,  -999.00,9,  -999.00,9,  -999.00,9,  -999.0, 20.2643,    157,-999.000
     32WC034_1,  PRS2,     2,  6,     11,     11,2,19920214,1714, 22.7610,-157.9713, 4660,    164.4,  20.1995,  35.3598,2,  35.3572,2,    204.1,1,   -999.0,9,  -999.00,9,  -999.00,9,  -999.00,9,  -999.0, 20.1689,    168,-999.000
     32WC034_1,  PRS2,     2,  6,     10,     10,3,19920214,1714, 22.7610,-157.9713, 4660,    174.7,  20.0627,  35.3640,2,  35.3611,2,    203.2,1,   -999.0,9,  -999.00,9,  -999.00,9,  -999.00,9,  -999.0, 20.0303,    178,-999.000
     32WC034_1,  PRS2,     2,  6,      9,      9,3,19920214,1714, 22.7610,-157.9713, 4660,    179.6,  20.0331,  35.3645,2,-999.0000,5,    203.5,1,   -999.0,9,  -999.00,9,  -999.00,9,  -999.00,9,  -999.0, 19.9998,    181,-999.000
     32WC034_1,  PRS2,     2,  6,      8,      8,2,19920214,1714, 22.7610,-157.9713, 4660,    184.8,  19.9845,  35.3647,2,-999.0000,5,    203.3,1,   -999.0,9,  -999.00,9,  -999.00,9,  -999.00,9,  -999.0, 19.9503,    187,-999.000
     32WC034_1,  PRS2,     2,  6,      7,      6,2,19920214,1714, 22.7610,-157.9713, 4660,    194.6,  19.9141,  35.3635,2,  35.3625,2,    203.3,1,   -999.0,9,  -999.00,9,  -999.00,9,  -999.00,9,  -999.0, 19.8781,    198,-999.000
     32WC034_1,  PRS2,     2,  6,      6,      7,2,19920214,1714, 22.7610,-157.9713, 4660,    204.2,  19.8530,  35.3547,2,  35.3542,2,    203.1,1,   -999.0,9,  -999.00,9,  -999.00,9,  -999.00,9,  -999.0, 19.8154,    206,-999.000
     32WC034_1,  PRS2,     2,  6,      5,     26,2,19920214,1714, 22.7610,-157.9713, 4660,    255.7,  18.2357,  35.0751,2,  35.0798,2,    199.1,1,   -999.0,9,  -999.00,9,  -999.00,9,  -999.00,9,  -999.0, 18.1913,    256,-999.000
     32WC034_1,  PRS2,     2,  6,      4,     25,2,19920214,1714, 22.7610,-157.9713, 4660,    510.5,   7.1161,  34.1245,2,  34.1218,2,     96.7,1,   -999.0,9,  -999.00,9,  -999.00,9,  -999.00,9,  -999.0,  7.0674,    512,-999.000
     32WC034_1,  PRS2,     2,  6,      3,      3,2,19920214,1714, 22.7610,-157.9713, 4660,    779.5,   4.7989,  34.2936,2,  34.2945,2,     34.1,1,   -999.0,9,  -999.00,9,  -999.00,9,  -999.00,9,  -999.0,  4.7367,    782,-999.000
     32WC034_1,  PRS2,     2,  6,      2,      2,2,19920214,1714, 22.7610,-157.9713, 4660,    779.5,   4.7989,  34.2936,2,-999.0000,5,     34.1,1,   -999.0,9,  -999.00,9,  -999.00,9,  -999.00,9,  -999.0,  4.7367,    782,-999.000
     32WC034_1,  PRS2,     2,  6,      1,      1,2,19920214,1714, 22.7610,-157.9713, 4660,   1018.0,   3.9268,  34.4761,2,  34.4754,2,     43.4,1,   -999.0,9,  -999.00,9,  -999.00,9,  -999.00,9,  -999.0,  3.8502,   1019,-999.000
     32WC034_1,  PRS2,     2,  7,     23,     23,2,19920214,1949, 22.7670,-157.9702, 4710,      8.8,  23.0020,  35.0176,2,  35.0375,3,    208.0,1,   -999.0,9,  -999.00,9,  -999.00,9,  -999.00,9,  -999.0, 23.0002,      8,-999.000
     32WC034_1,  PRS2,     2,  7,     22,     22,2,19920214,1949, 22.7670,-157.9702, 4710,     29.3,  23.0540,  35.1313,2,  35.1304,2,    208.6,1,   -999.0,9,  -999.00,9,  -999.00,9,  -999.00,9,  -999.0, 23.0480,     28,-999.000
     32WC034_1,  PRS2,     2,  7,     21,     21,2,19920214,1949, 22.7670,-157.9702, 4710,     48.4,  23.0555,  35.1329,2,  35.1326,2,    209.5,1,   -999.0,9,  -999.00,9,  -999.00,9,  -999.00,9,  -999.0, 23.0456,     47,-999.000
     32WC034_1,  PRS2,     2,  7,     20,     20,2,19920214,1949, 22.7670,-157.9702, 4710,     78.2,  23.0574,  35.1396,2,  35.1393,2,    210.9,1,   -999.0,9,  -999.00,9,  -999.00,9,  -999.00,9,  -999.0, 23.0414,     76,-999.000
     32WC034_1,  PRS2,     2,  7,     18,     18,2,19920214,1949, 22.7670,-157.9702, 4710,    103.8,  22.9327,  35.1551,2,  35.1509,2,    210.1,1,   -999.0,9,  -999.00,9,  -999.00,9,  -999.00,9,  -999.0, 22.9116,    102,-999.000
     32WC034_1,  PRS2,     2,  7,     19,     19,2,19920214,1949, 22.7670,-157.9702, 4710,    104.0,  22.9925,  35.1483,2,  35.1493,2,    210.7,1,   -999.0,9,  -999.00,9,  -999.00,9,  -999.00,9,  -999.0, 22.9713,    101,-999.000
     32WC034_1,  PRS2,     2,  7,     17,     17,2,19920214,1949, 22.7670,-157.9702, 4710,    127.1,  20.5856,  35.3429,2,  35.3353,2,    204.7,1,   -999.0,9,  -999.00,9,  -999.00,9,  -999.00,9,  -999.0, 20.5616,    126,-999.000
     32WC034_1,  PRS2,     2,  7,     16,     16,2,19920214,1949, 22.7670,-157.9702, 4710,    151.4,  20.2292,  35.3589,2,  35.3560,2,    203.6,1,   -999.0,9,  -999.00,9,  -999.00,9,  -999.00,9,  -999.0, 20.2010,    149,-999.000
     32WC034_1,  PRS2,     2,  7,     15,     15,2,19920214,1949, 22.7670,-157.9702, 4710,    172.3,  20.0043,  35.3627,2,  35.3627,2,    203.2,1,   -999.0,9,  -999.00,9,  -999.00,9,  -999.00,9,  -999.0, 19.9724,    170,-999.000
     32WC034_1,  PRS2,     2,  7,     14,     14,2,19920214,1949, 22.7670,-157.9702, 4710,    177.0,  19.9667,  35.3628,2,  35.3641,2,    203.2,1,   -999.0,9,  -999.00,9,  -999.00,9,  -999.00,9,  -999.0, 19.9339,    175,-999.000
     32WC034_1,  PRS2,     2,  7,     13,     13,2,19920214,1949, 22.7670,-157.9702, 4710,    186.8,  19.8985,  35.3593,2,  35.3617,2,    203.0,1,   -999.0,9,  -999.00,9,  -999.00,9,  -999.00,9,  -999.0, 19.8640,    186,-999.000
     32WC034_1,  PRS2,     2,  7,     11,     11,2,19920214,1949, 22.7670,-157.9702, 4710,    249.4,  17.9815,  35.0317,2,  35.0562,3,    197.6,1,   -999.0,9,  -999.00,9,  -999.00,9,  -999.00,9,  -999.0, 17.9386,    249,-999.000
     32WC034_1,  PRS2,     2,  7,     12,     12,2,19920214,1949, 22.7670,-157.9702, 4710,    249.6,  18.0639,  35.0411,2,  35.0583,2,    198.0,1,   -999.0,9,  -999.00,9,  -999.00,9,  -999.00,9,  -999.0, 18.0209,    248,-999.000
     32WC034_1,  PRS2,     2,  7,     10,     10,2,19920214,1949, 22.7670,-157.9702, 4710,    299.1,  13.9072,  34.4518,2,  34.4747,3,    188.7,1,   -999.0,9,  -999.00,9,  -999.00,9,  -999.00,9,  -999.0, 13.8642,    297,-999.000
     32WC034_1,  PRS2,     2,  7,      9,      9,2,19920214,1949, 22.7670,-157.9702, 4710,    349.5,  11.7726,  34.2526,2,  34.2547,2,    200.9,1,   -999.0,9,  -999.00,9,  -999.00,9,  -999.00,9,  -999.0, 11.7276,    348,-999.000
     32WC034_1,  PRS2,     2,  7,      8,      8,2,19920214,1949, 22.7670,-157.9702, 4710,    398.9,   9.9896,  34.1500,2,  34.1504,2,    184.5,1,   -999.0,9,  -999.00,9,  -999.00,9,  -999.00,9,  -999.0,  9.9433,    397,-999.000
     32WC034_1,  PRS2,     2,  7,      7,      6,2,19920214,1949, 22.7670,-157.9702, 4710,    437.7,   8.8732,  34.1246,2,  34.1247,2,    154.4,1,   -999.0,9,  -999.00,9,  -999.00,9,  -999.00,9,  -999.0,  8.8260,    435,-999.000
     32WC034_1,  PRS2,     2,  7,      6,      7,2,19920214,1949, 22.7670,-157.9702, 4710,    479.7,   8.0133,  34.1144,2,  34.1151,2,    128.1,1,   -999.0,9,  -999.00,9,  -999.00,9,  -999.00,9,  -999.0,  7.9644,    479,-999.000
     32WC034_1,  PRS2,     2,  7,      5,     26,2,19920214,1949, 22.7670,-157.9702, 4710,    498.5,   7.4442,  34.0870,2,  34.0878,2,    119.7,1,   -999.0,9,  -999.00,9,  -999.00,9,  -999.00,9,  -999.0,  7.3955,    496,-999.000
     32WC034_1,  PRS2,     2,  7,      4,     25,2,19920214,1949, 22.7670,-157.9702, 4710,    498.6,   7.4169,  34.0867,2,  34.0914,2,    119.4,1,   -999.0,9,  -999.00,9,  -999.00,9,  -999.00,9,  -999.0,  7.3683,    497,-999.000
     32WC034_1,  PRS2,     2,  7,      3,      3,2,19920214,1949, 22.7670,-157.9702, 4710,    601.3,   6.3606,  34.1938,2,  34.1962,2,     51.6,1,   -999.0,9,  -999.00,9,  -999.00,9,  -999.00,9,  -999.0,  6.3063,    600,-999.000
     32WC034_1,  PRS2,     2,  7,      2,      2,2,19920214,1949, 22.7670,-157.9702, 4710,    755.5,   4.9069,  34.2611,2,-999.0000,5,     36.1,1,   -999.0,9,  -999.00,9,  -999.00,9,  -999.00,9,  -999.0,  4.8461,    754,-999.000
     32WC034_1,  PRS2,     2,  7,      1,      1,2,19920214,1949, 22.7670,-157.9702, 4710,   1007.4,   3.9169,  34.4721,2,  34.4772,2,     42.8,1,   -999.0,9,  -999.00,9,  -999.00,9,  -999.00,9,  -999.0,  3.8414,   1007,-999.000
     32WC034_1,  PRS2,     2,  8,     20,     20,2,19920214,2245, 22.7717,-157.9785, 4750,      6.8,  23.0611,  34.9660,2,  34.9621,2,    211.8,1,   -999.0,9,  -999.00,9,  -999.00,9,  -999.00,9,  -999.0, 23.0597,      6,-999.000
     32WC034_1,  PRS2,     2,  8,     19,     19,2,19920214,2245, 22.7717,-157.9785, 4750,     25.9,  23.0672,  35.1308,2,  35.1318,2,    211.7,1,   -999.0,9,  -999.00,9,  -999.00,9,  -999.00,9,  -999.0, 23.0619,     24,-999.000
     32WC034_1,  PRS2,     2,  8,     18,     18,2,19920214,2245, 22.7717,-157.9785, 4750,     45.8,  23.0612,  35.1310,2,  35.1316,2,    212.6,1,   -999.0,9,  -999.00,9,  -999.00,9,  -999.00,9,  -999.0, 23.0518,     45,-999.000
     32WC034_1,  PRS2,     2,  8,     17,     17,2,19920214,2245, 22.7717,-157.9785, 4750,     75.5,  23.0601,  35.1313,2,  35.1341,2,    212.4,1,   -999.0,9,  -999.00,9,  -999.00,9,  -999.00,9,  -999.0, 23.0447,     74,-999.000
     32WC034_1,  PRS2,     2,  8,     16,     16,2,19920214,2245, 22.7717,-157.9785, 4750,    101.6,  23.0559,  35.1397,2,  35.1424,2,    211.7,1,   -999.0,9,  -999.00,9,  -999.00,9,  -999.00,9,  -999.0, 23.0352,    100,-999.000
     32WC034_1,  PRS2,     2,  8,     15,     15,2,19920214,2245, 22.7717,-157.9785, 4750,    127.0,  21.4778,  35.2682,2,  35.2691,2,    206.3,1,   -999.0,9,  -999.00,9,  -999.00,9,  -999.00,9,  -999.0, 21.4531,    126,-999.000
     32WC034_1,  PRS2,     2,  8,     14,     14,2,19920214,2245, 22.7717,-157.9785, 4750,    149.6,  20.4660,  35.3468,2,  35.3469,2,    205.4,1,   -999.0,9,  -999.00,9,  -999.00,9,  -999.00,9,  -999.0, 20.4378,    148,-999.000
     32WC034_1,  PRS2,     2,  8,     13,     13,2,19920214,2245, 22.7717,-157.9785, 4750,    174.7,  19.9879,  35.3615,2,-999.0000,5,    203.8,1,   -999.0,9,  -999.00,9,  -999.00,9,  -999.00,9,  -999.0, 19.9556,    173,-999.000
     32WC034_1,  PRS2,     2,  8,     12,     12,2,19920214,2245, 22.7717,-157.9785, 4750,    174.7,  19.9769,  35.3617,2,  35.3647,2,    203.8,1,   -999.0,9,  -999.00,9,  -999.00,9,  -999.00,9,  -999.0, 19.9445,    173,-999.000
     32WC034_1,  PRS2,     2,  8,     11,     11,2,19920214,2245, 22.7717,-157.9785, 4750,    220.3,  19.6808,  35.3227,2,  35.3278,2,    203.1,1,   -999.0,9,  -999.00,9,  -999.00,9,  -999.00,9,  -999.0, 19.6405,    220,-999.000
     32WC034_1,  PRS2,     2,  8,     10,     10,2,19920214,2245, 22.7717,-157.9785, 4750,    245.7,  18.9148,  35.1873,2,-999.0000,5,    201.3,1,   -999.0,9,  -999.00,9,  -999.00,9,  -999.00,9,  -999.0, 18.8710,    245,-999.000
     32WC034_1,  PRS2,     2,  8,      3,      3,2,19920214,2245, 22.7717,-157.9785, 4750,    500.4,   7.5205,  34.0933,2,  34.0941,2,    119.9,1,   -999.0,9,  -999.00,9,  -999.00,9,  -999.00,9,  -999.0,  7.4714,    499,-999.000
     32WC034_1,  PRS2,     2,  8,      4,     25,2,19920214,2245, 22.7717,-157.9785, 4750,    500.5,   7.5184,  34.0928,2,  34.0947,2,    120.0,1,   -999.0,9,  -999.00,9,  -999.00,9,  -999.00,9,  -999.0,  7.4693,    499,-999.000
     32WC034_1,  PRS2,     2,  8,      6,      7,2,19920214,2245, 22.7717,-157.9785, 4750,    500.7,   7.4774,  34.0909,2,-999.0000,5,    120.3,1,   -999.0,9,  -999.00,9,  -999.00,9,  -999.00,9,  -999.0,  7.4284,    500,-999.000
     32WC034_1,  PRS2,     2,  8,      5,     26,2,19920214,2245, 22.7717,-157.9785, 4750,    500.8,   7.4991,  34.0919,2,-999.0000,5,    120.1,1,   -999.0,9,  -999.00,9,  -999.00,9,  -999.00,9,  -999.0,  7.4500,    499,-999.000
     32WC034_1,  PRS2,     2,  8,      7,      6,2,19920214,2245, 22.7717,-157.9785, 4750,    501.5,   7.4630,  34.0904,2,-999.0000,5,    120.4,1,   -999.0,9,  -999.00,9,  -999.00,9,  -999.00,9,  -999.0,  7.4140,    500,-999.000
     32WC034_1,  PRS2,     2,  8,      8,      8,2,19920214,2245, 22.7717,-157.9785, 4750,    501.8,   7.4614,  34.0903,2,-999.0000,5,    120.5,1,   -999.0,9,  -999.00,9,  -999.00,9,  -999.00,9,  -999.0,  7.4124,    501,-999.000
     32WC034_1,  PRS2,     2,  8,      9,      9,2,19920214,2245, 22.7717,-157.9785, 4750,    501.9,   7.4537,  34.0901,2,  34.0908,2,    120.7,1,   -999.0,9,  -999.00,9,  -999.00,9,  -999.00,9,  -999.0,  7.4046,    500,-999.000
     32WC034_1,  PRS2,     2,  8,      2,      2,2,19920214,2245, 22.7717,-157.9785, 4750,    748.8,   4.8167,  34.2821,2,  34.2837,2,     35.0,1,   -999.0,9,  -999.00,9,  -999.00,9,  -999.00,9,  -999.0,  4.7570,    747,-999.000
     32WC034_1,  PRS2,     2,  8,      1,      1,2,19920214,2245, 22.7717,-157.9785, 4750,   1022.8,   3.8630,  34.4768,2,  34.4798,2,     44.8,1,   -999.0,9,  -999.00,9,  -999.00,9,  -999.00,9,  -999.0,  3.7865,   1021,-999.000
     32WC034_1,  PRS2,     2,  9,     18,     18,2,19920215,0140, 22.7785,-157.9783, 4000,      6.5,  23.0843,  35.0303,2,  35.0544,4,    214.1,1,   -999.0,9,  -999.00,9,  -999.00,9,  -999.00,9,  -999.0, 23.0830,      5,-999.000
     32WC034_1,  PRS2,     2,  9,     17,     17,2,19920215,0140, 22.7785,-157.9783, 4000,     52.2,  23.0641,  35.1336,2,  35.1324,2,    215.0,1,   -999.0,9,  -999.00,9,  -999.00,9,  -999.00,9,  -999.0, 23.0534,     50,-999.000
     32WC034_1,  PRS2,     2,  9,     16,     16,2,19920215,0140, 22.7785,-157.9783, 4000,     77.8,  23.0618,  35.1337,2,  35.1326,2,    214.7,1,   -999.0,9,  -999.00,9,  -999.00,9,  -999.00,9,  -999.0, 23.0459,     76,-999.000
     32WC034_1,  PRS2,     2,  9,     15,     15,2,19920215,0140, 22.7785,-157.9783, 4000,    103.6,  22.9959,  35.1407,2,  35.1391,2,    213.7,1,   -999.0,9,  -999.00,9,  -999.00,9,  -999.00,9,  -999.0, 22.9747,    101,-999.000
     32WC034_1,  PRS2,     2,  9,     14,     14,2,19920215,0140, 22.7785,-157.9783, 4000,    113.3,  22.3739,  35.2010,2,  35.1985,2,    210.6,1,   -999.0,9,  -999.00,9,  -999.00,9,  -999.00,9,  -999.0, 22.3512,    113,-999.000
     32WC034_1,  PRS2,     2,  9,     13,     13,2,19920215,0140, 22.7785,-157.9783, 4000,    123.5,  22.0928,  35.2396,2,  35.2397,2,    209.3,1,   -999.0,9,  -999.00,9,  -999.00,9,  -999.00,9,  -999.0, 22.0683,    121,-999.000
     32WC034_1,  PRS2,     2,  9,     12,     12,2,19920215,0140, 22.7785,-157.9783, 4000,    134.1,  21.1000,  35.3074,2,-999.0000,5,    208.7,1,   -999.0,9,  -999.00,9,  -999.00,9,  -999.00,9,  -999.0, 21.0742,    133,-999.000
     32WC034_1,  PRS2,     2,  9,     11,     11,2,19920215,0140, 22.7785,-157.9783, 4000,    134.1,  21.0837,  35.3078,2,-999.0000,5,    208.6,1,   -999.0,9,  -999.00,9,  -999.00,9,  -999.00,9,  -999.0, 21.0579,    131,-999.000
     32WC034_1,  PRS2,     2,  9,     10,     10,2,19920215,0140, 22.7785,-157.9783, 4000,    134.1,  21.0616,  35.3119,2,  35.3079,2,    208.6,1,   -999.0,9,  -999.00,9,  -999.00,9,  -999.00,9,  -999.0, 21.0358,    133,-999.000
     32WC034_1,  PRS2,     2,  9,      9,      9,2,19920215,0140, 22.7785,-157.9783, 4000,    139.1,  20.6676,  35.3358,2,-999.0000,5,    207.7,1,   -999.0,9,  -999.00,9,  -999.00,9,  -999.00,9,  -999.0, 20.6413,    137,-999.000
     32WC034_1,  PRS2,     2,  9,      8,      8,2,19920215,0140, 22.7785,-157.9783, 4000,    144.1,  20.5551,  35.3433,2,  35.3422,2,    207.4,1,   -999.0,9,  -999.00,9,  -999.00,9,  -999.00,9,  -999.0, 20.5279,    143,-999.000
     32WC034_1,  PRS2,     2,  9,      7,      6,2,19920215,0140, 22.7785,-157.9783, 4000,    149.0,  20.4636,  35.3476,2,  35.3459,2,    207.1,1,   -999.0,9,  -999.00,9,  -999.00,9,  -999.00,9,  -999.0, 20.4355,    148,-999.000
     32WC034_1,  PRS2,     2,  9,      6,      7,2,19920215,0140, 22.7785,-157.9783, 4000,    158.9,  20.3273,  35.3534,2,  35.3540,2,    206.5,1,   -999.0,9,  -999.00,9,  -999.00,9,  -999.00,9,  -999.0, 20.2975,    157,-999.000
     32WC034_1,  PRS2,     2,  9,      5,     26,2,19920215,0140, 22.7785,-157.9783, 4000,    168.9,  20.1581,  35.3583,2,  35.3590,2,    205.5,1,   -999.0,9,  -999.00,9,  -999.00,9,  -999.00,9,  -999.0, 20.1266,    167,-999.000
     32WC034_1,  PRS2,     2,  9,      4,     25,2,19920215,0140, 22.7785,-157.9783, 4000,    178.9,  20.0788,  35.3607,2,  35.3607,2,    205.2,1,   -999.0,9,  -999.00,9,  -999.00,9,  -999.00,9,  -999.0, 20.0456,    178,-999.000
     32WC034_1,  PRS2,     2,  9,      3,      3,2,19920215,0140, 22.7785,-157.9783, 4000,    204.0,  19.7958,  35.3429,2,  35.3438,2,    204.5,1,   -999.0,9,  -999.00,9,  -999.00,9,  -999.00,9,  -999.0, 19.7583,    204,-999.000
     32WC034_1,  PRS2,     2,  9,      2,      2,2,19920215,0140, 22.7785,-157.9783, 4000,    502.2,   7.6031,  34.0905,2,  34.0914,2,    123.5,1,   -999.0,9,  -999.00,9,  -999.00,9,  -999.00,9,  -999.0,  7.5535,    500,-999.000
     32WC034_1,  PRS2,     2,  9,      1,      1,2,19920215,0140, 22.7785,-157.9783, 4000,   1004.6,   3.9702,  34.4680,2,  34.4694,2,     40.6,1,   -999.0,9,  -999.00,9,  -999.00,9,  -999.00,9,  -999.0,  3.8945,   1002,-999.000