BOTTLE,20221004CCHSIOAMB
EXPOCODE,SECT_ID,STNNBR,CASTNO,SAMPNO,BTLNBR,BTLNBR_FLAG_W,DATE,TIME,LATITUDE,LONGITUDE,DEPTH,CTDPRS,CTDTMP,CTDSAL,CTDSAL_FLAG_W,SALNTY,SALNTY_FLAG_W,CTDOXY,CTDOXY_FLAG_W,OXYGEN,OXYGEN_FLAG_W,SILCAT,SILCAT_FLAG_W,NO2+NO3,NO2+NO3_FLAG_W,PHSPHT,PHSPHT_FLAG_W,REVPRS,THETA,CTDRAW,REVTMP
,,,,,,,,,,,,DBAR,ITS-90,PSS-78,,PSS-78,,UMOL/KG,,UMOL/KG,,UMOL/KG,,UMOL/KG,,UMOL/KG,,DBAR,ITS-90,,DEG C
     32WC034_1,  PRS2,     3,  1,     21,     21,2,19920216,2119, 23.4130,-157.9995, 4515,      9.7,  23.0560,  35.1035,2,  35.1022,2,    211.5,2,    213.2,2,  -999.00,9,  -999.00,9,  -999.00,9,  -999.0, 23.0540,      9,-999.000
     32WC034_1,  PRS2,     3,  1,     20,     20,2,19920216,2119, 23.4130,-157.9995, 4515,     27.3,  23.0538,  35.1022,2,  35.1007,2,    211.4,2,    213.5,2,  -999.00,9,  -999.00,9,  -999.00,9,  -999.0, 23.0482,     27,-999.000
     32WC034_1,  PRS2,     3,  1,     19,     19,4,19920216,2119, 23.4130,-157.9995, 4515,     47.6,  23.0391,  35.1045,2,  35.1052,2,    216.2,2,    213.6,2,  -999.00,9,  -999.00,9,  -999.00,9,  -999.0, 23.0294,     46,-999.000
     32WC034_1,  PRS2,     3,  1,     18,     18,2,19920216,2119, 23.4130,-157.9995, 4515,     62.9,  22.9799,  35.1444,2,  35.1426,2,    216.6,2,    213.5,2,  -999.00,9,  -999.00,9,  -999.00,9,  -999.0, 22.9671,     63,-999.000
     32WC034_1,  PRS2,     3,  1,     17,     17,4,19920216,2119, 23.4130,-157.9995, 4515,     77.2,  22.9233,  35.1580,2,  35.1597,2,    216.4,2,    213.5,2,  -999.00,9,  -999.00,9,  -999.00,9,  -999.0, 22.9076,     77,-999.000
     32WC034_1,  PRS2,     3,  1,     16,     16,2,19920216,2119, 23.4130,-157.9995, 4515,     95.7,  22.6943,  35.1872,2,  35.1875,2,    214.8,2,    211.8,2,  -999.00,9,  -999.00,9,  -999.00,9,  -999.0, 22.6750,     94,-999.000
     32WC034_1,  PRS2,     3,  1,     15,     15,2,19920216,2119, 23.4130,-157.9995, 4515,     99.0,  22.6386,  35.1906,2,  35.1907,2,    215.5,2,   -999.0,5,  -999.00,9,  -999.00,9,  -999.00,9,  -999.0, 22.6186,     97,-999.000
     32WC034_1,  PRS2,     3,  1,     14,     14,2,19920216,2119, 23.4130,-157.9995, 4515,    108.7,  22.1865,  35.2016,2,  35.2045,2,    211.7,2,    209.5,2,  -999.00,9,  -999.00,9,  -999.00,9,  -999.0, 22.1649,    107,-999.000
     32WC034_1,  PRS2,     3,  1,     13,     13,2,19920216,2119, 23.4130,-157.9995, 4515,    117.8,  21.6348,  35.1899,2,  35.1913,2,    208.4,2,    207.4,2,  -999.00,9,  -999.00,9,  -999.00,9,  -999.0, 21.6118,    116,-999.000
     32WC034_1,  PRS2,     3,  1,     12,     12,2,19920216,2119, 23.4130,-157.9995, 4515,    127.6,  21.1776,  35.1812,2,  35.1804,2,    204.7,2,    205.4,2,  -999.00,9,  -999.00,9,  -999.00,9,  -999.0, 21.1531,    127,-999.000
     32WC034_1,  PRS2,     3,  1,     11,     11,4,19920216,2119, 23.4130,-157.9995, 4515,    150.8,  19.8446,  35.1562,2,  35.1588,2,    200.4,2,    202.2,2,  -999.00,9,  -999.00,9,  -999.00,9,  -999.0, 19.8168,    149,-999.000
     32WC034_1,  PRS2,     3,  1,     10,     10,2,19920216,2119, 23.4130,-157.9995, 4515,    176.6,  18.6473,  35.0517,2,  35.0546,2,    199.4,2,    197.6,2,  -999.00,9,  -999.00,9,  -999.00,9,  -999.0, 18.6162,    177,-999.000
     32WC034_1,  PRS2,     3,  1,      9,      9,2,19920216,2119, 23.4130,-157.9995, 4515,    202.1,  17.8463,  34.9399,2,  34.9436,2,    196.4,2,    194.0,2,  -999.00,9,  -999.00,9,  -999.00,9,  -999.0, 17.8118,    200,-999.000
     32WC034_1,  PRS2,     3,  1,      8,      8,2,19920216,2119, 23.4130,-157.9995, 4515,    226.8,  15.9168,  34.6818,2,  34.6872,2,    190.0,2,    190.7,2,  -999.00,9,  -999.00,9,  -999.00,9,  -999.0, 15.8811,    227,-999.000
     32WC034_1,  PRS2,     3,  1,      7,      6,2,19920216,2119, 23.4130,-157.9995, 4515,    252.2,  14.4243,  34.4958,2,  34.5039,2,    190.4,2,    190.6,2,  -999.00,9,  -999.00,9,  -999.00,9,  -999.0, 14.3872,    249,-999.000
     32WC034_1,  PRS2,     3,  1,      6,      7,2,19920216,2119, 23.4130,-157.9995, 4515,    303.6,  12.0214,  34.2726,2,  34.2714,2,    194.4,2,    193.5,2,  -999.00,9,  -999.00,9,  -999.00,9,  -999.0, 11.9819,    302,-999.000
     32WC034_1,  PRS2,     3,  1,      5,     26,2,19920216,2119, 23.4130,-157.9995, 4515,    406.1,   8.8500,  34.0841,2,  34.0835,2,    177.0,2,    177.2,2,  -999.00,9,  -999.00,9,  -999.00,9,  -999.0,  8.8064,    406,-999.000
     32WC034_1,  PRS2,     3,  1,      4,     25,2,19920216,2119, 23.4130,-157.9995, 4515,    506.3,   6.7711,  34.0335,2,  34.0322,2,    119.1,2,    115.3,2,  -999.00,9,  -999.00,9,  -999.00,9,  -999.0,  6.7243,    504,-999.000
     32WC034_1,  PRS2,     3,  1,      3,      3,2,19920216,2119, 23.4130,-157.9995, 4515,    514.4,   6.6737,  34.0299,2,  34.0294,2,    111.4,2,   -999.0,5,  -999.00,9,  -999.00,9,  -999.00,9,  -999.0,  6.6265,    513,-999.000
     32WC034_1,  PRS2,     3,  1,      2,      2,2,19920216,2119, 23.4130,-157.9995, 4515,    754.4,   4.4803,  34.2610,2,  34.2612,2,     26.5,2,     26.8,2,  -999.00,9,  -999.00,9,  -999.00,9,  -999.0,  4.4221,    751,-999.000
     32WC034_1,  PRS2,     3,  1,      1,      1,2,19920216,2119, 23.4130,-157.9995, 4515,   1026.7,   3.8441,  34.4839,2,  34.4837,2,     44.0,2,     45.6,2,  -999.00,9,  -999.00,9,  -999.00,9,  -999.0,  3.7675,   1025,-999.000
     32WC034_1,  PRS2,     4,  1,     22,     22,2,19920217,0841, 21.9622,-158.0003, 3750,      6.7,  22.9586,  35.0475,2,-999.0000,5,    216.7,2,   -999.0,5,  -999.00,9,  -999.00,9,  -999.00,9,  -999.0, 22.9572,      4,-999.000
     32WC034_1,  PRS2,     4,  1,     23,     23,2,19920217,0841, 21.9622,-158.0003, 3750,      6.8,  22.9585,  35.0462,2,-999.0000,5,    216.7,2,   -999.0,5,  -999.00,9,  -999.00,9,  -999.00,9,  -999.0, 22.9571,      4,-999.000
     32WC034_1,  PRS2,     4,  1,     21,     21,2,19920217,0841, 21.9622,-158.0003, 3750,      7.2,  22.9584,  35.0473,2,  35.0452,2,    216.6,2,   -999.0,5,  -999.00,9,  -999.00,9,  -999.00,9,  -999.0, 22.9569,      6,-999.000
     32WC034_1,  PRS2,     4,  1,     20,     20,2,19920217,0841, 21.9622,-158.0003, 3750,     29.6,  22.9946,  35.0744,2,  35.0753,2,    216.6,2,   -999.0,5,  -999.00,9,  -999.00,9,  -999.00,9,  -999.0, 22.9885,     27,-999.000
     32WC034_1,  PRS2,     4,  1,     19,     19,2,19920217,0841, 21.9622,-158.0003, 3750,     49.0,  22.9138,  35.1387,2,  35.1334,2,    217.8,2,    215.5,2,  -999.00,9,  -999.00,9,  -999.00,9,  -999.0, 22.9038,     46,-999.000
     32WC034_1,  PRS2,     4,  1,     18,     18,2,19920217,0841, 21.9622,-158.0003, 3750,     64.1,  22.7210,  35.1957,2,  35.1958,2,    217.7,2,   -999.0,5,  -999.00,9,  -999.00,9,  -999.00,9,  -999.0, 22.7081,     63,-999.000
     32WC034_1,  PRS2,     4,  1,     17,     17,2,19920217,0841, 21.9622,-158.0003, 3750,     78.3,  22.5948,  35.2266,2,  35.2267,2,    218.2,2,    217.1,2,  -999.00,9,  -999.00,9,  -999.00,9,  -999.0, 22.5790,     76,-999.000
     32WC034_1,  PRS2,     4,  1,     16,     16,2,19920217,0841, 21.9622,-158.0003, 3750,     97.5,  22.4445,  35.2213,2,  35.2218,2,    217.5,2,   -999.0,5,  -999.00,9,  -999.00,9,  -999.00,9,  -999.0, 22.4249,     96,-999.000
     32WC034_1,  PRS2,     4,  1,     15,     15,2,19920217,0841, 21.9622,-158.0003, 3750,    103.2,  22.4205,  35.2160,2,  35.2177,2,    217.4,2,   -999.0,5,  -999.00,9,  -999.00,9,  -999.00,9,  -999.0, 22.3998,    102,-999.000
     32WC034_1,  PRS2,     4,  1,     14,     14,2,19920217,0841, 21.9622,-158.0003, 3750,    108.7,  22.4109,  35.2172,2,  35.2179,2,    217.6,2,   -999.0,5,  -999.00,9,  -999.00,9,  -999.00,9,  -999.0, 22.3891,    107,-999.000
     32WC034_1,  PRS2,     4,  1,     13,     13,2,19920217,0841, 21.9622,-158.0003, 3750,    118.8,  22.3719,  35.2163,2,  35.2175,2,    217.5,2,   -999.0,5,  -999.00,9,  -999.00,9,  -999.00,9,  -999.0, 22.3481,    116,-999.000
     32WC034_1,  PRS2,     4,  1,     12,     12,2,19920217,0841, 21.9622,-158.0003, 3750,    130.0,  22.3372,  35.2285,2,  35.2307,2,    217.8,2,   -999.0,5,  -999.00,9,  -999.00,9,  -999.00,9,  -999.0, 22.3112,    127,-999.000
     32WC034_1,  PRS2,     4,  1,     11,     11,2,19920217,0841, 21.9622,-158.0003, 3750,    135.0,  22.2777,  35.2347,2,  35.2322,2,    216.4,2,   -999.0,5,  -999.00,9,  -999.00,9,  -999.00,9,  -999.0, 22.2508,    132,-999.000
     32WC034_1,  PRS2,     4,  1,     10,     10,2,19920217,0841, 21.9622,-158.0003, 3750,    177.9,  19.4879,  35.1550,2,  35.1554,2,    199.4,2,   -999.0,5,  -999.00,9,  -999.00,9,  -999.00,9,  -999.0, 19.4556,    176,-999.000
     32WC034_1,  PRS2,     4,  1,      9,      9,2,19920217,0841, 21.9622,-158.0003, 3750,    202.0,  18.5208,  35.0572,2,  35.0361,3,    198.9,3,   -999.0,5,  -999.00,9,  -999.00,9,  -999.00,9,  -999.0, 18.4854,    200,-999.000
     32WC034_1,  PRS2,     4,  1,      8,      8,2,19920217,0841, 21.9622,-158.0003, 3750,    226.8,  16.8963,  34.8317,2,  34.8358,2,    196.6,2,   -999.0,5,  -999.00,9,  -999.00,9,  -999.00,9,  -999.0, 16.8590,    225,-999.000
     32WC034_1,  PRS2,     4,  1,      7,      6,2,19920217,0841, 21.9622,-158.0003, 3750,    252.1,  15.8975,  34.7032,2,  34.7131,2,    195.2,2,   -999.0,5,  -999.00,9,  -999.00,9,  -999.00,9,  -999.0, 15.8578,    249,-999.000
     32WC034_1,  PRS2,     4,  1,      6,      7,2,19920217,0841, 21.9622,-158.0003, 3750,    303.8,  13.0911,  34.3673,2,  34.3667,2,    198.7,2,   -999.0,5,  -999.00,9,  -999.00,9,  -999.00,9,  -999.0, 13.0492,    304,-999.000
     32WC034_1,  PRS2,     4,  1,      5,     26,2,19920217,0841, 21.9622,-158.0003, 3750,    406.7,   9.5647,  34.1254,2,  34.1241,2,    184.0,2,   -999.0,5,  -999.00,9,  -999.00,9,  -999.00,9,  -999.0,  9.5188,    406,-999.000
     32WC034_1,  PRS2,     4,  1,      4,     25,2,19920217,0841, 21.9622,-158.0003, 3750,    503.6,   7.0682,  34.0414,2,  34.0392,2,    125.9,2,    123.8,2,  -999.00,9,  -999.00,9,  -999.00,9,  -999.0,  7.0205,    502,-999.000
     32WC034_1,  PRS2,     4,  1,      3,      3,2,19920217,0841, 21.9622,-158.0003, 3750,    515.0,   6.9675,  34.0432,2,  34.0432,2,    122.4,2,   -999.0,5,  -999.00,9,  -999.00,9,  -999.00,9,  -999.0,  6.9190,    512,-999.000
     32WC034_1,  PRS2,     4,  1,      2,      2,2,19920217,0841, 21.9622,-158.0003, 3750,    750.0,   5.1554,  34.3713,2,  34.3702,2,     33.6,2,     32.7,2,  -999.00,9,  -999.00,9,  -999.00,9,  -999.0,  5.0936,    746,-999.000
     32WC034_1,  PRS2,     4,  1,      1,      1,2,19920217,0841, 21.9622,-158.0003, 3750,   1004.5,   4.1497,  34.4900,2,  34.4900,2,     43.3,2,     44.3,2,  -999.00,9,  -999.00,9,  -999.00,9,  -999.0,  4.0725,   1002,-999.000
     32WC034_1,  PRS2,     5,  1,     17,     17,2,19920217,1130, 21.7940,-157.9982, -999,      5.9,  23.2014,  35.0617,2,  35.0629,2,    229.6,2,   -999.0,5,  -999.00,9,  -999.00,9,  -999.00,9,  -999.0, 23.2002,      3,-999.000
     32WC034_1,  PRS2,     5,  1,     16,     16,2,19920217,1130, 21.7940,-157.9982, -999,     26.5,  23.2109,  35.0632,2,  35.0621,2,    229.6,2,   -999.0,5,  -999.00,9,  -999.00,9,  -999.00,9,  -999.0, 23.2055,     24,-999.000
     32WC034_1,  PRS2,     5,  1,     15,     15,2,19920217,1130, 21.7940,-157.9982, -999,     46.7,  23.2142,  35.0680,2,  35.0670,2,    229.9,2,   -999.0,5,  -999.00,9,  -999.00,9,  -999.00,9,  -999.0, 23.2046,     44,-999.000
     32WC034_1,  PRS2,     5,  1,     14,     14,2,19920217,1130, 21.7940,-157.9982, -999,     62.0,  23.1841,  35.0814,2,  35.0837,2,    230.0,2,   -999.0,5,  -999.00,9,  -999.00,9,  -999.00,9,  -999.0, 23.1714,     59,-999.000
     32WC034_1,  PRS2,     5,  1,     13,     13,2,19920217,1130, 21.7940,-157.9982, -999,     77.5,  23.1230,  35.1001,2,  35.1013,2,    230.1,2,   -999.0,5,  -999.00,9,  -999.00,9,  -999.00,9,  -999.0, 23.1071,     75,-999.000
     32WC034_1,  PRS2,     5,  1,     12,     12,2,19920217,1130, 21.7940,-157.9982, -999,     97.8,  23.0809,  35.1117,2,  35.1109,2,    229.7,2,    215.0,2,  -999.00,9,  -999.00,9,  -999.00,9,  -999.0, 23.0609,     94,-999.000
     32WC034_1,  PRS2,     5,  1,     11,     11,2,19920217,1130, 21.7940,-157.9982, -999,    102.7,  23.0622,  35.1164,2,  35.1162,2,    229.3,2,   -999.0,5,  -999.00,9,  -999.00,9,  -999.00,9,  -999.0, 23.0412,    100,-999.000
     32WC034_1,  PRS2,     5,  1,     10,     10,2,19920217,1130, 21.7940,-157.9982, -999,    107.5,  23.0294,  35.1241,2,  35.1237,2,    229.3,2,   -999.0,5,  -999.00,9,  -999.00,9,  -999.00,9,  -999.0, 23.0075,    105,-999.000
     32WC034_1,  PRS2,     5,  1,      9,      9,2,19920217,1130, 21.7940,-157.9982, -999,    117.8,  22.8996,  35.1553,2,  35.1546,2,    228.7,2,   -999.0,5,  -999.00,9,  -999.00,9,  -999.00,9,  -999.0, 22.8757,    116,-999.000
     32WC034_1,  PRS2,     5,  1,      8,      8,2,19920217,1130, 21.7940,-157.9982, -999,    128.0,  22.8539,  35.1687,2,  35.1645,2,    228.5,2,   -999.0,5,  -999.00,9,  -999.00,9,  -999.00,9,  -999.0, 22.8278,    125,-999.000
     32WC034_1,  PRS2,     5,  1,      7,      6,2,19920217,1130, 21.7940,-157.9982, -999,    153.0,  21.5237,  35.1884,2,  35.1885,2,    219.6,2,   -999.0,5,  -999.00,9,  -999.00,9,  -999.00,9,  -999.0, 21.4939,    149,-999.000
     32WC034_1,  PRS2,     5,  1,      6,      7,2,19920217,1130, 21.7940,-157.9982, -999,    178.4,  20.0406,  35.1842,2,  35.1840,2,    212.0,2,   -999.0,5,  -999.00,9,  -999.00,9,  -999.00,9,  -999.0, 20.0075,    175,-999.000
     32WC034_1,  PRS2,     5,  1,      5,     26,2,19920217,1130, 21.7940,-157.9982, -999,    204.0,  18.3762,  35.0310,2,  35.0394,2,    209.0,2,   -999.0,5,  -999.00,9,  -999.00,9,  -999.00,9,  -999.0, 18.3407,    201,-999.000
     32WC034_1,  PRS2,     5,  1,      4,     25,2,19920217,1130, 21.7940,-157.9982, -999,    229.3,  16.9375,  34.8232,2,  34.8228,2,    205.8,2,   -999.0,5,  -999.00,9,  -999.00,9,  -999.00,9,  -999.0, 16.8997,    227,-999.000
     32WC034_1,  PRS2,     5,  1,      3,      3,2,19920217,1130, 21.7940,-157.9982, -999,    254.4,  15.7283,  34.6688,2,  34.6707,2,    205.9,2,   -999.0,5,  -999.00,9,  -999.00,9,  -999.00,9,  -999.0, 15.6886,    251,-999.000
     32WC034_1,  PRS2,     5,  1,      2,      2,2,19920217,1130, 21.7940,-157.9982, -999,    267.3,  14.9309,  34.5677,2,  34.5685,2,    204.5,2,   -999.0,5,  -999.00,9,  -999.00,9,  -999.00,9,  -999.0, 14.8906,    266,-999.000
     32WC034_1,  PRS2,     5,  1,      1,      1,2,19920217,1130, 21.7940,-157.9982, -999,    267.5,  14.9351,  34.5677,2,  34.5730,2,    204.5,2,    195.7,2,  -999.00,9,  -999.00,9,  -999.00,9,  -999.0, 14.8947,    265,-999.000