BOTTLE,20221004CCHSIOAMB
EXPOCODE,SECT_ID,STNNBR,CASTNO,SAMPNO,BTLNBR,BTLNBR_FLAG_W,DATE,TIME,LATITUDE,LONGITUDE,DEPTH,CTDPRS,CTDTMP,CTDSAL,CTDSAL_FLAG_W,SALNTY,SALNTY_FLAG_W,CTDOXY,CTDOXY_FLAG_W,OXYGEN,OXYGEN_FLAG_W,SILCAT,SILCAT_FLAG_W,NO2+NO3,NO2+NO3_FLAG_W,PHSPHT,PHSPHT_FLAG_W,REVPRS,THETA,CTDRAW,REVTMP
,,,,,,,,,,,,DBAR,ITS-90,PSS-78,,PSS-78,,UMOL/KG,,UMOL/KG,,UMOL/KG,,UMOL/KG,,UMOL/KG,,DBAR,ITS-90,,DEG C
     32WC034_1,  PRS2,     2, 14,     22,     22,2,19920215,1842, 22.7525,-158.0078, 4730,     58.4,  23.0005,  35.1405,2,-999.0000,5,    214.9,2,    212.9,2,  -999.00,9,  -999.00,9,  -999.00,9,  -999.0, 22.9886,     58,-999.000
     32WC034_1,  PRS2,     2, 14,     23,     23,2,19920215,1842, 22.7525,-158.0078, 4730,     58.5,  22.9999,  35.1407,2,-999.0000,5,    214.9,2,    213.1,2,  -999.00,9,  -999.00,9,  -999.00,9,  -999.0, 22.9879,     56,-999.000
     32WC034_1,  PRS2,     2, 14,     19,     19,2,19920215,1842, 22.7525,-158.0078, 4730,    108.3,  22.7131,  35.1626,2,-999.0000,5,    208.5,2,    210.1,2,  -999.00,9,  -999.00,9,  -999.00,9,  -999.0, 22.6912,    107,-999.000
     32WC034_1,  PRS2,     2, 14,     20,     20,2,19920215,1842, 22.7525,-158.0078, 4730,    109.0,  22.6039,  35.1634,2,-999.0000,5,    209.0,2,    209.8,2,  -999.00,9,  -999.00,9,  -999.00,9,  -999.0, 22.5819,    108,-999.000
     32WC034_1,  PRS2,     2, 14,     21,     21,2,19920215,1842, 22.7525,-158.0078, 4730,    109.2,  22.3377,  35.1817,2,-999.0000,5,    209.4,2,    204.5,2,  -999.00,9,  -999.00,9,  -999.00,9,  -999.0, 22.3158,    107,-999.000
     32WC034_1,  PRS2,     2, 14,     18,     18,2,19920215,1842, 22.7525,-158.0078, 4730,    354.4,  12.2693,  34.2933,2,-999.0000,5,    199.6,2,    196.1,2,  -999.00,9,  -999.00,9,  -999.00,9,  -999.0, 12.2224,    353,-999.000
     32WC034_1,  PRS2,     2, 14,     17,     17,2,19920215,1842, 22.7525,-158.0078, 4730,    354.7,  12.2674,  34.2931,2,-999.0000,5,    199.5,2,    196.3,2,  -999.00,9,  -999.00,9,  -999.00,9,  -999.0, 12.2205,    354,-999.000
     32WC034_1,  PRS2,     2, 14,     16,     16,2,19920215,1842, 22.7525,-158.0078, 4730,    354.7,  12.2640,  34.2932,2,-999.0000,5,    199.4,2,    196.2,2,  -999.00,9,  -999.00,9,  -999.00,9,  -999.0, 12.2171,    353,-999.000
     32WC034_1,  PRS2,     2, 14,     13,     13,2,19920215,1842, 22.7525,-158.0078, 4730,    452.5,   9.0842,  34.1205,2,-999.0000,5,    153.9,2,    156.4,2,  -999.00,9,  -999.00,9,  -999.00,9,  -999.0,  9.0346,    450,-999.000
     32WC034_1,  PRS2,     2, 14,     14,     14,2,19920215,1842, 22.7525,-158.0078, 4730,    454.3,   8.9747,  34.1173,2,-999.0000,5,    154.2,2,    156.2,2,  -999.00,9,  -999.00,9,  -999.00,9,  -999.0,  8.9253,    453,-999.000
     32WC034_1,  PRS2,     2, 14,     15,     15,2,19920215,1842, 22.7525,-158.0078, 4730,    455.8,   8.9275,  34.1144,2,-999.0000,5,    154.5,2,    157.7,2,  -999.00,9,  -999.00,9,  -999.00,9,  -999.0,  8.8781,    456,-999.000
     32WC034_1,  PRS2,     2, 14,     12,     12,2,19920215,1842, 22.7525,-158.0078, 4730,    748.5,   4.9036,  34.2564,2,-999.0000,5,     35.8,2,     34.3,2,  -999.00,9,  -999.00,9,  -999.00,9,  -999.0,  4.8435,    746,-999.000
     32WC034_1,  PRS2,     2, 14,     11,     11,2,19920215,1842, 22.7525,-158.0078, 4730,    749.6,   4.9023,  34.2569,2,-999.0000,5,     35.7,2,     34.4,2,  -999.00,9,  -999.00,9,  -999.00,9,  -999.0,  4.8420,    750,-999.000
     32WC034_1,  PRS2,     2, 14,     10,     10,2,19920215,1842, 22.7525,-158.0078, 4730,    750.4,   4.9019,  34.2567,2,-999.0000,5,     35.7,2,     34.4,2,  -999.00,9,  -999.00,9,  -999.00,9,  -999.0,  4.8416,    750,-999.000
     32WC034_1,  PRS2,     2, 14,      8,      8,2,19920215,1842, 22.7525,-158.0078, 4730,   1815.3,   2.2567,  34.6042,2,-999.0000,5,     76.3,2,     81.5,2,  -999.00,9,  -999.00,9,  -999.00,9,  -999.0,  2.1320,   1814,-999.000
     32WC034_1,  PRS2,     2, 14,      9,      9,2,19920215,1842, 22.7525,-158.0078, 4730,   1815.4,   2.2566,  34.6041,2,-999.0000,5,     76.3,2,     81.7,2,  -999.00,9,  -999.00,9,  -999.00,9,  -999.0,  2.1319,   1814,-999.000
     32WC034_1,  PRS2,     2, 14,      7,      6,2,19920215,1842, 22.7525,-158.0078, 4730,   1815.8,   2.2561,  34.6044,2,-999.0000,5,     76.3,2,     81.5,2,  -999.00,9,  -999.00,9,  -999.00,9,  -999.0,  2.1313,   1816,-999.000
     32WC034_1,  PRS2,     2, 14,      6,      7,2,19920215,1842, 22.7525,-158.0078, 4730,   3011.7,   1.5367,  34.6670,2,-999.0000,5,    128.6,2,    126.6,2,  -999.00,9,  -999.00,9,  -999.00,9,  -999.0,  1.3181,   3011,-999.000
     32WC034_1,  PRS2,     2, 14,      5,     26,2,19920215,1842, 22.7525,-158.0078, 4730,   3013.0,   1.5367,  34.6672,2,-999.0000,5,    128.7,2,    126.9,2,  -999.00,9,  -999.00,9,  -999.00,9,  -999.0,  1.3179,   3011,-999.000
     32WC034_1,  PRS2,     2, 14,      4,     25,2,19920215,1842, 22.7525,-158.0078, 4730,   3014.1,   1.5373,  34.6669,2,-999.0000,5,    128.7,2,    126.9,2,  -999.00,9,  -999.00,9,  -999.00,9,  -999.0,  1.3184,   3013,-999.000
     32WC034_1,  PRS2,     2, 14,      1,      1,2,19920215,1842, 22.7525,-158.0078, 4730,   4785.9,   1.5048,  34.6876,2,  34.6876,2,    155.5,2,    153.7,2,  -999.00,9,  -999.00,9,  -999.00,9,  -999.0,  1.0961,   4787,-999.000
     32WC034_1,  PRS2,     2, 14,      2,      2,2,19920215,1842, 22.7525,-158.0078, 4730,   4786.9,   1.5046,  34.6874,2,-999.0000,5,    155.1,2,    154.6,2,  -999.00,9,  -999.00,9,  -999.00,9,  -999.0,  1.0959,   4787,-999.000
     32WC034_1,  PRS2,     2, 14,      3,      3,2,19920215,1842, 22.7525,-158.0078, 4730,   4788.1,   1.5050,  34.6875,2,-999.0000,5,    155.1,2,    154.8,2,  -999.00,9,  -999.00,9,  -999.00,9,  -999.0,  1.0961,   4789,-999.000
     32WC034_1,  PRS2,     2, 17,     22,     22,2,19920216,0011, 22.7343,-158.0375, 4740,    102.5,  21.5509,  35.2583,2,-999.0000,5,    207.7,2,    208.5,2,  -999.00,9,  -999.00,9,  -999.00,9,  -999.0, 21.5309,    106,-999.000
     32WC034_1,  PRS2,     2, 17,     23,     23,2,19920216,0011, 22.7343,-158.0375, 4740,    103.1,  21.5250,  35.2648,2,  35.2602,2,    207.9,2,    207.7,2,  -999.00,9,  -999.00,9,  -999.00,9,  -999.0, 21.5050,    105,-999.000
     32WC034_1,  PRS2,     2, 17,     20,     20,2,19920216,0011, 22.7343,-158.0375, 4740,    302.5,  13.8664,  34.4480,2,-999.0000,5,    194.4,2,    195.6,2,  -999.00,9,  -999.00,9,  -999.00,9,  -999.0, 13.8230,    304,-999.000
     32WC034_1,  PRS2,     2, 17,     21,     21,2,19920216,0011, 22.7343,-158.0375, 4740,    303.1,  13.8651,  34.4467,2,  34.4478,2,    194.8,2,    195.3,2,  -999.00,9,  -999.00,9,  -999.00,9,  -999.0, 13.8216,    306,-999.000
     32WC034_1,  PRS2,     2, 17,     16,     16,2,19920216,0011, 22.7343,-158.0375, 4740,    404.8,   9.8610,  34.1401,2,  34.1398,2,    186.3,2,    187.0,2,  -999.00,9,  -999.00,9,  -999.00,9,  -999.0,  9.8144,    409,-999.000
     32WC034_1,  PRS2,     2, 17,     17,     17,2,19920216,0011, 22.7343,-158.0375, 4740,    406.3,   9.8019,  34.1361,2,-999.0000,5,    186.4,2,    185.2,2,  -999.00,9,  -999.00,9,  -999.00,9,  -999.0,  9.7553,    407,-999.000
     32WC034_1,  PRS2,     2, 17,     19,     19,2,19920216,0011, 22.7343,-158.0375, 4740,    407.0,   9.7464,  34.1340,2,  34.1392,2,    186.6,2,    183.1,2,  -999.00,9,  -999.00,9,  -999.00,9,  -999.0,  9.6999,    409,-999.000
     32WC034_1,  PRS2,     2, 17,     18,     18,2,19920216,0011, 22.7343,-158.0375, 4740,    407.0,   9.7464,  34.1340,2,-999.0000,5,    186.6,2,    183.2,2,  -999.00,9,  -999.00,9,  -999.00,9,  -999.0,  9.6999,    409,-999.000
     32WC034_1,  PRS2,     2, 17,     13,     13,3,19920216,0011, 22.7343,-158.0375, 4740,    497.7,   7.0971,  34.0349,2,  34.0347,2,    128.1,2,    131.8,2,  -999.00,9,  -999.00,9,  -999.00,9,  -999.0,  7.0499,    500,-999.000
     32WC034_1,  PRS2,     2, 17,     14,     14,2,19920216,0011, 22.7343,-158.0375, 4740,    498.2,   7.1007,  34.0341,2,-999.0000,5,    128.2,2,    132.1,2,  -999.00,9,  -999.00,9,  -999.00,9,  -999.0,  7.0534,    501,-999.000
     32WC034_1,  PRS2,     2, 17,     15,     15,2,19920216,0011, 22.7343,-158.0375, 4740,    499.7,   7.0640,  34.0342,2,-999.0000,5,    128.4,2,    132.6,2,  -999.00,9,  -999.00,9,  -999.00,9,  -999.0,  7.0167,    502,-999.000
     32WC034_1,  PRS2,     2, 17,     12,     12,2,19920216,0011, 22.7343,-158.0375, 4740,    749.2,   4.8294,  34.2931,2,-999.0000,5,     35.6,2,     32.9,2,  -999.00,9,  -999.00,9,  -999.00,9,  -999.0,  4.7696,    753,-999.000
     32WC034_1,  PRS2,     2, 17,     11,     11,2,19920216,0011, 22.7343,-158.0375, 4740,    750.2,   4.8284,  34.2954,2,  34.2945,2,     35.6,2,     32.3,2,  -999.00,9,  -999.00,9,  -999.00,9,  -999.0,  4.7685,    754,-999.000
     32WC034_1,  PRS2,     2, 17,      9,      9,2,19920216,0011, 22.7343,-158.0375, 4740,   1000.6,   4.0067,  34.4548,2,  34.4548,2,     41.1,2,     39.8,2,  -999.00,9,  -999.00,9,  -999.00,9,  -999.0,  3.9310,   1003,-999.000
     32WC034_1,  PRS2,     2, 17,     10,     10,2,19920216,0011, 22.7343,-158.0375, 4740,   1001.6,   4.0047,  34.4553,2,-999.0000,5,     41.1,2,     39.8,2,  -999.00,9,  -999.00,9,  -999.00,9,  -999.0,  3.9290,   1004,-999.000
     32WC034_1,  PRS2,     2, 17,      8,      8,2,19920216,0011, 22.7343,-158.0375, 4740,   1797.3,   2.3579,  34.5989,2,-999.0000,5,     76.2,2,     79.0,2,  -999.00,9,  -999.00,9,  -999.00,9,  -999.0,  2.2333,   1799,-999.000
     32WC034_1,  PRS2,     2, 17,      7,      6,4,19920216,0011, 22.7343,-158.0375, 4740,   1797.8,   2.3566,  34.5989,2,-999.0000,5,     76.2,2,   -999.0,5,  -999.00,9,  -999.00,9,  -999.00,9,  -999.0,  2.2320,   1801,-999.000
     32WC034_1,  PRS2,     2, 17,      6,      7,2,19920216,0011, 22.7343,-158.0375, 4740,   2793.7,   1.5701,  34.6621,2,-999.0000,5,    112.5,2,    135.2,4,  -999.00,9,  -999.00,9,  -999.00,9,  -999.0,  1.3712,   2795,-999.000
     32WC034_1,  PRS2,     2, 17,      5,     26,2,19920216,0011, 22.7343,-158.0375, 4740,   2794.6,   1.5697,  34.6620,2,  34.6620,2,    112.6,2,    120.7,2,  -999.00,9,  -999.00,9,  -999.00,9,  -999.0,  1.3707,   2798,-999.000
     32WC034_1,  PRS2,     2, 17,      3,      3,2,19920216,0011, 22.7343,-158.0375, 4740,   3799.8,   1.4372,  34.6832,2,  34.6833,2,    144.7,2,    148.3,2,  -999.00,9,  -999.00,9,  -999.00,9,  -999.0,  1.1416,   3806,-999.000
     32WC034_1,  PRS2,     2, 17,      4,     25,2,19920216,0011, 22.7343,-158.0375, 4740,   3800.1,   1.4371,  34.6832,2,-999.0000,5,    144.7,2,    148.0,2,  -999.00,9,  -999.00,9,  -999.00,9,  -999.0,  1.1414,   3804,-999.000
     32WC034_1,  PRS2,     2, 17,      1,      1,2,19920216,0011, 22.7343,-158.0375, 4740,   4674.4,   1.5021,  34.6865,2,  34.6860,2,    154.6,2,    153.6,2,  -999.00,9,  -999.00,9,  -999.00,9,  -999.0,  1.1068,   4679,-999.000
     32WC034_1,  PRS2,     2, 17,      2,      2,2,19920216,0011, 22.7343,-158.0375, 4740,   4676.1,   1.5024,  34.6864,2,-999.0000,5,    154.1,2,    153.1,2,  -999.00,9,  -999.00,9,  -999.00,9,  -999.0,  1.1068,   4681,-999.000
     32WC034_1,  PRS2,     2, 18,     22,     22,2,19920216,0733, 22.7525,-157.9857, 4000,      7.3,  23.0021,  35.0967,2,  35.0963,2,    216.6,1,   -999.0,9,  -999.00,9,  -999.00,9,  -999.00,9,  -999.0, 23.0006,      7,-999.000
     32WC034_1,  PRS2,     2, 18,     23,     23,2,19920216,0733, 22.7525,-157.9857, 4000,      7.4,  23.0049,  35.0967,2,-999.0000,5,    216.7,1,   -999.0,9,  -999.00,9,  -999.00,9,  -999.00,9,  -999.0, 23.0034,      7,-999.000
     32WC034_1,  PRS2,     2, 18,     21,     21,2,19920216,0733, 22.7525,-157.9857, 4000,      7.6,  23.0035,  35.0971,2,-999.0000,5,    216.7,1,   -999.0,9,  -999.00,9,  -999.00,9,  -999.00,9,  -999.0, 23.0020,      7,-999.000
     32WC034_1,  PRS2,     2, 18,     20,     20,2,19920216,0733, 22.7525,-157.9857, 4000,     27.6,  23.0124,  35.0986,2,  35.0971,2,    216.6,1,   -999.0,9,  -999.00,9,  -999.00,9,  -999.00,9,  -999.0, 23.0067,     27,-999.000
     32WC034_1,  PRS2,     2, 18,     19,     19,2,19920216,0733, 22.7525,-157.9857, 4000,     47.6,  23.0176,  35.1002,2,  35.1078,2,    216.4,1,   -999.0,9,  -999.00,9,  -999.00,9,  -999.00,9,  -999.0, 23.0079,     46,-999.000
     32WC034_1,  PRS2,     2, 18,     18,     18,2,19920216,0733, 22.7525,-157.9857, 4000,     77.7,  23.0070,  35.1443,2,  35.1438,2,    215.8,1,   -999.0,9,  -999.00,9,  -999.00,9,  -999.00,9,  -999.0, 22.9912,     77,-999.000
     32WC034_1,  PRS2,     2, 18,     17,     17,2,19920216,0733, 22.7525,-157.9857, 4000,     82.9,  23.0000,  35.1449,2,  35.1438,2,    214.4,1,   -999.0,9,  -999.00,9,  -999.00,9,  -999.00,9,  -999.0, 22.9831,     81,-999.000
     32WC034_1,  PRS2,     2, 18,     16,     16,2,19920216,0733, 22.7525,-157.9857, 4000,     88.6,  22.9913,  35.1492,2,  35.1495,2,    214.9,1,   -999.0,9,  -999.00,9,  -999.00,9,  -999.00,9,  -999.0, 22.9732,     88,-999.000
     32WC034_1,  PRS2,     2, 18,     15,     15,2,19920216,0733, 22.7525,-157.9857, 4000,     93.5,  22.8080,  35.1805,2,  35.1787,2,    213.7,1,   -999.0,9,  -999.00,9,  -999.00,9,  -999.00,9,  -999.0, 22.7891,     94,-999.000
     32WC034_1,  PRS2,     2, 18,     14,     14,2,19920216,0733, 22.7525,-157.9857, 4000,     98.6,  22.3982,  35.2167,2,  35.2141,2,    211.6,1,   -999.0,9,  -999.00,9,  -999.00,9,  -999.00,9,  -999.0, 22.3785,     98,-999.000
     32WC034_1,  PRS2,     2, 18,     13,     13,2,19920216,0733, 22.7525,-157.9857, 4000,    103.3,  21.8342,  35.2289,2,  35.2179,2,    207.7,1,   -999.0,9,  -999.00,9,  -999.00,9,  -999.00,9,  -999.0, 21.8138,    102,-999.000
     32WC034_1,  PRS2,     2, 18,     12,     12,2,19920216,0733, 22.7525,-157.9857, 4000,    113.0,  21.2574,  35.2879,2,  35.2870,2,    208.1,1,   -999.0,9,  -999.00,9,  -999.00,9,  -999.00,9,  -999.0, 21.2356,    112,-999.000
     32WC034_1,  PRS2,     2, 18,     10,     10,2,19920216,0733, 22.7525,-157.9857, 4000,    126.8,  20.7092,  35.3277,2,  35.3252,2,    206.9,1,   -999.0,9,  -999.00,9,  -999.00,9,  -999.00,9,  -999.0, 20.6851,    126,-999.000
     32WC034_1,  PRS2,     2, 18,     11,     11,2,19920216,0733, 22.7525,-157.9857, 4000,    127.3,  20.6880,  35.3297,2,-999.0000,5,    207.2,1,   -999.0,9,  -999.00,9,  -999.00,9,  -999.00,9,  -999.0, 20.6638,    127,-999.000
     32WC034_1,  PRS2,     2, 18,      8,      8,2,19920216,0733, 22.7525,-157.9857, 4000,    146.9,  20.2037,  35.3568,2,  35.3580,2,    206.1,1,   -999.0,9,  -999.00,9,  -999.00,9,  -999.00,9,  -999.0, 20.1763,    145,-999.000
     32WC034_1,  PRS2,     2, 18,      9,      9,2,19920216,0733, 22.7525,-157.9857, 4000,    147.2,  20.1967,  35.3578,2,-999.0000,5,    206.3,1,   -999.0,9,  -999.00,9,  -999.00,9,  -999.00,9,  -999.0, 20.1693,    147,-999.000
     32WC034_1,  PRS2,     2, 18,      7,      6,2,19920216,0733, 22.7525,-157.9857, 4000,    175.1,  19.9421,  35.3599,2,-999.0000,5,    205.7,1,   -999.0,9,  -999.00,9,  -999.00,9,  -999.00,9,  -999.0, 19.9098,    175,-999.000
     32WC034_1,  PRS2,     2, 18,      6,      7,2,19920216,0733, 22.7525,-157.9857, 4000,    251.6,  17.9178,  35.0171,2,  34.3651,4,    200.5,1,   -999.0,9,  -999.00,9,  -999.00,9,  -999.00,9,  -999.0, 17.8747,    251,-999.000
     32WC034_1,  PRS2,     2, 18,      4,     25,2,19920216,0733, 22.7525,-157.9857, 4000,    502.1,   7.4406,  34.1027,2,-999.0000,5,    119.8,1,   -999.0,9,  -999.00,9,  -999.00,9,  -999.00,9,  -999.0,  7.3915,    502,-999.000
     32WC034_1,  PRS2,     2, 18,      3,      3,2,19920216,0733, 22.7525,-157.9857, 4000,    502.9,   7.4181,  34.1029,2,  34.1055,2,    119.4,1,   -999.0,9,  -999.00,9,  -999.00,9,  -999.00,9,  -999.0,  7.3690,    501,-999.000
     32WC034_1,  PRS2,     2, 18,      5,     26,2,19920216,0733, 22.7525,-157.9857, 4000,    503.7,   7.3868,  34.1054,2,-999.0000,5,    120.2,1,   -999.0,9,  -999.00,9,  -999.00,9,  -999.00,9,  -999.0,  7.3378,    502,-999.000
     32WC034_1,  PRS2,     2, 18,      2,      2,2,19920216,0733, 22.7525,-157.9857, 4000,    749.4,   4.6823,  34.3257,2,  34.3253,2,     34.9,1,   -999.0,9,  -999.00,9,  -999.00,9,  -999.00,9,  -999.0,  4.6233,    749,-999.000
     32WC034_1,  PRS2,     2, 18,      1,      1,2,19920216,0733, 22.7525,-157.9857, 4000,   1000.3,   3.9301,  34.4735,2,  34.4741,2,     43.8,1,   -999.0,9,  -999.00,9,  -999.00,9,  -999.00,9,  -999.0,  3.8550,    999,-999.000
     32WC034_1,  PRS2,     2, 19,      6,      7,2,19920216,1005, 22.7660,-158.0190, 4000,    396.5,  10.8003,  34.1826,2,-999.0000,9,     34.9,1,   -999.0,9,  -999.00,9,  -999.00,9,  -999.00,9,  -999.0, 10.7520,    394,-999.000
     32WC034_1,  PRS2,     2, 19,     10,     10,2,19920216,1005, 22.7660,-158.0190, 4000,    398.6,  10.7067,  34.1770,2,-999.0000,9,     34.9,1,   -999.0,9,  -999.00,9,  -999.00,9,  -999.00,9,  -999.0, 10.6584,    398,-999.000
     32WC034_1,  PRS2,     2, 19,      4,     25,2,19920216,1005, 22.7660,-158.0190, 4000,    399.8,  10.5572,  34.1715,2,-999.0000,9,     34.9,1,   -999.0,9,  -999.00,9,  -999.00,9,  -999.00,9,  -999.0, 10.5092,    400,-999.000
     32WC034_1,  PRS2,     2, 19,     14,     14,2,19920216,1005, 22.7660,-158.0190, 4000,    401.1,  10.7049,  34.1746,2,-999.0000,9,     34.9,1,   -999.0,9,  -999.00,9,  -999.00,9,  -999.00,9,  -999.0, 10.6563,    399,-999.000
     32WC034_1,  PRS2,     2, 19,     12,     12,2,19920216,1005, 22.7660,-158.0190, 4000,    401.3,  10.6511,  34.1763,2,-999.0000,9,     34.9,1,   -999.0,9,  -999.00,9,  -999.00,9,  -999.00,9,  -999.0, 10.6026,    400,-999.000
     32WC034_1,  PRS2,     2, 19,      2,      2,2,19920216,1005, 22.7660,-158.0190, 4000,    401.6,  10.2353,  34.1602,2,-999.0000,9,     34.4,1,   -999.0,9,  -999.00,9,  -999.00,9,  -999.00,9,  -999.0, 10.1880,    398,-999.000
     32WC034_1,  PRS2,     2, 19,      8,      8,2,19920216,1005, 22.7660,-158.0190, 4000,    401.7,  10.5149,  34.1704,2,-999.0000,9,     34.9,1,   -999.0,9,  -999.00,9,  -999.00,9,  -999.00,9,  -999.0, 10.4668,    400,-999.000
     32WC034_1,  PRS2,     2, 19,     16,     16,2,19920216,1005, 22.7660,-158.0190, 4000,    411.8,  10.4733,  34.1636,2,-999.0000,9,    187.9,1,   -999.0,9,  -999.00,9,  -999.00,9,  -999.00,9,  -999.0, 10.4241,    409,-999.000
     32WC034_1,  PRS2,     2, 19,     11,     11,2,19920216,1005, 22.7660,-158.0190, 4000,    699.4,   5.0408,  34.2335,2,-999.0000,9,     34.9,1,   -999.0,9,  -999.00,9,  -999.00,9,  -999.00,9,  -999.0,  4.9841,    699,-999.000
     32WC034_1,  PRS2,     2, 19,      9,      9,4,19920216,1005, 22.7660,-158.0190, 4000,    699.8,   4.9390,  34.2441,2,-999.0000,9,     34.9,1,   -999.0,9,  -999.00,9,  -999.00,9,  -999.00,9,  -999.0,  4.8828,    699,-999.000
     32WC034_1,  PRS2,     2, 19,      5,     26,2,19920216,1005, 22.7660,-158.0190, 4000,    702.3,   4.9220,  34.2468,2,-999.0000,9,     34.9,1,   -999.0,9,  -999.00,9,  -999.00,9,  -999.00,9,  -999.0,  4.8657,    702,-999.000
     32WC034_1,  PRS2,     2, 19,      3,      3,2,19920216,1005, 22.7660,-158.0190, 4000,    702.3,   4.8684,  34.2617,2,-999.0000,9,     34.4,1,   -999.0,9,  -999.00,9,  -999.00,9,  -999.00,9,  -999.0,  4.8124,    702,-999.000
     32WC034_1,  PRS2,     2, 19,      7,      6,2,19920216,1005, 22.7660,-158.0190, 4000,    702.6,   4.9254,  34.2446,2,-999.0000,9,     34.9,1,   -999.0,9,  -999.00,9,  -999.00,9,  -999.00,9,  -999.0,  4.8691,    701,-999.000
     32WC034_1,  PRS2,     2, 19,      1,      1,2,19920216,1005, 22.7660,-158.0190, 4000,    703.0,   4.8480,  34.2694,2,-999.0000,9,     33.9,1,   -999.0,9,  -999.00,9,  -999.00,9,  -999.00,9,  -999.0,  4.7920,    702,-999.000
     32WC034_1,  PRS2,     2, 19,     13,     13,2,19920216,1005, 22.7660,-158.0190, 4000,    704.3,   4.9337,  34.2480,2,-999.0000,9,     34.9,1,   -999.0,9,  -999.00,9,  -999.00,9,  -999.00,9,  -999.0,  4.8771,    702,-999.000
     32WC034_1,  PRS2,     2, 19,     15,     15,2,19920216,1005, 22.7660,-158.0190, 4000,    717.9,   4.9015,  34.2595,2,-999.0000,9,     35.0,1,   -999.0,9,  -999.00,9,  -999.00,9,  -999.00,9,  -999.0,  4.8440,    717,-999.000